Workbook

Sheet 歷年
A1: 弱勢兒童及少年扶助概況Overview of Allowances for Disadvantaged Child and Youth
A2: 民國104-114年
A4: 年別 Year | B4: 弱勢兒童及少年生活扶助 Living Support for Disadvantaged Child and Youth | J4: 弱勢兒童及少年醫療補助 Medical Subsidies for Disadvantaged Child and Youth | R4: 托育補助/津貼(註1) Childcare Subsidies/Allowance for Low-Income Families | Z4: 弱勢兒少緊急生活扶助 Emergency Living Relief to Disadvantaged Child and Youth
B7: 期底人數(人)Persons | E7: 本年累計至期底人數(人) Accumulated to the End of the Current Persons | H7: 人次(月) Person-Times | I7: 金額(元) Amount(NT$) | J7: 期底人數(人)Persons | M7: 本年累計至期底人數(人) Accumulated to the End of the Current Persons | P7: 人次(月) Person-Times | Q7: 金額(元) Amount(NT$) | R7: 期底人數(人)Persons | U7: 本年累計至期底人數(人) Accumulated to the End of the Current Persons | X7: 人次(月) Person-Times | Y7: 金額(元) Amount(NT$) | Z7: 期底人數(人)Persons | AC7: 本年累計至期底人數(人) Accumulated to the End of the Current Persons | AF7: 人次(月) Person-Times | AG7: 金額(元) Amount(NT$)
B9: 計 Total | C9: 男 Male | D9: 女 Female | E9: 計 Total | F9: 男 Male | G9: 女 Female | J9: 計 Total | K9: 男 Male | L9: 女 Female | M9: 計 Total | N9: 男 Male | O9: 女 Female | R9: 計 Total | S9: 男 Male | T9: 女 Female | U9: 計 Total | V9: 男 Male | W9: 女 Female | Z9: 計 Total | AA9: 男 Male | AB9: 女 Female | AC9: 計 Total | AD9: 男 Male | AE9: 女 Female
A12: 104年,2015 | B12: ='2015'!D12 -> 119242 | C12: ='2015'!E12 -> 60758 | D12: ='2015'!F12 -> 58484 | E12: … | F12: … | G12: … | H12: ='2015'!G12 -> 1385684 | I12: ='2015'!H12 -> 2708602026 | J12: ='2015'!I12 -> 2183 | K12: ='2015'!J12 -> 1243 | L12: ='2015'!K12 -> 940 | M12: … | N12: … | O12: … | P12: ='2015'!L12 -> 10860 | Q12: ='2015'!M12 -> 87541886 | R12: ='2015'!N12 -> 730 | S12: ='2015'!O12 -> 384 | T12: ='2015'!P12 -> 346 | U12: … | V12: … | W12: … | X12: ='2015'!Q12 -> 7071 | Y12: ='2015'!R12 -> 20249959 | Z12: ='2015'!S12 -> 3767 | AA12: ='2015'!T12 -> 1890 | AB12: ='2015'!U12 -> 1877 | AC12: … | AD12: … | AE12: … | AF12: ='2015'!V12 -> 53070 | AG12: ='2015'!W12 -> 153128062
A13: 105年,2016 | B13: ='2016'!D12 -> 117903 | C13: ='2016'!E12 -> 60010 | D13: ='2016'!F12 -> 57893 | E13: … | F13: … | G13: … | H13: ='2016'!G12 -> 1382965 | I13: ='2016'!H12 -> 2796728434 | J13: ='2016'!I12 -> 1460 | K13: ='2016'!J12 -> 771 | L13: ='2016'!K12 -> 689 | M13: … | N13: … | O13: … | P13: ='2016'!L12 -> 7635 | Q13: ='2016'!M12 -> 61985427 | R13: ='2016'!N12 -> 885 | S13: ='2016'!O12 -> 467 | T13: ='2016'!P12 -> 418 | U13: … | V13: … | W13: … | X13: ='2016'!Q12 -> 10017 | Y13: ='2016'!R12 -> 31201911 | Z13: ='2016'!S12 -> 3599 | AA13: ='2016'!T12 -> 1890 | AB13: ='2016'!U12 -> 1709 | AC13: … | AD13: … | AE13: … | AF13: ='2016'!V12 -> 45391 | AG13: ='2016'!W12 -> 129665655
A14: 106年,2017 | B14: ='2017'!D12 -> 113640 | C14: ='2017'!E12 -> 57517 | D14: ='2017'!F12 -> 56123 | E14: ='2017'!G12 -> 129847 | F14: ='2017'!H12 -> 66081 | G14: ='2017'!I12 -> 63766 | H14: ='2017'!J12 -> 1339627 | I14: ='2017'!K12 -> 2707905683 | ... AG14: ='2017'!AI12 -> 105143187
A15: 107年,2018 | B15: ='2018'!D12 -> 109041 | C15: ='2018'!E12 -> 55290 | D15: ='2018'!F12 -> 53751 | E15: ='2018'!G12 -> 129705 | F15: ='2018'!H12 -> 65633 | G15: ='2018'!I12 -> 64072 | H15: ='2018'!J12 -> 1309150 | I15: ='2018'!K12 -> 2635270627 | ... AG15: ='2018'!AI12 -> 96693823
A16: 108年,2019 | B16: ='2019'!D12 -> 105725 | C16: ='2019'!E12 -> 53634 | D16: ='2019'!F12 -> 52091 | E16: ='2019'!G12 -> 121890 | F16: ='2019'!H12 -> 61901 | G16: ='2019'!I12 -> 59989 | H16: ='2019'!J12 -> 1239001 | I16: ='2019'!K12 -> 2498099276 | ... AG16: ='2019'!AI12 -> 82954006
A17: 109年,2020 | B17: ='2020'!D12 -> 101381 | C17: ='2020'!E12 -> 51375 | D17: ='2020'!F12 -> 50006 | E17: ='2020'!G12 -> 147405 | F17: ='2020'!H12 -> 74985 | G17: ='2020'!I12 -> 72420 | H17: ='2020'!J12 -> 1200873 | I17: ='2020'!K12 -> 2516064014 | ... AG17: ='2020'!AI12 -> 70827839
A18: 110年,2021 | B18: ='2021'!D12 -> 98142 | C18: ='2021'!E12 -> 49836 | D18: ='2021'!F12 -> 48306 | E18: ='2021'!G12 -> 115978 | F18: ='2021'!H12 -> 58227 | G18: ='2021'!I12 -> 57751 | H18: ='2021'!J12 -> 1157898 | I18: ='2021'!K12 -> 2423920410 | ... AG18: ='2021'!AI12 -> 57281519
A19: 111年,2022 | B19: ='2022'!D12 -> 94050 | C19: ='2022'!E12 -> 47589 | D19: ='2022'!F12 -> 46461 | E19: ='2022'!G12 -> 108754 | F19: ='2022'!H12 -> 55023 | G19: ='2022'!I12 -> 53731 | H19: ='2022'!J12 -> 1131488 | I19: ='2022'!K12 -> 2433135997 | ... AG19: ='2022'!AI12 -> 45609764
A20: 112年,2023 | B20: ='2023'!D12 -> 88174 | C20: ='2023'!E12 -> 44857 | D20: ='2023'!F12 -> 43317 | E20: ='2023'!G12 -> 99474 | F20: ='2023'!H12 -> 50520 | G20: ='2023'!I12 -> 48954 | H20: ='2023'!J12 -> 1058871 | I20: ='2023'!K12 -> 2206445059 | ... AG20: ='2023'!AI12 -> 41234928
A21: 113年,2024 | B21: ='2024'!D12 -> 82849 | C21: ='2024'!E12 -> 42047 | D21: ='2024'!F12 -> 40802 | E21: ='2024'!G12 -> 98456 | F21: ='2024'!H12 -> 50019 | G21: ='2024'!I12 -> 48437 | H21: ='2024'!J12 -> 1020350 | I21: ='2024'!K12 -> 2249004138 | ... AG21: ='2024'!AI12 -> 36506111
A22: 上半年 Jan.-June | B22: ='Jan.-June, 2024'!D12 -> 83043 | C22: ='Jan.-June, 2024'!E12 -> 42304 | D22: ='Jan.-June, 2024'!F12 -> 40739 | E22: ='Jan.-June, 2024'!G12 -> 89512 | F22: ='Jan.-June, 2024'!H12 -> 45575 | G22: ='Jan.-June, 2024'!I12 -> 43937 | H22: ='Jan.-June, 2024'!J12 -> 517441 | I22: ='Jan.-June, 2024'!K12 -> 1119124058 | ... AG22: ='Jan.-June, 2024'!AI12 -> 18937129
A23: 下半年 July-Dec. | B23: ='July-Dec., 2024'!D12 -> 82849 | C23: ='July-Dec., 2024'!E12 -> 42047 | D23: ='July-Dec., 2024'!F12 -> 40802 | E23: ='July-Dec., 2024'!G12 -> 98456 | F23: ='July-Dec., 2024'!H12 -> 50019 | G23: ='July-Dec., 2024'!I12 -> 48437 | H23: ='July-Dec., 2024'!J12 -> 502909 | I23: ='July-Dec., 2024'!K12 -> 1129880080 | ... AG23: ='July-Dec., 2024'!AI12 -> 17568982
A24: 114年,2025 (r) | B24: ='2025'!D12 -> 76125 | C24: ='2025'!E12 -> 38605 | D24: ='2025'!F12 -> 37520 | E24: ='2025'!G12 -> 87640 | F24: ='2025'!H12 -> 44459 | G24: ='2025'!I12 -> 43181 | H24: ='2025'!J12 -> 921461 | I24: ='2025'!K12 -> 2072115313 | ... AG24: ='2025'!AI12 -> 29040021
A25: 上半年 Jan.-June(r) | B25: ='Jan.-June, 2025'!D12 -> 76366 | C25: ='Jan.-June, 2025'!E12 -> 38710 | D25: ='Jan.-June, 2025'!F12 -> 37656 | E25: ='Jan.-June, 2025'!G12 -> 81480 | F25: ='Jan.-June, 2025'!H12 -> 41319 | G25: ='Jan.-June, 2025'!I12 -> 40161 | H25: ='Jan.-June, 2025'!J12 -> 459911 | I25: ='Jan.-June, 2025'!K12 -> 1034675467 | ... AG25: ='Jan.-June, 2025'!AI12 -> 16515205
A26: 下半年 July-Dec.(r) | B26: ='July-Dec., 2025'!D12 -> 76125 | C26: ='July-Dec., 2025'!E12 -> 38605 | D26: ='July-Dec., 2025'!F12 -> 37520 | E26: ='July-Dec., 2025'!G12 -> 87640 | F26: ='July-Dec., 2025'!H12 -> 44459 | G26: ='July-Dec., 2025'!I12 -> 43181 | H26: ='July-Dec., 2025'!J12 -> 461550 | I26: ='July-Dec., 2025'!K12 -> 1037439846 | ... AG26: ='July-Dec., 2025'!AI12 -> 12524816
A27: 資料來源：直轄市、縣(市)政府。
A28: 附註：
A29: 1.「托育補助/津貼」：
A30: (1)因應幼托整合，幼兒園統一由教育單位管轄，故自102年起本表不含就讀於「幼兒園」之托育補助。
A31: (2)由於107年準公共化托育開辦，親屬托育歸為家內照顧之一環並擴大育兒津貼補助對象，致108年申請弱勢兒少托兒補助人數減少。
A32: (3)由於109年11月修法取消弱勢兒童托育費用補助申請者就業要件限制，致110年申請托育補助人數及金額增加。
A33: (4)111年8月提高托育補助金額，致本年累計至期底人數減少但金額增加之情形發生。
A35: Source: County and Government.
A36: 更新日期：2026/05/20
B37: =IF(B26=B24,"","*") | C37: =IF(C26=C24,"","*") | D37: =IF(D26=D24,"","*") | E37: =IF(E26=E24,"","*") | F37: =IF(F26=F24,"","*") | G37: =IF(G26=G24,"","*") | H37: =IF(H24=SUM(H25,H26),"","*") | I37: =IF(I24=SUM(I25,I26),"","*") | J37: =IF(J26=J24,"","*") | K37: =IF(K26=K24,"","*") | L37: =IF(L26=L24,"","*") | M37: =IF(M26=M24,"","*") | N37: =IF(N26=N24,"","*") | O37: =IF(O26=O24,"","*") | P37: =IF(P24=SUM(P25,P26),"","*") | Q37: =IF(Q24=SUM(Q25,Q26),"","*") | R37: =IF(R26=R24,"","*") | S37: =IF(S26=S24,"","*") | T37: =IF(T26=T24,"","*") | U37: =IF(U26=U24,"","*") | V37: =IF(V26=V24,"","*") | W37: =IF(W26=W24,"","*") | X37: =IF(X24=SUM(X25,X26),"","*") | Y37: =IF(Y24=SUM(Y25,Y26),"","*") | Z37: =IF(Z26=Z24,"","*") | AA37: =IF(AA26=AA24,"","*") | AB37: =IF(AB26=AB24,"","*") | AC37: =IF(AC26=AC24,"","*") | AD37: =IF(AD26=AD24,"","*") | AE37: =IF(AE26=AE24,"","*") | AF37: =IF(AF24=SUM(AF25,AF26),"","*") | AG37: =IF(AG24=SUM(AG25,AG26),"","*")

Sheet 2025
A1: 弱勢兒童及少年扶助概況Overview of Allowances for Disadvantaged Child and Youth
D2: =IF(D13=SUM(D16,D19,D25,D28,D31,D34,D22,D37,D40,D43,D46,D49,D52,D55,D58,D61,D64,D67,D70,D73,D76,D79),"","*") | E2: =IF(E13=SUM(E16,E19,E25,E28,E31,E34,E22,E37,E40,E43,E46,E49,E52,E55,E58,E61,E64,E67,E70,E73,E76,E79),"","*") | F2: =IF(F13=SUM(F16,F19,F25,F28,F31,F34,F22,F37,F40,F43,F46,F49,F52,F55,F58,F61,F64,F67,F70,F73,F76,F79),"","*") | G2: =IF(G13=SUM(G16,G19,G25,G28,G31,G34,G22,G37,G40,G43,G46,G49,G52,G55,G58,G61,G64,G67,G70,G73,G76,G79),"","*") | H2: =IF(H13=SUM(H16,H19,H25,H28,H31,H34,H22,H37,H40,H43,H46,H49,H52,H55,H58,H61,H64,H67,H70,H73,H76,H79),"","*") | I2: =IF(I13=SUM(I16,I19,I25,I28,I31,I34,I22,I37,I40,I43,I46,I49,I52,I55,I58,I61,I64,I67,I70,I73,I76,I79),"","*") | J2: =IF(J13=SUM(J16,J19,J25,J28,J31,J34,J22,J37,J40,J43,J46,J49,J52,J55,J58,J61,J64,J67,J70,J73,J76,J79),"","*") | K2: =IF(K13=SUM(K16,K19,K25,K28,K31,K34,K22,K37,K40,K43,K46,K49,K52,K55,K58,K61,K64,K67,K70,K73,K76,K79),"","*") | ... AI2: =IF(AI13=SUM(AI16,AI19,AI25,AI28,AI31,AI34,AI22,AI37,AI40,AI43,AI46,AI49,AI52,AI55,AI58,AI61,AI64,AI67,AI70,AI73,AI76,AI79),"","*")
A3: 民國114年, 2025 | D3: =IF(D14=SUM(D17,D20,D26,D29,D32,D35,D23,D38,D41,D44,D47,D50,D53,D56,D59,D62,D65,D68,D71,D74,D77,D80),"","*") | E3: =IF(E14=SUM(E17,E20,E26,E29,E32,E35,E23,E38,E41,E44,E47,E50,E53,E56,E59,E62,E65,E68,E71,E74,E77,E80),"","*") | F3: =IF(F14=SUM(F17,F20,F26,F29,F32,F35,F23,F38,F41,F44,F47,F50,F53,F56,F59,F62,F65,F68,F71,F74,F77,F80),"","*") | G3: =IF(G14=SUM(G17,G20,G26,G29,G32,G35,G23,G38,G41,G44,G47,G50,G53,G56,G59,G62,G65,G68,G71,G74,G77,G80),"","*") | H3: =IF(H14=SUM(H17,H20,H26,H29,H32,H35,H23,H38,H41,H44,H47,H50,H53,H56,H59,H62,H65,H68,H71,H74,H77,H80),"","*") | I3: =IF(I14=SUM(I17,I20,I26,I29,I32,I35,I23,I38,I41,I44,I47,I50,I53,I56,I59,I62,I65,I68,I71,I74,I77,I80),"","*") | J3: =IF(J14=SUM(J17,J20,J26,J29,J32,J35,J23,J38,J41,J44,J47,J50,J53,J56,J59,J62,J65,J68,J71,J74,J77,J80),"","*") | K3: =IF(K14=SUM(K17,K20,K26,K29,K32,K35,K23,K38,K41,K44,K47,K50,K53,K56,K59,K62,K65,K68,K71,K74,K77,K80),"","*") | ... AI3: =IF(AI14=SUM(AI17,AI20,AI26,AI29,AI32,AI35,AI23,AI38,AI41,AI44,AI47,AI50,AI53,AI56,AI59,AI62,AI65,AI68,AI71,AI74,AI77,AI80),"","*")
A4: 區域及特殊族群別 Locality & Ethnos | D4: 弱勢兒童及少年生活扶助 Living Support for Disadvantaged Child and Youth | L4: 弱勢兒童及少年醫療補助 Medical Subsidies for Disadvantaged Child and Youth | T4: 托育補助/津貼 Childcare Subsidies/Allowance for Low-Income Families | AB4: 弱勢兒少緊急生活扶助 Emergency Living Relief to Disadvantaged Child and Youth
D7: 期底人數(人)Persons | G7: 本年累計至期底人數(人) Accumulated to the End of the Current Persons | J7: 人次(月) Person-Times | K7: 金額(元) Amount(NT$) | L7: 期底人數(人)Persons | O7: 本年累計至期底人數(人) Accumulated to the End of the Current Persons | R7: 人次(月) Person-Times | S7: 金額(元) Amount(NT$) | T7: 期底人數(人)Persons | W7: 本年累計至期底人數(人) Accumulated to the End of the Current Persons | Z7: 人次(月) Person-Times | AA7: 金額(元) Amount(NT$) | AB7: 期底人數(人)Persons | AE7: 本年累計至期底人數(人) Accumulated to the End of the Current Persons | AH7: 人次(月) Person-Times | AI7: 金額(元) Amount(NT$)
D9: 計 Total | E9: 男 Male | F9: 女 Female | G9: 計 Total | H9: 男 Male | I9: 女 Female | L9: 計 Total | M9: 男 Male | N9: 女 Female | O9: 計 Total | P9: 男 Male | Q9: 女 Female | T9: 計 Total | U9: 男 Male | V9: 女 Female | W9: 計 Total | X9: 男 Male | Y9: 女 Female | AB9: 計 Total | AC9: 男 Male | AD9: 女 Female | AE9: 計 Total | AF9: 男 Male | AG9: 女 Female
A12: 總計 | B12: 計 | C12: Total | D12: 76125 | E12: 38605 | F12: 37520 | G12: 87640 | H12: 44459 | I12: 43181 | J12: 921461 | K12: 2072115313 | L12: 8454 | M12: 5540 | N12: 2914 | O12: 15261 | P12: 9563 | Q12: 5698 | R12: 26120 | S12: 206012647 | T12: 1408 | U12: 788 | V12: 620 | W12: 2844 | X12: 1600 | Y12: 1244 | Z12: 17402 | AA12: 205573555 | AB12: 591 | AC12: 295 | AD12: 296 | AE12: 2074 | AF12: 1045 | AG12: 1029 | AH12: 10090 | AI12: 29040021
A13: Total | B13: 一般 | C13: General | D13: 67871 | E13: 34443 | F13: 33428 | G13: 77960 | H13: 39559 | I13: 38401 | J13: 824752 | K13: 1849903558 | L13: 8413 | M13: 5517 | N13: 2896 | O13: 15141 | P13: 9483 | Q13: 5658 | R13: 25926 | S13: 203589048 | T13: 1374 | U13: 773 | V13: 601 | W13: 2695 | X13: 1536 | Y13: 1159 | Z13: 16576 | AA13: 197022603 | AB13: 513 | AC13: 257 | AD13: 256 | AE13: 1845 | AF13: 934 | AG13: 911 | AH13: 8771 | AI13: 25224782
B14: 原住民 | C14: Indigenous | D14: 8254 | E14: 4162 | F14: 4092 | G14: 9680 | H14: 4900 | I14: 4780 | J14: 96709 | K14: 222211755 | L14: 41 | M14: 23 | N14: 18 | O14: 120 | P14: 80 | Q14: 40 | R14: 194 | S14: 2423599 | T14: 34 | U14: 15 | V14: 19 | W14: 149 | X14: 64 | Y14: 85 | Z14: 826 | AA14: 8550952 | AB14: 78 | AC14: 38 | AD14: 40 | AE14: 229 | AF14: 111 | AG14: 118 | AH14: 1319 | AI14: 3815239
A15: 新北市 | B15: 計 | C15: Total | D15: 20668 | E15: 10541 | F15: 10127 | G15: 22070 | H15: 11255 | I15: 10815 | J15: 253180 | K15: 560986987 | L15: 5279 | M15: 3302 | N15: 1977 | O15: 6878 | P15: 4335 | Q15: 2543 | R15: 9979 | S15: 42999975 | T15: 177 | U15: 100 | V15: 77 | W15: 278 | X15: 165 | Y15: 113 | Z15: 1881 | AA15: 20615183 | AB15: 72 | AC15: 35 | AD15: 37 | AE15: 175 | AF15: 90 | AG15: 85 | AH15: 1130 | AI15: 3356813
A16: New Taipei City | B16: 一般 | C16: General | D16: 19635 | E16: 10014 | F16: 9621 | G16: 20966 | H16: 10692 | I16: 10274 | J16: 240521 | K16: 532937638 | L16: 5279 | M16: 3302 | N16: 1977 | O16: 6878 | P16: 4335 | Q16: 2543 | R16: 9979 | S16: 42999975 | T16: 177 | U16: 100 | V16: 77 | W16: 278 | X16: 165 | Y16: 113 | Z16: 1881 | AA16: 20615183 | AB16: 72 | AC16: 35 | AD16: 37 | AE16: 175 | AF16: 90 | AG16: 85 | AH16: 1130 | AI16: 3356813
B17: 原住民 | C17: Indigenous | D17: 1033 | E17: 527 | F17: 506 | G17: 1104 | H17: 563 | I17: 541 | J17: 12659 | K17: 28049349 | L17: 0 | M17: 0 | N17: 0 | O17: 0 | P17: 0 | Q17: 0 | R17: 0 | S17: 0 | T17: 0 | U17: 0 | V17: 0 | W17: 0 | X17: 0 | Y17: 0 | Z17: 0 | AA17: 0 | AB17: 0 | AC17: 0 | AD17: 0 | AE17: 0 | AF17: 0 | AG17: 0 | AH17: 0 | AI17: 0
A18: 臺北市 | B18: 計 | C18: Total | D18: 0 | E18: 0 | F18: 0 | G18: 0 | H18: 0 | I18: 0 | J18: 0 | K18: 0 | L18: 22 | M18: 17 | N18: 5 | O18: 376 | P18: 260 | Q18: 116 | R18: 774 | S18: 16965131 | T18: 149 | U18: 90 | V18: 59 | W18: 253 | X18: 148 | Y18: 105 | Z18: 1962 | AA18: 23383100 | AB18: 26 | AC18: 11 | AD18: 15 | AE18: 425 | AF18: 221 | AG18: 204 | AH18: 2211 | AI18: 6627423
A19: Taipei City | B19: 一般 | C19: General | D19: 0 | E19: 0 | F19: 0 | G19: 0 | H19: 0 | I19: 0 | J19: 0 | K19: 0 | L19: 22 | M19: 17 | N19: 5 | O19: 371 | P19: 257 | Q19: 114 | R19: 765 | S19: 16774416 | T19: 149 | U19: 90 | V19: 59 | W19: 253 | X19: 148 | Y19: 105 | Z19: 1962 | AA19: 23383100 | AB19: 23 | AC19: 11 | AD19: 12 | AE19: 414 | AF19: 215 | AG19: 199 | AH19: 2155 | AI19: 6459423
B20: 原住民 | C20: Indigenous | D20: 0 | E20: 0 | F20: 0 | G20: 0 | H20: 0 | I20: 0 | J20: 0 | K20: 0 | L20: 0 | M20: 0 | N20: 0 | O20: 5 | P20: 3 | Q20: 2 | R20: 9 | S20: 190715 | T20: 0 | U20: 0 | V20: 0 | W20: 0 | X20: 0 | Y20: 0 | Z20: 0 | AA20: 0 | AB20: 3 | AC20: 0 | AD20: 3 | AE20: 11 | AF20: 6 | AG20: 5 | AH20: 56 | AI20: 168000
A21: 桃園市 | B21: 計 | C21: Total | D21: 5137 | E21: 2611 | F21: 2526 | G21: 6126 | H21: 3104 | I21: 3022 | J21: 61420 | K21: 141664785 | L21: 330 | M21: 171 | N21: 159 | O21: 3360 | P21: 1816 | Q21: 1544 | R21: 3360 | S21: 15963278 | T21: 36 | U21: 21 | V21: 15 | W21: 317 | X21: 203 | Y21: 114 | Z21: 1849 | AA21: 24588873 | AB21: 12 | AC21: 6 | AD21: 6 | AE21: 57 | AF21: 28 | AG21: 29 | AH21: 234 | AI21: 702000
A22: Taoyuan City | B22: 一般 | C22: General | D22: 4493 | E22: 2310 | F22: 2183 | G22: 5322 | H22: 2735 | I22: 2587 | J22: 54482 | K22: 125617191 | L22: 330 | M22: 171 | N22: 159 | O22: 3360 | P22: 1816 | Q22: 1544 | R22: 3360 | S22: 15963278 | T22: 36 | U22: 21 | V22: 15 | W22: 317 | X22: 203 | Y22: 114 | Z22: 1849 | AA22: 24588873 | AB22: 11 | AC22: 5 | AD22: 6 | AE22: 48 | AF22: 25 | AG22: 23 | AH22: 191 | AI22: 573000
B23: 原住民 | C23: Indigenous | D23: 644 | E23: 301 | F23: 343 | G23: 804 | H23: 369 | I23: 435 | J23: 6938 | K23: 16047594 | L23: 0 | M23: 0 | N23: 0 | O23: 0 | P23: 0 | Q23: 0 | R23: 0 | S23: 0 | T23: 0 | U23: 0 | V23: 0 | W23: 0 | X23: 0 | Y23: 0 | Z23: 0 | AA23: 0 | AB23: 1 | AC23: 1 | AD23: 0 | AE23: 9 | AF23: 3 | AG23: 6 | AH23: 43 | AI23: 129000
A24: 臺中市 | B24: 計 | C24: Total | D24: 10463 | E24: 5261 | F24: 5202 | G24: 12623 | H24: 6392 | I24: 6231 | J24: 130243 | K24: 285855278 | L24: 2679 | M24: 1973 | N24: 706 | O24: 3467 | P24: 2494 | Q24: 973 | R24: 10317 | S24: 101805678 | T24: 435 | U24: 243 | V24: 192 | W24: 824 | X24: 449 | Y24: 375 | Z24: 4727 | AA24: 52751258 | AB24: 16 | AC24: 7 | AD24: 9 | AE24: 49 | AF24: 23 | AG24: 26 | AH24: 245 | AI24: 677833
A25: Taichung City | B25: 一般 | C25: General | D25: 9650 | E25: 4847 | F25: 4803 | G25: 11624 | H25: 5874 | I25: 5750 | J25: 120070 | K25: 263505197 | L25: 2648 | M25: 1955 | N25: 693 | O25: 3407 | P25: 2453 | Q25: 954 | R25: 10197 | S25: 100722628 | T25: 435 | U25: 243 | V25: 192 | W25: 824 | X25: 449 | Y25: 375 | Z25: 4727 | AA25: 52751258 | AB25: 12 | AC25: 5 | AD25: 7 | AE25: 41 | AF25: 21 | AG25: 20 | AH25: 212 | AI25: 578833
B26: 原住民 | C26: Indigenous | D26: 813 | E26: 414 | F26: 399 | G26: 999 | H26: 518 | I26: 481 | J26: 10173 | K26: 22350081 | L26: 31 | M26: 18 | N26: 13 | O26: 60 | P26: 41 | Q26: 19 | R26: 120 | S26: 1083050 | T26: 0 | U26: 0 | V26: 0 | W26: 0 | X26: 0 | Y26: 0 | Z26: 0 | AA26: 0 | AB26: 4 | AC26: 2 | AD26: 2 | AE26: 8 | AF26: 2 | AG26: 6 | AH26: 33 | AI26: 99000
A27: 臺南市 | B27: 計 | C27: Total | D27: 5856 | E27: 2986 | F27: 2870 | G27: 6994 | H27: 3566 | I27: 3428 | J27: 70669 | K27: 157771646 | L27: 7 | M27: 2 | N27: 5 | O27: 91 | P27: 47 | Q27: 44 | R27: 92 | S27: 2386735 | T27: 105 | U27: 75 | V27: 30 | W27: 187 | X27: 128 | Y27: 59 | Z27: 943 | AA27: 12160190 | AB27: 74 | AC27: 44 | AD27: 30 | AE27: 187 | AF27: 100 | AG27: 87 | AH27: 936 | AI27: 2808000
A28: Tainan City | B28: 一般 | C28: General | D28: 5684 | E28: 2903 | F28: 2781 | G28: 6788 | H28: 3466 | I28: 3322 | J28: 68687 | K28: 153350184 | L28: 7 | M28: 2 | N28: 5 | O28: 90 | P28: 46 | Q28: 44 | R28: 91 | S28: 2314990 | T28: 105 | U28: 75 | V28: 30 | W28: 187 | X28: 128 | Y28: 59 | Z28: 943 | AA28: 12160190 | AB28: 73 | AC28: 44 | AD28: 29 | AE28: 182 | AF28: 98 | AG28: 84 | AH28: 913 | AI28: 2739000
B29: 原住民 | C29: Indigenous | D29: 172 | E29: 83 | F29: 89 | G29: 206 | H29: 100 | I29: 106 | J29: 1982 | K29: 4421462 | L29: 0 | M29: 0 | N29: 0 | O29: 1 | P29: 1 | Q29: 0 | R29: 1 | S29: 71745 | T29: 0 | U29: 0 | V29: 0 | W29: 0 | X29: 0 | Y29: 0 | Z29: 0 | AA29: 0 | AB29: 1 | AC29: 0 | AD29: 1 | AE29: 5 | AF29: 2 | AG29: 3 | AH29: 23 | AI29: 69000
A30: 高 雄 市 | B30: 計 | C30: Total | D30: 7923 | E30: 4021 | F30: 3902 | G30: 9367 | H30: 4737 | I30: 4630 | J30: 98496 | K30: 239415628 | L30: 30 | M30: 19 | N30: 11 | O30: 137 | P30: 81 | Q30: 56 | R30: 153 | S30: 2315745 | T30: 144 | U30: 71 | V30: 73 | W30: 223 | X30: 114 | Y30: 109 | Z30: 1605 | AA30: 16692191 | AB30: 148 | AC30: 64 | AD30: 84 | AE30: 377 | AF30: 170 | AG30: 207 | AH30: 2057 | AI30: 5935551
A31: Kaohsiung City | B31: 一般 | C31: General | D31: 7479 | E31: 3784 | F31: 3695 | G31: 8828 | H31: 4453 | I31: 4375 | J31: 92951 | K31: 226069189 | L31: 30 | M31: 19 | N31: 11 | O31: 137 | P31: 81 | Q31: 56 | R31: 153 | S31: 2315745 | T31: 136 | U31: 67 | V31: 69 | W31: 208 | X31: 109 | Y31: 99 | Z31: 1493 | AA31: 15712416 | AB31: 134 | AC31: 58 | AD31: 76 | AE31: 343 | AF31: 155 | AG31: 188 | AH31: 1839 | AI31: 5330124
B32: 原住民 | C32: Indigenous | D32: 444 | E32: 237 | F32: 207 | G32: 539 | H32: 284 | I32: 255 | J32: 5545 | K32: 13346439 | L32: 0 | M32: 0 | N32: 0 | O32: 0 | P32: 0 | Q32: 0 | R32: 0 | S32: 0 | T32: 8 | U32: 4 | V32: 4 | W32: 15 | X32: 5 | Y32: 10 | Z32: 112 | AA32: 979775 | AB32: 14 | AC32: 6 | AD32: 8 | AE32: 34 | AF32: 15 | AG32: 19 | AH32: 218 | AI32: 605427
A33: 宜蘭縣 | B33: 計 | C33: Total | D33: 1455 | E33: 713 | F33: 742 | G33: 1556 | H33: 781 | I33: 775 | J33: 16126 | K33: 35428597 | L33: 5 | M33: 3 | N33: 2 | O33: 11 | P33: 7 | Q33: 4 | R33: 11 | S33: 488336 | T33: 17 | U33: 3 | V33: 14 | W33: 17 | X33: 3 | Y33: 14 | Z33: 169 | AA33: 1687800 | AB33: 5 | AC33: 3 | AD33: 2 | AE33: 5 | AF33: 3 | AG33: 2 | AH33: 12 | AI33: 36000
A34: Yilan County | B34: 一般 | C34: General | D34: 1145 | E34: 556 | F34: 589 | G34: 1237 | H34: 616 | I34: 621 | J34: 12793 | K34: 28105996 | L34: 5 | M34: 3 | N34: 2 | O34: 11 | P34: 7 | Q34: 4 | R34: 11 | S34: 488336 | T34: 14 | U34: 2 | V34: 12 | W34: 14 | X34: 2 | Y34: 12 | Z34: 133 | AA34: 1374800 | AB34: 5 | AC34: 3 | AD34: 2 | AE34: 5 | AF34: 3 | AG34: 2 | AH34: 12 | AI34: 36000
B35: 原住民 | C35: Indigenous | D35: 310 | E35: 157 | F35: 153 | G35: 319 | H35: 165 | I35: 154 | J35: 3333 | K35: 7322601 | L35: 0 | M35: 0 | N35: 0 | O35: 0 | P35: 0 | Q35: 0 | R35: 0 | S35: 0 | T35: 3 | U35: 1 | V35: 2 | W35: 3 | X35: 1 | Y35: 2 | Z35: 36 | AA35: 313000 | AB35: 0 | AC35: 0 | AD35: 0 | AE35: 0 | AF35: 0 | AG35: 0 | AH35: 0 | AI35: 0
A36: 新竹縣 | B36: 計 | C36: Total | D36: 1364 | E36: 699 | F36: 665 | G36: 1408 | H36: 730 | I36: 678 | J36: 14919 | K36: 32662799 | L36: 11 | M36: 9 | N36: 2 | O36: 22 | P36: 18 | Q36: 4 | R36: 31 | S36: 747507 | T36: 37 | U36: 22 | V36: 15 | W36: 168 | X36: 75 | Y36: 93 | Z36: 728 | AA36: 8708500 | AB36: 71 | AC36: 39 | AD36: 32 | AE36: 161 | AF36: 80 | AG36: 81 | AH36: 938 | AI36: 2719160
A37: Hsinchu County | B37: 一般 | C37: General | D37: 974 | E37: 504 | F37: 470 | G37: 997 | H37: 527 | I37: 470 | J37: 10742 | K37: 23503506 | L37: 7 | M37: 6 | N37: 1 | O37: 14 | P37: 11 | Q37: 3 | R37: 20 | S37: 513098 | T37: 34 | U37: 21 | V37: 13 | W37: 75 | X37: 35 | Y37: 40 | Z37: 257 | AA37: 3566000 | AB37: 47 | AC37: 24 | AD37: 23 | AE37: 97 | AF37: 43 | AG37: 54 | AH37: 531 | AI37: 1567058
B38: 原住民 | C38: Indigenous | D38: 390 | E38: 195 | F38: 195 | G38: 411 | H38: 203 | I38: 208 | J38: 4177 | K38: 9159293 | L38: 4 | M38: 3 | N38: 1 | O38: 8 | P38: 7 | Q38: 1 | R38: 11 | S38: 234409 | T38: 3 | U38: 1 | V38: 2 | W38: 93 | X38: 40 | Y38: 53 | Z38: 471 | AA38: 5142500 | AB38: 24 | AC38: 15 | AD38: 9 | AE38: 64 | AF38: 37 | AG38: 27 | AH38: 407 | AI38: 1152102
A39: 苗栗縣 | B39: 計 | C39: Total | D39: 1243 | E39: 618 | F39: 625 | G39: 1451 | H39: 715 | I39: 736 | J39: 14590 | K39: 32054230 | L39: 30 | M39: 14 | N39: 16 | O39: 66 | P39: 38 | Q39: 28 | R39: 513 | S39: 1338647 | T39: 16 | U39: 10 | V39: 6 | W39: 22 | X39: 16 | Y39: 6 | Z39: 164 | AA39: 2266250 | AB39: 48 | AC39: 27 | AD39: 21 | AE39: 57 | AF39: 29 | AG39: 28 | AH39: 407 | AI39: 578400
A40: Miaoli County | B40: 一般 | C40: General | D40: 1035 | E40: 504 | F40: 531 | G40: 1213 | H40: 581 | I40: 632 | J40: 12235 | K40: 26880295 | L40: 30 | M40: 14 | N40: 16 | O40: 66 | P40: 38 | Q40: 28 | R40: 513 | S40: 1338647 | T40: 16 | U40: 10 | V40: 6 | W40: 22 | X40: 16 | Y40: 6 | Z40: 164 | AA40: 2266250 | AB40: 48 | AC40: 27 | AD40: 21 | AE40: 54 | AF40: 29 | AG40: 25 | AH40: 404 | AI40: 569400
B41: 原住民 | C41: Indigenous | D41: 208 | E41: 114 | F41: 94 | G41: 238 | H41: 134 | I41: 104 | J41: 2355 | K41: 5173935 | L41: 0 | M41: 0 | N41: 0 | O41: 0 | P41: 0 | Q41: 0 | R41: 0 | S41: 0 | T41: 0 | U41: 0 | V41: 0 | W41: 0 | X41: 0 | Y41: 0 | Z41: 0 | AA41: 0 | AB41: 0 | AC41: 0 | AD41: 0 | AE41: 3 | AF41: 0 | AG41: 3 | AH41: 3 | AI41: 9000
A42: 彰化縣 | B42: 計 | C42: Total | D42: 5329 | E42: 2713 | F42: 2616 | G42: 6257 | H42: 3168 | I42: 3089 | J42: 64709 | K42: 141956411 | L42: 21 | M42: 11 | N42: 10 | O42: 162 | P42: 92 | Q42: 70 | R42: 162 | S42: 4381051 | T42: 125 | U42: 67 | V42: 58 | W42: 200 | X42: 111 | Y42: 89 | Z42: 1421 | AA42: 18325372 | AB42: 26 | AC42: 14 | AD42: 12 | AE42: 105 | AF42: 56 | AG42: 49 | AH42: 509 | AI42: 1444606
A43: Changhua County | B43: 一般 | C43: General | D43: 5140 | E43: 2636 | F43: 2504 | G43: 6043 | H43: 3076 | I43: 2967 | J43: 62485 | K43: 137070283 | L43: 21 | M43: 11 | N43: 10 | O43: 162 | P43: 92 | Q43: 70 | R43: 162 | S43: 4381051 | T43: 125 | U43: 67 | V43: 58 | W43: 200 | X43: 111 | Y43: 89 | Z43: 1421 | AA43: 18325372 | AB43: 26 | AC43: 14 | AD43: 12 | AE43: 103 | AF43: 54 | AG43: 49 | AH43: 500 | AI43: 1417606
B44: 原住民 | C44: Indigenous | D44: 189 | E44: 77 | F44: 112 | G44: 214 | H44: 92 | I44: 122 | J44: 2224 | K44: 4886128 | L44: 0 | M44: 0 | N44: 0 | O44: 0 | P44: 0 | Q44: 0 | R44: 0 | S44: 0 | T44: 0 | U44: 0 | V44: 0 | W44: 0 | X44: 0 | Y44: 0 | Z44: 0 | AA44: 0 | AB44: 0 | AC44: 0 | AD44: 0 | AE44: 2 | AF44: 2 | AG44: 0 | AH44: 9 | AI44: 27000
A45: 南投縣 | B45: 計 | C45: Total | D45: 1273 | E45: 654 | F45: 619 | G45: 1435 | H45: 749 | I45: 686 | J45: 14916 | K45: 32704542 | L45: 5 | M45: 3 | N45: 2 | O45: 43 | P45: 21 | Q45: 22 | R45: 51 | S45: 1832782 | T45: 2 | U45: 0 | V45: 2 | W45: 2 | X45: 0 | Y45: 2 | Z45: 31 | AA45: 403400 | AB45: 1 | AC45: 0 | AD45: 1 | AE45: 15 | AF45: 10 | AG45: 5 | AH45: 63 | AI45: 189000
A46: Nantou County | B46: 一般 | C46: General | D46: 1018 | E46: 522 | F46: 496 | G46: 1148 | H46: 597 | I46: 551 | J46: 11933 | K46: 26150891 | L46: 5 | M46: 3 | N46: 2 | O46: 42 | P46: 20 | Q46: 22 | R46: 46 | S46: 1746817 | T46: 2 | U46: 0 | V46: 2 | W46: 2 | X46: 0 | Y46: 2 | Z46: 31 | AA46: 403400 | AB46: 1 | AC46: 0 | AD46: 1 | AE46: 15 | AF46: 10 | AG46: 5 | AH46: 63 | AI46: 189000
B47: 原住民 | C47: Indigenous | D47: 255 | E47: 132 | F47: 123 | G47: 287 | H47: 152 | I47: 135 | J47: 2983 | K47: 6553651 | L47: 0 | M47: 0 | N47: 0 | O47: 1 | P47: 1 | Q47: 0 | R47: 5 | S47: 85965 | T47: 0 | U47: 0 | V47: 0 | W47: 0 | X47: 0 | Y47: 0 | Z47: 0 | AA47: 0 | AB47: 0 | AC47: 0 | AD47: 0 | AE47: 0 | AF47: 0 | AG47: 0 | AH47: 0 | AI47: 0
A48: 雲林縣 | B48: 計 | C48: Total | D48: 2107 | E48: 1048 | F48: 1059 | G48: 2534 | H48: 1266 | I48: 1268 | J48: 25282 | K48: 55544554 | L48: 9 | M48: 6 | N48: 3 | O48: 424 | P48: 243 | Q48: 181 | R48: 424 | S48: 6829794 | T48: 35 | U48: 19 | V48: 16 | W48: 84 | X48: 44 | Y48: 40 | Z48: 352 | AA48: 4427894 | AB48: 21 | AC48: 8 | AD48: 13 | AE48: 243 | AF48: 119 | AG48: 124 | AH48: 239 | AI48: 717000
A49: Yunlin County | B49: 一般 | C49: General | D49: 2062 | E49: 1028 | F49: 1034 | G49: 2482 | H49: 1241 | I49: 1241 | J49: 25199 | K49: 55362203 | L49: 9 | M49: 6 | N49: 3 | O49: 424 | P49: 243 | Q49: 181 | R49: 424 | S49: 6829794 | T49: 35 | U49: 19 | V49: 16 | W49: 84 | X49: 44 | Y49: 40 | Z49: 352 | AA49: 4427894 | AB49: 21 | AC49: 8 | AD49: 13 | AE49: 243 | AF49: 119 | AG49: 124 | AH49: 239 | AI49: 717000
B50: 原住民 | C50: Indigenous | D50: 45 | E50: 20 | F50: 25 | G50: 52 | H50: 25 | I50: 27 | J50: 83 | K50: 182351 | L50: 0 | M50: 0 | N50: 0 | O50: 0 | P50: 0 | Q50: 0 | R50: 0 | S50: 0 | T50: 0 | U50: 0 | V50: 0 | W50: 0 | X50: 0 | Y50: 0 | Z50: 0 | AA50: 0 | AB50: 0 | AC50: 0 | AD50: 0 | AE50: 0 | AF50: 0 | AG50: 0 | AH50: 0 | AI50: 0
A51: 嘉義縣 | B51: 計 | C51: Total | D51: 2575 | E51: 1299 | F51: 1276 | G51: 3012 | H51: 1521 | I51: 1491 | J51: 31316 | K51: 68801249 | L51: 2 | M51: 0 | N51: 2 | O51: 24 | P51: 10 | Q51: 14 | R51: 24 | S51: 566089 | T51: 18 | U51: 10 | V51: 8 | W51: 29 | X51: 16 | Y51: 13 | Z51: 120 | AA51: 1713000 | AB51: 24 | AC51: 13 | AD51: 11 | AE51: 60 | AF51: 30 | AG51: 30 | AH51: 271 | AI51: 813000
A52: Chiayi County | B52: 一般 | C52: General | D52: 2471 | E52: 1249 | F52: 1222 | G52: 2892 | H52: 1464 | I52: 1428 | J52: 30118 | K52: 66169243 | L52: 2 | M52: 0 | N52: 2 | O52: 24 | P52: 10 | Q52: 14 | R52: 24 | S52: 566089 | T52: 18 | U52: 10 | V52: 8 | W52: 29 | X52: 16 | Y52: 13 | Z52: 120 | AA52: 1713000 | AB52: 22 | AC52: 13 | AD52: 9 | AE52: 57 | AF52: 30 | AG52: 27 | AH52: 259 | AI52: 777000
B53: 原住民 | C53: Indigenous | D53: 104 | E53: 50 | F53: 54 | G53: 120 | H53: 57 | I53: 63 | J53: 1198 | K53: 2632006 | L53: 0 | M53: 0 | N53: 0 | O53: 0 | P53: 0 | Q53: 0 | R53: 0 | S53: 0 | T53: 0 | U53: 0 | V53: 0 | W53: 0 | X53: 0 | Y53: 0 | Z53: 0 | AA53: 0 | AB53: 2 | AC53: 0 | AD53: 2 | AE53: 3 | AF53: 0 | AG53: 3 | AH53: 12 | AI53: 36000
A54: 屏東縣 | B54: 計 | C54: Total | D54: 3086 | E54: 1555 | F54: 1531 | G54: 3665 | H54: 1832 | I54: 1833 | J54: 36851 | K54: 80789217 | L54: 3 | M54: 2 | N54: 1 | O54: 9 | P54: 7 | Q54: 2 | R54: 10 | S54: 777539 | T54: 46 | U54: 22 | V54: 24 | W54: 92 | X54: 47 | Y54: 45 | Z54: 549 | AA54: 6740238 | AB54: 0 | AC54: 0 | AD54: 0 | AE54: 2 | AF54: 2 | AG54: 0 | AH54: 6 | AI54: 18000
A55: Pingtung County | B55: 一般 | C55: General | D55: 2467 | E55: 1223 | F55: 1244 | G55: 2939 | H55: 1450 | I55: 1489 | J55: 29451 | K55: 64646319 | L55: 3 | M55: 2 | N55: 1 | O55: 9 | P55: 7 | Q55: 2 | R55: 10 | S55: 777539 | T55: 38 | U55: 19 | V55: 19 | W55: 83 | X55: 44 | Y55: 39 | Z55: 501 | AA55: 6120350 | AB55: 0 | AC55: 0 | AD55: 0 | AE55: 2 | AF55: 2 | AG55: 0 | AH55: 6 | AI55: 18000
B56: 原住民 | C56: Indigenous | D56: 619 | E56: 332 | F56: 287 | G56: 726 | H56: 382 | I56: 344 | J56: 7400 | K56: 16142898 | L56: 0 | M56: 0 | N56: 0 | O56: 0 | P56: 0 | Q56: 0 | R56: 0 | S56: 0 | T56: 8 | U56: 3 | V56: 5 | W56: 9 | X56: 3 | Y56: 6 | Z56: 48 | AA56: 619888 | AB56: 0 | AC56: 0 | AD56: 0 | AE56: 0 | AF56: 0 | AG56: 0 | AH56: 0 | AI56: 0
A57: 臺東縣 | B57: 計 | C57: Total | D57: 1745 | E57: 900 | F57: 845 | G57: 2102 | H57: 1090 | I57: 1012 | J57: 20957 | K57: 50899925 | L57: 4 | M57: 2 | N57: 2 | O57: 27 | P57: 19 | Q57: 8 | R57: 28 | S57: 915120 | T57: 22 | U57: 9 | V57: 13 | W57: 34 | X57: 17 | Y57: 17 | Z57: 236 | AA57: 2504676 | AB57: 34 | AC57: 18 | AD57: 16 | AE57: 88 | AF57: 45 | AG57: 43 | AH57: 489 | AI57: 1420849
A58: Taitung County | B58: 一般 | C58: General | D58: 529 | E58: 271 | F58: 258 | G58: 640 | H58: 329 | I58: 311 | J58: 6464 | K58: 15701056 | L58: 2 | M58: 0 | N58: 2 | O58: 9 | P58: 6 | Q58: 3 | R58: 9 | S58: 389122 | T58: 10 | U58: 3 | V58: 7 | W58: 12 | X58: 5 | Y58: 7 | Z58: 87 | AA58: 1116932 | AB58: 9 | AC58: 5 | AD58: 4 | AE58: 17 | AF58: 8 | AG58: 9 | AH58: 69 | AI58: 165707
B59: 原住民 | C59: Indigenous | D59: 1216 | E59: 629 | F59: 587 | G59: 1462 | H59: 761 | I59: 701 | J59: 14493 | K59: 35198869 | L59: 2 | M59: 2 | N59: 0 | O59: 18 | P59: 13 | Q59: 5 | R59: 19 | S59: 525998 | T59: 12 | U59: 6 | V59: 6 | W59: 22 | X59: 12 | Y59: 10 | Z59: 149 | AA59: 1387744 | AB59: 25 | AC59: 13 | AD59: 12 | AE59: 71 | AF59: 37 | AG59: 34 | AH59: 420 | AI59: 1255142
A60: 花蓮縣 | B60: 計 | C60: Total | D60: 2437 | E60: 1241 | F60: 1196 | G60: 2868 | H60: 1468 | I60: 1400 | J60: 28654 | K60: 69590850 | L60: 5 | M60: 0 | N60: 5 | O60: 55 | P60: 31 | Q60: 24 | R60: 68 | S60: 681425 | T60: 0 | U60: 0 | V60: 0 | W60: 16 | X60: 8 | Y60: 8 | Z60: 28 | AA60: 307554 | AB60: 8 | AC60: 4 | AD60: 4 | AE60: 38 | AF60: 22 | AG60: 16 | AH60: 179 | AI60: 517568
A61: Hualien County | B61: 一般 | C61: General | D61: 881 | E61: 458 | F61: 423 | G61: 1034 | H61: 536 | I61: 498 | J61: 10397 | K61: 25244597 | L61: 1 | M61: 0 | N61: 1 | O61: 29 | P61: 18 | Q61: 11 | R61: 40 | S61: 454608 | T61: 0 | U61: 0 | V61: 0 | W61: 9 | X61: 5 | Y61: 4 | Z61: 18 | AA61: 199509 | AB61: 4 | AC61: 3 | AD61: 1 | AE61: 22 | AF61: 17 | AG61: 5 | AH61: 94 | AI61: 282000
B62: 原住民 | C62: Indigenous | D62: 1556 | E62: 783 | F62: 773 | G62: 1834 | H62: 932 | I62: 902 | J62: 18257 | K62: 44346253 | L62: 4 | M62: 0 | N62: 4 | O62: 26 | P62: 13 | Q62: 13 | R62: 28 | S62: 226817 | T62: 0 | U62: 0 | V62: 0 | W62: 7 | X62: 3 | Y62: 4 | Z62: 10 | AA62: 108045 | AB62: 4 | AC62: 1 | AD62: 3 | AE62: 16 | AF62: 5 | AG62: 11 | AH62: 85 | AI62: 235568
A63: 澎湖縣 | B63: 計 | C63: Total | D63: 204 | E63: 100 | F63: 104 | G63: 204 | H63: 100 | I63: 104 | J63: 1407 | K63: 3091179 | L63: 1 | M63: 0 | N63: 1 | O63: 12 | P63: 1 | Q63: 11 | R63: 12 | S63: 618694 | T63: 0 | U63: 0 | V63: 0 | W63: 5 | X63: 2 | Y63: 3 | Z63: 20 | AA63: 199650 | AB63: 0 | AC63: 0 | AD63: 0 | AE63: 0 | AF63: 0 | AG63: 0 | AH63: 0 | AI63: 0
A64: Penghu County | B64: 一般 | C64: General | D64: 204 | E64: 100 | F64: 104 | G64: 204 | H64: 100 | I64: 104 | J64: 1407 | K64: 3091179 | L64: 1 | M64: 0 | N64: 1 | O64: 12 | P64: 1 | Q64: 11 | R64: 12 | S64: 618694 | T64: 0 | U64: 0 | V64: 0 | W64: 5 | X64: 2 | Y64: 3 | Z64: 20 | AA64: 199650 | AB64: 0 | AC64: 0 | AD64: 0 | AE64: 0 | AF64: 0 | AG64: 0 | AH64: 0 | AI64: 0
B65: 原住民 | C65: Indigenous | D65: 0 | E65: 0 | F65: 0 | G65: 0 | H65: 0 | I65: 0 | J65: 0 | K65: 0 | L65: 0 | M65: 0 | N65: 0 | O65: 0 | P65: 0 | Q65: 0 | R65: 0 | S65: 0 | T65: 0 | U65: 0 | V65: 0 | W65: 0 | X65: 0 | Y65: 0 | Z65: 0 | AA65: 0 | AB65: 0 | AC65: 0 | AD65: 0 | AE65: 0 | AF65: 0 | AG65: 0 | AH65: 0 | AI65: 0
A66: 基隆市 | B66: 計 | C66: Total | D66: 1255 | E66: 633 | F66: 622 | G66: 1730 | H66: 861 | I66: 869 | J66: 14810 | K66: 32537570 | L66: 0 | M66: 0 | N66: 0 | O66: 9 | P66: 2 | Q66: 7 | R66: 9 | S66: 247582 | T66: 2 | U66: 0 | V66: 2 | W66: 16 | X66: 8 | Y66: 8 | Z66: 130 | AA66: 1722460 | AB66: 0 | AC66: 0 | AD66: 0 | AE66: 3 | AF66: 2 | AG66: 1 | AH66: 19 | AI66: 43818
A67: Keelung City | B67: 一般 | C67: General | D67: 1096 | E67: 559 | F67: 537 | G67: 1479 | H67: 743 | I67: 736 | J67: 12927 | K67: 28400619 | L67: 0 | M67: 0 | N67: 0 | O67: 9 | P67: 2 | Q67: 7 | R67: 9 | S67: 247582 | T67: 2 | U67: 0 | V67: 2 | W67: 16 | X67: 8 | Y67: 8 | Z67: 130 | AA67: 1722460 | AB67: 0 | AC67: 0 | AD67: 0 | AE67: 3 | AF67: 2 | AG67: 1 | AH67: 19 | AI67: 43818
B68: 原住民 | C68: Indigenous | D68: 159 | E68: 74 | F68: 85 | G68: 251 | H68: 118 | I68: 133 | J68: 1883 | K68: 4136951 | L68: 0 | M68: 0 | N68: 0 | O68: 0 | P68: 0 | Q68: 0 | R68: 0 | S68: 0 | T68: 0 | U68: 0 | V68: 0 | W68: 0 | X68: 0 | Y68: 0 | Z68: 0 | AA68: 0 | AB68: 0 | AC68: 0 | AD68: 0 | AE68: 0 | AF68: 0 | AG68: 0 | AH68: 0 | AI68: 0
A69: 新竹市 | B69: 計 | C69: Total | D69: 643 | E69: 312 | F69: 331 | G69: 779 | H69: 387 | I69: 392 | J69: 7988 | K69: 17549636 | L69: 0 | M69: 0 | N69: 0 | O69: 15 | P69: 8 | Q69: 7 | R69: 14 | S69: 396798 | T69: 23 | U69: 12 | V69: 11 | W69: 45 | X69: 26 | Y69: 19 | Z69: 262 | AA69: 3729500 | AB69: 2 | AC69: 1 | AD69: 1 | AE69: 10 | AF69: 6 | AG69: 4 | AH69: 30 | AI69: 90000
A70: Hsinchu City | B70: 一般 | C70: General | D70: 585 | E70: 287 | F70: 298 | G70: 705 | H70: 354 | I70: 351 | J70: 7297 | K70: 16031509 | L70: 0 | M70: 0 | N70: 0 | O70: 14 | P70: 7 | Q70: 7 | R70: 13 | S70: 391898 | T70: 23 | U70: 12 | V70: 11 | W70: 45 | X70: 26 | Y70: 19 | Z70: 262 | AA70: 3729500 | AB70: 2 | AC70: 1 | AD70: 1 | AE70: 7 | AF70: 4 | AG70: 3 | AH70: 20 | AI70: 60000
B71: 原住民 | C71: Indigenous | D71: 58 | E71: 25 | F71: 33 | G71: 74 | H71: 33 | I71: 41 | J71: 691 | K71: 1518127 | L71: 0 | M71: 0 | N71: 0 | O71: 1 | P71: 1 | Q71: 0 | R71: 1 | S71: 4900 | T71: 0 | U71: 0 | V71: 0 | W71: 0 | X71: 0 | Y71: 0 | Z71: 0 | AA71: 0 | AB71: 0 | AC71: 0 | AD71: 0 | AE71: 3 | AF71: 2 | AG71: 1 | AH71: 10 | AI71: 30000
A72: 嘉義市 | B72: 計 | C72: Total | D72: 1238 | E72: 644 | F72: 594 | G72: 1327 | H72: 678 | I72: 649 | J72: 13612 | K72: 29905986 | L72: 0 | M72: 0 | N72: 0 | O72: 54 | P72: 23 | Q72: 31 | R72: 59 | S72: 1415476 | T72: 15 | U72: 11 | V72: 4 | W72: 26 | X72: 16 | Y72: 10 | Z72: 183 | AA72: 2226466 | AB72: 0 | AC72: 0 | AD72: 0 | AE72: 10 | AF72: 6 | AG72: 4 | AH72: 78 | AI72: 234000
A73: Chiayi City | B73: 一般 | C73: General | D73: 1211 | E73: 633 | F73: 578 | G73: 1300 | H73: 667 | I73: 633 | J73: 13373 | K73: 29380903 | L73: 0 | M73: 0 | N73: 0 | O73: 54 | P73: 23 | Q73: 31 | R73: 59 | S73: 1415476 | T73: 15 | U73: 11 | V73: 4 | W73: 26 | X73: 16 | Y73: 10 | Z73: 183 | AA73: 2226466 | AB73: 0 | AC73: 0 | AD73: 0 | AE73: 10 | AF73: 6 | AG73: 4 | AH73: 78 | AI73: 234000
B74: 原住民 | C74: Indigenous | D74: 27 | E74: 11 | F74: 16 | G74: 27 | H74: 11 | I74: 16 | J74: 239 | K74: 525083 | L74: 0 | M74: 0 | N74: 0 | O74: 0 | P74: 0 | Q74: 0 | R74: 0 | S74: 0 | T74: 0 | U74: 0 | V74: 0 | W74: 0 | X74: 0 | Y74: 0 | Z74: 0 | AA74: 0 | AB74: 0 | AC74: 0 | AD74: 0 | AE74: 0 | AF74: 0 | AG74: 0 | AH74: 0 | AI74: 0
A75: 金門縣 | B75: 計 | C75: Total | D75: 109 | E75: 55 | F75: 54 | G75: 117 | H75: 58 | I75: 59 | J75: 1204 | K75: 2645188 | L75: 10 | M75: 6 | N75: 4 | O75: 17 | P75: 10 | Q75: 7 | R75: 27 | S75: 2298836 | T75: 4 | U75: 3 | V75: 1 | W75: 6 | X75: 4 | Y75: 2 | Z75: 42 | AA75: 420000 | AB75: 1 | AC75: 0 | AD75: 1 | AE75: 4 | AF75: 1 | AG75: 3 | AH75: 24 | AI75: 72000
A76: Kinmen County | B76: 一般 | C76: General | D76: 107 | E76: 54 | F76: 53 | G76: 114 | H76: 57 | I76: 57 | J76: 1175 | K76: 2581475 | L76: 10 | M76: 6 | N76: 4 | O76: 17 | P76: 10 | Q76: 7 | R76: 27 | S76: 2298836 | T76: 4 | U76: 3 | V76: 1 | W76: 6 | X76: 4 | Y76: 2 | Z76: 42 | AA76: 420000 | AB76: 1 | AC76: 0 | AD76: 1 | AE76: 4 | AF76: 1 | AG76: 3 | AH76: 24 | AI76: 72000
B77: 原住民 | C77: Indigenous | D77: 2 | E77: 1 | F77: 1 | G77: 3 | H77: 1 | I77: 2 | J77: 29 | K77: 63713 | L77: 0 | M77: 0 | N77: 0 | O77: 0 | P77: 0 | Q77: 0 | R77: 0 | S77: 0 | T77: 0 | U77: 0 | V77: 0 | W77: 0 | X77: 0 | Y77: 0 | Z77: 0 | AA77: 0 | AB77: 0 | AC77: 0 | AD77: 0 | AE77: 0 | AF77: 0 | AG77: 0 | AH77: 0 | AI77: 0
A78: 連江縣 | B78: 計 | C78: Total | D78: 15 | E78: 1 | F78: 14 | G78: 15 | H78: 1 | I78: 14 | J78: 112 | K78: 259056 | L78: 1 | M78: 0 | N78: 1 | O78: 2 | P78: 0 | Q78: 2 | R78: 2 | S78: 40429 | T78: 0 | U78: 0 | V78: 0 | W78: 0 | X78: 0 | Y78: 0 | Z78: 0 | AA78: 0 | AB78: 2 | AC78: 1 | AD78: 1 | AE78: 3 | AF78: 2 | AG78: 1 | AH78: 13 | AI78: 39000
A79: Lienchiang County | B79: 一般 | C79: General | D79: 5 | E79: 1 | F79: 4 | G79: 5 | H79: 1 | I79: 4 | J79: 45 | K79: 104085 | L79: 1 | M79: 0 | N79: 1 | O79: 2 | P79: 0 | Q79: 2 | R79: 2 | S79: 40429 | T79: 0 | U79: 0 | V79: 0 | W79: 0 | X79: 0 | Y79: 0 | Z79: 0 | AA79: 0 | AB79: 2 | AC79: 1 | AD79: 1 | AE79: 3 | AF79: 2 | AG79: 1 | AH79: 13 | AI79: 39000
B80: 原住民 | C80: Indigenous | D80: 10 | E80: 0 | F80: 10 | G80: 10 | H80: 0 | I80: 10 | J80: 67 | K80: 154971 | L80: 0 | M80: 0 | N80: 0 | O80: 0 | P80: 0 | Q80: 0 | R80: 0 | S80: 0 | T80: 0 | U80: 0 | V80: 0 | W80: 0 | X80: 0 | Y80: 0 | Z80: 0 | AA80: 0 | AB80: 0 | AC80: 0 | AD80: 0 | AE80: 0 | AF80: 0 | AG80: 0 | AH80: 0 | AI80: 0
A81: 資料來源：各直轄市、縣市政府。
A82: Source: County and Government.
A83: 更新日期：2026/05/20
A85: 總計 | B85: 計 | C85: Total | D85: 76125 | E85: 38605 | F85: 37520 | G85: 87640 | H85: 44459 | I85: 43181 | J85: 921456 | K85: 2072104328 | L85: 6238 | M85: 4107 | N85: 2131 | O85: 12099 | P85: 7464 | Q85: 4635 | R85: 23043 | S85: 204826306 | T85: 1408 | U85: 788 | V85: 620 | W85: 2844 | X85: 1600 | Y85: 1244 | Z85: 17402 | AA85: 205573555 | AB85: 591 | AC85: 295 | AD85: 296 | AE85: 2074 | AF85: 1045 | AG85: 1029 | AH85: 10090 | AI85: 29040021
A86: Total | B86: 一般 | C86: General | D86: 67871 | E86: 34443 | F86: 33428 | G86: 77960 | H86: 39559 | I86: 38401 | J86: 824747 | K86: 1849892573 | L86: 6197 | M86: 4084 | N86: 2113 | O86: 11979 | P86: 7382 | Q86: 4597 | R86: 22849 | S86: 202402707 | T86: 1374 | U86: 773 | V86: 601 | W86: 2695 | X86: 1536 | Y86: 1159 | Z86: 16576 | AA86: 197022603 | AB86: 513 | AC86: 257 | AD86: 256 | AE86: 1845 | AF86: 934 | AG86: 911 | AH86: 8771 | AI86: 25224782
B87: 原住民 | C87: Indigenous | D87: 8254 | E87: 4162 | F87: 4092 | G87: 9680 | H87: 4900 | I87: 4780 | J87: 96709 | K87: 222211755 | L87: 41 | M87: 23 | N87: 18 | O87: 120 | P87: 82 | Q87: 38 | R87: 194 | S87: 2423599 | T87: 34 | U87: 15 | V87: 19 | W87: 149 | X87: 64 | Y87: 85 | Z87: 826 | AA87: 8550952 | AB87: 78 | AC87: 38 | AD87: 40 | AE87: 229 | AF87: 111 | AG87: 118 | AH87: 1319 | AI87: 3815239
A88: 新北市 | B88: 計 | C88: Total | D88: 20668 | E88: 10541 | F88: 10127 | G88: 22070 | H88: 11255 | I88: 10815 | J88: 253180 | K88: 560986987 | L88: 3063 | M88: 1869 | N88: 1194 | O88: 3777 | P88: 2262 | Q88: 1515 | R88: 6878 | S88: 42995975 | T88: 177 | U88: 100 | V88: 77 | W88: 278 | X88: 165 | Y88: 113 | Z88: 1881 | AA88: 20615183 | AB88: 72 | AC88: 35 | AD88: 37 | AE88: 175 | AF88: 90 | AG88: 85 | AH88: 1130 | AI88: 3356813
A89: New Taipei City | B89: 一般 | C89: General | D89: 19635 | E89: 10014 | F89: 9621 | G89: 20966 | H89: 10692 | I89: 10274 | J89: 240521 | K89: 532937638 | L89: 3063 | M89: 1869 | N89: 1194 | O89: 3777 | P89: 2262 | Q89: 1515 | R89: 6878 | S89: 42995975 | T89: 177 | U89: 100 | V89: 77 | W89: 278 | X89: 165 | Y89: 113 | Z89: 1881 | AA89: 20615183 | AB89: 72 | AC89: 35 | AD89: 37 | AE89: 175 | AF89: 90 | AG89: 85 | AH89: 1130 | AI89: 3356813
B90: 原住民 | C90: Indigenous | D90: 1033 | E90: 527 | F90: 506 | G90: 1104 | H90: 563 | I90: 541 | J90: 12659 | K90: 28049349 | L90: 0 | M90: 0 | N90: 0 | O90: 0 | P90: 0 | Q90: 0 | R90: 0 | S90: 0 | T90: 0 | U90: 0 | V90: 0 | W90: 0 | X90: 0 | Y90: 0 | Z90: 0 | AA90: 0 | AB90: 0 | AC90: 0 | AD90: 0 | AE90: 0 | AF90: 0 | AG90: 0 | AH90: 0 | AI90: 0
A91: 臺北市 | B91: 計 | C91: Total | D91: 0 | E91: 0 | F91: 0 | G91: 0 | H91: 0 | I91: 0 | J91: 0 | K91: 0 | L91: 22 | M91: 17 | N91: 5 | O91: 376 | P91: 260 | Q91: 116 | R91: 774 | S91: 16965131 | T91: 149 | U91: 90 | V91: 59 | W91: 253 | X91: 148 | Y91: 105 | Z91: 1962 | AA91: 23383100 | AB91: 26 | AC91: 11 | AD91: 15 | AE91: 425 | AF91: 221 | AG91: 204 | AH91: 2211 | AI91: 6627423
A92: Taipei City | B92: 一般 | C92: General | D92: 0 | E92: 0 | F92: 0 | G92: 0 | H92: 0 | I92: 0 | J92: 0 | K92: 0 | L92: 22 | M92: 17 | N92: 5 | O92: 371 | P92: 257 | Q92: 114 | R92: 765 | S92: 16774416 | T92: 149 | U92: 90 | V92: 59 | W92: 253 | X92: 148 | Y92: 105 | Z92: 1962 | AA92: 23383100 | AB92: 23 | AC92: 11 | AD92: 12 | AE92: 414 | AF92: 215 | AG92: 199 | AH92: 2155 | AI92: 6459423
B93: 原住民 | C93: Indigenous | D93: 0 | E93: 0 | F93: 0 | G93: 0 | H93: 0 | I93: 0 | J93: 0 | K93: 0 | L93: 0 | M93: 0 | N93: 0 | O93: 5 | P93: 3 | Q93: 2 | R93: 9 | S93: 190715 | T93: 0 | U93: 0 | V93: 0 | W93: 0 | X93: 0 | Y93: 0 | Z93: 0 | AA93: 0 | AB93: 3 | AC93: 0 | AD93: 3 | AE93: 11 | AF93: 6 | AG93: 5 | AH93: 56 | AI93: 168000
A94: 桃園市 | B94: 計 | C94: Total | D94: 5137 | E94: 2611 | F94: 2526 | G94: 6126 | H94: 3104 | I94: 3022 | J94: 61420 | K94: 141664785 | L94: 330 | M94: 171 | N94: 159 | O94: 3360 | P94: 1816 | Q94: 1544 | R94: 3360 | S94: 15963278 | T94: 36 | U94: 21 | V94: 15 | W94: 317 | X94: 203 | Y94: 114 | Z94: 1849 | AA94: 24588873 | AB94: 12 | AC94: 6 | AD94: 6 | AE94: 57 | AF94: 28 | AG94: 29 | AH94: 234 | AI94: 702000
A95: Taoyuan City | B95: 一般 | C95: General | D95: 4493 | E95: 2310 | F95: 2183 | G95: 5322 | H95: 2735 | I95: 2587 | J95: 54482 | K95: 125617191 | L95: 330 | M95: 171 | N95: 159 | O95: 3360 | P95: 1816 | Q95: 1544 | R95: 3360 | S95: 15963278 | T95: 36 | U95: 21 | V95: 15 | W95: 317 | X95: 203 | Y95: 114 | Z95: 1849 | AA95: 24588873 | AB95: 11 | AC95: 5 | AD95: 6 | AE95: 48 | AF95: 25 | AG95: 23 | AH95: 191 | AI95: 573000
B96: 原住民 | C96: Indigenous | D96: 644 | E96: 301 | F96: 343 | G96: 804 | H96: 369 | I96: 435 | J96: 6938 | K96: 16047594 | L96: 0 | M96: 0 | N96: 0 | O96: 0 | P96: 0 | Q96: 0 | R96: 0 | S96: 0 | T96: 0 | U96: 0 | V96: 0 | W96: 0 | X96: 0 | Y96: 0 | Z96: 0 | AA96: 0 | AB96: 1 | AC96: 1 | AD96: 0 | AE96: 9 | AF96: 3 | AG96: 6 | AH96: 43 | AI96: 129000
A97: 臺中市 | B97: 計 | C97: Total | D97: 10463 | E97: 5261 | F97: 5202 | G97: 12623 | H97: 6392 | I97: 6231 | J97: 130238 | K97: 285844293 | L97: 2679 | M97: 1973 | N97: 706 | O97: 3467 | P97: 2494 | Q97: 973 | R97: 10407 | S97: 101805678 | T97: 435 | U97: 243 | V97: 192 | W97: 824 | X97: 449 | Y97: 375 | Z97: 4727 | AA97: 52751258 | AB97: 16 | AC97: 7 | AD97: 9 | AE97: 49 | AF97: 23 | AG97: 26 | AH97: 245 | AI97: 677833
A98: Taichung City | B98: 一般 | C98: General | D98: 9650 | E98: 4847 | F98: 4803 | G98: 11624 | H98: 5874 | I98: 5750 | J98: 120065 | K98: 263494212 | L98: 2648 | M98: 1955 | N98: 693 | O98: 3407 | P98: 2453 | Q98: 954 | R98: 10287 | S98: 100722628 | T98: 435 | U98: 243 | V98: 192 | W98: 824 | X98: 449 | Y98: 375 | Z98: 4727 | AA98: 52751258 | AB98: 12 | AC98: 5 | AD98: 7 | AE98: 41 | AF98: 21 | AG98: 20 | AH98: 212 | AI98: 578833
B99: 原住民 | C99: Indigenous | D99: 813 | E99: 414 | F99: 399 | G99: 999 | H99: 518 | I99: 481 | J99: 10173 | K99: 22350081 | L99: 31 | M99: 18 | N99: 13 | O99: 60 | P99: 41 | Q99: 19 | R99: 120 | S99: 1083050 | T99: 0 | U99: 0 | V99: 0 | W99: 0 | X99: 0 | Y99: 0 | Z99: 0 | AA99: 0 | AB99: 4 | AC99: 2 | AD99: 2 | AE99: 8 | AF99: 2 | AG99: 6 | AH99: 33 | AI99: 99000
A100: 臺南市 | B100: 計 | C100: Total | D100: 5856 | E100: 2986 | F100: 2870 | G100: 6994 | H100: 3566 | I100: 3428 | J100: 70669 | K100: 157771646 | L100: 7 | M100: 2 | N100: 5 | O100: 91 | P100: 47 | Q100: 44 | R100: 92 | S100: 2386735 | T100: 105 | U100: 75 | V100: 30 | W100: 187 | X100: 128 | Y100: 59 | Z100: 943 | AA100: 12160190 | AB100: 74 | AC100: 44 | AD100: 30 | AE100: 187 | AF100: 100 | AG100: 87 | AH100: 936 | AI100: 2808000
A101: Tainan City | B101: 一般 | C101: General | D101: 5684 | E101: 2903 | F101: 2781 | G101: 6788 | H101: 3466 | I101: 3322 | J101: 68687 | K101: 153350184 | L101: 7 | M101: 2 | N101: 5 | O101: 90 | P101: 46 | Q101: 44 | R101: 91 | S101: 2314990 | T101: 105 | U101: 75 | V101: 30 | W101: 187 | X101: 128 | Y101: 59 | Z101: 943 | AA101: 12160190 | AB101: 73 | AC101: 44 | AD101: 29 | AE101: 182 | AF101: 98 | AG101: 84 | AH101: 913 | AI101: 2739000
B102: 原住民 | C102: Indigenous | D102: 172 | E102: 83 | F102: 89 | G102: 206 | H102: 100 | I102: 106 | J102: 1982 | K102: 4421462 | L102: 0 | M102: 0 | N102: 0 | O102: 1 | P102: 1 | Q102: 0 | R102: 1 | S102: 71745 | T102: 0 | U102: 0 | V102: 0 | W102: 0 | X102: 0 | Y102: 0 | Z102: 0 | AA102: 0 | AB102: 1 | AC102: 0 | AD102: 1 | AE102: 5 | AF102: 2 | AG102: 3 | AH102: 23 | AI102: 69000
A103: 高 雄 市 | B103: 計 | C103: Total | D103: 7923 | E103: 4021 | F103: 3902 | G103: 9367 | H103: 4737 | I103: 4630 | J103: 98496 | K103: 239415628 | L103: 30 | M103: 19 | N103: 11 | O103: 137 | P103: 81 | Q103: 56 | R103: 153 | S103: 2315745 | T103: 144 | U103: 71 | V103: 73 | W103: 223 | X103: 114 | Y103: 109 | Z103: 1605 | AA103: 16692191 | AB103: 148 | AC103: 64 | AD103: 84 | AE103: 377 | AF103: 170 | AG103: 207 | AH103: 2057 | AI103: 5935551
A104: Kaohsiung City | B104: 一般 | C104: General | D104: 7479 | E104: 3784 | F104: 3695 | G104: 8828 | H104: 4453 | I104: 4375 | J104: 92951 | K104: 226069189 | L104: 30 | M104: 19 | N104: 11 | O104: 137 | P104: 81 | Q104: 56 | R104: 153 | S104: 2315745 | T104: 136 | U104: 67 | V104: 69 | W104: 208 | X104: 109 | Y104: 99 | Z104: 1493 | AA104: 15712416 | AB104: 134 | AC104: 58 | AD104: 76 | AE104: 343 | AF104: 155 | AG104: 188 | AH104: 1839 | AI104: 5330124
B105: 原住民 | C105: Indigenous | D105: 444 | E105: 237 | F105: 207 | G105: 539 | H105: 284 | I105: 255 | J105: 5545 | K105: 13346439 | L105: 0 | M105: 0 | N105: 0 | O105: 0 | P105: 0 | Q105: 0 | R105: 0 | S105: 0 | T105: 8 | U105: 4 | V105: 4 | W105: 15 | X105: 5 | Y105: 10 | Z105: 112 | AA105: 979775 | AB105: 14 | AC105: 6 | AD105: 8 | AE105: 34 | AF105: 15 | AG105: 19 | AH105: 218 | AI105: 605427
A106: 宜蘭縣 | B106: 計 | C106: Total | D106: 1455 | E106: 713 | F106: 742 | G106: 1556 | H106: 781 | I106: 775 | J106: 16126 | K106: 35428597 | L106: 5 | M106: 3 | N106: 2 | O106: 11 | P106: 7 | Q106: 4 | R106: 11 | S106: 488336 | T106: 17 | U106: 3 | V106: 14 | W106: 17 | X106: 3 | Y106: 14 | Z106: 169 | AA106: 1687800 | AB106: 5 | AC106: 3 | AD106: 2 | AE106: 5 | AF106: 3 | AG106: 2 | AH106: 12 | AI106: 36000
...

Sheet July-Dec., 2025
A1: 弱勢兒童及少年扶助概況Overview of Allowances for Disadvantaged Child and Youth
D2: =IF(D13=SUM(D16,D19,D25,D28,D31,D34,D22,D37,D40,D43,D46,D49,D52,D55,D58,D61,D64,D67,D70,D73,D76,D79),"","*") | E2: =IF(E13=SUM(E16,E19,E25,E28,E31,E34,E22,E37,E40,E43,E46,E49,E52,E55,E58,E61,E64,E67,E70,E73,E76,E79),"","*") | F2: =IF(F13=SUM(F16,F19,F25,F28,F31,F34,F22,F37,F40,F43,F46,F49,F52,F55,F58,F61,F64,F67,F70,F73,F76,F79),"","*") | G2: =IF(G13=SUM(G16,G19,G25,G28,G31,G34,G22,G37,G40,G43,G46,G49,G52,G55,G58,G61,G64,G67,G70,G73,G76,G79),"","*") | H2: =IF(H13=SUM(H16,H19,H25,H28,H31,H34,H22,H37,H40,H43,H46,H49,H52,H55,H58,H61,H64,H67,H70,H73,H76,H79),"","*") | I2: =IF(I13=SUM(I16,I19,I25,I28,I31,I34,I22,I37,I40,I43,I46,I49,I52,I55,I58,I61,I64,I67,I70,I73,I76,I79),"","*") | J2: =IF(J13=SUM(J16,J19,J25,J28,J31,J34,J22,J37,J40,J43,J46,J49,J52,J55,J58,J61,J64,J67,J70,J73,J76,J79),"","*") | K2: =IF(K13=SUM(K16,K19,K25,K28,K31,K34,K22,K37,K40,K43,K46,K49,K52,K55,K58,K61,K64,K67,K70,K73,K76,K79),"","*") | ... AI2: =IF(AI13=SUM(AI16,AI19,AI25,AI28,AI31,AI34,AI22,AI37,AI40,AI43,AI46,AI49,AI52,AI55,AI58,AI61,AI64,AI67,AI70,AI73,AI76,AI79),"","*")
A3: 民國114年下半年 July-Dec., 2025 | D3: =IF(D14=SUM(D17,D20,D26,D29,D32,D35,D23,D38,D41,D44,D47,D50,D53,D56,D59,D62,D65,D68,D71,D74,D77,D80),"","*") | E3: =IF(E14=SUM(E17,E20,E26,E29,E32,E35,E23,E38,E41,E44,E47,E50,E53,E56,E59,E62,E65,E68,E71,E74,E77,E80),"","*") | F3: =IF(F14=SUM(F17,F20,F26,F29,F32,F35,F23,F38,F41,F44,F47,F50,F53,F56,F59,F62,F65,F68,F71,F74,F77,F80),"","*") | G3: =IF(G14=SUM(G17,G20,G26,G29,G32,G35,G23,G38,G41,G44,G47,G50,G53,G56,G59,G62,G65,G68,G71,G74,G77,G80),"","*") | H3: =IF(H14=SUM(H17,H20,H26,H29,H32,H35,H23,H38,H41,H44,H47,H50,H53,H56,H59,H62,H65,H68,H71,H74,H77,H80),"","*") | I3: =IF(I14=SUM(I17,I20,I26,I29,I32,I35,I23,I38,I41,I44,I47,I50,I53,I56,I59,I62,I65,I68,I71,I74,I77,I80),"","*") | J3: =IF(J14=SUM(J17,J20,J26,J29,J32,J35,J23,J38,J41,J44,J47,J50,J53,J56,J59,J62,J65,J68,J71,J74,J77,J80),"","*") | K3: =IF(K14=SUM(K17,K20,K26,K29,K32,K35,K23,K38,K41,K44,K47,K50,K53,K56,K59,K62,K65,K68,K71,K74,K77,K80),"","*") | ... AI3: =IF(AI14=SUM(AI17,AI20,AI26,AI29,AI32,AI35,AI23,AI38,AI41,AI44,AI47,AI50,AI53,AI56,AI59,AI62,AI65,AI68,AI71,AI74,AI77,AI80),"","*")
A4: 區域及特殊族群別 Locality & Ethnos | D4: 弱勢兒童及少年生活扶助 Living Support for Disadvantaged Child and Youth | L4: 弱勢兒童及少年醫療補助 Medical Subsidies for Disadvantaged Child and Youth | T4: 托育補助/津貼 Childcare Subsidies/Allowance for Low-Income Families | AB4: 弱勢兒少緊急生活扶助 Emergency Living Relief to Disadvantaged Child and Youth
D7: 期底人數(人)Persons | G7: 本年累計至期底人數(人) Accumulated to the End of the Current Persons | J7: 人次(月) Person-Times | K7: 金額(元) Amount(NT$) | L7: 期底人數(人)Persons | O7: 本年累計至期底人數(人) Accumulated to the End of the Current Persons | R7: 人次(月) Person-Times | S7: 金額(元) Amount(NT$) | T7: 期底人數(人)Persons | W7: 本年累計至期底人數(人) Accumulated to the End of the Current Persons | Z7: 人次(月) Person-Times | AA7: 金額(元) Amount(NT$) | AB7: 期底人數(人)Persons | AE7: 本年累計至期底人數(人) Accumulated to the End of the Current Persons | AH7: 人次(月) Person-Times | AI7: 金額(元) Amount(NT$)
D9: 計 Total | E9: 男 Male | F9: 女 Female | G9: 計 Total | H9: 男 Male | I9: 女 Female | L9: 計 Total | M9: 男 Male | N9: 女 Female | O9: 計 Total | P9: 男 Male | Q9: 女 Female | T9: 計 Total | U9: 男 Male | V9: 女 Female | W9: 計 Total | X9: 男 Male | Y9: 女 Female | AB9: 計 Total | AC9: 男 Male | AD9: 女 Female | AE9: 計 Total | AF9: 男 Male | AG9: 女 Female
A12: 總計 | B12: 計 | C12: Total | D12: 76125 | E12: 38605 | F12: 37520 | G12: 87640 | H12: 44459 | I12: 43181 | J12: 461550 | K12: 1037439846 | L12: 8454 | M12: 5540 | N12: 2914 | O12: 15261 | P12: 9563 | Q12: 5698 | R12: 17790 | S12: 125078040 | T12: 1408 | U12: 788 | V12: 620 | W12: 2844 | X12: 1600 | Y12: 1244 | Z12: 8753 | AA12: 102627003 | AB12: 591 | AC12: 295 | AD12: 296 | AE12: 2074 | AF12: 1045 | AG12: 1029 | AH12: 4485 | AI12: 12524816
A13: Total | B13: 一般 | C13: General | D13: 67871 | E13: 34443 | F13: 33428 | G13: 77960 | H13: 39559 | I13: 38401 | J13: 412408 | K13: 924544182 | L13: 8413 | M13: 5517 | N13: 2896 | O13: 15141 | P13: 9483 | Q13: 5658 | R13: 17665 | S13: 123428403 | T13: 1374 | U13: 773 | V13: 601 | W13: 2695 | X13: 1536 | Y13: 1159 | Z13: 8532 | AA13: 100442184 | AB13: 513 | AC13: 257 | AD13: 256 | AE13: 1845 | AF13: 934 | AG13: 911 | AH13: 3947 | AI13: 11036283
B14: 原住民 | C14: Indigenous | D14: 8254 | E14: 4162 | F14: 4092 | G14: 9680 | H14: 4900 | I14: 4780 | J14: 49142 | K14: 112895664 | L14: 41 | M14: 23 | N14: 18 | O14: 120 | P14: 80 | Q14: 40 | R14: 125 | S14: 1649637 | T14: 34 | U14: 15 | V14: 19 | W14: 149 | X14: 64 | Y14: 85 | Z14: 221 | AA14: 2184819 | AB14: 78 | AC14: 38 | AD14: 40 | AE14: 229 | AF14: 111 | AG14: 118 | AH14: 538 | AI14: 1488533
A15: 新北市 | B15: 計 | C15: Total | D15: 20668 | E15: 10541 | F15: 10127 | G15: 22070 | H15: 11255 | I15: 10815 | J15: 127019 | K15: 281324298 | L15: 5279 | M15: 3302 | N15: 1977 | O15: 6878 | P15: 4335 | Q15: 2543 | R15: 6878 | S15: 24532937 | T15: 177 | U15: 100 | V15: 77 | W15: 278 | X15: 165 | Y15: 113 | Z15: 1006 | AA15: 11211311 | AB15: 72 | AC15: 35 | AD15: 37 | AE15: 175 | AF15: 90 | AG15: 85 | AH15: 472 | AI15: 1402702
A16: New Taipei City | B16: 一般 | C16: General | D16: 19635 | E16: 10014 | F16: 9621 | G16: 20966 | H16: 10692 | I16: 10274 | J16: 120668 | K16: 267258083 | L16: 5279 | M16: 3302 | N16: 1977 | O16: 6878 | P16: 4335 | Q16: 2543 | R16: 6878 | S16: 24532937 | T16: 177 | U16: 100 | V16: 77 | W16: 278 | X16: 165 | Y16: 113 | Z16: 1006 | AA16: 11211311 | AB16: 72 | AC16: 35 | AD16: 37 | AE16: 175 | AF16: 90 | AG16: 85 | AH16: 472 | AI16: 1402702
B17: 原住民 | C17: Indigenous | D17: 1033 | E17: 527 | F17: 506 | G17: 1104 | H17: 563 | I17: 541 | J17: 6351 | K17: 14066215 | L17: 0 | M17: 0 | N17: 0 | O17: 0 | P17: 0 | Q17: 0 | R17: 0 | S17: 0 | T17: 0 | U17: 0 | V17: 0 | W17: 0 | X17: 0 | Y17: 0 | Z17: 0 | AA17: 0 | AB17: 0 | AC17: 0 | AD17: 0 | AE17: 0 | AF17: 0 | AG17: 0 | AH17: 0 | AI17: 0
A18: 臺北市 | B18: 計 | C18: Total | D18: 0 | E18: 0 | F18: 0 | G18: 0 | H18: 0 | I18: 0 | J18: 0 | K18: 0 | L18: 22 | M18: 17 | N18: 5 | O18: 376 | P18: 260 | Q18: 116 | R18: 407 | S18: 8475338 | T18: 149 | U18: 90 | V18: 59 | W18: 253 | X18: 148 | Y18: 105 | Z18: 969 | AA18: 11582500 | AB18: 26 | AC18: 11 | AD18: 15 | AE18: 425 | AF18: 221 | AG18: 204 | AH18: 931 | AI18: 2790282
A19: Taipei City | B19: 一般 | C19: General | D19: 0 | E19: 0 | F19: 0 | G19: 0 | H19: 0 | I19: 0 | J19: 0 | K19: 0 | L19: 22 | M19: 17 | N19: 5 | O19: 371 | P19: 257 | Q19: 114 | R19: 402 | S19: 8378784 | T19: 149 | U19: 90 | V19: 59 | W19: 253 | X19: 148 | Y19: 105 | Z19: 969 | AA19: 11582500 | AB19: 23 | AC19: 11 | AD19: 12 | AE19: 414 | AF19: 215 | AG19: 199 | AH19: 915 | AI19: 2742282
B20: 原住民 | C20: Indigenous | D20: 0 | E20: 0 | F20: 0 | G20: 0 | H20: 0 | I20: 0 | J20: 0 | K20: 0 | L20: 0 | M20: 0 | N20: 0 | O20: 5 | P20: 3 | Q20: 2 | R20: 5 | S20: 96554 | T20: 0 | U20: 0 | V20: 0 | W20: 0 | X20: 0 | Y20: 0 | Z20: 0 | AA20: 0 | AB20: 3 | AC20: 0 | AD20: 3 | AE20: 11 | AF20: 6 | AG20: 5 | AH20: 16 | AI20: 48000
A21: 桃園市 | B21: 計 | C21: Total | D21: 5137 | E21: 2611 | F21: 2526 | G21: 6126 | H21: 3104 | I21: 3022 | J21: 31268 | K21: 72184104 | L21: 330 | M21: 171 | N21: 159 | O21: 3360 | P21: 1816 | Q21: 1544 | R21: 1765 | S21: 8732788 | T21: 36 | U21: 21 | V21: 15 | W21: 317 | X21: 203 | Y21: 114 | Z21: 960 | AA21: 11339190 | AB21: 12 | AC21: 6 | AD21: 6 | AE21: 57 | AF21: 28 | AG21: 29 | AH21: 106 | AI21: 318000
A22: Taoyuan City | B22: 一般 | C22: General | D22: 4493 | E22: 2310 | F22: 2183 | G22: 5322 | H22: 2735 | I22: 2587 | J22: 27500 | K22: 63468720 | L22: 330 | M22: 171 | N22: 159 | O22: 3360 | P22: 1816 | Q22: 1544 | R22: 1765 | S22: 8732788 | T22: 36 | U22: 21 | V22: 15 | W22: 317 | X22: 203 | Y22: 114 | Z22: 960 | AA22: 11339190 | AB22: 11 | AC22: 5 | AD22: 6 | AE22: 48 | AF22: 25 | AG22: 23 | AH22: 88 | AI22: 264000
B23: 原住民 | C23: Indigenous | D23: 644 | E23: 301 | F23: 343 | G23: 804 | H23: 369 | I23: 435 | J23: 3768 | K23: 8715384 | L23: 0 | M23: 0 | N23: 0 | O23: 0 | P23: 0 | Q23: 0 | R23: 0 | S23: 0 | T23: 0 | U23: 0 | V23: 0 | W23: 0 | X23: 0 | Y23: 0 | Z23: 0 | AA23: 0 | AB23: 1 | AC23: 1 | AD23: 0 | AE23: 9 | AF23: 3 | AG23: 6 | AH23: 18 | AI23: 54000
A24: 臺中市 | B24: 計 | C24: Total | D24: 10463 | E24: 5261 | F24: 5202 | G24: 12623 | H24: 6392 | I24: 6231 | J24: 64859 | K24: 142365436 | L24: 2679 | M24: 1973 | N24: 706 | O24: 3467 | P24: 2494 | Q24: 973 | R24: 7809 | S24: 67584753 | T24: 435 | U24: 243 | V24: 192 | W24: 824 | X24: 449 | Y24: 375 | Z24: 2427 | AA24: 27266525 | AB24: 16 | AC24: 7 | AD24: 9 | AE24: 49 | AF24: 23 | AG24: 26 | AH24: 88 | AI24: 264000
A25: Taichung City | B25: 一般 | C25: General | D25: 9650 | E25: 4847 | F25: 4803 | G25: 11624 | H25: 5874 | I25: 5750 | J25: 59817 | K25: 131288162 | L25: 2648 | M25: 1955 | N25: 693 | O25: 3407 | P25: 2453 | Q25: 954 | R25: 7719 | S25: 66820753 | T25: 435 | U25: 243 | V25: 192 | W25: 824 | X25: 449 | Y25: 375 | Z25: 2427 | AA25: 27266525 | AB25: 12 | AC25: 5 | AD25: 7 | AE25: 41 | AF25: 21 | AG25: 20 | AH25: 67 | AI25: 201000
B26: 原住民 | C26: Indigenous | D26: 813 | E26: 414 | F26: 399 | G26: 999 | H26: 518 | I26: 481 | J26: 5042 | K26: 11077274 | L26: 31 | M26: 18 | N26: 13 | O26: 60 | P26: 41 | Q26: 19 | R26: 90 | S26: 764000 | T26: 0 | U26: 0 | V26: 0 | W26: 0 | X26: 0 | Y26: 0 | Z26: 0 | AA26: 0 | AB26: 4 | AC26: 2 | AD26: 2 | AE26: 8 | AF26: 2 | AG26: 6 | AH26: 21 | AI26: 63000
A27: 臺南市 | B27: 計 | C27: Total | D27: 5856 | E27: 2986 | F27: 2870 | G27: 6994 | H27: 3566 | I27: 3428 | J27: 35577 | K27: 78973159 | L27: 7 | M27: 2 | N27: 5 | O27: 91 | P27: 47 | Q27: 44 | R27: 53 | S27: 1164598 | T27: 105 | U27: 75 | V27: 30 | W27: 187 | X27: 128 | Y27: 59 | Z27: 498 | AA27: 6641707 | AB27: 74 | AC27: 44 | AD27: 30 | AE27: 187 | AF27: 100 | AG27: 87 | AH27: 422 | AI27: 1266000
A28: Tainan City | B28: 一般 | C28: General | D28: 5684 | E28: 2903 | F28: 2781 | G28: 6788 | H28: 3466 | I28: 3322 | J28: 34579 | K28: 76759980 | L28: 7 | M28: 2 | N28: 5 | O28: 90 | P28: 46 | Q28: 44 | R28: 52 | S28: 1092853 | T28: 105 | U28: 75 | V28: 30 | W28: 187 | X28: 128 | Y28: 59 | Z28: 498 | AA28: 6641707 | AB28: 73 | AC28: 44 | AD28: 29 | AE28: 182 | AF28: 98 | AG28: 84 | AH28: 420 | AI28: 1260000
B29: 原住民 | C29: Indigenous | D29: 172 | E29: 83 | F29: 89 | G29: 206 | H29: 100 | I29: 106 | J29: 998 | K29: 2213179 | L29: 0 | M29: 0 | N29: 0 | O29: 1 | P29: 1 | Q29: 0 | R29: 1 | S29: 71745 | T29: 0 | U29: 0 | V29: 0 | W29: 0 | X29: 0 | Y29: 0 | Z29: 0 | AA29: 0 | AB29: 1 | AC29: 0 | AD29: 1 | AE29: 5 | AF29: 2 | AG29: 3 | AH29: 2 | AI29: 6000
A30: 高 雄 市 | B30: 計 | C30: Total | D30: 7923 | E30: 4021 | F30: 3902 | G30: 9367 | H30: 4737 | I30: 4630 | J30: 48709 | K30: 118458426 | L30: 30 | M30: 19 | N30: 11 | O30: 137 | P30: 81 | Q30: 56 | R30: 116 | S30: 1871738 | T30: 144 | U30: 71 | V30: 73 | W30: 223 | X30: 114 | Y30: 109 | Z30: 823 | AA30: 8759133 | AB30: 148 | AC30: 64 | AD30: 84 | AE30: 377 | AF30: 170 | AG30: 207 | AH30: 964 | AI30: 2773341
A31: Kaohsiung City | B31: 一般 | C31: General | D31: 7479 | E31: 3784 | F31: 3695 | G31: 8828 | H31: 4453 | I31: 4375 | J31: 45943 | K31: 111804069 | L31: 30 | M31: 19 | N31: 11 | O31: 137 | P31: 81 | Q31: 56 | R31: 116 | S31: 1871738 | T31: 136 | U31: 67 | V31: 69 | W31: 208 | X31: 109 | Y31: 99 | Z31: 763 | AA31: 8247358 | AB31: 134 | AC31: 58 | AD31: 76 | AE31: 343 | AF31: 155 | AG31: 188 | AH31: 856 | AI31: 2497914
B32: 原住民 | C32: Indigenous | D32: 444 | E32: 237 | F32: 207 | G32: 539 | H32: 284 | I32: 255 | J32: 2766 | K32: 6654357 | L32: 0 | M32: 0 | N32: 0 | O32: 0 | P32: 0 | Q32: 0 | R32: 0 | S32: 0 | T32: 8 | U32: 4 | V32: 4 | W32: 15 | X32: 5 | Y32: 10 | Z32: 60 | AA32: 511775 | AB32: 14 | AC32: 6 | AD32: 8 | AE32: 34 | AF32: 15 | AG32: 19 | AH32: 108 | AI32: 275427
A33: 宜蘭縣 | B33: 計 | C33: Total | D33: 1455 | E33: 713 | F33: 742 | G33: 1556 | H33: 781 | I33: 775 | J33: 8237 | K33: 18096689 | L33: 5 | M33: 3 | N33: 2 | O33: 11 | P33: 7 | Q33: 4 | R33: 5 | S33: 294393 | T33: 17 | U33: 3 | V33: 14 | W33: 17 | X33: 3 | Y33: 14 | Z33: 72 | AA33: 681000 | AB33: 5 | AC33: 3 | AD33: 2 | AE33: 5 | AF33: 3 | AG33: 2 | AH33: 12 | AI33: 36000
A34: Yilan County | B34: 一般 | C34: General | D34: 1145 | E34: 556 | F34: 589 | G34: 1237 | H34: 616 | I34: 621 | J34: 6528 | K34: 14342016 | L34: 5 | M34: 3 | N34: 2 | O34: 11 | P34: 7 | Q34: 4 | R34: 5 | S34: 294393 | T34: 14 | U34: 2 | V34: 12 | W34: 14 | X34: 2 | Y34: 12 | Z34: 54 | AA34: 543000 | AB34: 5 | AC34: 3 | AD34: 2 | AE34: 5 | AF34: 3 | AG34: 2 | AH34: 12 | AI34: 36000
B35: 原住民 | C35: Indigenous | D35: 310 | E35: 157 | F35: 153 | G35: 319 | H35: 165 | I35: 154 | J35: 1709 | K35: 3754673 | L35: 0 | M35: 0 | N35: 0 | O35: 0 | P35: 0 | Q35: 0 | R35: 0 | S35: 0 | T35: 3 | U35: 1 | V35: 2 | W35: 3 | X35: 1 | Y35: 2 | Z35: 18 | AA35: 138000 | AB35: 0 | AC35: 0 | AD35: 0 | AE35: 0 | AF35: 0 | AG35: 0 | AH35: 0 | AI35: 0
A36: 新竹縣 | B36: 計 | C36: Total | D36: 1364 | E36: 699 | F36: 665 | G36: 1408 | H36: 730 | I36: 678 | J36: 7681 | K36: 16765307 | L36: 11 | M36: 9 | N36: 2 | O36: 22 | P36: 18 | Q36: 4 | R36: 14 | S36: 326061 | T36: 37 | U36: 22 | V36: 15 | W36: 168 | X36: 75 | Y36: 93 | Z36: 145 | AA36: 1975000 | AB36: 71 | AC36: 39 | AD36: 32 | AE36: 161 | AF36: 80 | AG36: 81 | AH36: 423 | AI36: 1191314
A37: Hsinchu County | B37: 一般 | C37: General | D37: 974 | E37: 504 | F37: 470 | G37: 997 | H37: 527 | I37: 470 | J37: 5477 | K37: 11940695 | L37: 7 | M37: 6 | N37: 1 | O37: 14 | P37: 11 | Q37: 3 | R37: 9 | S37: 181218 | T37: 34 | U37: 21 | V37: 13 | W37: 75 | X37: 35 | Y37: 40 | Z37: 128 | AA37: 1758000 | AB37: 47 | AC37: 24 | AD37: 23 | AE37: 97 | AF37: 43 | AG37: 54 | AH37: 268 | AI37: 783776
B38: 原住民 | C38: Indigenous | D38: 390 | E38: 195 | F38: 195 | G38: 411 | H38: 203 | I38: 208 | J38: 2204 | K38: 4824612 | L38: 4 | M38: 3 | N38: 1 | O38: 8 | P38: 7 | Q38: 1 | R38: 5 | S38: 144843 | T38: 3 | U38: 1 | V38: 2 | W38: 93 | X38: 40 | Y38: 53 | Z38: 17 | AA38: 217000 | AB38: 24 | AC38: 15 | AD38: 9 | AE38: 64 | AF38: 37 | AG38: 27 | AH38: 155 | AI38: 407538
A39: 苗栗縣 | B39: 計 | C39: Total | D39: 1243 | E39: 618 | F39: 625 | G39: 1451 | H39: 715 | I39: 736 | J39: 7435 | K39: 16334695 | L39: 30 | M39: 14 | N39: 16 | O39: 66 | P39: 38 | Q39: 28 | R39: 248 | S39: 525876 | T39: 16 | U39: 10 | V39: 6 | W39: 22 | X39: 16 | Y39: 6 | Z39: 82 | AA39: 1139550 | AB39: 48 | AC39: 27 | AD39: 21 | AE39: 57 | AF39: 29 | AG39: 28 | AH39: 238 | AI39: 71400
A40: Miaoli County | B40: 一般 | C40: General | D40: 1035 | E40: 504 | F40: 531 | G40: 1213 | H40: 581 | I40: 632 | J40: 6218 | K40: 13660946 | L40: 30 | M40: 14 | N40: 16 | O40: 66 | P40: 38 | Q40: 28 | R40: 248 | S40: 525876 | T40: 16 | U40: 10 | V40: 6 | W40: 22 | X40: 16 | Y40: 6 | Z40: 82 | AA40: 1139550 | AB40: 48 | AC40: 27 | AD40: 21 | AE40: 54 | AF40: 29 | AG40: 25 | AH40: 238 | AI40: 71400
B41: 原住民 | C41: Indigenous | D41: 208 | E41: 114 | F41: 94 | G41: 238 | H41: 134 | I41: 104 | J41: 1217 | K41: 2673749 | L41: 0 | M41: 0 | N41: 0 | O41: 0 | P41: 0 | Q41: 0 | R41: 0 | S41: 0 | T41: 0 | U41: 0 | V41: 0 | W41: 0 | X41: 0 | Y41: 0 | Z41: 0 | AA41: 0 | AB41: 0 | AC41: 0 | AD41: 0 | AE41: 3 | AF41: 0 | AG41: 3 | AH41: 0 | AI41: 0
A42: 彰化縣 | B42: 計 | C42: Total | D42: 5329 | E42: 2713 | F42: 2616 | G42: 6257 | H42: 3168 | I42: 3089 | J42: 32168 | K42: 70594004 | L42: 21 | M42: 11 | N42: 10 | O42: 162 | P42: 92 | Q42: 70 | R42: 86 | S42: 1884525 | T42: 125 | U42: 67 | V42: 58 | W42: 200 | X42: 111 | Y42: 89 | Z42: 725 | AA42: 9063552 | AB42: 26 | AC42: 14 | AD42: 12 | AE42: 105 | AF42: 56 | AG42: 49 | AH42: 197 | AI42: 561000
A43: Changhua County | B43: 一般 | C43: General | D43: 5140 | E43: 2636 | F43: 2504 | G43: 6043 | H43: 3076 | I43: 2967 | J43: 31044 | K43: 68124576 | L43: 21 | M43: 11 | N43: 10 | O43: 162 | P43: 92 | Q43: 70 | R43: 86 | S43: 1884525 | T43: 125 | U43: 67 | V43: 58 | W43: 200 | X43: 111 | Y43: 89 | Z43: 725 | AA43: 9063552 | AB43: 26 | AC43: 14 | AD43: 12 | AE43: 103 | AF43: 54 | AG43: 49 | AH43: 194 | AI43: 552000
B44: 原住民 | C44: Indigenous | D44: 189 | E44: 77 | F44: 112 | G44: 214 | H44: 92 | I44: 122 | J44: 1124 | K44: 2469428 | L44: 0 | M44: 0 | N44: 0 | O44: 0 | P44: 0 | Q44: 0 | R44: 0 | S44: 0 | T44: 0 | U44: 0 | V44: 0 | W44: 0 | X44: 0 | Y44: 0 | Z44: 0 | AA44: 0 | AB44: 0 | AC44: 0 | AD44: 0 | AE44: 2 | AF44: 2 | AG44: 0 | AH44: 3 | AI44: 9000
A45: 南投縣 | B45: 計 | C45: Total | D45: 1273 | E45: 654 | F45: 619 | G45: 1435 | H45: 749 | I45: 686 | J45: 7646 | K45: 16776292 | L45: 5 | M45: 3 | N45: 2 | O45: 43 | P45: 21 | Q45: 22 | R45: 22 | S45: 1026681 | T45: 2 | U45: 0 | V45: 2 | W45: 2 | X45: 0 | Y45: 2 | Z45: 21 | AA45: 272600 | AB45: 1 | AC45: 0 | AD45: 1 | AE45: 15 | AF45: 10 | AG45: 5 | AH45: 22 | AI45: 66000
A46: Nantou County | B46: 一般 | C46: General | D46: 1018 | E46: 522 | F46: 496 | G46: 1148 | H46: 597 | I46: 551 | J46: 6078 | K46: 13331396 | L46: 5 | M46: 3 | N46: 2 | O46: 42 | P46: 20 | Q46: 22 | R46: 21 | S46: 1024948 | T46: 2 | U46: 0 | V46: 2 | W46: 2 | X46: 0 | Y46: 2 | Z46: 21 | AA46: 272600 | AB46: 1 | AC46: 0 | AD46: 1 | AE46: 15 | AF46: 10 | AG46: 5 | AH46: 22 | AI46: 66000
B47: 原住民 | C47: Indigenous | D47: 255 | E47: 132 | F47: 123 | G47: 287 | H47: 152 | I47: 135 | J47: 1568 | K47: 3444896 | L47: 0 | M47: 0 | N47: 0 | O47: 1 | P47: 1 | Q47: 0 | R47: 1 | S47: 1733 | T47: 0 | U47: 0 | V47: 0 | W47: 0 | X47: 0 | Y47: 0 | Z47: 0 | AA47: 0 | AB47: 0 | AC47: 0 | AD47: 0 | AE47: 0 | AF47: 0 | AG47: 0 | AH47: 0 | AI47: 0
A48: 雲林縣 | B48: 計 | C48: Total | D48: 2107 | E48: 1048 | F48: 1059 | G48: 2534 | H48: 1266 | I48: 1268 | J48: 12773 | K48: 28062281 | L48: 9 | M48: 6 | N48: 3 | O48: 424 | P48: 243 | Q48: 181 | R48: 247 | S48: 4182489 | T48: 35 | U48: 19 | V48: 16 | W48: 84 | X48: 44 | Y48: 40 | Z48: 189 | AA48: 2262535 | AB48: 21 | AC48: 8 | AD48: 13 | AE48: 243 | AF48: 119 | AG48: 124 | AH48: 118 | AI48: 354000
A49: Yunlin County | B49: 一般 | C49: General | D49: 2062 | E49: 1028 | F49: 1034 | G49: 2482 | H49: 1241 | I49: 1241 | J49: 12728 | K49: 27963416 | L49: 9 | M49: 6 | N49: 3 | O49: 424 | P49: 243 | Q49: 181 | R49: 247 | S49: 4182489 | T49: 35 | U49: 19 | V49: 16 | W49: 84 | X49: 44 | Y49: 40 | Z49: 189 | AA49: 2262535 | AB49: 21 | AC49: 8 | AD49: 13 | AE49: 243 | AF49: 119 | AG49: 124 | AH49: 118 | AI49: 354000
B50: 原住民 | C50: Indigenous | D50: 45 | E50: 20 | F50: 25 | G50: 52 | H50: 25 | I50: 27 | J50: 45 | K50: 98865 | L50: 0 | M50: 0 | N50: 0 | O50: 0 | P50: 0 | Q50: 0 | R50: 0 | S50: 0 | T50: 0 | U50: 0 | V50: 0 | W50: 0 | X50: 0 | Y50: 0 | Z50: 0 | AA50: 0 | AB50: 0 | AC50: 0 | AD50: 0 | AE50: 0 | AF50: 0 | AG50: 0 | AH50: 0 | AI50: 0
A51: 嘉義縣 | B51: 計 | C51: Total | D51: 2575 | E51: 1299 | F51: 1276 | G51: 3012 | H51: 1521 | I51: 1491 | J51: 15642 | K51: 34365471 | L51: 2 | M51: 0 | N51: 2 | O51: 24 | P51: 10 | Q51: 14 | R51: 7 | S51: 192075 | T51: 18 | U51: 10 | V51: 8 | W51: 29 | X51: 16 | Y51: 13 | Z51: 77 | AA51: 1061800 | AB51: 24 | AC51: 13 | AD51: 11 | AE51: 60 | AF51: 30 | AG51: 30 | AH51: 133 | AI51: 399000
A52: Chiayi County | B52: 一般 | C52: General | D52: 2471 | E52: 1249 | F52: 1222 | G52: 2892 | H52: 1464 | I52: 1428 | J52: 15027 | K52: 33014316 | L52: 2 | M52: 0 | N52: 2 | O52: 24 | P52: 10 | Q52: 14 | R52: 7 | S52: 192075 | T52: 18 | U52: 10 | V52: 8 | W52: 29 | X52: 16 | Y52: 13 | Z52: 77 | AA52: 1061800 | AB52: 22 | AC52: 13 | AD52: 9 | AE52: 57 | AF52: 30 | AG52: 27 | AH52: 125 | AI52: 375000
B53: 原住民 | C53: Indigenous | D53: 104 | E53: 50 | F53: 54 | G53: 120 | H53: 57 | I53: 63 | J53: 615 | K53: 1351155 | L53: 0 | M53: 0 | N53: 0 | O53: 0 | P53: 0 | Q53: 0 | R53: 0 | S53: 0 | T53: 0 | U53: 0 | V53: 0 | W53: 0 | X53: 0 | Y53: 0 | Z53: 0 | AA53: 0 | AB53: 2 | AC53: 0 | AD53: 2 | AE53: 3 | AF53: 0 | AG53: 3 | AH53: 8 | AI53: 24000
A54: 屏東縣 | B54: 計 | C54: Total | D54: 3086 | E54: 1555 | F54: 1531 | G54: 3665 | H54: 1832 | I54: 1833 | J54: 18438 | K54: 40445620 | L54: 3 | M54: 2 | N54: 1 | O54: 9 | P54: 7 | Q54: 2 | R54: 3 | S54: 380354 | T54: 46 | U54: 22 | V54: 24 | W54: 92 | X54: 47 | Y54: 45 | Z54: 294 | AA54: 3458258 | AB54: 0 | AC54: 0 | AD54: 0 | AE54: 2 | AF54: 2 | AG54: 0 | AH54: 0 | AI54: 0
A55: Pingtung County | B55: 一般 | C55: General | D55: 2467 | E55: 1223 | F55: 1244 | G55: 2939 | H55: 1450 | I55: 1489 | J55: 14721 | K55: 32320757 | L55: 3 | M55: 2 | N55: 1 | O55: 9 | P55: 7 | Q55: 2 | R55: 3 | S55: 380354 | T55: 38 | U55: 19 | V55: 19 | W55: 83 | X55: 44 | Y55: 39 | Z55: 250 | AA55: 2893908 | AB55: 0 | AC55: 0 | AD55: 0 | AE55: 2 | AF55: 2 | AG55: 0 | AH55: 0 | AI55: 0
B56: 原住民 | C56: Indigenous | D56: 619 | E56: 332 | F56: 287 | G56: 726 | H56: 382 | I56: 344 | J56: 3717 | K56: 8124863 | L56: 0 | M56: 0 | N56: 0 | O56: 0 | P56: 0 | Q56: 0 | R56: 0 | S56: 0 | T56: 8 | U56: 3 | V56: 5 | W56: 9 | X56: 3 | Y56: 6 | Z56: 44 | AA56: 564350 | AB56: 0 | AC56: 0 | AD56: 0 | AE56: 0 | AF56: 0 | AG56: 0 | AH56: 0 | AI56: 0
A57: 臺東縣 | B57: 計 | C57: Total | D57: 1745 | E57: 900 | F57: 845 | G57: 2102 | H57: 1090 | I57: 1012 | J57: 10536 | K57: 25587316 | L57: 4 | M57: 2 | N57: 2 | O57: 27 | P57: 19 | Q57: 8 | R57: 17 | S57: 524784 | T57: 22 | U57: 9 | V57: 13 | W57: 34 | X57: 17 | Y57: 17 | Z57: 132 | AA57: 1398736 | AB57: 34 | AC57: 18 | AD57: 16 | AE57: 88 | AF57: 45 | AG57: 43 | AH57: 194 | AI57: 560139
A58: Taitung County | B58: 一般 | C58: General | D58: 529 | E58: 271 | F58: 258 | G58: 640 | H58: 329 | I58: 311 | J58: 3220 | K58: 7821380 | L58: 2 | M58: 0 | N58: 2 | O58: 9 | P58: 6 | Q58: 3 | R58: 3 | S58: 37006 | T58: 10 | U58: 3 | V58: 7 | W58: 12 | X58: 5 | Y58: 7 | Z58: 55 | AA58: 686212 | AB58: 9 | AC58: 5 | AD58: 4 | AE58: 17 | AF58: 8 | AG58: 9 | AH58: 34 | AI58: 84997
B59: 原住民 | C59: Indigenous | D59: 1216 | E59: 629 | F59: 587 | G59: 1462 | H59: 761 | I59: 701 | J59: 7316 | K59: 17765936 | L59: 2 | M59: 2 | N59: 0 | O59: 18 | P59: 13 | Q59: 5 | R59: 14 | S59: 487778 | T59: 12 | U59: 6 | V59: 6 | W59: 22 | X59: 12 | Y59: 10 | Z59: 77 | AA59: 712524 | AB59: 25 | AC59: 13 | AD59: 12 | AE59: 71 | AF59: 37 | AG59: 34 | AH59: 160 | AI59: 475142
A60: 花蓮縣 | B60: 計 | C60: Total | D60: 2437 | E60: 1241 | F60: 1196 | G60: 2868 | H60: 1468 | I60: 1400 | J60: 14516 | K60: 35259364 | L60: 5 | M60: 0 | N60: 5 | O60: 55 | P60: 31 | Q60: 24 | R60: 31 | S60: 188602 | T60: 0 | U60: 0 | V60: 0 | W60: 16 | X60: 8 | Y60: 8 | Z60: 15 | AA60: 196540 | AB60: 8 | AC60: 4 | AD60: 4 | AE60: 38 | AF60: 22 | AG60: 16 | AH60: 82 | AI60: 231426
A61: Hualien County | B61: 一般 | C61: General | D61: 881 | E61: 458 | F61: 423 | G61: 1034 | H61: 536 | I61: 498 | J61: 5259 | K61: 12774111 | L61: 1 | M61: 0 | N61: 1 | O61: 29 | P61: 18 | Q61: 11 | R61: 22 | S61: 105618 | T61: 0 | U61: 0 | V61: 0 | W61: 9 | X61: 5 | Y61: 4 | Z61: 10 | AA61: 155370 | AB61: 4 | AC61: 3 | AD61: 1 | AE61: 22 | AF61: 17 | AG61: 5 | AH61: 41 | AI61: 123000
B62: 原住民 | C62: Indigenous | D62: 1556 | E62: 783 | F62: 773 | G62: 1834 | H62: 932 | I62: 902 | J62: 9257 | K62: 22485253 | L62: 4 | M62: 0 | N62: 4 | O62: 26 | P62: 13 | Q62: 13 | R62: 9 | S62: 82984 | T62: 0 | U62: 0 | V62: 0 | W62: 7 | X62: 3 | Y62: 4 | Z62: 5 | AA62: 41170 | AB62: 4 | AC62: 1 | AD62: 3 | AE62: 16 | AF62: 5 | AG62: 11 | AH62: 41 | AI62: 108426
A63: 澎湖縣 | B63: 計 | C63: Total | D63: 204 | E63: 100 | F63: 104 | G63: 204 | H63: 100 | I63: 104 | J63: 219 | K63: 481143 | L63: 1 | M63: 0 | N63: 1 | O63: 12 | P63: 1 | Q63: 11 | R63: 6 | S63: 373701 | T63: 0 | U63: 0 | V63: 0 | W63: 5 | X63: 2 | Y63: 3 | Z63: 1 | AA63: 2300 | AB63: 0 | AC63: 0 | AD63: 0 | AE63: 0 | AF63: 0 | AG63: 0 | AH63: 0 | AI63: 0
A64: Penghu County | B64: 一般 | C64: General | D64: 204 | E64: 100 | F64: 104 | G64: 204 | H64: 100 | I64: 104 | J64: 219 | K64: 481143 | L64: 1 | M64: 0 | N64: 1 | O64: 12 | P64: 1 | Q64: 11 | R64: 6 | S64: 373701 | T64: 0 | U64: 0 | V64: 0 | W64: 5 | X64: 2 | Y64: 3 | Z64: 1 | AA64: 2300 | AB64: 0 | AC64: 0 | AD64: 0 | AE64: 0 | AF64: 0 | AG64: 0 | AH64: 0 | AI64: 0
B65: 原住民 | C65: Indigenous | D65: 0 | E65: 0 | F65: 0 | G65: 0 | H65: 0 | I65: 0 | J65: 0 | K65: 0 | L65: 0 | M65: 0 | N65: 0 | O65: 0 | P65: 0 | Q65: 0 | R65: 0 | S65: 0 | T65: 0 | U65: 0 | V65: 0 | W65: 0 | X65: 0 | Y65: 0 | Z65: 0 | AA65: 0 | AB65: 0 | AC65: 0 | AD65: 0 | AE65: 0 | AF65: 0 | AG65: 0 | AH65: 0 | AI65: 0
A66: 基隆市 | B66: 計 | C66: Total | D66: 1255 | E66: 633 | F66: 622 | G66: 1730 | H66: 861 | I66: 869 | J66: 7415 | K66: 16290755 | L66: 0 | M66: 0 | N66: 0 | O66: 9 | P66: 2 | Q66: 7 | R66: 7 | S66: 216628 | T66: 2 | U66: 0 | V66: 2 | W66: 16 | X66: 8 | Y66: 8 | Z66: 77 | AA66: 1098260 | AB66: 0 | AC66: 0 | AD66: 0 | AE66: 3 | AF66: 2 | AG66: 1 | AH66: 8 | AI66: 15212
A67: Keelung City | B67: 一般 | C67: General | D67: 1096 | E67: 559 | F67: 537 | G67: 1479 | H67: 743 | I67: 736 | J67: 6504 | K67: 14289288 | L67: 0 | M67: 0 | N67: 0 | O67: 9 | P67: 2 | Q67: 7 | R67: 7 | S67: 216628 | T67: 2 | U67: 0 | V67: 2 | W67: 16 | X67: 8 | Y67: 8 | Z67: 77 | AA67: 1098260 | AB67: 0 | AC67: 0 | AD67: 0 | AE67: 3 | AF67: 2 | AG67: 1 | AH67: 8 | AI67: 15212
B68: 原住民 | C68: Indigenous | D68: 159 | E68: 74 | F68: 85 | G68: 251 | H68: 118 | I68: 133 | J68: 911 | K68: 2001467 | L68: 0 | M68: 0 | N68: 0 | O68: 0 | P68: 0 | Q68: 0 | R68: 0 | S68: 0 | T68: 0 | U68: 0 | V68: 0 | W68: 0 | X68: 0 | Y68: 0 | Z68: 0 | AA68: 0 | AB68: 0 | AC68: 0 | AD68: 0 | AE68: 0 | AF68: 0 | AG68: 0 | AH68: 0 | AI68: 0
A69: 新竹市 | B69: 計 | C69: Total | D69: 643 | E69: 312 | F69: 331 | G69: 779 | H69: 387 | I69: 392 | J69: 4040 | K69: 8875880 | L69: 0 | M69: 0 | N69: 0 | O69: 15 | P69: 8 | Q69: 7 | R69: 3 | S69: 55115 | T69: 23 | U69: 12 | V69: 11 | W69: 45 | X69: 26 | Y69: 19 | Z69: 120 | AA69: 1752000 | AB69: 2 | AC69: 1 | AD69: 1 | AE69: 10 | AF69: 6 | AG69: 4 | AH69: 13 | AI69: 39000
A70: Hsinchu City | B70: 一般 | C70: General | D70: 585 | E70: 287 | F70: 298 | G70: 705 | H70: 354 | I70: 351 | J70: 3689 | K70: 8104733 | L70: 0 | M70: 0 | N70: 0 | O70: 14 | P70: 7 | Q70: 7 | R70: 3 | S70: 55115 | T70: 23 | U70: 12 | V70: 11 | W70: 45 | X70: 26 | Y70: 19 | Z70: 120 | AA70: 1752000 | AB70: 2 | AC70: 1 | AD70: 1 | AE70: 7 | AF70: 4 | AG70: 3 | AH70: 7 | AI70: 21000
B71: 原住民 | C71: Indigenous | D71: 58 | E71: 25 | F71: 33 | G71: 74 | H71: 33 | I71: 41 | J71: 351 | K71: 771147 | L71: 0 | M71: 0 | N71: 0 | O71: 1 | P71: 1 | Q71: 0 | R71: 0 | S71: 0 | T71: 0 | U71: 0 | V71: 0 | W71: 0 | X71: 0 | Y71: 0 | Z71: 0 | AA71: 0 | AB71: 0 | AC71: 0 | AD71: 0 | AE71: 3 | AF71: 2 | AG71: 1 | AH71: 6 | AI71: 18000
A72: 嘉義市 | B72: 計 | C72: Total | D72: 1238 | E72: 644 | F72: 594 | G72: 1327 | H72: 678 | I72: 649 | J72: 6737 | K72: 14801611 | L72: 0 | M72: 0 | N72: 0 | O72: 54 | P72: 23 | Q72: 31 | R72: 50 | S72: 1025718 | T72: 15 | U72: 11 | V72: 4 | W72: 26 | X72: 16 | Y72: 10 | Z72: 98 | AA72: 1252506 | AB72: 0 | AC72: 0 | AD72: 0 | AE72: 10 | AF72: 6 | AG72: 4 | AH72: 46 | AI72: 138000
A73: Chiayi City | B73: 一般 | C73: General | D73: 1211 | E73: 633 | F73: 578 | G73: 1300 | H73: 667 | I73: 633 | J73: 6576 | K73: 14447894 | L73: 0 | M73: 0 | N73: 0 | O73: 54 | P73: 23 | Q73: 31 | R73: 50 | S73: 1025718 | T73: 15 | U73: 11 | V73: 4 | W73: 26 | X73: 16 | Y73: 10 | Z73: 98 | AA73: 1252506 | AB73: 0 | AC73: 0 | AD73: 0 | AE73: 10 | AF73: 6 | AG73: 4 | AH73: 46 | AI73: 138000
B74: 原住民 | C74: Indigenous | D74: 27 | E74: 11 | F74: 16 | G74: 27 | H74: 11 | I74: 16 | J74: 161 | K74: 353717 | L74: 0 | M74: 0 | N74: 0 | O74: 0 | P74: 0 | Q74: 0 | R74: 0 | S74: 0 | T74: 0 | U74: 0 | V74: 0 | W74: 0 | X74: 0 | Y74: 0 | Z74: 0 | AA74: 0 | AB74: 0 | AC74: 0 | AD74: 0 | AE74: 0 | AF74: 0 | AG74: 0 | AH74: 0 | AI74: 0
A75: 金門縣 | B75: 計 | C75: Total | D75: 109 | E75: 55 | F75: 54 | G75: 117 | H75: 58 | I75: 59 | J75: 610 | K75: 1340170 | L75: 10 | M75: 6 | N75: 4 | O75: 17 | P75: 10 | Q75: 7 | R75: 15 | S75: 1480935 | T75: 4 | U75: 3 | V75: 1 | W75: 6 | X75: 4 | Y75: 2 | Z75: 22 | AA75: 212000 | AB75: 1 | AC75: 0 | AD75: 1 | AE75: 4 | AF75: 1 | AG75: 3 | AH75: 10 | AI75: 30000
A76: Kinmen County | B76: 一般 | C76: General | D76: 107 | E76: 54 | F76: 53 | G76: 114 | H76: 57 | I76: 57 | J76: 598 | K76: 1313806 | L76: 10 | M76: 6 | N76: 4 | O76: 17 | P76: 10 | Q76: 7 | R76: 15 | S76: 1480935 | T76: 4 | U76: 3 | V76: 1 | W76: 6 | X76: 4 | Y76: 2 | Z76: 22 | AA76: 212000 | AB76: 1 | AC76: 0 | AD76: 1 | AE76: 4 | AF76: 1 | AG76: 3 | AH76: 10 | AI76: 30000
B77: 原住民 | C77: Indigenous | D77: 2 | E77: 1 | F77: 1 | G77: 3 | H77: 1 | I77: 2 | J77: 12 | K77: 26364 | L77: 0 | M77: 0 | N77: 0 | O77: 0 | P77: 0 | Q77: 0 | R77: 0 | S77: 0 | T77: 0 | U77: 0 | V77: 0 | W77: 0 | X77: 0 | Y77: 0 | Z77: 0 | AA77: 0 | AB77: 0 | AC77: 0 | AD77: 0 | AE77: 0 | AF77: 0 | AG77: 0 | AH77: 0 | AI77: 0
A78: 連江縣 | B78: 計 | C78: Total | D78: 15 | E78: 1 | F78: 14 | G78: 15 | H78: 1 | I78: 14 | J78: 25 | K78: 57825 | L78: 1 | M78: 0 | N78: 1 | O78: 2 | P78: 0 | Q78: 2 | R78: 1 | S78: 37951 | T78: 0 | U78: 0 | V78: 0 | W78: 0 | X78: 0 | Y78: 0 | Z78: 0 | AA78: 0 | AB78: 2 | AC78: 1 | AD78: 1 | AE78: 3 | AF78: 2 | AG78: 1 | AH78: 6 | AI78: 18000
A79: Lienchiang County | B79: 一般 | C79: General | D79: 5 | E79: 1 | F79: 4 | G79: 5 | H79: 1 | I79: 4 | J79: 15 | K79: 34695 | L79: 1 | M79: 0 | N79: 1 | O79: 2 | P79: 0 | Q79: 2 | R79: 1 | S79: 37951 | T79: 0 | U79: 0 | V79: 0 | W79: 0 | X79: 0 | Y79: 0 | Z79: 0 | AA79: 0 | AB79: 2 | AC79: 1 | AD79: 1 | AE79: 3 | AF79: 2 | AG79: 1 | AH79: 6 | AI79: 18000
B80: 原住民 | C80: Indigenous | D80: 10 | E80: 0 | F80: 10 | G80: 10 | H80: 0 | I80: 10 | J80: 10 | K80: 23130 | L80: 0 | M80: 0 | N80: 0 | O80: 0 | P80: 0 | Q80: 0 | R80: 0 | S80: 0 | T80: 0 | U80: 0 | V80: 0 | W80: 0 | X80: 0 | Y80: 0 | Z80: 0 | AA80: 0 | AB80: 0 | AC80: 0 | AD80: 0 | AE80: 0 | AF80: 0 | AG80: 0 | AH80: 0 | AI80: 0
A81: 資料來源：各直轄市、縣市政府。
A82: Source: County and Government.
A83: 更新日期：2026/05/20
A85: 總計 | B85: 計 | C85: Total | D85: 76125 | E85: 38605 | F85: 37520 | G85: 87640 | H85: 44459 | I85: 43181 | J85: 461545 | K85: 1037428861 | L85: 6238 | M85: 4107 | N85: 2131 | O85: 12099 | P85: 7464 | Q85: 4635 | R85: 14719 | S85: 123896655 | T85: 1408 | U85: 788 | V85: 620 | W85: 2844 | X85: 1600 | Y85: 1244 | Z85: 8753 | AA85: 102627003 | AB85: 591 | AC85: 295 | AD85: 296 | AE85: 2074 | AF85: 1045 | AG85: 1029 | AH85: 4485 | AI85: 12524816
A86: Total | B86: 一般 | C86: General | D86: 67871 | E86: 34443 | F86: 33428 | G86: 77960 | H86: 39559 | I86: 38401 | J86: 412403 | K86: 924533197 | L86: 6197 | M86: 4084 | N86: 2113 | O86: 11979 | P86: 7382 | Q86: 4597 | R86: 14594 | S86: 122247018 | T86: 1374 | U86: 773 | V86: 601 | W86: 2695 | X86: 1536 | Y86: 1159 | Z86: 8532 | AA86: 100442184 | AB86: 513 | AC86: 257 | AD86: 256 | AE86: 1845 | AF86: 934 | AG86: 911 | AH86: 3947 | AI86: 11036283
B87: 原住民 | C87: Indigenous | D87: 8254 | E87: 4162 | F87: 4092 | G87: 9680 | H87: 4900 | I87: 4780 | J87: 49142 | K87: 112895664 | L87: 41 | M87: 23 | N87: 18 | O87: 120 | P87: 82 | Q87: 38 | R87: 125 | S87: 1649637 | T87: 34 | U87: 15 | V87: 19 | W87: 149 | X87: 64 | Y87: 85 | Z87: 221 | AA87: 2184819 | AB87: 78 | AC87: 38 | AD87: 40 | AE87: 229 | AF87: 111 | AG87: 118 | AH87: 538 | AI87: 1488533
A88: 新北市 | B88: 計 | C88: Total | D88: 20668 | E88: 10541 | F88: 10127 | G88: 22070 | H88: 11255 | I88: 10815 | J88: 127019 | K88: 281324298 | L88: 3063 | M88: 1869 | N88: 1194 | O88: 3777 | P88: 2262 | Q88: 1515 | R88: 3777 | S88: 24528937 | T88: 177 | U88: 100 | V88: 77 | W88: 278 | X88: 165 | Y88: 113 | Z88: 1006 | AA88: 11211311 | AB88: 72 | AC88: 35 | AD88: 37 | AE88: 175 | AF88: 90 | AG88: 85 | AH88: 472 | AI88: 1402702
A89: New Taipei City | B89: 一般 | C89: General | D89: 19635 | E89: 10014 | F89: 9621 | G89: 20966 | H89: 10692 | I89: 10274 | J89: 120668 | K89: 267258083 | L89: 3063 | M89: 1869 | N89: 1194 | O89: 3777 | P89: 2262 | Q89: 1515 | R89: 3777 | S89: 24528937 | T89: 177 | U89: 100 | V89: 77 | W89: 278 | X89: 165 | Y89: 113 | Z89: 1006 | AA89: 11211311 | AB89: 72 | AC89: 35 | AD89: 37 | AE89: 175 | AF89: 90 | AG89: 85 | AH89: 472 | AI89: 1402702
B90: 原住民 | C90: Indigenous | D90: 1033 | E90: 527 | F90: 506 | G90: 1104 | H90: 563 | I90: 541 | J90: 6351 | K90: 14066215 | L90: 0 | M90: 0 | N90: 0 | O90: 0 | P90: 0 | Q90: 0 | R90: 0 | S90: 0 | T90: 0 | U90: 0 | V90: 0 | W90: 0 | X90: 0 | Y90: 0 | Z90: 0 | AA90: 0 | AB90: 0 | AC90: 0 | AD90: 0 | AE90: 0 | AF90: 0 | AG90: 0 | AH90: 0 | AI90: 0
A91: 臺北市 | B91: 計 | C91: Total | D91: 0 | E91: 0 | F91: 0 | G91: 0 | H91: 0 | I91: 0 | J91: 0 | K91: 0 | L91: 22 | M91: 17 | N91: 5 | O91: 376 | P91: 260 | Q91: 116 | R91: 407 | S91: 8475338 | T91: 149 | U91: 90 | V91: 59 | W91: 253 | X91: 148 | Y91: 105 | Z91: 969 | AA91: 11582500 | AB91: 26 | AC91: 11 | AD91: 15 | AE91: 425 | AF91: 221 | AG91: 204 | AH91: 931 | AI91: 2790282
A92: Taipei City | B92: 一般 | C92: General | D92: 0 | E92: 0 | F92: 0 | G92: 0 | H92: 0 | I92: 0 | J92: 0 | K92: 0 | L92: 22 | M92: 17 | N92: 5 | O92: 371 | P92: 257 | Q92: 114 | R92: 402 | S92: 8378784 | T92: 149 | U92: 90 | V92: 59 | W92: 253 | X92: 148 | Y92: 105 | Z92: 969 | AA92: 11582500 | AB92: 23 | AC92: 11 | AD92: 12 | AE92: 414 | AF92: 215 | AG92: 199 | AH92: 915 | AI92: 2742282
B93: 原住民 | C93: Indigenous | D93: 0 | E93: 0 | F93: 0 | G93: 0 | H93: 0 | I93: 0 | J93: 0 | K93: 0 | L93: 0 | M93: 0 | N93: 0 | O93: 5 | P93: 3 | Q93: 2 | R93: 5 | S93: 96554 | T93: 0 | U93: 0 | V93: 0 | W93: 0 | X93: 0 | Y93: 0 | Z93: 0 | AA93: 0 | AB93: 3 | AC93: 0 | AD93: 3 | AE93: 11 | AF93: 6 | AG93: 5 | AH93: 16 | AI93: 48000
A94: 桃園市 | B94: 計 | C94: Total | D94: 5137 | E94: 2611 | F94: 2526 | G94: 6126 | H94: 3104 | I94: 3022 | J94: 31268 | K94: 72184104 | L94: 330 | M94: 171 | N94: 159 | O94: 3360 | P94: 1816 | Q94: 1544 | R94: 1765 | S94: 8732788 | T94: 36 | U94: 21 | V94: 15 | W94: 317 | X94: 203 | Y94: 114 | Z94: 960 | AA94: 11339190 | AB94: 12 | AC94: 6 | AD94: 6 | AE94: 57 | AF94: 28 | AG94: 29 | AH94: 106 | AI94: 318000
A95: Taoyuan City | B95: 一般 | C95: General | D95: 4493 | E95: 2310 | F95: 2183 | G95: 5322 | H95: 2735 | I95: 2587 | J95: 27500 | K95: 63468720 | L95: 330 | M95: 171 | N95: 159 | O95: 3360 | P95: 1816 | Q95: 1544 | R95: 1765 | S95: 8732788 | T95: 36 | U95: 21 | V95: 15 | W95: 317 | X95: 203 | Y95: 114 | Z95: 960 | AA95: 11339190 | AB95: 11 | AC95: 5 | AD95: 6 | AE95: 48 | AF95: 25 | AG95: 23 | AH95: 88 | AI95: 264000
B96: 原住民 | C96: Indigenous | D96: 644 | E96: 301 | F96: 343 | G96: 804 | H96: 369 | I96: 435 | J96: 3768 | K96: 8715384 | L96: 0 | M96: 0 | N96: 0 | O96: 0 | P96: 0 | Q96: 0 | R96: 0 | S96: 0 | T96: 0 | U96: 0 | V96: 0 | W96: 0 | X96: 0 | Y96: 0 | Z96: 0 | AA96: 0 | AB96: 1 | AC96: 1 | AD96: 0 | AE96: 9 | AF96: 3 | AG96: 6 | AH96: 18 | AI96: 54000
A97: 臺中市 | B97: 計 | C97: Total | D97: 10463 | E97: 5261 | F97: 5202 | G97: 12623 | H97: 6392 | I97: 6231 | J97: 64854 | K97: 142354451 | L97: 2679 | M97: 1973 | N97: 706 | O97: 3467 | P97: 2494 | Q97: 973 | R97: 7899 | S97: 67584753 | T97: 435 | U97: 243 | V97: 192 | W97: 824 | X97: 449 | Y97: 375 | Z97: 2427 | AA97: 27266525 | AB97: 16 | AC97: 7 | AD97: 9 | AE97: 49 | AF97: 23 | AG97: 26 | AH97: 88 | AI97: 264000
A98: Taichung City | B98: 一般 | C98: General | D98: 9650 | E98: 4847 | F98: 4803 | G98: 11624 | H98: 5874 | I98: 5750 | J98: 59812 | K98: 131277177 | L98: 2648 | M98: 1955 | N98: 693 | O98: 3407 | P98: 2453 | Q98: 954 | R98: 7809 | S98: 66820753 | T98: 435 | U98: 243 | V98: 192 | W98: 824 | X98: 449 | Y98: 375 | Z98: 2427 | AA98: 27266525 | AB98: 12 | AC98: 5 | AD98: 7 | AE98: 41 | AF98: 21 | AG98: 20 | AH98: 67 | AI98: 201000
B99: 原住民 | C99: Indigenous | D99: 813 | E99: 414 | F99: 399 | G99: 999 | H99: 518 | I99: 481 | J99: 5042 | K99: 11077274 | L99: 31 | M99: 18 | N99: 13 | O99: 60 | P99: 41 | Q99: 19 | R99: 90 | S99: 764000 | T99: 0 | U99: 0 | V99: 0 | W99: 0 | X99: 0 | Y99: 0 | Z99: 0 | AA99: 0 | AB99: 4 | AC99: 2 | AD99: 2 | AE99: 8 | AF99: 2 | AG99: 6 | AH99: 21 | AI99: 63000
A100: 臺南市 | B100: 計 | C100: Total | D100: 5856 | E100: 2986 | F100: 2870 | G100: 6994 | H100: 3566 | I100: 3428 | J100: 35577 | K100: 78973159 | L100: 7 | M100: 2 | N100: 5 | O100: 91 | P100: 47 | Q100: 44 | R100: 53 | S100: 1164598 | T100: 105 | U100: 75 | V100: 30 | W100: 187 | X100: 128 | Y100: 59 | Z100: 498 | AA100: 6641707 | AB100: 74 | AC100: 44 | AD100: 30 | AE100: 187 | AF100: 100 | AG100: 87 | AH100: 422 | AI100: 1266000
A101: Tainan City | B101: 一般 | C101: General | D101: 5684 | E101: 2903 | F101: 2781 | G101: 6788 | H101: 3466 | I101: 3322 | J101: 34579 | K101: 76759980 | L101: 7 | M101: 2 | N101: 5 | O101: 90 | P101: 46 | Q101: 44 | R101: 52 | S101: 1092853 | T101: 105 | U101: 75 | V101: 30 | W101: 187 | X101: 128 | Y101: 59 | Z101: 498 | AA101: 6641707 | AB101: 73 | AC101: 44 | AD101: 29 | AE101: 182 | AF101: 98 | AG101: 84 | AH101: 420 | AI101: 1260000
B102: 原住民 | C102: Indigenous | D102: 172 | E102: 83 | F102: 89 | G102: 206 | H102: 100 | I102: 106 | J102: 998 | K102: 2213179 | L102: 0 | M102: 0 | N102: 0 | O102: 1 | P102: 1 | Q102: 0 | R102: 1 | S102: 71745 | T102: 0 | U102: 0 | V102: 0 | W102: 0 | X102: 0 | Y102: 0 | Z102: 0 | AA102: 0 | AB102: 1 | AC102: 0 | AD102: 1 | AE102: 5 | AF102: 2 | AG102: 3 | AH102: 2 | AI102: 6000
A103: 高 雄 市 | B103: 計 | C103: Total | D103: 7923 | E103: 4021 | F103: 3902 | G103: 9367 | H103: 4737 | I103: 4630 | J103: 48709 | K103: 118458426 | L103: 30 | M103: 19 | N103: 11 | O103: 137 | P103: 81 | Q103: 56 | R103: 116 | S103: 1871738 | T103: 144 | U103: 71 | V103: 73 | W103: 223 | X103: 114 | Y103: 109 | Z103: 823 | AA103: 8759133 | AB103: 148 | AC103: 64 | AD103: 84 | AE103: 377 | AF103: 170 | AG103: 207 | AH103: 964 | AI103: 2773341
A104: Kaohsiung City | B104: 一般 | C104: General | D104: 7479 | E104: 3784 | F104: 3695 | G104: 8828 | H104: 4453 | I104: 4375 | J104: 45943 | K104: 111804069 | L104: 30 | M104: 19 | N104: 11 | O104: 137 | P104: 81 | Q104: 56 | R104: 116 | S104: 1871738 | T104: 136 | U104: 67 | V104: 69 | W104: 208 | X104: 109 | Y104: 99 | Z104: 763 | AA104: 8247358 | AB104: 134 | AC104: 58 | AD104: 76 | AE104: 343 | AF104: 155 | AG104: 188 | AH104: 856 | AI104: 2497914
B105: 原住民 | C105: Indigenous | D105: 444 | E105: 237 | F105: 207 | G105: 539 | H105: 284 | I105: 255 | J105: 2766 | K105: 6654357 | L105: 0 | M105: 0 | N105: 0 | O105: 0 | P105: 0 | Q105: 0 | R105: 0 | S105: 0 | T105: 8 | U105: 4 | V105: 4 | W105: 15 | X105: 5 | Y105: 10 | Z105: 60 | AA105: 511775 | AB105: 14 | AC105: 6 | AD105: 8 | AE105: 34 | AF105: 15 | AG105: 19 | AH105: 108 | AI105: 275427
A106: 宜蘭縣 | B106: 計 | C106: Total | D106: 1455 | E106: 713 | F106: 742 | G106: 1556 | H106: 781 | I106: 775 | J106: 8237 | K106: 18096689 | L106: 5 | M106: 3 | N106: 2 | O106: 11 | P106: 7 | Q106: 4 | R106: 5 | S106: 294393 | T106: 17 | U106: 3 | V106: 14 | W106: 17 | X106: 3 | Y106: 14 | Z106: 72 | AA106: 681000 | AB106: 5 | AC106: 3 | AD106: 2 | AE106: 5 | AF106: 3 | AG106: 2 | AH106: 12 | AI106: 36000
...

Sheet Jan.-June, 2025
A1: 弱勢兒童及少年扶助概況Overview of Allowances for Disadvantaged Child and Youth
D2: =IF(D13=SUM(D16,D19,D25,D28,D31,D34,D22,D37,D40,D43,D46,D49,D52,D55,D58,D61,D64,D67,D70,D73,D76,D79),"","*") | E2: =IF(E13=SUM(E16,E19,E25,E28,E31,E34,E22,E37,E40,E43,E46,E49,E52,E55,E58,E61,E64,E67,E70,E73,E76,E79),"","*") | F2: =IF(F13=SUM(F16,F19,F25,F28,F31,F34,F22,F37,F40,F43,F46,F49,F52,F55,F58,F61,F64,F67,F70,F73,F76,F79),"","*") | G2: =IF(G13=SUM(G16,G19,G25,G28,G31,G34,G22,G37,G40,G43,G46,G49,G52,G55,G58,G61,G64,G67,G70,G73,G76,G79),"","*") | H2: =IF(H13=SUM(H16,H19,H25,H28,H31,H34,H22,H37,H40,H43,H46,H49,H52,H55,H58,H61,H64,H67,H70,H73,H76,H79),"","*") | I2: =IF(I13=SUM(I16,I19,I25,I28,I31,I34,I22,I37,I40,I43,I46,I49,I52,I55,I58,I61,I64,I67,I70,I73,I76,I79),"","*") | J2: =IF(J13=SUM(J16,J19,J25,J28,J31,J34,J22,J37,J40,J43,J46,J49,J52,J55,J58,J61,J64,J67,J70,J73,J76,J79),"","*") | K2: =IF(K13=SUM(K16,K19,K25,K28,K31,K34,K22,K37,K40,K43,K46,K49,K52,K55,K58,K61,K64,K67,K70,K73,K76,K79),"","*") | ... AI2: =IF(AI13=SUM(AI16,AI19,AI25,AI28,AI31,AI34,AI22,AI37,AI40,AI43,AI46,AI49,AI52,AI55,AI58,AI61,AI64,AI67,AI70,AI73,AI76,AI79),"","*")
A3: 民國114年上半年 Jan.-June, 2025 | D3: =IF(D14=SUM(D17,D20,D26,D29,D32,D35,D23,D38,D41,D44,D47,D50,D53,D56,D59,D62,D65,D68,D71,D74,D77,D80),"","*") | E3: =IF(E14=SUM(E17,E20,E26,E29,E32,E35,E23,E38,E41,E44,E47,E50,E53,E56,E59,E62,E65,E68,E71,E74,E77,E80),"","*") | F3: =IF(F14=SUM(F17,F20,F26,F29,F32,F35,F23,F38,F41,F44,F47,F50,F53,F56,F59,F62,F65,F68,F71,F74,F77,F80),"","*") | G3: =IF(G14=SUM(G17,G20,G26,G29,G32,G35,G23,G38,G41,G44,G47,G50,G53,G56,G59,G62,G65,G68,G71,G74,G77,G80),"","*") | H3: =IF(H14=SUM(H17,H20,H26,H29,H32,H35,H23,H38,H41,H44,H47,H50,H53,H56,H59,H62,H65,H68,H71,H74,H77,H80),"","*") | I3: =IF(I14=SUM(I17,I20,I26,I29,I32,I35,I23,I38,I41,I44,I47,I50,I53,I56,I59,I62,I65,I68,I71,I74,I77,I80),"","*") | J3: =IF(J14=SUM(J17,J20,J26,J29,J32,J35,J23,J38,J41,J44,J47,J50,J53,J56,J59,J62,J65,J68,J71,J74,J77,J80),"","*") | K3: =IF(K14=SUM(K17,K20,K26,K29,K32,K35,K23,K38,K41,K44,K47,K50,K53,K56,K59,K62,K65,K68,K71,K74,K77,K80),"","*") | ... AI3: =IF(AI14=SUM(AI17,AI20,AI26,AI29,AI32,AI35,AI23,AI38,AI41,AI44,AI47,AI50,AI53,AI56,AI59,AI62,AI65,AI68,AI71,AI74,AI77,AI80),"","*")
A4: 區域及特殊族群別 Locality & Ethnos | D4: 弱勢兒童及少年生活扶助 Living Support for Disadvantaged Child and Youth | L4: 弱勢兒童及少年醫療補助 Medical Subsidies for Disadvantaged Child and Youth | T4: 托育補助/津貼 Childcare Subsidies/Allowance for Low-Income Families | AB4: 弱勢兒少緊急生活扶助 Emergency Living Relief to Disadvantaged Child and Youth
D7: 期底人數(人)Persons | G7: 本年累計至期底人數(人) Accumulated to the End of the Current Persons | J7: 人次(月) Person0Times | K7: 金額(元) Amount(NT$) | L7: 期底人數(人)Persons | O7: 本年累計至期底人數(人) Accumulated to the End of the Current Persons | R7: 人次(月) Person0Times | S7: 金額(元) Amount(NT$) | T7: 期底人數(人)Persons | W7: 本年累計至期底人數(人) Accumulated to the End of the Current Persons | Z7: 人次(月) Person0Times | AA7: 金額(元) Amount(NT$) | AB7: 期底人數(人)Persons | AE7: 本年累計至期底人數(人) Accumulated to the End of the Current Persons | AH7: 人次(月) Person0Times | AI7: 金額(元) Amount(NT$)
D9: 計 Total | E9: 男 Male | F9: 女 Female | G9: 計 Total | H9: 男 Male | I9: 女 Female | L9: 計 Total | M9: 男 Male | N9: 女 Female | O9: 計 Total | P9: 男 Male | Q9: 女 Female | T9: 計 Total | U9: 男 Male | V9: 女 Female | W9: 計 Total | X9: 男 Male | Y9: 女 Female | AB9: 計 Total | AC9: 男 Male | AD9: 女 Female | AE9: 計 Total | AF9: 男 Male | AG9: 女 Female
A12: 總計 | B12: 計 | C12: Total | D12: 76366 | E12: 38710 | F12: 37656 | G12: 81480 | H12: 41319 | I12: 40161 | J12: 459911 | K12: 1034675467 | L12: 2950 | M12: 1841 | N12: 1109 | O12: 7988 | P12: 5230 | Q12: 2758 | R12: 8330 | S12: 80934607 | T12: 1469 | U12: 808 | V12: 661 | W12: 1821 | X12: 1015 | Y12: 806 | Z12: 8649 | AA12: 102946552 | AB12: 886 | AC12: 453 | AD12: 433 | AE12: 1414 | AF12: 722 | AG12: 692 | AH12: 5605 | AI12: 16515205
A13: Total | B13: 一般 | C13: General | D13: 68268 | E13: 34615 | F13: 33653 | G13: 72752 | H13: 36907 | I13: 35845 | J13: 412344 | K13: 925359376 | L13: 2940 | M13: 1832 | N13: 1108 | O13: 7925 | P13: 5188 | Q13: 2737 | R13: 8261 | S13: 80160645 | T13: 1354 | U13: 759 | V13: 595 | W13: 1698 | X13: 962 | Y13: 736 | Z13: 8044 | AA13: 96580419 | AB13: 768 | AC13: 390 | AD13: 378 | AE13: 1246 | AF13: 636 | AG13: 610 | AH13: 4824 | AI13: 14188499
B14: 原住民 | C14: Indigenous | D14: 8098 | E14: 4095 | F14: 4003 | G14: 8728 | H14: 4412 | I14: 4316 | J14: 47567 | K14: 109316091 | L14: 10 | M14: 9 | N14: 1 | O14: 63 | P14: 42 | Q14: 21 | R14: 69 | S14: 773962 | T14: 115 | U14: 49 | V14: 66 | W14: 123 | X14: 53 | Y14: 70 | Z14: 605 | AA14: 6366133 | AB14: 118 | AC14: 63 | AD14: 55 | AE14: 168 | AF14: 86 | AG14: 82 | AH14: 781 | AI14: 2326706
A15: 新北市 | B15: 計 | C15: Total | D15: 20662 | E15: 10537 | F15: 10125 | G15: 21890 | H15: 11164 | I15: 10726 | J15: 126161 | K15: 279662689 | L15: 2216 | M15: 1433 | N15: 783 | O15: 3101 | P15: 2073 | Q15: 1028 | R15: 3101 | S15: 18467038 | T15: 163 | U15: 94 | V15: 69 | W15: 184 | X15: 101 | Y15: 83 | Z15: 875 | AA15: 9403872 | AB15: 102 | AC15: 55 | AD15: 47 | AE15: 102 | AF15: 55 | AG15: 47 | AH15: 658 | AI15: 1954111
A16: New Taipei City | B16: 一般 | C16: General | D16: 19629 | E16: 10010 | F16: 9619 | G16: 20796 | H16: 10606 | I16: 10190 | J16: 119853 | K16: 265679555 | L16: 2216 | M16: 1433 | N16: 783 | O16: 3101 | P16: 2073 | Q16: 1028 | R16: 3101 | S16: 18467038 | T16: 163 | U16: 94 | V16: 69 | W16: 184 | X16: 101 | Y16: 83 | Z16: 875 | AA16: 9403872 | AB16: 102 | AC16: 55 | AD16: 47 | AE16: 102 | AF16: 55 | AG16: 47 | AH16: 658 | AI16: 1954111
B17: 原住民 | C17: Indigenous | D17: 1033 | E17: 527 | F17: 506 | G17: 1094 | H17: 558 | I17: 536 | J17: 6308 | K17: 13983134 | L17: 0 | M17: 0 | N17: 0 | O17: 0 | P17: 0 | Q17: 0 | R17: 0 | S17: 0 | T17: 0 | U17: 0 | V17: 0 | W17: 0 | X17: 0 | Y17: 0 | Z17: 0 | AA17: 0 | AB17: 0 | AC17: 0 | AD17: 0 | AE17: 0 | AF17: 0 | AG17: 0 | AH17: 0 | AI17: 0
A18: 臺北市 | B18: 計 | C18: Total | D18: 0 | E18: 0 | F18: 0 | G18: 0 | H18: 0 | I18: 0 | J18: 0 | K18: 0 | L18: 63 | M18: 45 | N18: 18 | O18: 266 | P18: 179 | Q18: 87 | R18: 367 | S18: 8489793 | T18: 159 | U18: 89 | V18: 70 | W18: 194 | X18: 107 | Y18: 87 | Z18: 993 | AA18: 11800600 | AB18: 203 | AC18: 108 | AD18: 95 | AE18: 328 | AF18: 173 | AG18: 155 | AH18: 1280 | AI18: 3837141
A19: Taipei City | B19: 一般 | C19: General | D19: 0 | E19: 0 | F19: 0 | G19: 0 | H19: 0 | I19: 0 | J19: 0 | K19: 0 | L19: 63 | M19: 45 | N19: 18 | O19: 262 | P19: 176 | Q19: 86 | R19: 363 | S19: 8395632 | T19: 159 | U19: 89 | V19: 70 | W19: 194 | X19: 107 | Y19: 87 | Z19: 993 | AA19: 11800600 | AB19: 196 | AC19: 102 | AD19: 94 | AE19: 319 | AF19: 167 | AG19: 152 | AH19: 1240 | AI19: 3717141
B20: 原住民 | C20: Indigenous | D20: 0 | E20: 0 | F20: 0 | G20: 0 | H20: 0 | I20: 0 | J20: 0 | K20: 0 | L20: 0 | M20: 0 | N20: 0 | O20: 4 | P20: 3 | Q20: 1 | R20: 4 | S20: 94161 | T20: 0 | U20: 0 | V20: 0 | W20: 0 | X20: 0 | Y20: 0 | Z20: 0 | AA20: 0 | AB20: 7 | AC20: 6 | AD20: 1 | AE20: 9 | AF20: 6 | AG20: 3 | AH20: 40 | AI20: 120000
A21: 桃園市 | B21: 計 | C21: Total | D21: 5105 | E21: 2586 | F21: 2519 | G21: 5487 | H21: 2780 | I21: 2707 | J21: 30152 | K21: 69480681 | L21: 375 | M21: 197 | N21: 178 | O21: 1595 | P21: 871 | Q21: 724 | R21: 1595 | S21: 7230490 | T21: 55 | U21: 35 | V21: 20 | W21: 187 | X21: 116 | Y21: 71 | Z21: 889 | AA21: 13249683 | AB21: 20 | AC21: 9 | AD21: 11 | AE21: 42 | AF21: 22 | AG21: 20 | AH21: 128 | AI21: 384000
A22: Taoyuan City | B22: 一般 | C22: General | D22: 4538 | E22: 2321 | F22: 2217 | G22: 4857 | H22: 2493 | I22: 2364 | J22: 26982 | K22: 62148471 | L22: 375 | M22: 197 | N22: 178 | O22: 1595 | P22: 871 | Q22: 724 | R22: 1595 | S22: 7230490 | T22: 55 | U22: 35 | V22: 20 | W22: 187 | X22: 116 | Y22: 71 | Z22: 889 | AA22: 13249683 | AB22: 16 | AC22: 8 | AD22: 8 | AE22: 35 | AF22: 20 | AG22: 15 | AH22: 103 | AI22: 309000
B23: 原住民 | C23: Indigenous | D23: 567 | E23: 265 | F23: 302 | G23: 630 | H23: 287 | I23: 343 | J23: 3170 | K23: 7332210 | L23: 0 | M23: 0 | N23: 0 | O23: 0 | P23: 0 | Q23: 0 | R23: 0 | S23: 0 | T23: 0 | U23: 0 | V23: 0 | W23: 0 | X23: 0 | Y23: 0 | Z23: 0 | AA23: 0 | AB23: 4 | AC23: 1 | AD23: 3 | AE23: 7 | AF23: 2 | AG23: 5 | AH23: 25 | AI23: 75000
A24: 臺中市 | B24: 計 | C24: Total | D24: 10563 | E24: 5356 | F24: 5207 | G24: 11482 | H24: 5835 | I24: 5647 | J24: 65384 | K24: 143489842 | L24: 33 | M24: 19 | N24: 14 | O24: 2460 | P24: 1753 | Q24: 707 | R24: 2508 | S24: 34220925 | T24: 415 | U24: 238 | V24: 177 | W24: 502 | X24: 290 | Y24: 212 | Z24: 2300 | AA24: 25484733 | AB24: 20 | AC24: 10 | AD24: 10 | AE24: 35 | AF24: 16 | AG24: 19 | AH24: 157 | AI24: 413833
A25: Taichung City | B25: 一般 | C25: General | D25: 9736 | E25: 4924 | F25: 4812 | G25: 10572 | H25: 5363 | I25: 5209 | J25: 60253 | K25: 132217035 | L25: 33 | M25: 19 | N25: 14 | O25: 2430 | P25: 1733 | Q25: 697 | R25: 2478 | S25: 33901875 | T25: 415 | U25: 238 | V25: 177 | W25: 502 | X25: 290 | Y25: 212 | Z25: 2300 | AA25: 25484733 | AB25: 19 | AC25: 10 | AD25: 9 | AE25: 31 | AF25: 16 | AG25: 15 | AH25: 145 | AI25: 377833
B26: 原住民 | C26: Indigenous | D26: 827 | E26: 432 | F26: 395 | G26: 910 | H26: 472 | I26: 438 | J26: 5131 | K26: 11272807 | L26: 0 | M26: 0 | N26: 0 | O26: 30 | P26: 20 | Q26: 10 | R26: 30 | S26: 319050 | T26: 0 | U26: 0 | V26: 0 | W26: 0 | X26: 0 | Y26: 0 | Z26: 0 | AA26: 0 | AB26: 1 | AC26: 0 | AD26: 1 | AE26: 4 | AF26: 0 | AG26: 4 | AH26: 12 | AI26: 36000
A27: 臺南市 | B27: 計 | C27: Total | D27: 5893 | E27: 3005 | F27: 2888 | G27: 6208 | H27: 3166 | I27: 3042 | J27: 35092 | K27: 78798487 | L27: 6 | M27: 2 | N27: 4 | O27: 39 | P27: 23 | Q27: 16 | R27: 39 | S27: 1222137 | T27: 95 | U27: 54 | V27: 41 | W27: 109 | X27: 68 | Y27: 41 | Z27: 445 | AA27: 5518483 | AB27: 83 | AC27: 43 | AD27: 40 | AE27: 133 | AF27: 68 | AG27: 65 | AH27: 514 | AI27: 1542000
A28: Tainan City | B28: 一般 | C28: General | D28: 5720 | E28: 2921 | F28: 2799 | G28: 6026 | H28: 3078 | I28: 2948 | J28: 34108 | K28: 76590204 | L28: 6 | M28: 2 | N28: 4 | O28: 39 | P28: 23 | Q28: 16 | R28: 39 | S28: 1222137 | T28: 95 | U28: 54 | V28: 41 | W28: 109 | X28: 68 | Y28: 41 | Z28: 445 | AA28: 5518483 | AB28: 80 | AC28: 41 | AD28: 39 | AE28: 129 | AF28: 66 | AG28: 63 | AH28: 493 | AI28: 1479000
B29: 原住民 | C29: Indigenous | D29: 173 | E29: 84 | F29: 89 | G29: 182 | H29: 88 | I29: 94 | J29: 984 | K29: 2208283 | L29: 0 | M29: 0 | N29: 0 | O29: 0 | P29: 0 | Q29: 0 | R29: 0 | S29: 0 | T29: 0 | U29: 0 | V29: 0 | W29: 0 | X29: 0 | Y29: 0 | Z29: 0 | AA29: 0 | AB29: 3 | AC29: 2 | AD29: 1 | AE29: 4 | AF29: 2 | AG29: 2 | AH29: 21 | AI29: 63000
A30: 高 雄 市 | B30: 計 | C30: Total | D30: 8130 | E30: 4117 | F30: 4013 | G30: 8780 | H30: 4443 | I30: 4337 | J30: 49787 | K30: 120957202 | L30: 15 | M30: 6 | N30: 9 | O30: 37 | P30: 16 | Q30: 21 | R30: 37 | S30: 444007 | T30: 144 | U30: 78 | V30: 66 | W30: 163 | X30: 89 | Y30: 74 | Z30: 782 | AA30: 7933058 | AB30: 183 | AC30: 86 | AD30: 97 | AE30: 281 | AF30: 130 | AG30: 151 | AH30: 1093 | AI30: 3162210
A31: Kaohsiung City | B31: 一般 | C31: General | D31: 7673 | E31: 3876 | F31: 3797 | G31: 8286 | H31: 4183 | I31: 4103 | J31: 47008 | K31: 114265120 | L31: 15 | M31: 6 | N31: 9 | O31: 37 | P31: 16 | Q31: 21 | R31: 37 | S31: 444007 | T31: 135 | U31: 76 | V31: 59 | W31: 152 | X31: 87 | Y31: 65 | Z31: 730 | AA31: 7465058 | AB31: 165 | AC31: 79 | AD31: 86 | AE31: 255 | AF31: 117 | AG31: 138 | AH31: 983 | AI31: 2832210
B32: 原住民 | C32: Indigenous | D32: 457 | E32: 241 | F32: 216 | G32: 494 | H32: 260 | I32: 234 | J32: 2779 | K32: 6692082 | L32: 0 | M32: 0 | N32: 0 | O32: 0 | P32: 0 | Q32: 0 | R32: 0 | S32: 0 | T32: 9 | U32: 2 | V32: 7 | W32: 11 | X32: 2 | Y32: 9 | Z32: 52 | AA32: 468000 | AB32: 18 | AC32: 7 | AD32: 11 | AE32: 26 | AF32: 13 | AG32: 13 | AH32: 110 | AI32: 330000
A33: 宜蘭縣 | B33: 計 | C33: Total | D33: 1398 | E33: 697 | F33: 701 | G33: 1398 | H33: 697 | I33: 701 | J33: 7889 | K33: 17331908 | L33: 6 | M33: 4 | N33: 2 | O33: 6 | P33: 4 | Q33: 2 | R33: 6 | S33: 193943 | T33: 17 | U33: 3 | V33: 14 | W33: 17 | X33: 3 | Y33: 14 | Z33: 97 | AA33: 1006800 | AB33: 0 | AC33: 0 | AD33: 0 | AE33: 0 | AF33: 0 | AG33: 0 | AH33: 0 | AI33: 0
A34: Yilan County | B34: 一般 | C34: General | D34: 1103 | E34: 546 | F34: 557 | G34: 1103 | H34: 546 | I34: 557 | J34: 6265 | K34: 13763980 | L34: 6 | M34: 4 | N34: 2 | O34: 6 | P34: 4 | Q34: 2 | R34: 6 | S34: 193943 | T34: 14 | U34: 2 | V34: 12 | W34: 14 | X34: 2 | Y34: 12 | Z34: 79 | AA34: 831800 | AB34: 0 | AC34: 0 | AD34: 0 | AE34: 0 | AF34: 0 | AG34: 0 | AH34: 0 | AI34: 0
B35: 原住民 | C35: Indigenous | D35: 295 | E35: 151 | F35: 144 | G35: 295 | H35: 151 | I35: 144 | J35: 1624 | K35: 3567928 | L35: 0 | M35: 0 | N35: 0 | O35: 0 | P35: 0 | Q35: 0 | R35: 0 | S35: 0 | T35: 3 | U35: 1 | V35: 2 | W35: 3 | X35: 1 | Y35: 2 | Z35: 18 | AA35: 175000 | AB35: 0 | AC35: 0 | AD35: 0 | AE35: 0 | AF35: 0 | AG35: 0 | AH35: 0 | AI35: 0
A36: 新竹縣 | B36: 計 | C36: Total | D36: 1248 | E36: 641 | F36: 607 | G36: 1310 | H36: 667 | I36: 643 | J36: 7238 | K36: 15897492 | L36: 13 | M36: 11 | N36: 2 | O36: 13 | P36: 11 | Q36: 2 | R36: 17 | S36: 421446 | T36: 108 | U36: 47 | V36: 61 | W36: 117 | X36: 53 | Y36: 64 | Z36: 583 | AA36: 6733500 | AB36: 81 | AC36: 39 | AD36: 42 | AE36: 110 | AF36: 57 | AG36: 53 | AH36: 515 | AI36: 1527846
A37: Hsinchu County | B37: 一般 | C37: General | D37: 896 | E37: 467 | F37: 429 | G37: 941 | H37: 487 | I37: 454 | J37: 5265 | K37: 11562811 | L37: 8 | M37: 6 | N37: 2 | O37: 8 | P37: 6 | Q37: 2 | R37: 11 | S37: 331880 | T37: 21 | U37: 9 | V37: 12 | W37: 28 | X37: 13 | Y37: 15 | Z37: 129 | AA37: 1808000 | AB37: 42 | AC37: 17 | AD37: 25 | AE37: 59 | AF37: 27 | AG37: 32 | AH37: 263 | AI37: 783282
B38: 原住民 | C38: Indigenous | D38: 352 | E38: 174 | F38: 178 | G38: 369 | H38: 180 | I38: 189 | J38: 1973 | K38: 4334681 | L38: 5 | M38: 5 | N38: 0 | O38: 5 | P38: 5 | Q38: 0 | R38: 6 | S38: 89566 | T38: 87 | U38: 38 | V38: 49 | W38: 89 | X38: 40 | Y38: 49 | Z38: 454 | AA38: 4925500 | AB38: 39 | AC38: 22 | AD38: 17 | AE38: 51 | AF38: 30 | AG38: 21 | AH38: 252 | AI38: 744564
A39: 苗栗縣 | B39: 計 | C39: Total | D39: 1193 | E39: 578 | F39: 615 | G39: 1291 | H39: 629 | I39: 662 | J39: 7155 | K39: 15719535 | L39: 36 | M39: 24 | N39: 12 | O39: 36 | P39: 24 | Q39: 12 | R39: 265 | S39: 812771 | T39: 16 | U39: 10 | V39: 6 | W39: 18 | X39: 12 | Y39: 6 | Z39: 82 | AA39: 1126700 | AB39: 28 | AC39: 14 | AD39: 14 | AE39: 28 | AF39: 14 | AG39: 14 | AH39: 169 | AI39: 507000
A40: Miaoli County | B40: 一般 | C40: General | D40: 1000 | E40: 471 | F40: 529 | G40: 1085 | H40: 512 | I40: 573 | J40: 6017 | K40: 13219349 | L40: 36 | M40: 24 | N40: 12 | O40: 36 | P40: 24 | Q40: 12 | R40: 265 | S40: 812771 | T40: 16 | U40: 10 | V40: 6 | W40: 18 | X40: 12 | Y40: 6 | Z40: 82 | AA40: 1126700 | AB40: 25 | AC40: 14 | AD40: 11 | AE40: 25 | AF40: 14 | AG40: 11 | AH40: 166 | AI40: 498000
B41: 原住民 | C41: Indigenous | D41: 193 | E41: 107 | F41: 86 | G41: 206 | H41: 117 | I41: 89 | J41: 1138 | K41: 2500186 | L41: 0 | M41: 0 | N41: 0 | O41: 0 | P41: 0 | Q41: 0 | R41: 0 | S41: 0 | T41: 0 | U41: 0 | V41: 0 | W41: 0 | X41: 0 | Y41: 0 | Z41: 0 | AA41: 0 | AB41: 3 | AC41: 0 | AD41: 3 | AE41: 3 | AF41: 0 | AG41: 3 | AH41: 3 | AI41: 9000
A42: 彰化縣 | B42: 計 | C42: Total | D42: 5364 | E42: 2717 | F42: 2647 | G42: 5835 | H42: 2957 | I42: 2878 | J42: 32541 | K42: 71362407 | L42: 12 | M42: 9 | N42: 3 | O42: 69 | P42: 39 | Q42: 30 | R42: 76 | S42: 2496526 | T42: 127 | U42: 67 | V42: 60 | W42: 145 | X42: 76 | Y42: 69 | Z42: 696 | AA42: 9261820 | AB42: 38 | AC42: 21 | AD42: 17 | AE42: 85 | AF42: 43 | AG42: 42 | AH42: 312 | AI42: 883606
A43: Changhua County | B43: 一般 | C43: General | D43: 5182 | E43: 2643 | F43: 2539 | G43: 5641 | H43: 2877 | I43: 2764 | J43: 31441 | K43: 68945707 | L43: 12 | M43: 9 | N43: 3 | O43: 69 | P43: 39 | Q43: 30 | R43: 76 | S43: 2496526 | T43: 127 | U43: 67 | V43: 60 | W43: 145 | X43: 76 | Y43: 69 | Z43: 696 | AA43: 9261820 | AB43: 37 | AC43: 20 | AD43: 17 | AE43: 83 | AF43: 41 | AG43: 42 | AH43: 306 | AI43: 865606
B44: 原住民 | C44: Indigenous | D44: 182 | E44: 74 | F44: 108 | G44: 194 | H44: 80 | I44: 114 | J44: 1100 | K44: 2416700 | L44: 0 | M44: 0 | N44: 0 | O44: 0 | P44: 0 | Q44: 0 | R44: 0 | S44: 0 | T44: 0 | U44: 0 | V44: 0 | W44: 0 | X44: 0 | Y44: 0 | Z44: 0 | AA44: 0 | AB44: 1 | AC44: 1 | AD44: 0 | AE44: 2 | AF44: 2 | AG44: 0 | AH44: 6 | AI44: 18000
A45: 南投縣 | B45: 計 | C45: Total | D45: 1245 | E45: 655 | F45: 590 | G45: 1310 | H45: 688 | I45: 622 | J45: 7270 | K45: 15928250 | L45: 4 | M45: 3 | N45: 1 | O45: 25 | P45: 13 | Q45: 12 | R45: 29 | S45: 806101 | T45: 1 | U45: 0 | V45: 1 | W45: 2 | X45: 0 | Y45: 2 | Z45: 10 | AA45: 130800 | AB45: 8 | AC45: 6 | AD45: 2 | AE45: 13 | AF45: 9 | AG45: 4 | AH45: 41 | AI45: 123000
A46: Nantou County | B46: 一般 | C46: General | D46: 992 | E46: 526 | F46: 466 | G46: 1046 | H46: 552 | I46: 494 | J46: 5855 | K46: 12819495 | L46: 3 | M46: 2 | N46: 1 | O46: 24 | P46: 12 | Q46: 12 | R46: 25 | S46: 721869 | T46: 1 | U46: 0 | V46: 1 | W46: 2 | X46: 0 | Y46: 2 | Z46: 10 | AA46: 130800 | AB46: 8 | AC46: 6 | AD46: 2 | AE46: 13 | AF46: 9 | AG46: 4 | AH46: 41 | AI46: 123000
B47: 原住民 | C47: Indigenous | D47: 253 | E47: 129 | F47: 124 | G47: 264 | H47: 136 | I47: 128 | J47: 1415 | K47: 3108755 | L47: 1 | M47: 1 | N47: 0 | O47: 1 | P47: 1 | Q47: 0 | R47: 4 | S47: 84232 | T47: 0 | U47: 0 | V47: 0 | W47: 0 | X47: 0 | Y47: 0 | Z47: 0 | AA47: 0 | AB47: 0 | AC47: 0 | AD47: 0 | AE47: 0 | AF47: 0 | AG47: 0 | AH47: 0 | AI47: 0
A48: 雲林縣 | B48: 計 | C48: Total | D48: 2074 | E48: 1021 | F48: 1053 | G48: 2274 | H48: 1126 | I48: 1148 | J48: 12509 | K48: 27482273 | L48: 138 | M48: 72 | N48: 66 | O48: 251 | P48: 177 | Q48: 74 | R48: 177 | S48: 2647305 | T48: 31 | U48: 20 | V48: 11 | W48: 31 | X48: 20 | Y48: 11 | Z48: 163 | AA48: 2165359 | AB48: 23 | AC48: 11 | AD48: 12 | AE48: 113 | AF48: 59 | AG48: 54 | AH48: 121 | AI48: 363000
A49: Yunlin County | B49: 一般 | C49: General | D49: 2036 | E49: 1003 | F49: 1033 | G49: 2232 | H49: 1106 | I49: 1126 | J49: 12471 | K49: 27398787 | L49: 138 | M49: 72 | N49: 66 | O49: 251 | P49: 177 | Q49: 74 | R49: 177 | S49: 2647305 | T49: 31 | U49: 20 | V49: 11 | W49: 31 | X49: 20 | Y49: 11 | Z49: 163 | AA49: 2165359 | AB49: 23 | AC49: 11 | AD49: 12 | AE49: 113 | AF49: 59 | AG49: 54 | AH49: 121 | AI49: 363000
B50: 原住民 | C50: Indigenous | D50: 38 | E50: 18 | F50: 20 | G50: 42 | H50: 20 | I50: 22 | J50: 38 | K50: 83486 | L50: 0 | M50: 0 | N50: 0 | O50: 0 | P50: 0 | Q50: 0 | R50: 0 | S50: 0 | T50: 0 | U50: 0 | V50: 0 | W50: 0 | X50: 0 | Y50: 0 | Z50: 0 | AA50: 0 | AB50: 0 | AC50: 0 | AD50: 0 | AE50: 0 | AF50: 0 | AG50: 0 | AH50: 0 | AI50: 0
A51: 嘉義縣 | B51: 計 | C51: Total | D51: 2588 | E51: 1309 | F51: 1279 | G51: 2797 | H51: 1412 | I51: 1385 | J51: 15674 | K51: 34435778 | L51: 9 | M51: 3 | N51: 6 | O51: 17 | P51: 8 | Q51: 9 | R51: 17 | S51: 374014 | T51: 11 | U51: 6 | V51: 5 | W51: 11 | X51: 6 | Y51: 5 | Z51: 43 | AA51: 651200 | AB51: 36 | AC51: 17 | AD51: 19 | AE51: 36 | AF51: 17 | AG51: 19 | AH51: 138 | AI51: 414000
A52: Chiayi County | B52: 一般 | C52: General | D52: 2493 | E52: 1263 | F52: 1230 | G52: 2689 | H52: 1361 | I52: 1328 | J52: 15091 | K52: 33154927 | L52: 9 | M52: 3 | N52: 6 | O52: 17 | P52: 8 | Q52: 9 | R52: 17 | S52: 374014 | T52: 11 | U52: 6 | V52: 5 | W52: 11 | X52: 6 | Y52: 5 | Z52: 43 | AA52: 651200 | AB52: 35 | AC52: 17 | AD52: 18 | AE52: 35 | AF52: 17 | AG52: 18 | AH52: 134 | AI52: 402000
B53: 原住民 | C53: Indigenous | D53: 95 | E53: 46 | F53: 49 | G53: 108 | H53: 51 | I53: 57 | J53: 583 | K53: 1280851 | L53: 0 | M53: 0 | N53: 0 | O53: 0 | P53: 0 | Q53: 0 | R53: 0 | S53: 0 | T53: 0 | U53: 0 | V53: 0 | W53: 0 | X53: 0 | Y53: 0 | Z53: 0 | AA53: 0 | AB53: 1 | AC53: 0 | AD53: 1 | AE53: 1 | AF53: 0 | AG53: 1 | AH53: 4 | AI53: 12000
A54: 屏東縣 | B54: 計 | C54: Total | D54: 3331 | E54: 1649 | F54: 1682 | G54: 3331 | H54: 1649 | I54: 1682 | J54: 18413 | K54: 40343597 | L54: 1 | M54: 1 | N54: 0 | O54: 6 | P54: 5 | Q54: 1 | R54: 7 | S54: 397185 | T54: 46 | U54: 25 | V54: 21 | W54: 46 | X54: 25 | Y54: 21 | Z54: 255 | AA54: 3281980 | AB54: 0 | AC54: 0 | AD54: 0 | AE54: 2 | AF54: 2 | AG54: 0 | AH54: 6 | AI54: 18000
A55: Pingtung County | B55: 一般 | C55: General | D55: 2671 | E55: 1304 | F55: 1367 | G55: 2671 | H55: 1304 | I55: 1367 | J55: 14730 | K55: 32325562 | L55: 1 | M55: 1 | N55: 0 | O55: 6 | P55: 5 | Q55: 1 | R55: 7 | S55: 397185 | T55: 45 | U55: 25 | V55: 20 | W55: 45 | X55: 25 | Y55: 20 | Z55: 251 | AA55: 3226442 | AB55: 0 | AC55: 0 | AD55: 0 | AE55: 2 | AF55: 2 | AG55: 0 | AH55: 6 | AI55: 18000
B56: 原住民 | C56: Indigenous | D56: 660 | E56: 345 | F56: 315 | G56: 660 | H56: 345 | I56: 315 | J56: 3683 | K56: 8018035 | L56: 0 | M56: 0 | N56: 0 | O56: 0 | P56: 0 | Q56: 0 | R56: 0 | S56: 0 | T56: 1 | U56: 0 | V56: 1 | W56: 1 | X56: 0 | Y56: 1 | Z56: 4 | AA56: 55538 | AB56: 0 | AC56: 0 | AD56: 0 | AE56: 0 | AF56: 0 | AG56: 0 | AH56: 0 | AI56: 0
A57: 臺東縣 | B57: 計 | C57: Total | D57: 1733 | E57: 882 | F57: 851 | G57: 1896 | H57: 977 | I57: 919 | J57: 10421 | K57: 25312609 | L57: 4 | M57: 4 | N57: 0 | O57: 11 | P57: 7 | Q57: 4 | R57: 11 | S57: 390336 | T57: 19 | U57: 10 | V57: 9 | W57: 20 | X57: 11 | Y57: 9 | Z57: 104 | AA57: 1105940 | AB57: 42 | AC57: 24 | AD57: 18 | AE57: 63 | AF57: 32 | AG57: 31 | AH57: 295 | AI57: 860710
A58: Taitung County | B58: 一般 | C58: General | D58: 542 | E58: 273 | F58: 269 | G58: 591 | H58: 300 | I58: 291 | J58: 3244 | K58: 7879676 | L58: 4 | M58: 4 | N58: 0 | O58: 6 | P58: 5 | Q58: 1 | R58: 6 | S58: 352116 | T58: 6 | U58: 3 | V58: 3 | W58: 6 | X58: 3 | Y58: 3 | Z58: 32 | AA58: 430720 | AB58: 4 | AC58: 1 | AD58: 3 | AE58: 9 | AF58: 3 | AG58: 6 | AH58: 35 | AI58: 80710
B59: 原住民 | C59: Indigenous | D59: 1191 | E59: 609 | F59: 582 | G59: 1305 | H59: 677 | I59: 628 | J59: 7177 | K59: 17432933 | L59: 0 | M59: 0 | N59: 0 | O59: 5 | P59: 2 | Q59: 3 | R59: 5 | S59: 38220 | T59: 13 | U59: 7 | V59: 6 | W59: 14 | X59: 8 | Y59: 6 | Z59: 72 | AA59: 675220 | AB59: 38 | AC59: 23 | AD59: 15 | AE59: 54 | AF59: 29 | AG59: 25 | AH59: 260 | AI59: 780000
A60: 花蓮縣 | B60: 計 | C60: Total | D60: 2409 | E60: 1238 | F60: 1171 | G60: 2602 | H60: 1343 | I60: 1259 | J60: 14138 | K60: 34331486 | L60: 4 | M60: 3 | N60: 1 | O60: 25 | P60: 16 | Q60: 9 | R60: 37 | S60: 492823 | T60: 4 | U60: 1 | V60: 3 | W60: 9 | X60: 4 | Y60: 5 | Z60: 13 | AA60: 111014 | AB60: 1 | AC60: 0 | AD60: 1 | AE60: 15 | AF60: 9 | AG60: 6 | AH60: 97 | AI60: 286142
A61: Hualien County | B61: 一般 | C61: General | D61: 878 | E61: 458 | F61: 420 | G61: 942 | H61: 493 | I61: 449 | J61: 5138 | K61: 12470486 | L61: 0 | M61: 0 | N61: 0 | O61: 8 | P61: 6 | Q61: 2 | R61: 18 | S61: 348990 | T61: 2 | U61: 0 | V61: 2 | W61: 4 | X61: 2 | Y61: 2 | Z61: 8 | AA61: 44139 | AB61: 0 | AC61: 0 | AD61: 0 | AE61: 10 | AF61: 8 | AG61: 2 | AH61: 53 | AI61: 159000
B62: 原住民 | C62: Indigenous | D62: 1531 | E62: 780 | F62: 751 | G62: 1660 | H62: 850 | I62: 810 | J62: 9000 | K62: 21861000 | L62: 4 | M62: 3 | N62: 1 | O62: 17 | P62: 10 | Q62: 7 | R62: 19 | S62: 143833 | T62: 2 | U62: 1 | V62: 1 | W62: 5 | X62: 2 | Y62: 3 | Z62: 5 | AA62: 66875 | AB62: 1 | AC62: 0 | AD62: 1 | AE62: 5 | AF62: 1 | AG62: 4 | AH62: 44 | AI62: 127142
A63: 澎湖縣 | B63: 計 | C63: Total | D63: 197 | E63: 94 | F63: 103 | G63: 197 | H63: 94 | I63: 103 | J63: 1188 | K63: 2610036 | L63: 2 | M63: 0 | N63: 2 | O63: 6 | P63: 1 | Q63: 5 | R63: 6 | S63: 244993 | T63: 4 | U63: 2 | V63: 2 | W63: 4 | X63: 2 | Y63: 2 | Z63: 19 | AA63: 197350 | AB63: 0 | AC63: 0 | AD63: 0 | AE63: 0 | AF63: 0 | AG63: 0 | AH63: 0 | AI63: 0
A64: Penghu County | B64: 一般 | C64: General | D64: 197 | E64: 94 | F64: 103 | G64: 197 | H64: 94 | I64: 103 | J64: 1188 | K64: 2610036 | L64: 2 | M64: 0 | N64: 2 | O64: 6 | P64: 1 | Q64: 5 | R64: 6 | S64: 244993 | T64: 4 | U64: 2 | V64: 2 | W64: 4 | X64: 2 | Y64: 2 | Z64: 19 | AA64: 197350 | AB64: 0 | AC64: 0 | AD64: 0 | AE64: 0 | AF64: 0 | AG64: 0 | AH64: 0 | AI64: 0
B65: 原住民 | C65: Indigenous | D65: 0 | E65: 0 | F65: 0 | G65: 0 | H65: 0 | I65: 0 | J65: 0 | K65: 0 | L65: 0 | M65: 0 | N65: 0 | O65: 0 | P65: 0 | Q65: 0 | R65: 0 | S65: 0 | T65: 0 | U65: 0 | V65: 0 | W65: 0 | X65: 0 | Y65: 0 | Z65: 0 | AA65: 0 | AB65: 0 | AC65: 0 | AD65: 0 | AE65: 0 | AF65: 0 | AG65: 0 | AH65: 0 | AI65: 0
A66: 基隆市 | B66: 計 | C66: Total | D66: 1263 | E66: 644 | F66: 619 | G66: 1336 | H66: 667 | I66: 669 | J66: 7395 | K66: 16246815 | L66: 0 | M66: 0 | N66: 0 | O66: 2 | P66: 0 | Q66: 2 | R66: 2 | S66: 30954 | T66: 9 | U66: 4 | V66: 5 | W66: 10 | X66: 4 | Y66: 6 | Z66: 53 | AA66: 624200 | AB66: 3 | AC66: 2 | AD66: 1 | AE66: 3 | AF66: 2 | AG66: 1 | AH66: 11 | AI66: 28606
A67: Keelung City | B67: 一般 | C67: General | D67: 1100 | E67: 563 | F67: 537 | G67: 1117 | H67: 563 | I67: 554 | J67: 6423 | K67: 14111331 | L67: 0 | M67: 0 | N67: 0 | O67: 2 | P67: 0 | Q67: 2 | R67: 2 | S67: 30954 | T67: 9 | U67: 4 | V67: 5 | W67: 10 | X67: 4 | Y67: 6 | Z67: 53 | AA67: 624200 | AB67: 3 | AC67: 2 | AD67: 1 | AE67: 3 | AF67: 2 | AG67: 1 | AH67: 11 | AI67: 28606
B68: 原住民 | C68: Indigenous | D68: 163 | E68: 81 | F68: 82 | G68: 219 | H68: 104 | I68: 115 | J68: 972 | K68: 2135484 | L68: 0 | M68: 0 | N68: 0 | O68: 0 | P68: 0 | Q68: 0 | R68: 0 | S68: 0 | T68: 0 | U68: 0 | V68: 0 | W68: 0 | X68: 0 | Y68: 0 | Z68: 0 | AA68: 0 | AB68: 0 | AC68: 0 | AD68: 0 | AE68: 0 | AF68: 0 | AG68: 0 | AH68: 0 | AI68: 0
A69: 新竹市 | B69: 計 | C69: Total | D69: 655 | E69: 322 | F69: 333 | G69: 710 | H69: 352 | I69: 358 | J69: 3948 | K69: 8673756 | L69: 4 | M69: 1 | N69: 3 | O69: 11 | P69: 6 | Q69: 5 | R69: 11 | S69: 341683 | T69: 24 | U69: 15 | V69: 9 | W69: 30 | X69: 17 | Y69: 13 | Z69: 142 | AA69: 1977500 | AB69: 3 | AC69: 2 | AD69: 1 | AE69: 8 | AF69: 5 | AG69: 3 | AH69: 17 | AI69: 51000
A70: Hsinchu City | B70: 一般 | C70: General | D70: 601 | E70: 299 | F70: 302 | G70: 648 | H70: 325 | I70: 323 | J70: 3608 | K70: 7926776 | L70: 4 | M70: 1 | N70: 3 | O70: 10 | P70: 5 | Q70: 5 | R70: 10 | S70: 336783 | T70: 24 | U70: 15 | V70: 9 | W70: 30 | X70: 17 | Y70: 13 | Z70: 142 | AA70: 1977500 | AB70: 1 | AC70: 1 | AD70: 0 | AE70: 6 | AF70: 4 | AG70: 2 | AH70: 13 | AI70: 39000
B71: 原住民 | C71: Indigenous | D71: 54 | E71: 23 | F71: 31 | G71: 62 | H71: 27 | I71: 35 | J71: 340 | K71: 746980 | L71: 0 | M71: 0 | N71: 0 | O71: 1 | P71: 1 | Q71: 0 | R71: 1 | S71: 4900 | T71: 0 | U71: 0 | V71: 0 | W71: 0 | X71: 0 | Y71: 0 | Z71: 0 | AA71: 0 | AB71: 2 | AC71: 1 | AD71: 1 | AE71: 2 | AF71: 1 | AG71: 1 | AH71: 4 | AI71: 12000
A72: 嘉義市 | B72: 計 | C72: Total | D72: 1194 | E72: 610 | F72: 584 | G72: 1225 | H72: 621 | I72: 604 | J72: 6875 | K72: 15104375 | L72: 1 | M72: 0 | N72: 1 | O72: 4 | P72: 0 | Q72: 4 | R72: 9 | S72: 389758 | T72: 16 | U72: 7 | V72: 9 | W72: 17 | X72: 8 | Y72: 9 | Z72: 85 | AA72: 973960 | AB72: 6 | AC72: 4 | AD72: 2 | AE72: 10 | AF72: 6 | AG72: 4 | AH72: 32 | AI72: 96000
A73: Chiayi City | B73: 一般 | C73: General | D73: 1173 | E73: 602 | F73: 571 | G73: 1204 | H73: 613 | I73: 591 | J73: 6797 | K73: 14933009 | L73: 1 | M73: 0 | N73: 1 | O73: 4 | P73: 0 | Q73: 4 | R73: 9 | S73: 389758 | T73: 16 | U73: 7 | V73: 9 | W73: 17 | X73: 8 | Y73: 9 | Z73: 85 | AA73: 973960 | AB73: 6 | AC73: 4 | AD73: 2 | AE73: 10 | AF73: 6 | AG73: 4 | AH73: 32 | AI73: 96000
B74: 原住民 | C74: Indigenous | D74: 21 | E74: 8 | F74: 13 | G74: 21 | H74: 8 | I74: 13 | J74: 78 | K74: 171366 | L74: 0 | M74: 0 | N74: 0 | O74: 0 | P74: 0 | Q74: 0 | R74: 0 | S74: 0 | T74: 0 | U74: 0 | V74: 0 | W74: 0 | X74: 0 | Y74: 0 | Z74: 0 | AA74: 0 | AB74: 0 | AC74: 0 | AD74: 0 | AE74: 0 | AF74: 0 | AG74: 0 | AH74: 0 | AI74: 0
A75: 金門縣 | B75: 計 | C75: Total | D75: 106 | E75: 51 | F75: 55 | G75: 106 | H75: 51 | I75: 55 | J75: 594 | K75: 1305018 | L75: 7 | M75: 4 | N75: 3 | O75: 7 | P75: 4 | Q75: 3 | R75: 12 | S75: 817901 | T75: 5 | U75: 3 | V75: 2 | W75: 5 | X75: 3 | Y75: 2 | Z75: 20 | AA75: 208000 | AB75: 4 | AC75: 1 | AD75: 3 | AE75: 4 | AF75: 1 | AG75: 3 | AH75: 14 | AI75: 42000
A76: Kinmen County | B76: 一般 | C76: General | D76: 103 | E76: 50 | F76: 53 | G76: 103 | H76: 50 | I76: 53 | J76: 577 | K76: 1267669 | L76: 7 | M76: 4 | N76: 3 | O76: 7 | P76: 4 | Q76: 3 | R76: 12 | S76: 817901 | T76: 5 | U76: 3 | V76: 2 | W76: 5 | X76: 3 | Y76: 2 | Z76: 20 | AA76: 208000 | AB76: 4 | AC76: 1 | AD76: 3 | AE76: 4 | AF76: 1 | AG76: 3 | AH76: 14 | AI76: 42000
B77: 原住民 | C77: Indigenous | D77: 3 | E77: 1 | F77: 2 | G77: 3 | H77: 1 | I77: 2 | J77: 17 | K77: 37349 | L77: 0 | M77: 0 | N77: 0 | O77: 0 | P77: 0 | Q77: 0 | R77: 0 | S77: 0 | T77: 0 | U77: 0 | V77: 0 | W77: 0 | X77: 0 | Y77: 0 | Z77: 0 | AA77: 0 | AB77: 0 | AC77: 0 | AD77: 0 | AE77: 0 | AF77: 0 | AG77: 0 | AH77: 0 | AI77: 0
A78: 連江縣 | B78: 計 | C78: Total | D78: 15 | E78: 1 | F78: 14 | G78: 15 | H78: 1 | I78: 14 | J78: 87 | K78: 201231 | L78: 1 | M78: 0 | N78: 1 | O78: 1 | P78: 0 | Q78: 1 | R78: 1 | S78: 2478 | T78: 0 | U78: 0 | V78: 0 | W78: 0 | X78: 0 | Y78: 0 | Z78: 0 | AA78: 0 | AB78: 2 | AC78: 1 | AD78: 1 | AE78: 3 | AF78: 2 | AG78: 1 | AH78: 7 | AI78: 21000
A79: Lienchiang County | B79: 一般 | C79: General | D79: 5 | E79: 1 | F79: 4 | G79: 5 | H79: 1 | I79: 4 | J79: 30 | K79: 69390 | L79: 1 | M79: 0 | N79: 1 | O79: 1 | P79: 0 | Q79: 1 | R79: 1 | S79: 2478 | T79: 0 | U79: 0 | V79: 0 | W79: 0 | X79: 0 | Y79: 0 | Z79: 0 | AA79: 0 | AB79: 2 | AC79: 1 | AD79: 1 | AE79: 3 | AF79: 2 | AG79: 1 | AH79: 7 | AI79: 21000
B80: 原住民 | C80: Indigenous | D80: 10 | E80: 0 | F80: 10 | G80: 10 | H80: 0 | I80: 10 | J80: 57 | K80: 131841 | L80: 0 | M80: 0 | N80: 0 | O80: 0 | P80: 0 | Q80: 0 | R80: 0 | S80: 0 | T80: 0 | U80: 0 | V80: 0 | W80: 0 | X80: 0 | Y80: 0 | Z80: 0 | AA80: 0 | AB80: 0 | AC80: 0 | AD80: 0 | AE80: 0 | AF80: 0 | AG80: 0 | AH80: 0 | AI80: 0
A81: 資料來源：各直轄市、縣市政府。
A82: Source: County and Government.
A83: 更新日期：2026/05/20
A85: 總計 | B85: 計 | C85: Total | D85: 76366 | E85: 38710 | F85: 37656 | G85: 81622 | H85: 41456 | I85: 40166 | J85: 459911 | K85: 1034675467 | L85: 2949 | M85: 1841 | N85: 1108 | O85: 7981 | P85: 5228 | Q85: 2753 | R85: 8324 | S85: 80929651 | T85: 1469 | U85: 808 | V85: 661 | W85: 1821 | X85: 1015 | Y85: 806 | Z85: 8649 | AA85: 102946552 | AB85: 886 | AC85: 453 | AD85: 433 | AE85: 1414 | AF85: 722 | AG85: 692 | AH85: 5605 | AI85: 16515205
A86: Total | B86: 一般 | C86: General | D86: 68268 | E86: 34615 | F86: 33653 | G86: 72894 | H86: 37044 | I86: 35850 | J86: 412344 | K86: 925359376 | L86: 2939 | M86: 1832 | N86: 1107 | O86: 7918 | P86: 5186 | Q86: 2732 | R86: 8255 | S86: 80155689 | T86: 1354 | U86: 759 | V86: 595 | W86: 1698 | X86: 962 | Y86: 736 | Z86: 8044 | AA86: 96580419 | AB86: 768 | AC86: 390 | AD86: 378 | AE86: 1246 | AF86: 636 | AG86: 610 | AH86: 4824 | AI86: 14188499
B87: 原住民 | C87: Indigenous | D87: 8098 | E87: 4095 | F87: 4003 | G87: 8728 | H87: 4412 | I87: 4316 | J87: 47567 | K87: 109316091 | L87: 10 | M87: 9 | N87: 1 | O87: 63 | P87: 42 | Q87: 21 | R87: 69 | S87: 773962 | T87: 115 | U87: 49 | V87: 66 | W87: 123 | X87: 53 | Y87: 70 | Z87: 605 | AA87: 6366133 | AB87: 118 | AC87: 63 | AD87: 55 | AE87: 168 | AF87: 86 | AG87: 82 | AH87: 781 | AI87: 2326706
A88: 新北市 | B88: 計 | C88: Total | D88: 20662 | E88: 10537 | F88: 10125 | G88: 21890 | H88: 11164 | I88: 10726 | J88: 126161 | K88: 279662689 | L88: 2216 | M88: 1433 | N88: 783 | O88: 3101 | P88: 2073 | Q88: 1028 | R88: 3101 | S88: 18467038 | T88: 163 | U88: 94 | V88: 69 | W88: 184 | X88: 101 | Y88: 83 | Z88: 875 | AA88: 9403872 | AB88: 102 | AC88: 55 | AD88: 47 | AE88: 102 | AF88: 55 | AG88: 47 | AH88: 658 | AI88: 1954111
A89: New Taipei City | B89: 一般 | C89: General | D89: 19629 | E89: 10010 | F89: 9619 | G89: 20796 | H89: 10606 | I89: 10190 | J89: 119853 | K89: 265679555 | L89: 2216 | M89: 1433 | N89: 783 | O89: 3101 | P89: 2073 | Q89: 1028 | R89: 3101 | S89: 18467038 | T89: 163 | U89: 94 | V89: 69 | W89: 184 | X89: 101 | Y89: 83 | Z89: 875 | AA89: 9403872 | AB89: 102 | AC89: 55 | AD89: 47 | AE89: 102 | AF89: 55 | AG89: 47 | AH89: 658 | AI89: 1954111
B90: 原住民 | C90: Indigenous | D90: 1033 | E90: 527 | F90: 506 | G90: 1094 | H90: 558 | I90: 536 | J90: 6308 | K90: 13983134 | L90: 0 | M90: 0 | N90: 0 | O90: 0 | P90: 0 | Q90: 0 | R90: 0 | S90: 0 | T90: 0 | U90: 0 | V90: 0 | W90: 0 | X90: 0 | Y90: 0 | Z90: 0 | AA90: 0 | AB90: 0 | AC90: 0 | AD90: 0 | AE90: 0 | AF90: 0 | AG90: 0 | AH90: 0 | AI90: 0
A91: 臺北市 | B91: 計 | C91: Total | D91: 0 | E91: 0 | F91: 0 | G91: 0 | H91: 0 | I91: 0 | J91: 0 | K91: 0 | L91: 63 | M91: 45 | N91: 18 | O91: 266 | P91: 179 | Q91: 87 | R91: 367 | S91: 8489793 | T91: 159 | U91: 89 | V91: 70 | W91: 194 | X91: 107 | Y91: 87 | Z91: 993 | AA91: 11800600 | AB91: 203 | AC91: 108 | AD91: 95 | AE91: 328 | AF91: 173 | AG91: 155 | AH91: 1280 | AI91: 3837141
A92: Taipei City | B92: 一般 | C92: General | D92: 0 | E92: 0 | F92: 0 | G92: 0 | H92: 0 | I92: 0 | J92: 0 | K92: 0 | L92: 63 | M92: 45 | N92: 18 | O92: 262 | P92: 176 | Q92: 86 | R92: 363 | S92: 8395632 | T92: 159 | U92: 89 | V92: 70 | W92: 194 | X92: 107 | Y92: 87 | Z92: 993 | AA92: 11800600 | AB92: 196 | AC92: 102 | AD92: 94 | AE92: 319 | AF92: 167 | AG92: 152 | AH92: 1240 | AI92: 3717141
B93: 原住民 | C93: Indigenous | D93: 0 | E93: 0 | F93: 0 | G93: 0 | H93: 0 | I93: 0 | J93: 0 | K93: 0 | L93: 0 | M93: 0 | N93: 0 | O93: 4 | P93: 3 | Q93: 1 | R93: 4 | S93: 94161 | T93: 0 | U93: 0 | V93: 0 | W93: 0 | X93: 0 | Y93: 0 | Z93: 0 | AA93: 0 | AB93: 7 | AC93: 6 | AD93: 1 | AE93: 9 | AF93: 6 | AG93: 3 | AH93: 40 | AI93: 120000
A94: 桃園市 | B94: 計 | C94: Total | D94: 5105 | E94: 2586 | F94: 2519 | G94: 5487 | H94: 2780 | I94: 2707 | J94: 30152 | K94: 69480681 | L94: 375 | M94: 197 | N94: 178 | O94: 1595 | P94: 871 | Q94: 724 | R94: 1595 | S94: 7230490 | T94: 55 | U94: 35 | V94: 20 | W94: 187 | X94: 116 | Y94: 71 | Z94: 889 | AA94: 13249683 | AB94: 20 | AC94: 9 | AD94: 11 | AE94: 42 | AF94: 22 | AG94: 20 | AH94: 128 | AI94: 384000
A95: Taoyuan City | B95: 一般 | C95: General | D95: 4538 | E95: 2321 | F95: 2217 | G95: 4857 | H95: 2493 | I95: 2364 | J95: 26982 | K95: 62148471 | L95: 375 | M95: 197 | N95: 178 | O95: 1595 | P95: 871 | Q95: 724 | R95: 1595 | S95: 7230490 | T95: 55 | U95: 35 | V95: 20 | W95: 187 | X95: 116 | Y95: 71 | Z95: 889 | AA95: 13249683 | AB95: 16 | AC95: 8 | AD95: 8 | AE95: 35 | AF95: 20 | AG95: 15 | AH95: 103 | AI95: 309000
B96: 原住民 | C96: Indigenous | D96: 567 | E96: 265 | F96: 302 | G96: 630 | H96: 287 | I96: 343 | J96: 3170 | K96: 7332210 | L96: 0 | M96: 0 | N96: 0 | O96: 0 | P96: 0 | Q96: 0 | R96: 0 | S96: 0 | T96: 0 | U96: 0 | V96: 0 | W96: 0 | X96: 0 | Y96: 0 | Z96: 0 | AA96: 0 | AB96: 4 | AC96: 1 | AD96: 3 | AE96: 7 | AF96: 2 | AG96: 5 | AH96: 25 | AI96: 75000
A97: 臺中市 | B97: 計 | C97: Total | D97: 10563 | E97: 5356 | F97: 5207 | G97: 11482 | H97: 5835 | I97: 5647 | J97: 65384 | K97: 143489842 | L97: 33 | M97: 19 | N97: 14 | O97: 2460 | P97: 1753 | Q97: 707 | R97: 2508 | S97: 34220925 | T97: 415 | U97: 238 | V97: 177 | W97: 502 | X97: 290 | Y97: 212 | Z97: 2300 | AA97: 25484733 | AB97: 20 | AC97: 10 | AD97: 10 | AE97: 35 | AF97: 16 | AG97: 19 | AH97: 157 | AI97: 413833
A98: Taichung City | B98: 一般 | C98: General | D98: 9736 | E98: 4924 | F98: 4812 | G98: 10572 | H98: 5363 | I98: 5209 | J98: 60253 | K98: 132217035 | L98: 33 | M98: 19 | N98: 14 | O98: 2430 | P98: 1733 | Q98: 697 | R98: 2478 | S98: 33901875 | T98: 415 | U98: 238 | V98: 177 | W98: 502 | X98: 290 | Y98: 212 | Z98: 2300 | AA98: 25484733 | AB98: 19 | AC98: 10 | AD98: 9 | AE98: 31 | AF98: 16 | AG98: 15 | AH98: 145 | AI98: 377833
B99: 原住民 | C99: Indigenous | D99: 827 | E99: 432 | F99: 395 | G99: 910 | H99: 472 | I99: 438 | J99: 5131 | K99: 11272807 | L99: 0 | M99: 0 | N99: 0 | O99: 30 | P99: 20 | Q99: 10 | R99: 30 | S99: 319050 | T99: 0 | U99: 0 | V99: 0 | W99: 0 | X99: 0 | Y99: 0 | Z99: 0 | AA99: 0 | AB99: 1 | AC99: 0 | AD99: 1 | AE99: 4 | AF99: 0 | AG99: 4 | AH99: 12 | AI99: 36000
A100: 臺南市 | B100: 計 | C100: Total | D100: 5893 | E100: 3005 | F100: 2888 | G100: 6208 | H100: 3166 | I100: 3042 | J100: 35092 | K100: 78798487 | L100: 6 | M100: 2 | N100: 4 | O100: 39 | P100: 23 | Q100: 16 | R100: 39 | S100: 1222137 | T100: 95 | U100: 54 | V100: 41 | W100: 109 | X100: 68 | Y100: 41 | Z100: 445 | AA100: 5518483 | AB100: 83 | AC100: 43 | AD100: 40 | AE100: 133 | AF100: 68 | AG100: 65 | AH100: 514 | AI100: 1542000
A101: Tainan City | B101: 一般 | C101: General | D101: 5720 | E101: 2921 | F101: 2799 | G101: 6026 | H101: 3078 | I101: 2948 | J101: 34108 | K101: 76590204 | L101: 6 | M101: 2 | N101: 4 | O101: 39 | P101: 23 | Q101: 16 | R101: 39 | S101: 1222137 | T101: 95 | U101: 54 | V101: 41 | W101: 109 | X101: 68 | Y101: 41 | Z101: 445 | AA101: 5518483 | AB101: 80 | AC101: 41 | AD101: 39 | AE101: 129 | AF101: 66 | AG101: 63 | AH101: 493 | AI101: 1479000
B102: 原住民 | C102: Indigenous | D102: 173 | E102: 84 | F102: 89 | G102: 182 | H102: 88 | I102: 94 | J102: 984 | K102: 2208283 | L102: 0 | M102: 0 | N102: 0 | O102: 0 | P102: 0 | Q102: 0 | R102: 0 | S102: 0 | T102: 0 | U102: 0 | V102: 0 | W102: 0 | X102: 0 | Y102: 0 | Z102: 0 | AA102: 0 | AB102: 3 | AC102: 2 | AD102: 1 | AE102: 4 | AF102: 2 | AG102: 2 | AH102: 21 | AI102: 63000
A103: 高 雄 市 | B103: 計 | C103: Total | D103: 8130 | E103: 4117 | F103: 4013 | G103: 8780 | H103: 4443 | I103: 4337 | J103: 49787 | K103: 120957202 | L103: 15 | M103: 6 | N103: 9 | O103: 37 | P103: 16 | Q103: 21 | R103: 37 | S103: 444007 | T103: 144 | U103: 78 | V103: 66 | W103: 163 | X103: 89 | Y103: 74 | Z103: 782 | AA103: 7933058 | AB103: 183 | AC103: 86 | AD103: 97 | AE103: 281 | AF103: 130 | AG103: 151 | AH103: 1093 | AI103: 3162210
A104: Kaohsiung City | B104: 一般 | C104: General | D104: 7673 | E104: 3876 | F104: 3797 | G104: 8286 | H104: 4183 | I104: 4103 | J104: 47008 | K104: 114265120 | L104: 15 | M104: 6 | N104: 9 | O104: 37 | P104: 16 | Q104: 21 | R104: 37 | S104: 444007 | T104: 135 | U104: 76 | V104: 59 | W104: 152 | X104: 87 | Y104: 65 | Z104: 730 | AA104: 7465058 | AB104: 165 | AC104: 79 | AD104: 86 | AE104: 255 | AF104: 117 | AG104: 138 | AH104: 983 | AI104: 2832210
B105: 原住民 | C105: Indigenous | D105: 457 | E105: 241 | F105: 216 | G105: 494 | H105: 260 | I105: 234 | J105: 2779 | K105: 6692082 | L105: 0 | M105: 0 | N105: 0 | O105: 0 | P105: 0 | Q105: 0 | R105: 0 | S105: 0 | T105: 9 | U105: 2 | V105: 7 | W105: 11 | X105: 2 | Y105: 9 | Z105: 52 | AA105: 468000 | AB105: 18 | AC105: 7 | AD105: 11 | AE105: 26 | AF105: 13 | AG105: 13 | AH105: 110 | AI105: 330000
A106: 宜蘭縣 | B106: 計 | C106: Total | D106: 1398 | E106: 697 | F106: 701 | G106: 1398 | H106: 697 | I106: 701 | J106: 7889 | K106: 17331908 | L106: 6 | M106: 4 | N106: 2 | O106: 6 | P106: 4 | Q106: 2 | R106: 6 | S106: 193943 | T106: 17 | U106: 3 | V106: 14 | W106: 17 | X106: 3 | Y106: 14 | Z106: 97 | AA106: 1006800 | AB106: 0 | AC106: 0 | AD106: 0 | AE106: 0 | AF106: 0 | AG106: 0 | AH106: 0 | AI106: 0
...

Sheet 2024
A1: 弱勢兒童及少年扶助概況Overview of Allowances for Disadvantaged Child and Youth
D2: =IF(D13=SUM(D16,D19,D25,D28,D31,D34,D22,D37,D40,D43,D46,D49,D52,D55,D58,D61,D64,D67,D70,D73,D76,D79),"","*") | E2: =IF(E13=SUM(E16,E19,E25,E28,E31,E34,E22,E37,E40,E43,E46,E49,E52,E55,E58,E61,E64,E67,E70,E73,E76,E79),"","*") | F2: =IF(F13=SUM(F16,F19,F25,F28,F31,F34,F22,F37,F40,F43,F46,F49,F52,F55,F58,F61,F64,F67,F70,F73,F76,F79),"","*") | J2: =IF(J13=SUM(J16,J19,J25,J28,J31,J34,J22,J37,J40,J43,J46,J49,J52,J55,J58,J61,J64,J67,J70,J73,J76,J79),"","*") | K2: =IF(K13=SUM(K16,K19,K25,K28,K31,K34,K22,K37,K40,K43,K46,K49,K52,K55,K58,K61,K64,K67,K70,K73,K76,K79),"","*") | L2: =IF(L13=SUM(L16,L19,L25,L28,L31,L34,L22,L37,L40,L43,L46,L49,L52,L55,L58,L61,L64,L67,L70,L73,L76,L79),"","*") | M2: =IF(M13=SUM(M16,M19,M25,M28,M31,M34,M22,M37,M40,M43,M46,M49,M52,M55,M58,M61,M64,M67,M70,M73,M76,M79),"","*") | N2: =IF(N13=SUM(N16,N19,N25,N28,N31,N34,N22,N37,N40,N43,N46,N49,N52,N55,N58,N61,N64,N67,N70,N73,N76,N79),"","*") | R2: =IF(R13=SUM(R16,R19,R25,R28,R31,R34,R22,R37,R40,R43,R46,R49,R52,R55,R58,R61,R64,R67,R70,R73,R76,R79),"","*") | S2: =IF(S13=SUM(S16,S19,S25,S28,S31,S34,S22,S37,S40,S43,S46,S49,S52,S55,S58,S61,S64,S67,S70,S73,S76,S79),"","*") | T2: =IF(T13=SUM(T16,T19,T25,T28,T31,T34,T22,T37,T40,T43,T46,T49,T52,T55,T58,T61,T64,T67,T70,T73,T76,T79),"","*") | U2: =IF(U13=SUM(U16,U19,U25,U28,U31,U34,U22,U37,U40,U43,U46,U49,U52,U55,U58,U61,U64,U67,U70,U73,U76,U79),"","*") | V2: =IF(V13=SUM(V16,V19,V25,V28,V31,V34,V22,V37,V40,V43,V46,V49,V52,V55,V58,V61,V64,V67,V70,V73,V76,V79),"","*") | Z2: =IF(Z13=SUM(Z16,Z19,Z25,Z28,Z31,Z34,Z22,Z37,Z40,Z43,Z46,Z49,Z52,Z55,Z58,Z61,Z64,Z67,Z70,Z73,Z76,Z79),"","*") | AA2: =IF(AA13=SUM(AA16,AA19,AA25,AA28,AA31,AA34,AA22,AA37,AA40,AA43,AA46,AA49,AA52,AA55,AA58,AA61,AA64,AA67,AA70,AA73,AA76,AA79),"","*") | AB2: =IF(AB13=SUM(AB16,AB19,AB25,AB28,AB31,AB34,AB22,AB37,AB40,AB43,AB46,AB49,AB52,AB55,AB58,AB61,AB64,AB67,AB70,AB73,AB76,AB79),"","*") | AC2: =IF(AC13=SUM(AC16,AC19,AC25,AC28,AC31,AC34,AC22,AC37,AC40,AC43,AC46,AC49,AC52,AC55,AC58,AC61,AC64,AC67,AC70,AC73,AC76,AC79),"","*") | AD2: =IF(AD13=SUM(AD16,AD19,AD25,AD28,AD31,AD34,AD22,AD37,AD40,AD43,AD46,AD49,AD52,AD55,AD58,AD61,AD64,AD67,AD70,AD73,AD76,AD79),"","*") | AH2: =IF(AH13=SUM(AH16,AH19,AH25,AH28,AH31,AH34,AH22,AH37,AH40,AH43,AH46,AH49,AH52,AH55,AH58,AH61,AH64,AH67,AH70,AH73,AH76,AH79),"","*") | AI2: =IF(AI13=SUM(AI16,AI19,AI25,AI28,AI31,AI34,AI22,AI37,AI40,AI43,AI46,AI49,AI52,AI55,AI58,AI61,AI64,AI67,AI70,AI73,AI76,AI79),"","*")
A3: 民國113年, 2024 | D3: =IF(D14=SUM(D17,D20,D26,D29,D32,D35,D23,D38,D41,D44,D47,D50,D53,D56,D59,D62,D65,D68,D71,D74,D77,D80),"","*") | E3: =IF(E14=SUM(E17,E20,E26,E29,E32,E35,E23,E38,E41,E44,E47,E50,E53,E56,E59,E62,E65,E68,E71,E74,E77,E80),"","*") | F3: =IF(F14=SUM(F17,F20,F26,F29,F32,F35,F23,F38,F41,F44,F47,F50,F53,F56,F59,F62,F65,F68,F71,F74,F77,F80),"","*") | J3: =IF(J14=SUM(J17,J20,J26,J29,J32,J35,J23,J38,J41,J44,J47,J50,J53,J56,J59,J62,J65,J68,J71,J74,J77,J80),"","*") | K3: =IF(K14=SUM(K17,K20,K26,K29,K32,K35,K23,K38,K41,K44,K47,K50,K53,K56,K59,K62,K65,K68,K71,K74,K77,K80),"","*") | L3: =IF(L14=SUM(L17,L20,L26,L29,L32,L35,L23,L38,L41,L44,L47,L50,L53,L56,L59,L62,L65,L68,L71,L74,L77,L80),"","*") | M3: =IF(M14=SUM(M17,M20,M26,M29,M32,M35,M23,M38,M41,M44,M47,M50,M53,M56,M59,M62,M65,M68,M71,M74,M77,M80),"","*") | N3: =IF(N14=SUM(N17,N20,N26,N29,N32,N35,N23,N38,N41,N44,N47,N50,N53,N56,N59,N62,N65,N68,N71,N74,N77,N80),"","*") | R3: =IF(R14=SUM(R17,R20,R26,R29,R32,R35,R23,R38,R41,R44,R47,R50,R53,R56,R59,R62,R65,R68,R71,R74,R77,R80),"","*") | S3: =IF(S14=SUM(S17,S20,S26,S29,S32,S35,S23,S38,S41,S44,S47,S50,S53,S56,S59,S62,S65,S68,S71,S74,S77,S80),"","*") | T3: =IF(T14=SUM(T17,T20,T26,T29,T32,T35,T23,T38,T41,T44,T47,T50,T53,T56,T59,T62,T65,T68,T71,T74,T77,T80),"","*") | U3: =IF(U14=SUM(U17,U20,U26,U29,U32,U35,U23,U38,U41,U44,U47,U50,U53,U56,U59,U62,U65,U68,U71,U74,U77,U80),"","*") | V3: =IF(V14=SUM(V17,V20,V26,V29,V32,V35,V23,V38,V41,V44,V47,V50,V53,V56,V59,V62,V65,V68,V71,V74,V77,V80),"","*") | Z3: =IF(Z14=SUM(Z17,Z20,Z26,Z29,Z32,Z35,Z23,Z38,Z41,Z44,Z47,Z50,Z53,Z56,Z59,Z62,Z65,Z68,Z71,Z74,Z77,Z80),"","*") | AA3: =IF(AA14=SUM(AA17,AA20,AA26,AA29,AA32,AA35,AA23,AA38,AA41,AA44,AA47,AA50,AA53,AA56,AA59,AA62,AA65,AA68,AA71,AA74,AA77,AA80),"","*") | AB3: =IF(AB14=SUM(AB17,AB20,AB26,AB29,AB32,AB35,AB23,AB38,AB41,AB44,AB47,AB50,AB53,AB56,AB59,AB62,AB65,AB68,AB71,AB74,AB77,AB80),"","*") | AC3: =IF(AC14=SUM(AC17,AC20,AC26,AC29,AC32,AC35,AC23,AC38,AC41,AC44,AC47,AC50,AC53,AC56,AC59,AC62,AC65,AC68,AC71,AC74,AC77,AC80),"","*") | AD3: =IF(AD14=SUM(AD17,AD20,AD26,AD29,AD32,AD35,AD23,AD38,AD41,AD44,AD47,AD50,AD53,AD56,AD59,AD62,AD65,AD68,AD71,AD74,AD77,AD80),"","*") | AH3: =IF(AH14=SUM(AH17,AH20,AH26,AH29,AH32,AH35,AH23,AH38,AH41,AH44,AH47,AH50,AH53,AH56,AH59,AH62,AH65,AH68,AH71,AH74,AH77,AH80),"","*") | AI3: =IF(AI14=SUM(AI17,AI20,AI26,AI29,AI32,AI35,AI23,AI38,AI41,AI44,AI47,AI50,AI53,AI56,AI59,AI62,AI65,AI68,AI71,AI74,AI77,AI80),"","*")
A4: 區域及特殊族群別 Locality & Ethnos | D4: 弱勢兒童及少年生活扶助 Living Support for Disadvantaged Child and Youth | L4: 弱勢兒童及少年醫療補助 Medical Subsidies for Disadvantaged Child and Youth | T4: 托育補助/津貼 Childcare Subsidies/Allowance for Low-Income Families | AB4: 弱勢兒少緊急生活扶助 Emergency Living Relief to Disadvantaged Child and Youth
D7: 期底人數(人)Persons | G7: 本年累計至期底人數(人) Accumulated to the End of the Current Persons | J7: 人次(月) Person-Times | K7: 金額(元) Amount(NT$) | L7: 期底人數(人)Persons | O7: 本年累計至期底人數(人) Accumulated to the End of the Current Persons | R7: 人次(月) Person-Times | S7: 金額(元) Amount(NT$) | T7: 期底人數(人)Persons | W7: 本年累計至期底人數(人) Accumulated to the End of the Current Persons | Z7: 人次(月) Person-Times | AA7: 金額(元) Amount(NT$) | AB7: 期底人數(人)Persons | AE7: 本年累計至期底人數(人) Accumulated to the End of the Current Persons | AH7: 人次(月) Person-Times | AI7: 金額(元) Amount(NT$)
D9: 計 Total | E9: 男 Male | F9: 女 Female | G9: 計 Total | H9: 男 Male | I9: 女 Female | L9: 計 Total | M9: 男 Male | N9: 女 Female | O9: 計 Total | P9: 男 Male | Q9: 女 Female | T9: 計 Total | U9: 男 Male | V9: 女 Female | W9: 計 Total | X9: 男 Male | Y9: 女 Female | AB9: 計 Total | AC9: 男 Male | AD9: 女 Female | AE9: 計 Total | AF9: 男 Male | AG9: 女 Female
A12: 總計 | B12: 計 | C12: Total | D12: 82849 | E12: 42047 | F12: 40802 | G12: 98456 | H12: 50019 | I12: 48437 | J12: 1020350 | K12: 2249004138 | L12: 5664 | M12: 3658 | N12: 2006 | O12: 11778 | P12: 7100 | Q12: 4678 | R12: 21085 | S12: 184720464 | T12: 1334 | U12: 732 | V12: 602 | W12: 2856 | X12: 1586 | Y12: 1270 | Z12: 14533 | AA12: 164550541 | AB12: 1020 | AC12: 511 | AD12: 509 | AE12: 2583 | AF12: 1340 | AG12: 1243 | AH12: 12463 | AI12: 36506111
A13: Total | B13: 一般 | C13: General | D13: 74564 | E13: 37815 | F13: 36749 | G13: 88635 | H13: 44966 | I13: 43669 | J13: 921015 | K13: 2031462424 | L13: 5612 | M13: 3628 | N13: 1984 | O13: 11677 | P13: 7048 | Q13: 4629 | R13: 20914 | S13: 182521891 | T13: 1281 | U13: 703 | V13: 578 | W13: 2771 | X13: 1542 | Y13: 1229 | Z13: 14091 | AA13: 160057476 | AB13: 903 | AC13: 454 | AD13: 449 | AE13: 2341 | AF13: 1214 | AG13: 1127 | AH13: 11353 | AI13: 33355959
B14: 原住民 | C14: Indigenous | D14: 8285 | E14: 4232 | F14: 4053 | G14: 9821 | H14: 5053 | I14: 4768 | J14: 99335 | K14: 217541714 | L14: 52 | M14: 30 | N14: 22 | O14: 101 | P14: 52 | Q14: 49 | R14: 171 | S14: 2198573 | T14: 53 | U14: 29 | V14: 24 | W14: 85 | X14: 44 | Y14: 41 | Z14: 442 | AA14: 4493065 | AB14: 117 | AC14: 57 | AD14: 60 | AE14: 242 | AF14: 126 | AG14: 116 | AH14: 1110 | AI14: 3150152
A15: 新北市 | B15: 計 | C15: Total | D15: 21844 | E15: 11140 | F15: 10704 | G15: 26686 | H15: 13610 | I15: 13076 | J15: 268326 | K15: 594072922 | L15: 2872 | M15: 1761 | N15: 1111 | O15: 3813 | P15: 2400 | Q15: 1413 | R15: 6567 | S15: 39789260 | T15: 150 | U15: 78 | V15: 72 | W15: 281 | X15: 156 | Y15: 125 | Z15: 1869 | AA15: 19769872 | AB15: 132 | AC15: 77 | AD15: 55 | AE15: 240 | AF15: 127 | AG15: 113 | AH15: 1471 | AI15: 4397473
A16: New Taipei City | B16: 一般 | C16: General | D16: 20752 | E16: 10583 | F16: 10169 | G16: 25351 | H16: 12929 | I16: 12422 | J16: 254910 | K16: 564369276 | L16: 2872 | M16: 1761 | N16: 1111 | O16: 3813 | P16: 2400 | Q16: 1413 | R16: 6567 | S16: 39789260 | T16: 150 | U16: 78 | V16: 72 | W16: 281 | X16: 156 | Y16: 125 | Z16: 1869 | AA16: 19769872 | AB16: 132 | AC16: 77 | AD16: 55 | AE16: 240 | AF16: 127 | AG16: 113 | AH16: 1471 | AI16: 4397473
B17: 原住民 | C17: Indigenous | D17: 1092 | E17: 557 | F17: 535 | G17: 1335 | H17: 681 | I17: 654 | J17: 13416 | K17: 29703646 | L17: 0 | M17: 0 | N17: 0 | O17: 0 | P17: 0 | Q17: 0 | R17: 0 | S17: 0 | T17: 0 | U17: 0 | V17: 0 | W17: 0 | X17: 0 | Y17: 0 | Z17: 0 | AA17: 0 | AB17: 0 | AC17: 0 | AD17: 0 | AE17: 0 | AF17: 0 | AG17: 0 | AH17: 0 | AI17: 0
A18: 臺北市 | B18: 計 | C18: Total | D18: 0 | E18: 0 | F18: 0 | G18: 0 | H18: 0 | I18: 0 | J18: 0 | K18: 0 | L18: 20 | M18: 11 | N18: 9 | O18: 298 | P18: 185 | Q18: 113 | R18: 566 | S18: 14357214 | T18: 126 | U18: 71 | V18: 55 | W18: 225 | X18: 124 | Y18: 101 | Z18: 1683 | AA18: 20270500 | AB18: 249 | AC18: 129 | AD18: 120 | AE18: 566 | AF18: 293 | AG18: 273 | AH18: 3336 | AI18: 10008000
A19: Taipei City | B19: 一般 | C19: General | D19: 0 | E19: 0 | F19: 0 | G19: 0 | H19: 0 | I19: 0 | J19: 0 | K19: 0 | L19: 19 | M19: 10 | N19: 9 | O19: 293 | P19: 182 | Q19: 111 | R19: 559 | S19: 14001192 | T19: 126 | U19: 71 | V19: 55 | W19: 225 | X19: 124 | Y19: 101 | Z19: 1683 | AA19: 20270500 | AB19: 240 | AC19: 125 | AD19: 115 | AE19: 549 | AF19: 284 | AG19: 265 | AH19: 3274 | AI19: 9822000
B20: 原住民 | C20: Indigenous | D20: 0 | E20: 0 | F20: 0 | G20: 0 | H20: 0 | I20: 0 | J20: 0 | K20: 0 | L20: 1 | M20: 1 | N20: 0 | O20: 5 | P20: 3 | Q20: 2 | R20: 7 | S20: 356022 | T20: 0 | U20: 0 | V20: 0 | W20: 0 | X20: 0 | Y20: 0 | Z20: 0 | AA20: 0 | AB20: 9 | AC20: 4 | AD20: 5 | AE20: 17 | AF20: 9 | AG20: 8 | AH20: 62 | AI20: 186000
A21: 桃園市 | B21: 計 | C21: Total | D21: 5568 | E21: 2823 | F21: 2745 | G21: 6696 | H21: 3404 | I21: 3292 | J21: 66723 | K21: 154141164 | L21: 296 | M21: 157 | N21: 139 | O21: 3467 | P21: 1817 | Q21: 1650 | R21: 3393 | S21: 15934857 | T21: 134 | U21: 84 | V21: 50 | W21: 254 | X21: 154 | Y21: 100 | Z21: 1551 | AA21: 15638600 | AB21: 24 | AC21: 14 | AD21: 10 | AE21: 50 | AF21: 27 | AG21: 23 | AH21: 275 | AI21: 825000
A22: Taoyuan City | B22: 一般 | C22: General | D22: 5063 | E22: 2591 | F22: 2472 | G22: 6109 | H22: 3128 | I22: 2981 | J22: 61416 | K22: 141866073 | L22: 296 | M22: 157 | N22: 139 | O22: 3467 | P22: 1817 | Q22: 1650 | R22: 3393 | S22: 15934857 | T22: 134 | U22: 84 | V22: 50 | W22: 254 | X22: 154 | Y22: 100 | Z22: 1551 | AA22: 15638600 | AB22: 19 | AC22: 12 | AD22: 7 | AE22: 37 | AF22: 22 | AG22: 15 | AH22: 222 | AI22: 666000
B23: 原住民 | C23: Indigenous | D23: 505 | E23: 232 | F23: 273 | G23: 587 | H23: 276 | I23: 311 | J23: 5307 | K23: 12275091 | L23: 0 | M23: 0 | N23: 0 | O23: 0 | P23: 0 | Q23: 0 | R23: 0 | S23: 0 | T23: 0 | U23: 0 | V23: 0 | W23: 0 | X23: 0 | Y23: 0 | Z23: 0 | AA23: 0 | AB23: 5 | AC23: 2 | AD23: 3 | AE23: 13 | AF23: 5 | AG23: 8 | AH23: 53 | AI23: 159000
A24: 臺中市 | B24: 計 | C24: Total | D24: 12332 | E24: 6324 | F24: 6008 | G24: 14788 | H24: 7575 | I24: 7213 | J24: 155163 | K24: 336984345 | L24: 2311 | M24: 1649 | N24: 662 | O24: 3051 | P24: 2105 | Q24: 946 | R24: 8996 | S24: 88821059 | T24: 360 | U24: 198 | V24: 162 | W24: 625 | X24: 342 | Y24: 283 | Z24: 3968 | AA24: 43497672 | AB24: 20 | AC24: 7 | AD24: 13 | AE24: 51 | AF24: 26 | AG24: 25 | AH24: 311 | AI24: 855257
A25: Taichung City | B25: 一般 | C25: General | D25: 11463 | E25: 5871 | F25: 5592 | G25: 13703 | H25: 7003 | I25: 6700 | J25: 144268 | K25: 313048030 | L25: 2284 | M25: 1633 | N25: 651 | O25: 3017 | P25: 2087 | Q25: 930 | R25: 8897 | S25: 88183809 | T25: 360 | U25: 198 | V25: 162 | W25: 625 | X25: 342 | Y25: 283 | Z25: 3968 | AA25: 43497672 | AB25: 16 | AC25: 7 | AD25: 9 | AE25: 46 | AF25: 25 | AG25: 21 | AH25: 293 | AI25: 801257
B26: 原住民 | C26: Indigenous | D26: 869 | E26: 453 | F26: 416 | G26: 1085 | H26: 572 | I26: 513 | J26: 10895 | K26: 23936315 | L26: 27 | M26: 16 | N26: 11 | O26: 34 | P26: 18 | Q26: 16 | R26: 99 | S26: 637250 | T26: 0 | U26: 0 | V26: 0 | W26: 0 | X26: 0 | Y26: 0 | Z26: 0 | AA26: 0 | AB26: 4 | AC26: 0 | AD26: 4 | AE26: 5 | AF26: 1 | AG26: 4 | AH26: 18 | AI26: 54000
A27: 臺南市 | B27: 計 | C27: Total | D27: 5888 | E27: 3002 | F27: 2886 | G27: 6828 | H27: 3482 | I27: 3346 | J27: 71275 | K27: 158558836 | L27: 14 | M27: 12 | N27: 2 | O27: 108 | P27: 59 | Q27: 49 | R27: 114 | S27: 2529357 | T27: 64 | U27: 40 | V27: 24 | W27: 623 | X27: 354 | Y27: 269 | Z27: 617 | AA27: 7360941 | AB27: 79 | AC27: 40 | AD27: 39 | AE27: 216 | AF27: 110 | AG27: 106 | AH27: 926 | AI27: 2778000
A28: Tainan City | B28: 一般 | C28: General | D28: 5715 | E28: 2918 | F28: 2797 | G28: 6626 | H28: 3385 | I28: 3241 | J28: 69277 | K28: 154119189 | L28: 14 | M28: 12 | N28: 2 | O28: 107 | P28: 58 | Q28: 49 | R28: 113 | S28: 2523167 | T28: 64 | U28: 40 | V28: 24 | W28: 623 | X28: 354 | Y28: 269 | Z28: 617 | AA28: 7360941 | AB28: 79 | AC28: 40 | AD28: 39 | AE28: 212 | AF28: 108 | AG28: 104 | AH28: 906 | AI28: 2718000
B29: 原住民 | C29: Indigenous | D29: 173 | E29: 84 | F29: 89 | G29: 202 | H29: 97 | I29: 105 | J29: 1998 | K29: 4439647 | L29: 0 | M29: 0 | N29: 0 | O29: 1 | P29: 1 | Q29: 0 | R29: 1 | S29: 6190 | T29: 0 | U29: 0 | V29: 0 | W29: 0 | X29: 0 | Y29: 0 | Z29: 0 | AA29: 0 | AB29: 0 | AC29: 0 | AD29: 0 | AE29: 4 | AF29: 2 | AG29: 2 | AH29: 20 | AI29: 60000
A30: 高 雄 市 | B30: 計 | C30: Total | D30: 8844 | E30: 4463 | F30: 4381 | G30: 10556 | H30: 5307 | I30: 5249 | J30: 108379 | K30: 263463785 | L30: 18 | M30: 9 | N30: 9 | O30: 99 | P30: 58 | Q30: 41 | R30: 103 | S30: 1514777 | T30: 114 | U30: 64 | V30: 50 | W30: 222 | X30: 130 | Y30: 92 | Z30: 1524 | AA30: 14761720 | AB30: 180 | AC30: 81 | AD30: 99 | AE30: 423 | AF30: 216 | AG30: 207 | AH30: 2436 | AI30: 7060591
A31: Kaohsiung City | B31: 一般 | C31: General | D31: 8380 | E31: 4210 | F31: 4170 | G31: 10013 | H31: 5013 | I31: 5000 | J31: 102906 | K31: 250240134 | L31: 18 | M31: 9 | N31: 9 | O31: 99 | P31: 58 | Q31: 41 | R31: 103 | S31: 1514777 | T31: 91 | U31: 51 | V31: 40 | W31: 186 | X31: 110 | Y31: 76 | Z31: 1282 | AA31: 12578520 | AB31: 164 | AC31: 71 | AD31: 93 | AE31: 381 | AF31: 194 | AG31: 187 | AH31: 2201 | AI31: 6407557
B32: 原住民 | C32: Indigenous | D32: 464 | E32: 253 | F32: 211 | G32: 543 | H32: 294 | I32: 249 | J32: 5473 | K32: 13223651 | L32: 0 | M32: 0 | N32: 0 | O32: 0 | P32: 0 | Q32: 0 | R32: 0 | S32: 0 | T32: 23 | U32: 13 | V32: 10 | W32: 36 | X32: 20 | Y32: 16 | Z32: 242 | AA32: 2183200 | AB32: 16 | AC32: 10 | AD32: 6 | AE32: 42 | AF32: 22 | AG32: 20 | AH32: 235 | AI32: 653034
A33: 宜蘭縣 | B33: 計 | C33: Total | D33: 1529 | E33: 752 | F33: 777 | G33: 1598 | H33: 795 | I33: 803 | J33: 16598 | K33: 36448592 | L33: 8 | M33: 5 | N33: 3 | O33: 14 | P33: 6 | Q33: 8 | R33: 14 | S33: 405742 | T33: 14 | U33: 7 | V33: 7 | W33: 27 | X33: 12 | Y33: 15 | Z33: 112 | AA33: 1250176 | AB33: 1 | AC33: 1 | AD33: 0 | AE33: 1 | AF33: 1 | AG33: 0 | AH33: 5 | AI33: 15000
A34: Yilan County | B34: 一般 | C34: General | D34: 1218 | E34: 596 | F34: 622 | G34: 1276 | H34: 634 | I34: 642 | J34: 13444 | K34: 29519254 | L34: 8 | M34: 5 | N34: 3 | O34: 12 | P34: 6 | Q34: 6 | R34: 12 | S34: 384971 | T34: 12 | U34: 7 | V34: 5 | W34: 23 | X34: 12 | Y34: 11 | Z34: 96 | AA34: 1015308 | AB34: 1 | AC34: 1 | AD34: 0 | AE34: 1 | AF34: 1 | AG34: 0 | AH34: 5 | AI34: 15000
B35: 原住民 | C35: Indigenous | D35: 311 | E35: 156 | F35: 155 | G35: 322 | H35: 161 | I35: 161 | J35: 3154 | K35: 6929338 | L35: 0 | M35: 0 | N35: 0 | O35: 2 | P35: 0 | Q35: 2 | R35: 2 | S35: 20771 | T35: 2 | U35: 0 | V35: 2 | W35: 4 | X35: 0 | Y35: 4 | Z35: 16 | AA35: 234868 | AB35: 0 | AC35: 0 | AD35: 0 | AE35: 0 | AF35: 0 | AG35: 0 | AH35: 0 | AI35: 0
A36: 新竹縣 | B36: 計 | C36: Total | D36: 1340 | E36: 679 | F36: 661 | G36: 1424 | H36: 719 | I36: 705 | J36: 14921 | K36: 27569073 | L36: 3 | M36: 0 | N36: 3 | O36: 24 | P36: 12 | Q36: 12 | R36: 27 | S36: 924336 | T36: 36 | U36: 12 | V36: 24 | W36: 66 | X36: 22 | Y36: 44 | Z36: 257 | AA36: 3586000 | AB36: 112 | AC36: 49 | AD36: 63 | AE36: 153 | AF36: 74 | AG36: 79 | AH36: 884 | AI36: 2486651
A37: Hsinchu County | B37: 一般 | C37: General | D37: 997 | E37: 509 | F37: 488 | G37: 1056 | H37: 537 | I37: 519 | J37: 11307 | K37: 23268294 | L37: 1 | M37: 0 | N37: 1 | O37: 11 | P37: 8 | Q37: 3 | R37: 14 | S37: 791956 | T37: 30 | U37: 11 | V37: 19 | W37: 54 | X37: 19 | Y37: 35 | Z37: 215 | AA37: 3024000 | AB37: 65 | AC37: 24 | AD37: 41 | AE37: 88 | AF37: 36 | AG37: 52 | AH37: 534 | AI37: 1489379
B38: 原住民 | C38: Indigenous | D38: 343 | E38: 170 | F38: 173 | G38: 368 | H38: 182 | I38: 186 | J38: 3614 | K38: 4300779 | L38: 2 | M38: 0 | N38: 2 | O38: 13 | P38: 4 | Q38: 9 | R38: 13 | S38: 132380 | T38: 6 | U38: 1 | V38: 5 | W38: 12 | X38: 3 | Y38: 9 | Z38: 42 | AA38: 562000 | AB38: 47 | AC38: 25 | AD38: 22 | AE38: 65 | AF38: 38 | AG38: 27 | AH38: 350 | AI38: 997272
A39: 苗栗縣 | B39: 計 | C39: Total | D39: 1448 | E39: 713 | F39: 735 | G39: 1663 | H39: 833 | I39: 830 | J39: 16809 | K39: 36920585 | L39: 21 | M39: 10 | N39: 11 | O39: 44 | P39: 19 | Q39: 25 | R39: 417 | S39: 1109885 | T39: 7 | U39: 4 | V39: 3 | W39: 14 | X39: 6 | Y39: 8 | Z39: 121 | AA39: 1687000 | AB39: 22 | AC39: 9 | AD39: 13 | AE39: 107 | AF39: 53 | AG39: 54 | AH39: 538 | AI39: 1548090
A40: Miaoli County | B40: 一般 | C40: General | D40: 1233 | E40: 589 | F40: 644 | G40: 1402 | H40: 678 | I40: 724 | J40: 14301 | K40: 31410509 | L40: 21 | M40: 10 | N40: 11 | O40: 44 | P40: 19 | Q40: 25 | R40: 417 | S40: 1109885 | T40: 7 | U40: 4 | V40: 3 | W40: 14 | X40: 6 | Y40: 8 | Z40: 121 | AA40: 1687000 | AB40: 22 | AC40: 9 | AD40: 13 | AE40: 105 | AF40: 52 | AG40: 53 | AH40: 536 | AI40: 1542090
B41: 原住民 | C41: Indigenous | D41: 215 | E41: 124 | F41: 91 | G41: 261 | H41: 155 | I41: 106 | J41: 2508 | K41: 5510076 | L41: 0 | M41: 0 | N41: 0 | O41: 0 | P41: 0 | Q41: 0 | R41: 0 | S41: 0 | T41: 0 | U41: 0 | V41: 0 | W41: 0 | X41: 0 | Y41: 0 | Z41: 0 | AA41: 0 | AB41: 0 | AC41: 0 | AD41: 0 | AE41: 2 | AF41: 1 | AG41: 1 | AH41: 2 | AI41: 6000
A42: 彰化縣 | B42: 計 | C42: Total | D42: 5951 | E42: 3014 | F42: 2937 | G42: 6997 | H42: 3561 | I42: 3436 | J42: 78691 | K42: 159964016 | L42: 18 | M42: 8 | N42: 10 | O42: 168 | P42: 92 | Q42: 76 | R42: 178 | S42: 5403265 | T42: 117 | U42: 58 | V42: 59 | W42: 174 | X42: 91 | Y42: 83 | Z42: 1272 | AA42: 17160240 | AB42: 75 | AC42: 39 | AD42: 36 | AE42: 155 | AF42: 81 | AG42: 74 | AH42: 820 | AI42: 2321360
A43: Changhua County | B43: 一般 | C43: General | D43: 5761 | E43: 2937 | F43: 2824 | G43: 6773 | H43: 3463 | I43: 3310 | J43: 76333 | K43: 155154783 | L43: 18 | M43: 8 | N43: 10 | O43: 168 | P43: 92 | Q43: 76 | R43: 178 | S43: 5403265 | T43: 117 | U43: 58 | V43: 59 | W43: 174 | X43: 91 | Y43: 83 | Z43: 1272 | AA43: 17160240 | AB43: 74 | AC43: 38 | AD43: 36 | AE43: 150 | AF43: 78 | AG43: 72 | AH43: 795 | AI43: 2246360
B44: 原住民 | C44: Indigenous | D44: 190 | E44: 77 | F44: 113 | G44: 224 | H44: 98 | I44: 126 | J44: 2358 | K44: 4809233 | L44: 0 | M44: 0 | N44: 0 | O44: 0 | P44: 0 | Q44: 0 | R44: 0 | S44: 0 | T44: 0 | U44: 0 | V44: 0 | W44: 0 | X44: 0 | Y44: 0 | Z44: 0 | AA44: 0 | AB44: 1 | AC44: 1 | AD44: 0 | AE44: 5 | AF44: 3 | AG44: 2 | AH44: 25 | AI44: 75000
A45: 南投縣 | B45: 計 | C45: Total | D45: 1295 | E45: 679 | F45: 616 | G45: 1467 | H45: 763 | I45: 704 | J45: 16831 | K45: 34785094 | L45: 3 | M45: 2 | N45: 1 | O45: 67 | P45: 39 | Q45: 28 | R45: 61 | S45: 2135579 | T45: 1 | U45: 0 | V45: 1 | W45: 1 | X45: 0 | Y45: 1 | Z45: 12 | AA45: 185400 | AB45: 5 | AC45: 3 | AD45: 2 | AE45: 9 | AF45: 5 | AG45: 4 | AH45: 23 | AI45: 69000
A46: Nantou County | B46: 一般 | C46: General | D46: 1050 | E46: 556 | F46: 494 | G46: 1206 | H46: 630 | I46: 576 | J46: 14018 | K46: 28916907 | L46: 3 | M46: 2 | N46: 1 | O46: 61 | P46: 36 | Q46: 25 | R46: 57 | S46: 1977877 | T46: 1 | U46: 0 | V46: 1 | W46: 1 | X46: 0 | Y46: 1 | Z46: 12 | AA46: 185400 | AB46: 5 | AC46: 3 | AD46: 2 | AE46: 9 | AF46: 5 | AG46: 4 | AH46: 23 | AI46: 69000
B47: 原住民 | C47: Indigenous | D47: 245 | E47: 123 | F47: 122 | G47: 261 | H47: 133 | I47: 128 | J47: 2813 | K47: 5868187 | L47: 0 | M47: 0 | N47: 0 | O47: 6 | P47: 3 | Q47: 3 | R47: 4 | S47: 157702 | T47: 0 | U47: 0 | V47: 0 | W47: 0 | X47: 0 | Y47: 0 | Z47: 0 | AA47: 0 | AB47: 0 | AC47: 0 | AD47: 0 | AE47: 0 | AF47: 0 | AG47: 0 | AH47: 0 | AI47: 0
A48: 雲林縣 | B48: 計 | C48: Total | D48: 2334 | E48: 1145 | F48: 1189 | G48: 2782 | H48: 1391 | I48: 1391 | J48: 28541 | K48: 62704403 | L48: 3 | M48: 2 | N48: 1 | O48: 435 | P48: 225 | Q48: 210 | R48: 435 | S48: 7125773 | T48: 77 | U48: 47 | V48: 30 | W48: 97 | X48: 53 | Y48: 44 | Z48: 177 | AA48: 2489424 | AB48: 24 | AC48: 14 | AD48: 10 | AE48: 344 | AF48: 181 | AG48: 163 | AH48: 427 | AI48: 1276000
A49: Yunlin County | B49: 一般 | C49: General | D49: 2302 | E49: 1128 | F49: 1174 | G49: 2735 | H49: 1367 | I49: 1368 | J49: 28477 | K49: 62563759 | L49: 3 | M49: 2 | N49: 1 | O49: 435 | P49: 225 | Q49: 210 | R49: 435 | S49: 7125773 | T49: 77 | U49: 47 | V49: 30 | W49: 97 | X49: 53 | Y49: 44 | Z49: 177 | AA49: 2489424 | AB49: 24 | AC49: 14 | AD49: 10 | AE49: 344 | AF49: 181 | AG49: 163 | AH49: 427 | AI49: 1276000
B50: 原住民 | C50: Indigenous | D50: 32 | E50: 17 | F50: 15 | G50: 47 | H50: 24 | I50: 23 | J50: 64 | K50: 140644 | L50: 0 | M50: 0 | N50: 0 | O50: 0 | P50: 0 | Q50: 0 | R50: 0 | S50: 0 | T50: 0 | U50: 0 | V50: 0 | W50: 0 | X50: 0 | Y50: 0 | Z50: 0 | AA50: 0 | AB50: 0 | AC50: 0 | AD50: 0 | AE50: 0 | AF50: 0 | AG50: 0 | AH50: 0 | AI50: 0
A51: 嘉義縣 | B51: 計 | C51: Total | D51: 2704 | E51: 1367 | F51: 1337 | G51: 3259 | H51: 1635 | I51: 1624 | J51: 35858 | K51: 72916184 | L51: 2 | M51: 1 | N51: 1 | O51: 22 | P51: 8 | Q51: 14 | R51: 22 | S51: 421213 | T51: 16 | U51: 5 | V51: 11 | W51: 23 | X51: 11 | Y51: 12 | Z51: 124 | AA51: 1404100 | AB51: 44 | AC51: 23 | AD51: 21 | AE51: 96 | AF51: 50 | AG51: 46 | AH51: 347 | AI51: 1041000
A52: Chiayi County | B52: 一般 | C52: General | D52: 2602 | E52: 1313 | F52: 1289 | G52: 3135 | H52: 1570 | I52: 1565 | J52: 34582 | K52: 70310542 | L52: 2 | M52: 1 | N52: 1 | O52: 22 | P52: 8 | Q52: 14 | R52: 22 | S52: 421213 | T52: 16 | U52: 5 | V52: 11 | W52: 23 | X52: 11 | Y52: 12 | Z52: 124 | AA52: 1404100 | AB52: 44 | AC52: 23 | AD52: 21 | AE52: 93 | AF52: 48 | AG52: 45 | AH52: 334 | AI52: 1002000
B53: 原住民 | C53: Indigenous | D53: 102 | E53: 54 | F53: 48 | G53: 124 | H53: 65 | I53: 59 | J53: 1276 | K53: 2605642 | L53: 0 | M53: 0 | N53: 0 | O53: 0 | P53: 0 | Q53: 0 | R53: 0 | S53: 0 | T53: 0 | U53: 0 | V53: 0 | W53: 0 | X53: 0 | Y53: 0 | Z53: 0 | AA53: 0 | AB53: 0 | AC53: 0 | AD53: 0 | AE53: 3 | AF53: 2 | AG53: 1 | AH53: 13 | AI53: 39000
A54: 屏東縣 | B54: 計 | C54: Total | D54: 3498 | E54: 1749 | F54: 1749 | G54: 3820 | H54: 1911 | I54: 1909 | J54: 41467 | K54: 85155622 | L54: 13 | M54: 7 | N54: 6 | O54: 19 | P54: 9 | Q54: 10 | R54: 19 | S54: 532134 | T54: 47 | U54: 25 | V54: 22 | W54: 80 | X54: 47 | Y54: 33 | Z54: 513 | AA54: 6837467 | AB54: 3 | AC54: 3 | AD54: 0 | AE54: 5 | AF54: 5 | AG54: 0 | AH54: 12 | AI54: 36000
A55: Pingtung County | B55: 一般 | C55: General | D55: 2847 | E55: 1400 | F55: 1447 | G55: 3116 | H55: 1536 | I55: 1580 | J55: 34005 | K55: 69627085 | L55: 13 | M55: 7 | N55: 6 | O55: 19 | P55: 9 | Q55: 10 | R55: 19 | S55: 532134 | T55: 46 | U55: 24 | V55: 22 | W55: 78 | X55: 45 | Y55: 33 | Z55: 511 | AA55: 6811717 | AB55: 2 | AC55: 2 | AD55: 0 | AE55: 4 | AF55: 4 | AG55: 0 | AH55: 10 | AI55: 30000
B56: 原住民 | C56: Indigenous | D56: 651 | E56: 349 | F56: 302 | G56: 704 | H56: 375 | I56: 329 | J56: 7462 | K56: 15528537 | L56: 0 | M56: 0 | N56: 0 | O56: 0 | P56: 0 | Q56: 0 | R56: 0 | S56: 0 | T56: 1 | U56: 1 | V56: 0 | W56: 2 | X56: 2 | Y56: 0 | Z56: 2 | AA56: 25750 | AB56: 1 | AC56: 1 | AD56: 0 | AE56: 1 | AF56: 1 | AG56: 0 | AH56: 2 | AI56: 6000
A57: 臺東縣 | B57: 計 | C57: Total | D57: 1836 | E57: 936 | F57: 900 | G57: 2198 | H57: 1128 | I57: 1070 | J57: 23736 | K57: 53834635 | L57: 5 | M57: 2 | N57: 3 | O57: 26 | P57: 14 | Q57: 12 | R57: 28 | S57: 637975 | T57: 12 | U57: 7 | V57: 5 | W57: 23 | X57: 10 | Y57: 13 | Z57: 140 | AA57: 1564365 | AB57: 22 | AC57: 9 | AD57: 13 | AE57: 52 | AF57: 25 | AG57: 27 | AH57: 291 | AI57: 734837
A58: Taitung County | B58: 一般 | C58: General | D58: 615 | E58: 308 | F58: 307 | G58: 752 | H58: 375 | I58: 377 | J58: 8147 | K58: 18402707 | L58: 1 | M58: 0 | N58: 1 | O58: 7 | P58: 4 | Q58: 3 | R58: 7 | S58: 130791 | T58: 2 | U58: 2 | V58: 0 | W58: 6 | X58: 3 | Y58: 3 | Z58: 43 | AA58: 495080 | AB58: 2 | AC58: 2 | AD58: 0 | AE58: 14 | AF58: 8 | AG58: 6 | AH58: 103 | AI58: 245991
B59: 原住民 | C59: Indigenous | D59: 1221 | E59: 628 | F59: 593 | G59: 1446 | H59: 753 | I59: 693 | J59: 15589 | K59: 35431928 | L59: 4 | M59: 2 | N59: 2 | O59: 19 | P59: 10 | Q59: 9 | R59: 21 | S59: 507184 | T59: 10 | U59: 5 | V59: 5 | W59: 17 | X59: 7 | Y59: 10 | Z59: 97 | AA59: 1069285 | AB59: 20 | AC59: 7 | AD59: 13 | AE59: 38 | AF59: 17 | AG59: 21 | AH59: 188 | AI59: 488846
A60: 花蓮縣 | B60: 計 | C60: Total | D60: 2613 | E60: 1359 | F60: 1254 | G60: 3222 | H60: 1672 | I60: 1550 | J60: 33495 | K60: 75835626 | L60: 30 | M60: 13 | N60: 17 | O60: 49 | P60: 21 | Q60: 28 | R60: 60 | S60: 695216 | T60: 14 | U60: 10 | V60: 4 | W60: 20 | X60: 14 | Y60: 6 | Z60: 30 | AA60: 360589 | AB60: 18 | AC60: 8 | AD60: 10 | AE60: 49 | AF60: 22 | AG60: 27 | AH60: 217 | AI60: 621852
A61: Hualien County | B61: 一般 | C61: General | D61: 1005 | E61: 517 | F61: 488 | G61: 1247 | H61: 638 | I61: 609 | J61: 13177 | K61: 29796956 | L61: 12 | M61: 2 | N61: 10 | O61: 28 | P61: 8 | Q61: 20 | R61: 36 | S61: 314142 | T61: 8 | U61: 6 | V61: 2 | W61: 12 | X61: 8 | Y61: 4 | Z61: 15 | AA61: 189627 | AB61: 6 | AC61: 2 | AD61: 4 | AE61: 26 | AF61: 9 | AG61: 17 | AH61: 99 | AI61: 267852
B62: 原住民 | C62: Indigenous | D62: 1608 | E62: 842 | F62: 766 | G62: 1975 | H62: 1034 | I62: 941 | J62: 20318 | K62: 46038670 | L62: 18 | M62: 11 | N62: 7 | O62: 21 | P62: 13 | Q62: 8 | R62: 24 | S62: 381074 | T62: 6 | U62: 4 | V62: 2 | W62: 8 | X62: 6 | Y62: 2 | Z62: 15 | AA62: 170962 | AB62: 12 | AC62: 6 | AD62: 6 | AE62: 23 | AF62: 13 | AG62: 10 | AH62: 118 | AI62: 354000
A63: 澎湖縣 | B63: 計 | C63: Total | D63: 222 | E63: 101 | F63: 121 | G63: 224 | H63: 102 | I63: 122 | J63: 2555 | K63: 5604547 | L63: 3 | M63: 1 | N63: 2 | O63: 9 | P63: 2 | Q63: 7 | R63: 9 | S63: 436492 | T63: 4 | U63: 2 | V63: 2 | W63: 5 | X63: 3 | Y63: 2 | Z63: 77 | AA63: 849005 | AB63: 0 | AC63: 0 | AD63: 0 | AE63: 1 | AF63: 0 | AG63: 1 | AH63: 4 | AI63: 12000
A64: Penghu County | B64: 一般 | C64: General | D64: 222 | E64: 101 | F64: 121 | G64: 224 | H64: 102 | I64: 122 | J64: 2555 | K64: 5604547 | L64: 3 | M64: 1 | N64: 2 | O64: 9 | P64: 2 | Q64: 7 | R64: 9 | S64: 436492 | T64: 4 | U64: 2 | V64: 2 | W64: 5 | X64: 3 | Y64: 2 | Z64: 77 | AA64: 849005 | AB64: 0 | AC64: 0 | AD64: 0 | AE64: 1 | AF64: 0 | AG64: 1 | AH64: 4 | AI64: 12000
B65: 原住民 | C65: Indigenous | D65: 0 | E65: 0 | F65: 0 | G65: 0 | H65: 0 | I65: 0 | J65: 0 | K65: 0 | L65: 0 | M65: 0 | N65: 0 | O65: 0 | P65: 0 | Q65: 0 | R65: 0 | S65: 0 | T65: 0 | U65: 0 | V65: 0 | W65: 0 | X65: 0 | Y65: 0 | Z65: 0 | AA65: 0 | AB65: 0 | AC65: 0 | AD65: 0 | AE65: 0 | AF65: 0 | AG65: 0 | AH65: 0 | AI65: 0
A66: 基隆市 | B66: 計 | C66: Total | D66: 1455 | E66: 720 | F66: 735 | G66: 1865 | H66: 936 | I66: 929 | J66: 16721 | K66: 36736037 | L66: 9 | M66: 3 | N66: 6 | O66: 16 | P66: 7 | Q66: 9 | R66: 16 | S66: 255766 | T66: 14 | U66: 5 | V66: 9 | W66: 26 | X66: 15 | Y66: 11 | Z66: 120 | AA66: 1275580 | AB66: 1 | AC66: 0 | AD66: 1 | AE66: 6 | AF66: 3 | AG66: 3 | AH66: 21 | AI66: 63000
A67: Keelung City | B67: 一般 | C67: General | D67: 1284 | E67: 645 | F67: 639 | G67: 1636 | H67: 829 | I67: 807 | J67: 14738 | K67: 32379386 | L67: 9 | M67: 3 | N67: 6 | O67: 16 | P67: 7 | Q67: 9 | R67: 16 | S67: 255766 | T67: 14 | U67: 5 | V67: 9 | W67: 26 | X67: 15 | Y67: 11 | Z67: 120 | AA67: 1275580 | AB67: 1 | AC67: 0 | AD67: 1 | AE67: 6 | AF67: 3 | AG67: 3 | AH67: 21 | AI67: 63000
B68: 原住民 | C68: Indigenous | D68: 171 | E68: 75 | F68: 96 | G68: 229 | H68: 107 | I68: 122 | J68: 1983 | K68: 4356651 | L68: 0 | M68: 0 | N68: 0 | O68: 0 | P68: 0 | Q68: 0 | R68: 0 | S68: 0 | T68: 0 | U68: 0 | V68: 0 | W68: 0 | X68: 0 | Y68: 0 | Z68: 0 | AA68: 0 | AB68: 0 | AC68: 0 | AD68: 0 | AE68: 0 | AF68: 0 | AG68: 0 | AH68: 0 | AI68: 0
A69: 新竹市 | B69: 計 | C69: Total | D69: 753 | E69: 372 | F69: 381 | G69: 877 | H69: 424 | I69: 453 | J69: 8896 | K69: 19544512 | L69: 0 | M69: 0 | N69: 0 | O69: 15 | P69: 6 | Q69: 9 | R69: 19 | S69: 354047 | T69: 17 | U69: 8 | V69: 9 | W69: 41 | X69: 22 | Y69: 19 | Z69: 204 | AA69: 2965000 | AB69: 4 | AC69: 3 | AD69: 1 | AE69: 52 | AF69: 37 | AG69: 15 | AH69: 52 | AI69: 156000
A70: Hsinchu City | B70: 一般 | C70: General | D70: 694 | E70: 343 | F70: 351 | G70: 804 | H70: 388 | I70: 416 | J70: 8179 | K70: 17969263 | L70: 0 | M70: 0 | N70: 0 | O70: 15 | P70: 6 | Q70: 9 | R70: 19 | S70: 354047 | T70: 17 | U70: 8 | V70: 9 | W70: 41 | X70: 22 | Y70: 19 | Z70: 204 | AA70: 2965000 | AB70: 2 | AC70: 2 | AD70: 0 | AE70: 28 | AF70: 25 | AG70: 3 | AH70: 28 | AI70: 84000
B71: 原住民 | C71: Indigenous | D71: 59 | E71: 29 | F71: 30 | G71: 73 | H71: 36 | I71: 37 | J71: 717 | K71: 1575249 | L71: 0 | M71: 0 | N71: 0 | O71: 0 | P71: 0 | Q71: 0 | R71: 0 | S71: 0 | T71: 0 | U71: 0 | V71: 0 | W71: 0 | X71: 0 | Y71: 0 | Z71: 0 | AA71: 0 | AB71: 2 | AC71: 1 | AD71: 1 | AE71: 24 | AF71: 12 | AG71: 12 | AH71: 24 | AI71: 72000
A72: 嘉義市 | B72: 計 | C72: Total | D72: 1268 | E72: 655 | F72: 613 | G72: 1369 | H72: 711 | I72: 658 | J72: 13905 | K72: 30549640 | L72: 0 | M72: 0 | N72: 0 | O72: 8 | P72: 4 | Q72: 4 | R72: 15 | S72: 453784 | T72: 9 | U72: 7 | V72: 2 | W72: 25 | X72: 18 | Y72: 7 | Z72: 127 | AA72: 1373590 | AB72: 1 | AC72: 0 | AD72: 1 | AE72: 3 | AF72: 2 | AG72: 1 | AH72: 29 | AI72: 87000
A73: Chiayi City | B73: 一般 | C73: General | D73: 1247 | E73: 647 | F73: 600 | G73: 1347 | H73: 702 | I73: 645 | J73: 13659 | K73: 30009178 | L73: 0 | M73: 0 | N73: 0 | O73: 8 | P73: 4 | Q73: 4 | R73: 15 | S73: 453784 | T73: 4 | U73: 2 | V73: 2 | W73: 19 | X73: 12 | Y73: 7 | Z73: 99 | AA73: 1126590 | AB73: 1 | AC73: 0 | AD73: 1 | AE73: 3 | AF73: 2 | AG73: 1 | AH73: 29 | AI73: 87000
B74: 原住民 | C74: Indigenous | D74: 21 | E74: 8 | F74: 13 | G74: 22 | H74: 9 | I74: 13 | J74: 246 | K74: 540462 | L74: 0 | M74: 0 | N74: 0 | O74: 0 | P74: 0 | Q74: 0 | R74: 0 | S74: 0 | T74: 5 | U74: 5 | V74: 0 | W74: 6 | X74: 6 | Y74: 0 | Z74: 28 | AA74: 247000 | AB74: 0 | AC74: 0 | AD74: 0 | AE74: 0 | AF74: 0 | AG74: 0 | AH74: 0 | AI74: 0
A75: 金門縣 | B75: 計 | C75: Total | D75: 109 | E75: 50 | F75: 59 | G75: 117 | H75: 54 | I75: 63 | J75: 1241 | K75: 2726477 | L75: 15 | M75: 5 | N75: 10 | O75: 26 | P75: 12 | Q75: 14 | R75: 26 | S75: 882733 | T75: 1 | U75: 0 | V75: 1 | W75: 4 | X75: 2 | Y75: 2 | Z75: 35 | AA75: 263300 | AB75: 3 | AC75: 1 | AD75: 2 | AE75: 3 | AF75: 1 | AG75: 2 | AH75: 34 | AI75: 102000
A76: Kinmen County | B76: 一般 | C76: General | D76: 105 | E76: 49 | F76: 56 | G76: 113 | H76: 53 | I76: 60 | J76: 1197 | K76: 2629809 | L76: 15 | M76: 5 | N76: 10 | O76: 26 | P76: 12 | Q76: 14 | R76: 26 | S76: 882733 | T76: 1 | U76: 0 | V76: 1 | W76: 4 | X76: 2 | Y76: 2 | Z76: 35 | AA76: 263300 | AB76: 3 | AC76: 1 | AD76: 2 | AE76: 3 | AF76: 1 | AG76: 2 | AH76: 34 | AI76: 102000
B77: 原住民 | C77: Indigenous | D77: 4 | E77: 1 | F77: 3 | G77: 4 | H77: 1 | I77: 3 | J77: 44 | K77: 96668 | L77: 0 | M77: 0 | N77: 0 | O77: 0 | P77: 0 | Q77: 0 | R77: 0 | S77: 0 | T77: 0 | U77: 0 | V77: 0 | W77: 0 | X77: 0 | Y77: 0 | Z77: 0 | AA77: 0 | AB77: 0 | AC77: 0 | AD77: 0 | AE77: 0 | AF77: 0 | AG77: 0 | AH77: 0 | AI77: 0
A78: 連江縣 | B78: 計 | C78: Total | D78: 18 | E78: 4 | F78: 14 | G78: 20 | H78: 6 | I78: 14 | J78: 219 | K78: 488043 | L78: 0 | M78: 0 | N78: 0 | O78: 0 | P78: 0 | Q78: 0 | R78: 0 | S78: 0 | T78: 0 | U78: 0 | V78: 0 | W78: 0 | X78: 0 | Y78: 0 | Z78: 0 | AA78: 0 | AB78: 1 | AC78: 1 | AD78: 0 | AE78: 1 | AF78: 1 | AG78: 0 | AH78: 4 | AI78: 12000
A79: Lienchiang County | B79: 一般 | C79: General | D79: 9 | E79: 4 | F79: 5 | G79: 11 | H79: 6 | I79: 5 | J79: 119 | K79: 256743 | L79: 0 | M79: 0 | N79: 0 | O79: 0 | P79: 0 | Q79: 0 | R79: 0 | S79: 0 | T79: 0 | U79: 0 | V79: 0 | W79: 0 | X79: 0 | Y79: 0 | Z79: 0 | AA79: 0 | AB79: 1 | AC79: 1 | AD79: 0 | AE79: 1 | AF79: 1 | AG79: 0 | AH79: 4 | AI79: 12000
B80: 原住民 | C80: Indigenous | D80: 9 | E80: 0 | F80: 9 | G80: 9 | H80: 0 | I80: 9 | J80: 100 | K80: 231300 | L80: 0 | M80: 0 | N80: 0 | O80: 0 | P80: 0 | Q80: 0 | R80: 0 | S80: 0 | T80: 0 | U80: 0 | V80: 0 | W80: 0 | X80: 0 | Y80: 0 | Z80: 0 | AA80: 0 | AB80: 0 | AC80: 0 | AD80: 0 | AE80: 0 | AF80: 0 | AG80: 0 | AH80: 0 | AI80: 0
A81: 資料來源：各直轄市、縣市政府。
A82: Source: County and Government.
A83: 更新日期：2025/07/31
A85: 總計 | B85: 計 | C85: Total | D85: 82849 | E85: 42047 | F85: 40802 | G85: 98456 | H85: 50019 | I85: 48437 | J85: 1020350 | K85: 2249004138 | L85: 5669 | M85: 3660 | N85: 2009 | O85: 11757 | P85: 7097 | Q85: 4660 | R85: 21060 | S85: 183964800 | T85: 1336 | U85: 734 | V85: 602 | W85: 2857 | X85: 1587 | Y85: 1270 | Z85: 14534 | AA85: 164555541 | AB85: 1020 | AC85: 511 | AD85: 509 | AE85: 2583 | AF85: 1340 | AG85: 1243 | AH85: 12463 | AI85: 36506111
A86: Total | B86: 一般 | C86: General | D86: 74564 | E86: 37815 | F86: 36749 | G86: 88635 | H86: 44966 | I86: 43669 | J86: 921015 | K86: 2031462424 | L86: 5611 | M86: 3628 | N86: 1983 | O86: 11656 | P86: 7045 | Q86: 4611 | R86: 20889 | S86: 181769909 | T86: 1283 | U86: 705 | V86: 578 | W86: 2772 | X86: 1543 | Y86: 1229 | Z86: 14092 | AA86: 160062476 | AB86: 903 | AC86: 454 | AD86: 449 | AE86: 2341 | AF86: 1214 | AG86: 1127 | AH86: 11353 | AI86: 33355959
B87: 原住民 | C87: Indigenous | D87: 8285 | E87: 4232 | F87: 4053 | G87: 9821 | H87: 5053 | I87: 4768 | J87: 99335 | K87: 217541714 | L87: 58 | M87: 32 | N87: 26 | O87: 101 | P87: 52 | Q87: 49 | R87: 171 | S87: 2194891 | T87: 53 | U87: 29 | V87: 24 | W87: 85 | X87: 44 | Y87: 41 | Z87: 442 | AA87: 4493065 | AB87: 117 | AC87: 57 | AD87: 60 | AE87: 242 | AF87: 126 | AG87: 116 | AH87: 1110 | AI87: 3150152
A88: 新北市 | B88: 計 | C88: Total | D88: 21844 | E88: 11140 | F88: 10704 | G88: 26686 | H88: 13610 | I88: 13076 | J88: 268326 | K88: 594072922 | L88: 2872 | M88: 1761 | N88: 1111 | O88: 3813 | P88: 2400 | Q88: 1413 | R88: 6567 | S88: 39789260 | T88: 150 | U88: 78 | V88: 72 | W88: 281 | X88: 156 | Y88: 125 | Z88: 1869 | AA88: 19769872 | AB88: 132 | AC88: 77 | AD88: 55 | AE88: 240 | AF88: 127 | AG88: 113 | AH88: 1471 | AI88: 4397473
A89: New Taipei City | B89: 一般 | C89: General | D89: 20752 | E89: 10583 | F89: 10169 | G89: 25351 | H89: 12929 | I89: 12422 | J89: 254910 | K89: 564369276 | L89: 2872 | M89: 1761 | N89: 1111 | O89: 3813 | P89: 2400 | Q89: 1413 | R89: 6567 | S89: 39789260 | T89: 150 | U89: 78 | V89: 72 | W89: 281 | X89: 156 | Y89: 125 | Z89: 1869 | AA89: 19769872 | AB89: 132 | AC89: 77 | AD89: 55 | AE89: 240 | AF89: 127 | AG89: 113 | AH89: 1471 | AI89: 4397473
B90: 原住民 | C90: Indigenous | D90: 1092 | E90: 557 | F90: 535 | G90: 1335 | H90: 681 | I90: 654 | J90: 13416 | K90: 29703646 | L90: 0 | M90: 0 | N90: 0 | O90: 0 | P90: 0 | Q90: 0 | R90: 0 | S90: 0 | T90: 0 | U90: 0 | V90: 0 | W90: 0 | X90: 0 | Y90: 0 | Z90: 0 | AA90: 0 | AB90: 0 | AC90: 0 | AD90: 0 | AE90: 0 | AF90: 0 | AG90: 0 | AH90: 0 | AI90: 0
A91: 臺北市 | B91: 計 | C91: Total | D91: 0 | E91: 0 | F91: 0 | G91: 0 | H91: 0 | I91: 0 | J91: 0 | K91: 0 | L91: 20 | M91: 11 | N91: 9 | O91: 298 | P91: 185 | Q91: 113 | R91: 566 | S91: 14357214 | T91: 126 | U91: 71 | V91: 55 | W91: 225 | X91: 124 | Y91: 101 | Z91: 1683 | AA91: 20270500 | AB91: 249 | AC91: 129 | AD91: 120 | AE91: 566 | AF91: 293 | AG91: 273 | AH91: 3336 | AI91: 10008000
A92: Taipei City | B92: 一般 | C92: General | D92: 0 | E92: 0 | F92: 0 | G92: 0 | H92: 0 | I92: 0 | J92: 0 | K92: 0 | L92: 19 | M92: 10 | N92: 9 | O92: 293 | P92: 182 | Q92: 111 | R92: 559 | S92: 14001192 | T92: 126 | U92: 71 | V92: 55 | W92: 225 | X92: 124 | Y92: 101 | Z92: 1683 | AA92: 20270500 | AB92: 240 | AC92: 125 | AD92: 115 | AE92: 549 | AF92: 284 | AG92: 265 | AH92: 3274 | AI92: 9822000
B93: 原住民 | C93: Indigenous | D93: 0 | E93: 0 | F93: 0 | G93: 0 | H93: 0 | I93: 0 | J93: 0 | K93: 0 | L93: 1 | M93: 1 | N93: 0 | O93: 5 | P93: 3 | Q93: 2 | R93: 7 | S93: 356022 | T93: 0 | U93: 0 | V93: 0 | W93: 0 | X93: 0 | Y93: 0 | Z93: 0 | AA93: 0 | AB93: 9 | AC93: 4 | AD93: 5 | AE93: 17 | AF93: 9 | AG93: 8 | AH93: 62 | AI93: 186000
A94: 桃園市 | B94: 計 | C94: Total | D94: 5568 | E94: 2823 | F94: 2745 | G94: 6696 | H94: 3404 | I94: 3292 | J94: 66723 | K94: 154141164 | L94: 296 | M94: 157 | N94: 139 | O94: 3467 | P94: 1817 | Q94: 1650 | R94: 3393 | S94: 15934857 | T94: 134 | U94: 84 | V94: 50 | W94: 254 | X94: 154 | Y94: 100 | Z94: 1551 | AA94: 15638600 | AB94: 24 | AC94: 14 | AD94: 10 | AE94: 50 | AF94: 27 | AG94: 23 | AH94: 275 | AI94: 825000
A95: Taoyuan City | B95: 一般 | C95: General | D95: 5063 | E95: 2591 | F95: 2472 | G95: 6109 | H95: 3128 | I95: 2981 | J95: 61416 | K95: 141866073 | L95: 296 | M95: 157 | N95: 139 | O95: 3467 | P95: 1817 | Q95: 1650 | R95: 3393 | S95: 15934857 | T95: 134 | U95: 84 | V95: 50 | W95: 254 | X95: 154 | Y95: 100 | Z95: 1551 | AA95: 15638600 | AB95: 19 | AC95: 12 | AD95: 7 | AE95: 37 | AF95: 22 | AG95: 15 | AH95: 222 | AI95: 666000
B96: 原住民 | C96: Indigenous | D96: 505 | E96: 232 | F96: 273 | G96: 587 | H96: 276 | I96: 311 | J96: 5307 | K96: 12275091 | L96: 0 | M96: 0 | N96: 0 | O96: 0 | P96: 0 | Q96: 0 | R96: 0 | S96: 0 | T96: 0 | U96: 0 | V96: 0 | W96: 0 | X96: 0 | Y96: 0 | Z96: 0 | AA96: 0 | AB96: 5 | AC96: 2 | AD96: 3 | AE96: 13 | AF96: 5 | AG96: 8 | AH96: 53 | AI96: 159000
A97: 臺中市 | B97: 計 | C97: Total | D97: 12332 | E97: 6324 | F97: 6008 | G97: 14788 | H97: 7575 | I97: 7213 | J97: 155163 | K97: 336984345 | L97: 2311 | M97: 1649 | N97: 662 | O97: 3051 | P97: 2105 | Q97: 946 | R97: 8996 | S97: 88821059 | T97: 360 | U97: 198 | V97: 162 | W97: 625 | X97: 342 | Y97: 283 | Z97: 3968 | AA97: 43497672 | AB97: 20 | AC97: 7 | AD97: 13 | AE97: 51 | AF97: 26 | AG97: 25 | AH97: 311 | AI97: 855257
A98: Taichung City | B98: 一般 | C98: General | D98: 11463 | E98: 5871 | F98: 5592 | G98: 13703 | H98: 7003 | I98: 6700 | J98: 144268 | K98: 313048030 | L98: 2284 | M98: 1633 | N98: 651 | O98: 3017 | P98: 2087 | Q98: 930 | R98: 8897 | S98: 88183809 | T98: 360 | U98: 198 | V98: 162 | W98: 625 | X98: 342 | Y98: 283 | Z98: 3968 | AA98: 43497672 | AB98: 16 | AC98: 7 | AD98: 9 | AE98: 46 | AF98: 25 | AG98: 21 | AH98: 293 | AI98: 801257
B99: 原住民 | C99: Indigenous | D99: 869 | E99: 453 | F99: 416 | G99: 1085 | H99: 572 | I99: 513 | J99: 10895 | K99: 23936315 | L99: 27 | M99: 16 | N99: 11 | O99: 34 | P99: 18 | Q99: 16 | R99: 99 | S99: 637250 | T99: 0 | U99: 0 | V99: 0 | W99: 0 | X99: 0 | Y99: 0 | Z99: 0 | AA99: 0 | AB99: 4 | AC99: 0 | AD99: 4 | AE99: 5 | AF99: 1 | AG99: 4 | AH99: 18 | AI99: 54000
A100: 臺南市 | B100: 計 | C100: Total | D100: 5888 | E100: 3002 | F100: 2886 | G100: 6828 | H100: 3482 | I100: 3346 | J100: 71275 | K100: 158558836 | L100: 14 | M100: 12 | N100: 2 | O100: 86 | P100: 50 | Q100: 36 | R100: 92 | S100: 1941215 | T100: 64 | U100: 40 | V100: 24 | W100: 623 | X100: 354 | Y100: 269 | Z100: 617 | AA100: 7360941 | AB100: 79 | AC100: 40 | AD100: 39 | AE100: 216 | AF100: 110 | AG100: 106 | AH100: 926 | AI100: 2778000
A101: Tainan City | B101: 一般 | C101: General | D101: 5715 | E101: 2918 | F101: 2797 | G101: 6626 | H101: 3385 | I101: 3241 | J101: 69277 | K101: 154119189 | L101: 14 | M101: 12 | N101: 2 | O101: 85 | P101: 49 | Q101: 36 | R101: 91 | S101: 1935025 | T101: 64 | U101: 40 | V101: 24 | W101: 623 | X101: 354 | Y101: 269 | Z101: 617 | AA101: 7360941 | AB101: 79 | AC101: 40 | AD101: 39 | AE101: 212 | AF101: 108 | AG101: 104 | AH101: 906 | AI101: 2718000
B102: 原住民 | C102: Indigenous | D102: 173 | E102: 84 | F102: 89 | G102: 202 | H102: 97 | I102: 105 | J102: 1998 | K102: 4439647 | L102: 0 | M102: 0 | N102: 0 | O102: 1 | P102: 1 | Q102: 0 | R102: 1 | S102: 6190 | T102: 0 | U102: 0 | V102: 0 | W102: 0 | X102: 0 | Y102: 0 | Z102: 0 | AA102: 0 | AB102: 0 | AC102: 0 | AD102: 0 | AE102: 4 | AF102: 2 | AG102: 2 | AH102: 20 | AI102: 60000
A103: 高 雄 市 | B103: 計 | C103: Total | D103: 8844 | E103: 4463 | F103: 4381 | G103: 10556 | H103: 5307 | I103: 5249 | J103: 108379 | K103: 263463785 | L103: 18 | M103: 9 | N103: 9 | O103: 99 | P103: 58 | Q103: 41 | R103: 103 | S103: 1514777 | T103: 114 | U103: 64 | V103: 50 | W103: 222 | X103: 130 | Y103: 92 | Z103: 1524 | AA103: 14761720 | AB103: 180 | AC103: 81 | AD103: 99 | AE103: 423 | AF103: 216 | AG103: 207 | AH103: 2436 | AI103: 7060591
A104: Kaohsiung City | B104: 一般 | C104: General | D104: 8380 | E104: 4210 | F104: 4170 | G104: 10013 | H104: 5013 | I104: 5000 | J104: 102906 | K104: 250240134 | L104: 18 | M104: 9 | N104: 9 | O104: 99 | P104: 58 | Q104: 41 | R104: 103 | S104: 1514777 | T104: 91 | U104: 51 | V104: 40 | W104: 186 | X104: 110 | Y104: 76 | Z104: 1282 | AA104: 12578520 | AB104: 164 | AC104: 71 | AD104: 93 | AE104: 381 | AF104: 194 | AG104: 187 | AH104: 2201 | AI104: 6407557
B105: 原住民 | C105: Indigenous | D105: 464 | E105: 253 | F105: 211 | G105: 543 | H105: 294 | I105: 249 | J105: 5473 | K105: 13223651 | L105: 0 | M105: 0 | N105: 0 | O105: 0 | P105: 0 | Q105: 0 | R105: 0 | S105: 0 | T105: 23 | U105: 13 | V105: 10 | W105: 36 | X105: 20 | Y105: 16 | Z105: 242 | AA105: 2183200 | AB105: 16 | AC105: 10 | AD105: 6 | AE105: 42 | AF105: 22 | AG105: 20 | AH105: 235 | AI105: 653034
A106: 宜蘭縣 | B106: 計 | C106: Total | D106: 1529 | E106: 752 | F106: 777 | G106: 1598 | H106: 795 | I106: 803 | J106: 16598 | K106: 36448592 | L106: 8 | M106: 5 | N106: 3 | O106: 14 | P106: 6 | Q106: 8 | R106: 14 | S106: 405742 | T106: 14 | U106: 7 | V106: 7 | W106: 27 | X106: 12 | Y106: 15 | Z106: 112 | AA106: 1250176 | AB106: 1 | AC106: 1 | AD106: 0 | AE106: 1 | AF106: 1 | AG106: 0 | AH106: 5 | AI106: 15000
...

Sheet July-Dec., 2024
A1: 弱勢兒童及少年扶助概況Overview of Allowances for Disadvantaged Child and Youth
D2: =IF(D13=SUM(D16,D19,D25,D28,D31,D34,D22,D37,D40,D43,D46,D49,D52,D55,D58,D61,D64,D67,D70,D73,D76,D79),"","*") | E2: =IF(E13=SUM(E16,E19,E25,E28,E31,E34,E22,E37,E40,E43,E46,E49,E52,E55,E58,E61,E64,E67,E70,E73,E76,E79),"","*") | F2: =IF(F13=SUM(F16,F19,F25,F28,F31,F34,F22,F37,F40,F43,F46,F49,F52,F55,F58,F61,F64,F67,F70,F73,F76,F79),"","*") | J2: =IF(J13=SUM(J16,J19,J25,J28,J31,J34,J22,J37,J40,J43,J46,J49,J52,J55,J58,J61,J64,J67,J70,J73,J76,J79),"","*") | K2: =IF(K13=SUM(K16,K19,K25,K28,K31,K34,K22,K37,K40,K43,K46,K49,K52,K55,K58,K61,K64,K67,K70,K73,K76,K79),"","*") | L2: =IF(L13=SUM(L16,L19,L25,L28,L31,L34,L22,L37,L40,L43,L46,L49,L52,L55,L58,L61,L64,L67,L70,L73,L76,L79),"","*") | M2: =IF(M13=SUM(M16,M19,M25,M28,M31,M34,M22,M37,M40,M43,M46,M49,M52,M55,M58,M61,M64,M67,M70,M73,M76,M79),"","*") | N2: =IF(N13=SUM(N16,N19,N25,N28,N31,N34,N22,N37,N40,N43,N46,N49,N52,N55,N58,N61,N64,N67,N70,N73,N76,N79),"","*") | R2: =IF(R13=SUM(R16,R19,R25,R28,R31,R34,R22,R37,R40,R43,R46,R49,R52,R55,R58,R61,R64,R67,R70,R73,R76,R79),"","*") | S2: =IF(S13=SUM(S16,S19,S25,S28,S31,S34,S22,S37,S40,S43,S46,S49,S52,S55,S58,S61,S64,S67,S70,S73,S76,S79),"","*") | T2: =IF(T13=SUM(T16,T19,T25,T28,T31,T34,T22,T37,T40,T43,T46,T49,T52,T55,T58,T61,T64,T67,T70,T73,T76,T79),"","*") | U2: =IF(U13=SUM(U16,U19,U25,U28,U31,U34,U22,U37,U40,U43,U46,U49,U52,U55,U58,U61,U64,U67,U70,U73,U76,U79),"","*") | V2: =IF(V13=SUM(V16,V19,V25,V28,V31,V34,V22,V37,V40,V43,V46,V49,V52,V55,V58,V61,V64,V67,V70,V73,V76,V79),"","*") | Z2: =IF(Z13=SUM(Z16,Z19,Z25,Z28,Z31,Z34,Z22,Z37,Z40,Z43,Z46,Z49,Z52,Z55,Z58,Z61,Z64,Z67,Z70,Z73,Z76,Z79),"","*") | AA2: =IF(AA13=SUM(AA16,AA19,AA25,AA28,AA31,AA34,AA22,AA37,AA40,AA43,AA46,AA49,AA52,AA55,AA58,AA61,AA64,AA67,AA70,AA73,AA76,AA79),"","*") | AB2: =IF(AB13=SUM(AB16,AB19,AB25,AB28,AB31,AB34,AB22,AB37,AB40,AB43,AB46,AB49,AB52,AB55,AB58,AB61,AB64,AB67,AB70,AB73,AB76,AB79),"","*") | AC2: =IF(AC13=SUM(AC16,AC19,AC25,AC28,AC31,AC34,AC22,AC37,AC40,AC43,AC46,AC49,AC52,AC55,AC58,AC61,AC64,AC67,AC70,AC73,AC76,AC79),"","*") | AD2: =IF(AD13=SUM(AD16,AD19,AD25,AD28,AD31,AD34,AD22,AD37,AD40,AD43,AD46,AD49,AD52,AD55,AD58,AD61,AD64,AD67,AD70,AD73,AD76,AD79),"","*") | AH2: =IF(AH13=SUM(AH16,AH19,AH25,AH28,AH31,AH34,AH22,AH37,AH40,AH43,AH46,AH49,AH52,AH55,AH58,AH61,AH64,AH67,AH70,AH73,AH76,AH79),"","*") | AI2: =IF(AI13=SUM(AI16,AI19,AI25,AI28,AI31,AI34,AI22,AI37,AI40,AI43,AI46,AI49,AI52,AI55,AI58,AI61,AI64,AI67,AI70,AI73,AI76,AI79),"","*")
A3: 民國113年下半年, July-Dec., 2024 | D3: =IF(D14=SUM(D17,D20,D26,D29,D32,D35,D23,D38,D41,D44,D47,D50,D53,D56,D59,D62,D65,D68,D71,D74,D77,D80),"","*") | E3: =IF(E14=SUM(E17,E20,E26,E29,E32,E35,E23,E38,E41,E44,E47,E50,E53,E56,E59,E62,E65,E68,E71,E74,E77,E80),"","*") | F3: =IF(F14=SUM(F17,F20,F26,F29,F32,F35,F23,F38,F41,F44,F47,F50,F53,F56,F59,F62,F65,F68,F71,F74,F77,F80),"","*") | J3: =IF(J14=SUM(J17,J20,J26,J29,J32,J35,J23,J38,J41,J44,J47,J50,J53,J56,J59,J62,J65,J68,J71,J74,J77,J80),"","*") | K3: =IF(K14=SUM(K17,K20,K26,K29,K32,K35,K23,K38,K41,K44,K47,K50,K53,K56,K59,K62,K65,K68,K71,K74,K77,K80),"","*") | L3: =IF(L14=SUM(L17,L20,L26,L29,L32,L35,L23,L38,L41,L44,L47,L50,L53,L56,L59,L62,L65,L68,L71,L74,L77,L80),"","*") | M3: =IF(M14=SUM(M17,M20,M26,M29,M32,M35,M23,M38,M41,M44,M47,M50,M53,M56,M59,M62,M65,M68,M71,M74,M77,M80),"","*") | N3: =IF(N14=SUM(N17,N20,N26,N29,N32,N35,N23,N38,N41,N44,N47,N50,N53,N56,N59,N62,N65,N68,N71,N74,N77,N80),"","*") | R3: =IF(R14=SUM(R17,R20,R26,R29,R32,R35,R23,R38,R41,R44,R47,R50,R53,R56,R59,R62,R65,R68,R71,R74,R77,R80),"","*") | S3: =IF(S14=SUM(S17,S20,S26,S29,S32,S35,S23,S38,S41,S44,S47,S50,S53,S56,S59,S62,S65,S68,S71,S74,S77,S80),"","*") | T3: =IF(T14=SUM(T17,T20,T26,T29,T32,T35,T23,T38,T41,T44,T47,T50,T53,T56,T59,T62,T65,T68,T71,T74,T77,T80),"","*") | U3: =IF(U14=SUM(U17,U20,U26,U29,U32,U35,U23,U38,U41,U44,U47,U50,U53,U56,U59,U62,U65,U68,U71,U74,U77,U80),"","*") | V3: =IF(V14=SUM(V17,V20,V26,V29,V32,V35,V23,V38,V41,V44,V47,V50,V53,V56,V59,V62,V65,V68,V71,V74,V77,V80),"","*") | Z3: =IF(Z14=SUM(Z17,Z20,Z26,Z29,Z32,Z35,Z23,Z38,Z41,Z44,Z47,Z50,Z53,Z56,Z59,Z62,Z65,Z68,Z71,Z74,Z77,Z80),"","*") | AA3: =IF(AA14=SUM(AA17,AA20,AA26,AA29,AA32,AA35,AA23,AA38,AA41,AA44,AA47,AA50,AA53,AA56,AA59,AA62,AA65,AA68,AA71,AA74,AA77,AA80),"","*") | AB3: =IF(AB14=SUM(AB17,AB20,AB26,AB29,AB32,AB35,AB23,AB38,AB41,AB44,AB47,AB50,AB53,AB56,AB59,AB62,AB65,AB68,AB71,AB74,AB77,AB80),"","*") | AC3: =IF(AC14=SUM(AC17,AC20,AC26,AC29,AC32,AC35,AC23,AC38,AC41,AC44,AC47,AC50,AC53,AC56,AC59,AC62,AC65,AC68,AC71,AC74,AC77,AC80),"","*") | AD3: =IF(AD14=SUM(AD17,AD20,AD26,AD29,AD32,AD35,AD23,AD38,AD41,AD44,AD47,AD50,AD53,AD56,AD59,AD62,AD65,AD68,AD71,AD74,AD77,AD80),"","*") | AH3: =IF(AH14=SUM(AH17,AH20,AH26,AH29,AH32,AH35,AH23,AH38,AH41,AH44,AH47,AH50,AH53,AH56,AH59,AH62,AH65,AH68,AH71,AH74,AH77,AH80),"","*") | AI3: =IF(AI14=SUM(AI17,AI20,AI26,AI29,AI32,AI35,AI23,AI38,AI41,AI44,AI47,AI50,AI53,AI56,AI59,AI62,AI65,AI68,AI71,AI74,AI77,AI80),"","*")
A4: 區域及特殊族群別 Locality & Ethnos | D4: 弱勢兒童及少年生活扶助 Living Support for Disadvantaged Child and Youth | L4: 弱勢兒童及少年醫療補助 Medical Subsidies for Disadvantaged Child and Youth | T4: 托育補助/津貼 Childcare Subsidies/Allowance for Low-Income Families | AB4: 弱勢兒少緊急生活扶助 Emergency Living Relief to Disadvantaged Child and Youth
D7: 期底人數(人)Persons | G7: 本年累計至期底人數(人) Accumulated to the End of the Current Persons | J7: 人次(月) Person-Times | K7: 金額(元) Amount(NT$) | L7: 期底人數(人)Persons | O7: 本年累計至期底人數(人) Accumulated to the End of the Current Persons | R7: 人次(月) Person-Times | S7: 金額(元) Amount(NT$) | T7: 期底人數(人)Persons | W7: 本年累計至期底人數(人) Accumulated to the End of the Current Persons | Z7: 人次(月) Person-Times | AA7: 金額(元) Amount(NT$) | AB7: 期底人數(人)Persons | AE7: 本年累計至期底人數(人) Accumulated to the End of the Current Persons | AH7: 人次(月) Person-Times | AI7: 金額(元) Amount(NT$)
D9: 計 Total | E9: 男 Male | F9: 女 Female | G9: 計 Total | H9: 男 Male | I9: 女 Female | L9: 計 Total | M9: 男 Male | N9: 女 Female | O9: 計 Total | P9: 男 Male | Q9: 女 Female | T9: 計 Total | U9: 男 Male | V9: 女 Female | W9: 計 Total | X9: 男 Male | Y9: 女 Female | AB9: 計 Total | AC9: 男 Male | AD9: 女 Female | AE9: 計 Total | AF9: 男 Male | AG9: 女 Female
A12: 總計 | B12: 計 | C12: Total | D12: 82849 | E12: 42047 | F12: 40802 | G12: 98456 | H12: 50019 | I12: 48437 | J12: 502909 | K12: 1129880080 | L12: 5664 | M12: 3658 | N12: 2006 | O12: 11778 | P12: 7100 | Q12: 4678 | R12: 13506 | S12: 110123145 | T12: 1334 | U12: 732 | V12: 602 | W12: 2856 | X12: 1586 | Y12: 1270 | Z12: 7326 | AA12: 85312291 | AB12: 1020 | AC12: 511 | AD12: 509 | AE12: 2583 | AF12: 1340 | AG12: 1243 | AH12: 5988 | AI12: 17568982
A13: Total | B13: 一般 | C13: General | D13: 74564 | E13: 37815 | F13: 36749 | G13: 88635 | H13: 44966 | I13: 43669 | J13: 453793 | K13: 1016972651 | L13: 5612 | M13: 3628 | N13: 1984 | O13: 11677 | P13: 7048 | Q13: 4629 | R13: 13385 | S13: 108582093 | T13: 1281 | U13: 703 | V13: 578 | W13: 2771 | X13: 1542 | Y13: 1229 | Z13: 7088 | AA13: 82886310 | AB13: 903 | AC13: 454 | AD13: 449 | AE13: 2341 | AF13: 1214 | AG13: 1127 | AH13: 5397 | AI13: 15863668
B14: 原住民 | C14: Indigenous | D14: 8285 | E14: 4232 | F14: 4053 | G14: 9821 | H14: 5053 | I14: 4768 | J14: 49116 | K14: 112907429 | L14: 52 | M14: 30 | N14: 22 | O14: 101 | P14: 52 | Q14: 49 | R14: 121 | S14: 1541052 | T14: 53 | U14: 29 | V14: 24 | W14: 85 | X14: 44 | Y14: 41 | Z14: 238 | AA14: 2425981 | AB14: 117 | AC14: 57 | AD14: 60 | AE14: 242 | AF14: 126 | AG14: 116 | AH14: 591 | AI14: 1705314
A15: 新北市 | B15: 計 | C15: Total | D15: 21844 | E15: 11140 | F15: 10704 | G15: 26686 | H15: 13610 | I15: 13076 | J15: 134504 | K15: 297584344 | L15: 2872 | M15: 1761 | N15: 1111 | O15: 3813 | P15: 2400 | Q15: 1413 | R15: 3813 | S15: 23319400 | T15: 150 | U15: 78 | V15: 72 | W15: 281 | X15: 156 | Y15: 125 | Z15: 944 | AA15: 10330177 | AB15: 132 | AC15: 77 | AD15: 55 | AE15: 240 | AF15: 127 | AG15: 113 | AH15: 651 | AI15: 1953000
A16: New Taipei City | B16: 一般 | C16: General | D16: 20752 | E16: 10583 | F16: 10169 | G16: 25351 | H16: 12929 | I16: 12422 | J16: 127779 | K16: 282705127 | L16: 2872 | M16: 1761 | N16: 1111 | O16: 3813 | P16: 2400 | Q16: 1413 | R16: 3813 | S16: 23319400 | T16: 150 | U16: 78 | V16: 72 | W16: 281 | X16: 156 | Y16: 125 | Z16: 944 | AA16: 10330177 | AB16: 132 | AC16: 77 | AD16: 55 | AE16: 240 | AF16: 127 | AG16: 113 | AH16: 651 | AI16: 1953000
B17: 原住民 | C17: Indigenous | D17: 1092 | E17: 557 | F17: 535 | G17: 1335 | H17: 681 | I17: 654 | J17: 6725 | K17: 14879217 | L17: 0 | M17: 0 | N17: 0 | O17: 0 | P17: 0 | Q17: 0 | R17: 0 | S17: 0 | T17: 0 | U17: 0 | V17: 0 | W17: 0 | X17: 0 | Y17: 0 | Z17: 0 | AA17: 0 | AB17: 0 | AC17: 0 | AD17: 0 | AE17: 0 | AF17: 0 | AG17: 0 | AH17: 0 | AI17: 0
A18: 臺北市 | B18: 計 | C18: Total | D18: 0 | E18: 0 | F18: 0 | G18: 0 | H18: 0 | I18: 0 | J18: 0 | K18: 0 | L18: 20 | M18: 11 | N18: 9 | O18: 298 | P18: 185 | Q18: 113 | R18: 319 | S18: 8000741 | T18: 126 | U18: 71 | V18: 55 | W18: 225 | X18: 124 | Y18: 101 | Z18: 809 | AA18: 10036000 | AB18: 249 | AC18: 129 | AD18: 120 | AE18: 566 | AF18: 293 | AG18: 273 | AH18: 1576 | AI18: 4728000
A19: Taipei City | B19: 一般 | C19: General | D19: 0 | E19: 0 | F19: 0 | G19: 0 | H19: 0 | I19: 0 | J19: 0 | K19: 0 | L19: 19 | M19: 10 | N19: 9 | O19: 293 | P19: 182 | Q19: 111 | R19: 316 | S19: 7840295 | T19: 126 | U19: 71 | V19: 55 | W19: 225 | X19: 124 | Y19: 101 | Z19: 809 | AA19: 10036000 | AB19: 240 | AC19: 125 | AD19: 115 | AE19: 549 | AF19: 284 | AG19: 265 | AH19: 1547 | AI19: 4641000
B20: 原住民 | C20: Indigenous | D20: 0 | E20: 0 | F20: 0 | G20: 0 | H20: 0 | I20: 0 | J20: 0 | K20: 0 | L20: 1 | M20: 1 | N20: 0 | O20: 5 | P20: 3 | Q20: 2 | R20: 3 | S20: 160446 | T20: 0 | U20: 0 | V20: 0 | W20: 0 | X20: 0 | Y20: 0 | Z20: 0 | AA20: 0 | AB20: 9 | AC20: 4 | AD20: 5 | AE20: 17 | AF20: 9 | AG20: 8 | AH20: 29 | AI20: 87000
A21: 桃園市 | B21: 計 | C21: Total | D21: 5568 | E21: 2823 | F21: 2745 | G21: 6696 | H21: 3404 | I21: 3292 | J21: 33741 | K21: 77964291 | L21: 296 | M21: 157 | N21: 139 | O21: 3467 | P21: 1817 | Q21: 1650 | R21: 1784 | S21: 7456919 | T21: 134 | U21: 84 | V21: 50 | W21: 254 | X21: 154 | Y21: 100 | Z21: 790 | AA21: 8216300 | AB21: 24 | AC21: 14 | AD21: 10 | AE21: 50 | AF21: 27 | AG21: 23 | AH21: 155 | AI21: 465000
A22: Taoyuan City | B22: 一般 | C22: General | D22: 5063 | E22: 2591 | F22: 2472 | G22: 6109 | H22: 3128 | I22: 2981 | J22: 30888 | K22: 71365302 | L22: 296 | M22: 157 | N22: 139 | O22: 3467 | P22: 1817 | Q22: 1650 | R22: 1784 | S22: 7456919 | T22: 134 | U22: 84 | V22: 50 | W22: 254 | X22: 154 | Y22: 100 | Z22: 790 | AA22: 8216300 | AB22: 19 | AC22: 12 | AD22: 7 | AE22: 37 | AF22: 22 | AG22: 15 | AH22: 135 | AI22: 405000
B23: 原住民 | C23: Indigenous | D23: 505 | E23: 232 | F23: 273 | G23: 587 | H23: 276 | I23: 311 | J23: 2853 | K23: 6598989 | L23: 0 | M23: 0 | N23: 0 | O23: 0 | P23: 0 | Q23: 0 | R23: 0 | S23: 0 | T23: 0 | U23: 0 | V23: 0 | W23: 0 | X23: 0 | Y23: 0 | Z23: 0 | AA23: 0 | AB23: 5 | AC23: 2 | AD23: 3 | AE23: 13 | AF23: 5 | AG23: 8 | AH23: 20 | AI23: 60000
A24: 臺中市 | B24: 計 | C24: Total | D24: 12332 | E24: 6324 | F24: 6008 | G24: 14788 | H24: 7575 | I24: 7213 | J24: 77319 | K24: 168228336 | L24: 2311 | M24: 1649 | N24: 662 | O24: 3051 | P24: 2105 | Q24: 946 | R24: 6754 | S24: 57782355 | T24: 360 | U24: 198 | V24: 162 | W24: 625 | X24: 342 | Y24: 283 | Z24: 2009 | AA24: 22446269 | AB24: 20 | AC24: 7 | AD24: 13 | AE24: 51 | AF24: 26 | AG24: 25 | AH24: 165 | AI24: 458621
A25: Taichung City | B25: 一般 | C25: General | D25: 11463 | E25: 5871 | F25: 5592 | G25: 13703 | H25: 7003 | I25: 6700 | J25: 71844 | K25: 156199761 | L25: 2284 | M25: 1633 | N25: 651 | O25: 3017 | P25: 2087 | Q25: 930 | R25: 6680 | S25: 57422905 | T25: 360 | U25: 198 | V25: 162 | W25: 625 | X25: 342 | Y25: 283 | Z25: 2009 | AA25: 22446269 | AB25: 16 | AC25: 7 | AD25: 9 | AE25: 46 | AF25: 25 | AG25: 21 | AH25: 148 | AI25: 407621
B26: 原住民 | C26: Indigenous | D26: 869 | E26: 453 | F26: 416 | G26: 1085 | H26: 572 | I26: 513 | J26: 5475 | K26: 12028575 | L26: 27 | M26: 16 | N26: 11 | O26: 34 | P26: 18 | Q26: 16 | R26: 74 | S26: 359450 | T26: 0 | U26: 0 | V26: 0 | W26: 0 | X26: 0 | Y26: 0 | Z26: 0 | AA26: 0 | AB26: 4 | AC26: 0 | AD26: 4 | AE26: 5 | AF26: 1 | AG26: 4 | AH26: 17 | AI26: 51000
A27: 臺南市 | B27: 計 | C27: Total | D27: 5888 | E27: 3002 | F27: 2886 | G27: 6828 | H27: 3482 | I27: 3346 | J27: 35035 | K27: 78995929 | L27: 14 | M27: 12 | N27: 2 | O27: 108 | P27: 59 | Q27: 49 | R27: 69 | S27: 1484561 | T27: 64 | U27: 40 | V27: 24 | W27: 623 | X27: 354 | Y27: 269 | Z27: 340 | AA27: 4219000 | AB27: 79 | AC27: 40 | AD27: 39 | AE27: 216 | AF27: 110 | AG27: 106 | AH27: 412 | AI27: 1236000
A28: Tainan City | B28: 一般 | C28: General | D28: 5715 | E28: 2918 | F28: 2797 | G28: 6626 | H28: 3385 | I28: 3241 | J28: 34053 | K28: 76784043 | L28: 14 | M28: 12 | N28: 2 | O28: 107 | P28: 58 | Q28: 49 | R28: 68 | S28: 1478371 | T28: 64 | U28: 40 | V28: 24 | W28: 623 | X28: 354 | Y28: 269 | Z28: 340 | AA28: 4219000 | AB28: 79 | AC28: 40 | AD28: 39 | AE28: 212 | AF28: 108 | AG28: 104 | AH28: 407 | AI28: 1221000
B29: 原住民 | C29: Indigenous | D29: 173 | E29: 84 | F29: 89 | G29: 202 | H29: 97 | I29: 105 | J29: 982 | K29: 2211886 | L29: 0 | M29: 0 | N29: 0 | O29: 1 | P29: 1 | Q29: 0 | R29: 1 | S29: 6190 | T29: 0 | U29: 0 | V29: 0 | W29: 0 | X29: 0 | Y29: 0 | Z29: 0 | AA29: 0 | AB29: 0 | AC29: 0 | AD29: 0 | AE29: 4 | AF29: 2 | AG29: 2 | AH29: 5 | AI29: 15000
A30: 高 雄 市 | B30: 計 | C30: Total | D30: 8844 | E30: 4463 | F30: 4381 | G30: 10556 | H30: 5307 | I30: 5249 | J30: 53875 | K30: 131024194 | L30: 18 | M30: 9 | N30: 9 | O30: 99 | P30: 58 | Q30: 41 | R30: 60 | S30: 782155 | T30: 114 | U30: 64 | V30: 50 | W30: 222 | X30: 130 | Y30: 92 | Z30: 695 | AA30: 7136186 | AB30: 180 | AC30: 81 | AD30: 99 | AE30: 423 | AF30: 216 | AG30: 207 | AH30: 1232 | AI30: 3572537
A31: Kaohsiung City | B31: 一般 | C31: General | D31: 8380 | E31: 4210 | F31: 4170 | G31: 10013 | H31: 5013 | I31: 5000 | J31: 51051 | K31: 124200085 | L31: 18 | M31: 9 | N31: 9 | O31: 99 | P31: 58 | Q31: 41 | R31: 60 | S31: 782155 | T31: 91 | U31: 51 | V31: 40 | W31: 186 | X31: 110 | Y31: 76 | Z31: 590 | AA31: 6184186 | AB31: 164 | AC31: 71 | AD31: 93 | AE31: 381 | AF31: 194 | AG31: 187 | AH31: 1089 | AI31: 3170285
B32: 原住民 | C32: Indigenous | D32: 464 | E32: 253 | F32: 211 | G32: 543 | H32: 294 | I32: 249 | J32: 2824 | K32: 6824109 | L32: 0 | M32: 0 | N32: 0 | O32: 0 | P32: 0 | Q32: 0 | R32: 0 | S32: 0 | T32: 23 | U32: 13 | V32: 10 | W32: 36 | X32: 20 | Y32: 16 | Z32: 105 | AA32: 952000 | AB32: 16 | AC32: 10 | AD32: 6 | AE32: 42 | AF32: 22 | AG32: 20 | AH32: 143 | AI32: 402252
A33: 宜蘭縣 | B33: 計 | C33: Total | D33: 1529 | E33: 752 | F33: 777 | G33: 1598 | H33: 795 | I33: 803 | J33: 8398 | K33: 18448401 | L33: 8 | M33: 5 | N33: 3 | O33: 14 | P33: 6 | Q33: 8 | R33: 8 | S33: 231616 | T33: 14 | U33: 7 | V33: 7 | W33: 27 | X33: 12 | Y33: 15 | Z33: 57 | AA33: 739176 | AB33: 1 | AC33: 1 | AD33: 0 | AE33: 1 | AF33: 1 | AG33: 0 | AH33: 2 | AI33: 6000
A34: Yilan County | B34: 一般 | C34: General | D34: 1218 | E34: 596 | F34: 622 | G34: 1276 | H34: 634 | I34: 642 | J34: 6738 | K34: 14801381 | L34: 8 | M34: 5 | N34: 3 | O34: 12 | P34: 6 | Q34: 6 | R34: 8 | S34: 231616 | T34: 12 | U34: 7 | V34: 5 | W34: 23 | X34: 12 | Y34: 11 | Z34: 49 | AA34: 622308 | AB34: 1 | AC34: 1 | AD34: 0 | AE34: 1 | AF34: 1 | AG34: 0 | AH34: 2 | AI34: 6000
B35: 原住民 | C35: Indigenous | D35: 311 | E35: 156 | F35: 155 | G35: 322 | H35: 161 | I35: 161 | J35: 1660 | K35: 3647020 | L35: 0 | M35: 0 | N35: 0 | O35: 2 | P35: 0 | Q35: 2 | R35: 0 | S35: 0 | T35: 2 | U35: 0 | V35: 2 | W35: 4 | X35: 0 | Y35: 4 | Z35: 8 | AA35: 116868 | AB35: 0 | AC35: 0 | AD35: 0 | AE35: 0 | AF35: 0 | AG35: 0 | AH35: 0 | AI35: 0
A36: 新竹縣 | B36: 計 | C36: Total | D36: 1340 | E36: 679 | F36: 661 | G36: 1424 | H36: 719 | I36: 705 | J36: 7305 | K36: 16049085 | L36: 3 | M36: 0 | N36: 3 | O36: 24 | P36: 12 | Q36: 12 | R36: 13 | S36: 301293 | T36: 36 | U36: 12 | V36: 24 | W36: 66 | X36: 22 | Y36: 44 | Z36: 145 | AA36: 2080500 | AB36: 112 | AC36: 49 | AD36: 63 | AE36: 153 | AF36: 74 | AG36: 79 | AH36: 471 | AI36: 1311373
A37: Hsinchu County | B37: 一般 | C37: General | D37: 997 | E37: 509 | F37: 488 | G37: 1056 | H37: 537 | I37: 519 | J37: 5508 | K37: 12101076 | L37: 1 | M37: 0 | N37: 1 | O37: 11 | P37: 8 | Q37: 3 | R37: 5 | S37: 198287 | T37: 30 | U37: 11 | V37: 19 | W37: 54 | X37: 19 | Y37: 35 | Z37: 121 | AA37: 1735500 | AB37: 65 | AC37: 24 | AD37: 41 | AE37: 88 | AF37: 36 | AG37: 52 | AH37: 274 | AI37: 746737
B38: 原住民 | C38: Indigenous | D38: 343 | E38: 170 | F38: 173 | G38: 368 | H38: 182 | I38: 186 | J38: 1797 | K38: 3948009 | L38: 2 | M38: 0 | N38: 2 | O38: 13 | P38: 4 | Q38: 9 | R38: 8 | S38: 103006 | T38: 6 | U38: 1 | V38: 5 | W38: 12 | X38: 3 | Y38: 9 | Z38: 24 | AA38: 345000 | AB38: 47 | AC38: 25 | AD38: 22 | AE38: 65 | AF38: 38 | AG38: 27 | AH38: 197 | AI38: 564636
A39: 苗栗縣 | B39: 計 | C39: Total | D39: 1448 | E39: 713 | F39: 735 | G39: 1663 | H39: 833 | I39: 830 | J39: 8714 | K39: 19135870 | L39: 21 | M39: 10 | N39: 11 | O39: 44 | P39: 19 | Q39: 25 | R39: 141 | S39: 770173 | T39: 7 | U39: 4 | V39: 3 | W39: 14 | X39: 6 | Y39: 8 | Z39: 52 | AA39: 720000 | AB39: 22 | AC39: 9 | AD39: 13 | AE39: 107 | AF39: 53 | AG39: 54 | AH39: 225 | AI39: 620075
A40: Miaoli County | B40: 一般 | C40: General | D40: 1233 | E40: 589 | F40: 644 | G40: 1402 | H40: 678 | I40: 724 | J40: 7392 | K40: 16231436 | L40: 21 | M40: 10 | N40: 11 | O40: 44 | P40: 19 | Q40: 25 | R40: 141 | S40: 770173 | T40: 7 | U40: 4 | V40: 3 | W40: 14 | X40: 6 | Y40: 8 | Z40: 52 | AA40: 720000 | AB40: 22 | AC40: 9 | AD40: 13 | AE40: 105 | AF40: 52 | AG40: 53 | AH40: 225 | AI40: 620075
B41: 原住民 | C41: Indigenous | D41: 215 | E41: 124 | F41: 91 | G41: 261 | H41: 155 | I41: 106 | J41: 1322 | K41: 2904434 | L41: 0 | M41: 0 | N41: 0 | O41: 0 | P41: 0 | Q41: 0 | R41: 0 | S41: 0 | T41: 0 | U41: 0 | V41: 0 | W41: 0 | X41: 0 | Y41: 0 | Z41: 0 | AA41: 0 | AB41: 0 | AC41: 0 | AD41: 0 | AE41: 2 | AF41: 1 | AG41: 1 | AH41: 0 | AI41: 0
A42: 彰化縣 | B42: 計 | C42: Total | D42: 5951 | E42: 3014 | F42: 2937 | G42: 6997 | H42: 3561 | I42: 3436 | J42: 36182 | K42: 79443785 | L42: 18 | M42: 8 | N42: 10 | O42: 168 | P42: 92 | Q42: 76 | R42: 88 | S42: 2564873 | T42: 117 | U42: 58 | V42: 59 | W42: 174 | X42: 91 | Y42: 83 | Z42: 677 | AA42: 9163979 | AB42: 75 | AC42: 39 | AD42: 36 | AE42: 155 | AF42: 81 | AG42: 74 | AH42: 432 | AI42: 1241666
A43: Changhua County | B43: 一般 | C43: General | D43: 5761 | E43: 2937 | F43: 2824 | G43: 6773 | H43: 3463 | I43: 3310 | J43: 35064 | K43: 76987539 | L43: 18 | M43: 8 | N43: 10 | O43: 168 | P43: 92 | Q43: 76 | R43: 88 | S43: 2564873 | T43: 117 | U43: 58 | V43: 59 | W43: 174 | X43: 91 | Y43: 83 | Z43: 677 | AA43: 9163979 | AB43: 74 | AC43: 38 | AD43: 36 | AE43: 150 | AF43: 78 | AG43: 72 | AH43: 426 | AI43: 1223666
B44: 原住民 | C44: Indigenous | D44: 190 | E44: 77 | F44: 113 | G44: 224 | H44: 98 | I44: 126 | J44: 1118 | K44: 2456246 | L44: 0 | M44: 0 | N44: 0 | O44: 0 | P44: 0 | Q44: 0 | R44: 0 | S44: 0 | T44: 0 | U44: 0 | V44: 0 | W44: 0 | X44: 0 | Y44: 0 | Z44: 0 | AA44: 0 | AB44: 1 | AC44: 1 | AD44: 0 | AE44: 5 | AF44: 3 | AG44: 2 | AH44: 6 | AI44: 18000
A45: 南投縣 | B45: 計 | C45: Total | D45: 1295 | E45: 679 | F45: 616 | G45: 1467 | H45: 763 | I45: 704 | J45: 8797 | K45: 19318221 | L45: 3 | M45: 2 | N45: 1 | O45: 67 | P45: 39 | Q45: 28 | R45: 50 | S45: 1844823 | T45: 1 | U45: 0 | V45: 1 | W45: 1 | X45: 0 | Y45: 1 | Z45: 6 | AA45: 92700 | AB45: 5 | AC45: 3 | AD45: 2 | AE45: 9 | AF45: 5 | AG45: 4 | AH45: 11 | AI45: 33000
A46: Nantou County | B46: 一般 | C46: General | D46: 1050 | E46: 556 | F46: 494 | G46: 1206 | H46: 630 | I46: 576 | J46: 7211 | K46: 15842567 | L46: 3 | M46: 2 | N46: 1 | O46: 61 | P46: 36 | Q46: 25 | R46: 47 | S46: 1696149 | T46: 1 | U46: 0 | V46: 1 | W46: 1 | X46: 0 | Y46: 1 | Z46: 6 | AA46: 92700 | AB46: 5 | AC46: 3 | AD46: 2 | AE46: 9 | AF46: 5 | AG46: 4 | AH46: 11 | AI46: 33000
B47: 原住民 | C47: Indigenous | D47: 245 | E47: 123 | F47: 122 | G47: 261 | H47: 133 | I47: 128 | J47: 1586 | K47: 3475654 | L47: 0 | M47: 0 | N47: 0 | O47: 6 | P47: 3 | Q47: 3 | R47: 3 | S47: 148674 | T47: 0 | U47: 0 | V47: 0 | W47: 0 | X47: 0 | Y47: 0 | Z47: 0 | AA47: 0 | AB47: 0 | AC47: 0 | AD47: 0 | AE47: 0 | AF47: 0 | AG47: 0 | AH47: 0 | AI47: 0
A48: 雲林縣 | B48: 計 | C48: Total | D48: 2334 | E48: 1145 | F48: 1189 | G48: 2782 | H48: 1391 | I48: 1391 | J48: 14555 | K48: 31977335 | L48: 3 | M48: 2 | N48: 1 | O48: 435 | P48: 225 | Q48: 210 | R48: 285 | S48: 3393805 | T48: 77 | U48: 47 | V48: 30 | W48: 97 | X48: 53 | Y48: 44 | Z48: 78 | AA48: 1119408 | AB48: 24 | AC48: 14 | AD48: 10 | AE48: 344 | AF48: 181 | AG48: 163 | AH48: 195 | AI48: 585000
A49: Yunlin County | B49: 一般 | C49: General | D49: 2302 | E49: 1128 | F49: 1174 | G49: 2735 | H49: 1367 | I49: 1368 | J49: 14523 | K49: 31907031 | L49: 3 | M49: 2 | N49: 1 | O49: 435 | P49: 225 | Q49: 210 | R49: 285 | S49: 3393805 | T49: 77 | U49: 47 | V49: 30 | W49: 97 | X49: 53 | Y49: 44 | Z49: 78 | AA49: 1119408 | AB49: 24 | AC49: 14 | AD49: 10 | AE49: 344 | AF49: 181 | AG49: 163 | AH49: 195 | AI49: 585000
B50: 原住民 | C50: Indigenous | D50: 32 | E50: 17 | F50: 15 | G50: 47 | H50: 24 | I50: 23 | J50: 32 | K50: 70304 | L50: 0 | M50: 0 | N50: 0 | O50: 0 | P50: 0 | Q50: 0 | R50: 0 | S50: 0 | T50: 0 | U50: 0 | V50: 0 | W50: 0 | X50: 0 | Y50: 0 | Z50: 0 | AA50: 0 | AB50: 0 | AC50: 0 | AD50: 0 | AE50: 0 | AF50: 0 | AG50: 0 | AH50: 0 | AI50: 0
A51: 嘉義縣 | B51: 計 | C51: Total | D51: 2704 | E51: 1367 | F51: 1337 | G51: 3259 | H51: 1635 | I51: 1624 | J51: 16459 | K51: 36160423 | L51: 2 | M51: 1 | N51: 1 | O51: 22 | P51: 8 | Q51: 14 | R51: 14 | S51: 191478 | T51: 16 | U51: 5 | V51: 11 | W51: 23 | X51: 11 | Y51: 12 | Z51: 63 | AA51: 757600 | AB51: 44 | AC51: 23 | AD51: 21 | AE51: 96 | AF51: 50 | AG51: 46 | AH51: 147 | AI51: 441000
A52: Chiayi County | B52: 一般 | C52: General | D52: 2602 | E52: 1313 | F52: 1289 | G52: 3135 | H52: 1570 | I52: 1565 | J52: 15830 | K52: 34778510 | L52: 2 | M52: 1 | N52: 1 | O52: 22 | P52: 8 | Q52: 14 | R52: 14 | S52: 191478 | T52: 16 | U52: 5 | V52: 11 | W52: 23 | X52: 11 | Y52: 12 | Z52: 63 | AA52: 757600 | AB52: 44 | AC52: 23 | AD52: 21 | AE52: 93 | AF52: 48 | AG52: 45 | AH52: 147 | AI52: 441000
B53: 原住民 | C53: Indigenous | D53: 102 | E53: 54 | F53: 48 | G53: 124 | H53: 65 | I53: 59 | J53: 629 | K53: 1381913 | L53: 0 | M53: 0 | N53: 0 | O53: 0 | P53: 0 | Q53: 0 | R53: 0 | S53: 0 | T53: 0 | U53: 0 | V53: 0 | W53: 0 | X53: 0 | Y53: 0 | Z53: 0 | AA53: 0 | AB53: 0 | AC53: 0 | AD53: 0 | AE53: 3 | AF53: 2 | AG53: 1 | AH53: 0 | AI53: 0
A54: 屏東縣 | B54: 計 | C54: Total | D54: 3498 | E54: 1749 | F54: 1749 | G54: 3820 | H54: 1911 | I54: 1909 | J54: 19267 | K54: 42174400 | L54: 13 | M54: 7 | N54: 6 | O54: 19 | P54: 9 | Q54: 10 | R54: 13 | S54: 358299 | T54: 47 | U54: 25 | V54: 22 | W54: 80 | X54: 47 | Y54: 33 | Z54: 263 | AA54: 3560551 | AB54: 3 | AC54: 3 | AD54: 0 | AE54: 5 | AF54: 5 | AG54: 0 | AH54: 6 | AI54: 18000
A55: Pingtung County | B55: 一般 | C55: General | D55: 2847 | E55: 1400 | F55: 1447 | G55: 3116 | H55: 1536 | I55: 1580 | J55: 15707 | K55: 34416596 | L55: 13 | M55: 7 | N55: 6 | O55: 19 | P55: 9 | Q55: 10 | R55: 13 | S55: 358299 | T55: 46 | U55: 24 | V55: 22 | W55: 78 | X55: 45 | Y55: 33 | Z55: 261 | AA55: 3534801 | AB55: 2 | AC55: 2 | AD55: 0 | AE55: 4 | AF55: 4 | AG55: 0 | AH55: 4 | AI55: 12000
B56: 原住民 | C56: Indigenous | D56: 651 | E56: 349 | F56: 302 | G56: 704 | H56: 375 | I56: 329 | J56: 3560 | K56: 7757804 | L56: 0 | M56: 0 | N56: 0 | O56: 0 | P56: 0 | Q56: 0 | R56: 0 | S56: 0 | T56: 1 | U56: 1 | V56: 0 | W56: 2 | X56: 2 | Y56: 0 | Z56: 2 | AA56: 25750 | AB56: 1 | AC56: 1 | AD56: 0 | AE56: 1 | AF56: 1 | AG56: 0 | AH56: 2 | AI56: 6000
A57: 臺東縣 | B57: 計 | C57: Total | D57: 1836 | E57: 936 | F57: 900 | G57: 2198 | H57: 1128 | I57: 1070 | J57: 11118 | K57: 27005622 | L57: 5 | M57: 2 | N57: 3 | O57: 26 | P57: 14 | Q57: 12 | R57: 19 | S57: 550529 | T57: 12 | U57: 7 | V57: 5 | W57: 23 | X57: 10 | Y57: 13 | Z57: 76 | AA57: 785450 | AB57: 22 | AC57: 9 | AD57: 13 | AE57: 52 | AF57: 25 | AG57: 27 | AH57: 131 | AI57: 368710
A58: Taitung County | B58: 一般 | C58: General | D58: 615 | E58: 308 | F58: 307 | G58: 752 | H58: 375 | I58: 377 | J58: 3760 | K58: 9133040 | L58: 1 | M58: 0 | N58: 1 | O58: 7 | P58: 4 | Q58: 3 | R58: 5 | S58: 92799 | T58: 2 | U58: 2 | V58: 0 | W58: 6 | X58: 3 | Y58: 3 | Z58: 17 | AA58: 168390 | AB58: 2 | AC58: 2 | AD58: 0 | AE58: 14 | AF58: 8 | AG58: 6 | AH58: 35 | AI58: 95284
B59: 原住民 | C59: Indigenous | D59: 1221 | E59: 628 | F59: 593 | G59: 1446 | H59: 753 | I59: 693 | J59: 7358 | K59: 17872582 | L59: 4 | M59: 2 | N59: 2 | O59: 19 | P59: 10 | Q59: 9 | R59: 14 | S59: 457730 | T59: 10 | U59: 5 | V59: 5 | W59: 17 | X59: 7 | Y59: 10 | Z59: 59 | AA59: 617060 | AB59: 20 | AC59: 7 | AD59: 13 | AE59: 38 | AF59: 17 | AG59: 21 | AH59: 96 | AI59: 273426
A60: 花蓮縣 | B60: 計 | C60: Total | D60: 2613 | E60: 1359 | F60: 1254 | G60: 3222 | H60: 1672 | I60: 1550 | J60: 15788 | K60: 38349052 | L60: 30 | M60: 13 | N60: 17 | O60: 49 | P60: 21 | Q60: 28 | R60: 33 | S60: 349652 | T60: 14 | U60: 10 | V60: 4 | W60: 20 | X60: 14 | Y60: 6 | Z60: 23 | AA60: 263115 | AB60: 18 | AC60: 8 | AD60: 10 | AE60: 49 | AF60: 22 | AG60: 27 | AH60: 100 | AI60: 300000
A61: Hualien County | B61: 一般 | C61: General | D61: 1005 | E61: 517 | F61: 488 | G61: 1247 | H61: 638 | I61: 609 | J61: 6094 | K61: 14802326 | L61: 12 | M61: 2 | N61: 10 | O61: 28 | P61: 8 | Q61: 20 | R61: 15 | S61: 44096 | T61: 8 | U61: 6 | V61: 2 | W61: 12 | X61: 8 | Y61: 4 | Z61: 11 | AA61: 140812 | AB61: 6 | AC61: 2 | AD61: 4 | AE61: 26 | AF61: 9 | AG61: 17 | AH61: 36 | AI61: 108000
B62: 原住民 | C62: Indigenous | D62: 1608 | E62: 842 | F62: 766 | G62: 1975 | H62: 1034 | I62: 941 | J62: 9694 | K62: 23546726 | L62: 18 | M62: 11 | N62: 7 | O62: 21 | P62: 13 | Q62: 8 | R62: 18 | S62: 305556 | T62: 6 | U62: 4 | V62: 2 | W62: 8 | X62: 6 | Y62: 2 | Z62: 12 | AA62: 122303 | AB62: 12 | AC62: 6 | AD62: 6 | AE62: 23 | AF62: 13 | AG62: 10 | AH62: 64 | AI62: 192000
A63: 澎湖縣 | B63: 計 | C63: Total | D63: 222 | E63: 101 | F63: 121 | G63: 224 | H63: 102 | I63: 122 | J63: 1287 | K63: 2827539 | L63: 3 | M63: 1 | N63: 2 | O63: 9 | P63: 2 | Q63: 7 | R63: 6 | S63: 101473 | T63: 4 | U63: 2 | V63: 2 | W63: 5 | X63: 3 | Y63: 2 | Z63: 47 | AA63: 518105 | AB63: 0 | AC63: 0 | AD63: 0 | AE63: 1 | AF63: 0 | AG63: 1 | AH63: 0 | AI63: 0
A64: Penghu County | B64: 一般 | C64: General | D64: 222 | E64: 101 | F64: 121 | G64: 224 | H64: 102 | I64: 122 | J64: 1287 | K64: 2827539 | L64: 3 | M64: 1 | N64: 2 | O64: 9 | P64: 2 | Q64: 7 | R64: 6 | S64: 101473 | T64: 4 | U64: 2 | V64: 2 | W64: 5 | X64: 3 | Y64: 2 | Z64: 47 | AA64: 518105 | AB64: 0 | AC64: 0 | AD64: 0 | AE64: 1 | AF64: 0 | AG64: 1 | AH64: 0 | AI64: 0
B65: 原住民 | C65: Indigenous | D65: 0 | E65: 0 | F65: 0 | G65: 0 | H65: 0 | I65: 0 | J65: 0 | K65: 0 | L65: 0 | M65: 0 | N65: 0 | O65: 0 | P65: 0 | Q65: 0 | R65: 0 | S65: 0 | T65: 0 | U65: 0 | V65: 0 | W65: 0 | X65: 0 | Y65: 0 | Z65: 0 | AA65: 0 | AB65: 0 | AC65: 0 | AD65: 0 | AE65: 0 | AF65: 0 | AG65: 0 | AH65: 0 | AI65: 0
A66: 基隆市 | B66: 計 | C66: Total | D66: 1455 | E66: 720 | F66: 735 | G66: 1865 | H66: 936 | I66: 929 | J66: 8366 | K66: 18380102 | L66: 9 | M66: 3 | N66: 6 | O66: 16 | P66: 7 | Q66: 9 | R66: 9 | S66: 184638 | T66: 14 | U66: 5 | V66: 9 | W66: 26 | X66: 15 | Y66: 11 | Z66: 60 | AA66: 684780 | AB66: 1 | AC66: 0 | AD66: 1 | AE66: 6 | AF66: 3 | AG66: 3 | AH66: 10 | AI66: 30000
A67: Keelung City | B67: 一般 | C67: General | D67: 1284 | E67: 645 | F67: 639 | G67: 1636 | H67: 829 | I67: 807 | J67: 7416 | K67: 16292952 | L67: 9 | M67: 3 | N67: 6 | O67: 16 | P67: 7 | Q67: 9 | R67: 9 | S67: 184638 | T67: 14 | U67: 5 | V67: 9 | W67: 26 | X67: 15 | Y67: 11 | Z67: 60 | AA67: 684780 | AB67: 1 | AC67: 0 | AD67: 1 | AE67: 6 | AF67: 3 | AG67: 3 | AH67: 10 | AI67: 30000
B68: 原住民 | C68: Indigenous | D68: 171 | E68: 75 | F68: 96 | G68: 229 | H68: 107 | I68: 122 | J68: 950 | K68: 2087150 | L68: 0 | M68: 0 | N68: 0 | O68: 0 | P68: 0 | Q68: 0 | R68: 0 | S68: 0 | T68: 0 | U68: 0 | V68: 0 | W68: 0 | X68: 0 | Y68: 0 | Z68: 0 | AA68: 0 | AB68: 0 | AC68: 0 | AD68: 0 | AE68: 0 | AF68: 0 | AG68: 0 | AH68: 0 | AI68: 0
A69: 新竹市 | B69: 計 | C69: Total | D69: 753 | E69: 372 | F69: 381 | G69: 877 | H69: 424 | I69: 453 | J69: 4476 | K69: 9833772 | L69: 0 | M69: 0 | N69: 0 | O69: 15 | P69: 6 | Q69: 9 | R69: 6 | S69: 44395 | T69: 17 | U69: 8 | V69: 9 | W69: 41 | X69: 22 | Y69: 19 | Z69: 116 | AA69: 1681500 | AB69: 4 | AC69: 3 | AD69: 1 | AE69: 52 | AF69: 37 | AG69: 15 | AH69: 28 | AI69: 84000
A70: Hsinchu City | B70: 一般 | C70: General | D70: 694 | E70: 343 | F70: 351 | G70: 804 | H70: 388 | I70: 416 | J70: 4129 | K70: 9071413 | L70: 0 | M70: 0 | N70: 0 | O70: 15 | P70: 6 | Q70: 9 | R70: 6 | S70: 44395 | T70: 17 | U70: 8 | V70: 9 | W70: 41 | X70: 22 | Y70: 19 | Z70: 116 | AA70: 1681500 | AB70: 2 | AC70: 2 | AD70: 0 | AE70: 28 | AF70: 25 | AG70: 3 | AH70: 16 | AI70: 48000
B71: 原住民 | C71: Indigenous | D71: 59 | E71: 29 | F71: 30 | G71: 73 | H71: 36 | I71: 37 | J71: 347 | K71: 762359 | L71: 0 | M71: 0 | N71: 0 | O71: 0 | P71: 0 | Q71: 0 | R71: 0 | S71: 0 | T71: 0 | U71: 0 | V71: 0 | W71: 0 | X71: 0 | Y71: 0 | Z71: 0 | AA71: 0 | AB71: 2 | AC71: 1 | AD71: 1 | AE71: 24 | AF71: 12 | AG71: 12 | AH71: 12 | AI71: 36000
A72: 嘉義市 | B72: 計 | C72: Total | D72: 1268 | E72: 655 | F72: 613 | G72: 1369 | H72: 711 | I72: 658 | J72: 7006 | K72: 15392182 | L72: 0 | M72: 0 | N72: 0 | O72: 8 | P72: 4 | Q72: 4 | R72: 7 | S72: 118463 | T72: 9 | U72: 7 | V72: 2 | W72: 25 | X72: 18 | Y72: 7 | Z72: 59 | AA72: 627495 | AB72: 1 | AC72: 0 | AD72: 1 | AE72: 3 | AF72: 2 | AG72: 1 | AH72: 17 | AI72: 51000
A73: Chiayi City | B73: 一般 | C73: General | D73: 1247 | E73: 647 | F73: 600 | G73: 1347 | H73: 702 | I73: 645 | J73: 6880 | K73: 15115360 | L73: 0 | M73: 0 | N73: 0 | O73: 8 | P73: 4 | Q73: 4 | R73: 7 | S73: 118463 | T73: 4 | U73: 2 | V73: 2 | W73: 19 | X73: 12 | Y73: 7 | Z73: 31 | AA73: 380495 | AB73: 1 | AC73: 0 | AD73: 1 | AE73: 3 | AF73: 2 | AG73: 1 | AH73: 17 | AI73: 51000
B74: 原住民 | C74: Indigenous | D74: 21 | E74: 8 | F74: 13 | G74: 22 | H74: 9 | I74: 13 | J74: 126 | K74: 276822 | L74: 0 | M74: 0 | N74: 0 | O74: 0 | P74: 0 | Q74: 0 | R74: 0 | S74: 0 | T74: 5 | U74: 5 | V74: 0 | W74: 6 | X74: 6 | Y74: 0 | Z74: 28 | AA74: 247000 | AB74: 0 | AC74: 0 | AD74: 0 | AE74: 0 | AF74: 0 | AG74: 0 | AH74: 0 | AI74: 0
A75: 金門縣 | B75: 計 | C75: Total | D75: 109 | E75: 50 | F75: 59 | G75: 117 | H75: 54 | I75: 63 | J75: 614 | K75: 1348958 | L75: 15 | M75: 5 | N75: 10 | O75: 26 | P75: 12 | Q75: 14 | R75: 15 | S75: 291504 | T75: 1 | U75: 0 | V75: 1 | W75: 4 | X75: 2 | Y75: 2 | Z75: 17 | AA75: 134000 | AB75: 3 | AC75: 1 | AD75: 2 | AE75: 3 | AF75: 1 | AG75: 2 | AH75: 18 | AI75: 54000
A76: Kinmen County | B76: 一般 | C76: General | D76: 105 | E76: 49 | F76: 56 | G76: 113 | H76: 53 | I76: 60 | J76: 590 | K76: 1296230 | L76: 15 | M76: 5 | N76: 10 | O76: 26 | P76: 12 | Q76: 14 | R76: 15 | S76: 291504 | T76: 1 | U76: 0 | V76: 1 | W76: 4 | X76: 2 | Y76: 2 | Z76: 17 | AA76: 134000 | AB76: 3 | AC76: 1 | AD76: 2 | AE76: 3 | AF76: 1 | AG76: 2 | AH76: 18 | AI76: 54000
B77: 原住民 | C77: Indigenous | D77: 4 | E77: 1 | F77: 3 | G77: 4 | H77: 1 | I77: 3 | J77: 24 | K77: 52728 | L77: 0 | M77: 0 | N77: 0 | O77: 0 | P77: 0 | Q77: 0 | R77: 0 | S77: 0 | T77: 0 | U77: 0 | V77: 0 | W77: 0 | X77: 0 | Y77: 0 | Z77: 0 | AA77: 0 | AB77: 0 | AC77: 0 | AD77: 0 | AE77: 0 | AF77: 0 | AG77: 0 | AH77: 0 | AI77: 0
A78: 連江縣 | B78: 計 | C78: Total | D78: 18 | E78: 4 | F78: 14 | G78: 20 | H78: 6 | I78: 14 | J78: 103 | K78: 238239 | L78: 0 | M78: 0 | N78: 0 | O78: 0 | P78: 0 | Q78: 0 | R78: 0 | S78: 0 | T78: 0 | U78: 0 | V78: 0 | W78: 0 | X78: 0 | Y78: 0 | Z78: 0 | AA78: 0 | AB78: 1 | AC78: 1 | AD78: 0 | AE78: 1 | AF78: 1 | AG78: 0 | AH78: 4 | AI78: 12000
A79: Lienchiang County | B79: 一般 | C79: General | D79: 9 | E79: 4 | F79: 5 | G79: 11 | H79: 6 | I79: 5 | J79: 49 | K79: 113337 | L79: 0 | M79: 0 | N79: 0 | O79: 0 | P79: 0 | Q79: 0 | R79: 0 | S79: 0 | T79: 0 | U79: 0 | V79: 0 | W79: 0 | X79: 0 | Y79: 0 | Z79: 0 | AA79: 0 | AB79: 1 | AC79: 1 | AD79: 0 | AE79: 1 | AF79: 1 | AG79: 0 | AH79: 4 | AI79: 12000
B80: 原住民 | C80: Indigenous | D80: 9 | E80: 0 | F80: 9 | G80: 9 | H80: 0 | I80: 9 | J80: 54 | K80: 124902 | L80: 0 | M80: 0 | N80: 0 | O80: 0 | P80: 0 | Q80: 0 | R80: 0 | S80: 0 | T80: 0 | U80: 0 | V80: 0 | W80: 0 | X80: 0 | Y80: 0 | Z80: 0 | AA80: 0 | AB80: 0 | AC80: 0 | AD80: 0 | AE80: 0 | AF80: 0 | AG80: 0 | AH80: 0 | AI80: 0
A81: 資料來源：各直轄市、縣市政府。
A82: Source: County and Government.
A83: 更新日期：2025/07/31
A85: 總計 | B85: 計 | C85: Total | D85: 82849 | E85: 42047 | F85: 40802 | G85: 98456 | H85: 50019 | I85: 48437 | J85: 502909 | K85: 1129880080 | L85: 5669 | M85: 3660 | N85: 2009 | O85: 11757 | P85: 7097 | Q85: 4660 | R85: 13483 | S85: 109525127 | T85: 1336 | U85: 734 | V85: 602 | W85: 2857 | X85: 1587 | Y85: 1270 | Z85: 7327 | AA85: 85317291 | AB85: 1020 | AC85: 511 | AD85: 509 | AE85: 2583 | AF85: 1340 | AG85: 1243 | AH85: 5988 | AI85: 17568982
A86: Total | B86: 一般 | C86: General | D86: 74564 | E86: 37815 | F86: 36749 | G86: 88635 | H86: 44966 | I86: 43669 | J86: 453793 | K86: 1016972651 | L86: 5611 | M86: 3628 | N86: 1983 | O86: 11656 | P86: 7045 | Q86: 4611 | R86: 13362 | S86: 107970899 | T86: 1283 | U86: 705 | V86: 578 | W86: 2772 | X86: 1543 | Y86: 1229 | Z86: 7089 | AA86: 82891310 | AB86: 903 | AC86: 454 | AD86: 449 | AE86: 2341 | AF86: 1214 | AG86: 1127 | AH86: 5397 | AI86: 15863668
B87: 原住民 | C87: Indigenous | D87: 8285 | E87: 4232 | F87: 4053 | G87: 9821 | H87: 5053 | I87: 4768 | J87: 49116 | K87: 112907429 | L87: 58 | M87: 32 | N87: 26 | O87: 101 | P87: 52 | Q87: 49 | R87: 121 | S87: 1554228 | T87: 53 | U87: 29 | V87: 24 | W87: 85 | X87: 44 | Y87: 41 | Z87: 238 | AA87: 2425981 | AB87: 117 | AC87: 57 | AD87: 60 | AE87: 242 | AF87: 126 | AG87: 116 | AH87: 591 | AI87: 1705314
