Workbook

Sheet 歷年
A1: 弱勢兒童及少年扶助概況Overview of Allowances for Disadvantaged Child and Youth
A2: 民國104-114年
A4: 年別 Year | B4: 弱勢兒童及少年生活扶助 Living Support for Disadvantaged Child and Youth | J4: 弱勢兒童及少年醫療補助 Medical Subsidies for Disadvantaged Child and Youth | R4: 托育補助/津貼(註1) Childcare Subsidies/Allowance for Low-Income Families | Z4: 弱勢兒少緊急生活扶助 Emergency Living Relief to Disadvantaged Child and Youth
B7: 期底人數(人)Persons | E7: 本年累計至期底人數(人) Accumulated to the End of the Current Persons | H7: 人次(月) Person-Times | I7: 金額(元) Amount(NT$) | J7: 期底人數(人)Persons | M7: 本年累計至期底人數(人) Accumulated to the End of the Current Persons | P7: 人次(月) Person-Times | Q7: 金額(元) Amount(NT$) | R7: 期底人數(人)Persons | U7: 本年累計至期底人數(人) Accumulated to the End of the Current Persons | X7: 人次(月) Person-Times | Y7: 金額(元) Amount(NT$) | Z7: 期底人數(人)Persons | AC7: 本年累計至期底人數(人) Accumulated to the End of the Current Persons | AF7: 人次(月) Person-Times | AG7: 金額(元) Amount(NT$)
B9: 計 Total | C9: 男 Male | D9: 女 Female | E9: 計 Total | F9: 男 Male | G9: 女 Female | J9: 計 Total | K9: 男 Male | L9: 女 Female | M9: 計 Total | N9: 男 Male | O9: 女 Female | R9: 計 Total | S9: 男 Male | T9: 女 Female | U9: 計 Total | V9: 男 Male | W9: 女 Female | Z9: 計 Total | AA9: 男 Male | AB9: 女 Female | AC9: 計 Total | AD9: 男 Male | AE9: 女 Female
A12: 104年,2015 | B12: ='2015'!D12 -> 119242 | C12: ='2015'!E12 -> 60758 | D12: ='2015'!F12 -> 58484 | E12: … | F12: … | G12: … | H12: ='2015'!G12 -> 1385684 | I12: ='2015'!H12 -> 2708602026 | J12: ='2015'!I12 -> 2183 | K12: ='2015'!J12 -> 1243 | L12: ='2015'!K12 -> 940 | M12: … | N12: … | O12: … | P12: ='2015'!L12 -> 10860 | Q12: ='2015'!M12 -> 87541886 | R12: ='2015'!N12 -> 730 | S12: ='2015'!O12 -> 384 | T12: ='2015'!P12 -> 346 | U12: … | V12: … | W12: … | X12: ='2015'!Q12 -> 7071 | Y12: ='2015'!R12 -> 20249959 | Z12: ='2015'!S12 -> 3767 | AA12: ='2015'!T12 -> 1890 | AB12: ='2015'!U12 -> 1877 | AC12: … | AD12: … | AE12: … | AF12: ='2015'!V12 -> 53070 | AG12: ='2015'!W12 -> 153128062
A13: 105年,2016 | B13: ='2016'!D12 -> 117903 | C13: ='2016'!E12 -> 60010 | D13: ='2016'!F12 -> 57893 | E13: … | F13: … | G13: … | H13: ='2016'!G12 -> 1382965 | I13: ='2016'!H12 -> 2796728434 | J13: ='2016'!I12 -> 1460 | K13: ='2016'!J12 -> 771 | L13: ='2016'!K12 -> 689 | M13: … | N13: … | O13: … | P13: ='2016'!L12 -> 7635 | Q13: ='2016'!M12 -> 61985427 | R13: ='2016'!N12 -> 885 | S13: ='2016'!O12 -> 467 | T13: ='2016'!P12 -> 418 | U13: … | V13: … | W13: … | X13: ='2016'!Q12 -> 10017 | Y13: ='2016'!R12 -> 31201911 | Z13: ='2016'!S12 -> 3599 | AA13: ='2016'!T12 -> 1890 | AB13: ='2016'!U12 -> 1709 | AC13: … | AD13: … | AE13: … | AF13: ='2016'!V12 -> 45391 | AG13: ='2016'!W12 -> 129665655
A14: 106年,2017 | B14: ='2017'!D12 -> 113640 | C14: ='2017'!E12 -> 57517 | D14: ='2017'!F12 -> 56123 | E14: ='2017'!G12 -> 129847 | F14: ='2017'!H12 -> 66081 | G14: ='2017'!I12 -> 63766 | H14: ='2017'!J12 -> 1339627 | I14: ='2017'!K12 -> 2707905683 | ... AG14: ='2017'!AI12 -> 105143187
A15: 107年,2018 | B15: ='2018'!D12 -> 109041 | C15: ='2018'!E12 -> 55290 | D15: ='2018'!F12 -> 53751 | E15: ='2018'!G12 -> 129705 | F15: ='2018'!H12 -> 65633 | G15: ='2018'!I12 -> 64072 | H15: ='2018'!J12 -> 1309150 | I15: ='2018'!K12 -> 2635270627 | ... AG15: ='2018'!AI12 -> 96693823
A16: 108年,2019 | B16: ='2019'!D12 -> 105725 | C16: ='2019'!E12 -> 53634 | D16: ='2019'!F12 -> 52091 | E16: ='2019'!G12 -> 121890 | F16: ='2019'!H12 -> 61901 | G16: ='2019'!I12 -> 59989 | H16: ='2019'!J12 -> 1239001 | I16: ='2019'!K12 -> 2498099276 | ... AG16: ='2019'!AI12 -> 82954006
A17: 109年,2020 | B17: ='2020'!D12 -> 101381 | C17: ='2020'!E12 -> 51375 | D17: ='2020'!F12 -> 50006 | E17: ='2020'!G12 -> 147405 | F17: ='2020'!H12 -> 74985 | G17: ='2020'!I12 -> 72420 | H17: ='2020'!J12 -> 1200873 | I17: ='2020'!K12 -> 2516064014 | ... AG17: ='2020'!AI12 -> 70827839
A18: 110年,2021 | B18: ='2021'!D12 -> 98142 | C18: ='2021'!E12 -> 49836 | D18: ='2021'!F12 -> 48306 | E18: ='2021'!G12 -> 115978 | F18: ='2021'!H12 -> 58227 | G18: ='2021'!I12 -> 57751 | H18: ='2021'!J12 -> 1157898 | I18: ='2021'!K12 -> 2423920410 | ... AG18: ='2021'!AI12 -> 57281519
A19: 111年,2022 | B19: ='2022'!D12 -> 94050 | C19: ='2022'!E12 -> 47589 | D19: ='2022'!F12 -> 46461 | E19: ='2022'!G12 -> 108754 | F19: ='2022'!H12 -> 55023 | G19: ='2022'!I12 -> 53731 | H19: ='2022'!J12 -> 1131488 | I19: ='2022'!K12 -> 2433135997 | ... AG19: ='2022'!AI12 -> 45609764
A20: 112年,2023 | B20: ='2023'!D12 -> 88174 | C20: ='2023'!E12 -> 44857 | D20: ='2023'!F12 -> 43317 | E20: ='2023'!G12 -> 99474 | F20: ='2023'!H12 -> 50520 | G20: ='2023'!I12 -> 48954 | H20: ='2023'!J12 -> 1058871 | I20: ='2023'!K12 -> 2206445059 | ... AG20: ='2023'!AI12 -> 41234928
A21: 113年,2024 | B21: ='2024'!D12 -> 82849 | C21: ='2024'!E12 -> 42047 | D21: ='2024'!F12 -> 40802 | E21: ='2024'!G12 -> 98456 | F21: ='2024'!H12 -> 50019 | G21: ='2024'!I12 -> 48437 | H21: ='2024'!J12 -> 1020350 | I21: ='2024'!K12 -> 2249004138 | ... AG21: ='2024'!AI12 -> 36506111
A22: 上半年 Jan.-June | B22: ='Jan.-June, 2024'!D12 -> 83043 | C22: ='Jan.-June, 2024'!E12 -> 42304 | D22: ='Jan.-June, 2024'!F12 -> 40739 | E22: ='Jan.-June, 2024'!G12 -> 89512 | F22: ='Jan.-June, 2024'!H12 -> 45575 | G22: ='Jan.-June, 2024'!I12 -> 43937 | H22: ='Jan.-June, 2024'!J12 -> 517441 | I22: ='Jan.-June, 2024'!K12 -> 1119124058 | ... AG22: ='Jan.-June, 2024'!AI12 -> 18937129
A23: 下半年 July-Dec. | B23: ='July-Dec., 2024'!D12 -> 82849 | C23: ='July-Dec., 2024'!E12 -> 42047 | D23: ='July-Dec., 2024'!F12 -> 40802 | E23: ='July-Dec., 2024'!G12 -> 98456 | F23: ='July-Dec., 2024'!H12 -> 50019 | G23: ='July-Dec., 2024'!I12 -> 48437 | H23: ='July-Dec., 2024'!J12 -> 502909 | I23: ='July-Dec., 2024'!K12 -> 1129880080 | ... AG23: ='July-Dec., 2024'!AI12 -> 17568982
A24: 114年,2025 (r) | B24: ='2025'!D12 -> 76125 | C24: ='2025'!E12 -> 38605 | D24: ='2025'!F12 -> 37520 | E24: ='2025'!G12 -> 87640 | F24: ='2025'!H12 -> 44459 | G24: ='2025'!I12 -> 43181 | H24: ='2025'!J12 -> 921461 | I24: ='2025'!K12 -> 2072115313 | ... AG24: ='2025'!AI12 -> 29040021
A25: 上半年 Jan.-June(r) | B25: ='Jan.-June, 2025'!D12 -> 76366 | C25: ='Jan.-June, 2025'!E12 -> 38710 | D25: ='Jan.-June, 2025'!F12 -> 37656 | E25: ='Jan.-June, 2025'!G12 -> 81480 | F25: ='Jan.-June, 2025'!H12 -> 41319 | G25: ='Jan.-June, 2025'!I12 -> 40161 | H25: ='Jan.-June, 2025'!J12 -> 459911 | I25: ='Jan.-June, 2025'!K12 -> 1034675467 | ... AG25: ='Jan.-June, 2025'!AI12 -> 16515205
A26: 下半年 July-Dec.(r) | B26: ='July-Dec., 2025'!D12 -> 76125 | C26: ='July-Dec., 2025'!E12 -> 38605 | D26: ='July-Dec., 2025'!F12 -> 37520 | E26: ='July-Dec., 2025'!G12 -> 87640 | F26: ='July-Dec., 2025'!H12 -> 44459 | G26: ='July-Dec., 2025'!I12 -> 43181 | H26: ='July-Dec., 2025'!J12 -> 461550 | I26: ='July-Dec., 2025'!K12 -> 1037439846 | ... AG26: ='July-Dec., 2025'!AI12 -> 12524816
A27: 資料來源：直轄市、縣(市)政府。
A28: 附註：
A29: 1.「托育補助/津貼」：
A30: (1)因應幼托整合，幼兒園統一由教育單位管轄，故自102年起本表不含就讀於「幼兒園」之托育補助。
A31: (2)由於107年準公共化托育開辦，親屬托育歸為家內照顧之一環並擴大育兒津貼補助對象，致108年申請弱勢兒少托兒補助人數減少。
A32: (3)由於109年11月修法取消弱勢兒童托育費用補助申請者就業要件限制，致110年申請托育補助人數及金額增加。
A33: (4)111年8月提高托育補助金額，致本年累計至期底人數減少但金額增加之情形發生。
A35: Source: County and Government.
A36: 更新日期：2026/05/20
B37: =IF(B26=B24,"","*") | C37: =IF(C26=C24,"","*") | D37: =IF(D26=D24,"","*") | E37: =IF(E26=E24,"","*") | F37: =IF(F26=F24,"","*") | G37: =IF(G26=G24,"","*") | H37: =IF(H24=SUM(H25,H26),"","*") | I37: =IF(I24=SUM(I25,I26),"","*") | J37: =IF(J26=J24,"","*") | K37: =IF(K26=K24,"","*") | L37: =IF(L26=L24,"","*") | M37: =IF(M26=M24,"","*") | N37: =IF(N26=N24,"","*") | O37: =IF(O26=O24,"","*") | P37: =IF(P24=SUM(P25,P26),"","*") | Q37: =IF(Q24=SUM(Q25,Q26),"","*") | R37: =IF(R26=R24,"","*") | S37: =IF(S26=S24,"","*") | T37: =IF(T26=T24,"","*") | U37: =IF(U26=U24,"","*") | V37: =IF(V26=V24,"","*") | W37: =IF(W26=W24,"","*") | X37: =IF(X24=SUM(X25,X26),"","*") | Y37: =IF(Y24=SUM(Y25,Y26),"","*") | Z37: =IF(Z26=Z24,"","*") | AA37: =IF(AA26=AA24,"","*") | AB37: =IF(AB26=AB24,"","*") | AC37: =IF(AC26=AC24,"","*") | AD37: =IF(AD26=AD24,"","*") | AE37: =IF(AE26=AE24,"","*") | AF37: =IF(AF24=SUM(AF25,AF26),"","*") | AG37: =IF(AG24=SUM(AG25,AG26),"","*")

Sheet 2025
A1: 弱勢兒童及少年扶助概況Overview of Allowances for Disadvantaged Child and Youth
D2: =IF(D13=SUM(D16,D19,D25,D28,D31,D34,D22,D37,D40,D43,D46,D49,D52,D55,D58,D61,D64,D67,D70,D73,D76,D79),"","*") | E2: =IF(E13=SUM(E16,E19,E25,E28,E31,E34,E22,E37,E40,E43,E46,E49,E52,E55,E58,E61,E64,E67,E70,E73,E76,E79),"","*") | F2: =IF(F13=SUM(F16,F19,F25,F28,F31,F34,F22,F37,F40,F43,F46,F49,F52,F55,F58,F61,F64,F67,F70,F73,F76,F79),"","*") | G2: =IF(G13=SUM(G16,G19,G25,G28,G31,G34,G22,G37,G40,G43,G46,G49,G52,G55,G58,G61,G64,G67,G70,G73,G76,G79),"","*") | H2: =IF(H13=SUM(H16,H19,H25,H28,H31,H34,H22,H37,H40,H43,H46,H49,H52,H55,H58,H61,H64,H67,H70,H73,H76,H79),"","*") | I2: =IF(I13=SUM(I16,I19,I25,I28,I31,I34,I22,I37,I40,I43,I46,I49,I52,I55,I58,I61,I64,I67,I70,I73,I76,I79),"","*") | J2: =IF(J13=SUM(J16,J19,J25,J28,J31,J34,J22,J37,J40,J43,J46,J49,J52,J55,J58,J61,J64,J67,J70,J73,J76,J79),"","*") | K2: =IF(K13=SUM(K16,K19,K25,K28,K31,K34,K22,K37,K40,K43,K46,K49,K52,K55,K58,K61,K64,K67,K70,K73,K76,K79),"","*") | ... AI2: =IF(AI13=SUM(AI16,AI19,AI25,AI28,AI31,AI34,AI22,AI37,AI40,AI43,AI46,AI49,AI52,AI55,AI58,AI61,AI64,AI67,AI70,AI73,AI76,AI79),"","*")
A3: 民國114年, 2025 | D3: =IF(D14=SUM(D17,D20,D26,D29,D32,D35,D23,D38,D41,D44,D47,D50,D53,D56,D59,D62,D65,D68,D71,D74,D77,D80),"","*") | E3: =IF(E14=SUM(E17,E20,E26,E29,E32,E35,E23,E38,E41,E44,E47,E50,E53,E56,E59,E62,E65,E68,E71,E74,E77,E80),"","*") | F3: =IF(F14=SUM(F17,F20,F26,F29,F32,F35,F23,F38,F41,F44,F47,F50,F53,F56,F59,F62,F65,F68,F71,F74,F77,F80),"","*") | G3: =IF(G14=SUM(G17,G20,G26,G29,G32,G35,G23,G38,G41,G44,G47,G50,G53,G56,G59,G62,G65,G68,G71,G74,G77,G80),"","*") | H3: =IF(H14=SUM(H17,H20,H26,H29,H32,H35,H23,H38,H41,H44,H47,H50,H53,H56,H59,H62,H65,H68,H71,H74,H77,H80),"","*") | I3: =IF(I14=SUM(I17,I20,I26,I29,I32,I35,I23,I38,I41,I44,I47,I50,I53,I56,I59,I62,I65,I68,I71,I74,I77,I80),"","*") | J3: =IF(J14=SUM(J17,J20,J26,J29,J32,J35,J23,J38,J41,J44,J47,J50,J53,J56,J59,J62,J65,J68,J71,J74,J77,J80),"","*") | K3: =IF(K14=SUM(K17,K20,K26,K29,K32,K35,K23,K38,K41,K44,K47,K50,K53,K56,K59,K62,K65,K68,K71,K74,K77,K80),"","*") | ... AI3: =IF(AI14=SUM(AI17,AI20,AI26,AI29,AI32,AI35,AI23,AI38,AI41,AI44,AI47,AI50,AI53,AI56,AI59,AI62,AI65,AI68,AI71,AI74,AI77,AI80),"","*")
A4: 區域及特殊族群別 Locality & Ethnos | D4: 弱勢兒童及少年生活扶助 Living Support for Disadvantaged Child and Youth | L4: 弱勢兒童及少年醫療補助 Medical Subsidies for Disadvantaged Child and Youth | T4: 托育補助/津貼 Childcare Subsidies/Allowance for Low-Income Families | AB4: 弱勢兒少緊急生活扶助 Emergency Living Relief to Disadvantaged Child and Youth
D7: 期底人數(人)Persons | G7: 本年累計至期底人數(人) Accumulated to the End of the Current Persons | J7: 人次(月) Person-Times | K7: 金額(元) Amount(NT$) | L7: 期底人數(人)Persons | O7: 本年累計至期底人數(人) Accumulated to the End of the Current Persons | R7: 人次(月) Person-Times | S7: 金額(元) Amount(NT$) | T7: 期底人數(人)Persons | W7: 本年累計至期底人數(人) Accumulated to the End of the Current Persons | Z7: 人次(月) Person-Times | AA7: 金額(元) Amount(NT$) | AB7: 期底人數(人)Persons | AE7: 本年累計至期底人數(人) Accumulated to the End of the Current Persons | AH7: 人次(月) Person-Times | AI7: 金額(元) Amount(NT$)
D9: 計 Total | E9: 男 Male | F9: 女 Female | G9: 計 Total | H9: 男 Male | I9: 女 Female | L9: 計 Total | M9: 男 Male | N9: 女 Female | O9: 計 Total | P9: 男 Male | Q9: 女 Female | T9: 計 Total | U9: 男 Male | V9: 女 Female | W9: 計 Total | X9: 男 Male | Y9: 女 Female | AB9: 計 Total | AC9: 男 Male | AD9: 女 Female | AE9: 計 Total | AF9: 男 Male | AG9: 女 Female
A12: 總計 | B12: 計 | C12: Total | D12: 76125 | E12: 38605 | F12: 37520 | G12: 87640 | H12: 44459 | I12: 43181 | J12: 921461 | K12: 2072115313 | L12: 8454 | M12: 5540 | N12: 2914 | O12: 15261 | P12: 9563 | Q12: 5698 | R12: 26120 | S12: 206012647 | T12: 1408 | U12: 788 | V12: 620 | W12: 2844 | X12: 1600 | Y12: 1244 | Z12: 17402 | AA12: 205573555 | AB12: 591 | AC12: 295 | AD12: 296 | AE12: 2074 | AF12: 1045 | AG12: 1029 | AH12: 10090 | AI12: 29040021
A13: Total | B13: 一般 | C13: General | D13: 67871 | E13: 34443 | F13: 33428 | G13: 77960 | H13: 39559 | I13: 38401 | J13: 824752 | K13: 1849903558 | L13: 8413 | M13: 5517 | N13: 2896 | O13: 15141 | P13: 9483 | Q13: 5658 | R13: 25926 | S13: 203589048 | T13: 1374 | U13: 773 | V13: 601 | W13: 2695 | X13: 1536 | Y13: 1159 | Z13: 16576 | AA13: 197022603 | AB13: 513 | AC13: 257 | AD13: 256 | AE13: 1845 | AF13: 934 | AG13: 911 | AH13: 8771 | AI13: 25224782
B14: 原住民 | C14: Indigenous | D14: 8254 | E14: 4162 | F14: 4092 | G14: 9680 | H14: 4900 | I14: 4780 | J14: 96709 | K14: 222211755 | L14: 41 | M14: 23 | N14: 18 | O14: 120 | P14: 80 | Q14: 40 | R14: 194 | S14: 2423599 | T14: 34 | U14: 15 | V14: 19 | W14: 149 | X14: 64 | Y14: 85 | Z14: 826 | AA14: 8550952 | AB14: 78 | AC14: 38 | AD14: 40 | AE14: 229 | AF14: 111 | AG14: 118 | AH14: 1319 | AI14: 3815239
A15: 新北市 | B15: 計 | C15: Total | D15: 20668 | E15: 10541 | F15: 10127 | G15: 22070 | H15: 11255 | I15: 10815 | J15: 253180 | K15: 560986987 | L15: 5279 | M15: 3302 | N15: 1977 | O15: 6878 | P15: 4335 | Q15: 2543 | R15: 9979 | S15: 42999975 | T15: 177 | U15: 100 | V15: 77 | W15: 278 | X15: 165 | Y15: 113 | Z15: 1881 | AA15: 20615183 | AB15: 72 | AC15: 35 | AD15: 37 | AE15: 175 | AF15: 90 | AG15: 85 | AH15: 1130 | AI15: 3356813
A16: New Taipei City | B16: 一般 | C16: General | D16: 19635 | E16: 10014 | F16: 9621 | G16: 20966 | H16: 10692 | I16: 10274 | J16: 240521 | K16: 532937638 | L16: 5279 | M16: 3302 | N16: 1977 | O16: 6878 | P16: 4335 | Q16: 2543 | R16: 9979 | S16: 42999975 | T16: 177 | U16: 100 | V16: 77 | W16: 278 | X16: 165 | Y16: 113 | Z16: 1881 | AA16: 20615183 | AB16: 72 | AC16: 35 | AD16: 37 | AE16: 175 | AF16: 90 | AG16: 85 | AH16: 1130 | AI16: 3356813
B17: 原住民 | C17: Indigenous | D17: 1033 | E17: 527 | F17: 506 | G17: 1104 | H17: 563 | I17: 541 | J17: 12659 | K17: 28049349 | L17: 0 | M17: 0 | N17: 0 | O17: 0 | P17: 0 | Q17: 0 | R17: 0 | S17: 0 | T17: 0 | U17: 0 | V17: 0 | W17: 0 | X17: 0 | Y17: 0 | Z17: 0 | AA17: 0 | AB17: 0 | AC17: 0 | AD17: 0 | AE17: 0 | AF17: 0 | AG17: 0 | AH17: 0 | AI17: 0
A18: 臺北市 | B18: 計 | C18: Total | D18: 0 | E18: 0 | F18: 0 | G18: 0 | H18: 0 | I18: 0 | J18: 0 | K18: 0 | L18: 22 | M18: 17 | N18: 5 | O18: 376 | P18: 260 | Q18: 116 | R18: 774 | S18: 16965131 | T18: 149 | U18: 90 | V18: 59 | W18: 253 | X18: 148 | Y18: 105 | Z18: 1962 | AA18: 23383100 | AB18: 26 | AC18: 11 | AD18: 15 | AE18: 425 | AF18: 221 | AG18: 204 | AH18: 2211 | AI18: 6627423
A19: Taipei City | B19: 一般 | C19: General | D19: 0 | E19: 0 | F19: 0 | G19: 0 | H19: 0 | I19: 0 | J19: 0 | K19: 0 | L19: 22 | M19: 17 | N19: 5 | O19: 371 | P19: 257 | Q19: 114 | R19: 765 | S19: 16774416 | T19: 149 | U19: 90 | V19: 59 | W19: 253 | X19: 148 | Y19: 105 | Z19: 1962 | AA19: 23383100 | AB19: 23 | AC19: 11 | AD19: 12 | AE19: 414 | AF19: 215 | AG19: 199 | AH19: 2155 | AI19: 6459423
B20: 原住民 | C20: Indigenous | D20: 0 | E20: 0 | F20: 0 | G20: 0 | H20: 0 | I20: 0 | J20: 0 | K20: 0 | L20: 0 | M20: 0 | N20: 0 | O20: 5 | P20: 3 | Q20: 2 | R20: 9 | S20: 190715 | T20: 0 | U20: 0 | V20: 0 | W20: 0 | X20: 0 | Y20: 0 | Z20: 0 | AA20: 0 | AB20: 3 | AC20: 0 | AD20: 3 | AE20: 11 | AF20: 6 | AG20: 5 | AH20: 56 | AI20: 168000
A21: 桃園市 | B21: 計 | C21: Total | D21: 5137 | E21: 2611 | F21: 2526 | G21: 6126 | H21: 3104 | I21: 3022 | J21: 61420 | K21: 141664785 | L21: 330 | M21: 171 | N21: 159 | O21: 3360 | P21: 1816 | Q21: 1544 | R21: 3360 | S21: 15963278 | T21: 36 | U21: 21 | V21: 15 | W21: 317 | X21: 203 | Y21: 114 | Z21: 1849 | AA21: 24588873 | AB21: 12 | AC21: 6 | AD21: 6 | AE21: 57 | AF21: 28 | AG21: 29 | AH21: 234 | AI21: 702000
A22: Taoyuan City | B22: 一般 | C22: General | D22: 4493 | E22: 2310 | F22: 2183 | G22: 5322 | H22: 2735 | I22: 2587 | J22: 54482 | K22: 125617191 | L22: 330 | M22: 171 | N22: 159 | O22: 3360 | P22: 1816 | Q22: 1544 | R22: 3360 | S22: 15963278 | T22: 36 | U22: 21 | V22: 15 | W22: 317 | X22: 203 | Y22: 114 | Z22: 1849 | AA22: 24588873 | AB22: 11 | AC22: 5 | AD22: 6 | AE22: 48 | AF22: 25 | AG22: 23 | AH22: 191 | AI22: 573000
B23: 原住民 | C23: Indigenous | D23: 644 | E23: 301 | F23: 343 | G23: 804 | H23: 369 | I23: 435 | J23: 6938 | K23: 16047594 | L23: 0 | M23: 0 | N23: 0 | O23: 0 | P23: 0 | Q23: 0 | R23: 0 | S23: 0 | T23: 0 | U23: 0 | V23: 0 | W23: 0 | X23: 0 | Y23: 0 | Z23: 0 | AA23: 0 | AB23: 1 | AC23: 1 | AD23: 0 | AE23: 9 | AF23: 3 | AG23: 6 | AH23: 43 | AI23: 129000
A24: 臺中市 | B24: 計 | C24: Total | D24: 10463 | E24: 5261 | F24: 5202 | G24: 12623 | H24: 6392 | I24: 6231 | J24: 130243 | K24: 285855278 | L24: 2679 | M24: 1973 | N24: 706 | O24: 3467 | P24: 2494 | Q24: 973 | R24: 10317 | S24: 101805678 | T24: 435 | U24: 243 | V24: 192 | W24: 824 | X24: 449 | Y24: 375 | Z24: 4727 | AA24: 52751258 | AB24: 16 | AC24: 7 | AD24: 9 | AE24: 49 | AF24: 23 | AG24: 26 | AH24: 245 | AI24: 677833
A25: Taichung City | B25: 一般 | C25: General | D25: 9650 | E25: 4847 | F25: 4803 | G25: 11624 | H25: 5874 | I25: 5750 | J25: 120070 | K25: 263505197 | L25: 2648 | M25: 1955 | N25: 693 | O25: 3407 | P25: 2453 | Q25: 954 | R25: 10197 | S25: 100722628 | T25: 435 | U25: 243 | V25: 192 | W25: 824 | X25: 449 | Y25: 375 | Z25: 4727 | AA25: 52751258 | AB25: 12 | AC25: 5 | AD25: 7 | AE25: 41 | AF25: 21 | AG25: 20 | AH25: 212 | AI25: 578833
B26: 原住民 | C26: Indigenous | D26: 813 | E26: 414 | F26: 399 | G26: 999 | H26: 518 | I26: 481 | J26: 10173 | K26: 22350081 | L26: 31 | M26: 18 | N26: 13 | O26: 60 | P26: 41 | Q26: 19 | R26: 120 | S26: 1083050 | T26: 0 | U26: 0 | V26: 0 | W26: 0 | X26: 0 | Y26: 0 | Z26: 0 | AA26: 0 | AB26: 4 | AC26: 2 | AD26: 2 | AE26: 8 | AF26: 2 | AG26: 6 | AH26: 33 | AI26: 99000
A27: 臺南市 | B27: 計 | C27: Total | D27: 5856 | E27: 2986 | F27: 2870 | G27: 6994 | H27: 3566 | I27: 3428 | J27: 70669 | K27: 157771646 | L27: 7 | M27: 2 | N27: 5 | O27: 91 | P27: 47 | Q27: 44 | R27: 92 | S27: 2386735 | T27: 105 | U27: 75 | V27: 30 | W27: 187 | X27: 128 | Y27: 59 | Z27: 943 | AA27: 12160190 | AB27: 74 | AC27: 44 | AD27: 30 | AE27: 187 | AF27: 100 | AG27: 87 | AH27: 936 | AI27: 2808000
A28: Tainan City | B28: 一般 | C28: General | D28: 5684 | E28: 2903 | F28: 2781 | G28: 6788 | H28: 3466 | I28: 3322 | J28: 68687 | K28: 153350184 | L28: 7 | M28: 2 | N28: 5 | O28: 90 | P28: 46 | Q28: 44 | R28: 91 | S28: 2314990 | T28: 105 | U28: 75 | V28: 30 | W28: 187 | X28: 128 | Y28: 59 | Z28: 943 | AA28: 12160190 | AB28: 73 | AC28: 44 | AD28: 29 | AE28: 182 | AF28: 98 | AG28: 84 | AH28: 913 | AI28: 2739000
B29: 原住民 | C29: Indigenous | D29: 172 | E29: 83 | F29: 89 | G29: 206 | H29: 100 | I29: 106 | J29: 1982 | K29: 4421462 | L29: 0 | M29: 0 | N29: 0 | O29: 1 | P29: 1 | Q29: 0 | R29: 1 | S29: 71745 | T29: 0 | U29: 0 | V29: 0 | W29: 0 | X29: 0 | Y29: 0 | Z29: 0 | AA29: 0 | AB29: 1 | AC29: 0 | AD29: 1 | AE29: 5 | AF29: 2 | AG29: 3 | AH29: 23 | AI29: 69000
A30: 高 雄 市 | B30: 計 | C30: Total | D30: 7923 | E30: 4021 | F30: 3902 | G30: 9367 | H30: 4737 | I30: 4630 | J30: 98496 | K30: 239415628 | L30: 30 | M30: 19 | N30: 11 | O30: 137 | P30: 81 | Q30: 56 | R30: 153 | S30: 2315745 | T30: 144 | U30: 71 | V30: 73 | W30: 223 | X30: 114 | Y30: 109 | Z30: 1605 | AA30: 16692191 | AB30: 148 | AC30: 64 | AD30: 84 | AE30: 377 | AF30: 170 | AG30: 207 | AH30: 2057 | AI30: 5935551
A31: Kaohsiung City | B31: 一般 | C31: General | D31: 7479 | E31: 3784 | F31: 3695 | G31: 8828 | H31: 4453 | I31: 4375 | J31: 92951 | K31: 226069189 | L31: 30 | M31: 19 | N31: 11 | O31: 137 | P31: 81 | Q31: 56 | R31: 153 | S31: 2315745 | T31: 136 | U31: 67 | V31: 69 | W31: 208 | X31: 109 | Y31: 99 | Z31: 1493 | AA31: 15712416 | AB31: 134 | AC31: 58 | AD31: 76 | AE31: 343 | AF31: 155 | AG31: 188 | AH31: 1839 | AI31: 5330124
B32: 原住民 | C32: Indigenous | D32: 444 | E32: 237 | F32: 207 | G32: 539 | H32: 284 | I32: 255 | J32: 5545 | K32: 13346439 | L32: 0 | M32: 0 | N32: 0 | O32: 0 | P32: 0 | Q32: 0 | R32: 0 | S32: 0 | T32: 8 | U32: 4 | V32: 4 | W32: 15 | X32: 5 | Y32: 10 | Z32: 112 | AA32: 979775 | AB32: 14 | AC32: 6 | AD32: 8 | AE32: 34 | AF32: 15 | AG32: 19 | AH32: 218 | AI32: 605427
A33: 宜蘭縣 | B33: 計 | C33: Total | D33: 1455 | E33: 713 | F33: 742 | G33: 1556 | H33: 781 | I33: 775 | J33: 16126 | K33: 35428597 | L33: 5 | M33: 3 | N33: 2 | O33: 11 | P33: 7 | Q33: 4 | R33: 11 | S33: 488336 | T33: 17 | U33: 3 | V33: 14 | W33: 17 | X33: 3 | Y33: 14 | Z33: 169 | AA33: 1687800 | AB33: 5 | AC33: 3 | AD33: 2 | AE33: 5 | AF33: 3 | AG33: 2 | AH33: 12 | AI33: 36000
A34: Yilan County | B34: 一般 | C34: General | D34: 1145 | E34: 556 | F34: 589 | G34: 1237 | H34: 616 | I34: 621 | J34: 12793 | K34: 28105996 | L34: 5 | M34: 3 | N34: 2 | O34: 11 | P34: 7 | Q34: 4 | R34: 11 | S34: 488336 | T34: 14 | U34: 2 | V34: 12 | W34: 14 | X34: 2 | Y34: 12 | Z34: 133 | AA34: 1374800 | AB34: 5 | AC34: 3 | AD34: 2 | AE34: 5 | AF34: 3 | AG34: 2 | AH34: 12 | AI34: 36000
B35: 原住民 | C35: Indigenous | D35: 310 | E35: 157 | F35: 153 | G35: 319 | H35: 165 | I35: 154 | J35: 3333 | K35: 7322601 | L35: 0 | M35: 0 | N35: 0 | O35: 0 | P35: 0 | Q35: 0 | R35: 0 | S35: 0 | T35: 3 | U35: 1 | V35: 2 | W35: 3 | X35: 1 | Y35: 2 | Z35: 36 | AA35: 313000 | AB35: 0 | AC35: 0 | AD35: 0 | AE35: 0 | AF35: 0 | AG35: 0 | AH35: 0 | AI35: 0
A36: 新竹縣 | B36: 計 | C36: Total | D36: 1364 | E36: 699 | F36: 665 | G36: 1408 | H36: 730 | I36: 678 | J36: 14919 | K36: 32662799 | L36: 11 | M36: 9 | N36: 2 | O36: 22 | P36: 18 | Q36: 4 | R36: 31 | S36: 747507 | T36: 37 | U36: 22 | V36: 15 | W36: 168 | X36: 75 | Y36: 93 | Z36: 728 | AA36: 8708500 | AB36: 71 | AC36: 39 | AD36: 32 | AE36: 161 | AF36: 80 | AG36: 81 | AH36: 938 | AI36: 2719160
A37: Hsinchu County | B37: 一般 | C37: General | D37: 974 | E37: 504 | F37: 470 | G37: 997 | H37: 527 | I37: 470 | J37: 10742 | K37: 23503506 | L37: 7 | M37: 6 | N37: 1 | O37: 14 | P37: 11 | Q37: 3 | R37: 20 | S37: 513098 | T37: 34 | U37: 21 | V37: 13 | W37: 75 | X37: 35 | Y37: 40 | Z37: 257 | AA37: 3566000 | AB37: 47 | AC37: 24 | AD37: 23 | AE37: 97 | AF37: 43 | AG37: 54 | AH37: 531 | AI37: 1567058
B38: 原住民 | C38: Indigenous | D38: 390 | E38: 195 | F38: 195 | G38: 411 | H38: 203 | I38: 208 | J38: 4177 | K38: 9159293 | L38: 4 | M38: 3 | N38: 1 | O38: 8 | P38: 7 | Q38: 1 | R38: 11 | S38: 234409 | T38: 3 | U38: 1 | V38: 2 | W38: 93 | X38: 40 | Y38: 53 | Z38: 471 | AA38: 5142500 | AB38: 24 | AC38: 15 | AD38: 9 | AE38: 64 | AF38: 37 | AG38: 27 | AH38: 407 | AI38: 1152102
A39: 苗栗縣 | B39: 計 | C39: Total | D39: 1243 | E39: 618 | F39: 625 | G39: 1451 | H39: 715 | I39: 736 | J39: 14590 | K39: 32054230 | L39: 30 | M39: 14 | N39: 16 | O39: 66 | P39: 38 | Q39: 28 | R39: 513 | S39: 1338647 | T39: 16 | U39: 10 | V39: 6 | W39: 22 | X39: 16 | Y39: 6 | Z39: 164 | AA39: 2266250 | AB39: 48 | AC39: 27 | AD39: 21 | AE39: 57 | AF39: 29 | AG39: 28 | AH39: 407 | AI39: 578400
A40: Miaoli County | B40: 一般 | C40: General | D40: 1035 | E40: 504 | F40: 531 | G40: 1213 | H40: 581 | I40: 632 | J40: 12235 | K40: 26880295 | L40: 30 | M40: 14 | N40: 16 | O40: 66 | P40: 38 | Q40: 28 | R40: 513 | S40: 1338647 | T40: 16 | U40: 10 | V40: 6 | W40: 22 | X40: 16 | Y40: 6 | Z40: 164 | AA40: 2266250 | AB40: 48 | AC40: 27 | AD40: 21 | AE40: 54 | AF40: 29 | AG40: 25 | AH40: 404 | AI40: 569400
B41: 原住民 | C41: Indigenous | D41: 208 | E41: 114 | F41: 94 | G41: 238 | H41: 134 | I41: 104 | J41: 2355 | K41: 5173935 | L41: 0 | M41: 0 | N41: 0 | O41: 0 | P41: 0 | Q41: 0 | R41: 0 | S41: 0 | T41: 0 | U41: 0 | V41: 0 | W41: 0 | X41: 0 | Y41: 0 | Z41: 0 | AA41: 0 | AB41: 0 | AC41: 0 | AD41: 0 | AE41: 3 | AF41: 0 | AG41: 3 | AH41: 3 | AI41: 9000
A42: 彰化縣 | B42: 計 | C42: Total | D42: 5329 | E42: 2713 | F42: 2616 | G42: 6257 | H42: 3168 | I42: 3089 | J42: 64709 | K42: 141956411 | L42: 21 | M42: 11 | N42: 10 | O42: 162 | P42: 92 | Q42: 70 | R42: 162 | S42: 4381051 | T42: 125 | U42: 67 | V42: 58 | W42: 200 | X42: 111 | Y42: 89 | Z42: 1421 | AA42: 18325372 | AB42: 26 | AC42: 14 | AD42: 12 | AE42: 105 | AF42: 56 | AG42: 49 | AH42: 509 | AI42: 1444606
A43: Changhua County | B43: 一般 | C43: General | D43: 5140 | E43: 2636 | F43: 2504 | G43: 6043 | H43: 3076 | I43: 2967 | J43: 62485 | K43: 137070283 | L43: 21 | M43: 11 | N43: 10 | O43: 162 | P43: 92 | Q43: 70 | R43: 162 | S43: 4381051 | T43: 125 | U43: 67 | V43: 58 | W43: 200 | X43: 111 | Y43: 89 | Z43: 1421 | AA43: 18325372 | AB43: 26 | AC43: 14 | AD43: 12 | AE43: 103 | AF43: 54 | AG43: 49 | AH43: 500 | AI43: 1417606
B44: 原住民 | C44: Indigenous | D44: 189 | E44: 77 | F44: 112 | G44: 214 | H44: 92 | I44: 122 | J44: 2224 | K44: 4886128 | L44: 0 | M44: 0 | N44: 0 | O44: 0 | P44: 0 | Q44: 0 | R44: 0 | S44: 0 | T44: 0 | U44: 0 | V44: 0 | W44: 0 | X44: 0 | Y44: 0 | Z44: 0 | AA44: 0 | AB44: 0 | AC44: 0 | AD44: 0 | AE44: 2 | AF44: 2 | AG44: 0 | AH44: 9 | AI44: 27000
A45: 南投縣 | B45: 計 | C45: Total | D45: 1273 | E45: 654 | F45: 619 | G45: 1435 | H45: 749 | I45: 686 | J45: 14916 | K45: 32704542 | L45: 5 | M45: 3 | N45: 2 | O45: 43 | P45: 21 | Q45: 22 | R45: 51 | S45: 1832782 | T45: 2 | U45: 0 | V45: 2 | W45: 2 | X45: 0 | Y45: 2 | Z45: 31 | AA45: 403400 | AB45: 1 | AC45: 0 | AD45: 1 | AE45: 15 | AF45: 10 | AG45: 5 | AH45: 63 | AI45: 189000
...

Sheet July-Dec., 2025
A1: 弱勢兒童及少年扶助概況Overview of Allowances for Disadvantaged Child and Youth
D2: =IF(D13=SUM(D16,D19,D25,D28,D31,D34,D22,D37,D40,D43,D46,D49,D52,D55,D58,D61,D64,D67,D70,D73,D76,D79),"","*") | E2: =IF(E13=SUM(E16,E19,E25,E28,E31,E34,E22,E37,E40,E43,E46,E49,E52,E55,E58,E61,E64,E67,E70,E73,E76,E79),"","*") | F2: =IF(F13=SUM(F16,F19,F25,F28,F31,F34,F22,F37,F40,F43,F46,F49,F52,F55,F58,F61,F64,F67,F70,F73,F76,F79),"","*") | G2: =IF(G13=SUM(G16,G19,G25,G28,G31,G34,G22,G37,G40,G43,G46,G49,G52,G55,G58,G61,G64,G67,G70,G73,G76,G79),"","*") | H2: =IF(H13=SUM(H16,H19,H25,H28,H31,H34,H22,H37,H40,H43,H46,H49,H52,H55,H58,H61,H64,H67,H70,H73,H76,H79),"","*") | I2: =IF(I13=SUM(I16,I19,I25,I28,I31,I34,I22,I37,I40,I43,I46,I49,I52,I55,I58,I61,I64,I67,I70,I73,I76,I79),"","*") | J2: =IF(J13=SUM(J16,J19,J25,J28,J31,J34,J22,J37,J40,J43,J46,J49,J52,J55,J58,J61,J64,J67,J70,J73,J76,J79),"","*") | K2: =IF(K13=SUM(K16,K19,K25,K28,K31,K34,K22,K37,K40,K43,K46,K49,K52,K55,K58,K61,K64,K67,K70,K73,K76,K79),"","*") | ... AI2: =IF(AI13=SUM(AI16,AI19,AI25,AI28,AI31,AI34,AI22,AI37,AI40,AI43,AI46,AI49,AI52,AI55,AI58,AI61,AI64,AI67,AI70,AI73,AI76,AI79),"","*")
A3: 民國114年下半年 July-Dec., 2025 | D3: =IF(D14=SUM(D17,D20,D26,D29,D32,D35,D23,D38,D41,D44,D47,D50,D53,D56,D59,D62,D65,D68,D71,D74,D77,D80),"","*") | E3: =IF(E14=SUM(E17,E20,E26,E29,E32,E35,E23,E38,E41,E44,E47,E50,E53,E56,E59,E62,E65,E68,E71,E74,E77,E80),"","*") | F3: =IF(F14=SUM(F17,F20,F26,F29,F32,F35,F23,F38,F41,F44,F47,F50,F53,F56,F59,F62,F65,F68,F71,F74,F77,F80),"","*") | G3: =IF(G14=SUM(G17,G20,G26,G29,G32,G35,G23,G38,G41,G44,G47,G50,G53,G56,G59,G62,G65,G68,G71,G74,G77,G80),"","*") | H3: =IF(H14=SUM(H17,H20,H26,H29,H32,H35,H23,H38,H41,H44,H47,H50,H53,H56,H59,H62,H65,H68,H71,H74,H77,H80),"","*") | I3: =IF(I14=SUM(I17,I20,I26,I29,I32,I35,I23,I38,I41,I44,I47,I50,I53,I56,I59,I62,I65,I68,I71,I74,I77,I80),"","*") | J3: =IF(J14=SUM(J17,J20,J26,J29,J32,J35,J23,J38,J41,J44,J47,J50,J53,J56,J59,J62,J65,J68,J71,J74,J77,J80),"","*") | K3: =IF(K14=SUM(K17,K20,K26,K29,K32,K35,K23,K38,K41,K44,K47,K50,K53,K56,K59,K62,K65,K68,K71,K74,K77,K80),"","*") | ... AI3: =IF(AI14=SUM(AI17,AI20,AI26,AI29,AI32,AI35,AI23,AI38,AI41,AI44,AI47,AI50,AI53,AI56,AI59,AI62,AI65,AI68,AI71,AI74,AI77,AI80),"","*")
A4: 區域及特殊族群別 Locality & Ethnos | D4: 弱勢兒童及少年生活扶助 Living Support for Disadvantaged Child and Youth | L4: 弱勢兒童及少年醫療補助 Medical Subsidies for Disadvantaged Child and Youth | T4: 托育補助/津貼 Childcare Subsidies/Allowance for Low-Income Families | AB4: 弱勢兒少緊急生活扶助 Emergency Living Relief to Disadvantaged Child and Youth
D7: 期底人數(人)Persons | G7: 本年累計至期底人數(人) Accumulated to the End of the Current Persons | J7: 人次(月) Person-Times | K7: 金額(元) Amount(NT$) | L7: 期底人數(人)Persons | O7: 本年累計至期底人數(人) Accumulated to the End of the Current Persons | R7: 人次(月) Person-Times | S7: 金額(元) Amount(NT$) | T7: 期底人數(人)Persons | W7: 本年累計至期底人數(人) Accumulated to the End of the Current Persons | Z7: 人次(月) Person-Times | AA7: 金額(元) Amount(NT$) | AB7: 期底人數(人)Persons | AE7: 本年累計至期底人數(人) Accumulated to the End of the Current Persons | AH7: 人次(月) Person-Times | AI7: 金額(元) Amount(NT$)
D9: 計 Total | E9: 男 Male | F9: 女 Female | G9: 計 Total | H9: 男 Male | I9: 女 Female | L9: 計 Total | M9: 男 Male | N9: 女 Female | O9: 計 Total | P9: 男 Male | Q9: 女 Female | T9: 計 Total | U9: 男 Male | V9: 女 Female | W9: 計 Total | X9: 男 Male | Y9: 女 Female | AB9: 計 Total | AC9: 男 Male | AD9: 女 Female | AE9: 計 Total | AF9: 男 Male | AG9: 女 Female
A12: 總計 | B12: 計 | C12: Total | D12: 76125 | E12: 38605 | F12: 37520 | G12: 87640 | H12: 44459 | I12: 43181 | J12: 461550 | K12: 1037439846 | L12: 8454 | M12: 5540 | N12: 2914 | O12: 15261 | P12: 9563 | Q12: 5698 | R12: 17790 | S12: 125078040 | T12: 1408 | U12: 788 | V12: 620 | W12: 2844 | X12: 1600 | Y12: 1244 | Z12: 8753 | AA12: 102627003 | AB12: 591 | AC12: 295 | AD12: 296 | AE12: 2074 | AF12: 1045 | AG12: 1029 | AH12: 4485 | AI12: 12524816
A13: Total | B13: 一般 | C13: General | D13: 67871 | E13: 34443 | F13: 33428 | G13: 77960 | H13: 39559 | I13: 38401 | J13: 412408 | K13: 924544182 | L13: 8413 | M13: 5517 | N13: 2896 | O13: 15141 | P13: 9483 | Q13: 5658 | R13: 17665 | S13: 123428403 | T13: 1374 | U13: 773 | V13: 601 | W13: 2695 | X13: 1536 | Y13: 1159 | Z13: 8532 | AA13: 100442184 | AB13: 513 | AC13: 257 | AD13: 256 | AE13: 1845 | AF13: 934 | AG13: 911 | AH13: 3947 | AI13: 11036283
B14: 原住民 | C14: Indigenous | D14: 8254 | E14: 4162 | F14: 4092 | G14: 9680 | H14: 4900 | I14: 4780 | J14: 49142 | K14: 112895664 | L14: 41 | M14: 23 | N14: 18 | O14: 120 | P14: 80 | Q14: 40 | R14: 125 | S14: 1649637 | T14: 34 | U14: 15 | V14: 19 | W14: 149 | X14: 64 | Y14: 85 | Z14: 221 | AA14: 2184819 | AB14: 78 | AC14: 38 | AD14: 40 | AE14: 229 | AF14: 111 | AG14: 118 | AH14: 538 | AI14: 1488533
A15: 新北市 | B15: 計 | C15: Total | D15: 20668 | E15: 10541 | F15: 10127 | G15: 22070 | H15: 11255 | I15: 10815 | J15: 127019 | K15: 281324298 | L15: 5279 | M15: 3302 | N15: 1977 | O15: 6878 | P15: 4335 | Q15: 2543 | R15: 6878 | S15: 24532937 | T15: 177 | U15: 100 | V15: 77 | W15: 278 | X15: 165 | Y15: 113 | Z15: 1006 | AA15: 11211311 | AB15: 72 | AC15: 35 | AD15: 37 | AE15: 175 | AF15: 90 | AG15: 85 | AH15: 472 | AI15: 1402702
A16: New Taipei City | B16: 一般 | C16: General | D16: 19635 | E16: 10014 | F16: 9621 | G16: 20966 | H16: 10692 | I16: 10274 | J16: 120668 | K16: 267258083 | L16: 5279 | M16: 3302 | N16: 1977 | O16: 6878 | P16: 4335 | Q16: 2543 | R16: 6878 | S16: 24532937 | T16: 177 | U16: 100 | V16: 77 | W16: 278 | X16: 165 | Y16: 113 | Z16: 1006 | AA16: 11211311 | AB16: 72 | AC16: 35 | AD16: 37 | AE16: 175 | AF16: 90 | AG16: 85 | AH16: 472 | AI16: 1402702
B17: 原住民 | C17: Indigenous | D17: 1033 | E17: 527 | F17: 506 | G17: 1104 | H17: 563 | I17: 541 | J17: 6351 | K17: 14066215 | L17: 0 | M17: 0 | N17: 0 | O17: 0 | P17: 0 | Q17: 0 | R17: 0 | S17: 0 | T17: 0 | U17: 0 | V17: 0 | W17: 0 | X17: 0 | Y17: 0 | Z17: 0 | AA17: 0 | AB17: 0 | AC17: 0 | AD17: 0 | AE17: 0 | AF17: 0 | AG17: 0 | AH17: 0 | AI17: 0
A18: 臺北市 | B18: 計 | C18: Total | D18: 0 | E18: 0 | F18: 0 | G18: 0 | H18: 0 | I18: 0 | J18: 0 | K18: 0 | L18: 22 | M18: 17 | N18: 5 | O18: 376 | P18: 260 | Q18: 116 | R18: 407 | S18: 8475338 | T18: 149 | U18: 90 | V18: 59 | W18: 253 | X18: 148 | Y18: 105 | Z18: 969 | AA18: 11582500 | AB18: 26 | AC18: 11 | AD18: 15 | AE18: 425 | AF18: 221 | AG18: 204 | AH18: 931 | AI18: 2790282
A19: Taipei City | B19: 一般 | C19: General | D19: 0 | E19: 0 | F19: 0 | G19: 0 | H19: 0 | I19: 0 | J19: 0 | K19: 0 | L19: 22 | M19: 17 | N19: 5 | O19: 371 | P19: 257 | Q19: 114 | R19: 402 | S19: 8378784 | T19: 149 | U19: 90 | V19: 59 | W19: 253 | X19: 148 | Y19: 105 | Z19: 969 | AA19: 11582500 | AB19: 23 | AC19: 11 | AD19: 12 | AE19: 414 | AF19: 215 | AG19: 199 | AH19: 915 | AI19: 2742282
B20: 原住民 | C20: Indigenous | D20: 0 | E20: 0 | F20: 0 | G20: 0 | H20: 0 | I20: 0 | J20: 0 | K20: 0 | L20: 0 | M20: 0 | N20: 0 | O20: 5 | P20: 3 | Q20: 2 | R20: 5 | S20: 96554 | T20: 0 | U20: 0 | V20: 0 | W20: 0 | X20: 0 | Y20: 0 | Z20: 0 | AA20: 0 | AB20: 3 | AC20: 0 | AD20: 3 | AE20: 11 | AF20: 6 | AG20: 5 | AH20: 16 | AI20: 48000
A21: 桃園市 | B21: 計 | C21: Total | D21: 5137 | E21: 2611 | F21: 2526 | G21: 6126 | H21: 3104 | I21: 3022 | J21: 31268 | K21: 72184104 | L21: 330 | M21: 171 | N21: 159 | O21: 3360 | P21: 1816 | Q21: 1544 | R21: 1765 | S21: 8732788 | T21: 36 | U21: 21 | V21: 15 | W21: 317 | X21: 203 | Y21: 114 | Z21: 960 | AA21: 11339190 | AB21: 12 | AC21: 6 | AD21: 6 | AE21: 57 | AF21: 28 | AG21: 29 | AH21: 106 | AI21: 318000
A22: Taoyuan City | B22: 一般 | C22: General | D22: 4493 | E22: 2310 | F22: 2183 | G22: 5322 | H22: 2735 | I22: 2587 | J22: 27500 | K22: 63468720 | L22: 330 | M22: 171 | N22: 159 | O22: 3360 | P22: 1816 | Q22: 1544 | R22: 1765 | S22: 8732788 | T22: 36 | U22: 21 | V22: 15 | W22: 317 | X22: 203 | Y22: 114 | Z22: 960 | AA22: 11339190 | AB22: 11 | AC22: 5 | AD22: 6 | AE22: 48 | AF22: 25 | AG22: 23 | AH22: 88 | AI22: 264000
B23: 原住民 | C23: Indigenous | D23: 644 | E23: 301 | F23: 343 | G23: 804 | H23: 369 | I23: 435 | J23: 3768 | K23: 8715384 | L23: 0 | M23: 0 | N23: 0 | O23: 0 | P23: 0 | Q23: 0 | R23: 0 | S23: 0 | T23: 0 | U23: 0 | V23: 0 | W23: 0 | X23: 0 | Y23: 0 | Z23: 0 | AA23: 0 | AB23: 1 | AC23: 1 | AD23: 0 | AE23: 9 | AF23: 3 | AG23: 6 | AH23: 18 | AI23: 54000
A24: 臺中市 | B24: 計 | C24: Total | D24: 10463 | E24: 5261 | F24: 5202 | G24: 12623 | H24: 6392 | I24: 6231 | J24: 64859 | K24: 142365436 | L24: 2679 | M24: 1973 | N24: 706 | O24: 3467 | P24: 2494 | Q24: 973 | R24: 7809 | S24: 67584753 | T24: 435 | U24: 243 | V24: 192 | W24: 824 | X24: 449 | Y24: 375 | Z24: 2427 | AA24: 27266525 | AB24: 16 | AC24: 7 | AD24: 9 | AE24: 49 | AF24: 23 | AG24: 26 | AH24: 88 | AI24: 264000
A25: Taichung City | B25: 一般 | C25: General | D25: 9650 | E25: 4847 | F25: 4803 | G25: 11624 | H25: 5874 | I25: 5750 | J25: 59817 | K25: 131288162 | L25: 2648 | M25: 1955 | N25: 693 | O25: 3407 | P25: 2453 | Q25: 954 | R25: 7719 | S25: 66820753 | T25: 435 | U25: 243 | V25: 192 | W25: 824 | X25: 449 | Y25: 375 | Z25: 2427 | AA25: 27266525 | AB25: 12 | AC25: 5 | AD25: 7 | AE25: 41 | AF25: 21 | AG25: 20 | AH25: 67 | AI25: 201000
B26: 原住民 | C26: Indigenous | D26: 813 | E26: 414 | F26: 399 | G26: 999 | H26: 518 | I26: 481 | J26: 5042 | K26: 11077274 | L26: 31 | M26: 18 | N26: 13 | O26: 60 | P26: 41 | Q26: 19 | R26: 90 | S26: 764000 | T26: 0 | U26: 0 | V26: 0 | W26: 0 | X26: 0 | Y26: 0 | Z26: 0 | AA26: 0 | AB26: 4 | AC26: 2 | AD26: 2 | AE26: 8 | AF26: 2 | AG26: 6 | AH26: 21 | AI26: 63000
A27: 臺南市 | B27: 計 | C27: Total | D27: 5856 | E27: 2986 | F27: 2870 | G27: 6994 | H27: 3566 | I27: 3428 | J27: 35577 | K27: 78973159 | L27: 7 | M27: 2 | N27: 5 | O27: 91 | P27: 47 | Q27: 44 | R27: 53 | S27: 1164598 | T27: 105 | U27: 75 | V27: 30 | W27: 187 | X27: 128 | Y27: 59 | Z27: 498 | AA27: 6641707 | AB27: 74 | AC27: 44 | AD27: 30 | AE27: 187 | AF27: 100 | AG27: 87 | AH27: 422 | AI27: 1266000
A28: Tainan City | B28: 一般 | C28: General | D28: 5684 | E28: 2903 | F28: 2781 | G28: 6788 | H28: 3466 | I28: 3322 | J28: 34579 | K28: 76759980 | L28: 7 | M28: 2 | N28: 5 | O28: 90 | P28: 46 | Q28: 44 | R28: 52 | S28: 1092853 | T28: 105 | U28: 75 | V28: 30 | W28: 187 | X28: 128 | Y28: 59 | Z28: 498 | AA28: 6641707 | AB28: 73 | AC28: 44 | AD28: 29 | AE28: 182 | AF28: 98 | AG28: 84 | AH28: 420 | AI28: 1260000
B29: 原住民 | C29: Indigenous | D29: 172 | E29: 83 | F29: 89 | G29: 206 | H29: 100 | I29: 106 | J29: 998 | K29: 2213179 | L29: 0 | M29: 0 | N29: 0 | O29: 1 | P29: 1 | Q29: 0 | R29: 1 | S29: 71745 | T29: 0 | U29: 0 | V29: 0 | W29: 0 | X29: 0 | Y29: 0 | Z29: 0 | AA29: 0 | AB29: 1 | AC29: 0 | AD29: 1 | AE29: 5 | AF29: 2 | AG29: 3 | AH29: 2 | AI29: 6000
A30: 高 雄 市 | B30: 計 | C30: Total | D30: 7923 | E30: 4021 | F30: 3902 | G30: 9367 | H30: 4737 | I30: 4630 | J30: 48709 | K30: 118458426 | L30: 30 | M30: 19 | N30: 11 | O30: 137 | P30: 81 | Q30: 56 | R30: 116 | S30: 1871738 | T30: 144 | U30: 71 | V30: 73 | W30: 223 | X30: 114 | Y30: 109 | Z30: 823 | AA30: 8759133 | AB30: 148 | AC30: 64 | AD30: 84 | AE30: 377 | AF30: 170 | AG30: 207 | AH30: 964 | AI30: 2773341
A31: Kaohsiung City | B31: 一般 | C31: General | D31: 7479 | E31: 3784 | F31: 3695 | G31: 8828 | H31: 4453 | I31: 4375 | J31: 45943 | K31: 111804069 | L31: 30 | M31: 19 | N31: 11 | O31: 137 | P31: 81 | Q31: 56 | R31: 116 | S31: 1871738 | T31: 136 | U31: 67 | V31: 69 | W31: 208 | X31: 109 | Y31: 99 | Z31: 763 | AA31: 8247358 | AB31: 134 | AC31: 58 | AD31: 76 | AE31: 343 | AF31: 155 | AG31: 188 | AH31: 856 | AI31: 2497914
B32: 原住民 | C32: Indigenous | D32: 444 | E32: 237 | F32: 207 | G32: 539 | H32: 284 | I32: 255 | J32: 2766 | K32: 6654357 | L32: 0 | M32: 0 | N32: 0 | O32: 0 | P32: 0 | Q32: 0 | R32: 0 | S32: 0 | T32: 8 | U32: 4 | V32: 4 | W32: 15 | X32: 5 | Y32: 10 | Z32: 60 | AA32: 511775 | AB32: 14 | AC32: 6 | AD32: 8 | AE32: 34 | AF32: 15 | AG32: 19 | AH32: 108 | AI32: 275427
A33: 宜蘭縣 | B33: 計 | C33: Total | D33: 1455 | E33: 713 | F33: 742 | G33: 1556 | H33: 781 | I33: 775 | J33: 8237 | K33: 18096689 | L33: 5 | M33: 3 | N33: 2 | O33: 11 | P33: 7 | Q33: 4 | R33: 5 | S33: 294393 | T33: 17 | U33: 3 | V33: 14 | W33: 17 | X33: 3 | Y33: 14 | Z33: 72 | AA33: 681000 | AB33: 5 | AC33: 3 | AD33: 2 | AE33: 5 | AF33: 3 | AG33: 2 | AH33: 12 | AI33: 36000
A34: Yilan County | B34: 一般 | C34: General | D34: 1145 | E34: 556 | F34: 589 | G34: 1237 | H34: 616 | I34: 621 | J34: 6528 | K34: 14342016 | L34: 5 | M34: 3 | N34: 2 | O34: 11 | P34: 7 | Q34: 4 | R34: 5 | S34: 294393 | T34: 14 | U34: 2 | V34: 12 | W34: 14 | X34: 2 | Y34: 12 | Z34: 54 | AA34: 543000 | AB34: 5 | AC34: 3 | AD34: 2 | AE34: 5 | AF34: 3 | AG34: 2 | AH34: 12 | AI34: 36000
B35: 原住民 | C35: Indigenous | D35: 310 | E35: 157 | F35: 153 | G35: 319 | H35: 165 | I35: 154 | J35: 1709 | K35: 3754673 | L35: 0 | M35: 0 | N35: 0 | O35: 0 | P35: 0 | Q35: 0 | R35: 0 | S35: 0 | T35: 3 | U35: 1 | V35: 2 | W35: 3 | X35: 1 | Y35: 2 | Z35: 18 | AA35: 138000 | AB35: 0 | AC35: 0 | AD35: 0 | AE35: 0 | AF35: 0 | AG35: 0 | AH35: 0 | AI35: 0
A36: 新竹縣 | B36: 計 | C36: Total | D36: 1364 | E36: 699 | F36: 665 | G36: 1408 | H36: 730 | I36: 678 | J36: 7681 | K36: 16765307 | L36: 11 | M36: 9 | N36: 2 | O36: 22 | P36: 18 | Q36: 4 | R36: 14 | S36: 326061 | T36: 37 | U36: 22 | V36: 15 | W36: 168 | X36: 75 | Y36: 93 | Z36: 145 | AA36: 1975000 | AB36: 71 | AC36: 39 | AD36: 32 | AE36: 161 | AF36: 80 | AG36: 81 | AH36: 423 | AI36: 1191314
A37: Hsinchu County | B37: 一般 | C37: General | D37: 974 | E37: 504 | F37: 470 | G37: 997 | H37: 527 | I37: 470 | J37: 5477 | K37: 11940695 | L37: 7 | M37: 6 | N37: 1 | O37: 14 | P37: 11 | Q37: 3 | R37: 9 | S37: 181218 | T37: 34 | U37: 21 | V37: 13 | W37: 75 | X37: 35 | Y37: 40 | Z37: 128 | AA37: 1758000 | AB37: 47 | AC37: 24 | AD37: 23 | AE37: 97 | AF37: 43 | AG37: 54 | AH37: 268 | AI37: 783776
B38: 原住民 | C38: Indigenous | D38: 390 | E38: 195 | F38: 195 | G38: 411 | H38: 203 | I38: 208 | J38: 2204 | K38: 4824612 | L38: 4 | M38: 3 | N38: 1 | O38: 8 | P38: 7 | Q38: 1 | R38: 5 | S38: 144843 | T38: 3 | U38: 1 | V38: 2 | W38: 93 | X38: 40 | Y38: 53 | Z38: 17 | AA38: 217000 | AB38: 24 | AC38: 15 | AD38: 9 | AE38: 64 | AF38: 37 | AG38: 27 | AH38: 155 | AI38: 407538
A39: 苗栗縣 | B39: 計 | C39: Total | D39: 1243 | E39: 618 | F39: 625 | G39: 1451 | H39: 715 | I39: 736 | J39: 7435 | K39: 16334695 | L39: 30 | M39: 14 | N39: 16 | O39: 66 | P39: 38 | Q39: 28 | R39: 248 | S39: 525876 | T39: 16 | U39: 10 | V39: 6 | W39: 22 | X39: 16 | Y39: 6 | Z39: 82 | AA39: 1139550 | AB39: 48 | AC39: 27 | AD39: 21 | AE39: 57 | AF39: 29 | AG39: 28 | AH39: 238 | AI39: 71400
A40: Miaoli County | B40: 一般 | C40: General | D40: 1035 | E40: 504 | F40: 531 | G40: 1213 | H40: 581 | I40: 632 | J40: 6218 | K40: 13660946 | L40: 30 | M40: 14 | N40: 16 | O40: 66 | P40: 38 | Q40: 28 | R40: 248 | S40: 525876 | T40: 16 | U40: 10 | V40: 6 | W40: 22 | X40: 16 | Y40: 6 | Z40: 82 | AA40: 1139550 | AB40: 48 | AC40: 27 | AD40: 21 | AE40: 54 | AF40: 29 | AG40: 25 | AH40: 238 | AI40: 71400
B41: 原住民 | C41: Indigenous | D41: 208 | E41: 114 | F41: 94 | G41: 238 | H41: 134 | I41: 104 | J41: 1217 | K41: 2673749 | L41: 0 | M41: 0 | N41: 0 | O41: 0 | P41: 0 | Q41: 0 | R41: 0 | S41: 0 | T41: 0 | U41: 0 | V41: 0 | W41: 0 | X41: 0 | Y41: 0 | Z41: 0 | AA41: 0 | AB41: 0 | AC41: 0 | AD41: 0 | AE41: 3 | AF41: 0 | AG41: 3 | AH41: 0 | AI41: 0
A42: 彰化縣 | B42: 計 | C42: Total | D42: 5329 | E42: 2713 | F42: 2616 | G42: 6257 | H42: 3168 | I42: 3089 | J42: 32168 | K42: 70594004 | L42: 21 | M42: 11 | N42: 10 | O42: 162 | P42: 92 | Q42: 70 | R42: 86 | S42: 1884525 | T42: 125 | U42: 67 | V42: 58 | W42: 200 | X42: 111 | Y42: 89 | Z42: 725 | AA42: 9063552 | AB42: 26 | AC42: 14 | AD42: 12 | AE42: 105 | AF42: 56 | AG42: 49 | AH42: 197 | AI42: 561000
A43: Changhua County | B43: 一般 | C43: General | D43: 5140 | E43: 2636 | F43: 2504 | G43: 6043 | H43: 3076 | I43: 2967 | J43: 31044 | K43: 68124576 | L43: 21 | M43: 11 | N43: 10 | O43: 162 | P43: 92 | Q43: 70 | R43: 86 | S43: 1884525 | T43: 125 | U43: 67 | V43: 58 | W43: 200 | X43: 111 | Y43: 89 | Z43: 725 | AA43: 9063552 | AB43: 26 | AC43: 14 | AD43: 12 | AE43: 103 | AF43: 54 | AG43: 49 | AH43: 194 | AI43: 552000
B44: 原住民 | C44: Indigenous | D44: 189 | E44: 77 | F44: 112 | G44: 214 | H44: 92 | I44: 122 | J44: 1124 | K44: 2469428 | L44: 0 | M44: 0 | N44: 0 | O44: 0 | P44: 0 | Q44: 0 | R44: 0 | S44: 0 | T44: 0 | U44: 0 | V44: 0 | W44: 0 | X44: 0 | Y44: 0 | Z44: 0 | AA44: 0 | AB44: 0 | AC44: 0 | AD44: 0 | AE44: 2 | AF44: 2 | AG44: 0 | AH44: 3 | AI44: 9000
A45: 南投縣 | B45: 計 | C45: Total | D45: 1273 | E45: 654 | F45: 619 | G45: 1435 | H45: 749 | I45: 686 | J45: 7646 | K45: 16776292 | L45: 5 | M45: 3 | N45: 2 | O45: 43 | P45: 21 | Q45: 22 | R45: 22 | S45: 1026681 | T45: 2 | U45: 0 | V45: 2 | W45: 2 | X45: 0 | Y45: 2 | Z45: 21 | AA45: 272600 | AB45: 1 | AC45: 0 | AD45: 1 | AE45: 15 | AF45: 10 | AG45: 5 | AH45: 22 | AI45: 66000
...

Sheet Jan.-June, 2025
A1: 弱勢兒童及少年扶助概況Overview of Allowances for Disadvantaged Child and Youth
D2: =IF(D13=SUM(D16,D19,D25,D28,D31,D34,D22,D37,D40,D43,D46,D49,D52,D55,D58,D61,D64,D67,D70,D73,D76,D79),"","*") | E2: =IF(E13=SUM(E16,E19,E25,E28,E31,E34,E22,E37,E40,E43,E46,E49,E52,E55,E58,E61,E64,E67,E70,E73,E76,E79),"","*") | F2: =IF(F13=SUM(F16,F19,F25,F28,F31,F34,F22,F37,F40,F43,F46,F49,F52,F55,F58,F61,F64,F67,F70,F73,F76,F79),"","*") | G2: =IF(G13=SUM(G16,G19,G25,G28,G31,G34,G22,G37,G40,G43,G46,G49,G52,G55,G58,G61,G64,G67,G70,G73,G76,G79),"","*") | H2: =IF(H13=SUM(H16,H19,H25,H28,H31,H34,H22,H37,H40,H43,H46,H49,H52,H55,H58,H61,H64,H67,H70,H73,H76,H79),"","*") | I2: =IF(I13=SUM(I16,I19,I25,I28,I31,I34,I22,I37,I40,I43,I46,I49,I52,I55,I58,I61,I64,I67,I70,I73,I76,I79),"","*") | J2: =IF(J13=SUM(J16,J19,J25,J28,J31,J34,J22,J37,J40,J43,J46,J49,J52,J55,J58,J61,J64,J67,J70,J73,J76,J79),"","*") | K2: =IF(K13=SUM(K16,K19,K25,K28,K31,K34,K22,K37,K40,K43,K46,K49,K52,K55,K58,K61,K64,K67,K70,K73,K76,K79),"","*") | ... AI2: =IF(AI13=SUM(AI16,AI19,AI25,AI28,AI31,AI34,AI22,AI37,AI40,AI43,AI46,AI49,AI52,AI55,AI58,AI61,AI64,AI67,AI70,AI73,AI76,AI79),"","*")
A3: 民國114年上半年 Jan.-June, 2025 | D3: =IF(D14=SUM(D17,D20,D26,D29,D32,D35,D23,D38,D41,D44,D47,D50,D53,D56,D59,D62,D65,D68,D71,D74,D77,D80),"","*") | E3: =IF(E14=SUM(E17,E20,E26,E29,E32,E35,E23,E38,E41,E44,E47,E50,E53,E56,E59,E62,E65,E68,E71,E74,E77,E80),"","*") | F3: =IF(F14=SUM(F17,F20,F26,F29,F32,F35,F23,F38,F41,F44,F47,F50,F53,F56,F59,F62,F65,F68,F71,F74,F77,F80),"","*") | G3: =IF(G14=SUM(G17,G20,G26,G29,G32,G35,G23,G38,G41,G44,G47,G50,G53,G56,G59,G62,G65,G68,G71,G74,G77,G80),"","*") | H3: =IF(H14=SUM(H17,H20,H26,H29,H32,H35,H23,H38,H41,H44,H47,H50,H53,H56,H59,H62,H65,H68,H71,H74,H77,H80),"","*") | I3: =IF(I14=SUM(I17,I20,I26,I29,I32,I35,I23,I38,I41,I44,I47,I50,I53,I56,I59,I62,I65,I68,I71,I74,I77,I80),"","*") | J3: =IF(J14=SUM(J17,J20,J26,J29,J32,J35,J23,J38,J41,J44,J47,J50,J53,J56,J59,J62,J65,J68,J71,J74,J77,J80),"","*") | K3: =IF(K14=SUM(K17,K20,K26,K29,K32,K35,K23,K38,K41,K44,K47,K50,K53,K56,K59,K62,K65,K68,K71,K74,K77,K80),"","*") | ... AI3: =IF(AI14=SUM(AI17,AI20,AI26,AI29,AI32,AI35,AI23,AI38,AI41,AI44,AI47,AI50,AI53,AI56,AI59,AI62,AI65,AI68,AI71,AI74,AI77,AI80),"","*")
A4: 區域及特殊族群別 Locality & Ethnos | D4: 弱勢兒童及少年生活扶助 Living Support for Disadvantaged Child and Youth | L4: 弱勢兒童及少年醫療補助 Medical Subsidies for Disadvantaged Child and Youth | T4: 托育補助/津貼 Childcare Subsidies/Allowance for Low-Income Families | AB4: 弱勢兒少緊急生活扶助 Emergency Living Relief to Disadvantaged Child and Youth
D7: 期底人數(人)Persons | G7: 本年累計至期底人數(人) Accumulated to the End of the Current Persons | J7: 人次(月) Person0Times | K7: 金額(元) Amount(NT$) | L7: 期底人數(人)Persons | O7: 本年累計至期底人數(人) Accumulated to the End of the Current Persons | R7: 人次(月) Person0Times | S7: 金額(元) Amount(NT$) | T7: 期底人數(人)Persons | W7: 本年累計至期底人數(人) Accumulated to the End of the Current Persons | Z7: 人次(月) Person0Times | AA7: 金額(元) Amount(NT$) | AB7: 期底人數(人)Persons | AE7: 本年累計至期底人數(人) Accumulated to the End of the Current Persons | AH7: 人次(月) Person0Times | AI7: 金額(元) Amount(NT$)
D9: 計 Total | E9: 男 Male | F9: 女 Female | G9: 計 Total | H9: 男 Male | I9: 女 Female | L9: 計 Total | M9: 男 Male | N9: 女 Female | O9: 計 Total | P9: 男 Male | Q9: 女 Female | T9: 計 Total | U9: 男 Male | V9: 女 Female | W9: 計 Total | X9: 男 Male | Y9: 女 Female | AB9: 計 Total | AC9: 男 Male | AD9: 女 Female | AE9: 計 Total | AF9: 男 Male | AG9: 女 Female
A12: 總計 | B12: 計 | C12: Total | D12: 76366 | E12: 38710 | F12: 37656 | G12: 81480 | H12: 41319 | I12: 40161 | J12: 459911 | K12: 1034675467 | L12: 2950 | M12: 1841 | N12: 1109 | O12: 7988 | P12: 5230 | Q12: 2758 | R12: 8330 | S12: 80934607 | T12: 1469 | U12: 808 | V12: 661 | W12: 1821 | X12: 1015 | Y12: 806 | Z12: 8649 | AA12: 102946552 | AB12: 886 | AC12: 453 | AD12: 433 | AE12: 1414 | AF12: 722 | AG12: 692 | AH12: 5605 | AI12: 16515205
A13: Total | B13: 一般 | C13: General | D13: 68268 | E13: 34615 | F13: 33653 | G13: 72752 | H13: 36907 | I13: 35845 | J13: 412344 | K13: 925359376 | L13: 2940 | M13: 1832 | N13: 1108 | O13: 7925 | P13: 5188 | Q13: 2737 | R13: 8261 | S13: 80160645 | T13: 1354 | U13: 759 | V13: 595 | W13: 1698 | X13: 962 | Y13: 736 | Z13: 8044 | AA13: 96580419 | AB13: 768 | AC13: 390 | AD13: 378 | AE13: 1246 | AF13: 636 | AG13: 610 | AH13: 4824 | AI13: 14188499
B14: 原住民 | C14: Indigenous | D14: 8098 | E14: 4095 | F14: 4003 | G14: 8728 | H14: 4412 | I14: 4316 | J14: 47567 | K14: 109316091 | L14: 10 | M14: 9 | N14: 1 | O14: 63 | P14: 42 | Q14: 21 | R14: 69 | S14: 773962 | T14: 115 | U14: 49 | V14: 66 | W14: 123 | X14: 53 | Y14: 70 | Z14: 605 | AA14: 6366133 | AB14: 118 | AC14: 63 | AD14: 55 | AE14: 168 | AF14: 86 | AG14: 82 | AH14: 781 | AI14: 2326706
A15: 新北市 | B15: 計 | C15: Total | D15: 20662 | E15: 10537 | F15: 10125 | G15: 21890 | H15: 11164 | I15: 10726 | J15: 126161 | K15: 279662689 | L15: 2216 | M15: 1433 | N15: 783 | O15: 3101 | P15: 2073 | Q15: 1028 | R15: 3101 | S15: 18467038 | T15: 163 | U15: 94 | V15: 69 | W15: 184 | X15: 101 | Y15: 83 | Z15: 875 | AA15: 9403872 | AB15: 102 | AC15: 55 | AD15: 47 | AE15: 102 | AF15: 55 | AG15: 47 | AH15: 658 | AI15: 1954111
A16: New Taipei City | B16: 一般 | C16: General | D16: 19629 | E16: 10010 | F16: 9619 | G16: 20796 | H16: 10606 | I16: 10190 | J16: 119853 | K16: 265679555 | L16: 2216 | M16: 1433 | N16: 783 | O16: 3101 | P16: 2073 | Q16: 1028 | R16: 3101 | S16: 18467038 | T16: 163 | U16: 94 | V16: 69 | W16: 184 | X16: 101 | Y16: 83 | Z16: 875 | AA16: 9403872 | AB16: 102 | AC16: 55 | AD16: 47 | AE16: 102 | AF16: 55 | AG16: 47 | AH16: 658 | AI16: 1954111
B17: 原住民 | C17: Indigenous | D17: 1033 | E17: 527 | F17: 506 | G17: 1094 | H17: 558 | I17: 536 | J17: 6308 | K17: 13983134 | L17: 0 | M17: 0 | N17: 0 | O17: 0 | P17: 0 | Q17: 0 | R17: 0 | S17: 0 | T17: 0 | U17: 0 | V17: 0 | W17: 0 | X17: 0 | Y17: 0 | Z17: 0 | AA17: 0 | AB17: 0 | AC17: 0 | AD17: 0 | AE17: 0 | AF17: 0 | AG17: 0 | AH17: 0 | AI17: 0
A18: 臺北市 | B18: 計 | C18: Total | D18: 0 | E18: 0 | F18: 0 | G18: 0 | H18: 0 | I18: 0 | J18: 0 | K18: 0 | L18: 63 | M18: 45 | N18: 18 | O18: 266 | P18: 179 | Q18: 87 | R18: 367 | S18: 8489793 | T18: 159 | U18: 89 | V18: 70 | W18: 194 | X18: 107 | Y18: 87 | Z18: 993 | AA18: 11800600 | AB18: 203 | AC18: 108 | AD18: 95 | AE18: 328 | AF18: 173 | AG18: 155 | AH18: 1280 | AI18: 3837141
A19: Taipei City | B19: 一般 | C19: General | D19: 0 | E19: 0 | F19: 0 | G19: 0 | H19: 0 | I19: 0 | J19: 0 | K19: 0 | L19: 63 | M19: 45 | N19: 18 | O19: 262 | P19: 176 | Q19: 86 | R19: 363 | S19: 8395632 | T19: 159 | U19: 89 | V19: 70 | W19: 194 | X19: 107 | Y19: 87 | Z19: 993 | AA19: 11800600 | AB19: 196 | AC19: 102 | AD19: 94 | AE19: 319 | AF19: 167 | AG19: 152 | AH19: 1240 | AI19: 3717141
B20: 原住民 | C20: Indigenous | D20: 0 | E20: 0 | F20: 0 | G20: 0 | H20: 0 | I20: 0 | J20: 0 | K20: 0 | L20: 0 | M20: 0 | N20: 0 | O20: 4 | P20: 3 | Q20: 1 | R20: 4 | S20: 94161 | T20: 0 | U20: 0 | V20: 0 | W20: 0 | X20: 0 | Y20: 0 | Z20: 0 | AA20: 0 | AB20: 7 | AC20: 6 | AD20: 1 | AE20: 9 | AF20: 6 | AG20: 3 | AH20: 40 | AI20: 120000
A21: 桃園市 | B21: 計 | C21: Total | D21: 5105 | E21: 2586 | F21: 2519 | G21: 5487 | H21: 2780 | I21: 2707 | J21: 30152 | K21: 69480681 | L21: 375 | M21: 197 | N21: 178 | O21: 1595 | P21: 871 | Q21: 724 | R21: 1595 | S21: 7230490 | T21: 55 | U21: 35 | V21: 20 | W21: 187 | X21: 116 | Y21: 71 | Z21: 889 | AA21: 13249683 | AB21: 20 | AC21: 9 | AD21: 11 | AE21: 42 | AF21: 22 | AG21: 20 | AH21: 128 | AI21: 384000
A22: Taoyuan City | B22: 一般 | C22: General | D22: 4538 | E22: 2321 | F22: 2217 | G22: 4857 | H22: 2493 | I22: 2364 | J22: 26982 | K22: 62148471 | L22: 375 | M22: 197 | N22: 178 | O22: 1595 | P22: 871 | Q22: 724 | R22: 1595 | S22: 7230490 | T22: 55 | U22: 35 | V22: 20 | W22: 187 | X22: 116 | Y22: 71 | Z22: 889 | AA22: 13249683 | AB22: 16 | AC22: 8 | AD22: 8 | AE22: 35 | AF22: 20 | AG22: 15 | AH22: 103 | AI22: 309000
B23: 原住民 | C23: Indigenous | D23: 567 | E23: 265 | F23: 302 | G23: 630 | H23: 287 | I23: 343 | J23: 3170 | K23: 7332210 | L23: 0 | M23: 0 | N23: 0 | O23: 0 | P23: 0 | Q23: 0 | R23: 0 | S23: 0 | T23: 0 | U23: 0 | V23: 0 | W23: 0 | X23: 0 | Y23: 0 | Z23: 0 | AA23: 0 | AB23: 4 | AC23: 1 | AD23: 3 | AE23: 7 | AF23: 2 | AG23: 5 | AH23: 25 | AI23: 75000
A24: 臺中市 | B24: 計 | C24: Total | D24: 10563 | E24: 5356 | F24: 5207 | G24: 11482 | H24: 5835 | I24: 5647 | J24: 65384 | K24: 143489842 | L24: 33 | M24: 19 | N24: 14 | O24: 2460 | P24: 1753 | Q24: 707 | R24: 2508 | S24: 34220925 | T24: 415 | U24: 238 | V24: 177 | W24: 502 | X24: 290 | Y24: 212 | Z24: 2300 | AA24: 25484733 | AB24: 20 | AC24: 10 | AD24: 10 | AE24: 35 | AF24: 16 | AG24: 19 | AH24: 157 | AI24: 413833
A25: Taichung City | B25: 一般 | C25: General | D25: 9736 | E25: 4924 | F25: 4812 | G25: 10572 | H25: 5363 | I25: 5209 | J25: 60253 | K25: 132217035 | L25: 33 | M25: 19 | N25: 14 | O25: 2430 | P25: 1733 | Q25: 697 | R25: 2478 | S25: 33901875 | T25: 415 | U25: 238 | V25: 177 | W25: 502 | X25: 290 | Y25: 212 | Z25: 2300 | AA25: 25484733 | AB25: 19 | AC25: 10 | AD25: 9 | AE25: 31 | AF25: 16 | AG25: 15 | AH25: 145 | AI25: 377833
B26: 原住民 | C26: Indigenous | D26: 827 | E26: 432 | F26: 395 | G26: 910 | H26: 472 | I26: 438 | J26: 5131 | K26: 11272807 | L26: 0 | M26: 0 | N26: 0 | O26: 30 | P26: 20 | Q26: 10 | R26: 30 | S26: 319050 | T26: 0 | U26: 0 | V26: 0 | W26: 0 | X26: 0 | Y26: 0 | Z26: 0 | AA26: 0 | AB26: 1 | AC26: 0 | AD26: 1 | AE26: 4 | AF26: 0 | AG26: 4 | AH26: 12 | AI26: 36000
A27: 臺南市 | B27: 計 | C27: Total | D27: 5893 | E27: 3005 | F27: 2888 | G27: 6208 | H27: 3166 | I27: 3042 | J27: 35092 | K27: 78798487 | L27: 6 | M27: 2 | N27: 4 | O27: 39 | P27: 23 | Q27: 16 | R27: 39 | S27: 1222137 | T27: 95 | U27: 54 | V27: 41 | W27: 109 | X27: 68 | Y27: 41 | Z27: 445 | AA27: 5518483 | AB27: 83 | AC27: 43 | AD27: 40 | AE27: 133 | AF27: 68 | AG27: 65 | AH27: 514 | AI27: 1542000
A28: Tainan City | B28: 一般 | C28: General | D28: 5720 | E28: 2921 | F28: 2799 | G28: 6026 | H28: 3078 | I28: 2948 | J28: 34108 | K28: 76590204 | L28: 6 | M28: 2 | N28: 4 | O28: 39 | P28: 23 | Q28: 16 | R28: 39 | S28: 1222137 | T28: 95 | U28: 54 | V28: 41 | W28: 109 | X28: 68 | Y28: 41 | Z28: 445 | AA28: 5518483 | AB28: 80 | AC28: 41 | AD28: 39 | AE28: 129 | AF28: 66 | AG28: 63 | AH28: 493 | AI28: 1479000
B29: 原住民 | C29: Indigenous | D29: 173 | E29: 84 | F29: 89 | G29: 182 | H29: 88 | I29: 94 | J29: 984 | K29: 2208283 | L29: 0 | M29: 0 | N29: 0 | O29: 0 | P29: 0 | Q29: 0 | R29: 0 | S29: 0 | T29: 0 | U29: 0 | V29: 0 | W29: 0 | X29: 0 | Y29: 0 | Z29: 0 | AA29: 0 | AB29: 3 | AC29: 2 | AD29: 1 | AE29: 4 | AF29: 2 | AG29: 2 | AH29: 21 | AI29: 63000
A30: 高 雄 市 | B30: 計 | C30: Total | D30: 8130 | E30: 4117 | F30: 4013 | G30: 8780 | H30: 4443 | I30: 4337 | J30: 49787 | K30: 120957202 | L30: 15 | M30: 6 | N30: 9 | O30: 37 | P30: 16 | Q30: 21 | R30: 37 | S30: 444007 | T30: 144 | U30: 78 | V30: 66 | W30: 163 | X30: 89 | Y30: 74 | Z30: 782 | AA30: 7933058 | AB30: 183 | AC30: 86 | AD30: 97 | AE30: 281 | AF30: 130 | AG30: 151 | AH30: 1093 | AI30: 3162210
A31: Kaohsiung City | B31: 一般 | C31: General | D31: 7673 | E31: 3876 | F31: 3797 | G31: 8286 | H31: 4183 | I31: 4103 | J31: 47008 | K31: 114265120 | L31: 15 | M31: 6 | N31: 9 | O31: 37 | P31: 16 | Q31: 21 | R31: 37 | S31: 444007 | T31: 135 | U31: 76 | V31: 59 | W31: 152 | X31: 87 | Y31: 65 | Z31: 730 | AA31: 7465058 | AB31: 165 | AC31: 79 | AD31: 86 | AE31: 255 | AF31: 117 | AG31: 138 | AH31: 983 | AI31: 2832210
B32: 原住民 | C32: Indigenous | D32: 457 | E32: 241 | F32: 216 | G32: 494 | H32: 260 | I32: 234 | J32: 2779 | K32: 6692082 | L32: 0 | M32: 0 | N32: 0 | O32: 0 | P32: 0 | Q32: 0 | R32: 0 | S32: 0 | T32: 9 | U32: 2 | V32: 7 | W32: 11 | X32: 2 | Y32: 9 | Z32: 52 | AA32: 468000 | AB32: 18 | AC32: 7 | AD32: 11 | AE32: 26 | AF32: 13 | AG32: 13 | AH32: 110 | AI32: 330000
A33: 宜蘭縣 | B33: 計 | C33: Total | D33: 1398 | E33: 697 | F33: 701 | G33: 1398 | H33: 697 | I33: 701 | J33: 7889 | K33: 17331908 | L33: 6 | M33: 4 | N33: 2 | O33: 6 | P33: 4 | Q33: 2 | R33: 6 | S33: 193943 | T33: 17 | U33: 3 | V33: 14 | W33: 17 | X33: 3 | Y33: 14 | Z33: 97 | AA33: 1006800 | AB33: 0 | AC33: 0 | AD33: 0 | AE33: 0 | AF33: 0 | AG33: 0 | AH33: 0 | AI33: 0
A34: Yilan County | B34: 一般 | C34: General | D34: 1103 | E34: 546 | F34: 557 | G34: 1103 | H34: 546 | I34: 557 | J34: 6265 | K34: 13763980 | L34: 6 | M34: 4 | N34: 2 | O34: 6 | P34: 4 | Q34: 2 | R34: 6 | S34: 193943 | T34: 14 | U34: 2 | V34: 12 | W34: 14 | X34: 2 | Y34: 12 | Z34: 79 | AA34: 831800 | AB34: 0 | AC34: 0 | AD34: 0 | AE34: 0 | AF34: 0 | AG34: 0 | AH34: 0 | AI34: 0
B35: 原住民 | C35: Indigenous | D35: 295 | E35: 151 | F35: 144 | G35: 295 | H35: 151 | I35: 144 | J35: 1624 | K35: 3567928 | L35: 0 | M35: 0 | N35: 0 | O35: 0 | P35: 0 | Q35: 0 | R35: 0 | S35: 0 | T35: 3 | U35: 1 | V35: 2 | W35: 3 | X35: 1 | Y35: 2 | Z35: 18 | AA35: 175000 | AB35: 0 | AC35: 0 | AD35: 0 | AE35: 0 | AF35: 0 | AG35: 0 | AH35: 0 | AI35: 0
A36: 新竹縣 | B36: 計 | C36: Total | D36: 1248 | E36: 641 | F36: 607 | G36: 1310 | H36: 667 | I36: 643 | J36: 7238 | K36: 15897492 | L36: 13 | M36: 11 | N36: 2 | O36: 13 | P36: 11 | Q36: 2 | R36: 17 | S36: 421446 | T36: 108 | U36: 47 | V36: 61 | W36: 117 | X36: 53 | Y36: 64 | Z36: 583 | AA36: 6733500 | AB36: 81 | AC36: 39 | AD36: 42 | AE36: 110 | AF36: 57 | AG36: 53 | AH36: 515 | AI36: 1527846
A37: Hsinchu County | B37: 一般 | C37: General | D37: 896 | E37: 467 | F37: 429 | G37: 941 | H37: 487 | I37: 454 | J37: 5265 | K37: 11562811 | L37: 8 | M37: 6 | N37: 2 | O37: 8 | P37: 6 | Q37: 2 | R37: 11 | S37: 331880 | T37: 21 | U37: 9 | V37: 12 | W37: 28 | X37: 13 | Y37: 15 | Z37: 129 | AA37: 1808000 | AB37: 42 | AC37: 17 | AD37: 25 | AE37: 59 | AF37: 27 | AG37: 32 | AH37: 263 | AI37: 783282
B38: 原住民 | C38: Indigenous | D38: 352 | E38: 174 | F38: 178 | G38: 369 | H38: 180 | I38: 189 | J38: 1973 | K38: 4334681 | L38: 5 | M38: 5 | N38: 0 | O38: 5 | P38: 5 | Q38: 0 | R38: 6 | S38: 89566 | T38: 87 | U38: 38 | V38: 49 | W38: 89 | X38: 40 | Y38: 49 | Z38: 454 | AA38: 4925500 | AB38: 39 | AC38: 22 | AD38: 17 | AE38: 51 | AF38: 30 | AG38: 21 | AH38: 252 | AI38: 744564
A39: 苗栗縣 | B39: 計 | C39: Total | D39: 1193 | E39: 578 | F39: 615 | G39: 1291 | H39: 629 | I39: 662 | J39: 7155 | K39: 15719535 | L39: 36 | M39: 24 | N39: 12 | O39: 36 | P39: 24 | Q39: 12 | R39: 265 | S39: 812771 | T39: 16 | U39: 10 | V39: 6 | W39: 18 | X39: 12 | Y39: 6 | Z39: 82 | AA39: 1126700 | AB39: 28 | AC39: 14 | AD39: 14 | AE39: 28 | AF39: 14 | AG39: 14 | AH39: 169 | AI39: 507000
A40: Miaoli County | B40: 一般 | C40: General | D40: 1000 | E40: 471 | F40: 529 | G40: 1085 | H40: 512 | I40: 573 | J40: 6017 | K40: 13219349 | L40: 36 | M40: 24 | N40: 12 | O40: 36 | P40: 24 | Q40: 12 | R40: 265 | S40: 812771 | T40: 16 | U40: 10 | V40: 6 | W40: 18 | X40: 12 | Y40: 6 | Z40: 82 | AA40: 1126700 | AB40: 25 | AC40: 14 | AD40: 11 | AE40: 25 | AF40: 14 | AG40: 11 | AH40: 166 | AI40: 498000
B41: 原住民 | C41: Indigenous | D41: 193 | E41: 107 | F41: 86 | G41: 206 | H41: 117 | I41: 89 | J41: 1138 | K41: 2500186 | L41: 0 | M41: 0 | N41: 0 | O41: 0 | P41: 0 | Q41: 0 | R41: 0 | S41: 0 | T41: 0 | U41: 0 | V41: 0 | W41: 0 | X41: 0 | Y41: 0 | Z41: 0 | AA41: 0 | AB41: 3 | AC41: 0 | AD41: 3 | AE41: 3 | AF41: 0 | AG41: 3 | AH41: 3 | AI41: 9000
A42: 彰化縣 | B42: 計 | C42: Total | D42: 5364 | E42: 2717 | F42: 2647 | G42: 5835 | H42: 2957 | I42: 2878 | J42: 32541 | K42: 71362407 | L42: 12 | M42: 9 | N42: 3 | O42: 69 | P42: 39 | Q42: 30 | R42: 76 | S42: 2496526 | T42: 127 | U42: 67 | V42: 60 | W42: 145 | X42: 76 | Y42: 69 | Z42: 696 | AA42: 9261820 | AB42: 38 | AC42: 21 | AD42: 17 | AE42: 85 | AF42: 43 | AG42: 42 | AH42: 312 | AI42: 883606
A43: Changhua County | B43: 一般 | C43: General | D43: 5182 | E43: 2643 | F43: 2539 | G43: 5641 | H43: 2877 | I43: 2764 | J43: 31441 | K43: 68945707 | L43: 12 | M43: 9 | N43: 3 | O43: 69 | P43: 39 | Q43: 30 | R43: 76 | S43: 2496526 | T43: 127 | U43: 67 | V43: 60 | W43: 145 | X43: 76 | Y43: 69 | Z43: 696 | AA43: 9261820 | AB43: 37 | AC43: 20 | AD43: 17 | AE43: 83 | AF43: 41 | AG43: 42 | AH43: 306 | AI43: 865606
B44: 原住民 | C44: Indigenous | D44: 182 | E44: 74 | F44: 108 | G44: 194 | H44: 80 | I44: 114 | J44: 1100 | K44: 2416700 | L44: 0 | M44: 0 | N44: 0 | O44: 0 | P44: 0 | Q44: 0 | R44: 0 | S44: 0 | T44: 0 | U44: 0 | V44: 0 | W44: 0 | X44: 0 | Y44: 0 | Z44: 0 | AA44: 0 | AB44: 1 | AC44: 1 | AD44: 0 | AE44: 2 | AF44: 2 | AG44: 0 | AH44: 6 | AI44: 18000
A45: 南投縣 | B45: 計 | C45: Total | D45: 1245 | E45: 655 | F45: 590 | G45: 1310 | H45: 688 | I45: 622 | J45: 7270 | K45: 15928250 | L45: 4 | M45: 3 | N45: 1 | O45: 25 | P45: 13 | Q45: 12 | R45: 29 | S45: 806101 | T45: 1 | U45: 0 | V45: 1 | W45: 2 | X45: 0 | Y45: 2 | Z45: 10 | AA45: 130800 | AB45: 8 | AC45: 6 | AD45: 2 | AE45: 13 | AF45: 9 | AG45: 4 | AH45: 41 | AI45: 123000
...

Sheet 2024
A1: 弱勢兒童及少年扶助概況Overview of Allowances for Disadvantaged Child and Youth
