Workbook

Sheet 歷年
A1: 3.2-05 急難救助
A2: 92-113年
A4: 地區別 | B4: 急難現金救助
B5: 總人次 | E5: 總救助金額(元) | F5: 具原住民身份 (人次)
B6: 計 | C6: 男 | D6: 女
A8: 92年, 2003 | B8: ='92'!B8 -> 35257 | C8: ='92'!C8 -> 22451 | D8: ='92'!D8 -> 12806 | E8: ='92'!E8 -> 199139830 | F8: ...
A9: 93年, 2004 | B9: ='93'!B8 -> 36134 | C9: ='93'!C8 -> 23054 | D9: ='93'!D8 -> 13080 | E9: ='93'!E8 -> 245920668 | F9: ...
A10: 94年, 2005 | B10: ='94'!B8 -> 33960 | C10: ='94'!C8 -> 20958 | D10: ='94'!D8 -> 13002 | E10: ='94'!E8 -> 217938907 | F10: ...
A11: 95年, 2006 | B11: ='95'!B8 -> 37094 | C11: ='95'!C8 -> 22722 | D11: ='95'!D8 -> 14372 | E11: ='95'!E8 -> 215961088 | F11: ...
A12: 96年, 2007 | B12: ='96'!B8 -> 46666 | C12: ='96'!C8 -> 27528 | D12: ='96'!D8 -> 19138 | E12: ='96'!E8 -> 268450651 | F12: ...
A13: 97年, 2008 | B13: ='97'!B8 -> 48074 | C13: ='97'!C8 -> 28720 | D13: ='97'!D8 -> 19354 | E13: ='97'!E8 -> 273655482 | F13: ...
A14: 98年, 2009 | B14: ='98'!B8 -> 44129 | C14: ='98'!C8 -> 26891 | D14: ='98'!D8 -> 17238 | E14: ='98'!E8 -> 245764283 | F14: ...
A15: 99年 ,2010 | B15: ='99'!B8 -> 47863 | C15: ='99'!C8 -> 28905 | D15: ='99'!D8 -> 18958 | E15: ='99'!E8 -> 283733349 | F15: ...
A16: 100年, 2011 | B16: ='100'!B8 -> 45418 | C16: ='100'!C8 -> 27373 | D16: ='100'!D8 -> 18045 | E16: ='100'!E8 -> 274228292 | F16: ...
A17: 101年, 2012 | B17: ='101'!B8 -> 46978 | C17: ='101'!C8 -> 28426 | D17: ='101'!D8 -> 18552 | E17: ='101'!E8 -> 269103281 | F17: ='101'!F8 -> 781
A18: 102年, 2013 | B18: ='102'!B8 -> 40961 | C18: ='102'!C8 -> 24727 | D18: ='102'!D8 -> 16234 | E18: ='102'!E8 -> 246688235 | F18: ='102'!F8 -> 794
A19: 103年, 2014 | B19: 42232 | C19: 25181 | D19: 17051 | E19: 253490910 | F19: 777
A20: 104年, 2015 | B20: 37897 | C20: 22356 | D20: 15541 | E20: 232605929 | F20: 543
A22: 地區別 | B22: 急難現金救助
B23: 總人次 | E23: 總救助金額(元) | F23: 具原住民身份 (人次)
B24: 計 | C24: 男 | D24: 女
A26: 105年, 2016 | B26: 35900 | C26: 21512 | D26: 14388 | E26: 223191601 | F26: 457
A27: 106年, 2017 | B27: 34177 | C27: 20388 | D27: 13789 | E27: 217484914 | F27: 512
A28: 107年, 2018 | B28: 34445 | C28: 20220 | D28: 14225 | E28: 221302550 | F28: 951
A29: 108年, 2019 | B29: 32492 | C29: 18976 | D29: 13516 | E29: 219487304 | F29: 1587
A30: 109年, 2020 | B30: 32041 | C30: 19154 | D30: 12887 | E30: 222784325 | F30: 1454
A31: 110年, 2021 | B31: 60446 | C31: 31059 | D31: 29387 | E31: 369812692 | F31: 1397
A32: 111年, 2022 | B32: 28037 | C32: 16180 | D32: 11857 | E32: 201572543 | F32: 1460
A33: 112年, 2023 | B33: 28505 | C33: 16764 | D33: 11741 | E33: 202563402 | F33: 1514
A34: 113年, 2024 | B34: 27121 | C34: 15891 | D34: 11230 | E34: 194716133 | F34: 1466
A35: 資料來源：直轄市、縣﹝市﹞政府。
A36: 說明：原住民：依原住民身分法，具原住民身分者即予以統計，而不論其是否隸屬於原住民戶。

Sheet 113
A1: 3.2-05 急難救助
A2: 113年, 2024
A4: 地區別 | B4: 急難現金救助
B5: 總人次 | E5: 總救助金額(元) | F5: 具原住民身份 (人次)
B6: 計 | C6: 男 | D6: 女
A8: 總計 | B8: 27121 | C8: 15891 | D8: 11230 | E8: 194716133 | F8: 1466
A9: 新北市 | B9: 2125 | C9: 1252 | D9: 873 | E9: 24028122 | F9: 60
A10: 臺北市 | B10: 2016 | C10: 1231 | D10: 785 | E10: 10269839 | F10: 13
A11: 桃園市 | B11: 2206 | C11: 1241 | D11: 965 | E11: 24462197 | F11: 245
A12: 臺中市 | B12: 1349 | C12: 884 | D12: 465 | E12: 8455826 | F12: 2
A13: 臺南市 | B13: 2160 | C13: 1318 | D13: 842 | E13: 13480863 | F13: 10
A14: 高雄市 | B14: 3961 | C14: 2192 | D14: 1769 | E14: 24449327 | F14: 71
A15: 宜蘭縣 | B15: 678 | C15: 352 | D15: 326 | E15: 3003000 | F15: 182
A16: 新竹縣 | B16: 423 | C16: 235 | D16: 188 | E16: 4655915 | F16: 39
A17: 苗栗縣 | B17: 1555 | C17: 831 | D17: 724 | E17: 11229091 | F17: 313
A18: 彰化縣 | B18: 3430 | C18: 2100 | D18: 1330 | E18: 22447519 | F18: 26
A19: 南投縣 | B19: 1634 | C19: 955 | D19: 679 | E19: 12634330 | F19: 386
... A30: 連江縣 | B30: 13 | C30: 11 | D30: 2 | E30: 522792 | F30: 0
A32: 資料來源：直轄市、縣﹝市﹞政府。
A33: 說明：原住民：依原住民身分法，具原住民身分者即予以統計，而不論其是否隸屬於原住民戶。

Sheet 112
A1: 3.2-05 急難救助
A2: 112年, 2023
A4: 地區別 | B4: 急難現金救助
B5: 總人次 | E5: 總救助金額(元) | F5: 具原住民身份 (人次)
B6: 計 | C6: 男 | D6: 女
A8: 總計 | B8: 28505 | C8: 16764 | D8: 11741 | E8: 202563402 | F8: 1514
A9: 新北市 | B9: 2353 | C9: 1399 | D9: 954 | E9: 26177104 | F9: 35
A10: 臺北市 | B10: 2453 | C10: 1452 | D10: 1001 | E10: 12676252 | F10: 14
A11: 桃園市 | B11: 2228 | C11: 1284 | D11: 944 | E11: 25209575 | F11: 298
A12: 臺中市 | B12: 1415 | C12: 899 | D12: 516 | E12: 9742185 | F12: 10
A13: 臺南市 | B13: 2014 | C13: 1247 | D13: 767 | E13: 13167556 | F13: 15
A14: 高雄市 | B14: 3800 | C14: 2075 | D14: 1725 | E14: 24258035 | F14: 86
A15: 宜蘭縣 | B15: 705 | C15: 411 | D15: 294 | E15: 3159000 | F15: 128
A16: 新竹縣 | B16: 265 | C16: 139 | D16: 126 | E16: 2006095 | F16: 32
A17: 苗栗縣 | B17: 1758 | C17: 976 | D17: 782 | E17: 11324359 | F17: 335
A18: 彰化縣 | B18: 4028 | C18: 2459 | D18: 1569 | E18: 26123822 | F18: 31
A19: 南投縣 | B19: 1566 | C19: 898 | D19: 668 | E19: 12202025 | F19: 408
... A30: 連江縣 | B30: 9 | C30: 7 | D30: 2 | E30: 287200 | F30: 0
A32: 資料來源：直轄市、縣﹝市﹞政府。
A33: 說明：原住民：依原住民身分法，具原住民身分者即予以統計，而不論其是否隸屬於原住民戶。

Sheet 111
A1: 3.2-05 急難救助
A2: 111年, 2022
A4: 地區別 | B4: 急難現金救助
B5: 總人次 | E5: 總救助金額(元) | F5: 具原住民身份 (人次)
B6: 計 | C6: 男 | D6: 女
A8: 總計 | B8: 28037 | C8: 16180 | D8: 11857 | E8: 201572543 | F8: 1460
A9: 新北市 | B9: 2038 | C9: 1160 | D9: 878 | E9: 21992819 | F9: 11
A10: 臺北市 | B10: 3483 | C10: 1881 | D10: 1602 | E10: 15269261 | F10: 22
A11: 桃園市 | B11: 2537 | C11: 1386 | D11: 1151 | E11: 28389084 | F11: 214
A12: 臺中市 | B12: 1267 | C12: 819 | D12: 448 | E12: 8648313 | F12: 5
A13: 臺南市 | B13: 2126 | C13: 1313 | D13: 813 | E13: 13699404 | F13: 18
A14: 高雄市 | B14: 3497 | C14: 1947 | D14: 1550 | E14: 23063384 | F14: 62
A15: 宜蘭縣 | B15: 797 | C15: 462 | D15: 335 | E15: 3678500 | F15: 134
A16: 新竹縣 | B16: 179 | C16: 102 | D16: 77 | E16: 1716052 | F16: 93
A17: 苗栗縣 | B17: 1875 | C17: 987 | D17: 888 | E17: 12057722 | F17: 301
A18: 彰化縣 | B18: 3254 | C18: 1983 | D18: 1271 | E18: 25390470 | F18: 8
A19: 南投縣 | B19: 1668 | C19: 994 | D19: 674 | E19: 12787754 | F19: 479
... A30: 連江縣 | B30: 9 | C30: 5 | D30: 4 | E30: 206892 | F30: 0
A32: 資料來源：直轄市、縣﹝市﹞政府。
A33: 說明：原住民：依原住民身分法，具原住民身分者即予以統計，而不論其是否隸屬於原住民戶。

Sheet 110
A1: 3.2-05 急難救助
A2: 110年, 2021
A4: 地區別 | B4: 急難現金救助
B5: 總人次 | E5: 總救助金額(元) | F5: 具原住民身份 (人次)
B6: 計 | C6: 男 | D6: 女
A8: 總計 | B8: 60446 | C8: 31059 | D8: 29387 | E8: 369812692 | F8: 1397
A9: 新北市 | B9: 2390 | C9: 1466 | D9: 924 | E9: 23490637 | F9: 27
A10: 臺北市 | B10: 34022 | C10: 15380 | D10: 18642 | E10: 178157683 | F10: 101
A11: 桃園市 | B11: 3201 | C11: 1776 | D11: 1425 | E11: 30967899 | F11: 179
A12: 臺中市 | B12: 1571 | C12: 987 | D12: 584 | E12: 10285118 | F12: 3
A13: 臺南市 | B13: 2443 | C13: 1564 | D13: 879 | E13: 15912934 | F13: 14
A14: 高雄市 | B14: 3631 | C14: 2042 | D14: 1589 | E14: 23252592 | F14: 71
A15: 宜蘭縣 | B15: 883 | C15: 489 | D15: 394 | E15: 4081500 | F15: 146
A16: 新竹縣 | B16: 223 | C16: 142 | D16: 81 | E16: 2057183 | F16: 113
A17: 苗栗縣 | B17: 1855 | C17: 1015 | D17: 840 | E17: 11306749 | F17: 308
A18: 彰化縣 | B18: 3251 | C18: 2040 | D18: 1211 | E18: 23901970 | F18: 1
A19: 南投縣 | B19: 1643 | C19: 941 | D19: 702 | E19: 12247547 | F19: 380
... A30: 連江縣 | B30: 8 | C30: 6 | D30: 2 | E30: 189910 | F30: 0
A32: 資料來源：直轄市、縣﹝市﹞政府。
A33: 說明：原住民：依原住民身分法，具原住民身分者即予以統計，而不論其是否隸屬於原住民戶。

Sheet 109
A1: 3.2-05 急難救助
A2: 109年, 2020
A4: 地區別 | B4: 急難現金救助
B5: 總人次 | E5: 總救助金額(元) | F5: 具原住民身份 (人次)
B6: 計 | C6: 男 | D6: 女
A8: 總計 | B8: 32041 | C8: 19154 | D8: 12887 | E8: 222784325 | F8: 1454
A9: 新北市 | B9: 2738 | C9: 1672 | D9: 1066 | E9: 25507883 | F9: 27
A10: 臺北市 | B10: 2622 | C10: 1675 | D10: 947 | E10: 11648318 | F10: 20
A11: 桃園市 | B11: 4345 | C11: 2401 | D11: 1944 | E11: 39957316 | F11: 308
A12: 臺中市 | B12: 1999 | C12: 1235 | D12: 764 | E12: 12496049 | F12: 2
A13: 臺南市 | B13: 3062 | C13: 1938 | D13: 1124 | E13: 19381401 | F13: 3
A14: 高雄市 | B14: 3591 | C14: 2049 | D14: 1542 | E14: 22346974 | F14: 55
A15: 宜蘭縣 | B15: 958 | C15: 533 | D15: 425 | E15: 4667500 | F15: 116
A16: 新竹縣 | B16: 331 | C16: 190 | D16: 141 | E16: 3110117 | F16: 173
A17: 苗栗縣 | B17: 2182 | C17: 1234 | D17: 948 | E17: 14035358 | F17: 324
A18: 彰化縣 | B18: 2553 | C18: 1565 | D18: 988 | E18: 19708186 | F18: 10
A19: 南投縣 | B19: 1627 | C19: 978 | D19: 649 | E19: 11699030 | F19: 388
... A30: 連江縣 | B30: 17 | C30: 11 | D30: 6 | E30: 498820 | F30: 0
A32: 資料來源：直轄市、縣﹝市﹞政府。
A33: 說明：原住民：依原住民身分法，具原住民身分者即予以統計，而不論其是否隸屬於原住民戶。

Sheet 108
A1: 3.2-05 急難救助
A2: 108年, 2019
A4: 地區別 | B4: 急難現金救助
B5: 總人次 | E5: 總救助金額(元) | F5: 具原住民身份 (人次)
B6: 計 | C6: 男 | D6: 女
A8: 總計 | B8: 32492 | C8: 18976 | D8: 13516 | E8: 219487304 | F8: 1587
A9: 新北市 | B9: 2383 | C9: 1441 | D9: 942 | E9: 21203811 | F9: 46
A10: 臺北市 | B10: 2478 | C10: 1623 | D10: 855 | E10: 10418575 | F10: 21
A11: 桃園市 | B11: 4197 | C11: 2230 | D11: 1967 | E11: 36829913 | F11: 245
A12: 臺中市 | B12: 2007 | C12: 1276 | D12: 731 | E12: 12851269 | F12: 8
A13: 臺南市 | B13: 3519 | C13: 2152 | D13: 1367 | E13: 22267683 | F13: 4
A14: 高雄市 | B14: 3734 | C14: 1941 | D14: 1793 | E14: 23899107 | F14: 157
A15: 宜蘭縣 | B15: 983 | C15: 558 | D15: 425 | E15: 4540600 | F15: 155
A16: 新竹縣 | B16: 390 | C16: 203 | D16: 187 | E16: 3415786 | F16: 210
A17: 苗栗縣 | B17: 2253 | C17: 1250 | D17: 1003 | E17: 12719838 | F17: 299
A18: 彰化縣 | B18: 2099 | C18: 1274 | D18: 825 | E18: 18707588 | F18: 12
A19: 南投縣 | B19: 1694 | C19: 1011 | D19: 683 | E19: 12073238 | F19: 391
... A30: 連江縣 | B30: 10 | C30: 7 | D30: 3 | E30: 211419 | F30: 0
A32: 資料來源：直轄市、縣﹝市﹞政府。
A33: 說明：原住民：依原住民身分法，具原住民身分者即予以統計，而不論其是否隸屬於原住民戶。

Sheet 107
A1: 3.2-05 急難救助
A2: 107年, 2018
A4: 地區別 | B4: 急難現金救助
B5: 總人次 | E5: 總救助金額(元) | F5: 具原住民身份 (人次)
B6: 計 | C6: 男 | D6: 女
A8: 總計 | B8: 34445 | C8: 20220 | D8: 14225 | E8: 221302550 | F8: 951
A9: 新北市 | B9: 2684 | C9: 1570 | D9: 1114 | E9: 22747872 | F9: 31
A10: 臺北市 | B10: 2863 | C10: 1852 | D10: 1011 | E10: 11842078 | F10: 25
A11: 桃園市 | B11: 3827 | C11: 2033 | D11: 1794 | E11: 34223216 | F11: 0
A12: 臺中市 | B12: 2355 | C12: 1456 | D12: 899 | E12: 14437046 | F12: 24
A13: 臺南市 | B13: 3597 | C13: 2274 | D13: 1323 | E13: 23080359 | F13: 5
A14: 高雄市 | B14: 3704 | C14: 2051 | D14: 1653 | E14: 18943169 | F14: 238
A15: 宜蘭縣 | B15: 1000 | C15: 570 | D15: 430 | E15: 4518000 | F15: 0
A16: 新竹縣 | B16: 283 | C16: 166 | D16: 117 | E16: 2809602 | F16: 127
A17: 苗栗縣 | B17: 2325 | C17: 1357 | D17: 968 | E17: 13526368 | F17: 224
A18: 彰化縣 | B18: 2302 | C18: 1359 | D18: 943 | E18: 20469290 | F18: 5
A19: 南投縣 | B19: 1605 | C19: 963 | D19: 642 | E19: 11529409 | F19: 243
... A30: 連江縣 | B30: 16 | C30: 12 | D30: 4 | E30: 518950 | F30: 0
A32: 資料來源：直轄市、縣﹝市﹞政府。
A33: 說明：原住民：依原住民身分法，具原住民身分者即予以統計，而不論其是否隸屬於原住民戶。

Sheet 106
A1: 3.2-05 急難救助
A2: 106年, 2017
A4: 地區別 | B4: 急難現金救助
B5: 總人次 | E5: 總救助金額(元) | F5: 具原住民身份 (人次)
B6: 計 | C6: 男 | D6: 女
A8: 總計 | B8: 34177 | C8: 20388 | D8: 13789 | E8: 217484914 | F8: 512
A9: 新北市 | B9: 2842 | C9: 1673 | D9: 1169 | E9: 22273609 | F9: 6
A10: 臺北市 | B10: 3099 | C10: 2135 | D10: 964 | E10: 12213841 | F10: 34
A11: 桃園市 | B11: 4020 | C11: 2104 | D11: 1916 | E11: 35700253 | F11: 0
A12: 臺中市 | B12: 2648 | C12: 1649 | D12: 999 | E12: 15612314 | F12: 5
A13: 臺南市 | B13: 3587 | C13: 2301 | D13: 1286 | E13: 22634342 | F13: 1
A14: 高雄市 | B14: 3387 | C14: 1937 | D14: 1450 | E14: 16639744 | F14: 49
A15: 宜蘭縣 | B15: 868 | C15: 500 | D15: 368 | E15: 4385600 | F15: 0
A16: 新竹縣 | B16: 308 | C16: 167 | D16: 141 | E16: 3200968 | F16: 115
A17: 苗栗縣 | B17: 2058 | C17: 1218 | D17: 840 | E17: 12122865 | F17: 287
A18: 彰化縣 | B18: 2326 | C18: 1437 | D18: 889 | E18: 19922727 | F18: 0
A19: 南投縣 | B19: 1091 | C19: 653 | D19: 438 | E19: 8158155 | F19: 0
... A30: 連江縣 | B30: 14 | C30: 12 | D30: 2 | E30: 427000 | F30: 0
A32: 資料來源：直轄市、縣﹝市﹞政府。
A33: 說明：原住民：依原住民身分法，具原住民身分者即予以統計，而不論其是否隸屬於原住民戶。

Sheet 105
A1: 3.2-05 急難救助
A2: 105年, 2016
A4: 地區別 | B4: 急難現金救助
B5: 總人次 | E5: 總救助金額(元) | F5: 具原住民身份 (人次)
B6: 計 | C6: 男 | D6: 女
A8: 總計 | B8: 35900 | C8: 21512 | D8: 14388 | E8: 223191601 | F8: 457
A9: 新北市 | B9: 3062 | C9: 1812 | D9: 1250 | E9: 23522798 | F9: 0
A10: 臺北市 | B10: 3671 | C10: 2458 | D10: 1213 | E10: 13304635 | F10: 68
A11: 桃園市 | B11: 4337 | C11: 2282 | D11: 2055 | E11: 33962418 | F11: 0
A12: 臺中市 | B12: 2955 | C12: 1812 | D12: 1143 | E12: 16309465 | F12: 7
A13: 臺南市 | B13: 3820 | C13: 2392 | D13: 1428 | E13: 25576606 | F13: 15
A14: 高雄市 | B14: 3522 | C14: 2051 | D14: 1471 | E14: 17881468 | F14: 30
A15: 宜蘭縣 | B15: 962 | C15: 538 | D15: 424 | E15: 4723150 | F15: 0
A16: 新竹縣 | B16: 334 | C16: 180 | D16: 154 | E16: 3116853 | F16: 101
A17: 苗栗縣 | B17: 2097 | C17: 1350 | D17: 747 | E17: 14025796 | F17: 101
A18: 彰化縣 | B18: 2143 | C18: 1314 | D18: 829 | E18: 17557270 | F18: 1
A19: 南投縣 | B19: 1231 | C19: 748 | D19: 483 | E19: 9214028 | F19: 127
... A30: 連江縣 | B30: 16 | C30: 12 | D30: 4 | E30: 324900 | F30: 0
A32: 資料來源：直轄市、縣﹝市﹞政府。
A33: 說明：原住民：依原住民身分法，具原住民身分者即予以統計，而不論其是否隸屬於原住民戶。

Sheet 104
A1: 3.2-05 急難救助
A2: 104年, 2015
A4: 地區別 | B4: 急難現金救助
B5: 總人次 | E5: 總救助金額(元) | F5: 具原住民身份 (人次)
B6: 計 | C6: 男 | D6: 女
A8: 總計 | B8: 37897 | C8: 22356 | D8: 15541 | E8: 232605929 | F8: 543
A9: 新北市 | B9: 2632 | C9: 1534 | D9: 1098 | E9: 22325759 | F9: 0
A10: 臺北市 | B10: 4325 | C10: 2912 | D10: 1413 | E10: 17458692 | F10: 40
A11: 桃園市 | B11: 4686 | C11: 2345 | D11: 2341 | E11: 33828306 | F11: 0
A12: 臺中市 | B12: 3131 | C12: 1916 | D12: 1215 | E12: 18674964 | F12: 0
A13: 臺南市 | B13: 3873 | C13: 2341 | D13: 1532 | E13: 24732072 | F13: 3
A14: 高雄市 | B14: 3922 | C14: 2301 | D14: 1621 | E14: 19667539 | F14: 0
A15: 宜蘭縣 | B15: 919 | C15: 498 | D15: 421 | E15: 4522270 | F15: 0
A16: 新竹縣 | B16: 325 | C16: 219 | D16: 106 | E16: 2824261 | F16: 99
A17: 苗栗縣 | B17: 2076 | C17: 1249 | D17: 827 | E17: 13513617 | F17: 165
A18: 彰化縣 | B18: 2077 | C18: 1269 | D18: 808 | E18: 16768780 | F18: 11
A19: 南投縣 | B19: 1244 | C19: 769 | D19: 475 | E19: 9449190 | F19: 211
... A30: 連江縣 | B30: 16 | C30: 12 | D30: 4 | E30: 562500 | F30: 0
A32: 資料來源：直轄市、縣﹝市﹞政府。
A33: 說明：原住民：依原住民身分法，具原住民身分者即予以統計，而不論其是否隸屬於原住民戶。

Sheet 103
A1: 3.2-05 急難救助
A2: 103年, 2014
A4: 地區別 | B4: 急難現金救助
B5: 總人次 | E5: 總救助金額(元) | F5: 具原住民身份 (人次)
B6: 計 | C6: 男 | D6: 女
A8: 總計 | B8: 42232 | C8: 25181 | D8: 17051 | E8: 253490910 | F8: 777
A9: 新北市 | B9: 2979 | C9: 1786 | D9: 1193 | E9: 26339505 | F9: 0
A10: 臺北市 | B10: 4226 | C10: 2815 | D10: 1411 | E10: 17186415 | F10: 25
A11: 臺中市 | B11: 3507 | C11: 2098 | D11: 1409 | E11: 20752237 | F11: 0
A12: 臺南市 | B12: 3811 | C12: 2375 | D12: 1436 | E12: 24069080 | F12: 3
A13: 高雄市 | B13: 5081 | C13: 3333 | D13: 1748 | E13: 22050471 | F13: 0
A14: 宜蘭縣 | B14: 1012 | C14: 603 | D14: 409 | E14: 5425000 | F14: 0
A15: 桃園縣 | B15: 4596 | C15: 2317 | D15: 2279 | E15: 29789520 | F15: 0
A16: 新竹縣 | B16: 358 | C16: 193 | D16: 165 | E16: 3665070 | F16: 110
A17: 苗栗縣 | B17: 3815 | C17: 2139 | D17: 1676 | E17: 25091522 | F17: 410
A18: 彰化縣 | B18: 2601 | C18: 1511 | D18: 1090 | E18: 21492250 | F18: 16
A19: 南投縣 | B19: 1072 | C19: 668 | D19: 404 | E19: 8745850 | F19: 210
... A30: 連江縣 | B30: 16 | C30: 12 | D30: 4 | E30: 414055 | F30: 0
A32: 資料來源：直轄市、縣﹝市﹞政府。
A33: 說明：原住民：依原住民身分法，具原住民身分者即予以統計，而不論其是否隸屬於原住民戶。

Sheet 102
A1: 3.2-05 急難救助
A2: 102年, 2013
A4: 地區別 | B4: 急難現金救助
B5: 總人次 | E5: 總救助金額(元) | F5: 具原住民身份 (人次)
B6: 計 | C6: 男 | D6: 女
A8: 總計 | B8: 40961 | C8: 24727 | D8: 16234 | E8: 246688235 | F8: 794
A9: 新北市 | B9: 2934 | C9: 1732 | D9: 1202 | E9: 27139943 | F9: 0
A10: 臺北市 | B10: 4344 | C10: 2899 | D10: 1445 | E10: 16475296 | F10: 34
A11: 臺中市 | B11: 3585 | C11: 2196 | D11: 1389 | E11: 21435404 | F11: 0
A12: 臺南市 | B12: 3820 | C12: 2327 | D12: 1493 | E12: 23255571 | F12: 1
A13: 高雄市 | B13: 5122 | C13: 3391 | D13: 1731 | E13: 22228672 | F13: 0
A14: 宜蘭縣 | B14: 963 | C14: 581 | D14: 382 | E14: 5250800 | F14: 0
A15: 桃園縣 | B15: 4321 | C15: 2231 | D15: 2090 | E15: 30852616 | F15: 0
A16: 新竹縣 | B16: 312 | C16: 182 | D16: 130 | E16: 3302689 | F16: 73
A17: 苗栗縣 | B17: 3198 | C17: 1738 | D17: 1460 | E17: 23737241 | F17: 404
A18: 彰化縣 | B18: 2716 | C18: 1681 | D18: 1035 | E18: 20311820 | F18: 15
A19: 南投縣 | B19: 1170 | C19: 695 | D19: 475 | E19: 8585576 | F19: 259
... A30: 連江縣 | B30: 10 | C30: 5 | D30: 5 | E30: 237825 | F30: 0
A31: 資料來源：直轄市、縣﹝市﹞政府。
A32: 說明：1.原住民戶定義為：(1)戶長為原住民者視為原住民戶，以戶長性別統計。(2)戶長非原住民，如戶內原住民人口數較多時則判定為原住民戶。如原住民與非原住民之人口數相等時， 則以年齡較長者是否具原住民身分判定為原住民戶或非原住民戶。
A33: 說明：原住民：依原住民身分法，具原住民身分者即予以統計，而不論其是否隸屬於原住民戶。

Sheet 101
A1: 3.2-05 急難救助
A2: 101年, 2012
A4: 地區別 | B4: 急難現金救助
B5: 總人次 | E5: 總救助金額(元) | F5: 具原住民身份 (人次)
B6: 計 | C6: 男 | D6: 女
A8: 總計 | B8: 46978 | C8: 28426 | D8: 18552 | E8: 269103281 | F8: 781
A9: 新北市 | B9: 3501 | C9: 2100 | D9: 1401 | E9: 30459370 | F9: 0
A10: 臺北市 | B10: 5279 | C10: 3453 | D10: 1826 | E10: 20994436 | F10: 28
A11: 臺中市 | B11: 4280 | C11: 2676 | D11: 1604 | E11: 24914821 | F11: 0
A12: 臺南市 | B12: 4668 | C12: 2862 | D12: 1806 | E12: 29350056 | F12: 0
A13: 高雄市 | B13: 6271 | C13: 4363 | D13: 1908 | E13: 24737630 | F13: 0
A14: 宜蘭縣 | B14: 1069 | C14: 595 | D14: 474 | E14: 5206500 | F14: 3
A15: 桃園縣 | B15: 5154 | C15: 2485 | D15: 2669 | E15: 35723815 | F15: 0
A16: 新竹縣 | B16: 305 | C16: 177 | D16: 128 | E16: 2962762 | F16: 67
A17: 苗栗縣 | B17: 3222 | C17: 1854 | D17: 1368 | E17: 22374759 | F17: 396
A18: 彰化縣 | B18: 3336 | C18: 2051 | D18: 1285 | E18: 20351298 | F18: 17
A19: 南投縣 | B19: 1280 | C19: 797 | D19: 483 | E19: 10163200 | F19: 259
... A30: 連江縣 | B30: 8 | C30: 7 | D30: 1 | E30: 148200 | F30: 0
A31: 資料來源：直轄市、縣﹝市﹞政府。
A32: 說明：1.原住民戶定義為：(1)戶長為原住民者視為原住民戶，以戶長性別統計。(2)戶長非原住民，如戶內原住民人口數較多時則判定為原住民戶。如原住民與非原住民之人口數相等時， 則以年齡較長者是否具原住民身分判定為原住民戶或非原住民戶。
A33: 說明：原住民：依原住民身分法，具原住民身分者即予以統計，而不論其是否隸屬於原住民戶。

Sheet 100
A1: 3.2-05 急難救助
A2: 100年, 2011
A4: 地區別 | B4: 急難現金救助
B5: 總人次 | E5: 總救助金額(元)
B6: 計 | C6: 男 | D6: 女
A8: 總計 | B8: 45418 | C8: 27373 | D8: 18045 | E8: 274228292
A9: 新北市 | B9: 4870 | C9: 2840 | D9: 2030 | E9: 66351406
A10: 臺北市 | B10: 4560 | C10: 3081 | D10: 1479 | E10: 15921099
A11: 臺中市 | B11: 4428 | C11: 2658 | D11: 1770 | E11: 25757890
A12: 臺南市 | B12: 4524 | C12: 2654 | D12: 1870 | E12: 26150850
A13: 高雄市 | B13: 6481 | C13: 4432 | D13: 2049 | E13: 27199851
A14: 宜蘭縣 | B14: 912 | C14: 538 | D14: 374 | E14: 3990700
A15: 桃園縣 | B15: 4598 | C15: 2322 | D15: 2276 | E15: 26840442
A16: 新竹縣 | B16: 314 | C16: 177 | D16: 137 | E16: 3323223
A17: 苗栗縣 | B17: 1357 | C17: 786 | D17: 571 | E17: 10612344
A18: 彰化縣 | B18: 2388 | C18: 1496 | D18: 892 | E18: 13662638
A19: 南投縣 | B19: 1199 | C19: 745 | D19: 454 | E19: 9640500
... A30: 連江縣 | B30: 9 | C30: 9 | D30: 0 | E30: 146388
A31: 資料來源：直轄市、縣﹝市﹞政府。
A33: 核總計 | B33: =B8-SUM(B9:B13)-#REF! -> #REF! | C33: =C8-SUM(C9:C13)-#REF! -> #REF! | D33: =D8-SUM(D9:D13)-#REF! -> #REF! | E33: =E8-SUM(E9:E13)-#REF! -> #REF!
A34: 核台灣 | B34: =#REF!-SUM(B14:B28) -> #REF! | C34: =#REF!-SUM(C14:C28) -> #REF! | D34: =#REF!-SUM(D14:D28) -> #REF! | E34: =#REF!-SUM(E14:E28) -> #REF!
A35: 核福建 | B35: =#REF!-B29-B30 -> #REF! | C35: =#REF!-C29-C30 -> #REF! | D35: =#REF!-D29-D30 -> #REF! | E35: =#REF!-E29-E30 -> #REF!
A36: 核年季 | B36: =B8-#REF! -> #REF! | C36: =C8-#REF! -> #REF! | D36: =D8-#REF! -> #REF! | E36: =E8-#REF! -> #REF!

Sheet 99
A1: 3.2-05 急難救助
A2: 99年, 2010
A4: 地區別 | B4: 急難現金救助
B5: 總人次 | E5: 總救助金額(元)
B6: 計 | C6: 男 | D6: 女
A8: 總計 | B8: 47863 | C8: 28905 | D8: 18958 | E8: 283733349
A9: 臺北縣 | B9: 7962 | C9: 4680 | D9: 3282 | E9: 92315648
A10: 宜蘭縣 | B10: 851 | C10: 490 | D10: 361 | E10: 3217200
A11: 桃園縣 | B11: 4663 | C11: 2443 | D11: 2220 | E11: 26928893
A12: 新竹縣 | B12: 261 | C12: 167 | D12: 94 | E12: 2449096
A13: 苗栗縣 | B13: 697 | C13: 453 | D13: 244 | E13: 2576334
A14: 臺中縣 | B14: 805 | C14: 483 | D14: 322 | E14: 9038429
A15: 彰化縣 | B15: 2289 | C15: 1514 | D15: 775 | E15: 14131726
A16: 南投縣 | B16: 1132 | C16: 721 | D16: 411 | E16: 8967000
A17: 雲林縣 | B17: 1414 | C17: 935 | D17: 479 | E17: 21218383
A18: 嘉義縣 | B18: 117 | C18: 91 | D18: 26 | E18: 1348640
A19: 臺南縣 | B19: 1674 | C19: 945 | D19: 729 | E19: 10338604
... A33: 連江縣 | B33: 17 | C33: 10 | D33: 7 | E33: 245267
A34: 資料來源：直轄市、縣﹝市﹞政府。
A36: 核總計 | B36: =B8-#REF! -> #REF! | C36: =C8-#REF!-C30-C31-#REF! -> #REF! | D36: =D8-#REF!-D30-D31-#REF! -> #REF! | E36: =E8-#REF!-E30-E31-#REF! -> #REF!
A37: 核台灣 | C37: =#REF!-SUM(C9:C29) -> #REF! | D37: =#REF!-SUM(D9:D29) -> #REF! | E37: =#REF!-SUM(E9:E29) -> #REF!
A38: 核福建 | C38: =#REF!-C32-C33 -> #REF! | D38: =#REF!-D32-D33 -> #REF! | E38: =#REF!-E32-E33 -> #REF!
A39: 核年季 | C39: =C8-#REF! -> #REF! | D39: =D8-#REF! -> #REF! | E39: =E8-#REF! -> #REF!

Sheet 98
A1: 3.2-05 急難救助
A2: 98年, 2009
A4: 地區別 | B4: 急難現金救助
B5: 總人次 | E5: 總救助金額(元)
B6: 計 | C6: 男 | D6: 女
A8: 總計 | B8: 44129 | C8: 26891 | D8: 17238 | E8: 245764283
A9: 臺北縣 | B9: 6851 | C9: 4052 | D9: 2799 | E9: 68295484
A10: 宜蘭縣 | B10: 758 | C10: 443 | D10: 315 | E10: 2945781
A11: 桃園縣 | B11: 3735 | C11: 1971 | D11: 1764 | E11: 25938658
A12: 新竹縣 | B12: 306 | C12: 184 | D12: 122 | E12: 2383971
A13: 苗栗縣 | B13: 691 | C13: 444 | D13: 247 | E13: 2902162
A14: 臺中縣 | B14: 902 | C14: 513 | D14: 389 | E14: 11054692
A15: 彰化縣 | B15: 2841 | C15: 1714 | D15: 1127 | E15: 16542914
A16: 南投縣 | B16: 859 | C16: 535 | D16: 324 | E16: 7003160
A17: 雲林縣 | B17: 828 | C17: 528 | D17: 300 | E17: 8580801
A18: 嘉義縣 | B18: 134 | C18: 89 | D18: 45 | E18: 1413017
A19: 臺南縣 | B19: 1440 | C19: 804 | D19: 636 | E19: 8297335
... A33: 連江縣 | B33: 11 | C33: 7 | D33: 4 | E33: 181500
A34: 資料來源：直轄市、縣﹝市﹞政府。
A36: 核總計 | B36: =B8-#REF! -> #REF! | C36: =C8-#REF!-C30-C31-#REF! -> #REF! | D36: =D8-#REF!-D30-D31-#REF! -> #REF! | E36: =E8-#REF!-E30-E31-#REF! -> #REF!
A37: 核台灣 | C37: =#REF!-SUM(C9:C29) -> #REF! | D37: =#REF!-SUM(D9:D29) -> #REF! | E37: =#REF!-SUM(E9:E29) -> #REF!
A38: 核福建 | C38: =#REF!-C32-C33 -> #REF! | D38: =#REF!-D32-D33 -> #REF! | E38: =#REF!-E32-E33 -> #REF!
A39: 核年季 | C39: =C8-#REF! -> #REF! | D39: =D8-#REF! -> #REF! | E39: =E8-#REF! -> #REF!

Sheet 97
A1: 3.2-05 急難救助
A2: 97年, 2008
A4: 地區別 | B4: 急難現金救助
B5: 總人次 | E5: 總救助金額(元)
B6: 計 | C6: 男 | D6: 女
A8: 總計 | B8: 48074 | C8: 28720 | D8: 19354 | E8: 273655482
A9: 臺北縣 | B9: 6078 | C9: 3437 | D9: 2641 | E9: 28595388
A10: 宜蘭縣 | B10: 886 | C10: 547 | D10: 339 | E10: 4333572
A11: 桃園縣 | B11: 3064 | C11: 1509 | D11: 1555 | E11: 30798342
A12: 新竹縣 | B12: 354 | C12: 232 | D12: 122 | E12: 3130343
A13: 苗栗縣 | B13: 480 | C13: 332 | D13: 148 | E13: 2326172
A14: 臺中縣 | B14: 1195 | C14: 669 | D14: 526 | E14: 15112586
A15: 彰化縣 | B15: 3471 | C15: 2112 | D15: 1359 | E15: 23987617
A16: 南投縣 | B16: 1388 | C16: 791 | D16: 597 | E16: 9952610
A17: 雲林縣 | B17: 1831 | C17: 1125 | D17: 706 | E17: 18649686
A18: 嘉義縣 | B18: 350 | C18: 216 | D18: 134 | E18: 4448565
A19: 臺南縣 | B19: 1769 | C19: 972 | D19: 797 | E19: 13829974
... A33: 連江縣 | B33: 13 | C33: 10 | D33: 3 | E33: 169700
A34: 資料來源：直轄市、縣﹝市﹞政府。
A36: 核總計 | B36: =B8-#REF! -> #REF! | C36: =C8-#REF!-C30-C31-#REF! -> #REF! | D36: =D8-#REF!-D30-D31-#REF! -> #REF! | E36: =E8-#REF!-E30-E31-#REF! -> #REF!
A37: 核台灣 | C37: =#REF!-SUM(C9:C29) -> #REF! | D37: =#REF!-SUM(D9:D29) -> #REF! | E37: =#REF!-SUM(E9:E29) -> #REF!
A38: 核福建 | C38: =#REF!-C32-C33 -> #REF! | D38: =#REF!-D32-D33 -> #REF! | E38: =#REF!-E32-E33 -> #REF!
A39: 核年季 | C39: =C8-#REF! -> #REF! | D39: =D8-#REF! -> #REF! | E39: =E8-#REF! -> #REF!

Sheet 96
A1: 3.2-05 急難救助
A2: 96年, 2007
A4: 地區別 | B4: 急難現金救助
B5: 總人次 | E5: 總救助金額(元)
B6: 計 | C6: 男 | D6: 女
A8: 總計 | B8: 46666 | C8: 27528 | D8: 19138 | E8: 268450651
A9: 臺北縣 | B9: 5888 | C9: 3556 | D9: 2332 | E9: 27597286
A10: 宜蘭縣 | B10: 860 | C10: 506 | D10: 354 | E10: 3098726
A11: 桃園縣 | B11: 2598 | C11: 1327 | D11: 1271 | E11: 26289318
A12: 新竹縣 | B12: 286 | C12: 169 | D12: 117 | E12: 2392960
A13: 苗栗縣 | B13: 556 | C13: 387 | D13: 169 | E13: 2324284
A14: 臺中縣 | B14: 1213 | C14: 674 | D14: 539 | E14: 15245736
A15: 彰化縣 | B15: 3501 | C15: 2081 | D15: 1420 | E15: 23482264
A16: 南投縣 | B16: 1423 | C16: 763 | D16: 660 | E16: 11381390
A17: 雲林縣 | B17: 1611 | C17: 934 | D17: 677 | E17: 18208525
A18: 嘉義縣 | B18: 320 | C18: 194 | D18: 126 | E18: 4901617
A19: 臺南縣 | B19: 1622 | C19: 846 | D19: 776 | E19: 12443439
... A33: 連江縣 | B33: 10 | C33: 6 | D33: 4 | E33: 179200
A34: 資料來源：直轄市、縣﹝市﹞政府。
B36: =B8-#REF! -> #REF!
A37: 核年季 | C37: =C8-#REF! -> #REF! | D37: =D8-#REF! -> #REF! | E37: =E8-#REF! -> #REF!

Sheet 95
A1: 3.2-05 急難救助
A2: 95年, 2006
A4: 地區別 | B4: 急難現金救助
B5: 總人次 | E5: 總救助金額(元)
B6: 計 | C6: 男 | D6: 女
A8: 總計 | B8: 37094 | C8: 22722 | D8: 14372 | E8: 215961088
A9: 臺北縣 | B9: 6097 | C9: 3667 | D9: 2430 | E9: 31295267
A10: 宜蘭縣 | B10: 925 | C10: 558 | D10: 367 | E10: 3256693
A11: 桃園縣 | B11: 2458 | C11: 1256 | D11: 1202 | E11: 32935056
A12: 新竹縣 | B12: 283 | C12: 147 | D12: 136 | E12: 2955896
A13: 苗栗縣 | B13: 558 | C13: 388 | D13: 170 | E13: 2321476
A14: 臺中縣 | B14: 742 | C14: 433 | D14: 309 | E14: 9191031
A15: 彰化縣 | B15: 1550 | C15: 973 | D15: 577 | E15: 9502091
A16: 南投縣 | B16: 995 | C16: 628 | D16: 367 | E16: 9699860
A17: 雲林縣 | B17: 744 | C17: 442 | D17: 302 | E17: 6693427
A18: 嘉義縣 | B18: 145 | C18: 110 | D18: 35 | E18: 1506166
A19: 臺南縣 | B19: 1165 | C19: 734 | D19: 431 | E19: 6570809
... A33: 連江縣 | B33: 16 | C33: 7 | D33: 9 | E33: 304000
A34: 資料來源：直轄市、縣﹝市﹞政府。
B36: =B8-#REF! -> #REF!

Sheet 94
A1: 3.2-05 急難救助
A2: 94年, 2005
A4: 地區別 | B4: 急難現金救助
B5: 總人次 | E5: 總救助金額(元)
B6: 計 | C6: 男 | D6: 女
A8: 總計 | B8: 33960 | C8: 20958 | D8: 13002 | E8: 217938907
A9: 臺北縣 | B9: 5361 | C9: 3104 | D9: 2257 | E9: 31949460
A10: 宜蘭縣 | B10: 826 | C10: 480 | D10: 346 | E10: 2842387
A11: 桃園縣 | B11: 1965 | C11: 1030 | D11: 935 | E11: 26288243
A12: 新竹縣 | B12: 487 | C12: 320 | D12: 167 | E12: 4520566
A13: 苗栗縣 | B13: 520 | C13: 367 | D13: 153 | E13: 2326661
A14: 臺中縣 | B14: 932 | C14: 560 | D14: 372 | E14: 10823834
A15: 彰化縣 | B15: 1613 | C15: 1030 | D15: 583 | E15: 7858127
A16: 南投縣 | B16: 1026 | C16: 599 | D16: 427 | E16: 10617844
A17: 雲林縣 | B17: 782 | C17: 518 | D17: 264 | E17: 6821367
A18: 嘉義縣 | B18: 266 | C18: 207 | D18: 59 | E18: 2211510
A19: 臺南縣 | B19: 911 | C19: 616 | D19: 295 | E19: 5690705
... A33: 連江縣 | B33: 13 | C33: 9 | D33: 4 | E33: 220000
A34: 資料來源：直轄市、縣﹝市﹞政府。
B36: =B8-#REF! -> #REF!

Sheet 93
A1: 3.2-05 急難救助
A2: 93年, 2004
A4: 地區別 | B4: 急難現金救助
B5: 總人次 | E5: 總救助金額(元)
B6: 計 | C6: 男 | D6: 女
A8: 總計 | B8: 36134 | C8: 23054 | D8: 13080 | E8: 245920668
A9: 臺北縣 | B9: 5459 | C9: 3274 | D9: 2185 | E9: 29933405
A10: 宜蘭縣 | B10: 866 | C10: 567 | D10: 299 | E10: 3163020
A11: 桃園縣 | B11: 3586 | C11: 2858 | D11: 728 | E11: 20757792
A12: 新竹縣 | B12: 455 | C12: 329 | D12: 126 | E12: 4109828
A13: 苗栗縣 | B13: 592 | C13: 409 | D13: 183 | E13: 2323562
A14: 臺中縣 | B14: 622 | C14: 322 | D14: 300 | E14: 8787737
A15: 彰化縣 | B15: 1631 | C15: 981 | D15: 650 | E15: 9560790
A16: 南投縣 | B16: 1047 | C16: 632 | D16: 415 | E16: 11580100
A17: 雲林縣 | B17: 626 | C17: 348 | D17: 278 | E17: 6220000
A18: 嘉義縣 | B18: 240 | C18: 153 | D18: 87 | E18: 1928777
A19: 臺南縣 | B19: 948 | C19: 630 | D19: 318 | E19: 5682113
... A33: 連江縣 | B33: 12 | C33: 8 | D33: 4 | E33: 197000
A34: 資料來源：直轄市、縣﹝市﹞政府。
B36: =B8-#REF! -> #REF!

Sheet 92
A1: 3.2-05 急難救助
A2: 92年, 2003
A4: 地區別 | B4: 急難現金救助
B5: 總人次 | E5: 總救助金額(元)
B6: 計 | C6: 男 | D6: 女
A8: 總計 | B8: 35257 | C8: 22451 | D8: 12806 | E8: 199139830
A9: 臺北縣 | B9: 6308 | C9: 3741 | D9: 2567 | E9: 37639639
A10: 宜蘭縣 | B10: 850 | C10: 523 | D10: 327 | E10: 3037696
A11: 桃園縣 | B11: 3605 | C11: 2171 | D11: 1434 | E11: 17617164
A12: 新竹縣 | B12: 385 | C12: 301 | D12: 84 | E12: 3109562
A13: 苗栗縣 | B13: 539 | C13: 354 | D13: 185 | E13: 2302398
A14: 臺中縣 | B14: 685 | C14: 380 | D14: 305 | E14: 9230869
A15: 彰化縣 | B15: 1818 | C15: 1034 | D15: 784 | E15: 8093368
A16: 南投縣 | B16: 1045 | C16: 635 | D16: 410 | E16: 12331965
A17: 雲林縣 | B17: 634 | C17: 361 | D17: 273 | E17: 6497000
A18: 嘉義縣 | B18: 315 | C18: 219 | D18: 96 | E18: 2474566
A19: 臺南縣 | B19: 978 | C19: 691 | D19: 287 | E19: 5687787
... A33: 連江縣 | B33: 15 | C33: 11 | D33: 4 | E33: 320000
A34: 資料來源：直轄市、縣﹝市﹞政府。
B36: =B8-#REF! -> #REF!
