Workbook

Sheet 歷年
A1: 3.2-04 災害救助
A2: 92-113年
A4: 地區別 | B4: 災害救助
B5: 收容所 | D5: 受災人數 | H5: 住屋毀損安遷救助 | L5: 財務受損影響生計者 (戶) | N5: 總救助金額(元)
B6: 所數 | C6: 臨時收容災民 | D6: 死亡 | E6: 失蹤 | F6: 重傷 | G6: 其他 | H6: 戶數 | J6: 人數
I7: 原住民 | K7: 原住民 | M7: 原住民
A8: 92年, 2003 | B8: ... | C8: ='92'!B8 -> 43 | D8: ='92'!C8 -> 130 | E8: ='92'!D8 -> 0 | F8: ='92'!E8 -> 11 | G8: ='92'!F8 -> 251 | H8: ='92'!G8 -> 1095 | I8: ... | J8: ='92'!H8 -> 3253 | K8: ... | L8: ='92'!I8 -> 358 | M8: ... | N8: ='92'!J8 -> 81288200
A9: 93年, 2004 | B9: ... | C9: ='93'!B8 -> 953 | D9: ='93'!C8 -> 162 | E9: ='93'!D8 -> 30 | F9: ='93'!E8 -> 22 | G9: ='93'!F8 -> 6815 | H9: ='93'!G8 -> 1433 | I9: ... | J9: ='93'!H8 -> 3814 | K9: ... | L9: ='93'!I8 -> 36826 | M9: ... | N9: ='93'!J8 -> 662711598
A10: 94年, 2005 | B10: ... | C10: ='94'!B8 -> 18647 | D10: ='94'!C8 -> 157 | E10: ='94'!D8 -> 9 | F10: ='94'!E8 -> 10 | G10: ='94'!F8 -> 0 | H10: ='94'!G8 -> 1201 | I10: ... | J10: ='94'!H8 -> 3151 | K10: ... | L10: ='94'!I8 -> 49281 | M10: ... | N10: ='94'!J8 -> 547738500
A11: 95年, 2006 | B11: ... | C11: ='95'!B8 -> 149 | D11: ='95'!C8 -> 115 | E11: ='95'!D8 -> 0 | F11: ='95'!E8 -> 9 | G11: ='95'!F8 -> 1107 | H11: ='95'!G8 -> 830 | I11: ... | J11: ='95'!H8 -> 2412 | K11: ... | L11: ='95'!I8 -> 5693 | M11: ... | N11: ='95'!J8 -> 84219438
A12: 96年, 2007 | B12: ... | C12: ='96'!B8 -> 268 | D12: ='96'!C8 -> 102 | E12: ='96'!D8 -> 1 | F12: ='96'!E8 -> 10 | G12: ='96'!F8 -> 20 | H12: ='96'!G8 -> 679 | I12: ... | J12: ='96'!H8 -> 1841 | K12: ... | L12: ='96'!I8 -> 14765 | M12: ... | N12: ='96'!J8 -> 132553485
A13: 97年, 2008 | B13: ... | C13: ='97'!B8 -> 1036 | D13: ='97'!C8 -> 111 | E13: ='97'!D8 -> 13 | F13: ='97'!E8 -> 4 | G13: ='97'!F8 -> 768 | H13: ='97'!G8 -> 648 | I13: ... | J13: ='97'!H8 -> 1724 | K13: ... | L13: ='97'!I8 -> 17315 | M13: ... | N13: ='97'!J8 -> 188700276
A14: 98年, 2009 | B14: ... | C14: ='98'!B8 -> 7427 | D14: ='98'!C8 -> 286 | E14: ='98'!D8 -> 404 | F14: ='98'!E8 -> 10 | G14: ='98'!F8 -> 19642 | H14: ='98'!G8 -> 2098 | I14: ... | J14: ='98'!H8 -> 5884 | K14: ... | L14: ='98'!I8 -> 112261 | M14: ... | N14: ='98'!J8 -> 821797601
A15: 99年 ,2010 | B15: ... | C15: ='99'!B8 -> 4342 | D15: ='99'!C8 -> 61 | E15: ='99'!D8 -> 0 | F15: ='99'!E8 -> 2 | G15: ='99'!F8 -> 16250 | H15: ='99'!G8 -> 888 | I15: ... | J15: ='99'!H8 -> 2355 | K15: ... | L15: ='99'!I8 -> 54759 | M15: ... | N15: ='99'!J8 -> 792256996
A16: 100年, 2011 | B16: ='100'!B8 -> 26 | C16: ='100'!C8 -> 939 | D16: ='100'!D8 -> 73 | E16: ='100'!E8 -> 1 | F16: ='100'!F8 -> 12 | G16: ='100'!G8 -> 33 | H16: ='100'!H8 -> 407 | I16: ... | J16: ='100'!I8 -> 1145 | K16: ... | L16: ='100'!J8 -> 836 | M16: ... | N16: ='100'!K8 -> 46722902
A17: 101年, 2012 | B17: ='101'!B8 -> 112 | C17: ='101'!C8 -> 4594 | D17: ='101'!D8 -> 115 | E17: ='101'!E8 -> 0 | F17: ='101'!F8 -> 2 | G17: ='101'!G8 -> 36 | H17: ='101'!H8 -> 533 | I17: ='101'!I8 -> 106 | ... N17: ='101'!N8 -> 173625676
A18: 102年, 2013 | B18: ='102'!B8 -> 288 | C18: ='102'!C8 -> 7177 | D18: ='102'!D8 -> 84 | E18: ='102'!E8 -> 0 | F18: ='102'!F8 -> 13 | G18: ='102'!G8 -> 7 | H18: ='102'!H8 -> 475 | I18: ='102'!I8 -> 42 | ... N18: ='102'!N8 -> 88534273
A19: 103年, 2014 | B19: 100 | C19: 3529 | D19: 98 | E19: 1 | F19: 7 | G19: 7 | H19: 351 | I19: 26 | J19: 984 | K19: 80 | L19: 344 | M19: 5 | N19: 48160640
A20: 104年, 2015 | B20: 103 | C20: 1577 | D20: 87 | E20: 4 | F20: 11 | G20: 274 | H20: 726 | I20: 43 | J20: 1913 | K20: 139 | L20: 900 | M20: 85 | N20: 73374761
A22: 地區別 | B22: 災害救助
B23: 收容所 | D23: 受災人數 | H23: 住屋毀損安遷救助 | L23: 財務受損影響生計者 (戶) | N23: 總救助金額(元)
B24: 所數 | C24: 臨時收容災民 | D24: 死亡 | E24: 失蹤 | F24: 重傷 | G24: 其他 | H24: 戶數 | J24: 人數
H25: 一般 | I25: 原住民 | J25: 一般 | K25: 原住民 | L25: 一般 | M25: 原住民
A26: 105年, 2016 | B26: 155 | C26: 2245 | D26: 213 | E26: 0 | F26: 17 | G26: 168 | H26: 1504 | I26: 66 | J26: 3597 | K26: 170 | L26: 4023 | M26: 17 | N26: 143700075
A27: 106年, 2017 | B27: 187 | C27: 3566 | D27: 85 | E27: 2 | F27: 13 | G27: 188 | H27: 340 | I27: 24 | J27: 876 | K27: 78 | L27: 2725 | M27: 11 | N27: 61704610
A28: 107年, 2018 | B28: 71 | C28: 2077 | D28: 94 | E28: 1 | F28: 17 | G28: 105 | H28: 432 | I28: 12 | J28: 1055 | K28: 29 | L28: 7267 | M28: 3 | N28: 115752466
A29: 108年, 2019 | B29: 57 | C29: 426 | D29: 79 | E29: 0 | F29: 8 | G29: 30 | H29: 279 | I29: 17 | J29: 771 | K29: 50 | L29: 1567 | M29: 7 | N29: 49591708
A30: 109年, 2020 | B30: 42 | C30: 156 | D30: 90 | E30: 0 | F30: 18 | G30: 0 | H30: 242 | I30: 18 | J30: 624 | K30: 90 | L30: 108 | M30: 8 | N30: 34773436
A31: 110年, 2021 | B31: 111 | C31: 1169 | D31: 97 | E31: 1 | F31: 5 | G31: 96 | H31: 373 | I31: 16 | J31: 1043 | K31: 41 | L31: 368 | M31: 7 | N31: 39342492
A32: 111年, 2022 | B32: 76 | C32: 856 | D32: 95 | E32: 0 | F32: 10 | G32: 101 | H32: 290 | I32: 28 | J32: 771 | K32: 81 | L32: 107 | M32: 9 | N32: 36987800
A33: 112年, 2023 | B33: 271 | C33: 3240 | D33: 95 | E33: 0 | F33: 10 | G33: 585 | H33: 488 | I33: 212 | J33: 1222 | K33: 472 | L33: 488 | M33: 1580 | N33: 69915483
A34: 113年, 2024 | B34: 463 | C34: 8639 | D34: 143 | E34: 2 | F34: 28 | G34: 890 | H34: 1739 | I34: 319 | J34: 3910 | K34: 686 | L34: 25047 | M34: 6 | N34: 516581621
A35: 資料來源：直轄市、縣﹝市﹞政府。
A36: 說明：1.原住民戶定義為：(1)戶長為原住民者視為原住民戶，以戶長性別統計。(2)戶長非原住民，如戶內原住民人口數較多時則判定為原住民戶。如原住民與非原住民人口數相等時， 則以年齡較長者是否具原住民身分判定為原住民戶或非原住民戶。
A37: 2.原住民人數定義為：依原住民身分法，具原住民身分者即予以統計，而不論其是否隸屬於原住民戶。

Sheet 113
A1: 3.2-04 災害救助
A2: 113年, 2024
A4: 地區別 | B4: 災害救助
B5: 收容所 | D5: 受災人數 | H5: 住屋毀損安遷救助 | L5: 財務受損影響生計者 (戶) | N5: 總救助金額(元)
B6: 所數 | C6: 臨時收容災民 | D6: 死亡 | E6: 失蹤 | F6: 重傷 | G6: 其他 | H6: 戶數 | J6: 人數
H7: 一般 | I7: 原住民 | J7: 一般 | K7: 原住民 | L7: 一般 | M7: 原住民
A8: 總計 | B8: 463 | C8: 8639 | D8: 143 | E8: 2 | F8: 28 | G8: 890 | H8: 1739 | I8: 319 | J8: 3910 | K8: 686 | L8: 25047 | M8: 6 | N8: 516581621
A9: 新北市 | B9: 98 | C9: 1401 | D9: 19 | E9: 0 | F9: 6 | G9: 78 | H9: 214 | I9: 10 | J9: 562 | K9: 23 | L9: 1083 | M9: 0 | N9: 26575000
A10: 臺北市 | B10: 3 | C10: 35 | D10: 8 | E10: 0 | F10: 2 | G10: 35 | H10: 45 | I10: 0 | J10: 95 | K10: 0 | L10: 14 | M10: 0 | N10: 3840000
A11: 桃園市 | B11: 3 | C11: 5 | D11: 7 | E11: 0 | F11: 0 | G11: 0 | H11: 76 | I11: 2 | J11: 194 | K11: 4 | L11: 1 | M11: 0 | N11: 5360000
A12: 臺中市 | B12: 57 | C12: 268 | D12: 17 | E12: 0 | F12: 4 | G12: 0 | H12: 54 | I12: 0 | J12: 123 | K12: 0 | L12: 18 | M12: 0 | N12: 8206200
A13: 臺南市 | B13: 61 | C13: 804 | D13: 17 | E13: 0 | F13: 0 | G13: 0 | H13: 26 | I13: 0 | J13: 60 | K13: 0 | L13: 8405 | M13: 0 | N13: 176630500
A14: 高雄市 | B14: 51 | C14: 1316 | D14: 17 | E14: 0 | F14: 5 | G14: 0 | H14: 102 | I14: 0 | J14: 205 | K14: 0 | L14: 10534 | M14: 0 | N14: 165995000
A15: 宜蘭縣 | B15: 0 | C15: 0 | D15: 4 | E15: 0 | F15: 0 | G15: 0 | H15: 7 | I15: 0 | J15: 8 | K15: 0 | L15: 23 | M15: 1 | N15: 1440000
A16: 新竹縣 | B16: 25 | C16: 421 | D16: 2 | E16: 0 | F16: 0 | G16: 0 | H16: 6 | I16: 3 | J16: 19 | K16: 19 | L16: 1 | M16: 0 | N16: 620000
A17: 苗栗縣 | B17: 0 | C17: 0 | D17: 5 | E17: 0 | F17: 0 | G17: 0 | H17: 11 | I17: 0 | J17: 31 | K17: 0 | L17: 0 | M17: 0 | N17: 1480000
A18: 彰化縣 | B18: 5 | C18: 60 | D18: 7 | E18: 0 | F18: 1 | G18: 0 | H18: 1 | I18: 0 | J18: 2 | K18: 0 | L18: 3031 | M18: 0 | N18: 20365000
A19: 南投縣 | B19: 12 | C19: 40 | D19: 1 | E19: 0 | F19: 0 | G19: 0 | H19: 30 | I19: 8 | J19: 59 | K19: 16 | L19: 71 | M19: 0 | N19: 2505000
... A30: 連江縣 | B30: 0 | C30: 0 | D30: 0 | E30: 0 | F30: 0 | G30: 0 | H30: 0 | I30: 0 | J30: 0 | K30: 0 | L30: 0 | M30: 0 | N30: 0
A32: 資料來源：直轄市、縣﹝市﹞政府。
A33: 說明：1.原住民戶定義為：(1)戶長為原住民者視為原住民戶，以戶長性別統計。(2)戶長非原住民，如戶內原住民人口數較多時則判定為原住民戶。如原住民與非原住民人口數相等時， 則以年齡較長者是否具原住民身分判定為原住民戶或非原住民戶。
A34: 2.原住民人數定義為：依原住民身分法，具原住民身分者即予以統計，而不論其是否隸屬於原住民戶。

Sheet 112
A1: 3.2-04 災害救助
A2: 112年, 2023
A4: 地區別 | B4: 災害救助
B5: 收容所 | D5: 受災人數 | H5: 住屋毀損安遷救助 | L5: 財務受損影響生計者 (戶) | N5: 總救助金額(元)
B6: 所數 | C6: 臨時收容災民 | D6: 死亡 | E6: 失蹤 | F6: 重傷 | G6: 其他 | H6: 戶數 | J6: 人數
H7: 一般 | I7: 原住民 | J7: 一般 | K7: 原住民 | L7: 一般 | M7: 原住民
A8: 總計 | B8: 271 | C8: 3240 | D8: 95 | E8: 0 | F8: 10 | G8: 585 | H8: 488 | I8: 212 | J8: 1222 | K8: 472 | L8: 488 | M8: 1580 | N8: 69915483
A9: 新北市 | B9: 33 | C9: 137 | D9: 11 | E9: 0 | F9: 1 | G9: 0 | H9: 36 | I9: 0 | J9: 86 | K9: 0 | L9: 1 | M9: 0 | N9: 4130000
A10: 臺北市 | B10: 0 | C10: 0 | D10: 8 | E10: 0 | F10: 4 | G10: 0 | H10: 25 | I10: 0 | J10: 57 | K10: 0 | L10: 0 | M10: 0 | N10: 3140000
A11: 桃園市 | B11: 0 | C11: 0 | D11: 10 | E11: 0 | F11: 0 | G11: 0 | H11: 37 | I11: 0 | J11: 107 | K11: 0 | L11: 0 | M11: 0 | N11: 3940000
A12: 臺中市 | B12: 47 | C12: 221 | D12: 21 | E12: 0 | F12: 1 | G12: 0 | H12: 48 | I12: 3 | J12: 140 | K12: 11 | L12: 0 | M12: 0 | N12: 8465800
A13: 臺南市 | B13: 8 | C13: 43 | D13: 3 | E13: 0 | F13: 0 | G13: 0 | H13: 17 | I13: 0 | J13: 49 | K13: 0 | L13: 22 | M13: 0 | N13: 1690000
A14: 高雄市 | B14: 0 | C14: 0 | D14: 7 | E14: 0 | F14: 0 | G14: 0 | H14: 27 | I14: 0 | J14: 54 | K14: 0 | L14: 0 | M14: 0 | N14: 2470000
A15: 宜蘭縣 | B15: 0 | C15: 0 | D15: 4 | E15: 0 | F15: 0 | G15: 0 | H15: 8 | I15: 1 | J15: 24 | K15: 6 | L15: 39 | M15: 3 | N15: 2180000
A16: 新竹縣 | B16: 0 | C16: 0 | D16: 0 | E16: 0 | F16: 1 | G16: 338 | H16: 78 | I16: 0 | J16: 249 | K16: 0 | L16: 40 | M16: 0 | N16: 12558900
A17: 苗栗縣 | B17: 0 | C17: 0 | D17: 4 | E17: 0 | F17: 0 | G17: 0 | H17: 14 | I17: 0 | J17: 36 | K17: 0 | L17: 12 | M17: 0 | N17: 1580000
A18: 彰化縣 | B18: 0 | C18: 0 | D18: 6 | E18: 0 | F18: 0 | G18: 0 | H18: 5 | I18: 0 | J18: 12 | K18: 0 | L18: 79 | M18: 0 | N18: 2160000
A19: 南投縣 | B19: 32 | C19: 660 | D19: 3 | E19: 0 | F19: 0 | G19: 0 | H19: 19 | I19: 22 | J19: 39 | K19: 59 | L19: 13 | M19: 104 | N19: 4661000
... A30: 連江縣 | B30: 0 | C30: 0 | D30: 0 | E30: 0 | F30: 0 | G30: 0 | H30: 0 | I30: 0 | J30: 0 | K30: 0 | L30: 0 | M30: 0 | N30: 0
A32: 資料來源：直轄市、縣﹝市﹞政府。
A33: 說明：1.原住民戶定義為：(1)戶長為原住民者視為原住民戶，以戶長性別統計。(2)戶長非原住民，如戶內原住民人口數較多時則判定為原住民戶。如原住民與非原住民人口數相等時， 則以年齡較長者是否具原住民身分判定為原住民戶或非原住民戶。
A34: 2.原住民人數定義為：依原住民身分法，具原住民身分者即予以統計，而不論其是否隸屬於原住民戶。

Sheet 111
A1: 3.2-04 災害救助
A2: 111年, 2022
A4: 地區別 | B4: 災害救助
B5: 收容所 | D5: 受災人數 | H5: 住屋毀損安遷救助 | L5: 財務受損影響生計者 (戶) | N5: 總救助金額(元)
B6: 所數 | C6: 臨時收容災民 | D6: 死亡 | E6: 失蹤 | F6: 重傷 | G6: 其他 | H6: 戶數 | J6: 人數
H7: 一般 | I7: 原住民 | J7: 一般 | K7: 原住民 | L7: 一般 | M7: 原住民
A8: 總計 | B8: 76 | C8: 856 | D8: 95 | E8: 0 | F8: 10 | G8: 101 | H8: 290 | I8: 28 | J8: 771 | K8: 81 | L8: 107 | M8: 9 | N8: 36987800
A9: 新北市 | B9: 28 | C9: 329 | D9: 14 | E9: 0 | F9: 5 | G9: 0 | H9: 21 | I9: 1 | J9: 64 | K9: 2 | L9: 11 | M9: 0 | N9: 4800000
A10: 臺北市 | B10: 0 | C10: 0 | D10: 0 | E10: 0 | F10: 0 | G10: 0 | H10: 17 | I10: 0 | J10: 41 | K10: 0 | L10: 0 | M10: 0 | N10: 820000
A11: 桃園市 | B11: 0 | C11: 0 | D11: 9 | E11: 0 | F11: 0 | G11: 0 | H11: 38 | I11: 0 | J11: 126 | K11: 0 | L11: 0 | M11: 0 | N11: 4240000
A12: 臺中市 | B12: 27 | C12: 167 | D12: 13 | E12: 0 | F12: 1 | G12: 0 | H12: 22 | I12: 0 | J12: 60 | K12: 0 | L12: 1 | M12: 0 | N12: 4675800
A13: 臺南市 | B13: 0 | C13: 0 | D13: 5 | E13: 0 | F13: 0 | G13: 0 | H13: 12 | I13: 0 | J13: 23 | K13: 0 | L13: 0 | M13: 0 | N13: 1460000
A14: 高雄市 | B14: 0 | C14: 0 | D14: 11 | E14: 0 | F14: 0 | G14: 0 | H14: 33 | I14: 0 | J14: 75 | K14: 0 | L14: 1 | M14: 0 | N14: 3710000
A15: 宜蘭縣 | B15: 0 | C15: 0 | D15: 0 | E15: 0 | F15: 0 | G15: 0 | H15: 8 | I15: 4 | J15: 21 | K15: 15 | L15: 20 | M15: 5 | N15: 1180000
A16: 新竹縣 | B16: 14 | C16: 221 | D16: 0 | E16: 0 | F16: 0 | G16: 0 | H16: 2 | I16: 2 | J16: 7 | K16: 9 | L16: 0 | M16: 0 | N16: 300000
A17: 苗栗縣 | B17: 0 | C17: 0 | D17: 2 | E17: 0 | F17: 0 | G17: 0 | H17: 15 | I17: 1 | J17: 45 | K17: 3 | L17: 4 | M17: 0 | N17: 1380000
A18: 彰化縣 | B18: 0 | C18: 0 | D18: 10 | E18: 0 | F18: 2 | G18: 99 | H18: 1 | I18: 0 | J18: 5 | K18: 0 | L18: 41 | M18: 0 | N18: 2825000
A19: 南投縣 | B19: 0 | C19: 0 | D19: 0 | E19: 0 | F19: 0 | G19: 0 | H19: 12 | I19: 2 | J19: 27 | K19: 8 | L19: 0 | M19: 0 | N19: 900000
... A30: 連江縣 | B30: 0 | C30: 0 | D30: 0 | E30: 0 | F30: 0 | G30: 0 | H30: 0 | I30: 0 | J30: 0 | K30: 0 | L30: 0 | M30: 0 | N30: 0
A32: 資料來源：直轄市、縣﹝市﹞政府。
A33: 說明：1.原住民戶定義為：(1)戶長為原住民者視為原住民戶，以戶長性別統計。(2)戶長非原住民，如戶內原住民人口數較多時則判定為原住民戶。如原住民與非原住民人口數相等時， 則以年齡較長者是否具原住民身分判定為原住民戶或非原住民戶。
A34: 2.原住民人數定義為：依原住民身分法，具原住民身分者即予以統計，而不論其是否隸屬於原住民戶。

Sheet 110
A1: 3.2-04 災害救助
A2: 110年, 2021
A4: 地區別 | B4: 災害救助
B5: 收容所 | D5: 受災人數 | H5: 住屋毀損安遷救助 | L5: 財務受損影響生計者 (戶) | N5: 總救助金額(元)
B6: 所數 | C6: 臨時收容災民 | D6: 死亡 | E6: 失蹤 | F6: 重傷 | G6: 其他 | H6: 戶數 | J6: 人數
H7: 一般 | I7: 原住民 | J7: 一般 | K7: 原住民 | L7: 一般 | M7: 原住民
A8: 總計 | B8: 111 | C8: 1169 | D8: 97 | E8: 1 | F8: 5 | G8: 96 | H8: 373 | I8: 16 | J8: 1043 | K8: 41 | L8: 368 | M8: 7 | N8: 39342492
A9: 新北市 | B9: 13 | C9: 144 | D9: 18 | E9: 0 | F9: 2 | G9: 53 | H9: 30 | I9: 0 | J9: 85 | K9: 0 | L9: 2 | M9: 0 | N9: 5500000
A10: 臺北市 | B10: 0 | C10: 0 | D10: 9 | E10: 0 | F10: 1 | G10: 0 | H10: 16 | I10: 0 | J10: 44 | K10: 0 | L10: 75 | M10: 0 | N10: 3800000
A11: 桃園市 | B11: 0 | C11: 0 | D11: 8 | E11: 0 | F11: 0 | G11: 1 | H11: 103 | I11: 1 | J11: 321 | K11: 5 | L11: 0 | M11: 0 | N11: 4250000
A12: 臺中市 | B12: 40 | C12: 187 | D12: 12 | E12: 0 | F12: 2 | G12: 7 | H12: 37 | I12: 1 | J12: 105 | K12: 1 | L12: 2 | M12: 0 | N12: 5647600
A13: 臺南市 | B13: 3 | C13: 20 | D13: 4 | E13: 0 | F13: 0 | G13: 0 | H13: 8 | I13: 0 | J13: 33 | K13: 0 | L13: 13 | M13: 0 | N13: 1525000
A14: 高雄市 | B14: 0 | C14: 0 | D14: 14 | E14: 1 | F14: 0 | G14: 0 | H14: 35 | I14: 0 | J14: 65 | K14: 0 | L14: 44 | M14: 0 | N14: 4945000
A15: 宜蘭縣 | B15: 0 | C15: 0 | D15: 2 | E15: 0 | F15: 0 | G15: 0 | H15: 12 | I15: 0 | J15: 40 | K15: 0 | L15: 36 | M15: 2 | N15: 1920000
A16: 新竹縣 | B16: 13 | C16: 124 | D16: 0 | E16: 0 | F16: 0 | G16: 0 | H16: 5 | I16: 1 | J16: 12 | K16: 2 | L16: 1 | M16: 0 | N16: 280000
A17: 苗栗縣 | B17: 0 | C17: 0 | D17: 1 | E17: 0 | F17: 0 | G17: 0 | H17: 27 | I17: 0 | J17: 87 | K17: 0 | L17: 0 | M17: 0 | N17: 1940000
A18: 彰化縣 | B18: 0 | C18: 0 | D18: 1 | E18: 0 | F18: 0 | G18: 13 | H18: 20 | I18: 0 | J18: 54 | K18: 0 | L18: 49 | M18: 0 | N18: 870000
A19: 南投縣 | B19: 0 | C19: 0 | D19: 3 | E19: 0 | F19: 0 | G19: 10 | H19: 10 | I19: 4 | J19: 20 | K19: 4 | L19: 3 | M19: 0 | N19: 1040000
... A30: 連江縣 | B30: 0 | C30: 0 | D30: 0 | E30: 0 | F30: 0 | G30: 0 | H30: 2 | I30: 0 | J30: 3 | K30: 0 | L30: 4 | M30: 0 | N30: 74000
A32: 資料來源：直轄市、縣﹝市﹞政府。
A33: 說明：1.原住民戶定義為：(1)戶長為原住民者視為原住民戶，以戶長性別統計。(2)戶長非原住民，如戶內原住民人口數較多時則判定為原住民戶。如原住民與非原住民人口數相等時， 則以年齡較長者是否具原住民身分判定為原住民戶或非原住民戶。
A34: 2.原住民人數定義為：依原住民身分法，具原住民身分者即予以統計，而不論其是否隸屬於原住民戶。

Sheet 109
A1: 3.2-04 災害救助
A2: 109年, 2020
A4: 地區別 | B4: 災害救助
B5: 收容所 | D5: 受災人數 | H5: 住屋毀損安遷救助 | L5: 財務受損影響生計者 (戶) | N5: 總救助金額(元)
B6: 所數 | C6: 臨時收容災民 | D6: 死亡 | E6: 失蹤 | F6: 重傷 | G6: 其他 | H6: 戶數 | J6: 人數
H7: 一般 | I7: 原住民 | J7: 一般 | K7: 原住民 | L7: 一般 | M7: 原住民
A8: 總計 | B8: 42 | C8: 156 | D8: 90 | E8: 0 | F8: 18 | G8: 0 | H8: 242 | I8: 18 | J8: 624 | K8: 90 | L8: 108 | M8: 8 | N8: 34773436
A9: 新北市 | B9: 3 | C9: 0 | D9: 5 | E9: 0 | F9: 4 | G9: 0 | H9: 32 | I9: 0 | J9: 92 | K9: 1 | L9: 0 | M9: 0 | N9: 3260000
A10: 臺北市 | B10: 0 | C10: 0 | D10: 20 | E10: 0 | F10: 2 | G10: 0 | H10: 18 | I10: 0 | J10: 32 | K10: 0 | L10: 1 | M10: 0 | N10: 4850000
A11: 桃園市 | B11: 0 | C11: 0 | D11: 3 | E11: 0 | F11: 4 | G11: 0 | H11: 26 | I11: 4 | J11: 86 | K11: 15 | L11: 0 | M11: 0 | N11: 2620000
A12: 臺中市 | B12: 38 | C12: 154 | D12: 9 | E12: 0 | F12: 6 | G12: 0 | H12: 47 | I12: 0 | J12: 108 | K12: 0 | L12: 0 | M12: 0 | N12: 5145600
A13: 臺南市 | B13: 0 | C13: 0 | D13: 11 | E13: 0 | F13: 0 | G13: 0 | H13: 1 | I13: 0 | J13: 16 | K13: 0 | L13: 0 | M13: 0 | N13: 2505000
A14: 高雄市 | B14: 0 | C14: 0 | D14: 12 | E14: 0 | F14: 1 | G14: 0 | H14: 29 | I14: 0 | J14: 69 | K14: 15 | L14: 24 | M14: 3 | N14: 4315000
A15: 宜蘭縣 | B15: 0 | C15: 0 | D15: 1 | E15: 0 | F15: 0 | G15: 0 | H15: 3 | I15: 2 | J15: 20 | K15: 3 | L15: 26 | M15: 3 | N15: 1080000
A16: 新竹縣 | B16: 0 | C16: 0 | D16: 2 | E16: 0 | F16: 0 | G16: 0 | H16: 8 | I16: 0 | J16: 22 | K16: 0 | L16: 0 | M16: 0 | N16: 420000
A17: 苗栗縣 | B17: 0 | C17: 0 | D17: 2 | E17: 0 | F17: 0 | G17: 0 | H17: 12 | I17: 0 | J17: 36 | K17: 0 | L17: 5 | M17: 0 | N17: 1120000
A18: 彰化縣 | B18: 0 | C18: 0 | D18: 5 | E18: 0 | F18: 0 | G18: 0 | H18: 3 | I18: 0 | J18: 5 | K18: 0 | L18: 26 | M18: 0 | N18: 1480000
A19: 南投縣 | B19: 0 | C19: 0 | D19: 2 | E19: 0 | F19: 0 | G19: 0 | H19: 10 | I19: 1 | J19: 26 | K19: 11 | L19: 0 | M19: 0 | N19: 1020000
... A30: 連江縣 | B30: 0 | C30: 0 | D30: 0 | E30: 0 | F30: 0 | G30: 0 | H30: 1 | I30: 0 | J30: 3 | K30: 0 | L30: 5 | M30: 0 | N30: 110000
A32: 資料來源：直轄市、縣﹝市﹞政府。
A33: 說明：1.原住民戶定義為：(1)戶長為原住民者視為原住民戶，以戶長性別統計。(2)戶長非原住民，如戶內原住民人口數較多時則判定為原住民戶。如原住民與非原住民人口數相等時， 則以年齡較長者是否具原住民身分判定為原住民戶或非原住民戶。
A34: 2.原住民人數定義為：依原住民身分法，具原住民身分者即予以統計，而不論其是否隸屬於原住民戶。

Sheet 108
A1: 3.2-04 災害救助
A2: 108年, 2019
A4: 地區別 | B4: 災害救助
B5: 收容所 | D5: 受災人數 | H5: 住屋毀損安遷救助 | L5: 財務受損影響生計者 (戶) | N5: 總救助金額(元)
B6: 所數 | C6: 臨時收容災民 | D6: 死亡 | E6: 失蹤 | F6: 重傷 | G6: 其他 | H6: 戶數 | J6: 人數
H7: 一般 | I7: 原住民 | J7: 一般 | K7: 原住民 | L7: 一般 | M7: 原住民
A8: 總計 | B8: 57 | C8: 426 | D8: 79 | E8: 0 | F8: 8 | G8: 30 | H8: 279 | I8: 17 | J8: 771 | K8: 50 | L8: 1567 | M8: 7 | N8: 49591708
A9: 新北市 | B9: 10 | C9: 90 | D9: 8 | E9: 0 | F9: 2 | G9: 20 | H9: 26 | I9: 4 | J9: 70 | K9: 5 | L9: 10 | M9: 0 | N9: 3090000
A10: 臺北市 | B10: 1 | C10: 6 | D10: 9 | E10: 0 | F10: 2 | G10: 0 | H10: 28 | I10: 0 | J10: 75 | K10: 0 | L10: 5 | M10: 0 | N10: 3573708
A11: 桃園市 | B11: 0 | C11: 0 | D11: 4 | E11: 0 | F11: 1 | G11: 0 | H11: 17 | I11: 1 | J11: 54 | K11: 6 | L11: 42 | M11: 0 | N11: 2760000
A12: 臺中市 | B12: 22 | C12: 98 | D12: 3 | E12: 0 | F12: 3 | G12: 7 | H12: 29 | I12: 1 | J12: 84 | K12: 5 | L12: 106 | M12: 0 | N12: 4709600
A13: 臺南市 | B13: 0 | C13: 0 | D13: 15 | E13: 0 | F13: 0 | G13: 0 | H13: 22 | I13: 1 | J13: 61 | K13: 3 | L13: 225 | M13: 0 | N13: 5385000
A14: 高雄市 | B14: 0 | C14: 0 | D14: 9 | E14: 0 | F14: 0 | G14: 0 | H14: 28 | I14: 0 | J14: 85 | K14: 0 | L14: 423 | M14: 0 | N14: 9845000
A15: 宜蘭縣 | B15: 0 | C15: 0 | D15: 8 | E15: 0 | F15: 0 | G15: 0 | H15: 20 | I15: 1 | J15: 43 | K15: 7 | L15: 40 | M15: 3 | N15: 3293400
A16: 新竹縣 | B16: 0 | C16: 0 | D16: 0 | E16: 0 | F16: 0 | G16: 0 | H16: 7 | I16: 0 | J16: 23 | K16: 0 | L16: 123 | M16: 0 | N16: 1660000
A17: 苗栗縣 | B17: 0 | C17: 0 | D17: 1 | E17: 0 | F17: 0 | G17: 0 | H17: 12 | I17: 0 | J17: 39 | K17: 0 | L17: 0 | M17: 0 | N17: 980000
A18: 彰化縣 | B18: 0 | C18: 0 | D18: 4 | E18: 0 | F18: 0 | G18: 0 | H18: 12 | I18: 0 | J18: 38 | K18: 0 | L18: 4 | M18: 0 | N18: 1610000
A19: 南投縣 | B19: 1 | C19: 55 | D19: 2 | E19: 0 | F19: 0 | G19: 0 | H19: 13 | I19: 2 | J19: 39 | K19: 7 | L19: 1 | M19: 0 | N19: 1280000
... A30: 連江縣 | B30: 0 | C30: 0 | D30: 0 | E30: 0 | F30: 0 | G30: 0 | H30: 0 | I30: 0 | J30: 0 | K30: 0 | L30: 0 | M30: 0 | N30: 0
A32: 資料來源：直轄市、縣﹝市﹞政府。
A33: 說明：1.原住民戶定義為：(1)戶長為原住民者視為原住民戶，以戶長性別統計。(2)戶長非原住民，如戶內原住民人口數較多時則判定為原住民戶。如原住民與非原住民人口數相等時， 則以年齡較長者是否具原住民身分判定為原住民戶或非原住民戶。
A34: 2.原住民人數定義為：依原住民身分法，具原住民身分者即予以統計，而不論其是否隸屬於原住民戶。

Sheet 107
A1: 3.2-04 災害救助
A2: 107年, 2018
A4: 地區別 | B4: 災害救助
B5: 收容所 | D5: 受災人數 | H5: 住屋毀損安遷救助 | L5: 財務受損影響生計者 (戶) | N5: 總救助金額(元)
B6: 所數 | C6: 臨時收容災民 | D6: 死亡 | E6: 失蹤 | F6: 重傷 | G6: 其他 | H6: 戶數 | J6: 人數
H7: 一般 | I7: 原住民 | J7: 一般 | K7: 原住民 | L7: 一般 | M7: 原住民
A8: 總計 | B8: 71 | C8: 2077 | D8: 94 | E8: 1 | F8: 17 | G8: 105 | H8: 432 | I8: 12 | J8: 1055 | K8: 29 | L8: 7267 | M8: 3 | N8: 115752466
A9: 新北市 | B9: 11 | C9: 32 | D9: 19 | E9: 0 | F9: 2 | G9: 22 | H9: 42 | I9: 0 | J9: 114 | K9: 0 | L9: 13 | M9: 0 | N9: 5340000
A10: 臺北市 | B10: 3 | C10: 24 | D10: 12 | E10: 0 | F10: 0 | G10: 0 | H10: 47 | I10: 0 | J10: 102 | K10: 0 | L10: 1 | M10: 0 | N10: 4450000
A11: 桃園市 | B11: 0 | C11: 0 | D11: 6 | E11: 0 | F11: 2 | G11: 0 | H11: 17 | I11: 1 | J11: 62 | K11: 5 | L11: 0 | M11: 0 | N11: 2720000
A12: 臺中市 | B12: 17 | C12: 103 | D12: 9 | E12: 0 | F12: 2 | G12: 31 | H12: 27 | I12: 1 | J12: 77 | K12: 1 | L12: 1 | M12: 0 | N12: 4060466
A13: 臺南市 | B13: 32 | C13: 1047 | D13: 4 | E13: 1 | F13: 0 | G13: 0 | H13: 18 | I13: 0 | J13: 42 | K13: 0 | L13: 5141 | M13: 0 | N13: 27545000
A14: 高雄市 | B14: 0 | C14: 0 | D14: 10 | E14: 0 | F14: 0 | G14: 0 | H14: 52 | I14: 0 | J14: 116 | K14: 0 | L14: 1286 | M14: 0 | N14: 23570000
A15: 宜蘭縣 | B15: 0 | C15: 0 | D15: 3 | E15: 0 | F15: 0 | G15: 0 | H15: 0 | I15: 1 | J15: 0 | K15: 0 | L15: 29 | M15: 0 | N15: 1280000
A16: 新竹縣 | B16: 0 | C16: 0 | D16: 0 | E16: 0 | F16: 0 | G16: 0 | H16: 5 | I16: 0 | J16: 8 | K16: 0 | L16: 0 | M16: 0 | N16: 160000
A17: 苗栗縣 | B17: 0 | C17: 0 | D17: 2 | E17: 0 | F17: 0 | G17: 0 | H17: 13 | I17: 0 | J17: 45 | K17: 0 | L17: 0 | M17: 0 | N17: 1300000
A18: 彰化縣 | B18: 0 | C18: 0 | D18: 8 | E18: 0 | F18: 10 | G18: 10 | H18: 12 | I18: 0 | J18: 41 | K18: 0 | L18: 94 | M18: 0 | N18: 2970000
A19: 南投縣 | B19: 0 | C19: 0 | D19: 4 | E19: 0 | F19: 0 | G19: 0 | H19: 13 | I19: 0 | J19: 23 | K19: 0 | L19: 0 | M19: 0 | N19: 1260000
... A30: 連江縣 | B30: 0 | C30: 0 | D30: 0 | E30: 0 | F30: 0 | G30: 0 | H30: 0 | I30: 0 | J30: 0 | K30: 0 | L30: 41 | M30: 0 | N30: 188000
A32: 資料來源：直轄市、縣﹝市﹞政府。
A33: 說明：1.原住民戶定義為：(1)戶長為原住民者視為原住民戶，以戶長性別統計。(2)戶長非原住民，如戶內原住民人口數較多時則判定為原住民戶。如原住民與非原住民人口數相等時， 則以年齡較長者是否具原住民身分判定為原住民戶或非原住民戶。
A34: 2.原住民人數定義為：依原住民身分法，具原住民身分者即予以統計，而不論其是否隸屬於原住民戶。

Sheet 106
A1: 3.2-04 災害救助
A2: 106年, 2017
A4: 地區別 | B4: 災害救助
B5: 收容所 | D5: 受災人數 | H5: 住屋毀損安遷救助 | L5: 財務受損影響生計者 (戶) | N5: 總救助金額(元)
B6: 所數 | C6: 臨時收容災民 | D6: 死亡 | E6: 失蹤 | F6: 重傷 | G6: 其他 | H6: 戶數 | J6: 人數
H7: 一般 | I7: 原住民 | J7: 一般 | K7: 原住民 | L7: 一般 | M7: 原住民
A8: 總計 | B8: 187 | C8: 3566 | D8: 85 | E8: 2 | F8: 13 | G8: 188 | H8: 340 | I8: 24 | J8: 876 | K8: 78 | L8: 2725 | M8: 11 | N8: 61704610
A9: 新北市 | B9: 28 | C9: 296 | D9: 10 | E9: 1 | F9: 4 | G9: 9 | H9: 50 | I9: 1 | J9: 125 | K9: 3 | L9: 249 | M9: 0 | N9: 8170000
A10: 臺北市 | B10: 7 | C10: 104 | D10: 15 | E10: 0 | F10: 1 | G10: 0 | H10: 47 | I10: 0 | J10: 131 | K10: 0 | L10: 108 | M10: 0 | N10: 7140000
A11: 桃園市 | B11: 0 | C11: 0 | D11: 6 | E11: 0 | F11: 0 | G11: 0 | H11: 21 | I11: 4 | J11: 57 | K11: 11 | L11: 0 | M11: 0 | N11: 2560000
A12: 臺中市 | B12: 27 | C12: 135 | D12: 16 | E12: 0 | F12: 3 | G12: 179 | H12: 48 | I12: 1 | J12: 124 | K12: 2 | L12: 1 | M12: 0 | N12: 7625150
A13: 臺南市 | B13: 8 | C13: 39 | D13: 6 | E13: 0 | F13: 2 | G13: 0 | H13: 16 | I13: 0 | J13: 40 | K13: 0 | L13: 184 | M13: 0 | N13: 3120000
A14: 高雄市 | B14: 42 | C14: 1049 | D14: 6 | E14: 0 | F14: 0 | G14: 0 | H14: 37 | I14: 1 | J14: 79 | K14: 3 | L14: 27 | M14: 1 | N14: 3250000
A15: 宜蘭縣 | B15: 0 | C15: 0 | D15: 2 | E15: 0 | F15: 0 | G15: 0 | H15: 0 | I15: 0 | J15: 0 | K15: 0 | L15: 23 | M15: 1 | N15: 1920000
A16: 新竹縣 | B16: 0 | C16: 0 | D16: 0 | E16: 0 | F16: 0 | G16: 0 | H16: 0 | I16: 0 | J16: 0 | K16: 0 | L16: 1 | M16: 1 | N16: 50000
A17: 苗栗縣 | B17: 0 | C17: 0 | D17: 3 | E17: 0 | F17: 0 | G17: 0 | H17: 14 | I17: 1 | J17: 30 | K17: 4 | L17: 0 | M17: 0 | N17: 1280000
A18: 彰化縣 | B18: 0 | C18: 0 | D18: 4 | E18: 0 | F18: 3 | G18: 0 | H18: 17 | I18: 0 | J18: 51 | K18: 0 | L18: 34 | M18: 0 | N18: 2375000
A19: 南投縣 | B19: 20 | C19: 277 | D19: 2 | E19: 0 | F19: 0 | G19: 0 | H19: 22 | I19: 3 | J19: 76 | K19: 7 | L19: 63 | M19: 3 | N19: 2760000
... A30: 連江縣 | B30: 0 | C30: 0 | D30: 0 | E30: 0 | F30: 0 | G30: 0 | H30: 0 | I30: 0 | J30: 0 | K30: 0 | L30: 1 | M30: 0 | N30: 10000
A32: 資料來源：直轄市、縣﹝市﹞政府。
A33: 說明：1.原住民戶定義為：(1)戶長為原住民者視為原住民戶，以戶長性別統計。(2)戶長非原住民，如戶內原住民人口數較多時則判定為原住民戶。如原住民與非原住民人口數相等時， 則以年齡較長者是否具原住民身分判定為原住民戶或非原住民戶。
A34: 2.原住民人數定義為：依原住民身分法，具原住民身分者即予以統計，而不論其是否隸屬於原住民戶。

Sheet 105
A1: 3.2-04 災害救助
A2: 105年, 2016
A4: 地區別 | B4: 災害救助
B5: 收容所 | D5: 受災人數 | H5: 住屋毀損安遷救助 | L5: 財務受損影響生計者 (戶) | N5: 總救助金額(元)
B6: 所數 | C6: 臨時收容災民 | D6: 死亡 | E6: 失蹤 | F6: 重傷 | G6: 其他 | H6: 戶數 | J6: 人數
H7: 一般 | I7: 原住民 | J7: 一般 | K7: 原住民 | L7: 一般 | M7: 原住民
A8: 總計 | B8: 155 | C8: 2245 | D8: 213 | E8: 0 | F8: 17 | G8: 168 | H8: 1504 | I8: 66 | J8: 3597 | K8: 170 | L8: 4023 | M8: 17 | N8: 143700075
A9: 新北市 | B9: 0 | C9: 0 | D9: 23 | E9: 0 | F9: 2 | G9: 0 | H9: 87 | I9: 4 | J9: 234 | K9: 9 | L9: 53 | M9: 1 | N9: 10060000
A10: 臺北市 | B10: 1 | C10: 2 | D10: 11 | E10: 0 | F10: 3 | G10: 0 | H10: 36 | I10: 0 | J10: 98 | K10: 0 | L10: 0 | M10: 0 | N10: 4460000
A11: 桃園市 | B11: 0 | C11: 0 | D11: 9 | E11: 0 | F11: 0 | G11: 0 | H11: 11 | I11: 7 | J11: 33 | K11: 22 | L11: 23 | M11: 0 | N11: 3140000
A12: 臺中市 | B12: 24 | C12: 225 | D12: 14 | E12: 0 | F12: 4 | G12: 140 | H12: 139 | I12: 3 | J12: 287 | K12: 9 | L12: 1 | M12: 0 | N12: 11938870
A13: 臺南市 | B13: 59 | C13: 557 | D13: 112 | E13: 0 | F13: 2 | G13: 0 | H13: 327 | I13: 0 | J13: 861 | K13: 0 | L13: 3382 | M13: 0 | N13: 50220805
A14: 高雄市 | B14: 63 | C14: 1366 | D14: 9 | E14: 0 | F14: 0 | G14: 0 | H14: 170 | I14: 3 | J14: 347 | K14: 5 | L14: 286 | M14: 1 | N14: 13345000
A15: 宜蘭縣 | B15: 0 | C15: 0 | D15: 3 | E15: 0 | F15: 1 | G15: 0 | H15: 1 | I15: 0 | J15: 5 | K15: 0 | L15: 19 | M15: 0 | N15: 2000000
A16: 新竹縣 | B16: 0 | C16: 0 | D16: 0 | E16: 0 | F16: 0 | G16: 0 | H16: 0 | I16: 0 | J16: 0 | K16: 0 | L16: 44 | M16: 8 | N16: 610000
A17: 苗栗縣 | B17: 0 | C17: 0 | D17: 11 | E17: 0 | F17: 0 | G17: 0 | H17: 48 | I17: 3 | J17: 117 | K17: 11 | L17: 0 | M17: 0 | N17: 4760000
A18: 彰化縣 | B18: 0 | C18: 0 | D18: 4 | E18: 0 | F18: 2 | G18: 0 | H18: 104 | I18: 0 | J18: 240 | K18: 0 | L18: 18 | M18: 0 | N18: 6825000
A19: 南投縣 | B19: 5 | C19: 80 | D19: 1 | E19: 0 | F19: 0 | G19: 0 | H19: 27 | I19: 0 | J19: 65 | K19: 0 | L19: 0 | M19: 0 | N19: 1820000
... A30: 連江縣 | B30: 0 | C30: 0 | D30: 0 | E30: 0 | F30: 0 | G30: 0 | H30: 0 | I30: 0 | J30: 0 | K30: 0 | L30: 5 | M30: 0 | N30: 60000
A32: 資料來源：直轄市、縣﹝市﹞政府。
A33: 說明：1.原住民戶定義為：(1)戶長為原住民者視為原住民戶，以戶長性別統計。(2)戶長非原住民，如戶內原住民人口數較多時則判定為原住民戶。如原住民與非原住民人口數相等時， 則以年齡較長者是否具原住民身分判定為原住民戶或非原住民戶。
A34: 2.原住民人數定義為：依原住民身分法，具原住民身分者即予以統計，而不論其是否隸屬於原住民戶。

Sheet 104
A1: 3.2-04 災害救助
A2: 104年, 2015
A4: 地區別 | B4: 災害救助
B5: 收容所 | D5: 受災人數 | H5: 住屋毀損安遷救助 | L5: 財務受損影響生計者 (戶) | N5: 總救助金額(元)
B6: 所數 | C6: 臨時收容災民 | D6: 死亡 | E6: 失蹤 | F6: 重傷 | G6: 其他 | H6: 戶數 | J6: 人數
I7: 原住民 | K7: 原住民 | M7: 原住民
A8: 總計 | B8: 103 | C8: 1577 | D8: 87 | E8: 4 | F8: 11 | G8: 274 | H8: 726 | I8: 43 | J8: 1913 | K8: 139 | L8: 900 | M8: 85 | N8: 73374.761
A9: 新北市 | B9: 0 | C9: 0 | D9: 18 | E9: 4 | F9: 5 | G9: 0 | H9: 185 | I9: 13 | J9: 456 | K9: 35 | L9: 614 | M9: 72 | N9: 21870
A10: 臺北市 | B10: 6 | C10: 67 | D10: 7 | E10: 0 | F10: 0 | G10: 0 | H10: 52 | I10: 0 | J10: 142 | K10: 0 | L10: 74 | M10: 0 | N10: 5020
A11: 桃園市 | B11: 0 | C11: 0 | D11: 13 | E11: 0 | F11: 0 | G11: 0 | H11: 37 | I11: 12 | J11: 133 | K11: 47 | L11: 8 | M11: 8 | N11: 5420
A12: 臺中市 | B12: 9 | C12: 47 | D12: 3 | E12: 0 | F12: 0 | G12: 66 | H12: 52 | I12: 0 | J12: 156 | K12: 0 | L12: 2 | M12: 0 | N12: 4709.5
A13: 臺南市 | B13: 14 | C13: 107 | D13: 8 | E13: 0 | F13: 0 | G13: 0 | H13: 62 | I13: 0 | J13: 183 | K13: 0 | L13: 0 | M13: 0 | N13: 5263.622
A14: 高雄市 | B14: 49 | C14: 1120 | D14: 5 | E14: 0 | F14: 0 | G14: 0 | H14: 35 | I14: 5 | J14: 83 | K14: 13 | L14: 12 | M14: 0 | N14: 2840
A15: 宜蘭縣 | B15: 0 | C15: 0 | D15: 0 | E15: 0 | F15: 0 | G15: 0 | H15: 0 | I15: 0 | J15: 0 | K15: 0 | L15: 34 | M15: 0 | N15: 940
A16: 新竹縣 | B16: 0 | C16: 0 | D16: 0 | E16: 0 | F16: 0 | G16: 0 | H16: 0 | I16: 0 | J16: 0 | K16: 0 | L16: 18 | M16: 0 | N16: 285
A17: 苗栗縣 | B17: 7 | C17: 6 | D17: 4 | E17: 0 | F17: 0 | G17: 171 | H17: 55 | I17: 1 | J17: 162 | K17: 5 | L17: 0 | M17: 0 | N17: 4100
A18: 彰化縣 | B18: 0 | C18: 0 | D18: 1 | E18: 0 | F18: 0 | G18: 37 | H18: 79 | I18: 0 | J18: 178 | K18: 0 | L18: 13 | M18: 0 | N18: 7780
A19: 南投縣 | B19: 7 | C19: 113 | D19: 3 | E19: 0 | F19: 1 | G19: 0 | H19: 17 | I19: 0 | J19: 51 | K19: 0 | L19: 0 | M19: 0 | N19: 1720
... A30: 連江縣 | B30: 0 | C30: 0 | D30: 0 | E30: 0 | F30: 0 | G30: 0 | H30: 0 | I30: 0 | J30: 0 | K30: 0 | L30: 9 | M30: 0 | N30: 71
A32: 資料來源：直轄市、縣﹝市﹞政府。
A33: 說明：1.原住民戶定義為：(1)戶長為原住民者視為原住民戶，以戶長性別統計。(2)戶長非原住民，如戶內原住民人口數較多時則判定為原住民戶。如原住民與非原住民人口數相等時， 則以年齡較長者是否具原住民身分判定為原住民戶或非原住民戶。
A34: 2.原住民人數定義為：依原住民身分法，具原住民身分者即予以統計，而不論其是否隸屬於原住民戶。

Sheet 103
A1: 3.2-04 災害救助
A2: 103年, 2014
A4: 地區別 | B4: 災害救助
B5: 收容所 | D5: 受災人數 | H5: 住屋毀損安遷救助 | L5: 財務受損影響生計者 (戶) | N5: 總救助金額(元)
B6: 所數 | C6: 臨時收容災民 | D6: 死亡 | E6: 失蹤 | F6: 重傷 | G6: 其他 | H6: 戶數 | J6: 人數
I7: 原住民 | K7: 原住民 | M7: 原住民
A8: 總計 | B8: 100 | C8: 3529 | D8: 98 | E8: 1 | F8: 7 | G8: 7 | H8: 351 | I8: 26 | J8: 984 | K8: 80 | L8: 344 | M8: 5 | N8: 48160640
A9: 新北市 | B9: 1 | C9: 8 | D9: 11 | E9: 0 | F9: 1 | G9: 0 | H9: 65 | I9: 0 | J9: 194 | K9: 0 | L9: 0 | M9: 0 | N9: 6000000
A10: 臺北市 | B10: 2 | C10: 28 | D10: 9 | E10: 0 | F10: 4 | G10: 4 | H10: 34 | I10: 0 | J10: 93 | K10: 0 | L10: 11 | M10: 0 | N10: 4060000
A11: 臺中市 | B11: 8 | C11: 134 | D11: 8 | E11: 0 | F11: 0 | G11: 0 | H11: 54 | I11: 0 | J11: 159 | K11: 0 | L11: 8 | M11: 0 | N11: 5337640
A12: 臺南市 | B12: 7 | C12: 57 | D12: 9 | E12: 0 | F12: 0 | G12: 0 | H12: 20 | I12: 0 | J12: 44 | K12: 0 | L12: 74 | M12: 0 | N12: 3050000
A13: 高雄市 | B13: 36 | C13: 2095 | D13: 28 | E13: 0 | F13: 0 | G13: 0 | H13: 20 | I13: 6 | J13: 69 | K13: 24 | L13: 12 | M13: 0 | N13: 7190000
A14: 宜蘭縣 | B14: 0 | C14: 0 | D14: 4 | E14: 0 | F14: 0 | G14: 0 | H14: 0 | I14: 0 | J14: 0 | K14: 0 | L14: 25 | M14: 3 | N14: 1630000
A15: 桃園縣 | B15: 1 | C15: 45 | D15: 2 | E15: 0 | F15: 0 | G15: 0 | H15: 4 | I15: 0 | J15: 8 | K15: 0 | L15: 0 | M15: 0 | N15: 560000
A16: 新竹縣 | B16: 0 | C16: 0 | D16: 0 | E16: 0 | F16: 0 | G16: 0 | H16: 1 | I16: 0 | J16: 1 | K16: 0 | L16: 18 | M16: 1 | N16: 525000
A17: 苗栗縣 | B17: 0 | C17: 0 | D17: 1 | E17: 0 | F17: 0 | G17: 0 | H17: 22 | I17: 0 | J17: 69 | K17: 0 | L17: 12 | M17: 0 | N17: 1650000
A18: 彰化縣 | B18: 0 | C18: 0 | D18: 10 | E18: 0 | F18: 1 | G18: 0 | H18: 12 | I18: 0 | J18: 32 | K18: 0 | L18: 87 | M18: 0 | N18: 6320000
A19: 南投縣 | B19: 0 | C19: 0 | D19: 4 | E19: 1 | F19: 1 | G19: 0 | H19: 22 | I19: 0 | J19: 58 | K19: 0 | L19: 0 | M19: 0 | N19: 2260000
... A30: 連江縣 | B30: 0 | C30: 0 | D30: 0 | E30: 0 | F30: 0 | G30: 0 | H30: 0 | I30: 0 | J30: 0 | K30: 0 | L30: 2 | M30: 0 | N30: 23000
A32: 資料來源：直轄市、縣﹝市﹞政府。
A33: 說明：1.原住民戶定義為：(1)戶長為原住民者視為原住民戶，以戶長性別統計。(2)戶長非原住民，如戶內原住民人口數較多時則判定為原住民戶。如原住民與非原住民人口數相等時， 則以年齡較長者是否具原住民身分判定為原住民戶或非原住民戶。
A34: 2.原住民人數定義為：依原住民身分法，具原住民身分者即予以統計，而不論其是否隸屬於原住民戶。

Sheet 102
A1: 3.2-04 災害救助
A2: 102年, 2013
A4: 地區別 | B4: 災害救助
B5: 收容所 | D5: 受災人數 | H5: 住屋毀損安遷救助 | L5: 財務受損影響生計者 (戶) | N5: 總救助金額(元)
B6: 所數 | C6: 臨時收容災民 | D6: 死亡 | E6: 失蹤 | F6: 重傷 | G6: 其他 | H6: 戶數 | J6: 人數
I7: 原住民 | K7: 原住民 | M7: 原住民
A8: 總計 | B8: 288 | C8: 7177 | D8: 84 | E8: 0 | F8: 13 | G8: 7 | H8: 475 | I8: 42 | J8: 1274 | K8: 108 | L8: 4862 | M8: 88 | N8: 88534273
A9: 新北市 | B9: 31 | C9: 780 | D9: 2 | E9: 0 | F9: 0 | G9: 0 | H9: 80 | I9: 5 | J9: 208 | K9: 19 | L9: 17 | M9: 0 | N9: 4760000
A10: 臺北市 | B10: 3 | C10: 6 | D10: 14 | E10: 0 | F10: 6 | G10: 0 | H10: 59 | I10: 0 | J10: 153 | K10: 0 | L10: 3 | M10: 0 | N10: 6511700
A11: 臺中市 | B11: 22 | C11: 264 | D11: 10 | E11: 0 | F11: 0 | G11: 0 | H11: 49 | I11: 2 | J11: 145 | K11: 9 | L11: 398 | M11: 9 | N11: 11321481
A12: 臺南市 | B12: 23 | C12: 257 | D12: 8 | E12: 0 | F12: 0 | G12: 0 | H12: 20 | I12: 0 | J12: 54 | K12: 0 | L12: 1066 | M12: 0 | N12: 7960821
A13: 高雄市 | B13: 65 | C13: 2200 | D13: 16 | E13: 0 | F13: 0 | G13: 0 | H13: 27 | I13: 1 | J13: 76 | K13: 3 | L13: 204 | M13: 0 | N13: 13895000
A14: 宜蘭縣 | B14: 13 | C14: 295 | D14: 0 | E14: 0 | F14: 0 | G14: 0 | H14: 2 | I14: 0 | J14: 9 | K14: 0 | L14: 15 | M14: 1 | N14: 500000
A15: 桃園縣 | B15: 13 | C15: 317 | D15: 2 | E15: 0 | F15: 0 | G15: 0 | H15: 47 | I15: 4 | J15: 122 | K15: 8 | L15: 210 | M15: 0 | N15: 4585000
A16: 新竹縣 | B16: 41 | C16: 1414 | D16: 1 | E16: 0 | F16: 0 | G16: 0 | H16: 0 | I16: 0 | J16: 0 | K16: 0 | L16: 72 | M16: 30 | N16: 1245000
A17: 苗栗縣 | B17: 11 | C17: 262 | D17: 2 | E17: 0 | F17: 0 | G17: 0 | H17: 46 | I17: 21 | J17: 97 | K17: 47 | L17: 67 | M17: 0 | N17: 3510000
A18: 彰化縣 | B18: 4 | C18: 32 | D18: 3 | E18: 0 | F18: 0 | G18: 0 | H18: 40 | I18: 0 | J18: 132 | K18: 0 | L18: 66 | M18: 0 | N18: 7055000
A19: 南投縣 | B19: 10 | C19: 186 | D19: 7 | E19: 0 | F19: 3 | G19: 0 | H19: 23 | I19: 1 | J19: 59 | K19: 4 | L19: 24 | M19: 0 | N19: 3180000
... A30: 連江縣 | B30: 0 | C30: 0 | D30: 0 | E30: 0 | F30: 0 | G30: 0 | H30: 1 | I30: 1 | J30: 7 | K30: 7 | L30: 11 | M30: 0 | N30: 164000
A31: 資料來源：直轄市、縣﹝市﹞政府。
A32: 說明：1.原住民戶定義為：(1)戶長為原住民者視為原住民戶，以戶長性別統計。(2)戶長非原住民，如戶內原住民人口數較多時則判定為原住民戶。如原住民與非原住民人口數相等時， 則以年齡較長者是否具原住民身分判定為原住民戶或非原住民戶。
A33: 2.原住民人數定義為：依原住民身分法，具原住民身分者即予以統計，而不論其是否隸屬於原住民戶。

Sheet 101
A1: 3.2-04 災害救助
A2: 101年, 2012
A4: 地區別 | B4: 災害救助
B5: 收容所 | D5: 受災人數 | H5: 住屋毀損安遷救助 | L5: 財務受損影響生計者 (戶) | N5: 總救助金額(元)
B6: 所數 | C6: 臨時收容災民 | D6: 死亡 | E6: 失蹤 | F6: 重傷 | G6: 其他 | H6: 戶數 | J6: 人數
I7: 原住民 | K7: 原住民 | M7: 原住民
A8: 總計 | B8: 112 | C8: 4594 | D8: 115 | E8: 0 | F8: 2 | G8: 36 | H8: 533 | I8: 106 | J8: 1533 | K8: 338 | L8: 8308 | M8: 261 | N8: 173625676
A9: 新北市 | B9: 0 | C9: 0 | D9: 18 | E9: 0 | F9: 0 | G9: 0 | H9: 69 | I9: 1 | J9: 217 | K9: 5 | L9: 498 | M9: 14 | N9: 14820000
A10: 臺北市 | B10: 8 | C10: 114 | D10: 15 | E10: 0 | F10: 0 | G10: 0 | H10: 46 | I10: 0 | J10: 117 | K10: 0 | L10: 159 | M10: 0 | N10: 7163356
A11: 臺中市 | B11: 20 | C11: 646 | D11: 11 | E11: 0 | F11: 0 | G11: 0 | H11: 39 | I11: 2 | J11: 125 | K11: 9 | L11: 345 | M11: 2 | N11: 8690000
A12: 臺南市 | B12: 17 | C12: 339 | D12: 20 | E12: 0 | F12: 0 | G12: 0 | H12: 13 | I12: 0 | J12: 27 | K12: 0 | L12: 535 | M12: 0 | N12: 7215000
A13: 高雄市 | B13: 16 | C13: 2158 | D13: 4 | E13: 0 | F13: 0 | G13: 35 | H13: 31 | I13: 10 | J13: 83 | K13: 36 | L13: 0 | M13: 0 | N13: 4212505
A14: 宜蘭縣 | B14: 0 | C14: 0 | D14: 1 | E14: 0 | F14: 0 | G14: 0 | H14: 3 | I14: 0 | J14: 6 | K14: 0 | L14: 24 | M14: 2 | N14: 1140000
A15: 桃園縣 | B15: 26 | C15: 404 | D15: 14 | E15: 0 | F15: 0 | G15: 0 | H15: 20 | I15: 1 | J15: 63 | K15: 5 | L15: 4367 | M15: 0 | N15: 56093640
A16: 新竹縣 | B16: 0 | C16: 0 | D16: 0 | E16: 0 | F16: 0 | G16: 0 | H16: 3 | I16: 0 | J16: 13 | K16: 0 | L16: 58 | M16: 0 | N16: 1175000
A17: 苗栗縣 | B17: 0 | C17: 0 | D17: 1 | E17: 0 | F17: 0 | G17: 0 | H17: 17 | I17: 0 | J17: 54 | K17: 0 | L17: 9 | M17: 1 | N17: 1460000
A18: 彰化縣 | B18: 2 | C18: 18 | D18: 5 | E18: 0 | F18: 0 | G18: 1 | H18: 5 | I18: 0 | J18: 10 | K18: 0 | L18: 29 | M18: 0 | N18: 1767485
A19: 南投縣 | B19: 0 | C19: 0 | D19: 6 | E19: 0 | F19: 0 | G19: 0 | H19: 18 | I19: 0 | J19: 56 | K19: 0 | L19: 0 | M19: 0 | N19: 2320000
... A30: 連江縣 | B30: 0 | C30: 0 | D30: 0 | E30: 0 | F30: 0 | G30: 0 | H30: 0 | I30: 0 | J30: 0 | K30: 0 | L30: 0 | M30: 0 | N30: 0
A31: 資料來源：直轄市、縣﹝市﹞政府。
A32: 說明：1.原住民戶定義為：(1)戶長為原住民者視為原住民戶，以戶長性別統計。(2)戶長非原住民，如戶內原住民人口數較多時則判定為原住民戶。如原住民與非原住民人口數相等時， 則以年齡較長者是否具原住民身分判定為原住民戶或非原住民戶。
A33: 2.原住民人數定義為：依原住民身分法，具原住民身分者即予以統計，而不論其是否隸屬於原住民戶。

Sheet 100
A1: 3.2-04 災害救助
A2: 100年, 2011
A4: 地區別 | B4: 災害救助 | J4: 財務受損影響生計者 (戶) | K4: 總救助金額(元)
B5: 收容所 | D5: 受災人數 | H5: 住屋毀損安遷救助
B6: 所數 | C6: 臨時收容災民 | D6: 死亡 | E6: 失蹤 | F6: 重傷 | G6: 其他 | H6: 戶數 | I6: 人數
A8: 總計 | B8: 26 | C8: 939 | D8: 73 | E8: 1 | F8: 12 | G8: 33 | H8: 407 | I8: 1145 | J8: 836 | K8: 46722902
A9: 新北市 | B9: 0 | C9: 0 | D9: 16 | E9: 0 | F9: 5 | G9: 0 | H9: 125 | I9: 356 | J9: 2 | K9: 10840000
A10: 臺北市 | B10: 2 | C10: 20 | D10: 1 | E10: 0 | F10: 3 | G10: 0 | H10: 62 | I10: 164 | J10: 0 | K10: 3780000
A11: 臺中市 | B11: 3 | C11: 20 | D11: 20 | E11: 0 | F11: 2 | G11: 0 | H11: 44 | I11: 130 | J11: 84 | K11: 7646120
A12: 臺南市 | B12: 1 | C12: 3 | D12: 5 | E12: 0 | F12: 0 | G12: 2 | H12: 19 | I12: 51 | J12: 0 | K12: 2030000
A13: 高雄市 | B13: 20 | C13: 896 | D13: 7 | E13: 0 | F13: 1 | G13: 7 | H13: 24 | I13: 58 | J13: 21 | K13: 3880912
A14: 宜蘭縣 | B14: 0 | C14: 0 | D14: 4 | E14: 0 | F14: 0 | G14: 0 | H14: 7 | I14: 18 | J14: 23 | K14: 1400000
A15: 桃園縣 | B15: 0 | C15: 0 | D15: 7 | E15: 0 | F15: 0 | G15: 0 | H15: 3 | I15: 7 | J15: 137 | K15: 3435000
A16: 新竹縣 | B16: 0 | C16: 0 | D16: 0 | E16: 0 | F16: 1 | G16: 0 | H16: 0 | I16: 0 | J16: 15 | K16: 300870
A17: 苗栗縣 | B17: 0 | C17: 0 | D17: 4 | E17: 0 | F17: 0 | G17: 0 | H17: 12 | I17: 46 | J17: 0 | K17: 1720000
A18: 彰化縣 | B18: 0 | C18: 0 | D18: 2 | E18: 1 | F18: 0 | G18: 24 | H18: 5 | I18: 14 | J18: 32 | K18: 1160000
A19: 南投縣 | B19: 0 | C19: 0 | D19: 0 | E19: 0 | F19: 0 | G19: 0 | H19: 13 | I19: 46 | J19: 0 | K19: 840000
... A30: 連江縣 | B30: 0 | C30: 0 | D30: 0 | E30: 0 | F30: 0 | G30: 0 | H30: 0 | I30: 0 | J30: 0 | K30: 0
A31: 資料來源：直轄市、縣﹝市﹞政府。
A33: 核總計 | B33: =B8-SUM(B9:B13)-#REF! -> #REF! | C33: =C8-SUM(C9:C13)-#REF! -> #REF! | D33: =D8-SUM(D9:D13)-#REF! -> #REF! | E33: =E8-SUM(E9:E13)-#REF! -> #REF! | F33: =F8-SUM(F9:F13)-#REF! -> #REF! | G33: =G8-SUM(G9:G13)-#REF! -> #REF! | H33: =H8-SUM(H9:H13)-#REF! -> #REF! | I33: =I8-SUM(I9:I13)-#REF! -> #REF! | ... K33: =K8-SUM(K9:K13)-#REF! -> #REF!
A34: 核台灣 | B34: =#REF!-SUM(B14:B28) -> #REF! | C34: =#REF!-SUM(C14:C28) -> #REF! | D34: =#REF!-SUM(D14:D28) -> #REF! | E34: =#REF!-SUM(E14:E28) -> #REF! | F34: =#REF!-SUM(F14:F28) -> #REF! | G34: =#REF!-SUM(G14:G28) -> #REF! | H34: =#REF!-SUM(H14:H28) -> #REF! | I34: =#REF!-SUM(I14:I28) -> #REF! | ... K34: =#REF!-SUM(K14:K28) -> #REF!
A35: 核福建 | B35: =#REF!-B29-B30 -> #REF! | C35: =#REF!-C29-C30 -> #REF! | D35: =#REF!-D29-D30 -> #REF! | E35: =#REF!-E29-E30 -> #REF! | F35: =#REF!-F29-F30 -> #REF! | G35: =#REF!-G29-G30 -> #REF! | H35: =#REF!-H29-H30 -> #REF! | I35: =#REF!-I29-I30 -> #REF! | ... K35: =#REF!-K29-K30 -> #REF!
A36: 核年季 | B36: =B8-#REF! -> #REF! | C36: =C8-#REF! -> #REF! | D36: =D8-#REF! -> #REF! | E36: =E8-#REF! -> #REF! | F36: =F8-#REF! -> #REF! | G36: =G8-#REF! -> #REF! | H36: =H8-#REF! -> #REF! | I36: =I8-#REF! -> #REF! | ... K36: =K8-#REF! -> #REF!

Sheet 99
A1: 3.2-04 災害救助
A2: 99年, 2010
A4: 地區別 | B4: 災害救助 | I4: 財務受損影響生計者 (戶) | J4: 總救助金額(元) | K4: 急難現金救助
B5: 受災人數 | G5: 安遷救助(房屋損毀) | K5: 補助人次
B6: 臨時收容 | C6: 死亡 | D6: 失蹤 | E6: 重傷 | F6: 其他 | G6: 戶數 | H6: 人數 | K6: 計
A8: 總計 | B8: 4342 | C8: 61 | D8: 0 | E8: 2 | F8: 16250 | G8: 888 | H8: 2355 | I8: 54759 | J8: 792256996 | K8: 47863
A9: 臺北縣 | B9: 0 | C9: 5 | D9: 0 | E9: 0 | F9: 0 | G9: 94 | H9: 353 | I9: 10 | J9: 7840000 | K9: 7962
A10: 宜蘭縣 | B10: 0 | C10: 0 | D10: 0 | E10: 0 | F10: 0 | G10: 5 | H10: 15 | I10: 21 | J10: 920000 | K10: 851
A11: 桃園縣 | B11: 0 | C11: 2 | D11: 0 | E11: 0 | F11: 0 | G11: 1 | H11: 3 | I11: 174 | J11: 2620000 | K11: 4663
A12: 新竹縣 | B12: 0 | C12: 1 | D12: 0 | E12: 0 | F12: 0 | G12: 1 | H12: 3 | I12: 16 | J12: 420000 | K12: 261
A13: 苗栗縣 | B13: 0 | C13: 1 | D13: 0 | E13: 0 | F13: 0 | G13: 6 | H13: 12 | I13: 0 | J13: 440000 | K13: 697
A14: 臺中縣 | B14: 0 | C14: 3 | D14: 0 | E14: 0 | F14: 0 | G14: 30 | H14: 92 | I14: 0 | J14: 2440000 | K14: 805
A15: 彰化縣 | B15: 0 | C15: 4 | D15: 0 | E15: 0 | F15: 0 | G15: 7 | H15: 14 | I15: 72 | J15: 1500000 | K15: 2289
A16: 南投縣 | B16: 0 | C16: 2 | D16: 0 | E16: 0 | F16: 0 | G16: 24 | H16: 92 | I16: 0 | J16: 2040000 | K16: 1132
A17: 雲林縣 | B17: 0 | C17: 6 | D17: 0 | E17: 0 | F17: 0 | G17: 7 | H17: 17 | I17: 50 | J17: 1770000 | K17: 1414
A18: 嘉義縣 | B18: 0 | C18: 6 | D18: 0 | E18: 0 | F18: 0 | G18: 59 | H18: 141 | I18: 0 | J18: 4020000 | K18: 117
A19: 臺南縣 | B19: 109 | C19: 7 | D19: 0 | E19: 0 | F19: 0 | G19: 125 | H19: 280 | I19: 1950 | J19: 16710000 | K19: 1674
... A33: 連江縣 | B33: 0 | C33: 0 | D33: 0 | E33: 0 | F33: 0 | G33: 0 | H33: 0 | I33: 0 | J33: 0 | K33: 17
A34: 資料來源：直轄市、縣﹝市﹞政府。
A36: 核總計 | B36: =B8-#REF!-B30-B31-#REF! -> #REF! | C36: =C8-#REF!-C30-C31-#REF! -> #REF! | D36: =D8-#REF!-D30-D31-#REF! -> #REF! | E36: =E8-#REF!-E30-E31-#REF! -> #REF! | F36: =F8-#REF!-F30-F31-#REF! -> #REF! | G36: =G8-#REF!-G30-G31-#REF! -> #REF! | H36: =H8-#REF!-H30-H31-#REF! -> #REF! | I36: =I8-#REF!-I30-I31-#REF! -> #REF! | ... K36: =K8-#REF!-K30-K31-#REF! -> #REF!
A37: 核台灣 | B37: =#REF!-SUM(B9:B29) -> #REF! | C37: =#REF!-SUM(C9:C29) -> #REF! | D37: =#REF!-SUM(D9:D29) -> #REF! | E37: =#REF!-SUM(E9:E29) -> #REF! | F37: =#REF!-SUM(F9:F29) -> #REF! | G37: =#REF!-SUM(G9:G29) -> #REF! | H37: =#REF!-SUM(H9:H29) -> #REF! | I37: =#REF!-SUM(I9:I29) -> #REF! | ... K37: =#REF!-SUM(K9:K29) -> #REF!
A38: 核福建 | B38: =#REF!-B32-B33 -> #REF! | C38: =#REF!-C32-C33 -> #REF! | D38: =#REF!-D32-D33 -> #REF! | E38: =#REF!-E32-E33 -> #REF! | F38: =#REF!-F32-F33 -> #REF! | G38: =#REF!-G32-G33 -> #REF! | H38: =#REF!-H32-H33 -> #REF! | I38: =#REF!-I32-I33 -> #REF! | ... K38: =#REF!-K32-K33 -> #REF!
A39: 核年季 | B39: =B8-#REF! -> #REF! | C39: =C8-#REF! -> #REF! | D39: =D8-#REF! -> #REF! | E39: =E8-#REF! -> #REF! | F39: =F8-#REF! -> #REF! | G39: =G8-#REF! -> #REF! | H39: =H8-#REF! -> #REF! | I39: =I8-#REF! -> #REF! | ... K39: =K8-#REF! -> #REF!

Sheet 98
A1: 3.2-04 災害救助
A2: 98年, 2009
A4: 地區別 | B4: 災害救助 | I4: 財務受損影響生計者 (戶) | J4: 總救助金額(元) | K4: 急難現金救助
B5: 救助受災人數 | G5: 安遷救助(房屋損毀) | K5: 補助人次
B6: 臨時收容 | C6: 死亡 | D6: 失蹤 | E6: 重傷 | F6: 其他 | G6: 戶數 | H6: 人數 | K6: 計
A8: 總計 | B8: 7427 | C8: 286 | D8: 404 | E8: 10 | F8: 19642 | G8: 2098 | H8: 5884 | I8: 112261 | J8: 821797601 | K8: 44129
A9: 臺北縣 | B9: 0 | C9: 10 | D9: 0 | E9: 0 | F9: 0 | G9: 63 | H9: 214 | I9: 129 | J9: 7410000 | K9: 6851
A10: 宜蘭縣 | B10: 0 | C10: 6 | D10: 0 | E10: 1 | F10: 2 | G10: 12 | H10: 30 | I10: 23 | J10: 2810000 | K10: 758
A11: 桃園縣 | B11: 0 | C11: 4 | D11: 0 | E11: 0 | F11: 0 | G11: 4 | H11: 9 | I11: 66 | J11: 2325000 | K11: 3735
A12: 新竹縣 | B12: 0 | C12: 2 | D12: 0 | E12: 0 | F12: 0 | G12: 5 | H12: 22 | I12: 20 | J12: 1085000 | K12: 306
A13: 苗栗縣 | B13: 0 | C13: 4 | D13: 0 | E13: 0 | F13: 0 | G13: 20 | H13: 64 | I13: 0 | J13: 2080000 | K13: 691
A14: 臺中縣 | B14: 0 | C14: 4 | D14: 0 | E14: 0 | F14: 0 | G14: 43 | H14: 136 | I14: 30 | J14: 4120000 | K14: 902
A15: 彰化縣 | B15: 0 | C15: 7 | D15: 0 | E15: 0 | F15: 0 | G15: 19 | H15: 66 | I15: 107 | J15: 3355000 | K15: 2841
A16: 南投縣 | B16: 37 | C16: 8 | D16: 8 | E16: 0 | F16: 0 | G16: 69 | H16: 241 | I16: 0 | J16: 7540000 | K16: 859
A17: 雲林縣 | B17: 72 | C17: 7 | D17: 0 | E17: 0 | F17: 0 | G17: 22 | H17: 77 | I17: 160 | J17: 3560000 | K17: 828
A18: 嘉義縣 | B18: 0 | C18: 16 | D18: 1 | E18: 0 | F18: 0 | G18: 248 | H18: 762 | I18: 0 | J18: 18640000 | K18: 134
A19: 臺南縣 | B19: 1622 | C19: 29 | D19: 0 | E19: 0 | F19: 0 | G19: 101 | H19: 268 | I19: 59556 | J19: 308860000 | K19: 1440
... A33: 連江縣 | B33: 0 | C33: 0 | D33: 0 | E33: 0 | F33: 0 | G33: 0 | H33: 0 | I33: 5 | J33: 60000 | K33: 11
A34: 資料來源：直轄市、縣﹝市﹞政府。
A36: 核總計 | B36: =B8-#REF!-B30-B31-#REF! -> #REF! | C36: =C8-#REF!-C30-C31-#REF! -> #REF! | D36: =D8-#REF!-D30-D31-#REF! -> #REF! | E36: =E8-#REF!-E30-E31-#REF! -> #REF! | F36: =F8-#REF!-F30-F31-#REF! -> #REF! | G36: =G8-#REF!-G30-G31-#REF! -> #REF! | H36: =H8-#REF!-H30-H31-#REF! -> #REF! | I36: =I8-#REF!-I30-I31-#REF! -> #REF! | ... K36: =K8-#REF!-K30-K31-#REF! -> #REF!
A37: 核台灣 | B37: =#REF!-SUM(B9:B29) -> #REF! | C37: =#REF!-SUM(C9:C29) -> #REF! | D37: =#REF!-SUM(D9:D29) -> #REF! | E37: =#REF!-SUM(E9:E29) -> #REF! | F37: =#REF!-SUM(F9:F29) -> #REF! | G37: =#REF!-SUM(G9:G29) -> #REF! | H37: =#REF!-SUM(H9:H29) -> #REF! | I37: =#REF!-SUM(I9:I29) -> #REF! | ... K37: =#REF!-SUM(K9:K29) -> #REF!
A38: 核福建 | B38: =#REF!-B32-B33 -> #REF! | C38: =#REF!-C32-C33 -> #REF! | D38: =#REF!-D32-D33 -> #REF! | E38: =#REF!-E32-E33 -> #REF! | F38: =#REF!-F32-F33 -> #REF! | G38: =#REF!-G32-G33 -> #REF! | H38: =#REF!-H32-H33 -> #REF! | I38: =#REF!-I32-I33 -> #REF! | ... K38: =#REF!-K32-K33 -> #REF!
A39: 核年季 | B39: =B8-#REF! -> #REF! | C39: =C8-#REF! -> #REF! | D39: =D8-#REF! -> #REF! | E39: =E8-#REF! -> #REF! | F39: =F8-#REF! -> #REF! | G39: =G8-#REF! -> #REF! | H39: =H8-#REF! -> #REF! | I39: =I8-#REF! -> #REF! | ... K39: =K8-#REF! -> #REF!

Sheet 97
A1: 3.2-04 災害救助
A2: 97年, 2008
A4: 地區別 | B4: 災害救助 | I4: 財務受損影響生計者 (戶) | J4: 總救助金額(元) | K4: 急難現金救助
B5: 救助受災人數 | G5: 安遷救助(房屋損毀) | K5: 補助人次
B6: 臨時收容 | C6: 死亡 | D6: 失蹤 | E6: 重傷 | F6: 其他 | G6: 戶數 | H6: 人數 | K6: 計
A8: 總計 | B8: 1036 | C8: 111 | D8: 13 | E8: 4 | F8: 768 | G8: 648 | H8: 1724 | I8: 17315 | J8: 188700276 | K8: 48074
A9: 臺北縣 | B9: 0 | C9: 2 | D9: 0 | E9: 0 | F9: 0 | G9: 47 | H9: 149 | I9: 117 | J9: 4690000 | K9: 6078
A10: 宜蘭縣 | B10: 0 | C10: 4 | D10: 0 | E10: 1 | F10: 0 | G10: 37 | H10: 0 | I10: 1611 | J10: 16261000 | K10: 886
A11: 桃園縣 | B11: 0 | C11: 15 | D11: 0 | E11: 0 | F11: 0 | G11: 10 | H11: 43 | I11: 97 | J11: 4955000 | K11: 3064
A12: 新竹縣 | B12: 0 | C12: 1 | D12: 0 | E12: 0 | F12: 0 | G12: 0 | H12: 0 | I12: 19 | J12: 530000 | K12: 354
A13: 苗栗縣 | B13: 16 | C13: 3 | D13: 0 | E13: 0 | F13: 0 | G13: 100 | H13: 194 | I13: 0 | J13: 4120000 | K13: 480
A14: 臺中縣 | B14: 0 | C14: 11 | D14: 5 | E14: 0 | F14: 0 | G14: 64 | H14: 209 | I14: 3859 | J14: 45770000 | K14: 1195
A15: 彰化縣 | B15: 0 | C15: 5 | D15: 3 | E15: 0 | F15: 0 | G15: 1 | H15: 5 | I15: 236 | J15: 2905000 | K15: 3471
A16: 南投縣 | B16: 0 | C16: 12 | D16: 0 | E16: 0 | F16: 0 | G16: 3 | H16: 104 | I16: 103 | J16: 6320000 | K16: 1388
A17: 雲林縣 | B17: 0 | C17: 5 | D17: 0 | E17: 3 | F17: 680 | G17: 16 | H17: 58 | I17: 1448 | J17: 9474536 | K17: 1831
A18: 嘉義縣 | B18: 0 | C18: 2 | D18: 2 | E18: 0 | F18: 0 | G18: 58 | H18: 156 | I18: 116 | J18: 4500000 | K18: 350
A19: 臺南縣 | B19: 0 | C19: 9 | D19: 0 | E19: 0 | F19: 0 | G19: 18 | H19: 46 | I19: 2030 | J19: 12870000 | K19: 1769
... A33: 連江縣 | B33: 52 | C33: 0 | D33: 0 | E33: 0 | F33: 88 | G33: 22 | H33: 71 | I33: 25 | J33: 1962740 | K33: 13
A34: 資料來源：直轄市、縣﹝市﹞政府。
A36: 核總計 | B36: =B8-#REF!-B30-B31-#REF! -> #REF! | C36: =C8-#REF!-C30-C31-#REF! -> #REF! | D36: =D8-#REF!-D30-D31-#REF! -> #REF! | E36: =E8-#REF!-E30-E31-#REF! -> #REF! | F36: =F8-#REF!-F30-F31-#REF! -> #REF! | G36: =G8-#REF!-G30-G31-#REF! -> #REF! | H36: =H8-#REF!-H30-H31-#REF! -> #REF! | I36: =I8-#REF!-I30-I31-#REF! -> #REF! | ... K36: =K8-#REF!-K30-K31-#REF! -> #REF!
A37: 核台灣 | B37: =#REF!-SUM(B9:B29) -> #REF! | C37: =#REF!-SUM(C9:C29) -> #REF! | D37: =#REF!-SUM(D9:D29) -> #REF! | E37: =#REF!-SUM(E9:E29) -> #REF! | F37: =#REF!-SUM(F9:F29) -> #REF! | G37: =#REF!-SUM(G9:G29) -> #REF! | H37: =#REF!-SUM(H9:H29) -> #REF! | I37: =#REF!-SUM(I9:I29) -> #REF! | ... K37: =#REF!-SUM(K9:K29) -> #REF!
A38: 核福建 | B38: =#REF!-B32-B33 -> #REF! | C38: =#REF!-C32-C33 -> #REF! | D38: =#REF!-D32-D33 -> #REF! | E38: =#REF!-E32-E33 -> #REF! | F38: =#REF!-F32-F33 -> #REF! | G38: =#REF!-G32-G33 -> #REF! | H38: =#REF!-H32-H33 -> #REF! | I38: =#REF!-I32-I33 -> #REF! | ... K38: =#REF!-K32-K33 -> #REF!
A39: 核年季 | B39: =B8-#REF! -> #REF! | C39: =C8-#REF! -> #REF! | D39: =D8-#REF! -> #REF! | E39: =E8-#REF! -> #REF! | F39: =F8-#REF! -> #REF! | G39: =G8-#REF! -> #REF! | H39: =H8-#REF! -> #REF! | I39: =I8-#REF! -> #REF! | ... K39: =K8-#REF! -> #REF!

Sheet 96
A1: 3.2-04 災害救助
A2: 96年, 2007
A4: 地區別 | B4: 災害救助 | I4: 財務受損影響生計者 (戶) | J4: 總救助金額(元) | K4: 急難現金救助
B5: 救助受災人數 | G5: 安遷救助(房屋損毀) | K5: 補助人次
B6: 臨時收容 | C6: 死亡 | D6: 失蹤 | E6: 重傷 | F6: 其他 | G6: 戶數 | H6: 人數 | K6: 計
A8: 總計 | B8: 268 | C8: 102 | D8: 1 | E8: 10 | F8: 20 | G8: 679 | H8: 1841 | I8: 14765 | J8: 132553485 | K8: 46666
A9: 臺北縣 | B9: 0 | C9: 9 | D9: 0 | E9: 1 | F9: 8 | G9: 47 | H9: 135 | I9: 261 | J9: 6210000 | K9: 5888
A10: 宜蘭縣 | B10: 0 | C10: 7 | D10: 0 | E10: 0 | F10: 8 | G10: 31 | H10: 72 | I10: 114 | J10: 5405000 | K10: 860
A11: 桃園縣 | B11: 0 | C11: 10 | D11: 0 | E11: 0 | F11: 0 | G11: 29 | H11: 74 | I11: 214 | J11: 5635000 | K11: 2598
A12: 新竹縣 | B12: 0 | C12: 6 | D12: 0 | E12: 0 | F12: 0 | G12: 3 | H12: 1 | I12: 24 | J12: 1227500 | K12: 286
A13: 苗栗縣 | B13: 0 | C13: 5 | D13: 0 | E13: 2 | F13: 0 | G13: 19 | H13: 58 | I13: 0 | J13: 2360000 | K13: 556
A14: 臺中縣 | B14: 2 | C14: 11 | D14: 0 | E14: 0 | F14: 0 | G14: 50 | H14: 134 | I14: 73 | J14: 5610000 | K14: 1213
A15: 彰化縣 | B15: 17 | C15: 6 | D15: 0 | E15: 0 | F15: 0 | G15: 0 | H15: 3 | I15: 302 | J15: 2060000 | K15: 3501
A16: 南投縣 | B16: 0 | C16: 4 | D16: 0 | E16: 0 | F16: 0 | G16: 12 | H16: 40 | I16: 4 | J16: 1630000 | K16: 1423
A17: 雲林縣 | B17: 0 | C17: 3 | D17: 0 | E17: 3 | F17: 0 | G17: 15 | H17: 46 | I17: 7678 | J17: 30840000 | K17: 1611
A18: 嘉義縣 | B18: 0 | C18: 5 | D18: 1 | E18: 1 | F18: 0 | G18: 48 | H18: 139 | I18: 33 | J18: 4225000 | K18: 320
A19: 臺南縣 | B19: 0 | C19: 5 | D19: 0 | E19: 0 | F19: 0 | G19: 15 | H19: 34 | I19: 972 | J19: 6540000 | K19: 1622
... A33: 連江縣 | B33: 0 | C33: 0 | D33: 0 | E33: 0 | F33: 0 | G33: 1 | H33: 4 | I33: 0 | J33: 80000 | K33: 10
A34: 資料來源：直轄市、縣﹝市﹞政府。
A37: 核年季 | B37: =B8-#REF! -> #REF! | C37: =C8-#REF! -> #REF! | D37: =D8-#REF! -> #REF! | E37: =E8-#REF! -> #REF! | F37: =F8-#REF! -> #REF! | G37: =G8-#REF! -> #REF! | H37: =H8-#REF! -> #REF! | I37: =I8-#REF! -> #REF! | ... K37: =K8-#REF! -> #REF!

Sheet 95
A1: 3.2-04 災害救助
A2: 95年, 2006
A4: 地區別 | B4: 災害救助 | I4: 財務受損影響生計者 (戶) | J4: 總救助金額(元) | K4: 急難現金救助
B5: 救助受災人數 | G5: 安遷救助(房屋損毀) | K5: 補助人次
B6: 臨時收容 | C6: 死亡 | D6: 失蹤 | E6: 重傷 | F6: 其他 | G6: 戶數 | H6: 人數 | K6: 計
A8: 總計 | B8: 149 | C8: 115 | D8: 0 | E8: 9 | F8: 1107 | G8: 830 | H8: 2412 | I8: 5693 | J8: 84219438 | K8: 37094
A9: 臺北縣 | B9: 0 | C9: 7 | D9: 0 | E9: 0 | F9: 0 | G9: 28 | H9: 95 | I9: 12 | J9: 3385000 | K9: 6097
A10: 宜蘭縣 | B10: 16 | C10: 2 | D10: 0 | E10: 0 | F10: 6 | G10: 14 | H10: 47 | I10: 11 | J10: 1910000 | K10: 925
A11: 桃園縣 | B11: 0 | C11: 22 | D11: 0 | E11: 0 | F11: 0 | G11: 2 | H11: 5 | I11: 201 | J11: 4910000 | K11: 2458
A12: 新竹縣 | B12: 0 | C12: 1 | D12: 0 | E12: 0 | F12: 200 | G12: 11 | H12: 34 | I12: 23 | J12: 1049000 | K12: 283
A13: 苗栗縣 | B13: 40 | C13: 2 | D13: 0 | E13: 0 | F13: 0 | G13: 25 | H13: 66 | I13: 2 | J13: 1883460 | K13: 558
A14: 臺中縣 | B14: 0 | C14: 12 | D14: 0 | E14: 0 | F14: 0 | G14: 50 | H14: 136 | I14: 0 | J14: 5120000 | K14: 742
A15: 彰化縣 | B15: 0 | C15: 2 | D15: 0 | E15: 0 | F15: 0 | G15: 4 | H15: 17 | I15: 34 | J15: 1335000 | K15: 1550
A16: 南投縣 | B16: 0 | C16: 6 | D16: 0 | E16: 0 | F16: 0 | G16: 29 | H16: 107 | I16: 0 | J16: 3080000 | K16: 995
A17: 雲林縣 | B17: 2 | C17: 4 | D17: 0 | E17: 1 | F17: 0 | G17: 304 | H17: 882 | I17: 0 | J17: 3550000 | K17: 744
A18: 嘉義縣 | B18: 0 | C18: 5 | D18: 0 | E18: 1 | F18: 0 | G18: 20 | H18: 51 | I18: 1207 | J18: 8155000 | K18: 145
A19: 臺南縣 | B19: 0 | C19: 6 | D19: 0 | E19: 0 | F19: 0 | G19: 12 | H19: 29 | I19: 16 | J19: 1860000 | K19: 1165
... A33: 連江縣 | B33: 0 | C33: 0 | D33: 0 | E33: 0 | F33: 0 | G33: 1 | H33: 1 | I33: 2 | J33: 26000 | K33: 16
A34: 資料來源：直轄市、縣﹝市﹞政府。

Sheet 94
A1: 3.2-04 災害救助
A2: 94年, 2005
A4: 地區別 | B4: 災害救助 | I4: 財務受損影響生計者 (戶) | J4: 總救助金額(元) | K4: 急難現金救助
B5: 救助受災人數 | G5: 安遷救助(房屋損毀) | K5: 補助人次
B6: 臨時收容 | C6: 死亡 | D6: 失蹤 | E6: 重傷 | F6: 其他 | G6: 戶數 | H6: 人數 | K6: 計
A8: 總計 | B8: 18647 | C8: 157 | D8: 9 | E8: 10 | F8: 0 | G8: 1201 | H8: 3151 | I8: 49281 | J8: 547738500 | K8: 33960
A9: 臺北縣 | B9: 0 | C9: 13 | D9: 0 | E9: 0 | F9: 0 | G9: 131 | H9: 335 | I9: 25 | J9: 10030000 | K9: 5361
A10: 宜蘭縣 | B10: 0 | C10: 2 | D10: 0 | E10: 0 | F10: 0 | G10: 29 | H10: 121 | I10: 42 | J10: 3820000 | K10: 826
A11: 桃園縣 | B11: 0 | C11: 8 | D11: 0 | E11: 0 | F11: 0 | G11: 19 | H11: 65 | I11: 102 | J11: 4375000 | K11: 1965
A12: 新竹縣 | B12: 1859 | C12: 6 | D12: 1 | E12: 0 | F12: 0 | G12: 33 | H12: 106 | I12: 81 | J12: 4574000 | K12: 487
A13: 苗栗縣 | B13: 0 | C13: 6 | D13: 0 | E13: 0 | F13: 0 | G13: 65 | H13: 148 | I13: 0 | J13: 4160000 | K13: 520
A14: 臺中縣 | B14: 0 | C14: 10 | D14: 0 | E14: 0 | F14: 0 | G14: 115 | H14: 327 | I14: 0 | J14: 8540000 | K14: 932
A15: 彰化縣 | B15: 0 | C15: 6 | D15: 0 | E15: 0 | F15: 0 | G15: 54 | H15: 116 | I15: 22 | J15: 3795000 | K15: 1613
A16: 南投縣 | B16: 0 | C16: 4 | D16: 0 | E16: 0 | F16: 0 | G16: 40 | H16: 132 | I16: 0 | J16: 3300000 | K16: 1026
A17: 雲林縣 | B17: 15524 | C17: 0 | D17: 0 | E17: 0 | F17: 0 | G17: 6 | H17: 9 | I17: 0 | J17: 78180000 | K17: 782
A18: 嘉義縣 | B18: 561 | C18: 13 | D18: 0 | E18: 1 | F18: 0 | G18: 80 | H18: 203 | I18: 3 | J18: 6790000 | K18: 266
A19: 臺南縣 | B19: 394 | C19: 8 | D19: 0 | E19: 0 | F19: 0 | G19: 57 | H19: 129 | I19: 26738 | J19: 150415000 | K19: 911
... A33: 連江縣 | B33: 0 | C33: 0 | D33: 0 | E33: 0 | F33: 0 | G33: 1 | H33: 4 | I33: 0 | J33: 80000 | K33: 13
A34: 資料來源：直轄市、縣﹝市﹞政府。

Sheet 93
A1: 3.2-04 災害救助
A2: 93年, 2004
A4: 地區別 | B4: 災害救助 | I4: 財務受損影響生計者 (戶) | J4: 總救助金額(元) | K4: 急難現金救助
B5: 救助受災人數 | G5: 安遷救助(房屋損毀) | K5: 補助人次
B6: 臨時收容 | C6: 死亡 | D6: 失蹤 | E6: 重傷 | F6: 其他 | G6: 戶數 | H6: 人數 | K6: 計
A8: 總計 | B8: 953 | C8: 162 | D8: 30 | E8: 22 | F8: 6815 | G8: 1433 | H8: 3814 | I8: 36826 | J8: 662711598 | K8: 36134
A9: 臺北縣 | B9: 0 | C9: 26 | D9: 1 | E9: 8 | F9: 0 | G9: 164 | H9: 532 | I9: 26241 | J9: 355790000 | K9: 5459
A10: 宜蘭縣 | B10: 0 | C10: 7 | D10: 1 | E10: 0 | F10: 0 | G10: 20 | H10: 28 | I10: 131 | J10: 5005000 | K10: 866
A11: 桃園縣 | B11: 887 | C11: 8 | D11: 0 | E11: 0 | F11: 0 | G11: 68 | H11: 205 | I11: 2129 | J11: 32916293 | K11: 3586
A12: 新竹縣 | B12: 0 | C12: 22 | D12: 6 | E12: 1 | F12: 0 | G12: 138 | H12: 442 | I12: 57 | J12: 12842813 | K12: 455
A13: 苗栗縣 | B13: 0 | C13: 1 | D13: 0 | E13: 0 | F13: 1041 | G13: 26 | H13: 52 | I13: 0 | J13: 11450000 | K13: 592
A14: 臺中縣 | B14: 0 | C14: 20 | D14: 8 | E14: 0 | F14: 5598 | G14: 217 | H14: 634 | I14: 0 | J14: 97360000 | K14: 622
A15: 彰化縣 | B15: 0 | C15: 5 | D15: 0 | E15: 0 | F15: 0 | G15: 28 | H15: 96 | I15: 291 | J15: 6260000 | K15: 1631
A16: 南投縣 | B16: 0 | C16: 15 | D16: 5 | E16: 0 | F16: 0 | G16: 86 | H16: 309 | I16: 309 | J16: 12700000 | K16: 1047
A17: 雲林縣 | B17: 0 | C17: 5 | D17: 0 | E17: 0 | F17: 0 | G17: 8 | H17: 27 | I17: 3 | J17: 1535000 | K17: 626
A18: 嘉義縣 | B18: 0 | C18: 8 | D18: 0 | E18: 2 | F18: 0 | G18: 52 | H18: 149 | I18: 3885 | J18: 44720000 | K18: 240
A19: 臺南縣 | B19: 0 | C19: 3 | D19: 0 | E19: 1 | F19: 17 | G19: 139 | H19: 69 | I19: 13 | J19: 3520000 | K19: 948
... A33: 連江縣 | B33: 0 | C33: 0 | D33: 0 | E33: 0 | F33: 0 | G33: 1 | H33: 5 | I33: 0 | J33: 75000 | K33: 12
A34: 資料來源：直轄市、縣﹝市﹞政府。

Sheet 92
A1: 3.2-04 災害救助
A2: 92年, 2003
A4: 地區別 | B4: 災害救助 | I4: 財務受損影響生計者 (戶) | J4: 總救助金額(元) | K4: 急難現金救助
B5: 救助受災人數 | G5: 安遷救助(房屋損毀) | K5: 補助人次
B6: 臨時收容 | C6: 死亡 | D6: 失蹤 | E6: 重傷 | F6: 其他 | G6: 戶數 | H6: 人數 | K6: 計
A8: 總計 | B8: 43 | C8: 130 | D8: 0 | E8: 11 | F8: 251 | G8: 1095 | H8: 3253 | I8: 358 | J8: 81288200 | K8: 35257
A9: 臺北縣 | B9: 0 | C9: 17 | D9: 0 | E9: 1 | F9: 0 | G9: 42 | H9: 119 | I9: 8 | J9: 5960000 | K9: 6308
A10: 宜蘭縣 | B10: 0 | C10: 7 | D10: 0 | E10: 0 | F10: 0 | G10: 3 | H10: 3 | I10: 43 | J10: 2300000 | K10: 850
A11: 桃園縣 | B11: 0 | C11: 7 | D11: 0 | E11: 0 | F11: 0 | G11: 3 | H11: 13 | I11: 43 | J11: 2505000 | K11: 3605
A12: 新竹縣 | B12: 0 | C12: 4 | D12: 0 | E12: 0 | F12: 0 | G12: 23 | H12: 40 | I12: 13 | J12: 1500000 | K12: 385
A13: 苗栗縣 | B13: 0 | C13: 8 | D13: 0 | E13: 1 | F13: 0 | G13: 19 | H13: 56 | I13: 3 | J13: 2480000 | K13: 539
A14: 臺中縣 | B14: 0 | C14: 15 | D14: 0 | E14: 0 | F14: 0 | G14: 52 | H14: 154 | I14: 0 | J14: 6080000 | K14: 685
A15: 彰化縣 | B15: 0 | C15: 2 | D15: 0 | E15: 0 | F15: 0 | G15: 11 | H15: 33 | I15: 14 | J15: 1265000 | K15: 1818
A16: 南投縣 | B16: 0 | C16: 3 | D16: 0 | E16: 0 | F16: 0 | G16: 84 | H16: 331 | I16: 0 | J16: 6527200 | K16: 1045
A17: 雲林縣 | B17: 0 | C17: 3 | D17: 0 | E17: 0 | F17: 0 | G17: 16 | H17: 56 | I17: 6 | J17: 1665000 | K17: 634
A18: 嘉義縣 | B18: 0 | C18: 2 | D18: 0 | E18: 2 | F18: 0 | G18: 16 | H18: 52 | I18: 0 | J18: 1620000 | K18: 315
A19: 臺南縣 | B19: 20 | C19: 1 | D19: 0 | E19: 1 | F19: 0 | G19: 33 | H19: 68 | I19: 25 | J19: 1653500 | K19: 978
... A33: 連江縣 | B33: 0 | C33: 4 | D33: 0 | E33: 0 | F33: 0 | G33: 0 | H33: 0 | I33: 0 | J33: 710000 | K33: 15
A34: 資料來源：直轄市、縣﹝市﹞政府。
