Workbook

Sheet 歷年
A1: 3.3-0中低收入住院看護補助
A2: 92-113年
A4: 地區別 | B4: 中低收入住院看護補助
B5: 補助人次 | E5: 金額(元)
B6: 計 | C6: 男 | D6: 女
A8: 92年, 2003 | B8: ='92'!B8 -> 4683 | C8: ='92'!C8 -> 3166 | D8: ='92'!D8 -> 1517 | E8: ='92'!E8 -> 95233657
A9: 93年, 2004 | B9: ='93'!B8 -> 4880 | C9: ='93'!C8 -> 3272 | D9: ='93'!D8 -> 1608 | E9: ='93'!E8 -> 92457002
A10: 94年, 2005 | B10: ='94'!B8 -> 5145 | C10: ='94'!C8 -> 3566 | D10: ='94'!D8 -> 1579 | E10: ='94'!E8 -> 104289186
A11: 95年, 2006 | B11: ='95'!B8 -> 5148 | C11: ='95'!C8 -> 3473 | D11: ='95'!D8 -> 1675 | E11: ='95'!E8 -> 102000779
A12: 96年, 2007 | B12: ='96'!B8 -> 5854 | C12: ='96'!C8 -> 4065 | D12: ='96'!D8 -> 1789 | E12: ='96'!E8 -> 109650561
A13: 97年, 2008 | B13: ='97'!B8 -> 6501 | C13: ='97'!C8 -> 4616 | D13: ='97'!D8 -> 1885 | E13: ='97'!E8 -> 114107649
A14: 98年, 2009 | B14: ='98'!B8 -> 7033 | C14: ='98'!C8 -> 4922 | D14: ='98'!D8 -> 2111 | E14: ='98'!E8 -> 121669314
A15: 99年 ,2010 | B15: ='99'!B8 -> 8066 | C15: ='99'!C8 -> 5706 | D15: ='99'!D8 -> 2360 | E15: ='99'!E8 -> 128706945
A16: 100年, 2011 | B16: ='100'!B8 -> 9761 | C16: ='100'!C8 -> 7068 | D16: ='100'!D8 -> 2693 | E16: ='100'!E8 -> 162687156
A17: 101年, 2012 | B17: ='101'!B8 -> 9667 | C17: ='101'!C8 -> 7044 | D17: ='101'!D8 -> 2623 | E17: ='101'!E8 -> 162830063
A18: 102年, 2013 | B18: ='102'!B8 -> 10258 | C18: ='102'!C8 -> 7466 | D18: ='102'!D8 -> 2792 | E18: ='102'!E8 -> 169355078
A19: 103年, 2014 | B19: 10767 | C19: 7986 | D19: 2781 | E19: 180503867
A20: 104年, 2015 | B20: 10923 | C20: 8079 | D20: 2844 | E20: 178372595
A22: 地區別 | B22: 中低收入住院看護補助
B23: 補助人次 | E23: 金額(元)
B24: 計 | C24: 男 | D24: 女
A26: 105年, 2016 | B26: 11345 | C26: 8166 | D26: 3179 | E26: 202352386
A27: 106年, 2017 | B27: 12156 | C27: 8940 | D27: 3216 | E27: 201847652
A28: 107年, 2018 | B28: 12553 | C28: 9250 | D28: 3303 | E28: 211655435
A29: 108年, 2019 | B29: 13985 | C29: 10329 | D29: 3656 | E29: 240951309
A30: 109年, 2020 | B30: 13480 | C30: 9955 | D30: 3525 | E30: 244596309
A31: 110年, 2021 | B31: 13145 | C31: 9395 | D31: 3750 | E31: 250807008
A32: 111年, 2022 | B32: 11280 | C32: 8149 | D32: 3131 | E32: 213728907
A33: 112年, 2023 | B33: 12154 | C33: 8758 | D33: 3396 | E33: 234155434
A34: 113年, 2024 | B34: 13595 | C34: 9822 | D34: 3773 | E34: 250504625
A35: 資料來源：直轄市、縣﹝市﹞政府。

Sheet 113
A1: 3.3-0中低收入住院看護補助
A2: 112年, 2023
A4: 地區別 | B4: 中低收入住院看護補助
B5: 補助人次 | E5: 金額(元)
B6: 計 | C6: 男 | D6: 女
A8: 總計 | B8: 13595 | C8: 9822 | D8: 3773 | E8: 250504625
A9: 新北市 | B9: 1441 | C9: 1016 | D9: 425 | E9: 34109380
A10: 臺北市 | B10: 1333 | C10: 897 | D10: 436 | E10: 23910983
A11: 桃園市 | B11: 1115 | C11: 749 | D11: 366 | E11: 25097574
A12: 臺中市 | B12: 653 | C12: 453 | D12: 200 | E12: 13294540
A13: 臺南市 | B13: 1140 | C13: 843 | D13: 297 | E13: 19698187
A14: 高雄市 | B14: 943 | C14: 645 | D14: 298 | E14: 11729954
A15: 宜蘭縣 | B15: 670 | C15: 461 | D15: 209 | E15: 11991675
A16: 新竹縣 | B16: 127 | C16: 103 | D16: 24 | E16: 2406641
A17: 苗栗縣 | B17: 266 | C17: 197 | D17: 69 | E17: 5130700
A18: 彰化縣 | B18: 1054 | C18: 803 | D18: 251 | E18: 19472803
A19: 南投縣 | B19: 895 | C19: 655 | D19: 240 | E19: 12059939
... A30: 連江縣 | B30: 1 | C30: 1 | D30: 0 | E30: 28800
A32: 資料來源：直轄市、縣﹝市﹞政府。

Sheet 112
A1: 3.3-0中低收入住院看護補助
A2: 112年, 2023
A4: 地區別 | B4: 中低收入住院看護補助
B5: 補助人次 | E5: 金額(元)
B6: 計 | C6: 男 | D6: 女
A8: 總計 | B8: 12154 | C8: 8758 | D8: 3396 | E8: 234155434
A9: 新北市 | B9: 1122 | C9: 765 | D9: 357 | E9: 26768933
A10: 臺北市 | B10: 1381 | C10: 900 | D10: 481 | E10: 26415299
A11: 桃園市 | B11: 990 | C11: 640 | D11: 350 | E11: 23551401
A12: 臺中市 | B12: 592 | C12: 434 | D12: 158 | E12: 11182085
A13: 臺南市 | B13: 1383 | C13: 997 | D13: 386 | E13: 25101267
A14: 高雄市 | B14: 895 | C14: 626 | D14: 269 | E14: 10970755
A15: 宜蘭縣 | B15: 531 | C15: 400 | D15: 131 | E15: 11575050
A16: 新竹縣 | B16: 124 | C16: 102 | D16: 22 | E16: 2275521
A17: 苗栗縣 | B17: 227 | C17: 173 | D17: 54 | E17: 3442500
A18: 彰化縣 | B18: 788 | C18: 594 | D18: 194 | E18: 15282901
A19: 南投縣 | B19: 752 | C19: 546 | D19: 206 | E19: 12043374
... A30: 連江縣 | B30: 0 | C30: 0 | D30: 0 | E30: 0
A32: 資料來源：直轄市、縣﹝市﹞政府。

Sheet 111
A1: 3.3-0中低收入住院看護補助
A2: 111年, 2022
A4: 地區別 | B4: 中低收入住院看護補助
B5: 補助人次 | E5: 金額(元)
B6: 計 | C6: 男 | D6: 女
A8: 總計 | B8: 11280 | C8: 8149 | D8: 3131 | E8: 213728907
A9: 新北市 | B9: 943 | C9: 672 | D9: 271 | E9: 23940750
A10: 臺北市 | B10: 1526 | C10: 1056 | D10: 470 | E10: 28923932
A11: 桃園市 | B11: 852 | C11: 565 | D11: 287 | E11: 18764276
A12: 臺中市 | B12: 417 | C12: 305 | D12: 112 | E12: 8496700
A13: 臺南市 | B13: 1215 | C13: 895 | D13: 320 | E13: 21857291
A14: 高雄市 | B14: 858 | C14: 574 | D14: 284 | E14: 11205099
A15: 宜蘭縣 | B15: 538 | C15: 400 | D15: 138 | E15: 12668550
A16: 新竹縣 | B16: 156 | C16: 126 | D16: 30 | E16: 2826732
A17: 苗栗縣 | B17: 208 | C17: 176 | D17: 32 | E17: 3456000
A18: 彰化縣 | B18: 709 | C18: 524 | D18: 185 | E18: 13943333
A19: 南投縣 | B19: 806 | C19: 585 | D19: 221 | E19: 12342829
... A30: 連江縣 | B30: 1 | C30: 1 | D30: 0 | E30: 22000
A32: 資料來源：直轄市、縣﹝市﹞政府。

Sheet 110
A1: 3.3-0中低收入住院看護補助
A2: 110年, 2021
A4: 地區別 | B4: 中低收入住院看護補助
B5: 補助人次 | E5: 金額(元)
B6: 計 | C6: 男 | D6: 女
A8: 總計 | B8: 13145 | C8: 9395 | D8: 3750 | E8: 250807008
A9: 新北市 | B9: 1225 | C9: 857 | D9: 368 | E9: 32204789
A10: 臺北市 | B10: 1954 | C10: 1252 | D10: 702 | E10: 34148765
A11: 桃園市 | B11: 1449 | C11: 941 | D11: 508 | E11: 31938411
A12: 臺中市 | B12: 498 | C12: 308 | D12: 190 | E12: 8619845
A13: 臺南市 | B13: 1215 | C13: 933 | D13: 282 | E13: 20447115
A14: 高雄市 | B14: 979 | C14: 676 | D14: 303 | E14: 13325702
A15: 宜蘭縣 | B15: 597 | C15: 435 | D15: 162 | E15: 12919350
A16: 新竹縣 | B16: 118 | C16: 85 | D16: 33 | E16: 2457000
A17: 苗栗縣 | B17: 233 | C17: 186 | D17: 47 | E17: 4167750
A18: 彰化縣 | B18: 853 | C18: 640 | D18: 213 | E18: 15617356
A19: 南投縣 | B19: 834 | C19: 658 | D19: 176 | E19: 13635003
... A30: 連江縣 | B30: 2 | C30: 0 | D30: 2 | E30: 15100
A32: 資料來源：直轄市、縣﹝市﹞政府。

Sheet 109
A1: 3.3-0中低收入住院看護補助
A2: 109年, 2020
A4: 地區別 | B4: 中低收入住院看護補助
B5: 補助人次 | E5: 金額(元)
B6: 計 | C6: 男 | D6: 女
A8: 總計 | B8: 13480 | C8: 9955 | D8: 3525 | E8: 244596309
A9: 新北市 | B9: 1595 | C9: 1177 | D9: 418 | E9: 37835874
A10: 臺北市 | B10: 2170 | C10: 1538 | D10: 632 | E10: 35726105
A11: 桃園市 | B11: 923 | C11: 618 | D11: 305 | E11: 20880407
A12: 臺中市 | B12: 502 | C12: 371 | D12: 131 | E12: 9409575
A13: 臺南市 | B13: 1321 | C13: 1002 | D13: 319 | E13: 22079025
A14: 高雄市 | B14: 1026 | C14: 751 | D14: 275 | E14: 13093558
A15: 宜蘭縣 | B15: 585 | C15: 441 | D15: 144 | E15: 12239938
A16: 新竹縣 | B16: 100 | C16: 82 | D16: 18 | E16: 1674525
A17: 苗栗縣 | B17: 258 | C17: 201 | D17: 57 | E17: 4281625
A18: 彰化縣 | B18: 905 | C18: 692 | D18: 213 | E18: 16007880
A19: 南投縣 | B19: 818 | C19: 651 | D19: 167 | E19: 12342071
... A30: 連江縣 | B30: 5 | C30: 3 | D30: 2 | E30: 65500
A32: 資料來源：直轄市、縣﹝市﹞政府。

Sheet 108
A1: 3.3-0中低收入住院看護補助
A2: 108年, 2019
A4: 地區別 | B4: 中低收入住院看護補助
B5: 補助人次 | E5: 金額(元)
B6: 計 | C6: 男 | D6: 女
A8: 總計 | B8: 13985 | C8: 10329 | D8: 3656 | E8: 240951309
A9: 新北市 | B9: 1613 | C9: 1193 | D9: 420 | E9: 38183738
A10: 臺北市 | B10: 2255 | C10: 1694 | D10: 561 | E10: 39171367
A11: 桃園市 | B11: 974 | C11: 599 | D11: 375 | E11: 18782981
A12: 臺中市 | B12: 548 | C12: 390 | D12: 158 | E12: 9923314
A13: 臺南市 | B13: 1436 | C13: 1106 | D13: 330 | E13: 22322022
A14: 高雄市 | B14: 1250 | C14: 881 | D14: 369 | E14: 14518048
A15: 宜蘭縣 | B15: 574 | C15: 408 | D15: 166 | E15: 10616185
A16: 新竹縣 | B16: 91 | C16: 75 | D16: 16 | E16: 1413100
A17: 苗栗縣 | B17: 298 | C17: 236 | D17: 62 | E17: 5026655
A18: 彰化縣 | B18: 866 | C18: 630 | D18: 236 | E18: 13714945
A19: 南投縣 | B19: 746 | C19: 584 | D19: 162 | E19: 10577429
... A30: 連江縣 | B30: 1 | C30: 1 | D30: 0 | E30: 12000
A32: 資料來源：直轄市、縣﹝市﹞政府。

Sheet 107
A1: 3.3-0中低收入住院看護補助
A2: 107年, 2018
A4: 地區別 | B4: 中低收入住院看護補助
B5: 補助人次 | E5: 金額(元)
B6: 計 | C6: 男 | D6: 女
A8: 總計 | B8: 12553 | C8: 9250 | D8: 3303 | E8: 211655435
A9: 新北市 | B9: 1575 | C9: 1193 | D9: 382 | E9: 31194984
A10: 臺北市 | B10: 1853 | C10: 1299 | D10: 554 | E10: 29338775
A11: 桃園市 | B11: 920 | C11: 587 | D11: 333 | E11: 16467045
A12: 臺中市 | B12: 444 | C12: 307 | D12: 137 | E12: 8160505
A13: 臺南市 | B13: 1231 | C13: 955 | D13: 276 | E13: 19131843
A14: 高雄市 | B14: 1107 | C14: 856 | D14: 251 | E14: 15330009
A15: 宜蘭縣 | B15: 565 | C15: 385 | D15: 180 | E15: 10845712
A16: 新竹縣 | B16: 60 | C16: 41 | D16: 19 | E16: 1063644
A17: 苗栗縣 | B17: 284 | C17: 234 | D17: 50 | E17: 5003037
A18: 彰化縣 | B18: 816 | C18: 609 | D18: 207 | E18: 13529334
A19: 南投縣 | B19: 712 | C19: 532 | D19: 180 | E19: 9910526
... A30: 連江縣 | B30: 3 | C30: 2 | D30: 1 | E30: 112200
A32: 資料來源：直轄市、縣﹝市﹞政府。

Sheet 106
A1: 3.3-0中低收入住院看護補助
A2: 106年, 2017
A4: 地區別 | B4: 中低收入住院看護補助
B5: 補助人次 | E5: 金額(元)
B6: 計 | C6: 男 | D6: 女
A8: 總計 | B8: 12156 | C8: 8940 | D8: 3216 | E8: 201847652
A9: 新北市 | B9: 1393 | C9: 1042 | D9: 351 | E9: 27170334
A10: 臺北市 | B10: 1826 | C10: 1247 | D10: 579 | E10: 28415580
A11: 桃園市 | B11: 671 | C11: 452 | D11: 219 | E11: 15367896
A12: 臺中市 | B12: 241 | C12: 175 | D12: 66 | E12: 5038073
A13: 臺南市 | B13: 1259 | C13: 965 | D13: 294 | E13: 19424983
A14: 高雄市 | B14: 1146 | C14: 805 | D14: 341 | E14: 16192966
A15: 宜蘭縣 | B15: 596 | C15: 439 | D15: 157 | E15: 10255250
A16: 新竹縣 | B16: 83 | C16: 69 | D16: 14 | E16: 1320682
A17: 苗栗縣 | B17: 339 | C17: 243 | D17: 96 | E17: 5372657
A18: 彰化縣 | B18: 739 | C18: 553 | D18: 186 | E18: 10889147
A19: 南投縣 | B19: 769 | C19: 605 | D19: 164 | E19: 10725732
... A30: 連江縣 | B30: 1 | C30: 1 | D30: 0 | E30: 7000
A32: 資料來源：直轄市、縣﹝市﹞政府。

Sheet 105
A1: 3.3-0中低收入住院看護補助
A2: 105年, 2016
A4: 地區別 | B4: 中低收入住院看護補助
B5: 補助人次 | E5: 金額(元)
B6: 計 | C6: 男 | D6: 女
A8: 總計 | B8: 11345 | C8: 8166 | D8: 3179 | E8: 202352386
A9: 新北市 | B9: 1509 | C9: 1099 | D9: 410 | E9: 28084885
A10: 臺北市 | B10: 1882 | C10: 1290 | D10: 592 | E10: 28604524
A11: 桃園市 | B11: 560 | C11: 378 | D11: 182 | E11: 29660074
A12: 臺中市 | B12: 96 | C12: 63 | D12: 33 | E12: 1704750
A13: 臺南市 | B13: 1169 | C13: 882 | D13: 287 | E13: 18734722
A14: 高雄市 | B14: 1184 | C14: 824 | D14: 360 | E14: 16415137
A15: 宜蘭縣 | B15: 562 | C15: 414 | D15: 148 | E15: 9677801
A16: 新竹縣 | B16: 87 | C16: 70 | D16: 17 | E16: 1449723
A17: 苗栗縣 | B17: 247 | C17: 183 | D17: 64 | E17: 4257225
A18: 彰化縣 | B18: 644 | C18: 488 | D18: 156 | E18: 10173290
A19: 南投縣 | B19: 650 | C19: 409 | D19: 241 | E19: 8896284
... A30: 連江縣 | B30: 1 | C30: 1 | D30: 0 | E30: 93000
A32: 資料來源：直轄市、縣﹝市﹞政府。

Sheet 104
A1: 3.3-0中低收入住院看護補助
A2: 104年, 2015
A4: 地區別 | B4: 中低收入住院看護補助
B5: 補助人次 | E5: 金額(元)
B6: 計 | C6: 男 | D6: 女
A8: 總計 | B8: 10923 | C8: 8079 | D8: 2844 | E8: 178372595
A9: 新北市 | B9: 1355 | C9: 1037 | D9: 318 | E9: 25979435
A10: 臺北市 | B10: 1735 | C10: 1186 | D10: 549 | E10: 26281905
A11: 桃園市 | B11: 437 | C11: 288 | D11: 149 | E11: 8966068
A12: 臺中市 | B12: 91 | C12: 62 | D12: 29 | E12: 1891900
A13: 臺南市 | B13: 1194 | C13: 931 | D13: 263 | E13: 18495991
A14: 高雄市 | B14: 1133 | C14: 785 | D14: 348 | E14: 15995235
A15: 宜蘭縣 | B15: 593 | C15: 457 | D15: 136 | E15: 9849000
A16: 新竹縣 | B16: 50 | C16: 39 | D16: 11 | E16: 825850
A17: 苗栗縣 | B17: 389 | C17: 300 | D17: 89 | E17: 5488900
A18: 彰化縣 | B18: 530 | C18: 399 | D18: 131 | E18: 9152168
A19: 南投縣 | B19: 707 | C19: 520 | D19: 187 | E19: 10697221
... A30: 連江縣 | B30: 2 | C30: 1 | D30: 1 | E30: 8900
A32: 資料來源：直轄市、縣﹝市﹞政府。

Sheet 103
A1: 3.3-0中低收入住院看護補助
A2: 103年, 2014
A4: 地區別 | B4: 中低收入住院看護補助
B5: 補助人次 | E5: 金額(元)
B6: 計 | C6: 男 | D6: 女
A8: 總計 | B8: 10767 | C8: 7986 | D8: 2781 | E8: 180503867
A9: 新北市 | B9: 1474 | C9: 1067 | D9: 407 | E9: 28262199
A10: 臺北市 | B10: 1771 | C10: 1233 | D10: 538 | E10: 27583478
A11: 臺中市 | B11: 92 | C11: 56 | D11: 36 | E11: 1707565
A12: 臺南市 | B12: 1066 | C12: 862 | D12: 204 | E12: 17470898
A13: 高雄市 | B13: 1126 | C13: 788 | D13: 338 | E13: 16710221
A14: 宜蘭縣 | B14: 656 | C14: 511 | D14: 145 | E14: 12758250
A15: 桃園縣 | B15: 339 | C15: 210 | D15: 129 | E15: 7276588
A16: 新竹縣 | B16: 61 | C16: 50 | D16: 11 | E16: 983100
A17: 苗栗縣 | B17: 354 | C17: 271 | D17: 83 | E17: 5435095
A18: 彰化縣 | B18: 420 | C18: 322 | D18: 98 | E18: 8768586
A19: 南投縣 | B19: 730 | C19: 555 | D19: 175 | E19: 10441115
... A30: 連江縣 | B30: 1 | C30: 1 | D30: 0 | E30: 6583
A32: 資料來源：直轄市、縣﹝市﹞政府。

Sheet 102
A1: 3.3-0中低收入住院看護補助
A2: 102年, 2013
A4: 地區別 | B4: 中低收入住院看護補助
B5: 補助人次 | E5: 金額(元)
B6: 計 | C6: 男 | D6: 女
A8: 總計 | B8: 10258 | C8: 7466 | D8: 2792 | E8: 169355078
A9: 新北市 | B9: 1805 | C9: 1345 | D9: 460 | E9: 34720991
A10: 臺北市 | B10: 1742 | C10: 1218 | D10: 524 | E10: 27068241
A11: 臺中市 | B11: 70 | C11: 48 | D11: 22 | E11: 1560845
A12: 臺南市 | B12: 965 | C12: 765 | D12: 200 | E12: 15924248
A13: 高雄市 | B13: 1065 | C13: 715 | D13: 350 | E13: 14737038
A14: 宜蘭縣 | B14: 615 | C14: 467 | D14: 148 | E14: 12501000
A15: 桃園縣 | B15: 101 | C15: 56 | D15: 45 | E15: 2026570
A16: 新竹縣 | B16: 62 | C16: 53 | D16: 9 | E16: 1013930
A17: 苗栗縣 | B17: 449 | C17: 301 | D17: 148 | E17: 6704405
A18: 彰化縣 | B18: 373 | C18: 288 | D18: 85 | E18: 6955030
A19: 南投縣 | B19: 601 | C19: 412 | D19: 189 | E19: 7901537
... A30: 連江縣 | B30: 9 | C30: 7 | D30: 2 | E30: 170167
A31: 資料來源：直轄市、縣﹝市﹞政府。
A32: 說明：1.原住民戶定義為：(1)戶長為原住民者視為原住民戶，以戶長性別統計。(2)戶長非原住民，如戶內原住民人口數較多時則判定為原住民戶。如原住民與非原住民之人口數相等時， 則以年齡較長者是否具原住民身分判定為原住民戶或非原住民戶。

Sheet 101
A1: 3.3-0中低收入住院看護補助
A2: 101年, 2012
A4: 地區別 | B4: 中低收入住院看護補助
B5: 補助人次 | E5: 金額(元)
B6: 計 | C6: 男 | D6: 女
A8: 總計 | B8: 9667 | C8: 7044 | D8: 2623 | E8: 162830063
A9: 新北市 | B9: 1563 | C9: 1161 | D9: 402 | E9: 31579908
A10: 臺北市 | B10: 1843 | C10: 1330 | D10: 513 | E10: 28334147
A11: 臺中市 | B11: 31 | C11: 18 | D11: 13 | E11: 613500
A12: 臺南市 | B12: 925 | C12: 709 | D12: 216 | E12: 14606985
A13: 高雄市 | B13: 1044 | C13: 733 | D13: 311 | E13: 15327433
A14: 宜蘭縣 | B14: 626 | C14: 465 | D14: 161 | E14: 12618833
A15: 桃園縣 | B15: 144 | C15: 83 | D15: 61 | E15: 2682086
A16: 新竹縣 | B16: 63 | C16: 52 | D16: 11 | E16: 1273500
A17: 苗栗縣 | B17: 508 | C17: 328 | D17: 180 | E17: 5995305
A18: 彰化縣 | B18: 375 | C18: 293 | D18: 82 | E18: 7514662
A19: 南投縣 | B19: 675 | C19: 468 | D19: 207 | E19: 9768492
... A30: 連江縣 | B30: 2 | C30: 2 | D30: 0 | E30: 50208
A31: 資料來源：直轄市、縣﹝市﹞政府。
A32: 說明：1.原住民戶定義為：(1)戶長為原住民者視為原住民戶，以戶長性別統計。(2)戶長非原住民，如戶內原住民人口數較多時則判定為原住民戶。如原住民與非原住民之人口數相等時， 則以年齡較長者是否具原住民身分判定為原住民戶或非原住民戶。

Sheet 100
A1: 3.3-0中低收入住院看護補助
A2: 100年, 2011
A4: 地區別 | B4: 中低收入住院看護補助
B5: 補助人次 | E5: 金額(元)
B6: 計 | C6: 男 | D6: 女
A8: 總計 | B8: 9761 | C8: 7068 | D8: 2693 | E8: 162687156
A9: 新北市 | B9: 1336 | C9: 969 | D9: 367 | E9: 27382163
A10: 臺北市 | B10: 1611 | C10: 1197 | D10: 414 | E10: 25284854
A11: 臺中市 | B11: 901 | C11: 617 | D11: 284 | E11: 10352835
A12: 臺南市 | B12: 704 | C12: 524 | D12: 180 | E12: 11329534
A13: 高雄市 | B13: 1032 | C13: 703 | D13: 329 | E13: 14855935
A14: 宜蘭縣 | B14: 661 | C14: 493 | D14: 168 | E14: 13027710
A15: 桃園縣 | B15: 199 | C15: 121 | D15: 78 | E15: 4596016
A16: 新竹縣 | B16: 127 | C16: 97 | D16: 30 | E16: 1846950
A17: 苗栗縣 | B17: 436 | C17: 345 | D17: 91 | E17: 5600000
A18: 彰化縣 | B18: 268 | C18: 208 | D18: 60 | E18: 5494420
A19: 南投縣 | B19: 669 | C19: 457 | D19: 212 | E19: 9571453
... A30: 連江縣 | B30: 0 | C30: 0 | D30: 0 | E30: 0
A31: 資料來源：直轄市、縣﹝市﹞政府。

Sheet 99
A1: 3.3-0中低收入住院看護補助
A2: 99年, 2010
A4: 地區別 | B4: 中低收入住院看護補助
B5: 補助人次 | E5: 金額(元)
B6: 計 | C6: 男 | D6: 女
A8: 總計 | B8: 8066 | C8: 5706 | D8: 2360 | E8: 128706945
A9: 臺北縣 | B9: 1091 | C9: 743 | D9: 348 | E9: 21545078
A10: 宜蘭縣 | B10: 573 | C10: 461 | D10: 112 | E10: 11091762
A11: 桃園縣 | B11: 190 | C11: 114 | D11: 76 | E11: 4674881
A12: 新竹縣 | B12: 58 | C12: 46 | D12: 12 | E12: 1204387
A13: 苗栗縣 | B13: 309 | C13: 221 | D13: 88 | E13: 4180741
A14: 臺中縣 | B14: 677 | C14: 448 | D14: 229 | E14: 5963074
A15: 彰化縣 | B15: 223 | C15: 171 | D15: 52 | E15: 4404857
A16: 南投縣 | B16: 237 | C16: 176 | D16: 61 | E16: 4325617
A17: 雲林縣 | B17: 706 | C17: 482 | D17: 224 | E17: 13367026
A18: 嘉義縣 | B18: 110 | C18: 87 | D18: 23 | E18: 2757390
A19: 臺南縣 | B19: 444 | C19: 335 | D19: 109 | E19: 6344916
... A32: 金門縣 | B32: 11 | C32: 8 | D32: 3 | E32: 171343

Sheet 98
A1: 3.3-0中低收入住院看護補助
A2: 98年, 2009
A4: 地區別 | B4: 中低收入住院看護補助
B5: 補助人次 | E5: 金額(元)
B6: 計 | C6: 男 | D6: 女
A8: 總計 | B8: 7033 | C8: 4922 | D8: 2111 | E8: 121669314
A9: 臺北縣 | B9: 837 | C9: 594 | D9: 243 | E9: 16022301
A10: 宜蘭縣 | B10: 507 | C10: 372 | D10: 135 | E10: 13844249
A11: 桃園縣 | B11: 164 | C11: 86 | D11: 78 | E11: 3597900
A12: 新竹縣 | B12: 66 | C12: 45 | D12: 21 | E12: 999822
A13: 苗栗縣 | B13: 199 | C13: 133 | D13: 66 | E13: 3007030
A14: 臺中縣 | B14: 652 | C14: 457 | D14: 195 | E14: 6150325
A15: 彰化縣 | B15: 231 | C15: 187 | D15: 44 | E15: 4941205
A16: 南投縣 | B16: 195 | C16: 147 | D16: 48 | E16: 4165632
A17: 雲林縣 | B17: 715 | C17: 489 | D17: 226 | E17: 16063649
A18: 嘉義縣 | B18: 109 | C18: 77 | D18: 32 | E18: 2736653
A19: 臺南縣 | B19: 336 | C19: 234 | D19: 102 | E19: 4879490
... A32: 金門縣 | B32: 14 | C32: 10 | D32: 4 | E32: 459775

Sheet 97
A1: 3.3-0中低收入住院看護補助
A2: 97年, 2008
A4: 地區別 | B4: 中低收入住院看護補助
B5: 補助人次 | E5: 金額(元)
B6: 計 | C6: 男 | D6: 女
A8: 總計 | B8: 6501 | C8: 4616 | D8: 1885 | E8: 114107649
A9: 臺北縣 | B9: 920 | C9: 630 | D9: 290 | E9: 18014667
A10: 宜蘭縣 | B10: 459 | C10: 344 | D10: 115 | E10: 12704929
A11: 桃園縣 | B11: 135 | C11: 88 | D11: 47 | E11: 3062950
A12: 新竹縣 | B12: 34 | C12: 27 | D12: 7 | E12: 777000
A13: 苗栗縣 | B13: 138 | C13: 106 | D13: 32 | E13: 2510485
A14: 臺中縣 | B14: 619 | C14: 429 | D14: 190 | E14: 6057987
A15: 彰化縣 | B15: 232 | C15: 175 | D15: 57 | E15: 4943833
A16: 南投縣 | B16: 179 | C16: 128 | D16: 51 | E16: 3702743
A17: 雲林縣 | B17: 508 | C17: 351 | D17: 157 | E17: 11525325
A18: 嘉義縣 | B18: 97 | C18: 82 | D18: 15 | E18: 2451103
A19: 臺南縣 | B19: 331 | C19: 251 | D19: 80 | E19: 4718144
... A32: 金門縣 | B32: 8 | C32: 7 | D32: 1 | E32: 154250

Sheet 96
A1: 3.3-0中低收入住院看護補助
A2: 96年, 2007
A4: 地區別 | B4: 中低收入住院看護補助
B5: 補助人次 | E5: 金額(元)
B6: 計 | C6: 男 | D6: 女
A8: 總計 | B8: 5854 | C8: 4065 | D8: 1789 | E8: 109650561
A9: 臺北縣 | B9: 832 | C9: 585 | D9: 247 | E9: 16200691
A10: 宜蘭縣 | B10: 463 | C10: 360 | D10: 103 | E10: 11271120
A11: 桃園縣 | B11: 151 | C11: 93 | D11: 58 | E11: 4079500
A12: 新竹縣 | B12: 21 | C12: 17 | D12: 4 | E12: 471000
A13: 苗栗縣 | B13: 125 | C13: 105 | D13: 20 | E13: 2258689
A14: 臺中縣 | B14: 676 | C14: 461 | D14: 215 | E14: 6890083
A15: 彰化縣 | B15: 265 | C15: 180 | D15: 85 | E15: 6274307
A16: 南投縣 | B16: 183 | C16: 138 | D16: 45 | E16: 4366823
A17: 雲林縣 | B17: 490 | C17: 296 | D17: 194 | E17: 13491659
A18: 嘉義縣 | B18: 51 | C18: 41 | D18: 10 | E18: 1453112
A19: 臺南縣 | B19: 194 | C19: 151 | D19: 43 | E19: 3181471
... A32: 金門縣 | B32: 5 | C32: 2 | D32: 3 | E32: 79625

Sheet 95
A1: 3.3-0中低收入住院看護補助
A2: 95年, 2006
A4: 地區別 | B4: 中低收入住院看護補助
B5: 補助人次 | E5: 金額(元)
B6: 計 | C6: 男 | D6: 女
A8: 總計 | B8: 5148 | C8: 3473 | D8: 1675 | E8: 102000779
A9: 臺北縣 | B9: 663 | C9: 439 | D9: 224 | E9: 14574822
A10: 宜蘭縣 | B10: 338 | C10: 226 | D10: 112 | E10: 9202565
A11: 桃園縣 | B11: 171 | C11: 110 | D11: 61 | E11: 4002010
A12: 新竹縣 | B12: 24 | C12: 19 | D12: 5 | E12: 555750
A13: 苗栗縣 | B13: 105 | C13: 79 | D13: 26 | E13: 2118475
A14: 臺中縣 | B14: 709 | C14: 475 | D14: 234 | E14: 11049230
A15: 彰化縣 | B15: 290 | C15: 205 | D15: 85 | E15: 7568232
A16: 南投縣 | B16: 152 | C16: 112 | D16: 40 | E16: 4236686
A17: 雲林縣 | B17: 293 | C17: 171 | D17: 122 | E17: 8693828
A18: 嘉義縣 | B18: 93 | C18: 79 | D18: 14 | E18: 2555605
A19: 臺南縣 | B19: 204 | C19: 154 | D19: 50 | E19: 3588174
... A32: 金門縣 | B32: 4 | C32: 2 | D32: 2 | E32: 117000

Sheet 94
A1: 3.3-0中低收入住院看護補助
A2: 94年, 2005
A4: 地區別 | B4: 中低收入住院看護補助
B5: 補助人次 | E5: 金額(元)
B6: 計 | C6: 男 | D6: 女
A8: 總計 | B8: 5145 | C8: 3566 | D8: 1579 | E8: 104289186
A9: 臺北縣 | B9: 472 | C9: 327 | D9: 145 | E9: 10947800
A10: 宜蘭縣 | B10: 248 | C10: 179 | D10: 69 | E10: 6688948
A11: 桃園縣 | B11: 156 | C11: 84 | D11: 72 | E11: 3400755
A12: 新竹縣 | B12: 32 | C12: 18 | D12: 14 | E12: 793850
A13: 苗栗縣 | B13: 96 | C13: 70 | D13: 26 | E13: 1690900
A14: 臺中縣 | B14: 824 | C14: 618 | D14: 206 | E14: 16988950
A15: 彰化縣 | B15: 250 | C15: 179 | D15: 71 | E15: 8541950
A16: 南投縣 | B16: 124 | C16: 94 | D16: 30 | E16: 3058227
A17: 雲林縣 | B17: 267 | C17: 152 | D17: 115 | E17: 6607296
A18: 嘉義縣 | B18: 102 | C18: 90 | D18: 12 | E18: 2262418
A19: 臺南縣 | B19: 126 | C19: 102 | D19: 24 | E19: 2534848
... A32: 金門縣 | B32: 1 | C32: 0 | D32: 1 | E32: 11250

Sheet 93
A1: 3.3-0中低收入住院看護補助
A2: 93年, 2004
A4: 地區別 | B4: 中低收入住院看護補助
B5: 補助人次 | E5: 金額(元)
B6: 計 | C6: 男 | D6: 女
A8: 總計 | B8: 4880 | C8: 3272 | D8: 1608 | E8: 92457002
A9: 臺北縣 | B9: 241 | C9: 181 | D9: 60 | E9: 6128849
A10: 宜蘭縣 | B10: 260 | C10: 201 | D10: 59 | E10: 4620595
A11: 桃園縣 | B11: 106 | C11: 58 | D11: 48 | E11: 2201500
A12: 新竹縣 | B12: 40 | C12: 31 | D12: 9 | E12: 830475
A13: 苗栗縣 | B13: 75 | C13: 56 | D13: 19 | E13: 1564550
A14: 臺中縣 | B14: 790 | C14: 478 | D14: 312 | E14: 14680500
A15: 彰化縣 | B15: 249 | C15: 173 | D15: 76 | E15: 7740610
A16: 南投縣 | B16: 117 | C16: 83 | D16: 34 | E16: 3470683
A17: 雲林縣 | B17: 405 | C17: 265 | D17: 140 | E17: 8894438
A18: 嘉義縣 | B18: 94 | C18: 79 | D18: 15 | E18: 2021487
A19: 臺南縣 | B19: 168 | C19: 123 | D19: 45 | E19: 2939751
... A32: 金門縣 | B32: 26 | C32: 8 | D32: 18 | E32: 264750

Sheet 92
A1: 3.3-0中低收入住院看護補助
A2: 92年, 2003
A4: 地區別 | B4: 中低收入住院看護補助
B5: 補助人次 | E5: 金額(元)
B6: 計 | C6: 男 | D6: 女
A8: 總計 | B8: 4683 | C8: 3166 | D8: 1517 | E8: 95233657
A9: 臺北縣 | B9: 203 | C9: 141 | D9: 62 | E9: 4752266
A10: 宜蘭縣 | B10: 175 | C10: 128 | D10: 47 | E10: 2969974
A11: 桃園縣 | B11: 108 | C11: 73 | D11: 35 | E11: 2655650
A12: 新竹縣 | B12: 44 | C12: 34 | D12: 10 | E12: 754700
A13: 苗栗縣 | B13: 62 | C13: 42 | D13: 20 | E13: 1319111
A14: 臺中縣 | B14: 622 | C14: 325 | D14: 297 | E14: 11024000
A15: 彰化縣 | B15: 187 | C15: 134 | D15: 53 | E15: 7901290
A16: 南投縣 | B16: 118 | C16: 94 | D16: 24 | E16: 3404787
A17: 雲林縣 | B17: 357 | C17: 234 | D17: 123 | E17: 9395194
A18: 嘉義縣 | B18: 101 | C18: 86 | D18: 15 | E18: 2407116
A19: 臺南縣 | B19: 143 | C19: 115 | D19: 28 | E19: 2397709
... A32: 金門縣 | B32: 15 | C32: 5 | D32: 10 | E32: 210000
