Workbook

Sheet 111年度經費分配表(總表)
A1: ○○○縣(市)111年度減少照護機構至醫療機構就醫方案 經費分配表參考格式
A3: 一、推估轄內所需獎勵費
B5: 家數 | C5: 收住人數 a | D5: 獎勵費單位 b=a/50 | E5: 各機構達成指標之獎勵 c | F5: 獎勵費 d=b*c
A6: 醫療機構 | C6: ='111年度經費分配表(各醫療機構)'!C12 -> 0 | D6: ='111年度經費分配表(各醫療機構)'!D12 -> 0 | E6: 240000 | F6: =D6*E6 -> 0
A7: 照護機構 | C7: ='111年度經費分配表(各照護機構)'!C12 -> 0 | D7: ='111年度經費分配表(各照護機構)'!D12 -> 0 | E7: 120000 | F7: =D7*E7 -> 0
A8: 總計 | B8: =SUM(B6:B7) -> 0 | C8: =SUM(C6:C7) -> 0 | D8: - | E8: - | F8: =SUM(F6:F7) -> 0
A10: 二、推估行政費
B12: 獎勵費 d | C12: 行政費 (補助上限為獎勵費之5%) e=d*5%
A13: 醫療機構 | B13: ='111年度經費分配表(各醫療機構)'!F12 -> 0 | C13: =B13*0.05 -> 0
A14: 照護機構 | B14: ='111年度經費分配表(各照護機構)'!F12 -> 0 | C14: =B14*0.05 -> 0
A15: 總計 | B15: =SUM(B13:B14) -> 0 | C15: =B15*0.05 -> 0
A17: 三、分配兩期請領經費
A19: 期程 | B19: 所占請領總經費之比率 f | C19: 請領金額 g=f*(總計d+總計e)
A20: 第1期款 | B20: 0.7 | C20: =B20*(B15+C15) -> 0
A21: 第2期款 | B21: 0.3 | C21: =B21*(B15+C15) -> 0
A22: 總計 | B22: =SUM(B20:B21) -> 1 | C22: =B15+C15 -> 0

Sheet 111年度經費分配表(各醫療機構)
A1: 推估111年度轄內醫療機構所需獎勵費
A3: 編號 | B3: 醫療機構名稱 | C3: 收住人數 a | D3: 獎勵費單位 b=a/50 | E3: 各機構達成指標之獎勵 c | F3: 獎勵費 d=b*c
A4: 1 | D4: =C4/50 -> 0 | E4: 240000 | F4: =D4*E4 -> 0
A5: 2 | D5: =C5/50 -> 0 | E5: 240000 | F5: =D5*E5 -> 0
A6: 3 | D6: =C6/50 -> 0 | E6: 240000 | F6: =D6*E6 -> 0
A7: 4 | D7: =C7/50 -> 0 | E7: 240000 | F7: =D7*E7 -> 0
A8: 5 | D8: =C8/50 -> 0 | E8: 240000 | F8: =D8*E8 -> 0
A9: 6 | D9: =C9/50 -> 0 | E9: 240000 | F9: =D9*E9 -> 0
D10: =C10/50 -> 0 | E10: 240000 | F10: =D10*E10 -> 0
D11: =C11/50 -> 0 | E11: 240000 | F11: =D11*E11 -> 0
A12: 總計 | C12: =SUM(C4:C11) -> 0 | D12: =C12/50 -> 0 | E12: - | F12: =SUM(F4:F11) -> 0

Sheet 111年度經費分配表(各照護機構)
A1: 推估111年度轄內照護機構所需獎勵費
A3: 編號 | B3: 照護機構名稱 | C3: 收住人數 a | D3: 獎勵費單位 b=a/50 | E3: 各機構達成指標之獎勵 c | F3: 獎勵費 d=b*c
A4: 1 | D4: =C4/50 -> 0 | E4: 120000 | F4: =D4*E4 -> 0
A5: 2 | D5: =C5/50 -> 0 | E5: 120000 | F5: =D5*E5 -> 0
A6: 3 | D6: =C6/50 -> 0 | E6: 120000 | F6: =D6*E6 -> 0
A7: 4 | D7: =C7/50 -> 0 | E7: 120000 | F7: =D7*E7 -> 0
A8: 5 | D8: =C8/50 -> 0 | E8: 120000 | F8: =D8*E8 -> 0
A9: 6 | D9: =C9/50 -> 0 | E9: 120000 | F9: =D9*E9 -> 0
A10: 7 | D10: =C10/50 -> 0 | E10: 120000 | F10: =D10*E10 -> 0
D11: =C11/50 -> 0 | E11: 120000 | F11: =D11*E11 -> 0
A12: 總計 | C12: =SUM(C4:C11) -> 0 | D12: =C12/50 -> 0 | E12: - | F12: =SUM(F4:F11) -> 0

Sheet 112年度經費分配表(總表) 
A1: ○○○縣(市)112年度減少照護機構至醫療機構就醫方案 經費分配表參考格式
A3: 一、推估轄內所需獎勵費
B5: 家數 | C5: 收住人數 a | D5: 獎勵費單位 b=a/50 | E5: 各機構達成指標之獎勵 c | F5: 獎勵費 d=b*c
A6: 醫療機構 | C6: ='112年度經費分配表(各醫療機構) '!C12 -> 0 | D6: ='112年度經費分配表(各醫療機構) '!D12 -> 0 | E6: 240000 | F6: =D6*E6 -> 0
A7: 照護機構 | C7: ='112年度經費分配表(各照護機構) '!C12 -> 0 | D7: ='112年度經費分配表(各照護機構) '!D12 -> 0 | E7: 120000 | F7: =D7*E7 -> 0
A8: 總計 | B8: =SUM(B6:B7) -> 0 | C8: =SUM(C6:C7) -> 0 | D8: - | E8: - | F8: =SUM(F6:F7) -> 0
A10: 二、推估行政費
B12: 獎勵費 d | C12: 行政費 (補助上限為獎勵費之5%) e=d*5%
A13: 醫療機構 | B13: ='112年度經費分配表(各醫療機構) '!F12 -> 0 | C13: =B13*0.05 -> 0
A14: 照護機構 | B14: ='112年度經費分配表(各照護機構) '!F12 -> 0 | C14: =B14*0.05 -> 0
A15: 總計 | B15: =SUM(B13:B14) -> 0 | C15: =B15*0.05 -> 0
A17: 三、分配兩期請領經費
A19: 期程 | B19: 所占請領總經費之比率 f | C19: 請領金額 g=f*(總計d+總計e)
A20: 第1期款 | B20: 0.7 | C20: =B20*(B15+C15) -> 0
A21: 第2期款 | B21: 0.3 | C21: =B21*(B15+C15) -> 0
A22: 總計 | B22: =SUM(B20:B21) -> 1 | C22: =B15+C15 -> 0

Sheet 112年度經費分配表(各醫療機構) 
A1: 推估112年度轄內醫療機構所需獎勵費
A3: 編號 | B3: 醫療機構名稱 | C3: 收住人數 a | D3: 獎勵費單位 b=a/50 | E3: 各機構達成指標之獎勵 c | F3: 獎勵費 d=b*c
A4: 1 | D4: =C4/50 -> 0 | E4: 240000 | F4: =D4*E4 -> 0
A5: 2 | D5: =C5/50 -> 0 | E5: 240000 | F5: =D5*E5 -> 0
A6: 3 | D6: =C6/50 -> 0 | E6: 240000 | F6: =D6*E6 -> 0
A7: 4 | D7: =C7/50 -> 0 | E7: 240000 | F7: =D7*E7 -> 0
A8: 5 | D8: =C8/50 -> 0 | E8: 240000 | F8: =D8*E8 -> 0
A9: 6 | D9: =C9/50 -> 0 | E9: 240000 | F9: =D9*E9 -> 0
D10: =C10/50 -> 0 | E10: 240000 | F10: =D10*E10 -> 0
D11: =C11/50 -> 0 | E11: 240000 | F11: =D11*E11 -> 0
A12: 總計 | C12: =SUM(C4:C11) -> 0 | D12: =C12/50 -> 0 | E12: - | F12: =SUM(F4:F11) -> 0

Sheet 112年度經費分配表(各照護機構) 
A1: 推估112年度轄內照護機構所需獎勵費
A3: 編號 | B3: 照護機構名稱 | C3: 收住人數 a | D3: 獎勵費單位 b=a/50 | E3: 各機構達成指標之獎勵 c | F3: 獎勵費 d=b*c
A4: 1 | D4: =C4/50 -> 0 | E4: 120000 | F4: =D4*E4 -> 0
A5: 2 | D5: =C5/50 -> 0 | E5: 120000 | F5: =D5*E5 -> 0
A6: 3 | D6: =C6/50 -> 0 | E6: 120000 | F6: =D6*E6 -> 0
A7: 4 | D7: =C7/50 -> 0 | E7: 120000 | F7: =D7*E7 -> 0
A8: 5 | D8: =C8/50 -> 0 | E8: 120000 | F8: =D8*E8 -> 0
A9: 6 | D9: =C9/50 -> 0 | E9: 120000 | F9: =D9*E9 -> 0
A10: 7 | D10: =C10/50 -> 0 | E10: 120000 | F10: =D10*E10 -> 0
D11: =C11/50 -> 0 | E11: 120000 | F11: =D11*E11 -> 0
A12: 總計 | C12: =SUM(C4:C11) -> 0 | D12: =C12/50 -> 0 | E12: - | F12: =SUM(F4:F11) -> 0

Sheet 113年度經費分配表(總表) 
A1: ○○○縣(市)113年度減少照護機構至醫療機構就醫方案 經費分配表參考格式
A3: 一、推估轄內所需獎勵費
B5: 家數 | C5: 收住人數 a | D5: 獎勵費單位 b=a/50 | E5: 各機構達成指標之獎勵 c | F5: 獎勵費 d=b*c
A6: 醫療機構 | C6: ='113年度經費分配表(各醫療機構) '!C12 -> 0 | D6: ='113年度經費分配表(各醫療機構) '!D12 -> 0 | E6: 240000 | F6: =D6*E6 -> 0
A7: 照護機構 | C7: ='113年度經費分配表(各照護機構) '!C12 -> 0 | D7: ='113年度經費分配表(各照護機構) '!D12 -> 0 | E7: 120000 | F7: =D7*E7 -> 0
A8: 總計 | B8: =SUM(B6:B7) -> 0 | C8: =SUM(C6:C7) -> 0 | D8: - | E8: - | F8: =SUM(F6:F7) -> 0
A10: 二、推估行政費
B12: 獎勵費 d | C12: 行政費 (補助上限為獎勵費之5%) e=d*5%
A13: 醫療機構 | B13: ='113年度經費分配表(各醫療機構) '!F12 -> 0 | C13: =B13*0.05 -> 0
A14: 照護機構 | B14: ='113年度經費分配表(各照護機構) '!F12 -> 0 | C14: =B14*0.05 -> 0
A15: 總計 | B15: =SUM(B13:B14) -> 0 | C15: =B15*0.05 -> 0
A17: 三、分配兩期請領經費
A19: 期程 | B19: 所占請領總經費之比率 f | C19: 請領金額 g=f*(總計d+總計e)
A20: 第1期款 | B20: 0.7 | C20: =B20*(B15+C15) -> 0
A21: 第2期款 | B21: 0.3 | C21: =B21*(B15+C15) -> 0
A22: 總計 | B22: =SUM(B20:B21) -> 1 | C22: =B15+C15 -> 0

Sheet 113年度經費分配表(各醫療機構)  
A1: 推估113年度轄內醫療機構所需獎勵費
A3: 編號 | B3: 醫療機構名稱 | C3: 收住人數 a | D3: 獎勵費單位 b=a/50 | E3: 各機構達成指標之獎勵 c | F3: 獎勵費 d=b*c
A4: 1 | D4: =C4/50 -> 0 | E4: 240000 | F4: =D4*E4 -> 0
A5: 2 | D5: =C5/50 -> 0 | E5: 240000 | F5: =D5*E5 -> 0
A6: 3 | D6: =C6/50 -> 0 | E6: 240000 | F6: =D6*E6 -> 0
A7: 4 | D7: =C7/50 -> 0 | E7: 240000 | F7: =D7*E7 -> 0
A8: 5 | D8: =C8/50 -> 0 | E8: 240000 | F8: =D8*E8 -> 0
A9: 6 | D9: =C9/50 -> 0 | E9: 240000 | F9: =D9*E9 -> 0
D10: =C10/50 -> 0 | E10: 240000 | F10: =D10*E10 -> 0
D11: =C11/50 -> 0 | E11: 240000 | F11: =D11*E11 -> 0
A12: 總計 | C12: =SUM(C4:C11) -> 0 | D12: =C12/50 -> 0 | E12: - | F12: =SUM(F4:F11) -> 0

Sheet 113年度經費分配表(各照護機構)  
A1: 推估113年度轄內照護機構所需獎勵費
A3: 編號 | B3: 照護機構名稱 | C3: 收住人數 a | D3: 獎勵費單位 b=a/50 | E3: 各機構達成指標之獎勵 c | F3: 獎勵費 d=b*c
A4: 1 | D4: =C4/50 -> 0 | E4: 120000 | F4: =D4*E4 -> 0
A5: 2 | D5: =C5/50 -> 0 | E5: 120000 | F5: =D5*E5 -> 0
A6: 3 | D6: =C6/50 -> 0 | E6: 120000 | F6: =D6*E6 -> 0
A7: 4 | D7: =C7/50 -> 0 | E7: 120000 | F7: =D7*E7 -> 0
A8: 5 | D8: =C8/50 -> 0 | E8: 120000 | F8: =D8*E8 -> 0
A9: 6 | D9: =C9/50 -> 0 | E9: 120000 | F9: =D9*E9 -> 0
A10: 7 | D10: =C10/50 -> 0 | E10: 120000 | F10: =D10*E10 -> 0
D11: =C11/50 -> 0 | E11: 120000 | F11: =D11*E11 -> 0
A12: 總計 | C12: =SUM(C4:C11) -> 0 | D12: =C12/50 -> 0 | E12: - | F12: =SUM(F4:F11) -> 0
