Workbook

Sheet 醫事人員數
A1: 機 構 執 業 醫 事 人 員 數 ─ 按 縣 市 別 分 | P1: 機 構 執 業 醫 事 人 員 數 ─ 按 縣 市 別 分(續)
A2: 民國113年底 | P2: 民國113年底
O3: 單位：人 | AE3: 單位：人
A4: 醫事人員 | B4: 合計 | C4: 西醫師 | D4: 中醫師 | E4: 牙醫師 | F4: 藥師 | G4: 藥劑生 | H4: 醫事檢驗師 | I4: 醫事檢驗生 | J4: 醫事放射師 | K4: 醫事放射士 | L4: 護理師 | M4: 護士 | N4: 助產師 | O4: 助產士 | P4: 醫事人員 | Q4: 鑲牙生 | R4: 營養師 | S4: 物理治療師 | T4: 物理治療生 | U4: 職能治療師 | V4: 職能治療生 | W4: 臨床心理師 | X4: 諮商心理師 | Y4: 呼吸治療師 | Z4: 語言治療師 | AA4: 聽力師 | AB4: 牙體技術師 | AC4: 牙體技術生 | AD4: 驗光師 | AE4: 驗光生
H5: 事 | I5: 事
H6: 檢 | I6: 檢
H7: 驗 | I7: 驗
A8: 縣市別 | H8: 師 | I8: 師 | P8: 縣市別
A9: 總 計 | B9: 369119 | C9: 55230 | D9: 8037 | E9: 16690 | F9: 31957 | G9: 5206 | H9: 10528 | I9: 125 | J9: 7662 | K9: 53 | L9: 176231 | M9: 15915 | N9: 138 | O9: 75 | P9: 總 計 | Q9: 27 | R9: 3879 | S9: 8665 | T9: 1582 | U9: 4804 | V9: 168 | W9: 2187 | X9: 4030 | Y9: 2455 | Z9: 1892 | AA9: 494 | AB9: 1905 | AC9: 837 | AD9: 4140 | AE9: 4207
A10: 新北市 | B10: 45473 | C10: 6853 | D10: 1099 | E10: 2878 | F10: 4603 | G10: 889 | H10: 938 | I10: 12 | J10: 865 | K10: 7 | L10: 19318 | M10: 2173 | N10: 22 | O10: 5 | P10: 新北市 | Q10: 3 | R10: 414 | S10: 1306 | T10: 221 | U10: 663 | V10: 10 | W10: 255 | X10: 400 | Y10: 367 | Z10: 303 | AA10: 96 | AB10: 330 | AC10: 228 | AD10: 565 | AE10: 650
A11: 臺北市 | B11: 65173 | C11: 11883 | D11: 1173 | E11: 3595 | F11: 5286 | G11: 476 | H11: 2380 | I11: 35 | J11: 1630 | K11: 7 | L11: 29644 | M11: 1810 | N11: 32 | O11: 8 | P11: 臺北市 | Q11: 0 | R11: 668 | S11: 1591 | T11: 147 | U11: 702 | V11: 6 | W11: 492 | X11: 1212 | Y11: 382 | Z11: 230 | AA11: 89 | AB11: 265 | AC11: 105 | AD11: 731 | AE11: 594
A12: 桃園市 | B12: 32037 | C12: 4669 | D12: 651 | E12: 1487 | F12: 2583 | G12: 473 | H12: 754 | I12: 24 | J12: 579 | K12: 7 | L12: 15639 | M12: 1669 | N12: 10 | O12: 2 | P12: 桃園市 | Q12: 0 | R12: 305 | S12: 695 | T12: 147 | U12: 421 | V12: 4 | W12: 187 | X12: 313 | Y12: 243 | Z12: 169 | AA12: 34 | AB12: 139 | AC12: 90 | AD12: 376 | AE12: 367
A13: 臺中市 | B13: 50536 | C13: 7555 | D13: 1607 | E13: 2256 | F13: 4410 | G13: 676 | H13: 1492 | I13: 9 | J13: 1115 | K13: 2 | L13: 23821 | M13: 1567 | N13: 12 | O13: 9 | P13: 臺中市 | Q13: 9 | R13: 567 | S13: 1133 | T13: 205 | U13: 670 | V13: 36 | W13: 268 | X13: 495 | Y13: 278 | Z13: 366 | AA13: 70 | AB13: 434 | AC13: 90 | AD13: 798 | AE13: 586
A14: 臺南市 | B14: 30922 | C14: 4215 | D14: 667 | E14: 1273 | F14: 2950 | G14: 280 | H14: 900 | I14: 1 | J14: 574 | K14: 6 | L14: 15201 | M14: 1454 | N14: 12 | O14: 6 | P14: 臺南市 | Q14: 4 | R14: 310 | S14: 794 | T14: 159 | U14: 412 | V14: 14 | W14: 139 | X14: 271 | Y14: 209 | Z14: 142 | AA14: 41 | AB14: 113 | AC14: 60 | AD14: 370 | AE14: 345
A15: 高雄市 | B15: 48106 | C15: 7527 | D15: 995 | E15: 1996 | F15: 4209 | G15: 681 | H15: 1343 | I15: 4 | J15: 878 | K15: 10 | L15: 23159 | M15: 2277 | N15: 6 | O15: 16 | P15: 高雄市 | Q15: 1 | R15: 416 | S15: 1094 | T15: 248 | U15: 542 | V15: 29 | W15: 238 | X15: 449 | Y15: 321 | Z15: 173 | AA15: 45 | AB15: 312 | AC15: 104 | AD15: 411 | AE15: 622
A16: 宜蘭縣 | B16: 6849 | C16: 766 | D16: 91 | E16: 201 | F16: 507 | G16: 56 | H16: 158 | I16: 1 | J16: 148 | K16: 2 | L16: 3789 | M16: 371 | N16: 2 | O16: 1 | P16: 宜蘭縣 | Q16: 0 | R16: 80 | S16: 147 | T16: 42 | U16: 100 | V16: 7 | W16: 55 | X16: 64 | Y16: 58 | Z16: 38 | AA16: 5 | AB16: 23 | AC16: 22 | AD16: 59 | AE16: 56
A17: 新竹縣 | B17: 7128 | C17: 838 | D17: 135 | E17: 318 | F17: 611 | G17: 140 | H17: 214 | I17: 10 | J17: 144 | K17: 2 | L17: 3333 | M17: 434 | N17: 2 | O17: 1 | P17: 新竹縣 | Q17: 0 | R17: 108 | S17: 198 | T17: 31 | U17: 126 | V17: 2 | W17: 72 | X17: 97 | Y17: 37 | Z17: 58 | AA17: 8 | AB17: 19 | AC17: 11 | AD17: 91 | AE17: 88
A18: 苗栗縣 | B18: 5380 | C18: 584 | D18: 119 | E18: 203 | F18: 422 | G18: 211 | H18: 141 | I18: 8 | J18: 110 | K18: 1 | L18: 2447 | M18: 442 | N18: 0 | O18: 0 | P18: 苗栗縣 | Q18: 0 | R18: 80 | S18: 151 | T18: 46 | U18: 129 | V18: 10 | W18: 28 | X18: 31 | Y18: 24 | Z18: 63 | AA18: 2 | AB18: 10 | AC18: 6 | AD18: 47 | AE18: 65
A19: 彰化縣 | B19: 16676 | C19: 2246 | D19: 420 | E19: 641 | F19: 1423 | G19: 323 | H19: 475 | I19: 3 | J19: 326 | K19: 1 | L19: 8346 | M19: 660 | N19: 10 | O19: 7 | P19: 彰化縣 | Q19: 3 | R19: 167 | S19: 334 | T19: 72 | U19: 223 | V19: 15 | W19: 72 | X19: 115 | Y19: 113 | Z19: 101 | AA19: 32 | AB19: 110 | AC19: 30 | AD19: 204 | AE19: 204
A20: 南投縣 | B20: 5626 | C20: 654 | D20: 144 | E20: 158 | F20: 496 | G20: 165 | H20: 137 | I20: 0 | J20: 122 | K20: 1 | L20: 2791 | M20: 287 | N20: 4 | O20: 2 | P20: 南投縣 | Q20: 1 | R20: 73 | S20: 103 | T20: 39 | U20: 125 | V20: 5 | W20: 38 | X20: 42 | Y20: 26 | Z20: 38 | AA20: 5 | AB20: 22 | AC20: 4 | AD20: 74 | AE20: 70
... A31: 連江縣 | B31: 132 | C31: 20 | D31: 0 | E31: 8 | F31: 10 | G31: 0 | H31: 8 | I31: 0 | J31: 4 | K31: 0 | L31: 66 | M31: 3 | N31: 0 | O31: 0 | P31: 連江縣 | Q31: 0 | R31: 4 | S31: 5 | T31: 0 | U31: 0 | V31: 0 | W31: 1 | X31: 2 | Y31: 0 | Z31: 0 | AA31: 1 | AB31: 0 | AC31: 0 | AD31: 0 | AE31: 0
A32: 附註：自民國107年起非醫事機構之定義調整，擴大統計範圍。

Sheet 每萬人口醫事人員數
A1: 機 構 每 萬 人 口 執 業 醫 事 人 員 數 ─ 按 縣 市 別 分 | Q1: 機 構 每 萬 人 口 執 業 醫 事 人 員 數 ─ 按 縣 市 別 分(續)
A2: 民國113年底 | Q2: 民國113年底
P3: 單位：人 | AF3: 單位：人
A4: 醫事人員 | B4: 年底人口數 | C4: 合計 | D4: 西醫師 | E4: 中醫師 | F4: 牙醫師 | G4: 藥師 | H4: 藥劑生 | I4: 醫事檢驗師 | J4: 醫事檢驗生 | K4: 醫事放射師 | L4: 醫事放射士 | M4: 護理師 | N4: 護士 | O4: 助產師 | P4: 助產士 | Q4: 醫事人員 | R4: 鑲牙生 | S4: 營養師 | T4: 物理治療師 | U4: 物理治療生 | V4: 職能治療師 | W4: 職能治療生 | X4: 臨床心理師 | Y4: 諮商心理師 | Z4: 呼吸治療師 | AA4: 語言治療師 | AB4: 聽力師 | AC4: 牙體技術師 | AD4: 牙體技術生 | AE4: 驗光師 | AF4: 驗光生
I5: 事 | J5: 事
I6: 檢 | J6: 檢
I7: 驗 | J7: 驗
A8: 縣市別 | C8: 計 | I8: 師 | J8: 師 | Q8: 縣市別
A9: 總 計 | B9: =Sheet1!B6 -> 23400220 | C9: =Sheet1!AG6 -> 157.74168 | D9: =Sheet1!AH6 -> 23.602342 | E9: =Sheet1!AI6 -> 3.4345831 | F9: =Sheet1!AJ6 -> 7.1324116 | G9: =Sheet1!AK6 -> 13.656709 | H9: =Sheet1!AL6 -> 2.2247654 | I9: =Sheet1!AM6 -> 4.499103 | J9: =Sheet1!AN6 -> 0.053418301 | ... P9: =Sheet1!AT6 -> 0.032050981 | Q9: 總 計 | R9: =Sheet1!AU6 -> 0.011538353 | S9: =Sheet1!AV6 -> 1.6576767 | T9: =Sheet1!AW6 -> 3.7029566 | U9: =Sheet1!AX6 -> 0.67606202 | V9: =Sheet1!AY6 -> 2.0529722 | W9: =Sheet1!AZ6 -> 0.071794197 | X9: =Sheet1!BA6 -> 0.9346066 | Y9: =Sheet1!BB6 -> 1.722206 | ... AF9: =Sheet1!BI6 -> 1.7978463
A10: 新北市 | B10: =Sheet1!B7 -> 4047001 | C10: =Sheet1!AG7 -> 112.36222 | D10: =Sheet1!AH7 -> 16.933527 | E10: =Sheet1!AI7 -> 2.7155911 | F10: =Sheet1!AJ7 -> 7.1114388 | G10: =Sheet1!AK7 -> 11.373854 | H10: =Sheet1!AL7 -> 2.1966884 | I10: =Sheet1!AM7 -> 2.3177657 | J10: =Sheet1!AN7 -> 0.029651586 | ... P10: =Sheet1!AT7 -> 0.012354828 | Q10: 新北市 | R10: =Sheet1!AU7 -> 0.0074128966 | S10: =Sheet1!AV7 -> 1.0229797 | T10: =Sheet1!AW7 -> 3.227081 | U10: =Sheet1!AX7 -> 0.54608338 | V10: =Sheet1!AY7 -> 1.6382502 | W10: =Sheet1!AZ7 -> 0.024709655 | X10: =Sheet1!BA7 -> 0.63009621 | Y10: =Sheet1!BB7 -> 0.98838621 | ... AF10: =Sheet1!BI7 -> 1.6061276
A11: 臺北市 | B11: =Sheet1!B8 -> 2490869 | C11: =Sheet1!AG8 -> 261.64764 | D11: =Sheet1!AH8 -> 47.706242 | E11: =Sheet1!AI8 -> 4.7091999 | F11: =Sheet1!AJ8 -> 14.432714 | G11: =Sheet1!AK8 -> 21.221509 | H11: =Sheet1!AL8 -> 1.9109797 | I11: =Sheet1!AM8 -> 9.5548983 | J11: =Sheet1!AN8 -> 0.14051321 | ... P11: =Sheet1!AT8 -> 0.032117305 | Q11: 臺北市 | R11: =Sheet1!AU8 -> 0 | S11: =Sheet1!AV8 -> 2.681795 | T11: =Sheet1!AW8 -> 6.3873291 | U11: =Sheet1!AX8 -> 0.59015548 | V11: =Sheet1!AY8 -> 2.8182935 | W11: =Sheet1!AZ8 -> 0.024087979 | X11: =Sheet1!BA8 -> 1.9752143 | Y11: =Sheet1!BB8 -> 4.8657717 | ... AF11: =Sheet1!BI8 -> 2.3847099
A12: 桃園市 | B12: =Sheet1!B9 -> 2338648 | C12: =Sheet1!AG9 -> 136.98941 | D12: =Sheet1!AH9 -> 19.964527 | E12: =Sheet1!AI9 -> 2.7836596 | F12: =Sheet1!AJ9 -> 6.3583746 | G12: =Sheet1!AK9 -> 11.044843 | H12: =Sheet1!AL9 -> 2.0225361 | I12: =Sheet1!AM9 -> 3.224085 | J12: =Sheet1!AN9 -> 0.1026234 | ... P12: =Sheet1!AT9 -> 0.0085519497 | Q12: 桃園市 | R12: =Sheet1!AU9 -> 0 | S12: =Sheet1!AV9 -> 1.3041723 | T12: =Sheet1!AW9 -> 2.9718025 | U12: =Sheet1!AX9 -> 0.6285683 | V12: =Sheet1!AY9 -> 1.8001854 | W12: =Sheet1!AZ9 -> 0.017103899 | X12: =Sheet1!BA9 -> 0.79960729 | Y12: =Sheet1!BB9 -> 1.3383801 | ... AF12: =Sheet1!BI9 -> 1.5692828
A13: 臺中市 | B13: =Sheet1!B10 -> 2860601 | C13: =Sheet1!AG10 -> 176.66218 | D13: =Sheet1!AH10 -> 26.410534 | E13: =Sheet1!AI10 -> 5.6177006 | F13: =Sheet1!AJ10 -> 7.8864546 | G13: =Sheet1!AK10 -> 15.416341 | H13: =Sheet1!AL10 -> 2.3631398 | I13: =Sheet1!AM10 -> 5.2156872 | J13: =Sheet1!AN10 -> 0.03146192 | ... P13: =Sheet1!AT10 -> 0.03146192 | Q13: 臺中市 | R13: =Sheet1!AU10 -> 0.03146192 | S13: =Sheet1!AV10 -> 1.982101 | T13: =Sheet1!AW10 -> 3.9607062 | U13: =Sheet1!AX10 -> 0.71663262 | V13: =Sheet1!AY10 -> 2.3421652 | W13: =Sheet1!AZ10 -> 0.12584768 | X13: =Sheet1!BA10 -> 0.93686606 | Y13: =Sheet1!BB10 -> 1.7304056 | ... AF13: =Sheet1!BI10 -> 2.0485206
A14: 臺南市 | B14: =Sheet1!B11 -> 1858651 | C14: =Sheet1!AG11 -> 166.36797 | D14: =Sheet1!AH11 -> 22.677738 | E14: =Sheet1!AI11 -> 3.5886242 | F14: =Sheet1!AJ11 -> 6.8490534 | G14: =Sheet1!AK11 -> 15.871726 | H14: =Sheet1!AL11 -> 1.5064689 | I14: =Sheet1!AM11 -> 4.8422216 | J14: =Sheet1!AN11 -> 0.0053802462 | ... P14: =Sheet1!AT11 -> 0.032281477 | Q14: 臺南市 | R14: =Sheet1!AU11 -> 0.021520985 | S14: =Sheet1!AV11 -> 1.6678763 | T14: =Sheet1!AW11 -> 4.2719155 | U14: =Sheet1!AX11 -> 0.85545915 | V14: =Sheet1!AY11 -> 2.2166614 | W14: =Sheet1!AZ11 -> 0.075323447 | X14: =Sheet1!BA11 -> 0.74785422 | Y14: =Sheet1!BB11 -> 1.4580467 | ... AF14: =Sheet1!BI11 -> 1.8561849
A15: 高雄市 | B15: =Sheet1!B12 -> 2731412 | C15: =Sheet1!AG12 -> 176.12136 | D15: =Sheet1!AH12 -> 27.557176 | E15: =Sheet1!AI12 -> 3.6428045 | F15: =Sheet1!AJ12 -> 7.3075757 | G15: =Sheet1!AK12 -> 15.409612 | H15: =Sheet1!AL12 -> 2.493216 | I15: =Sheet1!AM12 -> 4.9168708 | J15: =Sheet1!AN12 -> 0.01464444 | ... P15: =Sheet1!AT12 -> 0.058577761 | Q15: 高雄市 | R15: =Sheet1!AU12 -> 0.0036611101 | S15: =Sheet1!AV12 -> 1.5230218 | T15: =Sheet1!AW12 -> 4.0052544 | U15: =Sheet1!AX12 -> 0.9079553 | V15: =Sheet1!AY12 -> 1.9843217 | W15: =Sheet1!AZ12 -> 0.10617219 | X15: =Sheet1!BA12 -> 0.8713442 | Y15: =Sheet1!BB12 -> 1.6438384 | ... AF15: =Sheet1!BI12 -> 2.2772105
A16: 宜蘭縣 | B16: =Sheet1!B13 -> 449212 | C16: =Sheet1!AG13 -> 152.46699 | D16: =Sheet1!AH13 -> 17.052082 | E16: =Sheet1!AI13 -> 2.0257696 | F16: =Sheet1!AJ13 -> 4.474502 | G16: =Sheet1!AK13 -> 11.28643 | H16: =Sheet1!AL13 -> 1.2466274 | I16: =Sheet1!AM13 -> 3.5172702 | J16: =Sheet1!AN13 -> 0.022261204 | ... P16: =Sheet1!AT13 -> 0.022261204 | Q16: 宜蘭縣 | R16: =Sheet1!AU13 -> 0 | S16: =Sheet1!AV13 -> 1.7808963 | T16: =Sheet1!AW13 -> 3.272397 | U16: =Sheet1!AX13 -> 0.93497057 | V16: =Sheet1!AY13 -> 2.2261204 | W16: =Sheet1!AZ13 -> 0.15582843 | X16: =Sheet1!BA13 -> 1.2243662 | Y16: =Sheet1!BB13 -> 1.4247171 | ... AF16: =Sheet1!BI13 -> 1.2466274
A17: 新竹縣 | B17: =Sheet1!B14 -> 594641 | C17: =Sheet1!AG14 -> 119.87064 | D17: =Sheet1!AH14 -> 14.092537 | E17: =Sheet1!AI14 -> 2.2702774 | F17: =Sheet1!AJ14 -> 5.3477644 | G17: =Sheet1!AK14 -> 10.275107 | H17: =Sheet1!AL14 -> 2.3543617 | I17: =Sheet1!AM14 -> 3.59881 | J17: =Sheet1!AN14 -> 0.16816869 | ... P17: =Sheet1!AT14 -> 0.016816869 | Q17: 新竹縣 | R17: =Sheet1!AU14 -> 0 | S17: =Sheet1!AV14 -> 1.8162219 | T17: =Sheet1!AW14 -> 3.3297401 | U17: =Sheet1!AX14 -> 0.52132295 | V17: =Sheet1!AY14 -> 2.1189255 | W17: =Sheet1!AZ14 -> 0.033633739 | X17: =Sheet1!BA14 -> 1.2108146 | Y17: =Sheet1!BB14 -> 1.6312363 | ... AF17: =Sheet1!BI14 -> 1.4798845
A18: 苗栗縣 | B18: =Sheet1!B15 -> 532854 | C18: =Sheet1!AG15 -> 100.96574 | D18: =Sheet1!AH15 -> 10.95985 | E18: =Sheet1!AI15 -> 2.2332571 | F18: =Sheet1!AJ15 -> 3.8096739 | G18: =Sheet1!AK15 -> 7.9196178 | H18: =Sheet1!AL15 -> 3.9598089 | I18: =Sheet1!AM15 -> 2.6461282 | J18: =Sheet1!AN15 -> 0.15013493 | ... P18: =Sheet1!AT15 -> 0 | Q18: 苗栗縣 | R18: =Sheet1!AU15 -> 0 | S18: =Sheet1!AV15 -> 1.5013493 | T18: =Sheet1!AW15 -> 2.8337969 | U18: =Sheet1!AX15 -> 0.86327587 | V18: =Sheet1!AY15 -> 2.4209258 | W18: =Sheet1!AZ15 -> 0.18766867 | X18: =Sheet1!BA15 -> 0.52547227 | Y18: =Sheet1!BB15 -> 0.58177287 | ... AF18: =Sheet1!BI15 -> 1.2198463
A19: 彰化縣 | B19: =Sheet1!B16 -> 1225675 | C19: =Sheet1!AG16 -> 136.05564 | D19: =Sheet1!AH16 -> 18.324597 | E19: =Sheet1!AI16 -> 3.4266833 | F19: =Sheet1!AJ16 -> 5.2297714 | G19: =Sheet1!AK16 -> 11.609929 | H19: =Sheet1!AL16 -> 2.6352826 | I19: =Sheet1!AM16 -> 3.8754156 | J19: =Sheet1!AN16 -> 0.024476309 | ... P19: =Sheet1!AT16 -> 0.057111388 | Q19: 彰化縣 | R19: =Sheet1!AU16 -> 0.024476309 | S19: =Sheet1!AV16 -> 1.3625145 | T19: =Sheet1!AW16 -> 2.7250291 | U19: =Sheet1!AX16 -> 0.58743142 | V19: =Sheet1!AY16 -> 1.8194056 | W19: =Sheet1!AZ16 -> 0.12238154 | X19: =Sheet1!BA16 -> 0.58743142 | Y19: =Sheet1!BB16 -> 0.93825851 | ... AF19: =Sheet1!BI16 -> 1.664389
A20: 南投縣 | B20: =Sheet1!B17 -> 472299 | C20: =Sheet1!AG17 -> 119.11946 | D20: =Sheet1!AH17 -> 13.84716 | E20: =Sheet1!AI17 -> 3.048916 | F20: =Sheet1!AJ17 -> 3.3453384 | G20: =Sheet1!AK17 -> 10.501822 | H20: =Sheet1!AL17 -> 3.4935496 | I20: =Sheet1!AM17 -> 2.9007049 | J20: =Sheet1!AN17 -> 0 | ... P20: =Sheet1!AT17 -> 0.042346056 | Q20: 南投縣 | R20: =Sheet1!AU17 -> 0.021173028 | S20: =Sheet1!AV17 -> 1.5456311 | T20: =Sheet1!AW17 -> 2.1808219 | U20: =Sheet1!AX17 -> 0.8257481 | V20: =Sheet1!AY17 -> 2.6466285 | W20: =Sheet1!AZ17 -> 0.10586514 | X20: =Sheet1!BA17 -> 0.80457507 | Y20: =Sheet1!BB17 -> 0.88926718 | ... AF20: =Sheet1!BI17 -> 1.482112
... A31: 連江縣 | B31: =Sheet1!B28 -> 13950 | C31: =Sheet1!AG28 -> 94.623656 | D31: =Sheet1!AH28 -> 14.336918 | E31: =Sheet1!AI28 -> 0 | F31: =Sheet1!AJ28 -> 5.734767 | G31: =Sheet1!AK28 -> 7.1684588 | H31: =Sheet1!AL28 -> 0 | I31: =Sheet1!AM28 -> 5.734767 | J31: =Sheet1!AN28 -> 0 | ... P31: =Sheet1!AT28 -> 0 | Q31: 連江縣 | R31: =Sheet1!AU28 -> 0 | S31: =Sheet1!AV28 -> 2.8673835 | T31: =Sheet1!AW28 -> 3.5842294 | U31: =Sheet1!AX28 -> 0 | V31: =Sheet1!AY28 -> 0 | W31: =Sheet1!AZ28 -> 0 | X31: =Sheet1!BA28 -> 0.71684588 | Y31: =Sheet1!BB28 -> 1.4336918 | ... AF31: =Sheet1!BI28 -> 0
A32: 附註：自民國107年起非醫事機構之定義調整，擴大統計範圍。

Sheet Sheet1
B1: 年底人口數(服務量總表表一) | C1: 合計 | D1: 西醫師 | E1: 中醫師 | F1: 牙醫師 | G1: 藥師 | H1: 藥劑生 | I1: 醫事檢驗師 | J1: 醫事檢驗生 | K1: 醫事放射師 | L1: 醫事放射士 | M1: 護理師 | N1: 護士 | O1: 助產師 | P1: 助產士 | Q1: 鑲牙生 | R1: 營養師 | S1: 物理治療師 | T1: 物理治療生 | U1: 職能治療師 | V1: 職能治療生 | W1: 臨床心理師 | X1: 諮商心理師 | Y1: 呼吸治療師 | Z1: 語言治療師 | AA1: 聽力師 | AB1: 牙體技術師 | AC1: 牙體技術生 | AD1: 驗光師 | AE1: 驗光生 | AG1: 合計 | AH1: 西醫師 | AI1: 中醫師 | AJ1: 牙醫師 | AK1: 藥師 | AL1: 藥劑生 | AM1: 醫事檢驗師 | AN1: 醫事檢驗生 | AO1: 醫事放射師 | AP1: 醫事放射士 | AQ1: 護理師 | AR1: 護士 | AS1: 助產師 | AT1: 助產士 | AU1: 鑲牙生 | AV1: 營養師 | AW1: 物理治療師 | AX1: 物理治療生 | AY1: 職能治療師 | AZ1: 職能治療生 | BA1: 臨床心理師 | BB1: 諮商心理師 | BC1: 呼吸治療師 | BD1: 語言治療師 | BE1: 聽力師 | BF1: 牙體技術師 | BG1: 牙體技術生 | BH1: 驗光師 | BI1: 驗光生
I2: 事 | J2: 事 | AM2: 事 | AN2: 事
I3: 檢 | J3: 檢 | AM3: 檢 | AN3: 檢
I4: 驗 | J4: 驗 | AM4: 驗 | AN4: 驗
C5: 計 | I5: 師 | J5: 師 | AG5: 計 | AM5: 師 | AN5: 師
A6: 總 計 | B6: 23400220 | C6: =醫事人員數!B9 -> 369119 | D6: =醫事人員數!C9 -> 55230 | E6: =醫事人員數!D9 -> 8037 | F6: =醫事人員數!E9 -> 16690 | G6: =醫事人員數!F9 -> 31957 | H6: =醫事人員數!G9 -> 5206 | I6: =醫事人員數!H9 -> 10528 | J6: =醫事人員數!I9 -> 125 | ... P6: =醫事人員數!O9 -> 75 | Q6: =醫事人員數!Q9 -> 27 | R6: =醫事人員數!R9 -> 3879 | S6: =醫事人員數!S9 -> 8665 | T6: =醫事人員數!T9 -> 1582 | U6: =醫事人員數!U9 -> 4804 | V6: =醫事人員數!V9 -> 168 | W6: =醫事人員數!W9 -> 2187 | X6: =醫事人員數!X9 -> 4030 | ... AE6: =醫事人員數!AE9 -> 4207 | AG6: =C6/$B6*10000 -> 157.74168 | AH6: =D6/$B6*10000 -> 23.602342 | AI6: =E6/$B6*10000 -> 3.4345831 | AJ6: =F6/$B6*10000 -> 7.1324116 | AK6: =G6/$B6*10000 -> 13.656709 | AL6: =H6/$B6*10000 -> 2.2247654 | AM6: =I6/$B6*10000 -> 4.499103 | AN6: =J6/$B6*10000 -> 0.053418301 | ... BI6: =AE6/$B6*10000 -> 1.7978463
A7: 新北市 | B7: 4047001 | C7: =醫事人員數!B10 -> 45473 | D7: =醫事人員數!C10 -> 6853 | E7: =醫事人員數!D10 -> 1099 | F7: =醫事人員數!E10 -> 2878 | G7: =醫事人員數!F10 -> 4603 | H7: =醫事人員數!G10 -> 889 | I7: =醫事人員數!H10 -> 938 | J7: =醫事人員數!I10 -> 12 | ... P7: =醫事人員數!O10 -> 5 | Q7: =醫事人員數!Q10 -> 3 | R7: =醫事人員數!R10 -> 414 | S7: =醫事人員數!S10 -> 1306 | T7: =醫事人員數!T10 -> 221 | U7: =醫事人員數!U10 -> 663 | V7: =醫事人員數!V10 -> 10 | W7: =醫事人員數!W10 -> 255 | X7: =醫事人員數!X10 -> 400 | ... AE7: =醫事人員數!AE10 -> 650 | AG7: =C7/$B7*10000 -> 112.36222 | AH7: =D7/$B7*10000 -> 16.933527 | AI7: =E7/$B7*10000 -> 2.7155911 | AJ7: =F7/$B7*10000 -> 7.1114388 | AK7: =G7/$B7*10000 -> 11.373854 | AL7: =H7/$B7*10000 -> 2.1966884 | AM7: =I7/$B7*10000 -> 2.3177657 | AN7: =J7/$B7*10000 -> 0.029651586 | ... BI7: =AE7/$B7*10000 -> 1.6061276
A8: 臺北市 | B8: 2490869 | C8: =醫事人員數!B11 -> 65173 | D8: =醫事人員數!C11 -> 11883 | E8: =醫事人員數!D11 -> 1173 | F8: =醫事人員數!E11 -> 3595 | G8: =醫事人員數!F11 -> 5286 | H8: =醫事人員數!G11 -> 476 | I8: =醫事人員數!H11 -> 2380 | J8: =醫事人員數!I11 -> 35 | ... P8: =醫事人員數!O11 -> 8 | Q8: =醫事人員數!Q11 -> 0 | R8: =醫事人員數!R11 -> 668 | S8: =醫事人員數!S11 -> 1591 | T8: =醫事人員數!T11 -> 147 | U8: =醫事人員數!U11 -> 702 | V8: =醫事人員數!V11 -> 6 | W8: =醫事人員數!W11 -> 492 | X8: =醫事人員數!X11 -> 1212 | ... AE8: =醫事人員數!AE11 -> 594 | AG8: =C8/$B8*10000 -> 261.64764 | AH8: =D8/$B8*10000 -> 47.706242 | AI8: =E8/$B8*10000 -> 4.7091999 | AJ8: =F8/$B8*10000 -> 14.432714 | AK8: =G8/$B8*10000 -> 21.221509 | AL8: =H8/$B8*10000 -> 1.9109797 | AM8: =I8/$B8*10000 -> 9.5548983 | AN8: =J8/$B8*10000 -> 0.14051321 | ... BI8: =AE8/$B8*10000 -> 2.3847099
A9: 桃園市 | B9: 2338648 | C9: =醫事人員數!B12 -> 32037 | D9: =醫事人員數!C12 -> 4669 | E9: =醫事人員數!D12 -> 651 | F9: =醫事人員數!E12 -> 1487 | G9: =醫事人員數!F12 -> 2583 | H9: =醫事人員數!G12 -> 473 | I9: =醫事人員數!H12 -> 754 | J9: =醫事人員數!I12 -> 24 | ... P9: =醫事人員數!O12 -> 2 | Q9: =醫事人員數!Q12 -> 0 | R9: =醫事人員數!R12 -> 305 | S9: =醫事人員數!S12 -> 695 | T9: =醫事人員數!T12 -> 147 | U9: =醫事人員數!U12 -> 421 | V9: =醫事人員數!V12 -> 4 | W9: =醫事人員數!W12 -> 187 | X9: =醫事人員數!X12 -> 313 | ... AE9: =醫事人員數!AE12 -> 367 | AG9: =C9/$B9*10000 -> 136.98941 | AH9: =D9/$B9*10000 -> 19.964527 | AI9: =E9/$B9*10000 -> 2.7836596 | AJ9: =F9/$B9*10000 -> 6.3583746 | AK9: =G9/$B9*10000 -> 11.044843 | AL9: =H9/$B9*10000 -> 2.0225361 | AM9: =I9/$B9*10000 -> 3.224085 | AN9: =J9/$B9*10000 -> 0.1026234 | ... BI9: =AE9/$B9*10000 -> 1.5692828
A10: 臺中市 | B10: 2860601 | C10: =醫事人員數!B13 -> 50536 | D10: =醫事人員數!C13 -> 7555 | E10: =醫事人員數!D13 -> 1607 | F10: =醫事人員數!E13 -> 2256 | G10: =醫事人員數!F13 -> 4410 | H10: =醫事人員數!G13 -> 676 | I10: =醫事人員數!H13 -> 1492 | J10: =醫事人員數!I13 -> 9 | ... P10: =醫事人員數!O13 -> 9 | Q10: =醫事人員數!Q13 -> 9 | R10: =醫事人員數!R13 -> 567 | S10: =醫事人員數!S13 -> 1133 | T10: =醫事人員數!T13 -> 205 | U10: =醫事人員數!U13 -> 670 | V10: =醫事人員數!V13 -> 36 | W10: =醫事人員數!W13 -> 268 | X10: =醫事人員數!X13 -> 495 | ... AE10: =醫事人員數!AE13 -> 586 | AG10: =C10/$B10*10000 -> 176.66218 | AH10: =D10/$B10*10000 -> 26.410534 | AI10: =E10/$B10*10000 -> 5.6177006 | AJ10: =F10/$B10*10000 -> 7.8864546 | AK10: =G10/$B10*10000 -> 15.416341 | AL10: =H10/$B10*10000 -> 2.3631398 | AM10: =I10/$B10*10000 -> 5.2156872 | AN10: =J10/$B10*10000 -> 0.03146192 | ... BI10: =AE10/$B10*10000 -> 2.0485206
A11: 臺南市 | B11: 1858651 | C11: =醫事人員數!B14 -> 30922 | D11: =醫事人員數!C14 -> 4215 | E11: =醫事人員數!D14 -> 667 | F11: =醫事人員數!E14 -> 1273 | G11: =醫事人員數!F14 -> 2950 | H11: =醫事人員數!G14 -> 280 | I11: =醫事人員數!H14 -> 900 | J11: =醫事人員數!I14 -> 1 | ... P11: =醫事人員數!O14 -> 6 | Q11: =醫事人員數!Q14 -> 4 | R11: =醫事人員數!R14 -> 310 | S11: =醫事人員數!S14 -> 794 | T11: =醫事人員數!T14 -> 159 | U11: =醫事人員數!U14 -> 412 | V11: =醫事人員數!V14 -> 14 | W11: =醫事人員數!W14 -> 139 | X11: =醫事人員數!X14 -> 271 | ... AE11: =醫事人員數!AE14 -> 345 | AG11: =C11/$B11*10000 -> 166.36797 | AH11: =D11/$B11*10000 -> 22.677738 | AI11: =E11/$B11*10000 -> 3.5886242 | AJ11: =F11/$B11*10000 -> 6.8490534 | AK11: =G11/$B11*10000 -> 15.871726 | AL11: =H11/$B11*10000 -> 1.5064689 | AM11: =I11/$B11*10000 -> 4.8422216 | AN11: =J11/$B11*10000 -> 0.0053802462 | ... BI11: =AE11/$B11*10000 -> 1.8561849
A12: 高雄市 | B12: 2731412 | C12: =醫事人員數!B15 -> 48106 | D12: =醫事人員數!C15 -> 7527 | E12: =醫事人員數!D15 -> 995 | F12: =醫事人員數!E15 -> 1996 | G12: =醫事人員數!F15 -> 4209 | H12: =醫事人員數!G15 -> 681 | I12: =醫事人員數!H15 -> 1343 | J12: =醫事人員數!I15 -> 4 | ... P12: =醫事人員數!O15 -> 16 | Q12: =醫事人員數!Q15 -> 1 | R12: =醫事人員數!R15 -> 416 | S12: =醫事人員數!S15 -> 1094 | T12: =醫事人員數!T15 -> 248 | U12: =醫事人員數!U15 -> 542 | V12: =醫事人員數!V15 -> 29 | W12: =醫事人員數!W15 -> 238 | X12: =醫事人員數!X15 -> 449 | ... AE12: =醫事人員數!AE15 -> 622 | AG12: =C12/$B12*10000 -> 176.12136 | AH12: =D12/$B12*10000 -> 27.557176 | AI12: =E12/$B12*10000 -> 3.6428045 | AJ12: =F12/$B12*10000 -> 7.3075757 | AK12: =G12/$B12*10000 -> 15.409612 | AL12: =H12/$B12*10000 -> 2.493216 | AM12: =I12/$B12*10000 -> 4.9168708 | AN12: =J12/$B12*10000 -> 0.01464444 | ... BI12: =AE12/$B12*10000 -> 2.2772105
A13: 宜蘭縣 | B13: 449212 | C13: =醫事人員數!B16 -> 6849 | D13: =醫事人員數!C16 -> 766 | E13: =醫事人員數!D16 -> 91 | F13: =醫事人員數!E16 -> 201 | G13: =醫事人員數!F16 -> 507 | H13: =醫事人員數!G16 -> 56 | I13: =醫事人員數!H16 -> 158 | J13: =醫事人員數!I16 -> 1 | ... P13: =醫事人員數!O16 -> 1 | Q13: =醫事人員數!Q16 -> 0 | R13: =醫事人員數!R16 -> 80 | S13: =醫事人員數!S16 -> 147 | T13: =醫事人員數!T16 -> 42 | U13: =醫事人員數!U16 -> 100 | V13: =醫事人員數!V16 -> 7 | W13: =醫事人員數!W16 -> 55 | X13: =醫事人員數!X16 -> 64 | ... AE13: =醫事人員數!AE16 -> 56 | AG13: =C13/$B13*10000 -> 152.46699 | AH13: =D13/$B13*10000 -> 17.052082 | AI13: =E13/$B13*10000 -> 2.0257696 | AJ13: =F13/$B13*10000 -> 4.474502 | AK13: =G13/$B13*10000 -> 11.28643 | AL13: =H13/$B13*10000 -> 1.2466274 | AM13: =I13/$B13*10000 -> 3.5172702 | AN13: =J13/$B13*10000 -> 0.022261204 | ... BI13: =AE13/$B13*10000 -> 1.2466274
A14: 新竹縣 | B14: 594641 | C14: =醫事人員數!B17 -> 7128 | D14: =醫事人員數!C17 -> 838 | E14: =醫事人員數!D17 -> 135 | F14: =醫事人員數!E17 -> 318 | G14: =醫事人員數!F17 -> 611 | H14: =醫事人員數!G17 -> 140 | I14: =醫事人員數!H17 -> 214 | J14: =醫事人員數!I17 -> 10 | ... P14: =醫事人員數!O17 -> 1 | Q14: =醫事人員數!Q17 -> 0 | R14: =醫事人員數!R17 -> 108 | S14: =醫事人員數!S17 -> 198 | T14: =醫事人員數!T17 -> 31 | U14: =醫事人員數!U17 -> 126 | V14: =醫事人員數!V17 -> 2 | W14: =醫事人員數!W17 -> 72 | X14: =醫事人員數!X17 -> 97 | ... AE14: =醫事人員數!AE17 -> 88 | AG14: =C14/$B14*10000 -> 119.87064 | AH14: =D14/$B14*10000 -> 14.092537 | AI14: =E14/$B14*10000 -> 2.2702774 | AJ14: =F14/$B14*10000 -> 5.3477644 | AK14: =G14/$B14*10000 -> 10.275107 | AL14: =H14/$B14*10000 -> 2.3543617 | AM14: =I14/$B14*10000 -> 3.59881 | AN14: =J14/$B14*10000 -> 0.16816869 | ... BI14: =AE14/$B14*10000 -> 1.4798845
A15: 苗栗縣 | B15: 532854 | C15: =醫事人員數!B18 -> 5380 | D15: =醫事人員數!C18 -> 584 | E15: =醫事人員數!D18 -> 119 | F15: =醫事人員數!E18 -> 203 | G15: =醫事人員數!F18 -> 422 | H15: =醫事人員數!G18 -> 211 | I15: =醫事人員數!H18 -> 141 | J15: =醫事人員數!I18 -> 8 | ... P15: =醫事人員數!O18 -> 0 | Q15: =醫事人員數!Q18 -> 0 | R15: =醫事人員數!R18 -> 80 | S15: =醫事人員數!S18 -> 151 | T15: =醫事人員數!T18 -> 46 | U15: =醫事人員數!U18 -> 129 | V15: =醫事人員數!V18 -> 10 | W15: =醫事人員數!W18 -> 28 | X15: =醫事人員數!X18 -> 31 | ... AE15: =醫事人員數!AE18 -> 65 | AG15: =C15/$B15*10000 -> 100.96574 | AH15: =D15/$B15*10000 -> 10.95985 | AI15: =E15/$B15*10000 -> 2.2332571 | AJ15: =F15/$B15*10000 -> 3.8096739 | AK15: =G15/$B15*10000 -> 7.9196178 | AL15: =H15/$B15*10000 -> 3.9598089 | AM15: =I15/$B15*10000 -> 2.6461282 | AN15: =J15/$B15*10000 -> 0.15013493 | ... BI15: =AE15/$B15*10000 -> 1.2198463
A16: 彰化縣 | B16: 1225675 | C16: =醫事人員數!B19 -> 16676 | D16: =醫事人員數!C19 -> 2246 | E16: =醫事人員數!D19 -> 420 | F16: =醫事人員數!E19 -> 641 | G16: =醫事人員數!F19 -> 1423 | H16: =醫事人員數!G19 -> 323 | I16: =醫事人員數!H19 -> 475 | J16: =醫事人員數!I19 -> 3 | ... P16: =醫事人員數!O19 -> 7 | Q16: =醫事人員數!Q19 -> 3 | R16: =醫事人員數!R19 -> 167 | S16: =醫事人員數!S19 -> 334 | T16: =醫事人員數!T19 -> 72 | U16: =醫事人員數!U19 -> 223 | V16: =醫事人員數!V19 -> 15 | W16: =醫事人員數!W19 -> 72 | X16: =醫事人員數!X19 -> 115 | ... AE16: =醫事人員數!AE19 -> 204 | AG16: =C16/$B16*10000 -> 136.05564 | AH16: =D16/$B16*10000 -> 18.324597 | AI16: =E16/$B16*10000 -> 3.4266833 | AJ16: =F16/$B16*10000 -> 5.2297714 | AK16: =G16/$B16*10000 -> 11.609929 | AL16: =H16/$B16*10000 -> 2.6352826 | AM16: =I16/$B16*10000 -> 3.8754156 | AN16: =J16/$B16*10000 -> 0.024476309 | ... BI16: =AE16/$B16*10000 -> 1.664389
A17: 南投縣 | B17: 472299 | C17: =醫事人員數!B20 -> 5626 | D17: =醫事人員數!C20 -> 654 | E17: =醫事人員數!D20 -> 144 | F17: =醫事人員數!E20 -> 158 | G17: =醫事人員數!F20 -> 496 | H17: =醫事人員數!G20 -> 165 | I17: =醫事人員數!H20 -> 137 | J17: =醫事人員數!I20 -> 0 | ... P17: =醫事人員數!O20 -> 2 | Q17: =醫事人員數!Q20 -> 1 | R17: =醫事人員數!R20 -> 73 | S17: =醫事人員數!S20 -> 103 | T17: =醫事人員數!T20 -> 39 | U17: =醫事人員數!U20 -> 125 | V17: =醫事人員數!V20 -> 5 | W17: =醫事人員數!W20 -> 38 | X17: =醫事人員數!X20 -> 42 | ... AE17: =醫事人員數!AE20 -> 70 | AG17: =C17/$B17*10000 -> 119.11946 | AH17: =D17/$B17*10000 -> 13.84716 | AI17: =E17/$B17*10000 -> 3.048916 | AJ17: =F17/$B17*10000 -> 3.3453384 | AK17: =G17/$B17*10000 -> 10.501822 | AL17: =H17/$B17*10000 -> 3.4935496 | AM17: =I17/$B17*10000 -> 2.9007049 | AN17: =J17/$B17*10000 -> 0 | ... BI17: =AE17/$B17*10000 -> 1.482112
... A28: 連江縣 | B28: 13950 | C28: =醫事人員數!B31 -> 132 | D28: =醫事人員數!C31 -> 20 | E28: =醫事人員數!D31 -> 0 | F28: =醫事人員數!E31 -> 8 | G28: =醫事人員數!F31 -> 10 | H28: =醫事人員數!G31 -> 0 | I28: =醫事人員數!H31 -> 8 | J28: =醫事人員數!I31 -> 0 | ... P28: =醫事人員數!O31 -> 0 | Q28: =醫事人員數!Q31 -> 0 | R28: =醫事人員數!R31 -> 4 | S28: =醫事人員數!S31 -> 5 | T28: =醫事人員數!T31 -> 0 | U28: =醫事人員數!U31 -> 0 | V28: =醫事人員數!V31 -> 0 | W28: =醫事人員數!W31 -> 1 | X28: =醫事人員數!X31 -> 2 | ... AE28: =醫事人員數!AE31 -> 0 | AG28: =C28/$B28*10000 -> 94.623656 | AH28: =D28/$B28*10000 -> 14.336918 | AI28: =E28/$B28*10000 -> 0 | AJ28: =F28/$B28*10000 -> 5.734767 | AK28: =G28/$B28*10000 -> 7.1684588 | AL28: =H28/$B28*10000 -> 0 | AM28: =I28/$B28*10000 -> 5.734767 | AN28: =J28/$B28*10000 -> 0 | ... BI28: =AE28/$B28*10000 -> 0
