Workbook

Sheet 院所數
A1: 歷 年 醫 療 院 所 數
U2: 單位：家
A3: 年 底 別 | B3: 院所數 | C3: 醫 院 | M3: 診 所
C4: 合計 | D4: 西 醫 | G4: 中 醫 | J4: 牙 醫 | M4: 合計 | N4: 西 醫 | Q4: 中 醫 | T4: 牙 醫
D5: 計 | E5: 公 立 | F5: 非公立 | G5: 計 | H5: 公 立 | I5: 非公立 | J5: 計 | K5: 公 立 | L5: 非公立 | N5: 計 | O5: 公 立 | P5: 非公立 | Q5: 計 | R5: 公 立 | S5: 非公立 | T5: 計 | U5: 公 立 | V5: 非公立
A6: 78 年 | B6: 12267 | C6: 865 | D6: 787 | E6: 93 | F6: 694 | G6: 78 | H6: 1 | I6: 77 | J6: 0 | K6: 0 | L6: 0 | M6: 11402 | N6: 6905 | O6: 477 | P6: 6428 | Q6: 1657 | R6: - | S6: 1657 | T6: 2840 | U6: - | V6: 2840
A7: 79 年 | B7: 12902 | C7: 827 | D7: 741 | E7: 94 | F7: 647 | G7: 86 | H7: 1 | I7: 85 | J7: 0 | K7: 0 | L7: 0 | M7: 12075 | N7: 7221 | O7: 476 | P7: 6745 | Q7: 1673 | R7: - | S7: 1673 | T7: 3181 | U7: - | V7: 3181
A8: 80 年 | B8: 13661 | C8: 821 | D8: 729 | E8: 93 | F8: 636 | G8: 92 | H8: 1 | I8: 91 | J8: 0 | K8: 0 | L8: 0 | M8: 12840 | N8: 7534 | O8: 480 | P8: 7054 | Q8: 1692 | R8: - | S8: 1692 | T8: 3614 | U8: - | V8: 3614
A9: 81 年 | B9: 14468 | C9: 822 | D9: 725 | E9: 93 | F9: 632 | G9: 97 | H9: 1 | I9: 96 | J9: 0 | K9: 0 | L9: 0 | M9: 13646 | N9: 7944 | O9: 479 | P9: 7465 | Q9: 1759 | R9: - | S9: 1759 | T9: 3943 | U9: - | V9: 3943
A10: 82 年 | B10: 15062 | C10: 810 | D10: 709 | E10: 93 | F10: 616 | G10: 101 | H10: 1 | I10: 100 | J10: 0 | K10: 0 | L10: 0 | M10: 14252 | N10: 8203 | O10: 485 | P10: 7718 | Q10: 1803 | R10: - | S10: 1803 | T10: 4246 | U10: - | V10: 4246
A11: 83 年 | B11: 15752 | C11: 828 | D11: 719 | E11: 97 | F11: 622 | G11: 109 | H11: 1 | I11: 108 | J11: 0 | K11: 0 | L11: 0 | M11: 14924 | N11: 8511 | O11: 481 | P11: 8030 | Q11: 1876 | R11: - | S11: 1876 | T11: 4537 | U11: 1 | V11: 4536
A12: 84 年 | B12: 16104 | C12: 787 | D12: 688 | E12: 94 | F12: 594 | G12: 99 | H12: 1 | I12: 98 | J12: 0 | K12: 0 | L12: 0 | M12: 15317 | N12: 8680 | O12: 495 | P12: 8185 | Q12: 1933 | R12: - | S12: 1933 | T12: 4704 | U12: 2 | V12: 4702
A13: 85 年 | B13: 16645 | C13: 773 | D13: 684 | E13: 94 | F13: 590 | G13: 89 | H13: 1 | I13: 88 | J13: 0 | K13: 0 | L13: 0 | M13: 15872 | N13: 9009 | O13: 495 | P13: 8514 | Q13: 1987 | R13: 0 | S13: 1987 | T13: 4876 | U13: 2 | V13: 4874
A14: 86 年 | B14: 17398 | C14: 750 | D14: 667 | E14: 95 | F14: 572 | G14: 83 | H14: 2 | I14: 81 | J14: 0 | K14: 0 | L14: 0 | M14: 16648 | N14: 9347 | O14: 504 | P14: 8843 | Q14: 2165 | R14: 0 | S14: 2165 | T14: 5136 | U14: 2 | V14: 5134
A15: 87 年 | B15: 17731 | C15: 719 | D15: 647 | E15: 95 | F15: 552 | G15: 72 | H15: 2 | I15: 70 | J15: 0 | K15: 0 | L15: 0 | M15: 17012 | N15: 9473 | O15: 495 | P15: 8978 | Q15: 2259 | R15: 0 | S15: 2259 | T15: 5280 | U15: 2 | V15: 5278
A16: 88 年 | B16: 17770 | C16: 700 | D16: 634 | E16: 96 | F16: 538 | G16: 66 | H16: 2 | I16: 64 | J16: 0 | K16: 0 | L16: 0 | M16: 17070 | N16: 9378 | O16: 479 | P16: 8899 | Q16: 2317 | R16: 0 | S16: 2317 | T16: 5375 | U16: 2 | V16: 5373
A17: 89 年 | B17: 18082 | C17: 669 | D17: 617 | E17: 94 | F17: 523 | G17: 52 | H17: 2 | I17: 50 | J17: 0 | K17: 0 | L17: 0 | M17: 17413 | N17: 9402 | O17: 481 | P17: 8921 | Q17: 2461 | R17: 0 | S17: 2461 | T17: 5550 | U17: 2 | V17: 5548
A18: 90 年 | B18: 18265 | C18: 637 | D18: 593 | E18: 92 | F18: 501 | G18: 44 | H18: 2 | I18: 42 | J18: 0 | K18: 0 | L18: 0 | M18: 17628 | N18: 9425 | O18: 490 | P18: 8935 | Q18: 2544 | R18: 0 | S18: 2544 | T18: 5659 | U18: 2 | V18: 5657
A19: 91 年 | B19: 18228 | C19: 610 | D19: 574 | E19: 91 | F19: 483 | G19: 36 | H19: 2 | I19: 34 | J19: 0 | K19: 0 | L19: 0 | M19: 17618 | N19: 9287 | O19: 475 | P19: 8812 | Q19: 2601 | R19: 0 | S19: 2601 | T19: 5730 | U19: 2 | V19: 5728
A20: 92 年 | B20: 18777 | C20: 594 | D20: 558 | E20: 91 | F20: 467 | G20: 36 | H20: 2 | I20: 34 | J20: 0 | K20: 0 | L20: 0 | M20: 18183 | N20: 9565 | O20: 479 | P20: 9086 | Q20: 2729 | R20: 0 | S20: 2729 | T20: 5889 | U20: 1 | V20: 5888
A21: 93 年 | B21: 19240 | C21: 590 | D21: 556 | E21: 88 | F21: 468 | G21: 34 | H21: 2 | I21: 32 | J21: 0 | K21: 0 | L21: 0 | M21: 18650 | N21: 9819 | O21: 480 | P21: 9339 | Q21: 2852 | R21: 0 | S21: 2852 | T21: 5979 | U21: 1 | V21: 5978
A22: 94 年 | B22: 19433 | C22: 556 | D22: 531 | E22: 79 | F22: 452 | G22: 25 | H22: 1 | I22: 24 | J22: 0 | K22: 0 | L22: 0 | M22: 18877 | N22: 9948 | O22: 472 | P22: 9476 | Q22: 2900 | R22: 0 | S22: 2900 | T22: 6029 | U22: 1 | V22: 6028
A23: 95 年 | B23: 19682 | C23: 547 | D23: 523 | E23: 79 | F23: 444 | G23: 24 | H23: 1 | I23: 23 | J23: 0 | K23: 0 | L23: 0 | M23: 19135 | N23: 10064 | O23: 467 | P23: 9597 | Q23: 3006 | R23: 0 | S23: 3006 | T23: 6065 | U23: 1 | V23: 6064
A24: 96 年 | B24: 19900 | C24: 530 | D24: 507 | E24: 79 | F24: 428 | G24: 23 | H24: 1 | I24: 22 | J24: 0 | K24: 0 | L24: 0 | M24: 19370 | N24: 10197 | O24: 460 | P24: 9737 | Q24: 3069 | R24: 0 | S24: 3069 | T24: 6104 | U24: 1 | V24: 6103
A25: 97 年 | B25: 20174 | C25: 515 | D25: 493 | E25: 79 | F25: 414 | G25: 22 | H25: 1 | I25: 21 | J25: 0 | K25: 0 | L25: 0 | M25: 19659 | N25: 10326 | O25: 460 | P25: 9866 | Q25: 3160 | R25: 1 | S25: 3159 | T25: 6173 | U25: 0 | V25: 6173
A26: 98 年 | B26: =C26+M26 -> 20306 | C26: 514 | D26: =E26+F26 -> 496 | E26: 79 | F26: 417 | G26: =H26+I26 -> 18 | H26: 1 | I26: 17 | J26: 0 | K26: 0 | L26: 0 | M26: =N26+Q26+T26 -> 19792 | N26: =O26+P26 -> 10361 | O26: 460 | P26: 9901 | Q26: =R26+S26 -> 3217 | R26: 1 | S26: 3216 | T26: =U26+V26 -> 6214 | U26: 0 | V26: 6214
A27: 99 年 | B27: =C27+M27 -> 20691 | C27: 508 | D27: =E27+F27 -> 492 | E27: 81 | F27: 411 | G27: =H27+I27 -> 16 | H27: 1 | I27: 15 | J27: 0 | K27: 0 | L27: 0 | M27: =N27+Q27+T27 -> 20183 | N27: =O27+P27 -> 10599 | O27: 461 | P27: 10138 | Q27: =R27+S27 -> 3289 | R27: 0 | S27: 3289 | T27: =U27+V27 -> 6295 | U27: 0 | V27: 6295
A28: 100 年 | B28: =C28+M28 -> 21135 | C28: 507 | D28: 491 | E28: 81 | F28: =D28-E28 -> 410 | G28: 16 | H28: 1 | I28: =G28-H28 -> 15 | J28: 0 | K28: 0 | L28: 0 | M28: =N28+Q28+T28 -> 20628 | N28: 10815 | O28: 454 | P28: =N28-O28 -> 10361 | Q28: 3411 | R28: 0 | S28: =Q28-R28 -> 3411 | T28: 6402 | U28: 0 | V28: =T28-U28 -> 6402
A29: 101 年 | B29: 21437 | C29: 502 | D29: 488 | E29: 81 | F29: 407 | G29: 14 | H29: 1 | I29: 13 | J29: 0 | K29: 0 | L29: 0 | M29: 20935 | N29: 10997 | O29: 447 | P29: 10550 | Q29: 3462 | R29: 0 | S29: 3462 | T29: 6476 | U29: 0 | V29: 6476
A30: 102 年 | B30: 21713 | C30: 495 | D30: 482 | E30: 80 | F30: 402 | G30: 13 | H30: 1 | I30: 12 | J30: 0 | K30: 0 | L30: 0 | M30: 21218 | N30: 11105 | O30: 444 | P30: 10661 | Q30: 3548 | R30: 0 | S30: 3548 | T30: 6565 | U30: 0 | V30: 6565
A31: 103 年 | B31: 22041 | C31: 497 | D31: 486 | E31: 80 | F31: 406 | G31: 11 | H31: 1 | I31: 10 | J31: 0 | K31: 0 | L31: 0 | M31: 21544 | N31: 11277 | O31: 445 | P31: 10832 | Q31: 3637 | R31: 1 | S31: 3636 | T31: 6630 | U31: 0 | V31: 6630
A32: 104 年 | B32: 22177 | C32: 494 | D32: 486 | E32: 80 | F32: 406 | G32: 8 | H32: 1 | I32: 7 | J32: 0 | K32: 0 | L32: 0 | M32: 21683 | N32: 11313 | O32: 441 | P32: 10872 | Q32: 3705 | R32: 2 | S32: 3703 | T32: 6665 | U32: 0 | V32: 6665
A33: 105 年 | B33: 22384 | C33: 490 | D33: 485 | E33: 80 | F33: 405 | G33: 5 | H33: 1 | I33: 4 | J33: 0 | K33: 0 | L33: 0 | M33: 21894 | N33: 11395 | O33: 437 | P33: 10958 | Q33: 3772 | R33: 3 | S33: 3769 | T33: 6727 | U33: 0 | V33: 6727
A34: 106 年 | B34: 22612 | C34: 483 | D34: 478 | E34: 79 | F34: 399 | G34: 5 | H34: 1 | I34: 4 | J34: 0 | K34: 0 | L34: 0 | M34: 22129 | N34: 11499 | O34: 432 | P34: 11067 | Q34: 3839 | R34: 3 | S34: 3836 | T34: 6791 | U34: 1 | V34: 6790
A35: 107 年 | B35: 22816 | C35: 483 | D35: 478 | E35: 80 | F35: 398 | G35: 5 | H35: 1 | I35: 4 | J35: 0 | K35: 0 | L35: 0 | M35: 22333 | N35: 11580 | O35: 424 | P35: 11156 | Q35: 3917 | R35: 2 | S35: 3915 | T35: 6836 | U35: 3 | V35: 6833
A36: 108 年 | B36: 22992 | C36: 480 | D36: 476 | E36: 81 | F36: 395 | G36: 4 | H36: 1 | I36: 3 | J36: 0 | K36: 0 | L36: 0 | M36: 22512 | N36: 11663 | O36: 424 | P36: 11239 | Q36: 3975 | R36: 2 | S36: 3973 | T36: 6874 | U36: 2 | V36: 6872
A37: 109 年 | B37: 23132 | C37: 479 | D37: 475 | E37: 81 | F37: 394 | G37: 4 | H37: 1 | I37: 3 | J37: 0 | K37: 0 | L37: 0 | M37: 22653 | N37: 11724 | O37: 422 | P37: 11302 | Q37: 4036 | R37: 2 | S37: 4034 | T37: 6893 | U37: 2 | V37: 6891
A38: 110 年 | B38: 23278 | C38: 478 | D38: 473 | E38: 80 | F38: 393 | G38: 4 | H38: 1 | I38: 3 | J38: 1 | K38: 0 | L38: 1 | M38: 22800 | N38: 11835 | O38: 421 | P38: 11414 | Q38: 4043 | R38: 1 | S38: 4042 | T38: 6922 | U38: 1 | V38: 6921
A39: 111 年 | B39: 23578 | C39: 480 | D39: 475 | E39: 81 | F39: 394 | G39: 4 | H39: 1 | I39: 3 | J39: 1 | K39: 0 | L39: 1 | M39: 23098 | N39: 11998 | O39: 420 | P39: 11578 | Q39: 4131 | R39: 0 | S39: 4131 | T39: 6969 | U39: 1 | V39: 6968
A40: 112 年 | B40: 23896 | C40: 476 | D40: 471 | E40: 81 | F40: 390 | G40: 4 | H40: 1 | I40: 3 | J40: 1 | K40: 0 | L40: 1 | M40: 23420 | N40: 12200 | O40: 420 | P40: 11780 | Q40: 4194 | R40: 0 | S40: 4194 | T40: 7026 | U40: 1 | V40: 7025
...

Sheet 病床數
A1: 醫 療 院 所 病 床 數─按 縣 市 別 分 | U1: 醫 療 院 所 病 床 數─按 縣 市 別 分 (續)
A2: 民國113年底 | U2: 民國113年底
T3: 單位：床 | AP3: 單位：床
B4: 健保特約病床數 | C4: 院所病床數 | D4: 醫 院 | V4: 醫 院 | AK4: 診 所
A5: 病床別 | D5: 一 般 病 床 | K5: 特許病床 | L5: 特 殊 病 床 | U5: 病床別 | V5: 特 殊 病 床 | AK5: 合 計 | AL5: 觀察床 | AM5: 嬰兒床 | AN5: 血液透析床 | AO5: 腹膜透析床 | AP5: 產科病床
D6: 合 計 | E6: 急 性 病 床 | G6: 慢 性 病 床 | K6: 國際醫療病床 | L6: 合 計 | M6: 加護病床 | N6: 燒傷病床 | O6: 燒傷加護病床 | P6: 嬰兒病床 | Q6: 急診觀察床 | R6: 安寧病床 | S6: 照護病床 慢性呼吸 | T6: 照護病床 亞急性呼吸 | V6: 精神科加護病床 | W6: 普通隔離病床 | X6: 正壓隔離病床 | Y6: 負壓隔離病床 | Z6: 骨髓移植病床 | AA6: 人強制治療病床性侵害犯罪加害 | AB6: 照護病床 急性後期 | AC6: 診後送病床 整合醫學急 | AD6: 戒護病床 | AE6: 司法精神病床 | AF6: 手術恢復床 | AG6: 嬰兒床 | AH6: 血液透析床 | AI6: 腹膜透析床 | AJ6: 其他
E7: 急性一般病床 | F7: 一般病床 精神急性 | G7: 慢性一般病床 | H7: 一般病床 精神慢性 | I7: 慢性結核病床 | J7: 漢生病病床
A11: 縣市別 | U11: 縣市別
A13: 總 計 | B13: =SUM(B14:B35) -> 153199 | C13: 170659 | D13: 99803 | E13: 76300 | F13: 7384 | G13: 2836 | H13: 13113 | I13: 2 | J13: 168 | K13: 3 | L13: 37766 | M13: 7443 | N13: 146 | O13: 139 | P13: 1524 | Q13: 3871 | R13: 893 | S13: 4663 | T13: 718 | U13: 總 計 | V13: 172 | W13: 497 | X13: 147 | Y13: 1099 | Z13: 121 | AA13: 0 | AB13: 70 | AC13: 458 | AD13: 62 | AE13: 110 | AF13: 1714 | AG13: 2508 | AH13: 10707 | AI13: 44 | AJ13: 660 | AK13: 33087 | AL13: 17963 | AM13: 1609 | AN13: 12583 | AO13: 4 | AP13: 928
A14: 新北市 | B14: 17477 | C14: 20142 | D14: 10232 | E14: 7675 | F14: 657 | G14: 274 | H14: 1458 | I14: 0 | J14: 168 | K14: 0 | L14: 4251 | M14: 754 | N14: 16 | O14: 0 | P14: 128 | Q14: 420 | R14: 116 | S14: 834 | T14: 91 | U14: 新北市 | V14: 0 | W14: 45 | X14: 0 | Y14: 86 | Z14: 15 | AA14: 0 | AB14: 11 | AC14: 40 | AD14: 0 | AE14: 45 | AF14: 165 | AG14: 186 | AH14: 1127 | AI14: 6 | AJ14: 166 | AK14: 5659 | AL14: 2673 | AM14: 343 | AN14: 2406 | AO14: 0 | AP14: 237
A15: 臺北市 | B15: 21079 | C15: 26236 | D15: 14657 | E15: 12975 | F15: 1132 | G15: 146 | H15: 404 | I15: 0 | J15: 0 | K15: 0 | L15: 5185 | M15: 1225 | N15: 36 | O15: 31 | P15: 279 | Q15: 583 | R15: 131 | S15: 504 | T15: 77 | U15: 臺北市 | V15: 12 | W15: 196 | X15: 44 | Y15: 171 | Z15: 60 | AA15: 0 | AB15: 0 | AC15: 40 | AD15: 0 | AE15: 0 | AF15: 305 | AG15: 320 | AH15: 1149 | AI15: 3 | AJ15: 19 | AK15: 6394 | AL15: 4905 | AM15: 110 | AN15: 1286 | AO15: 0 | AP15: 93
A16: 桃園市 | B16: 12869 | C16: 14442 | D16: 8293 | E16: 6500 | F16: 576 | G16: 304 | H16: 913 | I16: 0 | J16: 0 | K16: 0 | L16: 3373 | M16: 620 | N16: 8 | O16: 17 | P16: 131 | Q16: 329 | R16: 49 | S16: 184 | T16: 57 | U16: 桃園市 | V16: 59 | W16: 19 | X16: 38 | Y16: 157 | Z16: 5 | AA16: 0 | AB16: 0 | AC16: 0 | AD16: 23 | AE16: 0 | AF16: 155 | AG16: 290 | AH16: 1099 | AI16: 9 | AJ16: 124 | AK16: 2776 | AL16: 1529 | AM16: 168 | AN16: 974 | AO16: 0 | AP16: 105
A17: 臺中市 | B17: 20544 | C17: 21991 | D17: 13306 | E17: 10533 | F17: 852 | G17: 339 | H17: 1582 | I17: 0 | J17: 0 | K17: 0 | L17: 5174 | M17: 1074 | N17: 2 | O17: 33 | P17: 269 | Q17: 422 | R17: 99 | S17: 660 | T17: 151 | U17: 臺中市 | V17: 0 | W17: 2 | X17: 18 | Y17: 77 | Z17: 18 | AA17: 0 | AB17: 42 | AC17: 219 | AD17: 0 | AE17: 0 | AF17: 248 | AG17: 349 | AH17: 1421 | AI17: 1 | AJ17: 69 | AK17: 3511 | AL17: 1718 | AM17: 298 | AN17: 1367 | AO17: 2 | AP17: 126
A18: 臺南市 | B18: 11746 | C18: 13377 | D18: 7145 | E18: 5499 | F18: 412 | G18: 198 | H18: 1036 | I18: 0 | J18: 0 | K18: 0 | L18: 2740 | M18: 575 | N18: 4 | O18: 18 | P18: 97 | Q18: 306 | R18: 99 | S18: 362 | T18: 60 | U18: 臺南市 | V18: 15 | W18: 38 | X18: 8 | Y18: 101 | Z18: 4 | AA18: 0 | AB18: 8 | AC18: 0 | AD18: 0 | AE18: 0 | AF18: 113 | AG18: 178 | AH18: 669 | AI18: 1 | AJ18: 84 | AK18: 3492 | AL18: 1590 | AM18: 238 | AN18: 1536 | AO18: 0 | AP18: 128
A19: 高雄市 | B19: 20355 | C19: 22532 | D19: 12678 | E19: 10354 | F19: 1015 | G19: 541 | H19: 768 | I19: 0 | J19: 0 | K19: 3 | L19: 5028 | M19: 951 | N19: 34 | O19: 21 | P19: 178 | Q19: 582 | R19: 94 | S19: 497 | T19: 80 | U19: 高雄市 | V19: 58 | W19: 64 | X19: 10 | Y19: 195 | Z19: 6 | AA19: 0 | AB19: 0 | AC19: 89 | AD19: 22 | AE19: 50 | AF19: 279 | AG19: 463 | AH19: 1274 | AI19: 5 | AJ19: 76 | AK19: 4823 | AL19: 2659 | AM19: 91 | AN19: 2015 | AO19: 0 | AP19: 58
A20: 宜蘭縣 | B20: 3358 | C20: 3613 | D20: 2424 | E20: 1572 | F20: 160 | G20: 126 | H20: 566 | I20: 0 | J20: 0 | K20: 0 | L20: 807 | M20: 151 | N20: 2 | O20: 0 | P20: 38 | Q20: 80 | R20: 49 | S20: 63 | T20: 20 | U20: 宜蘭縣 | V20: 0 | W20: 0 | X20: 0 | Y20: 23 | Z20: 0 | AA20: 0 | AB20: 0 | AC20: 0 | AD20: 14 | AE20: 0 | AF20: 31 | AG20: 48 | AH20: 266 | AI20: 0 | AJ20: 22 | AK20: 382 | AL20: 214 | AM20: 5 | AN20: 159 | AO20: 0 | AP20: 4
A21: 新竹縣 | B21: 3223 | C21: 3460 | D21: 2232 | E21: 1590 | F21: 200 | G21: 0 | H21: 442 | I21: 0 | J21: 0 | K21: 0 | L21: 818 | M21: 124 | N21: 0 | O21: 0 | P21: 40 | Q21: 86 | R21: 12 | S21: 140 | T21: 0 | U21: 新竹縣 | V21: 0 | W21: 13 | X21: 0 | Y21: 20 | Z21: 0 | AA21: 0 | AB21: 0 | AC21: 0 | AD21: 0 | AE21: 0 | AF21: 41 | AG21: 77 | AH21: 261 | AI21: 4 | AJ21: 0 | AK21: 410 | AL21: 226 | AM21: 32 | AN21: 124 | AO21: 0 | AP21: 28
A22: 苗栗縣 | B22: 3114 | C22: 3252 | D22: 2082 | E22: 1333 | F22: 246 | G22: 0 | H22: 503 | I22: 0 | J22: 0 | K22: 0 | L22: 734 | M22: 125 | N22: 4 | O22: 0 | P22: 15 | Q22: 80 | R22: 16 | S22: 80 | T22: 8 | U22: 苗栗縣 | V22: 0 | W22: 6 | X22: 0 | Y22: 10 | Z22: 0 | AA22: 0 | AB22: 0 | AC22: 0 | AD22: 0 | AE22: 0 | AF22: 23 | AG22: 45 | AH22: 314 | AI22: 0 | AJ22: 8 | AK22: 436 | AL22: 159 | AM22: 22 | AN22: 234 | AO22: 1 | AP22: 20
A23: 彰化縣 | B23: 7689 | C23: 7898 | D23: 5227 | E23: 3744 | F23: 356 | G23: 257 | H23: 870 | I23: 0 | J23: 0 | K23: 0 | L23: 1920 | M23: 421 | N23: 16 | O23: 0 | P23: 102 | Q23: 220 | R23: 34 | S23: 169 | T23: 63 | U23: 彰化縣 | V23: 0 | W23: 1 | X23: 4 | Y23: 33 | Z23: 4 | AA23: 0 | AB23: 0 | AC23: 0 | AD23: 0 | AE23: 0 | AF23: 91 | AG23: 121 | AH23: 626 | AI23: 3 | AJ23: 12 | AK23: 751 | AL23: 243 | AM23: 70 | AN23: 419 | AO23: 0 | AP23: 19
A24: 南投縣 | B24: 3438 | C24: 3558 | D24: 2395 | E24: 1261 | F24: 260 | G24: 24 | H24: 850 | I24: 0 | J24: 0 | K24: 0 | L24: 729 | M24: 129 | N24: 0 | O24: 0 | P24: 21 | Q24: 68 | R24: 22 | S24: 103 | T24: 0 | U24: 南投縣 | V24: 24 | W24: 17 | X24: 0 | Y24: 7 | Z24: 0 | AA24: 0 | AB24: 0 | AC24: 0 | AD24: 0 | AE24: 0 | AF24: 18 | AG24: 34 | AH24: 276 | AI24: 0 | AJ24: 10 | AK24: 434 | AL24: 186 | AM24: 16 | AN24: 222 | AO24: 0 | AP24: 10
A25: 雲林縣 | B25: 3666 | C25: 4002 | D25: 2297 | E25: 1835 | F25: 142 | G25: 0 | H25: 320 | I25: 0 | J25: 0 | K25: 0 | L25: 1013 | M25: 164 | N25: 4 | O25: 2 | P25: 24 | Q25: 94 | R25: 8 | S25: 215 | T25: 18 | U25: 雲林縣 | V25: 0 | W25: 40 | X25: 0 | Y25: 21 | Z25: 0 | AA25: 0 | AB25: 0 | AC25: 0 | AD25: 0 | AE25: 0 | AF25: 42 | AG25: 37 | AH25: 343 | AI25: 1 | AJ25: 0 | AK25: 692 | AL25: 345 | AM25: 52 | AN25: 271 | AO25: 0 | AP25: 24
... A35: 連江縣 | B35: 52 | C35: 52 | D35: 26 | E35: 26 | F35: 0 | G35: 0 | H35: 0 | I35: 0 | J35: 0 | K35: 0 | L35: 17 | M35: 1 | N35: 0 | O35: 0 | P35: 0 | Q35: 6 | R35: 0 | S35: 0 | T35: 0 | U35: 連江縣 | V35: 0 | W35: 4 | X35: 0 | Y35: 2 | Z35: 0 | AA35: 0 | AB35: 0 | AC35: 0 | AD35: 0 | AE35: 0 | AF35: 0 | AG35: 0 | AH35: 4 | AI35: 0 | AJ35: 0 | AK35: 9 | AL35: 9 | AM35: 0 | AN35: 0 | AO35: 0 | AP35: 0
A36: 附註：1.醫療法93年4月28日修正公布，婦產科診所得依醫療業務需要設置十張以下產科病床，95年僅少數診所增設產科病床。
A37: 2.97年起洗腎治療床名稱改為血液透析床。
A38: 3.98年起癩病病床名稱改為漢生病病床，增設精神科加護病床。
A39: 4.102年起停止慢性結核病床及急性結核病床設置。
A40: 5.102年起增設國際醫療病床、燒傷加護病床、普通隔離病床、正壓隔離病床、負壓隔離病床、骨髓移植病床
A41: 及性侵害犯罪加害人強制治療病床。
A42: 6.102年起呼吸照護病床名稱改為慢性呼吸照護病床，呼吸照護中心名稱改為亞急性呼吸照護病床。
A43: 7.105年起增設急性後期照護病床及整合醫學急診後送病床。
A44: 8.110年起增設戒護病床。
A45: 9.112年起增設司法精神病床。

Sheet 平均每萬人口病床數
A1: 醫 療 院 所 平 均 每 萬 人 口 病 床 數─按 縣 市 別 分 | T1: 醫 療 院 所 平 均 每 萬 人 口 病 床 數─按 縣 市 別 分 (續)
A2: 民國113年底 | T2: 民國113年底
S3: 單位：床 | AO3: 單位：床
A4: 病床別 | B4: 院所病床數 | C4: 醫 院 | T4: 病床別 | U4: 醫 院 | AJ4: 診 所
C5: 一 般 病 床 | J5: 特許病床 | K5: 特 殊 病 床 | U5: 特 殊 病 床 | AJ5: 合 計 | AK5: 觀察床 | AL5: 嬰兒床 | AM5: 血液透析床 | AN5: 腹膜透析床 | AO5: 產科病床
C6: 合 計 | D6: 急 性 病 床 | F6: 慢 性 病 床 | J6: 國際醫療病床 | K6: 合 計 | L6: 加護病床 | M6: 燒傷病床 | N6: 燒傷加護病床 | O6: 嬰兒病床 | P6: 急診觀察床 | Q6: 安寧病床 | R6: 照護病床 慢性呼吸 | S6: 照護病床 亞急性呼吸 | U6: 精神科加護病床 | V6: 普通隔離病床 | W6: 正壓隔離病床 | X6: 負壓隔離病床 | Y6: 骨髓移植病床 | Z6: 人強制治療病床性侵害犯罪加害 | AA6: 照護病床 急性後期 | AB6: 診後送病床 整合醫學急 | AC6: 戒護病床 | AD6: 司法精神病床 | AE6: 手術恢復床 | AF6: 嬰兒床 | AG6: 血液透析床 | AH6: 腹膜透析床 | AI6: 其他
D7: 急性一般病床 | E7: 一般病床 精神急性 | F7: 慢性一般病床 | G7: 一般病床 精神慢性 | H7: 慢性結核病床 | I7: 漢生病病床
A12: 縣市別 | T12: 縣市別
A13: 總 計 | B13: =sheet1!AQ10 -> 72.930511 | C13: =sheet1!AR10 -> 42.650454 | D13: =sheet1!AS10 -> 32.606531 | E13: =sheet1!AT10 -> 3.1555259 | F13: =sheet1!AU10 -> 1.2119544 | G13: =sheet1!AV10 -> 5.6037935 | H13: =sheet1!AW10 -> 0.00085469282 | I13: =sheet1!AX10 -> 0.071794197 | ... S13: =sheet1!BH10 -> 0.30683472 | T13: 總 計 | U13: =sheet1!BI10 -> 0.073503582 | V13: =sheet1!BJ10 -> 0.21239117 | W13: =sheet1!BK10 -> 0.062819922 | X13: =sheet1!BL10 -> 0.4696537 | Y13: =sheet1!BM10 -> 0.051708916 | Z13: =sheet1!BN10 -> 0 | AA13: =sheet1!BO10 -> 0.029914249 | AB13: =sheet1!BP10 -> 0.19572466 | ... AO13: =sheet1!CC10 -> 0.39657747
A14: 新北市 | B14: =sheet1!AQ11 -> 49.770188 | C14: =sheet1!AR11 -> 25.282919 | D14: =sheet1!AS11 -> 18.96466 | E14: =sheet1!AT11 -> 1.6234244 | F14: =sheet1!AU11 -> 0.67704456 | G14: =sheet1!AV11 -> 3.6026678 | H14: =sheet1!AW11 -> 0 | I14: =sheet1!AX11 -> 0.41512221 | ... S14: =sheet1!BH11 -> 0.22485786 | T14: 新北市 | U14: =sheet1!BI11 -> 0 | V14: =sheet1!BJ11 -> 0.11119345 | W14: =sheet1!BK11 -> 0 | X14: =sheet1!BL11 -> 0.21250304 | Y14: =sheet1!BM11 -> 0.037064483 | Z14: =sheet1!BN11 -> 0 | AA14: =sheet1!BO11 -> 0.027180621 | AB14: =sheet1!BP11 -> 0.098838621 | ... AO14: =sheet1!CC11 -> 0.58561883
A15: 臺北市 | B15: =sheet1!AQ12 -> 105.3287 | C15: =sheet1!AR12 -> 58.842918 | D15: =sheet1!AS12 -> 52.090254 | E15: =sheet1!AT12 -> 4.5445987 | F15: =sheet1!AU12 -> 0.58614082 | G15: =sheet1!AV12 -> 1.6219239 | H15: =sheet1!AW12 -> 0 | I15: =sheet1!AX12 -> 0 | ... S15: =sheet1!BH12 -> 0.30912906 | T15: 臺北市 | U15: =sheet1!BI12 -> 0.048175958 | V15: =sheet1!BJ12 -> 0.78687398 | W15: =sheet1!BK12 -> 0.17664518 | X15: =sheet1!BL12 -> 0.6865074 | Y15: =sheet1!BM12 -> 0.24087979 | Z15: =sheet1!BN12 -> 0 | AA15: =sheet1!BO12 -> 0 | AB15: =sheet1!BP12 -> 0.16058653 | ... AO15: =sheet1!CC12 -> 0.37336367
A16: 桃園市 | B16: =sheet1!AQ13 -> 61.753629 | C16: =sheet1!AR13 -> 35.460659 | D16: =sheet1!AS13 -> 27.793836 | E16: =sheet1!AT13 -> 2.4629615 | F16: =sheet1!AU13 -> 1.2998964 | G16: =sheet1!AV13 -> 3.903965 | H16: =sheet1!AW13 -> 0 | I16: =sheet1!AX13 -> 0 | ... S16: =sheet1!BH13 -> 0.24373057 | T16: 桃園市 | U16: =sheet1!BI13 -> 0.25228252 | V16: =sheet1!BJ13 -> 0.081243522 | W16: =sheet1!BK13 -> 0.16248704 | X16: =sheet1!BL13 -> 0.67132805 | Y16: =sheet1!BM13 -> 0.021379874 | Z16: =sheet1!BN13 -> 0 | AA16: =sheet1!BO13 -> 0 | AB16: =sheet1!BP13 -> 0 | ... AO16: =sheet1!CC13 -> 0.44897736
A17: 臺中市 | B17: =sheet1!AQ14 -> 76.875454 | C17: =sheet1!AR14 -> 46.514701 | D17: =sheet1!AS14 -> 36.820934 | E17: =sheet1!AT14 -> 2.9783951 | F17: =sheet1!AU14 -> 1.1850657 | G17: =sheet1!AV14 -> 5.5303064 | H17: =sheet1!AW14 -> 0 | I17: =sheet1!AX14 -> 0 | ... S17: =sheet1!BH14 -> 0.5278611 | T17: 臺中市 | U17: =sheet1!BI14 -> 0 | V17: =sheet1!BJ14 -> 0.0069915378 | W17: =sheet1!BK14 -> 0.06292384 | X17: =sheet1!BL14 -> 0.26917421 | Y17: =sheet1!BM14 -> 0.06292384 | Z17: =sheet1!BN14 -> 0 | AA17: =sheet1!BO14 -> 0.14682229 | AB17: =sheet1!BP14 -> 0.76557339 | ... AO17: =sheet1!CC14 -> 0.44046688
A18: 臺南市 | B18: =sheet1!AQ15 -> 71.971554 | C18: =sheet1!AR15 -> 38.441859 | D18: =sheet1!AS15 -> 29.585974 | E18: =sheet1!AT15 -> 2.2166614 | F18: =sheet1!AU15 -> 1.0652887 | G18: =sheet1!AV15 -> 5.5739351 | H18: =sheet1!AW15 -> 0 | I18: =sheet1!AX15 -> 0 | ... S18: =sheet1!BH15 -> 0.32281477 | T18: 臺南市 | U18: =sheet1!BI15 -> 0.080703693 | V18: =sheet1!BJ15 -> 0.20444936 | W18: =sheet1!BK15 -> 0.04304197 | X18: =sheet1!BL15 -> 0.54340487 | Y18: =sheet1!BM15 -> 0.021520985 | Z18: =sheet1!BN15 -> 0 | AA18: =sheet1!BO15 -> 0.04304197 | AB18: =sheet1!BP15 -> 0 | ... AO18: =sheet1!CC15 -> 0.68867151
A19: 高雄市 | B19: =sheet1!AQ16 -> 82.492132 | C19: =sheet1!AR16 -> 46.415554 | D19: =sheet1!AS16 -> 37.907134 | E19: =sheet1!AT16 -> 3.7160267 | F19: =sheet1!AU16 -> 1.9806606 | G19: =sheet1!AV16 -> 2.8117325 | H19: =sheet1!AW16 -> 0 | I19: =sheet1!AX16 -> 0 | ... S19: =sheet1!BH16 -> 0.29288881 | T19: 高雄市 | U19: =sheet1!BI16 -> 0.21234438 | V19: =sheet1!BJ16 -> 0.23431104 | W19: =sheet1!BK16 -> 0.036611101 | X19: =sheet1!BL16 -> 0.71391647 | Y19: =sheet1!BM16 -> 0.02196666 | Z19: =sheet1!BN16 -> 0 | AA19: =sheet1!BO16 -> 0 | AB19: =sheet1!BP16 -> 0.3258388 | ... AO19: =sheet1!CC16 -> 0.21234438
A20: 宜蘭縣 | B20: =sheet1!AQ17 -> 80.42973 | C20: =sheet1!AR17 -> 53.961159 | D20: =sheet1!AS17 -> 34.994613 | E20: =sheet1!AT17 -> 3.5617927 | F20: =sheet1!AU17 -> 2.8049117 | G20: =sheet1!AV17 -> 12.599842 | H20: =sheet1!AW17 -> 0 | I20: =sheet1!AX17 -> 0 | ... S20: =sheet1!BH17 -> 0.44522408 | T20: 宜蘭縣 | U20: =sheet1!BI17 -> 0 | V20: =sheet1!BJ17 -> 0 | W20: =sheet1!BK17 -> 0 | X20: =sheet1!BL17 -> 0.51200769 | Y20: =sheet1!BM17 -> 0 | Z20: =sheet1!BN17 -> 0 | AA20: =sheet1!BO17 -> 0 | AB20: =sheet1!BP17 -> 0 | ... AO20: =sheet1!CC17 -> 0.089044816
A21: 新竹縣 | B21: =sheet1!AQ18 -> 58.186368 | C21: =sheet1!AR18 -> 37.535252 | D21: =sheet1!AS18 -> 26.738822 | E21: =sheet1!AT18 -> 3.3633739 | F21: =sheet1!AU18 -> 0 | G21: =sheet1!AV18 -> 7.4330562 | H21: =sheet1!AW18 -> 0 | I21: =sheet1!AX18 -> 0 | ... S21: =sheet1!BH18 -> 0 | T21: 新竹縣 | U21: =sheet1!BI18 -> 0 | V21: =sheet1!BJ18 -> 0.2186193 | W21: =sheet1!BK18 -> 0 | X21: =sheet1!BL18 -> 0.33633739 | Y21: =sheet1!BM18 -> 0 | Z21: =sheet1!BN18 -> 0 | AA21: =sheet1!BO18 -> 0 | AB21: =sheet1!BP18 -> 0 | ... AO21: =sheet1!CC18 -> 0.47087234
A22: 苗栗縣 | B22: =sheet1!AQ19 -> 61.029851 | C22: =sheet1!AR19 -> 39.072617 | D22: =sheet1!AS19 -> 25.016233 | E22: =sheet1!AT19 -> 4.6166492 | F22: =sheet1!AU19 -> 0 | G22: =sheet1!AV19 -> 9.439734 | H22: =sheet1!AW19 -> 0 | I22: =sheet1!AX19 -> 0 | ... S22: =sheet1!BH19 -> 0.15013493 | T22: 苗栗縣 | U22: =sheet1!BI19 -> 0 | V22: =sheet1!BJ19 -> 0.1126012 | W22: =sheet1!BK19 -> 0 | X22: =sheet1!BL19 -> 0.18766867 | Y22: =sheet1!BM19 -> 0 | Z22: =sheet1!BN19 -> 0 | AA22: =sheet1!BO19 -> 0 | AB22: =sheet1!BP19 -> 0 | ... AO22: =sheet1!CC19 -> 0.37533733
A23: 彰化縣 | B23: =sheet1!AQ20 -> 64.437963 | C23: =sheet1!AR20 -> 42.645889 | D23: =sheet1!AS20 -> 30.546434 | E23: =sheet1!AT20 -> 2.904522 | F23: =sheet1!AU20 -> 2.0968038 | G23: =sheet1!AV20 -> 7.0981296 | H23: =sheet1!AW20 -> 0 | I23: =sheet1!AX20 -> 0 | ... S23: =sheet1!BH20 -> 0.51400249 | T23: 彰化縣 | U23: =sheet1!BI20 -> 0 | V23: =sheet1!BJ20 -> 0.0081587697 | W23: =sheet1!BK20 -> 0.032635079 | X23: =sheet1!BL20 -> 0.2692394 | Y23: =sheet1!BM20 -> 0.032635079 | Z23: =sheet1!BN20 -> 0 | AA23: =sheet1!BO20 -> 0 | AB23: =sheet1!BP20 -> 0 | ... AO23: =sheet1!CC20 -> 0.15501662
A24: 南投縣 | B24: =sheet1!AQ21 -> 75.333634 | C24: =sheet1!AR21 -> 50.709402 | D24: =sheet1!AS21 -> 26.699188 | E24: =sheet1!AT21 -> 5.5049873 | F24: =sheet1!AU21 -> 0.50815267 | G24: =sheet1!AV21 -> 17.997074 | H24: =sheet1!AW21 -> 0 | I24: =sheet1!AX21 -> 0 | ... S24: =sheet1!BH21 -> 0 | T24: 南投縣 | U24: =sheet1!BI21 -> 0.50815267 | V24: =sheet1!BJ21 -> 0.35994148 | W24: =sheet1!BK21 -> 0 | X24: =sheet1!BL21 -> 0.1482112 | Y24: =sheet1!BM21 -> 0 | Z24: =sheet1!BN21 -> 0 | AA24: =sheet1!BO21 -> 0 | AB24: =sheet1!BP21 -> 0 | ... AO24: =sheet1!CC21 -> 0.21173028
... A35: 連江縣 | B35: =sheet1!AQ32 -> 37.275986 | C35: =sheet1!AR32 -> 18.637993 | D35: =sheet1!AS32 -> 18.637993 | E35: =sheet1!AT32 -> 0 | F35: =sheet1!AU32 -> 0 | G35: =sheet1!AV32 -> 0 | H35: =sheet1!AW32 -> 0 | I35: =sheet1!AX32 -> 0 | ... S35: =sheet1!BH32 -> 0 | T35: 連江縣 | U35: =sheet1!BI32 -> 0 | V35: =sheet1!BJ32 -> 2.8673835 | W35: =sheet1!BK32 -> 0 | X35: =sheet1!BL32 -> 1.4336918 | Y35: =sheet1!BM32 -> 0 | Z35: =sheet1!BN32 -> 0 | AA35: =sheet1!BO32 -> 0 | AB35: =sheet1!BP32 -> 0 | ... AO35: =sheet1!CC32 -> 0
A36: 附註：1.醫療法93年4月28日修正公布，婦產科診所得依醫療業務需要設置十張以下產科病床，95年僅少數診所增設產科病床。
A37: 2.97年起洗腎治療床名稱改為血液透析床。
A38: 3.98年起癩病病床名稱改為漢生病病床，增設精神科加護病床。
A39: 4.102年起停止慢性結核病床及急性結核病床設置。
A40: 5.102年起增設國際醫療病床、燒傷加護病床、普通隔離病床、正壓隔離病床、負壓隔離病床、骨髓移植病床
A41: 及性侵害犯罪加害人強制治療病床。
A42: 6.102年起呼吸照護病床名稱改為慢性呼吸照護病床，呼吸照護中心名稱改為亞急性呼吸照護病床。
A43: 7.105年起增設急性後期照護病床及整合醫學急診後送病床。
A44: 8.110年起增設戒護病床。
A45: 9.112年起增設司法精神病床。

Sheet sheet1
A1: 病床別 | B1: 年底人口數(服務量總表表一) | C1: 院所病床數 | D1: 醫 院 | AJ1: 診 所 | AQ1: 院所病床數 | AR1: 醫 院 | BX1: 診 所
D2: 一 般 病 床 | K2: 特許病床 | L2: 特 殊 病 床 | AJ2: 合 計 | AK2: 觀察床 | AL2: 嬰兒床 | AM2: 血液透析床 | AN2: 腹膜透析床 | AO2: 產科病床 | AR2: 一 般 病 床 | AY2: 特許病床 | AZ2: 特 殊 病 床 | BX2: 合 計 | BY2: 觀察床 | BZ2: 嬰兒床 | CA2: 血液透析床 | CB2: 腹膜透析床 | CC2: 產科病床
D3: 合 計 | E3: 急 性 病 床 | G3: 慢 性 病 床 | K3: 國際醫療病床 | L3: 合 計 | M3: 加護病床 | N3: 燒傷病床 | O3: 燒傷加護病床 | P3: 嬰兒病床 | Q3: 急診觀察床 | R3: 安寧病床 | S3: 照護病床 慢性呼吸 | T3: 照護病床 亞急性呼吸 | U3: 精神科加護病床 | V3: 普通隔離病床 | W3: 正壓隔離病床 | X3: 負壓隔離病床 | Y3: 骨髓移植病床 | Z3: 人強制治療病床 性侵害犯罪加害 | AA3: 照護病床 急性後期 | AB3: 診後送病床 整合醫學急 | AC3: 戒護病床 | AD3: 司法精神病床 | AE3: 手術恢復床 | AF3: 嬰兒床 | AG3: 血液透析床 | AH3: 腹膜透析床 | AI3: 其他 | AR3: 合 計 | AS3: 急 性 病 床 | AU3: 慢 性 病 床 | AY3: 國際醫療病床 | AZ3: 合 計 | BA3: 加護病床 | BB3: 燒傷病床 | BC3: 燒傷加護病床 | BD3: 嬰兒病床 | BE3: 急診觀察床 | BF3: 安寧病床 | BG3: 照護病床 慢性呼吸 | BH3: 照護病床 亞急性呼吸 | BI3: 精神科加護病床 | BJ3: 普通隔離病床 | BK3: 正壓隔離病床 | BL3: 負壓隔離病床 | BM3: 骨髓移植病床 | BN3: 人強制治療病床 性侵害犯罪加害 | BO3: 照護病床 急性後期 | BP3: 診後送病床 整合醫學急 | BQ3: 戒護病床 | BR3: 司法精神病床 | BS3: 手術恢復床 | BT3: 嬰兒床 | BU3: 血液透析床 | BV3: 腹膜透析床 | BW3: 其他
E4: 急性一般病床 | F4: 一般病床 精神急性 | G4: 慢性一般病床 | H4: 一般病床 精神慢性 | I4: 慢性結核病床 | J4: 漢生病病床 | AS4: 急性一般病床 | AT4: 一般病床 精神急性 | AU4: 慢性一般病床 | AV4: 一般病床 精神慢性 | AW4: 慢性結核病床 | AX4: 漢生病病床
A9: 縣市別
A10: 總 計 | B10: 23400220 | C10: =病床數!C13 -> 170659 | D10: =病床數!D13 -> 99803 | E10: =病床數!E13 -> 76300 | F10: =病床數!F13 -> 7384 | G10: =病床數!G13 -> 2836 | H10: =病床數!H13 -> 13113 | I10: =病床數!I13 -> 2 | J10: =病床數!J13 -> 168 | ... T10: =病床數!T13 -> 718 | U10: =病床數!V13 -> 172 | V10: =病床數!W13 -> 497 | W10: =病床數!X13 -> 147 | X10: =病床數!Y13 -> 1099 | Y10: =病床數!Z13 -> 121 | Z10: =病床數!AA13 -> 0 | AA10: =病床數!AB13 -> 70 | AB10: =病床數!AC13 -> 458 | ... AO10: =病床數!AP13 -> 928 | AQ10: =C10/$B10*10000 -> 72.930511 | AR10: =D10/$B10*10000 -> 42.650454 | AS10: =E10/$B10*10000 -> 32.606531 | AT10: =F10/$B10*10000 -> 3.1555259 | AU10: =G10/$B10*10000 -> 1.2119544 | AV10: =H10/$B10*10000 -> 5.6037935 | AW10: =I10/$B10*10000 -> 0.00085469282 | AX10: =J10/$B10*10000 -> 0.071794197 | ... CC10: =AO10/$B10*10000 -> 0.39657747
A11: 新北市 | B11: 4047001 | C11: =病床數!C14 -> 20142 | D11: =病床數!D14 -> 10232 | E11: =病床數!E14 -> 7675 | F11: =病床數!F14 -> 657 | G11: =病床數!G14 -> 274 | H11: =病床數!H14 -> 1458 | I11: =病床數!I14 -> 0 | J11: =病床數!J14 -> 168 | ... T11: =病床數!T14 -> 91 | U11: =病床數!V14 -> 0 | V11: =病床數!W14 -> 45 | W11: =病床數!X14 -> 0 | X11: =病床數!Y14 -> 86 | Y11: =病床數!Z14 -> 15 | Z11: =病床數!AA14 -> 0 | AA11: =病床數!AB14 -> 11 | AB11: =病床數!AC14 -> 40 | ... AO11: =病床數!AP14 -> 237 | AQ11: =C11/$B11*10000 -> 49.770188 | AR11: =D11/$B11*10000 -> 25.282919 | AS11: =E11/$B11*10000 -> 18.96466 | AT11: =F11/$B11*10000 -> 1.6234244 | AU11: =G11/$B11*10000 -> 0.67704456 | AV11: =H11/$B11*10000 -> 3.6026678 | AW11: =I11/$B11*10000 -> 0 | AX11: =J11/$B11*10000 -> 0.41512221 | ... CC11: =AO11/$B11*10000 -> 0.58561883
A12: 臺北市 | B12: 2490869 | C12: =病床數!C15 -> 26236 | D12: =病床數!D15 -> 14657 | E12: =病床數!E15 -> 12975 | F12: =病床數!F15 -> 1132 | G12: =病床數!G15 -> 146 | H12: =病床數!H15 -> 404 | I12: =病床數!I15 -> 0 | J12: =病床數!J15 -> 0 | ... T12: =病床數!T15 -> 77 | U12: =病床數!V15 -> 12 | V12: =病床數!W15 -> 196 | W12: =病床數!X15 -> 44 | X12: =病床數!Y15 -> 171 | Y12: =病床數!Z15 -> 60 | Z12: =病床數!AA15 -> 0 | AA12: =病床數!AB15 -> 0 | AB12: =病床數!AC15 -> 40 | ... AO12: =病床數!AP15 -> 93 | AQ12: =C12/$B12*10000 -> 105.3287 | AR12: =D12/$B12*10000 -> 58.842918 | AS12: =E12/$B12*10000 -> 52.090254 | AT12: =F12/$B12*10000 -> 4.5445987 | AU12: =G12/$B12*10000 -> 0.58614082 | AV12: =H12/$B12*10000 -> 1.6219239 | AW12: =I12/$B12*10000 -> 0 | AX12: =J12/$B12*10000 -> 0 | ... CC12: =AO12/$B12*10000 -> 0.37336367
A13: 桃園市 | B13: 2338648 | C13: =病床數!C16 -> 14442 | D13: =病床數!D16 -> 8293 | E13: =病床數!E16 -> 6500 | F13: =病床數!F16 -> 576 | G13: =病床數!G16 -> 304 | H13: =病床數!H16 -> 913 | I13: =病床數!I16 -> 0 | J13: =病床數!J16 -> 0 | ... T13: =病床數!T16 -> 57 | U13: =病床數!V16 -> 59 | V13: =病床數!W16 -> 19 | W13: =病床數!X16 -> 38 | X13: =病床數!Y16 -> 157 | Y13: =病床數!Z16 -> 5 | Z13: =病床數!AA16 -> 0 | AA13: =病床數!AB16 -> 0 | AB13: =病床數!AC16 -> 0 | ... AO13: =病床數!AP16 -> 105 | AQ13: =C13/$B13*10000 -> 61.753629 | AR13: =D13/$B13*10000 -> 35.460659 | AS13: =E13/$B13*10000 -> 27.793836 | AT13: =F13/$B13*10000 -> 2.4629615 | AU13: =G13/$B13*10000 -> 1.2998964 | AV13: =H13/$B13*10000 -> 3.903965 | AW13: =I13/$B13*10000 -> 0 | AX13: =J13/$B13*10000 -> 0 | ... CC13: =AO13/$B13*10000 -> 0.44897736
A14: 臺中市 | B14: 2860601 | C14: =病床數!C17 -> 21991 | D14: =病床數!D17 -> 13306 | E14: =病床數!E17 -> 10533 | F14: =病床數!F17 -> 852 | G14: =病床數!G17 -> 339 | H14: =病床數!H17 -> 1582 | I14: =病床數!I17 -> 0 | J14: =病床數!J17 -> 0 | ... T14: =病床數!T17 -> 151 | U14: =病床數!V17 -> 0 | V14: =病床數!W17 -> 2 | W14: =病床數!X17 -> 18 | X14: =病床數!Y17 -> 77 | Y14: =病床數!Z17 -> 18 | Z14: =病床數!AA17 -> 0 | AA14: =病床數!AB17 -> 42 | AB14: =病床數!AC17 -> 219 | ... AO14: =病床數!AP17 -> 126 | AQ14: =C14/$B14*10000 -> 76.875454 | AR14: =D14/$B14*10000 -> 46.514701 | AS14: =E14/$B14*10000 -> 36.820934 | AT14: =F14/$B14*10000 -> 2.9783951 | AU14: =G14/$B14*10000 -> 1.1850657 | AV14: =H14/$B14*10000 -> 5.5303064 | AW14: =I14/$B14*10000 -> 0 | AX14: =J14/$B14*10000 -> 0 | ... CC14: =AO14/$B14*10000 -> 0.44046688
A15: 臺南市 | B15: 1858651 | C15: =病床數!C18 -> 13377 | D15: =病床數!D18 -> 7145 | E15: =病床數!E18 -> 5499 | F15: =病床數!F18 -> 412 | G15: =病床數!G18 -> 198 | H15: =病床數!H18 -> 1036 | I15: =病床數!I18 -> 0 | J15: =病床數!J18 -> 0 | ... T15: =病床數!T18 -> 60 | U15: =病床數!V18 -> 15 | V15: =病床數!W18 -> 38 | W15: =病床數!X18 -> 8 | X15: =病床數!Y18 -> 101 | Y15: =病床數!Z18 -> 4 | Z15: =病床數!AA18 -> 0 | AA15: =病床數!AB18 -> 8 | AB15: =病床數!AC18 -> 0 | ... AO15: =病床數!AP18 -> 128 | AQ15: =C15/$B15*10000 -> 71.971554 | AR15: =D15/$B15*10000 -> 38.441859 | AS15: =E15/$B15*10000 -> 29.585974 | AT15: =F15/$B15*10000 -> 2.2166614 | AU15: =G15/$B15*10000 -> 1.0652887 | AV15: =H15/$B15*10000 -> 5.5739351 | AW15: =I15/$B15*10000 -> 0 | AX15: =J15/$B15*10000 -> 0 | ... CC15: =AO15/$B15*10000 -> 0.68867151
A16: 高雄市 | B16: 2731412 | C16: =病床數!C19 -> 22532 | D16: =病床數!D19 -> 12678 | E16: =病床數!E19 -> 10354 | F16: =病床數!F19 -> 1015 | G16: =病床數!G19 -> 541 | H16: =病床數!H19 -> 768 | I16: =病床數!I19 -> 0 | J16: =病床數!J19 -> 0 | ... T16: =病床數!T19 -> 80 | U16: =病床數!V19 -> 58 | V16: =病床數!W19 -> 64 | W16: =病床數!X19 -> 10 | X16: =病床數!Y19 -> 195 | Y16: =病床數!Z19 -> 6 | Z16: =病床數!AA19 -> 0 | AA16: =病床數!AB19 -> 0 | AB16: =病床數!AC19 -> 89 | ... AO16: =病床數!AP19 -> 58 | AQ16: =C16/$B16*10000 -> 82.492132 | AR16: =D16/$B16*10000 -> 46.415554 | AS16: =E16/$B16*10000 -> 37.907134 | AT16: =F16/$B16*10000 -> 3.7160267 | AU16: =G16/$B16*10000 -> 1.9806606 | AV16: =H16/$B16*10000 -> 2.8117325 | AW16: =I16/$B16*10000 -> 0 | AX16: =J16/$B16*10000 -> 0 | ... CC16: =AO16/$B16*10000 -> 0.21234438
A17: 宜蘭縣 | B17: 449212 | C17: =病床數!C20 -> 3613 | D17: =病床數!D20 -> 2424 | E17: =病床數!E20 -> 1572 | F17: =病床數!F20 -> 160 | G17: =病床數!G20 -> 126 | H17: =病床數!H20 -> 566 | I17: =病床數!I20 -> 0 | J17: =病床數!J20 -> 0 | ... T17: =病床數!T20 -> 20 | U17: =病床數!V20 -> 0 | V17: =病床數!W20 -> 0 | W17: =病床數!X20 -> 0 | X17: =病床數!Y20 -> 23 | Y17: =病床數!Z20 -> 0 | Z17: =病床數!AA20 -> 0 | AA17: =病床數!AB20 -> 0 | AB17: =病床數!AC20 -> 0 | ... AO17: =病床數!AP20 -> 4 | AQ17: =C17/$B17*10000 -> 80.42973 | AR17: =D17/$B17*10000 -> 53.961159 | AS17: =E17/$B17*10000 -> 34.994613 | AT17: =F17/$B17*10000 -> 3.5617927 | AU17: =G17/$B17*10000 -> 2.8049117 | AV17: =H17/$B17*10000 -> 12.599842 | AW17: =I17/$B17*10000 -> 0 | AX17: =J17/$B17*10000 -> 0 | ... CC17: =AO17/$B17*10000 -> 0.089044816
A18: 新竹縣 | B18: 594641 | C18: =病床數!C21 -> 3460 | D18: =病床數!D21 -> 2232 | E18: =病床數!E21 -> 1590 | F18: =病床數!F21 -> 200 | G18: =病床數!G21 -> 0 | H18: =病床數!H21 -> 442 | I18: =病床數!I21 -> 0 | J18: =病床數!J21 -> 0 | ... T18: =病床數!T21 -> 0 | U18: =病床數!V21 -> 0 | V18: =病床數!W21 -> 13 | W18: =病床數!X21 -> 0 | X18: =病床數!Y21 -> 20 | Y18: =病床數!Z21 -> 0 | Z18: =病床數!AA21 -> 0 | AA18: =病床數!AB21 -> 0 | AB18: =病床數!AC21 -> 0 | ... AO18: =病床數!AP21 -> 28 | AQ18: =C18/$B18*10000 -> 58.186368 | AR18: =D18/$B18*10000 -> 37.535252 | AS18: =E18/$B18*10000 -> 26.738822 | AT18: =F18/$B18*10000 -> 3.3633739 | AU18: =G18/$B18*10000 -> 0 | AV18: =H18/$B18*10000 -> 7.4330562 | AW18: =I18/$B18*10000 -> 0 | AX18: =J18/$B18*10000 -> 0 | ... CC18: =AO18/$B18*10000 -> 0.47087234
A19: 苗栗縣 | B19: 532854 | C19: =病床數!C22 -> 3252 | D19: =病床數!D22 -> 2082 | E19: =病床數!E22 -> 1333 | F19: =病床數!F22 -> 246 | G19: =病床數!G22 -> 0 | H19: =病床數!H22 -> 503 | I19: =病床數!I22 -> 0 | J19: =病床數!J22 -> 0 | ... T19: =病床數!T22 -> 8 | U19: =病床數!V22 -> 0 | V19: =病床數!W22 -> 6 | W19: =病床數!X22 -> 0 | X19: =病床數!Y22 -> 10 | Y19: =病床數!Z22 -> 0 | Z19: =病床數!AA22 -> 0 | AA19: =病床數!AB22 -> 0 | AB19: =病床數!AC22 -> 0 | ... AO19: =病床數!AP22 -> 20 | AQ19: =C19/$B19*10000 -> 61.029851 | AR19: =D19/$B19*10000 -> 39.072617 | AS19: =E19/$B19*10000 -> 25.016233 | AT19: =F19/$B19*10000 -> 4.6166492 | AU19: =G19/$B19*10000 -> 0 | AV19: =H19/$B19*10000 -> 9.439734 | AW19: =I19/$B19*10000 -> 0 | AX19: =J19/$B19*10000 -> 0 | ... CC19: =AO19/$B19*10000 -> 0.37533733
A20: 彰化縣 | B20: 1225675 | C20: =病床數!C23 -> 7898 | D20: =病床數!D23 -> 5227 | E20: =病床數!E23 -> 3744 | F20: =病床數!F23 -> 356 | G20: =病床數!G23 -> 257 | H20: =病床數!H23 -> 870 | I20: =病床數!I23 -> 0 | J20: =病床數!J23 -> 0 | ... T20: =病床數!T23 -> 63 | U20: =病床數!V23 -> 0 | V20: =病床數!W23 -> 1 | W20: =病床數!X23 -> 4 | X20: =病床數!Y23 -> 33 | Y20: =病床數!Z23 -> 4 | Z20: =病床數!AA23 -> 0 | AA20: =病床數!AB23 -> 0 | AB20: =病床數!AC23 -> 0 | ... AO20: =病床數!AP23 -> 19 | AQ20: =C20/$B20*10000 -> 64.437963 | AR20: =D20/$B20*10000 -> 42.645889 | AS20: =E20/$B20*10000 -> 30.546434 | AT20: =F20/$B20*10000 -> 2.904522 | AU20: =G20/$B20*10000 -> 2.0968038 | AV20: =H20/$B20*10000 -> 7.0981296 | AW20: =I20/$B20*10000 -> 0 | AX20: =J20/$B20*10000 -> 0 | ... CC20: =AO20/$B20*10000 -> 0.15501662
A21: 南投縣 | B21: 472299 | C21: =病床數!C24 -> 3558 | D21: =病床數!D24 -> 2395 | E21: =病床數!E24 -> 1261 | F21: =病床數!F24 -> 260 | G21: =病床數!G24 -> 24 | H21: =病床數!H24 -> 850 | I21: =病床數!I24 -> 0 | J21: =病床數!J24 -> 0 | ... T21: =病床數!T24 -> 0 | U21: =病床數!V24 -> 24 | V21: =病床數!W24 -> 17 | W21: =病床數!X24 -> 0 | X21: =病床數!Y24 -> 7 | Y21: =病床數!Z24 -> 0 | Z21: =病床數!AA24 -> 0 | AA21: =病床數!AB24 -> 0 | AB21: =病床數!AC24 -> 0 | ... AO21: =病床數!AP24 -> 10 | AQ21: =C21/$B21*10000 -> 75.333634 | AR21: =D21/$B21*10000 -> 50.709402 | AS21: =E21/$B21*10000 -> 26.699188 | AT21: =F21/$B21*10000 -> 5.5049873 | AU21: =G21/$B21*10000 -> 0.50815267 | AV21: =H21/$B21*10000 -> 17.997074 | AW21: =I21/$B21*10000 -> 0 | AX21: =J21/$B21*10000 -> 0 | ... CC21: =AO21/$B21*10000 -> 0.21173028
... A32: 連江縣 | B32: 13950 | C32: =病床數!C35 -> 52 | D32: =病床數!D35 -> 26 | E32: =病床數!E35 -> 26 | F32: =病床數!F35 -> 0 | G32: =病床數!G35 -> 0 | H32: =病床數!H35 -> 0 | I32: =病床數!I35 -> 0 | J32: =病床數!J35 -> 0 | ... T32: =病床數!T35 -> 0 | U32: =病床數!V35 -> 0 | V32: =病床數!W35 -> 4 | W32: =病床數!X35 -> 0 | X32: =病床數!Y35 -> 2 | Y32: =病床數!Z35 -> 0 | Z32: =病床數!AA35 -> 0 | AA32: =病床數!AB35 -> 0 | AB32: =病床數!AC35 -> 0 | ... AO32: =病床數!AP35 -> 0 | AQ32: =C32/$B32*10000 -> 37.275986 | AR32: =D32/$B32*10000 -> 18.637993 | AS32: =E32/$B32*10000 -> 18.637993 | AT32: =F32/$B32*10000 -> 0 | AU32: =G32/$B32*10000 -> 0 | AV32: =H32/$B32*10000 -> 0 | AW32: =I32/$B32*10000 -> 0 | AX32: =J32/$B32*10000 -> 0 | ... CC32: =AO32/$B32*10000 -> 0
