Workbook
Name pp: '2005'!$B$1:$M$16
Name pp: '2006'!$B$2:$M$16
Name pp: '2007'!$B$4:$M$16
Name pp: '2008'!$B$4:$M$16
Name pp: '2009'!$B$4:$M$16
Name pp: '2010'!$B$4:$M$16
Name pp: '2011'!$B$4:$M$32
Name pp: '2011~2018'!$B$5:$M$16
Name pp: '2012'!$B$4:$M$32
Name pp: '2013'!$B$4:$M$32
Name pp: '2014'!$B$4:$M$33
Name pp: '2015'!$B$5:$M$36
Name pp: '2016'!$B$1:$M$36
Name pp: '2016Q1'!$B$1:$U$42
Name pp: '2016Q2'!$B$1:$U$42
Name pp: '2016Q3'!$B$1:$U$42
Name pp: '2016Q4'!$B$1:$U$42
Name pp: '2017'!$B$5:$M$36
Name pp: '2017Q1'!$B$1:$U$43
Name pp: '2017Q2'!$B$1:$U$43
Name pp: '2017Q3'!$B$1:$U$43
Name pp: '2017Q4'!$B$1:$U$43
Name pp: '2018'!$B$5:$M$36
Name pp: '2019'!$B$5:$M$36
Name pp: '2019Q1'!$B$1:$T$39
Name pp: '2019Q2'!$B$1:$T$39
Name pp: '2019Q3'!$B$1:$T$39
Name pp: '2019Q4'!$B$1:$T$39
Name pp: '2020'!$B$5:$M$36
Name pp: '歷年(2019~)'!$B$1:$M$24
Name pp: !#REF!

Sheet 歷年(2019~)
A1: 家庭暴力通報事件被害人性別及年齡統計(單位：人數)
A2: 年 別 Year | C2: 性別 | D2: 年齡別 By Age
D3: 合計 | E3: 0-未滿6歲 | F3: 6-未滿12歲 | G3: 12-未滿18歲 | H3: 18-未滿24歲 | I3: 24-未滿30歲 | J3: 30-未滿40歲 | K3: 40-未滿50歲 | L3: 50-未滿65歲 | M3: 65歲 以上 | N3: 不詳
C4: Gender | D4: Total | E4: Under 6 Years | F4: 6-Under 12 Years | G4: 12-Under 18 Years | H4: 18-Under 2 Years | I4: 24-Under 30 Years | J4: 30-Under 40 Years | K4: 40-Under 50 Years | L4: 50-Under 65 Years | M4: Above 65 Years | N4: Unknown
A5: 108年 2019 | C5: 計 Total | D5: 103930 | E5: 5900 | F5: 5705 | G5: 6282 | H5: 7047 | I5: 8834 | J5: 21970 | K5: 19124 | L5: 18484 | M5: 10504 | N5: 80
C6: 男 Male | D6: 33498 | E6: 3141 | F6: 3470 | G6: 2844 | H6: 2026 | I6: 2230 | J6: 4850 | K6: 5087 | L6: 5977 | M6: 3862 | N6: 11
C7: 女 Female | D7: 70362 | E7: 2733 | F7: 2222 | G7: 3429 | H7: 5019 | I7: 6600 | J7: 17118 | K7: 14033 | L7: 12504 | M7: 6641 | N7: 63
C8: 其他 Other | D8: 70 | E8: 26 | F8: 13 | G8: 9 | H8: 2 | I8: 4 | J8: 2 | K8: 4 | L8: 3 | M8: 1 | N8: 6
A9: 108年第1季 2019Q1 | C9: 計 Total | D9: 27504 | E9: 1485 | F9: 1380 | G9: 1567 | H9: 1803 | I9: 2332 | J9: 6017 | K9: 5048 | L9: 5042 | M9: 2777 | N9: 53
C10: 男 Male | D10: 8578 | E10: 819 | F10: 863 | G10: 709 | H10: 491 | I10: 526 | J10: 1257 | K10: 1290 | L10: 1598 | M10: 1017 | N10: 8
C11: 女 Female | D11: 18905 | E11: 662 | F11: 513 | G11: 856 | H11: 1312 | I11: 1805 | J11: 4758 | K11: 3757 | L11: 3442 | M11: 1760 | N11: 40
C12: 其他 Other | D12: 21 | E12: 4 | F12: 4 | G12: 2 | H12: 0 | I12: 1 | J12: 2 | K12: 1 | L12: 2 | M12: 0 | N12: 5
A13: 108年第2季 2019Q2 | C13: 計 Total | D13: 26905 | E13: 1543 | F13: 1723 | G13: 1733 | H13: 1700 | I13: 2252 | J13: 5746 | K13: 4925 | L13: 4606 | M13: 2677 | N13: 0
C14: 男 Male | D14: 8795 | E14: 798 | F14: 1053 | G14: 750 | H14: 506 | I14: 591 | J14: 1319 | K14: 1282 | L14: 1509 | M14: 987 | N14: 0
C15: 女 Female | D15: 18092 | E15: 739 | F15: 666 | G15: 981 | H15: 1193 | I15: 1660 | J15: 4427 | K15: 3641 | L15: 3096 | M15: 1689 | N15: 0
C16: 其他 Other | D16: 18 | E16: 6 | F16: 4 | G16: 2 | H16: 1 | I16: 1 | J16: 0 | K16: 2 | L16: 1 | M16: 1 | N16: 0
A17: 108年第3季 2019Q3 | C17: 計 Total | D17: 25590 | E17: 1424 | F17: 1141 | G17: 1354 | H17: 1872 | I17: 2228 | J17: 5407 | K17: 4902 | L17: 4568 | M17: 2693 | N17: 1
C18: 男 Male | D18: 8121 | E18: 738 | F18: 679 | G18: 634 | H18: 526 | I18: 584 | J18: 1180 | K18: 1321 | L18: 1468 | M18: 991 | N18: 0
C19: 女 Female | D19: 17453 | E19: 679 | F19: 459 | G19: 718 | H19: 1345 | I19: 1642 | J19: 4227 | K19: 3581 | L19: 3100 | M19: 1702 | N19: 0
C20: 其他 Other | D20: 16 | E20: 7 | F20: 3 | G20: 2 | H20: 1 | I20: 2 | J20: 0 | K20: 0 | L20: 0 | M20: 0 | N20: 1
A21: 108年第4季 2019Q4 | C21: 計 Total | D21: 23931 | E21: 1448 | F21: 1461 | G21: 1628 | H21: 1672 | I21: 2022 | J21: 4800 | K21: 4249 | L21: 4268 | M21: 2357 | N21: 26
C22: 男 Male | D22: 8004 | E22: 786 | F22: 875 | G22: 751 | H22: 503 | I22: 529 | J22: 1094 | K22: 1194 | L22: 1402 | M22: 867 | N22: 3
C23: 女 Female | D23: 15912 | E23: 653 | F23: 584 | G23: 874 | H23: 1169 | I23: 1493 | J23: 3706 | K23: 3054 | L23: 2866 | M23: 1490 | N23: 23
C24: 其他 Other | D24: 15 | E24: 9 | F24: 2 | G24: 3 | H24: 0 | I24: 0 | J24: 0 | K24: 1 | L24: 0 | M24: 0 | N24: 0
A25: 109年 2020 | C25: 計 Total
C26: 男 Male
C27: 女 Female
C28: 其他 Other
A29: 109年 2020 | C29: 計 Total | D29: 114381 | E29: 6031 | F29: 7703 | G29: 7698 | H29: 7828 | I29: 9819 | J29: 22055 | K29: 21054 | L29: 19881 | M29: 11822 | N29: 490
C30: 男 Male | D30: 39225 | E30: 3367 | F30: 4569 | G30: 3451 | H30: 2380 | I30: 2660 | J30: 5443 | K30: 5991 | L30: 6806 | M30: 4457 | N30: 101
C31: 女 Female | D31: 75083 | E31: 2643 | F31: 3116 | G31: 4234 | H31: 5446 | I31: 7158 | J31: 16611 | K31: 15059 | L31: 13073 | M31: 7362 | N31: 381
C32: 其他 Other | D32: 73 | E32: 21 | F32: 18 | G32: 13 | H32: 2 | I32: 1 | J32: 1 | K32: 4 | L32: 2 | M32: 3 | N32: 8
A33: 110年 2021 | C33: 計 Total | D33: 118532 | E33: 5577 | F33: 7679 | G33: 7579 | H33: 8504 | I33: 10231 | J33: 22213 | K33: 22183 | L33: 20976 | M33: 13127 | N33: 463
C34: 男 Male | D34: 42274 | E34: 3198 | F34: 4561 | G34: 3505 | H34: 2780 | I34: 2998 | J34: 5931 | K34: 6695 | L34: 7519 | M34: 4987 | N34: 100
C35: 女 Female | D35: 76189 | E35: 2360 | F35: 3103 | G35: 4065 | H35: 5722 | I35: 7231 | J35: 16280 | K35: 15486 | L35: 13454 | M35: 8139 | N35: 349
C36: 其他 Other | D36: 22 | E36: 12 | F36: 1 | G36: 1 | H36: 1 | I36: 2 | J36: 1 | K36: 1 | L36: 0 | M36: 1 | N36: 2
C37: 不詳Unknown | D37: 47 | E37: 7 | F37: 14 | G37: 8 | H37: 1 | I37: 0 | J37: 1 | K37: 1 | L37: 3 | M37: 0 | N37: 12
A38: 111年 2022 | C38: 計 Total | D38: 123741 | E38: 5733 | F38: 7939 | G38: 7603 | H38: 8464 | I38: 11284 | J38: 22600 | K38: 24019 | L38: 21548 | M38: 14167 | N38: 384
C39: 男 Male | D39: 44773 | E39: 3210 | F39: 4720 | G39: 3422 | H39: 2740 | I39: 3399 | J39: 6371 | K39: 7418 | L39: 8057 | M39: 5322 | N39: 114
C40: 女 Female | D40: 78903 | E40: 2510 | F40: 3196 | G40: 4170 | H40: 5721 | I40: 7883 | J40: 16227 | K40: 16598 | L40: 13488 | M40: 8843 | N40: 267
C41: 其他 Other | D41: 14 | E41: 5 | F41: 1 | G41: 1 | H41: 2 | I41: 2 | J41: 0 | K41: 1 | L41: 0 | M41: 1 | N41: 1
C42: 不詳Unknown | D42: 51 | E42: 8 | F42: 22 | G42: 10 | H42: 1 | I42: 0 | J42: 2 | K42: 2 | L42: 3 | M42: 1 | N42: 2
A43: 112年 2023 | C43: 計 Total | D43: 132147 | E43: 6003 | F43: 9076 | G43: 7755 | H43: 8658 | I43: 11839 | J43: 23625 | K43: 26108 | L43: 23001 | M43: 15730 | N43: 352
C44: 男 Male | D44: 48891 | E44: 3465 | F44: 5361 | G44: 3512 | H44: 2888 | I44: 3731 | J44: 6995 | K44: 8311 | L44: 8677 | M44: 5850 | N44: 101
C45: 女 Female | D45: 83179 | E45: 2517 | F45: 3696 | G45: 4222 | H45: 5769 | I45: 8105 | J45: 16627 | K45: 17795 | L45: 14321 | M45: 9879 | N45: 248
C46: 其他 Other | D46: 13 | E46: 0 | F46: 1 | G46: 2 | H46: 1 | I46: 3 | J46: 2 | K46: 1 | L46: 1 | M46: 1 | N46: 1
C47: 不詳Unknown | D47: 64 | E47: 21 | F47: 18 | G47: 19 | H47: 0 | I47: 0 | J47: 1 | K47: 1 | L47: 2 | M47: 0 | N47: 2
A48: 113年 2024 | C48: 計 Total | D48: 138859 | E48: 6224 | F48: 9842 | G48: 8045 | H48: 8896 | I48: 12432 | J48: 24757 | K48: 27308 | L48: 24160 | M48: 16866 | N48: 329
C49: 男 Male | D49: 52894 | E49: 3592 | F49: 5933 | G49: 3756 | H49: 3011 | I49: 4032 | J49: 7768 | K49: 8940 | L49: 9390 | M49: 6386 | N49: 86
C50: 女 Female | D50: 85864 | E50: 2613 | F50: 3875 | G50: 4265 | H50: 5884 | I50: 8397 | J50: 16984 | K50: 18362 | L50: 14766 | M50: 10480 | N50: 238
C51: 其他 Other | D51: 14 | E51: 0 | F51: 0 | G51: 0 | H51: 1 | I51: 3 | J51: 2 | K51: 4 | L51: 1 | M51: 0 | N51: 3
C52: 不詳Unknown | D52: 87 | E52: 19 | F52: 34 | G52: 24 | H52: 0 | I52: 0 | J52: 3 | K52: 2 | L52: 3 | M52: 0 | N52: 2
A53: 114年 2025 | C53: 計 Total | D53: 146105 | E53: 6231 | F53: 10228 | G53: 8640 | H53: 8933 | I53: 12897 | J53: 25709 | K53: 29292 | L53: 25552 | M53: 18298 | N53: 325
C54: 男 Male | D54: 56855 | E54: 3616 | F54: 6224 | G54: 4078 | H54: 3138 | I54: 4251 | J54: 8413 | K54: 10053 | L54: 10025 | M54: 6956 | N54: 101
C55: 女 Female | D55: 89121 | E55: 2571 | F55: 3973 | G55: 4533 | H55: 5790 | I55: 8644 | J55: 17293 | K55: 19233 | L55: 15523 | M55: 11339 | N55: 222
C56: 其他 Other | D56: 13 | E56: 0 | F56: 0 | G56: 0 | H56: 4 | I56: 1 | J56: 3 | K56: 3 | L56: 2 | M56: 0 | N56: 0
C57: 不詳Unknown | D57: 116 | E57: 44 | F57: 31 | G57: 29 | H57: 1 | I57: 1 | J57: 0 | K57: 3 | L57: 2 | M57: 3 | N57: 2
A58: Source :Department of Protective Services , MOHW.
A61: 更新日期：2026/03/27

Sheet 2025
A1: 家庭暴力事件通報被害及相對人概況Overview of Victim and Offender Status in Reporting Cases of Domestic Violence
A2: 114年，2025
A3: 單位：人數 unit:Person
A4: 區域別 Locality | C4: 性別 | D4: 年齡別 By Age
D5: 合計 | E5: 0-未滿6歲 | F5: 6-未滿12歲 | G5: 12-未滿18歲 | H5: 18-未滿24歲 | I5: 24-未滿30歲 | J5: 30-未滿40歲 | K5: 40-未滿50歲 | L5: 50-未滿65歲 | M5: 65歲 以上 | N5: 不詳
C7: Gender | D7: Total | E7: Under 6 Years | F7: 6-Under 12 Years | G7: 12-Under 18 Years | H7: 18-Under 2 Years | I7: 24-Under 30 Years | J7: 30-Under 40 Years | K7: 40-Under 50 Years | L7: 50-Under 65 Years | M7: Above 65 Years | N7: Unknown
A8: 總計 | C8: 計 Total | D8: 146105 | E8: 6231 | F8: 10228 | G8: 8640 | H8: 8933 | I8: 12897 | J8: 25709 | K8: 29292 | L8: 25552 | M8: 18298 | N8: 325
C9: 男 Male | D9: 56855 | E9: 3616 | F9: 6224 | G9: 4078 | H9: 3138 | I9: 4251 | J9: 8413 | K9: 10053 | L9: 10025 | M9: 6956 | N9: 101
A10: Total | C10: 女 Female | D10: 89121 | E10: 2571 | F10: 3973 | G10: 4533 | H10: 5790 | I10: 8644 | J10: 17293 | K10: 19233 | L10: 15523 | M10: 11339 | N10: 222
C11: 其他 Other | D11: 13 | E11: 0 | F11: 0 | G11: 0 | H11: 4 | I11: 1 | J11: 3 | K11: 3 | L11: 2 | M11: 0 | N11: 0
C12: 不詳Unknown | D12: 116 | E12: 44 | F12: 31 | G12: 29 | H12: 1 | I12: 1 | J12: 0 | K12: 3 | L12: 2 | M12: 3 | N12: 2
A13: 新北市 | C13: 計 Total | D13: 24510 | E13: 906 | F13: 2024 | G13: 1592 | H13: 1606 | I13: 2149 | J13: 4342 | K13: 4827 | L13: 4106 | M13: 2809 | N13: 149
C14: 男 Male | D14: 9014 | E14: 509 | F14: 1209 | G14: 731 | H14: 532 | I14: 656 | J14: 1263 | K14: 1579 | L14: 1511 | M14: 981 | N14: 43
A15: New Taipei City | C15: 女 Female | D15: 15440 | E15: 382 | F15: 797 | G15: 845 | H15: 1072 | I15: 1492 | J15: 3079 | K15: 3246 | L15: 2595 | M15: 1826 | N15: 106
C16: 其他 Other | D16: 2 | E16: 0 | F16: 0 | G16: 0 | H16: 2 | I16: 0 | J16: 0 | K16: 0 | L16: 0 | M16: 0 | N16: 0
C17: 不詳Unknown | D17: 54 | E17: 15 | F17: 18 | G17: 16 | H17: 0 | I17: 1 | J17: 0 | K17: 2 | L17: 0 | M17: 2 | N17: 0
A18: 臺北市 | C18: 計 Total | D18: 14075 | E18: 562 | F18: 1078 | G18: 999 | H18: 779 | I18: 1059 | J18: 2196 | K18: 2762 | L18: 2614 | M18: 1976 | N18: 50
C19: 男 Male | D19: 5628 | E19: 321 | F19: 682 | G19: 520 | H19: 266 | I19: 367 | J19: 770 | K19: 937 | L19: 1030 | M19: 718 | N19: 17
A20: Taipei City | C20: 女 Female | D20: 8426 | E20: 233 | F20: 392 | G20: 475 | H20: 513 | I20: 691 | J20: 1426 | K20: 1823 | L20: 1583 | M20: 1258 | N20: 32
C21: 其他 Other | D21: 3 | E21: 0 | F21: 0 | G21: 0 | H21: 0 | I21: 1 | J21: 0 | K21: 2 | L21: 0 | M21: 0 | N21: 0
C22: 不詳Unknown | D22: 18 | E22: 8 | F22: 4 | G22: 4 | H22: 0 | I22: 0 | J22: 0 | K22: 0 | L22: 1 | M22: 0 | N22: 1
A23: 桃園市 | C23: 計 Total | D23: 15565 | E23: 652 | F23: 1228 | G23: 1042 | H23: 996 | I23: 1578 | J23: 2991 | K23: 3190 | L23: 2400 | M23: 1472 | N23: 16
C24: 男 Male | D24: 6085 | E24: 394 | F24: 748 | G24: 483 | H24: 373 | I24: 503 | J24: 1001 | K24: 1084 | L24: 929 | M24: 565 | N24: 5
A25: Taoyuan City | C25: 女 Female | D25: 9477 | E25: 258 | F25: 480 | G25: 559 | H25: 623 | I25: 1075 | J25: 1989 | K25: 2105 | L25: 1471 | M25: 906 | N25: 11
C26: 其他 Other | D26: 1 | E26: 0 | F26: 0 | G26: 0 | H26: 0 | I26: 0 | J26: 1 | K26: 0 | L26: 0 | M26: 0 | N26: 0
C27: 不詳Unknown | D27: 2 | E27: 0 | F27: 0 | G27: 0 | H27: 0 | I27: 0 | J27: 0 | K27: 1 | L27: 0 | M27: 1 | N27: 0
A28: 臺中市 | C28: 計 Total | D28: 19542 | E28: 679 | F28: 1295 | G28: 1155 | H28: 1355 | I28: 1893 | J28: 3659 | K28: 4016 | L28: 3266 | M28: 2188 | N28: 36
C29: 男 Male | D29: 7821 | E29: 407 | F29: 806 | G29: 591 | H29: 477 | I29: 652 | J29: 1261 | K29: 1459 | L29: 1289 | M29: 867 | N29: 12
A30: Taichung City | C30: 女 Female | D30: 11718 | E30: 272 | F30: 489 | G30: 563 | H30: 877 | I30: 1241 | J30: 2398 | K30: 2557 | L30: 1976 | M30: 1321 | N30: 24
C31: 其他 Other | D31: 2 | E31: 0 | F31: 0 | G31: 0 | H31: 1 | I31: 0 | J31: 0 | K31: 0 | L31: 1 | M31: 0 | N31: 0
C32: 不詳Unknown | D32: 1 | E32: 0 | F32: 0 | G32: 1 | H32: 0 | I32: 0 | J32: 0 | K32: 0 | L32: 0 | M32: 0 | N32: 0
A33: 臺南市 | C33: 計 Total | D33: 10228 | E33: 538 | F33: 795 | G33: 594 | H33: 566 | I33: 856 | J33: 1753 | K33: 1978 | L33: 1751 | M33: 1392 | N33: 5
C34: 男 Male | D34: 3799 | E34: 314 | F34: 494 | G34: 248 | H34: 183 | I34: 277 | J34: 539 | K34: 603 | L34: 642 | M34: 498 | N34: 1
A35: Tainan City | C35: 女 Female | D35: 6426 | E35: 223 | F35: 301 | G35: 344 | H35: 383 | I35: 579 | J35: 1214 | K35: 1375 | L35: 1109 | M35: 894 | N35: 4
C36: 其他 Other | D36: 0 | E36: 0 | F36: 0 | G36: 0 | H36: 0 | I36: 0 | J36: 0 | K36: 0 | L36: 0 | M36: 0 | N36: 0
C37: 不詳Unknown | D37: 3 | E37: 1 | F37: 0 | G37: 2 | H37: 0 | I37: 0 | J37: 0 | K37: 0 | L37: 0 | M37: 0 | N37: 0
A38: 高雄市 | C38: 計 Total | D38: 19568 | E38: 775 | F38: 1161 | G38: 1068 | H38: 1187 | I38: 1743 | J38: 3433 | K38: 3973 | L38: 3576 | M38: 2641 | N38: 11
C39: 男 Male | D39: 7891 | E39: 470 | F39: 693 | G39: 500 | H39: 455 | I39: 595 | J39: 1258 | K39: 1453 | L39: 1458 | M39: 1005 | N39: 4
A40: Kaohsiung City | C40: 女 Female | D40: 11676 | E40: 305 | F40: 468 | G40: 568 | H40: 731 | I40: 1148 | J40: 2175 | K40: 2520 | L40: 2118 | M40: 1636 | N40: 7
C41: 其他 Other | D41: 1 | E41: 0 | F41: 0 | G41: 0 | H41: 1 | I41: 0 | J41: 0 | K41: 0 | L41: 0 | M41: 0 | N41: 0
C42: 不詳Unknown | D42: 0 | E42: 0 | F42: 0 | G42: 0 | H42: 0 | I42: 0 | J42: 0 | K42: 0 | L42: 0 | M42: 0 | N42: 0
A43: 宜蘭縣 | C43: 計 Total | D43: 2332 | E43: 92 | F43: 116 | G43: 84 | H43: 147 | I43: 222 | J43: 429 | K43: 497 | L43: 449 | M43: 295 | N43: 1
C44: 男 Male | D44: 823 | E44: 56 | F44: 66 | G44: 31 | H44: 49 | I44: 55 | J44: 116 | K44: 156 | L44: 184 | M44: 110 | N44: 0
A45: Yilan County | C45: 女 Female | D45: 1507 | E45: 36 | F45: 49 | G45: 52 | H45: 98 | I45: 167 | J45: 313 | K45: 341 | L45: 265 | M45: 185 | N45: 1
C46: 其他 Other | D46: 0 | E46: 0 | F46: 0 | G46: 0 | H46: 0 | I46: 0 | J46: 0 | K46: 0 | L46: 0 | M46: 0 | N46: 0
C47: 不詳Unknown | D47: 2 | E47: 0 | F47: 1 | G47: 1 | H47: 0 | I47: 0 | J47: 0 | K47: 0 | L47: 0 | M47: 0 | N47: 0
A48: 新竹縣 | C48: 計 Total | D48: 3330 | E48: 234 | F48: 230 | G48: 138 | H48: 197 | I48: 289 | J48: 652 | K48: 684 | L48: 541 | M48: 361 | N48: 4
C49: 男 Male | D49: 1325 | E49: 138 | F49: 155 | G49: 54 | H49: 61 | I49: 104 | J49: 189 | K49: 237 | L49: 234 | M49: 152 | N49: 1
A50: Hsinchu County | C50: 女 Female | D50: 2002 | E50: 95 | F50: 74 | G50: 83 | H50: 136 | I50: 185 | J50: 463 | K50: 447 | L50: 307 | M50: 209 | N50: 3
C51: 其他 Other | D51: 0 | E51: 0 | F51: 0 | G51: 0 | H51: 0 | I51: 0 | J51: 0 | K51: 0 | L51: 0 | M51: 0 | N51: 0
C52: 不詳Unknown | D52: 3 | E52: 1 | F52: 1 | G52: 1 | H52: 0 | I52: 0 | J52: 0 | K52: 0 | L52: 0 | M52: 0 | N52: 0
A53: 苗栗縣 | C53: 計 Total | D53: 2723 | E53: 136 | F53: 200 | G53: 189 | H53: 146 | I53: 231 | J53: 473 | K53: 558 | L53: 437 | M53: 350 | N53: 3
C54: 男 Male | D54: 1039 | E54: 81 | F54: 120 | G54: 84 | H54: 48 | I54: 74 | J54: 134 | K54: 176 | L54: 176 | M54: 146 | N54: 0
A55: Miaoli County | C55: 女 Female | D55: 1684 | E55: 55 | F55: 80 | G55: 105 | H55: 98 | I55: 157 | J55: 339 | K55: 382 | L55: 261 | M55: 204 | N55: 3
C56: 其他 Other | D56: 0 | E56: 0 | F56: 0 | G56: 0 | H56: 0 | I56: 0 | J56: 0 | K56: 0 | L56: 0 | M56: 0 | N56: 0
C57: 不詳Unknown | D57: 0 | E57: 0 | F57: 0 | G57: 0 | H57: 0 | I57: 0 | J57: 0 | K57: 0 | L57: 0 | M57: 0 | N57: 0
A58: 彰化縣 | C58: 計 Total | D58: 8194 | E58: 370 | F58: 440 | G58: 405 | H58: 434 | I58: 635 | J58: 1379 | K58: 1740 | L58: 1521 | M58: 1256 | N58: 14
C59: 男 Male | D59: 3494 | E59: 203 | F59: 266 | G59: 190 | H59: 168 | I59: 256 | J59: 504 | K59: 686 | L59: 679 | M59: 537 | N59: 5
A60: Changhua County | C60: 女 Female | D60: 4682 | E60: 160 | F60: 171 | G60: 212 | H60: 266 | I60: 379 | J60: 873 | K60: 1053 | L60: 841 | M60: 719 | N60: 8
C61: 其他 Other | D61: 4 | E61: 0 | F61: 0 | G61: 0 | H61: 0 | I61: 0 | J61: 2 | K61: 1 | L61: 1 | M61: 0 | N61: 0
C62: 不詳Unknown | D62: 14 | E62: 7 | F62: 3 | G62: 3 | H62: 0 | I62: 0 | J62: 0 | K62: 0 | L62: 0 | M62: 0 | N62: 1
A63: 南投縣 | C63: 計 Total | D63: 3199 | E63: 192 | F63: 221 | G63: 174 | H63: 162 | I63: 230 | J63: 505 | K63: 644 | L63: 598 | M63: 469 | N63: 4
C64: 男 Male | D64: 1272 | E64: 100 | F64: 139 | G64: 68 | H64: 68 | I64: 80 | J64: 171 | K64: 229 | L64: 233 | M64: 183 | N64: 1
A65: Nantou County | C65: 女 Female | D65: 1927 | E65: 92 | F65: 82 | G65: 106 | H65: 94 | I65: 150 | J65: 334 | K65: 415 | L65: 365 | M65: 286 | N65: 3
C66: 其他 Other | D66: 0 | E66: 0 | F66: 0 | G66: 0 | H66: 0 | I66: 0 | J66: 0 | K66: 0 | L66: 0 | M66: 0 | N66: 0
C67: 不詳Unknown | D67: 0 | E67: 0 | F67: 0 | G67: 0 | H67: 0 | I67: 0 | J67: 0 | K67: 0 | L67: 0 | M67: 0 | N67: 0
A68: 雲林縣 | C68: 計 Total | D68: 4070 | E68: 169 | F68: 176 | G68: 187 | H68: 233 | I68: 355 | J68: 684 | K68: 843 | L68: 798 | M68: 619 | N68: 6
C69: 男 Male | D69: 1616 | E69: 104 | F69: 104 | G69: 100 | H69: 91 | I69: 115 | J69: 235 | K69: 284 | L69: 331 | M69: 248 | N69: 4
A70: Yunlin County | C70: 女 Female | D70: 2452 | E70: 64 | F70: 71 | G70: 87 | H70: 142 | I70: 240 | J70: 449 | K70: 559 | L70: 467 | M70: 371 | N70: 2
C71: 其他 Other | D71: 0 | E71: 0 | F71: 0 | G71: 0 | H71: 0 | I71: 0 | J71: 0 | K71: 0 | L71: 0 | M71: 0 | N71: 0
C72: 不詳Unknown | D72: 2 | E72: 1 | F72: 1 | G72: 0 | H72: 0 | I72: 0 | J72: 0 | K72: 0 | L72: 0 | M72: 0 | N72: 0
A73: 嘉義縣 | C73: 計 Total | D73: 2550 | E73: 128 | F73: 122 | G73: 93 | H73: 136 | I73: 175 | J73: 398 | K73: 484 | L73: 566 | M73: 445 | N73: 3
C74: 男 Male | D74: 1007 | E74: 69 | F74: 67 | G74: 45 | H74: 49 | I74: 68 | J74: 131 | K74: 167 | L74: 236 | M74: 174 | N74: 1
A75: Chiayi County | C75: 女 Female | D75: 1539 | E75: 57 | F75: 55 | G75: 47 | H75: 87 | I75: 107 | J75: 267 | K75: 317 | L75: 329 | M75: 271 | N75: 2
C76: 其他 Other | D76: 0 | E76: 0 | F76: 0 | G76: 0 | H76: 0 | I76: 0 | J76: 0 | K76: 0 | L76: 0 | M76: 0 | N76: 0
C77: 不詳Unknown | D77: 4 | E77: 2 | F77: 0 | G77: 1 | H77: 0 | I77: 0 | J77: 0 | K77: 0 | L77: 1 | M77: 0 | N77: 0
A78: 屏東縣 | C78: 計 Total | D78: 4576 | E78: 169 | F78: 299 | G78: 242 | H78: 300 | I78: 398 | J78: 818 | K78: 885 | L78: 816 | M78: 646 | N78: 3
C79: 男 Male | D79: 1631 | E79: 96 | F79: 169 | G79: 110 | H79: 103 | I79: 119 | J79: 223 | K79: 265 | L79: 298 | M79: 247 | N79: 1
A80: Pingtung County | C80: 女 Female | D80: 2942 | E80: 70 | F80: 130 | G80: 132 | H80: 197 | I80: 279 | J80: 595 | K80: 620 | L80: 518 | M80: 399 | N80: 2
C81: 其他 Other | D81: 0 | E81: 0 | F81: 0 | G81: 0 | H81: 0 | I81: 0 | J81: 0 | K81: 0 | L81: 0 | M81: 0 | N81: 0
C82: 不詳Unknown | D82: 3 | E82: 3 | F82: 0 | G82: 0 | H82: 0 | I82: 0 | J82: 0 | K82: 0 | L82: 0 | M82: 0 | N82: 0
A83: 臺東縣 | C83: 計 Total | D83: 1626 | E83: 55 | F83: 96 | G83: 79 | H83: 84 | I83: 160 | J83: 275 | K83: 281 | L83: 365 | M83: 229 | N83: 2
C84: 男 Male | D84: 592 | E84: 32 | F84: 50 | G84: 37 | H84: 24 | I84: 53 | J84: 78 | K84: 91 | L84: 141 | M84: 86 | N84: 0
A85: Taitung County | C85: 女 Female | D85: 1033 | E85: 23 | F85: 46 | G85: 42 | H85: 59 | I85: 107 | J85: 197 | K85: 190 | L85: 224 | M85: 143 | N85: 2
C86: 其他 Other | D86: 0 | E86: 0 | F86: 0 | G86: 0 | H86: 0 | I86: 0 | J86: 0 | K86: 0 | L86: 0 | M86: 0 | N86: 0
C87: 不詳Unknown | D87: 1 | E87: 0 | F87: 0 | G87: 0 | H87: 1 | I87: 0 | J87: 0 | K87: 0 | L87: 0 | M87: 0 | N87: 0
A88: 花蓮縣 | C88: 計 Total | D88: 2767 | E88: 221 | F88: 254 | G88: 214 | H88: 171 | I88: 272 | J88: 419 | K88: 488 | L88: 421 | M88: 303 | N88: 4
C89: 男 Male | D89: 1051 | E89: 125 | F89: 155 | G89: 101 | H89: 58 | I89: 70 | J89: 125 | K89: 146 | L89: 162 | M89: 108 | N89: 1
A90: Hualien County | C90: 女 Female | D90: 1714 | E90: 95 | F90: 98 | G90: 113 | H90: 113 | I90: 202 | J90: 294 | K90: 342 | L90: 259 | M90: 195 | N90: 3
C91: 其他 Other | D91: 0 | E91: 0 | F91: 0 | G91: 0 | H91: 0 | I91: 0 | J91: 0 | K91: 0 | L91: 0 | M91: 0 | N91: 0
C92: 不詳Unknown | D92: 2 | E92: 1 | F92: 1 | G92: 0 | H92: 0 | I92: 0 | J92: 0 | K92: 0 | L92: 0 | M92: 0 | N92: 0
A93: 澎湖縣 | C93: 計 Total | D93: 435 | E93: 3 | F93: 13 | G93: 8 | H93: 28 | I93: 37 | J93: 76 | K93: 94 | L93: 101 | M93: 74 | N93: 1
C94: 男 Male | D94: 189 | E94: 1 | F94: 7 | G94: 5 | H94: 11 | I94: 14 | J94: 33 | K94: 33 | L94: 51 | M94: 34 | N94: 0
A95: Penghu County | C95: 女 Female | D95: 245 | E95: 2 | F95: 5 | G95: 3 | H95: 17 | I95: 23 | J95: 43 | K95: 61 | L95: 50 | M95: 40 | N95: 1
C96: 其他 Other | D96: 0 | E96: 0 | F96: 0 | G96: 0 | H96: 0 | I96: 0 | J96: 0 | K96: 0 | L96: 0 | M96: 0 | N96: 0
C97: 不詳Unknown | D97: 1 | E97: 0 | F97: 1 | G97: 0 | H97: 0 | I97: 0 | J97: 0 | K97: 0 | L97: 0 | M97: 0 | N97: 0
A98: 基隆市 | C98: 計 Total | D98: 2434 | E98: 92 | F98: 129 | G98: 130 | H98: 126 | I98: 208 | J98: 453 | K98: 503 | L98: 493 | M98: 297 | N98: 3
C99: 男 Male | D99: 997 | E99: 56 | F99: 77 | G99: 56 | H99: 52 | I99: 87 | J99: 158 | K99: 200 | L99: 197 | M99: 113 | N99: 1
A100: Keelung City | C100: 女 Female | D100: 1437 | E100: 36 | F100: 52 | G100: 74 | H100: 74 | I100: 121 | J100: 295 | K100: 303 | L100: 296 | M100: 184 | N100: 2
C101: 其他 Other | D101: 0 | E101: 0 | F101: 0 | G101: 0 | H101: 0 | I101: 0 | J101: 0 | K101: 0 | L101: 0 | M101: 0 | N101: 0
...

Sheet 2024
A1: 家庭暴力通報事件被害人性別及年齡統計(單位：人數)
A2: 113年，2024
A3: 單位：人數 unit:Person
A4: 區域別 Locality | C4: 性別 | D4: 年齡別 By Age
D5: 合計 | E5: 0-未滿6歲 | F5: 6-未滿12歲 | G5: 12-未滿18歲 | H5: 18-未滿24歲 | I5: 24-未滿30歲 | J5: 30-未滿40歲 | K5: 40-未滿50歲 | L5: 50-未滿65歲 | M5: 65歲 以上 | N5: 不詳
C7: Gender | D7: Total | E7: Under 6 Years | F7: 6-Under 12 Years | G7: 12-Under 18 Years | H7: 18-Under 2 Years | I7: 24-Under 30 Years | J7: 30-Under 40 Years | K7: 40-Under 50 Years | L7: 50-Under 65 Years | M7: Above 65 Years | N7: Unknown
A8: 總計 | C8: 計 Total | D8: 138859 | E8: 6224 | F8: 9842 | G8: 8045 | H8: 8896 | I8: 12432 | J8: 24757 | K8: 27308 | L8: 24160 | M8: 16866 | N8: 329
C9: 男 Male | D9: 52894 | E9: 3592 | F9: 5933 | G9: 3756 | H9: 3011 | I9: 4032 | J9: 7768 | K9: 8940 | L9: 9390 | M9: 6386 | N9: 86
A10: Total | C10: 女 Female | D10: 85864 | E10: 2613 | F10: 3875 | G10: 4265 | H10: 5884 | I10: 8397 | J10: 16984 | K10: 18362 | L10: 14766 | M10: 10480 | N10: 238
C11: 其他 Other | D11: 14 | E11: 0 | F11: 0 | G11: 0 | H11: 1 | I11: 3 | J11: 2 | K11: 4 | L11: 1 | M11: 0 | N11: 3
C12: 不詳Unknown | D12: 87 | E12: 19 | F12: 34 | G12: 24 | H12: 0 | I12: 0 | J12: 3 | K12: 2 | L12: 3 | M12: 0 | N12: 2
A13: 新北市 | C13: 計 Total | D13: 23113 | E13: 887 | F13: 1857 | G13: 1519 | H13: 1551 | I13: 2071 | J13: 4167 | K13: 4528 | L13: 3784 | M13: 2578 | N13: 171
C14: 男 Male | D14: 8245 | E14: 538 | F14: 1118 | G14: 668 | H14: 495 | I14: 579 | J14: 1251 | K14: 1337 | L14: 1340 | M14: 866 | N14: 53
A15: New Taipei City | C15: 女 Female | D15: 14831 | E15: 344 | F15: 726 | G15: 839 | H15: 1056 | I15: 1490 | J15: 2915 | K15: 3189 | L15: 2443 | M15: 1712 | N15: 117
C16: 其他 Other | D16: 4 | E16: 0 | F16: 0 | G16: 0 | H16: 0 | I16: 2 | J16: 1 | K16: 1 | L16: 0 | M16: 0 | N16: 0
C17: 不詳Unknown | D17: 33 | E17: 5 | F17: 13 | G17: 12 | H17: 0 | I17: 0 | J17: 0 | K17: 1 | L17: 1 | M17: 0 | N17: 1
A18: 臺北市 | C18: 計 Total | D18: 13194 | E18: 587 | F18: 1051 | G18: 983 | H18: 770 | I18: 1007 | J18: 2148 | K18: 2434 | L18: 2387 | M18: 1783 | N18: 44
C19: 男 Male | D19: 5251 | E19: 320 | F19: 630 | G19: 530 | H19: 264 | I19: 341 | J19: 715 | K19: 846 | L19: 934 | M19: 664 | N19: 7
A20: Taipei City | C20: 女 Female | D20: 7928 | E20: 264 | F20: 412 | G20: 451 | H20: 506 | I20: 666 | J20: 1433 | K20: 1588 | L20: 1453 | M20: 1119 | N20: 36
C21: 其他 Other | D21: 1 | E21: 0 | F21: 0 | G21: 0 | H21: 0 | I21: 0 | J21: 0 | K21: 0 | L21: 0 | M21: 0 | N21: 1
C22: 不詳Unknown | D22: 14 | E22: 3 | F22: 9 | G22: 2 | H22: 0 | I22: 0 | J22: 0 | K22: 0 | L22: 0 | M22: 0 | N22: 0
A23: 桃園市 | C23: 計 Total | D23: 14574 | E23: 617 | F23: 1224 | G23: 939 | H23: 980 | I23: 1465 | J23: 2754 | K23: 2909 | L23: 2258 | M23: 1408 | N23: 20
C24: 男 Male | D24: 5473 | E24: 375 | F24: 769 | G24: 418 | H24: 328 | I24: 473 | J24: 792 | K24: 883 | L24: 914 | M24: 517 | N24: 4
A25: Taoyuan City | C25: 女 Female | D25: 9100 | E25: 242 | F25: 455 | G25: 521 | H25: 652 | I25: 992 | J25: 1961 | K25: 2026 | L25: 1344 | M25: 891 | N25: 16
C26: 其他 Other | D26: 0 | E26: 0 | F26: 0 | G26: 0 | H26: 0 | I26: 0 | J26: 0 | K26: 0 | L26: 0 | M26: 0 | N26: 0
C27: 不詳Unknown | D27: 1 | E27: 0 | F27: 0 | G27: 0 | H27: 0 | I27: 0 | J27: 1 | K27: 0 | L27: 0 | M27: 0 | N27: 0
A28: 臺中市 | C28: 計 Total | D28: 18668 | E28: 788 | F28: 1193 | G28: 954 | H28: 1281 | I28: 1827 | J28: 3626 | K28: 3718 | L28: 3220 | M28: 2026 | N28: 35
C29: 男 Male | D29: 7147 | E29: 455 | F29: 723 | G29: 445 | H29: 440 | I29: 616 | J29: 1154 | K29: 1291 | L29: 1240 | M29: 774 | N29: 9
A30: Taichung City | C30: 女 Female | D30: 11512 | E30: 330 | F30: 470 | G30: 507 | H30: 841 | I30: 1211 | J30: 2470 | K30: 2426 | L30: 1980 | M30: 1252 | N30: 25
C31: 其他 Other | D31: 2 | E31: 0 | F31: 0 | G31: 0 | H31: 0 | I31: 0 | J31: 0 | K31: 1 | L31: 0 | M31: 0 | N31: 1
C32: 不詳Unknown | D32: 7 | E32: 3 | F32: 0 | G32: 2 | H32: 0 | I32: 0 | J32: 2 | K32: 0 | L32: 0 | M32: 0 | N32: 0
A33: 臺南市 | C33: 計 Total | D33: 9273 | E33: 492 | F33: 733 | G33: 503 | H33: 552 | I33: 736 | J33: 1542 | K33: 1848 | L33: 1582 | M33: 1279 | N33: 6
C34: 男 Male | D34: 3438 | E34: 290 | F34: 427 | G34: 238 | H34: 166 | I34: 221 | J34: 434 | K34: 595 | L34: 558 | M34: 509 | N34: 0
A35: Tainan City | C35: 女 Female | D35: 5832 | E35: 202 | F35: 305 | G35: 265 | H35: 385 | I35: 515 | J35: 1108 | K35: 1252 | L35: 1024 | M35: 770 | N35: 6
C36: 其他 Other | D36: 2 | E36: 0 | F36: 0 | G36: 0 | H36: 1 | I36: 0 | J36: 0 | K36: 1 | L36: 0 | M36: 0 | N36: 0
C37: 不詳Unknown | D37: 1 | E37: 0 | F37: 1 | G37: 0 | H37: 0 | I37: 0 | J37: 0 | K37: 0 | L37: 0 | M37: 0 | N37: 0
A38: 高雄市 | C38: 計 Total | D38: 18612 | E38: 762 | F38: 1181 | G38: 953 | H38: 1211 | I38: 1699 | J38: 3259 | K38: 3681 | L38: 3458 | M38: 2403 | N38: 5
C39: 男 Male | D39: 7507 | E39: 423 | F39: 703 | G39: 440 | H39: 442 | I39: 612 | J39: 1180 | K39: 1346 | L39: 1469 | M39: 892 | N39: 0
A40: Kaohsiung City | C40: 女 Female | D40: 11101 | E40: 337 | F40: 477 | G40: 513 | H40: 769 | I40: 1087 | J40: 2079 | K40: 2335 | L40: 1989 | M40: 1511 | N40: 4
C41: 其他 Other | D41: 0 | E41: 0 | F41: 0 | G41: 0 | H41: 0 | I41: 0 | J41: 0 | K41: 0 | L41: 0 | M41: 0 | N41: 0
C42: 不詳Unknown | D42: 4 | E42: 2 | F42: 1 | G42: 0 | H42: 0 | I42: 0 | J42: 0 | K42: 0 | L42: 0 | M42: 0 | N42: 1
A43: 宜蘭縣 | C43: 計 Total | D43: 2193 | E43: 90 | F43: 110 | G43: 85 | H43: 148 | I43: 223 | J43: 412 | K43: 430 | L43: 396 | M43: 297 | N43: 2
C44: 男 Male | D44: 762 | E44: 48 | F44: 71 | G44: 34 | H44: 47 | I44: 64 | J44: 97 | K44: 140 | L44: 152 | M44: 109 | N44: 0
A45: Yilan County | C45: 女 Female | D45: 1429 | E45: 42 | F45: 39 | G45: 49 | H45: 101 | I45: 159 | J45: 315 | K45: 290 | L45: 244 | M45: 188 | N45: 2
C46: 其他 Other | D46: 0 | E46: 0 | F46: 0 | G46: 0 | H46: 0 | I46: 0 | J46: 0 | K46: 0 | L46: 0 | M46: 0 | N46: 0
C47: 不詳Unknown | D47: 2 | E47: 0 | F47: 0 | G47: 2 | H47: 0 | I47: 0 | J47: 0 | K47: 0 | L47: 0 | M47: 0 | N47: 0
A48: 新竹縣 | C48: 計 Total | D48: 3505 | E48: 206 | F48: 270 | G48: 155 | H48: 214 | I48: 309 | J48: 729 | K48: 755 | L48: 582 | M48: 278 | N48: 7
C49: 男 Male | D49: 1377 | E49: 123 | F49: 172 | G49: 82 | H49: 83 | I49: 90 | J49: 226 | K49: 249 | L49: 230 | M49: 119 | N49: 3
A50: Hsinchu County | C50: 女 Female | D50: 2126 | E50: 82 | F50: 98 | G50: 73 | H50: 131 | I50: 219 | J50: 503 | K50: 505 | L50: 352 | M50: 159 | N50: 4
C51: 其他 Other | D51: 1 | E51: 0 | F51: 0 | G51: 0 | H51: 0 | I51: 0 | J51: 0 | K51: 1 | L51: 0 | M51: 0 | N51: 0
C52: 不詳Unknown | D52: 1 | E52: 1 | F52: 0 | G52: 0 | H52: 0 | I52: 0 | J52: 0 | K52: 0 | L52: 0 | M52: 0 | N52: 0
A53: 苗栗縣 | C53: 計 Total | D53: 2625 | E53: 119 | F53: 182 | G53: 194 | H53: 165 | I53: 257 | J53: 419 | K53: 514 | L53: 448 | M53: 325 | N53: 2
C54: 男 Male | D54: 1007 | E54: 66 | F54: 107 | G54: 89 | H54: 55 | I54: 87 | J54: 134 | K54: 162 | L54: 163 | M54: 143 | N54: 1
A55: Miaoli County | C55: 女 Female | D55: 1617 | E55: 52 | F55: 75 | G55: 105 | H55: 110 | I55: 170 | J55: 285 | K55: 352 | L55: 285 | M55: 182 | N55: 1
C56: 其他 Other | D56: 0 | E56: 0 | F56: 0 | G56: 0 | H56: 0 | I56: 0 | J56: 0 | K56: 0 | L56: 0 | M56: 0 | N56: 0
C57: 不詳Unknown | D57: 1 | E57: 1 | F57: 0 | G57: 0 | H57: 0 | I57: 0 | J57: 0 | K57: 0 | L57: 0 | M57: 0 | N57: 0
A58: 彰化縣 | C58: 計 Total | D58: 7831 | E58: 335 | F58: 456 | G58: 392 | H58: 439 | I58: 568 | J58: 1349 | K58: 1647 | L58: 1460 | M58: 1179 | N58: 6
C59: 男 Male | D59: 3315 | E59: 207 | F59: 263 | G59: 179 | H59: 182 | I59: 220 | J59: 492 | K59: 611 | L59: 640 | M59: 519 | N59: 2
A60: Changhua County | C60: 女 Female | D60: 4505 | E60: 126 | F60: 189 | G60: 209 | H60: 257 | I60: 347 | J60: 857 | K60: 1036 | L60: 820 | M60: 660 | N60: 4
C61: 其他 Other | D61: 1 | E61: 0 | F61: 0 | G61: 0 | H61: 0 | I61: 1 | J61: 0 | K61: 0 | L61: 0 | M61: 0 | N61: 0
C62: 不詳Unknown | D62: 10 | E62: 2 | F62: 4 | G62: 4 | H62: 0 | I62: 0 | J62: 0 | K62: 0 | L62: 0 | M62: 0 | N62: 0
A63: 南投縣 | C63: 計 Total | D63: 3139 | E63: 223 | F63: 231 | G63: 197 | H63: 184 | I63: 237 | J63: 520 | K63: 564 | L63: 560 | M63: 423 | N63: 0
C64: 男 Male | D64: 1209 | E64: 121 | F64: 148 | G64: 79 | H64: 65 | I64: 83 | J64: 177 | K64: 158 | L64: 202 | M64: 176 | N64: 0
A65: Nantou County | C65: 女 Female | D65: 1929 | E65: 102 | F65: 82 | G65: 118 | H65: 119 | I65: 154 | J65: 343 | K65: 406 | L65: 358 | M65: 247 | N65: 0
C66: 其他 Other | D66: 0 | E66: 0 | F66: 0 | G66: 0 | H66: 0 | I66: 0 | J66: 0 | K66: 0 | L66: 0 | M66: 0 | N66: 0
C67: 不詳Unknown | D67: 1 | E67: 0 | F67: 1 | G67: 0 | H67: 0 | I67: 0 | J67: 0 | K67: 0 | L67: 0 | M67: 0 | N67: 0
A68: 雲林縣 | C68: 計 Total | D68: 3851 | E68: 181 | F68: 177 | G68: 170 | H68: 222 | I68: 342 | J68: 666 | K68: 802 | L68: 704 | M68: 584 | N68: 3
C69: 男 Male | D69: 1546 | E69: 106 | F69: 106 | G69: 93 | H69: 92 | I69: 130 | J69: 222 | K69: 267 | L69: 287 | M69: 240 | N69: 3
A70: Yunlin County | C70: 女 Female | D70: 2304 | E70: 75 | F70: 71 | G70: 77 | H70: 130 | I70: 212 | J70: 444 | K70: 535 | L70: 416 | M70: 344 | N70: 0
C71: 其他 Other | D71: 1 | E71: 0 | F71: 0 | G71: 0 | H71: 0 | I71: 0 | J71: 0 | K71: 0 | L71: 1 | M71: 0 | N71: 0
C72: 不詳Unknown | D72: 0 | E72: 0 | F72: 0 | G72: 0 | H72: 0 | I72: 0 | J72: 0 | K72: 0 | L72: 0 | M72: 0 | N72: 0
A73: 嘉義縣 | C73: 計 Total | D73: 2483 | E73: 118 | F73: 127 | G73: 93 | H73: 125 | I73: 178 | J73: 425 | K73: 470 | L73: 492 | M73: 452 | N73: 3
C74: 男 Male | D74: 934 | E74: 73 | F74: 68 | G74: 43 | H74: 41 | I74: 48 | J74: 112 | K74: 155 | L74: 221 | M74: 172 | N74: 1
A75: Chiayi County | C75: 女 Female | D75: 1547 | E75: 44 | F75: 59 | G75: 50 | H75: 84 | I75: 130 | J75: 313 | K75: 315 | L75: 271 | M75: 280 | N75: 1
C76: 其他 Other | D76: 1 | E76: 0 | F76: 0 | G76: 0 | H76: 0 | I76: 0 | J76: 0 | K76: 0 | L76: 0 | M76: 0 | N76: 1
C77: 不詳Unknown | D77: 1 | E77: 1 | F77: 0 | G77: 0 | H77: 0 | I77: 0 | J77: 0 | K77: 0 | L77: 0 | M77: 0 | N77: 0
A78: 屏東縣 | C78: 計 Total | D78: 4420 | E78: 180 | F78: 279 | G78: 218 | H78: 279 | I78: 408 | J78: 769 | K78: 870 | L78: 831 | M78: 576 | N78: 10
C79: 男 Male | D79: 1627 | E79: 95 | F79: 170 | G79: 96 | H79: 88 | I79: 127 | J79: 225 | K79: 278 | L79: 314 | M79: 232 | N79: 2
A80: Pingtung County | C80: 女 Female | D80: 2790 | E80: 85 | F80: 108 | G80: 121 | H80: 191 | I80: 281 | J80: 544 | K80: 592 | L80: 516 | M80: 344 | N80: 8
C81: 其他 Other | D81: 0 | E81: 0 | F81: 0 | G81: 0 | H81: 0 | I81: 0 | J81: 0 | K81: 0 | L81: 0 | M81: 0 | N81: 0
C82: 不詳Unknown | D82: 3 | E82: 0 | F82: 1 | G82: 1 | H82: 0 | I82: 0 | J82: 0 | K82: 0 | L82: 1 | M82: 0 | N82: 0
A83: 臺東縣 | C83: 計 Total | D83: 1688 | E83: 68 | F83: 99 | G83: 78 | H83: 112 | I83: 161 | J83: 291 | K83: 306 | L83: 339 | M83: 230 | N83: 4
C84: 男 Male | D84: 579 | E84: 41 | F84: 56 | G84: 33 | H84: 39 | I84: 47 | J84: 73 | K84: 85 | L84: 126 | M84: 79 | N84: 0
A85: Taitung County | C85: 女 Female | D85: 1107 | E85: 27 | F85: 43 | G85: 45 | H85: 73 | I85: 114 | J85: 217 | K85: 220 | L85: 213 | M85: 151 | N85: 4
C86: 其他 Other | D86: 1 | E86: 0 | F86: 0 | G86: 0 | H86: 0 | I86: 0 | J86: 1 | K86: 0 | L86: 0 | M86: 0 | N86: 0
C87: 不詳Unknown | D87: 1 | E87: 0 | F87: 0 | G87: 0 | H87: 0 | I87: 0 | J87: 0 | K87: 1 | L87: 0 | M87: 0 | N87: 0
A88: 花蓮縣 | C88: 計 Total | D88: 2617 | E88: 210 | F88: 225 | G88: 222 | H88: 176 | I88: 244 | J88: 401 | K88: 466 | L88: 438 | M88: 232 | N88: 3
C89: 男 Male | D89: 910 | E89: 108 | F89: 130 | G89: 103 | H89: 43 | I89: 73 | J89: 100 | K89: 126 | L89: 149 | M89: 77 | N89: 1
A90: Hualien County | C90: 女 Female | D90: 1704 | E90: 101 | F90: 93 | G90: 119 | H90: 133 | I90: 171 | J90: 301 | K90: 340 | L90: 289 | M90: 155 | N90: 2
C91: 其他 Other | D91: 0 | E91: 0 | F91: 0 | G91: 0 | H91: 0 | I91: 0 | J91: 0 | K91: 0 | L91: 0 | M91: 0 | N91: 0
C92: 不詳Unknown | D92: 3 | E92: 1 | F92: 2 | G92: 0 | H92: 0 | I92: 0 | J92: 0 | K92: 0 | L92: 0 | M92: 0 | N92: 0
A93: 澎湖縣 | C93: 計 Total | D93: 372 | E93: 9 | F93: 18 | G93: 10 | H93: 23 | I93: 29 | J93: 69 | K93: 71 | L93: 78 | M93: 65 | N93: 0
C94: 男 Male | D94: 136 | E94: 5 | F94: 6 | G94: 6 | H94: 7 | I94: 9 | J94: 23 | K94: 18 | L94: 34 | M94: 28 | N94: 0
A95: Penghu County | C95: 女 Female | D95: 235 | E95: 4 | F95: 11 | G95: 4 | H95: 16 | I95: 20 | J95: 46 | K95: 53 | L95: 44 | M95: 37 | N95: 0
C96: 其他 Other | D96: 0 | E96: 0 | F96: 0 | G96: 0 | H96: 0 | I96: 0 | J96: 0 | K96: 0 | L96: 0 | M96: 0 | N96: 0
C97: 不詳Unknown | D97: 1 | E97: 0 | F97: 1 | G97: 0 | H97: 0 | I97: 0 | J97: 0 | K97: 0 | L97: 0 | M97: 0 | N97: 0
A98: 基隆市 | C98: 計 Total | D98: 2493 | E98: 119 | F98: 101 | G98: 132 | H98: 176 | I98: 231 | J98: 437 | K98: 484 | L98: 515 | M98: 295 | N98: 3
C99: 男 Male | D99: 974 | E99: 66 | F99: 62 | G99: 57 | H99: 50 | I99: 91 | J99: 153 | K99: 172 | L99: 216 | M99: 107 | N99: 0
A100: Keelung City | C100: 女 Female | D100: 1518 | E100: 53 | F100: 38 | G100: 75 | H100: 126 | I100: 140 | J100: 284 | K100: 312 | L100: 299 | M100: 188 | N100: 3
C101: 其他 Other | D101: 0 | E101: 0 | F101: 0 | G101: 0 | H101: 0 | I101: 0 | J101: 0 | K101: 0 | L101: 0 | M101: 0 | N101: 0
...

Sheet 2023
A1: 家庭暴力通報事件被害人性別及年齡統計(單位：人數)
A2: 112年，2023
A3: 單位：人數 unit:Person
A4: 區域別 Locality | C4: 性別 | D4: 年齡別 By Age
D5: 合計 | E5: 0-未滿6歲 | F5: 6-未滿12歲 | G5: 12-未滿18歲 | H5: 18-未滿24歲 | I5: 24-未滿30歲 | J5: 30-未滿40歲 | K5: 40-未滿50歲 | L5: 50-未滿65歲 | M5: 65歲 以上 | N5: 不詳
C7: Gender | D7: Total | E7: Under 6 Years | F7: 6-Under 12 Years | G7: 12-Under 18 Years | H7: 18-Under 2 Years | I7: 24-Under 30 Years | J7: 30-Under 40 Years | K7: 40-Under 50 Years | L7: 50-Under 65 Years | M7: Above 65 Years | N7: Unknown
A8: 總計 | C8: 計 Total | D8: 132147 | E8: 6003 | F8: 9076 | G8: 7755 | H8: 8658 | I8: 11839 | J8: 23625 | K8: 26108 | L8: 23001 | M8: 15730 | N8: 352
C9: 男 Male | D9: 48891 | E9: 3465 | F9: 5361 | G9: 3512 | H9: 2888 | I9: 3731 | J9: 6995 | K9: 8311 | L9: 8677 | M9: 5850 | N9: 101
A10: Total | C10: 女 Female | D10: 83179 | E10: 2517 | F10: 3696 | G10: 4222 | H10: 5769 | I10: 8105 | J10: 16627 | K10: 17795 | L10: 14321 | M10: 9879 | N10: 248
C11: 其他 Other | D11: 13 | E11: 0 | F11: 1 | G11: 2 | H11: 1 | I11: 3 | J11: 2 | K11: 1 | L11: 1 | M11: 1 | N11: 1
C12: 不詳Unknown | D12: 64 | E12: 21 | F12: 18 | G12: 19 | H12: 0 | I12: 0 | J12: 1 | K12: 1 | L12: 2 | M12: 0 | N12: 2
A13: 新北市 | C13: 計 Total | D13: 21299 | E13: 759 | F13: 1598 | G13: 1306 | H13: 1479 | I13: 2004 | J13: 3784 | K13: 4322 | L13: 3565 | M13: 2291 | N13: 191
C14: 男 Male | D14: 7238 | E14: 443 | F14: 973 | G14: 600 | H14: 443 | I14: 561 | J14: 996 | K14: 1250 | L14: 1162 | M14: 756 | N14: 54
A15: New Taipei City | C15: 女 Female | D15: 14029 | E15: 310 | F15: 615 | G15: 696 | H15: 1036 | I15: 1441 | J15: 2787 | K15: 3072 | L15: 2402 | M15: 1535 | N15: 135
C16: 其他 Other | D16: 7 | E16: 0 | F16: 1 | G16: 1 | H16: 0 | I16: 2 | J16: 1 | K16: 0 | L16: 1 | M16: 0 | N16: 1
C17: 不詳Unknown | D17: 25 | E17: 6 | F17: 9 | G17: 9 | H17: 0 | I17: 0 | J17: 0 | K17: 0 | L17: 0 | M17: 0 | N17: 1
A18: 臺北市 | C18: 計 Total | D18: 12759 | E18: 574 | F18: 926 | G18: 851 | H18: 682 | I18: 1028 | J18: 2076 | K18: 2358 | L18: 2408 | M18: 1827 | N18: 29
C19: 男 Male | D19: 4911 | E19: 343 | F19: 526 | G19: 410 | H19: 251 | I19: 354 | J19: 682 | K19: 748 | L19: 918 | M19: 676 | N19: 3
A20: Taipei City | C20: 女 Female | D20: 7832 | E20: 227 | F20: 394 | G20: 438 | H20: 431 | I20: 673 | J20: 1394 | K20: 1608 | L20: 1490 | M20: 1151 | N20: 26
C21: 其他 Other | D21: 3 | E21: 0 | F21: 0 | G21: 1 | H21: 0 | I21: 1 | J21: 0 | K21: 1 | L21: 0 | M21: 0 | N21: 0
C22: 不詳Unknown | D22: 13 | E22: 4 | F22: 6 | G22: 2 | H22: 0 | I22: 0 | J22: 0 | K22: 1 | L22: 0 | M22: 0 | N22: 0
A23: 桃園市 | C23: 計 Total | D23: 13500 | E23: 670 | F23: 1224 | G23: 955 | H23: 903 | I23: 1247 | J23: 2567 | K23: 2654 | L23: 2030 | M23: 1237 | N23: 13
C24: 男 Male | D24: 5033 | E24: 409 | F24: 756 | G24: 389 | H24: 315 | I24: 403 | J24: 716 | K24: 796 | L24: 770 | M24: 474 | N24: 5
A25: Taoyuan City | C25: 女 Female | D25: 8464 | E25: 261 | F25: 466 | G25: 566 | H25: 588 | I25: 844 | J25: 1850 | K25: 1858 | L25: 1260 | M25: 763 | N25: 8
C26: 其他 Other | D26: 0 | E26: 0 | F26: 0 | G26: 0 | H26: 0 | I26: 0 | J26: 0 | K26: 0 | L26: 0 | M26: 0 | N26: 0
C27: 不詳Unknown | D27: 3 | E27: 0 | F27: 2 | G27: 0 | H27: 0 | I27: 0 | J27: 1 | K27: 0 | L27: 0 | M27: 0 | N27: 0
A28: 臺中市 | C28: 計 Total | D28: 18463 | E28: 974 | F28: 1242 | G28: 1056 | H28: 1278 | I28: 1756 | J28: 3490 | K28: 3551 | L28: 3106 | M28: 1976 | N28: 34
C29: 男 Male | D29: 6992 | E29: 555 | F29: 730 | G29: 486 | H29: 434 | I29: 535 | J29: 1071 | K29: 1247 | L29: 1187 | M29: 736 | N29: 11
A30: Taichung City | C30: 女 Female | D30: 11469 | E30: 419 | F30: 512 | G30: 570 | H30: 844 | I30: 1221 | J30: 2419 | K30: 2304 | L30: 1918 | M30: 1239 | N30: 23
C31: 其他 Other | D31: 1 | E31: 0 | F31: 0 | G31: 0 | H31: 0 | I31: 0 | J31: 0 | K31: 0 | L31: 0 | M31: 1 | N31: 0
C32: 不詳Unknown | D32: 1 | E32: 0 | F32: 0 | G32: 0 | H32: 0 | I32: 0 | J32: 0 | K32: 0 | L32: 1 | M32: 0 | N32: 0
A33: 臺南市 | C33: 計 Total | D33: 8779 | E33: 380 | F33: 625 | G33: 522 | H33: 530 | I33: 718 | J33: 1506 | K33: 1773 | L33: 1548 | M33: 1170 | N33: 7
C34: 男 Male | D34: 3047 | E34: 221 | F34: 360 | G34: 237 | H34: 161 | I34: 199 | J34: 411 | K34: 500 | L34: 537 | M34: 418 | N34: 3
A35: Tainan City | C35: 女 Female | D35: 5731 | E35: 159 | F35: 265 | G35: 284 | H35: 369 | I35: 519 | J35: 1095 | K35: 1273 | L35: 1011 | M35: 752 | N35: 4
C36: 其他 Other | D36: 0 | E36: 0 | F36: 0 | G36: 0 | H36: 0 | I36: 0 | J36: 0 | K36: 0 | L36: 0 | M36: 0 | N36: 0
C37: 不詳Unknown | D37: 1 | E37: 0 | F37: 0 | G37: 1 | H37: 0 | I37: 0 | J37: 0 | K37: 0 | L37: 0 | M37: 0 | N37: 0
A38: 高雄市 | C38: 計 Total | D38: 17824 | E38: 773 | F38: 1157 | G38: 1031 | H38: 1213 | I38: 1630 | J38: 3112 | K38: 3535 | L38: 3169 | M38: 2193 | N38: 11
C39: 男 Male | D39: 6997 | E39: 440 | F39: 701 | G39: 488 | H39: 431 | I39: 575 | J39: 1060 | K39: 1249 | L39: 1254 | M39: 796 | N39: 3
A40: Kaohsiung City | C40: 女 Female | D40: 10825 | E40: 333 | F40: 456 | G40: 542 | H40: 781 | I40: 1055 | J40: 2052 | K40: 2286 | L40: 1915 | M40: 1397 | N40: 8
C41: 其他 Other | D41: 1 | E41: 0 | F41: 0 | G41: 0 | H41: 1 | I41: 0 | J41: 0 | K41: 0 | L41: 0 | M41: 0 | N41: 0
C42: 不詳Unknown | D42: 1 | E42: 0 | F42: 0 | G42: 1 | H42: 0 | I42: 0 | J42: 0 | K42: 0 | L42: 0 | M42: 0 | N42: 0
A43: 宜蘭縣 | C43: 計 Total | D43: 1967 | E43: 80 | F43: 100 | G43: 85 | H43: 113 | I43: 179 | J43: 375 | K43: 373 | L43: 387 | M43: 264 | N43: 11
C44: 男 Male | D44: 679 | E44: 44 | F44: 56 | G44: 37 | H44: 34 | I44: 49 | J44: 92 | K44: 120 | L44: 143 | M44: 99 | N44: 5
A45: Yilan County | C45: 女 Female | D45: 1285 | E45: 35 | F45: 44 | G45: 47 | H45: 79 | I45: 130 | J45: 283 | K45: 253 | L45: 244 | M45: 165 | N45: 5
C46: 其他 Other | D46: 0 | E46: 0 | F46: 0 | G46: 0 | H46: 0 | I46: 0 | J46: 0 | K46: 0 | L46: 0 | M46: 0 | N46: 0
C47: 不詳Unknown | D47: 3 | E47: 1 | F47: 0 | G47: 1 | H47: 0 | I47: 0 | J47: 0 | K47: 0 | L47: 0 | M47: 0 | N47: 1
A48: 新竹縣 | C48: 計 Total | D48: 3176 | E48: 161 | F48: 180 | G48: 149 | H48: 214 | I48: 315 | J48: 669 | K48: 686 | L48: 513 | M48: 286 | N48: 3
C49: 男 Male | D49: 1150 | E49: 88 | F49: 98 | G49: 65 | H49: 66 | I49: 97 | J49: 194 | K49: 214 | L49: 210 | M49: 115 | N49: 3
A50: Hsinchu County | C50: 女 Female | D50: 2026 | E50: 73 | F50: 82 | G50: 84 | H50: 148 | I50: 218 | J50: 475 | K50: 472 | L50: 303 | M50: 171 | N50: 0
C51: 其他 Other | D51: 0 | E51: 0 | F51: 0 | G51: 0 | H51: 0 | I51: 0 | J51: 0 | K51: 0 | L51: 0 | M51: 0 | N51: 0
C52: 不詳Unknown | D52: 0 | E52: 0 | F52: 0 | G52: 0 | H52: 0 | I52: 0 | J52: 0 | K52: 0 | L52: 0 | M52: 0 | N52: 0
A53: 苗栗縣 | C53: 計 Total | D53: 2441 | E53: 100 | F53: 152 | G53: 142 | H53: 174 | I53: 226 | J53: 471 | K53: 477 | L53: 384 | M53: 313 | N53: 2
C54: 男 Male | D54: 843 | E54: 51 | F54: 90 | G54: 62 | H54: 57 | I54: 73 | J54: 112 | K54: 132 | L54: 141 | M54: 125 | N54: 0
A55: Miaoli County | C55: 女 Female | D55: 1598 | E55: 49 | F55: 62 | G55: 80 | H55: 117 | I55: 153 | J55: 359 | K55: 345 | L55: 243 | M55: 188 | N55: 2
C56: 其他 Other | D56: 0 | E56: 0 | F56: 0 | G56: 0 | H56: 0 | I56: 0 | J56: 0 | K56: 0 | L56: 0 | M56: 0 | N56: 0
C57: 不詳Unknown | D57: 0 | E57: 0 | F57: 0 | G57: 0 | H57: 0 | I57: 0 | J57: 0 | K57: 0 | L57: 0 | M57: 0 | N57: 0
A58: 彰化縣 | C58: 計 Total | D58: 7694 | E58: 304 | F58: 365 | G58: 361 | H58: 463 | I58: 623 | J58: 1357 | K58: 1660 | L58: 1473 | M58: 1078 | N58: 10
C59: 男 Male | D59: 3205 | E59: 175 | F59: 216 | G59: 168 | H59: 176 | I59: 243 | J59: 478 | K59: 625 | L59: 656 | M59: 464 | N59: 4
A60: Changhua County | C60: 女 Female | D60: 4482 | E60: 123 | F60: 149 | G60: 192 | H60: 287 | I60: 380 | J60: 879 | K60: 1035 | L60: 817 | M60: 614 | N60: 6
C61: 其他 Other | D61: 0 | E61: 0 | F61: 0 | G61: 0 | H61: 0 | I61: 0 | J61: 0 | K61: 0 | L61: 0 | M61: 0 | N61: 0
C62: 不詳Unknown | D62: 7 | E62: 6 | F62: 0 | G62: 1 | H62: 0 | I62: 0 | J62: 0 | K62: 0 | L62: 0 | M62: 0 | N62: 0
A63: 南投縣 | C63: 計 Total | D63: 3003 | E63: 217 | F63: 201 | G63: 188 | H63: 163 | I63: 242 | J63: 490 | K63: 570 | L63: 550 | M63: 380 | N63: 2
C64: 男 Male | D64: 1125 | E64: 114 | F64: 103 | G64: 91 | H64: 53 | I64: 77 | J64: 136 | K64: 180 | L64: 224 | M64: 147 | N64: 0
A65: Nantou County | C65: 女 Female | D65: 1878 | E65: 103 | F65: 98 | G65: 97 | H65: 110 | I65: 165 | J65: 354 | K65: 390 | L65: 326 | M65: 233 | N65: 2
C66: 其他 Other | D66: 0 | E66: 0 | F66: 0 | G66: 0 | H66: 0 | I66: 0 | J66: 0 | K66: 0 | L66: 0 | M66: 0 | N66: 0
C67: 不詳Unknown | D67: 0 | E67: 0 | F67: 0 | G67: 0 | H67: 0 | I67: 0 | J67: 0 | K67: 0 | L67: 0 | M67: 0 | N67: 0
A68: 雲林縣 | C68: 計 Total | D68: 3503 | E68: 169 | F68: 157 | G68: 162 | H68: 193 | I68: 290 | J68: 601 | K68: 779 | L68: 618 | M68: 531 | N68: 3
C69: 男 Male | D69: 1349 | E69: 102 | F69: 85 | G69: 60 | H69: 60 | I69: 106 | J69: 175 | K69: 262 | L69: 278 | M69: 221 | N69: 0
A70: Yunlin County | C70: 女 Female | D70: 2153 | E70: 66 | F70: 72 | G70: 102 | H70: 133 | I70: 184 | J70: 426 | K70: 517 | L70: 340 | M70: 310 | N70: 3
C71: 其他 Other | D71: 0 | E71: 0 | F71: 0 | G71: 0 | H71: 0 | I71: 0 | J71: 0 | K71: 0 | L71: 0 | M71: 0 | N71: 0
C72: 不詳Unknown | D72: 1 | E72: 1 | F72: 0 | G72: 0 | H72: 0 | I72: 0 | J72: 0 | K72: 0 | L72: 0 | M72: 0 | N72: 0
A73: 嘉義縣 | C73: 計 Total | D73: 2372 | E73: 113 | F73: 109 | G73: 96 | H73: 172 | I73: 171 | J73: 431 | K73: 417 | L73: 462 | M73: 397 | N73: 4
C74: 男 Male | D74: 882 | E74: 70 | F74: 64 | G74: 45 | H74: 61 | I74: 57 | J74: 120 | K74: 129 | L74: 186 | M74: 149 | N74: 1
A75: Chiayi County | C75: 女 Female | D75: 1489 | E75: 43 | F75: 45 | G75: 51 | H75: 111 | I75: 114 | J75: 310 | K75: 288 | L75: 276 | M75: 248 | N75: 3
C76: 其他 Other | D76: 1 | E76: 0 | F76: 0 | G76: 0 | H76: 0 | I76: 0 | J76: 1 | K76: 0 | L76: 0 | M76: 0 | N76: 0
C77: 不詳Unknown | D77: 0 | E77: 0 | F77: 0 | G77: 0 | H77: 0 | I77: 0 | J77: 0 | K77: 0 | L77: 0 | M77: 0 | N77: 0
A78: 屏東縣 | C78: 計 Total | D78: 4485 | E78: 189 | F78: 288 | G78: 258 | H78: 305 | I78: 400 | J78: 791 | K78: 847 | L78: 761 | M78: 630 | N78: 16
C79: 男 Male | D79: 1624 | E79: 100 | F79: 169 | G79: 123 | H79: 98 | I79: 122 | J79: 231 | K79: 243 | L79: 290 | M79: 244 | N79: 4
A80: Pingtung County | C80: 女 Female | D80: 2860 | E80: 88 | F80: 119 | G80: 135 | H80: 207 | I80: 278 | J80: 560 | K80: 604 | L80: 471 | M80: 386 | N80: 12
C81: 其他 Other | D81: 0 | E81: 0 | F81: 0 | G81: 0 | H81: 0 | I81: 0 | J81: 0 | K81: 0 | L81: 0 | M81: 0 | N81: 0
C82: 不詳Unknown | D82: 1 | E82: 1 | F82: 0 | G82: 0 | H82: 0 | I82: 0 | J82: 0 | K82: 0 | L82: 0 | M82: 0 | N82: 0
A83: 臺東縣 | C83: 計 Total | D83: 1776 | E83: 108 | F83: 124 | G83: 100 | H83: 116 | I83: 174 | J83: 265 | K83: 317 | L83: 356 | M83: 215 | N83: 1
C84: 男 Male | D84: 682 | E84: 65 | F84: 72 | G84: 52 | H84: 44 | I84: 52 | J84: 76 | K84: 103 | L84: 134 | M84: 83 | N84: 1
A85: Taitung County | C85: 女 Female | D85: 1092 | E85: 42 | F85: 51 | G85: 48 | H85: 72 | I85: 122 | J85: 189 | K85: 214 | L85: 222 | M85: 132 | N85: 0
C86: 其他 Other | D86: 0 | E86: 0 | F86: 0 | G86: 0 | H86: 0 | I86: 0 | J86: 0 | K86: 0 | L86: 0 | M86: 0 | N86: 0
C87: 不詳Unknown | D87: 2 | E87: 1 | F87: 1 | G87: 0 | H87: 0 | I87: 0 | J87: 0 | K87: 0 | L87: 0 | M87: 0 | N87: 0
A88: 花蓮縣 | C88: 計 Total | D88: 2430 | E88: 139 | F88: 194 | G88: 149 | H88: 175 | I88: 237 | J88: 399 | K88: 468 | L88: 416 | M88: 253 | N88: 0
C89: 男 Male | D89: 801 | E89: 86 | F89: 107 | G89: 60 | H89: 44 | I89: 53 | J89: 102 | K89: 128 | L89: 136 | M89: 85 | N89: 0
A90: Hualien County | C90: 女 Female | D90: 1627 | E90: 53 | F90: 87 | G90: 87 | H90: 131 | I90: 184 | J90: 297 | K90: 340 | L90: 280 | M90: 168 | N90: 0
C91: 其他 Other | D91: 0 | E91: 0 | F91: 0 | G91: 0 | H91: 0 | I91: 0 | J91: 0 | K91: 0 | L91: 0 | M91: 0 | N91: 0
C92: 不詳Unknown | D92: 2 | E92: 0 | F92: 0 | G92: 2 | H92: 0 | I92: 0 | J92: 0 | K92: 0 | L92: 0 | M92: 0 | N92: 0
A93: 澎湖縣 | C93: 計 Total | D93: 337 | E93: 16 | F93: 15 | G93: 2 | H93: 19 | I93: 29 | J93: 69 | K93: 70 | L93: 76 | M93: 41 | N93: 0
C94: 男 Male | D94: 122 | E94: 8 | F94: 8 | G94: 1 | H94: 7 | I94: 10 | J94: 19 | K94: 21 | L94: 34 | M94: 14 | N94: 0
A95: Penghu County | C95: 女 Female | D95: 214 | E95: 7 | F95: 7 | G95: 1 | H95: 12 | I95: 19 | J95: 50 | K95: 49 | L95: 42 | M95: 27 | N95: 0
C96: 其他 Other | D96: 0 | E96: 0 | F96: 0 | G96: 0 | H96: 0 | I96: 0 | J96: 0 | K96: 0 | L96: 0 | M96: 0 | N96: 0
C97: 不詳Unknown | D97: 1 | E97: 1 | F97: 0 | G97: 0 | H97: 0 | I97: 0 | J97: 0 | K97: 0 | L97: 0 | M97: 0 | N97: 0
A98: 基隆市 | C98: 計 Total | D98: 2386 | E98: 86 | F98: 112 | G98: 125 | H98: 169 | I98: 199 | J98: 418 | K98: 475 | L98: 532 | M98: 267 | N98: 3
C99: 男 Male | D99: 930 | E99: 46 | F99: 72 | G99: 49 | H99: 74 | I99: 70 | J99: 153 | K99: 152 | L99: 200 | M99: 112 | N99: 2
A100: Keelung City | C100: 女 Female | D100: 1454 | E100: 40 | F100: 40 | G100: 75 | H100: 95 | I100: 129 | J100: 265 | K100: 323 | L100: 331 | M100: 155 | N100: 1
C101: 其他 Other | D101: 0 | E101: 0 | F101: 0 | G101: 0 | H101: 0 | I101: 0 | J101: 0 | K101: 0 | L101: 0 | M101: 0 | N101: 0
...

Sheet 2022
A1: 家庭暴力通報事件被害人性別及年齡統計(單位：人數)
A2: 111年，2022
A3: 單位：人數 unit:Person
A4: 區域別 Locality | C4: 性別 | D4: 年齡別 By Age
D5: 合計 | E5: 0-未滿6歲 | F5: 6-未滿12歲 | G5: 12-未滿18歲 | H5: 18-未滿24歲 | I5: 24-未滿30歲 | J5: 30-未滿40歲 | K5: 40-未滿50歲 | L5: 50-未滿65歲 | M5: 65歲 以上 | N5: 不詳
C7: Gender | D7: Total | E7: Under 6 Years | F7: 6-Under 12 Years | G7: 12-Under 18 Years | H7: 18-Under 2 Years | I7: 24-Under 30 Years | J7: 30-Under 40 Years | K7: 40-Under 50 Years | L7: 50-Under 65 Years | M7: Above 65 Years | N7: Unknown
A8: 總計 | C8: 計 Total | D8: 123741 | E8: 5733 | F8: 7939 | G8: 7603 | H8: 8464 | I8: 11284 | J8: 22600 | K8: 24019 | L8: 21548 | M8: 14167 | N8: 384
C9: 男 Male | D9: 44773 | E9: 3210 | F9: 4720 | G9: 3422 | H9: 2740 | I9: 3399 | J9: 6371 | K9: 7418 | L9: 8057 | M9: 5322 | N9: 114
A10: Total | C10: 女 Female | D10: 78903 | E10: 2510 | F10: 3196 | G10: 4170 | H10: 5721 | I10: 7883 | J10: 16227 | K10: 16598 | L10: 13488 | M10: 8843 | N10: 267
C11: 其他 Other | D11: 14 | E11: 5 | F11: 1 | G11: 1 | H11: 2 | I11: 2 | J11: 0 | K11: 1 | L11: 0 | M11: 1 | N11: 1
C12: 不詳Unknown | D12: 51 | E12: 8 | F12: 22 | G12: 10 | H12: 1 | I12: 0 | J12: 2 | K12: 2 | L12: 3 | M12: 1 | N12: 2
A13: 新北市 | C13: 計 Total | D13: 19774 | E13: 800 | F13: 1379 | G13: 1318 | H13: 1438 | I13: 1883 | J13: 3562 | K13: 3859 | L13: 3293 | M13: 2042 | N13: 200
C14: 男 Male | D14: 6464 | E14: 443 | F14: 820 | G14: 570 | H14: 409 | I14: 478 | J14: 855 | K14: 1043 | L14: 1092 | M14: 690 | N14: 64
A15: New Taipei City | C15: 女 Female | D15: 13274 | E15: 352 | F15: 543 | G15: 741 | H15: 1028 | I15: 1404 | J15: 2706 | K15: 2814 | L15: 2200 | M15: 1351 | N15: 135
C16: 其他 Other | D16: 7 | E16: 2 | F16: 0 | G16: 0 | H16: 1 | I16: 1 | J16: 0 | K16: 1 | L16: 0 | M16: 1 | N16: 1
C17: 不詳Unknown | D17: 29 | E17: 3 | F17: 16 | G17: 7 | H17: 0 | I17: 0 | J17: 1 | K17: 1 | L17: 1 | M17: 0 | N17: 0
A18: 臺北市 | C18: 計 Total | D18: 12194 | E18: 474 | F18: 865 | G18: 810 | H18: 770 | I18: 1039 | J18: 2059 | K18: 2270 | L18: 2280 | M18: 1588 | N18: 39
C19: 男 Male | D19: 4717 | E19: 279 | F19: 525 | G19: 383 | H19: 245 | I19: 329 | J19: 681 | K19: 791 | L19: 871 | M19: 607 | N19: 6
A20: Taipei City | C20: 女 Female | D20: 7473 | E20: 194 | F20: 339 | G20: 426 | H20: 525 | I20: 710 | J20: 1378 | K20: 1479 | L20: 1409 | M20: 980 | N20: 33
C21: 其他 Other | D21: 1 | E21: 0 | F21: 1 | G21: 0 | H21: 0 | I21: 0 | J21: 0 | K21: 0 | L21: 0 | M21: 0 | N21: 0
C22: 不詳Unknown | D22: 3 | E22: 1 | F22: 0 | G22: 1 | H22: 0 | I22: 0 | J22: 0 | K22: 0 | L22: 0 | M22: 1 | N22: 0
A23: 桃園市 | C23: 計 Total | D23: 12410 | E23: 668 | F23: 1023 | G23: 916 | H23: 882 | I23: 1185 | J23: 2398 | K23: 2360 | L23: 1879 | M23: 1084 | N23: 15
C24: 男 Male | D24: 4389 | E24: 383 | F24: 628 | G24: 394 | H24: 271 | I24: 337 | J24: 669 | K24: 677 | L24: 657 | M24: 367 | N24: 6
A25: Taoyuan City | C25: 女 Female | D25: 8018 | E25: 284 | F25: 395 | G25: 522 | H25: 610 | I25: 848 | J25: 1729 | K25: 1682 | L25: 1222 | M25: 717 | N25: 9
C26: 其他 Other | D26: 1 | E26: 1 | F26: 0 | G26: 0 | H26: 0 | I26: 0 | J26: 0 | K26: 0 | L26: 0 | M26: 0 | N26: 0
C27: 不詳Unknown | D27: 2 | E27: 0 | F27: 0 | G27: 0 | H27: 1 | I27: 0 | J27: 0 | K27: 1 | L27: 0 | M27: 0 | N27: 0
A28: 臺中市 | C28: 計 Total | D28: 17446 | E28: 1030 | F28: 1187 | G28: 1093 | H28: 1289 | I28: 1634 | J28: 3394 | K28: 3328 | L28: 2723 | M28: 1708 | N28: 60
C29: 男 Male | D29: 6624 | E29: 587 | F29: 707 | G29: 517 | H29: 430 | I29: 523 | J29: 1003 | K29: 1094 | L29: 1083 | M29: 660 | N29: 20
A30: Taichung City | C30: 女 Female | D30: 10816 | E30: 442 | F30: 479 | G30: 575 | H30: 858 | I30: 1110 | J30: 2391 | K30: 2234 | L30: 1639 | M30: 1048 | N30: 40
C31: 其他 Other | D31: 4 | E31: 1 | F31: 0 | G31: 1 | H31: 1 | I31: 1 | J31: 0 | K31: 0 | L31: 0 | M31: 0 | N31: 0
C32: 不詳Unknown | D32: 2 | E32: 0 | F32: 1 | G32: 0 | H32: 0 | I32: 0 | J32: 0 | K32: 0 | L32: 1 | M32: 0 | N32: 0
A33: 臺南市 | C33: 計 Total | D33: 8059 | E33: 374 | F33: 526 | G33: 460 | H33: 532 | I33: 699 | J33: 1414 | K33: 1631 | L33: 1403 | M33: 1012 | N33: 8
C34: 男 Male | D34: 2759 | E34: 205 | F34: 315 | G34: 201 | H34: 179 | I34: 189 | J34: 348 | K34: 445 | L34: 499 | M34: 376 | N34: 2
A35: Tainan City | C35: 女 Female | D35: 5300 | E35: 169 | F35: 211 | G35: 259 | H35: 353 | I35: 510 | J35: 1066 | K35: 1186 | L35: 904 | M35: 636 | N35: 6
C36: 其他 Other | D36: 0 | E36: 0 | F36: 0 | G36: 0 | H36: 0 | I36: 0 | J36: 0 | K36: 0 | L36: 0 | M36: 0 | N36: 0
C37: 不詳Unknown | D37: 0 | E37: 0 | F37: 0 | G37: 0 | H37: 0 | I37: 0 | J37: 0 | K37: 0 | L37: 0 | M37: 0 | N37: 0
A38: 高雄市 | C38: 計 Total | D38: 17217 | E38: 772 | F38: 1004 | G38: 1105 | H38: 1149 | I38: 1611 | J38: 2992 | K38: 3365 | L38: 3176 | M38: 2026 | N38: 17
C39: 男 Male | D39: 6693 | E39: 415 | F39: 582 | G39: 502 | H39: 397 | I39: 553 | J39: 1007 | K39: 1172 | L39: 1297 | M39: 764 | N39: 4
A40: Kaohsiung City | C40: 女 Female | D40: 10521 | E40: 355 | F40: 422 | G40: 603 | H40: 752 | I40: 1058 | J40: 1985 | K40: 2193 | L40: 1879 | M40: 1262 | N40: 12
C41: 其他 Other | D41: 1 | E41: 1 | F41: 0 | G41: 0 | H41: 0 | I41: 0 | J41: 0 | K41: 0 | L41: 0 | M41: 0 | N41: 0
C42: 不詳Unknown | D42: 2 | E42: 1 | F42: 0 | G42: 0 | H42: 0 | I42: 0 | J42: 0 | K42: 0 | L42: 0 | M42: 0 | N42: 1
B43: 宜蘭縣 | C43: 計 Total | D43: 2004 | E43: 71 | F43: 85 | G43: 80 | H43: 134 | I43: 188 | J43: 385 | K43: 421 | L43: 361 | M43: 278 | N43: 1
C44: 男 Male | D44: 637 | E44: 36 | F44: 52 | G44: 34 | H44: 38 | I44: 57 | J44: 85 | K44: 123 | L44: 112 | M44: 100 | N44: 0
B45: Yilan County | C45: 女 Female | D45: 1367 | E45: 35 | F45: 33 | G45: 46 | H45: 96 | I45: 131 | J45: 300 | K45: 298 | L45: 249 | M45: 178 | N45: 1
C46: 其他 Other | D46: 0 | E46: 0 | F46: 0 | G46: 0 | H46: 0 | I46: 0 | J46: 0 | K46: 0 | L46: 0 | M46: 0 | N46: 0
C47: 不詳Unknown | D47: 0 | E47: 0 | F47: 0 | G47: 0 | H47: 0 | I47: 0 | J47: 0 | K47: 0 | L47: 0 | M47: 0 | N47: 0
B48: 新竹縣 | C48: 計 Total | D48: 2956 | E48: 124 | F48: 166 | G48: 128 | H48: 195 | I48: 281 | J48: 651 | K48: 617 | L48: 508 | M48: 279 | N48: 7
C49: 男 Male | D49: 1028 | E49: 71 | F49: 99 | G49: 50 | H49: 62 | I49: 81 | J49: 185 | K49: 182 | L49: 199 | M49: 98 | N49: 1
B50: Hsinchu County | C50: 女 Female | D50: 1928 | E50: 53 | F50: 67 | G50: 78 | H50: 133 | I50: 200 | J50: 466 | K50: 435 | L50: 309 | M50: 181 | N50: 6
C51: 其他 Other | D51: 0 | E51: 0 | F51: 0 | G51: 0 | H51: 0 | I51: 0 | J51: 0 | K51: 0 | L51: 0 | M51: 0 | N51: 0
C52: 不詳Unknown | D52: 0 | E52: 0 | F52: 0 | G52: 0 | H52: 0 | I52: 0 | J52: 0 | K52: 0 | L52: 0 | M52: 0 | N52: 0
B53: 苗栗縣 | C53: 計 Total | D53: 2278 | E53: 78 | F53: 137 | G53: 152 | H53: 156 | I53: 216 | J53: 444 | K53: 400 | L53: 406 | M53: 286 | N53: 3
C54: 男 Male | D54: 804 | E54: 40 | F54: 72 | G54: 73 | H54: 56 | I54: 57 | J54: 110 | K54: 114 | L54: 149 | M54: 132 | N54: 1
B55: Miaoli County | C55: 女 Female | D55: 1472 | E55: 38 | F55: 63 | G55: 79 | H55: 100 | I55: 159 | J55: 334 | K55: 286 | L55: 257 | M55: 154 | N55: 2
C56: 其他 Other | D56: 0 | E56: 0 | F56: 0 | G56: 0 | H56: 0 | I56: 0 | J56: 0 | K56: 0 | L56: 0 | M56: 0 | N56: 0
C57: 不詳Unknown | D57: 2 | E57: 0 | F57: 2 | G57: 0 | H57: 0 | I57: 0 | J57: 0 | K57: 0 | L57: 0 | M57: 0 | N57: 0
B58: 彰化縣 | C58: 計 Total | D58: 6809 | E58: 243 | F58: 340 | G58: 294 | H58: 432 | I58: 530 | J58: 1277 | K58: 1387 | L58: 1289 | M58: 1009 | N58: 8
C59: 男 Male | D59: 2722 | E59: 137 | F59: 203 | G59: 147 | H59: 187 | I59: 188 | J59: 400 | K59: 485 | L59: 535 | M59: 438 | N59: 2
B60: Changhua County | C60: 女 Female | D60: 4085 | E60: 105 | F60: 137 | G60: 146 | H60: 245 | I60: 342 | J60: 877 | K60: 902 | L60: 754 | M60: 571 | N60: 6
C61: 其他 Other | D61: 0 | E61: 0 | F61: 0 | G61: 0 | H61: 0 | I61: 0 | J61: 0 | K61: 0 | L61: 0 | M61: 0 | N61: 0
C62: 不詳Unknown | D62: 2 | E62: 1 | F62: 0 | G62: 1 | H62: 0 | I62: 0 | J62: 0 | K62: 0 | L62: 0 | M62: 0 | N62: 0
B63: 南投縣 | C63: 計 Total | D63: 2694 | E63: 129 | F63: 190 | G63: 170 | H63: 158 | I63: 196 | J63: 440 | K63: 526 | L63: 531 | M63: 352 | N63: 2
C64: 男 Male | D64: 1026 | E64: 70 | F64: 115 | G64: 81 | H64: 51 | I64: 68 | J64: 116 | K64: 178 | L64: 199 | M64: 148 | N64: 0
B65: Nantou County | C65: 女 Female | D65: 1668 | E65: 59 | F65: 75 | G65: 89 | H65: 107 | I65: 128 | J65: 324 | K65: 348 | L65: 332 | M65: 204 | N65: 2
C66: 其他 Other | D66: 0 | E66: 0 | F66: 0 | G66: 0 | H66: 0 | I66: 0 | J66: 0 | K66: 0 | L66: 0 | M66: 0 | N66: 0
C67: 不詳Unknown | D67: 0 | E67: 0 | F67: 0 | G67: 0 | H67: 0 | I67: 0 | J67: 0 | K67: 0 | L67: 0 | M67: 0 | N67: 0
B68: 雲林縣 | C68: 計 Total | D68: 3371 | E68: 143 | F68: 108 | G68: 149 | H68: 209 | I68: 279 | J68: 605 | K68: 696 | L68: 656 | M68: 525 | N68: 1
C69: 男 Male | D69: 1260 | E69: 83 | F69: 68 | G69: 67 | H69: 76 | I69: 81 | J69: 170 | K69: 219 | L69: 276 | M69: 219 | N69: 1
B70: Yunlin County | C70: 女 Female | D70: 2111 | E70: 60 | F70: 40 | G70: 82 | H70: 133 | I70: 198 | J70: 435 | K70: 477 | L70: 380 | M70: 306 | N70: 0
C71: 其他 Other | D71: 0 | E71: 0 | F71: 0 | G71: 0 | H71: 0 | I71: 0 | J71: 0 | K71: 0 | L71: 0 | M71: 0 | N71: 0
C72: 不詳Unknown | D72: 0 | E72: 0 | F72: 0 | G72: 0 | H72: 0 | I72: 0 | J72: 0 | K72: 0 | L72: 0 | M72: 0 | N72: 0
B73: 嘉義縣 | C73: 計 Total | D73: 2071 | E73: 92 | F73: 71 | G73: 85 | H73: 122 | I73: 170 | J73: 340 | K73: 398 | L73: 421 | M73: 371 | N73: 1
C74: 男 Male | D74: 687 | E74: 57 | F74: 40 | G74: 35 | H74: 46 | I74: 41 | J74: 85 | K74: 97 | L74: 152 | M74: 134 | N74: 0
B75: Chiayi County | C75: 女 Female | D75: 1384 | E75: 35 | F75: 31 | G75: 50 | H75: 76 | I75: 129 | J75: 255 | K75: 301 | L75: 269 | M75: 237 | N75: 1
C76: 其他 Other | D76: 0 | E76: 0 | F76: 0 | G76: 0 | H76: 0 | I76: 0 | J76: 0 | K76: 0 | L76: 0 | M76: 0 | N76: 0
C77: 不詳Unknown | D77: 0 | E77: 0 | F77: 0 | G77: 0 | H77: 0 | I77: 0 | J77: 0 | K77: 0 | L77: 0 | M77: 0 | N77: 0
B78: 屏東縣 | C78: 計 Total | D78: 4259 | E78: 209 | F78: 218 | G78: 238 | H78: 272 | I78: 402 | J78: 768 | K78: 843 | L78: 772 | M78: 529 | N78: 8
C79: 男 Male | D79: 1490 | E79: 121 | F79: 120 | G79: 107 | H79: 86 | I79: 126 | J79: 197 | K79: 266 | L79: 277 | M79: 188 | N79: 2
B80: Pingtung County | C80: 女 Female | D80: 2767 | E80: 88 | F80: 97 | G80: 130 | H80: 186 | I80: 276 | J80: 571 | K80: 577 | L80: 495 | M80: 341 | N80: 6
C81: 其他 Other | D81: 0 | E81: 0 | F81: 0 | G81: 0 | H81: 0 | I81: 0 | J81: 0 | K81: 0 | L81: 0 | M81: 0 | N81: 0
C82: 不詳Unknown | D82: 2 | E82: 0 | F82: 1 | G82: 1 | H82: 0 | I82: 0 | J82: 0 | K82: 0 | L82: 0 | M82: 0 | N82: 0
B83: 臺東縣 | C83: 計 Total | D83: 1781 | E83: 103 | F83: 130 | G83: 120 | H83: 125 | I83: 174 | J83: 275 | K83: 301 | L83: 349 | M83: 203 | N83: 1
C84: 男 Male | D84: 659 | E84: 58 | F84: 68 | G84: 55 | H84: 43 | I84: 62 | J84: 69 | K84: 87 | L84: 137 | M84: 80 | N84: 0
B85: Taitung County | C85: 女 Female | D85: 1118 | E85: 44 | F85: 61 | G85: 65 | H85: 82 | I85: 112 | J85: 205 | K85: 214 | L85: 211 | M85: 123 | N85: 1
C86: 其他 Other | D86: 0 | E86: 0 | F86: 0 | G86: 0 | H86: 0 | I86: 0 | J86: 0 | K86: 0 | L86: 0 | M86: 0 | N86: 0
C87: 不詳Unknown | D87: 4 | E87: 1 | F87: 1 | G87: 0 | H87: 0 | I87: 0 | J87: 1 | K87: 0 | L87: 1 | M87: 0 | N87: 0
B88: 花蓮縣 | C88: 計 Total | D88: 2280 | E88: 134 | F88: 155 | G88: 147 | H88: 173 | I88: 213 | J88: 381 | K88: 439 | L88: 390 | M88: 243 | N88: 5
C89: 男 Male | D89: 717 | E89: 75 | F89: 86 | G89: 60 | H89: 45 | I89: 60 | J89: 87 | K89: 104 | L89: 116 | M89: 81 | N89: 3
B90: Hualien County | C90: 女 Female | D90: 1562 | E90: 59 | F90: 68 | G90: 87 | H90: 128 | I90: 153 | J90: 294 | K90: 335 | L90: 274 | M90: 162 | N90: 2
C91: 其他 Other | D91: 0 | E91: 0 | F91: 0 | G91: 0 | H91: 0 | I91: 0 | J91: 0 | K91: 0 | L91: 0 | M91: 0 | N91: 0
C92: 不詳Unknown | D92: 1 | E92: 0 | F92: 1 | G92: 0 | H92: 0 | I92: 0 | J92: 0 | K92: 0 | L92: 0 | M92: 0 | N92: 0
A93: Penghu County | B93: 澎湖縣 | C93: 計 Total | D93: 333 | E93: 10 | F93: 13 | G93: 10 | H93: 16 | I93: 26 | J93: 74 | K93: 84 | L93: 57 | M93: 43 | N93: 0
C94: 男 Male | D94: 120 | E94: 5 | F94: 8 | G94: 6 | H94: 8 | I94: 5 | J94: 18 | K94: 24 | L94: 24 | M94: 22 | N94: 0
B95: Penghu County | C95: 女 Female | D95: 213 | E95: 5 | F95: 5 | G95: 4 | H95: 8 | I95: 21 | J95: 56 | K95: 60 | L95: 33 | M95: 21 | N95: 0
C96: 其他 Other | D96: 0 | E96: 0 | F96: 0 | G96: 0 | H96: 0 | I96: 0 | J96: 0 | K96: 0 | L96: 0 | M96: 0 | N96: 0
C97: 不詳Unknown | D97: 0 | E97: 0 | F97: 0 | G97: 0 | H97: 0 | I97: 0 | J97: 0 | K97: 0 | L97: 0 | M97: 0 | N97: 0
B98: 基隆市 | C98: 計 Total | D98: 2179 | E98: 83 | F98: 103 | G98: 116 | H98: 147 | I98: 191 | J98: 368 | K98: 449 | L98: 457 | M98: 263 | N98: 2
C99: 男 Male | D99: 808 | E99: 44 | F99: 70 | G99: 43 | H99: 52 | I99: 61 | J99: 110 | K99: 148 | L99: 176 | M99: 104 | N99: 0
B100: Keelung City | C100: 女 Female | D100: 1370 | E100: 39 | F100: 33 | G100: 73 | H100: 95 | I100: 130 | J100: 258 | K100: 301 | L100: 281 | M100: 159 | N100: 1
C101: 其他 Other | D101: 0 | E101: 0 | F101: 0 | G101: 0 | H101: 0 | I101: 0 | J101: 0 | K101: 0 | L101: 0 | M101: 0 | N101: 0
...

Sheet 2021
A1: 家庭暴力通報事件被害人性別及年齡統計(單位：人數)
A2: 110年，2021
A3: 單位：人數 unit:Person
A4: 區域別 Locality | C4: 性別 | D4: 年齡別 By Age
D5: 合計 | E5: 0-未滿6歲 | F5: 6-未滿12歲 | G5: 12-未滿18歲 | H5: 18-未滿24歲 | I5: 24-未滿30歲 | J5: 30-未滿40歲 | K5: 40-未滿50歲 | L5: 50-未滿65歲 | M5: 65歲 以上 | N5: 不詳
C7: Gender | D7: Total | E7: Under 6 Years | F7: 6-Under 12 Years | G7: 12-Under 18 Years | H7: 18-Under 2 Years | I7: 24-Under 30 Years | J7: 30-Under 40 Years | K7: 40-Under 50 Years | L7: 50-Under 65 Years | M7: Above 65 Years | N7: Unknown
A8: 總計 | C8: 計 Total | D8: 118532 | E8: 5577 | F8: 7679 | G8: 7579 | H8: 8504 | I8: 10231 | J8: 22213 | K8: 22183 | L8: 20976 | M8: 13127 | N8: 463
C9: 男 Male | D9: 42274 | E9: 3198 | F9: 4561 | G9: 3505 | H9: 2780 | I9: 2998 | J9: 5931 | K9: 6695 | L9: 7519 | M9: 4987 | N9: 100
A10: Total | C10: 女 Female | D10: 76189 | E10: 2360 | F10: 3103 | G10: 4065 | H10: 5722 | I10: 7231 | J10: 16280 | K10: 15486 | L10: 13454 | M10: 8139 | N10: 349
C11: 其他 Other | D11: 22 | E11: 12 | F11: 1 | G11: 1 | H11: 1 | I11: 2 | J11: 1 | K11: 1 | L11: 0 | M11: 1 | N11: 2
C12: 不詳Unknown | D12: 47 | E12: 7 | F12: 14 | G12: 8 | H12: 1 | I12: 0 | J12: 1 | K12: 1 | L12: 3 | M12: 0 | N12: 12
A13: 新北市 | C13: 計 Total | D13: 18921 | E13: 736 | F13: 1430 | G13: 1341 | H13: 1472 | I13: 1630 | J13: 3526 | K13: 3546 | L13: 3153 | M13: 1850 | N13: 237
C14: 男 Male | D14: 6176 | E14: 439 | F14: 855 | G14: 621 | H14: 454 | I14: 425 | J14: 787 | K14: 894 | L14: 973 | M14: 682 | N14: 46
A15: New Taipei City | C15: 女 Female | D15: 12720 | E15: 294 | F15: 565 | G15: 716 | H15: 1018 | I15: 1205 | J15: 2739 | K15: 2651 | L15: 2178 | M15: 1168 | N15: 186
C16: 其他 Other | D16: 2 | E16: 1 | F16: 0 | G16: 0 | H16: 0 | I16: 0 | J16: 0 | K16: 0 | L16: 0 | M16: 0 | N16: 1
C17: 不詳Unknown | D17: 23 | E17: 2 | F17: 10 | G17: 4 | H17: 0 | I17: 0 | J17: 0 | K17: 1 | L17: 2 | M17: 0 | N17: 4
A18: 臺北市 | C18: 計 Total | D18: 12216 | E18: 466 | F18: 792 | G18: 778 | H18: 902 | I18: 1039 | J18: 2058 | K18: 2220 | L18: 2360 | M18: 1555 | N18: 46
C19: 男 Male | D19: 4699 | E19: 271 | F19: 478 | G19: 382 | H19: 332 | I19: 352 | J19: 646 | K19: 757 | L19: 902 | M19: 569 | N19: 10
A20: Taipei City | C20: 女 Female | D20: 7515 | E20: 195 | F20: 314 | G20: 396 | H20: 568 | I20: 687 | J20: 1412 | K20: 1463 | L20: 1458 | M20: 986 | N20: 36
C21: 其他 Other | D21: 1 | E21: 0 | F21: 0 | G21: 0 | H21: 1 | I21: 0 | J21: 0 | K21: 0 | L21: 0 | M21: 0 | N21: 0
C22: 不詳Unknown | D22: 1 | E22: 0 | F22: 0 | G22: 0 | H22: 1 | I22: 0 | J22: 0 | K22: 0 | L22: 0 | M22: 0 | N22: 0
A23: 桃園市 | C23: 計 Total | D23: 11552 | E23: 570 | F23: 936 | G23: 845 | H23: 897 | I23: 1046 | J23: 2356 | K23: 2116 | L23: 1758 | M23: 1010 | N23: 18
C24: 男 Male | D24: 4114 | E24: 335 | F24: 568 | G24: 377 | H24: 300 | I24: 288 | J24: 633 | K24: 622 | L24: 623 | M24: 366 | N24: 2
A25: Taoyuan City | C25: 女 Female | D25: 7436 | E25: 234 | F25: 368 | G25: 468 | H25: 597 | I25: 758 | J25: 1723 | K25: 1494 | L25: 1135 | M25: 643 | N25: 16
C26: 其他 Other | D26: 2 | E26: 1 | F26: 0 | G26: 0 | H26: 0 | I26: 0 | J26: 0 | K26: 0 | L26: 0 | M26: 1 | N26: 0
C27: 不詳Unknown | D27: 0 | E27: 0 | F27: 0 | G27: 0 | H27: 0 | I27: 0 | J27: 0 | K27: 0 | L27: 0 | M27: 0 | N27: 0
A28: 臺中市 | C28: 計 Total | D28: 16229 | E28: 906 | F28: 1022 | G28: 943 | H28: 1174 | I28: 1525 | J28: 3280 | K28: 3021 | L28: 2697 | M28: 1603 | N28: 58
C29: 男 Male | D29: 6014 | E29: 524 | F29: 600 | G29: 444 | H29: 375 | I29: 493 | J29: 938 | K29: 982 | L29: 1007 | M29: 634 | N29: 17
A30: Taichung City | C30: 女 Female | D30: 10206 | E30: 378 | F30: 422 | G30: 498 | H30: 799 | I30: 1032 | J30: 2342 | K30: 2039 | L30: 1690 | M30: 969 | N30: 37
C31: 其他 Other | D31: 3 | E31: 3 | F31: 0 | G31: 0 | H31: 0 | I31: 0 | J31: 0 | K31: 0 | L31: 0 | M31: 0 | N31: 0
C32: 不詳Unknown | D32: 6 | E32: 1 | F32: 0 | G32: 1 | H32: 0 | I32: 0 | J32: 0 | K32: 0 | L32: 0 | M32: 0 | N32: 4
A33: 臺南市 | C33: 計 Total | D33: 7670 | E33: 408 | F33: 548 | G33: 496 | H33: 517 | I33: 595 | J33: 1404 | K33: 1398 | L33: 1369 | M33: 921 | N33: 14
C34: 男 Male | D34: 2601 | E34: 240 | F34: 328 | G34: 227 | H34: 149 | I34: 147 | J34: 348 | K34: 371 | L34: 455 | M34: 333 | N34: 3
A35: Tainan City | C35: 女 Female | D35: 5066 | E35: 167 | F35: 220 | G35: 268 | H35: 368 | I35: 448 | J35: 1056 | K35: 1027 | L35: 914 | M35: 588 | N35: 10
C36: 其他 Other | D36: 2 | E36: 1 | F36: 0 | G36: 0 | H36: 0 | I36: 0 | J36: 0 | K36: 0 | L36: 0 | M36: 0 | N36: 1
C37: 不詳Unknown | D37: 1 | E37: 0 | F37: 0 | G37: 1 | H37: 0 | I37: 0 | J37: 0 | K37: 0 | L37: 0 | M37: 0 | N37: 0
A38: 高雄市 | C38: 計 Total | D38: 16972 | E38: 840 | F38: 1021 | G38: 1191 | H38: 1195 | I38: 1423 | J38: 3002 | K38: 3158 | L38: 3151 | M38: 1961 | N38: 30
C39: 男 Male | D39: 6539 | E39: 458 | F39: 619 | G39: 563 | H39: 405 | I39: 464 | J39: 940 | K39: 1102 | L39: 1229 | M39: 750 | N39: 9
A40: Kaohsiung City | C40: 女 Female | D40: 10422 | E40: 380 | F40: 401 | G40: 627 | H40: 790 | I40: 957 | J40: 2061 | K40: 2055 | L40: 1922 | M40: 1211 | N40: 18
C41: 其他 Other | D41: 4 | E41: 0 | F41: 0 | G41: 1 | H41: 0 | I41: 2 | J41: 0 | K41: 1 | L41: 0 | M41: 0 | N41: 0
C42: 不詳Unknown | D42: 7 | E42: 2 | F42: 1 | G42: 0 | H42: 0 | I42: 0 | J42: 1 | K42: 0 | L42: 0 | M42: 0 | N42: 3
B43: 宜蘭縣 | C43: 計 Total | D43: 1760 | E43: 53 | F43: 66 | G43: 68 | H43: 112 | I43: 163 | J43: 369 | K43: 337 | L43: 374 | M43: 216 | N43: 2
C44: 男 Male | D44: 531 | E44: 31 | F44: 35 | G44: 27 | H44: 31 | I44: 43 | J44: 75 | K44: 94 | L44: 113 | M44: 81 | N44: 1
B45: Yilan County | C45: 女 Female | D45: 1229 | E45: 22 | F45: 31 | G45: 41 | H45: 81 | I45: 120 | J45: 294 | K45: 243 | L45: 261 | M45: 135 | N45: 1
C46: 其他 Other | D46: 0 | E46: 0 | F46: 0 | G46: 0 | H46: 0 | I46: 0 | J46: 0 | K46: 0 | L46: 0 | M46: 0 | N46: 0
C47: 不詳Unknown | D47: 0 | E47: 0 | F47: 0 | G47: 0 | H47: 0 | I47: 0 | J47: 0 | K47: 0 | L47: 0 | M47: 0 | N47: 0
B48: 新竹縣 | C48: 計 Total | D48: 2705 | E48: 116 | F48: 150 | G48: 137 | H48: 212 | I48: 283 | J48: 569 | K48: 526 | L48: 448 | M48: 259 | N48: 5
C49: 男 Male | D49: 929 | E49: 69 | F49: 87 | G49: 63 | H49: 60 | I49: 76 | J49: 153 | K49: 155 | L49: 174 | M49: 92 | N49: 0
B50: Hsinchu County | C50: 女 Female | D50: 1775 | E50: 47 | F50: 62 | G50: 74 | H50: 152 | I50: 207 | J50: 416 | K50: 371 | L50: 274 | M50: 167 | N50: 5
C51: 其他 Other | D51: 0 | E51: 0 | F51: 0 | G51: 0 | H51: 0 | I51: 0 | J51: 0 | K51: 0 | L51: 0 | M51: 0 | N51: 0
C52: 不詳Unknown | D52: 1 | E52: 0 | F52: 1 | G52: 0 | H52: 0 | I52: 0 | J52: 0 | K52: 0 | L52: 0 | M52: 0 | N52: 0
B53: 苗栗縣 | C53: 計 Total | D53: 2407 | E53: 123 | F53: 144 | G53: 172 | H53: 148 | I53: 214 | J53: 472 | K53: 431 | L53: 411 | M53: 286 | N53: 6
C54: 男 Male | D54: 761 | E54: 65 | F54: 71 | G54: 73 | H54: 38 | I54: 55 | J54: 98 | K54: 102 | L54: 140 | M54: 118 | N54: 1
B55: Miaoli County | C55: 女 Female | D55: 1646 | E55: 58 | F55: 73 | G55: 99 | H55: 110 | I55: 159 | J55: 374 | K55: 329 | L55: 271 | M55: 168 | N55: 5
C56: 其他 Other | D56: 0 | E56: 0 | F56: 0 | G56: 0 | H56: 0 | I56: 0 | J56: 0 | K56: 0 | L56: 0 | M56: 0 | N56: 0
C57: 不詳Unknown | D57: 0 | E57: 0 | F57: 0 | G57: 0 | H57: 0 | I57: 0 | J57: 0 | K57: 0 | L57: 0 | M57: 0 | N57: 0
B58: 彰化縣 | C58: 計 Total | D58: 5728 | E58: 240 | F58: 325 | G58: 337 | H58: 361 | I58: 444 | J58: 1049 | K58: 1144 | L58: 1089 | M58: 732 | N58: 7
C59: 男 Male | D59: 2079 | E59: 148 | F59: 196 | G59: 142 | H59: 116 | I59: 135 | J59: 286 | K59: 354 | L59: 414 | M59: 287 | N59: 1
B60: Changhua County | C60: 女 Female | D60: 3645 | E60: 89 | F60: 128 | G60: 195 | H60: 245 | I60: 309 | J60: 763 | K60: 790 | L60: 675 | M60: 445 | N60: 6
C61: 其他 Other | D61: 3 | E61: 2 | F61: 1 | G61: 0 | H61: 0 | I61: 0 | J61: 0 | K61: 0 | L61: 0 | M61: 0 | N61: 0
C62: 不詳Unknown | D62: 1 | E62: 1 | F62: 0 | G62: 0 | H62: 0 | I62: 0 | J62: 0 | K62: 0 | L62: 0 | M62: 0 | N62: 0
B63: 南投縣 | C63: 計 Total | D63: 2732 | E63: 149 | F63: 184 | G63: 190 | H63: 182 | I63: 200 | J63: 474 | K63: 478 | L63: 507 | M63: 365 | N63: 3
C64: 男 Male | D64: 980 | E64: 81 | F64: 112 | G64: 89 | H64: 75 | I64: 48 | J64: 120 | K64: 139 | L64: 173 | M64: 142 | N64: 1
B65: Nantou County | C65: 女 Female | D65: 1751 | E65: 67 | F65: 72 | G65: 101 | H65: 107 | I65: 152 | J65: 354 | K65: 339 | L65: 334 | M65: 223 | N65: 2
C66: 其他 Other | D66: 1 | E66: 1 | F66: 0 | G66: 0 | H66: 0 | I66: 0 | J66: 0 | K66: 0 | L66: 0 | M66: 0 | N66: 0
C67: 不詳Unknown | D67: 0 | E67: 0 | F67: 0 | G67: 0 | H67: 0 | I67: 0 | J67: 0 | K67: 0 | L67: 0 | M67: 0 | N67: 0
B68: 雲林縣 | C68: 計 Total | D68: 3429 | E68: 147 | F68: 133 | G68: 153 | H68: 246 | I68: 268 | J68: 669 | K68: 667 | L68: 651 | M68: 495 | N68: 0
C69: 男 Male | D69: 1288 | E69: 81 | F69: 78 | G69: 66 | H69: 94 | I69: 86 | J69: 190 | K69: 224 | L69: 261 | M69: 208 | N69: 0
B70: Yunlin County | C70: 女 Female | D70: 2140 | E70: 65 | F70: 55 | G70: 87 | H70: 152 | I70: 182 | J70: 479 | K70: 443 | L70: 390 | M70: 287 | N70: 0
C71: 其他 Other | D71: 1 | E71: 1 | F71: 0 | G71: 0 | H71: 0 | I71: 0 | J71: 0 | K71: 0 | L71: 0 | M71: 0 | N71: 0
C72: 不詳Unknown | D72: 0 | E72: 0 | F72: 0 | G72: 0 | H72: 0 | I72: 0 | J72: 0 | K72: 0 | L72: 0 | M72: 0 | N72: 0
B73: 嘉義縣 | C73: 計 Total | D73: 2161 | E73: 106 | F73: 86 | G73: 89 | H73: 130 | I73: 165 | J73: 378 | K73: 408 | L73: 461 | M73: 335 | N73: 3
C74: 男 Male | D74: 763 | E74: 57 | F74: 49 | G74: 33 | H74: 50 | I74: 44 | J74: 96 | K74: 113 | L74: 185 | M74: 135 | N74: 1
B75: Chiayi County | C75: 女 Female | D75: 1398 | E75: 49 | F75: 37 | G75: 56 | H75: 80 | I75: 121 | J75: 282 | K75: 295 | L75: 276 | M75: 200 | N75: 2
C76: 其他 Other | D76: 0 | E76: 0 | F76: 0 | G76: 0 | H76: 0 | I76: 0 | J76: 0 | K76: 0 | L76: 0 | M76: 0 | N76: 0
C77: 不詳Unknown | D77: 0 | E77: 0 | F77: 0 | G77: 0 | H77: 0 | I77: 0 | J77: 0 | K77: 0 | L77: 0 | M77: 0 | N77: 0
B78: 屏東縣 | C78: 計 Total | D78: 4287 | E78: 223 | F78: 222 | G78: 256 | H78: 299 | I78: 339 | J78: 789 | K78: 807 | L78: 761 | M78: 577 | N78: 14
C79: 男 Male | D79: 1479 | E79: 127 | F79: 117 | G79: 124 | H79: 93 | I79: 99 | J79: 173 | K79: 245 | L79: 271 | M79: 227 | N79: 3
B80: Pingtung County | C80: 女 Female | D80: 2806 | E80: 96 | F80: 104 | G80: 131 | H80: 206 | I80: 240 | J80: 616 | K80: 562 | L80: 490 | M80: 350 | N80: 11
C81: 其他 Other | D81: 0 | E81: 0 | F81: 0 | G81: 0 | H81: 0 | I81: 0 | J81: 0 | K81: 0 | L81: 0 | M81: 0 | N81: 0
C82: 不詳Unknown | D82: 2 | E82: 0 | F82: 1 | G82: 1 | H82: 0 | I82: 0 | J82: 0 | K82: 0 | L82: 0 | M82: 0 | N82: 0
B83: 臺東縣 | C83: 計 Total | D83: 1846 | E83: 130 | F83: 124 | G83: 105 | H83: 131 | I83: 177 | J83: 281 | K83: 349 | L83: 357 | M83: 192 | N83: 0
C84: 男 Male | D84: 690 | E84: 75 | F84: 71 | G84: 54 | H84: 49 | I84: 54 | J84: 73 | K84: 106 | L84: 136 | M84: 72 | N84: 0
B85: Taitung County | C85: 女 Female | D85: 1154 | E85: 55 | F85: 52 | G85: 51 | H85: 82 | I85: 123 | J85: 208 | K85: 243 | L85: 220 | M85: 120 | N85: 0
C86: 其他 Other | D86: 0 | E86: 0 | F86: 0 | G86: 0 | H86: 0 | I86: 0 | J86: 0 | K86: 0 | L86: 0 | M86: 0 | N86: 0
C87: 不詳Unknown | D87: 2 | E87: 0 | F87: 1 | G87: 0 | H87: 0 | I87: 0 | J87: 0 | K87: 0 | L87: 1 | M87: 0 | N87: 0
B88: 花蓮縣 | C88: 計 Total | D88: 2128 | E88: 104 | F88: 154 | G88: 150 | H88: 149 | I88: 182 | J88: 359 | K88: 413 | L88: 392 | M88: 220 | N88: 5
C89: 男 Male | D89: 659 | E89: 60 | F89: 84 | G89: 63 | H89: 42 | I89: 47 | J89: 76 | K89: 94 | L89: 110 | M89: 81 | N89: 2
B90: Hualien County | C90: 女 Female | D90: 1465 | E90: 42 | F90: 70 | G90: 86 | H90: 107 | I90: 135 | J90: 283 | K90: 319 | L90: 282 | M90: 139 | N90: 2
C91: 其他 Other | D91: 1 | E91: 1 | F91: 0 | G91: 0 | H91: 0 | I91: 0 | J91: 0 | K91: 0 | L91: 0 | M91: 0 | N91: 0
C92: 不詳Unknown | D92: 3 | E92: 1 | F92: 0 | G92: 1 | H92: 0 | I92: 0 | J92: 0 | K92: 0 | L92: 0 | M92: 0 | N92: 1
A93: Penghu County | B93: 澎湖縣 | C93: 計 Total | D93: 313 | E93: 7 | F93: 10 | G93: 10 | H93: 18 | I93: 24 | J93: 75 | K93: 65 | L93: 64 | M93: 40 | N93: 0
C94: 男 Male | D94: 111 | E94: 4 | F94: 6 | G94: 4 | H94: 7 | I94: 10 | J94: 22 | K94: 21 | L94: 23 | M94: 14 | N94: 0
B95: Penghu County | C95: 女 Female | D95: 202 | E95: 3 | F95: 4 | G95: 6 | H95: 11 | I95: 14 | J95: 53 | K95: 44 | L95: 41 | M95: 26 | N95: 0
C96: 其他 Other | D96: 0 | E96: 0 | F96: 0 | G96: 0 | H96: 0 | I96: 0 | J96: 0 | K96: 0 | L96: 0 | M96: 0 | N96: 0
C97: 不詳Unknown | D97: 0 | E97: 0 | F97: 0 | G97: 0 | H97: 0 | I97: 0 | J97: 0 | K97: 0 | L97: 0 | M97: 0 | N97: 0
B98: 基隆市 | C98: 計 Total | D98: 2133 | E98: 65 | F98: 111 | G98: 146 | H98: 140 | I98: 187 | J98: 390 | K98: 407 | L98: 457 | M98: 229 | N98: 1
C99: 男 Male | D99: 775 | E99: 36 | F99: 62 | G99: 71 | H99: 47 | I99: 62 | J99: 116 | K99: 134 | L99: 150 | M99: 96 | N99: 1
B100: Keelung City | C100: 女 Female | D100: 1357 | E100: 29 | F100: 49 | G100: 75 | H100: 93 | I100: 125 | J100: 273 | K100: 273 | L100: 307 | M100: 133 | N100: 0
C101: 其他 Other | D101: 1 | E101: 0 | F101: 0 | G101: 0 | H101: 0 | I101: 0 | J101: 1 | K101: 0 | L101: 0 | M101: 0 | N101: 0
...

Sheet 2020
A1: 家庭暴力通報事件被害人性別及年齡統計(單位：人數)
A2: 區域別 Locality | C2: 性別 | D2: 年齡別 By Age
D3: 合計 | E3: 0-未滿6歲 | F3: 6-未滿12歲 | G3: 12-未滿18歲 | H3: 18-未滿24歲 | I3: 24-未滿30歲 | J3: 30-未滿40歲 | K3: 40-未滿50歲 | L3: 50-未滿65歲 | M3: 65歲 以上 | N3: 不詳
C4: Gender | D4: Total | E4: Under 6 Years | F4: 6-Under 12 Years | G4: 12-Under 18 Years | H4: 18-Under 2 Years | I4: 24-Under 30 Years | J4: 30-Under 40 Years | K4: 40-Under 50 Years | L4: 50-Under 65 Years | M4: Above 65 Years | N4: Unknown
A5: 109年 2020 | C5: 計 Total | D5: 114381 | E5: 6031 | F5: 7703 | G5: 7698 | H5: 7828 | I5: 9819 | J5: 22055 | K5: 21054 | L5: 19881 | M5: 11822 | N5: 490
C6: 男 Male | D6: 39225 | E6: 3367 | F6: 4569 | G6: 3451 | H6: 2380 | I6: 2660 | J6: 5443 | K6: 5991 | L6: 6806 | M6: 4457 | N6: 101
C7: 女 Female | D7: 75083 | E7: 2643 | F7: 3116 | G7: 4234 | H7: 5446 | I7: 7158 | J7: 16611 | K7: 15059 | L7: 13073 | M7: 7362 | N7: 381
C8: 其他 Other | D8: 73 | E8: 21 | F8: 18 | G8: 13 | H8: 2 | I8: 1 | J8: 1 | K8: 4 | L8: 2 | M8: 3 | N8: 8
A9: 新北市 | C9: 計 Total | D9: 18954 | E9: 885 | F9: 1394 | G9: 1338 | H9: 1404 | I9: 1711 | J9: 3715 | K9: 3469 | L9: 3113 | M9: 1684 | N9: 241
C10: 男 Male | D10: 5889 | E10: 503 | F10: 847 | G10: 592 | H10: 387 | I10: 392 | J10: 790 | K10: 846 | L10: 916 | M10: 565 | N10: 51
A11: New Taipei City | C11: 女 Female | D11: 13041 | E11: 376 | F11: 539 | G11: 739 | H11: 1016 | I11: 1319 | J11: 2925 | K11: 2623 | L11: 2196 | M11: 1118 | N11: 190
C12: 其他 Other | D12: 24 | E12: 6 | F12: 8 | G12: 7 | H12: 1 | I12: 0 | J12: 0 | K12: 0 | L12: 1 | M12: 1 | N12: 0
A13: 臺北市 | C13: 計 Total | D13: 12520 | E13: 566 | F13: 842 | G13: 758 | H13: 831 | I13: 1034 | J13: 2220 | K13: 2250 | L13: 2452 | M13: 1524 | N13: 43
C14: 男 Male | D14: 4727 | E14: 334 | F14: 530 | G14: 349 | H14: 273 | I14: 335 | J14: 696 | K14: 732 | L14: 908 | M14: 560 | N14: 10
A15: Taipei City | C15: 女 Female | D15: 7784 | E15: 231 | F15: 309 | G15: 408 | H15: 558 | I15: 699 | J15: 1523 | K15: 1518 | L15: 1544 | M15: 963 | N15: 31
C16: 其他 Other | D16: 9 | E16: 1 | F16: 3 | G16: 1 | H16: 0 | I16: 0 | J16: 1 | K16: 0 | L16: 0 | M16: 1 | N16: 2
A17: 桃園市 | C17: 計 Total | D17: 11146 | E17: 646 | F17: 917 | G17: 900 | H17: 805 | I17: 1078 | J17: 2299 | K17: 1963 | L17: 1627 | M17: 888 | N17: 23
C18: 男 Male | D18: 3807 | E18: 367 | F18: 555 | G18: 408 | H18: 231 | I18: 268 | J18: 556 | K18: 541 | L18: 545 | M18: 335 | N18: 1
A19: Taoyuan City | C19: 女 Female | D19: 7339 | E19: 279 | F19: 362 | G19: 492 | H19: 574 | I19: 810 | J19: 1743 | K19: 1422 | L19: 1082 | M19: 553 | N19: 22
C20: 其他 Other | D20: 0 | E20: 0 | F20: 0 | G20: 0 | H20: 0 | I20: 0 | J20: 0 | K20: 0 | L20: 0 | M20: 0 | N20: 0
A21: 臺中市 | C21: 計 Total | D21: 15611 | E21: 994 | F21: 982 | G21: 1034 | H21: 1101 | I21: 1412 | J21: 3104 | K21: 2863 | L21: 2559 | M21: 1499 | N21: 63
C22: 男 Male | D22: 5553 | E22: 544 | F22: 578 | G22: 501 | H22: 324 | I22: 407 | J22: 815 | K22: 879 | L22: 895 | M22: 596 | N22: 14
A23: Taichung City | C23: 女 Female | D23: 10048 | E23: 449 | F23: 401 | G23: 532 | H23: 777 | I23: 1004 | J23: 2289 | K23: 1984 | L23: 1664 | M23: 902 | N23: 46
C24: 其他 Other | D24: 10 | E24: 1 | F24: 3 | G24: 1 | H24: 0 | I24: 1 | J24: 0 | K24: 0 | L24: 0 | M24: 1 | N24: 3
A25: 臺南市 | C25: 計 Total | D25: 7249 | E25: 400 | F25: 574 | G25: 492 | H25: 454 | I25: 541 | J25: 1412 | K25: 1348 | L25: 1207 | M25: 809 | N25: 12
C26: 男 Male | D26: 2401 | E26: 229 | F26: 330 | G26: 236 | H26: 141 | I26: 139 | J26: 305 | K26: 309 | L26: 392 | M26: 317 | N26: 3
A27: Tainan City | C27: 女 Female | D27: 4845 | E27: 170 | F27: 243 | G27: 256 | H27: 313 | I27: 402 | J27: 1107 | K27: 1038 | L27: 815 | M27: 492 | N27: 9
C28: 其他 Other | D28: 3 | E28: 1 | F28: 1 | G28: 0 | H28: 0 | I28: 0 | J28: 0 | K28: 1 | L28: 0 | M28: 0 | N28: 0
A29: 高雄市 | C29: 計 Total | D29: 15304 | E29: 772 | F29: 963 | G29: 1066 | H29: 1068 | I29: 1295 | J29: 2826 | K29: 2834 | L29: 2797 | M29: 1656 | N29: 27
C30: 男 Male | D30: 5662 | E30: 422 | F30: 573 | G30: 478 | H30: 356 | I30: 401 | J30: 802 | K30: 961 | L30: 1023 | M30: 639 | N30: 7
A31: Kaohsiung City | C31: 女 Female | D31: 9631 | E31: 346 | F31: 387 | G31: 588 | H31: 712 | I31: 894 | J31: 2024 | K31: 1872 | L31: 1773 | M31: 1017 | N31: 18
C32: 其他 Other | D32: 11 | E32: 4 | F32: 3 | G32: 0 | H32: 0 | I32: 0 | J32: 0 | K32: 1 | L32: 1 | M32: 0 | N32: 2
B33: 宜蘭縣 | C33: 計 Total | D33: 1813 | E33: 45 | F33: 86 | G33: 65 | H33: 125 | I33: 149 | J33: 383 | K33: 372 | L33: 364 | M33: 221 | N33: 3
C34: 男 Male | D34: 577 | E34: 24 | F34: 46 | G34: 32 | H34: 41 | I34: 40 | J34: 82 | K34: 103 | L34: 111 | M34: 98 | N34: 0
B35: Yilan County | C35: 女 Female | D35: 1234 | E35: 21 | F35: 40 | G35: 32 | H35: 83 | I35: 109 | J35: 301 | K35: 269 | L35: 253 | M35: 123 | N35: 3
C36: 其他 Other | D36: 2 | E36: 0 | F36: 0 | G36: 1 | H36: 1 | I36: 0 | J36: 0 | K36: 0 | L36: 0 | M36: 0 | N36: 0
B37: 新竹縣 | C37: 計 Total | D37: 2366 | E37: 104 | F37: 185 | G37: 177 | H37: 162 | I37: 181 | J37: 522 | K37: 467 | L37: 360 | M37: 201 | N37: 7
C38: 男 Male | D38: 773 | E38: 62 | F38: 112 | G38: 74 | H38: 49 | I38: 39 | J38: 124 | K38: 108 | L38: 133 | M38: 71 | N38: 1
B39: Hsinchu County | C39: 女 Female | D39: 1592 | E39: 41 | F39: 73 | G39: 103 | H39: 113 | I39: 142 | J39: 398 | K39: 359 | L39: 227 | M39: 130 | N39: 6
C40: 其他 Other | D40: 1 | E40: 1 | F40: 0 | G40: 0 | H40: 0 | I40: 0 | J40: 0 | K40: 0 | L40: 0 | M40: 0 | N40: 0
B41: 苗栗縣 | C41: 計 Total | D41: 2270 | E41: 119 | F41: 123 | G41: 160 | H41: 158 | I41: 192 | J41: 504 | K41: 397 | L41: 368 | M41: 244 | N41: 5
C42: 男 Male | D42: 705 | E42: 63 | F42: 65 | G42: 66 | H42: 44 | I42: 42 | J42: 98 | K42: 105 | L42: 130 | M42: 91 | N42: 1
B43: Miaoli County | C43: 女 Female | D43: 1564 | E43: 55 | F43: 58 | G43: 94 | H43: 114 | I43: 150 | J43: 406 | K43: 292 | L43: 238 | M43: 153 | N43: 4
C44: 其他 Other | D44: 1 | E44: 1 | F44: 0 | G44: 0 | H44: 0 | I44: 0 | J44: 0 | K44: 0 | L44: 0 | M44: 0 | N44: 0
B45: 彰化縣 | C45: 計 Total | D45: 5562 | E45: 262 | F45: 322 | G45: 375 | H45: 335 | I45: 440 | J45: 1060 | K45: 1088 | L45: 1000 | M45: 673 | N45: 7
C46: 男 Male | D46: 1957 | E46: 133 | F46: 194 | G46: 167 | H46: 111 | I46: 130 | J46: 254 | K46: 334 | L46: 359 | M46: 274 | N46: 1
B47: Changhua County | C47: 女 Female | D47: 3602 | E47: 127 | F47: 128 | G47: 207 | H47: 224 | I47: 310 | J47: 806 | K47: 754 | L47: 641 | M47: 399 | N47: 6
C48: 其他 Other | D48: 3 | E48: 2 | F48: 0 | G48: 1 | H48: 0 | I48: 0 | J48: 0 | K48: 0 | L48: 0 | M48: 0 | N48: 0
B49: 南投縣 | C49: 計 Total | D49: 2533 | E49: 157 | F49: 187 | G49: 202 | H49: 132 | I49: 193 | J49: 468 | K49: 432 | L49: 456 | M49: 299 | N49: 7
C50: 男 Male | D50: 872 | E50: 87 | F50: 102 | G50: 95 | H50: 38 | I50: 57 | J50: 104 | K50: 115 | L50: 158 | M50: 114 | N50: 2
B51: Nantou County | C51: 女 Female | D51: 1660 | E51: 69 | F51: 85 | G51: 107 | H51: 94 | I51: 136 | J51: 364 | K51: 317 | L51: 298 | M51: 185 | N51: 5
C52: 其他 Other | D52: 1 | E52: 1 | F52: 0 | G52: 0 | H52: 0 | I52: 0 | J52: 0 | K52: 0 | L52: 0 | M52: 0 | N52: 0
B53: 雲林縣 | C53: 計 Total | D53: 3194 | E53: 143 | F53: 110 | G53: 143 | H53: 220 | I53: 265 | J53: 627 | K53: 626 | L53: 646 | M53: 408 | N53: 6
C54: 男 Male | D54: 1062 | E54: 66 | F54: 66 | G54: 55 | H54: 68 | I54: 75 | J54: 142 | K54: 203 | L54: 240 | M54: 144 | N54: 3
B55: Yunlin County | C55: 女 Female | D55: 2130 | E55: 77 | F55: 44 | G55: 88 | H55: 152 | I55: 190 | J55: 485 | K55: 422 | L55: 406 | M55: 264 | N55: 2
C56: 其他 Other | D56: 2 | E56: 0 | F56: 0 | G56: 0 | H56: 0 | I56: 0 | J56: 0 | K56: 1 | L56: 0 | M56: 0 | N56: 1
B57: 嘉義縣 | C57: 計 Total | D57: 2315 | E57: 140 | F57: 87 | G57: 109 | H57: 136 | I57: 188 | J57: 417 | K57: 429 | L57: 484 | M57: 322 | N57: 3
C58: 男 Male | D58: 812 | E58: 76 | F58: 53 | G58: 39 | H58: 44 | I58: 60 | J58: 112 | K58: 112 | L58: 186 | M58: 128 | N58: 2
B59: Chiayi County | C59: 女 Female | D59: 1503 | E59: 64 | F59: 34 | G59: 70 | H59: 92 | I59: 128 | J59: 305 | K59: 317 | L59: 298 | M59: 194 | N59: 1
C60: 其他 Other | D60: 0 | E60: 0 | F60: 0 | G60: 0 | H60: 0 | I60: 0 | J60: 0 | K60: 0 | L60: 0 | M60: 0 | N60: 0
B61: 屏東縣 | C61: 計 Total | D61: 4063 | E61: 257 | F61: 291 | G61: 297 | H61: 245 | I61: 327 | J61: 719 | K61: 737 | L61: 729 | M61: 452 | N61: 9
C62: 男 Male | D62: 1353 | E62: 151 | F62: 158 | G62: 128 | H62: 72 | I62: 81 | J62: 162 | K62: 183 | L62: 241 | M62: 177 | N62: 0
B63: Pingtung County | C63: 女 Female | D63: 2710 | E63: 106 | F63: 133 | G63: 169 | H63: 173 | I63: 246 | J63: 557 | K63: 554 | L63: 488 | M63: 275 | N63: 9
C64: 其他 Other | D64: 0 | E64: 0 | F64: 0 | G64: 0 | H64: 0 | I64: 0 | J64: 0 | K64: 0 | L64: 0 | M64: 0 | N64: 0
B65: 臺東縣 | C65: 計 Total | D65: 1700 | E65: 99 | F65: 124 | G65: 108 | H65: 120 | I65: 148 | J65: 269 | K65: 299 | L65: 338 | M65: 193 | N65: 2
C66: 男 Male | D66: 584 | E66: 58 | F66: 71 | G66: 29 | H66: 45 | I66: 38 | J66: 67 | K66: 80 | L66: 121 | M66: 75 | N66: 0
B67: Taitung County | C67: 女 Female | D67: 1116 | E67: 41 | F67: 53 | G67: 79 | H67: 75 | I67: 110 | J67: 202 | K67: 219 | L67: 217 | M67: 118 | N67: 2
C68: 其他 Other | D68: 0 | E68: 0 | F68: 0 | G68: 0 | H68: 0 | I68: 0 | J68: 0 | K68: 0 | L68: 0 | M68: 0 | N68: 0
B69: 花蓮縣 | C69: 計 Total | D69: 2165 | E69: 133 | F69: 153 | G69: 173 | H69: 138 | I69: 201 | J69: 357 | K69: 408 | L69: 390 | M69: 203 | N69: 9
C70: 男 Male | D70: 643 | E70: 73 | F70: 77 | G70: 71 | H70: 38 | I70: 45 | J70: 66 | K70: 90 | L70: 112 | M70: 69 | N70: 2
B71: Hualien County | C71: 女 Female | D71: 1521 | E71: 59 | F71: 76 | G71: 102 | H71: 100 | I71: 156 | J71: 291 | K71: 318 | L71: 278 | M71: 134 | N71: 7
C72: 其他 Other | D72: 1 | E72: 1 | F72: 0 | G72: 0 | H72: 0 | I72: 0 | J72: 0 | K72: 0 | L72: 0 | M72: 0 | N72: 0
A73: Penghu County | B73: 澎湖縣 | C73: 計 Total | D73: 303 | E73: 10 | F73: 13 | G73: 12 | H73: 19 | I73: 19 | J73: 61 | K73: 56 | L73: 80 | M73: 33 | N73: 0
C74: 男 Male | D74: 92 | E74: 7 | F74: 5 | G74: 4 | H74: 8 | I74: 4 | J74: 12 | K74: 13 | L74: 31 | M74: 8 | N74: 0
B75: Penghu County | C75: 女 Female | D75: 211 | E75: 3 | F75: 8 | G75: 8 | H75: 11 | I75: 15 | J75: 49 | K75: 43 | L75: 49 | M75: 25 | N75: 0
C76: 其他 Other | D76: 0 | E76: 0 | F76: 0 | G76: 0 | H76: 0 | I76: 0 | J76: 0 | K76: 0 | L76: 0 | M76: 0 | N76: 0
B77: 基隆市 | C77: 計 Total | D77: 1992 | E77: 100 | F77: 118 | G77: 114 | H77: 126 | I77: 139 | J77: 382 | K77: 382 | L77: 394 | M77: 234 | N77: 3
C78: 男 Male | D78: 729 | E78: 57 | F78: 69 | G78: 52 | H78: 49 | I78: 44 | J78: 105 | K78: 115 | L78: 143 | M78: 94 | N78: 1
B79: Keelung City | C79: 女 Female | D79: 1262 | E79: 42 | F79: 49 | G79: 62 | H79: 77 | I79: 95 | J79: 277 | K79: 267 | L79: 251 | M79: 140 | N79: 2
C80: 其他 Other | D80: 1 | E80: 1 | F80: 0 | G80: 0 | H80: 0 | I80: 0 | J80: 0 | K80: 0 | L80: 0 | M80: 0 | N80: 0
B81: 新竹市 | C81: 計 Total | D81: 1902 | E81: 91 | F81: 142 | G81: 87 | H81: 165 | I81: 206 | J81: 422 | K81: 348 | L81: 278 | M81: 151 | N81: 12
C82: 男 Male | D82: 574 | E82: 51 | F82: 81 | G82: 33 | H82: 40 | I82: 39 | J82: 94 | K82: 92 | L82: 84 | M82: 59 | N82: 1
B83: Hsinchu City | C83: 女 Female | D83: 1328 | E83: 40 | F83: 61 | G83: 54 | H83: 125 | I83: 167 | J83: 328 | K83: 256 | L83: 194 | M83: 92 | N83: 11
C84: 其他 Other | D84: 0 | E84: 0 | F84: 0 | G84: 0 | H84: 0 | I84: 0 | J84: 0 | K84: 0 | L84: 0 | M84: 0 | N84: 0
A85: 嘉義市Chiayi City | B85: 嘉義市 | C85: 計 Total | D85: 1119 | E85: 82 | F85: 58 | G85: 62 | H85: 76 | I85: 79 | J85: 225 | K85: 228 | L85: 196 | M85: 106 | N85: 7
C86: 男 Male | D86: 348 | E86: 45 | F86: 37 | G86: 33 | H86: 21 | I86: 18 | J86: 48 | K86: 50 | L86: 62 | M86: 33 | N86: 1
B87: Chiayi City | C87: 女 Female | D87: 769 | E87: 36 | F87: 21 | G87: 29 | H87: 55 | I87: 61 | J87: 177 | K87: 177 | L87: 134 | M87: 73 | N87: 6
C88: 其他 Other | D88: 2 | E88: 1 | F88: 0 | G88: 0 | H88: 0 | I88: 0 | J88: 0 | K88: 1 | L88: 0 | M88: 0 | N88: 0
A89: Kinmen County | B89: 金門縣 | C89: 計 Total | D89: 280 | E89: 25 | F89: 30 | G89: 23 | H89: 8 | I89: 20 | J89: 59 | K89: 52 | L89: 42 | M89: 20 | N89: 1
C90: 男 Male | D90: 98 | E90: 15 | F90: 19 | G90: 8 | H90: 0 | I90: 6 | J90: 7 | K90: 17 | L90: 16 | M90: 10 | N90: 0
B91: Kinmen County | C91: 女 Female | D91: 180 | E91: 10 | F91: 11 | G91: 13 | H91: 8 | I91: 14 | J91: 52 | K91: 35 | L91: 26 | M91: 10 | N91: 1
C92: 不詳Unknown | D92: 2 | E92: 0 | F92: 0 | G92: 2 | H92: 0 | I92: 0 | J92: 0 | K92: 0 | L92: 0 | M92: 0 | N92: 0
B93: 連江縣 | C93: 計 Total | D93: 20 | E93: 1 | F93: 2 | G93: 3 | H93: 0 | I93: 1 | J93: 4 | K93: 6 | L93: 1 | M93: 2 | N93: 0
C94: 男 Male | D94: 7 | E94: 0 | F94: 1 | G94: 1 | H94: 0 | I94: 0 | J94: 2 | K94: 3 | L94: 0 | M94: 0 | N94: 0
B95: Lienchiang County | C95: 女 Female | D95: 13 | E95: 1 | F95: 1 | G95: 2 | H95: 0 | I95: 1 | J95: 2 | K95: 3 | L95: 1 | M95: 2 | N95: 0
C96: 其他 Other | D96: 0 | E96: 0 | F96: 0 | G96: 0 | H96: 0 | I96: 0 | J96: 0 | K96: 0 | L96: 0 | M96: 0 | N96: 0
A97: 資料來源：本部保護服務司。
A98: Source :Department of Protective Services , MOHW.

Sheet 2019
A1: 家庭暴力通報事件被害人性別及年齡統計(單位：人數)
A2: 區域別 Locality | C2: 性別 | D2: 年齡別 By Age
D3: 合計 | E3: 0-未滿6歲 | F3: 6-未滿12歲 | G3: 12-未滿18歲 | H3: 18-未滿24歲 | I3: 24-未滿30歲 | J3: 30-未滿40歲 | K3: 40-未滿50歲 | L3: 50-未滿65歲 | M3: 65歲 以上 | N3: 不詳
C4: Gender | D4: Total | E4: Under 6 Years | F4: 6-Under 12 Years | G4: 12-Under 18 Years | H4: 18-Under 2 Years | I4: 24-Under 30 Years | J4: 30-Under 40 Years | K4: 40-Under 50 Years | L4: 50-Under 65 Years | M4: Above 65 Years | N4: Unknown
A5: 108年 2019 | C5: 計 Total | D5: 103930 | E5: 5900 | F5: 5705 | G5: 6282 | H5: 7047 | I5: 8834 | J5: 21970 | K5: 19124 | L5: 18484 | M5: 10504 | N5: 80
C6: 男 Male | D6: 33498 | E6: 3141 | F6: 3470 | G6: 2844 | H6: 2026 | I6: 2230 | J6: 4850 | K6: 5087 | L6: 5977 | M6: 3862 | N6: 11
C7: 女 Female | D7: 70362 | E7: 2733 | F7: 2222 | G7: 3429 | H7: 5019 | I7: 6600 | J7: 17118 | K7: 14033 | L7: 12504 | M7: 6641 | N7: 63
C8: 其他 Other | D8: 70 | E8: 26 | F8: 13 | G8: 9 | H8: 2 | I8: 4 | J8: 2 | K8: 4 | L8: 3 | M8: 1 | N8: 6
A9: 新北市 | C9: 計 Total | D9: 16723 | E9: 858 | F9: 840 | G9: 878 | H9: 1290 | I9: 1529 | J9: 3681 | K9: 3163 | L9: 2891 | M9: 1557 | N9: 36
C10: 男 Male | D10: 4654 | E10: 391 | F10: 534 | G10: 363 | H10: 315 | I10: 332 | J10: 715 | K10: 705 | L10: 775 | M10: 518 | N10: 6
A11: New Taipei City | C11: 女 Female | D11: 12048 | E11: 460 | F11: 303 | G11: 512 | H11: 974 | I11: 1194 | J11: 2966 | K11: 2457 | L11: 2116 | M11: 1039 | N11: 27
C12: 其他 Other | D12: 21 | E12: 7 | F12: 3 | G12: 3 | H12: 1 | I12: 3 | J12: 0 | K12: 1 | L12: 0 | M12: 0 | N12: 3
A13: 臺北市 | C13: 計 Total | D13: 11581 | E13: 522 | F13: 579 | G13: 639 | H13: 807 | I13: 984 | J13: 2152 | K13: 2180 | L13: 2336 | M13: 1378 | N13: 4
C14: 男 Male | D14: 4060 | E14: 278 | F14: 356 | G14: 303 | H14: 268 | I14: 289 | J14: 599 | K14: 672 | L14: 826 | M14: 469 | N14: 0
A15: Taipei City | C15: 女 Female | D15: 7517 | E15: 242 | F15: 222 | G15: 336 | H15: 539 | I15: 695 | J15: 1553 | K15: 1507 | L15: 1510 | M15: 909 | N15: 4
C16: 其他 Other | D16: 4 | E16: 2 | F16: 1 | G16: 0 | H16: 0 | I16: 0 | J16: 0 | K16: 1 | L16: 0 | M16: 0 | N16: 0
A17: 桃園市 | C17: 計 Total | D17: 9615 | E17: 526 | F17: 651 | G17: 685 | H17: 698 | I17: 900 | J17: 2170 | K17: 1751 | L17: 1478 | M17: 749 | N17: 7
C18: 男 Male | D18: 3044 | E18: 284 | F18: 403 | G18: 310 | H18: 189 | I18: 233 | J18: 449 | K18: 419 | L18: 476 | M18: 279 | N18: 2
A19: Taoyuan City | C19: 女 Female | D19: 6566 | E19: 242 | F19: 246 | G19: 375 | H19: 508 | I19: 667 | J19: 1721 | K19: 1332 | L19: 1001 | M19: 470 | N19: 4
C20: 其他 Other | D20: 5 | E20: 0 | F20: 2 | G20: 0 | H20: 1 | I20: 0 | J20: 0 | K20: 0 | L20: 1 | M20: 0 | N20: 1
A21: 臺中市 | C21: 計 Total | D21: 14337 | E21: 1022 | F21: 931 | G21: 970 | H21: 990 | I21: 1257 | J21: 3129 | K21: 2428 | L21: 2354 | M21: 1246 | N21: 10
C22: 男 Male | D22: 4845 | E22: 570 | F22: 566 | G22: 432 | H22: 289 | I22: 326 | J22: 728 | K22: 667 | L22: 778 | M22: 489 | N22: 0
A23: Taichung City | C23: 女 Female | D23: 9480 | E23: 445 | F23: 362 | G23: 538 | H23: 701 | I23: 931 | J23: 2401 | K23: 1761 | L23: 1576 | M23: 757 | N23: 8
C24: 其他 Other | D24: 12 | E24: 7 | F24: 3 | G24: 0 | H24: 0 | I24: 0 | J24: 0 | K24: 0 | L24: 0 | M24: 0 | N24: 2
A25: 臺南市 | C25: 計 Total | D25: 6550 | E25: 352 | F25: 349 | G25: 352 | H25: 437 | I25: 521 | J25: 1453 | K25: 1169 | L25: 1217 | M25: 697 | N25: 3
C26: 男 Male | D26: 1999 | E26: 193 | F26: 211 | G26: 148 | H26: 110 | I26: 127 | J26: 290 | K26: 278 | L26: 380 | M26: 260 | N26: 2
A27: Tainan City | C27: 女 Female | D27: 4549 | E27: 158 | F27: 137 | G27: 204 | H27: 327 | I27: 394 | J27: 1163 | K27: 891 | L27: 837 | M27: 437 | N27: 1
C28: 其他 Other | D28: 2 | E28: 1 | F28: 1 | G28: 0 | H28: 0 | I28: 0 | J28: 0 | K28: 0 | L28: 0 | M28: 0 | N28: 0
A29: 高雄市 | C29: 計 Total | D29: 14111 | E29: 884 | F29: 850 | G29: 1000 | H29: 903 | I29: 1135 | J29: 2759 | K29: 2619 | L29: 2464 | M29: 1493 | N29: 4
C30: 男 Male | D30: 5052 | E30: 466 | F30: 515 | G30: 498 | H30: 294 | I30: 316 | J30: 701 | K30: 834 | L30: 868 | M30: 560 | N30: 0
A31: Kaohsiung City | C31: 女 Female | D31: 9050 | E31: 413 | F31: 335 | G31: 499 | H31: 609 | I31: 818 | J31: 2058 | K31: 1785 | L31: 1596 | M31: 933 | N31: 4
C32: 其他 Other | D32: 9 | E32: 5 | F32: 0 | G32: 3 | H32: 0 | I32: 1 | J32: 0 | K32: 0 | L32: 0 | M32: 0 | N32: 0
B33: 宜蘭縣 | C33: 計 Total | D33: 1545 | E33: 29 | F33: 30 | G33: 32 | H33: 108 | I33: 154 | J33: 358 | K33: 329 | L33: 327 | M33: 178 | N33: 0
C34: 男 Male | D34: 443 | E34: 18 | F34: 16 | G34: 12 | H34: 29 | I34: 44 | J34: 63 | K34: 85 | L34: 104 | M34: 72 | N34: 0
B35: Yilan County | C35: 女 Female | D35: 1101 | E35: 11 | F35: 14 | G35: 20 | H35: 79 | I35: 110 | J35: 294 | K35: 244 | L35: 223 | M35: 106 | N35: 0
C36: 其他 Other | D36: 1 | E36: 0 | F36: 0 | G36: 0 | H36: 0 | I36: 0 | J36: 1 | K36: 0 | L36: 0 | M36: 0 | N36: 0
B37: 新竹縣 | C37: 計 Total | D37: 2206 | E37: 134 | F37: 167 | G37: 153 | H37: 147 | I37: 192 | J37: 495 | K37: 450 | L37: 316 | M37: 151 | N37: 1
C38: 男 Male | D38: 667 | E38: 72 | F38: 99 | G38: 64 | H38: 36 | I38: 41 | J38: 84 | K38: 113 | L38: 98 | M38: 60 | N38: 0
B39: Hsinchu County | C39: 女 Female | D39: 1536 | E39: 61 | F39: 67 | G39: 89 | H39: 111 | I39: 151 | J39: 411 | K39: 337 | L39: 217 | M39: 91 | N39: 1
C40: 其他 Other | D40: 3 | E40: 1 | F40: 1 | G40: 0 | H40: 0 | I40: 0 | J40: 0 | K40: 0 | L40: 1 | M40: 0 | N40: 0
B41: 苗栗縣 | C41: 計 Total | D41: 2167 | E41: 135 | F41: 115 | G41: 164 | H41: 145 | I41: 178 | J41: 488 | K41: 354 | L41: 371 | M41: 216 | N41: 1
C42: 男 Male | D42: 661 | E42: 69 | F42: 75 | G42: 64 | H42: 40 | I42: 32 | J42: 93 | K42: 91 | L42: 114 | M42: 83 | N42: 0
B43: Miaoli County | C43: 女 Female | D43: 1505 | E43: 66 | F43: 40 | G43: 100 | H43: 105 | I43: 146 | J43: 394 | K43: 263 | L43: 257 | M43: 133 | N43: 1
C44: 其他 Other | D44: 1 | E44: 0 | F44: 0 | G44: 0 | H44: 0 | I44: 0 | J44: 1 | K44: 0 | L44: 0 | M44: 0 | N44: 0
B45: 彰化縣 | C45: 計 Total | D45: 5338 | E45: 322 | F45: 251 | G45: 299 | H45: 301 | I45: 413 | J45: 1187 | K45: 954 | L45: 1011 | M45: 598 | N45: 2
C46: 男 Male | D46: 1829 | E46: 188 | F46: 156 | G46: 140 | H46: 84 | I46: 135 | J46: 251 | K46: 280 | L46: 363 | M46: 232 | N46: 0
B47: Changhua County | C47: 女 Female | D47: 3506 | E47: 134 | F47: 94 | G47: 158 | H47: 217 | I47: 278 | J47: 936 | K47: 674 | L47: 648 | M47: 365 | N47: 2
C48: 其他 Other | D48: 3 | E48: 0 | F48: 1 | G48: 1 | H48: 0 | I48: 0 | J48: 0 | K48: 0 | L48: 0 | M48: 1 | N48: 0
B49: 南投縣 | C49: 計 Total | D49: 2337 | E49: 144 | F49: 135 | G49: 157 | H49: 142 | I49: 163 | J49: 439 | K49: 440 | L49: 418 | M49: 297 | N49: 2
C50: 男 Male | D50: 752 | E50: 78 | F50: 71 | G50: 70 | H50: 38 | I50: 38 | J50: 97 | K50: 96 | L50: 140 | M50: 123 | N50: 1
B51: Nantou County | C51: 女 Female | D51: 1585 | E51: 66 | F51: 64 | G51: 87 | H51: 104 | I51: 125 | J51: 342 | K51: 344 | L51: 278 | M51: 174 | N51: 1
C52: 其他 Other | D52: 0 | E52: 0 | F52: 0 | G52: 0 | H52: 0 | I52: 0 | J52: 0 | K52: 0 | L52: 0 | M52: 0 | N52: 0
B53: 雲林縣 | C53: 計 Total | D53: 3007 | E53: 150 | F53: 103 | G53: 135 | H53: 172 | I53: 243 | J53: 663 | K53: 598 | L53: 583 | M53: 360 | N53: 0
C54: 男 Male | D54: 1003 | E54: 77 | F54: 62 | G54: 58 | H54: 56 | I54: 60 | J54: 159 | K54: 173 | L54: 215 | M54: 143 | N54: 0
B55: Yunlin County | C55: 女 Female | D55: 2004 | E55: 73 | F55: 41 | G55: 77 | H55: 116 | I55: 183 | J55: 504 | K55: 425 | L55: 368 | M55: 217 | N55: 0
C56: 其他 Other | D56: 0 | E56: 0 | F56: 0 | G56: 0 | H56: 0 | I56: 0 | J56: 0 | K56: 0 | L56: 0 | M56: 0 | N56: 0
B57: 嘉義縣 | C57: 計 Total | D57: 2167 | E57: 121 | F57: 78 | G57: 94 | H57: 121 | I57: 159 | J57: 427 | K57: 388 | L57: 451 | M57: 328 | N57: 0
C58: 男 Male | D58: 750 | E58: 60 | F58: 53 | G58: 48 | H58: 38 | I58: 45 | J58: 107 | K58: 106 | L58: 159 | M58: 134 | N58: 0
B59: Chiayi County | C59: 女 Female | D59: 1416 | E59: 61 | F59: 25 | G59: 46 | H59: 83 | I59: 114 | J59: 320 | K59: 281 | L59: 292 | M59: 194 | N59: 0
C60: 其他 Other | D60: 1 | E60: 0 | F60: 0 | G60: 0 | H60: 0 | I60: 0 | J60: 0 | K60: 1 | L60: 0 | M60: 0 | N60: 0
B61: 屏東縣 | C61: 計 Total | D61: 3750 | E61: 262 | F61: 223 | G61: 272 | H61: 202 | I61: 263 | J61: 736 | K61: 660 | L61: 694 | M61: 436 | N61: 2
C62: 男 Male | D62: 1195 | E62: 143 | F62: 116 | G62: 132 | H62: 69 | I62: 50 | J62: 136 | K62: 170 | L62: 215 | M62: 164 | N62: 0
B63: Pingtung County | C63: 女 Female | D63: 2551 | E63: 117 | F63: 107 | G63: 139 | H63: 133 | I63: 213 | J63: 600 | K63: 490 | L63: 478 | M63: 272 | N63: 2
C64: 其他 Other | D64: 4 | E64: 2 | F64: 0 | G64: 1 | H64: 0 | I64: 0 | J64: 0 | K64: 0 | L64: 1 | M64: 0 | N64: 0
B65: 臺東縣 | C65: 計 Total | D65: 1474 | E65: 83 | F65: 88 | G65: 73 | H65: 95 | I65: 107 | J65: 269 | K65: 296 | L65: 288 | M65: 173 | N65: 2
C66: 男 Male | D66: 491 | E66: 51 | F66: 47 | G66: 33 | H66: 34 | I66: 23 | J66: 62 | K66: 87 | L66: 89 | M66: 65 | N66: 0
B67: Taitung County | C67: 女 Female | D67: 983 | E67: 32 | F67: 41 | G67: 40 | H67: 61 | I67: 84 | J67: 207 | K67: 209 | L67: 199 | M67: 108 | N67: 2
C68: 其他 Other | D68: 0 | E68: 0 | F68: 0 | G68: 0 | H68: 0 | I68: 0 | J68: 0 | K68: 0 | L68: 0 | M68: 0 | N68: 0
B69: 花蓮縣 | C69: 計 Total | D69: 1791 | E69: 81 | F69: 79 | G69: 101 | H69: 125 | I69: 141 | J69: 396 | K69: 336 | L69: 356 | M69: 176 | N69: 0
C70: 男 Male | D70: 482 | E70: 40 | F70: 48 | G70: 42 | H70: 29 | I70: 27 | J70: 81 | K70: 67 | L70: 84 | M70: 64 | N70: 0
B71: Hualien County | C71: 女 Female | D71: 1308 | E71: 41 | F71: 30 | G71: 59 | H71: 96 | I71: 114 | J71: 315 | K71: 269 | L71: 272 | M71: 112 | N71: 0
C72: 其他 Other | D72: 1 | E72: 0 | F72: 1 | G72: 0 | H72: 0 | I72: 0 | J72: 0 | K72: 0 | L72: 0 | M72: 0 | N72: 0
A73: Penghu County | B73: 澎湖縣 | C73: 計 Total | D73: 302 | E73: 14 | F73: 15 | G73: 19 | H73: 19 | I73: 24 | J73: 59 | K73: 57 | L73: 72 | M73: 22 | N73: 1
C74: 男 Male | D74: 93 | E74: 8 | F74: 7 | G74: 3 | H74: 6 | I74: 3 | J74: 15 | K74: 19 | L74: 26 | M74: 6 | N74: 0
B75: Penghu County | C75: 女 Female | D75: 207 | E75: 6 | F75: 8 | G75: 15 | H75: 13 | I75: 21 | J75: 44 | K75: 37 | L75: 46 | M75: 16 | N75: 1
C76: 其他 Other | D76: 2 | E76: 0 | F76: 0 | G76: 1 | H76: 0 | I76: 0 | J76: 0 | K76: 1 | L76: 0 | M76: 0 | N76: 0
B77: 基隆市 | C77: 計 Total | D77: 1851 | E77: 112 | F77: 96 | G77: 117 | H77: 116 | I77: 148 | J77: 386 | K77: 338 | L77: 362 | M77: 173 | N77: 3
C78: 男 Male | D78: 607 | E78: 64 | F78: 56 | G78: 63 | H78: 44 | I78: 36 | J78: 81 | K78: 92 | L78: 116 | M78: 55 | N78: 0
B79: Keelung City | C79: 女 Female | D79: 1243 | E79: 47 | F79: 40 | G79: 54 | H79: 72 | I79: 112 | J79: 305 | K79: 246 | L79: 246 | M79: 118 | N79: 3
C80: 其他 Other | D80: 1 | E80: 1 | F80: 0 | G80: 0 | H80: 0 | I80: 0 | J80: 0 | K80: 0 | L80: 0 | M80: 0 | N80: 0
B81: 新竹市 | C81: 計 Total | D81: 1705 | E81: 66 | F81: 51 | G81: 37 | H81: 142 | I81: 193 | J81: 446 | K81: 350 | L81: 268 | M81: 152 | N81: 0
C82: 男 Male | D82: 451 | E82: 35 | F82: 30 | G82: 14 | H82: 34 | I82: 44 | J82: 90 | K82: 89 | L82: 69 | M82: 46 | N82: 0
B83: Hsinchu City | C83: 女 Female | D83: 1254 | E83: 31 | F83: 21 | G83: 23 | H83: 108 | I83: 149 | J83: 356 | K83: 261 | L83: 199 | M83: 106 | N83: 0
C84: 其他 Other | D84: 0 | E84: 0 | F84: 0 | G84: 0 | H84: 0 | I84: 0 | J84: 0 | K84: 0 | L84: 0 | M84: 0 | N84: 0
A85: 嘉義市Chiayi City | B85: 嘉義市 | C85: 計 Total | D85: 1126 | E85: 64 | F85: 58 | G85: 71 | H85: 74 | I85: 110 | J85: 229 | K85: 222 | L85: 190 | M85: 106 | N85: 2
C86: 男 Male | D86: 337 | E86: 43 | F86: 38 | G86: 28 | H86: 20 | I86: 26 | J86: 43 | K86: 38 | L86: 67 | M86: 34 | N86: 0
B87: Chiayi City | C87: 女 Female | D87: 789 | E87: 21 | F87: 20 | G87: 43 | H87: 54 | I87: 84 | J87: 186 | K87: 184 | L87: 123 | M87: 72 | N87: 2
C88: 其他 Other | D88: 0 | E88: 0 | F88: 0 | G88: 0 | H88: 0 | I88: 0 | J88: 0 | K88: 0 | L88: 0 | M88: 0 | N88: 0
A89: Kinmen County | B89: 金門縣 | C89: 計 Total | D89: 227 | E89: 17 | F89: 14 | G89: 34 | H89: 13 | I89: 16 | J89: 39 | K89: 41 | L89: 35 | M89: 18 | N89: 0
C90: 男 Male | D90: 81 | E90: 11 | F90: 11 | G90: 19 | H90: 4 | I90: 3 | J90: 6 | K90: 6 | L90: 15 | M90: 6 | N90: 0
B91: Kinmen County | C91: 女 Female | D91: 146 | E91: 6 | F91: 3 | G91: 15 | H91: 9 | I91: 13 | J91: 33 | K91: 35 | L91: 20 | M91: 12 | N91: 0
C92: 不詳Unknown | D92: 0 | E92: 0 | F92: 0 | G92: 0 | H92: 0 | I92: 0 | J92: 0 | K92: 0 | L92: 0 | M92: 0 | N92: 0
B93: 連江縣 | C93: 計 Total | D93: 20 | E93: 2 | F93: 2 | G93: 0 | H93: 0 | I93: 4 | J93: 9 | K93: 1 | L93: 2 | M93: 0 | N93: 0
C94: 男 Male | D94: 2 | E94: 2 | F94: 0 | G94: 0 | H94: 0 | I94: 0 | J94: 0 | K94: 0 | L94: 0 | M94: 0 | N94: 0
B95: Lienchiang County | C95: 女 Female | D95: 18 | E95: 0 | F95: 2 | G95: 0 | H95: 0 | I95: 4 | J95: 9 | K95: 1 | L95: 2 | M95: 0 | N95: 0
C96: 其他 Other | D96: 0 | E96: 0 | F96: 0 | G96: 0 | H96: 0 | I96: 0 | J96: 0 | K96: 0 | L96: 0 | M96: 0 | N96: 0
A97: 資料來源：本部保護服務司。
A98: Source :Department of Protective Services , MOHW.

Sheet 2019Q4
A1: 家庭暴力事件通報被害及相對人概況Overview of Victim and Offender Status in Reporting Cases of Domestic Violence
A2: 108年第4季，2019Q4
A3: 單位：人數 unit:Person
A4: 區域別 Locality | C4: 性別 | D4: 被害人數 Victims | BH4: 相對人人數
D5: 國籍、身分別 By Nationality and Identity | K5: 年齡別 By Age | V5: 教育程度別 By Education | AG5: 職業別 By Occupation | AW5: 身心障礙別 By Disability | BH5: 年齡別 By Age | BS5: 國籍、身分別 By Nationality and Identity
D6: 合計 | E6: 本國籍 非原住民 | F6: 本國籍 原住民 | G6: 大陸及 港澳籍 | H6: 外國籍 | I6: 無國籍 | J6: 資料 不明 | K6: 合計 | L6: 0-未滿6歲 | M6: 6-未滿12歲 | N6: 12-未滿18歲 | O6: 18-未滿24歲 | P6: 24-未滿30歲 | Q6: 30-未滿40歲 | R6: 40-未滿50歲 | S6: 50-未滿65歲 | T6: 65歲 以上 | U6: 不詳 | V6: 合計 | W6: 學齡前 | X6: 國小 | Y6: 國中 | Z6: 高中(職) | AA6: 專科 | AB6: 大學 | AC6: 研究所 以上 | AD6: 不識字 | AE6: 自修 | AF6: 不詳 | AG6: 合計 | AH6: 學生 | AI6: 服務業 | AJ6: 專門 職業 | AK6: 農林 漁牧 | AL6: 工礦業 | AM6: 商業 | AN6: 公 | AO6: 教 | AP6: 軍 | AQ6: 警 | AR6: 家庭 管理 | AS6: 退休 | AT6: 無工作 | AU6: 其他 | AV6: 不詳 | AW6: 合計 | AX6: 非身心 障礙 | AY6: 智障 | AZ6: 視障 | BA6: 精神 病患 | BB6: 聲(語)障 | BC6: 聽障 | BD6: 肢障 | BE6: 多重 障礙 | BF6: 其他 障礙 | BG6: 不詳 | BH6: 合計 | BI6: 0-未滿6歲 | BJ6: 6-未滿12歲 | BK6: 12-未滿18歲 | BL6: 18-未滿24歲 | BM6: 24-未滿30歲 | BN6: 30-未滿40歲 | BO6: 40-未滿50歲 | BP6: 50-未滿65歲 | BQ6: 65歲 以上 | BR6: 不詳 | BS6: 合計 | BT6: 本國籍非原住民 | BU6: 本國籍原住民 | BV6: 大陸及 港澳籍 | BW6: 外國籍 | BX6: 無國籍 | BY6: 資料 不明
C7: Gender | D7: Total | E7: Non-aboriginal Native | F7: Aboriginal Native | G7: Mainland China and Hong Kong and Macau | H7: Foreign | I7: Stateless | J7: Unknown Information | K7: Total | L7: Under 6 Years | M7: 6-Under 12 Years | N7: 12-Under 18 Years | O7: 18-Under 2 Years | P7: 24-Under 30 Years | Q7: 30-Under 40 Years | R7: 40-Under 50 Years | S7: 50-Under 65 Years | T7: Above 65 Years | U7: Unknown | V7: Total | W7: Preschool | X7: Primary School | Y7: Junior High School | Z7: Senior High School (Vocational High School) | AA7: Junior College | AB7: University | AC7: Graduate School and Above | AD7: Illiterate | AE7: Self-taught | AF7: Unknown | AG7: Total | AH7: Student | AI7: Service Industry | AJ7: Professional | AK7: Agriculture, Forestry, Fishery and Animal Husbandry | AL7: Mining Industry | AM7: Business | AR7: Homemaker | AS7: Retired | AT7: No Work | AU7: Others | AV7: Unknown | AW7: Total | AX7: Not Disability | AY7: Intellectually Disabled | AZ7: Vision | BA7: Mentally Illed | BB7: Voice | BC7: Hearing | BD7: Physically Impaired | BE7: Multiple | BF7: Other | BG7: Unknown | BH7: Total | BI7: Under 6 Years | BJ7: 6-Under 12 Years | BK7: 12-Under 18 Years | BL7: 18-Under 2 Years | BM7: 24-Under 30 Years | BN7: 30-Under 40 Years | BO7: 40-Under 50 Years | BP7: 50-Under 65 Years | BQ7: Above 65 Years | BR7: Unknown | BS7: Total | BT7: Non-aboriginal Native | BU7: Aboriginal Native | BV7: Mainland China and Hong Kong and Macau | BW7: Foreign | BX7: Stateless | BY7: Unknown Information
A8: 總計 | C8: 計 Total | D8: 23931 | E8: 21642 | F8: 1255 | G8: 264 | H8: 278 | I8: 8 | J8: 484 | K8: 23931 | L8: 1448 | M8: 1461 | N8: 1628 | O8: 1672 | P8: 2022 | Q8: 4800 | R8: 4249 | S8: 4268 | T8: 2357 | U8: 26 | V8: 23931 | W8: 1216 | X8: 2019 | Y8: 2026 | Z8: 2658 | AA8: 470 | AB8: 1406 | AC8: 174 | AD8: 166 | AE8: 57 | AF8: 13739 | AG8: 23931 | AH8: 398 | AI8: 2889 | AJ8: 741 | AK8: 368 | AL8: 1273 | AM8: 775 | AN8: 121 | AO8: 174 | AP8: 58 | AQ8: 16 | AR8: 1626 | AS8: 1134 | AT8: 2079 | AU8: 1589 | AV8: 10690 | AW8: 23931 | AX8: 21535 | AY8: 316 | AZ8: 70 | BA8: 506 | BB8: 19 | BC8: 138 | BD8: 400 | BE8: 170 | BF8: 214 | BG8: 563 | BH8: 23610 | BI8: 6 | BJ8: 58 | BK8: 575 | BL8: 1148 | BM8: 2048 | BN8: 5902 | BO8: 6030 | BP8: 5100 | BQ8: 1712 | BR8: 1031 | BS8: 23610 | BT8: 20846 | BU8: 1082 | BV8: 163 | BW8: 207 | BX8: 7 | BY8: 1305
C9: 男 Male | D9: 8004 | E9: 7434 | F9: 373 | G9: 10 | H9: 30 | I9: 5 | J9: 152 | K9: 8004 | L9: 786 | M9: 875 | N9: 751 | O9: 503 | P9: 529 | Q9: 1094 | R9: 1194 | S9: 1402 | T9: 867 | U9: 3 | V9: 8004 | W9: 685 | X9: 1024 | Y9: 780 | Z9: 842 | AA9: 126 | AB9: 370 | AC9: 65 | AD9: 31 | AE9: 16 | AF9: 4065 | AG9: 8004 | AH9: 112 | AI9: 550 | AJ9: 242 | AK9: 162 | AL9: 679 | AM9: 259 | AN9: 41 | AO9: 32 | AP9: 39 | AQ9: 12 | AR9: 14 | AS9: 547 | AT9: 585 | AU9: 457 | AV9: 4273 | AW9: 8004 | AX9: 7067 | AY9: 126 | AZ9: 25 | BA9: 150 | BB9: 14 | BC9: 65 | BD9: 198 | BE9: 73 | BF9: 95 | BG9: 191 | BH9: 17305 | BI9: 5 | BJ9: 46 | BK9: 458 | BL9: 789 | BM9: 1450 | BN9: 4114 | BO9: 4534 | BP9: 3931 | BQ9: 1246 | BR9: 732 | BS9: 17305 | BT9: 15401 | BU9: 821 | BV9: 31 | BW9: 103 | BX9: 6 | BY9: 943
A10: Total | C10: 女 Female | D10: 15912 | E10: 14202 | F10: 881 | G10: 254 | H10: 248 | I10: 3 | J10: 324 | K10: 15912 | L10: 653 | M10: 584 | N10: 874 | O10: 1169 | P10: 1493 | Q10: 3706 | R10: 3054 | S10: 2866 | T10: 1490 | U10: 23 | V10: 15912 | W10: 526 | X10: 994 | Y10: 1244 | Z10: 1816 | AA10: 344 | AB10: 1036 | AC10: 109 | AD10: 135 | AE10: 41 | AF10: 9667 | AG10: 15912 | AH10: 286 | AI10: 2339 | AJ10: 499 | AK10: 206 | AL10: 594 | AM10: 516 | AN10: 80 | AO10: 142 | AP10: 19 | AQ10: 4 | AR10: 1612 | AS10: 587 | AT10: 1494 | AU10: 1132 | AV10: 6402 | AW10: 15912 | AX10: 14463 | AY10: 190 | AZ10: 45 | BA10: 356 | BB10: 5 | BC10: 73 | BD10: 202 | BE10: 97 | BF10: 119 | BG10: 362 | BH10: 6195 | BI10: 1 | BJ10: 12 | BK10: 117 | BL10: 358 | BM10: 597 | BN10: 1770 | BO10: 1482 | BP10: 1154 | BQ10: 463 | BR10: 241 | BS10: 6195 | BT10: 5402 | BU10: 261 | BV10: 130 | BW10: 102 | BX10: 1 | BY10: 299
C11: 其他 Other | D11: 15 | E11: 6 | F11: 1 | G11: 0 | H11: 0 | I11: 0 | J11: 8 | K11: 15 | L11: 9 | M11: 2 | N11: 3 | O11: 0 | P11: 0 | Q11: 0 | R11: 1 | S11: 0 | T11: 0 | U11: 0 | V11: 15 | W11: 5 | X11: 1 | Y11: 2 | Z11: 0 | AA11: 0 | AB11: 0 | AC11: 0 | AD11: 0 | AE11: 0 | AF11: 7 | AG11: 15 | AH11: 0 | AI11: 0 | AJ11: 0 | AK11: 0 | AL11: 0 | AM11: 0 | AN11: 0 | AO11: 0 | AP11: 0 | AQ11: 0 | AR11: 0 | AS11: 0 | AT11: 0 | AU11: 0 | AV11: 15 | AW11: 15 | AX11: 5 | AY11: 0 | AZ11: 0 | BA11: 0 | BB11: 0 | BC11: 0 | BD11: 0 | BE11: 0 | BF11: 0 | BG11: 10 | BH11: 110 | BI11: 0 | BJ11: 0 | BK11: 0 | BL11: 1 | BM11: 1 | BN11: 18 | BO11: 14 | BP11: 15 | BQ11: 3 | BR11: 58 | BS11: 110 | BT11: 43 | BU11: 0 | BV11: 2 | BW11: 2 | BX11: 0 | BY11: 63
A12: 新北市 | C12: 計 Total | D12: 3939 | E12: 3552 | F12: 88 | G12: 56 | H12: 56 | I12: 0 | J12: 187 | K12: 3939 | L12: 174 | M12: 174 | N12: 201 | O12: 312 | P12: 383 | Q12: 858 | R12: 748 | S12: 732 | T12: 345 | U12: 12 | V12: 3939 | W12: 101 | X12: 192 | Y12: 174 | Z12: 264 | AA12: 67 | AB12: 242 | AC12: 30 | AD12: 11 | AE12: 10 | AF12: 2848 | AG12: 3939 | AH12: 90 | AI12: 583 | AJ12: 176 | AK12: 10 | AL12: 84 | AM12: 130 | AN12: 30 | AO12: 36 | AP12: 4 | AQ12: 3 | AR12: 229 | AS12: 204 | AT12: 321 | AU12: 147 | AV12: 1892 | AW12: 3939 | AX12: 3434 | AY12: 37 | AZ12: 14 | BA12: 69 | BB12: 4 | BC12: 16 | BD12: 50 | BE12: 16 | BF12: 26 | BG12: 273 | BH12: 3998 | BI12: 2 | BJ12: 6 | BK12: 86 | BL12: 179 | BM12: 315 | BN12: 912 | BO12: 947 | BP12: 811 | BQ12: 247 | BR12: 493 | BS12: 3998 | BT12: 3272 | BU12: 72 | BV12: 32 | BW12: 38 | BX12: 0 | BY12: 584
C13: 男 Male | D13: 1095 | E13: 1018 | F13: 20 | G13: 2 | H13: 4 | I13: 0 | J13: 51 | K13: 1095 | L13: 79 | M13: 101 | N13: 79 | O13: 83 | P13: 77 | Q13: 173 | R13: 182 | S13: 212 | T13: 107 | U13: 2 | V13: 1095 | W13: 56 | X13: 103 | Y13: 66 | Z13: 75 | AA13: 13 | AB13: 59 | AC13: 9 | AD13: 1 | AE13: 4 | AF13: 709 | AG13: 1095 | AH13: 29 | AI13: 116 | AJ13: 56 | AK13: 5 | AL13: 39 | AM13: 45 | AN13: 10 | AO13: 3 | AP13: 3 | AQ13: 2 | AR13: 1 | AS13: 81 | AT13: 78 | AU13: 35 | AV13: 592 | AW13: 1095 | AX13: 925 | AY13: 16 | AZ13: 4 | BA13: 16 | BB13: 4 | BC13: 7 | BD13: 23 | BE13: 9 | BF13: 7 | BG13: 84 | BH13: 3054 | BI13: 1 | BJ13: 4 | BK13: 68 | BL13: 132 | BM13: 249 | BN13: 679 | BO13: 727 | BP13: 644 | BQ13: 190 | BR13: 360 | BS13: 3054 | BT13: 2519 | BU13: 64 | BV13: 4 | BW13: 19 | BX13: 0 | BY13: 448
A14: New Taipei City | C14: 女 Female | D14: 2841 | E14: 2532 | F14: 68 | G14: 54 | H14: 52 | I14: 0 | J14: 135 | K14: 2841 | L14: 94 | M14: 72 | N14: 121 | O14: 229 | P14: 306 | Q14: 685 | R14: 566 | S14: 520 | T14: 238 | U14: 10 | V14: 2841 | W14: 44 | X14: 89 | Y14: 108 | Z14: 189 | AA14: 54 | AB14: 183 | AC14: 21 | AD14: 10 | AE14: 6 | AF14: 2137 | AG14: 2841 | AH14: 61 | AI14: 467 | AJ14: 120 | AK14: 5 | AL14: 45 | AM14: 85 | AN14: 20 | AO14: 33 | AP14: 1 | AQ14: 1 | AR14: 228 | AS14: 123 | AT14: 243 | AU14: 112 | AV14: 1297 | AW14: 2841 | AX14: 2509 | AY14: 21 | AZ14: 10 | BA14: 53 | BB14: 0 | BC14: 9 | BD14: 27 | BE14: 7 | BF14: 19 | BG14: 186 | BH14: 912 | BI14: 1 | BJ14: 2 | BK14: 18 | BL14: 46 | BM14: 66 | BN14: 228 | BO14: 218 | BP14: 165 | BQ14: 57 | BR14: 111 | BS14: 912 | BT14: 746 | BU14: 8 | BV14: 27 | BW14: 19 | BX14: 0 | BY14: 112
C15: 其他 Other | D15: 3 | E15: 2 | F15: 0 | G15: 0 | H15: 0 | I15: 0 | J15: 1 | K15: 3 | L15: 1 | M15: 1 | N15: 1 | O15: 0 | P15: 0 | Q15: 0 | R15: 0 | S15: 0 | T15: 0 | U15: 0 | V15: 3 | W15: 1 | X15: 0 | Y15: 0 | Z15: 0 | AA15: 0 | AB15: 0 | AC15: 0 | AD15: 0 | AE15: 0 | AF15: 2 | AG15: 3 | AH15: 0 | AI15: 0 | AJ15: 0 | AK15: 0 | AL15: 0 | AM15: 0 | AN15: 0 | AO15: 0 | AP15: 0 | AQ15: 0 | AR15: 0 | AS15: 0 | AT15: 0 | AU15: 0 | AV15: 3 | AW15: 3 | AX15: 0 | AY15: 0 | AZ15: 0 | BA15: 0 | BB15: 0 | BC15: 0 | BD15: 0 | BE15: 0 | BF15: 0 | BG15: 3 | BH15: 32 | BI15: 0 | BJ15: 0 | BK15: 0 | BL15: 1 | BM15: 0 | BN15: 5 | BO15: 2 | BP15: 2 | BQ15: 0 | BR15: 22 | BS15: 32 | BT15: 7 | BU15: 0 | BV15: 1 | BW15: 0 | BX15: 0 | BY15: 24
A16: 臺北市 | C16: 計 Total | D16: 2762 | E16: 2598 | F16: 32 | G16: 30 | H16: 35 | I16: 1 | J16: 66 | K16: 2762 | L16: 144 | M16: 169 | N16: 218 | O16: 233 | P16: 217 | Q16: 478 | R16: 478 | S16: 503 | T16: 321 | U16: 1 | V16: 2762 | W16: 125 | X16: 180 | Y16: 126 | Z16: 93 | AA16: 17 | AB16: 86 | AC16: 14 | AD16: 7 | AE16: 12 | AF16: 2102 | AG16: 2762 | AH16: 42 | AI16: 92 | AJ16: 29 | AK16: 1 | AL16: 7 | AM16: 53 | AN16: 6 | AO16: 7 | AP16: 3 | AQ16: 0 | AR16: 55 | AS16: 65 | AT16: 77 | AU16: 40 | AV16: 2285 | AW16: 2762 | AX16: 2527 | AY16: 20 | AZ16: 10 | BA16: 60 | BB16: 1 | BC16: 15 | BD16: 34 | BE16: 18 | BF16: 33 | BG16: 44 | BH16: 2673 | BI16: 0 | BJ16: 8 | BK16: 85 | BL16: 143 | BM16: 200 | BN16: 581 | BO16: 678 | BP16: 607 | BQ16: 269 | BR16: 102 | BS16: 2673 | BT16: 2426 | BU16: 23 | BV16: 30 | BW16: 33 | BX16: 0 | BY16: 161
C17: 男 Male | D17: 1037 | E17: 994 | F17: 12 | G17: 0 | H17: 9 | I17: 1 | J17: 21 | K17: 1037 | L17: 87 | M17: 102 | N17: 109 | O17: 75 | P17: 72 | Q17: 129 | R17: 164 | S17: 186 | T17: 113 | U17: 0 | V17: 1037 | W17: 79 | X17: 105 | Y17: 62 | Z17: 45 | AA17: 2 | AB17: 18 | AC17: 4 | AD17: 5 | AE17: 3 | AF17: 714 | AG17: 1037 | AH17: 6 | AI17: 27 | AJ17: 9 | AK17: 1 | AL17: 5 | AM17: 18 | AN17: 3 | AO17: 1 | AP17: 1 | AQ17: 0 | AR17: 0 | AS17: 33 | AT17: 24 | AU17: 16 | AV17: 893 | AW17: 1037 | AX17: 934 | AY17: 8 | AZ17: 3 | BA17: 22 | BB17: 0 | BC17: 8 | BD17: 18 | BE17: 7 | BF17: 21 | BG17: 16 | BH17: 1805 | BI17: 0 | BJ17: 7 | BK17: 65 | BL17: 84 | BM17: 130 | BN17: 375 | BO17: 470 | BP17: 420 | BQ17: 183 | BR17: 71 | BS17: 1805 | BT17: 1659 | BU17: 14 | BV17: 11 | BW17: 21 | BX17: 0 | BY17: 100
A18: Taipei City | C18: 女 Female | D18: 1724 | E18: 1603 | F18: 20 | G18: 30 | H18: 26 | I18: 0 | J18: 45 | K18: 1724 | L18: 57 | M18: 67 | N18: 109 | O18: 158 | P18: 145 | Q18: 349 | R18: 313 | S18: 317 | T18: 208 | U18: 1 | V18: 1724 | W18: 46 | X18: 75 | Y18: 64 | Z18: 48 | AA18: 15 | AB18: 68 | AC18: 10 | AD18: 2 | AE18: 9 | AF18: 1387 | AG18: 1724 | AH18: 36 | AI18: 65 | AJ18: 20 | AK18: 0 | AL18: 2 | AM18: 35 | AN18: 3 | AO18: 6 | AP18: 2 | AQ18: 0 | AR18: 55 | AS18: 32 | AT18: 53 | AU18: 24 | AV18: 1391 | AW18: 1724 | AX18: 1592 | AY18: 12 | AZ18: 7 | BA18: 38 | BB18: 1 | BC18: 7 | BD18: 16 | BE18: 11 | BF18: 12 | BG18: 28 | BH18: 849 | BI18: 0 | BJ18: 1 | BK18: 20 | BL18: 59 | BM18: 70 | BN18: 205 | BO18: 205 | BP18: 182 | BQ18: 84 | BR18: 23 | BS18: 849 | BT18: 757 | BU18: 9 | BV18: 19 | BW18: 12 | BX18: 0 | BY18: 52
C19: 其他 Other | D19: 1 | E19: 1 | F19: 0 | G19: 0 | H19: 0 | I19: 0 | J19: 0 | K19: 1 | L19: 0 | M19: 0 | N19: 0 | O19: 0 | P19: 0 | Q19: 0 | R19: 1 | S19: 0 | T19: 0 | U19: 0 | V19: 1 | W19: 0 | X19: 0 | Y19: 0 | Z19: 0 | AA19: 0 | AB19: 0 | AC19: 0 | AD19: 0 | AE19: 0 | AF19: 1 | AG19: 1 | AH19: 0 | AI19: 0 | AJ19: 0 | AK19: 0 | AL19: 0 | AM19: 0 | AN19: 0 | AO19: 0 | AP19: 0 | AQ19: 0 | AR19: 0 | AS19: 0 | AT19: 0 | AU19: 0 | AV19: 1 | AW19: 1 | AX19: 1 | AY19: 0 | AZ19: 0 | BA19: 0 | BB19: 0 | BC19: 0 | BD19: 0 | BE19: 0 | BF19: 0 | BG19: 0 | BH19: 19 | BI19: 0 | BJ19: 0 | BK19: 0 | BL19: 0 | BM19: 0 | BN19: 1 | BO19: 3 | BP19: 5 | BQ19: 2 | BR19: 8 | BS19: 19 | BT19: 10 | BU19: 0 | BV19: 0 | BW19: 0 | BX19: 0 | BY19: 9
A20: 桃園市 | C20: 計 Total | D20: 2254 | E20: 2007 | F20: 169 | G20: 25 | H20: 29 | I20: 0 | J20: 24 | K20: 2254 | L20: 134 | M20: 168 | N20: 184 | O20: 189 | P20: 216 | Q20: 438 | R20: 399 | S20: 357 | T20: 166 | U20: 3 | V20: 2254 | W20: 130 | X20: 196 | Y20: 147 | Z20: 184 | AA20: 16 | AB20: 82 | AC20: 9 | AD20: 5 | AE20: 4 | AF20: 1481 | AG20: 2254 | AH20: 37 | AI20: 182 | AJ20: 45 | AK20: 6 | AL20: 97 | AM20: 49 | AN20: 8 | AO20: 10 | AP20: 3 | AQ20: 0 | AR20: 117 | AS20: 74 | AT20: 171 | AU20: 232 | AV20: 1223 | AW20: 2254 | AX20: 2098 | AY20: 34 | AZ20: 2 | BA20: 26 | BB20: 1 | BC20: 13 | BD20: 21 | BE20: 16 | BF20: 16 | BG20: 27 | BH20: 2258 | BI20: 0 | BJ20: 8 | BK20: 62 | BL20: 121 | BM20: 229 | BN20: 609 | BO20: 607 | BP20: 433 | BQ20: 114 | BR20: 75 | BS20: 2258 | BT20: 2004 | BU20: 143 | BV20: 14 | BW20: 23 | BX20: 0 | BY20: 74
C21: 男 Male | D21: 759 | E21: 702 | F21: 45 | G21: 2 | H21: 4 | I21: 0 | J21: 6 | K21: 759 | L21: 73 | M21: 103 | N21: 88 | O21: 56 | P21: 59 | Q21: 90 | R21: 107 | S21: 116 | T21: 66 | U21: 1 | V21: 759 | W21: 75 | X21: 113 | Y21: 54 | Z21: 65 | AA21: 5 | AB21: 27 | AC21: 6 | AD21: 2 | AE21: 2 | AF21: 410 | AG21: 759 | AH21: 9 | AI21: 42 | AJ21: 19 | AK21: 1 | AL21: 51 | AM21: 21 | AN21: 2 | AO21: 2 | AP21: 3 | AQ21: 0 | AR21: 1 | AS21: 38 | AT21: 42 | AU21: 63 | AV21: 465 | AW21: 759 | AX21: 701 | AY21: 14 | AZ21: 2 | BA21: 6 | BB21: 1 | BC21: 9 | BD21: 8 | BE21: 6 | BF21: 5 | BG21: 7 | BH21: 1672 | BI21: 0 | BJ21: 5 | BK21: 45 | BL21: 81 | BM21: 175 | BN21: 416 | BO21: 451 | BP21: 358 | BQ21: 83 | BR21: 58 | BS21: 1672 | BT21: 1492 | BU21: 106 | BV21: 4 | BW21: 12 | BX21: 0 | BY21: 58
A22: Taoyuan City | C22: 女 Female | D22: 1495 | E22: 1305 | F22: 124 | G22: 23 | H22: 25 | I22: 0 | J22: 18 | K22: 1495 | L22: 61 | M22: 65 | N22: 96 | O22: 133 | P22: 157 | Q22: 348 | R22: 292 | S22: 241 | T22: 100 | U22: 2 | V22: 1495 | W22: 55 | X22: 83 | Y22: 93 | Z22: 119 | AA22: 11 | AB22: 55 | AC22: 3 | AD22: 3 | AE22: 2 | AF22: 1071 | AG22: 1495 | AH22: 28 | AI22: 140 | AJ22: 26 | AK22: 5 | AL22: 46 | AM22: 28 | AN22: 6 | AO22: 8 | AP22: 0 | AQ22: 0 | AR22: 116 | AS22: 36 | AT22: 129 | AU22: 169 | AV22: 758 | AW22: 1495 | AX22: 1397 | AY22: 20 | AZ22: 0 | BA22: 20 | BB22: 0 | BC22: 4 | BD22: 13 | BE22: 10 | BF22: 11 | BG22: 20 | BH22: 575 | BI22: 0 | BJ22: 3 | BK22: 17 | BL22: 40 | BM22: 54 | BN22: 191 | BO22: 154 | BP22: 73 | BQ22: 31 | BR22: 12 | BS22: 575 | BT22: 509 | BU22: 37 | BV22: 10 | BW22: 9 | BX22: 0 | BY22: 10
C23: 其他 Other | D23: 0 | E23: 0 | F23: 0 | G23: 0 | H23: 0 | I23: 0 | J23: 0 | K23: 0 | L23: 0 | M23: 0 | N23: 0 | O23: 0 | P23: 0 | Q23: 0 | R23: 0 | S23: 0 | T23: 0 | U23: 0 | V23: 0 | W23: 0 | X23: 0 | Y23: 0 | Z23: 0 | AA23: 0 | AB23: 0 | AC23: 0 | AD23: 0 | AE23: 0 | AF23: 0 | AG23: 0 | AH23: 0 | AI23: 0 | AJ23: 0 | AK23: 0 | AL23: 0 | AM23: 0 | AN23: 0 | AO23: 0 | AP23: 0 | AQ23: 0 | AR23: 0 | AS23: 0 | AT23: 0 | AU23: 0 | AV23: 0 | AW23: 0 | AX23: 0 | AY23: 0 | AZ23: 0 | BA23: 0 | BB23: 0 | BC23: 0 | BD23: 0 | BE23: 0 | BF23: 0 | BG23: 0 | BH23: 11 | BI23: 0 | BJ23: 0 | BK23: 0 | BL23: 0 | BM23: 0 | BN23: 2 | BO23: 2 | BP23: 2 | BQ23: 0 | BR23: 5 | BS23: 11 | BT23: 3 | BU23: 0 | BV23: 0 | BW23: 2 | BX23: 0 | BY23: 6
A24: 臺中市 | C24: 計 Total | D24: 3312 | E24: 3018 | F24: 112 | G24: 59 | H24: 54 | I24: 1 | J24: 68 | K24: 3312 | L24: 289 | M24: 239 | N24: 231 | O24: 226 | P24: 284 | Q24: 662 | R24: 550 | S24: 520 | T24: 307 | U24: 4 | V24: 3312 | W24: 285 | X24: 287 | Y24: 243 | Z24: 356 | AA24: 56 | AB24: 234 | AC24: 24 | AD24: 13 | AE24: 8 | AF24: 1806 | AG24: 3312 | AH24: 72 | AI24: 427 | AJ24: 116 | AK24: 24 | AL24: 239 | AM24: 138 | AN24: 15 | AO24: 30 | AP24: 14 | AQ24: 4 | AR24: 244 | AS24: 174 | AT24: 296 | AU24: 235 | AV24: 1284 | AW24: 3312 | AX24: 3004 | AY24: 42 | AZ24: 10 | BA24: 59 | BB24: 0 | BC24: 22 | BD24: 46 | BE24: 27 | BF24: 26 | BG24: 76 | BH24: 3318 | BI24: 1 | BJ24: 4 | BK24: 94 | BL24: 163 | BM24: 314 | BN24: 899 | BO24: 802 | BP24: 646 | BQ24: 207 | BR24: 188 | BS24: 3318 | BT24: 2938 | BU24: 100 | BV24: 27 | BW24: 39 | BX24: 1 | BY24: 213
C25: 男 Male | D25: 1173 | E25: 1102 | F25: 38 | G25: 1 | H25: 4 | I25: 1 | J25: 27 | K25: 1173 | L25: 153 | M25: 155 | N25: 104 | O25: 60 | P25: 80 | Q25: 177 | R25: 151 | S25: 173 | T25: 120 | U25: 0 | V25: 1173 | W25: 155 | X25: 151 | Y25: 106 | Z25: 114 | AA25: 14 | AB25: 55 | AC25: 12 | AD25: 2 | AE25: 1 | AF25: 563 | AG25: 1173 | AH25: 15 | AI25: 81 | AJ25: 43 | AK25: 15 | AL25: 121 | AM25: 47 | AN25: 3 | AO25: 6 | AP25: 11 | AQ25: 3 | AR25: 1 | AS25: 90 | AT25: 69 | AU25: 72 | AV25: 596 | AW25: 1173 | AX25: 1066 | AY25: 17 | AZ25: 4 | BA25: 14 | BB25: 0 | BC25: 9 | BD25: 19 | BE25: 12 | BF25: 10 | BG25: 22 | BH25: 2350 | BI25: 1 | BJ25: 4 | BK25: 80 | BL25: 108 | BM25: 202 | BN25: 612 | BO25: 584 | BP25: 490 | BQ25: 142 | BR25: 127 | BS25: 2350 | BT25: 2121 | BU25: 62 | BV25: 8 | BW25: 11 | BX25: 1 | BY25: 147
A26: Taichung City | C26: 女 Female | D26: 2136 | E26: 1915 | F26: 74 | G26: 58 | H26: 50 | I26: 0 | J26: 39 | K26: 2136 | L26: 134 | M26: 83 | N26: 127 | O26: 166 | P26: 204 | Q26: 485 | R26: 399 | S26: 347 | T26: 187 | U26: 4 | V26: 2136 | W26: 128 | X26: 136 | Y26: 137 | Z26: 242 | AA26: 42 | AB26: 179 | AC26: 12 | AD26: 11 | AE26: 7 | AF26: 1242 | AG26: 2136 | AH26: 57 | AI26: 346 | AJ26: 73 | AK26: 9 | AL26: 118 | AM26: 91 | AN26: 12 | AO26: 24 | AP26: 3 | AQ26: 1 | AR26: 243 | AS26: 84 | AT26: 227 | AU26: 163 | AV26: 685 | AW26: 2136 | AX26: 1937 | AY26: 25 | AZ26: 6 | BA26: 45 | BB26: 0 | BC26: 13 | BD26: 27 | BE26: 15 | BF26: 16 | BG26: 52 | BH26: 950 | BI26: 0 | BJ26: 0 | BK26: 14 | BL26: 55 | BM26: 112 | BN26: 284 | BO26: 215 | BP26: 154 | BQ26: 64 | BR26: 52 | BS26: 950 | BT26: 811 | BU26: 38 | BV26: 18 | BW26: 28 | BX26: 0 | BY26: 55
C27: 其他 Other | D27: 3 | E27: 1 | F27: 0 | G27: 0 | H27: 0 | I27: 0 | J27: 2 | K27: 3 | L27: 2 | M27: 1 | N27: 0 | O27: 0 | P27: 0 | Q27: 0 | R27: 0 | S27: 0 | T27: 0 | U27: 0 | V27: 3 | W27: 2 | X27: 0 | Y27: 0 | Z27: 0 | AA27: 0 | AB27: 0 | AC27: 0 | AD27: 0 | AE27: 0 | AF27: 1 | AG27: 3 | AH27: 0 | AI27: 0 | AJ27: 0 | AK27: 0 | AL27: 0 | AM27: 0 | AN27: 0 | AO27: 0 | AP27: 0 | AQ27: 0 | AR27: 0 | AS27: 0 | AT27: 0 | AU27: 0 | AV27: 3 | AW27: 3 | AX27: 1 | AY27: 0 | AZ27: 0 | BA27: 0 | BB27: 0 | BC27: 0 | BD27: 0 | BE27: 0 | BF27: 0 | BG27: 2 | BH27: 18 | BI27: 0 | BJ27: 0 | BK27: 0 | BL27: 0 | BM27: 0 | BN27: 3 | BO27: 3 | BP27: 2 | BQ27: 1 | BR27: 9 | BS27: 18 | BT27: 6 | BU27: 0 | BV27: 1 | BW27: 0 | BX27: 0 | BY27: 11
A28: 臺南市 | C28: 計 Total | D28: 1370 | E28: 1317 | F28: 21 | G28: 9 | H28: 15 | I28: 0 | J28: 8 | K28: 1370 | L28: 88 | M28: 74 | N28: 76 | O28: 91 | P28: 110 | Q28: 301 | R28: 231 | S28: 257 | T28: 141 | U28: 1 | V28: 1370 | W28: 84 | X28: 117 | Y28: 116 | Z28: 149 | AA28: 27 | AB28: 81 | AC28: 10 | AD28: 17 | AE28: 2 | AF28: 767 | AG28: 1370 | AH28: 20 | AI28: 211 | AJ28: 45 | AK28: 17 | AL28: 120 | AM28: 45 | AN28: 2 | AO28: 12 | AP28: 0 | AQ28: 3 | AR28: 132 | AS28: 81 | AT28: 134 | AU28: 139 | AV28: 409 | AW28: 1370 | AX28: 1243 | AY28: 22 | AZ28: 6 | BA28: 26 | BB28: 3 | BC28: 5 | BD28: 29 | BE28: 12 | BF28: 17 | BG28: 7 | BH28: 1345 | BI28: 0 | BJ28: 2 | BK28: 25 | BL28: 63 | BM28: 116 | BN28: 370 | BO28: 329 | BP28: 315 | BQ28: 113 | BR28: 12 | BS28: 1345 | BT28: 1279 | BU28: 25 | BV28: 9 | BW28: 10 | BX28: 0 | BY28: 22
C29: 男 Male | D29: 452 | E29: 440 | F29: 8 | G29: 0 | H29: 1 | I29: 0 | J29: 3 | K29: 452 | L29: 45 | M29: 49 | N29: 34 | O29: 26 | P29: 27 | Q29: 72 | R29: 63 | S29: 80 | T29: 56 | U29: 0 | V29: 452 | W29: 44 | X29: 65 | Y29: 48 | Z29: 55 | AA29: 8 | AB29: 22 | AC29: 4 | AD29: 1 | AE29: 0 | AF29: 205 | AG29: 452 | AH29: 7 | AI29: 42 | AJ29: 14 | AK29: 7 | AL29: 67 | AM29: 11 | AN29: 1 | AO29: 3 | AP29: 0 | AQ29: 2 | AR29: 1 | AS29: 48 | AT29: 39 | AU29: 31 | AV29: 179 | AW29: 452 | AX29: 395 | AY29: 12 | AZ29: 2 | BA29: 8 | BB29: 3 | BC29: 3 | BD29: 18 | BE29: 5 | BF29: 4 | BG29: 2 | BH29: 989 | BI29: 0 | BJ29: 1 | BK29: 23 | BL29: 45 | BM29: 84 | BN29: 258 | BO29: 240 | BP29: 247 | BQ29: 82 | BR29: 9 | BS29: 989 | BT29: 952 | BU29: 17 | BV29: 1 | BW29: 6 | BX29: 0 | BY29: 13
A30: Tainan City | C30: 女 Female | D30: 918 | E30: 877 | F30: 13 | G30: 9 | H30: 14 | I30: 0 | J30: 5 | K30: 918 | L30: 43 | M30: 25 | N30: 42 | O30: 65 | P30: 83 | Q30: 229 | R30: 168 | S30: 177 | T30: 85 | U30: 1 | V30: 918 | W30: 40 | X30: 52 | Y30: 68 | Z30: 94 | AA30: 19 | AB30: 59 | AC30: 6 | AD30: 16 | AE30: 2 | AF30: 562 | AG30: 918 | AH30: 13 | AI30: 169 | AJ30: 31 | AK30: 10 | AL30: 53 | AM30: 34 | AN30: 1 | AO30: 9 | AP30: 0 | AQ30: 1 | AR30: 131 | AS30: 33 | AT30: 95 | AU30: 108 | AV30: 230 | AW30: 918 | AX30: 848 | AY30: 10 | AZ30: 4 | BA30: 18 | BB30: 0 | BC30: 2 | BD30: 11 | BE30: 7 | BF30: 13 | BG30: 5 | BH30: 355 | BI30: 0 | BJ30: 1 | BK30: 2 | BL30: 18 | BM30: 32 | BN30: 112 | BO30: 89 | BP30: 68 | BQ30: 31 | BR30: 2 | BS30: 355 | BT30: 327 | BU30: 8 | BV30: 8 | BW30: 4 | BX30: 0 | BY30: 8
C31: 其他 Other | D31: 0 | E31: 0 | F31: 0 | G31: 0 | H31: 0 | I31: 0 | J31: 0 | K31: 0 | L31: 0 | M31: 0 | N31: 0 | O31: 0 | P31: 0 | Q31: 0 | R31: 0 | S31: 0 | T31: 0 | U31: 0 | V31: 0 | W31: 0 | X31: 0 | Y31: 0 | Z31: 0 | AA31: 0 | AB31: 0 | AC31: 0 | AD31: 0 | AE31: 0 | AF31: 0 | AG31: 0 | AH31: 0 | AI31: 0 | AJ31: 0 | AK31: 0 | AL31: 0 | AM31: 0 | AN31: 0 | AO31: 0 | AP31: 0 | AQ31: 0 | AR31: 0 | AS31: 0 | AT31: 0 | AU31: 0 | AV31: 0 | AW31: 0 | AX31: 0 | AY31: 0 | AZ31: 0 | BA31: 0 | BB31: 0 | BC31: 0 | BD31: 0 | BE31: 0 | BF31: 0 | BG31: 0 | BH31: 1 | BI31: 0 | BJ31: 0 | BK31: 0 | BL31: 0 | BM31: 0 | BN31: 0 | BO31: 0 | BP31: 0 | BQ31: 0 | BR31: 1 | BS31: 1 | BT31: 0 | BU31: 0 | BV31: 0 | BW31: 0 | BX31: 0 | BY31: 1
A32: 高雄市 | C32: 計 Total | D32: 3202 | E32: 3034 | F32: 97 | G32: 23 | H32: 17 | I32: 1 | J32: 30 | K32: 3202 | L32: 206 | M32: 224 | N32: 260 | O32: 193 | P32: 247 | Q32: 600 | R32: 560 | S32: 575 | T32: 335 | U32: 2 | V32: 3202 | W32: 156 | X32: 301 | Y32: 272 | Z32: 508 | AA32: 100 | AB32: 271 | AC32: 35 | AD32: 34 | AE32: 9 | AF32: 1516 | AG32: 3202 | AH32: 44 | AI32: 465 | AJ32: 133 | AK32: 36 | AL32: 247 | AM32: 153 | AN32: 17 | AO32: 26 | AP32: 14 | AQ32: 1 | AR32: 249 | AS32: 165 | AT32: 346 | AU32: 182 | AV32: 1124 | AW32: 3202 | AX32: 2921 | AY32: 38 | AZ32: 8 | BA32: 80 | BB32: 3 | BC32: 18 | BD32: 51 | BE32: 28 | BF32: 25 | BG32: 30 | BH32: 3213 | BI32: 0 | BJ32: 10 | BK32: 86 | BL32: 168 | BM32: 272 | BN32: 831 | BO32: 838 | BP32: 731 | BQ32: 243 | BR32: 34 | BS32: 3213 | BT32: 3045 | BU32: 79 | BV32: 16 | BW32: 21 | BX32: 4 | BY32: 48
C33: 男 Male | D33: 1199 | E33: 1139 | F33: 40 | G33: 2 | H33: 3 | I33: 1 | J33: 14 | K33: 1199 | L33: 117 | M33: 136 | N33: 126 | O33: 79 | P33: 71 | Q33: 160 | R33: 186 | S33: 197 | T33: 127 | U33: 0 | V33: 1199 | W33: 89 | X33: 156 | Y33: 122 | Z33: 176 | AA33: 38 | AB33: 86 | AC33: 12 | AD33: 5 | AE33: 3 | AF33: 512 | AG33: 1199 | AH33: 20 | AI33: 89 | AJ33: 39 | AK33: 20 | AL33: 159 | AM33: 64 | AN33: 6 | AO33: 5 | AP33: 11 | AQ33: 0 | AR33: 6 | AS33: 89 | AT33: 114 | AU33: 77 | AV33: 500 | AW33: 1199 | AX33: 1081 | AY33: 15 | AZ33: 5 | BA33: 26 | BB33: 2 | BC33: 7 | BD33: 27 | BE33: 11 | BF33: 13 | BG33: 12 | BH33: 2219 | BI33: 0 | BJ33: 7 | BK33: 70 | BL33: 112 | BM33: 167 | BN33: 519 | BO33: 615 | BP33: 540 | BQ33: 164 | BR33: 25 | BS33: 2219 | BT33: 2111 | BU33: 57 | BV33: 1 | BW33: 12 | BX33: 3 | BY33: 35
A34: Kaohsiung City | C34: 女 Female | D34: 2001 | E34: 1895 | F34: 57 | G34: 21 | H34: 14 | I34: 0 | J34: 14 | K34: 2001 | L34: 87 | M34: 88 | N34: 134 | O34: 114 | P34: 176 | Q34: 440 | R34: 374 | S34: 378 | T34: 208 | U34: 2 | V34: 2001 | W34: 67 | X34: 145 | Y34: 150 | Z34: 332 | AA34: 62 | AB34: 185 | AC34: 23 | AD34: 29 | AE34: 6 | AF34: 1002 | AG34: 2001 | AH34: 24 | AI34: 376 | AJ34: 94 | AK34: 16 | AL34: 88 | AM34: 89 | AN34: 11 | AO34: 21 | AP34: 3 | AQ34: 1 | AR34: 243 | AS34: 76 | AT34: 232 | AU34: 105 | AV34: 622 | AW34: 2001 | AX34: 1840 | AY34: 23 | AZ34: 3 | BA34: 54 | BB34: 1 | BC34: 11 | BD34: 24 | BE34: 17 | BF34: 12 | BG34: 16 | BH34: 984 | BI34: 0 | BJ34: 3 | BK34: 16 | BL34: 56 | BM34: 105 | BN34: 310 | BO34: 222 | BP34: 189 | BQ34: 79 | BR34: 4 | BS34: 984 | BT34: 928 | BU34: 22 | BV34: 15 | BW34: 9 | BX34: 1 | BY34: 9
C35: 其他 Other | D35: 2 | E35: 0 | F35: 0 | G35: 0 | H35: 0 | I35: 0 | J35: 2 | K35: 2 | L35: 2 | M35: 0 | N35: 0 | O35: 0 | P35: 0 | Q35: 0 | R35: 0 | S35: 0 | T35: 0 | U35: 0 | V35: 2 | W35: 0 | X35: 0 | Y35: 0 | Z35: 0 | AA35: 0 | AB35: 0 | AC35: 0 | AD35: 0 | AE35: 0 | AF35: 2 | AG35: 2 | AH35: 0 | AI35: 0 | AJ35: 0 | AK35: 0 | AL35: 0 | AM35: 0 | AN35: 0 | AO35: 0 | AP35: 0 | AQ35: 0 | AR35: 0 | AS35: 0 | AT35: 0 | AU35: 0 | AV35: 2 | AW35: 2 | AX35: 0 | AY35: 0 | AZ35: 0 | BA35: 0 | BB35: 0 | BC35: 0 | BD35: 0 | BE35: 0 | BF35: 0 | BG35: 2 | BH35: 10 | BI35: 0 | BJ35: 0 | BK35: 0 | BL35: 0 | BM35: 0 | BN35: 2 | BO35: 1 | BP35: 2 | BQ35: 0 | BR35: 5 | BS35: 10 | BT35: 6 | BU35: 0 | BV35: 0 | BW35: 0 | BX35: 0 | BY35: 4
B36: 宜蘭縣 | C36: 計 Total | D36: 364 | E36: 333 | F36: 22 | G36: 6 | H36: 3 | I36: 0 | J36: 0 | K36: 364 | L36: 7 | M36: 7 | N36: 9 | O36: 32 | P36: 32 | Q36: 92 | R36: 70 | S36: 75 | T36: 40 | U36: 0 | V36: 364 | W36: 6 | X36: 37 | Y36: 78 | Z36: 91 | AA36: 27 | AB36: 40 | AC36: 6 | AD36: 7 | AE36: 4 | AF36: 68 | AG36: 364 | AH36: 8 | AI36: 104 | AJ36: 16 | AK36: 6 | AL36: 16 | AM36: 22 | AN36: 0 | AO36: 7 | AP36: 1 | AQ36: 0 | AR36: 53 | AS36: 27 | AT36: 49 | AU36: 13 | AV36: 42 | AW36: 364 | AX36: 324 | AY36: 6 | AZ36: 0 | BA36: 18 | BB36: 0 | BC36: 4 | BD36: 4 | BE36: 3 | BF36: 3 | BG36: 2 | BH36: 349 | BI36: 0 | BJ36: 1 | BK36: 8 | BL36: 16 | BM36: 32 | BN36: 81 | BO36: 96 | BP36: 79 | BQ36: 29 | BR36: 7 | BS36: 349 | BT36: 320 | BU36: 23 | BV36: 1 | BW36: 0 | BX36: 0 | BY36: 5
C37: 男 Male | D37: 95 | E37: 90 | F37: 4 | G37: 1 | H37: 0 | I37: 0 | J37: 0 | K37: 95 | L37: 5 | M37: 4 | N37: 3 | O37: 8 | P37: 9 | Q37: 19 | R37: 10 | S37: 26 | T37: 11 | U37: 0 | V37: 95 | W37: 5 | X37: 14 | Y37: 21 | Z37: 17 | AA37: 6 | AB37: 10 | AC37: 3 | AD37: 1 | AE37: 2 | AF37: 16 | AG37: 95 | AH37: 3 | AI37: 19 | AJ37: 6 | AK37: 4 | AL37: 9 | AM37: 3 | AN37: 0 | AO37: 2 | AP37: 0 | AQ37: 0 | AR37: 0 | AS37: 11 | AT37: 20 | AU37: 1 | AV37: 17 | AW37: 95 | AX37: 86 | AY37: 3 | AZ37: 0 | BA37: 3 | BB37: 0 | BC37: 1 | BD37: 1 | BE37: 1 | BF37: 0 | BG37: 0 | BH37: 277 | BI37: 0 | BJ37: 1 | BK37: 6 | BL37: 10 | BM37: 28 | BN37: 67 | BO37: 71 | BP37: 66 | BQ37: 23 | BR37: 5 | BS37: 277 | BT37: 251 | BU37: 22 | BV37: 0 | BW37: 0 | BX37: 0 | BY37: 4
B38: Yilan County | C38: 女 Female | D38: 269 | E38: 243 | F38: 18 | G38: 5 | H38: 3 | I38: 0 | J38: 0 | K38: 269 | L38: 2 | M38: 3 | N38: 6 | O38: 24 | P38: 23 | Q38: 73 | R38: 60 | S38: 49 | T38: 29 | U38: 0 | V38: 269 | W38: 1 | X38: 23 | Y38: 57 | Z38: 74 | AA38: 21 | AB38: 30 | AC38: 3 | AD38: 6 | AE38: 2 | AF38: 52 | AG38: 269 | AH38: 5 | AI38: 85 | AJ38: 10 | AK38: 2 | AL38: 7 | AM38: 19 | AN38: 0 | AO38: 5 | AP38: 1 | AQ38: 0 | AR38: 53 | AS38: 16 | AT38: 29 | AU38: 12 | AV38: 25 | AW38: 269 | AX38: 238 | AY38: 3 | AZ38: 0 | BA38: 15 | BB38: 0 | BC38: 3 | BD38: 3 | BE38: 2 | BF38: 3 | BG38: 2 | BH38: 70 | BI38: 0 | BJ38: 0 | BK38: 2 | BL38: 6 | BM38: 4 | BN38: 13 | BO38: 25 | BP38: 13 | BQ38: 6 | BR38: 1 | BS38: 70 | BT38: 68 | BU38: 1 | BV38: 1 | BW38: 0 | BX38: 0 | BY38: 0
C39: 其他 Other | D39: 0 | E39: 0 | F39: 0 | G39: 0 | H39: 0 | I39: 0 | J39: 0 | K39: 0 | L39: 0 | M39: 0 | N39: 0 | O39: 0 | P39: 0 | Q39: 0 | R39: 0 | S39: 0 | T39: 0 | U39: 0 | V39: 0 | W39: 0 | X39: 0 | Y39: 0 | Z39: 0 | AA39: 0 | AB39: 0 | AC39: 0 | AD39: 0 | AE39: 0 | AF39: 0 | AG39: 0 | AH39: 0 | AI39: 0 | AJ39: 0 | AK39: 0 | AL39: 0 | AM39: 0 | AN39: 0 | AO39: 0 | AP39: 0 | AQ39: 0 | AR39: 0 | AS39: 0 | AT39: 0 | AU39: 0 | AV39: 0 | AW39: 0 | AX39: 0 | AY39: 0 | AZ39: 0 | BA39: 0 | BB39: 0 | BC39: 0 | BD39: 0 | BE39: 0 | BF39: 0 | BG39: 0 | BH39: 2 | BI39: 0 | BJ39: 0 | BK39: 0 | BL39: 0 | BM39: 0 | BN39: 1 | BO39: 0 | BP39: 0 | BQ39: 0 | BR39: 1 | BS39: 2 | BT39: 1 | BU39: 0 | BV39: 0 | BW39: 0 | BX39: 0 | BY39: 1
B40: 新竹縣 | C40: 計 Total | D40: 518 | E40: 429 | F40: 71 | G40: 4 | H40: 7 | I40: 2 | J40: 5 | K40: 518 | L40: 35 | M40: 46 | N40: 30 | O40: 39 | P40: 50 | Q40: 108 | R40: 106 | S40: 69 | T40: 35 | U40: 0 | V40: 518 | W40: 30 | X40: 58 | Y40: 53 | Z40: 71 | AA40: 8 | AB40: 44 | AC40: 4 | AD40: 0 | AE40: 2 | AF40: 248 | AG40: 518 | AH40: 7 | AI40: 76 | AJ40: 30 | AK40: 6 | AL40: 30 | AM40: 5 | AN40: 6 | AO40: 5 | AP40: 1 | AQ40: 0 | AR40: 36 | AS40: 15 | AT40: 51 | AU40: 31 | AV40: 219 | AW40: 518 | AX40: 474 | AY40: 9 | AZ40: 1 | BA40: 10 | BB40: 1 | BC40: 5 | BD40: 9 | BE40: 2 | BF40: 0 | BG40: 7 | BH40: 511 | BI40: 0 | BJ40: 3 | BK40: 4 | BL40: 33 | BM40: 38 | BN40: 150 | BO40: 155 | BP40: 90 | BQ40: 19 | BR40: 19 | BS40: 511 | BT40: 417 | BU40: 61 | BV40: 5 | BW40: 5 | BX40: 0 | BY40: 23
C41: 男 Male | D41: 166 | E41: 143 | F41: 19 | G41: 0 | H41: 1 | I41: 1 | J41: 2 | K41: 166 | L41: 18 | M41: 27 | N41: 13 | O41: 10 | P41: 16 | Q41: 17 | R41: 28 | S41: 23 | T41: 14 | U41: 0 | V41: 166 | W41: 16 | X41: 29 | Y41: 20 | Z41: 21 | AA41: 1 | AB41: 10 | AC41: 2 | AD41: 0 | AE41: 1 | AF41: 66 | AG41: 166 | AH41: 1 | AI41: 10 | AJ41: 10 | AK41: 2 | AL41: 15 | AM41: 1 | AN41: 1 | AO41: 0 | AP41: 1 | AQ41: 0 | AR41: 0 | AS41: 4 | AT41: 14 | AU41: 6 | AV41: 101 | AW41: 166 | AX41: 154 | AY41: 2 | AZ41: 0 | BA41: 1 | BB41: 0 | BC41: 3 | BD41: 4 | BE41: 1 | BF41: 0 | BG41: 1 | BH41: 387 | BI41: 0 | BJ41: 3 | BK41: 2 | BL41: 25 | BM41: 26 | BN41: 109 | BO41: 119 | BP41: 76 | BQ41: 16 | BR41: 11 | BS41: 387 | BT41: 321 | BU41: 44 | BV41: 1 | BW41: 4 | BX41: 0 | BY41: 17
B42: Hsinchu County | C42: 女 Female | D42: 351 | E42: 286 | F42: 52 | G42: 4 | H42: 6 | I42: 1 | J42: 2 | K42: 351 | L42: 16 | M42: 19 | N42: 17 | O42: 29 | P42: 34 | Q42: 91 | R42: 78 | S42: 46 | T42: 21 | U42: 0 | V42: 351 | W42: 14 | X42: 29 | Y42: 33 | Z42: 50 | AA42: 7 | AB42: 34 | AC42: 2 | AD42: 0 | AE42: 1 | AF42: 181 | AG42: 351 | AH42: 6 | AI42: 66 | AJ42: 20 | AK42: 4 | AL42: 15 | AM42: 4 | AN42: 5 | AO42: 5 | AP42: 0 | AQ42: 0 | AR42: 36 | AS42: 11 | AT42: 37 | AU42: 25 | AV42: 117 | AW42: 351 | AX42: 320 | AY42: 7 | AZ42: 1 | BA42: 9 | BB42: 1 | BC42: 2 | BD42: 5 | BE42: 1 | BF42: 0 | BG42: 5 | BH42: 123 | BI42: 0 | BJ42: 0 | BK42: 2 | BL42: 8 | BM42: 11 | BN42: 41 | BO42: 36 | BP42: 14 | BQ42: 3 | BR42: 8 | BS42: 123 | BT42: 95 | BU42: 17 | BV42: 4 | BW42: 1 | BX42: 0 | BY42: 6
C43: 其他 Other | D43: 1 | E43: 0 | F43: 0 | G43: 0 | H43: 0 | I43: 0 | J43: 1 | K43: 1 | L43: 1 | M43: 0 | N43: 0 | O43: 0 | P43: 0 | Q43: 0 | R43: 0 | S43: 0 | T43: 0 | U43: 0 | V43: 1 | W43: 0 | X43: 0 | Y43: 0 | Z43: 0 | AA43: 0 | AB43: 0 | AC43: 0 | AD43: 0 | AE43: 0 | AF43: 1 | AG43: 1 | AH43: 0 | AI43: 0 | AJ43: 0 | AK43: 0 | AL43: 0 | AM43: 0 | AN43: 0 | AO43: 0 | AP43: 0 | AQ43: 0 | AR43: 0 | AS43: 0 | AT43: 0 | AU43: 0 | AV43: 1 | AW43: 1 | AX43: 0 | AY43: 0 | AZ43: 0 | BA43: 0 | BB43: 0 | BC43: 0 | BD43: 0 | BE43: 0 | BF43: 0 | BG43: 1 | BH43: 1 | BI43: 0 | BJ43: 0 | BK43: 0 | BL43: 0 | BM43: 1 | BN43: 0 | BO43: 0 | BP43: 0 | BQ43: 0 | BR43: 0 | BS43: 1 | BT43: 1 | BU43: 0 | BV43: 0 | BW43: 0 | BX43: 0 | BY43: 0
B44: 苗栗縣 | C44: 計 Total | D44: 539 | E44: 484 | F44: 40 | G44: 7 | H44: 5 | I44: 0 | J44: 3 | K44: 539 | L44: 35 | M44: 44 | N44: 53 | O44: 33 | P44: 35 | Q44: 111 | R44: 90 | S44: 90 | T44: 48 | U44: 0 | V44: 539 | W44: 34 | X44: 48 | Y44: 43 | Z44: 40 | AA44: 6 | AB44: 16 | AC44: 3 | AD44: 2 | AE44: 0 | AF44: 347 | AG44: 539 | AH44: 10 | AI44: 72 | AJ44: 9 | AK44: 11 | AL44: 25 | AM44: 6 | AN44: 6 | AO44: 4 | AP44: 0 | AQ44: 1 | AR44: 45 | AS44: 20 | AT44: 58 | AU44: 80 | AV44: 192 | AW44: 539 | AX44: 493 | AY44: 5 | AZ44: 2 | BA44: 11 | BB44: 0 | BC44: 1 | BD44: 11 | BE44: 9 | BF44: 5 | BG44: 2 | BH44: 526 | BI44: 0 | BJ44: 4 | BK44: 15 | BL44: 26 | BM44: 58 | BN44: 156 | BO44: 130 | BP44: 98 | BQ44: 36 | BR44: 3 | BS44: 526 | BT44: 479 | BU44: 26 | BV44: 4 | BW44: 6 | BX44: 0 | BY44: 11
C45: 男 Male | D45: 177 | E45: 165 | F45: 9 | G45: 1 | H45: 0 | I45: 0 | J45: 2 | K45: 177 | L45: 21 | M45: 25 | N45: 25 | O45: 8 | P45: 4 | Q45: 17 | R45: 30 | S45: 22 | T45: 25 | U45: 0 | V45: 177 | W45: 21 | X45: 27 | Y45: 19 | Z45: 11 | AA45: 0 | AB45: 4 | AC45: 0 | AD45: 0 | AE45: 0 | AF45: 95 | AG45: 177 | AH45: 3 | AI45: 15 | AJ45: 2 | AK45: 3 | AL45: 13 | AM45: 3 | AN45: 1 | AO45: 1 | AP45: 0 | AQ45: 1 | AR45: 0 | AS45: 14 | AT45: 16 | AU45: 18 | AV45: 87 | AW45: 177 | AX45: 156 | AY45: 2 | AZ45: 1 | BA45: 5 | BB45: 0 | BC45: 0 | BD45: 8 | BE45: 4 | BF45: 0 | BG45: 1 | BH45: 398 | BI45: 0 | BJ45: 4 | BK45: 10 | BL45: 16 | BM45: 42 | BN45: 121 | BO45: 97 | BP45: 77 | BQ45: 29 | BR45: 2 | BS45: 398 | BT45: 366 | BU45: 23 | BV45: 0 | BW45: 1 | BX45: 0 | BY45: 8
B46: Miaoli County | C46: 女 Female | D46: 362 | E46: 319 | F46: 31 | G46: 6 | H46: 5 | I46: 0 | J46: 1 | K46: 362 | L46: 14 | M46: 19 | N46: 28 | O46: 25 | P46: 31 | Q46: 94 | R46: 60 | S46: 68 | T46: 23 | U46: 0 | V46: 362 | W46: 13 | X46: 21 | Y46: 24 | Z46: 29 | AA46: 6 | AB46: 12 | AC46: 3 | AD46: 2 | AE46: 0 | AF46: 252 | AG46: 362 | AH46: 7 | AI46: 57 | AJ46: 7 | AK46: 8 | AL46: 12 | AM46: 3 | AN46: 5 | AO46: 3 | AP46: 0 | AQ46: 0 | AR46: 45 | AS46: 6 | AT46: 42 | AU46: 62 | AV46: 105 | AW46: 362 | AX46: 337 | AY46: 3 | AZ46: 1 | BA46: 6 | BB46: 0 | BC46: 1 | BD46: 3 | BE46: 5 | BF46: 5 | BG46: 1 | BH46: 127 | BI46: 0 | BJ46: 0 | BK46: 5 | BL46: 10 | BM46: 16 | BN46: 35 | BO46: 32 | BP46: 21 | BQ46: 7 | BR46: 1 | BS46: 127 | BT46: 112 | BU46: 3 | BV46: 4 | BW46: 5 | BX46: 0 | BY46: 3
C47: 其他 Other | D47: 0 | E47: 0 | F47: 0 | G47: 0 | H47: 0 | I47: 0 | J47: 0 | K47: 0 | L47: 0 | M47: 0 | N47: 0 | O47: 0 | P47: 0 | Q47: 0 | R47: 0 | S47: 0 | T47: 0 | U47: 0 | V47: 0 | W47: 0 | X47: 0 | Y47: 0 | Z47: 0 | AA47: 0 | AB47: 0 | AC47: 0 | AD47: 0 | AE47: 0 | AF47: 0 | AG47: 0 | AH47: 0 | AI47: 0 | AJ47: 0 | AK47: 0 | AL47: 0 | AM47: 0 | AN47: 0 | AO47: 0 | AP47: 0 | AQ47: 0 | AR47: 0 | AS47: 0 | AT47: 0 | AU47: 0 | AV47: 0 | AW47: 0 | AX47: 0 | AY47: 0 | AZ47: 0 | BA47: 0 | BB47: 0 | BC47: 0 | BD47: 0 | BE47: 0 | BF47: 0 | BG47: 0 | BH47: 1 | BI47: 0 | BJ47: 0 | BK47: 0 | BL47: 0 | BM47: 0 | BN47: 0 | BO47: 1 | BP47: 0 | BQ47: 0 | BR47: 0 | BS47: 1 | BT47: 1 | BU47: 0 | BV47: 0 | BW47: 0 | BX47: 0 | BY47: 0
B48: 彰化縣 | C48: 計 Total | D48: 1259 | E48: 1188 | F48: 27 | G48: 9 | H48: 11 | I48: 0 | J48: 24 | K48: 1259 | L48: 65 | M48: 73 | N48: 84 | O48: 73 | P48: 99 | Q48: 242 | R48: 221 | S48: 261 | T48: 139 | U48: 2 | V48: 1259 | W48: 60 | X48: 140 | Y48: 161 | Z48: 155 | AA48: 21 | AB48: 52 | AC48: 7 | AD48: 9 | AE48: 1 | AF48: 653 | AG48: 1259 | AH48: 12 | AI48: 84 | AJ48: 19 | AK48: 40 | AL48: 120 | AM48: 19 | AN48: 2 | AO48: 4 | AP48: 5 | AQ48: 0 | AR48: 105 | AS48: 79 | AT48: 144 | AU48: 277 | AV48: 349 | AW48: 1259 | AX48: 1125 | AY48: 31 | AZ48: 2 | BA48: 31 | BB48: 3 | BC48: 3 | BD48: 23 | BE48: 8 | BF48: 18 | BG48: 15 | BH48: 1207 | BI48: 0 | BJ48: 3 | BK48: 26 | BL48: 52 | BM48: 103 | BN48: 304 | BO48: 322 | BP48: 281 | BQ48: 109 | BR48: 7 | BS48: 1207 | BT48: 1130 | BU48: 24 | BV48: 9 | BW48: 11 | BX48: 0 | BY48: 33
C49: 男 Male | D49: 442 | E49: 428 | F49: 6 | G49: 1 | H49: 0 | I49: 0 | J49: 7 | K49: 442 | L49: 36 | M49: 44 | N49: 43 | O49: 26 | P49: 30 | Q49: 49 | R49: 63 | S49: 98 | T49: 53 | U49: 0 | V49: 442 | W49: 35 | X49: 64 | Y49: 66 | Z49: 54 | AA49: 5 | AB49: 15 | AC49: 1 | AD49: 2 | AE49: 0 | AF49: 200 | AG49: 442 | AH49: 3 | AI49: 11 | AJ49: 4 | AK49: 18 | AL49: 51 | AM49: 7 | AN49: 0 | AO49: 1 | AP49: 3 | AQ49: 0 | AR49: 1 | AS49: 36 | AT49: 49 | AU49: 92 | AV49: 166 | AW49: 442 | AX49: 378 | AY49: 18 | AZ49: 0 | BA49: 11 | BB49: 2 | BC49: 1 | BD49: 14 | BE49: 4 | BF49: 6 | BG49: 8 | BH49: 924 | BI49: 0 | BJ49: 1 | BK49: 18 | BL49: 38 | BM49: 76 | BN49: 215 | BO49: 267 | BP49: 220 | BQ49: 82 | BR49: 7 | BS49: 924 | BT49: 872 | BU49: 21 | BV49: 1 | BW49: 7 | BX49: 0 | BY49: 23
B50: Changhua County | C50: 女 Female | D50: 817 | E50: 760 | F50: 21 | G50: 8 | H50: 11 | I50: 0 | J50: 17 | K50: 817 | L50: 29 | M50: 29 | N50: 41 | O50: 47 | P50: 69 | Q50: 193 | R50: 158 | S50: 163 | T50: 86 | U50: 2 | V50: 817 | W50: 25 | X50: 76 | Y50: 95 | Z50: 101 | AA50: 16 | AB50: 37 | AC50: 6 | AD50: 7 | AE50: 1 | AF50: 453 | AG50: 817 | AH50: 9 | AI50: 73 | AJ50: 15 | AK50: 22 | AL50: 69 | AM50: 12 | AN50: 2 | AO50: 3 | AP50: 2 | AQ50: 0 | AR50: 104 | AS50: 43 | AT50: 95 | AU50: 185 | AV50: 183 | AW50: 817 | AX50: 747 | AY50: 13 | AZ50: 2 | BA50: 20 | BB50: 1 | BC50: 2 | BD50: 9 | BE50: 4 | BF50: 12 | BG50: 7 | BH50: 281 | BI50: 0 | BJ50: 2 | BK50: 8 | BL50: 14 | BM50: 27 | BN50: 88 | BO50: 55 | BP50: 60 | BQ50: 27 | BR50: 0 | BS50: 281 | BT50: 256 | BU50: 3 | BV50: 8 | BW50: 4 | BX50: 0 | BY50: 10
C51: 其他 Other | D51: 0 | E51: 0 | F51: 0 | G51: 0 | H51: 0 | I51: 0 | J51: 0 | K51: 0 | L51: 0 | M51: 0 | N51: 0 | O51: 0 | P51: 0 | Q51: 0 | R51: 0 | S51: 0 | T51: 0 | U51: 0 | V51: 0 | W51: 0 | X51: 0 | Y51: 0 | Z51: 0 | AA51: 0 | AB51: 0 | AC51: 0 | AD51: 0 | AE51: 0 | AF51: 0 | AG51: 0 | AH51: 0 | AI51: 0 | AJ51: 0 | AK51: 0 | AL51: 0 | AM51: 0 | AN51: 0 | AO51: 0 | AP51: 0 | AQ51: 0 | AR51: 0 | AS51: 0 | AT51: 0 | AU51: 0 | AV51: 0 | AW51: 0 | AX51: 0 | AY51: 0 | AZ51: 0 | BA51: 0 | BB51: 0 | BC51: 0 | BD51: 0 | BE51: 0 | BF51: 0 | BG51: 0 | BH51: 2 | BI51: 0 | BJ51: 0 | BK51: 0 | BL51: 0 | BM51: 0 | BN51: 1 | BO51: 0 | BP51: 1 | BQ51: 0 | BR51: 0 | BS51: 2 | BT51: 2 | BU51: 0 | BV51: 0 | BW51: 0 | BX51: 0 | BY51: 0
B52: 南投縣 | C52: 計 Total | D52: 557 | E52: 450 | F52: 94 | G52: 3 | H52: 5 | I52: 1 | J52: 4 | K52: 557 | L52: 44 | M52: 49 | N52: 59 | O52: 34 | P52: 28 | Q52: 89 | R52: 84 | S52: 93 | T52: 77 | U52: 0 | V52: 557 | W52: 27 | X52: 107 | Y52: 128 | Z52: 146 | AA52: 29 | AB52: 44 | AC52: 3 | AD52: 12 | AE52: 1 | AF52: 60 | AG52: 557 | AH52: 3 | AI52: 60 | AJ52: 6 | AK52: 42 | AL52: 77 | AM52: 35 | AN52: 2 | AO52: 5 | AP52: 1 | AQ52: 0 | AR52: 46 | AS52: 56 | AT52: 44 | AU52: 5 | AV52: 175 | AW52: 557 | AX52: 489 | AY52: 6 | AZ52: 1 | BA52: 9 | BB52: 0 | BC52: 9 | BD52: 15 | BE52: 2 | BF52: 10 | BG52: 16 | BH52: 507 | BI52: 0 | BJ52: 0 | BK52: 7 | BL52: 25 | BM52: 30 | BN52: 124 | BO52: 136 | BP52: 135 | BQ52: 43 | BR52: 7 | BS52: 507 | BT52: 412 | BU52: 79 | BV52: 3 | BW52: 4 | BX52: 0 | BY52: 9
C53: 男 Male | D53: 200 | E53: 171 | F53: 27 | G53: 0 | H53: 0 | I53: 0 | J53: 2 | K53: 200 | L53: 29 | M53: 25 | N53: 25 | O53: 8 | P53: 7 | Q53: 21 | R53: 24 | S53: 28 | T53: 33 | U53: 0 | V53: 200 | W53: 16 | X53: 50 | Y53: 38 | Z53: 48 | AA53: 9 | AB53: 13 | AC53: 1 | AD53: 2 | AE53: 0 | AF53: 23 | AG53: 200 | AH53: 0 | AI53: 8 | AJ53: 2 | AK53: 16 | AL53: 32 | AM53: 14 | AN53: 1 | AO53: 0 | AP53: 0 | AQ53: 0 | AR53: 1 | AS53: 24 | AT53: 17 | AU53: 0 | AV53: 85 | AW53: 200 | AX53: 160 | AY53: 3 | AZ53: 0 | BA53: 6 | BB53: 0 | BC53: 4 | BD53: 10 | BE53: 1 | BF53: 6 | BG53: 10 | BH53: 382 | BI53: 0 | BJ53: 0 | BK53: 7 | BL53: 21 | BM53: 21 | BN53: 84 | BO53: 107 | BP53: 107 | BQ53: 30 | BR53: 5 | BS53: 382 | BT53: 315 | BU53: 62 | BV53: 0 | BW53: 0 | BX53: 0 | BY53: 5
B54: Nantou County | C54: 女 Female | D54: 357 | E54: 279 | F54: 67 | G54: 3 | H54: 5 | I54: 1 | J54: 2 | K54: 357 | L54: 15 | M54: 24 | N54: 34 | O54: 26 | P54: 21 | Q54: 68 | R54: 60 | S54: 65 | T54: 44 | U54: 0 | V54: 357 | W54: 11 | X54: 57 | Y54: 90 | Z54: 98 | AA54: 20 | AB54: 31 | AC54: 2 | AD54: 10 | AE54: 1 | AF54: 37 | AG54: 357 | AH54: 3 | AI54: 52 | AJ54: 4 | AK54: 26 | AL54: 45 | AM54: 21 | AN54: 1 | AO54: 5 | AP54: 1 | AQ54: 0 | AR54: 45 | AS54: 32 | AT54: 27 | AU54: 5 | AV54: 90 | AW54: 357 | AX54: 329 | AY54: 3 | AZ54: 1 | BA54: 3 | BB54: 0 | BC54: 5 | BD54: 5 | BE54: 1 | BF54: 4 | BG54: 6 | BH54: 124 | BI54: 0 | BJ54: 0 | BK54: 0 | BL54: 4 | BM54: 9 | BN54: 40 | BO54: 29 | BP54: 27 | BQ54: 13 | BR54: 2 | BS54: 124 | BT54: 96 | BU54: 17 | BV54: 3 | BW54: 4 | BX54: 0 | BY54: 4
C55: 其他 Other | D55: 0 | E55: 0 | F55: 0 | G55: 0 | H55: 0 | I55: 0 | J55: 0 | K55: 0 | L55: 0 | M55: 0 | N55: 0 | O55: 0 | P55: 0 | Q55: 0 | R55: 0 | S55: 0 | T55: 0 | U55: 0 | V55: 0 | W55: 0 | X55: 0 | Y55: 0 | Z55: 0 | AA55: 0 | AB55: 0 | AC55: 0 | AD55: 0 | AE55: 0 | AF55: 0 | AG55: 0 | AH55: 0 | AI55: 0 | AJ55: 0 | AK55: 0 | AL55: 0 | AM55: 0 | AN55: 0 | AO55: 0 | AP55: 0 | AQ55: 0 | AR55: 0 | AS55: 0 | AT55: 0 | AU55: 0 | AV55: 0 | AW55: 0 | AX55: 0 | AY55: 0 | AZ55: 0 | BA55: 0 | BB55: 0 | BC55: 0 | BD55: 0 | BE55: 0 | BF55: 0 | BG55: 0 | BH55: 1 | BI55: 0 | BJ55: 0 | BK55: 0 | BL55: 0 | BM55: 0 | BN55: 0 | BO55: 0 | BP55: 1 | BQ55: 0 | BR55: 0 | BS55: 1 | BT55: 1 | BU55: 0 | BV55: 0 | BW55: 0 | BX55: 0 | BY55: 0
B56: 雲林縣 | C56: 計 Total | D56: 627 | E56: 592 | F56: 9 | G56: 11 | H56: 7 | I56: 1 | J56: 7 | K56: 627 | L56: 31 | M56: 24 | N56: 29 | O56: 25 | P56: 54 | Q56: 138 | R56: 131 | S56: 123 | T56: 72 | U56: 0 | V56: 627 | W56: 27 | X56: 38 | Y56: 35 | Z56: 43 | AA56: 5 | AB56: 10 | AC56: 6 | AD56: 6 | AE56: 2 | AF56: 455 | AG56: 627 | AH56: 5 | AI56: 59 | AJ56: 13 | AK56: 39 | AL56: 50 | AM56: 14 | AN56: 3 | AO56: 3 | AP56: 0 | AQ56: 0 | AR56: 29 | AS56: 18 | AT56: 64 | AU56: 28 | AV56: 302 | AW56: 627 | AX56: 539 | AY56: 11 | AZ56: 2 | BA56: 20 | BB56: 3 | BC56: 11 | BD56: 24 | BE56: 5 | BF56: 9 | BG56: 3 | BH56: 581 | BI56: 0 | BJ56: 0 | BK56: 7 | BL56: 30 | BM56: 48 | BN56: 163 | BO56: 153 | BP56: 131 | BQ56: 41 | BR56: 8 | BS56: 581 | BT56: 563 | BU56: 6 | BV56: 3 | BW56: 1 | BX56: 1 | BY56: 7
C57: 男 Male | D57: 199 | E57: 193 | F57: 3 | G57: 0 | H57: 0 | I57: 1 | J57: 2 | K57: 199 | L57: 14 | M57: 10 | N57: 13 | O57: 6 | P57: 7 | Q57: 25 | R57: 38 | S57: 55 | T57: 31 | U57: 0 | V57: 199 | W57: 13 | X57: 15 | Y57: 11 | Z57: 14 | AA57: 0 | AB57: 0 | AC57: 1 | AD57: 1 | AE57: 0 | AF57: 144 | AG57: 199 | AH57: 1 | AI57: 8 | AJ57: 0 | AK57: 19 | AL57: 27 | AM57: 3 | AN57: 2 | AO57: 1 | AP57: 0 | AQ57: 0 | AR57: 0 | AS57: 11 | AT57: 22 | AU57: 6 | AV57: 99 | AW57: 199 | AX57: 160 | AY57: 0 | AZ57: 0 | BA57: 6 | BB57: 2 | BC57: 6 | BD57: 15 | BE57: 3 | BF57: 7 | BG57: 0 | BH57: 452 | BI57: 0 | BJ57: 0 | BK57: 5 | BL57: 23 | BM57: 40 | BN57: 122 | BO57: 124 | BP57: 101 | BQ57: 31 | BR57: 6 | BS57: 452 | BT57: 440 | BU57: 6 | BV57: 0 | BW57: 1 | BX57: 1 | BY57: 4
B58: Yunlin County | C58: 女 Female | D58: 428 | E58: 399 | F58: 6 | G58: 11 | H58: 7 | I58: 0 | J58: 5 | K58: 428 | L58: 17 | M58: 14 | N58: 16 | O58: 19 | P58: 47 | Q58: 113 | R58: 93 | S58: 68 | T58: 41 | U58: 0 | V58: 428 | W58: 14 | X58: 23 | Y58: 24 | Z58: 29 | AA58: 5 | AB58: 10 | AC58: 5 | AD58: 5 | AE58: 2 | AF58: 311 | AG58: 428 | AH58: 4 | AI58: 51 | AJ58: 13 | AK58: 20 | AL58: 23 | AM58: 11 | AN58: 1 | AO58: 2 | AP58: 0 | AQ58: 0 | AR58: 29 | AS58: 7 | AT58: 42 | AU58: 22 | AV58: 203 | AW58: 428 | AX58: 379 | AY58: 11 | AZ58: 2 | BA58: 14 | BB58: 1 | BC58: 5 | BD58: 9 | BE58: 2 | BF58: 2 | BG58: 3 | BH58: 127 | BI58: 0 | BJ58: 0 | BK58: 2 | BL58: 7 | BM58: 8 | BN58: 41 | BO58: 28 | BP58: 30 | BQ58: 10 | BR58: 1 | BS58: 127 | BT58: 122 | BU58: 0 | BV58: 3 | BW58: 0 | BX58: 0 | BY58: 2
C59: 其他 Other | D59: 0 | E59: 0 | F59: 0 | G59: 0 | H59: 0 | I59: 0 | J59: 0 | K59: 0 | L59: 0 | M59: 0 | N59: 0 | O59: 0 | P59: 0 | Q59: 0 | R59: 0 | S59: 0 | T59: 0 | U59: 0 | V59: 0 | W59: 0 | X59: 0 | Y59: 0 | Z59: 0 | AA59: 0 | AB59: 0 | AC59: 0 | AD59: 0 | AE59: 0 | AF59: 0 | AG59: 0 | AH59: 0 | AI59: 0 | AJ59: 0 | AK59: 0 | AL59: 0 | AM59: 0 | AN59: 0 | AO59: 0 | AP59: 0 | AQ59: 0 | AR59: 0 | AS59: 0 | AT59: 0 | AU59: 0 | AV59: 0 | AW59: 0 | AX59: 0 | AY59: 0 | AZ59: 0 | BA59: 0 | BB59: 0 | BC59: 0 | BD59: 0 | BE59: 0 | BF59: 0 | BG59: 0 | BH59: 2 | BI59: 0 | BJ59: 0 | BK59: 0 | BL59: 0 | BM59: 0 | BN59: 0 | BO59: 1 | BP59: 0 | BQ59: 0 | BR59: 1 | BS59: 2 | BT59: 1 | BU59: 0 | BV59: 0 | BW59: 0 | BX59: 0 | BY59: 1
B60: 嘉義縣 | C60: 計 Total | D60: 439 | E60: 425 | F60: 7 | G60: 2 | H60: 4 | I60: 0 | J60: 1 | K60: 439 | L60: 21 | M60: 16 | N60: 24 | O60: 23 | P60: 35 | Q60: 102 | R60: 70 | S60: 87 | T60: 61 | U60: 0 | V60: 439 | W60: 22 | X60: 56 | Y60: 79 | Z60: 113 | AA60: 13 | AB60: 20 | AC60: 2 | AD60: 9 | AE60: 0 | AF60: 125 | AG60: 439 | AH60: 3 | AI60: 42 | AJ60: 7 | AK60: 36 | AL60: 36 | AM60: 23 | AN60: 2 | AO60: 2 | AP60: 2 | AQ60: 0 | AR60: 45 | AS60: 33 | AT60: 35 | AU60: 41 | AV60: 132 | AW60: 439 | AX60: 390 | AY60: 11 | AZ60: 1 | BA60: 13 | BB60: 0 | BC60: 3 | BD60: 13 | BE60: 2 | BF60: 5 | BG60: 1 | BH60: 418 | BI60: 1 | BJ60: 0 | BK60: 15 | BL60: 17 | BM60: 34 | BN60: 94 | BO60: 96 | BP60: 114 | BQ60: 46 | BR60: 1 | BS60: 418 | BT60: 405 | BU60: 6 | BV60: 2 | BW60: 1 | BX60: 0 | BY60: 4
C61: 男 Male | D61: 152 | E61: 152 | F61: 0 | G61: 0 | H61: 0 | I61: 0 | J61: 0 | K61: 152 | L61: 10 | M61: 10 | N61: 11 | O61: 8 | P61: 13 | Q61: 29 | R61: 20 | S61: 27 | T61: 24 | U61: 0 | V61: 152 | W61: 11 | X61: 25 | Y61: 27 | Z61: 34 | AA61: 3 | AB61: 5 | AC61: 1 | AD61: 2 | AE61: 0 | AF61: 44 | AG61: 152 | AH61: 0 | AI61: 3 | AJ61: 4 | AK61: 16 | AL61: 20 | AM61: 4 | AN61: 0 | AO61: 0 | AP61: 0 | AQ61: 0 | AR61: 0 | AS61: 18 | AT61: 14 | AU61: 9 | AV61: 64 | AW61: 152 | AX61: 129 | AY61: 4 | AZ61: 0 | BA61: 6 | BB61: 0 | BC61: 1 | BD61: 7 | BE61: 1 | BF61: 4 | BG61: 0 | BH61: 336 | BI61: 1 | BJ61: 0 | BK61: 15 | BL61: 15 | BM61: 27 | BN61: 67 | BO61: 85 | BP61: 90 | BQ61: 36 | BR61: 0 | BS61: 336 | BT61: 328 | BU61: 5 | BV61: 0 | BW61: 0 | BX61: 0 | BY61: 3
B62: Chiayi County | C62: 女 Female | D62: 287 | E62: 273 | F62: 7 | G62: 2 | H62: 4 | I62: 0 | J62: 1 | K62: 287 | L62: 11 | M62: 6 | N62: 13 | O62: 15 | P62: 22 | Q62: 73 | R62: 50 | S62: 60 | T62: 37 | U62: 0 | V62: 287 | W62: 11 | X62: 31 | Y62: 52 | Z62: 79 | AA62: 10 | AB62: 15 | AC62: 1 | AD62: 7 | AE62: 0 | AF62: 81 | AG62: 287 | AH62: 3 | AI62: 39 | AJ62: 3 | AK62: 20 | AL62: 16 | AM62: 19 | AN62: 2 | AO62: 2 | AP62: 2 | AQ62: 0 | AR62: 45 | AS62: 15 | AT62: 21 | AU62: 32 | AV62: 68 | AW62: 287 | AX62: 261 | AY62: 7 | AZ62: 1 | BA62: 7 | BB62: 0 | BC62: 2 | BD62: 6 | BE62: 1 | BF62: 1 | BG62: 1 | BH62: 81 | BI62: 0 | BJ62: 0 | BK62: 0 | BL62: 2 | BM62: 7 | BN62: 27 | BO62: 11 | BP62: 24 | BQ62: 10 | BR62: 0 | BS62: 81 | BT62: 77 | BU62: 1 | BV62: 2 | BW62: 1 | BX62: 0 | BY62: 0
C63: 其他 Other | D63: 0 | E63: 0 | F63: 0 | G63: 0 | H63: 0 | I63: 0 | J63: 0 | K63: 0 | L63: 0 | M63: 0 | N63: 0 | O63: 0 | P63: 0 | Q63: 0 | R63: 0 | S63: 0 | T63: 0 | U63: 0 | V63: 0 | W63: 0 | X63: 0 | Y63: 0 | Z63: 0 | AA63: 0 | AB63: 0 | AC63: 0 | AD63: 0 | AE63: 0 | AF63: 0 | AG63: 0 | AH63: 0 | AI63: 0 | AJ63: 0 | AK63: 0 | AL63: 0 | AM63: 0 | AN63: 0 | AO63: 0 | AP63: 0 | AQ63: 0 | AR63: 0 | AS63: 0 | AT63: 0 | AU63: 0 | AV63: 0 | AW63: 0 | AX63: 0 | AY63: 0 | AZ63: 0 | BA63: 0 | BB63: 0 | BC63: 0 | BD63: 0 | BE63: 0 | BF63: 0 | BG63: 0 | BH63: 1 | BI63: 0 | BJ63: 0 | BK63: 0 | BL63: 0 | BM63: 0 | BN63: 0 | BO63: 0 | BP63: 0 | BQ63: 0 | BR63: 1 | BS63: 1 | BT63: 0 | BU63: 0 | BV63: 0 | BW63: 0 | BX63: 0 | BY63: 1
B64: 屏東縣 | C64: 計 Total | D64: 867 | E64: 738 | F64: 90 | G64: 6 | H64: 9 | I64: 0 | J64: 24 | K64: 867 | L64: 60 | M64: 60 | N64: 74 | O64: 38 | P64: 72 | Q64: 175 | R64: 135 | S64: 164 | T64: 89 | U64: 0 | V64: 867 | W64: 48 | X64: 116 | Y64: 192 | Z64: 205 | AA64: 33 | AB64: 49 | AC64: 2 | AD64: 13 | AE64: 0 | AF64: 209 | AG64: 867 | AH64: 12 | AI64: 124 | AJ64: 26 | AK64: 45 | AL64: 32 | AM64: 23 | AN64: 4 | AO64: 5 | AP64: 3 | AQ64: 1 | AR64: 67 | AS64: 39 | AT64: 87 | AU64: 46 | AV64: 353 | AW64: 867 | AX64: 780 | AY64: 9 | AZ64: 4 | BA64: 18 | BB64: 0 | BC64: 2 | BD64: 26 | BE64: 5 | BF64: 7 | BG64: 16 | BH64: 822 | BI64: 2 | BJ64: 0 | BK64: 15 | BL64: 29 | BM64: 76 | BN64: 193 | BO64: 243 | BP64: 185 | BQ64: 68 | BR64: 11 | BS64: 822 | BT64: 707 | BU64: 79 | BV64: 1 | BW64: 4 | BX64: 1 | BY64: 30
C65: 男 Male | D65: 272 | E65: 241 | F65: 26 | G65: 0 | H65: 1 | I65: 0 | J65: 4 | K65: 272 | L65: 31 | M65: 28 | N65: 36 | O65: 10 | P65: 14 | Q65: 34 | R65: 35 | S65: 51 | T65: 33 | U65: 0 | V65: 272 | W65: 22 | X65: 47 | Y65: 63 | Z65: 50 | AA65: 12 | AB65: 11 | AC65: 0 | AD65: 2 | AE65: 0 | AF65: 65 | AG65: 272 | AH65: 1 | AI65: 21 | AJ65: 8 | AK65: 17 | AL65: 20 | AM65: 4 | AN65: 2 | AO65: 2 | AP65: 2 | AQ65: 1 | AR65: 1 | AS65: 18 | AT65: 21 | AU65: 9 | AV65: 145 | AW65: 272 | AX65: 233 | AY65: 3 | AZ65: 2 | BA65: 6 | BB65: 0 | BC65: 1 | BD65: 10 | BE65: 3 | BF65: 5 | BG65: 9 | BH65: 633 | BI65: 2 | BJ65: 0 | BK65: 13 | BL65: 19 | BM65: 52 | BN65: 150 | BO65: 194 | BP65: 141 | BQ65: 58 | BR65: 4 | BS65: 633 | BT65: 550 | BU65: 62 | BV65: 0 | BW65: 1 | BX65: 1 | BY65: 19
B66: Pingtung County | C66: 女 Female | D66: 592 | E66: 497 | F66: 63 | G66: 6 | H66: 8 | I66: 0 | J66: 18 | K66: 592 | L66: 27 | M66: 32 | N66: 37 | O66: 28 | P66: 58 | Q66: 141 | R66: 100 | S66: 113 | T66: 56 | U66: 0 | V66: 592 | W66: 25 | X66: 68 | Y66: 128 | Z66: 155 | AA66: 21 | AB66: 38 | AC66: 2 | AD66: 11 | AE66: 0 | AF66: 144 | AG66: 592 | AH66: 11 | AI66: 103 | AJ66: 18 | AK66: 28 | AL66: 12 | AM66: 19 | AN66: 2 | AO66: 3 | AP66: 1 | AQ66: 0 | AR66: 66 | AS66: 21 | AT66: 66 | AU66: 37 | AV66: 205 | AW66: 592 | AX66: 545 | AY66: 6 | AZ66: 2 | BA66: 12 | BB66: 0 | BC66: 1 | BD66: 16 | BE66: 2 | BF66: 2 | BG66: 6 | BH66: 186 | BI66: 0 | BJ66: 0 | BK66: 2 | BL66: 10 | BM66: 24 | BN66: 42 | BO66: 49 | BP66: 44 | BQ66: 10 | BR66: 5 | BS66: 186 | BT66: 156 | BU66: 17 | BV66: 1 | BW66: 3 | BX66: 0 | BY66: 9
C67: 其他 Other | D67: 3 | E67: 0 | F67: 1 | G67: 0 | H67: 0 | I67: 0 | J67: 2 | K67: 3 | L67: 2 | M67: 0 | N67: 1 | O67: 0 | P67: 0 | Q67: 0 | R67: 0 | S67: 0 | T67: 0 | U67: 0 | V67: 3 | W67: 1 | X67: 1 | Y67: 1 | Z67: 0 | AA67: 0 | AB67: 0 | AC67: 0 | AD67: 0 | AE67: 0 | AF67: 0 | AG67: 3 | AH67: 0 | AI67: 0 | AJ67: 0 | AK67: 0 | AL67: 0 | AM67: 0 | AN67: 0 | AO67: 0 | AP67: 0 | AQ67: 0 | AR67: 0 | AS67: 0 | AT67: 0 | AU67: 0 | AV67: 3 | AW67: 3 | AX67: 2 | AY67: 0 | AZ67: 0 | BA67: 0 | BB67: 0 | BC67: 0 | BD67: 0 | BE67: 0 | BF67: 0 | BG67: 1 | BH67: 3 | BI67: 0 | BJ67: 0 | BK67: 0 | BL67: 0 | BM67: 0 | BN67: 1 | BO67: 0 | BP67: 0 | BQ67: 0 | BR67: 2 | BS67: 3 | BT67: 1 | BU67: 0 | BV67: 0 | BW67: 0 | BX67: 0 | BY67: 2
B68: 臺東縣 | C68: 計 Total | D68: 333 | E68: 182 | F68: 147 | G68: 3 | H68: 0 | I68: 0 | J68: 1 | K68: 333 | L68: 26 | M68: 25 | N68: 10 | O68: 22 | P68: 30 | Q68: 57 | R68: 61 | S68: 66 | T68: 36 | U68: 0 | V68: 333 | W68: 25 | X68: 50 | Y68: 54 | Z68: 62 | AA68: 7 | AB68: 12 | AC68: 1 | AD68: 7 | AE68: 0 | AF68: 115 | AG68: 333 | AH68: 2 | AI68: 40 | AJ68: 10 | AK68: 28 | AL68: 34 | AM68: 4 | AN68: 3 | AO68: 0 | AP68: 3 | AQ68: 1 | AR68: 18 | AS68: 11 | AT68: 35 | AU68: 13 | AV68: 131 | AW68: 333 | AX68: 292 | AY68: 10 | AZ68: 2 | BA68: 8 | BB68: 0 | BC68: 3 | BD68: 9 | BE68: 4 | BF68: 4 | BG68: 1 | BH68: 336 | BI68: 0 | BJ68: 3 | BK68: 5 | BL68: 17 | BM68: 42 | BN68: 80 | BO68: 80 | BP68: 70 | BQ68: 37 | BR68: 2 | BS68: 336 | BT68: 193 | BU68: 139 | BV68: 0 | BW68: 0 | BX68: 0 | BY68: 4
C69: 男 Male | D69: 128 | E69: 76 | F69: 52 | G69: 0 | H69: 0 | I69: 0 | J69: 0 | K69: 128 | L69: 17 | M69: 14 | N69: 6 | O69: 10 | P69: 9 | Q69: 14 | R69: 18 | S69: 25 | T69: 15 | U69: 0 | V69: 128 | W69: 16 | X69: 19 | Y69: 22 | Z69: 19 | AA69: 2 | AB69: 3 | AC69: 0 | AD69: 2 | AE69: 0 | AF69: 45 | AG69: 128 | AH69: 1 | AI69: 9 | AJ69: 4 | AK69: 10 | AL69: 18 | AM69: 1 | AN69: 1 | AO69: 0 | AP69: 2 | AQ69: 1 | AR69: 0 | AS69: 4 | AT69: 11 | AU69: 2 | AV69: 64 | AW69: 128 | AX69: 113 | AY69: 2 | AZ69: 1 | BA69: 2 | BB69: 0 | BC69: 3 | BD69: 2 | BE69: 2 | BF69: 2 | BG69: 1 | BH69: 248 | BI69: 0 | BJ69: 3 | BK69: 4 | BL69: 13 | BM69: 30 | BN69: 57 | BO69: 60 | BP69: 55 | BQ69: 24 | BR69: 2 | BS69: 248 | BT69: 141 | BU69: 104 | BV69: 0 | BW69: 0 | BX69: 0 | BY69: 3
B70: Taitung County | C70: 女 Female | D70: 205 | E70: 106 | F70: 95 | G70: 3 | H70: 0 | I70: 0 | J70: 1 | K70: 205 | L70: 9 | M70: 11 | N70: 4 | O70: 12 | P70: 21 | Q70: 43 | R70: 43 | S70: 41 | T70: 21 | U70: 0 | V70: 205 | W70: 9 | X70: 31 | Y70: 32 | Z70: 43 | AA70: 5 | AB70: 9 | AC70: 1 | AD70: 5 | AE70: 0 | AF70: 70 | AG70: 205 | AH70: 1 | AI70: 31 | AJ70: 6 | AK70: 18 | AL70: 16 | AM70: 3 | AN70: 2 | AO70: 0 | AP70: 1 | AQ70: 0 | AR70: 18 | AS70: 7 | AT70: 24 | AU70: 11 | AV70: 67 | AW70: 205 | AX70: 179 | AY70: 8 | AZ70: 1 | BA70: 6 | BB70: 0 | BC70: 0 | BD70: 7 | BE70: 2 | BF70: 2 | BG70: 0 | BH70: 88 | BI70: 0 | BJ70: 0 | BK70: 1 | BL70: 4 | BM70: 12 | BN70: 23 | BO70: 20 | BP70: 15 | BQ70: 13 | BR70: 0 | BS70: 88 | BT70: 52 | BU70: 35 | BV70: 0 | BW70: 0 | BX70: 0 | BY70: 1
C71: 其他 Other | D71: 0 | E71: 0 | F71: 0 | G71: 0 | H71: 0 | I71: 0 | J71: 0 | K71: 0 | L71: 0 | M71: 0 | N71: 0 | O71: 0 | P71: 0 | Q71: 0 | R71: 0 | S71: 0 | T71: 0 | U71: 0 | V71: 0 | W71: 0 | X71: 0 | Y71: 0 | Z71: 0 | AA71: 0 | AB71: 0 | AC71: 0 | AD71: 0 | AE71: 0 | AF71: 0 | AG71: 0 | AH71: 0 | AI71: 0 | AJ71: 0 | AK71: 0 | AL71: 0 | AM71: 0 | AN71: 0 | AO71: 0 | AP71: 0 | AQ71: 0 | AR71: 0 | AS71: 0 | AT71: 0 | AU71: 0 | AV71: 0 | AW71: 0 | AX71: 0 | AY71: 0 | AZ71: 0 | BA71: 0 | BB71: 0 | BC71: 0 | BD71: 0 | BE71: 0 | BF71: 0 | BG71: 0 | BH71: 0 | BI71: 0 | BJ71: 0 | BK71: 0 | BL71: 0 | BM71: 0 | BN71: 0 | BO71: 0 | BP71: 0 | BQ71: 0 | BR71: 0 | BS71: 0 | BT71: 0 | BU71: 0 | BV71: 0 | BW71: 0 | BX71: 0 | BY71: 0
B72: 花蓮縣 | C72: 計 Total | D72: 415 | E72: 211 | F72: 191 | G72: 1 | H72: 4 | I72: 1 | J72: 7 | K72: 415 | L72: 19 | M72: 18 | N72: 25 | O72: 28 | P72: 38 | Q72: 88 | R72: 73 | S72: 91 | T72: 35 | U72: 0 | V72: 415 | W72: 17 | X72: 26 | Y72: 29 | Z72: 42 | AA72: 9 | AB72: 18 | AC72: 0 | AD72: 2 | AE72: 0 | AF72: 272 | AG72: 415 | AH72: 8 | AI72: 67 | AJ72: 16 | AK72: 12 | AL72: 10 | AM72: 10 | AN72: 2 | AO72: 4 | AP72: 2 | AQ72: 0 | AR72: 44 | AS72: 16 | AT72: 53 | AU72: 11 | AV72: 160 | AW72: 415 | AX72: 357 | AY72: 9 | AZ72: 1 | BA72: 16 | BB72: 0 | BC72: 2 | BD72: 16 | BE72: 6 | BF72: 2 | BG72: 6 | BH72: 399 | BI72: 0 | BJ72: 1 | BK72: 9 | BL72: 23 | BM72: 40 | BN72: 87 | BO72: 94 | BP72: 94 | BQ72: 22 | BR72: 29 | BS72: 399 | BT72: 204 | BU72: 163 | BV72: 0 | BW72: 0 | BX72: 0 | BY72: 32
C73: 男 Male | D73: 114 | E73: 54 | F73: 57 | G73: 0 | H73: 0 | I73: 0 | J73: 3 | K73: 114 | L73: 11 | M73: 13 | N73: 11 | O73: 7 | P73: 11 | Q73: 21 | R73: 15 | S73: 18 | T73: 7 | U73: 0 | V73: 114 | W73: 9 | X73: 14 | Y73: 9 | Z73: 12 | AA73: 0 | AB73: 2 | AC73: 0 | AD73: 0 | AE73: 0 | AF73: 68 | AG73: 114 | AH73: 1 | AI73: 7 | AJ73: 6 | AK73: 3 | AL73: 4 | AM73: 2 | AN73: 1 | AO73: 0 | AP73: 1 | AQ73: 0 | AR73: 0 | AS73: 5 | AT73: 9 | AU73: 2 | AV73: 73 | AW73: 114 | AX73: 102 | AY73: 2 | AZ73: 0 | BA73: 4 | BB73: 0 | BC73: 0 | BD73: 4 | BE73: 1 | BF73: 1 | BG73: 0 | BH73: 313 | BI73: 0 | BJ73: 1 | BK73: 6 | BL73: 17 | BM73: 28 | BN73: 62 | BO73: 80 | BP73: 81 | BQ73: 19 | BR73: 19 | BS73: 313 | BT73: 168 | BU73: 121 | BV73: 0 | BW73: 0 | BX73: 0 | BY73: 24
B74: Hualien County | C74: 女 Female | D74: 301 | E74: 157 | F74: 134 | G74: 1 | H74: 4 | I74: 1 | J74: 4 | K74: 301 | L74: 8 | M74: 5 | N74: 14 | O74: 21 | P74: 27 | Q74: 67 | R74: 58 | S74: 73 | T74: 28 | U74: 0 | V74: 301 | W74: 8 | X74: 12 | Y74: 20 | Z74: 30 | AA74: 9 | AB74: 16 | AC74: 0 | AD74: 2 | AE74: 0 | AF74: 204 | AG74: 301 | AH74: 7 | AI74: 60 | AJ74: 10 | AK74: 9 | AL74: 6 | AM74: 8 | AN74: 1 | AO74: 4 | AP74: 1 | AQ74: 0 | AR74: 44 | AS74: 11 | AT74: 44 | AU74: 9 | AV74: 87 | AW74: 301 | AX74: 255 | AY74: 7 | AZ74: 1 | BA74: 12 | BB74: 0 | BC74: 2 | BD74: 12 | BE74: 5 | BF74: 1 | BG74: 6 | BH74: 85 | BI74: 0 | BJ74: 0 | BK74: 3 | BL74: 6 | BM74: 12 | BN74: 25 | BO74: 14 | BP74: 13 | BQ74: 3 | BR74: 9 | BS74: 85 | BT74: 36 | BU74: 42 | BV74: 0 | BW74: 0 | BX74: 0 | BY74: 7
C75: 其他 Other | D75: 0 | E75: 0 | F75: 0 | G75: 0 | H75: 0 | I75: 0 | J75: 0 | K75: 0 | L75: 0 | M75: 0 | N75: 0 | O75: 0 | P75: 0 | Q75: 0 | R75: 0 | S75: 0 | T75: 0 | U75: 0 | V75: 0 | W75: 0 | X75: 0 | Y75: 0 | Z75: 0 | AA75: 0 | AB75: 0 | AC75: 0 | AD75: 0 | AE75: 0 | AF75: 0 | AG75: 0 | AH75: 0 | AI75: 0 | AJ75: 0 | AK75: 0 | AL75: 0 | AM75: 0 | AN75: 0 | AO75: 0 | AP75: 0 | AQ75: 0 | AR75: 0 | AS75: 0 | AT75: 0 | AU75: 0 | AV75: 0 | AW75: 0 | AX75: 0 | AY75: 0 | AZ75: 0 | BA75: 0 | BB75: 0 | BC75: 0 | BD75: 0 | BE75: 0 | BF75: 0 | BG75: 0 | BH75: 1 | BI75: 0 | BJ75: 0 | BK75: 0 | BL75: 0 | BM75: 0 | BN75: 0 | BO75: 0 | BP75: 0 | BQ75: 0 | BR75: 1 | BS75: 1 | BT75: 0 | BU75: 0 | BV75: 0 | BW75: 0 | BX75: 0 | BY75: 1
A76: Penghu County | B76: 澎湖縣 | C76: 計 Total | D76: 68 | E76: 64 | F76: 1 | G76: 0 | H76: 2 | I76: 0 | J76: 1 | K76: 68 | L76: 1 | M76: 3 | N76: 6 | O76: 4 | P76: 2 | Q76: 14 | R76: 14 | S76: 20 | T76: 4 | U76: 0 | V76: 68 | W76: 1 | X76: 4 | Y76: 13 | Z76: 21 | AA76: 3 | AB76: 9 | AC76: 0 | AD76: 2 | AE76: 0 | AF76: 15 | AG76: 68 | AH76: 1 | AI76: 11 | AJ76: 2 | AK76: 1 | AL76: 3 | AM76: 6 | AN76: 2 | AO76: 0 | AP76: 0 | AQ76: 1 | AR76: 5 | AS76: 4 | AT76: 7 | AU76: 12 | AV76: 13 | AW76: 68 | AX76: 58 | AY76: 2 | AZ76: 0 | BA76: 3 | BB76: 0 | BC76: 0 | BD76: 2 | BE76: 1 | BF76: 0 | BG76: 2 | BH76: 63 | BI76: 0 | BJ76: 0 | BK76: 1 | BL76: 1 | BM76: 3 | BN76: 13 | BO76: 14 | BP76: 21 | BQ76: 9 | BR76: 1 | BS76: 63 | BT76: 60 | BU76: 0 | BV76: 0 | BW76: 1 | BX76: 0 | BY76: 2
C77: 男 Male | D77: 23 | E77: 23 | F77: 0 | G77: 0 | H77: 0 | I77: 0 | J77: 0 | K77: 23 | L77: 0 | M77: 1 | N77: 1 | O77: 1 | P77: 1 | Q77: 5 | R77: 5 | S77: 8 | T77: 1 | U77: 0 | V77: 23 | W77: 0 | X77: 1 | Y77: 5 | Z77: 6 | AA77: 3 | AB77: 6 | AC77: 0 | AD77: 0 | AE77: 0 | AF77: 2 | AG77: 23 | AH77: 1 | AI77: 3 | AJ77: 1 | AK77: 1 | AL77: 2 | AM77: 1 | AN77: 2 | AO77: 0 | AP77: 0 | AQ77: 1 | AR77: 0 | AS77: 1 | AT77: 3 | AU77: 4 | AV77: 3 | AW77: 23 | AX77: 20 | AY77: 1 | AZ77: 0 | BA77: 0 | BB77: 0 | BC77: 0 | BD77: 2 | BE77: 0 | BF77: 0 | BG77: 0 | BH77: 50 | BI77: 0 | BJ77: 0 | BK77: 1 | BL77: 1 | BM77: 3 | BN77: 10 | BO77: 11 | BP77: 15 | BQ77: 8 | BR77: 1 | BS77: 50 | BT77: 48 | BU77: 0 | BV77: 0 | BW77: 0 | BX77: 0 | BY77: 2
B78: Penghu County | C78: 女 Female | D78: 44 | E78: 40 | F78: 1 | G78: 0 | H78: 2 | I78: 0 | J78: 1 | K78: 44 | L78: 1 | M78: 2 | N78: 4 | O78: 3 | P78: 1 | Q78: 9 | R78: 9 | S78: 12 | T78: 3 | U78: 0 | V78: 44 | W78: 1 | X78: 3 | Y78: 7 | Z78: 15 | AA78: 0 | AB78: 3 | AC78: 0 | AD78: 2 | AE78: 0 | AF78: 13 | AG78: 44 | AH78: 0 | AI78: 8 | AJ78: 1 | AK78: 0 | AL78: 1 | AM78: 5 | AN78: 0 | AO78: 0 | AP78: 0 | AQ78: 0 | AR78: 5 | AS78: 3 | AT78: 4 | AU78: 8 | AV78: 9 | AW78: 44 | AX78: 38 | AY78: 1 | AZ78: 0 | BA78: 3 | BB78: 0 | BC78: 0 | BD78: 0 | BE78: 1 | BF78: 0 | BG78: 1 | BH78: 13 | BI78: 0 | BJ78: 0 | BK78: 0 | BL78: 0 | BM78: 0 | BN78: 3 | BO78: 3 | BP78: 6 | BQ78: 1 | BR78: 0 | BS78: 13 | BT78: 12 | BU78: 0 | BV78: 0 | BW78: 1 | BX78: 0 | BY78: 0
C79: 其他 Other | D79: 1 | E79: 1 | F79: 0 | G79: 0 | H79: 0 | I79: 0 | J79: 0 | K79: 1 | L79: 0 | M79: 0 | N79: 1 | O79: 0 | P79: 0 | Q79: 0 | R79: 0 | S79: 0 | T79: 0 | U79: 0 | V79: 1 | W79: 0 | X79: 0 | Y79: 1 | Z79: 0 | AA79: 0 | AB79: 0 | AC79: 0 | AD79: 0 | AE79: 0 | AF79: 0 | AG79: 1 | AH79: 0 | AI79: 0 | AJ79: 0 | AK79: 0 | AL79: 0 | AM79: 0 | AN79: 0 | AO79: 0 | AP79: 0 | AQ79: 0 | AR79: 0 | AS79: 0 | AT79: 0 | AU79: 0 | AV79: 1 | AW79: 1 | AX79: 0 | AY79: 0 | AZ79: 0 | BA79: 0 | BB79: 0 | BC79: 0 | BD79: 0 | BE79: 0 | BF79: 0 | BG79: 1 | BH79: 0 | BI79: 0 | BJ79: 0 | BK79: 0 | BL79: 0 | BM79: 0 | BN79: 0 | BO79: 0 | BP79: 0 | BQ79: 0 | BR79: 0 | BS79: 0 | BT79: 0 | BU79: 0 | BV79: 0 | BW79: 0 | BX79: 0 | BY79: 0
B80: 基隆市 | C80: 計 Total | D80: 403 | E80: 375 | F80: 17 | G80: 0 | H80: 4 | I80: 0 | J80: 7 | K80: 403 | L80: 28 | M80: 21 | N80: 25 | O80: 21 | P80: 28 | Q80: 84 | R80: 78 | S80: 83 | T80: 35 | U80: 0 | V80: 403 | W80: 10 | X80: 21 | Y80: 23 | Z80: 29 | AA80: 14 | AB80: 19 | AC80: 7 | AD80: 3 | AE80: 0 | AF80: 277 | AG80: 403 | AH80: 7 | AI80: 64 | AJ80: 8 | AK80: 0 | AL80: 28 | AM80: 15 | AN80: 6 | AO80: 6 | AP80: 2 | AQ80: 1 | AR80: 33 | AS80: 17 | AT80: 32 | AU80: 22 | AV80: 162 | AW80: 403 | AX80: 360 | AY80: 5 | AZ80: 1 | BA80: 13 | BB80: 0 | BC80: 2 | BD80: 3 | BE80: 0 | BF80: 4 | BG80: 15 | BH80: 389 | BI80: 0 | BJ80: 2 | BK80: 9 | BL80: 12 | BM80: 38 | BN80: 89 | BO80: 106 | BP80: 102 | BQ80: 24 | BR80: 7 | BS80: 389 | BT80: 363 | BU80: 14 | BV80: 1 | BW80: 3 | BX80: 0 | BY80: 8
C81: 男 Male | D81: 141 | E81: 135 | F81: 3 | G81: 0 | H81: 1 | I81: 0 | J81: 2 | K81: 141 | L81: 13 | M81: 14 | N81: 12 | O81: 10 | P81: 8 | Q81: 20 | R81: 23 | S81: 28 | T81: 13 | U81: 0 | V81: 141 | W81: 4 | X81: 12 | Y81: 8 | Z81: 7 | AA81: 4 | AB81: 7 | AC81: 5 | AD81: 0 | AE81: 0 | AF81: 94 | AG81: 141 | AH81: 3 | AI81: 17 | AJ81: 1 | AK81: 0 | AL81: 18 | AM81: 4 | AN81: 4 | AO81: 2 | AP81: 1 | AQ81: 1 | AR81: 0 | AS81: 8 | AT81: 7 | AU81: 8 | AV81: 67 | AW81: 141 | AX81: 123 | AY81: 0 | AZ81: 1 | BA81: 4 | BB81: 0 | BC81: 0 | BD81: 2 | BE81: 0 | BF81: 2 | BG81: 9 | BH81: 285 | BI81: 0 | BJ81: 2 | BK81: 8 | BL81: 8 | BM81: 24 | BN81: 66 | BO81: 76 | BP81: 80 | BQ81: 17 | BR81: 4 | BS81: 285 | BT81: 264 | BU81: 14 | BV81: 0 | BW81: 2 | BX81: 0 | BY81: 5
B82: Keelung City | C82: 女 Female | D82: 261 | E82: 239 | F82: 14 | G82: 0 | H82: 3 | I82: 0 | J82: 5 | K82: 261 | L82: 14 | M82: 7 | N82: 13 | O82: 11 | P82: 20 | Q82: 64 | R82: 55 | S82: 55 | T82: 22 | U82: 0 | V82: 261 | W82: 5 | X82: 9 | Y82: 15 | Z82: 22 | AA82: 10 | AB82: 12 | AC82: 2 | AD82: 3 | AE82: 0 | AF82: 183 | AG82: 261 | AH82: 4 | AI82: 47 | AJ82: 7 | AK82: 0 | AL82: 10 | AM82: 11 | AN82: 2 | AO82: 4 | AP82: 1 | AQ82: 0 | AR82: 33 | AS82: 9 | AT82: 25 | AU82: 14 | AV82: 94 | AW82: 261 | AX82: 236 | AY82: 5 | AZ82: 0 | BA82: 9 | BB82: 0 | BC82: 2 | BD82: 1 | BE82: 0 | BF82: 2 | BG82: 6 | BH82: 103 | BI82: 0 | BJ82: 0 | BK82: 1 | BL82: 4 | BM82: 14 | BN82: 22 | BO82: 30 | BP82: 22 | BQ82: 7 | BR82: 3 | BS82: 103 | BT82: 98 | BU82: 0 | BV82: 1 | BW82: 1 | BX82: 0 | BY82: 3
C83: 其他 Other | D83: 1 | E83: 1 | F83: 0 | G83: 0 | H83: 0 | I83: 0 | J83: 0 | K83: 1 | L83: 1 | M83: 0 | N83: 0 | O83: 0 | P83: 0 | Q83: 0 | R83: 0 | S83: 0 | T83: 0 | U83: 0 | V83: 1 | W83: 1 | X83: 0 | Y83: 0 | Z83: 0 | AA83: 0 | AB83: 0 | AC83: 0 | AD83: 0 | AE83: 0 | AF83: 0 | AG83: 1 | AH83: 0 | AI83: 0 | AJ83: 0 | AK83: 0 | AL83: 0 | AM83: 0 | AN83: 0 | AO83: 0 | AP83: 0 | AQ83: 0 | AR83: 0 | AS83: 0 | AT83: 0 | AU83: 0 | AV83: 1 | AW83: 1 | AX83: 1 | AY83: 0 | AZ83: 0 | BA83: 0 | BB83: 0 | BC83: 0 | BD83: 0 | BE83: 0 | BF83: 0 | BG83: 0 | BH83: 1 | BI83: 0 | BJ83: 0 | BK83: 0 | BL83: 0 | BM83: 0 | BN83: 1 | BO83: 0 | BP83: 0 | BQ83: 0 | BR83: 0 | BS83: 1 | BT83: 1 | BU83: 0 | BV83: 0 | BW83: 0 | BX83: 0 | BY83: 0
B84: 新竹市 | C84: 計 Total | D84: 381 | E84: 344 | F84: 15 | G84: 6 | H84: 8 | I84: 0 | J84: 8 | K84: 381 | L84: 19 | M84: 15 | N84: 8 | O84: 34 | P84: 37 | Q84: 89 | R84: 86 | S84: 56 | T84: 37 | U84: 0 | V84: 381 | W84: 10 | X84: 19 | Y84: 23 | Z84: 22 | AA84: 6 | AB84: 30 | AC84: 7 | AD84: 1 | AE84: 1 | AF84: 262 | AG84: 381 | AH84: 10 | AI84: 72 | AJ84: 31 | AK84: 3 | AL84: 9 | AM84: 12 | AN84: 3 | AO84: 4 | AP84: 0 | AQ84: 0 | AR84: 38 | AS84: 21 | AT84: 40 | AU84: 14 | AV84: 124 | AW84: 381 | AX84: 343 | AY84: 5 | AZ84: 0 | BA84: 8 | BB84: 0 | BC84: 3 | BD84: 9 | BE84: 4 | BF84: 0 | BG84: 9 | BH84: 384 | BI84: 0 | BJ84: 1 | BK84: 8 | BL84: 19 | BM84: 36 | BN84: 95 | BO84: 106 | BP84: 93 | BQ84: 17 | BR84: 9 | BS84: 384 | BT84: 345 | BU84: 16 | BV84: 3 | BW84: 5 | BX84: 0 | BY84: 15
C85: 男 Male | D85: 90 | E85: 84 | F85: 2 | G85: 0 | H85: 2 | I85: 0 | J85: 2 | K85: 90 | L85: 10 | M85: 7 | N85: 2 | O85: 7 | P85: 7 | Q85: 15 | R85: 19 | S85: 13 | T85: 10 | U85: 0 | V85: 90 | W85: 6 | X85: 6 | Y85: 3 | Z85: 4 | AA85: 0 | AB85: 7 | AC85: 2 | AD85: 1 | AE85: 0 | AF85: 61 | AG85: 90 | AH85: 4 | AI85: 14 | AJ85: 14 | AK85: 2 | AL85: 4 | AM85: 2 | AN85: 0 | AO85: 2 | AP85: 0 | AQ85: 0 | AR85: 1 | AS85: 6 | AT85: 6 | AU85: 1 | AV85: 34 | AW85: 90 | AX85: 79 | AY85: 2 | AZ85: 0 | BA85: 2 | BB85: 0 | BC85: 1 | BD85: 3 | BE85: 1 | BF85: 0 | BG85: 2 | BH85: 289 | BI85: 0 | BJ85: 1 | BK85: 4 | BL85: 12 | BM85: 27 | BN85: 71 | BO85: 80 | BP85: 75 | BQ85: 13 | BR85: 6 | BS85: 289 | BT85: 260 | BU85: 13 | BV85: 0 | BW85: 5 | BX85: 0 | BY85: 11
B86: Hsinchu City | C86: 女 Female | D86: 291 | E86: 260 | F86: 13 | G86: 6 | H86: 6 | I86: 0 | J86: 6 | K86: 291 | L86: 9 | M86: 8 | N86: 6 | O86: 27 | P86: 30 | Q86: 74 | R86: 67 | S86: 43 | T86: 27 | U86: 0 | V86: 291 | W86: 4 | X86: 13 | Y86: 20 | Z86: 18 | AA86: 6 | AB86: 23 | AC86: 5 | AD86: 0 | AE86: 1 | AF86: 201 | AG86: 291 | AH86: 6 | AI86: 58 | AJ86: 17 | AK86: 1 | AL86: 5 | AM86: 10 | AN86: 3 | AO86: 2 | AP86: 0 | AQ86: 0 | AR86: 37 | AS86: 15 | AT86: 34 | AU86: 13 | AV86: 90 | AW86: 291 | AX86: 264 | AY86: 3 | AZ86: 0 | BA86: 6 | BB86: 0 | BC86: 2 | BD86: 6 | BE86: 3 | BF86: 0 | BG86: 7 | BH86: 94 | BI86: 0 | BJ86: 0 | BK86: 4 | BL86: 7 | BM86: 9 | BN86: 23 | BO86: 26 | BP86: 18 | BQ86: 4 | BR86: 3 | BS86: 94 | BT86: 84 | BU86: 3 | BV86: 3 | BW86: 0 | BX86: 0 | BY86: 4
C87: 其他 Other | D87: 0 | E87: 0 | F87: 0 | G87: 0 | H87: 0 | I87: 0 | J87: 0 | K87: 0 | L87: 0 | M87: 0 | N87: 0 | O87: 0 | P87: 0 | Q87: 0 | R87: 0 | S87: 0 | T87: 0 | U87: 0 | V87: 0 | W87: 0 | X87: 0 | Y87: 0 | Z87: 0 | AA87: 0 | AB87: 0 | AC87: 0 | AD87: 0 | AE87: 0 | AF87: 0 | AG87: 0 | AH87: 0 | AI87: 0 | AJ87: 0 | AK87: 0 | AL87: 0 | AM87: 0 | AN87: 0 | AO87: 0 | AP87: 0 | AQ87: 0 | AR87: 0 | AS87: 0 | AT87: 0 | AU87: 0 | AV87: 0 | AW87: 0 | AX87: 0 | AY87: 0 | AZ87: 0 | BA87: 0 | BB87: 0 | BC87: 0 | BD87: 0 | BE87: 0 | BF87: 0 | BG87: 0 | BH87: 1 | BI87: 0 | BJ87: 0 | BK87: 0 | BL87: 0 | BM87: 0 | BN87: 1 | BO87: 0 | BP87: 0 | BQ87: 0 | BR87: 0 | BS87: 1 | BT87: 1 | BU87: 0 | BV87: 0 | BW87: 0 | BX87: 0 | BY87: 0
A88: 嘉義市Chiayi City | B88: 嘉義市 | C88: 計 Total | D88: 266 | E88: 253 | F88: 3 | G88: 1 | H88: 3 | I88: 0 | J88: 6 | K88: 266 | L88: 15 | M88: 7 | N88: 14 | O88: 22 | P88: 22 | Q88: 62 | R88: 51 | S88: 41 | T88: 31 | U88: 1 | V88: 266 | W88: 14 | X88: 21 | Y88: 32 | Z88: 59 | AA88: 6 | AB88: 46 | AC88: 4 | AD88: 5 | AE88: 1 | AF88: 78 | AG88: 266 | AH88: 4 | AI88: 50 | AJ88: 4 | AK88: 5 | AL88: 9 | AM88: 11 | AN88: 1 | AO88: 4 | AP88: 0 | AQ88: 0 | AR88: 33 | AS88: 15 | AT88: 33 | AU88: 18 | AV88: 79 | AW88: 266 | AX88: 237 | AY88: 4 | AZ88: 2 | BA88: 7 | BB88: 0 | BC88: 1 | BD88: 5 | BE88: 1 | BF88: 4 | BG88: 5 | BH88: 258 | BI88: 0 | BJ88: 2 | BK88: 7 | BL88: 11 | BM88: 20 | BN88: 59 | BO88: 78 | BP88: 52 | BQ88: 16 | BR88: 13 | BS88: 258 | BT88: 239 | BU88: 1 | BV88: 2 | BW88: 1 | BX88: 0 | BY88: 15
C89: 男 Male | D89: 67 | E89: 65 | F89: 0 | G89: 0 | H89: 0 | I89: 0 | J89: 2 | K89: 67 | L89: 11 | M89: 3 | N89: 5 | O89: 5 | P89: 7 | Q89: 5 | R89: 10 | S89: 14 | T89: 7 | U89: 0 | V89: 67 | W89: 10 | X89: 4 | Y89: 9 | Z89: 13 | AA89: 1 | AB89: 10 | AC89: 2 | AD89: 1 | AE89: 0 | AF89: 17 | AG89: 67 | AH89: 3 | AI89: 7 | AJ89: 0 | AK89: 2 | AL89: 4 | AM89: 4 | AN89: 1 | AO89: 1 | AP89: 0 | AQ89: 0 | AR89: 0 | AS89: 8 | AT89: 9 | AU89: 5 | AV89: 23 | AW89: 67 | AX89: 54 | AY89: 2 | AZ89: 0 | BA89: 2 | BB89: 0 | BC89: 1 | BD89: 3 | BE89: 0 | BF89: 2 | BG89: 3 | BH89: 204 | BI89: 0 | BJ89: 2 | BK89: 7 | BL89: 9 | BM89: 18 | BN89: 45 | BO89: 60 | BP89: 40 | BQ89: 14 | BR89: 9 | BS89: 204 | BT89: 190 | BU89: 1 | BV89: 0 | BW89: 1 | BX89: 0 | BY89: 12
B90: Chiayi City | C90: 女 Female | D90: 199 | E90: 188 | F90: 3 | G90: 1 | H90: 3 | I90: 0 | J90: 4 | K90: 199 | L90: 4 | M90: 4 | N90: 9 | O90: 17 | P90: 15 | Q90: 57 | R90: 41 | S90: 27 | T90: 24 | U90: 1 | V90: 199 | W90: 4 | X90: 17 | Y90: 23 | Z90: 46 | AA90: 5 | AB90: 36 | AC90: 2 | AD90: 4 | AE90: 1 | AF90: 61 | AG90: 199 | AH90: 1 | AI90: 43 | AJ90: 4 | AK90: 3 | AL90: 5 | AM90: 7 | AN90: 0 | AO90: 3 | AP90: 0 | AQ90: 0 | AR90: 33 | AS90: 7 | AT90: 24 | AU90: 13 | AV90: 56 | AW90: 199 | AX90: 183 | AY90: 2 | AZ90: 2 | BA90: 5 | BB90: 0 | BC90: 0 | BD90: 2 | BE90: 1 | BF90: 2 | BG90: 2 | BH90: 53 | BI90: 0 | BJ90: 0 | BK90: 0 | BL90: 2 | BM90: 2 | BN90: 14 | BO90: 18 | BP90: 12 | BQ90: 2 | BR90: 3 | BS90: 53 | BT90: 49 | BU90: 0 | BV90: 2 | BW90: 0 | BX90: 0 | BY90: 2
C91: 其他 Other | D91: 0 | E91: 0 | F91: 0 | G91: 0 | H91: 0 | I91: 0 | J91: 0 | K91: 0 | L91: 0 | M91: 0 | N91: 0 | O91: 0 | P91: 0 | Q91: 0 | R91: 0 | S91: 0 | T91: 0 | U91: 0 | V91: 0 | W91: 0 | X91: 0 | Y91: 0 | Z91: 0 | AA91: 0 | AB91: 0 | AC91: 0 | AD91: 0 | AE91: 0 | AF91: 0 | AG91: 0 | AH91: 0 | AI91: 0 | AJ91: 0 | AK91: 0 | AL91: 0 | AM91: 0 | AN91: 0 | AO91: 0 | AP91: 0 | AQ91: 0 | AR91: 0 | AS91: 0 | AT91: 0 | AU91: 0 | AV91: 0 | AW91: 0 | AX91: 0 | AY91: 0 | AZ91: 0 | BA91: 0 | BB91: 0 | BC91: 0 | BD91: 0 | BE91: 0 | BF91: 0 | BG91: 0 | BH91: 1 | BI91: 0 | BJ91: 0 | BK91: 0 | BL91: 0 | BM91: 0 | BN91: 0 | BO91: 0 | BP91: 0 | BQ91: 0 | BR91: 1 | BS91: 1 | BT91: 0 | BU91: 0 | BV91: 0 | BW91: 0 | BX91: 0 | BY91: 1
A92: Kinmen County | B92: 金門縣 | C92: 計 Total | D92: 51 | E92: 44 | F92: 2 | G92: 3 | H92: 0 | I92: 0 | J92: 2 | K92: 51 | L92: 5 | M92: 5 | N92: 8 | O92: 0 | P92: 2 | Q92: 10 | R92: 13 | S92: 5 | T92: 3 | U92: 0 | V92: 51 | W92: 3 | X92: 5 | Y92: 2 | Z92: 5 | AA92: 0 | AB92: 1 | AC92: 0 | AD92: 0 | AE92: 0 | AF92: 35 | AG92: 51 | AH92: 0 | AI92: 2 | AJ92: 0 | AK92: 0 | AL92: 0 | AM92: 2 | AN92: 1 | AO92: 0 | AP92: 0 | AQ92: 0 | AR92: 2 | AS92: 0 | AT92: 2 | AU92: 3 | AV92: 39 | AW92: 51 | AX92: 42 | AY92: 0 | AZ92: 1 | BA92: 1 | BB92: 0 | BC92: 0 | BD92: 0 | BE92: 1 | BF92: 0 | BG92: 6 | BH92: 52 | BI92: 0 | BJ92: 0 | BK92: 1 | BL92: 0 | BM92: 4 | BN92: 9 | BO92: 20 | BP92: 12 | BQ92: 3 | BR92: 3 | BS92: 52 | BT92: 42 | BU92: 3 | BV92: 1 | BW92: 1 | BX92: 0 | BY92: 5
C93: 男 Male | D93: 21 | E93: 18 | F93: 2 | G93: 0 | H93: 0 | I93: 0 | J93: 1 | K93: 21 | L93: 4 | M93: 4 | N93: 5 | O93: 0 | P93: 0 | Q93: 2 | R93: 3 | S93: 2 | T93: 1 | U93: 0 | V93: 21 | W93: 2 | X93: 4 | Y93: 1 | Z93: 2 | AA93: 0 | AB93: 0 | AC93: 0 | AD93: 0 | AE93: 0 | AF93: 12 | AG93: 21 | AH93: 0 | AI93: 1 | AJ93: 0 | AK93: 0 | AL93: 0 | AM93: 0 | AN93: 0 | AO93: 0 | AP93: 0 | AQ93: 0 | AR93: 0 | AS93: 0 | AT93: 1 | AU93: 0 | AV93: 19 | AW93: 21 | AX93: 16 | AY93: 0 | AZ93: 0 | BA93: 0 | BB93: 0 | BC93: 0 | BD93: 0 | BE93: 1 | BF93: 0 | BG93: 4 | BH93: 35 | BI93: 0 | BJ93: 0 | BK93: 1 | BL93: 0 | BM93: 1 | BN93: 6 | BO93: 16 | BP93: 8 | BQ93: 2 | BR93: 1 | BS93: 35 | BT93: 30 | BU93: 3 | BV93: 0 | BW93: 0 | BX93: 0 | BY93: 2
B94: Kinmen County | C94: 女 Female | D94: 30 | E94: 26 | F94: 0 | G94: 3 | H94: 0 | I94: 0 | J94: 1 | K94: 30 | L94: 1 | M94: 1 | N94: 3 | O94: 0 | P94: 2 | Q94: 8 | R94: 10 | S94: 3 | T94: 2 | U94: 0 | V94: 30 | W94: 1 | X94: 1 | Y94: 1 | Z94: 3 | AA94: 0 | AB94: 1 | AC94: 0 | AD94: 0 | AE94: 0 | AF94: 23 | AG94: 30 | AH94: 0 | AI94: 1 | AJ94: 0 | AK94: 0 | AL94: 0 | AM94: 2 | AN94: 1 | AO94: 0 | AP94: 0 | AQ94: 0 | AR94: 2 | AS94: 0 | AT94: 1 | AU94: 3 | AV94: 20 | AW94: 30 | AX94: 26 | AY94: 0 | AZ94: 1 | BA94: 1 | BB94: 0 | BC94: 0 | BD94: 0 | BE94: 0 | BF94: 0 | BG94: 2 | BH94: 15 | BI94: 0 | BJ94: 0 | BK94: 0 | BL94: 0 | BM94: 3 | BN94: 3 | BO94: 3 | BP94: 4 | BQ94: 1 | BR94: 1 | BS94: 15 | BT94: 11 | BU94: 0 | BV94: 1 | BW94: 1 | BX94: 0 | BY94: 2
C95: 不詳Unknown | D95: 0 | E95: 0 | F95: 0 | G95: 0 | H95: 0 | I95: 0 | J95: 0 | K95: 0 | L95: 0 | M95: 0 | N95: 0 | O95: 0 | P95: 0 | Q95: 0 | R95: 0 | S95: 0 | T95: 0 | U95: 0 | V95: 0 | W95: 0 | X95: 0 | Y95: 0 | Z95: 0 | AA95: 0 | AB95: 0 | AC95: 0 | AD95: 0 | AE95: 0 | AF95: 0 | AG95: 0 | AH95: 0 | AI95: 0 | AJ95: 0 | AK95: 0 | AL95: 0 | AM95: 0 | AN95: 0 | AO95: 0 | AP95: 0 | AQ95: 0 | AR95: 0 | AS95: 0 | AT95: 0 | AU95: 0 | AV95: 0 | AW95: 0 | AX95: 0 | AY95: 0 | AZ95: 0 | BA95: 0 | BB95: 0 | BC95: 0 | BD95: 0 | BE95: 0 | BF95: 0 | BG95: 0 | BH95: 2 | BI95: 0 | BJ95: 0 | BK95: 0 | BL95: 0 | BM95: 0 | BN95: 0 | BO95: 1 | BP95: 0 | BQ95: 0 | BR95: 1 | BS95: 2 | BT95: 1 | BU95: 0 | BV95: 0 | BW95: 0 | BX95: 0 | BY95: 1
B96: 連江縣 | C96: 計 Total | D96: 5 | E96: 4 | F96: 0 | G96: 0 | H96: 0 | I96: 0 | J96: 1 | K96: 5 | L96: 2 | M96: 0 | N96: 0 | O96: 0 | P96: 1 | Q96: 2 | R96: 0 | S96: 0 | T96: 0 | U96: 0 | V96: 5 | W96: 1 | X96: 0 | Y96: 3 | Z96: 0 | AA96: 0 | AB96: 0 | AC96: 0 | AD96: 1 | AE96: 0 | AF96: 0 | AG96: 5 | AH96: 1 | AI96: 2 | AJ96: 0 | AK96: 0 | AL96: 0 | AM96: 0 | AN96: 0 | AO96: 0 | AP96: 0 | AQ96: 0 | AR96: 1 | AS96: 0 | AT96: 0 | AU96: 0 | AV96: 1 | AW96: 5 | AX96: 5 | AY96: 0 | AZ96: 0 | BA96: 0 | BB96: 0 | BC96: 0 | BD96: 0 | BE96: 0 | BF96: 0 | BG96: 0 | BH96: 3 | BI96: 0 | BJ96: 0 | BK96: 0 | BL96: 0 | BM96: 0 | BN96: 3 | BO96: 0 | BP96: 0 | BQ96: 0 | BR96: 0 | BS96: 3 | BT96: 3 | BU96: 0 | BV96: 0 | BW96: 0 | BX96: 0 | BY96: 0
C97: 男 Male | D97: 2 | E97: 1 | F97: 0 | G97: 0 | H97: 0 | I97: 0 | J97: 1 | K97: 2 | L97: 2 | M97: 0 | N97: 0 | O97: 0 | P97: 0 | Q97: 0 | R97: 0 | S97: 0 | T97: 0 | U97: 0 | V97: 2 | W97: 1 | X97: 0 | Y97: 0 | Z97: 0 | AA97: 0 | AB97: 0 | AC97: 0 | AD97: 1 | AE97: 0 | AF97: 0 | AG97: 2 | AH97: 1 | AI97: 0 | AJ97: 0 | AK97: 0 | AL97: 0 | AM97: 0 | AN97: 0 | AO97: 0 | AP97: 0 | AQ97: 0 | AR97: 0 | AS97: 0 | AT97: 0 | AU97: 0 | AV97: 1 | AW97: 2 | AX97: 2 | AY97: 0 | AZ97: 0 | BA97: 0 | BB97: 0 | BC97: 0 | BD97: 0 | BE97: 0 | BF97: 0 | BG97: 0 | BH97: 3 | BI97: 0 | BJ97: 0 | BK97: 0 | BL97: 0 | BM97: 0 | BN97: 3 | BO97: 0 | BP97: 0 | BQ97: 0 | BR97: 0 | BS97: 3 | BT97: 3 | BU97: 0 | BV97: 0 | BW97: 0 | BX97: 0 | BY97: 0
B98: Lienchiang County | C98: 女 Female | D98: 3 | E98: 3 | F98: 0 | G98: 0 | H98: 0 | I98: 0 | J98: 0 | K98: 3 | L98: 0 | M98: 0 | N98: 0 | O98: 0 | P98: 1 | Q98: 2 | R98: 0 | S98: 0 | T98: 0 | U98: 0 | V98: 3 | W98: 0 | X98: 0 | Y98: 3 | Z98: 0 | AA98: 0 | AB98: 0 | AC98: 0 | AD98: 0 | AE98: 0 | AF98: 0 | AG98: 3 | AH98: 0 | AI98: 2 | AJ98: 0 | AK98: 0 | AL98: 0 | AM98: 0 | AN98: 0 | AO98: 0 | AP98: 0 | AQ98: 0 | AR98: 1 | AS98: 0 | AT98: 0 | AU98: 0 | AV98: 0 | AW98: 3 | AX98: 3 | AY98: 0 | AZ98: 0 | BA98: 0 | BB98: 0 | BC98: 0 | BD98: 0 | BE98: 0 | BF98: 0 | BG98: 0 | BH98: 0 | BI98: 0 | BJ98: 0 | BK98: 0 | BL98: 0 | BM98: 0 | BN98: 0 | BO98: 0 | BP98: 0 | BQ98: 0 | BR98: 0 | BS98: 0 | BT98: 0 | BU98: 0 | BV98: 0 | BW98: 0 | BX98: 0 | BY98: 0
C99: 其他 Other | D99: 0 | E99: 0 | F99: 0 | G99: 0 | H99: 0 | I99: 0 | J99: 0 | K99: 0 | L99: 0 | M99: 0 | N99: 0 | O99: 0 | P99: 0 | Q99: 0 | R99: 0 | S99: 0 | T99: 0 | U99: 0 | V99: 0 | W99: 0 | X99: 0 | Y99: 0 | Z99: 0 | AA99: 0 | AB99: 0 | AC99: 0 | AD99: 0 | AE99: 0 | AF99: 0 | AG99: 0 | AH99: 0 | AI99: 0 | AJ99: 0 | AK99: 0 | AL99: 0 | AM99: 0 | AN99: 0 | AO99: 0 | AP99: 0 | AQ99: 0 | AR99: 0 | AS99: 0 | AT99: 0 | AU99: 0 | AV99: 0 | AW99: 0 | AX99: 0 | AY99: 0 | AZ99: 0 | BA99: 0 | BB99: 0 | BC99: 0 | BD99: 0 | BE99: 0 | BF99: 0 | BG99: 0 | BH99: 0 | BI99: 0 | BJ99: 0 | BK99: 0 | BL99: 0 | BM99: 0 | BN99: 0 | BO99: 0 | BP99: 0 | BQ99: 0 | BR99: 0 | BS99: 0 | BT99: 0 | BU99: 0 | BV99: 0 | BW99: 0 | BX99: 0 | BY99: 0
A100: 資料來源：本部保護服務司。
...

Sheet 2019Q3
A1: 家庭暴力事件通報被害及相對人概況Overview of Victim and Offender Status in Reporting Cases of Domestic Violence
A2: 108年第3季，2019Q3
A3: 單位：人數 unit:Person
A4: 區域別 Locality | C4: 性別 | D4: 被害人數 Victims | BH4: 相對人人數
D5: 國籍、身分別 By Nationality and Identity | K5: 年齡別 By Age | V5: 教育程度別 By Education | AG5: 職業別 By Occupation | AW5: 身心障礙別 By Disability | BH5: 年齡別 By Age | BS5: 國籍、身分別 By Nationality and Identity
D6: 合計 | E6: 本國籍 非原住民 | F6: 本國籍 原住民 | G6: 大陸及 港澳籍 | H6: 外國籍 | I6: 無國籍 | J6: 資料 不明 | K6: 合計 | L6: 0-未滿6歲 | M6: 6-未滿12歲 | N6: 12-未滿18歲 | O6: 18-未滿24歲 | P6: 24-未滿30歲 | Q6: 30-未滿40歲 | R6: 40-未滿50歲 | S6: 50-未滿65歲 | T6: 65歲 以上 | U6: 不詳 | V6: 合計 | W6: 學齡前 | X6: 國小 | Y6: 國中 | Z6: 高中(職) | AA6: 專科 | AB6: 大學 | AC6: 研究所 以上 | AD6: 不識字 | AE6: 自修 | AF6: 不詳 | AG6: 合計 | AH6: 學生 | AI6: 服務業 | AJ6: 專門 職業 | AK6: 農林 漁牧 | AL6: 工礦業 | AM6: 商業 | AN6: 公 | AO6: 教 | AP6: 軍 | AQ6: 警 | AR6: 家庭 管理 | AS6: 退休 | AT6: 無工作 | AU6: 其他 | AV6: 不詳 | AW6: 合計 | AX6: 非身心 障礙 | AY6: 智障 | AZ6: 視障 | BA6: 精神 病患 | BB6: 聲(語)障 | BC6: 聽障 | BD6: 肢障 | BE6: 多重 障礙 | BF6: 其他 障礙 | BG6: 不詳 | BH6: 合計 | BI6: 0-未滿6歲 | BJ6: 6-未滿12歲 | BK6: 12-未滿18歲 | BL6: 18-未滿24歲 | BM6: 24-未滿30歲 | BN6: 30-未滿40歲 | BO6: 40-未滿50歲 | BP6: 50-未滿65歲 | BQ6: 65歲 以上 | BR6: 不詳 | BS6: 合計 | BT6: 本國籍非原住民 | BU6: 本國籍原住民 | BV6: 大陸及 港澳籍 | BW6: 外國籍 | BX6: 無國籍 | BY6: 資料 不明
C7: Gender | D7: Total | E7: Non-aboriginal Native | F7: Aboriginal Native | G7: Mainland China and Hong Kong and Macau | H7: Foreign | I7: Stateless | J7: Unknown Information | K7: Total | L7: Under 6 Years | M7: 6-Under 12 Years | N7: 12-Under 18 Years | O7: 18-Under 2 Years | P7: 24-Under 30 Years | Q7: 30-Under 40 Years | R7: 40-Under 50 Years | S7: 50-Under 65 Years | T7: Above 65 Years | U7: Unknown | V7: Total | W7: Preschool | X7: Primary School | Y7: Junior High School | Z7: Senior High School (Vocational High School) | AA7: Junior College | AB7: University | AC7: Graduate School and Above | AD7: Illiterate | AE7: Self-taught | AF7: Unknown | AG7: Total | AH7: Student | AI7: Service Industry | AJ7: Professional | AK7: Agriculture, Forestry, Fishery and Animal Husbandry | AL7: Mining Industry | AM7: Business | AR7: Homemaker | AS7: Retired | AT7: No Work | AU7: Others | AV7: Unknown | AW7: Total | AX7: Not Disability | AY7: Intellectually Disabled | AZ7: Vision | BA7: Mentally Illed | BB7: Voice | BC7: Hearing | BD7: Physically Impaired | BE7: Multiple | BF7: Other | BG7: Unknown | BH7: Total | BI7: Under 6 Years | BJ7: 6-Under 12 Years | BK7: 12-Under 18 Years | BL7: 18-Under 2 Years | BM7: 24-Under 30 Years | BN7: 30-Under 40 Years | BO7: 40-Under 50 Years | BP7: 50-Under 65 Years | BQ7: Above 65 Years | BR7: Unknown | BS7: Total | BT7: Non-aboriginal Native | BU7: Aboriginal Native | BV7: Mainland China and Hong Kong and Macau | BW7: Foreign | BX7: Stateless | BY7: Unknown Information
A8: 總計 | C8: 計 Total | D8: 25590 | E8: 22998 | F8: 1383 | G8: 311 | H8: 344 | I8: 8 | J8: 546 | K8: 25590 | L8: 1424 | M8: 1141 | N8: 1354 | O8: 1872 | P8: 2228 | Q8: 5407 | R8: 4902 | S8: 4568 | T8: 2693 | U8: 1 | V8: 25590 | W8: 1160 | X8: 1688 | Y8: 1715 | Z8: 2819 | AA8: 490 | AB8: 1491 | AC8: 193 | AD8: 167 | AE8: 50 | AF8: 15817 | AG8: 25590 | AH8: 416 | AI8: 3187 | AJ8: 856 | AK8: 406 | AL8: 1332 | AM8: 827 | AN8: 124 | AO8: 195 | AP8: 47 | AQ8: 18 | AR8: 1829 | AS8: 1199 | AT8: 2404 | AU8: 1853 | AV8: 10897 | AW8: 25590 | AX8: 22953 | AY8: 326 | AZ8: 91 | BA8: 563 | BB8: 20 | BC8: 132 | BD8: 454 | BE8: 180 | BF8: 287 | BG8: 584 | BH8: 25245 | BI8: 3 | BJ8: 42 | BK8: 517 | BL8: 1238 | BM8: 2220 | BN8: 6191 | BO8: 6533 | BP8: 5438 | BQ8: 1845 | BR8: 1218 | BS8: 25245 | BT8: 21464 | BU8: 1216 | BV8: 141 | BW8: 211 | BX8: 5 | BY8: 2208
C9: 男 Male | D9: 8121 | E9: 7539 | F9: 379 | G9: 10 | H9: 38 | I9: 4 | J9: 151 | K9: 8121 | L9: 738 | M9: 679 | N9: 634 | O9: 526 | P9: 584 | Q9: 1180 | R9: 1321 | S9: 1468 | T9: 991 | U9: 0 | V9: 8121 | W9: 656 | X9: 813 | Y9: 683 | Z9: 774 | AA9: 121 | AB9: 398 | AC9: 81 | AD9: 24 | AE9: 13 | AF9: 4558 | AG9: 8121 | AH9: 117 | AI9: 599 | AJ9: 322 | AK9: 182 | AL9: 665 | AM9: 238 | AN9: 45 | AO9: 30 | AP9: 35 | AQ9: 12 | AR9: 8 | AS9: 579 | AT9: 624 | AU9: 579 | AV9: 4086 | AW9: 8121 | AX9: 7174 | AY9: 121 | AZ9: 34 | BA9: 149 | BB9: 10 | BC9: 55 | BD9: 213 | BE9: 86 | BF9: 114 | BG9: 165 | BH9: 18772 | BI9: 1 | BJ9: 34 | BK9: 393 | BL9: 899 | BM9: 1585 | BN9: 4460 | BO9: 5008 | BP9: 4233 | BQ9: 1329 | BR9: 830 | BS9: 18772 | BT9: 16109 | BU9: 928 | BV9: 21 | BW9: 108 | BX9: 2 | BY9: 1604
A10: Total | C10: 女 Female | D10: 17453 | E10: 15447 | F10: 1004 | G10: 301 | H10: 306 | I10: 4 | J10: 391 | K10: 17453 | L10: 679 | M10: 459 | N10: 718 | O10: 1345 | P10: 1642 | Q10: 4227 | R10: 3581 | S10: 3100 | T10: 1702 | U10: 0 | V10: 17453 | W10: 501 | X10: 871 | Y10: 1032 | Z10: 2044 | AA10: 369 | AB10: 1093 | AC10: 112 | AD10: 143 | AE10: 37 | AF10: 11251 | AG10: 17453 | AH10: 299 | AI10: 2586 | AJ10: 534 | AK10: 224 | AL10: 667 | AM10: 589 | AN10: 79 | AO10: 165 | AP10: 12 | AQ10: 6 | AR10: 1820 | AS10: 620 | AT10: 1780 | AU10: 1274 | AV10: 6798 | AW10: 17453 | AX10: 15769 | AY10: 205 | AZ10: 57 | BA10: 414 | BB10: 10 | BC10: 77 | BD10: 241 | BE10: 94 | BF10: 173 | BG10: 413 | BH10: 6317 | BI10: 2 | BJ10: 8 | BK10: 122 | BL10: 335 | BM10: 627 | BN10: 1713 | BO10: 1515 | BP10: 1194 | BQ10: 510 | BR10: 291 | BS10: 6317 | BT10: 5316 | BU10: 287 | BV10: 119 | BW10: 98 | BX10: 3 | BY10: 494
C11: 其他 Other | D11: 16 | E11: 12 | F11: 0 | G11: 0 | H11: 0 | I11: 0 | J11: 4 | K11: 16 | L11: 7 | M11: 3 | N11: 2 | O11: 1 | P11: 2 | Q11: 0 | R11: 0 | S11: 0 | T11: 0 | U11: 1 | V11: 16 | W11: 3 | X11: 4 | Y11: 0 | Z11: 1 | AA11: 0 | AB11: 0 | AC11: 0 | AD11: 0 | AE11: 0 | AF11: 8 | AG11: 16 | AH11: 0 | AI11: 2 | AJ11: 0 | AK11: 0 | AL11: 0 | AM11: 0 | AN11: 0 | AO11: 0 | AP11: 0 | AQ11: 0 | AR11: 1 | AS11: 0 | AT11: 0 | AU11: 0 | AV11: 13 | AW11: 16 | AX11: 10 | AY11: 0 | AZ11: 0 | BA11: 0 | BB11: 0 | BC11: 0 | BD11: 0 | BE11: 0 | BF11: 0 | BG11: 6 | BH11: 156 | BI11: 0 | BJ11: 0 | BK11: 2 | BL11: 4 | BM11: 8 | BN11: 18 | BO11: 10 | BP11: 11 | BQ11: 6 | BR11: 97 | BS11: 156 | BT11: 39 | BU11: 1 | BV11: 1 | BW11: 5 | BX11: 0 | BY11: 110
A12: 新北市 | C12: 計 Total | D12: 4078 | E12: 3595 | F12: 97 | G12: 73 | H12: 70 | I12: 0 | J12: 243 | K12: 4078 | L12: 198 | M12: 140 | N12: 174 | O12: 341 | P12: 384 | Q12: 892 | R12: 826 | S12: 697 | T12: 426 | U12: 0 | V12: 4078 | W12: 111 | X12: 167 | Y12: 167 | Z12: 332 | AA12: 71 | AB12: 275 | AC12: 35 | AD12: 16 | AE12: 9 | AF12: 2895 | AG12: 4078 | AH12: 107 | AI12: 597 | AJ12: 200 | AK12: 10 | AL12: 100 | AM12: 128 | AN12: 11 | AO12: 29 | AP12: 6 | AQ12: 2 | AR12: 245 | AS12: 210 | AT12: 364 | AU12: 177 | AV12: 1892 | AW12: 4078 | AX12: 3544 | AY12: 29 | AZ12: 17 | BA12: 92 | BB12: 2 | BC12: 21 | BD12: 55 | BE12: 18 | BF12: 38 | BG12: 262 | BH12: 4083 | BI12: 0 | BJ12: 13 | BK12: 89 | BL12: 189 | BM12: 332 | BN12: 890 | BO12: 991 | BP12: 759 | BQ12: 270 | BR12: 550 | BS12: 4083 | BT12: 2933 | BU12: 79 | BV12: 23 | BW12: 30 | BX12: 2 | BY12: 1016
C13: 男 Male | D13: 1124 | E13: 1022 | F13: 23 | G13: 5 | H13: 13 | I13: 0 | J13: 61 | K13: 1124 | L13: 83 | M13: 91 | N13: 86 | O13: 89 | P13: 87 | Q13: 177 | R13: 187 | S13: 176 | T13: 148 | U13: 0 | V13: 1124 | W13: 64 | X13: 90 | Y13: 63 | Z13: 84 | AA13: 8 | AB13: 70 | AC13: 10 | AD13: 1 | AE13: 2 | AF13: 732 | AG13: 1124 | AH13: 29 | AI13: 123 | AJ13: 66 | AK13: 6 | AL13: 52 | AM13: 46 | AN13: 4 | AO13: 4 | AP13: 6 | AQ13: 2 | AR13: 0 | AS13: 84 | AT13: 78 | AU13: 40 | AV13: 584 | AW13: 1124 | AX13: 981 | AY13: 13 | AZ13: 3 | BA13: 19 | BB13: 1 | BC13: 7 | BD13: 19 | BE13: 9 | BF13: 9 | BG13: 63 | BH13: 3108 | BI13: 0 | BJ13: 10 | BK13: 64 | BL13: 148 | BM13: 253 | BN13: 660 | BO13: 801 | BP13: 604 | BQ13: 195 | BR13: 373 | BS13: 3108 | BT13: 2292 | BU13: 62 | BV13: 5 | BW13: 17 | BX13: 1 | BY13: 731
A14: New Taipei City | C14: 女 Female | D14: 2949 | E14: 2569 | F14: 74 | G14: 68 | H14: 57 | I14: 0 | J14: 181 | K14: 2949 | L14: 114 | M14: 49 | N14: 87 | O14: 251 | P14: 295 | Q14: 715 | R14: 639 | S14: 521 | T14: 278 | U14: 0 | V14: 2949 | W14: 47 | X14: 77 | Y14: 104 | Z14: 247 | AA14: 63 | AB14: 205 | AC14: 25 | AD14: 15 | AE14: 7 | AF14: 2159 | AG14: 2949 | AH14: 78 | AI14: 472 | AJ14: 134 | AK14: 4 | AL14: 48 | AM14: 82 | AN14: 7 | AO14: 25 | AP14: 0 | AQ14: 0 | AR14: 244 | AS14: 126 | AT14: 286 | AU14: 137 | AV14: 1306 | AW14: 2949 | AX14: 2559 | AY14: 16 | AZ14: 14 | BA14: 73 | BB14: 1 | BC14: 14 | BD14: 36 | BE14: 9 | BF14: 29 | BG14: 198 | BH14: 904 | BI14: 0 | BJ14: 3 | BK14: 24 | BL14: 41 | BM14: 77 | BN14: 227 | BO14: 186 | BP14: 151 | BQ14: 74 | BR14: 121 | BS14: 904 | BT14: 632 | BU14: 16 | BV14: 18 | BW14: 12 | BX14: 1 | BY14: 225
C15: 其他 Other | D15: 5 | E15: 4 | F15: 0 | G15: 0 | H15: 0 | I15: 0 | J15: 1 | K15: 5 | L15: 1 | M15: 0 | N15: 1 | O15: 1 | P15: 2 | Q15: 0 | R15: 0 | S15: 0 | T15: 0 | U15: 0 | V15: 5 | W15: 0 | X15: 0 | Y15: 0 | Z15: 1 | AA15: 0 | AB15: 0 | AC15: 0 | AD15: 0 | AE15: 0 | AF15: 4 | AG15: 5 | AH15: 0 | AI15: 2 | AJ15: 0 | AK15: 0 | AL15: 0 | AM15: 0 | AN15: 0 | AO15: 0 | AP15: 0 | AQ15: 0 | AR15: 1 | AS15: 0 | AT15: 0 | AU15: 0 | AV15: 2 | AW15: 5 | AX15: 4 | AY15: 0 | AZ15: 0 | BA15: 0 | BB15: 0 | BC15: 0 | BD15: 0 | BE15: 0 | BF15: 0 | BG15: 1 | BH15: 71 | BI15: 0 | BJ15: 0 | BK15: 1 | BL15: 0 | BM15: 2 | BN15: 3 | BO15: 4 | BP15: 4 | BQ15: 1 | BR15: 56 | BS15: 71 | BT15: 9 | BU15: 1 | BV15: 0 | BW15: 1 | BX15: 0 | BY15: 60
A16: 臺北市 | C16: 計 Total | D16: 2837 | E16: 2698 | F16: 26 | G16: 40 | H16: 34 | I16: 2 | J16: 37 | K16: 2837 | L16: 135 | M16: 114 | N16: 129 | O16: 199 | P16: 273 | Q16: 516 | R16: 553 | S16: 545 | T16: 373 | U16: 0 | V16: 2837 | W16: 116 | X16: 122 | Y16: 81 | Z16: 97 | AA16: 13 | AB16: 46 | AC16: 15 | AD16: 5 | AE16: 5 | AF16: 2337 | AG16: 2837 | AH16: 13 | AI16: 85 | AJ16: 32 | AK16: 0 | AL16: 4 | AM16: 39 | AN16: 8 | AO16: 6 | AP16: 2 | AQ16: 0 | AR16: 56 | AS16: 43 | AT16: 44 | AU16: 47 | AV16: 2458 | AW16: 2837 | AX16: 2591 | AY16: 25 | AZ16: 10 | BA16: 73 | BB16: 1 | BC16: 13 | BD16: 29 | BE16: 20 | BF16: 34 | BG16: 41 | BH16: 2781 | BI16: 2 | BJ16: 5 | BK16: 90 | BL16: 135 | BM16: 222 | BN16: 584 | BO16: 639 | BP16: 656 | BQ16: 300 | BR16: 148 | BS16: 2781 | BT16: 2508 | BU16: 26 | BV16: 23 | BW16: 24 | BX16: 0 | BY16: 200
C17: 男 Male | D17: 947 | E17: 918 | F17: 7 | G17: 2 | H17: 9 | I17: 2 | J17: 9 | K17: 947 | L17: 57 | M17: 75 | N17: 59 | O17: 51 | P17: 70 | Q17: 149 | R17: 177 | S17: 184 | T17: 125 | U17: 0 | V17: 947 | W17: 52 | X17: 72 | Y17: 47 | Z17: 21 | AA17: 4 | AB17: 13 | AC17: 8 | AD17: 3 | AE17: 1 | AF17: 726 | AG17: 947 | AH17: 3 | AI17: 17 | AJ17: 12 | AK17: 0 | AL17: 3 | AM17: 14 | AN17: 2 | AO17: 1 | AP17: 2 | AQ17: 0 | AR17: 0 | AS17: 17 | AT17: 11 | AU17: 24 | AV17: 841 | AW17: 947 | AX17: 855 | AY17: 11 | AZ17: 3 | BA17: 21 | BB17: 0 | BC17: 8 | BD17: 12 | BE17: 8 | BF17: 13 | BG17: 16 | BH17: 1923 | BI17: 1 | BJ17: 4 | BK17: 68 | BL17: 82 | BM17: 144 | BN17: 380 | BO17: 458 | BP17: 481 | BQ17: 201 | BR17: 104 | BS17: 1923 | BT17: 1738 | BU17: 17 | BV17: 5 | BW17: 21 | BX17: 0 | BY17: 142
A18: Taipei City | C18: 女 Female | D18: 1888 | E18: 1778 | F18: 19 | G18: 38 | H18: 25 | I18: 0 | J18: 28 | K18: 1888 | L18: 76 | M18: 39 | N18: 70 | O18: 148 | P18: 203 | Q18: 367 | R18: 376 | S18: 361 | T18: 248 | U18: 0 | V18: 1888 | W18: 62 | X18: 50 | Y18: 34 | Z18: 76 | AA18: 9 | AB18: 33 | AC18: 7 | AD18: 2 | AE18: 4 | AF18: 1611 | AG18: 1888 | AH18: 10 | AI18: 68 | AJ18: 20 | AK18: 0 | AL18: 1 | AM18: 25 | AN18: 6 | AO18: 5 | AP18: 0 | AQ18: 0 | AR18: 56 | AS18: 26 | AT18: 33 | AU18: 23 | AV18: 1615 | AW18: 1888 | AX18: 1734 | AY18: 14 | AZ18: 7 | BA18: 52 | BB18: 1 | BC18: 5 | BD18: 17 | BE18: 12 | BF18: 21 | BG18: 25 | BH18: 845 | BI18: 1 | BJ18: 1 | BK18: 22 | BL18: 52 | BM18: 77 | BN18: 202 | BO18: 181 | BP18: 174 | BQ18: 96 | BR18: 39 | BS18: 845 | BT18: 767 | BU18: 9 | BV18: 18 | BW18: 3 | BX18: 0 | BY18: 48
C19: 其他 Other | D19: 2 | E19: 2 | F19: 0 | G19: 0 | H19: 0 | I19: 0 | J19: 0 | K19: 2 | L19: 2 | M19: 0 | N19: 0 | O19: 0 | P19: 0 | Q19: 0 | R19: 0 | S19: 0 | T19: 0 | U19: 0 | V19: 2 | W19: 2 | X19: 0 | Y19: 0 | Z19: 0 | AA19: 0 | AB19: 0 | AC19: 0 | AD19: 0 | AE19: 0 | AF19: 0 | AG19: 2 | AH19: 0 | AI19: 0 | AJ19: 0 | AK19: 0 | AL19: 0 | AM19: 0 | AN19: 0 | AO19: 0 | AP19: 0 | AQ19: 0 | AR19: 0 | AS19: 0 | AT19: 0 | AU19: 0 | AV19: 2 | AW19: 2 | AX19: 2 | AY19: 0 | AZ19: 0 | BA19: 0 | BB19: 0 | BC19: 0 | BD19: 0 | BE19: 0 | BF19: 0 | BG19: 0 | BH19: 13 | BI19: 0 | BJ19: 0 | BK19: 0 | BL19: 1 | BM19: 1 | BN19: 2 | BO19: 0 | BP19: 1 | BQ19: 3 | BR19: 5 | BS19: 13 | BT19: 3 | BU19: 0 | BV19: 0 | BW19: 0 | BX19: 0 | BY19: 10
A20: 桃園市 | C20: 計 Total | D20: 2336 | E20: 2023 | F20: 222 | G20: 27 | H20: 41 | I20: 1 | J20: 22 | K20: 2336 | L20: 134 | M20: 117 | N20: 143 | O20: 187 | P20: 224 | Q20: 538 | R20: 432 | S20: 361 | T20: 200 | U20: 0 | V20: 2336 | W20: 122 | X20: 144 | Y20: 137 | Z20: 167 | AA20: 19 | AB20: 95 | AC20: 16 | AD20: 9 | AE20: 8 | AF20: 1619 | AG20: 2336 | AH20: 36 | AI20: 212 | AJ20: 50 | AK20: 11 | AL20: 108 | AM20: 46 | AN20: 11 | AO20: 17 | AP20: 4 | AQ20: 1 | AR20: 147 | AS20: 79 | AT20: 212 | AU20: 218 | AV20: 1184 | AW20: 2336 | AX20: 2163 | AY20: 28 | AZ20: 5 | BA20: 37 | BB20: 2 | BC20: 11 | BD20: 33 | BE20: 20 | BF20: 13 | BG20: 24 | BH20: 2341 | BI20: 0 | BJ20: 4 | BK20: 38 | BL20: 130 | BM20: 248 | BN20: 633 | BO20: 647 | BP20: 465 | BQ20: 120 | BR20: 56 | BS20: 2341 | BT20: 1993 | BU20: 202 | BV20: 18 | BW20: 33 | BX20: 0 | BY20: 95
C21: 男 Male | D21: 722 | E21: 653 | F21: 62 | G21: 1 | H21: 4 | I21: 0 | J21: 2 | K21: 722 | L21: 68 | M21: 78 | N21: 63 | O21: 51 | P21: 70 | Q21: 101 | R21: 101 | S21: 111 | T21: 79 | U21: 0 | V21: 722 | W21: 65 | X21: 94 | Y21: 60 | Z21: 53 | AA21: 4 | AB21: 27 | AC21: 7 | AD21: 0 | AE21: 0 | AF21: 412 | AG21: 722 | AH21: 10 | AI21: 63 | AJ21: 18 | AK21: 6 | AL21: 45 | AM21: 8 | AN21: 3 | AO21: 1 | AP21: 3 | AQ21: 1 | AR21: 1 | AS21: 49 | AT21: 55 | AU21: 61 | AV21: 398 | AW21: 722 | AX21: 660 | AY21: 5 | AZ21: 2 | BA21: 8 | BB21: 1 | BC21: 7 | BD21: 17 | BE21: 12 | BF21: 7 | BG21: 3 | BH21: 1765 | BI21: 0 | BJ21: 3 | BK21: 29 | BL21: 102 | BM21: 163 | BN21: 468 | BO21: 504 | BP21: 372 | BQ21: 82 | BR21: 42 | BS21: 1765 | BT21: 1515 | BU21: 146 | BV21: 2 | BW21: 24 | BX21: 0 | BY21: 78
A22: Taoyuan City | C22: 女 Female | D22: 1614 | E22: 1370 | F22: 160 | G22: 26 | H22: 37 | I22: 1 | J22: 20 | K22: 1614 | L22: 66 | M22: 39 | N22: 80 | O22: 136 | P22: 154 | Q22: 437 | R22: 331 | S22: 250 | T22: 121 | U22: 0 | V22: 1614 | W22: 57 | X22: 50 | Y22: 77 | Z22: 114 | AA22: 15 | AB22: 68 | AC22: 9 | AD22: 9 | AE22: 8 | AF22: 1207 | AG22: 1614 | AH22: 26 | AI22: 149 | AJ22: 32 | AK22: 5 | AL22: 63 | AM22: 38 | AN22: 8 | AO22: 16 | AP22: 1 | AQ22: 0 | AR22: 146 | AS22: 30 | AT22: 157 | AU22: 157 | AV22: 786 | AW22: 1614 | AX22: 1503 | AY22: 23 | AZ22: 3 | BA22: 29 | BB22: 1 | BC22: 4 | BD22: 16 | BE22: 8 | BF22: 6 | BG22: 21 | BH22: 563 | BI22: 0 | BJ22: 1 | BK22: 9 | BL22: 28 | BM22: 82 | BN22: 163 | BO22: 143 | BP22: 91 | BQ22: 37 | BR22: 9 | BS22: 563 | BT22: 472 | BU22: 56 | BV22: 15 | BW22: 9 | BX22: 0 | BY22: 11
C23: 其他 Other | D23: 0 | E23: 0 | F23: 0 | G23: 0 | H23: 0 | I23: 0 | J23: 0 | K23: 0 | L23: 0 | M23: 0 | N23: 0 | O23: 0 | P23: 0 | Q23: 0 | R23: 0 | S23: 0 | T23: 0 | U23: 0 | V23: 0 | W23: 0 | X23: 0 | Y23: 0 | Z23: 0 | AA23: 0 | AB23: 0 | AC23: 0 | AD23: 0 | AE23: 0 | AF23: 0 | AG23: 0 | AH23: 0 | AI23: 0 | AJ23: 0 | AK23: 0 | AL23: 0 | AM23: 0 | AN23: 0 | AO23: 0 | AP23: 0 | AQ23: 0 | AR23: 0 | AS23: 0 | AT23: 0 | AU23: 0 | AV23: 0 | AW23: 0 | AX23: 0 | AY23: 0 | AZ23: 0 | BA23: 0 | BB23: 0 | BC23: 0 | BD23: 0 | BE23: 0 | BF23: 0 | BG23: 0 | BH23: 13 | BI23: 0 | BJ23: 0 | BK23: 0 | BL23: 0 | BM23: 3 | BN23: 2 | BO23: 0 | BP23: 2 | BQ23: 1 | BR23: 5 | BS23: 13 | BT23: 6 | BU23: 0 | BV23: 1 | BW23: 0 | BX23: 0 | BY23: 6
A24: 臺中市 | C24: 計 Total | D24: 3595 | E24: 3266 | F24: 138 | G24: 55 | H24: 61 | I24: 1 | J24: 74 | K24: 3595 | L24: 244 | M24: 193 | N24: 252 | O24: 278 | P24: 316 | Q24: 804 | R24: 615 | S24: 603 | T24: 289 | U24: 1 | V24: 3595 | W24: 219 | X24: 241 | Y24: 263 | Z24: 412 | AA24: 64 | AB24: 284 | AC24: 22 | AD24: 13 | AE24: 7 | AF24: 2070 | AG24: 3595 | AH24: 72 | AI24: 464 | AJ24: 152 | AK24: 27 | AL24: 244 | AM24: 149 | AN24: 17 | AO24: 33 | AP24: 6 | AQ24: 1 | AR24: 284 | AS24: 144 | AT24: 335 | AU24: 275 | AV24: 1392 | AW24: 3595 | AX24: 3240 | AY24: 50 | AZ24: 9 | BA24: 77 | BB24: 3 | BC24: 14 | BD24: 47 | BE24: 23 | BF24: 41 | BG24: 91 | BH24: 3608 | BI24: 0 | BJ24: 7 | BK24: 70 | BL24: 166 | BM24: 330 | BN24: 961 | BO24: 916 | BP24: 724 | BQ24: 213 | BR24: 221 | BS24: 3608 | BT24: 3036 | BU24: 116 | BV24: 23 | BW24: 39 | BX24: 1 | BY24: 393
C25: 男 Male | D25: 1216 | E25: 1143 | F25: 42 | G25: 0 | H25: 9 | I25: 1 | J25: 21 | K25: 1216 | L25: 145 | M25: 109 | N25: 110 | O25: 90 | P25: 86 | Q25: 185 | R25: 171 | S25: 201 | T25: 119 | U25: 0 | V25: 1216 | W25: 143 | X25: 116 | Y25: 109 | Z25: 113 | AA25: 16 | AB25: 76 | AC25: 7 | AD25: 4 | AE25: 2 | AF25: 630 | AG25: 1216 | AH25: 20 | AI25: 93 | AJ25: 59 | AK25: 16 | AL25: 108 | AM25: 47 | AN25: 8 | AO25: 4 | AP25: 4 | AQ25: 0 | AR25: 0 | AS25: 76 | AT25: 97 | AU25: 95 | AV25: 589 | AW25: 1216 | AX25: 1092 | AY25: 27 | AZ25: 1 | BA25: 21 | BB25: 3 | BC25: 6 | BD25: 18 | BE25: 8 | BF25: 19 | BG25: 21 | BH25: 2625 | BI25: 0 | BJ25: 7 | BK25: 51 | BL25: 119 | BM25: 234 | BN25: 682 | BO25: 693 | BP25: 534 | BQ25: 152 | BR25: 153 | BS25: 2625 | BT25: 2228 | BU25: 91 | BV25: 2 | BW25: 11 | BX25: 0 | BY25: 293
A26: Taichung City | C26: 女 Female | D26: 2374 | E26: 2120 | F26: 96 | G26: 55 | H26: 52 | I26: 0 | J26: 51 | K26: 2374 | L26: 96 | M26: 83 | N26: 142 | O26: 188 | P26: 230 | Q26: 619 | R26: 444 | S26: 402 | T26: 170 | U26: 0 | V26: 2374 | W26: 75 | X26: 123 | Y26: 154 | Z26: 299 | AA26: 48 | AB26: 208 | AC26: 15 | AD26: 9 | AE26: 5 | AF26: 1438 | AG26: 2374 | AH26: 52 | AI26: 371 | AJ26: 93 | AK26: 11 | AL26: 136 | AM26: 102 | AN26: 9 | AO26: 29 | AP26: 2 | AQ26: 1 | AR26: 284 | AS26: 68 | AT26: 238 | AU26: 180 | AV26: 798 | AW26: 2374 | AX26: 2146 | AY26: 23 | AZ26: 8 | BA26: 56 | BB26: 0 | BC26: 8 | BD26: 29 | BE26: 15 | BF26: 22 | BG26: 67 | BH26: 958 | BI26: 0 | BJ26: 0 | BK26: 18 | BL26: 44 | BM26: 96 | BN26: 273 | BO26: 222 | BP26: 188 | BQ26: 61 | BR26: 56 | BS26: 958 | BT26: 800 | BU26: 25 | BV26: 21 | BW26: 27 | BX26: 1 | BY26: 84
C27: 其他 Other | D27: 5 | E27: 3 | F27: 0 | G27: 0 | H27: 0 | I27: 0 | J27: 2 | K27: 5 | L27: 3 | M27: 1 | N27: 0 | O27: 0 | P27: 0 | Q27: 0 | R27: 0 | S27: 0 | T27: 0 | U27: 1 | V27: 5 | W27: 1 | X27: 2 | Y27: 0 | Z27: 0 | AA27: 0 | AB27: 0 | AC27: 0 | AD27: 0 | AE27: 0 | AF27: 2 | AG27: 5 | AH27: 0 | AI27: 0 | AJ27: 0 | AK27: 0 | AL27: 0 | AM27: 0 | AN27: 0 | AO27: 0 | AP27: 0 | AQ27: 0 | AR27: 0 | AS27: 0 | AT27: 0 | AU27: 0 | AV27: 5 | AW27: 5 | AX27: 2 | AY27: 0 | AZ27: 0 | BA27: 0 | BB27: 0 | BC27: 0 | BD27: 0 | BE27: 0 | BF27: 0 | BG27: 3 | BH27: 25 | BI27: 0 | BJ27: 0 | BK27: 1 | BL27: 3 | BM27: 0 | BN27: 6 | BO27: 1 | BP27: 2 | BQ27: 0 | BR27: 12 | BS27: 25 | BT27: 8 | BU27: 0 | BV27: 0 | BW27: 1 | BX27: 0 | BY27: 16
A28: 臺南市 | C28: 計 Total | D28: 1621 | E28: 1546 | F28: 34 | G28: 15 | H28: 15 | I28: 0 | J28: 11 | K28: 1621 | L28: 72 | M28: 87 | N28: 68 | O28: 115 | P28: 130 | Q28: 361 | R28: 306 | S28: 304 | T28: 178 | U28: 0 | V28: 1621 | W28: 74 | X28: 143 | Y28: 94 | Z28: 192 | AA28: 36 | AB28: 105 | AC28: 12 | AD28: 30 | AE28: 4 | AF28: 931 | AG28: 1621 | AH28: 25 | AI28: 238 | AJ28: 29 | AK28: 34 | AL28: 131 | AM28: 60 | AN28: 4 | AO28: 12 | AP28: 3 | AQ28: 1 | AR28: 164 | AS28: 97 | AT28: 212 | AU28: 228 | AV28: 383 | AW28: 1621 | AX28: 1478 | AY28: 28 | AZ28: 3 | BA28: 23 | BB28: 1 | BC28: 9 | BD28: 36 | BE28: 8 | BF28: 20 | BG28: 15 | BH28: 1595 | BI28: 0 | BJ28: 2 | BK28: 33 | BL28: 73 | BM28: 116 | BN28: 402 | BO28: 453 | BP28: 359 | BQ28: 131 | BR28: 26 | BS28: 1595 | BT28: 1522 | BU28: 25 | BV28: 8 | BW28: 5 | BX28: 0 | BY28: 35
C29: 男 Male | D29: 475 | E29: 466 | F29: 6 | G29: 0 | H29: 0 | I29: 0 | J29: 3 | K29: 475 | L29: 46 | M29: 44 | N29: 37 | O29: 24 | P29: 29 | Q29: 68 | R29: 79 | S29: 90 | T29: 58 | U29: 0 | V29: 475 | W29: 48 | X29: 57 | Y29: 37 | Z29: 53 | AA29: 7 | AB29: 28 | AC29: 3 | AD29: 5 | AE29: 2 | AF29: 235 | AG29: 475 | AH29: 4 | AI29: 39 | AJ29: 8 | AK29: 13 | AL29: 65 | AM29: 16 | AN29: 1 | AO29: 3 | AP29: 2 | AQ29: 0 | AR29: 0 | AS29: 49 | AT29: 57 | AU29: 47 | AV29: 171 | AW29: 475 | AX29: 426 | AY29: 11 | AZ29: 2 | BA29: 3 | BB29: 1 | BC29: 2 | BD29: 16 | BE29: 5 | BF29: 7 | BG29: 2 | BH29: 1211 | BI29: 0 | BJ29: 1 | BK29: 27 | BL29: 51 | BM29: 88 | BN29: 299 | BO29: 337 | BP29: 295 | BQ29: 94 | BR29: 19 | BS29: 1211 | BT29: 1167 | BU29: 15 | BV29: 1 | BW29: 5 | BX29: 0 | BY29: 23
A30: Tainan City | C30: 女 Female | D30: 1146 | E30: 1080 | F30: 28 | G30: 15 | H30: 15 | I30: 0 | J30: 8 | K30: 1146 | L30: 26 | M30: 43 | N30: 31 | O30: 91 | P30: 101 | Q30: 293 | R30: 227 | S30: 214 | T30: 120 | U30: 0 | V30: 1146 | W30: 26 | X30: 86 | Y30: 57 | Z30: 139 | AA30: 29 | AB30: 77 | AC30: 9 | AD30: 25 | AE30: 2 | AF30: 696 | AG30: 1146 | AH30: 21 | AI30: 199 | AJ30: 21 | AK30: 21 | AL30: 66 | AM30: 44 | AN30: 3 | AO30: 9 | AP30: 1 | AQ30: 1 | AR30: 164 | AS30: 48 | AT30: 155 | AU30: 181 | AV30: 212 | AW30: 1146 | AX30: 1052 | AY30: 17 | AZ30: 1 | BA30: 20 | BB30: 0 | BC30: 7 | BD30: 20 | BE30: 3 | BF30: 13 | BG30: 13 | BH30: 381 | BI30: 0 | BJ30: 1 | BK30: 6 | BL30: 22 | BM30: 28 | BN30: 103 | BO30: 115 | BP30: 64 | BQ30: 37 | BR30: 5 | BS30: 381 | BT30: 354 | BU30: 10 | BV30: 7 | BW30: 0 | BX30: 0 | BY30: 10
C31: 其他 Other | D31: 0 | E31: 0 | F31: 0 | G31: 0 | H31: 0 | I31: 0 | J31: 0 | K31: 0 | L31: 0 | M31: 0 | N31: 0 | O31: 0 | P31: 0 | Q31: 0 | R31: 0 | S31: 0 | T31: 0 | U31: 0 | V31: 0 | W31: 0 | X31: 0 | Y31: 0 | Z31: 0 | AA31: 0 | AB31: 0 | AC31: 0 | AD31: 0 | AE31: 0 | AF31: 0 | AG31: 0 | AH31: 0 | AI31: 0 | AJ31: 0 | AK31: 0 | AL31: 0 | AM31: 0 | AN31: 0 | AO31: 0 | AP31: 0 | AQ31: 0 | AR31: 0 | AS31: 0 | AT31: 0 | AU31: 0 | AV31: 0 | AW31: 0 | AX31: 0 | AY31: 0 | AZ31: 0 | BA31: 0 | BB31: 0 | BC31: 0 | BD31: 0 | BE31: 0 | BF31: 0 | BG31: 0 | BH31: 3 | BI31: 0 | BJ31: 0 | BK31: 0 | BL31: 0 | BM31: 0 | BN31: 0 | BO31: 1 | BP31: 0 | BQ31: 0 | BR31: 2 | BS31: 3 | BT31: 1 | BU31: 0 | BV31: 0 | BW31: 0 | BX31: 0 | BY31: 2
A32: 高雄市 | C32: 計 Total | D32: 3377 | E32: 3177 | F32: 100 | G32: 27 | H32: 29 | I32: 1 | J32: 43 | K32: 3377 | L32: 207 | M32: 178 | N32: 203 | O32: 211 | P32: 281 | Q32: 663 | R32: 659 | S32: 615 | T32: 360 | U32: 0 | V32: 3377 | W32: 156 | X32: 245 | Y32: 259 | Z32: 481 | AA32: 98 | AB32: 287 | AC32: 43 | AD32: 27 | AE32: 8 | AF32: 1773 | AG32: 3377 | AH32: 72 | AI32: 497 | AJ32: 149 | AK32: 42 | AL32: 234 | AM32: 179 | AN32: 17 | AO32: 33 | AP32: 10 | AQ32: 6 | AR32: 294 | AS32: 206 | AT32: 402 | AU32: 212 | AV32: 1024 | AW32: 3377 | AX32: 3055 | AY32: 44 | AZ32: 10 | BA32: 93 | BB32: 3 | BC32: 15 | BD32: 64 | BE32: 26 | BF32: 37 | BG32: 30 | BH32: 3325 | BI32: 0 | BJ32: 6 | BK32: 69 | BL32: 158 | BM32: 295 | BN32: 814 | BO32: 915 | BP32: 750 | BQ32: 277 | BR32: 41 | BS32: 3325 | BT32: 3068 | BU32: 83 | BV32: 17 | BW32: 20 | BX32: 2 | BY32: 135
C33: 男 Male | D33: 1178 | E33: 1139 | F33: 26 | G33: 1 | H33: 2 | I33: 0 | J33: 10 | K33: 1178 | L33: 104 | M33: 105 | N33: 102 | O33: 61 | P33: 84 | Q33: 163 | R33: 211 | S33: 212 | T33: 136 | U33: 0 | V33: 1178 | W33: 79 | X33: 113 | Y33: 105 | Z33: 151 | AA33: 26 | AB33: 87 | AC33: 20 | AD33: 1 | AE33: 2 | AF33: 594 | AG33: 1178 | AH33: 19 | AI33: 84 | AJ33: 62 | AK33: 23 | AL33: 144 | AM33: 51 | AN33: 9 | AO33: 6 | AP33: 8 | AQ33: 4 | AR33: 1 | AS33: 101 | AT33: 122 | AU33: 98 | AV33: 446 | AW33: 1178 | AX33: 1055 | AY33: 15 | AZ33: 4 | BA33: 24 | BB33: 1 | BC33: 7 | BD33: 32 | BE33: 13 | BF33: 16 | BG33: 11 | BH33: 2320 | BI33: 0 | BJ33: 6 | BK33: 53 | BL33: 104 | BM33: 197 | BN33: 532 | BO33: 647 | BP33: 558 | BQ33: 195 | BR33: 28 | BS33: 2320 | BT33: 2156 | BU33: 60 | BV33: 4 | BW33: 6 | BX33: 1 | BY33: 93
A34: Kaohsiung City | C34: 女 Female | D34: 2197 | E34: 2037 | F34: 74 | G34: 26 | H34: 27 | I34: 1 | J34: 32 | K34: 2197 | L34: 102 | M34: 73 | N34: 100 | O34: 150 | P34: 197 | Q34: 500 | R34: 448 | S34: 403 | T34: 224 | U34: 0 | V34: 2197 | W34: 77 | X34: 132 | Y34: 154 | Z34: 330 | AA34: 72 | AB34: 200 | AC34: 23 | AD34: 26 | AE34: 6 | AF34: 1177 | AG34: 2197 | AH34: 53 | AI34: 413 | AJ34: 87 | AK34: 19 | AL34: 90 | AM34: 128 | AN34: 8 | AO34: 27 | AP34: 2 | AQ34: 2 | AR34: 293 | AS34: 105 | AT34: 280 | AU34: 114 | AV34: 576 | AW34: 2197 | AX34: 2000 | AY34: 29 | AZ34: 6 | BA34: 69 | BB34: 2 | BC34: 8 | BD34: 32 | BE34: 13 | BF34: 21 | BG34: 17 | BH34: 996 | BI34: 0 | BJ34: 0 | BK34: 16 | BL34: 54 | BM34: 97 | BN34: 281 | BO34: 266 | BP34: 192 | BQ34: 82 | BR34: 8 | BS34: 996 | BT34: 908 | BU34: 23 | BV34: 13 | BW34: 13 | BX34: 1 | BY34: 38
C35: 其他 Other | D35: 2 | E35: 1 | F35: 0 | G35: 0 | H35: 0 | I35: 0 | J35: 1 | K35: 2 | L35: 1 | M35: 0 | N35: 1 | O35: 0 | P35: 0 | Q35: 0 | R35: 0 | S35: 0 | T35: 0 | U35: 0 | V35: 2 | W35: 0 | X35: 0 | Y35: 0 | Z35: 0 | AA35: 0 | AB35: 0 | AC35: 0 | AD35: 0 | AE35: 0 | AF35: 2 | AG35: 2 | AH35: 0 | AI35: 0 | AJ35: 0 | AK35: 0 | AL35: 0 | AM35: 0 | AN35: 0 | AO35: 0 | AP35: 0 | AQ35: 0 | AR35: 0 | AS35: 0 | AT35: 0 | AU35: 0 | AV35: 2 | AW35: 2 | AX35: 0 | AY35: 0 | AZ35: 0 | BA35: 0 | BB35: 0 | BC35: 0 | BD35: 0 | BE35: 0 | BF35: 0 | BG35: 2 | BH35: 9 | BI35: 0 | BJ35: 0 | BK35: 0 | BL35: 0 | BM35: 1 | BN35: 1 | BO35: 2 | BP35: 0 | BQ35: 0 | BR35: 5 | BS35: 9 | BT35: 4 | BU35: 0 | BV35: 0 | BW35: 1 | BX35: 0 | BY35: 4
