Workbook
Name pp: '2005'!$B$1:$M$16
Name pp: '2006'!$B$2:$M$16
Name pp: '2007'!$B$4:$M$16
Name pp: '2008'!$B$4:$M$16
Name pp: '2009'!$B$4:$M$16
Name pp: '2010'!$B$4:$M$16
Name pp: '2011'!$B$4:$M$32
Name pp: '2011~2018'!$B$5:$M$16
Name pp: '2012'!$B$4:$M$32
Name pp: '2013'!$B$4:$M$32
Name pp: '2014'!$B$4:$M$33
Name pp: '2015'!$B$5:$M$36
Name pp: '2016'!$B$1:$M$36
Name pp: '2016Q1'!$B$1:$U$42
Name pp: '2016Q2'!$B$1:$U$42
Name pp: '2016Q3'!$B$1:$U$42
Name pp: '2016Q4'!$B$1:$U$42
Name pp: '2017'!$B$5:$M$36
Name pp: '2017Q1'!$B$1:$U$43
Name pp: '2017Q2'!$B$1:$U$43
Name pp: '2017Q3'!$B$1:$U$43
Name pp: '2017Q4'!$B$1:$U$43
Name pp: '2018'!$B$5:$M$36
Name pp: '2019'!$B$5:$M$36
Name pp: '2019Q1'!$B$1:$T$39
Name pp: '2019Q2'!$B$1:$T$39
Name pp: '2019Q3'!$B$1:$T$39
Name pp: '2019Q4'!$B$1:$T$39
Name pp: '2020'!$B$5:$M$36
Name pp: '歷年(2019~)'!$B$1:$M$24
Name pp: !#REF!

Sheet 歷年(2019~)
A1: 家庭暴力通報事件被害人性別及年齡統計(單位：人數)
A2: 年 別 Year | C2: 性別 | D2: 年齡別 By Age
D3: 合計 | E3: 0-未滿6歲 | F3: 6-未滿12歲 | G3: 12-未滿18歲 | H3: 18-未滿24歲 | I3: 24-未滿30歲 | J3: 30-未滿40歲 | K3: 40-未滿50歲 | L3: 50-未滿65歲 | M3: 65歲 以上 | N3: 不詳
C4: Gender | D4: Total | E4: Under 6 Years | F4: 6-Under 12 Years | G4: 12-Under 18 Years | H4: 18-Under 2 Years | I4: 24-Under 30 Years | J4: 30-Under 40 Years | K4: 40-Under 50 Years | L4: 50-Under 65 Years | M4: Above 65 Years | N4: Unknown
A5: 108年 2019 | C5: 計 Total | D5: 103930 | E5: 5900 | F5: 5705 | G5: 6282 | H5: 7047 | I5: 8834 | J5: 21970 | K5: 19124 | L5: 18484 | M5: 10504 | N5: 80
C6: 男 Male | D6: 33498 | E6: 3141 | F6: 3470 | G6: 2844 | H6: 2026 | I6: 2230 | J6: 4850 | K6: 5087 | L6: 5977 | M6: 3862 | N6: 11
C7: 女 Female | D7: 70362 | E7: 2733 | F7: 2222 | G7: 3429 | H7: 5019 | I7: 6600 | J7: 17118 | K7: 14033 | L7: 12504 | M7: 6641 | N7: 63
C8: 其他 Other | D8: 70 | E8: 26 | F8: 13 | G8: 9 | H8: 2 | I8: 4 | J8: 2 | K8: 4 | L8: 3 | M8: 1 | N8: 6
A9: 108年第1季 2019Q1 | C9: 計 Total | D9: 27504 | E9: 1485 | F9: 1380 | G9: 1567 | H9: 1803 | I9: 2332 | J9: 6017 | K9: 5048 | L9: 5042 | M9: 2777 | N9: 53
C10: 男 Male | D10: 8578 | E10: 819 | F10: 863 | G10: 709 | H10: 491 | I10: 526 | J10: 1257 | K10: 1290 | L10: 1598 | M10: 1017 | N10: 8
C11: 女 Female | D11: 18905 | E11: 662 | F11: 513 | G11: 856 | H11: 1312 | I11: 1805 | J11: 4758 | K11: 3757 | L11: 3442 | M11: 1760 | N11: 40
C12: 其他 Other | D12: 21 | E12: 4 | F12: 4 | G12: 2 | H12: 0 | I12: 1 | J12: 2 | K12: 1 | L12: 2 | M12: 0 | N12: 5
A13: 108年第2季 2019Q2 | C13: 計 Total | D13: 26905 | E13: 1543 | F13: 1723 | G13: 1733 | H13: 1700 | I13: 2252 | J13: 5746 | K13: 4925 | L13: 4606 | M13: 2677 | N13: 0
C14: 男 Male | D14: 8795 | E14: 798 | F14: 1053 | G14: 750 | H14: 506 | I14: 591 | J14: 1319 | K14: 1282 | L14: 1509 | M14: 987 | N14: 0
C15: 女 Female | D15: 18092 | E15: 739 | F15: 666 | G15: 981 | H15: 1193 | I15: 1660 | J15: 4427 | K15: 3641 | L15: 3096 | M15: 1689 | N15: 0
C16: 其他 Other | D16: 18 | E16: 6 | F16: 4 | G16: 2 | H16: 1 | I16: 1 | J16: 0 | K16: 2 | L16: 1 | M16: 1 | N16: 0
A17: 108年第3季 2019Q3 | C17: 計 Total | D17: 25590 | E17: 1424 | F17: 1141 | G17: 1354 | H17: 1872 | I17: 2228 | J17: 5407 | K17: 4902 | L17: 4568 | M17: 2693 | N17: 1
C18: 男 Male | D18: 8121 | E18: 738 | F18: 679 | G18: 634 | H18: 526 | I18: 584 | J18: 1180 | K18: 1321 | L18: 1468 | M18: 991 | N18: 0
C19: 女 Female | D19: 17453 | E19: 679 | F19: 459 | G19: 718 | H19: 1345 | I19: 1642 | J19: 4227 | K19: 3581 | L19: 3100 | M19: 1702 | N19: 0
C20: 其他 Other | D20: 16 | E20: 7 | F20: 3 | G20: 2 | H20: 1 | I20: 2 | J20: 0 | K20: 0 | L20: 0 | M20: 0 | N20: 1
A21: 108年第4季 2019Q4 | C21: 計 Total | D21: 23931 | E21: 1448 | F21: 1461 | G21: 1628 | H21: 1672 | I21: 2022 | J21: 4800 | K21: 4249 | L21: 4268 | M21: 2357 | N21: 26
C22: 男 Male | D22: 8004 | E22: 786 | F22: 875 | G22: 751 | H22: 503 | I22: 529 | J22: 1094 | K22: 1194 | L22: 1402 | M22: 867 | N22: 3
C23: 女 Female | D23: 15912 | E23: 653 | F23: 584 | G23: 874 | H23: 1169 | I23: 1493 | J23: 3706 | K23: 3054 | L23: 2866 | M23: 1490 | N23: 23
C24: 其他 Other | D24: 15 | E24: 9 | F24: 2 | G24: 3 | H24: 0 | I24: 0 | J24: 0 | K24: 1 | L24: 0 | M24: 0 | N24: 0
A25: 109年 2020 | C25: 計 Total
C26: 男 Male
C27: 女 Female
C28: 其他 Other
A29: 109年 2020 | C29: 計 Total | D29: 114381 | E29: 6031 | F29: 7703 | G29: 7698 | H29: 7828 | I29: 9819 | J29: 22055 | K29: 21054 | L29: 19881 | M29: 11822 | N29: 490
C30: 男 Male | D30: 39225 | E30: 3367 | F30: 4569 | G30: 3451 | H30: 2380 | I30: 2660 | J30: 5443 | K30: 5991 | L30: 6806 | M30: 4457 | N30: 101
C31: 女 Female | D31: 75083 | E31: 2643 | F31: 3116 | G31: 4234 | H31: 5446 | I31: 7158 | J31: 16611 | K31: 15059 | L31: 13073 | M31: 7362 | N31: 381
C32: 其他 Other | D32: 73 | E32: 21 | F32: 18 | G32: 13 | H32: 2 | I32: 1 | J32: 1 | K32: 4 | L32: 2 | M32: 3 | N32: 8
A33: 110年 2021 | C33: 計 Total | D33: 118532 | E33: 5577 | F33: 7679 | G33: 7579 | H33: 8504 | I33: 10231 | J33: 22213 | K33: 22183 | L33: 20976 | M33: 13127 | N33: 463
C34: 男 Male | D34: 42274 | E34: 3198 | F34: 4561 | G34: 3505 | H34: 2780 | I34: 2998 | J34: 5931 | K34: 6695 | L34: 7519 | M34: 4987 | N34: 100
C35: 女 Female | D35: 76189 | E35: 2360 | F35: 3103 | G35: 4065 | H35: 5722 | I35: 7231 | J35: 16280 | K35: 15486 | L35: 13454 | M35: 8139 | N35: 349
C36: 其他 Other | D36: 22 | E36: 12 | F36: 1 | G36: 1 | H36: 1 | I36: 2 | J36: 1 | K36: 1 | L36: 0 | M36: 1 | N36: 2
C37: 不詳Unknown | D37: 47 | E37: 7 | F37: 14 | G37: 8 | H37: 1 | I37: 0 | J37: 1 | K37: 1 | L37: 3 | M37: 0 | N37: 12
A38: 111年 2022 | C38: 計 Total | D38: 123741 | E38: 5733 | F38: 7939 | G38: 7603 | H38: 8464 | I38: 11284 | J38: 22600 | K38: 24019 | L38: 21548 | M38: 14167 | N38: 384
C39: 男 Male | D39: 44773 | E39: 3210 | F39: 4720 | G39: 3422 | H39: 2740 | I39: 3399 | J39: 6371 | K39: 7418 | L39: 8057 | M39: 5322 | N39: 114
C40: 女 Female | D40: 78903 | E40: 2510 | F40: 3196 | G40: 4170 | H40: 5721 | I40: 7883 | J40: 16227 | K40: 16598 | L40: 13488 | M40: 8843 | N40: 267
...

Sheet 2025
A1: 家庭暴力事件通報被害及相對人概況Overview of Victim and Offender Status in Reporting Cases of Domestic Violence
A2: 114年，2025
A3: 單位：人數 unit:Person
A4: 區域別 Locality | C4: 性別 | D4: 年齡別 By Age
D5: 合計 | E5: 0-未滿6歲 | F5: 6-未滿12歲 | G5: 12-未滿18歲 | H5: 18-未滿24歲 | I5: 24-未滿30歲 | J5: 30-未滿40歲 | K5: 40-未滿50歲 | L5: 50-未滿65歲 | M5: 65歲 以上 | N5: 不詳
C7: Gender | D7: Total | E7: Under 6 Years | F7: 6-Under 12 Years | G7: 12-Under 18 Years | H7: 18-Under 2 Years | I7: 24-Under 30 Years | J7: 30-Under 40 Years | K7: 40-Under 50 Years | L7: 50-Under 65 Years | M7: Above 65 Years | N7: Unknown
A8: 總計 | C8: 計 Total | D8: 146105 | E8: 6231 | F8: 10228 | G8: 8640 | H8: 8933 | I8: 12897 | J8: 25709 | K8: 29292 | L8: 25552 | M8: 18298 | N8: 325
C9: 男 Male | D9: 56855 | E9: 3616 | F9: 6224 | G9: 4078 | H9: 3138 | I9: 4251 | J9: 8413 | K9: 10053 | L9: 10025 | M9: 6956 | N9: 101
A10: Total | C10: 女 Female | D10: 89121 | E10: 2571 | F10: 3973 | G10: 4533 | H10: 5790 | I10: 8644 | J10: 17293 | K10: 19233 | L10: 15523 | M10: 11339 | N10: 222
C11: 其他 Other | D11: 13 | E11: 0 | F11: 0 | G11: 0 | H11: 4 | I11: 1 | J11: 3 | K11: 3 | L11: 2 | M11: 0 | N11: 0
C12: 不詳Unknown | D12: 116 | E12: 44 | F12: 31 | G12: 29 | H12: 1 | I12: 1 | J12: 0 | K12: 3 | L12: 2 | M12: 3 | N12: 2
A13: 新北市 | C13: 計 Total | D13: 24510 | E13: 906 | F13: 2024 | G13: 1592 | H13: 1606 | I13: 2149 | J13: 4342 | K13: 4827 | L13: 4106 | M13: 2809 | N13: 149
C14: 男 Male | D14: 9014 | E14: 509 | F14: 1209 | G14: 731 | H14: 532 | I14: 656 | J14: 1263 | K14: 1579 | L14: 1511 | M14: 981 | N14: 43
A15: New Taipei City | C15: 女 Female | D15: 15440 | E15: 382 | F15: 797 | G15: 845 | H15: 1072 | I15: 1492 | J15: 3079 | K15: 3246 | L15: 2595 | M15: 1826 | N15: 106
C16: 其他 Other | D16: 2 | E16: 0 | F16: 0 | G16: 0 | H16: 2 | I16: 0 | J16: 0 | K16: 0 | L16: 0 | M16: 0 | N16: 0
C17: 不詳Unknown | D17: 54 | E17: 15 | F17: 18 | G17: 16 | H17: 0 | I17: 1 | J17: 0 | K17: 2 | L17: 0 | M17: 2 | N17: 0
A18: 臺北市 | C18: 計 Total | D18: 14075 | E18: 562 | F18: 1078 | G18: 999 | H18: 779 | I18: 1059 | J18: 2196 | K18: 2762 | L18: 2614 | M18: 1976 | N18: 50
C19: 男 Male | D19: 5628 | E19: 321 | F19: 682 | G19: 520 | H19: 266 | I19: 367 | J19: 770 | K19: 937 | L19: 1030 | M19: 718 | N19: 17
A20: Taipei City | C20: 女 Female | D20: 8426 | E20: 233 | F20: 392 | G20: 475 | H20: 513 | I20: 691 | J20: 1426 | K20: 1823 | L20: 1583 | M20: 1258 | N20: 32
C21: 其他 Other | D21: 3 | E21: 0 | F21: 0 | G21: 0 | H21: 0 | I21: 1 | J21: 0 | K21: 2 | L21: 0 | M21: 0 | N21: 0
C22: 不詳Unknown | D22: 18 | E22: 8 | F22: 4 | G22: 4 | H22: 0 | I22: 0 | J22: 0 | K22: 0 | L22: 1 | M22: 0 | N22: 1
A23: 桃園市 | C23: 計 Total | D23: 15565 | E23: 652 | F23: 1228 | G23: 1042 | H23: 996 | I23: 1578 | J23: 2991 | K23: 3190 | L23: 2400 | M23: 1472 | N23: 16
C24: 男 Male | D24: 6085 | E24: 394 | F24: 748 | G24: 483 | H24: 373 | I24: 503 | J24: 1001 | K24: 1084 | L24: 929 | M24: 565 | N24: 5
A25: Taoyuan City | C25: 女 Female | D25: 9477 | E25: 258 | F25: 480 | G25: 559 | H25: 623 | I25: 1075 | J25: 1989 | K25: 2105 | L25: 1471 | M25: 906 | N25: 11
C26: 其他 Other | D26: 1 | E26: 0 | F26: 0 | G26: 0 | H26: 0 | I26: 0 | J26: 1 | K26: 0 | L26: 0 | M26: 0 | N26: 0
C27: 不詳Unknown | D27: 2 | E27: 0 | F27: 0 | G27: 0 | H27: 0 | I27: 0 | J27: 0 | K27: 1 | L27: 0 | M27: 1 | N27: 0
A28: 臺中市 | C28: 計 Total | D28: 19542 | E28: 679 | F28: 1295 | G28: 1155 | H28: 1355 | I28: 1893 | J28: 3659 | K28: 4016 | L28: 3266 | M28: 2188 | N28: 36
C29: 男 Male | D29: 7821 | E29: 407 | F29: 806 | G29: 591 | H29: 477 | I29: 652 | J29: 1261 | K29: 1459 | L29: 1289 | M29: 867 | N29: 12
A30: Taichung City | C30: 女 Female | D30: 11718 | E30: 272 | F30: 489 | G30: 563 | H30: 877 | I30: 1241 | J30: 2398 | K30: 2557 | L30: 1976 | M30: 1321 | N30: 24
C31: 其他 Other | D31: 2 | E31: 0 | F31: 0 | G31: 0 | H31: 1 | I31: 0 | J31: 0 | K31: 0 | L31: 1 | M31: 0 | N31: 0
C32: 不詳Unknown | D32: 1 | E32: 0 | F32: 0 | G32: 1 | H32: 0 | I32: 0 | J32: 0 | K32: 0 | L32: 0 | M32: 0 | N32: 0
A33: 臺南市 | C33: 計 Total | D33: 10228 | E33: 538 | F33: 795 | G33: 594 | H33: 566 | I33: 856 | J33: 1753 | K33: 1978 | L33: 1751 | M33: 1392 | N33: 5
C34: 男 Male | D34: 3799 | E34: 314 | F34: 494 | G34: 248 | H34: 183 | I34: 277 | J34: 539 | K34: 603 | L34: 642 | M34: 498 | N34: 1
A35: Tainan City | C35: 女 Female | D35: 6426 | E35: 223 | F35: 301 | G35: 344 | H35: 383 | I35: 579 | J35: 1214 | K35: 1375 | L35: 1109 | M35: 894 | N35: 4
C36: 其他 Other | D36: 0 | E36: 0 | F36: 0 | G36: 0 | H36: 0 | I36: 0 | J36: 0 | K36: 0 | L36: 0 | M36: 0 | N36: 0
C37: 不詳Unknown | D37: 3 | E37: 1 | F37: 0 | G37: 2 | H37: 0 | I37: 0 | J37: 0 | K37: 0 | L37: 0 | M37: 0 | N37: 0
A38: 高雄市 | C38: 計 Total | D38: 19568 | E38: 775 | F38: 1161 | G38: 1068 | H38: 1187 | I38: 1743 | J38: 3433 | K38: 3973 | L38: 3576 | M38: 2641 | N38: 11
C39: 男 Male | D39: 7891 | E39: 470 | F39: 693 | G39: 500 | H39: 455 | I39: 595 | J39: 1258 | K39: 1453 | L39: 1458 | M39: 1005 | N39: 4
A40: Kaohsiung City | C40: 女 Female | D40: 11676 | E40: 305 | F40: 468 | G40: 568 | H40: 731 | I40: 1148 | J40: 2175 | K40: 2520 | L40: 2118 | M40: 1636 | N40: 7
C41: 其他 Other | D41: 1 | E41: 0 | F41: 0 | G41: 0 | H41: 1 | I41: 0 | J41: 0 | K41: 0 | L41: 0 | M41: 0 | N41: 0
...

Sheet 2024
A1: 家庭暴力通報事件被害人性別及年齡統計(單位：人數)
A2: 113年，2024
A3: 單位：人數 unit:Person
A4: 區域別 Locality | C4: 性別 | D4: 年齡別 By Age
D5: 合計 | E5: 0-未滿6歲 | F5: 6-未滿12歲 | G5: 12-未滿18歲 | H5: 18-未滿24歲 | I5: 24-未滿30歲 | J5: 30-未滿40歲 | K5: 40-未滿50歲 | L5: 50-未滿65歲 | M5: 65歲 以上 | N5: 不詳
C7: Gender | D7: Total | E7: Under 6 Years | F7: 6-Under 12 Years | G7: 12-Under 18 Years | H7: 18-Under 2 Years | I7: 24-Under 30 Years | J7: 30-Under 40 Years | K7: 40-Under 50 Years | L7: 50-Under 65 Years | M7: Above 65 Years | N7: Unknown
A8: 總計 | C8: 計 Total | D8: 138859 | E8: 6224 | F8: 9842 | G8: 8045 | H8: 8896 | I8: 12432 | J8: 24757 | K8: 27308 | L8: 24160 | M8: 16866 | N8: 329
C9: 男 Male | D9: 52894 | E9: 3592 | F9: 5933 | G9: 3756 | H9: 3011 | I9: 4032 | J9: 7768 | K9: 8940 | L9: 9390 | M9: 6386 | N9: 86
A10: Total | C10: 女 Female | D10: 85864 | E10: 2613 | F10: 3875 | G10: 4265 | H10: 5884 | I10: 8397 | J10: 16984 | K10: 18362 | L10: 14766 | M10: 10480 | N10: 238
C11: 其他 Other | D11: 14 | E11: 0 | F11: 0 | G11: 0 | H11: 1 | I11: 3 | J11: 2 | K11: 4 | L11: 1 | M11: 0 | N11: 3
C12: 不詳Unknown | D12: 87 | E12: 19 | F12: 34 | G12: 24 | H12: 0 | I12: 0 | J12: 3 | K12: 2 | L12: 3 | M12: 0 | N12: 2
A13: 新北市 | C13: 計 Total | D13: 23113 | E13: 887 | F13: 1857 | G13: 1519 | H13: 1551 | I13: 2071 | J13: 4167 | K13: 4528 | L13: 3784 | M13: 2578 | N13: 171
C14: 男 Male | D14: 8245 | E14: 538 | F14: 1118 | G14: 668 | H14: 495 | I14: 579 | J14: 1251 | K14: 1337 | L14: 1340 | M14: 866 | N14: 53
A15: New Taipei City | C15: 女 Female | D15: 14831 | E15: 344 | F15: 726 | G15: 839 | H15: 1056 | I15: 1490 | J15: 2915 | K15: 3189 | L15: 2443 | M15: 1712 | N15: 117
C16: 其他 Other | D16: 4 | E16: 0 | F16: 0 | G16: 0 | H16: 0 | I16: 2 | J16: 1 | K16: 1 | L16: 0 | M16: 0 | N16: 0
C17: 不詳Unknown | D17: 33 | E17: 5 | F17: 13 | G17: 12 | H17: 0 | I17: 0 | J17: 0 | K17: 1 | L17: 1 | M17: 0 | N17: 1
A18: 臺北市 | C18: 計 Total | D18: 13194 | E18: 587 | F18: 1051 | G18: 983 | H18: 770 | I18: 1007 | J18: 2148 | K18: 2434 | L18: 2387 | M18: 1783 | N18: 44
C19: 男 Male | D19: 5251 | E19: 320 | F19: 630 | G19: 530 | H19: 264 | I19: 341 | J19: 715 | K19: 846 | L19: 934 | M19: 664 | N19: 7
A20: Taipei City | C20: 女 Female | D20: 7928 | E20: 264 | F20: 412 | G20: 451 | H20: 506 | I20: 666 | J20: 1433 | K20: 1588 | L20: 1453 | M20: 1119 | N20: 36
C21: 其他 Other | D21: 1 | E21: 0 | F21: 0 | G21: 0 | H21: 0 | I21: 0 | J21: 0 | K21: 0 | L21: 0 | M21: 0 | N21: 1
C22: 不詳Unknown | D22: 14 | E22: 3 | F22: 9 | G22: 2 | H22: 0 | I22: 0 | J22: 0 | K22: 0 | L22: 0 | M22: 0 | N22: 0
A23: 桃園市 | C23: 計 Total | D23: 14574 | E23: 617 | F23: 1224 | G23: 939 | H23: 980 | I23: 1465 | J23: 2754 | K23: 2909 | L23: 2258 | M23: 1408 | N23: 20
C24: 男 Male | D24: 5473 | E24: 375 | F24: 769 | G24: 418 | H24: 328 | I24: 473 | J24: 792 | K24: 883 | L24: 914 | M24: 517 | N24: 4
A25: Taoyuan City | C25: 女 Female | D25: 9100 | E25: 242 | F25: 455 | G25: 521 | H25: 652 | I25: 992 | J25: 1961 | K25: 2026 | L25: 1344 | M25: 891 | N25: 16
C26: 其他 Other | D26: 0 | E26: 0 | F26: 0 | G26: 0 | H26: 0 | I26: 0 | J26: 0 | K26: 0 | L26: 0 | M26: 0 | N26: 0
C27: 不詳Unknown | D27: 1 | E27: 0 | F27: 0 | G27: 0 | H27: 0 | I27: 0 | J27: 1 | K27: 0 | L27: 0 | M27: 0 | N27: 0
A28: 臺中市 | C28: 計 Total | D28: 18668 | E28: 788 | F28: 1193 | G28: 954 | H28: 1281 | I28: 1827 | J28: 3626 | K28: 3718 | L28: 3220 | M28: 2026 | N28: 35
C29: 男 Male | D29: 7147 | E29: 455 | F29: 723 | G29: 445 | H29: 440 | I29: 616 | J29: 1154 | K29: 1291 | L29: 1240 | M29: 774 | N29: 9
A30: Taichung City | C30: 女 Female | D30: 11512 | E30: 330 | F30: 470 | G30: 507 | H30: 841 | I30: 1211 | J30: 2470 | K30: 2426 | L30: 1980 | M30: 1252 | N30: 25
C31: 其他 Other | D31: 2 | E31: 0 | F31: 0 | G31: 0 | H31: 0 | I31: 0 | J31: 0 | K31: 1 | L31: 0 | M31: 0 | N31: 1
C32: 不詳Unknown | D32: 7 | E32: 3 | F32: 0 | G32: 2 | H32: 0 | I32: 0 | J32: 2 | K32: 0 | L32: 0 | M32: 0 | N32: 0
A33: 臺南市 | C33: 計 Total | D33: 9273 | E33: 492 | F33: 733 | G33: 503 | H33: 552 | I33: 736 | J33: 1542 | K33: 1848 | L33: 1582 | M33: 1279 | N33: 6
C34: 男 Male | D34: 3438 | E34: 290 | F34: 427 | G34: 238 | H34: 166 | I34: 221 | J34: 434 | K34: 595 | L34: 558 | M34: 509 | N34: 0
A35: Tainan City | C35: 女 Female | D35: 5832 | E35: 202 | F35: 305 | G35: 265 | H35: 385 | I35: 515 | J35: 1108 | K35: 1252 | L35: 1024 | M35: 770 | N35: 6
C36: 其他 Other | D36: 2 | E36: 0 | F36: 0 | G36: 0 | H36: 1 | I36: 0 | J36: 0 | K36: 1 | L36: 0 | M36: 0 | N36: 0
C37: 不詳Unknown | D37: 1 | E37: 0 | F37: 1 | G37: 0 | H37: 0 | I37: 0 | J37: 0 | K37: 0 | L37: 0 | M37: 0 | N37: 0
A38: 高雄市 | C38: 計 Total | D38: 18612 | E38: 762 | F38: 1181 | G38: 953 | H38: 1211 | I38: 1699 | J38: 3259 | K38: 3681 | L38: 3458 | M38: 2403 | N38: 5
C39: 男 Male | D39: 7507 | E39: 423 | F39: 703 | G39: 440 | H39: 442 | I39: 612 | J39: 1180 | K39: 1346 | L39: 1469 | M39: 892 | N39: 0
A40: Kaohsiung City | C40: 女 Female | D40: 11101 | E40: 337 | F40: 477 | G40: 513 | H40: 769 | I40: 1087 | J40: 2079 | K40: 2335 | L40: 1989 | M40: 1511 | N40: 4
C41: 其他 Other | D41: 0 | E41: 0 | F41: 0 | G41: 0 | H41: 0 | I41: 0 | J41: 0 | K41: 0 | L41: 0 | M41: 0 | N41: 0
...

Sheet 2023
A1: 家庭暴力通報事件被害人性別及年齡統計(單位：人數)
A2: 112年，2023
A3: 單位：人數 unit:Person
A4: 區域別 Locality | C4: 性別 | D4: 年齡別 By Age
D5: 合計 | E5: 0-未滿6歲 | F5: 6-未滿12歲 | G5: 12-未滿18歲 | H5: 18-未滿24歲 | I5: 24-未滿30歲 | J5: 30-未滿40歲 | K5: 40-未滿50歲 | L5: 50-未滿65歲 | M5: 65歲 以上 | N5: 不詳
C7: Gender | D7: Total | E7: Under 6 Years | F7: 6-Under 12 Years | G7: 12-Under 18 Years | H7: 18-Under 2 Years | I7: 24-Under 30 Years | J7: 30-Under 40 Years | K7: 40-Under 50 Years | L7: 50-Under 65 Years | M7: Above 65 Years | N7: Unknown
A8: 總計 | C8: 計 Total | D8: 132147 | E8: 6003 | F8: 9076 | G8: 7755 | H8: 8658 | I8: 11839 | J8: 23625 | K8: 26108 | L8: 23001 | M8: 15730 | N8: 352
C9: 男 Male | D9: 48891 | E9: 3465 | F9: 5361 | G9: 3512 | H9: 2888 | I9: 3731 | J9: 6995 | K9: 8311 | L9: 8677 | M9: 5850 | N9: 101
A10: Total | C10: 女 Female | D10: 83179 | E10: 2517 | F10: 3696 | G10: 4222 | H10: 5769 | I10: 8105 | J10: 16627 | K10: 17795 | L10: 14321 | M10: 9879 | N10: 248
C11: 其他 Other | D11: 13 | E11: 0 | F11: 1 | G11: 2 | H11: 1 | I11: 3 | J11: 2 | K11: 1 | L11: 1 | M11: 1 | N11: 1
C12: 不詳Unknown | D12: 64 | E12: 21 | F12: 18 | G12: 19 | H12: 0 | I12: 0 | J12: 1 | K12: 1 | L12: 2 | M12: 0 | N12: 2
A13: 新北市 | C13: 計 Total | D13: 21299 | E13: 759 | F13: 1598 | G13: 1306 | H13: 1479 | I13: 2004 | J13: 3784 | K13: 4322 | L13: 3565 | M13: 2291 | N13: 191
C14: 男 Male | D14: 7238 | E14: 443 | F14: 973 | G14: 600 | H14: 443 | I14: 561 | J14: 996 | K14: 1250 | L14: 1162 | M14: 756 | N14: 54
A15: New Taipei City | C15: 女 Female | D15: 14029 | E15: 310 | F15: 615 | G15: 696 | H15: 1036 | I15: 1441 | J15: 2787 | K15: 3072 | L15: 2402 | M15: 1535 | N15: 135
C16: 其他 Other | D16: 7 | E16: 0 | F16: 1 | G16: 1 | H16: 0 | I16: 2 | J16: 1 | K16: 0 | L16: 1 | M16: 0 | N16: 1
C17: 不詳Unknown | D17: 25 | E17: 6 | F17: 9 | G17: 9 | H17: 0 | I17: 0 | J17: 0 | K17: 0 | L17: 0 | M17: 0 | N17: 1
A18: 臺北市 | C18: 計 Total | D18: 12759 | E18: 574 | F18: 926 | G18: 851 | H18: 682 | I18: 1028 | J18: 2076 | K18: 2358 | L18: 2408 | M18: 1827 | N18: 29
C19: 男 Male | D19: 4911 | E19: 343 | F19: 526 | G19: 410 | H19: 251 | I19: 354 | J19: 682 | K19: 748 | L19: 918 | M19: 676 | N19: 3
A20: Taipei City | C20: 女 Female | D20: 7832 | E20: 227 | F20: 394 | G20: 438 | H20: 431 | I20: 673 | J20: 1394 | K20: 1608 | L20: 1490 | M20: 1151 | N20: 26
C21: 其他 Other | D21: 3 | E21: 0 | F21: 0 | G21: 1 | H21: 0 | I21: 1 | J21: 0 | K21: 1 | L21: 0 | M21: 0 | N21: 0
C22: 不詳Unknown | D22: 13 | E22: 4 | F22: 6 | G22: 2 | H22: 0 | I22: 0 | J22: 0 | K22: 1 | L22: 0 | M22: 0 | N22: 0
A23: 桃園市 | C23: 計 Total | D23: 13500 | E23: 670 | F23: 1224 | G23: 955 | H23: 903 | I23: 1247 | J23: 2567 | K23: 2654 | L23: 2030 | M23: 1237 | N23: 13
C24: 男 Male | D24: 5033 | E24: 409 | F24: 756 | G24: 389 | H24: 315 | I24: 403 | J24: 716 | K24: 796 | L24: 770 | M24: 474 | N24: 5
A25: Taoyuan City | C25: 女 Female | D25: 8464 | E25: 261 | F25: 466 | G25: 566 | H25: 588 | I25: 844 | J25: 1850 | K25: 1858 | L25: 1260 | M25: 763 | N25: 8
C26: 其他 Other | D26: 0 | E26: 0 | F26: 0 | G26: 0 | H26: 0 | I26: 0 | J26: 0 | K26: 0 | L26: 0 | M26: 0 | N26: 0
C27: 不詳Unknown | D27: 3 | E27: 0 | F27: 2 | G27: 0 | H27: 0 | I27: 0 | J27: 1 | K27: 0 | L27: 0 | M27: 0 | N27: 0
A28: 臺中市 | C28: 計 Total | D28: 18463 | E28: 974 | F28: 1242 | G28: 1056 | H28: 1278 | I28: 1756 | J28: 3490 | K28: 3551 | L28: 3106 | M28: 1976 | N28: 34
C29: 男 Male | D29: 6992 | E29: 555 | F29: 730 | G29: 486 | H29: 434 | I29: 535 | J29: 1071 | K29: 1247 | L29: 1187 | M29: 736 | N29: 11
A30: Taichung City | C30: 女 Female | D30: 11469 | E30: 419 | F30: 512 | G30: 570 | H30: 844 | I30: 1221 | J30: 2419 | K30: 2304 | L30: 1918 | M30: 1239 | N30: 23
C31: 其他 Other | D31: 1 | E31: 0 | F31: 0 | G31: 0 | H31: 0 | I31: 0 | J31: 0 | K31: 0 | L31: 0 | M31: 1 | N31: 0
C32: 不詳Unknown | D32: 1 | E32: 0 | F32: 0 | G32: 0 | H32: 0 | I32: 0 | J32: 0 | K32: 0 | L32: 1 | M32: 0 | N32: 0
A33: 臺南市 | C33: 計 Total | D33: 8779 | E33: 380 | F33: 625 | G33: 522 | H33: 530 | I33: 718 | J33: 1506 | K33: 1773 | L33: 1548 | M33: 1170 | N33: 7
C34: 男 Male | D34: 3047 | E34: 221 | F34: 360 | G34: 237 | H34: 161 | I34: 199 | J34: 411 | K34: 500 | L34: 537 | M34: 418 | N34: 3
A35: Tainan City | C35: 女 Female | D35: 5731 | E35: 159 | F35: 265 | G35: 284 | H35: 369 | I35: 519 | J35: 1095 | K35: 1273 | L35: 1011 | M35: 752 | N35: 4
C36: 其他 Other | D36: 0 | E36: 0 | F36: 0 | G36: 0 | H36: 0 | I36: 0 | J36: 0 | K36: 0 | L36: 0 | M36: 0 | N36: 0
C37: 不詳Unknown | D37: 1 | E37: 0 | F37: 0 | G37: 1 | H37: 0 | I37: 0 | J37: 0 | K37: 0 | L37: 0 | M37: 0 | N37: 0
A38: 高雄市 | C38: 計 Total | D38: 17824 | E38: 773 | F38: 1157 | G38: 1031 | H38: 1213 | I38: 1630 | J38: 3112 | K38: 3535 | L38: 3169 | M38: 2193 | N38: 11
C39: 男 Male | D39: 6997 | E39: 440 | F39: 701 | G39: 488 | H39: 431 | I39: 575 | J39: 1060 | K39: 1249 | L39: 1254 | M39: 796 | N39: 3
A40: Kaohsiung City | C40: 女 Female | D40: 10825 | E40: 333 | F40: 456 | G40: 542 | H40: 781 | I40: 1055 | J40: 2052 | K40: 2286 | L40: 1915 | M40: 1397 | N40: 8
C41: 其他 Other | D41: 1 | E41: 0 | F41: 0 | G41: 0 | H41: 1 | I41: 0 | J41: 0 | K41: 0 | L41: 0 | M41: 0 | N41: 0
...

Sheet 2022
A1: 家庭暴力通報事件被害人性別及年齡統計(單位：人數)
A2: 111年，2022
A3: 單位：人數 unit:Person
A4: 區域別 Locality | C4: 性別 | D4: 年齡別 By Age
D5: 合計 | E5: 0-未滿6歲 | F5: 6-未滿12歲 | G5: 12-未滿18歲 | H5: 18-未滿24歲 | I5: 24-未滿30歲 | J5: 30-未滿40歲 | K5: 40-未滿50歲 | L5: 50-未滿65歲 | M5: 65歲 以上 | N5: 不詳
C7: Gender | D7: Total | E7: Under 6 Years | F7: 6-Under 12 Years | G7: 12-Under 18 Years | H7: 18-Under 2 Years | I7: 24-Under 30 Years | J7: 30-Under 40 Years | K7: 40-Under 50 Years | L7: 50-Under 65 Years | M7: Above 65 Years | N7: Unknown
A8: 總計 | C8: 計 Total | D8: 123741 | E8: 5733 | F8: 7939 | G8: 7603 | H8: 8464 | I8: 11284 | J8: 22600 | K8: 24019 | L8: 21548 | M8: 14167 | N8: 384
C9: 男 Male | D9: 44773 | E9: 3210 | F9: 4720 | G9: 3422 | H9: 2740 | I9: 3399 | J9: 6371 | K9: 7418 | L9: 8057 | M9: 5322 | N9: 114
A10: Total | C10: 女 Female | D10: 78903 | E10: 2510 | F10: 3196 | G10: 4170 | H10: 5721 | I10: 7883 | J10: 16227 | K10: 16598 | L10: 13488 | M10: 8843 | N10: 267
C11: 其他 Other | D11: 14 | E11: 5 | F11: 1 | G11: 1 | H11: 2 | I11: 2 | J11: 0 | K11: 1 | L11: 0 | M11: 1 | N11: 1
C12: 不詳Unknown | D12: 51 | E12: 8 | F12: 22 | G12: 10 | H12: 1 | I12: 0 | J12: 2 | K12: 2 | L12: 3 | M12: 1 | N12: 2
A13: 新北市 | C13: 計 Total | D13: 19774 | E13: 800 | F13: 1379 | G13: 1318 | H13: 1438 | I13: 1883 | J13: 3562 | K13: 3859 | L13: 3293 | M13: 2042 | N13: 200
C14: 男 Male | D14: 6464 | E14: 443 | F14: 820 | G14: 570 | H14: 409 | I14: 478 | J14: 855 | K14: 1043 | L14: 1092 | M14: 690 | N14: 64
A15: New Taipei City | C15: 女 Female | D15: 13274 | E15: 352 | F15: 543 | G15: 741 | H15: 1028 | I15: 1404 | J15: 2706 | K15: 2814 | L15: 2200 | M15: 1351 | N15: 135
C16: 其他 Other | D16: 7 | E16: 2 | F16: 0 | G16: 0 | H16: 1 | I16: 1 | J16: 0 | K16: 1 | L16: 0 | M16: 1 | N16: 1
C17: 不詳Unknown | D17: 29 | E17: 3 | F17: 16 | G17: 7 | H17: 0 | I17: 0 | J17: 1 | K17: 1 | L17: 1 | M17: 0 | N17: 0
A18: 臺北市 | C18: 計 Total | D18: 12194 | E18: 474 | F18: 865 | G18: 810 | H18: 770 | I18: 1039 | J18: 2059 | K18: 2270 | L18: 2280 | M18: 1588 | N18: 39
C19: 男 Male | D19: 4717 | E19: 279 | F19: 525 | G19: 383 | H19: 245 | I19: 329 | J19: 681 | K19: 791 | L19: 871 | M19: 607 | N19: 6
A20: Taipei City | C20: 女 Female | D20: 7473 | E20: 194 | F20: 339 | G20: 426 | H20: 525 | I20: 710 | J20: 1378 | K20: 1479 | L20: 1409 | M20: 980 | N20: 33
C21: 其他 Other | D21: 1 | E21: 0 | F21: 1 | G21: 0 | H21: 0 | I21: 0 | J21: 0 | K21: 0 | L21: 0 | M21: 0 | N21: 0
C22: 不詳Unknown | D22: 3 | E22: 1 | F22: 0 | G22: 1 | H22: 0 | I22: 0 | J22: 0 | K22: 0 | L22: 0 | M22: 1 | N22: 0
A23: 桃園市 | C23: 計 Total | D23: 12410 | E23: 668 | F23: 1023 | G23: 916 | H23: 882 | I23: 1185 | J23: 2398 | K23: 2360 | L23: 1879 | M23: 1084 | N23: 15
C24: 男 Male | D24: 4389 | E24: 383 | F24: 628 | G24: 394 | H24: 271 | I24: 337 | J24: 669 | K24: 677 | L24: 657 | M24: 367 | N24: 6
A25: Taoyuan City | C25: 女 Female | D25: 8018 | E25: 284 | F25: 395 | G25: 522 | H25: 610 | I25: 848 | J25: 1729 | K25: 1682 | L25: 1222 | M25: 717 | N25: 9
C26: 其他 Other | D26: 1 | E26: 1 | F26: 0 | G26: 0 | H26: 0 | I26: 0 | J26: 0 | K26: 0 | L26: 0 | M26: 0 | N26: 0
C27: 不詳Unknown | D27: 2 | E27: 0 | F27: 0 | G27: 0 | H27: 1 | I27: 0 | J27: 0 | K27: 1 | L27: 0 | M27: 0 | N27: 0
A28: 臺中市 | C28: 計 Total | D28: 17446 | E28: 1030 | F28: 1187 | G28: 1093 | H28: 1289 | I28: 1634 | J28: 3394 | K28: 3328 | L28: 2723 | M28: 1708 | N28: 60
C29: 男 Male | D29: 6624 | E29: 587 | F29: 707 | G29: 517 | H29: 430 | I29: 523 | J29: 1003 | K29: 1094 | L29: 1083 | M29: 660 | N29: 20
A30: Taichung City | C30: 女 Female | D30: 10816 | E30: 442 | F30: 479 | G30: 575 | H30: 858 | I30: 1110 | J30: 2391 | K30: 2234 | L30: 1639 | M30: 1048 | N30: 40
C31: 其他 Other | D31: 4 | E31: 1 | F31: 0 | G31: 1 | H31: 1 | I31: 1 | J31: 0 | K31: 0 | L31: 0 | M31: 0 | N31: 0
C32: 不詳Unknown | D32: 2 | E32: 0 | F32: 1 | G32: 0 | H32: 0 | I32: 0 | J32: 0 | K32: 0 | L32: 1 | M32: 0 | N32: 0
A33: 臺南市 | C33: 計 Total | D33: 8059 | E33: 374 | F33: 526 | G33: 460 | H33: 532 | I33: 699 | J33: 1414 | K33: 1631 | L33: 1403 | M33: 1012 | N33: 8
C34: 男 Male | D34: 2759 | E34: 205 | F34: 315 | G34: 201 | H34: 179 | I34: 189 | J34: 348 | K34: 445 | L34: 499 | M34: 376 | N34: 2
A35: Tainan City | C35: 女 Female | D35: 5300 | E35: 169 | F35: 211 | G35: 259 | H35: 353 | I35: 510 | J35: 1066 | K35: 1186 | L35: 904 | M35: 636 | N35: 6
C36: 其他 Other | D36: 0 | E36: 0 | F36: 0 | G36: 0 | H36: 0 | I36: 0 | J36: 0 | K36: 0 | L36: 0 | M36: 0 | N36: 0
C37: 不詳Unknown | D37: 0 | E37: 0 | F37: 0 | G37: 0 | H37: 0 | I37: 0 | J37: 0 | K37: 0 | L37: 0 | M37: 0 | N37: 0
A38: 高雄市 | C38: 計 Total | D38: 17217 | E38: 772 | F38: 1004 | G38: 1105 | H38: 1149 | I38: 1611 | J38: 2992 | K38: 3365 | L38: 3176 | M38: 2026 | N38: 17
C39: 男 Male | D39: 6693 | E39: 415 | F39: 582 | G39: 502 | H39: 397 | I39: 553 | J39: 1007 | K39: 1172 | L39: 1297 | M39: 764 | N39: 4
A40: Kaohsiung City | C40: 女 Female | D40: 10521 | E40: 355 | F40: 422 | G40: 603 | H40: 752 | I40: 1058 | J40: 1985 | K40: 2193 | L40: 1879 | M40: 1262 | N40: 12
C41: 其他 Other | D41: 1 | E41: 1 | F41: 0 | G41: 0 | H41: 0 | I41: 0 | J41: 0 | K41: 0 | L41: 0 | M41: 0 | N41: 0
...

Sheet 2021
A1: 家庭暴力通報事件被害人性別及年齡統計(單位：人數)
A2: 110年，2021
A3: 單位：人數 unit:Person
A4: 區域別 Locality | C4: 性別 | D4: 年齡別 By Age
D5: 合計 | E5: 0-未滿6歲 | F5: 6-未滿12歲 | G5: 12-未滿18歲 | H5: 18-未滿24歲 | I5: 24-未滿30歲 | J5: 30-未滿40歲 | K5: 40-未滿50歲 | L5: 50-未滿65歲 | M5: 65歲 以上 | N5: 不詳
C7: Gender | D7: Total | E7: Under 6 Years | F7: 6-Under 12 Years | G7: 12-Under 18 Years | H7: 18-Under 2 Years | I7: 24-Under 30 Years | J7: 30-Under 40 Years | K7: 40-Under 50 Years | L7: 50-Under 65 Years | M7: Above 65 Years | N7: Unknown
A8: 總計 | C8: 計 Total | D8: 118532 | E8: 5577 | F8: 7679 | G8: 7579 | H8: 8504 | I8: 10231 | J8: 22213 | K8: 22183 | L8: 20976 | M8: 13127 | N8: 463
C9: 男 Male | D9: 42274 | E9: 3198 | F9: 4561 | G9: 3505 | H9: 2780 | I9: 2998 | J9: 5931 | K9: 6695 | L9: 7519 | M9: 4987 | N9: 100
A10: Total | C10: 女 Female | D10: 76189 | E10: 2360 | F10: 3103 | G10: 4065 | H10: 5722 | I10: 7231 | J10: 16280 | K10: 15486 | L10: 13454 | M10: 8139 | N10: 349
C11: 其他 Other | D11: 22 | E11: 12 | F11: 1 | G11: 1 | H11: 1 | I11: 2 | J11: 1 | K11: 1 | L11: 0 | M11: 1 | N11: 2
C12: 不詳Unknown | D12: 47 | E12: 7 | F12: 14 | G12: 8 | H12: 1 | I12: 0 | J12: 1 | K12: 1 | L12: 3 | M12: 0 | N12: 12
A13: 新北市 | C13: 計 Total | D13: 18921 | E13: 736 | F13: 1430 | G13: 1341 | H13: 1472 | I13: 1630 | J13: 3526 | K13: 3546 | L13: 3153 | M13: 1850 | N13: 237
C14: 男 Male | D14: 6176 | E14: 439 | F14: 855 | G14: 621 | H14: 454 | I14: 425 | J14: 787 | K14: 894 | L14: 973 | M14: 682 | N14: 46
A15: New Taipei City | C15: 女 Female | D15: 12720 | E15: 294 | F15: 565 | G15: 716 | H15: 1018 | I15: 1205 | J15: 2739 | K15: 2651 | L15: 2178 | M15: 1168 | N15: 186
C16: 其他 Other | D16: 2 | E16: 1 | F16: 0 | G16: 0 | H16: 0 | I16: 0 | J16: 0 | K16: 0 | L16: 0 | M16: 0 | N16: 1
C17: 不詳Unknown | D17: 23 | E17: 2 | F17: 10 | G17: 4 | H17: 0 | I17: 0 | J17: 0 | K17: 1 | L17: 2 | M17: 0 | N17: 4
A18: 臺北市 | C18: 計 Total | D18: 12216 | E18: 466 | F18: 792 | G18: 778 | H18: 902 | I18: 1039 | J18: 2058 | K18: 2220 | L18: 2360 | M18: 1555 | N18: 46
C19: 男 Male | D19: 4699 | E19: 271 | F19: 478 | G19: 382 | H19: 332 | I19: 352 | J19: 646 | K19: 757 | L19: 902 | M19: 569 | N19: 10
A20: Taipei City | C20: 女 Female | D20: 7515 | E20: 195 | F20: 314 | G20: 396 | H20: 568 | I20: 687 | J20: 1412 | K20: 1463 | L20: 1458 | M20: 986 | N20: 36
C21: 其他 Other | D21: 1 | E21: 0 | F21: 0 | G21: 0 | H21: 1 | I21: 0 | J21: 0 | K21: 0 | L21: 0 | M21: 0 | N21: 0
C22: 不詳Unknown | D22: 1 | E22: 0 | F22: 0 | G22: 0 | H22: 1 | I22: 0 | J22: 0 | K22: 0 | L22: 0 | M22: 0 | N22: 0
A23: 桃園市 | C23: 計 Total | D23: 11552 | E23: 570 | F23: 936 | G23: 845 | H23: 897 | I23: 1046 | J23: 2356 | K23: 2116 | L23: 1758 | M23: 1010 | N23: 18
C24: 男 Male | D24: 4114 | E24: 335 | F24: 568 | G24: 377 | H24: 300 | I24: 288 | J24: 633 | K24: 622 | L24: 623 | M24: 366 | N24: 2
A25: Taoyuan City | C25: 女 Female | D25: 7436 | E25: 234 | F25: 368 | G25: 468 | H25: 597 | I25: 758 | J25: 1723 | K25: 1494 | L25: 1135 | M25: 643 | N25: 16
C26: 其他 Other | D26: 2 | E26: 1 | F26: 0 | G26: 0 | H26: 0 | I26: 0 | J26: 0 | K26: 0 | L26: 0 | M26: 1 | N26: 0
C27: 不詳Unknown | D27: 0 | E27: 0 | F27: 0 | G27: 0 | H27: 0 | I27: 0 | J27: 0 | K27: 0 | L27: 0 | M27: 0 | N27: 0
A28: 臺中市 | C28: 計 Total | D28: 16229 | E28: 906 | F28: 1022 | G28: 943 | H28: 1174 | I28: 1525 | J28: 3280 | K28: 3021 | L28: 2697 | M28: 1603 | N28: 58
C29: 男 Male | D29: 6014 | E29: 524 | F29: 600 | G29: 444 | H29: 375 | I29: 493 | J29: 938 | K29: 982 | L29: 1007 | M29: 634 | N29: 17
A30: Taichung City | C30: 女 Female | D30: 10206 | E30: 378 | F30: 422 | G30: 498 | H30: 799 | I30: 1032 | J30: 2342 | K30: 2039 | L30: 1690 | M30: 969 | N30: 37
C31: 其他 Other | D31: 3 | E31: 3 | F31: 0 | G31: 0 | H31: 0 | I31: 0 | J31: 0 | K31: 0 | L31: 0 | M31: 0 | N31: 0
C32: 不詳Unknown | D32: 6 | E32: 1 | F32: 0 | G32: 1 | H32: 0 | I32: 0 | J32: 0 | K32: 0 | L32: 0 | M32: 0 | N32: 4
A33: 臺南市 | C33: 計 Total | D33: 7670 | E33: 408 | F33: 548 | G33: 496 | H33: 517 | I33: 595 | J33: 1404 | K33: 1398 | L33: 1369 | M33: 921 | N33: 14
C34: 男 Male | D34: 2601 | E34: 240 | F34: 328 | G34: 227 | H34: 149 | I34: 147 | J34: 348 | K34: 371 | L34: 455 | M34: 333 | N34: 3
A35: Tainan City | C35: 女 Female | D35: 5066 | E35: 167 | F35: 220 | G35: 268 | H35: 368 | I35: 448 | J35: 1056 | K35: 1027 | L35: 914 | M35: 588 | N35: 10
C36: 其他 Other | D36: 2 | E36: 1 | F36: 0 | G36: 0 | H36: 0 | I36: 0 | J36: 0 | K36: 0 | L36: 0 | M36: 0 | N36: 1
C37: 不詳Unknown | D37: 1 | E37: 0 | F37: 0 | G37: 1 | H37: 0 | I37: 0 | J37: 0 | K37: 0 | L37: 0 | M37: 0 | N37: 0
A38: 高雄市 | C38: 計 Total | D38: 16972 | E38: 840 | F38: 1021 | G38: 1191 | H38: 1195 | I38: 1423 | J38: 3002 | K38: 3158 | L38: 3151 | M38: 1961 | N38: 30
C39: 男 Male | D39: 6539 | E39: 458 | F39: 619 | G39: 563 | H39: 405 | I39: 464 | J39: 940 | K39: 1102 | L39: 1229 | M39: 750 | N39: 9
A40: Kaohsiung City | C40: 女 Female | D40: 10422 | E40: 380 | F40: 401 | G40: 627 | H40: 790 | I40: 957 | J40: 2061 | K40: 2055 | L40: 1922 | M40: 1211 | N40: 18
C41: 其他 Other | D41: 4 | E41: 0 | F41: 0 | G41: 1 | H41: 0 | I41: 2 | J41: 0 | K41: 1 | L41: 0 | M41: 0 | N41: 0
...

Sheet 2020
A1: 家庭暴力通報事件被害人性別及年齡統計(單位：人數)
A2: 區域別 Locality | C2: 性別 | D2: 年齡別 By Age
D3: 合計 | E3: 0-未滿6歲 | F3: 6-未滿12歲 | G3: 12-未滿18歲 | H3: 18-未滿24歲 | I3: 24-未滿30歲 | J3: 30-未滿40歲 | K3: 40-未滿50歲 | L3: 50-未滿65歲 | M3: 65歲 以上 | N3: 不詳
C4: Gender | D4: Total | E4: Under 6 Years | F4: 6-Under 12 Years | G4: 12-Under 18 Years | H4: 18-Under 2 Years | I4: 24-Under 30 Years | J4: 30-Under 40 Years | K4: 40-Under 50 Years | L4: 50-Under 65 Years | M4: Above 65 Years | N4: Unknown
A5: 109年 2020 | C5: 計 Total | D5: 114381 | E5: 6031 | F5: 7703 | G5: 7698 | H5: 7828 | I5: 9819 | J5: 22055 | K5: 21054 | L5: 19881 | M5: 11822 | N5: 490
C6: 男 Male | D6: 39225 | E6: 3367 | F6: 4569 | G6: 3451 | H6: 2380 | I6: 2660 | J6: 5443 | K6: 5991 | L6: 6806 | M6: 4457 | N6: 101
C7: 女 Female | D7: 75083 | E7: 2643 | F7: 3116 | G7: 4234 | H7: 5446 | I7: 7158 | J7: 16611 | K7: 15059 | L7: 13073 | M7: 7362 | N7: 381
C8: 其他 Other | D8: 73 | E8: 21 | F8: 18 | G8: 13 | H8: 2 | I8: 1 | J8: 1 | K8: 4 | L8: 2 | M8: 3 | N8: 8
A9: 新北市 | C9: 計 Total | D9: 18954 | E9: 885 | F9: 1394 | G9: 1338 | H9: 1404 | I9: 1711 | J9: 3715 | K9: 3469 | L9: 3113 | M9: 1684 | N9: 241
C10: 男 Male | D10: 5889 | E10: 503 | F10: 847 | G10: 592 | H10: 387 | I10: 392 | J10: 790 | K10: 846 | L10: 916 | M10: 565 | N10: 51
A11: New Taipei City | C11: 女 Female | D11: 13041 | E11: 376 | F11: 539 | G11: 739 | H11: 1016 | I11: 1319 | J11: 2925 | K11: 2623 | L11: 2196 | M11: 1118 | N11: 190
C12: 其他 Other | D12: 24 | E12: 6 | F12: 8 | G12: 7 | H12: 1 | I12: 0 | J12: 0 | K12: 0 | L12: 1 | M12: 1 | N12: 0
A13: 臺北市 | C13: 計 Total | D13: 12520 | E13: 566 | F13: 842 | G13: 758 | H13: 831 | I13: 1034 | J13: 2220 | K13: 2250 | L13: 2452 | M13: 1524 | N13: 43
C14: 男 Male | D14: 4727 | E14: 334 | F14: 530 | G14: 349 | H14: 273 | I14: 335 | J14: 696 | K14: 732 | L14: 908 | M14: 560 | N14: 10
A15: Taipei City | C15: 女 Female | D15: 7784 | E15: 231 | F15: 309 | G15: 408 | H15: 558 | I15: 699 | J15: 1523 | K15: 1518 | L15: 1544 | M15: 963 | N15: 31
C16: 其他 Other | D16: 9 | E16: 1 | F16: 3 | G16: 1 | H16: 0 | I16: 0 | J16: 1 | K16: 0 | L16: 0 | M16: 1 | N16: 2
A17: 桃園市 | C17: 計 Total | D17: 11146 | E17: 646 | F17: 917 | G17: 900 | H17: 805 | I17: 1078 | J17: 2299 | K17: 1963 | L17: 1627 | M17: 888 | N17: 23
C18: 男 Male | D18: 3807 | E18: 367 | F18: 555 | G18: 408 | H18: 231 | I18: 268 | J18: 556 | K18: 541 | L18: 545 | M18: 335 | N18: 1
A19: Taoyuan City | C19: 女 Female | D19: 7339 | E19: 279 | F19: 362 | G19: 492 | H19: 574 | I19: 810 | J19: 1743 | K19: 1422 | L19: 1082 | M19: 553 | N19: 22
C20: 其他 Other | D20: 0 | E20: 0 | F20: 0 | G20: 0 | H20: 0 | I20: 0 | J20: 0 | K20: 0 | L20: 0 | M20: 0 | N20: 0
A21: 臺中市 | C21: 計 Total | D21: 15611 | E21: 994 | F21: 982 | G21: 1034 | H21: 1101 | I21: 1412 | J21: 3104 | K21: 2863 | L21: 2559 | M21: 1499 | N21: 63
C22: 男 Male | D22: 5553 | E22: 544 | F22: 578 | G22: 501 | H22: 324 | I22: 407 | J22: 815 | K22: 879 | L22: 895 | M22: 596 | N22: 14
A23: Taichung City | C23: 女 Female | D23: 10048 | E23: 449 | F23: 401 | G23: 532 | H23: 777 | I23: 1004 | J23: 2289 | K23: 1984 | L23: 1664 | M23: 902 | N23: 46
C24: 其他 Other | D24: 10 | E24: 1 | F24: 3 | G24: 1 | H24: 0 | I24: 1 | J24: 0 | K24: 0 | L24: 0 | M24: 1 | N24: 3
A25: 臺南市 | C25: 計 Total | D25: 7249 | E25: 400 | F25: 574 | G25: 492 | H25: 454 | I25: 541 | J25: 1412 | K25: 1348 | L25: 1207 | M25: 809 | N25: 12
C26: 男 Male | D26: 2401 | E26: 229 | F26: 330 | G26: 236 | H26: 141 | I26: 139 | J26: 305 | K26: 309 | L26: 392 | M26: 317 | N26: 3
A27: Tainan City | C27: 女 Female | D27: 4845 | E27: 170 | F27: 243 | G27: 256 | H27: 313 | I27: 402 | J27: 1107 | K27: 1038 | L27: 815 | M27: 492 | N27: 9
C28: 其他 Other | D28: 3 | E28: 1 | F28: 1 | G28: 0 | H28: 0 | I28: 0 | J28: 0 | K28: 1 | L28: 0 | M28: 0 | N28: 0
A29: 高雄市 | C29: 計 Total | D29: 15304 | E29: 772 | F29: 963 | G29: 1066 | H29: 1068 | I29: 1295 | J29: 2826 | K29: 2834 | L29: 2797 | M29: 1656 | N29: 27
C30: 男 Male | D30: 5662 | E30: 422 | F30: 573 | G30: 478 | H30: 356 | I30: 401 | J30: 802 | K30: 961 | L30: 1023 | M30: 639 | N30: 7
A31: Kaohsiung City | C31: 女 Female | D31: 9631 | E31: 346 | F31: 387 | G31: 588 | H31: 712 | I31: 894 | J31: 2024 | K31: 1872 | L31: 1773 | M31: 1017 | N31: 18
C32: 其他 Other | D32: 11 | E32: 4 | F32: 3 | G32: 0 | H32: 0 | I32: 0 | J32: 0 | K32: 1 | L32: 1 | M32: 0 | N32: 2
B33: 宜蘭縣 | C33: 計 Total | D33: 1813 | E33: 45 | F33: 86 | G33: 65 | H33: 125 | I33: 149 | J33: 383 | K33: 372 | L33: 364 | M33: 221 | N33: 3
C34: 男 Male | D34: 577 | E34: 24 | F34: 46 | G34: 32 | H34: 41 | I34: 40 | J34: 82 | K34: 103 | L34: 111 | M34: 98 | N34: 0
B35: Yilan County | C35: 女 Female | D35: 1234 | E35: 21 | F35: 40 | G35: 32 | H35: 83 | I35: 109 | J35: 301 | K35: 269 | L35: 253 | M35: 123 | N35: 3
C36: 其他 Other | D36: 2 | E36: 0 | F36: 0 | G36: 1 | H36: 1 | I36: 0 | J36: 0 | K36: 0 | L36: 0 | M36: 0 | N36: 0
B37: 新竹縣 | C37: 計 Total | D37: 2366 | E37: 104 | F37: 185 | G37: 177 | H37: 162 | I37: 181 | J37: 522 | K37: 467 | L37: 360 | M37: 201 | N37: 7
C38: 男 Male | D38: 773 | E38: 62 | F38: 112 | G38: 74 | H38: 49 | I38: 39 | J38: 124 | K38: 108 | L38: 133 | M38: 71 | N38: 1
B39: Hsinchu County | C39: 女 Female | D39: 1592 | E39: 41 | F39: 73 | G39: 103 | H39: 113 | I39: 142 | J39: 398 | K39: 359 | L39: 227 | M39: 130 | N39: 6
C40: 其他 Other | D40: 1 | E40: 1 | F40: 0 | G40: 0 | H40: 0 | I40: 0 | J40: 0 | K40: 0 | L40: 0 | M40: 0 | N40: 0
...

Sheet 2019
A1: 家庭暴力通報事件被害人性別及年齡統計(單位：人數)
A2: 區域別 Locality | C2: 性別 | D2: 年齡別 By Age
D3: 合計 | E3: 0-未滿6歲 | F3: 6-未滿12歲 | G3: 12-未滿18歲 | H3: 18-未滿24歲 | I3: 24-未滿30歲 | J3: 30-未滿40歲 | K3: 40-未滿50歲 | L3: 50-未滿65歲 | M3: 65歲 以上 | N3: 不詳
C4: Gender | D4: Total | E4: Under 6 Years | F4: 6-Under 12 Years | G4: 12-Under 18 Years | H4: 18-Under 2 Years | I4: 24-Under 30 Years | J4: 30-Under 40 Years | K4: 40-Under 50 Years | L4: 50-Under 65 Years | M4: Above 65 Years | N4: Unknown
A5: 108年 2019 | C5: 計 Total | D5: 103930 | E5: 5900 | F5: 5705 | G5: 6282 | H5: 7047 | I5: 8834 | J5: 21970 | K5: 19124 | L5: 18484 | M5: 10504 | N5: 80
C6: 男 Male | D6: 33498 | E6: 3141 | F6: 3470 | G6: 2844 | H6: 2026 | I6: 2230 | J6: 4850 | K6: 5087 | L6: 5977 | M6: 3862 | N6: 11
C7: 女 Female | D7: 70362 | E7: 2733 | F7: 2222 | G7: 3429 | H7: 5019 | I7: 6600 | J7: 17118 | K7: 14033 | L7: 12504 | M7: 6641 | N7: 63
C8: 其他 Other | D8: 70 | E8: 26 | F8: 13 | G8: 9 | H8: 2 | I8: 4 | J8: 2 | K8: 4 | L8: 3 | M8: 1 | N8: 6
A9: 新北市 | C9: 計 Total | D9: 16723 | E9: 858 | F9: 840 | G9: 878 | H9: 1290 | I9: 1529 | J9: 3681 | K9: 3163 | L9: 2891 | M9: 1557 | N9: 36
C10: 男 Male | D10: 4654 | E10: 391 | F10: 534 | G10: 363 | H10: 315 | I10: 332 | J10: 715 | K10: 705 | L10: 775 | M10: 518 | N10: 6
A11: New Taipei City | C11: 女 Female | D11: 12048 | E11: 460 | F11: 303 | G11: 512 | H11: 974 | I11: 1194 | J11: 2966 | K11: 2457 | L11: 2116 | M11: 1039 | N11: 27
C12: 其他 Other | D12: 21 | E12: 7 | F12: 3 | G12: 3 | H12: 1 | I12: 3 | J12: 0 | K12: 1 | L12: 0 | M12: 0 | N12: 3
A13: 臺北市 | C13: 計 Total | D13: 11581 | E13: 522 | F13: 579 | G13: 639 | H13: 807 | I13: 984 | J13: 2152 | K13: 2180 | L13: 2336 | M13: 1378 | N13: 4
C14: 男 Male | D14: 4060 | E14: 278 | F14: 356 | G14: 303 | H14: 268 | I14: 289 | J14: 599 | K14: 672 | L14: 826 | M14: 469 | N14: 0
A15: Taipei City | C15: 女 Female | D15: 7517 | E15: 242 | F15: 222 | G15: 336 | H15: 539 | I15: 695 | J15: 1553 | K15: 1507 | L15: 1510 | M15: 909 | N15: 4
C16: 其他 Other | D16: 4 | E16: 2 | F16: 1 | G16: 0 | H16: 0 | I16: 0 | J16: 0 | K16: 1 | L16: 0 | M16: 0 | N16: 0
A17: 桃園市 | C17: 計 Total | D17: 9615 | E17: 526 | F17: 651 | G17: 685 | H17: 698 | I17: 900 | J17: 2170 | K17: 1751 | L17: 1478 | M17: 749 | N17: 7
C18: 男 Male | D18: 3044 | E18: 284 | F18: 403 | G18: 310 | H18: 189 | I18: 233 | J18: 449 | K18: 419 | L18: 476 | M18: 279 | N18: 2
A19: Taoyuan City | C19: 女 Female | D19: 6566 | E19: 242 | F19: 246 | G19: 375 | H19: 508 | I19: 667 | J19: 1721 | K19: 1332 | L19: 1001 | M19: 470 | N19: 4
C20: 其他 Other | D20: 5 | E20: 0 | F20: 2 | G20: 0 | H20: 1 | I20: 0 | J20: 0 | K20: 0 | L20: 1 | M20: 0 | N20: 1
A21: 臺中市 | C21: 計 Total | D21: 14337 | E21: 1022 | F21: 931 | G21: 970 | H21: 990 | I21: 1257 | J21: 3129 | K21: 2428 | L21: 2354 | M21: 1246 | N21: 10
C22: 男 Male | D22: 4845 | E22: 570 | F22: 566 | G22: 432 | H22: 289 | I22: 326 | J22: 728 | K22: 667 | L22: 778 | M22: 489 | N22: 0
A23: Taichung City | C23: 女 Female | D23: 9480 | E23: 445 | F23: 362 | G23: 538 | H23: 701 | I23: 931 | J23: 2401 | K23: 1761 | L23: 1576 | M23: 757 | N23: 8
C24: 其他 Other | D24: 12 | E24: 7 | F24: 3 | G24: 0 | H24: 0 | I24: 0 | J24: 0 | K24: 0 | L24: 0 | M24: 0 | N24: 2
A25: 臺南市 | C25: 計 Total | D25: 6550 | E25: 352 | F25: 349 | G25: 352 | H25: 437 | I25: 521 | J25: 1453 | K25: 1169 | L25: 1217 | M25: 697 | N25: 3
C26: 男 Male | D26: 1999 | E26: 193 | F26: 211 | G26: 148 | H26: 110 | I26: 127 | J26: 290 | K26: 278 | L26: 380 | M26: 260 | N26: 2
A27: Tainan City | C27: 女 Female | D27: 4549 | E27: 158 | F27: 137 | G27: 204 | H27: 327 | I27: 394 | J27: 1163 | K27: 891 | L27: 837 | M27: 437 | N27: 1
C28: 其他 Other | D28: 2 | E28: 1 | F28: 1 | G28: 0 | H28: 0 | I28: 0 | J28: 0 | K28: 0 | L28: 0 | M28: 0 | N28: 0
A29: 高雄市 | C29: 計 Total | D29: 14111 | E29: 884 | F29: 850 | G29: 1000 | H29: 903 | I29: 1135 | J29: 2759 | K29: 2619 | L29: 2464 | M29: 1493 | N29: 4
C30: 男 Male | D30: 5052 | E30: 466 | F30: 515 | G30: 498 | H30: 294 | I30: 316 | J30: 701 | K30: 834 | L30: 868 | M30: 560 | N30: 0
A31: Kaohsiung City | C31: 女 Female | D31: 9050 | E31: 413 | F31: 335 | G31: 499 | H31: 609 | I31: 818 | J31: 2058 | K31: 1785 | L31: 1596 | M31: 933 | N31: 4
C32: 其他 Other | D32: 9 | E32: 5 | F32: 0 | G32: 3 | H32: 0 | I32: 1 | J32: 0 | K32: 0 | L32: 0 | M32: 0 | N32: 0
B33: 宜蘭縣 | C33: 計 Total | D33: 1545 | E33: 29 | F33: 30 | G33: 32 | H33: 108 | I33: 154 | J33: 358 | K33: 329 | L33: 327 | M33: 178 | N33: 0
C34: 男 Male | D34: 443 | E34: 18 | F34: 16 | G34: 12 | H34: 29 | I34: 44 | J34: 63 | K34: 85 | L34: 104 | M34: 72 | N34: 0
B35: Yilan County | C35: 女 Female | D35: 1101 | E35: 11 | F35: 14 | G35: 20 | H35: 79 | I35: 110 | J35: 294 | K35: 244 | L35: 223 | M35: 106 | N35: 0
C36: 其他 Other | D36: 1 | E36: 0 | F36: 0 | G36: 0 | H36: 0 | I36: 0 | J36: 1 | K36: 0 | L36: 0 | M36: 0 | N36: 0
B37: 新竹縣 | C37: 計 Total | D37: 2206 | E37: 134 | F37: 167 | G37: 153 | H37: 147 | I37: 192 | J37: 495 | K37: 450 | L37: 316 | M37: 151 | N37: 1
C38: 男 Male | D38: 667 | E38: 72 | F38: 99 | G38: 64 | H38: 36 | I38: 41 | J38: 84 | K38: 113 | L38: 98 | M38: 60 | N38: 0
B39: Hsinchu County | C39: 女 Female | D39: 1536 | E39: 61 | F39: 67 | G39: 89 | H39: 111 | I39: 151 | J39: 411 | K39: 337 | L39: 217 | M39: 91 | N39: 1
C40: 其他 Other | D40: 3 | E40: 1 | F40: 1 | G40: 0 | H40: 0 | I40: 0 | J40: 0 | K40: 0 | L40: 1 | M40: 0 | N40: 0
...

Sheet 2019Q4
A1: 家庭暴力事件通報被害及相對人概況Overview of Victim and Offender Status in Reporting Cases of Domestic Violence
A2: 108年第4季，2019Q4
A3: 單位：人數 unit:Person
A4: 區域別 Locality | C4: 性別 | D4: 被害人數 Victims | BH4: 相對人人數
D5: 國籍、身分別 By Nationality and Identity | K5: 年齡別 By Age | V5: 教育程度別 By Education | AG5: 職業別 By Occupation | AW5: 身心障礙別 By Disability | BH5: 年齡別 By Age | BS5: 國籍、身分別 By Nationality and Identity
D6: 合計 | E6: 本國籍 非原住民 | F6: 本國籍 原住民 | G6: 大陸及 港澳籍 | H6: 外國籍 | I6: 無國籍 | J6: 資料 不明 | K6: 合計 | L6: 0-未滿6歲 | M6: 6-未滿12歲 | N6: 12-未滿18歲 | O6: 18-未滿24歲 | P6: 24-未滿30歲 | Q6: 30-未滿40歲 | R6: 40-未滿50歲 | S6: 50-未滿65歲 | T6: 65歲 以上 | U6: 不詳 | V6: 合計 | W6: 學齡前 | X6: 國小 | Y6: 國中 | Z6: 高中(職) | AA6: 專科 | AB6: 大學 | AC6: 研究所 以上 | AD6: 不識字 | AE6: 自修 | AF6: 不詳 | AG6: 合計 | AH6: 學生 | AI6: 服務業 | AJ6: 專門 職業 | AK6: 農林 漁牧 | AL6: 工礦業 | AM6: 商業 | AN6: 公 | AO6: 教 | AP6: 軍 | AQ6: 警 | AR6: 家庭 管理 | AS6: 退休 | AT6: 無工作 | AU6: 其他 | AV6: 不詳 | AW6: 合計 | AX6: 非身心 障礙 | AY6: 智障 | AZ6: 視障 | BA6: 精神 病患 | BB6: 聲(語)障 | BC6: 聽障 | BD6: 肢障 | BE6: 多重 障礙 | BF6: 其他 障礙 | BG6: 不詳 | BH6: 合計 | BI6: 0-未滿6歲 | BJ6: 6-未滿12歲 | BK6: 12-未滿18歲 | BL6: 18-未滿24歲 | BM6: 24-未滿30歲 | BN6: 30-未滿40歲 | BO6: 40-未滿50歲 | BP6: 50-未滿65歲 | BQ6: 65歲 以上 | BR6: 不詳 | BS6: 合計 | BT6: 本國籍非原住民 | BU6: 本國籍原住民 | BV6: 大陸及 港澳籍 | BW6: 外國籍 | BX6: 無國籍 | BY6: 資料 不明
C7: Gender | D7: Total | E7: Non-aboriginal Native | F7: Aboriginal Native | G7: Mainland China and Hong Kong and Macau | H7: Foreign | I7: Stateless | J7: Unknown Information | K7: Total | L7: Under 6 Years | M7: 6-Under 12 Years | N7: 12-Under 18 Years | O7: 18-Under 2 Years | P7: 24-Under 30 Years | Q7: 30-Under 40 Years | R7: 40-Under 50 Years | S7: 50-Under 65 Years | T7: Above 65 Years | U7: Unknown | V7: Total | W7: Preschool | X7: Primary School | Y7: Junior High School | Z7: Senior High School (Vocational High School) | AA7: Junior College | AB7: University | AC7: Graduate School and Above | AD7: Illiterate | AE7: Self-taught | AF7: Unknown | AG7: Total | AH7: Student | AI7: Service Industry | AJ7: Professional | AK7: Agriculture, Forestry, Fishery and Animal Husbandry | AL7: Mining Industry | AM7: Business | AR7: Homemaker | AS7: Retired | AT7: No Work | AU7: Others | AV7: Unknown | AW7: Total | AX7: Not Disability | AY7: Intellectually Disabled | AZ7: Vision | BA7: Mentally Illed | BB7: Voice | BC7: Hearing | BD7: Physically Impaired | BE7: Multiple | BF7: Other | BG7: Unknown | BH7: Total | BI7: Under 6 Years | BJ7: 6-Under 12 Years | BK7: 12-Under 18 Years | BL7: 18-Under 2 Years | BM7: 24-Under 30 Years | BN7: 30-Under 40 Years | BO7: 40-Under 50 Years | BP7: 50-Under 65 Years | BQ7: Above 65 Years | BR7: Unknown | BS7: Total | BT7: Non-aboriginal Native | BU7: Aboriginal Native | BV7: Mainland China and Hong Kong and Macau | BW7: Foreign | BX7: Stateless | BY7: Unknown Information
A8: 總計 | C8: 計 Total | D8: 23931 | E8: 21642 | F8: 1255 | G8: 264 | H8: 278 | I8: 8 | J8: 484 | K8: 23931 | L8: 1448 | M8: 1461 | N8: 1628 | O8: 1672 | P8: 2022 | Q8: 4800 | R8: 4249 | S8: 4268 | T8: 2357 | U8: 26 | V8: 23931 | W8: 1216 | X8: 2019 | Y8: 2026 | Z8: 2658 | AA8: 470 | AB8: 1406 | AC8: 174 | AD8: 166 | AE8: 57 | AF8: 13739 | AG8: 23931 | AH8: 398 | AI8: 2889 | AJ8: 741 | AK8: 368 | AL8: 1273 | AM8: 775 | AN8: 121 | AO8: 174 | AP8: 58 | AQ8: 16 | AR8: 1626 | AS8: 1134 | AT8: 2079 | AU8: 1589 | AV8: 10690 | AW8: 23931 | AX8: 21535 | AY8: 316 | AZ8: 70 | BA8: 506 | BB8: 19 | BC8: 138 | BD8: 400 | BE8: 170 | BF8: 214 | BG8: 563 | BH8: 23610 | BI8: 6 | BJ8: 58 | BK8: 575 | BL8: 1148 | BM8: 2048 | BN8: 5902 | BO8: 6030 | BP8: 5100 | BQ8: 1712 | BR8: 1031 | BS8: 23610 | BT8: 20846 | BU8: 1082 | BV8: 163 | BW8: 207 | BX8: 7 | BY8: 1305
C9: 男 Male | D9: 8004 | E9: 7434 | F9: 373 | G9: 10 | H9: 30 | I9: 5 | J9: 152 | K9: 8004 | L9: 786 | M9: 875 | N9: 751 | O9: 503 | P9: 529 | Q9: 1094 | R9: 1194 | S9: 1402 | T9: 867 | U9: 3 | V9: 8004 | W9: 685 | X9: 1024 | Y9: 780 | Z9: 842 | AA9: 126 | AB9: 370 | AC9: 65 | AD9: 31 | AE9: 16 | AF9: 4065 | AG9: 8004 | AH9: 112 | AI9: 550 | AJ9: 242 | AK9: 162 | AL9: 679 | AM9: 259 | AN9: 41 | AO9: 32 | AP9: 39 | AQ9: 12 | AR9: 14 | AS9: 547 | AT9: 585 | AU9: 457 | AV9: 4273 | AW9: 8004 | AX9: 7067 | AY9: 126 | AZ9: 25 | BA9: 150 | BB9: 14 | BC9: 65 | BD9: 198 | BE9: 73 | BF9: 95 | BG9: 191 | BH9: 17305 | BI9: 5 | BJ9: 46 | BK9: 458 | BL9: 789 | BM9: 1450 | BN9: 4114 | BO9: 4534 | BP9: 3931 | BQ9: 1246 | BR9: 732 | BS9: 17305 | BT9: 15401 | BU9: 821 | BV9: 31 | BW9: 103 | BX9: 6 | BY9: 943
A10: Total | C10: 女 Female | D10: 15912 | E10: 14202 | F10: 881 | G10: 254 | H10: 248 | I10: 3 | J10: 324 | K10: 15912 | L10: 653 | M10: 584 | N10: 874 | O10: 1169 | P10: 1493 | Q10: 3706 | R10: 3054 | S10: 2866 | T10: 1490 | U10: 23 | V10: 15912 | W10: 526 | X10: 994 | Y10: 1244 | Z10: 1816 | AA10: 344 | AB10: 1036 | AC10: 109 | AD10: 135 | AE10: 41 | AF10: 9667 | AG10: 15912 | AH10: 286 | AI10: 2339 | AJ10: 499 | AK10: 206 | AL10: 594 | AM10: 516 | AN10: 80 | AO10: 142 | AP10: 19 | AQ10: 4 | AR10: 1612 | AS10: 587 | AT10: 1494 | AU10: 1132 | AV10: 6402 | AW10: 15912 | AX10: 14463 | AY10: 190 | AZ10: 45 | BA10: 356 | BB10: 5 | BC10: 73 | BD10: 202 | BE10: 97 | BF10: 119 | BG10: 362 | BH10: 6195 | BI10: 1 | BJ10: 12 | BK10: 117 | BL10: 358 | BM10: 597 | BN10: 1770 | BO10: 1482 | BP10: 1154 | BQ10: 463 | BR10: 241 | BS10: 6195 | BT10: 5402 | BU10: 261 | BV10: 130 | BW10: 102 | BX10: 1 | BY10: 299
C11: 其他 Other | D11: 15 | E11: 6 | F11: 1 | G11: 0 | H11: 0 | I11: 0 | J11: 8 | K11: 15 | L11: 9 | M11: 2 | N11: 3 | O11: 0 | P11: 0 | Q11: 0 | R11: 1 | S11: 0 | T11: 0 | U11: 0 | V11: 15 | W11: 5 | X11: 1 | Y11: 2 | Z11: 0 | AA11: 0 | AB11: 0 | AC11: 0 | AD11: 0 | AE11: 0 | AF11: 7 | AG11: 15 | AH11: 0 | AI11: 0 | AJ11: 0 | AK11: 0 | AL11: 0 | AM11: 0 | AN11: 0 | AO11: 0 | AP11: 0 | AQ11: 0 | AR11: 0 | AS11: 0 | AT11: 0 | AU11: 0 | AV11: 15 | AW11: 15 | AX11: 5 | AY11: 0 | AZ11: 0 | BA11: 0 | BB11: 0 | BC11: 0 | BD11: 0 | BE11: 0 | BF11: 0 | BG11: 10 | BH11: 110 | BI11: 0 | BJ11: 0 | BK11: 0 | BL11: 1 | BM11: 1 | BN11: 18 | BO11: 14 | BP11: 15 | BQ11: 3 | BR11: 58 | BS11: 110 | BT11: 43 | BU11: 0 | BV11: 2 | BW11: 2 | BX11: 0 | BY11: 63
A12: 新北市 | C12: 計 Total | D12: 3939 | E12: 3552 | F12: 88 | G12: 56 | H12: 56 | I12: 0 | J12: 187 | K12: 3939 | L12: 174 | M12: 174 | N12: 201 | O12: 312 | P12: 383 | Q12: 858 | R12: 748 | S12: 732 | T12: 345 | U12: 12 | V12: 3939 | W12: 101 | X12: 192 | Y12: 174 | Z12: 264 | AA12: 67 | AB12: 242 | AC12: 30 | AD12: 11 | AE12: 10 | AF12: 2848 | AG12: 3939 | AH12: 90 | AI12: 583 | AJ12: 176 | AK12: 10 | AL12: 84 | AM12: 130 | AN12: 30 | AO12: 36 | AP12: 4 | AQ12: 3 | AR12: 229 | AS12: 204 | AT12: 321 | AU12: 147 | AV12: 1892 | AW12: 3939 | AX12: 3434 | AY12: 37 | AZ12: 14 | BA12: 69 | BB12: 4 | BC12: 16 | BD12: 50 | BE12: 16 | BF12: 26 | BG12: 273 | BH12: 3998 | BI12: 2 | BJ12: 6 | BK12: 86 | BL12: 179 | BM12: 315 | BN12: 912 | BO12: 947 | BP12: 811 | BQ12: 247 | BR12: 493 | BS12: 3998 | BT12: 3272 | BU12: 72 | BV12: 32 | BW12: 38 | BX12: 0 | BY12: 584
C13: 男 Male | D13: 1095 | E13: 1018 | F13: 20 | G13: 2 | H13: 4 | I13: 0 | J13: 51 | K13: 1095 | L13: 79 | M13: 101 | N13: 79 | O13: 83 | P13: 77 | Q13: 173 | R13: 182 | S13: 212 | T13: 107 | U13: 2 | V13: 1095 | W13: 56 | X13: 103 | Y13: 66 | Z13: 75 | AA13: 13 | AB13: 59 | AC13: 9 | AD13: 1 | AE13: 4 | AF13: 709 | AG13: 1095 | AH13: 29 | AI13: 116 | AJ13: 56 | AK13: 5 | AL13: 39 | AM13: 45 | AN13: 10 | AO13: 3 | AP13: 3 | AQ13: 2 | AR13: 1 | AS13: 81 | AT13: 78 | AU13: 35 | AV13: 592 | AW13: 1095 | AX13: 925 | AY13: 16 | AZ13: 4 | BA13: 16 | BB13: 4 | BC13: 7 | BD13: 23 | BE13: 9 | BF13: 7 | BG13: 84 | BH13: 3054 | BI13: 1 | BJ13: 4 | BK13: 68 | BL13: 132 | BM13: 249 | BN13: 679 | BO13: 727 | BP13: 644 | BQ13: 190 | BR13: 360 | BS13: 3054 | BT13: 2519 | BU13: 64 | BV13: 4 | BW13: 19 | BX13: 0 | BY13: 448
A14: New Taipei City | C14: 女 Female | D14: 2841 | E14: 2532 | F14: 68 | G14: 54 | H14: 52 | I14: 0 | J14: 135 | K14: 2841 | L14: 94 | M14: 72 | N14: 121 | O14: 229 | P14: 306 | Q14: 685 | R14: 566 | S14: 520 | T14: 238 | U14: 10 | V14: 2841 | W14: 44 | X14: 89 | Y14: 108 | Z14: 189 | AA14: 54 | AB14: 183 | AC14: 21 | AD14: 10 | AE14: 6 | AF14: 2137 | AG14: 2841 | AH14: 61 | AI14: 467 | AJ14: 120 | AK14: 5 | AL14: 45 | AM14: 85 | AN14: 20 | AO14: 33 | AP14: 1 | AQ14: 1 | AR14: 228 | AS14: 123 | AT14: 243 | AU14: 112 | AV14: 1297 | AW14: 2841 | AX14: 2509 | AY14: 21 | AZ14: 10 | BA14: 53 | BB14: 0 | BC14: 9 | BD14: 27 | BE14: 7 | BF14: 19 | BG14: 186 | BH14: 912 | BI14: 1 | BJ14: 2 | BK14: 18 | BL14: 46 | BM14: 66 | BN14: 228 | BO14: 218 | BP14: 165 | BQ14: 57 | BR14: 111 | BS14: 912 | BT14: 746 | BU14: 8 | BV14: 27 | BW14: 19 | BX14: 0 | BY14: 112
C15: 其他 Other | D15: 3 | E15: 2 | F15: 0 | G15: 0 | H15: 0 | I15: 0 | J15: 1 | K15: 3 | L15: 1 | M15: 1 | N15: 1 | O15: 0 | P15: 0 | Q15: 0 | R15: 0 | S15: 0 | T15: 0 | U15: 0 | V15: 3 | W15: 1 | X15: 0 | Y15: 0 | Z15: 0 | AA15: 0 | AB15: 0 | AC15: 0 | AD15: 0 | AE15: 0 | AF15: 2 | AG15: 3 | AH15: 0 | AI15: 0 | AJ15: 0 | AK15: 0 | AL15: 0 | AM15: 0 | AN15: 0 | AO15: 0 | AP15: 0 | AQ15: 0 | AR15: 0 | AS15: 0 | AT15: 0 | AU15: 0 | AV15: 3 | AW15: 3 | AX15: 0 | AY15: 0 | AZ15: 0 | BA15: 0 | BB15: 0 | BC15: 0 | BD15: 0 | BE15: 0 | BF15: 0 | BG15: 3 | BH15: 32 | BI15: 0 | BJ15: 0 | BK15: 0 | BL15: 1 | BM15: 0 | BN15: 5 | BO15: 2 | BP15: 2 | BQ15: 0 | BR15: 22 | BS15: 32 | BT15: 7 | BU15: 0 | BV15: 1 | BW15: 0 | BX15: 0 | BY15: 24
A16: 臺北市 | C16: 計 Total | D16: 2762 | E16: 2598 | F16: 32 | G16: 30 | H16: 35 | I16: 1 | J16: 66 | K16: 2762 | L16: 144 | M16: 169 | N16: 218 | O16: 233 | P16: 217 | Q16: 478 | R16: 478 | S16: 503 | T16: 321 | U16: 1 | V16: 2762 | W16: 125 | X16: 180 | Y16: 126 | Z16: 93 | AA16: 17 | AB16: 86 | AC16: 14 | AD16: 7 | AE16: 12 | AF16: 2102 | AG16: 2762 | AH16: 42 | AI16: 92 | AJ16: 29 | AK16: 1 | AL16: 7 | AM16: 53 | AN16: 6 | AO16: 7 | AP16: 3 | AQ16: 0 | AR16: 55 | AS16: 65 | AT16: 77 | AU16: 40 | AV16: 2285 | AW16: 2762 | AX16: 2527 | AY16: 20 | AZ16: 10 | BA16: 60 | BB16: 1 | BC16: 15 | BD16: 34 | BE16: 18 | BF16: 33 | BG16: 44 | BH16: 2673 | BI16: 0 | BJ16: 8 | BK16: 85 | BL16: 143 | BM16: 200 | BN16: 581 | BO16: 678 | BP16: 607 | BQ16: 269 | BR16: 102 | BS16: 2673 | BT16: 2426 | BU16: 23 | BV16: 30 | BW16: 33 | BX16: 0 | BY16: 161
C17: 男 Male | D17: 1037 | E17: 994 | F17: 12 | G17: 0 | H17: 9 | I17: 1 | J17: 21 | K17: 1037 | L17: 87 | M17: 102 | N17: 109 | O17: 75 | P17: 72 | Q17: 129 | R17: 164 | S17: 186 | T17: 113 | U17: 0 | V17: 1037 | W17: 79 | X17: 105 | Y17: 62 | Z17: 45 | AA17: 2 | AB17: 18 | AC17: 4 | AD17: 5 | AE17: 3 | AF17: 714 | AG17: 1037 | AH17: 6 | AI17: 27 | AJ17: 9 | AK17: 1 | AL17: 5 | AM17: 18 | AN17: 3 | AO17: 1 | AP17: 1 | AQ17: 0 | AR17: 0 | AS17: 33 | AT17: 24 | AU17: 16 | AV17: 893 | AW17: 1037 | AX17: 934 | AY17: 8 | AZ17: 3 | BA17: 22 | BB17: 0 | BC17: 8 | BD17: 18 | BE17: 7 | BF17: 21 | BG17: 16 | BH17: 1805 | BI17: 0 | BJ17: 7 | BK17: 65 | BL17: 84 | BM17: 130 | BN17: 375 | BO17: 470 | BP17: 420 | BQ17: 183 | BR17: 71 | BS17: 1805 | BT17: 1659 | BU17: 14 | BV17: 11 | BW17: 21 | BX17: 0 | BY17: 100
A18: Taipei City | C18: 女 Female | D18: 1724 | E18: 1603 | F18: 20 | G18: 30 | H18: 26 | I18: 0 | J18: 45 | K18: 1724 | L18: 57 | M18: 67 | N18: 109 | O18: 158 | P18: 145 | Q18: 349 | R18: 313 | S18: 317 | T18: 208 | U18: 1 | V18: 1724 | W18: 46 | X18: 75 | Y18: 64 | Z18: 48 | AA18: 15 | AB18: 68 | AC18: 10 | AD18: 2 | AE18: 9 | AF18: 1387 | AG18: 1724 | AH18: 36 | AI18: 65 | AJ18: 20 | AK18: 0 | AL18: 2 | AM18: 35 | AN18: 3 | AO18: 6 | AP18: 2 | AQ18: 0 | AR18: 55 | AS18: 32 | AT18: 53 | AU18: 24 | AV18: 1391 | AW18: 1724 | AX18: 1592 | AY18: 12 | AZ18: 7 | BA18: 38 | BB18: 1 | BC18: 7 | BD18: 16 | BE18: 11 | BF18: 12 | BG18: 28 | BH18: 849 | BI18: 0 | BJ18: 1 | BK18: 20 | BL18: 59 | BM18: 70 | BN18: 205 | BO18: 205 | BP18: 182 | BQ18: 84 | BR18: 23 | BS18: 849 | BT18: 757 | BU18: 9 | BV18: 19 | BW18: 12 | BX18: 0 | BY18: 52
C19: 其他 Other | D19: 1 | E19: 1 | F19: 0 | G19: 0 | H19: 0 | I19: 0 | J19: 0 | K19: 1 | L19: 0 | M19: 0 | N19: 0 | O19: 0 | P19: 0 | Q19: 0 | R19: 1 | S19: 0 | T19: 0 | U19: 0 | V19: 1 | W19: 0 | X19: 0 | Y19: 0 | Z19: 0 | AA19: 0 | AB19: 0 | AC19: 0 | AD19: 0 | AE19: 0 | AF19: 1 | AG19: 1 | AH19: 0 | AI19: 0 | AJ19: 0 | AK19: 0 | AL19: 0 | AM19: 0 | AN19: 0 | AO19: 0 | AP19: 0 | AQ19: 0 | AR19: 0 | AS19: 0 | AT19: 0 | AU19: 0 | AV19: 1 | AW19: 1 | AX19: 1 | AY19: 0 | AZ19: 0 | BA19: 0 | BB19: 0 | BC19: 0 | BD19: 0 | BE19: 0 | BF19: 0 | BG19: 0 | BH19: 19 | BI19: 0 | BJ19: 0 | BK19: 0 | BL19: 0 | BM19: 0 | BN19: 1 | BO19: 3 | BP19: 5 | BQ19: 2 | BR19: 8 | BS19: 19 | BT19: 10 | BU19: 0 | BV19: 0 | BW19: 0 | BX19: 0 | BY19: 9
A20: 桃園市 | C20: 計 Total | D20: 2254 | E20: 2007 | F20: 169 | G20: 25 | H20: 29 | I20: 0 | J20: 24 | K20: 2254 | L20: 134 | M20: 168 | N20: 184 | O20: 189 | P20: 216 | Q20: 438 | R20: 399 | S20: 357 | T20: 166 | U20: 3 | V20: 2254 | W20: 130 | X20: 196 | Y20: 147 | Z20: 184 | AA20: 16 | AB20: 82 | AC20: 9 | AD20: 5 | AE20: 4 | AF20: 1481 | AG20: 2254 | AH20: 37 | AI20: 182 | AJ20: 45 | AK20: 6 | AL20: 97 | AM20: 49 | AN20: 8 | AO20: 10 | AP20: 3 | AQ20: 0 | AR20: 117 | AS20: 74 | AT20: 171 | AU20: 232 | AV20: 1223 | AW20: 2254 | AX20: 2098 | AY20: 34 | AZ20: 2 | BA20: 26 | BB20: 1 | BC20: 13 | BD20: 21 | BE20: 16 | BF20: 16 | BG20: 27 | BH20: 2258 | BI20: 0 | BJ20: 8 | BK20: 62 | BL20: 121 | BM20: 229 | BN20: 609 | BO20: 607 | BP20: 433 | BQ20: 114 | BR20: 75 | BS20: 2258 | BT20: 2004 | BU20: 143 | BV20: 14 | BW20: 23 | BX20: 0 | BY20: 74
C21: 男 Male | D21: 759 | E21: 702 | F21: 45 | G21: 2 | H21: 4 | I21: 0 | J21: 6 | K21: 759 | L21: 73 | M21: 103 | N21: 88 | O21: 56 | P21: 59 | Q21: 90 | R21: 107 | S21: 116 | T21: 66 | U21: 1 | V21: 759 | W21: 75 | X21: 113 | Y21: 54 | Z21: 65 | AA21: 5 | AB21: 27 | AC21: 6 | AD21: 2 | AE21: 2 | AF21: 410 | AG21: 759 | AH21: 9 | AI21: 42 | AJ21: 19 | AK21: 1 | AL21: 51 | AM21: 21 | AN21: 2 | AO21: 2 | AP21: 3 | AQ21: 0 | AR21: 1 | AS21: 38 | AT21: 42 | AU21: 63 | AV21: 465 | AW21: 759 | AX21: 701 | AY21: 14 | AZ21: 2 | BA21: 6 | BB21: 1 | BC21: 9 | BD21: 8 | BE21: 6 | BF21: 5 | BG21: 7 | BH21: 1672 | BI21: 0 | BJ21: 5 | BK21: 45 | BL21: 81 | BM21: 175 | BN21: 416 | BO21: 451 | BP21: 358 | BQ21: 83 | BR21: 58 | BS21: 1672 | BT21: 1492 | BU21: 106 | BV21: 4 | BW21: 12 | BX21: 0 | BY21: 58
A22: Taoyuan City | C22: 女 Female | D22: 1495 | E22: 1305 | F22: 124 | G22: 23 | H22: 25 | I22: 0 | J22: 18 | K22: 1495 | L22: 61 | M22: 65 | N22: 96 | O22: 133 | P22: 157 | Q22: 348 | R22: 292 | S22: 241 | T22: 100 | U22: 2 | V22: 1495 | W22: 55 | X22: 83 | Y22: 93 | Z22: 119 | AA22: 11 | AB22: 55 | AC22: 3 | AD22: 3 | AE22: 2 | AF22: 1071 | AG22: 1495 | AH22: 28 | AI22: 140 | AJ22: 26 | AK22: 5 | AL22: 46 | AM22: 28 | AN22: 6 | AO22: 8 | AP22: 0 | AQ22: 0 | AR22: 116 | AS22: 36 | AT22: 129 | AU22: 169 | AV22: 758 | AW22: 1495 | AX22: 1397 | AY22: 20 | AZ22: 0 | BA22: 20 | BB22: 0 | BC22: 4 | BD22: 13 | BE22: 10 | BF22: 11 | BG22: 20 | BH22: 575 | BI22: 0 | BJ22: 3 | BK22: 17 | BL22: 40 | BM22: 54 | BN22: 191 | BO22: 154 | BP22: 73 | BQ22: 31 | BR22: 12 | BS22: 575 | BT22: 509 | BU22: 37 | BV22: 10 | BW22: 9 | BX22: 0 | BY22: 10
C23: 其他 Other | D23: 0 | E23: 0 | F23: 0 | G23: 0 | H23: 0 | I23: 0 | J23: 0 | K23: 0 | L23: 0 | M23: 0 | N23: 0 | O23: 0 | P23: 0 | Q23: 0 | R23: 0 | S23: 0 | T23: 0 | U23: 0 | V23: 0 | W23: 0 | X23: 0 | Y23: 0 | Z23: 0 | AA23: 0 | AB23: 0 | AC23: 0 | AD23: 0 | AE23: 0 | AF23: 0 | AG23: 0 | AH23: 0 | AI23: 0 | AJ23: 0 | AK23: 0 | AL23: 0 | AM23: 0 | AN23: 0 | AO23: 0 | AP23: 0 | AQ23: 0 | AR23: 0 | AS23: 0 | AT23: 0 | AU23: 0 | AV23: 0 | AW23: 0 | AX23: 0 | AY23: 0 | AZ23: 0 | BA23: 0 | BB23: 0 | BC23: 0 | BD23: 0 | BE23: 0 | BF23: 0 | BG23: 0 | BH23: 11 | BI23: 0 | BJ23: 0 | BK23: 0 | BL23: 0 | BM23: 0 | BN23: 2 | BO23: 2 | BP23: 2 | BQ23: 0 | BR23: 5 | BS23: 11 | BT23: 3 | BU23: 0 | BV23: 0 | BW23: 2 | BX23: 0 | BY23: 6
A24: 臺中市 | C24: 計 Total | D24: 3312 | E24: 3018 | F24: 112 | G24: 59 | H24: 54 | I24: 1 | J24: 68 | K24: 3312 | L24: 289 | M24: 239 | N24: 231 | O24: 226 | P24: 284 | Q24: 662 | R24: 550 | S24: 520 | T24: 307 | U24: 4 | V24: 3312 | W24: 285 | X24: 287 | Y24: 243 | Z24: 356 | AA24: 56 | AB24: 234 | AC24: 24 | AD24: 13 | AE24: 8 | AF24: 1806 | AG24: 3312 | AH24: 72 | AI24: 427 | AJ24: 116 | AK24: 24 | AL24: 239 | AM24: 138 | AN24: 15 | AO24: 30 | AP24: 14 | AQ24: 4 | AR24: 244 | AS24: 174 | AT24: 296 | AU24: 235 | AV24: 1284 | AW24: 3312 | AX24: 3004 | AY24: 42 | AZ24: 10 | BA24: 59 | BB24: 0 | BC24: 22 | BD24: 46 | BE24: 27 | BF24: 26 | BG24: 76 | BH24: 3318 | BI24: 1 | BJ24: 4 | BK24: 94 | BL24: 163 | BM24: 314 | BN24: 899 | BO24: 802 | BP24: 646 | BQ24: 207 | BR24: 188 | BS24: 3318 | BT24: 2938 | BU24: 100 | BV24: 27 | BW24: 39 | BX24: 1 | BY24: 213
C25: 男 Male | D25: 1173 | E25: 1102 | F25: 38 | G25: 1 | H25: 4 | I25: 1 | J25: 27 | K25: 1173 | L25: 153 | M25: 155 | N25: 104 | O25: 60 | P25: 80 | Q25: 177 | R25: 151 | S25: 173 | T25: 120 | U25: 0 | V25: 1173 | W25: 155 | X25: 151 | Y25: 106 | Z25: 114 | AA25: 14 | AB25: 55 | AC25: 12 | AD25: 2 | AE25: 1 | AF25: 563 | AG25: 1173 | AH25: 15 | AI25: 81 | AJ25: 43 | AK25: 15 | AL25: 121 | AM25: 47 | AN25: 3 | AO25: 6 | AP25: 11 | AQ25: 3 | AR25: 1 | AS25: 90 | AT25: 69 | AU25: 72 | AV25: 596 | AW25: 1173 | AX25: 1066 | AY25: 17 | AZ25: 4 | BA25: 14 | BB25: 0 | BC25: 9 | BD25: 19 | BE25: 12 | BF25: 10 | BG25: 22 | BH25: 2350 | BI25: 1 | BJ25: 4 | BK25: 80 | BL25: 108 | BM25: 202 | BN25: 612 | BO25: 584 | BP25: 490 | BQ25: 142 | BR25: 127 | BS25: 2350 | BT25: 2121 | BU25: 62 | BV25: 8 | BW25: 11 | BX25: 1 | BY25: 147
