Workbook
Name pp: '2021'!$A$2:$Z$12
Name pp: '2022'!$A$2:$Z$12
Name pp: '2023'!$A$2:$Z$12
Name pp: '2024'!$A$2:$Z$12
Name pp: '2025'!$A$2:$Z$12
Name pp: '2026'!$A$2:$Z$12
Name pp: 'End of Dec., 2025'!$A$2:$Z$12
Name pp: 'End of Dec., 2026'!$A$2:$Z$12
Name pp: 'End of June, 2025'!$A$2:$Z$12
Name pp: 'End of June, 2026'!$A$2:$Z$12
Name pp: #REF!
Name PPP: #REF!
Name PPP: #REF!
Name PPP: #REF!

Sheet 歷年
A1: 兒童及少年家外安置概況Placement of Child and Youth Outside the Home
A2: 110-115年底 End of 2021-2026
A3: 單位：人、戶、家、所、床
A4: 年別 Year | B4: 總計Total | E4: 親屬安置Relative Placement | H4: 寄養家庭Fostering Families | L4: 團體家庭Group Family | P4: 安置及教養機構Residential Institutions | U4: 其他Others
B5: 本期底安置人數（人） No. of Resettlers at the End of the Period | E5: 本期底安置人數（人） No. of Resettlers at the End of the Period | H5: 寄養家庭數 (戶) No. of Households | I5: 本期底安置人數（人） No. of Resettlers at the End of the Period | L5: 團體家庭數(家) No. of Group Households | M5: 本期底安置人數（人） No. of Resettlers at the End of the Period | P5: 所數 No. of Institutions | Q5: 床位數 No. of Providing | R5: 本期底安置人數（人） No. of Resettlers at the End of the Period | U5: 本期底安置人數（人） No. of Resettlers at the End of the Period
B6: 計Total | C6: 男Male | D6: 女Female | E6: 計Total | F6: 男Male | G6: 女Female | I6: 計Total | J6: 男Male | K6: 女Female | M6: 計Total | N6: 男Male | O6: 女Female | R6: 計Total | S6: 男Male | T6: 女Female | U6: 計Total | V6: 男Male | W6: 女Female
A7: 110年底 End of 2021 | B7: ='2021'!E7 -> 4855 | C7: ='2021'!F7 -> 2403 | D7: ='2021'!G7 -> 2452 | E7: ='2021'!H7 -> 252 | F7: ='2021'!I7 -> 126 | G7: ='2021'!J7 -> 126 | H7: ='2021'!K7 -> 1319 | I7: ='2021'!L7 -> 1633 | ... W7: ='2021'!Z7 -> 199
A8: 111年底 End of 2022 | B8: ='2022'!E7 -> 4588 | C8: ='2022'!F7 -> 2337 | D8: ='2022'!G7 -> 2251 | E8: ='2022'!H7 -> 244 | F8: ='2022'!I7 -> 120 | G8: ='2022'!J7 -> 124 | H8: ='2022'!K7 -> 1348 | I8: ='2022'!L7 -> 1582 | ... W8: ='2022'!Z7 -> 136
A9: 112年底 End of 2023 | B9: ='2023'!E7 -> 4590 | C9: ='2023'!F7 -> 2354 | D9: ='2023'!G7 -> 2236 | E9: ='2023'!H7 -> 286 | F9: ='2023'!I7 -> 147 | G9: ='2023'!J7 -> 139 | H9: ='2023'!K7 -> 1342 | I9: ='2023'!L7 -> 1587 | ... W9: ='2023'!Z7 -> 179
A10: 113年底 End of 2024 | B10: ='2024'!E7 -> 4591 | C10: ='2024'!F7 -> 2405 | D10: ='2024'!G7 -> 2186 | E10: ='2024'!H7 -> 345 | F10: ='2024'!I7 -> 160 | G10: ='2024'!J7 -> 185 | H10: ='2024'!K7 -> 1308 | I10: ='2024'!L7 -> 1616 | ... W10: ='2024'!Z7 -> 173
A11: 114年底 End of 2025 | B11: ='2025'!E7 -> 4639 | C11: ='2025'!F7 -> 2438 | D11: ='2025'!G7 -> 2201 | E11: ='2025'!H7 -> 410 | F11: ='2025'!I7 -> 204 | G11: ='2025'!J7 -> 206 | H11: ='2025'!K7 -> 1343 | I11: ='2025'!L7 -> 1622 | ... W11: ='2025'!Z7 -> 176
A12: 6月底 End of June | B12: ='End of June, 2025'!E7 -> 4664 | C12: ='End of June, 2025'!F7 -> 2445 | D12: ='End of June, 2025'!G7 -> 2219 | E12: ='End of June, 2025'!H7 -> 380 | F12: ='End of June, 2025'!I7 -> 176 | G12: ='End of June, 2025'!J7 -> 204 | H12: ='End of June, 2025'!K7 -> 1301 | I12: ='End of June, 2025'!L7 -> 1643 | ... W12: ='End of June, 2025'!Z7 -> 179
A13: 12月底 End of June | B13: ='End of Dec., 2025'!E7 -> 4639 | C13: ='End of Dec., 2025'!F7 -> 2438 | D13: ='End of Dec., 2025'!G7 -> 2201 | E13: ='End of Dec., 2025'!H7 -> 410 | F13: ='End of Dec., 2025'!I7 -> 204 | G13: ='End of Dec., 2025'!J7 -> 206 | H13: ='End of Dec., 2025'!K7 -> 1343 | I13: ='End of Dec., 2025'!L7 -> 1622 | ... W13: ='End of Dec., 2025'!Z7 -> 176
A14: 115年底 End of 2026
A15: 6月底 End of June | B15: ='End of June, 2026'!E7 -> 4647 | C15: ='End of June, 2026'!F7 -> 2467 | D15: ='End of June, 2026'!G7 -> 2180 | E15: ='End of June, 2026'!H7 -> 417 | F15: ='End of June, 2026'!I7 -> 213 | G15: ='End of June, 2026'!J7 -> 204 | H15: ='End of June, 2026'!K7 -> 1312 | I15: ='End of June, 2026'!L7 -> 1652 | ... W15: ='End of June, 2026'!Z7 -> 172
A16: 12月底 End of June | B16: ='End of Dec., 2026'!E7 -> 0 | C16: ='End of Dec., 2026'!F7 -> 0 | D16: ='End of Dec., 2026'!G7 -> 0 | E16: ='End of Dec., 2026'!H7 -> 0 | F16: ='End of Dec., 2026'!I7 -> 0 | G16: ='End of Dec., 2026'!J7 -> 0 | H16: ='End of Dec., 2026'!K7 -> 0 | I16: ='End of Dec., 2026'!L7 -> 0 | ... W16: ='End of Dec., 2026'!Z7 -> 0
A17: 資料來源：社會及家庭署。
A18: Source : Social and Family Affairs Administration, MOHW
A19: 更新日期：2026/09/30

Sheet 2026
A1: 兒童及少年家外安置概況Placement of Child and Youth Outside the Home
A2: 115年底, End of 2026
A3: 單位：人、戶、家、所、床 | E3: =IF(E7=SUM(E28,E49,E70,E91,E112,E133,E154,E175,E196,E217,E238,E259,E280,E301,E322,E343,E364,E385,E406,E427,E448,E469,E490),"",SUM(E28,E49,E70,E91,E112,E133,E154,E175,E196,E217,E238,E259,E280,E301,E322,E343,E364,E385,E406,E427,E448,E469,E490)) | F3: =IF(F7=SUM(F28,F49,F70,F91,F112,F133,F154,F175,F196,F217,F238,F259,F280,F301,F322,F343,F364,F385,F406,F427,F448,F469,F490),"",SUM(F28,F49,F70,F91,F112,F133,F154,F175,F196,F217,F238,F259,F280,F301,F322,F343,F364,F385,F406,F427,F448,F469,F490)) | G3: =IF(G7=SUM(G28,G49,G70,G91,G112,G133,G154,G175,G196,G217,G238,G259,G280,G301,G322,G343,G364,G385,G406,G427,G448,G469,G490),"",SUM(G28,G49,G70,G91,G112,G133,G154,G175,G196,G217,G238,G259,G280,G301,G322,G343,G364,G385,G406,G427,G448,G469,G490)) | H3: =IF(H7=SUM(H28,H49,H70,H91,H112,H133,H154,H175,H196,H217,H238,H259,H280,H301,H322,H343,H364,H385,H406,H427,H448,H469,H490),"",SUM(H28,H49,H70,H91,H112,H133,H154,H175,H196,H217,H238,H259,H280,H301,H322,H343,H364,H385,H406,H427,H448,H469,H490)) | I3: =IF(I7=SUM(I28,I49,I70,I91,I112,I133,I154,I175,I196,I217,I238,I259,I280,I301,I322,I343,I364,I385,I406,I427,I448,I469,I490),"",SUM(I28,I49,I70,I91,I112,I133,I154,I175,I196,I217,I238,I259,I280,I301,I322,I343,I364,I385,I406,I427,I448,I469,I490)) | J3: =IF(J7=SUM(J28,J49,J70,J91,J112,J133,J154,J175,J196,J217,J238,J259,J280,J301,J322,J343,J364,J385,J406,J427,J448,J469,J490),"",SUM(J28,J49,J70,J91,J112,J133,J154,J175,J196,J217,J238,J259,J280,J301,J322,J343,J364,J385,J406,J427,J448,J469,J490)) | K3: =IF(K7=SUM(K28,K49,K70,K91,K112,K133,K154,K175,K196,K217,K238,K259,K280,K301,K322,K343,K364,K385,K406,K427,K448,K469,K490),"",SUM(K28,K49,K70,K91,K112,K133,K154,K175,K196,K217,K238,K259,K280,K301,K322,K343,K364,K385,K406,K427,K448,K469,K490)) | L3: =IF(L7=SUM(L28,L49,L70,L91,L112,L133,L154,L175,L196,L217,L238,L259,L280,L301,L322,L343,L364,L385,L406,L427,L448,L469,L490),"",SUM(L28,L49,L70,L91,L112,L133,L154,L175,L196,L217,L238,L259,L280,L301,L322,L343,L364,L385,L406,L427,L448,L469,L490)) | ... Z3: =IF(Z7=SUM(Z28,Z49,Z70,Z91,Z112,Z133,Z154,Z175,Z196,Z217,Z238,Z259,Z280,Z301,Z322,Z343,Z364,Z385,Z406,Z427,Z448,Z469,Z490),"",SUM(Z28,Z49,Z70,Z91,Z112,Z133,Z154,Z175,Z196,Z217,Z238,Z259,Z280,Z301,Z322,Z343,Z364,Z385,Z406,Z427,Z448,Z469,Z490))
A4: 區域及特殊族群別 Locality & Ethnos | E4: 總計Total | H4: 親屬安置Relative Placement | K4: 寄養家庭Fostering Families | O4: 團體家庭Group Family | S4: 安置及教養機構Residential Institutions | X4: 其他Others
E5: 本期底安置人數（人） No. of Resettlers at the End of the Period | H5: 本期底安置人數（人） No. of Resettlers at the End of the Period | K5: 寄養家庭數 (戶) No. of Households | L5: 本期底安置人數（人） No. of Resettlers at the End of the Period | O5: 團體家庭數(家) No. of Group Households | P5: 本期底安置人數（人） No. of Resettlers at the End of the Period | S5: 所數 No. of Institutions | T5: 床位數 No. of Providing | U5: 本期底安置人數（人） No. of Resettlers at the End of the Period | X5: 本期底安置人數（人） No. of Resettlers at the End of the Period
E6: 計Total | F6: 男Male | G6: 女Female | H6: 計Total | I6: 男Male | J6: 女Female | L6: 計Total | M6: 男Male | N6: 女Female | P6: 計Total | Q6: 男Male | R6: 女Female | U6: 計Total | V6: 男Male | W6: 女Female | X6: 計Total | Y6: 男Male | Z6: 女Female
A7: 總計 Total | B7: 合計 Total | C7: 計Total
C8: 小計 Total | D8: 一般General
D9: 原住民Indigenous
C10: 一般 General | D10: 一般General
D11: 原住民Indigenous
C12: 身心障礙 Disability | D12: 一般General
D13: 原住民Indigenous
B14: 本轄安置 Local Resettlement | C14: 計Total
C15: 小計 Total | D15: 一般General
D16: 原住民Indigenous
C17: 一般 General | D17: 一般General
D18: 原住民Indigenous
C19: 身心障礙 Disability | D19: 一般General
D20: 原住民Indigenous
B21: 外轄安置External Resettlement | C21: 計Total
C22: 小計 Total | D22: 一般General
D23: 原住民Indigenous
C24: 一般 General | D24: 一般General
D25: 原住民Indigenous
C26: 身心障礙 Disability | D26: 一般General
D27: 原住民Indigenous
A28: 衛生福利部 Inst. of MOHW | B28: 合計 Total | C28: 計Total
C29: 小計 Total | D29: 一般General
D30: 原住民Indigenous
C31: 一般 General | D31: 一般General
D32: 原住民Indigenous
C33: 身心障礙 Disability | D33: 一般General
D34: 原住民Indigenous
B35: 本轄安置 Local Resettlement | C35: 計Total
C36: 小計 Total | D36: 一般General
D37: 原住民Indigenous
C38: 一般 General | D38: 一般General
D39: 原住民Indigenous
C40: 身心障礙 Disability | D40: 一般General
...

Sheet End of Dec., 2026
A1: 兒童及少年家外安置概況Placement of Child and Youth Outside the Home
A2: 115年12月底 End of Dec., 2026
A3: 單位：人、戶、家、所、床 | E3: =IF(E7=SUM(E28,E49,E70,E91,E112,E133,E154,E175,E196,E217,E238,E259,E280,E301,E322,E343,E364,E385,E406,E427,E448,E469,E490),"",SUM(E28,E49,E70,E91,E112,E133,E154,E175,E196,E217,E238,E259,E280,E301,E322,E343,E364,E385,E406,E427,E448,E469,E490)) | F3: =IF(F7=SUM(F28,F49,F70,F91,F112,F133,F154,F175,F196,F217,F238,F259,F280,F301,F322,F343,F364,F385,F406,F427,F448,F469,F490),"",SUM(F28,F49,F70,F91,F112,F133,F154,F175,F196,F217,F238,F259,F280,F301,F322,F343,F364,F385,F406,F427,F448,F469,F490)) | G3: =IF(G7=SUM(G28,G49,G70,G91,G112,G133,G154,G175,G196,G217,G238,G259,G280,G301,G322,G343,G364,G385,G406,G427,G448,G469,G490),"",SUM(G28,G49,G70,G91,G112,G133,G154,G175,G196,G217,G238,G259,G280,G301,G322,G343,G364,G385,G406,G427,G448,G469,G490)) | H3: =IF(H7=SUM(H28,H49,H70,H91,H112,H133,H154,H175,H196,H217,H238,H259,H280,H301,H322,H343,H364,H385,H406,H427,H448,H469,H490),"",SUM(H28,H49,H70,H91,H112,H133,H154,H175,H196,H217,H238,H259,H280,H301,H322,H343,H364,H385,H406,H427,H448,H469,H490)) | I3: =IF(I7=SUM(I28,I49,I70,I91,I112,I133,I154,I175,I196,I217,I238,I259,I280,I301,I322,I343,I364,I385,I406,I427,I448,I469,I490),"",SUM(I28,I49,I70,I91,I112,I133,I154,I175,I196,I217,I238,I259,I280,I301,I322,I343,I364,I385,I406,I427,I448,I469,I490)) | J3: =IF(J7=SUM(J28,J49,J70,J91,J112,J133,J154,J175,J196,J217,J238,J259,J280,J301,J322,J343,J364,J385,J406,J427,J448,J469,J490),"",SUM(J28,J49,J70,J91,J112,J133,J154,J175,J196,J217,J238,J259,J280,J301,J322,J343,J364,J385,J406,J427,J448,J469,J490)) | K3: =IF(K7=SUM(K28,K49,K70,K91,K112,K133,K154,K175,K196,K217,K238,K259,K280,K301,K322,K343,K364,K385,K406,K427,K448,K469,K490),"",SUM(K28,K49,K70,K91,K112,K133,K154,K175,K196,K217,K238,K259,K280,K301,K322,K343,K364,K385,K406,K427,K448,K469,K490)) | L3: =IF(L7=SUM(L28,L49,L70,L91,L112,L133,L154,L175,L196,L217,L238,L259,L280,L301,L322,L343,L364,L385,L406,L427,L448,L469,L490),"",SUM(L28,L49,L70,L91,L112,L133,L154,L175,L196,L217,L238,L259,L280,L301,L322,L343,L364,L385,L406,L427,L448,L469,L490)) | ... Z3: =IF(Z7=SUM(Z28,Z49,Z70,Z91,Z112,Z133,Z154,Z175,Z196,Z217,Z238,Z259,Z280,Z301,Z322,Z343,Z364,Z385,Z406,Z427,Z448,Z469,Z490),"",SUM(Z28,Z49,Z70,Z91,Z112,Z133,Z154,Z175,Z196,Z217,Z238,Z259,Z280,Z301,Z322,Z343,Z364,Z385,Z406,Z427,Z448,Z469,Z490))
A4: 區域及特殊族群別 Locality & Ethnos | E4: 總計Total | H4: 親屬安置Relative Placement | K4: 寄養家庭Fostering Families | O4: 團體家庭Group Family | S4: 安置及教養機構Residential Institutions | X4: 其他Others
E5: 本期底安置人數（人） No. of Resettlers at the End of the Period | H5: 本期底安置人數（人） No. of Resettlers at the End of the Period | K5: 寄養家庭數 (戶) No. of Households | L5: 本期底安置人數（人） No. of Resettlers at the End of the Period | O5: 團體家庭數(家) No. of Group Households | P5: 本期底安置人數（人） No. of Resettlers at the End of the Period | S5: 所數 No. of Institutions | T5: 床位數 No. of Providing | U5: 本期底安置人數（人） No. of Resettlers at the End of the Period | X5: 本期底安置人數（人） No. of Resettlers at the End of the Period
E6: 計Total | F6: 男Male | G6: 女Female | H6: 計Total | I6: 男Male | J6: 女Female | L6: 計Total | M6: 男Male | N6: 女Female | P6: 計Total | Q6: 男Male | R6: 女Female | U6: 計Total | V6: 男Male | W6: 女Female | X6: 計Total | Y6: 男Male | Z6: 女Female
A7: 總計 Total | B7: 合計 Total | C7: 計Total
C8: 小計 Total | D8: 一般General
D9: 原住民Indigenous
C10: 一般 General | D10: 一般General
D11: 原住民Indigenous
C12: 身心障礙 Disability | D12: 一般General
D13: 原住民Indigenous
B14: 本轄安置 Local Resettlement | C14: 計Total
C15: 小計 Total | D15: 一般General
D16: 原住民Indigenous
C17: 一般 General | D17: 一般General
D18: 原住民Indigenous
C19: 身心障礙 Disability | D19: 一般General
D20: 原住民Indigenous
B21: 外轄安置External Resettlement | C21: 計Total
C22: 小計 Total | D22: 一般General
D23: 原住民Indigenous
C24: 一般 General | D24: 一般General
D25: 原住民Indigenous
C26: 身心障礙 Disability | D26: 一般General
D27: 原住民Indigenous
A28: 衛生福利部 Inst. of MOHW | B28: 合計 Total | C28: 計Total
C29: 小計 Total | D29: 一般General
D30: 原住民Indigenous
C31: 一般 General | D31: 一般General
D32: 原住民Indigenous
C33: 身心障礙 Disability | D33: 一般General
D34: 原住民Indigenous
B35: 本轄安置 Local Resettlement | C35: 計Total
C36: 小計 Total | D36: 一般General
D37: 原住民Indigenous
C38: 一般 General | D38: 一般General
D39: 原住民Indigenous
C40: 身心障礙 Disability | D40: 一般General
...

Sheet End of June, 2026
A1: 兒童及少年家外安置概況Placement of Child and Youth Outside the Home
A2: 115年6月底 End of June, 2026
A3: 單位：人、戶、家、所、床 | E3: =IF(E7=SUM(E28,E49,E70,E91,E112,E133,E154,E175,E196,E217,E238,E259,E280,E301,E322,E343,E364,E385,E406,E427,E448,E469,E490),"",SUM(E28,E49,E70,E91,E112,E133,E154,E175,E196,E217,E238,E259,E280,E301,E322,E343,E364,E385,E406,E427,E448,E469,E490)) | F3: =IF(F7=SUM(F28,F49,F70,F91,F112,F133,F154,F175,F196,F217,F238,F259,F280,F301,F322,F343,F364,F385,F406,F427,F448,F469,F490),"",SUM(F28,F49,F70,F91,F112,F133,F154,F175,F196,F217,F238,F259,F280,F301,F322,F343,F364,F385,F406,F427,F448,F469,F490)) | G3: =IF(G7=SUM(G28,G49,G70,G91,G112,G133,G154,G175,G196,G217,G238,G259,G280,G301,G322,G343,G364,G385,G406,G427,G448,G469,G490),"",SUM(G28,G49,G70,G91,G112,G133,G154,G175,G196,G217,G238,G259,G280,G301,G322,G343,G364,G385,G406,G427,G448,G469,G490)) | H3: =IF(H7=SUM(H28,H49,H70,H91,H112,H133,H154,H175,H196,H217,H238,H259,H280,H301,H322,H343,H364,H385,H406,H427,H448,H469,H490),"",SUM(H28,H49,H70,H91,H112,H133,H154,H175,H196,H217,H238,H259,H280,H301,H322,H343,H364,H385,H406,H427,H448,H469,H490)) | I3: =IF(I7=SUM(I28,I49,I70,I91,I112,I133,I154,I175,I196,I217,I238,I259,I280,I301,I322,I343,I364,I385,I406,I427,I448,I469,I490),"",SUM(I28,I49,I70,I91,I112,I133,I154,I175,I196,I217,I238,I259,I280,I301,I322,I343,I364,I385,I406,I427,I448,I469,I490)) | J3: =IF(J7=SUM(J28,J49,J70,J91,J112,J133,J154,J175,J196,J217,J238,J259,J280,J301,J322,J343,J364,J385,J406,J427,J448,J469,J490),"",SUM(J28,J49,J70,J91,J112,J133,J154,J175,J196,J217,J238,J259,J280,J301,J322,J343,J364,J385,J406,J427,J448,J469,J490)) | K3: =IF(K7=SUM(K28,K49,K70,K91,K112,K133,K154,K175,K196,K217,K238,K259,K280,K301,K322,K343,K364,K385,K406,K427,K448,K469,K490),"",SUM(K28,K49,K70,K91,K112,K133,K154,K175,K196,K217,K238,K259,K280,K301,K322,K343,K364,K385,K406,K427,K448,K469,K490)) | L3: =IF(L7=SUM(L28,L49,L70,L91,L112,L133,L154,L175,L196,L217,L238,L259,L280,L301,L322,L343,L364,L385,L406,L427,L448,L469,L490),"",SUM(L28,L49,L70,L91,L112,L133,L154,L175,L196,L217,L238,L259,L280,L301,L322,L343,L364,L385,L406,L427,L448,L469,L490)) | ... Z3: =IF(Z7=SUM(Z28,Z49,Z70,Z91,Z112,Z133,Z154,Z175,Z196,Z217,Z238,Z259,Z280,Z301,Z322,Z343,Z364,Z385,Z406,Z427,Z448,Z469,Z490),"",SUM(Z28,Z49,Z70,Z91,Z112,Z133,Z154,Z175,Z196,Z217,Z238,Z259,Z280,Z301,Z322,Z343,Z364,Z385,Z406,Z427,Z448,Z469,Z490))
A4: 區域及特殊族群別 Locality & Ethnos | E4: 總計Total | H4: 親屬安置Relative Placement | K4: 寄養家庭Fostering Families | O4: 團體家庭Group Family | S4: 安置及教養機構Residential Institutions | X4: 其他Others
E5: 本期底安置人數（人） No. of Resettlers at the End of the Period | H5: 本期底安置人數（人） No. of Resettlers at the End of the Period | K5: 寄養家庭數 (戶) No. of Households | L5: 本期底安置人數（人） No. of Resettlers at the End of the Period | O5: 團體家庭數(家) No. of Group Households | P5: 本期底安置人數（人） No. of Resettlers at the End of the Period | S5: 所數 No. of Institutions | T5: 床位數 No. of Providing | U5: 本期底安置人數（人） No. of Resettlers at the End of the Period | X5: 本期底安置人數（人） No. of Resettlers at the End of the Period
E6: 計Total | F6: 男Male | G6: 女Female | H6: 計Total | I6: 男Male | J6: 女Female | L6: 計Total | M6: 男Male | N6: 女Female | P6: 計Total | Q6: 男Male | R6: 女Female | U6: 計Total | V6: 男Male | W6: 女Female | X6: 計Total | Y6: 男Male | Z6: 女Female
A7: 總計 Total | B7: 合計 Total | C7: 計Total | E7: 4647 | F7: 2467 | G7: 2180 | H7: 417 | I7: 213 | J7: 204 | K7: 1312 | L7: 1652 | M7: 860 | N7: 792 | O7: 101 | P7: 271 | Q7: 163 | R7: 108 | S7: 99 | T7: 3576 | U7: 1863 | V7: 959 | W7: 904 | X7: 444 | Y7: 272 | Z7: 172
C8: 小計 Total | D8: 一般General | E8: 3950 | F8: 2100 | G8: 1850 | H8: 335 | I8: 171 | J8: 164 | L8: 1418 | M8: 733 | N8: 685 | P8: 232 | Q8: 136 | R8: 96 | U8: 1588 | V8: 826 | W8: 762 | X8: 377 | Y8: 234 | Z8: 143
D9: 原住民Indigenous | E9: 697 | F9: 367 | G9: 330 | H9: 82 | I9: 42 | J9: 40 | L9: 234 | M9: 127 | N9: 107 | P9: 39 | Q9: 27 | R9: 12 | U9: 275 | V9: 133 | W9: 142 | X9: 67 | Y9: 38 | Z9: 29
C10: 一般 General | D10: 一般General | E10: 3134 | F10: 1611 | G10: 1523 | H10: 283 | I10: 139 | J10: 144 | L10: 1188 | M10: 607 | N10: 581 | P10: 150 | Q10: 86 | R10: 64 | U10: 1300 | V10: 651 | W10: 649 | X10: 213 | Y10: 128 | Z10: 85
D11: 原住民Indigenous | E11: 550 | F11: 280 | G11: 270 | H11: 73 | I11: 38 | J11: 35 | L11: 194 | M11: 103 | N11: 91 | P11: 25 | Q11: 15 | R11: 10 | U11: 227 | V11: 109 | W11: 118 | X11: 31 | Y11: 15 | Z11: 16
C12: 身心障礙 Disability | D12: 一般General | E12: 816 | F12: 489 | G12: 327 | H12: 52 | I12: 32 | J12: 20 | L12: 230 | M12: 126 | N12: 104 | P12: 82 | Q12: 50 | R12: 32 | U12: 288 | V12: 175 | W12: 113 | X12: 164 | Y12: 106 | Z12: 58
D13: 原住民Indigenous | E13: 147 | F13: 87 | G13: 60 | H13: 9 | I13: 4 | J13: 5 | L13: 40 | M13: 24 | N13: 16 | P13: 14 | Q13: 12 | R13: 2 | U13: 48 | V13: 24 | W13: 24 | X13: 36 | Y13: 23 | Z13: 13
B14: 本轄安置 Local Resettlement | C14: 計Total | E14: 3612 | F14: 1922 | G14: 1690 | H14: 356 | I14: 191 | J14: 165 | L14: 1609 | M14: 840 | N14: 769 | P14: 270 | Q14: 163 | R14: 107 | U14: 1035 | V14: 521 | W14: 514 | X14: 342 | Y14: 207 | Z14: 135
C15: 小計 Total | D15: 一般General | E15: 3070 | F15: 1633 | G15: 1437 | H15: 284 | I15: 153 | J15: 131 | L15: 1380 | M15: 715 | N15: 665 | P15: 231 | Q15: 136 | R15: 95 | U15: 878 | V15: 446 | W15: 432 | X15: 297 | Y15: 183 | Z15: 114
D16: 原住民Indigenous | E16: 542 | F16: 289 | G16: 253 | H16: 72 | I16: 38 | J16: 34 | L16: 229 | M16: 125 | N16: 104 | P16: 39 | Q16: 27 | R16: 12 | U16: 157 | V16: 75 | W16: 82 | X16: 45 | Y16: 24 | Z16: 21
C17: 一般 General | D17: 一般General | E17: 2453 | F17: 1269 | G17: 1184 | H17: 235 | I17: 122 | J17: 113 | L17: 1157 | M17: 593 | N17: 564 | P17: 149 | Q17: 86 | R17: 63 | U17: 723 | V17: 355 | W17: 368 | X17: 189 | Y17: 113 | Z17: 76
D18: 原住民Indigenous | E18: 432 | F18: 223 | G18: 209 | H18: 63 | I18: 34 | J18: 29 | L18: 190 | M18: 101 | N18: 89 | P18: 25 | Q18: 15 | R18: 10 | U18: 125 | V18: 58 | W18: 67 | X18: 29 | Y18: 15 | Z18: 14
C19: 身心障礙 Disability | D19: 一般General | E19: 617 | F19: 364 | G19: 253 | H19: 49 | I19: 31 | J19: 18 | L19: 223 | M19: 122 | N19: 101 | P19: 82 | Q19: 50 | R19: 32 | U19: 155 | V19: 91 | W19: 64 | X19: 108 | Y19: 70 | Z19: 38
D20: 原住民Indigenous | E20: 110 | F20: 66 | G20: 44 | H20: 9 | I20: 4 | J20: 5 | L20: 39 | M20: 24 | N20: 15 | P20: 14 | Q20: 12 | R20: 2 | U20: 32 | V20: 17 | W20: 15 | X20: 16 | Y20: 9 | Z20: 7
B21: 外轄安置External Resettlement | C21: 計Total | E21: 1035 | F21: 545 | G21: 490 | H21: 61 | I21: 22 | J21: 39 | L21: 43 | M21: 20 | N21: 23 | P21: 1 | Q21: 0 | R21: 1 | U21: 828 | V21: 438 | W21: 390 | X21: 102 | Y21: 65 | Z21: 37
C22: 小計 Total | D22: 一般General | E22: 880 | F22: 467 | G22: 413 | H22: 51 | I22: 18 | J22: 33 | L22: 38 | M22: 18 | N22: 20 | P22: 1 | Q22: 0 | R22: 1 | U22: 710 | V22: 380 | W22: 330 | X22: 80 | Y22: 51 | Z22: 29
D23: 原住民Indigenous | E23: 155 | F23: 78 | G23: 77 | H23: 10 | I23: 4 | J23: 6 | L23: 5 | M23: 2 | N23: 3 | P23: 0 | Q23: 0 | R23: 0 | U23: 118 | V23: 58 | W23: 60 | X23: 22 | Y23: 14 | Z23: 8
C24: 一般 General | D24: 一般General | E24: 681 | F24: 342 | G24: 339 | H24: 48 | I24: 17 | J24: 31 | L24: 31 | M24: 14 | N24: 17 | P24: 1 | Q24: 0 | R24: 1 | U24: 577 | V24: 296 | W24: 281 | X24: 24 | Y24: 15 | Z24: 9
D25: 原住民Indigenous | E25: 118 | F25: 57 | G25: 61 | H25: 10 | I25: 4 | J25: 6 | L25: 4 | M25: 2 | N25: 2 | P25: 0 | Q25: 0 | R25: 0 | U25: 102 | V25: 51 | W25: 51 | X25: 2 | Y25: 0 | Z25: 2
C26: 身心障礙 Disability | D26: 一般General | E26: 199 | F26: 125 | G26: 74 | H26: 3 | I26: 1 | J26: 2 | L26: 7 | M26: 4 | N26: 3 | P26: 0 | Q26: 0 | R26: 0 | U26: 133 | V26: 84 | W26: 49 | X26: 56 | Y26: 36 | Z26: 20
D27: 原住民Indigenous | E27: 37 | F27: 21 | G27: 16 | H27: 0 | I27: 0 | J27: 0 | L27: 1 | M27: 0 | N27: 1 | P27: 0 | Q27: 0 | R27: 0 | U27: 16 | V27: 7 | W27: 9 | X27: 20 | Y27: 14 | Z27: 6
A28: 衛生福利部 Inst. of MOHW | B28: 合計 Total | C28: 計Total | E28: 406 | F28: 194 | G28: 212 | H28: 0 | I28: 0 | J28: 0 | K28: 0 | L28: 0 | M28: 0 | N28: 0 | O28: 0 | P28: 0 | Q28: 0 | R28: 0 | S28: 9 | T28: 747 | U28: 406 | V28: 194 | W28: 212 | X28: 0 | Y28: 0 | Z28: 0
C29: 小計 Total | D29: 一般General | E29: 358 | F29: 173 | G29: 185 | H29: 0 | I29: 0 | J29: 0 | L29: 0 | M29: 0 | N29: 0 | P29: 0 | Q29: 0 | R29: 0 | U29: 358 | V29: 173 | W29: 185 | X29: 0 | Y29: 0 | Z29: 0
D30: 原住民Indigenous | E30: 48 | F30: 21 | G30: 27 | H30: 0 | I30: 0 | J30: 0 | L30: 0 | M30: 0 | N30: 0 | P30: 0 | Q30: 0 | R30: 0 | U30: 48 | V30: 21 | W30: 27 | X30: 0 | Y30: 0 | Z30: 0
C31: 一般 General | D31: 一般General | E31: 281 | F31: 127 | G31: 154 | H31: 0 | I31: 0 | J31: 0 | L31: 0 | M31: 0 | N31: 0 | P31: 0 | Q31: 0 | R31: 0 | U31: 281 | V31: 127 | W31: 154 | X31: 0 | Y31: 0 | Z31: 0
D32: 原住民Indigenous | E32: 45 | F32: 18 | G32: 27 | H32: 0 | I32: 0 | J32: 0 | L32: 0 | M32: 0 | N32: 0 | P32: 0 | Q32: 0 | R32: 0 | U32: 45 | V32: 18 | W32: 27 | X32: 0 | Y32: 0 | Z32: 0
C33: 身心障礙 Disability | D33: 一般General | E33: 77 | F33: 46 | G33: 31 | H33: 0 | I33: 0 | J33: 0 | L33: 0 | M33: 0 | N33: 0 | P33: 0 | Q33: 0 | R33: 0 | U33: 77 | V33: 46 | W33: 31 | X33: 0 | Y33: 0 | Z33: 0
D34: 原住民Indigenous | E34: 3 | F34: 3 | G34: 0 | H34: 0 | I34: 0 | J34: 0 | L34: 0 | M34: 0 | N34: 0 | P34: 0 | Q34: 0 | R34: 0 | U34: 3 | V34: 3 | W34: 0 | X34: 0 | Y34: 0 | Z34: 0
B35: 本轄安置 Local Resettlement | C35: 計Total | E35: 202 | F35: 98 | G35: 104 | H35: 0 | I35: 0 | J35: 0 | L35: 0 | M35: 0 | N35: 0 | P35: 0 | Q35: 0 | R35: 0 | U35: 202 | V35: 98 | W35: 104 | X35: 0 | Y35: 0 | Z35: 0
C36: 小計 Total | D36: 一般General | E36: 178 | F36: 86 | G36: 92 | H36: 0 | I36: 0 | J36: 0 | L36: 0 | M36: 0 | N36: 0 | P36: 0 | Q36: 0 | R36: 0 | U36: 178 | V36: 86 | W36: 92 | X36: 0 | Y36: 0 | Z36: 0
D37: 原住民Indigenous | E37: 24 | F37: 12 | G37: 12 | H37: 0 | I37: 0 | J37: 0 | L37: 0 | M37: 0 | N37: 0 | P37: 0 | Q37: 0 | R37: 0 | U37: 24 | V37: 12 | W37: 12 | X37: 0 | Y37: 0 | Z37: 0
C38: 一般 General | D38: 一般General | E38: 144 | F38: 67 | G38: 77 | H38: 0 | I38: 0 | J38: 0 | L38: 0 | M38: 0 | N38: 0 | P38: 0 | Q38: 0 | R38: 0 | U38: 144 | V38: 67 | W38: 77 | X38: 0 | Y38: 0 | Z38: 0
D39: 原住民Indigenous | E39: 22 | F39: 10 | G39: 12 | H39: 0 | I39: 0 | J39: 0 | L39: 0 | M39: 0 | N39: 0 | P39: 0 | Q39: 0 | R39: 0 | U39: 22 | V39: 10 | W39: 12 | X39: 0 | Y39: 0 | Z39: 0
C40: 身心障礙 Disability | D40: 一般General | E40: 34 | F40: 19 | G40: 15 | H40: 0 | I40: 0 | J40: 0 | L40: 0 | M40: 0 | N40: 0 | P40: 0 | Q40: 0 | R40: 0 | U40: 34 | V40: 19 | W40: 15 | X40: 0 | Y40: 0 | Z40: 0
...

Sheet 2025
A1: 兒童及少年家外安置概況Placement of Child and Youth Outside the Home
A2: 114年底, End of 2025
A3: 單位：人、戶、家、所、床 | E3: =IF(E7=SUM(E28,E49,E70,E91,E112,E133,E154,E175,E196,E217,E238,E259,E280,E301,E322,E343,E364,E385,E406,E427,E448,E469,E490),"",SUM(E28,E49,E70,E91,E112,E133,E154,E175,E196,E217,E238,E259,E280,E301,E322,E343,E364,E385,E406,E427,E448,E469,E490)) | F3: =IF(F7=SUM(F28,F49,F70,F91,F112,F133,F154,F175,F196,F217,F238,F259,F280,F301,F322,F343,F364,F385,F406,F427,F448,F469,F490),"",SUM(F28,F49,F70,F91,F112,F133,F154,F175,F196,F217,F238,F259,F280,F301,F322,F343,F364,F385,F406,F427,F448,F469,F490)) | G3: =IF(G7=SUM(G28,G49,G70,G91,G112,G133,G154,G175,G196,G217,G238,G259,G280,G301,G322,G343,G364,G385,G406,G427,G448,G469,G490),"",SUM(G28,G49,G70,G91,G112,G133,G154,G175,G196,G217,G238,G259,G280,G301,G322,G343,G364,G385,G406,G427,G448,G469,G490)) | H3: =IF(H7=SUM(H28,H49,H70,H91,H112,H133,H154,H175,H196,H217,H238,H259,H280,H301,H322,H343,H364,H385,H406,H427,H448,H469,H490),"",SUM(H28,H49,H70,H91,H112,H133,H154,H175,H196,H217,H238,H259,H280,H301,H322,H343,H364,H385,H406,H427,H448,H469,H490)) | I3: =IF(I7=SUM(I28,I49,I70,I91,I112,I133,I154,I175,I196,I217,I238,I259,I280,I301,I322,I343,I364,I385,I406,I427,I448,I469,I490),"",SUM(I28,I49,I70,I91,I112,I133,I154,I175,I196,I217,I238,I259,I280,I301,I322,I343,I364,I385,I406,I427,I448,I469,I490)) | J3: =IF(J7=SUM(J28,J49,J70,J91,J112,J133,J154,J175,J196,J217,J238,J259,J280,J301,J322,J343,J364,J385,J406,J427,J448,J469,J490),"",SUM(J28,J49,J70,J91,J112,J133,J154,J175,J196,J217,J238,J259,J280,J301,J322,J343,J364,J385,J406,J427,J448,J469,J490)) | K3: =IF(K7=SUM(K28,K49,K70,K91,K112,K133,K154,K175,K196,K217,K238,K259,K280,K301,K322,K343,K364,K385,K406,K427,K448,K469,K490),"",SUM(K28,K49,K70,K91,K112,K133,K154,K175,K196,K217,K238,K259,K280,K301,K322,K343,K364,K385,K406,K427,K448,K469,K490)) | L3: =IF(L7=SUM(L28,L49,L70,L91,L112,L133,L154,L175,L196,L217,L238,L259,L280,L301,L322,L343,L364,L385,L406,L427,L448,L469,L490),"",SUM(L28,L49,L70,L91,L112,L133,L154,L175,L196,L217,L238,L259,L280,L301,L322,L343,L364,L385,L406,L427,L448,L469,L490)) | ... Z3: =IF(Z7=SUM(Z28,Z49,Z70,Z91,Z112,Z133,Z154,Z175,Z196,Z217,Z238,Z259,Z280,Z301,Z322,Z343,Z364,Z385,Z406,Z427,Z448,Z469,Z490),"",SUM(Z28,Z49,Z70,Z91,Z112,Z133,Z154,Z175,Z196,Z217,Z238,Z259,Z280,Z301,Z322,Z343,Z364,Z385,Z406,Z427,Z448,Z469,Z490))
A4: 區域及特殊族群別 Locality & Ethnos | E4: 總計Total | H4: 親屬安置Relative Placement | K4: 寄養家庭Fostering Families | O4: 團體家庭Group Family | S4: 安置及教養機構Residential Institutions | X4: 其他Others
E5: 本期底安置人數（人） No. of Resettlers at the End of the Period | H5: 本期底安置人數（人） No. of Resettlers at the End of the Period | K5: 寄養家庭數 (戶) No. of Households | L5: 本期底安置人數（人） No. of Resettlers at the End of the Period | O5: 團體家庭數(家) No. of Group Households | P5: 本期底安置人數（人） No. of Resettlers at the End of the Period | S5: 所數 No. of Institutions | T5: 床位數 No. of Providing | U5: 本期底安置人數（人） No. of Resettlers at the End of the Period | X5: 本期底安置人數（人） No. of Resettlers at the End of the Period
E6: 計Total | F6: 男Male | G6: 女Female | H6: 計Total | I6: 男Male | J6: 女Female | L6: 計Total | M6: 男Male | N6: 女Female | P6: 計Total | Q6: 男Male | R6: 女Female | U6: 計Total | V6: 男Male | W6: 女Female | X6: 計Total | Y6: 男Male | Z6: 女Female
A7: 總計 Total | B7: 合計 Total | C7: 計Total | E7: 4639 | F7: 2438 | G7: 2201 | H7: 410 | I7: 204 | J7: 206 | K7: 1343 | L7: 1622 | M7: 832 | N7: 790 | O7: 83 | P7: 218 | Q7: 135 | R7: 83 | S7: 102 | T7: 3662 | U7: 1952 | V7: 1006 | W7: 946 | X7: 437 | Y7: 261 | Z7: 176
C8: 小計 Total | D8: 一般General | E8: 3951 | F8: 2076 | G8: 1875 | H8: 322 | I8: 160 | J8: 162 | L8: 1407 | M8: 714 | N8: 693 | P8: 199 | Q8: 123 | R8: 76 | U8: 1662 | V8: 860 | W8: 802 | X8: 361 | Y8: 219 | Z8: 142
D9: 原住民Indigenous | E9: 688 | F9: 362 | G9: 326 | H9: 88 | I9: 44 | J9: 44 | L9: 215 | M9: 118 | N9: 97 | P9: 19 | Q9: 12 | R9: 7 | U9: 290 | V9: 146 | W9: 144 | X9: 76 | Y9: 42 | Z9: 34
C10: 一般 General | D10: 一般General | E10: 3116 | F10: 1574 | G10: 1542 | H10: 271 | I10: 126 | J10: 145 | L10: 1161 | M10: 582 | N10: 579 | P10: 126 | Q10: 75 | R10: 51 | U10: 1357 | V10: 677 | W10: 680 | X10: 201 | Y10: 114 | Z10: 87
D11: 原住民Indigenous | E11: 540 | F11: 273 | G11: 267 | H11: 77 | I11: 38 | J11: 39 | L11: 176 | M11: 93 | N11: 83 | P11: 11 | Q11: 5 | R11: 6 | U11: 240 | V11: 120 | W11: 120 | X11: 36 | Y11: 17 | Z11: 19
C12: 身心障礙 Disability | D12: 一般General | E12: 835 | F12: 502 | G12: 333 | H12: 51 | I12: 34 | J12: 17 | L12: 246 | M12: 132 | N12: 114 | P12: 73 | Q12: 48 | R12: 25 | U12: 305 | V12: 183 | W12: 122 | X12: 160 | Y12: 105 | Z12: 55
D13: 原住民Indigenous | E13: 148 | F13: 89 | G13: 59 | H13: 11 | I13: 6 | J13: 5 | L13: 39 | M13: 25 | N13: 14 | P13: 8 | Q13: 7 | R13: 1 | U13: 50 | V13: 26 | W13: 24 | X13: 40 | Y13: 25 | Z13: 15
B14: 本轄安置 Local Resettlement | C14: 計Total | E14: 3603 | F14: 1895 | G14: 1708 | H14: 354 | I14: 181 | J14: 173 | L14: 1596 | M14: 823 | N14: 773 | P14: 218 | Q14: 135 | R14: 83 | U14: 1105 | V14: 562 | W14: 543 | X14: 330 | Y14: 194 | Z14: 136
C15: 小計 Total | D15: 一般General | E15: 3078 | F15: 1615 | G15: 1463 | H15: 276 | I15: 142 | J15: 134 | L15: 1384 | M15: 705 | N15: 679 | P15: 199 | Q15: 123 | R15: 76 | U15: 942 | V15: 480 | W15: 462 | X15: 277 | Y15: 165 | Z15: 112
D16: 原住民Indigenous | E16: 525 | F16: 280 | G16: 245 | H16: 78 | I16: 39 | J16: 39 | L16: 212 | M16: 118 | N16: 94 | P16: 19 | Q16: 12 | R16: 7 | U16: 163 | V16: 82 | W16: 81 | X16: 53 | Y16: 29 | Z16: 24
C17: 一般 General | D17: 一般General | E17: 2455 | F17: 1246 | G17: 1209 | H17: 229 | I17: 110 | J17: 119 | L17: 1143 | M17: 575 | N17: 568 | P17: 126 | Q17: 75 | R17: 51 | U17: 778 | V17: 387 | W17: 391 | X17: 179 | Y17: 99 | Z17: 80
D18: 原住民Indigenous | E18: 419 | F18: 213 | G18: 206 | H18: 67 | I18: 33 | J18: 34 | L18: 174 | M18: 93 | N18: 81 | P18: 11 | Q18: 5 | R18: 6 | U18: 134 | V18: 65 | W18: 69 | X18: 33 | Y18: 17 | Z18: 16
C19: 身心障礙 Disability | D19: 一般General | E19: 623 | F19: 369 | G19: 254 | H19: 47 | I19: 32 | J19: 15 | L19: 241 | M19: 130 | N19: 111 | P19: 73 | Q19: 48 | R19: 25 | U19: 164 | V19: 93 | W19: 71 | X19: 98 | Y19: 66 | Z19: 32
D20: 原住民Indigenous | E20: 106 | F20: 67 | G20: 39 | H20: 11 | I20: 6 | J20: 5 | L20: 38 | M20: 25 | N20: 13 | P20: 8 | Q20: 7 | R20: 1 | U20: 29 | V20: 17 | W20: 12 | X20: 20 | Y20: 12 | Z20: 8
B21: 外轄安置External Resettlement | C21: 計Total | E21: 1036 | F21: 543 | G21: 493 | H21: 56 | I21: 23 | J21: 33 | L21: 26 | M21: 9 | N21: 17 | P21: 0 | Q21: 0 | R21: 0 | U21: 847 | V21: 444 | W21: 403 | X21: 107 | Y21: 67 | Z21: 40
C22: 小計 Total | D22: 一般General | E22: 873 | F22: 461 | G22: 412 | H22: 46 | I22: 18 | J22: 28 | L22: 23 | M22: 9 | N22: 14 | P22: 0 | Q22: 0 | R22: 0 | U22: 720 | V22: 380 | W22: 340 | X22: 84 | Y22: 54 | Z22: 30
D23: 原住民Indigenous | E23: 163 | F23: 82 | G23: 81 | H23: 10 | I23: 5 | J23: 5 | L23: 3 | M23: 0 | N23: 3 | P23: 0 | Q23: 0 | R23: 0 | U23: 127 | V23: 64 | W23: 63 | X23: 23 | Y23: 13 | Z23: 10
C24: 一般 General | D24: 一般General | E24: 661 | F24: 328 | G24: 333 | H24: 42 | I24: 16 | J24: 26 | L24: 18 | M24: 7 | N24: 11 | P24: 0 | Q24: 0 | R24: 0 | U24: 579 | V24: 290 | W24: 289 | X24: 22 | Y24: 15 | Z24: 7
D25: 原住民Indigenous | E25: 121 | F25: 60 | G25: 61 | H25: 10 | I25: 5 | J25: 5 | L25: 2 | M25: 0 | N25: 2 | P25: 0 | Q25: 0 | R25: 0 | U25: 106 | V25: 55 | W25: 51 | X25: 3 | Y25: 0 | Z25: 3
C26: 身心障礙 Disability | D26: 一般General | E26: 212 | F26: 133 | G26: 79 | H26: 4 | I26: 2 | J26: 2 | L26: 5 | M26: 2 | N26: 3 | P26: 0 | Q26: 0 | R26: 0 | U26: 141 | V26: 90 | W26: 51 | X26: 62 | Y26: 39 | Z26: 23
D27: 原住民Indigenous | E27: 42 | F27: 22 | G27: 20 | H27: 0 | I27: 0 | J27: 0 | L27: 1 | M27: 0 | N27: 1 | P27: 0 | Q27: 0 | R27: 0 | U27: 21 | V27: 9 | W27: 12 | X27: 20 | Y27: 13 | Z27: 7
A28: 衛生福利部 Inst. of MOHW | B28: 合計 Total | C28: 計Total | E28: 426 | F28: 207 | G28: 219 | H28: 0 | I28: 0 | J28: 0 | K28: 0 | L28: 0 | M28: 0 | N28: 0 | O28: 0 | P28: 0 | Q28: 0 | R28: 0 | S28: 9 | T28: 747 | U28: 426 | V28: 207 | W28: 219 | X28: 0 | Y28: 0 | Z28: 0
C29: 小計 Total | D29: 一般General | E29: 382 | F29: 185 | G29: 197 | H29: 0 | I29: 0 | J29: 0 | L29: 0 | M29: 0 | N29: 0 | P29: 0 | Q29: 0 | R29: 0 | U29: 382 | V29: 185 | W29: 197 | X29: 0 | Y29: 0 | Z29: 0
D30: 原住民Indigenous | E30: 44 | F30: 22 | G30: 22 | H30: 0 | I30: 0 | J30: 0 | L30: 0 | M30: 0 | N30: 0 | P30: 0 | Q30: 0 | R30: 0 | U30: 44 | V30: 22 | W30: 22 | X30: 0 | Y30: 0 | Z30: 0
C31: 一般 General | D31: 一般General | E31: 305 | F31: 139 | G31: 166 | H31: 0 | I31: 0 | J31: 0 | L31: 0 | M31: 0 | N31: 0 | P31: 0 | Q31: 0 | R31: 0 | U31: 305 | V31: 139 | W31: 166 | X31: 0 | Y31: 0 | Z31: 0
D32: 原住民Indigenous | E32: 40 | F32: 18 | G32: 22 | H32: 0 | I32: 0 | J32: 0 | L32: 0 | M32: 0 | N32: 0 | P32: 0 | Q32: 0 | R32: 0 | U32: 40 | V32: 18 | W32: 22 | X32: 0 | Y32: 0 | Z32: 0
C33: 身心障礙 Disability | D33: 一般General | E33: 77 | F33: 46 | G33: 31 | H33: 0 | I33: 0 | J33: 0 | L33: 0 | M33: 0 | N33: 0 | P33: 0 | Q33: 0 | R33: 0 | U33: 77 | V33: 46 | W33: 31 | X33: 0 | Y33: 0 | Z33: 0
D34: 原住民Indigenous | E34: 4 | F34: 4 | G34: 0 | H34: 0 | I34: 0 | J34: 0 | L34: 0 | M34: 0 | N34: 0 | P34: 0 | Q34: 0 | R34: 0 | U34: 4 | V34: 4 | W34: 0 | X34: 0 | Y34: 0 | Z34: 0
B35: 本轄安置 Local Resettlement | C35: 計Total | E35: 218 | F35: 106 | G35: 112 | H35: 0 | I35: 0 | J35: 0 | L35: 0 | M35: 0 | N35: 0 | P35: 0 | Q35: 0 | R35: 0 | U35: 218 | V35: 106 | W35: 112 | X35: 0 | Y35: 0 | Z35: 0
C36: 小計 Total | D36: 一般General | E36: 193 | F36: 93 | G36: 100 | H36: 0 | I36: 0 | J36: 0 | L36: 0 | M36: 0 | N36: 0 | P36: 0 | Q36: 0 | R36: 0 | U36: 193 | V36: 93 | W36: 100 | X36: 0 | Y36: 0 | Z36: 0
D37: 原住民Indigenous | E37: 25 | F37: 13 | G37: 12 | H37: 0 | I37: 0 | J37: 0 | L37: 0 | M37: 0 | N37: 0 | P37: 0 | Q37: 0 | R37: 0 | U37: 25 | V37: 13 | W37: 12 | X37: 0 | Y37: 0 | Z37: 0
C38: 一般 General | D38: 一般General | E38: 158 | F38: 74 | G38: 84 | H38: 0 | I38: 0 | J38: 0 | L38: 0 | M38: 0 | N38: 0 | P38: 0 | Q38: 0 | R38: 0 | U38: 158 | V38: 74 | W38: 84 | X38: 0 | Y38: 0 | Z38: 0
D39: 原住民Indigenous | E39: 22 | F39: 10 | G39: 12 | H39: 0 | I39: 0 | J39: 0 | L39: 0 | M39: 0 | N39: 0 | P39: 0 | Q39: 0 | R39: 0 | U39: 22 | V39: 10 | W39: 12 | X39: 0 | Y39: 0 | Z39: 0
C40: 身心障礙 Disability | D40: 一般General | E40: 35 | F40: 19 | G40: 16 | H40: 0 | I40: 0 | J40: 0 | L40: 0 | M40: 0 | N40: 0 | P40: 0 | Q40: 0 | R40: 0 | U40: 35 | V40: 19 | W40: 16 | X40: 0 | Y40: 0 | Z40: 0
...

Sheet End of Dec., 2025
A1: 兒童及少年家外安置概況Placement of Child and Youth Outside the Home
A2: 114年12月底 End of Dec., 2025
A3: 單位：人、戶、家、所、床 | E3: =IF(E7=SUM(E28,E49,E70,E91,E112,E133,E154,E175,E196,E217,E238,E259,E280,E301,E322,E343,E364,E385,E406,E427,E448,E469,E490),"",SUM(E28,E49,E70,E91,E112,E133,E154,E175,E196,E217,E238,E259,E280,E301,E322,E343,E364,E385,E406,E427,E448,E469,E490)) | F3: =IF(F7=SUM(F28,F49,F70,F91,F112,F133,F154,F175,F196,F217,F238,F259,F280,F301,F322,F343,F364,F385,F406,F427,F448,F469,F490),"",SUM(F28,F49,F70,F91,F112,F133,F154,F175,F196,F217,F238,F259,F280,F301,F322,F343,F364,F385,F406,F427,F448,F469,F490)) | G3: =IF(G7=SUM(G28,G49,G70,G91,G112,G133,G154,G175,G196,G217,G238,G259,G280,G301,G322,G343,G364,G385,G406,G427,G448,G469,G490),"",SUM(G28,G49,G70,G91,G112,G133,G154,G175,G196,G217,G238,G259,G280,G301,G322,G343,G364,G385,G406,G427,G448,G469,G490)) | H3: =IF(H7=SUM(H28,H49,H70,H91,H112,H133,H154,H175,H196,H217,H238,H259,H280,H301,H322,H343,H364,H385,H406,H427,H448,H469,H490),"",SUM(H28,H49,H70,H91,H112,H133,H154,H175,H196,H217,H238,H259,H280,H301,H322,H343,H364,H385,H406,H427,H448,H469,H490)) | I3: =IF(I7=SUM(I28,I49,I70,I91,I112,I133,I154,I175,I196,I217,I238,I259,I280,I301,I322,I343,I364,I385,I406,I427,I448,I469,I490),"",SUM(I28,I49,I70,I91,I112,I133,I154,I175,I196,I217,I238,I259,I280,I301,I322,I343,I364,I385,I406,I427,I448,I469,I490)) | J3: =IF(J7=SUM(J28,J49,J70,J91,J112,J133,J154,J175,J196,J217,J238,J259,J280,J301,J322,J343,J364,J385,J406,J427,J448,J469,J490),"",SUM(J28,J49,J70,J91,J112,J133,J154,J175,J196,J217,J238,J259,J280,J301,J322,J343,J364,J385,J406,J427,J448,J469,J490)) | K3: =IF(K7=SUM(K28,K49,K70,K91,K112,K133,K154,K175,K196,K217,K238,K259,K280,K301,K322,K343,K364,K385,K406,K427,K448,K469,K490),"",SUM(K28,K49,K70,K91,K112,K133,K154,K175,K196,K217,K238,K259,K280,K301,K322,K343,K364,K385,K406,K427,K448,K469,K490)) | L3: =IF(L7=SUM(L28,L49,L70,L91,L112,L133,L154,L175,L196,L217,L238,L259,L280,L301,L322,L343,L364,L385,L406,L427,L448,L469,L490),"",SUM(L28,L49,L70,L91,L112,L133,L154,L175,L196,L217,L238,L259,L280,L301,L322,L343,L364,L385,L406,L427,L448,L469,L490)) | ... Z3: =IF(Z7=SUM(Z28,Z49,Z70,Z91,Z112,Z133,Z154,Z175,Z196,Z217,Z238,Z259,Z280,Z301,Z322,Z343,Z364,Z385,Z406,Z427,Z448,Z469,Z490),"",SUM(Z28,Z49,Z70,Z91,Z112,Z133,Z154,Z175,Z196,Z217,Z238,Z259,Z280,Z301,Z322,Z343,Z364,Z385,Z406,Z427,Z448,Z469,Z490))
A4: 區域及特殊族群別 Locality & Ethnos | E4: 總計Total | H4: 親屬安置Relative Placement | K4: 寄養家庭Fostering Families | O4: 團體家庭Group Family | S4: 安置及教養機構Residential Institutions | X4: 其他Others
E5: 本期底安置人數（人） No. of Resettlers at the End of the Period | H5: 本期底安置人數（人） No. of Resettlers at the End of the Period | K5: 寄養家庭數 (戶) No. of Households | L5: 本期底安置人數（人） No. of Resettlers at the End of the Period | O5: 團體家庭數(家) No. of Group Households | P5: 本期底安置人數（人） No. of Resettlers at the End of the Period | S5: 所數 No. of Institutions | T5: 床位數 No. of Providing | U5: 本期底安置人數（人） No. of Resettlers at the End of the Period | X5: 本期底安置人數（人） No. of Resettlers at the End of the Period
E6: 計Total | F6: 男Male | G6: 女Female | H6: 計Total | I6: 男Male | J6: 女Female | L6: 計Total | M6: 男Male | N6: 女Female | P6: 計Total | Q6: 男Male | R6: 女Female | U6: 計Total | V6: 男Male | W6: 女Female | X6: 計Total | Y6: 男Male | Z6: 女Female
A7: 總計 Total | B7: 合計 Total | C7: 計Total | E7: 4639 | F7: 2438 | G7: 2201 | H7: 410 | I7: 204 | J7: 206 | K7: 1343 | L7: 1622 | M7: 832 | N7: 790 | O7: 83 | P7: 218 | Q7: 135 | R7: 83 | S7: 102 | T7: 3662 | U7: 1952 | V7: 1006 | W7: 946 | X7: 437 | Y7: 261 | Z7: 176
C8: 小計 Total | D8: 一般General | E8: 3951 | F8: 2076 | G8: 1875 | H8: 322 | I8: 160 | J8: 162 | L8: 1407 | M8: 714 | N8: 693 | P8: 199 | Q8: 123 | R8: 76 | U8: 1662 | V8: 860 | W8: 802 | X8: 361 | Y8: 219 | Z8: 142
D9: 原住民Indigenous | E9: 688 | F9: 362 | G9: 326 | H9: 88 | I9: 44 | J9: 44 | L9: 215 | M9: 118 | N9: 97 | P9: 19 | Q9: 12 | R9: 7 | U9: 290 | V9: 146 | W9: 144 | X9: 76 | Y9: 42 | Z9: 34
C10: 一般 General | D10: 一般General | E10: 3116 | F10: 1574 | G10: 1542 | H10: 271 | I10: 126 | J10: 145 | L10: 1161 | M10: 582 | N10: 579 | P10: 126 | Q10: 75 | R10: 51 | U10: 1357 | V10: 677 | W10: 680 | X10: 201 | Y10: 114 | Z10: 87
D11: 原住民Indigenous | E11: 540 | F11: 273 | G11: 267 | H11: 77 | I11: 38 | J11: 39 | L11: 176 | M11: 93 | N11: 83 | P11: 11 | Q11: 5 | R11: 6 | U11: 240 | V11: 120 | W11: 120 | X11: 36 | Y11: 17 | Z11: 19
C12: 身心障礙 Disability | D12: 一般General | E12: 835 | F12: 502 | G12: 333 | H12: 51 | I12: 34 | J12: 17 | L12: 246 | M12: 132 | N12: 114 | P12: 73 | Q12: 48 | R12: 25 | U12: 305 | V12: 183 | W12: 122 | X12: 160 | Y12: 105 | Z12: 55
D13: 原住民Indigenous | E13: 148 | F13: 89 | G13: 59 | H13: 11 | I13: 6 | J13: 5 | L13: 39 | M13: 25 | N13: 14 | P13: 8 | Q13: 7 | R13: 1 | U13: 50 | V13: 26 | W13: 24 | X13: 40 | Y13: 25 | Z13: 15
B14: 本轄安置 Local Resettlement | C14: 計Total | E14: 3603 | F14: 1895 | G14: 1708 | H14: 354 | I14: 181 | J14: 173 | L14: 1596 | M14: 823 | N14: 773 | P14: 218 | Q14: 135 | R14: 83 | U14: 1105 | V14: 562 | W14: 543 | X14: 330 | Y14: 194 | Z14: 136
C15: 小計 Total | D15: 一般General | E15: 3078 | F15: 1615 | G15: 1463 | H15: 276 | I15: 142 | J15: 134 | L15: 1384 | M15: 705 | N15: 679 | P15: 199 | Q15: 123 | R15: 76 | U15: 942 | V15: 480 | W15: 462 | X15: 277 | Y15: 165 | Z15: 112
D16: 原住民Indigenous | E16: 525 | F16: 280 | G16: 245 | H16: 78 | I16: 39 | J16: 39 | L16: 212 | M16: 118 | N16: 94 | P16: 19 | Q16: 12 | R16: 7 | U16: 163 | V16: 82 | W16: 81 | X16: 53 | Y16: 29 | Z16: 24
C17: 一般 General | D17: 一般General | E17: 2455 | F17: 1246 | G17: 1209 | H17: 229 | I17: 110 | J17: 119 | L17: 1143 | M17: 575 | N17: 568 | P17: 126 | Q17: 75 | R17: 51 | U17: 778 | V17: 387 | W17: 391 | X17: 179 | Y17: 99 | Z17: 80
D18: 原住民Indigenous | E18: 419 | F18: 213 | G18: 206 | H18: 67 | I18: 33 | J18: 34 | L18: 174 | M18: 93 | N18: 81 | P18: 11 | Q18: 5 | R18: 6 | U18: 134 | V18: 65 | W18: 69 | X18: 33 | Y18: 17 | Z18: 16
C19: 身心障礙 Disability | D19: 一般General | E19: 623 | F19: 369 | G19: 254 | H19: 47 | I19: 32 | J19: 15 | L19: 241 | M19: 130 | N19: 111 | P19: 73 | Q19: 48 | R19: 25 | U19: 164 | V19: 93 | W19: 71 | X19: 98 | Y19: 66 | Z19: 32
D20: 原住民Indigenous | E20: 106 | F20: 67 | G20: 39 | H20: 11 | I20: 6 | J20: 5 | L20: 38 | M20: 25 | N20: 13 | P20: 8 | Q20: 7 | R20: 1 | U20: 29 | V20: 17 | W20: 12 | X20: 20 | Y20: 12 | Z20: 8
B21: 外轄安置External Resettlement | C21: 計Total | E21: 1036 | F21: 543 | G21: 493 | H21: 56 | I21: 23 | J21: 33 | L21: 26 | M21: 9 | N21: 17 | P21: 0 | Q21: 0 | R21: 0 | U21: 847 | V21: 444 | W21: 403 | X21: 107 | Y21: 67 | Z21: 40
C22: 小計 Total | D22: 一般General | E22: 873 | F22: 461 | G22: 412 | H22: 46 | I22: 18 | J22: 28 | L22: 23 | M22: 9 | N22: 14 | P22: 0 | Q22: 0 | R22: 0 | U22: 720 | V22: 380 | W22: 340 | X22: 84 | Y22: 54 | Z22: 30
D23: 原住民Indigenous | E23: 163 | F23: 82 | G23: 81 | H23: 10 | I23: 5 | J23: 5 | L23: 3 | M23: 0 | N23: 3 | P23: 0 | Q23: 0 | R23: 0 | U23: 127 | V23: 64 | W23: 63 | X23: 23 | Y23: 13 | Z23: 10
C24: 一般 General | D24: 一般General | E24: 661 | F24: 328 | G24: 333 | H24: 42 | I24: 16 | J24: 26 | L24: 18 | M24: 7 | N24: 11 | P24: 0 | Q24: 0 | R24: 0 | U24: 579 | V24: 290 | W24: 289 | X24: 22 | Y24: 15 | Z24: 7
D25: 原住民Indigenous | E25: 121 | F25: 60 | G25: 61 | H25: 10 | I25: 5 | J25: 5 | L25: 2 | M25: 0 | N25: 2 | P25: 0 | Q25: 0 | R25: 0 | U25: 106 | V25: 55 | W25: 51 | X25: 3 | Y25: 0 | Z25: 3
C26: 身心障礙 Disability | D26: 一般General | E26: 212 | F26: 133 | G26: 79 | H26: 4 | I26: 2 | J26: 2 | L26: 5 | M26: 2 | N26: 3 | P26: 0 | Q26: 0 | R26: 0 | U26: 141 | V26: 90 | W26: 51 | X26: 62 | Y26: 39 | Z26: 23
D27: 原住民Indigenous | E27: 42 | F27: 22 | G27: 20 | H27: 0 | I27: 0 | J27: 0 | L27: 1 | M27: 0 | N27: 1 | P27: 0 | Q27: 0 | R27: 0 | U27: 21 | V27: 9 | W27: 12 | X27: 20 | Y27: 13 | Z27: 7
A28: 衛生福利部 Inst. of MOHW | B28: 合計 Total | C28: 計Total | E28: 426 | F28: 207 | G28: 219 | H28: 0 | I28: 0 | J28: 0 | K28: 0 | L28: 0 | M28: 0 | N28: 0 | O28: 0 | P28: 0 | Q28: 0 | R28: 0 | S28: 9 | T28: 747 | U28: 426 | V28: 207 | W28: 219 | X28: 0 | Y28: 0 | Z28: 0
C29: 小計 Total | D29: 一般General | E29: 382 | F29: 185 | G29: 197 | H29: 0 | I29: 0 | J29: 0 | L29: 0 | M29: 0 | N29: 0 | P29: 0 | Q29: 0 | R29: 0 | U29: 382 | V29: 185 | W29: 197 | X29: 0 | Y29: 0 | Z29: 0
D30: 原住民Indigenous | E30: 44 | F30: 22 | G30: 22 | H30: 0 | I30: 0 | J30: 0 | L30: 0 | M30: 0 | N30: 0 | P30: 0 | Q30: 0 | R30: 0 | U30: 44 | V30: 22 | W30: 22 | X30: 0 | Y30: 0 | Z30: 0
C31: 一般 General | D31: 一般General | E31: 305 | F31: 139 | G31: 166 | H31: 0 | I31: 0 | J31: 0 | L31: 0 | M31: 0 | N31: 0 | P31: 0 | Q31: 0 | R31: 0 | U31: 305 | V31: 139 | W31: 166 | X31: 0 | Y31: 0 | Z31: 0
D32: 原住民Indigenous | E32: 40 | F32: 18 | G32: 22 | H32: 0 | I32: 0 | J32: 0 | L32: 0 | M32: 0 | N32: 0 | P32: 0 | Q32: 0 | R32: 0 | U32: 40 | V32: 18 | W32: 22 | X32: 0 | Y32: 0 | Z32: 0
C33: 身心障礙 Disability | D33: 一般General | E33: 77 | F33: 46 | G33: 31 | H33: 0 | I33: 0 | J33: 0 | L33: 0 | M33: 0 | N33: 0 | P33: 0 | Q33: 0 | R33: 0 | U33: 77 | V33: 46 | W33: 31 | X33: 0 | Y33: 0 | Z33: 0
D34: 原住民Indigenous | E34: 4 | F34: 4 | G34: 0 | H34: 0 | I34: 0 | J34: 0 | L34: 0 | M34: 0 | N34: 0 | P34: 0 | Q34: 0 | R34: 0 | U34: 4 | V34: 4 | W34: 0 | X34: 0 | Y34: 0 | Z34: 0
B35: 本轄安置 Local Resettlement | C35: 計Total | E35: 218 | F35: 106 | G35: 112 | H35: 0 | I35: 0 | J35: 0 | L35: 0 | M35: 0 | N35: 0 | P35: 0 | Q35: 0 | R35: 0 | U35: 218 | V35: 106 | W35: 112 | X35: 0 | Y35: 0 | Z35: 0
C36: 小計 Total | D36: 一般General | E36: 193 | F36: 93 | G36: 100 | H36: 0 | I36: 0 | J36: 0 | L36: 0 | M36: 0 | N36: 0 | P36: 0 | Q36: 0 | R36: 0 | U36: 193 | V36: 93 | W36: 100 | X36: 0 | Y36: 0 | Z36: 0
D37: 原住民Indigenous | E37: 25 | F37: 13 | G37: 12 | H37: 0 | I37: 0 | J37: 0 | L37: 0 | M37: 0 | N37: 0 | P37: 0 | Q37: 0 | R37: 0 | U37: 25 | V37: 13 | W37: 12 | X37: 0 | Y37: 0 | Z37: 0
C38: 一般 General | D38: 一般General | E38: 158 | F38: 74 | G38: 84 | H38: 0 | I38: 0 | J38: 0 | L38: 0 | M38: 0 | N38: 0 | P38: 0 | Q38: 0 | R38: 0 | U38: 158 | V38: 74 | W38: 84 | X38: 0 | Y38: 0 | Z38: 0
D39: 原住民Indigenous | E39: 22 | F39: 10 | G39: 12 | H39: 0 | I39: 0 | J39: 0 | L39: 0 | M39: 0 | N39: 0 | P39: 0 | Q39: 0 | R39: 0 | U39: 22 | V39: 10 | W39: 12 | X39: 0 | Y39: 0 | Z39: 0
C40: 身心障礙 Disability | D40: 一般General | E40: 35 | F40: 19 | G40: 16 | H40: 0 | I40: 0 | J40: 0 | L40: 0 | M40: 0 | N40: 0 | P40: 0 | Q40: 0 | R40: 0 | U40: 35 | V40: 19 | W40: 16 | X40: 0 | Y40: 0 | Z40: 0
...

Sheet End of June, 2025
A1: 兒童及少年家外安置概況Placement of Child and Youth Outside the Home
A2: 114年6月底 End of June, 2025
A3: 單位：人、戶、家、所、床 | E3: =IF(E7=SUM(E28,E49,E70,E91,E112,E133,E154,E175,E196,E217,E238,E259,E280,E301,E322,E343,E364,E385,E406,E427,E448,E469,E490),"",SUM(E28,E49,E70,E91,E112,E133,E154,E175,E196,E217,E238,E259,E280,E301,E322,E343,E364,E385,E406,E427,E448,E469,E490)) | F3: =IF(F7=SUM(F28,F49,F70,F91,F112,F133,F154,F175,F196,F217,F238,F259,F280,F301,F322,F343,F364,F385,F406,F427,F448,F469,F490),"",SUM(F28,F49,F70,F91,F112,F133,F154,F175,F196,F217,F238,F259,F280,F301,F322,F343,F364,F385,F406,F427,F448,F469,F490)) | G3: =IF(G7=SUM(G28,G49,G70,G91,G112,G133,G154,G175,G196,G217,G238,G259,G280,G301,G322,G343,G364,G385,G406,G427,G448,G469,G490),"",SUM(G28,G49,G70,G91,G112,G133,G154,G175,G196,G217,G238,G259,G280,G301,G322,G343,G364,G385,G406,G427,G448,G469,G490)) | H3: =IF(H7=SUM(H28,H49,H70,H91,H112,H133,H154,H175,H196,H217,H238,H259,H280,H301,H322,H343,H364,H385,H406,H427,H448,H469,H490),"",SUM(H28,H49,H70,H91,H112,H133,H154,H175,H196,H217,H238,H259,H280,H301,H322,H343,H364,H385,H406,H427,H448,H469,H490)) | I3: =IF(I7=SUM(I28,I49,I70,I91,I112,I133,I154,I175,I196,I217,I238,I259,I280,I301,I322,I343,I364,I385,I406,I427,I448,I469,I490),"",SUM(I28,I49,I70,I91,I112,I133,I154,I175,I196,I217,I238,I259,I280,I301,I322,I343,I364,I385,I406,I427,I448,I469,I490)) | J3: =IF(J7=SUM(J28,J49,J70,J91,J112,J133,J154,J175,J196,J217,J238,J259,J280,J301,J322,J343,J364,J385,J406,J427,J448,J469,J490),"",SUM(J28,J49,J70,J91,J112,J133,J154,J175,J196,J217,J238,J259,J280,J301,J322,J343,J364,J385,J406,J427,J448,J469,J490)) | K3: =IF(K7=SUM(K28,K49,K70,K91,K112,K133,K154,K175,K196,K217,K238,K259,K280,K301,K322,K343,K364,K385,K406,K427,K448,K469,K490),"",SUM(K28,K49,K70,K91,K112,K133,K154,K175,K196,K217,K238,K259,K280,K301,K322,K343,K364,K385,K406,K427,K448,K469,K490)) | L3: =IF(L7=SUM(L28,L49,L70,L91,L112,L133,L154,L175,L196,L217,L238,L259,L280,L301,L322,L343,L364,L385,L406,L427,L448,L469,L490),"",SUM(L28,L49,L70,L91,L112,L133,L154,L175,L196,L217,L238,L259,L280,L301,L322,L343,L364,L385,L406,L427,L448,L469,L490)) | ... Z3: =IF(Z7=SUM(Z28,Z49,Z70,Z91,Z112,Z133,Z154,Z175,Z196,Z217,Z238,Z259,Z280,Z301,Z322,Z343,Z364,Z385,Z406,Z427,Z448,Z469,Z490),"",SUM(Z28,Z49,Z70,Z91,Z112,Z133,Z154,Z175,Z196,Z217,Z238,Z259,Z280,Z301,Z322,Z343,Z364,Z385,Z406,Z427,Z448,Z469,Z490))
A4: 區域及特殊族群別 Locality & Ethnos | E4: 總計Total | H4: 親屬安置Relative Placement | K4: 寄養家庭Fostering Families | O4: 團體家庭Group Family | S4: 安置及教養機構Residential Institutions | X4: 其他Others
E5: 本期底安置人數（人） No. of Resettlers at the End of the Period | H5: 本期底安置人數（人） No. of Resettlers at the End of the Period | K5: 寄養家庭數 (戶) No. of Households | L5: 本期底安置人數（人） No. of Resettlers at the End of the Period | O5: 團體家庭數(家) No. of Group Households | P5: 本期底安置人數（人） No. of Resettlers at the End of the Period | S5: 所數 No. of Institutions | T5: 床位數 No. of Providing | U5: 本期底安置人數（人） No. of Resettlers at the End of the Period | X5: 本期底安置人數（人） No. of Resettlers at the End of the Period
E6: 計Total | F6: 男Male | G6: 女Female | H6: 計Total | I6: 男Male | J6: 女Female | L6: 計Total | M6: 男Male | N6: 女Female | P6: 計Total | Q6: 男Male | R6: 女Female | U6: 計Total | V6: 男Male | W6: 女Female | X6: 計Total | Y6: 男Male | Z6: 女Female
A7: 總計 Total | B7: 合計 Total | C7: 計Total | E7: 4664 | F7: 2445 | G7: 2219 | H7: 380 | I7: 176 | J7: 204 | K7: 1301 | L7: 1643 | M7: 853 | N7: 790 | O7: 75 | P7: 195 | Q7: 134 | R7: 61 | S7: 104 | T7: 3705 | U7: 2024 | V7: 1039 | W7: 985 | X7: 422 | Y7: 243 | Z7: 179
C8: 小計 Total | D8: 一般General | E8: 3979 | F8: 2080 | G8: 1899 | H8: 307 | I8: 141 | J8: 166 | L8: 1422 | M8: 732 | N8: 690 | P8: 184 | Q8: 124 | R8: 60 | U8: 1722 | V8: 879 | W8: 843 | X8: 344 | Y8: 204 | Z8: 140
D9: 原住民Indigenous | E9: 685 | F9: 365 | G9: 320 | H9: 73 | I9: 35 | J9: 38 | L9: 221 | M9: 121 | N9: 100 | P9: 11 | Q9: 10 | R9: 1 | U9: 302 | V9: 160 | W9: 142 | X9: 78 | Y9: 39 | Z9: 39
C10: 一般 General | D10: 一般General | E10: 3110 | F10: 1572 | G10: 1538 | H10: 262 | I10: 112 | J10: 150 | L10: 1153 | M10: 586 | N10: 567 | P10: 106 | Q10: 70 | R10: 36 | U10: 1407 | V10: 700 | W10: 707 | X10: 182 | Y10: 104 | Z10: 78
D11: 原住民Indigenous | E11: 537 | F11: 276 | G11: 261 | H11: 63 | I11: 29 | J11: 34 | L11: 181 | M11: 95 | N11: 86 | P11: 5 | Q11: 4 | R11: 1 | U11: 253 | V11: 134 | W11: 119 | X11: 35 | Y11: 14 | Z11: 21
C12: 身心障礙 Disability | D12: 一般General | E12: 869 | F12: 508 | G12: 361 | H12: 45 | I12: 29 | J12: 16 | L12: 269 | M12: 146 | N12: 123 | P12: 78 | Q12: 54 | R12: 24 | U12: 315 | V12: 179 | W12: 136 | X12: 162 | Y12: 100 | Z12: 62
D13: 原住民Indigenous | E13: 148 | F13: 89 | G13: 59 | H13: 10 | I13: 6 | J13: 4 | L13: 40 | M13: 26 | N13: 14 | P13: 6 | Q13: 6 | R13: 0 | U13: 49 | V13: 26 | W13: 23 | X13: 43 | Y13: 25 | Z13: 18
B14: 本轄安置 Local Resettlement | C14: 計Total | E14: 3572 | F14: 1882 | G14: 1690 | H14: 337 | I14: 158 | J14: 179 | L14: 1603 | M14: 833 | N14: 770 | P14: 195 | Q14: 134 | R14: 61 | U14: 1121 | V14: 577 | W14: 544 | X14: 316 | Y14: 180 | Z14: 136
C15: 小計 Total | D15: 一般General | E15: 3072 | F15: 1609 | G15: 1463 | H15: 271 | I15: 127 | J15: 144 | L15: 1389 | M15: 714 | N15: 675 | P15: 184 | Q15: 124 | R15: 60 | U15: 964 | V15: 489 | W15: 475 | X15: 264 | Y15: 155 | Z15: 109
D16: 原住民Indigenous | E16: 500 | F16: 273 | G16: 227 | H16: 66 | I16: 31 | J16: 35 | L16: 214 | M16: 119 | N16: 95 | P16: 11 | Q16: 10 | R16: 1 | U16: 157 | V16: 88 | W16: 69 | X16: 52 | Y16: 25 | Z16: 27
C17: 一般 General | D17: 一般General | E17: 2425 | F17: 1231 | G17: 1194 | H17: 229 | I17: 100 | J17: 129 | L17: 1126 | M17: 570 | N17: 556 | P17: 106 | Q17: 70 | R17: 36 | U17: 797 | V17: 397 | W17: 400 | X17: 167 | Y17: 94 | Z17: 73
D18: 原住民Indigenous | E18: 400 | F18: 208 | G18: 192 | H18: 56 | I18: 25 | J18: 31 | L18: 175 | M18: 93 | N18: 82 | P18: 5 | Q18: 4 | R18: 1 | U18: 133 | V18: 72 | W18: 61 | X18: 31 | Y18: 14 | Z18: 17
C19: 身心障礙 Disability | D19: 一般General | E19: 647 | F19: 378 | G19: 269 | H19: 42 | I19: 27 | J19: 15 | L19: 263 | M19: 144 | N19: 119 | P19: 78 | Q19: 54 | R19: 24 | U19: 167 | V19: 92 | W19: 75 | X19: 97 | Y19: 61 | Z19: 36
D20: 原住民Indigenous | E20: 100 | F20: 65 | G20: 35 | H20: 10 | I20: 6 | J20: 4 | L20: 39 | M20: 26 | N20: 13 | P20: 6 | Q20: 6 | R20: 0 | U20: 24 | V20: 16 | W20: 8 | X20: 21 | Y20: 11 | Z20: 10
B21: 外轄安置External Resettlement | C21: 計Total | E21: 1092 | F21: 563 | G21: 529 | H21: 43 | I21: 18 | J21: 25 | L21: 40 | M21: 20 | N21: 20 | P21: 0 | Q21: 0 | R21: 0 | U21: 903 | V21: 462 | W21: 441 | X21: 106 | Y21: 63 | Z21: 43
C22: 小計 Total | D22: 一般General | E22: 907 | F22: 471 | G22: 436 | H22: 36 | I22: 14 | J22: 22 | L22: 33 | M22: 18 | N22: 15 | P22: 0 | Q22: 0 | R22: 0 | U22: 758 | V22: 390 | W22: 368 | X22: 80 | Y22: 49 | Z22: 31
D23: 原住民Indigenous | E23: 185 | F23: 92 | G23: 93 | H23: 7 | I23: 4 | J23: 3 | L23: 7 | M23: 2 | N23: 5 | P23: 0 | Q23: 0 | R23: 0 | U23: 145 | V23: 72 | W23: 73 | X23: 26 | Y23: 14 | Z23: 12
C24: 一般 General | D24: 一般General | E24: 685 | F24: 341 | G24: 344 | H24: 33 | I24: 12 | J24: 21 | L24: 27 | M24: 16 | N24: 11 | P24: 0 | Q24: 0 | R24: 0 | U24: 610 | V24: 303 | W24: 307 | X24: 15 | Y24: 10 | Z24: 5
D25: 原住民Indigenous | E25: 137 | F25: 68 | G25: 69 | H25: 7 | I25: 4 | J25: 3 | L25: 6 | M25: 2 | N25: 4 | P25: 0 | Q25: 0 | R25: 0 | U25: 120 | V25: 62 | W25: 58 | X25: 4 | Y25: 0 | Z25: 4
C26: 身心障礙 Disability | D26: 一般General | E26: 222 | F26: 130 | G26: 92 | H26: 3 | I26: 2 | J26: 1 | L26: 6 | M26: 2 | N26: 4 | P26: 0 | Q26: 0 | R26: 0 | U26: 148 | V26: 87 | W26: 61 | X26: 65 | Y26: 39 | Z26: 26
D27: 原住民Indigenous | E27: 48 | F27: 24 | G27: 24 | H27: 0 | I27: 0 | J27: 0 | L27: 1 | M27: 0 | N27: 1 | P27: 0 | Q27: 0 | R27: 0 | U27: 25 | V27: 10 | W27: 15 | X27: 22 | Y27: 14 | Z27: 8
A28: 衛生福利部 Inst. of MOHW | B28: 合計 Total | C28: 計Total | E28: 445 | F28: 212 | G28: 233 | H28: 0 | I28: 0 | J28: 0 | K28: 0 | L28: 0 | M28: 0 | N28: 0 | O28: 0 | P28: 0 | Q28: 0 | R28: 0 | S28: 9 | T28: 747 | U28: 445 | V28: 212 | W28: 233 | X28: 0 | Y28: 0 | Z28: 0
C29: 小計 Total | D29: 一般General | E29: 394 | F29: 189 | G29: 205 | H29: 0 | I29: 0 | J29: 0 | L29: 0 | M29: 0 | N29: 0 | P29: 0 | Q29: 0 | R29: 0 | U29: 394 | V29: 189 | W29: 205 | X29: 0 | Y29: 0 | Z29: 0
D30: 原住民Indigenous | E30: 51 | F30: 23 | G30: 28 | H30: 0 | I30: 0 | J30: 0 | L30: 0 | M30: 0 | N30: 0 | P30: 0 | Q30: 0 | R30: 0 | U30: 51 | V30: 23 | W30: 28 | X30: 0 | Y30: 0 | Z30: 0
C31: 一般 General | D31: 一般General | E31: 317 | F31: 147 | G31: 170 | H31: 0 | I31: 0 | J31: 0 | L31: 0 | M31: 0 | N31: 0 | P31: 0 | Q31: 0 | R31: 0 | U31: 317 | V31: 147 | W31: 170 | X31: 0 | Y31: 0 | Z31: 0
D32: 原住民Indigenous | E32: 46 | F32: 20 | G32: 26 | H32: 0 | I32: 0 | J32: 0 | L32: 0 | M32: 0 | N32: 0 | P32: 0 | Q32: 0 | R32: 0 | U32: 46 | V32: 20 | W32: 26 | X32: 0 | Y32: 0 | Z32: 0
C33: 身心障礙 Disability | D33: 一般General | E33: 77 | F33: 42 | G33: 35 | H33: 0 | I33: 0 | J33: 0 | L33: 0 | M33: 0 | N33: 0 | P33: 0 | Q33: 0 | R33: 0 | U33: 77 | V33: 42 | W33: 35 | X33: 0 | Y33: 0 | Z33: 0
D34: 原住民Indigenous | E34: 5 | F34: 3 | G34: 2 | H34: 0 | I34: 0 | J34: 0 | L34: 0 | M34: 0 | N34: 0 | P34: 0 | Q34: 0 | R34: 0 | U34: 5 | V34: 3 | W34: 2 | X34: 0 | Y34: 0 | Z34: 0
B35: 本轄安置 Local Resettlement | C35: 計Total | E35: 231 | F35: 116 | G35: 115 | H35: 0 | I35: 0 | J35: 0 | L35: 0 | M35: 0 | N35: 0 | P35: 0 | Q35: 0 | R35: 0 | U35: 231 | V35: 116 | W35: 115 | X35: 0 | Y35: 0 | Z35: 0
C36: 小計 Total | D36: 一般General | E36: 203 | F36: 102 | G36: 101 | H36: 0 | I36: 0 | J36: 0 | L36: 0 | M36: 0 | N36: 0 | P36: 0 | Q36: 0 | R36: 0 | U36: 203 | V36: 102 | W36: 101 | X36: 0 | Y36: 0 | Z36: 0
D37: 原住民Indigenous | E37: 28 | F37: 14 | G37: 14 | H37: 0 | I37: 0 | J37: 0 | L37: 0 | M37: 0 | N37: 0 | P37: 0 | Q37: 0 | R37: 0 | U37: 28 | V37: 14 | W37: 14 | X37: 0 | Y37: 0 | Z37: 0
C38: 一般 General | D38: 一般General | E38: 168 | F38: 84 | G38: 84 | H38: 0 | I38: 0 | J38: 0 | L38: 0 | M38: 0 | N38: 0 | P38: 0 | Q38: 0 | R38: 0 | U38: 168 | V38: 84 | W38: 84 | X38: 0 | Y38: 0 | Z38: 0
D39: 原住民Indigenous | E39: 26 | F39: 12 | G39: 14 | H39: 0 | I39: 0 | J39: 0 | L39: 0 | M39: 0 | N39: 0 | P39: 0 | Q39: 0 | R39: 0 | U39: 26 | V39: 12 | W39: 14 | X39: 0 | Y39: 0 | Z39: 0
C40: 身心障礙 Disability | D40: 一般General | E40: 35 | F40: 18 | G40: 17 | H40: 0 | I40: 0 | J40: 0 | L40: 0 | M40: 0 | N40: 0 | P40: 0 | Q40: 0 | R40: 0 | U40: 35 | V40: 18 | W40: 17 | X40: 0 | Y40: 0 | Z40: 0
...

Sheet 2024
A1: 兒童及少年家外安置概況Placement of Child and Youth Outside the Home
A2: 113年底, End of 2024
A3: 單位：人、戶、家、所、床 | E3: =IF(E7=SUM(E28,E49,E70,E91,E112,E133,E154,E175,E196,E217,E238,E259,E280,E301,E322,E343,E364,E385,E406,E427,E448,E469,E490),"",SUM(E28,E49,E70,E91,E112,E133,E154,E175,E196,E217,E238,E259,E280,E301,E322,E343,E364,E385,E406,E427,E448,E469,E490)) | F3: =IF(F7=SUM(F28,F49,F70,F91,F112,F133,F154,F175,F196,F217,F238,F259,F280,F301,F322,F343,F364,F385,F406,F427,F448,F469,F490),"",SUM(F28,F49,F70,F91,F112,F133,F154,F175,F196,F217,F238,F259,F280,F301,F322,F343,F364,F385,F406,F427,F448,F469,F490)) | G3: =IF(G7=SUM(G28,G49,G70,G91,G112,G133,G154,G175,G196,G217,G238,G259,G280,G301,G322,G343,G364,G385,G406,G427,G448,G469,G490),"",SUM(G28,G49,G70,G91,G112,G133,G154,G175,G196,G217,G238,G259,G280,G301,G322,G343,G364,G385,G406,G427,G448,G469,G490)) | H3: =IF(H7=SUM(H28,H49,H70,H91,H112,H133,H154,H175,H196,H217,H238,H259,H280,H301,H322,H343,H364,H385,H406,H427,H448,H469,H490),"",SUM(H28,H49,H70,H91,H112,H133,H154,H175,H196,H217,H238,H259,H280,H301,H322,H343,H364,H385,H406,H427,H448,H469,H490)) | I3: =IF(I7=SUM(I28,I49,I70,I91,I112,I133,I154,I175,I196,I217,I238,I259,I280,I301,I322,I343,I364,I385,I406,I427,I448,I469,I490),"",SUM(I28,I49,I70,I91,I112,I133,I154,I175,I196,I217,I238,I259,I280,I301,I322,I343,I364,I385,I406,I427,I448,I469,I490)) | J3: =IF(J7=SUM(J28,J49,J70,J91,J112,J133,J154,J175,J196,J217,J238,J259,J280,J301,J322,J343,J364,J385,J406,J427,J448,J469,J490),"",SUM(J28,J49,J70,J91,J112,J133,J154,J175,J196,J217,J238,J259,J280,J301,J322,J343,J364,J385,J406,J427,J448,J469,J490)) | K3: =IF(K7=SUM(K28,K49,K70,K91,K112,K133,K154,K175,K196,K217,K238,K259,K280,K301,K322,K343,K364,K385,K406,K427,K448,K469,K490),"",SUM(K28,K49,K70,K91,K112,K133,K154,K175,K196,K217,K238,K259,K280,K301,K322,K343,K364,K385,K406,K427,K448,K469,K490)) | L3: =IF(L7=SUM(L28,L49,L70,L91,L112,L133,L154,L175,L196,L217,L238,L259,L280,L301,L322,L343,L364,L385,L406,L427,L448,L469,L490),"",SUM(L28,L49,L70,L91,L112,L133,L154,L175,L196,L217,L238,L259,L280,L301,L322,L343,L364,L385,L406,L427,L448,L469,L490)) | ... Z3: =IF(Z7=SUM(Z28,Z49,Z70,Z91,Z112,Z133,Z154,Z175,Z196,Z217,Z238,Z259,Z280,Z301,Z322,Z343,Z364,Z385,Z406,Z427,Z448,Z469,Z490),"",SUM(Z28,Z49,Z70,Z91,Z112,Z133,Z154,Z175,Z196,Z217,Z238,Z259,Z280,Z301,Z322,Z343,Z364,Z385,Z406,Z427,Z448,Z469,Z490))
A4: 區域及特殊族群別 Locality & Ethnos | E4: 總計Total | H4: 親屬安置Relative Placement | K4: 寄養家庭Fostering Families | O4: 團體家庭Group Family | S4: 安置及教養機構Residential Institutions | X4: 其他Others
E5: 本期底安置人數（人） No. of Resettlers at the End of the Period | H5: 本期底安置人數（人） No. of Resettlers at the End of the Period | K5: 寄養家庭數 (戶) No. of Households | L5: 本期底安置人數（人） No. of Resettlers at the End of the Period | O5: 團體家庭數(家) No. of Group Households | P5: 本期底安置人數（人） No. of Resettlers at the End of the Period | S5: 所數 No. of Institutions | T5: 床位數 No. of Providing | U5: 本期底安置人數（人） No. of Resettlers at the End of the Period | X5: 本期底安置人數（人） No. of Resettlers at the End of the Period
E6: 計Total | F6: 男Male | G6: 女Female | H6: 計Total | I6: 男Male | J6: 女Female | L6: 計Total | M6: 男Male | N6: 女Female | P6: 計Total | Q6: 男Male | R6: 女Female | U6: 計Total | V6: 男Male | W6: 女Female | X6: 計Total | Y6: 男Male | Z6: 女Female
A7: 總計 Total | B7: 合計 Total | C7: 計Total | E7: 4591 | F7: 2405 | G7: 2186 | H7: 345 | I7: 160 | J7: 185 | K7: 1308 | L7: 1616 | M7: 847 | N7: 769 | O7: 64 | P7: 166 | Q7: 110 | R7: 56 | S7: 106 | T7: 3735 | U7: 2067 | V7: 1064 | W7: 1003 | X7: 397 | Y7: 224 | Z7: 173
C8: 小計 Total | D8: 一般General | E8: 3895 | F8: 2034 | G8: 1861 | H8: 279 | I8: 127 | J8: 152 | L8: 1387 | M8: 720 | N8: 667 | P8: 153 | Q8: 98 | R8: 55 | U8: 1747 | V8: 899 | W8: 848 | X8: 329 | Y8: 190 | Z8: 139
D9: 原住民Indigenous | E9: 696 | F9: 371 | G9: 325 | H9: 66 | I9: 33 | J9: 33 | L9: 229 | M9: 127 | N9: 102 | P9: 13 | Q9: 12 | R9: 1 | U9: 320 | V9: 165 | W9: 155 | X9: 68 | Y9: 34 | Z9: 34
C10: 一般 General | D10: 一般General | E10: 3032 | F10: 1539 | G10: 1493 | H10: 242 | I10: 103 | J10: 139 | L10: 1119 | M10: 572 | N10: 547 | P10: 83 | Q10: 53 | R10: 30 | U10: 1416 | V10: 716 | W10: 700 | X10: 172 | Y10: 95 | Z10: 77
D11: 原住民Indigenous | E11: 547 | F11: 281 | G11: 266 | H11: 57 | I11: 27 | J11: 30 | L11: 185 | M11: 97 | N11: 88 | P11: 6 | Q11: 5 | R11: 1 | U11: 270 | V11: 140 | W11: 130 | X11: 29 | Y11: 12 | Z11: 17
C12: 身心障礙 Disability | D12: 一般General | E12: 863 | F12: 495 | G12: 368 | H12: 37 | I12: 24 | J12: 13 | L12: 268 | M12: 148 | N12: 120 | P12: 70 | Q12: 45 | R12: 25 | U12: 331 | V12: 183 | W12: 148 | X12: 157 | Y12: 95 | Z12: 62
D13: 原住民Indigenous | E13: 149 | F13: 90 | G13: 59 | H13: 9 | I13: 6 | J13: 3 | L13: 44 | M13: 30 | N13: 14 | P13: 7 | Q13: 7 | R13: 0 | U13: 50 | V13: 25 | W13: 25 | X13: 39 | Y13: 22 | Z13: 17
B14: 本轄安置 Local Resettlement | C14: 計Total | E14: 3471 | F14: 1830 | G14: 1641 | H14: 305 | I14: 144 | J14: 161 | L14: 1582 | M14: 834 | N14: 748 | P14: 166 | Q14: 110 | R14: 56 | U14: 1129 | V14: 585 | W14: 544 | X14: 289 | Y14: 157 | Z14: 132
C15: 小計 Total | D15: 一般General | E15: 2965 | F15: 1551 | G15: 1414 | H15: 246 | I15: 115 | J15: 131 | L15: 1362 | M15: 710 | N15: 652 | P15: 153 | Q15: 98 | R15: 55 | U15: 959 | V15: 492 | W15: 467 | X15: 245 | Y15: 136 | Z15: 109
D16: 原住民Indigenous | E16: 506 | F16: 279 | G16: 227 | H16: 59 | I16: 29 | J16: 30 | L16: 220 | M16: 124 | N16: 96 | P16: 13 | Q16: 12 | R16: 1 | U16: 170 | V16: 93 | W16: 77 | X16: 44 | Y16: 21 | Z16: 23
