Workbook
Name pp: '2021'!$A$2:$Z$12
Name pp: '2022'!$A$2:$Z$12
Name pp: '2023'!$A$2:$Z$12
Name pp: '2024'!$A$2:$Z$12
Name pp: '2025'!$A$2:$Z$12
Name pp: '2026'!$A$2:$Z$12
Name pp: 'End of Dec., 2025'!$A$2:$Z$12
Name pp: 'End of Dec., 2026'!$A$2:$Z$12
Name pp: 'End of June, 2025'!$A$2:$Z$12
Name pp: 'End of June, 2026'!$A$2:$Z$12
Name pp: #REF!
Name PPP: #REF!
Name PPP: #REF!
Name PPP: #REF!

Sheet 歷年
A1: 兒童及少年家外安置概況Placement of Child and Youth Outside the Home
A2: 110-115年底 End of 2021-2026
A3: 單位：人、戶、家、所、床
A4: 年別 Year | B4: 總計Total | E4: 親屬安置Relative Placement | H4: 寄養家庭Fostering Families | L4: 團體家庭Group Family | P4: 安置及教養機構Residential Institutions | U4: 其他Others
B5: 本期底安置人數（人） No. of Resettlers at the End of the Period | E5: 本期底安置人數（人） No. of Resettlers at the End of the Period | H5: 寄養家庭數 (戶) No. of Households | I5: 本期底安置人數（人） No. of Resettlers at the End of the Period | L5: 團體家庭數(家) No. of Group Households | M5: 本期底安置人數（人） No. of Resettlers at the End of the Period | P5: 所數 No. of Institutions | Q5: 床位數 No. of Providing | R5: 本期底安置人數（人） No. of Resettlers at the End of the Period | U5: 本期底安置人數（人） No. of Resettlers at the End of the Period
B6: 計Total | C6: 男Male | D6: 女Female | E6: 計Total | F6: 男Male | G6: 女Female | I6: 計Total | J6: 男Male | K6: 女Female | M6: 計Total | N6: 男Male | O6: 女Female | R6: 計Total | S6: 男Male | T6: 女Female | U6: 計Total | V6: 男Male | W6: 女Female
A7: 110年底 End of 2021 | B7: ='2021'!E7 -> 4855 | C7: ='2021'!F7 -> 2403 | D7: ='2021'!G7 -> 2452 | E7: ='2021'!H7 -> 252 | F7: ='2021'!I7 -> 126 | G7: ='2021'!J7 -> 126 | H7: ='2021'!K7 -> 1319 | I7: ='2021'!L7 -> 1633 | ... W7: ='2021'!Z7 -> 199
A8: 111年底 End of 2022 | B8: ='2022'!E7 -> 4588 | C8: ='2022'!F7 -> 2337 | D8: ='2022'!G7 -> 2251 | E8: ='2022'!H7 -> 244 | F8: ='2022'!I7 -> 120 | G8: ='2022'!J7 -> 124 | H8: ='2022'!K7 -> 1348 | I8: ='2022'!L7 -> 1582 | ... W8: ='2022'!Z7 -> 136
A9: 112年底 End of 2023 | B9: ='2023'!E7 -> 4590 | C9: ='2023'!F7 -> 2354 | D9: ='2023'!G7 -> 2236 | E9: ='2023'!H7 -> 286 | F9: ='2023'!I7 -> 147 | G9: ='2023'!J7 -> 139 | H9: ='2023'!K7 -> 1342 | I9: ='2023'!L7 -> 1587 | ... W9: ='2023'!Z7 -> 179
A10: 113年底 End of 2024 | B10: ='2024'!E7 -> 4591 | C10: ='2024'!F7 -> 2405 | D10: ='2024'!G7 -> 2186 | E10: ='2024'!H7 -> 345 | F10: ='2024'!I7 -> 160 | G10: ='2024'!J7 -> 185 | H10: ='2024'!K7 -> 1308 | I10: ='2024'!L7 -> 1616 | ... W10: ='2024'!Z7 -> 173
A11: 114年底 End of 2025 | B11: ='2025'!E7 -> 4639 | C11: ='2025'!F7 -> 2438 | D11: ='2025'!G7 -> 2201 | E11: ='2025'!H7 -> 410 | F11: ='2025'!I7 -> 204 | G11: ='2025'!J7 -> 206 | H11: ='2025'!K7 -> 1343 | I11: ='2025'!L7 -> 1622 | ... W11: ='2025'!Z7 -> 176
A12: 6月底 End of June | B12: ='End of June, 2025'!E7 -> 4664 | C12: ='End of June, 2025'!F7 -> 2445 | D12: ='End of June, 2025'!G7 -> 2219 | E12: ='End of June, 2025'!H7 -> 380 | F12: ='End of June, 2025'!I7 -> 176 | G12: ='End of June, 2025'!J7 -> 204 | H12: ='End of June, 2025'!K7 -> 1301 | I12: ='End of June, 2025'!L7 -> 1643 | ... W12: ='End of June, 2025'!Z7 -> 179
A13: 12月底 End of June | B13: ='End of Dec., 2025'!E7 -> 4639 | C13: ='End of Dec., 2025'!F7 -> 2438 | D13: ='End of Dec., 2025'!G7 -> 2201 | E13: ='End of Dec., 2025'!H7 -> 410 | F13: ='End of Dec., 2025'!I7 -> 204 | G13: ='End of Dec., 2025'!J7 -> 206 | H13: ='End of Dec., 2025'!K7 -> 1343 | I13: ='End of Dec., 2025'!L7 -> 1622 | ... W13: ='End of Dec., 2025'!Z7 -> 176
A14: 115年底 End of 2026
A15: 6月底 End of June | B15: ='End of June, 2026'!E7 -> 4647 | C15: ='End of June, 2026'!F7 -> 2467 | D15: ='End of June, 2026'!G7 -> 2180 | E15: ='End of June, 2026'!H7 -> 417 | F15: ='End of June, 2026'!I7 -> 213 | G15: ='End of June, 2026'!J7 -> 204 | H15: ='End of June, 2026'!K7 -> 1312 | I15: ='End of June, 2026'!L7 -> 1652 | ... W15: ='End of June, 2026'!Z7 -> 172
A16: 12月底 End of June | B16: ='End of Dec., 2026'!E7 -> 0 | C16: ='End of Dec., 2026'!F7 -> 0 | D16: ='End of Dec., 2026'!G7 -> 0 | E16: ='End of Dec., 2026'!H7 -> 0 | F16: ='End of Dec., 2026'!I7 -> 0 | G16: ='End of Dec., 2026'!J7 -> 0 | H16: ='End of Dec., 2026'!K7 -> 0 | I16: ='End of Dec., 2026'!L7 -> 0 | ... W16: ='End of Dec., 2026'!Z7 -> 0
A17: 資料來源：社會及家庭署。
A18: Source : Social and Family Affairs Administration, MOHW
A19: 更新日期：2026/09/30

Sheet 2026
A1: 兒童及少年家外安置概況Placement of Child and Youth Outside the Home
A2: 115年底, End of 2026
A3: 單位：人、戶、家、所、床 | E3: =IF(E7=SUM(E28,E49,E70,E91,E112,E133,E154,E175,E196,E217,E238,E259,E280,E301,E322,E343,E364,E385,E406,E427,E448,E469,E490),"",SUM(E28,E49,E70,E91,E112,E133,E154,E175,E196,E217,E238,E259,E280,E301,E322,E343,E364,E385,E406,E427,E448,E469,E490)) | F3: =IF(F7=SUM(F28,F49,F70,F91,F112,F133,F154,F175,F196,F217,F238,F259,F280,F301,F322,F343,F364,F385,F406,F427,F448,F469,F490),"",SUM(F28,F49,F70,F91,F112,F133,F154,F175,F196,F217,F238,F259,F280,F301,F322,F343,F364,F385,F406,F427,F448,F469,F490)) | G3: =IF(G7=SUM(G28,G49,G70,G91,G112,G133,G154,G175,G196,G217,G238,G259,G280,G301,G322,G343,G364,G385,G406,G427,G448,G469,G490),"",SUM(G28,G49,G70,G91,G112,G133,G154,G175,G196,G217,G238,G259,G280,G301,G322,G343,G364,G385,G406,G427,G448,G469,G490)) | H3: =IF(H7=SUM(H28,H49,H70,H91,H112,H133,H154,H175,H196,H217,H238,H259,H280,H301,H322,H343,H364,H385,H406,H427,H448,H469,H490),"",SUM(H28,H49,H70,H91,H112,H133,H154,H175,H196,H217,H238,H259,H280,H301,H322,H343,H364,H385,H406,H427,H448,H469,H490)) | I3: =IF(I7=SUM(I28,I49,I70,I91,I112,I133,I154,I175,I196,I217,I238,I259,I280,I301,I322,I343,I364,I385,I406,I427,I448,I469,I490),"",SUM(I28,I49,I70,I91,I112,I133,I154,I175,I196,I217,I238,I259,I280,I301,I322,I343,I364,I385,I406,I427,I448,I469,I490)) | J3: =IF(J7=SUM(J28,J49,J70,J91,J112,J133,J154,J175,J196,J217,J238,J259,J280,J301,J322,J343,J364,J385,J406,J427,J448,J469,J490),"",SUM(J28,J49,J70,J91,J112,J133,J154,J175,J196,J217,J238,J259,J280,J301,J322,J343,J364,J385,J406,J427,J448,J469,J490)) | K3: =IF(K7=SUM(K28,K49,K70,K91,K112,K133,K154,K175,K196,K217,K238,K259,K280,K301,K322,K343,K364,K385,K406,K427,K448,K469,K490),"",SUM(K28,K49,K70,K91,K112,K133,K154,K175,K196,K217,K238,K259,K280,K301,K322,K343,K364,K385,K406,K427,K448,K469,K490)) | L3: =IF(L7=SUM(L28,L49,L70,L91,L112,L133,L154,L175,L196,L217,L238,L259,L280,L301,L322,L343,L364,L385,L406,L427,L448,L469,L490),"",SUM(L28,L49,L70,L91,L112,L133,L154,L175,L196,L217,L238,L259,L280,L301,L322,L343,L364,L385,L406,L427,L448,L469,L490)) | ... Z3: =IF(Z7=SUM(Z28,Z49,Z70,Z91,Z112,Z133,Z154,Z175,Z196,Z217,Z238,Z259,Z280,Z301,Z322,Z343,Z364,Z385,Z406,Z427,Z448,Z469,Z490),"",SUM(Z28,Z49,Z70,Z91,Z112,Z133,Z154,Z175,Z196,Z217,Z238,Z259,Z280,Z301,Z322,Z343,Z364,Z385,Z406,Z427,Z448,Z469,Z490))
A4: 區域及特殊族群別 Locality & Ethnos | E4: 總計Total | H4: 親屬安置Relative Placement | K4: 寄養家庭Fostering Families | O4: 團體家庭Group Family | S4: 安置及教養機構Residential Institutions | X4: 其他Others
E5: 本期底安置人數（人） No. of Resettlers at the End of the Period | H5: 本期底安置人數（人） No. of Resettlers at the End of the Period | K5: 寄養家庭數 (戶) No. of Households | L5: 本期底安置人數（人） No. of Resettlers at the End of the Period | O5: 團體家庭數(家) No. of Group Households | P5: 本期底安置人數（人） No. of Resettlers at the End of the Period | S5: 所數 No. of Institutions | T5: 床位數 No. of Providing | U5: 本期底安置人數（人） No. of Resettlers at the End of the Period | X5: 本期底安置人數（人） No. of Resettlers at the End of the Period
E6: 計Total | F6: 男Male | G6: 女Female | H6: 計Total | I6: 男Male | J6: 女Female | L6: 計Total | M6: 男Male | N6: 女Female | P6: 計Total | Q6: 男Male | R6: 女Female | U6: 計Total | V6: 男Male | W6: 女Female | X6: 計Total | Y6: 男Male | Z6: 女Female
A7: 總計 Total | B7: 合計 Total | C7: 計Total
C8: 小計 Total | D8: 一般General
D9: 原住民Indigenous
C10: 一般 General | D10: 一般General
D11: 原住民Indigenous
C12: 身心障礙 Disability | D12: 一般General
D13: 原住民Indigenous
B14: 本轄安置 Local Resettlement | C14: 計Total
C15: 小計 Total | D15: 一般General
D16: 原住民Indigenous
C17: 一般 General | D17: 一般General
D18: 原住民Indigenous
C19: 身心障礙 Disability | D19: 一般General
D20: 原住民Indigenous
B21: 外轄安置External Resettlement | C21: 計Total
C22: 小計 Total | D22: 一般General
D23: 原住民Indigenous
C24: 一般 General | D24: 一般General
D25: 原住民Indigenous
C26: 身心障礙 Disability | D26: 一般General
D27: 原住民Indigenous
A28: 衛生福利部 Inst. of MOHW | B28: 合計 Total | C28: 計Total
C29: 小計 Total | D29: 一般General
D30: 原住民Indigenous
C31: 一般 General | D31: 一般General
D32: 原住民Indigenous
C33: 身心障礙 Disability | D33: 一般General
D34: 原住民Indigenous
B35: 本轄安置 Local Resettlement | C35: 計Total
C36: 小計 Total | D36: 一般General
D37: 原住民Indigenous
C38: 一般 General | D38: 一般General
D39: 原住民Indigenous
C40: 身心障礙 Disability | D40: 一般General
D41: 原住民Indigenous
B42: 外轄安置External Resettlement | C42: 計Total
C43: 小計 Total | D43: 一般General
D44: 原住民Indigenous
C45: 一般 General | D45: 一般General
D46: 原住民Indigenous
C47: 身心障礙 Disability | D47: 一般General
D48: 原住民Indigenous
A49: 新北市 New Taipei City | B49: 合計 Total | C49: 計Total
C50: 小計 Total | D50: 一般General
D51: 原住民Indigenous
C52: 一般 General | D52: 一般General
D53: 原住民Indigenous
C54: 身心障礙 Disability | D54: 一般General
D55: 原住民Indigenous
B56: 本轄安置 Local Resettlement | C56: 計Total
C57: 小計 Total | D57: 一般General
D58: 原住民Indigenous
C59: 一般 General | D59: 一般General
D60: 原住民Indigenous
C61: 身心障礙 Disability | D61: 一般General
D62: 原住民Indigenous
B63: 外轄安置External Resettlement | C63: 計Total
C64: 小計 Total | D64: 一般General
D65: 原住民Indigenous
C66: 一般 General | D66: 一般General
D67: 原住民Indigenous
C68: 身心障礙 Disability | D68: 一般General
D69: 原住民Indigenous
A70: 臺北市 Taipei City | B70: 合計 Total | C70: 計Total
C71: 小計 Total | D71: 一般General
D72: 原住民Indigenous
C73: 一般 General | D73: 一般General
D74: 原住民Indigenous
C75: 身心障礙 Disability | D75: 一般General
D76: 原住民Indigenous
B77: 本轄安置 Local Resettlement | C77: 計Total
C78: 小計 Total | D78: 一般General
D79: 原住民Indigenous
C80: 一般 General | D80: 一般General
D81: 原住民Indigenous
C82: 身心障礙 Disability | D82: 一般General
D83: 原住民Indigenous
B84: 外轄安置External Resettlement | C84: 計Total
C85: 小計 Total | D85: 一般General
D86: 原住民Indigenous
C87: 一般 General | D87: 一般General
D88: 原住民Indigenous
C89: 身心障礙 Disability | D89: 一般General
D90: 原住民Indigenous
A91: 桃園市 Taoyuan City | B91: 合計 Total | C91: 計Total
C92: 小計 Total | D92: 一般General
D93: 原住民Indigenous
C94: 一般 General | D94: 一般General
D95: 原住民Indigenous
C96: 身心障礙 Disability | D96: 一般General
D97: 原住民Indigenous
B98: 本轄安置 Local Resettlement | C98: 計Total
C99: 小計 Total | D99: 一般General
D100: 原住民Indigenous
...

Sheet End of Dec., 2026
A1: 兒童及少年家外安置概況Placement of Child and Youth Outside the Home
A2: 115年12月底 End of Dec., 2026
A3: 單位：人、戶、家、所、床 | E3: =IF(E7=SUM(E28,E49,E70,E91,E112,E133,E154,E175,E196,E217,E238,E259,E280,E301,E322,E343,E364,E385,E406,E427,E448,E469,E490),"",SUM(E28,E49,E70,E91,E112,E133,E154,E175,E196,E217,E238,E259,E280,E301,E322,E343,E364,E385,E406,E427,E448,E469,E490)) | F3: =IF(F7=SUM(F28,F49,F70,F91,F112,F133,F154,F175,F196,F217,F238,F259,F280,F301,F322,F343,F364,F385,F406,F427,F448,F469,F490),"",SUM(F28,F49,F70,F91,F112,F133,F154,F175,F196,F217,F238,F259,F280,F301,F322,F343,F364,F385,F406,F427,F448,F469,F490)) | G3: =IF(G7=SUM(G28,G49,G70,G91,G112,G133,G154,G175,G196,G217,G238,G259,G280,G301,G322,G343,G364,G385,G406,G427,G448,G469,G490),"",SUM(G28,G49,G70,G91,G112,G133,G154,G175,G196,G217,G238,G259,G280,G301,G322,G343,G364,G385,G406,G427,G448,G469,G490)) | H3: =IF(H7=SUM(H28,H49,H70,H91,H112,H133,H154,H175,H196,H217,H238,H259,H280,H301,H322,H343,H364,H385,H406,H427,H448,H469,H490),"",SUM(H28,H49,H70,H91,H112,H133,H154,H175,H196,H217,H238,H259,H280,H301,H322,H343,H364,H385,H406,H427,H448,H469,H490)) | I3: =IF(I7=SUM(I28,I49,I70,I91,I112,I133,I154,I175,I196,I217,I238,I259,I280,I301,I322,I343,I364,I385,I406,I427,I448,I469,I490),"",SUM(I28,I49,I70,I91,I112,I133,I154,I175,I196,I217,I238,I259,I280,I301,I322,I343,I364,I385,I406,I427,I448,I469,I490)) | J3: =IF(J7=SUM(J28,J49,J70,J91,J112,J133,J154,J175,J196,J217,J238,J259,J280,J301,J322,J343,J364,J385,J406,J427,J448,J469,J490),"",SUM(J28,J49,J70,J91,J112,J133,J154,J175,J196,J217,J238,J259,J280,J301,J322,J343,J364,J385,J406,J427,J448,J469,J490)) | K3: =IF(K7=SUM(K28,K49,K70,K91,K112,K133,K154,K175,K196,K217,K238,K259,K280,K301,K322,K343,K364,K385,K406,K427,K448,K469,K490),"",SUM(K28,K49,K70,K91,K112,K133,K154,K175,K196,K217,K238,K259,K280,K301,K322,K343,K364,K385,K406,K427,K448,K469,K490)) | L3: =IF(L7=SUM(L28,L49,L70,L91,L112,L133,L154,L175,L196,L217,L238,L259,L280,L301,L322,L343,L364,L385,L406,L427,L448,L469,L490),"",SUM(L28,L49,L70,L91,L112,L133,L154,L175,L196,L217,L238,L259,L280,L301,L322,L343,L364,L385,L406,L427,L448,L469,L490)) | ... Z3: =IF(Z7=SUM(Z28,Z49,Z70,Z91,Z112,Z133,Z154,Z175,Z196,Z217,Z238,Z259,Z280,Z301,Z322,Z343,Z364,Z385,Z406,Z427,Z448,Z469,Z490),"",SUM(Z28,Z49,Z70,Z91,Z112,Z133,Z154,Z175,Z196,Z217,Z238,Z259,Z280,Z301,Z322,Z343,Z364,Z385,Z406,Z427,Z448,Z469,Z490))
A4: 區域及特殊族群別 Locality & Ethnos | E4: 總計Total | H4: 親屬安置Relative Placement | K4: 寄養家庭Fostering Families | O4: 團體家庭Group Family | S4: 安置及教養機構Residential Institutions | X4: 其他Others
E5: 本期底安置人數（人） No. of Resettlers at the End of the Period | H5: 本期底安置人數（人） No. of Resettlers at the End of the Period | K5: 寄養家庭數 (戶) No. of Households | L5: 本期底安置人數（人） No. of Resettlers at the End of the Period | O5: 團體家庭數(家) No. of Group Households | P5: 本期底安置人數（人） No. of Resettlers at the End of the Period | S5: 所數 No. of Institutions | T5: 床位數 No. of Providing | U5: 本期底安置人數（人） No. of Resettlers at the End of the Period | X5: 本期底安置人數（人） No. of Resettlers at the End of the Period
E6: 計Total | F6: 男Male | G6: 女Female | H6: 計Total | I6: 男Male | J6: 女Female | L6: 計Total | M6: 男Male | N6: 女Female | P6: 計Total | Q6: 男Male | R6: 女Female | U6: 計Total | V6: 男Male | W6: 女Female | X6: 計Total | Y6: 男Male | Z6: 女Female
A7: 總計 Total | B7: 合計 Total | C7: 計Total
C8: 小計 Total | D8: 一般General
D9: 原住民Indigenous
C10: 一般 General | D10: 一般General
D11: 原住民Indigenous
C12: 身心障礙 Disability | D12: 一般General
D13: 原住民Indigenous
B14: 本轄安置 Local Resettlement | C14: 計Total
C15: 小計 Total | D15: 一般General
D16: 原住民Indigenous
C17: 一般 General | D17: 一般General
D18: 原住民Indigenous
C19: 身心障礙 Disability | D19: 一般General
D20: 原住民Indigenous
B21: 外轄安置External Resettlement | C21: 計Total
C22: 小計 Total | D22: 一般General
D23: 原住民Indigenous
C24: 一般 General | D24: 一般General
D25: 原住民Indigenous
C26: 身心障礙 Disability | D26: 一般General
D27: 原住民Indigenous
A28: 衛生福利部 Inst. of MOHW | B28: 合計 Total | C28: 計Total
C29: 小計 Total | D29: 一般General
D30: 原住民Indigenous
C31: 一般 General | D31: 一般General
D32: 原住民Indigenous
C33: 身心障礙 Disability | D33: 一般General
D34: 原住民Indigenous
B35: 本轄安置 Local Resettlement | C35: 計Total
C36: 小計 Total | D36: 一般General
D37: 原住民Indigenous
C38: 一般 General | D38: 一般General
D39: 原住民Indigenous
C40: 身心障礙 Disability | D40: 一般General
D41: 原住民Indigenous
B42: 外轄安置External Resettlement | C42: 計Total
C43: 小計 Total | D43: 一般General
D44: 原住民Indigenous
C45: 一般 General | D45: 一般General
D46: 原住民Indigenous
C47: 身心障礙 Disability | D47: 一般General
D48: 原住民Indigenous
A49: 新北市 New Taipei City | B49: 合計 Total | C49: 計Total
C50: 小計 Total | D50: 一般General
D51: 原住民Indigenous
C52: 一般 General | D52: 一般General
D53: 原住民Indigenous
C54: 身心障礙 Disability | D54: 一般General
D55: 原住民Indigenous
B56: 本轄安置 Local Resettlement | C56: 計Total
C57: 小計 Total | D57: 一般General
D58: 原住民Indigenous
C59: 一般 General | D59: 一般General
D60: 原住民Indigenous
C61: 身心障礙 Disability | D61: 一般General
D62: 原住民Indigenous
B63: 外轄安置External Resettlement | C63: 計Total
C64: 小計 Total | D64: 一般General
D65: 原住民Indigenous
C66: 一般 General | D66: 一般General
D67: 原住民Indigenous
C68: 身心障礙 Disability | D68: 一般General
D69: 原住民Indigenous
A70: 臺北市 Taipei City | B70: 合計 Total | C70: 計Total
C71: 小計 Total | D71: 一般General
D72: 原住民Indigenous
C73: 一般 General | D73: 一般General
D74: 原住民Indigenous
C75: 身心障礙 Disability | D75: 一般General
D76: 原住民Indigenous
B77: 本轄安置 Local Resettlement | C77: 計Total
C78: 小計 Total | D78: 一般General
D79: 原住民Indigenous
C80: 一般 General | D80: 一般General
D81: 原住民Indigenous
C82: 身心障礙 Disability | D82: 一般General
D83: 原住民Indigenous
B84: 外轄安置External Resettlement | C84: 計Total
C85: 小計 Total | D85: 一般General
D86: 原住民Indigenous
C87: 一般 General | D87: 一般General
D88: 原住民Indigenous
C89: 身心障礙 Disability | D89: 一般General
D90: 原住民Indigenous
A91: 桃園市 Taoyuan City | B91: 合計 Total | C91: 計Total
C92: 小計 Total | D92: 一般General
D93: 原住民Indigenous
C94: 一般 General | D94: 一般General
D95: 原住民Indigenous
C96: 身心障礙 Disability | D96: 一般General
D97: 原住民Indigenous
B98: 本轄安置 Local Resettlement | C98: 計Total
C99: 小計 Total | D99: 一般General
D100: 原住民Indigenous
...

Sheet End of June, 2026
A1: 兒童及少年家外安置概況Placement of Child and Youth Outside the Home
A2: 115年6月底 End of June, 2026
A3: 單位：人、戶、家、所、床 | E3: =IF(E7=SUM(E28,E49,E70,E91,E112,E133,E154,E175,E196,E217,E238,E259,E280,E301,E322,E343,E364,E385,E406,E427,E448,E469,E490),"",SUM(E28,E49,E70,E91,E112,E133,E154,E175,E196,E217,E238,E259,E280,E301,E322,E343,E364,E385,E406,E427,E448,E469,E490)) | F3: =IF(F7=SUM(F28,F49,F70,F91,F112,F133,F154,F175,F196,F217,F238,F259,F280,F301,F322,F343,F364,F385,F406,F427,F448,F469,F490),"",SUM(F28,F49,F70,F91,F112,F133,F154,F175,F196,F217,F238,F259,F280,F301,F322,F343,F364,F385,F406,F427,F448,F469,F490)) | G3: =IF(G7=SUM(G28,G49,G70,G91,G112,G133,G154,G175,G196,G217,G238,G259,G280,G301,G322,G343,G364,G385,G406,G427,G448,G469,G490),"",SUM(G28,G49,G70,G91,G112,G133,G154,G175,G196,G217,G238,G259,G280,G301,G322,G343,G364,G385,G406,G427,G448,G469,G490)) | H3: =IF(H7=SUM(H28,H49,H70,H91,H112,H133,H154,H175,H196,H217,H238,H259,H280,H301,H322,H343,H364,H385,H406,H427,H448,H469,H490),"",SUM(H28,H49,H70,H91,H112,H133,H154,H175,H196,H217,H238,H259,H280,H301,H322,H343,H364,H385,H406,H427,H448,H469,H490)) | I3: =IF(I7=SUM(I28,I49,I70,I91,I112,I133,I154,I175,I196,I217,I238,I259,I280,I301,I322,I343,I364,I385,I406,I427,I448,I469,I490),"",SUM(I28,I49,I70,I91,I112,I133,I154,I175,I196,I217,I238,I259,I280,I301,I322,I343,I364,I385,I406,I427,I448,I469,I490)) | J3: =IF(J7=SUM(J28,J49,J70,J91,J112,J133,J154,J175,J196,J217,J238,J259,J280,J301,J322,J343,J364,J385,J406,J427,J448,J469,J490),"",SUM(J28,J49,J70,J91,J112,J133,J154,J175,J196,J217,J238,J259,J280,J301,J322,J343,J364,J385,J406,J427,J448,J469,J490)) | K3: =IF(K7=SUM(K28,K49,K70,K91,K112,K133,K154,K175,K196,K217,K238,K259,K280,K301,K322,K343,K364,K385,K406,K427,K448,K469,K490),"",SUM(K28,K49,K70,K91,K112,K133,K154,K175,K196,K217,K238,K259,K280,K301,K322,K343,K364,K385,K406,K427,K448,K469,K490)) | L3: =IF(L7=SUM(L28,L49,L70,L91,L112,L133,L154,L175,L196,L217,L238,L259,L280,L301,L322,L343,L364,L385,L406,L427,L448,L469,L490),"",SUM(L28,L49,L70,L91,L112,L133,L154,L175,L196,L217,L238,L259,L280,L301,L322,L343,L364,L385,L406,L427,L448,L469,L490)) | ... Z3: =IF(Z7=SUM(Z28,Z49,Z70,Z91,Z112,Z133,Z154,Z175,Z196,Z217,Z238,Z259,Z280,Z301,Z322,Z343,Z364,Z385,Z406,Z427,Z448,Z469,Z490),"",SUM(Z28,Z49,Z70,Z91,Z112,Z133,Z154,Z175,Z196,Z217,Z238,Z259,Z280,Z301,Z322,Z343,Z364,Z385,Z406,Z427,Z448,Z469,Z490))
A4: 區域及特殊族群別 Locality & Ethnos | E4: 總計Total | H4: 親屬安置Relative Placement | K4: 寄養家庭Fostering Families | O4: 團體家庭Group Family | S4: 安置及教養機構Residential Institutions | X4: 其他Others
E5: 本期底安置人數（人） No. of Resettlers at the End of the Period | H5: 本期底安置人數（人） No. of Resettlers at the End of the Period | K5: 寄養家庭數 (戶) No. of Households | L5: 本期底安置人數（人） No. of Resettlers at the End of the Period | O5: 團體家庭數(家) No. of Group Households | P5: 本期底安置人數（人） No. of Resettlers at the End of the Period | S5: 所數 No. of Institutions | T5: 床位數 No. of Providing | U5: 本期底安置人數（人） No. of Resettlers at the End of the Period | X5: 本期底安置人數（人） No. of Resettlers at the End of the Period
E6: 計Total | F6: 男Male | G6: 女Female | H6: 計Total | I6: 男Male | J6: 女Female | L6: 計Total | M6: 男Male | N6: 女Female | P6: 計Total | Q6: 男Male | R6: 女Female | U6: 計Total | V6: 男Male | W6: 女Female | X6: 計Total | Y6: 男Male | Z6: 女Female
A7: 總計 Total | B7: 合計 Total | C7: 計Total | E7: 4647 | F7: 2467 | G7: 2180 | H7: 417 | I7: 213 | J7: 204 | K7: 1312 | L7: 1652 | M7: 860 | N7: 792 | O7: 101 | P7: 271 | Q7: 163 | R7: 108 | S7: 99 | T7: 3576 | U7: 1863 | V7: 959 | W7: 904 | X7: 444 | Y7: 272 | Z7: 172
C8: 小計 Total | D8: 一般General | E8: 3950 | F8: 2100 | G8: 1850 | H8: 335 | I8: 171 | J8: 164 | L8: 1418 | M8: 733 | N8: 685 | P8: 232 | Q8: 136 | R8: 96 | U8: 1588 | V8: 826 | W8: 762 | X8: 377 | Y8: 234 | Z8: 143
D9: 原住民Indigenous | E9: 697 | F9: 367 | G9: 330 | H9: 82 | I9: 42 | J9: 40 | L9: 234 | M9: 127 | N9: 107 | P9: 39 | Q9: 27 | R9: 12 | U9: 275 | V9: 133 | W9: 142 | X9: 67 | Y9: 38 | Z9: 29
C10: 一般 General | D10: 一般General | E10: 3134 | F10: 1611 | G10: 1523 | H10: 283 | I10: 139 | J10: 144 | L10: 1188 | M10: 607 | N10: 581 | P10: 150 | Q10: 86 | R10: 64 | U10: 1300 | V10: 651 | W10: 649 | X10: 213 | Y10: 128 | Z10: 85
D11: 原住民Indigenous | E11: 550 | F11: 280 | G11: 270 | H11: 73 | I11: 38 | J11: 35 | L11: 194 | M11: 103 | N11: 91 | P11: 25 | Q11: 15 | R11: 10 | U11: 227 | V11: 109 | W11: 118 | X11: 31 | Y11: 15 | Z11: 16
C12: 身心障礙 Disability | D12: 一般General | E12: 816 | F12: 489 | G12: 327 | H12: 52 | I12: 32 | J12: 20 | L12: 230 | M12: 126 | N12: 104 | P12: 82 | Q12: 50 | R12: 32 | U12: 288 | V12: 175 | W12: 113 | X12: 164 | Y12: 106 | Z12: 58
D13: 原住民Indigenous | E13: 147 | F13: 87 | G13: 60 | H13: 9 | I13: 4 | J13: 5 | L13: 40 | M13: 24 | N13: 16 | P13: 14 | Q13: 12 | R13: 2 | U13: 48 | V13: 24 | W13: 24 | X13: 36 | Y13: 23 | Z13: 13
B14: 本轄安置 Local Resettlement | C14: 計Total | E14: 3612 | F14: 1922 | G14: 1690 | H14: 356 | I14: 191 | J14: 165 | L14: 1609 | M14: 840 | N14: 769 | P14: 270 | Q14: 163 | R14: 107 | U14: 1035 | V14: 521 | W14: 514 | X14: 342 | Y14: 207 | Z14: 135
C15: 小計 Total | D15: 一般General | E15: 3070 | F15: 1633 | G15: 1437 | H15: 284 | I15: 153 | J15: 131 | L15: 1380 | M15: 715 | N15: 665 | P15: 231 | Q15: 136 | R15: 95 | U15: 878 | V15: 446 | W15: 432 | X15: 297 | Y15: 183 | Z15: 114
D16: 原住民Indigenous | E16: 542 | F16: 289 | G16: 253 | H16: 72 | I16: 38 | J16: 34 | L16: 229 | M16: 125 | N16: 104 | P16: 39 | Q16: 27 | R16: 12 | U16: 157 | V16: 75 | W16: 82 | X16: 45 | Y16: 24 | Z16: 21
C17: 一般 General | D17: 一般General | E17: 2453 | F17: 1269 | G17: 1184 | H17: 235 | I17: 122 | J17: 113 | L17: 1157 | M17: 593 | N17: 564 | P17: 149 | Q17: 86 | R17: 63 | U17: 723 | V17: 355 | W17: 368 | X17: 189 | Y17: 113 | Z17: 76
D18: 原住民Indigenous | E18: 432 | F18: 223 | G18: 209 | H18: 63 | I18: 34 | J18: 29 | L18: 190 | M18: 101 | N18: 89 | P18: 25 | Q18: 15 | R18: 10 | U18: 125 | V18: 58 | W18: 67 | X18: 29 | Y18: 15 | Z18: 14
C19: 身心障礙 Disability | D19: 一般General | E19: 617 | F19: 364 | G19: 253 | H19: 49 | I19: 31 | J19: 18 | L19: 223 | M19: 122 | N19: 101 | P19: 82 | Q19: 50 | R19: 32 | U19: 155 | V19: 91 | W19: 64 | X19: 108 | Y19: 70 | Z19: 38
D20: 原住民Indigenous | E20: 110 | F20: 66 | G20: 44 | H20: 9 | I20: 4 | J20: 5 | L20: 39 | M20: 24 | N20: 15 | P20: 14 | Q20: 12 | R20: 2 | U20: 32 | V20: 17 | W20: 15 | X20: 16 | Y20: 9 | Z20: 7
B21: 外轄安置External Resettlement | C21: 計Total | E21: 1035 | F21: 545 | G21: 490 | H21: 61 | I21: 22 | J21: 39 | L21: 43 | M21: 20 | N21: 23 | P21: 1 | Q21: 0 | R21: 1 | U21: 828 | V21: 438 | W21: 390 | X21: 102 | Y21: 65 | Z21: 37
C22: 小計 Total | D22: 一般General | E22: 880 | F22: 467 | G22: 413 | H22: 51 | I22: 18 | J22: 33 | L22: 38 | M22: 18 | N22: 20 | P22: 1 | Q22: 0 | R22: 1 | U22: 710 | V22: 380 | W22: 330 | X22: 80 | Y22: 51 | Z22: 29
D23: 原住民Indigenous | E23: 155 | F23: 78 | G23: 77 | H23: 10 | I23: 4 | J23: 6 | L23: 5 | M23: 2 | N23: 3 | P23: 0 | Q23: 0 | R23: 0 | U23: 118 | V23: 58 | W23: 60 | X23: 22 | Y23: 14 | Z23: 8
C24: 一般 General | D24: 一般General | E24: 681 | F24: 342 | G24: 339 | H24: 48 | I24: 17 | J24: 31 | L24: 31 | M24: 14 | N24: 17 | P24: 1 | Q24: 0 | R24: 1 | U24: 577 | V24: 296 | W24: 281 | X24: 24 | Y24: 15 | Z24: 9
D25: 原住民Indigenous | E25: 118 | F25: 57 | G25: 61 | H25: 10 | I25: 4 | J25: 6 | L25: 4 | M25: 2 | N25: 2 | P25: 0 | Q25: 0 | R25: 0 | U25: 102 | V25: 51 | W25: 51 | X25: 2 | Y25: 0 | Z25: 2
C26: 身心障礙 Disability | D26: 一般General | E26: 199 | F26: 125 | G26: 74 | H26: 3 | I26: 1 | J26: 2 | L26: 7 | M26: 4 | N26: 3 | P26: 0 | Q26: 0 | R26: 0 | U26: 133 | V26: 84 | W26: 49 | X26: 56 | Y26: 36 | Z26: 20
D27: 原住民Indigenous | E27: 37 | F27: 21 | G27: 16 | H27: 0 | I27: 0 | J27: 0 | L27: 1 | M27: 0 | N27: 1 | P27: 0 | Q27: 0 | R27: 0 | U27: 16 | V27: 7 | W27: 9 | X27: 20 | Y27: 14 | Z27: 6
A28: 衛生福利部 Inst. of MOHW | B28: 合計 Total | C28: 計Total | E28: 406 | F28: 194 | G28: 212 | H28: 0 | I28: 0 | J28: 0 | K28: 0 | L28: 0 | M28: 0 | N28: 0 | O28: 0 | P28: 0 | Q28: 0 | R28: 0 | S28: 9 | T28: 747 | U28: 406 | V28: 194 | W28: 212 | X28: 0 | Y28: 0 | Z28: 0
C29: 小計 Total | D29: 一般General | E29: 358 | F29: 173 | G29: 185 | H29: 0 | I29: 0 | J29: 0 | L29: 0 | M29: 0 | N29: 0 | P29: 0 | Q29: 0 | R29: 0 | U29: 358 | V29: 173 | W29: 185 | X29: 0 | Y29: 0 | Z29: 0
D30: 原住民Indigenous | E30: 48 | F30: 21 | G30: 27 | H30: 0 | I30: 0 | J30: 0 | L30: 0 | M30: 0 | N30: 0 | P30: 0 | Q30: 0 | R30: 0 | U30: 48 | V30: 21 | W30: 27 | X30: 0 | Y30: 0 | Z30: 0
C31: 一般 General | D31: 一般General | E31: 281 | F31: 127 | G31: 154 | H31: 0 | I31: 0 | J31: 0 | L31: 0 | M31: 0 | N31: 0 | P31: 0 | Q31: 0 | R31: 0 | U31: 281 | V31: 127 | W31: 154 | X31: 0 | Y31: 0 | Z31: 0
D32: 原住民Indigenous | E32: 45 | F32: 18 | G32: 27 | H32: 0 | I32: 0 | J32: 0 | L32: 0 | M32: 0 | N32: 0 | P32: 0 | Q32: 0 | R32: 0 | U32: 45 | V32: 18 | W32: 27 | X32: 0 | Y32: 0 | Z32: 0
C33: 身心障礙 Disability | D33: 一般General | E33: 77 | F33: 46 | G33: 31 | H33: 0 | I33: 0 | J33: 0 | L33: 0 | M33: 0 | N33: 0 | P33: 0 | Q33: 0 | R33: 0 | U33: 77 | V33: 46 | W33: 31 | X33: 0 | Y33: 0 | Z33: 0
D34: 原住民Indigenous | E34: 3 | F34: 3 | G34: 0 | H34: 0 | I34: 0 | J34: 0 | L34: 0 | M34: 0 | N34: 0 | P34: 0 | Q34: 0 | R34: 0 | U34: 3 | V34: 3 | W34: 0 | X34: 0 | Y34: 0 | Z34: 0
B35: 本轄安置 Local Resettlement | C35: 計Total | E35: 202 | F35: 98 | G35: 104 | H35: 0 | I35: 0 | J35: 0 | L35: 0 | M35: 0 | N35: 0 | P35: 0 | Q35: 0 | R35: 0 | U35: 202 | V35: 98 | W35: 104 | X35: 0 | Y35: 0 | Z35: 0
C36: 小計 Total | D36: 一般General | E36: 178 | F36: 86 | G36: 92 | H36: 0 | I36: 0 | J36: 0 | L36: 0 | M36: 0 | N36: 0 | P36: 0 | Q36: 0 | R36: 0 | U36: 178 | V36: 86 | W36: 92 | X36: 0 | Y36: 0 | Z36: 0
D37: 原住民Indigenous | E37: 24 | F37: 12 | G37: 12 | H37: 0 | I37: 0 | J37: 0 | L37: 0 | M37: 0 | N37: 0 | P37: 0 | Q37: 0 | R37: 0 | U37: 24 | V37: 12 | W37: 12 | X37: 0 | Y37: 0 | Z37: 0
C38: 一般 General | D38: 一般General | E38: 144 | F38: 67 | G38: 77 | H38: 0 | I38: 0 | J38: 0 | L38: 0 | M38: 0 | N38: 0 | P38: 0 | Q38: 0 | R38: 0 | U38: 144 | V38: 67 | W38: 77 | X38: 0 | Y38: 0 | Z38: 0
D39: 原住民Indigenous | E39: 22 | F39: 10 | G39: 12 | H39: 0 | I39: 0 | J39: 0 | L39: 0 | M39: 0 | N39: 0 | P39: 0 | Q39: 0 | R39: 0 | U39: 22 | V39: 10 | W39: 12 | X39: 0 | Y39: 0 | Z39: 0
C40: 身心障礙 Disability | D40: 一般General | E40: 34 | F40: 19 | G40: 15 | H40: 0 | I40: 0 | J40: 0 | L40: 0 | M40: 0 | N40: 0 | P40: 0 | Q40: 0 | R40: 0 | U40: 34 | V40: 19 | W40: 15 | X40: 0 | Y40: 0 | Z40: 0
D41: 原住民Indigenous | E41: 2 | F41: 2 | G41: 0 | H41: 0 | I41: 0 | J41: 0 | L41: 0 | M41: 0 | N41: 0 | P41: 0 | Q41: 0 | R41: 0 | U41: 2 | V41: 2 | W41: 0 | X41: 0 | Y41: 0 | Z41: 0
B42: 外轄安置External Resettlement | C42: 計Total | E42: 204 | F42: 96 | G42: 108 | H42: 0 | I42: 0 | J42: 0 | L42: 0 | M42: 0 | N42: 0 | P42: 0 | Q42: 0 | R42: 0 | U42: 204 | V42: 96 | W42: 108 | X42: 0 | Y42: 0 | Z42: 0
C43: 小計 Total | D43: 一般General | E43: 180 | F43: 87 | G43: 93 | H43: 0 | I43: 0 | J43: 0 | L43: 0 | M43: 0 | N43: 0 | P43: 0 | Q43: 0 | R43: 0 | U43: 180 | V43: 87 | W43: 93 | X43: 0 | Y43: 0 | Z43: 0
D44: 原住民Indigenous | E44: 24 | F44: 9 | G44: 15 | H44: 0 | I44: 0 | J44: 0 | L44: 0 | M44: 0 | N44: 0 | P44: 0 | Q44: 0 | R44: 0 | U44: 24 | V44: 9 | W44: 15 | X44: 0 | Y44: 0 | Z44: 0
C45: 一般 General | D45: 一般General | E45: 137 | F45: 60 | G45: 77 | H45: 0 | I45: 0 | J45: 0 | L45: 0 | M45: 0 | N45: 0 | P45: 0 | Q45: 0 | R45: 0 | U45: 137 | V45: 60 | W45: 77 | X45: 0 | Y45: 0 | Z45: 0
D46: 原住民Indigenous | E46: 23 | F46: 8 | G46: 15 | H46: 0 | I46: 0 | J46: 0 | L46: 0 | M46: 0 | N46: 0 | P46: 0 | Q46: 0 | R46: 0 | U46: 23 | V46: 8 | W46: 15 | X46: 0 | Y46: 0 | Z46: 0
C47: 身心障礙 Disability | D47: 一般General | E47: 43 | F47: 27 | G47: 16 | H47: 0 | I47: 0 | J47: 0 | L47: 0 | M47: 0 | N47: 0 | P47: 0 | Q47: 0 | R47: 0 | U47: 43 | V47: 27 | W47: 16 | X47: 0 | Y47: 0 | Z47: 0
D48: 原住民Indigenous | E48: 1 | F48: 1 | G48: 0 | H48: 0 | I48: 0 | J48: 0 | L48: 0 | M48: 0 | N48: 0 | P48: 0 | Q48: 0 | R48: 0 | U48: 1 | V48: 1 | W48: 0 | X48: 0 | Y48: 0 | Z48: 0
A49: 新北市 New Taipei City | B49: 合計 Total | C49: 計Total | E49: 526 | F49: 276 | G49: 250 | H49: 68 | I49: 33 | J49: 35 | K49: 142 | L49: 194 | M49: 97 | N49: 97 | O49: 30 | P49: 82 | Q49: 43 | R49: 39 | S49: 8 | T49: 217 | U49: 102 | V49: 53 | W49: 49 | X49: 80 | Y49: 50 | Z49: 30
C50: 小計 Total | D50: 一般General | E50: 483 | F50: 253 | G50: 230 | H50: 62 | I50: 31 | J50: 31 | L50: 172 | M50: 87 | N50: 85 | P50: 79 | Q50: 41 | R50: 38 | U50: 97 | V50: 49 | W50: 48 | X50: 73 | Y50: 45 | Z50: 28
D51: 原住民Indigenous | E51: 43 | F51: 23 | G51: 20 | H51: 6 | I51: 2 | J51: 4 | L51: 22 | M51: 10 | N51: 12 | P51: 3 | Q51: 2 | R51: 1 | U51: 5 | V51: 4 | W51: 1 | X51: 7 | Y51: 5 | Z51: 2
C52: 一般 General | D52: 一般General | E52: 366 | F52: 188 | G52: 178 | H52: 56 | I52: 29 | J52: 27 | L52: 137 | M52: 70 | N52: 67 | P52: 56 | Q52: 30 | R52: 26 | U52: 79 | V52: 38 | W52: 41 | X52: 38 | Y52: 21 | Z52: 17
D53: 原住民Indigenous | E53: 36 | F53: 18 | G53: 18 | H53: 6 | I53: 2 | J53: 4 | L53: 20 | M53: 9 | N53: 11 | P53: 2 | Q53: 1 | R53: 1 | U53: 5 | V53: 4 | W53: 1 | X53: 3 | Y53: 2 | Z53: 1
C54: 身心障礙 Disability | D54: 一般General | E54: 117 | F54: 65 | G54: 52 | H54: 6 | I54: 2 | J54: 4 | L54: 35 | M54: 17 | N54: 18 | P54: 23 | Q54: 11 | R54: 12 | U54: 18 | V54: 11 | W54: 7 | X54: 35 | Y54: 24 | Z54: 11
D55: 原住民Indigenous | E55: 7 | F55: 5 | G55: 2 | H55: 0 | I55: 0 | J55: 0 | L55: 2 | M55: 1 | N55: 1 | P55: 1 | Q55: 1 | R55: 0 | U55: 0 | V55: 0 | W55: 0 | X55: 4 | Y55: 3 | Z55: 1
B56: 本轄安置 Local Resettlement | C56: 計Total | E56: 473 | F56: 244 | G56: 229 | H56: 52 | I56: 25 | J56: 27 | L56: 190 | M56: 95 | N56: 95 | P56: 82 | Q56: 43 | R56: 39 | U56: 93 | V56: 46 | W56: 47 | X56: 56 | Y56: 35 | Z56: 21
C57: 小計 Total | D57: 一般General | E57: 436 | F57: 225 | G57: 211 | H57: 48 | I57: 24 | J57: 24 | L57: 168 | M57: 85 | N57: 83 | P57: 79 | Q57: 41 | R57: 38 | U57: 90 | V57: 44 | W57: 46 | X57: 51 | Y57: 31 | Z57: 20
D58: 原住民Indigenous | E58: 37 | F58: 19 | G58: 18 | H58: 4 | I58: 1 | J58: 3 | L58: 22 | M58: 10 | N58: 12 | P58: 3 | Q58: 2 | R58: 1 | U58: 3 | V58: 2 | W58: 1 | X58: 5 | Y58: 4 | Z58: 1
C59: 一般 General | D59: 一般General | E59: 332 | F59: 168 | G59: 164 | H59: 43 | I59: 22 | J59: 21 | L59: 133 | M59: 68 | N59: 65 | P59: 56 | Q59: 30 | R59: 26 | U59: 73 | V59: 34 | W59: 39 | X59: 27 | Y59: 14 | Z59: 13
D60: 原住民Indigenous | E60: 31 | F60: 15 | G60: 16 | H60: 4 | I60: 1 | J60: 3 | L60: 20 | M60: 9 | N60: 11 | P60: 2 | Q60: 1 | R60: 1 | U60: 3 | V60: 2 | W60: 1 | X60: 2 | Y60: 2 | Z60: 0
C61: 身心障礙 Disability | D61: 一般General | E61: 104 | F61: 57 | G61: 47 | H61: 5 | I61: 2 | J61: 3 | L61: 35 | M61: 17 | N61: 18 | P61: 23 | Q61: 11 | R61: 12 | U61: 17 | V61: 10 | W61: 7 | X61: 24 | Y61: 17 | Z61: 7
D62: 原住民Indigenous | E62: 6 | F62: 4 | G62: 2 | H62: 0 | I62: 0 | J62: 0 | L62: 2 | M62: 1 | N62: 1 | P62: 1 | Q62: 1 | R62: 0 | U62: 0 | V62: 0 | W62: 0 | X62: 3 | Y62: 2 | Z62: 1
B63: 外轄安置External Resettlement | C63: 計Total | E63: 53 | F63: 32 | G63: 21 | H63: 16 | I63: 8 | J63: 8 | L63: 4 | M63: 2 | N63: 2 | P63: 0 | Q63: 0 | R63: 0 | U63: 9 | V63: 7 | W63: 2 | X63: 24 | Y63: 15 | Z63: 9
C64: 小計 Total | D64: 一般General | E64: 47 | F64: 28 | G64: 19 | H64: 14 | I64: 7 | J64: 7 | L64: 4 | M64: 2 | N64: 2 | P64: 0 | Q64: 0 | R64: 0 | U64: 7 | V64: 5 | W64: 2 | X64: 22 | Y64: 14 | Z64: 8
D65: 原住民Indigenous | E65: 6 | F65: 4 | G65: 2 | H65: 2 | I65: 1 | J65: 1 | L65: 0 | M65: 0 | N65: 0 | P65: 0 | Q65: 0 | R65: 0 | U65: 2 | V65: 2 | W65: 0 | X65: 2 | Y65: 1 | Z65: 1
C66: 一般 General | D66: 一般General | E66: 34 | F66: 20 | G66: 14 | H66: 13 | I66: 7 | J66: 6 | L66: 4 | M66: 2 | N66: 2 | P66: 0 | Q66: 0 | R66: 0 | U66: 6 | V66: 4 | W66: 2 | X66: 11 | Y66: 7 | Z66: 4
D67: 原住民Indigenous | E67: 5 | F67: 3 | G67: 2 | H67: 2 | I67: 1 | J67: 1 | L67: 0 | M67: 0 | N67: 0 | P67: 0 | Q67: 0 | R67: 0 | U67: 2 | V67: 2 | W67: 0 | X67: 1 | Y67: 0 | Z67: 1
C68: 身心障礙 Disability | D68: 一般General | E68: 13 | F68: 8 | G68: 5 | H68: 1 | I68: 0 | J68: 1 | L68: 0 | M68: 0 | N68: 0 | P68: 0 | Q68: 0 | R68: 0 | U68: 1 | V68: 1 | W68: 0 | X68: 11 | Y68: 7 | Z68: 4
D69: 原住民Indigenous | E69: 1 | F69: 1 | G69: 0 | H69: 0 | I69: 0 | J69: 0 | L69: 0 | M69: 0 | N69: 0 | P69: 0 | Q69: 0 | R69: 0 | U69: 0 | V69: 0 | W69: 0 | X69: 1 | Y69: 1 | Z69: 0
A70: 臺北市 Taipei City | B70: 合計 Total | C70: 計Total | E70: 350 | F70: 191 | G70: 159 | H70: 6 | I70: 3 | J70: 3 | K70: 67 | L70: 91 | M70: 47 | N70: 44 | O70: 18 | P70: 48 | Q70: 24 | R70: 24 | S70: 12 | T70: 298 | U70: 202 | V70: 116 | W70: 86 | X70: 3 | Y70: 1 | Z70: 2
C71: 小計 Total | D71: 一般General | E71: 322 | F71: 176 | G71: 146 | H71: 4 | I71: 2 | J71: 2 | L71: 83 | M71: 44 | N71: 39 | P71: 45 | Q71: 22 | R71: 23 | U71: 187 | V71: 107 | W71: 80 | X71: 3 | Y71: 1 | Z71: 2
D72: 原住民Indigenous | E72: 28 | F72: 15 | G72: 13 | H72: 2 | I72: 1 | J72: 1 | L72: 8 | M72: 3 | N72: 5 | P72: 3 | Q72: 2 | R72: 1 | U72: 15 | V72: 9 | W72: 6 | X72: 0 | Y72: 0 | Z72: 0
C73: 一般 General | D73: 一般General | E73: 275 | F73: 146 | G73: 129 | H73: 4 | I73: 2 | J73: 2 | L73: 76 | M73: 39 | N73: 37 | P73: 28 | Q73: 12 | R73: 16 | U73: 167 | V73: 93 | W73: 74 | X73: 0 | Y73: 0 | Z73: 0
D74: 原住民Indigenous | E74: 26 | F74: 14 | G74: 12 | H74: 1 | I74: 1 | J74: 0 | L74: 8 | M74: 3 | N74: 5 | P74: 3 | Q74: 2 | R74: 1 | U74: 14 | V74: 8 | W74: 6 | X74: 0 | Y74: 0 | Z74: 0
C75: 身心障礙 Disability | D75: 一般General | E75: 47 | F75: 30 | G75: 17 | H75: 0 | I75: 0 | J75: 0 | L75: 7 | M75: 5 | N75: 2 | P75: 17 | Q75: 10 | R75: 7 | U75: 20 | V75: 14 | W75: 6 | X75: 3 | Y75: 1 | Z75: 2
D76: 原住民Indigenous | E76: 2 | F76: 1 | G76: 1 | H76: 1 | I76: 0 | J76: 1 | L76: 0 | M76: 0 | N76: 0 | P76: 0 | Q76: 0 | R76: 0 | U76: 1 | V76: 1 | W76: 0 | X76: 0 | Y76: 0 | Z76: 0
B77: 本轄安置 Local Resettlement | C77: 計Total | E77: 208 | F77: 106 | G77: 102 | H77: 6 | I77: 3 | J77: 3 | L77: 89 | M77: 45 | N77: 44 | P77: 47 | Q77: 24 | R77: 23 | U77: 64 | V77: 34 | W77: 30 | X77: 2 | Y77: 0 | Z77: 2
C78: 小計 Total | D78: 一般General | E78: 192 | F78: 99 | G78: 93 | H78: 4 | I78: 2 | J78: 2 | L78: 81 | M78: 42 | N78: 39 | P78: 44 | Q78: 22 | R78: 22 | U78: 61 | V78: 33 | W78: 28 | X78: 2 | Y78: 0 | Z78: 2
D79: 原住民Indigenous | E79: 16 | F79: 7 | G79: 9 | H79: 2 | I79: 1 | J79: 1 | L79: 8 | M79: 3 | N79: 5 | P79: 3 | Q79: 2 | R79: 1 | U79: 3 | V79: 1 | W79: 2 | X79: 0 | Y79: 0 | Z79: 0
C80: 一般 General | D80: 一般General | E80: 160 | F80: 79 | G80: 81 | H80: 4 | I80: 2 | J80: 2 | L80: 74 | M80: 37 | N80: 37 | P80: 27 | Q80: 12 | R80: 15 | U80: 55 | V80: 28 | W80: 27 | X80: 0 | Y80: 0 | Z80: 0
D81: 原住民Indigenous | E81: 15 | F81: 7 | G81: 8 | H81: 1 | I81: 1 | J81: 0 | L81: 8 | M81: 3 | N81: 5 | P81: 3 | Q81: 2 | R81: 1 | U81: 3 | V81: 1 | W81: 2 | X81: 0 | Y81: 0 | Z81: 0
C82: 身心障礙 Disability | D82: 一般General | E82: 32 | F82: 20 | G82: 12 | H82: 0 | I82: 0 | J82: 0 | L82: 7 | M82: 5 | N82: 2 | P82: 17 | Q82: 10 | R82: 7 | U82: 6 | V82: 5 | W82: 1 | X82: 2 | Y82: 0 | Z82: 2
D83: 原住民Indigenous | E83: 1 | F83: 0 | G83: 1 | H83: 1 | I83: 0 | J83: 1 | L83: 0 | M83: 0 | N83: 0 | P83: 0 | Q83: 0 | R83: 0 | U83: 0 | V83: 0 | W83: 0 | X83: 0 | Y83: 0 | Z83: 0
B84: 外轄安置External Resettlement | C84: 計Total | E84: 142 | F84: 85 | G84: 57 | H84: 0 | I84: 0 | J84: 0 | L84: 2 | M84: 2 | N84: 0 | P84: 1 | Q84: 0 | R84: 1 | U84: 138 | V84: 82 | W84: 56 | X84: 1 | Y84: 1 | Z84: 0
C85: 小計 Total | D85: 一般General | E85: 130 | F85: 77 | G85: 53 | H85: 0 | I85: 0 | J85: 0 | L85: 2 | M85: 2 | N85: 0 | P85: 1 | Q85: 0 | R85: 1 | U85: 126 | V85: 74 | W85: 52 | X85: 1 | Y85: 1 | Z85: 0
D86: 原住民Indigenous | E86: 12 | F86: 8 | G86: 4 | H86: 0 | I86: 0 | J86: 0 | L86: 0 | M86: 0 | N86: 0 | P86: 0 | Q86: 0 | R86: 0 | U86: 12 | V86: 8 | W86: 4 | X86: 0 | Y86: 0 | Z86: 0
C87: 一般 General | D87: 一般General | E87: 115 | F87: 67 | G87: 48 | H87: 0 | I87: 0 | J87: 0 | L87: 2 | M87: 2 | N87: 0 | P87: 1 | Q87: 0 | R87: 1 | U87: 112 | V87: 65 | W87: 47 | X87: 0 | Y87: 0 | Z87: 0
D88: 原住民Indigenous | E88: 11 | F88: 7 | G88: 4 | H88: 0 | I88: 0 | J88: 0 | L88: 0 | M88: 0 | N88: 0 | P88: 0 | Q88: 0 | R88: 0 | U88: 11 | V88: 7 | W88: 4 | X88: 0 | Y88: 0 | Z88: 0
C89: 身心障礙 Disability | D89: 一般General | E89: 15 | F89: 10 | G89: 5 | H89: 0 | I89: 0 | J89: 0 | L89: 0 | M89: 0 | N89: 0 | P89: 0 | Q89: 0 | R89: 0 | U89: 14 | V89: 9 | W89: 5 | X89: 1 | Y89: 1 | Z89: 0
D90: 原住民Indigenous | E90: 1 | F90: 1 | G90: 0 | H90: 0 | I90: 0 | J90: 0 | L90: 0 | M90: 0 | N90: 0 | P90: 0 | Q90: 0 | R90: 0 | U90: 1 | V90: 1 | W90: 0 | X90: 0 | Y90: 0 | Z90: 0
A91: 桃園市 Taoyuan City | B91: 合計 Total | C91: 計Total | E91: 347 | F91: 201 | G91: 146 | H91: 25 | I91: 11 | J91: 14 | K91: 100 | L91: 114 | M91: 61 | N91: 53 | O91: 6 | P91: 21 | Q91: 17 | R91: 4 | S91: 7 | T91: 201 | U91: 131 | V91: 76 | W91: 55 | X91: 56 | Y91: 36 | Z91: 20
C92: 小計 Total | D92: 一般General | E92: 292 | F92: 167 | G92: 125 | H92: 22 | I92: 10 | J92: 12 | L92: 98 | M92: 52 | N92: 46 | P92: 17 | Q92: 13 | R92: 4 | U92: 113 | V92: 66 | W92: 47 | X92: 42 | Y92: 26 | Z92: 16
D93: 原住民Indigenous | E93: 55 | F93: 34 | G93: 21 | H93: 3 | I93: 1 | J93: 2 | L93: 16 | M93: 9 | N93: 7 | P93: 4 | Q93: 4 | R93: 0 | U93: 18 | V93: 10 | W93: 8 | X93: 14 | Y93: 10 | Z93: 4
C94: 一般 General | D94: 一般General | E94: 238 | F94: 129 | G94: 109 | H94: 20 | I94: 8 | J94: 12 | L94: 90 | M94: 48 | N94: 42 | P94: 8 | Q94: 6 | R94: 2 | U94: 95 | V94: 52 | W94: 43 | X94: 25 | Y94: 15 | Z94: 10
D95: 原住民Indigenous | E95: 44 | F95: 25 | G95: 19 | H95: 3 | I95: 1 | J95: 2 | L95: 14 | M95: 7 | N95: 7 | P95: 2 | Q95: 2 | R95: 0 | U95: 18 | V95: 10 | W95: 8 | X95: 7 | Y95: 5 | Z95: 2
C96: 身心障礙 Disability | D96: 一般General | E96: 54 | F96: 38 | G96: 16 | H96: 2 | I96: 2 | J96: 0 | L96: 8 | M96: 4 | N96: 4 | P96: 9 | Q96: 7 | R96: 2 | U96: 18 | V96: 14 | W96: 4 | X96: 17 | Y96: 11 | Z96: 6
D97: 原住民Indigenous | E97: 11 | F97: 9 | G97: 2 | H97: 0 | I97: 0 | J97: 0 | L97: 2 | M97: 2 | N97: 0 | P97: 2 | Q97: 2 | R97: 0 | U97: 0 | V97: 0 | W97: 0 | X97: 7 | Y97: 5 | Z97: 2
B98: 本轄安置 Local Resettlement | C98: 計Total | E98: 293 | F98: 171 | G98: 122 | H98: 20 | I98: 9 | J98: 11 | L98: 109 | M98: 57 | N98: 52 | P98: 21 | Q98: 17 | R98: 4 | U98: 105 | V98: 64 | W98: 41 | X98: 38 | Y98: 24 | Z98: 14
C99: 小計 Total | D99: 一般General | E99: 246 | F99: 143 | G99: 103 | H99: 17 | I99: 8 | J99: 9 | L99: 93 | M99: 48 | N99: 45 | P99: 17 | Q99: 13 | R99: 4 | U99: 88 | V99: 55 | W99: 33 | X99: 31 | Y99: 19 | Z99: 12
D100: 原住民Indigenous | E100: 47 | F100: 28 | G100: 19 | H100: 3 | I100: 1 | J100: 2 | L100: 16 | M100: 9 | N100: 7 | P100: 4 | Q100: 4 | R100: 0 | U100: 17 | V100: 9 | W100: 8 | X100: 7 | Y100: 5 | Z100: 2
...

Sheet 2025
A1: 兒童及少年家外安置概況Placement of Child and Youth Outside the Home
A2: 114年底, End of 2025
A3: 單位：人、戶、家、所、床 | E3: =IF(E7=SUM(E28,E49,E70,E91,E112,E133,E154,E175,E196,E217,E238,E259,E280,E301,E322,E343,E364,E385,E406,E427,E448,E469,E490),"",SUM(E28,E49,E70,E91,E112,E133,E154,E175,E196,E217,E238,E259,E280,E301,E322,E343,E364,E385,E406,E427,E448,E469,E490)) | F3: =IF(F7=SUM(F28,F49,F70,F91,F112,F133,F154,F175,F196,F217,F238,F259,F280,F301,F322,F343,F364,F385,F406,F427,F448,F469,F490),"",SUM(F28,F49,F70,F91,F112,F133,F154,F175,F196,F217,F238,F259,F280,F301,F322,F343,F364,F385,F406,F427,F448,F469,F490)) | G3: =IF(G7=SUM(G28,G49,G70,G91,G112,G133,G154,G175,G196,G217,G238,G259,G280,G301,G322,G343,G364,G385,G406,G427,G448,G469,G490),"",SUM(G28,G49,G70,G91,G112,G133,G154,G175,G196,G217,G238,G259,G280,G301,G322,G343,G364,G385,G406,G427,G448,G469,G490)) | H3: =IF(H7=SUM(H28,H49,H70,H91,H112,H133,H154,H175,H196,H217,H238,H259,H280,H301,H322,H343,H364,H385,H406,H427,H448,H469,H490),"",SUM(H28,H49,H70,H91,H112,H133,H154,H175,H196,H217,H238,H259,H280,H301,H322,H343,H364,H385,H406,H427,H448,H469,H490)) | I3: =IF(I7=SUM(I28,I49,I70,I91,I112,I133,I154,I175,I196,I217,I238,I259,I280,I301,I322,I343,I364,I385,I406,I427,I448,I469,I490),"",SUM(I28,I49,I70,I91,I112,I133,I154,I175,I196,I217,I238,I259,I280,I301,I322,I343,I364,I385,I406,I427,I448,I469,I490)) | J3: =IF(J7=SUM(J28,J49,J70,J91,J112,J133,J154,J175,J196,J217,J238,J259,J280,J301,J322,J343,J364,J385,J406,J427,J448,J469,J490),"",SUM(J28,J49,J70,J91,J112,J133,J154,J175,J196,J217,J238,J259,J280,J301,J322,J343,J364,J385,J406,J427,J448,J469,J490)) | K3: =IF(K7=SUM(K28,K49,K70,K91,K112,K133,K154,K175,K196,K217,K238,K259,K280,K301,K322,K343,K364,K385,K406,K427,K448,K469,K490),"",SUM(K28,K49,K70,K91,K112,K133,K154,K175,K196,K217,K238,K259,K280,K301,K322,K343,K364,K385,K406,K427,K448,K469,K490)) | L3: =IF(L7=SUM(L28,L49,L70,L91,L112,L133,L154,L175,L196,L217,L238,L259,L280,L301,L322,L343,L364,L385,L406,L427,L448,L469,L490),"",SUM(L28,L49,L70,L91,L112,L133,L154,L175,L196,L217,L238,L259,L280,L301,L322,L343,L364,L385,L406,L427,L448,L469,L490)) | ... Z3: =IF(Z7=SUM(Z28,Z49,Z70,Z91,Z112,Z133,Z154,Z175,Z196,Z217,Z238,Z259,Z280,Z301,Z322,Z343,Z364,Z385,Z406,Z427,Z448,Z469,Z490),"",SUM(Z28,Z49,Z70,Z91,Z112,Z133,Z154,Z175,Z196,Z217,Z238,Z259,Z280,Z301,Z322,Z343,Z364,Z385,Z406,Z427,Z448,Z469,Z490))
A4: 區域及特殊族群別 Locality & Ethnos | E4: 總計Total | H4: 親屬安置Relative Placement | K4: 寄養家庭Fostering Families | O4: 團體家庭Group Family | S4: 安置及教養機構Residential Institutions | X4: 其他Others
E5: 本期底安置人數（人） No. of Resettlers at the End of the Period | H5: 本期底安置人數（人） No. of Resettlers at the End of the Period | K5: 寄養家庭數 (戶) No. of Households | L5: 本期底安置人數（人） No. of Resettlers at the End of the Period | O5: 團體家庭數(家) No. of Group Households | P5: 本期底安置人數（人） No. of Resettlers at the End of the Period | S5: 所數 No. of Institutions | T5: 床位數 No. of Providing | U5: 本期底安置人數（人） No. of Resettlers at the End of the Period | X5: 本期底安置人數（人） No. of Resettlers at the End of the Period
E6: 計Total | F6: 男Male | G6: 女Female | H6: 計Total | I6: 男Male | J6: 女Female | L6: 計Total | M6: 男Male | N6: 女Female | P6: 計Total | Q6: 男Male | R6: 女Female | U6: 計Total | V6: 男Male | W6: 女Female | X6: 計Total | Y6: 男Male | Z6: 女Female
A7: 總計 Total | B7: 合計 Total | C7: 計Total | E7: 4639 | F7: 2438 | G7: 2201 | H7: 410 | I7: 204 | J7: 206 | K7: 1343 | L7: 1622 | M7: 832 | N7: 790 | O7: 83 | P7: 218 | Q7: 135 | R7: 83 | S7: 102 | T7: 3662 | U7: 1952 | V7: 1006 | W7: 946 | X7: 437 | Y7: 261 | Z7: 176
C8: 小計 Total | D8: 一般General | E8: 3951 | F8: 2076 | G8: 1875 | H8: 322 | I8: 160 | J8: 162 | L8: 1407 | M8: 714 | N8: 693 | P8: 199 | Q8: 123 | R8: 76 | U8: 1662 | V8: 860 | W8: 802 | X8: 361 | Y8: 219 | Z8: 142
D9: 原住民Indigenous | E9: 688 | F9: 362 | G9: 326 | H9: 88 | I9: 44 | J9: 44 | L9: 215 | M9: 118 | N9: 97 | P9: 19 | Q9: 12 | R9: 7 | U9: 290 | V9: 146 | W9: 144 | X9: 76 | Y9: 42 | Z9: 34
C10: 一般 General | D10: 一般General | E10: 3116 | F10: 1574 | G10: 1542 | H10: 271 | I10: 126 | J10: 145 | L10: 1161 | M10: 582 | N10: 579 | P10: 126 | Q10: 75 | R10: 51 | U10: 1357 | V10: 677 | W10: 680 | X10: 201 | Y10: 114 | Z10: 87
D11: 原住民Indigenous | E11: 540 | F11: 273 | G11: 267 | H11: 77 | I11: 38 | J11: 39 | L11: 176 | M11: 93 | N11: 83 | P11: 11 | Q11: 5 | R11: 6 | U11: 240 | V11: 120 | W11: 120 | X11: 36 | Y11: 17 | Z11: 19
C12: 身心障礙 Disability | D12: 一般General | E12: 835 | F12: 502 | G12: 333 | H12: 51 | I12: 34 | J12: 17 | L12: 246 | M12: 132 | N12: 114 | P12: 73 | Q12: 48 | R12: 25 | U12: 305 | V12: 183 | W12: 122 | X12: 160 | Y12: 105 | Z12: 55
D13: 原住民Indigenous | E13: 148 | F13: 89 | G13: 59 | H13: 11 | I13: 6 | J13: 5 | L13: 39 | M13: 25 | N13: 14 | P13: 8 | Q13: 7 | R13: 1 | U13: 50 | V13: 26 | W13: 24 | X13: 40 | Y13: 25 | Z13: 15
B14: 本轄安置 Local Resettlement | C14: 計Total | E14: 3603 | F14: 1895 | G14: 1708 | H14: 354 | I14: 181 | J14: 173 | L14: 1596 | M14: 823 | N14: 773 | P14: 218 | Q14: 135 | R14: 83 | U14: 1105 | V14: 562 | W14: 543 | X14: 330 | Y14: 194 | Z14: 136
C15: 小計 Total | D15: 一般General | E15: 3078 | F15: 1615 | G15: 1463 | H15: 276 | I15: 142 | J15: 134 | L15: 1384 | M15: 705 | N15: 679 | P15: 199 | Q15: 123 | R15: 76 | U15: 942 | V15: 480 | W15: 462 | X15: 277 | Y15: 165 | Z15: 112
D16: 原住民Indigenous | E16: 525 | F16: 280 | G16: 245 | H16: 78 | I16: 39 | J16: 39 | L16: 212 | M16: 118 | N16: 94 | P16: 19 | Q16: 12 | R16: 7 | U16: 163 | V16: 82 | W16: 81 | X16: 53 | Y16: 29 | Z16: 24
C17: 一般 General | D17: 一般General | E17: 2455 | F17: 1246 | G17: 1209 | H17: 229 | I17: 110 | J17: 119 | L17: 1143 | M17: 575 | N17: 568 | P17: 126 | Q17: 75 | R17: 51 | U17: 778 | V17: 387 | W17: 391 | X17: 179 | Y17: 99 | Z17: 80
D18: 原住民Indigenous | E18: 419 | F18: 213 | G18: 206 | H18: 67 | I18: 33 | J18: 34 | L18: 174 | M18: 93 | N18: 81 | P18: 11 | Q18: 5 | R18: 6 | U18: 134 | V18: 65 | W18: 69 | X18: 33 | Y18: 17 | Z18: 16
C19: 身心障礙 Disability | D19: 一般General | E19: 623 | F19: 369 | G19: 254 | H19: 47 | I19: 32 | J19: 15 | L19: 241 | M19: 130 | N19: 111 | P19: 73 | Q19: 48 | R19: 25 | U19: 164 | V19: 93 | W19: 71 | X19: 98 | Y19: 66 | Z19: 32
D20: 原住民Indigenous | E20: 106 | F20: 67 | G20: 39 | H20: 11 | I20: 6 | J20: 5 | L20: 38 | M20: 25 | N20: 13 | P20: 8 | Q20: 7 | R20: 1 | U20: 29 | V20: 17 | W20: 12 | X20: 20 | Y20: 12 | Z20: 8
B21: 外轄安置External Resettlement | C21: 計Total | E21: 1036 | F21: 543 | G21: 493 | H21: 56 | I21: 23 | J21: 33 | L21: 26 | M21: 9 | N21: 17 | P21: 0 | Q21: 0 | R21: 0 | U21: 847 | V21: 444 | W21: 403 | X21: 107 | Y21: 67 | Z21: 40
C22: 小計 Total | D22: 一般General | E22: 873 | F22: 461 | G22: 412 | H22: 46 | I22: 18 | J22: 28 | L22: 23 | M22: 9 | N22: 14 | P22: 0 | Q22: 0 | R22: 0 | U22: 720 | V22: 380 | W22: 340 | X22: 84 | Y22: 54 | Z22: 30
D23: 原住民Indigenous | E23: 163 | F23: 82 | G23: 81 | H23: 10 | I23: 5 | J23: 5 | L23: 3 | M23: 0 | N23: 3 | P23: 0 | Q23: 0 | R23: 0 | U23: 127 | V23: 64 | W23: 63 | X23: 23 | Y23: 13 | Z23: 10
C24: 一般 General | D24: 一般General | E24: 661 | F24: 328 | G24: 333 | H24: 42 | I24: 16 | J24: 26 | L24: 18 | M24: 7 | N24: 11 | P24: 0 | Q24: 0 | R24: 0 | U24: 579 | V24: 290 | W24: 289 | X24: 22 | Y24: 15 | Z24: 7
D25: 原住民Indigenous | E25: 121 | F25: 60 | G25: 61 | H25: 10 | I25: 5 | J25: 5 | L25: 2 | M25: 0 | N25: 2 | P25: 0 | Q25: 0 | R25: 0 | U25: 106 | V25: 55 | W25: 51 | X25: 3 | Y25: 0 | Z25: 3
C26: 身心障礙 Disability | D26: 一般General | E26: 212 | F26: 133 | G26: 79 | H26: 4 | I26: 2 | J26: 2 | L26: 5 | M26: 2 | N26: 3 | P26: 0 | Q26: 0 | R26: 0 | U26: 141 | V26: 90 | W26: 51 | X26: 62 | Y26: 39 | Z26: 23
D27: 原住民Indigenous | E27: 42 | F27: 22 | G27: 20 | H27: 0 | I27: 0 | J27: 0 | L27: 1 | M27: 0 | N27: 1 | P27: 0 | Q27: 0 | R27: 0 | U27: 21 | V27: 9 | W27: 12 | X27: 20 | Y27: 13 | Z27: 7
A28: 衛生福利部 Inst. of MOHW | B28: 合計 Total | C28: 計Total | E28: 426 | F28: 207 | G28: 219 | H28: 0 | I28: 0 | J28: 0 | K28: 0 | L28: 0 | M28: 0 | N28: 0 | O28: 0 | P28: 0 | Q28: 0 | R28: 0 | S28: 9 | T28: 747 | U28: 426 | V28: 207 | W28: 219 | X28: 0 | Y28: 0 | Z28: 0
C29: 小計 Total | D29: 一般General | E29: 382 | F29: 185 | G29: 197 | H29: 0 | I29: 0 | J29: 0 | L29: 0 | M29: 0 | N29: 0 | P29: 0 | Q29: 0 | R29: 0 | U29: 382 | V29: 185 | W29: 197 | X29: 0 | Y29: 0 | Z29: 0
D30: 原住民Indigenous | E30: 44 | F30: 22 | G30: 22 | H30: 0 | I30: 0 | J30: 0 | L30: 0 | M30: 0 | N30: 0 | P30: 0 | Q30: 0 | R30: 0 | U30: 44 | V30: 22 | W30: 22 | X30: 0 | Y30: 0 | Z30: 0
C31: 一般 General | D31: 一般General | E31: 305 | F31: 139 | G31: 166 | H31: 0 | I31: 0 | J31: 0 | L31: 0 | M31: 0 | N31: 0 | P31: 0 | Q31: 0 | R31: 0 | U31: 305 | V31: 139 | W31: 166 | X31: 0 | Y31: 0 | Z31: 0
D32: 原住民Indigenous | E32: 40 | F32: 18 | G32: 22 | H32: 0 | I32: 0 | J32: 0 | L32: 0 | M32: 0 | N32: 0 | P32: 0 | Q32: 0 | R32: 0 | U32: 40 | V32: 18 | W32: 22 | X32: 0 | Y32: 0 | Z32: 0
C33: 身心障礙 Disability | D33: 一般General | E33: 77 | F33: 46 | G33: 31 | H33: 0 | I33: 0 | J33: 0 | L33: 0 | M33: 0 | N33: 0 | P33: 0 | Q33: 0 | R33: 0 | U33: 77 | V33: 46 | W33: 31 | X33: 0 | Y33: 0 | Z33: 0
D34: 原住民Indigenous | E34: 4 | F34: 4 | G34: 0 | H34: 0 | I34: 0 | J34: 0 | L34: 0 | M34: 0 | N34: 0 | P34: 0 | Q34: 0 | R34: 0 | U34: 4 | V34: 4 | W34: 0 | X34: 0 | Y34: 0 | Z34: 0
B35: 本轄安置 Local Resettlement | C35: 計Total | E35: 218 | F35: 106 | G35: 112 | H35: 0 | I35: 0 | J35: 0 | L35: 0 | M35: 0 | N35: 0 | P35: 0 | Q35: 0 | R35: 0 | U35: 218 | V35: 106 | W35: 112 | X35: 0 | Y35: 0 | Z35: 0
C36: 小計 Total | D36: 一般General | E36: 193 | F36: 93 | G36: 100 | H36: 0 | I36: 0 | J36: 0 | L36: 0 | M36: 0 | N36: 0 | P36: 0 | Q36: 0 | R36: 0 | U36: 193 | V36: 93 | W36: 100 | X36: 0 | Y36: 0 | Z36: 0
D37: 原住民Indigenous | E37: 25 | F37: 13 | G37: 12 | H37: 0 | I37: 0 | J37: 0 | L37: 0 | M37: 0 | N37: 0 | P37: 0 | Q37: 0 | R37: 0 | U37: 25 | V37: 13 | W37: 12 | X37: 0 | Y37: 0 | Z37: 0
C38: 一般 General | D38: 一般General | E38: 158 | F38: 74 | G38: 84 | H38: 0 | I38: 0 | J38: 0 | L38: 0 | M38: 0 | N38: 0 | P38: 0 | Q38: 0 | R38: 0 | U38: 158 | V38: 74 | W38: 84 | X38: 0 | Y38: 0 | Z38: 0
D39: 原住民Indigenous | E39: 22 | F39: 10 | G39: 12 | H39: 0 | I39: 0 | J39: 0 | L39: 0 | M39: 0 | N39: 0 | P39: 0 | Q39: 0 | R39: 0 | U39: 22 | V39: 10 | W39: 12 | X39: 0 | Y39: 0 | Z39: 0
C40: 身心障礙 Disability | D40: 一般General | E40: 35 | F40: 19 | G40: 16 | H40: 0 | I40: 0 | J40: 0 | L40: 0 | M40: 0 | N40: 0 | P40: 0 | Q40: 0 | R40: 0 | U40: 35 | V40: 19 | W40: 16 | X40: 0 | Y40: 0 | Z40: 0
D41: 原住民Indigenous | E41: 3 | F41: 3 | G41: 0 | H41: 0 | I41: 0 | J41: 0 | L41: 0 | M41: 0 | N41: 0 | P41: 0 | Q41: 0 | R41: 0 | U41: 3 | V41: 3 | W41: 0 | X41: 0 | Y41: 0 | Z41: 0
B42: 外轄安置External Resettlement | C42: 計Total | E42: 208 | F42: 101 | G42: 107 | H42: 0 | I42: 0 | J42: 0 | L42: 0 | M42: 0 | N42: 0 | P42: 0 | Q42: 0 | R42: 0 | U42: 208 | V42: 101 | W42: 107 | X42: 0 | Y42: 0 | Z42: 0
C43: 小計 Total | D43: 一般General | E43: 189 | F43: 92 | G43: 97 | H43: 0 | I43: 0 | J43: 0 | L43: 0 | M43: 0 | N43: 0 | P43: 0 | Q43: 0 | R43: 0 | U43: 189 | V43: 92 | W43: 97 | X43: 0 | Y43: 0 | Z43: 0
D44: 原住民Indigenous | E44: 19 | F44: 9 | G44: 10 | H44: 0 | I44: 0 | J44: 0 | L44: 0 | M44: 0 | N44: 0 | P44: 0 | Q44: 0 | R44: 0 | U44: 19 | V44: 9 | W44: 10 | X44: 0 | Y44: 0 | Z44: 0
C45: 一般 General | D45: 一般General | E45: 147 | F45: 65 | G45: 82 | H45: 0 | I45: 0 | J45: 0 | L45: 0 | M45: 0 | N45: 0 | P45: 0 | Q45: 0 | R45: 0 | U45: 147 | V45: 65 | W45: 82 | X45: 0 | Y45: 0 | Z45: 0
D46: 原住民Indigenous | E46: 18 | F46: 8 | G46: 10 | H46: 0 | I46: 0 | J46: 0 | L46: 0 | M46: 0 | N46: 0 | P46: 0 | Q46: 0 | R46: 0 | U46: 18 | V46: 8 | W46: 10 | X46: 0 | Y46: 0 | Z46: 0
C47: 身心障礙 Disability | D47: 一般General | E47: 42 | F47: 27 | G47: 15 | H47: 0 | I47: 0 | J47: 0 | L47: 0 | M47: 0 | N47: 0 | P47: 0 | Q47: 0 | R47: 0 | U47: 42 | V47: 27 | W47: 15 | X47: 0 | Y47: 0 | Z47: 0
D48: 原住民Indigenous | E48: 1 | F48: 1 | G48: 0 | H48: 0 | I48: 0 | J48: 0 | L48: 0 | M48: 0 | N48: 0 | P48: 0 | Q48: 0 | R48: 0 | U48: 1 | V48: 1 | W48: 0 | X48: 0 | Y48: 0 | Z48: 0
A49: 新北市 New Taipei City | B49: 合計 Total | C49: 計Total | E49: 522 | F49: 272 | G49: 250 | H49: 66 | I49: 31 | J49: 35 | K49: 153 | L49: 202 | M49: 98 | N49: 104 | O49: 30 | P49: 69 | Q49: 37 | R49: 32 | S49: 8 | T49: 217 | U49: 110 | V49: 60 | W49: 50 | X49: 75 | Y49: 46 | Z49: 29
C50: 小計 Total | D50: 一般General | E50: 480 | F50: 251 | G50: 229 | H50: 59 | I50: 28 | J50: 31 | L50: 181 | M50: 90 | N50: 91 | P50: 67 | Q50: 35 | R50: 32 | U50: 104 | V50: 56 | W50: 48 | X50: 69 | Y50: 42 | Z50: 27
D51: 原住民Indigenous | E51: 42 | F51: 21 | G51: 21 | H51: 7 | I51: 3 | J51: 4 | L51: 21 | M51: 8 | N51: 13 | P51: 2 | Q51: 2 | R51: 0 | U51: 6 | V51: 4 | W51: 2 | X51: 6 | Y51: 4 | Z51: 2
C52: 一般 General | D52: 一般General | E52: 358 | F52: 183 | G52: 175 | H52: 54 | I52: 26 | J52: 28 | L52: 142 | M52: 71 | N52: 71 | P52: 47 | Q52: 25 | R52: 22 | U52: 85 | V52: 45 | W52: 40 | X52: 30 | Y52: 16 | Z52: 14
D53: 原住民Indigenous | E53: 34 | F53: 15 | G53: 19 | H53: 6 | I53: 2 | J53: 4 | L53: 19 | M53: 7 | N53: 12 | P53: 1 | Q53: 1 | R53: 0 | U53: 6 | V53: 4 | W53: 2 | X53: 2 | Y53: 1 | Z53: 1
C54: 身心障礙 Disability | D54: 一般General | E54: 122 | F54: 68 | G54: 54 | H54: 5 | I54: 2 | J54: 3 | L54: 39 | M54: 19 | N54: 20 | P54: 20 | Q54: 10 | R54: 10 | U54: 19 | V54: 11 | W54: 8 | X54: 39 | Y54: 26 | Z54: 13
D55: 原住民Indigenous | E55: 8 | F55: 6 | G55: 2 | H55: 1 | I55: 1 | J55: 0 | L55: 2 | M55: 1 | N55: 1 | P55: 1 | Q55: 1 | R55: 0 | U55: 0 | V55: 0 | W55: 0 | X55: 4 | Y55: 3 | Z55: 1
B56: 本轄安置 Local Resettlement | C56: 計Total | E56: 464 | F56: 236 | G56: 228 | H56: 47 | I56: 21 | J56: 26 | L56: 199 | M56: 97 | N56: 102 | P56: 69 | Q56: 37 | R56: 32 | U56: 97 | V56: 51 | W56: 46 | X56: 52 | Y56: 30 | Z56: 22
C57: 小計 Total | D57: 一般General | E57: 430 | F57: 219 | G57: 211 | H57: 42 | I57: 19 | J57: 23 | L57: 179 | M57: 89 | N57: 90 | P57: 67 | Q57: 35 | R57: 32 | U57: 94 | V57: 49 | W57: 45 | X57: 48 | Y57: 27 | Z57: 21
D58: 原住民Indigenous | E58: 34 | F58: 17 | G58: 17 | H58: 5 | I58: 2 | J58: 3 | L58: 20 | M58: 8 | N58: 12 | P58: 2 | Q58: 2 | R58: 0 | U58: 3 | V58: 2 | W58: 1 | X58: 4 | Y58: 3 | Z58: 1
C59: 一般 General | D59: 一般General | E59: 324 | F59: 161 | G59: 163 | H59: 38 | I59: 17 | J59: 21 | L59: 140 | M59: 70 | N59: 70 | P59: 47 | Q59: 25 | R59: 22 | U59: 77 | V59: 40 | W59: 37 | X59: 22 | Y59: 9 | Z59: 13
D60: 原住民Indigenous | E60: 27 | F60: 12 | G60: 15 | H60: 4 | I60: 1 | J60: 3 | L60: 18 | M60: 7 | N60: 11 | P60: 1 | Q60: 1 | R60: 0 | U60: 3 | V60: 2 | W60: 1 | X60: 1 | Y60: 1 | Z60: 0
C61: 身心障礙 Disability | D61: 一般General | E61: 106 | F61: 58 | G61: 48 | H61: 4 | I61: 2 | J61: 2 | L61: 39 | M61: 19 | N61: 20 | P61: 20 | Q61: 10 | R61: 10 | U61: 17 | V61: 9 | W61: 8 | X61: 26 | Y61: 18 | Z61: 8
D62: 原住民Indigenous | E62: 7 | F62: 5 | G62: 2 | H62: 1 | I62: 1 | J62: 0 | L62: 2 | M62: 1 | N62: 1 | P62: 1 | Q62: 1 | R62: 0 | U62: 0 | V62: 0 | W62: 0 | X62: 3 | Y62: 2 | Z62: 1
B63: 外轄安置External Resettlement | C63: 計Total | E63: 58 | F63: 36 | G63: 22 | H63: 19 | I63: 10 | J63: 9 | L63: 3 | M63: 1 | N63: 2 | P63: 0 | Q63: 0 | R63: 0 | U63: 13 | V63: 9 | W63: 4 | X63: 23 | Y63: 16 | Z63: 7
C64: 小計 Total | D64: 一般General | E64: 50 | F64: 32 | G64: 18 | H64: 17 | I64: 9 | J64: 8 | L64: 2 | M64: 1 | N64: 1 | P64: 0 | Q64: 0 | R64: 0 | U64: 10 | V64: 7 | W64: 3 | X64: 21 | Y64: 15 | Z64: 6
D65: 原住民Indigenous | E65: 8 | F65: 4 | G65: 4 | H65: 2 | I65: 1 | J65: 1 | L65: 1 | M65: 0 | N65: 1 | P65: 0 | Q65: 0 | R65: 0 | U65: 3 | V65: 2 | W65: 1 | X65: 2 | Y65: 1 | Z65: 1
C66: 一般 General | D66: 一般General | E66: 34 | F66: 22 | G66: 12 | H66: 16 | I66: 9 | J66: 7 | L66: 2 | M66: 1 | N66: 1 | P66: 0 | Q66: 0 | R66: 0 | U66: 8 | V66: 5 | W66: 3 | X66: 8 | Y66: 7 | Z66: 1
D67: 原住民Indigenous | E67: 7 | F67: 3 | G67: 4 | H67: 2 | I67: 1 | J67: 1 | L67: 1 | M67: 0 | N67: 1 | P67: 0 | Q67: 0 | R67: 0 | U67: 3 | V67: 2 | W67: 1 | X67: 1 | Y67: 0 | Z67: 1
C68: 身心障礙 Disability | D68: 一般General | E68: 16 | F68: 10 | G68: 6 | H68: 1 | I68: 0 | J68: 1 | L68: 0 | M68: 0 | N68: 0 | P68: 0 | Q68: 0 | R68: 0 | U68: 2 | V68: 2 | W68: 0 | X68: 13 | Y68: 8 | Z68: 5
D69: 原住民Indigenous | E69: 1 | F69: 1 | G69: 0 | H69: 0 | I69: 0 | J69: 0 | L69: 0 | M69: 0 | N69: 0 | P69: 0 | Q69: 0 | R69: 0 | U69: 0 | V69: 0 | W69: 0 | X69: 1 | Y69: 1 | Z69: 0
A70: 臺北市 Taipei City | B70: 合計 Total | C70: 計Total | E70: 344 | F70: 187 | G70: 157 | H70: 8 | I70: 4 | J70: 4 | K70: 71 | L70: 92 | M70: 47 | N70: 45 | O70: 14 | P70: 36 | Q70: 21 | R70: 15 | S70: 14 | T70: 333 | U70: 206 | V70: 115 | W70: 91 | X70: 2 | Y70: 0 | Z70: 2
C71: 小計 Total | D71: 一般General | E71: 321 | F71: 175 | G71: 146 | H71: 6 | I71: 3 | J71: 3 | L71: 85 | M71: 45 | N71: 40 | P71: 35 | Q71: 20 | R71: 15 | U71: 193 | V71: 107 | W71: 86 | X71: 2 | Y71: 0 | Z71: 2
D72: 原住民Indigenous | E72: 23 | F72: 12 | G72: 11 | H72: 2 | I72: 1 | J72: 1 | L72: 7 | M72: 2 | N72: 5 | P72: 1 | Q72: 1 | R72: 0 | U72: 13 | V72: 8 | W72: 5 | X72: 0 | Y72: 0 | Z72: 0
C73: 一般 General | D73: 一般General | E73: 271 | F73: 143 | G73: 128 | H73: 5 | I73: 2 | J73: 3 | L73: 77 | M73: 39 | N73: 38 | P73: 20 | Q73: 10 | R73: 10 | U73: 169 | V73: 92 | W73: 77 | X73: 0 | Y73: 0 | Z73: 0
D74: 原住民Indigenous | E74: 21 | F74: 11 | G74: 10 | H74: 1 | I74: 1 | J74: 0 | L74: 7 | M74: 2 | N74: 5 | P74: 1 | Q74: 1 | R74: 0 | U74: 12 | V74: 7 | W74: 5 | X74: 0 | Y74: 0 | Z74: 0
C75: 身心障礙 Disability | D75: 一般General | E75: 50 | F75: 32 | G75: 18 | H75: 1 | I75: 1 | J75: 0 | L75: 8 | M75: 6 | N75: 2 | P75: 15 | Q75: 10 | R75: 5 | U75: 24 | V75: 15 | W75: 9 | X75: 2 | Y75: 0 | Z75: 2
D76: 原住民Indigenous | E76: 2 | F76: 1 | G76: 1 | H76: 1 | I76: 0 | J76: 1 | L76: 0 | M76: 0 | N76: 0 | P76: 0 | Q76: 0 | R76: 0 | U76: 1 | V76: 1 | W76: 0 | X76: 0 | Y76: 0 | Z76: 0
B77: 本轄安置 Local Resettlement | C77: 計Total | E77: 212 | F77: 108 | G77: 104 | H77: 7 | I77: 3 | J77: 4 | L77: 90 | M77: 45 | N77: 45 | P77: 36 | Q77: 21 | R77: 15 | U77: 77 | V77: 39 | W77: 38 | X77: 2 | Y77: 0 | Z77: 2
C78: 小計 Total | D78: 一般General | E78: 199 | F78: 103 | G78: 96 | H78: 5 | I78: 2 | J78: 3 | L78: 83 | M78: 43 | N78: 40 | P78: 35 | Q78: 20 | R78: 15 | U78: 74 | V78: 38 | W78: 36 | X78: 2 | Y78: 0 | Z78: 2
D79: 原住民Indigenous | E79: 13 | F79: 5 | G79: 8 | H79: 2 | I79: 1 | J79: 1 | L79: 7 | M79: 2 | N79: 5 | P79: 1 | Q79: 1 | R79: 0 | U79: 3 | V79: 1 | W79: 2 | X79: 0 | Y79: 0 | Z79: 0
C80: 一般 General | D80: 一般General | E80: 165 | F80: 81 | G80: 84 | H80: 5 | I80: 2 | J80: 3 | L80: 75 | M80: 37 | N80: 38 | P80: 20 | Q80: 10 | R80: 10 | U80: 65 | V80: 32 | W80: 33 | X80: 0 | Y80: 0 | Z80: 0
D81: 原住民Indigenous | E81: 12 | F81: 5 | G81: 7 | H81: 1 | I81: 1 | J81: 0 | L81: 7 | M81: 2 | N81: 5 | P81: 1 | Q81: 1 | R81: 0 | U81: 3 | V81: 1 | W81: 2 | X81: 0 | Y81: 0 | Z81: 0
C82: 身心障礙 Disability | D82: 一般General | E82: 34 | F82: 22 | G82: 12 | H82: 0 | I82: 0 | J82: 0 | L82: 8 | M82: 6 | N82: 2 | P82: 15 | Q82: 10 | R82: 5 | U82: 9 | V82: 6 | W82: 3 | X82: 2 | Y82: 0 | Z82: 2
D83: 原住民Indigenous | E83: 1 | F83: 0 | G83: 1 | H83: 1 | I83: 0 | J83: 1 | L83: 0 | M83: 0 | N83: 0 | P83: 0 | Q83: 0 | R83: 0 | U83: 0 | V83: 0 | W83: 0 | X83: 0 | Y83: 0 | Z83: 0
B84: 外轄安置External Resettlement | C84: 計Total | E84: 132 | F84: 79 | G84: 53 | H84: 1 | I84: 1 | J84: 0 | L84: 2 | M84: 2 | N84: 0 | P84: 0 | Q84: 0 | R84: 0 | U84: 129 | V84: 76 | W84: 53 | X84: 0 | Y84: 0 | Z84: 0
C85: 小計 Total | D85: 一般General | E85: 122 | F85: 72 | G85: 50 | H85: 1 | I85: 1 | J85: 0 | L85: 2 | M85: 2 | N85: 0 | P85: 0 | Q85: 0 | R85: 0 | U85: 119 | V85: 69 | W85: 50 | X85: 0 | Y85: 0 | Z85: 0
D86: 原住民Indigenous | E86: 10 | F86: 7 | G86: 3 | H86: 0 | I86: 0 | J86: 0 | L86: 0 | M86: 0 | N86: 0 | P86: 0 | Q86: 0 | R86: 0 | U86: 10 | V86: 7 | W86: 3 | X86: 0 | Y86: 0 | Z86: 0
C87: 一般 General | D87: 一般General | E87: 106 | F87: 62 | G87: 44 | H87: 0 | I87: 0 | J87: 0 | L87: 2 | M87: 2 | N87: 0 | P87: 0 | Q87: 0 | R87: 0 | U87: 104 | V87: 60 | W87: 44 | X87: 0 | Y87: 0 | Z87: 0
D88: 原住民Indigenous | E88: 9 | F88: 6 | G88: 3 | H88: 0 | I88: 0 | J88: 0 | L88: 0 | M88: 0 | N88: 0 | P88: 0 | Q88: 0 | R88: 0 | U88: 9 | V88: 6 | W88: 3 | X88: 0 | Y88: 0 | Z88: 0
C89: 身心障礙 Disability | D89: 一般General | E89: 16 | F89: 10 | G89: 6 | H89: 1 | I89: 1 | J89: 0 | L89: 0 | M89: 0 | N89: 0 | P89: 0 | Q89: 0 | R89: 0 | U89: 15 | V89: 9 | W89: 6 | X89: 0 | Y89: 0 | Z89: 0
D90: 原住民Indigenous | E90: 1 | F90: 1 | G90: 0 | H90: 0 | I90: 0 | J90: 0 | L90: 0 | M90: 0 | N90: 0 | P90: 0 | Q90: 0 | R90: 0 | U90: 1 | V90: 1 | W90: 0 | X90: 0 | Y90: 0 | Z90: 0
A91: 桃園市 Taoyuan City | B91: 合計 Total | C91: 計Total | E91: 349 | F91: 201 | G91: 148 | H91: 24 | I91: 8 | J91: 16 | K91: 100 | L91: 103 | M91: 56 | N91: 47 | O91: 6 | P91: 21 | Q91: 16 | R91: 5 | S91: 7 | T91: 201 | U91: 143 | V91: 83 | W91: 60 | X91: 58 | Y91: 38 | Z91: 20
C92: 小計 Total | D92: 一般General | E92: 294 | F92: 169 | G92: 125 | H92: 20 | I92: 7 | J92: 13 | L92: 90 | M92: 49 | N92: 41 | P92: 19 | Q92: 14 | R92: 5 | U92: 121 | V92: 70 | W92: 51 | X92: 44 | Y92: 29 | Z92: 15
D93: 原住民Indigenous | E93: 55 | F93: 32 | G93: 23 | H93: 4 | I93: 1 | J93: 3 | L93: 13 | M93: 7 | N93: 6 | P93: 2 | Q93: 2 | R93: 0 | U93: 22 | V93: 13 | W93: 9 | X93: 14 | Y93: 9 | Z93: 5
C94: 一般 General | D94: 一般General | E94: 234 | F94: 126 | G94: 108 | H94: 18 | I94: 5 | J94: 13 | L94: 79 | M94: 43 | N94: 36 | P94: 9 | Q94: 6 | R94: 3 | U94: 99 | V94: 54 | W94: 45 | X94: 29 | Y94: 18 | Z94: 11
D95: 原住民Indigenous | E95: 43 | F95: 23 | G95: 20 | H95: 4 | I95: 1 | J95: 3 | L95: 12 | M95: 6 | N95: 6 | P95: 1 | Q95: 1 | R95: 0 | U95: 20 | V95: 12 | W95: 8 | X95: 6 | Y95: 3 | Z95: 3
C96: 身心障礙 Disability | D96: 一般General | E96: 60 | F96: 43 | G96: 17 | H96: 2 | I96: 2 | J96: 0 | L96: 11 | M96: 6 | N96: 5 | P96: 10 | Q96: 8 | R96: 2 | U96: 22 | V96: 16 | W96: 6 | X96: 15 | Y96: 11 | Z96: 4
D97: 原住民Indigenous | E97: 12 | F97: 9 | G97: 3 | H97: 0 | I97: 0 | J97: 0 | L97: 1 | M97: 1 | N97: 0 | P97: 1 | Q97: 1 | R97: 0 | U97: 2 | V97: 1 | W97: 1 | X97: 8 | Y97: 6 | Z97: 2
B98: 本轄安置 Local Resettlement | C98: 計Total | E98: 297 | F98: 170 | G98: 127 | H98: 21 | I98: 6 | J98: 15 | L98: 102 | M98: 55 | N98: 47 | P98: 21 | Q98: 16 | R98: 5 | U98: 112 | V98: 67 | W98: 45 | X98: 41 | Y98: 26 | Z98: 15
C99: 小計 Total | D99: 一般General | E99: 255 | F99: 148 | G99: 107 | H99: 18 | I99: 6 | J99: 12 | L99: 89 | M99: 48 | N99: 41 | P99: 19 | Q99: 14 | R99: 5 | U99: 95 | V99: 58 | W99: 37 | X99: 34 | Y99: 22 | Z99: 12
D100: 原住民Indigenous | E100: 42 | F100: 22 | G100: 20 | H100: 3 | I100: 0 | J100: 3 | L100: 13 | M100: 7 | N100: 6 | P100: 2 | Q100: 2 | R100: 0 | U100: 17 | V100: 9 | W100: 8 | X100: 7 | Y100: 4 | Z100: 3
...

Sheet End of Dec., 2025
A1: 兒童及少年家外安置概況Placement of Child and Youth Outside the Home
A2: 114年12月底 End of Dec., 2025
A3: 單位：人、戶、家、所、床 | E3: =IF(E7=SUM(E28,E49,E70,E91,E112,E133,E154,E175,E196,E217,E238,E259,E280,E301,E322,E343,E364,E385,E406,E427,E448,E469,E490),"",SUM(E28,E49,E70,E91,E112,E133,E154,E175,E196,E217,E238,E259,E280,E301,E322,E343,E364,E385,E406,E427,E448,E469,E490)) | F3: =IF(F7=SUM(F28,F49,F70,F91,F112,F133,F154,F175,F196,F217,F238,F259,F280,F301,F322,F343,F364,F385,F406,F427,F448,F469,F490),"",SUM(F28,F49,F70,F91,F112,F133,F154,F175,F196,F217,F238,F259,F280,F301,F322,F343,F364,F385,F406,F427,F448,F469,F490)) | G3: =IF(G7=SUM(G28,G49,G70,G91,G112,G133,G154,G175,G196,G217,G238,G259,G280,G301,G322,G343,G364,G385,G406,G427,G448,G469,G490),"",SUM(G28,G49,G70,G91,G112,G133,G154,G175,G196,G217,G238,G259,G280,G301,G322,G343,G364,G385,G406,G427,G448,G469,G490)) | H3: =IF(H7=SUM(H28,H49,H70,H91,H112,H133,H154,H175,H196,H217,H238,H259,H280,H301,H322,H343,H364,H385,H406,H427,H448,H469,H490),"",SUM(H28,H49,H70,H91,H112,H133,H154,H175,H196,H217,H238,H259,H280,H301,H322,H343,H364,H385,H406,H427,H448,H469,H490)) | I3: =IF(I7=SUM(I28,I49,I70,I91,I112,I133,I154,I175,I196,I217,I238,I259,I280,I301,I322,I343,I364,I385,I406,I427,I448,I469,I490),"",SUM(I28,I49,I70,I91,I112,I133,I154,I175,I196,I217,I238,I259,I280,I301,I322,I343,I364,I385,I406,I427,I448,I469,I490)) | J3: =IF(J7=SUM(J28,J49,J70,J91,J112,J133,J154,J175,J196,J217,J238,J259,J280,J301,J322,J343,J364,J385,J406,J427,J448,J469,J490),"",SUM(J28,J49,J70,J91,J112,J133,J154,J175,J196,J217,J238,J259,J280,J301,J322,J343,J364,J385,J406,J427,J448,J469,J490)) | K3: =IF(K7=SUM(K28,K49,K70,K91,K112,K133,K154,K175,K196,K217,K238,K259,K280,K301,K322,K343,K364,K385,K406,K427,K448,K469,K490),"",SUM(K28,K49,K70,K91,K112,K133,K154,K175,K196,K217,K238,K259,K280,K301,K322,K343,K364,K385,K406,K427,K448,K469,K490)) | L3: =IF(L7=SUM(L28,L49,L70,L91,L112,L133,L154,L175,L196,L217,L238,L259,L280,L301,L322,L343,L364,L385,L406,L427,L448,L469,L490),"",SUM(L28,L49,L70,L91,L112,L133,L154,L175,L196,L217,L238,L259,L280,L301,L322,L343,L364,L385,L406,L427,L448,L469,L490)) | ... Z3: =IF(Z7=SUM(Z28,Z49,Z70,Z91,Z112,Z133,Z154,Z175,Z196,Z217,Z238,Z259,Z280,Z301,Z322,Z343,Z364,Z385,Z406,Z427,Z448,Z469,Z490),"",SUM(Z28,Z49,Z70,Z91,Z112,Z133,Z154,Z175,Z196,Z217,Z238,Z259,Z280,Z301,Z322,Z343,Z364,Z385,Z406,Z427,Z448,Z469,Z490))
A4: 區域及特殊族群別 Locality & Ethnos | E4: 總計Total | H4: 親屬安置Relative Placement | K4: 寄養家庭Fostering Families | O4: 團體家庭Group Family | S4: 安置及教養機構Residential Institutions | X4: 其他Others
E5: 本期底安置人數（人） No. of Resettlers at the End of the Period | H5: 本期底安置人數（人） No. of Resettlers at the End of the Period | K5: 寄養家庭數 (戶) No. of Households | L5: 本期底安置人數（人） No. of Resettlers at the End of the Period | O5: 團體家庭數(家) No. of Group Households | P5: 本期底安置人數（人） No. of Resettlers at the End of the Period | S5: 所數 No. of Institutions | T5: 床位數 No. of Providing | U5: 本期底安置人數（人） No. of Resettlers at the End of the Period | X5: 本期底安置人數（人） No. of Resettlers at the End of the Period
E6: 計Total | F6: 男Male | G6: 女Female | H6: 計Total | I6: 男Male | J6: 女Female | L6: 計Total | M6: 男Male | N6: 女Female | P6: 計Total | Q6: 男Male | R6: 女Female | U6: 計Total | V6: 男Male | W6: 女Female | X6: 計Total | Y6: 男Male | Z6: 女Female
A7: 總計 Total | B7: 合計 Total | C7: 計Total | E7: 4639 | F7: 2438 | G7: 2201 | H7: 410 | I7: 204 | J7: 206 | K7: 1343 | L7: 1622 | M7: 832 | N7: 790 | O7: 83 | P7: 218 | Q7: 135 | R7: 83 | S7: 102 | T7: 3662 | U7: 1952 | V7: 1006 | W7: 946 | X7: 437 | Y7: 261 | Z7: 176
C8: 小計 Total | D8: 一般General | E8: 3951 | F8: 2076 | G8: 1875 | H8: 322 | I8: 160 | J8: 162 | L8: 1407 | M8: 714 | N8: 693 | P8: 199 | Q8: 123 | R8: 76 | U8: 1662 | V8: 860 | W8: 802 | X8: 361 | Y8: 219 | Z8: 142
D9: 原住民Indigenous | E9: 688 | F9: 362 | G9: 326 | H9: 88 | I9: 44 | J9: 44 | L9: 215 | M9: 118 | N9: 97 | P9: 19 | Q9: 12 | R9: 7 | U9: 290 | V9: 146 | W9: 144 | X9: 76 | Y9: 42 | Z9: 34
C10: 一般 General | D10: 一般General | E10: 3116 | F10: 1574 | G10: 1542 | H10: 271 | I10: 126 | J10: 145 | L10: 1161 | M10: 582 | N10: 579 | P10: 126 | Q10: 75 | R10: 51 | U10: 1357 | V10: 677 | W10: 680 | X10: 201 | Y10: 114 | Z10: 87
D11: 原住民Indigenous | E11: 540 | F11: 273 | G11: 267 | H11: 77 | I11: 38 | J11: 39 | L11: 176 | M11: 93 | N11: 83 | P11: 11 | Q11: 5 | R11: 6 | U11: 240 | V11: 120 | W11: 120 | X11: 36 | Y11: 17 | Z11: 19
C12: 身心障礙 Disability | D12: 一般General | E12: 835 | F12: 502 | G12: 333 | H12: 51 | I12: 34 | J12: 17 | L12: 246 | M12: 132 | N12: 114 | P12: 73 | Q12: 48 | R12: 25 | U12: 305 | V12: 183 | W12: 122 | X12: 160 | Y12: 105 | Z12: 55
D13: 原住民Indigenous | E13: 148 | F13: 89 | G13: 59 | H13: 11 | I13: 6 | J13: 5 | L13: 39 | M13: 25 | N13: 14 | P13: 8 | Q13: 7 | R13: 1 | U13: 50 | V13: 26 | W13: 24 | X13: 40 | Y13: 25 | Z13: 15
B14: 本轄安置 Local Resettlement | C14: 計Total | E14: 3603 | F14: 1895 | G14: 1708 | H14: 354 | I14: 181 | J14: 173 | L14: 1596 | M14: 823 | N14: 773 | P14: 218 | Q14: 135 | R14: 83 | U14: 1105 | V14: 562 | W14: 543 | X14: 330 | Y14: 194 | Z14: 136
C15: 小計 Total | D15: 一般General | E15: 3078 | F15: 1615 | G15: 1463 | H15: 276 | I15: 142 | J15: 134 | L15: 1384 | M15: 705 | N15: 679 | P15: 199 | Q15: 123 | R15: 76 | U15: 942 | V15: 480 | W15: 462 | X15: 277 | Y15: 165 | Z15: 112
D16: 原住民Indigenous | E16: 525 | F16: 280 | G16: 245 | H16: 78 | I16: 39 | J16: 39 | L16: 212 | M16: 118 | N16: 94 | P16: 19 | Q16: 12 | R16: 7 | U16: 163 | V16: 82 | W16: 81 | X16: 53 | Y16: 29 | Z16: 24
C17: 一般 General | D17: 一般General | E17: 2455 | F17: 1246 | G17: 1209 | H17: 229 | I17: 110 | J17: 119 | L17: 1143 | M17: 575 | N17: 568 | P17: 126 | Q17: 75 | R17: 51 | U17: 778 | V17: 387 | W17: 391 | X17: 179 | Y17: 99 | Z17: 80
D18: 原住民Indigenous | E18: 419 | F18: 213 | G18: 206 | H18: 67 | I18: 33 | J18: 34 | L18: 174 | M18: 93 | N18: 81 | P18: 11 | Q18: 5 | R18: 6 | U18: 134 | V18: 65 | W18: 69 | X18: 33 | Y18: 17 | Z18: 16
C19: 身心障礙 Disability | D19: 一般General | E19: 623 | F19: 369 | G19: 254 | H19: 47 | I19: 32 | J19: 15 | L19: 241 | M19: 130 | N19: 111 | P19: 73 | Q19: 48 | R19: 25 | U19: 164 | V19: 93 | W19: 71 | X19: 98 | Y19: 66 | Z19: 32
D20: 原住民Indigenous | E20: 106 | F20: 67 | G20: 39 | H20: 11 | I20: 6 | J20: 5 | L20: 38 | M20: 25 | N20: 13 | P20: 8 | Q20: 7 | R20: 1 | U20: 29 | V20: 17 | W20: 12 | X20: 20 | Y20: 12 | Z20: 8
B21: 外轄安置External Resettlement | C21: 計Total | E21: 1036 | F21: 543 | G21: 493 | H21: 56 | I21: 23 | J21: 33 | L21: 26 | M21: 9 | N21: 17 | P21: 0 | Q21: 0 | R21: 0 | U21: 847 | V21: 444 | W21: 403 | X21: 107 | Y21: 67 | Z21: 40
C22: 小計 Total | D22: 一般General | E22: 873 | F22: 461 | G22: 412 | H22: 46 | I22: 18 | J22: 28 | L22: 23 | M22: 9 | N22: 14 | P22: 0 | Q22: 0 | R22: 0 | U22: 720 | V22: 380 | W22: 340 | X22: 84 | Y22: 54 | Z22: 30
D23: 原住民Indigenous | E23: 163 | F23: 82 | G23: 81 | H23: 10 | I23: 5 | J23: 5 | L23: 3 | M23: 0 | N23: 3 | P23: 0 | Q23: 0 | R23: 0 | U23: 127 | V23: 64 | W23: 63 | X23: 23 | Y23: 13 | Z23: 10
C24: 一般 General | D24: 一般General | E24: 661 | F24: 328 | G24: 333 | H24: 42 | I24: 16 | J24: 26 | L24: 18 | M24: 7 | N24: 11 | P24: 0 | Q24: 0 | R24: 0 | U24: 579 | V24: 290 | W24: 289 | X24: 22 | Y24: 15 | Z24: 7
D25: 原住民Indigenous | E25: 121 | F25: 60 | G25: 61 | H25: 10 | I25: 5 | J25: 5 | L25: 2 | M25: 0 | N25: 2 | P25: 0 | Q25: 0 | R25: 0 | U25: 106 | V25: 55 | W25: 51 | X25: 3 | Y25: 0 | Z25: 3
C26: 身心障礙 Disability | D26: 一般General | E26: 212 | F26: 133 | G26: 79 | H26: 4 | I26: 2 | J26: 2 | L26: 5 | M26: 2 | N26: 3 | P26: 0 | Q26: 0 | R26: 0 | U26: 141 | V26: 90 | W26: 51 | X26: 62 | Y26: 39 | Z26: 23
D27: 原住民Indigenous | E27: 42 | F27: 22 | G27: 20 | H27: 0 | I27: 0 | J27: 0 | L27: 1 | M27: 0 | N27: 1 | P27: 0 | Q27: 0 | R27: 0 | U27: 21 | V27: 9 | W27: 12 | X27: 20 | Y27: 13 | Z27: 7
A28: 衛生福利部 Inst. of MOHW | B28: 合計 Total | C28: 計Total | E28: 426 | F28: 207 | G28: 219 | H28: 0 | I28: 0 | J28: 0 | K28: 0 | L28: 0 | M28: 0 | N28: 0 | O28: 0 | P28: 0 | Q28: 0 | R28: 0 | S28: 9 | T28: 747 | U28: 426 | V28: 207 | W28: 219 | X28: 0 | Y28: 0 | Z28: 0
C29: 小計 Total | D29: 一般General | E29: 382 | F29: 185 | G29: 197 | H29: 0 | I29: 0 | J29: 0 | L29: 0 | M29: 0 | N29: 0 | P29: 0 | Q29: 0 | R29: 0 | U29: 382 | V29: 185 | W29: 197 | X29: 0 | Y29: 0 | Z29: 0
D30: 原住民Indigenous | E30: 44 | F30: 22 | G30: 22 | H30: 0 | I30: 0 | J30: 0 | L30: 0 | M30: 0 | N30: 0 | P30: 0 | Q30: 0 | R30: 0 | U30: 44 | V30: 22 | W30: 22 | X30: 0 | Y30: 0 | Z30: 0
C31: 一般 General | D31: 一般General | E31: 305 | F31: 139 | G31: 166 | H31: 0 | I31: 0 | J31: 0 | L31: 0 | M31: 0 | N31: 0 | P31: 0 | Q31: 0 | R31: 0 | U31: 305 | V31: 139 | W31: 166 | X31: 0 | Y31: 0 | Z31: 0
D32: 原住民Indigenous | E32: 40 | F32: 18 | G32: 22 | H32: 0 | I32: 0 | J32: 0 | L32: 0 | M32: 0 | N32: 0 | P32: 0 | Q32: 0 | R32: 0 | U32: 40 | V32: 18 | W32: 22 | X32: 0 | Y32: 0 | Z32: 0
C33: 身心障礙 Disability | D33: 一般General | E33: 77 | F33: 46 | G33: 31 | H33: 0 | I33: 0 | J33: 0 | L33: 0 | M33: 0 | N33: 0 | P33: 0 | Q33: 0 | R33: 0 | U33: 77 | V33: 46 | W33: 31 | X33: 0 | Y33: 0 | Z33: 0
D34: 原住民Indigenous | E34: 4 | F34: 4 | G34: 0 | H34: 0 | I34: 0 | J34: 0 | L34: 0 | M34: 0 | N34: 0 | P34: 0 | Q34: 0 | R34: 0 | U34: 4 | V34: 4 | W34: 0 | X34: 0 | Y34: 0 | Z34: 0
B35: 本轄安置 Local Resettlement | C35: 計Total | E35: 218 | F35: 106 | G35: 112 | H35: 0 | I35: 0 | J35: 0 | L35: 0 | M35: 0 | N35: 0 | P35: 0 | Q35: 0 | R35: 0 | U35: 218 | V35: 106 | W35: 112 | X35: 0 | Y35: 0 | Z35: 0
C36: 小計 Total | D36: 一般General | E36: 193 | F36: 93 | G36: 100 | H36: 0 | I36: 0 | J36: 0 | L36: 0 | M36: 0 | N36: 0 | P36: 0 | Q36: 0 | R36: 0 | U36: 193 | V36: 93 | W36: 100 | X36: 0 | Y36: 0 | Z36: 0
D37: 原住民Indigenous | E37: 25 | F37: 13 | G37: 12 | H37: 0 | I37: 0 | J37: 0 | L37: 0 | M37: 0 | N37: 0 | P37: 0 | Q37: 0 | R37: 0 | U37: 25 | V37: 13 | W37: 12 | X37: 0 | Y37: 0 | Z37: 0
C38: 一般 General | D38: 一般General | E38: 158 | F38: 74 | G38: 84 | H38: 0 | I38: 0 | J38: 0 | L38: 0 | M38: 0 | N38: 0 | P38: 0 | Q38: 0 | R38: 0 | U38: 158 | V38: 74 | W38: 84 | X38: 0 | Y38: 0 | Z38: 0
D39: 原住民Indigenous | E39: 22 | F39: 10 | G39: 12 | H39: 0 | I39: 0 | J39: 0 | L39: 0 | M39: 0 | N39: 0 | P39: 0 | Q39: 0 | R39: 0 | U39: 22 | V39: 10 | W39: 12 | X39: 0 | Y39: 0 | Z39: 0
C40: 身心障礙 Disability | D40: 一般General | E40: 35 | F40: 19 | G40: 16 | H40: 0 | I40: 0 | J40: 0 | L40: 0 | M40: 0 | N40: 0 | P40: 0 | Q40: 0 | R40: 0 | U40: 35 | V40: 19 | W40: 16 | X40: 0 | Y40: 0 | Z40: 0
D41: 原住民Indigenous | E41: 3 | F41: 3 | G41: 0 | H41: 0 | I41: 0 | J41: 0 | L41: 0 | M41: 0 | N41: 0 | P41: 0 | Q41: 0 | R41: 0 | U41: 3 | V41: 3 | W41: 0 | X41: 0 | Y41: 0 | Z41: 0
B42: 外轄安置External Resettlement | C42: 計Total | E42: 208 | F42: 101 | G42: 107 | H42: 0 | I42: 0 | J42: 0 | L42: 0 | M42: 0 | N42: 0 | P42: 0 | Q42: 0 | R42: 0 | U42: 208 | V42: 101 | W42: 107 | X42: 0 | Y42: 0 | Z42: 0
C43: 小計 Total | D43: 一般General | E43: 189 | F43: 92 | G43: 97 | H43: 0 | I43: 0 | J43: 0 | L43: 0 | M43: 0 | N43: 0 | P43: 0 | Q43: 0 | R43: 0 | U43: 189 | V43: 92 | W43: 97 | X43: 0 | Y43: 0 | Z43: 0
D44: 原住民Indigenous | E44: 19 | F44: 9 | G44: 10 | H44: 0 | I44: 0 | J44: 0 | L44: 0 | M44: 0 | N44: 0 | P44: 0 | Q44: 0 | R44: 0 | U44: 19 | V44: 9 | W44: 10 | X44: 0 | Y44: 0 | Z44: 0
C45: 一般 General | D45: 一般General | E45: 147 | F45: 65 | G45: 82 | H45: 0 | I45: 0 | J45: 0 | L45: 0 | M45: 0 | N45: 0 | P45: 0 | Q45: 0 | R45: 0 | U45: 147 | V45: 65 | W45: 82 | X45: 0 | Y45: 0 | Z45: 0
D46: 原住民Indigenous | E46: 18 | F46: 8 | G46: 10 | H46: 0 | I46: 0 | J46: 0 | L46: 0 | M46: 0 | N46: 0 | P46: 0 | Q46: 0 | R46: 0 | U46: 18 | V46: 8 | W46: 10 | X46: 0 | Y46: 0 | Z46: 0
C47: 身心障礙 Disability | D47: 一般General | E47: 42 | F47: 27 | G47: 15 | H47: 0 | I47: 0 | J47: 0 | L47: 0 | M47: 0 | N47: 0 | P47: 0 | Q47: 0 | R47: 0 | U47: 42 | V47: 27 | W47: 15 | X47: 0 | Y47: 0 | Z47: 0
D48: 原住民Indigenous | E48: 1 | F48: 1 | G48: 0 | H48: 0 | I48: 0 | J48: 0 | L48: 0 | M48: 0 | N48: 0 | P48: 0 | Q48: 0 | R48: 0 | U48: 1 | V48: 1 | W48: 0 | X48: 0 | Y48: 0 | Z48: 0
A49: 新北市 New Taipei City | B49: 合計 Total | C49: 計Total | E49: 522 | F49: 272 | G49: 250 | H49: 66 | I49: 31 | J49: 35 | K49: 153 | L49: 202 | M49: 98 | N49: 104 | O49: 30 | P49: 69 | Q49: 37 | R49: 32 | S49: 8 | T49: 217 | U49: 110 | V49: 60 | W49: 50 | X49: 75 | Y49: 46 | Z49: 29
C50: 小計 Total | D50: 一般General | E50: 480 | F50: 251 | G50: 229 | H50: 59 | I50: 28 | J50: 31 | L50: 181 | M50: 90 | N50: 91 | P50: 67 | Q50: 35 | R50: 32 | U50: 104 | V50: 56 | W50: 48 | X50: 69 | Y50: 42 | Z50: 27
D51: 原住民Indigenous | E51: 42 | F51: 21 | G51: 21 | H51: 7 | I51: 3 | J51: 4 | L51: 21 | M51: 8 | N51: 13 | P51: 2 | Q51: 2 | R51: 0 | U51: 6 | V51: 4 | W51: 2 | X51: 6 | Y51: 4 | Z51: 2
C52: 一般 General | D52: 一般General | E52: 358 | F52: 183 | G52: 175 | H52: 54 | I52: 26 | J52: 28 | L52: 142 | M52: 71 | N52: 71 | P52: 47 | Q52: 25 | R52: 22 | U52: 85 | V52: 45 | W52: 40 | X52: 30 | Y52: 16 | Z52: 14
D53: 原住民Indigenous | E53: 34 | F53: 15 | G53: 19 | H53: 6 | I53: 2 | J53: 4 | L53: 19 | M53: 7 | N53: 12 | P53: 1 | Q53: 1 | R53: 0 | U53: 6 | V53: 4 | W53: 2 | X53: 2 | Y53: 1 | Z53: 1
C54: 身心障礙 Disability | D54: 一般General | E54: 122 | F54: 68 | G54: 54 | H54: 5 | I54: 2 | J54: 3 | L54: 39 | M54: 19 | N54: 20 | P54: 20 | Q54: 10 | R54: 10 | U54: 19 | V54: 11 | W54: 8 | X54: 39 | Y54: 26 | Z54: 13
D55: 原住民Indigenous | E55: 8 | F55: 6 | G55: 2 | H55: 1 | I55: 1 | J55: 0 | L55: 2 | M55: 1 | N55: 1 | P55: 1 | Q55: 1 | R55: 0 | U55: 0 | V55: 0 | W55: 0 | X55: 4 | Y55: 3 | Z55: 1
B56: 本轄安置 Local Resettlement | C56: 計Total | E56: 464 | F56: 236 | G56: 228 | H56: 47 | I56: 21 | J56: 26 | L56: 199 | M56: 97 | N56: 102 | P56: 69 | Q56: 37 | R56: 32 | U56: 97 | V56: 51 | W56: 46 | X56: 52 | Y56: 30 | Z56: 22
C57: 小計 Total | D57: 一般General | E57: 430 | F57: 219 | G57: 211 | H57: 42 | I57: 19 | J57: 23 | L57: 179 | M57: 89 | N57: 90 | P57: 67 | Q57: 35 | R57: 32 | U57: 94 | V57: 49 | W57: 45 | X57: 48 | Y57: 27 | Z57: 21
D58: 原住民Indigenous | E58: 34 | F58: 17 | G58: 17 | H58: 5 | I58: 2 | J58: 3 | L58: 20 | M58: 8 | N58: 12 | P58: 2 | Q58: 2 | R58: 0 | U58: 3 | V58: 2 | W58: 1 | X58: 4 | Y58: 3 | Z58: 1
C59: 一般 General | D59: 一般General | E59: 324 | F59: 161 | G59: 163 | H59: 38 | I59: 17 | J59: 21 | L59: 140 | M59: 70 | N59: 70 | P59: 47 | Q59: 25 | R59: 22 | U59: 77 | V59: 40 | W59: 37 | X59: 22 | Y59: 9 | Z59: 13
D60: 原住民Indigenous | E60: 27 | F60: 12 | G60: 15 | H60: 4 | I60: 1 | J60: 3 | L60: 18 | M60: 7 | N60: 11 | P60: 1 | Q60: 1 | R60: 0 | U60: 3 | V60: 2 | W60: 1 | X60: 1 | Y60: 1 | Z60: 0
C61: 身心障礙 Disability | D61: 一般General | E61: 106 | F61: 58 | G61: 48 | H61: 4 | I61: 2 | J61: 2 | L61: 39 | M61: 19 | N61: 20 | P61: 20 | Q61: 10 | R61: 10 | U61: 17 | V61: 9 | W61: 8 | X61: 26 | Y61: 18 | Z61: 8
D62: 原住民Indigenous | E62: 7 | F62: 5 | G62: 2 | H62: 1 | I62: 1 | J62: 0 | L62: 2 | M62: 1 | N62: 1 | P62: 1 | Q62: 1 | R62: 0 | U62: 0 | V62: 0 | W62: 0 | X62: 3 | Y62: 2 | Z62: 1
B63: 外轄安置External Resettlement | C63: 計Total | E63: 58 | F63: 36 | G63: 22 | H63: 19 | I63: 10 | J63: 9 | L63: 3 | M63: 1 | N63: 2 | P63: 0 | Q63: 0 | R63: 0 | U63: 13 | V63: 9 | W63: 4 | X63: 23 | Y63: 16 | Z63: 7
C64: 小計 Total | D64: 一般General | E64: 50 | F64: 32 | G64: 18 | H64: 17 | I64: 9 | J64: 8 | L64: 2 | M64: 1 | N64: 1 | P64: 0 | Q64: 0 | R64: 0 | U64: 10 | V64: 7 | W64: 3 | X64: 21 | Y64: 15 | Z64: 6
D65: 原住民Indigenous | E65: 8 | F65: 4 | G65: 4 | H65: 2 | I65: 1 | J65: 1 | L65: 1 | M65: 0 | N65: 1 | P65: 0 | Q65: 0 | R65: 0 | U65: 3 | V65: 2 | W65: 1 | X65: 2 | Y65: 1 | Z65: 1
C66: 一般 General | D66: 一般General | E66: 34 | F66: 22 | G66: 12 | H66: 16 | I66: 9 | J66: 7 | L66: 2 | M66: 1 | N66: 1 | P66: 0 | Q66: 0 | R66: 0 | U66: 8 | V66: 5 | W66: 3 | X66: 8 | Y66: 7 | Z66: 1
D67: 原住民Indigenous | E67: 7 | F67: 3 | G67: 4 | H67: 2 | I67: 1 | J67: 1 | L67: 1 | M67: 0 | N67: 1 | P67: 0 | Q67: 0 | R67: 0 | U67: 3 | V67: 2 | W67: 1 | X67: 1 | Y67: 0 | Z67: 1
C68: 身心障礙 Disability | D68: 一般General | E68: 16 | F68: 10 | G68: 6 | H68: 1 | I68: 0 | J68: 1 | L68: 0 | M68: 0 | N68: 0 | P68: 0 | Q68: 0 | R68: 0 | U68: 2 | V68: 2 | W68: 0 | X68: 13 | Y68: 8 | Z68: 5
D69: 原住民Indigenous | E69: 1 | F69: 1 | G69: 0 | H69: 0 | I69: 0 | J69: 0 | L69: 0 | M69: 0 | N69: 0 | P69: 0 | Q69: 0 | R69: 0 | U69: 0 | V69: 0 | W69: 0 | X69: 1 | Y69: 1 | Z69: 0
A70: 臺北市 Taipei City | B70: 合計 Total | C70: 計Total | E70: 344 | F70: 187 | G70: 157 | H70: 8 | I70: 4 | J70: 4 | K70: 71 | L70: 92 | M70: 47 | N70: 45 | O70: 14 | P70: 36 | Q70: 21 | R70: 15 | S70: 14 | T70: 333 | U70: 206 | V70: 115 | W70: 91 | X70: 2 | Y70: 0 | Z70: 2
C71: 小計 Total | D71: 一般General | E71: 321 | F71: 175 | G71: 146 | H71: 6 | I71: 3 | J71: 3 | L71: 85 | M71: 45 | N71: 40 | P71: 35 | Q71: 20 | R71: 15 | U71: 193 | V71: 107 | W71: 86 | X71: 2 | Y71: 0 | Z71: 2
D72: 原住民Indigenous | E72: 23 | F72: 12 | G72: 11 | H72: 2 | I72: 1 | J72: 1 | L72: 7 | M72: 2 | N72: 5 | P72: 1 | Q72: 1 | R72: 0 | U72: 13 | V72: 8 | W72: 5 | X72: 0 | Y72: 0 | Z72: 0
C73: 一般 General | D73: 一般General | E73: 271 | F73: 143 | G73: 128 | H73: 5 | I73: 2 | J73: 3 | L73: 77 | M73: 39 | N73: 38 | P73: 20 | Q73: 10 | R73: 10 | U73: 169 | V73: 92 | W73: 77 | X73: 0 | Y73: 0 | Z73: 0
D74: 原住民Indigenous | E74: 21 | F74: 11 | G74: 10 | H74: 1 | I74: 1 | J74: 0 | L74: 7 | M74: 2 | N74: 5 | P74: 1 | Q74: 1 | R74: 0 | U74: 12 | V74: 7 | W74: 5 | X74: 0 | Y74: 0 | Z74: 0
C75: 身心障礙 Disability | D75: 一般General | E75: 50 | F75: 32 | G75: 18 | H75: 1 | I75: 1 | J75: 0 | L75: 8 | M75: 6 | N75: 2 | P75: 15 | Q75: 10 | R75: 5 | U75: 24 | V75: 15 | W75: 9 | X75: 2 | Y75: 0 | Z75: 2
D76: 原住民Indigenous | E76: 2 | F76: 1 | G76: 1 | H76: 1 | I76: 0 | J76: 1 | L76: 0 | M76: 0 | N76: 0 | P76: 0 | Q76: 0 | R76: 0 | U76: 1 | V76: 1 | W76: 0 | X76: 0 | Y76: 0 | Z76: 0
B77: 本轄安置 Local Resettlement | C77: 計Total | E77: 212 | F77: 108 | G77: 104 | H77: 7 | I77: 3 | J77: 4 | L77: 90 | M77: 45 | N77: 45 | P77: 36 | Q77: 21 | R77: 15 | U77: 77 | V77: 39 | W77: 38 | X77: 2 | Y77: 0 | Z77: 2
C78: 小計 Total | D78: 一般General | E78: 199 | F78: 103 | G78: 96 | H78: 5 | I78: 2 | J78: 3 | L78: 83 | M78: 43 | N78: 40 | P78: 35 | Q78: 20 | R78: 15 | U78: 74 | V78: 38 | W78: 36 | X78: 2 | Y78: 0 | Z78: 2
D79: 原住民Indigenous | E79: 13 | F79: 5 | G79: 8 | H79: 2 | I79: 1 | J79: 1 | L79: 7 | M79: 2 | N79: 5 | P79: 1 | Q79: 1 | R79: 0 | U79: 3 | V79: 1 | W79: 2 | X79: 0 | Y79: 0 | Z79: 0
C80: 一般 General | D80: 一般General | E80: 165 | F80: 81 | G80: 84 | H80: 5 | I80: 2 | J80: 3 | L80: 75 | M80: 37 | N80: 38 | P80: 20 | Q80: 10 | R80: 10 | U80: 65 | V80: 32 | W80: 33 | X80: 0 | Y80: 0 | Z80: 0
D81: 原住民Indigenous | E81: 12 | F81: 5 | G81: 7 | H81: 1 | I81: 1 | J81: 0 | L81: 7 | M81: 2 | N81: 5 | P81: 1 | Q81: 1 | R81: 0 | U81: 3 | V81: 1 | W81: 2 | X81: 0 | Y81: 0 | Z81: 0
C82: 身心障礙 Disability | D82: 一般General | E82: 34 | F82: 22 | G82: 12 | H82: 0 | I82: 0 | J82: 0 | L82: 8 | M82: 6 | N82: 2 | P82: 15 | Q82: 10 | R82: 5 | U82: 9 | V82: 6 | W82: 3 | X82: 2 | Y82: 0 | Z82: 2
D83: 原住民Indigenous | E83: 1 | F83: 0 | G83: 1 | H83: 1 | I83: 0 | J83: 1 | L83: 0 | M83: 0 | N83: 0 | P83: 0 | Q83: 0 | R83: 0 | U83: 0 | V83: 0 | W83: 0 | X83: 0 | Y83: 0 | Z83: 0
B84: 外轄安置External Resettlement | C84: 計Total | E84: 132 | F84: 79 | G84: 53 | H84: 1 | I84: 1 | J84: 0 | L84: 2 | M84: 2 | N84: 0 | P84: 0 | Q84: 0 | R84: 0 | U84: 129 | V84: 76 | W84: 53 | X84: 0 | Y84: 0 | Z84: 0
C85: 小計 Total | D85: 一般General | E85: 122 | F85: 72 | G85: 50 | H85: 1 | I85: 1 | J85: 0 | L85: 2 | M85: 2 | N85: 0 | P85: 0 | Q85: 0 | R85: 0 | U85: 119 | V85: 69 | W85: 50 | X85: 0 | Y85: 0 | Z85: 0
D86: 原住民Indigenous | E86: 10 | F86: 7 | G86: 3 | H86: 0 | I86: 0 | J86: 0 | L86: 0 | M86: 0 | N86: 0 | P86: 0 | Q86: 0 | R86: 0 | U86: 10 | V86: 7 | W86: 3 | X86: 0 | Y86: 0 | Z86: 0
C87: 一般 General | D87: 一般General | E87: 106 | F87: 62 | G87: 44 | H87: 0 | I87: 0 | J87: 0 | L87: 2 | M87: 2 | N87: 0 | P87: 0 | Q87: 0 | R87: 0 | U87: 104 | V87: 60 | W87: 44 | X87: 0 | Y87: 0 | Z87: 0
D88: 原住民Indigenous | E88: 9 | F88: 6 | G88: 3 | H88: 0 | I88: 0 | J88: 0 | L88: 0 | M88: 0 | N88: 0 | P88: 0 | Q88: 0 | R88: 0 | U88: 9 | V88: 6 | W88: 3 | X88: 0 | Y88: 0 | Z88: 0
C89: 身心障礙 Disability | D89: 一般General | E89: 16 | F89: 10 | G89: 6 | H89: 1 | I89: 1 | J89: 0 | L89: 0 | M89: 0 | N89: 0 | P89: 0 | Q89: 0 | R89: 0 | U89: 15 | V89: 9 | W89: 6 | X89: 0 | Y89: 0 | Z89: 0
D90: 原住民Indigenous | E90: 1 | F90: 1 | G90: 0 | H90: 0 | I90: 0 | J90: 0 | L90: 0 | M90: 0 | N90: 0 | P90: 0 | Q90: 0 | R90: 0 | U90: 1 | V90: 1 | W90: 0 | X90: 0 | Y90: 0 | Z90: 0
A91: 桃園市 Taoyuan City | B91: 合計 Total | C91: 計Total | E91: 349 | F91: 201 | G91: 148 | H91: 24 | I91: 8 | J91: 16 | K91: 100 | L91: 103 | M91: 56 | N91: 47 | O91: 6 | P91: 21 | Q91: 16 | R91: 5 | S91: 7 | T91: 201 | U91: 143 | V91: 83 | W91: 60 | X91: 58 | Y91: 38 | Z91: 20
C92: 小計 Total | D92: 一般General | E92: 294 | F92: 169 | G92: 125 | H92: 20 | I92: 7 | J92: 13 | L92: 90 | M92: 49 | N92: 41 | P92: 19 | Q92: 14 | R92: 5 | U92: 121 | V92: 70 | W92: 51 | X92: 44 | Y92: 29 | Z92: 15
D93: 原住民Indigenous | E93: 55 | F93: 32 | G93: 23 | H93: 4 | I93: 1 | J93: 3 | L93: 13 | M93: 7 | N93: 6 | P93: 2 | Q93: 2 | R93: 0 | U93: 22 | V93: 13 | W93: 9 | X93: 14 | Y93: 9 | Z93: 5
C94: 一般 General | D94: 一般General | E94: 234 | F94: 126 | G94: 108 | H94: 18 | I94: 5 | J94: 13 | L94: 79 | M94: 43 | N94: 36 | P94: 9 | Q94: 6 | R94: 3 | U94: 99 | V94: 54 | W94: 45 | X94: 29 | Y94: 18 | Z94: 11
D95: 原住民Indigenous | E95: 43 | F95: 23 | G95: 20 | H95: 4 | I95: 1 | J95: 3 | L95: 12 | M95: 6 | N95: 6 | P95: 1 | Q95: 1 | R95: 0 | U95: 20 | V95: 12 | W95: 8 | X95: 6 | Y95: 3 | Z95: 3
C96: 身心障礙 Disability | D96: 一般General | E96: 60 | F96: 43 | G96: 17 | H96: 2 | I96: 2 | J96: 0 | L96: 11 | M96: 6 | N96: 5 | P96: 10 | Q96: 8 | R96: 2 | U96: 22 | V96: 16 | W96: 6 | X96: 15 | Y96: 11 | Z96: 4
D97: 原住民Indigenous | E97: 12 | F97: 9 | G97: 3 | H97: 0 | I97: 0 | J97: 0 | L97: 1 | M97: 1 | N97: 0 | P97: 1 | Q97: 1 | R97: 0 | U97: 2 | V97: 1 | W97: 1 | X97: 8 | Y97: 6 | Z97: 2
B98: 本轄安置 Local Resettlement | C98: 計Total | E98: 297 | F98: 170 | G98: 127 | H98: 21 | I98: 6 | J98: 15 | L98: 102 | M98: 55 | N98: 47 | P98: 21 | Q98: 16 | R98: 5 | U98: 112 | V98: 67 | W98: 45 | X98: 41 | Y98: 26 | Z98: 15
C99: 小計 Total | D99: 一般General | E99: 255 | F99: 148 | G99: 107 | H99: 18 | I99: 6 | J99: 12 | L99: 89 | M99: 48 | N99: 41 | P99: 19 | Q99: 14 | R99: 5 | U99: 95 | V99: 58 | W99: 37 | X99: 34 | Y99: 22 | Z99: 12
D100: 原住民Indigenous | E100: 42 | F100: 22 | G100: 20 | H100: 3 | I100: 0 | J100: 3 | L100: 13 | M100: 7 | N100: 6 | P100: 2 | Q100: 2 | R100: 0 | U100: 17 | V100: 9 | W100: 8 | X100: 7 | Y100: 4 | Z100: 3
...

Sheet End of June, 2025
A1: 兒童及少年家外安置概況Placement of Child and Youth Outside the Home
A2: 114年6月底 End of June, 2025
A3: 單位：人、戶、家、所、床 | E3: =IF(E7=SUM(E28,E49,E70,E91,E112,E133,E154,E175,E196,E217,E238,E259,E280,E301,E322,E343,E364,E385,E406,E427,E448,E469,E490),"",SUM(E28,E49,E70,E91,E112,E133,E154,E175,E196,E217,E238,E259,E280,E301,E322,E343,E364,E385,E406,E427,E448,E469,E490)) | F3: =IF(F7=SUM(F28,F49,F70,F91,F112,F133,F154,F175,F196,F217,F238,F259,F280,F301,F322,F343,F364,F385,F406,F427,F448,F469,F490),"",SUM(F28,F49,F70,F91,F112,F133,F154,F175,F196,F217,F238,F259,F280,F301,F322,F343,F364,F385,F406,F427,F448,F469,F490)) | G3: =IF(G7=SUM(G28,G49,G70,G91,G112,G133,G154,G175,G196,G217,G238,G259,G280,G301,G322,G343,G364,G385,G406,G427,G448,G469,G490),"",SUM(G28,G49,G70,G91,G112,G133,G154,G175,G196,G217,G238,G259,G280,G301,G322,G343,G364,G385,G406,G427,G448,G469,G490)) | H3: =IF(H7=SUM(H28,H49,H70,H91,H112,H133,H154,H175,H196,H217,H238,H259,H280,H301,H322,H343,H364,H385,H406,H427,H448,H469,H490),"",SUM(H28,H49,H70,H91,H112,H133,H154,H175,H196,H217,H238,H259,H280,H301,H322,H343,H364,H385,H406,H427,H448,H469,H490)) | I3: =IF(I7=SUM(I28,I49,I70,I91,I112,I133,I154,I175,I196,I217,I238,I259,I280,I301,I322,I343,I364,I385,I406,I427,I448,I469,I490),"",SUM(I28,I49,I70,I91,I112,I133,I154,I175,I196,I217,I238,I259,I280,I301,I322,I343,I364,I385,I406,I427,I448,I469,I490)) | J3: =IF(J7=SUM(J28,J49,J70,J91,J112,J133,J154,J175,J196,J217,J238,J259,J280,J301,J322,J343,J364,J385,J406,J427,J448,J469,J490),"",SUM(J28,J49,J70,J91,J112,J133,J154,J175,J196,J217,J238,J259,J280,J301,J322,J343,J364,J385,J406,J427,J448,J469,J490)) | K3: =IF(K7=SUM(K28,K49,K70,K91,K112,K133,K154,K175,K196,K217,K238,K259,K280,K301,K322,K343,K364,K385,K406,K427,K448,K469,K490),"",SUM(K28,K49,K70,K91,K112,K133,K154,K175,K196,K217,K238,K259,K280,K301,K322,K343,K364,K385,K406,K427,K448,K469,K490)) | L3: =IF(L7=SUM(L28,L49,L70,L91,L112,L133,L154,L175,L196,L217,L238,L259,L280,L301,L322,L343,L364,L385,L406,L427,L448,L469,L490),"",SUM(L28,L49,L70,L91,L112,L133,L154,L175,L196,L217,L238,L259,L280,L301,L322,L343,L364,L385,L406,L427,L448,L469,L490)) | ... Z3: =IF(Z7=SUM(Z28,Z49,Z70,Z91,Z112,Z133,Z154,Z175,Z196,Z217,Z238,Z259,Z280,Z301,Z322,Z343,Z364,Z385,Z406,Z427,Z448,Z469,Z490),"",SUM(Z28,Z49,Z70,Z91,Z112,Z133,Z154,Z175,Z196,Z217,Z238,Z259,Z280,Z301,Z322,Z343,Z364,Z385,Z406,Z427,Z448,Z469,Z490))
A4: 區域及特殊族群別 Locality & Ethnos | E4: 總計Total | H4: 親屬安置Relative Placement | K4: 寄養家庭Fostering Families | O4: 團體家庭Group Family | S4: 安置及教養機構Residential Institutions | X4: 其他Others
E5: 本期底安置人數（人） No. of Resettlers at the End of the Period | H5: 本期底安置人數（人） No. of Resettlers at the End of the Period | K5: 寄養家庭數 (戶) No. of Households | L5: 本期底安置人數（人） No. of Resettlers at the End of the Period | O5: 團體家庭數(家) No. of Group Households | P5: 本期底安置人數（人） No. of Resettlers at the End of the Period | S5: 所數 No. of Institutions | T5: 床位數 No. of Providing | U5: 本期底安置人數（人） No. of Resettlers at the End of the Period | X5: 本期底安置人數（人） No. of Resettlers at the End of the Period
E6: 計Total | F6: 男Male | G6: 女Female | H6: 計Total | I6: 男Male | J6: 女Female | L6: 計Total | M6: 男Male | N6: 女Female | P6: 計Total | Q6: 男Male | R6: 女Female | U6: 計Total | V6: 男Male | W6: 女Female | X6: 計Total | Y6: 男Male | Z6: 女Female
A7: 總計 Total | B7: 合計 Total | C7: 計Total | E7: 4664 | F7: 2445 | G7: 2219 | H7: 380 | I7: 176 | J7: 204 | K7: 1301 | L7: 1643 | M7: 853 | N7: 790 | O7: 75 | P7: 195 | Q7: 134 | R7: 61 | S7: 104 | T7: 3705 | U7: 2024 | V7: 1039 | W7: 985 | X7: 422 | Y7: 243 | Z7: 179
C8: 小計 Total | D8: 一般General | E8: 3979 | F8: 2080 | G8: 1899 | H8: 307 | I8: 141 | J8: 166 | L8: 1422 | M8: 732 | N8: 690 | P8: 184 | Q8: 124 | R8: 60 | U8: 1722 | V8: 879 | W8: 843 | X8: 344 | Y8: 204 | Z8: 140
D9: 原住民Indigenous | E9: 685 | F9: 365 | G9: 320 | H9: 73 | I9: 35 | J9: 38 | L9: 221 | M9: 121 | N9: 100 | P9: 11 | Q9: 10 | R9: 1 | U9: 302 | V9: 160 | W9: 142 | X9: 78 | Y9: 39 | Z9: 39
C10: 一般 General | D10: 一般General | E10: 3110 | F10: 1572 | G10: 1538 | H10: 262 | I10: 112 | J10: 150 | L10: 1153 | M10: 586 | N10: 567 | P10: 106 | Q10: 70 | R10: 36 | U10: 1407 | V10: 700 | W10: 707 | X10: 182 | Y10: 104 | Z10: 78
D11: 原住民Indigenous | E11: 537 | F11: 276 | G11: 261 | H11: 63 | I11: 29 | J11: 34 | L11: 181 | M11: 95 | N11: 86 | P11: 5 | Q11: 4 | R11: 1 | U11: 253 | V11: 134 | W11: 119 | X11: 35 | Y11: 14 | Z11: 21
C12: 身心障礙 Disability | D12: 一般General | E12: 869 | F12: 508 | G12: 361 | H12: 45 | I12: 29 | J12: 16 | L12: 269 | M12: 146 | N12: 123 | P12: 78 | Q12: 54 | R12: 24 | U12: 315 | V12: 179 | W12: 136 | X12: 162 | Y12: 100 | Z12: 62
D13: 原住民Indigenous | E13: 148 | F13: 89 | G13: 59 | H13: 10 | I13: 6 | J13: 4 | L13: 40 | M13: 26 | N13: 14 | P13: 6 | Q13: 6 | R13: 0 | U13: 49 | V13: 26 | W13: 23 | X13: 43 | Y13: 25 | Z13: 18
B14: 本轄安置 Local Resettlement | C14: 計Total | E14: 3572 | F14: 1882 | G14: 1690 | H14: 337 | I14: 158 | J14: 179 | L14: 1603 | M14: 833 | N14: 770 | P14: 195 | Q14: 134 | R14: 61 | U14: 1121 | V14: 577 | W14: 544 | X14: 316 | Y14: 180 | Z14: 136
C15: 小計 Total | D15: 一般General | E15: 3072 | F15: 1609 | G15: 1463 | H15: 271 | I15: 127 | J15: 144 | L15: 1389 | M15: 714 | N15: 675 | P15: 184 | Q15: 124 | R15: 60 | U15: 964 | V15: 489 | W15: 475 | X15: 264 | Y15: 155 | Z15: 109
D16: 原住民Indigenous | E16: 500 | F16: 273 | G16: 227 | H16: 66 | I16: 31 | J16: 35 | L16: 214 | M16: 119 | N16: 95 | P16: 11 | Q16: 10 | R16: 1 | U16: 157 | V16: 88 | W16: 69 | X16: 52 | Y16: 25 | Z16: 27
C17: 一般 General | D17: 一般General | E17: 2425 | F17: 1231 | G17: 1194 | H17: 229 | I17: 100 | J17: 129 | L17: 1126 | M17: 570 | N17: 556 | P17: 106 | Q17: 70 | R17: 36 | U17: 797 | V17: 397 | W17: 400 | X17: 167 | Y17: 94 | Z17: 73
D18: 原住民Indigenous | E18: 400 | F18: 208 | G18: 192 | H18: 56 | I18: 25 | J18: 31 | L18: 175 | M18: 93 | N18: 82 | P18: 5 | Q18: 4 | R18: 1 | U18: 133 | V18: 72 | W18: 61 | X18: 31 | Y18: 14 | Z18: 17
C19: 身心障礙 Disability | D19: 一般General | E19: 647 | F19: 378 | G19: 269 | H19: 42 | I19: 27 | J19: 15 | L19: 263 | M19: 144 | N19: 119 | P19: 78 | Q19: 54 | R19: 24 | U19: 167 | V19: 92 | W19: 75 | X19: 97 | Y19: 61 | Z19: 36
D20: 原住民Indigenous | E20: 100 | F20: 65 | G20: 35 | H20: 10 | I20: 6 | J20: 4 | L20: 39 | M20: 26 | N20: 13 | P20: 6 | Q20: 6 | R20: 0 | U20: 24 | V20: 16 | W20: 8 | X20: 21 | Y20: 11 | Z20: 10
B21: 外轄安置External Resettlement | C21: 計Total | E21: 1092 | F21: 563 | G21: 529 | H21: 43 | I21: 18 | J21: 25 | L21: 40 | M21: 20 | N21: 20 | P21: 0 | Q21: 0 | R21: 0 | U21: 903 | V21: 462 | W21: 441 | X21: 106 | Y21: 63 | Z21: 43
C22: 小計 Total | D22: 一般General | E22: 907 | F22: 471 | G22: 436 | H22: 36 | I22: 14 | J22: 22 | L22: 33 | M22: 18 | N22: 15 | P22: 0 | Q22: 0 | R22: 0 | U22: 758 | V22: 390 | W22: 368 | X22: 80 | Y22: 49 | Z22: 31
D23: 原住民Indigenous | E23: 185 | F23: 92 | G23: 93 | H23: 7 | I23: 4 | J23: 3 | L23: 7 | M23: 2 | N23: 5 | P23: 0 | Q23: 0 | R23: 0 | U23: 145 | V23: 72 | W23: 73 | X23: 26 | Y23: 14 | Z23: 12
C24: 一般 General | D24: 一般General | E24: 685 | F24: 341 | G24: 344 | H24: 33 | I24: 12 | J24: 21 | L24: 27 | M24: 16 | N24: 11 | P24: 0 | Q24: 0 | R24: 0 | U24: 610 | V24: 303 | W24: 307 | X24: 15 | Y24: 10 | Z24: 5
D25: 原住民Indigenous | E25: 137 | F25: 68 | G25: 69 | H25: 7 | I25: 4 | J25: 3 | L25: 6 | M25: 2 | N25: 4 | P25: 0 | Q25: 0 | R25: 0 | U25: 120 | V25: 62 | W25: 58 | X25: 4 | Y25: 0 | Z25: 4
C26: 身心障礙 Disability | D26: 一般General | E26: 222 | F26: 130 | G26: 92 | H26: 3 | I26: 2 | J26: 1 | L26: 6 | M26: 2 | N26: 4 | P26: 0 | Q26: 0 | R26: 0 | U26: 148 | V26: 87 | W26: 61 | X26: 65 | Y26: 39 | Z26: 26
D27: 原住民Indigenous | E27: 48 | F27: 24 | G27: 24 | H27: 0 | I27: 0 | J27: 0 | L27: 1 | M27: 0 | N27: 1 | P27: 0 | Q27: 0 | R27: 0 | U27: 25 | V27: 10 | W27: 15 | X27: 22 | Y27: 14 | Z27: 8
A28: 衛生福利部 Inst. of MOHW | B28: 合計 Total | C28: 計Total | E28: 445 | F28: 212 | G28: 233 | H28: 0 | I28: 0 | J28: 0 | K28: 0 | L28: 0 | M28: 0 | N28: 0 | O28: 0 | P28: 0 | Q28: 0 | R28: 0 | S28: 9 | T28: 747 | U28: 445 | V28: 212 | W28: 233 | X28: 0 | Y28: 0 | Z28: 0
C29: 小計 Total | D29: 一般General | E29: 394 | F29: 189 | G29: 205 | H29: 0 | I29: 0 | J29: 0 | L29: 0 | M29: 0 | N29: 0 | P29: 0 | Q29: 0 | R29: 0 | U29: 394 | V29: 189 | W29: 205 | X29: 0 | Y29: 0 | Z29: 0
D30: 原住民Indigenous | E30: 51 | F30: 23 | G30: 28 | H30: 0 | I30: 0 | J30: 0 | L30: 0 | M30: 0 | N30: 0 | P30: 0 | Q30: 0 | R30: 0 | U30: 51 | V30: 23 | W30: 28 | X30: 0 | Y30: 0 | Z30: 0
C31: 一般 General | D31: 一般General | E31: 317 | F31: 147 | G31: 170 | H31: 0 | I31: 0 | J31: 0 | L31: 0 | M31: 0 | N31: 0 | P31: 0 | Q31: 0 | R31: 0 | U31: 317 | V31: 147 | W31: 170 | X31: 0 | Y31: 0 | Z31: 0
D32: 原住民Indigenous | E32: 46 | F32: 20 | G32: 26 | H32: 0 | I32: 0 | J32: 0 | L32: 0 | M32: 0 | N32: 0 | P32: 0 | Q32: 0 | R32: 0 | U32: 46 | V32: 20 | W32: 26 | X32: 0 | Y32: 0 | Z32: 0
C33: 身心障礙 Disability | D33: 一般General | E33: 77 | F33: 42 | G33: 35 | H33: 0 | I33: 0 | J33: 0 | L33: 0 | M33: 0 | N33: 0 | P33: 0 | Q33: 0 | R33: 0 | U33: 77 | V33: 42 | W33: 35 | X33: 0 | Y33: 0 | Z33: 0
D34: 原住民Indigenous | E34: 5 | F34: 3 | G34: 2 | H34: 0 | I34: 0 | J34: 0 | L34: 0 | M34: 0 | N34: 0 | P34: 0 | Q34: 0 | R34: 0 | U34: 5 | V34: 3 | W34: 2 | X34: 0 | Y34: 0 | Z34: 0
B35: 本轄安置 Local Resettlement | C35: 計Total | E35: 231 | F35: 116 | G35: 115 | H35: 0 | I35: 0 | J35: 0 | L35: 0 | M35: 0 | N35: 0 | P35: 0 | Q35: 0 | R35: 0 | U35: 231 | V35: 116 | W35: 115 | X35: 0 | Y35: 0 | Z35: 0
C36: 小計 Total | D36: 一般General | E36: 203 | F36: 102 | G36: 101 | H36: 0 | I36: 0 | J36: 0 | L36: 0 | M36: 0 | N36: 0 | P36: 0 | Q36: 0 | R36: 0 | U36: 203 | V36: 102 | W36: 101 | X36: 0 | Y36: 0 | Z36: 0
D37: 原住民Indigenous | E37: 28 | F37: 14 | G37: 14 | H37: 0 | I37: 0 | J37: 0 | L37: 0 | M37: 0 | N37: 0 | P37: 0 | Q37: 0 | R37: 0 | U37: 28 | V37: 14 | W37: 14 | X37: 0 | Y37: 0 | Z37: 0
C38: 一般 General | D38: 一般General | E38: 168 | F38: 84 | G38: 84 | H38: 0 | I38: 0 | J38: 0 | L38: 0 | M38: 0 | N38: 0 | P38: 0 | Q38: 0 | R38: 0 | U38: 168 | V38: 84 | W38: 84 | X38: 0 | Y38: 0 | Z38: 0
D39: 原住民Indigenous | E39: 26 | F39: 12 | G39: 14 | H39: 0 | I39: 0 | J39: 0 | L39: 0 | M39: 0 | N39: 0 | P39: 0 | Q39: 0 | R39: 0 | U39: 26 | V39: 12 | W39: 14 | X39: 0 | Y39: 0 | Z39: 0
C40: 身心障礙 Disability | D40: 一般General | E40: 35 | F40: 18 | G40: 17 | H40: 0 | I40: 0 | J40: 0 | L40: 0 | M40: 0 | N40: 0 | P40: 0 | Q40: 0 | R40: 0 | U40: 35 | V40: 18 | W40: 17 | X40: 0 | Y40: 0 | Z40: 0
D41: 原住民Indigenous | E41: 2 | F41: 2 | G41: 0 | H41: 0 | I41: 0 | J41: 0 | L41: 0 | M41: 0 | N41: 0 | P41: 0 | Q41: 0 | R41: 0 | U41: 2 | V41: 2 | W41: 0 | X41: 0 | Y41: 0 | Z41: 0
B42: 外轄安置External Resettlement | C42: 計Total | E42: 214 | F42: 96 | G42: 118 | H42: 0 | I42: 0 | J42: 0 | L42: 0 | M42: 0 | N42: 0 | P42: 0 | Q42: 0 | R42: 0 | U42: 214 | V42: 96 | W42: 118 | X42: 0 | Y42: 0 | Z42: 0
C43: 小計 Total | D43: 一般General | E43: 191 | F43: 87 | G43: 104 | H43: 0 | I43: 0 | J43: 0 | L43: 0 | M43: 0 | N43: 0 | P43: 0 | Q43: 0 | R43: 0 | U43: 191 | V43: 87 | W43: 104 | X43: 0 | Y43: 0 | Z43: 0
D44: 原住民Indigenous | E44: 23 | F44: 9 | G44: 14 | H44: 0 | I44: 0 | J44: 0 | L44: 0 | M44: 0 | N44: 0 | P44: 0 | Q44: 0 | R44: 0 | U44: 23 | V44: 9 | W44: 14 | X44: 0 | Y44: 0 | Z44: 0
C45: 一般 General | D45: 一般General | E45: 149 | F45: 63 | G45: 86 | H45: 0 | I45: 0 | J45: 0 | L45: 0 | M45: 0 | N45: 0 | P45: 0 | Q45: 0 | R45: 0 | U45: 149 | V45: 63 | W45: 86 | X45: 0 | Y45: 0 | Z45: 0
D46: 原住民Indigenous | E46: 20 | F46: 8 | G46: 12 | H46: 0 | I46: 0 | J46: 0 | L46: 0 | M46: 0 | N46: 0 | P46: 0 | Q46: 0 | R46: 0 | U46: 20 | V46: 8 | W46: 12 | X46: 0 | Y46: 0 | Z46: 0
C47: 身心障礙 Disability | D47: 一般General | E47: 42 | F47: 24 | G47: 18 | H47: 0 | I47: 0 | J47: 0 | L47: 0 | M47: 0 | N47: 0 | P47: 0 | Q47: 0 | R47: 0 | U47: 42 | V47: 24 | W47: 18 | X47: 0 | Y47: 0 | Z47: 0
D48: 原住民Indigenous | E48: 3 | F48: 1 | G48: 2 | H48: 0 | I48: 0 | J48: 0 | L48: 0 | M48: 0 | N48: 0 | P48: 0 | Q48: 0 | R48: 0 | U48: 3 | V48: 1 | W48: 2 | X48: 0 | Y48: 0 | Z48: 0
A49: 新北市 New Taipei City | B49: 合計 Total | C49: 計Total | E49: 519 | F49: 267 | G49: 252 | H49: 59 | I49: 27 | J49: 32 | K49: 156 | L49: 214 | M49: 102 | N49: 112 | O49: 26 | P49: 66 | Q49: 40 | R49: 26 | S49: 8 | T49: 217 | U49: 115 | V49: 61 | W49: 54 | X49: 65 | Y49: 37 | Z49: 28
C50: 小計 Total | D50: 一般General | E50: 473 | F50: 243 | G50: 230 | H50: 52 | I50: 24 | J50: 28 | L50: 193 | M50: 94 | N50: 99 | P50: 62 | Q50: 36 | R50: 26 | U50: 108 | V50: 56 | W50: 52 | X50: 58 | Y50: 33 | Z50: 25
D51: 原住民Indigenous | E51: 46 | F51: 24 | G51: 22 | H51: 7 | I51: 3 | J51: 4 | L51: 21 | M51: 8 | N51: 13 | P51: 4 | Q51: 4 | R51: 0 | U51: 7 | V51: 5 | W51: 2 | X51: 7 | Y51: 4 | Z51: 3
C52: 一般 General | D52: 一般General | E52: 350 | F52: 175 | G52: 175 | H52: 48 | I52: 21 | J52: 27 | L52: 153 | M52: 74 | N52: 79 | P52: 37 | Q52: 22 | R52: 15 | U52: 90 | V52: 46 | W52: 44 | X52: 22 | Y52: 12 | Z52: 10
D53: 原住民Indigenous | E53: 36 | F53: 17 | G53: 19 | H53: 6 | I53: 2 | J53: 4 | L53: 19 | M53: 7 | N53: 12 | P53: 2 | Q53: 2 | R53: 0 | U53: 7 | V53: 5 | W53: 2 | X53: 2 | Y53: 1 | Z53: 1
C54: 身心障礙 Disability | D54: 一般General | E54: 123 | F54: 68 | G54: 55 | H54: 4 | I54: 3 | J54: 1 | L54: 40 | M54: 20 | N54: 20 | P54: 25 | Q54: 14 | R54: 11 | U54: 18 | V54: 10 | W54: 8 | X54: 36 | Y54: 21 | Z54: 15
D55: 原住民Indigenous | E55: 10 | F55: 7 | G55: 3 | H55: 1 | I55: 1 | J55: 0 | L55: 2 | M55: 1 | N55: 1 | P55: 2 | Q55: 2 | R55: 0 | U55: 0 | V55: 0 | W55: 0 | X55: 5 | Y55: 3 | Z55: 2
B56: 本轄安置 Local Resettlement | C56: 計Total | E56: 461 | F56: 234 | G56: 227 | H56: 48 | I56: 21 | J56: 27 | L56: 207 | M56: 98 | N56: 109 | P56: 66 | Q56: 40 | R56: 26 | U56: 96 | V56: 51 | W56: 45 | X56: 44 | Y56: 24 | Z56: 20
C57: 小計 Total | D57: 一般General | E57: 423 | F57: 214 | G57: 209 | H57: 43 | I57: 19 | J57: 24 | L57: 188 | M57: 90 | N57: 98 | P57: 62 | Q57: 36 | R57: 26 | U57: 92 | V57: 48 | W57: 44 | X57: 38 | Y57: 21 | Z57: 17
D58: 原住民Indigenous | E58: 38 | F58: 20 | G58: 18 | H58: 5 | I58: 2 | J58: 3 | L58: 19 | M58: 8 | N58: 11 | P58: 4 | Q58: 4 | R58: 0 | U58: 4 | V58: 3 | W58: 1 | X58: 6 | Y58: 3 | Z58: 3
C59: 一般 General | D59: 一般General | E59: 315 | F59: 154 | G59: 161 | H59: 39 | I59: 16 | J59: 23 | L59: 148 | M59: 70 | N59: 78 | P59: 37 | Q59: 22 | R59: 15 | U59: 75 | V59: 38 | W59: 37 | X59: 16 | Y59: 8 | Z59: 8
D60: 原住民Indigenous | E60: 29 | F60: 14 | G60: 15 | H60: 4 | I60: 1 | J60: 3 | L60: 17 | M60: 7 | N60: 10 | P60: 2 | Q60: 2 | R60: 0 | U60: 4 | V60: 3 | W60: 1 | X60: 2 | Y60: 1 | Z60: 1
C61: 身心障礙 Disability | D61: 一般General | E61: 108 | F61: 60 | G61: 48 | H61: 4 | I61: 3 | J61: 1 | L61: 40 | M61: 20 | N61: 20 | P61: 25 | Q61: 14 | R61: 11 | U61: 17 | V61: 10 | W61: 7 | X61: 22 | Y61: 13 | Z61: 9
D62: 原住民Indigenous | E62: 9 | F62: 6 | G62: 3 | H62: 1 | I62: 1 | J62: 0 | L62: 2 | M62: 1 | N62: 1 | P62: 2 | Q62: 2 | R62: 0 | U62: 0 | V62: 0 | W62: 0 | X62: 4 | Y62: 2 | Z62: 2
B63: 外轄安置External Resettlement | C63: 計Total | E63: 58 | F63: 33 | G63: 25 | H63: 11 | I63: 6 | J63: 5 | L63: 7 | M63: 4 | N63: 3 | P63: 0 | Q63: 0 | R63: 0 | U63: 19 | V63: 10 | W63: 9 | X63: 21 | Y63: 13 | Z63: 8
C64: 小計 Total | D64: 一般General | E64: 50 | F64: 29 | G64: 21 | H64: 9 | I64: 5 | J64: 4 | L64: 5 | M64: 4 | N64: 1 | P64: 0 | Q64: 0 | R64: 0 | U64: 16 | V64: 8 | W64: 8 | X64: 20 | Y64: 12 | Z64: 8
D65: 原住民Indigenous | E65: 8 | F65: 4 | G65: 4 | H65: 2 | I65: 1 | J65: 1 | L65: 2 | M65: 0 | N65: 2 | P65: 0 | Q65: 0 | R65: 0 | U65: 3 | V65: 2 | W65: 1 | X65: 1 | Y65: 1 | Z65: 0
C66: 一般 General | D66: 一般General | E66: 35 | F66: 21 | G66: 14 | H66: 9 | I66: 5 | J66: 4 | L66: 5 | M66: 4 | N66: 1 | P66: 0 | Q66: 0 | R66: 0 | U66: 15 | V66: 8 | W66: 7 | X66: 6 | Y66: 4 | Z66: 2
D67: 原住民Indigenous | E67: 7 | F67: 3 | G67: 4 | H67: 2 | I67: 1 | J67: 1 | L67: 2 | M67: 0 | N67: 2 | P67: 0 | Q67: 0 | R67: 0 | U67: 3 | V67: 2 | W67: 1 | X67: 0 | Y67: 0 | Z67: 0
C68: 身心障礙 Disability | D68: 一般General | E68: 15 | F68: 8 | G68: 7 | H68: 0 | I68: 0 | J68: 0 | L68: 0 | M68: 0 | N68: 0 | P68: 0 | Q68: 0 | R68: 0 | U68: 1 | V68: 0 | W68: 1 | X68: 14 | Y68: 8 | Z68: 6
D69: 原住民Indigenous | E69: 1 | F69: 1 | G69: 0 | H69: 0 | I69: 0 | J69: 0 | L69: 0 | M69: 0 | N69: 0 | P69: 0 | Q69: 0 | R69: 0 | U69: 0 | V69: 0 | W69: 0 | X69: 1 | Y69: 1 | Z69: 0
A70: 臺北市 Taipei City | B70: 合計 Total | C70: 計Total | E70: 376 | F70: 201 | G70: 175 | H70: 8 | I70: 3 | J70: 5 | K70: 67 | L70: 98 | M70: 50 | N70: 48 | O70: 14 | P70: 41 | Q70: 27 | R70: 14 | S70: 15 | T70: 347 | U70: 228 | V70: 121 | W70: 107 | X70: 1 | Y70: 0 | Z70: 1
C71: 小計 Total | D71: 一般General | E71: 353 | F71: 187 | G71: 166 | H71: 7 | I71: 3 | J71: 4 | L71: 89 | M71: 47 | N71: 42 | P71: 40 | Q71: 26 | R71: 14 | U71: 216 | V71: 111 | W71: 105 | X71: 1 | Y71: 0 | Z71: 1
D72: 原住民Indigenous | E72: 23 | F72: 14 | G72: 9 | H72: 1 | I72: 0 | J72: 1 | L72: 9 | M72: 3 | N72: 6 | P72: 1 | Q72: 1 | R72: 0 | U72: 12 | V72: 10 | W72: 2 | X72: 0 | Y72: 0 | Z72: 0
C73: 一般 General | D73: 一般General | E73: 298 | F73: 152 | G73: 146 | H73: 6 | I73: 2 | J73: 4 | L73: 80 | M73: 40 | N73: 40 | P73: 25 | Q73: 15 | R73: 10 | U73: 187 | V73: 95 | W73: 92 | X73: 0 | Y73: 0 | Z73: 0
D74: 原住民Indigenous | E74: 20 | F74: 12 | G74: 8 | H74: 0 | I74: 0 | J74: 0 | L74: 9 | M74: 3 | N74: 6 | P74: 1 | Q74: 1 | R74: 0 | U74: 10 | V74: 8 | W74: 2 | X74: 0 | Y74: 0 | Z74: 0
C75: 身心障礙 Disability | D75: 一般General | E75: 55 | F75: 35 | G75: 20 | H75: 1 | I75: 1 | J75: 0 | L75: 9 | M75: 7 | N75: 2 | P75: 15 | Q75: 11 | R75: 4 | U75: 29 | V75: 16 | W75: 13 | X75: 1 | Y75: 0 | Z75: 1
D76: 原住民Indigenous | E76: 3 | F76: 2 | G76: 1 | H76: 1 | I76: 0 | J76: 1 | L76: 0 | M76: 0 | N76: 0 | P76: 0 | Q76: 0 | R76: 0 | U76: 2 | V76: 2 | W76: 0 | X76: 0 | Y76: 0 | Z76: 0
B77: 本轄安置 Local Resettlement | C77: 計Total | E77: 229 | F77: 115 | G77: 114 | H77: 7 | I77: 2 | J77: 5 | L77: 90 | M77: 44 | N77: 46 | P77: 41 | Q77: 27 | R77: 14 | U77: 90 | V77: 42 | W77: 48 | X77: 1 | Y77: 0 | Z77: 1
C78: 小計 Total | D78: 一般General | E78: 217 | F78: 110 | G78: 107 | H78: 6 | I78: 2 | J78: 4 | L78: 83 | M78: 42 | N78: 41 | P78: 40 | Q78: 26 | R78: 14 | U78: 87 | V78: 40 | W78: 47 | X78: 1 | Y78: 0 | Z78: 1
D79: 原住民Indigenous | E79: 12 | F79: 5 | G79: 7 | H79: 1 | I79: 0 | J79: 1 | L79: 7 | M79: 2 | N79: 5 | P79: 1 | Q79: 1 | R79: 0 | U79: 3 | V79: 2 | W79: 1 | X79: 0 | Y79: 0 | Z79: 0
C80: 一般 General | D80: 一般General | E80: 180 | F80: 85 | G80: 95 | H80: 6 | I80: 2 | J80: 4 | L80: 74 | M80: 35 | N80: 39 | P80: 25 | Q80: 15 | R80: 10 | U80: 75 | V80: 33 | W80: 42 | X80: 0 | Y80: 0 | Z80: 0
D81: 原住民Indigenous | E81: 11 | F81: 5 | G81: 6 | H81: 0 | I81: 0 | J81: 0 | L81: 7 | M81: 2 | N81: 5 | P81: 1 | Q81: 1 | R81: 0 | U81: 3 | V81: 2 | W81: 1 | X81: 0 | Y81: 0 | Z81: 0
C82: 身心障礙 Disability | D82: 一般General | E82: 37 | F82: 25 | G82: 12 | H82: 0 | I82: 0 | J82: 0 | L82: 9 | M82: 7 | N82: 2 | P82: 15 | Q82: 11 | R82: 4 | U82: 12 | V82: 7 | W82: 5 | X82: 1 | Y82: 0 | Z82: 1
D83: 原住民Indigenous | E83: 1 | F83: 0 | G83: 1 | H83: 1 | I83: 0 | J83: 1 | L83: 0 | M83: 0 | N83: 0 | P83: 0 | Q83: 0 | R83: 0 | U83: 0 | V83: 0 | W83: 0 | X83: 0 | Y83: 0 | Z83: 0
B84: 外轄安置External Resettlement | C84: 計Total | E84: 147 | F84: 86 | G84: 61 | H84: 1 | I84: 1 | J84: 0 | L84: 8 | M84: 6 | N84: 2 | P84: 0 | Q84: 0 | R84: 0 | U84: 138 | V84: 79 | W84: 59 | X84: 0 | Y84: 0 | Z84: 0
C85: 小計 Total | D85: 一般General | E85: 136 | F85: 77 | G85: 59 | H85: 1 | I85: 1 | J85: 0 | L85: 6 | M85: 5 | N85: 1 | P85: 0 | Q85: 0 | R85: 0 | U85: 129 | V85: 71 | W85: 58 | X85: 0 | Y85: 0 | Z85: 0
D86: 原住民Indigenous | E86: 11 | F86: 9 | G86: 2 | H86: 0 | I86: 0 | J86: 0 | L86: 2 | M86: 1 | N86: 1 | P86: 0 | Q86: 0 | R86: 0 | U86: 9 | V86: 8 | W86: 1 | X86: 0 | Y86: 0 | Z86: 0
C87: 一般 General | D87: 一般General | E87: 118 | F87: 67 | G87: 51 | H87: 0 | I87: 0 | J87: 0 | L87: 6 | M87: 5 | N87: 1 | P87: 0 | Q87: 0 | R87: 0 | U87: 112 | V87: 62 | W87: 50 | X87: 0 | Y87: 0 | Z87: 0
D88: 原住民Indigenous | E88: 9 | F88: 7 | G88: 2 | H88: 0 | I88: 0 | J88: 0 | L88: 2 | M88: 1 | N88: 1 | P88: 0 | Q88: 0 | R88: 0 | U88: 7 | V88: 6 | W88: 1 | X88: 0 | Y88: 0 | Z88: 0
C89: 身心障礙 Disability | D89: 一般General | E89: 18 | F89: 10 | G89: 8 | H89: 1 | I89: 1 | J89: 0 | L89: 0 | M89: 0 | N89: 0 | P89: 0 | Q89: 0 | R89: 0 | U89: 17 | V89: 9 | W89: 8 | X89: 0 | Y89: 0 | Z89: 0
D90: 原住民Indigenous | E90: 2 | F90: 2 | G90: 0 | H90: 0 | I90: 0 | J90: 0 | L90: 0 | M90: 0 | N90: 0 | P90: 0 | Q90: 0 | R90: 0 | U90: 2 | V90: 2 | W90: 0 | X90: 0 | Y90: 0 | Z90: 0
A91: 桃園市 Taoyuan City | B91: 合計 Total | C91: 計Total | E91: 351 | F91: 206 | G91: 145 | H91: 23 | I91: 8 | J91: 15 | K91: 88 | L91: 106 | M91: 59 | N91: 47 | O91: 6 | P91: 15 | Q91: 14 | R91: 1 | S91: 7 | T91: 201 | U91: 148 | V91: 89 | W91: 59 | X91: 59 | Y91: 36 | Z91: 23
C92: 小計 Total | D92: 一般General | E92: 297 | F92: 176 | G92: 121 | H92: 20 | I92: 7 | J92: 13 | L92: 90 | M92: 52 | N92: 38 | P92: 14 | Q92: 13 | R92: 1 | U92: 126 | V92: 76 | W92: 50 | X92: 47 | Y92: 28 | Z92: 19
D93: 原住民Indigenous | E93: 54 | F93: 30 | G93: 24 | H93: 3 | I93: 1 | J93: 2 | L93: 16 | M93: 7 | N93: 9 | P93: 1 | Q93: 1 | R93: 0 | U93: 22 | V93: 13 | W93: 9 | X93: 12 | Y93: 8 | Z93: 4
C94: 一般 General | D94: 一般General | E94: 235 | F94: 133 | G94: 102 | H94: 18 | I94: 5 | J94: 13 | L94: 77 | M94: 45 | N94: 32 | P94: 6 | Q94: 6 | R94: 0 | U94: 104 | V94: 60 | W94: 44 | X94: 30 | Y94: 17 | Z94: 13
D95: 原住民Indigenous | E95: 43 | F95: 22 | G95: 21 | H95: 3 | I95: 1 | J95: 2 | L95: 15 | M95: 6 | N95: 9 | P95: 0 | Q95: 0 | R95: 0 | U95: 19 | V95: 12 | W95: 7 | X95: 6 | Y95: 3 | Z95: 3
C96: 身心障礙 Disability | D96: 一般General | E96: 62 | F96: 43 | G96: 19 | H96: 2 | I96: 2 | J96: 0 | L96: 13 | M96: 7 | N96: 6 | P96: 8 | Q96: 7 | R96: 1 | U96: 22 | V96: 16 | W96: 6 | X96: 17 | Y96: 11 | Z96: 6
D97: 原住民Indigenous | E97: 11 | F97: 8 | G97: 3 | H97: 0 | I97: 0 | J97: 0 | L97: 1 | M97: 1 | N97: 0 | P97: 1 | Q97: 1 | R97: 0 | U97: 3 | V97: 1 | W97: 2 | X97: 6 | Y97: 5 | Z97: 1
B98: 本轄安置 Local Resettlement | C98: 計Total | E98: 293 | F98: 172 | G98: 121 | H98: 19 | I98: 6 | J98: 13 | L98: 106 | M98: 59 | N98: 47 | P98: 15 | Q98: 14 | R98: 1 | U98: 113 | V98: 70 | W98: 43 | X98: 40 | Y98: 23 | Z98: 17
C99: 小計 Total | D99: 一般General | E99: 253 | F99: 152 | G99: 101 | H99: 17 | I99: 6 | J99: 11 | L99: 90 | M99: 52 | N99: 38 | P99: 14 | Q99: 13 | R99: 1 | U99: 97 | V99: 61 | W99: 36 | X99: 35 | Y99: 20 | Z99: 15
D100: 原住民Indigenous | E100: 40 | F100: 20 | G100: 20 | H100: 2 | I100: 0 | J100: 2 | L100: 16 | M100: 7 | N100: 9 | P100: 1 | Q100: 1 | R100: 0 | U100: 16 | V100: 9 | W100: 7 | X100: 5 | Y100: 3 | Z100: 2
...

Sheet 2024
A1: 兒童及少年家外安置概況Placement of Child and Youth Outside the Home
A2: 113年底, End of 2024
A3: 單位：人、戶、家、所、床 | E3: =IF(E7=SUM(E28,E49,E70,E91,E112,E133,E154,E175,E196,E217,E238,E259,E280,E301,E322,E343,E364,E385,E406,E427,E448,E469,E490),"",SUM(E28,E49,E70,E91,E112,E133,E154,E175,E196,E217,E238,E259,E280,E301,E322,E343,E364,E385,E406,E427,E448,E469,E490)) | F3: =IF(F7=SUM(F28,F49,F70,F91,F112,F133,F154,F175,F196,F217,F238,F259,F280,F301,F322,F343,F364,F385,F406,F427,F448,F469,F490),"",SUM(F28,F49,F70,F91,F112,F133,F154,F175,F196,F217,F238,F259,F280,F301,F322,F343,F364,F385,F406,F427,F448,F469,F490)) | G3: =IF(G7=SUM(G28,G49,G70,G91,G112,G133,G154,G175,G196,G217,G238,G259,G280,G301,G322,G343,G364,G385,G406,G427,G448,G469,G490),"",SUM(G28,G49,G70,G91,G112,G133,G154,G175,G196,G217,G238,G259,G280,G301,G322,G343,G364,G385,G406,G427,G448,G469,G490)) | H3: =IF(H7=SUM(H28,H49,H70,H91,H112,H133,H154,H175,H196,H217,H238,H259,H280,H301,H322,H343,H364,H385,H406,H427,H448,H469,H490),"",SUM(H28,H49,H70,H91,H112,H133,H154,H175,H196,H217,H238,H259,H280,H301,H322,H343,H364,H385,H406,H427,H448,H469,H490)) | I3: =IF(I7=SUM(I28,I49,I70,I91,I112,I133,I154,I175,I196,I217,I238,I259,I280,I301,I322,I343,I364,I385,I406,I427,I448,I469,I490),"",SUM(I28,I49,I70,I91,I112,I133,I154,I175,I196,I217,I238,I259,I280,I301,I322,I343,I364,I385,I406,I427,I448,I469,I490)) | J3: =IF(J7=SUM(J28,J49,J70,J91,J112,J133,J154,J175,J196,J217,J238,J259,J280,J301,J322,J343,J364,J385,J406,J427,J448,J469,J490),"",SUM(J28,J49,J70,J91,J112,J133,J154,J175,J196,J217,J238,J259,J280,J301,J322,J343,J364,J385,J406,J427,J448,J469,J490)) | K3: =IF(K7=SUM(K28,K49,K70,K91,K112,K133,K154,K175,K196,K217,K238,K259,K280,K301,K322,K343,K364,K385,K406,K427,K448,K469,K490),"",SUM(K28,K49,K70,K91,K112,K133,K154,K175,K196,K217,K238,K259,K280,K301,K322,K343,K364,K385,K406,K427,K448,K469,K490)) | L3: =IF(L7=SUM(L28,L49,L70,L91,L112,L133,L154,L175,L196,L217,L238,L259,L280,L301,L322,L343,L364,L385,L406,L427,L448,L469,L490),"",SUM(L28,L49,L70,L91,L112,L133,L154,L175,L196,L217,L238,L259,L280,L301,L322,L343,L364,L385,L406,L427,L448,L469,L490)) | ... Z3: =IF(Z7=SUM(Z28,Z49,Z70,Z91,Z112,Z133,Z154,Z175,Z196,Z217,Z238,Z259,Z280,Z301,Z322,Z343,Z364,Z385,Z406,Z427,Z448,Z469,Z490),"",SUM(Z28,Z49,Z70,Z91,Z112,Z133,Z154,Z175,Z196,Z217,Z238,Z259,Z280,Z301,Z322,Z343,Z364,Z385,Z406,Z427,Z448,Z469,Z490))
A4: 區域及特殊族群別 Locality & Ethnos | E4: 總計Total | H4: 親屬安置Relative Placement | K4: 寄養家庭Fostering Families | O4: 團體家庭Group Family | S4: 安置及教養機構Residential Institutions | X4: 其他Others
E5: 本期底安置人數（人） No. of Resettlers at the End of the Period | H5: 本期底安置人數（人） No. of Resettlers at the End of the Period | K5: 寄養家庭數 (戶) No. of Households | L5: 本期底安置人數（人） No. of Resettlers at the End of the Period | O5: 團體家庭數(家) No. of Group Households | P5: 本期底安置人數（人） No. of Resettlers at the End of the Period | S5: 所數 No. of Institutions | T5: 床位數 No. of Providing | U5: 本期底安置人數（人） No. of Resettlers at the End of the Period | X5: 本期底安置人數（人） No. of Resettlers at the End of the Period
E6: 計Total | F6: 男Male | G6: 女Female | H6: 計Total | I6: 男Male | J6: 女Female | L6: 計Total | M6: 男Male | N6: 女Female | P6: 計Total | Q6: 男Male | R6: 女Female | U6: 計Total | V6: 男Male | W6: 女Female | X6: 計Total | Y6: 男Male | Z6: 女Female
A7: 總計 Total | B7: 合計 Total | C7: 計Total | E7: 4591 | F7: 2405 | G7: 2186 | H7: 345 | I7: 160 | J7: 185 | K7: 1308 | L7: 1616 | M7: 847 | N7: 769 | O7: 64 | P7: 166 | Q7: 110 | R7: 56 | S7: 106 | T7: 3735 | U7: 2067 | V7: 1064 | W7: 1003 | X7: 397 | Y7: 224 | Z7: 173
C8: 小計 Total | D8: 一般General | E8: 3895 | F8: 2034 | G8: 1861 | H8: 279 | I8: 127 | J8: 152 | L8: 1387 | M8: 720 | N8: 667 | P8: 153 | Q8: 98 | R8: 55 | U8: 1747 | V8: 899 | W8: 848 | X8: 329 | Y8: 190 | Z8: 139
D9: 原住民Indigenous | E9: 696 | F9: 371 | G9: 325 | H9: 66 | I9: 33 | J9: 33 | L9: 229 | M9: 127 | N9: 102 | P9: 13 | Q9: 12 | R9: 1 | U9: 320 | V9: 165 | W9: 155 | X9: 68 | Y9: 34 | Z9: 34
C10: 一般 General | D10: 一般General | E10: 3032 | F10: 1539 | G10: 1493 | H10: 242 | I10: 103 | J10: 139 | L10: 1119 | M10: 572 | N10: 547 | P10: 83 | Q10: 53 | R10: 30 | U10: 1416 | V10: 716 | W10: 700 | X10: 172 | Y10: 95 | Z10: 77
D11: 原住民Indigenous | E11: 547 | F11: 281 | G11: 266 | H11: 57 | I11: 27 | J11: 30 | L11: 185 | M11: 97 | N11: 88 | P11: 6 | Q11: 5 | R11: 1 | U11: 270 | V11: 140 | W11: 130 | X11: 29 | Y11: 12 | Z11: 17
C12: 身心障礙 Disability | D12: 一般General | E12: 863 | F12: 495 | G12: 368 | H12: 37 | I12: 24 | J12: 13 | L12: 268 | M12: 148 | N12: 120 | P12: 70 | Q12: 45 | R12: 25 | U12: 331 | V12: 183 | W12: 148 | X12: 157 | Y12: 95 | Z12: 62
D13: 原住民Indigenous | E13: 149 | F13: 90 | G13: 59 | H13: 9 | I13: 6 | J13: 3 | L13: 44 | M13: 30 | N13: 14 | P13: 7 | Q13: 7 | R13: 0 | U13: 50 | V13: 25 | W13: 25 | X13: 39 | Y13: 22 | Z13: 17
B14: 本轄安置 Local Resettlement | C14: 計Total | E14: 3471 | F14: 1830 | G14: 1641 | H14: 305 | I14: 144 | J14: 161 | L14: 1582 | M14: 834 | N14: 748 | P14: 166 | Q14: 110 | R14: 56 | U14: 1129 | V14: 585 | W14: 544 | X14: 289 | Y14: 157 | Z14: 132
C15: 小計 Total | D15: 一般General | E15: 2965 | F15: 1551 | G15: 1414 | H15: 246 | I15: 115 | J15: 131 | L15: 1362 | M15: 710 | N15: 652 | P15: 153 | Q15: 98 | R15: 55 | U15: 959 | V15: 492 | W15: 467 | X15: 245 | Y15: 136 | Z15: 109
D16: 原住民Indigenous | E16: 506 | F16: 279 | G16: 227 | H16: 59 | I16: 29 | J16: 30 | L16: 220 | M16: 124 | N16: 96 | P16: 13 | Q16: 12 | R16: 1 | U16: 170 | V16: 93 | W16: 77 | X16: 44 | Y16: 21 | Z16: 23
C17: 一般 General | D17: 一般General | E17: 2332 | F17: 1189 | G17: 1143 | H17: 211 | I17: 92 | J17: 119 | L17: 1098 | M17: 564 | N17: 534 | P17: 83 | Q17: 53 | R17: 30 | U17: 784 | V17: 398 | W17: 386 | X17: 156 | Y17: 82 | Z17: 74
D18: 原住民Indigenous | E18: 402 | F18: 211 | G18: 191 | H18: 50 | I18: 23 | J18: 27 | L18: 177 | M18: 94 | N18: 83 | P18: 6 | Q18: 5 | R18: 1 | U18: 143 | V18: 77 | W18: 66 | X18: 26 | Y18: 12 | Z18: 14
C19: 身心障礙 Disability | D19: 一般General | E19: 633 | F19: 362 | G19: 271 | H19: 35 | I19: 23 | J19: 12 | L19: 264 | M19: 146 | N19: 118 | P19: 70 | Q19: 45 | R19: 25 | U19: 175 | V19: 94 | W19: 81 | X19: 89 | Y19: 54 | Z19: 35
D20: 原住民Indigenous | E20: 104 | F20: 68 | G20: 36 | H20: 9 | I20: 6 | J20: 3 | L20: 43 | M20: 30 | N20: 13 | P20: 7 | Q20: 7 | R20: 0 | U20: 27 | V20: 16 | W20: 11 | X20: 18 | Y20: 9 | Z20: 9
B21: 外轄安置External Resettlement | C21: 計Total | E21: 1120 | F21: 575 | G21: 545 | H21: 40 | I21: 16 | J21: 24 | L21: 34 | M21: 13 | N21: 21 | P21: 0 | Q21: 0 | R21: 0 | U21: 938 | V21: 479 | W21: 459 | X21: 108 | Y21: 67 | Z21: 41
C22: 小計 Total | D22: 一般General | E22: 930 | F22: 483 | G22: 447 | H22: 33 | I22: 12 | J22: 21 | L22: 25 | M22: 10 | N22: 15 | P22: 0 | Q22: 0 | R22: 0 | U22: 788 | V22: 407 | W22: 381 | X22: 84 | Y22: 54 | Z22: 30
D23: 原住民Indigenous | E23: 190 | F23: 92 | G23: 98 | H23: 7 | I23: 4 | J23: 3 | L23: 9 | M23: 3 | N23: 6 | P23: 0 | Q23: 0 | R23: 0 | U23: 150 | V23: 72 | W23: 78 | X23: 24 | Y23: 13 | Z23: 11
C24: 一般 General | D24: 一般General | E24: 700 | F24: 350 | G24: 350 | H24: 31 | I24: 11 | J24: 20 | L24: 21 | M24: 8 | N24: 13 | P24: 0 | Q24: 0 | R24: 0 | U24: 632 | V24: 318 | W24: 314 | X24: 16 | Y24: 13 | Z24: 3
D25: 原住民Indigenous | E25: 145 | F25: 70 | G25: 75 | H25: 7 | I25: 4 | J25: 3 | L25: 8 | M25: 3 | N25: 5 | P25: 0 | Q25: 0 | R25: 0 | U25: 127 | V25: 63 | W25: 64 | X25: 3 | Y25: 0 | Z25: 3
C26: 身心障礙 Disability | D26: 一般General | E26: 230 | F26: 133 | G26: 97 | H26: 2 | I26: 1 | J26: 1 | L26: 4 | M26: 2 | N26: 2 | P26: 0 | Q26: 0 | R26: 0 | U26: 156 | V26: 89 | W26: 67 | X26: 68 | Y26: 41 | Z26: 27
D27: 原住民Indigenous | E27: 45 | F27: 22 | G27: 23 | H27: 0 | I27: 0 | J27: 0 | L27: 1 | M27: 0 | N27: 1 | P27: 0 | Q27: 0 | R27: 0 | U27: 23 | V27: 9 | W27: 14 | X27: 21 | Y27: 13 | Z27: 8
A28: 衛生福利部 Inst. of MOHW | B28: 合計 Total | C28: 計Total | E28: 456 | F28: 221 | G28: 235 | H28: 0 | I28: 0 | J28: 0 | K28: 0 | L28: 0 | M28: 0 | N28: 0 | O28: 0 | P28: 0 | Q28: 0 | R28: 0 | S28: 9 | T28: 747 | U28: 456 | V28: 221 | W28: 235 | X28: 0 | Y28: 0 | Z28: 0
C29: 小計 Total | D29: 一般General | E29: 406 | F29: 198 | G29: 208 | H29: 0 | I29: 0 | J29: 0 | L29: 0 | M29: 0 | N29: 0 | P29: 0 | Q29: 0 | R29: 0 | U29: 406 | V29: 198 | W29: 208 | X29: 0 | Y29: 0 | Z29: 0
D30: 原住民Indigenous | E30: 50 | F30: 23 | G30: 27 | H30: 0 | I30: 0 | J30: 0 | L30: 0 | M30: 0 | N30: 0 | P30: 0 | Q30: 0 | R30: 0 | U30: 50 | V30: 23 | W30: 27 | X30: 0 | Y30: 0 | Z30: 0
C31: 一般 General | D31: 一般General | E31: 325 | F31: 153 | G31: 172 | H31: 0 | I31: 0 | J31: 0 | L31: 0 | M31: 0 | N31: 0 | P31: 0 | Q31: 0 | R31: 0 | U31: 325 | V31: 153 | W31: 172 | X31: 0 | Y31: 0 | Z31: 0
D32: 原住民Indigenous | E32: 45 | F32: 20 | G32: 25 | H32: 0 | I32: 0 | J32: 0 | L32: 0 | M32: 0 | N32: 0 | P32: 0 | Q32: 0 | R32: 0 | U32: 45 | V32: 20 | W32: 25 | X32: 0 | Y32: 0 | Z32: 0
C33: 身心障礙 Disability | D33: 一般General | E33: 81 | F33: 45 | G33: 36 | H33: 0 | I33: 0 | J33: 0 | L33: 0 | M33: 0 | N33: 0 | P33: 0 | Q33: 0 | R33: 0 | U33: 81 | V33: 45 | W33: 36 | X33: 0 | Y33: 0 | Z33: 0
D34: 原住民Indigenous | E34: 5 | F34: 3 | G34: 2 | H34: 0 | I34: 0 | J34: 0 | L34: 0 | M34: 0 | N34: 0 | P34: 0 | Q34: 0 | R34: 0 | U34: 5 | V34: 3 | W34: 2 | X34: 0 | Y34: 0 | Z34: 0
B35: 本轄安置 Local Resettlement | C35: 計Total | E35: 249 | F35: 125 | G35: 124 | H35: 0 | I35: 0 | J35: 0 | L35: 0 | M35: 0 | N35: 0 | P35: 0 | Q35: 0 | R35: 0 | U35: 249 | V35: 125 | W35: 124 | X35: 0 | Y35: 0 | Z35: 0
C36: 小計 Total | D36: 一般General | E36: 220 | F36: 111 | G36: 109 | H36: 0 | I36: 0 | J36: 0 | L36: 0 | M36: 0 | N36: 0 | P36: 0 | Q36: 0 | R36: 0 | U36: 220 | V36: 111 | W36: 109 | X36: 0 | Y36: 0 | Z36: 0
D37: 原住民Indigenous | E37: 29 | F37: 14 | G37: 15 | H37: 0 | I37: 0 | J37: 0 | L37: 0 | M37: 0 | N37: 0 | P37: 0 | Q37: 0 | R37: 0 | U37: 29 | V37: 14 | W37: 15 | X37: 0 | Y37: 0 | Z37: 0
C38: 一般 General | D38: 一般General | E38: 181 | F38: 91 | G38: 90 | H38: 0 | I38: 0 | J38: 0 | L38: 0 | M38: 0 | N38: 0 | P38: 0 | Q38: 0 | R38: 0 | U38: 181 | V38: 91 | W38: 90 | X38: 0 | Y38: 0 | Z38: 0
D39: 原住民Indigenous | E39: 27 | F39: 12 | G39: 15 | H39: 0 | I39: 0 | J39: 0 | L39: 0 | M39: 0 | N39: 0 | P39: 0 | Q39: 0 | R39: 0 | U39: 27 | V39: 12 | W39: 15 | X39: 0 | Y39: 0 | Z39: 0
C40: 身心障礙 Disability | D40: 一般General | E40: 39 | F40: 20 | G40: 19 | H40: 0 | I40: 0 | J40: 0 | L40: 0 | M40: 0 | N40: 0 | P40: 0 | Q40: 0 | R40: 0 | U40: 39 | V40: 20 | W40: 19 | X40: 0 | Y40: 0 | Z40: 0
D41: 原住民Indigenous | E41: 2 | F41: 2 | G41: 0 | H41: 0 | I41: 0 | J41: 0 | L41: 0 | M41: 0 | N41: 0 | P41: 0 | Q41: 0 | R41: 0 | U41: 2 | V41: 2 | W41: 0 | X41: 0 | Y41: 0 | Z41: 0
B42: 外轄安置External Resettlement | C42: 計Total | E42: 207 | F42: 96 | G42: 111 | H42: 0 | I42: 0 | J42: 0 | L42: 0 | M42: 0 | N42: 0 | P42: 0 | Q42: 0 | R42: 0 | U42: 207 | V42: 96 | W42: 111 | X42: 0 | Y42: 0 | Z42: 0
C43: 小計 Total | D43: 一般General | E43: 186 | F43: 87 | G43: 99 | H43: 0 | I43: 0 | J43: 0 | L43: 0 | M43: 0 | N43: 0 | P43: 0 | Q43: 0 | R43: 0 | U43: 186 | V43: 87 | W43: 99 | X43: 0 | Y43: 0 | Z43: 0
D44: 原住民Indigenous | E44: 21 | F44: 9 | G44: 12 | H44: 0 | I44: 0 | J44: 0 | L44: 0 | M44: 0 | N44: 0 | P44: 0 | Q44: 0 | R44: 0 | U44: 21 | V44: 9 | W44: 12 | X44: 0 | Y44: 0 | Z44: 0
C45: 一般 General | D45: 一般General | E45: 144 | F45: 62 | G45: 82 | H45: 0 | I45: 0 | J45: 0 | L45: 0 | M45: 0 | N45: 0 | P45: 0 | Q45: 0 | R45: 0 | U45: 144 | V45: 62 | W45: 82 | X45: 0 | Y45: 0 | Z45: 0
D46: 原住民Indigenous | E46: 18 | F46: 8 | G46: 10 | H46: 0 | I46: 0 | J46: 0 | L46: 0 | M46: 0 | N46: 0 | P46: 0 | Q46: 0 | R46: 0 | U46: 18 | V46: 8 | W46: 10 | X46: 0 | Y46: 0 | Z46: 0
C47: 身心障礙 Disability | D47: 一般General | E47: 42 | F47: 25 | G47: 17 | H47: 0 | I47: 0 | J47: 0 | L47: 0 | M47: 0 | N47: 0 | P47: 0 | Q47: 0 | R47: 0 | U47: 42 | V47: 25 | W47: 17 | X47: 0 | Y47: 0 | Z47: 0
D48: 原住民Indigenous | E48: 3 | F48: 1 | G48: 2 | H48: 0 | I48: 0 | J48: 0 | L48: 0 | M48: 0 | N48: 0 | P48: 0 | Q48: 0 | R48: 0 | U48: 3 | V48: 1 | W48: 2 | X48: 0 | Y48: 0 | Z48: 0
A49: 新北市 New Taipei City | B49: 合計 Total | C49: 計Total | E49: 504 | F49: 263 | G49: 241 | H49: 50 | I49: 22 | J49: 28 | K49: 159 | L49: 206 | M49: 99 | N49: 107 | O49: 27 | P49: 63 | Q49: 38 | R49: 25 | S49: 8 | T49: 217 | U49: 109 | V49: 60 | W49: 49 | X49: 76 | Y49: 44 | Z49: 32
C50: 小計 Total | D50: 一般General | E50: 460 | F50: 239 | G50: 221 | H50: 45 | I50: 20 | J50: 25 | L50: 188 | M50: 92 | N50: 96 | P50: 58 | Q50: 33 | R50: 25 | U50: 99 | V50: 54 | W50: 45 | X50: 70 | Y50: 40 | Z50: 30
D51: 原住民Indigenous | E51: 44 | F51: 24 | G51: 20 | H51: 5 | I51: 2 | J51: 3 | L51: 18 | M51: 7 | N51: 11 | P51: 5 | Q51: 5 | R51: 0 | U51: 10 | V51: 6 | W51: 4 | X51: 6 | Y51: 4 | Z51: 2
C52: 一般 General | D52: 一般General | E52: 336 | F52: 170 | G52: 166 | H52: 40 | I52: 17 | J52: 23 | L52: 151 | M52: 75 | N52: 76 | P52: 33 | Q52: 19 | R52: 14 | U52: 79 | V52: 42 | W52: 37 | X52: 33 | Y52: 17 | Z52: 16
D53: 原住民Indigenous | E53: 35 | F53: 17 | G53: 18 | H53: 4 | I53: 1 | J53: 3 | L53: 16 | M53: 6 | N53: 10 | P53: 3 | Q53: 3 | R53: 0 | U53: 10 | V53: 6 | W53: 4 | X53: 2 | Y53: 1 | Z53: 1
C54: 身心障礙 Disability | D54: 一般General | E54: 124 | F54: 69 | G54: 55 | H54: 5 | I54: 3 | J54: 2 | L54: 37 | M54: 17 | N54: 20 | P54: 25 | Q54: 14 | R54: 11 | U54: 20 | V54: 12 | W54: 8 | X54: 37 | Y54: 23 | Z54: 14
D55: 原住民Indigenous | E55: 9 | F55: 7 | G55: 2 | H55: 1 | I55: 1 | J55: 0 | L55: 2 | M55: 1 | N55: 1 | P55: 2 | Q55: 2 | R55: 0 | U55: 0 | V55: 0 | W55: 0 | X55: 4 | Y55: 3 | Z55: 1
B56: 本轄安置 Local Resettlement | C56: 計Total | E56: 446 | F56: 234 | G56: 212 | H56: 41 | I56: 18 | J56: 23 | L56: 200 | M56: 97 | N56: 103 | P56: 63 | Q56: 38 | R56: 25 | U56: 88 | V56: 51 | W56: 37 | X56: 54 | Y56: 30 | Z56: 24
C57: 小計 Total | D57: 一般General | E57: 412 | F57: 214 | G57: 198 | H57: 37 | I57: 16 | J57: 21 | L57: 186 | M57: 91 | N57: 95 | P57: 58 | Q57: 33 | R57: 25 | U57: 82 | V57: 47 | W57: 35 | X57: 49 | Y57: 27 | Z57: 22
D58: 原住民Indigenous | E58: 34 | F58: 20 | G58: 14 | H58: 4 | I58: 2 | J58: 2 | L58: 14 | M58: 6 | N58: 8 | P58: 5 | Q58: 5 | R58: 0 | U58: 6 | V58: 4 | W58: 2 | X58: 5 | Y58: 3 | Z58: 2
C59: 一般 General | D59: 一般General | E59: 305 | F59: 155 | G59: 150 | H59: 32 | I59: 13 | J59: 19 | L59: 149 | M59: 74 | N59: 75 | P59: 33 | Q59: 19 | R59: 14 | U59: 64 | V59: 36 | W59: 28 | X59: 27 | Y59: 13 | Z59: 14
D60: 原住民Indigenous | E60: 26 | F60: 14 | G60: 12 | H60: 3 | I60: 1 | J60: 2 | L60: 12 | M60: 5 | N60: 7 | P60: 3 | Q60: 3 | R60: 0 | U60: 6 | V60: 4 | W60: 2 | X60: 2 | Y60: 1 | Z60: 1
C61: 身心障礙 Disability | D61: 一般General | E61: 107 | F61: 59 | G61: 48 | H61: 5 | I61: 3 | J61: 2 | L61: 37 | M61: 17 | N61: 20 | P61: 25 | Q61: 14 | R61: 11 | U61: 18 | V61: 11 | W61: 7 | X61: 22 | Y61: 14 | Z61: 8
D62: 原住民Indigenous | E62: 8 | F62: 6 | G62: 2 | H62: 1 | I62: 1 | J62: 0 | L62: 2 | M62: 1 | N62: 1 | P62: 2 | Q62: 2 | R62: 0 | U62: 0 | V62: 0 | W62: 0 | X62: 3 | Y62: 2 | Z62: 1
B63: 外轄安置External Resettlement | C63: 計Total | E63: 58 | F63: 29 | G63: 29 | H63: 9 | I63: 4 | J63: 5 | L63: 6 | M63: 2 | N63: 4 | P63: 0 | Q63: 0 | R63: 0 | U63: 21 | V63: 9 | W63: 12 | X63: 22 | Y63: 14 | Z63: 8
C64: 小計 Total | D64: 一般General | E64: 48 | F64: 25 | G64: 23 | H64: 8 | I64: 4 | J64: 4 | L64: 2 | M64: 1 | N64: 1 | P64: 0 | Q64: 0 | R64: 0 | U64: 17 | V64: 7 | W64: 10 | X64: 21 | Y64: 13 | Z64: 8
D65: 原住民Indigenous | E65: 10 | F65: 4 | G65: 6 | H65: 1 | I65: 0 | J65: 1 | L65: 4 | M65: 1 | N65: 3 | P65: 0 | Q65: 0 | R65: 0 | U65: 4 | V65: 2 | W65: 2 | X65: 1 | Y65: 1 | Z65: 0
C66: 一般 General | D66: 一般General | E66: 31 | F66: 15 | G66: 16 | H66: 8 | I66: 4 | J66: 4 | L66: 2 | M66: 1 | N66: 1 | P66: 0 | Q66: 0 | R66: 0 | U66: 15 | V66: 6 | W66: 9 | X66: 6 | Y66: 4 | Z66: 2
D67: 原住民Indigenous | E67: 9 | F67: 3 | G67: 6 | H67: 1 | I67: 0 | J67: 1 | L67: 4 | M67: 1 | N67: 3 | P67: 0 | Q67: 0 | R67: 0 | U67: 4 | V67: 2 | W67: 2 | X67: 0 | Y67: 0 | Z67: 0
C68: 身心障礙 Disability | D68: 一般General | E68: 17 | F68: 10 | G68: 7 | H68: 0 | I68: 0 | J68: 0 | L68: 0 | M68: 0 | N68: 0 | P68: 0 | Q68: 0 | R68: 0 | U68: 2 | V68: 1 | W68: 1 | X68: 15 | Y68: 9 | Z68: 6
D69: 原住民Indigenous | E69: 1 | F69: 1 | G69: 0 | H69: 0 | I69: 0 | J69: 0 | L69: 0 | M69: 0 | N69: 0 | P69: 0 | Q69: 0 | R69: 0 | U69: 0 | V69: 0 | W69: 0 | X69: 1 | Y69: 1 | Z69: 0
A70: 臺北市 Taipei City | B70: 合計 Total | C70: 計Total | E70: 358 | F70: 187 | G70: 171 | H70: 9 | I70: 2 | J70: 7 | K70: 77 | L70: 98 | M70: 50 | N70: 48 | O70: 12 | P70: 35 | Q70: 21 | R70: 14 | S70: 16 | T70: 371 | U70: 214 | V70: 114 | W70: 100 | X70: 2 | Y70: 0 | Z70: 2
C71: 小計 Total | D71: 一般General | E71: 333 | F71: 173 | G71: 160 | H71: 8 | I71: 2 | J71: 6 | L71: 89 | M71: 47 | N71: 42 | P71: 34 | Q71: 20 | R71: 14 | U71: 200 | V71: 104 | W71: 96 | X71: 2 | Y71: 0 | Z71: 2
D72: 原住民Indigenous | E72: 25 | F72: 14 | G72: 11 | H72: 1 | I72: 0 | J72: 1 | L72: 9 | M72: 3 | N72: 6 | P72: 1 | Q72: 1 | R72: 0 | U72: 14 | V72: 10 | W72: 4 | X72: 0 | Y72: 0 | Z72: 0
C73: 一般 General | D73: 一般General | E73: 283 | F73: 145 | G73: 138 | H73: 8 | I73: 2 | J73: 6 | L73: 82 | M73: 41 | N73: 41 | P73: 20 | Q73: 13 | R73: 7 | U73: 173 | V73: 89 | W73: 84 | X73: 0 | Y73: 0 | Z73: 0
D74: 原住民Indigenous | E74: 22 | F74: 13 | G74: 9 | H74: 0 | I74: 0 | J74: 0 | L74: 9 | M74: 3 | N74: 6 | P74: 1 | Q74: 1 | R74: 0 | U74: 12 | V74: 9 | W74: 3 | X74: 0 | Y74: 0 | Z74: 0
C75: 身心障礙 Disability | D75: 一般General | E75: 50 | F75: 28 | G75: 22 | H75: 0 | I75: 0 | J75: 0 | L75: 7 | M75: 6 | N75: 1 | P75: 14 | Q75: 7 | R75: 7 | U75: 27 | V75: 15 | W75: 12 | X75: 2 | Y75: 0 | Z75: 2
D76: 原住民Indigenous | E76: 3 | F76: 1 | G76: 2 | H76: 1 | I76: 0 | J76: 1 | L76: 0 | M76: 0 | N76: 0 | P76: 0 | Q76: 0 | R76: 0 | U76: 2 | V76: 1 | W76: 1 | X76: 0 | Y76: 0 | Z76: 0
B77: 本轄安置 Local Resettlement | C77: 計Total | E77: 219 | F77: 111 | G77: 108 | H77: 8 | I77: 2 | J77: 6 | L77: 93 | M77: 46 | N77: 47 | P77: 35 | Q77: 21 | R77: 14 | U77: 81 | V77: 42 | W77: 39 | X77: 2 | Y77: 0 | Z77: 2
C78: 小計 Total | D78: 一般General | E78: 208 | F78: 106 | G78: 102 | H78: 7 | I78: 2 | J78: 5 | L78: 86 | M78: 44 | N78: 42 | P78: 34 | Q78: 20 | R78: 14 | U78: 79 | V78: 40 | W78: 39 | X78: 2 | Y78: 0 | Z78: 2
D79: 原住民Indigenous | E79: 11 | F79: 5 | G79: 6 | H79: 1 | I79: 0 | J79: 1 | L79: 7 | M79: 2 | N79: 5 | P79: 1 | Q79: 1 | R79: 0 | U79: 2 | V79: 2 | W79: 0 | X79: 0 | Y79: 0 | Z79: 0
C80: 一般 General | D80: 一般General | E80: 173 | F80: 86 | G80: 87 | H80: 7 | I80: 2 | J80: 5 | L80: 79 | M80: 38 | N80: 41 | P80: 20 | Q80: 13 | R80: 7 | U80: 67 | V80: 33 | W80: 34 | X80: 0 | Y80: 0 | Z80: 0
D81: 原住民Indigenous | E81: 10 | F81: 5 | G81: 5 | H81: 0 | I81: 0 | J81: 0 | L81: 7 | M81: 2 | N81: 5 | P81: 1 | Q81: 1 | R81: 0 | U81: 2 | V81: 2 | W81: 0 | X81: 0 | Y81: 0 | Z81: 0
C82: 身心障礙 Disability | D82: 一般General | E82: 35 | F82: 20 | G82: 15 | H82: 0 | I82: 0 | J82: 0 | L82: 7 | M82: 6 | N82: 1 | P82: 14 | Q82: 7 | R82: 7 | U82: 12 | V82: 7 | W82: 5 | X82: 2 | Y82: 0 | Z82: 2
D83: 原住民Indigenous | E83: 1 | F83: 0 | G83: 1 | H83: 1 | I83: 0 | J83: 1 | L83: 0 | M83: 0 | N83: 0 | P83: 0 | Q83: 0 | R83: 0 | U83: 0 | V83: 0 | W83: 0 | X83: 0 | Y83: 0 | Z83: 0
B84: 外轄安置External Resettlement | C84: 計Total | E84: 139 | F84: 76 | G84: 63 | H84: 1 | I84: 0 | J84: 1 | L84: 5 | M84: 4 | N84: 1 | P84: 0 | Q84: 0 | R84: 0 | U84: 133 | V84: 72 | W84: 61 | X84: 0 | Y84: 0 | Z84: 0
C85: 小計 Total | D85: 一般General | E85: 125 | F85: 67 | G85: 58 | H85: 1 | I85: 0 | J85: 1 | L85: 3 | M85: 3 | N85: 0 | P85: 0 | Q85: 0 | R85: 0 | U85: 121 | V85: 64 | W85: 57 | X85: 0 | Y85: 0 | Z85: 0
D86: 原住民Indigenous | E86: 14 | F86: 9 | G86: 5 | H86: 0 | I86: 0 | J86: 0 | L86: 2 | M86: 1 | N86: 1 | P86: 0 | Q86: 0 | R86: 0 | U86: 12 | V86: 8 | W86: 4 | X86: 0 | Y86: 0 | Z86: 0
C87: 一般 General | D87: 一般General | E87: 110 | F87: 59 | G87: 51 | H87: 1 | I87: 0 | J87: 1 | L87: 3 | M87: 3 | N87: 0 | P87: 0 | Q87: 0 | R87: 0 | U87: 106 | V87: 56 | W87: 50 | X87: 0 | Y87: 0 | Z87: 0
D88: 原住民Indigenous | E88: 12 | F88: 8 | G88: 4 | H88: 0 | I88: 0 | J88: 0 | L88: 2 | M88: 1 | N88: 1 | P88: 0 | Q88: 0 | R88: 0 | U88: 10 | V88: 7 | W88: 3 | X88: 0 | Y88: 0 | Z88: 0
C89: 身心障礙 Disability | D89: 一般General | E89: 15 | F89: 8 | G89: 7 | H89: 0 | I89: 0 | J89: 0 | L89: 0 | M89: 0 | N89: 0 | P89: 0 | Q89: 0 | R89: 0 | U89: 15 | V89: 8 | W89: 7 | X89: 0 | Y89: 0 | Z89: 0
D90: 原住民Indigenous | E90: 2 | F90: 1 | G90: 1 | H90: 0 | I90: 0 | J90: 0 | L90: 0 | M90: 0 | N90: 0 | P90: 0 | Q90: 0 | R90: 0 | U90: 2 | V90: 1 | W90: 1 | X90: 0 | Y90: 0 | Z90: 0
A91: 桃園市 Taoyuan City | B91: 合計 Total | C91: 計Total | E91: 348 | F91: 206 | G91: 142 | H91: 22 | I91: 9 | J91: 13 | K91: 89 | L91: 109 | M91: 65 | N91: 44 | O91: 4 | P91: 14 | Q91: 13 | R91: 1 | S91: 7 | T91: 201 | U91: 149 | V91: 88 | W91: 61 | X91: 54 | Y91: 31 | Z91: 23
C92: 小計 Total | D92: 一般General | E92: 292 | F92: 174 | G92: 118 | H92: 17 | I92: 8 | J92: 9 | L92: 89 | M92: 55 | N92: 34 | P92: 13 | Q92: 12 | R92: 1 | U92: 127 | V92: 74 | W92: 53 | X92: 46 | Y92: 25 | Z92: 21
D93: 原住民Indigenous | E93: 56 | F93: 32 | G93: 24 | H93: 5 | I93: 1 | J93: 4 | L93: 20 | M93: 10 | N93: 10 | P93: 1 | Q93: 1 | R93: 0 | U93: 22 | V93: 14 | W93: 8 | X93: 8 | Y93: 6 | Z93: 2
C94: 一般 General | D94: 一般General | E94: 232 | F94: 134 | G94: 98 | H94: 15 | I94: 6 | J94: 9 | L94: 77 | M94: 48 | N94: 29 | P94: 5 | Q94: 5 | R94: 0 | U94: 106 | V94: 61 | W94: 45 | X94: 29 | Y94: 14 | Z94: 15
D95: 原住民Indigenous | E95: 45 | F95: 24 | G95: 21 | H95: 5 | I95: 1 | J95: 4 | L95: 18 | M95: 8 | N95: 10 | P95: 0 | Q95: 0 | R95: 0 | U95: 19 | V95: 13 | W95: 6 | X95: 3 | Y95: 2 | Z95: 1
C96: 身心障礙 Disability | D96: 一般General | E96: 60 | F96: 40 | G96: 20 | H96: 2 | I96: 2 | J96: 0 | L96: 12 | M96: 7 | N96: 5 | P96: 8 | Q96: 7 | R96: 1 | U96: 21 | V96: 13 | W96: 8 | X96: 17 | Y96: 11 | Z96: 6
D97: 原住民Indigenous | E97: 11 | F97: 8 | G97: 3 | H97: 0 | I97: 0 | J97: 0 | L97: 2 | M97: 2 | N97: 0 | P97: 1 | Q97: 1 | R97: 0 | U97: 3 | V97: 1 | W97: 2 | X97: 5 | Y97: 4 | Z97: 1
B98: 本轄安置 Local Resettlement | C98: 計Total | E98: 287 | F98: 170 | G98: 117 | H98: 17 | I98: 5 | J98: 12 | L98: 109 | M98: 65 | N98: 44 | P98: 14 | Q98: 13 | R98: 1 | U98: 110 | V98: 68 | W98: 42 | X98: 37 | Y98: 19 | Z98: 18
C99: 小計 Total | D99: 一般General | E99: 243 | F99: 146 | G99: 97 | H99: 13 | I99: 5 | J99: 8 | L99: 89 | M99: 55 | N99: 34 | P99: 13 | Q99: 12 | R99: 1 | U99: 94 | V99: 57 | W99: 37 | X99: 34 | Y99: 17 | Z99: 17
D100: 原住民Indigenous | E100: 44 | F100: 24 | G100: 20 | H100: 4 | I100: 0 | J100: 4 | L100: 20 | M100: 10 | N100: 10 | P100: 1 | Q100: 1 | R100: 0 | U100: 16 | V100: 11 | W100: 5 | X100: 3 | Y100: 2 | Z100: 1
...

Sheet 2023
A1: 兒童及少年家外安置概況Placement of Child and Youth Outside the Home
A2: 112年底, End of 2023
A3: 單位：人、戶、家、所、床 | E3: =IF(E7=SUM(E28,E49,E70,E91,E112,E133,E154,E175,E196,E217,E238,E259,E280,E301,E322,E343,E364,E385,E406,E427,E448,E469,E490),"",SUM(E28,E49,E70,E91,E112,E133,E154,E175,E196,E217,E238,E259,E280,E301,E322,E343,E364,E385,E406,E427,E448,E469,E490)) | F3: =IF(F7=SUM(F28,F49,F70,F91,F112,F133,F154,F175,F196,F217,F238,F259,F280,F301,F322,F343,F364,F385,F406,F427,F448,F469,F490),"",SUM(F28,F49,F70,F91,F112,F133,F154,F175,F196,F217,F238,F259,F280,F301,F322,F343,F364,F385,F406,F427,F448,F469,F490)) | G3: =IF(G7=SUM(G28,G49,G70,G91,G112,G133,G154,G175,G196,G217,G238,G259,G280,G301,G322,G343,G364,G385,G406,G427,G448,G469,G490),"",SUM(G28,G49,G70,G91,G112,G133,G154,G175,G196,G217,G238,G259,G280,G301,G322,G343,G364,G385,G406,G427,G448,G469,G490)) | H3: =IF(H7=SUM(H28,H49,H70,H91,H112,H133,H154,H175,H196,H217,H238,H259,H280,H301,H322,H343,H364,H385,H406,H427,H448,H469,H490),"",SUM(H28,H49,H70,H91,H112,H133,H154,H175,H196,H217,H238,H259,H280,H301,H322,H343,H364,H385,H406,H427,H448,H469,H490)) | I3: =IF(I7=SUM(I28,I49,I70,I91,I112,I133,I154,I175,I196,I217,I238,I259,I280,I301,I322,I343,I364,I385,I406,I427,I448,I469,I490),"",SUM(I28,I49,I70,I91,I112,I133,I154,I175,I196,I217,I238,I259,I280,I301,I322,I343,I364,I385,I406,I427,I448,I469,I490)) | J3: =IF(J7=SUM(J28,J49,J70,J91,J112,J133,J154,J175,J196,J217,J238,J259,J280,J301,J322,J343,J364,J385,J406,J427,J448,J469,J490),"",SUM(J28,J49,J70,J91,J112,J133,J154,J175,J196,J217,J238,J259,J280,J301,J322,J343,J364,J385,J406,J427,J448,J469,J490)) | K3: =IF(K7=SUM(K28,K49,K70,K91,K112,K133,K154,K175,K196,K217,K238,K259,K280,K301,K322,K343,K364,K385,K406,K427,K448,K469,K490),"",SUM(K28,K49,K70,K91,K112,K133,K154,K175,K196,K217,K238,K259,K280,K301,K322,K343,K364,K385,K406,K427,K448,K469,K490)) | L3: =IF(L7=SUM(L28,L49,L70,L91,L112,L133,L154,L175,L196,L217,L238,L259,L280,L301,L322,L343,L364,L385,L406,L427,L448,L469,L490),"",SUM(L28,L49,L70,L91,L112,L133,L154,L175,L196,L217,L238,L259,L280,L301,L322,L343,L364,L385,L406,L427,L448,L469,L490)) | ... Z3: =IF(Z7=SUM(Z28,Z49,Z70,Z91,Z112,Z133,Z154,Z175,Z196,Z217,Z238,Z259,Z280,Z301,Z322,Z343,Z364,Z385,Z406,Z427,Z448,Z469,Z490),"",SUM(Z28,Z49,Z70,Z91,Z112,Z133,Z154,Z175,Z196,Z217,Z238,Z259,Z280,Z301,Z322,Z343,Z364,Z385,Z406,Z427,Z448,Z469,Z490))
A4: 區域及特殊族群別 Locality & Ethnos | E4: 總計Total | H4: 親屬安置Relative Placement | K4: 寄養家庭Fostering Families | O4: 團體家庭Group Family | S4: 安置及教養機構Residential Institutions | X4: 其他Others
E5: 本期底安置人數（人） No. of Resettlers at the End of the Period | H5: 本期底安置人數（人） No. of Resettlers at the End of the Period | K5: 寄養家庭數 (戶) No. of Households | L5: 本期底安置人數（人） No. of Resettlers at the End of the Period | O5: 團體家庭數(家) No. of Group Households | P5: 本期底安置人數（人） No. of Resettlers at the End of the Period | S5: 所數 No. of Institutions | T5: 床位數 No. of Providing | U5: 本期底安置人數（人） No. of Resettlers at the End of the Period | X5: 本期底安置人數（人） No. of Resettlers at the End of the Period
E6: 計Total | F6: 男Male | G6: 女Female | H6: 計Total | I6: 男Male | J6: 女Female | L6: 計Total | M6: 男Male | N6: 女Female | P6: 計Total | Q6: 男Male | R6: 女Female | U6: 計Total | V6: 男Male | W6: 女Female | X6: 計Total | Y6: 男Male | Z6: 女Female
A7: 總計 Total | B7: 合計 Total | C7: 計Total | E7: 4590 | F7: 2354 | G7: 2236 | H7: 286 | I7: 147 | J7: 139 | K7: 1342 | L7: 1587 | M7: 812 | N7: 775 | O7: 42 | P7: 123 | Q7: 79 | R7: 44 | S7: 113 | T7: 4095 | U7: 2197 | V7: 1098 | W7: 1099 | X7: 397 | Y7: 218 | Z7: 179
C8: 小計 Total | D8: 一般General | E8: 3889 | F8: 1986 | G8: 1903 | H8: 243 | I8: 127 | J8: 116 | L8: 1339 | M8: 688 | N8: 651 | P8: 114 | Q8: 70 | R8: 44 | U8: 1858 | V8: 918 | W8: 940 | X8: 335 | Y8: 183 | Z8: 152
D9: 原住民Indigenous | E9: 701 | F9: 368 | G9: 333 | H9: 43 | I9: 20 | J9: 23 | L9: 248 | M9: 124 | N9: 124 | P9: 9 | Q9: 9 | R9: 0 | U9: 339 | V9: 180 | W9: 159 | X9: 62 | Y9: 35 | Z9: 27
C10: 一般 General | D10: 一般General | E10: 3057 | F10: 1539 | G10: 1518 | H10: 218 | I10: 113 | J10: 105 | L10: 1093 | M10: 554 | N10: 539 | P10: 60 | Q10: 39 | R10: 21 | U10: 1521 | V10: 749 | W10: 772 | X10: 165 | Y10: 84 | Z10: 81
D11: 原住民Indigenous | E11: 561 | F11: 287 | G11: 274 | H11: 41 | I11: 19 | J11: 22 | L11: 203 | M11: 96 | N11: 107 | P11: 5 | Q11: 5 | R11: 0 | U11: 277 | V11: 147 | W11: 130 | X11: 35 | Y11: 20 | Z11: 15
C12: 身心障礙 Disability | D12: 一般General | E12: 832 | F12: 447 | G12: 385 | H12: 25 | I12: 14 | J12: 11 | L12: 246 | M12: 134 | N12: 112 | P12: 54 | Q12: 31 | R12: 23 | U12: 337 | V12: 169 | W12: 168 | X12: 170 | Y12: 99 | Z12: 71
D13: 原住民Indigenous | E13: 140 | F13: 81 | G13: 59 | H13: 2 | I13: 1 | J13: 1 | L13: 45 | M13: 28 | N13: 17 | P13: 4 | Q13: 4 | R13: 0 | U13: 62 | V13: 33 | W13: 29 | X13: 27 | Y13: 15 | Z13: 12
B14: 本轄安置 Local Resettlement | C14: 計Total | E14: 3214 | F14: 1656 | G14: 1558 | H14: 243 | I14: 128 | J14: 115 | L14: 1502 | M14: 782 | N14: 720 | P14: 73 | Q14: 49 | R14: 24 | U14: 1139 | V14: 560 | W14: 579 | X14: 257 | Y14: 137 | Z14: 120
C15: 小計 Total | D15: 一般General | E15: 2728 | F15: 1395 | G15: 1333 | H15: 209 | I15: 112 | J15: 97 | L15: 1274 | M15: 663 | N15: 611 | P15: 66 | Q15: 42 | R15: 24 | U15: 955 | V15: 461 | W15: 494 | X15: 224 | Y15: 117 | Z15: 107
D16: 原住民Indigenous | E16: 486 | F16: 261 | G16: 225 | H16: 34 | I16: 16 | J16: 18 | L16: 228 | M16: 119 | N16: 109 | P16: 7 | Q16: 7 | R16: 0 | U16: 184 | V16: 99 | W16: 85 | X16: 33 | Y16: 20 | Z16: 13
C17: 一般 General | D17: 一般General | E17: 2171 | F17: 1101 | G17: 1070 | H17: 187 | I17: 99 | J17: 88 | L17: 1038 | M17: 534 | N17: 504 | P17: 34 | Q17: 23 | R17: 11 | U17: 787 | V17: 382 | W17: 405 | X17: 125 | Y17: 63 | Z17: 62
D18: 原住民Indigenous | E18: 397 | F18: 203 | G18: 194 | H18: 33 | I18: 16 | J18: 17 | L18: 187 | M18: 92 | N18: 95 | P18: 4 | Q18: 4 | R18: 0 | U18: 150 | V18: 78 | W18: 72 | X18: 23 | Y18: 13 | Z18: 10
C19: 身心障礙 Disability | D19: 一般General | E19: 557 | F19: 294 | G19: 263 | H19: 22 | I19: 13 | J19: 9 | L19: 236 | M19: 129 | N19: 107 | P19: 32 | Q19: 19 | R19: 13 | U19: 168 | V19: 79 | W19: 89 | X19: 99 | Y19: 54 | Z19: 45
D20: 原住民Indigenous | E20: 89 | F20: 58 | G20: 31 | H20: 1 | I20: 0 | J20: 1 | L20: 41 | M20: 27 | N20: 14 | P20: 3 | Q20: 3 | R20: 0 | U20: 34 | V20: 21 | W20: 13 | X20: 10 | Y20: 7 | Z20: 3
B21: 外轄安置External Resettlement | C21: 計Total | E21: 1376 | F21: 698 | G21: 678 | H21: 43 | I21: 19 | J21: 24 | L21: 85 | M21: 30 | N21: 55 | P21: 50 | Q21: 30 | R21: 20 | U21: 1058 | V21: 538 | W21: 520 | X21: 140 | Y21: 81 | Z21: 59
C22: 小計 Total | D22: 一般General | E22: 1161 | F22: 591 | G22: 570 | H22: 34 | I22: 15 | J22: 19 | L22: 65 | M22: 25 | N22: 40 | P22: 48 | Q22: 28 | R22: 20 | U22: 903 | V22: 457 | W22: 446 | X22: 111 | Y22: 66 | Z22: 45
D23: 原住民Indigenous | E23: 215 | F23: 107 | G23: 108 | H23: 9 | I23: 4 | J23: 5 | L23: 20 | M23: 5 | N23: 15 | P23: 2 | Q23: 2 | R23: 0 | U23: 155 | V23: 81 | W23: 74 | X23: 29 | Y23: 15 | Z23: 14
C24: 一般 General | D24: 一般General | E24: 886 | F24: 438 | G24: 448 | H24: 31 | I24: 14 | J24: 17 | L24: 55 | M24: 20 | N24: 35 | P24: 26 | Q24: 16 | R24: 10 | U24: 734 | V24: 367 | W24: 367 | X24: 40 | Y24: 21 | Z24: 19
D25: 原住民Indigenous | E25: 164 | F25: 84 | G25: 80 | H25: 8 | I25: 3 | J25: 5 | L25: 16 | M25: 4 | N25: 12 | P25: 1 | Q25: 1 | R25: 0 | U25: 127 | V25: 69 | W25: 58 | X25: 12 | Y25: 7 | Z25: 5
C26: 身心障礙 Disability | D26: 一般General | E26: 275 | F26: 153 | G26: 122 | H26: 3 | I26: 1 | J26: 2 | L26: 10 | M26: 5 | N26: 5 | P26: 22 | Q26: 12 | R26: 10 | U26: 169 | V26: 90 | W26: 79 | X26: 71 | Y26: 45 | Z26: 26
D27: 原住民Indigenous | E27: 51 | F27: 23 | G27: 28 | H27: 1 | I27: 1 | J27: 0 | L27: 4 | M27: 1 | N27: 3 | P27: 1 | Q27: 1 | R27: 0 | U27: 28 | V27: 12 | W27: 16 | X27: 17 | Y27: 8 | Z27: 9
A28: 衛生福利部 Inst. of MOHW | B28: 合計 Total | C28: 計Total | E28: 560 | F28: 248 | G28: 312 | H28: 0 | I28: 0 | J28: 0 | K28: 0 | L28: 0 | M28: 0 | N28: 0 | O28: 0 | P28: 0 | Q28: 0 | R28: 0 | S28: 9 | T28: 797 | U28: 560 | V28: 248 | W28: 312 | X28: 0 | Y28: 0 | Z28: 0
C29: 小計 Total | D29: 一般General | E29: 506 | F29: 222 | G29: 284 | H29: 0 | I29: 0 | J29: 0 | L29: 0 | M29: 0 | N29: 0 | P29: 0 | Q29: 0 | R29: 0 | U29: 506 | V29: 222 | W29: 284 | X29: 0 | Y29: 0 | Z29: 0
D30: 原住民Indigenous | E30: 54 | F30: 26 | G30: 28 | H30: 0 | I30: 0 | J30: 0 | L30: 0 | M30: 0 | N30: 0 | P30: 0 | Q30: 0 | R30: 0 | U30: 54 | V30: 26 | W30: 28 | X30: 0 | Y30: 0 | Z30: 0
C31: 一般 General | D31: 一般General | E31: 422 | F31: 179 | G31: 243 | H31: 0 | I31: 0 | J31: 0 | L31: 0 | M31: 0 | N31: 0 | P31: 0 | Q31: 0 | R31: 0 | U31: 422 | V31: 179 | W31: 243 | X31: 0 | Y31: 0 | Z31: 0
D32: 原住民Indigenous | E32: 42 | F32: 19 | G32: 23 | H32: 0 | I32: 0 | J32: 0 | L32: 0 | M32: 0 | N32: 0 | P32: 0 | Q32: 0 | R32: 0 | U32: 42 | V32: 19 | W32: 23 | X32: 0 | Y32: 0 | Z32: 0
C33: 身心障礙 Disability | D33: 一般General | E33: 84 | F33: 43 | G33: 41 | H33: 0 | I33: 0 | J33: 0 | L33: 0 | M33: 0 | N33: 0 | P33: 0 | Q33: 0 | R33: 0 | U33: 84 | V33: 43 | W33: 41 | X33: 0 | Y33: 0 | Z33: 0
D34: 原住民Indigenous | E34: 12 | F34: 7 | G34: 5 | H34: 0 | I34: 0 | J34: 0 | L34: 0 | M34: 0 | N34: 0 | P34: 0 | Q34: 0 | R34: 0 | U34: 12 | V34: 7 | W34: 5 | X34: 0 | Y34: 0 | Z34: 0
B35: 本轄安置 Local Resettlement | C35: 計Total | E35: 276 | F35: 132 | G35: 144 | H35: 0 | I35: 0 | J35: 0 | L35: 0 | M35: 0 | N35: 0 | P35: 0 | Q35: 0 | R35: 0 | U35: 276 | V35: 132 | W35: 144 | X35: 0 | Y35: 0 | Z35: 0
C36: 小計 Total | D36: 一般General | E36: 251 | F36: 119 | G36: 132 | H36: 0 | I36: 0 | J36: 0 | L36: 0 | M36: 0 | N36: 0 | P36: 0 | Q36: 0 | R36: 0 | U36: 251 | V36: 119 | W36: 132 | X36: 0 | Y36: 0 | Z36: 0
D37: 原住民Indigenous | E37: 25 | F37: 13 | G37: 12 | H37: 0 | I37: 0 | J37: 0 | L37: 0 | M37: 0 | N37: 0 | P37: 0 | Q37: 0 | R37: 0 | U37: 25 | V37: 13 | W37: 12 | X37: 0 | Y37: 0 | Z37: 0
C38: 一般 General | D38: 一般General | E38: 219 | F38: 103 | G38: 116 | H38: 0 | I38: 0 | J38: 0 | L38: 0 | M38: 0 | N38: 0 | P38: 0 | Q38: 0 | R38: 0 | U38: 219 | V38: 103 | W38: 116 | X38: 0 | Y38: 0 | Z38: 0
D39: 原住民Indigenous | E39: 21 | F39: 10 | G39: 11 | H39: 0 | I39: 0 | J39: 0 | L39: 0 | M39: 0 | N39: 0 | P39: 0 | Q39: 0 | R39: 0 | U39: 21 | V39: 10 | W39: 11 | X39: 0 | Y39: 0 | Z39: 0
C40: 身心障礙 Disability | D40: 一般General | E40: 32 | F40: 16 | G40: 16 | H40: 0 | I40: 0 | J40: 0 | L40: 0 | M40: 0 | N40: 0 | P40: 0 | Q40: 0 | R40: 0 | U40: 32 | V40: 16 | W40: 16 | X40: 0 | Y40: 0 | Z40: 0
D41: 原住民Indigenous | E41: 4 | F41: 3 | G41: 1 | H41: 0 | I41: 0 | J41: 0 | L41: 0 | M41: 0 | N41: 0 | P41: 0 | Q41: 0 | R41: 0 | U41: 4 | V41: 3 | W41: 1 | X41: 0 | Y41: 0 | Z41: 0
B42: 外轄安置External Resettlement | C42: 計Total | E42: 284 | F42: 116 | G42: 168 | H42: 0 | I42: 0 | J42: 0 | L42: 0 | M42: 0 | N42: 0 | P42: 0 | Q42: 0 | R42: 0 | U42: 284 | V42: 116 | W42: 168 | X42: 0 | Y42: 0 | Z42: 0
C43: 小計 Total | D43: 一般General | E43: 255 | F43: 103 | G43: 152 | H43: 0 | I43: 0 | J43: 0 | L43: 0 | M43: 0 | N43: 0 | P43: 0 | Q43: 0 | R43: 0 | U43: 255 | V43: 103 | W43: 152 | X43: 0 | Y43: 0 | Z43: 0
D44: 原住民Indigenous | E44: 29 | F44: 13 | G44: 16 | H44: 0 | I44: 0 | J44: 0 | L44: 0 | M44: 0 | N44: 0 | P44: 0 | Q44: 0 | R44: 0 | U44: 29 | V44: 13 | W44: 16 | X44: 0 | Y44: 0 | Z44: 0
C45: 一般 General | D45: 一般General | E45: 203 | F45: 76 | G45: 127 | H45: 0 | I45: 0 | J45: 0 | L45: 0 | M45: 0 | N45: 0 | P45: 0 | Q45: 0 | R45: 0 | U45: 203 | V45: 76 | W45: 127 | X45: 0 | Y45: 0 | Z45: 0
D46: 原住民Indigenous | E46: 21 | F46: 9 | G46: 12 | H46: 0 | I46: 0 | J46: 0 | L46: 0 | M46: 0 | N46: 0 | P46: 0 | Q46: 0 | R46: 0 | U46: 21 | V46: 9 | W46: 12 | X46: 0 | Y46: 0 | Z46: 0
C47: 身心障礙 Disability | D47: 一般General | E47: 52 | F47: 27 | G47: 25 | H47: 0 | I47: 0 | J47: 0 | L47: 0 | M47: 0 | N47: 0 | P47: 0 | Q47: 0 | R47: 0 | U47: 52 | V47: 27 | W47: 25 | X47: 0 | Y47: 0 | Z47: 0
D48: 原住民Indigenous | E48: 8 | F48: 4 | G48: 4 | H48: 0 | I48: 0 | J48: 0 | L48: 0 | M48: 0 | N48: 0 | P48: 0 | Q48: 0 | R48: 0 | U48: 8 | V48: 4 | W48: 4 | X48: 0 | Y48: 0 | Z48: 0
A49: 新北市 New Taipei City | B49: 合計 Total | C49: 計Total | E49: 455 | F49: 248 | G49: 207 | H49: 28 | I49: 16 | J49: 12 | K49: 171 | L49: 214 | M49: 106 | N49: 108 | O49: 18 | P49: 51 | Q49: 32 | R49: 19 | S49: 8 | T49: 221 | U49: 101 | V49: 60 | W49: 41 | X49: 61 | Y49: 34 | Z49: 27
C50: 小計 Total | D50: 一般General | E50: 405 | F50: 217 | G50: 188 | H50: 26 | I50: 15 | J50: 11 | L50: 189 | M50: 93 | N50: 96 | P50: 46 | Q50: 27 | R50: 19 | U50: 90 | V50: 53 | W50: 37 | X50: 54 | Y50: 29 | Z50: 25
D51: 原住民Indigenous | E51: 50 | F51: 31 | G51: 19 | H51: 2 | I51: 1 | J51: 1 | L51: 25 | M51: 13 | N51: 12 | P51: 5 | Q51: 5 | R51: 0 | U51: 11 | V51: 7 | W51: 4 | X51: 7 | Y51: 5 | Z51: 2
C52: 一般 General | D52: 一般General | E52: 291 | F52: 149 | G52: 142 | H52: 24 | I52: 14 | J52: 10 | L52: 155 | M52: 73 | N52: 82 | P52: 26 | Q52: 16 | R52: 10 | U52: 71 | V52: 39 | W52: 32 | X52: 15 | Y52: 7 | Z52: 8
D53: 原住民Indigenous | E53: 35 | F53: 22 | G53: 13 | H53: 2 | I53: 1 | J53: 1 | L53: 20 | M53: 11 | N53: 9 | P53: 3 | Q53: 3 | R53: 0 | U53: 8 | V53: 5 | W53: 3 | X53: 2 | Y53: 2 | Z53: 0
C54: 身心障礙 Disability | D54: 一般General | E54: 114 | F54: 68 | G54: 46 | H54: 2 | I54: 1 | J54: 1 | L54: 34 | M54: 20 | N54: 14 | P54: 20 | Q54: 11 | R54: 9 | U54: 19 | V54: 14 | W54: 5 | X54: 39 | Y54: 22 | Z54: 17
D55: 原住民Indigenous | E55: 15 | F55: 9 | G55: 6 | H55: 0 | I55: 0 | J55: 0 | L55: 5 | M55: 2 | N55: 3 | P55: 2 | Q55: 2 | R55: 0 | U55: 3 | V55: 2 | W55: 1 | X55: 5 | Y55: 3 | Z55: 2
B56: 本轄安置 Local Resettlement | C56: 計Total | E56: 362 | F56: 202 | G56: 160 | H56: 22 | I56: 12 | J56: 10 | L56: 179 | M56: 95 | N56: 84 | P56: 36 | Q56: 24 | R56: 12 | U56: 81 | V56: 47 | W56: 34 | X56: 44 | Y56: 24 | Z56: 20
C57: 小計 Total | D57: 一般General | E57: 326 | F57: 180 | G57: 146 | H57: 20 | I57: 11 | J57: 9 | L57: 159 | M57: 83 | N57: 76 | P57: 33 | Q57: 21 | R57: 12 | U57: 74 | V57: 44 | W57: 30 | X57: 40 | Y57: 21 | Z57: 19
D58: 原住民Indigenous | E58: 36 | F58: 22 | G58: 14 | H58: 2 | I58: 1 | J58: 1 | L58: 20 | M58: 12 | N58: 8 | P58: 3 | Q58: 3 | R58: 0 | U58: 7 | V58: 3 | W58: 4 | X58: 4 | Y58: 3 | Z58: 1
C59: 一般 General | D59: 一般General | E59: 237 | F59: 125 | G59: 112 | H59: 18 | I59: 10 | J59: 8 | L59: 131 | M59: 66 | N59: 65 | P59: 18 | Q59: 13 | R59: 5 | U59: 57 | V59: 31 | W59: 26 | X59: 13 | Y59: 5 | Z59: 8
D60: 原住民Indigenous | E60: 26 | F60: 16 | G60: 10 | H60: 2 | I60: 1 | J60: 1 | L60: 16 | M60: 10 | N60: 6 | P60: 2 | Q60: 2 | R60: 0 | U60: 5 | V60: 2 | W60: 3 | X60: 1 | Y60: 1 | Z60: 0
C61: 身心障礙 Disability | D61: 一般General | E61: 89 | F61: 55 | G61: 34 | H61: 2 | I61: 1 | J61: 1 | L61: 28 | M61: 17 | N61: 11 | P61: 15 | Q61: 8 | R61: 7 | U61: 17 | V61: 13 | W61: 4 | X61: 27 | Y61: 16 | Z61: 11
D62: 原住民Indigenous | E62: 10 | F62: 6 | G62: 4 | H62: 0 | I62: 0 | J62: 0 | L62: 4 | M62: 2 | N62: 2 | P62: 1 | Q62: 1 | R62: 0 | U62: 2 | V62: 1 | W62: 1 | X62: 3 | Y62: 2 | Z62: 1
B63: 外轄安置External Resettlement | C63: 計Total | E63: 93 | F63: 46 | G63: 47 | H63: 6 | I63: 4 | J63: 2 | L63: 35 | M63: 11 | N63: 24 | P63: 15 | Q63: 8 | R63: 7 | U63: 20 | V63: 13 | W63: 7 | X63: 17 | Y63: 10 | Z63: 7
C64: 小計 Total | D64: 一般General | E64: 79 | F64: 37 | G64: 42 | H64: 6 | I64: 4 | J64: 2 | L64: 30 | M64: 10 | N64: 20 | P64: 13 | Q64: 6 | R64: 7 | U64: 16 | V64: 9 | W64: 7 | X64: 14 | Y64: 8 | Z64: 6
D65: 原住民Indigenous | E65: 14 | F65: 9 | G65: 5 | H65: 0 | I65: 0 | J65: 0 | L65: 5 | M65: 1 | N65: 4 | P65: 2 | Q65: 2 | R65: 0 | U65: 4 | V65: 4 | W65: 0 | X65: 3 | Y65: 2 | Z65: 1
C66: 一般 General | D66: 一般General | E66: 54 | F66: 24 | G66: 30 | H66: 6 | I66: 4 | J66: 2 | L66: 24 | M66: 7 | N66: 17 | P66: 8 | Q66: 3 | R66: 5 | U66: 14 | V66: 8 | W66: 6 | X66: 2 | Y66: 2 | Z66: 0
D67: 原住民Indigenous | E67: 9 | F67: 6 | G67: 3 | H67: 0 | I67: 0 | J67: 0 | L67: 4 | M67: 1 | N67: 3 | P67: 1 | Q67: 1 | R67: 0 | U67: 3 | V67: 3 | W67: 0 | X67: 1 | Y67: 1 | Z67: 0
C68: 身心障礙 Disability | D68: 一般General | E68: 25 | F68: 13 | G68: 12 | H68: 0 | I68: 0 | J68: 0 | L68: 6 | M68: 3 | N68: 3 | P68: 5 | Q68: 3 | R68: 2 | U68: 2 | V68: 1 | W68: 1 | X68: 12 | Y68: 6 | Z68: 6
D69: 原住民Indigenous | E69: 5 | F69: 3 | G69: 2 | H69: 0 | I69: 0 | J69: 0 | L69: 1 | M69: 0 | N69: 1 | P69: 1 | Q69: 1 | R69: 0 | U69: 1 | V69: 1 | W69: 0 | X69: 2 | Y69: 1 | Z69: 1
A70: 臺北市 Taipei City | B70: 合計 Total | C70: 計Total | E70: 377 | F70: 203 | G70: 174 | H70: 16 | I70: 9 | J70: 7 | K70: 103 | L70: 102 | M70: 54 | N70: 48 | O70: 12 | P70: 31 | Q70: 16 | R70: 15 | S70: 16 | T70: 428 | U70: 226 | V70: 124 | W70: 102 | X70: 2 | Y70: 0 | Z70: 2
C71: 小計 Total | D71: 一般General | E71: 351 | F71: 190 | G71: 161 | H71: 15 | I71: 9 | J71: 6 | L71: 94 | M71: 51 | N71: 43 | P71: 30 | Q71: 15 | R71: 15 | U71: 210 | V71: 115 | W71: 95 | X71: 2 | Y71: 0 | Z71: 2
D72: 原住民Indigenous | E72: 26 | F72: 13 | G72: 13 | H72: 1 | I72: 0 | J72: 1 | L72: 8 | M72: 3 | N72: 5 | P72: 1 | Q72: 1 | R72: 0 | U72: 16 | V72: 9 | W72: 7 | X72: 0 | Y72: 0 | Z72: 0
C73: 一般 General | D73: 一般General | E73: 291 | F73: 157 | G73: 134 | H73: 14 | I73: 8 | J73: 6 | L73: 85 | M73: 45 | N73: 40 | P73: 14 | Q73: 8 | R73: 6 | U73: 178 | V73: 96 | W73: 82 | X73: 0 | Y73: 0 | Z73: 0
D74: 原住民Indigenous | E74: 25 | F74: 13 | G74: 12 | H74: 0 | I74: 0 | J74: 0 | L74: 8 | M74: 3 | N74: 5 | P74: 1 | Q74: 1 | R74: 0 | U74: 16 | V74: 9 | W74: 7 | X74: 0 | Y74: 0 | Z74: 0
C75: 身心障礙 Disability | D75: 一般General | E75: 60 | F75: 33 | G75: 27 | H75: 1 | I75: 1 | J75: 0 | L75: 9 | M75: 6 | N75: 3 | P75: 16 | Q75: 7 | R75: 9 | U75: 32 | V75: 19 | W75: 13 | X75: 2 | Y75: 0 | Z75: 2
D76: 原住民Indigenous | E76: 1 | F76: 0 | G76: 1 | H76: 1 | I76: 0 | J76: 1 | L76: 0 | M76: 0 | N76: 0 | P76: 0 | Q76: 0 | R76: 0 | U76: 0 | V76: 0 | W76: 0 | X76: 0 | Y76: 0 | Z76: 0
B77: 本轄安置 Local Resettlement | C77: 計Total | E77: 219 | F77: 112 | G77: 107 | H77: 15 | I77: 9 | J77: 6 | L77: 98 | M77: 51 | N77: 47 | P77: 18 | Q77: 7 | R77: 11 | U77: 86 | V77: 45 | W77: 41 | X77: 2 | Y77: 0 | Z77: 2
C78: 小計 Total | D78: 一般General | E78: 207 | F78: 107 | G78: 100 | H78: 14 | I78: 9 | J78: 5 | L78: 90 | M78: 48 | N78: 42 | P78: 17 | Q78: 6 | R78: 11 | U78: 84 | V78: 44 | W78: 40 | X78: 2 | Y78: 0 | Z78: 2
D79: 原住民Indigenous | E79: 12 | F79: 5 | G79: 7 | H79: 1 | I79: 0 | J79: 1 | L79: 8 | M79: 3 | N79: 5 | P79: 1 | Q79: 1 | R79: 0 | U79: 2 | V79: 1 | W79: 1 | X79: 0 | Y79: 0 | Z79: 0
C80: 一般 General | D80: 一般General | E80: 171 | F80: 89 | G80: 82 | H80: 13 | I80: 8 | J80: 5 | L80: 82 | M80: 42 | N80: 40 | P80: 7 | Q80: 2 | R80: 5 | U80: 69 | V80: 37 | W80: 32 | X80: 0 | Y80: 0 | Z80: 0
D81: 原住民Indigenous | E81: 11 | F81: 5 | G81: 6 | H81: 0 | I81: 0 | J81: 0 | L81: 8 | M81: 3 | N81: 5 | P81: 1 | Q81: 1 | R81: 0 | U81: 2 | V81: 1 | W81: 1 | X81: 0 | Y81: 0 | Z81: 0
C82: 身心障礙 Disability | D82: 一般General | E82: 36 | F82: 18 | G82: 18 | H82: 1 | I82: 1 | J82: 0 | L82: 8 | M82: 6 | N82: 2 | P82: 10 | Q82: 4 | R82: 6 | U82: 15 | V82: 7 | W82: 8 | X82: 2 | Y82: 0 | Z82: 2
D83: 原住民Indigenous | E83: 1 | F83: 0 | G83: 1 | H83: 1 | I83: 0 | J83: 1 | L83: 0 | M83: 0 | N83: 0 | P83: 0 | Q83: 0 | R83: 0 | U83: 0 | V83: 0 | W83: 0 | X83: 0 | Y83: 0 | Z83: 0
B84: 外轄安置External Resettlement | C84: 計Total | E84: 158 | F84: 91 | G84: 67 | H84: 1 | I84: 0 | J84: 1 | L84: 4 | M84: 3 | N84: 1 | P84: 13 | Q84: 9 | R84: 4 | U84: 140 | V84: 79 | W84: 61 | X84: 0 | Y84: 0 | Z84: 0
C85: 小計 Total | D85: 一般General | E85: 144 | F85: 83 | G85: 61 | H85: 1 | I85: 0 | J85: 1 | L85: 4 | M85: 3 | N85: 1 | P85: 13 | Q85: 9 | R85: 4 | U85: 126 | V85: 71 | W85: 55 | X85: 0 | Y85: 0 | Z85: 0
D86: 原住民Indigenous | E86: 14 | F86: 8 | G86: 6 | H86: 0 | I86: 0 | J86: 0 | L86: 0 | M86: 0 | N86: 0 | P86: 0 | Q86: 0 | R86: 0 | U86: 14 | V86: 8 | W86: 6 | X86: 0 | Y86: 0 | Z86: 0
C87: 一般 General | D87: 一般General | E87: 120 | F87: 68 | G87: 52 | H87: 1 | I87: 0 | J87: 1 | L87: 3 | M87: 3 | N87: 0 | P87: 7 | Q87: 6 | R87: 1 | U87: 109 | V87: 59 | W87: 50 | X87: 0 | Y87: 0 | Z87: 0
D88: 原住民Indigenous | E88: 14 | F88: 8 | G88: 6 | H88: 0 | I88: 0 | J88: 0 | L88: 0 | M88: 0 | N88: 0 | P88: 0 | Q88: 0 | R88: 0 | U88: 14 | V88: 8 | W88: 6 | X88: 0 | Y88: 0 | Z88: 0
C89: 身心障礙 Disability | D89: 一般General | E89: 24 | F89: 15 | G89: 9 | H89: 0 | I89: 0 | J89: 0 | L89: 1 | M89: 0 | N89: 1 | P89: 6 | Q89: 3 | R89: 3 | U89: 17 | V89: 12 | W89: 5 | X89: 0 | Y89: 0 | Z89: 0
D90: 原住民Indigenous | E90: 0 | F90: 0 | G90: 0 | H90: 0 | I90: 0 | J90: 0 | L90: 0 | M90: 0 | N90: 0 | P90: 0 | Q90: 0 | R90: 0 | U90: 0 | V90: 0 | W90: 0 | X90: 0 | Y90: 0 | Z90: 0
A91: 桃園市 Taoyuan City | B91: 合計 Total | C91: 計Total | E91: 350 | F91: 196 | G91: 154 | H91: 18 | I91: 8 | J91: 10 | K91: 95 | L91: 112 | M91: 69 | N91: 43 | O91: 4 | P91: 13 | Q91: 12 | R91: 1 | S91: 7 | T91: 221 | U91: 132 | V91: 66 | W91: 66 | X91: 75 | Y91: 41 | Z91: 34
C92: 小計 Total | D92: 一般General | E92: 283 | F92: 162 | G92: 121 | H92: 14 | I92: 8 | J92: 6 | L92: 90 | M92: 58 | N92: 32 | P92: 13 | Q92: 12 | R92: 1 | U92: 106 | V92: 53 | W92: 53 | X92: 60 | Y92: 31 | Z92: 29
D93: 原住民Indigenous | E93: 67 | F93: 34 | G93: 33 | H93: 4 | I93: 0 | J93: 4 | L93: 22 | M93: 11 | N93: 11 | P93: 0 | Q93: 0 | R93: 0 | U93: 26 | V93: 13 | W93: 13 | X93: 15 | Y93: 10 | Z93: 5
C94: 一般 General | D94: 一般General | E94: 231 | F94: 133 | G94: 98 | H94: 13 | I94: 7 | J94: 6 | L94: 77 | M94: 51 | N94: 26 | P94: 7 | Q94: 7 | R94: 0 | U94: 93 | V94: 47 | W94: 46 | X94: 41 | Y94: 21 | Z94: 20
D95: 原住民Indigenous | E95: 58 | F95: 28 | G95: 30 | H95: 4 | I95: 0 | J95: 4 | L95: 20 | M95: 9 | N95: 11 | P95: 0 | Q95: 0 | R95: 0 | U95: 23 | V95: 12 | W95: 11 | X95: 11 | Y95: 7 | Z95: 4
C96: 身心障礙 Disability | D96: 一般General | E96: 52 | F96: 29 | G96: 23 | H96: 1 | I96: 1 | J96: 0 | L96: 13 | M96: 7 | N96: 6 | P96: 6 | Q96: 5 | R96: 1 | U96: 13 | V96: 6 | W96: 7 | X96: 19 | Y96: 10 | Z96: 9
D97: 原住民Indigenous | E97: 9 | F97: 6 | G97: 3 | H97: 0 | I97: 0 | J97: 0 | L97: 2 | M97: 2 | N97: 0 | P97: 0 | Q97: 0 | R97: 0 | U97: 3 | V97: 1 | W97: 2 | X97: 4 | Y97: 3 | Z97: 1
B98: 本轄安置 Local Resettlement | C98: 計Total | E98: 218 | F98: 125 | G98: 93 | H98: 13 | I98: 5 | J98: 8 | L98: 110 | M98: 68 | N98: 42 | P98: 0 | Q98: 0 | R98: 0 | U98: 78 | V98: 41 | W98: 37 | X98: 17 | Y98: 11 | Z98: 6
C99: 小計 Total | D99: 一般General | E99: 177 | F99: 105 | G99: 72 | H99: 10 | I99: 5 | J99: 5 | L99: 89 | M99: 58 | N99: 31 | P99: 0 | Q99: 0 | R99: 0 | U99: 63 | V99: 33 | W99: 30 | X99: 15 | Y99: 9 | Z99: 6
D100: 原住民Indigenous | E100: 41 | F100: 20 | G100: 21 | H100: 3 | I100: 0 | J100: 3 | L100: 21 | M100: 10 | N100: 11 | P100: 0 | Q100: 0 | R100: 0 | U100: 15 | V100: 8 | W100: 7 | X100: 2 | Y100: 2 | Z100: 0
...

Sheet 2022
A1: 兒童及少年家外安置概況Placement of Child and Youth Outside the Home
A2: 111年底, End of 2022
A3: 單位：人、戶、家、所、床 | E3: =IF(E7=SUM(E28,E49,E70,E91,E112,E133,E154,E175,E196,E217,E238,E259,E280,E301,E322,E343,E364,E385,E406,E427,E448,E469,E490),"",SUM(E28,E49,E70,E91,E112,E133,E154,E175,E196,E217,E238,E259,E280,E301,E322,E343,E364,E385,E406,E427,E448,E469,E490)) | F3: =IF(F7=SUM(F28,F49,F70,F91,F112,F133,F154,F175,F196,F217,F238,F259,F280,F301,F322,F343,F364,F385,F406,F427,F448,F469,F490),"",SUM(F28,F49,F70,F91,F112,F133,F154,F175,F196,F217,F238,F259,F280,F301,F322,F343,F364,F385,F406,F427,F448,F469,F490)) | G3: =IF(G7=SUM(G28,G49,G70,G91,G112,G133,G154,G175,G196,G217,G238,G259,G280,G301,G322,G343,G364,G385,G406,G427,G448,G469,G490),"",SUM(G28,G49,G70,G91,G112,G133,G154,G175,G196,G217,G238,G259,G280,G301,G322,G343,G364,G385,G406,G427,G448,G469,G490)) | H3: =IF(H7=SUM(H28,H49,H70,H91,H112,H133,H154,H175,H196,H217,H238,H259,H280,H301,H322,H343,H364,H385,H406,H427,H448,H469,H490),"",SUM(H28,H49,H70,H91,H112,H133,H154,H175,H196,H217,H238,H259,H280,H301,H322,H343,H364,H385,H406,H427,H448,H469,H490)) | I3: =IF(I7=SUM(I28,I49,I70,I91,I112,I133,I154,I175,I196,I217,I238,I259,I280,I301,I322,I343,I364,I385,I406,I427,I448,I469,I490),"",SUM(I28,I49,I70,I91,I112,I133,I154,I175,I196,I217,I238,I259,I280,I301,I322,I343,I364,I385,I406,I427,I448,I469,I490)) | J3: =IF(J7=SUM(J28,J49,J70,J91,J112,J133,J154,J175,J196,J217,J238,J259,J280,J301,J322,J343,J364,J385,J406,J427,J448,J469,J490),"",SUM(J28,J49,J70,J91,J112,J133,J154,J175,J196,J217,J238,J259,J280,J301,J322,J343,J364,J385,J406,J427,J448,J469,J490)) | K3: =IF(K7=SUM(K28,K49,K70,K91,K112,K133,K154,K175,K196,K217,K238,K259,K280,K301,K322,K343,K364,K385,K406,K427,K448,K469,K490),"",SUM(K28,K49,K70,K91,K112,K133,K154,K175,K196,K217,K238,K259,K280,K301,K322,K343,K364,K385,K406,K427,K448,K469,K490)) | L3: =IF(L7=SUM(L28,L49,L70,L91,L112,L133,L154,L175,L196,L217,L238,L259,L280,L301,L322,L343,L364,L385,L406,L427,L448,L469,L490),"",SUM(L28,L49,L70,L91,L112,L133,L154,L175,L196,L217,L238,L259,L280,L301,L322,L343,L364,L385,L406,L427,L448,L469,L490)) | ... Z3: =IF(Z7=SUM(Z28,Z49,Z70,Z91,Z112,Z133,Z154,Z175,Z196,Z217,Z238,Z259,Z280,Z301,Z322,Z343,Z364,Z385,Z406,Z427,Z448,Z469,Z490),"",SUM(Z28,Z49,Z70,Z91,Z112,Z133,Z154,Z175,Z196,Z217,Z238,Z259,Z280,Z301,Z322,Z343,Z364,Z385,Z406,Z427,Z448,Z469,Z490))
A4: 區域及特殊族群別 Locality & Ethnos | E4: 總計Total | H4: 親屬安置Relative Placement | K4: 寄養家庭Fostering Families | O4: 團體家庭Group Family | S4: 安置及教養機構Residential Institutions | X4: 其他Others
E5: 本期底安置人數（人） No. of Resettlers at the End of the Period | H5: 本期底安置人數（人） No. of Resettlers at the End of the Period | K5: 寄養家庭數 (戶) No. of Households | L5: 本期底安置人數（人） No. of Resettlers at the End of the Period | O5: 團體家庭數(家) No. of Group Households | P5: 本期底安置人數（人） No. of Resettlers at the End of the Period | S5: 所數 No. of Institutions | T5: 床位數 No. of Providing | U5: 本期底安置人數（人） No. of Resettlers at the End of the Period | X5: 本期底安置人數（人） No. of Resettlers at the End of the Period
E6: 計Total | F6: 男Male | G6: 女Female | H6: 計Total | I6: 男Male | J6: 女Female | L6: 計Total | M6: 男Male | N6: 女Female | P6: 計Total | Q6: 男Male | R6: 女Female | U6: 計Total | V6: 男Male | W6: 女Female | X6: 計Total | Y6: 男Male | Z6: 女Female
A7: 總計 Total | B7: 合計 Total | C7: 計Total | E7: 4588 | F7: 2337 | G7: 2251 | H7: 244 | I7: 120 | J7: 124 | K7: 1348 | L7: 1582 | M7: 816 | N7: 766 | O7: 42 | P7: 100 | Q7: 65 | R7: 35 | S7: 114 | T7: 4464 | U7: 2369 | V7: 1179 | W7: 1190 | X7: 293 | Y7: 157 | Z7: 136
C8: 小計 Total | D8: 一般General | E8: 3866 | F8: 1979 | G8: 1887 | H8: 194 | I8: 96 | J8: 98 | L8: 1333 | M8: 690 | N8: 643 | P8: 92 | Q8: 58 | R8: 34 | U8: 1992 | V8: 996 | W8: 996 | X8: 255 | Y8: 139 | Z8: 116
D9: 原住民Indigenous | E9: 722 | F9: 358 | G9: 364 | H9: 50 | I9: 24 | J9: 26 | L9: 249 | M9: 126 | N9: 123 | P9: 8 | Q9: 7 | R9: 1 | U9: 377 | V9: 183 | W9: 194 | X9: 38 | Y9: 18 | Z9: 20
C10: 一般 General | D10: 一般General | E10: 3276 | F10: 1668 | G10: 1608 | H10: 176 | I10: 87 | J10: 89 | L10: 1166 | M10: 604 | N10: 562 | P10: 63 | Q10: 38 | R10: 25 | U10: 1757 | V10: 880 | W10: 877 | X10: 114 | Y10: 59 | Z10: 55
D11: 原住民Indigenous | E11: 617 | F11: 295 | G11: 322 | H11: 44 | I11: 21 | J11: 23 | L11: 217 | M11: 104 | N11: 113 | P11: 5 | Q11: 4 | R11: 1 | U11: 331 | V11: 157 | W11: 174 | X11: 20 | Y11: 9 | Z11: 11
C12: 身心障礙 Disability | D12: 一般General | E12: 590 | F12: 311 | G12: 279 | H12: 18 | I12: 9 | J12: 9 | L12: 167 | M12: 86 | N12: 81 | P12: 29 | Q12: 20 | R12: 9 | U12: 235 | V12: 116 | W12: 119 | X12: 141 | Y12: 80 | Z12: 61
D13: 原住民Indigenous | E13: 105 | F13: 63 | G13: 42 | H13: 6 | I13: 3 | J13: 3 | L13: 32 | M13: 22 | N13: 10 | P13: 3 | Q13: 3 | R13: 0 | U13: 46 | V13: 26 | W13: 20 | X13: 18 | Y13: 9 | Z13: 9
B14: 本轄安置 Local Resettlement | C14: 計Total | E14: 3219 | F14: 1628 | G14: 1591 | H14: 190 | I14: 93 | J14: 97 | L14: 1480 | M14: 773 | N14: 707 | P14: 61 | Q14: 38 | R14: 23 | U14: 1277 | V14: 615 | W14: 662 | X14: 211 | Y14: 109 | Z14: 102
C15: 小計 Total | D15: 一般General | E15: 2702 | F15: 1372 | G15: 1330 | H15: 151 | I15: 73 | J15: 78 | L15: 1248 | M15: 657 | N15: 591 | P15: 55 | Q15: 32 | R15: 23 | U15: 1067 | V15: 517 | W15: 550 | X15: 181 | Y15: 93 | Z15: 88
D16: 原住民Indigenous | E16: 517 | F16: 256 | G16: 261 | H16: 39 | I16: 20 | J16: 19 | L16: 232 | M16: 116 | N16: 116 | P16: 6 | Q16: 6 | R16: 0 | U16: 210 | V16: 98 | W16: 112 | X16: 30 | Y16: 16 | Z16: 14
C17: 一般 General | D17: 一般General | E17: 2295 | F17: 1166 | G17: 1129 | H17: 137 | I17: 65 | J17: 72 | L17: 1089 | M17: 572 | N17: 517 | P17: 37 | Q17: 21 | R17: 16 | U17: 935 | V17: 459 | W17: 476 | X17: 97 | Y17: 49 | Z17: 48
D18: 原住民Indigenous | E18: 445 | F18: 207 | G18: 238 | H18: 33 | I18: 17 | J18: 16 | L18: 202 | M18: 96 | N18: 106 | P18: 4 | Q18: 4 | R18: 0 | U18: 186 | V18: 81 | W18: 105 | X18: 20 | Y18: 9 | Z18: 11
C19: 身心障礙 Disability | D19: 一般General | E19: 407 | F19: 206 | G19: 201 | H19: 14 | I19: 8 | J19: 6 | L19: 159 | M19: 85 | N19: 74 | P19: 18 | Q19: 11 | R19: 7 | U19: 132 | V19: 58 | W19: 74 | X19: 84 | Y19: 44 | Z19: 40
D20: 原住民Indigenous | E20: 72 | F20: 49 | G20: 23 | H20: 6 | I20: 3 | J20: 3 | L20: 30 | M20: 20 | N20: 10 | P20: 2 | Q20: 2 | R20: 0 | U20: 24 | V20: 17 | W20: 7 | X20: 10 | Y20: 7 | Z20: 3
B21: 外轄安置External Resettlement | C21: 計Total | E21: 1369 | F21: 709 | G21: 660 | H21: 54 | I21: 27 | J21: 27 | L21: 102 | M21: 43 | N21: 59 | P21: 39 | Q21: 27 | R21: 12 | U21: 1092 | V21: 564 | W21: 528 | X21: 82 | Y21: 48 | Z21: 34
C22: 小計 Total | D22: 一般General | E22: 1164 | F22: 607 | G22: 557 | H22: 43 | I22: 23 | J22: 20 | L22: 85 | M22: 33 | N22: 52 | P22: 37 | Q22: 26 | R22: 11 | U22: 925 | V22: 479 | W22: 446 | X22: 74 | Y22: 46 | Z22: 28
D23: 原住民Indigenous | E23: 205 | F23: 102 | G23: 103 | H23: 11 | I23: 4 | J23: 7 | L23: 17 | M23: 10 | N23: 7 | P23: 2 | Q23: 1 | R23: 1 | U23: 167 | V23: 85 | W23: 82 | X23: 8 | Y23: 2 | Z23: 6
C24: 一般 General | D24: 一般General | E24: 981 | F24: 502 | G24: 479 | H24: 39 | I24: 22 | J24: 17 | L24: 77 | M24: 32 | N24: 45 | P24: 26 | Q24: 17 | R24: 9 | U24: 822 | V24: 421 | W24: 401 | X24: 17 | Y24: 10 | Z24: 7
D25: 原住民Indigenous | E25: 172 | F25: 88 | G25: 84 | H25: 11 | I25: 4 | J25: 7 | L25: 15 | M25: 8 | N25: 7 | P25: 1 | Q25: 0 | R25: 1 | U25: 145 | V25: 76 | W25: 69 | X25: 0 | Y25: 0 | Z25: 0
C26: 身心障礙 Disability | D26: 一般General | E26: 183 | F26: 105 | G26: 78 | H26: 4 | I26: 1 | J26: 3 | L26: 8 | M26: 1 | N26: 7 | P26: 11 | Q26: 9 | R26: 2 | U26: 103 | V26: 58 | W26: 45 | X26: 57 | Y26: 36 | Z26: 21
D27: 原住民Indigenous | E27: 33 | F27: 14 | G27: 19 | H27: 0 | I27: 0 | J27: 0 | L27: 2 | M27: 2 | N27: 0 | P27: 1 | Q27: 1 | R27: 0 | U27: 22 | V27: 9 | W27: 13 | X27: 8 | Y27: 2 | Z27: 6
A28: 衛生福利部 Inst. of MOHW | B28: 合計 Total | C28: 計Total | E28: 631 | F28: 268 | G28: 363 | H28: 0 | I28: 0 | J28: 0 | K28: 0 | L28: 0 | M28: 0 | N28: 0 | O28: 0 | P28: 0 | Q28: 0 | R28: 0 | S28: 9 | T28: 935 | U28: 631 | V28: 268 | W28: 363 | X28: 0 | Y28: 0 | Z28: 0
C29: 小計 Total | D29: 一般General | E29: 563 | F29: 239 | G29: 324 | H29: 0 | I29: 0 | J29: 0 | L29: 0 | M29: 0 | N29: 0 | P29: 0 | Q29: 0 | R29: 0 | U29: 563 | V29: 239 | W29: 324 | X29: 0 | Y29: 0 | Z29: 0
D30: 原住民Indigenous | E30: 68 | F30: 29 | G30: 39 | H30: 0 | I30: 0 | J30: 0 | L30: 0 | M30: 0 | N30: 0 | P30: 0 | Q30: 0 | R30: 0 | U30: 68 | V30: 29 | W30: 39 | X30: 0 | Y30: 0 | Z30: 0
C31: 一般 General | D31: 一般General | E31: 504 | F31: 206 | G31: 298 | H31: 0 | I31: 0 | J31: 0 | L31: 0 | M31: 0 | N31: 0 | P31: 0 | Q31: 0 | R31: 0 | U31: 504 | V31: 206 | W31: 298 | X31: 0 | Y31: 0 | Z31: 0
D32: 原住民Indigenous | E32: 55 | F32: 22 | G32: 33 | H32: 0 | I32: 0 | J32: 0 | L32: 0 | M32: 0 | N32: 0 | P32: 0 | Q32: 0 | R32: 0 | U32: 55 | V32: 22 | W32: 33 | X32: 0 | Y32: 0 | Z32: 0
C33: 身心障礙 Disability | D33: 一般General | E33: 59 | F33: 33 | G33: 26 | H33: 0 | I33: 0 | J33: 0 | L33: 0 | M33: 0 | N33: 0 | P33: 0 | Q33: 0 | R33: 0 | U33: 59 | V33: 33 | W33: 26 | X33: 0 | Y33: 0 | Z33: 0
D34: 原住民Indigenous | E34: 13 | F34: 7 | G34: 6 | H34: 0 | I34: 0 | J34: 0 | L34: 0 | M34: 0 | N34: 0 | P34: 0 | Q34: 0 | R34: 0 | U34: 13 | V34: 7 | W34: 6 | X34: 0 | Y34: 0 | Z34: 0
B35: 本轄安置 Local Resettlement | C35: 計Total | E35: 337 | F35: 150 | G35: 187 | H35: 0 | I35: 0 | J35: 0 | L35: 0 | M35: 0 | N35: 0 | P35: 0 | Q35: 0 | R35: 0 | U35: 337 | V35: 150 | W35: 187 | X35: 0 | Y35: 0 | Z35: 0
C36: 小計 Total | D36: 一般General | E36: 303 | F36: 135 | G36: 168 | H36: 0 | I36: 0 | J36: 0 | L36: 0 | M36: 0 | N36: 0 | P36: 0 | Q36: 0 | R36: 0 | U36: 303 | V36: 135 | W36: 168 | X36: 0 | Y36: 0 | Z36: 0
D37: 原住民Indigenous | E37: 34 | F37: 15 | G37: 19 | H37: 0 | I37: 0 | J37: 0 | L37: 0 | M37: 0 | N37: 0 | P37: 0 | Q37: 0 | R37: 0 | U37: 34 | V37: 15 | W37: 19 | X37: 0 | Y37: 0 | Z37: 0
C38: 一般 General | D38: 一般General | E38: 270 | F38: 120 | G38: 150 | H38: 0 | I38: 0 | J38: 0 | L38: 0 | M38: 0 | N38: 0 | P38: 0 | Q38: 0 | R38: 0 | U38: 270 | V38: 120 | W38: 150 | X38: 0 | Y38: 0 | Z38: 0
D39: 原住民Indigenous | E39: 27 | F39: 11 | G39: 16 | H39: 0 | I39: 0 | J39: 0 | L39: 0 | M39: 0 | N39: 0 | P39: 0 | Q39: 0 | R39: 0 | U39: 27 | V39: 11 | W39: 16 | X39: 0 | Y39: 0 | Z39: 0
C40: 身心障礙 Disability | D40: 一般General | E40: 33 | F40: 15 | G40: 18 | H40: 0 | I40: 0 | J40: 0 | L40: 0 | M40: 0 | N40: 0 | P40: 0 | Q40: 0 | R40: 0 | U40: 33 | V40: 15 | W40: 18 | X40: 0 | Y40: 0 | Z40: 0
D41: 原住民Indigenous | E41: 7 | F41: 4 | G41: 3 | H41: 0 | I41: 0 | J41: 0 | L41: 0 | M41: 0 | N41: 0 | P41: 0 | Q41: 0 | R41: 0 | U41: 7 | V41: 4 | W41: 3 | X41: 0 | Y41: 0 | Z41: 0
B42: 外轄安置External Resettlement | C42: 計Total | E42: 294 | F42: 118 | G42: 176 | H42: 0 | I42: 0 | J42: 0 | L42: 0 | M42: 0 | N42: 0 | P42: 0 | Q42: 0 | R42: 0 | U42: 294 | V42: 118 | W42: 176 | X42: 0 | Y42: 0 | Z42: 0
C43: 小計 Total | D43: 一般General | E43: 260 | F43: 104 | G43: 156 | H43: 0 | I43: 0 | J43: 0 | L43: 0 | M43: 0 | N43: 0 | P43: 0 | Q43: 0 | R43: 0 | U43: 260 | V43: 104 | W43: 156 | X43: 0 | Y43: 0 | Z43: 0
D44: 原住民Indigenous | E44: 34 | F44: 14 | G44: 20 | H44: 0 | I44: 0 | J44: 0 | L44: 0 | M44: 0 | N44: 0 | P44: 0 | Q44: 0 | R44: 0 | U44: 34 | V44: 14 | W44: 20 | X44: 0 | Y44: 0 | Z44: 0
C45: 一般 General | D45: 一般General | E45: 234 | F45: 86 | G45: 148 | H45: 0 | I45: 0 | J45: 0 | L45: 0 | M45: 0 | N45: 0 | P45: 0 | Q45: 0 | R45: 0 | U45: 234 | V45: 86 | W45: 148 | X45: 0 | Y45: 0 | Z45: 0
D46: 原住民Indigenous | E46: 28 | F46: 11 | G46: 17 | H46: 0 | I46: 0 | J46: 0 | L46: 0 | M46: 0 | N46: 0 | P46: 0 | Q46: 0 | R46: 0 | U46: 28 | V46: 11 | W46: 17 | X46: 0 | Y46: 0 | Z46: 0
C47: 身心障礙 Disability | D47: 一般General | E47: 26 | F47: 18 | G47: 8 | H47: 0 | I47: 0 | J47: 0 | L47: 0 | M47: 0 | N47: 0 | P47: 0 | Q47: 0 | R47: 0 | U47: 26 | V47: 18 | W47: 8 | X47: 0 | Y47: 0 | Z47: 0
D48: 原住民Indigenous | E48: 6 | F48: 3 | G48: 3 | H48: 0 | I48: 0 | J48: 0 | L48: 0 | M48: 0 | N48: 0 | P48: 0 | Q48: 0 | R48: 0 | U48: 6 | V48: 3 | W48: 3 | X48: 0 | Y48: 0 | Z48: 0
A49: 新北市 New Taipei City | B49: 合計 Total | C49: 計Total | E49: 492 | F49: 244 | G49: 248 | H49: 31 | I49: 15 | J49: 16 | K49: 180 | L49: 216 | M49: 95 | N49: 121 | O49: 17 | P49: 42 | Q49: 24 | R49: 18 | S49: 8 | T49: 225 | U49: 118 | V49: 66 | W49: 52 | X49: 85 | Y49: 44 | Z49: 41
C50: 小計 Total | D50: 一般General | E50: 451 | F50: 220 | G50: 231 | H50: 28 | I50: 13 | J50: 15 | L50: 198 | M50: 86 | N50: 112 | P50: 39 | Q50: 21 | R50: 18 | U50: 109 | V50: 60 | W50: 49 | X50: 77 | Y50: 40 | Z50: 37
D51: 原住民Indigenous | E51: 41 | F51: 24 | G51: 17 | H51: 3 | I51: 2 | J51: 1 | L51: 18 | M51: 9 | N51: 9 | P51: 3 | Q51: 3 | R51: 0 | U51: 9 | V51: 6 | W51: 3 | X51: 8 | Y51: 4 | Z51: 4
C52: 一般 General | D52: 一般General | E52: 377 | F52: 181 | G52: 196 | H52: 26 | I52: 12 | J52: 14 | L52: 181 | M52: 79 | N52: 102 | P52: 29 | Q52: 15 | R52: 14 | U52: 94 | V52: 50 | W52: 44 | X52: 47 | Y52: 25 | Z52: 22
D53: 原住民Indigenous | E53: 33 | F53: 18 | G53: 15 | H53: 3 | I53: 2 | J53: 1 | L53: 16 | M53: 8 | N53: 8 | P53: 2 | Q53: 2 | R53: 0 | U53: 7 | V53: 4 | W53: 3 | X53: 5 | Y53: 2 | Z53: 3
C54: 身心障礙 Disability | D54: 一般General | E54: 74 | F54: 39 | G54: 35 | H54: 2 | I54: 1 | J54: 1 | L54: 17 | M54: 7 | N54: 10 | P54: 10 | Q54: 6 | R54: 4 | U54: 15 | V54: 10 | W54: 5 | X54: 30 | Y54: 15 | Z54: 15
D55: 原住民Indigenous | E55: 8 | F55: 6 | G55: 2 | H55: 0 | I55: 0 | J55: 0 | L55: 2 | M55: 1 | N55: 1 | P55: 1 | Q55: 1 | R55: 0 | U55: 2 | V55: 2 | W55: 0 | X55: 3 | Y55: 2 | Z55: 1
B56: 本轄安置 Local Resettlement | C56: 計Total | E56: 379 | F56: 199 | G56: 180 | H56: 16 | I56: 5 | J56: 11 | L56: 174 | M56: 84 | N56: 90 | P56: 30 | Q56: 19 | R56: 11 | U56: 89 | V56: 54 | W56: 35 | X56: 70 | Y56: 37 | Z56: 33
C57: 小計 Total | D57: 一般General | E57: 348 | F57: 183 | G57: 165 | H57: 14 | I57: 4 | J57: 10 | L57: 157 | M57: 76 | N57: 81 | P57: 28 | Q57: 17 | R57: 11 | U57: 86 | V57: 53 | W57: 33 | X57: 63 | Y57: 33 | Z57: 30
D58: 原住民Indigenous | E58: 31 | F58: 16 | G58: 15 | H58: 2 | I58: 1 | J58: 1 | L58: 17 | M58: 8 | N58: 9 | P58: 2 | Q58: 2 | R58: 0 | U58: 3 | V58: 1 | W58: 2 | X58: 7 | Y58: 4 | Z58: 3
C59: 一般 General | D59: 一般General | E59: 294 | F59: 151 | G59: 143 | H59: 13 | I59: 4 | J59: 9 | L59: 145 | M59: 70 | N59: 75 | P59: 19 | Q59: 11 | R59: 8 | U59: 76 | V59: 44 | W59: 32 | X59: 41 | Y59: 22 | Z59: 19
D60: 原住民Indigenous | E60: 27 | F60: 13 | G60: 14 | H60: 2 | I60: 1 | J60: 1 | L60: 15 | M60: 7 | N60: 8 | P60: 2 | Q60: 2 | R60: 0 | U60: 3 | V60: 1 | W60: 2 | X60: 5 | Y60: 2 | Z60: 3
C61: 身心障礙 Disability | D61: 一般General | E61: 54 | F61: 32 | G61: 22 | H61: 1 | I61: 0 | J61: 1 | L61: 12 | M61: 6 | N61: 6 | P61: 9 | Q61: 6 | R61: 3 | U61: 10 | V61: 9 | W61: 1 | X61: 22 | Y61: 11 | Z61: 11
D62: 原住民Indigenous | E62: 4 | F62: 3 | G62: 1 | H62: 0 | I62: 0 | J62: 0 | L62: 2 | M62: 1 | N62: 1 | P62: 0 | Q62: 0 | R62: 0 | U62: 0 | V62: 0 | W62: 0 | X62: 2 | Y62: 2 | Z62: 0
B63: 外轄安置External Resettlement | C63: 計Total | E63: 113 | F63: 45 | G63: 68 | H63: 15 | I63: 10 | J63: 5 | L63: 42 | M63: 11 | N63: 31 | P63: 12 | Q63: 5 | R63: 7 | U63: 29 | V63: 12 | W63: 17 | X63: 15 | Y63: 7 | Z63: 8
C64: 小計 Total | D64: 一般General | E64: 103 | F64: 37 | G64: 66 | H64: 14 | I64: 9 | J64: 5 | L64: 41 | M64: 10 | N64: 31 | P64: 11 | Q64: 4 | R64: 7 | U64: 23 | V64: 7 | W64: 16 | X64: 14 | Y64: 7 | Z64: 7
D65: 原住民Indigenous | E65: 10 | F65: 8 | G65: 2 | H65: 1 | I65: 1 | J65: 0 | L65: 1 | M65: 1 | N65: 0 | P65: 1 | Q65: 1 | R65: 0 | U65: 6 | V65: 5 | W65: 1 | X65: 1 | Y65: 0 | Z65: 1
C66: 一般 General | D66: 一般General | E66: 83 | F66: 30 | G66: 53 | H66: 13 | I66: 8 | J66: 5 | L66: 36 | M66: 9 | N66: 27 | P66: 10 | Q66: 4 | R66: 6 | U66: 18 | V66: 6 | W66: 12 | X66: 6 | Y66: 3 | Z66: 3
D67: 原住民Indigenous | E67: 6 | F67: 5 | G67: 1 | H67: 1 | I67: 1 | J67: 0 | L67: 1 | M67: 1 | N67: 0 | P67: 0 | Q67: 0 | R67: 0 | U67: 4 | V67: 3 | W67: 1 | X67: 0 | Y67: 0 | Z67: 0
C68: 身心障礙 Disability | D68: 一般General | E68: 20 | F68: 7 | G68: 13 | H68: 1 | I68: 1 | J68: 0 | L68: 5 | M68: 1 | N68: 4 | P68: 1 | Q68: 0 | R68: 1 | U68: 5 | V68: 1 | W68: 4 | X68: 8 | Y68: 4 | Z68: 4
D69: 原住民Indigenous | E69: 4 | F69: 3 | G69: 1 | H69: 0 | I69: 0 | J69: 0 | L69: 0 | M69: 0 | N69: 0 | P69: 1 | Q69: 1 | R69: 0 | U69: 2 | V69: 2 | W69: 0 | X69: 1 | Y69: 0 | Z69: 1
A70: 臺北市 Taipei City | B70: 合計 Total | C70: 計Total | E70: 437 | F70: 237 | G70: 200 | H70: 20 | I70: 10 | J70: 10 | K70: 120 | L70: 146 | M70: 71 | N70: 75 | O70: 10 | P70: 28 | Q70: 16 | R70: 12 | S70: 16 | T70: 452 | U70: 238 | V70: 137 | W70: 101 | X70: 5 | Y70: 3 | Z70: 2
C71: 小計 Total | D71: 一般General | E71: 409 | F71: 221 | G71: 188 | H71: 17 | I71: 8 | J71: 9 | L71: 138 | M71: 67 | N71: 71 | P71: 26 | Q71: 14 | R71: 12 | U71: 223 | V71: 129 | W71: 94 | X71: 5 | Y71: 3 | Z71: 2
D72: 原住民Indigenous | E72: 28 | F72: 16 | G72: 12 | H72: 3 | I72: 2 | J72: 1 | L72: 8 | M72: 4 | N72: 4 | P72: 2 | Q72: 2 | R72: 0 | U72: 15 | V72: 8 | W72: 7 | X72: 0 | Y72: 0 | Z72: 0
C73: 一般 General | D73: 一般General | E73: 366 | F73: 197 | G73: 169 | H73: 16 | I73: 7 | J73: 9 | L73: 126 | M73: 59 | N73: 67 | P73: 17 | Q73: 9 | R73: 8 | U73: 206 | V73: 121 | W73: 85 | X73: 1 | Y73: 1 | Z73: 0
D74: 原住民Indigenous | E74: 27 | F74: 16 | G74: 11 | H74: 2 | I74: 2 | J74: 0 | L74: 8 | M74: 4 | N74: 4 | P74: 2 | Q74: 2 | R74: 0 | U74: 15 | V74: 8 | W74: 7 | X74: 0 | Y74: 0 | Z74: 0
C75: 身心障礙 Disability | D75: 一般General | E75: 43 | F75: 24 | G75: 19 | H75: 1 | I75: 1 | J75: 0 | L75: 12 | M75: 8 | N75: 4 | P75: 9 | Q75: 5 | R75: 4 | U75: 17 | V75: 8 | W75: 9 | X75: 4 | Y75: 2 | Z75: 2
D76: 原住民Indigenous | E76: 1 | F76: 0 | G76: 1 | H76: 1 | I76: 0 | J76: 1 | L76: 0 | M76: 0 | N76: 0 | P76: 0 | Q76: 0 | R76: 0 | U76: 0 | V76: 0 | W76: 0 | X76: 0 | Y76: 0 | Z76: 0
B77: 本轄安置 Local Resettlement | C77: 計Total | E77: 280 | F77: 140 | G77: 140 | H77: 17 | I77: 8 | J77: 9 | L77: 132 | M77: 64 | N77: 68 | P77: 20 | Q77: 8 | R77: 12 | U77: 107 | V77: 58 | W77: 49 | X77: 4 | Y77: 2 | Z77: 2
C78: 小計 Total | D78: 一般General | E78: 265 | F78: 133 | G78: 132 | H78: 15 | I78: 7 | J78: 8 | L78: 124 | M78: 60 | N78: 64 | P78: 18 | Q78: 6 | R78: 12 | U78: 104 | V78: 58 | W78: 46 | X78: 4 | Y78: 2 | Z78: 2
D79: 原住民Indigenous | E79: 15 | F79: 7 | G79: 8 | H79: 2 | I79: 1 | J79: 1 | L79: 8 | M79: 4 | N79: 4 | P79: 2 | Q79: 2 | R79: 0 | U79: 3 | V79: 0 | W79: 3 | X79: 0 | Y79: 0 | Z79: 0
C80: 一般 General | D80: 一般General | E80: 234 | F80: 116 | G80: 118 | H80: 14 | I80: 6 | J80: 8 | L80: 113 | M80: 52 | N80: 61 | P80: 12 | Q80: 4 | R80: 8 | U80: 94 | V80: 53 | W80: 41 | X80: 1 | Y80: 1 | Z80: 0
D81: 原住民Indigenous | E81: 14 | F81: 7 | G81: 7 | H81: 1 | I81: 1 | J81: 0 | L81: 8 | M81: 4 | N81: 4 | P81: 2 | Q81: 2 | R81: 0 | U81: 3 | V81: 0 | W81: 3 | X81: 0 | Y81: 0 | Z81: 0
C82: 身心障礙 Disability | D82: 一般General | E82: 31 | F82: 17 | G82: 14 | H82: 1 | I82: 1 | J82: 0 | L82: 11 | M82: 8 | N82: 3 | P82: 6 | Q82: 2 | R82: 4 | U82: 10 | V82: 5 | W82: 5 | X82: 3 | Y82: 1 | Z82: 2
D83: 原住民Indigenous | E83: 1 | F83: 0 | G83: 1 | H83: 1 | I83: 0 | J83: 1 | L83: 0 | M83: 0 | N83: 0 | P83: 0 | Q83: 0 | R83: 0 | U83: 0 | V83: 0 | W83: 0 | X83: 0 | Y83: 0 | Z83: 0
B84: 外轄安置External Resettlement | C84: 計Total | E84: 157 | F84: 97 | G84: 60 | H84: 3 | I84: 2 | J84: 1 | L84: 14 | M84: 7 | N84: 7 | P84: 8 | Q84: 8 | R84: 0 | U84: 131 | V84: 79 | W84: 52 | X84: 1 | Y84: 1 | Z84: 0
C85: 小計 Total | D85: 一般General | E85: 144 | F85: 88 | G85: 56 | H85: 2 | I85: 1 | J85: 1 | L85: 14 | M85: 7 | N85: 7 | P85: 8 | Q85: 8 | R85: 0 | U85: 119 | V85: 71 | W85: 48 | X85: 1 | Y85: 1 | Z85: 0
D86: 原住民Indigenous | E86: 13 | F86: 9 | G86: 4 | H86: 1 | I86: 1 | J86: 0 | L86: 0 | M86: 0 | N86: 0 | P86: 0 | Q86: 0 | R86: 0 | U86: 12 | V86: 8 | W86: 4 | X86: 0 | Y86: 0 | Z86: 0
C87: 一般 General | D87: 一般General | E87: 132 | F87: 81 | G87: 51 | H87: 2 | I87: 1 | J87: 1 | L87: 13 | M87: 7 | N87: 6 | P87: 5 | Q87: 5 | R87: 0 | U87: 112 | V87: 68 | W87: 44 | X87: 0 | Y87: 0 | Z87: 0
D88: 原住民Indigenous | E88: 13 | F88: 9 | G88: 4 | H88: 1 | I88: 1 | J88: 0 | L88: 0 | M88: 0 | N88: 0 | P88: 0 | Q88: 0 | R88: 0 | U88: 12 | V88: 8 | W88: 4 | X88: 0 | Y88: 0 | Z88: 0
C89: 身心障礙 Disability | D89: 一般General | E89: 12 | F89: 7 | G89: 5 | H89: 0 | I89: 0 | J89: 0 | L89: 1 | M89: 0 | N89: 1 | P89: 3 | Q89: 3 | R89: 0 | U89: 7 | V89: 3 | W89: 4 | X89: 1 | Y89: 1 | Z89: 0
D90: 原住民Indigenous | E90: 0 | F90: 0 | G90: 0 | H90: 0 | I90: 0 | J90: 0 | L90: 0 | M90: 0 | N90: 0 | P90: 0 | Q90: 0 | R90: 0 | U90: 0 | V90: 0 | W90: 0 | X90: 0 | Y90: 0 | Z90: 0
A91: 桃園市 Taoyuan City | B91: 合計 Total | C91: 計Total | E91: 311 | F91: 170 | G91: 141 | H91: 20 | I91: 5 | J91: 15 | K91: 95 | L91: 109 | M91: 62 | N91: 47 | O91: 6 | P91: 12 | Q91: 10 | R91: 2 | S91: 7 | T91: 233 | U91: 149 | V91: 80 | W91: 69 | X91: 21 | Y91: 13 | Z91: 8
C92: 小計 Total | D92: 一般General | E92: 245 | F92: 138 | G92: 107 | H92: 14 | I92: 4 | J92: 10 | L92: 81 | M92: 48 | N92: 33 | P92: 11 | Q92: 10 | R92: 1 | U92: 122 | V92: 66 | W92: 56 | X92: 17 | Y92: 10 | Z92: 7
D93: 原住民Indigenous | E93: 66 | F93: 32 | G93: 34 | H93: 6 | I93: 1 | J93: 5 | L93: 28 | M93: 14 | N93: 14 | P93: 1 | Q93: 0 | R93: 1 | U93: 27 | V93: 14 | W93: 13 | X93: 4 | Y93: 3 | Z93: 1
C94: 一般 General | D94: 一般General | E94: 210 | F94: 118 | G94: 92 | H94: 13 | I94: 3 | J94: 10 | L94: 73 | M94: 45 | N94: 28 | P94: 6 | Q94: 6 | R94: 0 | U94: 114 | V94: 62 | W94: 52 | X94: 4 | Y94: 2 | Z94: 2
D95: 原住民Indigenous | E95: 57 | F95: 26 | G95: 31 | H95: 6 | I95: 1 | J95: 5 | L95: 26 | M95: 12 | N95: 14 | P95: 1 | Q95: 0 | R95: 1 | U95: 24 | V95: 13 | W95: 11 | X95: 0 | Y95: 0 | Z95: 0
C96: 身心障礙 Disability | D96: 一般General | E96: 35 | F96: 20 | G96: 15 | H96: 1 | I96: 1 | J96: 0 | L96: 8 | M96: 3 | N96: 5 | P96: 5 | Q96: 4 | R96: 1 | U96: 8 | V96: 4 | W96: 4 | X96: 13 | Y96: 8 | Z96: 5
D97: 原住民Indigenous | E97: 9 | F97: 6 | G97: 3 | H97: 0 | I97: 0 | J97: 0 | L97: 2 | M97: 2 | N97: 0 | P97: 0 | Q97: 0 | R97: 0 | U97: 3 | V97: 1 | W97: 2 | X97: 4 | Y97: 3 | Z97: 1
B98: 本轄安置 Local Resettlement | C98: 計Total | E98: 212 | F98: 114 | G98: 98 | H98: 16 | I98: 5 | J98: 11 | L98: 105 | M98: 59 | N98: 46 | P98: 0 | Q98: 0 | R98: 0 | U98: 84 | V98: 45 | W98: 39 | X98: 7 | Y98: 5 | Z98: 2
C99: 小計 Total | D99: 一般General | E99: 161 | F99: 88 | G99: 73 | H99: 12 | I99: 4 | J99: 8 | L99: 79 | M99: 46 | N99: 33 | P99: 0 | Q99: 0 | R99: 0 | U99: 64 | V99: 34 | W99: 30 | X99: 6 | Y99: 4 | Z99: 2
D100: 原住民Indigenous | E100: 51 | F100: 26 | G100: 25 | H100: 4 | I100: 1 | J100: 3 | L100: 26 | M100: 13 | N100: 13 | P100: 0 | Q100: 0 | R100: 0 | U100: 20 | V100: 11 | W100: 9 | X100: 1 | Y100: 1 | Z100: 0
...

Sheet 2021
A1: 兒童及少年家外安置概況Placement of Child and Youth Outside the Home
A2: 110年底, End of 2021
A3: 單位：人、戶、家、所、床 | E3: =IF(E7=SUM(E28,E49,E70,E91,E112,E133,E154,E175,E196,E217,E238,E259,E280,E301,E322,E343,E364,E385,E406,E427,E448,E469,E490),"",SUM(E28,E49,E70,E91,E112,E133,E154,E175,E196,E217,E238,E259,E280,E301,E322,E343,E364,E385,E406,E427,E448,E469,E490)) | F3: =IF(F7=SUM(F28,F49,F70,F91,F112,F133,F154,F175,F196,F217,F238,F259,F280,F301,F322,F343,F364,F385,F406,F427,F448,F469,F490),"",SUM(F28,F49,F70,F91,F112,F133,F154,F175,F196,F217,F238,F259,F280,F301,F322,F343,F364,F385,F406,F427,F448,F469,F490)) | G3: =IF(G7=SUM(G28,G49,G70,G91,G112,G133,G154,G175,G196,G217,G238,G259,G280,G301,G322,G343,G364,G385,G406,G427,G448,G469,G490),"",SUM(G28,G49,G70,G91,G112,G133,G154,G175,G196,G217,G238,G259,G280,G301,G322,G343,G364,G385,G406,G427,G448,G469,G490)) | H3: =IF(H7=SUM(H28,H49,H70,H91,H112,H133,H154,H175,H196,H217,H238,H259,H280,H301,H322,H343,H364,H385,H406,H427,H448,H469,H490),"",SUM(H28,H49,H70,H91,H112,H133,H154,H175,H196,H217,H238,H259,H280,H301,H322,H343,H364,H385,H406,H427,H448,H469,H490)) | I3: =IF(I7=SUM(I28,I49,I70,I91,I112,I133,I154,I175,I196,I217,I238,I259,I280,I301,I322,I343,I364,I385,I406,I427,I448,I469,I490),"",SUM(I28,I49,I70,I91,I112,I133,I154,I175,I196,I217,I238,I259,I280,I301,I322,I343,I364,I385,I406,I427,I448,I469,I490)) | J3: =IF(J7=SUM(J28,J49,J70,J91,J112,J133,J154,J175,J196,J217,J238,J259,J280,J301,J322,J343,J364,J385,J406,J427,J448,J469,J490),"",SUM(J28,J49,J70,J91,J112,J133,J154,J175,J196,J217,J238,J259,J280,J301,J322,J343,J364,J385,J406,J427,J448,J469,J490)) | K3: =IF(K7=SUM(K28,K49,K70,K91,K112,K133,K154,K175,K196,K217,K238,K259,K280,K301,K322,K343,K364,K385,K406,K427,K448,K469,K490),"",SUM(K28,K49,K70,K91,K112,K133,K154,K175,K196,K217,K238,K259,K280,K301,K322,K343,K364,K385,K406,K427,K448,K469,K490)) | L3: =IF(L7=SUM(L28,L49,L70,L91,L112,L133,L154,L175,L196,L217,L238,L259,L280,L301,L322,L343,L364,L385,L406,L427,L448,L469,L490),"",SUM(L28,L49,L70,L91,L112,L133,L154,L175,L196,L217,L238,L259,L280,L301,L322,L343,L364,L385,L406,L427,L448,L469,L490)) | ... Z3: =IF(Z7=SUM(Z28,Z49,Z70,Z91,Z112,Z133,Z154,Z175,Z196,Z217,Z238,Z259,Z280,Z301,Z322,Z343,Z364,Z385,Z406,Z427,Z448,Z469,Z490),"",SUM(Z28,Z49,Z70,Z91,Z112,Z133,Z154,Z175,Z196,Z217,Z238,Z259,Z280,Z301,Z322,Z343,Z364,Z385,Z406,Z427,Z448,Z469,Z490))
A4: 區域及特殊族群別 Locality & Ethnos | E4: 總計Total | H4: 親屬安置Relative Placement | K4: 寄養家庭Fostering Families | O4: 團體家庭Group Family | S4: 安置及教養機構Residential Institutions | X4: 其他Others
E5: 本期底安置人數（人） No. of Resettlers at the End of the Period | H5: 本期底安置人數（人） No. of Resettlers at the End of the Period | K5: 寄養家庭數 (戶) No. of Households | L5: 本期底安置人數（人） No. of Resettlers at the End of the Period | O5: 團體家庭數(家) No. of Group Households | P5: 本期底安置人數（人） No. of Resettlers at the End of the Period | S5: 所數 No. of Institutions | T5: 床位數 No. of Providing | U5: 本期底安置人數（人） No. of Resettlers at the End of the Period | X5: 本期底安置人數（人） No. of Resettlers at the End of the Period
E6: 計Total | F6: 男Male | G6: 女Female | H6: 計Total | I6: 男Male | J6: 女Female | L6: 計Total | M6: 男Male | N6: 女Female | P6: 計Total | Q6: 男Male | R6: 女Female | U6: 計Total | V6: 男Male | W6: 女Female | X6: 計Total | Y6: 男Male | Z6: 女Female
A7: 總計 Total | B7: 合計 Total | C7: 計Total | E7: 4855 | F7: 2403 | G7: 2452 | H7: 252 | I7: 126 | J7: 126 | K7: 1319 | L7: 1633 | M7: 846 | N7: 787 | O7: 20 | P7: 51 | Q7: 26 | R7: 25 | S7: 113 | T7: 4493 | U7: 2545 | V7: 1230 | W7: 1315 | X7: 374 | Y7: 175 | Z7: 199
C8: 小計 Total | D8: 一般General | E8: 4077 | F8: 2026 | G8: 2051 | H8: 213 | I8: 106 | J8: 107 | L8: 1370 | M8: 709 | N8: 661 | P8: 45 | Q8: 24 | R8: 21 | U8: 2120 | V8: 1035 | W8: 1085 | X8: 329 | Y8: 152 | Z8: 177
D9: 原住民Indigenous | E9: 778 | F9: 377 | G9: 401 | H9: 39 | I9: 20 | J9: 19 | L9: 263 | M9: 137 | N9: 126 | P9: 6 | Q9: 2 | R9: 4 | U9: 425 | V9: 195 | W9: 230 | X9: 45 | Y9: 23 | Z9: 22
C10: 一般 General | D10: 一般General | E10: 3476 | F10: 1726 | G10: 1750 | H10: 192 | I10: 95 | J10: 97 | L10: 1189 | M10: 616 | N10: 573 | P10: 37 | Q10: 20 | R10: 17 | U10: 1882 | V10: 929 | W10: 953 | X10: 176 | Y10: 66 | Z10: 110
D11: 原住民Indigenous | E11: 661 | F11: 309 | G11: 352 | H11: 36 | I11: 18 | J11: 18 | L11: 225 | M11: 110 | N11: 115 | P11: 4 | Q11: 2 | R11: 2 | U11: 371 | V11: 165 | W11: 206 | X11: 25 | Y11: 14 | Z11: 11
C12: 身心障礙 Disability | D12: 一般General | E12: 601 | F12: 300 | G12: 301 | H12: 21 | I12: 11 | J12: 10 | L12: 181 | M12: 93 | N12: 88 | P12: 8 | Q12: 4 | R12: 4 | U12: 238 | V12: 106 | W12: 132 | X12: 153 | Y12: 86 | Z12: 67
D13: 原住民Indigenous | E13: 117 | F13: 68 | G13: 49 | H13: 3 | I13: 2 | J13: 1 | L13: 38 | M13: 27 | N13: 11 | P13: 2 | Q13: 0 | R13: 2 | U13: 54 | V13: 30 | W13: 24 | X13: 20 | Y13: 9 | Z13: 11
B14: 本轄安置 Local Resettlement | C14: 計Total | E14: 3503 | F14: 1743 | G14: 1760 | H14: 192 | I14: 96 | J14: 96 | L14: 1508 | M14: 794 | N14: 714 | P14: 30 | Q14: 20 | R14: 10 | U14: 1439 | V14: 681 | W14: 758 | X14: 334 | Y14: 152 | Z14: 182
C15: 小計 Total | D15: 一般General | E15: 2937 | F15: 1467 | G15: 1470 | H15: 160 | I15: 80 | J15: 80 | L15: 1269 | M15: 671 | N15: 598 | P15: 28 | Q15: 18 | R15: 10 | U15: 1188 | V15: 567 | W15: 621 | X15: 292 | Y15: 131 | Z15: 161
D16: 原住民Indigenous | E16: 566 | F16: 276 | G16: 290 | H16: 32 | I16: 16 | J16: 16 | L16: 239 | M16: 123 | N16: 116 | P16: 2 | Q16: 2 | R16: 0 | U16: 251 | V16: 114 | W16: 137 | X16: 42 | Y16: 21 | Z16: 21
C17: 一般 General | D17: 一般General | E17: 2474 | F17: 1236 | G17: 1238 | H17: 142 | I17: 69 | J17: 73 | L17: 1097 | M17: 580 | N17: 517 | P17: 22 | Q17: 14 | R17: 8 | U17: 1046 | V17: 513 | W17: 533 | X17: 167 | Y17: 60 | Z17: 107
D18: 原住民Indigenous | E18: 482 | F18: 225 | G18: 257 | H18: 29 | I18: 14 | J18: 15 | L18: 204 | M18: 99 | N18: 105 | P18: 2 | Q18: 2 | R18: 0 | U18: 222 | V18: 96 | W18: 126 | X18: 25 | Y18: 14 | Z18: 11
C19: 身心障礙 Disability | D19: 一般General | E19: 463 | F19: 231 | G19: 232 | H19: 18 | I19: 11 | J19: 7 | L19: 172 | M19: 91 | N19: 81 | P19: 6 | Q19: 4 | R19: 2 | U19: 142 | V19: 54 | W19: 88 | X19: 125 | Y19: 71 | Z19: 54
D20: 原住民Indigenous | E20: 84 | F20: 51 | G20: 33 | H20: 3 | I20: 2 | J20: 1 | L20: 35 | M20: 24 | N20: 11 | P20: 0 | Q20: 0 | R20: 0 | U20: 29 | V20: 18 | W20: 11 | X20: 17 | Y20: 7 | Z20: 10
B21: 外轄安置External Resettlement | C21: 計Total | E21: 1352 | F21: 660 | G21: 692 | H21: 60 | I21: 30 | J21: 30 | L21: 125 | M21: 52 | N21: 73 | P21: 21 | Q21: 6 | R21: 15 | U21: 1106 | V21: 549 | W21: 557 | X21: 40 | Y21: 23 | Z21: 17
C22: 小計 Total | D22: 一般General | E22: 1140 | F22: 559 | G22: 581 | H22: 53 | I22: 26 | J22: 27 | L22: 101 | M22: 38 | N22: 63 | P22: 17 | Q22: 6 | R22: 11 | U22: 932 | V22: 468 | W22: 464 | X22: 37 | Y22: 21 | Z22: 16
D23: 原住民Indigenous | E23: 212 | F23: 101 | G23: 111 | H23: 7 | I23: 4 | J23: 3 | L23: 24 | M23: 14 | N23: 10 | P23: 4 | Q23: 0 | R23: 4 | U23: 174 | V23: 81 | W23: 93 | X23: 3 | Y23: 2 | Z23: 1
C24: 一般 General | D24: 一般General | E24: 1002 | F24: 490 | G24: 512 | H24: 50 | I24: 26 | J24: 24 | L24: 92 | M24: 36 | N24: 56 | P24: 15 | Q24: 6 | R24: 9 | U24: 836 | V24: 416 | W24: 420 | X24: 9 | Y24: 6 | Z24: 3
D25: 原住民Indigenous | E25: 179 | F25: 84 | G25: 95 | H25: 7 | I25: 4 | J25: 3 | L25: 21 | M25: 11 | N25: 10 | P25: 2 | Q25: 0 | R25: 2 | U25: 149 | V25: 69 | W25: 80 | X25: 0 | Y25: 0 | Z25: 0
C26: 身心障礙 Disability | D26: 一般General | E26: 138 | F26: 69 | G26: 69 | H26: 3 | I26: 0 | J26: 3 | L26: 9 | M26: 2 | N26: 7 | P26: 2 | Q26: 0 | R26: 2 | U26: 96 | V26: 52 | W26: 44 | X26: 28 | Y26: 15 | Z26: 13
D27: 原住民Indigenous | E27: 33 | F27: 17 | G27: 16 | H27: 0 | I27: 0 | J27: 0 | L27: 3 | M27: 3 | N27: 0 | P27: 2 | Q27: 0 | R27: 2 | U27: 25 | V27: 12 | W27: 13 | X27: 3 | Y27: 2 | Z27: 1
A28: 衛生福利部 Inst. of MOHW | B28: 合計 Total | C28: 計Total | E28: 692 | F28: 290 | G28: 402 | H28: 0 | I28: 0 | J28: 0 | K28: 0 | L28: 0 | M28: 0 | N28: 0 | O28: 0 | P28: 0 | Q28: 0 | R28: 0 | S28: 9 | T28: 935 | U28: 692 | V28: 290 | W28: 402 | X28: 0 | Y28: 0 | Z28: 0
C29: 小計 Total | D29: 一般General | E29: 620 | F29: 262 | G29: 358 | H29: 0 | I29: 0 | J29: 0 | L29: 0 | M29: 0 | N29: 0 | P29: 0 | Q29: 0 | R29: 0 | U29: 620 | V29: 262 | W29: 358 | X29: 0 | Y29: 0 | Z29: 0
D30: 原住民Indigenous | E30: 72 | F30: 28 | G30: 44 | H30: 0 | I30: 0 | J30: 0 | L30: 0 | M30: 0 | N30: 0 | P30: 0 | Q30: 0 | R30: 0 | U30: 72 | V30: 28 | W30: 44 | X30: 0 | Y30: 0 | Z30: 0
C31: 一般 General | D31: 一般General | E31: 559 | F31: 230 | G31: 329 | H31: 0 | I31: 0 | J31: 0 | L31: 0 | M31: 0 | N31: 0 | P31: 0 | Q31: 0 | R31: 0 | U31: 559 | V31: 230 | W31: 329 | X31: 0 | Y31: 0 | Z31: 0
D32: 原住民Indigenous | E32: 58 | F32: 20 | G32: 38 | H32: 0 | I32: 0 | J32: 0 | L32: 0 | M32: 0 | N32: 0 | P32: 0 | Q32: 0 | R32: 0 | U32: 58 | V32: 20 | W32: 38 | X32: 0 | Y32: 0 | Z32: 0
C33: 身心障礙 Disability | D33: 一般General | E33: 61 | F33: 32 | G33: 29 | H33: 0 | I33: 0 | J33: 0 | L33: 0 | M33: 0 | N33: 0 | P33: 0 | Q33: 0 | R33: 0 | U33: 61 | V33: 32 | W33: 29 | X33: 0 | Y33: 0 | Z33: 0
D34: 原住民Indigenous | E34: 14 | F34: 8 | G34: 6 | H34: 0 | I34: 0 | J34: 0 | L34: 0 | M34: 0 | N34: 0 | P34: 0 | Q34: 0 | R34: 0 | U34: 14 | V34: 8 | W34: 6 | X34: 0 | Y34: 0 | Z34: 0
B35: 本轄安置 Local Resettlement | C35: 計Total | E35: 357 | F35: 160 | G35: 197 | H35: 0 | I35: 0 | J35: 0 | L35: 0 | M35: 0 | N35: 0 | P35: 0 | Q35: 0 | R35: 0 | U35: 357 | V35: 160 | W35: 197 | X35: 0 | Y35: 0 | Z35: 0
C36: 小計 Total | D36: 一般General | E36: 324 | F36: 146 | G36: 178 | H36: 0 | I36: 0 | J36: 0 | L36: 0 | M36: 0 | N36: 0 | P36: 0 | Q36: 0 | R36: 0 | U36: 324 | V36: 146 | W36: 178 | X36: 0 | Y36: 0 | Z36: 0
D37: 原住民Indigenous | E37: 33 | F37: 14 | G37: 19 | H37: 0 | I37: 0 | J37: 0 | L37: 0 | M37: 0 | N37: 0 | P37: 0 | Q37: 0 | R37: 0 | U37: 33 | V37: 14 | W37: 19 | X37: 0 | Y37: 0 | Z37: 0
C38: 一般 General | D38: 一般General | E38: 292 | F38: 132 | G38: 160 | H38: 0 | I38: 0 | J38: 0 | L38: 0 | M38: 0 | N38: 0 | P38: 0 | Q38: 0 | R38: 0 | U38: 292 | V38: 132 | W38: 160 | X38: 0 | Y38: 0 | Z38: 0
D39: 原住民Indigenous | E39: 26 | F39: 10 | G39: 16 | H39: 0 | I39: 0 | J39: 0 | L39: 0 | M39: 0 | N39: 0 | P39: 0 | Q39: 0 | R39: 0 | U39: 26 | V39: 10 | W39: 16 | X39: 0 | Y39: 0 | Z39: 0
C40: 身心障礙 Disability | D40: 一般General | E40: 32 | F40: 14 | G40: 18 | H40: 0 | I40: 0 | J40: 0 | L40: 0 | M40: 0 | N40: 0 | P40: 0 | Q40: 0 | R40: 0 | U40: 32 | V40: 14 | W40: 18 | X40: 0 | Y40: 0 | Z40: 0
D41: 原住民Indigenous | E41: 7 | F41: 4 | G41: 3 | H41: 0 | I41: 0 | J41: 0 | L41: 0 | M41: 0 | N41: 0 | P41: 0 | Q41: 0 | R41: 0 | U41: 7 | V41: 4 | W41: 3 | X41: 0 | Y41: 0 | Z41: 0
B42: 外轄安置External Resettlement | C42: 計Total | E42: 335 | F42: 130 | G42: 205 | H42: 0 | I42: 0 | J42: 0 | L42: 0 | M42: 0 | N42: 0 | P42: 0 | Q42: 0 | R42: 0 | U42: 335 | V42: 130 | W42: 205 | X42: 0 | Y42: 0 | Z42: 0
C43: 小計 Total | D43: 一般General | E43: 296 | F43: 116 | G43: 180 | H43: 0 | I43: 0 | J43: 0 | L43: 0 | M43: 0 | N43: 0 | P43: 0 | Q43: 0 | R43: 0 | U43: 296 | V43: 116 | W43: 180 | X43: 0 | Y43: 0 | Z43: 0
D44: 原住民Indigenous | E44: 39 | F44: 14 | G44: 25 | H44: 0 | I44: 0 | J44: 0 | L44: 0 | M44: 0 | N44: 0 | P44: 0 | Q44: 0 | R44: 0 | U44: 39 | V44: 14 | W44: 25 | X44: 0 | Y44: 0 | Z44: 0
C45: 一般 General | D45: 一般General | E45: 267 | F45: 98 | G45: 169 | H45: 0 | I45: 0 | J45: 0 | L45: 0 | M45: 0 | N45: 0 | P45: 0 | Q45: 0 | R45: 0 | U45: 267 | V45: 98 | W45: 169 | X45: 0 | Y45: 0 | Z45: 0
D46: 原住民Indigenous | E46: 32 | F46: 10 | G46: 22 | H46: 0 | I46: 0 | J46: 0 | L46: 0 | M46: 0 | N46: 0 | P46: 0 | Q46: 0 | R46: 0 | U46: 32 | V46: 10 | W46: 22 | X46: 0 | Y46: 0 | Z46: 0
C47: 身心障礙 Disability | D47: 一般General | E47: 29 | F47: 18 | G47: 11 | H47: 0 | I47: 0 | J47: 0 | L47: 0 | M47: 0 | N47: 0 | P47: 0 | Q47: 0 | R47: 0 | U47: 29 | V47: 18 | W47: 11 | X47: 0 | Y47: 0 | Z47: 0
D48: 原住民Indigenous | E48: 7 | F48: 4 | G48: 3 | H48: 0 | I48: 0 | J48: 0 | L48: 0 | M48: 0 | N48: 0 | P48: 0 | Q48: 0 | R48: 0 | U48: 7 | V48: 4 | W48: 3 | X48: 0 | Y48: 0 | Z48: 0
A49: 新北市 New Taipei City | B49: 合計 Total | C49: 計Total | E49: 517 | F49: 223 | G49: 294 | H49: 30 | I49: 18 | J49: 12 | K49: 188 | L49: 235 | M49: 100 | N49: 135 | O49: 2 | P49: 6 | Q49: 0 | R49: 6 | S49: 8 | T49: 235 | U49: 128 | V49: 65 | W49: 63 | X49: 118 | Y49: 40 | Z49: 78
C50: 小計 Total | D50: 一般General | E50: 475 | F50: 193 | G50: 282 | H50: 26 | I50: 15 | J50: 11 | L50: 220 | M50: 88 | N50: 132 | P50: 5 | Q50: 0 | R50: 5 | U50: 114 | V50: 55 | W50: 59 | X50: 110 | Y50: 35 | Z50: 75
D51: 原住民Indigenous | E51: 42 | F51: 30 | G51: 12 | H51: 4 | I51: 3 | J51: 1 | L51: 15 | M51: 12 | N51: 3 | P51: 1 | Q51: 0 | R51: 1 | U51: 14 | V51: 10 | W51: 4 | X51: 8 | Y51: 5 | Z51: 3
C52: 一般 General | D52: 一般General | E52: 403 | F52: 163 | G52: 240 | H52: 25 | I52: 15 | J52: 10 | L52: 203 | M52: 83 | N52: 120 | P52: 5 | Q52: 0 | R52: 5 | U52: 95 | V52: 42 | W52: 53 | X52: 75 | Y52: 23 | Z52: 52
D53: 原住民Indigenous | E53: 35 | F53: 24 | G53: 11 | H53: 4 | I53: 3 | J53: 1 | L53: 13 | M53: 11 | N53: 2 | P53: 1 | Q53: 0 | R53: 1 | U53: 11 | V53: 7 | W53: 4 | X53: 6 | Y53: 3 | Z53: 3
C54: 身心障礙 Disability | D54: 一般General | E54: 72 | F54: 30 | G54: 42 | H54: 1 | I54: 0 | J54: 1 | L54: 17 | M54: 5 | N54: 12 | P54: 0 | Q54: 0 | R54: 0 | U54: 19 | V54: 13 | W54: 6 | X54: 35 | Y54: 12 | Z54: 23
D55: 原住民Indigenous | E55: 7 | F55: 6 | G55: 1 | H55: 0 | I55: 0 | J55: 0 | L55: 2 | M55: 1 | N55: 1 | P55: 0 | Q55: 0 | R55: 0 | U55: 3 | V55: 3 | W55: 0 | X55: 2 | Y55: 2 | Z55: 0
B56: 本轄安置 Local Resettlement | C56: 計Total | E56: 389 | F56: 173 | G56: 216 | H56: 9 | I56: 4 | J56: 5 | L56: 178 | M56: 82 | N56: 96 | P56: 0 | Q56: 0 | R56: 0 | U56: 92 | V56: 49 | W56: 43 | X56: 110 | Y56: 38 | Z56: 72
C57: 小計 Total | D57: 一般General | E57: 359 | F57: 152 | G57: 207 | H57: 7 | I57: 3 | J57: 4 | L57: 165 | M57: 71 | N57: 94 | P57: 0 | Q57: 0 | R57: 0 | U57: 85 | V57: 45 | W57: 40 | X57: 102 | Y57: 33 | Z57: 69
D58: 原住民Indigenous | E58: 30 | F58: 21 | G58: 9 | H58: 2 | I58: 1 | J58: 1 | L58: 13 | M58: 11 | N58: 2 | P58: 0 | Q58: 0 | R58: 0 | U58: 7 | V58: 4 | W58: 3 | X58: 8 | Y58: 5 | Z58: 3
C59: 一般 General | D59: 一般General | E59: 304 | F59: 127 | G59: 177 | H59: 6 | I59: 3 | J59: 3 | L59: 151 | M59: 66 | N59: 85 | P59: 0 | Q59: 0 | R59: 0 | U59: 74 | V59: 35 | W59: 39 | X59: 73 | Y59: 23 | Z59: 50
D60: 原住民Indigenous | E60: 25 | F60: 17 | G60: 8 | H60: 2 | I60: 1 | J60: 1 | L60: 11 | M60: 10 | N60: 1 | P60: 0 | Q60: 0 | R60: 0 | U60: 6 | V60: 3 | W60: 3 | X60: 6 | Y60: 3 | Z60: 3
C61: 身心障礙 Disability | D61: 一般General | E61: 55 | F61: 25 | G61: 30 | H61: 1 | I61: 0 | J61: 1 | L61: 14 | M61: 5 | N61: 9 | P61: 0 | Q61: 0 | R61: 0 | U61: 11 | V61: 10 | W61: 1 | X61: 29 | Y61: 10 | Z61: 19
D62: 原住民Indigenous | E62: 5 | F62: 4 | G62: 1 | H62: 0 | I62: 0 | J62: 0 | L62: 2 | M62: 1 | N62: 1 | P62: 0 | Q62: 0 | R62: 0 | U62: 1 | V62: 1 | W62: 0 | X62: 2 | Y62: 2 | Z62: 0
B63: 外轄安置External Resettlement | C63: 計Total | E63: 128 | F63: 50 | G63: 78 | H63: 21 | I63: 14 | J63: 7 | L63: 57 | M63: 18 | N63: 39 | P63: 6 | Q63: 0 | R63: 6 | U63: 36 | V63: 16 | W63: 20 | X63: 8 | Y63: 2 | Z63: 6
C64: 小計 Total | D64: 一般General | E64: 116 | F64: 41 | G64: 75 | H64: 19 | I64: 12 | J64: 7 | L64: 55 | M64: 17 | N64: 38 | P64: 5 | Q64: 0 | R64: 5 | U64: 29 | V64: 10 | W64: 19 | X64: 8 | Y64: 2 | Z64: 6
D65: 原住民Indigenous | E65: 12 | F65: 9 | G65: 3 | H65: 2 | I65: 2 | J65: 0 | L65: 2 | M65: 1 | N65: 1 | P65: 1 | Q65: 0 | R65: 1 | U65: 7 | V65: 6 | W65: 1 | X65: 0 | Y65: 0 | Z65: 0
C66: 一般 General | D66: 一般General | E66: 99 | F66: 36 | G66: 63 | H66: 19 | I66: 12 | J66: 7 | L66: 52 | M66: 17 | N66: 35 | P66: 5 | Q66: 0 | R66: 5 | U66: 21 | V66: 7 | W66: 14 | X66: 2 | Y66: 0 | Z66: 2
D67: 原住民Indigenous | E67: 10 | F67: 7 | G67: 3 | H67: 2 | I67: 2 | J67: 0 | L67: 2 | M67: 1 | N67: 1 | P67: 1 | Q67: 0 | R67: 1 | U67: 5 | V67: 4 | W67: 1 | X67: 0 | Y67: 0 | Z67: 0
C68: 身心障礙 Disability | D68: 一般General | E68: 17 | F68: 5 | G68: 12 | H68: 0 | I68: 0 | J68: 0 | L68: 3 | M68: 0 | N68: 3 | P68: 0 | Q68: 0 | R68: 0 | U68: 8 | V68: 3 | W68: 5 | X68: 6 | Y68: 2 | Z68: 4
D69: 原住民Indigenous | E69: 2 | F69: 2 | G69: 0 | H69: 0 | I69: 0 | J69: 0 | L69: 0 | M69: 0 | N69: 0 | P69: 0 | Q69: 0 | R69: 0 | U69: 2 | V69: 2 | W69: 0 | X69: 0 | Y69: 0 | Z69: 0
A70: 臺北市 Taipei City | B70: 合計 Total | C70: 計Total | E70: 471 | F70: 245 | G70: 226 | H70: 24 | I70: 12 | J70: 12 | K70: 119 | L70: 151 | M70: 75 | N70: 76 | O70: 7 | P70: 23 | Q70: 13 | R70: 10 | S70: 16 | T70: 475 | U70: 259 | V70: 138 | W70: 121 | X70: 14 | Y70: 7 | Z70: 7
C71: 小計 Total | D71: 一般General | E71: 444 | F71: 229 | G71: 215 | H71: 23 | I71: 11 | J71: 12 | L71: 139 | M71: 69 | N71: 70 | P71: 21 | Q71: 11 | R71: 10 | U71: 248 | V71: 132 | W71: 116 | X71: 13 | Y71: 6 | Z71: 7
D72: 原住民Indigenous | E72: 27 | F72: 16 | G72: 11 | H72: 1 | I72: 1 | J72: 0 | L72: 12 | M72: 6 | N72: 6 | P72: 2 | Q72: 2 | R72: 0 | U72: 11 | V72: 6 | W72: 5 | X72: 1 | Y72: 1 | Z72: 0
C73: 一般 General | D73: 一般General | E73: 404 | F73: 208 | G73: 196 | H73: 21 | I73: 9 | J73: 12 | L73: 127 | M73: 62 | N73: 65 | P73: 18 | Q73: 10 | R73: 8 | U73: 231 | V73: 124 | W73: 107 | X73: 7 | Y73: 3 | Z73: 4
D74: 原住民Indigenous | E74: 25 | F74: 14 | G74: 11 | H74: 1 | I74: 1 | J74: 0 | L74: 11 | M74: 5 | N74: 6 | P74: 2 | Q74: 2 | R74: 0 | U74: 11 | V74: 6 | W74: 5 | X74: 0 | Y74: 0 | Z74: 0
C75: 身心障礙 Disability | D75: 一般General | E75: 40 | F75: 21 | G75: 19 | H75: 2 | I75: 2 | J75: 0 | L75: 12 | M75: 7 | N75: 5 | P75: 3 | Q75: 1 | R75: 2 | U75: 17 | V75: 8 | W75: 9 | X75: 6 | Y75: 3 | Z75: 3
D76: 原住民Indigenous | E76: 2 | F76: 2 | G76: 0 | H76: 0 | I76: 0 | J76: 0 | L76: 1 | M76: 1 | N76: 0 | P76: 0 | Q76: 0 | R76: 0 | U76: 0 | V76: 0 | W76: 0 | X76: 1 | Y76: 1 | Z76: 0
B77: 本轄安置 Local Resettlement | C77: 計Total | E77: 334 | F77: 164 | G77: 170 | H77: 22 | I77: 11 | J77: 11 | L77: 140 | M77: 68 | N77: 72 | P77: 19 | Q77: 9 | R77: 10 | U77: 141 | V77: 71 | W77: 70 | X77: 12 | Y77: 5 | Z77: 7
C78: 小計 Total | D78: 一般General | E78: 318 | F78: 156 | G78: 162 | H78: 22 | I78: 11 | J78: 11 | L78: 129 | M78: 63 | N78: 66 | P78: 17 | Q78: 7 | R78: 10 | U78: 139 | V78: 71 | W78: 68 | X78: 11 | Y78: 4 | Z78: 7
D79: 原住民Indigenous | E79: 16 | F79: 8 | G79: 8 | H79: 0 | I79: 0 | J79: 0 | L79: 11 | M79: 5 | N79: 6 | P79: 2 | Q79: 2 | R79: 0 | U79: 2 | V79: 0 | W79: 2 | X79: 1 | Y79: 1 | Z79: 0
C80: 一般 General | D80: 一般General | E80: 280 | F80: 136 | G80: 144 | H80: 20 | I80: 9 | J80: 11 | L80: 117 | M80: 56 | N80: 61 | P80: 14 | Q80: 6 | R80: 8 | U80: 124 | V80: 64 | W80: 60 | X80: 5 | Y80: 1 | Z80: 4
D81: 原住民Indigenous | E81: 14 | F81: 6 | G81: 8 | H81: 0 | I81: 0 | J81: 0 | L81: 10 | M81: 4 | N81: 6 | P81: 2 | Q81: 2 | R81: 0 | U81: 2 | V81: 0 | W81: 2 | X81: 0 | Y81: 0 | Z81: 0
C82: 身心障礙 Disability | D82: 一般General | E82: 38 | F82: 20 | G82: 18 | H82: 2 | I82: 2 | J82: 0 | L82: 12 | M82: 7 | N82: 5 | P82: 3 | Q82: 1 | R82: 2 | U82: 15 | V82: 7 | W82: 8 | X82: 6 | Y82: 3 | Z82: 3
D83: 原住民Indigenous | E83: 2 | F83: 2 | G83: 0 | H83: 0 | I83: 0 | J83: 0 | L83: 1 | M83: 1 | N83: 0 | P83: 0 | Q83: 0 | R83: 0 | U83: 0 | V83: 0 | W83: 0 | X83: 1 | Y83: 1 | Z83: 0
B84: 外轄安置External Resettlement | C84: 計Total | E84: 137 | F84: 81 | G84: 56 | H84: 2 | I84: 1 | J84: 1 | L84: 11 | M84: 7 | N84: 4 | P84: 4 | Q84: 4 | R84: 0 | U84: 118 | V84: 67 | W84: 51 | X84: 2 | Y84: 2 | Z84: 0
C85: 小計 Total | D85: 一般General | E85: 126 | F85: 73 | G85: 53 | H85: 1 | I85: 0 | J85: 1 | L85: 10 | M85: 6 | N85: 4 | P85: 4 | Q85: 4 | R85: 0 | U85: 109 | V85: 61 | W85: 48 | X85: 2 | Y85: 2 | Z85: 0
D86: 原住民Indigenous | E86: 11 | F86: 8 | G86: 3 | H86: 1 | I86: 1 | J86: 0 | L86: 1 | M86: 1 | N86: 0 | P86: 0 | Q86: 0 | R86: 0 | U86: 9 | V86: 6 | W86: 3 | X86: 0 | Y86: 0 | Z86: 0
C87: 一般 General | D87: 一般General | E87: 124 | F87: 72 | G87: 52 | H87: 1 | I87: 0 | J87: 1 | L87: 10 | M87: 6 | N87: 4 | P87: 4 | Q87: 4 | R87: 0 | U87: 107 | V87: 60 | W87: 47 | X87: 2 | Y87: 2 | Z87: 0
D88: 原住民Indigenous | E88: 11 | F88: 8 | G88: 3 | H88: 1 | I88: 1 | J88: 0 | L88: 1 | M88: 1 | N88: 0 | P88: 0 | Q88: 0 | R88: 0 | U88: 9 | V88: 6 | W88: 3 | X88: 0 | Y88: 0 | Z88: 0
C89: 身心障礙 Disability | D89: 一般General | E89: 2 | F89: 1 | G89: 1 | H89: 0 | I89: 0 | J89: 0 | L89: 0 | M89: 0 | N89: 0 | P89: 0 | Q89: 0 | R89: 0 | U89: 2 | V89: 1 | W89: 1 | X89: 0 | Y89: 0 | Z89: 0
D90: 原住民Indigenous | E90: 0 | F90: 0 | G90: 0 | H90: 0 | I90: 0 | J90: 0 | L90: 0 | M90: 0 | N90: 0 | P90: 0 | Q90: 0 | R90: 0 | U90: 0 | V90: 0 | W90: 0 | X90: 0 | Y90: 0 | Z90: 0
A91: 桃園市 Taoyuan City | B91: 合計 Total | C91: 計Total | E91: 352 | F91: 179 | G91: 173 | H91: 15 | I91: 3 | J91: 12 | K91: 87 | L91: 122 | M91: 67 | N91: 55 | O91: 5 | P91: 9 | Q91: 1 | R91: 8 | S91: 7 | T91: 233 | U91: 168 | V91: 88 | W91: 80 | X91: 38 | Y91: 20 | Z91: 18
C92: 小計 Total | D92: 一般General | E92: 276 | F92: 140 | G92: 136 | H92: 9 | I92: 2 | J92: 7 | L92: 94 | M92: 52 | N92: 42 | P92: 6 | Q92: 1 | R92: 5 | U92: 134 | V92: 69 | W92: 65 | X92: 33 | Y92: 16 | Z92: 17
D93: 原住民Indigenous | E93: 76 | F93: 39 | G93: 37 | H93: 6 | I93: 1 | J93: 5 | L93: 28 | M93: 15 | N93: 13 | P93: 3 | Q93: 0 | R93: 3 | U93: 34 | V93: 19 | W93: 15 | X93: 5 | Y93: 4 | Z93: 1
C94: 一般 General | D94: 一般General | E94: 241 | F94: 125 | G94: 116 | H94: 8 | I94: 1 | J94: 7 | L94: 85 | M94: 48 | N94: 37 | P94: 4 | Q94: 1 | R94: 3 | U94: 126 | V94: 67 | W94: 59 | X94: 18 | Y94: 8 | Z94: 10
D95: 原住民Indigenous | E95: 63 | F95: 31 | G95: 32 | H95: 6 | I95: 1 | J95: 5 | L95: 24 | M95: 11 | N95: 13 | P95: 1 | Q95: 0 | R95: 1 | U95: 30 | V95: 18 | W95: 12 | X95: 2 | Y95: 1 | Z95: 1
C96: 身心障礙 Disability | D96: 一般General | E96: 35 | F96: 15 | G96: 20 | H96: 1 | I96: 1 | J96: 0 | L96: 9 | M96: 4 | N96: 5 | P96: 2 | Q96: 0 | R96: 2 | U96: 8 | V96: 2 | W96: 6 | X96: 15 | Y96: 8 | Z96: 7
D97: 原住民Indigenous | E97: 13 | F97: 8 | G97: 5 | H97: 0 | I97: 0 | J97: 0 | L97: 4 | M97: 4 | N97: 0 | P97: 2 | Q97: 0 | R97: 2 | U97: 4 | V97: 1 | W97: 3 | X97: 3 | Y97: 3 | Z97: 0
B98: 本轄安置 Local Resettlement | C98: 計Total | E98: 246 | F98: 126 | G98: 120 | H98: 10 | I98: 3 | J98: 7 | L98: 104 | M98: 58 | N98: 46 | P98: 0 | Q98: 0 | R98: 0 | U98: 101 | V98: 51 | W98: 50 | X98: 31 | Y98: 14 | Z98: 17
C99: 小計 Total | D99: 一般General | E99: 193 | F99: 98 | G99: 95 | H99: 6 | I99: 2 | J99: 4 | L99: 83 | M99: 47 | N99: 36 | P99: 0 | Q99: 0 | R99: 0 | U99: 77 | V99: 38 | W99: 39 | X99: 27 | Y99: 11 | Z99: 16
D100: 原住民Indigenous | E100: 53 | F100: 28 | G100: 25 | H100: 4 | I100: 1 | J100: 3 | L100: 21 | M100: 11 | N100: 10 | P100: 0 | Q100: 0 | R100: 0 | U100: 24 | V100: 13 | W100: 11 | X100: 4 | Y100: 3 | Z100: 1
...
