Workbook
Name Print_Area_MI: [1]表!$A$1:$R$28
Name TB1A: #REF!
Name TB1A: #REF!
Name TB1A: #REF!

Sheet 目錄
A1: 死因摘要表目錄
A2: 表1 主要死亡原因
A3: 表2 嬰兒主要死亡原因
A4: 表3 1-14歲主要死亡原因
A5: 表4 15-24歲主要死亡原因
A6: 表5 25-44歲主要死亡原因
A7: 表6 45-64歲主要死亡原因
A8: 表7 65歲以上主要死亡原因
A9: 表8 0-17歲兒童及少年主要死亡原因
A10: 表9 0-11歲兒童主要死亡原因
A11: 表10 1-5歲兒童主要死亡原因
A12: 表11 6-11歲兒童主要死亡原因
A13: 表12 12-17歲少年主要死亡原因

Sheet 表1
A1: 表1 主要死亡原因
H3: 民國103年
P4: 單位：人、每十萬人口、%
A5: 順 | B5: 合 計 | G5: 男 性 | L5: 女 性
B6: ICD-10 | D6: 死亡 | F6: 死亡人數 | G6: ICD-10 | I6: 死亡 | K6: 死亡人數 | L6: ICD-10 | N6: 死亡 | P6: 死亡人數
B7: 國際死因 | C7: 死 亡 原 因 | E7: 死亡率 | F7: 結構比 | G7: 國際死因 | H7: 死 亡 原 因 | J7: 死亡率 | K7: 結構比 | L7: 國際死因 | M7: 死 亡 原 因 | O7: 死亡率 | P7: 結構比
A8: 位 | B8: 分類號碼 | D8: 人數 | F8: % | G8: 分類號碼 | I8: 人數 | K8: % | L8: 分類號碼 | N8: 人數 | P8: %
B9: A00-Y98 | C9: 所有死亡原因 | D9: 162886 | E9: 695.9859 | F9: 100 | G9: A00-Y98 | H9: 所有死亡原因 | I9: 97979 | J9: 838.0489 | K9: 100 | L9: A00-Y98 | M9: 所有死亡原因 | N9: 64907 | O9: 554.1775 | P9: 100
A10: 1 | B10: C00-C97 | C10: 惡性腫瘤 | D10: 46093 | E10: 196.948 | F10: 28.2977 | G10: C00-C97 | H10: 惡性腫瘤 | I10: 28476 | J10: 243.565 | K10: 29.06337 | L10: C00-C97 | M10: 惡性腫瘤 | N10: 17617 | O10: 150.414 | P10: 27.14191
A11: 2 | B11: I01-I02.0, I05-I09, I20-I25, I27, I30-I52 | C11: 心臟疾病（高血壓性疾病除外） | D11: 19399 | E11: 82.88883 | F11: 11.90956 | G11: I01-I02.0, I05-I09, I20-I25, I27, I30-I52 | H11: 心臟疾病（高血壓性疾病除外） | I11: 11484 | J11: 98.226 | K11: 11.72088 | L11: I01-I02.0, I05-I09, I20-I25, I27, I30-I52 | M11: 心臟疾病（高血壓性疾病除外） | N11: 7915 | O11: 67.578 | P11: 12.19437
A12: 3 | B12: I60-I69 | C12: 腦血管疾病 | D12: 11733 | E12: 50.13324 | F12: 7.203197 | G12: I60-I69 | H12: 腦血管疾病 | I12: 6980 | J12: 59.702 | K12: 7.123976 | L12: E10-E14 | M12: 糖尿病 | N12: 4963 | O12: 42.374 | P12: 7.646325
A13: 4 | B13: J12-J18 | C13: 肺炎 | D13: 10353 | E13: 44.23672 | F13: 6.355979 | G13: J12-J18 | H13: 肺炎 | I13: 6305 | J13: 53.928 | K13: 6.435052 | L13: I60-I69 | M13: 腦血管疾病 | N13: 4753 | O13: 40.581 | P13: 7.322785
A14: 5 | B14: E10-E14 | C14: 糖尿病 | D14: 9846 | E14: 42.07039 | F14: 6.044718 | G14: V01-X59, Y85-Y86 | H14: 事故傷害 | I14: 5108 | J14: 43.69 | K14: 5.213362 | L14: J12-J18 | M14: 肺炎 | N14: 4048 | O14: 34.561 | P14: 6.236616
A15: 6 | B15: V01-X59, Y85-Y86 | C15: 事故傷害 | D15: 7118 | E15: 30.41408 | F15: 4.369927 | G15: E10-E14 | H15: 糖尿病 | I15: 4883 | J15: 41.766 | K15: 4.983721 | L15: I10-I15 | M15: 高血壓性疾病 | N15: 2634 | O15: 22.489 | P15: 4.058114
A16: 7 | B16: J40-J47 | C16: 慢性下呼吸道疾病 | D16: 6428 | E16: 27.46582 | F16: 3.946318 | G16: J40-J47 | H16: 慢性下呼吸道疾病 | I16: 4698 | J16: 40.183 | K16: 4.794905 | L16: N00-N07, N17-N19, N25-N27 | M16: 腎炎、腎病症候群及腎病變 | N16: 2327 | O16: 19.867 | P16: 3.585129
A17: 8 | B17: I10-I15 | C17: 高血壓性疾病 | D17: 5459 | E17: 23.32544 | F17: 3.351424 | G17: K70, K73-K74 | H17: 慢性肝病及肝硬化 | I17: 3558 | J17: 30.432 | K17: 3.63139 | L17: V01-X59, Y85-Y86 | M17: 事故傷害 | N17: 2010 | O17: 17.161 | P17: 3.096738
A18: 9 | B18: K70, K73-K74 | C18: 慢性肝病及肝硬化 | D18: 4962 | E18: 21.20183 | F18: 3.046302 | G18: I10-I15 | H18: 高血壓性疾病 | I18: 2825 | J18: 24.163 | K18: 2.883271 | L18: J40-J47 | M18: 慢性下呼吸道疾病 | N18: 1730 | O18: 14.77 | P18: 2.665352
A19: 10 | B19: N00-N07, N17-N19, N25-N27 | C19: 腎炎、腎病症候群及腎病變 | D19: 4868 | E19: 20.80019 | F19: 2.988593 | G19: N00-N07, N17-N19, N25-N27 | H19: 腎炎、腎病症候群及腎病變 | I19: 2541 | J19: 21.734 | K19: 2.593413 | L19: A40-A41 | M19: 敗血症 | N19: 1438 | O19: 12.277 | P19: 2.215477
C20: 其他 | D20: 36627 | E20: 156.50133 | F20: 22.486279 | H20: 其他 | I20: 21121 | J20: 180.65535 | K20: 21.55666 | M20: 其他 | N20: 15472 | O20: 132.1003 | P20: 23.837182
A21: 11 | B21: X60-X84, Y87.0 | C21: 蓄意自我傷害（自殺） | D21: 3542 | E21: 15.1344 | F21: 2.174527 | G21: X60-X84, Y87.0 | H21: 蓄意自我傷害（自殺） | I21: 2362 | J21: 20.203 | K21: 2.410721 | L21: K70, K73-K74 | M21: 慢性肝病及肝硬化 | N21: 1404 | O21: 11.987 | P21: 2.163095
A22: 12 | B22: A40-A41 | C22: 敗血症 | D22: 3435 | E22: 14.67721 | F22: 2.108837 | G22: A40-A41 | H22: 敗血症 | I22: 1997 | J22: 17.081 | K22: 2.038192 | L22: X60-X84, Y87.0 | M22: 蓄意自我傷害（自殺） | N22: 1180 | O22: 10.074 | P22: 1.817986
A23: 13 | B23: M00-M99 | C23: 骨骼肌肉系統及結締組織之疾病 | D23: 1606 | E23: 6.862182 | F23: 0.9859657 | G23: M00-M99 | H23: 骨骼肌肉系統及結締組織之疾病 | I23: 778 | J23: 6.654 | K23: 0.7940477 | L23: R54 | M23: 衰老/老邁 | N23: 840 | O23: 7.171 | P23: 1.294159
A24: 14 | B24: R54 | C24: 衰老/老邁 | D24: 1460 | E24: 6.238347 | F24: 0.8963324 | G24: D00-D48 | H24: 原位與良性腫瘤（惡性腫瘤除外） | I24: 764 | J24: 6.534 | K24: 0.7797589 | L24: M00-M99 | M24: 骨骼肌肉系統及結締組織之疾病 | N24: 828 | O24: 7.069 | P24: 1.275671
A25: 15 | B25: D00-D48 | C25: 原位與良性腫瘤（惡性腫瘤除外） | D25: 1357 | E25: 5.798244 | F25: 0.833098 | G25: R54 | H25: 衰老/老邁 | I25: 620 | J25: 5.303 | K25: 0.6327887 | L25: F01-F03 | M25: 血管性及未明示之癡呆症 | N25: 646 | O25: 5.515 | P25: 0.9952701
A26: 附註: 103年年中人口數計 23,403,635人,男性 11,691,323,女性 11,712,313人

Sheet 表2
A1: 表2 嬰兒主要死亡原因
H3: 民國103年
P4: 單位：人、每十萬活產、%
A5: 順 | B5: 合計 | G5: 男性 | L5: 女性
B6: ICD-10 | D6: 死亡 | F6: 死亡人數 | G6: ICD-10 | I6: 死亡 | K6: 死亡人數 | L6: ICD-10 | N6: 死亡 | P6: 死亡人數
B7: 國際死因 | C7: 死亡原因 | E7: 死亡率 | F7: 結構比 | G7: 國際死因 | H7: 死亡原因 | J7: 死亡率 | K7: 結構比 | L7: 國際死因 | M7: 死亡原因 | O7: 死亡率 | P7: 結構比
A8: 位 | B8: 分類號碼 | D8: 人數 | F8: % | G8: 分類號碼 | I8: 人數 | K8: % | L8: 分類號碼 | N8: 人數 | P8: %
B9: A00-Y98 | C9: 所有死亡原因 | D9: 761 | E9: 359.98278 | F9: 100 | G9: A00-Y98 | H9: 所有死亡原因 | I9: 446 | J9: 408.17074 | K9: 100 | L9: A00-Y98 | M9: 所有死亡原因 | N9: 315 | O9: 308.42741 | P9: 100
A10: 1 | B10: Q00-Q99 | C10: 先天性畸形、變形及染色體異常 | D10: 148 | E10: 70.009792 | F10: 19.448095 | G10: Q00-Q99 | H10: 先天性畸形、變形及染色體異常 | I10: 99 | J10: 90.602921 | K10: 22.197309 | L10: Q00-Q99 | M10: 先天性畸形、變形及染色體異常 | N10: 49 | O10: 47.977597 | P10: 15.555556
A11: 2 | B11: P20-P28 | C11: 源於周產期的呼吸性疾患 | D11: 102 | E11: 48.249992 | F11: 13.403417 | G11: P20-P28 | H11: 源於周產期的呼吸性疾患 | I11: 57 | J11: 52.165318 | K11: 12.780269 | L11: P20-P28 | M11: 源於周產期的呼吸性疾患 | N11: 45 | O11: 44.061059 | P11: 14.285714
A12: 3 | B12: V01-X59, Y85-Y86 | C12: 事故傷害 | D12: 57 | E12: 26.963231 | F12: 7.4901445 | G12: V01-X59, Y85-Y86 | H12: 事故傷害 | I12: 30 | J12: 27.455431 | K12: 6.7264574 | L12: V01-X59, Y85-Y86 | M12: 事故傷害 | N12: 27 | O12: 26.436635 | P12: 8.5714286
A13: 4 | B13: P05-P08 | C13: 與妊娠長短及胎兒生長有關的疾患 | D13: 42 | E13: 19.867644 | F13: 5.5190539 | G13: P05-P08 | H13: 與妊娠長短及胎兒生長有關的疾患 | I13: 23 | J13: 21.049164 | K13: 5.1569507 | L13: P05-P08 | M13: 與妊娠長短及胎兒生長有關的疾患 | N13: 19 | O13: 18.603558 | P13: 6.031746
A14: 5 | B14: P35-P39 | C14: 特發於周產期的感染 | D14: 32 | E14: 15.137252 | F14: 4.2049934 | G14: P35-P39 | H14: 特發於周產期的感染 | I14: 18 | J14: 16.473258 | K14: 4.0358744 | L14: P35-P39 | M14: 特發於周產期的感染 | N14: 14 | O14: 13.707885 | P14: 4.4444444
A15: 6 | B15: R95 | C15: 嬰兒猝死症候群（SIDS） | D15: 30 | E15: 14.191174 | F15: 3.9421813 | G15: R95 | H15: 嬰兒猝死症候群（SIDS） | I15: 18 | J15: 16.473258 | K15: 4.0358744 | L15: R95 | M15: 嬰兒猝死症候群（SIDS） | N15: 12 | O15: 11.749616 | P15: 3.8095238
A16: 7 | B16: P50-P61 | C16: 胎兒及新生兒出血及血液疾患 | D16: 23 | E16: 10.8799 | F16: 3.022339 | G16: J12-J18 | H16: 肺炎 | I16: 14 | J16: 12.812534 | K16: 3.1390135 | L16: P50-P61 | M16: 胎兒及新生兒出血及血液疾患 | N16: 11 | O16: 10.770481 | P16: 3.4920635
A17: 8 | B17: J12-J18 | C17: 肺炎 | D17: 20 | E17: 9.4607827 | F17: 2.6281209 | G17: P50-P61 | H17: 胎兒及新生兒出血及血液疾患 | I17: 12 | J17: 10.982172 | K17: 2.690583 | L17: P00-P04 | M17: 母體因素及懷孕、分娩、生產之併發症所影響之胎兒及新生兒 | N17: 7 | O17: 6.8539425 | P17: 2.2222222
A18: 9 | B18: I01-I02.0, I05-I09, I20-I25, I27, I30-I52 | C18: 心臟疾病（高血壓性心臟病除外） | D18: 17 | E18: 8.0416653 | F18: 2.2339028 | G18: I01-I02.0, I05-I09, I20-I25, I27, I30-I52 | H18: 心臟疾病（高血壓性心臟病除外） | I18: 11 | J18: 10.066991 | K18: 2.4663677 | L18: I01-I02.0, I05-I09, I20-I25, I27, I30-I52 | M18: 心臟疾病（高血壓性心臟病除外） | N18: 6 | O18: 5.8748078 | P18: 1.9047619
A19: 10 | B19: P00-P04 | C19: 母體因素及懷孕、分娩、生產之併發症所影響之胎兒及新生兒 | D19: 17 | E19: 8.0416653 | F19: 2.2339028 | G19: A40-A41 | H19: 敗血症 | I19: 10 | J19: 9.1518102 | K19: 2.2421525 | L19: J12-J18 | M19: 肺炎 | N19: 6 | O19: 5.8748078 | P19: 1.9047619
C20: 其他 | D20: 273 | E20: 129.13968 | F20: 35.87385 | H20: 其他 | I20: 154 | J20: 140.93788 | K20: 34.529148 | M20: 其他 | N20: 119 | O20: 116.51702 | P20: 37.777778
A21: 附註: 103年出生數計211,399人,男性109,268人,女性 102,131人。

Sheet 表3
A1: 表3 1-14歲主要死亡原因
A3: 民國103年
P4: 單位：人、每十萬人口、%
A5: 順 | C5: 合 計 | H5: 男 性 | M5: 女 性
B6: ICD-10 | D6: 死亡 | F6: 死亡人數 | G6: ICD-10 | I6: 死亡 | K6: 死亡人數 | L6: ICD-10 | N6: 死亡 | P6: 死亡人數
B7: 國際死因 | C7: 死 亡 原 因 | E7: 死亡率 | F7: 結構比 | G7: 國際死因 | H7: 死 亡 原 因 | J7: 死亡率 | K7: 結構比 | L7: 國際死因 | M7: 死 亡 原 因 | O7: 死亡率 | P7: 結構比
A8: 位 | B8: 分類號碼 | D8: 人數 | F8: % | G8: 分類號碼 | I8: 人數 | K8: % | L8: 分類號碼 | N8: 人數 | P8: %
B9: A00-Y98 | C9: 所有死亡原因 | D9: 500 | E9: 16.023376 | F9: 100 | G9: A00-Y98 | H9: 所有死亡原因 | I9: 282 | J9: 17.327971 | K9: 100 | L9: A00-Y98 | M9: 所有死亡原因 | N9: 218 | O9: 14.601332 | P9: 100
A10: 1 | B10: V01-X59, Y85-Y86 | C10: 事故傷害 | D10: 119 | E10: 3.8135635 | F10: 23.8 | G10: V01-X59, Y85-Y86 | H10: 事故傷害 | I10: 72 | J10: 4.4241 | K10: 25.531915 | L10: V01-X59, Y85-Y86 | M10: 事故傷害 | N10: 47 | O10: 3.1479 | P10: 21.559633
A11: 2 | B11: C00-C97 | C11: 惡性腫瘤 | D11: 109 | E11: 3.493096 | F11: 21.8 | G11: C00-C97 | H11: 惡性腫瘤 | I11: 63 | J11: 3.8711 | K11: 22.340426 | L11: C00-C97 | M11: 惡性腫瘤 | N11: 46 | O11: 3.081 | P11: 21.100917
A12: 3 | B12: Q00-Q99 | C12: 先天性畸形變形及染色體異常 | D12: 47 | E12: 1.5061974 | F12: 9.4 | G12: Q00-Q99 | H12: 先天性畸形變形及染色體異常 | I12: 27 | J12: 1.659 | K12: 9.5744681 | L12: Q00-Q99 | M12: 先天性畸形變形及染色體異常 | N12: 20 | O12: 1.3395 | P12: 9.1743119
A13: 4 | B13: I01-I02.0, I05-I09, I20-I25, I27, I30-I52 | C13: 心臟疾病（高血壓性疾病除外） | D13: 30 | E13: 0.96140257 | F13: 6 | G13: I01-I02.0, I05-I09, I20-I25, I27, I30-I52 | H13: 心臟疾病（高血壓性疾病除外） | I13: 15 | J13: 0.9217 | K13: 5.3191489 | L13: I01-I02.0, I05-I09, I20-I25, I27, I30-I52 | M13: 心臟疾病（高血壓性疾病除外） | N13: 15 | O13: 1.0046 | P13: 6.8807339
A14: 5 | B14: X85-Y09, Y87.1 | C14: 加害（他殺） | D14: 11 | E14: 0.35251428 | F14: 2.2 | G14: D00-D48 | H14: 原位與良性腫瘤（惡性腫瘤除外） | I14: 6 | J14: 0.3686 | K14: 2.1276596 | L14: X85-Y09, Y87.1 | M14: 加害（他殺） | N14: 5 | O14: 0.3348 | P14: 2.293578
A15: 6 | B15: D00-D48 | C15: 原位與良性腫瘤（惡性腫瘤除外） | D15: 9 | E15: 0.28842077 | F15: 1.8 | G15: X85-Y09, Y87.1 | H15: 加害（他殺） | I15: 6 | J15: 0.3686 | K15: 2.1276596 | L15: J12-J18 | M15: 肺炎 | N15: 4 | O15: 0.2679 | P15: 1.8348624
A16: 7 | B16: I60-I69 | C16: 腦血管疾病 | D16: 8 | E16: 0.25637402 | F16: 1.6 | G16: I60-I69 | H16: 腦血管疾病 | I16: 5 | J16: 0.3072 | K16: 1.7730496 | L16: A40-A41 | M16: 敗血症 | N16: 3 | O16: 0.2009 | P16: 1.3761468
A17: 8 | B17: J12-J18 | C17: 肺炎 | D17: 8 | E17: 0.25637402 | F17: 1.6 | G17: J12-J18 | H17: 肺炎 | I17: 4 | J17: 0.2457 | K17: 1.4184397 | L17: D00-D48 | M17: 原位與良性腫瘤（惡性腫瘤除外） | N17: 3 | O17: 0.2009 | P17: 1.3761468
A18: 9 | B18: J10-J11 | C18: 流行性感冒 | D18: 6 | E18: 0.19228051 | F18: 1.2 | G18: E10-E14 | H18: 糖尿病 | I18: 3 | J18: 0.1843 | K18: 1.0638298 | L18: I60-I69 | M18: 腦血管疾病 | N18: 3 | O18: 0.2009 | P18: 1.3761468
A19: 10 | B19: N00-N07, N17-N19, N25-N27 | C19: 腎炎、腎病症候群及腎病變 | D19: 5 | E19: 0.16023376 | F19: 1 | G19: J10-J11 | H19: 流行性感冒 | I19: 3 | J19: 0.1843 | K19: 1.0638298 | L19: J10-J11 | M19: 流行性感冒 | N19: 3 | O19: 0.2009 | P19: 1.3761468
C20: 其他 | D20: 148 | E20: 4.7429194 | F20: 29.6 | H20: 其他 | I20: 78 | J20: 4.7928432 | K20: 27.659574 | M20: 其他 | N20: 69 | O20: 4.6215224 | P20: 31.651376
A21: 11 | B21: A40-A41 | C21: 敗血症 | D21: 4 | E21: 0.12818701 | F21: 0.8 | G21: D50-D64 | H21: 貧血 | I21: 2 | J21: 0.1228 | K21: 0.70921986 | L21: N00-N07, N17-N19, N25-N27 | M21: 腎炎、腎病症候群及腎病變 | N21: 3 | O21: 0.2009 | P21: 1.3761468
A22: 12 | B22: J40-J47 | C22: 慢性下呼吸道疾病 | D22: 4 | E22: 0.12818701 | F22: 0.8 | G22: J40-J47 | H22: 慢性下呼吸道疾病 | I22: 2 | J22: 0.1228 | K22: 0.70921986 | L22: J40-J47 | M22: 慢性下呼吸道疾病 | N22: 2 | O22: 0.1339 | P22: 0.91743119
A23: 13 | B23: E10-E14 | C23: 糖尿病 | D23: 3 | E23: 0.096140257 | F23: 0.6 | G23: M00-M99 | H23: 骨骼肌肉系統及結締組織之疾病 | I23: 2 | J23: 0.1228 | K23: 0.70921986 | L23: K40-K46, K56 | M23: 疝氣及腸阻塞 | N23: 2 | O23: 0.1339 | P23: 0.91743119
A24: 14 | B24: M00-M99 | C24: 骨骼肌肉系統及結締組織之疾病 | D24: 3 | E24: 0.096140257 | F24: 0.6 | G24: N00-N07, N17-N19, N25-N27 | H24: 腎炎、腎病症候群及腎病變 | I24: 2 | J24: 0.1228 | K24: 0.70921986 | L24: X60-X84, Y87.0 | M24: 蓄意自我傷害（自殺） | N24: 2 | O24: 0.1339 | P24: 0.91743119
A25: 15 | B25: D50-D64 | C25: 貧血 | D25: 2 | E25: 0.064093505 | F25: 0.4 | G25: A40-A41 | H25: 敗血症 | I25: 1 | J25: 0.0614 | K25: 0.35460993 | L25: B15-B19 | M25: 病毒性肝炎 | N25: 1 | O25: 0.0669 | P25: 0.4587156
A26: 附註: 103年1-14歲年中人口數計3,120,441 人,男性1,627,427 人,女性 1,493,015 人。

Sheet 表4
A1: 表4 15-24歲主要死亡原因
A3: 民國103年
P4: 單位：人、每十萬人口、%
A5: 順 | C5: 合 計 | H5: 男 性 | M5: 女 性
B6: ICD-10 | D6: 死亡 | F6: 死亡人數 | G6: ICD-10 | I6: 死亡 | K6: 死亡人數 | L6: ICD-10 | N6: 死亡 | P6: 死亡人數
B7: 國際死因 | C7: 死 亡 原 因 | E7: 死亡率 | F7: 結構比 | G7: 國際死因 | H7: 死 亡 原 因 | J7: 死亡率 | K7: 結構比 | L7: 國際死因 | M7: 死 亡 原 因 | O7: 死亡率 | P7: 結構比
A8: 位 | B8: 分類號碼 | D8: 人數 | F8: % | G8: 分類號碼 | I8: 人數 | K8: % | L8: 分類號碼 | N8: 人數 | P8: %
B9: A00-Y98 | C9: 所有死亡原因 | D9: 1185 | E9: 37.677789 | F9: 100 | G9: A00-Y98 | H9: 所有死亡原因 | I9: 855 | J9: 52.268211 | K9: 100 | L9: A00-Y98 | M9: 所有死亡原因 | N9: 330 | O9: 21.864506 | P9: 100
A10: 1 | B10: V01-X59, Y85-Y86 | C10: 事故傷害 | D10: 583 | E10: 18.536836 | F10: 49.198312 | G10: V01-X59, Y85-Y86 | H10: 事故傷害 | I10: 459 | J10: 28.0597 | K10: 53.684211 | L10: V01-X59, Y85-Y86 | M10: 事故傷害 | N10: 124 | O10: 8.2157 | P10: 37.575758
A11: 2 | B11: X60-X84, Y87.0 | C11: 蓄意自我傷害（自殺） | D11: 161 | E11: 5.119092 | F11: 13.586498 | G11: X60-X84, Y87.0 | H11: 蓄意自我傷害（自殺） | I11: 112 | J11: 6.8468 | K11: 13.099415 | L11: X60-X84, Y87.0 | M11: 蓄意自我傷害（自殺） | N11: 49 | O11: 3.2465 | P11: 14.848485
A12: 3 | B12: C00-C97 | C12: 惡性腫瘤 | D12: 117 | E12: 3.7200855 | F12: 9.8734177 | G12: C00-C97 | H12: 惡性腫瘤 | I12: 74 | J12: 4.5237 | K12: 8.6549708 | L12: C00-C97 | M12: 惡性腫瘤 | N12: 43 | O12: 2.849 | P12: 13.030303
A13: 4 | B13: I01-I02.0, I05-I09, I20-I25, I27, I30-I52 | C13: 心臟疾病（高血壓性疾病除外） | D13: 42 | E13: 1.3354153 | F13: 3.5443038 | G13: I01-I02.0, I05-I09, I20-I25, I27, I30-I52 | H13: 心臟疾病（高血壓性疾病除外） | I13: 31 | J13: 1.8951 | K13: 3.625731 | L13: I01-I02.0, I05-I09, I20-I25, I27, I30-I52 | M13: 心臟疾病（高血壓性疾病除外） | N13: 11 | O13: 0.7288 | P13: 3.3333333
A14: 5 | B14: Q00-Q99 | C14: 先天性畸形變形及染色體異常 | D14: 20 | E14: 0.63591205 | F14: 1.6877637 | G14: Q00-Q99 | H14: 先天性畸形變形及染色體異常 | I14: 14 | J14: 0.8558 | K14: 1.6374269 | L14: M00-M99 | M14: 骨骼肌肉系統及結締組織之疾病 | N14: 7 | O14: 0.4637 | P14: 2.1212121
A15: 6 | B15: X85-Y09, Y87.1 | C15: 加害（他殺） | D15: 19 | E15: 0.60411645 | F15: 1.6033755 | G15: X85-Y09, Y87.1 | H15: 加害（他殺） | I15: 12 | J15: 0.7335 | K15: 1.4035088 | L15: X85-Y09, Y87.1 | M15: 加害（他殺） | N15: 7 | O15: 0.4637 | P15: 2.1212121
A16: 7 | B16: M00-M99 | C16: 骨骼肌肉系統及結締組織之疾病 | D16: 15 | E16: 0.47693404 | F16: 1.2658228 | G16: M00-M99 | H16: 骨骼肌肉系統及結締組織之疾病 | I16: 8 | J16: 0.489 | K16: 0.93567251 | L16: D00-D48 | M16: 原位與良性腫瘤（惡性腫瘤除外） | N16: 6 | O16: 0.3975 | P16: 1.8181818
A17: 8 | B17: J12-J18 | C17: 肺炎 | D17: 11 | E17: 0.34975163 | F17: 0.92827004 | G17: I60-I69 | H17: 腦血管疾病 | I17: 7 | J17: 0.4279 | K17: 0.81871345 | L17: E10-E14 | M17: 糖尿病 | N17: 6 | O17: 0.3975 | P17: 1.8181818
A18: 9 | B18: I60-I69 | C18: 腦血管疾病 | D18: 10 | E18: 0.31795603 | F18: 0.84388186 | G18: J12-J18 | H18: 肺炎 | I18: 6 | J18: 0.3667 | K18: 0.70175439 | L18: Q00-Q99 | M18: 先天性畸形變形及染色體異常 | N18: 6 | O18: 0.3975 | P18: 1.8181818
A19: 10 | B19: D00-D48 | C19: 原位與良性腫瘤（惡性腫瘤除外） | D19: 8 | E19: 0.25436482 | F19: 0.67510549 | G19: A40-A41 | H19: 敗血症 | I19: 3 | J19: 0.1833 | K19: 0.35087719 | L19: J12-J18 | M19: 肺炎 | N19: 5 | O19: 0.3312 | P19: 1.5151515
C20: 其他 | D20: 199 | E20: 6.3273249 | F20: 16.793249 | H20: 其他 | I20: 129 | J20: 7.886081 | K20: 15.087719 | M20: 其他 | N20: 66 | O20: 4.3729011 | P20: 20
A21: 11 | B21: E10-E14 | C21: 糖尿病 | D21: 7 | E21: 0.22256922 | F21: 0.5907173 | G21: D50-D64 | H21: 貧血 | I21: 3 | J21: 0.1833 | K21: 0.35087719 | L21: A40-A41 | M21: 敗血症 | N21: 3 | O21: 0.1987 | P21: 0.90909091
A22: 12 | B22: A40-A41 | C22: 敗血症 | D22: 6 | E22: 0.19077362 | F22: 0.50632911 | G22: J40-J47 | H22: 慢性下呼吸道疾病 | I22: 3 | J22: 0.1833 | K22: 0.35087719 | L22: I60-I69 | M22: 腦血管疾病 | N22: 3 | O22: 0.1987 | P22: 0.90909091
A23: 13 | B23: J40-J47 | C23: 慢性下呼吸道疾病 | D23: 5 | E23: 0.15897801 | F23: 0.42194093 | G23: K40-K46, K56 | H23: 疝氣及腸阻塞 | I23: 3 | J23: 0.1833 | K23: 0.35087719 | L23: N00-N07, N17-N19, N25-N27 | M23: 腎炎、腎病症候群及腎病變 | N23: 3 | O23: 0.1987 | P23: 0.90909091
A24: 14 | B24: N00-N07, N17-N19, N25-N27 | C24: 腎炎、腎病症候群及腎病變 | D24: 5 | E24: 0.15897801 | F24: 0.42194093 | G24: B20-B24 | H24: 人類免疫缺乏病毒（HIV）疾病 | I24: 2 | J24: 0.1222 | K24: 0.23391813 | L24: G00, G03 | M24: 腦膜炎 | N24: 2 | O24: 0.1325 | P24: 0.60606061
A25: 15 | B25: D50-D64 | C25: 貧血 | D25: 3 | E25: 0.095386808 | F25: 0.25316456 | G25: D00-D48 | H25: 原位與良性腫瘤（惡性腫瘤除外） | I25: 2 | J25: 0.1222 | K25: 0.23391813 | L25: J40-J47 | M25: 慢性下呼吸道疾病 | N25: 2 | O25: 0.1325 | P25: 0.60606061
A26: 附註: 103年15-24歲年中人口數計3,145,089 人,男性1,635,794 人,女性 1,509,296 人。

Sheet 表5
A1: 表5 25-44歲主要死亡原因
A3: 民國103年
P4: 單位：人、每十萬人口、%
A5: 順 | C5: 合 計 | H5: 男 性 | M5: 女 性
B6: ICD-10 | D6: 死亡 | F6: 死亡人數 | G6: ICD-10 | I6: 死亡 | K6: 死亡人數 | L6: ICD-10 | N6: 死亡 | P6: 死亡人數
B7: 國際死因 | C7: 死 亡 原 因 | E7: 死亡率 | F7: 結構比 | G7: 國際死因 | H7: 死 亡 原 因 | J7: 死亡率 | K7: 結構比 | L7: 國際死因 | M7: 死 亡 原 因 | O7: 死亡率 | P7: 結構比
A8: 位 | B8: 分類號碼 | D8: 人數 | F8: % | G8: 分類號碼 | I8: 人數 | K8: % | L8: 分類號碼 | N8: 人數 | P8: %
B9: A00-Y98 | C9: 所有死亡原因 | D9: 9145 | E9: 124.06689 | F9: 100 | G9: A00-Y98 | H9: 所有死亡原因 | I9: 6635 | J9: 180.21084 | K9: 100 | L9: A00-Y98 | M9: 所有死亡原因 | N9: 2510 | O9: 68.03596 | P9: 100
A10: 1 | B10: C00-C97 | C10: 惡性腫瘤 | D10: 2322 | E10: 31.501729 | F10: 25.390924 | G10: C00-C97 | H10: 惡性腫瘤 | I10: 1448 | J10: 39.3286 | K10: 21.823662 | L10: C00-C97 | M10: 惡性腫瘤 | N10: 874 | O10: 23.6906 | P10: 34.820717
A11: 2 | B11: V01-X59, Y85-Y86 | C11: 事故傷害 | D11: 1318 | E11: 17.880826 | F11: 14.412247 | G11: V01-X59, Y85-Y86 | H11: 事故傷害 | I11: 1076 | J11: 29.2248 | K11: 16.217031 | L11: X60-X84, Y87.0 | M11: 蓄意自我傷害（自殺） | N11: 406 | O11: 11.005 | P11: 16.175299
A12: 3 | B12: X60-X84, Y87.0 | C12: 蓄意自我傷害（自殺） | D12: 1160 | E12: 15.737298 | F12: 12.684527 | G12: X60-X84, Y87.0 | H12: 蓄意自我傷害（自殺） | I12: 754 | J12: 20.4791 | K12: 11.363979 | L12: V01-X59, Y85-Y86 | M12: 事故傷害 | N12: 242 | O12: 6.5596 | P12: 9.6414343
A13: 4 | B13: K70, K73-K74 | C13: 慢性肝病及肝硬化 | D13: 801 | E13: 10.866875 | F13: 8.7588846 | G13: K70, K73-K74 | H13: 慢性肝病及肝硬化 | I13: 729 | J13: 19.8001 | K13: 10.987189 | L13: I01-I02.0, I05-I09, I20-I25, I27, I30-I52 | M13: 心臟疾病（高血壓性疾病除外） | N13: 139 | O13: 3.7677 | P13: 5.5378486
A14: 5 | B14: I01-I02.0, I05-I09, I20-I25, I27, I30-I52 | C14: 心臟疾病（高血壓性疾病除外） | D14: 757 | E14: 10.269943 | F14: 8.2777474 | G14: I01-I02.0, I05-I09, I20-I25, I27, I30-I52 | H14: 心臟疾病（高血壓性疾病除外） | I14: 618 | J14: 16.7852 | K14: 9.3142427 | L14: I60-I69 | M14: 腦血管疾病 | N14: 101 | O14: 2.7377 | P14: 4.0239044
A15: 6 | B15: I60-I69 | C15: 腦血管疾病 | D15: 375 | E15: 5.0874885 | F15: 4.1006014 | G15: I60-I69 | H15: 腦血管疾病 | I15: 274 | J15: 7.442 | K15: 4.1296157 | L15: K70, K73-K74 | M15: 慢性肝病及肝硬化 | N15: 72 | O15: 1.9516 | P15: 2.8685259
A16: 7 | B16: E10-E14 | C16: 糖尿病 | D16: 195 | E16: 2.645494 | F16: 2.1323127 | G16: E10-E14 | H16: 糖尿病 | I16: 141 | J16: 3.8296 | K16: 2.1250942 | L16: M00-M99 | M16: 骨骼肌肉系統及結締組織之疾病 | N16: 70 | O16: 1.8974 | P16: 2.7888446
A17: 8 | B17: J12-J18 | C17: 肺炎 | D17: 131 | E17: 1.7772293 | F17: 1.4324768 | G17: J12-J18 | H17: 肺炎 | I17: 100 | J17: 2.716 | K17: 1.507159 | L17: E10-E14 | M17: 糖尿病 | N17: 54 | O17: 1.4637 | P17: 2.1513944
A18: 9 | B18: I10-I15 | C18: 高血壓性疾病 | D18: 118 | E18: 1.6008631 | F18: 1.2903226 | G18: I10-I15 | H18: 高血壓性疾病 | I18: 97 | J18: 2.6345 | K18: 1.4619442 | L18: J12-J18 | M18: 肺炎 | N18: 31 | O18: 0.8402 | P18: 1.2350598
A19: 10 | B19: M00-M99 | C19: 骨骼肌肉系統及結締組織之疾病 | D19: 116 | E19: 1.5737298 | F19: 1.2684527 | G19: B20-B24 | H19: 人類免疫缺乏病毒（HIV）疾病 | I19: 70 | J19: 1.9012 | K19: 1.0550113 | L19: N00-N07, N17-N19, N25-N27 | M19: 腎炎、腎病症候群及腎病變 | N19: 31 | O19: 0.8402 | P19: 1.2350598
C20: 其他 | D20: 1852 | E20: 25.12541 | F20: 20.251504 | H20: 其他 | I20: 1328 | J20: 36.069329 | K20: 20.015072 | M20: 其他 | N20: 490 | O20: 13.281921 | P20: 19.521912
A21: 11 | B21: A40-A41 | C21: 敗血症 | D21: 92 | E21: 1.2481305 | F21: 1.0060142 | G21: A40-A41 | H21: 敗血症 | I21: 69 | J21: 1.874 | K21: 1.0399397 | L21: D00-D48 | M21: 原位與良性腫瘤（惡性腫瘤除外） | N21: 26 | O21: 0.7047 | P21: 1.0358566
A22: 12 | B22: N00-N07, N17-N19, N25-N27 | C22: 腎炎、腎病症候群及腎病變 | D22: 89 | E22: 1.2074306 | F22: 0.9732094 | G22: N00-N07, N17-N19, N25-N27 | H22: 腎炎、腎病症候群及腎病變 | I22: 58 | J22: 1.5753 | K22: 0.87415222 | L22: A40-A41 | M22: 敗血症 | N22: 23 | O22: 0.6234 | P22: 0.91633466
A23: 13 | B23: B20-B24 | C23: 人類免疫缺乏病毒（HIV）疾病 | D23: 74 | E23: 1.0039311 | F23: 0.80918535 | G23: M00-M99 | H23: 骨骼肌肉系統及結締組織之疾病 | I23: 46 | J23: 1.2493 | K23: 0.69329314 | L23: I10-I15 | M23: 高血壓性疾病 | N23: 21 | O23: 0.5692 | P23: 0.83665339
A24: 14 | B24: X85-Y09, Y87.1 | C24: 加害（他殺） | D24: 55 | E24: 0.74616498 | F24: 0.60142154 | G24: X85-Y09, Y87.1 | H24: 加害（他殺） | I24: 39 | J24: 1.0592 | K24: 0.58779201 | L24: Q00-Q99 | M24: 先天性畸形變形及染色體異常 | N24: 20 | O24: 0.5421 | P24: 0.79681275
A25: 15 | B25: D00-D48 | C25: 原位與良性腫瘤（惡性腫瘤除外） | D25: 49 | E25: 0.66476517 | F25: 0.53581192 | G25: J40-J47 | H25: 慢性下呼吸道疾病 | I25: 32 | J25: 0.8691 | K25: 0.48229088 | L25: J40-J47 | M25: 慢性下呼吸道疾病 | N25: 17 | O25: 0.4608 | P25: 0.67729084
A26: 附註: 103年25-44歲年中人口數計7,371,024 人,男性3,681,799 人,女性 3,689,226 人。

Sheet 表6
A1: 表6 45-64歲主要死亡原因
A3: 民國103年
P4: 單位：人、每十萬人口、%
A5: 順 | C5: 合 計 | H5: 男 性 | M5: 女 性
B6: ICD-10 | D6: 死亡 | F6: 死亡人數 | G6: ICD-10 | I6: 死亡 | K6: 死亡人數 | L6: ICD-10 | N6: 死亡 | P6: 死亡人數
B7: 國際死因 | C7: 死 亡 原 因 | E7: 死亡率 | F7: 結構比 | G7: 國際死因 | H7: 死 亡 原 因 | J7: 死亡率 | K7: 結構比 | L7: 國際死因 | M7: 死 亡 原 因 | O7: 死亡率 | P7: 結構比
A8: 位 | B8: 分類號碼 | D8: 人數 | F8: % | G8: 分類號碼 | I8: 人數 | K8: % | L8: 分類號碼 | N8: 人數 | P8: %
B9: A00-Y98 | C9: 所有死亡原因 | D9: 37595 | E9: 550.92131 | F9: 100 | G9: A00-Y98 | H9: 所有死亡原因 | I9: 26153 | J9: 777.64979 | K9: 100 | L9: A00-Y98 | M9: 所有死亡原因 | N9: 11442 | O9: 330.60368 | P9: 100
A10: 1 | B10: C00-C97 | C10: 惡性腫瘤 | D10: 16027 | E10: 234.8614 | F10: 42.630669 | G10: C00-C97 | H10: 惡性腫瘤 | I10: 10189 | J10: 302.96615 | K10: 38.959202 | L10: C00-C97 | M10: 惡性腫瘤 | N10: 5838 | O10: 168.6824 | P10: 51.022549
A11: 2 | B11: I01-I02.0, I05-I09, I20-I25, I27, I30-I52 | C11: 心臟疾病（高血壓性疾病除外） | D11: 3744 | E11: 54.8649 | F11: 9.9587711 | G11: I01-I02.0, I05-I09, I20-I25, I27, I30-I52 | H11: 心臟疾病（高血壓性疾病除外） | I11: 2935 | J11: 87.27114 | K11: 11.222422 | L11: I01-I02.0, I05-I09, I20-I25, I27, I30-I52 | M11: 心臟疾病（高血壓性疾病除外） | N11: 809 | O11: 23.3751 | P11: 7.0704422
A12: 3 | B12: K70, K73-K74 | C12: 慢性肝病及肝硬化 | D12: 2246 | E12: 32.9131 | F12: 5.9741987 | G12: K70, K73-K74 | H12: 慢性肝病及肝硬化 | I12: 1890 | J12: 56.198451 | K12: 7.2267044 | L12: E10-E14 | M12: 糖尿病 | N12: 581 | O12: 16.7873 | P12: 5.0777836
A13: 4 | B13: I60-I69 | C13: 腦血管疾病 | D13: 2134 | E13: 31.2718 | F13: 5.6762867 | G13: V01-X59, Y85-Y86 | H13: 事故傷害 | I13: 1601 | J13: 47.605143 | K13: 6.1216686 | L13: I60-I69 | M13: 腦血管疾病 | N13: 555 | O13: 16.036 | P13: 4.8505506
A14: 5 | B14: V01-X59, Y85-Y86 | C14: 事故傷害 | D14: 2122 | E14: 31.096 | F14: 5.6443676 | G14: I60-I69 | H14: 腦血管疾病 | I14: 1579 | J14: 46.950981 | K14: 6.0375483 | L14: V01-X59, Y85-Y86 | M14: 事故傷害 | N14: 521 | O14: 15.0537 | P14: 4.5533998
A15: 6 | B15: E10-E14 | C15: 糖尿病 | D15: 1801 | E15: 26.392 | F15: 4.7905307 | G15: E10-E14 | H15: 糖尿病 | I15: 1220 | J15: 36.276249 | K15: 4.6648568 | L15: X60-X84, Y87.0 | M15: 蓄意自我傷害（自殺） | N15: 416 | O15: 12.0198 | P15: 3.635728
A16: 7 | B16: X60-X84, Y87.0 | C16: 蓄意自我傷害（自殺） | D16: 1357 | E16: 19.8856 | F16: 3.6095225 | G16: X60-X84, Y87.0 | H16: 蓄意自我傷害（自殺） | I16: 941 | J16: 27.980287 | K16: 3.5980576 | L16: K70, K73-K74 | M16: 慢性肝病及肝硬化 | N16: 356 | O16: 10.2862 | P16: 3.1113442
A17: 8 | B17: J12-J18 | C17: 肺炎 | D17: 844 | E17: 12.368 | F17: 2.2449794 | G17: J12-J18 | H17: 肺炎 | I17: 610 | J17: 18.138124 | K17: 2.3324284 | L17: N00-N07, N17-N19, N25-N27 | M17: 腎炎、腎病症候群及腎病變 | N17: 279 | O17: 8.0613 | P17: 2.4383849
A18: 9 | B18: N00-N07, N17-N19, N25-N27 | C18: 腎炎、腎病症候群及腎病變 | D18: 786 | E18: 11.5181 | F18: 2.0907036 | G18: I10-I15 | H18: 高血壓性疾病 | I18: 570 | J18: 16.948739 | K18: 2.1794823 | L18: J12-J18 | M18: 肺炎 | N18: 234 | O18: 6.7611 | P18: 2.045097
A19: 10 | B19: I10-I15 | C19: 高血壓性疾病 | D19: 762 | E19: 11.1664 | F19: 2.0268653 | G19: N00-N07, N17-N19, N25-N27 | H19: 腎炎、腎病症候群及腎病變 | I19: 507 | J19: 15.075458 | K19: 1.9385921 | L19: I10-I15 | M19: 高血壓性疾病 | N19: 192 | O19: 5.5476 | P19: 1.6780283
C20: 其他 | D20: 5772 | E20: 84.583531 | F20: 15.353105 | H20: 其他 | I20: 4111 | J20: 122.23907 | K20: 15.719038 | M20: 其他 | N20: 1661 | O20: 47.992721 | P20: 14.516693
A21: 11 | B21: A40-A41 | C21: 敗血症 | D21: 471 | E21: 6.902 | F21: 1.2528262 | G21: A40-A41 | H21: 敗血症 | I21: 330 | J21: 9.812428 | K21: 1.2618055 | L21: A40-A41 | M21: 敗血症 | N21: 141 | O21: 4.074 | P21: 1.232302
A22: 12 | B22: J40-J47 | C22: 慢性下呼吸道疾病 | D22: 400 | E22: 5.8616 | F22: 1.0639713 | G22: J40-J47 | H22: 慢性下呼吸道疾病 | I22: 304 | J22: 9.0393276 | K22: 1.1623905 | L22: M00-M99 | M22: 骨骼肌肉系統及結締組織之疾病 | N22: 119 | O22: 3.4383 | P22: 1.040028
A23: 13 | B23: M00-M99 | C23: 骨骼肌肉系統及結締組織之疾病 | D23: 294 | E23: 4.3083 | F23: 0.78201889 | G23: D00-D48 | H23: 原位與良性腫瘤（惡性腫瘤除外） | I23: 179 | J23: 5.3224988 | K23: 0.68443391 | L23: J40-J47 | M23: 慢性下呼吸道疾病 | N23: 96 | O23: 2.7738 | P23: 0.83901416
A24: 14 | B24: D00-D48 | C24: 原位與良性腫瘤（惡性腫瘤除外） | D24: 260 | E24: 3.81 | F24: 0.69158133 | G24: M00-M99 | H24: 骨骼肌肉系統及結締組織之疾病 | I24: 175 | J24: 5.2035603 | K24: 0.6691393 | L24: D00-D48 | M24: 原位與良性腫瘤（惡性腫瘤除外） | N24: 81 | O24: 2.3404 | P24: 0.7079182
A25: 15 | B25: I71 | C25: 主動脈瘤及剝離 | D25: 198 | E25: 2.9015 | F25: 0.52666578 | G25: I71 | H25: 主動脈瘤及剝離 | I25: 151 | J25: 4.4899292 | K25: 0.57737162 | L25: I71 | M25: 主動脈瘤及剝離 | N25: 47 | O25: 1.358 | P25: 0.41076735
A26: 附註: 103年45-64歲年中人口數計6,824,024 人,男性3,363,082 人,女性 3,460,942 人。

Sheet 表7
A1: 表7 65歲以上主要死亡原因
A3: 民國103年
P4: 單位：人、每十萬人口、%
A5: 順 | C5: 合 計 | H5: 男 性 | M5: 女 性
B6: ICD-10 | D6: 死亡 | F6: 死亡人數 | G6: ICD-10 | I6: 死亡 | K6: 死亡人數 | L6: ICD-10 | N6: 死亡 | P6: 死亡人數
B7: 國際死因 | C7: 死 亡 原 因 | E7: 死亡率 | F7: 結構比 | G7: 國際死因 | H7: 死 亡 原 因 | J7: 死亡率 | K7: 結構比 | L7: 國際死因 | M7: 死 亡 原 因 | O7: 死亡率 | P7: 結構比
A8: 位 | B8: 分類號碼 | D8: 人數 | F8: % | G8: 分類號碼 | I8: 人數 | K8: % | L8: 分類號碼 | N8: 人數 | P8: %
B9: A00-Y98 | C9: 所有死亡原因 | D9: 113700 | E9: 4132.2194 | F9: 100 | G9: A00-Y98 | H9: 所有死亡原因 | I9: 63608 | J9: 4953.0609 | K9: 100 | L9: A00-Y98 | M9: 所有死亡原因 | N9: 50092 | O9: 3413.815 | P9: 100
A10: 1 | B10: C00-C97 | C10: 惡性腫瘤 | D10: 27514 | E10: 999.94621 | F10: 24.198769 | G10: C00-C97 | H10: 惡性腫瘤 | I10: 16700 | J10: 1300.4043 | K10: 26.254559 | L10: C00-C97 | M10: 惡性腫瘤 | N10: 10814 | O10: 736.98386 | P10: 21.588278
A11: 2 | B11: I01-I02.0, I05-I09, I20-I25, I27, I30-I52 | C11: 心臟疾病（高血壓性疾病除外） | D11: 14809 | E11: 538.20613 | F11: 13.024626 | G11: I01-I02.0, I05-I09, I20-I25, I27, I30-I52 | H11: 心臟疾病（高血壓性疾病除外） | I11: 7874 | J11: 613.13673 | K11: 12.378946 | L11: I01-I02.0, I05-I09, I20-I25, I27, I30-I52 | M11: 心臟疾病（高血壓性疾病除外） | N11: 6935 | O11: 472.62651 | P11: 13.844526
A12: 3 | B12: J12-J18 | C12: 肺炎 | D12: 9339 | E12: 339.40894 | F12: 8.2137203 | G12: J12-J18 | H12: 肺炎 | I12: 5571 | J12: 433.80553 | K12: 8.7583323 | L12: E10-E14 | M12: 糖尿病 | N12: 4322 | O12: 294.5482 | P12: 8.6281243
A13: 4 | B13: I60-I69 | C13: 腦血管疾病 | D13: 9199 | E13: 334.3209 | F13: 8.0905893 | G13: I60-I69 | H13: 腦血管疾病 | I13: 5111 | J13: 397.98601 | K13: 8.0351528 | L13: I60-I69 | M13: 腦血管疾病 | N13: 4088 | O13: 278.60089 | P13: 8.1609838
A14: 5 | B14: E10-E14 | C14: 糖尿病 | D14: 7839 | E14: 284.89418 | F14: 6.8944591 | G14: J40-J47 | H14: 慢性下呼吸道疾病 | I14: 4355 | J14: 339.11741 | K14: 6.8466231 | L14: J12-J18 | M14: 肺炎 | N14: 3768 | O14: 256.7926 | P14: 7.5221592
A15: 6 | B15: J40-J47 | C15: 慢性下呼吸道疾病 | D15: 5968 | E15: 216.89609 | F15: 5.2489006 | G15: E10-E14 | H15: 糖尿病 | I15: 3517 | J15: 273.86359 | K15: 5.5291787 | L15: I10-I15 | M15: 高血壓性疾病 | N15: 2420 | O15: 164.92518 | P15: 4.8311108
A16: 7 | B16: I10-I15 | C16: 高血壓性疾病 | D16: 4577 | E16: 166.34273 | F16: 4.0255057 | G16: I10-I15 | H16: 高血壓性疾病 | I16: 2157 | J16: 167.9624 | K16: 3.3910829 | L16: N00-N07, N17-N19, N25-N27 | M16: 腎炎、腎病症候群及腎病變 | N16: 2010 | O16: 136.98331 | P16: 4.0126168
A17: 8 | B17: N00-N07, N17-N19, N25-N27 | C17: 腎炎、腎病症候群及腎病變 | D17: 3980 | E17: 144.64585 | F17: 3.5004398 | G17: N00-N07, N17-N19, N25-N27 | H17: 腎炎、腎病症候群及腎病變 | I17: 1970 | J17: 153.40099 | K17: 3.0970947 | L17: J40-J47 | M17: 慢性下呼吸道疾病 | N17: 1613 | O17: 109.92741 | P17: 3.2200751
A18: 9 | B18: V01-X59, Y85-Y86 | C18: 事故傷害 | D18: 2919 | E18: 106.08574 | F18: 2.5672823 | G18: V01-X59, Y85-Y86 | H18: 事故傷害 | I18: 1870 | J18: 145.61413 | K18: 2.9398818 | L18: A40-A41 | M18: 敗血症 | N18: 1263 | O18: 86.07459 | P18: 2.5213607
A19: 10 | B19: A40-A41 | C19: 敗血症 | D19: 2847 | E19: 103.46903 | F19: 2.5039578 | G19: A40-A41 | H19: 敗血症 | I19: 1584 | J19: 123.34374 | K19: 2.4902528 | L19: V01-X59, Y85-Y86 | M19: 事故傷害 | N19: 1049 | O19: 71.490297 | P19: 2.0941468
C20: 其他 | D20: 24709 | E20: 898.0036 | F20: 21.73175 | H20: 其他 | I20: 12899 | J20: 1004.426 | K20: 20.278896 | M20: 其他 | N20: 11810 | O20: 804.86216 | P20: 23.576619
A21: 11 | B21: K70, K73-K74 | C21: 慢性肝病及肝硬化 | D21: 1914 | E21: 69.560844 | F21: 1.6833773 | G21: K70, K73-K74 | H21: 慢性肝病及肝硬化 | I21: 939 | J21: 73.118541 | K21: 1.4762294 | L21: K70, K73-K74 | M21: 慢性肝病及肝硬化 | N21: 975 | O21: 66.44713 | P21: 1.9464186
A22: 12 | B22: R54 | C22: 衰老/老邁 | D22: 1450 | E22: 52.697609 | F22: 1.2752858 | G22: R54 | H22: 衰老/老邁 | I22: 615 | J22: 47.88914 | K22: 0.96685951 | L22: R54 | M22: 衰老/老邁 | N22: 835 | O22: 56.906004 | P22: 1.6669328
A23: 13 | B23: M00-M99 | C23: 骨骼肌肉系統及結締組織之疾病 | D23: 1177 | E23: 42.775921 | F23: 1.0351803 | G23: X60-X84, Y87.0 | H23: 蓄意自我傷害（自殺） | I23: 555 | J23: 43.217029 | K23: 0.87253176 | L23: F01-F03 | M23: 血管性及未明示之癡呆症 | N23: 640 | O23: 43.616578 | P23: 1.2776491
A24: 14 | B24: F01-F03 | C24: 血管性及未明示之癡呆症 | D24: 1131 | E24: 41.104135 | F24: 0.99472296 | G24: D00-D48 | H24: 原位與良性腫瘤（惡性腫瘤除外） | I24: 554 | J24: 43.13916 | K24: 0.87095963 | L24: M00-M99 | M24: 骨骼肌肉系統及結締組織之疾病 | N24: 630 | O24: 42.935069 | P24: 1.2576859
A25: 15 | B25: D00-D48 | C25: 原位與良性腫瘤（惡性腫瘤除外） | D25: 1029 | E25: 37.397131 | F25: 0.90501319 | G25: M00-M99 | H25: 骨骼肌肉系統及結締組織之疾病 | I25: 547 | J25: 42.594081 | K25: 0.85995472 | L25: D00-D48 | M25: 原位與良性腫瘤（惡性腫瘤除外） | N25: 475 | O25: 32.371679 | P25: 0.94825521
A26: 附註: 103年65歲以上年中人口數計2,751,548 人,男性1,284,216 人,女性 1,467,332 人。

Sheet 表8
A1: 表8 0-17歲兒童及少年主要死亡原因
A3: 民國103年
P4: 單位：人、每十萬人口、%
A5: 順 | C5: 合 計 | H5: 男 性 | M5: 女 性
B6: ICD-10 | D6: 死亡 | F6: 死亡人數 | G6: ICD-10 | I6: 死亡 | K6: 死亡人數 | L6: ICD-10 | N6: 死亡 | P6: 死亡人數
B7: 國際死因 | C7: 死 亡 原 因 | E7: 死亡率 | F7: 結構比 | G7: 國際死因 | H7: 死 亡 原 因 | J7: 死亡率 | K7: 結構比 | L7: 國際死因 | M7: 死 亡 原 因 | O7: 死亡率 | P7: 結構比
A8: 位 | B8: 分類號碼 | D8: 人數 | F8: % | G8: 分類號碼 | I8: 人數 | K8: % | L8: 分類號碼 | N8: 人數 | P8: %
B9: A00-Y98 | C9: 所有死亡原因 | D9: 1469 | E9: 34.942172 | F9: 100 | G9: A00-Y98 | H9: 所有死亡原因 | I9: 875 | J9: 39.937925 | K9: 100 | L9: A00-Y98 | M9: 所有死亡原因 | N9: 594 | O9: 29.505426 | P9: 100
A10: 1 | B10: P00-P96 | C10: 源於周產期的特定病況 | D10: 357 | E10: 8.4917327 | F10: 24.302246 | G10: P00-P96 | H10: 源於周產期的特定病況 | I10: 195 | J10: 8.9004519 | K10: 22.285714 | L10: P00-P96 | M10: 源於周產期的特定病況 | N10: 162 | O10: 8.0469345 | P10: 27.272727
A11: 2 | B11: V01-X59, Y85-Y86 | C11: 事故傷害 | D11: 275 | E11: 6.5412507 | F11: 18.720218 | G11: V01-X59, Y85-Y86 | H11: 事故傷害 | I11: 178 | J11: 8.124515 | K11: 20.342857 | L11: V01-X59, Y85-Y86 | M11: 事故傷害 | N11: 97 | O11: 4.8182262 | P11: 16.329966
A12: 3 | B12: Q00-Q99 | C12: 先天性畸形變形及染色體異常 | D12: 201 | E12: 4.7810596 | F12: 13.682777 | G12: Q00-Q99 | H12: 先天性畸形變形及染色體異常 | I12: 131 | J12: 5.9792779 | K12: 14.971429 | L12: Q00-Q99 | M12: 先天性畸形變形及染色體異常 | N12: 70 | O12: 3.4770705 | P12: 11.784512
A13: 4 | B13: C00-C97 | C13: 惡性腫瘤 | D13: 140 | E13: 3.3300913 | F13: 9.5302927 | G13: C00-C97 | H13: 惡性腫瘤 | I13: 81 | J13: 3.6971108 | K13: 9.2571429 | L13: C00-C97 | M13: 惡性腫瘤 | N13: 59 | O13: 2.9306737 | P13: 9.9326599
A14: 5 | B14: I01-I02.0, I05-I09, I20-I25, I27, I30-I52 | C14: 心臟疾病（高血壓性疾病除外） | D14: 55 | E14: 1.3082501 | F14: 3.7440436 | G14: I01-I02.0, I05-I09, I20-I25, I27, I30-I52 | H14: 心臟疾病（高血壓性疾病除外） | I14: 32 | J14: 1.460587 | K14: 3.6571429 | L14: I01-I02.0, I05-I09, I20-I25, I27, I30-I52 | M14: 心臟疾病（高血壓性疾病除外） | N14: 23 | O14: 1.142466 | P14: 3.8720539
A15: 6 | B15: J12-J18 | C15: 肺炎 | D15: 31 | E15: 0.73737735 | F15: 2.1102791 | G15: J12-J18 | H15: 肺炎 | I15: 18 | J15: 0.82158017 | K15: 2.0571429 | L15: J12-J18 | M15: 肺炎 | N15: 13 | O15: 0.64574166 | P15: 2.1885522
A16: 7 | B16: R95 | C16: 嬰兒猝死症候群（SIDS） | D16: 30 | E16: 0.71359098 | F16: 2.0422056 | G16: R95 | H16: 嬰兒猝死症候群（SIDS） | I16: 18 | J16: 0.82158017 | K16: 2.0571429 | L16: R95 | M16: 嬰兒猝死症候群（SIDS） | N16: 12 | O16: 0.59606922 | P16: 2.020202
A17: 8 | B17: A40-A41 | C17: 敗血症 | D17: 20 | E17: 0.47572732 | F17: 1.3614704 | G17: A40-A41 | H17: 敗血症 | I17: 11 | J17: 0.50207677 | K17: 1.2571429 | L17: A40-A41 | M17: 敗血症 | N17: 9 | O17: 0.44705192 | P17: 1.5151515
A18: 9 | B18: I60-I69 | C18: 腦血管疾病 | D18: 17 | E18: 0.40436822 | F18: 1.1572498 | G18: I60-I69 | H18: 腦血管疾病 | I18: 10 | J18: 0.45643343 | K18: 1.1428571 | L18: I60-I69 | M18: 腦血管疾病 | N18: 7 | O18: 0.34770705 | P18: 1.1784512
A19: 10 | B19: X85-Y09, Y87.1 | C19: 加害（他殺） | D19: 16 | E19: 0.38058186 | F19: 1.0891763 | G19: X85-Y09, Y87.1 | H19: 加害（他殺） | I19: 10 | J19: 0.45643343 | K19: 1.1428571 | L19: X60-X84, Y87.0 | M19: 蓄意自我傷害（自殺） | N19: 7 | O19: 0.34770705 | P19: 1.1784512
C20: 其他 | D20: 242 | E20: 5.7563006 | F20: 16.473792 | H20: 其他 | I20: 145 | J20: 6.6182847 | K20: 16.571429 | M20: 其他 | N20: 97 | O20: 4.8182262 | P20: 16.329966
A21: 11 | B21: X60-X84, Y87.0 | C21: 蓄意自我傷害（自殺） | D21: 14 | E21: 0.33300913 | F21: 0.95302927 | G21: X60-X84, Y87.0 | H21: 蓄意自我傷害（自殺） | I21: 7 | J21: 0.3195034 | K21: 0.8 | L21: D00-D48 | M21: 原位與良性腫瘤(惡性腫瘤除外) | N21: 6 | O21: 0.29803461 | P21: 1.010101
A22: 12 | B22: D00-D48 | C22: 原位與良性腫瘤(惡性腫瘤除外) | D22: 13 | E22: 0.30922276 | F22: 0.88495575 | G22: D00-D48 | H22: 原位與良性腫瘤(惡性腫瘤除外) | I22: 7 | J22: 0.3195034 | K22: 0.8 | L22: X85-Y09, Y87.1 | M22: 加害（他殺） | N22: 6 | O22: 0.29803461 | P22: 1.010101
A23: 13 | B23: N00-N07, N17-N19, N25-N27 | C23: 腎炎、腎病症候群及腎病變 | D23: 8 | E23: 0.19029093 | F23: 0.54458816 | G23: J40-J47 | H23: 慢性下呼吸道疾病 | I23: 5 | J23: 0.22821671 | K23: 0.57142857 | L23: N00-N07, N17-N19, N25-N27 | M23: 腎炎、腎病症候群及腎病變 | N23: 4 | O23: 0.19868974 | P23: 0.67340067
A24: 14 | B24: J40-J47 | C24: 慢性下呼吸道疾病 | D24: 7 | E24: 0.16650456 | F24: 0.47651464 | G24: E10-E14 | H24: 糖尿病 | I24: 4 | J24: 0.18257337 | K24: 0.45714286 | L24: M00-M99 | M24: 骨骼肌肉系統及結締組織之疾病 | N24: 3 | O24: 0.14901731 | P24: 0.50505051
A25: 15 | B25: M00-M99 | C25: 骨骼肌肉系統及結締組織之疾病 | D25: 7 | E25: 0.16650456 | F25: 0.47651464 | G25: N00-N07, N17-N19, N25-N27 | H25: 腎炎、腎病症候群及腎病變 | I25: 4 | J25: 0.18257337 | K25: 0.45714286 | L25: G00, G03 | M25: 腦膜炎 | N25: 3 | O25: 0.14901731 | P25: 0.50505051
A26: 附註: 103年0-17歲年中人口數計4,204089,人,男性2,190,900人,女性 2,013,189人。

Sheet 表9
A1: 表9 0-11歲兒童主要死亡原因
A3: 民國103年
P4: 單位：人、每十萬人口、%
A5: 順 | C5: 合 計 | H5: 男 性 | M5: 女 性
B6: ICD-10 | D6: 死亡 | F6: 死亡人數 | G6: ICD-10 | I6: 死亡 | K6: 死亡人數 | L6: ICD-10 | N6: 死亡 | P6: 死亡人數
B7: 國際死因 | C7: 死 亡 原 因 | E7: 死亡率 | F7: 結構比 | G7: 國際死因 | H7: 死 亡 原 因 | J7: 死亡率 | K7: 結構比 | L7: 國際死因 | M7: 死 亡 原 因 | O7: 死亡率 | P7: 結構比
A8: 位 | B8: 分類號碼 | D8: 人數 | F8: % | G8: 分類號碼 | I8: 人數 | K8: % | L8: 分類號碼 | N8: 人數 | P8: %
B9: A00-Y98 | C9: 所有死亡原因 | D9: 1143 | E9: 46.005955 | F9: 100 | G9: A00-Y98 | H9: 所有死亡原因 | I9: 659 | J9: 50.896795 | K9: 100 | L9: A00-Y98 | M9: 所有死亡原因 | N9: 484 | O9: 40.683072 | P9: 100
A10: 1 | B10: P00-P96 | C10: 源於周產期的特定病況 | D10: 357 | E10: 14.369314 | F10: 31.233596 | G10: P00-P96 | H10: 源於周產期的特定病況 | I10: 195 | J10: 15.060508 | K10: 29.590288 | L10: P00-P96 | M10: 源於周產期的特定病況 | N10: 162 | O10: 13.617061 | P10: 33.471074
A11: 2 | B11: Q00-Q99 | C11: 先天性畸形變形及染色體異常 | D11: 184 | E11: 7.4060329 | F11: 16.097988 | G11: Q00-Q99 | H11: 先天性畸形變形及染色體異常 | I11: 118 | J11: 9.1135385 | K11: 17.905918 | L11: Q00-Q99 | M11: 先天性畸形變形及染色體異常 | N11: 66 | O11: 5.5476917 | P11: 13.636364
A12: 3 | B12: V01-X59, Y85-Y86 | C12: 事故傷害 | D12: 144 | E12: 5.7960258 | F12: 12.598425 | G12: V01-X59, Y85-Y86 | H12: 事故傷害 | I12: 81 | J12: 6.2559035 | K12: 12.291351 | L12: V01-X59, Y85-Y86 | M12: 事故傷害 | N12: 63 | O12: 5.2955239 | P12: 13.016529
A13: 4 | B13: C00-C97 | C13: 惡性腫瘤 | D13: 82 | E13: 3.3005147 | F13: 7.1741032 | G13: C00-C97 | H13: 惡性腫瘤 | I13: 45 | J13: 3.475502 | K13: 6.8285281 | L13: C00-C97 | M13: 惡性腫瘤 | N13: 37 | O13: 3.1100696 | P13: 7.6446281
A14: 5 | B14: I01-I02.0, I05-I09, I20-I25, I27, I30-I52 | C14: 心臟疾病（高血壓性疾病除外） | D14: 41 | E14: 1.6502573 | F14: 3.5870516 | G14: I01-I02.0, I05-I09, I20-I25, I27, I30-I52 | H14: 心臟疾病（高血壓性疾病除外） | I14: 23 | J14: 1.7763677 | K14: 3.4901366 | L14: I01-I02.0, I05-I09, I20-I25, I27, I30-I52 | M14: 心臟疾病（高血壓性疾病除外） | N14: 18 | O14: 1.5130068 | P14: 3.7190083
A15: 6 | B15: R95 | C15: 嬰兒猝死症候群（SIDS） | D15: 30 | E15: 1.2075054 | F15: 2.6246719 | G15: R95 | H15: 嬰兒猝死症候群（SIDS） | I15: 18 | J15: 1.3902008 | K15: 2.7314112 | L15: R95 | M15: 嬰兒猝死症候群（SIDS） | N15: 12 | O15: 1.0086712 | P15: 2.4793388
A16: 7 | B16: J12-J18 | C16: 肺炎 | D16: 25 | E16: 1.0062545 | F16: 2.1872266 | G16: J12-J18 | H16: 肺炎 | I16: 17 | J16: 1.3129674 | K16: 2.5796662 | L16: J12-J18 | M16: 肺炎 | N16: 8 | O16: 0.67244747 | P16: 1.6528926
A17: 8 | B17: A40-A41 | C17: 敗血症 | D17: 18 | E17: 0.72450322 | F17: 1.5748031 | G17: A40-A41 | H17: 敗血症 | I17: 11 | J17: 0.84956715 | K17: 1.6691958 | L17: A40-A41 | M17: 敗血症 | N17: 7 | O17: 0.58839154 | P17: 1.446281
A18: 9 | B18: I60-I69 | C18: 腦血管疾病 | D18: 14 | E18: 0.56350251 | F18: 1.2248469 | G18: I60-I69 | H18: 腦血管疾病 | I18: 9 | J18: 0.69510039 | K18: 1.3657056 | L18: I60-I69 | M18: 腦血管疾病 | N18: 5 | O18: 0.42027967 | P18: 1.0330579
A19: 10 | B19: D00-D48 | C19: 原位與良性腫瘤(惡性腫瘤除外) | D19: 9 | E19: 0.36225161 | F19: 0.78740157 | G19: D00-D48 | H19: 原位與良性腫瘤(惡性腫瘤除外) | I19: 5 | J19: 0.38616688 | K19: 0.75872534 | L19: X85-Y09, Y87.1 | M19: 加害（他殺） | N19: 5 | O19: 0.42027967 | P19: 1.0330579
C20: 其他 | D20: 189 | E20: 7.6072838 | F20: 16.535433 | H20: 其他 | I20: 109 | J20: 8.4184381 | K20: 16.540212 | M20: 其他 | N20: 80 | O20: 6.7244747 | P20: 16.528926
A21: 11 | B21: X85-Y09, Y87.1 | C21: 加害（他殺） | D21: 9 | E21: 0.36225161 | F21: 0.78740157 | G21: J40-J47 | H21: 慢性下呼吸道疾病 | I21: 4 | J21: 0.30893351 | K21: 0.60698027 | L21: D00-D48 | M21: 原位與良性腫瘤(惡性腫瘤除外) | N21: 4 | O21: 0.33622374 | P21: 0.82644628
A22: 12 | B22: N00-N07, N17-N19, N25-N27 | C22: 腎炎、腎病症候群及腎病變 | D22: 7 | E22: 0.28175125 | F22: 0.61242345 | G22: N00-N07, N17-N19, N25-N27 | H22: 腎炎、腎病症候群及腎病變 | I22: 4 | J22: 0.30893351 | K22: 0.60698027 | L22: N00-N07, N17-N19, N25-N27 | M22: 腎炎、腎病症候群及腎病變 | N22: 3 | O22: 0.2521678 | P22: 0.61983471
A23: 13 | B23: J10-J11 | C23: 流行性感冒 | D23: 6 | E23: 0.24150107 | F23: 0.52493438 | G23: X85-Y09, Y87.1 | H23: 加害（他殺） | I23: 4 | J23: 0.30893351 | K23: 0.60698027 | L23: J10-J11 | M23: 流行性感冒 | N23: 3 | O23: 0.2521678 | P23: 0.61983471
A24: 14 | B24: J40-J47 | C24: 慢性下呼吸道疾病 | D24: 5 | E24: 0.2012509 | F24: 0.43744532 | G24: E10-E14 | H24: 糖尿病 | I24: 3 | J24: 0.23170013 | K24: 0.4552352 | L24: K40-K46, K56 | M24: 疝氣及腸阻塞 | N24: 2 | O24: 0.16811187 | P24: 0.41322314
A25: 15 | B25: G12 | C25: 椎骨肌肉萎縮及有關聯之症候群 | D25: 4 | E25: 0.16100072 | F25: 0.34995626 | G25: J10-J11 | H25: 流行性感冒 | I25: 3 | J25: 0.23170013 | K25: 0.4552352 | L25: G00, G03 | M25: 腦膜炎 | N25: 2 | O25: 0.16811187 | P25: 0.41322314
A26: 附註:103年0-11歲年中人口數計2,484,461人,男性1,294,777人,女性1,189,684人。

Sheet 表10
A1: 表10 1-5歲兒童主要死亡原因
A3: 民國103年
P4: 單位：人、每十萬人口、%
A5: 順 | C5: 合 計 | H5: 男 性 | M5: 女 性
B6: ICD-10 | D6: 死亡 | F6: 死亡人數 | G6: ICD-10 | I6: 死亡 | K6: 死亡人數 | L6: ICD-10 | N6: 死亡 | P6: 死亡人數
B7: 國際死因 | C7: 死 亡 原 因 | E7: 死亡率 | F7: 結構比 | G7: 國際死因 | H7: 死 亡 原 因 | J7: 死亡率 | K7: 結構比 | L7: 國際死因 | M7: 死 亡 原 因 | O7: 死亡率 | P7: 結構比
A8: 位 | B8: 分類號碼 | D8: 人數 | F8: % | G8: 分類號碼 | I8: 人數 | K8: % | L8: 分類號碼 | N8: 人數 | P8: %
B9: A00-Y98 | C9: 所有死亡原因 | D9: 204 | E9: 20.35857 | F9: 100 | G9: A00-Y98 | H9: 所有死亡原因 | I9: 107 | J9: 20.555853 | K9: 100 | L9: A00-Y98 | M9: 所有死亡原因 | N9: 97 | O9: 20.145295 | P9: 100
A10: 1 | B10: V01-X59, Y85-Y86 | C10: 事故傷害 | D10: 42 | E10: 4.1914704 | F10: 20.588235 | G10: =VLOOKUP(H10,表12!R:S,2,0) -> C00-C97 | H10: 惡性腫瘤 | I10: 24 | J10: 4.6106587 | K10: 22.429907 | L10: =VLOOKUP(M10,表12!R:S,2,0) -> V01-X59, Y85-Y86 | M10: 事故傷害 | N10: 24 | O10: 4.984403 | P10: 24.742268
A11: 2 | B11: C00-C97 | C11: 惡性腫瘤 | D11: 39 | E11: 3.8920796 | F11: 19.117647 | G11: =VLOOKUP(H11,表12!R:S,2,0) -> V01-X59, Y85-Y86 | H11: 事故傷害 | I11: 18 | J11: 3.457994 | K11: 16.82243 | L11: =VLOOKUP(M11,表12!R:S,2,0) -> C00-C97 | M11: 惡性腫瘤 | N11: 15 | O11: 3.1152519 | P11: 15.463918
A12: 3 | B12: Q00-Q99 | C12: 先天性畸形變形及染色體異常 | D12: 28 | E12: 2.7943136 | F12: 13.72549 | G12: =VLOOKUP(H12,表12!R:S,2,0) -> Q00-Q99 | H12: 先天性畸形變形及染色體異常 | I12: 14 | J12: 2.6895509 | K12: 13.084112 | L12: =VLOOKUP(M12,表12!R:S,2,0) -> Q00-Q99 | M12: 先天性畸形變形及染色體異常 | N12: 14 | O12: 2.9075684 | P12: 14.43299
A13: 4 | B13: I01-I02.0, I05-I09, I20-I25, I27, I30-I52 | C13: 心臟疾病（高血壓性疾病除外） | D13: 13 | E13: 1.2973599 | F13: 6.372549 | G13: =VLOOKUP(H13,表12!R:S,2,0) -> I01-I02.0, I05-I09, I20-I25, I27, I30-I52 | H13: 心臟疾病（高血壓性疾病除外） | I13: 6 | J13: 1.1526647 | K13: 5.6074766 | L13: =VLOOKUP(M13,表12!R:S,2,0) -> I01-I02.0, I05-I09, I20-I25, I27, I30-I52 | M13: 心臟疾病（高血壓性疾病除外） | N13: 7 | O13: 1.4537842 | P13: 7.2164948
A14: 5 | B14: X85-Y09, Y87.1 | C14: 加害（他殺） | D14: 6 | E14: 0.59878148 | F14: 2.9411765 | G14: =VLOOKUP(H14,表12!R:S,2,0) -> D00-D48 | H14: 原位與良性腫瘤(惡性腫瘤除外) | I14: 3 | J14: 0.57633234 | K14: 2.8037383 | L14: =VLOOKUP(M14,表12!R:S,2,0) -> X85-Y09, Y87.1 | M14: 加害（他殺） | N14: 4 | O14: 0.83073383 | P14: 4.1237113
A15: 6 | B15: I60-I69 | C15: 腦血管疾病 | D15: 4 | E15: 0.39918765 | F15: 1.9607843 | G15: =VLOOKUP(H15,表12!R:S,2,0) -> I60-I69 | H15: 腦血管疾病 | I15: 2 | J15: 0.38422156 | K15: 1.8691589 | L15: =VLOOKUP(M15,表12!R:S,2,0) -> I60-I69 | M15: 腦血管疾病 | N15: 2 | O15: 0.41536691 | P15: 2.0618557
A16: 7 | B16: J12-J18 | C16: 肺炎 | D16: 4 | E16: 0.39918765 | F16: 1.9607843 | G16: =VLOOKUP(H16,表12!R:S,2,0) -> J12-J18 | H16: 肺炎 | I16: 2 | J16: 0.38422156 | K16: 1.8691589 | L16: =VLOOKUP(M16,表12!R:S,2,0) -> J12-J18 | M16: 肺炎 | N16: 2 | O16: 0.41536691 | P16: 2.0618557
A17: 8 | B17: J10-J11 | C17: 流行性感冒 | D17: 4 | E17: 0.39918765 | F17: 1.9607843 | G17: =VLOOKUP(H17,表12!R:S,2,0) -> J40-J47 | H17: 慢性下呼吸道疾病 | I17: 2 | J17: 0.38422156 | K17: 1.8691589 | L17: =VLOOKUP(M17,表12!R:S,2,0) -> A40-A41 | M17: 敗血症 | N17: 2 | O17: 0.41536691 | P17: 2.0618557
A18: 9 | B18: J40-J47 | C18: 慢性下呼吸道疾病 | D18: 3 | E18: 0.29939074 | F18: 1.4705882 | G18: =VLOOKUP(H18,表12!R:S,2,0) -> N00-N07, N17-N19, N25-N27 | H18: 腎炎、腎病症候群及腎病變 | I18: 2 | J18: 0.38422156 | K18: 1.8691589 | L18: =VLOOKUP(M18,表12!R:S,2,0) -> J10-J11 | M18: 流行性感冒 | N18: 2 | O18: 0.41536691 | P18: 2.0618557
A19: 10 | B19: N00-N07, N17-N19, N25-N27 | C19: 腎炎、腎病症候群及腎病變 | D19: 3 | E19: 0.29939074 | F19: 1.4705882 | G19: =VLOOKUP(H19,表12!R:S,2,0) -> M00-M99 | H19: 骨骼肌肉系統及結締組織之疾病 | I19: 2 | J19: 0.38422156 | K19: 1.8691589 | L19: =VLOOKUP(M19,表12!R:S,2,0) -> K70, K73-K74 | M19: 慢性肝病及肝硬化 | N19: 1 | O19: 0.20768346 | P19: 1.0309278
C20: 其他 | D20: 45 | E20: 4.4908611 | F20: 22.058824 | H20: 其他 | I20: 25 | J20: 4.8027695 | K20: 23.364486 | M20: 其他 | N20: 20 | O20: 4.1536691 | P20: 20.618557
A21: 11 | B21: A40-A41 | C21: 敗血症 | D21: 3 | E21: 0.29939074 | F21: 1.4705882 | G21: =VLOOKUP(H21,表12!R:S,2,0) -> X85-Y09, Y87.1 | H21: 加害（他殺） | I21: 2 | J21: 0.38422156 | K21: 1.8691589 | L21: =VLOOKUP(M21,表12!R:S,2,0) -> J40-J47 | M21: 慢性下呼吸道疾病 | N21: 1 | O21: 0.20768346 | P21: 1.0309278
A22: 12 | B22: D00-D48 | C22: 原位與良性腫瘤(惡性腫瘤除外) | D22: 3 | E22: 0.29939074 | F22: 1.4705882 | G22: =VLOOKUP(H22,表12!R:S,2,0) -> J10-J11 | H22: 流行性感冒 | I22: 2 | J22: 0.38422156 | K22: 1.8691589 | L22: =VLOOKUP(M22,表12!R:S,2,0) -> N00-N07, N17-N19, N25-N27 | M22: 腎炎、腎病症候群及腎病變 | N22: 1 | O22: 0.20768346 | P22: 1.0309278
A23: 13 | B23: M00-M99 | C23: 骨骼肌肉系統及結締組織之疾病 | D23: 2 | E23: 0.19959383 | F23: 0.98039216 | G23: =VLOOKUP(H23,表12!R:S,2,0) -> E10-E14 | H23: 糖尿病 | I23: 1 | J23: 0.19211078 | K23: 0.93457944 | L23: =VLOOKUP(M23,表12!R:S,2,0) -> L00-L99 | M23: 皮膚及皮下組織疾病 | N23: 1 | O23: 0.20768346 | P23: 1.0309278
A24: 14 | B24: E10-E14 | C24: 糖尿病 | D24: 1 | E24: 0.099796913 | F24: 0.49019608 | G24: =VLOOKUP(H24,表12!R:S,2,0) -> A40-A41 | H24: 敗血症 | I24: 1 | J24: 0.19211078 | K24: 0.93457944 | L24: =VLOOKUP(M24,表12!R:S,2,0) -> J66, J68-J69 | M24: 肇因於吸入外物之肺部病況（塵肺症及肺炎除外） | N24: 1 | O24: 0.20768346 | P24: 1.0309278
A25: 15 | B25: K70, K73-K74 | C25: 慢性肝病及肝硬化 | D25: 1 | E25: 0.099796913 | F25: 0.49019608 | G25: =VLOOKUP(H25,表12!R:S,2,0) -> D50-D64 | H25: 貧血 | I25: 1 | J25: 0.19211078 | K25: 0.93457944
A26: 附註: 103年1-5歲年中人口數計1,002,035人,男性520,533人,女性481,502人。

Sheet 表11
A1: 表11 6-11歲兒童主要死亡原因
A3: 民國103年
P4: 單位：人、每十萬人口、%
A5: 順 | C5: 合 計 | H5: 男 性 | M5: 女 性
B6: ICD-10 | D6: 死亡 | F6: 死亡人數 | G6: ICD-10 | I6: 死亡 | K6: 死亡人數 | L6: ICD-10 | N6: 死亡 | P6: 死亡人數
B7: 國際死因 | C7: 死 亡 原 因 | E7: 死亡率 | F7: 結構比 | G7: 國際死因 | H7: 死 亡 原 因 | J7: 死亡率 | K7: 結構比 | L7: 國際死因 | M7: 死 亡 原 因 | O7: 死亡率 | P7: 結構比
A8: 位 | B8: 分類號碼 | D8: 人數 | F8: % | G8: 分類號碼 | I8: 人數 | K8: % | L8: 分類號碼 | N8: 人數 | P8: %
B9: A00-Y98 | C9: 所有死亡原因 | D9: 178 | E9: 13.788648 | F9: 100 | G9: A00-Y98 | H9: 所有死亡原因 | I9: 106 | J9: 15.698169 | K9: 100 | L9: A00-Y98 | M9: 所有死亡原因 | N9: 72 | O9: 11.694406 | P9: 100
A10: 1 | B10: =VLOOKUP(C10,表12!R$9:S$50,2,FALSE) -> V01-X59, Y85-Y86 | C10: 事故傷害 | D10: 45 | E10: 3.4858941 | F10: 25.280899 | G10: =VLOOKUP(H10,表12!R$9:S$50,2,0) -> V01-X59, Y85-Y86 | H10: 事故傷害 | I10: 33 | J10: 4.8871657 | K10: 31.132075 | L10: =VLOOKUP(M10,表12!R$9:S$50,2,0) -> C00-C97 | M10: 惡性腫瘤 | N10: 20 | O10: 3.248446 | P10: 27.777778
A11: 2 | B11: =VLOOKUP(C11,表12!R$9:S$50,2,FALSE) -> C00-C97 | C11: 惡性腫瘤 | D11: 39 | E11: 3.0211083 | F11: 21.910112 | G11: =VLOOKUP(H11,表12!R$9:S$50,2,0) -> C00-C97 | H11: 惡性腫瘤 | I11: 19 | J11: 2.8138227 | K11: 17.924528 | L11: =VLOOKUP(M11,表12!R$9:S$50,2,0) -> V01-X59, Y85-Y86 | M11: 事故傷害 | N11: 12 | O11: 1.9490676 | P11: 16.666667
A12: 3 | B12: =VLOOKUP(C12,表12!R$9:S$50,2,FALSE) -> I01-I02.0, I05-I09, I20-I25, I27, I30-I52 | C12: 心臟疾病（高血壓性疾病除外） | D12: 11 | E12: 0.85210746 | F12: 6.1797753 | G12: =VLOOKUP(H12,表12!R$9:S$50,2,0) -> I01-I02.0, I05-I09, I20-I25, I27, I30-I52 | H12: 心臟疾病（高血壓性疾病除外） | I12: 6 | J12: 0.88857558 | K12: 5.6603774 | L12: =VLOOKUP(M12,表12!R$9:S$50,2,0) -> I01-I02.0, I05-I09, I20-I25, I27, I30-I52 | M12: 心臟疾病（高血壓性疾病除外） | N12: 5 | O12: 0.81211151 | P12: 6.9444444
A13: 4 | B13: =VLOOKUP(C13,表12!R$9:S$50,2,FALSE) -> Q00-Q99 | C13: 先天性畸形變形及染色體異常 | D13: 8 | E13: 0.61971451 | F13: 4.494382 | G13: =VLOOKUP(H13,表12!R$9:S$50,2,0) -> Q00-Q99 | H13: 先天性畸形變形及染色體異常 | I13: 5 | J13: 0.74047965 | K13: 4.7169811 | L13: =VLOOKUP(M13,表12!R$9:S$50,2,0) -> Q00-Q99 | M13: 先天性畸形變形及染色體異常 | N13: 3 | O13: 0.4872669 | P13: 4.1666667
A14: 5 | B14: =VLOOKUP(C14,表12!R$9:S$50,2,FALSE) -> D00-D48 | C14: 原位與良性腫瘤(惡性腫瘤除外) | D14: 4 | E14: 0.30985726 | F14: 2.247191 | G14: =VLOOKUP(H14,表12!R$9:S$50,2,0) -> I60-I69 | H14: 腦血管疾病 | I14: 3 | J14: 0.44428779 | K14: 2.8301887 | L14: =VLOOKUP(M14,表12!R$9:S$50,2,0) -> D00-D48 | M14: 原位與良性腫瘤(惡性腫瘤除外) | N14: 2 | O14: 0.3248446 | P14: 2.7777778
A15: 6 | B15: =VLOOKUP(C15,表12!R$9:S$50,2,FALSE) -> I60-I69 | C15: 腦血管疾病 | D15: 3 | E15: 0.23239294 | F15: 1.6853933 | G15: =VLOOKUP(H15,表12!R$9:S$50,2,0) -> D00-D48 | H15: 原位與良性腫瘤(惡性腫瘤除外) | I15: 2 | J15: 0.29619186 | K15: 1.8867925 | L15: =VLOOKUP(M15,表12!R$9:S$50,2,0) -> K40-K46, K56 | M15: 疝氣及腸阻塞 | N15: 2 | O15: 0.3248446 | P15: 2.7777778
A16: 7 | B16: =VLOOKUP(C16,表12!R$9:S$50,2,FALSE) -> K40-K46, K56 | C16: 疝氣及腸阻塞 | D16: 2 | E16: 0.15492863 | F16: 1.1235955 | G16: =VLOOKUP(H16,表12!R$9:S$50,2,0) -> J12-J18 | H16: 肺炎 | I16: 1 | J16: 0.14809593 | K16: 0.94339623 | L16: =VLOOKUP(M16,表12!R$9:S$50,2,0) -> N00-N07, N17-N19, N25-N27 | M16: 腎炎、腎病症候群及腎病變 | N16: 1 | O16: 0.1624223 | P16: 1.3888889
A17: 8 | B17: =VLOOKUP(C17,表12!R$9:S$50,2,FALSE) -> X85-Y09, Y87.1 | C17: 加害（他殺） | D17: 2 | E17: 0.15492863 | F17: 1.1235955 | G17: =VLOOKUP(H17,表12!R$9:S$50,2,0) -> E10-E14 | H17: 糖尿病 | I17: 1 | J17: 0.14809593 | K17: 0.94339623 | L17: =VLOOKUP(M17,表12!R$9:S$50,2,0) -> X85-Y09, Y87.1 | M17: 加害（他殺） | N17: 1 | O17: 0.1624223 | P17: 1.3888889
A18: 9 | B18: =VLOOKUP(C18,表12!R$9:S$50,2,FALSE) -> J10-J11 | C18: 流行性感冒 | D18: 2 | E18: 0.15492863 | F18: 1.1235955 | G18: =VLOOKUP(H18,表12!R$9:S$50,2,0) -> D50-D64 | H18: 貧血 | I18: 1 | J18: 0.14809593 | K18: 0.94339623 | L18: =VLOOKUP(M18,表12!R$9:S$50,2,0) -> G12 | M18: 椎骨肌肉萎縮及有關聯之症候群 | N18: 1 | O18: 0.1624223 | P18: 1.3888889
A19: 10 | B19: =VLOOKUP(C19,表12!R$9:S$50,2,FALSE) -> J12-J18 | C19: 肺炎 | D19: 1 | E19: 0.077464314 | F19: 0.56179775 | G19: =VLOOKUP(H19,表12!R$9:S$50,2,0) -> X85-Y09, Y87.1 | H19: 加害（他殺） | I19: 1 | J19: 0.14809593 | K19: 0.94339623 | L19: =VLOOKUP(M19,表12!R$9:S$50,2,0) -> J10-J11 | M19: 流行性感冒 | N19: 1 | O19: 0.1624223 | P19: 1.3888889
C20: 其他 | D20: 56 | E20: 4.3380016 | F20: 31.460674 | H20: 其他 | I20: 32 | J20: 4.7390698 | K20: 30.188679 | M20: 其他 | N20: 24 | O20: 3.8981352 | P20: 33.333333
A21: 11 | B21: =VLOOKUP(C21,表12!R$9:S$50,2,FALSE) -> E10-E14 | C21: 糖尿病 | D21: 1 | E21: 0.077464314 | F21: 0.56179775 | G21: =VLOOKUP(H21,表12!R$9:S$50,2,0) -> G00, G03 | H21: 腦膜炎 | I21: 1 | J21: 0.14809593 | K21: 0.94339623
A22: 12 | B22: =VLOOKUP(C22,表12!R$9:S$50,2,FALSE) -> N00-N07, N17-N19, N25-N27 | C22: 腎炎、腎病症候群及腎病變 | D22: 1 | E22: 0.077464314 | F22: 0.56179775 | G22: =VLOOKUP(H22,表12!R$9:S$50,2,0) -> J10-J11 | H22: 流行性感冒 | I22: 1 | J22: 0.14809593 | K22: 0.94339623
A23: 13 | B23: =VLOOKUP(C23,表12!R$9:S$50,2,FALSE) -> D50-D64 | C23: 貧血 | D23: 1 | E23: 0.077464314 | F23: 0.56179775
A24: 14 | B24: =VLOOKUP(C24,表12!R$9:S$50,2,FALSE) -> G00, G03 | C24: 腦膜炎 | D24: 1 | E24: 0.077464314 | F24: 0.56179775
A25: 15 | B25: =VLOOKUP(C25,表12!R$9:S$50,2,FALSE) -> G12 | C25: 椎骨肌肉萎縮及有關聯之症候群 | D25: 1 | E25: 0.077464314 | F25: 0.56179775
A26: 附註: 103年6-11歲年中人口數計1,290,917人,男性675,238人,女性615,679人。

Sheet 表12
A1: 表12 12-17歲少年主要死亡原因
A3: 民國103年
P4: 單位：人、每十萬人口、%
A5: 順 | C5: 合 計 | H5: 男 性 | M5: 女 性
B6: ICD-10 | D6: 死亡 | F6: 死亡人數 | G6: ICD-10 | I6: 死亡 | K6: 死亡人數 | L6: ICD-10 | N6: 死亡 | P6: 死亡人數
B7: 國際死因 | C7: 死 亡 原 因 | E7: 死亡率 | F7: 結構比 | G7: 國際死因 | H7: 死 亡 原 因 | J7: 死亡率 | K7: 結構比 | L7: 國際死因 | M7: 死 亡 原 因 | O7: 死亡率 | P7: 結構比
A8: 位 | B8: 分類號碼 | D8: 人數 | F8: % | G8: 分類號碼 | I8: 人數 | K8: % | L8: 分類號碼 | N8: 人數 | P8: %
B9: A00-Y98 | C9: 所有死亡原因 | D9: 326 | E9: 18.957589 | F9: 100 | G9: A00-Y98 | H9: 所有死亡原因 | I9: 216 | J9: 24.103834 | K9: 100 | L9: A00-Y98 | M9: 所有死亡原因 | N9: 110 | O9: 13.357539 | P9: 100 | R9: 所有死亡原因 | S9: A00-Y98
A10: 1 | B10: =VLOOKUP(C10,R$9:S$50,2,0) -> V01-X59, Y85-Y86 | C10: 事故傷害 | D10: 131 | E10: 7.6179267 | F10: 40.184049 | G10: =VLOOKUP(H10,R$9:S$50,2,0) -> V01-X59, Y85-Y86 | H10: 事故傷害 | I10: 97 | J10: 10.824407 | K10: 44.907407 | L10: =VLOOKUP(M10,R$9:S$50,2,0) -> V01-X59, Y85-Y86 | M10: 事故傷害 | N10: 34 | O10: 4.1286938 | P10: 30.909091 | R10: 腸道感染症 | S10: A00-A09
A11: 2 | B11: =VLOOKUP(C11,R$9:S$50,2,0) -> C00-C97 | C11: 惡性腫瘤 | D11: 58 | E11: 3.3728225 | F11: 17.791411 | G11: =VLOOKUP(H11,R$9:S$50,2,0) -> C00-C97 | H11: 惡性腫瘤 | I11: 36 | J11: 4.0173057 | K11: 16.666667 | L11: =VLOOKUP(M11,R$9:S$50,2,0) -> C00-C97 | M11: 惡性腫瘤 | N11: 22 | O11: 2.6715078 | P11: 20 | R11: 結核病 | S11: A15-A19
A12: 3 | B12: =VLOOKUP(C12,R$9:S$50,2,0) -> Q00-Q99 | C12: 先天性畸形變形及染色體異常 | D12: 17 | E12: 0.9885859 | F12: 5.2147239 | G12: =VLOOKUP(H12,R$9:S$50,2,0) -> Q00-Q99 | H12: 先天性畸形變形及染色體異常 | I12: 13 | J12: 1.4506937 | K12: 6.0185185 | L12: =VLOOKUP(M12,R$9:S$50,2,0) -> X60-X84, Y87.0 | M12: 蓄意自我傷害（自殺） | N12: 7 | O12: 0.8500252 | P12: 6.3636364 | R12: 敗血症 | S12: A40-A41
A13: 4 | B13: =VLOOKUP(C13,R$9:S$50,2,0) -> I01-I02.0, I05-I09, I20-I25, I27, I30-I52 | C13: 心臟疾病（高血壓性疾病除外） | D13: 14 | E13: 0.81412957 | F13: 4.2944785 | G13: =VLOOKUP(H13,R$9:S$50,2,0) -> I01-I02.0, I05-I09, I20-I25, I27, I30-I52 | H13: 心臟疾病（高血壓性疾病除外） | I13: 9 | J13: 1.0043264 | K13: 4.1666667 | L13: =VLOOKUP(M13,R$9:S$50,2,0) -> I01-I02.0, I05-I09, I20-I25, I27, I30-I52 | M13: 心臟疾病（高血壓性疾病除外） | N13: 5 | O13: 0.60716086 | P13: 4.5454545 | R13: 病毒性肝炎 | S13: B15-B19
A14: 5 | B14: =VLOOKUP(C14,R$9:S$50,2,0) -> X60-X84, Y87.0 | C14: 蓄意自我傷害（自殺） | D14: 14 | E14: 0.81412957 | F14: 4.2944785 | G14: =VLOOKUP(H14,R$9:S$50,2,0) -> X60-X84, Y87.0 | H14: 蓄意自我傷害（自殺） | I14: 7 | J14: 0.78114277 | K14: 3.2407407 | L14: =VLOOKUP(M14,R$9:S$50,2,0) -> J12-J18 | M14: 肺炎 | N14: 5 | O14: 0.60716086 | P14: 4.5454545 | R14: 人類免疫缺乏病毒（HIV）疾病 | S14: B20-B24
A15: 6 | B15: =VLOOKUP(C15,R$9:S$50,2,0) -> X85-Y09, Y87.1 | C15: 加害（他殺） | D15: 7 | E15: 0.40706478 | F15: 2.1472393 | G15: =VLOOKUP(H15,R$9:S$50,2,0) -> X85-Y09, Y87.1 | H15: 加害（他殺） | I15: 6 | J15: 0.66955094 | K15: 2.7777778 | L15: =VLOOKUP(M15,R$9:S$50,2,0) -> Q00-Q99 | M15: 先天性畸形變形及染色體異常 | N15: 4 | O15: 0.48572868 | P15: 3.6363636 | R15: 惡性腫瘤 | S15: C00-C97
A16: 7 | B16: =VLOOKUP(C16,R$9:S$50,2,0) -> J12-J18 | C16: 肺炎 | D16: 6 | E16: 0.34891267 | F16: 1.8404908 | G16: =VLOOKUP(H16,R$9:S$50,2,0) -> M00-M99 | H16: 骨骼肌肉系統及結締組織之疾病 | I16: 2 | J16: 0.22318365 | K16: 0.92592593 | L16: =VLOOKUP(M16,R$9:S$50,2,0) -> I60-I69 | M16: 腦血管疾病 | N16: 2 | O16: 0.24286434 | P16: 1.8181818 | R16: 原位與良性腫瘤（惡性腫瘤除外） | S16: D00-D48
A17: 8 | B17: =VLOOKUP(C17,R$9:S$50,2,0) -> M00-M99 | C17: 骨骼肌肉系統及結締組織之疾病 | D17: 4 | E17: 0.23260845 | F17: 1.2269939 | G17: =VLOOKUP(H17,R$9:S$50,2,0) -> D00-D48 | H17: 原位與良性腫瘤(惡性腫瘤除外) | I17: 2 | J17: 0.22318365 | K17: 0.92592593 | L17: =VLOOKUP(M17,R$9:S$50,2,0) -> A40-A41 | M17: 敗血症 | N17: 2 | O17: 0.24286434 | P17: 1.8181818 | R17: 貧血 | S17: D50-D64
A18: 9 | B18: =VLOOKUP(C18,R$9:S$50,2,0) -> D00-D48 | C18: 原位與良性腫瘤(惡性腫瘤除外) | D18: 4 | E18: 0.23260845 | F18: 1.2269939 | G18: =VLOOKUP(H18,R$9:S$50,2,0) -> K40-K46, K56 | H18: 疝氣及腸阻塞 | I18: 2 | J18: 0.22318365 | K18: 0.92592593 | L18: =VLOOKUP(M18,R$9:S$50,2,0) -> M00-M99 | M18: 骨骼肌肉系統及結締組織之疾病 | N18: 2 | O18: 0.24286434 | P18: 1.8181818 | R18: 糖尿病 | S18: E10-E14
A19: 10 | B19: =VLOOKUP(C19,R$9:S$50,2,0) -> I60-I69 | C19: 腦血管疾病 | D19: 3 | E19: 0.17445634 | F19: 0.9202454 | G19: =VLOOKUP(H19,R$9:S$50,2,0) -> I60-I69 | H19: 腦血管疾病 | I19: 1 | J19: 0.11159182 | K19: 0.46296296 | L19: =VLOOKUP(M19,R$9:S$50,2,0) -> D00-D48 | M19: 原位與良性腫瘤(惡性腫瘤除外) | N19: 2 | O19: 0.24286434 | P19: 1.8181818 | R19: 血管性及未明示之癡呆症 | S19: F01-F03
C20: 其他 | D20: 53 | E20: 3.0820619 | F20: 16.257669 | H20: 其他 | I20: 36 | J20: 4.0173057 | K20: 16.666667 | M20: 其他 | N20: 17 | O20: 2.0643469 | P20: 15.454545 | R20: 腦膜炎 | S20: G00, G03
A21: 11 | B21: =VLOOKUP(C21,R$9:S$50,2,0) -> J40-J47 | C21: 慢性下呼吸道疾病 | D21: 2 | E21: 0.11630422 | F21: 0.61349693 | G21: =VLOOKUP(H21,R$9:S$50,2,0) -> J12-J18 | H21: 肺炎 | I21: 1 | J21: 0.11159182 | K21: 0.46296296 | L21: =VLOOKUP(M21,R$9:S$50,2,0) -> J40-J47 | M21: 慢性下呼吸道疾病 | N21: 1 | O21: 0.12143217 | P21: 0.90909091 | R21: 椎骨肌肉萎縮及有關聯之症候群 | S21: G12
A22: 12 | B22: =VLOOKUP(C22,R$9:S$50,2,0) -> A40-A41 | C22: 敗血症 | D22: 2 | E22: 0.11630422 | F22: 0.61349693 | G22: =VLOOKUP(H22,R$9:S$50,2,0) -> E10-E14 | H22: 糖尿病 | I22: 1 | J22: 0.11159182 | K22: 0.46296296 | L22: =VLOOKUP(M22,R$9:S$50,2,0) -> N00-N07, N17-N19, N25-N27 | M22: 腎炎、腎病症候群及腎病變 | N22: 1 | O22: 0.12143217 | P22: 0.90909091 | R22: 帕金森病 | S22: G20-G21
A23: 13 | B23: =VLOOKUP(C23,R$9:S$50,2,0) -> K40-K46, K56 | C23: 疝氣及腸阻塞 | D23: 2 | E23: 0.11630422 | F23: 0.61349693 | G23: =VLOOKUP(H23,R$9:S$50,2,0) -> J40-J47 | H23: 慢性下呼吸道疾病 | I23: 1 | J23: 0.11159182 | K23: 0.46296296 | L23: =VLOOKUP(M23,R$9:S$50,2,0) -> I10-I15 | M23: 高血壓性疾病 | N23: 1 | O23: 0.12143217 | P23: 0.90909091 | R23: 阿茲海默病 | S23: G30
A24: 14 | B24: =VLOOKUP(C24,R$9:S$50,2,0) -> E10-E14 | C24: 糖尿病 | D24: 1 | E24: 0.058152112 | F24: 0.30674847 | G24: =VLOOKUP(H24,R$9:S$50,2,0) -> L00-L99 | H24: 皮膚及皮下組織疾病 | I24: 1 | J24: 0.11159182 | K24: 0.46296296 | L24: =VLOOKUP(M24,R$9:S$50,2,0) -> K25-K28 | M24: 胃及十二指腸潰瘍 | N24: 1 | O24: 0.12143217 | P24: 0.90909091 | R24: 高血壓性疾病 | S24: I10-I15
A25: 15 | B25: =VLOOKUP(C25,R$9:S$50,2,0) -> N00-N07, N17-N19, N25-N27 | C25: 腎炎、腎病症候群及腎病變 | D25: 1 | E25: 0.058152112 | F25: 0.30674847 | G25: =VLOOKUP(H25,R$9:S$50,2,0) -> D50-D64 | H25: 貧血 | I25: 1 | J25: 0.11159182 | K25: 0.46296296 | L25: =VLOOKUP(M25,R$9:S$50,2,0) -> X85-Y09, Y87.1 | M25: 加害（他殺） | N25: 1 | O25: 0.12143217 | P25: 0.90909091 | R25: 心臟疾病（高血壓性疾病除外） | S25: I01-I02.0, I05-I09, I20-I25, I27, I30-I52
A26: 附註:103年12-17歲年中人口數計1,719,628人,男性896,123人,女性823,505人。 | R26: 腦血管疾病 | S26: I60-I69
R27: 動脈粥樣硬化 | S27: I70
R28: 主動脈瘤及剝離 | S28: I71
R29: 流行性感冒 | S29: J10-J11
R30: 肺炎 | S30: J12-J18
R31: 急性支氣管炎及急性細支氣管炎 | S31: J20-J21
R32: 慢性下呼吸道疾病 | S32: J40-J47
R33: 塵肺症 | S33: J60-J65
R34: 肇因於吸入外物之肺部病況（塵肺症及肺炎除外） | S34: J66, J68-J69
R35: 胃及十二指腸潰瘍 | S35: K25-K28
R36: 疝氣及腸阻塞 | S36: K40-K46, K56
R37: 慢性肝病及肝硬化 | S37: K70, K73-K74
R38: 膽結石及其他膽囊疾患 | S38: K80-K82
... R50: 原位與良性腫瘤(惡性腫瘤除外) | S50: D00-D48
