Workbook

Sheet 歷年
A1: 特殊境遇家庭符合款項 Conditions of Families in Hardship
A3: 單位：人 Unit:Persons
A4: 年底別 End of the Year | C4: 符 合 特 殊 境 遇 家 庭 扶 助 條 例 第 4 條 第 1 項 各 款 規 定 之 人 數 (可複選) Under one of the situations of Article 4,Item1 of Act of Assistance for Family in Hardship (Multiple Options)
C5: 第 1 款 Clause1 | E5: 第 2 款 Clause2 | G5: 第 3 款 Clause3 | H5: 第 4 款 Clause4 | I5: 第 5 款 Clause5 | K5: 第 6 款 Clause6 | L5: 第7款 Clause7
C6: 65歲以下 且配偶死亡 | D6: 65歲以下且配偶失蹤經向警察機關報案協尋未獲達6個月以上 | E6: 因配偶惡意遺棄經判決離婚確定或已完成協議離婚登記 | F6: 受配偶不堪同居之虐待經判決離婚確定或已完成協議離婚登記 | G6: 家庭暴力 受 害 | H6: 未婚懷孕婦女,懷胎3個月以上至分娩2個月以內 | I6: 因離婚、喪偶、未婚生子獨自扶養18歲以下子女，其無工作能力，或雖有工作能力，因遭遇重大傷病或照顧6歲以下子女致不能工作 | J6: 祖父母扶養18歲以下父母無力扶養之孫子女，其無工作能力，或雖有工作能力，因遭遇重大傷病或照顧6歲以下孫子女致不能工作 | K6: 配偶處1年以上之徒刑或受拘束人身自由之保安處分1年以上，且在執行中 | L6: 其他經直轄市、縣(市)政府評估，因3個月內生活發生重大變故導致生活、經濟困難者，且其重大變故非因個人責任、債務、非因自願性失業等事由
C7: Spouse is Dead | D7: Spouse is Missing | E7: Abandoned with Malice, and (had) Divorced by Judicial Decree | F7: Abused and (had) Divorced by Judicial Decree | G7: Domestic Violence | H7: Unmarried Pregnarcy from Over 3 Months to 2 Months after Accouchement | I7: Single Parent with No Working Ability or Unable to Work | J7: Grandparents with No Working Ability or Unable to Work | K7: Whose Spouse is Sentenced to Penal Servitude for Over 1 Year and in Prison | L7: Live in Hardship
A8: 104年, 2015 | C8: ='2015'!D8 -> 8626 | D8: ='2015'!E8 -> 56 | E8: ='2015'!F8 -> 853 | F8: ='2015'!G8 -> 1347 | G8: ='2015'!H8 -> 1018 | H8: ='2015'!I8 -> 2003 | I8: ='2015'!J8 -> 3922 | J8: ='2015'!K8 -> 261 | ... L8: ='2015'!M8 -> 607
A9: 105年, 2016 | C9: ='2016'!D8 -> 9050 | D9: ='2016'!E8 -> 44 | E9: ='2016'!F8 -> 855 | F9: ='2016'!G8 -> 1479 | G9: ='2016'!H8 -> 1140 | H9: ='2016'!I8 -> 2125 | I9: ='2016'!J8 -> 4315 | J9: ='2016'!K8 -> 234 | ... L9: ='2016'!M8 -> 658
A10: 106年, 2017 | C10: ='2017'!D8 -> 8828 | D10: ='2017'!E8 -> 34 | E10: ='2017'!F8 -> 800 | F10: ='2017'!G8 -> 1599 | G10: ='2017'!H8 -> 1210 | H10: ='2017'!I8 -> 2211 | I10: ='2017'!J8 -> 4341 | J10: ='2017'!K8 -> 232 | ... L10: ='2017'!M8 -> 631
A11: 107年, 2018 | C11: ='2018'!D8 -> 9188 | D11: ='2018'!E8 -> 19 | E11: ='2018'!F8 -> 744 | F11: ='2018'!G8 -> 1663 | G11: ='2018'!H8 -> 1226 | H11: ='2018'!I8 -> 2149 | I11: ='2018'!J8 -> 4797 | J11: ='2018'!K8 -> 213 | ... L11: ='2018'!M8 -> 728
A12: 108年, 2019 | C12: ='2019'!D8 -> 9045 | D12: ='2019'!E8 -> 16 | E12: ='2019'!F8 -> 670 | F12: ='2019'!G8 -> 1628 | G12: ='2019'!H8 -> 1131 | H12: ='2019'!I8 -> 1829 | I12: ='2019'!J8 -> 4700 | J12: ='2019'!K8 -> 194 | ... L12: ='2019'!M8 -> 766
A13: 109年, 2020 | C13: ='2020'!D8 -> 8430 | D13: ='2020'!E8 -> 12 | E13: ='2020'!F8 -> 637 | F13: ='2020'!G8 -> 1672 | G13: ='2020'!H8 -> 1139 | H13: ='2020'!I8 -> 1714 | I13: ='2020'!J8 -> 4437 | J13: ='2020'!K8 -> 195 | ... L13: ='2020'!M8 -> 755
A14: 110年, 2021 | C14: ='2021'!D8 -> 8219 | D14: ='2021'!E8 -> 8 | E14: ='2021'!F8 -> 582 | F14: ='2021'!G8 -> 1613 | G14: ='2021'!H8 -> 1141 | H14: ='2021'!I8 -> 1413 | I14: ='2021'!J8 -> 4419 | J14: ='2021'!K8 -> 191 | ... L14: ='2021'!M8 -> 711
A15: 111年, 2022 | C15: ='2022'!D8 -> 7649 | D15: ='2022'!E8 -> 10 | E15: ='2022'!F8 -> 536 | F15: ='2022'!G8 -> 1466 | G15: ='2022'!H8 -> 1023 | H15: ='2022'!I8 -> 1102 | I15: ='2022'!J8 -> 4331 | J15: ='2022'!K8 -> 154 | ... L15: ='2022'!M8 -> 547
A16: 112年, 2023 | C16: ='2023'!D8 -> 7350 | D16: ='2023'!E8 -> 7 | E16: ='2023'!F8 -> 523 | F16: ='2023'!G8 -> 1483 | G16: ='2023'!H8 -> 1152 | H16: ='2023'!I8 -> 1038 | I16: ='2023'!J8 -> 4674 | J16: ='2023'!K8 -> 125 | ... L16: ='2023'!M8 -> 609
A17: 113年, 2024 | C17: ='2024'!D8 -> 6751 | D17: ='2024'!E8 -> 15 | E17: ='2024'!F8 -> 438 | F17: ='2024'!G8 -> 1446 | G17: ='2024'!H8 -> 1213 | H17: ='2024'!I8 -> 947 | I17: ='2024'!J8 -> 4700 | J17: ='2024'!K8 -> 123 | ... L17: ='2024'!M8 -> 517
A18: 114年, 2025 | C18: ='2025'!D8 -> 6014 | D18: ='2025'!E8 -> 17 | E18: ='2025'!F8 -> 375 | F18: ='2025'!G8 -> 1376 | G18: ='2025'!H8 -> 1234 | H18: ='2025'!I8 -> 687 | I18: ='2025'!J8 -> 4475 | J18: ='2025'!K8 -> 116 | ... L18: ='2025'!M8 -> 480
A19: 第1季 Q1 | C19: ='Q1, 2025'!D8 -> 5260 | D19: ='Q1, 2025'!E8 -> 9 | E19: ='Q1, 2025'!F8 -> 339 | F19: ='Q1, 2025'!G8 -> 1190 | G19: ='Q1, 2025'!H8 -> 481 | H19: ='Q1, 2025'!I8 -> 188 | I19: ='Q1, 2025'!J8 -> 3113 | J19: ='Q1, 2025'!K8 -> 83 | ... L19: ='Q1, 2025'!M8 -> 184
A20: 第2季 Q2 | C20: ='Q2, 2025'!D8 -> 5485 | D20: ='Q2, 2025'!E8 -> 12 | E20: ='Q2, 2025'!F8 -> 350 | F20: ='Q2, 2025'!G8 -> 1249 | G20: ='Q2, 2025'!H8 -> 734 | H20: ='Q2, 2025'!I8 -> 349 | I20: ='Q2, 2025'!J8 -> 3594 | J20: ='Q2, 2025'!K8 -> 96 | ... L20: ='Q2, 2025'!M8 -> 285
A21: 第3季 Q3 | C21: ='Q3, 2025'!D8 -> 5761 | D21: ='Q3, 2025'!E8 -> 15 | E21: ='Q3, 2025'!F8 -> 368 | F21: ='Q3, 2025'!G8 -> 1324 | G21: ='Q3, 2025'!H8 -> 988 | H21: ='Q3, 2025'!I8 -> 525 | I21: ='Q3, 2025'!J8 -> 4011 | J21: ='Q3, 2025'!K8 -> 108 | ... L21: ='Q3, 2025'!M8 -> 380
A22: 第4季 Q4 | C22: ='Q4, 2025'!D8 -> 6014 | D22: ='Q4, 2025'!E8 -> 17 | E22: ='Q4, 2025'!F8 -> 375 | F22: ='Q4, 2025'!G8 -> 1376 | G22: ='Q4, 2025'!H8 -> 1234 | H22: ='Q4, 2025'!I8 -> 687 | I22: ='Q4, 2025'!J8 -> 4475 | J22: ='Q4, 2025'!K8 -> 116 | ... L22: ='Q4, 2025'!M8 -> 480
A23: 115年, 2026
A24: 第1季 Q1 | C24: ='Q1, 2026'!D8 -> 5112 | D24: ='Q1, 2026'!E8 -> 8 | E24: ='Q1, 2026'!F8 -> 299 | F24: ='Q1, 2026'!G8 -> 1196 | G24: ='Q1, 2026'!H8 -> 508 | H24: ='Q1, 2026'!I8 -> 144 | I24: ='Q1, 2026'!J8 -> 2840 | J24: ='Q1, 2026'!K8 -> 75 | ... L24: ='Q1, 2026'!M8 -> 170
A25: 第2季 Q2 | C25: ='Q2, 2026'!D8 -> 5405 | D25: ='Q2, 2026'!E8 -> 9 | E25: ='Q2, 2026'!F8 -> 314 | F25: ='Q2, 2026'!G8 -> 1266 | G25: ='Q2, 2026'!H8 -> 767 | H25: ='Q2, 2026'!I8 -> 307 | I25: ='Q2, 2026'!J8 -> 3284 | J25: ='Q2, 2026'!K8 -> 89 | ... L25: ='Q2, 2026'!M8 -> 274
A26: 第3季 Q3 | C26: ='Q3, 2026'!D8 -> 0 | D26: ='Q3, 2026'!E8 -> 0 | E26: ='Q3, 2026'!F8 -> 0 | F26: ='Q3, 2026'!G8 -> 0 | G26: ='Q3, 2026'!H8 -> 0 | H26: ='Q3, 2026'!I8 -> 0 | I26: ='Q3, 2026'!J8 -> 0 | J26: ='Q3, 2026'!K8 -> 0 | ... L26: ='Q3, 2026'!M8 -> 0
A27: 第4季 Q4 | C27: ='Q4, 2026'!D8 -> 0 | D27: ='Q4, 2026'!E8 -> 0 | E27: ='Q4, 2026'!F8 -> 0 | F27: ='Q4, 2026'!G8 -> 0 | G27: ='Q4, 2026'!H8 -> 0 | H27: ='Q4, 2026'!I8 -> 0 | I27: ='Q4, 2026'!J8 -> 0 | J27: ='Q4, 2026'!K8 -> 0 | ... L27: ='Q4, 2026'!M8 -> 0
A28: 資料來源：直轄市、縣(市)政府。
A29: 附註：本表所列之「特殊境遇家庭符合款項人數」，係指當年1月至該年當季(年)底止之累計統計。
A31: 更新日期：2026/08/31

Sheet 2026
A1: 特殊境遇家庭符合款項 Conditions of Families in Hardship
A2: 115年,2026
A3: 單位：人 Unit:Persons
A4: 地區、性別及設籍別 Locality, Sex & Identity | D4: 符 合 特 殊 境 遇 家 庭 扶 助 條 例 第 4 條 第 1 項 各 款 規 定 之 人 數 (可複選) Under one of the situations of Article 4,Item1 of Act of Assistance for women in Hardship (Multiple Options)
D5: 第 1 款 Clause1 | F5: 第 2 款 Clause2 | H5: 第 3 款 Clause3 | I5: 第 4 款 Clause4 | J5: 第 5 款 Clause5 | L5: 第 6 款 Clause6 | M5: 第7款 Clause7
D6: 65歲以下 且配偶死亡 | E6: 65歲以下且配偶失蹤經向警察機關報案協尋未獲達6個月以上 | F6: 因配偶惡意遺棄經判決離婚確定或已完成協議離婚登記 | G6: 受配偶不堪同居之虐待經判決離婚確定或已完成協議離婚登記 | H6: 家庭暴力受害 | I6: 未婚懷孕婦女,懷胎3個月以上至分娩2個月以內 | J6: 因離婚、喪偶、未婚生子獨自扶養18歲以下子女，其無工作能力，或雖有工作能力，因遭遇重大傷病或照顧6歲以下子女致不能工作 | K6: 獨自扶養18歲以下父母無力扶養之孫子女，其無工作能力，或雖有工作能力，因遭遇重大傷病或照顧6歲以下孫子女致不能工作 | L6: 配偶處1年以上之徒刑或受拘束人身自由之保安處分1年以上，且在執行中 | M6: 其他經直轄市、縣(市)政府評估，因3個月內生活發生重大變故導致生活、經濟困難者，且其重大變故非因個人責任、債務、非因自願性失業等事由
D7: Spouse is Dead | E7: Spouse is Missing | F7: Abandoned with Malice, and (had) Divorced by Judicial Decree | G7: Abused and (had) Divorced by Judicial Decree | H7: Domestic Violence | I7: Unmarried Pregnarcy from Over 3 Months to 2 Months after Accouchement | J7: Single Parent with No Working Ability or Unable to Work | K7: Grandparents with No Working Ability or Unable to Work | L7: Whose Spouse is Sentenced to Penal Servitude for Over 1 Year and in Prison | M7: Live in Hardship
A8: 總計 | C8: Total
A9: 男 Male | B9: 計 | C9: Subtotal
B10: 本國籍 | C10: National
B11: 一般民眾 | C11: General
B12: 原住民 | C12: Indigenous
B13: 大陸籍(含港澳) | C13: Mainlander
B14: 外國籍 | C14: Foreigner
A15: 女 Female | B15: 計 | C15: Subtotal
B16: 本國籍 | C16: National
B17: 一般民眾 | C17: General
B18: 原住民 | C18: Indigenous
B19: 大陸籍(含港澳) | C19: Mainlander
B20: 外國籍 | C20: Foreigner
A21: 新北市 | C21: New Taipei City
A22: 男 Male | B22: 計 | C22: Subtotal
B23: 本國籍 | C23: National
B24: 一般民眾 | C24: General
B25: 原住民 | C25: Indigenous
B26: 大陸籍(含港澳) | C26: Mainlander
B27: 外國籍 | C27: Foreigner
A28: 女 Female | B28: 計 | C28: Subtotal
B29: 本國籍 | C29: National
B30: 一般民眾 | C30: General
B31: 原住民 | C31: Indigenous
B32: 大陸籍(含港澳) | C32: Mainlander
B33: 外國籍 | C33: Foreigner
A34: 臺北市 | C34: Taipei City
A35: 男 Male | B35: 計 | C35: Subtotal
B36: 本國籍 | C36: National
B37: 一般民眾 | C37: General
B38: 原住民 | C38: Indigenous
B39: 大陸籍(含港澳) | C39: Mainlander
B40: 外國籍 | C40: Foreigner
...

Sheet Q4, 2026
A1: 特殊境遇家庭符合款項 Conditions of Families in Hardship
A2: 115年第4季 Q4, 2026
A3: 單位：人 Unit:Persons
A4: 地區、性別及設籍別 Locality, Sex & Identity | D4: 符 合 特 殊 境 遇 家 庭 扶 助 條 例 第 4 條 第 1 項 各 款 規 定 之 人 數 (可複選) Under one of the situations of Article 4,Item1 of Act of Assistance for women in Hardship (Multiple Options)
D5: 第 1 款 Clause1 | F5: 第 2 款 Clause2 | H5: 第 3 款 Clause3 | I5: 第 4 款 Clause4 | J5: 第 5 款 Clause5 | L5: 第 6 款 Clause6 | M5: 第7款 Clause7
D6: 65歲以下 且配偶死亡 | E6: 65歲以下且配偶失蹤經向警察機關報案協尋未獲達6個月以上 | F6: 因配偶惡意遺棄經判決離婚確定或已完成協議離婚登記 | G6: 受配偶不堪同居之虐待經判決離婚確定或已完成協議離婚登記 | H6: 家庭暴力受害 | I6: 未婚懷孕婦女,懷胎3個月以上至分娩2個月以內 | J6: 因離婚、喪偶、未婚生子獨自扶養18歲以下子女，其無工作能力，或雖有工作能力，因遭遇重大傷病或照顧6歲以下子女致不能工作 | K6: 獨自扶養18歲以下父母無力扶養之孫子女，其無工作能力，或雖有工作能力，因遭遇重大傷病或照顧6歲以下孫子女致不能工作 | L6: 配偶處1年以上之徒刑或受拘束人身自由之保安處分1年以上，且在執行中 | M6: 其他經直轄市、縣(市)政府評估，因3個月內生活發生重大變故導致生活、經濟困難者，且其重大變故非因個人責任、債務、非因自願性失業等事由
D7: Spouse is Dead | E7: Spouse is Missing | F7: Abandoned with Malice, and (had) Divorced by Judicial Decree | G7: Abused and (had) Divorced by Judicial Decree | H7: Domestic Violence | I7: Unmarried Pregnarcy from Over 3 Months to 2 Months after Accouchement | J7: Single Parent with No Working Ability or Unable to Work | K7: Grandparents with No Working Ability or Unable to Work | L7: Whose Spouse is Sentenced to Penal Servitude for Over 1 Year and in Prison | M7: Live in Hardship
A8: 總計 | C8: Total
A9: 男 Male | B9: 計 | C9: Subtotal
B10: 本國籍 | C10: National
B11: 一般民眾 | C11: General
B12: 原住民 | C12: Indigenous
B13: 大陸籍(含港澳) | C13: Mainlander
B14: 外國籍 | C14: Foreigner
A15: 女 Female | B15: 計 | C15: Subtotal
B16: 本國籍 | C16: National
B17: 一般民眾 | C17: General
B18: 原住民 | C18: Indigenous
B19: 大陸籍(含港澳) | C19: Mainlander
B20: 外國籍 | C20: Foreigner
A21: 新北市 | C21: New Taipei City
A22: 男 Male | B22: 計 | C22: Subtotal
B23: 本國籍 | C23: National
B24: 一般民眾 | C24: General
B25: 原住民 | C25: Indigenous
B26: 大陸籍(含港澳) | C26: Mainlander
B27: 外國籍 | C27: Foreigner
A28: 女 Female | B28: 計 | C28: Subtotal
B29: 本國籍 | C29: National
B30: 一般民眾 | C30: General
B31: 原住民 | C31: Indigenous
B32: 大陸籍(含港澳) | C32: Mainlander
B33: 外國籍 | C33: Foreigner
A34: 臺北市 | C34: Taipei City
A35: 男 Male | B35: 計 | C35: Subtotal
B36: 本國籍 | C36: National
B37: 一般民眾 | C37: General
B38: 原住民 | C38: Indigenous
B39: 大陸籍(含港澳) | C39: Mainlander
B40: 外國籍 | C40: Foreigner
...

Sheet Q3, 2026
A1: 特殊境遇家庭符合款項 Conditions of Families in Hardship
A2: 115年第3季 Q3, 2026
A3: 單位：人 Unit:Persons | D3: =IF(D8=SUM(D21,D34,D47,D60,D73,D86,D99,D112,D125,D138,D151,D164,D177,D190,D203,D216,D229,D242,D255,D268,D281,D294),"","*") | E3: =IF(E8=SUM(E21,E34,E47,E60,E73,E86,E99,E112,E125,E138,E151,E164,E177,E190,E203,E216,E229,E242,E255,E268,E281,E294),"","*") | F3: =IF(F8=SUM(F21,F34,F47,F60,F73,F86,F99,F112,F125,F138,F151,F164,F177,F190,F203,F216,F229,F242,F255,F268,F281,F294),"","*") | G3: =IF(G8=SUM(G21,G34,G47,G60,G73,G86,G99,G112,G125,G138,G151,G164,G177,G190,G203,G216,G229,G242,G255,G268,G281,G294),"","*") | H3: =IF(H8=SUM(H21,H34,H47,H60,H73,H86,H99,H112,H125,H138,H151,H164,H177,H190,H203,H216,H229,H242,H255,H268,H281,H294),"","*") | I3: =IF(I8=SUM(I21,I34,I47,I60,I73,I86,I99,I112,I125,I138,I151,I164,I177,I190,I203,I216,I229,I242,I255,I268,I281,I294),"","*") | J3: =IF(J8=SUM(J21,J34,J47,J60,J73,J86,J99,J112,J125,J138,J151,J164,J177,J190,J203,J216,J229,J242,J255,J268,J281,J294),"","*") | K3: =IF(K8=SUM(K21,K34,K47,K60,K73,K86,K99,K112,K125,K138,K151,K164,K177,K190,K203,K216,K229,K242,K255,K268,K281,K294),"","*") | ... M3: =IF(M8=SUM(M21,M34,M47,M60,M73,M86,M99,M112,M125,M138,M151,M164,M177,M190,M203,M216,M229,M242,M255,M268,M281,M294),"","*")
A4: 地區、性別及設籍別 Locality, Sex & Identity | D4: 符 合 特 殊 境 遇 家 庭 扶 助 條 例 第 4 條 第 1 項 各 款 規 定 之 人 數 (可複選) Under one of the situations of Article 4,Item1 of Act of Assistance for Family in Hardship (Multiple Options)
D5: 第 1 款 Clause1 | F5: 第 2 款 Clause2 | H5: 第 3 款 Clause3 | I5: 第 4 款 Clause4 | J5: 第 5 款 Clause5 | L5: 第 6 款 Clause6 | M5: 第7款 Clause7
D6: 65歲以下 且配偶死亡 | E6: 65歲以下且配偶失蹤經向警察機關報案協尋未獲達6個月以上 | F6: 因配偶惡意遺棄經判決離婚確定或已完成協議離婚登記 | G6: 受配偶不堪同居之虐待經判決離婚確定或已完成協議離婚登記 | H6: 家庭暴力受害 | I6: 未婚懷孕婦女,懷胎3個月以上至分娩2個月以內 | J6: 因離婚、喪偶、未婚生子獨自扶養18歲以下子女，其無工作能力，或雖有工作能力，因遭遇重大傷病或照顧6歲以下子女致不能工作 | K6: 獨自扶養18歲以下父母無力扶養之孫子女，其無工作能力，或雖有工作能力，因遭遇重大傷病或照顧6歲以下孫子女致不能工作 | L6: 配偶處1年以上之徒刑或受拘束人身自由之保安處分1年以上，且在執行中 | M6: 其他經直轄市、縣(市)政府評估，因3個月內生活發生重大變故導致生活、經濟困難者，且其重大變故非因個人責任、債務、非因自願性失業等事由
D7: Spouse is Dead | E7: Spouse is Missing | F7: Abandoned with Malice, and (had) Divorced by Judicial Decree | G7: Abused and (had) Divorced by Judicial Decree | H7: Domestic Violence | I7: Unmarried Pregnarcy from Over 3 Months to 2 Months after Accouchement | J7: Single Parent with No Working Ability or Unable to Work | K7: Grandparents with No Working Ability or Unable to Work | L7: Whose Spouse is Sentenced to Penal Servitude for Over 1 Year and in Prison | M7: Live in Hardship
A8: 總計 | C8: Total
A9: 男 Male | B9: 計 | C9: Subtotal
B10: 本國籍 | C10: National
B11: 一般民眾 | C11: General
B12: 原住民 | C12: Indigenous
B13: 大陸籍(含港澳) | C13: Mainlander
B14: 外國籍 | C14: Foreigner
A15: 女 Female | B15: 計 | C15: Subtotal
B16: 本國籍 | C16: National
B17: 一般民眾 | C17: General
B18: 原住民 | C18: Indigenous
B19: 大陸籍(含港澳) | C19: Mainlander
B20: 外國籍 | C20: Foreigner
A21: 新北市 | C21: New Taipei City
A22: 男 Male | B22: 計 | C22: Subtotal
B23: 本國籍 | C23: National
B24: 一般民眾 | C24: General
B25: 原住民 | C25: Indigenous
B26: 大陸籍(含港澳) | C26: Mainlander
B27: 外國籍 | C27: Foreigner
A28: 女 Female | B28: 計 | C28: Subtotal
B29: 本國籍 | C29: National
B30: 一般民眾 | C30: General
B31: 原住民 | C31: Indigenous
B32: 大陸籍(含港澳) | C32: Mainlander
B33: 外國籍 | C33: Foreigner
A34: 臺北市 | C34: Taipei City
A35: 男 Male | B35: 計 | C35: Subtotal
B36: 本國籍 | C36: National
B37: 一般民眾 | C37: General
B38: 原住民 | C38: Indigenous
B39: 大陸籍(含港澳) | C39: Mainlander
B40: 外國籍 | C40: Foreigner
...

Sheet Q2, 2026
A1: 特殊境遇家庭符合款項 Conditions of Families in Hardship
A2: 115年第2季 Q2, 2026
A3: 單位：人 Unit:Persons | D3: =IF(D8=SUM(D21,D34,D47,D60,D73,D86,D99,D112,D125,D138,D151,D164,D177,D190,D203,D216,D229,D242,D255,D268,D281,D294),"","*") | E3: =IF(E8=SUM(E21,E34,E47,E60,E73,E86,E99,E112,E125,E138,E151,E164,E177,E190,E203,E216,E229,E242,E255,E268,E281,E294),"","*") | F3: =IF(F8=SUM(F21,F34,F47,F60,F73,F86,F99,F112,F125,F138,F151,F164,F177,F190,F203,F216,F229,F242,F255,F268,F281,F294),"","*") | G3: =IF(G8=SUM(G21,G34,G47,G60,G73,G86,G99,G112,G125,G138,G151,G164,G177,G190,G203,G216,G229,G242,G255,G268,G281,G294),"","*") | H3: =IF(H8=SUM(H21,H34,H47,H60,H73,H86,H99,H112,H125,H138,H151,H164,H177,H190,H203,H216,H229,H242,H255,H268,H281,H294),"","*") | I3: =IF(I8=SUM(I21,I34,I47,I60,I73,I86,I99,I112,I125,I138,I151,I164,I177,I190,I203,I216,I229,I242,I255,I268,I281,I294),"","*") | J3: =IF(J8=SUM(J21,J34,J47,J60,J73,J86,J99,J112,J125,J138,J151,J164,J177,J190,J203,J216,J229,J242,J255,J268,J281,J294),"","*") | K3: =IF(K8=SUM(K21,K34,K47,K60,K73,K86,K99,K112,K125,K138,K151,K164,K177,K190,K203,K216,K229,K242,K255,K268,K281,K294),"","*") | ... M3: =IF(M8=SUM(M21,M34,M47,M60,M73,M86,M99,M112,M125,M138,M151,M164,M177,M190,M203,M216,M229,M242,M255,M268,M281,M294),"","*")
A4: 地區、性別及設籍別 Locality, Sex & Identity | D4: 符 合 特 殊 境 遇 家 庭 扶 助 條 例 第 4 條 第 1 項 各 款 規 定 之 人 數 (可複選) Under one of the situations of Article 4,Item1 of Act of Assistance for Family in Hardship (Multiple Options)
D5: 第 1 款 Clause1 | F5: 第 2 款 Clause2 | H5: 第 3 款 Clause3 | I5: 第 4 款 Clause4 | J5: 第 5 款 Clause5 | L5: 第 6 款 Clause6 | M5: 第7款 Clause7
D6: 65歲以下 且配偶死亡 | E6: 65歲以下且配偶失蹤經向警察機關報案協尋未獲達6個月以上 | F6: 因配偶惡意遺棄經判決離婚確定或已完成協議離婚登記 | G6: 受配偶不堪同居之虐待經判決離婚確定或已完成協議離婚登記 | H6: 家庭暴力受害 | I6: 未婚懷孕婦女,懷胎3個月以上至分娩2個月以內 | J6: 因離婚、喪偶、未婚生子獨自扶養18歲以下子女，其無工作能力，或雖有工作能力，因遭遇重大傷病或照顧6歲以下子女致不能工作 | K6: 獨自扶養18歲以下父母無力扶養之孫子女，其無工作能力，或雖有工作能力，因遭遇重大傷病或照顧6歲以下孫子女致不能工作 | L6: 配偶處1年以上之徒刑或受拘束人身自由之保安處分1年以上，且在執行中 | M6: 其他經直轄市、縣(市)政府評估，因3個月內生活發生重大變故導致生活、經濟困難者，且其重大變故非因個人責任、債務、非因自願性失業等事由
D7: Spouse is Dead | E7: Spouse is Missing | F7: Abandoned with Malice, and (had) Divorced by Judicial Decree | G7: Abused and (had) Divorced by Judicial Decree | H7: Domestic Violence | I7: Unmarried Pregnarcy from Over 3 Months to 2 Months after Accouchement | J7: Single Parent with No Working Ability or Unable to Work | K7: Grandparents with No Working Ability or Unable to Work | L7: Whose Spouse is Sentenced to Penal Servitude for Over 1 Year and in Prison | M7: Live in Hardship
A8: 總計 | C8: Total | D8: 5405 | E8: 9 | F8: 314 | G8: 1266 | H8: 767 | I8: 307 | J8: 3284 | K8: 89 | L8: 755 | M8: 274
A9: 男 Male | B9: 計 | C9: Subtotal | D9: 689 | E9: 0 | F9: 80 | G9: 35 | H9: 57 | I9: 0 | J9: 540 | K9: 23 | L9: 45 | M9: 128
B10: 本國籍 | C10: National | D10: 665 | E10: 0 | F10: 80 | G10: 34 | H10: 55 | I10: 0 | J10: 537 | K10: 23 | L10: 45 | M10: 125
B11: 一般民眾 | C11: General | D11: 639 | E11: 0 | F11: 78 | G11: 34 | H11: 52 | I11: 0 | J11: 503 | K11: 21 | L11: 44 | M11: 117
B12: 原住民 | C12: Indigenous | D12: 26 | E12: 0 | F12: 2 | G12: 0 | H12: 3 | I12: 0 | J12: 34 | K12: 2 | L12: 1 | M12: 8
B13: 大陸籍(含港澳) | C13: Mainlander | D13: 7 | E13: 0 | F13: 0 | G13: 1 | H13: 1 | I13: 0 | J13: 2 | K13: 0 | L13: 0 | M13: 1
B14: 外國籍 | C14: Foreigner | D14: 17 | E14: 0 | F14: 0 | G14: 0 | H14: 1 | I14: 0 | J14: 1 | K14: 0 | L14: 0 | M14: 2
A15: 女 Female | B15: 計 | C15: Subtotal | D15: 4716 | E15: 9 | F15: 234 | G15: 1231 | H15: 710 | I15: 307 | J15: 2744 | K15: 66 | L15: 710 | M15: 146
B16: 本國籍 | C16: National | D16: 4607 | E16: 9 | F16: 234 | G16: 1221 | H16: 699 | I16: 307 | J16: 2734 | K16: 66 | L16: 704 | M16: 143
B17: 一般民眾 | C17: General | D17: 4479 | E17: 8 | F17: 225 | G17: 1199 | H17: 658 | I17: 268 | J17: 2493 | K17: 59 | L17: 669 | M17: 135
B18: 原住民 | C18: Indigenous | D18: 128 | E18: 1 | F18: 9 | G18: 22 | H18: 41 | I18: 39 | J18: 241 | K18: 7 | L18: 35 | M18: 8
B19: 大陸籍(含港澳) | C19: Mainlander | D19: 49 | E19: 0 | F19: 0 | G19: 4 | H19: 4 | I19: 0 | J19: 4 | K19: 0 | L19: 3 | M19: 1
B20: 外國籍 | C20: Foreigner | D20: 60 | E20: 0 | F20: 0 | G20: 6 | H20: 7 | I20: 0 | J20: 6 | K20: 0 | L20: 3 | M20: 2
A21: 新北市 | C21: New Taipei City | D21: 144 | E21: 2 | F21: 7 | G21: 30 | H21: 144 | I21: 42 | J21: 302 | K21: 2 | L21: 72 | M21: 4
A22: 男 Male | B22: 計 | C22: Subtotal | D22: 13 | E22: 0 | F22: 1 | G22: 0 | H22: 4 | I22: 0 | J22: 44 | K22: 0 | L22: 2 | M22: 1
B23: 本國籍 | C23: National | D23: 13 | E23: 0 | F23: 1 | G23: 0 | H23: 4 | I23: 0 | J23: 44 | K23: 0 | L23: 2 | M23: 1
B24: 一般民眾 | C24: General | D24: 13 | E24: 0 | F24: 1 | G24: 0 | H24: 4 | I24: 0 | J24: 39 | K24: 0 | L24: 2 | M24: 1
B25: 原住民 | C25: Indigenous | D25: 0 | E25: 0 | F25: 0 | G25: 0 | H25: 0 | I25: 0 | J25: 5 | K25: 0 | L25: 0 | M25: 0
B26: 大陸籍(含港澳) | C26: Mainlander | D26: 0 | E26: 0 | F26: 0 | G26: 0 | H26: 0 | I26: 0 | J26: 0 | K26: 0 | L26: 0 | M26: 0
B27: 外國籍 | C27: Foreigner | D27: 0 | E27: 0 | F27: 0 | G27: 0 | H27: 0 | I27: 0 | J27: 0 | K27: 0 | L27: 0 | M27: 0
A28: 女 Female | B28: 計 | C28: Subtotal | D28: 131 | E28: 2 | F28: 6 | G28: 30 | H28: 140 | I28: 42 | J28: 258 | K28: 2 | L28: 70 | M28: 3
B29: 本國籍 | C29: National | D29: 127 | E29: 2 | F29: 6 | G29: 30 | H29: 135 | I29: 42 | J29: 256 | K29: 2 | L29: 69 | M29: 3
B30: 一般民眾 | C30: General | D30: 127 | E30: 2 | F30: 6 | G30: 30 | H30: 129 | I30: 42 | J30: 254 | K30: 2 | L30: 67 | M30: 3
B31: 原住民 | C31: Indigenous | D31: 0 | E31: 0 | F31: 0 | G31: 0 | H31: 6 | I31: 0 | J31: 2 | K31: 0 | L31: 2 | M31: 0
B32: 大陸籍(含港澳) | C32: Mainlander | D32: 1 | E32: 0 | F32: 0 | G32: 0 | H32: 3 | I32: 0 | J32: 2 | K32: 0 | L32: 0 | M32: 0
B33: 外國籍 | C33: Foreigner | D33: 3 | E33: 0 | F33: 0 | G33: 0 | H33: 2 | I33: 0 | J33: 0 | K33: 0 | L33: 1 | M33: 0
A34: 臺北市 | C34: Taipei City | D34: 205 | E34: 1 | F34: 24 | G34: 212 | H34: 85 | I34: 21 | J34: 292 | K34: 2 | L34: 30 | M34: 52
A35: 男 Male | B35: 計 | C35: Subtotal | D35: 36 | E35: 0 | F35: 2 | G35: 9 | H35: 12 | I35: 0 | J35: 41 | K35: 0 | L35: 4 | M35: 18
B36: 本國籍 | C36: National | D36: 35 | E36: 0 | F36: 2 | G36: 8 | H36: 11 | I36: 0 | J36: 41 | K36: 0 | L36: 4 | M36: 17
B37: 一般民眾 | C37: General | D37: 35 | E37: 0 | F37: 2 | G37: 8 | H37: 11 | I37: 0 | J37: 41 | K37: 0 | L37: 4 | M37: 17
B38: 原住民 | C38: Indigenous | D38: 0 | E38: 0 | F38: 0 | G38: 0 | H38: 0 | I38: 0 | J38: 0 | K38: 0 | L38: 0 | M38: 0
B39: 大陸籍(含港澳) | C39: Mainlander | D39: 0 | E39: 0 | F39: 0 | G39: 1 | H39: 0 | I39: 0 | J39: 0 | K39: 0 | L39: 0 | M39: 1
B40: 外國籍 | C40: Foreigner | D40: 1 | E40: 0 | F40: 0 | G40: 0 | H40: 1 | I40: 0 | J40: 0 | K40: 0 | L40: 0 | M40: 0
...

Sheet Q1, 2026
A1: 特殊境遇家庭符合款項 Conditions of Families in Hardship
A2: 115年第1季 Q1, 2026
A3: 單位：人 Unit:Persons | D3: =IF(D8=SUM(D21,D34,D47,D60,D73,D86,D99,D112,D125,D138,D151,D164,D177,D190,D203,D216,D229,D242,D255,D268,D281,D294),"","*") | E3: =IF(E8=SUM(E21,E34,E47,E60,E73,E86,E99,E112,E125,E138,E151,E164,E177,E190,E203,E216,E229,E242,E255,E268,E281,E294),"","*") | F3: =IF(F8=SUM(F21,F34,F47,F60,F73,F86,F99,F112,F125,F138,F151,F164,F177,F190,F203,F216,F229,F242,F255,F268,F281,F294),"","*") | G3: =IF(G8=SUM(G21,G34,G47,G60,G73,G86,G99,G112,G125,G138,G151,G164,G177,G190,G203,G216,G229,G242,G255,G268,G281,G294),"","*") | H3: =IF(H8=SUM(H21,H34,H47,H60,H73,H86,H99,H112,H125,H138,H151,H164,H177,H190,H203,H216,H229,H242,H255,H268,H281,H294),"","*") | I3: =IF(I8=SUM(I21,I34,I47,I60,I73,I86,I99,I112,I125,I138,I151,I164,I177,I190,I203,I216,I229,I242,I255,I268,I281,I294),"","*") | J3: =IF(J8=SUM(J21,J34,J47,J60,J73,J86,J99,J112,J125,J138,J151,J164,J177,J190,J203,J216,J229,J242,J255,J268,J281,J294),"","*") | K3: =IF(K8=SUM(K21,K34,K47,K60,K73,K86,K99,K112,K125,K138,K151,K164,K177,K190,K203,K216,K229,K242,K255,K268,K281,K294),"","*") | ... M3: =IF(M8=SUM(M21,M34,M47,M60,M73,M86,M99,M112,M125,M138,M151,M164,M177,M190,M203,M216,M229,M242,M255,M268,M281,M294),"","*")
A4: 地區、性別及設籍別 Locality, Sex & Identity | D4: 符 合 特 殊 境 遇 家 庭 扶 助 條 例 第 4 條 第 1 項 各 款 規 定 之 人 數 (可複選) Under one of the situations of Article 4,Item1 of Act of Assistance for Family in Hardship (Multiple Options)
D5: 第 1 款 Clause1 | F5: 第 2 款 Clause2 | H5: 第 3 款 Clause3 | I5: 第 4 款 Clause4 | J5: 第 5 款 Clause5 | L5: 第 6 款 Clause6 | M5: 第7款 Clause7
D6: 65歲以下 且配偶死亡 | E6: 65歲以下且配偶失蹤經向警察機關報案協尋未獲達6個月以上 | F6: 因配偶惡意遺棄經判決離婚確定或已完成協議離婚登記 | G6: 受配偶不堪同居之虐待經判決離婚確定或已完成協議離婚登記 | H6: 家庭暴力受害 | I6: 未婚懷孕婦女,懷胎3個月以上至分娩2個月以內 | J6: 因離婚、喪偶、未婚生子獨自扶養18歲以下子女，其無工作能力，或雖有工作能力，因遭遇重大傷病或照顧6歲以下子女致不能工作 | K6: 獨自扶養18歲以下父母無力扶養之孫子女，其無工作能力，或雖有工作能力，因遭遇重大傷病或照顧6歲以下孫子女致不能工作 | L6: 配偶處1年以上之徒刑或受拘束人身自由之保安處分1年以上，且在執行中 | M6: 其他經直轄市、縣(市)政府評估，因3個月內生活發生重大變故導致生活、經濟困難者，且其重大變故非因個人責任、債務、非因自願性失業等事由
D7: Spouse is Dead | E7: Spouse is Missing | F7: Abandoned with Malice, and (had) Divorced by Judicial Decree | G7: Abused and (had) Divorced by Judicial Decree | H7: Domestic Violence | I7: Unmarried Pregnarcy from Over 3 Months to 2 Months after Accouchement | J7: Single Parent with No Working Ability or Unable to Work | K7: Grandparents with No Working Ability or Unable to Work | L7: Whose Spouse is Sentenced to Penal Servitude for Over 1 Year and in Prison | M7: Live in Hardship
A8: 總計 | C8: Total | D8: 5112 | E8: 8 | F8: 299 | G8: 1196 | H8: 508 | I8: 144 | J8: 2840 | K8: 75 | L8: 629 | M8: 170
A9: 男 Male | B9: 計 | C9: Subtotal | D9: 641 | E9: 0 | F9: 78 | G9: 30 | H9: 28 | I9: 0 | J9: 460 | K9: 18 | L9: 37 | M9: 79
B10: 本國籍 | C10: National | D10: 620 | E10: 0 | F10: 78 | G10: 29 | H10: 28 | I10: 0 | J10: 457 | K10: 18 | L10: 37 | M10: 77
B11: 一般民眾 | C11: General | D11: 595 | E11: 0 | F11: 76 | G11: 29 | H11: 27 | I11: 0 | J11: 428 | K11: 17 | L11: 36 | M11: 73
B12: 原住民 | C12: Indigenous | D12: 25 | E12: 0 | F12: 2 | G12: 0 | H12: 1 | I12: 0 | J12: 29 | K12: 1 | L12: 1 | M12: 4
B13: 大陸籍(含港澳) | C13: Mainlander | D13: 7 | E13: 0 | F13: 0 | G13: 1 | H13: 0 | I13: 0 | J13: 2 | K13: 0 | L13: 0 | M13: 1
B14: 外國籍 | C14: Foreigner | D14: 14 | E14: 0 | F14: 0 | G14: 0 | H14: 0 | I14: 0 | J14: 1 | K14: 0 | L14: 0 | M14: 1
A15: 女 Female | B15: 計 | C15: Subtotal | D15: 4471 | E15: 8 | F15: 221 | G15: 1166 | H15: 480 | I15: 144 | J15: 2380 | K15: 57 | L15: 592 | M15: 91
B16: 本國籍 | C16: National | D16: 4365 | E16: 8 | F16: 221 | G16: 1157 | H16: 473 | I16: 144 | J16: 2371 | K16: 57 | L16: 587 | M16: 90
B17: 一般民眾 | C17: General | D17: 4245 | E17: 7 | F17: 212 | G17: 1135 | H17: 449 | I17: 131 | J17: 2173 | K17: 51 | L17: 561 | M17: 86
B18: 原住民 | C18: Indigenous | D18: 120 | E18: 1 | F18: 9 | G18: 22 | H18: 24 | I18: 13 | J18: 198 | K18: 6 | L18: 26 | M18: 4
B19: 大陸籍(含港澳) | C19: Mainlander | D19: 48 | E19: 0 | F19: 0 | G19: 4 | H19: 4 | I19: 0 | J19: 4 | K19: 0 | L19: 2 | M19: 0
B20: 外國籍 | C20: Foreigner | D20: 58 | E20: 0 | F20: 0 | G20: 5 | H20: 3 | I20: 0 | J20: 5 | K20: 0 | L20: 3 | M20: 1
A21: 新北市 | C21: New Taipei City | D21: 117 | E21: 1 | F21: 5 | G21: 27 | H21: 87 | I21: 23 | J21: 215 | K21: 2 | L21: 47 | M21: 2
A22: 男 Male | B22: 計 | C22: Subtotal | D22: 12 | E22: 0 | F22: 1 | G22: 0 | H22: 1 | I22: 0 | J22: 34 | K22: 0 | L22: 1 | M22: 1
B23: 本國籍 | C23: National | D23: 12 | E23: 0 | F23: 1 | G23: 0 | H23: 1 | I23: 0 | J23: 34 | K23: 0 | L23: 1 | M23: 1
B24: 一般民眾 | C24: General | D24: 12 | E24: 0 | F24: 1 | G24: 0 | H24: 1 | I24: 0 | J24: 29 | K24: 0 | L24: 1 | M24: 1
B25: 原住民 | C25: Indigenous | D25: 0 | E25: 0 | F25: 0 | G25: 0 | H25: 0 | I25: 0 | J25: 5 | K25: 0 | L25: 0 | M25: 0
B26: 大陸籍(含港澳) | C26: Mainlander | D26: 0 | E26: 0 | F26: 0 | G26: 0 | H26: 0 | I26: 0 | J26: 0 | K26: 0 | L26: 0 | M26: 0
B27: 外國籍 | C27: Foreigner | D27: 0 | E27: 0 | F27: 0 | G27: 0 | H27: 0 | I27: 0 | J27: 0 | K27: 0 | L27: 0 | M27: 0
A28: 女 Female | B28: 計 | C28: Subtotal | D28: 105 | E28: 1 | F28: 4 | G28: 27 | H28: 86 | I28: 23 | J28: 181 | K28: 2 | L28: 46 | M28: 1
B29: 本國籍 | C29: National | D29: 103 | E29: 1 | F29: 4 | G29: 27 | H29: 83 | I29: 23 | J29: 179 | K29: 2 | L29: 45 | M29: 1
B30: 一般民眾 | C30: General | D30: 103 | E30: 1 | F30: 4 | G30: 27 | H30: 83 | I30: 23 | J30: 179 | K30: 2 | L30: 45 | M30: 1
B31: 原住民 | C31: Indigenous | D31: 0 | E31: 0 | F31: 0 | G31: 0 | H31: 0 | I31: 0 | J31: 0 | K31: 0 | L31: 0 | M31: 0
B32: 大陸籍(含港澳) | C32: Mainlander | D32: 1 | E32: 0 | F32: 0 | G32: 0 | H32: 3 | I32: 0 | J32: 2 | K32: 0 | L32: 0 | M32: 0
B33: 外國籍 | C33: Foreigner | D33: 1 | E33: 0 | F33: 0 | G33: 0 | H33: 0 | I33: 0 | J33: 0 | K33: 0 | L33: 1 | M33: 0
A34: 臺北市 | C34: Taipei City | D34: 187 | E34: 1 | F34: 21 | G34: 194 | H34: 48 | I34: 16 | J34: 235 | K34: 2 | L34: 26 | M34: 37
A35: 男 Male | B35: 計 | C35: Subtotal | D35: 30 | E35: 0 | F35: 1 | G35: 6 | H35: 3 | I35: 0 | J35: 32 | K35: 0 | L35: 4 | M35: 12
B36: 本國籍 | C36: National | D36: 29 | E36: 0 | F36: 1 | G36: 5 | H36: 3 | I36: 0 | J36: 32 | K36: 0 | L36: 4 | M36: 11
B37: 一般民眾 | C37: General | D37: 29 | E37: 0 | F37: 1 | G37: 5 | H37: 3 | I37: 0 | J37: 32 | K37: 0 | L37: 4 | M37: 11
B38: 原住民 | C38: Indigenous | D38: 0 | E38: 0 | F38: 0 | G38: 0 | H38: 0 | I38: 0 | J38: 0 | K38: 0 | L38: 0 | M38: 0
B39: 大陸籍(含港澳) | C39: Mainlander | D39: 0 | E39: 0 | F39: 0 | G39: 1 | H39: 0 | I39: 0 | J39: 0 | K39: 0 | L39: 0 | M39: 1
B40: 外國籍 | C40: Foreigner | D40: 1 | E40: 0 | F40: 0 | G40: 0 | H40: 0 | I40: 0 | J40: 0 | K40: 0 | L40: 0 | M40: 0
...

Sheet 2025
A1: 特殊境遇家庭符合款項 Conditions of Families in Hardship
A2: 114年,2025
A3: 單位：人 Unit:Persons
A4: 地區、性別及設籍別 Locality, Sex & Identity | D4: 符 合 特 殊 境 遇 家 庭 扶 助 條 例 第 4 條 第 1 項 各 款 規 定 之 人 數 (可複選) Under one of the situations of Article 4,Item1 of Act of Assistance for women in Hardship (Multiple Options)
D5: 第 1 款 Clause1 | F5: 第 2 款 Clause2 | H5: 第 3 款 Clause3 | I5: 第 4 款 Clause4 | J5: 第 5 款 Clause5 | L5: 第 6 款 Clause6 | M5: 第7款 Clause7
D6: 65歲以下 且配偶死亡 | E6: 65歲以下且配偶失蹤經向警察機關報案協尋未獲達6個月以上 | F6: 因配偶惡意遺棄經判決離婚確定或已完成協議離婚登記 | G6: 受配偶不堪同居之虐待經判決離婚確定或已完成協議離婚登記 | H6: 家庭暴力受害 | I6: 未婚懷孕婦女,懷胎3個月以上至分娩2個月以內 | J6: 因離婚、喪偶、未婚生子獨自扶養18歲以下子女，其無工作能力，或雖有工作能力，因遭遇重大傷病或照顧6歲以下子女致不能工作 | K6: 獨自扶養18歲以下父母無力扶養之孫子女，其無工作能力，或雖有工作能力，因遭遇重大傷病或照顧6歲以下孫子女致不能工作 | L6: 配偶處1年以上之徒刑或受拘束人身自由之保安處分1年以上，且在執行中 | M6: 其他經直轄市、縣(市)政府評估，因3個月內生活發生重大變故導致生活、經濟困難者，且其重大變故非因個人責任、債務、非因自願性失業等事由
D7: Spouse is Dead | E7: Spouse is Missing | F7: Abandoned with Malice, and (had) Divorced by Judicial Decree | G7: Abused and (had) Divorced by Judicial Decree | H7: Domestic Violence | I7: Unmarried Pregnarcy from Over 3 Months to 2 Months after Accouchement | J7: Single Parent with No Working Ability or Unable to Work | K7: Grandparents with No Working Ability or Unable to Work | L7: Whose Spouse is Sentenced to Penal Servitude for Over 1 Year and in Prison | M7: Live in Hardship
A8: 總計 | C8: Total | D8: 6014 | E8: 17 | F8: 375 | G8: 1376 | H8: 1234 | I8: 687 | J8: 4475 | K8: 116 | L8: 963 | M8: 480
A9: 男 Male | B9: 計 | C9: Subtotal | D9: 732 | E9: 2 | F9: 99 | G9: 34 | H9: 95 | I9: 0 | J9: 704 | K9: 29 | L9: 46 | M9: 231
B10: 本國籍 | C10: National | D10: 696 | E10: 2 | F10: 98 | G10: 32 | H10: 90 | I10: 0 | J10: 697 | K10: 29 | L10: 46 | M10: 226
B11: 一般民眾 | C11: General | D11: 662 | E11: 2 | F11: 96 | G11: 32 | H11: 86 | I11: 0 | J11: 663 | K11: 27 | L11: 43 | M11: 209
B12: 原住民 | C12: Indigenous | D12: 34 | E12: 0 | F12: 2 | G12: 0 | H12: 4 | I12: 0 | J12: 34 | K12: 2 | L12: 3 | M12: 17
B13: 大陸籍(含港澳) | C13: Mainlander | D13: 19 | E13: 0 | F13: 1 | G13: 2 | H13: 1 | I13: 0 | J13: 4 | K13: 0 | L13: 0 | M13: 4
B14: 外國籍 | C14: Foreigner | D14: 17 | E14: 0 | F14: 0 | G14: 0 | H14: 4 | I14: 0 | J14: 3 | K14: 0 | L14: 0 | M14: 1
A15: 女 Female | B15: 計 | C15: Subtotal | D15: 5282 | E15: 15 | F15: 276 | G15: 1342 | H15: 1139 | I15: 687 | J15: 3771 | K15: 87 | L15: 917 | M15: 249
B16: 本國籍 | C16: National | D16: 5139 | E16: 15 | F16: 276 | G16: 1333 | H16: 1120 | I16: 686 | J16: 3756 | K16: 87 | L16: 905 | M16: 245
B17: 一般民眾 | C17: General | D17: 4987 | E17: 14 | F17: 265 | G17: 1303 | H17: 1070 | I17: 591 | J17: 3422 | K17: 76 | L17: 848 | M17: 227
B18: 原住民 | C18: Indigenous | D18: 152 | E18: 1 | F18: 11 | G18: 30 | H18: 50 | I18: 95 | J18: 334 | K18: 11 | L18: 57 | M18: 18
B19: 大陸籍(含港澳) | C19: Mainlander | D19: 69 | E19: 0 | F19: 0 | G19: 3 | H19: 9 | I19: 0 | J19: 6 | K19: 0 | L19: 7 | M19: 3
B20: 外國籍 | C20: Foreigner | D20: 74 | E20: 0 | F20: 0 | G20: 6 | H20: 10 | I20: 1 | J20: 9 | K20: 0 | L20: 5 | M20: 1
A21: 新北市 | C21: New Taipei City | D21: 180 | E21: 2 | F21: 7 | G21: 31 | H21: 266 | I21: 95 | J21: 395 | K21: 1 | L21: 109 | M21: 11
A22: 男 Male | B22: 計 | C22: Subtotal | D22: 18 | E22: 0 | F22: 4 | G22: 0 | H22: 10 | I22: 0 | J22: 45 | K22: 0 | L22: 1 | M22: 7
B23: 本國籍 | C23: National | D23: 18 | E23: 0 | F23: 4 | G23: 0 | H23: 10 | I23: 0 | J23: 45 | K23: 0 | L23: 1 | M23: 7
B24: 一般民眾 | C24: General | D24: 18 | E24: 0 | F24: 4 | G24: 0 | H24: 8 | I24: 0 | J24: 45 | K24: 0 | L24: 1 | M24: 7
B25: 原住民 | C25: Indigenous | D25: 0 | E25: 0 | F25: 0 | G25: 0 | H25: 2 | I25: 0 | J25: 0 | K25: 0 | L25: 0 | M25: 0
B26: 大陸籍(含港澳) | C26: Mainlander | D26: 0 | E26: 0 | F26: 0 | G26: 0 | H26: 0 | I26: 0 | J26: 0 | K26: 0 | L26: 0 | M26: 0
B27: 外國籍 | C27: Foreigner | D27: 0 | E27: 0 | F27: 0 | G27: 0 | H27: 0 | I27: 0 | J27: 0 | K27: 0 | L27: 0 | M27: 0
A28: 女 Female | B28: 計 | C28: Subtotal | D28: 162 | E28: 2 | F28: 3 | G28: 31 | H28: 256 | I28: 95 | J28: 350 | K28: 1 | L28: 108 | M28: 4
B29: 本國籍 | C29: National | D29: 157 | E29: 2 | F29: 3 | G29: 31 | H29: 254 | I29: 95 | J29: 349 | K29: 1 | L29: 104 | M29: 4
B30: 一般民眾 | C30: General | D30: 157 | E30: 2 | F30: 3 | G30: 31 | H30: 253 | I30: 90 | J30: 331 | K30: 1 | L30: 102 | M30: 4
B31: 原住民 | C31: Indigenous | D31: 0 | E31: 0 | F31: 0 | G31: 0 | H31: 1 | I31: 5 | J31: 18 | K31: 0 | L31: 2 | M31: 0
B32: 大陸籍(含港澳) | C32: Mainlander | D32: 3 | E32: 0 | F32: 0 | G32: 0 | H32: 0 | I32: 0 | J32: 1 | K32: 0 | L32: 1 | M32: 0
B33: 外國籍 | C33: Foreigner | D33: 2 | E33: 0 | F33: 0 | G33: 0 | H33: 2 | I33: 0 | J33: 0 | K33: 0 | L33: 3 | M33: 0
A34: 臺北市 | C34: Taipei City | D34: 242 | E34: 1 | F34: 23 | G34: 256 | H34: 153 | I34: 42 | J34: 435 | K34: 8 | L34: 40 | M34: 98
A35: 男 Male | B35: 計 | C35: Subtotal | D35: 33 | E35: 0 | F35: 0 | G35: 8 | H35: 17 | I35: 0 | J35: 50 | K35: 1 | L35: 3 | M35: 42
B36: 本國籍 | C36: National | D36: 29 | E36: 0 | F36: 0 | G36: 7 | H36: 16 | I36: 0 | J36: 50 | K36: 1 | L36: 3 | M36: 39
B37: 一般民眾 | C37: General | D37: 29 | E37: 0 | F37: 0 | G37: 7 | H37: 16 | I37: 0 | J37: 50 | K37: 1 | L37: 3 | M37: 39
B38: 原住民 | C38: Indigenous | D38: 0 | E38: 0 | F38: 0 | G38: 0 | H38: 0 | I38: 0 | J38: 0 | K38: 0 | L38: 0 | M38: 0
B39: 大陸籍(含港澳) | C39: Mainlander | D39: 3 | E39: 0 | F39: 0 | G39: 1 | H39: 1 | I39: 0 | J39: 0 | K39: 0 | L39: 0 | M39: 3
B40: 外國籍 | C40: Foreigner | D40: 1 | E40: 0 | F40: 0 | G40: 0 | H40: 0 | I40: 0 | J40: 0 | K40: 0 | L40: 0 | M40: 0
...

Sheet Q4, 2025
A1: 特殊境遇家庭符合款項 Conditions of Families in Hardship
A2: 114年第4季 Q4, 2025
A3: 單位：人 Unit:Persons
A4: 地區、性別及設籍別 Locality, Sex & Identity | D4: 符 合 特 殊 境 遇 家 庭 扶 助 條 例 第 4 條 第 1 項 各 款 規 定 之 人 數 (可複選) Under one of the situations of Article 4,Item1 of Act of Assistance for women in Hardship (Multiple Options)
D5: 第 1 款 Clause1 | F5: 第 2 款 Clause2 | H5: 第 3 款 Clause3 | I5: 第 4 款 Clause4 | J5: 第 5 款 Clause5 | L5: 第 6 款 Clause6 | M5: 第7款 Clause7
D6: 65歲以下 且配偶死亡 | E6: 65歲以下且配偶失蹤經向警察機關報案協尋未獲達6個月以上 | F6: 因配偶惡意遺棄經判決離婚確定或已完成協議離婚登記 | G6: 受配偶不堪同居之虐待經判決離婚確定或已完成協議離婚登記 | H6: 家庭暴力受害 | I6: 未婚懷孕婦女,懷胎3個月以上至分娩2個月以內 | J6: 因離婚、喪偶、未婚生子獨自扶養18歲以下子女，其無工作能力，或雖有工作能力，因遭遇重大傷病或照顧6歲以下子女致不能工作 | K6: 獨自扶養18歲以下父母無力扶養之孫子女，其無工作能力，或雖有工作能力，因遭遇重大傷病或照顧6歲以下孫子女致不能工作 | L6: 配偶處1年以上之徒刑或受拘束人身自由之保安處分1年以上，且在執行中 | M6: 其他經直轄市、縣(市)政府評估，因3個月內生活發生重大變故導致生活、經濟困難者，且其重大變故非因個人責任、債務、非因自願性失業等事由
D7: Spouse is Dead | E7: Spouse is Missing | F7: Abandoned with Malice, and (had) Divorced by Judicial Decree | G7: Abused and (had) Divorced by Judicial Decree | H7: Domestic Violence | I7: Unmarried Pregnarcy from Over 3 Months to 2 Months after Accouchement | J7: Single Parent with No Working Ability or Unable to Work | K7: Grandparents with No Working Ability or Unable to Work | L7: Whose Spouse is Sentenced to Penal Servitude for Over 1 Year and in Prison | M7: Live in Hardship
A8: 總計 | C8: Total | D8: 6014 | E8: 17 | F8: 375 | G8: 1376 | H8: 1234 | I8: 687 | J8: 4475 | K8: 116 | L8: 963 | M8: 480
A9: 男 Male | B9: 計 | C9: Subtotal | D9: 732 | E9: 2 | F9: 99 | G9: 34 | H9: 95 | I9: 0 | J9: 704 | K9: 29 | L9: 46 | M9: 231
B10: 本國籍 | C10: National | D10: 696 | E10: 2 | F10: 98 | G10: 32 | H10: 90 | I10: 0 | J10: 697 | K10: 29 | L10: 46 | M10: 226
B11: 一般民眾 | C11: General | D11: 662 | E11: 2 | F11: 96 | G11: 32 | H11: 86 | I11: 0 | J11: 663 | K11: 27 | L11: 43 | M11: 209
B12: 原住民 | C12: Indigenous | D12: 34 | E12: 0 | F12: 2 | G12: 0 | H12: 4 | I12: 0 | J12: 34 | K12: 2 | L12: 3 | M12: 17
B13: 大陸籍(含港澳) | C13: Mainlander | D13: 19 | E13: 0 | F13: 1 | G13: 2 | H13: 1 | I13: 0 | J13: 4 | K13: 0 | L13: 0 | M13: 4
B14: 外國籍 | C14: Foreigner | D14: 17 | E14: 0 | F14: 0 | G14: 0 | H14: 4 | I14: 0 | J14: 3 | K14: 0 | L14: 0 | M14: 1
A15: 女 Female | B15: 計 | C15: Subtotal | D15: 5282 | E15: 15 | F15: 276 | G15: 1342 | H15: 1139 | I15: 687 | J15: 3771 | K15: 87 | L15: 917 | M15: 249
B16: 本國籍 | C16: National | D16: 5139 | E16: 15 | F16: 276 | G16: 1333 | H16: 1120 | I16: 686 | J16: 3756 | K16: 87 | L16: 905 | M16: 245
B17: 一般民眾 | C17: General | D17: 4987 | E17: 14 | F17: 265 | G17: 1303 | H17: 1070 | I17: 591 | J17: 3422 | K17: 76 | L17: 848 | M17: 227
B18: 原住民 | C18: Indigenous | D18: 152 | E18: 1 | F18: 11 | G18: 30 | H18: 50 | I18: 95 | J18: 334 | K18: 11 | L18: 57 | M18: 18
B19: 大陸籍(含港澳) | C19: Mainlander | D19: 69 | E19: 0 | F19: 0 | G19: 3 | H19: 9 | I19: 0 | J19: 6 | K19: 0 | L19: 7 | M19: 3
B20: 外國籍 | C20: Foreigner | D20: 74 | E20: 0 | F20: 0 | G20: 6 | H20: 10 | I20: 1 | J20: 9 | K20: 0 | L20: 5 | M20: 1
A21: 新北市 | C21: New Taipei City | D21: 180 | E21: 2 | F21: 7 | G21: 31 | H21: 266 | I21: 95 | J21: 395 | K21: 1 | L21: 109 | M21: 11
A22: 男 Male | B22: 計 | C22: Subtotal | D22: 18 | E22: 0 | F22: 4 | G22: 0 | H22: 10 | I22: 0 | J22: 45 | K22: 0 | L22: 1 | M22: 7
B23: 本國籍 | C23: National | D23: 18 | E23: 0 | F23: 4 | G23: 0 | H23: 10 | I23: 0 | J23: 45 | K23: 0 | L23: 1 | M23: 7
B24: 一般民眾 | C24: General | D24: 18 | E24: 0 | F24: 4 | G24: 0 | H24: 8 | I24: 0 | J24: 45 | K24: 0 | L24: 1 | M24: 7
B25: 原住民 | C25: Indigenous | D25: 0 | E25: 0 | F25: 0 | G25: 0 | H25: 2 | I25: 0 | J25: 0 | K25: 0 | L25: 0 | M25: 0
B26: 大陸籍(含港澳) | C26: Mainlander | D26: 0 | E26: 0 | F26: 0 | G26: 0 | H26: 0 | I26: 0 | J26: 0 | K26: 0 | L26: 0 | M26: 0
B27: 外國籍 | C27: Foreigner | D27: 0 | E27: 0 | F27: 0 | G27: 0 | H27: 0 | I27: 0 | J27: 0 | K27: 0 | L27: 0 | M27: 0
A28: 女 Female | B28: 計 | C28: Subtotal | D28: 162 | E28: 2 | F28: 3 | G28: 31 | H28: 256 | I28: 95 | J28: 350 | K28: 1 | L28: 108 | M28: 4
B29: 本國籍 | C29: National | D29: 157 | E29: 2 | F29: 3 | G29: 31 | H29: 254 | I29: 95 | J29: 349 | K29: 1 | L29: 104 | M29: 4
B30: 一般民眾 | C30: General | D30: 157 | E30: 2 | F30: 3 | G30: 31 | H30: 253 | I30: 90 | J30: 331 | K30: 1 | L30: 102 | M30: 4
B31: 原住民 | C31: Indigenous | D31: 0 | E31: 0 | F31: 0 | G31: 0 | H31: 1 | I31: 5 | J31: 18 | K31: 0 | L31: 2 | M31: 0
B32: 大陸籍(含港澳) | C32: Mainlander | D32: 3 | E32: 0 | F32: 0 | G32: 0 | H32: 0 | I32: 0 | J32: 1 | K32: 0 | L32: 1 | M32: 0
B33: 外國籍 | C33: Foreigner | D33: 2 | E33: 0 | F33: 0 | G33: 0 | H33: 2 | I33: 0 | J33: 0 | K33: 0 | L33: 3 | M33: 0
A34: 臺北市 | C34: Taipei City | D34: 242 | E34: 1 | F34: 23 | G34: 256 | H34: 153 | I34: 42 | J34: 435 | K34: 8 | L34: 40 | M34: 98
A35: 男 Male | B35: 計 | C35: Subtotal | D35: 33 | E35: 0 | F35: 0 | G35: 8 | H35: 17 | I35: 0 | J35: 50 | K35: 1 | L35: 3 | M35: 42
B36: 本國籍 | C36: National | D36: 29 | E36: 0 | F36: 0 | G36: 7 | H36: 16 | I36: 0 | J36: 50 | K36: 1 | L36: 3 | M36: 39
B37: 一般民眾 | C37: General | D37: 29 | E37: 0 | F37: 0 | G37: 7 | H37: 16 | I37: 0 | J37: 50 | K37: 1 | L37: 3 | M37: 39
B38: 原住民 | C38: Indigenous | D38: 0 | E38: 0 | F38: 0 | G38: 0 | H38: 0 | I38: 0 | J38: 0 | K38: 0 | L38: 0 | M38: 0
B39: 大陸籍(含港澳) | C39: Mainlander | D39: 3 | E39: 0 | F39: 0 | G39: 1 | H39: 1 | I39: 0 | J39: 0 | K39: 0 | L39: 0 | M39: 3
B40: 外國籍 | C40: Foreigner | D40: 1 | E40: 0 | F40: 0 | G40: 0 | H40: 0 | I40: 0 | J40: 0 | K40: 0 | L40: 0 | M40: 0
...

Sheet Q3, 2025
A1: 特殊境遇家庭符合款項 Conditions of Families in Hardship
A2: 114年第3季 Q3, 2025
A3: 單位：人 Unit:Persons | D3: =IF(D8=SUM(D21,D34,D47,D60,D73,D86,D99,D112,D125,D138,D151,D164,D177,D190,D203,D216,D229,D242,D255,D268,D281,D294),"","*") | E3: =IF(E8=SUM(E21,E34,E47,E60,E73,E86,E99,E112,E125,E138,E151,E164,E177,E190,E203,E216,E229,E242,E255,E268,E281,E294),"","*") | F3: =IF(F8=SUM(F21,F34,F47,F60,F73,F86,F99,F112,F125,F138,F151,F164,F177,F190,F203,F216,F229,F242,F255,F268,F281,F294),"","*") | G3: =IF(G8=SUM(G21,G34,G47,G60,G73,G86,G99,G112,G125,G138,G151,G164,G177,G190,G203,G216,G229,G242,G255,G268,G281,G294),"","*") | H3: =IF(H8=SUM(H21,H34,H47,H60,H73,H86,H99,H112,H125,H138,H151,H164,H177,H190,H203,H216,H229,H242,H255,H268,H281,H294),"","*") | I3: =IF(I8=SUM(I21,I34,I47,I60,I73,I86,I99,I112,I125,I138,I151,I164,I177,I190,I203,I216,I229,I242,I255,I268,I281,I294),"","*") | J3: =IF(J8=SUM(J21,J34,J47,J60,J73,J86,J99,J112,J125,J138,J151,J164,J177,J190,J203,J216,J229,J242,J255,J268,J281,J294),"","*") | K3: =IF(K8=SUM(K21,K34,K47,K60,K73,K86,K99,K112,K125,K138,K151,K164,K177,K190,K203,K216,K229,K242,K255,K268,K281,K294),"","*") | ... M3: =IF(M8=SUM(M21,M34,M47,M60,M73,M86,M99,M112,M125,M138,M151,M164,M177,M190,M203,M216,M229,M242,M255,M268,M281,M294),"","*")
A4: 地區、性別及設籍別 Locality, Sex & Identity | D4: 符 合 特 殊 境 遇 家 庭 扶 助 條 例 第 4 條 第 1 項 各 款 規 定 之 人 數 (可複選) Under one of the situations of Article 4,Item1 of Act of Assistance for Family in Hardship (Multiple Options)
D5: 第 1 款 Clause1 | F5: 第 2 款 Clause2 | H5: 第 3 款 Clause3 | I5: 第 4 款 Clause4 | J5: 第 5 款 Clause5 | L5: 第 6 款 Clause6 | M5: 第7款 Clause7
D6: 65歲以下 且配偶死亡 | E6: 65歲以下且配偶失蹤經向警察機關報案協尋未獲達6個月以上 | F6: 因配偶惡意遺棄經判決離婚確定或已完成協議離婚登記 | G6: 受配偶不堪同居之虐待經判決離婚確定或已完成協議離婚登記 | H6: 家庭暴力受害 | I6: 未婚懷孕婦女,懷胎3個月以上至分娩2個月以內 | J6: 因離婚、喪偶、未婚生子獨自扶養18歲以下子女，其無工作能力，或雖有工作能力，因遭遇重大傷病或照顧6歲以下子女致不能工作 | K6: 獨自扶養18歲以下父母無力扶養之孫子女，其無工作能力，或雖有工作能力，因遭遇重大傷病或照顧6歲以下孫子女致不能工作 | L6: 配偶處1年以上之徒刑或受拘束人身自由之保安處分1年以上，且在執行中 | M6: 其他經直轄市、縣(市)政府評估，因3個月內生活發生重大變故導致生活、經濟困難者，且其重大變故非因個人責任、債務、非因自願性失業等事由
D7: Spouse is Dead | E7: Spouse is Missing | F7: Abandoned with Malice, and (had) Divorced by Judicial Decree | G7: Abused and (had) Divorced by Judicial Decree | H7: Domestic Violence | I7: Unmarried Pregnarcy from Over 3 Months to 2 Months after Accouchement | J7: Single Parent with No Working Ability or Unable to Work | K7: Grandparents with No Working Ability or Unable to Work | L7: Whose Spouse is Sentenced to Penal Servitude for Over 1 Year and in Prison | M7: Live in Hardship
A8: 總計 | C8: Total | D8: 5761 | E8: 15 | F8: 368 | G8: 1324 | H8: 988 | I8: 525 | J8: 4011 | K8: 108 | L8: 868 | M8: 380
A9: 男 Male | B9: 計 | C9: Subtotal | D9: 698 | E9: 2 | F9: 97 | G9: 31 | H9: 77 | I9: 0 | J9: 609 | K9: 28 | L9: 39 | M9: 184
B10: 本國籍 | C10: National | D10: 670 | E10: 2 | F10: 96 | G10: 29 | H10: 72 | I10: 0 | J10: 607 | K10: 28 | L10: 39 | M10: 181
B11: 一般民眾 | C11: General | D11: 640 | E11: 2 | F11: 94 | G11: 29 | H11: 69 | I11: 0 | J11: 576 | K11: 26 | L11: 36 | M11: 164
B12: 原住民 | C12: Indigenous | D12: 30 | E12: 0 | F12: 2 | G12: 0 | H12: 3 | I12: 0 | J12: 31 | K12: 2 | L12: 3 | M12: 17
B13: 大陸籍(含港澳) | C13: Mainlander | D13: 13 | E13: 0 | F13: 1 | G13: 2 | H13: 1 | I13: 0 | J13: 1 | K13: 0 | L13: 0 | M13: 2
B14: 外國籍 | C14: Foreigner | D14: 15 | E14: 0 | F14: 0 | G14: 0 | H14: 4 | I14: 0 | J14: 1 | K14: 0 | L14: 0 | M14: 1
A15: 女 Female | B15: 計 | C15: Subtotal | D15: 5063 | E15: 13 | F15: 271 | G15: 1293 | H15: 911 | I15: 525 | J15: 3402 | K15: 80 | L15: 829 | M15: 196
B16: 本國籍 | C16: National | D16: 4927 | E16: 13 | F16: 271 | G16: 1284 | H16: 894 | I16: 524 | J16: 3391 | K16: 80 | L16: 817 | M16: 194
B17: 一般民眾 | C17: General | D17: 4782 | E17: 12 | F17: 260 | G17: 1256 | H17: 850 | I17: 449 | J17: 3086 | K17: 70 | L17: 767 | M17: 182
B18: 原住民 | C18: Indigenous | D18: 145 | E18: 1 | F18: 11 | G18: 28 | H18: 44 | I18: 75 | J18: 305 | K18: 10 | L18: 50 | M18: 12
B19: 大陸籍(含港澳) | C19: Mainlander | D19: 67 | E19: 0 | F19: 0 | G19: 3 | H19: 8 | I19: 0 | J19: 6 | K19: 0 | L19: 7 | M19: 2
B20: 外國籍 | C20: Foreigner | D20: 69 | E20: 0 | F20: 0 | G20: 6 | H20: 9 | I20: 1 | J20: 5 | K20: 0 | L20: 5 | M20: 0
A21: 新北市 | C21: New Taipei City | D21: 160 | E21: 1 | F21: 7 | G21: 30 | H21: 206 | I21: 72 | J21: 332 | K21: 1 | L21: 90 | M21: 6
A22: 男 Male | B22: 計 | C22: Subtotal | D22: 18 | E22: 0 | F22: 4 | G22: 0 | H22: 8 | I22: 0 | J22: 35 | K22: 0 | L22: 1 | M22: 3
B23: 本國籍 | C23: National | D23: 18 | E23: 0 | F23: 4 | G23: 0 | H23: 8 | I23: 0 | J23: 35 | K23: 0 | L23: 1 | M23: 3
B24: 一般民眾 | C24: General | D24: 18 | E24: 0 | F24: 4 | G24: 0 | H24: 6 | I24: 0 | J24: 35 | K24: 0 | L24: 1 | M24: 3
B25: 原住民 | C25: Indigenous | D25: 0 | E25: 0 | F25: 0 | G25: 0 | H25: 2 | I25: 0 | J25: 0 | K25: 0 | L25: 0 | M25: 0
B26: 大陸籍(含港澳) | C26: Mainlander | D26: 0 | E26: 0 | F26: 0 | G26: 0 | H26: 0 | I26: 0 | J26: 0 | K26: 0 | L26: 0 | M26: 0
B27: 外國籍 | C27: Foreigner | D27: 0 | E27: 0 | F27: 0 | G27: 0 | H27: 0 | I27: 0 | J27: 0 | K27: 0 | L27: 0 | M27: 0
A28: 女 Female | B28: 計 | C28: Subtotal | D28: 142 | E28: 1 | F28: 3 | G28: 30 | H28: 198 | I28: 72 | J28: 297 | K28: 1 | L28: 89 | M28: 3
B29: 本國籍 | C29: National | D29: 137 | E29: 1 | F29: 3 | G29: 30 | H29: 196 | I29: 72 | J29: 296 | K29: 1 | L29: 85 | M29: 3
B30: 一般民眾 | C30: General | D30: 137 | E30: 1 | F30: 3 | G30: 30 | H30: 195 | I30: 68 | J30: 279 | K30: 1 | L30: 85 | M30: 3
B31: 原住民 | C31: Indigenous | D31: 0 | E31: 0 | F31: 0 | G31: 0 | H31: 1 | I31: 4 | J31: 17 | K31: 0 | L31: 0 | M31: 0
B32: 大陸籍(含港澳) | C32: Mainlander | D32: 3 | E32: 0 | F32: 0 | G32: 0 | H32: 0 | I32: 0 | J32: 1 | K32: 0 | L32: 1 | M32: 0
B33: 外國籍 | C33: Foreigner | D33: 2 | E33: 0 | F33: 0 | G33: 0 | H33: 2 | I33: 0 | J33: 0 | K33: 0 | L33: 3 | M33: 0
A34: 臺北市 | C34: Taipei City | D34: 225 | E34: 1 | F34: 22 | G34: 244 | H34: 136 | I34: 34 | J34: 376 | K34: 8 | L34: 38 | M34: 66
A35: 男 Male | B35: 計 | C35: Subtotal | D35: 31 | E35: 0 | F35: 0 | G35: 6 | H35: 13 | I35: 0 | J35: 44 | K35: 1 | L35: 3 | M35: 26
B36: 本國籍 | C36: National | D36: 29 | E36: 0 | F36: 0 | G36: 5 | H36: 12 | I36: 0 | J36: 44 | K36: 1 | L36: 3 | M36: 25
B37: 一般民眾 | C37: General | D37: 29 | E37: 0 | F37: 0 | G37: 5 | H37: 12 | I37: 0 | J37: 44 | K37: 1 | L37: 3 | M37: 25
B38: 原住民 | C38: Indigenous | D38: 0 | E38: 0 | F38: 0 | G38: 0 | H38: 0 | I38: 0 | J38: 0 | K38: 0 | L38: 0 | M38: 0
B39: 大陸籍(含港澳) | C39: Mainlander | D39: 1 | E39: 0 | F39: 0 | G39: 1 | H39: 1 | I39: 0 | J39: 0 | K39: 0 | L39: 0 | M39: 1
B40: 外國籍 | C40: Foreigner | D40: 1 | E40: 0 | F40: 0 | G40: 0 | H40: 0 | I40: 0 | J40: 0 | K40: 0 | L40: 0 | M40: 0
...

Sheet Q2, 2025
A1: 特殊境遇家庭符合款項 Conditions of Families in Hardship
A2: 114年第2季 Q2, 2025
A3: 單位：人 Unit:Persons | D3: =IF(D8=SUM(D21,D34,D47,D60,D73,D86,D99,D112,D125,D138,D151,D164,D177,D190,D203,D216,D229,D242,D255,D268,D281,D294),"","*") | E3: =IF(E8=SUM(E21,E34,E47,E60,E73,E86,E99,E112,E125,E138,E151,E164,E177,E190,E203,E216,E229,E242,E255,E268,E281,E294),"","*") | F3: =IF(F8=SUM(F21,F34,F47,F60,F73,F86,F99,F112,F125,F138,F151,F164,F177,F190,F203,F216,F229,F242,F255,F268,F281,F294),"","*") | G3: =IF(G8=SUM(G21,G34,G47,G60,G73,G86,G99,G112,G125,G138,G151,G164,G177,G190,G203,G216,G229,G242,G255,G268,G281,G294),"","*") | H3: =IF(H8=SUM(H21,H34,H47,H60,H73,H86,H99,H112,H125,H138,H151,H164,H177,H190,H203,H216,H229,H242,H255,H268,H281,H294),"","*") | I3: =IF(I8=SUM(I21,I34,I47,I60,I73,I86,I99,I112,I125,I138,I151,I164,I177,I190,I203,I216,I229,I242,I255,I268,I281,I294),"","*") | J3: =IF(J8=SUM(J21,J34,J47,J60,J73,J86,J99,J112,J125,J138,J151,J164,J177,J190,J203,J216,J229,J242,J255,J268,J281,J294),"","*") | K3: =IF(K8=SUM(K21,K34,K47,K60,K73,K86,K99,K112,K125,K138,K151,K164,K177,K190,K203,K216,K229,K242,K255,K268,K281,K294),"","*") | ... M3: =IF(M8=SUM(M21,M34,M47,M60,M73,M86,M99,M112,M125,M138,M151,M164,M177,M190,M203,M216,M229,M242,M255,M268,M281,M294),"","*")
A4: 地區、性別及設籍別 Locality, Sex & Identity | D4: 符 合 特 殊 境 遇 家 庭 扶 助 條 例 第 4 條 第 1 項 各 款 規 定 之 人 數 (可複選) Under one of the situations of Article 4,Item1 of Act of Assistance for Family in Hardship (Multiple Options)
D5: 第 1 款 Clause1 | F5: 第 2 款 Clause2 | H5: 第 3 款 Clause3 | I5: 第 4 款 Clause4 | J5: 第 5 款 Clause5 | L5: 第 6 款 Clause6 | M5: 第7款 Clause7
D6: 65歲以下 且配偶死亡 | E6: 65歲以下且配偶失蹤經向警察機關報案協尋未獲達6個月以上 | F6: 因配偶惡意遺棄經判決離婚確定或已完成協議離婚登記 | G6: 受配偶不堪同居之虐待經判決離婚確定或已完成協議離婚登記 | H6: 家庭暴力受害 | I6: 未婚懷孕婦女,懷胎3個月以上至分娩2個月以內 | J6: 因離婚、喪偶、未婚生子獨自扶養18歲以下子女，其無工作能力，或雖有工作能力，因遭遇重大傷病或照顧6歲以下子女致不能工作 | K6: 獨自扶養18歲以下父母無力扶養之孫子女，其無工作能力，或雖有工作能力，因遭遇重大傷病或照顧6歲以下孫子女致不能工作 | L6: 配偶處1年以上之徒刑或受拘束人身自由之保安處分1年以上，且在執行中 | M6: 其他經直轄市、縣(市)政府評估，因3個月內生活發生重大變故導致生活、經濟困難者，且其重大變故非因個人責任、債務、非因自願性失業等事由
D7: Spouse is Dead | E7: Spouse is Missing | F7: Abandoned with Malice, and (had) Divorced by Judicial Decree | G7: Abused and (had) Divorced by Judicial Decree | H7: Domestic Violence | I7: Unmarried Pregnarcy from Over 3 Months to 2 Months after Accouchement | J7: Single Parent with No Working Ability or Unable to Work | K7: Grandparents with No Working Ability or Unable to Work | L7: Whose Spouse is Sentenced to Penal Servitude for Over 1 Year and in Prison | M7: Live in Hardship
A8: 總計 | C8: Total | D8: 5485 | E8: 12 | F8: 350 | G8: 1249 | H8: 734 | I8: 349 | J8: 3594 | K8: 96 | L8: 746 | M8: 285
A9: 男 Male | B9: 計 | C9: Subtotal | D9: 669 | E9: 2 | F9: 93 | G9: 29 | H9: 47 | I9: 0 | J9: 534 | K9: 23 | L9: 35 | M9: 138
B10: 本國籍 | C10: National | D10: 642 | E10: 2 | F10: 92 | G10: 27 | H10: 44 | I10: 0 | J10: 532 | K10: 23 | L10: 35 | M10: 135
B11: 一般民眾 | C11: General | D11: 614 | E11: 2 | F11: 90 | G11: 27 | H11: 43 | I11: 0 | J11: 508 | K11: 22 | L11: 32 | M11: 121
B12: 原住民 | C12: Indigenous | D12: 28 | E12: 0 | F12: 2 | G12: 0 | H12: 1 | I12: 0 | J12: 24 | K12: 1 | L12: 3 | M12: 14
B13: 大陸籍(含港澳) | C13: Mainlander | D13: 12 | E13: 0 | F13: 1 | G13: 2 | H13: 0 | I13: 0 | J13: 1 | K13: 0 | L13: 0 | M13: 2
B14: 外國籍 | C14: Foreigner | D14: 15 | E14: 0 | F14: 0 | G14: 0 | H14: 3 | I14: 0 | J14: 1 | K14: 0 | L14: 0 | M14: 1
A15: 女 Female | B15: 計 | C15: Subtotal | D15: 4816 | E15: 10 | F15: 257 | G15: 1220 | H15: 687 | I15: 349 | J15: 3060 | K15: 73 | L15: 711 | M15: 147
B16: 本國籍 | C16: National | D16: 4684 | E16: 10 | F16: 257 | G16: 1211 | H16: 677 | I16: 348 | J16: 3049 | K16: 73 | L16: 703 | M16: 145
B17: 一般民眾 | C17: General | D17: 4553 | E17: 10 | F17: 247 | G17: 1186 | H17: 642 | I17: 295 | J17: 2780 | K17: 63 | L17: 658 | M17: 134
B18: 原住民 | C18: Indigenous | D18: 131 | E18: 0 | F18: 10 | G18: 25 | H18: 35 | I18: 53 | J18: 269 | K18: 10 | L18: 45 | M18: 11
B19: 大陸籍(含港澳) | C19: Mainlander | D19: 64 | E19: 0 | F19: 0 | G19: 3 | H19: 5 | I19: 0 | J19: 6 | K19: 0 | L19: 4 | M19: 2
B20: 外國籍 | C20: Foreigner | D20: 68 | E20: 0 | F20: 0 | G20: 6 | H20: 5 | I20: 1 | J20: 5 | K20: 0 | L20: 4 | M20: 0
A21: 新北市 | C21: New Taipei City | D21: 136 | E21: 1 | F21: 6 | G21: 23 | H21: 145 | I21: 46 | J21: 255 | K21: 1 | L21: 67 | M21: 4
A22: 男 Male | B22: 計 | C22: Subtotal | D22: 18 | E22: 0 | F22: 3 | G22: 0 | H22: 6 | I22: 0 | J22: 22 | K22: 0 | L22: 1 | M22: 3
B23: 本國籍 | C23: National | D23: 18 | E23: 0 | F23: 3 | G23: 0 | H23: 6 | I23: 0 | J23: 22 | K23: 0 | L23: 1 | M23: 3
B24: 一般民眾 | C24: General | D24: 18 | E24: 0 | F24: 3 | G24: 0 | H24: 6 | I24: 0 | J24: 22 | K24: 0 | L24: 1 | M24: 3
B25: 原住民 | C25: Indigenous | D25: 0 | E25: 0 | F25: 0 | G25: 0 | H25: 0 | I25: 0 | J25: 0 | K25: 0 | L25: 0 | M25: 0
B26: 大陸籍(含港澳) | C26: Mainlander | D26: 0 | E26: 0 | F26: 0 | G26: 0 | H26: 0 | I26: 0 | J26: 0 | K26: 0 | L26: 0 | M26: 0
B27: 外國籍 | C27: Foreigner | D27: 0 | E27: 0 | F27: 0 | G27: 0 | H27: 0 | I27: 0 | J27: 0 | K27: 0 | L27: 0 | M27: 0
A28: 女 Female | B28: 計 | C28: Subtotal | D28: 118 | E28: 1 | F28: 3 | G28: 23 | H28: 139 | I28: 46 | J28: 233 | K28: 1 | L28: 66 | M28: 1
B29: 本國籍 | C29: National | D29: 113 | E29: 1 | F29: 3 | G29: 23 | H29: 139 | I29: 46 | J29: 232 | K29: 1 | L29: 63 | M29: 1
B30: 一般民眾 | C30: General | D30: 113 | E30: 1 | F30: 3 | G30: 23 | H30: 138 | I30: 43 | J30: 220 | K30: 1 | L30: 63 | M30: 1
B31: 原住民 | C31: Indigenous | D31: 0 | E31: 0 | F31: 0 | G31: 0 | H31: 1 | I31: 3 | J31: 12 | K31: 0 | L31: 0 | M31: 0
B32: 大陸籍(含港澳) | C32: Mainlander | D32: 3 | E32: 0 | F32: 0 | G32: 0 | H32: 0 | I32: 0 | J32: 1 | K32: 0 | L32: 0 | M32: 0
B33: 外國籍 | C33: Foreigner | D33: 2 | E33: 0 | F33: 0 | G33: 0 | H33: 0 | I33: 0 | J33: 0 | K33: 0 | L33: 3 | M33: 0
A34: 臺北市 | C34: Taipei City | D34: 214 | E34: 0 | F34: 20 | G34: 229 | H34: 102 | I34: 23 | J34: 318 | K34: 7 | L34: 33 | M34: 46
A35: 男 Male | B35: 計 | C35: Subtotal | D35: 29 | E35: 0 | F35: 0 | G35: 4 | H35: 6 | I35: 0 | J35: 34 | K35: 1 | L35: 3 | M35: 19
B36: 本國籍 | C36: National | D36: 27 | E36: 0 | F36: 0 | G36: 3 | H36: 6 | I36: 0 | J36: 34 | K36: 1 | L36: 3 | M36: 18
B37: 一般民眾 | C37: General | D37: 27 | E37: 0 | F37: 0 | G37: 3 | H37: 6 | I37: 0 | J37: 34 | K37: 1 | L37: 3 | M37: 18
B38: 原住民 | C38: Indigenous | D38: 0 | E38: 0 | F38: 0 | G38: 0 | H38: 0 | I38: 0 | J38: 0 | K38: 0 | L38: 0 | M38: 0
B39: 大陸籍(含港澳) | C39: Mainlander | D39: 1 | E39: 0 | F39: 0 | G39: 1 | H39: 0 | I39: 0 | J39: 0 | K39: 0 | L39: 0 | M39: 1
B40: 外國籍 | C40: Foreigner | D40: 1 | E40: 0 | F40: 0 | G40: 0 | H40: 0 | I40: 0 | J40: 0 | K40: 0 | L40: 0 | M40: 0
...

Sheet Q1, 2025
A1: 特殊境遇家庭符合款項 Conditions of Families in Hardship
A2: 114年第1季 Q1, 2025
A3: 單位：人 Unit:Persons | D3: =IF(D8=SUM(D21,D34,D47,D60,D73,D86,D99,D112,D125,D138,D151,D164,D177,D190,D203,D216,D229,D242,D255,D268,D281,D294),"","*") | E3: =IF(E8=SUM(E21,E34,E47,E60,E73,E86,E99,E112,E125,E138,E151,E164,E177,E190,E203,E216,E229,E242,E255,E268,E281,E294),"","*") | F3: =IF(F8=SUM(F21,F34,F47,F60,F73,F86,F99,F112,F125,F138,F151,F164,F177,F190,F203,F216,F229,F242,F255,F268,F281,F294),"","*") | G3: =IF(G8=SUM(G21,G34,G47,G60,G73,G86,G99,G112,G125,G138,G151,G164,G177,G190,G203,G216,G229,G242,G255,G268,G281,G294),"","*") | H3: =IF(H8=SUM(H21,H34,H47,H60,H73,H86,H99,H112,H125,H138,H151,H164,H177,H190,H203,H216,H229,H242,H255,H268,H281,H294),"","*") | I3: =IF(I8=SUM(I21,I34,I47,I60,I73,I86,I99,I112,I125,I138,I151,I164,I177,I190,I203,I216,I229,I242,I255,I268,I281,I294),"","*") | J3: =IF(J8=SUM(J21,J34,J47,J60,J73,J86,J99,J112,J125,J138,J151,J164,J177,J190,J203,J216,J229,J242,J255,J268,J281,J294),"","*") | K3: =IF(K8=SUM(K21,K34,K47,K60,K73,K86,K99,K112,K125,K138,K151,K164,K177,K190,K203,K216,K229,K242,K255,K268,K281,K294),"","*") | ... M3: =IF(M8=SUM(M21,M34,M47,M60,M73,M86,M99,M112,M125,M138,M151,M164,M177,M190,M203,M216,M229,M242,M255,M268,M281,M294),"","*")
A4: 地區、性別及設籍別 Locality, Sex & Identity | D4: 符 合 特 殊 境 遇 家 庭 扶 助 條 例 第 4 條 第 1 項 各 款 規 定 之 人 數 (可複選) Under one of the situations of Article 4,Item1 of Act of Assistance for Family in Hardship (Multiple Options)
D5: 第 1 款 Clause1 | F5: 第 2 款 Clause2 | H5: 第 3 款 Clause3 | I5: 第 4 款 Clause4 | J5: 第 5 款 Clause5 | L5: 第 6 款 Clause6 | M5: 第7款 Clause7
D6: 65歲以下 且配偶死亡 | E6: 65歲以下且配偶失蹤經向警察機關報案協尋未獲達6個月以上 | F6: 因配偶惡意遺棄經判決離婚確定或已完成協議離婚登記 | G6: 受配偶不堪同居之虐待經判決離婚確定或已完成協議離婚登記 | H6: 家庭暴力受害 | I6: 未婚懷孕婦女,懷胎3個月以上至分娩2個月以內 | J6: 因離婚、喪偶、未婚生子獨自扶養18歲以下子女，其無工作能力，或雖有工作能力，因遭遇重大傷病或照顧6歲以下子女致不能工作 | K6: 獨自扶養18歲以下父母無力扶養之孫子女，其無工作能力，或雖有工作能力，因遭遇重大傷病或照顧6歲以下孫子女致不能工作 | L6: 配偶處1年以上之徒刑或受拘束人身自由之保安處分1年以上，且在執行中 | M6: 其他經直轄市、縣(市)政府評估，因3個月內生活發生重大變故導致生活、經濟困難者，且其重大變故非因個人責任、債務、非因自願性失業等事由
D7: Spouse is Dead | E7: Spouse is Missing | F7: Abandoned with Malice, and (had) Divorced by Judicial Decree | G7: Abused and (had) Divorced by Judicial Decree | H7: Domestic Violence | I7: Unmarried Pregnarcy from Over 3 Months to 2 Months after Accouchement | J7: Single Parent with No Working Ability or Unable to Work | K7: Grandparents with No Working Ability or Unable to Work | L7: Whose Spouse is Sentenced to Penal Servitude for Over 1 Year and in Prison | M7: Live in Hardship
A8: 總計 | C8: Total | D8: 5260 | E8: 9 | F8: 339 | G8: 1190 | H8: 481 | I8: 188 | J8: 3113 | K8: 83 | L8: 617 | M8: 184
A9: 男 Male | B9: 計 | C9: Subtotal | D9: 636 | E9: 1 | F9: 92 | G9: 29 | H9: 23 | I9: 0 | J9: 463 | K9: 18 | L9: 32 | M9: 84
B10: 本國籍 | C10: National | D10: 613 | E10: 1 | F10: 91 | G10: 27 | H10: 23 | I10: 0 | J10: 463 | K10: 18 | L10: 32 | M10: 81
B11: 一般民眾 | C11: General | D11: 588 | E11: 1 | F11: 89 | G11: 27 | H11: 22 | I11: 0 | J11: 444 | K11: 17 | L11: 29 | M11: 76
B12: 原住民 | C12: Indigenous | D12: 25 | E12: 0 | F12: 2 | G12: 0 | H12: 1 | I12: 0 | J12: 19 | K12: 1 | L12: 3 | M12: 5
B13: 大陸籍(含港澳) | C13: Mainlander | D13: 10 | E13: 0 | F13: 1 | G13: 2 | H13: 0 | I13: 0 | J13: 0 | K13: 0 | L13: 0 | M13: 2
B14: 外國籍 | C14: Foreigner | D14: 13 | E14: 0 | F14: 0 | G14: 0 | H14: 0 | I14: 0 | J14: 0 | K14: 0 | L14: 0 | M14: 1
A15: 女 Female | B15: 計 | C15: Subtotal | D15: 4624 | E15: 8 | F15: 247 | G15: 1161 | H15: 458 | I15: 188 | J15: 2650 | K15: 65 | L15: 585 | M15: 100
B16: 本國籍 | C16: National | D16: 4507 | E16: 8 | F16: 247 | G16: 1153 | H16: 452 | I16: 187 | J16: 2639 | K16: 65 | L16: 578 | M16: 98
B17: 一般民眾 | C17: General | D17: 4390 | E17: 8 | F17: 237 | G17: 1130 | H17: 430 | I17: 159 | J17: 2402 | K17: 57 | L17: 543 | M17: 91
B18: 原住民 | C18: Indigenous | D18: 117 | E18: 0 | F18: 10 | G18: 23 | H18: 22 | I18: 28 | J18: 237 | K18: 8 | L18: 35 | M18: 7
B19: 大陸籍(含港澳) | C19: Mainlander | D19: 57 | E19: 0 | F19: 0 | G19: 3 | H19: 4 | I19: 0 | J19: 6 | K19: 0 | L19: 3 | M19: 2
B20: 外國籍 | C20: Foreigner | D20: 60 | E20: 0 | F20: 0 | G20: 5 | H20: 2 | I20: 1 | J20: 5 | K20: 0 | L20: 4 | M20: 0
A21: 新北市 | C21: New Taipei City | D21: 118 | E21: 1 | F21: 6 | G21: 19 | H21: 69 | I21: 25 | J21: 171 | K21: 1 | L21: 34 | M21: 3
A22: 男 Male | B22: 計 | C22: Subtotal | D22: 14 | E22: 0 | F22: 3 | G22: 0 | H22: 4 | I22: 0 | J22: 14 | K22: 0 | L22: 1 | M22: 2
B23: 本國籍 | C23: National | D23: 14 | E23: 0 | F23: 3 | G23: 0 | H23: 4 | I23: 0 | J23: 14 | K23: 0 | L23: 1 | M23: 2
B24: 一般民眾 | C24: General | D24: 14 | E24: 0 | F24: 3 | G24: 0 | H24: 4 | I24: 0 | J24: 14 | K24: 0 | L24: 1 | M24: 2
B25: 原住民 | C25: Indigenous | D25: 0 | E25: 0 | F25: 0 | G25: 0 | H25: 0 | I25: 0 | J25: 0 | K25: 0 | L25: 0 | M25: 0
B26: 大陸籍(含港澳) | C26: Mainlander | D26: 0 | E26: 0 | F26: 0 | G26: 0 | H26: 0 | I26: 0 | J26: 0 | K26: 0 | L26: 0 | M26: 0
B27: 外國籍 | C27: Foreigner | D27: 0 | E27: 0 | F27: 0 | G27: 0 | H27: 0 | I27: 0 | J27: 0 | K27: 0 | L27: 0 | M27: 0
A28: 女 Female | B28: 計 | C28: Subtotal | D28: 104 | E28: 1 | F28: 3 | G28: 19 | H28: 65 | I28: 25 | J28: 157 | K28: 1 | L28: 33 | M28: 1
B29: 本國籍 | C29: National | D29: 101 | E29: 1 | F29: 3 | G29: 19 | H29: 65 | I29: 25 | J29: 156 | K29: 1 | L29: 30 | M29: 1
B30: 一般民眾 | C30: General | D30: 101 | E30: 1 | F30: 3 | G30: 19 | H30: 64 | I30: 23 | J30: 151 | K30: 1 | L30: 30 | M30: 1
B31: 原住民 | C31: Indigenous | D31: 0 | E31: 0 | F31: 0 | G31: 0 | H31: 1 | I31: 2 | J31: 5 | K31: 0 | L31: 0 | M31: 0
B32: 大陸籍(含港澳) | C32: Mainlander | D32: 1 | E32: 0 | F32: 0 | G32: 0 | H32: 0 | I32: 0 | J32: 1 | K32: 0 | L32: 0 | M32: 0
B33: 外國籍 | C33: Foreigner | D33: 2 | E33: 0 | F33: 0 | G33: 0 | H33: 0 | I33: 0 | J33: 0 | K33: 0 | L33: 3 | M33: 0
A34: 臺北市 | C34: Taipei City | D34: 203 | E34: 0 | F34: 19 | G34: 215 | H34: 75 | I34: 18 | J34: 244 | K34: 7 | L34: 25 | M34: 25
A35: 男 Male | B35: 計 | C35: Subtotal | D35: 27 | E35: 0 | F35: 0 | G35: 4 | H35: 1 | I35: 0 | J35: 25 | K35: 1 | L35: 3 | M35: 11
B36: 本國籍 | C36: National | D36: 26 | E36: 0 | F36: 0 | G36: 3 | H36: 1 | I36: 0 | J36: 25 | K36: 1 | L36: 3 | M36: 10
B37: 一般民眾 | C37: General | D37: 26 | E37: 0 | F37: 0 | G37: 3 | H37: 1 | I37: 0 | J37: 25 | K37: 1 | L37: 3 | M37: 10
B38: 原住民 | C38: Indigenous | D38: 0 | E38: 0 | F38: 0 | G38: 0 | H38: 0 | I38: 0 | J38: 0 | K38: 0 | L38: 0 | M38: 0
B39: 大陸籍(含港澳) | C39: Mainlander | D39: 1 | E39: 0 | F39: 0 | G39: 1 | H39: 0 | I39: 0 | J39: 0 | K39: 0 | L39: 0 | M39: 1
B40: 外國籍 | C40: Foreigner | D40: 0 | E40: 0 | F40: 0 | G40: 0 | H40: 0 | I40: 0 | J40: 0 | K40: 0 | L40: 0 | M40: 0
...

Sheet 2024
A1: 特殊境遇家庭符合款項 Conditions of Families in Hardship
A2: 113年,2024
A3: 單位：人 Unit:Persons
A4: 地區、性別及設籍別 Locality, Sex & Identity | D4: 符 合 特 殊 境 遇 家 庭 扶 助 條 例 第 4 條 第 1 項 各 款 規 定 之 人 數 (可複選) Under one of the situations of Article 4,Item1 of Act of Assistance for women in Hardship (Multiple Options)
D5: 第 1 款 Clause1 | F5: 第 2 款 Clause2 | H5: 第 3 款 Clause3 | I5: 第 4 款 Clause4 | J5: 第 5 款 Clause5 | L5: 第 6 款 Clause6 | M5: 第7款 Clause7
D6: 65歲以下 且配偶死亡 | E6: 65歲以下且配偶失蹤經向警察機關報案協尋未獲達6個月以上 | F6: 因配偶惡意遺棄經判決離婚確定或已完成協議離婚登記 | G6: 受配偶不堪同居之虐待經判決離婚確定或已完成協議離婚登記 | H6: 家庭暴力受害 | I6: 未婚懷孕婦女,懷胎3個月以上至分娩2個月以內 | J6: 因離婚、喪偶、未婚生子獨自扶養18歲以下子女，其無工作能力，或雖有工作能力，因遭遇重大傷病或照顧6歲以下子女致不能工作 | K6: 獨自扶養18歲以下父母無力扶養之孫子女，其無工作能力，或雖有工作能力，因遭遇重大傷病或照顧6歲以下孫子女致不能工作 | L6: 配偶處1年以上之徒刑或受拘束人身自由之保安處分1年以上，且在執行中 | M6: 其他經直轄市、縣(市)政府評估，因3個月內生活發生重大變故導致生活、經濟困難者，且其重大變故非因個人責任、債務、非因自願性失業等事由
D7: Spouse is Dead | E7: Spouse is Missing | F7: Abandoned with Malice, and (had) Divorced by Judicial Decree | G7: Abused and (had) Divorced by Judicial Decree | H7: Domestic Violence | I7: Unmarried Pregnarcy from Over 3 Months to 2 Months after Accouchement | J7: Single Parent with No Working Ability or Unable to Work | K7: Grandparents with No Working Ability or Unable to Work | L7: Whose Spouse is Sentenced to Penal Servitude for Over 1 Year and in Prison | M7: Live in Hardship
A8: 總計 | C8: Total | D8: 6751 | E8: 15 | F8: 438 | G8: 1446 | H8: 1213 | I8: 947 | J8: 4700 | K8: 123 | L8: 921 | M8: 517
A9: 男 Male | B9: 計 | C9: Subtotal | D9: 821 | E9: 2 | F9: 106 | G9: 36 | H9: 83 | I9: 0 | J9: 648 | K9: 29 | L9: 54 | M9: 215
B10: 本國籍 | C10: National | D10: 789 | E10: 2 | F10: 105 | G10: 34 | H10: 78 | I10: 0 | J10: 647 | K10: 29 | L10: 53 | M10: 213
