Workbook

Sheet 歷年
A1: 特殊境遇家庭符合款項 Conditions of Families in Hardship
A3: 單位：人 Unit:Persons
A4: 年底別 End of the Year | C4: 符 合 特 殊 境 遇 家 庭 扶 助 條 例 第 4 條 第 1 項 各 款 規 定 之 人 數 (可複選) Under one of the situations of Article 4,Item1 of Act of Assistance for Family in Hardship (Multiple Options)
C5: 第 1 款 Clause1 | E5: 第 2 款 Clause2 | G5: 第 3 款 Clause3 | H5: 第 4 款 Clause4 | I5: 第 5 款 Clause5 | K5: 第 6 款 Clause6 | L5: 第7款 Clause7
C6: 65歲以下 且配偶死亡 | D6: 65歲以下且配偶失蹤經向警察機關報案協尋未獲達6個月以上 | E6: 因配偶惡意遺棄經判決離婚確定或已完成協議離婚登記 | F6: 受配偶不堪同居之虐待經判決離婚確定或已完成協議離婚登記 | G6: 家庭暴力 受 害 | H6: 未婚懷孕婦女,懷胎3個月以上至分娩2個月以內 | I6: 因離婚、喪偶、未婚生子獨自扶養18歲以下子女，其無工作能力，或雖有工作能力，因遭遇重大傷病或照顧6歲以下子女致不能工作 | J6: 祖父母扶養18歲以下父母無力扶養之孫子女，其無工作能力，或雖有工作能力，因遭遇重大傷病或照顧6歲以下孫子女致不能工作 | K6: 配偶處1年以上之徒刑或受拘束人身自由之保安處分1年以上，且在執行中 | L6: 其他經直轄市、縣(市)政府評估，因3個月內生活發生重大變故導致生活、經濟困難者，且其重大變故非因個人責任、債務、非因自願性失業等事由
C7: Spouse is Dead | D7: Spouse is Missing | E7: Abandoned with Malice, and (had) Divorced by Judicial Decree | F7: Abused and (had) Divorced by Judicial Decree | G7: Domestic Violence | H7: Unmarried Pregnarcy from Over 3 Months to 2 Months after Accouchement | I7: Single Parent with No Working Ability or Unable to Work | J7: Grandparents with No Working Ability or Unable to Work | K7: Whose Spouse is Sentenced to Penal Servitude for Over 1 Year and in Prison | L7: Live in Hardship
A8: 104年, 2015 | C8: ='2015'!D8 -> 8626 | D8: ='2015'!E8 -> 56 | E8: ='2015'!F8 -> 853 | F8: ='2015'!G8 -> 1347 | G8: ='2015'!H8 -> 1018 | H8: ='2015'!I8 -> 2003 | I8: ='2015'!J8 -> 3922 | J8: ='2015'!K8 -> 261 | ... L8: ='2015'!M8 -> 607
A9: 105年, 2016 | C9: ='2016'!D8 -> 9050 | D9: ='2016'!E8 -> 44 | E9: ='2016'!F8 -> 855 | F9: ='2016'!G8 -> 1479 | G9: ='2016'!H8 -> 1140 | H9: ='2016'!I8 -> 2125 | I9: ='2016'!J8 -> 4315 | J9: ='2016'!K8 -> 234 | ... L9: ='2016'!M8 -> 658
A10: 106年, 2017 | C10: ='2017'!D8 -> 8828 | D10: ='2017'!E8 -> 34 | E10: ='2017'!F8 -> 800 | F10: ='2017'!G8 -> 1599 | G10: ='2017'!H8 -> 1210 | H10: ='2017'!I8 -> 2211 | I10: ='2017'!J8 -> 4341 | J10: ='2017'!K8 -> 232 | ... L10: ='2017'!M8 -> 631
A11: 107年, 2018 | C11: ='2018'!D8 -> 9188 | D11: ='2018'!E8 -> 19 | E11: ='2018'!F8 -> 744 | F11: ='2018'!G8 -> 1663 | G11: ='2018'!H8 -> 1226 | H11: ='2018'!I8 -> 2149 | I11: ='2018'!J8 -> 4797 | J11: ='2018'!K8 -> 213 | ... L11: ='2018'!M8 -> 728
A12: 108年, 2019 | C12: ='2019'!D8 -> 9045 | D12: ='2019'!E8 -> 16 | E12: ='2019'!F8 -> 670 | F12: ='2019'!G8 -> 1628 | G12: ='2019'!H8 -> 1131 | H12: ='2019'!I8 -> 1829 | I12: ='2019'!J8 -> 4700 | J12: ='2019'!K8 -> 194 | ... L12: ='2019'!M8 -> 766
A13: 109年, 2020 | C13: ='2020'!D8 -> 8430 | D13: ='2020'!E8 -> 12 | E13: ='2020'!F8 -> 637 | F13: ='2020'!G8 -> 1672 | G13: ='2020'!H8 -> 1139 | H13: ='2020'!I8 -> 1714 | I13: ='2020'!J8 -> 4437 | J13: ='2020'!K8 -> 195 | ... L13: ='2020'!M8 -> 755
A14: 110年, 2021 | C14: ='2021'!D8 -> 8219 | D14: ='2021'!E8 -> 8 | E14: ='2021'!F8 -> 582 | F14: ='2021'!G8 -> 1613 | G14: ='2021'!H8 -> 1141 | H14: ='2021'!I8 -> 1413 | I14: ='2021'!J8 -> 4419 | J14: ='2021'!K8 -> 191 | ... L14: ='2021'!M8 -> 711
A15: 111年, 2022 | C15: ='2022'!D8 -> 7649 | D15: ='2022'!E8 -> 10 | E15: ='2022'!F8 -> 536 | F15: ='2022'!G8 -> 1466 | G15: ='2022'!H8 -> 1023 | H15: ='2022'!I8 -> 1102 | I15: ='2022'!J8 -> 4331 | J15: ='2022'!K8 -> 154 | ... L15: ='2022'!M8 -> 547
A16: 112年, 2023 | C16: ='2023'!D8 -> 7350 | D16: ='2023'!E8 -> 7 | E16: ='2023'!F8 -> 523 | F16: ='2023'!G8 -> 1483 | G16: ='2023'!H8 -> 1152 | H16: ='2023'!I8 -> 1038 | I16: ='2023'!J8 -> 4674 | J16: ='2023'!K8 -> 125 | ... L16: ='2023'!M8 -> 609
A17: 113年, 2024 | C17: ='2024'!D8 -> 6751 | D17: ='2024'!E8 -> 15 | E17: ='2024'!F8 -> 438 | F17: ='2024'!G8 -> 1446 | G17: ='2024'!H8 -> 1213 | H17: ='2024'!I8 -> 947 | I17: ='2024'!J8 -> 4700 | J17: ='2024'!K8 -> 123 | ... L17: ='2024'!M8 -> 517
A18: 114年, 2025 | C18: ='2025'!D8 -> 6014 | D18: ='2025'!E8 -> 17 | E18: ='2025'!F8 -> 375 | F18: ='2025'!G8 -> 1376 | G18: ='2025'!H8 -> 1234 | H18: ='2025'!I8 -> 687 | I18: ='2025'!J8 -> 4475 | J18: ='2025'!K8 -> 116 | ... L18: ='2025'!M8 -> 480
A19: 第1季 Q1 | C19: ='Q1, 2025'!D8 -> 5260 | D19: ='Q1, 2025'!E8 -> 9 | E19: ='Q1, 2025'!F8 -> 339 | F19: ='Q1, 2025'!G8 -> 1190 | G19: ='Q1, 2025'!H8 -> 481 | H19: ='Q1, 2025'!I8 -> 188 | I19: ='Q1, 2025'!J8 -> 3113 | J19: ='Q1, 2025'!K8 -> 83 | ... L19: ='Q1, 2025'!M8 -> 184
A20: 第2季 Q2 | C20: ='Q2, 2025'!D8 -> 5485 | D20: ='Q2, 2025'!E8 -> 12 | E20: ='Q2, 2025'!F8 -> 350 | F20: ='Q2, 2025'!G8 -> 1249 | G20: ='Q2, 2025'!H8 -> 734 | H20: ='Q2, 2025'!I8 -> 349 | I20: ='Q2, 2025'!J8 -> 3594 | J20: ='Q2, 2025'!K8 -> 96 | ... L20: ='Q2, 2025'!M8 -> 285
A21: 第3季 Q3 | C21: ='Q3, 2025'!D8 -> 5761 | D21: ='Q3, 2025'!E8 -> 15 | E21: ='Q3, 2025'!F8 -> 368 | F21: ='Q3, 2025'!G8 -> 1324 | G21: ='Q3, 2025'!H8 -> 988 | H21: ='Q3, 2025'!I8 -> 525 | I21: ='Q3, 2025'!J8 -> 4011 | J21: ='Q3, 2025'!K8 -> 108 | ... L21: ='Q3, 2025'!M8 -> 380
A22: 第4季 Q4 | C22: ='Q4, 2025'!D8 -> 6014 | D22: ='Q4, 2025'!E8 -> 17 | E22: ='Q4, 2025'!F8 -> 375 | F22: ='Q4, 2025'!G8 -> 1376 | G22: ='Q4, 2025'!H8 -> 1234 | H22: ='Q4, 2025'!I8 -> 687 | I22: ='Q4, 2025'!J8 -> 4475 | J22: ='Q4, 2025'!K8 -> 116 | ... L22: ='Q4, 2025'!M8 -> 480
A23: 115年, 2026
A24: 第1季 Q1 | C24: ='Q1, 2026'!D8 -> 5112 | D24: ='Q1, 2026'!E8 -> 8 | E24: ='Q1, 2026'!F8 -> 299 | F24: ='Q1, 2026'!G8 -> 1196 | G24: ='Q1, 2026'!H8 -> 508 | H24: ='Q1, 2026'!I8 -> 144 | I24: ='Q1, 2026'!J8 -> 2840 | J24: ='Q1, 2026'!K8 -> 75 | ... L24: ='Q1, 2026'!M8 -> 170
A25: 第2季 Q2 | C25: ='Q2, 2026'!D8 -> 5405 | D25: ='Q2, 2026'!E8 -> 9 | E25: ='Q2, 2026'!F8 -> 314 | F25: ='Q2, 2026'!G8 -> 1266 | G25: ='Q2, 2026'!H8 -> 767 | H25: ='Q2, 2026'!I8 -> 307 | I25: ='Q2, 2026'!J8 -> 3284 | J25: ='Q2, 2026'!K8 -> 89 | ... L25: ='Q2, 2026'!M8 -> 274
A26: 第3季 Q3 | C26: ='Q3, 2026'!D8 -> 0 | D26: ='Q3, 2026'!E8 -> 0 | E26: ='Q3, 2026'!F8 -> 0 | F26: ='Q3, 2026'!G8 -> 0 | G26: ='Q3, 2026'!H8 -> 0 | H26: ='Q3, 2026'!I8 -> 0 | I26: ='Q3, 2026'!J8 -> 0 | J26: ='Q3, 2026'!K8 -> 0 | ... L26: ='Q3, 2026'!M8 -> 0
A27: 第4季 Q4 | C27: ='Q4, 2026'!D8 -> 0 | D27: ='Q4, 2026'!E8 -> 0 | E27: ='Q4, 2026'!F8 -> 0 | F27: ='Q4, 2026'!G8 -> 0 | G27: ='Q4, 2026'!H8 -> 0 | H27: ='Q4, 2026'!I8 -> 0 | I27: ='Q4, 2026'!J8 -> 0 | J27: ='Q4, 2026'!K8 -> 0 | ... L27: ='Q4, 2026'!M8 -> 0
A28: 資料來源：直轄市、縣(市)政府。
A29: 附註：本表所列之「特殊境遇家庭符合款項人數」，係指當年1月至該年當季(年)底止之累計統計。
A31: 更新日期：2026/08/31

Sheet 2026
A1: 特殊境遇家庭符合款項 Conditions of Families in Hardship
A2: 115年,2026
A3: 單位：人 Unit:Persons
A4: 地區、性別及設籍別 Locality, Sex & Identity | D4: 符 合 特 殊 境 遇 家 庭 扶 助 條 例 第 4 條 第 1 項 各 款 規 定 之 人 數 (可複選) Under one of the situations of Article 4,Item1 of Act of Assistance for women in Hardship (Multiple Options)
D5: 第 1 款 Clause1 | F5: 第 2 款 Clause2 | H5: 第 3 款 Clause3 | I5: 第 4 款 Clause4 | J5: 第 5 款 Clause5 | L5: 第 6 款 Clause6 | M5: 第7款 Clause7
D6: 65歲以下 且配偶死亡 | E6: 65歲以下且配偶失蹤經向警察機關報案協尋未獲達6個月以上 | F6: 因配偶惡意遺棄經判決離婚確定或已完成協議離婚登記 | G6: 受配偶不堪同居之虐待經判決離婚確定或已完成協議離婚登記 | H6: 家庭暴力受害 | I6: 未婚懷孕婦女,懷胎3個月以上至分娩2個月以內 | J6: 因離婚、喪偶、未婚生子獨自扶養18歲以下子女，其無工作能力，或雖有工作能力，因遭遇重大傷病或照顧6歲以下子女致不能工作 | K6: 獨自扶養18歲以下父母無力扶養之孫子女，其無工作能力，或雖有工作能力，因遭遇重大傷病或照顧6歲以下孫子女致不能工作 | L6: 配偶處1年以上之徒刑或受拘束人身自由之保安處分1年以上，且在執行中 | M6: 其他經直轄市、縣(市)政府評估，因3個月內生活發生重大變故導致生活、經濟困難者，且其重大變故非因個人責任、債務、非因自願性失業等事由
D7: Spouse is Dead | E7: Spouse is Missing | F7: Abandoned with Malice, and (had) Divorced by Judicial Decree | G7: Abused and (had) Divorced by Judicial Decree | H7: Domestic Violence | I7: Unmarried Pregnarcy from Over 3 Months to 2 Months after Accouchement | J7: Single Parent with No Working Ability or Unable to Work | K7: Grandparents with No Working Ability or Unable to Work | L7: Whose Spouse is Sentenced to Penal Servitude for Over 1 Year and in Prison | M7: Live in Hardship
A8: 總計 | C8: Total
A9: 男 Male | B9: 計 | C9: Subtotal
B10: 本國籍 | C10: National
B11: 一般民眾 | C11: General
B12: 原住民 | C12: Indigenous
B13: 大陸籍(含港澳) | C13: Mainlander
B14: 外國籍 | C14: Foreigner
A15: 女 Female | B15: 計 | C15: Subtotal
B16: 本國籍 | C16: National
B17: 一般民眾 | C17: General
B18: 原住民 | C18: Indigenous
B19: 大陸籍(含港澳) | C19: Mainlander
B20: 外國籍 | C20: Foreigner
A21: 新北市 | C21: New Taipei City
A22: 男 Male | B22: 計 | C22: Subtotal
B23: 本國籍 | C23: National
B24: 一般民眾 | C24: General
B25: 原住民 | C25: Indigenous
B26: 大陸籍(含港澳) | C26: Mainlander
B27: 外國籍 | C27: Foreigner
A28: 女 Female | B28: 計 | C28: Subtotal
B29: 本國籍 | C29: National
B30: 一般民眾 | C30: General
B31: 原住民 | C31: Indigenous
B32: 大陸籍(含港澳) | C32: Mainlander
B33: 外國籍 | C33: Foreigner
A34: 臺北市 | C34: Taipei City
A35: 男 Male | B35: 計 | C35: Subtotal
B36: 本國籍 | C36: National
B37: 一般民眾 | C37: General
B38: 原住民 | C38: Indigenous
B39: 大陸籍(含港澳) | C39: Mainlander
B40: 外國籍 | C40: Foreigner
A41: 女 Female | B41: 計 | C41: Subtotal
B42: 本國籍 | C42: National
B43: 一般民眾 | C43: General
B44: 原住民 | C44: Indigenous
B45: 大陸籍(含港澳) | C45: Mainlander
B46: 外國籍 | C46: Foreigner
A47: 桃園市 | C47: Taoyuan City
A48: 男 Male | B48: 計 | C48: Subtotal
B49: 本國籍 | C49: National
B50: 一般民眾 | C50: General
B51: 原住民 | C51: Indigenous
B52: 大陸籍(含港澳) | C52: Mainlander
B53: 外國籍 | C53: Foreigner
A54: 女 Female | B54: 計 | C54: Subtotal
B55: 本國籍 | C55: National
B56: 一般民眾 | C56: General
B57: 原住民 | C57: Indigenous
B58: 大陸籍(含港澳) | C58: Mainlander
B59: 外國籍 | C59: Foreigner
A60: 臺中市 | C60: Taichung City
A61: 男 Male | B61: 計 | C61: Subtotal
B62: 本國籍 | C62: National
B63: 一般民眾 | C63: General
B64: 原住民 | C64: Indigenous
B65: 大陸籍(含港澳) | C65: Mainlander
B66: 外國籍 | C66: Foreigner
A67: 女 Female | B67: 計 | C67: Subtotal
B68: 本國籍 | C68: National
B69: 一般民眾 | C69: General
B70: 原住民 | C70: Indigenous
B71: 大陸籍(含港澳) | C71: Mainlander
B72: 外國籍 | C72: Foreigner
A73: 臺南市 | C73: Tainan City
A74: 男 Male | B74: 計 | C74: Subtotal
B75: 本國籍 | C75: National
B76: 一般民眾 | C76: General
B77: 原住民 | C77: Indigenous
B78: 大陸籍(含港澳) | C78: Mainlander
B79: 外國籍 | C79: Foreigner
A80: 女 Female | B80: 計 | C80: Subtotal
B81: 本國籍 | C81: National
B82: 一般民眾 | C82: General
B83: 原住民 | C83: Indigenous
B84: 大陸籍(含港澳) | C84: Mainlander
B85: 外國籍 | C85: Foreigner
A86: 高雄市 | C86: Kaohsiung City
A87: 男 Male | B87: 計 | C87: Subtotal
B88: 本國籍 | C88: National
B89: 一般民眾 | C89: General
B90: 原住民 | C90: Indigenous
B91: 大陸籍(含港澳) | C91: Mainlander
B92: 外國籍 | C92: Foreigner
A93: 女 Female | B93: 計 | C93: Subtotal
B94: 本國籍 | C94: National
B95: 一般民眾 | C95: General
B96: 原住民 | C96: Indigenous
B97: 大陸籍(含港澳) | C97: Mainlander
B98: 外國籍 | C98: Foreigner
A99: 宜蘭縣 | C99: Yilan County
A100: 男 Male | B100: 計 | C100: Subtotal
...

Sheet Q4, 2026
A1: 特殊境遇家庭符合款項 Conditions of Families in Hardship
A2: 115年第4季 Q4, 2026
A3: 單位：人 Unit:Persons
A4: 地區、性別及設籍別 Locality, Sex & Identity | D4: 符 合 特 殊 境 遇 家 庭 扶 助 條 例 第 4 條 第 1 項 各 款 規 定 之 人 數 (可複選) Under one of the situations of Article 4,Item1 of Act of Assistance for women in Hardship (Multiple Options)
D5: 第 1 款 Clause1 | F5: 第 2 款 Clause2 | H5: 第 3 款 Clause3 | I5: 第 4 款 Clause4 | J5: 第 5 款 Clause5 | L5: 第 6 款 Clause6 | M5: 第7款 Clause7
D6: 65歲以下 且配偶死亡 | E6: 65歲以下且配偶失蹤經向警察機關報案協尋未獲達6個月以上 | F6: 因配偶惡意遺棄經判決離婚確定或已完成協議離婚登記 | G6: 受配偶不堪同居之虐待經判決離婚確定或已完成協議離婚登記 | H6: 家庭暴力受害 | I6: 未婚懷孕婦女,懷胎3個月以上至分娩2個月以內 | J6: 因離婚、喪偶、未婚生子獨自扶養18歲以下子女，其無工作能力，或雖有工作能力，因遭遇重大傷病或照顧6歲以下子女致不能工作 | K6: 獨自扶養18歲以下父母無力扶養之孫子女，其無工作能力，或雖有工作能力，因遭遇重大傷病或照顧6歲以下孫子女致不能工作 | L6: 配偶處1年以上之徒刑或受拘束人身自由之保安處分1年以上，且在執行中 | M6: 其他經直轄市、縣(市)政府評估，因3個月內生活發生重大變故導致生活、經濟困難者，且其重大變故非因個人責任、債務、非因自願性失業等事由
D7: Spouse is Dead | E7: Spouse is Missing | F7: Abandoned with Malice, and (had) Divorced by Judicial Decree | G7: Abused and (had) Divorced by Judicial Decree | H7: Domestic Violence | I7: Unmarried Pregnarcy from Over 3 Months to 2 Months after Accouchement | J7: Single Parent with No Working Ability or Unable to Work | K7: Grandparents with No Working Ability or Unable to Work | L7: Whose Spouse is Sentenced to Penal Servitude for Over 1 Year and in Prison | M7: Live in Hardship
A8: 總計 | C8: Total
A9: 男 Male | B9: 計 | C9: Subtotal
B10: 本國籍 | C10: National
B11: 一般民眾 | C11: General
B12: 原住民 | C12: Indigenous
B13: 大陸籍(含港澳) | C13: Mainlander
B14: 外國籍 | C14: Foreigner
A15: 女 Female | B15: 計 | C15: Subtotal
B16: 本國籍 | C16: National
B17: 一般民眾 | C17: General
B18: 原住民 | C18: Indigenous
B19: 大陸籍(含港澳) | C19: Mainlander
B20: 外國籍 | C20: Foreigner
A21: 新北市 | C21: New Taipei City
A22: 男 Male | B22: 計 | C22: Subtotal
B23: 本國籍 | C23: National
B24: 一般民眾 | C24: General
B25: 原住民 | C25: Indigenous
B26: 大陸籍(含港澳) | C26: Mainlander
B27: 外國籍 | C27: Foreigner
A28: 女 Female | B28: 計 | C28: Subtotal
B29: 本國籍 | C29: National
B30: 一般民眾 | C30: General
B31: 原住民 | C31: Indigenous
B32: 大陸籍(含港澳) | C32: Mainlander
B33: 外國籍 | C33: Foreigner
A34: 臺北市 | C34: Taipei City
A35: 男 Male | B35: 計 | C35: Subtotal
B36: 本國籍 | C36: National
B37: 一般民眾 | C37: General
B38: 原住民 | C38: Indigenous
B39: 大陸籍(含港澳) | C39: Mainlander
B40: 外國籍 | C40: Foreigner
A41: 女 Female | B41: 計 | C41: Subtotal
B42: 本國籍 | C42: National
B43: 一般民眾 | C43: General
B44: 原住民 | C44: Indigenous
B45: 大陸籍(含港澳) | C45: Mainlander
B46: 外國籍 | C46: Foreigner
A47: 桃園市 | C47: Taoyuan City
A48: 男 Male | B48: 計 | C48: Subtotal
B49: 本國籍 | C49: National
B50: 一般民眾 | C50: General
B51: 原住民 | C51: Indigenous
B52: 大陸籍(含港澳) | C52: Mainlander
B53: 外國籍 | C53: Foreigner
A54: 女 Female | B54: 計 | C54: Subtotal
B55: 本國籍 | C55: National
B56: 一般民眾 | C56: General
B57: 原住民 | C57: Indigenous
B58: 大陸籍(含港澳) | C58: Mainlander
B59: 外國籍 | C59: Foreigner
A60: 臺中市 | C60: Taichung City
A61: 男 Male | B61: 計 | C61: Subtotal
B62: 本國籍 | C62: National
B63: 一般民眾 | C63: General
B64: 原住民 | C64: Indigenous
B65: 大陸籍(含港澳) | C65: Mainlander
B66: 外國籍 | C66: Foreigner
A67: 女 Female | B67: 計 | C67: Subtotal
B68: 本國籍 | C68: National
B69: 一般民眾 | C69: General
B70: 原住民 | C70: Indigenous
B71: 大陸籍(含港澳) | C71: Mainlander
B72: 外國籍 | C72: Foreigner
A73: 臺南市 | C73: Tainan City
A74: 男 Male | B74: 計 | C74: Subtotal
B75: 本國籍 | C75: National
B76: 一般民眾 | C76: General
B77: 原住民 | C77: Indigenous
B78: 大陸籍(含港澳) | C78: Mainlander
B79: 外國籍 | C79: Foreigner
A80: 女 Female | B80: 計 | C80: Subtotal
B81: 本國籍 | C81: National
B82: 一般民眾 | C82: General
B83: 原住民 | C83: Indigenous
B84: 大陸籍(含港澳) | C84: Mainlander
B85: 外國籍 | C85: Foreigner
A86: 高雄市 | C86: Kaohsiung City
A87: 男 Male | B87: 計 | C87: Subtotal
B88: 本國籍 | C88: National
B89: 一般民眾 | C89: General
B90: 原住民 | C90: Indigenous
B91: 大陸籍(含港澳) | C91: Mainlander
B92: 外國籍 | C92: Foreigner
A93: 女 Female | B93: 計 | C93: Subtotal
B94: 本國籍 | C94: National
B95: 一般民眾 | C95: General
B96: 原住民 | C96: Indigenous
B97: 大陸籍(含港澳) | C97: Mainlander
B98: 外國籍 | C98: Foreigner
A99: 宜蘭縣 | C99: Yilan County
A100: 男 Male | B100: 計 | C100: Subtotal
...

Sheet Q3, 2026
A1: 特殊境遇家庭符合款項 Conditions of Families in Hardship
A2: 115年第3季 Q3, 2026
A3: 單位：人 Unit:Persons | D3: =IF(D8=SUM(D21,D34,D47,D60,D73,D86,D99,D112,D125,D138,D151,D164,D177,D190,D203,D216,D229,D242,D255,D268,D281,D294),"","*") | E3: =IF(E8=SUM(E21,E34,E47,E60,E73,E86,E99,E112,E125,E138,E151,E164,E177,E190,E203,E216,E229,E242,E255,E268,E281,E294),"","*") | F3: =IF(F8=SUM(F21,F34,F47,F60,F73,F86,F99,F112,F125,F138,F151,F164,F177,F190,F203,F216,F229,F242,F255,F268,F281,F294),"","*") | G3: =IF(G8=SUM(G21,G34,G47,G60,G73,G86,G99,G112,G125,G138,G151,G164,G177,G190,G203,G216,G229,G242,G255,G268,G281,G294),"","*") | H3: =IF(H8=SUM(H21,H34,H47,H60,H73,H86,H99,H112,H125,H138,H151,H164,H177,H190,H203,H216,H229,H242,H255,H268,H281,H294),"","*") | I3: =IF(I8=SUM(I21,I34,I47,I60,I73,I86,I99,I112,I125,I138,I151,I164,I177,I190,I203,I216,I229,I242,I255,I268,I281,I294),"","*") | J3: =IF(J8=SUM(J21,J34,J47,J60,J73,J86,J99,J112,J125,J138,J151,J164,J177,J190,J203,J216,J229,J242,J255,J268,J281,J294),"","*") | K3: =IF(K8=SUM(K21,K34,K47,K60,K73,K86,K99,K112,K125,K138,K151,K164,K177,K190,K203,K216,K229,K242,K255,K268,K281,K294),"","*") | ... M3: =IF(M8=SUM(M21,M34,M47,M60,M73,M86,M99,M112,M125,M138,M151,M164,M177,M190,M203,M216,M229,M242,M255,M268,M281,M294),"","*")
A4: 地區、性別及設籍別 Locality, Sex & Identity | D4: 符 合 特 殊 境 遇 家 庭 扶 助 條 例 第 4 條 第 1 項 各 款 規 定 之 人 數 (可複選) Under one of the situations of Article 4,Item1 of Act of Assistance for Family in Hardship (Multiple Options)
D5: 第 1 款 Clause1 | F5: 第 2 款 Clause2 | H5: 第 3 款 Clause3 | I5: 第 4 款 Clause4 | J5: 第 5 款 Clause5 | L5: 第 6 款 Clause6 | M5: 第7款 Clause7
D6: 65歲以下 且配偶死亡 | E6: 65歲以下且配偶失蹤經向警察機關報案協尋未獲達6個月以上 | F6: 因配偶惡意遺棄經判決離婚確定或已完成協議離婚登記 | G6: 受配偶不堪同居之虐待經判決離婚確定或已完成協議離婚登記 | H6: 家庭暴力受害 | I6: 未婚懷孕婦女,懷胎3個月以上至分娩2個月以內 | J6: 因離婚、喪偶、未婚生子獨自扶養18歲以下子女，其無工作能力，或雖有工作能力，因遭遇重大傷病或照顧6歲以下子女致不能工作 | K6: 獨自扶養18歲以下父母無力扶養之孫子女，其無工作能力，或雖有工作能力，因遭遇重大傷病或照顧6歲以下孫子女致不能工作 | L6: 配偶處1年以上之徒刑或受拘束人身自由之保安處分1年以上，且在執行中 | M6: 其他經直轄市、縣(市)政府評估，因3個月內生活發生重大變故導致生活、經濟困難者，且其重大變故非因個人責任、債務、非因自願性失業等事由
D7: Spouse is Dead | E7: Spouse is Missing | F7: Abandoned with Malice, and (had) Divorced by Judicial Decree | G7: Abused and (had) Divorced by Judicial Decree | H7: Domestic Violence | I7: Unmarried Pregnarcy from Over 3 Months to 2 Months after Accouchement | J7: Single Parent with No Working Ability or Unable to Work | K7: Grandparents with No Working Ability or Unable to Work | L7: Whose Spouse is Sentenced to Penal Servitude for Over 1 Year and in Prison | M7: Live in Hardship
A8: 總計 | C8: Total
A9: 男 Male | B9: 計 | C9: Subtotal
B10: 本國籍 | C10: National
B11: 一般民眾 | C11: General
B12: 原住民 | C12: Indigenous
B13: 大陸籍(含港澳) | C13: Mainlander
B14: 外國籍 | C14: Foreigner
A15: 女 Female | B15: 計 | C15: Subtotal
B16: 本國籍 | C16: National
B17: 一般民眾 | C17: General
B18: 原住民 | C18: Indigenous
B19: 大陸籍(含港澳) | C19: Mainlander
B20: 外國籍 | C20: Foreigner
A21: 新北市 | C21: New Taipei City
A22: 男 Male | B22: 計 | C22: Subtotal
B23: 本國籍 | C23: National
B24: 一般民眾 | C24: General
B25: 原住民 | C25: Indigenous
B26: 大陸籍(含港澳) | C26: Mainlander
B27: 外國籍 | C27: Foreigner
A28: 女 Female | B28: 計 | C28: Subtotal
B29: 本國籍 | C29: National
B30: 一般民眾 | C30: General
B31: 原住民 | C31: Indigenous
B32: 大陸籍(含港澳) | C32: Mainlander
B33: 外國籍 | C33: Foreigner
A34: 臺北市 | C34: Taipei City
A35: 男 Male | B35: 計 | C35: Subtotal
B36: 本國籍 | C36: National
B37: 一般民眾 | C37: General
B38: 原住民 | C38: Indigenous
B39: 大陸籍(含港澳) | C39: Mainlander
B40: 外國籍 | C40: Foreigner
A41: 女 Female | B41: 計 | C41: Subtotal
B42: 本國籍 | C42: National
B43: 一般民眾 | C43: General
B44: 原住民 | C44: Indigenous
B45: 大陸籍(含港澳) | C45: Mainlander
B46: 外國籍 | C46: Foreigner
A47: 桃園市 | C47: Taoyuan City
A48: 男 Male | B48: 計 | C48: Subtotal
B49: 本國籍 | C49: National
B50: 一般民眾 | C50: General
B51: 原住民 | C51: Indigenous
B52: 大陸籍(含港澳) | C52: Mainlander
B53: 外國籍 | C53: Foreigner
A54: 女 Female | B54: 計 | C54: Subtotal
B55: 本國籍 | C55: National
B56: 一般民眾 | C56: General
B57: 原住民 | C57: Indigenous
B58: 大陸籍(含港澳) | C58: Mainlander
B59: 外國籍 | C59: Foreigner
A60: 臺中市 | C60: Taichung City
A61: 男 Male | B61: 計 | C61: Subtotal
B62: 本國籍 | C62: National
B63: 一般民眾 | C63: General
B64: 原住民 | C64: Indigenous
B65: 大陸籍(含港澳) | C65: Mainlander
B66: 外國籍 | C66: Foreigner
A67: 女 Female | B67: 計 | C67: Subtotal
B68: 本國籍 | C68: National
B69: 一般民眾 | C69: General
B70: 原住民 | C70: Indigenous
B71: 大陸籍(含港澳) | C71: Mainlander
B72: 外國籍 | C72: Foreigner
A73: 臺南市 | C73: Tainan City
A74: 男 Male | B74: 計 | C74: Subtotal
B75: 本國籍 | C75: National
B76: 一般民眾 | C76: General
B77: 原住民 | C77: Indigenous
B78: 大陸籍(含港澳) | C78: Mainlander
B79: 外國籍 | C79: Foreigner
A80: 女 Female | B80: 計 | C80: Subtotal
B81: 本國籍 | C81: National
B82: 一般民眾 | C82: General
B83: 原住民 | C83: Indigenous
B84: 大陸籍(含港澳) | C84: Mainlander
B85: 外國籍 | C85: Foreigner
A86: 高雄市 | C86: Kaohsiung City
A87: 男 Male | B87: 計 | C87: Subtotal
B88: 本國籍 | C88: National
B89: 一般民眾 | C89: General
B90: 原住民 | C90: Indigenous
B91: 大陸籍(含港澳) | C91: Mainlander
B92: 外國籍 | C92: Foreigner
A93: 女 Female | B93: 計 | C93: Subtotal
B94: 本國籍 | C94: National
B95: 一般民眾 | C95: General
B96: 原住民 | C96: Indigenous
B97: 大陸籍(含港澳) | C97: Mainlander
B98: 外國籍 | C98: Foreigner
A99: 宜蘭縣 | C99: Yilan County
A100: 男 Male | B100: 計 | C100: Subtotal
...

Sheet Q2, 2026
A1: 特殊境遇家庭符合款項 Conditions of Families in Hardship
A2: 115年第2季 Q2, 2026
A3: 單位：人 Unit:Persons | D3: =IF(D8=SUM(D21,D34,D47,D60,D73,D86,D99,D112,D125,D138,D151,D164,D177,D190,D203,D216,D229,D242,D255,D268,D281,D294),"","*") | E3: =IF(E8=SUM(E21,E34,E47,E60,E73,E86,E99,E112,E125,E138,E151,E164,E177,E190,E203,E216,E229,E242,E255,E268,E281,E294),"","*") | F3: =IF(F8=SUM(F21,F34,F47,F60,F73,F86,F99,F112,F125,F138,F151,F164,F177,F190,F203,F216,F229,F242,F255,F268,F281,F294),"","*") | G3: =IF(G8=SUM(G21,G34,G47,G60,G73,G86,G99,G112,G125,G138,G151,G164,G177,G190,G203,G216,G229,G242,G255,G268,G281,G294),"","*") | H3: =IF(H8=SUM(H21,H34,H47,H60,H73,H86,H99,H112,H125,H138,H151,H164,H177,H190,H203,H216,H229,H242,H255,H268,H281,H294),"","*") | I3: =IF(I8=SUM(I21,I34,I47,I60,I73,I86,I99,I112,I125,I138,I151,I164,I177,I190,I203,I216,I229,I242,I255,I268,I281,I294),"","*") | J3: =IF(J8=SUM(J21,J34,J47,J60,J73,J86,J99,J112,J125,J138,J151,J164,J177,J190,J203,J216,J229,J242,J255,J268,J281,J294),"","*") | K3: =IF(K8=SUM(K21,K34,K47,K60,K73,K86,K99,K112,K125,K138,K151,K164,K177,K190,K203,K216,K229,K242,K255,K268,K281,K294),"","*") | ... M3: =IF(M8=SUM(M21,M34,M47,M60,M73,M86,M99,M112,M125,M138,M151,M164,M177,M190,M203,M216,M229,M242,M255,M268,M281,M294),"","*")
A4: 地區、性別及設籍別 Locality, Sex & Identity | D4: 符 合 特 殊 境 遇 家 庭 扶 助 條 例 第 4 條 第 1 項 各 款 規 定 之 人 數 (可複選) Under one of the situations of Article 4,Item1 of Act of Assistance for Family in Hardship (Multiple Options)
D5: 第 1 款 Clause1 | F5: 第 2 款 Clause2 | H5: 第 3 款 Clause3 | I5: 第 4 款 Clause4 | J5: 第 5 款 Clause5 | L5: 第 6 款 Clause6 | M5: 第7款 Clause7
D6: 65歲以下 且配偶死亡 | E6: 65歲以下且配偶失蹤經向警察機關報案協尋未獲達6個月以上 | F6: 因配偶惡意遺棄經判決離婚確定或已完成協議離婚登記 | G6: 受配偶不堪同居之虐待經判決離婚確定或已完成協議離婚登記 | H6: 家庭暴力受害 | I6: 未婚懷孕婦女,懷胎3個月以上至分娩2個月以內 | J6: 因離婚、喪偶、未婚生子獨自扶養18歲以下子女，其無工作能力，或雖有工作能力，因遭遇重大傷病或照顧6歲以下子女致不能工作 | K6: 獨自扶養18歲以下父母無力扶養之孫子女，其無工作能力，或雖有工作能力，因遭遇重大傷病或照顧6歲以下孫子女致不能工作 | L6: 配偶處1年以上之徒刑或受拘束人身自由之保安處分1年以上，且在執行中 | M6: 其他經直轄市、縣(市)政府評估，因3個月內生活發生重大變故導致生活、經濟困難者，且其重大變故非因個人責任、債務、非因自願性失業等事由
D7: Spouse is Dead | E7: Spouse is Missing | F7: Abandoned with Malice, and (had) Divorced by Judicial Decree | G7: Abused and (had) Divorced by Judicial Decree | H7: Domestic Violence | I7: Unmarried Pregnarcy from Over 3 Months to 2 Months after Accouchement | J7: Single Parent with No Working Ability or Unable to Work | K7: Grandparents with No Working Ability or Unable to Work | L7: Whose Spouse is Sentenced to Penal Servitude for Over 1 Year and in Prison | M7: Live in Hardship
A8: 總計 | C8: Total | D8: 5405 | E8: 9 | F8: 314 | G8: 1266 | H8: 767 | I8: 307 | J8: 3284 | K8: 89 | L8: 755 | M8: 274
A9: 男 Male | B9: 計 | C9: Subtotal | D9: 689 | E9: 0 | F9: 80 | G9: 35 | H9: 57 | I9: 0 | J9: 540 | K9: 23 | L9: 45 | M9: 128
B10: 本國籍 | C10: National | D10: 665 | E10: 0 | F10: 80 | G10: 34 | H10: 55 | I10: 0 | J10: 537 | K10: 23 | L10: 45 | M10: 125
B11: 一般民眾 | C11: General | D11: 639 | E11: 0 | F11: 78 | G11: 34 | H11: 52 | I11: 0 | J11: 503 | K11: 21 | L11: 44 | M11: 117
B12: 原住民 | C12: Indigenous | D12: 26 | E12: 0 | F12: 2 | G12: 0 | H12: 3 | I12: 0 | J12: 34 | K12: 2 | L12: 1 | M12: 8
B13: 大陸籍(含港澳) | C13: Mainlander | D13: 7 | E13: 0 | F13: 0 | G13: 1 | H13: 1 | I13: 0 | J13: 2 | K13: 0 | L13: 0 | M13: 1
B14: 外國籍 | C14: Foreigner | D14: 17 | E14: 0 | F14: 0 | G14: 0 | H14: 1 | I14: 0 | J14: 1 | K14: 0 | L14: 0 | M14: 2
A15: 女 Female | B15: 計 | C15: Subtotal | D15: 4716 | E15: 9 | F15: 234 | G15: 1231 | H15: 710 | I15: 307 | J15: 2744 | K15: 66 | L15: 710 | M15: 146
B16: 本國籍 | C16: National | D16: 4607 | E16: 9 | F16: 234 | G16: 1221 | H16: 699 | I16: 307 | J16: 2734 | K16: 66 | L16: 704 | M16: 143
B17: 一般民眾 | C17: General | D17: 4479 | E17: 8 | F17: 225 | G17: 1199 | H17: 658 | I17: 268 | J17: 2493 | K17: 59 | L17: 669 | M17: 135
B18: 原住民 | C18: Indigenous | D18: 128 | E18: 1 | F18: 9 | G18: 22 | H18: 41 | I18: 39 | J18: 241 | K18: 7 | L18: 35 | M18: 8
B19: 大陸籍(含港澳) | C19: Mainlander | D19: 49 | E19: 0 | F19: 0 | G19: 4 | H19: 4 | I19: 0 | J19: 4 | K19: 0 | L19: 3 | M19: 1
B20: 外國籍 | C20: Foreigner | D20: 60 | E20: 0 | F20: 0 | G20: 6 | H20: 7 | I20: 0 | J20: 6 | K20: 0 | L20: 3 | M20: 2
A21: 新北市 | C21: New Taipei City | D21: 144 | E21: 2 | F21: 7 | G21: 30 | H21: 144 | I21: 42 | J21: 302 | K21: 2 | L21: 72 | M21: 4
A22: 男 Male | B22: 計 | C22: Subtotal | D22: 13 | E22: 0 | F22: 1 | G22: 0 | H22: 4 | I22: 0 | J22: 44 | K22: 0 | L22: 2 | M22: 1
B23: 本國籍 | C23: National | D23: 13 | E23: 0 | F23: 1 | G23: 0 | H23: 4 | I23: 0 | J23: 44 | K23: 0 | L23: 2 | M23: 1
B24: 一般民眾 | C24: General | D24: 13 | E24: 0 | F24: 1 | G24: 0 | H24: 4 | I24: 0 | J24: 39 | K24: 0 | L24: 2 | M24: 1
B25: 原住民 | C25: Indigenous | D25: 0 | E25: 0 | F25: 0 | G25: 0 | H25: 0 | I25: 0 | J25: 5 | K25: 0 | L25: 0 | M25: 0
B26: 大陸籍(含港澳) | C26: Mainlander | D26: 0 | E26: 0 | F26: 0 | G26: 0 | H26: 0 | I26: 0 | J26: 0 | K26: 0 | L26: 0 | M26: 0
B27: 外國籍 | C27: Foreigner | D27: 0 | E27: 0 | F27: 0 | G27: 0 | H27: 0 | I27: 0 | J27: 0 | K27: 0 | L27: 0 | M27: 0
A28: 女 Female | B28: 計 | C28: Subtotal | D28: 131 | E28: 2 | F28: 6 | G28: 30 | H28: 140 | I28: 42 | J28: 258 | K28: 2 | L28: 70 | M28: 3
B29: 本國籍 | C29: National | D29: 127 | E29: 2 | F29: 6 | G29: 30 | H29: 135 | I29: 42 | J29: 256 | K29: 2 | L29: 69 | M29: 3
B30: 一般民眾 | C30: General | D30: 127 | E30: 2 | F30: 6 | G30: 30 | H30: 129 | I30: 42 | J30: 254 | K30: 2 | L30: 67 | M30: 3
B31: 原住民 | C31: Indigenous | D31: 0 | E31: 0 | F31: 0 | G31: 0 | H31: 6 | I31: 0 | J31: 2 | K31: 0 | L31: 2 | M31: 0
B32: 大陸籍(含港澳) | C32: Mainlander | D32: 1 | E32: 0 | F32: 0 | G32: 0 | H32: 3 | I32: 0 | J32: 2 | K32: 0 | L32: 0 | M32: 0
B33: 外國籍 | C33: Foreigner | D33: 3 | E33: 0 | F33: 0 | G33: 0 | H33: 2 | I33: 0 | J33: 0 | K33: 0 | L33: 1 | M33: 0
A34: 臺北市 | C34: Taipei City | D34: 205 | E34: 1 | F34: 24 | G34: 212 | H34: 85 | I34: 21 | J34: 292 | K34: 2 | L34: 30 | M34: 52
A35: 男 Male | B35: 計 | C35: Subtotal | D35: 36 | E35: 0 | F35: 2 | G35: 9 | H35: 12 | I35: 0 | J35: 41 | K35: 0 | L35: 4 | M35: 18
B36: 本國籍 | C36: National | D36: 35 | E36: 0 | F36: 2 | G36: 8 | H36: 11 | I36: 0 | J36: 41 | K36: 0 | L36: 4 | M36: 17
B37: 一般民眾 | C37: General | D37: 35 | E37: 0 | F37: 2 | G37: 8 | H37: 11 | I37: 0 | J37: 41 | K37: 0 | L37: 4 | M37: 17
B38: 原住民 | C38: Indigenous | D38: 0 | E38: 0 | F38: 0 | G38: 0 | H38: 0 | I38: 0 | J38: 0 | K38: 0 | L38: 0 | M38: 0
B39: 大陸籍(含港澳) | C39: Mainlander | D39: 0 | E39: 0 | F39: 0 | G39: 1 | H39: 0 | I39: 0 | J39: 0 | K39: 0 | L39: 0 | M39: 1
B40: 外國籍 | C40: Foreigner | D40: 1 | E40: 0 | F40: 0 | G40: 0 | H40: 1 | I40: 0 | J40: 0 | K40: 0 | L40: 0 | M40: 0
A41: 女 Female | B41: 計 | C41: Subtotal | D41: 169 | E41: 1 | F41: 22 | G41: 203 | H41: 73 | I41: 21 | J41: 251 | K41: 2 | L41: 26 | M41: 34
B42: 本國籍 | C42: National | D42: 166 | E42: 1 | F42: 22 | G42: 201 | H42: 73 | I42: 21 | J42: 249 | K42: 2 | L42: 26 | M42: 34
B43: 一般民眾 | C43: General | D43: 165 | E43: 1 | F43: 22 | G43: 200 | H43: 73 | I43: 20 | J43: 244 | K43: 1 | L43: 23 | M43: 34
B44: 原住民 | C44: Indigenous | D44: 1 | E44: 0 | F44: 0 | G44: 1 | H44: 0 | I44: 1 | J44: 5 | K44: 1 | L44: 3 | M44: 0
B45: 大陸籍(含港澳) | C45: Mainlander | D45: 2 | E45: 0 | F45: 0 | G45: 1 | H45: 0 | I45: 0 | J45: 1 | K45: 0 | L45: 0 | M45: 0
B46: 外國籍 | C46: Foreigner | D46: 1 | E46: 0 | F46: 0 | G46: 1 | H46: 0 | I46: 0 | J46: 1 | K46: 0 | L46: 0 | M46: 0
A47: 桃園市 | C47: Taoyuan City | D47: 483 | E47: 1 | F47: 26 | G47: 95 | H47: 7 | I47: 16 | J47: 100 | K47: 5 | L47: 82 | M47: 0
A48: 男 Male | B48: 計 | C48: Subtotal | D48: 69 | E48: 0 | F48: 7 | G48: 3 | H48: 2 | I48: 0 | J48: 10 | K48: 1 | L48: 1 | M48: 0
B49: 本國籍 | C49: National | D49: 68 | E49: 0 | F49: 7 | G49: 3 | H49: 2 | I49: 0 | J49: 10 | K49: 1 | L49: 1 | M49: 0
B50: 一般民眾 | C50: General | D50: 63 | E50: 0 | F50: 7 | G50: 3 | H50: 2 | I50: 0 | J50: 8 | K50: 1 | L50: 1 | M50: 0
B51: 原住民 | C51: Indigenous | D51: 5 | E51: 0 | F51: 0 | G51: 0 | H51: 0 | I51: 0 | J51: 2 | K51: 0 | L51: 0 | M51: 0
B52: 大陸籍(含港澳) | C52: Mainlander | D52: 0 | E52: 0 | F52: 0 | G52: 0 | H52: 0 | I52: 0 | J52: 0 | K52: 0 | L52: 0 | M52: 0
B53: 外國籍 | C53: Foreigner | D53: 1 | E53: 0 | F53: 0 | G53: 0 | H53: 0 | I53: 0 | J53: 0 | K53: 0 | L53: 0 | M53: 0
A54: 女 Female | B54: 計 | C54: Subtotal | D54: 414 | E54: 1 | F54: 19 | G54: 92 | H54: 5 | I54: 16 | J54: 90 | K54: 4 | L54: 81 | M54: 0
B55: 本國籍 | C55: National | D55: 408 | E55: 1 | F55: 19 | G55: 92 | H55: 4 | I55: 16 | J55: 90 | K55: 4 | L55: 81 | M55: 0
B56: 一般民眾 | C56: General | D56: 396 | E56: 1 | F56: 19 | G56: 89 | H56: 4 | I56: 10 | J56: 77 | K56: 3 | L56: 77 | M56: 0
B57: 原住民 | C57: Indigenous | D57: 12 | E57: 0 | F57: 0 | G57: 3 | H57: 0 | I57: 6 | J57: 13 | K57: 1 | L57: 4 | M57: 0
B58: 大陸籍(含港澳) | C58: Mainlander | D58: 6 | E58: 0 | F58: 0 | G58: 0 | H58: 0 | I58: 0 | J58: 0 | K58: 0 | L58: 0 | M58: 0
B59: 外國籍 | C59: Foreigner | D59: 0 | E59: 0 | F59: 0 | G59: 0 | H59: 1 | I59: 0 | J59: 0 | K59: 0 | L59: 0 | M59: 0
A60: 臺中市 | C60: Taichung City | D60: 1022 | E60: 2 | F60: 44 | G60: 212 | H60: 281 | I60: 50 | J60: 685 | K60: 7 | L60: 124 | M60: 55
A61: 男 Male | B61: 計 | C61: Subtotal | D61: 113 | E61: 0 | F61: 7 | G61: 4 | H61: 25 | I61: 0 | J61: 77 | K61: 1 | L61: 8 | M61: 22
B62: 本國籍 | C62: National | D62: 105 | E62: 0 | F62: 7 | G62: 4 | H62: 25 | I62: 0 | J62: 75 | K62: 1 | L62: 8 | M62: 21
B63: 一般民眾 | C63: General | D63: 103 | E63: 0 | F63: 6 | G63: 4 | H63: 23 | I63: 0 | J63: 72 | K63: 1 | L63: 8 | M63: 19
B64: 原住民 | C64: Indigenous | D64: 2 | E64: 0 | F64: 1 | G64: 0 | H64: 2 | I64: 0 | J64: 3 | K64: 0 | L64: 0 | M64: 2
B65: 大陸籍(含港澳) | C65: Mainlander | D65: 3 | E65: 0 | F65: 0 | G65: 0 | H65: 0 | I65: 0 | J65: 1 | K65: 0 | L65: 0 | M65: 0
B66: 外國籍 | C66: Foreigner | D66: 5 | E66: 0 | F66: 0 | G66: 0 | H66: 0 | I66: 0 | J66: 1 | K66: 0 | L66: 0 | M66: 1
A67: 女 Female | B67: 計 | C67: Subtotal | D67: 909 | E67: 2 | F67: 37 | G67: 208 | H67: 256 | I67: 50 | J67: 608 | K67: 6 | L67: 116 | M67: 33
B68: 本國籍 | C68: National | D68: 876 | E68: 2 | F68: 37 | G68: 206 | H68: 253 | I68: 50 | J68: 606 | K68: 6 | L68: 114 | M68: 32
B69: 一般民眾 | C69: General | D69: 854 | E69: 2 | F69: 35 | G69: 205 | H69: 241 | I69: 45 | J69: 566 | K69: 5 | L69: 112 | M69: 32
B70: 原住民 | C70: Indigenous | D70: 22 | E70: 0 | F70: 2 | G70: 1 | H70: 12 | I70: 5 | J70: 40 | K70: 1 | L70: 2 | M70: 0
B71: 大陸籍(含港澳) | C71: Mainlander | D71: 13 | E71: 0 | F71: 0 | G71: 0 | H71: 1 | I71: 0 | J71: 0 | K71: 0 | L71: 1 | M71: 0
B72: 外國籍 | C72: Foreigner | D72: 20 | E72: 0 | F72: 0 | G72: 2 | H72: 2 | I72: 0 | J72: 2 | K72: 0 | L72: 1 | M72: 1
A73: 臺南市 | C73: Tainan City | D73: 584 | E73: 1 | F73: 19 | G73: 54 | H73: 28 | I73: 16 | J73: 22 | K73: 6 | L73: 62 | M73: 0
A74: 男 Male | B74: 計 | C74: Subtotal | D74: 91 | E74: 0 | F74: 4 | G74: 2 | H74: 2 | I74: 0 | J74: 4 | K74: 1 | L74: 5 | M74: 0
B75: 本國籍 | C75: National | D75: 86 | E75: 0 | F75: 4 | G75: 2 | H75: 1 | I75: 0 | J75: 4 | K75: 1 | L75: 5 | M75: 0
B76: 一般民眾 | C76: General | D76: 86 | E76: 0 | F76: 4 | G76: 2 | H76: 1 | I76: 0 | J76: 4 | K76: 1 | L76: 5 | M76: 0
B77: 原住民 | C77: Indigenous | D77: 0 | E77: 0 | F77: 0 | G77: 0 | H77: 0 | I77: 0 | J77: 0 | K77: 0 | L77: 0 | M77: 0
B78: 大陸籍(含港澳) | C78: Mainlander | D78: 3 | E78: 0 | F78: 0 | G78: 0 | H78: 1 | I78: 0 | J78: 0 | K78: 0 | L78: 0 | M78: 0
B79: 外國籍 | C79: Foreigner | D79: 2 | E79: 0 | F79: 0 | G79: 0 | H79: 0 | I79: 0 | J79: 0 | K79: 0 | L79: 0 | M79: 0
A80: 女 Female | B80: 計 | C80: Subtotal | D80: 493 | E80: 1 | F80: 15 | G80: 52 | H80: 26 | I80: 16 | J80: 18 | K80: 5 | L80: 57 | M80: 0
B81: 本國籍 | C81: National | D81: 486 | E81: 1 | F81: 15 | G81: 52 | H81: 26 | I81: 16 | J81: 18 | K81: 5 | L81: 57 | M81: 0
B82: 一般民眾 | C82: General | D82: 484 | E82: 1 | F82: 14 | G82: 52 | H82: 26 | I82: 16 | J82: 18 | K82: 5 | L82: 57 | M82: 0
B83: 原住民 | C83: Indigenous | D83: 2 | E83: 0 | F83: 1 | G83: 0 | H83: 0 | I83: 0 | J83: 0 | K83: 0 | L83: 0 | M83: 0
B84: 大陸籍(含港澳) | C84: Mainlander | D84: 2 | E84: 0 | F84: 0 | G84: 0 | H84: 0 | I84: 0 | J84: 0 | K84: 0 | L84: 0 | M84: 0
B85: 外國籍 | C85: Foreigner | D85: 5 | E85: 0 | F85: 0 | G85: 0 | H85: 0 | I85: 0 | J85: 0 | K85: 0 | L85: 0 | M85: 0
A86: 高雄市 | C86: Kaohsiung City | D86: 183 | E86: 1 | F86: 0 | G86: 55 | H86: 42 | I86: 28 | J86: 74 | K86: 3 | L86: 75 | M86: 8
A87: 男 Male | B87: 計 | C87: Subtotal | D87: 15 | E87: 0 | F87: 0 | G87: 1 | H87: 3 | I87: 0 | J87: 5 | K87: 1 | L87: 2 | M87: 5
B88: 本國籍 | C88: National | D88: 15 | E88: 0 | F88: 0 | G88: 1 | H88: 3 | I88: 0 | J88: 5 | K88: 1 | L88: 2 | M88: 5
B89: 一般民眾 | C89: General | D89: 14 | E89: 0 | F89: 0 | G89: 1 | H89: 3 | I89: 0 | J89: 5 | K89: 1 | L89: 2 | M89: 5
B90: 原住民 | C90: Indigenous | D90: 1 | E90: 0 | F90: 0 | G90: 0 | H90: 0 | I90: 0 | J90: 0 | K90: 0 | L90: 0 | M90: 0
B91: 大陸籍(含港澳) | C91: Mainlander | D91: 0 | E91: 0 | F91: 0 | G91: 0 | H91: 0 | I91: 0 | J91: 0 | K91: 0 | L91: 0 | M91: 0
B92: 外國籍 | C92: Foreigner | D92: 0 | E92: 0 | F92: 0 | G92: 0 | H92: 0 | I92: 0 | J92: 0 | K92: 0 | L92: 0 | M92: 0
A93: 女 Female | B93: 計 | C93: Subtotal | D93: 168 | E93: 1 | F93: 0 | G93: 54 | H93: 39 | I93: 28 | J93: 69 | K93: 2 | L93: 73 | M93: 3
B94: 本國籍 | C94: National | D94: 157 | E94: 1 | F94: 0 | G94: 53 | H94: 39 | I94: 28 | J94: 68 | K94: 2 | L94: 72 | M94: 2
B95: 一般民眾 | C95: General | D95: 156 | E95: 1 | F95: 0 | G95: 53 | H95: 39 | I95: 26 | J95: 66 | K95: 2 | L95: 71 | M95: 2
B96: 原住民 | C96: Indigenous | D96: 1 | E96: 0 | F96: 0 | G96: 0 | H96: 0 | I96: 2 | J96: 2 | K96: 0 | L96: 1 | M96: 0
B97: 大陸籍(含港澳) | C97: Mainlander | D97: 8 | E97: 0 | F97: 0 | G97: 0 | H97: 0 | I97: 0 | J97: 1 | K97: 0 | L97: 1 | M97: 0
B98: 外國籍 | C98: Foreigner | D98: 3 | E98: 0 | F98: 0 | G98: 1 | H98: 0 | I98: 0 | J98: 0 | K98: 0 | L98: 0 | M98: 1
A99: 宜蘭縣 | C99: Yilan County | D99: 152 | E99: 0 | F99: 20 | G99: 18 | H99: 8 | I99: 2 | J99: 9 | K99: 2 | L99: 21 | M99: 0
A100: 男 Male | B100: 計 | C100: Subtotal | D100: 19 | E100: 0 | F100: 10 | G100: 0 | H100: 0 | I100: 0 | J100: 3 | K100: 1 | L100: 0 | M100: 0
...

Sheet Q1, 2026
A1: 特殊境遇家庭符合款項 Conditions of Families in Hardship
A2: 115年第1季 Q1, 2026
A3: 單位：人 Unit:Persons | D3: =IF(D8=SUM(D21,D34,D47,D60,D73,D86,D99,D112,D125,D138,D151,D164,D177,D190,D203,D216,D229,D242,D255,D268,D281,D294),"","*") | E3: =IF(E8=SUM(E21,E34,E47,E60,E73,E86,E99,E112,E125,E138,E151,E164,E177,E190,E203,E216,E229,E242,E255,E268,E281,E294),"","*") | F3: =IF(F8=SUM(F21,F34,F47,F60,F73,F86,F99,F112,F125,F138,F151,F164,F177,F190,F203,F216,F229,F242,F255,F268,F281,F294),"","*") | G3: =IF(G8=SUM(G21,G34,G47,G60,G73,G86,G99,G112,G125,G138,G151,G164,G177,G190,G203,G216,G229,G242,G255,G268,G281,G294),"","*") | H3: =IF(H8=SUM(H21,H34,H47,H60,H73,H86,H99,H112,H125,H138,H151,H164,H177,H190,H203,H216,H229,H242,H255,H268,H281,H294),"","*") | I3: =IF(I8=SUM(I21,I34,I47,I60,I73,I86,I99,I112,I125,I138,I151,I164,I177,I190,I203,I216,I229,I242,I255,I268,I281,I294),"","*") | J3: =IF(J8=SUM(J21,J34,J47,J60,J73,J86,J99,J112,J125,J138,J151,J164,J177,J190,J203,J216,J229,J242,J255,J268,J281,J294),"","*") | K3: =IF(K8=SUM(K21,K34,K47,K60,K73,K86,K99,K112,K125,K138,K151,K164,K177,K190,K203,K216,K229,K242,K255,K268,K281,K294),"","*") | ... M3: =IF(M8=SUM(M21,M34,M47,M60,M73,M86,M99,M112,M125,M138,M151,M164,M177,M190,M203,M216,M229,M242,M255,M268,M281,M294),"","*")
A4: 地區、性別及設籍別 Locality, Sex & Identity | D4: 符 合 特 殊 境 遇 家 庭 扶 助 條 例 第 4 條 第 1 項 各 款 規 定 之 人 數 (可複選) Under one of the situations of Article 4,Item1 of Act of Assistance for Family in Hardship (Multiple Options)
D5: 第 1 款 Clause1 | F5: 第 2 款 Clause2 | H5: 第 3 款 Clause3 | I5: 第 4 款 Clause4 | J5: 第 5 款 Clause5 | L5: 第 6 款 Clause6 | M5: 第7款 Clause7
D6: 65歲以下 且配偶死亡 | E6: 65歲以下且配偶失蹤經向警察機關報案協尋未獲達6個月以上 | F6: 因配偶惡意遺棄經判決離婚確定或已完成協議離婚登記 | G6: 受配偶不堪同居之虐待經判決離婚確定或已完成協議離婚登記 | H6: 家庭暴力受害 | I6: 未婚懷孕婦女,懷胎3個月以上至分娩2個月以內 | J6: 因離婚、喪偶、未婚生子獨自扶養18歲以下子女，其無工作能力，或雖有工作能力，因遭遇重大傷病或照顧6歲以下子女致不能工作 | K6: 獨自扶養18歲以下父母無力扶養之孫子女，其無工作能力，或雖有工作能力，因遭遇重大傷病或照顧6歲以下孫子女致不能工作 | L6: 配偶處1年以上之徒刑或受拘束人身自由之保安處分1年以上，且在執行中 | M6: 其他經直轄市、縣(市)政府評估，因3個月內生活發生重大變故導致生活、經濟困難者，且其重大變故非因個人責任、債務、非因自願性失業等事由
D7: Spouse is Dead | E7: Spouse is Missing | F7: Abandoned with Malice, and (had) Divorced by Judicial Decree | G7: Abused and (had) Divorced by Judicial Decree | H7: Domestic Violence | I7: Unmarried Pregnarcy from Over 3 Months to 2 Months after Accouchement | J7: Single Parent with No Working Ability or Unable to Work | K7: Grandparents with No Working Ability or Unable to Work | L7: Whose Spouse is Sentenced to Penal Servitude for Over 1 Year and in Prison | M7: Live in Hardship
A8: 總計 | C8: Total | D8: 5112 | E8: 8 | F8: 299 | G8: 1196 | H8: 508 | I8: 144 | J8: 2840 | K8: 75 | L8: 629 | M8: 170
A9: 男 Male | B9: 計 | C9: Subtotal | D9: 641 | E9: 0 | F9: 78 | G9: 30 | H9: 28 | I9: 0 | J9: 460 | K9: 18 | L9: 37 | M9: 79
B10: 本國籍 | C10: National | D10: 620 | E10: 0 | F10: 78 | G10: 29 | H10: 28 | I10: 0 | J10: 457 | K10: 18 | L10: 37 | M10: 77
B11: 一般民眾 | C11: General | D11: 595 | E11: 0 | F11: 76 | G11: 29 | H11: 27 | I11: 0 | J11: 428 | K11: 17 | L11: 36 | M11: 73
B12: 原住民 | C12: Indigenous | D12: 25 | E12: 0 | F12: 2 | G12: 0 | H12: 1 | I12: 0 | J12: 29 | K12: 1 | L12: 1 | M12: 4
B13: 大陸籍(含港澳) | C13: Mainlander | D13: 7 | E13: 0 | F13: 0 | G13: 1 | H13: 0 | I13: 0 | J13: 2 | K13: 0 | L13: 0 | M13: 1
B14: 外國籍 | C14: Foreigner | D14: 14 | E14: 0 | F14: 0 | G14: 0 | H14: 0 | I14: 0 | J14: 1 | K14: 0 | L14: 0 | M14: 1
A15: 女 Female | B15: 計 | C15: Subtotal | D15: 4471 | E15: 8 | F15: 221 | G15: 1166 | H15: 480 | I15: 144 | J15: 2380 | K15: 57 | L15: 592 | M15: 91
B16: 本國籍 | C16: National | D16: 4365 | E16: 8 | F16: 221 | G16: 1157 | H16: 473 | I16: 144 | J16: 2371 | K16: 57 | L16: 587 | M16: 90
B17: 一般民眾 | C17: General | D17: 4245 | E17: 7 | F17: 212 | G17: 1135 | H17: 449 | I17: 131 | J17: 2173 | K17: 51 | L17: 561 | M17: 86
B18: 原住民 | C18: Indigenous | D18: 120 | E18: 1 | F18: 9 | G18: 22 | H18: 24 | I18: 13 | J18: 198 | K18: 6 | L18: 26 | M18: 4
B19: 大陸籍(含港澳) | C19: Mainlander | D19: 48 | E19: 0 | F19: 0 | G19: 4 | H19: 4 | I19: 0 | J19: 4 | K19: 0 | L19: 2 | M19: 0
B20: 外國籍 | C20: Foreigner | D20: 58 | E20: 0 | F20: 0 | G20: 5 | H20: 3 | I20: 0 | J20: 5 | K20: 0 | L20: 3 | M20: 1
A21: 新北市 | C21: New Taipei City | D21: 117 | E21: 1 | F21: 5 | G21: 27 | H21: 87 | I21: 23 | J21: 215 | K21: 2 | L21: 47 | M21: 2
A22: 男 Male | B22: 計 | C22: Subtotal | D22: 12 | E22: 0 | F22: 1 | G22: 0 | H22: 1 | I22: 0 | J22: 34 | K22: 0 | L22: 1 | M22: 1
B23: 本國籍 | C23: National | D23: 12 | E23: 0 | F23: 1 | G23: 0 | H23: 1 | I23: 0 | J23: 34 | K23: 0 | L23: 1 | M23: 1
B24: 一般民眾 | C24: General | D24: 12 | E24: 0 | F24: 1 | G24: 0 | H24: 1 | I24: 0 | J24: 29 | K24: 0 | L24: 1 | M24: 1
B25: 原住民 | C25: Indigenous | D25: 0 | E25: 0 | F25: 0 | G25: 0 | H25: 0 | I25: 0 | J25: 5 | K25: 0 | L25: 0 | M25: 0
B26: 大陸籍(含港澳) | C26: Mainlander | D26: 0 | E26: 0 | F26: 0 | G26: 0 | H26: 0 | I26: 0 | J26: 0 | K26: 0 | L26: 0 | M26: 0
B27: 外國籍 | C27: Foreigner | D27: 0 | E27: 0 | F27: 0 | G27: 0 | H27: 0 | I27: 0 | J27: 0 | K27: 0 | L27: 0 | M27: 0
A28: 女 Female | B28: 計 | C28: Subtotal | D28: 105 | E28: 1 | F28: 4 | G28: 27 | H28: 86 | I28: 23 | J28: 181 | K28: 2 | L28: 46 | M28: 1
B29: 本國籍 | C29: National | D29: 103 | E29: 1 | F29: 4 | G29: 27 | H29: 83 | I29: 23 | J29: 179 | K29: 2 | L29: 45 | M29: 1
B30: 一般民眾 | C30: General | D30: 103 | E30: 1 | F30: 4 | G30: 27 | H30: 83 | I30: 23 | J30: 179 | K30: 2 | L30: 45 | M30: 1
B31: 原住民 | C31: Indigenous | D31: 0 | E31: 0 | F31: 0 | G31: 0 | H31: 0 | I31: 0 | J31: 0 | K31: 0 | L31: 0 | M31: 0
B32: 大陸籍(含港澳) | C32: Mainlander | D32: 1 | E32: 0 | F32: 0 | G32: 0 | H32: 3 | I32: 0 | J32: 2 | K32: 0 | L32: 0 | M32: 0
B33: 外國籍 | C33: Foreigner | D33: 1 | E33: 0 | F33: 0 | G33: 0 | H33: 0 | I33: 0 | J33: 0 | K33: 0 | L33: 1 | M33: 0
A34: 臺北市 | C34: Taipei City | D34: 187 | E34: 1 | F34: 21 | G34: 194 | H34: 48 | I34: 16 | J34: 235 | K34: 2 | L34: 26 | M34: 37
A35: 男 Male | B35: 計 | C35: Subtotal | D35: 30 | E35: 0 | F35: 1 | G35: 6 | H35: 3 | I35: 0 | J35: 32 | K35: 0 | L35: 4 | M35: 12
B36: 本國籍 | C36: National | D36: 29 | E36: 0 | F36: 1 | G36: 5 | H36: 3 | I36: 0 | J36: 32 | K36: 0 | L36: 4 | M36: 11
B37: 一般民眾 | C37: General | D37: 29 | E37: 0 | F37: 1 | G37: 5 | H37: 3 | I37: 0 | J37: 32 | K37: 0 | L37: 4 | M37: 11
B38: 原住民 | C38: Indigenous | D38: 0 | E38: 0 | F38: 0 | G38: 0 | H38: 0 | I38: 0 | J38: 0 | K38: 0 | L38: 0 | M38: 0
B39: 大陸籍(含港澳) | C39: Mainlander | D39: 0 | E39: 0 | F39: 0 | G39: 1 | H39: 0 | I39: 0 | J39: 0 | K39: 0 | L39: 0 | M39: 1
B40: 外國籍 | C40: Foreigner | D40: 1 | E40: 0 | F40: 0 | G40: 0 | H40: 0 | I40: 0 | J40: 0 | K40: 0 | L40: 0 | M40: 0
A41: 女 Female | B41: 計 | C41: Subtotal | D41: 157 | E41: 1 | F41: 20 | G41: 188 | H41: 45 | I41: 16 | J41: 203 | K41: 2 | L41: 22 | M41: 25
B42: 本國籍 | C42: National | D42: 154 | E42: 1 | F42: 20 | G42: 187 | H42: 45 | I42: 16 | J42: 201 | K42: 2 | L42: 22 | M42: 25
B43: 一般民眾 | C43: General | D43: 153 | E43: 1 | F43: 20 | G43: 186 | H43: 45 | I43: 15 | J43: 196 | K43: 1 | L43: 19 | M43: 25
B44: 原住民 | C44: Indigenous | D44: 1 | E44: 0 | F44: 0 | G44: 1 | H44: 0 | I44: 1 | J44: 5 | K44: 1 | L44: 3 | M44: 0
B45: 大陸籍(含港澳) | C45: Mainlander | D45: 2 | E45: 0 | F45: 0 | G45: 1 | H45: 0 | I45: 0 | J45: 1 | K45: 0 | L45: 0 | M45: 0
B46: 外國籍 | C46: Foreigner | D46: 1 | E46: 0 | F46: 0 | G46: 0 | H46: 0 | I46: 0 | J46: 1 | K46: 0 | L46: 0 | M46: 0
A47: 桃園市 | C47: Taoyuan City | D47: 470 | E47: 1 | F47: 25 | G47: 94 | H47: 2 | I47: 7 | J47: 81 | K47: 5 | L47: 71 | M47: 0
A48: 男 Male | B48: 計 | C48: Subtotal | D48: 67 | E48: 0 | F48: 7 | G48: 3 | H48: 1 | I48: 0 | J48: 9 | K48: 1 | L48: 1 | M48: 0
B49: 本國籍 | C49: National | D49: 66 | E49: 0 | F49: 7 | G49: 3 | H49: 1 | I49: 0 | J49: 9 | K49: 1 | L49: 1 | M49: 0
B50: 一般民眾 | C50: General | D50: 62 | E50: 0 | F50: 7 | G50: 3 | H50: 1 | I50: 0 | J50: 7 | K50: 1 | L50: 1 | M50: 0
B51: 原住民 | C51: Indigenous | D51: 4 | E51: 0 | F51: 0 | G51: 0 | H51: 0 | I51: 0 | J51: 2 | K51: 0 | L51: 0 | M51: 0
B52: 大陸籍(含港澳) | C52: Mainlander | D52: 0 | E52: 0 | F52: 0 | G52: 0 | H52: 0 | I52: 0 | J52: 0 | K52: 0 | L52: 0 | M52: 0
B53: 外國籍 | C53: Foreigner | D53: 1 | E53: 0 | F53: 0 | G53: 0 | H53: 0 | I53: 0 | J53: 0 | K53: 0 | L53: 0 | M53: 0
A54: 女 Female | B54: 計 | C54: Subtotal | D54: 403 | E54: 1 | F54: 18 | G54: 91 | H54: 1 | I54: 7 | J54: 72 | K54: 4 | L54: 70 | M54: 0
B55: 本國籍 | C55: National | D55: 397 | E55: 1 | F55: 18 | G55: 91 | H55: 1 | I55: 7 | J55: 72 | K55: 4 | L55: 70 | M55: 0
B56: 一般民眾 | C56: General | D56: 385 | E56: 1 | F56: 18 | G56: 88 | H56: 1 | I56: 5 | J56: 61 | K56: 3 | L56: 67 | M56: 0
B57: 原住民 | C57: Indigenous | D57: 12 | E57: 0 | F57: 0 | G57: 3 | H57: 0 | I57: 2 | J57: 11 | K57: 1 | L57: 3 | M57: 0
B58: 大陸籍(含港澳) | C58: Mainlander | D58: 6 | E58: 0 | F58: 0 | G58: 0 | H58: 0 | I58: 0 | J58: 0 | K58: 0 | L58: 0 | M58: 0
B59: 外國籍 | C59: Foreigner | D59: 0 | E59: 0 | F59: 0 | G59: 0 | H59: 0 | I59: 0 | J59: 0 | K59: 0 | L59: 0 | M59: 0
A60: 臺中市 | C60: Taichung City | D60: 986 | E60: 2 | F60: 41 | G60: 199 | H60: 194 | I60: 26 | J60: 613 | K60: 7 | L60: 105 | M60: 34
A61: 男 Male | B61: 計 | C61: Subtotal | D61: 108 | E61: 0 | F61: 7 | G61: 3 | H61: 18 | I61: 0 | J61: 60 | K61: 1 | L61: 8 | M61: 16
B62: 本國籍 | C62: National | D62: 101 | E62: 0 | F62: 7 | G62: 3 | H62: 18 | I62: 0 | J62: 58 | K62: 1 | L62: 8 | M62: 15
B63: 一般民眾 | C63: General | D63: 99 | E63: 0 | F63: 6 | G63: 3 | H63: 17 | I63: 0 | J63: 55 | K63: 1 | L63: 8 | M63: 14
B64: 原住民 | C64: Indigenous | D64: 2 | E64: 0 | F64: 1 | G64: 0 | H64: 1 | I64: 0 | J64: 3 | K64: 0 | L64: 0 | M64: 1
B65: 大陸籍(含港澳) | C65: Mainlander | D65: 3 | E65: 0 | F65: 0 | G65: 0 | H65: 0 | I65: 0 | J65: 1 | K65: 0 | L65: 0 | M65: 0
B66: 外國籍 | C66: Foreigner | D66: 4 | E66: 0 | F66: 0 | G66: 0 | H66: 0 | I66: 0 | J66: 1 | K66: 0 | L66: 0 | M66: 1
A67: 女 Female | B67: 計 | C67: Subtotal | D67: 878 | E67: 2 | F67: 34 | G67: 196 | H67: 176 | I67: 26 | J67: 553 | K67: 6 | L67: 97 | M67: 18
B68: 本國籍 | C68: National | D68: 846 | E68: 2 | F68: 34 | G68: 194 | H68: 174 | I68: 26 | J68: 551 | K68: 6 | L68: 95 | M68: 17
B69: 一般民眾 | C69: General | D69: 826 | E69: 2 | F69: 32 | G69: 193 | H69: 165 | I69: 24 | J69: 518 | K69: 5 | L69: 93 | M69: 17
B70: 原住民 | C70: Indigenous | D70: 20 | E70: 0 | F70: 2 | G70: 1 | H70: 9 | I70: 2 | J70: 33 | K70: 1 | L70: 2 | M70: 0
B71: 大陸籍(含港澳) | C71: Mainlander | D71: 12 | E71: 0 | F71: 0 | G71: 0 | H71: 1 | I71: 0 | J71: 0 | K71: 0 | L71: 1 | M71: 0
B72: 外國籍 | C72: Foreigner | D72: 20 | E72: 0 | F72: 0 | G72: 2 | H72: 1 | I72: 0 | J72: 2 | K72: 0 | L72: 1 | M72: 1
A73: 臺南市 | C73: Tainan City | D73: 573 | E73: 1 | F73: 19 | G73: 52 | H73: 22 | I73: 7 | J73: 19 | K73: 5 | L73: 56 | M73: 0
A74: 男 Male | B74: 計 | C74: Subtotal | D74: 88 | E74: 0 | F74: 4 | G74: 2 | H74: 0 | I74: 0 | J74: 3 | K74: 0 | L74: 4 | M74: 0
B75: 本國籍 | C75: National | D75: 83 | E75: 0 | F75: 4 | G75: 2 | H75: 0 | I75: 0 | J75: 3 | K75: 0 | L75: 4 | M75: 0
B76: 一般民眾 | C76: General | D76: 83 | E76: 0 | F76: 4 | G76: 2 | H76: 0 | I76: 0 | J76: 3 | K76: 0 | L76: 4 | M76: 0
B77: 原住民 | C77: Indigenous | D77: 0 | E77: 0 | F77: 0 | G77: 0 | H77: 0 | I77: 0 | J77: 0 | K77: 0 | L77: 0 | M77: 0
B78: 大陸籍(含港澳) | C78: Mainlander | D78: 3 | E78: 0 | F78: 0 | G78: 0 | H78: 0 | I78: 0 | J78: 0 | K78: 0 | L78: 0 | M78: 0
B79: 外國籍 | C79: Foreigner | D79: 2 | E79: 0 | F79: 0 | G79: 0 | H79: 0 | I79: 0 | J79: 0 | K79: 0 | L79: 0 | M79: 0
A80: 女 Female | B80: 計 | C80: Subtotal | D80: 485 | E80: 1 | F80: 15 | G80: 50 | H80: 22 | I80: 7 | J80: 16 | K80: 5 | L80: 52 | M80: 0
B81: 本國籍 | C81: National | D81: 478 | E81: 1 | F81: 15 | G81: 50 | H81: 22 | I81: 7 | J81: 16 | K81: 5 | L81: 52 | M81: 0
B82: 一般民眾 | C82: General | D82: 476 | E82: 1 | F82: 14 | G82: 50 | H82: 22 | I82: 7 | J82: 16 | K82: 5 | L82: 52 | M82: 0
B83: 原住民 | C83: Indigenous | D83: 2 | E83: 0 | F83: 1 | G83: 0 | H83: 0 | I83: 0 | J83: 0 | K83: 0 | L83: 0 | M83: 0
B84: 大陸籍(含港澳) | C84: Mainlander | D84: 2 | E84: 0 | F84: 0 | G84: 0 | H84: 0 | I84: 0 | J84: 0 | K84: 0 | L84: 0 | M84: 0
B85: 外國籍 | C85: Foreigner | D85: 5 | E85: 0 | F85: 0 | G85: 0 | H85: 0 | I85: 0 | J85: 0 | K85: 0 | L85: 0 | M85: 0
A86: 高雄市 | C86: Kaohsiung City | D86: 160 | E86: 1 | F86: 0 | G86: 50 | H86: 16 | I86: 10 | J86: 56 | K86: 3 | L86: 63 | M86: 1
A87: 男 Male | B87: 計 | C87: Subtotal | D87: 12 | E87: 0 | F87: 0 | G87: 1 | H87: 0 | I87: 0 | J87: 4 | K87: 1 | L87: 1 | M87: 1
B88: 本國籍 | C88: National | D88: 12 | E88: 0 | F88: 0 | G88: 1 | H88: 0 | I88: 0 | J88: 4 | K88: 1 | L88: 1 | M88: 1
B89: 一般民眾 | C89: General | D89: 11 | E89: 0 | F89: 0 | G89: 1 | H89: 0 | I89: 0 | J89: 4 | K89: 1 | L89: 1 | M89: 1
B90: 原住民 | C90: Indigenous | D90: 1 | E90: 0 | F90: 0 | G90: 0 | H90: 0 | I90: 0 | J90: 0 | K90: 0 | L90: 0 | M90: 0
B91: 大陸籍(含港澳) | C91: Mainlander | D91: 0 | E91: 0 | F91: 0 | G91: 0 | H91: 0 | I91: 0 | J91: 0 | K91: 0 | L91: 0 | M91: 0
B92: 外國籍 | C92: Foreigner | D92: 0 | E92: 0 | F92: 0 | G92: 0 | H92: 0 | I92: 0 | J92: 0 | K92: 0 | L92: 0 | M92: 0
A93: 女 Female | B93: 計 | C93: Subtotal | D93: 148 | E93: 1 | F93: 0 | G93: 49 | H93: 16 | I93: 10 | J93: 52 | K93: 2 | L93: 62 | M93: 0
B94: 本國籍 | C94: National | D94: 137 | E94: 1 | F94: 0 | G94: 48 | H94: 16 | I94: 10 | J94: 51 | K94: 2 | L94: 62 | M94: 0
B95: 一般民眾 | C95: General | D95: 136 | E95: 1 | F95: 0 | G95: 48 | H95: 16 | I95: 10 | J95: 49 | K95: 2 | L95: 61 | M95: 0
B96: 原住民 | C96: Indigenous | D96: 1 | E96: 0 | F96: 0 | G96: 0 | H96: 0 | I96: 0 | J96: 2 | K96: 0 | L96: 1 | M96: 0
B97: 大陸籍(含港澳) | C97: Mainlander | D97: 8 | E97: 0 | F97: 0 | G97: 0 | H97: 0 | I97: 0 | J97: 1 | K97: 0 | L97: 0 | M97: 0
B98: 外國籍 | C98: Foreigner | D98: 3 | E98: 0 | F98: 0 | G98: 1 | H98: 0 | I98: 0 | J98: 0 | K98: 0 | L98: 0 | M98: 0
A99: 宜蘭縣 | C99: Yilan County | D99: 151 | E99: 0 | F99: 19 | G99: 18 | H99: 8 | I99: 1 | J99: 8 | K99: 2 | L99: 20 | M99: 0
A100: 男 Male | B100: 計 | C100: Subtotal | D100: 18 | E100: 0 | F100: 10 | G100: 0 | H100: 0 | I100: 0 | J100: 3 | K100: 1 | L100: 0 | M100: 0
...

Sheet 2025
A1: 特殊境遇家庭符合款項 Conditions of Families in Hardship
A2: 114年,2025
A3: 單位：人 Unit:Persons
A4: 地區、性別及設籍別 Locality, Sex & Identity | D4: 符 合 特 殊 境 遇 家 庭 扶 助 條 例 第 4 條 第 1 項 各 款 規 定 之 人 數 (可複選) Under one of the situations of Article 4,Item1 of Act of Assistance for women in Hardship (Multiple Options)
D5: 第 1 款 Clause1 | F5: 第 2 款 Clause2 | H5: 第 3 款 Clause3 | I5: 第 4 款 Clause4 | J5: 第 5 款 Clause5 | L5: 第 6 款 Clause6 | M5: 第7款 Clause7
D6: 65歲以下 且配偶死亡 | E6: 65歲以下且配偶失蹤經向警察機關報案協尋未獲達6個月以上 | F6: 因配偶惡意遺棄經判決離婚確定或已完成協議離婚登記 | G6: 受配偶不堪同居之虐待經判決離婚確定或已完成協議離婚登記 | H6: 家庭暴力受害 | I6: 未婚懷孕婦女,懷胎3個月以上至分娩2個月以內 | J6: 因離婚、喪偶、未婚生子獨自扶養18歲以下子女，其無工作能力，或雖有工作能力，因遭遇重大傷病或照顧6歲以下子女致不能工作 | K6: 獨自扶養18歲以下父母無力扶養之孫子女，其無工作能力，或雖有工作能力，因遭遇重大傷病或照顧6歲以下孫子女致不能工作 | L6: 配偶處1年以上之徒刑或受拘束人身自由之保安處分1年以上，且在執行中 | M6: 其他經直轄市、縣(市)政府評估，因3個月內生活發生重大變故導致生活、經濟困難者，且其重大變故非因個人責任、債務、非因自願性失業等事由
D7: Spouse is Dead | E7: Spouse is Missing | F7: Abandoned with Malice, and (had) Divorced by Judicial Decree | G7: Abused and (had) Divorced by Judicial Decree | H7: Domestic Violence | I7: Unmarried Pregnarcy from Over 3 Months to 2 Months after Accouchement | J7: Single Parent with No Working Ability or Unable to Work | K7: Grandparents with No Working Ability or Unable to Work | L7: Whose Spouse is Sentenced to Penal Servitude for Over 1 Year and in Prison | M7: Live in Hardship
A8: 總計 | C8: Total | D8: 6014 | E8: 17 | F8: 375 | G8: 1376 | H8: 1234 | I8: 687 | J8: 4475 | K8: 116 | L8: 963 | M8: 480
A9: 男 Male | B9: 計 | C9: Subtotal | D9: 732 | E9: 2 | F9: 99 | G9: 34 | H9: 95 | I9: 0 | J9: 704 | K9: 29 | L9: 46 | M9: 231
B10: 本國籍 | C10: National | D10: 696 | E10: 2 | F10: 98 | G10: 32 | H10: 90 | I10: 0 | J10: 697 | K10: 29 | L10: 46 | M10: 226
B11: 一般民眾 | C11: General | D11: 662 | E11: 2 | F11: 96 | G11: 32 | H11: 86 | I11: 0 | J11: 663 | K11: 27 | L11: 43 | M11: 209
B12: 原住民 | C12: Indigenous | D12: 34 | E12: 0 | F12: 2 | G12: 0 | H12: 4 | I12: 0 | J12: 34 | K12: 2 | L12: 3 | M12: 17
B13: 大陸籍(含港澳) | C13: Mainlander | D13: 19 | E13: 0 | F13: 1 | G13: 2 | H13: 1 | I13: 0 | J13: 4 | K13: 0 | L13: 0 | M13: 4
B14: 外國籍 | C14: Foreigner | D14: 17 | E14: 0 | F14: 0 | G14: 0 | H14: 4 | I14: 0 | J14: 3 | K14: 0 | L14: 0 | M14: 1
A15: 女 Female | B15: 計 | C15: Subtotal | D15: 5282 | E15: 15 | F15: 276 | G15: 1342 | H15: 1139 | I15: 687 | J15: 3771 | K15: 87 | L15: 917 | M15: 249
B16: 本國籍 | C16: National | D16: 5139 | E16: 15 | F16: 276 | G16: 1333 | H16: 1120 | I16: 686 | J16: 3756 | K16: 87 | L16: 905 | M16: 245
B17: 一般民眾 | C17: General | D17: 4987 | E17: 14 | F17: 265 | G17: 1303 | H17: 1070 | I17: 591 | J17: 3422 | K17: 76 | L17: 848 | M17: 227
B18: 原住民 | C18: Indigenous | D18: 152 | E18: 1 | F18: 11 | G18: 30 | H18: 50 | I18: 95 | J18: 334 | K18: 11 | L18: 57 | M18: 18
B19: 大陸籍(含港澳) | C19: Mainlander | D19: 69 | E19: 0 | F19: 0 | G19: 3 | H19: 9 | I19: 0 | J19: 6 | K19: 0 | L19: 7 | M19: 3
B20: 外國籍 | C20: Foreigner | D20: 74 | E20: 0 | F20: 0 | G20: 6 | H20: 10 | I20: 1 | J20: 9 | K20: 0 | L20: 5 | M20: 1
A21: 新北市 | C21: New Taipei City | D21: 180 | E21: 2 | F21: 7 | G21: 31 | H21: 266 | I21: 95 | J21: 395 | K21: 1 | L21: 109 | M21: 11
A22: 男 Male | B22: 計 | C22: Subtotal | D22: 18 | E22: 0 | F22: 4 | G22: 0 | H22: 10 | I22: 0 | J22: 45 | K22: 0 | L22: 1 | M22: 7
B23: 本國籍 | C23: National | D23: 18 | E23: 0 | F23: 4 | G23: 0 | H23: 10 | I23: 0 | J23: 45 | K23: 0 | L23: 1 | M23: 7
B24: 一般民眾 | C24: General | D24: 18 | E24: 0 | F24: 4 | G24: 0 | H24: 8 | I24: 0 | J24: 45 | K24: 0 | L24: 1 | M24: 7
B25: 原住民 | C25: Indigenous | D25: 0 | E25: 0 | F25: 0 | G25: 0 | H25: 2 | I25: 0 | J25: 0 | K25: 0 | L25: 0 | M25: 0
B26: 大陸籍(含港澳) | C26: Mainlander | D26: 0 | E26: 0 | F26: 0 | G26: 0 | H26: 0 | I26: 0 | J26: 0 | K26: 0 | L26: 0 | M26: 0
B27: 外國籍 | C27: Foreigner | D27: 0 | E27: 0 | F27: 0 | G27: 0 | H27: 0 | I27: 0 | J27: 0 | K27: 0 | L27: 0 | M27: 0
A28: 女 Female | B28: 計 | C28: Subtotal | D28: 162 | E28: 2 | F28: 3 | G28: 31 | H28: 256 | I28: 95 | J28: 350 | K28: 1 | L28: 108 | M28: 4
B29: 本國籍 | C29: National | D29: 157 | E29: 2 | F29: 3 | G29: 31 | H29: 254 | I29: 95 | J29: 349 | K29: 1 | L29: 104 | M29: 4
B30: 一般民眾 | C30: General | D30: 157 | E30: 2 | F30: 3 | G30: 31 | H30: 253 | I30: 90 | J30: 331 | K30: 1 | L30: 102 | M30: 4
B31: 原住民 | C31: Indigenous | D31: 0 | E31: 0 | F31: 0 | G31: 0 | H31: 1 | I31: 5 | J31: 18 | K31: 0 | L31: 2 | M31: 0
B32: 大陸籍(含港澳) | C32: Mainlander | D32: 3 | E32: 0 | F32: 0 | G32: 0 | H32: 0 | I32: 0 | J32: 1 | K32: 0 | L32: 1 | M32: 0
B33: 外國籍 | C33: Foreigner | D33: 2 | E33: 0 | F33: 0 | G33: 0 | H33: 2 | I33: 0 | J33: 0 | K33: 0 | L33: 3 | M33: 0
A34: 臺北市 | C34: Taipei City | D34: 242 | E34: 1 | F34: 23 | G34: 256 | H34: 153 | I34: 42 | J34: 435 | K34: 8 | L34: 40 | M34: 98
A35: 男 Male | B35: 計 | C35: Subtotal | D35: 33 | E35: 0 | F35: 0 | G35: 8 | H35: 17 | I35: 0 | J35: 50 | K35: 1 | L35: 3 | M35: 42
B36: 本國籍 | C36: National | D36: 29 | E36: 0 | F36: 0 | G36: 7 | H36: 16 | I36: 0 | J36: 50 | K36: 1 | L36: 3 | M36: 39
B37: 一般民眾 | C37: General | D37: 29 | E37: 0 | F37: 0 | G37: 7 | H37: 16 | I37: 0 | J37: 50 | K37: 1 | L37: 3 | M37: 39
B38: 原住民 | C38: Indigenous | D38: 0 | E38: 0 | F38: 0 | G38: 0 | H38: 0 | I38: 0 | J38: 0 | K38: 0 | L38: 0 | M38: 0
B39: 大陸籍(含港澳) | C39: Mainlander | D39: 3 | E39: 0 | F39: 0 | G39: 1 | H39: 1 | I39: 0 | J39: 0 | K39: 0 | L39: 0 | M39: 3
B40: 外國籍 | C40: Foreigner | D40: 1 | E40: 0 | F40: 0 | G40: 0 | H40: 0 | I40: 0 | J40: 0 | K40: 0 | L40: 0 | M40: 0
A41: 女 Female | B41: 計 | C41: Subtotal | D41: 209 | E41: 1 | F41: 23 | G41: 248 | H41: 136 | I41: 42 | J41: 385 | K41: 7 | L41: 37 | M41: 56
B42: 本國籍 | C42: National | D42: 204 | E42: 1 | F42: 23 | G42: 248 | H42: 131 | I42: 42 | J42: 382 | K42: 7 | L42: 37 | M42: 52
B43: 一般民眾 | C43: General | D43: 200 | E43: 1 | F43: 23 | G43: 245 | H43: 129 | I43: 39 | J43: 368 | K43: 6 | L43: 34 | M43: 51
B44: 原住民 | C44: Indigenous | D44: 4 | E44: 0 | F44: 0 | G44: 3 | H44: 2 | I44: 3 | J44: 14 | K44: 1 | L44: 3 | M44: 1
B45: 大陸籍(含港澳) | C45: Mainlander | D45: 4 | E45: 0 | F45: 0 | G45: 0 | H45: 3 | I45: 0 | J45: 2 | K45: 0 | L45: 0 | M45: 3
B46: 外國籍 | C46: Foreigner | D46: 1 | E46: 0 | F46: 0 | G46: 0 | H46: 2 | I46: 0 | J46: 1 | K46: 0 | L46: 0 | M46: 1
A47: 桃園市 | C47: Taoyuan City | D47: 603 | E47: 1 | F47: 42 | G47: 121 | H47: 18 | I47: 48 | J47: 132 | K47: 12 | L47: 103 | M47: 0
A48: 男 Male | B48: 計 | C48: Subtotal | D48: 77 | E48: 0 | F48: 15 | G48: 4 | H48: 3 | I48: 0 | J48: 13 | K48: 3 | L48: 4 | M48: 0
B49: 本國籍 | C49: National | D49: 76 | E49: 0 | F49: 15 | G49: 4 | H49: 2 | I49: 0 | J49: 13 | K49: 3 | L49: 4 | M49: 0
B50: 一般民眾 | C50: General | D50: 72 | E50: 0 | F50: 15 | G50: 4 | H50: 2 | I50: 0 | J50: 10 | K50: 3 | L50: 4 | M50: 0
B51: 原住民 | C51: Indigenous | D51: 4 | E51: 0 | F51: 0 | G51: 0 | H51: 0 | I51: 0 | J51: 3 | K51: 0 | L51: 0 | M51: 0
B52: 大陸籍(含港澳) | C52: Mainlander | D52: 0 | E52: 0 | F52: 0 | G52: 0 | H52: 0 | I52: 0 | J52: 0 | K52: 0 | L52: 0 | M52: 0
B53: 外國籍 | C53: Foreigner | D53: 1 | E53: 0 | F53: 0 | G53: 0 | H53: 1 | I53: 0 | J53: 0 | K53: 0 | L53: 0 | M53: 0
A54: 女 Female | B54: 計 | C54: Subtotal | D54: 526 | E54: 1 | F54: 27 | G54: 117 | H54: 15 | I54: 48 | J54: 119 | K54: 9 | L54: 99 | M54: 0
B55: 本國籍 | C55: National | D55: 516 | E55: 1 | F55: 27 | G55: 117 | H55: 15 | I55: 48 | J55: 119 | K55: 9 | L55: 99 | M55: 0
B56: 一般民眾 | C56: General | D56: 504 | E56: 1 | F56: 27 | G56: 112 | H56: 14 | I56: 39 | J56: 102 | K56: 8 | L56: 91 | M56: 0
B57: 原住民 | C57: Indigenous | D57: 12 | E57: 0 | F57: 0 | G57: 5 | H57: 1 | I57: 9 | J57: 17 | K57: 1 | L57: 8 | M57: 0
B58: 大陸籍(含港澳) | C58: Mainlander | D58: 9 | E58: 0 | F58: 0 | G58: 0 | H58: 0 | I58: 0 | J58: 0 | K58: 0 | L58: 0 | M58: 0
B59: 外國籍 | C59: Foreigner | D59: 1 | E59: 0 | F59: 0 | G59: 0 | H59: 0 | I59: 0 | J59: 0 | K59: 0 | L59: 0 | M59: 0
A60: 臺中市 | C60: Taichung City | D60: 1156 | E60: 5 | F60: 47 | G60: 209 | H60: 399 | I60: 114 | J60: 861 | K60: 8 | L60: 158 | M60: 86
A61: 男 Male | B61: 計 | C61: Subtotal | D61: 135 | E61: 1 | F61: 9 | G61: 5 | H61: 46 | I61: 0 | J61: 84 | K61: 2 | L61: 11 | M61: 38
B62: 本國籍 | C62: National | D62: 125 | E62: 1 | F62: 8 | G62: 4 | H62: 43 | I62: 0 | J62: 80 | K62: 2 | L62: 11 | M62: 36
B63: 一般民眾 | C63: General | D63: 121 | E63: 1 | F63: 7 | G63: 4 | H63: 42 | I63: 0 | J63: 77 | K63: 2 | L63: 9 | M63: 32
B64: 原住民 | C64: Indigenous | D64: 4 | E64: 0 | F64: 1 | G64: 0 | H64: 1 | I64: 0 | J64: 3 | K64: 0 | L64: 2 | M64: 4
B65: 大陸籍(含港澳) | C65: Mainlander | D65: 5 | E65: 0 | F65: 1 | G65: 1 | H65: 0 | I65: 0 | J65: 3 | K65: 0 | L65: 0 | M65: 1
B66: 外國籍 | C66: Foreigner | D66: 5 | E66: 0 | F66: 0 | G66: 0 | H66: 3 | I66: 0 | J66: 1 | K66: 0 | L66: 0 | M66: 1
A67: 女 Female | B67: 計 | C67: Subtotal | D67: 1021 | E67: 4 | F67: 38 | G67: 204 | H67: 353 | I67: 114 | J67: 777 | K67: 6 | L67: 147 | M67: 48
B68: 本國籍 | C68: National | D68: 982 | E68: 4 | F68: 38 | G68: 202 | H68: 351 | I68: 114 | J68: 769 | K68: 6 | L68: 144 | M68: 48
B69: 一般民眾 | C69: General | D69: 956 | E69: 4 | F69: 36 | G69: 199 | H69: 337 | I69: 98 | J69: 721 | K69: 5 | L69: 137 | M69: 47
B70: 原住民 | C70: Indigenous | D70: 26 | E70: 0 | F70: 2 | G70: 3 | H70: 14 | I70: 16 | J70: 48 | K70: 1 | L70: 7 | M70: 1
B71: 大陸籍(含港澳) | C71: Mainlander | D71: 12 | E71: 0 | F71: 0 | G71: 0 | H71: 1 | I71: 0 | J71: 2 | K71: 0 | L71: 2 | M71: 0
B72: 外國籍 | C72: Foreigner | D72: 27 | E72: 0 | F72: 0 | G72: 2 | H72: 1 | I72: 0 | J72: 6 | K72: 0 | L72: 1 | M72: 0
A73: 臺南市 | C73: Tainan City | D73: 674 | E73: 3 | F73: 22 | G73: 65 | H73: 42 | I73: 27 | J73: 24 | K73: 7 | L73: 85 | M73: 4
A74: 男 Male | B74: 計 | C74: Subtotal | D74: 103 | E74: 1 | F74: 4 | G74: 3 | H74: 1 | I74: 0 | J74: 3 | K74: 1 | L74: 5 | M74: 1
B75: 本國籍 | C75: National | D75: 96 | E75: 1 | F75: 4 | G75: 3 | H75: 1 | I75: 0 | J75: 3 | K75: 1 | L75: 5 | M75: 1
B76: 一般民眾 | C76: General | D76: 96 | E76: 1 | F76: 4 | G76: 3 | H76: 1 | I76: 0 | J76: 3 | K76: 1 | L76: 5 | M76: 1
B77: 原住民 | C77: Indigenous | D77: 0 | E77: 0 | F77: 0 | G77: 0 | H77: 0 | I77: 0 | J77: 0 | K77: 0 | L77: 0 | M77: 0
B78: 大陸籍(含港澳) | C78: Mainlander | D78: 3 | E78: 0 | F78: 0 | G78: 0 | H78: 0 | I78: 0 | J78: 0 | K78: 0 | L78: 0 | M78: 0
B79: 外國籍 | C79: Foreigner | D79: 4 | E79: 0 | F79: 0 | G79: 0 | H79: 0 | I79: 0 | J79: 0 | K79: 0 | L79: 0 | M79: 0
A80: 女 Female | B80: 計 | C80: Subtotal | D80: 571 | E80: 2 | F80: 18 | G80: 62 | H80: 41 | I80: 27 | J80: 21 | K80: 6 | L80: 80 | M80: 3
B81: 本國籍 | C81: National | D81: 560 | E81: 2 | F81: 18 | G81: 62 | H81: 41 | I81: 27 | J81: 21 | K81: 6 | L81: 78 | M81: 3
B82: 一般民眾 | C82: General | D82: 558 | E82: 2 | F82: 17 | G82: 62 | H82: 41 | I82: 26 | J82: 21 | K82: 6 | L82: 75 | M82: 2
B83: 原住民 | C83: Indigenous | D83: 2 | E83: 0 | F83: 1 | G83: 0 | H83: 0 | I83: 1 | J83: 0 | K83: 0 | L83: 3 | M83: 1
B84: 大陸籍(含港澳) | C84: Mainlander | D84: 5 | E84: 0 | F84: 0 | G84: 0 | H84: 0 | I84: 0 | J84: 0 | K84: 0 | L84: 1 | M84: 0
B85: 外國籍 | C85: Foreigner | D85: 6 | E85: 0 | F85: 0 | G85: 0 | H85: 0 | I85: 0 | J85: 0 | K85: 0 | L85: 1 | M85: 0
A86: 高雄市 | C86: Kaohsiung City | D86: 216 | E86: 2 | F86: 1 | G86: 53 | H86: 85 | I86: 78 | J86: 97 | K86: 5 | L86: 77 | M86: 6
A87: 男 Male | B87: 計 | C87: Subtotal | D87: 15 | E87: 0 | F87: 0 | G87: 1 | H87: 7 | I87: 0 | J87: 6 | K87: 2 | L87: 2 | M87: 1
B88: 本國籍 | C88: National | D88: 15 | E88: 0 | F88: 0 | G88: 1 | H88: 7 | I88: 0 | J88: 6 | K88: 2 | L88: 2 | M88: 1
B89: 一般民眾 | C89: General | D89: 14 | E89: 0 | F89: 0 | G89: 1 | H89: 6 | I89: 0 | J89: 6 | K89: 2 | L89: 2 | M89: 1
B90: 原住民 | C90: Indigenous | D90: 1 | E90: 0 | F90: 0 | G90: 0 | H90: 1 | I90: 0 | J90: 0 | K90: 0 | L90: 0 | M90: 0
B91: 大陸籍(含港澳) | C91: Mainlander | D91: 0 | E91: 0 | F91: 0 | G91: 0 | H91: 0 | I91: 0 | J91: 0 | K91: 0 | L91: 0 | M91: 0
B92: 外國籍 | C92: Foreigner | D92: 0 | E92: 0 | F92: 0 | G92: 0 | H92: 0 | I92: 0 | J92: 0 | K92: 0 | L92: 0 | M92: 0
A93: 女 Female | B93: 計 | C93: Subtotal | D93: 201 | E93: 2 | F93: 1 | G93: 52 | H93: 78 | I93: 78 | J93: 91 | K93: 3 | L93: 75 | M93: 5
B94: 本國籍 | C94: National | D94: 191 | E94: 2 | F94: 1 | G94: 51 | H94: 74 | I94: 78 | J94: 90 | K94: 3 | L94: 74 | M94: 5
B95: 一般民眾 | C95: General | D95: 189 | E95: 2 | F95: 1 | G95: 51 | H95: 74 | I95: 71 | J95: 86 | K95: 3 | L95: 71 | M95: 5
B96: 原住民 | C96: Indigenous | D96: 2 | E96: 0 | F96: 0 | G96: 0 | H96: 0 | I96: 7 | J96: 4 | K96: 0 | L96: 3 | M96: 0
B97: 大陸籍(含港澳) | C97: Mainlander | D97: 7 | E97: 0 | F97: 0 | G97: 0 | H97: 3 | I97: 0 | J97: 1 | K97: 0 | L97: 1 | M97: 0
B98: 外國籍 | C98: Foreigner | D98: 3 | E98: 0 | F98: 0 | G98: 1 | H98: 1 | I98: 0 | J98: 0 | K98: 0 | L98: 0 | M98: 0
A99: 宜蘭縣 | C99: Yilan County | D99: 174 | E99: 0 | F99: 21 | G99: 19 | H99: 13 | I99: 5 | J99: 10 | K99: 2 | L99: 32 | M99: 0
A100: 男 Male | B100: 計 | C100: Subtotal | D100: 24 | E100: 0 | F100: 11 | G100: 0 | H100: 1 | I100: 0 | J100: 3 | K100: 1 | L100: 0 | M100: 0
...

Sheet Q4, 2025
A1: 特殊境遇家庭符合款項 Conditions of Families in Hardship
A2: 114年第4季 Q4, 2025
A3: 單位：人 Unit:Persons
A4: 地區、性別及設籍別 Locality, Sex & Identity | D4: 符 合 特 殊 境 遇 家 庭 扶 助 條 例 第 4 條 第 1 項 各 款 規 定 之 人 數 (可複選) Under one of the situations of Article 4,Item1 of Act of Assistance for women in Hardship (Multiple Options)
D5: 第 1 款 Clause1 | F5: 第 2 款 Clause2 | H5: 第 3 款 Clause3 | I5: 第 4 款 Clause4 | J5: 第 5 款 Clause5 | L5: 第 6 款 Clause6 | M5: 第7款 Clause7
D6: 65歲以下 且配偶死亡 | E6: 65歲以下且配偶失蹤經向警察機關報案協尋未獲達6個月以上 | F6: 因配偶惡意遺棄經判決離婚確定或已完成協議離婚登記 | G6: 受配偶不堪同居之虐待經判決離婚確定或已完成協議離婚登記 | H6: 家庭暴力受害 | I6: 未婚懷孕婦女,懷胎3個月以上至分娩2個月以內 | J6: 因離婚、喪偶、未婚生子獨自扶養18歲以下子女，其無工作能力，或雖有工作能力，因遭遇重大傷病或照顧6歲以下子女致不能工作 | K6: 獨自扶養18歲以下父母無力扶養之孫子女，其無工作能力，或雖有工作能力，因遭遇重大傷病或照顧6歲以下孫子女致不能工作 | L6: 配偶處1年以上之徒刑或受拘束人身自由之保安處分1年以上，且在執行中 | M6: 其他經直轄市、縣(市)政府評估，因3個月內生活發生重大變故導致生活、經濟困難者，且其重大變故非因個人責任、債務、非因自願性失業等事由
D7: Spouse is Dead | E7: Spouse is Missing | F7: Abandoned with Malice, and (had) Divorced by Judicial Decree | G7: Abused and (had) Divorced by Judicial Decree | H7: Domestic Violence | I7: Unmarried Pregnarcy from Over 3 Months to 2 Months after Accouchement | J7: Single Parent with No Working Ability or Unable to Work | K7: Grandparents with No Working Ability or Unable to Work | L7: Whose Spouse is Sentenced to Penal Servitude for Over 1 Year and in Prison | M7: Live in Hardship
A8: 總計 | C8: Total | D8: 6014 | E8: 17 | F8: 375 | G8: 1376 | H8: 1234 | I8: 687 | J8: 4475 | K8: 116 | L8: 963 | M8: 480
A9: 男 Male | B9: 計 | C9: Subtotal | D9: 732 | E9: 2 | F9: 99 | G9: 34 | H9: 95 | I9: 0 | J9: 704 | K9: 29 | L9: 46 | M9: 231
B10: 本國籍 | C10: National | D10: 696 | E10: 2 | F10: 98 | G10: 32 | H10: 90 | I10: 0 | J10: 697 | K10: 29 | L10: 46 | M10: 226
B11: 一般民眾 | C11: General | D11: 662 | E11: 2 | F11: 96 | G11: 32 | H11: 86 | I11: 0 | J11: 663 | K11: 27 | L11: 43 | M11: 209
B12: 原住民 | C12: Indigenous | D12: 34 | E12: 0 | F12: 2 | G12: 0 | H12: 4 | I12: 0 | J12: 34 | K12: 2 | L12: 3 | M12: 17
B13: 大陸籍(含港澳) | C13: Mainlander | D13: 19 | E13: 0 | F13: 1 | G13: 2 | H13: 1 | I13: 0 | J13: 4 | K13: 0 | L13: 0 | M13: 4
B14: 外國籍 | C14: Foreigner | D14: 17 | E14: 0 | F14: 0 | G14: 0 | H14: 4 | I14: 0 | J14: 3 | K14: 0 | L14: 0 | M14: 1
A15: 女 Female | B15: 計 | C15: Subtotal | D15: 5282 | E15: 15 | F15: 276 | G15: 1342 | H15: 1139 | I15: 687 | J15: 3771 | K15: 87 | L15: 917 | M15: 249
B16: 本國籍 | C16: National | D16: 5139 | E16: 15 | F16: 276 | G16: 1333 | H16: 1120 | I16: 686 | J16: 3756 | K16: 87 | L16: 905 | M16: 245
B17: 一般民眾 | C17: General | D17: 4987 | E17: 14 | F17: 265 | G17: 1303 | H17: 1070 | I17: 591 | J17: 3422 | K17: 76 | L17: 848 | M17: 227
B18: 原住民 | C18: Indigenous | D18: 152 | E18: 1 | F18: 11 | G18: 30 | H18: 50 | I18: 95 | J18: 334 | K18: 11 | L18: 57 | M18: 18
B19: 大陸籍(含港澳) | C19: Mainlander | D19: 69 | E19: 0 | F19: 0 | G19: 3 | H19: 9 | I19: 0 | J19: 6 | K19: 0 | L19: 7 | M19: 3
B20: 外國籍 | C20: Foreigner | D20: 74 | E20: 0 | F20: 0 | G20: 6 | H20: 10 | I20: 1 | J20: 9 | K20: 0 | L20: 5 | M20: 1
A21: 新北市 | C21: New Taipei City | D21: 180 | E21: 2 | F21: 7 | G21: 31 | H21: 266 | I21: 95 | J21: 395 | K21: 1 | L21: 109 | M21: 11
A22: 男 Male | B22: 計 | C22: Subtotal | D22: 18 | E22: 0 | F22: 4 | G22: 0 | H22: 10 | I22: 0 | J22: 45 | K22: 0 | L22: 1 | M22: 7
B23: 本國籍 | C23: National | D23: 18 | E23: 0 | F23: 4 | G23: 0 | H23: 10 | I23: 0 | J23: 45 | K23: 0 | L23: 1 | M23: 7
B24: 一般民眾 | C24: General | D24: 18 | E24: 0 | F24: 4 | G24: 0 | H24: 8 | I24: 0 | J24: 45 | K24: 0 | L24: 1 | M24: 7
B25: 原住民 | C25: Indigenous | D25: 0 | E25: 0 | F25: 0 | G25: 0 | H25: 2 | I25: 0 | J25: 0 | K25: 0 | L25: 0 | M25: 0
B26: 大陸籍(含港澳) | C26: Mainlander | D26: 0 | E26: 0 | F26: 0 | G26: 0 | H26: 0 | I26: 0 | J26: 0 | K26: 0 | L26: 0 | M26: 0
B27: 外國籍 | C27: Foreigner | D27: 0 | E27: 0 | F27: 0 | G27: 0 | H27: 0 | I27: 0 | J27: 0 | K27: 0 | L27: 0 | M27: 0
A28: 女 Female | B28: 計 | C28: Subtotal | D28: 162 | E28: 2 | F28: 3 | G28: 31 | H28: 256 | I28: 95 | J28: 350 | K28: 1 | L28: 108 | M28: 4
B29: 本國籍 | C29: National | D29: 157 | E29: 2 | F29: 3 | G29: 31 | H29: 254 | I29: 95 | J29: 349 | K29: 1 | L29: 104 | M29: 4
B30: 一般民眾 | C30: General | D30: 157 | E30: 2 | F30: 3 | G30: 31 | H30: 253 | I30: 90 | J30: 331 | K30: 1 | L30: 102 | M30: 4
B31: 原住民 | C31: Indigenous | D31: 0 | E31: 0 | F31: 0 | G31: 0 | H31: 1 | I31: 5 | J31: 18 | K31: 0 | L31: 2 | M31: 0
B32: 大陸籍(含港澳) | C32: Mainlander | D32: 3 | E32: 0 | F32: 0 | G32: 0 | H32: 0 | I32: 0 | J32: 1 | K32: 0 | L32: 1 | M32: 0
B33: 外國籍 | C33: Foreigner | D33: 2 | E33: 0 | F33: 0 | G33: 0 | H33: 2 | I33: 0 | J33: 0 | K33: 0 | L33: 3 | M33: 0
A34: 臺北市 | C34: Taipei City | D34: 242 | E34: 1 | F34: 23 | G34: 256 | H34: 153 | I34: 42 | J34: 435 | K34: 8 | L34: 40 | M34: 98
A35: 男 Male | B35: 計 | C35: Subtotal | D35: 33 | E35: 0 | F35: 0 | G35: 8 | H35: 17 | I35: 0 | J35: 50 | K35: 1 | L35: 3 | M35: 42
B36: 本國籍 | C36: National | D36: 29 | E36: 0 | F36: 0 | G36: 7 | H36: 16 | I36: 0 | J36: 50 | K36: 1 | L36: 3 | M36: 39
B37: 一般民眾 | C37: General | D37: 29 | E37: 0 | F37: 0 | G37: 7 | H37: 16 | I37: 0 | J37: 50 | K37: 1 | L37: 3 | M37: 39
B38: 原住民 | C38: Indigenous | D38: 0 | E38: 0 | F38: 0 | G38: 0 | H38: 0 | I38: 0 | J38: 0 | K38: 0 | L38: 0 | M38: 0
B39: 大陸籍(含港澳) | C39: Mainlander | D39: 3 | E39: 0 | F39: 0 | G39: 1 | H39: 1 | I39: 0 | J39: 0 | K39: 0 | L39: 0 | M39: 3
B40: 外國籍 | C40: Foreigner | D40: 1 | E40: 0 | F40: 0 | G40: 0 | H40: 0 | I40: 0 | J40: 0 | K40: 0 | L40: 0 | M40: 0
A41: 女 Female | B41: 計 | C41: Subtotal | D41: 209 | E41: 1 | F41: 23 | G41: 248 | H41: 136 | I41: 42 | J41: 385 | K41: 7 | L41: 37 | M41: 56
B42: 本國籍 | C42: National | D42: 204 | E42: 1 | F42: 23 | G42: 248 | H42: 131 | I42: 42 | J42: 382 | K42: 7 | L42: 37 | M42: 52
B43: 一般民眾 | C43: General | D43: 200 | E43: 1 | F43: 23 | G43: 245 | H43: 129 | I43: 39 | J43: 368 | K43: 6 | L43: 34 | M43: 51
B44: 原住民 | C44: Indigenous | D44: 4 | E44: 0 | F44: 0 | G44: 3 | H44: 2 | I44: 3 | J44: 14 | K44: 1 | L44: 3 | M44: 1
B45: 大陸籍(含港澳) | C45: Mainlander | D45: 4 | E45: 0 | F45: 0 | G45: 0 | H45: 3 | I45: 0 | J45: 2 | K45: 0 | L45: 0 | M45: 3
B46: 外國籍 | C46: Foreigner | D46: 1 | E46: 0 | F46: 0 | G46: 0 | H46: 2 | I46: 0 | J46: 1 | K46: 0 | L46: 0 | M46: 1
A47: 桃園市 | C47: Taoyuan City | D47: 603 | E47: 1 | F47: 42 | G47: 121 | H47: 18 | I47: 48 | J47: 132 | K47: 12 | L47: 103 | M47: 0
A48: 男 Male | B48: 計 | C48: Subtotal | D48: 77 | E48: 0 | F48: 15 | G48: 4 | H48: 3 | I48: 0 | J48: 13 | K48: 3 | L48: 4 | M48: 0
B49: 本國籍 | C49: National | D49: 76 | E49: 0 | F49: 15 | G49: 4 | H49: 2 | I49: 0 | J49: 13 | K49: 3 | L49: 4 | M49: 0
B50: 一般民眾 | C50: General | D50: 72 | E50: 0 | F50: 15 | G50: 4 | H50: 2 | I50: 0 | J50: 10 | K50: 3 | L50: 4 | M50: 0
B51: 原住民 | C51: Indigenous | D51: 4 | E51: 0 | F51: 0 | G51: 0 | H51: 0 | I51: 0 | J51: 3 | K51: 0 | L51: 0 | M51: 0
B52: 大陸籍(含港澳) | C52: Mainlander | D52: 0 | E52: 0 | F52: 0 | G52: 0 | H52: 0 | I52: 0 | J52: 0 | K52: 0 | L52: 0 | M52: 0
B53: 外國籍 | C53: Foreigner | D53: 1 | E53: 0 | F53: 0 | G53: 0 | H53: 1 | I53: 0 | J53: 0 | K53: 0 | L53: 0 | M53: 0
A54: 女 Female | B54: 計 | C54: Subtotal | D54: 526 | E54: 1 | F54: 27 | G54: 117 | H54: 15 | I54: 48 | J54: 119 | K54: 9 | L54: 99 | M54: 0
B55: 本國籍 | C55: National | D55: 516 | E55: 1 | F55: 27 | G55: 117 | H55: 15 | I55: 48 | J55: 119 | K55: 9 | L55: 99 | M55: 0
B56: 一般民眾 | C56: General | D56: 504 | E56: 1 | F56: 27 | G56: 112 | H56: 14 | I56: 39 | J56: 102 | K56: 8 | L56: 91 | M56: 0
B57: 原住民 | C57: Indigenous | D57: 12 | E57: 0 | F57: 0 | G57: 5 | H57: 1 | I57: 9 | J57: 17 | K57: 1 | L57: 8 | M57: 0
B58: 大陸籍(含港澳) | C58: Mainlander | D58: 9 | E58: 0 | F58: 0 | G58: 0 | H58: 0 | I58: 0 | J58: 0 | K58: 0 | L58: 0 | M58: 0
B59: 外國籍 | C59: Foreigner | D59: 1 | E59: 0 | F59: 0 | G59: 0 | H59: 0 | I59: 0 | J59: 0 | K59: 0 | L59: 0 | M59: 0
A60: 臺中市 | C60: Taichung City | D60: 1156 | E60: 5 | F60: 47 | G60: 209 | H60: 399 | I60: 114 | J60: 861 | K60: 8 | L60: 158 | M60: 86
A61: 男 Male | B61: 計 | C61: Subtotal | D61: 135 | E61: 1 | F61: 9 | G61: 5 | H61: 46 | I61: 0 | J61: 84 | K61: 2 | L61: 11 | M61: 38
B62: 本國籍 | C62: National | D62: 125 | E62: 1 | F62: 8 | G62: 4 | H62: 43 | I62: 0 | J62: 80 | K62: 2 | L62: 11 | M62: 36
B63: 一般民眾 | C63: General | D63: 121 | E63: 1 | F63: 7 | G63: 4 | H63: 42 | I63: 0 | J63: 77 | K63: 2 | L63: 9 | M63: 32
B64: 原住民 | C64: Indigenous | D64: 4 | E64: 0 | F64: 1 | G64: 0 | H64: 1 | I64: 0 | J64: 3 | K64: 0 | L64: 2 | M64: 4
B65: 大陸籍(含港澳) | C65: Mainlander | D65: 5 | E65: 0 | F65: 1 | G65: 1 | H65: 0 | I65: 0 | J65: 3 | K65: 0 | L65: 0 | M65: 1
B66: 外國籍 | C66: Foreigner | D66: 5 | E66: 0 | F66: 0 | G66: 0 | H66: 3 | I66: 0 | J66: 1 | K66: 0 | L66: 0 | M66: 1
A67: 女 Female | B67: 計 | C67: Subtotal | D67: 1021 | E67: 4 | F67: 38 | G67: 204 | H67: 353 | I67: 114 | J67: 777 | K67: 6 | L67: 147 | M67: 48
B68: 本國籍 | C68: National | D68: 982 | E68: 4 | F68: 38 | G68: 202 | H68: 351 | I68: 114 | J68: 769 | K68: 6 | L68: 144 | M68: 48
B69: 一般民眾 | C69: General | D69: 956 | E69: 4 | F69: 36 | G69: 199 | H69: 337 | I69: 98 | J69: 721 | K69: 5 | L69: 137 | M69: 47
B70: 原住民 | C70: Indigenous | D70: 26 | E70: 0 | F70: 2 | G70: 3 | H70: 14 | I70: 16 | J70: 48 | K70: 1 | L70: 7 | M70: 1
B71: 大陸籍(含港澳) | C71: Mainlander | D71: 12 | E71: 0 | F71: 0 | G71: 0 | H71: 1 | I71: 0 | J71: 2 | K71: 0 | L71: 2 | M71: 0
B72: 外國籍 | C72: Foreigner | D72: 27 | E72: 0 | F72: 0 | G72: 2 | H72: 1 | I72: 0 | J72: 6 | K72: 0 | L72: 1 | M72: 0
A73: 臺南市 | C73: Tainan City | D73: 674 | E73: 3 | F73: 22 | G73: 65 | H73: 42 | I73: 27 | J73: 24 | K73: 7 | L73: 85 | M73: 4
A74: 男 Male | B74: 計 | C74: Subtotal | D74: 103 | E74: 1 | F74: 4 | G74: 3 | H74: 1 | I74: 0 | J74: 3 | K74: 1 | L74: 5 | M74: 1
B75: 本國籍 | C75: National | D75: 96 | E75: 1 | F75: 4 | G75: 3 | H75: 1 | I75: 0 | J75: 3 | K75: 1 | L75: 5 | M75: 1
B76: 一般民眾 | C76: General | D76: 96 | E76: 1 | F76: 4 | G76: 3 | H76: 1 | I76: 0 | J76: 3 | K76: 1 | L76: 5 | M76: 1
B77: 原住民 | C77: Indigenous | D77: 0 | E77: 0 | F77: 0 | G77: 0 | H77: 0 | I77: 0 | J77: 0 | K77: 0 | L77: 0 | M77: 0
B78: 大陸籍(含港澳) | C78: Mainlander | D78: 3 | E78: 0 | F78: 0 | G78: 0 | H78: 0 | I78: 0 | J78: 0 | K78: 0 | L78: 0 | M78: 0
B79: 外國籍 | C79: Foreigner | D79: 4 | E79: 0 | F79: 0 | G79: 0 | H79: 0 | I79: 0 | J79: 0 | K79: 0 | L79: 0 | M79: 0
A80: 女 Female | B80: 計 | C80: Subtotal | D80: 571 | E80: 2 | F80: 18 | G80: 62 | H80: 41 | I80: 27 | J80: 21 | K80: 6 | L80: 80 | M80: 3
B81: 本國籍 | C81: National | D81: 560 | E81: 2 | F81: 18 | G81: 62 | H81: 41 | I81: 27 | J81: 21 | K81: 6 | L81: 78 | M81: 3
B82: 一般民眾 | C82: General | D82: 558 | E82: 2 | F82: 17 | G82: 62 | H82: 41 | I82: 26 | J82: 21 | K82: 6 | L82: 75 | M82: 2
B83: 原住民 | C83: Indigenous | D83: 2 | E83: 0 | F83: 1 | G83: 0 | H83: 0 | I83: 1 | J83: 0 | K83: 0 | L83: 3 | M83: 1
B84: 大陸籍(含港澳) | C84: Mainlander | D84: 5 | E84: 0 | F84: 0 | G84: 0 | H84: 0 | I84: 0 | J84: 0 | K84: 0 | L84: 1 | M84: 0
B85: 外國籍 | C85: Foreigner | D85: 6 | E85: 0 | F85: 0 | G85: 0 | H85: 0 | I85: 0 | J85: 0 | K85: 0 | L85: 1 | M85: 0
A86: 高雄市 | C86: Kaohsiung City | D86: 216 | E86: 2 | F86: 1 | G86: 53 | H86: 85 | I86: 78 | J86: 97 | K86: 5 | L86: 77 | M86: 6
A87: 男 Male | B87: 計 | C87: Subtotal | D87: 15 | E87: 0 | F87: 0 | G87: 1 | H87: 7 | I87: 0 | J87: 6 | K87: 2 | L87: 2 | M87: 1
B88: 本國籍 | C88: National | D88: 15 | E88: 0 | F88: 0 | G88: 1 | H88: 7 | I88: 0 | J88: 6 | K88: 2 | L88: 2 | M88: 1
B89: 一般民眾 | C89: General | D89: 14 | E89: 0 | F89: 0 | G89: 1 | H89: 6 | I89: 0 | J89: 6 | K89: 2 | L89: 2 | M89: 1
B90: 原住民 | C90: Indigenous | D90: 1 | E90: 0 | F90: 0 | G90: 0 | H90: 1 | I90: 0 | J90: 0 | K90: 0 | L90: 0 | M90: 0
B91: 大陸籍(含港澳) | C91: Mainlander | D91: 0 | E91: 0 | F91: 0 | G91: 0 | H91: 0 | I91: 0 | J91: 0 | K91: 0 | L91: 0 | M91: 0
B92: 外國籍 | C92: Foreigner | D92: 0 | E92: 0 | F92: 0 | G92: 0 | H92: 0 | I92: 0 | J92: 0 | K92: 0 | L92: 0 | M92: 0
A93: 女 Female | B93: 計 | C93: Subtotal | D93: 201 | E93: 2 | F93: 1 | G93: 52 | H93: 78 | I93: 78 | J93: 91 | K93: 3 | L93: 75 | M93: 5
B94: 本國籍 | C94: National | D94: 191 | E94: 2 | F94: 1 | G94: 51 | H94: 74 | I94: 78 | J94: 90 | K94: 3 | L94: 74 | M94: 5
B95: 一般民眾 | C95: General | D95: 189 | E95: 2 | F95: 1 | G95: 51 | H95: 74 | I95: 71 | J95: 86 | K95: 3 | L95: 71 | M95: 5
B96: 原住民 | C96: Indigenous | D96: 2 | E96: 0 | F96: 0 | G96: 0 | H96: 0 | I96: 7 | J96: 4 | K96: 0 | L96: 3 | M96: 0
B97: 大陸籍(含港澳) | C97: Mainlander | D97: 7 | E97: 0 | F97: 0 | G97: 0 | H97: 3 | I97: 0 | J97: 1 | K97: 0 | L97: 1 | M97: 0
B98: 外國籍 | C98: Foreigner | D98: 3 | E98: 0 | F98: 0 | G98: 1 | H98: 1 | I98: 0 | J98: 0 | K98: 0 | L98: 0 | M98: 0
A99: 宜蘭縣 | C99: Yilan County | D99: 174 | E99: 0 | F99: 21 | G99: 19 | H99: 13 | I99: 5 | J99: 10 | K99: 2 | L99: 32 | M99: 0
A100: 男 Male | B100: 計 | C100: Subtotal | D100: 24 | E100: 0 | F100: 11 | G100: 0 | H100: 1 | I100: 0 | J100: 3 | K100: 1 | L100: 0 | M100: 0
...

Sheet Q3, 2025
A1: 特殊境遇家庭符合款項 Conditions of Families in Hardship
A2: 114年第3季 Q3, 2025
A3: 單位：人 Unit:Persons | D3: =IF(D8=SUM(D21,D34,D47,D60,D73,D86,D99,D112,D125,D138,D151,D164,D177,D190,D203,D216,D229,D242,D255,D268,D281,D294),"","*") | E3: =IF(E8=SUM(E21,E34,E47,E60,E73,E86,E99,E112,E125,E138,E151,E164,E177,E190,E203,E216,E229,E242,E255,E268,E281,E294),"","*") | F3: =IF(F8=SUM(F21,F34,F47,F60,F73,F86,F99,F112,F125,F138,F151,F164,F177,F190,F203,F216,F229,F242,F255,F268,F281,F294),"","*") | G3: =IF(G8=SUM(G21,G34,G47,G60,G73,G86,G99,G112,G125,G138,G151,G164,G177,G190,G203,G216,G229,G242,G255,G268,G281,G294),"","*") | H3: =IF(H8=SUM(H21,H34,H47,H60,H73,H86,H99,H112,H125,H138,H151,H164,H177,H190,H203,H216,H229,H242,H255,H268,H281,H294),"","*") | I3: =IF(I8=SUM(I21,I34,I47,I60,I73,I86,I99,I112,I125,I138,I151,I164,I177,I190,I203,I216,I229,I242,I255,I268,I281,I294),"","*") | J3: =IF(J8=SUM(J21,J34,J47,J60,J73,J86,J99,J112,J125,J138,J151,J164,J177,J190,J203,J216,J229,J242,J255,J268,J281,J294),"","*") | K3: =IF(K8=SUM(K21,K34,K47,K60,K73,K86,K99,K112,K125,K138,K151,K164,K177,K190,K203,K216,K229,K242,K255,K268,K281,K294),"","*") | ... M3: =IF(M8=SUM(M21,M34,M47,M60,M73,M86,M99,M112,M125,M138,M151,M164,M177,M190,M203,M216,M229,M242,M255,M268,M281,M294),"","*")
A4: 地區、性別及設籍別 Locality, Sex & Identity | D4: 符 合 特 殊 境 遇 家 庭 扶 助 條 例 第 4 條 第 1 項 各 款 規 定 之 人 數 (可複選) Under one of the situations of Article 4,Item1 of Act of Assistance for Family in Hardship (Multiple Options)
D5: 第 1 款 Clause1 | F5: 第 2 款 Clause2 | H5: 第 3 款 Clause3 | I5: 第 4 款 Clause4 | J5: 第 5 款 Clause5 | L5: 第 6 款 Clause6 | M5: 第7款 Clause7
D6: 65歲以下 且配偶死亡 | E6: 65歲以下且配偶失蹤經向警察機關報案協尋未獲達6個月以上 | F6: 因配偶惡意遺棄經判決離婚確定或已完成協議離婚登記 | G6: 受配偶不堪同居之虐待經判決離婚確定或已完成協議離婚登記 | H6: 家庭暴力受害 | I6: 未婚懷孕婦女,懷胎3個月以上至分娩2個月以內 | J6: 因離婚、喪偶、未婚生子獨自扶養18歲以下子女，其無工作能力，或雖有工作能力，因遭遇重大傷病或照顧6歲以下子女致不能工作 | K6: 獨自扶養18歲以下父母無力扶養之孫子女，其無工作能力，或雖有工作能力，因遭遇重大傷病或照顧6歲以下孫子女致不能工作 | L6: 配偶處1年以上之徒刑或受拘束人身自由之保安處分1年以上，且在執行中 | M6: 其他經直轄市、縣(市)政府評估，因3個月內生活發生重大變故導致生活、經濟困難者，且其重大變故非因個人責任、債務、非因自願性失業等事由
D7: Spouse is Dead | E7: Spouse is Missing | F7: Abandoned with Malice, and (had) Divorced by Judicial Decree | G7: Abused and (had) Divorced by Judicial Decree | H7: Domestic Violence | I7: Unmarried Pregnarcy from Over 3 Months to 2 Months after Accouchement | J7: Single Parent with No Working Ability or Unable to Work | K7: Grandparents with No Working Ability or Unable to Work | L7: Whose Spouse is Sentenced to Penal Servitude for Over 1 Year and in Prison | M7: Live in Hardship
A8: 總計 | C8: Total | D8: 5761 | E8: 15 | F8: 368 | G8: 1324 | H8: 988 | I8: 525 | J8: 4011 | K8: 108 | L8: 868 | M8: 380
A9: 男 Male | B9: 計 | C9: Subtotal | D9: 698 | E9: 2 | F9: 97 | G9: 31 | H9: 77 | I9: 0 | J9: 609 | K9: 28 | L9: 39 | M9: 184
B10: 本國籍 | C10: National | D10: 670 | E10: 2 | F10: 96 | G10: 29 | H10: 72 | I10: 0 | J10: 607 | K10: 28 | L10: 39 | M10: 181
B11: 一般民眾 | C11: General | D11: 640 | E11: 2 | F11: 94 | G11: 29 | H11: 69 | I11: 0 | J11: 576 | K11: 26 | L11: 36 | M11: 164
B12: 原住民 | C12: Indigenous | D12: 30 | E12: 0 | F12: 2 | G12: 0 | H12: 3 | I12: 0 | J12: 31 | K12: 2 | L12: 3 | M12: 17
B13: 大陸籍(含港澳) | C13: Mainlander | D13: 13 | E13: 0 | F13: 1 | G13: 2 | H13: 1 | I13: 0 | J13: 1 | K13: 0 | L13: 0 | M13: 2
B14: 外國籍 | C14: Foreigner | D14: 15 | E14: 0 | F14: 0 | G14: 0 | H14: 4 | I14: 0 | J14: 1 | K14: 0 | L14: 0 | M14: 1
A15: 女 Female | B15: 計 | C15: Subtotal | D15: 5063 | E15: 13 | F15: 271 | G15: 1293 | H15: 911 | I15: 525 | J15: 3402 | K15: 80 | L15: 829 | M15: 196
B16: 本國籍 | C16: National | D16: 4927 | E16: 13 | F16: 271 | G16: 1284 | H16: 894 | I16: 524 | J16: 3391 | K16: 80 | L16: 817 | M16: 194
B17: 一般民眾 | C17: General | D17: 4782 | E17: 12 | F17: 260 | G17: 1256 | H17: 850 | I17: 449 | J17: 3086 | K17: 70 | L17: 767 | M17: 182
B18: 原住民 | C18: Indigenous | D18: 145 | E18: 1 | F18: 11 | G18: 28 | H18: 44 | I18: 75 | J18: 305 | K18: 10 | L18: 50 | M18: 12
B19: 大陸籍(含港澳) | C19: Mainlander | D19: 67 | E19: 0 | F19: 0 | G19: 3 | H19: 8 | I19: 0 | J19: 6 | K19: 0 | L19: 7 | M19: 2
B20: 外國籍 | C20: Foreigner | D20: 69 | E20: 0 | F20: 0 | G20: 6 | H20: 9 | I20: 1 | J20: 5 | K20: 0 | L20: 5 | M20: 0
A21: 新北市 | C21: New Taipei City | D21: 160 | E21: 1 | F21: 7 | G21: 30 | H21: 206 | I21: 72 | J21: 332 | K21: 1 | L21: 90 | M21: 6
A22: 男 Male | B22: 計 | C22: Subtotal | D22: 18 | E22: 0 | F22: 4 | G22: 0 | H22: 8 | I22: 0 | J22: 35 | K22: 0 | L22: 1 | M22: 3
B23: 本國籍 | C23: National | D23: 18 | E23: 0 | F23: 4 | G23: 0 | H23: 8 | I23: 0 | J23: 35 | K23: 0 | L23: 1 | M23: 3
B24: 一般民眾 | C24: General | D24: 18 | E24: 0 | F24: 4 | G24: 0 | H24: 6 | I24: 0 | J24: 35 | K24: 0 | L24: 1 | M24: 3
B25: 原住民 | C25: Indigenous | D25: 0 | E25: 0 | F25: 0 | G25: 0 | H25: 2 | I25: 0 | J25: 0 | K25: 0 | L25: 0 | M25: 0
B26: 大陸籍(含港澳) | C26: Mainlander | D26: 0 | E26: 0 | F26: 0 | G26: 0 | H26: 0 | I26: 0 | J26: 0 | K26: 0 | L26: 0 | M26: 0
B27: 外國籍 | C27: Foreigner | D27: 0 | E27: 0 | F27: 0 | G27: 0 | H27: 0 | I27: 0 | J27: 0 | K27: 0 | L27: 0 | M27: 0
A28: 女 Female | B28: 計 | C28: Subtotal | D28: 142 | E28: 1 | F28: 3 | G28: 30 | H28: 198 | I28: 72 | J28: 297 | K28: 1 | L28: 89 | M28: 3
B29: 本國籍 | C29: National | D29: 137 | E29: 1 | F29: 3 | G29: 30 | H29: 196 | I29: 72 | J29: 296 | K29: 1 | L29: 85 | M29: 3
B30: 一般民眾 | C30: General | D30: 137 | E30: 1 | F30: 3 | G30: 30 | H30: 195 | I30: 68 | J30: 279 | K30: 1 | L30: 85 | M30: 3
B31: 原住民 | C31: Indigenous | D31: 0 | E31: 0 | F31: 0 | G31: 0 | H31: 1 | I31: 4 | J31: 17 | K31: 0 | L31: 0 | M31: 0
B32: 大陸籍(含港澳) | C32: Mainlander | D32: 3 | E32: 0 | F32: 0 | G32: 0 | H32: 0 | I32: 0 | J32: 1 | K32: 0 | L32: 1 | M32: 0
B33: 外國籍 | C33: Foreigner | D33: 2 | E33: 0 | F33: 0 | G33: 0 | H33: 2 | I33: 0 | J33: 0 | K33: 0 | L33: 3 | M33: 0
A34: 臺北市 | C34: Taipei City | D34: 225 | E34: 1 | F34: 22 | G34: 244 | H34: 136 | I34: 34 | J34: 376 | K34: 8 | L34: 38 | M34: 66
A35: 男 Male | B35: 計 | C35: Subtotal | D35: 31 | E35: 0 | F35: 0 | G35: 6 | H35: 13 | I35: 0 | J35: 44 | K35: 1 | L35: 3 | M35: 26
B36: 本國籍 | C36: National | D36: 29 | E36: 0 | F36: 0 | G36: 5 | H36: 12 | I36: 0 | J36: 44 | K36: 1 | L36: 3 | M36: 25
B37: 一般民眾 | C37: General | D37: 29 | E37: 0 | F37: 0 | G37: 5 | H37: 12 | I37: 0 | J37: 44 | K37: 1 | L37: 3 | M37: 25
B38: 原住民 | C38: Indigenous | D38: 0 | E38: 0 | F38: 0 | G38: 0 | H38: 0 | I38: 0 | J38: 0 | K38: 0 | L38: 0 | M38: 0
B39: 大陸籍(含港澳) | C39: Mainlander | D39: 1 | E39: 0 | F39: 0 | G39: 1 | H39: 1 | I39: 0 | J39: 0 | K39: 0 | L39: 0 | M39: 1
B40: 外國籍 | C40: Foreigner | D40: 1 | E40: 0 | F40: 0 | G40: 0 | H40: 0 | I40: 0 | J40: 0 | K40: 0 | L40: 0 | M40: 0
A41: 女 Female | B41: 計 | C41: Subtotal | D41: 194 | E41: 1 | F41: 22 | G41: 238 | H41: 123 | I41: 34 | J41: 332 | K41: 7 | L41: 35 | M41: 40
B42: 本國籍 | C42: National | D42: 189 | E42: 1 | F42: 22 | G42: 238 | H42: 118 | I42: 34 | J42: 329 | K42: 7 | L42: 35 | M42: 38
B43: 一般民眾 | C43: General | D43: 185 | E43: 1 | F43: 22 | G43: 235 | H43: 116 | I43: 32 | J43: 316 | K43: 6 | L43: 32 | M43: 37
B44: 原住民 | C44: Indigenous | D44: 4 | E44: 0 | F44: 0 | G44: 3 | H44: 2 | I44: 2 | J44: 13 | K44: 1 | L44: 3 | M44: 1
B45: 大陸籍(含港澳) | C45: Mainlander | D45: 4 | E45: 0 | F45: 0 | G45: 0 | H45: 3 | I45: 0 | J45: 2 | K45: 0 | L45: 0 | M45: 2
B46: 外國籍 | C46: Foreigner | D46: 1 | E46: 0 | F46: 0 | G46: 0 | H46: 2 | I46: 0 | J46: 1 | K46: 0 | L46: 0 | M46: 0
A47: 桃園市 | C47: Taoyuan City | D47: 595 | E47: 1 | F47: 41 | G47: 117 | H47: 17 | I47: 34 | J47: 124 | K47: 10 | L47: 95 | M47: 0
A48: 男 Male | B48: 計 | C48: Subtotal | D48: 75 | E48: 0 | F48: 15 | G48: 4 | H48: 3 | I48: 0 | J48: 13 | K48: 3 | L48: 3 | M48: 0
B49: 本國籍 | C49: National | D49: 75 | E49: 0 | F49: 15 | G49: 4 | H49: 2 | I49: 0 | J49: 13 | K49: 3 | L49: 3 | M49: 0
B50: 一般民眾 | C50: General | D50: 71 | E50: 0 | F50: 15 | G50: 4 | H50: 2 | I50: 0 | J50: 10 | K50: 3 | L50: 3 | M50: 0
B51: 原住民 | C51: Indigenous | D51: 4 | E51: 0 | F51: 0 | G51: 0 | H51: 0 | I51: 0 | J51: 3 | K51: 0 | L51: 0 | M51: 0
B52: 大陸籍(含港澳) | C52: Mainlander | D52: 0 | E52: 0 | F52: 0 | G52: 0 | H52: 0 | I52: 0 | J52: 0 | K52: 0 | L52: 0 | M52: 0
B53: 外國籍 | C53: Foreigner | D53: 0 | E53: 0 | F53: 0 | G53: 0 | H53: 1 | I53: 0 | J53: 0 | K53: 0 | L53: 0 | M53: 0
A54: 女 Female | B54: 計 | C54: Subtotal | D54: 520 | E54: 1 | F54: 26 | G54: 113 | H54: 14 | I54: 34 | J54: 111 | K54: 7 | L54: 92 | M54: 0
B55: 本國籍 | C55: National | D55: 510 | E55: 1 | F55: 26 | G55: 113 | H55: 14 | I55: 34 | J55: 111 | K55: 7 | L55: 92 | M55: 0
B56: 一般民眾 | C56: General | D56: 498 | E56: 1 | F56: 26 | G56: 108 | H56: 14 | I56: 27 | J56: 95 | K56: 6 | L56: 84 | M56: 0
B57: 原住民 | C57: Indigenous | D57: 12 | E57: 0 | F57: 0 | G57: 5 | H57: 0 | I57: 7 | J57: 16 | K57: 1 | L57: 8 | M57: 0
B58: 大陸籍(含港澳) | C58: Mainlander | D58: 9 | E58: 0 | F58: 0 | G58: 0 | H58: 0 | I58: 0 | J58: 0 | K58: 0 | L58: 0 | M58: 0
B59: 外國籍 | C59: Foreigner | D59: 1 | E59: 0 | F59: 0 | G59: 0 | H59: 0 | I59: 0 | J59: 0 | K59: 0 | L59: 0 | M59: 0
A60: 臺中市 | C60: Taichung City | D60: 1107 | E60: 5 | F60: 47 | G60: 196 | H60: 309 | I60: 86 | J60: 764 | K60: 8 | L60: 140 | M60: 69
A61: 男 Male | B61: 計 | C61: Subtotal | D61: 128 | E61: 1 | F61: 9 | G61: 5 | H61: 36 | I61: 0 | J61: 72 | K61: 2 | L61: 9 | M61: 30
B62: 本國籍 | C62: National | D62: 118 | E62: 1 | F62: 8 | G62: 4 | H62: 33 | I62: 0 | J62: 71 | K62: 2 | L62: 9 | M62: 28
B63: 一般民眾 | C63: General | D63: 116 | E63: 1 | F63: 7 | G63: 4 | H63: 33 | I63: 0 | J63: 68 | K63: 2 | L63: 7 | M63: 24
B64: 原住民 | C64: Indigenous | D64: 2 | E64: 0 | F64: 1 | G64: 0 | H64: 0 | I64: 0 | J64: 3 | K64: 0 | L64: 2 | M64: 4
B65: 大陸籍(含港澳) | C65: Mainlander | D65: 5 | E65: 0 | F65: 1 | G65: 1 | H65: 0 | I65: 0 | J65: 1 | K65: 0 | L65: 0 | M65: 1
B66: 外國籍 | C66: Foreigner | D66: 5 | E66: 0 | F66: 0 | G66: 0 | H66: 3 | I66: 0 | J66: 0 | K66: 0 | L66: 0 | M66: 1
A67: 女 Female | B67: 計 | C67: Subtotal | D67: 979 | E67: 4 | F67: 38 | G67: 191 | H67: 273 | I67: 86 | J67: 692 | K67: 6 | L67: 131 | M67: 39
B68: 本國籍 | C68: National | D68: 944 | E68: 4 | F68: 38 | G68: 189 | H68: 272 | I68: 86 | J68: 688 | K68: 6 | L68: 128 | M68: 39
B69: 一般民眾 | C69: General | D69: 918 | E69: 4 | F69: 36 | G69: 187 | H69: 260 | I69: 72 | J69: 646 | K69: 5 | L69: 123 | M69: 38
B70: 原住民 | C70: Indigenous | D70: 26 | E70: 0 | F70: 2 | G70: 2 | H70: 12 | I70: 14 | J70: 42 | K70: 1 | L70: 5 | M70: 1
B71: 大陸籍(含港澳) | C71: Mainlander | D71: 12 | E71: 0 | F71: 0 | G71: 0 | H71: 1 | I71: 0 | J71: 2 | K71: 0 | L71: 2 | M71: 0
B72: 外國籍 | C72: Foreigner | D72: 23 | E72: 0 | F72: 0 | G72: 2 | H72: 0 | I72: 0 | J72: 2 | K72: 0 | L72: 1 | M72: 0
A73: 臺南市 | C73: Tainan City | D73: 647 | E73: 2 | F73: 22 | G73: 63 | H73: 33 | I73: 22 | J73: 24 | K73: 7 | L73: 77 | M73: 2
A74: 男 Male | B74: 計 | C74: Subtotal | D74: 100 | E74: 1 | F74: 4 | G74: 3 | H74: 0 | I74: 0 | J74: 3 | K74: 1 | L74: 3 | M74: 1
B75: 本國籍 | C75: National | D75: 93 | E75: 1 | F75: 4 | G75: 3 | H75: 0 | I75: 0 | J75: 3 | K75: 1 | L75: 3 | M75: 1
B76: 一般民眾 | C76: General | D76: 93 | E76: 1 | F76: 4 | G76: 3 | H76: 0 | I76: 0 | J76: 3 | K76: 1 | L76: 3 | M76: 1
B77: 原住民 | C77: Indigenous | D77: 0 | E77: 0 | F77: 0 | G77: 0 | H77: 0 | I77: 0 | J77: 0 | K77: 0 | L77: 0 | M77: 0
B78: 大陸籍(含港澳) | C78: Mainlander | D78: 3 | E78: 0 | F78: 0 | G78: 0 | H78: 0 | I78: 0 | J78: 0 | K78: 0 | L78: 0 | M78: 0
B79: 外國籍 | C79: Foreigner | D79: 4 | E79: 0 | F79: 0 | G79: 0 | H79: 0 | I79: 0 | J79: 0 | K79: 0 | L79: 0 | M79: 0
A80: 女 Female | B80: 計 | C80: Subtotal | D80: 547 | E80: 1 | F80: 18 | G80: 60 | H80: 33 | I80: 22 | J80: 21 | K80: 6 | L80: 74 | M80: 1
B81: 本國籍 | C81: National | D81: 536 | E81: 1 | F81: 18 | G81: 60 | H81: 33 | I81: 22 | J81: 21 | K81: 6 | L81: 72 | M81: 1
B82: 一般民眾 | C82: General | D82: 534 | E82: 1 | F82: 17 | G82: 60 | H82: 33 | I82: 21 | J82: 21 | K82: 6 | L82: 70 | M82: 0
B83: 原住民 | C83: Indigenous | D83: 2 | E83: 0 | F83: 1 | G83: 0 | H83: 0 | I83: 1 | J83: 0 | K83: 0 | L83: 2 | M83: 1
B84: 大陸籍(含港澳) | C84: Mainlander | D84: 5 | E84: 0 | F84: 0 | G84: 0 | H84: 0 | I84: 0 | J84: 0 | K84: 0 | L84: 1 | M84: 0
B85: 外國籍 | C85: Foreigner | D85: 6 | E85: 0 | F85: 0 | G85: 0 | H85: 0 | I85: 0 | J85: 0 | K85: 0 | L85: 1 | M85: 0
A86: 高雄市 | C86: Kaohsiung City | D86: 199 | E86: 2 | F86: 1 | G86: 51 | H86: 62 | I86: 61 | J86: 84 | K86: 4 | L86: 71 | M86: 5
A87: 男 Male | B87: 計 | C87: Subtotal | D87: 14 | E87: 0 | F87: 0 | G87: 1 | H87: 7 | I87: 0 | J87: 6 | K87: 2 | L87: 2 | M87: 1
B88: 本國籍 | C88: National | D88: 14 | E88: 0 | F88: 0 | G88: 1 | H88: 7 | I88: 0 | J88: 6 | K88: 2 | L88: 2 | M88: 1
B89: 一般民眾 | C89: General | D89: 13 | E89: 0 | F89: 0 | G89: 1 | H89: 6 | I89: 0 | J89: 6 | K89: 2 | L89: 2 | M89: 1
B90: 原住民 | C90: Indigenous | D90: 1 | E90: 0 | F90: 0 | G90: 0 | H90: 1 | I90: 0 | J90: 0 | K90: 0 | L90: 0 | M90: 0
B91: 大陸籍(含港澳) | C91: Mainlander | D91: 0 | E91: 0 | F91: 0 | G91: 0 | H91: 0 | I91: 0 | J91: 0 | K91: 0 | L91: 0 | M91: 0
B92: 外國籍 | C92: Foreigner | D92: 0 | E92: 0 | F92: 0 | G92: 0 | H92: 0 | I92: 0 | J92: 0 | K92: 0 | L92: 0 | M92: 0
A93: 女 Female | B93: 計 | C93: Subtotal | D93: 185 | E93: 2 | F93: 1 | G93: 50 | H93: 55 | I93: 61 | J93: 78 | K93: 2 | L93: 69 | M93: 4
B94: 本國籍 | C94: National | D94: 175 | E94: 2 | F94: 1 | G94: 49 | H94: 51 | I94: 61 | J94: 77 | K94: 2 | L94: 68 | M94: 4
B95: 一般民眾 | C95: General | D95: 173 | E95: 2 | F95: 1 | G95: 49 | H95: 51 | I95: 54 | J95: 73 | K95: 2 | L95: 65 | M95: 4
B96: 原住民 | C96: Indigenous | D96: 2 | E96: 0 | F96: 0 | G96: 0 | H96: 0 | I96: 7 | J96: 4 | K96: 0 | L96: 3 | M96: 0
B97: 大陸籍(含港澳) | C97: Mainlander | D97: 7 | E97: 0 | F97: 0 | G97: 0 | H97: 3 | I97: 0 | J97: 1 | K97: 0 | L97: 1 | M97: 0
B98: 外國籍 | C98: Foreigner | D98: 3 | E98: 0 | F98: 0 | G98: 1 | H98: 1 | I98: 0 | J98: 0 | K98: 0 | L98: 0 | M98: 0
A99: 宜蘭縣 | C99: Yilan County | D99: 168 | E99: 0 | F99: 20 | G99: 18 | H99: 8 | I99: 4 | J99: 9 | K99: 2 | L99: 29 | M99: 0
A100: 男 Male | B100: 計 | C100: Subtotal | D100: 23 | E100: 0 | F100: 10 | G100: 0 | H100: 0 | I100: 0 | J100: 2 | K100: 1 | L100: 0 | M100: 0
...

Sheet Q2, 2025
A1: 特殊境遇家庭符合款項 Conditions of Families in Hardship
A2: 114年第2季 Q2, 2025
A3: 單位：人 Unit:Persons | D3: =IF(D8=SUM(D21,D34,D47,D60,D73,D86,D99,D112,D125,D138,D151,D164,D177,D190,D203,D216,D229,D242,D255,D268,D281,D294),"","*") | E3: =IF(E8=SUM(E21,E34,E47,E60,E73,E86,E99,E112,E125,E138,E151,E164,E177,E190,E203,E216,E229,E242,E255,E268,E281,E294),"","*") | F3: =IF(F8=SUM(F21,F34,F47,F60,F73,F86,F99,F112,F125,F138,F151,F164,F177,F190,F203,F216,F229,F242,F255,F268,F281,F294),"","*") | G3: =IF(G8=SUM(G21,G34,G47,G60,G73,G86,G99,G112,G125,G138,G151,G164,G177,G190,G203,G216,G229,G242,G255,G268,G281,G294),"","*") | H3: =IF(H8=SUM(H21,H34,H47,H60,H73,H86,H99,H112,H125,H138,H151,H164,H177,H190,H203,H216,H229,H242,H255,H268,H281,H294),"","*") | I3: =IF(I8=SUM(I21,I34,I47,I60,I73,I86,I99,I112,I125,I138,I151,I164,I177,I190,I203,I216,I229,I242,I255,I268,I281,I294),"","*") | J3: =IF(J8=SUM(J21,J34,J47,J60,J73,J86,J99,J112,J125,J138,J151,J164,J177,J190,J203,J216,J229,J242,J255,J268,J281,J294),"","*") | K3: =IF(K8=SUM(K21,K34,K47,K60,K73,K86,K99,K112,K125,K138,K151,K164,K177,K190,K203,K216,K229,K242,K255,K268,K281,K294),"","*") | ... M3: =IF(M8=SUM(M21,M34,M47,M60,M73,M86,M99,M112,M125,M138,M151,M164,M177,M190,M203,M216,M229,M242,M255,M268,M281,M294),"","*")
A4: 地區、性別及設籍別 Locality, Sex & Identity | D4: 符 合 特 殊 境 遇 家 庭 扶 助 條 例 第 4 條 第 1 項 各 款 規 定 之 人 數 (可複選) Under one of the situations of Article 4,Item1 of Act of Assistance for Family in Hardship (Multiple Options)
D5: 第 1 款 Clause1 | F5: 第 2 款 Clause2 | H5: 第 3 款 Clause3 | I5: 第 4 款 Clause4 | J5: 第 5 款 Clause5 | L5: 第 6 款 Clause6 | M5: 第7款 Clause7
D6: 65歲以下 且配偶死亡 | E6: 65歲以下且配偶失蹤經向警察機關報案協尋未獲達6個月以上 | F6: 因配偶惡意遺棄經判決離婚確定或已完成協議離婚登記 | G6: 受配偶不堪同居之虐待經判決離婚確定或已完成協議離婚登記 | H6: 家庭暴力受害 | I6: 未婚懷孕婦女,懷胎3個月以上至分娩2個月以內 | J6: 因離婚、喪偶、未婚生子獨自扶養18歲以下子女，其無工作能力，或雖有工作能力，因遭遇重大傷病或照顧6歲以下子女致不能工作 | K6: 獨自扶養18歲以下父母無力扶養之孫子女，其無工作能力，或雖有工作能力，因遭遇重大傷病或照顧6歲以下孫子女致不能工作 | L6: 配偶處1年以上之徒刑或受拘束人身自由之保安處分1年以上，且在執行中 | M6: 其他經直轄市、縣(市)政府評估，因3個月內生活發生重大變故導致生活、經濟困難者，且其重大變故非因個人責任、債務、非因自願性失業等事由
D7: Spouse is Dead | E7: Spouse is Missing | F7: Abandoned with Malice, and (had) Divorced by Judicial Decree | G7: Abused and (had) Divorced by Judicial Decree | H7: Domestic Violence | I7: Unmarried Pregnarcy from Over 3 Months to 2 Months after Accouchement | J7: Single Parent with No Working Ability or Unable to Work | K7: Grandparents with No Working Ability or Unable to Work | L7: Whose Spouse is Sentenced to Penal Servitude for Over 1 Year and in Prison | M7: Live in Hardship
A8: 總計 | C8: Total | D8: 5485 | E8: 12 | F8: 350 | G8: 1249 | H8: 734 | I8: 349 | J8: 3594 | K8: 96 | L8: 746 | M8: 285
A9: 男 Male | B9: 計 | C9: Subtotal | D9: 669 | E9: 2 | F9: 93 | G9: 29 | H9: 47 | I9: 0 | J9: 534 | K9: 23 | L9: 35 | M9: 138
B10: 本國籍 | C10: National | D10: 642 | E10: 2 | F10: 92 | G10: 27 | H10: 44 | I10: 0 | J10: 532 | K10: 23 | L10: 35 | M10: 135
B11: 一般民眾 | C11: General | D11: 614 | E11: 2 | F11: 90 | G11: 27 | H11: 43 | I11: 0 | J11: 508 | K11: 22 | L11: 32 | M11: 121
B12: 原住民 | C12: Indigenous | D12: 28 | E12: 0 | F12: 2 | G12: 0 | H12: 1 | I12: 0 | J12: 24 | K12: 1 | L12: 3 | M12: 14
B13: 大陸籍(含港澳) | C13: Mainlander | D13: 12 | E13: 0 | F13: 1 | G13: 2 | H13: 0 | I13: 0 | J13: 1 | K13: 0 | L13: 0 | M13: 2
B14: 外國籍 | C14: Foreigner | D14: 15 | E14: 0 | F14: 0 | G14: 0 | H14: 3 | I14: 0 | J14: 1 | K14: 0 | L14: 0 | M14: 1
A15: 女 Female | B15: 計 | C15: Subtotal | D15: 4816 | E15: 10 | F15: 257 | G15: 1220 | H15: 687 | I15: 349 | J15: 3060 | K15: 73 | L15: 711 | M15: 147
B16: 本國籍 | C16: National | D16: 4684 | E16: 10 | F16: 257 | G16: 1211 | H16: 677 | I16: 348 | J16: 3049 | K16: 73 | L16: 703 | M16: 145
B17: 一般民眾 | C17: General | D17: 4553 | E17: 10 | F17: 247 | G17: 1186 | H17: 642 | I17: 295 | J17: 2780 | K17: 63 | L17: 658 | M17: 134
B18: 原住民 | C18: Indigenous | D18: 131 | E18: 0 | F18: 10 | G18: 25 | H18: 35 | I18: 53 | J18: 269 | K18: 10 | L18: 45 | M18: 11
B19: 大陸籍(含港澳) | C19: Mainlander | D19: 64 | E19: 0 | F19: 0 | G19: 3 | H19: 5 | I19: 0 | J19: 6 | K19: 0 | L19: 4 | M19: 2
B20: 外國籍 | C20: Foreigner | D20: 68 | E20: 0 | F20: 0 | G20: 6 | H20: 5 | I20: 1 | J20: 5 | K20: 0 | L20: 4 | M20: 0
A21: 新北市 | C21: New Taipei City | D21: 136 | E21: 1 | F21: 6 | G21: 23 | H21: 145 | I21: 46 | J21: 255 | K21: 1 | L21: 67 | M21: 4
A22: 男 Male | B22: 計 | C22: Subtotal | D22: 18 | E22: 0 | F22: 3 | G22: 0 | H22: 6 | I22: 0 | J22: 22 | K22: 0 | L22: 1 | M22: 3
B23: 本國籍 | C23: National | D23: 18 | E23: 0 | F23: 3 | G23: 0 | H23: 6 | I23: 0 | J23: 22 | K23: 0 | L23: 1 | M23: 3
B24: 一般民眾 | C24: General | D24: 18 | E24: 0 | F24: 3 | G24: 0 | H24: 6 | I24: 0 | J24: 22 | K24: 0 | L24: 1 | M24: 3
B25: 原住民 | C25: Indigenous | D25: 0 | E25: 0 | F25: 0 | G25: 0 | H25: 0 | I25: 0 | J25: 0 | K25: 0 | L25: 0 | M25: 0
B26: 大陸籍(含港澳) | C26: Mainlander | D26: 0 | E26: 0 | F26: 0 | G26: 0 | H26: 0 | I26: 0 | J26: 0 | K26: 0 | L26: 0 | M26: 0
B27: 外國籍 | C27: Foreigner | D27: 0 | E27: 0 | F27: 0 | G27: 0 | H27: 0 | I27: 0 | J27: 0 | K27: 0 | L27: 0 | M27: 0
A28: 女 Female | B28: 計 | C28: Subtotal | D28: 118 | E28: 1 | F28: 3 | G28: 23 | H28: 139 | I28: 46 | J28: 233 | K28: 1 | L28: 66 | M28: 1
B29: 本國籍 | C29: National | D29: 113 | E29: 1 | F29: 3 | G29: 23 | H29: 139 | I29: 46 | J29: 232 | K29: 1 | L29: 63 | M29: 1
B30: 一般民眾 | C30: General | D30: 113 | E30: 1 | F30: 3 | G30: 23 | H30: 138 | I30: 43 | J30: 220 | K30: 1 | L30: 63 | M30: 1
B31: 原住民 | C31: Indigenous | D31: 0 | E31: 0 | F31: 0 | G31: 0 | H31: 1 | I31: 3 | J31: 12 | K31: 0 | L31: 0 | M31: 0
B32: 大陸籍(含港澳) | C32: Mainlander | D32: 3 | E32: 0 | F32: 0 | G32: 0 | H32: 0 | I32: 0 | J32: 1 | K32: 0 | L32: 0 | M32: 0
B33: 外國籍 | C33: Foreigner | D33: 2 | E33: 0 | F33: 0 | G33: 0 | H33: 0 | I33: 0 | J33: 0 | K33: 0 | L33: 3 | M33: 0
A34: 臺北市 | C34: Taipei City | D34: 214 | E34: 0 | F34: 20 | G34: 229 | H34: 102 | I34: 23 | J34: 318 | K34: 7 | L34: 33 | M34: 46
A35: 男 Male | B35: 計 | C35: Subtotal | D35: 29 | E35: 0 | F35: 0 | G35: 4 | H35: 6 | I35: 0 | J35: 34 | K35: 1 | L35: 3 | M35: 19
B36: 本國籍 | C36: National | D36: 27 | E36: 0 | F36: 0 | G36: 3 | H36: 6 | I36: 0 | J36: 34 | K36: 1 | L36: 3 | M36: 18
B37: 一般民眾 | C37: General | D37: 27 | E37: 0 | F37: 0 | G37: 3 | H37: 6 | I37: 0 | J37: 34 | K37: 1 | L37: 3 | M37: 18
B38: 原住民 | C38: Indigenous | D38: 0 | E38: 0 | F38: 0 | G38: 0 | H38: 0 | I38: 0 | J38: 0 | K38: 0 | L38: 0 | M38: 0
B39: 大陸籍(含港澳) | C39: Mainlander | D39: 1 | E39: 0 | F39: 0 | G39: 1 | H39: 0 | I39: 0 | J39: 0 | K39: 0 | L39: 0 | M39: 1
B40: 外國籍 | C40: Foreigner | D40: 1 | E40: 0 | F40: 0 | G40: 0 | H40: 0 | I40: 0 | J40: 0 | K40: 0 | L40: 0 | M40: 0
A41: 女 Female | B41: 計 | C41: Subtotal | D41: 185 | E41: 0 | F41: 20 | G41: 225 | H41: 96 | I41: 23 | J41: 284 | K41: 6 | L41: 30 | M41: 27
B42: 本國籍 | C42: National | D42: 180 | E42: 0 | F42: 20 | G42: 225 | H42: 93 | I42: 23 | J42: 281 | K42: 6 | L42: 30 | M42: 25
B43: 一般民眾 | C43: General | D43: 177 | E43: 0 | F43: 20 | G43: 222 | H43: 92 | I43: 21 | J43: 271 | K43: 5 | L43: 28 | M43: 24
B44: 原住民 | C44: Indigenous | D44: 3 | E44: 0 | F44: 0 | G44: 3 | H44: 1 | I44: 2 | J44: 10 | K44: 1 | L44: 2 | M44: 1
B45: 大陸籍(含港澳) | C45: Mainlander | D45: 4 | E45: 0 | F45: 0 | G45: 0 | H45: 3 | I45: 0 | J45: 2 | K45: 0 | L45: 0 | M45: 2
B46: 外國籍 | C46: Foreigner | D46: 1 | E46: 0 | F46: 0 | G46: 0 | H46: 0 | I46: 0 | J46: 1 | K46: 0 | L46: 0 | M46: 0
A47: 桃園市 | C47: Taoyuan City | D47: 567 | E47: 1 | F47: 37 | G47: 113 | H47: 15 | I47: 22 | J47: 114 | K47: 8 | L47: 75 | M47: 0
A48: 男 Male | B48: 計 | C48: Subtotal | D48: 68 | E48: 0 | F48: 14 | G48: 4 | H48: 2 | I48: 0 | J48: 9 | K48: 1 | L48: 2 | M48: 0
B49: 本國籍 | C49: National | D49: 68 | E49: 0 | F49: 14 | G49: 4 | H49: 2 | I49: 0 | J49: 9 | K49: 1 | L49: 2 | M49: 0
B50: 一般民眾 | C50: General | D50: 64 | E50: 0 | F50: 14 | G50: 4 | H50: 2 | I50: 0 | J50: 9 | K50: 1 | L50: 2 | M50: 0
B51: 原住民 | C51: Indigenous | D51: 4 | E51: 0 | F51: 0 | G51: 0 | H51: 0 | I51: 0 | J51: 0 | K51: 0 | L51: 0 | M51: 0
B52: 大陸籍(含港澳) | C52: Mainlander | D52: 0 | E52: 0 | F52: 0 | G52: 0 | H52: 0 | I52: 0 | J52: 0 | K52: 0 | L52: 0 | M52: 0
B53: 外國籍 | C53: Foreigner | D53: 0 | E53: 0 | F53: 0 | G53: 0 | H53: 0 | I53: 0 | J53: 0 | K53: 0 | L53: 0 | M53: 0
A54: 女 Female | B54: 計 | C54: Subtotal | D54: 499 | E54: 1 | F54: 23 | G54: 109 | H54: 13 | I54: 22 | J54: 105 | K54: 7 | L54: 73 | M54: 0
B55: 本國籍 | C55: National | D55: 489 | E55: 1 | F55: 23 | G55: 109 | H55: 13 | I55: 22 | J55: 105 | K55: 7 | L55: 73 | M55: 0
B56: 一般民眾 | C56: General | D56: 477 | E56: 1 | F56: 23 | G56: 104 | H56: 13 | I56: 19 | J56: 91 | K56: 6 | L56: 66 | M56: 0
B57: 原住民 | C57: Indigenous | D57: 12 | E57: 0 | F57: 0 | G57: 5 | H57: 0 | I57: 3 | J57: 14 | K57: 1 | L57: 7 | M57: 0
B58: 大陸籍(含港澳) | C58: Mainlander | D58: 9 | E58: 0 | F58: 0 | G58: 0 | H58: 0 | I58: 0 | J58: 0 | K58: 0 | L58: 0 | M58: 0
B59: 外國籍 | C59: Foreigner | D59: 1 | E59: 0 | F59: 0 | G59: 0 | H59: 0 | I59: 0 | J59: 0 | K59: 0 | L59: 0 | M59: 0
A60: 臺中市 | C60: Taichung City | D60: 1065 | E60: 4 | F60: 45 | G60: 185 | H60: 225 | I60: 63 | J60: 700 | K60: 6 | L60: 121 | M60: 61
A61: 男 Male | B61: 計 | C61: Subtotal | D61: 124 | E61: 1 | F61: 9 | G61: 5 | H61: 22 | I61: 0 | J61: 68 | K61: 2 | L61: 8 | M61: 26
B62: 本國籍 | C62: National | D62: 115 | E62: 1 | F62: 8 | G62: 4 | H62: 19 | I62: 0 | J62: 67 | K62: 2 | L62: 8 | M62: 24
B63: 一般民眾 | C63: General | D63: 113 | E63: 1 | F63: 7 | G63: 4 | H63: 19 | I63: 0 | J63: 64 | K63: 2 | L63: 6 | M63: 20
B64: 原住民 | C64: Indigenous | D64: 2 | E64: 0 | F64: 1 | G64: 0 | H64: 0 | I64: 0 | J64: 3 | K64: 0 | L64: 2 | M64: 4
B65: 大陸籍(含港澳) | C65: Mainlander | D65: 4 | E65: 0 | F65: 1 | G65: 1 | H65: 0 | I65: 0 | J65: 1 | K65: 0 | L65: 0 | M65: 1
B66: 外國籍 | C66: Foreigner | D66: 5 | E66: 0 | F66: 0 | G66: 0 | H66: 3 | I66: 0 | J66: 0 | K66: 0 | L66: 0 | M66: 1
A67: 女 Female | B67: 計 | C67: Subtotal | D67: 941 | E67: 3 | F67: 36 | G67: 180 | H67: 203 | I67: 63 | J67: 632 | K67: 4 | L67: 113 | M67: 35
B68: 本國籍 | C68: National | D68: 907 | E68: 3 | F68: 36 | G68: 178 | H68: 202 | I68: 63 | J68: 628 | K68: 4 | L68: 110 | M68: 35
B69: 一般民眾 | C69: General | D69: 886 | E69: 3 | F69: 34 | G69: 176 | H69: 192 | I69: 51 | J69: 590 | K69: 3 | L69: 105 | M69: 34
B70: 原住民 | C70: Indigenous | D70: 21 | E70: 0 | F70: 2 | G70: 2 | H70: 10 | I70: 12 | J70: 38 | K70: 1 | L70: 5 | M70: 1
B71: 大陸籍(含港澳) | C71: Mainlander | D71: 12 | E71: 0 | F71: 0 | G71: 0 | H71: 1 | I71: 0 | J71: 2 | K71: 0 | L71: 2 | M71: 0
B72: 外國籍 | C72: Foreigner | D72: 22 | E72: 0 | F72: 0 | G72: 2 | H72: 0 | I72: 0 | J72: 2 | K72: 0 | L72: 1 | M72: 0
A73: 臺南市 | C73: Tainan City | D73: 624 | E73: 2 | F73: 22 | G73: 61 | H73: 29 | I73: 14 | J73: 20 | K73: 7 | L73: 72 | M73: 2
A74: 男 Male | B74: 計 | C74: Subtotal | D74: 100 | E74: 1 | F74: 4 | G74: 3 | H74: 0 | I74: 0 | J74: 2 | K74: 1 | L74: 3 | M74: 1
B75: 本國籍 | C75: National | D75: 93 | E75: 1 | F75: 4 | G75: 3 | H75: 0 | I75: 0 | J75: 2 | K75: 1 | L75: 3 | M75: 1
B76: 一般民眾 | C76: General | D76: 93 | E76: 1 | F76: 4 | G76: 3 | H76: 0 | I76: 0 | J76: 2 | K76: 1 | L76: 3 | M76: 1
B77: 原住民 | C77: Indigenous | D77: 0 | E77: 0 | F77: 0 | G77: 0 | H77: 0 | I77: 0 | J77: 0 | K77: 0 | L77: 0 | M77: 0
B78: 大陸籍(含港澳) | C78: Mainlander | D78: 3 | E78: 0 | F78: 0 | G78: 0 | H78: 0 | I78: 0 | J78: 0 | K78: 0 | L78: 0 | M78: 0
B79: 外國籍 | C79: Foreigner | D79: 4 | E79: 0 | F79: 0 | G79: 0 | H79: 0 | I79: 0 | J79: 0 | K79: 0 | L79: 0 | M79: 0
A80: 女 Female | B80: 計 | C80: Subtotal | D80: 524 | E80: 1 | F80: 18 | G80: 58 | H80: 29 | I80: 14 | J80: 18 | K80: 6 | L80: 69 | M80: 1
B81: 本國籍 | C81: National | D81: 513 | E81: 1 | F81: 18 | G81: 58 | H81: 29 | I81: 14 | J81: 18 | K81: 6 | L81: 68 | M81: 1
B82: 一般民眾 | C82: General | D82: 511 | E82: 1 | F82: 17 | G82: 58 | H82: 29 | I82: 13 | J82: 18 | K82: 6 | L82: 66 | M82: 0
B83: 原住民 | C83: Indigenous | D83: 2 | E83: 0 | F83: 1 | G83: 0 | H83: 0 | I83: 1 | J83: 0 | K83: 0 | L83: 2 | M83: 1
B84: 大陸籍(含港澳) | C84: Mainlander | D84: 5 | E84: 0 | F84: 0 | G84: 0 | H84: 0 | I84: 0 | J84: 0 | K84: 0 | L84: 1 | M84: 0
B85: 外國籍 | C85: Foreigner | D85: 6 | E85: 0 | F85: 0 | G85: 0 | H85: 0 | I85: 0 | J85: 0 | K85: 0 | L85: 0 | M85: 0
A86: 高雄市 | C86: Kaohsiung City | D86: 176 | E86: 2 | F86: 1 | G86: 48 | H86: 36 | I86: 38 | J86: 76 | K86: 3 | L86: 62 | M86: 3
A87: 男 Male | B87: 計 | C87: Subtotal | D87: 12 | E87: 0 | F87: 0 | G87: 1 | H87: 4 | I87: 0 | J87: 6 | K87: 2 | L87: 2 | M87: 1
B88: 本國籍 | C88: National | D88: 12 | E88: 0 | F88: 0 | G88: 1 | H88: 4 | I88: 0 | J88: 6 | K88: 2 | L88: 2 | M88: 1
B89: 一般民眾 | C89: General | D89: 11 | E89: 0 | F89: 0 | G89: 1 | H89: 3 | I89: 0 | J89: 6 | K89: 2 | L89: 2 | M89: 1
B90: 原住民 | C90: Indigenous | D90: 1 | E90: 0 | F90: 0 | G90: 0 | H90: 1 | I90: 0 | J90: 0 | K90: 0 | L90: 0 | M90: 0
B91: 大陸籍(含港澳) | C91: Mainlander | D91: 0 | E91: 0 | F91: 0 | G91: 0 | H91: 0 | I91: 0 | J91: 0 | K91: 0 | L91: 0 | M91: 0
B92: 外國籍 | C92: Foreigner | D92: 0 | E92: 0 | F92: 0 | G92: 0 | H92: 0 | I92: 0 | J92: 0 | K92: 0 | L92: 0 | M92: 0
A93: 女 Female | B93: 計 | C93: Subtotal | D93: 164 | E93: 2 | F93: 1 | G93: 47 | H93: 32 | I93: 38 | J93: 70 | K93: 1 | L93: 60 | M93: 2
B94: 本國籍 | C94: National | D94: 154 | E94: 2 | F94: 1 | G94: 46 | H94: 31 | I94: 38 | J94: 69 | K94: 1 | L94: 59 | M94: 2
B95: 一般民眾 | C95: General | D95: 152 | E95: 2 | F95: 1 | G95: 46 | H95: 31 | I95: 34 | J95: 66 | K95: 1 | L95: 56 | M95: 2
B96: 原住民 | C96: Indigenous | D96: 2 | E96: 0 | F96: 0 | G96: 0 | H96: 0 | I96: 4 | J96: 3 | K96: 0 | L96: 3 | M96: 0
B97: 大陸籍(含港澳) | C97: Mainlander | D97: 7 | E97: 0 | F97: 0 | G97: 0 | H97: 0 | I97: 0 | J97: 1 | K97: 0 | L97: 1 | M97: 0
B98: 外國籍 | C98: Foreigner | D98: 3 | E98: 0 | F98: 0 | G98: 1 | H98: 1 | I98: 0 | J98: 0 | K98: 0 | L98: 0 | M98: 0
A99: 宜蘭縣 | C99: Yilan County | D99: 165 | E99: 0 | F99: 20 | G99: 18 | H99: 6 | I99: 2 | J99: 9 | K99: 2 | L99: 28 | M99: 0
A100: 男 Male | B100: 計 | C100: Subtotal | D100: 23 | E100: 0 | F100: 10 | G100: 0 | H100: 0 | I100: 0 | J100: 2 | K100: 1 | L100: 0 | M100: 0
...

Sheet Q1, 2025
A1: 特殊境遇家庭符合款項 Conditions of Families in Hardship
A2: 114年第1季 Q1, 2025
A3: 單位：人 Unit:Persons | D3: =IF(D8=SUM(D21,D34,D47,D60,D73,D86,D99,D112,D125,D138,D151,D164,D177,D190,D203,D216,D229,D242,D255,D268,D281,D294),"","*") | E3: =IF(E8=SUM(E21,E34,E47,E60,E73,E86,E99,E112,E125,E138,E151,E164,E177,E190,E203,E216,E229,E242,E255,E268,E281,E294),"","*") | F3: =IF(F8=SUM(F21,F34,F47,F60,F73,F86,F99,F112,F125,F138,F151,F164,F177,F190,F203,F216,F229,F242,F255,F268,F281,F294),"","*") | G3: =IF(G8=SUM(G21,G34,G47,G60,G73,G86,G99,G112,G125,G138,G151,G164,G177,G190,G203,G216,G229,G242,G255,G268,G281,G294),"","*") | H3: =IF(H8=SUM(H21,H34,H47,H60,H73,H86,H99,H112,H125,H138,H151,H164,H177,H190,H203,H216,H229,H242,H255,H268,H281,H294),"","*") | I3: =IF(I8=SUM(I21,I34,I47,I60,I73,I86,I99,I112,I125,I138,I151,I164,I177,I190,I203,I216,I229,I242,I255,I268,I281,I294),"","*") | J3: =IF(J8=SUM(J21,J34,J47,J60,J73,J86,J99,J112,J125,J138,J151,J164,J177,J190,J203,J216,J229,J242,J255,J268,J281,J294),"","*") | K3: =IF(K8=SUM(K21,K34,K47,K60,K73,K86,K99,K112,K125,K138,K151,K164,K177,K190,K203,K216,K229,K242,K255,K268,K281,K294),"","*") | ... M3: =IF(M8=SUM(M21,M34,M47,M60,M73,M86,M99,M112,M125,M138,M151,M164,M177,M190,M203,M216,M229,M242,M255,M268,M281,M294),"","*")
A4: 地區、性別及設籍別 Locality, Sex & Identity | D4: 符 合 特 殊 境 遇 家 庭 扶 助 條 例 第 4 條 第 1 項 各 款 規 定 之 人 數 (可複選) Under one of the situations of Article 4,Item1 of Act of Assistance for Family in Hardship (Multiple Options)
D5: 第 1 款 Clause1 | F5: 第 2 款 Clause2 | H5: 第 3 款 Clause3 | I5: 第 4 款 Clause4 | J5: 第 5 款 Clause5 | L5: 第 6 款 Clause6 | M5: 第7款 Clause7
D6: 65歲以下 且配偶死亡 | E6: 65歲以下且配偶失蹤經向警察機關報案協尋未獲達6個月以上 | F6: 因配偶惡意遺棄經判決離婚確定或已完成協議離婚登記 | G6: 受配偶不堪同居之虐待經判決離婚確定或已完成協議離婚登記 | H6: 家庭暴力受害 | I6: 未婚懷孕婦女,懷胎3個月以上至分娩2個月以內 | J6: 因離婚、喪偶、未婚生子獨自扶養18歲以下子女，其無工作能力，或雖有工作能力，因遭遇重大傷病或照顧6歲以下子女致不能工作 | K6: 獨自扶養18歲以下父母無力扶養之孫子女，其無工作能力，或雖有工作能力，因遭遇重大傷病或照顧6歲以下孫子女致不能工作 | L6: 配偶處1年以上之徒刑或受拘束人身自由之保安處分1年以上，且在執行中 | M6: 其他經直轄市、縣(市)政府評估，因3個月內生活發生重大變故導致生活、經濟困難者，且其重大變故非因個人責任、債務、非因自願性失業等事由
D7: Spouse is Dead | E7: Spouse is Missing | F7: Abandoned with Malice, and (had) Divorced by Judicial Decree | G7: Abused and (had) Divorced by Judicial Decree | H7: Domestic Violence | I7: Unmarried Pregnarcy from Over 3 Months to 2 Months after Accouchement | J7: Single Parent with No Working Ability or Unable to Work | K7: Grandparents with No Working Ability or Unable to Work | L7: Whose Spouse is Sentenced to Penal Servitude for Over 1 Year and in Prison | M7: Live in Hardship
A8: 總計 | C8: Total | D8: 5260 | E8: 9 | F8: 339 | G8: 1190 | H8: 481 | I8: 188 | J8: 3113 | K8: 83 | L8: 617 | M8: 184
A9: 男 Male | B9: 計 | C9: Subtotal | D9: 636 | E9: 1 | F9: 92 | G9: 29 | H9: 23 | I9: 0 | J9: 463 | K9: 18 | L9: 32 | M9: 84
B10: 本國籍 | C10: National | D10: 613 | E10: 1 | F10: 91 | G10: 27 | H10: 23 | I10: 0 | J10: 463 | K10: 18 | L10: 32 | M10: 81
B11: 一般民眾 | C11: General | D11: 588 | E11: 1 | F11: 89 | G11: 27 | H11: 22 | I11: 0 | J11: 444 | K11: 17 | L11: 29 | M11: 76
B12: 原住民 | C12: Indigenous | D12: 25 | E12: 0 | F12: 2 | G12: 0 | H12: 1 | I12: 0 | J12: 19 | K12: 1 | L12: 3 | M12: 5
B13: 大陸籍(含港澳) | C13: Mainlander | D13: 10 | E13: 0 | F13: 1 | G13: 2 | H13: 0 | I13: 0 | J13: 0 | K13: 0 | L13: 0 | M13: 2
B14: 外國籍 | C14: Foreigner | D14: 13 | E14: 0 | F14: 0 | G14: 0 | H14: 0 | I14: 0 | J14: 0 | K14: 0 | L14: 0 | M14: 1
A15: 女 Female | B15: 計 | C15: Subtotal | D15: 4624 | E15: 8 | F15: 247 | G15: 1161 | H15: 458 | I15: 188 | J15: 2650 | K15: 65 | L15: 585 | M15: 100
B16: 本國籍 | C16: National | D16: 4507 | E16: 8 | F16: 247 | G16: 1153 | H16: 452 | I16: 187 | J16: 2639 | K16: 65 | L16: 578 | M16: 98
B17: 一般民眾 | C17: General | D17: 4390 | E17: 8 | F17: 237 | G17: 1130 | H17: 430 | I17: 159 | J17: 2402 | K17: 57 | L17: 543 | M17: 91
B18: 原住民 | C18: Indigenous | D18: 117 | E18: 0 | F18: 10 | G18: 23 | H18: 22 | I18: 28 | J18: 237 | K18: 8 | L18: 35 | M18: 7
B19: 大陸籍(含港澳) | C19: Mainlander | D19: 57 | E19: 0 | F19: 0 | G19: 3 | H19: 4 | I19: 0 | J19: 6 | K19: 0 | L19: 3 | M19: 2
B20: 外國籍 | C20: Foreigner | D20: 60 | E20: 0 | F20: 0 | G20: 5 | H20: 2 | I20: 1 | J20: 5 | K20: 0 | L20: 4 | M20: 0
A21: 新北市 | C21: New Taipei City | D21: 118 | E21: 1 | F21: 6 | G21: 19 | H21: 69 | I21: 25 | J21: 171 | K21: 1 | L21: 34 | M21: 3
A22: 男 Male | B22: 計 | C22: Subtotal | D22: 14 | E22: 0 | F22: 3 | G22: 0 | H22: 4 | I22: 0 | J22: 14 | K22: 0 | L22: 1 | M22: 2
B23: 本國籍 | C23: National | D23: 14 | E23: 0 | F23: 3 | G23: 0 | H23: 4 | I23: 0 | J23: 14 | K23: 0 | L23: 1 | M23: 2
B24: 一般民眾 | C24: General | D24: 14 | E24: 0 | F24: 3 | G24: 0 | H24: 4 | I24: 0 | J24: 14 | K24: 0 | L24: 1 | M24: 2
B25: 原住民 | C25: Indigenous | D25: 0 | E25: 0 | F25: 0 | G25: 0 | H25: 0 | I25: 0 | J25: 0 | K25: 0 | L25: 0 | M25: 0
B26: 大陸籍(含港澳) | C26: Mainlander | D26: 0 | E26: 0 | F26: 0 | G26: 0 | H26: 0 | I26: 0 | J26: 0 | K26: 0 | L26: 0 | M26: 0
B27: 外國籍 | C27: Foreigner | D27: 0 | E27: 0 | F27: 0 | G27: 0 | H27: 0 | I27: 0 | J27: 0 | K27: 0 | L27: 0 | M27: 0
A28: 女 Female | B28: 計 | C28: Subtotal | D28: 104 | E28: 1 | F28: 3 | G28: 19 | H28: 65 | I28: 25 | J28: 157 | K28: 1 | L28: 33 | M28: 1
B29: 本國籍 | C29: National | D29: 101 | E29: 1 | F29: 3 | G29: 19 | H29: 65 | I29: 25 | J29: 156 | K29: 1 | L29: 30 | M29: 1
B30: 一般民眾 | C30: General | D30: 101 | E30: 1 | F30: 3 | G30: 19 | H30: 64 | I30: 23 | J30: 151 | K30: 1 | L30: 30 | M30: 1
B31: 原住民 | C31: Indigenous | D31: 0 | E31: 0 | F31: 0 | G31: 0 | H31: 1 | I31: 2 | J31: 5 | K31: 0 | L31: 0 | M31: 0
B32: 大陸籍(含港澳) | C32: Mainlander | D32: 1 | E32: 0 | F32: 0 | G32: 0 | H32: 0 | I32: 0 | J32: 1 | K32: 0 | L32: 0 | M32: 0
B33: 外國籍 | C33: Foreigner | D33: 2 | E33: 0 | F33: 0 | G33: 0 | H33: 0 | I33: 0 | J33: 0 | K33: 0 | L33: 3 | M33: 0
A34: 臺北市 | C34: Taipei City | D34: 203 | E34: 0 | F34: 19 | G34: 215 | H34: 75 | I34: 18 | J34: 244 | K34: 7 | L34: 25 | M34: 25
A35: 男 Male | B35: 計 | C35: Subtotal | D35: 27 | E35: 0 | F35: 0 | G35: 4 | H35: 1 | I35: 0 | J35: 25 | K35: 1 | L35: 3 | M35: 11
B36: 本國籍 | C36: National | D36: 26 | E36: 0 | F36: 0 | G36: 3 | H36: 1 | I36: 0 | J36: 25 | K36: 1 | L36: 3 | M36: 10
B37: 一般民眾 | C37: General | D37: 26 | E37: 0 | F37: 0 | G37: 3 | H37: 1 | I37: 0 | J37: 25 | K37: 1 | L37: 3 | M37: 10
B38: 原住民 | C38: Indigenous | D38: 0 | E38: 0 | F38: 0 | G38: 0 | H38: 0 | I38: 0 | J38: 0 | K38: 0 | L38: 0 | M38: 0
B39: 大陸籍(含港澳) | C39: Mainlander | D39: 1 | E39: 0 | F39: 0 | G39: 1 | H39: 0 | I39: 0 | J39: 0 | K39: 0 | L39: 0 | M39: 1
B40: 外國籍 | C40: Foreigner | D40: 0 | E40: 0 | F40: 0 | G40: 0 | H40: 0 | I40: 0 | J40: 0 | K40: 0 | L40: 0 | M40: 0
A41: 女 Female | B41: 計 | C41: Subtotal | D41: 176 | E41: 0 | F41: 19 | G41: 211 | H41: 74 | I41: 18 | J41: 219 | K41: 6 | L41: 22 | M41: 14
B42: 本國籍 | C42: National | D42: 171 | E42: 0 | F42: 19 | G42: 211 | H42: 72 | I42: 18 | J42: 216 | K42: 6 | L42: 22 | M42: 12
B43: 一般民眾 | C43: General | D43: 168 | E43: 0 | F43: 19 | G43: 209 | H43: 72 | I43: 16 | J43: 209 | K43: 5 | L43: 20 | M43: 11
B44: 原住民 | C44: Indigenous | D44: 3 | E44: 0 | F44: 0 | G44: 2 | H44: 0 | I44: 2 | J44: 7 | K44: 1 | L44: 2 | M44: 1
B45: 大陸籍(含港澳) | C45: Mainlander | D45: 4 | E45: 0 | F45: 0 | G45: 0 | H45: 2 | I45: 0 | J45: 2 | K45: 0 | L45: 0 | M45: 2
B46: 外國籍 | C46: Foreigner | D46: 1 | E46: 0 | F46: 0 | G46: 0 | H46: 0 | I46: 0 | J46: 1 | K46: 0 | L46: 0 | M46: 0
A47: 桃園市 | C47: Taoyuan City | D47: 553 | E47: 1 | F47: 36 | G47: 111 | H47: 11 | I47: 10 | J47: 106 | K47: 7 | L47: 68 | M47: 0
A48: 男 Male | B48: 計 | C48: Subtotal | D48: 68 | E48: 0 | F48: 14 | G48: 4 | H48: 1 | I48: 0 | J48: 9 | K48: 1 | L48: 2 | M48: 0
B49: 本國籍 | C49: National | D49: 68 | E49: 0 | F49: 14 | G49: 4 | H49: 1 | I49: 0 | J49: 9 | K49: 1 | L49: 2 | M49: 0
B50: 一般民眾 | C50: General | D50: 64 | E50: 0 | F50: 14 | G50: 4 | H50: 1 | I50: 0 | J50: 9 | K50: 1 | L50: 2 | M50: 0
B51: 原住民 | C51: Indigenous | D51: 4 | E51: 0 | F51: 0 | G51: 0 | H51: 0 | I51: 0 | J51: 0 | K51: 0 | L51: 0 | M51: 0
B52: 大陸籍(含港澳) | C52: Mainlander | D52: 0 | E52: 0 | F52: 0 | G52: 0 | H52: 0 | I52: 0 | J52: 0 | K52: 0 | L52: 0 | M52: 0
B53: 外國籍 | C53: Foreigner | D53: 0 | E53: 0 | F53: 0 | G53: 0 | H53: 0 | I53: 0 | J53: 0 | K53: 0 | L53: 0 | M53: 0
A54: 女 Female | B54: 計 | C54: Subtotal | D54: 485 | E54: 1 | F54: 22 | G54: 107 | H54: 10 | I54: 10 | J54: 97 | K54: 6 | L54: 66 | M54: 0
B55: 本國籍 | C55: National | D55: 475 | E55: 1 | F55: 22 | G55: 107 | H55: 10 | I55: 10 | J55: 97 | K55: 6 | L55: 66 | M55: 0
B56: 一般民眾 | C56: General | D56: 464 | E56: 1 | F56: 22 | G56: 102 | H56: 10 | I56: 8 | J56: 83 | K56: 5 | L56: 59 | M56: 0
B57: 原住民 | C57: Indigenous | D57: 11 | E57: 0 | F57: 0 | G57: 5 | H57: 0 | I57: 2 | J57: 14 | K57: 1 | L57: 7 | M57: 0
B58: 大陸籍(含港澳) | C58: Mainlander | D58: 9 | E58: 0 | F58: 0 | G58: 0 | H58: 0 | I58: 0 | J58: 0 | K58: 0 | L58: 0 | M58: 0
B59: 外國籍 | C59: Foreigner | D59: 1 | E59: 0 | F59: 0 | G59: 0 | H59: 0 | I59: 0 | J59: 0 | K59: 0 | L59: 0 | M59: 0
A60: 臺中市 | C60: Taichung City | D60: 1028 | E60: 3 | F60: 44 | G60: 177 | H60: 144 | I60: 33 | J60: 609 | K60: 4 | L60: 96 | M60: 39
A61: 男 Male | B61: 計 | C61: Subtotal | D61: 115 | E61: 1 | F61: 9 | G61: 5 | H61: 10 | I61: 0 | J61: 57 | K61: 1 | L61: 7 | M61: 17
B62: 本國籍 | C62: National | D62: 106 | E62: 1 | F62: 8 | G62: 4 | H62: 10 | I62: 0 | J62: 57 | K62: 1 | L62: 7 | M62: 15
B63: 一般民眾 | C63: General | D63: 105 | E63: 1 | F63: 7 | G63: 4 | H63: 10 | I63: 0 | J63: 54 | K63: 1 | L63: 5 | M63: 13
B64: 原住民 | C64: Indigenous | D64: 1 | E64: 0 | F64: 1 | G64: 0 | H64: 0 | I64: 0 | J64: 3 | K64: 0 | L64: 2 | M64: 2
B65: 大陸籍(含港澳) | C65: Mainlander | D65: 4 | E65: 0 | F65: 1 | G65: 1 | H65: 0 | I65: 0 | J65: 0 | K65: 0 | L65: 0 | M65: 1
B66: 外國籍 | C66: Foreigner | D66: 5 | E66: 0 | F66: 0 | G66: 0 | H66: 0 | I66: 0 | J66: 0 | K66: 0 | L66: 0 | M66: 1
A67: 女 Female | B67: 計 | C67: Subtotal | D67: 913 | E67: 2 | F67: 35 | G67: 172 | H67: 134 | I67: 33 | J67: 552 | K67: 3 | L67: 89 | M67: 22
B68: 本國籍 | C68: National | D68: 883 | E68: 2 | F68: 35 | G68: 170 | H68: 133 | I68: 33 | J68: 548 | K68: 3 | L68: 87 | M68: 22
B69: 一般民眾 | C69: General | D69: 863 | E69: 2 | F69: 33 | G69: 168 | H69: 128 | I69: 26 | J69: 512 | K69: 2 | L69: 83 | M69: 21
B70: 原住民 | C70: Indigenous | D70: 20 | E70: 0 | F70: 2 | G70: 2 | H70: 5 | I70: 7 | J70: 36 | K70: 1 | L70: 4 | M70: 1
B71: 大陸籍(含港澳) | C71: Mainlander | D71: 11 | E71: 0 | F71: 0 | G71: 0 | H71: 1 | I71: 0 | J71: 2 | K71: 0 | L71: 1 | M71: 0
B72: 外國籍 | C72: Foreigner | D72: 19 | E72: 0 | F72: 0 | G72: 2 | H72: 0 | I72: 0 | J72: 2 | K72: 0 | L72: 1 | M72: 0
A73: 臺南市 | C73: Tainan City | D73: 610 | E73: 0 | F73: 21 | G73: 60 | H73: 24 | I73: 11 | J73: 20 | K73: 6 | L73: 65 | M73: 1
A74: 男 Male | B74: 計 | C74: Subtotal | D74: 99 | E74: 0 | F74: 4 | G74: 3 | H74: 0 | I74: 0 | J74: 2 | K74: 0 | L74: 3 | M74: 0
B75: 本國籍 | C75: National | D75: 92 | E75: 0 | F75: 4 | G75: 3 | H75: 0 | I75: 0 | J75: 2 | K75: 0 | L75: 3 | M75: 0
B76: 一般民眾 | C76: General | D76: 92 | E76: 0 | F76: 4 | G76: 3 | H76: 0 | I76: 0 | J76: 2 | K76: 0 | L76: 3 | M76: 0
B77: 原住民 | C77: Indigenous | D77: 0 | E77: 0 | F77: 0 | G77: 0 | H77: 0 | I77: 0 | J77: 0 | K77: 0 | L77: 0 | M77: 0
B78: 大陸籍(含港澳) | C78: Mainlander | D78: 3 | E78: 0 | F78: 0 | G78: 0 | H78: 0 | I78: 0 | J78: 0 | K78: 0 | L78: 0 | M78: 0
B79: 外國籍 | C79: Foreigner | D79: 4 | E79: 0 | F79: 0 | G79: 0 | H79: 0 | I79: 0 | J79: 0 | K79: 0 | L79: 0 | M79: 0
A80: 女 Female | B80: 計 | C80: Subtotal | D80: 511 | E80: 0 | F80: 17 | G80: 57 | H80: 24 | I80: 11 | J80: 18 | K80: 6 | L80: 62 | M80: 1
B81: 本國籍 | C81: National | D81: 500 | E81: 0 | F81: 17 | G81: 57 | H81: 24 | I81: 11 | J81: 18 | K81: 6 | L81: 61 | M81: 1
B82: 一般民眾 | C82: General | D82: 498 | E82: 0 | F82: 16 | G82: 57 | H82: 24 | I82: 11 | J82: 18 | K82: 6 | L82: 59 | M82: 0
B83: 原住民 | C83: Indigenous | D83: 2 | E83: 0 | F83: 1 | G83: 0 | H83: 0 | I83: 0 | J83: 0 | K83: 0 | L83: 2 | M83: 1
B84: 大陸籍(含港澳) | C84: Mainlander | D84: 5 | E84: 0 | F84: 0 | G84: 0 | H84: 0 | I84: 0 | J84: 0 | K84: 0 | L84: 1 | M84: 0
B85: 外國籍 | C85: Foreigner | D85: 6 | E85: 0 | F85: 0 | G85: 0 | H85: 0 | I85: 0 | J85: 0 | K85: 0 | L85: 0 | M85: 0
A86: 高雄市 | C86: Kaohsiung City | D86: 158 | E86: 2 | F86: 1 | G86: 45 | H86: 20 | I86: 13 | J86: 61 | K86: 3 | L86: 51 | M86: 2
A87: 男 Male | B87: 計 | C87: Subtotal | D87: 12 | E87: 0 | F87: 0 | G87: 1 | H87: 2 | I87: 0 | J87: 5 | K87: 2 | L87: 2 | M87: 0
B88: 本國籍 | C88: National | D88: 12 | E88: 0 | F88: 0 | G88: 1 | H88: 2 | I88: 0 | J88: 5 | K88: 2 | L88: 2 | M88: 0
B89: 一般民眾 | C89: General | D89: 11 | E89: 0 | F89: 0 | G89: 1 | H89: 1 | I89: 0 | J89: 5 | K89: 2 | L89: 2 | M89: 0
B90: 原住民 | C90: Indigenous | D90: 1 | E90: 0 | F90: 0 | G90: 0 | H90: 1 | I90: 0 | J90: 0 | K90: 0 | L90: 0 | M90: 0
B91: 大陸籍(含港澳) | C91: Mainlander | D91: 0 | E91: 0 | F91: 0 | G91: 0 | H91: 0 | I91: 0 | J91: 0 | K91: 0 | L91: 0 | M91: 0
B92: 外國籍 | C92: Foreigner | D92: 0 | E92: 0 | F92: 0 | G92: 0 | H92: 0 | I92: 0 | J92: 0 | K92: 0 | L92: 0 | M92: 0
A93: 女 Female | B93: 計 | C93: Subtotal | D93: 146 | E93: 2 | F93: 1 | G93: 44 | H93: 18 | I93: 13 | J93: 56 | K93: 1 | L93: 49 | M93: 2
B94: 本國籍 | C94: National | D94: 138 | E94: 2 | F94: 1 | G94: 44 | H94: 18 | I94: 13 | J94: 55 | K94: 1 | L94: 48 | M94: 2
B95: 一般民眾 | C95: General | D95: 137 | E95: 2 | F95: 1 | G95: 44 | H95: 18 | I95: 12 | J95: 54 | K95: 1 | L95: 46 | M95: 2
B96: 原住民 | C96: Indigenous | D96: 1 | E96: 0 | F96: 0 | G96: 0 | H96: 0 | I96: 1 | J96: 1 | K96: 0 | L96: 2 | M96: 0
B97: 大陸籍(含港澳) | C97: Mainlander | D97: 6 | E97: 0 | F97: 0 | G97: 0 | H97: 0 | I97: 0 | J97: 1 | K97: 0 | L97: 1 | M97: 0
B98: 外國籍 | C98: Foreigner | D98: 2 | E98: 0 | F98: 0 | G98: 0 | H98: 0 | I98: 0 | J98: 0 | K98: 0 | L98: 0 | M98: 0
A99: 宜蘭縣 | C99: Yilan County | D99: 161 | E99: 0 | F99: 20 | G99: 17 | H99: 5 | I99: 1 | J99: 9 | K99: 2 | L99: 25 | M99: 0
A100: 男 Male | B100: 計 | C100: Subtotal | D100: 23 | E100: 0 | F100: 10 | G100: 0 | H100: 0 | I100: 0 | J100: 2 | K100: 1 | L100: 0 | M100: 0
...

Sheet 2024
A1: 特殊境遇家庭符合款項 Conditions of Families in Hardship
A2: 113年,2024
A3: 單位：人 Unit:Persons
A4: 地區、性別及設籍別 Locality, Sex & Identity | D4: 符 合 特 殊 境 遇 家 庭 扶 助 條 例 第 4 條 第 1 項 各 款 規 定 之 人 數 (可複選) Under one of the situations of Article 4,Item1 of Act of Assistance for women in Hardship (Multiple Options)
D5: 第 1 款 Clause1 | F5: 第 2 款 Clause2 | H5: 第 3 款 Clause3 | I5: 第 4 款 Clause4 | J5: 第 5 款 Clause5 | L5: 第 6 款 Clause6 | M5: 第7款 Clause7
D6: 65歲以下 且配偶死亡 | E6: 65歲以下且配偶失蹤經向警察機關報案協尋未獲達6個月以上 | F6: 因配偶惡意遺棄經判決離婚確定或已完成協議離婚登記 | G6: 受配偶不堪同居之虐待經判決離婚確定或已完成協議離婚登記 | H6: 家庭暴力受害 | I6: 未婚懷孕婦女,懷胎3個月以上至分娩2個月以內 | J6: 因離婚、喪偶、未婚生子獨自扶養18歲以下子女，其無工作能力，或雖有工作能力，因遭遇重大傷病或照顧6歲以下子女致不能工作 | K6: 獨自扶養18歲以下父母無力扶養之孫子女，其無工作能力，或雖有工作能力，因遭遇重大傷病或照顧6歲以下孫子女致不能工作 | L6: 配偶處1年以上之徒刑或受拘束人身自由之保安處分1年以上，且在執行中 | M6: 其他經直轄市、縣(市)政府評估，因3個月內生活發生重大變故導致生活、經濟困難者，且其重大變故非因個人責任、債務、非因自願性失業等事由
D7: Spouse is Dead | E7: Spouse is Missing | F7: Abandoned with Malice, and (had) Divorced by Judicial Decree | G7: Abused and (had) Divorced by Judicial Decree | H7: Domestic Violence | I7: Unmarried Pregnarcy from Over 3 Months to 2 Months after Accouchement | J7: Single Parent with No Working Ability or Unable to Work | K7: Grandparents with No Working Ability or Unable to Work | L7: Whose Spouse is Sentenced to Penal Servitude for Over 1 Year and in Prison | M7: Live in Hardship
A8: 總計 | C8: Total | D8: 6751 | E8: 15 | F8: 438 | G8: 1446 | H8: 1213 | I8: 947 | J8: 4700 | K8: 123 | L8: 921 | M8: 517
A9: 男 Male | B9: 計 | C9: Subtotal | D9: 821 | E9: 2 | F9: 106 | G9: 36 | H9: 83 | I9: 0 | J9: 648 | K9: 29 | L9: 54 | M9: 215
B10: 本國籍 | C10: National | D10: 789 | E10: 2 | F10: 105 | G10: 34 | H10: 78 | I10: 0 | J10: 647 | K10: 29 | L10: 53 | M10: 213
B11: 一般民眾 | C11: General | D11: 756 | E11: 2 | F11: 103 | G11: 34 | H11: 74 | I11: 0 | J11: 611 | K11: 26 | L11: 50 | M11: 196
B12: 原住民 | C12: Indigenous | D12: 33 | E12: 0 | F12: 2 | G12: 0 | H12: 4 | I12: 0 | J12: 36 | K12: 3 | L12: 3 | M12: 17
B13: 大陸籍(含港澳) | C13: Mainlander | D13: 16 | E13: 0 | F13: 1 | G13: 2 | H13: 1 | I13: 0 | J13: 1 | K13: 0 | L13: 1 | M13: 1
B14: 外國籍 | C14: Foreigner | D14: 16 | E14: 0 | F14: 0 | G14: 0 | H14: 4 | I14: 0 | J14: 0 | K14: 0 | L14: 0 | M14: 1
A15: 女 Female | B15: 計 | C15: Subtotal | D15: 5930 | E15: 13 | F15: 332 | G15: 1410 | H15: 1130 | I15: 947 | J15: 4052 | K15: 94 | L15: 867 | M15: 302
B16: 本國籍 | C16: National | D16: 5766 | E16: 13 | F16: 323 | G16: 1391 | H16: 1115 | I16: 943 | J16: 4032 | K16: 94 | L16: 859 | M16: 295
B17: 一般民眾 | C17: General | D17: 5606 | E17: 10 | F17: 301 | G17: 1362 | H17: 1061 | I17: 820 | J17: 3679 | K17: 80 | L17: 803 | M17: 274
B18: 原住民 | C18: Indigenous | D18: 160 | E18: 3 | F18: 22 | G18: 29 | H18: 54 | I18: 123 | J18: 353 | K18: 14 | L18: 56 | M18: 21
B19: 大陸籍(含港澳) | C19: Mainlander | D19: 84 | E19: 0 | F19: 9 | G19: 10 | H19: 7 | I19: 3 | J19: 10 | K19: 0 | L19: 6 | M19: 4
B20: 外國籍 | C20: Foreigner | D20: 80 | E20: 0 | F20: 0 | G20: 9 | H20: 8 | I20: 1 | J20: 10 | K20: 0 | L20: 2 | M20: 3
A21: 新北市 | C21: New Taipei City | D21: 216 | E21: 2 | F21: 6 | G21: 38 | H21: 176 | I21: 130 | J21: 395 | K21: 4 | L21: 85 | M21: 8
A22: 男 Male | B22: 計 | C22: Subtotal | D22: 27 | E22: 0 | F22: 1 | G22: 1 | H22: 11 | I22: 0 | J22: 33 | K22: 0 | L22: 8 | M22: 2
B23: 本國籍 | C23: National | D23: 27 | E23: 0 | F23: 1 | G23: 1 | H23: 11 | I23: 0 | J23: 33 | K23: 0 | L23: 8 | M23: 2
B24: 一般民眾 | C24: General | D24: 27 | E24: 0 | F24: 1 | G24: 1 | H24: 11 | I24: 0 | J24: 33 | K24: 0 | L24: 8 | M24: 2
B25: 原住民 | C25: Indigenous | D25: 0 | E25: 0 | F25: 0 | G25: 0 | H25: 0 | I25: 0 | J25: 0 | K25: 0 | L25: 0 | M25: 0
B26: 大陸籍(含港澳) | C26: Mainlander | D26: 0 | E26: 0 | F26: 0 | G26: 0 | H26: 0 | I26: 0 | J26: 0 | K26: 0 | L26: 0 | M26: 0
B27: 外國籍 | C27: Foreigner | D27: 0 | E27: 0 | F27: 0 | G27: 0 | H27: 0 | I27: 0 | J27: 0 | K27: 0 | L27: 0 | M27: 0
A28: 女 Female | B28: 計 | C28: Subtotal | D28: 189 | E28: 2 | F28: 5 | G28: 37 | H28: 165 | I28: 130 | J28: 362 | K28: 4 | L28: 77 | M28: 6
B29: 本國籍 | C29: National | D29: 184 | E29: 2 | F29: 5 | G29: 36 | H29: 164 | I29: 130 | J29: 358 | K29: 4 | L29: 76 | M29: 6
B30: 一般民眾 | C30: General | D30: 184 | E30: 2 | F30: 5 | G30: 36 | H30: 162 | I30: 126 | J30: 348 | K30: 2 | L30: 75 | M30: 6
B31: 原住民 | C31: Indigenous | D31: 0 | E31: 0 | F31: 0 | G31: 0 | H31: 2 | I31: 4 | J31: 10 | K31: 2 | L31: 1 | M31: 0
B32: 大陸籍(含港澳) | C32: Mainlander | D32: 2 | E32: 0 | F32: 0 | G32: 1 | H32: 0 | I32: 0 | J32: 3 | K32: 0 | L32: 0 | M32: 0
B33: 外國籍 | C33: Foreigner | D33: 3 | E33: 0 | F33: 0 | G33: 0 | H33: 1 | I33: 0 | J33: 1 | K33: 0 | L33: 1 | M33: 0
A34: 臺北市 | C34: Taipei City | D34: 274 | E34: 0 | F34: 26 | G34: 260 | H34: 190 | I34: 64 | J34: 448 | K34: 7 | L34: 36 | M34: 106
A35: 男 Male | B35: 計 | C35: Subtotal | D35: 40 | E35: 0 | F35: 0 | G35: 9 | H35: 11 | I35: 0 | J35: 48 | K35: 3 | L35: 6 | M35: 30
B36: 本國籍 | C36: National | D36: 38 | E36: 0 | F36: 0 | G36: 8 | H36: 9 | I36: 0 | J36: 47 | K36: 3 | L36: 6 | M36: 28
B37: 一般民眾 | C37: General | D37: 38 | E37: 0 | F37: 0 | G37: 8 | H37: 9 | I37: 0 | J37: 47 | K37: 3 | L37: 6 | M37: 28
B38: 原住民 | C38: Indigenous | D38: 0 | E38: 0 | F38: 0 | G38: 0 | H38: 0 | I38: 0 | J38: 0 | K38: 0 | L38: 0 | M38: 0
B39: 大陸籍(含港澳) | C39: Mainlander | D39: 2 | E39: 0 | F39: 0 | G39: 1 | H39: 0 | I39: 0 | J39: 1 | K39: 0 | L39: 0 | M39: 1
B40: 外國籍 | C40: Foreigner | D40: 0 | E40: 0 | F40: 0 | G40: 0 | H40: 2 | I40: 0 | J40: 0 | K40: 0 | L40: 0 | M40: 1
A41: 女 Female | B41: 計 | C41: Subtotal | D41: 234 | E41: 0 | F41: 26 | G41: 251 | H41: 179 | I41: 64 | J41: 400 | K41: 4 | L41: 30 | M41: 76
B42: 本國籍 | C42: National | D42: 222 | E42: 0 | F42: 26 | G42: 247 | H42: 174 | I42: 62 | J42: 391 | K42: 4 | L42: 29 | M42: 71
B43: 一般民眾 | C43: General | D43: 218 | E43: 0 | F43: 26 | G43: 245 | H43: 170 | I43: 58 | J43: 381 | K43: 4 | L43: 28 | M43: 69
B44: 原住民 | C44: Indigenous | D44: 4 | E44: 0 | F44: 0 | G44: 2 | H44: 4 | I44: 4 | J44: 10 | K44: 0 | L44: 1 | M44: 2
B45: 大陸籍(含港澳) | C45: Mainlander | D45: 9 | E45: 0 | F45: 0 | G45: 2 | H45: 2 | I45: 1 | J45: 4 | K45: 0 | L45: 1 | M45: 3
B46: 外國籍 | C46: Foreigner | D46: 3 | E46: 0 | F46: 0 | G46: 2 | H46: 3 | I46: 1 | J46: 5 | K46: 0 | L46: 0 | M46: 2
A47: 桃園市 | C47: Taoyuan City | D47: 722 | E47: 1 | F47: 43 | G47: 132 | H47: 24 | I47: 62 | J47: 214 | K47: 9 | L47: 102 | M47: 2
A48: 男 Male | B48: 計 | C48: Subtotal | D48: 80 | E48: 0 | F48: 15 | G48: 4 | H48: 1 | I48: 0 | J48: 13 | K48: 1 | L48: 3 | M48: 1
B49: 本國籍 | C49: National | D49: 78 | E49: 0 | F49: 15 | G49: 4 | H49: 1 | I49: 0 | J49: 13 | K49: 1 | L49: 3 | M49: 1
B50: 一般民眾 | C50: General | D50: 73 | E50: 0 | F50: 15 | G50: 4 | H50: 1 | I50: 0 | J50: 11 | K50: 1 | L50: 3 | M50: 1
B51: 原住民 | C51: Indigenous | D51: 5 | E51: 0 | F51: 0 | G51: 0 | H51: 0 | I51: 0 | J51: 2 | K51: 0 | L51: 0 | M51: 0
B52: 大陸籍(含港澳) | C52: Mainlander | D52: 1 | E52: 0 | F52: 0 | G52: 0 | H52: 0 | I52: 0 | J52: 0 | K52: 0 | L52: 0 | M52: 0
B53: 外國籍 | C53: Foreigner | D53: 1 | E53: 0 | F53: 0 | G53: 0 | H53: 0 | I53: 0 | J53: 0 | K53: 0 | L53: 0 | M53: 0
A54: 女 Female | B54: 計 | C54: Subtotal | D54: 642 | E54: 1 | F54: 28 | G54: 128 | H54: 23 | I54: 62 | J54: 201 | K54: 8 | L54: 99 | M54: 1
B55: 本國籍 | C55: National | D55: 623 | E55: 1 | F55: 28 | G55: 128 | H55: 23 | I55: 62 | J55: 201 | K55: 8 | L55: 98 | M55: 1
B56: 一般民眾 | C56: General | D56: 606 | E56: 1 | F56: 28 | G56: 123 | H56: 22 | I56: 52 | J56: 175 | K56: 7 | L56: 85 | M56: 1
B57: 原住民 | C57: Indigenous | D57: 17 | E57: 0 | F57: 0 | G57: 5 | H57: 1 | I57: 10 | J57: 26 | K57: 1 | L57: 13 | M57: 0
B58: 大陸籍(含港澳) | C58: Mainlander | D58: 11 | E58: 0 | F58: 0 | G58: 0 | H58: 0 | I58: 0 | J58: 0 | K58: 0 | L58: 0 | M58: 0
B59: 外國籍 | C59: Foreigner | D59: 8 | E59: 0 | F59: 0 | G59: 0 | H59: 0 | I59: 0 | J59: 0 | K59: 0 | L59: 1 | M59: 0
A60: 臺中市 | C60: Taichung City | D60: 1284 | E60: 5 | F60: 54 | G60: 205 | H60: 378 | I60: 173 | J60: 898 | K60: 9 | L60: 148 | M60: 72
A61: 男 Male | B61: 計 | C61: Subtotal | D61: 155 | E61: 2 | F61: 10 | G61: 4 | H61: 37 | I61: 0 | J61: 74 | K61: 2 | L61: 15 | M61: 25
B62: 本國籍 | C62: National | D62: 146 | E62: 2 | F62: 9 | G62: 3 | H62: 36 | I62: 0 | J62: 74 | K62: 2 | L62: 15 | M62: 25
B63: 一般民眾 | C63: General | D63: 144 | E63: 2 | F63: 8 | G63: 3 | H63: 33 | I63: 0 | J63: 71 | K63: 2 | L63: 13 | M63: 23
B64: 原住民 | C64: Indigenous | D64: 2 | E64: 0 | F64: 1 | G64: 0 | H64: 3 | I64: 0 | J64: 3 | K64: 0 | L64: 2 | M64: 2
B65: 大陸籍(含港澳) | C65: Mainlander | D65: 4 | E65: 0 | F65: 1 | G65: 1 | H65: 1 | I65: 0 | J65: 0 | K65: 0 | L65: 0 | M65: 0
B66: 外國籍 | C66: Foreigner | D66: 5 | E66: 0 | F66: 0 | G66: 0 | H66: 0 | I66: 0 | J66: 0 | K66: 0 | L66: 0 | M66: 0
A67: 女 Female | B67: 計 | C67: Subtotal | D67: 1129 | E67: 3 | F67: 44 | G67: 201 | H67: 341 | I67: 173 | J67: 824 | K67: 7 | L67: 133 | M67: 47
B68: 本國籍 | C68: National | D68: 1089 | E68: 3 | F68: 44 | G68: 198 | H68: 336 | I68: 173 | J68: 821 | K68: 7 | L68: 132 | M68: 47
B69: 一般民眾 | C69: General | D69: 1062 | E69: 2 | F69: 40 | G69: 194 | H69: 317 | I69: 158 | J69: 773 | K69: 6 | L69: 124 | M69: 46
B70: 原住民 | C70: Indigenous | D70: 27 | E70: 1 | F70: 4 | G70: 4 | H70: 19 | I70: 15 | J70: 48 | K70: 1 | L70: 8 | M70: 1
B71: 大陸籍(含港澳) | C71: Mainlander | D71: 17 | E71: 0 | F71: 0 | G71: 1 | H71: 3 | I71: 0 | J71: 1 | K71: 0 | L71: 1 | M71: 0
B72: 外國籍 | C72: Foreigner | D72: 23 | E72: 0 | F72: 0 | G72: 2 | H72: 2 | I72: 0 | J72: 2 | K72: 0 | L72: 0 | M72: 0
A73: 臺南市 | C73: Tainan City | D73: 782 | E73: 0 | F73: 32 | G73: 71 | H73: 48 | I73: 39 | J73: 36 | K73: 7 | L73: 86 | M73: 11
A74: 男 Male | B74: 計 | C74: Subtotal | D74: 115 | E74: 0 | F74: 4 | G74: 3 | H74: 0 | I74: 0 | J74: 3 | K74: 0 | L74: 4 | M74: 1
B75: 本國籍 | C75: National | D75: 107 | E75: 0 | F75: 4 | G75: 3 | H75: 0 | I75: 0 | J75: 3 | K75: 0 | L75: 4 | M75: 1
B76: 一般民眾 | C76: General | D76: 107 | E76: 0 | F76: 4 | G76: 3 | H76: 0 | I76: 0 | J76: 3 | K76: 0 | L76: 4 | M76: 1
B77: 原住民 | C77: Indigenous | D77: 0 | E77: 0 | F77: 0 | G77: 0 | H77: 0 | I77: 0 | J77: 0 | K77: 0 | L77: 0 | M77: 0
B78: 大陸籍(含港澳) | C78: Mainlander | D78: 4 | E78: 0 | F78: 0 | G78: 0 | H78: 0 | I78: 0 | J78: 0 | K78: 0 | L78: 0 | M78: 0
B79: 外國籍 | C79: Foreigner | D79: 4 | E79: 0 | F79: 0 | G79: 0 | H79: 0 | I79: 0 | J79: 0 | K79: 0 | L79: 0 | M79: 0
A80: 女 Female | B80: 計 | C80: Subtotal | D80: 667 | E80: 0 | F80: 28 | G80: 68 | H80: 48 | I80: 39 | J80: 33 | K80: 7 | L80: 82 | M80: 10
B81: 本國籍 | C81: National | D81: 651 | E81: 0 | F81: 28 | G81: 68 | H81: 48 | I81: 39 | J81: 33 | K81: 7 | L81: 81 | M81: 10
B82: 一般民眾 | C82: General | D82: 647 | E82: 0 | F82: 27 | G82: 68 | H82: 48 | I82: 38 | J82: 32 | K82: 7 | L82: 80 | M82: 9
B83: 原住民 | C83: Indigenous | D83: 4 | E83: 0 | F83: 1 | G83: 0 | H83: 0 | I83: 1 | J83: 1 | K83: 0 | L83: 1 | M83: 1
B84: 大陸籍(含港澳) | C84: Mainlander | D84: 8 | E84: 0 | F84: 0 | G84: 0 | H84: 0 | I84: 0 | J84: 0 | K84: 0 | L84: 1 | M84: 0
B85: 外國籍 | C85: Foreigner | D85: 8 | E85: 0 | F85: 0 | G85: 0 | H85: 0 | I85: 0 | J85: 0 | K85: 0 | L85: 0 | M85: 0
A86: 高雄市 | C86: Kaohsiung City | D86: 207 | E86: 2 | F86: 2 | G86: 65 | H86: 128 | I86: 87 | J86: 128 | K86: 3 | L86: 63 | M86: 8
A87: 男 Male | B87: 計 | C87: Subtotal | D87: 17 | E87: 0 | F87: 0 | G87: 1 | H87: 12 | I87: 0 | J87: 7 | K87: 2 | L87: 2 | M87: 1
B88: 本國籍 | C88: National | D88: 17 | E88: 0 | F88: 0 | G88: 1 | H88: 12 | I88: 0 | J88: 7 | K88: 2 | L88: 2 | M88: 1
B89: 一般民眾 | C89: General | D89: 15 | E89: 0 | F89: 0 | G89: 1 | H89: 12 | I89: 0 | J89: 7 | K89: 2 | L89: 2 | M89: 1
B90: 原住民 | C90: Indigenous | D90: 2 | E90: 0 | F90: 0 | G90: 0 | H90: 0 | I90: 0 | J90: 0 | K90: 0 | L90: 0 | M90: 0
B91: 大陸籍(含港澳) | C91: Mainlander | D91: 0 | E91: 0 | F91: 0 | G91: 0 | H91: 0 | I91: 0 | J91: 0 | K91: 0 | L91: 0 | M91: 0
B92: 外國籍 | C92: Foreigner | D92: 0 | E92: 0 | F92: 0 | G92: 0 | H92: 0 | I92: 0 | J92: 0 | K92: 0 | L92: 0 | M92: 0
A93: 女 Female | B93: 計 | C93: Subtotal | D93: 190 | E93: 2 | F93: 2 | G93: 64 | H93: 116 | I93: 87 | J93: 121 | K93: 1 | L93: 61 | M93: 7
B94: 本國籍 | C94: National | D94: 179 | E94: 2 | F94: 2 | G94: 63 | H94: 113 | I94: 87 | J94: 119 | K94: 1 | L94: 59 | M94: 6
B95: 一般民眾 | C95: General | D95: 178 | E95: 2 | F95: 2 | G95: 63 | H95: 111 | I95: 85 | J95: 116 | K95: 1 | L95: 59 | M95: 6
B96: 原住民 | C96: Indigenous | D96: 1 | E96: 0 | F96: 0 | G96: 0 | H96: 2 | I96: 2 | J96: 3 | K96: 0 | L96: 0 | M96: 0
B97: 大陸籍(含港澳) | C97: Mainlander | D97: 8 | E97: 0 | F97: 0 | G97: 1 | H97: 2 | I97: 0 | J97: 1 | K97: 0 | L97: 2 | M97: 1
B98: 外國籍 | C98: Foreigner | D98: 3 | E98: 0 | F98: 0 | G98: 0 | H98: 1 | I98: 0 | J98: 1 | K98: 0 | L98: 0 | M98: 0
A99: 宜蘭縣 | C99: Yilan County | D99: 178 | E99: 0 | F99: 22 | G99: 18 | H99: 5 | I99: 5 | J99: 18 | K99: 2 | L99: 29 | M99: 0
A100: 男 Male | B100: 計 | C100: Subtotal | D100: 24 | E100: 0 | F100: 10 | G100: 0 | H100: 0 | I100: 0 | J100: 2 | K100: 0 | L100: 0 | M100: 0
...

Sheet 2023
A1: 特殊境遇家庭符合款項 Conditions of Families in Hardship
A2: 112年,2023
A3: 單位：人 Unit:Persons
A4: 地區、性別及設籍別 Locality, Sex & Identity | D4: 符 合 特 殊 境 遇 家 庭 扶 助 條 例 第 4 條 第 1 項 各 款 規 定 之 人 數 (可複選) Under one of the situations of Article 4,Item1 of Act of Assistance for women in Hardship (Multiple Options)
D5: 第 1 款 Clause1 | F5: 第 2 款 Clause2 | H5: 第 3 款 Clause3 | I5: 第 4 款 Clause4 | J5: 第 5 款 Clause5 | L5: 第 6 款 Clause6 | M5: 第7款 Clause7
D6: 65歲以下 且配偶死亡 | E6: 65歲以下且配偶失蹤經向警察機關報案協尋未獲達6個月以上 | F6: 因配偶惡意遺棄經判決離婚確定或已完成協議離婚登記 | G6: 受配偶不堪同居之虐待經判決離婚確定或已完成協議離婚登記 | H6: 家庭暴力受害 | I6: 未婚懷孕婦女,懷胎3個月以上至分娩2個月以內 | J6: 因離婚、喪偶、未婚生子獨自扶養18歲以下子女，其無工作能力，或雖有工作能力，因遭遇重大傷病或照顧6歲以下子女致不能工作 | K6: 獨自扶養18歲以下父母無力扶養之孫子女，其無工作能力，或雖有工作能力，因遭遇重大傷病或照顧6歲以下孫子女致不能工作 | L6: 配偶處1年以上之徒刑或受拘束人身自由之保安處分1年以上，且在執行中 | M6: 其他經直轄市、縣(市)政府評估，因3個月內生活發生重大變故導致生活、經濟困難者，且其重大變故非因個人責任、債務、非因自願性失業等事由
D7: Spouse is Dead | E7: Spouse is Missing | F7: Abandoned with Malice, and (had) Divorced by Judicial Decree | G7: Abused and (had) Divorced by Judicial Decree | H7: Domestic Violence | I7: Unmarried Pregnarcy from Over 3 Months to 2 Months after Accouchement | J7: Single Parent with No Working Ability or Unable to Work | K7: Grandparents with No Working Ability or Unable to Work | L7: Whose Spouse is Sentenced to Penal Servitude for Over 1 Year and in Prison | M7: Live in Hardship
A8: 總計 | C8: Total | D8: 7350 | E8: 7 | F8: 523 | G8: 1483 | H8: 1152 | I8: 1038 | J8: 4674 | K8: 125 | L8: 846 | M8: 609
A9: 男 Male | B9: 計 | C9: Subtotal | D9: 892 | E9: 1 | F9: 119 | G9: 38 | H9: 48 | I9: 0 | J9: 622 | K9: 34 | L9: 30 | M9: 242
B10: 本國籍 | C10: National | D10: 854 | E10: 0 | F10: 117 | G10: 35 | H10: 44 | I10: 0 | J10: 621 | K10: 34 | L10: 29 | M10: 235
B11: 一般民眾 | C11: General | D11: 814 | E11: 0 | F11: 114 | G11: 35 | H11: 44 | I11: 0 | J11: 585 | K11: 30 | L11: 27 | M11: 225
B12: 原住民 | C12: Indigenous | D12: 40 | E12: 0 | F12: 3 | G12: 0 | H12: 0 | I12: 0 | J12: 36 | K12: 4 | L12: 2 | M12: 10
B13: 大陸籍(含港澳) | C13: Mainlander | D13: 12 | E13: 0 | F13: 2 | G13: 2 | H13: 2 | I13: 0 | J13: 0 | K13: 0 | L13: 1 | M13: 4
B14: 外國籍 | C14: Foreigner | D14: 26 | E14: 1 | F14: 0 | G14: 1 | H14: 2 | I14: 0 | J14: 1 | K14: 0 | L14: 0 | M14: 3
A15: 女 Female | B15: 計 | C15: Subtotal | D15: 6458 | E15: 6 | F15: 404 | G15: 1445 | H15: 1104 | I15: 1038 | J15: 4052 | K15: 91 | L15: 816 | M15: 367
B16: 本國籍 | C16: National | D16: 6229 | E16: 6 | F16: 403 | G16: 1414 | H16: 1086 | I16: 1036 | J16: 4031 | K16: 91 | L16: 803 | M16: 362
B17: 一般民眾 | C17: General | D17: 6068 | E17: 5 | F17: 393 | G17: 1388 | H17: 1029 | I17: 888 | J17: 3679 | K17: 80 | L17: 757 | M17: 337
B18: 原住民 | C18: Indigenous | D18: 161 | E18: 1 | F18: 10 | G18: 26 | H18: 57 | I18: 148 | J18: 352 | K18: 11 | L18: 46 | M18: 25
B19: 大陸籍(含港澳) | C19: Mainlander | D19: 127 | E19: 0 | F19: 0 | G19: 18 | H19: 12 | I19: 1 | J19: 10 | K19: 0 | L19: 11 | M19: 4
B20: 外國籍 | C20: Foreigner | D20: 102 | E20: 0 | F20: 1 | G20: 13 | H20: 6 | I20: 1 | J20: 11 | K20: 0 | L20: 2 | M20: 1
A21: 新北市 | C21: New Taipei City | D21: 221 | E21: 1 | F21: 51 | G21: 0 | H21: 132 | I21: 145 | J21: 360 | K21: 0 | L21: 62 | M21: 6
A22: 男 Male | B22: 計 | C22: Subtotal | D22: 19 | E22: 0 | F22: 2 | G22: 0 | H22: 5 | I22: 0 | J22: 34 | K22: 0 | L22: 2 | M22: 2
B23: 本國籍 | C23: National | D23: 19 | E23: 0 | F23: 2 | G23: 0 | H23: 5 | I23: 0 | J23: 34 | K23: 0 | L23: 2 | M23: 2
B24: 一般民眾 | C24: General | D24: 19 | E24: 0 | F24: 2 | G24: 0 | H24: 5 | I24: 0 | J24: 33 | K24: 0 | L24: 2 | M24: 2
B25: 原住民 | C25: Indigenous | D25: 0 | E25: 0 | F25: 0 | G25: 0 | H25: 0 | I25: 0 | J25: 1 | K25: 0 | L25: 0 | M25: 0
B26: 大陸籍(含港澳) | C26: Mainlander | D26: 0 | E26: 0 | F26: 0 | G26: 0 | H26: 0 | I26: 0 | J26: 0 | K26: 0 | L26: 0 | M26: 0
B27: 外國籍 | C27: Foreigner | D27: 0 | E27: 0 | F27: 0 | G27: 0 | H27: 0 | I27: 0 | J27: 0 | K27: 0 | L27: 0 | M27: 0
A28: 女 Female | B28: 計 | C28: Subtotal | D28: 202 | E28: 1 | F28: 49 | G28: 0 | H28: 127 | I28: 145 | J28: 326 | K28: 0 | L28: 60 | M28: 4
B29: 本國籍 | C29: National | D29: 197 | E29: 1 | F29: 48 | G29: 0 | H29: 124 | I29: 145 | J29: 326 | K29: 0 | L29: 60 | M29: 4
B30: 一般民眾 | C30: General | D30: 197 | E30: 1 | F30: 48 | G30: 0 | H30: 122 | I30: 143 | J30: 323 | K30: 0 | L30: 58 | M30: 4
B31: 原住民 | C31: Indigenous | D31: 0 | E31: 0 | F31: 0 | G31: 0 | H31: 2 | I31: 2 | J31: 3 | K31: 0 | L31: 2 | M31: 0
B32: 大陸籍(含港澳) | C32: Mainlander | D32: 4 | E32: 0 | F32: 0 | G32: 0 | H32: 2 | I32: 0 | J32: 0 | K32: 0 | L32: 0 | M32: 0
B33: 外國籍 | C33: Foreigner | D33: 1 | E33: 0 | F33: 1 | G33: 0 | H33: 1 | I33: 0 | J33: 0 | K33: 0 | L33: 0 | M33: 0
A34: 臺北市 | C34: Taipei City | D34: 300 | E34: 0 | F34: 28 | G34: 323 | H34: 245 | I34: 64 | J34: 514 | K34: 3 | L34: 32 | M34: 130
A35: 男 Male | B35: 計 | C35: Subtotal | D35: 36 | E35: 0 | F35: 0 | G35: 9 | H35: 6 | I35: 0 | J35: 45 | K35: 1 | L35: 5 | M35: 34
B36: 本國籍 | C36: National | D36: 36 | E36: 0 | F36: 0 | G36: 9 | H36: 6 | I36: 0 | J36: 45 | K36: 1 | L36: 5 | M36: 34
B37: 一般民眾 | C37: General | D37: 35 | E37: 0 | F37: 0 | G37: 9 | H37: 6 | I37: 0 | J37: 45 | K37: 1 | L37: 5 | M37: 34
B38: 原住民 | C38: Indigenous | D38: 1 | E38: 0 | F38: 0 | G38: 0 | H38: 0 | I38: 0 | J38: 0 | K38: 0 | L38: 0 | M38: 0
B39: 大陸籍(含港澳) | C39: Mainlander | D39: 0 | E39: 0 | F39: 0 | G39: 0 | H39: 0 | I39: 0 | J39: 0 | K39: 0 | L39: 0 | M39: 0
B40: 外國籍 | C40: Foreigner | D40: 0 | E40: 0 | F40: 0 | G40: 0 | H40: 0 | I40: 0 | J40: 0 | K40: 0 | L40: 0 | M40: 0
A41: 女 Female | B41: 計 | C41: Subtotal | D41: 264 | E41: 0 | F41: 28 | G41: 314 | H41: 239 | I41: 64 | J41: 469 | K41: 2 | L41: 27 | M41: 96
B42: 本國籍 | C42: National | D42: 241 | E42: 0 | F42: 28 | G42: 305 | H42: 234 | I42: 63 | J42: 458 | K42: 2 | L42: 25 | M42: 95
B43: 一般民眾 | C43: General | D43: 238 | E43: 0 | F43: 28 | G43: 300 | H43: 227 | I43: 61 | J43: 443 | K43: 2 | L43: 24 | M43: 92
B44: 原住民 | C44: Indigenous | D44: 3 | E44: 0 | F44: 0 | G44: 5 | H44: 7 | I44: 2 | J44: 15 | K44: 0 | L44: 1 | M44: 3
B45: 大陸籍(含港澳) | C45: Mainlander | D45: 21 | E45: 0 | F45: 0 | G45: 6 | H45: 5 | I45: 0 | J45: 5 | K45: 0 | L45: 2 | M45: 1
B46: 外國籍 | C46: Foreigner | D46: 2 | E46: 0 | F46: 0 | G46: 3 | H46: 0 | I46: 1 | J46: 6 | K46: 0 | L46: 0 | M46: 0
A47: 桃園市 | C47: Taoyuan City | D47: 803 | E47: 1 | F47: 56 | G47: 137 | H47: 26 | I47: 65 | J47: 267 | K47: 11 | L47: 84 | M47: 3
A48: 男 Male | B48: 計 | C48: Subtotal | D48: 93 | E48: 0 | F48: 20 | G48: 4 | H48: 0 | I48: 0 | J48: 17 | K48: 2 | L48: 3 | M48: 1
B49: 本國籍 | C49: National | D49: 93 | E49: 0 | F49: 20 | G49: 4 | H49: 0 | I49: 0 | J49: 17 | K49: 2 | L49: 3 | M49: 1
B50: 一般民眾 | C50: General | D50: 88 | E50: 0 | F50: 19 | G50: 4 | H50: 0 | I50: 0 | J50: 14 | K50: 2 | L50: 3 | M50: 1
B51: 原住民 | C51: Indigenous | D51: 5 | E51: 0 | F51: 1 | G51: 0 | H51: 0 | I51: 0 | J51: 3 | K51: 0 | L51: 0 | M51: 0
B52: 大陸籍(含港澳) | C52: Mainlander | D52: 0 | E52: 0 | F52: 0 | G52: 0 | H52: 0 | I52: 0 | J52: 0 | K52: 0 | L52: 0 | M52: 0
B53: 外國籍 | C53: Foreigner | D53: 0 | E53: 0 | F53: 0 | G53: 0 | H53: 0 | I53: 0 | J53: 0 | K53: 0 | L53: 0 | M53: 0
A54: 女 Female | B54: 計 | C54: Subtotal | D54: 710 | E54: 1 | F54: 36 | G54: 133 | H54: 26 | I54: 65 | J54: 250 | K54: 9 | L54: 81 | M54: 2
B55: 本國籍 | C55: National | D55: 695 | E55: 1 | F55: 36 | G55: 133 | H55: 26 | I55: 65 | J55: 250 | K55: 9 | L55: 80 | M55: 2
B56: 一般民眾 | C56: General | D56: 673 | E56: 1 | F56: 35 | G56: 131 | H56: 25 | I56: 50 | J56: 215 | K56: 8 | L56: 70 | M56: 2
B57: 原住民 | C57: Indigenous | D57: 22 | E57: 0 | F57: 1 | G57: 2 | H57: 1 | I57: 15 | J57: 35 | K57: 1 | L57: 10 | M57: 0
B58: 大陸籍(含港澳) | C58: Mainlander | D58: 15 | E58: 0 | F58: 0 | G58: 0 | H58: 0 | I58: 0 | J58: 0 | K58: 0 | L58: 1 | M58: 0
B59: 外國籍 | C59: Foreigner | D59: 0 | E59: 0 | F59: 0 | G59: 0 | H59: 0 | I59: 0 | J59: 0 | K59: 0 | L59: 0 | M59: 0
A60: 臺中市 | C60: Taichung City | D60: 1323 | E60: 2 | F60: 54 | G60: 185 | H60: 308 | I60: 181 | J60: 818 | K60: 10 | L60: 130 | M60: 65
A61: 男 Male | B61: 計 | C61: Subtotal | D61: 155 | E61: 0 | F61: 10 | G61: 4 | H61: 27 | I61: 0 | J61: 64 | K61: 4 | L61: 6 | M61: 26
B62: 本國籍 | C62: National | D62: 145 | E62: 0 | F62: 9 | G62: 3 | H62: 25 | I62: 0 | J62: 63 | K62: 4 | L62: 6 | M62: 23
B63: 一般民眾 | C63: General | D63: 145 | E63: 0 | F63: 8 | G63: 3 | H63: 25 | I63: 0 | J63: 59 | K63: 4 | L63: 5 | M63: 23
B64: 原住民 | C64: Indigenous | D64: 0 | E64: 0 | F64: 1 | G64: 0 | H64: 0 | I64: 0 | J64: 4 | K64: 0 | L64: 1 | M64: 0
B65: 大陸籍(含港澳) | C65: Mainlander | D65: 2 | E65: 0 | F65: 1 | G65: 1 | H65: 2 | I65: 0 | J65: 0 | K65: 0 | L65: 0 | M65: 1
B66: 外國籍 | C66: Foreigner | D66: 8 | E66: 0 | F66: 0 | G66: 0 | H66: 0 | I66: 0 | J66: 1 | K66: 0 | L66: 0 | M66: 2
A67: 女 Female | B67: 計 | C67: Subtotal | D67: 1168 | E67: 2 | F67: 44 | G67: 181 | H67: 281 | I67: 181 | J67: 754 | K67: 6 | L67: 124 | M67: 39
B68: 本國籍 | C68: National | D68: 1118 | E68: 2 | F68: 44 | G68: 178 | H68: 276 | I68: 181 | J68: 753 | K68: 6 | L68: 124 | M68: 39
B69: 一般民眾 | C69: General | D69: 1095 | E69: 1 | F69: 42 | G69: 176 | H69: 266 | I69: 156 | J69: 703 | K69: 5 | L69: 117 | M69: 39
B70: 原住民 | C70: Indigenous | D70: 23 | E70: 1 | F70: 2 | G70: 2 | H70: 10 | I70: 25 | J70: 50 | K70: 1 | L70: 7 | M70: 0
B71: 大陸籍(含港澳) | C71: Mainlander | D71: 18 | E71: 0 | F71: 0 | G71: 1 | H71: 3 | I71: 0 | J71: 1 | K71: 0 | L71: 0 | M71: 0
B72: 外國籍 | C72: Foreigner | D72: 32 | E72: 0 | F72: 0 | G72: 2 | H72: 2 | I72: 0 | J72: 0 | K72: 0 | L72: 0 | M72: 0
A73: 臺南市 | C73: Tainan City | D73: 872 | E73: 0 | F73: 40 | G73: 83 | H73: 49 | I73: 37 | J73: 44 | K73: 14 | L73: 79 | M73: 13
A74: 男 Male | B74: 計 | C74: Subtotal | D74: 126 | E74: 0 | F74: 4 | G74: 3 | H74: 0 | I74: 0 | J74: 4 | K74: 1 | L74: 2 | M74: 0
B75: 本國籍 | C75: National | D75: 118 | E75: 0 | F75: 4 | G75: 3 | H75: 0 | I75: 0 | J75: 4 | K75: 1 | L75: 2 | M75: 0
B76: 一般民眾 | C76: General | D76: 118 | E76: 0 | F76: 4 | G76: 3 | H76: 0 | I76: 0 | J76: 4 | K76: 1 | L76: 2 | M76: 0
B77: 原住民 | C77: Indigenous | D77: 0 | E77: 0 | F77: 0 | G77: 0 | H77: 0 | I77: 0 | J77: 0 | K77: 0 | L77: 0 | M77: 0
B78: 大陸籍(含港澳) | C78: Mainlander | D78: 4 | E78: 0 | F78: 0 | G78: 0 | H78: 0 | I78: 0 | J78: 0 | K78: 0 | L78: 0 | M78: 0
B79: 外國籍 | C79: Foreigner | D79: 4 | E79: 0 | F79: 0 | G79: 0 | H79: 0 | I79: 0 | J79: 0 | K79: 0 | L79: 0 | M79: 0
A80: 女 Female | B80: 計 | C80: Subtotal | D80: 746 | E80: 0 | F80: 36 | G80: 80 | H80: 49 | I80: 37 | J80: 40 | K80: 13 | L80: 77 | M80: 13
B81: 本國籍 | C81: National | D81: 726 | E81: 0 | F81: 36 | G81: 80 | H81: 49 | I81: 37 | J81: 40 | K81: 13 | L81: 76 | M81: 13
B82: 一般民眾 | C82: General | D82: 724 | E82: 0 | F82: 35 | G82: 79 | H82: 49 | I82: 36 | J82: 39 | K82: 13 | L82: 74 | M82: 13
B83: 原住民 | C83: Indigenous | D83: 2 | E83: 0 | F83: 1 | G83: 1 | H83: 0 | I83: 1 | J83: 1 | K83: 0 | L83: 2 | M83: 0
B84: 大陸籍(含港澳) | C84: Mainlander | D84: 8 | E84: 0 | F84: 0 | G84: 0 | H84: 0 | I84: 0 | J84: 0 | K84: 0 | L84: 1 | M84: 0
B85: 外國籍 | C85: Foreigner | D85: 12 | E85: 0 | F85: 0 | G85: 0 | H85: 0 | I85: 0 | J85: 0 | K85: 0 | L85: 0 | M85: 0
A86: 高雄市 | C86: Kaohsiung City | D86: 220 | E86: 1 | F86: 2 | G86: 57 | H86: 122 | I86: 103 | J86: 134 | K86: 6 | L86: 100 | M86: 10
A87: 男 Male | B87: 計 | C87: Subtotal | D87: 25 | E87: 0 | F87: 0 | G87: 1 | H87: 6 | I87: 0 | J87: 10 | K87: 2 | L87: 1 | M87: 5
B88: 本國籍 | C88: National | D88: 24 | E88: 0 | F88: 0 | G88: 1 | H88: 6 | I88: 0 | J88: 10 | K88: 2 | L88: 1 | M88: 3
B89: 一般民眾 | C89: General | D89: 23 | E89: 0 | F89: 0 | G89: 1 | H89: 6 | I89: 0 | J89: 10 | K89: 2 | L89: 1 | M89: 3
B90: 原住民 | C90: Indigenous | D90: 1 | E90: 0 | F90: 0 | G90: 0 | H90: 0 | I90: 0 | J90: 0 | K90: 0 | L90: 0 | M90: 0
B91: 大陸籍(含港澳) | C91: Mainlander | D91: 0 | E91: 0 | F91: 0 | G91: 0 | H91: 0 | I91: 0 | J91: 0 | K91: 0 | L91: 0 | M91: 2
B92: 外國籍 | C92: Foreigner | D92: 1 | E92: 0 | F92: 0 | G92: 0 | H92: 0 | I92: 0 | J92: 0 | K92: 0 | L92: 0 | M92: 0
A93: 女 Female | B93: 計 | C93: Subtotal | D93: 195 | E93: 1 | F93: 2 | G93: 56 | H93: 116 | I93: 103 | J93: 124 | K93: 4 | L93: 99 | M93: 5
B94: 本國籍 | C94: National | D94: 177 | E94: 1 | F94: 2 | G94: 54 | H94: 113 | I94: 103 | J94: 118 | K94: 4 | L94: 96 | M94: 4
B95: 一般民眾 | C95: General | D95: 176 | E95: 1 | F95: 2 | G95: 54 | H95: 102 | I95: 99 | J95: 115 | K95: 4 | L95: 96 | M95: 4
B96: 原住民 | C96: Indigenous | D96: 1 | E96: 0 | F96: 0 | G96: 0 | H96: 11 | I96: 4 | J96: 3 | K96: 0 | L96: 0 | M96: 0
B97: 大陸籍(含港澳) | C97: Mainlander | D97: 13 | E97: 0 | F97: 0 | G97: 2 | H97: 0 | I97: 0 | J97: 3 | K97: 0 | L97: 3 | M97: 1
B98: 外國籍 | C98: Foreigner | D98: 5 | E98: 0 | F98: 0 | G98: 0 | H98: 3 | I98: 0 | J98: 3 | K98: 0 | L98: 0 | M98: 0
A99: 宜蘭縣 | C99: Yilan County | D99: 194 | E99: 0 | F99: 27 | G99: 22 | H99: 5 | I99: 6 | J99: 20 | K99: 2 | L99: 29 | M99: 0
A100: 男 Male | B100: 計 | C100: Subtotal | D100: 24 | E100: 0 | F100: 12 | G100: 0 | H100: 0 | I100: 0 | J100: 2 | K100: 0 | L100: 2 | M100: 0
...

Sheet 2022
A1: 特殊境遇家庭符合款項 Conditions of Families in Hardship
A2: 111年,2022
A3: 單位：人 Unit:Persons
A4: 地區、性別及設籍別 Locality, Sex & Identity | D4: 符 合 特 殊 境 遇 家 庭 扶 助 條 例 第 4 條 第 1 項 各 款 規 定 之 人 數 (可複選) Under one of the situations of Article 4,Item1 of Act of Assistance for women in Hardship (Multiple Options)
D5: 第 1 款 Clause1 | F5: 第 2 款 Clause2 | H5: 第 3 款 Clause3 | I5: 第 4 款 Clause4 | J5: 第 5 款 Clause5 | L5: 第 6 款 Clause6 | M5: 第7款 Clause7
D6: 65歲以下 且配偶死亡 | E6: 65歲以下且配偶失蹤經向警察機關報案協尋未獲達6個月以上 | F6: 因配偶惡意遺棄經判決離婚確定或已完成協議離婚登記 | G6: 受配偶不堪同居之虐待經判決離婚確定或已完成協議離婚登記 | H6: 家庭暴力受害 | I6: 未婚懷孕婦女,懷胎3個月以上至分娩2個月以內 | J6: 因離婚、喪偶、未婚生子獨自扶養18歲以下子女，其無工作能力，或雖有工作能力，因遭遇重大傷病或照顧6歲以下子女致不能工作 | K6: 獨自扶養18歲以下父母無力扶養之孫子女，其無工作能力，或雖有工作能力，因遭遇重大傷病或照顧6歲以下孫子女致不能工作 | L6: 配偶處1年以上之徒刑或受拘束人身自由之保安處分1年以上，且在執行中 | M6: 其他經直轄市、縣(市)政府評估，因3個月內生活發生重大變故導致生活、經濟困難者，且其重大變故非因個人責任、債務、非因自願性失業等事由
D7: Spouse is Dead | E7: Spouse is Missing | F7: Abandoned with Malice, and (had) Divorced by Judicial Decree | G7: Abused and (had) Divorced by Judicial Decree | H7: Domestic Violence | I7: Unmarried Pregnarcy from Over 3 Months to 2 Months after Accouchement | J7: Single Parent with No Working Ability or Unable to Work | K7: Grandparents with No Working Ability or Unable to Work | L7: Whose Spouse is Sentenced to Penal Servitude for Over 1 Year and in Prison | M7: Live in Hardship
A8: 總計 | C8: Total | D8: 7649 | E8: 10 | F8: 536 | G8: 1466 | H8: 1023 | I8: 1102 | J8: 4331 | K8: 154 | L8: 792 | M8: 547
A9: 男 Male | B9: 計 | C9: Subtotal | D9: 951 | E9: 0 | F9: 141 | G9: 30 | H9: 48 | I9: 0 | J9: 626 | K9: 40 | L9: 23 | M9: 216
B10: 本國籍 | C10: National | D10: 919 | E10: 0 | F10: 139 | G10: 28 | H10: 48 | I10: 0 | J10: 625 | K10: 40 | L10: 22 | M10: 213
B11: 一般民眾 | C11: General | D11: 885 | E11: 0 | F11: 136 | G11: 28 | H11: 45 | I11: 0 | J11: 583 | K11: 39 | L11: 21 | M11: 202
B12: 原住民 | C12: Indigenous | D12: 34 | E12: 0 | F12: 3 | G12: 0 | H12: 3 | I12: 0 | J12: 42 | K12: 1 | L12: 1 | M12: 11
B13: 大陸籍(含港澳) | C13: Mainlander | D13: 11 | E13: 0 | F13: 2 | G13: 1 | H13: 0 | I13: 0 | J13: 0 | K13: 0 | L13: 0 | M13: 1
B14: 外國籍 | C14: Foreigner | D14: 21 | E14: 0 | F14: 0 | G14: 1 | H14: 0 | I14: 0 | J14: 1 | K14: 0 | L14: 1 | M14: 2
A15: 女 Female | B15: 計 | C15: Subtotal | D15: 6698 | E15: 10 | F15: 395 | G15: 1436 | H15: 975 | I15: 1102 | J15: 3705 | K15: 114 | L15: 769 | M15: 331
B16: 本國籍 | C16: National | D16: 6485 | E16: 9 | F16: 394 | G16: 1407 | H16: 955 | I16: 1096 | J16: 3679 | K16: 114 | L16: 762 | M16: 322
B17: 一般民眾 | C17: General | D17: 6324 | E17: 8 | F17: 383 | G17: 1386 | H17: 910 | I17: 983 | J17: 3339 | K17: 106 | L17: 713 | M17: 308
B18: 原住民 | C18: Indigenous | D18: 161 | E18: 1 | F18: 11 | G18: 21 | H18: 45 | I18: 113 | J18: 340 | K18: 8 | L18: 49 | M18: 14
B19: 大陸籍(含港澳) | C19: Mainlander | D19: 112 | E19: 0 | F19: 1 | G19: 18 | H19: 14 | I19: 3 | J19: 14 | K19: 0 | L19: 5 | M19: 7
B20: 外國籍 | C20: Foreigner | D20: 101 | E20: 1 | F20: 0 | G20: 11 | H20: 6 | I20: 3 | J20: 12 | K20: 0 | L20: 2 | M20: 2
A21: 新北市 | C21: New Taipei City | D21: 32 | E21: 1 | F21: 0 | G21: 10 | H21: 129 | I21: 156 | J21: 159 | K21: 0 | L21: 36 | M21: 5
A22: 男 Male | B22: 計 | C22: Subtotal | D22: 2 | E22: 0 | F22: 0 | G22: 0 | H22: 9 | I22: 0 | J22: 21 | K22: 0 | L22: 1 | M22: 4
B23: 本國籍 | C23: National | D23: 2 | E23: 0 | F23: 0 | G23: 0 | H23: 9 | I23: 0 | J23: 21 | K23: 0 | L23: 1 | M23: 4
B24: 一般民眾 | C24: General | D24: 1 | E24: 0 | F24: 0 | G24: 0 | H24: 7 | I24: 0 | J24: 19 | K24: 0 | L24: 1 | M24: 4
B25: 原住民 | C25: Indigenous | D25: 1 | E25: 0 | F25: 0 | G25: 0 | H25: 2 | I25: 0 | J25: 2 | K25: 0 | L25: 0 | M25: 0
B26: 大陸籍(含港澳) | C26: Mainlander | D26: 0 | E26: 0 | F26: 0 | G26: 0 | H26: 0 | I26: 0 | J26: 0 | K26: 0 | L26: 0 | M26: 0
B27: 外國籍 | C27: Foreigner | D27: 0 | E27: 0 | F27: 0 | G27: 0 | H27: 0 | I27: 0 | J27: 0 | K27: 0 | L27: 0 | M27: 0
A28: 女 Female | B28: 計 | C28: Subtotal | D28: 30 | E28: 1 | F28: 0 | G28: 10 | H28: 120 | I28: 156 | J28: 138 | K28: 0 | L28: 35 | M28: 1
B29: 本國籍 | C29: National | D29: 28 | E29: 1 | F29: 0 | G29: 10 | H29: 112 | I29: 156 | J29: 138 | K29: 0 | L29: 35 | M29: 1
B30: 一般民眾 | C30: General | D30: 27 | E30: 1 | F30: 0 | G30: 10 | H30: 109 | I30: 149 | J30: 135 | K30: 0 | L30: 30 | M30: 1
B31: 原住民 | C31: Indigenous | D31: 1 | E31: 0 | F31: 0 | G31: 0 | H31: 3 | I31: 7 | J31: 3 | K31: 0 | L31: 5 | M31: 0
B32: 大陸籍(含港澳) | C32: Mainlander | D32: 2 | E32: 0 | F32: 0 | G32: 0 | H32: 5 | I32: 0 | J32: 0 | K32: 0 | L32: 0 | M32: 0
B33: 外國籍 | C33: Foreigner | D33: 0 | E33: 0 | F33: 0 | G33: 0 | H33: 3 | I33: 0 | J33: 0 | K33: 0 | L33: 0 | M33: 0
A34: 臺北市 | C34: Taipei City | D34: 284 | E34: 2 | F34: 29 | G34: 281 | H34: 192 | I34: 99 | J34: 564 | K34: 4 | L34: 32 | M34: 110
A35: 男 Male | B35: 計 | C35: Subtotal | D35: 36 | E35: 0 | F35: 1 | G35: 4 | H35: 7 | I35: 0 | J35: 55 | K35: 1 | L35: 2 | M35: 34
B36: 本國籍 | C36: National | D36: 36 | E36: 0 | F36: 1 | G36: 4 | H36: 7 | I36: 0 | J36: 55 | K36: 1 | L36: 2 | M36: 34
B37: 一般民眾 | C37: General | D37: 36 | E37: 0 | F37: 1 | G37: 4 | H37: 7 | I37: 0 | J37: 54 | K37: 1 | L37: 2 | M37: 34
B38: 原住民 | C38: Indigenous | D38: 0 | E38: 0 | F38: 0 | G38: 0 | H38: 0 | I38: 0 | J38: 1 | K38: 0 | L38: 0 | M38: 0
B39: 大陸籍(含港澳) | C39: Mainlander | D39: 0 | E39: 0 | F39: 0 | G39: 0 | H39: 0 | I39: 0 | J39: 0 | K39: 0 | L39: 0 | M39: 0
B40: 外國籍 | C40: Foreigner | D40: 0 | E40: 0 | F40: 0 | G40: 0 | H40: 0 | I40: 0 | J40: 0 | K40: 0 | L40: 0 | M40: 0
A41: 女 Female | B41: 計 | C41: Subtotal | D41: 248 | E41: 2 | F41: 28 | G41: 277 | H41: 185 | I41: 99 | J41: 509 | K41: 3 | L41: 30 | M41: 76
B42: 本國籍 | C42: National | D42: 218 | E42: 2 | F42: 28 | G42: 268 | H42: 183 | I42: 97 | J42: 498 | K42: 3 | L42: 29 | M42: 74
B43: 一般民眾 | C43: General | D43: 214 | E43: 2 | F43: 28 | G43: 266 | H43: 178 | I43: 91 | J43: 486 | K43: 3 | L43: 27 | M43: 73
B44: 原住民 | C44: Indigenous | D44: 4 | E44: 0 | F44: 0 | G44: 2 | H44: 5 | I44: 6 | J44: 12 | K44: 0 | L44: 2 | M44: 1
B45: 大陸籍(含港澳) | C45: Mainlander | D45: 24 | E45: 0 | F45: 0 | G45: 6 | H45: 2 | I45: 1 | J45: 6 | K45: 0 | L45: 1 | M45: 2
B46: 外國籍 | C46: Foreigner | D46: 6 | E46: 0 | F46: 0 | G46: 3 | H46: 0 | I46: 1 | J46: 5 | K46: 0 | L46: 0 | M46: 0
A47: 桃園市 | C47: Taoyuan City | D47: 901 | E47: 2 | F47: 74 | G47: 156 | H47: 28 | I47: 77 | J47: 316 | K47: 22 | L47: 86 | M47: 0
A48: 男 Male | B48: 計 | C48: Subtotal | D48: 106 | E48: 0 | F48: 22 | G48: 4 | H48: 1 | I48: 0 | J48: 22 | K48: 1 | L48: 2 | M48: 0
B49: 本國籍 | C49: National | D49: 106 | E49: 0 | F49: 22 | G49: 4 | H49: 1 | I49: 0 | J49: 22 | K49: 1 | L49: 2 | M49: 0
B50: 一般民眾 | C50: General | D50: 100 | E50: 0 | F50: 21 | G50: 4 | H50: 1 | I50: 0 | J50: 17 | K50: 1 | L50: 2 | M50: 0
B51: 原住民 | C51: Indigenous | D51: 6 | E51: 0 | F51: 1 | G51: 0 | H51: 0 | I51: 0 | J51: 5 | K51: 0 | L51: 0 | M51: 0
B52: 大陸籍(含港澳) | C52: Mainlander | D52: 0 | E52: 0 | F52: 0 | G52: 0 | H52: 0 | I52: 0 | J52: 0 | K52: 0 | L52: 0 | M52: 0
B53: 外國籍 | C53: Foreigner | D53: 0 | E53: 0 | F53: 0 | G53: 0 | H53: 0 | I53: 0 | J53: 0 | K53: 0 | L53: 0 | M53: 0
A54: 女 Female | B54: 計 | C54: Subtotal | D54: 795 | E54: 2 | F54: 52 | G54: 152 | H54: 27 | I54: 77 | J54: 294 | K54: 21 | L54: 84 | M54: 0
B55: 本國籍 | C55: National | D55: 783 | E55: 1 | F55: 52 | G55: 152 | H55: 27 | I55: 77 | J55: 294 | K55: 21 | L55: 83 | M55: 0
B56: 一般民眾 | C56: General | D56: 758 | E56: 1 | F56: 51 | G56: 149 | H56: 26 | I56: 67 | J56: 254 | K56: 19 | L56: 72 | M56: 0
B57: 原住民 | C57: Indigenous | D57: 25 | E57: 0 | F57: 1 | G57: 3 | H57: 1 | I57: 10 | J57: 40 | K57: 2 | L57: 11 | M57: 0
B58: 大陸籍(含港澳) | C58: Mainlander | D58: 12 | E58: 0 | F58: 0 | G58: 0 | H58: 0 | I58: 0 | J58: 0 | K58: 0 | L58: 1 | M58: 0
B59: 外國籍 | C59: Foreigner | D59: 0 | E59: 1 | F59: 0 | G59: 0 | H59: 0 | I59: 0 | J59: 0 | K59: 0 | L59: 0 | M59: 0
A60: 臺中市 | C60: Taichung City | D60: 1315 | E60: 2 | F60: 64 | G60: 167 | H60: 287 | I60: 198 | J60: 768 | K60: 13 | L60: 111 | M60: 45
A61: 男 Male | B61: 計 | C61: Subtotal | D61: 154 | E61: 0 | F61: 14 | G61: 2 | H61: 17 | I61: 0 | J61: 73 | K61: 5 | L61: 5 | M61: 18
B62: 本國籍 | C62: National | D62: 145 | E62: 0 | F62: 13 | G62: 2 | H62: 17 | I62: 0 | J62: 72 | K62: 5 | L62: 5 | M62: 18
B63: 一般民眾 | C63: General | D63: 145 | E63: 0 | F63: 12 | G63: 2 | H63: 17 | I63: 0 | J63: 71 | K63: 5 | L63: 4 | M63: 17
B64: 原住民 | C64: Indigenous | D64: 0 | E64: 0 | F64: 1 | G64: 0 | H64: 0 | I64: 0 | J64: 1 | K64: 0 | L64: 1 | M64: 1
B65: 大陸籍(含港澳) | C65: Mainlander | D65: 2 | E65: 0 | F65: 1 | G65: 0 | H65: 0 | I65: 0 | J65: 0 | K65: 0 | L65: 0 | M65: 0
B66: 外國籍 | C66: Foreigner | D66: 7 | E66: 0 | F66: 0 | G66: 0 | H66: 0 | I66: 0 | J66: 1 | K66: 0 | L66: 0 | M66: 0
A67: 女 Female | B67: 計 | C67: Subtotal | D67: 1161 | E67: 2 | F67: 50 | G67: 165 | H67: 270 | I67: 198 | J67: 695 | K67: 8 | L67: 106 | M67: 27
B68: 本國籍 | C68: National | D68: 1106 | E68: 2 | F68: 50 | G68: 162 | H68: 268 | I68: 196 | J68: 690 | K68: 8 | L68: 106 | M68: 25
B69: 一般民眾 | C69: General | D69: 1085 | E69: 2 | F69: 48 | G69: 160 | H69: 256 | I69: 182 | J69: 653 | K69: 8 | L69: 100 | M69: 24
B70: 原住民 | C70: Indigenous | D70: 21 | E70: 0 | F70: 2 | G70: 2 | H70: 12 | I70: 14 | J70: 37 | K70: 0 | L70: 6 | M70: 1
B71: 大陸籍(含港澳) | C71: Mainlander | D71: 20 | E71: 0 | F71: 0 | G71: 2 | H71: 0 | I71: 1 | J71: 3 | K71: 0 | L71: 0 | M71: 2
B72: 外國籍 | C72: Foreigner | D72: 35 | E72: 0 | F72: 0 | G72: 1 | H72: 2 | I72: 1 | J72: 2 | K72: 0 | L72: 0 | M72: 0
A73: 臺南市 | C73: Tainan City | D73: 959 | E73: 1 | F73: 45 | G73: 93 | H73: 46 | I73: 52 | J73: 59 | K73: 12 | L73: 77 | M73: 26
A74: 男 Male | B74: 計 | C74: Subtotal | D74: 145 | E74: 0 | F74: 7 | G74: 3 | H74: 1 | I74: 0 | J74: 5 | K74: 3 | L74: 3 | M74: 4
B75: 本國籍 | C75: National | D75: 136 | E75: 0 | F75: 7 | G75: 3 | H75: 1 | I75: 0 | J75: 5 | K75: 3 | L75: 3 | M75: 4
B76: 一般民眾 | C76: General | D76: 136 | E76: 0 | F76: 7 | G76: 3 | H76: 1 | I76: 0 | J76: 5 | K76: 3 | L76: 3 | M76: 3
B77: 原住民 | C77: Indigenous | D77: 0 | E77: 0 | F77: 0 | G77: 0 | H77: 0 | I77: 0 | J77: 0 | K77: 0 | L77: 0 | M77: 1
B78: 大陸籍(含港澳) | C78: Mainlander | D78: 5 | E78: 0 | F78: 0 | G78: 0 | H78: 0 | I78: 0 | J78: 0 | K78: 0 | L78: 0 | M78: 0
B79: 外國籍 | C79: Foreigner | D79: 4 | E79: 0 | F79: 0 | G79: 0 | H79: 0 | I79: 0 | J79: 0 | K79: 0 | L79: 0 | M79: 0
A80: 女 Female | B80: 計 | C80: Subtotal | D80: 814 | E80: 1 | F80: 38 | G80: 90 | H80: 45 | I80: 52 | J80: 54 | K80: 9 | L80: 74 | M80: 22
B81: 本國籍 | C81: National | D81: 792 | E81: 1 | F81: 38 | G81: 90 | H81: 44 | I81: 52 | J81: 54 | K81: 9 | L81: 74 | M81: 22
B82: 一般民眾 | C82: General | D82: 789 | E82: 1 | F82: 37 | G82: 89 | H82: 44 | I82: 52 | J82: 53 | K82: 9 | L82: 73 | M82: 22
B83: 原住民 | C83: Indigenous | D83: 3 | E83: 0 | F83: 1 | G83: 1 | H83: 0 | I83: 0 | J83: 1 | K83: 0 | L83: 1 | M83: 0
B84: 大陸籍(含港澳) | C84: Mainlander | D84: 8 | E84: 0 | F84: 0 | G84: 0 | H84: 1 | I84: 0 | J84: 0 | K84: 0 | L84: 0 | M84: 0
B85: 外國籍 | C85: Foreigner | D85: 14 | E85: 0 | F85: 0 | G85: 0 | H85: 0 | I85: 0 | J85: 0 | K85: 0 | L85: 0 | M85: 0
A86: 高雄市 | C86: Kaohsiung City | D86: 216 | E86: 0 | F86: 4 | G86: 52 | H86: 88 | I86: 128 | J86: 111 | K86: 9 | L86: 100 | M86: 11
A87: 男 Male | B87: 計 | C87: Subtotal | D87: 19 | E87: 0 | F87: 0 | G87: 2 | H87: 9 | I87: 0 | J87: 12 | K87: 3 | L87: 1 | M87: 4
B88: 本國籍 | C88: National | D88: 18 | E88: 0 | F88: 0 | G88: 2 | H88: 9 | I88: 0 | J88: 12 | K88: 3 | L88: 1 | M88: 2
B89: 一般民眾 | C89: General | D89: 18 | E89: 0 | F89: 0 | G89: 2 | H89: 9 | I89: 0 | J89: 12 | K89: 3 | L89: 1 | M89: 2
B90: 原住民 | C90: Indigenous | D90: 0 | E90: 0 | F90: 0 | G90: 0 | H90: 0 | I90: 0 | J90: 0 | K90: 0 | L90: 0 | M90: 0
B91: 大陸籍(含港澳) | C91: Mainlander | D91: 0 | E91: 0 | F91: 0 | G91: 0 | H91: 0 | I91: 0 | J91: 0 | K91: 0 | L91: 0 | M91: 0
B92: 外國籍 | C92: Foreigner | D92: 1 | E92: 0 | F92: 0 | G92: 0 | H92: 0 | I92: 0 | J92: 0 | K92: 0 | L92: 0 | M92: 2
A93: 女 Female | B93: 計 | C93: Subtotal | D93: 197 | E93: 0 | F93: 4 | G93: 50 | H93: 79 | I93: 128 | J93: 99 | K93: 6 | L93: 99 | M93: 7
B94: 本國籍 | C94: National | D94: 184 | E94: 0 | F94: 4 | G94: 48 | H94: 74 | I94: 128 | J94: 94 | K94: 6 | L94: 97 | M94: 5
B95: 一般民眾 | C95: General | D95: 182 | E95: 0 | F95: 4 | G95: 48 | H95: 68 | I95: 122 | J95: 92 | K95: 6 | L95: 97 | M95: 4
B96: 原住民 | C96: Indigenous | D96: 2 | E96: 0 | F96: 0 | G96: 0 | H96: 6 | I96: 6 | J96: 2 | K96: 0 | L96: 0 | M96: 1
B97: 大陸籍(含港澳) | C97: Mainlander | D97: 9 | E97: 0 | F97: 0 | G97: 2 | H97: 4 | I97: 0 | J97: 3 | K97: 0 | L97: 2 | M97: 1
B98: 外國籍 | C98: Foreigner | D98: 4 | E98: 0 | F98: 0 | G98: 0 | H98: 1 | I98: 0 | J98: 2 | K98: 0 | L98: 0 | M98: 1
A99: 宜蘭縣 | C99: Yilan County | D99: 212 | E99: 0 | F99: 31 | G99: 22 | H99: 13 | I99: 10 | J99: 25 | K99: 1 | L99: 30 | M99: 0
A100: 男 Male | B100: 計 | C100: Subtotal | D100: 26 | E100: 0 | F100: 14 | G100: 0 | H100: 0 | I100: 0 | J100: 4 | K100: 0 | L100: 1 | M100: 0
...

Sheet 2021
A1: 特殊境遇家庭符合款項 Conditions of Families in Hardship
A2: 110年, 2021
A3: 單位：人 Unit:Persons
A4: 地區、性別及設籍別 Locality, Sex & Identity | D4: 符 合 特 殊 境 遇 家 庭 扶 助 條 例 第 4 條 第 1 項 各 款 規 定 之 人 數 (可複選) Under one of the situations of Article 4,Item1 of Act of Assistance for Family in Hardship (Multiple Options)
D5: 第 1 款 Clause1 | F5: 第 2 款 Clause2 | H5: 第 3 款 Clause3 | I5: 第 4 款 Clause4 | J5: 第 5 款 Clause5 | L5: 第 6 款 Clause6 | M5: 第7款 Clause7
D6: 65歲以下 且配偶死亡 | E6: 65歲以下且配偶失蹤經向警察機關報案協尋未獲達6個月以上 | F6: 因配偶惡意遺棄經判決離婚確定或已完成協議離婚登記 | G6: 受配偶不堪同居之虐待經判決離婚確定或已完成協議離婚登記 | H6: 家庭暴力受害 | I6: 未婚懷孕婦女,懷胎3個月以上至分娩2個月以內 | J6: 因離婚、喪偶、未婚生子獨自扶養18歲以下子女，其無工作能力，或雖有工作能力，因遭遇重大傷病或照顧6歲以下子女致不能工作 | K6: 獨自扶養18歲以下父母無力扶養之孫子女，其無工作能力，或雖有工作能力，因遭遇重大傷病或照顧6歲以下孫子女致不能工作 | L6: 配偶處1年以上之徒刑或受拘束人身自由之保安處分1年以上，且在執行中 | M6: 其他經直轄市、縣(市)政府評估，因3個月內生活發生重大變故導致生活、經濟困難者，且其重大變故非因個人責任、債務、非因自願性失業等事由
D7: Spouse is Dead | E7: Spouse is Missing | F7: Abandoned with Malice, and (had) Divorced by Judicial Decree | G7: Abused and (had) Divorced by Judicial Decree | H7: Domestic Violence | I7: Unmarried Pregnarcy from Over 3 Months to 2 Months after Accouchement | J7: Single Parent with No Working Ability or Unable to Work | K7: Grandparents with No Working Ability or Unable to Work | L7: Whose Spouse is Sentenced to Penal Servitude for Over 1 Year and in Prison | M7: Live in Hardship
A8: 總計 | C8: Total | D8: 8219 | E8: 8 | F8: 582 | G8: 1613 | H8: 1141 | I8: 1413 | J8: 4419 | K8: 191 | L8: 839 | M8: 711
A9: 男 Male | B9: 計 | C9: Subtotal | D9: 979 | E9: 1 | F9: 159 | G9: 29 | H9: 40 | I9: 0 | J9: 640 | K9: 46 | L9: 33 | M9: 273
B10: 本國籍 | C10: National | D10: 951 | E10: 1 | F10: 158 | G10: 27 | H10: 38 | I10: 0 | J10: 637 | K10: 46 | L10: 30 | M10: 246
B11: 一般民眾 | C11: General | D11: 914 | E11: 1 | F11: 155 | G11: 27 | H11: 38 | I11: 0 | J11: 593 | K11: 44 | L11: 28 | M11: 231
B12: 原住民 | C12: Indigenous | D12: 37 | E12: 0 | F12: 3 | G12: 0 | H12: 0 | I12: 0 | J12: 44 | K12: 2 | L12: 2 | M12: 15
B13: 大陸籍(含港澳) | C13: Mainlander | D13: 14 | E13: 0 | F13: 1 | G13: 2 | H13: 1 | I13: 0 | J13: 2 | K13: 0 | L13: 1 | M13: 17
B14: 外國籍 | C14: Foreigner | D14: 14 | E14: 0 | F14: 0 | G14: 0 | H14: 1 | I14: 0 | J14: 1 | K14: 0 | L14: 2 | M14: 10
A15: 女 Female | B15: 計 | C15: Subtotal | D15: 7240 | E15: 7 | F15: 423 | G15: 1584 | H15: 1101 | I15: 1413 | J15: 3779 | K15: 145 | L15: 806 | M15: 438
B16: 本國籍 | C16: National | D16: 7018 | E16: 7 | F16: 421 | G16: 1546 | H16: 1069 | I16: 1407 | J16: 3732 | K16: 145 | L16: 795 | M16: 380
B17: 一般民眾 | C17: General | D17: 6851 | E17: 7 | F17: 412 | G17: 1524 | H17: 1025 | I17: 1240 | J17: 3392 | K17: 134 | L17: 746 | M17: 365
B18: 原住民 | C18: Indigenous | D18: 167 | E18: 0 | F18: 9 | G18: 22 | H18: 44 | I18: 167 | J18: 340 | K18: 11 | L18: 49 | M18: 15
B19: 大陸籍(含港澳) | C19: Mainlander | D19: 115 | E19: 0 | F19: 1 | G19: 27 | H19: 16 | I19: 2 | J19: 26 | K19: 0 | L19: 7 | M19: 38
B20: 外國籍 | C20: Foreigner | D20: 107 | E20: 0 | F20: 1 | G20: 11 | H20: 16 | I20: 4 | J20: 21 | K20: 0 | L20: 4 | M20: 20
A21: 新北市 | C21: New Taipei City | D21: 46 | E21: 3 | F21: 0 | G21: 18 | H21: 150 | I21: 257 | J21: 172 | K21: 1 | L21: 29 | M21: 13
A22: 男 Male | B22: 計 | C22: Subtotal | D22: 4 | E22: 0 | F22: 0 | G22: 1 | H22: 1 | I22: 0 | J22: 26 | K22: 0 | L22: 1 | M22: 4
B23: 本國籍 | C23: National | D23: 4 | E23: 0 | F23: 0 | G23: 1 | H23: 1 | I23: 0 | J23: 26 | K23: 0 | L23: 1 | M23: 4
B24: 一般民眾 | C24: General | D24: 4 | E24: 0 | F24: 0 | G24: 1 | H24: 1 | I24: 0 | J24: 26 | K24: 0 | L24: 1 | M24: 4
B25: 原住民 | C25: Indigenous | D25: 0 | E25: 0 | F25: 0 | G25: 0 | H25: 0 | I25: 0 | J25: 0 | K25: 0 | L25: 0 | M25: 0
B26: 大陸籍(含港澳) | C26: Mainlander | D26: 0 | E26: 0 | F26: 0 | G26: 0 | H26: 0 | I26: 0 | J26: 0 | K26: 0 | L26: 0 | M26: 0
B27: 外國籍 | C27: Foreigner | D27: 0 | E27: 0 | F27: 0 | G27: 0 | H27: 0 | I27: 0 | J27: 0 | K27: 0 | L27: 0 | M27: 0
A28: 女 Female | B28: 計 | C28: Subtotal | D28: 42 | E28: 3 | F28: 0 | G28: 17 | H28: 149 | I28: 257 | J28: 146 | K28: 1 | L28: 28 | M28: 9
B29: 本國籍 | C29: National | D29: 38 | E29: 3 | F29: 0 | G29: 17 | H29: 141 | I29: 257 | J29: 144 | K29: 1 | L29: 26 | M29: 7
B30: 一般民眾 | C30: General | D30: 37 | E30: 3 | F30: 0 | G30: 17 | H30: 139 | I30: 247 | J30: 141 | K30: 1 | L30: 25 | M30: 7
B31: 原住民 | C31: Indigenous | D31: 1 | E31: 0 | F31: 0 | G31: 0 | H31: 2 | I31: 10 | J31: 3 | K31: 0 | L31: 1 | M31: 0
B32: 大陸籍(含港澳) | C32: Mainlander | D32: 2 | E32: 0 | F32: 0 | G32: 0 | H32: 3 | I32: 0 | J32: 0 | K32: 0 | L32: 1 | M32: 2
B33: 外國籍 | C33: Foreigner | D33: 2 | E33: 0 | F33: 0 | G33: 0 | H33: 5 | I33: 0 | J33: 2 | K33: 0 | L33: 1 | M33: 0
A34: 臺北市 | C34: Taipei City | D34: 382 | E34: 0 | F34: 36 | G34: 378 | H34: 201 | I34: 127 | J34: 697 | K34: 4 | L34: 42 | M34: 175
A35: 男 Male | B35: 計 | C35: Subtotal | D35: 38 | E35: 0 | F35: 2 | G35: 2 | H35: 5 | I35: 0 | J35: 60 | K35: 0 | L35: 4 | M35: 57
B36: 本國籍 | C36: National | D36: 38 | E36: 0 | F36: 2 | G36: 2 | H36: 5 | I36: 0 | J36: 60 | K36: 0 | L36: 4 | M36: 57
B37: 一般民眾 | C37: General | D37: 37 | E37: 0 | F37: 2 | G37: 2 | H37: 5 | I37: 0 | J37: 60 | K37: 0 | L37: 4 | M37: 56
B38: 原住民 | C38: Indigenous | D38: 1 | E38: 0 | F38: 0 | G38: 0 | H38: 0 | I38: 0 | J38: 0 | K38: 0 | L38: 0 | M38: 1
B39: 大陸籍(含港澳) | C39: Mainlander | D39: 0 | E39: 0 | F39: 0 | G39: 0 | H39: 0 | I39: 0 | J39: 0 | K39: 0 | L39: 0 | M39: 0
B40: 外國籍 | C40: Foreigner | D40: 0 | E40: 0 | F40: 0 | G40: 0 | H40: 0 | I40: 0 | J40: 0 | K40: 0 | L40: 0 | M40: 0
A41: 女 Female | B41: 計 | C41: Subtotal | D41: 344 | E41: 0 | F41: 34 | G41: 376 | H41: 196 | I41: 127 | J41: 637 | K41: 4 | L41: 38 | M41: 118
B42: 本國籍 | C42: National | D42: 309 | E42: 0 | F42: 33 | G42: 362 | H42: 183 | I42: 125 | J42: 612 | K42: 4 | L42: 38 | M42: 111
B43: 一般民眾 | C43: General | D43: 304 | E43: 0 | F43: 33 | G43: 361 | H43: 180 | I43: 119 | J43: 598 | K43: 4 | L43: 35 | M43: 108
B44: 原住民 | C44: Indigenous | D44: 5 | E44: 0 | F44: 0 | G44: 1 | H44: 3 | I44: 6 | J44: 14 | K44: 0 | L44: 3 | M44: 3
B45: 大陸籍(含港澳) | C45: Mainlander | D45: 26 | E45: 0 | F45: 0 | G45: 11 | H45: 6 | I45: 1 | J45: 14 | K45: 0 | L45: 0 | M45: 3
B46: 外國籍 | C46: Foreigner | D46: 9 | E46: 0 | F46: 1 | G46: 3 | H46: 7 | I46: 1 | J46: 11 | K46: 0 | L46: 0 | M46: 4
A47: 桃園市 | C47: Taoyuan City | D47: 959 | E47: 1 | F47: 85 | G47: 171 | H47: 54 | I47: 116 | J47: 367 | K47: 31 | L47: 85 | M47: 5
A48: 男 Male | B48: 計 | C48: Subtotal | D48: 105 | E48: 0 | F48: 24 | G48: 4 | H48: 2 | I48: 0 | J48: 31 | K48: 7 | L48: 2 | M48: 3
B49: 本國籍 | C49: National | D49: 105 | E49: 0 | F49: 24 | G49: 4 | H49: 2 | I49: 0 | J49: 31 | K49: 7 | L49: 2 | M49: 3
B50: 一般民眾 | C50: General | D50: 99 | E50: 0 | F50: 23 | G50: 4 | H50: 2 | I50: 0 | J50: 29 | K50: 6 | L50: 2 | M50: 2
B51: 原住民 | C51: Indigenous | D51: 6 | E51: 0 | F51: 1 | G51: 0 | H51: 0 | I51: 0 | J51: 2 | K51: 1 | L51: 0 | M51: 1
B52: 大陸籍(含港澳) | C52: Mainlander | D52: 0 | E52: 0 | F52: 0 | G52: 0 | H52: 0 | I52: 0 | J52: 0 | K52: 0 | L52: 0 | M52: 0
B53: 外國籍 | C53: Foreigner | D53: 0 | E53: 0 | F53: 0 | G53: 0 | H53: 0 | I53: 0 | J53: 0 | K53: 0 | L53: 0 | M53: 0
A54: 女 Female | B54: 計 | C54: Subtotal | D54: 854 | E54: 1 | F54: 61 | G54: 167 | H54: 52 | I54: 116 | J54: 336 | K54: 24 | L54: 83 | M54: 2
B55: 本國籍 | C55: National | D55: 848 | E55: 1 | F55: 61 | G55: 167 | H55: 52 | I55: 116 | J55: 335 | K55: 24 | L55: 82 | M55: 2
B56: 一般民眾 | C56: General | D56: 820 | E56: 1 | F56: 60 | G56: 165 | H56: 48 | I56: 99 | J56: 296 | K56: 18 | L56: 73 | M56: 2
B57: 原住民 | C57: Indigenous | D57: 28 | E57: 0 | F57: 1 | G57: 2 | H57: 4 | I57: 17 | J57: 39 | K57: 6 | L57: 9 | M57: 0
B58: 大陸籍(含港澳) | C58: Mainlander | D58: 6 | E58: 0 | F58: 0 | G58: 0 | H58: 0 | I58: 0 | J58: 1 | K58: 0 | L58: 1 | M58: 0
B59: 外國籍 | C59: Foreigner | D59: 0 | E59: 0 | F59: 0 | G59: 0 | H59: 0 | I59: 0 | J59: 0 | K59: 0 | L59: 0 | M59: 0
A60: 臺中市 | C60: Taichung City | D60: 1387 | E60: 0 | F60: 71 | G60: 177 | H60: 286 | I60: 208 | J60: 688 | K60: 12 | L60: 127 | M60: 47
A61: 男 Male | B61: 計 | C61: Subtotal | D61: 161 | E61: 0 | F61: 16 | G61: 3 | H61: 14 | I61: 0 | J61: 57 | K61: 3 | L61: 5 | M61: 15
B62: 本國籍 | C62: National | D62: 156 | E62: 0 | F62: 15 | G62: 3 | H62: 13 | I62: 0 | J62: 56 | K62: 3 | L62: 5 | M62: 15
B63: 一般民眾 | C63: General | D63: 153 | E63: 0 | F63: 14 | G63: 3 | H63: 13 | I63: 0 | J63: 55 | K63: 3 | L63: 4 | M63: 13
B64: 原住民 | C64: Indigenous | D64: 3 | E64: 0 | F64: 1 | G64: 0 | H64: 0 | I64: 0 | J64: 1 | K64: 0 | L64: 1 | M64: 2
B65: 大陸籍(含港澳) | C65: Mainlander | D65: 2 | E65: 0 | F65: 1 | G65: 0 | H65: 1 | I65: 0 | J65: 0 | K65: 0 | L65: 0 | M65: 0
B66: 外國籍 | C66: Foreigner | D66: 3 | E66: 0 | F66: 0 | G66: 0 | H66: 0 | I66: 0 | J66: 1 | K66: 0 | L66: 0 | M66: 0
A67: 女 Female | B67: 計 | C67: Subtotal | D67: 1226 | E67: 0 | F67: 55 | G67: 174 | H67: 272 | I67: 208 | J67: 631 | K67: 9 | L67: 122 | M67: 32
B68: 本國籍 | C68: National | D68: 1165 | E68: 0 | F68: 55 | G68: 171 | H68: 269 | I68: 206 | J68: 626 | K68: 9 | L68: 120 | M68: 31
B69: 一般民眾 | C69: General | D69: 1141 | E69: 0 | F69: 54 | G69: 167 | H69: 258 | I69: 185 | J69: 591 | K69: 9 | L69: 117 | M69: 28
B70: 原住民 | C70: Indigenous | D70: 24 | E70: 0 | F70: 1 | G70: 4 | H70: 11 | I70: 21 | J70: 35 | K70: 0 | L70: 3 | M70: 3
B71: 大陸籍(含港澳) | C71: Mainlander | D71: 23 | E71: 0 | F71: 0 | G71: 2 | H71: 2 | I71: 1 | J71: 4 | K71: 0 | L71: 1 | M71: 1
B72: 外國籍 | C72: Foreigner | D72: 38 | E72: 0 | F72: 0 | G72: 1 | H72: 1 | I72: 1 | J72: 1 | K72: 0 | L72: 1 | M72: 0
A73: 臺南市 | C73: Tainan City | D73: 991 | E73: 2 | F73: 55 | G73: 93 | H73: 51 | I73: 73 | J73: 81 | K73: 18 | L73: 80 | M73: 38
A74: 男 Male | B74: 計 | C74: Subtotal | D74: 151 | E74: 1 | F74: 9 | G74: 4 | H74: 2 | I74: 0 | J74: 4 | K74: 4 | L74: 5 | M74: 11
B75: 本國籍 | C75: National | D75: 143 | E75: 1 | F75: 9 | G75: 4 | H75: 2 | I75: 0 | J75: 4 | K75: 4 | L75: 5 | M75: 11
B76: 一般民眾 | C76: General | D76: 142 | E76: 1 | F76: 9 | G76: 4 | H76: 2 | I76: 0 | J76: 4 | K76: 4 | L76: 5 | M76: 11
B77: 原住民 | C77: Indigenous | D77: 1 | E77: 0 | F77: 0 | G77: 0 | H77: 0 | I77: 0 | J77: 0 | K77: 0 | L77: 0 | M77: 0
B78: 大陸籍(含港澳) | C78: Mainlander | D78: 4 | E78: 0 | F78: 0 | G78: 0 | H78: 0 | I78: 0 | J78: 0 | K78: 0 | L78: 0 | M78: 0
B79: 外國籍 | C79: Foreigner | D79: 4 | E79: 0 | F79: 0 | G79: 0 | H79: 0 | I79: 0 | J79: 0 | K79: 0 | L79: 0 | M79: 0
A80: 女 Female | B80: 計 | C80: Subtotal | D80: 840 | E80: 1 | F80: 46 | G80: 89 | H80: 49 | I80: 73 | J80: 77 | K80: 14 | L80: 75 | M80: 27
B81: 本國籍 | C81: National | D81: 817 | E81: 1 | F81: 46 | G81: 88 | H81: 48 | I81: 73 | J81: 77 | K81: 14 | L81: 75 | M81: 27
B82: 一般民眾 | C82: General | D82: 814 | E82: 1 | F82: 45 | G82: 87 | H82: 48 | I82: 70 | J82: 76 | K82: 14 | L82: 74 | M82: 26
B83: 原住民 | C83: Indigenous | D83: 3 | E83: 0 | F83: 1 | G83: 1 | H83: 0 | I83: 3 | J83: 1 | K83: 0 | L83: 1 | M83: 1
B84: 大陸籍(含港澳) | C84: Mainlander | D84: 8 | E84: 0 | F84: 0 | G84: 1 | H84: 1 | I84: 0 | J84: 0 | K84: 0 | L84: 0 | M84: 0
B85: 外國籍 | C85: Foreigner | D85: 15 | E85: 0 | F85: 0 | G85: 0 | H85: 0 | I85: 0 | J85: 0 | K85: 0 | L85: 0 | M85: 0
A86: 高雄市 | C86: Kaohsiung City | D86: 288 | E86: 1 | F86: 4 | G86: 62 | H86: 132 | I86: 173 | J86: 113 | K86: 8 | L86: 96 | M86: 27
A87: 男 Male | B87: 計 | C87: Subtotal | D87: 23 | E87: 0 | F87: 1 | G87: 0 | H87: 9 | I87: 0 | J87: 9 | K87: 2 | L87: 4 | M87: 6
B88: 本國籍 | C88: National | D88: 22 | E88: 0 | F88: 1 | G88: 0 | H88: 9 | I88: 0 | J88: 9 | K88: 2 | L88: 4 | M88: 6
B89: 一般民眾 | C89: General | D89: 22 | E89: 0 | F89: 1 | G89: 0 | H89: 9 | I89: 0 | J89: 9 | K89: 2 | L89: 4 | M89: 6
B90: 原住民 | C90: Indigenous | D90: 0 | E90: 0 | F90: 0 | G90: 0 | H90: 0 | I90: 0 | J90: 0 | K90: 0 | L90: 0 | M90: 0
B91: 大陸籍(含港澳) | C91: Mainlander | D91: 0 | E91: 0 | F91: 0 | G91: 0 | H91: 0 | I91: 0 | J91: 0 | K91: 0 | L91: 0 | M91: 0
B92: 外國籍 | C92: Foreigner | D92: 1 | E92: 0 | F92: 0 | G92: 0 | H92: 0 | I92: 0 | J92: 0 | K92: 0 | L92: 0 | M92: 0
A93: 女 Female | B93: 計 | C93: Subtotal | D93: 265 | E93: 1 | F93: 3 | G93: 62 | H93: 123 | I93: 173 | J93: 104 | K93: 6 | L93: 92 | M93: 21
B94: 本國籍 | C94: National | D94: 253 | E94: 1 | F94: 3 | G94: 59 | H94: 120 | I94: 173 | J94: 99 | K94: 6 | L94: 89 | M94: 7
B95: 一般民眾 | C95: General | D95: 251 | E95: 1 | F95: 3 | G95: 59 | H95: 115 | I95: 163 | J95: 98 | K95: 6 | L95: 87 | M95: 7
B96: 原住民 | C96: Indigenous | D96: 2 | E96: 0 | F96: 0 | G96: 0 | H96: 5 | I96: 10 | J96: 1 | K96: 0 | L96: 2 | M96: 0
B97: 大陸籍(含港澳) | C97: Mainlander | D97: 9 | E97: 0 | F97: 0 | G97: 3 | H97: 2 | I97: 0 | J97: 4 | K97: 0 | L97: 3 | M97: 8
B98: 外國籍 | C98: Foreigner | D98: 3 | E98: 0 | F98: 0 | G98: 0 | H98: 1 | I98: 0 | J98: 1 | K98: 0 | L98: 0 | M98: 6
A99: 宜蘭縣 | C99: Yilan County | D99: 224 | E99: 0 | F99: 32 | G99: 21 | H99: 14 | I99: 10 | J99: 28 | K99: 1 | L99: 34 | M99: 0
A100: 男 Male | B100: 計 | C100: Subtotal | D100: 25 | E100: 0 | F100: 15 | G100: 0 | H100: 0 | I100: 0 | J100: 3 | K100: 0 | L100: 2 | M100: 0
...

Sheet 2020
A1: 特殊境遇家庭符合款項 Conditions of Families in Hardship
A2: 109年, 2020
A3: 單位：人 Unit:Persons
A4: 地區、性別及設籍別 Locality, Sex & Identity | D4: 符 合 特 殊 境 遇 家 庭 扶 助 條 例 第 4 條 第 1 項 各 款 規 定 之 人 數 (可複選) Under one of the situations of Article 4,Item1 of Act of Assistance for Family in Hardship (Multiple Options)
D5: 第 1 款 Clause1 | F5: 第 2 款 Clause2 | H5: 第 3 款 Clause3 | I5: 第 4 款 Clause4 | J5: 第 5 款 Clause5 | L5: 第 6 款 Clause6 | M5: 第7款 Clause7
D6: 65歲以下 且配偶死亡 | E6: 65歲以下且配偶失蹤經向警察機關報案協尋未獲達6個月以上 | F6: 因配偶惡意遺棄經判決離婚確定或已完成協議離婚登記 | G6: 受配偶不堪同居之虐待經判決離婚確定或已完成協議離婚登記 | H6: 家庭暴力受害 | I6: 未婚懷孕婦女,懷胎3個月以上至分娩2個月以內 | J6: 因離婚、喪偶、未婚生子獨自扶養18歲以下子女，其無工作能力，或雖有工作能力，因遭遇重大傷病或照顧6歲以下子女致不能工作 | K6: 獨自扶養18歲以下父母無力扶養之孫子女，其無工作能力，或雖有工作能力，因遭遇重大傷病或照顧6歲以下孫子女致不能工作 | L6: 配偶處1年以上之徒刑或受拘束人身自由之保安處分1年以上，且在執行中 | M6: 其他經直轄市、縣(市)政府評估，因3個月內生活發生重大變故導致生活、經濟困難者，且其重大變故非因個人責任、債務、非因自願性失業等事由
D7: Spouse is Dead | E7: Spouse is Missing | F7: Abandoned with Malice, and (had) Divorced by Judicial Decree | G7: Abused and (had) Divorced by Judicial Decree | H7: Domestic Violence | I7: Unmarried Pregnarcy from Over 3 Months to 2 Months after Accouchement | J7: Single Parent with No Working Ability or Unable to Work | K7: Grandparents with No Working Ability or Unable to Work | L7: Whose Spouse is Sentenced to Penal Servitude for Over 1 Year and in Prison | M7: Live in Hardship
A8: 總計 | C8: Total | D8: 8430 | E8: 12 | F8: 637 | G8: 1672 | H8: 1139 | I8: 1714 | J8: 4437 | K8: 195 | L8: 886 | M8: 755
A9: 男 Male | B9: 計 | C9: Subtotal | D9: 1000 | E9: 4 | F9: 179 | G9: 30 | H9: 39 | I9: 0 | J9: 663 | K9: 48 | L9: 38 | M9: 314
B10: 本國籍 | C10: National | D10: 972 | E10: 4 | F10: 178 | G10: 30 | H10: 37 | I10: 0 | J10: 661 | K10: 48 | L10: 36 | M10: 311
B11: 一般民眾 | C11: General | D11: 942 | E11: 3 | F11: 175 | G11: 30 | H11: 37 | I11: 0 | J11: 621 | K11: 46 | L11: 34 | M11: 294
B12: 原住民 | C12: Indigenous | D12: 30 | E12: 1 | F12: 3 | G12: 0 | H12: 0 | I12: 0 | J12: 40 | K12: 2 | L12: 2 | M12: 17
B13: 大陸籍(含港澳) | C13: Mainlander | D13: 9 | E13: 0 | F13: 1 | G13: 0 | H13: 1 | I13: 0 | J13: 1 | K13: 0 | L13: 1 | M13: 2
B14: 外國籍 | C14: Foreigner | D14: 19 | E14: 0 | F14: 0 | G14: 0 | H14: 1 | I14: 0 | J14: 1 | K14: 0 | L14: 1 | M14: 1
A15: 女 Female | B15: 計 | C15: Subtotal | D15: 7430 | E15: 8 | F15: 458 | G15: 1642 | H15: 1100 | I15: 1714 | J15: 3774 | K15: 147 | L15: 848 | M15: 441
B16: 本國籍 | C16: National | D16: 7214 | E16: 8 | F16: 452 | G16: 1605 | H16: 1067 | I16: 1710 | J16: 3730 | K16: 147 | L16: 837 | M16: 419
B17: 一般民眾 | C17: General | D17: 7035 | E17: 8 | F17: 439 | G17: 1574 | H17: 1010 | I17: 1549 | J17: 3394 | K17: 136 | L17: 798 | M17: 383
B18: 原住民 | C18: Indigenous | D18: 179 | E18: 0 | F18: 13 | G18: 31 | H18: 57 | I18: 161 | J18: 336 | K18: 11 | L18: 39 | M18: 36
B19: 大陸籍(含港澳) | C19: Mainlander | D19: 108 | E19: 0 | F19: 4 | G19: 30 | H19: 22 | I19: 2 | J19: 24 | K19: 0 | L19: 6 | M19: 15
B20: 外國籍 | C20: Foreigner | D20: 108 | E20: 0 | F20: 2 | G20: 7 | H20: 11 | I20: 2 | J20: 20 | K20: 0 | L20: 5 | M20: 7
A21: 新北市 | C21: New Taipei City | D21: 60 | E21: 1 | F21: 1 | G21: 14 | H21: 131 | I21: 286 | J21: 183 | K21: 1 | L21: 39 | M21: 21
A22: 男 Male | B22: 計 | C22: Subtotal | D22: 6 | E22: 0 | F22: 1 | G22: 0 | H22: 6 | I22: 0 | J22: 31 | K22: 0 | L22: 3 | M22: 8
B23: 本國籍 | C23: National | D23: 6 | E23: 0 | F23: 1 | G23: 0 | H23: 6 | I23: 0 | J23: 31 | K23: 0 | L23: 3 | M23: 8
B24: 一般民眾 | C24: General | D24: 6 | E24: 0 | F24: 1 | G24: 0 | H24: 6 | I24: 0 | J24: 29 | K24: 0 | L24: 3 | M24: 8
B25: 原住民 | C25: Indigenous | D25: 0 | E25: 0 | F25: 0 | G25: 0 | H25: 0 | I25: 0 | J25: 2 | K25: 0 | L25: 0 | M25: 0
B26: 大陸籍(含港澳) | C26: Mainlander | D26: 0 | E26: 0 | F26: 0 | G26: 0 | H26: 0 | I26: 0 | J26: 0 | K26: 0 | L26: 0 | M26: 0
B27: 外國籍 | C27: Foreigner | D27: 0 | E27: 0 | F27: 0 | G27: 0 | H27: 0 | I27: 0 | J27: 0 | K27: 0 | L27: 0 | M27: 0
A28: 女 Female | B28: 計 | C28: Subtotal | D28: 54 | E28: 1 | F28: 0 | G28: 14 | H28: 125 | I28: 286 | J28: 152 | K28: 1 | L28: 36 | M28: 13
B29: 本國籍 | C29: National | D29: 49 | E29: 1 | F29: 0 | G29: 13 | H29: 121 | I29: 286 | J29: 150 | K29: 1 | L29: 34 | M29: 13
B30: 一般民眾 | C30: General | D30: 49 | E30: 1 | F30: 0 | G30: 13 | H30: 117 | I30: 280 | J30: 145 | K30: 1 | L30: 34 | M30: 13
B31: 原住民 | C31: Indigenous | D31: 0 | E31: 0 | F31: 0 | G31: 0 | H31: 4 | I31: 6 | J31: 5 | K31: 0 | L31: 0 | M31: 0
B32: 大陸籍(含港澳) | C32: Mainlander | D32: 4 | E32: 0 | F32: 0 | G32: 1 | H32: 2 | I32: 0 | J32: 2 | K32: 0 | L32: 1 | M32: 0
B33: 外國籍 | C33: Foreigner | D33: 1 | E33: 0 | F33: 0 | G33: 0 | H33: 2 | I33: 0 | J33: 0 | K33: 0 | L33: 1 | M33: 0
A34: 臺北市 | C34: Taipei City | D34: 300 | E34: 0 | F34: 37 | G34: 385 | H34: 208 | I34: 124 | J34: 734 | K34: 5 | L34: 40 | M34: 228
A35: 男 Male | B35: 計 | C35: Subtotal | D35: 31 | E35: 0 | F35: 2 | G35: 1 | H35: 5 | I35: 0 | J35: 68 | K35: 0 | L35: 5 | M35: 86
B36: 本國籍 | C36: National | D36: 31 | E36: 0 | F36: 2 | G36: 1 | H36: 5 | I36: 0 | J36: 68 | K36: 0 | L36: 5 | M36: 86
B37: 一般民眾 | C37: General | D37: 31 | E37: 0 | F37: 2 | G37: 1 | H37: 5 | I37: 0 | J37: 68 | K37: 0 | L37: 5 | M37: 86
B38: 原住民 | C38: Indigenous | D38: 0 | E38: 0 | F38: 0 | G38: 0 | H38: 0 | I38: 0 | J38: 0 | K38: 0 | L38: 0 | M38: 0
B39: 大陸籍(含港澳) | C39: Mainlander | D39: 0 | E39: 0 | F39: 0 | G39: 0 | H39: 0 | I39: 0 | J39: 0 | K39: 0 | L39: 0 | M39: 0
B40: 外國籍 | C40: Foreigner | D40: 0 | E40: 0 | F40: 0 | G40: 0 | H40: 0 | I40: 0 | J40: 0 | K40: 0 | L40: 0 | M40: 0
A41: 女 Female | B41: 計 | C41: Subtotal | D41: 269 | E41: 0 | F41: 35 | G41: 384 | H41: 203 | I41: 124 | J41: 666 | K41: 5 | L41: 35 | M41: 142
B42: 本國籍 | C42: National | D42: 234 | E42: 0 | F42: 34 | G42: 368 | H42: 189 | I42: 120 | J42: 636 | K42: 5 | L42: 33 | M42: 137
B43: 一般民眾 | C43: General | D43: 226 | E43: 0 | F43: 33 | G43: 365 | H43: 187 | I43: 113 | J43: 613 | K43: 5 | L43: 33 | M43: 133
B44: 原住民 | C44: Indigenous | D44: 8 | E44: 0 | F44: 1 | G44: 3 | H44: 2 | I44: 7 | J44: 23 | K44: 0 | L44: 0 | M44: 4
B45: 大陸籍(含港澳) | C45: Mainlander | D45: 26 | E45: 0 | F45: 0 | G45: 14 | H45: 8 | I45: 2 | J45: 15 | K45: 0 | L45: 0 | M45: 5
B46: 外國籍 | C46: Foreigner | D46: 9 | E46: 0 | F46: 1 | G46: 2 | H46: 6 | I46: 2 | J46: 15 | K46: 0 | L46: 2 | M46: 0
A47: 桃園市 | C47: Taoyuan City | D47: 1031 | E47: 0 | F47: 97 | G47: 181 | H47: 35 | I47: 178 | J47: 403 | K47: 24 | L47: 103 | M47: 10
A48: 男 Male | B48: 計 | C48: Subtotal | D48: 111 | E48: 0 | F48: 30 | G48: 4 | H48: 3 | I48: 0 | J48: 31 | K48: 3 | L48: 0 | M48: 3
B49: 本國籍 | C49: National | D49: 111 | E49: 0 | F49: 30 | G49: 4 | H49: 3 | I49: 0 | J49: 31 | K49: 3 | L49: 0 | M49: 3
B50: 一般民眾 | C50: General | D50: 108 | E50: 0 | F50: 29 | G50: 4 | H50: 3 | I50: 0 | J50: 29 | K50: 3 | L50: 0 | M50: 3
B51: 原住民 | C51: Indigenous | D51: 3 | E51: 0 | F51: 1 | G51: 0 | H51: 0 | I51: 0 | J51: 2 | K51: 0 | L51: 0 | M51: 0
B52: 大陸籍(含港澳) | C52: Mainlander | D52: 0 | E52: 0 | F52: 0 | G52: 0 | H52: 0 | I52: 0 | J52: 0 | K52: 0 | L52: 0 | M52: 0
B53: 外國籍 | C53: Foreigner | D53: 0 | E53: 0 | F53: 0 | G53: 0 | H53: 0 | I53: 0 | J53: 0 | K53: 0 | L53: 0 | M53: 0
A54: 女 Female | B54: 計 | C54: Subtotal | D54: 920 | E54: 0 | F54: 67 | G54: 177 | H54: 32 | I54: 178 | J54: 372 | K54: 21 | L54: 103 | M54: 7
B55: 本國籍 | C55: National | D55: 915 | E55: 0 | F55: 66 | G55: 177 | H55: 32 | I55: 178 | J55: 371 | K55: 21 | L55: 102 | M55: 7
B56: 一般民眾 | C56: General | D56: 886 | E56: 0 | F56: 64 | G56: 172 | H56: 28 | I56: 153 | J56: 323 | K56: 18 | L56: 91 | M56: 7
B57: 原住民 | C57: Indigenous | D57: 29 | E57: 0 | F57: 2 | G57: 5 | H57: 4 | I57: 25 | J57: 48 | K57: 3 | L57: 11 | M57: 0
B58: 大陸籍(含港澳) | C58: Mainlander | D58: 5 | E58: 0 | F58: 1 | G58: 0 | H58: 0 | I58: 0 | J58: 1 | K58: 0 | L58: 1 | M58: 0
B59: 外國籍 | C59: Foreigner | D59: 0 | E59: 0 | F59: 0 | G59: 0 | H59: 0 | I59: 0 | J59: 0 | K59: 0 | L59: 0 | M59: 0
A60: 臺中市 | C60: Taichung City | D60: 1498 | E60: 4 | F60: 78 | G60: 171 | H60: 309 | I60: 277 | J60: 614 | K60: 10 | L60: 141 | M60: 52
A61: 男 Male | B61: 計 | C61: Subtotal | D61: 171 | E61: 0 | F61: 14 | G61: 5 | H61: 10 | I61: 0 | J61: 49 | K61: 3 | L61: 8 | M61: 20
B62: 本國籍 | C62: National | D62: 163 | E62: 0 | F62: 13 | G62: 5 | H62: 10 | I62: 0 | J62: 49 | K62: 3 | L62: 7 | M62: 20
B63: 一般民眾 | C63: General | D63: 161 | E63: 0 | F63: 12 | G63: 5 | H63: 10 | I63: 0 | J63: 49 | K63: 3 | L63: 6 | M63: 20
B64: 原住民 | C64: Indigenous | D64: 2 | E64: 0 | F64: 1 | G64: 0 | H64: 0 | I64: 0 | J64: 0 | K64: 0 | L64: 1 | M64: 0
B65: 大陸籍(含港澳) | C65: Mainlander | D65: 2 | E65: 0 | F65: 1 | G65: 0 | H65: 0 | I65: 0 | J65: 0 | K65: 0 | L65: 1 | M65: 0
B66: 外國籍 | C66: Foreigner | D66: 6 | E66: 0 | F66: 0 | G66: 0 | H66: 0 | I66: 0 | J66: 0 | K66: 0 | L66: 0 | M66: 0
A67: 女 Female | B67: 計 | C67: Subtotal | D67: 1327 | E67: 4 | F67: 64 | G67: 166 | H67: 299 | I67: 277 | J67: 565 | K67: 7 | L67: 133 | M67: 32
B68: 本國籍 | C68: National | D68: 1259 | E68: 4 | F68: 64 | G68: 163 | H68: 297 | I68: 277 | J68: 559 | K68: 7 | L68: 131 | M68: 29
B69: 一般民眾 | C69: General | D69: 1236 | E69: 4 | F69: 63 | G69: 160 | H69: 280 | I69: 252 | J69: 528 | K69: 6 | L69: 129 | M69: 28
B70: 原住民 | C70: Indigenous | D70: 23 | E70: 0 | F70: 1 | G70: 3 | H70: 17 | I70: 25 | J70: 31 | K70: 1 | L70: 2 | M70: 1
B71: 大陸籍(含港澳) | C71: Mainlander | D71: 25 | E71: 0 | F71: 0 | G71: 2 | H71: 1 | I71: 0 | J71: 4 | K71: 0 | L71: 1 | M71: 1
B72: 外國籍 | C72: Foreigner | D72: 43 | E72: 0 | F72: 0 | G72: 1 | H72: 1 | I72: 0 | J72: 2 | K72: 0 | L72: 1 | M72: 2
A73: 臺南市 | C73: Tainan City | D73: 1047 | E73: 2 | F73: 56 | G73: 93 | H73: 70 | I73: 69 | J73: 76 | K73: 24 | L73: 80 | M73: 51
A74: 男 Male | B74: 計 | C74: Subtotal | D74: 162 | E74: 1 | F74: 10 | G74: 3 | H74: 2 | I74: 0 | J74: 4 | K74: 4 | L74: 5 | M74: 24
B75: 本國籍 | C75: National | D75: 153 | E75: 1 | F75: 10 | G75: 3 | H75: 2 | I75: 0 | J75: 4 | K75: 4 | L75: 5 | M75: 24
B76: 一般民眾 | C76: General | D76: 152 | E76: 1 | F76: 10 | G76: 3 | H76: 2 | I76: 0 | J76: 4 | K76: 4 | L76: 5 | M76: 18
B77: 原住民 | C77: Indigenous | D77: 1 | E77: 0 | F77: 0 | G77: 0 | H77: 0 | I77: 0 | J77: 0 | K77: 0 | L77: 0 | M77: 6
B78: 大陸籍(含港澳) | C78: Mainlander | D78: 5 | E78: 0 | F78: 0 | G78: 0 | H78: 0 | I78: 0 | J78: 0 | K78: 0 | L78: 0 | M78: 0
B79: 外國籍 | C79: Foreigner | D79: 4 | E79: 0 | F79: 0 | G79: 0 | H79: 0 | I79: 0 | J79: 0 | K79: 0 | L79: 0 | M79: 0
A80: 女 Female | B80: 計 | C80: Subtotal | D80: 885 | E80: 1 | F80: 46 | G80: 90 | H80: 68 | I80: 69 | J80: 72 | K80: 20 | L80: 75 | M80: 27
B81: 本國籍 | C81: National | D81: 861 | E81: 1 | F81: 46 | G81: 89 | H81: 68 | I81: 69 | J81: 72 | K81: 20 | L81: 75 | M81: 27
B82: 一般民眾 | C82: General | D82: 859 | E82: 1 | F82: 45 | G82: 88 | H82: 65 | I82: 63 | J82: 71 | K82: 19 | L82: 75 | M82: 26
B83: 原住民 | C83: Indigenous | D83: 2 | E83: 0 | F83: 1 | G83: 1 | H83: 3 | I83: 6 | J83: 1 | K83: 1 | L83: 0 | M83: 1
B84: 大陸籍(含港澳) | C84: Mainlander | D84: 10 | E84: 0 | F84: 0 | G84: 1 | H84: 0 | I84: 0 | J84: 0 | K84: 0 | L84: 0 | M84: 0
B85: 外國籍 | C85: Foreigner | D85: 14 | E85: 0 | F85: 0 | G85: 0 | H85: 0 | I85: 0 | J85: 0 | K85: 0 | L85: 0 | M85: 0
A86: 高雄市 | C86: Kaohsiung City | D86: 271 | E86: 0 | F86: 3 | G86: 67 | H86: 116 | I86: 204 | J86: 110 | K86: 10 | L86: 78 | M86: 17
A87: 男 Male | B87: 計 | C87: Subtotal | D87: 28 | E87: 0 | F87: 0 | G87: 0 | H87: 2 | I87: 0 | J87: 9 | K87: 3 | L87: 2 | M87: 4
B88: 本國籍 | C88: National | D88: 27 | E88: 0 | F88: 0 | G88: 0 | H88: 2 | I88: 0 | J88: 9 | K88: 3 | L88: 2 | M88: 3
B89: 一般民眾 | C89: General | D89: 27 | E89: 0 | F89: 0 | G89: 0 | H89: 2 | I89: 0 | J89: 9 | K89: 3 | L89: 2 | M89: 3
B90: 原住民 | C90: Indigenous | D90: 0 | E90: 0 | F90: 0 | G90: 0 | H90: 0 | I90: 0 | J90: 0 | K90: 0 | L90: 0 | M90: 0
B91: 大陸籍(含港澳) | C91: Mainlander | D91: 0 | E91: 0 | F91: 0 | G91: 0 | H91: 0 | I91: 0 | J91: 0 | K91: 0 | L91: 0 | M91: 0
B92: 外國籍 | C92: Foreigner | D92: 1 | E92: 0 | F92: 0 | G92: 0 | H92: 0 | I92: 0 | J92: 0 | K92: 0 | L92: 0 | M92: 1
A93: 女 Female | B93: 計 | C93: Subtotal | D93: 243 | E93: 0 | F93: 3 | G93: 67 | H93: 114 | I93: 204 | J93: 101 | K93: 7 | L93: 76 | M93: 13
B94: 本國籍 | C94: National | D94: 230 | E94: 0 | F94: 3 | G94: 62 | H94: 105 | I94: 204 | J94: 98 | K94: 7 | L94: 75 | M94: 8
B95: 一般民眾 | C95: General | D95: 226 | E95: 0 | F95: 3 | G95: 61 | H95: 98 | I95: 197 | J95: 96 | K95: 7 | L95: 74 | M95: 8
B96: 原住民 | C96: Indigenous | D96: 4 | E96: 0 | F96: 0 | G96: 1 | H96: 7 | I96: 7 | J96: 2 | K96: 0 | L96: 1 | M96: 0
B97: 大陸籍(含港澳) | C97: Mainlander | D97: 9 | E97: 0 | F97: 0 | G97: 5 | H97: 7 | I97: 0 | J97: 2 | K97: 0 | L97: 1 | M97: 2
B98: 外國籍 | C98: Foreigner | D98: 4 | E98: 0 | F98: 0 | G98: 0 | H98: 2 | I98: 0 | J98: 1 | K98: 0 | L98: 0 | M98: 3
A99: 宜蘭縣 | C99: Yilan County | D99: 239 | E99: 1 | F99: 37 | G99: 19 | H99: 16 | I99: 8 | J99: 51 | K99: 2 | L99: 28 | M99: 0
A100: 男 Male | B100: 計 | C100: Subtotal | D100: 24 | E100: 1 | F100: 18 | G100: 0 | H100: 0 | I100: 0 | J100: 8 | K100: 0 | L100: 1 | M100: 0
...

Sheet 2019
A1: 特殊境遇家庭符合款項 Conditions of Families in Hardship
A2: 108年, 2019
A3: 單位：人 Unit:Persons
A4: 地區、性別及設籍別 Locality, Sex & Identity | D4: 符 合 特 殊 境 遇 家 庭 扶 助 條 例 第 4 條 第 1 項 各 款 規 定 之 人 數 (可複選) Under one of the situations of Article 4,Item1 of Act of Assistance for Family in Hardship (Multiple Options)
D5: 第 1 款 Clause1 | F5: 第 2 款 Clause2 | H5: 第 3 款 Clause3 | I5: 第 4 款 Clause4 | J5: 第 5 款 Clause5 | L5: 第 6 款 Clause6 | M5: 第7款 Clause7
D6: 65歲以下 且配偶死亡 | E6: 65歲以下且配偶失蹤經向警察機關報案協尋未獲達6個月以上 | F6: 因配偶惡意遺棄經判決離婚確定或已完成協議離婚登記 | G6: 受配偶不堪同居之虐待經判決離婚確定或已完成協議離婚登記 | H6: 家庭暴力受害 | I6: 未婚懷孕婦女,懷胎3個月以上至分娩2個月以內 | J6: 因離婚、喪偶、未婚生子獨自扶養18歲以下子女，其無工作能力，或雖有工作能力，因遭遇重大傷病或照顧6歲以下子女致不能工作 | K6: 獨自扶養18歲以下父母無力扶養之孫子女，其無工作能力，或雖有工作能力，因遭遇重大傷病或照顧6歲以下孫子女致不能工作 | L6: 配偶處1年以上之徒刑或受拘束人身自由之保安處分1年以上，且在執行中 | M6: 其他經直轄市、縣(市)政府評估，因3個月內生活發生重大變故導致生活、經濟困難者，且其重大變故非因個人責任、債務、非因自願性失業等事由
D7: Spouse is Dead | E7: Spouse is Missing | F7: Abandoned with Malice, and (had) Divorced by Judicial Decree | G7: Abused and (had) Divorced by Judicial Decree | H7: Domestic Violence | I7: Unmarried Pregnarcy from Over 3 Months to 2 Months after Accouchement | J7: Single Parent with No Working Ability or Unable to Work | K7: Grandparents with No Working Ability or Unable to Work | L7: Whose Spouse is Sentenced to Penal Servitude for Over 1 Year and in Prison | M7: Live in Hardship
A8: 總計 | C8: Total | D8: 9045 | E8: 16 | F8: 670 | G8: 1628 | H8: 1131 | I8: 1829 | J8: 4700 | K8: 194 | L8: 867 | M8: 766
A9: 男 Male | B9: 計 | C9: Subtotal | D9: 1039 | E9: 4 | F9: 185 | G9: 25 | H9: 34 | I9: 0 | J9: 675 | K9: 48 | L9: 39 | M9: 371
B10: 本國籍 | C10: National | D10: 1007 | E10: 4 | F10: 184 | G10: 25 | H10: 32 | I10: 0 | J10: 675 | K10: 48 | L10: 38 | M10: 369
B11: 一般民眾 | C11: General | D11: 980 | E11: 4 | F11: 182 | G11: 25 | H11: 31 | I11: 0 | J11: 635 | K11: 46 | L11: 37 | M11: 352
B12: 原住民 | C12: Indigenous | D12: 27 | E12: 0 | F12: 2 | G12: 0 | H12: 1 | I12: 0 | J12: 40 | K12: 2 | L12: 1 | M12: 17
B13: 大陸籍(含港澳) | C13: Mainlander | D13: 9 | E13: 0 | F13: 1 | G13: 0 | H13: 2 | I13: 0 | J13: 0 | K13: 0 | L13: 1 | M13: 1
B14: 外國籍 | C14: Foreigner | D14: 23 | E14: 0 | F14: 0 | G14: 0 | H14: 0 | I14: 0 | J14: 0 | K14: 0 | L14: 0 | M14: 1
A15: 女 Female | B15: 計 | C15: Subtotal | D15: 8006 | E15: 12 | F15: 485 | G15: 1603 | H15: 1097 | I15: 1829 | J15: 4025 | K15: 146 | L15: 828 | M15: 395
B16: 本國籍 | C16: National | D16: 7788 | E16: 12 | F16: 483 | G16: 1567 | H16: 1058 | I16: 1824 | J16: 3981 | K16: 146 | L16: 817 | M16: 378
B17: 一般民眾 | C17: General | D17: 7595 | E17: 12 | F17: 468 | G17: 1545 | H17: 1002 | I17: 1636 | J17: 3678 | K17: 135 | L17: 775 | M17: 358
B18: 原住民 | C18: Indigenous | D18: 193 | E18: 0 | F18: 15 | G18: 22 | H18: 56 | I18: 188 | J18: 303 | K18: 11 | L18: 42 | M18: 20
B19: 大陸籍(含港澳) | C19: Mainlander | D19: 100 | E19: 0 | F19: 1 | G19: 31 | H19: 23 | I19: 2 | J19: 25 | K19: 0 | L19: 8 | M19: 11
B20: 外國籍 | C20: Foreigner | D20: 118 | E20: 0 | F20: 1 | G20: 5 | H20: 16 | I20: 3 | J20: 19 | K20: 0 | L20: 3 | M20: 6
A21: 新北市 | C21: New Taipei City | D21: 72 | E21: 0 | F21: 0 | G21: 17 | H21: 127 | I21: 335 | J21: 238 | K21: 0 | L21: 48 | M21: 20
A22: 男 Male | B22: 計 | C22: Subtotal | D22: 15 | E22: 0 | F22: 0 | G22: 0 | H22: 4 | I22: 0 | J22: 34 | K22: 0 | L22: 2 | M22: 8
B23: 本國籍 | C23: National | D23: 15 | E23: 0 | F23: 0 | G23: 0 | H23: 4 | I23: 0 | J23: 34 | K23: 0 | L23: 2 | M23: 8
B24: 一般民眾 | C24: General | D24: 15 | E24: 0 | F24: 0 | G24: 0 | H24: 4 | I24: 0 | J24: 34 | K24: 0 | L24: 2 | M24: 8
B25: 原住民 | C25: Indigenous | D25: 0 | E25: 0 | F25: 0 | G25: 0 | H25: 0 | I25: 0 | J25: 0 | K25: 0 | L25: 0 | M25: 0
B26: 大陸籍(含港澳) | C26: Mainlander | D26: 0 | E26: 0 | F26: 0 | G26: 0 | H26: 0 | I26: 0 | J26: 0 | K26: 0 | L26: 0 | M26: 0
B27: 外國籍 | C27: Foreigner | D27: 0 | E27: 0 | F27: 0 | G27: 0 | H27: 0 | I27: 0 | J27: 0 | K27: 0 | L27: 0 | M27: 0
A28: 女 Female | B28: 計 | C28: Subtotal | D28: 57 | E28: 0 | F28: 0 | G28: 17 | H28: 123 | I28: 335 | J28: 204 | K28: 0 | L28: 46 | M28: 12
B29: 本國籍 | C29: National | D29: 51 | E29: 0 | F29: 0 | G29: 17 | H29: 117 | I29: 335 | J29: 203 | K29: 0 | L29: 43 | M29: 12
B30: 一般民眾 | C30: General | D30: 51 | E30: 0 | F30: 0 | G30: 17 | H30: 114 | I30: 328 | J30: 197 | K30: 0 | L30: 42 | M30: 12
B31: 原住民 | C31: Indigenous | D31: 0 | E31: 0 | F31: 0 | G31: 0 | H31: 3 | I31: 7 | J31: 6 | K31: 0 | L31: 1 | M31: 0
B32: 大陸籍(含港澳) | C32: Mainlander | D32: 4 | E32: 0 | F32: 0 | G32: 0 | H32: 4 | I32: 0 | J32: 1 | K32: 0 | L32: 2 | M32: 0
B33: 外國籍 | C33: Foreigner | D33: 2 | E33: 0 | F33: 0 | G33: 0 | H33: 2 | I33: 0 | J33: 0 | K33: 0 | L33: 1 | M33: 0
A34: 臺北市 | C34: Taipei City | D34: 305 | E34: 0 | F34: 42 | G34: 354 | H34: 219 | I34: 118 | J34: 844 | K34: 7 | L34: 51 | M34: 179
A35: 男 Male | B35: 計 | C35: Subtotal | D35: 31 | E35: 0 | F35: 3 | G35: 1 | H35: 4 | I35: 0 | J35: 66 | K35: 1 | L35: 2 | M35: 62
B36: 本國籍 | C36: National | D36: 31 | E36: 0 | F36: 3 | G36: 1 | H36: 4 | I36: 0 | J36: 66 | K36: 1 | L36: 2 | M36: 62
B37: 一般民眾 | C37: General | D37: 31 | E37: 0 | F37: 3 | G37: 1 | H37: 4 | I37: 0 | J37: 66 | K37: 1 | L37: 2 | M37: 62
B38: 原住民 | C38: Indigenous | D38: 0 | E38: 0 | F38: 0 | G38: 0 | H38: 0 | I38: 0 | J38: 0 | K38: 0 | L38: 0 | M38: 0
B39: 大陸籍(含港澳) | C39: Mainlander | D39: 0 | E39: 0 | F39: 0 | G39: 0 | H39: 0 | I39: 0 | J39: 0 | K39: 0 | L39: 0 | M39: 0
B40: 外國籍 | C40: Foreigner | D40: 0 | E40: 0 | F40: 0 | G40: 0 | H40: 0 | I40: 0 | J40: 0 | K40: 0 | L40: 0 | M40: 0
A41: 女 Female | B41: 計 | C41: Subtotal | D41: 274 | E41: 0 | F41: 39 | G41: 353 | H41: 215 | I41: 118 | J41: 778 | K41: 6 | L41: 49 | M41: 117
B42: 本國籍 | C42: National | D42: 250 | E42: 0 | F42: 39 | G42: 340 | H42: 206 | I42: 116 | J42: 754 | K42: 6 | L42: 49 | M42: 110
B43: 一般民眾 | C43: General | D43: 246 | E43: 0 | F43: 36 | G43: 338 | H43: 200 | I43: 111 | J43: 738 | K43: 6 | L43: 49 | M43: 110
B44: 原住民 | C44: Indigenous | D44: 4 | E44: 0 | F44: 3 | G44: 2 | H44: 6 | I44: 5 | J44: 16 | K44: 0 | L44: 0 | M44: 0
B45: 大陸籍(含港澳) | C45: Mainlander | D45: 16 | E45: 0 | F45: 0 | G45: 13 | H45: 7 | I45: 1 | J45: 15 | K45: 0 | L45: 0 | M45: 5
B46: 外國籍 | C46: Foreigner | D46: 8 | E46: 0 | F46: 0 | G46: 0 | H46: 2 | I46: 1 | J46: 9 | K46: 0 | L46: 0 | M46: 2
A47: 桃園市 | C47: Taoyuan City | D47: 1094 | E47: 0 | F47: 108 | G47: 184 | H47: 38 | I47: 159 | J47: 353 | K47: 30 | L47: 83 | M47: 5
A48: 男 Male | B48: 計 | C48: Subtotal | D48: 111 | E48: 0 | F48: 30 | G48: 3 | H48: 1 | I48: 0 | J48: 25 | K48: 2 | L48: 3 | M48: 1
B49: 本國籍 | C49: National | D49: 111 | E49: 0 | F49: 30 | G49: 3 | H49: 1 | I49: 0 | J49: 25 | K49: 2 | L49: 3 | M49: 1
B50: 一般民眾 | C50: General | D50: 108 | E50: 0 | F50: 29 | G50: 3 | H50: 1 | I50: 0 | J50: 23 | K50: 2 | L50: 3 | M50: 1
B51: 原住民 | C51: Indigenous | D51: 3 | E51: 0 | F51: 1 | G51: 0 | H51: 0 | I51: 0 | J51: 2 | K51: 0 | L51: 0 | M51: 0
B52: 大陸籍(含港澳) | C52: Mainlander | D52: 0 | E52: 0 | F52: 0 | G52: 0 | H52: 0 | I52: 0 | J52: 0 | K52: 0 | L52: 0 | M52: 0
B53: 外國籍 | C53: Foreigner | D53: 0 | E53: 0 | F53: 0 | G53: 0 | H53: 0 | I53: 0 | J53: 0 | K53: 0 | L53: 0 | M53: 0
A54: 女 Female | B54: 計 | C54: Subtotal | D54: 983 | E54: 0 | F54: 78 | G54: 181 | H54: 37 | I54: 159 | J54: 328 | K54: 28 | L54: 80 | M54: 4
B55: 本國籍 | C55: National | D55: 978 | E55: 0 | F55: 78 | G55: 181 | H55: 37 | I55: 159 | J55: 327 | K55: 28 | L55: 79 | M55: 4
B56: 一般民眾 | C56: General | D56: 945 | E56: 0 | F56: 75 | G56: 178 | H56: 31 | I56: 133 | J56: 294 | K56: 24 | L56: 72 | M56: 3
B57: 原住民 | C57: Indigenous | D57: 33 | E57: 0 | F57: 3 | G57: 3 | H57: 6 | I57: 26 | J57: 33 | K57: 4 | L57: 7 | M57: 1
B58: 大陸籍(含港澳) | C58: Mainlander | D58: 4 | E58: 0 | F58: 0 | G58: 0 | H58: 0 | I58: 0 | J58: 1 | K58: 0 | L58: 1 | M58: 0
B59: 外國籍 | C59: Foreigner | D59: 1 | E59: 0 | F59: 0 | G59: 0 | H59: 0 | I59: 0 | J59: 0 | K59: 0 | L59: 0 | M59: 0
A60: 臺中市 | C60: Taichung City | D60: 1575 | E60: 3 | F60: 89 | G60: 175 | H60: 268 | I60: 309 | J60: 698 | K60: 12 | L60: 144 | M60: 40
A61: 男 Male | B61: 計 | C61: Subtotal | D61: 188 | E61: 0 | F61: 16 | G61: 5 | H61: 11 | I61: 0 | J61: 46 | K61: 4 | L61: 6 | M61: 15
B62: 本國籍 | C62: National | D62: 177 | E62: 0 | F62: 15 | G62: 5 | H62: 10 | I62: 0 | J62: 46 | K62: 4 | L62: 6 | M62: 15
B63: 一般民眾 | C63: General | D63: 172 | E63: 0 | F63: 15 | G63: 5 | H63: 9 | I63: 0 | J63: 46 | K63: 4 | L63: 6 | M63: 15
B64: 原住民 | C64: Indigenous | D64: 5 | E64: 0 | F64: 0 | G64: 0 | H64: 1 | I64: 0 | J64: 0 | K64: 0 | L64: 0 | M64: 0
B65: 大陸籍(含港澳) | C65: Mainlander | D65: 5 | E65: 0 | F65: 1 | G65: 0 | H65: 1 | I65: 0 | J65: 0 | K65: 0 | L65: 0 | M65: 0
B66: 外國籍 | C66: Foreigner | D66: 6 | E66: 0 | F66: 0 | G66: 0 | H66: 0 | I66: 0 | J66: 0 | K66: 0 | L66: 0 | M66: 0
A67: 女 Female | B67: 計 | C67: Subtotal | D67: 1387 | E67: 3 | F67: 73 | G67: 170 | H67: 257 | I67: 309 | J67: 652 | K67: 8 | L67: 138 | M67: 25
B68: 本國籍 | C68: National | D68: 1317 | E68: 3 | F68: 73 | G68: 167 | H68: 254 | I68: 308 | J68: 644 | K68: 8 | L68: 135 | M68: 23
B69: 一般民眾 | C69: General | D69: 1286 | E69: 3 | F69: 72 | G69: 166 | H69: 245 | I69: 285 | J69: 603 | K69: 8 | L69: 133 | M69: 22
B70: 原住民 | C70: Indigenous | D70: 31 | E70: 0 | F70: 1 | G70: 1 | H70: 9 | I70: 23 | J70: 41 | K70: 0 | L70: 2 | M70: 1
B71: 大陸籍(含港澳) | C71: Mainlander | D71: 29 | E71: 0 | F71: 0 | G71: 2 | H71: 3 | I71: 0 | J71: 2 | K71: 0 | L71: 2 | M71: 1
B72: 外國籍 | C72: Foreigner | D72: 41 | E72: 0 | F72: 0 | G72: 1 | H72: 0 | I72: 1 | J72: 6 | K72: 0 | L72: 1 | M72: 1
A73: 臺南市 | C73: Tainan City | D73: 1089 | E73: 3 | F73: 65 | G73: 99 | H73: 100 | I73: 83 | J73: 93 | K73: 24 | L73: 82 | M73: 53
A74: 男 Male | B74: 計 | C74: Subtotal | D74: 160 | E74: 1 | F74: 10 | G74: 2 | H74: 2 | I74: 0 | J74: 11 | K74: 5 | L74: 5 | M74: 30
B75: 本國籍 | C75: National | D75: 151 | E75: 1 | F75: 10 | G75: 2 | H75: 2 | I75: 0 | J75: 11 | K75: 5 | L75: 5 | M75: 30
B76: 一般民眾 | C76: General | D76: 150 | E76: 1 | F76: 10 | G76: 2 | H76: 2 | I76: 0 | J76: 11 | K76: 5 | L76: 5 | M76: 30
B77: 原住民 | C77: Indigenous | D77: 1 | E77: 0 | F77: 0 | G77: 0 | H77: 0 | I77: 0 | J77: 0 | K77: 0 | L77: 0 | M77: 0
B78: 大陸籍(含港澳) | C78: Mainlander | D78: 3 | E78: 0 | F78: 0 | G78: 0 | H78: 0 | I78: 0 | J78: 0 | K78: 0 | L78: 0 | M78: 0
B79: 外國籍 | C79: Foreigner | D79: 6 | E79: 0 | F79: 0 | G79: 0 | H79: 0 | I79: 0 | J79: 0 | K79: 0 | L79: 0 | M79: 0
A80: 女 Female | B80: 計 | C80: Subtotal | D80: 929 | E80: 2 | F80: 55 | G80: 97 | H80: 98 | I80: 83 | J80: 82 | K80: 19 | L80: 77 | M80: 23
B81: 本國籍 | C81: National | D81: 904 | E81: 2 | F81: 54 | G81: 95 | H81: 95 | I81: 82 | J81: 81 | K81: 19 | L81: 77 | M81: 23
B82: 一般民眾 | C82: General | D82: 901 | E82: 2 | F82: 53 | G82: 94 | H82: 94 | I82: 78 | J82: 79 | K82: 18 | L82: 76 | M82: 23
B83: 原住民 | C83: Indigenous | D83: 3 | E83: 0 | F83: 1 | G83: 1 | H83: 1 | I83: 4 | J83: 2 | K83: 1 | L83: 1 | M83: 0
B84: 大陸籍(含港澳) | C84: Mainlander | D84: 10 | E84: 0 | F84: 0 | G84: 2 | H84: 1 | I84: 0 | J84: 1 | K84: 0 | L84: 0 | M84: 0
B85: 外國籍 | C85: Foreigner | D85: 15 | E85: 0 | F85: 1 | G85: 0 | H85: 2 | I85: 1 | J85: 0 | K85: 0 | L85: 0 | M85: 0
A86: 高雄市 | C86: Kaohsiung City | D86: 309 | E86: 0 | F86: 4 | G86: 70 | H86: 121 | I86: 203 | J86: 109 | K86: 8 | L86: 75 | M86: 13
A87: 男 Male | B87: 計 | C87: Subtotal | D87: 28 | E87: 0 | F87: 0 | G87: 0 | H87: 3 | I87: 0 | J87: 4 | K87: 3 | L87: 4 | M87: 8
B88: 本國籍 | C88: National | D88: 27 | E88: 0 | F88: 0 | G88: 0 | H88: 3 | I88: 0 | J88: 4 | K88: 3 | L88: 4 | M88: 8
B89: 一般民眾 | C89: General | D89: 27 | E89: 0 | F89: 0 | G89: 0 | H89: 3 | I89: 0 | J89: 4 | K89: 3 | L89: 4 | M89: 8
B90: 原住民 | C90: Indigenous | D90: 0 | E90: 0 | F90: 0 | G90: 0 | H90: 0 | I90: 0 | J90: 0 | K90: 0 | L90: 0 | M90: 0
B91: 大陸籍(含港澳) | C91: Mainlander | D91: 0 | E91: 0 | F91: 0 | G91: 0 | H91: 0 | I91: 0 | J91: 0 | K91: 0 | L91: 0 | M91: 0
B92: 外國籍 | C92: Foreigner | D92: 1 | E92: 0 | F92: 0 | G92: 0 | H92: 0 | I92: 0 | J92: 0 | K92: 0 | L92: 0 | M92: 0
A93: 女 Female | B93: 計 | C93: Subtotal | D93: 281 | E93: 0 | F93: 4 | G93: 70 | H93: 118 | I93: 203 | J93: 105 | K93: 5 | L93: 71 | M93: 5
B94: 本國籍 | C94: National | D94: 266 | E94: 0 | F94: 3 | G94: 66 | H94: 104 | I94: 203 | J94: 99 | K94: 5 | L94: 70 | M94: 3
B95: 一般民眾 | C95: General | D95: 260 | E95: 0 | F95: 3 | G95: 65 | H95: 95 | I95: 192 | J95: 98 | K95: 5 | L95: 66 | M95: 3
B96: 原住民 | C96: Indigenous | D96: 6 | E96: 0 | F96: 0 | G96: 1 | H96: 9 | I96: 11 | J96: 1 | K96: 0 | L96: 4 | M96: 0
B97: 大陸籍(含港澳) | C97: Mainlander | D97: 9 | E97: 0 | F97: 1 | G97: 4 | H97: 5 | I97: 0 | J97: 5 | K97: 0 | L97: 1 | M97: 2
B98: 外國籍 | C98: Foreigner | D98: 6 | E98: 0 | F98: 0 | G98: 0 | H98: 9 | I98: 0 | J98: 1 | K98: 0 | L98: 0 | M98: 0
A99: 宜蘭縣 | C99: Yilan County | D99: 249 | E99: 1 | F99: 32 | G99: 30 | H99: 6 | I99: 22 | J99: 65 | K99: 3 | L99: 25 | M99: 0
A100: 男 Male | B100: 計 | C100: Subtotal | D100: 24 | E100: 1 | F100: 15 | G100: 0 | H100: 0 | I100: 0 | J100: 7 | K100: 1 | L100: 1 | M100: 0
...

Sheet 2018
A1: 特殊境遇家庭符合款項 Conditions of Families in Hardship
A2: 107年第4季,2018 Q4
A3: 單位：人 Unit:Persons
A4: 地區、性別及設籍別 Locality, Sex & Identity | D4: 符 合 特 殊 境 遇 家 庭 扶 助 條 例 第 4 條 第 1 項 各 款 規 定 之 人 數 (可複選) Under one of the situations of Article 4,Item1 of Act of Assistance for Family in Hardship (Multiple Options)
D5: 第 1 款 Clause1 | F5: 第 2 款 Clause2 | H5: 第 3 款 Clause3 | I5: 第 4 款 Clause4 | J5: 第 5 款 Clause5 | L5: 第 6 款 Clause6 | M5: 第7款 Clause7
D6: 65歲以下 且配偶死亡 | E6: 65歲以下且配偶失蹤經向警察機關報案協尋未獲達6個月以上 | F6: 因配偶惡意遺棄經判決離婚確定或已完成協議離婚登記 | G6: 受配偶不堪同居之虐待經判決離婚確定或已完成協議離婚登記 | H6: 家庭暴力受害 | I6: 未婚懷孕婦女,懷胎3個月以上至分娩2個月以內 | J6: 因離婚、喪偶、未婚生子獨自扶養18歲以下子女，其無工作能力，或雖有工作能力，因遭遇重大傷病或照顧6歲以下子女致不能工作 | K6: 獨自扶養18歲以下父母無力扶養之孫子女，其無工作能力，或雖有工作能力，因遭遇重大傷病或照顧6歲以下孫子女致不能工作 | L6: 配偶處1年以上之徒刑或受拘束人身自由之保安處分1年以上，且在執行中 | M6: 其他經直轄市、縣(市)政府評估，因3個月內生活發生重大變故導致生活、經濟困難者，且其重大變故非因個人責任、債務、非因自願性失業等事由
D7: Spouse is Dead | E7: Spouse is Missing | F7: Abandoned with Malice, and (had) Divorced by Judicial Decree | G7: Abused and (had) Divorced by Judicial Decree | H7: Domestic Violence | I7: Unmarried Pregnarcy from Over 3 Months to 2 Months after Accouchement | J7: Single Parent with No Working Ability or Unable to Work | K7: Grandparents with No Working Ability or Unable to Work | L7: Whose Spouse is Sentenced to Penal Servitude for Over 1 Year and in Prison | M7: Live in Hardship
A8: 總計 | C8: Total | D8: 9188 | E8: 19 | F8: 744 | G8: 1663 | H8: 1226 | I8: 2149 | J8: 4797 | K8: 213 | L8: 837 | M8: 728
A9: 男 Male | B9: 計 | C9: Subtotal | D9: 1001 | E9: 4 | F9: 207 | G9: 38 | H9: 50 | I9: 0 | J9: 631 | K9: 57 | L9: 29 | M9: 334
B10: 本國籍 | C10: National | D10: 966 | E10: 4 | F10: 200 | G10: 35 | H10: 36 | I10: 0 | J10: 602 | K10: 57 | L10: 29 | M10: 332
B11: 一般民眾 | C11: General | D11: 933 | E11: 4 | F11: 197 | G11: 32 | H11: 33 | I11: 0 | J11: 577 | K11: 54 | L11: 27 | M11: 316
B12: 原住民 | C12: Indigenous | D12: 33 | E12: 0 | F12: 3 | G12: 3 | H12: 3 | I12: 0 | J12: 25 | K12: 3 | L12: 2 | M12: 16
B13: 大陸籍(含港澳) | C13: Mainlander | D13: 13 | E13: 0 | F13: 4 | G13: 1 | H13: 9 | I13: 0 | J13: 15 | K13: 0 | L13: 0 | M13: 1
B14: 外國籍 | C14: Foreigner | D14: 22 | E14: 0 | F14: 3 | G14: 2 | H14: 5 | I14: 0 | J14: 14 | K14: 0 | L14: 0 | M14: 1
A15: 女 Female | B15: 計 | C15: Subtotal | D15: 8187 | E15: 15 | F15: 537 | G15: 1625 | H15: 1176 | I15: 2149 | J15: 4166 | K15: 156 | L15: 808 | M15: 394
B16: 本國籍 | C16: National | D16: 7967 | E16: 14 | F16: 533 | G16: 1588 | H16: 1127 | I16: 2126 | J16: 4115 | K16: 156 | L16: 797 | M16: 374
B17: 一般民眾 | C17: General | D17: 7779 | E17: 14 | F17: 518 | G17: 1559 | H17: 1075 | I17: 1937 | J17: 3790 | K17: 146 | L17: 763 | M17: 352
B18: 原住民 | C18: Indigenous | D18: 188 | E18: 0 | F18: 15 | G18: 29 | H18: 52 | I18: 189 | J18: 325 | K18: 10 | L18: 34 | M18: 22
B19: 大陸籍(含港澳) | C19: Mainlander | D19: 95 | E19: 0 | F19: 3 | G19: 29 | H19: 28 | I19: 16 | J19: 27 | K19: 0 | L19: 6 | M19: 13
B20: 外國籍 | C20: Foreigner | D20: 125 | E20: 1 | F20: 1 | G20: 8 | H20: 21 | I20: 7 | J20: 24 | K20: 0 | L20: 5 | M20: 7
A21: 新北市 | C21: New Taipei City | D21: 69 | E21: 0 | F21: 0 | G21: 15 | H21: 161 | I21: 422 | J21: 428 | K21: 1 | L21: 59 | M21: 17
A22: 男 Male | B22: 計 | C22: Subtotal | D22: 10 | E22: 0 | F22: 0 | G22: 0 | H22: 3 | I22: 0 | J22: 44 | K22: 0 | L22: 2 | M22: 5
B23: 本國籍 | C23: National | D23: 10 | E23: 0 | F23: 0 | G23: 0 | H23: 3 | I23: 0 | J23: 44 | K23: 0 | L23: 2 | M23: 5
B24: 一般民眾 | C24: General | D24: 10 | E24: 0 | F24: 0 | G24: 0 | H24: 3 | I24: 0 | J24: 44 | K24: 0 | L24: 2 | M24: 5
B25: 原住民 | C25: Indigenous | D25: 0 | E25: 0 | F25: 0 | G25: 0 | H25: 0 | I25: 0 | J25: 0 | K25: 0 | L25: 0 | M25: 0
B26: 大陸籍(含港澳) | C26: Mainlander | D26: 0 | E26: 0 | F26: 0 | G26: 0 | H26: 0 | I26: 0 | J26: 0 | K26: 0 | L26: 0 | M26: 0
B27: 外國籍 | C27: Foreigner | D27: 0 | E27: 0 | F27: 0 | G27: 0 | H27: 0 | I27: 0 | J27: 0 | K27: 0 | L27: 0 | M27: 0
A28: 女 Female | B28: 計 | C28: Subtotal | D28: 59 | E28: 0 | F28: 0 | G28: 15 | H28: 158 | I28: 422 | J28: 384 | K28: 1 | L28: 57 | M28: 12
B29: 本國籍 | C29: National | D29: 54 | E29: 0 | F29: 0 | G29: 15 | H29: 154 | I29: 417 | J29: 382 | K29: 1 | L29: 56 | M29: 12
B30: 一般民眾 | C30: General | D30: 54 | E30: 0 | F30: 0 | G30: 15 | H30: 151 | I30: 413 | J30: 380 | K30: 1 | L30: 56 | M30: 11
B31: 原住民 | C31: Indigenous | D31: 0 | E31: 0 | F31: 0 | G31: 0 | H31: 3 | I31: 4 | J31: 2 | K31: 0 | L31: 0 | M31: 1
B32: 大陸籍(含港澳) | C32: Mainlander | D32: 3 | E32: 0 | F32: 0 | G32: 0 | H32: 1 | I32: 5 | J32: 1 | K32: 0 | L32: 0 | M32: 0
B33: 外國籍 | C33: Foreigner | D33: 2 | E33: 0 | F33: 0 | G33: 0 | H33: 3 | I33: 0 | J33: 1 | K33: 0 | L33: 1 | M33: 0
A34: 臺北市 | C34: Taipei City | D34: 400 | E34: 1 | F34: 50 | G34: 356 | H34: 238 | I34: 134 | J34: 880 | K34: 5 | L34: 43 | M34: 167
A35: 男 Male | B35: 計 | C35: Subtotal | D35: 33 | E35: 0 | F35: 2 | G35: 3 | H35: 5 | I35: 0 | J35: 61 | K35: 2 | L35: 2 | M35: 48
B36: 本國籍 | C36: National | D36: 33 | E36: 0 | F36: 2 | G36: 3 | H36: 5 | I36: 0 | J36: 61 | K36: 2 | L36: 2 | M36: 48
B37: 一般民眾 | C37: General | D37: 33 | E37: 0 | F37: 2 | G37: 3 | H37: 5 | I37: 0 | J37: 61 | K37: 2 | L37: 2 | M37: 47
B38: 原住民 | C38: Indigenous | D38: 0 | E38: 0 | F38: 0 | G38: 0 | H38: 0 | I38: 0 | J38: 0 | K38: 0 | L38: 0 | M38: 1
B39: 大陸籍(含港澳) | C39: Mainlander | D39: 0 | E39: 0 | F39: 0 | G39: 0 | H39: 0 | I39: 0 | J39: 0 | K39: 0 | L39: 0 | M39: 0
B40: 外國籍 | C40: Foreigner | D40: 0 | E40: 0 | F40: 0 | G40: 0 | H40: 0 | I40: 0 | J40: 0 | K40: 0 | L40: 0 | M40: 0
A41: 女 Female | B41: 計 | C41: Subtotal | D41: 367 | E41: 1 | F41: 48 | G41: 353 | H41: 233 | I41: 134 | J41: 819 | K41: 3 | L41: 41 | M41: 119
B42: 本國籍 | C42: National | D42: 349 | E42: 1 | F42: 48 | G42: 339 | H42: 223 | I42: 123 | J42: 798 | K42: 3 | L42: 40 | M42: 111
B43: 一般民眾 | C43: General | D43: 347 | E43: 1 | F43: 46 | G43: 335 | H43: 218 | I43: 121 | J43: 792 | K43: 3 | L43: 39 | M43: 110
B44: 原住民 | C44: Indigenous | D44: 2 | E44: 0 | F44: 2 | G44: 4 | H44: 5 | I44: 2 | J44: 6 | K44: 0 | L44: 1 | M44: 1
B45: 大陸籍(含港澳) | C45: Mainlander | D45: 12 | E45: 0 | F45: 0 | G45: 13 | H45: 6 | I45: 10 | J45: 14 | K45: 0 | L45: 1 | M45: 6
B46: 外國籍 | C46: Foreigner | D46: 6 | E46: 0 | F46: 0 | G46: 1 | H46: 4 | I46: 1 | J46: 7 | K46: 0 | L46: 0 | M46: 2
A47: 桃園市 | C47: Taoyuan City | D47: 1132 | E47: 2 | F47: 123 | G47: 181 | H47: 42 | I47: 198 | J47: 279 | K47: 34 | L47: 80 | M47: 10
A48: 男 Male | B48: 計 | C48: Subtotal | D48: 114 | E48: 1 | F48: 35 | G48: 2 | H48: 0 | I48: 0 | J48: 23 | K48: 4 | L48: 3 | M48: 3
B49: 本國籍 | C49: National | D49: 114 | E49: 1 | F49: 35 | G49: 2 | H49: 0 | I49: 0 | J49: 23 | K49: 4 | L49: 3 | M49: 3
B50: 一般民眾 | C50: General | D50: 110 | E50: 1 | F50: 34 | G50: 2 | H50: 0 | I50: 0 | J50: 22 | K50: 4 | L50: 3 | M50: 3
B51: 原住民 | C51: Indigenous | D51: 4 | E51: 0 | F51: 1 | G51: 0 | H51: 0 | I51: 0 | J51: 1 | K51: 0 | L51: 0 | M51: 0
B52: 大陸籍(含港澳) | C52: Mainlander | D52: 0 | E52: 0 | F52: 0 | G52: 0 | H52: 0 | I52: 0 | J52: 0 | K52: 0 | L52: 0 | M52: 0
B53: 外國籍 | C53: Foreigner | D53: 0 | E53: 0 | F53: 0 | G53: 0 | H53: 0 | I53: 0 | J53: 0 | K53: 0 | L53: 0 | M53: 0
A54: 女 Female | B54: 計 | C54: Subtotal | D54: 1018 | E54: 1 | F54: 88 | G54: 179 | H54: 42 | I54: 198 | J54: 256 | K54: 30 | L54: 77 | M54: 7
B55: 本國籍 | C55: National | D55: 1013 | E55: 1 | F55: 88 | G55: 179 | H55: 42 | I55: 198 | J55: 255 | K55: 30 | L55: 76 | M55: 7
B56: 一般民眾 | C56: General | D56: 982 | E56: 1 | F56: 84 | G56: 175 | H56: 37 | I56: 170 | J56: 215 | K56: 28 | L56: 71 | M56: 7
