Workbook

Sheet 歷年
A1: 身心障礙者生活輔具補助Auxiliary Appliances Assistance for the Disabled
A2: 105-115年
A3: 單位：人次、千元
A4: 年別 Years | B4: 福利身分別 By Identity | R4: 依年齡別分 By Age
B5: 總計 Total | F5: 低收入戶 Low-income Households | J5: 中低收入戶 Middle-low-income Households | N5: 非低收入戶及 非中低收入戶 Non-low-income and Non-middle-low-income Households | R5: 總 計 Total | V5: 未滿18歲 under 18 years | Z5: 18歲-未滿65歲 18-under 65 years | AD5: 65歲以上 65 years & over
B6: 人次 Person-times | E6: 金額 (千元) Amounts (NT$1,000) | F6: 人次 Person-times | I6: 金額 (千元) Amounts (NT$1,000) | J6: 人次 Person-times | M6: 金額 (千元) Amounts (NT$1,000) | N6: 人次 Person-times | Q6: 金額 (千元) Amounts (NT$1,000) | R6: 人次 Person-times | U6: 金額 (千元) Amounts (NT$1,000) | V6: 人次 Person-times | Y6: 金額 (千元) Amounts (NT$1,000) | Z6: 人次 Person-times | AC6: 金額 (千元) Amounts (NT$1,000) | AD6: 人次 Person-times | AG6: 金額 (千元) Amounts (NT$1,000)
B7: 合計 Subtotal | C7: 男 Male | D7: 女 Female | F7: 合計 Subtotal | G7: 男 Male | H7: 女 Female | J7: 合計 Subtotal | K7: 男 Male | L7: 女 Female | N7: 合計 Subtotal | O7: 男 Male | P7: 女 Female | R7: 合計 Subtotal | S7: 男 Male | T7: 女 Female | V7: 合計 Subtotal | W7: 男 Male | X7: 女 Female | Z7: 合計 Subtotal | AA7: 男 Male | AB7: 女 Female | AD7: 合計 Subtotal | AE7: 男 Male | AF7: 女 Female
A8: 105年,2016 | B8: ='2016'!C9 -> 86369 | C8: ='2016'!D9 -> 46239 | D8: ='2016'!E9 -> 40130 | E8: ='2016'!F9 -> 782198.2 | F8: ='2016'!G9 -> 5120 | G8: ='2016'!H9 -> 3512 | H8: ='2016'!I9 -> 1608 | I8: ='2016'!J9 -> 68481.123 | ... Q8: ='2016'!R9 -> 692269.07 | R8: ... | S8: ... | T8: ... | U8: ... | V8: ... | W8: ... | X8: ... | Y8: ... | Z8: ... | AA8: ... | AB8: ... | AC8: ... | AD8: ... | AE8: ... | AF8: ... | AG8: ...
A9: 106年,2017 | B9: ='2017'!C9 -> 92887 | C9: ='2017'!D9 -> 49061 | D9: ='2017'!E9 -> 43826 | E9: ='2017'!F9 -> 831531.46 | F9: ='2017'!G9 -> 5747 | G9: ='2017'!H9 -> 3986 | H9: ='2017'!I9 -> 1761 | I9: ='2017'!J9 -> 78480.971 | ... Q9: ='2017'!R9 -> 734235 | R9: ... | S9: ... | T9: ... | U9: ... | V9: ... | W9: ... | X9: ... | Y9: ... | Z9: ... | AA9: ... | AB9: ... | AC9: ... | AD9: ... | AE9: ... | AF9: ... | AG9: ...
A10: 107年,2018 | B10: ='2018'!C9 -> 81695 | C10: ='2018'!D9 -> 43792 | D10: ='2018'!E9 -> 37903 | E10: ='2018'!F9 -> 755083.38 | F10: ='2018'!G9 -> 5630 | G10: ='2018'!H9 -> 4020 | H10: ='2018'!I9 -> 1610 | I10: ='2018'!J9 -> 73909.616 | ... Q10: ='2018'!R9 -> 664719.65 | R10: ... | S10: ... | T10: ... | U10: ... | V10: ... | W10: ... | X10: ... | Y10: ... | Z10: ... | AA10: ... | AB10: ... | AC10: ... | AD10: ... | AE10: ... | AF10: ... | AG10: ...
A11: 108年,2019 | B11: ='2019'!C8 -> 68937 | C11: ='2019'!D8 -> 37665 | D11: ='2019'!E8 -> 31272 | E11: ='2019'!F8 -> 653820.36 | F11: ='2019'!G8 -> 5026 | G11: ='2019'!H8 -> 3552 | H11: ='2019'!I8 -> 1474 | I11: ='2019'!J8 -> 67436.507 | ... AG11: ='2019'!AH8 -> 285225.61
A12: 109年,2020 | B12: ='2020'!C8 -> 64892 | C12: ='2020'!D8 -> 35635 | D12: ='2020'!E8 -> 29257 | E12: ='2020'!F8 -> 619762.49 | F12: ='2020'!G8 -> 4735 | G12: ='2020'!H8 -> 3297 | H12: ='2020'!I8 -> 1438 | I12: ='2020'!J8 -> 65741.153 | ... AG12: ='2020'!AH8 -> 271716.81
A13: 110年,2021 | B13: ='2021'!C8 -> 61553 | C13: ='2021'!D8 -> 33618 | D13: ='2021'!E8 -> 27935 | E13: ='2021'!F8 -> 564874.92 | F13: ='2021'!G8 -> 4426 | G13: ='2021'!H8 -> 3070 | H13: ='2021'!I8 -> 1356 | I13: ='2021'!J8 -> 58288.976 | ... AG13: ='2021'!AH8 -> 260916.35
A14: 111年,2022 | B14: ='2022'!C8 -> 62895 | C14: ='2022'!D8 -> 33815 | D14: ='2022'!E8 -> 29080 | E14: ='2022'!F8 -> 570944.61 | F14: ='2022'!G8 -> 4201 | G14: ='2022'!H8 -> 2857 | H14: ='2022'!I8 -> 1344 | I14: ='2022'!J8 -> 57653.365 | ... AG14: ='2022'!AH8 -> 271801.92
A15: 112年,2023 | B15: ='2023'!C8 -> 57867 | C15: ='2023'!D8 -> 31387 | D15: ='2023'!E8 -> 26480 | E15: ='2023'!F8 -> 595395.14 | F15: ='2023'!G8 -> 4548 | G15: ='2023'!H8 -> 3084 | H15: ='2023'!I8 -> 1464 | I15: ='2023'!J8 -> 64117.268 | ... AG15: ='2023'!AH8 -> 274614.76
A16: 113年,2024 | B16: ='2024'!C8 -> 55323 | C16: ='2024'!D8 -> 30406 | D16: ='2024'!E8 -> 24917 | E16: ='2024'!F8 -> 591932.75 | F16: ='2024'!G8 -> 4320 | G16: ='2024'!H8 -> 3047 | H16: ='2024'!I8 -> 1273 | I16: ='2024'!J8 -> 62769.309 | ... AG16: ='2024'!AH8 -> 282052.4
A17: 114年,2025 | B17: ='2025'!C8 -> 58014 | C17: ='2025'!D8 -> 31263 | D17: ='2025'!E8 -> 26751 | E17: ='2025'!F8 -> 614494.65 | F17: ='2025'!G8 -> 4579 | G17: ='2025'!H8 -> 3150 | H17: ='2025'!I8 -> 1429 | I17: ='2025'!J8 -> 63154.197 | ... AG17: ='2025'!AH8 -> 307101.99
A18: 第1季 Q1 | B18: ='Q1, 2025'!C8 -> 14243 | C18: ='Q1, 2025'!D8 -> 7727 | D18: ='Q1, 2025'!E8 -> 6516 | E18: ='Q1, 2025'!F8 -> 153912.1 | F18: ='Q1, 2025'!G8 -> 1139 | G18: ='Q1, 2025'!H8 -> 747 | H18: ='Q1, 2025'!I8 -> 392 | I18: ='Q1, 2025'!J8 -> 16319.158 | ... AG18: ='Q1, 2025'!AH8 -> 75406.225
A19: 第2季 Q2 | B19: ='Q2, 2025'!C8 -> 14241 | C19: ='Q2, 2025'!D8 -> 7723 | D19: ='Q2, 2025'!E8 -> 6518 | E19: ='Q2, 2025'!F8 -> 148365.82 | F19: ='Q2, 2025'!G8 -> 1191 | G19: ='Q2, 2025'!H8 -> 829 | H19: ='Q2, 2025'!I8 -> 362 | I19: ='Q2, 2025'!J8 -> 16195.865 | ... AG19: ='Q2, 2025'!AH8 -> 73389.359
A20: 第3季 Q3 | B20: ='Q3, 2025'!C8 -> 14846 | C20: ='Q3, 2025'!D8 -> 7969 | D20: ='Q3, 2025'!E8 -> 6877 | E20: ='Q3, 2025'!F8 -> 156899.05 | F20: ='Q3, 2025'!G8 -> 1119 | G20: ='Q3, 2025'!H8 -> 774 | H20: ='Q3, 2025'!I8 -> 345 | I20: ='Q3, 2025'!J8 -> 15161.963 | ... AG20: ='Q3, 2025'!AH8 -> 80177.474
A21: 第4季 Q4 | B21: ='Q4, 2025'!C8 -> 14684 | C21: ='Q4, 2025'!D8 -> 7844 | D21: ='Q4, 2025'!E8 -> 6840 | E21: ='Q4, 2025'!F8 -> 155317.68 | F21: ='Q4, 2025'!G8 -> 1130 | G21: ='Q4, 2025'!H8 -> 800 | H21: ='Q4, 2025'!I8 -> 330 | I21: ='Q4, 2025'!J8 -> 15477.211 | ... AG21: ='Q4, 2025'!AH8 -> 78128.933
A22: 115年,2026
A23: 第1季 Q1 | B23: ='Q1, 2026'!C8 -> 13781 | C23: ='Q1, 2026'!D8 -> 7490 | D23: ='Q1, 2026'!E8 -> 6291 | E23: ='Q1, 2026'!F8 -> 144757.69 | F23: ='Q1, 2026'!G8 -> 1109 | G23: ='Q1, 2026'!H8 -> 737 | H23: ='Q1, 2026'!I8 -> 372 | I23: ='Q1, 2026'!J8 -> 14683.974 | ... AG23: ='Q1, 2026'!AH8 -> 75987.995
A24: 第2季 Q2 | B24: ='Q2, 2026'!C8 -> 0 | C24: ='Q2, 2026'!D8 -> 0 | D24: ='Q2, 2026'!E8 -> 0 | E24: ='Q2, 2026'!F8 -> 0 | F24: ='Q2, 2026'!G8 -> 0 | G24: ='Q2, 2026'!H8 -> 0 | H24: ='Q2, 2026'!I8 -> 0 | I24: ='Q2, 2026'!J8 -> 0 | ... AG24: ='Q2, 2026'!AH8 -> 0
A25: 第3季 Q3 | B25: ='Q3, 2026'!C8 -> 0 | C25: ='Q3, 2026'!D8 -> 0 | D25: ='Q3, 2026'!E8 -> 0 | E25: ='Q3, 2026'!F8 -> 0 | F25: ='Q3, 2026'!G8 -> 0 | G25: ='Q3, 2026'!H8 -> 0 | H25: ='Q3, 2026'!I8 -> 0 | I25: ='Q3, 2026'!J8 -> 0 | ... AG25: ='Q3, 2026'!AH8 -> 0
A26: 第4季 Q4 | B26: ='Q4, 2026'!C8 -> 0 | C26: ='Q4, 2026'!D8 -> 0 | D26: ='Q4, 2026'!E8 -> 0 | E26: ='Q4, 2026'!F8 -> 0 | F26: ='Q4, 2026'!G8 -> 0 | G26: ='Q4, 2026'!H8 -> 0 | H26: ='Q4, 2026'!I8 -> 0 | I26: ='Q4, 2026'!J8 -> 0 | ... AG26: ='Q4, 2026'!AH8 -> 0
A27: 資料來源：直轄市、縣(市)政府。
A28: Source : County and City Government.
A29: 更新日期：2026/05/15

Sheet 2026
A1: 身心障礙者生活輔助器具補助Auxiliary Appliances Assistance for the Disabled
A3: 115年,2026 | C3: =IF(C8=SUM(C9:C30),"",SUM(C9:C30)) | D3: =IF(D8=SUM(D9:D30),"",SUM(D9:D30)) | E3: =IF(E8=SUM(E9:E30),"",SUM(E9:E30)) | F3: =IF(F8=SUM(F9:F30),"",SUM(F9:F30)) | G3: =IF(G8=SUM(G9:G30),"",SUM(G9:G30)) | H3: =IF(H8=SUM(H9:H30),"",SUM(H9:H30)) | I3: =IF(I8=SUM(I9:I30),"",SUM(I9:I30)) | J3: =IF(J8=SUM(J9:J30),"",SUM(J9:J30)) | ... AH3: =IF(AH8=SUM(AH9:AH30),"",SUM(AH9:AH30))
A4: 區域別 Locality | C4: 福利身分別 By Identity | S4: 依年齡別分 By Age
C5: 總計 Total | G5: 低收入戶 Low-income Households | K5: 中低收入戶 Middle-low-income Households | O5: 非低收入戶及 非中低收入戶 Non-low-income and Non-middle-low-income Households | S5: 總 計 Total | W5: 未滿18歲 under 18 years | AA5: 18歲-未滿65歲 18-under 65 years | AE5: 65歲以上 65 years & over
C6: 人次 Person-times | F6: 金額 (千元) Amounts (NT$1,000) | G6: 人次 Person-times | J6: 金額 (千元) Amounts (NT$1,000) | K6: 人次 Person-times | N6: 金額 (千元) Amounts (NT$1,000) | O6: 人次 Person-times | R6: 金額 (千元) Amounts (NT$1,000) | S6: 人次 Person-times | V6: 金額 (千元) Amounts (NT$1,000) | W6: 人次 Person-times | Z6: 金額 (千元) Amounts (NT$1,000) | AA6: 人次 Person-times | AD6: 金額 (千元) Amounts (NT$1,000) | AE6: 人次 Person-times | AH6: 金額 (千元) Amounts (NT$1,000)
C7: 計 Subtotal | D7: 男 Male | E7: 女 Female | G7: 計 Subtotal | H7: 男 Male | I7: 女 Female | K7: 計 Subtotal | L7: 男 Male | M7: 女 Female | O7: 計 Subtotal | P7: 男 Male | Q7: 女 Female | S7: 合計 Subtotal | T7: 男 Male | U7: 女 Female | W7: 合計 Subtotal | X7: 男 Male | Y7: 女 Female | AA7: 合計 Subtotal | AB7: 男 Male | AC7: 女 Female | AE7: 合計 Subtotal | AF7: 男 Male | AG7: 女 Female
A8: 總計 | B8: Total
A9: 新北市 | B9: New Taipei City
A10: 臺北市 | B10: Taipei City
A11: 桃園市 | B11: Taoyuan City
A12: 臺中市 | B12: Taichung City
A13: 臺南市 | B13: Tainan City
A14: 高雄市 | B14: Kaohsiung City
A15: 宜蘭縣 | B15: Yilan County
A16: 新竹縣 | B16: Hsinchu County
A17: 苗栗縣 | B17: Miaoli County
A18: 彰化縣 | B18: Changhua County
A19: 南投縣 | B19: Nantou County
... A30: 連江縣 | B30: Lienchiang County
A31: 資料來源：直轄市、縣(市)政府。
A32: Source : County and City Government.
A33: 更新日期：2026/02/23

Sheet Q4, 2026
A1: 身心障礙者生活輔助器具補助Auxiliary Appliances Assistance for the Disabled
A3: 115年第4季 Oct.-Dec., 2026 | C3: =IF(C8=SUM(C9:C30),"",SUM(C9:C30)) | D3: =IF(D8=SUM(D9:D30),"",SUM(D9:D30)) | E3: =IF(E8=SUM(E9:E30),"",SUM(E9:E30)) | F3: =IF(F8=SUM(F9:F30),"",SUM(F9:F30)) | G3: =IF(G8=SUM(G9:G30),"",SUM(G9:G30)) | H3: =IF(H8=SUM(H9:H30),"",SUM(H9:H30)) | I3: =IF(I8=SUM(I9:I30),"",SUM(I9:I30)) | J3: =IF(J8=SUM(J9:J30),"",SUM(J9:J30)) | ... AH3: =IF(AH8=SUM(AH9:AH30),"",SUM(AH9:AH30))
A4: 區域別 Locality | C4: 福利身分別 By Identity | S4: 依年齡別分 By Age
C5: 總計 Total | G5: 低收入戶 Low-income Households | K5: 中低收入戶 Middle-low-income Households | O5: 非低收入戶及 非中低收入戶 Non-low-income and Non-middle-low-income Households | S5: 總 計 Total | W5: 未滿18歲 under 18 years | AA5: 18歲-未滿65歲 18-under 65 years | AE5: 65歲以上 65 years & over
C6: 人次 Person-times | F6: 金額 (千元) Amounts (NT$1,000) | G6: 人次 Person-times | J6: 金額 (千元) Amounts (NT$1,000) | K6: 人次 Person-times | N6: 金額 (千元) Amounts (NT$1,000) | O6: 人次 Person-times | R6: 金額 (千元) Amounts (NT$1,000) | S6: 人次 Person-times | V6: 金額 (千元) Amounts (NT$1,000) | W6: 人次 Person-times | Z6: 金額 (千元) Amounts (NT$1,000) | AA6: 人次 Person-times | AD6: 金額 (千元) Amounts (NT$1,000) | AE6: 人次 Person-times | AH6: 金額 (千元) Amounts (NT$1,000)
C7: 計 Subtotal | D7: 男 Male | E7: 女 Female | G7: 計 Subtotal | H7: 男 Male | I7: 女 Female | K7: 計 Subtotal | L7: 男 Male | M7: 女 Female | O7: 計 Subtotal | P7: 男 Male | Q7: 女 Female | S7: 合計 Subtotal | T7: 男 Male | U7: 女 Female | W7: 合計 Subtotal | X7: 男 Male | Y7: 女 Female | AA7: 合計 Subtotal | AB7: 男 Male | AC7: 女 Female | AE7: 合計 Subtotal | AF7: 男 Male | AG7: 女 Female
A8: 總計 | B8: Total
A9: 新北市 | B9: New Taipei City
A10: 臺北市 | B10: Taipei City
A11: 桃園市 | B11: Taoyuan City
A12: 臺中市 | B12: Taichung City
A13: 臺南市 | B13: Tainan City
A14: 高雄市 | B14: Kaohsiung City
A15: 宜蘭縣 | B15: Yilan County
A16: 新竹縣 | B16: Hsinchu County
A17: 苗栗縣 | B17: Miaoli County
A18: 彰化縣 | B18: Changhua County
A19: 南投縣 | B19: Nantou County
... A30: 連江縣 | B30: Lienchiang County
A31: 資料來源：直轄市、縣(市)政府。
A32: Source : County and City Government.
A33: 更新日期：2026/02/23

Sheet Q3, 2026
A1: 身心障礙者生活輔助器具補助Auxiliary Appliances Assistance for the Disabled
A3: 115年第3季 July-Sept., 2026 | C3: =IF(C8=SUM(C9:C30),"",SUM(C9:C30)) | D3: =IF(D8=SUM(D9:D30),"",SUM(D9:D30)) | E3: =IF(E8=SUM(E9:E30),"",SUM(E9:E30)) | F3: =IF(F8=SUM(F9:F30),"",SUM(F9:F30)) | G3: =IF(G8=SUM(G9:G30),"",SUM(G9:G30)) | H3: =IF(H8=SUM(H9:H30),"",SUM(H9:H30)) | I3: =IF(I8=SUM(I9:I30),"",SUM(I9:I30)) | J3: =IF(J8=SUM(J9:J30),"",SUM(J9:J30)) | ... AH3: =IF(AH8=SUM(AH9:AH30),"",SUM(AH9:AH30))
A4: 區域別 Locality | C4: 福利身分別 By Identity | S4: 依年齡別分 By Age
C5: 總計 Total | G5: 低收入戶 Low-income Households | K5: 中低收入戶 Middle-low-income Households | O5: 非低收入戶及 非中低收入戶 Non-low-income and Non-middle-low-income Households | S5: 總 計 Total | W5: 未滿18歲 under 18 years | AA5: 18歲-未滿65歲 18-under 65 years | AE5: 65歲以上 65 years & over
C6: 人次 Person-times | F6: 金額 (千元) Amounts (NT$1,000) | G6: 人次 Person-times | J6: 金額 (千元) Amounts (NT$1,000) | K6: 人次 Person-times | N6: 金額 (千元) Amounts (NT$1,000) | O6: 人次 Person-times | R6: 金額 (千元) Amounts (NT$1,000) | S6: 人次 Person-times | V6: 金額 (千元) Amounts (NT$1,000) | W6: 人次 Person-times | Z6: 金額 (千元) Amounts (NT$1,000) | AA6: 人次 Person-times | AD6: 金額 (千元) Amounts (NT$1,000) | AE6: 人次 Person-times | AH6: 金額 (千元) Amounts (NT$1,000)
C7: 計 Subtotal | D7: 男 Male | E7: 女 Female | G7: 計 Subtotal | H7: 男 Male | I7: 女 Female | K7: 計 Subtotal | L7: 男 Male | M7: 女 Female | O7: 計 Subtotal | P7: 男 Male | Q7: 女 Female | S7: 合計 Subtotal | T7: 男 Male | U7: 女 Female | W7: 合計 Subtotal | X7: 男 Male | Y7: 女 Female | AA7: 合計 Subtotal | AB7: 男 Male | AC7: 女 Female | AE7: 合計 Subtotal | AF7: 男 Male | AG7: 女 Female
A8: 總計 | B8: Total
A9: 新北市 | B9: New Taipei City
A10: 臺北市 | B10: Taipei City
A11: 桃園市 | B11: Taoyuan City
A12: 臺中市 | B12: Taichung City
A13: 臺南市 | B13: Tainan City
A14: 高雄市 | B14: Kaohsiung City
A15: 宜蘭縣 | B15: Yilan County
A16: 新竹縣 | B16: Hsinchu County
A17: 苗栗縣 | B17: Miaoli County
A18: 彰化縣 | B18: Changhua County
A19: 南投縣 | B19: Nantou County
... A30: 連江縣 | B30: Lienchiang County
A31: 資料來源：直轄市、縣(市)政府。
A32: Source : County and City Government.
A33: 更新日期：2025/11/17

Sheet Q2, 2026
A1: 身心障礙者生活輔助器具補助Auxiliary Appliances Assistance for the Disabled
A3: 115年第2季 Apr.-June, 2025 | C3: =IF(C8=SUM(C9:C30),"",SUM(C9:C30)) | D3: =IF(D8=SUM(D9:D30),"",SUM(D9:D30)) | E3: =IF(E8=SUM(E9:E30),"",SUM(E9:E30)) | F3: =IF(F8=SUM(F9:F30),"",SUM(F9:F30)) | G3: =IF(G8=SUM(G9:G30),"",SUM(G9:G30)) | H3: =IF(H8=SUM(H9:H30),"",SUM(H9:H30)) | I3: =IF(I8=SUM(I9:I30),"",SUM(I9:I30)) | J3: =IF(J8=SUM(J9:J30),"",SUM(J9:J30)) | ... AH3: =IF(AH8=SUM(AH9:AH30),"",SUM(AH9:AH30))
A4: 區域別 Locality | C4: 福利身分別 By Identity | S4: 依年齡別分 By Age
C5: 合計 Total | G5: 低收入戶 Low-income Households | K5: 中低收入戶 Middle-low-income Households | O5: 非低收入戶及 非中低收入戶 Non-low-income and Non-middle-low-income Households | S5: 總 計 Total | W5: 未滿18歲 under 18 years | AA5: 18歲-未滿65歲 18-under 65 years | AE5: 65歲以上 65 years & over
C6: 人次 Person-times | F6: 金額 (千元) Amounts (NT$1,000) | G6: 人次 Person-times | J6: 金額 (千元) Amounts (NT$1,000) | K6: 人次 Person-times | N6: 金額 (千元) Amounts (NT$1,000) | O6: 人次 Person-times | R6: 金額 (千元) Amounts (NT$1,000) | S6: 人次 Person-times | V6: 金額 (千元) Amounts (NT$1,000) | W6: 人次 Person-times | Z6: 金額 (千元) Amounts (NT$1,000) | AA6: 人次 Person-times | AD6: 金額 (千元) Amounts (NT$1,000) | AE6: 人次 Person-times | AH6: 金額 (千元) Amounts (NT$1,000)
C7: 計 Subtotal | D7: 男 Male | E7: 女 Female | G7: 計 Subtotal | H7: 男 Male | I7: 女 Female | K7: 計 Subtotal | L7: 男 Male | M7: 女 Female | O7: 計 Subtotal | P7: 男 Male | Q7: 女 Female | S7: 合計 Subtotal | T7: 男 Male | U7: 女 Female | W7: 合計 Subtotal | X7: 男 Male | Y7: 女 Female | AA7: 合計 Subtotal | AB7: 男 Male | AC7: 女 Female | AE7: 合計 Subtotal | AF7: 男 Male | AG7: 女 Female
A8: 總計 | B8: Total
A9: 新北市 | B9: New Taipei City
A10: 臺北市 | B10: Taipei City
A11: 桃園市 | B11: Taoyuan City
A12: 臺中市 | B12: Taichung City
A13: 臺南市 | B13: Tainan City
A14: 高雄市 | B14: Kaohsiung City
A15: 宜蘭縣 | B15: Yilan County
A16: 新竹縣 | B16: Hsinchu County
A17: 苗栗縣 | B17: Miaoli County
A18: 彰化縣 | B18: Changhua County
A19: 南投縣 | B19: Nantou County
... A30: 連江縣 | B30: Lienchiang County
A31: 資料來源：直轄市、縣(市)政府。
A32: Source : County and City Government.
A33: 更新日期：2025/08/15

Sheet Q1, 2026
A1: 身心障礙者生活輔助器具補助Auxiliary Appliances Assistance for the Disabled
A3: 115年第1季 Jan.-Mar.,2026 | C3: =IF(C8=SUM(C9:C30),"",SUM(C9:C30)) | D3: =IF(D8=SUM(D9:D30),"",SUM(D9:D30)) | E3: =IF(E8=SUM(E9:E30),"",SUM(E9:E30)) | F3: =IF(F8=SUM(F9:F30),"",SUM(F9:F30)) | G3: =IF(G8=SUM(G9:G30),"",SUM(G9:G30)) | H3: =IF(H8=SUM(H9:H30),"",SUM(H9:H30)) | I3: =IF(I8=SUM(I9:I30),"",SUM(I9:I30)) | J3: =IF(J8=SUM(J9:J30),"",SUM(J9:J30)) | ... AH3: =IF(AH8=SUM(AH9:AH30),"",SUM(AH9:AH30))
A4: 區域別 Locality | C4: 福利身分別 By Identity | S4: 依年齡別分 By Age
C5: 總計 Total | G5: 低收入戶 Low-income Households | K5: 中低收入戶 Middle-low-income Households | O5: 非低收入戶及 非中低收入戶 Non-low-income and Non-middle-low-income Households | S5: 總 計 Total | W5: 未滿18歲 under 18 years | AA5: 18歲-未滿65歲 18-under 65 years | AE5: 65歲以上 65 years & over
C6: 人次 Person-times | F6: 金額 (千元) Amounts (NT$1,000) | G6: 人次 Person-times | J6: 金額 (千元) Amounts (NT$1,000) | K6: 人次 Person-times | N6: 金額 (千元) Amounts (NT$1,000) | O6: 人次 Person-times | R6: 金額 (千元) Amounts (NT$1,000) | S6: 人次 Person-times | V6: 金額 (千元) Amounts (NT$1,000) | W6: 人次 Person-times | Z6: 金額 (千元) Amounts (NT$1,000) | AA6: 人次 Person-times | AD6: 金額 (千元) Amounts (NT$1,000) | AE6: 人次 Person-times | AH6: 金額 (千元) Amounts (NT$1,000)
C7: 合計 Subtotal | D7: 男 Male | E7: 女 Female | G7: 合計 Subtotal | H7: 男 Male | I7: 女 Female | K7: 合計 Subtotal | L7: 男 Male | M7: 女 Female | O7: 合計 Subtotal | P7: 男 Male | Q7: 女 Female | S7: 合計 Subtotal | T7: 男 Male | U7: 女 Female | W7: 合計 Subtotal | X7: 男 Male | Y7: 女 Female | AA7: 合計 Subtotal | AB7: 男 Male | AC7: 女 Female | AE7: 合計 Subtotal | AF7: 男 Male | AG7: 女 Female
A8: 總計 | B8: Total | C8: 13781 | D8: 7490 | E8: 6291 | F8: 144757.69 | G8: 1109 | H8: 737 | I8: 372 | J8: 14683.974 | K8: 258 | L8: 159 | M8: 99 | N8: 3033.034 | O8: 12414 | P8: 6594 | Q8: 5820 | R8: 127040.69 | S8: 13781 | T8: 7490 | U8: 6291 | V8: 144757.69 | W8: 1050 | X8: 583 | Y8: 467 | Z8: 13166.232 | AA8: 4477 | AB8: 2711 | AC8: 1766 | AD8: 55603.467 | AE8: 8254 | AF8: 4196 | AG8: 4058 | AH8: 75987.995
A9: 新北市 | B9: New Taipei City | C9: 2719 | D9: 1437 | E9: 1282 | F9: 22282.985 | G9: 170 | H9: 116 | I9: 54 | J9: 1514 | K9: 55 | L9: 40 | M9: 15 | N9: 476.625 | O9: 2494 | P9: 1281 | Q9: 1213 | R9: 20292.36 | S9: 2719 | T9: 1437 | U9: 1282 | V9: 22282.985 | W9: 191 | X9: 101 | Y9: 90 | Z9: 2353.3 | AA9: 892 | AB9: 544 | AC9: 348 | AD9: 8257.005 | AE9: 1636 | AF9: 792 | AG9: 844 | AH9: 11672.68
A10: 臺北市 | B10: Taipei City | C10: 2098 | D10: 1093 | E10: 1005 | F10: 18188.418 | G10: 196 | H10: 122 | I10: 74 | J10: 1979.965 | K10: 18 | L10: 6 | M10: 12 | N10: 190.15 | O10: 1884 | P10: 965 | Q10: 919 | R10: 16018.303 | S10: 2098 | T10: 1093 | U10: 1005 | V10: 18188.418 | W10: 139 | X10: 67 | Y10: 72 | Z10: 1512.27 | AA10: 649 | AB10: 383 | AC10: 266 | AD10: 6924.045 | AE10: 1310 | AF10: 643 | AG10: 667 | AH10: 9752.103
A11: 桃園市 | B11: Taoyuan City | C11: 839 | D11: 476 | E11: 363 | F11: 10569.18 | G11: 62 | H11: 41 | I11: 21 | J11: 1071.5 | K11: 8 | L11: 6 | M11: 2 | N11: 69.25 | O11: 769 | P11: 429 | Q11: 340 | R11: 9428.43 | S11: 839 | T11: 476 | U11: 363 | V11: 10569.18 | W11: 89 | X11: 53 | Y11: 36 | Z11: 977.02 | AA11: 321 | AB11: 199 | AC11: 122 | AD11: 4694.9 | AE11: 429 | AF11: 224 | AG11: 205 | AH11: 4897.26
A12: 臺中市 | B12: Taichung City | C12: 1556 | D12: 875 | E12: 681 | F12: 17737.604 | G12: 111 | H12: 72 | I12: 39 | J12: 1668.46 | K12: 22 | L12: 18 | M12: 4 | N12: 275.975 | O12: 1423 | P12: 785 | Q12: 638 | R12: 15793.169 | S12: 1556 | T12: 875 | U12: 681 | V12: 17737.604 | W12: 161 | X12: 111 | Y12: 50 | Z12: 2057.41 | AA12: 582 | AB12: 332 | AC12: 250 | AD12: 7182.114 | AE12: 813 | AF12: 432 | AG12: 381 | AH12: 8498.08
A13: 臺南市 | B13: Tainan City | C13: 800 | D13: 449 | E13: 351 | F13: 8686.77 | G13: 47 | H13: 28 | I13: 19 | J13: 623.4 | K13: 11 | L13: 9 | M13: 2 | N13: 199.11 | O13: 742 | P13: 412 | Q13: 330 | R13: 7864.26 | S13: 800 | T13: 449 | U13: 351 | V13: 8686.77 | W13: 53 | X13: 28 | Y13: 25 | Z13: 650.55 | AA13: 239 | AB13: 149 | AC13: 90 | AD13: 2869.36 | AE13: 508 | AF13: 272 | AG13: 236 | AH13: 5166.86
A14: 高雄市 | B14: Kaohsiung City | C14: 1316 | D14: 710 | E14: 606 | F14: 15421.498 | G14: 125 | H14: 85 | I14: 40 | J14: 1744.5 | K14: 21 | L14: 13 | M14: 8 | N14: 191.339 | O14: 1170 | P14: 612 | Q14: 558 | R14: 13485.659 | S14: 1316 | T14: 710 | U14: 606 | V14: 15421.498 | W14: 89 | X14: 47 | Y14: 42 | Z14: 1174 | AA14: 454 | AB14: 259 | AC14: 195 | AD14: 5995.65 | AE14: 773 | AF14: 404 | AG14: 369 | AH14: 8251.848
A15: 宜蘭縣 | B15: Yilan County | C15: 290 | D15: 162 | E15: 128 | F15: 2970.132 | G15: 26 | H15: 14 | I15: 12 | J15: 282.232 | K15: 4 | L15: 1 | M15: 3 | N15: 88.5 | O15: 260 | P15: 147 | Q15: 113 | R15: 2599.4 | S15: 290 | T15: 162 | U15: 128 | V15: 2970.132 | W15: 14 | X15: 7 | Y15: 7 | Z15: 165.432 | AA15: 77 | AB15: 43 | AC15: 34 | AD15: 1127.8 | AE15: 199 | AF15: 112 | AG15: 87 | AH15: 1676.9
A16: 新竹縣 | B16: Hsinchu County | C16: 253 | D16: 149 | E16: 104 | F16: 3214.2 | G16: 11 | H16: 8 | I16: 3 | J16: 110.2 | K16: 0 | L16: 0 | M16: 0 | N16: 0 | O16: 242 | P16: 141 | Q16: 101 | R16: 3104 | S16: 253 | T16: 149 | U16: 104 | V16: 3214.2 | W16: 32 | X16: 18 | Y16: 14 | Z16: 533.5 | AA16: 81 | AB16: 50 | AC16: 31 | AD16: 1184.2 | AE16: 140 | AF16: 81 | AG16: 59 | AH16: 1496.5
A17: 苗栗縣 | B17: Miaoli County | C17: 351 | D17: 190 | E17: 161 | F17: 4042.25 | G17: 37 | H17: 24 | I17: 13 | J17: 439.3 | K17: 8 | L17: 7 | M17: 1 | N17: 54 | O17: 306 | P17: 159 | Q17: 147 | R17: 3548.95 | S17: 351 | T17: 190 | U17: 161 | V17: 4042.25 | W17: 13 | X17: 8 | Y17: 5 | Z17: 165.7 | AA17: 96 | AB17: 64 | AC17: 32 | AD17: 1477.3 | AE17: 242 | AF17: 118 | AG17: 124 | AH17: 2399.25
A18: 彰化縣 | B18: Changhua County | C18: 657 | D18: 367 | E18: 290 | F18: 7800.749 | G18: 44 | H18: 37 | I18: 7 | J18: 652.919 | K18: 27 | L18: 13 | M18: 14 | N18: 255.51 | O18: 586 | P18: 317 | Q18: 269 | R18: 6892.32 | S18: 657 | T18: 367 | U18: 290 | V18: 7800.749 | W18: 69 | X18: 40 | Y18: 29 | Z18: 710.95 | AA18: 187 | AB18: 113 | AC18: 74 | AD18: 2625.43 | AE18: 401 | AF18: 214 | AG18: 187 | AH18: 4464.369
A19: 南投縣 | B19: Nantou County | C19: 578 | D19: 346 | E19: 232 | F19: 4560.03 | G19: 38 | H19: 25 | I19: 13 | J19: 379 | K19: 37 | L19: 21 | M19: 16 | N19: 364 | O19: 503 | P19: 300 | Q19: 203 | R19: 3817.03 | S19: 578 | T19: 346 | U19: 232 | V19: 4560.03 | W19: 22 | X19: 8 | Y19: 14 | Z19: 286.5 | AA19: 151 | AB19: 107 | AC19: 44 | AD19: 1498.91 | AE19: 405 | AF19: 231 | AG19: 174 | AH19: 2774.62
... A30: 連江縣 | B30: Lienchiang County | C30: 1 | D30: 1 | E30: 0 | F30: 10 | G30: 0 | H30: 0 | I30: 0 | J30: 0 | K30: 0 | L30: 0 | M30: 0 | N30: 0 | O30: 1 | P30: 1 | Q30: 0 | R30: 10 | S30: 1 | T30: 1 | U30: 0 | V30: 10 | W30: 0 | X30: 0 | Y30: 0 | Z30: 0 | AA30: 0 | AB30: 0 | AC30: 0 | AD30: 0 | AE30: 1 | AF30: 1 | AG30: 0 | AH30: 10
A31: 資料來源：直轄市、縣(市)政府。
A32: Source : County and City Government.
A33: 更新日期：2026/05/15

Sheet 2025
A1: 身心障礙者生活輔助器具補助Auxiliary Appliances Assistance for the Disabled
A3: 114年,2025 | C3: =IF(C8=SUM(C9:C30),"",SUM(C9:C30)) | D3: =IF(D8=SUM(D9:D30),"",SUM(D9:D30)) | E3: =IF(E8=SUM(E9:E30),"",SUM(E9:E30)) | F3: =IF(F8=SUM(F9:F30),"",SUM(F9:F30)) | G3: =IF(G8=SUM(G9:G30),"",SUM(G9:G30)) | H3: =IF(H8=SUM(H9:H30),"",SUM(H9:H30)) | I3: =IF(I8=SUM(I9:I30),"",SUM(I9:I30)) | J3: =IF(J8=SUM(J9:J30),"",SUM(J9:J30)) | ... AH3: =IF(AH8=SUM(AH9:AH30),"",SUM(AH9:AH30))
A4: 區域別 Locality | C4: 福利身分別 By Identity | S4: 依年齡別分 By Age
C5: 總計 Total | G5: 低收入戶 Low-income Households | K5: 中低收入戶 Middle-low-income Households | O5: 非低收入戶及 非中低收入戶 Non-low-income and Non-middle-low-income Households | S5: 總 計 Total | W5: 未滿18歲 under 18 years | AA5: 18歲-未滿65歲 18-under 65 years | AE5: 65歲以上 65 years & over
C6: 人次 Person-times | F6: 金額 (千元) Amounts (NT$1,000) | G6: 人次 Person-times | J6: 金額 (千元) Amounts (NT$1,000) | K6: 人次 Person-times | N6: 金額 (千元) Amounts (NT$1,000) | O6: 人次 Person-times | R6: 金額 (千元) Amounts (NT$1,000) | S6: 人次 Person-times | V6: 金額 (千元) Amounts (NT$1,000) | W6: 人次 Person-times | Z6: 金額 (千元) Amounts (NT$1,000) | AA6: 人次 Person-times | AD6: 金額 (千元) Amounts (NT$1,000) | AE6: 人次 Person-times | AH6: 金額 (千元) Amounts (NT$1,000)
C7: 計 Subtotal | D7: 男 Male | E7: 女 Female | G7: 計 Subtotal | H7: 男 Male | I7: 女 Female | K7: 計 Subtotal | L7: 男 Male | M7: 女 Female | O7: 計 Subtotal | P7: 男 Male | Q7: 女 Female | S7: 合計 Subtotal | T7: 男 Male | U7: 女 Female | W7: 合計 Subtotal | X7: 男 Male | Y7: 女 Female | AA7: 合計 Subtotal | AB7: 男 Male | AC7: 女 Female | AE7: 合計 Subtotal | AF7: 男 Male | AG7: 女 Female
A8: 總計 | B8: Total | C8: 58014 | D8: 31263 | E8: 26751 | F8: 614494.65 | G8: 4579 | H8: 3150 | I8: 1429 | J8: 63154.197 | K8: 1090 | L8: 698 | M8: 392 | N8: 14777.85 | O8: 52345 | P8: 27415 | Q8: 24930 | R8: 536562.61 | S8: 58014 | T8: 31263 | U8: 26751 | V8: 614494.65 | W8: 4716 | X8: 2695 | Y8: 2021 | Z8: 60274.084 | AA8: 19841 | AB8: 11867 | AC8: 7974 | AD8: 247118.58 | AE8: 33457 | AF8: 16701 | AG8: 16756 | AH8: 307101.99
A9: 新北市 | B9: New Taipei City | C9: 10640 | D9: 5612 | E9: 5028 | F9: 93414.051 | G9: 707 | H9: 465 | I9: 242 | J9: 7682.674 | K9: 145 | L9: 81 | M9: 64 | N9: 1465.304 | O9: 9788 | P9: 5066 | Q9: 4722 | R9: 84266.073 | S9: 10640 | T9: 5612 | U9: 5028 | V9: 93414.051 | W9: 789 | X9: 414 | Y9: 375 | Z9: 8624.729 | AA9: 3755 | AB9: 2247 | AC9: 1508 | AD9: 38105.428 | AE9: 6096 | AF9: 2951 | AG9: 3145 | AH9: 46683.894
A10: 臺北市 | B10: Taipei City | C10: 9287 | D10: 4752 | E10: 4535 | F10: 83778.81 | G10: 963 | H10: 586 | I10: 377 | J10: 10695.477 | K10: 89 | L10: 66 | M10: 23 | N10: 785.225 | O10: 8235 | P10: 4100 | Q10: 4135 | R10: 72298.108 | S10: 9287 | T10: 4752 | U10: 4535 | V10: 83778.81 | W10: 712 | X10: 408 | Y10: 304 | Z10: 8044.361 | AA10: 3107 | AB10: 1753 | AC10: 1354 | AD10: 31635.287 | AE10: 5468 | AF10: 2591 | AG10: 2877 | AH10: 44099.162
A11: 桃園市 | B11: Taoyuan City | C11: 3449 | D11: 1856 | E11: 1593 | F11: 46668.381 | G11: 223 | H11: 148 | I11: 75 | J11: 3957.612 | K11: 58 | L11: 27 | M11: 31 | N11: 1324.175 | O11: 3168 | P11: 1681 | Q11: 1487 | R11: 41386.594 | S11: 3449 | T11: 1856 | U11: 1593 | V11: 46668.381 | W11: 454 | X11: 249 | Y11: 205 | Z11: 6265.215 | AA11: 1275 | AB11: 709 | AC11: 566 | AD11: 20480.351 | AE11: 1720 | AF11: 898 | AG11: 822 | AH11: 19922.815
A12: 臺中市 | B12: Taichung City | C12: 6079 | D12: 3323 | E12: 2756 | F12: 69650.94 | G12: 445 | H12: 296 | I12: 149 | J12: 7276.289 | K12: 122 | L12: 91 | M12: 31 | N12: 1469.625 | O12: 5512 | P12: 2936 | Q12: 2576 | R12: 60905.026 | S12: 6079 | T12: 3323 | U12: 2756 | V12: 69650.94 | W12: 690 | X12: 387 | Y12: 303 | Z12: 9001.999 | AA12: 2217 | AB12: 1292 | AC12: 925 | AD12: 28628.938 | AE12: 3172 | AF12: 1644 | AG12: 1528 | AH12: 32020.003
A13: 臺南市 | B13: Tainan City | C13: 4356 | D13: 2344 | E13: 2012 | F13: 51523.591 | G13: 274 | H13: 210 | I13: 64 | J13: 3959.139 | K13: 57 | L13: 36 | M13: 21 | N13: 1050.075 | O13: 4025 | P13: 2098 | Q13: 1927 | R13: 46514.377 | S13: 4356 | T13: 2344 | U13: 2012 | V13: 51523.591 | W13: 329 | X13: 204 | Y13: 125 | Z13: 5288.81 | AA13: 1507 | AB13: 864 | AC13: 643 | AD13: 20744.841 | AE13: 2520 | AF13: 1276 | AG13: 1244 | AH13: 25489.94
A14: 高雄市 | B14: Kaohsiung City | C14: 5769 | D14: 3113 | E14: 2656 | F14: 68381.144 | G14: 450 | H14: 327 | I14: 123 | J14: 7393.238 | K14: 141 | L14: 78 | M14: 63 | N14: 2007.006 | O14: 5178 | P14: 2708 | Q14: 2470 | R14: 58980.9 | S14: 5769 | T14: 3113 | U14: 2656 | V14: 68381.144 | W14: 441 | X14: 267 | Y14: 174 | Z14: 6224.03 | AA14: 2128 | AB14: 1294 | AC14: 834 | AD14: 28857.299 | AE14: 3200 | AF14: 1552 | AG14: 1648 | AH14: 33299.815
A15: 宜蘭縣 | B15: Yilan County | C15: 1227 | D15: 658 | E15: 569 | F15: 12363.245 | G15: 60 | H15: 36 | I15: 24 | J15: 840.7 | K15: 27 | L15: 19 | M15: 8 | N15: 318.615 | O15: 1140 | P15: 603 | Q15: 537 | R15: 11203.93 | S15: 1227 | T15: 658 | U15: 569 | V15: 12363.245 | W15: 71 | X15: 29 | Y15: 42 | Z15: 993.5 | AA15: 368 | AB15: 228 | AC15: 140 | AD15: 4883.165 | AE15: 788 | AF15: 401 | AG15: 387 | AH15: 6486.58
A16: 新竹縣 | B16: Hsinchu County | C16: 953 | D16: 557 | E16: 396 | F16: 11919.24 | G16: 50 | H16: 36 | I16: 14 | J16: 666.34 | K16: 13 | L16: 8 | M16: 5 | N16: 175.75 | O16: 890 | P16: 513 | Q16: 377 | R16: 11077.15 | S16: 953 | T16: 557 | U16: 396 | V16: 11919.24 | W16: 135 | X16: 87 | Y16: 48 | Z16: 2065.66 | AA16: 305 | AB16: 186 | AC16: 119 | AD16: 4481.64 | AE16: 513 | AF16: 284 | AG16: 229 | AH16: 5371.94
A17: 苗栗縣 | B17: Miaoli County | C17: 1428 | D17: 882 | E17: 546 | F17: 17293.135 | G17: 132 | H17: 99 | I17: 33 | J17: 1489.85 | K17: 16 | L17: 15 | M17: 1 | N17: 354.8 | O17: 1280 | P17: 768 | Q17: 512 | R17: 15448.485 | S17: 1428 | T17: 882 | U17: 546 | V17: 17293.135 | W17: 80 | X17: 47 | Y17: 33 | Z17: 1305.55 | AA17: 465 | AB17: 313 | AC17: 152 | AD17: 6639.32 | AE17: 883 | AF17: 522 | AG17: 361 | AH17: 9348.265
A18: 彰化縣 | B18: Changhua County | C18: 3415 | D18: 1880 | E18: 1535 | F18: 36897.289 | G18: 246 | H18: 173 | I18: 73 | J18: 3381.92 | K18: 117 | L18: 69 | M18: 48 | N18: 1639.585 | O18: 3052 | P18: 1638 | Q18: 1414 | R18: 31875.784 | S18: 3415 | T18: 1880 | U18: 1535 | V18: 36897.289 | W18: 231 | X18: 136 | Y18: 95 | Z18: 2711.61 | AA18: 1073 | AB18: 656 | AC18: 417 | AD18: 14390.466 | AE18: 2111 | AF18: 1088 | AG18: 1023 | AH18: 19795.213
A19: 南投縣 | B19: Nantou County | C19: 2111 | D19: 1123 | E19: 988 | F19: 15369.17 | G19: 107 | H19: 85 | I19: 22 | J19: 899.7 | K19: 61 | L19: 48 | M19: 13 | N19: 539.9 | O19: 1943 | P19: 990 | Q19: 953 | R19: 13929.57 | S19: 2111 | T19: 1123 | U19: 988 | V19: 15369.17 | W19: 64 | X19: 29 | Y19: 35 | Z19: 618.4 | AA19: 504 | AB19: 356 | AC19: 148 | AD19: 4389.3 | AE19: 1543 | AF19: 738 | AG19: 805 | AH19: 10361.47
... A30: 連江縣 | B30: Lienchiang County | C30: 17 | D30: 9 | E30: 8 | F30: 190.175 | G30: 1 | H30: 0 | I30: 1 | J30: 5 | K30: 3 | L30: 3 | M30: 0 | N30: 57.175 | O30: 13 | P30: 6 | Q30: 7 | R30: 128 | S30: 17 | T30: 9 | U30: 8 | V30: 190.175 | W30: 2 | X30: 0 | Y30: 2 | Z30: 13 | AA30: 8 | AB30: 5 | AC30: 3 | AD30: 103.175 | AE30: 7 | AF30: 4 | AG30: 3 | AH30: 74
A31: 資料來源：直轄市、縣(市)政府。
A32: Source : County and City Government.
A33: 更新日期：2026/02/23

Sheet Q4, 2025
A1: 身心障礙者生活輔助器具補助Auxiliary Appliances Assistance for the Disabled
A3: 114年第4季 Oct.-Dec., 2025 | C3: =IF(C8=SUM(C9:C30),"",SUM(C9:C30)) | D3: =IF(D8=SUM(D9:D30),"",SUM(D9:D30)) | E3: =IF(E8=SUM(E9:E30),"",SUM(E9:E30)) | F3: =IF(F8=SUM(F9:F30),"",SUM(F9:F30)) | G3: =IF(G8=SUM(G9:G30),"",SUM(G9:G30)) | H3: =IF(H8=SUM(H9:H30),"",SUM(H9:H30)) | I3: =IF(I8=SUM(I9:I30),"",SUM(I9:I30)) | J3: =IF(J8=SUM(J9:J30),"",SUM(J9:J30)) | ... AH3: =IF(AH8=SUM(AH9:AH30),"",SUM(AH9:AH30))
A4: 區域別 Locality | C4: 福利身分別 By Identity | S4: 依年齡別分 By Age
C5: 總計 Total | G5: 低收入戶 Low-income Households | K5: 中低收入戶 Middle-low-income Households | O5: 非低收入戶及 非中低收入戶 Non-low-income and Non-middle-low-income Households | S5: 總 計 Total | W5: 未滿18歲 under 18 years | AA5: 18歲-未滿65歲 18-under 65 years | AE5: 65歲以上 65 years & over
C6: 人次 Person-times | F6: 金額 (千元) Amounts (NT$1,000) | G6: 人次 Person-times | J6: 金額 (千元) Amounts (NT$1,000) | K6: 人次 Person-times | N6: 金額 (千元) Amounts (NT$1,000) | O6: 人次 Person-times | R6: 金額 (千元) Amounts (NT$1,000) | S6: 人次 Person-times | V6: 金額 (千元) Amounts (NT$1,000) | W6: 人次 Person-times | Z6: 金額 (千元) Amounts (NT$1,000) | AA6: 人次 Person-times | AD6: 金額 (千元) Amounts (NT$1,000) | AE6: 人次 Person-times | AH6: 金額 (千元) Amounts (NT$1,000)
C7: 計 Subtotal | D7: 男 Male | E7: 女 Female | G7: 計 Subtotal | H7: 男 Male | I7: 女 Female | K7: 計 Subtotal | L7: 男 Male | M7: 女 Female | O7: 計 Subtotal | P7: 男 Male | Q7: 女 Female | S7: 合計 Subtotal | T7: 男 Male | U7: 女 Female | W7: 合計 Subtotal | X7: 男 Male | Y7: 女 Female | AA7: 合計 Subtotal | AB7: 男 Male | AC7: 女 Female | AE7: 合計 Subtotal | AF7: 男 Male | AG7: 女 Female
A8: 總計 | B8: Total | C8: 14684 | D8: 7844 | E8: 6840 | F8: 155317.68 | G8: 1130 | H8: 800 | I8: 330 | J8: 15477.211 | K8: 248 | L8: 144 | M8: 104 | N8: 3138.169 | O8: 13306 | P8: 6900 | Q8: 6406 | R8: 136702.3 | S8: 14684 | T8: 7844 | U8: 6840 | V8: 155317.68 | W8: 1158 | X8: 640 | Y8: 518 | Z8: 14982.46 | AA8: 4975 | AB8: 2939 | AC8: 2036 | AD8: 62206.29 | AE8: 8551 | AF8: 4265 | AG8: 4286 | AH8: 78128.933
A9: 新北市 | B9: New Taipei City | C9: 2931 | D9: 1513 | E9: 1418 | F9: 24629.214 | G9: 157 | H9: 105 | I9: 52 | J9: 1886.414 | K9: 29 | L9: 7 | M9: 22 | N9: 203.669 | O9: 2745 | P9: 1401 | Q9: 1344 | R9: 22539.131 | S9: 2931 | T9: 1513 | U9: 1418 | V9: 24629.214 | W9: 210 | X9: 111 | Y9: 99 | Z9: 2464.84 | AA9: 938 | AB9: 552 | AC9: 386 | AD9: 9194.884 | AE9: 1783 | AF9: 850 | AG9: 933 | AH9: 12969.49
A10: 臺北市 | B10: Taipei City | C10: 2267 | D10: 1146 | E10: 1121 | F10: 19718.741 | G10: 241 | H10: 154 | I10: 87 | J10: 2349.045 | K10: 16 | L10: 12 | M10: 4 | N10: 181.15 | O10: 2010 | P10: 980 | Q10: 1030 | R10: 17188.546 | S10: 2267 | T10: 1146 | U10: 1121 | V10: 19718.741 | W10: 143 | X10: 75 | Y10: 68 | Z10: 1574.37 | AA10: 749 | AB10: 436 | AC10: 313 | AD10: 7264.425 | AE10: 1375 | AF10: 635 | AG10: 740 | AH10: 10879.946
A11: 桃園市 | B11: Taoyuan City | C11: 913 | D11: 507 | E11: 406 | F11: 12511.67 | G11: 53 | H11: 35 | I11: 18 | J11: 913.23 | K11: 13 | L11: 7 | M11: 6 | N11: 188 | O11: 847 | P11: 465 | Q11: 382 | R11: 11410.44 | S11: 913 | T11: 507 | U11: 406 | V11: 12511.67 | W11: 127 | X11: 76 | Y11: 51 | Z11: 1737.4 | AA11: 346 | AB11: 205 | AC11: 141 | AD11: 5647.9 | AE11: 440 | AF11: 226 | AG11: 214 | AH11: 5126.37
A12: 臺中市 | B12: Taichung City | C12: 1318 | D12: 735 | E12: 583 | F12: 16391.909 | G12: 98 | H12: 68 | I12: 30 | J12: 2206.299 | K12: 29 | L12: 23 | M12: 6 | N12: 303.55 | O12: 1191 | P12: 644 | Q12: 547 | R12: 13882.06 | S12: 1318 | T12: 735 | U12: 583 | V12: 16391.909 | W12: 150 | X12: 89 | Y12: 61 | Z12: 2344.46 | AA12: 503 | AB12: 282 | AC12: 221 | AD12: 7478.225 | AE12: 665 | AF12: 364 | AG12: 301 | AH12: 6569.224
A13: 臺南市 | B13: Tainan City | C13: 993 | D13: 508 | E13: 485 | F13: 12171.744 | G13: 58 | H13: 43 | I13: 15 | J13: 968.4 | K13: 9 | L13: 5 | M13: 4 | N13: 110.9 | O13: 926 | P13: 460 | Q13: 466 | R13: 11092.444 | S13: 993 | T13: 508 | U13: 485 | V13: 12171.744 | W13: 75 | X13: 40 | Y13: 35 | Z13: 1206.95 | AA13: 349 | AB13: 187 | AC13: 162 | AD13: 4876.364 | AE13: 569 | AF13: 281 | AG13: 288 | AH13: 6088.43
A14: 高雄市 | B14: Kaohsiung City | C14: 1527 | D14: 799 | E14: 728 | F14: 17601.252 | G14: 135 | H14: 95 | I14: 40 | J14: 1733.099 | K14: 33 | L14: 18 | M14: 15 | N14: 585.325 | O14: 1359 | P14: 686 | Q14: 673 | R14: 15282.828 | S14: 1527 | T14: 799 | U14: 728 | V14: 17601.252 | W14: 124 | X14: 72 | Y14: 52 | Z14: 1561 | AA14: 581 | AB14: 336 | AC14: 245 | AD14: 7310.138 | AE14: 822 | AF14: 391 | AG14: 431 | AH14: 8730.114
A15: 宜蘭縣 | B15: Yilan County | C15: 389 | D15: 214 | E15: 175 | F15: 4012.09 | G15: 21 | H15: 11 | I15: 10 | J15: 406.7 | K15: 9 | L15: 6 | M15: 3 | N15: 112.74 | O15: 359 | P15: 197 | Q15: 162 | R15: 3492.65 | S15: 389 | T15: 214 | U15: 175 | V15: 4012.09 | W15: 25 | X15: 10 | Y15: 15 | Z15: 315.5 | AA15: 120 | AB15: 75 | AC15: 45 | AD15: 1770.79 | AE15: 244 | AF15: 129 | AG15: 115 | AH15: 1925.8
A16: 新竹縣 | B16: Hsinchu County | C16: 186 | D16: 99 | E16: 87 | F16: 2313.65 | G16: 15 | H16: 11 | I16: 4 | J16: 166 | K16: 2 | L16: 1 | M16: 1 | N16: 18 | O16: 169 | P16: 87 | Q16: 82 | R16: 2129.65 | S16: 186 | T16: 99 | U16: 87 | V16: 2313.65 | W16: 25 | X16: 17 | Y16: 8 | Z16: 420.5 | AA16: 63 | AB16: 32 | AC16: 31 | AD16: 849.8 | AE16: 98 | AF16: 50 | AG16: 48 | AH16: 1043.35
A17: 苗栗縣 | B17: Miaoli County | C17: 363 | D17: 206 | E17: 157 | F17: 4167.95 | G17: 30 | H17: 21 | I17: 9 | J17: 382.9 | K17: 2 | L17: 2 | M17: 0 | N17: 16 | O17: 331 | P17: 183 | Q17: 148 | R17: 3769.05 | S17: 363 | T17: 206 | U17: 157 | V17: 4167.95 | W17: 12 | X17: 2 | Y17: 10 | Z17: 128.75 | AA17: 116 | AB17: 75 | AC17: 41 | AD17: 1672.55 | AE17: 235 | AF17: 129 | AG17: 106 | AH17: 2366.65
A18: 彰化縣 | B18: Changhua County | C18: 653 | D18: 366 | E18: 287 | F18: 7149.235 | G18: 44 | H18: 34 | I18: 10 | J18: 557.7 | K18: 23 | L18: 13 | M18: 10 | N18: 316.085 | O18: 586 | P18: 319 | Q18: 267 | R18: 6275.45 | S18: 653 | T18: 366 | U18: 287 | V18: 7149.235 | W18: 54 | X18: 32 | Y18: 22 | Z18: 722.31 | AA18: 199 | AB18: 115 | AC18: 84 | AD18: 2520.98 | AE18: 400 | AF18: 219 | AG18: 181 | AH18: 3905.945
A19: 南投縣 | B19: Nantou County | C19: 506 | D19: 280 | E19: 226 | F19: 3638.19 | G19: 17 | H19: 16 | I19: 1 | J19: 134.7 | K19: 10 | L19: 7 | M19: 3 | N19: 99.25 | O19: 479 | P19: 257 | Q19: 222 | R19: 3404.24 | S19: 506 | T19: 280 | U19: 226 | V19: 3638.19 | W19: 19 | X19: 7 | Y19: 12 | Z19: 171 | AA19: 115 | AB19: 84 | AC19: 31 | AD19: 1006.35 | AE19: 372 | AF19: 189 | AG19: 183 | AH19: 2460.84
... A30: 連江縣 | B30: Lienchiang County | C30: 6 | D30: 4 | E30: 2 | F30: 69.625 | G30: 0 | H30: 0 | I30: 0 | J30: 0 | K30: 1 | L30: 1 | M30: 0 | N30: 9.625 | O30: 5 | P30: 3 | Q30: 2 | R30: 60 | S30: 6 | T30: 4 | U30: 2 | V30: 69.625 | W30: 1 | X30: 0 | Y30: 1 | Z30: 8 | AA30: 3 | AB30: 2 | AC30: 1 | AD30: 39.625 | AE30: 2 | AF30: 2 | AG30: 0 | AH30: 22
A31: 資料來源：直轄市、縣(市)政府。
A32: Source : County and City Government.
A33: 更新日期：2026/02/23

Sheet Q3, 2025
A1: 身心障礙者生活輔助器具補助Auxiliary Appliances Assistance for the Disabled
A3: 114年第3季 July-Sept., 2025 | C3: =IF(C8=SUM(C9:C30),"",SUM(C9:C30)) | D3: =IF(D8=SUM(D9:D30),"",SUM(D9:D30)) | E3: =IF(E8=SUM(E9:E30),"",SUM(E9:E30)) | F3: =IF(F8=SUM(F9:F30),"",SUM(F9:F30)) | G3: =IF(G8=SUM(G9:G30),"",SUM(G9:G30)) | H3: =IF(H8=SUM(H9:H30),"",SUM(H9:H30)) | I3: =IF(I8=SUM(I9:I30),"",SUM(I9:I30)) | J3: =IF(J8=SUM(J9:J30),"",SUM(J9:J30)) | ... AH3: =IF(AH8=SUM(AH9:AH30),"",SUM(AH9:AH30))
A4: 區域別 Locality | C4: 福利身分別 By Identity | S4: 依年齡別分 By Age
C5: 總計 Total | G5: 低收入戶 Low-income Households | K5: 中低收入戶 Middle-low-income Households | O5: 非低收入戶及 非中低收入戶 Non-low-income and Non-middle-low-income Households | S5: 總 計 Total | W5: 未滿18歲 under 18 years | AA5: 18歲-未滿65歲 18-under 65 years | AE5: 65歲以上 65 years & over
C6: 人次 Person-times | F6: 金額 (千元) Amounts (NT$1,000) | G6: 人次 Person-times | J6: 金額 (千元) Amounts (NT$1,000) | K6: 人次 Person-times | N6: 金額 (千元) Amounts (NT$1,000) | O6: 人次 Person-times | R6: 金額 (千元) Amounts (NT$1,000) | S6: 人次 Person-times | V6: 金額 (千元) Amounts (NT$1,000) | W6: 人次 Person-times | Z6: 金額 (千元) Amounts (NT$1,000) | AA6: 人次 Person-times | AD6: 金額 (千元) Amounts (NT$1,000) | AE6: 人次 Person-times | AH6: 金額 (千元) Amounts (NT$1,000)
C7: 計 Subtotal | D7: 男 Male | E7: 女 Female | G7: 計 Subtotal | H7: 男 Male | I7: 女 Female | K7: 計 Subtotal | L7: 男 Male | M7: 女 Female | O7: 計 Subtotal | P7: 男 Male | Q7: 女 Female | S7: 合計 Subtotal | T7: 男 Male | U7: 女 Female | W7: 合計 Subtotal | X7: 男 Male | Y7: 女 Female | AA7: 合計 Subtotal | AB7: 男 Male | AC7: 女 Female | AE7: 合計 Subtotal | AF7: 男 Male | AG7: 女 Female
A8: 總計 | B8: Total | C8: 14846 | D8: 7969 | E8: 6877 | F8: 156899.05 | G8: 1119 | H8: 774 | I8: 345 | J8: 15161.963 | K8: 276 | L8: 184 | M8: 92 | N8: 3686.721 | O8: 13451 | P8: 7011 | Q8: 6440 | R8: 138050.37 | S8: 14846 | T8: 7969 | U8: 6877 | V8: 156899.05 | W8: 1176 | X8: 670 | Y8: 506 | Z8: 14747.636 | AA8: 5086 | AB8: 3044 | AC8: 2042 | AD8: 61973.94 | AE8: 8584 | AF8: 4255 | AG8: 4329 | AH8: 80177.474
A9: 新北市 | B9: New Taipei City | C9: 2433 | D9: 1242 | E9: 1191 | F9: 21804.08 | G9: 144 | H9: 91 | I9: 53 | J9: 1252.72 | K9: 39 | L9: 22 | M9: 17 | N9: 424.76 | O9: 2250 | P9: 1129 | Q9: 1121 | R9: 20126.6 | S9: 2433 | T9: 1242 | U9: 1191 | V9: 21804.08 | W9: 169 | X9: 91 | Y9: 78 | Z9: 1648.14 | AA9: 871 | AB9: 496 | AC9: 375 | AD9: 8845.51 | AE9: 1393 | AF9: 655 | AG9: 738 | AH9: 11310.43
A10: 臺北市 | B10: Taipei City | C10: 2288 | D10: 1152 | E10: 1136 | F10: 20255.208 | G10: 199 | H10: 111 | I10: 88 | J10: 2332.927 | K10: 23 | L10: 15 | M10: 8 | N10: 184.875 | O10: 2066 | P10: 1026 | Q10: 1040 | R10: 17737.406 | S10: 2288 | T10: 1152 | U10: 1136 | V10: 20255.208 | W10: 173 | X10: 91 | Y10: 82 | Z10: 1548.176 | AA10: 790 | AB10: 430 | AC10: 360 | AD10: 7883.697 | AE10: 1325 | AF10: 631 | AG10: 694 | AH10: 10823.335
A11: 桃園市 | B11: Taoyuan City | C11: 915 | D11: 510 | E11: 405 | F11: 11919.934 | G11: 56 | H11: 42 | I11: 14 | J11: 1190.952 | K11: 13 | L11: 6 | M11: 7 | N11: 244.8 | O11: 846 | P11: 462 | Q11: 384 | R11: 10484.182 | S11: 915 | T11: 510 | U11: 405 | V11: 11919.934 | W11: 122 | X11: 63 | Y11: 59 | Z11: 1755.98 | AA11: 342 | AB11: 197 | AC11: 145 | AD11: 4957.859 | AE11: 451 | AF11: 250 | AG11: 201 | AH11: 5206.095
A12: 臺中市 | B12: Taichung City | C12: 1558 | D12: 833 | E12: 725 | F12: 18403.552 | G12: 103 | H12: 67 | I12: 36 | J12: 1764.83 | K12: 27 | L12: 20 | M12: 7 | N12: 267.675 | O12: 1428 | P12: 746 | Q12: 682 | R12: 16371.047 | S12: 1558 | T12: 833 | U12: 725 | V12: 18403.552 | W12: 156 | X12: 83 | Y12: 73 | Z12: 1888.65 | AA12: 579 | AB12: 345 | AC12: 234 | AD12: 7792.543 | AE12: 823 | AF12: 405 | AG12: 418 | AH12: 8722.359
A13: 臺南市 | B13: Tainan City | C13: 1456 | D13: 777 | E13: 679 | F13: 16863.8 | G13: 88 | H13: 71 | I13: 17 | J13: 1131.34 | K13: 19 | L13: 11 | M13: 8 | N13: 297.3 | O13: 1349 | P13: 695 | Q13: 654 | R13: 15435.16 | S13: 1456 | T13: 777 | U13: 679 | V13: 16863.8 | W13: 113 | X13: 75 | Y13: 38 | Z13: 1984.1 | AA13: 498 | AB13: 285 | AC13: 213 | AD13: 6547.75 | AE13: 845 | AF13: 417 | AG13: 428 | AH13: 8331.95
A14: 高雄市 | B14: Kaohsiung City | C14: 1475 | D14: 830 | E14: 645 | F14: 16772.171 | G14: 132 | H14: 104 | I14: 28 | J14: 2017.28 | K14: 35 | L14: 21 | M14: 14 | N14: 478.806 | O14: 1308 | P14: 705 | Q14: 603 | R14: 14276.085 | S14: 1475 | T14: 830 | U14: 645 | V14: 16772.171 | W14: 122 | X14: 71 | Y14: 51 | Z14: 1695 | AA14: 523 | AB14: 334 | AC14: 189 | AD14: 6672.736 | AE14: 830 | AF14: 425 | AG14: 405 | AH14: 8404.435
A15: 宜蘭縣 | B15: Yilan County | C15: 337 | D15: 170 | E15: 167 | F15: 3487.53 | G15: 13 | H15: 7 | I15: 6 | J15: 229 | K15: 5 | L15: 5 | M15: 0 | N15: 81 | O15: 319 | P15: 158 | Q15: 161 | R15: 3177.53 | S15: 337 | T15: 170 | U15: 167 | V15: 3487.53 | W15: 19 | X15: 9 | Y15: 10 | Z15: 326 | AA15: 83 | AB15: 51 | AC15: 32 | AD15: 1061.25 | AE15: 235 | AF15: 110 | AG15: 125 | AH15: 2100.28
A16: 新竹縣 | B16: Hsinchu County | C16: 243 | D16: 140 | E16: 103 | F16: 3102.99 | G16: 11 | H16: 7 | I16: 4 | J16: 61.14 | K16: 3 | L16: 1 | M16: 2 | N16: 89.75 | O16: 229 | P16: 132 | Q16: 97 | R16: 2952.1 | S16: 243 | T16: 140 | U16: 103 | V16: 3102.99 | W16: 39 | X16: 24 | Y16: 15 | Z16: 481.5 | AA16: 83 | AB16: 53 | AC16: 30 | AD16: 1437.19 | AE16: 121 | AF16: 63 | AG16: 58 | AH16: 1184.3
A17: 苗栗縣 | B17: Miaoli County | C17: 395 | D17: 253 | E17: 142 | F17: 4907.175 | G17: 47 | H17: 38 | I17: 9 | J17: 501.15 | K17: 6 | L17: 5 | M17: 1 | N17: 190 | O17: 342 | P17: 210 | Q17: 132 | R17: 4216.025 | S17: 395 | T17: 253 | U17: 142 | V17: 4907.175 | W17: 24 | X17: 14 | Y17: 10 | Z17: 408.1 | AA17: 131 | AB17: 92 | AC17: 39 | AD17: 1796.15 | AE17: 240 | AF17: 147 | AG17: 93 | AH17: 2702.925
A18: 彰化縣 | B18: Changhua County | C18: 779 | D18: 411 | E18: 368 | F18: 8876.25 | G18: 53 | H18: 38 | I18: 15 | J18: 835.2 | K18: 17 | L18: 11 | M18: 6 | N18: 270.15 | O18: 709 | P18: 362 | Q18: 347 | R18: 7770.9 | S18: 779 | T18: 411 | U18: 368 | V18: 8876.25 | W18: 39 | X18: 27 | Y18: 12 | Z18: 406.92 | AA18: 264 | AB18: 170 | AC18: 94 | AD18: 3703.27 | AE18: 476 | AF18: 214 | AG18: 262 | AH18: 4766.06
A19: 南投縣 | B19: Nantou County | C19: 501 | D19: 281 | E19: 220 | F19: 3608.15 | G19: 31 | H19: 26 | I19: 5 | J19: 249.7 | K19: 15 | L19: 14 | M19: 1 | N19: 140.9 | O19: 455 | P19: 241 | Q19: 214 | R19: 3217.55 | S19: 501 | T19: 281 | U19: 220 | V19: 3608.15 | W19: 21 | X19: 14 | Y19: 7 | Z19: 200.1 | AA19: 118 | AB19: 78 | AC19: 40 | AD19: 959.2 | AE19: 362 | AF19: 189 | AG19: 173 | AH19: 2448.85
... A30: 連江縣 | B30: Lienchiang County | C30: 5 | D30: 2 | E30: 3 | F30: 62.05 | G30: 1 | H30: 0 | I30: 1 | J30: 5 | K30: 2 | L30: 2 | M30: 0 | N30: 47.55 | O30: 2 | P30: 0 | Q30: 2 | R30: 9.5 | S30: 5 | T30: 2 | U30: 3 | V30: 62.05 | W30: 1 | X30: 0 | Y30: 1 | Z30: 5 | AA30: 3 | AB30: 2 | AC30: 1 | AD30: 52.05 | AE30: 1 | AF30: 0 | AG30: 1 | AH30: 5
A31: 資料來源：直轄市、縣(市)政府。
A32: Source : County and City Government.
A33: 更新日期：2025/11/17

Sheet Q2, 2025
A1: 身心障礙者生活輔助器具補助Auxiliary Appliances Assistance for the Disabled
A3: 114年第2季 Apr.-June, 2025 | C3: =IF(C8=SUM(C9:C30),"",SUM(C9:C30)) | D3: =IF(D8=SUM(D9:D30),"",SUM(D9:D30)) | E3: =IF(E8=SUM(E9:E30),"",SUM(E9:E30)) | F3: =IF(F8=SUM(F9:F30),"",SUM(F9:F30)) | G3: =IF(G8=SUM(G9:G30),"",SUM(G9:G30)) | H3: =IF(H8=SUM(H9:H30),"",SUM(H9:H30)) | I3: =IF(I8=SUM(I9:I30),"",SUM(I9:I30)) | J3: =IF(J8=SUM(J9:J30),"",SUM(J9:J30)) | ... AH3: =IF(AH8=SUM(AH9:AH30),"",SUM(AH9:AH30))
A4: 區域別 Locality | C4: 福利身分別 By Identity | S4: 依年齡別分 By Age
C5: 合計 Total | G5: 低收入戶 Low-income Households | K5: 中低收入戶 Middle-low-income Households | O5: 非低收入戶及 非中低收入戶 Non-low-income and Non-middle-low-income Households | S5: 總 計 Total | W5: 未滿18歲 under 18 years | AA5: 18歲-未滿65歲 18-under 65 years | AE5: 65歲以上 65 years & over
C6: 人次 Person-times | F6: 金額 (千元) Amounts (NT$1,000) | G6: 人次 Person-times | J6: 金額 (千元) Amounts (NT$1,000) | K6: 人次 Person-times | N6: 金額 (千元) Amounts (NT$1,000) | O6: 人次 Person-times | R6: 金額 (千元) Amounts (NT$1,000) | S6: 人次 Person-times | V6: 金額 (千元) Amounts (NT$1,000) | W6: 人次 Person-times | Z6: 金額 (千元) Amounts (NT$1,000) | AA6: 人次 Person-times | AD6: 金額 (千元) Amounts (NT$1,000) | AE6: 人次 Person-times | AH6: 金額 (千元) Amounts (NT$1,000)
C7: 計 Subtotal | D7: 男 Male | E7: 女 Female | G7: 計 Subtotal | H7: 男 Male | I7: 女 Female | K7: 計 Subtotal | L7: 男 Male | M7: 女 Female | O7: 計 Subtotal | P7: 男 Male | Q7: 女 Female | S7: 合計 Subtotal | T7: 男 Male | U7: 女 Female | W7: 合計 Subtotal | X7: 男 Male | Y7: 女 Female | AA7: 合計 Subtotal | AB7: 男 Male | AC7: 女 Female | AE7: 合計 Subtotal | AF7: 男 Male | AG7: 女 Female
A8: 總計 | B8: Total | C8: 14241 | D8: 7723 | E8: 6518 | F8: 148365.82 | G8: 1191 | H8: 829 | I8: 362 | J8: 16195.865 | K8: 284 | L8: 192 | M8: 92 | N8: 3901.91 | O8: 12766 | P8: 6702 | Q8: 6064 | R8: 128268.05 | S8: 14241 | T8: 7723 | U8: 6518 | V8: 148365.82 | W8: 1182 | X8: 687 | Y8: 495 | Z8: 14793.249 | AA8: 4906 | AB8: 2953 | AC8: 1953 | AD8: 60183.214 | AE8: 8153 | AF8: 4083 | AG8: 4070 | AH8: 73389.359
A9: 新北市 | B9: New Taipei City | C9: 2770 | D9: 1490 | E9: 1280 | F9: 23722.214 | G9: 226 | H9: 158 | I9: 68 | J9: 2242.281 | K9: 47 | L9: 27 | M9: 20 | N9: 452.225 | O9: 2497 | P9: 1305 | Q9: 1192 | R9: 21027.708 | S9: 2770 | T9: 1490 | U9: 1280 | V9: 23722.214 | W9: 218 | X9: 109 | Y9: 109 | Z9: 2530.15 | AA9: 960 | AB9: 605 | AC9: 355 | AD9: 9484.276 | AE9: 1592 | AF9: 776 | AG9: 816 | AH9: 11707.788
A10: 臺北市 | B10: Taipei City | C10: 2294 | D10: 1148 | E10: 1146 | F10: 20438.633 | G10: 233 | H10: 148 | I10: 85 | J10: 2489.345 | K10: 24 | L10: 22 | M10: 2 | N10: 187 | O10: 2037 | P10: 978 | Q10: 1059 | R10: 17762.288 | S10: 2294 | T10: 1148 | U10: 1146 | V10: 20438.633 | W10: 214 | X10: 136 | Y10: 78 | Z10: 2496.085 | AA10: 743 | AB10: 412 | AC10: 331 | AD10: 7168.51 | AE10: 1337 | AF10: 600 | AG10: 737 | AH10: 10774.038
A11: 桃園市 | B11: Taoyuan City | C11: 815 | D11: 430 | E11: 385 | F11: 12040.64 | G11: 59 | H11: 39 | I11: 20 | J11: 957.88 | K11: 21 | L11: 9 | M11: 12 | N11: 746.75 | O11: 735 | P11: 382 | Q11: 353 | R11: 10336.01 | S11: 815 | T11: 430 | U11: 385 | V11: 12040.64 | W11: 99 | X11: 60 | Y11: 39 | Z11: 1317.075 | AA11: 318 | AB11: 166 | AC11: 152 | AD11: 5892.365 | AE11: 398 | AF11: 204 | AG11: 194 | AH11: 4831.2
A12: 臺中市 | B12: Taichung City | C12: 1495 | D12: 819 | E12: 676 | F12: 15641.179 | G12: 107 | H12: 67 | I12: 40 | J12: 1237.56 | K12: 26 | L12: 19 | M12: 7 | N12: 360 | O12: 1362 | P12: 733 | Q12: 629 | R12: 14043.619 | S12: 1495 | T12: 819 | U12: 676 | V12: 15641.179 | W12: 182 | X12: 94 | Y12: 88 | Z12: 2027.279 | AA12: 538 | AB12: 326 | AC12: 212 | AD12: 5790.02 | AE12: 775 | AF12: 399 | AG12: 376 | AH12: 7823.88
A13: 臺南市 | B13: Tainan City | C13: 1121 | D13: 627 | E13: 494 | F13: 12383.228 | G13: 96 | H13: 78 | I13: 18 | J13: 1212.9 | K13: 17 | L13: 12 | M13: 5 | N13: 438.125 | O13: 1008 | P13: 537 | Q13: 471 | R13: 10732.203 | S13: 1121 | T13: 627 | U13: 494 | V13: 12383.228 | W13: 68 | X13: 39 | Y13: 29 | Z13: 1027.8 | AA13: 413 | AB13: 242 | AC13: 171 | AD13: 5233.338 | AE13: 640 | AF13: 346 | AG13: 294 | AH13: 6122.09
A14: 高雄市 | B14: Kaohsiung City | C14: 1428 | D14: 780 | E14: 648 | F14: 17584.786 | G14: 103 | H14: 72 | I14: 31 | J14: 2198.049 | K14: 30 | L14: 19 | M14: 11 | N14: 325.75 | O14: 1295 | P14: 689 | Q14: 606 | R14: 15060.987 | S14: 1428 | T14: 780 | U14: 648 | V14: 17584.786 | W14: 99 | X14: 66 | Y14: 33 | Z14: 1510.03 | AA14: 514 | AB14: 310 | AC14: 204 | AD14: 7639.15 | AE14: 815 | AF14: 404 | AG14: 411 | AH14: 8435.606
A15: 宜蘭縣 | B15: Yilan County | C15: 332 | D15: 188 | E15: 144 | F15: 3057.875 | G15: 23 | H15: 16 | I15: 7 | J15: 185 | K15: 6 | L15: 4 | M15: 2 | N15: 39.375 | O15: 303 | P15: 168 | Q15: 135 | R15: 2833.5 | S15: 332 | T15: 188 | U15: 144 | V15: 3057.875 | W15: 16 | X15: 4 | Y15: 12 | Z15: 213 | AA15: 112 | AB15: 73 | AC15: 39 | AD15: 1273.625 | AE15: 204 | AF15: 111 | AG15: 93 | AH15: 1571.25
A16: 新竹縣 | B16: Hsinchu County | C16: 265 | D16: 163 | E16: 102 | F16: 3126.51 | G16: 10 | H16: 7 | I16: 3 | J16: 171 | K16: 5 | L16: 5 | M16: 0 | N16: 30 | O16: 250 | P16: 151 | Q16: 99 | R16: 2925.51 | S16: 265 | T16: 163 | U16: 102 | V16: 3126.51 | W16: 40 | X16: 28 | Y16: 12 | Z16: 620.66 | AA16: 77 | AB16: 47 | AC16: 30 | AD16: 929.95 | AE16: 148 | AF16: 88 | AG16: 60 | AH16: 1575.9
A17: 苗栗縣 | B17: Miaoli County | C17: 358 | D17: 241 | E17: 117 | F17: 4206.95 | G17: 42 | H17: 29 | I17: 13 | J17: 410.5 | K17: 8 | L17: 8 | M17: 0 | N17: 148.8 | O17: 308 | P17: 204 | Q17: 104 | R17: 3647.65 | S17: 358 | T17: 241 | U17: 117 | V17: 4206.95 | W17: 17 | X17: 13 | Y17: 4 | Z17: 225 | AA17: 143 | AB17: 103 | AC17: 40 | AD17: 1938.8 | AE17: 198 | AF17: 125 | AG17: 73 | AH17: 2043.15
A18: 彰化縣 | B18: Changhua County | C18: 815 | D18: 460 | E18: 355 | F18: 8446.61 | G18: 58 | H18: 43 | I18: 15 | J18: 757.48 | K18: 30 | L18: 20 | M18: 10 | N18: 398.05 | O18: 727 | P18: 397 | Q18: 330 | R18: 7291.08 | S18: 815 | T18: 460 | U18: 355 | V18: 8446.61 | W18: 70 | X18: 35 | Y18: 35 | Z18: 753.12 | AA18: 247 | AB18: 156 | AC18: 91 | AD18: 3205.28 | AE18: 498 | AF18: 269 | AG18: 229 | AH18: 4488.21
A19: 南投縣 | B19: Nantou County | C19: 526 | D19: 263 | E19: 263 | F19: 4017.6 | G19: 23 | H19: 17 | I19: 6 | J19: 140.1 | K19: 18 | L19: 17 | M19: 1 | N19: 171 | O19: 485 | P19: 229 | Q19: 256 | R19: 3706.5 | S19: 526 | T19: 263 | U19: 263 | V19: 4017.6 | W19: 10 | X19: 5 | Y19: 5 | Z19: 113.5 | AA19: 125 | AB19: 82 | AC19: 43 | AD19: 1256.4 | AE19: 391 | AF19: 176 | AG19: 215 | AH19: 2647.7
... A30: 連江縣 | B30: Lienchiang County | C30: 4 | D30: 3 | E30: 1 | F30: 46.5 | G30: 0 | H30: 0 | I30: 0 | J30: 0 | K30: 0 | L30: 0 | M30: 0 | N30: 0 | O30: 4 | P30: 3 | Q30: 1 | R30: 46.5 | S30: 4 | T30: 3 | U30: 1 | V30: 46.5 | W30: 0 | X30: 0 | Y30: 0 | Z30: 0 | AA30: 2 | AB30: 1 | AC30: 1 | AD30: 11.5 | AE30: 2 | AF30: 2 | AG30: 0 | AH30: 35
A31: 資料來源：直轄市、縣(市)政府。
A32: Source : County and City Government.
A33: 更新日期：2025/08/15

Sheet Q1, 2025
A1: 身心障礙者生活輔助器具補助Auxiliary Appliances Assistance for the Disabled
A3: 114年第1季 Jan.-Mar.,2025 | C3: =IF(C8=SUM(C9:C30),"",SUM(C9:C30)) | D3: =IF(D8=SUM(D9:D30),"",SUM(D9:D30)) | E3: =IF(E8=SUM(E9:E30),"",SUM(E9:E30)) | F3: =IF(F8=SUM(F9:F30),"",SUM(F9:F30)) | G3: =IF(G8=SUM(G9:G30),"",SUM(G9:G30)) | H3: =IF(H8=SUM(H9:H30),"",SUM(H9:H30)) | I3: =IF(I8=SUM(I9:I30),"",SUM(I9:I30)) | J3: =IF(J8=SUM(J9:J30),"",SUM(J9:J30)) | ... AH3: =IF(AH8=SUM(AH9:AH30),"",SUM(AH9:AH30))
A4: 區域別 Locality | C4: 福利身分別 By Identity | S4: 依年齡別分 By Age
C5: 總計 Total | G5: 低收入戶 Low-income Households | K5: 中低收入戶 Middle-low-income Households | O5: 非低收入戶及 非中低收入戶 Non-low-income and Non-middle-low-income Households | S5: 總 計 Total | W5: 未滿18歲 under 18 years | AA5: 18歲-未滿65歲 18-under 65 years | AE5: 65歲以上 65 years & over
C6: 人次 Person-times | F6: 金額 (千元) Amounts (NT$1,000) | G6: 人次 Person-times | J6: 金額 (千元) Amounts (NT$1,000) | K6: 人次 Person-times | N6: 金額 (千元) Amounts (NT$1,000) | O6: 人次 Person-times | R6: 金額 (千元) Amounts (NT$1,000) | S6: 人次 Person-times | V6: 金額 (千元) Amounts (NT$1,000) | W6: 人次 Person-times | Z6: 金額 (千元) Amounts (NT$1,000) | AA6: 人次 Person-times | AD6: 金額 (千元) Amounts (NT$1,000) | AE6: 人次 Person-times | AH6: 金額 (千元) Amounts (NT$1,000)
C7: 合計 Subtotal | D7: 男 Male | E7: 女 Female | G7: 合計 Subtotal | H7: 男 Male | I7: 女 Female | K7: 合計 Subtotal | L7: 男 Male | M7: 女 Female | O7: 合計 Subtotal | P7: 男 Male | Q7: 女 Female | S7: 合計 Subtotal | T7: 男 Male | U7: 女 Female | W7: 合計 Subtotal | X7: 男 Male | Y7: 女 Female | AA7: 合計 Subtotal | AB7: 男 Male | AC7: 女 Female | AE7: 合計 Subtotal | AF7: 男 Male | AG7: 女 Female
A8: 總計 | B8: Total | C8: 14243 | D8: 7727 | E8: 6516 | F8: 153912.1 | G8: 1139 | H8: 747 | I8: 392 | J8: 16319.158 | K8: 282 | L8: 178 | M8: 104 | N8: 4051.05 | O8: 12822 | P8: 6802 | Q8: 6020 | R8: 133541.89 | S8: 14243 | T8: 7727 | U8: 6516 | V8: 153912.1 | W8: 1200 | X8: 698 | Y8: 502 | Z8: 15750.739 | AA8: 4874 | AB8: 2931 | AC8: 1943 | AD8: 62755.135 | AE8: 8169 | AF8: 4098 | AG8: 4071 | AH8: 75406.225
A9: 新北市 | B9: New Taipei City | C9: 2506 | D9: 1367 | E9: 1139 | F9: 23258.543 | G9: 180 | H9: 111 | I9: 69 | J9: 2301.259 | K9: 30 | L9: 25 | M9: 5 | N9: 384.65 | O9: 2296 | P9: 1231 | Q9: 1065 | R9: 20572.634 | S9: 2506 | T9: 1367 | U9: 1139 | V9: 23258.543 | W9: 192 | X9: 103 | Y9: 89 | Z9: 1981.599 | AA9: 986 | AB9: 594 | AC9: 392 | AD9: 10580.758 | AE9: 1328 | AF9: 670 | AG9: 658 | AH9: 10696.186
A10: 臺北市 | B10: Taipei City | C10: 2438 | D10: 1306 | E10: 1132 | F10: 23366.228 | G10: 290 | H10: 173 | I10: 117 | J10: 3524.16 | K10: 26 | L10: 17 | M10: 9 | N10: 232.2 | O10: 2122 | P10: 1116 | Q10: 1006 | R10: 19609.868 | S10: 2438 | T10: 1306 | U10: 1132 | V10: 23366.228 | W10: 182 | X10: 106 | Y10: 76 | Z10: 2425.73 | AA10: 825 | AB10: 475 | AC10: 350 | AD10: 9318.655 | AE10: 1431 | AF10: 725 | AG10: 706 | AH10: 11621.843
A11: 桃園市 | B11: Taoyuan City | C11: 806 | D11: 409 | E11: 397 | F11: 10196.137 | G11: 55 | H11: 32 | I11: 23 | J11: 895.55 | K11: 11 | L11: 5 | M11: 6 | N11: 144.625 | O11: 740 | P11: 372 | Q11: 368 | R11: 9155.962 | S11: 806 | T11: 409 | U11: 397 | V11: 10196.137 | W11: 106 | X11: 50 | Y11: 56 | Z11: 1454.76 | AA11: 269 | AB11: 141 | AC11: 128 | AD11: 3982.227 | AE11: 431 | AF11: 218 | AG11: 213 | AH11: 4759.15
A12: 臺中市 | B12: Taichung City | C12: 1708 | D12: 936 | E12: 772 | F12: 19214.3 | G12: 137 | H12: 94 | I12: 43 | J12: 2067.6 | K12: 40 | L12: 29 | M12: 11 | N12: 538.4 | O12: 1531 | P12: 813 | Q12: 718 | R12: 16608.3 | S12: 1708 | T12: 936 | U12: 772 | V12: 19214.3 | W12: 202 | X12: 121 | Y12: 81 | Z12: 2741.61 | AA12: 597 | AB12: 339 | AC12: 258 | AD12: 7568.15 | AE12: 909 | AF12: 476 | AG12: 433 | AH12: 8904.54
A13: 臺南市 | B13: Tainan City | C13: 786 | D13: 432 | E13: 354 | F13: 10104.819 | G13: 32 | H13: 18 | I13: 14 | J13: 646.499 | K13: 12 | L13: 8 | M13: 4 | N13: 203.75 | O13: 742 | P13: 406 | Q13: 336 | R13: 9254.57 | S13: 786 | T13: 432 | U13: 354 | V13: 10104.819 | W13: 73 | X13: 50 | Y13: 23 | Z13: 1069.96 | AA13: 247 | AB13: 150 | AC13: 97 | AD13: 4087.389 | AE13: 466 | AF13: 232 | AG13: 234 | AH13: 4947.47
A14: 高雄市 | B14: Kaohsiung City | C14: 1339 | D14: 704 | E14: 635 | F14: 16422.935 | G14: 80 | H14: 56 | I14: 24 | J14: 1444.81 | K14: 43 | L14: 20 | M14: 23 | N14: 617.125 | O14: 1216 | P14: 628 | Q14: 588 | R14: 14361 | S14: 1339 | T14: 704 | U14: 635 | V14: 16422.935 | W14: 96 | X14: 58 | Y14: 38 | Z14: 1458 | AA14: 510 | AB14: 314 | AC14: 196 | AD14: 7235.275 | AE14: 733 | AF14: 332 | AG14: 401 | AH14: 7729.66
A15: 宜蘭縣 | B15: Yilan County | C15: 169 | D15: 86 | E15: 83 | F15: 1805.75 | G15: 3 | H15: 2 | I15: 1 | J15: 20 | K15: 7 | L15: 4 | M15: 3 | N15: 85.5 | O15: 159 | P15: 80 | Q15: 79 | R15: 1700.25 | S15: 169 | T15: 86 | U15: 83 | V15: 1805.75 | W15: 11 | X15: 6 | Y15: 5 | Z15: 139 | AA15: 53 | AB15: 29 | AC15: 24 | AD15: 777.5 | AE15: 105 | AF15: 51 | AG15: 54 | AH15: 889.25
A16: 新竹縣 | B16: Hsinchu County | C16: 259 | D16: 155 | E16: 104 | F16: 3376.09 | G16: 14 | H16: 11 | I16: 3 | J16: 268.2 | K16: 3 | L16: 1 | M16: 2 | N16: 38 | O16: 242 | P16: 143 | Q16: 99 | R16: 3069.89 | S16: 259 | T16: 155 | U16: 104 | V16: 3376.09 | W16: 31 | X16: 18 | Y16: 13 | Z16: 543 | AA16: 82 | AB16: 54 | AC16: 28 | AD16: 1264.7 | AE16: 146 | AF16: 83 | AG16: 63 | AH16: 1568.39
A17: 苗栗縣 | B17: Miaoli County | C17: 312 | D17: 182 | E17: 130 | F17: 4011.06 | G17: 13 | H17: 11 | I17: 2 | J17: 195.3 | K17: 0 | L17: 0 | M17: 0 | N17: 0 | O17: 299 | P17: 171 | Q17: 128 | R17: 3815.76 | S17: 312 | T17: 182 | U17: 130 | V17: 4011.06 | W17: 27 | X17: 18 | Y17: 9 | Z17: 543.7 | AA17: 75 | AB17: 43 | AC17: 32 | AD17: 1231.82 | AE17: 210 | AF17: 121 | AG17: 89 | AH17: 2235.54
A18: 彰化縣 | B18: Changhua County | C18: 1168 | D18: 643 | E18: 525 | F18: 12425.194 | G18: 91 | H18: 58 | I18: 33 | J18: 1231.54 | K18: 47 | L18: 25 | M18: 22 | N18: 655.3 | O18: 1030 | P18: 560 | Q18: 470 | R18: 10538.354 | S18: 1168 | T18: 643 | U18: 525 | V18: 12425.194 | W18: 68 | X18: 42 | Y18: 26 | Z18: 829.26 | AA18: 363 | AB18: 215 | AC18: 148 | AD18: 4960.936 | AE18: 737 | AF18: 386 | AG18: 351 | AH18: 6634.998
A19: 南投縣 | B19: Nantou County | C19: 578 | D19: 299 | E19: 279 | F19: 4105.23 | G19: 36 | H19: 26 | I19: 10 | J19: 375.2 | K19: 18 | L19: 10 | M19: 8 | N19: 128.75 | O19: 524 | P19: 263 | Q19: 261 | R19: 3601.28 | S19: 578 | T19: 299 | U19: 279 | V19: 4105.23 | W19: 14 | X19: 3 | Y19: 11 | Z19: 133.8 | AA19: 146 | AB19: 112 | AC19: 34 | AD19: 1167.35 | AE19: 418 | AF19: 184 | AG19: 234 | AH19: 2804.08
... A30: 連江縣 | B30: Lienchiang County | C30: 2 | D30: 0 | E30: 2 | F30: 12 | G30: 0 | H30: 0 | I30: 0 | J30: 0 | K30: 0 | L30: 0 | M30: 0 | N30: 0 | O30: 2 | P30: 0 | Q30: 2 | R30: 12 | S30: 2 | T30: 0 | U30: 2 | V30: 12 | W30: 0 | X30: 0 | Y30: 0 | Z30: 0 | AA30: 0 | AB30: 0 | AC30: 0 | AD30: 0 | AE30: 2 | AF30: 0 | AG30: 2 | AH30: 12
A31: 資料來源：直轄市、縣(市)政府。
A32: Source : County and City Government.
A33: 更新日期：2025/05/15

Sheet 2024
A1: 身心障礙者生活輔助器具補助Auxiliary Appliances Assistance for the Disabled
A3: 113年,2024 | C3: =IF(C8=SUM(C9:C30),"",SUM(C9:C30)) | D3: =IF(D8=SUM(D9:D30),"",SUM(D9:D30)) | E3: =IF(E8=SUM(E9:E30),"",SUM(E9:E30)) | F3: =IF(F8=SUM(F9:F30),"",SUM(F9:F30)) | G3: =IF(G8=SUM(G9:G30),"",SUM(G9:G30)) | H3: =IF(H8=SUM(H9:H30),"",SUM(H9:H30)) | I3: =IF(I8=SUM(I9:I30),"",SUM(I9:I30)) | J3: =IF(J8=SUM(J9:J30),"",SUM(J9:J30)) | ... AH3: =IF(AH8=SUM(AH9:AH30),"",SUM(AH9:AH30))
A4: 區域別 Locality | C4: 福利身分別 By Identity | S4: 依年齡別分 By Age
C5: 總計 Total | G5: 低收入戶 Low-income Households | K5: 中低收入戶 Middle-low-income Households | O5: 非低收入戶及 非中低收入戶 Non-low-income and Non-middle-low-income Households | S5: 總 計 Total | W5: 未滿18歲 under 18 years | AA5: 18歲-未滿65歲 18-under 65 years | AE5: 65歲以上 65 years & over
C6: 人次 Person-times | F6: 金額 (千元) Amounts (NT$1,000) | G6: 人次 Person-times | J6: 金額 (千元) Amounts (NT$1,000) | K6: 人次 Person-times | N6: 金額 (千元) Amounts (NT$1,000) | O6: 人次 Person-times | R6: 金額 (千元) Amounts (NT$1,000) | S6: 人次 Person-times | V6: 金額 (千元) Amounts (NT$1,000) | W6: 人次 Person-times | Z6: 金額 (千元) Amounts (NT$1,000) | AA6: 人次 Person-times | AD6: 金額 (千元) Amounts (NT$1,000) | AE6: 人次 Person-times | AH6: 金額 (千元) Amounts (NT$1,000)
C7: 計 Subtotal | D7: 男 Male | E7: 女 Female | G7: 計 Subtotal | H7: 男 Male | I7: 女 Female | K7: 計 Subtotal | L7: 男 Male | M7: 女 Female | O7: 計 Subtotal | P7: 男 Male | Q7: 女 Female | S7: 合計 Subtotal | T7: 男 Male | U7: 女 Female | W7: 合計 Subtotal | X7: 男 Male | Y7: 女 Female | AA7: 合計 Subtotal | AB7: 男 Male | AC7: 女 Female | AE7: 合計 Subtotal | AF7: 男 Male | AG7: 女 Female
A8: 總計 | B8: Total | C8: 55323 | D8: 30406 | E8: 24917 | F8: 591932.75 | G8: 4320 | H8: 3047 | I8: 1273 | J8: 62769.309 | K8: 994 | L8: 621 | M8: 373 | N8: 12600.18 | O8: 50009 | P8: 26738 | Q8: 23271 | R8: 516563.26 | S8: 55323 | T8: 30406 | U8: 24917 | V8: 591932.75 | W8: 4704 | X8: 2822 | Y8: 1882 | Z8: 60791.353 | AA8: 19834 | AB8: 11803 | AC8: 8031 | AD8: 249088.99 | AE8: 30785 | AF8: 15781 | AG8: 15004 | AH8: 282052.4
A9: 新北市 | B9: New Taipei City | C9: 8698 | D9: 4803 | E9: 3895 | F9: 78027.162 | G9: 586 | H9: 406 | I9: 180 | J9: 7124.843 | K9: 109 | L9: 61 | M9: 48 | N9: 921.565 | O9: 8003 | P9: 4336 | Q9: 3667 | R9: 69980.754 | S9: 8698 | T9: 4803 | U9: 3895 | V9: 78027.162 | W9: 683 | X9: 407 | Y9: 276 | Z9: 7440.207 | AA9: 3209 | AB9: 1962 | AC9: 1247 | AD9: 31573.603 | AE9: 4806 | AF9: 2434 | AG9: 2372 | AH9: 39013.352
