Workbook

Sheet 歷年
A1: 身心障礙者生活輔具補助Auxiliary Appliances Assistance for the Disabled
A2: 105-115年
A3: 單位：人次、千元
A4: 年別 Years | B4: 福利身分別 By Identity | R4: 依年齡別分 By Age
B5: 總計 Total | F5: 低收入戶 Low-income Households | J5: 中低收入戶 Middle-low-income Households | N5: 非低收入戶及 非中低收入戶 Non-low-income and Non-middle-low-income Households | R5: 總 計 Total | V5: 未滿18歲 under 18 years | Z5: 18歲-未滿65歲 18-under 65 years | AD5: 65歲以上 65 years & over
B6: 人次 Person-times | E6: 金額 (千元) Amounts (NT$1,000) | F6: 人次 Person-times | I6: 金額 (千元) Amounts (NT$1,000) | J6: 人次 Person-times | M6: 金額 (千元) Amounts (NT$1,000) | N6: 人次 Person-times | Q6: 金額 (千元) Amounts (NT$1,000) | R6: 人次 Person-times | U6: 金額 (千元) Amounts (NT$1,000) | V6: 人次 Person-times | Y6: 金額 (千元) Amounts (NT$1,000) | Z6: 人次 Person-times | AC6: 金額 (千元) Amounts (NT$1,000) | AD6: 人次 Person-times | AG6: 金額 (千元) Amounts (NT$1,000)
B7: 合計 Subtotal | C7: 男 Male | D7: 女 Female | F7: 合計 Subtotal | G7: 男 Male | H7: 女 Female | J7: 合計 Subtotal | K7: 男 Male | L7: 女 Female | N7: 合計 Subtotal | O7: 男 Male | P7: 女 Female | R7: 合計 Subtotal | S7: 男 Male | T7: 女 Female | V7: 合計 Subtotal | W7: 男 Male | X7: 女 Female | Z7: 合計 Subtotal | AA7: 男 Male | AB7: 女 Female | AD7: 合計 Subtotal | AE7: 男 Male | AF7: 女 Female
A8: 105年,2016 | B8: ='2016'!C9 -> 86369 | C8: ='2016'!D9 -> 46239 | D8: ='2016'!E9 -> 40130 | E8: ='2016'!F9 -> 782198.2 | F8: ='2016'!G9 -> 5120 | G8: ='2016'!H9 -> 3512 | H8: ='2016'!I9 -> 1608 | I8: ='2016'!J9 -> 68481.123 | ... Q8: ='2016'!R9 -> 692269.07 | R8: ... | S8: ... | T8: ... | U8: ... | V8: ... | W8: ... | X8: ... | Y8: ... | Z8: ... | AA8: ... | AB8: ... | AC8: ... | AD8: ... | AE8: ... | AF8: ... | AG8: ...
A9: 106年,2017 | B9: ='2017'!C9 -> 92887 | C9: ='2017'!D9 -> 49061 | D9: ='2017'!E9 -> 43826 | E9: ='2017'!F9 -> 831531.46 | F9: ='2017'!G9 -> 5747 | G9: ='2017'!H9 -> 3986 | H9: ='2017'!I9 -> 1761 | I9: ='2017'!J9 -> 78480.971 | ... Q9: ='2017'!R9 -> 734235 | R9: ... | S9: ... | T9: ... | U9: ... | V9: ... | W9: ... | X9: ... | Y9: ... | Z9: ... | AA9: ... | AB9: ... | AC9: ... | AD9: ... | AE9: ... | AF9: ... | AG9: ...
A10: 107年,2018 | B10: ='2018'!C9 -> 81695 | C10: ='2018'!D9 -> 43792 | D10: ='2018'!E9 -> 37903 | E10: ='2018'!F9 -> 755083.38 | F10: ='2018'!G9 -> 5630 | G10: ='2018'!H9 -> 4020 | H10: ='2018'!I9 -> 1610 | I10: ='2018'!J9 -> 73909.616 | ... Q10: ='2018'!R9 -> 664719.65 | R10: ... | S10: ... | T10: ... | U10: ... | V10: ... | W10: ... | X10: ... | Y10: ... | Z10: ... | AA10: ... | AB10: ... | AC10: ... | AD10: ... | AE10: ... | AF10: ... | AG10: ...
A11: 108年,2019 | B11: ='2019'!C8 -> 68937 | C11: ='2019'!D8 -> 37665 | D11: ='2019'!E8 -> 31272 | E11: ='2019'!F8 -> 653820.36 | F11: ='2019'!G8 -> 5026 | G11: ='2019'!H8 -> 3552 | H11: ='2019'!I8 -> 1474 | I11: ='2019'!J8 -> 67436.507 | ... AG11: ='2019'!AH8 -> 285225.61
A12: 109年,2020 | B12: ='2020'!C8 -> 64892 | C12: ='2020'!D8 -> 35635 | D12: ='2020'!E8 -> 29257 | E12: ='2020'!F8 -> 619762.49 | F12: ='2020'!G8 -> 4735 | G12: ='2020'!H8 -> 3297 | H12: ='2020'!I8 -> 1438 | I12: ='2020'!J8 -> 65741.153 | ... AG12: ='2020'!AH8 -> 271716.81
A13: 110年,2021 | B13: ='2021'!C8 -> 61553 | C13: ='2021'!D8 -> 33618 | D13: ='2021'!E8 -> 27935 | E13: ='2021'!F8 -> 564874.92 | F13: ='2021'!G8 -> 4426 | G13: ='2021'!H8 -> 3070 | H13: ='2021'!I8 -> 1356 | I13: ='2021'!J8 -> 58288.976 | ... AG13: ='2021'!AH8 -> 260916.35
A14: 111年,2022 | B14: ='2022'!C8 -> 62895 | C14: ='2022'!D8 -> 33815 | D14: ='2022'!E8 -> 29080 | E14: ='2022'!F8 -> 570944.61 | F14: ='2022'!G8 -> 4201 | G14: ='2022'!H8 -> 2857 | H14: ='2022'!I8 -> 1344 | I14: ='2022'!J8 -> 57653.365 | ... AG14: ='2022'!AH8 -> 271801.92
A15: 112年,2023 | B15: ='2023'!C8 -> 57867 | C15: ='2023'!D8 -> 31387 | D15: ='2023'!E8 -> 26480 | E15: ='2023'!F8 -> 595395.14 | F15: ='2023'!G8 -> 4548 | G15: ='2023'!H8 -> 3084 | H15: ='2023'!I8 -> 1464 | I15: ='2023'!J8 -> 64117.268 | ... AG15: ='2023'!AH8 -> 274614.76
A16: 113年,2024 | B16: ='2024'!C8 -> 55323 | C16: ='2024'!D8 -> 30406 | D16: ='2024'!E8 -> 24917 | E16: ='2024'!F8 -> 591932.75 | F16: ='2024'!G8 -> 4320 | G16: ='2024'!H8 -> 3047 | H16: ='2024'!I8 -> 1273 | I16: ='2024'!J8 -> 62769.309 | ... AG16: ='2024'!AH8 -> 282052.4
A17: 114年,2025 | B17: ='2025'!C8 -> 58014 | C17: ='2025'!D8 -> 31263 | D17: ='2025'!E8 -> 26751 | E17: ='2025'!F8 -> 614494.65 | F17: ='2025'!G8 -> 4579 | G17: ='2025'!H8 -> 3150 | H17: ='2025'!I8 -> 1429 | I17: ='2025'!J8 -> 63154.197 | ... AG17: ='2025'!AH8 -> 307101.99
A18: 第1季 Q1 | B18: ='Q1, 2025'!C8 -> 14243 | C18: ='Q1, 2025'!D8 -> 7727 | D18: ='Q1, 2025'!E8 -> 6516 | E18: ='Q1, 2025'!F8 -> 153912.1 | F18: ='Q1, 2025'!G8 -> 1139 | G18: ='Q1, 2025'!H8 -> 747 | H18: ='Q1, 2025'!I8 -> 392 | I18: ='Q1, 2025'!J8 -> 16319.158 | ... AG18: ='Q1, 2025'!AH8 -> 75406.225
A19: 第2季 Q2 | B19: ='Q2, 2025'!C8 -> 14241 | C19: ='Q2, 2025'!D8 -> 7723 | D19: ='Q2, 2025'!E8 -> 6518 | E19: ='Q2, 2025'!F8 -> 148365.82 | F19: ='Q2, 2025'!G8 -> 1191 | G19: ='Q2, 2025'!H8 -> 829 | H19: ='Q2, 2025'!I8 -> 362 | I19: ='Q2, 2025'!J8 -> 16195.865 | ... AG19: ='Q2, 2025'!AH8 -> 73389.359
A20: 第3季 Q3 | B20: ='Q3, 2025'!C8 -> 14846 | C20: ='Q3, 2025'!D8 -> 7969 | D20: ='Q3, 2025'!E8 -> 6877 | E20: ='Q3, 2025'!F8 -> 156899.05 | F20: ='Q3, 2025'!G8 -> 1119 | G20: ='Q3, 2025'!H8 -> 774 | H20: ='Q3, 2025'!I8 -> 345 | I20: ='Q3, 2025'!J8 -> 15161.963 | ... AG20: ='Q3, 2025'!AH8 -> 80177.474
A21: 第4季 Q4 | B21: ='Q4, 2025'!C8 -> 14684 | C21: ='Q4, 2025'!D8 -> 7844 | D21: ='Q4, 2025'!E8 -> 6840 | E21: ='Q4, 2025'!F8 -> 155317.68 | F21: ='Q4, 2025'!G8 -> 1130 | G21: ='Q4, 2025'!H8 -> 800 | H21: ='Q4, 2025'!I8 -> 330 | I21: ='Q4, 2025'!J8 -> 15477.211 | ... AG21: ='Q4, 2025'!AH8 -> 78128.933
A22: 115年,2026
A23: 第1季 Q1 | B23: ='Q1, 2026'!C8 -> 13781 | C23: ='Q1, 2026'!D8 -> 7490 | D23: ='Q1, 2026'!E8 -> 6291 | E23: ='Q1, 2026'!F8 -> 144757.69 | F23: ='Q1, 2026'!G8 -> 1109 | G23: ='Q1, 2026'!H8 -> 737 | H23: ='Q1, 2026'!I8 -> 372 | I23: ='Q1, 2026'!J8 -> 14683.974 | ... AG23: ='Q1, 2026'!AH8 -> 75987.995
A24: 第2季 Q2 | B24: ='Q2, 2026'!C8 -> 0 | C24: ='Q2, 2026'!D8 -> 0 | D24: ='Q2, 2026'!E8 -> 0 | E24: ='Q2, 2026'!F8 -> 0 | F24: ='Q2, 2026'!G8 -> 0 | G24: ='Q2, 2026'!H8 -> 0 | H24: ='Q2, 2026'!I8 -> 0 | I24: ='Q2, 2026'!J8 -> 0 | ... AG24: ='Q2, 2026'!AH8 -> 0
A25: 第3季 Q3 | B25: ='Q3, 2026'!C8 -> 0 | C25: ='Q3, 2026'!D8 -> 0 | D25: ='Q3, 2026'!E8 -> 0 | E25: ='Q3, 2026'!F8 -> 0 | F25: ='Q3, 2026'!G8 -> 0 | G25: ='Q3, 2026'!H8 -> 0 | H25: ='Q3, 2026'!I8 -> 0 | I25: ='Q3, 2026'!J8 -> 0 | ... AG25: ='Q3, 2026'!AH8 -> 0
A26: 第4季 Q4 | B26: ='Q4, 2026'!C8 -> 0 | C26: ='Q4, 2026'!D8 -> 0 | D26: ='Q4, 2026'!E8 -> 0 | E26: ='Q4, 2026'!F8 -> 0 | F26: ='Q4, 2026'!G8 -> 0 | G26: ='Q4, 2026'!H8 -> 0 | H26: ='Q4, 2026'!I8 -> 0 | I26: ='Q4, 2026'!J8 -> 0 | ... AG26: ='Q4, 2026'!AH8 -> 0
A27: 資料來源：直轄市、縣(市)政府。
A28: Source : County and City Government.
A29: 更新日期：2026/05/15

Sheet 2026
A1: 身心障礙者生活輔助器具補助Auxiliary Appliances Assistance for the Disabled
A3: 115年,2026 | C3: =IF(C8=SUM(C9:C30),"",SUM(C9:C30)) | D3: =IF(D8=SUM(D9:D30),"",SUM(D9:D30)) | E3: =IF(E8=SUM(E9:E30),"",SUM(E9:E30)) | F3: =IF(F8=SUM(F9:F30),"",SUM(F9:F30)) | G3: =IF(G8=SUM(G9:G30),"",SUM(G9:G30)) | H3: =IF(H8=SUM(H9:H30),"",SUM(H9:H30)) | I3: =IF(I8=SUM(I9:I30),"",SUM(I9:I30)) | J3: =IF(J8=SUM(J9:J30),"",SUM(J9:J30)) | ... AH3: =IF(AH8=SUM(AH9:AH30),"",SUM(AH9:AH30))
A4: 區域別 Locality | C4: 福利身分別 By Identity | S4: 依年齡別分 By Age
C5: 總計 Total | G5: 低收入戶 Low-income Households | K5: 中低收入戶 Middle-low-income Households | O5: 非低收入戶及 非中低收入戶 Non-low-income and Non-middle-low-income Households | S5: 總 計 Total | W5: 未滿18歲 under 18 years | AA5: 18歲-未滿65歲 18-under 65 years | AE5: 65歲以上 65 years & over
C6: 人次 Person-times | F6: 金額 (千元) Amounts (NT$1,000) | G6: 人次 Person-times | J6: 金額 (千元) Amounts (NT$1,000) | K6: 人次 Person-times | N6: 金額 (千元) Amounts (NT$1,000) | O6: 人次 Person-times | R6: 金額 (千元) Amounts (NT$1,000) | S6: 人次 Person-times | V6: 金額 (千元) Amounts (NT$1,000) | W6: 人次 Person-times | Z6: 金額 (千元) Amounts (NT$1,000) | AA6: 人次 Person-times | AD6: 金額 (千元) Amounts (NT$1,000) | AE6: 人次 Person-times | AH6: 金額 (千元) Amounts (NT$1,000)
C7: 計 Subtotal | D7: 男 Male | E7: 女 Female | G7: 計 Subtotal | H7: 男 Male | I7: 女 Female | K7: 計 Subtotal | L7: 男 Male | M7: 女 Female | O7: 計 Subtotal | P7: 男 Male | Q7: 女 Female | S7: 合計 Subtotal | T7: 男 Male | U7: 女 Female | W7: 合計 Subtotal | X7: 男 Male | Y7: 女 Female | AA7: 合計 Subtotal | AB7: 男 Male | AC7: 女 Female | AE7: 合計 Subtotal | AF7: 男 Male | AG7: 女 Female
A8: 總計 | B8: Total
A9: 新北市 | B9: New Taipei City
A10: 臺北市 | B10: Taipei City
A11: 桃園市 | B11: Taoyuan City
A12: 臺中市 | B12: Taichung City
A13: 臺南市 | B13: Tainan City
A14: 高雄市 | B14: Kaohsiung City
A15: 宜蘭縣 | B15: Yilan County
A16: 新竹縣 | B16: Hsinchu County
A17: 苗栗縣 | B17: Miaoli County
A18: 彰化縣 | B18: Changhua County
A19: 南投縣 | B19: Nantou County
... A30: 連江縣 | B30: Lienchiang County
A31: 資料來源：直轄市、縣(市)政府。
A32: Source : County and City Government.
A33: 更新日期：2026/02/23

Sheet Q4, 2026
A1: 身心障礙者生活輔助器具補助Auxiliary Appliances Assistance for the Disabled
A3: 115年第4季 Oct.-Dec., 2026 | C3: =IF(C8=SUM(C9:C30),"",SUM(C9:C30)) | D3: =IF(D8=SUM(D9:D30),"",SUM(D9:D30)) | E3: =IF(E8=SUM(E9:E30),"",SUM(E9:E30)) | F3: =IF(F8=SUM(F9:F30),"",SUM(F9:F30)) | G3: =IF(G8=SUM(G9:G30),"",SUM(G9:G30)) | H3: =IF(H8=SUM(H9:H30),"",SUM(H9:H30)) | I3: =IF(I8=SUM(I9:I30),"",SUM(I9:I30)) | J3: =IF(J8=SUM(J9:J30),"",SUM(J9:J30)) | ... AH3: =IF(AH8=SUM(AH9:AH30),"",SUM(AH9:AH30))
A4: 區域別 Locality | C4: 福利身分別 By Identity | S4: 依年齡別分 By Age
C5: 總計 Total | G5: 低收入戶 Low-income Households | K5: 中低收入戶 Middle-low-income Households | O5: 非低收入戶及 非中低收入戶 Non-low-income and Non-middle-low-income Households | S5: 總 計 Total | W5: 未滿18歲 under 18 years | AA5: 18歲-未滿65歲 18-under 65 years | AE5: 65歲以上 65 years & over
C6: 人次 Person-times | F6: 金額 (千元) Amounts (NT$1,000) | G6: 人次 Person-times | J6: 金額 (千元) Amounts (NT$1,000) | K6: 人次 Person-times | N6: 金額 (千元) Amounts (NT$1,000) | O6: 人次 Person-times | R6: 金額 (千元) Amounts (NT$1,000) | S6: 人次 Person-times | V6: 金額 (千元) Amounts (NT$1,000) | W6: 人次 Person-times | Z6: 金額 (千元) Amounts (NT$1,000) | AA6: 人次 Person-times | AD6: 金額 (千元) Amounts (NT$1,000) | AE6: 人次 Person-times | AH6: 金額 (千元) Amounts (NT$1,000)
C7: 計 Subtotal | D7: 男 Male | E7: 女 Female | G7: 計 Subtotal | H7: 男 Male | I7: 女 Female | K7: 計 Subtotal | L7: 男 Male | M7: 女 Female | O7: 計 Subtotal | P7: 男 Male | Q7: 女 Female | S7: 合計 Subtotal | T7: 男 Male | U7: 女 Female | W7: 合計 Subtotal | X7: 男 Male | Y7: 女 Female | AA7: 合計 Subtotal | AB7: 男 Male | AC7: 女 Female | AE7: 合計 Subtotal | AF7: 男 Male | AG7: 女 Female
A8: 總計 | B8: Total
A9: 新北市 | B9: New Taipei City
A10: 臺北市 | B10: Taipei City
A11: 桃園市 | B11: Taoyuan City
A12: 臺中市 | B12: Taichung City
A13: 臺南市 | B13: Tainan City
A14: 高雄市 | B14: Kaohsiung City
A15: 宜蘭縣 | B15: Yilan County
A16: 新竹縣 | B16: Hsinchu County
A17: 苗栗縣 | B17: Miaoli County
A18: 彰化縣 | B18: Changhua County
A19: 南投縣 | B19: Nantou County
... A30: 連江縣 | B30: Lienchiang County
A31: 資料來源：直轄市、縣(市)政府。
A32: Source : County and City Government.
A33: 更新日期：2026/02/23

Sheet Q3, 2026
A1: 身心障礙者生活輔助器具補助Auxiliary Appliances Assistance for the Disabled
A3: 115年第3季 July-Sept., 2026 | C3: =IF(C8=SUM(C9:C30),"",SUM(C9:C30)) | D3: =IF(D8=SUM(D9:D30),"",SUM(D9:D30)) | E3: =IF(E8=SUM(E9:E30),"",SUM(E9:E30)) | F3: =IF(F8=SUM(F9:F30),"",SUM(F9:F30)) | G3: =IF(G8=SUM(G9:G30),"",SUM(G9:G30)) | H3: =IF(H8=SUM(H9:H30),"",SUM(H9:H30)) | I3: =IF(I8=SUM(I9:I30),"",SUM(I9:I30)) | J3: =IF(J8=SUM(J9:J30),"",SUM(J9:J30)) | ... AH3: =IF(AH8=SUM(AH9:AH30),"",SUM(AH9:AH30))
A4: 區域別 Locality | C4: 福利身分別 By Identity | S4: 依年齡別分 By Age
C5: 總計 Total | G5: 低收入戶 Low-income Households | K5: 中低收入戶 Middle-low-income Households | O5: 非低收入戶及 非中低收入戶 Non-low-income and Non-middle-low-income Households | S5: 總 計 Total | W5: 未滿18歲 under 18 years | AA5: 18歲-未滿65歲 18-under 65 years | AE5: 65歲以上 65 years & over
C6: 人次 Person-times | F6: 金額 (千元) Amounts (NT$1,000) | G6: 人次 Person-times | J6: 金額 (千元) Amounts (NT$1,000) | K6: 人次 Person-times | N6: 金額 (千元) Amounts (NT$1,000) | O6: 人次 Person-times | R6: 金額 (千元) Amounts (NT$1,000) | S6: 人次 Person-times | V6: 金額 (千元) Amounts (NT$1,000) | W6: 人次 Person-times | Z6: 金額 (千元) Amounts (NT$1,000) | AA6: 人次 Person-times | AD6: 金額 (千元) Amounts (NT$1,000) | AE6: 人次 Person-times | AH6: 金額 (千元) Amounts (NT$1,000)
C7: 計 Subtotal | D7: 男 Male | E7: 女 Female | G7: 計 Subtotal | H7: 男 Male | I7: 女 Female | K7: 計 Subtotal | L7: 男 Male | M7: 女 Female | O7: 計 Subtotal | P7: 男 Male | Q7: 女 Female | S7: 合計 Subtotal | T7: 男 Male | U7: 女 Female | W7: 合計 Subtotal | X7: 男 Male | Y7: 女 Female | AA7: 合計 Subtotal | AB7: 男 Male | AC7: 女 Female | AE7: 合計 Subtotal | AF7: 男 Male | AG7: 女 Female
A8: 總計 | B8: Total
A9: 新北市 | B9: New Taipei City
A10: 臺北市 | B10: Taipei City
A11: 桃園市 | B11: Taoyuan City
A12: 臺中市 | B12: Taichung City
A13: 臺南市 | B13: Tainan City
A14: 高雄市 | B14: Kaohsiung City
A15: 宜蘭縣 | B15: Yilan County
A16: 新竹縣 | B16: Hsinchu County
A17: 苗栗縣 | B17: Miaoli County
A18: 彰化縣 | B18: Changhua County
A19: 南投縣 | B19: Nantou County
... A30: 連江縣 | B30: Lienchiang County
A31: 資料來源：直轄市、縣(市)政府。
A32: Source : County and City Government.
A33: 更新日期：2025/11/17

Sheet Q2, 2026
A1: 身心障礙者生活輔助器具補助Auxiliary Appliances Assistance for the Disabled
A3: 115年第2季 Apr.-June, 2025 | C3: =IF(C8=SUM(C9:C30),"",SUM(C9:C30)) | D3: =IF(D8=SUM(D9:D30),"",SUM(D9:D30)) | E3: =IF(E8=SUM(E9:E30),"",SUM(E9:E30)) | F3: =IF(F8=SUM(F9:F30),"",SUM(F9:F30)) | G3: =IF(G8=SUM(G9:G30),"",SUM(G9:G30)) | H3: =IF(H8=SUM(H9:H30),"",SUM(H9:H30)) | I3: =IF(I8=SUM(I9:I30),"",SUM(I9:I30)) | J3: =IF(J8=SUM(J9:J30),"",SUM(J9:J30)) | ... AH3: =IF(AH8=SUM(AH9:AH30),"",SUM(AH9:AH30))
A4: 區域別 Locality | C4: 福利身分別 By Identity | S4: 依年齡別分 By Age
C5: 合計 Total | G5: 低收入戶 Low-income Households | K5: 中低收入戶 Middle-low-income Households | O5: 非低收入戶及 非中低收入戶 Non-low-income and Non-middle-low-income Households | S5: 總 計 Total | W5: 未滿18歲 under 18 years | AA5: 18歲-未滿65歲 18-under 65 years | AE5: 65歲以上 65 years & over
C6: 人次 Person-times | F6: 金額 (千元) Amounts (NT$1,000) | G6: 人次 Person-times | J6: 金額 (千元) Amounts (NT$1,000) | K6: 人次 Person-times | N6: 金額 (千元) Amounts (NT$1,000) | O6: 人次 Person-times | R6: 金額 (千元) Amounts (NT$1,000) | S6: 人次 Person-times | V6: 金額 (千元) Amounts (NT$1,000) | W6: 人次 Person-times | Z6: 金額 (千元) Amounts (NT$1,000) | AA6: 人次 Person-times | AD6: 金額 (千元) Amounts (NT$1,000) | AE6: 人次 Person-times | AH6: 金額 (千元) Amounts (NT$1,000)
C7: 計 Subtotal | D7: 男 Male | E7: 女 Female | G7: 計 Subtotal | H7: 男 Male | I7: 女 Female | K7: 計 Subtotal | L7: 男 Male | M7: 女 Female | O7: 計 Subtotal | P7: 男 Male | Q7: 女 Female | S7: 合計 Subtotal | T7: 男 Male | U7: 女 Female | W7: 合計 Subtotal | X7: 男 Male | Y7: 女 Female | AA7: 合計 Subtotal | AB7: 男 Male | AC7: 女 Female | AE7: 合計 Subtotal | AF7: 男 Male | AG7: 女 Female
A8: 總計 | B8: Total
A9: 新北市 | B9: New Taipei City
A10: 臺北市 | B10: Taipei City
A11: 桃園市 | B11: Taoyuan City
A12: 臺中市 | B12: Taichung City
A13: 臺南市 | B13: Tainan City
A14: 高雄市 | B14: Kaohsiung City
A15: 宜蘭縣 | B15: Yilan County
A16: 新竹縣 | B16: Hsinchu County
A17: 苗栗縣 | B17: Miaoli County
A18: 彰化縣 | B18: Changhua County
A19: 南投縣 | B19: Nantou County
... A30: 連江縣 | B30: Lienchiang County
A31: 資料來源：直轄市、縣(市)政府。
A32: Source : County and City Government.
A33: 更新日期：2025/08/15

Sheet Q1, 2026
A1: 身心障礙者生活輔助器具補助Auxiliary Appliances Assistance for the Disabled
A3: 115年第1季 Jan.-Mar.,2026 | C3: =IF(C8=SUM(C9:C30),"",SUM(C9:C30)) | D3: =IF(D8=SUM(D9:D30),"",SUM(D9:D30)) | E3: =IF(E8=SUM(E9:E30),"",SUM(E9:E30)) | F3: =IF(F8=SUM(F9:F30),"",SUM(F9:F30)) | G3: =IF(G8=SUM(G9:G30),"",SUM(G9:G30)) | H3: =IF(H8=SUM(H9:H30),"",SUM(H9:H30)) | I3: =IF(I8=SUM(I9:I30),"",SUM(I9:I30)) | J3: =IF(J8=SUM(J9:J30),"",SUM(J9:J30)) | ... AH3: =IF(AH8=SUM(AH9:AH30),"",SUM(AH9:AH30))
A4: 區域別 Locality | C4: 福利身分別 By Identity | S4: 依年齡別分 By Age
C5: 總計 Total | G5: 低收入戶 Low-income Households | K5: 中低收入戶 Middle-low-income Households | O5: 非低收入戶及 非中低收入戶 Non-low-income and Non-middle-low-income Households | S5: 總 計 Total | W5: 未滿18歲 under 18 years | AA5: 18歲-未滿65歲 18-under 65 years | AE5: 65歲以上 65 years & over
C6: 人次 Person-times | F6: 金額 (千元) Amounts (NT$1,000) | G6: 人次 Person-times | J6: 金額 (千元) Amounts (NT$1,000) | K6: 人次 Person-times | N6: 金額 (千元) Amounts (NT$1,000) | O6: 人次 Person-times | R6: 金額 (千元) Amounts (NT$1,000) | S6: 人次 Person-times | V6: 金額 (千元) Amounts (NT$1,000) | W6: 人次 Person-times | Z6: 金額 (千元) Amounts (NT$1,000) | AA6: 人次 Person-times | AD6: 金額 (千元) Amounts (NT$1,000) | AE6: 人次 Person-times | AH6: 金額 (千元) Amounts (NT$1,000)
C7: 合計 Subtotal | D7: 男 Male | E7: 女 Female | G7: 合計 Subtotal | H7: 男 Male | I7: 女 Female | K7: 合計 Subtotal | L7: 男 Male | M7: 女 Female | O7: 合計 Subtotal | P7: 男 Male | Q7: 女 Female | S7: 合計 Subtotal | T7: 男 Male | U7: 女 Female | W7: 合計 Subtotal | X7: 男 Male | Y7: 女 Female | AA7: 合計 Subtotal | AB7: 男 Male | AC7: 女 Female | AE7: 合計 Subtotal | AF7: 男 Male | AG7: 女 Female
A8: 總計 | B8: Total | C8: 13781 | D8: 7490 | E8: 6291 | F8: 144757.69 | G8: 1109 | H8: 737 | I8: 372 | J8: 14683.974 | K8: 258 | L8: 159 | M8: 99 | N8: 3033.034 | O8: 12414 | P8: 6594 | Q8: 5820 | R8: 127040.69 | S8: 13781 | T8: 7490 | U8: 6291 | V8: 144757.69 | W8: 1050 | X8: 583 | Y8: 467 | Z8: 13166.232 | AA8: 4477 | AB8: 2711 | AC8: 1766 | AD8: 55603.467 | AE8: 8254 | AF8: 4196 | AG8: 4058 | AH8: 75987.995
A9: 新北市 | B9: New Taipei City | C9: 2719 | D9: 1437 | E9: 1282 | F9: 22282.985 | G9: 170 | H9: 116 | I9: 54 | J9: 1514 | K9: 55 | L9: 40 | M9: 15 | N9: 476.625 | O9: 2494 | P9: 1281 | Q9: 1213 | R9: 20292.36 | S9: 2719 | T9: 1437 | U9: 1282 | V9: 22282.985 | W9: 191 | X9: 101 | Y9: 90 | Z9: 2353.3 | AA9: 892 | AB9: 544 | AC9: 348 | AD9: 8257.005 | AE9: 1636 | AF9: 792 | AG9: 844 | AH9: 11672.68
A10: 臺北市 | B10: Taipei City | C10: 2098 | D10: 1093 | E10: 1005 | F10: 18188.418 | G10: 196 | H10: 122 | I10: 74 | J10: 1979.965 | K10: 18 | L10: 6 | M10: 12 | N10: 190.15 | O10: 1884 | P10: 965 | Q10: 919 | R10: 16018.303 | S10: 2098 | T10: 1093 | U10: 1005 | V10: 18188.418 | W10: 139 | X10: 67 | Y10: 72 | Z10: 1512.27 | AA10: 649 | AB10: 383 | AC10: 266 | AD10: 6924.045 | AE10: 1310 | AF10: 643 | AG10: 667 | AH10: 9752.103
A11: 桃園市 | B11: Taoyuan City | C11: 839 | D11: 476 | E11: 363 | F11: 10569.18 | G11: 62 | H11: 41 | I11: 21 | J11: 1071.5 | K11: 8 | L11: 6 | M11: 2 | N11: 69.25 | O11: 769 | P11: 429 | Q11: 340 | R11: 9428.43 | S11: 839 | T11: 476 | U11: 363 | V11: 10569.18 | W11: 89 | X11: 53 | Y11: 36 | Z11: 977.02 | AA11: 321 | AB11: 199 | AC11: 122 | AD11: 4694.9 | AE11: 429 | AF11: 224 | AG11: 205 | AH11: 4897.26
A12: 臺中市 | B12: Taichung City | C12: 1556 | D12: 875 | E12: 681 | F12: 17737.604 | G12: 111 | H12: 72 | I12: 39 | J12: 1668.46 | K12: 22 | L12: 18 | M12: 4 | N12: 275.975 | O12: 1423 | P12: 785 | Q12: 638 | R12: 15793.169 | S12: 1556 | T12: 875 | U12: 681 | V12: 17737.604 | W12: 161 | X12: 111 | Y12: 50 | Z12: 2057.41 | AA12: 582 | AB12: 332 | AC12: 250 | AD12: 7182.114 | AE12: 813 | AF12: 432 | AG12: 381 | AH12: 8498.08
A13: 臺南市 | B13: Tainan City | C13: 800 | D13: 449 | E13: 351 | F13: 8686.77 | G13: 47 | H13: 28 | I13: 19 | J13: 623.4 | K13: 11 | L13: 9 | M13: 2 | N13: 199.11 | O13: 742 | P13: 412 | Q13: 330 | R13: 7864.26 | S13: 800 | T13: 449 | U13: 351 | V13: 8686.77 | W13: 53 | X13: 28 | Y13: 25 | Z13: 650.55 | AA13: 239 | AB13: 149 | AC13: 90 | AD13: 2869.36 | AE13: 508 | AF13: 272 | AG13: 236 | AH13: 5166.86
A14: 高雄市 | B14: Kaohsiung City | C14: 1316 | D14: 710 | E14: 606 | F14: 15421.498 | G14: 125 | H14: 85 | I14: 40 | J14: 1744.5 | K14: 21 | L14: 13 | M14: 8 | N14: 191.339 | O14: 1170 | P14: 612 | Q14: 558 | R14: 13485.659 | S14: 1316 | T14: 710 | U14: 606 | V14: 15421.498 | W14: 89 | X14: 47 | Y14: 42 | Z14: 1174 | AA14: 454 | AB14: 259 | AC14: 195 | AD14: 5995.65 | AE14: 773 | AF14: 404 | AG14: 369 | AH14: 8251.848
A15: 宜蘭縣 | B15: Yilan County | C15: 290 | D15: 162 | E15: 128 | F15: 2970.132 | G15: 26 | H15: 14 | I15: 12 | J15: 282.232 | K15: 4 | L15: 1 | M15: 3 | N15: 88.5 | O15: 260 | P15: 147 | Q15: 113 | R15: 2599.4 | S15: 290 | T15: 162 | U15: 128 | V15: 2970.132 | W15: 14 | X15: 7 | Y15: 7 | Z15: 165.432 | AA15: 77 | AB15: 43 | AC15: 34 | AD15: 1127.8 | AE15: 199 | AF15: 112 | AG15: 87 | AH15: 1676.9
A16: 新竹縣 | B16: Hsinchu County | C16: 253 | D16: 149 | E16: 104 | F16: 3214.2 | G16: 11 | H16: 8 | I16: 3 | J16: 110.2 | K16: 0 | L16: 0 | M16: 0 | N16: 0 | O16: 242 | P16: 141 | Q16: 101 | R16: 3104 | S16: 253 | T16: 149 | U16: 104 | V16: 3214.2 | W16: 32 | X16: 18 | Y16: 14 | Z16: 533.5 | AA16: 81 | AB16: 50 | AC16: 31 | AD16: 1184.2 | AE16: 140 | AF16: 81 | AG16: 59 | AH16: 1496.5
A17: 苗栗縣 | B17: Miaoli County | C17: 351 | D17: 190 | E17: 161 | F17: 4042.25 | G17: 37 | H17: 24 | I17: 13 | J17: 439.3 | K17: 8 | L17: 7 | M17: 1 | N17: 54 | O17: 306 | P17: 159 | Q17: 147 | R17: 3548.95 | S17: 351 | T17: 190 | U17: 161 | V17: 4042.25 | W17: 13 | X17: 8 | Y17: 5 | Z17: 165.7 | AA17: 96 | AB17: 64 | AC17: 32 | AD17: 1477.3 | AE17: 242 | AF17: 118 | AG17: 124 | AH17: 2399.25
A18: 彰化縣 | B18: Changhua County | C18: 657 | D18: 367 | E18: 290 | F18: 7800.749 | G18: 44 | H18: 37 | I18: 7 | J18: 652.919 | K18: 27 | L18: 13 | M18: 14 | N18: 255.51 | O18: 586 | P18: 317 | Q18: 269 | R18: 6892.32 | S18: 657 | T18: 367 | U18: 290 | V18: 7800.749 | W18: 69 | X18: 40 | Y18: 29 | Z18: 710.95 | AA18: 187 | AB18: 113 | AC18: 74 | AD18: 2625.43 | AE18: 401 | AF18: 214 | AG18: 187 | AH18: 4464.369
A19: 南投縣 | B19: Nantou County | C19: 578 | D19: 346 | E19: 232 | F19: 4560.03 | G19: 38 | H19: 25 | I19: 13 | J19: 379 | K19: 37 | L19: 21 | M19: 16 | N19: 364 | O19: 503 | P19: 300 | Q19: 203 | R19: 3817.03 | S19: 578 | T19: 346 | U19: 232 | V19: 4560.03 | W19: 22 | X19: 8 | Y19: 14 | Z19: 286.5 | AA19: 151 | AB19: 107 | AC19: 44 | AD19: 1498.91 | AE19: 405 | AF19: 231 | AG19: 174 | AH19: 2774.62
... A30: 連江縣 | B30: Lienchiang County | C30: 1 | D30: 1 | E30: 0 | F30: 10 | G30: 0 | H30: 0 | I30: 0 | J30: 0 | K30: 0 | L30: 0 | M30: 0 | N30: 0 | O30: 1 | P30: 1 | Q30: 0 | R30: 10 | S30: 1 | T30: 1 | U30: 0 | V30: 10 | W30: 0 | X30: 0 | Y30: 0 | Z30: 0 | AA30: 0 | AB30: 0 | AC30: 0 | AD30: 0 | AE30: 1 | AF30: 1 | AG30: 0 | AH30: 10
A31: 資料來源：直轄市、縣(市)政府。
A32: Source : County and City Government.
A33: 更新日期：2026/05/15

Sheet 2025
A1: 身心障礙者生活輔助器具補助Auxiliary Appliances Assistance for the Disabled
A3: 114年,2025 | C3: =IF(C8=SUM(C9:C30),"",SUM(C9:C30)) | D3: =IF(D8=SUM(D9:D30),"",SUM(D9:D30)) | E3: =IF(E8=SUM(E9:E30),"",SUM(E9:E30)) | F3: =IF(F8=SUM(F9:F30),"",SUM(F9:F30)) | G3: =IF(G8=SUM(G9:G30),"",SUM(G9:G30)) | H3: =IF(H8=SUM(H9:H30),"",SUM(H9:H30)) | I3: =IF(I8=SUM(I9:I30),"",SUM(I9:I30)) | J3: =IF(J8=SUM(J9:J30),"",SUM(J9:J30)) | ... AH3: =IF(AH8=SUM(AH9:AH30),"",SUM(AH9:AH30))
A4: 區域別 Locality | C4: 福利身分別 By Identity | S4: 依年齡別分 By Age
C5: 總計 Total | G5: 低收入戶 Low-income Households | K5: 中低收入戶 Middle-low-income Households | O5: 非低收入戶及 非中低收入戶 Non-low-income and Non-middle-low-income Households | S5: 總 計 Total | W5: 未滿18歲 under 18 years | AA5: 18歲-未滿65歲 18-under 65 years | AE5: 65歲以上 65 years & over
C6: 人次 Person-times | F6: 金額 (千元) Amounts (NT$1,000) | G6: 人次 Person-times | J6: 金額 (千元) Amounts (NT$1,000) | K6: 人次 Person-times | N6: 金額 (千元) Amounts (NT$1,000) | O6: 人次 Person-times | R6: 金額 (千元) Amounts (NT$1,000) | S6: 人次 Person-times | V6: 金額 (千元) Amounts (NT$1,000) | W6: 人次 Person-times | Z6: 金額 (千元) Amounts (NT$1,000) | AA6: 人次 Person-times | AD6: 金額 (千元) Amounts (NT$1,000) | AE6: 人次 Person-times | AH6: 金額 (千元) Amounts (NT$1,000)
C7: 計 Subtotal | D7: 男 Male | E7: 女 Female | G7: 計 Subtotal | H7: 男 Male | I7: 女 Female | K7: 計 Subtotal | L7: 男 Male | M7: 女 Female | O7: 計 Subtotal | P7: 男 Male | Q7: 女 Female | S7: 合計 Subtotal | T7: 男 Male | U7: 女 Female | W7: 合計 Subtotal | X7: 男 Male | Y7: 女 Female | AA7: 合計 Subtotal | AB7: 男 Male | AC7: 女 Female | AE7: 合計 Subtotal | AF7: 男 Male | AG7: 女 Female
A8: 總計 | B8: Total | C8: 58014 | D8: 31263 | E8: 26751 | F8: 614494.65 | G8: 4579 | H8: 3150 | I8: 1429 | J8: 63154.197 | K8: 1090 | L8: 698 | M8: 392 | N8: 14777.85 | O8: 52345 | P8: 27415 | Q8: 24930 | R8: 536562.61 | S8: 58014 | T8: 31263 | U8: 26751 | V8: 614494.65 | W8: 4716 | X8: 2695 | Y8: 2021 | Z8: 60274.084 | AA8: 19841 | AB8: 11867 | AC8: 7974 | AD8: 247118.58 | AE8: 33457 | AF8: 16701 | AG8: 16756 | AH8: 307101.99
A9: 新北市 | B9: New Taipei City | C9: 10640 | D9: 5612 | E9: 5028 | F9: 93414.051 | G9: 707 | H9: 465 | I9: 242 | J9: 7682.674 | K9: 145 | L9: 81 | M9: 64 | N9: 1465.304 | O9: 9788 | P9: 5066 | Q9: 4722 | R9: 84266.073 | S9: 10640 | T9: 5612 | U9: 5028 | V9: 93414.051 | W9: 789 | X9: 414 | Y9: 375 | Z9: 8624.729 | AA9: 3755 | AB9: 2247 | AC9: 1508 | AD9: 38105.428 | AE9: 6096 | AF9: 2951 | AG9: 3145 | AH9: 46683.894
A10: 臺北市 | B10: Taipei City | C10: 9287 | D10: 4752 | E10: 4535 | F10: 83778.81 | G10: 963 | H10: 586 | I10: 377 | J10: 10695.477 | K10: 89 | L10: 66 | M10: 23 | N10: 785.225 | O10: 8235 | P10: 4100 | Q10: 4135 | R10: 72298.108 | S10: 9287 | T10: 4752 | U10: 4535 | V10: 83778.81 | W10: 712 | X10: 408 | Y10: 304 | Z10: 8044.361 | AA10: 3107 | AB10: 1753 | AC10: 1354 | AD10: 31635.287 | AE10: 5468 | AF10: 2591 | AG10: 2877 | AH10: 44099.162
A11: 桃園市 | B11: Taoyuan City | C11: 3449 | D11: 1856 | E11: 1593 | F11: 46668.381 | G11: 223 | H11: 148 | I11: 75 | J11: 3957.612 | K11: 58 | L11: 27 | M11: 31 | N11: 1324.175 | O11: 3168 | P11: 1681 | Q11: 1487 | R11: 41386.594 | S11: 3449 | T11: 1856 | U11: 1593 | V11: 46668.381 | W11: 454 | X11: 249 | Y11: 205 | Z11: 6265.215 | AA11: 1275 | AB11: 709 | AC11: 566 | AD11: 20480.351 | AE11: 1720 | AF11: 898 | AG11: 822 | AH11: 19922.815
A12: 臺中市 | B12: Taichung City | C12: 6079 | D12: 3323 | E12: 2756 | F12: 69650.94 | G12: 445 | H12: 296 | I12: 149 | J12: 7276.289 | K12: 122 | L12: 91 | M12: 31 | N12: 1469.625 | O12: 5512 | P12: 2936 | Q12: 2576 | R12: 60905.026 | S12: 6079 | T12: 3323 | U12: 2756 | V12: 69650.94 | W12: 690 | X12: 387 | Y12: 303 | Z12: 9001.999 | AA12: 2217 | AB12: 1292 | AC12: 925 | AD12: 28628.938 | AE12: 3172 | AF12: 1644 | AG12: 1528 | AH12: 32020.003
A13: 臺南市 | B13: Tainan City | C13: 4356 | D13: 2344 | E13: 2012 | F13: 51523.591 | G13: 274 | H13: 210 | I13: 64 | J13: 3959.139 | K13: 57 | L13: 36 | M13: 21 | N13: 1050.075 | O13: 4025 | P13: 2098 | Q13: 1927 | R13: 46514.377 | S13: 4356 | T13: 2344 | U13: 2012 | V13: 51523.591 | W13: 329 | X13: 204 | Y13: 125 | Z13: 5288.81 | AA13: 1507 | AB13: 864 | AC13: 643 | AD13: 20744.841 | AE13: 2520 | AF13: 1276 | AG13: 1244 | AH13: 25489.94
A14: 高雄市 | B14: Kaohsiung City | C14: 5769 | D14: 3113 | E14: 2656 | F14: 68381.144 | G14: 450 | H14: 327 | I14: 123 | J14: 7393.238 | K14: 141 | L14: 78 | M14: 63 | N14: 2007.006 | O14: 5178 | P14: 2708 | Q14: 2470 | R14: 58980.9 | S14: 5769 | T14: 3113 | U14: 2656 | V14: 68381.144 | W14: 441 | X14: 267 | Y14: 174 | Z14: 6224.03 | AA14: 2128 | AB14: 1294 | AC14: 834 | AD14: 28857.299 | AE14: 3200 | AF14: 1552 | AG14: 1648 | AH14: 33299.815
A15: 宜蘭縣 | B15: Yilan County | C15: 1227 | D15: 658 | E15: 569 | F15: 12363.245 | G15: 60 | H15: 36 | I15: 24 | J15: 840.7 | K15: 27 | L15: 19 | M15: 8 | N15: 318.615 | O15: 1140 | P15: 603 | Q15: 537 | R15: 11203.93 | S15: 1227 | T15: 658 | U15: 569 | V15: 12363.245 | W15: 71 | X15: 29 | Y15: 42 | Z15: 993.5 | AA15: 368 | AB15: 228 | AC15: 140 | AD15: 4883.165 | AE15: 788 | AF15: 401 | AG15: 387 | AH15: 6486.58
A16: 新竹縣 | B16: Hsinchu County | C16: 953 | D16: 557 | E16: 396 | F16: 11919.24 | G16: 50 | H16: 36 | I16: 14 | J16: 666.34 | K16: 13 | L16: 8 | M16: 5 | N16: 175.75 | O16: 890 | P16: 513 | Q16: 377 | R16: 11077.15 | S16: 953 | T16: 557 | U16: 396 | V16: 11919.24 | W16: 135 | X16: 87 | Y16: 48 | Z16: 2065.66 | AA16: 305 | AB16: 186 | AC16: 119 | AD16: 4481.64 | AE16: 513 | AF16: 284 | AG16: 229 | AH16: 5371.94
A17: 苗栗縣 | B17: Miaoli County | C17: 1428 | D17: 882 | E17: 546 | F17: 17293.135 | G17: 132 | H17: 99 | I17: 33 | J17: 1489.85 | K17: 16 | L17: 15 | M17: 1 | N17: 354.8 | O17: 1280 | P17: 768 | Q17: 512 | R17: 15448.485 | S17: 1428 | T17: 882 | U17: 546 | V17: 17293.135 | W17: 80 | X17: 47 | Y17: 33 | Z17: 1305.55 | AA17: 465 | AB17: 313 | AC17: 152 | AD17: 6639.32 | AE17: 883 | AF17: 522 | AG17: 361 | AH17: 9348.265
A18: 彰化縣 | B18: Changhua County | C18: 3415 | D18: 1880 | E18: 1535 | F18: 36897.289 | G18: 246 | H18: 173 | I18: 73 | J18: 3381.92 | K18: 117 | L18: 69 | M18: 48 | N18: 1639.585 | O18: 3052 | P18: 1638 | Q18: 1414 | R18: 31875.784 | S18: 3415 | T18: 1880 | U18: 1535 | V18: 36897.289 | W18: 231 | X18: 136 | Y18: 95 | Z18: 2711.61 | AA18: 1073 | AB18: 656 | AC18: 417 | AD18: 14390.466 | AE18: 2111 | AF18: 1088 | AG18: 1023 | AH18: 19795.213
A19: 南投縣 | B19: Nantou County | C19: 2111 | D19: 1123 | E19: 988 | F19: 15369.17 | G19: 107 | H19: 85 | I19: 22 | J19: 899.7 | K19: 61 | L19: 48 | M19: 13 | N19: 539.9 | O19: 1943 | P19: 990 | Q19: 953 | R19: 13929.57 | S19: 2111 | T19: 1123 | U19: 988 | V19: 15369.17 | W19: 64 | X19: 29 | Y19: 35 | Z19: 618.4 | AA19: 504 | AB19: 356 | AC19: 148 | AD19: 4389.3 | AE19: 1543 | AF19: 738 | AG19: 805 | AH19: 10361.47
... A30: 連江縣 | B30: Lienchiang County | C30: 17 | D30: 9 | E30: 8 | F30: 190.175 | G30: 1 | H30: 0 | I30: 1 | J30: 5 | K30: 3 | L30: 3 | M30: 0 | N30: 57.175 | O30: 13 | P30: 6 | Q30: 7 | R30: 128 | S30: 17 | T30: 9 | U30: 8 | V30: 190.175 | W30: 2 | X30: 0 | Y30: 2 | Z30: 13 | AA30: 8 | AB30: 5 | AC30: 3 | AD30: 103.175 | AE30: 7 | AF30: 4 | AG30: 3 | AH30: 74
A31: 資料來源：直轄市、縣(市)政府。
A32: Source : County and City Government.
A33: 更新日期：2026/02/23

Sheet Q4, 2025
A1: 身心障礙者生活輔助器具補助Auxiliary Appliances Assistance for the Disabled
A3: 114年第4季 Oct.-Dec., 2025 | C3: =IF(C8=SUM(C9:C30),"",SUM(C9:C30)) | D3: =IF(D8=SUM(D9:D30),"",SUM(D9:D30)) | E3: =IF(E8=SUM(E9:E30),"",SUM(E9:E30)) | F3: =IF(F8=SUM(F9:F30),"",SUM(F9:F30)) | G3: =IF(G8=SUM(G9:G30),"",SUM(G9:G30)) | H3: =IF(H8=SUM(H9:H30),"",SUM(H9:H30)) | I3: =IF(I8=SUM(I9:I30),"",SUM(I9:I30)) | J3: =IF(J8=SUM(J9:J30),"",SUM(J9:J30)) | ... AH3: =IF(AH8=SUM(AH9:AH30),"",SUM(AH9:AH30))
A4: 區域別 Locality | C4: 福利身分別 By Identity | S4: 依年齡別分 By Age
C5: 總計 Total | G5: 低收入戶 Low-income Households | K5: 中低收入戶 Middle-low-income Households | O5: 非低收入戶及 非中低收入戶 Non-low-income and Non-middle-low-income Households | S5: 總 計 Total | W5: 未滿18歲 under 18 years | AA5: 18歲-未滿65歲 18-under 65 years | AE5: 65歲以上 65 years & over
C6: 人次 Person-times | F6: 金額 (千元) Amounts (NT$1,000) | G6: 人次 Person-times | J6: 金額 (千元) Amounts (NT$1,000) | K6: 人次 Person-times | N6: 金額 (千元) Amounts (NT$1,000) | O6: 人次 Person-times | R6: 金額 (千元) Amounts (NT$1,000) | S6: 人次 Person-times | V6: 金額 (千元) Amounts (NT$1,000) | W6: 人次 Person-times | Z6: 金額 (千元) Amounts (NT$1,000) | AA6: 人次 Person-times | AD6: 金額 (千元) Amounts (NT$1,000) | AE6: 人次 Person-times | AH6: 金額 (千元) Amounts (NT$1,000)
C7: 計 Subtotal | D7: 男 Male | E7: 女 Female | G7: 計 Subtotal | H7: 男 Male | I7: 女 Female | K7: 計 Subtotal | L7: 男 Male | M7: 女 Female | O7: 計 Subtotal | P7: 男 Male | Q7: 女 Female | S7: 合計 Subtotal | T7: 男 Male | U7: 女 Female | W7: 合計 Subtotal | X7: 男 Male | Y7: 女 Female | AA7: 合計 Subtotal | AB7: 男 Male | AC7: 女 Female | AE7: 合計 Subtotal | AF7: 男 Male | AG7: 女 Female
A8: 總計 | B8: Total | C8: 14684 | D8: 7844 | E8: 6840 | F8: 155317.68 | G8: 1130 | H8: 800 | I8: 330 | J8: 15477.211 | K8: 248 | L8: 144 | M8: 104 | N8: 3138.169 | O8: 13306 | P8: 6900 | Q8: 6406 | R8: 136702.3 | S8: 14684 | T8: 7844 | U8: 6840 | V8: 155317.68 | W8: 1158 | X8: 640 | Y8: 518 | Z8: 14982.46 | AA8: 4975 | AB8: 2939 | AC8: 2036 | AD8: 62206.29 | AE8: 8551 | AF8: 4265 | AG8: 4286 | AH8: 78128.933
A9: 新北市 | B9: New Taipei City | C9: 2931 | D9: 1513 | E9: 1418 | F9: 24629.214 | G9: 157 | H9: 105 | I9: 52 | J9: 1886.414 | K9: 29 | L9: 7 | M9: 22 | N9: 203.669 | O9: 2745 | P9: 1401 | Q9: 1344 | R9: 22539.131 | S9: 2931 | T9: 1513 | U9: 1418 | V9: 24629.214 | W9: 210 | X9: 111 | Y9: 99 | Z9: 2464.84 | AA9: 938 | AB9: 552 | AC9: 386 | AD9: 9194.884 | AE9: 1783 | AF9: 850 | AG9: 933 | AH9: 12969.49
A10: 臺北市 | B10: Taipei City | C10: 2267 | D10: 1146 | E10: 1121 | F10: 19718.741 | G10: 241 | H10: 154 | I10: 87 | J10: 2349.045 | K10: 16 | L10: 12 | M10: 4 | N10: 181.15 | O10: 2010 | P10: 980 | Q10: 1030 | R10: 17188.546 | S10: 2267 | T10: 1146 | U10: 1121 | V10: 19718.741 | W10: 143 | X10: 75 | Y10: 68 | Z10: 1574.37 | AA10: 749 | AB10: 436 | AC10: 313 | AD10: 7264.425 | AE10: 1375 | AF10: 635 | AG10: 740 | AH10: 10879.946
A11: 桃園市 | B11: Taoyuan City | C11: 913 | D11: 507 | E11: 406 | F11: 12511.67 | G11: 53 | H11: 35 | I11: 18 | J11: 913.23 | K11: 13 | L11: 7 | M11: 6 | N11: 188 | O11: 847 | P11: 465 | Q11: 382 | R11: 11410.44 | S11: 913 | T11: 507 | U11: 406 | V11: 12511.67 | W11: 127 | X11: 76 | Y11: 51 | Z11: 1737.4 | AA11: 346 | AB11: 205 | AC11: 141 | AD11: 5647.9 | AE11: 440 | AF11: 226 | AG11: 214 | AH11: 5126.37
A12: 臺中市 | B12: Taichung City | C12: 1318 | D12: 735 | E12: 583 | F12: 16391.909 | G12: 98 | H12: 68 | I12: 30 | J12: 2206.299 | K12: 29 | L12: 23 | M12: 6 | N12: 303.55 | O12: 1191 | P12: 644 | Q12: 547 | R12: 13882.06 | S12: 1318 | T12: 735 | U12: 583 | V12: 16391.909 | W12: 150 | X12: 89 | Y12: 61 | Z12: 2344.46 | AA12: 503 | AB12: 282 | AC12: 221 | AD12: 7478.225 | AE12: 665 | AF12: 364 | AG12: 301 | AH12: 6569.224
A13: 臺南市 | B13: Tainan City | C13: 993 | D13: 508 | E13: 485 | F13: 12171.744 | G13: 58 | H13: 43 | I13: 15 | J13: 968.4 | K13: 9 | L13: 5 | M13: 4 | N13: 110.9 | O13: 926 | P13: 460 | Q13: 466 | R13: 11092.444 | S13: 993 | T13: 508 | U13: 485 | V13: 12171.744 | W13: 75 | X13: 40 | Y13: 35 | Z13: 1206.95 | AA13: 349 | AB13: 187 | AC13: 162 | AD13: 4876.364 | AE13: 569 | AF13: 281 | AG13: 288 | AH13: 6088.43
A14: 高雄市 | B14: Kaohsiung City | C14: 1527 | D14: 799 | E14: 728 | F14: 17601.252 | G14: 135 | H14: 95 | I14: 40 | J14: 1733.099 | K14: 33 | L14: 18 | M14: 15 | N14: 585.325 | O14: 1359 | P14: 686 | Q14: 673 | R14: 15282.828 | S14: 1527 | T14: 799 | U14: 728 | V14: 17601.252 | W14: 124 | X14: 72 | Y14: 52 | Z14: 1561 | AA14: 581 | AB14: 336 | AC14: 245 | AD14: 7310.138 | AE14: 822 | AF14: 391 | AG14: 431 | AH14: 8730.114
A15: 宜蘭縣 | B15: Yilan County | C15: 389 | D15: 214 | E15: 175 | F15: 4012.09 | G15: 21 | H15: 11 | I15: 10 | J15: 406.7 | K15: 9 | L15: 6 | M15: 3 | N15: 112.74 | O15: 359 | P15: 197 | Q15: 162 | R15: 3492.65 | S15: 389 | T15: 214 | U15: 175 | V15: 4012.09 | W15: 25 | X15: 10 | Y15: 15 | Z15: 315.5 | AA15: 120 | AB15: 75 | AC15: 45 | AD15: 1770.79 | AE15: 244 | AF15: 129 | AG15: 115 | AH15: 1925.8
A16: 新竹縣 | B16: Hsinchu County | C16: 186 | D16: 99 | E16: 87 | F16: 2313.65 | G16: 15 | H16: 11 | I16: 4 | J16: 166 | K16: 2 | L16: 1 | M16: 1 | N16: 18 | O16: 169 | P16: 87 | Q16: 82 | R16: 2129.65 | S16: 186 | T16: 99 | U16: 87 | V16: 2313.65 | W16: 25 | X16: 17 | Y16: 8 | Z16: 420.5 | AA16: 63 | AB16: 32 | AC16: 31 | AD16: 849.8 | AE16: 98 | AF16: 50 | AG16: 48 | AH16: 1043.35
A17: 苗栗縣 | B17: Miaoli County | C17: 363 | D17: 206 | E17: 157 | F17: 4167.95 | G17: 30 | H17: 21 | I17: 9 | J17: 382.9 | K17: 2 | L17: 2 | M17: 0 | N17: 16 | O17: 331 | P17: 183 | Q17: 148 | R17: 3769.05 | S17: 363 | T17: 206 | U17: 157 | V17: 4167.95 | W17: 12 | X17: 2 | Y17: 10 | Z17: 128.75 | AA17: 116 | AB17: 75 | AC17: 41 | AD17: 1672.55 | AE17: 235 | AF17: 129 | AG17: 106 | AH17: 2366.65
A18: 彰化縣 | B18: Changhua County | C18: 653 | D18: 366 | E18: 287 | F18: 7149.235 | G18: 44 | H18: 34 | I18: 10 | J18: 557.7 | K18: 23 | L18: 13 | M18: 10 | N18: 316.085 | O18: 586 | P18: 319 | Q18: 267 | R18: 6275.45 | S18: 653 | T18: 366 | U18: 287 | V18: 7149.235 | W18: 54 | X18: 32 | Y18: 22 | Z18: 722.31 | AA18: 199 | AB18: 115 | AC18: 84 | AD18: 2520.98 | AE18: 400 | AF18: 219 | AG18: 181 | AH18: 3905.945
A19: 南投縣 | B19: Nantou County | C19: 506 | D19: 280 | E19: 226 | F19: 3638.19 | G19: 17 | H19: 16 | I19: 1 | J19: 134.7 | K19: 10 | L19: 7 | M19: 3 | N19: 99.25 | O19: 479 | P19: 257 | Q19: 222 | R19: 3404.24 | S19: 506 | T19: 280 | U19: 226 | V19: 3638.19 | W19: 19 | X19: 7 | Y19: 12 | Z19: 171 | AA19: 115 | AB19: 84 | AC19: 31 | AD19: 1006.35 | AE19: 372 | AF19: 189 | AG19: 183 | AH19: 2460.84
... A30: 連江縣 | B30: Lienchiang County | C30: 6 | D30: 4 | E30: 2 | F30: 69.625 | G30: 0 | H30: 0 | I30: 0 | J30: 0 | K30: 1 | L30: 1 | M30: 0 | N30: 9.625 | O30: 5 | P30: 3 | Q30: 2 | R30: 60 | S30: 6 | T30: 4 | U30: 2 | V30: 69.625 | W30: 1 | X30: 0 | Y30: 1 | Z30: 8 | AA30: 3 | AB30: 2 | AC30: 1 | AD30: 39.625 | AE30: 2 | AF30: 2 | AG30: 0 | AH30: 22
A31: 資料來源：直轄市、縣(市)政府。
A32: Source : County and City Government.
A33: 更新日期：2026/02/23

Sheet Q3, 2025
A1: 身心障礙者生活輔助器具補助Auxiliary Appliances Assistance for the Disabled
A3: 114年第3季 July-Sept., 2025 | C3: =IF(C8=SUM(C9:C30),"",SUM(C9:C30)) | D3: =IF(D8=SUM(D9:D30),"",SUM(D9:D30)) | E3: =IF(E8=SUM(E9:E30),"",SUM(E9:E30)) | F3: =IF(F8=SUM(F9:F30),"",SUM(F9:F30)) | G3: =IF(G8=SUM(G9:G30),"",SUM(G9:G30)) | H3: =IF(H8=SUM(H9:H30),"",SUM(H9:H30)) | I3: =IF(I8=SUM(I9:I30),"",SUM(I9:I30)) | J3: =IF(J8=SUM(J9:J30),"",SUM(J9:J30)) | ... AH3: =IF(AH8=SUM(AH9:AH30),"",SUM(AH9:AH30))
A4: 區域別 Locality | C4: 福利身分別 By Identity | S4: 依年齡別分 By Age
C5: 總計 Total | G5: 低收入戶 Low-income Households | K5: 中低收入戶 Middle-low-income Households | O5: 非低收入戶及 非中低收入戶 Non-low-income and Non-middle-low-income Households | S5: 總 計 Total | W5: 未滿18歲 under 18 years | AA5: 18歲-未滿65歲 18-under 65 years | AE5: 65歲以上 65 years & over
C6: 人次 Person-times | F6: 金額 (千元) Amounts (NT$1,000) | G6: 人次 Person-times | J6: 金額 (千元) Amounts (NT$1,000) | K6: 人次 Person-times | N6: 金額 (千元) Amounts (NT$1,000) | O6: 人次 Person-times | R6: 金額 (千元) Amounts (NT$1,000) | S6: 人次 Person-times | V6: 金額 (千元) Amounts (NT$1,000) | W6: 人次 Person-times | Z6: 金額 (千元) Amounts (NT$1,000) | AA6: 人次 Person-times | AD6: 金額 (千元) Amounts (NT$1,000) | AE6: 人次 Person-times | AH6: 金額 (千元) Amounts (NT$1,000)
C7: 計 Subtotal | D7: 男 Male | E7: 女 Female | G7: 計 Subtotal | H7: 男 Male | I7: 女 Female | K7: 計 Subtotal | L7: 男 Male | M7: 女 Female | O7: 計 Subtotal | P7: 男 Male | Q7: 女 Female | S7: 合計 Subtotal | T7: 男 Male | U7: 女 Female | W7: 合計 Subtotal | X7: 男 Male | Y7: 女 Female | AA7: 合計 Subtotal | AB7: 男 Male | AC7: 女 Female | AE7: 合計 Subtotal | AF7: 男 Male | AG7: 女 Female
A8: 總計 | B8: Total | C8: 14846 | D8: 7969 | E8: 6877 | F8: 156899.05 | G8: 1119 | H8: 774 | I8: 345 | J8: 15161.963 | K8: 276 | L8: 184 | M8: 92 | N8: 3686.721 | O8: 13451 | P8: 7011 | Q8: 6440 | R8: 138050.37 | S8: 14846 | T8: 7969 | U8: 6877 | V8: 156899.05 | W8: 1176 | X8: 670 | Y8: 506 | Z8: 14747.636 | AA8: 5086 | AB8: 3044 | AC8: 2042 | AD8: 61973.94 | AE8: 8584 | AF8: 4255 | AG8: 4329 | AH8: 80177.474
A9: 新北市 | B9: New Taipei City | C9: 2433 | D9: 1242 | E9: 1191 | F9: 21804.08 | G9: 144 | H9: 91 | I9: 53 | J9: 1252.72 | K9: 39 | L9: 22 | M9: 17 | N9: 424.76 | O9: 2250 | P9: 1129 | Q9: 1121 | R9: 20126.6 | S9: 2433 | T9: 1242 | U9: 1191 | V9: 21804.08 | W9: 169 | X9: 91 | Y9: 78 | Z9: 1648.14 | AA9: 871 | AB9: 496 | AC9: 375 | AD9: 8845.51 | AE9: 1393 | AF9: 655 | AG9: 738 | AH9: 11310.43
A10: 臺北市 | B10: Taipei City | C10: 2288 | D10: 1152 | E10: 1136 | F10: 20255.208 | G10: 199 | H10: 111 | I10: 88 | J10: 2332.927 | K10: 23 | L10: 15 | M10: 8 | N10: 184.875 | O10: 2066 | P10: 1026 | Q10: 1040 | R10: 17737.406 | S10: 2288 | T10: 1152 | U10: 1136 | V10: 20255.208 | W10: 173 | X10: 91 | Y10: 82 | Z10: 1548.176 | AA10: 790 | AB10: 430 | AC10: 360 | AD10: 7883.697 | AE10: 1325 | AF10: 631 | AG10: 694 | AH10: 10823.335
A11: 桃園市 | B11: Taoyuan City | C11: 915 | D11: 510 | E11: 405 | F11: 11919.934 | G11: 56 | H11: 42 | I11: 14 | J11: 1190.952 | K11: 13 | L11: 6 | M11: 7 | N11: 244.8 | O11: 846 | P11: 462 | Q11: 384 | R11: 10484.182 | S11: 915 | T11: 510 | U11: 405 | V11: 11919.934 | W11: 122 | X11: 63 | Y11: 59 | Z11: 1755.98 | AA11: 342 | AB11: 197 | AC11: 145 | AD11: 4957.859 | AE11: 451 | AF11: 250 | AG11: 201 | AH11: 5206.095
A12: 臺中市 | B12: Taichung City | C12: 1558 | D12: 833 | E12: 725 | F12: 18403.552 | G12: 103 | H12: 67 | I12: 36 | J12: 1764.83 | K12: 27 | L12: 20 | M12: 7 | N12: 267.675 | O12: 1428 | P12: 746 | Q12: 682 | R12: 16371.047 | S12: 1558 | T12: 833 | U12: 725 | V12: 18403.552 | W12: 156 | X12: 83 | Y12: 73 | Z12: 1888.65 | AA12: 579 | AB12: 345 | AC12: 234 | AD12: 7792.543 | AE12: 823 | AF12: 405 | AG12: 418 | AH12: 8722.359
A13: 臺南市 | B13: Tainan City | C13: 1456 | D13: 777 | E13: 679 | F13: 16863.8 | G13: 88 | H13: 71 | I13: 17 | J13: 1131.34 | K13: 19 | L13: 11 | M13: 8 | N13: 297.3 | O13: 1349 | P13: 695 | Q13: 654 | R13: 15435.16 | S13: 1456 | T13: 777 | U13: 679 | V13: 16863.8 | W13: 113 | X13: 75 | Y13: 38 | Z13: 1984.1 | AA13: 498 | AB13: 285 | AC13: 213 | AD13: 6547.75 | AE13: 845 | AF13: 417 | AG13: 428 | AH13: 8331.95
A14: 高雄市 | B14: Kaohsiung City | C14: 1475 | D14: 830 | E14: 645 | F14: 16772.171 | G14: 132 | H14: 104 | I14: 28 | J14: 2017.28 | K14: 35 | L14: 21 | M14: 14 | N14: 478.806 | O14: 1308 | P14: 705 | Q14: 603 | R14: 14276.085 | S14: 1475 | T14: 830 | U14: 645 | V14: 16772.171 | W14: 122 | X14: 71 | Y14: 51 | Z14: 1695 | AA14: 523 | AB14: 334 | AC14: 189 | AD14: 6672.736 | AE14: 830 | AF14: 425 | AG14: 405 | AH14: 8404.435
A15: 宜蘭縣 | B15: Yilan County | C15: 337 | D15: 170 | E15: 167 | F15: 3487.53 | G15: 13 | H15: 7 | I15: 6 | J15: 229 | K15: 5 | L15: 5 | M15: 0 | N15: 81 | O15: 319 | P15: 158 | Q15: 161 | R15: 3177.53 | S15: 337 | T15: 170 | U15: 167 | V15: 3487.53 | W15: 19 | X15: 9 | Y15: 10 | Z15: 326 | AA15: 83 | AB15: 51 | AC15: 32 | AD15: 1061.25 | AE15: 235 | AF15: 110 | AG15: 125 | AH15: 2100.28
A16: 新竹縣 | B16: Hsinchu County | C16: 243 | D16: 140 | E16: 103 | F16: 3102.99 | G16: 11 | H16: 7 | I16: 4 | J16: 61.14 | K16: 3 | L16: 1 | M16: 2 | N16: 89.75 | O16: 229 | P16: 132 | Q16: 97 | R16: 2952.1 | S16: 243 | T16: 140 | U16: 103 | V16: 3102.99 | W16: 39 | X16: 24 | Y16: 15 | Z16: 481.5 | AA16: 83 | AB16: 53 | AC16: 30 | AD16: 1437.19 | AE16: 121 | AF16: 63 | AG16: 58 | AH16: 1184.3
A17: 苗栗縣 | B17: Miaoli County | C17: 395 | D17: 253 | E17: 142 | F17: 4907.175 | G17: 47 | H17: 38 | I17: 9 | J17: 501.15 | K17: 6 | L17: 5 | M17: 1 | N17: 190 | O17: 342 | P17: 210 | Q17: 132 | R17: 4216.025 | S17: 395 | T17: 253 | U17: 142 | V17: 4907.175 | W17: 24 | X17: 14 | Y17: 10 | Z17: 408.1 | AA17: 131 | AB17: 92 | AC17: 39 | AD17: 1796.15 | AE17: 240 | AF17: 147 | AG17: 93 | AH17: 2702.925
A18: 彰化縣 | B18: Changhua County | C18: 779 | D18: 411 | E18: 368 | F18: 8876.25 | G18: 53 | H18: 38 | I18: 15 | J18: 835.2 | K18: 17 | L18: 11 | M18: 6 | N18: 270.15 | O18: 709 | P18: 362 | Q18: 347 | R18: 7770.9 | S18: 779 | T18: 411 | U18: 368 | V18: 8876.25 | W18: 39 | X18: 27 | Y18: 12 | Z18: 406.92 | AA18: 264 | AB18: 170 | AC18: 94 | AD18: 3703.27 | AE18: 476 | AF18: 214 | AG18: 262 | AH18: 4766.06
A19: 南投縣 | B19: Nantou County | C19: 501 | D19: 281 | E19: 220 | F19: 3608.15 | G19: 31 | H19: 26 | I19: 5 | J19: 249.7 | K19: 15 | L19: 14 | M19: 1 | N19: 140.9 | O19: 455 | P19: 241 | Q19: 214 | R19: 3217.55 | S19: 501 | T19: 281 | U19: 220 | V19: 3608.15 | W19: 21 | X19: 14 | Y19: 7 | Z19: 200.1 | AA19: 118 | AB19: 78 | AC19: 40 | AD19: 959.2 | AE19: 362 | AF19: 189 | AG19: 173 | AH19: 2448.85
... A30: 連江縣 | B30: Lienchiang County | C30: 5 | D30: 2 | E30: 3 | F30: 62.05 | G30: 1 | H30: 0 | I30: 1 | J30: 5 | K30: 2 | L30: 2 | M30: 0 | N30: 47.55 | O30: 2 | P30: 0 | Q30: 2 | R30: 9.5 | S30: 5 | T30: 2 | U30: 3 | V30: 62.05 | W30: 1 | X30: 0 | Y30: 1 | Z30: 5 | AA30: 3 | AB30: 2 | AC30: 1 | AD30: 52.05 | AE30: 1 | AF30: 0 | AG30: 1 | AH30: 5
A31: 資料來源：直轄市、縣(市)政府。
A32: Source : County and City Government.
A33: 更新日期：2025/11/17

Sheet Q2, 2025
A1: 身心障礙者生活輔助器具補助Auxiliary Appliances Assistance for the Disabled
A3: 114年第2季 Apr.-June, 2025 | C3: =IF(C8=SUM(C9:C30),"",SUM(C9:C30)) | D3: =IF(D8=SUM(D9:D30),"",SUM(D9:D30)) | E3: =IF(E8=SUM(E9:E30),"",SUM(E9:E30)) | F3: =IF(F8=SUM(F9:F30),"",SUM(F9:F30)) | G3: =IF(G8=SUM(G9:G30),"",SUM(G9:G30)) | H3: =IF(H8=SUM(H9:H30),"",SUM(H9:H30)) | I3: =IF(I8=SUM(I9:I30),"",SUM(I9:I30)) | J3: =IF(J8=SUM(J9:J30),"",SUM(J9:J30)) | ... AH3: =IF(AH8=SUM(AH9:AH30),"",SUM(AH9:AH30))
A4: 區域別 Locality | C4: 福利身分別 By Identity | S4: 依年齡別分 By Age
C5: 合計 Total | G5: 低收入戶 Low-income Households | K5: 中低收入戶 Middle-low-income Households | O5: 非低收入戶及 非中低收入戶 Non-low-income and Non-middle-low-income Households | S5: 總 計 Total | W5: 未滿18歲 under 18 years | AA5: 18歲-未滿65歲 18-under 65 years | AE5: 65歲以上 65 years & over
C6: 人次 Person-times | F6: 金額 (千元) Amounts (NT$1,000) | G6: 人次 Person-times | J6: 金額 (千元) Amounts (NT$1,000) | K6: 人次 Person-times | N6: 金額 (千元) Amounts (NT$1,000) | O6: 人次 Person-times | R6: 金額 (千元) Amounts (NT$1,000) | S6: 人次 Person-times | V6: 金額 (千元) Amounts (NT$1,000) | W6: 人次 Person-times | Z6: 金額 (千元) Amounts (NT$1,000) | AA6: 人次 Person-times | AD6: 金額 (千元) Amounts (NT$1,000) | AE6: 人次 Person-times | AH6: 金額 (千元) Amounts (NT$1,000)
C7: 計 Subtotal | D7: 男 Male | E7: 女 Female | G7: 計 Subtotal | H7: 男 Male | I7: 女 Female | K7: 計 Subtotal | L7: 男 Male | M7: 女 Female | O7: 計 Subtotal | P7: 男 Male | Q7: 女 Female | S7: 合計 Subtotal | T7: 男 Male | U7: 女 Female | W7: 合計 Subtotal | X7: 男 Male | Y7: 女 Female | AA7: 合計 Subtotal | AB7: 男 Male | AC7: 女 Female | AE7: 合計 Subtotal | AF7: 男 Male | AG7: 女 Female
A8: 總計 | B8: Total | C8: 14241 | D8: 7723 | E8: 6518 | F8: 148365.82 | G8: 1191 | H8: 829 | I8: 362 | J8: 16195.865 | K8: 284 | L8: 192 | M8: 92 | N8: 3901.91 | O8: 12766 | P8: 6702 | Q8: 6064 | R8: 128268.05 | S8: 14241 | T8: 7723 | U8: 6518 | V8: 148365.82 | W8: 1182 | X8: 687 | Y8: 495 | Z8: 14793.249 | AA8: 4906 | AB8: 2953 | AC8: 1953 | AD8: 60183.214 | AE8: 8153 | AF8: 4083 | AG8: 4070 | AH8: 73389.359
A9: 新北市 | B9: New Taipei City | C9: 2770 | D9: 1490 | E9: 1280 | F9: 23722.214 | G9: 226 | H9: 158 | I9: 68 | J9: 2242.281 | K9: 47 | L9: 27 | M9: 20 | N9: 452.225 | O9: 2497 | P9: 1305 | Q9: 1192 | R9: 21027.708 | S9: 2770 | T9: 1490 | U9: 1280 | V9: 23722.214 | W9: 218 | X9: 109 | Y9: 109 | Z9: 2530.15 | AA9: 960 | AB9: 605 | AC9: 355 | AD9: 9484.276 | AE9: 1592 | AF9: 776 | AG9: 816 | AH9: 11707.788
A10: 臺北市 | B10: Taipei City | C10: 2294 | D10: 1148 | E10: 1146 | F10: 20438.633 | G10: 233 | H10: 148 | I10: 85 | J10: 2489.345 | K10: 24 | L10: 22 | M10: 2 | N10: 187 | O10: 2037 | P10: 978 | Q10: 1059 | R10: 17762.288 | S10: 2294 | T10: 1148 | U10: 1146 | V10: 20438.633 | W10: 214 | X10: 136 | Y10: 78 | Z10: 2496.085 | AA10: 743 | AB10: 412 | AC10: 331 | AD10: 7168.51 | AE10: 1337 | AF10: 600 | AG10: 737 | AH10: 10774.038
A11: 桃園市 | B11: Taoyuan City | C11: 815 | D11: 430 | E11: 385 | F11: 12040.64 | G11: 59 | H11: 39 | I11: 20 | J11: 957.88 | K11: 21 | L11: 9 | M11: 12 | N11: 746.75 | O11: 735 | P11: 382 | Q11: 353 | R11: 10336.01 | S11: 815 | T11: 430 | U11: 385 | V11: 12040.64 | W11: 99 | X11: 60 | Y11: 39 | Z11: 1317.075 | AA11: 318 | AB11: 166 | AC11: 152 | AD11: 5892.365 | AE11: 398 | AF11: 204 | AG11: 194 | AH11: 4831.2
A12: 臺中市 | B12: Taichung City | C12: 1495 | D12: 819 | E12: 676 | F12: 15641.179 | G12: 107 | H12: 67 | I12: 40 | J12: 1237.56 | K12: 26 | L12: 19 | M12: 7 | N12: 360 | O12: 1362 | P12: 733 | Q12: 629 | R12: 14043.619 | S12: 1495 | T12: 819 | U12: 676 | V12: 15641.179 | W12: 182 | X12: 94 | Y12: 88 | Z12: 2027.279 | AA12: 538 | AB12: 326 | AC12: 212 | AD12: 5790.02 | AE12: 775 | AF12: 399 | AG12: 376 | AH12: 7823.88
A13: 臺南市 | B13: Tainan City | C13: 1121 | D13: 627 | E13: 494 | F13: 12383.228 | G13: 96 | H13: 78 | I13: 18 | J13: 1212.9 | K13: 17 | L13: 12 | M13: 5 | N13: 438.125 | O13: 1008 | P13: 537 | Q13: 471 | R13: 10732.203 | S13: 1121 | T13: 627 | U13: 494 | V13: 12383.228 | W13: 68 | X13: 39 | Y13: 29 | Z13: 1027.8 | AA13: 413 | AB13: 242 | AC13: 171 | AD13: 5233.338 | AE13: 640 | AF13: 346 | AG13: 294 | AH13: 6122.09
A14: 高雄市 | B14: Kaohsiung City | C14: 1428 | D14: 780 | E14: 648 | F14: 17584.786 | G14: 103 | H14: 72 | I14: 31 | J14: 2198.049 | K14: 30 | L14: 19 | M14: 11 | N14: 325.75 | O14: 1295 | P14: 689 | Q14: 606 | R14: 15060.987 | S14: 1428 | T14: 780 | U14: 648 | V14: 17584.786 | W14: 99 | X14: 66 | Y14: 33 | Z14: 1510.03 | AA14: 514 | AB14: 310 | AC14: 204 | AD14: 7639.15 | AE14: 815 | AF14: 404 | AG14: 411 | AH14: 8435.606
A15: 宜蘭縣 | B15: Yilan County | C15: 332 | D15: 188 | E15: 144 | F15: 3057.875 | G15: 23 | H15: 16 | I15: 7 | J15: 185 | K15: 6 | L15: 4 | M15: 2 | N15: 39.375 | O15: 303 | P15: 168 | Q15: 135 | R15: 2833.5 | S15: 332 | T15: 188 | U15: 144 | V15: 3057.875 | W15: 16 | X15: 4 | Y15: 12 | Z15: 213 | AA15: 112 | AB15: 73 | AC15: 39 | AD15: 1273.625 | AE15: 204 | AF15: 111 | AG15: 93 | AH15: 1571.25
A16: 新竹縣 | B16: Hsinchu County | C16: 265 | D16: 163 | E16: 102 | F16: 3126.51 | G16: 10 | H16: 7 | I16: 3 | J16: 171 | K16: 5 | L16: 5 | M16: 0 | N16: 30 | O16: 250 | P16: 151 | Q16: 99 | R16: 2925.51 | S16: 265 | T16: 163 | U16: 102 | V16: 3126.51 | W16: 40 | X16: 28 | Y16: 12 | Z16: 620.66 | AA16: 77 | AB16: 47 | AC16: 30 | AD16: 929.95 | AE16: 148 | AF16: 88 | AG16: 60 | AH16: 1575.9
A17: 苗栗縣 | B17: Miaoli County | C17: 358 | D17: 241 | E17: 117 | F17: 4206.95 | G17: 42 | H17: 29 | I17: 13 | J17: 410.5 | K17: 8 | L17: 8 | M17: 0 | N17: 148.8 | O17: 308 | P17: 204 | Q17: 104 | R17: 3647.65 | S17: 358 | T17: 241 | U17: 117 | V17: 4206.95 | W17: 17 | X17: 13 | Y17: 4 | Z17: 225 | AA17: 143 | AB17: 103 | AC17: 40 | AD17: 1938.8 | AE17: 198 | AF17: 125 | AG17: 73 | AH17: 2043.15
A18: 彰化縣 | B18: Changhua County | C18: 815 | D18: 460 | E18: 355 | F18: 8446.61 | G18: 58 | H18: 43 | I18: 15 | J18: 757.48 | K18: 30 | L18: 20 | M18: 10 | N18: 398.05 | O18: 727 | P18: 397 | Q18: 330 | R18: 7291.08 | S18: 815 | T18: 460 | U18: 355 | V18: 8446.61 | W18: 70 | X18: 35 | Y18: 35 | Z18: 753.12 | AA18: 247 | AB18: 156 | AC18: 91 | AD18: 3205.28 | AE18: 498 | AF18: 269 | AG18: 229 | AH18: 4488.21
A19: 南投縣 | B19: Nantou County | C19: 526 | D19: 263 | E19: 263 | F19: 4017.6 | G19: 23 | H19: 17 | I19: 6 | J19: 140.1 | K19: 18 | L19: 17 | M19: 1 | N19: 171 | O19: 485 | P19: 229 | Q19: 256 | R19: 3706.5 | S19: 526 | T19: 263 | U19: 263 | V19: 4017.6 | W19: 10 | X19: 5 | Y19: 5 | Z19: 113.5 | AA19: 125 | AB19: 82 | AC19: 43 | AD19: 1256.4 | AE19: 391 | AF19: 176 | AG19: 215 | AH19: 2647.7
... A30: 連江縣 | B30: Lienchiang County | C30: 4 | D30: 3 | E30: 1 | F30: 46.5 | G30: 0 | H30: 0 | I30: 0 | J30: 0 | K30: 0 | L30: 0 | M30: 0 | N30: 0 | O30: 4 | P30: 3 | Q30: 1 | R30: 46.5 | S30: 4 | T30: 3 | U30: 1 | V30: 46.5 | W30: 0 | X30: 0 | Y30: 0 | Z30: 0 | AA30: 2 | AB30: 1 | AC30: 1 | AD30: 11.5 | AE30: 2 | AF30: 2 | AG30: 0 | AH30: 35
A31: 資料來源：直轄市、縣(市)政府。
A32: Source : County and City Government.
A33: 更新日期：2025/08/15

Sheet Q1, 2025
A1: 身心障礙者生活輔助器具補助Auxiliary Appliances Assistance for the Disabled
A3: 114年第1季 Jan.-Mar.,2025 | C3: =IF(C8=SUM(C9:C30),"",SUM(C9:C30)) | D3: =IF(D8=SUM(D9:D30),"",SUM(D9:D30)) | E3: =IF(E8=SUM(E9:E30),"",SUM(E9:E30)) | F3: =IF(F8=SUM(F9:F30),"",SUM(F9:F30)) | G3: =IF(G8=SUM(G9:G30),"",SUM(G9:G30)) | H3: =IF(H8=SUM(H9:H30),"",SUM(H9:H30)) | I3: =IF(I8=SUM(I9:I30),"",SUM(I9:I30)) | J3: =IF(J8=SUM(J9:J30),"",SUM(J9:J30)) | ... AH3: =IF(AH8=SUM(AH9:AH30),"",SUM(AH9:AH30))
A4: 區域別 Locality | C4: 福利身分別 By Identity | S4: 依年齡別分 By Age
C5: 總計 Total | G5: 低收入戶 Low-income Households | K5: 中低收入戶 Middle-low-income Households | O5: 非低收入戶及 非中低收入戶 Non-low-income and Non-middle-low-income Households | S5: 總 計 Total | W5: 未滿18歲 under 18 years | AA5: 18歲-未滿65歲 18-under 65 years | AE5: 65歲以上 65 years & over
C6: 人次 Person-times | F6: 金額 (千元) Amounts (NT$1,000) | G6: 人次 Person-times | J6: 金額 (千元) Amounts (NT$1,000) | K6: 人次 Person-times | N6: 金額 (千元) Amounts (NT$1,000) | O6: 人次 Person-times | R6: 金額 (千元) Amounts (NT$1,000) | S6: 人次 Person-times | V6: 金額 (千元) Amounts (NT$1,000) | W6: 人次 Person-times | Z6: 金額 (千元) Amounts (NT$1,000) | AA6: 人次 Person-times | AD6: 金額 (千元) Amounts (NT$1,000) | AE6: 人次 Person-times | AH6: 金額 (千元) Amounts (NT$1,000)
C7: 合計 Subtotal | D7: 男 Male | E7: 女 Female | G7: 合計 Subtotal | H7: 男 Male | I7: 女 Female | K7: 合計 Subtotal | L7: 男 Male | M7: 女 Female | O7: 合計 Subtotal | P7: 男 Male | Q7: 女 Female | S7: 合計 Subtotal | T7: 男 Male | U7: 女 Female | W7: 合計 Subtotal | X7: 男 Male | Y7: 女 Female | AA7: 合計 Subtotal | AB7: 男 Male | AC7: 女 Female | AE7: 合計 Subtotal | AF7: 男 Male | AG7: 女 Female
A8: 總計 | B8: Total | C8: 14243 | D8: 7727 | E8: 6516 | F8: 153912.1 | G8: 1139 | H8: 747 | I8: 392 | J8: 16319.158 | K8: 282 | L8: 178 | M8: 104 | N8: 4051.05 | O8: 12822 | P8: 6802 | Q8: 6020 | R8: 133541.89 | S8: 14243 | T8: 7727 | U8: 6516 | V8: 153912.1 | W8: 1200 | X8: 698 | Y8: 502 | Z8: 15750.739 | AA8: 4874 | AB8: 2931 | AC8: 1943 | AD8: 62755.135 | AE8: 8169 | AF8: 4098 | AG8: 4071 | AH8: 75406.225
A9: 新北市 | B9: New Taipei City | C9: 2506 | D9: 1367 | E9: 1139 | F9: 23258.543 | G9: 180 | H9: 111 | I9: 69 | J9: 2301.259 | K9: 30 | L9: 25 | M9: 5 | N9: 384.65 | O9: 2296 | P9: 1231 | Q9: 1065 | R9: 20572.634 | S9: 2506 | T9: 1367 | U9: 1139 | V9: 23258.543 | W9: 192 | X9: 103 | Y9: 89 | Z9: 1981.599 | AA9: 986 | AB9: 594 | AC9: 392 | AD9: 10580.758 | AE9: 1328 | AF9: 670 | AG9: 658 | AH9: 10696.186
A10: 臺北市 | B10: Taipei City | C10: 2438 | D10: 1306 | E10: 1132 | F10: 23366.228 | G10: 290 | H10: 173 | I10: 117 | J10: 3524.16 | K10: 26 | L10: 17 | M10: 9 | N10: 232.2 | O10: 2122 | P10: 1116 | Q10: 1006 | R10: 19609.868 | S10: 2438 | T10: 1306 | U10: 1132 | V10: 23366.228 | W10: 182 | X10: 106 | Y10: 76 | Z10: 2425.73 | AA10: 825 | AB10: 475 | AC10: 350 | AD10: 9318.655 | AE10: 1431 | AF10: 725 | AG10: 706 | AH10: 11621.843
A11: 桃園市 | B11: Taoyuan City | C11: 806 | D11: 409 | E11: 397 | F11: 10196.137 | G11: 55 | H11: 32 | I11: 23 | J11: 895.55 | K11: 11 | L11: 5 | M11: 6 | N11: 144.625 | O11: 740 | P11: 372 | Q11: 368 | R11: 9155.962 | S11: 806 | T11: 409 | U11: 397 | V11: 10196.137 | W11: 106 | X11: 50 | Y11: 56 | Z11: 1454.76 | AA11: 269 | AB11: 141 | AC11: 128 | AD11: 3982.227 | AE11: 431 | AF11: 218 | AG11: 213 | AH11: 4759.15
A12: 臺中市 | B12: Taichung City | C12: 1708 | D12: 936 | E12: 772 | F12: 19214.3 | G12: 137 | H12: 94 | I12: 43 | J12: 2067.6 | K12: 40 | L12: 29 | M12: 11 | N12: 538.4 | O12: 1531 | P12: 813 | Q12: 718 | R12: 16608.3 | S12: 1708 | T12: 936 | U12: 772 | V12: 19214.3 | W12: 202 | X12: 121 | Y12: 81 | Z12: 2741.61 | AA12: 597 | AB12: 339 | AC12: 258 | AD12: 7568.15 | AE12: 909 | AF12: 476 | AG12: 433 | AH12: 8904.54
A13: 臺南市 | B13: Tainan City | C13: 786 | D13: 432 | E13: 354 | F13: 10104.819 | G13: 32 | H13: 18 | I13: 14 | J13: 646.499 | K13: 12 | L13: 8 | M13: 4 | N13: 203.75 | O13: 742 | P13: 406 | Q13: 336 | R13: 9254.57 | S13: 786 | T13: 432 | U13: 354 | V13: 10104.819 | W13: 73 | X13: 50 | Y13: 23 | Z13: 1069.96 | AA13: 247 | AB13: 150 | AC13: 97 | AD13: 4087.389 | AE13: 466 | AF13: 232 | AG13: 234 | AH13: 4947.47
A14: 高雄市 | B14: Kaohsiung City | C14: 1339 | D14: 704 | E14: 635 | F14: 16422.935 | G14: 80 | H14: 56 | I14: 24 | J14: 1444.81 | K14: 43 | L14: 20 | M14: 23 | N14: 617.125 | O14: 1216 | P14: 628 | Q14: 588 | R14: 14361 | S14: 1339 | T14: 704 | U14: 635 | V14: 16422.935 | W14: 96 | X14: 58 | Y14: 38 | Z14: 1458 | AA14: 510 | AB14: 314 | AC14: 196 | AD14: 7235.275 | AE14: 733 | AF14: 332 | AG14: 401 | AH14: 7729.66
A15: 宜蘭縣 | B15: Yilan County | C15: 169 | D15: 86 | E15: 83 | F15: 1805.75 | G15: 3 | H15: 2 | I15: 1 | J15: 20 | K15: 7 | L15: 4 | M15: 3 | N15: 85.5 | O15: 159 | P15: 80 | Q15: 79 | R15: 1700.25 | S15: 169 | T15: 86 | U15: 83 | V15: 1805.75 | W15: 11 | X15: 6 | Y15: 5 | Z15: 139 | AA15: 53 | AB15: 29 | AC15: 24 | AD15: 777.5 | AE15: 105 | AF15: 51 | AG15: 54 | AH15: 889.25
A16: 新竹縣 | B16: Hsinchu County | C16: 259 | D16: 155 | E16: 104 | F16: 3376.09 | G16: 14 | H16: 11 | I16: 3 | J16: 268.2 | K16: 3 | L16: 1 | M16: 2 | N16: 38 | O16: 242 | P16: 143 | Q16: 99 | R16: 3069.89 | S16: 259 | T16: 155 | U16: 104 | V16: 3376.09 | W16: 31 | X16: 18 | Y16: 13 | Z16: 543 | AA16: 82 | AB16: 54 | AC16: 28 | AD16: 1264.7 | AE16: 146 | AF16: 83 | AG16: 63 | AH16: 1568.39
A17: 苗栗縣 | B17: Miaoli County | C17: 312 | D17: 182 | E17: 130 | F17: 4011.06 | G17: 13 | H17: 11 | I17: 2 | J17: 195.3 | K17: 0 | L17: 0 | M17: 0 | N17: 0 | O17: 299 | P17: 171 | Q17: 128 | R17: 3815.76 | S17: 312 | T17: 182 | U17: 130 | V17: 4011.06 | W17: 27 | X17: 18 | Y17: 9 | Z17: 543.7 | AA17: 75 | AB17: 43 | AC17: 32 | AD17: 1231.82 | AE17: 210 | AF17: 121 | AG17: 89 | AH17: 2235.54
A18: 彰化縣 | B18: Changhua County | C18: 1168 | D18: 643 | E18: 525 | F18: 12425.194 | G18: 91 | H18: 58 | I18: 33 | J18: 1231.54 | K18: 47 | L18: 25 | M18: 22 | N18: 655.3 | O18: 1030 | P18: 560 | Q18: 470 | R18: 10538.354 | S18: 1168 | T18: 643 | U18: 525 | V18: 12425.194 | W18: 68 | X18: 42 | Y18: 26 | Z18: 829.26 | AA18: 363 | AB18: 215 | AC18: 148 | AD18: 4960.936 | AE18: 737 | AF18: 386 | AG18: 351 | AH18: 6634.998
A19: 南投縣 | B19: Nantou County | C19: 578 | D19: 299 | E19: 279 | F19: 4105.23 | G19: 36 | H19: 26 | I19: 10 | J19: 375.2 | K19: 18 | L19: 10 | M19: 8 | N19: 128.75 | O19: 524 | P19: 263 | Q19: 261 | R19: 3601.28 | S19: 578 | T19: 299 | U19: 279 | V19: 4105.23 | W19: 14 | X19: 3 | Y19: 11 | Z19: 133.8 | AA19: 146 | AB19: 112 | AC19: 34 | AD19: 1167.35 | AE19: 418 | AF19: 184 | AG19: 234 | AH19: 2804.08
... A30: 連江縣 | B30: Lienchiang County | C30: 2 | D30: 0 | E30: 2 | F30: 12 | G30: 0 | H30: 0 | I30: 0 | J30: 0 | K30: 0 | L30: 0 | M30: 0 | N30: 0 | O30: 2 | P30: 0 | Q30: 2 | R30: 12 | S30: 2 | T30: 0 | U30: 2 | V30: 12 | W30: 0 | X30: 0 | Y30: 0 | Z30: 0 | AA30: 0 | AB30: 0 | AC30: 0 | AD30: 0 | AE30: 2 | AF30: 0 | AG30: 2 | AH30: 12
A31: 資料來源：直轄市、縣(市)政府。
A32: Source : County and City Government.
A33: 更新日期：2025/05/15

Sheet 2024
A1: 身心障礙者生活輔助器具補助Auxiliary Appliances Assistance for the Disabled
A3: 113年,2024 | C3: =IF(C8=SUM(C9:C30),"",SUM(C9:C30)) | D3: =IF(D8=SUM(D9:D30),"",SUM(D9:D30)) | E3: =IF(E8=SUM(E9:E30),"",SUM(E9:E30)) | F3: =IF(F8=SUM(F9:F30),"",SUM(F9:F30)) | G3: =IF(G8=SUM(G9:G30),"",SUM(G9:G30)) | H3: =IF(H8=SUM(H9:H30),"",SUM(H9:H30)) | I3: =IF(I8=SUM(I9:I30),"",SUM(I9:I30)) | J3: =IF(J8=SUM(J9:J30),"",SUM(J9:J30)) | ... AH3: =IF(AH8=SUM(AH9:AH30),"",SUM(AH9:AH30))
A4: 區域別 Locality | C4: 福利身分別 By Identity | S4: 依年齡別分 By Age
C5: 總計 Total | G5: 低收入戶 Low-income Households | K5: 中低收入戶 Middle-low-income Households | O5: 非低收入戶及 非中低收入戶 Non-low-income and Non-middle-low-income Households | S5: 總 計 Total | W5: 未滿18歲 under 18 years | AA5: 18歲-未滿65歲 18-under 65 years | AE5: 65歲以上 65 years & over
C6: 人次 Person-times | F6: 金額 (千元) Amounts (NT$1,000) | G6: 人次 Person-times | J6: 金額 (千元) Amounts (NT$1,000) | K6: 人次 Person-times | N6: 金額 (千元) Amounts (NT$1,000) | O6: 人次 Person-times | R6: 金額 (千元) Amounts (NT$1,000) | S6: 人次 Person-times | V6: 金額 (千元) Amounts (NT$1,000) | W6: 人次 Person-times | Z6: 金額 (千元) Amounts (NT$1,000) | AA6: 人次 Person-times | AD6: 金額 (千元) Amounts (NT$1,000) | AE6: 人次 Person-times | AH6: 金額 (千元) Amounts (NT$1,000)
C7: 計 Subtotal | D7: 男 Male | E7: 女 Female | G7: 計 Subtotal | H7: 男 Male | I7: 女 Female | K7: 計 Subtotal | L7: 男 Male | M7: 女 Female | O7: 計 Subtotal | P7: 男 Male | Q7: 女 Female | S7: 合計 Subtotal | T7: 男 Male | U7: 女 Female | W7: 合計 Subtotal | X7: 男 Male | Y7: 女 Female | AA7: 合計 Subtotal | AB7: 男 Male | AC7: 女 Female | AE7: 合計 Subtotal | AF7: 男 Male | AG7: 女 Female
A8: 總計 | B8: Total | C8: 55323 | D8: 30406 | E8: 24917 | F8: 591932.75 | G8: 4320 | H8: 3047 | I8: 1273 | J8: 62769.309 | K8: 994 | L8: 621 | M8: 373 | N8: 12600.18 | O8: 50009 | P8: 26738 | Q8: 23271 | R8: 516563.26 | S8: 55323 | T8: 30406 | U8: 24917 | V8: 591932.75 | W8: 4704 | X8: 2822 | Y8: 1882 | Z8: 60791.353 | AA8: 19834 | AB8: 11803 | AC8: 8031 | AD8: 249088.99 | AE8: 30785 | AF8: 15781 | AG8: 15004 | AH8: 282052.4
A9: 新北市 | B9: New Taipei City | C9: 8698 | D9: 4803 | E9: 3895 | F9: 78027.162 | G9: 586 | H9: 406 | I9: 180 | J9: 7124.843 | K9: 109 | L9: 61 | M9: 48 | N9: 921.565 | O9: 8003 | P9: 4336 | Q9: 3667 | R9: 69980.754 | S9: 8698 | T9: 4803 | U9: 3895 | V9: 78027.162 | W9: 683 | X9: 407 | Y9: 276 | Z9: 7440.207 | AA9: 3209 | AB9: 1962 | AC9: 1247 | AD9: 31573.603 | AE9: 4806 | AF9: 2434 | AG9: 2372 | AH9: 39013.352
A10: 臺北市 | B10: Taipei City | C10: 8854 | D10: 4546 | E10: 4308 | F10: 80427.905 | G10: 961 | H10: 613 | I10: 348 | J10: 11121.638 | K10: 102 | L10: 63 | M10: 39 | N10: 1229.975 | O10: 7791 | P10: 3870 | Q10: 3921 | R10: 68076.292 | S10: 8854 | T10: 4546 | U10: 4308 | V10: 80427.905 | W10: 672 | X10: 390 | Y10: 282 | Z10: 7231.199 | AA10: 3136 | AB10: 1773 | AC10: 1363 | AD10: 33997.396 | AE10: 5046 | AF10: 2383 | AG10: 2663 | AH10: 39199.31
A11: 桃園市 | B11: Taoyuan City | C11: 3545 | D11: 1959 | E11: 1586 | F11: 49369.136 | G11: 228 | H11: 178 | I11: 50 | J11: 4132.598 | K11: 56 | L11: 36 | M11: 20 | N11: 841.51 | O11: 3261 | P11: 1745 | Q11: 1516 | R11: 44395.028 | S11: 3545 | T11: 1959 | U11: 1586 | V11: 49369.136 | W11: 504 | X11: 296 | Y11: 208 | Z11: 7553.792 | AA11: 1351 | AB11: 784 | AC11: 567 | AD11: 22231.018 | AE11: 1690 | AF11: 879 | AG11: 811 | AH11: 19584.326
A12: 臺中市 | B12: Taichung City | C12: 6312 | D12: 3479 | E12: 2833 | F12: 69125.144 | G12: 424 | H12: 320 | I12: 104 | J12: 6177.59 | K12: 140 | L12: 85 | M12: 55 | N12: 1813.225 | O12: 5748 | P12: 3074 | Q12: 2674 | R12: 61134.329 | S12: 6312 | T12: 3479 | U12: 2833 | V12: 69125.144 | W12: 739 | X12: 429 | Y12: 310 | Z12: 9425 | AA12: 2384 | AB12: 1373 | AC12: 1011 | AD12: 29170.834 | AE12: 3189 | AF12: 1677 | AG12: 1512 | AH12: 30529.31
A13: 臺南市 | B13: Tainan City | C13: 3682 | D13: 2033 | E13: 1649 | F13: 43495.82 | G13: 210 | H13: 152 | I13: 58 | J13: 4285.609 | K13: 57 | L13: 41 | M13: 16 | N13: 653.925 | O13: 3415 | P13: 1840 | Q13: 1575 | R13: 38556.286 | S13: 3682 | T13: 2033 | U13: 1649 | V13: 43495.82 | W13: 249 | X13: 150 | Y13: 99 | Z13: 3670.74 | AA13: 1352 | AB13: 794 | AC13: 558 | AD13: 19002.331 | AE13: 2081 | AF13: 1089 | AG13: 992 | AH13: 20822.749
A14: 高雄市 | B14: Kaohsiung City | C14: 6022 | D14: 3359 | E14: 2663 | F14: 72268.261 | G14: 527 | H14: 366 | I14: 161 | J14: 8188.918 | K14: 114 | L14: 70 | M14: 44 | N14: 1684.85 | O14: 5381 | P14: 2923 | Q14: 2458 | R14: 62394.493 | S14: 6022 | T14: 3359 | U14: 2663 | V14: 72268.261 | W14: 454 | X14: 280 | Y14: 174 | Z14: 6206.44 | AA14: 2368 | AB14: 1438 | AC14: 930 | AD14: 33655.597 | AE14: 3200 | AF14: 1641 | AG14: 1559 | AH14: 32406.224
A15: 宜蘭縣 | B15: Yilan County | C15: 1216 | D15: 673 | E15: 543 | F15: 12084.71 | G15: 80 | H15: 60 | I15: 20 | J15: 1244.996 | K15: 24 | L15: 11 | M15: 13 | N15: 332.375 | O15: 1112 | P15: 602 | Q15: 510 | R15: 10507.339 | S15: 1216 | T15: 673 | U15: 543 | V15: 12084.71 | W15: 93 | X15: 46 | Y15: 47 | Z15: 1080.75 | AA15: 394 | AB15: 234 | AC15: 160 | AD15: 5071.64 | AE15: 729 | AF15: 393 | AG15: 336 | AH15: 5932.32
A16: 新竹縣 | B16: Hsinchu County | C16: 1002 | D16: 589 | E16: 413 | F16: 12390.995 | G16: 41 | H16: 29 | I16: 12 | J16: 554.6 | K16: 11 | L16: 7 | M16: 4 | N16: 136.975 | O16: 950 | P16: 553 | Q16: 397 | R16: 11699.42 | S16: 1002 | T16: 589 | U16: 413 | V16: 12390.995 | W16: 159 | X16: 105 | Y16: 54 | Z16: 2582.2 | AA16: 338 | AB16: 210 | AC16: 128 | AD16: 4775.825 | AE16: 505 | AF16: 274 | AG16: 231 | AH16: 5032.97
A17: 苗栗縣 | B17: Miaoli County | C17: 1422 | D17: 795 | E17: 627 | F17: 16415.64 | G17: 58 | H17: 43 | I17: 15 | J17: 1018.9 | K17: 15 | L17: 12 | M17: 3 | N17: 158.25 | O17: 1349 | P17: 740 | Q17: 609 | R17: 15238.49 | S17: 1422 | T17: 795 | U17: 627 | V17: 16415.64 | W17: 100 | X17: 71 | Y17: 29 | Z17: 1195.5 | AA17: 414 | AB17: 265 | AC17: 149 | AD17: 5658.07 | AE17: 908 | AF17: 459 | AG17: 449 | AH17: 9562.07
A18: 彰化縣 | B18: Changhua County | C18: 3031 | D18: 1737 | E18: 1294 | F18: 34199.924 | G18: 203 | H18: 124 | I18: 79 | J18: 3663.53 | K18: 92 | L18: 54 | M18: 38 | N18: 1158.66 | O18: 2736 | P18: 1559 | Q18: 1177 | R18: 29377.734 | S18: 3031 | T18: 1737 | U18: 1294 | V18: 34199.924 | W18: 253 | X18: 163 | Y18: 90 | Z18: 3482.43 | AA18: 1028 | AB18: 590 | AC18: 438 | AD18: 14233.953 | AE18: 1750 | AF18: 984 | AG18: 766 | AH18: 16483.541
A19: 南投縣 | B19: Nantou County | C19: 2058 | D19: 1140 | E19: 918 | F19: 16826.399 | G19: 172 | H19: 129 | I19: 43 | J19: 1680.989 | K19: 53 | L19: 36 | M19: 17 | N19: 505.91 | O19: 1833 | P19: 975 | Q19: 858 | R19: 14639.5 | S19: 2058 | T19: 1140 | U19: 918 | V19: 16826.399 | W19: 76 | X19: 36 | Y19: 40 | Z19: 930.7 | AA19: 518 | AB19: 314 | AC19: 204 | AD19: 5395.549 | AE19: 1464 | AF19: 790 | AG19: 674 | AH19: 10500.15
... A30: 連江縣 | B30: Lienchiang County | C30: 13 | D30: 9 | E30: 4 | F30: 260.75 | G30: 0 | H30: 0 | I30: 0 | J30: 0 | K30: 0 | L30: 0 | M30: 0 | N30: 0 | O30: 13 | P30: 9 | Q30: 4 | R30: 260.75 | S30: 13 | T30: 9 | U30: 4 | V30: 260.75 | W30: 1 | X30: 1 | Y30: 0 | Z30: 3 | AA30: 4 | AB30: 3 | AC30: 1 | AD30: 186.75 | AE30: 8 | AF30: 5 | AG30: 3 | AH30: 71
A31: 資料來源：直轄市、縣(市)政府。
A32: Source : County and City Government.
A33: 更新日期：2025/02/21

Sheet 2023
A1: 身心障礙者生活輔助器具補助Auxiliary Appliances Assistance for the Disabled
A3: 112年,2023 | C3: =IF(C8=SUM(C9:C30),"",SUM(C9:C30)) | D3: =IF(D8=SUM(D9:D30),"",SUM(D9:D30)) | E3: =IF(E8=SUM(E9:E30),"",SUM(E9:E30)) | F3: =IF(F8=SUM(F9:F30),"",SUM(F9:F30)) | G3: =IF(G8=SUM(G9:G30),"",SUM(G9:G30)) | H3: =IF(H8=SUM(H9:H30),"",SUM(H9:H30)) | I3: =IF(I8=SUM(I9:I30),"",SUM(I9:I30)) | J3: =IF(J8=SUM(J9:J30),"",SUM(J9:J30)) | ... AH3: =IF(AH8=SUM(AH9:AH30),"",SUM(AH9:AH30))
A4: 區域別 Locality | C4: 福利身分別 By Identity | S4: 依年齡別分 By Age
C5: 總計 Total | G5: 低收入戶 Low-income Households | K5: 中低收入戶 Middle-low-income Households | O5: 非低收入戶及 非中低收入戶 Non-low-income and Non-middle-low-income Households | S5: 總 計 Total | W5: 未滿18歲 under 18 years | AA5: 18歲-未滿65歲 18-under 65 years | AE5: 65歲以上 65 years & over
C6: 人次 Person-times | F6: 金額 (千元) Amounts (NT$1,000) | G6: 人次 Person-times | J6: 金額 (千元) Amounts (NT$1,000) | K6: 人次 Person-times | N6: 金額 (千元) Amounts (NT$1,000) | O6: 人次 Person-times | R6: 金額 (千元) Amounts (NT$1,000) | S6: 人次 Person-times | V6: 金額 (千元) Amounts (NT$1,000) | W6: 人次 Person-times | Z6: 金額 (千元) Amounts (NT$1,000) | AA6: 人次 Person-times | AD6: 金額 (千元) Amounts (NT$1,000) | AE6: 人次 Person-times | AH6: 金額 (千元) Amounts (NT$1,000)
C7: 計 Subtotal | D7: 男 Male | E7: 女 Female | G7: 計 Subtotal | H7: 男 Male | I7: 女 Female | K7: 計 Subtotal | L7: 男 Male | M7: 女 Female | O7: 計 Subtotal | P7: 男 Male | Q7: 女 Female | S7: 合計 Subtotal | T7: 男 Male | U7: 女 Female | W7: 合計 Subtotal | X7: 男 Male | Y7: 女 Female | AA7: 合計 Subtotal | AB7: 男 Male | AC7: 女 Female | AE7: 合計 Subtotal | AF7: 男 Male | AG7: 女 Female
A8: 總計 | B8: Total | C8: 57867 | D8: 31387 | E8: 26480 | F8: 595395.14 | G8: 4548 | H8: 3084 | I8: 1464 | J8: 64117.268 | K8: 1182 | L8: 750 | M8: 432 | N8: 14566.984 | O8: 52137 | P8: 27553 | Q8: 24584 | R8: 516710.89 | S8: 57867 | T8: 31387 | U8: 26480 | V8: 595395.14 | W8: 4861 | X8: 2875 | Y8: 1986 | Z8: 62741.487 | AA8: 21121 | AB8: 12632 | AC8: 8489 | AD8: 258038.9 | AE8: 31885 | AF8: 15880 | AG8: 16005 | AH8: 274614.76
A9: 新北市 | B9: New Taipei City | C9: 11511 | D9: 6044 | E9: 5467 | F9: 101132.02 | G9: 857 | H9: 534 | I9: 323 | J9: 9653.717 | K9: 186 | L9: 126 | M9: 60 | N9: 1893.975 | O9: 10468 | P9: 5384 | Q9: 5084 | R9: 89584.331 | S9: 11511 | T9: 6044 | U9: 5467 | V9: 101132.02 | W9: 846 | X9: 513 | Y9: 333 | Z9: 9437.588 | AA9: 4392 | AB9: 2625 | AC9: 1767 | AD9: 45245.192 | AE9: 6273 | AF9: 2906 | AG9: 3367 | AH9: 46449.243
A10: 臺北市 | B10: Taipei City | C10: 8414 | D10: 4355 | E10: 4059 | F10: 73300.454 | G10: 897 | H10: 561 | I10: 336 | J10: 9995.361 | K10: 90 | L10: 68 | M10: 22 | N10: 1154.85 | O10: 7427 | P10: 3726 | Q10: 3701 | R10: 62150.243 | S10: 8414 | T10: 4355 | U10: 4059 | V10: 73300.454 | W10: 574 | X10: 322 | Y10: 252 | Z10: 6531.848 | AA10: 2889 | AB10: 1664 | AC10: 1225 | AD10: 28479.128 | AE10: 4951 | AF10: 2369 | AG10: 2582 | AH10: 38289.478
A11: 桃園市 | B11: Taoyuan City | C11: 3708 | D11: 1984 | E11: 1724 | F11: 46051.987 | G11: 259 | H11: 186 | I11: 73 | J11: 4102.169 | K11: 63 | L11: 31 | M11: 32 | N11: 807.735 | O11: 3386 | P11: 1767 | Q11: 1619 | R11: 41142.083 | S11: 3708 | T11: 1984 | U11: 1724 | V11: 46051.987 | W11: 502 | X11: 277 | Y11: 225 | Z11: 6180.561 | AA11: 1466 | AB11: 872 | AC11: 594 | AD11: 21436.391 | AE11: 1740 | AF11: 835 | AG11: 905 | AH11: 18435.035
A12: 臺中市 | B12: Taichung City | C12: 6591 | D12: 3642 | E12: 2949 | F12: 70791.941 | G12: 476 | H12: 330 | I12: 146 | J12: 7244.15 | K12: 123 | L12: 77 | M12: 46 | N12: 1457.064 | O12: 5992 | P12: 3235 | Q12: 2757 | R12: 62090.727 | S12: 6591 | T12: 3642 | U12: 2949 | V12: 70791.941 | W12: 770 | X12: 448 | Y12: 322 | Z12: 10132.588 | AA12: 2520 | AB12: 1498 | AC12: 1022 | AD12: 31395.688 | AE12: 3301 | AF12: 1696 | AG12: 1605 | AH12: 29263.665
A13: 臺南市 | B13: Tainan City | C13: 4002 | D13: 2180 | E13: 1822 | F13: 43680.66 | G13: 245 | H13: 172 | I13: 73 | J13: 3106.398 | K13: 62 | L13: 41 | M13: 21 | N13: 840.375 | O13: 3695 | P13: 1967 | Q13: 1728 | R13: 39733.887 | S13: 4002 | T13: 2180 | U13: 1822 | V13: 43680.66 | W13: 298 | X13: 181 | Y13: 117 | Z13: 4199.2 | AA13: 1505 | AB13: 879 | AC13: 626 | AD13: 19712.577 | AE13: 2199 | AF13: 1120 | AG13: 1079 | AH13: 19768.883
A14: 高雄市 | B14: Kaohsiung City | C14: 5890 | D14: 3177 | E14: 2713 | F14: 68145.114 | G14: 528 | H14: 342 | I14: 186 | J14: 8911.84 | K14: 111 | L14: 58 | M14: 53 | N14: 1513.95 | O14: 5251 | P14: 2777 | Q14: 2474 | R14: 57719.324 | S14: 5890 | T14: 3177 | U14: 2713 | V14: 68145.114 | W14: 451 | X14: 255 | Y14: 196 | Z14: 6645.875 | AA14: 2476 | AB14: 1445 | AC14: 1031 | AD14: 33153.117 | AE14: 2963 | AF14: 1477 | AG14: 1486 | AH14: 28346.122
A15: 宜蘭縣 | B15: Yilan County | C15: 1332 | D15: 773 | E15: 559 | F15: 14470.313 | G15: 71 | H15: 56 | I15: 15 | J15: 1097.4 | K15: 29 | L15: 17 | M15: 12 | N15: 395.65 | O15: 1232 | P15: 700 | Q15: 532 | R15: 12977.263 | S15: 1332 | T15: 773 | U15: 559 | V15: 14470.313 | W15: 101 | X15: 65 | Y15: 36 | Z15: 1305.9 | AA15: 398 | AB15: 255 | AC15: 143 | AD15: 5278.561 | AE15: 833 | AF15: 453 | AG15: 380 | AH15: 7885.852
A16: 新竹縣 | B16: Hsinchu County | C16: 987 | D16: 528 | E16: 459 | F16: 11470.877 | G16: 45 | H16: 30 | I16: 15 | J16: 565.599 | K16: 7 | L16: 6 | M16: 1 | N16: 98.25 | O16: 935 | P16: 492 | Q16: 443 | R16: 10807.028 | S16: 987 | T16: 528 | U16: 459 | V16: 11470.877 | W16: 150 | X16: 85 | Y16: 65 | Z16: 2171.88 | AA16: 289 | AB16: 174 | AC16: 115 | AD16: 4277.049 | AE16: 548 | AF16: 269 | AG16: 279 | AH16: 5021.948
A17: 苗栗縣 | B17: Miaoli County | C17: 1460 | D17: 846 | E17: 614 | F17: 17583.003 | G17: 72 | H17: 52 | I17: 20 | J17: 836.1 | K17: 13 | L17: 9 | M17: 4 | N17: 143.375 | O17: 1375 | P17: 785 | Q17: 590 | R17: 16603.528 | S17: 1460 | T17: 846 | U17: 614 | V17: 17583.003 | W17: 108 | X17: 78 | Y17: 30 | Z17: 1855.488 | AA17: 451 | AB17: 303 | AC17: 148 | AD17: 7040.605 | AE17: 901 | AF17: 465 | AG17: 436 | AH17: 8686.91
A18: 彰化縣 | B18: Changhua County | C18: 3002 | D18: 1752 | E18: 1250 | F18: 32595.521 | G18: 187 | H18: 129 | I18: 58 | J18: 3093.54 | K18: 110 | L18: 75 | M18: 35 | N18: 1344.26 | O18: 2705 | P18: 1548 | Q18: 1157 | R18: 28157.721 | S18: 3002 | T18: 1752 | U18: 1250 | V18: 32595.521 | W18: 253 | X18: 167 | Y18: 86 | Z18: 3896.789 | AA18: 1019 | AB18: 640 | AC18: 379 | AD18: 13042.499 | AE18: 1730 | AF18: 945 | AG18: 785 | AH18: 15656.233
A19: 南投縣 | B19: Nantou County | C19: 1826 | D19: 1063 | E19: 763 | F19: 14458.604 | G19: 96 | H19: 76 | I19: 20 | J19: 1105.6 | K19: 105 | L19: 69 | M19: 36 | N19: 1359.775 | O19: 1625 | P19: 918 | Q19: 707 | R19: 11993.229 | S19: 1826 | T19: 1063 | U19: 763 | V19: 14458.604 | W19: 100 | X19: 69 | Y19: 31 | Z19: 1116.1 | AA19: 473 | AB19: 301 | AC19: 172 | AD19: 4285.905 | AE19: 1253 | AF19: 693 | AG19: 560 | AH19: 9056.599
... A30: 連江縣 | B30: Lienchiang County | C30: 15 | D30: 12 | E30: 3 | F30: 124 | G30: 0 | H30: 0 | I30: 0 | J30: 0 | K30: 0 | L30: 0 | M30: 0 | N30: 0 | O30: 15 | P30: 12 | Q30: 3 | R30: 124 | S30: 15 | T30: 12 | U30: 3 | V30: 124 | W30: 3 | X30: 2 | Y30: 1 | Z30: 21.5 | AA30: 2 | AB30: 2 | AC30: 0 | AD30: 9.5 | AE30: 10 | AF30: 8 | AG30: 2 | AH30: 93
A31: 資料來源：直轄市、縣(市)政府。
A32: Source : County and City Government.
A33: 更新日期：2024/2/22

Sheet 2022
A1: 身心障礙者生活輔助器具補助Auxiliary Appliances Assistance for the Disabled
A3: 111年,2022 | C3: =IF(C8=SUM(C9:C30),"",SUM(C9:C30)) | D3: =IF(D8=SUM(D9:D30),"",SUM(D9:D30)) | E3: =IF(E8=SUM(E9:E30),"",SUM(E9:E30)) | F3: =IF(F8=SUM(F9:F30),"",SUM(F9:F30)) | G3: =IF(G8=SUM(G9:G30),"",SUM(G9:G30)) | H3: =IF(H8=SUM(H9:H30),"",SUM(H9:H30)) | I3: =IF(I8=SUM(I9:I30),"",SUM(I9:I30)) | J3: =IF(J8=SUM(J9:J30),"",SUM(J9:J30)) | ... AH3: =IF(AH8=SUM(AH9:AH30),"",SUM(AH9:AH30))
A4: 區域別 Locality | C4: 福利身分別 By Identity | S4: 依年齡別分 By Age
C5: 總計 Total | G5: 低收入戶 Low-income Households | K5: 中低收入戶 Middle-low-income Households | O5: 非低收入戶及 非中低收入戶 Non-low-income and Non-middle-low-income Households | S5: 總 計 Total | W5: 未滿18歲 under 18 years | AA5: 18歲-未滿65歲 18-under 65 years | AE5: 65歲以上 65 years & over
C6: 人次 Person-times | F6: 金額 (千元) Amounts (NT$1,000) | G6: 人次 Person-times | J6: 金額 (千元) Amounts (NT$1,000) | K6: 人次 Person-times | N6: 金額 (千元) Amounts (NT$1,000) | O6: 人次 Person-times | R6: 金額 (千元) Amounts (NT$1,000) | S6: 人次 Person-times | V6: 金額 (千元) Amounts (NT$1,000) | W6: 人次 Person-times | Z6: 金額 (千元) Amounts (NT$1,000) | AA6: 人次 Person-times | AD6: 金額 (千元) Amounts (NT$1,000) | AE6: 人次 Person-times | AH6: 金額 (千元) Amounts (NT$1,000)
C7: 計 Subtotal | D7: 男 Male | E7: 女 Female | G7: 計 Subtotal | H7: 男 Male | I7: 女 Female | K7: 計 Subtotal | L7: 男 Male | M7: 女 Female | O7: 計 Subtotal | P7: 男 Male | Q7: 女 Female | S7: 合計 Subtotal | T7: 男 Male | U7: 女 Female | W7: 合計 Subtotal | X7: 男 Male | Y7: 女 Female | AA7: 合計 Subtotal | AB7: 男 Male | AC7: 女 Female | AE7: 合計 Subtotal | AF7: 男 Male | AG7: 女 Female
A8: 總計 | B8: Total | C8: 62895 | D8: 33815 | E8: 29080 | F8: 570944.61 | G8: 4201 | H8: 2857 | I8: 1344 | J8: 57653.365 | K8: 1070 | L8: 672 | M8: 398 | N8: 13850.125 | O8: 57624 | P8: 30286 | Q8: 27338 | R8: 499441.12 | S8: 62895 | T8: 33815 | U8: 29080 | V8: 570944.61 | W8: 5042 | X8: 2906 | Y8: 2136 | Z8: 55771.989 | AA8: 21930 | AB8: 12878 | AC8: 9052 | AD8: 243370.71 | AE8: 35923 | AF8: 18031 | AG8: 17892 | AH8: 271801.92
A9: 新北市 | B9: New Taipei City | C9: 10662 | D9: 5565 | E9: 5097 | F9: 96887.898 | G9: 591 | H9: 383 | I9: 208 | J9: 6843.816 | K9: 130 | L9: 95 | M9: 35 | N9: 1194.123 | O9: 9941 | P9: 5087 | Q9: 4854 | R9: 88849.959 | S9: 10662 | T9: 5565 | U9: 5097 | V9: 96887.898 | W9: 899 | X9: 534 | Y9: 365 | Z9: 8965.123 | AA9: 3866 | AB9: 2246 | AC9: 1620 | AD9: 41575.598 | AE9: 5897 | AF9: 2785 | AG9: 3112 | AH9: 46347.177
A10: 臺北市 | B10: Taipei City | C10: 7377 | D10: 3796 | E10: 3581 | F10: 67322.015 | G10: 799 | H10: 493 | I10: 306 | J10: 9218.758 | K10: 62 | L10: 41 | M10: 21 | N10: 793.58 | O10: 6516 | P10: 3262 | Q10: 3254 | R10: 57309.677 | S10: 7377 | T10: 3796 | U10: 3581 | V10: 67322.015 | W10: 585 | X10: 318 | Y10: 267 | Z10: 5687.942 | AA10: 2583 | AB10: 1512 | AC10: 1071 | AD10: 27056.369 | AE10: 4209 | AF10: 1966 | AG10: 2243 | AH10: 34577.704
A11: 桃園市 | B11: Taoyuan City | C11: 4361 | D11: 2321 | E11: 2040 | F11: 41333.398 | G11: 230 | H11: 139 | I11: 91 | J11: 3516.471 | K11: 58 | L11: 33 | M11: 25 | N11: 805.4 | O11: 4073 | P11: 2149 | Q11: 1924 | R11: 37011.527 | S11: 4361 | T11: 2321 | U11: 2040 | V11: 41333.398 | W11: 518 | X11: 302 | Y11: 216 | Z11: 5825.489 | AA11: 1633 | AB11: 910 | AC11: 723 | AD11: 18882.622 | AE11: 2210 | AF11: 1109 | AG11: 1101 | AH11: 16625.287
A12: 臺中市 | B12: Taichung City | C12: 7310 | D12: 3949 | E12: 3361 | F12: 62868.3 | G12: 454 | H12: 298 | I12: 156 | J12: 6279.759 | K12: 119 | L12: 63 | M12: 56 | N12: 1325.197 | O12: 6737 | P12: 3588 | Q12: 3149 | R12: 55263.344 | S12: 7310 | T12: 3949 | U12: 3361 | V12: 62868.3 | W12: 791 | X12: 457 | Y12: 334 | Z12: 8836.939 | AA12: 2646 | AB12: 1550 | AC12: 1096 | AD12: 27821.419 | AE12: 3873 | AF12: 1942 | AG12: 1931 | AH12: 26209.942
A13: 臺南市 | B13: Tainan City | C13: 4427 | D13: 2399 | E13: 2028 | F13: 40624.55 | G13: 229 | H13: 156 | I13: 73 | J13: 3609.743 | K13: 71 | L13: 46 | M13: 25 | N13: 1008.109 | O13: 4127 | P13: 2197 | Q13: 1930 | R13: 36006.698 | S13: 4427 | T13: 2399 | U13: 2028 | V13: 40624.55 | W13: 327 | X13: 179 | Y13: 148 | Z13: 4055.085 | AA13: 1614 | AB13: 968 | AC13: 646 | AD13: 18280.924 | AE13: 2486 | AF13: 1252 | AG13: 1234 | AH13: 18288.541
A14: 高雄市 | B14: Kaohsiung City | C14: 7457 | D14: 4014 | E14: 3443 | F14: 71819.405 | G14: 523 | H14: 369 | I14: 154 | J14: 7895.597 | K14: 168 | L14: 93 | M14: 75 | N14: 2609.924 | O14: 6766 | P14: 3552 | Q14: 3214 | R14: 61313.884 | S14: 7457 | T14: 4014 | U14: 3443 | V14: 71819.405 | W14: 496 | X14: 294 | Y14: 202 | Z14: 5872.375 | AA14: 2727 | AB14: 1566 | AC14: 1161 | AD14: 32231.662 | AE14: 4234 | AF14: 2154 | AG14: 2080 | AH14: 33715.368
A15: 宜蘭縣 | B15: Yilan County | C15: 1521 | D15: 838 | E15: 683 | F15: 14117.578 | G15: 88 | H15: 59 | I15: 29 | J15: 1223.349 | K15: 38 | L15: 26 | M15: 12 | N15: 351.924 | O15: 1395 | P15: 753 | Q15: 642 | R15: 12542.305 | S15: 1521 | T15: 838 | U15: 683 | V15: 14117.578 | W15: 103 | X15: 50 | Y15: 53 | Z15: 1166.1 | AA15: 429 | AB15: 250 | AC15: 179 | AD15: 4620.311 | AE15: 989 | AF15: 538 | AG15: 451 | AH15: 8331.167
A16: 新竹縣 | B16: Hsinchu County | C16: 1274 | D16: 692 | E16: 582 | F16: 11648.483 | G16: 50 | H16: 36 | I16: 14 | J16: 1220.7 | K16: 6 | L16: 2 | M16: 4 | N16: 34.25 | O16: 1218 | P16: 654 | Q16: 564 | R16: 10393.533 | S16: 1274 | T16: 692 | U16: 582 | V16: 11648.483 | W16: 136 | X16: 72 | Y16: 64 | Z16: 1607.82 | AA16: 413 | AB16: 236 | AC16: 177 | AD16: 4675.048 | AE16: 725 | AF16: 384 | AG16: 341 | AH16: 5365.615
A17: 苗栗縣 | B17: Miaoli County | C17: 1908 | D17: 1084 | E17: 824 | F17: 16330.551 | G17: 76 | H17: 62 | I17: 14 | J17: 1243.099 | K17: 25 | L17: 16 | M17: 9 | N17: 391.175 | O17: 1807 | P17: 1006 | Q17: 801 | R17: 14696.277 | S17: 1908 | T17: 1084 | U17: 824 | V17: 16330.551 | W17: 102 | X17: 61 | Y17: 41 | Z17: 1274.496 | AA17: 566 | AB17: 337 | AC17: 229 | AD17: 6198.074 | AE17: 1240 | AF17: 686 | AG17: 554 | AH17: 8857.981
A18: 彰化縣 | B18: Changhua County | C18: 3914 | D18: 2217 | E18: 1697 | F18: 31240.848 | G18: 196 | H18: 137 | I18: 59 | J18: 2739.618 | K18: 123 | L18: 78 | M18: 45 | N18: 1264.475 | O18: 3595 | P18: 2002 | Q18: 1593 | R18: 27236.755 | S18: 3914 | T18: 2217 | U18: 1697 | V18: 31240.848 | W18: 260 | X18: 167 | Y18: 93 | Z18: 2880.135 | AA18: 1275 | AB18: 775 | AC18: 500 | AD18: 13186.354 | AE18: 2379 | AF18: 1275 | AG18: 1104 | AH18: 15174.359
A19: 南投縣 | B19: Nantou County | C19: 2071 | D19: 1204 | E19: 867 | F19: 16290.674 | G19: 108 | H19: 80 | I19: 28 | J19: 1214.08 | K19: 43 | L19: 29 | M19: 14 | N19: 1012.4 | O19: 1920 | P19: 1095 | Q19: 825 | R19: 14064.194 | S19: 2071 | T19: 1204 | U19: 867 | V19: 16290.674 | W19: 85 | X19: 56 | Y19: 29 | Z19: 1038.8 | AA19: 538 | AB19: 312 | AC19: 226 | AD19: 6226.379 | AE19: 1448 | AF19: 836 | AG19: 612 | AH19: 9025.495
... A30: 連江縣 | B30: Lienchiang County | C30: 16 | D30: 9 | E30: 7 | F30: 168.05 | G30: 0 | H30: 0 | I30: 0 | J30: 0 | K30: 0 | L30: 0 | M30: 0 | N30: 0 | O30: 16 | P30: 9 | Q30: 7 | R30: 168.05 | S30: 16 | T30: 9 | U30: 7 | V30: 168.05 | W30: 3 | X30: 1 | Y30: 2 | Z30: 19 | AA30: 9 | AB30: 6 | AC30: 3 | AD30: 119 | AE30: 4 | AF30: 2 | AG30: 2 | AH30: 30.05
A31: 資料來源：直轄市、縣(市)政府。
A32: Source : County and City Government.
A33: 更新日期：2023/2/23

Sheet 2021
A1: 身心障礙者生活輔助器具補助Auxiliary Appliances Assistance for the Disabled
A3: 110年,2021 | C3: =IF(C8=SUM(C9:C30),"",SUM(C9:C30)) | D3: =IF(D8=SUM(D9:D30),"",SUM(D9:D30)) | E3: =IF(E8=SUM(E9:E30),"",SUM(E9:E30)) | F3: =IF(F8=SUM(F9:F30),"",SUM(F9:F30)) | G3: =IF(G8=SUM(G9:G30),"",SUM(G9:G30)) | H3: =IF(H8=SUM(H9:H30),"",SUM(H9:H30)) | I3: =IF(I8=SUM(I9:I30),"",SUM(I9:I30)) | J3: =IF(J8=SUM(J9:J30),"",SUM(J9:J30)) | ... AH3: =IF(AH8=SUM(AH9:AH30),"",SUM(AH9:AH30))
A4: 區域別 Locality | C4: 生活輔助器具補助 Auxiliary Appliances Assistance | S4: 依年齡別分 By years
C5: 總計 Total | G5: 低收入戶 Low-income Households | K5: 中低收入戶 Middle-low-income Households | O5: 非低收入戶及 非中低收入戶 Non-low-income and Non-middle-low-income Households | S5: 總 計 Total | W5: 未滿18歲 under 18 years | AA5: 18歲-未滿65歲 18-under 65 years | AE5: 65歲以上 65 years & over
C6: 人次 Person-times | F6: 金額 (千元) Amounts (NT$1,000) | G6: 人次 Person-times | J6: 金額 (千元) Amounts (NT$1,000) | K6: 人次 Person-times | N6: 金額 (千元) Amounts (NT$1,000) | O6: 人次 Person-times | R6: 金額 (千元) Amounts (NT$1,000) | S6: 人次 Person-times | V6: 金額 (千元) Amounts (NT$1,000) | W6: 人次 Person-times | Z6: 金額 (千元) Amounts (NT$1,000) | AA6: 人次 Person-times | AD6: 金額 (千元) Amounts (NT$1,000) | AE6: 人次 Person-times | AH6: 金額 (千元) Amounts (NT$1,000)
C7: 計 Subtotal | D7: 男 Male | E7: 女 Female | G7: 計 Subtotal | H7: 男 Male | I7: 女 Female | K7: 計 Subtotal | L7: 男 Male | M7: 女 Female | O7: 計 Subtotal | P7: 男 Male | Q7: 女 Female | S7: 合計 Subtotal | T7: 男 Male | U7: 女 Female | W7: 合計 Subtotal | X7: 男 Male | Y7: 女 Female | AA7: 合計 Subtotal | AB7: 男 Male | AC7: 女 Female | AE7: 合計 Subtotal | AF7: 男 Male | AG7: 女 Female
A8: 總計 | B8: Total | C8: 61553 | D8: 33618 | E8: 27935 | F8: 564874.92 | G8: 4426 | H8: 3070 | I8: 1356 | J8: 58288.976 | K8: 1149 | L8: 723 | M8: 426 | N8: 14546.921 | O8: 55978 | P8: 29825 | Q8: 26153 | R8: 492039.02 | S8: 61554 | T8: 33611 | U8: 27943 | V8: 564775.47 | W8: 4600 | X8: 2645 | Y8: 1955 | Z8: 51062.463 | AA8: 22554 | AB8: 13593 | AC8: 8961 | AD8: 252796.66 | AE8: 34400 | AF8: 17373 | AG8: 17027 | AH8: 260916.35
A9: 新北市 | B9: New Taipei City | C9: 10767 | D9: 5678 | E9: 5089 | F9: 96512.834 | G9: 692 | H9: 488 | I9: 204 | J9: 7433.929 | K9: 111 | L9: 71 | M9: 40 | N9: 1182.8 | O9: 9964 | P9: 5119 | Q9: 4845 | R9: 87896.105 | S9: 10767 | T9: 5678 | U9: 5089 | V9: 96512.834 | W9: 767 | X9: 419 | Y9: 348 | Z9: 7612.098 | AA9: 3832 | AB9: 2313 | AC9: 1519 | AD9: 40487.967 | AE9: 6168 | AF9: 2946 | AG9: 3222 | AH9: 48412.769
A10: 臺北市 | B10: Taipei City | C10: 7064 | D10: 3651 | E10: 3413 | F10: 61302.756 | G10: 722 | H10: 458 | I10: 264 | J10: 7595.388 | K10: 82 | L10: 51 | M10: 31 | N10: 765.701 | O10: 6260 | P10: 3142 | Q10: 3118 | R10: 52941.667 | S10: 7064 | T10: 3651 | U10: 3413 | V10: 61302.756 | W10: 531 | X10: 307 | Y10: 224 | Z10: 5192.025 | AA10: 2738 | AB10: 1552 | AC10: 1186 | AD10: 27696.702 | AE10: 3795 | AF10: 1792 | AG10: 2003 | AH10: 28414.029
A11: 桃園市 | B11: Taoyuan City | C11: 4082 | D11: 2322 | E11: 1760 | F11: 41577.128 | G11: 277 | H11: 174 | I11: 103 | J11: 4406.258 | K11: 59 | L11: 42 | M11: 17 | N11: 886.855 | O11: 3746 | P11: 2106 | Q11: 1640 | R11: 36284.015 | S11: 4082 | T11: 2322 | U11: 1760 | V11: 41577.128 | W11: 502 | X11: 296 | Y11: 206 | Z11: 5740.365 | AA11: 1688 | AB11: 1008 | AC11: 680 | AD11: 21332.424 | AE11: 1892 | AF11: 1018 | AG11: 874 | AH11: 14504.339
A12: 臺中市 | B12: Taichung City | C12: 7098 | D12: 3918 | E12: 3180 | F12: 61906.132 | G12: 453 | H12: 315 | I12: 138 | J12: 6094.561 | K12: 130 | L12: 80 | M12: 50 | N12: 1663.482 | O12: 6515 | P12: 3523 | Q12: 2992 | R12: 54148.089 | S12: 7098 | T12: 3918 | U12: 3180 | V12: 61906.132 | W12: 718 | X12: 397 | Y12: 321 | Z12: 8314.645 | AA12: 2764 | AB12: 1606 | AC12: 1158 | AD12: 29509.716 | AE12: 3616 | AF12: 1915 | AG12: 1701 | AH12: 24081.771
A13: 臺南市 | B13: Tainan City | C13: 4078 | D13: 2249 | E13: 1829 | F13: 36922.342 | G13: 212 | H13: 151 | I13: 61 | J13: 2956.548 | K13: 76 | L13: 44 | M13: 32 | N13: 1000.525 | O13: 3790 | P13: 2054 | Q13: 1736 | R13: 32965.269 | S13: 4078 | T13: 2249 | U13: 1829 | V13: 36922.342 | W13: 297 | X13: 174 | Y13: 123 | Z13: 3500.845 | AA13: 1593 | AB13: 945 | AC13: 648 | AD13: 17681.385 | AE13: 2188 | AF13: 1130 | AG13: 1058 | AH13: 15740.112
A14: 高雄市 | B14: Kaohsiung City | C14: 7863 | D14: 4305 | E14: 3558 | F14: 78757.544 | G14: 613 | H14: 398 | I14: 215 | J14: 8873.585 | K14: 176 | L14: 115 | M14: 61 | N14: 2512.705 | O14: 7074 | P14: 3792 | Q14: 3282 | R14: 67371.254 | S14: 7863 | T14: 4305 | U14: 3558 | V14: 78757.544 | W14: 468 | X14: 299 | Y14: 169 | Z14: 5151.145 | AA14: 3038 | AB14: 1833 | AC14: 1205 | AD14: 36853.977 | AE14: 4357 | AF14: 2173 | AG14: 2184 | AH14: 36752.422
A15: 宜蘭縣 | B15: Yilan County | C15: 1362 | D15: 745 | E15: 617 | F15: 13609.121 | G15: 82 | H15: 63 | I15: 19 | J15: 1353.925 | K15: 44 | L15: 28 | M15: 16 | N15: 596.98 | O15: 1236 | P15: 654 | Q15: 582 | R15: 11658.216 | S15: 1362 | T15: 745 | U15: 617 | V15: 13609.121 | W15: 79 | X15: 40 | Y15: 39 | Z15: 985.76 | AA15: 470 | AB15: 293 | AC15: 177 | AD15: 6094.399 | AE15: 813 | AF15: 412 | AG15: 401 | AH15: 6528.962
A16: 新竹縣 | B16: Hsinchu County | C16: 1163 | D16: 654 | E16: 509 | F16: 10525.535 | G16: 47 | H16: 30 | I16: 17 | J16: 432.69 | K16: 11 | L16: 5 | M16: 6 | N16: 192 | O16: 1105 | P16: 619 | Q16: 486 | R16: 9900.845 | S16: 1163 | T16: 654 | U16: 509 | V16: 10525.535 | W16: 135 | X16: 81 | Y16: 54 | Z16: 1676.65 | AA16: 388 | AB16: 223 | AC16: 165 | AD16: 4033.718 | AE16: 640 | AF16: 350 | AG16: 290 | AH16: 4815.167
A17: 苗栗縣 | B17: Miaoli County | C17: 1394 | D17: 799 | E17: 595 | F17: 12229.188 | G17: 73 | H17: 55 | I17: 18 | J17: 1442.839 | K17: 4 | L17: 4 | M17: 0 | N17: 28 | O17: 1317 | P17: 740 | Q17: 577 | R17: 10758.349 | S17: 1395 | T17: 792 | U17: 603 | V17: 12129.738 | W17: 82 | X17: 55 | Y17: 27 | Z17: 1003.5 | AA17: 411 | AB17: 254 | AC17: 157 | AD17: 4675.99 | AE17: 902 | AF17: 483 | AG17: 419 | AH17: 6450.248
A18: 彰化縣 | B18: Changhua County | C18: 3740 | D18: 2080 | E18: 1660 | F18: 31946.434 | G18: 204 | H18: 151 | I18: 53 | J18: 2955.219 | K18: 134 | L18: 81 | M18: 53 | N18: 1748.27 | O18: 3402 | P18: 1848 | Q18: 1554 | R18: 27242.945 | S18: 3740 | T18: 2080 | U18: 1660 | V18: 31946.434 | W18: 265 | X18: 165 | Y18: 100 | Z18: 3041.64 | AA18: 1264 | AB18: 761 | AC18: 503 | AD18: 14071.175 | AE18: 2211 | AF18: 1154 | AG18: 1057 | AH18: 14833.619
A19: 南投縣 | B19: Nantou County | C19: 2082 | D19: 1169 | E19: 913 | F19: 17677.1 | G19: 112 | H19: 87 | I19: 25 | J19: 1841.6 | K19: 49 | L19: 39 | M19: 10 | N19: 691.25 | O19: 1921 | P19: 1043 | Q19: 878 | R19: 15144.25 | S19: 2082 | T19: 1169 | U19: 913 | V19: 17677.1 | W19: 93 | X19: 52 | Y19: 41 | Z19: 1209.4 | AA19: 601 | AB19: 393 | AC19: 208 | AD19: 7006.575 | AE19: 1388 | AF19: 724 | AG19: 664 | AH19: 9461.125
... A30: 連江縣 | B30: Lienchiang County | C30: 11 | D30: 7 | E30: 4 | F30: 139.5 | G30: 1 | H30: 1 | I30: 0 | J30: 31 | K30: 0 | L30: 0 | M30: 0 | N30: 0 | O30: 10 | P30: 6 | Q30: 4 | R30: 108.5 | S30: 11 | T30: 7 | U30: 4 | V30: 139.5 | W30: 1 | X30: 1 | Y30: 0 | Z30: 7 | AA30: 5 | AB30: 4 | AC30: 1 | AD30: 99.5 | AE30: 5 | AF30: 2 | AG30: 3 | AH30: 33
A31: 資料來源：直轄市、縣(市)政府。
A32: Source : County and City Government.
A33: 更新日期：2022/2/23

Sheet 2020
A1: 身心障礙者生活輔助器具補助Auxiliary Appliances Assistance for the Disabled
A3: 109年,2020 | C3: =IF(C8=SUM(C9:C30),"",SUM(C9:C30)) | D3: =IF(D8=SUM(D9:D30),"",SUM(D9:D30)) | E3: =IF(E8=SUM(E9:E30),"",SUM(E9:E30)) | F3: =IF(F8=SUM(F9:F30),"",SUM(F9:F30)) | G3: =IF(G8=SUM(G9:G30),"",SUM(G9:G30)) | H3: =IF(H8=SUM(H9:H30),"",SUM(H9:H30)) | I3: =IF(I8=SUM(I9:I30),"",SUM(I9:I30)) | J3: =IF(J8=SUM(J9:J30),"",SUM(J9:J30)) | ... AH3: =IF(AH8=SUM(AH9:AH30),"",SUM(AH9:AH30))
A4: 區域別 Locality | C4: 生活輔助器具補助 Auxiliary Appliances Assistance | S4: 依年齡別分 By years
C5: 總計 Total | G5: 低收入戶 Low-income Households | K5: 中低收入戶 Middle-low-income Households | O5: 非低收入戶及 非中低收入戶 Non-low-income and Non-middle-low-income Households | S5: 總 計 Total | W5: 未滿18歲 under 18 years | AA5: 18歲-未滿65歲 18-under 65 years | AE5: 65歲以上 65 years & over
C6: 人次 Person-times | F6: 金額 (千元) Amounts (NT$1,000) | G6: 人次 Person-times | J6: 金額 (千元) Amounts (NT$1,000) | K6: 人次 Person-times | N6: 金額 (千元) Amounts (NT$1,000) | O6: 人次 Person-times | R6: 金額 (千元) Amounts (NT$1,000) | S6: 人次 Person-times | V6: 金額 (千元) Amounts (NT$1,000) | W6: 人次 Person-times | Z6: 金額 (千元) Amounts (NT$1,000) | AA6: 人次 Person-times | AD6: 金額 (千元) Amounts (NT$1,000) | AE6: 人次 Person-times | AH6: 金額 (千元) Amounts (NT$1,000)
C7: 計 Subtotal | D7: 男 Male | E7: 女 Female | G7: 計 Subtotal | H7: 男 Male | I7: 女 Female | K7: 計 Subtotal | L7: 男 Male | M7: 女 Female | O7: 計 Subtotal | P7: 男 Male | Q7: 女 Female | S7: 合計 Subtotal | T7: 男 Male | U7: 女 Female | W7: 合計 Subtotal | X7: 男 Male | Y7: 女 Female | AA7: 合計 Subtotal | AB7: 男 Male | AC7: 女 Female | AE7: 合計 Subtotal | AF7: 男 Male | AG7: 女 Female
A8: 總計 | B8: Total | C8: 64892 | D8: 35635 | E8: 29257 | F8: 619762.49 | G8: 4735 | H8: 3297 | I8: 1438 | J8: 65741.153 | K8: 1247 | L8: 766 | M8: 481 | N8: 15181.745 | O8: 58910 | P8: 31572 | Q8: 27338 | R8: 538839.59 | S8: 64892 | T8: 35635 | U8: 29257 | V8: 619762.49 | W8: 5338 | X8: 3123 | Y8: 2215 | Z8: 61819.716 | AA8: 24742 | AB8: 14838 | AC8: 9904 | AD8: 286225.96 | AE8: 34812 | AF8: 17674 | AG8: 17138 | AH8: 271716.81
A9: 新北市 | B9: New Taipei City | C9: 10958 | D9: 5877 | E9: 5081 | F9: 105172.21 | G9: 668 | H9: 449 | I9: 219 | J9: 8559.764 | K9: 135 | L9: 91 | M9: 44 | N9: 1613.948 | O9: 10155 | P9: 5337 | Q9: 4818 | R9: 94998.499 | S9: 10958 | T9: 5877 | U9: 5081 | V9: 105172.21 | W9: 877 | X9: 504 | Y9: 373 | Z9: 10339.539 | AA9: 4214 | AB9: 2507 | AC9: 1707 | AD9: 47382.054 | AE9: 5867 | AF9: 2866 | AG9: 3001 | AH9: 47450.618
A10: 臺北市 | B10: Taipei City | C10: 7757 | D10: 4104 | E10: 3653 | F10: 67300.469 | G10: 785 | H10: 523 | I10: 262 | J10: 9050.233 | K10: 102 | L10: 60 | M10: 42 | N10: 1037.73 | O10: 6870 | P10: 3521 | Q10: 3349 | R10: 57212.506 | S10: 7757 | T10: 4104 | U10: 3653 | V10: 67300.469 | W10: 682 | X10: 392 | Y10: 290 | Z10: 6705.345 | AA10: 3049 | AB10: 1756 | AC10: 1293 | AD10: 30825.954 | AE10: 4026 | AF10: 1956 | AG10: 2070 | AH10: 29769.17
A11: 桃園市 | B11: Taoyuan City | C11: 4220 | D11: 2363 | E11: 1857 | F11: 43470.466 | G11: 298 | H11: 203 | I11: 95 | J11: 5076.424 | K11: 40 | L11: 25 | M11: 15 | N11: 575.129 | O11: 3882 | P11: 2135 | Q11: 1747 | R11: 37818.913 | S11: 4220 | T11: 2363 | U11: 1857 | V11: 43470.466 | W11: 508 | X11: 301 | Y11: 207 | Z11: 5730.513 | AA11: 1811 | AB11: 1042 | AC11: 769 | AD11: 22723.821 | AE11: 1901 | AF11: 1020 | AG11: 881 | AH11: 15016.132
A12: 臺中市 | B12: Taichung City | C12: 7224 | D12: 3960 | E12: 3264 | F12: 66848.882 | G12: 535 | H12: 336 | I12: 199 | J12: 7850.534 | K12: 148 | L12: 92 | M12: 56 | N12: 1910 | O12: 6541 | P12: 3532 | Q12: 3009 | R12: 57088.348 | S12: 7224 | T12: 3960 | U12: 3264 | V12: 66848.882 | W12: 874 | X12: 472 | Y12: 402 | Z12: 10710.53 | AA12: 2909 | AB12: 1686 | AC12: 1223 | AD12: 31999.874 | AE12: 3441 | AF12: 1802 | AG12: 1639 | AH12: 24138.478
A13: 臺南市 | B13: Tainan City | C13: 5123 | D13: 2816 | E13: 2307 | F13: 48677.677 | G13: 290 | H13: 202 | I13: 88 | J13: 3999.168 | K13: 113 | L13: 70 | M13: 43 | N13: 1237.925 | O13: 4720 | P13: 2544 | Q13: 2176 | R13: 43440.584 | S13: 5123 | T13: 2816 | U13: 2307 | V13: 48677.677 | W13: 402 | X13: 239 | Y13: 163 | Z13: 5007.88 | AA13: 1970 | AB13: 1213 | AC13: 757 | AD13: 21869.826 | AE13: 2751 | AF13: 1364 | AG13: 1387 | AH13: 21799.971
A14: 高雄市 | B14: Kaohsiung City | C14: 7980 | D14: 4413 | E14: 3567 | F14: 81601.177 | G14: 634 | H14: 441 | I14: 193 | J14: 9384.214 | K14: 192 | L14: 107 | M14: 85 | N14: 2487.615 | O14: 7154 | P14: 3865 | Q14: 3289 | R14: 69729.348 | S14: 7980 | T14: 4413 | U14: 3567 | V14: 81601.177 | W14: 475 | X14: 304 | Y14: 171 | Z14: 5927.51 | AA14: 3263 | AB14: 1984 | AC14: 1279 | AD14: 39550.326 | AE14: 4242 | AF14: 2125 | AG14: 2117 | AH14: 36123.341
A15: 宜蘭縣 | B15: Yilan County | C15: 1477 | D15: 850 | E15: 627 | F15: 14942.895 | G15: 69 | H15: 58 | I15: 11 | J15: 1169.8 | K15: 32 | L15: 19 | M15: 13 | N15: 446.25 | O15: 1376 | P15: 773 | Q15: 603 | R15: 13326.845 | S15: 1477 | T15: 850 | U15: 627 | V15: 14942.895 | W15: 111 | X15: 62 | Y15: 49 | Z15: 1355.35 | AA15: 504 | AB15: 330 | AC15: 174 | AD15: 6598.398 | AE15: 862 | AF15: 458 | AG15: 404 | AH15: 6989.147
A16: 新竹縣 | B16: Hsinchu County | C16: 1437 | D16: 845 | E16: 592 | F16: 14301.292 | G16: 95 | H16: 77 | I16: 18 | J16: 1264.498 | K16: 14 | L16: 5 | M16: 9 | N16: 222.75 | O16: 1328 | P16: 763 | Q16: 565 | R16: 12814.044 | S16: 1437 | T16: 845 | U16: 592 | V16: 14301.292 | W16: 150 | X16: 80 | Y16: 70 | Z16: 1942.1 | AA16: 486 | AB16: 300 | AC16: 186 | AD16: 6036.771 | AE16: 801 | AF16: 465 | AG16: 336 | AH16: 6322.421
A17: 苗栗縣 | B17: Miaoli County | C17: 1511 | D17: 919 | E17: 592 | F17: 14298.797 | G17: 72 | H17: 61 | I17: 11 | J17: 989.76 | K17: 10 | L17: 7 | M17: 3 | N17: 128.875 | O17: 1429 | P17: 851 | Q17: 578 | R17: 13180.162 | S17: 1511 | T17: 919 | U17: 592 | V17: 14298.797 | W17: 94 | X17: 54 | Y17: 40 | Z17: 1160.5 | AA17: 449 | AB17: 294 | AC17: 155 | AD17: 6133.398 | AE17: 968 | AF17: 571 | AG17: 397 | AH17: 7004.899
A18: 彰化縣 | B18: Changhua County | C18: 3583 | D18: 2012 | E18: 1571 | F18: 30832.933 | G18: 194 | H18: 128 | I18: 66 | J18: 2418.23 | K18: 104 | L18: 60 | M18: 44 | N18: 1312.704 | O18: 3285 | P18: 1824 | Q18: 1461 | R18: 27101.999 | S18: 3583 | T18: 2012 | U18: 1571 | V18: 30832.933 | W18: 249 | X18: 151 | Y18: 98 | Z18: 2595.589 | AA18: 1240 | AB18: 733 | AC18: 507 | AD18: 13534.826 | AE18: 2094 | AF18: 1128 | AG18: 966 | AH18: 14702.518
A19: 南投縣 | B19: Nantou County | C19: 2065 | D19: 1180 | E19: 885 | F19: 16306.661 | G19: 87 | H19: 63 | I19: 24 | J19: 992.55 | K19: 48 | L19: 27 | M19: 21 | N19: 652.199 | O19: 1930 | P19: 1090 | Q19: 840 | R19: 14661.912 | S19: 2065 | T19: 1180 | U19: 885 | V19: 16306.661 | W19: 88 | X19: 51 | Y19: 37 | Z19: 780 | AA19: 571 | AB19: 371 | AC19: 200 | AD19: 6479.346 | AE19: 1406 | AF19: 758 | AG19: 648 | AH19: 9047.315
... A30: 連江縣 | B30: Lienchiang County | C30: 23 | D30: 15 | E30: 8 | F30: 307.18 | G30: 0 | H30: 0 | I30: 0 | J30: 0 | K30: 0 | L30: 0 | M30: 0 | N30: 0 | O30: 23 | P30: 15 | Q30: 8 | R30: 307.18 | S30: 23 | T30: 15 | U30: 8 | V30: 307.18 | W30: 2 | X30: 2 | Y30: 0 | Z30: 10.18 | AA30: 6 | AB30: 6 | AC30: 0 | AD30: 127.75 | AE30: 15 | AF30: 7 | AG30: 8 | AH30: 169.25
A31: 資料來源：直轄市、縣(市)政府。
A32: Source : County and City Government.
A33: 更新日期：2021/2/22

Sheet 2019
A1: 身心障礙者生活輔助器具補助Auxiliary Appliances Assistance for the Disabled
A3: 108年,2019
A4: 區域別 Locality | C4: 生活輔助器具補助 Auxiliary Appliances Assistance | S4: 依年齡別分 By years
C5: 總計 Total | G5: 低收入戶 Low-income Households | K5: 中低收入戶 Middle-low-income Households | O5: 非低收入戶及 非中低收入戶 Non-low-income and Non-middle-low-income Households | S5: 總 計 Total | W5: 未滿18歲 under 18 years | AA5: 18歲-未滿65歲 18-under 65 years | AE5: 65歲以上 65 years & over
C6: 人次 Person-times | F6: 金額 (千元) Amounts (NT$1,000) | G6: 人次 Person-times | J6: 金額 (千元) Amounts (NT$1,000) | K6: 人次 Person-times | N6: 金額 (千元) Amounts (NT$1,000) | O6: 人次 Person-times | R6: 金額 (千元) Amounts (NT$1,000) | S6: 人次 Person-times | V6: 金額 (千元) Amounts (NT$1,000) | W6: 人次 Person-times | Z6: 金額 (千元) Amounts (NT$1,000) | AA6: 人次 Person-times | AD6: 金額 (千元) Amounts (NT$1,000) | AE6: 人次 Person-times | AH6: 金額 (千元) Amounts (NT$1,000)
C7: 計 Subtotal | D7: 男 Male | E7: 女 Female | G7: 計 Subtotal | H7: 男 Male | I7: 女 Female | K7: 計 Subtotal | L7: 男 Male | M7: 女 Female | O7: 計 Subtotal | P7: 男 Male | Q7: 女 Female | S7: 合計 Subtotal | T7: 男 Male | U7: 女 Female | W7: 合計 Subtotal | X7: 男 Male | Y7: 女 Female | AA7: 合計 Subtotal | AB7: 男 Male | AC7: 女 Female | AE7: 合計 Subtotal | AF7: 男 Male | AG7: 女 Female
A8: 總計 | B8: Total | C8: 68937 | D8: 37665 | E8: 31272 | F8: 653820.36 | G8: 5026 | H8: 3552 | I8: 1474 | J8: 67436.507 | K8: 1156 | L8: 697 | M8: 459 | N8: 14730.635 | O8: 62755 | P8: 33416 | Q8: 29339 | R8: 571653.22 | S8: 68937 | T8: 37665 | U8: 31272 | V8: 653820.36 | W8: 5356 | X8: 3108 | Y8: 2248 | Z8: 60824.382 | AA8: 26607 | AB8: 15974 | AC8: 10633 | AD8: 307770.37 | AE8: 36974 | AF8: 18583 | AG8: 18391 | AH8: 285225.61
A9: 新北市 | B9: New Taipei City | C9: 10774 | D9: 5795 | E9: 4979 | F9: 100217.71 | G9: 599 | H9: 434 | I9: 165 | J9: 8261.961 | K9: 131 | L9: 82 | M9: 49 | N9: 1555.715 | O9: 10044 | P9: 5279 | Q9: 4765 | R9: 90400.035 | S9: 10774 | T9: 5795 | U9: 4979 | V9: 100217.71 | W9: 983 | X9: 561 | Y9: 422 | Z9: 10062.499 | AA9: 4163 | AB9: 2491 | AC9: 1672 | AD9: 47413.625 | AE9: 5628 | AF9: 2743 | AG9: 2885 | AH9: 42741.587
A10: 臺北市 | B10: Taipei City | C10: 9219 | D10: 4813 | E10: 4406 | F10: 74646.983 | G10: 767 | H10: 497 | I10: 270 | J10: 7152.996 | K10: 84 | L10: 49 | M10: 35 | N10: 745.05 | O10: 8368 | P10: 4267 | Q10: 4101 | R10: 66748.937 | S10: 9219 | T10: 4813 | U10: 4406 | V10: 74646.983 | W10: 791 | X10: 436 | Y10: 355 | Z10: 7320.272 | AA10: 3588 | AB10: 2021 | AC10: 1567 | AD10: 34588.407 | AE10: 4840 | AF10: 2356 | AG10: 2484 | AH10: 32738.304
A11: 桃園市 | B11: Taoyuan City | C11: 4465 | D11: 2517 | E11: 1948 | F11: 46466.901 | G11: 338 | H11: 234 | I11: 104 | J11: 5203.888 | K11: 24 | L11: 10 | M11: 14 | N11: 296.25 | O11: 4103 | P11: 2273 | Q11: 1830 | R11: 40966.763 | S11: 4465 | T11: 2517 | U11: 1948 | V11: 46466.901 | W11: 551 | X11: 303 | Y11: 248 | Z11: 6363.682 | AA11: 1843 | AB11: 1089 | AC11: 754 | AD11: 23162.674 | AE11: 2071 | AF11: 1125 | AG11: 946 | AH11: 16940.545
A12: 臺中市 | B12: Taichung City | C12: 7275 | D12: 3988 | E12: 3287 | F12: 71076.412 | G12: 548 | H12: 384 | I12: 164 | J12: 7537.662 | K12: 154 | L12: 98 | M12: 56 | N12: 2212.074 | O12: 6573 | P12: 3506 | Q12: 3067 | R12: 61326.676 | S12: 7275 | T12: 3988 | U12: 3287 | V12: 71076.412 | W12: 755 | X12: 433 | Y12: 322 | Z12: 9082.163 | AA12: 3063 | AB12: 1766 | AC12: 1297 | AD12: 36890.292 | AE12: 3457 | AF12: 1789 | AG12: 1668 | AH12: 25103.957
A13: 臺南市 | B13: Tainan City | C13: 5309 | D13: 2920 | E13: 2389 | F13: 50431.399 | G13: 332 | H13: 236 | I13: 96 | J13: 4873.252 | K13: 85 | L13: 50 | M13: 35 | N13: 990.975 | O13: 4892 | P13: 2634 | Q13: 2258 | R13: 44567.172 | S13: 5309 | T13: 2920 | U13: 2389 | V13: 50431.399 | W13: 352 | X13: 211 | Y13: 141 | Z13: 4520.4 | AA13: 2117 | AB13: 1269 | AC13: 848 | AD13: 24116.252 | AE13: 2840 | AF13: 1440 | AG13: 1400 | AH13: 21794.747
A14: 高雄市 | B14: Kaohsiung City | C14: 8914 | D14: 4905 | E14: 4009 | F14: 89779.005 | G14: 873 | H14: 595 | I14: 278 | J14: 12093.981 | K14: 206 | L14: 133 | M14: 73 | N14: 2532.395 | O14: 7835 | P14: 4177 | Q14: 3658 | R14: 75152.629 | S14: 8914 | T14: 4905 | U14: 4009 | V14: 89779.005 | W14: 504 | X14: 314 | Y14: 190 | Z14: 6374.3 | AA14: 3744 | AB14: 2304 | AC14: 1440 | AD14: 44538.558 | AE14: 4666 | AF14: 2287 | AG14: 2379 | AH14: 38866.147
A15: 宜蘭縣 | B15: Yilan County | C15: 1477 | D15: 787 | E15: 690 | F15: 13317.696 | G15: 72 | H15: 50 | I15: 22 | J15: 856.85 | K15: 21 | L15: 8 | M15: 13 | N15: 247.375 | O15: 1384 | P15: 729 | Q15: 655 | R15: 12213.471 | S15: 1477 | T15: 787 | U15: 690 | V15: 13317.696 | W15: 96 | X15: 47 | Y15: 49 | Z15: 915.925 | AA15: 475 | AB15: 286 | AC15: 189 | AD15: 5204.409 | AE15: 906 | AF15: 454 | AG15: 452 | AH15: 7197.362
A16: 新竹縣 | B16: Hsinchu County | C16: 1224 | D16: 699 | E16: 525 | F16: 12614.933 | G16: 43 | H16: 40 | I16: 3 | J16: 505.829 | K16: 7 | L16: 2 | M16: 5 | N16: 110 | O16: 1174 | P16: 657 | Q16: 517 | R16: 11999.104 | S16: 1224 | T16: 699 | U16: 525 | V16: 12614.933 | W16: 133 | X16: 81 | Y16: 52 | Z16: 2012.5 | AA16: 426 | AB16: 270 | AC16: 156 | AD16: 5249.021 | AE16: 665 | AF16: 348 | AG16: 317 | AH16: 5353.412
A17: 苗栗縣 | B17: Miaoli County | C17: 1548 | D17: 876 | E17: 672 | F17: 15808.855 | G17: 63 | H17: 44 | I17: 19 | J17: 1097.02 | K17: 22 | L17: 13 | M17: 9 | N17: 457.5 | O17: 1463 | P17: 819 | Q17: 644 | R17: 14254.335 | S17: 1548 | T17: 876 | U17: 672 | V17: 15808.855 | W17: 92 | X17: 61 | Y17: 31 | Z17: 1133.5 | AA17: 493 | AB17: 311 | AC17: 182 | AD17: 6497.494 | AE17: 963 | AF17: 504 | AG17: 459 | AH17: 8177.861
A18: 彰化縣 | B18: Changhua County | C18: 3649 | D18: 2083 | E18: 1566 | F18: 32883.917 | G18: 236 | H18: 158 | I18: 78 | J18: 3223.789 | K18: 95 | L18: 56 | M18: 39 | N18: 1184.21 | O18: 3318 | P18: 1869 | Q18: 1449 | R18: 28475.918 | S18: 3649 | T18: 2083 | U18: 1566 | V18: 32883.917 | W18: 238 | X18: 136 | Y18: 102 | Z18: 2742.31 | AA18: 1352 | AB18: 823 | AC18: 529 | AD18: 15617.28 | AE18: 2059 | AF18: 1124 | AG18: 935 | AH18: 14524.327
A19: 南投縣 | B19: Nantou County | C19: 2412 | D19: 1334 | E19: 1078 | F19: 20975.952 | G19: 136 | H19: 109 | I19: 27 | J19: 1809.605 | K19: 62 | L19: 30 | M19: 32 | N19: 897.1 | O19: 2214 | P19: 1195 | Q19: 1019 | R19: 18269.247 | S19: 2412 | T19: 1334 | U19: 1078 | V19: 20975.952 | W19: 92 | X19: 52 | Y19: 40 | Z19: 1146.73 | AA19: 740 | AB19: 456 | AC19: 284 | AD19: 8442.099 | AE19: 1580 | AF19: 826 | AG19: 754 | AH19: 11387.123
... A30: 連江縣 | B30: Lienchiang County | C30: 28 | D30: 18 | E30: 10 | F30: 216.899 | G30: 0 | H30: 0 | I30: 0 | J30: 0 | K30: 0 | L30: 0 | M30: 0 | N30: 0 | O30: 28 | P30: 18 | Q30: 10 | R30: 216.899 | S30: 28 | T30: 18 | U30: 10 | V30: 216.899 | W30: 2 | X30: 1 | Y30: 1 | Z30: 14 | AA30: 5 | AB30: 4 | AC30: 1 | AD30: 40 | AE30: 21 | AF30: 13 | AG30: 8 | AH30: 162.899
A31: 資料來源：直轄市、縣(市)政府。
A32: Source : County and City Government.
A33: 更新日期：2020/2/24

Sheet 2018
A1: 身心障礙者生活輔助器具補助Auxiliary Appliances Assistance for the Disabled
A3: 107年, 2018
A4: 區域別 Locality | C4: 生活輔助器具補助 Auxiliary Appliances Assistance
C5: 總計 Total | G5: 低收入戶 Low-income Households | K5: 中低收入戶 Middle-low-income Households | O5: 非低收入戶及 非中低收入戶 Non-low-income and Non-middle-low-income Households
C7: 人次 Person-times | F7: 金額 (千元) Amounts (NT$1,000) | G7: 人次 Person-times | J7: 金額 (千元) Amounts (NT$1,000) | K7: 人次 Person-times | N7: 金額 (千元) Amounts (NT$1,000) | O7: 人次 Person-times | R7: 金額 (千元) Amounts (NT$1,000)
C8: 計 Subtotal | D8: 男 Male | E8: 女 Female | G8: 計 Subtotal | H8: 男 Male | I8: 女 Female | K8: 計 Subtotal | L8: 男 Male | M8: 女 Female | O8: 計 Subtotal | P8: 男 Male | Q8: 女 Female
A9: 總計 | B9: Total | C9: 81695 | D9: 43792 | E9: 37903 | F9: 755083.38 | G9: 5630 | H9: 4020 | I9: 1610 | J9: 73909.616 | K9: 1362 | L9: 847 | M9: 515 | N9: 16454.119 | O9: 74703 | P9: 38925 | Q9: 35778 | R9: 664719.65
A10: 新北市 | B10: New Taipei City | C10: 12949 | D10: 6856 | E10: 6093 | F10: 98840.733 | G10: 744 | H10: 524 | I10: 220 | J10: 8044.19 | K10: 122 | L10: 82 | M10: 40 | N10: 1686.374 | O10: 12083 | P10: 6250 | Q10: 5833 | R10: 89110.169
A11: 臺北市 | B11: Taipei City | C11: 11647 | D11: 5982 | E11: 5665 | F11: 86944.152 | G11: 842 | H11: 552 | I11: 290 | J11: 9216.575 | K11: 114 | L11: 63 | M11: 51 | N11: 1072.25 | O11: 10691 | P11: 5367 | Q11: 5324 | R11: 76655.327
A12: 桃園市 | B12: Taoyuan City | C12: 4642 | D12: 2580 | E12: 2062 | F12: 49998.551 | G12: 227 | H12: 153 | I12: 74 | J12: 3205.593 | K12: 35 | L12: 24 | M12: 11 | N12: 458.925 | O12: 4380 | P12: 2403 | Q12: 1977 | R12: 46334.033
A13: 臺中市 | B13: Taichung City | C13: 8752 | D13: 4783 | E13: 3969 | F13: 86507.813 | G13: 569 | H13: 368 | I13: 201 | J13: 8053.981 | K13: 160 | L13: 100 | M13: 60 | N13: 1878.349 | O13: 8023 | P13: 4315 | Q13: 3708 | R13: 76575.483
A14: 臺南市 | B14: Tainan City | C14: 6216 | D14: 3300 | E14: 2916 | F14: 59602.293 | G14: 333 | H14: 260 | I14: 73 | J14: 4843.968 | K14: 111 | L14: 74 | M14: 37 | N14: 1127.415 | O14: 5772 | P14: 2966 | Q14: 2806 | R14: 53630.91
A15: 高雄市 | B15: Kaohsiung City | C15: 11105 | D15: 5855 | E15: 5250 | F15: 113211.15 | G15: 1006 | H15: 710 | I15: 296 | J15: 14220.723 | K15: 269 | L15: 162 | M15: 107 | N15: 3185.121 | O15: 9830 | P15: 4983 | Q15: 4847 | R15: 95805.306
A16: 宜蘭縣 | B16: Yilan County | C16: 1708 | D16: 892 | E16: 816 | F16: 16192.412 | G16: 103 | H16: 81 | I16: 22 | J16: 1438.875 | K16: 27 | L16: 9 | M16: 18 | N16: 227.25 | O16: 1578 | P16: 802 | Q16: 776 | R16: 14526.287
A17: 新竹縣 | B17: Hsinchu County | C17: 1238 | D17: 697 | E17: 541 | F17: 13222.782 | G17: 43 | H17: 38 | I17: 5 | J17: 383.99 | K17: 14 | L17: 6 | M17: 8 | N17: 202.075 | O17: 1181 | P17: 653 | Q17: 528 | R17: 12636.717
A18: 苗栗縣 | B18: Miaoli County | C18: 3128 | D18: 1690 | E18: 1438 | F18: 30557.234 | G18: 132 | H18: 109 | I18: 23 | J18: 1488.6 | K18: 35 | L18: 20 | M18: 15 | N18: 354.28 | O18: 2961 | P18: 1561 | Q18: 1400 | R18: 28714.354
A19: 彰化縣 | B19: Changhua County | C19: 4456 | D19: 2404 | E19: 2052 | F19: 43788.719 | G19: 255 | H19: 178 | I19: 77 | J19: 3663.423 | K19: 139 | L19: 94 | M19: 45 | N19: 1935.517 | O19: 4062 | P19: 2132 | Q19: 1930 | R19: 38189.779
A20: 南投縣 | B20: Nantou County | C20: 2353 | D20: 1326 | E20: 1027 | F20: 21402.984 | G20: 195 | H20: 143 | I20: 52 | J20: 2450.079 | K20: 57 | L20: 40 | M20: 17 | N20: 649.275 | O20: 2101 | P20: 1143 | Q20: 958 | R20: 18303.63
... A31: 連江縣 | B31: Lienchiang County | C31: 24 | D31: 13 | E31: 11 | F31: 237.3 | G31: 1 | H31: 0 | I31: 1 | J31: 1.2 | K31: 0 | L31: 0 | M31: 0 | N31: 0 | O31: 23 | P31: 13 | Q31: 10 | R31: 236.1
A32: 資料來源：直轄市、縣(市)政府。
A33: Source : County and City Government.
A34: 更新日期：2019/2/22

Sheet 2017
A1: 身心障礙者生活輔助器具補助Auxiliary Appliances Assistance for the Disabled
A3: 106年,2017
A4: 區域別 Locality | C4: 生活輔助器具補助 Auxiliary Appliances Assistance
C5: 總計 Total | G5: 低收入戶 Low-income Households | K5: 中低收入戶 Middle-low-income Households | O5: 非低收入戶及 非中低收入戶 Non-low-income and Non-middle-low-income Households
C7: 人次 Person-times | F7: 金額 (千元) Amounts (NT$1,000) | G7: 人次 Person-times | J7: 金額 (千元) Amounts (NT$1,000) | K7: 人次 Person-times | N7: 金額 (千元) Amounts (NT$1,000) | O7: 人次 Person-times | R7: 金額 (千元) Amounts (NT$1,000)
C8: 計 Subtotal | D8: 男 Male | E8: 女 Female | G8: 計 Subtotal | H8: 男 Male | I8: 女 Female | K8: 計 Subtotal | L8: 男 Male | M8: 女 Female | O8: 計 Subtotal | P8: 男 Male | Q8: 女 Female
A9: 總計 | B9: Total | C9: 92887 | D9: 49061 | E9: 43826 | F9: 831531.46 | G9: 5747 | H9: 3986 | I9: 1761 | J9: 78480.971 | K9: 1518 | L9: 894 | M9: 624 | N9: 18815.495 | O9: 85622 | P9: 44181 | Q9: 41441 | R9: 734235
A10: 新 北 市 | B10: New Taipei City | C10: 16167 | D10: 8359 | E10: 7808 | F10: 115344.87 | G10: 748 | H10: 496 | I10: 252 | J10: 9262.218 | K10: 147 | L10: 79 | M10: 68 | N10: 1374.73 | O10: 15272 | P10: 7784 | Q10: 7488 | R10: 104707.92
A11: 臺 北 市 | B11: Taipei City | C11: 12215 | D11: 6167 | E11: 6048 | F11: 87374.378 | G11: 879 | H11: 573 | I11: 306 | J11: 9442.763 | K11: 96 | L11: 47 | M11: 49 | N11: 992.885 | O11: 11240 | P11: 5547 | Q11: 5693 | R11: 76938.73
A12: 桃 園 市 | B12: Taoyuan City | C12: 5304 | D12: 2993 | E12: 2311 | F12: 54061.615 | G12: 236 | H12: 159 | I12: 77 | J12: 3655.007 | K12: 26 | L12: 17 | M12: 9 | N12: 740.5 | O12: 5042 | P12: 2817 | Q12: 2225 | R12: 49666.108
A13: 臺 中 市 | B13: Taichung City | C13: 8883 | D13: 4788 | E13: 4095 | F13: 88290.566 | G13: 580 | H13: 394 | I13: 186 | J13: 9383.701 | K13: 173 | L13: 91 | M13: 82 | N13: 1816.748 | O13: 8130 | P13: 4303 | Q13: 3827 | R13: 77090.117
A14: 臺 南 市 | B14: Tainan City | C14: 8055 | D14: 4197 | E14: 3858 | F14: 75237.842 | G14: 429 | H14: 287 | I14: 142 | J14: 6326.367 | K14: 150 | L14: 91 | M14: 59 | N14: 1856.289 | O14: 7476 | P14: 3819 | Q14: 3657 | R14: 67055.186
A15: 高 雄 市 | B15: Kaohsiung City | C15: 13157 | D15: 7012 | E15: 6145 | F15: 131738.64 | G15: 1076 | H15: 764 | I15: 312 | J15: 15960.822 | K15: 353 | L15: 211 | M15: 142 | N15: 4687.071 | O15: 11728 | P15: 6037 | Q15: 5691 | R15: 111090.75
A16: 宜蘭縣 | B16: Yilan County | C16: 2234 | D16: 1183 | E16: 1051 | F16: 21309.421 | G16: 114 | H16: 84 | I16: 30 | J16: 1426.8 | K16: 17 | L16: 14 | M16: 3 | N16: 336.44 | O16: 2103 | P16: 1085 | Q16: 1018 | R16: 19546.181
A17: 新竹縣 | B17: Hsinchu County | C17: 1298 | D17: 690 | E17: 608 | F17: 13527 | G17: 32 | H17: 28 | I17: 4 | J17: 301.998 | K17: 10 | L17: 5 | M17: 5 | N17: 156.75 | O17: 1256 | P17: 657 | Q17: 599 | R17: 13068.252
A18: 苗栗縣 | B18: Miaoli County | C18: 3470 | D18: 1865 | E18: 1605 | F18: 33714.089 | G18: 137 | H18: 94 | I18: 43 | J18: 1723.74 | K18: 23 | L18: 21 | M18: 2 | N18: 220.125 | O18: 3310 | P18: 1750 | Q18: 1560 | R18: 31770.224
A19: 彰化縣 | B19: Changhua County | C19: 4333 | D19: 2347 | E19: 1986 | F19: 41325.309 | G19: 199 | H19: 137 | I19: 62 | J19: 3007.344 | K19: 96 | L19: 62 | M19: 34 | N19: 1110.003 | O19: 4038 | P19: 2148 | Q19: 1890 | R19: 37207.962
A20: 南投縣 | B20: Nantou County | C20: 2193 | D20: 1191 | E20: 1002 | F20: 19781.176 | G20: 119 | H20: 85 | I20: 34 | J20: 1557.479 | K20: 40 | L20: 20 | M20: 20 | N20: 511.5 | O20: 2034 | P20: 1086 | Q20: 948 | R20: 17712.197
... A31: 連江縣 | B31: Lienchiang County | C31: 24 | D31: 15 | E31: 9 | F31: 679.795 | G31: 0 | H31: 0 | I31: 0 | J31: 0 | K31: 0 | L31: 0 | M31: 0 | N31: 0 | O31: 24 | P31: 15 | Q31: 9 | R31: 679.795
A32: 資料來源：直轄市、縣(市)政府。
A34: Source : County and City Government.
A36: 更新日期：2018/2/22

Sheet 2016
A1: 身心障礙者生活輔具補助Auxiliary Appliances Assistance for the Disabled
A3: 105年,2016
A4: 區域別 Locality | C4: 生活輔助器具補助 Auxiliary Appliances Assistance
C5: 合計 Total | G5: 低收入戶 Low-income Households | K5: 中低收入戶 Middle-low-income Households | O5: 非低收入戶及 非中低收入戶 Non-low-income and Non-middle-low-income Households
C7: 人次 Person-times | F7: 金額 (千元) Amounts (NT$1,000) | G7: 人次 Person-times | J7: 金額 (千元) Amounts (NT$1,000) | K7: 人次 Person-times | N7: 金額 (千元) Amounts (NT$1,000) | O7: 人次 Person-times | R7: 金額 (千元) Amounts (NT$1,000)
C8: 計 Subtotal | D8: 男 Male | E8: 女 Female | G8: 計 Subtotal | H8: 男 Male | I8: 女 Female | K8: 計 Subtotal | L8: 男 Male | M8: 女 Female | O8: 計 Subtotal | P8: 男 Male | Q8: 女 Female
A9: 總計 | B9: Total | C9: 86369 | D9: 46239 | E9: 40130 | F9: 782198.2 | G9: 5120 | H9: 3512 | I9: 1608 | J9: 68481.123 | K9: 1600 | L9: 1035 | M9: 565 | N9: 21448.008 | O9: 79649 | P9: 41692 | Q9: 37957 | R9: 692269.07
A10: 新 北 市 | B10: New Taipei City | C10: 14978 | D10: 7825 | E10: 7153 | F10: 113794.9 | G10: 734 | H10: 508 | I10: 226 | J10: 8566.385 | K10: 188 | L10: 123 | M10: 65 | N10: 2276.415 | O10: 14056 | P10: 7194 | Q10: 6862 | R10: 102952.1
A11: 臺 北 市 | B11: Taipei City | C11: 12131 | D11: 6273 | E11: 5858 | F11: 85613.656 | G11: 819 | H11: 546 | I11: 273 | J11: 9159.591 | K11: 118 | L11: 55 | M11: 63 | N11: 908.444 | O11: 11194 | P11: 5672 | Q11: 5522 | R11: 75545.621
A12: 桃 園 市 | B12: Taoyuan City | C12: 4539 | D12: 2476 | E12: 2063 | F12: 48172.321 | G12: 170 | H12: 113 | I12: 57 | J12: 3100.319 | K12: 22 | L12: 15 | M12: 7 | N12: 651.835 | O12: 4347 | P12: 2348 | Q12: 1999 | R12: 44420.167
A13: 臺 中 市 | B13: Taichung City | C13: 7823 | D13: 4442 | E13: 3381 | F13: 76549.22 | G13: 503 | H13: 319 | I13: 184 | J13: 7335.453 | K13: 173 | L13: 110 | M13: 63 | N13: 1816.9 | O13: 7147 | P13: 4013 | Q13: 3134 | R13: 67396.867
A14: 臺 南 市 | B14: Tainan City | C14: 9494 | D14: 5008 | E14: 4486 | F14: 93227.867 | G14: 527 | H14: 376 | I14: 151 | J14: 6858.252 | K14: 177 | L14: 125 | M14: 52 | N14: 2005.754 | O14: 8790 | P14: 4507 | Q14: 4283 | R14: 84363.861
A15: 高 雄 市 | B15: Kaohsiung City | C15: 10121 | D15: 5399 | E15: 4722 | F15: 99027.71 | G15: 825 | H15: 533 | I15: 292 | J15: 11228.154 | K15: 262 | L15: 170 | M15: 92 | N15: 3645.179 | O15: 9034 | P15: 4696 | Q15: 4338 | R15: 84154.377
A16: 宜蘭縣 | B16: Yilan County | C16: 2090 | D16: 1124 | E16: 966 | F16: 19181.031 | G16: 69 | H16: 48 | I16: 21 | J16: 957.9 | K16: 40 | L16: 24 | M16: 16 | N16: 889.231 | O16: 1981 | P16: 1052 | Q16: 929 | R16: 17333.9
A17: 新竹縣 | B17: Hsinchu County | C17: 1292 | D17: 686 | E17: 606 | F17: 14045.556 | G17: 58 | H17: 46 | I17: 12 | J17: 698.9 | K17: 10 | L17: 8 | M17: 2 | N17: 158.65 | O17: 1224 | P17: 632 | Q17: 592 | R17: 13188.006
A18: 苗栗縣 | B18: Miaoli County | C18: 3144 | D18: 1717 | E18: 1427 | F18: 30986.564 | G18: 126 | H18: 94 | I18: 32 | J18: 1653.6 | K18: 35 | L18: 24 | M18: 11 | N18: 851.277 | O18: 2983 | P18: 1599 | Q18: 1384 | R18: 28481.687
A19: 彰化縣 | B19: Changhua County | C19: 4255 | D19: 2367 | E19: 1888 | F19: 41571.098 | G19: 201 | H19: 119 | I19: 82 | J19: 3455.405 | K19: 163 | L19: 107 | M19: 56 | N19: 2104.179 | O19: 3891 | P19: 2141 | Q19: 1750 | R19: 36011.514
A20: 南投縣 | B20: Nantou County | C20: 2176 | D20: 1234 | E20: 942 | F20: 20116.967 | G20: 105 | H20: 70 | I20: 35 | J20: 1751 | K20: 57 | L20: 43 | M20: 14 | N20: 1304.249 | O20: 2014 | P20: 1121 | Q20: 893 | R20: 17061.718
... A31: 連江縣 | B31: Lienchiang County | C31: 26 | D31: 16 | E31: 10 | F31: 270.743 | G31: 1 | H31: 1 | I31: 0 | J31: 5 | K31: 1 | L31: 0 | M31: 1 | N31: 40 | O31: 24 | P31: 15 | Q31: 9 | R31: 225.743
A32: 資料來源：直轄市、縣(市)政府。
A34: Source : County and City Government.
A36: 更新日期：2017/2/22
A37: 總計 | B37: Total | C37: 86369 | D37: 46239 | E37: 40130 | F37: 782198.2 | G37: 5120 | H37: 3512 | I37: 1608 | J37: 68481.123 | K37: 1600 | L37: 1035 | M37: 565 | N37: 21448.008 | O37: 79649 | P37: 41692 | Q37: 37957 | R37: 692269.07
A38: 新 北 市 | B38: New Taipei City | C38: 14978 | D38: 7825 | E38: 7153 | F38: 113794.9 | G38: 734 | H38: 508 | I38: 226 | J38: 8566.385 | K38: 188 | L38: 123 | M38: 65 | N38: 2276.415 | O38: 14056 | P38: 7194 | Q38: 6862 | R38: 102952.1
A39: 臺 北 市 | B39: Taipei City | C39: 12131 | D39: 6273 | E39: 5858 | F39: 85613.656 | G39: 819 | H39: 546 | I39: 273 | J39: 9159.591 | K39: 118 | L39: 55 | M39: 63 | N39: 908.444 | O39: 11194 | P39: 5672 | Q39: 5522 | R39: 75545.621
A40: 桃 園 市 | B40: Taoyuan City | C40: 4539 | D40: 2476 | E40: 2063 | F40: 48172.321 | G40: 170 | H40: 113 | I40: 57 | J40: 3100.319 | K40: 22 | L40: 15 | M40: 7 | N40: 651.835 | O40: 4347 | P40: 2348 | Q40: 1999 | R40: 44420.167
A41: 臺 中 市 | B41: Taichung City | C41: 7823 | D41: 4442 | E41: 3381 | F41: 76549.22 | G41: 503 | H41: 319 | I41: 184 | J41: 7335.453 | K41: 173 | L41: 110 | M41: 63 | N41: 1816.9 | O41: 7147 | P41: 4013 | Q41: 3134 | R41: 67396.867
A42: 臺 南 市 | B42: Tainan City | C42: 9494 | D42: 5008 | E42: 4486 | F42: 93227.867 | G42: 527 | H42: 376 | I42: 151 | J42: 6858.252 | K42: 177 | L42: 125 | M42: 52 | N42: 2005.754 | O42: 8790 | P42: 4507 | Q42: 4283 | R42: 84363.861
A43: 高 雄 市 | B43: Kaohsiung City | C43: 10121 | D43: 5399 | E43: 4722 | F43: 99027.71 | G43: 825 | H43: 533 | I43: 292 | J43: 11228.154 | K43: 262 | L43: 170 | M43: 92 | N43: 3645.179 | O43: 9034 | P43: 4696 | Q43: 4338 | R43: 84154.377
A44: 臺 灣 省 | B44: Taiwan Prov. | C44: 27006 | D44: 14648 | E44: 12358 | F44: 262847.34 | G44: 1527 | H44: 1102 | I44: 425 | J44: 22079.969 | K44: 657 | L44: 435 | M44: 222 | N44: 10081.481 | O44: 24822 | P44: 13111 | Q44: 11711 | R44: 230685.89
A45: 宜蘭縣 | B45: Yilan County | C45: 2090 | D45: 1124 | E45: 966 | F45: 19181.031 | G45: 69 | H45: 48 | I45: 21 | J45: 957.9 | K45: 40 | L45: 24 | M45: 16 | N45: 889.231 | O45: 1981 | P45: 1052 | Q45: 929 | R45: 17333.9
A46: 新竹縣 | B46: Hsinchu County | C46: 1292 | D46: 686 | E46: 606 | F46: 14045.556 | G46: 58 | H46: 46 | I46: 12 | J46: 698.9 | K46: 10 | L46: 8 | M46: 2 | N46: 158.65 | O46: 1224 | P46: 632 | Q46: 592 | R46: 13188.006
A47: 苗栗縣 | B47: Miaoli County | C47: 3144 | D47: 1717 | E47: 1427 | F47: 30986.564 | G47: 126 | H47: 94 | I47: 32 | J47: 1653.6 | K47: 35 | L47: 24 | M47: 11 | N47: 851.277 | O47: 2983 | P47: 1599 | Q47: 1384 | R47: 28481.687
A48: 彰化縣 | B48: Changhua County | C48: 4255 | D48: 2367 | E48: 1888 | F48: 41571.098 | G48: 201 | H48: 119 | I48: 82 | J48: 3455.405 | K48: 163 | L48: 107 | M48: 56 | N48: 2104.179 | O48: 3891 | P48: 2141 | Q48: 1750 | R48: 36011.514
... A61: 連江縣 | B61: Lienchiang County | C61: 26 | D61: 16 | E61: 10 | F61: 270.743 | G61: 1 | H61: 1 | I61: 0 | J61: 5 | K61: 1 | L61: 0 | M61: 1 | N61: 40 | O61: 24 | P61: 15 | Q61: 9 | R61: 225.743
A63: 總計 | B63: Total | C63: =IF(C37=C9,"","*") | D63: =IF(D37=D9,"","*") | E63: =IF(E37=E9,"","*") | F63: =IF(F37=F9,"","*") | G63: =IF(G37=G9,"","*") | H63: =IF(H37=H9,"","*") | I63: =IF(I37=I9,"","*") | J63: =IF(J37=J9,"","*") | ... R63: =IF(R37=R9,"","*")
A64: 新 北 市 | B64: New Taipei City | C64: =IF(C38=C10,"","*") | D64: =IF(D38=D10,"","*") | E64: =IF(E38=E10,"","*") | F64: =IF(F38=F10,"","*") | G64: =IF(G38=G10,"","*") | H64: =IF(H38=H10,"","*") | I64: =IF(I38=I10,"","*") | J64: =IF(J38=J10,"","*") | ... R64: =IF(R38=R10,"","*")
A65: 臺 北 市 | B65: Taipei City | C65: =IF(C39=C11,"","*") | D65: =IF(D39=D11,"","*") | E65: =IF(E39=E11,"","*") | F65: =IF(F39=F11,"","*") | G65: =IF(G39=G11,"","*") | H65: =IF(H39=H11,"","*") | I65: =IF(I39=I11,"","*") | J65: =IF(J39=J11,"","*") | ... R65: =IF(R39=R11,"","*")
A66: 桃 園 市 | B66: Taoyuan City | C66: =IF(C40=C12,"","*") | D66: =IF(D40=D12,"","*") | E66: =IF(E40=E12,"","*") | F66: =IF(F40=F12,"","*") | G66: =IF(G40=G12,"","*") | H66: =IF(H40=H12,"","*") | I66: =IF(I40=I12,"","*") | J66: =IF(J40=J12,"","*") | ... R66: =IF(R40=R12,"","*")
A67: 臺 中 市 | B67: Taichung City | C67: =IF(C41=C13,"","*") | D67: =IF(D41=D13,"","*") | E67: =IF(E41=E13,"","*") | F67: =IF(F41=F13,"","*") | G67: =IF(G41=G13,"","*") | H67: =IF(H41=H13,"","*") | I67: =IF(I41=I13,"","*") | J67: =IF(J41=J13,"","*") | ... R67: =IF(R41=R13,"","*")
A68: 臺 南 市 | B68: Tainan City | C68: =IF(C42=C14,"","*") | D68: =IF(D42=D14,"","*") | E68: =IF(E42=E14,"","*") | F68: =IF(F42=F14,"","*") | G68: =IF(G42=G14,"","*") | H68: =IF(H42=H14,"","*") | I68: =IF(I42=I14,"","*") | J68: =IF(J42=J14,"","*") | ... R68: =IF(R42=R14,"","*")
A69: 高 雄 市 | B69: Kaohsiung City | C69: =IF(C43=C15,"","*") | D69: =IF(D43=D15,"","*") | E69: =IF(E43=E15,"","*") | F69: =IF(F43=F15,"","*") | G69: =IF(G43=G15,"","*") | H69: =IF(H43=H15,"","*") | I69: =IF(I43=I15,"","*") | J69: =IF(J43=J15,"","*") | ... R69: =IF(R43=R15,"","*")
A70: 臺 灣 省 | B70: Taiwan Prov. | C70: =IF(C44=#REF!,"","*") -> #REF! | D70: =IF(D44=#REF!,"","*") -> #REF! | E70: =IF(E44=#REF!,"","*") -> #REF! | F70: =IF(F44=#REF!,"","*") -> #REF! | G70: =IF(G44=#REF!,"","*") -> #REF! | H70: =IF(H44=#REF!,"","*") -> #REF! | I70: =IF(I44=#REF!,"","*") -> #REF! | J70: =IF(J44=#REF!,"","*") -> #REF! | ... R70: =IF(R44=#REF!,"","*") -> #REF!
A71: 宜蘭縣 | B71: Yilan County | C71: =IF(C45=C16,"","*") | D71: =IF(D45=D16,"","*") | E71: =IF(E45=E16,"","*") | F71: =IF(F45=F16,"","*") | G71: =IF(G45=G16,"","*") | H71: =IF(H45=H16,"","*") | I71: =IF(I45=I16,"","*") | J71: =IF(J45=J16,"","*") | ... R71: =IF(R45=R16,"","*")
A72: 新竹縣 | B72: Hsinchu County | C72: =IF(C46=C17,"","*") | D72: =IF(D46=D17,"","*") | E72: =IF(E46=E17,"","*") | F72: =IF(F46=F17,"","*") | G72: =IF(G46=G17,"","*") | H72: =IF(H46=H17,"","*") | I72: =IF(I46=I17,"","*") | J72: =IF(J46=J17,"","*") | ... R72: =IF(R46=R17,"","*")
A73: 苗栗縣 | B73: Miaoli County | C73: =IF(C47=C18,"","*") | D73: =IF(D47=D18,"","*") | E73: =IF(E47=E18,"","*") | F73: =IF(F47=F18,"","*") | G73: =IF(G47=G18,"","*") | H73: =IF(H47=H18,"","*") | I73: =IF(I47=I18,"","*") | J73: =IF(J47=J18,"","*") | ... R73: =IF(R47=R18,"","*")
A74: 彰化縣 | B74: Changhua County | C74: =IF(C48=C19,"","*") | D74: =IF(D48=D19,"","*") | E74: =IF(E48=E19,"","*") | F74: =IF(F48=F19,"","*") | G74: =IF(G48=G19,"","*") | H74: =IF(H48=H19,"","*") | I74: =IF(I48=I19,"","*") | J74: =IF(J48=J19,"","*") | ... R74: =IF(R48=R19,"","*")
A75: 南投縣 | B75: Nantou County | C75: =IF(C49=C20,"","*") | D75: =IF(D49=D20,"","*") | E75: =IF(E49=E20,"","*") | F75: =IF(F49=F20,"","*") | G75: =IF(G49=G20,"","*") | H75: =IF(H49=H20,"","*") | I75: =IF(I49=I20,"","*") | J75: =IF(J49=J20,"","*") | ... R75: =IF(R49=R20,"","*")
A76: 雲林縣 | B76: Yunlin County | C76: =IF(C50=C21,"","*") | D76: =IF(D50=D21,"","*") | E76: =IF(E50=E21,"","*") | F76: =IF(F50=F21,"","*") | G76: =IF(G50=G21,"","*") | H76: =IF(H50=H21,"","*") | I76: =IF(I50=I21,"","*") | J76: =IF(J50=J21,"","*") | ... R76: =IF(R50=R21,"","*")
A77: 嘉義縣 | B77: Chiayi County | C77: =IF(C51=C22,"","*") | D77: =IF(D51=D22,"","*") | E77: =IF(E51=E22,"","*") | F77: =IF(F51=F22,"","*") | G77: =IF(G51=G22,"","*") | H77: =IF(H51=H22,"","*") | I77: =IF(I51=I22,"","*") | J77: =IF(J51=J22,"","*") | ... R77: =IF(R51=R22,"","*")
A78: 屏東縣 | B78: Pingtung County | C78: =IF(C52=C23,"","*") | D78: =IF(D52=D23,"","*") | E78: =IF(E52=E23,"","*") | F78: =IF(F52=F23,"","*") | G78: =IF(G52=G23,"","*") | H78: =IF(H52=H23,"","*") | I78: =IF(I52=I23,"","*") | J78: =IF(J52=J23,"","*") | ... R78: =IF(R52=R23,"","*")
A79: 臺東縣 | B79: Taitung County | C79: =IF(C53=C24,"","*") | D79: =IF(D53=D24,"","*") | E79: =IF(E53=E24,"","*") | F79: =IF(F53=F24,"","*") | G79: =IF(G53=G24,"","*") | H79: =IF(H53=H24,"","*") | I79: =IF(I53=I24,"","*") | J79: =IF(J53=J24,"","*") | ... R79: =IF(R53=R24,"","*")
A80: 花蓮縣 | B80: Hualien County | C80: =IF(C54=C25,"","*") | D80: =IF(D54=D25,"","*") | E80: =IF(E54=E25,"","*") | F80: =IF(F54=F25,"","*") | G80: =IF(G54=G25,"","*") | H80: =IF(H54=H25,"","*") | I80: =IF(I54=I25,"","*") | J80: =IF(J54=J25,"","*") | ... R80: =IF(R54=R25,"","*")
A81: 澎湖縣 | B81: Penghu County | C81: =IF(C55=C26,"","*") | D81: =IF(D55=D26,"","*") | E81: =IF(E55=E26,"","*") | F81: =IF(F55=F26,"","*") | G81: =IF(G55=G26,"","*") | H81: =IF(H55=H26,"","*") | I81: =IF(I55=I26,"","*") | J81: =IF(J55=J26,"","*") | ... R81: =IF(R55=R26,"","*")
A82: 基隆市 | B82: Keelung City | C82: =IF(C56=C27,"","*") | D82: =IF(D56=D27,"","*") | E82: =IF(E56=E27,"","*") | F82: =IF(F56=F27,"","*") | G82: =IF(G56=G27,"","*") | H82: =IF(H56=H27,"","*") | I82: =IF(I56=I27,"","*") | J82: =IF(J56=J27,"","*") | ... R82: =IF(R56=R27,"","*")
... A84: 嘉義市 | B84: Chiayi City | C84: =IF(C58=C29,"","*") | D84: =IF(D58=D29,"","*") | E84: =IF(E58=E29,"","*") | F84: =IF(F58=F29,"","*") | G84: =IF(G58=G29,"","*") | H84: =IF(H58=H29,"","*") | I84: =IF(I58=I29,"","*") | J84: =IF(J58=J29,"","*") | ... R84: =IF(R58=R29,"","*")
A85: 福 建 省 | B85: Fuchien Prov. | C85: =IF(C59=#REF!,"","*") -> #REF! | D85: =IF(D59=#REF!,"","*") -> #REF! | E85: =IF(E59=#REF!,"","*") -> #REF! | F85: =IF(F59=#REF!,"","*") -> #REF! | G85: =IF(G59=#REF!,"","*") -> #REF! | H85: =IF(H59=#REF!,"","*") -> #REF! | I85: =IF(I59=#REF!,"","*") -> #REF! | J85: =IF(J59=#REF!,"","*") -> #REF! | ... R85: =IF(R59=#REF!,"","*") -> #REF!
A86: 金門縣 | B86: Kinmen County | C86: =IF(C60=C30,"","*") | D86: =IF(D60=D30,"","*") | E86: =IF(E60=E30,"","*") | F86: =IF(F60=F30,"","*") | G86: =IF(G60=G30,"","*") | H86: =IF(H60=H30,"","*") | I86: =IF(I60=I30,"","*") | J86: =IF(J60=J30,"","*") | ... R86: =IF(R60=R30,"","*")
A87: 連江縣 | B87: Lienchiang County | C87: =IF(C61=C31,"","*") | D87: =IF(D61=D31,"","*") | E87: =IF(E61=E31,"","*") | F87: =IF(F61=F31,"","*") | G87: =IF(G61=G31,"","*") | H87: =IF(H61=H31,"","*") | I87: =IF(I61=I31,"","*") | J87: =IF(J61=J31,"","*") | ... R87: =IF(R61=R31,"","*")

Sheet 2015
A1: 身心障礙者生活輔具補助Auxiliary Appliances Assistance for the Disabled
A3: 104年,2015
A4: 區域別 Locality | C4: 輔助器具補助 Auxiliary Appliances Assistance
C5: 合計 Total | E5: 低收入戶 Low-income Households | G5: 中低收入戶 Middle-low-income Households | I5: 非低收入戶及 非中低收入戶 Non-low-income and Non-middle-low-income Households
C7: 人次 Person-times | D7: 金額 (千元) Amounts (NT$1,000) | E7: 人次 Person-times | F7: 金額 (千元) Amounts (NT$1,000) | G7: 人次 Person-times | H7: 金額 (千元) Amounts (NT$1,000) | I7: 人次 Person-times | J7: 金額 (千元) Amounts (NT$1,000)
A9: 總計 | B9: Total | C9: 80148 | D9: 766168.14 | E9: 4617 | F9: 68115.515 | G9: 1338 | H9: 18504.589 | I9: 74193 | J9: 679548.03
A10: 新 北 市 | B10: New Taipei City | C10: 13275 | D10: 104389.92 | E10: 647 | F10: 9259.043 | G10: 179 | H10: 2579.823 | I10: 12449 | J10: 92551.057
A11: 臺 北 市 | B11: Taipei City | C11: 11813 | D11: 84549.734 | E11: 720 | F11: 8495.927 | G11: 72 | H11: 673.695 | I11: 11021 | J11: 75380.112
A12: 桃 園 市 | B12: Taoyuan City | C12: 3961 | D12: 44428.69 | E12: 139 | F12: 2559.867 | G12: 12 | H12: 214.9 | I12: 3810 | J12: 41653.923
A13: 臺 中 市 | B13: Taichung City | C13: 6218 | D13: 68350.649 | E13: 326 | F13: 5081.496 | G13: 136 | H13: 2421.639 | I13: 5756 | J13: 60847.514
A14: 臺 南 市 | B14: Tainan City | C14: 9015 | D14: 92311.058 | E14: 454 | F14: 6821.363 | G14: 120 | H14: 1400.874 | I14: 8441 | J14: 84088.821
A15: 高 雄 市 | B15: Kaohsiung City | C15: 10003 | D15: 102835.75 | E15: 861 | F15: 12819.172 | G15: 223 | H15: 2908.409 | I15: 8919 | J15: 87108.165
A16: 宜蘭縣 | B16: Yilan County | C16: 2114 | D16: 22283.772 | E16: 76 | F16: 1469.299 | G16: 42 | H16: 560.899 | I16: 1996 | J16: 20253.574
A17: 新竹縣 | B17: Hsinchu County | C17: 1252 | D17: 13406.914 | E17: 27 | F17: 403.399 | G17: 9 | H17: 82.425 | I17: 1216 | J17: 12921.09
A18: 苗栗縣 | B18: Miaoli County | C18: 3443 | D18: 34200.348 | E18: 139 | F18: 1892.84 | G18: 49 | H18: 516.059 | I18: 3255 | J18: 31791.449
A19: 彰化縣 | B19: Changhua County | C19: 3943 | D19: 38840.6 | E19: 197 | F19: 3146.994 | G19: 135 | H19: 1656.832 | I19: 3611 | J19: 34036.774
A20: 南投縣 | B20: Nantou County | C20: 1297 | D20: 13236.358 | E20: 103 | F20: 1389.5 | G20: 0 | H20: 0 | I20: 1194 | J20: 11846.858
... A31: 連江縣 | B31: Lienchiang County | C31: 18 | D31: 652.135 | E31: 0 | F31: 0 | G31: 1 | H31: 22.5 | I31: 17 | J31: 629.635
A32: 資料來源：直轄市、縣(市)政府。
A34: Source : County and City Government.
A36: 更新日期：2016/05/16
A38: 總計 | B38: Total | C38: 74393 | D38: 761392.08 | E38: 4387 | F38: 67401.515 | G38: 1284 | H38: 18285.339 | I38: 68722 | J38: 675705.22
A39: 新 北 市 | B39: New Taipei City | C39: 7520 | D39: 99613.864 | E39: 417 | F39: 8545.043 | G39: 125 | H39: 2360.573 | I39: 6978 | J39: 88708.248
A40: 臺 北 市 | B40: Taipei City | C40: 11813 | D40: 84549.734 | E40: 720 | F40: 8495.927 | G40: 72 | H40: 673.695 | I40: 11021 | J40: 75380.112
A41: 桃 園 市 | B41: Taoyuan City | C41: 3961 | D41: 44428.69 | E41: 139 | F41: 2559.867 | G41: 12 | H41: 214.9 | I41: 3810 | J41: 41653.923
A42: 臺 中 市 | B42: Taichung City | C42: 6218 | D42: 68350.649 | E42: 326 | F42: 5081.496 | G42: 136 | H42: 2421.639 | I42: 5756 | J42: 60847.514
A43: 臺 南 市 | B43: Tainan City | C43: 9015 | D43: 92311.058 | E43: 454 | F43: 6821.363 | G43: 120 | H43: 1400.874 | I43: 8441 | J43: 84088.821
A44: 高 雄 市 | B44: Kaohsiung City | C44: 10003 | D44: 102835.75 | E44: 861 | F44: 12819.172 | G44: 223 | H44: 2908.409 | I44: 8919 | J44: 87108.165
A45: 臺 灣 省 | B45: Taiwan Prov. | C45: 25589 | D45: 265592.64 | E45: 1461 | F45: 22952.447 | G45: 595 | H45: 8282.749 | I45: 23533 | J45: 234357.45
A46: 宜蘭縣 | B46: Yilan County | C46: 2114 | D46: 22283.772 | E46: 76 | F46: 1469.299 | G46: 42 | H46: 560.899 | I46: 1996 | J46: 20253.574
A47: 新竹縣 | B47: Hsinchu County | C47: 1252 | D47: 13406.914 | E47: 27 | F47: 403.399 | G47: 9 | H47: 82.425 | I47: 1216 | J47: 12921.09
A48: 苗栗縣 | B48: Miaoli County | C48: 3443 | D48: 34200.348 | E48: 139 | F48: 1892.84 | G48: 49 | H48: 516.059 | I48: 3255 | J48: 31791.449
A49: 彰化縣 | B49: Changhua County | C49: 3943 | D49: 38840.6 | E49: 197 | F49: 3146.994 | G49: 135 | H49: 1656.832 | I49: 3611 | J49: 34036.774
... A62: 連江縣 | B62: Lienchiang County | C62: 18 | D62: 652.135 | E62: 0 | F62: 0 | G62: 1 | H62: 22.5 | I62: 17 | J62: 629.635
A64: 總計 | B64: Total | C64: =IF(C38=C9,"","*") -> * | D64: =IF(D38=D9,"","*") -> * | E64: =IF(E38=E9,"","*") -> * | F64: =IF(F38=F9,"","*") -> * | G64: =IF(G38=G9,"","*") -> * | H64: =IF(H38=H9,"","*") -> * | I64: =IF(I38=I9,"","*") -> * | J64: =IF(J38=J9,"","*") -> *
A65: 新 北 市 | B65: New Taipei City | C65: =IF(C39=C10,"","*") -> * | D65: =IF(D39=D10,"","*") -> * | E65: =IF(E39=E10,"","*") -> * | F65: =IF(F39=F10,"","*") -> * | G65: =IF(G39=G10,"","*") -> * | H65: =IF(H39=H10,"","*") -> * | I65: =IF(I39=I10,"","*") -> * | J65: =IF(J39=J10,"","*") -> *
A66: 臺 北 市 | B66: Taipei City | C66: =IF(C40=C11,"","*") | D66: =IF(D40=D11,"","*") | E66: =IF(E40=E11,"","*") | F66: =IF(F40=F11,"","*") | G66: =IF(G40=G11,"","*") | H66: =IF(H40=H11,"","*") | I66: =IF(I40=I11,"","*") | J66: =IF(J40=J11,"","*")
A67: 桃 園 市 | B67: Taoyuan City | C67: =IF(C41=C12,"","*") | D67: =IF(D41=D12,"","*") | E67: =IF(E41=E12,"","*") | F67: =IF(F41=F12,"","*") | G67: =IF(G41=G12,"","*") | H67: =IF(H41=H12,"","*") | I67: =IF(I41=I12,"","*") | J67: =IF(J41=J12,"","*")
A68: 臺 中 市 | B68: Taichung City | C68: =IF(C42=C13,"","*") | D68: =IF(D42=D13,"","*") | E68: =IF(E42=E13,"","*") | F68: =IF(F42=F13,"","*") | G68: =IF(G42=G13,"","*") | H68: =IF(H42=H13,"","*") | I68: =IF(I42=I13,"","*") | J68: =IF(J42=J13,"","*")
A69: 臺 南 市 | B69: Tainan City | C69: =IF(C43=C14,"","*") | D69: =IF(D43=D14,"","*") | E69: =IF(E43=E14,"","*") | F69: =IF(F43=F14,"","*") | G69: =IF(G43=G14,"","*") | H69: =IF(H43=H14,"","*") | I69: =IF(I43=I14,"","*") | J69: =IF(J43=J14,"","*")
A70: 高 雄 市 | B70: Kaohsiung City | C70: =IF(C44=C15,"","*") | D70: =IF(D44=D15,"","*") | E70: =IF(E44=E15,"","*") | F70: =IF(F44=F15,"","*") | G70: =IF(G44=G15,"","*") | H70: =IF(H44=H15,"","*") | I70: =IF(I44=I15,"","*") | J70: =IF(J44=J15,"","*")
A71: 臺 灣 省 | B71: Taiwan Prov. | C71: =IF(C45=#REF!,"","*") -> #REF! | D71: =IF(D45=#REF!,"","*") -> #REF! | E71: =IF(E45=#REF!,"","*") -> #REF! | F71: =IF(F45=#REF!,"","*") -> #REF! | G71: =IF(G45=#REF!,"","*") -> #REF! | H71: =IF(H45=#REF!,"","*") -> #REF! | I71: =IF(I45=#REF!,"","*") -> #REF! | J71: =IF(J45=#REF!,"","*") -> #REF!
A72: 宜蘭縣 | B72: Yilan County | C72: =IF(C46=C16,"","*") | D72: =IF(D46=D16,"","*") | E72: =IF(E46=E16,"","*") | F72: =IF(F46=F16,"","*") | G72: =IF(G46=G16,"","*") | H72: =IF(H46=H16,"","*") | I72: =IF(I46=I16,"","*") | J72: =IF(J46=J16,"","*")
A73: 新竹縣 | B73: Hsinchu County | C73: =IF(C47=C17,"","*") | D73: =IF(D47=D17,"","*") | E73: =IF(E47=E17,"","*") | F73: =IF(F47=F17,"","*") | G73: =IF(G47=G17,"","*") | H73: =IF(H47=H17,"","*") | I73: =IF(I47=I17,"","*") | J73: =IF(J47=J17,"","*")
A74: 苗栗縣 | B74: Miaoli County | C74: =IF(C48=C18,"","*") | D74: =IF(D48=D18,"","*") | E74: =IF(E48=E18,"","*") | F74: =IF(F48=F18,"","*") | G74: =IF(G48=G18,"","*") | H74: =IF(H48=H18,"","*") | I74: =IF(I48=I18,"","*") | J74: =IF(J48=J18,"","*")
A75: 彰化縣 | B75: Changhua County | C75: =IF(C49=C19,"","*") | D75: =IF(D49=D19,"","*") | E75: =IF(E49=E19,"","*") | F75: =IF(F49=F19,"","*") | G75: =IF(G49=G19,"","*") | H75: =IF(H49=H19,"","*") | I75: =IF(I49=I19,"","*") | J75: =IF(J49=J19,"","*")
A76: 南投縣 | B76: Nantou County | C76: =IF(C50=C20,"","*") | D76: =IF(D50=D20,"","*") | E76: =IF(E50=E20,"","*") | F76: =IF(F50=F20,"","*") | G76: =IF(G50=G20,"","*") | H76: =IF(H50=H20,"","*") | I76: =IF(I50=I20,"","*") | J76: =IF(J50=J20,"","*")
A77: 雲林縣 | B77: Yunlin County | C77: =IF(C51=C21,"","*") | D77: =IF(D51=D21,"","*") | E77: =IF(E51=E21,"","*") | F77: =IF(F51=F21,"","*") | G77: =IF(G51=G21,"","*") | H77: =IF(H51=H21,"","*") | I77: =IF(I51=I21,"","*") | J77: =IF(J51=J21,"","*")
A78: 嘉義縣 | B78: Chiayi County | C78: =IF(C52=C22,"","*") | D78: =IF(D52=D22,"","*") | E78: =IF(E52=E22,"","*") | F78: =IF(F52=F22,"","*") | G78: =IF(G52=G22,"","*") | H78: =IF(H52=H22,"","*") | I78: =IF(I52=I22,"","*") | J78: =IF(J52=J22,"","*")
A79: 屏東縣 | B79: Pingtung County | C79: =IF(C53=C23,"","*") | D79: =IF(D53=D23,"","*") | E79: =IF(E53=E23,"","*") | F79: =IF(F53=F23,"","*") | G79: =IF(G53=G23,"","*") | H79: =IF(H53=H23,"","*") | I79: =IF(I53=I23,"","*") | J79: =IF(J53=J23,"","*")
A80: 臺東縣 | B80: Taitung County | C80: =IF(C54=C24,"","*") | D80: =IF(D54=D24,"","*") | E80: =IF(E54=E24,"","*") | F80: =IF(F54=F24,"","*") | G80: =IF(G54=G24,"","*") | H80: =IF(H54=H24,"","*") | I80: =IF(I54=I24,"","*") | J80: =IF(J54=J24,"","*")
A81: 花蓮縣 | B81: Hualien County | C81: =IF(C55=C25,"","*") | D81: =IF(D55=D25,"","*") | E81: =IF(E55=E25,"","*") | F81: =IF(F55=F25,"","*") | G81: =IF(G55=G25,"","*") | H81: =IF(H55=H25,"","*") | I81: =IF(I55=I25,"","*") | J81: =IF(J55=J25,"","*")
A82: 澎湖縣 | B82: Penghu County | C82: =IF(C56=C26,"","*") | D82: =IF(D56=D26,"","*") | E82: =IF(E56=E26,"","*") | F82: =IF(F56=F26,"","*") | G82: =IF(G56=G26,"","*") | H82: =IF(H56=H26,"","*") | I82: =IF(I56=I26,"","*") | J82: =IF(J56=J26,"","*")
A83: 基隆市 | B83: Keelung City | C83: =IF(C57=C27,"","*") | D83: =IF(D57=D27,"","*") | E83: =IF(E57=E27,"","*") | F83: =IF(F57=F27,"","*") | G83: =IF(G57=G27,"","*") | H83: =IF(H57=H27,"","*") | I83: =IF(I57=I27,"","*") | J83: =IF(J57=J27,"","*")
... A85: 嘉義市 | B85: Chiayi City | C85: =IF(C59=C29,"","*") | D85: =IF(D59=D29,"","*") | E85: =IF(E59=E29,"","*") | F85: =IF(F59=F29,"","*") | G85: =IF(G59=G29,"","*") | H85: =IF(H59=H29,"","*") | I85: =IF(I59=I29,"","*") | J85: =IF(J59=J29,"","*")
A86: 福 建 省 | B86: Fuchien Prov. | C86: =IF(C60=#REF!,"","*") -> #REF! | D86: =IF(D60=#REF!,"","*") -> #REF! | E86: =IF(E60=#REF!,"","*") -> #REF! | F86: =IF(F60=#REF!,"","*") -> #REF! | G86: =IF(G60=#REF!,"","*") -> #REF! | H86: =IF(H60=#REF!,"","*") -> #REF! | I86: =IF(I60=#REF!,"","*") -> #REF! | J86: =IF(J60=#REF!,"","*") -> #REF!
A87: 金門縣 | B87: Kinmen County | C87: =IF(C61=C30,"","*") | D87: =IF(D61=D30,"","*") | E87: =IF(E61=E30,"","*") | F87: =IF(F61=F30,"","*") | G87: =IF(G61=G30,"","*") | H87: =IF(H61=H30,"","*") | I87: =IF(I61=I30,"","*") | J87: =IF(J61=J30,"","*")
A88: 連江縣 | B88: Lienchiang County | C88: =IF(C62=C31,"","*") | D88: =IF(D62=D31,"","*") | E88: =IF(E62=E31,"","*") | F88: =IF(F62=F31,"","*") | G88: =IF(G62=G31,"","*") | H88: =IF(H62=H31,"","*") | I88: =IF(I62=I31,"","*") | J88: =IF(J62=J31,"","*")
