Workbook

Sheet 歷年
A1: 身心障礙者生活補助Living Assistance for the Disabled
A3: 單位：人數、人次、千元
A4: 年別 Years | B4: 總計 Total (1)=(2)+(3)+(4)+(5) | F4: 低收入戶 Low-income Households | R4: 中低收入戶 Middle-low-income Households | AD4: 最低生活費1.5倍以上未達2.5倍者Between 1.5 and 2.5 times of minimum of subsistence | AP4: 榮民(補差額) Veteran Serviceman (Difference) (4) | AT4: 原住民 Indigenous
F5: 合計Total (1) | J5: 中度障礙以上 Moderate & Over | N5: 輕度障礙 Mild | R5: 合計Total (2) | V5: 中度障礙以上 Moderate & Over | Z5: 輕度障礙 Mild | AD5: 合計Total (3) | AH5: 中度障礙以上 Moderate & Over | AL5: 輕度障礙 Mild
B6: 人次 Person-times | E6: 金額 (千元) Amounts (NT$1,000) | F6: 人次 Person-times | I6: 金額 (千元) Amounts (NT$1,000) | J6: 人次 Person-times | M6: 金額 (千元) Amounts (NT$1,000) | N6: 人次 Person-times | Q6: 金額 (千元) Amounts (NT$1,000) | R6: 人次 Person-times | U6: 金額 (千元) Amounts (NT$1,000) | V6: 人次 Person-times | Y6: 金額 (千元) Amounts (NT$1,000) | Z6: 人次 Person-times | AC6: 金額 (千元) Amounts (NT$1,000) | AD6: 人次 Person-times | AG6: 金額 (千元) Amounts (NT$1,000) | AH6: 人次 Person-times | AK6: 金額 (千元) Amounts (NT$1,000) | AL6: 人次 Person-times | AO6: 金額 (千元) Amounts (NT$1,000) | AP6: 人次 Person-times | AS6: 金額 (千元) Amounts (NT$1,000) | AT6: 人次 Person-times | AW6: 金額 (千元) Amounts (NT$1,000)
B7: 合計 Total | C7: 男 Male | D7: 女 Female | F7: 計 Subtotal | G7: 男 Male | H7: 女 Female | J7: 計 Subtotal | K7: 男 Male | L7: 女 Female | N7: 計 Subtotal | O7: 男 Male | P7: 女 Female | R7: 計 Subtotal | S7: 男 Male | T7: 女 Female | V7: 計 Subtotal | W7: 男 Male | X7: 女 Female | Z7: 計 Subtotal | AA7: 男 Male | AB7: 女 Female | AD7: 計 Subtotal | AE7: 男 Male | AF7: 女 Female | AH7: 計 Subtotal | AI7: 男 Male | AJ7: 女 Female | AL7: 計 Subtotal | AM7: 男 Male | AN7: 女 Female | AP7: 計 Subtotal | AQ7: 男 Male | AR7: 女 Female | AT7: 計 Subtotal | AU7: 男 Male | AV7: 女 Female
A8: 105年,2016 | B8: ='2016'!C9 -> 4214338 | C8: ='2016'!D9 -> 2566669 | D8: ='2016'!E9 -> 1647669 | E8: ='2016'!F9 -> 21307798 | F8: =SUM(J8,N8) -> 767010 | G8: =SUM(K8,O8) -> 497886 | H8: =SUM(L8,P8) -> 269124 | I8: =SUM(M8,Q8) -> 6003707.7 | J8: ='2016'!G9 -> 602749 | K8: ='2016'!H9 -> 396698 | L8: ='2016'!I9 -> 206051 | M8: ='2016'!J9 -> 5188294 | N8: ='2016'!K9 -> 164261 | O8: ='2016'!L9 -> 101188 | P8: ='2016'!M9 -> 63073 | Q8: ='2016'!N9 -> 815413.67 | R8: =SUM(V8,Z8) -> 297100 | S8: =SUM(W8,AA8) -> 182471 | T8: =SUM(X8,AB8) -> 114629 | U8: =SUM(Y8,AC8) -> 1314403.7 | V8: ='2016'!O9 -> 172825 | W8: ='2016'!P9 -> 103937 | X8: ='2016'!Q9 -> 68888 | Y8: ='2016'!R9 -> 855740.86 | Z8: ='2016'!S9 -> 124275 | AA8: ='2016'!T9 -> 78534 | AB8: ='2016'!U9 -> 45741 | AC8: ='2016'!V9 -> 458662.88 | AD8: =SUM(AH8,AL8) -> 3121954 | AE8: =SUM(AI8,AM8) -> 1858821 | AF8: =SUM(AJ8,AN8) -> 1263133 | AG8: =SUM(AK8,AO8) -> 13864365 | AH8: ='2016'!W9 -> 1949228 | AI8: ='2016'!X9 -> 1133546 | AJ8: ='2016'!Y9 -> 815682 | AK8: ='2016'!Z9 -> 9569169.4 | AL8: ='2016'!AA9 -> 1172726 | AM8: ='2016'!AB9 -> 725275 | AN8: ='2016'!AC9 -> 447451 | AO8: ='2016'!AD9 -> 4295195.6 | ... AS8: ='2016'!AH9 -> 125321.29 | AT8: … | AU8: … | AV8: … | AW8: …
A9: 106年,2017 | B9: ='2017'!C9 -> 4207046 | C9: ='2017'!D9 -> 2559770 | D9: ='2017'!E9 -> 1647276 | E9: ='2017'!F9 -> 21282896 | F9: =SUM(J9,N9) -> 765984 | G9: =SUM(K9,O9) -> 498918 | H9: =SUM(L9,P9) -> 267066 | I9: =SUM(M9,Q9) -> 6003344.5 | J9: ='2017'!G9 -> 605977 | K9: ='2017'!H9 -> 400644 | L9: ='2017'!I9 -> 205333 | M9: ='2017'!J9 -> 5210556.2 | N9: ='2017'!K9 -> 160007 | O9: ='2017'!L9 -> 98274 | P9: ='2017'!M9 -> 61733 | Q9: ='2017'!N9 -> 792788.34 | R9: =SUM(V9,Z9) -> 259104 | S9: =SUM(W9,AA9) -> 158088 | T9: =SUM(X9,AB9) -> 101016 | U9: =SUM(Y9,AC9) -> 1143369.5 | V9: ='2017'!O9 -> 149844 | W9: ='2017'!P9 -> 89820 | X9: ='2017'!Q9 -> 60024 | Y9: ='2017'!R9 -> 740357.84 | Z9: ='2017'!S9 -> 109260 | AA9: ='2017'!T9 -> 68268 | AB9: ='2017'!U9 -> 40992 | AC9: ='2017'!V9 -> 403011.7 | AD9: =SUM(AH9,AL9) -> 3156605 | AE9: =SUM(AI9,AM9) -> 1878011 | AF9: =SUM(AJ9,AN9) -> 1278594 | AG9: =SUM(AK9,AO9) -> 14021753 | AH9: ='2017'!W9 -> 1963496 | AI9: ='2017'!X9 -> 1140025 | AJ9: ='2017'!Y9 -> 823471 | AK9: ='2017'!Z9 -> 9651473.5 | AL9: ='2017'!AA9 -> 1193109 | AM9: ='2017'!AB9 -> 737986 | AN9: ='2017'!AC9 -> 455123 | AO9: ='2017'!AD9 -> 4370279 | ... AS9: ='2017'!AH9 -> 114429.29 | AT9: … | AU9: … | AV9: … | AW9: …
A10: 107年,2018 | B10: ='2018'!C9 -> 4189002 | C10: ='2018'!D9 -> 2548068 | D10: ='2018'!E9 -> 1640934 | E10: ='2018'!F9 -> 21257027 | F10: =SUM(J10,N10) -> 772415 | G10: =SUM(K10,O10) -> 504883 | H10: =SUM(L10,P10) -> 267532 | I10: =SUM(M10,Q10) -> 6069934.8 | J10: ='2018'!G9 -> 614369 | K10: ='2018'!H9 -> 407259 | L10: ='2018'!I9 -> 207110 | M10: ='2018'!J9 -> 5285811.3 | N10: ='2018'!K9 -> 158046 | O10: ='2018'!L9 -> 97624 | P10: ='2018'!M9 -> 60422 | Q10: ='2018'!N9 -> 784123.52 | R10: =SUM(V10,Z10) -> 256042 | S10: =SUM(W10,AA10) -> 154733 | T10: =SUM(X10,AB10) -> 101309 | U10: =SUM(Y10,AC10) -> 1132004.3 | V10: ='2018'!O9 -> 147858 | W10: ='2018'!P9 -> 87661 | X10: ='2018'!Q9 -> 60197 | Y10: ='2018'!R9 -> 733108.84 | Z10: ='2018'!S9 -> 108184 | AA10: ='2018'!T9 -> 67072 | AB10: ='2018'!U9 -> 41112 | AC10: ='2018'!V9 -> 398895.49 | AD10: =SUM(AH10,AL10) -> 3137527 | AE10: =SUM(AI10,AM10) -> 1865866 | AF10: =SUM(AJ10,AN10) -> 1271661 | AG10: =SUM(AK10,AO10) -> 13943806 | AH10: ='2018'!W9 -> 1950719 | AI10: ='2018'!X9 -> 1133458 | AJ10: ='2018'!Y9 -> 817261 | AK10: ='2018'!Z9 -> 9594267.7 | AL10: ='2018'!AA9 -> 1186808 | AM10: ='2018'!AB9 -> 732408 | AN10: ='2018'!AC9 -> 454400 | AO10: ='2018'!AD9 -> 4349538.3 | ... AW10: ='2018'!AL9 -> 953364.86
A11: 108年,2019 | B11: ='2019'!C9 -> 4180281 | C11: ='2019'!D9 -> 2532418 | D11: ='2019'!E9 -> 1647863 | E11: ='2019'!F9 -> 21280242 | F11: =SUM(J11,N11) -> 784694 | G11: =SUM(K11,O11) -> 510530 | H11: =SUM(L11,P11) -> 274164 | I11: =SUM(M11,Q11) -> 6187807.5 | J11: ='2019'!G9 -> 627601 | K11: ='2019'!H9 -> 413912 | L11: ='2019'!I9 -> 213689 | M11: ='2019'!J9 -> 5403611.9 | N11: ='2019'!K9 -> 157093 | O11: ='2019'!L9 -> 96618 | P11: ='2019'!M9 -> 60475 | Q11: ='2019'!N9 -> 784195.59 | R11: =SUM(V11,Z11) -> 264026 | S11: =SUM(W11,AA11) -> 160613 | T11: =SUM(X11,AB11) -> 103413 | U11: =SUM(Y11,AC11) -> 1166935 | V11: ='2019'!O9 -> 152496 | W11: ='2019'!P9 -> 91542 | X11: ='2019'!Q9 -> 60954 | Y11: ='2019'!R9 -> 755341.13 | Z11: ='2019'!S9 -> 111530 | AA11: ='2019'!T9 -> 69071 | AB11: ='2019'!U9 -> 42459 | AC11: ='2019'!V9 -> 411593.91 | AD11: =SUM(AH11,AL11) -> 3110325 | AE11: =SUM(AI11,AM11) -> 1840551 | AF11: =SUM(AJ11,AN11) -> 1269774 | AG11: =SUM(AK11,AO11) -> 13821797 | AH11: ='2019'!W9 -> 1936891 | AI11: ='2019'!X9 -> 1119574 | AJ11: ='2019'!Y9 -> 817317 | AK11: ='2019'!Z9 -> 9521069.2 | AL11: ='2019'!AA9 -> 1173434 | AM11: ='2019'!AB9 -> 720977 | AN11: ='2019'!AC9 -> 452457 | AO11: ='2019'!AD9 -> 4300727.4 | ... AW11: ='2019'!AL9 -> 890871.61
A12: 109年,2020 | B12: ='2020'!C9 -> 4214109 | C12: ='2020'!D9 -> 2550185 | D12: ='2020'!E9 -> 1663924 | E12: ='2020'!F9 -> 22288115 | F12: =SUM(J12,N12) -> 797489 | G12: =SUM(K12,O12) -> 519331 | H12: =SUM(L12,P12) -> 278158 | I12: =SUM(M12,Q12) -> 6519075 | J12: ='2020'!G9 -> 639856 | K12: ='2020'!H9 -> 422587 | L12: ='2020'!I9 -> 217269 | M12: ='2020'!J9 -> 5707981 | N12: ='2020'!K9 -> 157633 | O12: ='2020'!L9 -> 96744 | P12: ='2020'!M9 -> 60889 | Q12: ='2020'!N9 -> 811094.05 | R12: =SUM(V12,Z12) -> 267797 | S12: =SUM(W12,AA12) -> 162626 | T12: =SUM(X12,AB12) -> 105171 | U12: =SUM(Y12,AC12) -> 1224006.3 | V12: ='2020'!O9 -> 154241 | W12: ='2020'!P9 -> 91893 | X12: ='2020'!Q9 -> 62348 | Y12: ='2020'!R9 -> 790206.91 | Z12: ='2020'!S9 -> 113556 | AA12: ='2020'!T9 -> 70733 | AB12: ='2020'!U9 -> 42823 | AC12: ='2020'!V9 -> 433799.4 | AD12: =SUM(AH12,AL12) -> 3129314 | AE12: =SUM(AI12,AM12) -> 1849134 | AF12: =SUM(AJ12,AN12) -> 1280180 | AG12: =SUM(AK12,AO12) -> 14445718 | AH12: ='2020'!W9 -> 1950364 | AI12: ='2020'!X9 -> 1126521 | AJ12: ='2020'!Y9 -> 823843 | AK12: ='2020'!Z9 -> 9958348.7 | AL12: ='2020'!AA9 -> 1178950 | AM12: ='2020'!AB9 -> 722613 | AN12: ='2020'!AC9 -> 456337 | AO12: ='2020'!AD9 -> 4487369.7 | ... AW12: ='2020'!AL9 -> 928384.16
A13: 110年,2021 | B13: ='2021'!C9 -> 4215053 | C13: ='2021'!D9 -> 2546918 | D13: ='2021'!E9 -> 1668135 | E13: ='2021'!F9 -> 22333596 | F13: =SUM(J13,N13) -> 800725 | G13: =SUM(K13,O13) -> 521693 | H13: =SUM(L13,P13) -> 279032 | I13: =SUM(M13,Q13) -> 6552409.9 | J13: ='2021'!G9 -> 642456 | K13: ='2021'!H9 -> 423802 | L13: ='2021'!I9 -> 218654 | M13: ='2021'!J9 -> 5735722.3 | N13: ='2021'!K9 -> 158269 | O13: ='2021'!L9 -> 97891 | P13: ='2021'!M9 -> 60378 | Q13: ='2021'!N9 -> 816687.56 | R13: =SUM(V13,Z13) -> 267636 | S13: =SUM(W13,AA13) -> 163420 | T13: =SUM(X13,AB13) -> 104216 | U13: =SUM(Y13,AC13) -> 1228536.3 | V13: ='2021'!O9 -> 155453 | W13: ='2021'!P9 -> 93005 | X13: ='2021'!Q9 -> 62448 | Y13: ='2021'!R9 -> 799324.14 | Z13: ='2021'!S9 -> 112183 | AA13: ='2021'!T9 -> 70415 | AB13: ='2021'!U9 -> 41768 | AC13: ='2021'!V9 -> 429212.21 | AD13: =SUM(AH13,AL13) -> 3129412 | AE13: =SUM(AI13,AM13) -> 1844904 | AF13: =SUM(AJ13,AN13) -> 1284508 | AG13: =SUM(AK13,AO13) -> 14464344 | AH13: ='2021'!W9 -> 1948433 | AI13: ='2021'!X9 -> 1122432 | AJ13: ='2021'!Y9 -> 826001 | AK13: ='2021'!Z9 -> 9963089.7 | AL13: ='2021'!AA9 -> 1180979 | AM13: ='2021'!AB9 -> 722472 | AN13: ='2021'!AC9 -> 458507 | AO13: ='2021'!AD9 -> 4501254.8 | ... AW13: ='2021'!AL9 -> 924536.31
A14: 111年,2022 | B14: ='2022'!C9 -> 4151979 | C14: ='2022'!D9 -> 2508905 | D14: ='2022'!E9 -> 1643074 | E14: ='2022'!F9 -> 22074236 | F14: =SUM(J14,N14) -> 804389 | G14: =SUM(K14,O14) -> 522416 | H14: =SUM(L14,P14) -> 281973 | I14: =SUM(M14,Q14) -> 6592687.1 | J14: ='2022'!G9 -> 646857 | K14: ='2022'!H9 -> 425371 | L14: ='2022'!I9 -> 221486 | M14: ='2022'!J9 -> 5779692.7 | N14: ='2022'!K9 -> 157532 | O14: ='2022'!L9 -> 97045 | P14: ='2022'!M9 -> 60487 | Q14: ='2022'!N9 -> 812994.38 | R14: =SUM(V14,Z14) -> 261751 | S14: =SUM(W14,AA14) -> 160604 | T14: =SUM(X14,AB14) -> 101147 | U14: =SUM(Y14,AC14) -> 1200203 | V14: ='2022'!O9 -> 150802 | W14: ='2022'!P9 -> 90785 | X14: ='2022'!Q9 -> 60017 | Y14: ='2022'!R9 -> 774977.53 | Z14: ='2022'!S9 -> 110949 | AA14: ='2022'!T9 -> 69819 | AB14: ='2022'!U9 -> 41130 | AC14: ='2022'!V9 -> 425225.48 | AD14: =SUM(AH14,AL14) -> 3069901 | AE14: =SUM(AI14,AM14) -> 1810793 | AF14: =SUM(AJ14,AN14) -> 1259108 | AG14: =SUM(AK14,AO14) -> 14196917 | AH14: ='2022'!W9 -> 1908957 | AI14: ='2022'!X9 -> 1100064 | AJ14: ='2022'!Y9 -> 808893 | AK14: ='2022'!Z9 -> 9766194.3 | AL14: ='2022'!AA9 -> 1160944 | AM14: ='2022'!AB9 -> 710729 | AN14: ='2022'!AC9 -> 450215 | AO14: ='2022'!AD9 -> 4430722.9 | ... AW14: ='2022'!AL9 -> 909594.52
A15: 112年,2023 | B15: ='2023'!C9 -> 4107192 | C15: ='2023'!D9 -> 2478415 | D15: ='2023'!E9 -> 1628777 | E15: ='2023'!F9 -> 21871817 | F15: =SUM(J15,N15) -> 801805 | G15: =SUM(K15,O15) -> 519277 | H15: =SUM(L15,P15) -> 282528 | I15: =SUM(M15,Q15) -> 6575887.3 | J15: ='2023'!G9 -> 647860 | K15: ='2023'!H9 -> 425023 | L15: ='2023'!I9 -> 222837 | M15: ='2023'!J9 -> 5781273.6 | N15: ='2023'!K9 -> 153945 | O15: ='2023'!L9 -> 94254 | P15: ='2023'!M9 -> 59691 | Q15: ='2023'!N9 -> 794613.79 | R15: =SUM(V15,Z15) -> 244040 | S15: =SUM(W15,AA15) -> 149070 | T15: =SUM(X15,AB15) -> 94970 | U15: =SUM(Y15,AC15) -> 1117169.6 | V15: ='2023'!O9 -> 139840 | W15: ='2023'!P9 -> 84084 | X15: ='2023'!Q9 -> 55756 | Y15: ='2023'!R9 -> 716909.08 | Z15: ='2023'!S9 -> 104200 | AA15: ='2023'!T9 -> 64986 | AB15: ='2023'!U9 -> 39214 | AC15: ='2023'!V9 -> 400260.53 | AD15: =SUM(AH15,AL15) -> 3046073 | AE15: =SUM(AI15,AM15) -> 1795965 | AF15: =SUM(AJ15,AN15) -> 1250108 | AG15: =SUM(AK15,AO15) -> 14096055 | AH15: ='2023'!W9 -> 1889712 | AI15: ='2023'!X9 -> 1089467 | AJ15: ='2023'!Y9 -> 800245 | AK15: ='2023'!Z9 -> 9675984.8 | AL15: ='2023'!AA9 -> 1156361 | AM15: ='2023'!AB9 -> 706498 | AN15: ='2023'!AC9 -> 449863 | AO15: ='2023'!AD9 -> 4420070.1 | ... AW15: ='2023'!AL9 -> 894305.49
A16: 113年,2024 | B16: ='2024'!C9 -> 4036938 | C16: ='2024'!D9 -> 2433874 | D16: ='2024'!E9 -> 1603064 | E16: ='2024'!F9 -> 23127420 | F16: ='2024'!G9 -> 778445 | G16: ='2024'!H9 -> 503243 | H16: ='2024'!I9 -> 275202 | I16: ='2024'!J9 -> 6900706.6 | ... AW16: ='2024'!AX9 -> 940468.13
A17: 1月,Jan. | B17: 322835 | C17: 194884 | D17: 127951 | E17: 1826534.5 | F17: 61400 | G17: 39791 | H17: 21609 | I17: 540131.92 | J17: 50316 | K17: 33043 | L17: 17273 | M17: 479084.63 | N17: 11084 | O17: 6748 | P17: 4336 | Q17: 61047.288 | R17: 18479 | S17: 11284 | T17: 7195 | U17: 89726.937 | V17: 10526 | W17: 6353 | X17: 4173 | Y17: 57210.522 | Z17: 7953 | AA17: 4931 | AB17: 3022 | AC17: 32516.415 | AD17: 241636 | AE17: 142612 | AF17: 99024 | AG17: 1189024.9 | AH17: 149651 | AI17: 86379 | AJ17: 63272 | AK17: 815454.24 | AL17: 91985 | AM17: 56233 | AN17: 35752 | AO17: 373570.61 | AP17: 1320 | AQ17: 1197 | AR17: 123 | AS17: 7650.794 | AT17: 11967 | AU17: 7226 | AV17: 4741 | AW17: 72871.906
A18: 2月,Feb. | B18: 331518 | C18: 200072 | D18: 131446 | E18: 1913055.4 | F18: 63596 | G18: 41201 | H18: 22395 | I18: 570924.14 | J18: 52019 | K18: 34152 | L18: 17867 | M18: 505564.59 | N18: 11577 | O18: 7049 | P18: 4528 | Q18: 65359.55 | R18: 18743 | S18: 11446 | T18: 7297 | U18: 93700.039 | V18: 10643 | W18: 6407 | X18: 4236 | Y18: 59758.964 | Z18: 8100 | AA18: 5039 | AB18: 3061 | AC18: 33941.075 | AD18: 247847 | AE18: 146211 | AF18: 101636 | AG18: 1240617.4 | AH18: 153695 | AI18: 88667 | AJ18: 65028 | AK18: 851869.93 | AL18: 94152 | AM18: 57544 | AN18: 36608 | AO18: 388747.48 | AP18: 1332 | AQ18: 1214 | AR18: 118 | AS18: 7813.822 | AT18: 12507 | AU18: 7532 | AV18: 4975 | AW18: 78262.507
A19: 3月,Mar. | B19: 334757 | C19: 201954 | D19: 132803 | E19: 1934621.1 | F19: 64727 | G19: 41924 | H19: 22803 | I19: 575036.48 | J19: 52913 | K19: 34743 | L19: 18170 | M19: 509098.47 | N19: 11814 | O19: 7181 | P19: 4633 | Q19: 65938.009 | R19: 18969 | S19: 11588 | T19: 7381 | U19: 94249.403 | V19: 10787 | W19: 6487 | X19: 4300 | Y19: 59987.401 | Z19: 8182 | AA19: 5101 | AB19: 3081 | AC19: 34262.002 | AD19: 249717 | AE19: 147214 | AF19: 102503 | AG19: 1257410.7 | AH19: 154930 | AI19: 89322 | AJ19: 65608 | AK19: 863304.02 | AL19: 94787 | AM19: 57892 | AN19: 36895 | AO19: 394106.67 | AP19: 1344 | AQ19: 1228 | AR19: 116 | AS19: 7924.581 | AT19: 12626 | AU19: 7606 | AV19: 5020 | AW19: 78590.858
A20: 4月,Apr. | B20: 335636 | C20: 202302 | D20: 133334 | E20: 1935370.3 | F20: 64950 | G20: 42009 | H20: 22941 | I20: 577280.74 | J20: 53044 | K20: 34760 | L20: 18284 | M20: 510632.71 | N20: 11906 | O20: 7249 | P20: 4657 | Q20: 66648.024 | R20: 18979 | S20: 11594 | T20: 7385 | U20: 94509.327 | V20: 10769 | W20: 6486 | X20: 4283 | Y20: 60168.496 | Z20: 8210 | AA20: 5108 | AB20: 3102 | AC20: 34340.831 | AD20: 250351 | AE20: 147462 | AF20: 102889 | AG20: 1255597.4 | AH20: 155026 | AI20: 89339 | AJ20: 65687 | AK20: 860036.47 | AL20: 95325 | AM20: 58123 | AN20: 37202 | AO20: 395560.95 | AP20: 1356 | AQ20: 1237 | AR20: 119 | AS20: 7982.826 | AT20: 12669 | AU20: 7654 | AV20: 5015 | AW20: 79278.094
A21: 5月,May | B21: 336292 | C21: 202776 | D21: 133516 | E21: 1932555.2 | F21: 65241 | G21: 42219 | H21: 23022 | I21: 578422.83 | J21: 53253 | K21: 34930 | L21: 18323 | M21: 511709.66 | N21: 11988 | O21: 7289 | P21: 4699 | Q21: 66713.162 | R21: 19147 | S21: 11695 | T21: 7452 | U21: 94272.62 | V21: 10876 | W21: 6515 | X21: 4361 | Y21: 59943.6 | Z21: 8271 | AA21: 5180 | AB21: 3091 | AC21: 34329.02 | AD21: 250531 | AE21: 147600 | AF21: 102931 | AG21: 1251883.1 | AH21: 155030 | AI21: 89327 | AJ21: 65703 | AK21: 857429.31 | AL21: 95501 | AM21: 58273 | AN21: 37228 | AO21: 394453.82 | AP21: 1373 | AQ21: 1262 | AR21: 111 | AS21: 7976.651 | AT21: 12713 | AU21: 7695 | AV21: 5018 | AW21: 79244.529
A22: 6月,Jun. | B22: 336934 | C22: 203037 | D22: 133897 | E22: 1934563.9 | F22: 65253 | G22: 42152 | H22: 23101 | I22: 578733.96 | J22: 53187 | K22: 34837 | L22: 18350 | M22: 511409.34 | N22: 12066 | O22: 7315 | P22: 4751 | Q22: 67324.628 | R22: 19203 | S22: 11731 | T22: 7472 | U22: 94532.712 | V22: 10882 | W22: 6540 | X22: 4342 | Y22: 60097.902 | Z22: 8321 | AA22: 5191 | AB22: 3130 | AC22: 34434.81 | AD22: 251158 | AE22: 147950 | AF22: 103208 | AG22: 1253612.5 | AH22: 155494 | AI22: 89646 | AJ22: 65848 | AK22: 858192.39 | AL22: 95664 | AM22: 58304 | AN22: 37360 | AO22: 395420.13 | AP22: 1320 | AQ22: 1204 | AR22: 116 | AS22: 7684.688 | AT22: 12712 | AU22: 7717 | AV22: 4995 | AW22: 79425.782
A23: 7月,Jul. | B23: 337754 | C23: 203551 | D23: 134203 | E23: 1935321.4 | F23: 65112 | G23: 42093 | H23: 23019 | I23: 576214.54 | J23: 53191 | K23: 34848 | L23: 18343 | M23: 509903.7 | N23: 11921 | O23: 7245 | P23: 4676 | Q23: 66310.842 | R23: 19243 | S23: 11760 | T23: 7483 | U23: 94533.347 | V23: 10885 | W23: 6553 | X23: 4332 | Y23: 59895.08 | Z23: 8358 | AA23: 5207 | AB23: 3151 | AC23: 34638.267 | AD23: 252082 | AE23: 148488 | AF23: 103594 | AG23: 1256852.2 | AH23: 155944 | AI23: 89849 | AJ23: 66095 | AK23: 860473.37 | AL23: 96138 | AM23: 58639 | AN23: 37499 | AO23: 396378.86 | AP23: 1317 | AQ23: 1210 | AR23: 107 | AS23: 7721.236 | AT23: 12714 | AU23: 7718 | AV23: 4996 | AW23: 78572.259
A24: 8月,Aug. | B24: 338330 | C24: 203868 | D24: 134462 | E24: 1938335.2 | F24: 65063 | G24: 42013 | H24: 23050 | I24: 576570.45 | J24: 53122 | K24: 34768 | L24: 18354 | M24: 510477.66 | N24: 11941 | O24: 7245 | P24: 4696 | Q24: 66092.786 | R24: 19430 | S24: 11930 | T24: 7500 | U24: 95638.448 | V24: 11016 | W24: 6651 | X24: 4365 | Y24: 60850.228 | Z24: 8414 | AA24: 5279 | AB24: 3135 | AC24: 34788.22 | AD24: 252522 | AE24: 148730 | AF24: 103792 | AG24: 1258436.9 | AH24: 156177 | AI24: 90036 | AJ24: 66141 | AK24: 861359.04 | AL24: 96345 | AM24: 58694 | AN24: 37651 | AO24: 397077.82 | AP24: 1315 | AQ24: 1195 | AR24: 120 | AS24: 7689.398 | AT24: 12666 | AU24: 7676 | AV24: 4990 | AW24: 78785.502
A25: 9月,Sept. | B25: 339976 | C25: 205105 | D25: 134871 | E25: 1939327.5 | F25: 65733 | G25: 42505 | H25: 23228 | I25: 580582.01 | J25: 53637 | K25: 35164 | L25: 18473 | M25: 513623.34 | N25: 12096 | O25: 7341 | P25: 4755 | Q25: 66958.671 | R25: 19577 | S25: 12012 | T25: 7565 | U25: 95505.518 | V25: 11126 | W25: 6721 | X25: 4405 | Y25: 60846.661 | Z25: 8451 | AA25: 5291 | AB25: 3160 | AC25: 34658.857 | AD25: 253334 | AE25: 149381 | AF25: 103953 | AG25: 1255542.4 | AH25: 156663 | AI25: 90428 | AJ25: 66235 | AK25: 859372.27 | AL25: 96671 | AM25: 58953 | AN25: 37718 | AO25: 396170.15 | AP25: 1332 | AQ25: 1207 | AR25: 125 | AS25: 7697.583 | AT25: 12750 | AU25: 7748 | AV25: 5002 | AW25: 79190.012
A26: 10月,Oct. | B26: 340673 | C26: 205380 | D26: 135293 | E26: 1945175.2 | F26: 65702 | G26: 42409 | H26: 23293 | I26: 581882.86 | J26: 53646 | K26: 35110 | L26: 18536 | M26: 514635.12 | N26: 12056 | O26: 7299 | P26: 4757 | Q26: 67247.745 | R26: 19692 | S26: 12086 | T26: 7606 | U26: 96560.038 | V26: 11132 | W26: 6717 | X26: 4415 | Y26: 61208.514 | Z26: 8560 | AA26: 5369 | AB26: 3191 | AC26: 35351.524 | AD26: 253943 | AE26: 149672 | AF26: 104271 | AG26: 1258935.4 | AH26: 157010 | AI26: 90538 | AJ26: 66472 | AK26: 861363.17 | AL26: 96933 | AM26: 59134 | AN26: 37799 | AO26: 397572.23 | AP26: 1336 | AQ26: 1213 | AR26: 123 | AS26: 7796.85 | AT26: 12731 | AU26: 7740 | AV26: 4991 | AW26: 78772.013
A27: 11月,Nov. | B27: 340626 | C27: 205191 | D27: 135435 | E27: 1944734.4 | F27: 65745 | G27: 42410 | H27: 23335 | I27: 582452.43 | J27: 53680 | K27: 35119 | L27: 18561 | M27: 515367.12 | N27: 12065 | O27: 7291 | P27: 4774 | Q27: 67085.319 | R27: 19800 | S27: 12136 | T27: 7664 | U27: 97168.309 | V27: 11197 | W27: 6748 | X27: 4449 | Y27: 61559.32 | Z27: 8603 | AA27: 5388 | AB27: 3215 | AC27: 35608.989 | AD27: 253756 | AE27: 149441 | AF27: 104315 | AG27: 1257380.5 | AH27: 156785 | AI27: 90370 | AJ27: 66415 | AK27: 859704 | AL27: 96971 | AM27: 59071 | AN27: 37900 | AO27: 397676.53 | AP27: 1325 | AQ27: 1204 | AR27: 121 | AS27: 7733.158 | AT27: 12694 | AU27: 7680 | AV27: 5014 | AW27: 78423.962
A28: 12月,Dec. | B28: 341607 | C28: 205754 | D28: 135853 | E28: 1947826.3 | F28: 65923 | G28: 42517 | H28: 23406 | I28: 582474.22 | J28: 53777 | K28: 35127 | L28: 18650 | M28: 515214.66 | N28: 12146 | O28: 7390 | P28: 4756 | Q28: 67259.565 | R28: 19979 | S28: 12245 | T28: 7734 | U28: 97891.567 | V28: 11310 | W28: 6841 | X28: 4469 | Y28: 62047.514 | Z28: 8669 | AA28: 5404 | AB28: 3265 | AC28: 35844.053 | AD28: 254363 | AE28: 149771 | AF28: 104592 | AG28: 1259585.4 | AH28: 157086 | AI28: 90479 | AJ28: 66607 | AK28: 861283.41 | AL28: 97277 | AM28: 59292 | AN28: 37985 | AO28: 398301.97 | AP28: 1342 | AQ28: 1221 | AR28: 121 | AS28: 7875.174 | AT28: 12750 | AU28: 7731 | AV28: 5019 | AW28: 79050.71
A30: 年別 Years | B30: 總計 Total | F30: 福利身分別 By Identity | AP30: 依年齡別分 By Age | BB30: 榮民(補差額) Veteran Serviceman (Difference) | BF30: 原住民 Indigenous
F31: 低收入戶 Low-income Households | R31: 中低收入戶 Middle-low-income Households | AD31: 最低生活費1.5倍以上未達2.5倍者Between 1.5 and 2.5 times of minimum of subsistence | AP31: 未滿18歲 | AT31: 18歲-未滿65歲 | AX31: 65歲以上
F32: 合計Total | J32: 中度障礙以上 Moderate & Over | N32: 輕度障礙 Mild | R32: 合計Total | V32: 中度障礙以上 Moderate & Over | Z32: 輕度障礙 Mild | AD32: 合計Total | AH32: 中度障礙以上 Moderate & Over | AL32: 輕度障礙 Mild
B33: 人次 Person-times | E33: 金額 (千元) Amounts (NT$1,000) | F33: 人次 Person-times | I33: 金額 (千元) Amounts (NT$1,000) | J33: 人次 Person-times | M33: 金額 (千元) Amounts (NT$1,000) | N33: 人次 Person-times | Q33: 金額 (千元) Amounts (NT$1,000) | R33: 人次 Person-times | U33: 金額 (千元) Amounts (NT$1,000) | V33: 人次 Person-times | Y33: 金額 (千元) Amounts (NT$1,000) | Z33: 人次 Person-times | AC33: 金額 (千元) Amounts (NT$1,000) | AD33: 人次 Person-times | AG33: 金額 (千元) Amounts (NT$1,000) | AH33: 人次 Person-times | AK33: 金額 (千元) Amounts (NT$1,000) | AL33: 人次 Person-times | AO33: 金額 (千元) Amounts (NT$1,000) | AP33: 人次 Person-times | AS33: 金額 (千元) Amounts (NT$1,000) | AT33: 人次 Person-times | AW33: 金額 (千元) Amounts (NT$1,000) | AX33: 人次 Person-times | BA33: 金額 (千元) Amounts (NT$1,000) | BB33: 人次 Person-times | BE33: 金額 (千元) Amounts (NT$1,000) | BF33: 人次 Person-times | BI33: 金額 (千元) Amounts (NT$1,000)
B34: 合計 Total | C34: 男 Male | D34: 女 Female | F34: 計 Subtotal | G34: 男 Male | H34: 女 Female | J34: 計 Subtotal | K34: 男 Male | L34: 女 Female | N34: 計 Subtotal | O34: 男 Male | P34: 女 Female | R34: 計 Subtotal | S34: 男 Male | T34: 女 Female | V34: 計 Subtotal | W34: 男 Male | X34: 女 Female | Z34: 計 Subtotal | AA34: 男 Male | AB34: 女 Female | AD34: 計 Subtotal | AE34: 男 Male | AF34: 女 Female | AH34: 計 Subtotal | AI34: 男 Male | AJ34: 女 Female | AL34: 計 Subtotal | AM34: 男 Male | AN34: 女 Female | AP34: 合計 Subtotal | AQ34: 男 Male | AR34: 女 Female | AT34: 合計 Subtotal | AU34: 男 Male | AV34: 女 Female | AX34: 合計 Subtotal | AY34: 男 Male | AZ34: 女 Female | BB34: 計 Subtotal | BC34: 男 Male | BD34: 女 Female | BF34: 計 Subtotal | BG34: 男 Male | BH34: 女 Female
A35: 114年,2025 | B35: ='2025'!C9 -> 3916432 | C35: ='2025'!D9 -> 2361659 | D35: ='2025'!E9 -> 1554773 | E35: ='2025'!F9 -> 22614398 | F35: ='2025'!G9 -> 782841 | G35: ='2025'!H9 -> 504722 | H35: ='2025'!I9 -> 278119 | I35: ='2025'!J9 -> 6971919.6 | ... BI35: ='2025'!BJ9 -> 942535.87
A36: 1月Jan. | B36: ='1,2025'!C9 -> 316613 | C36: ='1,2025'!D9 -> 191369 | D36: ='1,2025'!E9 -> 125244 | E36: ='1,2025'!F9 -> 1826626.6 | F36: ='1,2025'!G9 -> 62694 | G36: ='1,2025'!H9 -> 40569 | H36: ='1,2025'!I9 -> 22125 | I36: ='1,2025'!J9 -> 556489.9 | ... BI36: ='1,2025'!BJ9 -> 74785.606
A37: 2月Feb. | B37: ='2, 2025'!C9 -> 320496 | C37: ='2, 2025'!D9 -> 193532 | D37: ='2, 2025'!E9 -> 126964 | E37: ='2, 2025'!F9 -> 1858854.9 | F37: ='2, 2025'!G9 -> 63401 | G37: ='2, 2025'!H9 -> 40970 | H37: ='2, 2025'!I9 -> 22431 | I37: ='2, 2025'!J9 -> 567904.27 | ... BI37: ='2, 2025'!BJ9 -> 76934.703
A38: 3月Mar. | B38: ='3, 2025'!C9 -> 325051 | C38: ='3, 2025'!D9 -> 196290 | D38: ='3, 2025'!E9 -> 128761 | E38: ='3, 2025'!F9 -> 1893255.7 | F38: ='3, 2025'!G9 -> 64713 | G38: ='3, 2025'!H9 -> 41791 | H38: ='3, 2025'!I9 -> 22922 | I38: ='3, 2025'!J9 -> 580685.83 | ... BI38: ='3, 2025'!BJ9 -> 79215.974
A39: 4月Apr. | B39: ='4, 2025'!C9 -> 327243 | C39: ='4, 2025'!D9 -> 197527 | D39: ='4, 2025'!E9 -> 129716 | E39: ='4, 2025'!F9 -> 1892016.7 | F39: ='4, 2025'!G9 -> 65474 | G39: ='4, 2025'!H9 -> 42263 | H39: ='4, 2025'!I9 -> 23211 | I39: ='4, 2025'!J9 -> 583292.42 | ... BI39: ='4, 2025'!BJ9 -> 79245.408
A40: 5月May | B40: ='5, 2025'!C9 -> 326323 | C40: ='5, 2025'!D9 -> 196719 | D40: ='5, 2025'!E9 -> 129604 | E40: ='5, 2025'!F9 -> 1888428.5 | F40: ='5, 2025'!G9 -> 65295 | G40: ='5, 2025'!H9 -> 42089 | H40: ='5, 2025'!I9 -> 23206 | I40: ='5, 2025'!J9 -> 582362.42 | ... BI40: ='5, 2025'!BJ9 -> 78725.312
A41: 6月Jun. | B41: ='6, 2025'!C9 -> 327282 | C41: ='6, 2025'!D9 -> 197350 | D41: ='6, 2025'!E9 -> 129932 | E41: ='6, 2025'!F9 -> 1889218.5 | F41: ='6, 2025'!G9 -> 65567 | G41: ='6, 2025'!H9 -> 42230 | H41: ='6, 2025'!I9 -> 23337 | I41: ='6, 2025'!J9 -> 582882.16 | ... BI41: ='6, 2025'!BJ9 -> 79010.435
A42: 7月July | B42: ='7, 2025'!C9 -> 327775 | C42: ='7, 2025'!D9 -> 197651 | D42: ='7, 2025'!E9 -> 130124 | E42: ='7, 2025'!F9 -> 1887878.5 | F42: ='7, 2025'!G9 -> 65410 | G42: ='7, 2025'!H9 -> 42160 | H42: ='7, 2025'!I9 -> 23250 | I42: ='7, 2025'!J9 -> 580888.64 | ... BI42: ='7, 2025'!BJ9 -> 78782.197
...

Sheet 2026
A1: 身心障礙者生活補助Living Assistance for the Disabled
A3: 115年, 2026
A4: 區域別 Locality | C4: 總計 Total | G4: 福利身分別 By Identity | AQ4: 依年齡別分 By Age | BC4: 榮民(補差額) Veteran Serviceman (Difference) | BG4: 原住民 Indigenous
G5: 低收入戶 Low-income Households | S5: 中低收入戶 Middle-low-income Households | AE5: 最低生活費1.5倍以上未達2.5倍者Between 1.5 and 2.5 times of minimum of subsistence | AQ5: 未滿18歲 | AU5: 18歲-未滿65歲 | AY5: 65歲以上
G6: 合計Total | K6: 中度障礙以上 Moderate & Over | O6: 輕度障礙 Mild | S6: 合計Total | W6: 中度障礙以上 Moderate & Over | AA6: 輕度障礙 Mild | AE6: 合計Total | AI6: 中度障礙以上 Moderate & Over | AM6: 輕度障礙 Mild
C7: 人次 Person-times | F7: 金額 (千元) Amounts (NT$1,000) | G7: 人次 Person-times | J7: 金額 (千元) Amounts (NT$1,000) | K7: 人次 Person-times | N7: 金額 (千元) Amounts (NT$1,000) | O7: 人次 Person-times | R7: 金額 (千元) Amounts (NT$1,000) | S7: 人次 Person-times | V7: 金額 (千元) Amounts (NT$1,000) | W7: 人次 Person-times | Z7: 金額 (千元) Amounts (NT$1,000) | AA7: 人次 Person-times | AD7: 金額 (千元) Amounts (NT$1,000) | AE7: 人次 Person-times | AH7: 金額 (千元) Amounts (NT$1,000) | AI7: 人次 Person-times | AL7: 金額 (千元) Amounts (NT$1,000) | AM7: 人次 Person-times | AP7: 金額 (千元) Amounts (NT$1,000) | AQ7: 人次 Person-times | AT7: 金額 (千元) Amounts (NT$1,000) | AU7: 人次 Person-times | AX7: 金額 (千元) Amounts (NT$1,000) | AY7: 人次 Person-times | BB7: 金額 (千元) Amounts (NT$1,000) | BC7: 人次 Person-times | BF7: 金額 (千元) Amounts (NT$1,000) | BG7: 人次 Person-times | BJ7: 金額 (千元) Amounts (NT$1,000)
C8: 合計 Total | D8: 男 Male | E8: 女 Female | G8: 計 Subtotal | H8: 男 Male | I8: 女 Female | K8: 計 Subtotal | L8: 男 Male | M8: 女 Female | O8: 計 Subtotal | P8: 男 Male | Q8: 女 Female | S8: 計 Subtotal | T8: 男 Male | U8: 女 Female | W8: 計 Subtotal | X8: 男 Male | Y8: 女 Female | AA8: 計 Subtotal | AB8: 男 Male | AC8: 女 Female | AE8: 計 Subtotal | AF8: 男 Male | AG8: 女 Female | AI8: 計 Subtotal | AJ8: 男 Male | AK8: 女 Female | AM8: 計 Subtotal | AN8: 男 Male | AO8: 女 Female | AQ8: 合計 Subtotal | AR8: 男 Male | AS8: 女 Female | AU8: 合計 Subtotal | AV8: 男 Male | AW8: 女 Female | AY8: 合計 Subtotal | AZ8: 男 Male | BA8: 女 Female | BC8: 計 Subtotal | BD8: 男 Male | BE8: 女 Female | BG8: 計 Subtotal | BH8: 男 Male | BI8: 女 Female
A9: 總計 | B9: Total
A10: 新北市 | B10: New Taipei City
A11: 臺北市 | B11: Taipei City
A12: 桃園市 | B12: Taoyuan City
A13: 臺中市 | B13: Taichung City
A14: 臺南市 | B14: Tainan City
A15: 高雄市 | B15: Kaohsiung City
A16: 宜蘭縣 | B16: Yilan County
A17: 新竹縣 | B17: Hsinchu County
A18: 苗栗縣 | B18: Miaoli County
A19: 彰化縣 | B19: Changhua County
A20: 南投縣 | B20: Nantou County
... A31: 連江縣 | B31: Lienchiang County
A32: 資料來源：直轄市、縣(市)政府。
A33: Source : County and City Government.
A34: 說明：本表自114年分「福利身分別」及「年齡別」兩類型統計，並皆含具榮民、原住民身分者，此外榮民、原住民另行獨立統計。
A35: 更新日期：2025/02/21

Sheet 12,2026
A1: 身心障礙者生活補助Living Assistance for the Disabled
A3: 115年12月Dec., 2026
A4: 區域別 Locality | C4: 總計 Total | G4: 福利身分別 By Identity | AQ4: 依年齡別分 By Age | BC4: 榮民(補差額) Veteran Serviceman (Difference) | BG4: 原住民 Indigenous
G5: 低收入戶 Low-income Households | S5: 中低收入戶 Middle-low-income Households | AE5: 最低生活費1.5倍以上未達2.5倍者Between 1.5 and 2.5 times of minimum of subsistence | AQ5: 未滿18歲 | AU5: 18歲-未滿65歲 | AY5: 65歲以上
G6: 合計Total | K6: 中度障礙以上 Moderate & Over | O6: 輕度障礙 Mild | S6: 合計Total | W6: 中度障礙以上 Moderate & Over | AA6: 輕度障礙 Mild | AE6: 合計Total | AI6: 中度障礙以上 Moderate & Over | AM6: 輕度障礙 Mild
C7: 人數 Person | F7: 金額 (千元) Amounts (NT$1,000) | G7: 人數 Person | J7: 金額 (千元) Amounts (NT$1,000) | K7: 人數 Person | N7: 金額 (千元) Amounts (NT$1,000) | O7: 人數 Person | R7: 金額 (千元) Amounts (NT$1,000) | S7: 人數 Person | V7: 金額 (千元) Amounts (NT$1,000) | W7: 人數 Person | Z7: 金額 (千元) Amounts (NT$1,000) | AA7: 人數 Person | AD7: 金額 (千元) Amounts (NT$1,000) | AE7: 人數 Person | AH7: 金額 (千元) Amounts (NT$1,000) | AI7: 人數 Person | AL7: 金額 (千元) Amounts (NT$1,000) | AM7: 人數 Person | AP7: 金額 (千元) Amounts (NT$1,000) | AQ7: 人數 Person | AT7: 金額 (千元) Amounts (NT$1,000) | AU7: 人數 Person | AX7: 金額 (千元) Amounts (NT$1,000) | AY7: 人數 Person | BB7: 金額 (千元) Amounts (NT$1,000) | BC7: 人數 Person | BF7: 金額 (千元) Amounts (NT$1,000) | BG7: 人數 Person | BJ7: 金額 (千元) Amounts (NT$1,000)
C8: 合計 Total | D8: 男 Male | E8: 女 Female | G8: 計 Subtotal | H8: 男 Male | I8: 女 Female | K8: 計 Subtotal | L8: 男 Male | M8: 女 Female | O8: 計 Subtotal | P8: 男 Male | Q8: 女 Female | S8: 計 Subtotal | T8: 男 Male | U8: 女 Female | W8: 計 Subtotal | X8: 男 Male | Y8: 女 Female | AA8: 計 Subtotal | AB8: 男 Male | AC8: 女 Female | AE8: 計 Subtotal | AF8: 男 Male | AG8: 女 Female | AI8: 計 Subtotal | AJ8: 男 Male | AK8: 女 Female | AM8: 計 Subtotal | AN8: 男 Male | AO8: 女 Female | AQ8: 合計 Subtotal | AR8: 男 Male | AS8: 女 Female | AU8: 合計 Subtotal | AV8: 男 Male | AW8: 女 Female | AY8: 合計 Subtotal | AZ8: 男 Male | BA8: 女 Female | BC8: 計 Subtotal | BD8: 男 Male | BE8: 女 Female | BG8: 計 Subtotal | BH8: 男 Male | BI8: 女 Female
A9: 總計 | B9: Total
A10: 新北市 | B10: New Taipei City
A11: 臺北市 | B11: Taipei City
A12: 桃園市 | B12: Taoyuan City
A13: 臺中市 | B13: Taichung City
A14: 臺南市 | B14: Tainan City
A15: 高雄市 | B15: Kaohsiung City
A16: 宜蘭縣 | B16: Yilan County
A17: 新竹縣 | B17: Hsinchu County
A18: 苗栗縣 | B18: Miaoli County
A19: 彰化縣 | B19: Changhua County
A20: 南投縣 | B20: Nantou County
... A31: 連江縣 | B31: Lienchiang County
A32: 資料來源：直轄市、縣(市)政府。
A33: Source : County and City Government.
A34: 說明：本表自114年分「福利身分別」及「年齡別」兩類型統計，並皆含具榮民、原住民身分者，此外榮民、原住民另行獨立統計。
A35: 更新日期：2025/02/21

Sheet 11, 2026
A1: 身心障礙者生活補助Living Assistance for the Disabled
A3: 115年11月Nov., 2026
A4: 區域別 Locality | C4: 總計 Total | G4: 福利身分別 By Identity | AQ4: 依年齡別分 By Age | BC4: 榮民(補差額) Veteran Serviceman (Difference) | BG4: 原住民 Indigenous
G5: 低收入戶 Low-income Households | S5: 中低收入戶 Middle-low-income Households | AE5: 最低生活費1.5倍以上未達2.5倍者Between 1.5 and 2.5 times of minimum of subsistence | AQ5: 未滿18歲 | AU5: 18歲-未滿65歲 | AY5: 65歲以上
G6: 合計Total | K6: 中度障礙以上 Moderate & Over | O6: 輕度障礙 Mild | S6: 合計Total | W6: 中度障礙以上 Moderate & Over | AA6: 輕度障礙 Mild | AE6: 合計Total | AI6: 中度障礙以上 Moderate & Over | AM6: 輕度障礙 Mild
C7: 人數 Person | F7: 金額 (千元) Amounts (NT$1,000) | G7: 人數 Person | J7: 金額 (千元) Amounts (NT$1,000) | K7: 人數 Person | N7: 金額 (千元) Amounts (NT$1,000) | O7: 人數 Person | R7: 金額 (千元) Amounts (NT$1,000) | S7: 人數 Person | V7: 金額 (千元) Amounts (NT$1,000) | W7: 人數 Person | Z7: 金額 (千元) Amounts (NT$1,000) | AA7: 人數 Person | AD7: 金額 (千元) Amounts (NT$1,000) | AE7: 人數 Person | AH7: 金額 (千元) Amounts (NT$1,000) | AI7: 人數 Person | AL7: 金額 (千元) Amounts (NT$1,000) | AM7: 人數 Person | AP7: 金額 (千元) Amounts (NT$1,000) | AQ7: 人數 Person | AT7: 金額 (千元) Amounts (NT$1,000) | AU7: 人數 Person | AX7: 金額 (千元) Amounts (NT$1,000) | AY7: 人數 Person | BB7: 金額 (千元) Amounts (NT$1,000) | BC7: 人數 Person | BF7: 金額 (千元) Amounts (NT$1,000) | BG7: 人數 Person | BJ7: 金額 (千元) Amounts (NT$1,000)
C8: 合計 Total | D8: 男 Male | E8: 女 Female | G8: 計 Subtotal | H8: 男 Male | I8: 女 Female | K8: 計 Subtotal | L8: 男 Male | M8: 女 Female | O8: 計 Subtotal | P8: 男 Male | Q8: 女 Female | S8: 計 Subtotal | T8: 男 Male | U8: 女 Female | W8: 計 Subtotal | X8: 男 Male | Y8: 女 Female | AA8: 計 Subtotal | AB8: 男 Male | AC8: 女 Female | AE8: 計 Subtotal | AF8: 男 Male | AG8: 女 Female | AI8: 計 Subtotal | AJ8: 男 Male | AK8: 女 Female | AM8: 計 Subtotal | AN8: 男 Male | AO8: 女 Female | AQ8: 合計 Subtotal | AR8: 男 Male | AS8: 女 Female | AU8: 合計 Subtotal | AV8: 男 Male | AW8: 女 Female | AY8: 合計 Subtotal | AZ8: 男 Male | BA8: 女 Female | BC8: 計 Subtotal | BD8: 男 Male | BE8: 女 Female | BG8: 計 Subtotal | BH8: 男 Male | BI8: 女 Female
A9: 總計 | B9: Total
A10: 新北市 | B10: New Taipei City
A11: 臺北市 | B11: Taipei City
A12: 桃園市 | B12: Taoyuan City
A13: 臺中市 | B13: Taichung City
A14: 臺南市 | B14: Tainan City
A15: 高雄市 | B15: Kaohsiung City
A16: 宜蘭縣 | B16: Yilan County
A17: 新竹縣 | B17: Hsinchu County
A18: 苗栗縣 | B18: Miaoli County
A19: 彰化縣 | B19: Changhua County
A20: 南投縣 | B20: Nantou County
... A31: 連江縣 | B31: Lienchiang County
A32: 資料來源：直轄市、縣(市)政府。
A33: Source : County and City Government.
A34: 說明：本表自114年分「福利身分別」及「年齡別」兩類型統計，並皆含具榮民、原住民身分者，此外榮民、原住民另行獨立統計。
A35: 更新日期：2025/02/21

Sheet 10, 2026
A1: 身心障礙者生活補助Living Assistance for the Disabled
A3: 115年10月Oct., 2026
A4: 區域別 Locality | C4: 總計 Total | G4: 福利身分別 By Identity | AQ4: 依年齡別分 By Age | BC4: 榮民(補差額) Veteran Serviceman (Difference) | BG4: 原住民 Indigenous
G5: 低收入戶 Low-income Households | S5: 中低收入戶 Middle-low-income Households | AE5: 最低生活費1.5倍以上未達2.5倍者Between 1.5 and 2.5 times of minimum of subsistence | AQ5: 未滿18歲 | AU5: 18歲-未滿65歲 | AY5: 65歲以上
G6: 合計Total | K6: 中度障礙以上 Moderate & Over | O6: 輕度障礙 Mild | S6: 合計Total | W6: 中度障礙以上 Moderate & Over | AA6: 輕度障礙 Mild | AE6: 合計Total | AI6: 中度障礙以上 Moderate & Over | AM6: 輕度障礙 Mild
C7: 人數 Person | F7: 金額 (千元) Amounts (NT$1,000) | G7: 人數 Person | J7: 金額 (千元) Amounts (NT$1,000) | K7: 人數 Person | N7: 金額 (千元) Amounts (NT$1,000) | O7: 人數 Person | R7: 金額 (千元) Amounts (NT$1,000) | S7: 人數 Person | V7: 金額 (千元) Amounts (NT$1,000) | W7: 人數 Person | Z7: 金額 (千元) Amounts (NT$1,000) | AA7: 人數 Person | AD7: 金額 (千元) Amounts (NT$1,000) | AE7: 人數 Person | AH7: 金額 (千元) Amounts (NT$1,000) | AI7: 人數 Person | AL7: 金額 (千元) Amounts (NT$1,000) | AM7: 人數 Person | AP7: 金額 (千元) Amounts (NT$1,000) | AQ7: 人數 Person | AT7: 金額 (千元) Amounts (NT$1,000) | AU7: 人數 Person | AX7: 金額 (千元) Amounts (NT$1,000) | AY7: 人數 Person | BB7: 金額 (千元) Amounts (NT$1,000) | BC7: 人數 Person | BF7: 金額 (千元) Amounts (NT$1,000) | BG7: 人數 Person | BJ7: 金額 (千元) Amounts (NT$1,000)
C8: 合計 Total | D8: 男 Male | E8: 女 Female | G8: 計 Subtotal | H8: 男 Male | I8: 女 Female | K8: 計 Subtotal | L8: 男 Male | M8: 女 Female | O8: 計 Subtotal | P8: 男 Male | Q8: 女 Female | S8: 計 Subtotal | T8: 男 Male | U8: 女 Female | W8: 計 Subtotal | X8: 男 Male | Y8: 女 Female | AA8: 計 Subtotal | AB8: 男 Male | AC8: 女 Female | AE8: 計 Subtotal | AF8: 男 Male | AG8: 女 Female | AI8: 計 Subtotal | AJ8: 男 Male | AK8: 女 Female | AM8: 計 Subtotal | AN8: 男 Male | AO8: 女 Female | AQ8: 合計 Subtotal | AR8: 男 Male | AS8: 女 Female | AU8: 合計 Subtotal | AV8: 男 Male | AW8: 女 Female | AY8: 合計 Subtotal | AZ8: 男 Male | BA8: 女 Female | BC8: 計 Subtotal | BD8: 男 Male | BE8: 女 Female | BG8: 計 Subtotal | BH8: 男 Male | BI8: 女 Female
A9: 總計 | B9: Total
A10: 新北市 | B10: New Taipei City
A11: 臺北市 | B11: Taipei City
A12: 桃園市 | B12: Taoyuan City
A13: 臺中市 | B13: Taichung City
A14: 臺南市 | B14: Tainan City
A15: 高雄市 | B15: Kaohsiung City
A16: 宜蘭縣 | B16: Yilan County
A17: 新竹縣 | B17: Hsinchu County
A18: 苗栗縣 | B18: Miaoli County
A19: 彰化縣 | B19: Changhua County
A20: 南投縣 | B20: Nantou County
... A31: 連江縣 | B31: Lienchiang County
A32: 資料來源：直轄市、縣(市)政府。
A33: Source : County and City Government.
A34: 說明：本表自114年分「福利身分別」及「年齡別」兩類型統計，並皆含具榮民、原住民身分者，此外榮民、原住民另行獨立統計。
A35: 更新日期：2025/02/21

Sheet 9, 2026
A1: 身心障礙者生活補助Living Assistance for the Disabled
A3: 115年9月Sept., 2026
A4: 區域別 Locality | C4: 總計 Total | G4: 福利身分別 By Identity | AQ4: 依年齡別分 By Age | BC4: 榮民(補差額) Veteran Serviceman (Difference) | BG4: 原住民 Indigenous
G5: 低收入戶 Low-income Households | S5: 中低收入戶 Middle-low-income Households | AE5: 最低生活費1.5倍以上未達2.5倍者Between 1.5 and 2.5 times of minimum of subsistence | AQ5: 未滿18歲 | AU5: 18歲-未滿65歲 | AY5: 65歲以上
G6: 合計Total | K6: 中度障礙以上 Moderate & Over | O6: 輕度障礙 Mild | S6: 合計Total | W6: 中度障礙以上 Moderate & Over | AA6: 輕度障礙 Mild | AE6: 合計Total | AI6: 中度障礙以上 Moderate & Over | AM6: 輕度障礙 Mild
C7: 人數 Person | F7: 金額 (千元) Amounts (NT$1,000) | G7: 人數 Person | J7: 金額 (千元) Amounts (NT$1,000) | K7: 人數 Person | N7: 金額 (千元) Amounts (NT$1,000) | O7: 人數 Person | R7: 金額 (千元) Amounts (NT$1,000) | S7: 人數 Person | V7: 金額 (千元) Amounts (NT$1,000) | W7: 人數 Person | Z7: 金額 (千元) Amounts (NT$1,000) | AA7: 人數 Person | AD7: 金額 (千元) Amounts (NT$1,000) | AE7: 人數 Person | AH7: 金額 (千元) Amounts (NT$1,000) | AI7: 人數 Person | AL7: 金額 (千元) Amounts (NT$1,000) | AM7: 人數 Person | AP7: 金額 (千元) Amounts (NT$1,000) | AQ7: 人數 Person | AT7: 金額 (千元) Amounts (NT$1,000) | AU7: 人數 Person | AX7: 金額 (千元) Amounts (NT$1,000) | AY7: 人數 Person | BB7: 金額 (千元) Amounts (NT$1,000) | BC7: 人數 Person | BF7: 金額 (千元) Amounts (NT$1,000) | BG7: 人數 Person | BJ7: 金額 (千元) Amounts (NT$1,000)
C8: 合計 Total | D8: 男 Male | E8: 女 Female | G8: 計 Subtotal | H8: 男 Male | I8: 女 Female | K8: 計 Subtotal | L8: 男 Male | M8: 女 Female | O8: 計 Subtotal | P8: 男 Male | Q8: 女 Female | S8: 計 Subtotal | T8: 男 Male | U8: 女 Female | W8: 計 Subtotal | X8: 男 Male | Y8: 女 Female | AA8: 計 Subtotal | AB8: 男 Male | AC8: 女 Female | AE8: 計 Subtotal | AF8: 男 Male | AG8: 女 Female | AI8: 計 Subtotal | AJ8: 男 Male | AK8: 女 Female | AM8: 計 Subtotal | AN8: 男 Male | AO8: 女 Female | AQ8: 合計 Subtotal | AR8: 男 Male | AS8: 女 Female | AU8: 合計 Subtotal | AV8: 男 Male | AW8: 女 Female | AY8: 合計 Subtotal | AZ8: 男 Male | BA8: 女 Female | BC8: 計 Subtotal | BD8: 男 Male | BE8: 女 Female | BG8: 計 Subtotal | BH8: 男 Male | BI8: 女 Female
A9: 總計 | B9: Total
A10: 新北市 | B10: New Taipei City
A11: 臺北市 | B11: Taipei City
A12: 桃園市 | B12: Taoyuan City
A13: 臺中市 | B13: Taichung City
A14: 臺南市 | B14: Tainan City
A15: 高雄市 | B15: Kaohsiung City
A16: 宜蘭縣 | B16: Yilan County
A17: 新竹縣 | B17: Hsinchu County
A18: 苗栗縣 | B18: Miaoli County
A19: 彰化縣 | B19: Changhua County
A20: 南投縣 | B20: Nantou County
... A31: 連江縣 | B31: Lienchiang County
A32: 資料來源：直轄市、縣(市)政府。
A33: Source : County and City Government.
A34: 說明：本表自114年分「福利身分別」及「年齡別」兩類型統計，並皆含具榮民、原住民身分者，此外榮民、原住民另行獨立統計。
A35: 更新日期：2025/11/17

Sheet 8, 2026
A1: 身心障礙者生活補助Living Assistance for the Disabled
A3: 115年8月Aug., 2026
A4: 區域別 Locality | C4: 總計 Total | G4: 福利身分別 By Identity | AQ4: 依年齡別分 By Age | BC4: 榮民(補差額) Veteran Serviceman (Difference) | BG4: 原住民 Indigenous
G5: 低收入戶 Low-income Households | S5: 中低收入戶 Middle-low-income Households | AE5: 最低生活費1.5倍以上未達2.5倍者Between 1.5 and 2.5 times of minimum of subsistence | AQ5: 未滿18歲 | AU5: 18歲-未滿65歲 | AY5: 65歲以上
G6: 合計Total | K6: 中度障礙以上 Moderate & Over | O6: 輕度障礙 Mild | S6: 合計Total | W6: 中度障礙以上 Moderate & Over | AA6: 輕度障礙 Mild | AE6: 合計Total | AI6: 中度障礙以上 Moderate & Over | AM6: 輕度障礙 Mild
C7: 人數 Person | F7: 金額 (千元) Amounts (NT$1,000) | G7: 人數 Person | J7: 金額 (千元) Amounts (NT$1,000) | K7: 人數 Person | N7: 金額 (千元) Amounts (NT$1,000) | O7: 人數 Person | R7: 金額 (千元) Amounts (NT$1,000) | S7: 人數 Person | V7: 金額 (千元) Amounts (NT$1,000) | W7: 人數 Person | Z7: 金額 (千元) Amounts (NT$1,000) | AA7: 人數 Person | AD7: 金額 (千元) Amounts (NT$1,000) | AE7: 人數 Person | AH7: 金額 (千元) Amounts (NT$1,000) | AI7: 人數 Person | AL7: 金額 (千元) Amounts (NT$1,000) | AM7: 人數 Person | AP7: 金額 (千元) Amounts (NT$1,000) | AQ7: 人數 Person | AT7: 金額 (千元) Amounts (NT$1,000) | AU7: 人數 Person | AX7: 金額 (千元) Amounts (NT$1,000) | AY7: 人數 Person | BB7: 金額 (千元) Amounts (NT$1,000) | BC7: 人數 Person | BF7: 金額 (千元) Amounts (NT$1,000) | BG7: 人數 Person | BJ7: 金額 (千元) Amounts (NT$1,000)
C8: 合計 Total | D8: 男 Male | E8: 女 Female | G8: 計 Subtotal | H8: 男 Male | I8: 女 Female | K8: 計 Subtotal | L8: 男 Male | M8: 女 Female | O8: 計 Subtotal | P8: 男 Male | Q8: 女 Female | S8: 計 Subtotal | T8: 男 Male | U8: 女 Female | W8: 計 Subtotal | X8: 男 Male | Y8: 女 Female | AA8: 計 Subtotal | AB8: 男 Male | AC8: 女 Female | AE8: 計 Subtotal | AF8: 男 Male | AG8: 女 Female | AI8: 計 Subtotal | AJ8: 男 Male | AK8: 女 Female | AM8: 計 Subtotal | AN8: 男 Male | AO8: 女 Female | AQ8: 合計 Subtotal | AR8: 男 Male | AS8: 女 Female | AU8: 合計 Subtotal | AV8: 男 Male | AW8: 女 Female | AY8: 合計 Subtotal | AZ8: 男 Male | BA8: 女 Female | BC8: 計 Subtotal | BD8: 男 Male | BE8: 女 Female | BG8: 計 Subtotal | BH8: 男 Male | BI8: 女 Female
A9: 總計 | B9: Total
A10: 新北市 | B10: New Taipei City
A11: 臺北市 | B11: Taipei City
A12: 桃園市 | B12: Taoyuan City
A13: 臺中市 | B13: Taichung City
A14: 臺南市 | B14: Tainan City
A15: 高雄市 | B15: Kaohsiung City
A16: 宜蘭縣 | B16: Yilan County
A17: 新竹縣 | B17: Hsinchu County
A18: 苗栗縣 | B18: Miaoli County
A19: 彰化縣 | B19: Changhua County
A20: 南投縣 | B20: Nantou County
... A31: 連江縣 | B31: Lienchiang County
A32: 資料來源：直轄市、縣(市)政府。
A33: Source : County and City Government.
A34: 說明：本表自114年分「福利身分別」及「年齡別」兩類型統計，並皆含具榮民、原住民身分者，此外榮民、原住民另行獨立統計。
A35: 更新日期：2025/11/17

Sheet 7, 2026
A1: 身心障礙者生活補助Living Assistance for the Disabled
A3: 115年7月July, 2026
A4: 區域別 Locality | C4: 總計 Total | G4: 福利身分別 By Identity | AQ4: 依年齡別分 By Age | BC4: 榮民(補差額) Veteran Serviceman (Difference) | BG4: 原住民 Indigenous
G5: 低收入戶 Low-income Households | S5: 中低收入戶 Middle-low-income Households | AE5: 最低生活費1.5倍以上未達2.5倍者Between 1.5 and 2.5 times of minimum of subsistence | AQ5: 未滿18歲 | AU5: 18歲-未滿65歲 | AY5: 65歲以上
G6: 合計Total | K6: 中度障礙以上 Moderate & Over | O6: 輕度障礙 Mild | S6: 合計Total | W6: 中度障礙以上 Moderate & Over | AA6: 輕度障礙 Mild | AE6: 合計Total | AI6: 中度障礙以上 Moderate & Over | AM6: 輕度障礙 Mild
C7: 人數 Person | F7: 金額 (千元) Amounts (NT$1,000) | G7: 人數 Person | J7: 金額 (千元) Amounts (NT$1,000) | K7: 人數 Person | N7: 金額 (千元) Amounts (NT$1,000) | O7: 人數 Person | R7: 金額 (千元) Amounts (NT$1,000) | S7: 人數 Person | V7: 金額 (千元) Amounts (NT$1,000) | W7: 人數 Person | Z7: 金額 (千元) Amounts (NT$1,000) | AA7: 人數 Person | AD7: 金額 (千元) Amounts (NT$1,000) | AE7: 人數 Person | AH7: 金額 (千元) Amounts (NT$1,000) | AI7: 人數 Person | AL7: 金額 (千元) Amounts (NT$1,000) | AM7: 人數 Person | AP7: 金額 (千元) Amounts (NT$1,000) | AQ7: 人數 Person | AT7: 金額 (千元) Amounts (NT$1,000) | AU7: 人數 Person | AX7: 金額 (千元) Amounts (NT$1,000) | AY7: 人數 Person | BB7: 金額 (千元) Amounts (NT$1,000) | BC7: 人數 Person | BF7: 金額 (千元) Amounts (NT$1,000) | BG7: 人數 Person | BJ7: 金額 (千元) Amounts (NT$1,000)
C8: 合計 Total | D8: 男 Male | E8: 女 Female | G8: 計 Subtotal | H8: 男 Male | I8: 女 Female | K8: 計 Subtotal | L8: 男 Male | M8: 女 Female | O8: 計 Subtotal | P8: 男 Male | Q8: 女 Female | S8: 計 Subtotal | T8: 男 Male | U8: 女 Female | W8: 計 Subtotal | X8: 男 Male | Y8: 女 Female | AA8: 計 Subtotal | AB8: 男 Male | AC8: 女 Female | AE8: 計 Subtotal | AF8: 男 Male | AG8: 女 Female | AI8: 計 Subtotal | AJ8: 男 Male | AK8: 女 Female | AM8: 計 Subtotal | AN8: 男 Male | AO8: 女 Female | AQ8: 合計 Subtotal | AR8: 男 Male | AS8: 女 Female | AU8: 合計 Subtotal | AV8: 男 Male | AW8: 女 Female | AY8: 合計 Subtotal | AZ8: 男 Male | BA8: 女 Female | BC8: 計 Subtotal | BD8: 男 Male | BE8: 女 Female | BG8: 計 Subtotal | BH8: 男 Male | BI8: 女 Female
A9: 總計 | B9: Total
A10: 新北市 | B10: New Taipei City
A11: 臺北市 | B11: Taipei City
A12: 桃園市 | B12: Taoyuan City
A13: 臺中市 | B13: Taichung City
A14: 臺南市 | B14: Tainan City
A15: 高雄市 | B15: Kaohsiung City
A16: 宜蘭縣 | B16: Yilan County
A17: 新竹縣 | B17: Hsinchu County
A18: 苗栗縣 | B18: Miaoli County
A19: 彰化縣 | B19: Changhua County
A20: 南投縣 | B20: Nantou County
... A31: 連江縣 | B31: Lienchiang County
A32: 資料來源：直轄市、縣(市)政府。
A33: Source : County and City Government.
A34: 說明：本表自114年分「福利身分別」及「年齡別」兩類型統計，並皆含具榮民、原住民身分者，此外榮民、原住民另行獨立統計。
A35: 更新日期：2025/11/17

Sheet 6, 2026
A1: 身心障礙者生活補助Living Assistance for the Disabled
A3: 115年6月June, 2026
A4: 區域別 Locality | C4: 總計 Total | G4: 福利身分別 By Identity | AQ4: 依年齡別分 By Age | BC4: 榮民(補差額) Veteran Serviceman (Difference) | BG4: 原住民 Indigenous
G5: 低收入戶 Low-income Households | S5: 中低收入戶 Middle-low-income Households | AE5: 最低生活費1.5倍以上未達2.5倍者Between 1.5 and 2.5 times of minimum of subsistence | AQ5: 未滿18歲 | AU5: 18歲-未滿65歲 | AY5: 65歲以上
G6: 合計Total | K6: 中度障礙以上 Moderate & Over | O6: 輕度障礙 Mild | S6: 合計Total | W6: 中度障礙以上 Moderate & Over | AA6: 輕度障礙 Mild | AE6: 合計Total | AI6: 中度障礙以上 Moderate & Over | AM6: 輕度障礙 Mild
C7: 人數 Person | F7: 金額 (千元) Amounts (NT$1,000) | G7: 人數 Person | J7: 金額 (千元) Amounts (NT$1,000) | K7: 人數 Person | N7: 金額 (千元) Amounts (NT$1,000) | O7: 人數 Person | R7: 金額 (千元) Amounts (NT$1,000) | S7: 人數 Person | V7: 金額 (千元) Amounts (NT$1,000) | W7: 人數 Person | Z7: 金額 (千元) Amounts (NT$1,000) | AA7: 人數 Person | AD7: 金額 (千元) Amounts (NT$1,000) | AE7: 人數 Person | AH7: 金額 (千元) Amounts (NT$1,000) | AI7: 人數 Person | AL7: 金額 (千元) Amounts (NT$1,000) | AM7: 人數 Person | AP7: 金額 (千元) Amounts (NT$1,000) | AQ7: 人數 Person | AT7: 金額 (千元) Amounts (NT$1,000) | AU7: 人數 Person | AX7: 金額 (千元) Amounts (NT$1,000) | AY7: 人數 Person | BB7: 金額 (千元) Amounts (NT$1,000) | BC7: 人數 Person | BF7: 金額 (千元) Amounts (NT$1,000) | BG7: 人數 Person | BJ7: 金額 (千元) Amounts (NT$1,000)
C8: 合計 Total | D8: 男 Male | E8: 女 Female | G8: 計 Subtotal | H8: 男 Male | I8: 女 Female | K8: 計 Subtotal | L8: 男 Male | M8: 女 Female | O8: 計 Subtotal | P8: 男 Male | Q8: 女 Female | S8: 計 Subtotal | T8: 男 Male | U8: 女 Female | W8: 計 Subtotal | X8: 男 Male | Y8: 女 Female | AA8: 計 Subtotal | AB8: 男 Male | AC8: 女 Female | AE8: 計 Subtotal | AF8: 男 Male | AG8: 女 Female | AI8: 計 Subtotal | AJ8: 男 Male | AK8: 女 Female | AM8: 計 Subtotal | AN8: 男 Male | AO8: 女 Female | AQ8: 合計 Subtotal | AR8: 男 Male | AS8: 女 Female | AU8: 合計 Subtotal | AV8: 男 Male | AW8: 女 Female | AY8: 合計 Subtotal | AZ8: 男 Male | BA8: 女 Female | BC8: 計 Subtotal | BD8: 男 Male | BE8: 女 Female | BG8: 計 Subtotal | BH8: 男 Male | BI8: 女 Female
A9: 總計 | B9: Total
A10: 新北市 | B10: New Taipei City
A11: 臺北市 | B11: Taipei City
A12: 桃園市 | B12: Taoyuan City
A13: 臺中市 | B13: Taichung City
A14: 臺南市 | B14: Tainan City
A15: 高雄市 | B15: Kaohsiung City
A16: 宜蘭縣 | B16: Yilan County
A17: 新竹縣 | B17: Hsinchu County
A18: 苗栗縣 | B18: Miaoli County
A19: 彰化縣 | B19: Changhua County
A20: 南投縣 | B20: Nantou County
... A31: 連江縣 | B31: Lienchiang County
A32: 資料來源：直轄市、縣(市)政府。
A33: Source : County and City Government.
A34: 說明：本表自114年分「福利身分別」及「年齡別」兩類型統計，並皆含具榮民、原住民身分者，此外榮民、原住民另行獨立統計。
A35: 更新日期：2025/8/15

Sheet 5, 2026
A1: 身心障礙者生活補助Living Assistance for the Disabled
A3: 115年5月May, 2026
A4: 區域別 Locality | C4: 總計 Total | G4: 福利身分別 By Identity | AQ4: 依年齡別分 By Age | BC4: 榮民(補差額) Veteran Serviceman (Difference) | BG4: 原住民 Indigenous
G5: 低收入戶 Low-income Households | S5: 中低收入戶 Middle-low-income Households | AE5: 最低生活費1.5倍以上未達2.5倍者Between 1.5 and 2.5 times of minimum of subsistence | AQ5: 未滿18歲 | AU5: 18歲-未滿65歲 | AY5: 65歲以上
G6: 合計Total | K6: 中度障礙以上 Moderate & Over | O6: 輕度障礙 Mild | S6: 合計Total | W6: 中度障礙以上 Moderate & Over | AA6: 輕度障礙 Mild | AE6: 合計Total | AI6: 中度障礙以上 Moderate & Over | AM6: 輕度障礙 Mild
C7: 人數 Person | F7: 金額 (千元) Amounts (NT$1,000) | G7: 人數 Person | J7: 金額 (千元) Amounts (NT$1,000) | K7: 人數 Person | N7: 金額 (千元) Amounts (NT$1,000) | O7: 人數 Person | R7: 金額 (千元) Amounts (NT$1,000) | S7: 人數 Person | V7: 金額 (千元) Amounts (NT$1,000) | W7: 人數 Person | Z7: 金額 (千元) Amounts (NT$1,000) | AA7: 人數 Person | AD7: 金額 (千元) Amounts (NT$1,000) | AE7: 人數 Person | AH7: 金額 (千元) Amounts (NT$1,000) | AI7: 人數 Person | AL7: 金額 (千元) Amounts (NT$1,000) | AM7: 人數 Person | AP7: 金額 (千元) Amounts (NT$1,000) | AQ7: 人數 Person | AT7: 金額 (千元) Amounts (NT$1,000) | AU7: 人數 Person | AX7: 金額 (千元) Amounts (NT$1,000) | AY7: 人數 Person | BB7: 金額 (千元) Amounts (NT$1,000) | BC7: 人數 Person | BF7: 金額 (千元) Amounts (NT$1,000) | BG7: 人數 Person | BJ7: 金額 (千元) Amounts (NT$1,000)
C8: 合計 Total | D8: 男 Male | E8: 女 Female | G8: 計 Subtotal | H8: 男 Male | I8: 女 Female | K8: 計 Subtotal | L8: 男 Male | M8: 女 Female | O8: 計 Subtotal | P8: 男 Male | Q8: 女 Female | S8: 計 Subtotal | T8: 男 Male | U8: 女 Female | W8: 計 Subtotal | X8: 男 Male | Y8: 女 Female | AA8: 計 Subtotal | AB8: 男 Male | AC8: 女 Female | AE8: 計 Subtotal | AF8: 男 Male | AG8: 女 Female | AI8: 計 Subtotal | AJ8: 男 Male | AK8: 女 Female | AM8: 計 Subtotal | AN8: 男 Male | AO8: 女 Female | AQ8: 合計 Subtotal | AR8: 男 Male | AS8: 女 Female | AU8: 合計 Subtotal | AV8: 男 Male | AW8: 女 Female | AY8: 合計 Subtotal | AZ8: 男 Male | BA8: 女 Female | BC8: 計 Subtotal | BD8: 男 Male | BE8: 女 Female | BG8: 計 Subtotal | BH8: 男 Male | BI8: 女 Female
A9: 總計 | B9: Total
A10: 新北市 | B10: New Taipei City
A11: 臺北市 | B11: Taipei City
A12: 桃園市 | B12: Taoyuan City
A13: 臺中市 | B13: Taichung City
A14: 臺南市 | B14: Tainan City
A15: 高雄市 | B15: Kaohsiung City
A16: 宜蘭縣 | B16: Yilan County
A17: 新竹縣 | B17: Hsinchu County
A18: 苗栗縣 | B18: Miaoli County
A19: 彰化縣 | B19: Changhua County
A20: 南投縣 | B20: Nantou County
... A31: 連江縣 | B31: Lienchiang County
A32: 資料來源：直轄市、縣(市)政府。
A33: Source : County and City Government.
A34: 說明：本表自114年分「福利身分別」及「年齡別」兩類型統計，並皆含具榮民、原住民身分者，此外榮民、原住民另行獨立統計。
A35: 更新日期：2025/8/15

Sheet 4, 2026
A1: 身心障礙者生活補助Living Assistance for the Disabled
A3: 115年4月Apr., 2026
A4: 區域別 Locality | C4: 總計 Total | G4: 福利身分別 By Identity | AQ4: 依年齡別分 By Age | BC4: 榮民(補差額) Veteran Serviceman (Difference) | BG4: 原住民 Indigenous
G5: 低收入戶 Low-income Households | S5: 中低收入戶 Middle-low-income Households | AE5: 最低生活費1.5倍以上未達2.5倍者Between 1.5 and 2.5 times of minimum of subsistence | AQ5: 未滿18歲 | AU5: 18歲-未滿65歲 | AY5: 65歲以上
G6: 合計Total | K6: 中度障礙以上 Moderate & Over | O6: 輕度障礙 Mild | S6: 合計Total | W6: 中度障礙以上 Moderate & Over | AA6: 輕度障礙 Mild | AE6: 合計Total | AI6: 中度障礙以上 Moderate & Over | AM6: 輕度障礙 Mild
C7: 人數 Person | F7: 金額 (千元) Amounts (NT$1,000) | G7: 人數 Person | J7: 金額 (千元) Amounts (NT$1,000) | K7: 人數 Person | N7: 金額 (千元) Amounts (NT$1,000) | O7: 人數 Person | R7: 金額 (千元) Amounts (NT$1,000) | S7: 人數 Person | V7: 金額 (千元) Amounts (NT$1,000) | W7: 人數 Person | Z7: 金額 (千元) Amounts (NT$1,000) | AA7: 人數 Person | AD7: 金額 (千元) Amounts (NT$1,000) | AE7: 人數 Person | AH7: 金額 (千元) Amounts (NT$1,000) | AI7: 人數 Person | AL7: 金額 (千元) Amounts (NT$1,000) | AM7: 人數 Person | AP7: 金額 (千元) Amounts (NT$1,000) | AQ7: 人數 Person | AT7: 金額 (千元) Amounts (NT$1,000) | AU7: 人數 Person | AX7: 金額 (千元) Amounts (NT$1,000) | AY7: 人數 Person | BB7: 金額 (千元) Amounts (NT$1,000) | BC7: 人數 Person | BF7: 金額 (千元) Amounts (NT$1,000) | BG7: 人數 Person | BJ7: 金額 (千元) Amounts (NT$1,000)
C8: 合計 Total | D8: 男 Male | E8: 女 Female | G8: 計 Subtotal | H8: 男 Male | I8: 女 Female | K8: 計 Subtotal | L8: 男 Male | M8: 女 Female | O8: 計 Subtotal | P8: 男 Male | Q8: 女 Female | S8: 計 Subtotal | T8: 男 Male | U8: 女 Female | W8: 計 Subtotal | X8: 男 Male | Y8: 女 Female | AA8: 計 Subtotal | AB8: 男 Male | AC8: 女 Female | AE8: 計 Subtotal | AF8: 男 Male | AG8: 女 Female | AI8: 計 Subtotal | AJ8: 男 Male | AK8: 女 Female | AM8: 計 Subtotal | AN8: 男 Male | AO8: 女 Female | AQ8: 合計 Subtotal | AR8: 男 Male | AS8: 女 Female | AU8: 合計 Subtotal | AV8: 男 Male | AW8: 女 Female | AY8: 合計 Subtotal | AZ8: 男 Male | BA8: 女 Female | BC8: 計 Subtotal | BD8: 男 Male | BE8: 女 Female | BG8: 計 Subtotal | BH8: 男 Male | BI8: 女 Female
A9: 總計 | B9: Total
A10: 新北市 | B10: New Taipei City
A11: 臺北市 | B11: Taipei City
A12: 桃園市 | B12: Taoyuan City
A13: 臺中市 | B13: Taichung City
A14: 臺南市 | B14: Tainan City
A15: 高雄市 | B15: Kaohsiung City
A16: 宜蘭縣 | B16: Yilan County
A17: 新竹縣 | B17: Hsinchu County
A18: 苗栗縣 | B18: Miaoli County
A19: 彰化縣 | B19: Changhua County
A20: 南投縣 | B20: Nantou County
... A31: 連江縣 | B31: Lienchiang County
A32: 資料來源：直轄市、縣(市)政府。
A33: Source : County and City Government.
A34: 說明：本表自114年分「福利身分別」及「年齡別」兩類型統計，並皆含具榮民、原住民身分者，此外榮民、原住民另行獨立統計。
A35: 更新日期：2026/02/23
A36: 區域別 Locality | C36: 總計 Total | G36: 福利身分別 By Identity | AQ36: 依年齡別分 By Age | BC36: 榮民(補差額) Veteran Serviceman (Difference) | BG36: 原住民 Indigenous
G37: 低收入戶 Low-income Households | S37: 中低收入戶 Middle-low-income Households | AE37: 最低生活費1.5倍以上未達2.5倍者Between 1.5 and 2.5 times of minimum of subsistence | AQ37: 未滿18歲 | AU37: 18歲-未滿65歲 | AY37: 65歲以上
G38: 合計Total | K38: 中度障礙以上 Moderate & Over | O38: 輕度障礙 Mild | S38: 合計Total | W38: 中度障礙以上 Moderate & Over | AA38: 輕度障礙 Mild | AE38: 合計Total | AI38: 中度障礙以上 Moderate & Over | AM38: 輕度障礙 Mild
C39: 人次 Person-times | F39: 金額 (千元) Amounts (NT$1,000) | G39: 人次 Person-times | J39: 金額 (千元) Amounts (NT$1,000) | K39: 人次 Person-times | N39: 金額 (千元) Amounts (NT$1,000) | O39: 人次 Person-times | R39: 金額 (千元) Amounts (NT$1,000) | S39: 人次 Person-times | V39: 金額 (千元) Amounts (NT$1,000) | W39: 人次 Person-times | Z39: 金額 (千元) Amounts (NT$1,000) | AA39: 人次 Person-times | AD39: 金額 (千元) Amounts (NT$1,000) | AE39: 人次 Person-times | AH39: 金額 (千元) Amounts (NT$1,000) | AI39: 人次 Person-times | AL39: 金額 (千元) Amounts (NT$1,000) | AM39: 人次 Person-times | AP39: 金額 (千元) Amounts (NT$1,000) | AQ39: 人次 Person-times | AT39: 金額 (千元) Amounts (NT$1,000) | AU39: 人次 Person-times | AX39: 金額 (千元) Amounts (NT$1,000) | AY39: 人次 Person-times | BB39: 金額 (千元) Amounts (NT$1,000) | BC39: 人次 Person-times | BF39: 金額 (千元) Amounts (NT$1,000) | BG39: 人次 Person-times | BJ39: 金額 (千元) Amounts (NT$1,000)
C40: 合計 Total | D40: 男 Male | E40: 女 Female | G40: 計 Subtotal | H40: 男 Male | I40: 女 Female | K40: 計 Subtotal | L40: 男 Male | M40: 女 Female | O40: 計 Subtotal | P40: 男 Male | Q40: 女 Female | S40: 計 Subtotal | T40: 男 Male | U40: 女 Female | W40: 計 Subtotal | X40: 男 Male | Y40: 女 Female | AA40: 計 Subtotal | AB40: 男 Male | AC40: 女 Female | AE40: 計 Subtotal | AF40: 男 Male | AG40: 女 Female | AI40: 計 Subtotal | AJ40: 男 Male | AK40: 女 Female | AM40: 計 Subtotal | AN40: 男 Male | AO40: 女 Female | AQ40: 合計 Subtotal | AR40: 男 Male | AS40: 女 Female | AU40: 合計 Subtotal | AV40: 男 Male | AW40: 女 Female | AY40: 合計 Subtotal | AZ40: 男 Male | BA40: 女 Female | BC40: 計 Subtotal | BD40: 男 Male | BE40: 女 Female | BG40: 計 Subtotal | BH40: 男 Male | BI40: 女 Female
A41: 總計 | B41: Total | C41: 328444 | D41: 198242 | E41: 130202 | F41: 1892016.7 | G41: 65775 | H41: 42455 | I41: 23320 | J41: 583292.42 | K41: 53891 | L41: 35295 | M41: 18596 | N41: 517337.66 | O41: 11884 | P41: 7160 | Q41: 4724 | R41: 65954.757 | S41: 17874 | T41: 10922 | U41: 6952 | V41: 88697.897 | W41: 10231 | X41: 6154 | Y41: 4077 | Z41: 57107.323 | AA41: 7643 | AB41: 4768 | AC41: 2875 | AD41: 31590.574 | AE41: 244795 | AF41: 144865 | AG41: 99930 | AH41: 1220026.4 | AI41: 151277 | AJ41: 87662 | AK41: 63615 | AL41: 835103.11 | AM41: 93518 | AN41: 57203 | AO41: 36315 | AP41: 384923.28 | AQ41: 25550 | AR41: 16946 | AS41: 8604 | AT41: 131356.1 | AU41: 245612 | AV41: 148491 | AW41: 97121 | AX41: 1415972.6 | AY41: 57282 | AZ41: 32805 | BA41: 24477 | BB41: 344688.02 | BC41: 1311 | BD41: 1192 | BE41: 119 | BF41: 7786.334 | BG41: 12577 | BH41: 7621 | BI41: 4956 | BJ41: 79245.408
A42: 新北市 | B42: New Taipei City | C42: 46537 | D42: 27916 | E42: 18621 | F42: 253101.33 | G42: 7444 | H42: 4723 | I42: 2721 | J42: 62906.498 | K42: 5777 | L42: 3710 | M42: 2067 | N42: 53994.219 | O42: 1667 | P42: 1013 | Q42: 654 | R42: 8912.279 | S42: 2079 | T42: 1258 | U42: 821 | V42: 10008.751 | W42: 1173 | X42: 696 | Y42: 477 | Z42: 6369.503 | AA42: 906 | AB42: 562 | AC42: 344 | AD42: 3639.248 | AE42: 37014 | AF42: 21935 | AG42: 15079 | AH42: 180186.08 | AI42: 22283 | AJ42: 12962 | AK42: 9321 | AL42: 120641.94 | AM42: 14731 | AN42: 8973 | AO42: 5758 | AP42: 59544.143 | AQ42: 4467 | AR42: 3028 | AS42: 1439 | AT42: 21226.234 | AU42: 34121 | AV42: 20281 | AW42: 13840 | AX42: 186413.85 | AY42: 7949 | AZ42: 4607 | BA42: 3342 | BB42: 45461.248 | BC42: 222 | BD42: 172 | BE42: 50 | BF42: 1322.433 | BG42: 838 | BH42: 477 | BI42: 361 | BJ42: 4551.768
A43: 臺北市 | B43: Taipei City | C43: 14171 | D43: 8338 | E43: 5833 | F43: 99355.002 | G43: 7251 | H43: 4306 | I43: 2945 | J43: 64159.637 | K43: 5495 | L43: 3267 | M43: 2228 | N43: 54094.2 | O43: 1756 | P43: 1039 | Q43: 717 | R43: 10065.437 | S43: 1351 | T43: 776 | U43: 575 | V43: 6981.801 | W43: 756 | X43: 445 | Y43: 311 | Z43: 4433.931 | AA43: 595 | AB43: 331 | AC43: 264 | AD43: 2547.87 | AE43: 5569 | AF43: 3256 | AG43: 2313 | AH43: 28213.564 | AI43: 3294 | AJ43: 1882 | AK43: 1412 | AL43: 18582.393 | AM43: 2275 | AN43: 1374 | AO43: 901 | AP43: 9631.171 | AQ43: 1160 | AR43: 790 | AS43: 370 | AT43: 6556.108 | AU43: 10253 | AV43: 5914 | AW43: 4339 | AX43: 70654.948 | AY43: 2758 | AZ43: 1634 | BA43: 1124 | BB43: 22143.946 | BC43: 115 | BD43: 115 | BE43: 0 | BF43: 802.79 | BG43: 223 | BH43: 118 | BI43: 105 | BJ43: 1501.477
A44: 桃園市 | B44: Taoyuan City | C44: 24373 | D44: 14554 | E44: 9819 | F44: 140352.94 | G44: 4866 | H44: 3063 | I44: 1803 | J44: 42857.236 | K44: 3811 | L44: 2427 | M44: 1384 | N44: 36969.769 | O44: 1055 | P44: 636 | Q44: 419 | R44: 5887.467 | S44: 1156 | T44: 666 | U44: 490 | V44: 5727.357 | W44: 659 | X44: 383 | Y44: 276 | Z44: 3679.3 | AA44: 497 | AB44: 283 | AC44: 214 | AD44: 2048.057 | AE44: 18351 | AF44: 10825 | AG44: 7526 | AH44: 91768.349 | AI44: 11126 | AJ44: 6405 | AK44: 4721 | AL44: 61677.526 | AM44: 7225 | AN44: 4420 | AO44: 2805 | AP44: 30090.823 | AQ44: 2633 | AR44: 1743 | AS44: 890 | AT44: 13953.841 | AU44: 17952 | AV44: 10652 | AW44: 7300 | AX44: 104178.22 | AY44: 3788 | AZ44: 2159 | BA44: 1629 | BB44: 22220.879 | BC44: 86 | BD44: 81 | BE44: 5 | BF44: 527.725 | BG44: 1178 | BH44: 701 | BI44: 477 | BJ44: 7278.059
A45: 臺中市 | B45: Taichung City | C45: 39012 | D45: 23188 | E45: 15824 | F45: 230303.18 | G45: 8660 | H45: 5445 | I45: 3215 | J45: 76775.418 | K45: 6893 | L45: 4371 | M45: 2522 | N45: 66822.254 | O45: 1767 | P45: 1074 | Q45: 693 | R45: 9953.164 | S45: 2570 | T45: 1533 | U45: 1037 | V45: 12893.568 | W45: 1547 | X45: 909 | Y45: 638 | Z45: 8664.032 | AA45: 1023 | AB45: 624 | AC45: 399 | AD45: 4229.536 | AE45: 27782 | AF45: 16210 | AG45: 11572 | AH45: 140634.19 | AI45: 17194 | AJ45: 9807 | AK45: 7387 | AL45: 96401.867 | AM45: 10588 | AN45: 6403 | AO45: 4185 | AP45: 44232.322 | AQ45: 3658 | AR45: 2422 | AS45: 1236 | AT45: 19618.929 | AU45: 28451 | AV45: 16872 | AW45: 11579 | AX45: 169561.35 | AY45: 6903 | AZ45: 3894 | BA45: 3009 | BB45: 41122.892 | BC45: 103 | BD45: 100 | BE45: 3 | BF45: 592.16 | BG45: 569 | BH45: 309 | BI45: 260 | BJ45: 3848.378
A46: 臺南市 | B46: Tainan City | C46: 30068 | D46: 17973 | E46: 12095 | F46: 166770.65 | G46: 4257 | H46: 2787 | I46: 1470 | J46: 38167.39 | K46: 3525 | L46: 2344 | M46: 1181 | N46: 34056.443 | O46: 732 | P46: 443 | Q46: 289 | R46: 4110.947 | S46: 870 | T46: 558 | U46: 312 | V46: 4261.215 | W46: 492 | X46: 310 | Y46: 182 | Z46: 2691.703 | AA46: 378 | AB46: 248 | AC46: 130 | AD46: 1569.512 | AE46: 24941 | AF46: 14628 | AG46: 10313 | AH46: 124342.04 | AI46: 15390 | AJ46: 8775 | AK46: 6615 | AL46: 84995.479 | AM46: 9551 | AN46: 5853 | AO46: 3698 | AP46: 39346.564 | AQ46: 2085 | AR46: 1360 | AS46: 725 | AT46: 10554.841 | AU46: 22011 | AV46: 13268 | AW46: 8743 | AX46: 121910.33 | AY46: 5972 | AZ46: 3345 | BA46: 2627 | BB46: 34305.481 | BC46: 95 | BD46: 95 | BE46: 0 | BF46: 655.188 | BG46: 117 | BH46: 51 | BI46: 66 | BJ46: 679.381
A47: 高雄市 | B47: Kaohsiung City | C47: 44957 | D47: 26852 | E47: 18105 | F47: 251352.93 | G47: 7748 | H47: 4983 | I47: 2765 | J47: 68587.023 | K47: 6731 | L47: 4403 | M47: 2328 | N47: 63199.308 | O47: 1017 | P47: 580 | Q47: 437 | R47: 5387.715 | S47: 2992 | T47: 1813 | U47: 1179 | V47: 14466.884 | W47: 1711 | X47: 997 | Y47: 714 | Z47: 9280.115 | AA47: 1281 | AB47: 816 | AC47: 465 | AD47: 5186.769 | AE47: 34217 | AF47: 20056 | AG47: 14161 | AH47: 168299.03 | AI47: 21644 | AJ47: 12442 | AK47: 9202 | AL47: 117390.95 | AM47: 12573 | AN47: 7614 | AO47: 4959 | AP47: 50908.077 | AQ47: 3099 | AR47: 2042 | AS47: 1057 | AT47: 15026.65 | AU47: 34144 | AV47: 20525 | AW47: 13619 | AX47: 190336.55 | AY47: 7714 | AZ47: 4285 | BA47: 3429 | BB47: 45989.731 | BC47: 308 | BD47: 296 | BE47: 12 | BF47: 1690.397 | BG47: 779 | BH47: 432 | BI47: 347 | BJ47: 4552.064
A48: 宜蘭縣 | B48: Yilan County | C48: 7843 | D48: 4643 | E48: 3200 | F48: 43580.789 | G48: 1543 | H48: 988 | I48: 555 | J48: 12959.523 | K48: 1220 | L48: 809 | M48: 411 | N48: 11252.307 | O48: 323 | P48: 179 | Q48: 144 | R48: 1707.216 | S48: 654 | T48: 381 | U48: 273 | V48: 3119.773 | W48: 363 | X48: 210 | Y48: 153 | Z48: 1959.098 | AA48: 291 | AB48: 171 | AC48: 120 | AD48: 1160.675 | AE48: 5646 | AF48: 3274 | AG48: 2372 | AH48: 27501.493 | AI48: 3425 | AJ48: 1936 | AK48: 1489 | AL48: 18515.489 | AM48: 2221 | AN48: 1338 | AO48: 883 | AP48: 8986.004 | AQ48: 507 | AR48: 328 | AS48: 179 | AT48: 2571.819 | AU48: 6068 | AV48: 3606 | AW48: 2462 | AX48: 33597.46 | AY48: 1268 | AZ48: 709 | BA48: 559 | BB48: 7411.51 | BC48: 16 | BD48: 15 | BE48: 1 | BF48: 93.584 | BG48: 510 | BH48: 311 | BI48: 199 | BJ48: 3143.883
