Workbook

Sheet 歷年
A1: 身心障礙者生活補助Living Assistance for the Disabled
A3: 單位：人數、人次、千元
A4: 年別 Years | B4: 總計 Total (1)=(2)+(3)+(4)+(5) | F4: 低收入戶 Low-income Households | R4: 中低收入戶 Middle-low-income Households | AD4: 最低生活費1.5倍以上未達2.5倍者Between 1.5 and 2.5 times of minimum of subsistence | AP4: 榮民(補差額) Veteran Serviceman (Difference) (4) | AT4: 原住民 Indigenous
F5: 合計Total (1) | J5: 中度障礙以上 Moderate & Over | N5: 輕度障礙 Mild | R5: 合計Total (2) | V5: 中度障礙以上 Moderate & Over | Z5: 輕度障礙 Mild | AD5: 合計Total (3) | AH5: 中度障礙以上 Moderate & Over | AL5: 輕度障礙 Mild
B6: 人次 Person-times | E6: 金額 (千元) Amounts (NT$1,000) | F6: 人次 Person-times | I6: 金額 (千元) Amounts (NT$1,000) | J6: 人次 Person-times | M6: 金額 (千元) Amounts (NT$1,000) | N6: 人次 Person-times | Q6: 金額 (千元) Amounts (NT$1,000) | R6: 人次 Person-times | U6: 金額 (千元) Amounts (NT$1,000) | V6: 人次 Person-times | Y6: 金額 (千元) Amounts (NT$1,000) | Z6: 人次 Person-times | AC6: 金額 (千元) Amounts (NT$1,000) | AD6: 人次 Person-times | AG6: 金額 (千元) Amounts (NT$1,000) | AH6: 人次 Person-times | AK6: 金額 (千元) Amounts (NT$1,000) | AL6: 人次 Person-times | AO6: 金額 (千元) Amounts (NT$1,000) | AP6: 人次 Person-times | AS6: 金額 (千元) Amounts (NT$1,000) | AT6: 人次 Person-times | AW6: 金額 (千元) Amounts (NT$1,000)
B7: 合計 Total | C7: 男 Male | D7: 女 Female | F7: 計 Subtotal | G7: 男 Male | H7: 女 Female | J7: 計 Subtotal | K7: 男 Male | L7: 女 Female | N7: 計 Subtotal | O7: 男 Male | P7: 女 Female | R7: 計 Subtotal | S7: 男 Male | T7: 女 Female | V7: 計 Subtotal | W7: 男 Male | X7: 女 Female | Z7: 計 Subtotal | AA7: 男 Male | AB7: 女 Female | AD7: 計 Subtotal | AE7: 男 Male | AF7: 女 Female | AH7: 計 Subtotal | AI7: 男 Male | AJ7: 女 Female | AL7: 計 Subtotal | AM7: 男 Male | AN7: 女 Female | AP7: 計 Subtotal | AQ7: 男 Male | AR7: 女 Female | AT7: 計 Subtotal | AU7: 男 Male | AV7: 女 Female
A8: 105年,2016 | B8: ='2016'!C9 -> 4214338 | C8: ='2016'!D9 -> 2566669 | D8: ='2016'!E9 -> 1647669 | E8: ='2016'!F9 -> 21307798 | F8: =SUM(J8,N8) -> 767010 | G8: =SUM(K8,O8) -> 497886 | H8: =SUM(L8,P8) -> 269124 | I8: =SUM(M8,Q8) -> 6003707.7 | J8: ='2016'!G9 -> 602749 | K8: ='2016'!H9 -> 396698 | L8: ='2016'!I9 -> 206051 | M8: ='2016'!J9 -> 5188294 | N8: ='2016'!K9 -> 164261 | O8: ='2016'!L9 -> 101188 | P8: ='2016'!M9 -> 63073 | Q8: ='2016'!N9 -> 815413.67 | R8: =SUM(V8,Z8) -> 297100 | S8: =SUM(W8,AA8) -> 182471 | T8: =SUM(X8,AB8) -> 114629 | U8: =SUM(Y8,AC8) -> 1314403.7 | V8: ='2016'!O9 -> 172825 | W8: ='2016'!P9 -> 103937 | X8: ='2016'!Q9 -> 68888 | Y8: ='2016'!R9 -> 855740.86 | Z8: ='2016'!S9 -> 124275 | AA8: ='2016'!T9 -> 78534 | AB8: ='2016'!U9 -> 45741 | AC8: ='2016'!V9 -> 458662.88 | AD8: =SUM(AH8,AL8) -> 3121954 | AE8: =SUM(AI8,AM8) -> 1858821 | AF8: =SUM(AJ8,AN8) -> 1263133 | AG8: =SUM(AK8,AO8) -> 13864365 | AH8: ='2016'!W9 -> 1949228 | AI8: ='2016'!X9 -> 1133546 | AJ8: ='2016'!Y9 -> 815682 | AK8: ='2016'!Z9 -> 9569169.4 | AL8: ='2016'!AA9 -> 1172726 | AM8: ='2016'!AB9 -> 725275 | AN8: ='2016'!AC9 -> 447451 | AO8: ='2016'!AD9 -> 4295195.6 | ... AS8: ='2016'!AH9 -> 125321.29 | AT8: … | AU8: … | AV8: … | AW8: …
A9: 106年,2017 | B9: ='2017'!C9 -> 4207046 | C9: ='2017'!D9 -> 2559770 | D9: ='2017'!E9 -> 1647276 | E9: ='2017'!F9 -> 21282896 | F9: =SUM(J9,N9) -> 765984 | G9: =SUM(K9,O9) -> 498918 | H9: =SUM(L9,P9) -> 267066 | I9: =SUM(M9,Q9) -> 6003344.5 | J9: ='2017'!G9 -> 605977 | K9: ='2017'!H9 -> 400644 | L9: ='2017'!I9 -> 205333 | M9: ='2017'!J9 -> 5210556.2 | N9: ='2017'!K9 -> 160007 | O9: ='2017'!L9 -> 98274 | P9: ='2017'!M9 -> 61733 | Q9: ='2017'!N9 -> 792788.34 | R9: =SUM(V9,Z9) -> 259104 | S9: =SUM(W9,AA9) -> 158088 | T9: =SUM(X9,AB9) -> 101016 | U9: =SUM(Y9,AC9) -> 1143369.5 | V9: ='2017'!O9 -> 149844 | W9: ='2017'!P9 -> 89820 | X9: ='2017'!Q9 -> 60024 | Y9: ='2017'!R9 -> 740357.84 | Z9: ='2017'!S9 -> 109260 | AA9: ='2017'!T9 -> 68268 | AB9: ='2017'!U9 -> 40992 | AC9: ='2017'!V9 -> 403011.7 | AD9: =SUM(AH9,AL9) -> 3156605 | AE9: =SUM(AI9,AM9) -> 1878011 | AF9: =SUM(AJ9,AN9) -> 1278594 | AG9: =SUM(AK9,AO9) -> 14021753 | AH9: ='2017'!W9 -> 1963496 | AI9: ='2017'!X9 -> 1140025 | AJ9: ='2017'!Y9 -> 823471 | AK9: ='2017'!Z9 -> 9651473.5 | AL9: ='2017'!AA9 -> 1193109 | AM9: ='2017'!AB9 -> 737986 | AN9: ='2017'!AC9 -> 455123 | AO9: ='2017'!AD9 -> 4370279 | ... AS9: ='2017'!AH9 -> 114429.29 | AT9: … | AU9: … | AV9: … | AW9: …
A10: 107年,2018 | B10: ='2018'!C9 -> 4189002 | C10: ='2018'!D9 -> 2548068 | D10: ='2018'!E9 -> 1640934 | E10: ='2018'!F9 -> 21257027 | F10: =SUM(J10,N10) -> 772415 | G10: =SUM(K10,O10) -> 504883 | H10: =SUM(L10,P10) -> 267532 | I10: =SUM(M10,Q10) -> 6069934.8 | J10: ='2018'!G9 -> 614369 | K10: ='2018'!H9 -> 407259 | L10: ='2018'!I9 -> 207110 | M10: ='2018'!J9 -> 5285811.3 | N10: ='2018'!K9 -> 158046 | O10: ='2018'!L9 -> 97624 | P10: ='2018'!M9 -> 60422 | Q10: ='2018'!N9 -> 784123.52 | R10: =SUM(V10,Z10) -> 256042 | S10: =SUM(W10,AA10) -> 154733 | T10: =SUM(X10,AB10) -> 101309 | U10: =SUM(Y10,AC10) -> 1132004.3 | V10: ='2018'!O9 -> 147858 | W10: ='2018'!P9 -> 87661 | X10: ='2018'!Q9 -> 60197 | Y10: ='2018'!R9 -> 733108.84 | Z10: ='2018'!S9 -> 108184 | AA10: ='2018'!T9 -> 67072 | AB10: ='2018'!U9 -> 41112 | AC10: ='2018'!V9 -> 398895.49 | AD10: =SUM(AH10,AL10) -> 3137527 | AE10: =SUM(AI10,AM10) -> 1865866 | AF10: =SUM(AJ10,AN10) -> 1271661 | AG10: =SUM(AK10,AO10) -> 13943806 | AH10: ='2018'!W9 -> 1950719 | AI10: ='2018'!X9 -> 1133458 | AJ10: ='2018'!Y9 -> 817261 | AK10: ='2018'!Z9 -> 9594267.7 | AL10: ='2018'!AA9 -> 1186808 | AM10: ='2018'!AB9 -> 732408 | AN10: ='2018'!AC9 -> 454400 | AO10: ='2018'!AD9 -> 4349538.3 | ... AW10: ='2018'!AL9 -> 953364.86
A11: 108年,2019 | B11: ='2019'!C9 -> 4180281 | C11: ='2019'!D9 -> 2532418 | D11: ='2019'!E9 -> 1647863 | E11: ='2019'!F9 -> 21280242 | F11: =SUM(J11,N11) -> 784694 | G11: =SUM(K11,O11) -> 510530 | H11: =SUM(L11,P11) -> 274164 | I11: =SUM(M11,Q11) -> 6187807.5 | J11: ='2019'!G9 -> 627601 | K11: ='2019'!H9 -> 413912 | L11: ='2019'!I9 -> 213689 | M11: ='2019'!J9 -> 5403611.9 | N11: ='2019'!K9 -> 157093 | O11: ='2019'!L9 -> 96618 | P11: ='2019'!M9 -> 60475 | Q11: ='2019'!N9 -> 784195.59 | R11: =SUM(V11,Z11) -> 264026 | S11: =SUM(W11,AA11) -> 160613 | T11: =SUM(X11,AB11) -> 103413 | U11: =SUM(Y11,AC11) -> 1166935 | V11: ='2019'!O9 -> 152496 | W11: ='2019'!P9 -> 91542 | X11: ='2019'!Q9 -> 60954 | Y11: ='2019'!R9 -> 755341.13 | Z11: ='2019'!S9 -> 111530 | AA11: ='2019'!T9 -> 69071 | AB11: ='2019'!U9 -> 42459 | AC11: ='2019'!V9 -> 411593.91 | AD11: =SUM(AH11,AL11) -> 3110325 | AE11: =SUM(AI11,AM11) -> 1840551 | AF11: =SUM(AJ11,AN11) -> 1269774 | AG11: =SUM(AK11,AO11) -> 13821797 | AH11: ='2019'!W9 -> 1936891 | AI11: ='2019'!X9 -> 1119574 | AJ11: ='2019'!Y9 -> 817317 | AK11: ='2019'!Z9 -> 9521069.2 | AL11: ='2019'!AA9 -> 1173434 | AM11: ='2019'!AB9 -> 720977 | AN11: ='2019'!AC9 -> 452457 | AO11: ='2019'!AD9 -> 4300727.4 | ... AW11: ='2019'!AL9 -> 890871.61
A12: 109年,2020 | B12: ='2020'!C9 -> 4214109 | C12: ='2020'!D9 -> 2550185 | D12: ='2020'!E9 -> 1663924 | E12: ='2020'!F9 -> 22288115 | F12: =SUM(J12,N12) -> 797489 | G12: =SUM(K12,O12) -> 519331 | H12: =SUM(L12,P12) -> 278158 | I12: =SUM(M12,Q12) -> 6519075 | J12: ='2020'!G9 -> 639856 | K12: ='2020'!H9 -> 422587 | L12: ='2020'!I9 -> 217269 | M12: ='2020'!J9 -> 5707981 | N12: ='2020'!K9 -> 157633 | O12: ='2020'!L9 -> 96744 | P12: ='2020'!M9 -> 60889 | Q12: ='2020'!N9 -> 811094.05 | R12: =SUM(V12,Z12) -> 267797 | S12: =SUM(W12,AA12) -> 162626 | T12: =SUM(X12,AB12) -> 105171 | U12: =SUM(Y12,AC12) -> 1224006.3 | V12: ='2020'!O9 -> 154241 | W12: ='2020'!P9 -> 91893 | X12: ='2020'!Q9 -> 62348 | Y12: ='2020'!R9 -> 790206.91 | Z12: ='2020'!S9 -> 113556 | AA12: ='2020'!T9 -> 70733 | AB12: ='2020'!U9 -> 42823 | AC12: ='2020'!V9 -> 433799.4 | AD12: =SUM(AH12,AL12) -> 3129314 | AE12: =SUM(AI12,AM12) -> 1849134 | AF12: =SUM(AJ12,AN12) -> 1280180 | AG12: =SUM(AK12,AO12) -> 14445718 | AH12: ='2020'!W9 -> 1950364 | AI12: ='2020'!X9 -> 1126521 | AJ12: ='2020'!Y9 -> 823843 | AK12: ='2020'!Z9 -> 9958348.7 | AL12: ='2020'!AA9 -> 1178950 | AM12: ='2020'!AB9 -> 722613 | AN12: ='2020'!AC9 -> 456337 | AO12: ='2020'!AD9 -> 4487369.7 | ... AW12: ='2020'!AL9 -> 928384.16
A13: 110年,2021 | B13: ='2021'!C9 -> 4215053 | C13: ='2021'!D9 -> 2546918 | D13: ='2021'!E9 -> 1668135 | E13: ='2021'!F9 -> 22333596 | F13: =SUM(J13,N13) -> 800725 | G13: =SUM(K13,O13) -> 521693 | H13: =SUM(L13,P13) -> 279032 | I13: =SUM(M13,Q13) -> 6552409.9 | J13: ='2021'!G9 -> 642456 | K13: ='2021'!H9 -> 423802 | L13: ='2021'!I9 -> 218654 | M13: ='2021'!J9 -> 5735722.3 | N13: ='2021'!K9 -> 158269 | O13: ='2021'!L9 -> 97891 | P13: ='2021'!M9 -> 60378 | Q13: ='2021'!N9 -> 816687.56 | R13: =SUM(V13,Z13) -> 267636 | S13: =SUM(W13,AA13) -> 163420 | T13: =SUM(X13,AB13) -> 104216 | U13: =SUM(Y13,AC13) -> 1228536.3 | V13: ='2021'!O9 -> 155453 | W13: ='2021'!P9 -> 93005 | X13: ='2021'!Q9 -> 62448 | Y13: ='2021'!R9 -> 799324.14 | Z13: ='2021'!S9 -> 112183 | AA13: ='2021'!T9 -> 70415 | AB13: ='2021'!U9 -> 41768 | AC13: ='2021'!V9 -> 429212.21 | AD13: =SUM(AH13,AL13) -> 3129412 | AE13: =SUM(AI13,AM13) -> 1844904 | AF13: =SUM(AJ13,AN13) -> 1284508 | AG13: =SUM(AK13,AO13) -> 14464344 | AH13: ='2021'!W9 -> 1948433 | AI13: ='2021'!X9 -> 1122432 | AJ13: ='2021'!Y9 -> 826001 | AK13: ='2021'!Z9 -> 9963089.7 | AL13: ='2021'!AA9 -> 1180979 | AM13: ='2021'!AB9 -> 722472 | AN13: ='2021'!AC9 -> 458507 | AO13: ='2021'!AD9 -> 4501254.8 | ... AW13: ='2021'!AL9 -> 924536.31
A14: 111年,2022 | B14: ='2022'!C9 -> 4151979 | C14: ='2022'!D9 -> 2508905 | D14: ='2022'!E9 -> 1643074 | E14: ='2022'!F9 -> 22074236 | F14: =SUM(J14,N14) -> 804389 | G14: =SUM(K14,O14) -> 522416 | H14: =SUM(L14,P14) -> 281973 | I14: =SUM(M14,Q14) -> 6592687.1 | J14: ='2022'!G9 -> 646857 | K14: ='2022'!H9 -> 425371 | L14: ='2022'!I9 -> 221486 | M14: ='2022'!J9 -> 5779692.7 | N14: ='2022'!K9 -> 157532 | O14: ='2022'!L9 -> 97045 | P14: ='2022'!M9 -> 60487 | Q14: ='2022'!N9 -> 812994.38 | R14: =SUM(V14,Z14) -> 261751 | S14: =SUM(W14,AA14) -> 160604 | T14: =SUM(X14,AB14) -> 101147 | U14: =SUM(Y14,AC14) -> 1200203 | V14: ='2022'!O9 -> 150802 | W14: ='2022'!P9 -> 90785 | X14: ='2022'!Q9 -> 60017 | Y14: ='2022'!R9 -> 774977.53 | Z14: ='2022'!S9 -> 110949 | AA14: ='2022'!T9 -> 69819 | AB14: ='2022'!U9 -> 41130 | AC14: ='2022'!V9 -> 425225.48 | AD14: =SUM(AH14,AL14) -> 3069901 | AE14: =SUM(AI14,AM14) -> 1810793 | AF14: =SUM(AJ14,AN14) -> 1259108 | AG14: =SUM(AK14,AO14) -> 14196917 | AH14: ='2022'!W9 -> 1908957 | AI14: ='2022'!X9 -> 1100064 | AJ14: ='2022'!Y9 -> 808893 | AK14: ='2022'!Z9 -> 9766194.3 | AL14: ='2022'!AA9 -> 1160944 | AM14: ='2022'!AB9 -> 710729 | AN14: ='2022'!AC9 -> 450215 | AO14: ='2022'!AD9 -> 4430722.9 | ... AW14: ='2022'!AL9 -> 909594.52
A15: 112年,2023 | B15: ='2023'!C9 -> 4107192 | C15: ='2023'!D9 -> 2478415 | D15: ='2023'!E9 -> 1628777 | E15: ='2023'!F9 -> 21871817 | F15: =SUM(J15,N15) -> 801805 | G15: =SUM(K15,O15) -> 519277 | H15: =SUM(L15,P15) -> 282528 | I15: =SUM(M15,Q15) -> 6575887.3 | J15: ='2023'!G9 -> 647860 | K15: ='2023'!H9 -> 425023 | L15: ='2023'!I9 -> 222837 | M15: ='2023'!J9 -> 5781273.6 | N15: ='2023'!K9 -> 153945 | O15: ='2023'!L9 -> 94254 | P15: ='2023'!M9 -> 59691 | Q15: ='2023'!N9 -> 794613.79 | R15: =SUM(V15,Z15) -> 244040 | S15: =SUM(W15,AA15) -> 149070 | T15: =SUM(X15,AB15) -> 94970 | U15: =SUM(Y15,AC15) -> 1117169.6 | V15: ='2023'!O9 -> 139840 | W15: ='2023'!P9 -> 84084 | X15: ='2023'!Q9 -> 55756 | Y15: ='2023'!R9 -> 716909.08 | Z15: ='2023'!S9 -> 104200 | AA15: ='2023'!T9 -> 64986 | AB15: ='2023'!U9 -> 39214 | AC15: ='2023'!V9 -> 400260.53 | AD15: =SUM(AH15,AL15) -> 3046073 | AE15: =SUM(AI15,AM15) -> 1795965 | AF15: =SUM(AJ15,AN15) -> 1250108 | AG15: =SUM(AK15,AO15) -> 14096055 | AH15: ='2023'!W9 -> 1889712 | AI15: ='2023'!X9 -> 1089467 | AJ15: ='2023'!Y9 -> 800245 | AK15: ='2023'!Z9 -> 9675984.8 | AL15: ='2023'!AA9 -> 1156361 | AM15: ='2023'!AB9 -> 706498 | AN15: ='2023'!AC9 -> 449863 | AO15: ='2023'!AD9 -> 4420070.1 | ... AW15: ='2023'!AL9 -> 894305.49
A16: 113年,2024 | B16: ='2024'!C9 -> 4036938 | C16: ='2024'!D9 -> 2433874 | D16: ='2024'!E9 -> 1603064 | E16: ='2024'!F9 -> 23127420 | F16: ='2024'!G9 -> 778445 | G16: ='2024'!H9 -> 503243 | H16: ='2024'!I9 -> 275202 | I16: ='2024'!J9 -> 6900706.6 | ... AW16: ='2024'!AX9 -> 940468.13
A17: 1月,Jan. | B17: 322835 | C17: 194884 | D17: 127951 | E17: 1826534.5 | F17: 61400 | G17: 39791 | H17: 21609 | I17: 540131.92 | J17: 50316 | K17: 33043 | L17: 17273 | M17: 479084.63 | N17: 11084 | O17: 6748 | P17: 4336 | Q17: 61047.288 | R17: 18479 | S17: 11284 | T17: 7195 | U17: 89726.937 | V17: 10526 | W17: 6353 | X17: 4173 | Y17: 57210.522 | Z17: 7953 | AA17: 4931 | AB17: 3022 | AC17: 32516.415 | AD17: 241636 | AE17: 142612 | AF17: 99024 | AG17: 1189024.9 | AH17: 149651 | AI17: 86379 | AJ17: 63272 | AK17: 815454.24 | AL17: 91985 | AM17: 56233 | AN17: 35752 | AO17: 373570.61 | AP17: 1320 | AQ17: 1197 | AR17: 123 | AS17: 7650.794 | AT17: 11967 | AU17: 7226 | AV17: 4741 | AW17: 72871.906
A18: 2月,Feb. | B18: 331518 | C18: 200072 | D18: 131446 | E18: 1913055.4 | F18: 63596 | G18: 41201 | H18: 22395 | I18: 570924.14 | J18: 52019 | K18: 34152 | L18: 17867 | M18: 505564.59 | N18: 11577 | O18: 7049 | P18: 4528 | Q18: 65359.55 | R18: 18743 | S18: 11446 | T18: 7297 | U18: 93700.039 | V18: 10643 | W18: 6407 | X18: 4236 | Y18: 59758.964 | Z18: 8100 | AA18: 5039 | AB18: 3061 | AC18: 33941.075 | AD18: 247847 | AE18: 146211 | AF18: 101636 | AG18: 1240617.4 | AH18: 153695 | AI18: 88667 | AJ18: 65028 | AK18: 851869.93 | AL18: 94152 | AM18: 57544 | AN18: 36608 | AO18: 388747.48 | AP18: 1332 | AQ18: 1214 | AR18: 118 | AS18: 7813.822 | AT18: 12507 | AU18: 7532 | AV18: 4975 | AW18: 78262.507
A19: 3月,Mar. | B19: 334757 | C19: 201954 | D19: 132803 | E19: 1934621.1 | F19: 64727 | G19: 41924 | H19: 22803 | I19: 575036.48 | J19: 52913 | K19: 34743 | L19: 18170 | M19: 509098.47 | N19: 11814 | O19: 7181 | P19: 4633 | Q19: 65938.009 | R19: 18969 | S19: 11588 | T19: 7381 | U19: 94249.403 | V19: 10787 | W19: 6487 | X19: 4300 | Y19: 59987.401 | Z19: 8182 | AA19: 5101 | AB19: 3081 | AC19: 34262.002 | AD19: 249717 | AE19: 147214 | AF19: 102503 | AG19: 1257410.7 | AH19: 154930 | AI19: 89322 | AJ19: 65608 | AK19: 863304.02 | AL19: 94787 | AM19: 57892 | AN19: 36895 | AO19: 394106.67 | AP19: 1344 | AQ19: 1228 | AR19: 116 | AS19: 7924.581 | AT19: 12626 | AU19: 7606 | AV19: 5020 | AW19: 78590.858
A20: 4月,Apr. | B20: 335636 | C20: 202302 | D20: 133334 | E20: 1935370.3 | F20: 64950 | G20: 42009 | H20: 22941 | I20: 577280.74 | J20: 53044 | K20: 34760 | L20: 18284 | M20: 510632.71 | N20: 11906 | O20: 7249 | P20: 4657 | Q20: 66648.024 | R20: 18979 | S20: 11594 | T20: 7385 | U20: 94509.327 | V20: 10769 | W20: 6486 | X20: 4283 | Y20: 60168.496 | Z20: 8210 | AA20: 5108 | AB20: 3102 | AC20: 34340.831 | AD20: 250351 | AE20: 147462 | AF20: 102889 | AG20: 1255597.4 | AH20: 155026 | AI20: 89339 | AJ20: 65687 | AK20: 860036.47 | AL20: 95325 | AM20: 58123 | AN20: 37202 | AO20: 395560.95 | AP20: 1356 | AQ20: 1237 | AR20: 119 | AS20: 7982.826 | AT20: 12669 | AU20: 7654 | AV20: 5015 | AW20: 79278.094
A21: 5月,May | B21: 336292 | C21: 202776 | D21: 133516 | E21: 1932555.2 | F21: 65241 | G21: 42219 | H21: 23022 | I21: 578422.83 | J21: 53253 | K21: 34930 | L21: 18323 | M21: 511709.66 | N21: 11988 | O21: 7289 | P21: 4699 | Q21: 66713.162 | R21: 19147 | S21: 11695 | T21: 7452 | U21: 94272.62 | V21: 10876 | W21: 6515 | X21: 4361 | Y21: 59943.6 | Z21: 8271 | AA21: 5180 | AB21: 3091 | AC21: 34329.02 | AD21: 250531 | AE21: 147600 | AF21: 102931 | AG21: 1251883.1 | AH21: 155030 | AI21: 89327 | AJ21: 65703 | AK21: 857429.31 | AL21: 95501 | AM21: 58273 | AN21: 37228 | AO21: 394453.82 | AP21: 1373 | AQ21: 1262 | AR21: 111 | AS21: 7976.651 | AT21: 12713 | AU21: 7695 | AV21: 5018 | AW21: 79244.529
A22: 6月,Jun. | B22: 336934 | C22: 203037 | D22: 133897 | E22: 1934563.9 | F22: 65253 | G22: 42152 | H22: 23101 | I22: 578733.96 | J22: 53187 | K22: 34837 | L22: 18350 | M22: 511409.34 | N22: 12066 | O22: 7315 | P22: 4751 | Q22: 67324.628 | R22: 19203 | S22: 11731 | T22: 7472 | U22: 94532.712 | V22: 10882 | W22: 6540 | X22: 4342 | Y22: 60097.902 | Z22: 8321 | AA22: 5191 | AB22: 3130 | AC22: 34434.81 | AD22: 251158 | AE22: 147950 | AF22: 103208 | AG22: 1253612.5 | AH22: 155494 | AI22: 89646 | AJ22: 65848 | AK22: 858192.39 | AL22: 95664 | AM22: 58304 | AN22: 37360 | AO22: 395420.13 | AP22: 1320 | AQ22: 1204 | AR22: 116 | AS22: 7684.688 | AT22: 12712 | AU22: 7717 | AV22: 4995 | AW22: 79425.782
A23: 7月,Jul. | B23: 337754 | C23: 203551 | D23: 134203 | E23: 1935321.4 | F23: 65112 | G23: 42093 | H23: 23019 | I23: 576214.54 | J23: 53191 | K23: 34848 | L23: 18343 | M23: 509903.7 | N23: 11921 | O23: 7245 | P23: 4676 | Q23: 66310.842 | R23: 19243 | S23: 11760 | T23: 7483 | U23: 94533.347 | V23: 10885 | W23: 6553 | X23: 4332 | Y23: 59895.08 | Z23: 8358 | AA23: 5207 | AB23: 3151 | AC23: 34638.267 | AD23: 252082 | AE23: 148488 | AF23: 103594 | AG23: 1256852.2 | AH23: 155944 | AI23: 89849 | AJ23: 66095 | AK23: 860473.37 | AL23: 96138 | AM23: 58639 | AN23: 37499 | AO23: 396378.86 | AP23: 1317 | AQ23: 1210 | AR23: 107 | AS23: 7721.236 | AT23: 12714 | AU23: 7718 | AV23: 4996 | AW23: 78572.259
A24: 8月,Aug. | B24: 338330 | C24: 203868 | D24: 134462 | E24: 1938335.2 | F24: 65063 | G24: 42013 | H24: 23050 | I24: 576570.45 | J24: 53122 | K24: 34768 | L24: 18354 | M24: 510477.66 | N24: 11941 | O24: 7245 | P24: 4696 | Q24: 66092.786 | R24: 19430 | S24: 11930 | T24: 7500 | U24: 95638.448 | V24: 11016 | W24: 6651 | X24: 4365 | Y24: 60850.228 | Z24: 8414 | AA24: 5279 | AB24: 3135 | AC24: 34788.22 | AD24: 252522 | AE24: 148730 | AF24: 103792 | AG24: 1258436.9 | AH24: 156177 | AI24: 90036 | AJ24: 66141 | AK24: 861359.04 | AL24: 96345 | AM24: 58694 | AN24: 37651 | AO24: 397077.82 | AP24: 1315 | AQ24: 1195 | AR24: 120 | AS24: 7689.398 | AT24: 12666 | AU24: 7676 | AV24: 4990 | AW24: 78785.502
A25: 9月,Sept. | B25: 339976 | C25: 205105 | D25: 134871 | E25: 1939327.5 | F25: 65733 | G25: 42505 | H25: 23228 | I25: 580582.01 | J25: 53637 | K25: 35164 | L25: 18473 | M25: 513623.34 | N25: 12096 | O25: 7341 | P25: 4755 | Q25: 66958.671 | R25: 19577 | S25: 12012 | T25: 7565 | U25: 95505.518 | V25: 11126 | W25: 6721 | X25: 4405 | Y25: 60846.661 | Z25: 8451 | AA25: 5291 | AB25: 3160 | AC25: 34658.857 | AD25: 253334 | AE25: 149381 | AF25: 103953 | AG25: 1255542.4 | AH25: 156663 | AI25: 90428 | AJ25: 66235 | AK25: 859372.27 | AL25: 96671 | AM25: 58953 | AN25: 37718 | AO25: 396170.15 | AP25: 1332 | AQ25: 1207 | AR25: 125 | AS25: 7697.583 | AT25: 12750 | AU25: 7748 | AV25: 5002 | AW25: 79190.012
A26: 10月,Oct. | B26: 340673 | C26: 205380 | D26: 135293 | E26: 1945175.2 | F26: 65702 | G26: 42409 | H26: 23293 | I26: 581882.86 | J26: 53646 | K26: 35110 | L26: 18536 | M26: 514635.12 | N26: 12056 | O26: 7299 | P26: 4757 | Q26: 67247.745 | R26: 19692 | S26: 12086 | T26: 7606 | U26: 96560.038 | V26: 11132 | W26: 6717 | X26: 4415 | Y26: 61208.514 | Z26: 8560 | AA26: 5369 | AB26: 3191 | AC26: 35351.524 | AD26: 253943 | AE26: 149672 | AF26: 104271 | AG26: 1258935.4 | AH26: 157010 | AI26: 90538 | AJ26: 66472 | AK26: 861363.17 | AL26: 96933 | AM26: 59134 | AN26: 37799 | AO26: 397572.23 | AP26: 1336 | AQ26: 1213 | AR26: 123 | AS26: 7796.85 | AT26: 12731 | AU26: 7740 | AV26: 4991 | AW26: 78772.013
A27: 11月,Nov. | B27: 340626 | C27: 205191 | D27: 135435 | E27: 1944734.4 | F27: 65745 | G27: 42410 | H27: 23335 | I27: 582452.43 | J27: 53680 | K27: 35119 | L27: 18561 | M27: 515367.12 | N27: 12065 | O27: 7291 | P27: 4774 | Q27: 67085.319 | R27: 19800 | S27: 12136 | T27: 7664 | U27: 97168.309 | V27: 11197 | W27: 6748 | X27: 4449 | Y27: 61559.32 | Z27: 8603 | AA27: 5388 | AB27: 3215 | AC27: 35608.989 | AD27: 253756 | AE27: 149441 | AF27: 104315 | AG27: 1257380.5 | AH27: 156785 | AI27: 90370 | AJ27: 66415 | AK27: 859704 | AL27: 96971 | AM27: 59071 | AN27: 37900 | AO27: 397676.53 | AP27: 1325 | AQ27: 1204 | AR27: 121 | AS27: 7733.158 | AT27: 12694 | AU27: 7680 | AV27: 5014 | AW27: 78423.962
A28: 12月,Dec. | B28: 341607 | C28: 205754 | D28: 135853 | E28: 1947826.3 | F28: 65923 | G28: 42517 | H28: 23406 | I28: 582474.22 | J28: 53777 | K28: 35127 | L28: 18650 | M28: 515214.66 | N28: 12146 | O28: 7390 | P28: 4756 | Q28: 67259.565 | R28: 19979 | S28: 12245 | T28: 7734 | U28: 97891.567 | V28: 11310 | W28: 6841 | X28: 4469 | Y28: 62047.514 | Z28: 8669 | AA28: 5404 | AB28: 3265 | AC28: 35844.053 | AD28: 254363 | AE28: 149771 | AF28: 104592 | AG28: 1259585.4 | AH28: 157086 | AI28: 90479 | AJ28: 66607 | AK28: 861283.41 | AL28: 97277 | AM28: 59292 | AN28: 37985 | AO28: 398301.97 | AP28: 1342 | AQ28: 1221 | AR28: 121 | AS28: 7875.174 | AT28: 12750 | AU28: 7731 | AV28: 5019 | AW28: 79050.71
A30: 年別 Years | B30: 總計 Total | F30: 福利身分別 By Identity | AP30: 依年齡別分 By Age | BB30: 榮民(補差額) Veteran Serviceman (Difference) | BF30: 原住民 Indigenous
F31: 低收入戶 Low-income Households | R31: 中低收入戶 Middle-low-income Households | AD31: 最低生活費1.5倍以上未達2.5倍者Between 1.5 and 2.5 times of minimum of subsistence | AP31: 未滿18歲 | AT31: 18歲-未滿65歲 | AX31: 65歲以上
F32: 合計Total | J32: 中度障礙以上 Moderate & Over | N32: 輕度障礙 Mild | R32: 合計Total | V32: 中度障礙以上 Moderate & Over | Z32: 輕度障礙 Mild | AD32: 合計Total | AH32: 中度障礙以上 Moderate & Over | AL32: 輕度障礙 Mild
B33: 人次 Person-times | E33: 金額 (千元) Amounts (NT$1,000) | F33: 人次 Person-times | I33: 金額 (千元) Amounts (NT$1,000) | J33: 人次 Person-times | M33: 金額 (千元) Amounts (NT$1,000) | N33: 人次 Person-times | Q33: 金額 (千元) Amounts (NT$1,000) | R33: 人次 Person-times | U33: 金額 (千元) Amounts (NT$1,000) | V33: 人次 Person-times | Y33: 金額 (千元) Amounts (NT$1,000) | Z33: 人次 Person-times | AC33: 金額 (千元) Amounts (NT$1,000) | AD33: 人次 Person-times | AG33: 金額 (千元) Amounts (NT$1,000) | AH33: 人次 Person-times | AK33: 金額 (千元) Amounts (NT$1,000) | AL33: 人次 Person-times | AO33: 金額 (千元) Amounts (NT$1,000) | AP33: 人次 Person-times | AS33: 金額 (千元) Amounts (NT$1,000) | AT33: 人次 Person-times | AW33: 金額 (千元) Amounts (NT$1,000) | AX33: 人次 Person-times | BA33: 金額 (千元) Amounts (NT$1,000) | BB33: 人次 Person-times | BE33: 金額 (千元) Amounts (NT$1,000) | BF33: 人次 Person-times | BI33: 金額 (千元) Amounts (NT$1,000)
B34: 合計 Total | C34: 男 Male | D34: 女 Female | F34: 計 Subtotal | G34: 男 Male | H34: 女 Female | J34: 計 Subtotal | K34: 男 Male | L34: 女 Female | N34: 計 Subtotal | O34: 男 Male | P34: 女 Female | R34: 計 Subtotal | S34: 男 Male | T34: 女 Female | V34: 計 Subtotal | W34: 男 Male | X34: 女 Female | Z34: 計 Subtotal | AA34: 男 Male | AB34: 女 Female | AD34: 計 Subtotal | AE34: 男 Male | AF34: 女 Female | AH34: 計 Subtotal | AI34: 男 Male | AJ34: 女 Female | AL34: 計 Subtotal | AM34: 男 Male | AN34: 女 Female | AP34: 合計 Subtotal | AQ34: 男 Male | AR34: 女 Female | AT34: 合計 Subtotal | AU34: 男 Male | AV34: 女 Female | AX34: 合計 Subtotal | AY34: 男 Male | AZ34: 女 Female | BB34: 計 Subtotal | BC34: 男 Male | BD34: 女 Female | BF34: 計 Subtotal | BG34: 男 Male | BH34: 女 Female
A35: 114年,2025 | B35: ='2025'!C9 -> 3916432 | C35: ='2025'!D9 -> 2361659 | D35: ='2025'!E9 -> 1554773 | E35: ='2025'!F9 -> 22614398 | F35: ='2025'!G9 -> 782841 | G35: ='2025'!H9 -> 504722 | H35: ='2025'!I9 -> 278119 | I35: ='2025'!J9 -> 6971919.6 | ... BI35: ='2025'!BJ9 -> 942535.87
A36: 1月Jan. | B36: ='1,2025'!C9 -> 316613 | C36: ='1,2025'!D9 -> 191369 | D36: ='1,2025'!E9 -> 125244 | E36: ='1,2025'!F9 -> 1826626.6 | F36: ='1,2025'!G9 -> 62694 | G36: ='1,2025'!H9 -> 40569 | H36: ='1,2025'!I9 -> 22125 | I36: ='1,2025'!J9 -> 556489.9 | ... BI36: ='1,2025'!BJ9 -> 74785.606
A37: 2月Feb. | B37: ='2, 2025'!C9 -> 320496 | C37: ='2, 2025'!D9 -> 193532 | D37: ='2, 2025'!E9 -> 126964 | E37: ='2, 2025'!F9 -> 1858854.9 | F37: ='2, 2025'!G9 -> 63401 | G37: ='2, 2025'!H9 -> 40970 | H37: ='2, 2025'!I9 -> 22431 | I37: ='2, 2025'!J9 -> 567904.27 | ... BI37: ='2, 2025'!BJ9 -> 76934.703
A38: 3月Mar. | B38: ='3, 2025'!C9 -> 325051 | C38: ='3, 2025'!D9 -> 196290 | D38: ='3, 2025'!E9 -> 128761 | E38: ='3, 2025'!F9 -> 1893255.7 | F38: ='3, 2025'!G9 -> 64713 | G38: ='3, 2025'!H9 -> 41791 | H38: ='3, 2025'!I9 -> 22922 | I38: ='3, 2025'!J9 -> 580685.83 | ... BI38: ='3, 2025'!BJ9 -> 79215.974
A39: 4月Apr. | B39: ='4, 2025'!C9 -> 327243 | C39: ='4, 2025'!D9 -> 197527 | D39: ='4, 2025'!E9 -> 129716 | E39: ='4, 2025'!F9 -> 1892016.7 | F39: ='4, 2025'!G9 -> 65474 | G39: ='4, 2025'!H9 -> 42263 | H39: ='4, 2025'!I9 -> 23211 | I39: ='4, 2025'!J9 -> 583292.42 | ... BI39: ='4, 2025'!BJ9 -> 79245.408
A40: 5月May | B40: ='5, 2025'!C9 -> 326323 | C40: ='5, 2025'!D9 -> 196719 | D40: ='5, 2025'!E9 -> 129604 | E40: ='5, 2025'!F9 -> 1888428.5 | F40: ='5, 2025'!G9 -> 65295 | G40: ='5, 2025'!H9 -> 42089 | H40: ='5, 2025'!I9 -> 23206 | I40: ='5, 2025'!J9 -> 582362.42 | ... BI40: ='5, 2025'!BJ9 -> 78725.312
A41: 6月Jun. | B41: ='6, 2025'!C9 -> 327282 | C41: ='6, 2025'!D9 -> 197350 | D41: ='6, 2025'!E9 -> 129932 | E41: ='6, 2025'!F9 -> 1889218.5 | F41: ='6, 2025'!G9 -> 65567 | G41: ='6, 2025'!H9 -> 42230 | H41: ='6, 2025'!I9 -> 23337 | I41: ='6, 2025'!J9 -> 582882.16 | ... BI41: ='6, 2025'!BJ9 -> 79010.435
A42: 7月July | B42: ='7, 2025'!C9 -> 327775 | C42: ='7, 2025'!D9 -> 197651 | D42: ='7, 2025'!E9 -> 130124 | E42: ='7, 2025'!F9 -> 1887878.5 | F42: ='7, 2025'!G9 -> 65410 | G42: ='7, 2025'!H9 -> 42160 | H42: ='7, 2025'!I9 -> 23250 | I42: ='7, 2025'!J9 -> 580888.64 | ... BI42: ='7, 2025'!BJ9 -> 78782.197
A43: 8月Aug. | B43: ='8, 2025'!C9 -> 327578 | C43: ='8, 2025'!D9 -> 197399 | D43: ='8, 2025'!E9 -> 130179 | E43: ='8, 2025'!F9 -> 1887628.9 | F43: ='8, 2025'!G9 -> 65373 | G43: ='8, 2025'!H9 -> 42115 | H43: ='8, 2025'!I9 -> 23258 | I43: ='8, 2025'!J9 -> 581408.62 | ... BI43: ='8, 2025'!BJ9 -> 78559.57
A44: 9月Sept. | B44: ='9, 2025'!C9 -> 328760 | C44: ='9, 2025'!D9 -> 198035 | D44: ='9, 2025'!E9 -> 130725 | E44: ='9, 2025'!F9 -> 1892553.4 | F44: ='9, 2025'!G9 -> 65856 | G44: ='9, 2025'!H9 -> 42395 | H44: ='9, 2025'!I9 -> 23461 | I44: ='9, 2025'!J9 -> 585098.64 | ... BI44: ='9, 2025'!BJ9 -> 79274.142
A45: 10月Oct. | B45: ='10, 2025'!C9 -> 329499 | C45: ='10, 2025'!D9 -> 198495 | D45: ='10, 2025'!E9 -> 131004 | E45: ='10, 2025'!F9 -> 1902021.2 | F45: ='10, 2025'!G9 -> 66375 | G45: ='10, 2025'!H9 -> 42756 | H45: ='10, 2025'!I9 -> 23619 | I45: ='10, 2025'!J9 -> 593109.71 | ... BI45: ='10, 2025'!BJ9 -> 79322.39
A46: 11月Nov. | B46: ='11, 2025'!C9 -> 330327 | C46: ='11, 2025'!D9 -> 198917 | D46: ='11, 2025'!E9 -> 131410 | E46: ='11, 2025'!F9 -> 1896715.4 | F46: ='11, 2025'!G9 -> 66425 | G46: ='11, 2025'!H9 -> 42743 | H46: ='11, 2025'!I9 -> 23682 | I46: ='11, 2025'!J9 -> 587464.09 | ... BI46: ='11, 2025'!BJ9 -> 79431.841
A47: 12月Dec. | B47: ='12,2025'!C9 -> 329485 | C47: ='12,2025'!D9 -> 198375 | D47: ='12,2025'!E9 -> 131110 | E47: ='12,2025'!F9 -> 1899199.3 | F47: ='12,2025'!G9 -> 66258 | G47: ='12,2025'!H9 -> 42641 | H47: ='12,2025'!I9 -> 23617 | I47: ='12,2025'!J9 -> 590332.85 | ... BI47: ='12,2025'!BJ9 -> 79248.287
A48: 115年,2026
A49: 1月Jan. | B49: ='2026,1'!C9 -> 306983 | C49: ='2026,1'!D9 -> 185308 | D49: ='2026,1'!E9 -> 121675 | E49: ='2026,1'!F9 -> 1787358.5 | F49: ='2026,1'!G9 -> 61862 | G49: ='2026,1'!H9 -> 39922 | H49: ='2026,1'!I9 -> 21940 | I49: ='2026,1'!J9 -> 554034.81 | ... BI49: ='2026,1'!BJ9 -> 73643.764
A50: 2月Feb. | B50: ='2026,2'!C9 -> 313030 | C50: ='2026,2'!D9 -> 188795 | D50: ='2026,2'!E9 -> 124235 | E50: ='2026,2'!F9 -> 1845104.5 | F50: ='2026,2'!G9 -> 63612 | G50: ='2026,2'!H9 -> 40943 | H50: ='2026,2'!I9 -> 22669 | I50: ='2026,2'!J9 -> 577321.06 | ... BI50: ='2026,2'!BJ9 -> 78864.288
A51: 3月Mar. | B51: ='2026,3'!C9 -> 317191 | C51: ='2026,3'!D9 -> 191263 | D51: ='2026,3'!E9 -> 125928 | E51: ='2026,3'!F9 -> 1862445 | F51: ='2026,3'!G9 -> 64433 | G51: ='2026,3'!H9 -> 41429 | H51: ='2026,3'!I9 -> 23004 | I51: ='2026,3'!J9 -> 581069.39 | ... BI51: ='2026,3'!BJ9 -> 79545.112
A52: 4月Apr. | B52: ='4, 2026'!C9 -> 0 | C52: ='4, 2026'!D9 -> 0 | D52: ='4, 2026'!E9 -> 0 | E52: ='4, 2026'!F9 -> 0 | F52: ='4, 2026'!G9 -> 0 | G52: ='4, 2026'!H9 -> 0 | H52: ='4, 2026'!I9 -> 0 | I52: ='4, 2026'!J9 -> 0 | ... BI52: ='4, 2026'!BJ9 -> 0
A53: 5月May | B53: ='5, 2026'!C9 -> 0 | C53: ='5, 2026'!D9 -> 0 | D53: ='5, 2026'!E9 -> 0 | E53: ='5, 2026'!F9 -> 0 | F53: ='5, 2026'!G9 -> 0 | G53: ='5, 2026'!H9 -> 0 | H53: ='5, 2026'!I9 -> 0 | I53: ='5, 2026'!J9 -> 0 | ... BI53: ='5, 2026'!BJ9 -> 0
A54: 6月Jun. | B54: ='6, 2026'!C9 -> 0 | C54: ='6, 2026'!D9 -> 0 | D54: ='6, 2026'!E9 -> 0 | E54: ='6, 2026'!F9 -> 0 | F54: ='6, 2026'!G9 -> 0 | G54: ='6, 2026'!H9 -> 0 | H54: ='6, 2026'!I9 -> 0 | I54: ='6, 2026'!J9 -> 0 | ... BI54: ='6, 2026'!BJ9 -> 0
A55: 7月July | B55: ='7, 2026'!C9 -> 0 | C55: ='7, 2026'!D9 -> 0 | D55: ='7, 2026'!E9 -> 0 | E55: ='7, 2026'!F9 -> 0 | F55: ='7, 2026'!G9 -> 0 | G55: ='7, 2026'!H9 -> 0 | H55: ='7, 2026'!I9 -> 0 | I55: ='7, 2026'!J9 -> 0 | ... BI55: ='7, 2026'!BJ9 -> 0
A56: 8月Aug. | B56: ='8, 2026'!C9 -> 0 | C56: ='8, 2026'!D9 -> 0 | D56: ='8, 2026'!E9 -> 0 | E56: ='8, 2026'!F9 -> 0 | F56: ='8, 2026'!G9 -> 0 | G56: ='8, 2026'!H9 -> 0 | H56: ='8, 2026'!I9 -> 0 | I56: ='8, 2026'!J9 -> 0 | ... BI56: ='8, 2026'!BJ9 -> 0
A57: 9月Sept. | B57: ='9, 2026'!C9 -> 0 | C57: ='9, 2026'!D9 -> 0 | D57: ='9, 2026'!E9 -> 0 | E57: ='9, 2026'!F9 -> 0 | F57: ='9, 2026'!G9 -> 0 | G57: ='9, 2026'!H9 -> 0 | H57: ='9, 2026'!I9 -> 0 | I57: ='9, 2026'!J9 -> 0 | ... BI57: ='9, 2026'!BJ9 -> 0
A58: 10月Oct. | B58: ='10, 2026'!C9 -> 0 | C58: ='10, 2026'!D9 -> 0 | D58: ='10, 2026'!E9 -> 0 | E58: ='10, 2026'!F9 -> 0 | F58: ='10, 2026'!G9 -> 0 | G58: ='10, 2026'!H9 -> 0 | H58: ='10, 2026'!I9 -> 0 | I58: ='10, 2026'!J9 -> 0 | ... BI58: ='10, 2026'!BJ9 -> 0
A59: 11月Nov. | B59: ='11, 2026'!C9 -> 0 | C59: ='11, 2026'!D9 -> 0 | D59: ='11, 2026'!E9 -> 0 | E59: ='11, 2026'!F9 -> 0 | F59: ='11, 2026'!G9 -> 0 | G59: ='11, 2026'!H9 -> 0 | H59: ='11, 2026'!I9 -> 0 | I59: ='11, 2026'!J9 -> 0 | ... BI59: ='11, 2026'!BJ9 -> 0
A60: 12月Dec. | B60: ='12,2026'!C9 -> 0 | C60: ='12,2026'!D9 -> 0 | D60: ='12,2026'!E9 -> 0 | E60: ='12,2026'!F9 -> 0 | F60: ='12,2026'!G9 -> 0 | G60: ='12,2026'!H9 -> 0 | H60: ='12,2026'!I9 -> 0 | I60: ='12,2026'!J9 -> 0 | ... BI60: ='12,2026'!BJ9 -> 0
A61: 資料來源：直轄市、縣(市)政府。
A62: Source : County and City Government.
A63: 說明：本表自114年分「福利身分別」及「年齡別」兩類型統計，並皆含具榮民、原住民身分者，此外榮民、原住民另行獨立統計。
A65: 更新日期：2026/05/15
B66: =IF(SUM(B36:B47)=B35,"","*") | C66: =IF(SUM(C36:C47)=C35,"","*") | D66: =IF(SUM(D36:D47)=D35,"","*") | E66: =IF(SUM(E36:E47)=E35,"","*") | F66: =IF(SUM(F36:F47)=F35,"","*") | G66: =IF(SUM(G36:G47)=G35,"","*") | H66: =IF(SUM(H36:H47)=H35,"","*") | I66: =IF(SUM(I36:I47)=I35,"","*") | ... BI66: =IF(SUM(BI36:BI47)=BI35,"","*")

Sheet 2026
A1: 身心障礙者生活補助Living Assistance for the Disabled
A3: 115年, 2026
A4: 區域別 Locality | C4: 總計 Total | G4: 福利身分別 By Identity | AQ4: 依年齡別分 By Age | BC4: 榮民(補差額) Veteran Serviceman (Difference) | BG4: 原住民 Indigenous
G5: 低收入戶 Low-income Households | S5: 中低收入戶 Middle-low-income Households | AE5: 最低生活費1.5倍以上未達2.5倍者Between 1.5 and 2.5 times of minimum of subsistence | AQ5: 未滿18歲 | AU5: 18歲-未滿65歲 | AY5: 65歲以上
G6: 合計Total | K6: 中度障礙以上 Moderate & Over | O6: 輕度障礙 Mild | S6: 合計Total | W6: 中度障礙以上 Moderate & Over | AA6: 輕度障礙 Mild | AE6: 合計Total | AI6: 中度障礙以上 Moderate & Over | AM6: 輕度障礙 Mild
C7: 人次 Person-times | F7: 金額 (千元) Amounts (NT$1,000) | G7: 人次 Person-times | J7: 金額 (千元) Amounts (NT$1,000) | K7: 人次 Person-times | N7: 金額 (千元) Amounts (NT$1,000) | O7: 人次 Person-times | R7: 金額 (千元) Amounts (NT$1,000) | S7: 人次 Person-times | V7: 金額 (千元) Amounts (NT$1,000) | W7: 人次 Person-times | Z7: 金額 (千元) Amounts (NT$1,000) | AA7: 人次 Person-times | AD7: 金額 (千元) Amounts (NT$1,000) | AE7: 人次 Person-times | AH7: 金額 (千元) Amounts (NT$1,000) | AI7: 人次 Person-times | AL7: 金額 (千元) Amounts (NT$1,000) | AM7: 人次 Person-times | AP7: 金額 (千元) Amounts (NT$1,000) | AQ7: 人次 Person-times | AT7: 金額 (千元) Amounts (NT$1,000) | AU7: 人次 Person-times | AX7: 金額 (千元) Amounts (NT$1,000) | AY7: 人次 Person-times | BB7: 金額 (千元) Amounts (NT$1,000) | BC7: 人次 Person-times | BF7: 金額 (千元) Amounts (NT$1,000) | BG7: 人次 Person-times | BJ7: 金額 (千元) Amounts (NT$1,000)
C8: 合計 Total | D8: 男 Male | E8: 女 Female | G8: 計 Subtotal | H8: 男 Male | I8: 女 Female | K8: 計 Subtotal | L8: 男 Male | M8: 女 Female | O8: 計 Subtotal | P8: 男 Male | Q8: 女 Female | S8: 計 Subtotal | T8: 男 Male | U8: 女 Female | W8: 計 Subtotal | X8: 男 Male | Y8: 女 Female | AA8: 計 Subtotal | AB8: 男 Male | AC8: 女 Female | AE8: 計 Subtotal | AF8: 男 Male | AG8: 女 Female | AI8: 計 Subtotal | AJ8: 男 Male | AK8: 女 Female | AM8: 計 Subtotal | AN8: 男 Male | AO8: 女 Female | AQ8: 合計 Subtotal | AR8: 男 Male | AS8: 女 Female | AU8: 合計 Subtotal | AV8: 男 Male | AW8: 女 Female | AY8: 合計 Subtotal | AZ8: 男 Male | BA8: 女 Female | BC8: 計 Subtotal | BD8: 男 Male | BE8: 女 Female | BG8: 計 Subtotal | BH8: 男 Male | BI8: 女 Female
A9: 總計 | B9: Total
A10: 新北市 | B10: New Taipei City
A11: 臺北市 | B11: Taipei City
A12: 桃園市 | B12: Taoyuan City
A13: 臺中市 | B13: Taichung City
A14: 臺南市 | B14: Tainan City
A15: 高雄市 | B15: Kaohsiung City
A16: 宜蘭縣 | B16: Yilan County
A17: 新竹縣 | B17: Hsinchu County
A18: 苗栗縣 | B18: Miaoli County
A19: 彰化縣 | B19: Changhua County
A20: 南投縣 | B20: Nantou County
... A31: 連江縣 | B31: Lienchiang County
A32: 資料來源：直轄市、縣(市)政府。
A33: Source : County and City Government.
A34: 說明：本表自114年分「福利身分別」及「年齡別」兩類型統計，並皆含具榮民、原住民身分者，此外榮民、原住民另行獨立統計。
A35: 更新日期：2025/02/21

Sheet 12,2026
A1: 身心障礙者生活補助Living Assistance for the Disabled
A3: 115年12月Dec., 2026
A4: 區域別 Locality | C4: 總計 Total | G4: 福利身分別 By Identity | AQ4: 依年齡別分 By Age | BC4: 榮民(補差額) Veteran Serviceman (Difference) | BG4: 原住民 Indigenous
G5: 低收入戶 Low-income Households | S5: 中低收入戶 Middle-low-income Households | AE5: 最低生活費1.5倍以上未達2.5倍者Between 1.5 and 2.5 times of minimum of subsistence | AQ5: 未滿18歲 | AU5: 18歲-未滿65歲 | AY5: 65歲以上
G6: 合計Total | K6: 中度障礙以上 Moderate & Over | O6: 輕度障礙 Mild | S6: 合計Total | W6: 中度障礙以上 Moderate & Over | AA6: 輕度障礙 Mild | AE6: 合計Total | AI6: 中度障礙以上 Moderate & Over | AM6: 輕度障礙 Mild
C7: 人數 Person | F7: 金額 (千元) Amounts (NT$1,000) | G7: 人數 Person | J7: 金額 (千元) Amounts (NT$1,000) | K7: 人數 Person | N7: 金額 (千元) Amounts (NT$1,000) | O7: 人數 Person | R7: 金額 (千元) Amounts (NT$1,000) | S7: 人數 Person | V7: 金額 (千元) Amounts (NT$1,000) | W7: 人數 Person | Z7: 金額 (千元) Amounts (NT$1,000) | AA7: 人數 Person | AD7: 金額 (千元) Amounts (NT$1,000) | AE7: 人數 Person | AH7: 金額 (千元) Amounts (NT$1,000) | AI7: 人數 Person | AL7: 金額 (千元) Amounts (NT$1,000) | AM7: 人數 Person | AP7: 金額 (千元) Amounts (NT$1,000) | AQ7: 人數 Person | AT7: 金額 (千元) Amounts (NT$1,000) | AU7: 人數 Person | AX7: 金額 (千元) Amounts (NT$1,000) | AY7: 人數 Person | BB7: 金額 (千元) Amounts (NT$1,000) | BC7: 人數 Person | BF7: 金額 (千元) Amounts (NT$1,000) | BG7: 人數 Person | BJ7: 金額 (千元) Amounts (NT$1,000)
C8: 合計 Total | D8: 男 Male | E8: 女 Female | G8: 計 Subtotal | H8: 男 Male | I8: 女 Female | K8: 計 Subtotal | L8: 男 Male | M8: 女 Female | O8: 計 Subtotal | P8: 男 Male | Q8: 女 Female | S8: 計 Subtotal | T8: 男 Male | U8: 女 Female | W8: 計 Subtotal | X8: 男 Male | Y8: 女 Female | AA8: 計 Subtotal | AB8: 男 Male | AC8: 女 Female | AE8: 計 Subtotal | AF8: 男 Male | AG8: 女 Female | AI8: 計 Subtotal | AJ8: 男 Male | AK8: 女 Female | AM8: 計 Subtotal | AN8: 男 Male | AO8: 女 Female | AQ8: 合計 Subtotal | AR8: 男 Male | AS8: 女 Female | AU8: 合計 Subtotal | AV8: 男 Male | AW8: 女 Female | AY8: 合計 Subtotal | AZ8: 男 Male | BA8: 女 Female | BC8: 計 Subtotal | BD8: 男 Male | BE8: 女 Female | BG8: 計 Subtotal | BH8: 男 Male | BI8: 女 Female
A9: 總計 | B9: Total
A10: 新北市 | B10: New Taipei City
A11: 臺北市 | B11: Taipei City
A12: 桃園市 | B12: Taoyuan City
A13: 臺中市 | B13: Taichung City
A14: 臺南市 | B14: Tainan City
A15: 高雄市 | B15: Kaohsiung City
A16: 宜蘭縣 | B16: Yilan County
A17: 新竹縣 | B17: Hsinchu County
A18: 苗栗縣 | B18: Miaoli County
A19: 彰化縣 | B19: Changhua County
A20: 南投縣 | B20: Nantou County
... A31: 連江縣 | B31: Lienchiang County
A32: 資料來源：直轄市、縣(市)政府。
A33: Source : County and City Government.
A34: 說明：本表自114年分「福利身分別」及「年齡別」兩類型統計，並皆含具榮民、原住民身分者，此外榮民、原住民另行獨立統計。
A35: 更新日期：2025/02/21

Sheet 11, 2026
A1: 身心障礙者生活補助Living Assistance for the Disabled
A3: 115年11月Nov., 2026
A4: 區域別 Locality | C4: 總計 Total | G4: 福利身分別 By Identity | AQ4: 依年齡別分 By Age | BC4: 榮民(補差額) Veteran Serviceman (Difference) | BG4: 原住民 Indigenous
G5: 低收入戶 Low-income Households | S5: 中低收入戶 Middle-low-income Households | AE5: 最低生活費1.5倍以上未達2.5倍者Between 1.5 and 2.5 times of minimum of subsistence | AQ5: 未滿18歲 | AU5: 18歲-未滿65歲 | AY5: 65歲以上
G6: 合計Total | K6: 中度障礙以上 Moderate & Over | O6: 輕度障礙 Mild | S6: 合計Total | W6: 中度障礙以上 Moderate & Over | AA6: 輕度障礙 Mild | AE6: 合計Total | AI6: 中度障礙以上 Moderate & Over | AM6: 輕度障礙 Mild
C7: 人數 Person | F7: 金額 (千元) Amounts (NT$1,000) | G7: 人數 Person | J7: 金額 (千元) Amounts (NT$1,000) | K7: 人數 Person | N7: 金額 (千元) Amounts (NT$1,000) | O7: 人數 Person | R7: 金額 (千元) Amounts (NT$1,000) | S7: 人數 Person | V7: 金額 (千元) Amounts (NT$1,000) | W7: 人數 Person | Z7: 金額 (千元) Amounts (NT$1,000) | AA7: 人數 Person | AD7: 金額 (千元) Amounts (NT$1,000) | AE7: 人數 Person | AH7: 金額 (千元) Amounts (NT$1,000) | AI7: 人數 Person | AL7: 金額 (千元) Amounts (NT$1,000) | AM7: 人數 Person | AP7: 金額 (千元) Amounts (NT$1,000) | AQ7: 人數 Person | AT7: 金額 (千元) Amounts (NT$1,000) | AU7: 人數 Person | AX7: 金額 (千元) Amounts (NT$1,000) | AY7: 人數 Person | BB7: 金額 (千元) Amounts (NT$1,000) | BC7: 人數 Person | BF7: 金額 (千元) Amounts (NT$1,000) | BG7: 人數 Person | BJ7: 金額 (千元) Amounts (NT$1,000)
C8: 合計 Total | D8: 男 Male | E8: 女 Female | G8: 計 Subtotal | H8: 男 Male | I8: 女 Female | K8: 計 Subtotal | L8: 男 Male | M8: 女 Female | O8: 計 Subtotal | P8: 男 Male | Q8: 女 Female | S8: 計 Subtotal | T8: 男 Male | U8: 女 Female | W8: 計 Subtotal | X8: 男 Male | Y8: 女 Female | AA8: 計 Subtotal | AB8: 男 Male | AC8: 女 Female | AE8: 計 Subtotal | AF8: 男 Male | AG8: 女 Female | AI8: 計 Subtotal | AJ8: 男 Male | AK8: 女 Female | AM8: 計 Subtotal | AN8: 男 Male | AO8: 女 Female | AQ8: 合計 Subtotal | AR8: 男 Male | AS8: 女 Female | AU8: 合計 Subtotal | AV8: 男 Male | AW8: 女 Female | AY8: 合計 Subtotal | AZ8: 男 Male | BA8: 女 Female | BC8: 計 Subtotal | BD8: 男 Male | BE8: 女 Female | BG8: 計 Subtotal | BH8: 男 Male | BI8: 女 Female
A9: 總計 | B9: Total
A10: 新北市 | B10: New Taipei City
A11: 臺北市 | B11: Taipei City
A12: 桃園市 | B12: Taoyuan City
A13: 臺中市 | B13: Taichung City
A14: 臺南市 | B14: Tainan City
A15: 高雄市 | B15: Kaohsiung City
A16: 宜蘭縣 | B16: Yilan County
A17: 新竹縣 | B17: Hsinchu County
A18: 苗栗縣 | B18: Miaoli County
A19: 彰化縣 | B19: Changhua County
A20: 南投縣 | B20: Nantou County
... A31: 連江縣 | B31: Lienchiang County
A32: 資料來源：直轄市、縣(市)政府。
A33: Source : County and City Government.
A34: 說明：本表自114年分「福利身分別」及「年齡別」兩類型統計，並皆含具榮民、原住民身分者，此外榮民、原住民另行獨立統計。
A35: 更新日期：2025/02/21

Sheet 10, 2026
A1: 身心障礙者生活補助Living Assistance for the Disabled
A3: 115年10月Oct., 2026
A4: 區域別 Locality | C4: 總計 Total | G4: 福利身分別 By Identity | AQ4: 依年齡別分 By Age | BC4: 榮民(補差額) Veteran Serviceman (Difference) | BG4: 原住民 Indigenous
G5: 低收入戶 Low-income Households | S5: 中低收入戶 Middle-low-income Households | AE5: 最低生活費1.5倍以上未達2.5倍者Between 1.5 and 2.5 times of minimum of subsistence | AQ5: 未滿18歲 | AU5: 18歲-未滿65歲 | AY5: 65歲以上
G6: 合計Total | K6: 中度障礙以上 Moderate & Over | O6: 輕度障礙 Mild | S6: 合計Total | W6: 中度障礙以上 Moderate & Over | AA6: 輕度障礙 Mild | AE6: 合計Total | AI6: 中度障礙以上 Moderate & Over | AM6: 輕度障礙 Mild
C7: 人數 Person | F7: 金額 (千元) Amounts (NT$1,000) | G7: 人數 Person | J7: 金額 (千元) Amounts (NT$1,000) | K7: 人數 Person | N7: 金額 (千元) Amounts (NT$1,000) | O7: 人數 Person | R7: 金額 (千元) Amounts (NT$1,000) | S7: 人數 Person | V7: 金額 (千元) Amounts (NT$1,000) | W7: 人數 Person | Z7: 金額 (千元) Amounts (NT$1,000) | AA7: 人數 Person | AD7: 金額 (千元) Amounts (NT$1,000) | AE7: 人數 Person | AH7: 金額 (千元) Amounts (NT$1,000) | AI7: 人數 Person | AL7: 金額 (千元) Amounts (NT$1,000) | AM7: 人數 Person | AP7: 金額 (千元) Amounts (NT$1,000) | AQ7: 人數 Person | AT7: 金額 (千元) Amounts (NT$1,000) | AU7: 人數 Person | AX7: 金額 (千元) Amounts (NT$1,000) | AY7: 人數 Person | BB7: 金額 (千元) Amounts (NT$1,000) | BC7: 人數 Person | BF7: 金額 (千元) Amounts (NT$1,000) | BG7: 人數 Person | BJ7: 金額 (千元) Amounts (NT$1,000)
C8: 合計 Total | D8: 男 Male | E8: 女 Female | G8: 計 Subtotal | H8: 男 Male | I8: 女 Female | K8: 計 Subtotal | L8: 男 Male | M8: 女 Female | O8: 計 Subtotal | P8: 男 Male | Q8: 女 Female | S8: 計 Subtotal | T8: 男 Male | U8: 女 Female | W8: 計 Subtotal | X8: 男 Male | Y8: 女 Female | AA8: 計 Subtotal | AB8: 男 Male | AC8: 女 Female | AE8: 計 Subtotal | AF8: 男 Male | AG8: 女 Female | AI8: 計 Subtotal | AJ8: 男 Male | AK8: 女 Female | AM8: 計 Subtotal | AN8: 男 Male | AO8: 女 Female | AQ8: 合計 Subtotal | AR8: 男 Male | AS8: 女 Female | AU8: 合計 Subtotal | AV8: 男 Male | AW8: 女 Female | AY8: 合計 Subtotal | AZ8: 男 Male | BA8: 女 Female | BC8: 計 Subtotal | BD8: 男 Male | BE8: 女 Female | BG8: 計 Subtotal | BH8: 男 Male | BI8: 女 Female
A9: 總計 | B9: Total
A10: 新北市 | B10: New Taipei City
A11: 臺北市 | B11: Taipei City
A12: 桃園市 | B12: Taoyuan City
A13: 臺中市 | B13: Taichung City
A14: 臺南市 | B14: Tainan City
A15: 高雄市 | B15: Kaohsiung City
A16: 宜蘭縣 | B16: Yilan County
A17: 新竹縣 | B17: Hsinchu County
A18: 苗栗縣 | B18: Miaoli County
A19: 彰化縣 | B19: Changhua County
A20: 南投縣 | B20: Nantou County
... A31: 連江縣 | B31: Lienchiang County
A32: 資料來源：直轄市、縣(市)政府。
A33: Source : County and City Government.
A34: 說明：本表自114年分「福利身分別」及「年齡別」兩類型統計，並皆含具榮民、原住民身分者，此外榮民、原住民另行獨立統計。
A35: 更新日期：2025/02/21

Sheet 9, 2026
A1: 身心障礙者生活補助Living Assistance for the Disabled
A3: 115年9月Sept., 2026
A4: 區域別 Locality | C4: 總計 Total | G4: 福利身分別 By Identity | AQ4: 依年齡別分 By Age | BC4: 榮民(補差額) Veteran Serviceman (Difference) | BG4: 原住民 Indigenous
G5: 低收入戶 Low-income Households | S5: 中低收入戶 Middle-low-income Households | AE5: 最低生活費1.5倍以上未達2.5倍者Between 1.5 and 2.5 times of minimum of subsistence | AQ5: 未滿18歲 | AU5: 18歲-未滿65歲 | AY5: 65歲以上
G6: 合計Total | K6: 中度障礙以上 Moderate & Over | O6: 輕度障礙 Mild | S6: 合計Total | W6: 中度障礙以上 Moderate & Over | AA6: 輕度障礙 Mild | AE6: 合計Total | AI6: 中度障礙以上 Moderate & Over | AM6: 輕度障礙 Mild
C7: 人數 Person | F7: 金額 (千元) Amounts (NT$1,000) | G7: 人數 Person | J7: 金額 (千元) Amounts (NT$1,000) | K7: 人數 Person | N7: 金額 (千元) Amounts (NT$1,000) | O7: 人數 Person | R7: 金額 (千元) Amounts (NT$1,000) | S7: 人數 Person | V7: 金額 (千元) Amounts (NT$1,000) | W7: 人數 Person | Z7: 金額 (千元) Amounts (NT$1,000) | AA7: 人數 Person | AD7: 金額 (千元) Amounts (NT$1,000) | AE7: 人數 Person | AH7: 金額 (千元) Amounts (NT$1,000) | AI7: 人數 Person | AL7: 金額 (千元) Amounts (NT$1,000) | AM7: 人數 Person | AP7: 金額 (千元) Amounts (NT$1,000) | AQ7: 人數 Person | AT7: 金額 (千元) Amounts (NT$1,000) | AU7: 人數 Person | AX7: 金額 (千元) Amounts (NT$1,000) | AY7: 人數 Person | BB7: 金額 (千元) Amounts (NT$1,000) | BC7: 人數 Person | BF7: 金額 (千元) Amounts (NT$1,000) | BG7: 人數 Person | BJ7: 金額 (千元) Amounts (NT$1,000)
C8: 合計 Total | D8: 男 Male | E8: 女 Female | G8: 計 Subtotal | H8: 男 Male | I8: 女 Female | K8: 計 Subtotal | L8: 男 Male | M8: 女 Female | O8: 計 Subtotal | P8: 男 Male | Q8: 女 Female | S8: 計 Subtotal | T8: 男 Male | U8: 女 Female | W8: 計 Subtotal | X8: 男 Male | Y8: 女 Female | AA8: 計 Subtotal | AB8: 男 Male | AC8: 女 Female | AE8: 計 Subtotal | AF8: 男 Male | AG8: 女 Female | AI8: 計 Subtotal | AJ8: 男 Male | AK8: 女 Female | AM8: 計 Subtotal | AN8: 男 Male | AO8: 女 Female | AQ8: 合計 Subtotal | AR8: 男 Male | AS8: 女 Female | AU8: 合計 Subtotal | AV8: 男 Male | AW8: 女 Female | AY8: 合計 Subtotal | AZ8: 男 Male | BA8: 女 Female | BC8: 計 Subtotal | BD8: 男 Male | BE8: 女 Female | BG8: 計 Subtotal | BH8: 男 Male | BI8: 女 Female
A9: 總計 | B9: Total
A10: 新北市 | B10: New Taipei City
A11: 臺北市 | B11: Taipei City
A12: 桃園市 | B12: Taoyuan City
A13: 臺中市 | B13: Taichung City
A14: 臺南市 | B14: Tainan City
A15: 高雄市 | B15: Kaohsiung City
A16: 宜蘭縣 | B16: Yilan County
A17: 新竹縣 | B17: Hsinchu County
A18: 苗栗縣 | B18: Miaoli County
A19: 彰化縣 | B19: Changhua County
A20: 南投縣 | B20: Nantou County
... A31: 連江縣 | B31: Lienchiang County
A32: 資料來源：直轄市、縣(市)政府。
A33: Source : County and City Government.
A34: 說明：本表自114年分「福利身分別」及「年齡別」兩類型統計，並皆含具榮民、原住民身分者，此外榮民、原住民另行獨立統計。
A35: 更新日期：2025/11/17

Sheet 8, 2026
A1: 身心障礙者生活補助Living Assistance for the Disabled
A3: 115年8月Aug., 2026
A4: 區域別 Locality | C4: 總計 Total | G4: 福利身分別 By Identity | AQ4: 依年齡別分 By Age | BC4: 榮民(補差額) Veteran Serviceman (Difference) | BG4: 原住民 Indigenous
G5: 低收入戶 Low-income Households | S5: 中低收入戶 Middle-low-income Households | AE5: 最低生活費1.5倍以上未達2.5倍者Between 1.5 and 2.5 times of minimum of subsistence | AQ5: 未滿18歲 | AU5: 18歲-未滿65歲 | AY5: 65歲以上
G6: 合計Total | K6: 中度障礙以上 Moderate & Over | O6: 輕度障礙 Mild | S6: 合計Total | W6: 中度障礙以上 Moderate & Over | AA6: 輕度障礙 Mild | AE6: 合計Total | AI6: 中度障礙以上 Moderate & Over | AM6: 輕度障礙 Mild
C7: 人數 Person | F7: 金額 (千元) Amounts (NT$1,000) | G7: 人數 Person | J7: 金額 (千元) Amounts (NT$1,000) | K7: 人數 Person | N7: 金額 (千元) Amounts (NT$1,000) | O7: 人數 Person | R7: 金額 (千元) Amounts (NT$1,000) | S7: 人數 Person | V7: 金額 (千元) Amounts (NT$1,000) | W7: 人數 Person | Z7: 金額 (千元) Amounts (NT$1,000) | AA7: 人數 Person | AD7: 金額 (千元) Amounts (NT$1,000) | AE7: 人數 Person | AH7: 金額 (千元) Amounts (NT$1,000) | AI7: 人數 Person | AL7: 金額 (千元) Amounts (NT$1,000) | AM7: 人數 Person | AP7: 金額 (千元) Amounts (NT$1,000) | AQ7: 人數 Person | AT7: 金額 (千元) Amounts (NT$1,000) | AU7: 人數 Person | AX7: 金額 (千元) Amounts (NT$1,000) | AY7: 人數 Person | BB7: 金額 (千元) Amounts (NT$1,000) | BC7: 人數 Person | BF7: 金額 (千元) Amounts (NT$1,000) | BG7: 人數 Person | BJ7: 金額 (千元) Amounts (NT$1,000)
C8: 合計 Total | D8: 男 Male | E8: 女 Female | G8: 計 Subtotal | H8: 男 Male | I8: 女 Female | K8: 計 Subtotal | L8: 男 Male | M8: 女 Female | O8: 計 Subtotal | P8: 男 Male | Q8: 女 Female | S8: 計 Subtotal | T8: 男 Male | U8: 女 Female | W8: 計 Subtotal | X8: 男 Male | Y8: 女 Female | AA8: 計 Subtotal | AB8: 男 Male | AC8: 女 Female | AE8: 計 Subtotal | AF8: 男 Male | AG8: 女 Female | AI8: 計 Subtotal | AJ8: 男 Male | AK8: 女 Female | AM8: 計 Subtotal | AN8: 男 Male | AO8: 女 Female | AQ8: 合計 Subtotal | AR8: 男 Male | AS8: 女 Female | AU8: 合計 Subtotal | AV8: 男 Male | AW8: 女 Female | AY8: 合計 Subtotal | AZ8: 男 Male | BA8: 女 Female | BC8: 計 Subtotal | BD8: 男 Male | BE8: 女 Female | BG8: 計 Subtotal | BH8: 男 Male | BI8: 女 Female
A9: 總計 | B9: Total
A10: 新北市 | B10: New Taipei City
A11: 臺北市 | B11: Taipei City
A12: 桃園市 | B12: Taoyuan City
A13: 臺中市 | B13: Taichung City
A14: 臺南市 | B14: Tainan City
A15: 高雄市 | B15: Kaohsiung City
A16: 宜蘭縣 | B16: Yilan County
A17: 新竹縣 | B17: Hsinchu County
A18: 苗栗縣 | B18: Miaoli County
A19: 彰化縣 | B19: Changhua County
A20: 南投縣 | B20: Nantou County
... A31: 連江縣 | B31: Lienchiang County
A32: 資料來源：直轄市、縣(市)政府。
A33: Source : County and City Government.
A34: 說明：本表自114年分「福利身分別」及「年齡別」兩類型統計，並皆含具榮民、原住民身分者，此外榮民、原住民另行獨立統計。
A35: 更新日期：2025/11/17

Sheet 7, 2026
A1: 身心障礙者生活補助Living Assistance for the Disabled
A3: 115年7月July, 2026
A4: 區域別 Locality | C4: 總計 Total | G4: 福利身分別 By Identity | AQ4: 依年齡別分 By Age | BC4: 榮民(補差額) Veteran Serviceman (Difference) | BG4: 原住民 Indigenous
G5: 低收入戶 Low-income Households | S5: 中低收入戶 Middle-low-income Households | AE5: 最低生活費1.5倍以上未達2.5倍者Between 1.5 and 2.5 times of minimum of subsistence | AQ5: 未滿18歲 | AU5: 18歲-未滿65歲 | AY5: 65歲以上
G6: 合計Total | K6: 中度障礙以上 Moderate & Over | O6: 輕度障礙 Mild | S6: 合計Total | W6: 中度障礙以上 Moderate & Over | AA6: 輕度障礙 Mild | AE6: 合計Total | AI6: 中度障礙以上 Moderate & Over | AM6: 輕度障礙 Mild
C7: 人數 Person | F7: 金額 (千元) Amounts (NT$1,000) | G7: 人數 Person | J7: 金額 (千元) Amounts (NT$1,000) | K7: 人數 Person | N7: 金額 (千元) Amounts (NT$1,000) | O7: 人數 Person | R7: 金額 (千元) Amounts (NT$1,000) | S7: 人數 Person | V7: 金額 (千元) Amounts (NT$1,000) | W7: 人數 Person | Z7: 金額 (千元) Amounts (NT$1,000) | AA7: 人數 Person | AD7: 金額 (千元) Amounts (NT$1,000) | AE7: 人數 Person | AH7: 金額 (千元) Amounts (NT$1,000) | AI7: 人數 Person | AL7: 金額 (千元) Amounts (NT$1,000) | AM7: 人數 Person | AP7: 金額 (千元) Amounts (NT$1,000) | AQ7: 人數 Person | AT7: 金額 (千元) Amounts (NT$1,000) | AU7: 人數 Person | AX7: 金額 (千元) Amounts (NT$1,000) | AY7: 人數 Person | BB7: 金額 (千元) Amounts (NT$1,000) | BC7: 人數 Person | BF7: 金額 (千元) Amounts (NT$1,000) | BG7: 人數 Person | BJ7: 金額 (千元) Amounts (NT$1,000)
C8: 合計 Total | D8: 男 Male | E8: 女 Female | G8: 計 Subtotal | H8: 男 Male | I8: 女 Female | K8: 計 Subtotal | L8: 男 Male | M8: 女 Female | O8: 計 Subtotal | P8: 男 Male | Q8: 女 Female | S8: 計 Subtotal | T8: 男 Male | U8: 女 Female | W8: 計 Subtotal | X8: 男 Male | Y8: 女 Female | AA8: 計 Subtotal | AB8: 男 Male | AC8: 女 Female | AE8: 計 Subtotal | AF8: 男 Male | AG8: 女 Female | AI8: 計 Subtotal | AJ8: 男 Male | AK8: 女 Female | AM8: 計 Subtotal | AN8: 男 Male | AO8: 女 Female | AQ8: 合計 Subtotal | AR8: 男 Male | AS8: 女 Female | AU8: 合計 Subtotal | AV8: 男 Male | AW8: 女 Female | AY8: 合計 Subtotal | AZ8: 男 Male | BA8: 女 Female | BC8: 計 Subtotal | BD8: 男 Male | BE8: 女 Female | BG8: 計 Subtotal | BH8: 男 Male | BI8: 女 Female
A9: 總計 | B9: Total
A10: 新北市 | B10: New Taipei City
A11: 臺北市 | B11: Taipei City
A12: 桃園市 | B12: Taoyuan City
A13: 臺中市 | B13: Taichung City
A14: 臺南市 | B14: Tainan City
A15: 高雄市 | B15: Kaohsiung City
A16: 宜蘭縣 | B16: Yilan County
A17: 新竹縣 | B17: Hsinchu County
A18: 苗栗縣 | B18: Miaoli County
A19: 彰化縣 | B19: Changhua County
A20: 南投縣 | B20: Nantou County
... A31: 連江縣 | B31: Lienchiang County
A32: 資料來源：直轄市、縣(市)政府。
A33: Source : County and City Government.
A34: 說明：本表自114年分「福利身分別」及「年齡別」兩類型統計，並皆含具榮民、原住民身分者，此外榮民、原住民另行獨立統計。
A35: 更新日期：2025/11/17

Sheet 6, 2026
A1: 身心障礙者生活補助Living Assistance for the Disabled
A3: 115年6月June, 2026
A4: 區域別 Locality | C4: 總計 Total | G4: 福利身分別 By Identity | AQ4: 依年齡別分 By Age | BC4: 榮民(補差額) Veteran Serviceman (Difference) | BG4: 原住民 Indigenous
G5: 低收入戶 Low-income Households | S5: 中低收入戶 Middle-low-income Households | AE5: 最低生活費1.5倍以上未達2.5倍者Between 1.5 and 2.5 times of minimum of subsistence | AQ5: 未滿18歲 | AU5: 18歲-未滿65歲 | AY5: 65歲以上
G6: 合計Total | K6: 中度障礙以上 Moderate & Over | O6: 輕度障礙 Mild | S6: 合計Total | W6: 中度障礙以上 Moderate & Over | AA6: 輕度障礙 Mild | AE6: 合計Total | AI6: 中度障礙以上 Moderate & Over | AM6: 輕度障礙 Mild
C7: 人數 Person | F7: 金額 (千元) Amounts (NT$1,000) | G7: 人數 Person | J7: 金額 (千元) Amounts (NT$1,000) | K7: 人數 Person | N7: 金額 (千元) Amounts (NT$1,000) | O7: 人數 Person | R7: 金額 (千元) Amounts (NT$1,000) | S7: 人數 Person | V7: 金額 (千元) Amounts (NT$1,000) | W7: 人數 Person | Z7: 金額 (千元) Amounts (NT$1,000) | AA7: 人數 Person | AD7: 金額 (千元) Amounts (NT$1,000) | AE7: 人數 Person | AH7: 金額 (千元) Amounts (NT$1,000) | AI7: 人數 Person | AL7: 金額 (千元) Amounts (NT$1,000) | AM7: 人數 Person | AP7: 金額 (千元) Amounts (NT$1,000) | AQ7: 人數 Person | AT7: 金額 (千元) Amounts (NT$1,000) | AU7: 人數 Person | AX7: 金額 (千元) Amounts (NT$1,000) | AY7: 人數 Person | BB7: 金額 (千元) Amounts (NT$1,000) | BC7: 人數 Person | BF7: 金額 (千元) Amounts (NT$1,000) | BG7: 人數 Person | BJ7: 金額 (千元) Amounts (NT$1,000)
C8: 合計 Total | D8: 男 Male | E8: 女 Female | G8: 計 Subtotal | H8: 男 Male | I8: 女 Female | K8: 計 Subtotal | L8: 男 Male | M8: 女 Female | O8: 計 Subtotal | P8: 男 Male | Q8: 女 Female | S8: 計 Subtotal | T8: 男 Male | U8: 女 Female | W8: 計 Subtotal | X8: 男 Male | Y8: 女 Female | AA8: 計 Subtotal | AB8: 男 Male | AC8: 女 Female | AE8: 計 Subtotal | AF8: 男 Male | AG8: 女 Female | AI8: 計 Subtotal | AJ8: 男 Male | AK8: 女 Female | AM8: 計 Subtotal | AN8: 男 Male | AO8: 女 Female | AQ8: 合計 Subtotal | AR8: 男 Male | AS8: 女 Female | AU8: 合計 Subtotal | AV8: 男 Male | AW8: 女 Female | AY8: 合計 Subtotal | AZ8: 男 Male | BA8: 女 Female | BC8: 計 Subtotal | BD8: 男 Male | BE8: 女 Female | BG8: 計 Subtotal | BH8: 男 Male | BI8: 女 Female
A9: 總計 | B9: Total
A10: 新北市 | B10: New Taipei City
A11: 臺北市 | B11: Taipei City
A12: 桃園市 | B12: Taoyuan City
A13: 臺中市 | B13: Taichung City
A14: 臺南市 | B14: Tainan City
A15: 高雄市 | B15: Kaohsiung City
A16: 宜蘭縣 | B16: Yilan County
A17: 新竹縣 | B17: Hsinchu County
A18: 苗栗縣 | B18: Miaoli County
A19: 彰化縣 | B19: Changhua County
A20: 南投縣 | B20: Nantou County
... A31: 連江縣 | B31: Lienchiang County
A32: 資料來源：直轄市、縣(市)政府。
A33: Source : County and City Government.
A34: 說明：本表自114年分「福利身分別」及「年齡別」兩類型統計，並皆含具榮民、原住民身分者，此外榮民、原住民另行獨立統計。
A35: 更新日期：2025/8/15

Sheet 5, 2026
A1: 身心障礙者生活補助Living Assistance for the Disabled
A3: 115年5月May, 2026
A4: 區域別 Locality | C4: 總計 Total | G4: 福利身分別 By Identity | AQ4: 依年齡別分 By Age | BC4: 榮民(補差額) Veteran Serviceman (Difference) | BG4: 原住民 Indigenous
G5: 低收入戶 Low-income Households | S5: 中低收入戶 Middle-low-income Households | AE5: 最低生活費1.5倍以上未達2.5倍者Between 1.5 and 2.5 times of minimum of subsistence | AQ5: 未滿18歲 | AU5: 18歲-未滿65歲 | AY5: 65歲以上
G6: 合計Total | K6: 中度障礙以上 Moderate & Over | O6: 輕度障礙 Mild | S6: 合計Total | W6: 中度障礙以上 Moderate & Over | AA6: 輕度障礙 Mild | AE6: 合計Total | AI6: 中度障礙以上 Moderate & Over | AM6: 輕度障礙 Mild
C7: 人數 Person | F7: 金額 (千元) Amounts (NT$1,000) | G7: 人數 Person | J7: 金額 (千元) Amounts (NT$1,000) | K7: 人數 Person | N7: 金額 (千元) Amounts (NT$1,000) | O7: 人數 Person | R7: 金額 (千元) Amounts (NT$1,000) | S7: 人數 Person | V7: 金額 (千元) Amounts (NT$1,000) | W7: 人數 Person | Z7: 金額 (千元) Amounts (NT$1,000) | AA7: 人數 Person | AD7: 金額 (千元) Amounts (NT$1,000) | AE7: 人數 Person | AH7: 金額 (千元) Amounts (NT$1,000) | AI7: 人數 Person | AL7: 金額 (千元) Amounts (NT$1,000) | AM7: 人數 Person | AP7: 金額 (千元) Amounts (NT$1,000) | AQ7: 人數 Person | AT7: 金額 (千元) Amounts (NT$1,000) | AU7: 人數 Person | AX7: 金額 (千元) Amounts (NT$1,000) | AY7: 人數 Person | BB7: 金額 (千元) Amounts (NT$1,000) | BC7: 人數 Person | BF7: 金額 (千元) Amounts (NT$1,000) | BG7: 人數 Person | BJ7: 金額 (千元) Amounts (NT$1,000)
C8: 合計 Total | D8: 男 Male | E8: 女 Female | G8: 計 Subtotal | H8: 男 Male | I8: 女 Female | K8: 計 Subtotal | L8: 男 Male | M8: 女 Female | O8: 計 Subtotal | P8: 男 Male | Q8: 女 Female | S8: 計 Subtotal | T8: 男 Male | U8: 女 Female | W8: 計 Subtotal | X8: 男 Male | Y8: 女 Female | AA8: 計 Subtotal | AB8: 男 Male | AC8: 女 Female | AE8: 計 Subtotal | AF8: 男 Male | AG8: 女 Female | AI8: 計 Subtotal | AJ8: 男 Male | AK8: 女 Female | AM8: 計 Subtotal | AN8: 男 Male | AO8: 女 Female | AQ8: 合計 Subtotal | AR8: 男 Male | AS8: 女 Female | AU8: 合計 Subtotal | AV8: 男 Male | AW8: 女 Female | AY8: 合計 Subtotal | AZ8: 男 Male | BA8: 女 Female | BC8: 計 Subtotal | BD8: 男 Male | BE8: 女 Female | BG8: 計 Subtotal | BH8: 男 Male | BI8: 女 Female
A9: 總計 | B9: Total
A10: 新北市 | B10: New Taipei City
A11: 臺北市 | B11: Taipei City
A12: 桃園市 | B12: Taoyuan City
A13: 臺中市 | B13: Taichung City
A14: 臺南市 | B14: Tainan City
A15: 高雄市 | B15: Kaohsiung City
A16: 宜蘭縣 | B16: Yilan County
A17: 新竹縣 | B17: Hsinchu County
A18: 苗栗縣 | B18: Miaoli County
A19: 彰化縣 | B19: Changhua County
A20: 南投縣 | B20: Nantou County
... A31: 連江縣 | B31: Lienchiang County
A32: 資料來源：直轄市、縣(市)政府。
A33: Source : County and City Government.
A34: 說明：本表自114年分「福利身分別」及「年齡別」兩類型統計，並皆含具榮民、原住民身分者，此外榮民、原住民另行獨立統計。
A35: 更新日期：2025/8/15

Sheet 4, 2026
A1: 身心障礙者生活補助Living Assistance for the Disabled
A3: 115年4月Apr., 2026
A4: 區域別 Locality | C4: 總計 Total | G4: 福利身分別 By Identity | AQ4: 依年齡別分 By Age | BC4: 榮民(補差額) Veteran Serviceman (Difference) | BG4: 原住民 Indigenous
G5: 低收入戶 Low-income Households | S5: 中低收入戶 Middle-low-income Households | AE5: 最低生活費1.5倍以上未達2.5倍者Between 1.5 and 2.5 times of minimum of subsistence | AQ5: 未滿18歲 | AU5: 18歲-未滿65歲 | AY5: 65歲以上
G6: 合計Total | K6: 中度障礙以上 Moderate & Over | O6: 輕度障礙 Mild | S6: 合計Total | W6: 中度障礙以上 Moderate & Over | AA6: 輕度障礙 Mild | AE6: 合計Total | AI6: 中度障礙以上 Moderate & Over | AM6: 輕度障礙 Mild
C7: 人數 Person | F7: 金額 (千元) Amounts (NT$1,000) | G7: 人數 Person | J7: 金額 (千元) Amounts (NT$1,000) | K7: 人數 Person | N7: 金額 (千元) Amounts (NT$1,000) | O7: 人數 Person | R7: 金額 (千元) Amounts (NT$1,000) | S7: 人數 Person | V7: 金額 (千元) Amounts (NT$1,000) | W7: 人數 Person | Z7: 金額 (千元) Amounts (NT$1,000) | AA7: 人數 Person | AD7: 金額 (千元) Amounts (NT$1,000) | AE7: 人數 Person | AH7: 金額 (千元) Amounts (NT$1,000) | AI7: 人數 Person | AL7: 金額 (千元) Amounts (NT$1,000) | AM7: 人數 Person | AP7: 金額 (千元) Amounts (NT$1,000) | AQ7: 人數 Person | AT7: 金額 (千元) Amounts (NT$1,000) | AU7: 人數 Person | AX7: 金額 (千元) Amounts (NT$1,000) | AY7: 人數 Person | BB7: 金額 (千元) Amounts (NT$1,000) | BC7: 人數 Person | BF7: 金額 (千元) Amounts (NT$1,000) | BG7: 人數 Person | BJ7: 金額 (千元) Amounts (NT$1,000)
C8: 合計 Total | D8: 男 Male | E8: 女 Female | G8: 計 Subtotal | H8: 男 Male | I8: 女 Female | K8: 計 Subtotal | L8: 男 Male | M8: 女 Female | O8: 計 Subtotal | P8: 男 Male | Q8: 女 Female | S8: 計 Subtotal | T8: 男 Male | U8: 女 Female | W8: 計 Subtotal | X8: 男 Male | Y8: 女 Female | AA8: 計 Subtotal | AB8: 男 Male | AC8: 女 Female | AE8: 計 Subtotal | AF8: 男 Male | AG8: 女 Female | AI8: 計 Subtotal | AJ8: 男 Male | AK8: 女 Female | AM8: 計 Subtotal | AN8: 男 Male | AO8: 女 Female | AQ8: 合計 Subtotal | AR8: 男 Male | AS8: 女 Female | AU8: 合計 Subtotal | AV8: 男 Male | AW8: 女 Female | AY8: 合計 Subtotal | AZ8: 男 Male | BA8: 女 Female | BC8: 計 Subtotal | BD8: 男 Male | BE8: 女 Female | BG8: 計 Subtotal | BH8: 男 Male | BI8: 女 Female
A9: 總計 | B9: Total
A10: 新北市 | B10: New Taipei City
A11: 臺北市 | B11: Taipei City
A12: 桃園市 | B12: Taoyuan City
A13: 臺中市 | B13: Taichung City
A14: 臺南市 | B14: Tainan City
A15: 高雄市 | B15: Kaohsiung City
A16: 宜蘭縣 | B16: Yilan County
A17: 新竹縣 | B17: Hsinchu County
A18: 苗栗縣 | B18: Miaoli County
A19: 彰化縣 | B19: Changhua County
A20: 南投縣 | B20: Nantou County
... A31: 連江縣 | B31: Lienchiang County
A32: 資料來源：直轄市、縣(市)政府。
A33: Source : County and City Government.
A34: 說明：本表自114年分「福利身分別」及「年齡別」兩類型統計，並皆含具榮民、原住民身分者，此外榮民、原住民另行獨立統計。
A35: 更新日期：2026/02/23
A36: 區域別 Locality | C36: 總計 Total | G36: 福利身分別 By Identity | AQ36: 依年齡別分 By Age | BC36: 榮民(補差額) Veteran Serviceman (Difference) | BG36: 原住民 Indigenous
G37: 低收入戶 Low-income Households | S37: 中低收入戶 Middle-low-income Households | AE37: 最低生活費1.5倍以上未達2.5倍者Between 1.5 and 2.5 times of minimum of subsistence | AQ37: 未滿18歲 | AU37: 18歲-未滿65歲 | AY37: 65歲以上
G38: 合計Total | K38: 中度障礙以上 Moderate & Over | O38: 輕度障礙 Mild | S38: 合計Total | W38: 中度障礙以上 Moderate & Over | AA38: 輕度障礙 Mild | AE38: 合計Total | AI38: 中度障礙以上 Moderate & Over | AM38: 輕度障礙 Mild
C39: 人次 Person-times | F39: 金額 (千元) Amounts (NT$1,000) | G39: 人次 Person-times | J39: 金額 (千元) Amounts (NT$1,000) | K39: 人次 Person-times | N39: 金額 (千元) Amounts (NT$1,000) | O39: 人次 Person-times | R39: 金額 (千元) Amounts (NT$1,000) | S39: 人次 Person-times | V39: 金額 (千元) Amounts (NT$1,000) | W39: 人次 Person-times | Z39: 金額 (千元) Amounts (NT$1,000) | AA39: 人次 Person-times | AD39: 金額 (千元) Amounts (NT$1,000) | AE39: 人次 Person-times | AH39: 金額 (千元) Amounts (NT$1,000) | AI39: 人次 Person-times | AL39: 金額 (千元) Amounts (NT$1,000) | AM39: 人次 Person-times | AP39: 金額 (千元) Amounts (NT$1,000) | AQ39: 人次 Person-times | AT39: 金額 (千元) Amounts (NT$1,000) | AU39: 人次 Person-times | AX39: 金額 (千元) Amounts (NT$1,000) | AY39: 人次 Person-times | BB39: 金額 (千元) Amounts (NT$1,000) | BC39: 人次 Person-times | BF39: 金額 (千元) Amounts (NT$1,000) | BG39: 人次 Person-times | BJ39: 金額 (千元) Amounts (NT$1,000)
C40: 合計 Total | D40: 男 Male | E40: 女 Female | G40: 計 Subtotal | H40: 男 Male | I40: 女 Female | K40: 計 Subtotal | L40: 男 Male | M40: 女 Female | O40: 計 Subtotal | P40: 男 Male | Q40: 女 Female | S40: 計 Subtotal | T40: 男 Male | U40: 女 Female | W40: 計 Subtotal | X40: 男 Male | Y40: 女 Female | AA40: 計 Subtotal | AB40: 男 Male | AC40: 女 Female | AE40: 計 Subtotal | AF40: 男 Male | AG40: 女 Female | AI40: 計 Subtotal | AJ40: 男 Male | AK40: 女 Female | AM40: 計 Subtotal | AN40: 男 Male | AO40: 女 Female | AQ40: 合計 Subtotal | AR40: 男 Male | AS40: 女 Female | AU40: 合計 Subtotal | AV40: 男 Male | AW40: 女 Female | AY40: 合計 Subtotal | AZ40: 男 Male | BA40: 女 Female | BC40: 計 Subtotal | BD40: 男 Male | BE40: 女 Female | BG40: 計 Subtotal | BH40: 男 Male | BI40: 女 Female
A41: 總計 | B41: Total | C41: 328444 | D41: 198242 | E41: 130202 | F41: 1892016.7 | G41: 65775 | H41: 42455 | I41: 23320 | J41: 583292.42 | K41: 53891 | L41: 35295 | M41: 18596 | N41: 517337.66 | O41: 11884 | P41: 7160 | Q41: 4724 | R41: 65954.757 | S41: 17874 | T41: 10922 | U41: 6952 | V41: 88697.897 | W41: 10231 | X41: 6154 | Y41: 4077 | Z41: 57107.323 | AA41: 7643 | AB41: 4768 | AC41: 2875 | AD41: 31590.574 | AE41: 244795 | AF41: 144865 | AG41: 99930 | AH41: 1220026.4 | AI41: 151277 | AJ41: 87662 | AK41: 63615 | AL41: 835103.11 | AM41: 93518 | AN41: 57203 | AO41: 36315 | AP41: 384923.28 | AQ41: 25550 | AR41: 16946 | AS41: 8604 | AT41: 131356.1 | AU41: 245612 | AV41: 148491 | AW41: 97121 | AX41: 1415972.6 | AY41: 57282 | AZ41: 32805 | BA41: 24477 | BB41: 344688.02 | BC41: 1311 | BD41: 1192 | BE41: 119 | BF41: 7786.334 | BG41: 12577 | BH41: 7621 | BI41: 4956 | BJ41: 79245.408
A42: 新北市 | B42: New Taipei City | C42: 46537 | D42: 27916 | E42: 18621 | F42: 253101.33 | G42: 7444 | H42: 4723 | I42: 2721 | J42: 62906.498 | K42: 5777 | L42: 3710 | M42: 2067 | N42: 53994.219 | O42: 1667 | P42: 1013 | Q42: 654 | R42: 8912.279 | S42: 2079 | T42: 1258 | U42: 821 | V42: 10008.751 | W42: 1173 | X42: 696 | Y42: 477 | Z42: 6369.503 | AA42: 906 | AB42: 562 | AC42: 344 | AD42: 3639.248 | AE42: 37014 | AF42: 21935 | AG42: 15079 | AH42: 180186.08 | AI42: 22283 | AJ42: 12962 | AK42: 9321 | AL42: 120641.94 | AM42: 14731 | AN42: 8973 | AO42: 5758 | AP42: 59544.143 | AQ42: 4467 | AR42: 3028 | AS42: 1439 | AT42: 21226.234 | AU42: 34121 | AV42: 20281 | AW42: 13840 | AX42: 186413.85 | AY42: 7949 | AZ42: 4607 | BA42: 3342 | BB42: 45461.248 | BC42: 222 | BD42: 172 | BE42: 50 | BF42: 1322.433 | BG42: 838 | BH42: 477 | BI42: 361 | BJ42: 4551.768
A43: 臺北市 | B43: Taipei City | C43: 14171 | D43: 8338 | E43: 5833 | F43: 99355.002 | G43: 7251 | H43: 4306 | I43: 2945 | J43: 64159.637 | K43: 5495 | L43: 3267 | M43: 2228 | N43: 54094.2 | O43: 1756 | P43: 1039 | Q43: 717 | R43: 10065.437 | S43: 1351 | T43: 776 | U43: 575 | V43: 6981.801 | W43: 756 | X43: 445 | Y43: 311 | Z43: 4433.931 | AA43: 595 | AB43: 331 | AC43: 264 | AD43: 2547.87 | AE43: 5569 | AF43: 3256 | AG43: 2313 | AH43: 28213.564 | AI43: 3294 | AJ43: 1882 | AK43: 1412 | AL43: 18582.393 | AM43: 2275 | AN43: 1374 | AO43: 901 | AP43: 9631.171 | AQ43: 1160 | AR43: 790 | AS43: 370 | AT43: 6556.108 | AU43: 10253 | AV43: 5914 | AW43: 4339 | AX43: 70654.948 | AY43: 2758 | AZ43: 1634 | BA43: 1124 | BB43: 22143.946 | BC43: 115 | BD43: 115 | BE43: 0 | BF43: 802.79 | BG43: 223 | BH43: 118 | BI43: 105 | BJ43: 1501.477
A44: 桃園市 | B44: Taoyuan City | C44: 24373 | D44: 14554 | E44: 9819 | F44: 140352.94 | G44: 4866 | H44: 3063 | I44: 1803 | J44: 42857.236 | K44: 3811 | L44: 2427 | M44: 1384 | N44: 36969.769 | O44: 1055 | P44: 636 | Q44: 419 | R44: 5887.467 | S44: 1156 | T44: 666 | U44: 490 | V44: 5727.357 | W44: 659 | X44: 383 | Y44: 276 | Z44: 3679.3 | AA44: 497 | AB44: 283 | AC44: 214 | AD44: 2048.057 | AE44: 18351 | AF44: 10825 | AG44: 7526 | AH44: 91768.349 | AI44: 11126 | AJ44: 6405 | AK44: 4721 | AL44: 61677.526 | AM44: 7225 | AN44: 4420 | AO44: 2805 | AP44: 30090.823 | AQ44: 2633 | AR44: 1743 | AS44: 890 | AT44: 13953.841 | AU44: 17952 | AV44: 10652 | AW44: 7300 | AX44: 104178.22 | AY44: 3788 | AZ44: 2159 | BA44: 1629 | BB44: 22220.879 | BC44: 86 | BD44: 81 | BE44: 5 | BF44: 527.725 | BG44: 1178 | BH44: 701 | BI44: 477 | BJ44: 7278.059
A45: 臺中市 | B45: Taichung City | C45: 39012 | D45: 23188 | E45: 15824 | F45: 230303.18 | G45: 8660 | H45: 5445 | I45: 3215 | J45: 76775.418 | K45: 6893 | L45: 4371 | M45: 2522 | N45: 66822.254 | O45: 1767 | P45: 1074 | Q45: 693 | R45: 9953.164 | S45: 2570 | T45: 1533 | U45: 1037 | V45: 12893.568 | W45: 1547 | X45: 909 | Y45: 638 | Z45: 8664.032 | AA45: 1023 | AB45: 624 | AC45: 399 | AD45: 4229.536 | AE45: 27782 | AF45: 16210 | AG45: 11572 | AH45: 140634.19 | AI45: 17194 | AJ45: 9807 | AK45: 7387 | AL45: 96401.867 | AM45: 10588 | AN45: 6403 | AO45: 4185 | AP45: 44232.322 | AQ45: 3658 | AR45: 2422 | AS45: 1236 | AT45: 19618.929 | AU45: 28451 | AV45: 16872 | AW45: 11579 | AX45: 169561.35 | AY45: 6903 | AZ45: 3894 | BA45: 3009 | BB45: 41122.892 | BC45: 103 | BD45: 100 | BE45: 3 | BF45: 592.16 | BG45: 569 | BH45: 309 | BI45: 260 | BJ45: 3848.378
A46: 臺南市 | B46: Tainan City | C46: 30068 | D46: 17973 | E46: 12095 | F46: 166770.65 | G46: 4257 | H46: 2787 | I46: 1470 | J46: 38167.39 | K46: 3525 | L46: 2344 | M46: 1181 | N46: 34056.443 | O46: 732 | P46: 443 | Q46: 289 | R46: 4110.947 | S46: 870 | T46: 558 | U46: 312 | V46: 4261.215 | W46: 492 | X46: 310 | Y46: 182 | Z46: 2691.703 | AA46: 378 | AB46: 248 | AC46: 130 | AD46: 1569.512 | AE46: 24941 | AF46: 14628 | AG46: 10313 | AH46: 124342.04 | AI46: 15390 | AJ46: 8775 | AK46: 6615 | AL46: 84995.479 | AM46: 9551 | AN46: 5853 | AO46: 3698 | AP46: 39346.564 | AQ46: 2085 | AR46: 1360 | AS46: 725 | AT46: 10554.841 | AU46: 22011 | AV46: 13268 | AW46: 8743 | AX46: 121910.33 | AY46: 5972 | AZ46: 3345 | BA46: 2627 | BB46: 34305.481 | BC46: 95 | BD46: 95 | BE46: 0 | BF46: 655.188 | BG46: 117 | BH46: 51 | BI46: 66 | BJ46: 679.381
A47: 高雄市 | B47: Kaohsiung City | C47: 44957 | D47: 26852 | E47: 18105 | F47: 251352.93 | G47: 7748 | H47: 4983 | I47: 2765 | J47: 68587.023 | K47: 6731 | L47: 4403 | M47: 2328 | N47: 63199.308 | O47: 1017 | P47: 580 | Q47: 437 | R47: 5387.715 | S47: 2992 | T47: 1813 | U47: 1179 | V47: 14466.884 | W47: 1711 | X47: 997 | Y47: 714 | Z47: 9280.115 | AA47: 1281 | AB47: 816 | AC47: 465 | AD47: 5186.769 | AE47: 34217 | AF47: 20056 | AG47: 14161 | AH47: 168299.03 | AI47: 21644 | AJ47: 12442 | AK47: 9202 | AL47: 117390.95 | AM47: 12573 | AN47: 7614 | AO47: 4959 | AP47: 50908.077 | AQ47: 3099 | AR47: 2042 | AS47: 1057 | AT47: 15026.65 | AU47: 34144 | AV47: 20525 | AW47: 13619 | AX47: 190336.55 | AY47: 7714 | AZ47: 4285 | BA47: 3429 | BB47: 45989.731 | BC47: 308 | BD47: 296 | BE47: 12 | BF47: 1690.397 | BG47: 779 | BH47: 432 | BI47: 347 | BJ47: 4552.064
A48: 宜蘭縣 | B48: Yilan County | C48: 7843 | D48: 4643 | E48: 3200 | F48: 43580.789 | G48: 1543 | H48: 988 | I48: 555 | J48: 12959.523 | K48: 1220 | L48: 809 | M48: 411 | N48: 11252.307 | O48: 323 | P48: 179 | Q48: 144 | R48: 1707.216 | S48: 654 | T48: 381 | U48: 273 | V48: 3119.773 | W48: 363 | X48: 210 | Y48: 153 | Z48: 1959.098 | AA48: 291 | AB48: 171 | AC48: 120 | AD48: 1160.675 | AE48: 5646 | AF48: 3274 | AG48: 2372 | AH48: 27501.493 | AI48: 3425 | AJ48: 1936 | AK48: 1489 | AL48: 18515.489 | AM48: 2221 | AN48: 1338 | AO48: 883 | AP48: 8986.004 | AQ48: 507 | AR48: 328 | AS48: 179 | AT48: 2571.819 | AU48: 6068 | AV48: 3606 | AW48: 2462 | AX48: 33597.46 | AY48: 1268 | AZ48: 709 | BA48: 559 | BB48: 7411.51 | BC48: 16 | BD48: 15 | BE48: 1 | BF48: 93.584 | BG48: 510 | BH48: 311 | BI48: 199 | BJ48: 3143.883
A49: 新竹縣 | B49: Hsinchu County | C49: 4921 | D49: 2987 | E49: 1934 | F49: 28458.738 | G49: 905 | H49: 576 | I49: 329 | J49: 8175.315 | K49: 793 | L49: 510 | M49: 283 | N49: 7550.06 | O49: 112 | P49: 66 | Q49: 46 | R49: 625.255 | S49: 260 | T49: 160 | U49: 100 | V49: 1252.382 | W49: 138 | X49: 82 | Y49: 56 | Z49: 750.306 | AA49: 122 | AB49: 78 | AC49: 44 | AD49: 502.076 | AE49: 3756 | AF49: 2251 | AG49: 1505 | AH49: 19031.041 | AI49: 2437 | AJ49: 1418 | AK49: 1019 | AL49: 13568.94 | AM49: 1319 | AN49: 833 | AO49: 486 | AP49: 5462.101 | AQ49: 440 | AR49: 278 | AS49: 162 | AT49: 2327.96 | AU49: 3775 | AV49: 2267 | AW49: 1508 | AX49: 21902.962 | AY49: 706 | AZ49: 442 | BA49: 264 | BB49: 4227.816 | BC49: 19 | BD49: 9 | BE49: 10 | BF49: 93.587 | BG49: 292 | BH49: 180 | BI49: 112 | BJ49: 1991.71
A50: 苗栗縣 | B50: Miaoli County | C50: 9703 | D50: 5928 | E50: 3775 | F50: 57020.051 | G50: 1656 | H50: 1112 | I50: 544 | J50: 15447.686 | K50: 1454 | L50: 988 | M50: 466 | N50: 14267.742 | O50: 202 | P50: 124 | Q50: 78 | R50: 1179.944 | S50: 343 | T50: 218 | U50: 125 | V50: 1834.486 | W50: 235 | X50: 154 | Y50: 81 | Z50: 1380.998 | AA50: 108 | AB50: 64 | AC50: 44 | AD50: 453.488 | AE50: 7704 | AF50: 4598 | AG50: 3106 | AH50: 39737.879 | AI50: 5056 | AJ50: 2988 | AK50: 2068 | AL50: 28605.905 | AM50: 2648 | AN50: 1610 | AO50: 1038 | AP50: 11131.974 | AQ50: 577 | AR50: 377 | AS50: 200 | AT50: 2971.41 | AU50: 7105 | AV50: 4388 | AW50: 2717 | AX50: 41813.985 | AY50: 2021 | AZ50: 1163 | BA50: 858 | BB50: 12234.656 | BC50: 14 | BD50: 14 | BE50: 0 | BF50: 107.114 | BG50: 282 | BH50: 163 | BI50: 119 | BJ50: 1822.385
A51: 彰化縣 | B51: Changhua County | C51: 21478 | D51: 13088 | E51: 8390 | F51: 125079.35 | G51: 4142 | H51: 2713 | I51: 1429 | J51: 37919.734 | K51: 3563 | L51: 2352 | M51: 1211 | N51: 34618.239 | O51: 579 | P51: 361 | Q51: 218 | R51: 3301.495 | S51: 489 | T51: 302 | U51: 187 | V51: 2788.244 | W51: 280 | X51: 180 | Y51: 100 | Z51: 1803.926 | AA51: 209 | AB51: 122 | AC51: 87 | AD51: 984.318 | AE51: 16847 | AF51: 10073 | AG51: 6774 | AH51: 84371.377 | AI51: 10394 | AJ51: 6083 | AK51: 4311 | AL51: 57626.683 | AM51: 6453 | AN51: 3990 | AO51: 2463 | AP51: 26744.694 | AQ51: 1357 | AR51: 854 | AS51: 503 | AT51: 7276.218 | AU51: 16500 | AV51: 10159 | AW51: 6341 | AX51: 96518.475 | AY51: 3621 | AZ51: 2075 | BA51: 1546 | BB51: 21284.662 | BC51: 13 | BD51: 13 | BE51: 0 | BF51: 67.905 | BG51: 71 | BH51: 35 | BI51: 36 | BJ51: 483.991
A52: 南投縣 | B52: Nantou County | C52: 8334 | D52: 5189 | E52: 3145 | F52: 49261.195 | G52: 1242 | H52: 857 | I52: 385 | J52: 11339.043 | K52: 1062 | L52: 752 | M52: 310 | N52: 10341.181 | O52: 180 | P52: 105 | Q52: 75 | R52: 997.862 | S52: 699 | T52: 440 | U52: 259 | V52: 3480.058 | W52: 378 | X52: 236 | Y52: 142 | Z52: 2127.692 | AA52: 321 | AB52: 204 | AC52: 117 | AD52: 1352.366 | AE52: 6393 | AF52: 3892 | AG52: 2501 | AH52: 34442.094 | AI52: 4034 | AJ52: 2419 | AK52: 1615 | AL52: 24153.585 | AM52: 2359 | AN52: 1473 | AO52: 886 | AP52: 10288.509 | AQ52: 518 | AR52: 333 | AS52: 185 | AT52: 2757.734 | AU52: 6459 | AV52: 4053 | AW52: 2406 | AX52: 38083.214 | AY52: 1357 | AZ52: 803 | BA52: 554 | BB52: 8420.247 | BC52: 6 | BD52: 6 | BE52: 0 | BF52: 35.282 | BG52: 575 | BH52: 367 | BI52: 208 | BJ52: 3365.111
... A63: 連江縣 | B63: Lienchiang County | C63: 34 | D63: 27 | E63: 7 | F63: 203.478 | G63: 11 | H63: 11 | I63: 0 | J63: 88.143 | K63: 7 | L63: 7 | M63: 0 | N63: 66.395 | O63: 4 | P63: 4 | Q63: 0 | R63: 21.748 | S63: 6 | T63: 6 | U63: 0 | V63: 27.07 | W63: 2 | X63: 2 | Y63: 0 | Z63: 10.874 | AA63: 4 | AB63: 4 | AC63: 0 | AD63: 16.196 | AE63: 17 | AF63: 10 | AG63: 7 | AH63: 88.265 | AI63: 14 | AJ63: 8 | AK63: 6 | AL63: 76.118 | AM63: 3 | AN63: 2 | AO63: 1 | AP63: 12.147 | AQ63: 4 | AR63: 3 | AS63: 1 | AT63: 20.36 | AU63: 26 | AV63: 20 | AW63: 6 | AX63: 149.226 | AY63: 4 | AZ63: 4 | BA63: 0 | BB63: 33.892 | BC63: 0 | BD63: 0 | BE63: 0 | BF63: 0 | BG63: 2 | BH63: 1 | BI63: 1 | BJ63: 9.486
A65: 區域別 Locality | C65: 總計 Total | G65: 福利身分別 By Identity | AQ65: 依年齡別分 By Age | BC65: 榮民(補差額) Veteran Serviceman (Difference) | BG65: 原住民 Indigenous
G66: 低收入戶 Low-income Households | S66: 中低收入戶 Middle-low-income Households | AE66: 最低生活費1.5倍以上未達2.5倍者Between 1.5 and 2.5 times of minimum of subsistence | AQ66: 未滿18歲 | AU66: 18歲-未滿65歲 | AY66: 65歲以上
G67: 合計Total | K67: 中度障礙以上 Moderate & Over | O67: 輕度障礙 Mild | S67: 合計Total | W67: 中度障礙以上 Moderate & Over | AA67: 輕度障礙 Mild | AE67: 合計Total | AI67: 中度障礙以上 Moderate & Over | AM67: 輕度障礙 Mild
C68: 人次 Person-times | F68: 金額 (千元) Amounts (NT$1,000) | G68: 人次 Person-times | J68: 金額 (千元) Amounts (NT$1,000) | K68: 人次 Person-times | N68: 金額 (千元) Amounts (NT$1,000) | O68: 人次 Person-times | R68: 金額 (千元) Amounts (NT$1,000) | S68: 人次 Person-times | V68: 金額 (千元) Amounts (NT$1,000) | W68: 人次 Person-times | Z68: 金額 (千元) Amounts (NT$1,000) | AA68: 人次 Person-times | AD68: 金額 (千元) Amounts (NT$1,000) | AE68: 人次 Person-times | AH68: 金額 (千元) Amounts (NT$1,000) | AI68: 人次 Person-times | AL68: 金額 (千元) Amounts (NT$1,000) | AM68: 人次 Person-times | AP68: 金額 (千元) Amounts (NT$1,000) | AQ68: 人次 Person-times | AT68: 金額 (千元) Amounts (NT$1,000) | AU68: 人次 Person-times | AX68: 金額 (千元) Amounts (NT$1,000) | AY68: 人次 Person-times | BB68: 金額 (千元) Amounts (NT$1,000) | BC68: 人次 Person-times | BF68: 金額 (千元) Amounts (NT$1,000) | BG68: 人次 Person-times | BJ68: 金額 (千元) Amounts (NT$1,000)
C69: 合計 Total | D69: 男 Male | E69: 女 Female | G69: 計 Subtotal | H69: 男 Male | I69: 女 Female | K69: 計 Subtotal | L69: 男 Male | M69: 女 Female | O69: 計 Subtotal | P69: 男 Male | Q69: 女 Female | S69: 計 Subtotal | T69: 男 Male | U69: 女 Female | W69: 計 Subtotal | X69: 男 Male | Y69: 女 Female | AA69: 計 Subtotal | AB69: 男 Male | AC69: 女 Female | AE69: 計 Subtotal | AF69: 男 Male | AG69: 女 Female | AI69: 計 Subtotal | AJ69: 男 Male | AK69: 女 Female | AM69: 計 Subtotal | AN69: 男 Male | AO69: 女 Female | AQ69: 合計 Subtotal | AR69: 男 Male | AS69: 女 Female | AU69: 合計 Subtotal | AV69: 男 Male | AW69: 女 Female | AY69: 合計 Subtotal | AZ69: 男 Male | BA69: 女 Female | BC69: 計 Subtotal | BD69: 男 Male | BE69: 女 Female | BG69: 計 Subtotal | BH69: 男 Male | BI69: 女 Female
A70: 總計 | B70: Total | C70: =IF(C41=C9,"","*") -> * | D70: =IF(D41=D9,"","*") -> * | E70: =IF(E41=E9,"","*") -> * | F70: =IF(F41=F9,"","*") -> * | G70: =IF(G41=G9,"","*") -> * | H70: =IF(H41=H9,"","*") -> * | I70: =IF(I41=I9,"","*") -> * | J70: =IF(J41=J9,"","*") -> * | ... BJ70: =IF(BJ41=BJ9,"","*") -> *
A71: 新北市 | B71: New Taipei City | C71: =IF(C42=C10,"","*") -> * | D71: =IF(D42=D10,"","*") -> * | E71: =IF(E42=E10,"","*") -> * | F71: =IF(F42=F10,"","*") -> * | G71: =IF(G42=G10,"","*") -> * | H71: =IF(H42=H10,"","*") -> * | I71: =IF(I42=I10,"","*") -> * | J71: =IF(J42=J10,"","*") -> * | ... BJ71: =IF(BJ42=BJ10,"","*") -> *
A72: 臺北市 | B72: Taipei City | C72: =IF(C43=C11,"","*") -> * | D72: =IF(D43=D11,"","*") -> * | E72: =IF(E43=E11,"","*") -> * | F72: =IF(F43=F11,"","*") -> * | G72: =IF(G43=G11,"","*") -> * | H72: =IF(H43=H11,"","*") -> * | I72: =IF(I43=I11,"","*") -> * | J72: =IF(J43=J11,"","*") -> * | ... BJ72: =IF(BJ43=BJ11,"","*") -> *
A73: 桃園市 | B73: Taoyuan City | C73: =IF(C44=C12,"","*") -> * | D73: =IF(D44=D12,"","*") -> * | E73: =IF(E44=E12,"","*") -> * | F73: =IF(F44=F12,"","*") -> * | G73: =IF(G44=G12,"","*") -> * | H73: =IF(H44=H12,"","*") -> * | I73: =IF(I44=I12,"","*") -> * | J73: =IF(J44=J12,"","*") -> * | ... BJ73: =IF(BJ44=BJ12,"","*") -> *
A74: 臺中市 | B74: Taichung City | C74: =IF(C45=C13,"","*") -> * | D74: =IF(D45=D13,"","*") -> * | E74: =IF(E45=E13,"","*") -> * | F74: =IF(F45=F13,"","*") -> * | G74: =IF(G45=G13,"","*") -> * | H74: =IF(H45=H13,"","*") -> * | I74: =IF(I45=I13,"","*") -> * | J74: =IF(J45=J13,"","*") -> * | ... BJ74: =IF(BJ45=BJ13,"","*") -> *
A75: 臺南市 | B75: Tainan City | C75: =IF(C46=C14,"","*") -> * | D75: =IF(D46=D14,"","*") -> * | E75: =IF(E46=E14,"","*") -> * | F75: =IF(F46=F14,"","*") -> * | G75: =IF(G46=G14,"","*") -> * | H75: =IF(H46=H14,"","*") -> * | I75: =IF(I46=I14,"","*") -> * | J75: =IF(J46=J14,"","*") -> * | ... BJ75: =IF(BJ46=BJ14,"","*") -> *
A76: 高雄市 | B76: Kaohsiung City | C76: =IF(C47=C15,"","*") -> * | D76: =IF(D47=D15,"","*") -> * | E76: =IF(E47=E15,"","*") -> * | F76: =IF(F47=F15,"","*") -> * | G76: =IF(G47=G15,"","*") -> * | H76: =IF(H47=H15,"","*") -> * | I76: =IF(I47=I15,"","*") -> * | J76: =IF(J47=J15,"","*") -> * | ... BJ76: =IF(BJ47=BJ15,"","*") -> *
A77: 宜蘭縣 | B77: Yilan County | C77: =IF(C48=C16,"","*") -> * | D77: =IF(D48=D16,"","*") -> * | E77: =IF(E48=E16,"","*") -> * | F77: =IF(F48=F16,"","*") -> * | G77: =IF(G48=G16,"","*") -> * | H77: =IF(H48=H16,"","*") -> * | I77: =IF(I48=I16,"","*") -> * | J77: =IF(J48=J16,"","*") -> * | ... BJ77: =IF(BJ48=BJ16,"","*") -> *
A78: 新竹縣 | B78: Hsinchu County | C78: =IF(C49=C17,"","*") -> * | D78: =IF(D49=D17,"","*") -> * | E78: =IF(E49=E17,"","*") -> * | F78: =IF(F49=F17,"","*") -> * | G78: =IF(G49=G17,"","*") -> * | H78: =IF(H49=H17,"","*") -> * | I78: =IF(I49=I17,"","*") -> * | J78: =IF(J49=J17,"","*") -> * | ... BJ78: =IF(BJ49=BJ17,"","*") -> *
A79: 苗栗縣 | B79: Miaoli County | C79: =IF(C50=C18,"","*") -> * | D79: =IF(D50=D18,"","*") -> * | E79: =IF(E50=E18,"","*") -> * | F79: =IF(F50=F18,"","*") -> * | G79: =IF(G50=G18,"","*") -> * | H79: =IF(H50=H18,"","*") -> * | I79: =IF(I50=I18,"","*") -> * | J79: =IF(J50=J18,"","*") -> * | ... BJ79: =IF(BJ50=BJ18,"","*") -> *
A80: 彰化縣 | B80: Changhua County | C80: =IF(C51=C19,"","*") -> * | D80: =IF(D51=D19,"","*") -> * | E80: =IF(E51=E19,"","*") -> * | F80: =IF(F51=F19,"","*") -> * | G80: =IF(G51=G19,"","*") -> * | H80: =IF(H51=H19,"","*") -> * | I80: =IF(I51=I19,"","*") -> * | J80: =IF(J51=J19,"","*") -> * | ... BJ80: =IF(BJ51=BJ19,"","*") -> *
A81: 南投縣 | B81: Nantou County | C81: =IF(C52=C20,"","*") -> * | D81: =IF(D52=D20,"","*") -> * | E81: =IF(E52=E20,"","*") -> * | F81: =IF(F52=F20,"","*") -> * | G81: =IF(G52=G20,"","*") -> * | H81: =IF(H52=H20,"","*") -> * | I81: =IF(I52=I20,"","*") -> * | J81: =IF(J52=J20,"","*") -> * | ... BJ81: =IF(BJ52=BJ20,"","*") -> *
... A92: 連江縣 | B92: Lienchiang County | C92: =IF(C63=C31,"","*") -> * | D92: =IF(D63=D31,"","*") -> * | E92: =IF(E63=E31,"","*") -> * | F92: =IF(F63=F31,"","*") -> * | G92: =IF(G63=G31,"","*") -> * | H92: =IF(H63=H31,"","*") -> * | I92: =IF(I63=I31,"","*") | J92: =IF(J63=J31,"","*") -> * | ... BJ92: =IF(BJ63=BJ31,"","*") -> *

Sheet 2026,3
A1: 身心障礙者生活補助Living Assistance for the Disabled
A3: 115年3月Mar., 2026
A4: 區域別 Locality | C4: 總計 Total | G4: 福利身分別 By Identity | AQ4: 依年齡別分 By Age | BC4: 榮民(補差額) Veteran Serviceman (Difference) | BG4: 原住民 Indigenous
G5: 低收入戶 Low-income Households | S5: 中低收入戶 Middle-low-income Households | AE5: 最低生活費1.5倍以上未達2.5倍者Between 1.5 and 2.5 times of minimum of subsistence | AQ5: 未滿18歲 | AU5: 18歲-未滿65歲 | AY5: 65歲以上
G6: 合計Total | K6: 中度障礙以上 Moderate & Over | O6: 輕度障礙 Mild | S6: 合計Total | W6: 中度障礙以上 Moderate & Over | AA6: 輕度障礙 Mild | AE6: 合計Total | AI6: 中度障礙以上 Moderate & Over | AM6: 輕度障礙 Mild
C7: 人數 Person | F7: 金額 (千元) Amounts (NT$1,000) | G7: 人數 Person | J7: 金額 (千元) Amounts (NT$1,000) | K7: 人數 Person | N7: 金額 (千元) Amounts (NT$1,000) | O7: 人數 Person | R7: 金額 (千元) Amounts (NT$1,000) | S7: 人數 Person | V7: 金額 (千元) Amounts (NT$1,000) | W7: 人數 Person | Z7: 金額 (千元) Amounts (NT$1,000) | AA7: 人數 Person | AD7: 金額 (千元) Amounts (NT$1,000) | AE7: 人數 Person | AH7: 金額 (千元) Amounts (NT$1,000) | AI7: 人數 Person | AL7: 金額 (千元) Amounts (NT$1,000) | AM7: 人數 Person | AP7: 金額 (千元) Amounts (NT$1,000) | AQ7: 人數 Person | AT7: 金額 (千元) Amounts (NT$1,000) | AU7: 人數 Person | AX7: 金額 (千元) Amounts (NT$1,000) | AY7: 人數 Person | BB7: 金額 (千元) Amounts (NT$1,000) | BC7: 人數 Person | BF7: 金額 (千元) Amounts (NT$1,000) | BG7: 人數 Person | BJ7: 金額 (千元) Amounts (NT$1,000)
C8: 合計 Total | D8: 男 Male | E8: 女 Female | G8: 計 Subtotal | H8: 男 Male | I8: 女 Female | K8: 計 Subtotal | L8: 男 Male | M8: 女 Female | O8: 計 Subtotal | P8: 男 Male | Q8: 女 Female | S8: 計 Subtotal | T8: 男 Male | U8: 女 Female | W8: 計 Subtotal | X8: 男 Male | Y8: 女 Female | AA8: 計 Subtotal | AB8: 男 Male | AC8: 女 Female | AE8: 計 Subtotal | AF8: 男 Male | AG8: 女 Female | AI8: 計 Subtotal | AJ8: 男 Male | AK8: 女 Female | AM8: 計 Subtotal | AN8: 男 Male | AO8: 女 Female | AQ8: 合計 Subtotal | AR8: 男 Male | AS8: 女 Female | AU8: 合計 Subtotal | AV8: 男 Male | AW8: 女 Female | AY8: 合計 Subtotal | AZ8: 男 Male | BA8: 女 Female | BC8: 計 Subtotal | BD8: 男 Male | BE8: 女 Female | BG8: 計 Subtotal | BH8: 男 Male | BI8: 女 Female
A9: 總計 | B9: Total | C9: 317191 | D9: 191263 | E9: 125928 | F9: 1862445 | G9: 64433 | H9: 41429 | I9: 23004 | J9: 581069.39 | K9: 53039 | L9: 34586 | M9: 18453 | N9: 516252.59 | O9: 11394 | P9: 6843 | Q9: 4551 | R9: 64816.797 | S9: 17582 | T9: 10791 | U9: 6791 | V9: 88448.505 | W9: 9925 | X9: 6023 | Y9: 3902 | Z9: 56034.754 | AA9: 7657 | AB9: 4768 | AC9: 2889 | AD9: 32413.751 | AE9: 235176 | AF9: 139043 | AG9: 96133 | AH9: 1192927.1 | AI9: 145562 | AJ9: 84383 | AK9: 61179 | AL9: 816857.76 | AM9: 89614 | AN9: 54660 | AO9: 34954 | AP9: 376069.36 | AQ9: 25248 | AR9: 16811 | AS9: 8437 | AT9: 132093.04 | AU9: 234212 | AV9: 141446 | AW9: 92766 | AX9: 1374931 | AY9: 57731 | AZ9: 33006 | BA9: 24725 | BB9: 355420.95 | BC9: 1201 | BD9: 1097 | BE9: 104 | BF9: 7394.886 | BG9: 12468 | BH9: 7577 | BI9: 4891 | BJ9: 79545.112
A10: 新北市 | B10: New Taipei City | C10: 44169 | D10: 26527 | E10: 17642 | F10: 249954.85 | G10: 7191 | H10: 4516 | I10: 2675 | J10: 63754.824 | K10: 5595 | L10: 3544 | M10: 2051 | N10: 54748.384 | O10: 1596 | P10: 972 | Q10: 624 | R10: 9006.44 | S10: 2017 | T10: 1246 | U10: 771 | V10: 9978.677 | W10: 1117 | X10: 688 | Y10: 429 | Z10: 6204.426 | AA10: 900 | AB10: 558 | AC10: 342 | AD10: 3774.251 | AE10: 34961 | AF10: 20765 | AG10: 14196 | AH10: 176221.35 | AI10: 20860 | AJ10: 12186 | AK10: 8674 | AL10: 116909.5 | AM10: 14101 | AN10: 8579 | AO10: 5522 | AP10: 59311.844 | AQ10: 4321 | AR10: 2935 | AS10: 1386 | AT10: 21441.194 | AU10: 32051 | AV10: 19051 | AW10: 13000 | AX10: 182077.74 | AY10: 7797 | AZ10: 4541 | BA10: 3256 | BB10: 46435.909 | BC10: 189 | BD10: 146 | BE10: 43 | BF10: 1175.981 | BG10: 804 | BH10: 466 | BI10: 338 | BJ10: 4578.942
A11: 臺北市 | B11: Taipei City | C11: 13790 | D11: 8062 | E11: 5728 | F11: 98028.606 | G11: 7017 | H11: 4146 | I11: 2871 | J11: 62543.85 | K11: 5343 | L11: 3172 | M11: 2171 | N11: 52781.218 | O11: 1674 | P11: 974 | Q11: 700 | R11: 9762.632 | S11: 1281 | T11: 730 | U11: 551 | V11: 6586.044 | W11: 718 | X11: 420 | Y11: 298 | Z11: 4164.742 | AA11: 563 | AB11: 310 | AC11: 253 | AD11: 2421.302 | AE11: 5492 | AF11: 3186 | AG11: 2306 | AH11: 28898.712 | AI11: 3228 | AJ11: 1839 | AK11: 1389 | AL11: 18886.169 | AM11: 2264 | AN11: 1347 | AO11: 917 | AP11: 10012.543 | AQ11: 1151 | AR11: 780 | AS11: 371 | AT11: 6600.225 | AU11: 9816 | AV11: 5630 | AW11: 4186 | AX11: 68761.415 | AY11: 2823 | AZ11: 1652 | BA11: 1171 | BB11: 22666.966 | BC11: 98 | BD11: 98 | BE11: 0 | BF11: 729.448 | BG11: 217 | BH11: 114 | BI11: 103 | BJ11: 1591.334
A12: 桃園市 | B12: Taoyuan City | C12: 24139 | D12: 14361 | E12: 9778 | F12: 141065.55 | G12: 4902 | H12: 3056 | I12: 1846 | J12: 43193.946 | K12: 3807 | L12: 2405 | M12: 1402 | N12: 36928.737 | O12: 1095 | P12: 651 | Q12: 444 | R12: 6265.209 | S12: 1156 | T12: 665 | U12: 491 | V12: 5951.837 | W12: 668 | X12: 390 | Y12: 278 | Z12: 3838.316 | AA12: 488 | AB12: 275 | AC12: 213 | AD12: 2113.521 | AE12: 18081 | AF12: 10640 | AG12: 7441 | AH12: 91919.767 | AI12: 10970 | AJ12: 6326 | AK12: 4644 | AL12: 61984.352 | AM12: 7111 | AN12: 4314 | AO12: 2797 | AP12: 29935.415 | AQ12: 2687 | AR12: 1768 | AS12: 919 | AT12: 14257.711 | AU12: 17583 | AV12: 10373 | AW12: 7210 | AX12: 103706.32 | AY12: 3869 | AZ12: 2220 | BA12: 1649 | BB12: 23101.523 | BC12: 71 | BD12: 67 | BE12: 4 | BF12: 442.353 | BG12: 1147 | BH12: 683 | BI12: 464 | BJ12: 7316.597
A13: 臺中市 | B13: Taichung City | C13: 38344 | D13: 22796 | E13: 15548 | F13: 229978.57 | G13: 8828 | H13: 5547 | I13: 3281 | J13: 78997.166 | K13: 7014 | L13: 4449 | M13: 2565 | N13: 68639.717 | O13: 1814 | P13: 1098 | Q13: 716 | R13: 10357.449 | S13: 2510 | T13: 1505 | U13: 1005 | V13: 12653.137 | W13: 1502 | X13: 910 | Y13: 592 | Z13: 8404.982 | AA13: 1008 | AB13: 595 | AC13: 413 | AD13: 4248.155 | AE13: 27006 | AF13: 15744 | AG13: 11262 | AH13: 138328.27 | AI13: 16856 | AJ13: 9601 | AK13: 7255 | AL13: 95363.284 | AM13: 10150 | AN13: 6143 | AO13: 4007 | AP13: 42964.982 | AQ13: 3664 | AR13: 2450 | AS13: 1214 | AT13: 19978.191 | AU13: 27671 | AV13: 16402 | AW13: 11269 | AX13: 167157.02 | AY13: 7009 | AZ13: 3944 | BA13: 3065 | BB13: 42843.363 | BC13: 115 | BD13: 112 | BE13: 3 | BF13: 683.053 | BG13: 646 | BH13: 359 | BI13: 287 | BJ13: 4334.336
A14: 臺南市 | B14: Tainan City | C14: 29110 | D14: 17386 | E14: 11724 | F14: 162295.82 | G14: 4095 | H14: 2673 | I14: 1422 | J14: 36715.613 | K14: 3430 | L14: 2287 | M14: 1143 | N14: 32973.339 | O14: 665 | P14: 386 | Q14: 279 | R14: 3742.274 | S14: 806 | T14: 514 | U14: 292 | V14: 4004.472 | W14: 444 | X14: 273 | Y14: 171 | Z14: 2482.048 | AA14: 362 | AB14: 241 | AC14: 121 | AD14: 1522.424 | AE14: 24209 | AF14: 14199 | AG14: 10010 | AH14: 121575.73 | AI14: 14910 | AJ14: 8520 | AK14: 6390 | AL14: 82908.013 | AM14: 9299 | AN14: 5679 | AO14: 3620 | AP14: 38667.721 | AQ14: 2071 | AR14: 1355 | AS14: 716 | AT14: 10464.507 | AU14: 20958 | AV14: 12644 | AW14: 8314 | AX14: 116435.26 | AY14: 6081 | AZ14: 3387 | BA14: 2694 | BB14: 35396.057 | BC14: 94 | BD14: 94 | BE14: 0 | BF14: 648.48 | BG14: 121 | BH14: 60 | BI14: 61 | BJ14: 718.595
A15: 高雄市 | B15: Kaohsiung City | C15: 42131 | D15: 25159 | E15: 16972 | F15: 243117.46 | G15: 7555 | H15: 4838 | I15: 2717 | J15: 69247.955 | K15: 6598 | L15: 4287 | M15: 2311 | N15: 63871.229 | O15: 957 | P15: 551 | Q15: 406 | R15: 5376.726 | S15: 2787 | T15: 1692 | U15: 1095 | V15: 13788.522 | W15: 1568 | X15: 930 | Y15: 638 | Z15: 8726.264 | AA15: 1219 | AB15: 762 | AC15: 457 | AD15: 5062.258 | AE15: 31789 | AF15: 18629 | AG15: 13160 | AH15: 160080.99 | AI15: 20181 | AJ15: 11623 | AK15: 8558 | AL15: 111985.92 | AM15: 11608 | AN15: 7006 | AO15: 4602 | AP15: 48095.063 | AQ15: 2965 | AR15: 1958 | AS15: 1007 | AT15: 15036.129 | AU15: 31721 | AV15: 19044 | AW15: 12677 | AX15: 181891.62 | AY15: 7445 | AZ15: 4157 | BA15: 3288 | BB15: 46189.71 | BC15: 269 | BD15: 264 | BE15: 5 | BF15: 1507.424 | BG15: 785 | BH15: 446 | BI15: 339 | BJ15: 4886.2
A16: 宜蘭縣 | B16: Yilan County | C16: 7392 | D16: 4383 | E16: 3009 | F16: 41311.126 | G16: 1457 | H16: 938 | I16: 519 | J16: 12448.97 | K16: 1155 | L16: 755 | M16: 400 | N16: 10840.776 | O16: 302 | P16: 183 | Q16: 119 | R16: 1608.194 | S16: 631 | T16: 376 | U16: 255 | V16: 3013.304 | W16: 339 | X16: 210 | Y16: 129 | Z16: 1835.045 | AA16: 292 | AB16: 166 | AC16: 126 | AD16: 1178.259 | AE16: 5304 | AF16: 3069 | AG16: 2235 | AH16: 25848.852 | AI16: 3186 | AJ16: 1793 | AK16: 1393 | AL16: 17281.275 | AM16: 2118 | AN16: 1276 | AO16: 842 | AP16: 8567.577 | AQ16: 452 | AR16: 297 | AS16: 155 | AT16: 2244.812 | AU16: 5729 | AV16: 3445 | AW16: 2284 | AX16: 31807.746 | AY16: 1211 | AZ16: 641 | BA16: 570 | BB16: 7258.568 | BC16: 14 | BD16: 13 | BE16: 1 | BF16: 84.098 | BG16: 571 | BH16: 342 | BI16: 229 | BJ16: 3325.294
A17: 新竹縣 | B17: Hsinchu County | C17: 4756 | D17: 2867 | E17: 1889 | F17: 27642.817 | G17: 871 | H17: 552 | I17: 319 | J17: 7870.286 | K17: 765 | L17: 489 | M17: 276 | N17: 7293.964 | O17: 106 | P17: 63 | Q17: 43 | R17: 576.322 | S17: 277 | T17: 169 | U17: 108 | V17: 1345.969 | W17: 147 | X17: 84 | Y17: 63 | Z17: 815.55 | AA17: 130 | AB17: 85 | AC17: 45 | AD17: 530.419 | AE17: 3608 | AF17: 2146 | AG17: 1462 | AH17: 18426.562 | AI17: 2348 | AJ17: 1367 | AK17: 981 | AL17: 13146.666 | AM17: 1260 | AN17: 779 | AO17: 481 | AP17: 5279.896 | AQ17: 432 | AR17: 279 | AS17: 153 | AT17: 2275.671 | AU17: 3615 | AV17: 2157 | AW17: 1458 | AX17: 21112.259 | AY17: 709 | AZ17: 431 | BA17: 278 | BB17: 4254.887 | BC17: 18 | BD17: 8 | BE17: 10 | BF17: 88.15 | BG17: 295 | BH17: 181 | BI17: 114 | BJ17: 1998.654
A18: 苗栗縣 | B18: Miaoli County | C18: 9486 | D18: 5798 | E18: 3688 | F18: 57640.796 | G18: 1625 | H18: 1113 | I18: 512 | J18: 15418.866 | K18: 1448 | L18: 1005 | M18: 443 | N18: 14339.334 | O18: 177 | P18: 108 | Q18: 69 | R18: 1079.532 | S18: 359 | T18: 219 | U18: 140 | V18: 1989.506 | W18: 223 | X18: 131 | Y18: 92 | Z18: 1353.813 | AA18: 136 | AB18: 88 | AC18: 48 | AD18: 635.693 | AE18: 7502 | AF18: 4466 | AG18: 3036 | AH18: 40232.424 | AI18: 4919 | AJ18: 2913 | AK18: 2006 | AL18: 28915.469 | AM18: 2583 | AN18: 1553 | AO18: 1030 | AP18: 11316.955 | AQ18: 579 | AR18: 377 | AS18: 202 | AT18: 3058.29 | AU18: 6842 | AV18: 4240 | AW18: 2602 | AX18: 41772.36 | AY18: 2065 | AZ18: 1181 | BA18: 884 | BB18: 12810.146 | BC18: 15 | BD18: 15 | BE18: 0 | BF18: 120.649 | BG18: 277 | BH18: 158 | BI18: 119 | BJ18: 1839.629
A19: 彰化縣 | B19: Changhua County | C19: 20884 | D19: 12719 | E19: 8165 | F19: 123893.91 | G19: 4174 | H19: 2718 | I19: 1456 | J19: 38500.188 | K19: 3578 | L19: 2347 | M19: 1231 | N19: 35082.28 | O19: 596 | P19: 371 | Q19: 225 | R19: 3417.908 | S19: 563 | T19: 357 | U19: 206 | V19: 3142.277 | W19: 292 | X19: 193 | Y19: 99 | Z19: 1864.891 | AA19: 271 | AB19: 164 | AC19: 107 | AD19: 1277.386 | AE19: 16147 | AF19: 9644 | AG19: 6503 | AH19: 82251.441 | AI19: 10067 | AJ19: 5896 | AK19: 4171 | AL19: 56649.002 | AM19: 6080 | AN19: 3748 | AO19: 2332 | AP19: 25602.439 | AQ19: 1363 | AR19: 858 | AS19: 505 | AT19: 7378.23 | AU19: 15826 | AV19: 9738 | AW19: 6088 | AX19: 94349.512 | AY19: 3695 | AZ19: 2123 | BA19: 1572 | BB19: 22166.164 | BC19: 10 | BD19: 10 | BE19: 0 | BF19: 51.594 | BG19: 75 | BH19: 39 | BI19: 36 | BJ19: 497.646
A20: 南投縣 | B20: Nantou County | C20: 8028 | D20: 4986 | E20: 3042 | F20: 46392.093 | G20: 1233 | H20: 842 | I20: 391 | J20: 11271.264 | K20: 1066 | L20: 747 | M20: 319 | N20: 10300.7 | O20: 167 | P20: 95 | Q20: 72 | R20: 970.564 | S20: 673 | T20: 430 | U20: 243 | V20: 3332.009 | W20: 373 | X20: 240 | Y20: 133 | Z20: 2060.623 | AA20: 300 | AB20: 190 | AC20: 110 | AD20: 1271.386 | AE20: 6122 | AF20: 3714 | AG20: 2408 | AH20: 31788.82 | AI20: 3858 | AJ20: 2313 | AK20: 1545 | AL20: 22076.996 | AM20: 2264 | AN20: 1401 | AO20: 863 | AP20: 9711.824 | AQ20: 505 | AR20: 326 | AS20: 179 | AT20: 2741.203 | AU20: 6123 | AV20: 3832 | AW20: 2291 | AX20: 35034.007 | AY20: 1400 | AZ20: 828 | BA20: 572 | BB20: 8616.883 | BC20: 8 | BD20: 8 | BE20: 0 | BF20: 54.252 | BG20: 558 | BH20: 355 | BI20: 203 | BJ20: 3268.74
... A31: 連江縣 | B31: Lienchiang County | C31: 31 | D31: 23 | E31: 8 | F31: 196.537 | G31: 11 | H31: 9 | I31: 2 | J31: 92.191 | K31: 8 | L31: 6 | M31: 2 | N31: 75.88 | O31: 3 | P31: 3 | Q31: 0 | R31: 16.311 | S31: 5 | T31: 5 | U31: 0 | V31: 21.633 | W31: 1 | X31: 1 | Y31: 0 | Z31: 5.437 | AA31: 4 | AB31: 4 | AC31: 0 | AD31: 16.196 | AE31: 15 | AF31: 9 | AG31: 6 | AH31: 82.713 | AI31: 10 | AJ31: 5 | AK31: 5 | AL31: 54.37 | AM31: 5 | AN31: 4 | AO31: 1 | AP31: 28.343 | AQ31: 3 | AR31: 2 | AS31: 1 | AT31: 14.923 | AU31: 25 | AV31: 18 | AW31: 7 | AX31: 153.159 | AY31: 3 | AZ31: 3 | BA31: 0 | BB31: 28.455 | BC31: 0 | BD31: 0 | BE31: 0 | BF31: 0 | BG31: 2 | BH31: 1 | BI31: 1 | BJ31: 9.486
A32: 資料來源：直轄市、縣(市)政府。
A33: Source : County and City Government.
A34: 說明：本表自114年分「福利身分別」及「年齡別」兩類型統計，並皆含具榮民、原住民身分者，此外榮民、原住民另行獨立統計。
A35: 更新日期：2026/05/15
A36: 區域別 Locality | C36: 總計 Total | G36: 福利身分別 By Identity | AQ36: 依年齡別分 By Age | BC36: 榮民(補差額) Veteran Serviceman (Difference) | BG36: 原住民 Indigenous
G37: 低收入戶 Low-income Households | S37: 中低收入戶 Middle-low-income Households | AE37: 最低生活費1.5倍以上未達2.5倍者Between 1.5 and 2.5 times of minimum of subsistence | AQ37: 未滿18歲 | AU37: 18歲-未滿65歲 | AY37: 65歲以上
G38: 合計Total | K38: 中度障礙以上 Moderate & Over | O38: 輕度障礙 Mild | S38: 合計Total | W38: 中度障礙以上 Moderate & Over | AA38: 輕度障礙 Mild | AE38: 合計Total | AI38: 中度障礙以上 Moderate & Over | AM38: 輕度障礙 Mild
C39: 人次 Person-times | F39: 金額 (千元) Amounts (NT$1,000) | G39: 人次 Person-times | J39: 金額 (千元) Amounts (NT$1,000) | K39: 人次 Person-times | N39: 金額 (千元) Amounts (NT$1,000) | O39: 人次 Person-times | R39: 金額 (千元) Amounts (NT$1,000) | S39: 人次 Person-times | V39: 金額 (千元) Amounts (NT$1,000) | W39: 人次 Person-times | Z39: 金額 (千元) Amounts (NT$1,000) | AA39: 人次 Person-times | AD39: 金額 (千元) Amounts (NT$1,000) | AE39: 人次 Person-times | AH39: 金額 (千元) Amounts (NT$1,000) | AI39: 人次 Person-times | AL39: 金額 (千元) Amounts (NT$1,000) | AM39: 人次 Person-times | AP39: 金額 (千元) Amounts (NT$1,000) | AQ39: 人次 Person-times | AT39: 金額 (千元) Amounts (NT$1,000) | AU39: 人次 Person-times | AX39: 金額 (千元) Amounts (NT$1,000) | AY39: 人次 Person-times | BB39: 金額 (千元) Amounts (NT$1,000) | BC39: 人次 Person-times | BF39: 金額 (千元) Amounts (NT$1,000) | BG39: 人次 Person-times | BJ39: 金額 (千元) Amounts (NT$1,000)
C40: 合計 Total | D40: 男 Male | E40: 女 Female | G40: 計 Subtotal | H40: 男 Male | I40: 女 Female | K40: 計 Subtotal | L40: 男 Male | M40: 女 Female | O40: 計 Subtotal | P40: 男 Male | Q40: 女 Female | S40: 計 Subtotal | T40: 男 Male | U40: 女 Female | W40: 計 Subtotal | X40: 男 Male | Y40: 女 Female | AA40: 計 Subtotal | AB40: 男 Male | AC40: 女 Female | AE40: 計 Subtotal | AF40: 男 Male | AG40: 女 Female | AI40: 計 Subtotal | AJ40: 男 Male | AK40: 女 Female | AM40: 計 Subtotal | AN40: 男 Male | AO40: 女 Female | AQ40: 合計 Subtotal | AR40: 男 Male | AS40: 女 Female | AU40: 合計 Subtotal | AV40: 男 Male | AW40: 女 Female | AY40: 合計 Subtotal | AZ40: 男 Male | BA40: 女 Female | BC40: 計 Subtotal | BD40: 男 Male | BE40: 女 Female | BG40: 計 Subtotal | BH40: 男 Male | BI40: 女 Female
A41: 總計 | B41: Total | C41: 326655 | D41: 197206 | E41: 129449 | F41: 1893255.7 | G41: 65111 | H41: 42025 | I41: 23086 | J41: 580685.83 | K41: 53323 | L41: 34888 | M41: 18435 | N41: 514756.16 | O41: 11788 | P41: 7137 | Q41: 4651 | R41: 65929.665 | S41: 17686 | T41: 10841 | U41: 6845 | V41: 88955.023 | W41: 10126 | X41: 6123 | Y41: 4003 | Z41: 56940.809 | AA41: 7560 | AB41: 4718 | AC41: 2842 | AD41: 32014.214 | AE41: 243858 | AF41: 144340 | AG41: 99518 | AH41: 1223614.9 | AI41: 150665 | AJ41: 87281 | AK41: 63384 | AL41: 836994.21 | AM41: 93193 | AN41: 57059 | AO41: 36134 | AP41: 386620.67 | AQ41: 25383 | AR41: 16861 | AS41: 8522 | AT41: 132318.48 | AU41: 244832 | AV41: 148021 | AW41: 96811 | AX41: 1420280.1 | AY41: 56440 | AZ41: 32324 | BA41: 24116 | BB41: 340657.2 | BC41: 1272 | BD41: 1139 | BE41: 133 | BF41: 7748.695 | BG41: 12529 | BH41: 7579 | BI41: 4950 | BJ41: 79215.974
A42: 新北市 | B42: New Taipei City | C42: 46782 | D42: 28032 | E42: 18750 | F42: 254241.54 | G42: 7495 | H42: 4726 | I42: 2769 | J42: 62986.423 | K42: 5788 | L42: 3685 | M42: 2103 | N42: 53892.063 | O42: 1707 | P42: 1041 | Q42: 666 | R42: 9094.36 | S42: 2029 | T42: 1230 | U42: 799 | V42: 9789.414 | W42: 1148 | X42: 686 | Y42: 462 | Z42: 6233.578 | AA42: 881 | AB42: 544 | AC42: 337 | AD42: 3555.836 | AE42: 37258 | AF42: 22076 | AG42: 15182 | AH42: 181465.7 | AI42: 22412 | AJ42: 13036 | AK42: 9376 | AL42: 121395.3 | AM42: 14846 | AN42: 9040 | AO42: 5806 | AP42: 60070.395 | AQ42: 4520 | AR42: 3077 | AS42: 1443 | AT42: 21563.332 | AU42: 34367 | AV42: 20422 | AW42: 13945 | AX42: 187495.28 | AY42: 7895 | AZ42: 4533 | BA42: 3362 | BB42: 45182.92 | BC42: 221 | BD42: 171 | BE42: 50 | BF42: 1323.819 | BG42: 846 | BH42: 492 | BI42: 354 | BJ42: 4595.266
A43: 臺北市 | B43: Taipei City | C43: 14040 | D43: 8274 | E43: 5766 | F43: 100488.2 | G43: 7183 | H43: 4279 | I43: 2904 | J43: 64198.759 | K43: 5442 | L43: 3249 | M43: 2193 | N43: 54188.942 | O43: 1741 | P43: 1030 | Q43: 711 | R43: 10009.817 | S43: 1332 | T43: 769 | U43: 563 | V43: 6986.893 | W43: 742 | X43: 439 | Y43: 303 | Z43: 4395.533 | AA43: 590 | AB43: 330 | AC43: 260 | AD43: 2591.36 | AE43: 5525 | AF43: 3226 | AG43: 2299 | AH43: 29302.551 | AI43: 3270 | AJ43: 1866 | AK43: 1404 | AL43: 19414.703 | AM43: 2255 | AN43: 1360 | AO43: 895 | AP43: 9887.848 | AQ43: 1154 | AR43: 788 | AS43: 366 | AT43: 6708.16 | AU43: 10192 | AV43: 5872 | AW43: 4320 | AX43: 72308.001 | AY43: 2694 | AZ43: 1614 | BA43: 1080 | BB43: 21472.042 | BC43: 113 | BD43: 113 | BE43: 0 | BF43: 820.372 | BG43: 225 | BH43: 118 | BI43: 107 | BJ43: 1601.883
A44: 桃園市 | B44: Taoyuan City | C44: 24197 | D44: 14436 | E44: 9761 | F44: 139632.37 | G44: 4817 | H44: 3029 | I44: 1788 | J44: 42503.032 | K44: 3775 | L44: 2402 | M44: 1373 | N44: 36617.077 | O44: 1042 | P44: 627 | Q44: 415 | R44: 5885.955 | S44: 1157 | T44: 663 | U44: 494 | V44: 5719.37 | W44: 655 | X44: 378 | Y44: 277 | Z44: 3638.578 | AA44: 502 | AB44: 285 | AC44: 217 | AD44: 2080.792 | AE44: 18223 | AF44: 10744 | AG44: 7479 | AH44: 91409.971 | AI44: 11075 | AJ44: 6367 | AK44: 4708 | AL44: 61591.696 | AM44: 7148 | AN44: 4377 | AO44: 2771 | AP44: 29818.275 | AQ44: 2606 | AR44: 1724 | AS44: 882 | AT44: 13808.749 | AU44: 17850 | AV44: 10576 | AW44: 7274 | AX44: 103852.61 | AY44: 3741 | AZ44: 2136 | BA44: 1605 | BB44: 21971.014 | BC44: 85 | BD44: 80 | BE44: 5 | BF44: 511.529 | BG44: 1171 | BH44: 690 | BI44: 481 | BJ44: 7236.494
A45: 臺中市 | B45: Taichung City | C45: 38793 | D45: 23048 | E45: 15745 | F45: 231335.34 | G45: 8605 | H45: 5402 | I45: 3203 | J45: 77122.74 | K45: 6847 | L45: 4334 | M45: 2513 | N45: 67106.531 | O45: 1758 | P45: 1068 | Q45: 690 | R45: 10016.209 | S45: 2567 | T45: 1536 | U45: 1031 | V45: 13201.29 | W45: 1539 | X45: 905 | Y45: 634 | Z45: 8796.024 | AA45: 1028 | AB45: 631 | AC45: 397 | AD45: 4405.266 | AE45: 27621 | AF45: 16110 | AG45: 11511 | AH45: 141011.31 | AI45: 17089 | AJ45: 9743 | AK45: 7346 | AL45: 96721.064 | AM45: 10532 | AN45: 6367 | AO45: 4165 | AP45: 44290.249 | AQ45: 3631 | AR45: 2407 | AS45: 1224 | AT45: 19849.477 | AU45: 28369 | AV45: 16819 | AW45: 11550 | AX45: 170918.89 | AY45: 6793 | AZ45: 3822 | BA45: 2971 | BB45: 40566.978 | BC45: 104 | BD45: 101 | BE45: 3 | BF45: 615.181 | BG45: 560 | BH45: 303 | BI45: 257 | BJ45: 3704.828
A46: 臺南市 | B46: Tainan City | C46: 30001 | D46: 17959 | E46: 12042 | F46: 167080.93 | G46: 4237 | H46: 2786 | I46: 1451 | J46: 37876.608 | K46: 3513 | L46: 2344 | M46: 1169 | N46: 33842.238 | O46: 724 | P46: 442 | Q46: 282 | R46: 4034.37 | S46: 872 | T46: 559 | U46: 313 | V46: 4262.215 | W46: 492 | X46: 309 | Y46: 183 | Z46: 2694.091 | AA46: 380 | AB46: 250 | AC46: 130 | AD46: 1568.124 | AE46: 24892 | AF46: 14614 | AG46: 10278 | AH46: 124942.1 | AI46: 15367 | AJ46: 8772 | AK46: 6595 | AL46: 85292.083 | AM46: 9525 | AN46: 5842 | AO46: 3683 | AP46: 39650.022 | AQ46: 2054 | AR46: 1345 | AS46: 709 | AT46: 10560.158 | AU46: 21982 | AV46: 13254 | AW46: 8728 | AX46: 122111.64 | AY46: 5965 | AZ46: 3360 | BA46: 2605 | BB46: 34409.13 | BC46: 94 | BD46: 94 | BE46: 0 | BF46: 644.314 | BG46: 114 | BH46: 59 | BI46: 55 | BJ46: 663.07
A47: 高雄市 | B47: Kaohsiung City | C47: 44116 | D47: 26414 | E47: 17702 | F47: 248093.66 | G47: 7574 | H47: 4879 | I47: 2695 | J47: 67356.717 | K47: 6590 | L47: 4305 | M47: 2285 | N47: 62138.593 | O47: 984 | P47: 574 | Q47: 410 | R47: 5218.124 | S47: 2953 | T47: 1814 | U47: 1139 | V47: 14440.744 | W47: 1700 | X47: 1011 | Y47: 689 | Z47: 9313.238 | AA47: 1253 | AB47: 803 | AC47: 450 | AD47: 5127.506 | AE47: 33589 | AF47: 19721 | AG47: 13868 | AH47: 166296.2 | AI47: 21283 | AJ47: 12243 | AK47: 9040 | AL47: 116244.08 | AM47: 12306 | AN47: 7478 | AO47: 4828 | AP47: 50052.119 | AQ47: 3022 | AR47: 2001 | AS47: 1021 | AT47: 14876.594 | AU47: 33713 | AV47: 20287 | AW47: 13426 | AX47: 189193.45 | AY47: 7381 | AZ47: 4126 | BA47: 3255 | BB47: 44023.615 | BC47: 283 | BD47: 257 | BE47: 26 | BF47: 1667.97 | BG47: 815 | BH47: 458 | BI47: 357 | BJ47: 4800.424
A48: 宜蘭縣 | B48: Yilan County | C48: 7808 | D48: 4617 | E48: 3191 | F48: 43288.556 | G48: 1487 | H48: 957 | I48: 530 | J48: 12585.225 | K48: 1165 | L48: 772 | M48: 393 | N48: 10865.862 | O48: 322 | P48: 185 | Q48: 137 | R48: 1719.363 | S48: 651 | T48: 387 | U48: 264 | V48: 3083.102 | W48: 356 | X48: 208 | Y48: 148 | Z48: 1892.696 | AA48: 295 | AB48: 179 | AC48: 116 | AD48: 1190.406 | AE48: 5670 | AF48: 3273 | AG48: 2397 | AH48: 27620.229 | AI48: 3428 | AJ48: 1924 | AK48: 1504 | AL48: 18545.147 | AM48: 2242 | AN48: 1349 | AO48: 893 | AP48: 9075.082 | AQ48: 529 | AR48: 337 | AS48: 192 | AT48: 2635.337 | AU48: 6035 | AV48: 3587 | AW48: 2448 | AX48: 33386.99 | AY48: 1244 | AZ48: 693 | BA48: 551 | BB48: 7266.229 | BC48: 16 | BD48: 15 | BE48: 1 | BF48: 93.584 | BG48: 509 | BH48: 308 | BI48: 201 | BJ48: 3113.924
A49: 新竹縣 | B49: Hsinchu County | C49: 4897 | D49: 2972 | E49: 1925 | F49: 28614.105 | G49: 900 | H49: 575 | I49: 325 | J49: 8129.16 | K49: 790 | L49: 509 | M49: 281 | N49: 7531.09 | O49: 110 | P49: 66 | Q49: 44 | R49: 598.07 | S49: 261 | T49: 161 | U49: 100 | V49: 1259.322 | W49: 142 | X49: 85 | Y49: 57 | Z49: 777.491 | AA49: 119 | AB49: 76 | AC49: 43 | AD49: 481.831 | AE49: 3736 | AF49: 2236 | AG49: 1500 | AH49: 19225.623 | AI49: 2417 | AJ49: 1406 | AK49: 1011 | AL49: 13601.562 | AM49: 1319 | AN49: 830 | AO49: 489 | AP49: 5624.061 | AQ49: 436 | AR49: 274 | AS49: 162 | AT49: 2395.864 | AU49: 3761 | AV49: 2259 | AW49: 1502 | AX49: 21945.651 | AY49: 700 | AZ49: 439 | BA49: 261 | BB49: 4272.59 | BC49: 19 | BD49: 9 | BE49: 10 | BF49: 99.024 | BG49: 286 | BH49: 176 | BI49: 110 | BJ49: 1930.746
A50: 苗栗縣 | B50: Miaoli County | C50: 9625 | D50: 5871 | E50: 3754 | F50: 57746.994 | G50: 1642 | H50: 1103 | I50: 539 | J50: 15411.01 | K50: 1441 | L50: 980 | M50: 461 | N50: 14217.301 | O50: 201 | P50: 123 | Q50: 78 | R50: 1193.709 | S50: 333 | T50: 205 | U50: 128 | V50: 1765.193 | W50: 227 | X50: 145 | Y50: 82 | Z50: 1315.754 | AA50: 106 | AB50: 60 | AC50: 46 | AD50: 449.439 | AE50: 7650 | AF50: 4563 | AG50: 3087 | AH50: 40570.791 | AI50: 5021 | AJ50: 2963 | AK50: 2058 | AL50: 29243.077 | AM50: 2629 | AN50: 1600 | AO50: 1029 | AP50: 11327.714 | AQ50: 576 | AR50: 373 | AS50: 203 | AT50: 3080.153 | AU50: 7074 | AV50: 4372 | AW50: 2702 | AX50: 42564.522 | AY50: 1975 | AZ50: 1126 | BA50: 849 | BB50: 12102.319 | BC50: 14 | BD50: 14 | BE50: 0 | BF50: 117.988 | BG50: 280 | BH50: 162 | BI50: 118 | BJ50: 1849.69
A51: 彰化縣 | B51: Changhua County | C51: 21463 | D51: 13092 | E51: 8371 | F51: 127086.23 | G51: 4127 | H51: 2709 | I51: 1418 | J51: 38484.401 | K51: 3554 | L51: 2354 | M51: 1200 | N51: 35160.583 | O51: 573 | P51: 355 | Q51: 218 | R51: 3323.818 | S51: 462 | T51: 282 | U51: 180 | V51: 2719.396 | W51: 259 | X51: 162 | Y51: 97 | Z51: 1643.362 | AA51: 203 | AB51: 120 | AC51: 83 | AD51: 1076.034 | AE51: 16874 | AF51: 10101 | AG51: 6773 | AH51: 85882.43 | AI51: 10420 | AJ51: 6101 | AK51: 4319 | AL51: 58629.421 | AM51: 6454 | AN51: 4000 | AO51: 2454 | AP51: 27253.009 | AQ51: 1361 | AR51: 863 | AS51: 498 | AT51: 7445.581 | AU51: 16477 | AV51: 10138 | AW51: 6339 | AX51: 97923.927 | AY51: 3625 | AZ51: 2091 | BA51: 1534 | BB51: 21716.719 | BC51: 13 | BD51: 13 | BE51: 0 | BF51: 67.905 | BG51: 72 | BH51: 35 | BI51: 37 | BJ51: 479.707
A52: 南投縣 | B52: Nantou County | C52: 8196 | D52: 5104 | E52: 3092 | F52: 47274.583 | G52: 1238 | H52: 856 | I52: 382 | J52: 11439.916 | K52: 1058 | L52: 750 | M52: 308 | N52: 10361.887 | O52: 180 | P52: 106 | Q52: 74 | R52: 1078.029 | S52: 701 | T52: 442 | U52: 259 | V52: 3557.328 | W52: 379 | X52: 237 | Y52: 142 | Z52: 2132.08 | AA52: 322 | AB52: 205 | AC52: 117 | AD52: 1425.248 | AE52: 6257 | AF52: 3806 | AG52: 2451 | AH52: 32277.339 | AI52: 3930 | AJ52: 2345 | AK52: 1585 | AL52: 22389.681 | AM52: 2327 | AN52: 1461 | AO52: 866 | AP52: 9887.658 | AQ52: 509 | AR52: 329 | AS52: 180 | AT52: 2783.532 | AU52: 6353 | AV52: 3990 | AW52: 2363 | AX52: 36344.154 | AY52: 1334 | AZ52: 785 | BA52: 549 | BB52: 8146.897 | BC52: 6 | BD52: 6 | BE52: 0 | BF52: 35.282 | BG52: 578 | BH52: 370 | BI52: 208 | BJ52: 3426.297
... A63: 連江縣 | B63: Lienchiang County | C63: 33 | D63: 26 | E63: 7 | F63: 192.605 | G63: 9 | H63: 9 | I63: 0 | J63: 73.221 | K63: 6 | L63: 6 | M63: 0 | N63: 56.91 | O63: 3 | P63: 3 | Q63: 0 | R63: 16.311 | S63: 5 | T63: 5 | U63: 0 | V63: 21.633 | W63: 1 | X63: 1 | Y63: 0 | Z63: 5.437 | AA63: 4 | AB63: 4 | AC63: 0 | AD63: 16.196 | AE63: 19 | AF63: 12 | AG63: 7 | AH63: 97.751 | AI63: 15 | AJ63: 9 | AK63: 6 | AL63: 81.555 | AM63: 4 | AN63: 3 | AO63: 1 | AP63: 16.196 | AQ63: 4 | AR63: 3 | AS63: 1 | AT63: 20.36 | AU63: 24 | AV63: 18 | AW63: 6 | AX63: 134.304 | AY63: 5 | AZ63: 5 | BA63: 0 | BB63: 37.941 | BC63: 0 | BD63: 0 | BE63: 0 | BF63: 0 | BG63: 2 | BH63: 1 | BI63: 1 | BJ63: 9.486
A65: 區域別 Locality | C65: 總計 Total | G65: 福利身分別 By Identity | AQ65: 依年齡別分 By Age | BC65: 榮民(補差額) Veteran Serviceman (Difference) | BG65: 原住民 Indigenous
G66: 低收入戶 Low-income Households | S66: 中低收入戶 Middle-low-income Households | AE66: 最低生活費1.5倍以上未達2.5倍者Between 1.5 and 2.5 times of minimum of subsistence | AQ66: 未滿18歲 | AU66: 18歲-未滿65歲 | AY66: 65歲以上
G67: 合計Total | K67: 中度障礙以上 Moderate & Over | O67: 輕度障礙 Mild | S67: 合計Total | W67: 中度障礙以上 Moderate & Over | AA67: 輕度障礙 Mild | AE67: 合計Total | AI67: 中度障礙以上 Moderate & Over | AM67: 輕度障礙 Mild
C68: 人次 Person-times | F68: 金額 (千元) Amounts (NT$1,000) | G68: 人次 Person-times | J68: 金額 (千元) Amounts (NT$1,000) | K68: 人次 Person-times | N68: 金額 (千元) Amounts (NT$1,000) | O68: 人次 Person-times | R68: 金額 (千元) Amounts (NT$1,000) | S68: 人次 Person-times | V68: 金額 (千元) Amounts (NT$1,000) | W68: 人次 Person-times | Z68: 金額 (千元) Amounts (NT$1,000) | AA68: 人次 Person-times | AD68: 金額 (千元) Amounts (NT$1,000) | AE68: 人次 Person-times | AH68: 金額 (千元) Amounts (NT$1,000) | AI68: 人次 Person-times | AL68: 金額 (千元) Amounts (NT$1,000) | AM68: 人次 Person-times | AP68: 金額 (千元) Amounts (NT$1,000) | AQ68: 人次 Person-times | AT68: 金額 (千元) Amounts (NT$1,000) | AU68: 人次 Person-times | AX68: 金額 (千元) Amounts (NT$1,000) | AY68: 人次 Person-times | BB68: 金額 (千元) Amounts (NT$1,000) | BC68: 人次 Person-times | BF68: 金額 (千元) Amounts (NT$1,000) | BG68: 人次 Person-times | BJ68: 金額 (千元) Amounts (NT$1,000)
C69: 合計 Total | D69: 男 Male | E69: 女 Female | G69: 計 Subtotal | H69: 男 Male | I69: 女 Female | K69: 計 Subtotal | L69: 男 Male | M69: 女 Female | O69: 計 Subtotal | P69: 男 Male | Q69: 女 Female | S69: 計 Subtotal | T69: 男 Male | U69: 女 Female | W69: 計 Subtotal | X69: 男 Male | Y69: 女 Female | AA69: 計 Subtotal | AB69: 男 Male | AC69: 女 Female | AE69: 計 Subtotal | AF69: 男 Male | AG69: 女 Female | AI69: 計 Subtotal | AJ69: 男 Male | AK69: 女 Female | AM69: 計 Subtotal | AN69: 男 Male | AO69: 女 Female | AQ69: 合計 Subtotal | AR69: 男 Male | AS69: 女 Female | AU69: 合計 Subtotal | AV69: 男 Male | AW69: 女 Female | AY69: 合計 Subtotal | AZ69: 男 Male | BA69: 女 Female | BC69: 計 Subtotal | BD69: 男 Male | BE69: 女 Female | BG69: 計 Subtotal | BH69: 男 Male | BI69: 女 Female
A70: 總計 | B70: Total | C70: =IF(C41=C9,"","*") -> * | D70: =IF(D41=D9,"","*") -> * | E70: =IF(E41=E9,"","*") -> * | F70: =IF(F41=F9,"","*") -> * | G70: =IF(G41=G9,"","*") -> * | H70: =IF(H41=H9,"","*") -> * | I70: =IF(I41=I9,"","*") -> * | J70: =IF(J41=J9,"","*") -> * | ... BJ70: =IF(BJ41=BJ9,"","*") -> *
A71: 新北市 | B71: New Taipei City | C71: =IF(C42=C10,"","*") -> * | D71: =IF(D42=D10,"","*") -> * | E71: =IF(E42=E10,"","*") -> * | F71: =IF(F42=F10,"","*") -> * | G71: =IF(G42=G10,"","*") -> * | H71: =IF(H42=H10,"","*") -> * | I71: =IF(I42=I10,"","*") -> * | J71: =IF(J42=J10,"","*") -> * | ... BJ71: =IF(BJ42=BJ10,"","*") -> *
A72: 臺北市 | B72: Taipei City | C72: =IF(C43=C11,"","*") -> * | D72: =IF(D43=D11,"","*") -> * | E72: =IF(E43=E11,"","*") -> * | F72: =IF(F43=F11,"","*") -> * | G72: =IF(G43=G11,"","*") -> * | H72: =IF(H43=H11,"","*") -> * | I72: =IF(I43=I11,"","*") -> * | J72: =IF(J43=J11,"","*") -> * | ... BJ72: =IF(BJ43=BJ11,"","*") -> *
A73: 桃園市 | B73: Taoyuan City | C73: =IF(C44=C12,"","*") -> * | D73: =IF(D44=D12,"","*") -> * | E73: =IF(E44=E12,"","*") -> * | F73: =IF(F44=F12,"","*") -> * | G73: =IF(G44=G12,"","*") -> * | H73: =IF(H44=H12,"","*") -> * | I73: =IF(I44=I12,"","*") -> * | J73: =IF(J44=J12,"","*") -> * | ... BJ73: =IF(BJ44=BJ12,"","*") -> *
A74: 臺中市 | B74: Taichung City | C74: =IF(C45=C13,"","*") -> * | D74: =IF(D45=D13,"","*") -> * | E74: =IF(E45=E13,"","*") -> * | F74: =IF(F45=F13,"","*") -> * | G74: =IF(G45=G13,"","*") -> * | H74: =IF(H45=H13,"","*") -> * | I74: =IF(I45=I13,"","*") -> * | J74: =IF(J45=J13,"","*") -> * | ... BJ74: =IF(BJ45=BJ13,"","*") -> *
A75: 臺南市 | B75: Tainan City | C75: =IF(C46=C14,"","*") -> * | D75: =IF(D46=D14,"","*") -> * | E75: =IF(E46=E14,"","*") -> * | F75: =IF(F46=F14,"","*") -> * | G75: =IF(G46=G14,"","*") -> * | H75: =IF(H46=H14,"","*") -> * | I75: =IF(I46=I14,"","*") -> * | J75: =IF(J46=J14,"","*") -> * | ... BJ75: =IF(BJ46=BJ14,"","*") -> *
A76: 高雄市 | B76: Kaohsiung City | C76: =IF(C47=C15,"","*") -> * | D76: =IF(D47=D15,"","*") -> * | E76: =IF(E47=E15,"","*") -> * | F76: =IF(F47=F15,"","*") -> * | G76: =IF(G47=G15,"","*") -> * | H76: =IF(H47=H15,"","*") -> * | I76: =IF(I47=I15,"","*") -> * | J76: =IF(J47=J15,"","*") -> * | ... BJ76: =IF(BJ47=BJ15,"","*") -> *
A77: 宜蘭縣 | B77: Yilan County | C77: =IF(C48=C16,"","*") -> * | D77: =IF(D48=D16,"","*") -> * | E77: =IF(E48=E16,"","*") -> * | F77: =IF(F48=F16,"","*") -> * | G77: =IF(G48=G16,"","*") -> * | H77: =IF(H48=H16,"","*") -> * | I77: =IF(I48=I16,"","*") -> * | J77: =IF(J48=J16,"","*") -> * | ... BJ77: =IF(BJ48=BJ16,"","*") -> *
A78: 新竹縣 | B78: Hsinchu County | C78: =IF(C49=C17,"","*") -> * | D78: =IF(D49=D17,"","*") -> * | E78: =IF(E49=E17,"","*") -> * | F78: =IF(F49=F17,"","*") -> * | G78: =IF(G49=G17,"","*") -> * | H78: =IF(H49=H17,"","*") -> * | I78: =IF(I49=I17,"","*") -> * | J78: =IF(J49=J17,"","*") -> * | ... BJ78: =IF(BJ49=BJ17,"","*") -> *
A79: 苗栗縣 | B79: Miaoli County | C79: =IF(C50=C18,"","*") -> * | D79: =IF(D50=D18,"","*") -> * | E79: =IF(E50=E18,"","*") -> * | F79: =IF(F50=F18,"","*") -> * | G79: =IF(G50=G18,"","*") -> * | H79: =IF(H50=H18,"","*") -> * | I79: =IF(I50=I18,"","*") -> * | J79: =IF(J50=J18,"","*") -> * | ... BJ79: =IF(BJ50=BJ18,"","*") -> *
A80: 彰化縣 | B80: Changhua County | C80: =IF(C51=C19,"","*") -> * | D80: =IF(D51=D19,"","*") -> * | E80: =IF(E51=E19,"","*") -> * | F80: =IF(F51=F19,"","*") -> * | G80: =IF(G51=G19,"","*") -> * | H80: =IF(H51=H19,"","*") -> * | I80: =IF(I51=I19,"","*") -> * | J80: =IF(J51=J19,"","*") -> * | ... BJ80: =IF(BJ51=BJ19,"","*") -> *
A81: 南投縣 | B81: Nantou County | C81: =IF(C52=C20,"","*") -> * | D81: =IF(D52=D20,"","*") -> * | E81: =IF(E52=E20,"","*") -> * | F81: =IF(F52=F20,"","*") -> * | G81: =IF(G52=G20,"","*") -> * | H81: =IF(H52=H20,"","*") -> * | I81: =IF(I52=I20,"","*") -> * | J81: =IF(J52=J20,"","*") -> * | ... BJ81: =IF(BJ52=BJ20,"","*") -> *
... A92: 連江縣 | B92: Lienchiang County | C92: =IF(C63=C31,"","*") -> * | D92: =IF(D63=D31,"","*") -> * | E92: =IF(E63=E31,"","*") -> * | F92: =IF(F63=F31,"","*") -> * | G92: =IF(G63=G31,"","*") -> * | H92: =IF(H63=H31,"","*") | I92: =IF(I63=I31,"","*") -> * | J92: =IF(J63=J31,"","*") -> * | ... BJ92: =IF(BJ63=BJ31,"","*")

Sheet 2026,2
A1: 身心障礙者生活補助Living Assistance for the Disabled
A3: 115年2月Feb., 2026
A4: 區域別 Locality | C4: 總計 Total | G4: 福利身分別 By Identity | AQ4: 依年齡別分 By Age | BC4: 榮民(補差額) Veteran Serviceman (Difference) | BG4: 原住民 Indigenous
G5: 低收入戶 Low-income Households | S5: 中低收入戶 Middle-low-income Households | AE5: 最低生活費1.5倍以上未達2.5倍者Between 1.5 and 2.5 times of minimum of subsistence | AQ5: 未滿18歲 | AU5: 18歲-未滿65歲 | AY5: 65歲以上
G6: 合計Total | K6: 中度障礙以上 Moderate & Over | O6: 輕度障礙 Mild | S6: 合計Total | W6: 中度障礙以上 Moderate & Over | AA6: 輕度障礙 Mild | AE6: 合計Total | AI6: 中度障礙以上 Moderate & Over | AM6: 輕度障礙 Mild
C7: 人數 Person | F7: 金額 (千元) Amounts (NT$1,000) | G7: 人數 Person | J7: 金額 (千元) Amounts (NT$1,000) | K7: 人數 Person | N7: 金額 (千元) Amounts (NT$1,000) | O7: 人數 Person | R7: 金額 (千元) Amounts (NT$1,000) | S7: 人數 Person | V7: 金額 (千元) Amounts (NT$1,000) | W7: 人數 Person | Z7: 金額 (千元) Amounts (NT$1,000) | AA7: 人數 Person | AD7: 金額 (千元) Amounts (NT$1,000) | AE7: 人數 Person | AH7: 金額 (千元) Amounts (NT$1,000) | AI7: 人數 Person | AL7: 金額 (千元) Amounts (NT$1,000) | AM7: 人數 Person | AP7: 金額 (千元) Amounts (NT$1,000) | AQ7: 人數 Person | AT7: 金額 (千元) Amounts (NT$1,000) | AU7: 人數 Person | AX7: 金額 (千元) Amounts (NT$1,000) | AY7: 人數 Person | BB7: 金額 (千元) Amounts (NT$1,000) | BC7: 人數 Person | BF7: 金額 (千元) Amounts (NT$1,000) | BG7: 人數 Person | BJ7: 金額 (千元) Amounts (NT$1,000)
C8: 合計 Total | D8: 男 Male | E8: 女 Female | G8: 計 Subtotal | H8: 男 Male | I8: 女 Female | K8: 計 Subtotal | L8: 男 Male | M8: 女 Female | O8: 計 Subtotal | P8: 男 Male | Q8: 女 Female | S8: 計 Subtotal | T8: 男 Male | U8: 女 Female | W8: 計 Subtotal | X8: 男 Male | Y8: 女 Female | AA8: 計 Subtotal | AB8: 男 Male | AC8: 女 Female | AE8: 計 Subtotal | AF8: 男 Male | AG8: 女 Female | AI8: 計 Subtotal | AJ8: 男 Male | AK8: 女 Female | AM8: 計 Subtotal | AN8: 男 Male | AO8: 女 Female | AQ8: 合計 Subtotal | AR8: 男 Male | AS8: 女 Female | AU8: 合計 Subtotal | AV8: 男 Male | AW8: 女 Female | AY8: 合計 Subtotal | AZ8: 男 Male | BA8: 女 Female | BC8: 計 Subtotal | BD8: 男 Male | BE8: 女 Female | BG8: 計 Subtotal | BH8: 男 Male | BI8: 女 Female
A9: 總計 | B9: Total | C9: 313030 | D9: 188795 | E9: 124235 | F9: 1845104.5 | G9: 63612 | H9: 40943 | I9: 22669 | J9: 577321.06 | K9: 52454 | L9: 34227 | M9: 18227 | N9: 513492.76 | O9: 11158 | P9: 6716 | Q9: 4442 | R9: 63828.295 | S9: 17250 | T9: 10570 | U9: 6680 | V9: 87128.694 | W9: 9768 | X9: 5913 | Y9: 3855 | Z9: 55341.012 | AA9: 7482 | AB9: 4657 | AC9: 2825 | AD9: 31787.682 | AE9: 232168 | AF9: 137282 | AG9: 94886 | AH9: 1180654.7 | AI9: 143602 | AJ9: 83240 | AK9: 60362 | AL9: 808481.26 | AM9: 88566 | AN9: 54042 | AO9: 34524 | AP9: 372173.48 | AQ9: 24881 | AR9: 16528 | AS9: 8353 | AT9: 131362.42 | AU9: 231476 | AV9: 139775 | AW9: 91701 | AX9: 1364177.8 | AY9: 56673 | AZ9: 32492 | BA9: 24181 | BB9: 349564.24 | BC9: 1196 | BD9: 1094 | BE9: 102 | BF9: 7375.121 | BG9: 12246 | BH9: 7431 | BI9: 4815 | BJ9: 78864.288
A10: 新北市 | B10: New Taipei City | C10: 43788 | D10: 26316 | E10: 17472 | F10: 250324.19 | G10: 7098 | H10: 4458 | I10: 2640 | J10: 64173.811 | K10: 5524 | L10: 3504 | M10: 2020 | N10: 55065.455 | O10: 1574 | P10: 954 | Q10: 620 | R10: 9108.356 | S10: 1984 | T10: 1228 | U10: 756 | V10: 10002.273 | W10: 1101 | X10: 677 | Y10: 424 | Z10: 6267.588 | AA10: 883 | AB10: 551 | AC10: 332 | AD10: 3734.685 | AE10: 34706 | AF10: 20630 | AG10: 14076 | AH10: 176148.1 | AI10: 20727 | AJ10: 12115 | AK10: 8612 | AL10: 117150.22 | AM10: 13979 | AN10: 8515 | AO10: 5464 | AP10: 58997.88 | AQ10: 4291 | AR10: 2906 | AS10: 1385 | AT10: 21553.751 | AU10: 31796 | AV10: 18906 | AW10: 12890 | AX10: 182569.23 | AY10: 7701 | AZ10: 4504 | BA10: 3197 | BB10: 46201.204 | BC10: 188 | BD10: 146 | BE10: 42 | BF10: 1169.156 | BG10: 797 | BH10: 462 | BI10: 335 | BJ10: 4643.953
A11: 臺北市 | B11: Taipei City | C11: 13509 | D11: 7914 | E11: 5595 | F11: 95197.525 | G11: 6888 | H11: 4083 | I11: 2805 | J11: 61484.863 | K11: 5266 | L11: 3137 | M11: 2129 | N11: 52062.853 | O11: 1622 | P11: 946 | Q11: 676 | R11: 9422.01 | S11: 1291 | T11: 737 | U11: 554 | V11: 6517.679 | W11: 723 | X11: 420 | Y11: 303 | Z11: 4050.565 | AA11: 568 | AB11: 317 | AC11: 251 | AD11: 2467.114 | AE11: 5330 | AF11: 3094 | AG11: 2236 | AH11: 27194.983 | AI11: 3132 | AJ11: 1793 | AK11: 1339 | AL11: 17861.939 | AM11: 2198 | AN11: 1301 | AO11: 897 | AP11: 9333.044 | AQ11: 1132 | AR11: 771 | AS11: 361 | AT11: 6494.955 | AU11: 9604 | AV11: 5514 | AW11: 4090 | AX11: 66498.115 | AY11: 2773 | AZ11: 1629 | BA11: 1144 | BB11: 22204.455 | BC11: 96 | BD11: 96 | BE11: 0 | BF11: 683.293 | BG11: 211 | BH11: 114 | BI11: 97 | BJ11: 1437.743
A12: 桃園市 | B12: Taoyuan City | C12: 23787 | D12: 14161 | E12: 9626 | F12: 138919.31 | G12: 4836 | H12: 3016 | I12: 1820 | J12: 43126.476 | K12: 3768 | L12: 2376 | M12: 1392 | N12: 37087.53 | O12: 1068 | P12: 640 | Q12: 428 | R12: 6038.946 | S12: 1120 | T12: 645 | U12: 475 | V12: 5578.645 | W12: 643 | X12: 376 | Y12: 267 | Z12: 3560.912 | AA12: 477 | AB12: 269 | AC12: 208 | AD12: 2017.733 | AE12: 17831 | AF12: 10500 | AG12: 7331 | AH12: 90214.186 | AI12: 10792 | AJ12: 6219 | AK12: 4573 | AL12: 60499.497 | AM12: 7039 | AN12: 4281 | AO12: 2758 | AP12: 29714.689 | AQ12: 2661 | AR12: 1756 | AS12: 905 | AT12: 14250.184 | AU12: 17353 | AV12: 10239 | AW12: 7114 | AX12: 102278.79 | AY12: 3773 | AZ12: 2166 | BA12: 1607 | BB12: 22390.337 | BC12: 70 | BD12: 66 | BE12: 4 | BF12: 430.091 | BG12: 1131 | BH12: 675 | BI12: 456 | BJ12: 7166.453
A13: 臺中市 | B13: Taichung City | C13: 37974 | D13: 22597 | E13: 15377 | F13: 230910.53 | G13: 8706 | H13: 5482 | I13: 3224 | J13: 78356.53 | K13: 6923 | L13: 4401 | M13: 2522 | N13: 68108.174 | O13: 1783 | P13: 1081 | Q13: 702 | R13: 10248.356 | S13: 2512 | T13: 1507 | U13: 1005 | V13: 12826.655 | W13: 1508 | X13: 917 | Y13: 591 | Z13: 8539.395 | AA13: 1004 | AB13: 590 | AC13: 414 | AD13: 4287.26 | AE13: 26756 | AF13: 15608 | AG13: 11148 | AH13: 139727.35 | AI13: 16693 | AJ13: 9508 | AK13: 7185 | AL13: 96491.824 | AM13: 10063 | AN13: 6100 | AO13: 3963 | AP13: 43235.522 | AQ13: 3600 | AR13: 2404 | AS13: 1196 | AT13: 20041.207 | AU13: 27467 | AV13: 16294 | AW13: 11173 | AX13: 168129.02 | AY13: 6907 | AZ13: 3899 | BA13: 3008 | BB13: 42740.303 | BC13: 112 | BD13: 109 | BE13: 3 | BF13: 690.357 | BG13: 634 | BH13: 349 | BI13: 285 | BJ13: 4233.883
A14: 臺南市 | B14: Tainan City | C14: 28955 | D14: 17283 | E14: 11672 | F14: 161619.27 | G14: 4088 | H14: 2672 | I14: 1416 | J14: 36846.184 | K14: 3420 | L14: 2284 | M14: 1136 | N14: 33078.112 | O14: 668 | P14: 388 | Q14: 280 | R14: 3768.072 | S14: 804 | T14: 511 | U14: 293 | V14: 3986.658 | W14: 439 | X14: 270 | Y14: 169 | Z14: 2452.087 | AA14: 365 | AB14: 241 | AC14: 124 | AD14: 1534.571 | AE14: 24063 | AF14: 14100 | AG14: 9963 | AH14: 120786.42 | AI14: 14817 | AJ14: 8451 | AK14: 6366 | AL14: 82574.95 | AM14: 9246 | AN14: 5649 | AO14: 3597 | AP14: 38211.473 | AQ14: 2053 | AR14: 1334 | AS14: 719 | AT14: 10375.892 | AU14: 20892 | AV14: 12599 | AW14: 8293 | AX14: 116185.68 | AY14: 6010 | AZ14: 3350 | BA14: 2660 | BB14: 35057.69 | BC14: 94 | BD14: 94 | BE14: 0 | BF14: 647.091 | BG14: 121 | BH14: 59 | BI14: 62 | BJ14: 732.129
A15: 高雄市 | B15: Kaohsiung City | C15: 41996 | D15: 25082 | E15: 16914 | F15: 243023.1 | G15: 7461 | H15: 4773 | I15: 2688 | J15: 68192.048 | K15: 6524 | L15: 4237 | M15: 2287 | N15: 62894.447 | O15: 937 | P15: 536 | Q15: 401 | R15: 5297.601 | S15: 2762 | T15: 1670 | U15: 1092 | V15: 13772.901 | W15: 1555 | X15: 915 | Y15: 640 | Z15: 8780.981 | AA15: 1207 | AB15: 755 | AC15: 452 | AD15: 4991.92 | AE15: 31773 | AF15: 18639 | AG15: 13134 | AH15: 161058.15 | AI15: 20154 | AJ15: 11615 | AK15: 8539 | AL15: 112669.48 | AM15: 11619 | AN15: 7024 | AO15: 4595 | AP15: 48388.671 | AQ15: 2938 | AR15: 1941 | AS15: 997 | AT15: 14932.481 | AU15: 31718 | AV15: 19063 | AW15: 12655 | AX15: 182742.44 | AY15: 7340 | AZ15: 4078 | BA15: 3262 | BB15: 45348.183 | BC15: 268 | BD15: 264 | BE15: 4 | BF15: 1501.987 | BG15: 768 | BH15: 436 | BI15: 332 | BJ15: 4701.583
A16: 宜蘭縣 | B16: Yilan County | C16: 7486 | D16: 4420 | E16: 3066 | F16: 41664.918 | G16: 1447 | H16: 929 | I16: 518 | J16: 12290.952 | K16: 1150 | L16: 747 | M16: 403 | N16: 10746.383 | O16: 297 | P16: 182 | Q16: 115 | R16: 1544.569 | S16: 620 | T16: 370 | U16: 250 | V16: 2988.082 | W16: 350 | X16: 217 | Y16: 133 | Z16: 1898.901 | AA16: 270 | AB16: 153 | AC16: 117 | AD16: 1089.181 | AE16: 5419 | AF16: 3121 | AG16: 2298 | AH16: 26385.884 | AI16: 3262 | AJ16: 1830 | AK16: 1432 | AL16: 17670.988 | AM16: 2157 | AN16: 1291 | AO16: 866 | AP16: 8714.896 | AQ16: 473 | AR16: 302 | AS16: 171 | AT16: 2349.549 | AU16: 5767 | AV16: 3456 | AW16: 2311 | AX16: 31888.955 | AY16: 1246 | AZ16: 662 | BA16: 584 | BB16: 7426.414 | BC16: 14 | BD16: 13 | BE16: 1 | BF16: 84.098 | BG16: 576 | BH16: 350 | BI16: 226 | BJ16: 3386.367
A17: 新竹縣 | B17: Hsinchu County | C17: 4714 | D17: 2842 | E17: 1872 | F17: 27241.396 | G17: 870 | H17: 550 | I17: 320 | J17: 7908.227 | K17: 763 | L17: 486 | M17: 277 | N17: 7326.468 | O17: 107 | P17: 64 | Q17: 43 | R17: 581.759 | S17: 271 | T17: 164 | U17: 107 | V17: 1312.074 | W17: 144 | X17: 82 | Y17: 62 | Z17: 793.802 | AA17: 127 | AB17: 82 | AC17: 45 | AD17: 518.272 | AE17: 3573 | AF17: 2128 | AG17: 1445 | AH17: 18021.095 | AI17: 2323 | AJ17: 1349 | AK17: 974 | AL17: 12874.816 | AM17: 1250 | AN17: 779 | AO17: 471 | AP17: 5146.279 | AQ17: 438 | AR17: 284 | AS17: 154 | AT17: 2347.393 | AU17: 3577 | AV17: 2136 | AW17: 1441 | AX17: 20674.284 | AY17: 699 | AZ17: 422 | BA17: 277 | BB17: 4219.719 | BC17: 18 | BD17: 8 | BE17: 10 | BF17: 88.15 | BG17: 291 | BH17: 178 | BI17: 113 | BJ17: 1994.603
A18: 苗栗縣 | B18: Miaoli County | C18: 9162 | D18: 5611 | E18: 3551 | F18: 53739.721 | G18: 1565 | H18: 1070 | I18: 495 | J18: 14738.498 | K18: 1403 | L18: 972 | M18: 431 | N18: 13808.771 | O18: 162 | P18: 98 | Q18: 64 | R18: 929.727 | S18: 342 | T18: 205 | U18: 137 | V18: 1847.446 | W18: 217 | X18: 126 | Y18: 91 | Z18: 1304.88 | AA18: 125 | AB18: 79 | AC18: 46 | AD18: 542.566 | AE18: 7255 | AF18: 4336 | AG18: 2919 | AH18: 37153.777 | AI18: 4756 | AJ18: 2831 | AK18: 1925 | AL18: 26622.328 | AM18: 2499 | AN18: 1505 | AO18: 994 | AP18: 10531.449 | AQ18: 567 | AR18: 366 | AS18: 201 | AT18: 2941.564 | AU18: 6595 | AV18: 4097 | AW18: 2498 | AX18: 38792.79 | AY18: 2000 | AZ18: 1148 | BA18: 852 | BB18: 12005.367 | BC18: 14 | BD18: 14 | BE18: 0 | BF18: 117.987 | BG18: 263 | BH18: 151 | BI18: 112 | BJ18: 1624.465
A19: 彰化縣 | B19: Changhua County | C19: 20702 | D19: 12599 | E19: 8103 | F19: 124106.56 | G19: 4132 | H19: 2696 | I19: 1436 | J19: 38593.271 | K19: 3552 | L19: 2331 | M19: 1221 | N19: 35175.211 | O19: 580 | P19: 365 | Q19: 215 | R19: 3418.06 | S19: 533 | T19: 337 | U19: 196 | V19: 3061.678 | W19: 278 | X19: 183 | Y19: 95 | Z19: 1710.347 | AA19: 255 | AB19: 154 | AC19: 101 | AD19: 1351.331 | AE19: 16037 | AF19: 9566 | AG19: 6471 | AH19: 82451.615 | AI19: 10001 | AJ19: 5840 | AK19: 4161 | AL19: 56858.035 | AM19: 6036 | AN19: 3726 | AO19: 2310 | AP19: 25593.58 | AQ19: 1346 | AR19: 848 | AS19: 498 | AT19: 7460.62 | AU19: 15708 | AV19: 9654 | AW19: 6054 | AX19: 94639.289 | AY19: 3648 | AZ19: 2097 | BA19: 1551 | BB19: 22006.655 | BC19: 12 | BD19: 12 | BE19: 0 | BF19: 62.468 | BG19: 73 | BH19: 38 | BI19: 35 | BJ19: 488.043
A20: 南投縣 | B20: Nantou County | C20: 7960 | D20: 4953 | E20: 3007 | F20: 46361.789 | G20: 1230 | H20: 844 | I20: 386 | J20: 11350.507 | K20: 1064 | L20: 749 | M20: 315 | N20: 10375.895 | O20: 166 | P20: 95 | Q20: 71 | R20: 974.612 | S20: 675 | T20: 429 | U20: 246 | V20: 3413.679 | W20: 380 | X20: 245 | Y20: 135 | Z20: 2158.489 | AA20: 295 | AB20: 184 | AC20: 111 | AD20: 1255.19 | AE20: 6055 | AF20: 3680 | AG20: 2375 | AH20: 31597.603 | AI20: 3815 | AJ20: 2290 | AK20: 1525 | AL20: 22035.931 | AM20: 2240 | AN20: 1390 | AO20: 850 | AP20: 9561.672 | AQ20: 492 | AR20: 317 | AS20: 175 | AT20: 2584.805 | AU20: 6095 | AV20: 3823 | AW20: 2272 | AX20: 35299.266 | AY20: 1373 | AZ20: 813 | BA20: 560 | BB20: 8477.718 | BC20: 8 | BD20: 8 | BE20: 0 | BF20: 63.737 | BG20: 558 | BH20: 354 | BI20: 204 | BJ20: 3873.638
... A31: 連江縣 | B31: Lienchiang County | C31: 30 | D31: 22 | E31: 8 | F31: 184.39 | G31: 11 | H31: 9 | I31: 2 | J31: 92.191 | K31: 8 | L31: 6 | M31: 2 | N31: 75.88 | O31: 3 | P31: 3 | Q31: 0 | R31: 16.311 | S31: 5 | T31: 5 | U31: 0 | V31: 21.633 | W31: 1 | X31: 1 | Y31: 0 | Z31: 5.437 | AA31: 4 | AB31: 4 | AC31: 0 | AD31: 16.196 | AE31: 14 | AF31: 8 | AG31: 6 | AH31: 70.566 | AI31: 10 | AJ31: 5 | AK31: 5 | AL31: 54.37 | AM31: 4 | AN31: 3 | AO31: 1 | AP31: 16.196 | AQ31: 3 | AR31: 2 | AS31: 1 | AT31: 14.923 | AU31: 24 | AV31: 17 | AW31: 7 | AX31: 141.012 | AY31: 3 | AZ31: 3 | BA31: 0 | BB31: 28.455 | BC31: 0 | BD31: 0 | BE31: 0 | BF31: 0 | BG31: 2 | BH31: 1 | BI31: 1 | BJ31: 9.486
A32: 資料來源：直轄市、縣(市)政府。
A33: Source : County and City Government.
A34: 說明：本表自114年分「福利身分別」及「年齡別」兩類型統計，並皆含具榮民、原住民身分者，此外榮民、原住民另行獨立統計。
A35: 更新日期：2026/05/15
B36: Total | C36: 331553 | D36: 199951 | E36: 131602 | F36: 1913236.2 | K36: 52100 | L36: 34130 | M36: 17970 | N36: 506425.34 | O36: 11586 | P36: 7042 | Q36: 4544 | R36: 65420.441 | W36: 10659 | X36: 6406 | Y36: 4253 | Z36: 59840.876 | AA36: 8111 | AB36: 5034 | AC36: 3077 | AD36: 33985.705 | AI36: 153892 | AJ36: 88798 | AK36: 65094 | AL36: 852884.45 | AM36: 94240 | AN36: 57607 | AO36: 36633 | AP36: 389113.79 | AU36: 965 | AV36: 934 | AW36: 31 | AX36: 5565.569 | AY36: 12527 | AZ36: 7542 | BA36: 4985 | BB36: 78346.305
A37: 總計 | B37: New Taipei City | C37: 46854 | D37: 28131 | E37: 18723 | F37: 258494.79 | K37: 5472 | L37: 3516 | M37: 1956 | N37: 52547.836 | O37: 1633 | P37: 998 | Q37: 635 | R37: 9123.427 | W37: 1236 | X37: 733 | Y37: 503 | Z37: 6776.217 | AA37: 914 | AB37: 540 | AC37: 374 | AD37: 3725.577 | AI37: 22876 | AJ37: 13335 | AK37: 9541 | AL37: 125831.65 | AM37: 14719 | AN37: 9005 | AO37: 5714 | AP37: 60456.082 | AU37: 4 | AV37: 4 | AW37: 0 | AX37: 33.999 | AY37: 839 | AZ37: 469 | BA37: 370 | BB37: 4562.251
A38: 新北市 | B38: Taipei City | C38: 14149 | D38: 8334 | E38: 5815 | F38: 98592.489 | K38: 5398 | L38: 3249 | M38: 2149 | N38: 52950.709 | O38: 1828 | P38: 1074 | Q38: 754 | R38: 10437.428 | W38: 823 | X38: 458 | Y38: 365 | Z38: 4642.256 | AA38: 628 | AB38: 346 | AC38: 282 | AD38: 2635.258 | AI38: 3216 | AJ38: 1839 | AK38: 1377 | AL38: 18164.476 | AM38: 2206 | AN38: 1318 | AO38: 888 | AP38: 9306.152 | AU38: 50 | AV38: 50 | AW38: 0 | AX38: 456.21 | AY38: 231 | AZ38: 125 | BA38: 106 | BB38: 1533.753
A39: 臺北市 | B39: Taoyuan City | C39: 24274 | D39: 14497 | E39: 9777 | F39: 139982.48 | K39: 3706 | L39: 2345 | M39: 1361 | N39: 35804.749 | O39: 1053 | P39: 660 | Q39: 393 | R39: 5890.821 | W39: 709 | X39: 424 | Y39: 285 | Z39: 3936.043 | AA39: 512 | AB39: 308 | AC39: 204 | AD39: 2101.52 | AI39: 11204 | AJ39: 6426 | AK39: 4778 | AL39: 62568.556 | AM39: 7008 | AN39: 4254 | AO39: 2754 | AP39: 29204.114 | AU39: 82 | AV39: 80 | AW39: 2 | AX39: 476.678 | AY39: 1204 | AZ39: 711 | BA39: 493 | BB39: 7459.462
A40: 桃園市 | B40: Taichung City | C40: 39758 | D40: 23608 | E40: 16150 | F40: 233268.3 | K40: 6706 | L40: 4284 | M40: 2422 | N40: 65240.211 | O40: 1787 | P40: 1086 | Q40: 701 | R40: 10029.932 | W40: 1541 | X40: 900 | Y40: 641 | Z40: 8509.03 | AA40: 1090 | AB40: 655 | AC40: 435 | AD40: 4539.977 | AI40: 17667 | AJ40: 10015 | AK40: 7652 | AL40: 98997.718 | AM40: 10865 | AN40: 6568 | AO40: 4297 | AP40: 45396.057 | AU40: 102 | AV40: 100 | AW40: 2 | AX40: 555.377 | AY40: 557 | AZ40: 300 | BA40: 257 | BB40: 3623.312
A41: 臺中市 | B41: Tainan City | C41: 32658 | D41: 19301 | E41: 13357 | F41: 170957.68 | K41: 3652 | L41: 2405 | M41: 1247 | N41: 33251.897 | O41: 797 | P41: 483 | Q41: 314 | R41: 4290.615 | W41: 708 | X41: 442 | Y41: 266 | Z41: 3844.903 | AA41: 622 | AB41: 397 | AC41: 225 | AD41: 2542.243 | AI41: 16712 | AJ41: 9368 | AK41: 7344 | AL41: 87269.217 | AM41: 10087 | AN41: 6126 | AO41: 3961 | AP41: 39355.351 | AU41: 80 | AV41: 80 | AW41: 0 | AX41: 403.458 | AY41: 122 | AZ41: 62 | BA41: 60 | BB41: 706.809
A42: 臺南市 | B42: Kaohsiung City | C42: 44579 | D42: 26641 | E42: 17938 | F42: 255263.48 | K42: 6347 | L42: 4142 | M42: 2205 | N42: 61227.76 | O42: 871 | P42: 514 | Q42: 357 | R42: 4949.363 | W42: 1707 | X42: 1007 | Y42: 700 | Z42: 9686.104 | AA42: 1285 | AB42: 801 | AC42: 484 | AD42: 5451.897 | AI42: 21609 | AJ42: 12354 | AK42: 9255 | AL42: 120510.57 | AM42: 12464 | AN42: 7531 | AO42: 4933 | AP42: 51814.126 | AU42: 296 | AV42: 292 | AW42: 4 | AX42: 1623.663 | AY42: 854 | AZ42: 478 | BA42: 376 | BB42: 5129.515
A43: 高雄市 | B43: Yilan County | C43: 7586 | D43: 4530 | E43: 3056 | F43: 43408.827 | K43: 1089 | L43: 734 | M43: 355 | N43: 10661.532 | O43: 313 | P43: 177 | Q43: 136 | R43: 1730.215 | W43: 337 | X43: 200 | Y43: 137 | Z43: 1906.866 | AA43: 266 | AB43: 160 | AC43: 106 | AD43: 1120.272 | AI43: 3339 | AJ43: 1895 | AK43: 1444 | AL43: 18605.531 | AM43: 2223 | AN43: 1345 | AO43: 878 | AP43: 9283.684 | AU43: 19 | AV43: 19 | AW43: 0 | AX43: 100.727 | AY43: 475 | AZ43: 290 | BA43: 185 | BB43: 2978.785
A44: 宜蘭縣 | B44: Hsinchu County | C44: 4829 | D44: 2950 | E44: 1879 | F44: 28740.265 | K44: 772 | L44: 517 | M44: 255 | N44: 7420.47 | O44: 122 | P44: 80 | Q44: 42 | R44: 686.915 | W44: 147 | X44: 95 | Y44: 52 | Z44: 807.056 | AA44: 110 | AB44: 70 | AC44: 40 | AD44: 470.997 | AI44: 2416 | AJ44: 1395 | AK44: 1021 | AL44: 13943.712 | AM44: 1260 | AN44: 791 | AO44: 469 | AP44: 5400.207 | AU44: 2 | AV44: 2 | AW44: 0 | AX44: 10.908 | AY44: 282 | AZ44: 168 | BA44: 114 | BB44: 2020.322
A45: 新竹縣 | B45: Miaoli County | C45: 9689 | D45: 5907 | E45: 3782 | F45: 57779.594 | K45: 1422 | L45: 981 | M45: 441 | N45: 13835.375 | O45: 174 | P45: 102 | Q45: 72 | R45: 994.727 | W45: 247 | X45: 136 | Y45: 111 | Z45: 1413.654 | AA45: 176 | AB45: 115 | AC45: 61 | AD45: 732.882 | AI45: 5066 | AJ45: 2969 | AK45: 2097 | AL45: 29556.663 | AM45: 2601 | AN45: 1601 | AO45: 1000 | AP45: 11221.886 | AU45: 3 | AV45: 3 | AW45: 0 | AX45: 24.407 | AY45: 285 | AZ45: 164 | BA45: 121 | BB45: 1857.438
A46: 苗栗縣 | B46: Changhua County | C46: 22130 | D46: 13418 | E46: 8712 | F46: 129134.68 | K46: 3530 | L46: 2319 | M46: 1211 | N46: 34778.481 | O46: 586 | P46: 366 | Q46: 220 | R46: 3388.737 | W46: 201 | X46: 121 | Y46: 80 | Z46: 1231.075 | AA46: 143 | AB46: 83 | AC46: 60 | AD46: 621.464 | AI46: 10870 | AJ46: 6313 | AK46: 4557 | AL46: 60774.258 | AM46: 6782 | AN46: 4198 | AO46: 2584 | AP46: 28242.916 | AU46: 18 | AV46: 18 | AW46: 0 | AX46: 97.75 | AY46: 71 | AZ46: 35 | BA46: 36 | BB46: 443.557
A47: 彰化縣 | B47: Nantou County | C47: 8416 | D47: 5225 | E47: 3191 | F47: 48882.251 | K47: 1060 | L47: 753 | M47: 307 | N47: 10681.802 | O47: 171 | P47: 99 | Q47: 72 | R47: 994.645 | W47: 368 | X47: 230 | Y47: 138 | Z47: 2208.465 | AA47: 308 | AB47: 200 | AC47: 108 | AD47: 1359.224 | AI47: 4062 | AJ47: 2411 | AK47: 1651 | AL47: 23268.206 | AM47: 2445 | AN47: 1530 | AO47: 915 | AP47: 10354.94 | AU47: 2 | AV47: 2 | AW47: 0 | AX47: 14.969 | AY47: 562 | AZ47: 351 | BA47: 211 | BB47: 3629.353
A48: 南投縣 | B48: Yunlin County | C48: 14044 | D48: 8786 | E48: 5258 | F48: 83395.563 | K48: 2623 | L48: 1778 | M48: 845 | N48: 25638.993 | O48: 460 | P48: 284 | Q48: 176 | R48: 2587.615 | W48: 383 | X48: 258 | Y48: 125 | Z48: 2144.109 | AA48: 231 | AB48: 165 | AC48: 66 | AD48: 968.542 | AI48: 6304 | AJ48: 3776 | AK48: 2528 | AL48: 35168.084 | AM48: 4033 | AN48: 2515 | AO48: 1518 | AP48: 16831.95 | AU48: 10 | AV48: 10 | AW48: 0 | AX48: 56.27 | AY48: 39 | AZ48: 18 | BA48: 21 | BB48: 229.882
... A58: 金門縣 | B58: Lienchiang County | C58: 35 | D58: 27 | E58: 8 | F58: 201.975 | K58: 7 | L58: 7 | M58: 0 | N58: 66.395 | O58: 3 | P58: 3 | Q58: 0 | R58: 16.311 | W58: 0 | X58: 0 | Y58: 0 | Z58: 0 | AA58: 5 | AB58: 5 | AC58: 0 | AD58: 20.245 | AI58: 13 | AJ58: 7 | AK58: 6 | AL58: 70.681 | AM58: 7 | AN58: 5 | AO58: 2 | AP58: 28.343 | AU58: 0 | AV58: 0 | AW58: 0 | AX58: 0 | AY58: 2 | AZ58: 1 | BA58: 1 | BB58: 8.837
A59: 連江縣
B60: Total | C60: =IF(C36=C9,"","*") -> * | D60: =IF(D36=D9,"","*") -> * | E60: =IF(E36=E9,"","*") -> * | F60: =IF(F36=F9,"","*") -> * | K60: =IF(K36=K9,"","*") -> * | L60: =IF(L36=L9,"","*") -> * | M60: =IF(M36=M9,"","*") -> * | N60: =IF(N36=N9,"","*") -> * | O60: =IF(O36=O9,"","*") -> * | P60: =IF(P36=P9,"","*") -> * | Q60: =IF(Q36=Q9,"","*") -> * | R60: =IF(R36=R9,"","*") -> * | W60: =IF(W36=W9,"","*") -> * | X60: =IF(X36=X9,"","*") -> * | Y60: =IF(Y36=Y9,"","*") -> * | Z60: =IF(Z36=Z9,"","*") -> * | AA60: =IF(AA36=AA9,"","*") -> * | AB60: =IF(AB36=AB9,"","*") -> * | AC60: =IF(AC36=AC9,"","*") -> * | AD60: =IF(AD36=AD9,"","*") -> * | AI60: =IF(AI36=AI9,"","*") -> * | AJ60: =IF(AJ36=AJ9,"","*") -> * | AK60: =IF(AK36=AK9,"","*") -> * | AL60: =IF(AL36=AL9,"","*") -> * | AM60: =IF(AM36=AM9,"","*") -> * | AN60: =IF(AN36=AN9,"","*") -> * | AO60: =IF(AO36=AO9,"","*") -> * | AP60: =IF(AP36=AP9,"","*") -> * | AU60: =IF(AU36=BC9,"","*") -> * | AV60: =IF(AV36=BD9,"","*") -> * | AW60: =IF(AW36=BE9,"","*") -> * | AX60: =IF(AX36=BF9,"","*") -> * | AY60: =IF(AY36=BG9,"","*") -> * | AZ60: =IF(AZ36=BH9,"","*") -> * | BA60: =IF(BA36=BI9,"","*") -> * | BB60: =IF(BB36=BJ9,"","*") -> *
A61: 總計 | B61: New Taipei City | C61: =IF(C37=C10,"","*") -> * | D61: =IF(D37=D10,"","*") -> * | E61: =IF(E37=E10,"","*") -> * | F61: =IF(F37=F10,"","*") -> * | K61: =IF(K37=K10,"","*") -> * | L61: =IF(L37=L10,"","*") -> * | M61: =IF(M37=M10,"","*") -> * | N61: =IF(N37=N10,"","*") -> * | O61: =IF(O37=O10,"","*") -> * | P61: =IF(P37=P10,"","*") -> * | Q61: =IF(Q37=Q10,"","*") -> * | R61: =IF(R37=R10,"","*") -> * | W61: =IF(W37=W10,"","*") -> * | X61: =IF(X37=X10,"","*") -> * | Y61: =IF(Y37=Y10,"","*") -> * | Z61: =IF(Z37=Z10,"","*") -> * | AA61: =IF(AA37=AA10,"","*") -> * | AB61: =IF(AB37=AB10,"","*") -> * | AC61: =IF(AC37=AC10,"","*") -> * | AD61: =IF(AD37=AD10,"","*") -> * | AI61: =IF(AI37=AI10,"","*") -> * | AJ61: =IF(AJ37=AJ10,"","*") -> * | AK61: =IF(AK37=AK10,"","*") -> * | AL61: =IF(AL37=AL10,"","*") -> * | AM61: =IF(AM37=AM10,"","*") -> * | AN61: =IF(AN37=AN10,"","*") -> * | AO61: =IF(AO37=AO10,"","*") -> * | AP61: =IF(AP37=AP10,"","*") -> * | AU61: =IF(AU37=BC10,"","*") -> * | AV61: =IF(AV37=BD10,"","*") -> * | AW61: =IF(AW37=BE10,"","*") -> * | AX61: =IF(AX37=BF10,"","*") -> * | AY61: =IF(AY37=BG10,"","*") -> * | AZ61: =IF(AZ37=BH10,"","*") -> * | BA61: =IF(BA37=BI10,"","*") -> * | BB61: =IF(BB37=BJ10,"","*") -> *
A62: 新北市 | B62: Taipei City | C62: =IF(C38=C11,"","*") -> * | D62: =IF(D38=D11,"","*") -> * | E62: =IF(E38=E11,"","*") -> * | F62: =IF(F38=F11,"","*") -> * | K62: =IF(K38=K11,"","*") -> * | L62: =IF(L38=L11,"","*") -> * | M62: =IF(M38=M11,"","*") -> * | N62: =IF(N38=N11,"","*") -> * | O62: =IF(O38=O11,"","*") -> * | P62: =IF(P38=P11,"","*") -> * | Q62: =IF(Q38=Q11,"","*") -> * | R62: =IF(R38=R11,"","*") -> * | W62: =IF(W38=W11,"","*") -> * | X62: =IF(X38=X11,"","*") -> * | Y62: =IF(Y38=Y11,"","*") -> * | Z62: =IF(Z38=Z11,"","*") -> * | AA62: =IF(AA38=AA11,"","*") -> * | AB62: =IF(AB38=AB11,"","*") -> * | AC62: =IF(AC38=AC11,"","*") -> * | AD62: =IF(AD38=AD11,"","*") -> * | AI62: =IF(AI38=AI11,"","*") -> * | AJ62: =IF(AJ38=AJ11,"","*") -> * | AK62: =IF(AK38=AK11,"","*") -> * | AL62: =IF(AL38=AL11,"","*") -> * | AM62: =IF(AM38=AM11,"","*") -> * | AN62: =IF(AN38=AN11,"","*") -> * | AO62: =IF(AO38=AO11,"","*") -> * | AP62: =IF(AP38=AP11,"","*") -> * | AU62: =IF(AU38=BC11,"","*") -> * | AV62: =IF(AV38=BD11,"","*") -> * | AW62: =IF(AW38=BE11,"","*") | AX62: =IF(AX38=BF11,"","*") -> * | AY62: =IF(AY38=BG11,"","*") -> * | AZ62: =IF(AZ38=BH11,"","*") -> * | BA62: =IF(BA38=BI11,"","*") -> * | BB62: =IF(BB38=BJ11,"","*") -> *
A63: 臺北市 | B63: Taoyuan City | C63: =IF(C39=C12,"","*") -> * | D63: =IF(D39=D12,"","*") -> * | E63: =IF(E39=E12,"","*") -> * | F63: =IF(F39=F12,"","*") -> * | K63: =IF(K39=K12,"","*") -> * | L63: =IF(L39=L12,"","*") -> * | M63: =IF(M39=M12,"","*") -> * | N63: =IF(N39=N12,"","*") -> * | O63: =IF(O39=O12,"","*") -> * | P63: =IF(P39=P12,"","*") -> * | Q63: =IF(Q39=Q12,"","*") -> * | R63: =IF(R39=R12,"","*") -> * | W63: =IF(W39=W12,"","*") -> * | X63: =IF(X39=X12,"","*") -> * | Y63: =IF(Y39=Y12,"","*") -> * | Z63: =IF(Z39=Z12,"","*") -> * | AA63: =IF(AA39=AA12,"","*") -> * | AB63: =IF(AB39=AB12,"","*") -> * | AC63: =IF(AC39=AC12,"","*") -> * | AD63: =IF(AD39=AD12,"","*") -> * | AI63: =IF(AI39=AI12,"","*") -> * | AJ63: =IF(AJ39=AJ12,"","*") -> * | AK63: =IF(AK39=AK12,"","*") -> * | AL63: =IF(AL39=AL12,"","*") -> * | AM63: =IF(AM39=AM12,"","*") -> * | AN63: =IF(AN39=AN12,"","*") -> * | AO63: =IF(AO39=AO12,"","*") -> * | AP63: =IF(AP39=AP12,"","*") -> * | AU63: =IF(AU39=BC12,"","*") -> * | AV63: =IF(AV39=BD12,"","*") -> * | AW63: =IF(AW39=BE12,"","*") -> * | AX63: =IF(AX39=BF12,"","*") -> * | AY63: =IF(AY39=BG12,"","*") -> * | AZ63: =IF(AZ39=BH12,"","*") -> * | BA63: =IF(BA39=BI12,"","*") -> * | BB63: =IF(BB39=BJ12,"","*") -> *
A64: 桃園市 | B64: Taichung City | C64: =IF(C40=C13,"","*") -> * | D64: =IF(D40=D13,"","*") -> * | E64: =IF(E40=E13,"","*") -> * | F64: =IF(F40=F13,"","*") -> * | K64: =IF(K40=K13,"","*") -> * | L64: =IF(L40=L13,"","*") -> * | M64: =IF(M40=M13,"","*") -> * | N64: =IF(N40=N13,"","*") -> * | O64: =IF(O40=O13,"","*") -> * | P64: =IF(P40=P13,"","*") -> * | Q64: =IF(Q40=Q13,"","*") -> * | R64: =IF(R40=R13,"","*") -> * | W64: =IF(W40=W13,"","*") -> * | X64: =IF(X40=X13,"","*") -> * | Y64: =IF(Y40=Y13,"","*") -> * | Z64: =IF(Z40=Z13,"","*") -> * | AA64: =IF(AA40=AA13,"","*") -> * | AB64: =IF(AB40=AB13,"","*") -> * | AC64: =IF(AC40=AC13,"","*") -> * | AD64: =IF(AD40=AD13,"","*") -> * | AI64: =IF(AI40=AI13,"","*") -> * | AJ64: =IF(AJ40=AJ13,"","*") -> * | AK64: =IF(AK40=AK13,"","*") -> * | AL64: =IF(AL40=AL13,"","*") -> * | AM64: =IF(AM40=AM13,"","*") -> * | AN64: =IF(AN40=AN13,"","*") -> * | AO64: =IF(AO40=AO13,"","*") -> * | AP64: =IF(AP40=AP13,"","*") -> * | AU64: =IF(AU40=BC13,"","*") -> * | AV64: =IF(AV40=BD13,"","*") -> * | AW64: =IF(AW40=BE13,"","*") -> * | AX64: =IF(AX40=BF13,"","*") -> * | AY64: =IF(AY40=BG13,"","*") -> * | AZ64: =IF(AZ40=BH13,"","*") -> * | BA64: =IF(BA40=BI13,"","*") -> * | BB64: =IF(BB40=BJ13,"","*") -> *
A65: 臺中市 | B65: Tainan City | C65: =IF(C41=C14,"","*") -> * | D65: =IF(D41=D14,"","*") -> * | E65: =IF(E41=E14,"","*") -> * | F65: =IF(F41=F14,"","*") -> * | K65: =IF(K41=K14,"","*") -> * | L65: =IF(L41=L14,"","*") -> * | M65: =IF(M41=M14,"","*") -> * | N65: =IF(N41=N14,"","*") -> * | O65: =IF(O41=O14,"","*") -> * | P65: =IF(P41=P14,"","*") -> * | Q65: =IF(Q41=Q14,"","*") -> * | R65: =IF(R41=R14,"","*") -> * | W65: =IF(W41=W14,"","*") -> * | X65: =IF(X41=X14,"","*") -> * | Y65: =IF(Y41=Y14,"","*") -> * | Z65: =IF(Z41=Z14,"","*") -> * | AA65: =IF(AA41=AA14,"","*") -> * | AB65: =IF(AB41=AB14,"","*") -> * | AC65: =IF(AC41=AC14,"","*") -> * | AD65: =IF(AD41=AD14,"","*") -> * | AI65: =IF(AI41=AI14,"","*") -> * | AJ65: =IF(AJ41=AJ14,"","*") -> * | AK65: =IF(AK41=AK14,"","*") -> * | AL65: =IF(AL41=AL14,"","*") -> * | AM65: =IF(AM41=AM14,"","*") -> * | AN65: =IF(AN41=AN14,"","*") -> * | AO65: =IF(AO41=AO14,"","*") -> * | AP65: =IF(AP41=AP14,"","*") -> * | AU65: =IF(AU41=BC14,"","*") -> * | AV65: =IF(AV41=BD14,"","*") -> * | AW65: =IF(AW41=BE14,"","*") | AX65: =IF(AX41=BF14,"","*") -> * | AY65: =IF(AY41=BG14,"","*") -> * | AZ65: =IF(AZ41=BH14,"","*") -> * | BA65: =IF(BA41=BI14,"","*") -> * | BB65: =IF(BB41=BJ14,"","*") -> *
A66: 臺南市 | B66: Kaohsiung City | C66: =IF(C42=C15,"","*") -> * | D66: =IF(D42=D15,"","*") -> * | E66: =IF(E42=E15,"","*") -> * | F66: =IF(F42=F15,"","*") -> * | K66: =IF(K42=K15,"","*") -> * | L66: =IF(L42=L15,"","*") -> * | M66: =IF(M42=M15,"","*") -> * | N66: =IF(N42=N15,"","*") -> * | O66: =IF(O42=O15,"","*") -> * | P66: =IF(P42=P15,"","*") -> * | Q66: =IF(Q42=Q15,"","*") -> * | R66: =IF(R42=R15,"","*") -> * | W66: =IF(W42=W15,"","*") -> * | X66: =IF(X42=X15,"","*") -> * | Y66: =IF(Y42=Y15,"","*") -> * | Z66: =IF(Z42=Z15,"","*") -> * | AA66: =IF(AA42=AA15,"","*") -> * | AB66: =IF(AB42=AB15,"","*") -> * | AC66: =IF(AC42=AC15,"","*") -> * | AD66: =IF(AD42=AD15,"","*") -> * | AI66: =IF(AI42=AI15,"","*") -> * | AJ66: =IF(AJ42=AJ15,"","*") -> * | AK66: =IF(AK42=AK15,"","*") -> * | AL66: =IF(AL42=AL15,"","*") -> * | AM66: =IF(AM42=AM15,"","*") -> * | AN66: =IF(AN42=AN15,"","*") -> * | AO66: =IF(AO42=AO15,"","*") -> * | AP66: =IF(AP42=AP15,"","*") -> * | AU66: =IF(AU42=BC15,"","*") -> * | AV66: =IF(AV42=BD15,"","*") -> * | AW66: =IF(AW42=BE15,"","*") | AX66: =IF(AX42=BF15,"","*") -> * | AY66: =IF(AY42=BG15,"","*") -> * | AZ66: =IF(AZ42=BH15,"","*") -> * | BA66: =IF(BA42=BI15,"","*") -> * | BB66: =IF(BB42=BJ15,"","*") -> *
A67: 高雄市 | B67: Yilan County | C67: =IF(C43=C16,"","*") -> * | D67: =IF(D43=D16,"","*") -> * | E67: =IF(E43=E16,"","*") -> * | F67: =IF(F43=F16,"","*") -> * | K67: =IF(K43=K16,"","*") -> * | L67: =IF(L43=L16,"","*") -> * | M67: =IF(M43=M16,"","*") -> * | N67: =IF(N43=N16,"","*") -> * | O67: =IF(O43=O16,"","*") -> * | P67: =IF(P43=P16,"","*") -> * | Q67: =IF(Q43=Q16,"","*") -> * | R67: =IF(R43=R16,"","*") -> * | W67: =IF(W43=W16,"","*") -> * | X67: =IF(X43=X16,"","*") -> * | Y67: =IF(Y43=Y16,"","*") -> * | Z67: =IF(Z43=Z16,"","*") -> * | AA67: =IF(AA43=AA16,"","*") -> * | AB67: =IF(AB43=AB16,"","*") -> * | AC67: =IF(AC43=AC16,"","*") -> * | AD67: =IF(AD43=AD16,"","*") -> * | AI67: =IF(AI43=AI16,"","*") -> * | AJ67: =IF(AJ43=AJ16,"","*") -> * | AK67: =IF(AK43=AK16,"","*") -> * | AL67: =IF(AL43=AL16,"","*") -> * | AM67: =IF(AM43=AM16,"","*") -> * | AN67: =IF(AN43=AN16,"","*") -> * | AO67: =IF(AO43=AO16,"","*") -> * | AP67: =IF(AP43=AP16,"","*") -> * | AU67: =IF(AU43=BC16,"","*") -> * | AV67: =IF(AV43=BD16,"","*") -> * | AW67: =IF(AW43=BE16,"","*") -> * | AX67: =IF(AX43=BF16,"","*") -> * | AY67: =IF(AY43=BG16,"","*") -> * | AZ67: =IF(AZ43=BH16,"","*") -> * | BA67: =IF(BA43=BI16,"","*") -> * | BB67: =IF(BB43=BJ16,"","*") -> *
A68: 宜蘭縣 | B68: Hsinchu County | C68: =IF(C44=C17,"","*") -> * | D68: =IF(D44=D17,"","*") -> * | E68: =IF(E44=E17,"","*") -> * | F68: =IF(F44=F17,"","*") -> * | K68: =IF(K44=K17,"","*") -> * | L68: =IF(L44=L17,"","*") -> * | M68: =IF(M44=M17,"","*") -> * | N68: =IF(N44=N17,"","*") -> * | O68: =IF(O44=O17,"","*") -> * | P68: =IF(P44=P17,"","*") -> * | Q68: =IF(Q44=Q17,"","*") -> * | R68: =IF(R44=R17,"","*") -> * | W68: =IF(W44=W17,"","*") -> * | X68: =IF(X44=X17,"","*") -> * | Y68: =IF(Y44=Y17,"","*") -> * | Z68: =IF(Z44=Z17,"","*") -> * | AA68: =IF(AA44=AA17,"","*") -> * | AB68: =IF(AB44=AB17,"","*") -> * | AC68: =IF(AC44=AC17,"","*") -> * | AD68: =IF(AD44=AD17,"","*") -> * | AI68: =IF(AI44=AI17,"","*") -> * | AJ68: =IF(AJ44=AJ17,"","*") -> * | AK68: =IF(AK44=AK17,"","*") -> * | AL68: =IF(AL44=AL17,"","*") -> * | AM68: =IF(AM44=AM17,"","*") -> * | AN68: =IF(AN44=AN17,"","*") -> * | AO68: =IF(AO44=AO17,"","*") -> * | AP68: =IF(AP44=AP17,"","*") -> * | AU68: =IF(AU44=BC17,"","*") -> * | AV68: =IF(AV44=BD17,"","*") -> * | AW68: =IF(AW44=BE17,"","*") -> * | AX68: =IF(AX44=BF17,"","*") -> * | AY68: =IF(AY44=BG17,"","*") -> * | AZ68: =IF(AZ44=BH17,"","*") -> * | BA68: =IF(BA44=BI17,"","*") -> * | BB68: =IF(BB44=BJ17,"","*") -> *
A69: 新竹縣 | B69: Miaoli County | C69: =IF(C45=C18,"","*") -> * | D69: =IF(D45=D18,"","*") -> * | E69: =IF(E45=E18,"","*") -> * | F69: =IF(F45=F18,"","*") -> * | K69: =IF(K45=K18,"","*") -> * | L69: =IF(L45=L18,"","*") -> * | M69: =IF(M45=M18,"","*") -> * | N69: =IF(N45=N18,"","*") -> * | O69: =IF(O45=O18,"","*") -> * | P69: =IF(P45=P18,"","*") -> * | Q69: =IF(Q45=Q18,"","*") -> * | R69: =IF(R45=R18,"","*") -> * | W69: =IF(W45=W18,"","*") -> * | X69: =IF(X45=X18,"","*") -> * | Y69: =IF(Y45=Y18,"","*") -> * | Z69: =IF(Z45=Z18,"","*") -> * | AA69: =IF(AA45=AA18,"","*") -> * | AB69: =IF(AB45=AB18,"","*") -> * | AC69: =IF(AC45=AC18,"","*") -> * | AD69: =IF(AD45=AD18,"","*") -> * | AI69: =IF(AI45=AI18,"","*") -> * | AJ69: =IF(AJ45=AJ18,"","*") -> * | AK69: =IF(AK45=AK18,"","*") -> * | AL69: =IF(AL45=AL18,"","*") -> * | AM69: =IF(AM45=AM18,"","*") -> * | AN69: =IF(AN45=AN18,"","*") -> * | AO69: =IF(AO45=AO18,"","*") -> * | AP69: =IF(AP45=AP18,"","*") -> * | AU69: =IF(AU45=BC18,"","*") -> * | AV69: =IF(AV45=BD18,"","*") -> * | AW69: =IF(AW45=BE18,"","*") | AX69: =IF(AX45=BF18,"","*") -> * | AY69: =IF(AY45=BG18,"","*") -> * | AZ69: =IF(AZ45=BH18,"","*") -> * | BA69: =IF(BA45=BI18,"","*") -> * | BB69: =IF(BB45=BJ18,"","*") -> *
A70: 苗栗縣 | B70: Changhua County | C70: =IF(C46=C19,"","*") -> * | D70: =IF(D46=D19,"","*") -> * | E70: =IF(E46=E19,"","*") -> * | F70: =IF(F46=F19,"","*") -> * | K70: =IF(K46=K19,"","*") -> * | L70: =IF(L46=L19,"","*") -> * | M70: =IF(M46=M19,"","*") -> * | N70: =IF(N46=N19,"","*") -> * | O70: =IF(O46=O19,"","*") -> * | P70: =IF(P46=P19,"","*") -> * | Q70: =IF(Q46=Q19,"","*") -> * | R70: =IF(R46=R19,"","*") -> * | W70: =IF(W46=W19,"","*") -> * | X70: =IF(X46=X19,"","*") -> * | Y70: =IF(Y46=Y19,"","*") -> * | Z70: =IF(Z46=Z19,"","*") -> * | AA70: =IF(AA46=AA19,"","*") -> * | AB70: =IF(AB46=AB19,"","*") -> * | AC70: =IF(AC46=AC19,"","*") -> * | AD70: =IF(AD46=AD19,"","*") -> * | AI70: =IF(AI46=AI19,"","*") -> * | AJ70: =IF(AJ46=AJ19,"","*") -> * | AK70: =IF(AK46=AK19,"","*") -> * | AL70: =IF(AL46=AL19,"","*") -> * | AM70: =IF(AM46=AM19,"","*") -> * | AN70: =IF(AN46=AN19,"","*") -> * | AO70: =IF(AO46=AO19,"","*") -> * | AP70: =IF(AP46=AP19,"","*") -> * | AU70: =IF(AU46=BC19,"","*") -> * | AV70: =IF(AV46=BD19,"","*") -> * | AW70: =IF(AW46=BE19,"","*") | AX70: =IF(AX46=BF19,"","*") -> * | AY70: =IF(AY46=BG19,"","*") -> * | AZ70: =IF(AZ46=BH19,"","*") -> * | BA70: =IF(BA46=BI19,"","*") -> * | BB70: =IF(BB46=BJ19,"","*") -> *
A71: 彰化縣 | B71: Nantou County | C71: =IF(C47=C20,"","*") -> * | D71: =IF(D47=D20,"","*") -> * | E71: =IF(E47=E20,"","*") -> * | F71: =IF(F47=F20,"","*") -> * | K71: =IF(K47=K20,"","*") -> * | L71: =IF(L47=L20,"","*") -> * | M71: =IF(M47=M20,"","*") -> * | N71: =IF(N47=N20,"","*") -> * | O71: =IF(O47=O20,"","*") -> * | P71: =IF(P47=P20,"","*") -> * | Q71: =IF(Q47=Q20,"","*") -> * | R71: =IF(R47=R20,"","*") -> * | W71: =IF(W47=W20,"","*") -> * | X71: =IF(X47=X20,"","*") -> * | Y71: =IF(Y47=Y20,"","*") -> * | Z71: =IF(Z47=Z20,"","*") -> * | AA71: =IF(AA47=AA20,"","*") -> * | AB71: =IF(AB47=AB20,"","*") -> * | AC71: =IF(AC47=AC20,"","*") -> * | AD71: =IF(AD47=AD20,"","*") -> * | AI71: =IF(AI47=AI20,"","*") -> * | AJ71: =IF(AJ47=AJ20,"","*") -> * | AK71: =IF(AK47=AK20,"","*") -> * | AL71: =IF(AL47=AL20,"","*") -> * | AM71: =IF(AM47=AM20,"","*") -> * | AN71: =IF(AN47=AN20,"","*") -> * | AO71: =IF(AO47=AO20,"","*") -> * | AP71: =IF(AP47=AP20,"","*") -> * | AU71: =IF(AU47=BC20,"","*") -> * | AV71: =IF(AV47=BD20,"","*") -> * | AW71: =IF(AW47=BE20,"","*") | AX71: =IF(AX47=BF20,"","*") -> * | AY71: =IF(AY47=BG20,"","*") -> * | AZ71: =IF(AZ47=BH20,"","*") -> * | BA71: =IF(BA47=BI20,"","*") -> * | BB71: =IF(BB47=BJ20,"","*") -> *
A72: 南投縣 | B72: Yunlin County | C72: =IF(C48=C21,"","*") -> * | D72: =IF(D48=D21,"","*") -> * | E72: =IF(E48=E21,"","*") -> * | F72: =IF(F48=F21,"","*") -> * | K72: =IF(K48=K21,"","*") -> * | L72: =IF(L48=L21,"","*") -> * | M72: =IF(M48=M21,"","*") -> * | N72: =IF(N48=N21,"","*") -> * | O72: =IF(O48=O21,"","*") -> * | P72: =IF(P48=P21,"","*") -> * | Q72: =IF(Q48=Q21,"","*") -> * | R72: =IF(R48=R21,"","*") -> * | W72: =IF(W48=W21,"","*") -> * | X72: =IF(X48=X21,"","*") -> * | Y72: =IF(Y48=Y21,"","*") -> * | Z72: =IF(Z48=Z21,"","*") -> * | AA72: =IF(AA48=AA21,"","*") -> * | AB72: =IF(AB48=AB21,"","*") -> * | AC72: =IF(AC48=AC21,"","*") -> * | AD72: =IF(AD48=AD21,"","*") -> * | AI72: =IF(AI48=AI21,"","*") -> * | AJ72: =IF(AJ48=AJ21,"","*") -> * | AK72: =IF(AK48=AK21,"","*") -> * | AL72: =IF(AL48=AL21,"","*") -> * | AM72: =IF(AM48=AM21,"","*") -> * | AN72: =IF(AN48=AN21,"","*") -> * | AO72: =IF(AO48=AO21,"","*") -> * | AP72: =IF(AP48=AP21,"","*") -> * | AU72: =IF(AU48=BC21,"","*") -> * | AV72: =IF(AV48=BD21,"","*") -> * | AW72: =IF(AW48=BE21,"","*") -> * | AX72: =IF(AX48=BF21,"","*") -> * | AY72: =IF(AY48=BG21,"","*") -> * | AZ72: =IF(AZ48=BH21,"","*") -> * | BA72: =IF(BA48=BI21,"","*") -> * | BB72: =IF(BB48=BJ21,"","*") -> *
... A82: 金門縣 | B82: Lienchiang County | C82: =IF(C58=C31,"","*") -> * | D82: =IF(D58=D31,"","*") -> * | E82: =IF(E58=E31,"","*") | F82: =IF(F58=F31,"","*") -> * | K82: =IF(K58=K31,"","*") -> * | L82: =IF(L58=L31,"","*") -> * | M82: =IF(M58=M31,"","*") -> * | N82: =IF(N58=N31,"","*") -> * | O82: =IF(O58=O31,"","*") | P82: =IF(P58=P31,"","*") | Q82: =IF(Q58=Q31,"","*") | R82: =IF(R58=R31,"","*") | W82: =IF(W58=W31,"","*") -> * | X82: =IF(X58=X31,"","*") -> * | Y82: =IF(Y58=Y31,"","*") | Z82: =IF(Z58=Z31,"","*") -> * | AA82: =IF(AA58=AA31,"","*") -> * | AB82: =IF(AB58=AB31,"","*") -> * | AC82: =IF(AC58=AC31,"","*") | AD82: =IF(AD58=AD31,"","*") -> * | AI82: =IF(AI58=AI31,"","*") -> * | AJ82: =IF(AJ58=AJ31,"","*") -> * | AK82: =IF(AK58=AK31,"","*") -> * | AL82: =IF(AL58=AL31,"","*") -> * | AM82: =IF(AM58=AM31,"","*") -> * | AN82: =IF(AN58=AN31,"","*") -> * | AO82: =IF(AO58=AO31,"","*") -> * | AP82: =IF(AP58=AP31,"","*") -> * | AU82: =IF(AU58=BC31,"","*") | AV82: =IF(AV58=BD31,"","*") | AW82: =IF(AW58=BE31,"","*") | AX82: =IF(AX58=BF31,"","*") | AY82: =IF(AY58=BG31,"","*") | AZ82: =IF(AZ58=BH31,"","*") | BA82: =IF(BA58=BI31,"","*") | BB82: =IF(BB58=BJ31,"","*") -> *
A83: 連江縣

Sheet 2026,1
A1: 身心障礙者生活補助Living Assistance for the Disabled
A3: 115年1月Jan., 2026
A4: 區域別 Locality | C4: 總計 Total | G4: 福利身分別 By Identity | AQ4: 依年齡別分 By Age | BC4: 榮民(補差額) Veteran Serviceman (Difference) | BG4: 原住民 Indigenous
G5: 低收入戶 Low-income Households | S5: 中低收入戶 Middle-low-income Households | AE5: 最低生活費1.5倍以上未達2.5倍者Between 1.5 and 2.5 times of minimum of subsistence | AQ5: 未滿18歲 | AU5: 18歲-未滿65歲 | AY5: 65歲以上
G6: 合計Total | K6: 中度障礙以上 Moderate & Over | O6: 輕度障礙 Mild | S6: 合計Total | W6: 中度障礙以上 Moderate & Over | AA6: 輕度障礙 Mild | AE6: 合計Total | AI6: 中度障礙以上 Moderate & Over | AM6: 輕度障礙 Mild
C7: 人數 Person | F7: 金額 (千元) Amounts (NT$1,000) | G7: 人數 Person | J7: 金額 (千元) Amounts (NT$1,000) | K7: 人數 Person | N7: 金額 (千元) Amounts (NT$1,000) | O7: 人數 Person | R7: 金額 (千元) Amounts (NT$1,000) | S7: 人數 Person | V7: 金額 (千元) Amounts (NT$1,000) | W7: 人數 Person | Z7: 金額 (千元) Amounts (NT$1,000) | AA7: 人數 Person | AD7: 金額 (千元) Amounts (NT$1,000) | AE7: 人數 Person | AH7: 金額 (千元) Amounts (NT$1,000) | AI7: 人數 Person | AL7: 金額 (千元) Amounts (NT$1,000) | AM7: 人數 Person | AP7: 金額 (千元) Amounts (NT$1,000) | AQ7: 人數 Person | AT7: 金額 (千元) Amounts (NT$1,000) | AU7: 人數 Person | AX7: 金額 (千元) Amounts (NT$1,000) | AY7: 人數 Person | BB7: 金額 (千元) Amounts (NT$1,000) | BC7: 人數 Person | BF7: 金額 (千元) Amounts (NT$1,000) | BG7: 人數 Person | BJ7: 金額 (千元) Amounts (NT$1,000)
C8: 合計 Total | D8: 男 Male | E8: 女 Female | G8: 計 Subtotal | H8: 男 Male | I8: 女 Female | K8: 計 Subtotal | L8: 男 Male | M8: 女 Female | O8: 計 Subtotal | P8: 男 Male | Q8: 女 Female | S8: 計 Subtotal | T8: 男 Male | U8: 女 Female | W8: 計 Subtotal | X8: 男 Male | Y8: 女 Female | AA8: 計 Subtotal | AB8: 男 Male | AC8: 女 Female | AE8: 計 Subtotal | AF8: 男 Male | AG8: 女 Female | AI8: 計 Subtotal | AJ8: 男 Male | AK8: 女 Female | AM8: 計 Subtotal | AN8: 男 Male | AO8: 女 Female | AQ8: 合計 Subtotal | AR8: 男 Male | AS8: 女 Female | AU8: 合計 Subtotal | AV8: 男 Male | AW8: 女 Female | AY8: 合計 Subtotal | AZ8: 男 Male | BA8: 女 Female | BC8: 計 Subtotal | BD8: 男 Male | BE8: 女 Female | BG8: 計 Subtotal | BH8: 男 Male | BI8: 女 Female
A9: 總計 | B9: Total | C9: 306983 | D9: 185308 | E9: 121675 | F9: 1787358.5 | G9: 61862 | H9: 39922 | I9: 21940 | J9: 554034.81 | K9: 51178 | L9: 33480 | M9: 17698 | N9: 493800.02 | O9: 10684 | P9: 6442 | Q9: 4242 | R9: 60234.789 | S9: 17233 | T9: 10550 | U9: 6683 | V9: 85537.965 | W9: 9800 | X9: 5906 | Y9: 3894 | Z9: 54547.557 | AA9: 7433 | AB9: 4644 | AC9: 2789 | AD9: 30990.408 | AE9: 227888 | AF9: 134836 | AG9: 93052 | AH9: 1147785.7 | AI9: 140815 | AJ9: 81678 | AK9: 59137 | AL9: 785261.2 | AM9: 87073 | AN9: 53158 | AO9: 33915 | AP9: 362524.54 | AQ9: 24313 | AR9: 16122 | AS9: 8191 | AT9: 126391.47 | AU9: 227193 | AV9: 137399 | AW9: 89794 | AX9: 1321566.4 | AY9: 55477 | AZ9: 31787 | BA9: 23690 | BB9: 339400.66 | BC9: 1169 | BD9: 1070 | BE9: 99 | BF9: 7074.818 | BG9: 11811 | BH9: 7164 | BI9: 4647 | BJ9: 73643.764
A10: 新北市 | B10: New Taipei City | C10: 42603 | D10: 25605 | E10: 16998 | F10: 236677.14 | G10: 6754 | H10: 4258 | I10: 2496 | J10: 59342.871 | K10: 5296 | L10: 3377 | M10: 1919 | N10: 51164.816 | O10: 1458 | P10: 881 | Q10: 577 | R10: 8178.055 | S10: 2027 | T10: 1248 | U10: 779 | V10: 9968.964 | W10: 1119 | X10: 678 | Y10: 441 | Z10: 6195.519 | AA10: 908 | AB10: 570 | AC10: 338 | AD10: 3773.445 | AE10: 33822 | AF10: 20099 | AG10: 13723 | AH10: 167365.31 | AI10: 20181 | AJ10: 11802 | AK10: 8379 | AL10: 111077.56 | AM10: 13641 | AN10: 8297 | AO10: 5344 | AP10: 56287.754 | AQ10: 4157 | AR10: 2810 | AS10: 1347 | AT10: 20294.906 | AU10: 30968 | AV10: 18427 | AW10: 12541 | AX10: 172711.17 | AY10: 7478 | AZ10: 4368 | BA10: 3110 | BB10: 43671.069 | BC10: 188 | BD10: 145 | BE10: 43 | BF10: 1151.574 | BG10: 784 | BH10: 453 | BI10: 331 | BJ10: 4449.041
A11: 臺北市 | B11: Taipei City | C11: 13281 | D11: 7792 | E11: 5489 | F11: 92320.077 | G11: 6743 | H11: 4004 | I11: 2739 | J11: 59704.396 | K11: 5167 | L11: 3086 | M11: 2081 | N11: 50723.783 | O11: 1576 | P11: 918 | Q11: 658 | R11: 8980.613 | S11: 1323 | T11: 755 | U11: 568 | V11: 6689.001 | W11: 757 | X11: 437 | Y11: 320 | Z11: 4271.863 | AA11: 566 | AB11: 318 | AC11: 248 | AD11: 2417.138 | AE11: 5215 | AF11: 3033 | AG11: 2182 | AH11: 25926.68 | AI11: 3072 | AJ11: 1758 | AK11: 1314 | AL11: 17020.138 | AM11: 2143 | AN11: 1275 | AO11: 868 | AP11: 8906.542 | AQ11: 1107 | AR11: 748 | AS11: 359 | AT11: 6211.079 | AU11: 9435 | AV11: 5429 | AW11: 4006 | AX11: 64328.868 | AY11: 2739 | AZ11: 1615 | BA11: 1124 | BB11: 21780.13 | BC11: 97 | BD11: 97 | BE11: 0 | BF11: 688.73 | BG11: 212 | BH11: 111 | BI11: 101 | BJ11: 1465.732
A12: 桃園市 | B12: Taoyuan City | C12: 23337 | D12: 13921 | E12: 9416 | F12: 136163.86 | G12: 4702 | H12: 2945 | I12: 1757 | J12: 41701.368 | K12: 3668 | L12: 2326 | M12: 1342 | N12: 35716.272 | O12: 1034 | P12: 619 | Q12: 415 | R12: 5985.096 | S12: 1166 | T12: 668 | U12: 498 | V12: 5746.206 | W12: 686 | X12: 393 | Y12: 293 | Z12: 3782.556 | AA12: 480 | AB12: 275 | AC12: 205 | AD12: 1963.65 | AE12: 17469 | AF12: 10308 | AG12: 7161 | AH12: 88716.282 | AI12: 10597 | AJ12: 6118 | AK12: 4479 | AL12: 59841.543 | AM12: 6872 | AN12: 4190 | AO12: 2682 | AP12: 28874.739 | AQ12: 2605 | AR12: 1716 | AS12: 889 | AT12: 14118.201 | AU12: 17053 | AV12: 10087 | AW12: 6966 | AX12: 100108.55 | AY12: 3679 | AZ12: 2118 | BA12: 1561 | BB12: 21937.104 | BC12: 70 | BD12: 66 | BE12: 4 | BF12: 427.43 | BG12: 1120 | BH12: 668 | BI12: 452 | BJ12: 7228.748
A13: 臺中市 | B13: Taichung City | C13: 37143 | D13: 22120 | E13: 15023 | F13: 225885.35 | G13: 8460 | H13: 5341 | I13: 3119 | J13: 75879.647 | K13: 6748 | L13: 4292 | M13: 2456 | N13: 66166.696 | O13: 1712 | P13: 1049 | Q13: 663 | R13: 9712.951 | S13: 2520 | T13: 1525 | U13: 995 | V13: 12845.715 | W13: 1520 | X13: 933 | Y13: 587 | Z13: 8491.85 | AA13: 1000 | AB13: 592 | AC13: 408 | AD13: 4353.865 | AE13: 26163 | AF13: 15254 | AG13: 10909 | AH13: 137159.99 | AI13: 16305 | AJ13: 9293 | AK13: 7012 | AL13: 94731.917 | AM13: 9858 | AN13: 5961 | AO13: 3897 | AP13: 42428.072 | AQ13: 3497 | AR13: 2341 | AS13: 1156 | AT13: 19398.832 | AU13: 26870 | AV13: 15953 | AW13: 10917 | AX13: 164459.59 | AY13: 6776 | AZ13: 3826 | BA13: 2950 | BB13: 42026.925 | BC13: 107 | BD13: 105 | BE13: 2 | BF13: 665.835 | BG13: 603 | BH13: 332 | BI13: 271 | BJ13: 3884.237
A14: 臺南市 | B14: Tainan City | C14: 28526 | D14: 17037 | E14: 11489 | F14: 157151.14 | G14: 4024 | H14: 2636 | I14: 1388 | J14: 35946.727 | K14: 3381 | L14: 2260 | M14: 1121 | N14: 32370.453 | O14: 643 | P14: 376 | Q14: 267 | R14: 3576.274 | S14: 786 | T14: 501 | U14: 285 | V14: 3841.592 | W14: 428 | X14: 262 | Y14: 166 | Z14: 2359.658 | AA14: 358 | AB14: 239 | AC14: 119 | AD14: 1481.934 | AE14: 23716 | AF14: 13900 | AG14: 9816 | AH14: 117362.82 | AI14: 14557 | AJ14: 8300 | AK14: 6257 | AL14: 79803.257 | AM14: 9159 | AN14: 5600 | AO14: 3559 | AP14: 37559.567 | AQ14: 2013 | AR14: 1319 | AS14: 694 | AT14: 9896.852 | AU14: 20642 | AV14: 12451 | AW14: 8191 | AX14: 113553.05 | AY14: 5871 | AZ14: 3267 | BA14: 2604 | BB14: 33701.242 | BC14: 93 | BD14: 93 | BE14: 0 | BF14: 636.217 | BG14: 115 | BH14: 56 | BI14: 59 | BJ14: 676.605
A15: 高雄市 | B15: Kaohsiung City | C15: 41663 | D15: 24913 | E15: 16750 | F15: 240426.21 | G15: 7379 | H15: 4737 | I15: 2642 | J15: 67280.427 | K15: 6471 | L15: 4213 | M15: 2258 | N15: 62124.303 | O15: 908 | P15: 524 | Q15: 384 | R15: 5156.124 | S15: 2769 | T15: 1679 | U15: 1090 | V15: 13725.822 | W15: 1559 | X15: 917 | Y15: 642 | Z15: 8757.039 | AA15: 1210 | AB15: 762 | AC15: 448 | AD15: 4968.783 | AE15: 31515 | AF15: 18497 | AG15: 13018 | AH15: 159419.96 | AI15: 19976 | AJ15: 11535 | AK15: 8441 | AL15: 111214.08 | AM15: 11539 | AN15: 6962 | AO15: 4577 | AP15: 48205.879 | AQ15: 2888 | AR15: 1905 | AS15: 983 | AT15: 14615.519 | AU15: 31510 | AV15: 18969 | AW15: 12541 | AX15: 180850.88 | AY15: 7265 | AZ15: 4039 | BA15: 3226 | BB15: 44959.818 | BC15: 252 | BD15: 250 | BE15: 2 | BF15: 1395.9 | BG15: 765 | BH15: 432 | BI15: 333 | BJ15: 4734.087
A16: 宜蘭縣 | B16: Yilan County | C16: 7052 | D16: 4176 | E16: 2876 | F16: 39329.92 | G16: 1413 | H16: 915 | I16: 498 | J16: 11981.997 | K16: 1116 | L16: 732 | M16: 384 | N16: 10409.086 | O16: 297 | P16: 183 | Q16: 114 | R16: 1572.911 | S16: 566 | T16: 329 | U16: 237 | V16: 2714.031 | W16: 313 | X16: 187 | Y16: 126 | Z16: 1693.683 | AA16: 253 | AB16: 142 | AC16: 111 | AD16: 1020.348 | AE16: 5073 | AF16: 2932 | AG16: 2141 | AH16: 24633.892 | AI16: 3032 | AJ16: 1706 | AK16: 1326 | AL16: 16386.539 | AM16: 2041 | AN16: 1226 | AO16: 815 | AP16: 8247.353 | AQ16: 441 | AR16: 283 | AS16: 158 | AT16: 2186.271 | AU16: 5444 | AV16: 3269 | AW16: 2175 | AX16: 30190.832 | AY16: 1167 | AZ16: 624 | BA16: 543 | BB16: 6952.817 | BC16: 15 | BD16: 14 | BE16: 1 | BF16: 93.583 | BG16: 534 | BH16: 319 | BI16: 215 | BJ16: 3110.932
A17: 新竹縣 | B17: Hsinchu County | C17: 4680 | D17: 2822 | E17: 1858 | F17: 26694.707 | G17: 853 | H17: 537 | I17: 316 | J17: 7676.539 | K17: 746 | L17: 473 | M17: 273 | N17: 7094.78 | O17: 107 | P17: 64 | Q17: 43 | R17: 581.759 | S17: 276 | T17: 167 | U17: 109 | V17: 1322.948 | W17: 148 | X17: 85 | Y17: 63 | Z17: 804.676 | AA17: 128 | AB17: 82 | AC17: 46 | AD17: 518.272 | AE17: 3551 | AF17: 2118 | AG17: 1433 | AH17: 17695.22 | AI17: 2300 | AJ17: 1339 | AK17: 961 | AL17: 12597.529 | AM17: 1251 | AN17: 779 | AO17: 472 | AP17: 5097.691 | AQ17: 430 | AR17: 276 | AS17: 154 | AT17: 2240.276 | AU17: 3556 | AV17: 2123 | AW17: 1433 | AX17: 20320.198 | AY17: 694 | AZ17: 423 | BA17: 271 | BB17: 4134.233 | BC17: 19 | BD17: 9 | BE17: 10 | BF17: 92.199 | BG17: 284 | BH17: 172 | BI17: 112 | BJ17: 1883.325
A18: 苗栗縣 | B18: Miaoli County | C18: 8934 | D18: 5470 | E18: 3464 | F18: 50568.722 | G18: 1524 | H18: 1043 | I18: 481 | J18: 13807.46 | K18: 1364 | L18: 944 | M18: 420 | N18: 12937.54 | O18: 160 | P18: 99 | Q18: 61 | R18: 869.92 | S18: 312 | T18: 187 | U18: 125 | V18: 1535.336 | W18: 196 | X18: 112 | Y18: 84 | Z18: 1065.652 | AA18: 116 | AB18: 75 | AC18: 41 | AD18: 469.684 | AE18: 7098 | AF18: 4240 | AG18: 2858 | AH18: 35225.926 | AI18: 4674 | AJ18: 2774 | AK18: 1900 | AL18: 25412.538 | AM18: 2424 | AN18: 1466 | AO18: 958 | AP18: 9813.388 | AQ18: 544 | AR18: 359 | AS18: 185 | AT18: 2667.976 | AU18: 6420 | AV18: 3983 | AW18: 2437 | AX18: 36359.6 | AY18: 1970 | AZ18: 1128 | BA18: 842 | BB18: 11541.146 | BC18: 13 | BD18: 13 | BE18: 0 | BF18: 99.017 | BG18: 261 | BH18: 150 | BI18: 111 | BJ18: 1568.825
A19: 彰化縣 | B19: Changhua County | C19: 20229 | D19: 12302 | E19: 7927 | F19: 120409.79 | G19: 3997 | H19: 2607 | I19: 1390 | J19: 36534.479 | K19: 3449 | L19: 2259 | M19: 1190 | N19: 33347.894 | O19: 548 | P19: 348 | Q19: 200 | R19: 3186.585 | S19: 494 | T19: 308 | U19: 186 | V19: 2559.368 | W19: 269 | X19: 178 | Y19: 91 | Z19: 1549.66 | AA19: 225 | AB19: 130 | AC19: 95 | AD19: 1009.708 | AE19: 15738 | AF19: 9387 | AG19: 6351 | AH19: 81315.938 | AI19: 9802 | AJ19: 5713 | AK19: 4089 | AL19: 56013.908 | AM19: 5936 | AN19: 3674 | AO19: 2262 | AP19: 25302.03 | AQ19: 1298 | AR19: 809 | AS19: 489 | AT19: 7139.018 | AU19: 15360 | AV19: 9439 | AW19: 5921 | AX19: 91650.538 | AY19: 3571 | AZ19: 2054 | BA19: 1517 | BB19: 21620.229 | BC19: 12 | BD19: 12 | BE19: 0 | BF19: 62.468 | BG19: 72 | BH19: 37 | BI19: 35 | BJ19: 469.189
A20: 南投縣 | B20: Nantou County | C20: 7678 | D20: 4775 | E20: 2903 | F20: 43367.024 | G20: 1199 | H20: 822 | I20: 377 | J20: 10921.82 | K20: 1040 | L20: 732 | M20: 308 | N20: 10020.55 | O20: 159 | P20: 90 | Q20: 69 | R20: 901.27 | S20: 660 | T20: 423 | U20: 237 | V20: 3326.917 | W20: 373 | X20: 241 | Y20: 132 | Z20: 2100.07 | AA20: 287 | AB20: 182 | AC20: 105 | AD20: 1226.847 | AE20: 5819 | AF20: 3530 | AG20: 2289 | AH20: 29118.287 | AI20: 3649 | AJ20: 2190 | AK20: 1459 | AL20: 20167.336 | AM20: 2170 | AN20: 1340 | AO20: 830 | AP20: 8950.951 | AQ20: 493 | AR20: 316 | AS20: 177 | AT20: 2544.65 | AU20: 5864 | AV20: 3680 | AW20: 2184 | AX20: 32831.67 | AY20: 1321 | AZ20: 779 | BA20: 542 | BB20: 7990.704 | BC20: 8 | BD20: 8 | BE20: 0 | BF20: 48.816 | BG20: 447 | BH20: 282 | BI20: 165 | BJ20: 2734.753
... A31: 連江縣 | B31: Lienchiang County | C31: 32 | D31: 24 | E31: 8 | F31: 192.488 | G31: 11 | H31: 9 | I31: 2 | J31: 92.191 | K31: 8 | L31: 6 | M31: 2 | N31: 75.88 | O31: 3 | P31: 3 | Q31: 0 | R31: 16.311 | S31: 5 | T31: 5 | U31: 0 | V31: 21.633 | W31: 1 | X31: 1 | Y31: 0 | Z31: 5.437 | AA31: 4 | AB31: 4 | AC31: 0 | AD31: 16.196 | AE31: 16 | AF31: 10 | AG31: 6 | AH31: 78.664 | AI31: 10 | AJ31: 5 | AK31: 5 | AL31: 54.37 | AM31: 6 | AN31: 5 | AO31: 1 | AP31: 24.294 | AQ31: 4 | AR31: 3 | AS31: 1 | AT31: 18.972 | AU31: 25 | AV31: 18 | AW31: 7 | AX31: 145.061 | AY31: 3 | AZ31: 3 | BA31: 0 | BB31: 28.455 | BC31: 0 | BD31: 0 | BE31: 0 | BF31: 0 | BG31: 2 | BH31: 1 | BI31: 1 | BJ31: 9.486
A32: 資料來源：直轄市、縣(市)政府。
A33: Source : County and City Government.
A34: 說明：本表自114年分「福利身分別」及「年齡別」兩類型統計，並皆含具榮民、原住民身分者，此外榮民、原住民另行獨立統計。
A35: 更新日期：2026/05/15
B36: Total | C36: 322883 | D36: 194766 | E36: 128117 | F36: 1826580.1 | K36: 50399 | L36: 33017 | M36: 17382 | N36: 479867.16 | O36: 11092 | P36: 6739 | Q36: 4353 | R36: 61090.733 | W36: 10548 | X36: 6354 | Y36: 4194 | Z36: 57329.796 | AA36: 7963 | AB36: 4926 | AC36: 3037 | AD36: 32552.83 | AI36: 149861 | AJ36: 86516 | AK36: 63345 | AL36: 816404.27 | AM36: 92071 | AN36: 56295 | AO36: 35776 | AP36: 373915.58 | AU36: 949 | AV36: 919 | AW36: 30 | AX36: 5419.678 | AY36: 11980 | AZ36: 7222 | BA36: 4758 | BB36: 72926.992
A37: 總計 | B37: New Taipei City | C37: 47141 | D37: 28295 | E37: 18846 | F37: 253827.9 | K37: 5469 | L37: 3518 | M37: 1951 | N37: 50930.491 | O37: 1656 | P37: 996 | Q37: 660 | R37: 8851.604 | W37: 1265 | X37: 760 | Y37: 505 | Z37: 6832.037 | AA37: 975 | AB37: 570 | AC37: 405 | AD37: 3906.509 | AI37: 22896 | AJ37: 13351 | AK37: 9545 | AL37: 123445.06 | AM37: 14876 | AN37: 9096 | AO37: 5780 | AP37: 59828.414 | AU37: 4 | AV37: 4 | AW37: 0 | AX37: 33.785 | AY37: 844 | AZ37: 478 | BA37: 366 | BB37: 4473.136
A38: 新北市 | B38: Taipei City | C38: 13889 | D38: 8175 | E38: 5714 | F38: 95352.853 | K38: 5300 | L38: 3184 | M38: 2116 | N38: 51221.828 | O38: 1775 | P38: 1036 | Q38: 739 | R38: 9983.494 | W38: 863 | X38: 482 | Y38: 381 | Z38: 4747.39 | AA38: 633 | AB38: 352 | AC38: 281 | AD38: 2722.539 | AI38: 3123 | AJ38: 1791 | AK38: 1332 | AL38: 17358.23 | AM38: 2144 | AN38: 1279 | AO38: 865 | AP38: 8885.941 | AU38: 51 | AV38: 51 | AW38: 0 | AX38: 433.431 | AY38: 230 | AZ38: 125 | BA38: 105 | BB38: 1523.817
A39: 臺北市 | B39: Taoyuan City | C39: 23848 | D39: 14253 | E39: 9595 | F39: 134224.43 | K39: 3583 | L39: 2267 | M39: 1316 | N39: 34051.291 | O39: 1001 | P39: 631 | Q39: 370 | R39: 5453.631 | W39: 712 | X39: 428 | Y39: 284 | Z39: 3871.428 | AA39: 512 | AB39: 309 | AC39: 203 | AD39: 2070.23 | AI39: 11032 | AJ39: 6323 | AK39: 4709 | AL39: 60199.726 | AM39: 6926 | AN39: 4215 | AO39: 2711 | AP39: 28103.344 | AU39: 82 | AV39: 80 | AW39: 2 | AX39: 474.781 | AY39: 1173 | AZ39: 696 | BA39: 477 | BB39: 7007.796
A40: 桃園市 | B40: Taichung City | C40: 39029 | D40: 23190 | E40: 15839 | F40: 227372.63 | K40: 6549 | L40: 4191 | M40: 2358 | N40: 63629.973 | O40: 1714 | P40: 1045 | Q40: 669 | R40: 9633.876 | W40: 1573 | X40: 919 | Y40: 654 | Z40: 8750.27 | AA40: 1091 | AB40: 651 | AC40: 440 | AD40: 4566.971 | AI40: 17342 | AJ40: 9838 | AK40: 7504 | AL40: 96066.34 | AM40: 10658 | AN40: 6446 | AO40: 4212 | AP40: 44158.265 | AU40: 102 | AV40: 100 | AW40: 2 | AX40: 566.934 | AY40: 541 | AZ40: 289 | BA40: 252 | BB40: 3532.641
A41: 臺中市 | B41: Tainan City | C41: 30243 | D41: 17869 | E41: 12374 | F41: 164649.3 | K41: 3420 | L41: 2264 | M41: 1156 | N41: 32285.684 | O41: 739 | P41: 447 | Q41: 292 | R41: 4036.855 | W41: 683 | X41: 425 | Y41: 258 | Z41: 3727.279 | AA41: 591 | AB41: 377 | AC41: 214 | AD41: 2415.879 | AI41: 15446 | AJ41: 8648 | AK41: 6798 | AL41: 84097.168 | AM41: 9287 | AN41: 5631 | AO41: 3656 | AP41: 37694.151 | AU41: 77 | AV41: 77 | AW41: 0 | AX41: 392.285 | AY41: 113 | AZ41: 59 | BA41: 54 | BB41: 632.632
A42: 臺南市 | B42: Kaohsiung City | C42: 43609 | D42: 26072 | E42: 17537 | F42: 243406.41 | K42: 6151 | L42: 4000 | M42: 2151 | N42: 58401.176 | O42: 834 | P42: 489 | Q42: 345 | R42: 4573.397 | W42: 1670 | X42: 993 | Y42: 677 | Z42: 9087.422 | AA42: 1229 | AB42: 762 | AC42: 467 | AD42: 5008.561 | AI42: 21176 | AJ42: 12124 | AK42: 9052 | AL42: 115130.4 | AM42: 12261 | AN42: 7419 | AO42: 4842 | AP42: 49650.328 | AU42: 288 | AV42: 285 | AW42: 3 | AX42: 1555.122 | AY42: 825 | AZ42: 462 | BA42: 363 | BB42: 4738.432
A43: 高雄市 | B43: Yilan County | C43: 7496 | D43: 4461 | E43: 3035 | F43: 41454.68 | K43: 1061 | L43: 710 | M43: 351 | N43: 10017.292 | O43: 300 | P43: 172 | Q43: 128 | R43: 1626 | W43: 329 | X43: 198 | Y43: 131 | Z43: 1782.47 | AA43: 267 | AB43: 157 | AC43: 110 | AD43: 1073.981 | AI43: 3322 | AJ43: 1883 | AK43: 1439 | AL43: 17996.01 | AM43: 2199 | AN43: 1323 | AO43: 876 | AP43: 8862.868 | AU43: 18 | AV43: 18 | AW43: 0 | AX43: 96.059 | AY43: 459 | AZ43: 277 | BA43: 182 | BB43: 2745.843
A44: 宜蘭縣 | B44: Hsinchu County | C44: 4582 | D44: 2819 | E44: 1763 | F44: 26030.36 | K44: 744 | L44: 498 | M44: 246 | N44: 7034.52 | O44: 109 | P44: 72 | Q44: 37 | R44: 590.78 | W44: 142 | X44: 90 | Y44: 52 | Z44: 769.64 | AA44: 110 | AB44: 70 | AC44: 40 | AD44: 443.96 | AI44: 2280 | AJ44: 1326 | AK44: 954 | AL44: 12357.6 | AM44: 1195 | AN44: 761 | AO44: 434 | AP44: 4823.02 | AU44: 2 | AV44: 2 | AW44: 0 | AX44: 10.84 | AY44: 262 | AZ44: 155 | BA44: 107 | BB44: 1785.236
A45: 新竹縣 | B45: Miaoli County | C45: 9274 | D45: 5688 | E45: 3586 | F45: 52130.264 | K45: 1373 | L45: 949 | M45: 424 | N45: 12981.715 | O45: 156 | P45: 93 | Q45: 63 | R45: 845.52 | W45: 235 | X45: 131 | Y45: 104 | Z45: 1273.7 | AA45: 170 | AB45: 116 | AC45: 54 | AD45: 686.12 | AI45: 4842 | AJ45: 2853 | AK45: 1989 | AL45: 26243.64 | AM45: 2494 | AN45: 1542 | AO45: 952 | AP45: 10065.784 | AU45: 4 | AV45: 4 | AW45: 0 | AX45: 33.785 | AY45: 259 | AZ45: 150 | BA45: 109 | BB45: 1558.454
A46: 苗栗縣 | B46: Changhua County | C46: 21678 | D46: 13137 | E46: 8541 | F46: 122926.9 | K46: 3431 | L46: 2256 | M46: 1175 | N46: 32791.928 | O46: 557 | P46: 351 | Q46: 206 | R46: 3067.287 | W46: 186 | X46: 112 | Y46: 74 | Z46: 1044.428 | AA46: 139 | AB46: 80 | AC46: 59 | AD46: 597.14 | AI46: 10669 | AJ46: 6191 | AK46: 4478 | AL46: 58120.537 | AM46: 6678 | AN46: 4129 | AO46: 2549 | AP46: 27207.829 | AU46: 18 | AV46: 18 | AW46: 0 | AX46: 97.75 | AY46: 71 | AZ46: 37 | BA46: 34 | BB46: 439.015
A47: 彰化縣 | B47: Nantou County | C47: 7900 | D47: 4930 | E47: 2970 | F47: 43267.118 | K47: 990 | L47: 707 | M47: 283 | N47: 9372.301 | O47: 162 | P47: 96 | Q47: 66 | R47: 878.04 | W47: 327 | X47: 206 | Y47: 121 | Z47: 1787.535 | AA47: 283 | AB47: 185 | AC47: 98 | AD47: 1152.712 | AI47: 3811 | AJ47: 2272 | AK47: 1539 | AL47: 20679.753 | AM47: 2325 | AN47: 1462 | AO47: 863 | AP47: 9381.902 | AU47: 2 | AV47: 2 | AW47: 0 | AX47: 14.875 | AY47: 499 | AZ47: 314 | BA47: 185 | BB47: 2868.723
A48: 南投縣 | B48: Yunlin County | C48: 13700 | D48: 8580 | E48: 5120 | F48: 79191.878 | K48: 2516 | L48: 1705 | M48: 811 | N48: 23890.053 | O48: 440 | P48: 273 | Q48: 167 | R48: 2445.58 | W48: 392 | X48: 263 | Y48: 129 | Z48: 2134.415 | AA48: 239 | AB48: 171 | AC48: 68 | AD48: 975.392 | AI48: 6161 | AJ48: 3693 | AK48: 2468 | AL48: 33635.682 | AM48: 3942 | AN48: 2465 | AO48: 1477 | AP48: 16049.87 | AU48: 10 | AV48: 10 | AW48: 0 | AX48: 60.886 | AY48: 40 | AZ48: 19 | BA48: 21 | BB48: 233.856
... A58: 金門縣 | B58: Lienchiang County | C58: 36 | D58: 28 | E58: 8 | F58: 211.46 | K58: 8 | L58: 8 | M58: 0 | N58: 75.88 | O58: 3 | P58: 3 | Q58: 0 | R58: 16.311 | W58: 0 | X58: 0 | Y58: 0 | Z58: 0 | AA58: 5 | AB58: 5 | AC58: 0 | AD58: 20.245 | AI58: 13 | AJ58: 7 | AK58: 6 | AL58: 70.681 | AM58: 7 | AN58: 5 | AO58: 2 | AP58: 28.343 | AU58: 0 | AV58: 0 | AW58: 0 | AX58: 0 | AY58: 2 | AZ58: 1 | BA58: 1 | BB58: 8.837
A59: 連江縣
B60: Total | C60: =IF(C36=C9,"","*") -> * | D60: =IF(D36=D9,"","*") -> * | E60: =IF(E36=E9,"","*") -> * | F60: =IF(F36=F9,"","*") -> * | K60: =IF(K36=K9,"","*") -> * | L60: =IF(L36=L9,"","*") -> * | M60: =IF(M36=M9,"","*") -> * | N60: =IF(N36=N9,"","*") -> * | O60: =IF(O36=O9,"","*") -> * | P60: =IF(P36=P9,"","*") -> * | Q60: =IF(Q36=Q9,"","*") -> * | R60: =IF(R36=R9,"","*") -> * | W60: =IF(W36=W9,"","*") -> * | X60: =IF(X36=X9,"","*") -> * | Y60: =IF(Y36=Y9,"","*") -> * | Z60: =IF(Z36=Z9,"","*") -> * | AA60: =IF(AA36=AA9,"","*") -> * | AB60: =IF(AB36=AB9,"","*") -> * | AC60: =IF(AC36=AC9,"","*") -> * | AD60: =IF(AD36=AD9,"","*") -> * | AI60: =IF(AI36=AI9,"","*") -> * | AJ60: =IF(AJ36=AJ9,"","*") -> * | AK60: =IF(AK36=AK9,"","*") -> * | AL60: =IF(AL36=AL9,"","*") -> * | AM60: =IF(AM36=AM9,"","*") -> * | AN60: =IF(AN36=AN9,"","*") -> * | AO60: =IF(AO36=AO9,"","*") -> * | AP60: =IF(AP36=AP9,"","*") -> * | AU60: =IF(AU36=BC9,"","*") -> * | AV60: =IF(AV36=BD9,"","*") -> * | AW60: =IF(AW36=BE9,"","*") -> * | AX60: =IF(AX36=BF9,"","*") -> * | AY60: =IF(AY36=BG9,"","*") -> * | AZ60: =IF(AZ36=BH9,"","*") -> * | BA60: =IF(BA36=BI9,"","*") -> * | BB60: =IF(BB36=BJ9,"","*") -> *
A61: 總計 | B61: New Taipei City | C61: =IF(C37=C10,"","*") -> * | D61: =IF(D37=D10,"","*") -> * | E61: =IF(E37=E10,"","*") -> * | F61: =IF(F37=F10,"","*") -> * | K61: =IF(K37=K10,"","*") -> * | L61: =IF(L37=L10,"","*") -> * | M61: =IF(M37=M10,"","*") -> * | N61: =IF(N37=N10,"","*") -> * | O61: =IF(O37=O10,"","*") -> * | P61: =IF(P37=P10,"","*") -> * | Q61: =IF(Q37=Q10,"","*") -> * | R61: =IF(R37=R10,"","*") -> * | W61: =IF(W37=W10,"","*") -> * | X61: =IF(X37=X10,"","*") -> * | Y61: =IF(Y37=Y10,"","*") -> * | Z61: =IF(Z37=Z10,"","*") -> * | AA61: =IF(AA37=AA10,"","*") -> * | AB61: =IF(AB37=AB10,"","*") | AC61: =IF(AC37=AC10,"","*") -> * | AD61: =IF(AD37=AD10,"","*") -> * | AI61: =IF(AI37=AI10,"","*") -> * | AJ61: =IF(AJ37=AJ10,"","*") -> * | AK61: =IF(AK37=AK10,"","*") -> * | AL61: =IF(AL37=AL10,"","*") -> * | AM61: =IF(AM37=AM10,"","*") -> * | AN61: =IF(AN37=AN10,"","*") -> * | AO61: =IF(AO37=AO10,"","*") -> * | AP61: =IF(AP37=AP10,"","*") -> * | AU61: =IF(AU37=BC10,"","*") -> * | AV61: =IF(AV37=BD10,"","*") -> * | AW61: =IF(AW37=BE10,"","*") -> * | AX61: =IF(AX37=BF10,"","*") -> * | AY61: =IF(AY37=BG10,"","*") -> * | AZ61: =IF(AZ37=BH10,"","*") -> * | BA61: =IF(BA37=BI10,"","*") -> * | BB61: =IF(BB37=BJ10,"","*") -> *
A62: 新北市 | B62: Taipei City | C62: =IF(C38=C11,"","*") -> * | D62: =IF(D38=D11,"","*") -> * | E62: =IF(E38=E11,"","*") -> * | F62: =IF(F38=F11,"","*") -> * | K62: =IF(K38=K11,"","*") -> * | L62: =IF(L38=L11,"","*") -> * | M62: =IF(M38=M11,"","*") -> * | N62: =IF(N38=N11,"","*") -> * | O62: =IF(O38=O11,"","*") -> * | P62: =IF(P38=P11,"","*") -> * | Q62: =IF(Q38=Q11,"","*") -> * | R62: =IF(R38=R11,"","*") -> * | W62: =IF(W38=W11,"","*") -> * | X62: =IF(X38=X11,"","*") -> * | Y62: =IF(Y38=Y11,"","*") -> * | Z62: =IF(Z38=Z11,"","*") -> * | AA62: =IF(AA38=AA11,"","*") -> * | AB62: =IF(AB38=AB11,"","*") -> * | AC62: =IF(AC38=AC11,"","*") -> * | AD62: =IF(AD38=AD11,"","*") -> * | AI62: =IF(AI38=AI11,"","*") -> * | AJ62: =IF(AJ38=AJ11,"","*") -> * | AK62: =IF(AK38=AK11,"","*") -> * | AL62: =IF(AL38=AL11,"","*") -> * | AM62: =IF(AM38=AM11,"","*") -> * | AN62: =IF(AN38=AN11,"","*") -> * | AO62: =IF(AO38=AO11,"","*") -> * | AP62: =IF(AP38=AP11,"","*") -> * | AU62: =IF(AU38=BC11,"","*") -> * | AV62: =IF(AV38=BD11,"","*") -> * | AW62: =IF(AW38=BE11,"","*") | AX62: =IF(AX38=BF11,"","*") -> * | AY62: =IF(AY38=BG11,"","*") -> * | AZ62: =IF(AZ38=BH11,"","*") -> * | BA62: =IF(BA38=BI11,"","*") -> * | BB62: =IF(BB38=BJ11,"","*") -> *
A63: 臺北市 | B63: Taoyuan City | C63: =IF(C39=C12,"","*") -> * | D63: =IF(D39=D12,"","*") -> * | E63: =IF(E39=E12,"","*") -> * | F63: =IF(F39=F12,"","*") -> * | K63: =IF(K39=K12,"","*") -> * | L63: =IF(L39=L12,"","*") -> * | M63: =IF(M39=M12,"","*") -> * | N63: =IF(N39=N12,"","*") -> * | O63: =IF(O39=O12,"","*") -> * | P63: =IF(P39=P12,"","*") -> * | Q63: =IF(Q39=Q12,"","*") -> * | R63: =IF(R39=R12,"","*") -> * | W63: =IF(W39=W12,"","*") -> * | X63: =IF(X39=X12,"","*") -> * | Y63: =IF(Y39=Y12,"","*") -> * | Z63: =IF(Z39=Z12,"","*") -> * | AA63: =IF(AA39=AA12,"","*") -> * | AB63: =IF(AB39=AB12,"","*") -> * | AC63: =IF(AC39=AC12,"","*") -> * | AD63: =IF(AD39=AD12,"","*") -> * | AI63: =IF(AI39=AI12,"","*") -> * | AJ63: =IF(AJ39=AJ12,"","*") -> * | AK63: =IF(AK39=AK12,"","*") -> * | AL63: =IF(AL39=AL12,"","*") -> * | AM63: =IF(AM39=AM12,"","*") -> * | AN63: =IF(AN39=AN12,"","*") -> * | AO63: =IF(AO39=AO12,"","*") -> * | AP63: =IF(AP39=AP12,"","*") -> * | AU63: =IF(AU39=BC12,"","*") -> * | AV63: =IF(AV39=BD12,"","*") -> * | AW63: =IF(AW39=BE12,"","*") -> * | AX63: =IF(AX39=BF12,"","*") -> * | AY63: =IF(AY39=BG12,"","*") -> * | AZ63: =IF(AZ39=BH12,"","*") -> * | BA63: =IF(BA39=BI12,"","*") -> * | BB63: =IF(BB39=BJ12,"","*") -> *
A64: 桃園市 | B64: Taichung City | C64: =IF(C40=C13,"","*") -> * | D64: =IF(D40=D13,"","*") -> * | E64: =IF(E40=E13,"","*") -> * | F64: =IF(F40=F13,"","*") -> * | K64: =IF(K40=K13,"","*") -> * | L64: =IF(L40=L13,"","*") -> * | M64: =IF(M40=M13,"","*") -> * | N64: =IF(N40=N13,"","*") -> * | O64: =IF(O40=O13,"","*") -> * | P64: =IF(P40=P13,"","*") -> * | Q64: =IF(Q40=Q13,"","*") -> * | R64: =IF(R40=R13,"","*") -> * | W64: =IF(W40=W13,"","*") -> * | X64: =IF(X40=X13,"","*") -> * | Y64: =IF(Y40=Y13,"","*") -> * | Z64: =IF(Z40=Z13,"","*") -> * | AA64: =IF(AA40=AA13,"","*") -> * | AB64: =IF(AB40=AB13,"","*") -> * | AC64: =IF(AC40=AC13,"","*") -> * | AD64: =IF(AD40=AD13,"","*") -> * | AI64: =IF(AI40=AI13,"","*") -> * | AJ64: =IF(AJ40=AJ13,"","*") -> * | AK64: =IF(AK40=AK13,"","*") -> * | AL64: =IF(AL40=AL13,"","*") -> * | AM64: =IF(AM40=AM13,"","*") -> * | AN64: =IF(AN40=AN13,"","*") -> * | AO64: =IF(AO40=AO13,"","*") -> * | AP64: =IF(AP40=AP13,"","*") -> * | AU64: =IF(AU40=BC13,"","*") -> * | AV64: =IF(AV40=BD13,"","*") -> * | AW64: =IF(AW40=BE13,"","*") | AX64: =IF(AX40=BF13,"","*") -> * | AY64: =IF(AY40=BG13,"","*") -> * | AZ64: =IF(AZ40=BH13,"","*") -> * | BA64: =IF(BA40=BI13,"","*") -> * | BB64: =IF(BB40=BJ13,"","*") -> *
A65: 臺中市 | B65: Tainan City | C65: =IF(C41=C14,"","*") -> * | D65: =IF(D41=D14,"","*") -> * | E65: =IF(E41=E14,"","*") -> * | F65: =IF(F41=F14,"","*") -> * | K65: =IF(K41=K14,"","*") -> * | L65: =IF(L41=L14,"","*") -> * | M65: =IF(M41=M14,"","*") -> * | N65: =IF(N41=N14,"","*") -> * | O65: =IF(O41=O14,"","*") -> * | P65: =IF(P41=P14,"","*") -> * | Q65: =IF(Q41=Q14,"","*") -> * | R65: =IF(R41=R14,"","*") -> * | W65: =IF(W41=W14,"","*") -> * | X65: =IF(X41=X14,"","*") -> * | Y65: =IF(Y41=Y14,"","*") -> * | Z65: =IF(Z41=Z14,"","*") -> * | AA65: =IF(AA41=AA14,"","*") -> * | AB65: =IF(AB41=AB14,"","*") -> * | AC65: =IF(AC41=AC14,"","*") -> * | AD65: =IF(AD41=AD14,"","*") -> * | AI65: =IF(AI41=AI14,"","*") -> * | AJ65: =IF(AJ41=AJ14,"","*") -> * | AK65: =IF(AK41=AK14,"","*") -> * | AL65: =IF(AL41=AL14,"","*") -> * | AM65: =IF(AM41=AM14,"","*") -> * | AN65: =IF(AN41=AN14,"","*") -> * | AO65: =IF(AO41=AO14,"","*") -> * | AP65: =IF(AP41=AP14,"","*") -> * | AU65: =IF(AU41=BC14,"","*") -> * | AV65: =IF(AV41=BD14,"","*") -> * | AW65: =IF(AW41=BE14,"","*") | AX65: =IF(AX41=BF14,"","*") -> * | AY65: =IF(AY41=BG14,"","*") -> * | AZ65: =IF(AZ41=BH14,"","*") -> * | BA65: =IF(BA41=BI14,"","*") -> * | BB65: =IF(BB41=BJ14,"","*") -> *
A66: 臺南市 | B66: Kaohsiung City | C66: =IF(C42=C15,"","*") -> * | D66: =IF(D42=D15,"","*") -> * | E66: =IF(E42=E15,"","*") -> * | F66: =IF(F42=F15,"","*") -> * | K66: =IF(K42=K15,"","*") -> * | L66: =IF(L42=L15,"","*") -> * | M66: =IF(M42=M15,"","*") -> * | N66: =IF(N42=N15,"","*") -> * | O66: =IF(O42=O15,"","*") -> * | P66: =IF(P42=P15,"","*") -> * | Q66: =IF(Q42=Q15,"","*") -> * | R66: =IF(R42=R15,"","*") -> * | W66: =IF(W42=W15,"","*") -> * | X66: =IF(X42=X15,"","*") -> * | Y66: =IF(Y42=Y15,"","*") -> * | Z66: =IF(Z42=Z15,"","*") -> * | AA66: =IF(AA42=AA15,"","*") -> * | AB66: =IF(AB42=AB15,"","*") | AC66: =IF(AC42=AC15,"","*") -> * | AD66: =IF(AD42=AD15,"","*") -> * | AI66: =IF(AI42=AI15,"","*") -> * | AJ66: =IF(AJ42=AJ15,"","*") -> * | AK66: =IF(AK42=AK15,"","*") -> * | AL66: =IF(AL42=AL15,"","*") -> * | AM66: =IF(AM42=AM15,"","*") -> * | AN66: =IF(AN42=AN15,"","*") -> * | AO66: =IF(AO42=AO15,"","*") -> * | AP66: =IF(AP42=AP15,"","*") -> * | AU66: =IF(AU42=BC15,"","*") -> * | AV66: =IF(AV42=BD15,"","*") -> * | AW66: =IF(AW42=BE15,"","*") -> * | AX66: =IF(AX42=BF15,"","*") -> * | AY66: =IF(AY42=BG15,"","*") -> * | AZ66: =IF(AZ42=BH15,"","*") -> * | BA66: =IF(BA42=BI15,"","*") -> * | BB66: =IF(BB42=BJ15,"","*") -> *
A67: 高雄市 | B67: Yilan County | C67: =IF(C43=C16,"","*") -> * | D67: =IF(D43=D16,"","*") -> * | E67: =IF(E43=E16,"","*") -> * | F67: =IF(F43=F16,"","*") -> * | K67: =IF(K43=K16,"","*") -> * | L67: =IF(L43=L16,"","*") -> * | M67: =IF(M43=M16,"","*") -> * | N67: =IF(N43=N16,"","*") -> * | O67: =IF(O43=O16,"","*") -> * | P67: =IF(P43=P16,"","*") -> * | Q67: =IF(Q43=Q16,"","*") -> * | R67: =IF(R43=R16,"","*") -> * | W67: =IF(W43=W16,"","*") -> * | X67: =IF(X43=X16,"","*") -> * | Y67: =IF(Y43=Y16,"","*") -> * | Z67: =IF(Z43=Z16,"","*") -> * | AA67: =IF(AA43=AA16,"","*") -> * | AB67: =IF(AB43=AB16,"","*") -> * | AC67: =IF(AC43=AC16,"","*") -> * | AD67: =IF(AD43=AD16,"","*") -> * | AI67: =IF(AI43=AI16,"","*") -> * | AJ67: =IF(AJ43=AJ16,"","*") -> * | AK67: =IF(AK43=AK16,"","*") -> * | AL67: =IF(AL43=AL16,"","*") -> * | AM67: =IF(AM43=AM16,"","*") -> * | AN67: =IF(AN43=AN16,"","*") -> * | AO67: =IF(AO43=AO16,"","*") -> * | AP67: =IF(AP43=AP16,"","*") -> * | AU67: =IF(AU43=BC16,"","*") -> * | AV67: =IF(AV43=BD16,"","*") -> * | AW67: =IF(AW43=BE16,"","*") -> * | AX67: =IF(AX43=BF16,"","*") -> * | AY67: =IF(AY43=BG16,"","*") -> * | AZ67: =IF(AZ43=BH16,"","*") -> * | BA67: =IF(BA43=BI16,"","*") -> * | BB67: =IF(BB43=BJ16,"","*") -> *
A68: 宜蘭縣 | B68: Hsinchu County | C68: =IF(C44=C17,"","*") -> * | D68: =IF(D44=D17,"","*") -> * | E68: =IF(E44=E17,"","*") -> * | F68: =IF(F44=F17,"","*") -> * | K68: =IF(K44=K17,"","*") -> * | L68: =IF(L44=L17,"","*") -> * | M68: =IF(M44=M17,"","*") -> * | N68: =IF(N44=N17,"","*") -> * | O68: =IF(O44=O17,"","*") -> * | P68: =IF(P44=P17,"","*") -> * | Q68: =IF(Q44=Q17,"","*") -> * | R68: =IF(R44=R17,"","*") -> * | W68: =IF(W44=W17,"","*") -> * | X68: =IF(X44=X17,"","*") -> * | Y68: =IF(Y44=Y17,"","*") -> * | Z68: =IF(Z44=Z17,"","*") -> * | AA68: =IF(AA44=AA17,"","*") -> * | AB68: =IF(AB44=AB17,"","*") -> * | AC68: =IF(AC44=AC17,"","*") -> * | AD68: =IF(AD44=AD17,"","*") -> * | AI68: =IF(AI44=AI17,"","*") -> * | AJ68: =IF(AJ44=AJ17,"","*") -> * | AK68: =IF(AK44=AK17,"","*") -> * | AL68: =IF(AL44=AL17,"","*") -> * | AM68: =IF(AM44=AM17,"","*") -> * | AN68: =IF(AN44=AN17,"","*") -> * | AO68: =IF(AO44=AO17,"","*") -> * | AP68: =IF(AP44=AP17,"","*") -> * | AU68: =IF(AU44=BC17,"","*") -> * | AV68: =IF(AV44=BD17,"","*") -> * | AW68: =IF(AW44=BE17,"","*") -> * | AX68: =IF(AX44=BF17,"","*") -> * | AY68: =IF(AY44=BG17,"","*") -> * | AZ68: =IF(AZ44=BH17,"","*") -> * | BA68: =IF(BA44=BI17,"","*") -> * | BB68: =IF(BB44=BJ17,"","*") -> *
A69: 新竹縣 | B69: Miaoli County | C69: =IF(C45=C18,"","*") -> * | D69: =IF(D45=D18,"","*") -> * | E69: =IF(E45=E18,"","*") -> * | F69: =IF(F45=F18,"","*") -> * | K69: =IF(K45=K18,"","*") -> * | L69: =IF(L45=L18,"","*") -> * | M69: =IF(M45=M18,"","*") -> * | N69: =IF(N45=N18,"","*") -> * | O69: =IF(O45=O18,"","*") -> * | P69: =IF(P45=P18,"","*") -> * | Q69: =IF(Q45=Q18,"","*") -> * | R69: =IF(R45=R18,"","*") -> * | W69: =IF(W45=W18,"","*") -> * | X69: =IF(X45=X18,"","*") -> * | Y69: =IF(Y45=Y18,"","*") -> * | Z69: =IF(Z45=Z18,"","*") -> * | AA69: =IF(AA45=AA18,"","*") -> * | AB69: =IF(AB45=AB18,"","*") -> * | AC69: =IF(AC45=AC18,"","*") -> * | AD69: =IF(AD45=AD18,"","*") -> * | AI69: =IF(AI45=AI18,"","*") -> * | AJ69: =IF(AJ45=AJ18,"","*") -> * | AK69: =IF(AK45=AK18,"","*") -> * | AL69: =IF(AL45=AL18,"","*") -> * | AM69: =IF(AM45=AM18,"","*") -> * | AN69: =IF(AN45=AN18,"","*") -> * | AO69: =IF(AO45=AO18,"","*") -> * | AP69: =IF(AP45=AP18,"","*") -> * | AU69: =IF(AU45=BC18,"","*") -> * | AV69: =IF(AV45=BD18,"","*") -> * | AW69: =IF(AW45=BE18,"","*") | AX69: =IF(AX45=BF18,"","*") -> * | AY69: =IF(AY45=BG18,"","*") -> * | AZ69: =IF(AZ45=BH18,"","*") | BA69: =IF(BA45=BI18,"","*") -> * | BB69: =IF(BB45=BJ18,"","*") -> *
A70: 苗栗縣 | B70: Changhua County | C70: =IF(C46=C19,"","*") -> * | D70: =IF(D46=D19,"","*") -> * | E70: =IF(E46=E19,"","*") -> * | F70: =IF(F46=F19,"","*") -> * | K70: =IF(K46=K19,"","*") -> * | L70: =IF(L46=L19,"","*") -> * | M70: =IF(M46=M19,"","*") -> * | N70: =IF(N46=N19,"","*") -> * | O70: =IF(O46=O19,"","*") -> * | P70: =IF(P46=P19,"","*") -> * | Q70: =IF(Q46=Q19,"","*") -> * | R70: =IF(R46=R19,"","*") -> * | W70: =IF(W46=W19,"","*") -> * | X70: =IF(X46=X19,"","*") -> * | Y70: =IF(Y46=Y19,"","*") -> * | Z70: =IF(Z46=Z19,"","*") -> * | AA70: =IF(AA46=AA19,"","*") -> * | AB70: =IF(AB46=AB19,"","*") -> * | AC70: =IF(AC46=AC19,"","*") -> * | AD70: =IF(AD46=AD19,"","*") -> * | AI70: =IF(AI46=AI19,"","*") -> * | AJ70: =IF(AJ46=AJ19,"","*") -> * | AK70: =IF(AK46=AK19,"","*") -> * | AL70: =IF(AL46=AL19,"","*") -> * | AM70: =IF(AM46=AM19,"","*") -> * | AN70: =IF(AN46=AN19,"","*") -> * | AO70: =IF(AO46=AO19,"","*") -> * | AP70: =IF(AP46=AP19,"","*") -> * | AU70: =IF(AU46=BC19,"","*") -> * | AV70: =IF(AV46=BD19,"","*") -> * | AW70: =IF(AW46=BE19,"","*") | AX70: =IF(AX46=BF19,"","*") -> * | AY70: =IF(AY46=BG19,"","*") -> * | AZ70: =IF(AZ46=BH19,"","*") | BA70: =IF(BA46=BI19,"","*") -> * | BB70: =IF(BB46=BJ19,"","*") -> *
A71: 彰化縣 | B71: Nantou County | C71: =IF(C47=C20,"","*") -> * | D71: =IF(D47=D20,"","*") -> * | E71: =IF(E47=E20,"","*") -> * | F71: =IF(F47=F20,"","*") -> * | K71: =IF(K47=K20,"","*") -> * | L71: =IF(L47=L20,"","*") -> * | M71: =IF(M47=M20,"","*") -> * | N71: =IF(N47=N20,"","*") -> * | O71: =IF(O47=O20,"","*") -> * | P71: =IF(P47=P20,"","*") -> * | Q71: =IF(Q47=Q20,"","*") -> * | R71: =IF(R47=R20,"","*") -> * | W71: =IF(W47=W20,"","*") -> * | X71: =IF(X47=X20,"","*") -> * | Y71: =IF(Y47=Y20,"","*") -> * | Z71: =IF(Z47=Z20,"","*") -> * | AA71: =IF(AA47=AA20,"","*") -> * | AB71: =IF(AB47=AB20,"","*") -> * | AC71: =IF(AC47=AC20,"","*") -> * | AD71: =IF(AD47=AD20,"","*") -> * | AI71: =IF(AI47=AI20,"","*") -> * | AJ71: =IF(AJ47=AJ20,"","*") -> * | AK71: =IF(AK47=AK20,"","*") -> * | AL71: =IF(AL47=AL20,"","*") -> * | AM71: =IF(AM47=AM20,"","*") -> * | AN71: =IF(AN47=AN20,"","*") -> * | AO71: =IF(AO47=AO20,"","*") -> * | AP71: =IF(AP47=AP20,"","*") -> * | AU71: =IF(AU47=BC20,"","*") -> * | AV71: =IF(AV47=BD20,"","*") -> * | AW71: =IF(AW47=BE20,"","*") | AX71: =IF(AX47=BF20,"","*") -> * | AY71: =IF(AY47=BG20,"","*") -> * | AZ71: =IF(AZ47=BH20,"","*") -> * | BA71: =IF(BA47=BI20,"","*") -> * | BB71: =IF(BB47=BJ20,"","*") -> *
A72: 南投縣 | B72: Yunlin County | C72: =IF(C48=C21,"","*") -> * | D72: =IF(D48=D21,"","*") -> * | E72: =IF(E48=E21,"","*") -> * | F72: =IF(F48=F21,"","*") -> * | K72: =IF(K48=K21,"","*") -> * | L72: =IF(L48=L21,"","*") -> * | M72: =IF(M48=M21,"","*") -> * | N72: =IF(N48=N21,"","*") -> * | O72: =IF(O48=O21,"","*") -> * | P72: =IF(P48=P21,"","*") -> * | Q72: =IF(Q48=Q21,"","*") -> * | R72: =IF(R48=R21,"","*") -> * | W72: =IF(W48=W21,"","*") -> * | X72: =IF(X48=X21,"","*") -> * | Y72: =IF(Y48=Y21,"","*") -> * | Z72: =IF(Z48=Z21,"","*") -> * | AA72: =IF(AA48=AA21,"","*") -> * | AB72: =IF(AB48=AB21,"","*") -> * | AC72: =IF(AC48=AC21,"","*") -> * | AD72: =IF(AD48=AD21,"","*") -> * | AI72: =IF(AI48=AI21,"","*") -> * | AJ72: =IF(AJ48=AJ21,"","*") -> * | AK72: =IF(AK48=AK21,"","*") -> * | AL72: =IF(AL48=AL21,"","*") -> * | AM72: =IF(AM48=AM21,"","*") -> * | AN72: =IF(AN48=AN21,"","*") -> * | AO72: =IF(AO48=AO21,"","*") -> * | AP72: =IF(AP48=AP21,"","*") -> * | AU72: =IF(AU48=BC21,"","*") -> * | AV72: =IF(AV48=BD21,"","*") -> * | AW72: =IF(AW48=BE21,"","*") -> * | AX72: =IF(AX48=BF21,"","*") -> * | AY72: =IF(AY48=BG21,"","*") -> * | AZ72: =IF(AZ48=BH21,"","*") -> * | BA72: =IF(BA48=BI21,"","*") -> * | BB72: =IF(BB48=BJ21,"","*") -> *
... A82: 金門縣 | B82: Lienchiang County | C82: =IF(C58=C31,"","*") -> * | D82: =IF(D58=D31,"","*") -> * | E82: =IF(E58=E31,"","*") | F82: =IF(F58=F31,"","*") -> * | K82: =IF(K58=K31,"","*") | L82: =IF(L58=L31,"","*") -> * | M82: =IF(M58=M31,"","*") -> * | N82: =IF(N58=N31,"","*") | O82: =IF(O58=O31,"","*") | P82: =IF(P58=P31,"","*") | Q82: =IF(Q58=Q31,"","*") | R82: =IF(R58=R31,"","*") | W82: =IF(W58=W31,"","*") -> * | X82: =IF(X58=X31,"","*") -> * | Y82: =IF(Y58=Y31,"","*") | Z82: =IF(Z58=Z31,"","*") -> * | AA82: =IF(AA58=AA31,"","*") -> * | AB82: =IF(AB58=AB31,"","*") -> * | AC82: =IF(AC58=AC31,"","*") | AD82: =IF(AD58=AD31,"","*") -> * | AI82: =IF(AI58=AI31,"","*") -> * | AJ82: =IF(AJ58=AJ31,"","*") -> * | AK82: =IF(AK58=AK31,"","*") -> * | AL82: =IF(AL58=AL31,"","*") -> * | AM82: =IF(AM58=AM31,"","*") -> * | AN82: =IF(AN58=AN31,"","*") | AO82: =IF(AO58=AO31,"","*") -> * | AP82: =IF(AP58=AP31,"","*") -> * | AU82: =IF(AU58=BC31,"","*") | AV82: =IF(AV58=BD31,"","*") | AW82: =IF(AW58=BE31,"","*") | AX82: =IF(AX58=BF31,"","*") | AY82: =IF(AY58=BG31,"","*") | AZ82: =IF(AZ58=BH31,"","*") | BA82: =IF(BA58=BI31,"","*") | BB82: =IF(BB58=BJ31,"","*") -> *
A83: 連江縣

Sheet 2025
A1: 身心障礙者生活補助Living Assistance for the Disabled
A3: 114年, 2025
A4: 區域別 Locality | C4: 總計 Total | G4: 福利身分別 By Identity | AQ4: 依年齡別分 By Age | BC4: 榮民(補差額) Veteran Serviceman (Difference) | BG4: 原住民 Indigenous
G5: 低收入戶 Low-income Households | S5: 中低收入戶 Middle-low-income Households | AE5: 最低生活費1.5倍以上未達2.5倍者Between 1.5 and 2.5 times of minimum of subsistence | AQ5: 未滿18歲 | AU5: 18歲-未滿65歲 | AY5: 65歲以上
G6: 合計Total | K6: 中度障礙以上 Moderate & Over | O6: 輕度障礙 Mild | S6: 合計Total | W6: 中度障礙以上 Moderate & Over | AA6: 輕度障礙 Mild | AE6: 合計Total | AI6: 中度障礙以上 Moderate & Over | AM6: 輕度障礙 Mild
C7: 人次 Person-times | F7: 金額 (千元) Amounts (NT$1,000) | G7: 人次 Person-times | J7: 金額 (千元) Amounts (NT$1,000) | K7: 人次 Person-times | N7: 金額 (千元) Amounts (NT$1,000) | O7: 人次 Person-times | R7: 金額 (千元) Amounts (NT$1,000) | S7: 人次 Person-times | V7: 金額 (千元) Amounts (NT$1,000) | W7: 人次 Person-times | Z7: 金額 (千元) Amounts (NT$1,000) | AA7: 人次 Person-times | AD7: 金額 (千元) Amounts (NT$1,000) | AE7: 人次 Person-times | AH7: 金額 (千元) Amounts (NT$1,000) | AI7: 人次 Person-times | AL7: 金額 (千元) Amounts (NT$1,000) | AM7: 人次 Person-times | AP7: 金額 (千元) Amounts (NT$1,000) | AQ7: 人次 Person-times | AT7: 金額 (千元) Amounts (NT$1,000) | AU7: 人次 Person-times | AX7: 金額 (千元) Amounts (NT$1,000) | AY7: 人次 Person-times | BB7: 金額 (千元) Amounts (NT$1,000) | BC7: 人次 Person-times | BF7: 金額 (千元) Amounts (NT$1,000) | BG7: 人次 Person-times | BJ7: 金額 (千元) Amounts (NT$1,000)
C8: 合計 Total | D8: 男 Male | E8: 女 Female | G8: 計 Subtotal | H8: 男 Male | I8: 女 Female | K8: 計 Subtotal | L8: 男 Male | M8: 女 Female | O8: 計 Subtotal | P8: 男 Male | Q8: 女 Female | S8: 計 Subtotal | T8: 男 Male | U8: 女 Female | W8: 計 Subtotal | X8: 男 Male | Y8: 女 Female | AA8: 計 Subtotal | AB8: 男 Male | AC8: 女 Female | AE8: 計 Subtotal | AF8: 男 Male | AG8: 女 Female | AI8: 計 Subtotal | AJ8: 男 Male | AK8: 女 Female | AM8: 計 Subtotal | AN8: 男 Male | AO8: 女 Female | AQ8: 合計 Subtotal | AR8: 男 Male | AS8: 女 Female | AU8: 合計 Subtotal | AV8: 男 Male | AW8: 女 Female | AY8: 合計 Subtotal | AZ8: 男 Male | BA8: 女 Female | BC8: 計 Subtotal | BD8: 男 Male | BE8: 女 Female | BG8: 計 Subtotal | BH8: 男 Male | BI8: 女 Female
A9: 總計 | B9: Total | C9: 3916432 | D9: 2361659 | E9: 1554773 | F9: 22614398 | G9: 782841 | H9: 504722 | I9: 278119 | J9: 6971919.6 | K9: 641225 | L9: 419182 | M9: 222043 | N9: 6180660.8 | O9: 141616 | P9: 85540 | Q9: 56076 | R9: 791258.76 | S9: 215151 | T9: 131379 | U9: 83772 | V9: 1068565.4 | W9: 122845 | X9: 74002 | Y9: 48843 | Z9: 683536.35 | AA9: 92306 | AB9: 57377 | AC9: 34929 | AD9: 385029.01 | AE9: 2918440 | AF9: 1725558 | AG9: 1192882 | AH9: 14573913 | AI9: 1803189 | AJ9: 1043752 | AK9: 759437 | AL9: 9968473.9 | AM9: 1115251 | AN9: 681806 | AO9: 433445 | AP9: 4605438.8 | AQ9: 305446 | AR9: 202902 | AS9: 102544 | AT9: 1582861.2 | AU9: 2919811 | AV9: 1763397 | AW9: 1156414 | AX9: 16869402 | AY9: 691175 | AZ9: 395360 | BA9: 295815 | BB9: 4162134.6 | BC9: 15090 | BD9: 13720 | BE9: 1370 | BF9: 90463.923 | BG9: 150408 | BH9: 91124 | BI9: 59284 | BJ9: 942535.87
A10: 新北市 | B10: New Taipei City | C10: 547514 | D10: 328122 | E10: 219392 | F10: 3044948.6 | G10: 86114 | H10: 54431 | I10: 31683 | J10: 753510 | K10: 66851 | L10: 42765 | M10: 24086 | N10: 645882.54 | O10: 19263 | P10: 11666 | Q10: 7597 | R10: 107627.46 | S10: 24373 | T10: 14740 | U10: 9633 | V10: 120273.08 | W10: 13753 | X10: 8147 | Y10: 5606 | Z10: 76015.513 | AA10: 10620 | AB10: 6593 | AC10: 4027 | AD10: 44257.569 | AE10: 437027 | AF10: 258951 | AG10: 178076 | AH10: 2171165.6 | AI10: 262641 | AJ10: 152782 | AK10: 109859 | AL10: 1450443.5 | AM10: 174386 | AN10: 106169 | AO10: 68217 | AP10: 720722.1 | AQ10: 52396 | AR10: 35504 | AS10: 16892 | AT10: 259075.75 | AU10: 400169 | AV10: 237707 | AW10: 162462 | AX10: 2232302.8 | AY10: 94949 | AZ10: 54911 | BA10: 40038 | BB10: 553570.04 | BC10: 2538 | BD10: 1946 | BE10: 592 | BF10: 15439.555 | BG10: 9754 | BH10: 5605 | BI10: 4149 | BJ10: 54631.144
A11: 臺北市 | B11: Taipei City | C11: 170451 | D11: 99999 | E11: 70452 | F11: 1182047.1 | G11: 87062 | H11: 51541 | I11: 35521 | J11: 762603.27 | K11: 65872 | L11: 39138 | M11: 26734 | N11: 642691.42 | O11: 21190 | P11: 12403 | Q11: 8787 | R11: 119911.85 | S11: 16032 | T11: 9227 | U11: 6805 | V11: 80696.032 | W11: 8893 | X11: 5256 | Y11: 3637 | Z11: 50391.677 | AA11: 7139 | AB11: 3971 | AC11: 3168 | AD11: 30304.355 | AE11: 67357 | AF11: 39231 | AG11: 28126 | AH11: 338747.78 | AI11: 39697 | AJ11: 22683 | AK11: 17014 | AL11: 222960.87 | AM11: 27660 | AN11: 16548 | AO11: 11112 | AP11: 115786.91 | AQ11: 14169 | AR11: 9559 | AS11: 4610 | AT11: 80083.312 | AU11: 122716 | AV11: 70575 | AW11: 52141 | AX11: 837674.96 | AY11: 33566 | AZ11: 19865 | BA11: 13701 | BB11: 264288.81 | BC11: 1316 | BD11: 1316 | BE11: 0 | BF11: 9235.074 | BG11: 2699 | BH11: 1424 | BI11: 1275 | BJ11: 18519.392
A12: 桃園市 | B12: Taoyuan City | C12: 293526 | D12: 174899 | E12: 118627 | F12: 1683472.7 | G12: 58437 | H12: 36599 | I12: 21838 | J12: 512838.64 | K12: 45554 | L12: 28855 | M12: 16699 | N12: 440374.17 | O12: 12883 | P12: 7744 | Q12: 5139 | R12: 72464.474 | S12: 14376 | T12: 8256 | U12: 6120 | V12: 71087.994 | W12: 8216 | X12: 4756 | Y12: 3460 | Z12: 45554.74 | AA12: 6160 | AB12: 3500 | AC12: 2660 | AD12: 25533.254 | AE12: 220713 | AF12: 130044 | AG12: 90669 | AH12: 1099546.1 | AI12: 133860 | AJ12: 76916 | AK12: 56944 | AL12: 740296.99 | AM12: 86853 | AN12: 53128 | AO12: 33725 | AP12: 359249.07 | AQ12: 31927 | AR12: 21115 | AS12: 10812 | AT12: 168525.09 | AU12: 215830 | AV12: 127598 | AW12: 88232 | AX12: 1248255.6 | AY12: 45769 | AZ12: 26186 | BA12: 19583 | BB12: 266692.04 | BC12: 989 | BD12: 930 | BE12: 59 | BF12: 5936.5 | BG12: 14099 | BH12: 8316 | BI12: 5783 | BJ12: 87201.088
A13: 臺中市 | B13: Taichung City | C13: 469904 | D13: 279238 | E13: 190666 | F13: 2764374.6 | G13: 104092 | H13: 65603 | I13: 38489 | J13: 922115.02 | K13: 82885 | L13: 52677 | M13: 30208 | N13: 802897.92 | O13: 21207 | P13: 12926 | Q13: 8281 | R13: 119217.1 | S13: 31701 | T13: 18953 | U13: 12748 | V13: 158971.25 | W13: 19003 | X13: 11202 | Y13: 7801 | Z13: 106062.19 | AA13: 12698 | AB13: 7751 | AC13: 4947 | AD13: 52909.063 | AE13: 334111 | AF13: 194682 | AG13: 139429 | AH13: 1683288.4 | AI13: 206889 | AJ13: 117810 | AK13: 89079 | AL13: 1153864.3 | AM13: 127222 | AN13: 76872 | AO13: 50350 | AP13: 529424.03 | AQ13: 44093 | AR13: 29397 | AS13: 14696 | AT13: 236140.62 | AU13: 341549 | AV13: 202409 | AW13: 139140 | AX13: 2027067.5 | AY13: 84262 | AZ13: 47432 | BA13: 36830 | BB13: 501166.51 | BC13: 1227 | BD13: 1192 | BE13: 35 | BF13: 7225.793 | BG13: 6823 | BH13: 3733 | BI13: 3090 | BJ13: 44982.302
A14: 臺南市 | B14: Tainan City | C14: 360919 | D14: 215584 | E14: 145335 | F14: 1995113.1 | G14: 51110 | H14: 33461 | I14: 17649 | J14: 455167.76 | K14: 42271 | L14: 28118 | M14: 14153 | N14: 406091.06 | O14: 8839 | P14: 5343 | Q14: 3496 | R14: 49076.699 | S14: 10358 | T14: 6591 | U14: 3767 | V14: 50397.455 | W14: 5831 | X14: 3652 | Y14: 2179 | Z14: 32184.733 | AA14: 4527 | AB14: 2939 | AC14: 1588 | AD14: 18212.722 | AE14: 299451 | AF14: 175532 | AG14: 123919 | AH14: 1489547.9 | AI14: 184588 | AJ14: 105155 | AK14: 79433 | AL14: 1016974.3 | AM14: 114863 | AN14: 70377 | AO14: 44486 | AP14: 472573.54 | AQ14: 25166 | AR14: 16447 | AS14: 8719 | AT14: 125793.74 | AU14: 262907 | AV14: 158399 | AW14: 104508 | AX14: 1452856.1 | AY14: 72846 | AZ14: 40738 | BA14: 32108 | BB14: 416463.21 | BC14: 1110 | BD14: 1110 | BE14: 0 | BF14: 7501.585 | BG14: 1408 | BH14: 706 | BI14: 702 | BJ14: 8341.233
A15: 高雄市 | B15: Kaohsiung City | C15: 527622 | D15: 314841 | E15: 212781 | F15: 2999071.3 | G15: 91001 | H15: 58538 | I15: 32463 | J15: 821525.85 | K15: 79317 | L15: 51765 | M15: 27552 | N15: 757486.28 | O15: 11684 | P15: 6773 | Q15: 4911 | R15: 64039.569 | S15: 35479 | T15: 21459 | U15: 14020 | V15: 174462.9 | W15: 20322 | X15: 11926 | Y15: 8396 | Z15: 111798.11 | AA15: 15157 | AB15: 9533 | AC15: 5624 | AD15: 62664.791 | AE15: 401142 | AF15: 234844 | AG15: 166298 | AH15: 2003082.6 | AI15: 254088 | AJ15: 145862 | AK15: 108226 | AL15: 1398520.1 | AM15: 147054 | AN15: 88982 | AO15: 58072 | AP15: 604562.48 | AQ15: 36152 | AR15: 23817 | AS15: 12335 | AT15: 180369.36 | AU15: 400822 | AV15: 240633 | AW15: 160189 | AX15: 2272183.3 | AY15: 90648 | AZ15: 50391 | BA15: 40257 | BB15: 546518.65 | BC15: 3328 | BD15: 3248 | BE15: 80 | BF15: 18503.028 | BG15: 9596 | BH15: 5360 | BI15: 4236 | BJ15: 57376.55
A16: 宜蘭縣 | B16: Yilan County | C16: 92688 | D16: 55037 | E16: 37651 | F16: 515329.46 | G16: 18174 | H16: 11653 | I16: 6521 | J16: 153089.73 | K16: 14173 | L16: 9314 | M16: 4859 | N16: 131948.15 | O16: 4001 | P16: 2339 | Q16: 1662 | R16: 21141.577 | S16: 7721 | T16: 4549 | U16: 3172 | V16: 36786.444 | W16: 4227 | X16: 2472 | Y16: 1755 | Z16: 22758.667 | AA16: 3494 | AB16: 2077 | AC16: 1417 | AD16: 14027.777 | AE16: 66793 | AF16: 38835 | AG16: 27958 | AH16: 325453.29 | AI16: 40325 | AJ16: 22842 | AK16: 17483 | AL16: 218376.55 | AM16: 26468 | AN16: 15993 | AO16: 10475 | AP16: 107076.74 | AQ16: 6027 | AR16: 3915 | AS16: 2112 | AT16: 30208.398 | AU16: 71692 | AV16: 42864 | AW16: 28828 | AX16: 397265.76 | AY16: 14969 | AZ16: 8258 | BA16: 6711 | BB16: 87855.306 | BC16: 194 | BD16: 182 | BE16: 12 | BF16: 1124.278 | BG16: 5834 | BH16: 3543 | BI16: 2291 | BJ16: 35406.848
A17: 新竹縣 | B17: Hsinchu County | C17: 59290 | D17: 35989 | E17: 23301 | F17: 341724.91 | G17: 10818 | H17: 6925 | I17: 3893 | J17: 98066.987 | K17: 9451 | L17: 6088 | M17: 3363 | N17: 90552.938 | O17: 1367 | P17: 837 | Q17: 530 | R17: 7514.049 | S17: 3258 | T17: 1998 | U17: 1260 | V17: 15881.281 | W17: 1733 | X17: 1021 | Y17: 712 | Z17: 9528.4 | AA17: 1525 | AB17: 977 | AC17: 548 | AD17: 6352.881 | AE17: 45214 | AF17: 27066 | AG17: 18148 | AH17: 227776.64 | AI17: 29340 | AJ17: 17087 | AK17: 12253 | AL17: 162270.57 | AM17: 15874 | AN17: 9979 | AO17: 5895 | AP17: 65506.071 | AQ17: 5347 | AR17: 3386 | AS17: 1961 | AT17: 28610.695 | AU17: 45443 | AV17: 27333 | AW17: 18110 | AX17: 262185.27 | AY17: 8500 | AZ17: 5270 | BA17: 3230 | BB17: 50928.944 | BC17: 239 | BD17: 119 | BE17: 120 | BF17: 1189.446 | BG17: 3589 | BH17: 2234 | BI17: 1355 | BJ17: 24323.902
A18: 苗栗縣 | B18: Miaoli County | C18: 116708 | D18: 71182 | E18: 45526 | F18: 676442.91 | G18: 19999 | H18: 13468 | I18: 6531 | J18: 183749.03 | K18: 17531 | L18: 11947 | M18: 5584 | N18: 169840.03 | O18: 2468 | P18: 1521 | Q18: 947 | R18: 13908.996 | S18: 4302 | T18: 2687 | U18: 1615 | V18: 22088.248 | W18: 2851 | X18: 1831 | Y18: 1020 | Z18: 15966.159 | AA18: 1451 | AB18: 856 | AC18: 595 | AD18: 6122.089 | AE18: 92407 | AF18: 55027 | AG18: 37380 | AH18: 470605.63 | AI18: 60769 | AJ18: 35807 | AK18: 24962 | AL18: 338833.93 | AM18: 31638 | AN18: 19220 | AO18: 12418 | AP18: 131771.7 | AQ18: 7002 | AR18: 4540 | AS18: 2462 | AT18: 35774.696 | AU18: 85070 | AV18: 52564 | AW18: 32506 | AX18: 494026.74 | AY18: 24636 | AZ18: 14078 | BA18: 10558 | BB18: 146641.48 | BC18: 170 | BD18: 170 | BE18: 0 | BF18: 1332.793 | BG18: 3335 | BH18: 1902 | BI18: 1433 | BJ18: 21176.992
A19: 彰化縣 | B19: Changhua County | C19: 257710 | D19: 156993 | E19: 100717 | F19: 1504883.4 | G19: 50137 | H19: 32799 | I19: 17338 | J19: 459896.38 | K19: 43138 | L19: 28420 | M19: 14718 | N19: 420103.57 | O19: 6999 | P19: 4379 | Q19: 2620 | R19: 39792.809 | S19: 6010 | T19: 3703 | U19: 2307 | V19: 32464.915 | W19: 3300 | X19: 2094 | Y19: 1206 | Z19: 19784.431 | AA19: 2710 | AB19: 1609 | AC19: 1101 | AD19: 12680.484 | AE19: 201563 | AF19: 120491 | AG19: 81072 | AH19: 1012522.1 | AI19: 124707 | AJ19: 72940 | AK19: 51767 | AL19: 693539.74 | AM19: 76856 | AN19: 47551 | AO19: 29305 | AP19: 318982.35 | AQ19: 16413 | AR19: 10405 | AS19: 6008 | AT19: 87758.981 | AU19: 197205 | AV19: 121276 | AW19: 75929 | AX19: 1156692.7 | AY19: 44092 | AZ19: 25312 | BA19: 18780 | BB19: 260431.72 | BC19: 162 | BD19: 162 | BE19: 0 | BF19: 852.802 | BG19: 895 | BH19: 441 | BI19: 454 | BJ19: 5927.752
A20: 南投縣 | B20: Nantou County | C20: 100718 | D20: 62578 | E20: 38140 | F20: 573831.57 | G20: 14829 | H20: 10198 | I20: 4631 | J20: 135311.72 | K20: 12760 | L20: 8997 | M20: 3763 | N20: 123652.48 | O20: 2069 | P20: 1201 | Q20: 868 | R20: 11659.237 | S20: 8404 | T20: 5285 | U20: 3119 | V20: 41887.86 | W20: 4558 | X20: 2877 | Y20: 1681 | Z20: 25582.652 | AA20: 3846 | AB20: 2408 | AC20: 1438 | AD20: 16305.208 | AE20: 77485 | AF20: 47095 | AG20: 30390 | AH20: 396631.99 | AI20: 48919 | AJ20: 29278 | AK20: 19641 | AL20: 276448.77 | AM20: 28566 | AN20: 17817 | AO20: 10749 | AP20: 120183.23 | AQ20: 6242 | AR20: 4064 | AS20: 2178 | AT20: 32999.916 | AU20: 77805 | AV20: 48715 | AW20: 29090 | AX20: 440165.25 | AY20: 16671 | AZ20: 9799 | BA20: 6872 | BB20: 100666.4 | BC20: 86 | BD20: 86 | BE20: 0 | BF20: 550.508 | BG20: 6899 | BH20: 4354 | BI20: 2545 | BJ20: 40501.167
... A31: 連江縣 | B31: Lienchiang County | C31: 407 | D31: 321 | E31: 86 | F31: 2398.132 | G31: 122 | H31: 120 | I31: 2 | J31: 975.01 | K31: 77 | L31: 75 | M31: 2 | N31: 730.345 | O31: 45 | P31: 45 | Q31: 0 | R31: 244.665 | S31: 69 | T31: 65 | U31: 4 | V31: 311.305 | W31: 23 | X31: 19 | Y31: 4 | Z31: 125.051 | AA31: 46 | AB31: 46 | AC31: 0 | AD31: 186.254 | AE31: 216 | AF31: 136 | AG31: 80 | AH31: 1111.817 | AI31: 168 | AJ31: 100 | AK31: 68 | AL31: 913.416 | AM31: 48 | AN31: 36 | AO31: 12 | AP31: 198.401 | AQ31: 53 | AR31: 41 | AS31: 12 | AT31: 264.565 | AU31: 303 | AV31: 229 | AW31: 74 | AX31: 1714.716 | AY31: 51 | AZ31: 51 | BA31: 0 | BB31: 418.851 | BC31: 0 | BD31: 0 | BE31: 0 | BF31: 0 | BG31: 24 | BH31: 12 | BI31: 12 | BJ31: 113.832
A32: 資料來源：直轄市、縣(市)政府。
A33: Source : County and City Government.
A34: 說明：本表自114年分「福利身分別」及「年齡別」兩類型統計，並皆含具榮民、原住民身分者，此外榮民、原住民另行獨立統計。
A35: 更新日期：2025/02/21

Sheet 12,2025
A1: 身心障礙者生活補助Living Assistance for the Disabled
A3: 114年12月Dec., 2025
A4: 區域別 Locality | C4: 總計 Total | G4: 福利身分別 By Identity | AQ4: 依年齡別分 By Age | BC4: 榮民(補差額) Veteran Serviceman (Difference) | BG4: 原住民 Indigenous
G5: 低收入戶 Low-income Households | S5: 中低收入戶 Middle-low-income Households | AE5: 最低生活費1.5倍以上未達2.5倍者Between 1.5 and 2.5 times of minimum of subsistence | AQ5: 未滿18歲 | AU5: 18歲-未滿65歲 | AY5: 65歲以上
G6: 合計Total | K6: 中度障礙以上 Moderate & Over | O6: 輕度障礙 Mild | S6: 合計Total | W6: 中度障礙以上 Moderate & Over | AA6: 輕度障礙 Mild | AE6: 合計Total | AI6: 中度障礙以上 Moderate & Over | AM6: 輕度障礙 Mild
C7: 人數 Person | F7: 金額 (千元) Amounts (NT$1,000) | G7: 人數 Person | J7: 金額 (千元) Amounts (NT$1,000) | K7: 人數 Person | N7: 金額 (千元) Amounts (NT$1,000) | O7: 人數 Person | R7: 金額 (千元) Amounts (NT$1,000) | S7: 人數 Person | V7: 金額 (千元) Amounts (NT$1,000) | W7: 人數 Person | Z7: 金額 (千元) Amounts (NT$1,000) | AA7: 人數 Person | AD7: 金額 (千元) Amounts (NT$1,000) | AE7: 人數 Person | AH7: 金額 (千元) Amounts (NT$1,000) | AI7: 人數 Person | AL7: 金額 (千元) Amounts (NT$1,000) | AM7: 人數 Person | AP7: 金額 (千元) Amounts (NT$1,000) | AQ7: 人數 Person | AT7: 金額 (千元) Amounts (NT$1,000) | AU7: 人數 Person | AX7: 金額 (千元) Amounts (NT$1,000) | AY7: 人數 Person | BB7: 金額 (千元) Amounts (NT$1,000) | BC7: 人數 Person | BF7: 金額 (千元) Amounts (NT$1,000) | BG7: 人數 Person | BJ7: 金額 (千元) Amounts (NT$1,000)
C8: 合計 Total | D8: 男 Male | E8: 女 Female | G8: 計 Subtotal | H8: 男 Male | I8: 女 Female | K8: 計 Subtotal | L8: 男 Male | M8: 女 Female | O8: 計 Subtotal | P8: 男 Male | Q8: 女 Female | S8: 計 Subtotal | T8: 男 Male | U8: 女 Female | W8: 計 Subtotal | X8: 男 Male | Y8: 女 Female | AA8: 計 Subtotal | AB8: 男 Male | AC8: 女 Female | AE8: 計 Subtotal | AF8: 男 Male | AG8: 女 Female | AI8: 計 Subtotal | AJ8: 男 Male | AK8: 女 Female | AM8: 計 Subtotal | AN8: 男 Male | AO8: 女 Female | AQ8: 合計 Subtotal | AR8: 男 Male | AS8: 女 Female | AU8: 合計 Subtotal | AV8: 男 Male | AW8: 女 Female | AY8: 合計 Subtotal | AZ8: 男 Male | BA8: 女 Female | BC8: 計 Subtotal | BD8: 男 Male | BE8: 女 Female | BG8: 計 Subtotal | BH8: 男 Male | BI8: 女 Female
A9: 總計 | B9: Total | C9: 329485 | D9: 198375 | E9: 131110 | F9: 1899199.3 | G9: 66258 | H9: 42641 | I9: 23617 | J9: 590332.85 | K9: 54214 | L9: 35398 | M9: 18816 | N9: 523085.31 | O9: 12044 | P9: 7243 | Q9: 4801 | R9: 67247.541 | S9: 18508 | T9: 11319 | U9: 7189 | V9: 92118.811 | W9: 10534 | X9: 6359 | Y9: 4175 | Z9: 58724.456 | AA9: 7974 | AB9: 4960 | AC9: 3014 | AD9: 33394.355 | AE9: 244719 | AF9: 144415 | AG9: 100304 | AH9: 1216747.7 | AI9: 151192 | AJ9: 87403 | AK9: 63789 | AL9: 831778.18 | AM9: 93527 | AN9: 57012 | AO9: 36515 | AP9: 384969.49 | AQ9: 25947 | AR9: 17275 | AS9: 8672 | AT9: 133823.09 | AU9: 243273 | AV9: 146726 | AW9: 96547 | AX9: 1403177.4 | AY9: 60265 | AZ9: 34374 | BA9: 25891 | BB9: 362198.88 | BC9: 1245 | BD9: 1136 | BE9: 109 | BF9: 7449.543 | BG9: 12658 | BH9: 7689 | BI9: 4969 | BJ9: 79248.287
A10: 新北市 | B10: New Taipei City | C10: 46366 | D10: 27752 | E10: 18614 | F10: 257659.98 | G10: 7331 | H10: 4612 | I10: 2719 | J10: 64264.174 | K10: 5682 | L10: 3616 | M10: 2066 | N10: 55011.213 | O10: 1649 | P10: 996 | Q10: 653 | R10: 9252.961 | S10: 2113 | T10: 1291 | U10: 822 | V10: 10503.303 | W10: 1171 | X10: 697 | Y10: 474 | Z10: 6560.965 | AA10: 942 | AB10: 594 | AC10: 348 | AD10: 3942.338 | AE10: 36922 | AF10: 21849 | AG10: 15073 | AH10: 182892.5 | AI10: 22098 | AJ10: 12859 | AK10: 9239 | AL10: 121794.7 | AM10: 14824 | AN10: 8990 | AO10: 5834 | AP10: 61097.805 | AQ10: 4476 | AR10: 3038 | AS10: 1438 | AT10: 22166.524 | AU10: 33545 | AV10: 19882 | AW10: 13663 | AX10: 186688.38 | AY10: 8345 | AZ10: 4832 | BA10: 3513 | BB10: 48805.073 | BC10: 201 | BD10: 154 | BE10: 47 | BF10: 1271.073 | BG10: 824 | BH10: 477 | BI10: 347 | BJ10: 4627.072
A11: 臺北市 | B11: Taipei City | C11: 14333 | D11: 8373 | E11: 5960 | F11: 98542.311 | G11: 7254 | H11: 4275 | I11: 2979 | J11: 63280.259 | K11: 5480 | L11: 3247 | M11: 2233 | N11: 53327.932 | O11: 1774 | P11: 1028 | Q11: 746 | R11: 9952.327 | S11: 1313 | T11: 758 | U11: 555 | V11: 6639.27 | W11: 723 | X11: 428 | Y11: 295 | Z11: 4084.805 | AA11: 590 | AB11: 330 | AC11: 260 | AD11: 2554.465 | AE11: 5766 | AF11: 3340 | AG11: 2426 | AH11: 28622.782 | AI11: 3388 | AJ11: 1933 | AK11: 1455 | AL11: 18766.754 | AM11: 2378 | AN11: 1407 | AO11: 971 | AP11: 9856.028 | AQ11: 1202 | AR11: 810 | AS11: 392 | AT11: 6669.434 | AU11: 10214 | AV11: 5864 | AW11: 4350 | AX11: 69027.417 | AY11: 2917 | AZ11: 1699 | BA11: 1218 | BB11: 22845.46 | BC11: 103 | BD11: 103 | BE11: 0 | BF11: 730.837 | BG11: 224 | BH11: 118 | BI11: 106 | BJ11: 1523.268
