Workbook

Sheet 歷年
A1: 身心障礙者日間照顧及住宿式照顧補助Subsidies of Day Care and Residential Care for Disabled
A3: 年別 Years | B3: 合計 Total | F3: 一般對象 General | R3: 特殊對象 Special
F4: 計 Subtotal | J4: 住宿式照顧 Residential Care | N4: 日間照顧 Day Services Care | R4: 計 Subtotal | V4: 住宿式照顧 Residential Care | Z4: 日間照顧 Day Services Care
B5: 期底人數 Persons (End of Year) | E5: 金額 (千元) Amounts (NT$1,000) | F5: 期底人數 Persons (End of Year) | I5: 金額 (千元) Amounts (NT$1,000) | J5: 期底人數 Persons (End of Year) | M5: 金額 (千元) Amounts (NT$1,000) | N5: 期底人數 Persons (End of Year) | Q5: 金額 (千元) Amounts (NT$1,000) | R5: 期底人數 Persons (End of Year) | U5: 金額 (千元) Amounts (NT$1,000) | V5: 期底人數 Persons (End of Year) | Y5: 金額 (千元) Amounts (NT$1,000) | Z5: 期底人數 Persons (End of Year) | AC5: 金額 (千元) Amounts (NT$1,000)
B6: 計 Subtotal | C6: 男 Male | D6: 女 Female | F6: 計 Subtotal | G6: 男 Male | H6: 女 Female | J6: 計 Subtotal | K6: 男 Male | L6: 女 Female | N6: 計 Subtotal | O6: 男 Male | P6: 女 Female | R6: 計 Subtotal | S6: 男 Male | T6: 女 Female | V6: 計 Subtotal | W6: 男 Male | X6: 女 Female | Z6: 計 Subtotal | AA6: 男 Male | AB6: 女 Female
A7: 104年,2015 | B7: ='2015'!C9 -> 41225 | C7: ... | D7: ... | E7: ='2015'!D9 -> 7642638.7 | F7: ='2015'!E9 -> 6413 | G7: ... | H7: ... | I7: ='2015'!F9 -> 1116318.8 | J7: ='2015'!G9 -> 4739 | K7: ... | L7: ... | M7: ='2015'!H9 -> 967928.13 | N7: ='2015'!I9 -> 1674 | O7: ... | P7: ... | Q7: ='2015'!J9 -> 148390.69 | R7: ='2015'!K9 -> 34812 | S7: ... | T7: ... | U7: ='2015'!L9 -> 6526319.8 | V7: ='2015'!M9 -> 33363 | W7: ... | X7: ... | Y7: ='2015'!N9 -> 6359861.5 | Z7: ='2015'!O9 -> 1449 | AA7: ... | AB7: ... | AC7: ='2015'!P9 -> 166458.29
A8: 105年,2016 | B8: ='2016'!C9 -> 43300 | C8: ='2016'!D9 -> 24513 | D8: ='2016'!E9 -> 18787 | E8: ='2016'!F9 -> 8025156.5 | F8: ='2016'!G9 -> 6296 | G8: ='2016'!H9 -> 3637 | H8: ='2016'!I9 -> 2659 | I8: ='2016'!J9 -> 1100096 | ... AC8: ='2016'!AD9 -> 164831.99
A9: 106年,2017 | B9: ='2017'!C9 -> 45930 | C9: ='2017'!D9 -> 25652 | D9: ='2017'!E9 -> 20278 | E9: ='2017'!F9 -> 8504325.5 | F9: ='2017'!G9 -> 6411 | G9: ='2017'!H9 -> 3675 | H9: ='2017'!I9 -> 2736 | I9: ='2017'!J9 -> 1160777.6 | ... AC9: ='2017'!AD9 -> 175813.64
A10: 107年,2018 | B10: ='2018'!C9 -> 47841 | C10: ='2018'!D9 -> 26599 | D10: ='2018'!E9 -> 21242 | E10: ='2018'!F9 -> 8801920.4 | F10: ='2018'!G9 -> 6529 | G10: ='2018'!H9 -> 3819 | H10: ='2018'!I9 -> 2710 | I10: ='2018'!J9 -> 1119925.3 | ... AC10: ='2018'!AD9 -> 180605.18
A11: 108年,2019 | B11: ='2019'!C9 -> 49096 | C11: ='2019'!D9 -> 27081 | D11: ='2019'!E9 -> 22015 | E11: ='2019'!F9 -> 8967773.8 | F11: ='2019'!G9 -> 7970 | G11: ='2019'!H9 -> 4682 | H11: ='2019'!I9 -> 3288 | I11: ='2019'!J9 -> 1519065.8 | ... AC11: ='2019'!AD9 -> 169961.74
A12: 109年,2020 | B12: ='2020'!C9 -> 50815 | C12: ='2020'!D9 -> 27736 | D12: ='2020'!E9 -> 23079 | E12: ='2020'!F9 -> 9332138.1 | F12: ='2020'!G9 -> 8148 | G12: ='2020'!H9 -> 4738 | H12: ='2020'!I9 -> 3410 | I12: ='2020'!J9 -> 1560087.1 | ... AC12: ='2020'!AD9 -> 185999.29
A13: 110年,2021 | B13: ='2021'!C9 -> 50420 | C13: ='2021'!D9 -> 27298 | D13: ='2021'!E9 -> 23122 | E13: ='2021'!F9 -> 9438777 | F13: ='2021'!G9 -> 7789 | G13: ='2021'!H9 -> 4487 | H13: ='2021'!I9 -> 3302 | I13: ='2021'!J9 -> 1525956.2 | ... AC13: ='2021'!AD9 -> 196539.23
A14: 111年,2022 | B14: ='2022'!C9 -> 48959 | C14: ='2022'!D9 -> 26272 | D14: ='2022'!E9 -> 22687 | E14: ='2022'!F9 -> 9231312.3 | F14: ='2022'!G9 -> 7500 | G14: ='2022'!H9 -> 4304 | H14: ='2022'!I9 -> 3196 | I14: ='2022'!J9 -> 1474516.2 | ... AC14: ='2022'!AD9 -> 199469.26
A15: 112年,2023 | B15: ='2023'!C9 -> 47837 | C15: ='2023'!D9 -> 25632 | D15: ='2023'!E9 -> 22205 | E15: ='2023'!F9 -> 9059788.9 | F15: ='2023'!G9 -> 7313 | G15: ='2023'!H9 -> 4161 | H15: ='2023'!I9 -> 3152 | I15: ='2023'!J9 -> 1435378.6 | ... AC15: ='2023'!AD9 -> 201145.63
A16: 113年,2024 | B16: ='2024'!C9 -> 45751 | C16: ='2024'!D9 -> 24578 | D16: ='2024'!E9 -> 21173 | E16: ='2024'!F9 -> 9120162.1 | F16: ='2024'!G9 -> 6750 | G16: ='2024'!H9 -> 3876 | H16: ='2024'!I9 -> 2874 | I16: ='2024'!J9 -> 1370225.2 | ... AC16: ='2024'!AD9 -> 208517.04
A17: 第1季 Q1 | B17: ='Q1,2024'!C9 -> 47423 | C17: ='Q1,2024'!D9 -> 25351 | D17: ='Q1,2024'!E9 -> 22072 | E17: ='Q1,2024'!F9 -> 2255953.1 | F17: ='Q1,2024'!G9 -> 6710 | G17: ='Q1,2024'!H9 -> 3828 | H17: ='Q1,2024'!I9 -> 2882 | I17: ='Q1,2024'!J9 -> 335329.73 | ... AC17: ='Q1,2024'!AD9 -> 50117.547
A18: 第2季 Q2 | B18: ='Q2,2024'!C9 -> 47197 | C18: ='Q2,2024'!D9 -> 25241 | D18: ='Q2,2024'!E9 -> 21956 | E18: ='Q2,2024'!F9 -> 2316506.8 | F18: ='Q2,2024'!G9 -> 6715 | G18: ='Q2,2024'!H9 -> 3821 | H18: ='Q2,2024'!I9 -> 2894 | I18: ='Q2,2024'!J9 -> 339114.3 | ... AC18: ='Q2,2024'!AD9 -> 53575.549
A19: 第3季 Q3 | B19: ='Q3,2024'!C9 -> 46631 | C19: ='Q3,2024'!D9 -> 24970 | D19: ='Q3,2024'!E9 -> 21661 | E19: ='Q3,2024'!F9 -> 2266117.6 | F19: ='Q3,2024'!G9 -> 6813 | G19: ='Q3,2024'!H9 -> 3877 | H19: ='Q3,2024'!I9 -> 2936 | I19: ='Q3,2024'!J9 -> 347924.03 | ... AC19: ='Q3,2024'!AD9 -> 52504.96
A20: 第4季 Q4 | B20: ='Q4,2024'!C9 -> 45751 | C20: ='Q4,2024'!D9 -> 24578 | D20: ='Q4,2024'!E9 -> 21173 | E20: ='Q4,2024'!F9 -> 2281584.6 | F20: ='Q4,2024'!G9 -> 6750 | G20: ='Q4,2024'!H9 -> 3876 | H20: ='Q4,2024'!I9 -> 2874 | I20: ='Q4,2024'!J9 -> 347857.13 | ... AC20: ='Q4,2024'!AD9 -> 52318.98
A21: 114年,2025 | B21: ='2025'!C9 -> 43857 | C21: ='2025'!D9 -> 23686 | D21: ='2025'!E9 -> 20171 | E21: ='2025'!F9 -> 9026237.2 | F21: ='2025'!G9 -> 3993 | G21: ='2025'!H9 -> 2479 | H21: ='2025'!I9 -> 1514 | I21: ='2025'!J9 -> 1239994.2 | ... AC21: ='2025'!AD9 -> 223606.53
A22: 第1季 Q1 | B22: ='Q1, 2025'!C9 -> 45625 | C22: ='Q1, 2025'!D9 -> 24508 | D22: ='Q1, 2025'!E9 -> 21117 | E22: ='Q1, 2025'!F9 -> 2241908.8 | F22: ='Q1, 2025'!G9 -> 6672 | G22: ='Q1, 2025'!H9 -> 3822 | H22: ='Q1, 2025'!I9 -> 2850 | I22: ='Q1, 2025'!J9 -> 344312.57 | ... AC22: ='Q1, 2025'!AD9 -> 52052.694
A23: 第2季 Q2 | B23: ='Q2, 2025'!C9 -> 45354 | C23: ='Q2, 2025'!D9 -> 24411 | D23: ='Q2, 2025'!E9 -> 20943 | E23: ='Q2, 2025'!F9 -> 2273898.2 | F23: ='Q2, 2025'!G9 -> 6786 | G23: ='Q2, 2025'!H9 -> 3885 | H23: ='Q2, 2025'!I9 -> 2901 | I23: ='Q2, 2025'!J9 -> 350704.76 | ... AC23: ='Q2, 2025'!AD9 -> 56113.13
A24: 第3季 Q3 | B24: ='Q3, 2025'!C9 -> 44778 | C24: ='Q3, 2025'!D9 -> 24176 | D24: ='Q3, 2025'!E9 -> 20602 | E24: ='Q3, 2025'!F9 -> 2216454.2 | F24: ='Q3, 2025'!G9 -> 6676 | G24: ='Q3, 2025'!H9 -> 3816 | H24: ='Q3, 2025'!I9 -> 2860 | I24: ='Q3, 2025'!J9 -> 345775.73 | ... AC24: ='Q3, 2025'!AD9 -> 56654.678
A25: 第4季 Q4 | B25: ='Q4, 2025'!C9 -> 43857 | C25: ='Q4, 2025'!D9 -> 23686 | D25: ='Q4, 2025'!E9 -> 20171 | E25: ='Q4, 2025'!F9 -> 2293976 | F25: ='Q4, 2025'!G9 -> 3993 | G25: ='Q4, 2025'!H9 -> 2479 | H25: ='Q4, 2025'!I9 -> 1514 | I25: ='Q4, 2025'!J9 -> 199201.15 | ... AC25: ='Q4, 2025'!AD9 -> 58786.032
A26: 資料來源：直轄市、縣(市)政府。
A27: Source : County and City Government.
A28: 附 註：1.一般對象：依身心障礙者日間照顧及住宿式照顧費用補助辦法第5條而發給之補助對象。
A29: 2.特殊對象：依身心障礙者日間照顧及住宿式照顧費用補助辦法第6條而發給之補助對象。
A30: 3.臺北市精神復健機構及護理之家符合特殊對象資格者，均調整為補助至家庭總收入平均分配全家人口之金額在當年度每人每月最低生活費五倍以上未達六倍者，並於114年10月底完成補助金額調整作業，因此114年第4季住宿式照顧補助個案由一般對象轉為特殊對象。
A31: 更新日期：2026/02/23

Sheet 2025
A1: 身心障礙者日間照顧及住宿式照顧補助Subsidies of Day Care and Residential Care for Disabled
A3: 114年,2025 | C3: =IF(C9=SUM(C10:C31),"",SUM(C10:C31)) | D3: =IF(D9=SUM(D10:D31),"",SUM(D10:D31)) | E3: =IF(E9=SUM(E10:E31),"",SUM(E10:E31)) | F3: =IF(F9=SUM(F10:F31),"",SUM(F10:F31)) | G3: =IF(G9=SUM(G10:G31),"",SUM(G10:G31)) | H3: =IF(H9=SUM(H10:H31),"",SUM(H10:H31)) | I3: =IF(I9=SUM(I10:I31),"",SUM(I10:I31)) | J3: =IF(J9=SUM(J10:J31),"",SUM(J10:J31)) | ... AD3: =IF(AD9=SUM(AD10:AD31),"",SUM(AD10:AD31))
A4: 區域別 Locality | C4: 日間照顧及住宿式照顧補助Subsidies for Day Care and Residential Care
C5: 合計 Total | G5: 一般對象 General | S5: 特殊對象 Special
G6: 計 Subtotal | K6: 住宿式照顧 Residential Care | O6: 日間照顧 Day Care | S6: 計 Subtotal | W6: 住宿式照顧 Residential Care | AA6: 日間照顧 Day Care
C7: 期底人數 Persons (End of Year) | F7: 金額 (千元) Amounts (NT$1,000) | G7: 期底人數 Persons (End of Year) | J7: 金額 (千元) Amounts (NT$1,000) | K7: 期底人數 Persons (End of Year) | N7: 金額 (千元) Amounts (NT$1,000) | O7: 期底人數 Persons (End of Year) | R7: 金額 (千元) Amounts (NT$1,000) | S7: 期底人數 Persons (End of Year) | V7: 金額 (千元) Amounts (NT$1,000) | W7: 期底人數 Persons (End of Year) | Z7: 金額 (千元) Amounts (NT$1,000) | AA7: 期底人數 Persons (End of Year) | AD7: 金額 (千元) Amounts (NT$1,000)
C8: 計 Subtotal | D8: 男 Male | E8: 女 Female | G8: 計 Subtotal | H8: 男 Male | I8: 女 Female | K8: 計 Subtotal | L8: 男 Male | M8: 女 Female | O8: 計 Subtotal | P8: 男 Male | Q8: 女 Female | S8: 計 Subtotal | T8: 男 Male | U8: 女 Female | W8: 計 Subtotal | X8: 男 Male | Y8: 女 Female | AA8: 計 Subtotal | AB8: 男 Male | AC8: 女 Female
A9: 總計 | B9: Total | C9: 43857 | D9: 23686 | E9: 20171 | F9: 9026237.2 | G9: 3993 | H9: 2479 | I9: 1514 | J9: 1239994.2 | K9: 2690 | L9: 1655 | M9: 1035 | N9: 1103936 | O9: 1303 | P9: 824 | Q9: 479 | R9: 136058.2 | S9: 39864 | T9: 21207 | U9: 18657 | V9: 7786243 | W9: 37981 | X9: 20096 | Y9: 17885 | Z9: 7562636.5 | AA9: 1883 | AB9: 1111 | AC9: 772 | AD9: 223606.53
A10: 新北市 | B10: New Taipei City | C10: 7426 | D10: 3701 | E10: 3725 | F10: 1327467.1 | G10: 375 | H10: 233 | I10: 142 | J10: 61191.871 | K10: 231 | L10: 136 | M10: 95 | N10: 46461.111 | O10: 144 | P10: 97 | Q10: 47 | R10: 14730.76 | S10: 7051 | T10: 3468 | U10: 3583 | V10: 1266275.3 | W10: 6886 | X10: 3371 | Y10: 3515 | Z10: 1247591.4 | AA10: 165 | AB10: 97 | AC10: 68 | AD10: 18683.86
A11: 臺北市 | B11: Taipei City | C11: 5493 | D11: 3019 | E11: 2474 | F11: 1312312.5 | G11: 1641 | H11: 1001 | I11: 640 | J11: 867863.86 | K11: 1413 | L11: 872 | M11: 541 | N11: 837780.17 | O11: 228 | P11: 129 | Q11: 99 | R11: 30083.691 | S11: 3852 | T11: 2018 | U11: 1834 | V11: 444448.68 | W11: 3415 | X11: 1761 | Y11: 1654 | Z11: 382602.73 | AA11: 437 | AB11: 257 | AC11: 180 | AD11: 61845.951
A12: 桃園市 | B12: Taoyuan City | C12: 3824 | D12: 1978 | E12: 1846 | F12: 812651.2 | G12: 206 | H12: 120 | I12: 86 | J12: 36818.187 | K12: 143 | L12: 82 | M12: 61 | N12: 29533.958 | O12: 63 | P12: 38 | Q12: 25 | R12: 7284.229 | S12: 3618 | T12: 1858 | U12: 1760 | V12: 775833.01 | W12: 3549 | X12: 1815 | Y12: 1734 | Z12: 766571.36 | AA12: 69 | AB12: 43 | AC12: 26 | AD12: 9261.647
A13: 臺中市 | B13: Taichung City | C13: 3862 | D13: 2196 | E13: 1666 | F13: 789879.3 | G13: 327 | H13: 187 | I13: 140 | J13: 45685.6 | K13: 121 | L13: 66 | M13: 55 | N13: 24306.538 | O13: 206 | P13: 121 | Q13: 85 | R13: 21379.062 | S13: 3535 | T13: 2009 | U13: 1526 | V13: 744193.69 | W13: 3255 | X13: 1857 | Y13: 1398 | Z13: 713074.09 | AA13: 280 | AB13: 152 | AC13: 128 | AD13: 31119.605
A14: 臺南市 | B14: Tainan City | C14: 2242 | D14: 1382 | E14: 860 | F14: 468741.24 | G14: 174 | H14: 117 | I14: 57 | J14: 25157.637 | K14: 79 | L14: 58 | M14: 21 | N14: 16480.371 | O14: 95 | P14: 59 | Q14: 36 | R14: 8677.266 | S14: 2068 | T14: 1265 | U14: 803 | V14: 443583.6 | W14: 1900 | X14: 1160 | Y14: 740 | Z14: 423762.05 | AA14: 168 | AB14: 105 | AC14: 63 | AD14: 19821.55
A15: 高雄市 | B15: Kaohsiung City | C15: 4826 | D15: 2576 | E15: 2250 | F15: 931544.58 | G15: 374 | H15: 252 | I15: 122 | J15: 48536.133 | K15: 117 | L15: 79 | M15: 38 | N15: 25563.361 | O15: 257 | P15: 173 | Q15: 84 | R15: 22972.772 | S15: 4452 | T15: 2324 | U15: 2128 | V15: 883008.45 | W15: 4241 | X15: 2204 | Y15: 2037 | Z15: 861215.92 | AA15: 211 | AB15: 120 | AC15: 91 | AD15: 21792.526
A16: 宜蘭縣 | B16: Yilan County | C16: 1532 | D16: 776 | E16: 756 | F16: 310764.42 | G16: 61 | H16: 42 | I16: 19 | J16: 10063.65 | K16: 46 | L16: 31 | M16: 15 | N16: 8901.404 | O16: 15 | P16: 11 | Q16: 4 | R16: 1162.246 | S16: 1471 | T16: 734 | U16: 737 | V16: 300700.77 | W16: 1382 | X16: 682 | Y16: 700 | Z16: 290909 | AA16: 89 | AB16: 52 | AC16: 37 | AD16: 9791.767
A17: 新竹縣 | B17: Hsinchu County | C17: 856 | D17: 470 | E17: 386 | F17: 168733.31 | G17: 53 | H17: 34 | I17: 19 | J17: 8021.939 | K17: 38 | L17: 21 | M17: 17 | N17: 6631.473 | O17: 15 | P17: 13 | Q17: 2 | R17: 1390.466 | S17: 803 | T17: 436 | U17: 367 | V17: 160711.37 | W17: 774 | X17: 417 | Y17: 357 | Z17: 157604.8 | AA17: 29 | AB17: 19 | AC17: 10 | AD17: 3106.569
A18: 苗栗縣 | B18: Miaoli County | C18: 1358 | D18: 739 | E18: 619 | F18: 285031.64 | G18: 42 | H18: 29 | I18: 13 | J18: 6021.287 | K18: 28 | L18: 19 | M18: 9 | N18: 4797.483 | O18: 14 | P18: 10 | Q18: 4 | R18: 1223.804 | S18: 1316 | T18: 710 | U18: 606 | V18: 279010.35 | W18: 1281 | X18: 692 | Y18: 589 | Z18: 275067 | AA18: 35 | AB18: 18 | AC18: 17 | AD18: 3943.352
A19: 彰化縣 | B19: Changhua County | C19: 2063 | D19: 1277 | E19: 786 | F19: 420069.59 | G19: 184 | H19: 114 | I19: 70 | J19: 32261.741 | K19: 111 | L19: 68 | M19: 43 | N19: 24307.96 | O19: 73 | P19: 46 | Q19: 27 | R19: 7953.781 | S19: 1879 | T19: 1163 | U19: 716 | V19: 387807.85 | W19: 1760 | X19: 1088 | Y19: 672 | Z19: 376064.29 | AA19: 119 | AB19: 75 | AC19: 44 | AD19: 11743.556
A20: 南投縣 | B20: Nantou County | C20: 1347 | D20: 755 | E20: 592 | F20: 277135.9 | G20: 55 | H20: 30 | I20: 25 | J20: 10645.206 | K20: 48 | L20: 27 | M20: 21 | N20: 9912.589 | O20: 7 | P20: 3 | Q20: 4 | R20: 732.617 | S20: 1292 | T20: 725 | U20: 567 | V20: 266490.7 | W20: 1266 | X20: 712 | Y20: 554 | Z20: 263809.66 | AA20: 26 | AB20: 13 | AC20: 13 | AD20: 2681.039
... A31: 連江縣 | B31: Lienchiang County | C31: 17 | D31: 10 | E31: 7 | F31: 3302.46 | G31: 1 | H31: 1 | I31: 0 | J31: 286.025 | K31: 1 | L31: 1 | M31: 0 | N31: 217.869 | O31: 0 | P31: 0 | Q31: 0 | R31: 68.156 | S31: 16 | T31: 9 | U31: 7 | V31: 3016.435 | W31: 16 | X31: 9 | Y31: 7 | Z31: 3016.435 | AA31: 0 | AB31: 0 | AC31: 0 | AD31: 0
A32: 資料來源：直轄市、縣(市)政府。
A33: 附 註：1.一般對象：依身心障礙者日間照顧及住宿式照顧費用補助辦法第5條而發給之補助對象。
A34: 2.特殊對象：依身心障礙者日間照顧及住宿式照顧費用補助辦法第6條而發給之補助對象。
A35: 3.臺北市精神復健機構及護理之家符合特殊對象資格者，均調整為補助至家庭總收入平均分配全家人口之金額在當年度每人每月最低生活費五倍以上未達六倍者，並於114年10月底完成補助金額調整作業，因此114年第4季住宿式照顧補助個案由一般對象轉為特殊對象。
A36: Source : County and City Government.
A38: 更新日期：2026/02/23

Sheet Q4, 2025
A1: 身心障礙者日間照顧及住宿式照顧補助Subsidies of Day Care and Residential Care for Disabled
A3: 114年第4季 Oct.-Dec., 2025 | C3: =IF(C9=SUM(C10:C31),"",SUM(C10:C31)) | D3: =IF(D9=SUM(D10:D31),"",SUM(D10:D31)) | E3: =IF(E9=SUM(E10:E31),"",SUM(E10:E31)) | F3: =IF(F9=SUM(F10:F31),"",SUM(F10:F31)) | G3: =IF(G9=SUM(G10:G31),"",SUM(G10:G31)) | H3: =IF(H9=SUM(H10:H31),"",SUM(H10:H31)) | I3: =IF(I9=SUM(I10:I31),"",SUM(I10:I31)) | J3: =IF(J9=SUM(J10:J31),"",SUM(J10:J31)) | ... AD3: =IF(AD9=SUM(AD10:AD31),"",SUM(AD10:AD31))
A4: 區域別 Locality | C4: 日間照顧及住宿式照顧補助Subsidies for Day Care and Residential Care
C5: 合計 Total | G5: 一般對象 General | S5: 特殊對象 Special
G6: 計 Subtotal | K6: 住宿式照顧 Residential Care | O6: 日間照顧 Day Care | S6: 計 Subtotal | W6: 住宿式照顧 Residential Care | AA6: 日間照顧 Day Care
C7: 期底人數 Persons (End of Year) | F7: 金額 (千元) Amounts (NT$1,000) | G7: 期底人數 Persons (End of Year) | J7: 金額 (千元) Amounts (NT$1,000) | K7: 期底人數 Persons (End of Year) | N7: 金額 (千元) Amounts (NT$1,000) | O7: 期底人數 Persons (End of Year) | R7: 金額 (千元) Amounts (NT$1,000) | S7: 期底人數 Persons (End of Year) | V7: 金額 (千元) Amounts (NT$1,000) | W7: 期底人數 Persons (End of Year) | Z7: 金額 (千元) Amounts (NT$1,000) | AA7: 期底人數 Persons (End of Year) | AD7: 金額 (千元) Amounts (NT$1,000)
C8: 計 Subtotal | D8: 男 Male | E8: 女 Female | G8: 計 Subtotal | H8: 男 Male | I8: 女 Female | K8: 計 Subtotal | L8: 男 Male | M8: 女 Female | O8: 計 Subtotal | P8: 男 Male | Q8: 女 Female | S8: 計 Subtotal | T8: 男 Male | U8: 女 Female | W8: 計 Subtotal | X8: 男 Male | Y8: 女 Female | AA8: 計 Subtotal | AB8: 男 Male | AC8: 女 Female
A9: 總計 | B9: Total | C9: 43857 | D9: 23686 | E9: 20171 | F9: 2293976 | G9: 3993 | H9: 2479 | I9: 1514 | J9: 199201.15 | K9: 2690 | L9: 1655 | M9: 1035 | N9: 165797.43 | O9: 1303 | P9: 824 | Q9: 479 | R9: 33403.717 | S9: 39864 | T9: 21207 | U9: 18657 | V9: 2094774.8 | W9: 37981 | X9: 20096 | Y9: 17885 | Z9: 2035988.8 | AA9: 1883 | AB9: 1111 | AC9: 772 | AD9: 58786.032
A10: 新北市 | B10: New Taipei City | C10: 7426 | D10: 3701 | E10: 3725 | F10: 316817.99 | G10: 375 | H10: 233 | I10: 142 | J10: 13852.949 | K10: 231 | L10: 136 | M10: 95 | N10: 10593.273 | O10: 144 | P10: 97 | Q10: 47 | R10: 3259.676 | S10: 7051 | T10: 3468 | U10: 3583 | V10: 302965.04 | W10: 6886 | X10: 3371 | Y10: 3515 | Z10: 298209.98 | AA10: 165 | AB10: 97 | AC10: 68 | AD10: 4755.063
A11: 臺北市 | B11: Taipei City | C11: 5493 | D11: 3019 | E11: 2474 | F11: 328728.88 | G11: 1641 | H11: 1001 | I11: 640 | J11: 106345.14 | K11: 1413 | L11: 872 | M11: 541 | N11: 98447.196 | O11: 228 | P11: 129 | Q11: 99 | R11: 7897.944 | S11: 3852 | T11: 2018 | U11: 1834 | V11: 222383.74 | W11: 3415 | X11: 1761 | Y11: 1654 | Z11: 205932.93 | AA11: 437 | AB11: 257 | AC11: 180 | AD11: 16450.815
A12: 桃園市 | B12: Taoyuan City | C12: 3824 | D12: 1978 | E12: 1846 | F12: 247104.61 | G12: 206 | H12: 120 | I12: 86 | J12: 11308.497 | K12: 143 | L12: 82 | M12: 61 | N12: 9182.919 | O12: 63 | P12: 38 | Q12: 25 | R12: 2125.578 | S12: 3618 | T12: 1858 | U12: 1760 | V12: 235796.11 | W12: 3549 | X12: 1815 | Y12: 1734 | Z12: 232985.84 | AA12: 69 | AB12: 43 | AC12: 26 | AD12: 2810.273
A13: 臺中市 | B13: Taichung City | C13: 3862 | D13: 2196 | E13: 1666 | F13: 194929.4 | G13: 327 | H13: 187 | I13: 140 | J13: 10973.958 | K13: 121 | L13: 66 | M13: 55 | N13: 6048.629 | O13: 206 | P13: 121 | Q13: 85 | R13: 4925.329 | S13: 3535 | T13: 2009 | U13: 1526 | V13: 183955.44 | W13: 3255 | X13: 1857 | Y13: 1398 | Z13: 175952.38 | AA13: 280 | AB13: 152 | AC13: 128 | AD13: 8003.067
A14: 臺南市 | B14: Tainan City | C14: 2242 | D14: 1382 | E14: 860 | F14: 118786.44 | G14: 174 | H14: 117 | I14: 57 | J14: 6181.107 | K14: 79 | L14: 58 | M14: 21 | N14: 3906.224 | O14: 95 | P14: 59 | Q14: 36 | R14: 2274.883 | S14: 2068 | T14: 1265 | U14: 803 | V14: 112605.33 | W14: 1900 | X14: 1160 | Y14: 740 | Z14: 107609.76 | AA14: 168 | AB14: 105 | AC14: 63 | AD14: 4995.575
A15: 高雄市 | B15: Kaohsiung City | C15: 4826 | D15: 2576 | E15: 2250 | F15: 227097.1 | G15: 374 | H15: 252 | I15: 122 | J15: 11588.276 | K15: 117 | L15: 79 | M15: 38 | N15: 5884.554 | O15: 257 | P15: 173 | Q15: 84 | R15: 5703.722 | S15: 4452 | T15: 2324 | U15: 2128 | V15: 215508.82 | W15: 4241 | X15: 2204 | Y15: 2037 | Z15: 209277.51 | AA15: 211 | AB15: 120 | AC15: 91 | AD15: 6231.309
A16: 宜蘭縣 | B16: Yilan County | C16: 1532 | D16: 776 | E16: 756 | F16: 76434.591 | G16: 61 | H16: 42 | I16: 19 | J16: 2638.595 | K16: 46 | L16: 31 | M16: 15 | N16: 2293.502 | O16: 15 | P16: 11 | Q16: 4 | R16: 345.093 | S16: 1471 | T16: 734 | U16: 737 | V16: 73795.996 | W16: 1382 | X16: 682 | Y16: 700 | Z16: 71354.804 | AA16: 89 | AB16: 52 | AC16: 37 | AD16: 2441.192
A17: 新竹縣 | B17: Hsinchu County | C17: 856 | D17: 470 | E17: 386 | F17: 41952.627 | G17: 53 | H17: 34 | I17: 19 | J17: 2200.644 | K17: 38 | L17: 21 | M17: 17 | N17: 1854.558 | O17: 15 | P17: 13 | Q17: 2 | R17: 346.086 | S17: 803 | T17: 436 | U17: 367 | V17: 39751.983 | W17: 774 | X17: 417 | Y17: 357 | Z17: 38957.175 | AA17: 29 | AB17: 19 | AC17: 10 | AD17: 794.808
A18: 苗栗縣 | B18: Miaoli County | C18: 1358 | D18: 739 | E18: 619 | F18: 70252.518 | G18: 42 | H18: 29 | I18: 13 | J18: 1535.328 | K18: 28 | L18: 19 | M18: 9 | N18: 1263.825 | O18: 14 | P18: 10 | Q18: 4 | R18: 271.503 | S18: 1316 | T18: 710 | U18: 606 | V18: 68717.19 | W18: 1281 | X18: 692 | Y18: 589 | Z18: 67719.608 | AA18: 35 | AB18: 18 | AC18: 17 | AD18: 997.582
A19: 彰化縣 | B19: Changhua County | C19: 2063 | D19: 1277 | E19: 786 | F19: 103198.59 | G19: 184 | H19: 114 | I19: 70 | J19: 7553.501 | K19: 111 | L19: 68 | M19: 43 | N19: 5826.7 | O19: 73 | P19: 46 | Q19: 27 | R19: 1726.801 | S19: 1879 | T19: 1163 | U19: 716 | V19: 95645.09 | W19: 1760 | X19: 1088 | Y19: 672 | Z19: 92852.313 | AA19: 119 | AB19: 75 | AC19: 44 | AD19: 2792.777
A20: 南投縣 | B20: Nantou County | C20: 1347 | D20: 755 | E20: 592 | F20: 93720.576 | G20: 55 | H20: 30 | I20: 25 | J20: 3551.214 | K20: 48 | L20: 27 | M20: 21 | N20: 3301.926 | O20: 7 | P20: 3 | Q20: 4 | R20: 249.288 | S20: 1292 | T20: 725 | U20: 567 | V20: 90169.362 | W20: 1266 | X20: 712 | Y20: 554 | Z20: 89102.469 | AA20: 26 | AB20: 13 | AC20: 13 | AD20: 1066.893
... A31: 連江縣 | B31: Lienchiang County | C31: 17 | D31: 10 | E31: 7 | F31: 836.671 | G31: 1 | H31: 1 | I31: 0 | J31: 55.25 | K31: 1 | L31: 1 | M31: 0 | N31: 55.25 | O31: 0 | P31: 0 | Q31: 0 | R31: 0 | S31: 16 | T31: 9 | U31: 7 | V31: 781.421 | W31: 16 | X31: 9 | Y31: 7 | Z31: 781.421 | AA31: 0 | AB31: 0 | AC31: 0 | AD31: 0
A32: 資料來源：直轄市、縣(市)政府。
A33: 附 註：1.一般對象：依身心障礙者日間照顧及住宿式照顧費用補助辦法第5條而發給之補助對象。
A34: 2.特殊對象：依身心障礙者日間照顧及住宿式照顧費用補助辦法第6條而發給之補助對象。
A36: 更新日期：2026/02/23

Sheet Q3, 2025
A1: 身心障礙者日間照顧及住宿式照顧補助Subsidies of Day Care and Residential Care for Disabled
A3: 114年第3季 July-Sept., 2025 | C3: =IF(C9=SUM(C10:C31),"",SUM(C10:C31)) | D3: =IF(D9=SUM(D10:D31),"",SUM(D10:D31)) | E3: =IF(E9=SUM(E10:E31),"",SUM(E10:E31)) | F3: =IF(F9=SUM(F10:F31),"",SUM(F10:F31)) | G3: =IF(G9=SUM(G10:G31),"",SUM(G10:G31)) | H3: =IF(H9=SUM(H10:H31),"",SUM(H10:H31)) | I3: =IF(I9=SUM(I10:I31),"",SUM(I10:I31)) | J3: =IF(J9=SUM(J10:J31),"",SUM(J10:J31)) | ... AD3: =IF(AD9=SUM(AD10:AD31),"",SUM(AD10:AD31))
A4: 區域別 Locality | C4: 日間照顧及住宿式照顧補助Subsidies for Day Care and Residential Care
C5: 合計 Total | G5: 一般對象 General | S5: 特殊對象 Special
G6: 計 Subtotal | K6: 住宿式照顧 Residential Care | O6: 日間照顧 Day Care | S6: 計 Subtotal | W6: 住宿式照顧 Residential Care | AA6: 日間照顧 Day Care
C7: 期底人數 Persons (End of Year) | F7: 金額 (千元) Amounts (NT$1,000) | G7: 期底人數 Persons (End of Year) | J7: 金額 (千元) Amounts (NT$1,000) | K7: 期底人數 Persons (End of Year) | N7: 金額 (千元) Amounts (NT$1,000) | O7: 期底人數 Persons (End of Year) | R7: 金額 (千元) Amounts (NT$1,000) | S7: 期底人數 Persons (End of Year) | V7: 金額 (千元) Amounts (NT$1,000) | W7: 期底人數 Persons (End of Year) | Z7: 金額 (千元) Amounts (NT$1,000) | AA7: 期底人數 Persons (End of Year) | AD7: 金額 (千元) Amounts (NT$1,000)
C8: 計 Subtotal | D8: 男 Male | E8: 女 Female | G8: 計 Subtotal | H8: 男 Male | I8: 女 Female | K8: 計 Subtotal | L8: 男 Male | M8: 女 Female | O8: 計 Subtotal | P8: 男 Male | Q8: 女 Female | S8: 計 Subtotal | T8: 男 Male | U8: 女 Female | W8: 計 Subtotal | X8: 男 Male | Y8: 女 Female | AA8: 計 Subtotal | AB8: 男 Male | AC8: 女 Female
A9: 總計 | B9: Total | C9: 44778 | D9: 24176 | E9: 20602 | F9: 2216454.2 | G9: 6676 | H9: 3816 | I9: 2860 | J9: 345775.73 | K9: 5284 | L9: 2941 | M9: 2343 | N9: 311482.78 | O9: 1392 | P9: 875 | Q9: 517 | R9: 34292.956 | S9: 38102 | T9: 20360 | U9: 17742 | V9: 1870678.5 | W9: 36194 | X9: 19226 | Y9: 16968 | Z9: 1814023.8 | AA9: 1908 | AB9: 1134 | AC9: 774 | AD9: 56654.678
A10: 新北市 | B10: New Taipei City | C10: 7874 | D10: 3947 | E10: 3927 | F10: 330146.89 | G10: 419 | H10: 262 | I10: 157 | J10: 14843.347 | K10: 235 | L10: 139 | M10: 96 | N10: 11406.363 | O10: 184 | P10: 123 | Q10: 61 | R10: 3436.984 | S10: 7455 | T10: 3685 | U10: 3770 | V10: 315303.54 | W10: 7280 | X10: 3580 | Y10: 3700 | Z10: 310609.4 | AA10: 175 | AB10: 105 | AC10: 70 | AD10: 4694.14
A11: 臺北市 | B11: Taipei City | C11: 5588 | D11: 3078 | E11: 2510 | F11: 331449.86 | G11: 4208 | H11: 2272 | I11: 1936 | J11: 255299.85 | K11: 3971 | L11: 2137 | M11: 1834 | N11: 247306.15 | O11: 237 | P11: 135 | Q11: 102 | R11: 7993.698 | S11: 1380 | T11: 806 | U11: 574 | V11: 76150.014 | W11: 930 | X11: 540 | Y11: 390 | Z11: 59942.406 | AA11: 450 | AB11: 266 | AC11: 184 | AD11: 16207.608
A12: 桃園市 | B12: Taoyuan City | C12: 3719 | D12: 1893 | E12: 1826 | F12: 183396.29 | G12: 194 | H12: 111 | I12: 83 | J12: 8173.997 | K12: 130 | L12: 74 | M12: 56 | N12: 6537.247 | O12: 64 | P12: 37 | Q12: 27 | R12: 1636.75 | S12: 3525 | T12: 1782 | U12: 1743 | V12: 175222.29 | W12: 3458 | X12: 1739 | Y12: 1719 | Z12: 173070.67 | AA12: 67 | AB12: 43 | AC12: 24 | AD12: 2151.621
A13: 臺中市 | B13: Taichung City | C13: 3910 | D13: 2230 | E13: 1680 | F13: 196930.21 | G13: 335 | H13: 196 | I13: 139 | J13: 11383.55 | K13: 121 | L13: 67 | M13: 54 | N13: 6084.873 | O13: 214 | P13: 129 | Q13: 85 | R13: 5298.677 | S13: 3575 | T13: 2034 | U13: 1541 | V13: 185546.66 | W13: 3302 | X13: 1885 | Y13: 1417 | Z13: 177685.01 | AA13: 273 | AB13: 149 | AC13: 124 | AD13: 7861.648
A14: 臺南市 | B14: Tainan City | C14: 2259 | D14: 1398 | E14: 861 | F14: 118752.67 | G14: 177 | H14: 118 | I14: 59 | J14: 5685.84 | K14: 73 | L14: 55 | M14: 18 | N14: 3501.827 | O14: 104 | P14: 63 | Q14: 41 | R14: 2184.013 | S14: 2082 | T14: 1280 | U14: 802 | V14: 113066.83 | W14: 1915 | X14: 1173 | Y14: 742 | Z14: 108106.26 | AA14: 167 | AB14: 107 | AC14: 60 | AD14: 4960.57
A15: 高雄市 | B15: Kaohsiung City | C15: 4980 | D15: 2655 | E15: 2325 | F15: 232332.76 | G15: 416 | H15: 266 | I15: 150 | J15: 12324.094 | K15: 158 | L15: 96 | M15: 62 | N15: 6307.869 | O15: 258 | P15: 170 | Q15: 88 | R15: 6016.225 | S15: 4564 | T15: 2389 | U15: 2175 | V15: 220008.67 | W15: 4379 | X15: 2287 | Y15: 2092 | Z15: 214737.17 | AA15: 185 | AB15: 102 | AC15: 83 | AD15: 5271.5
A16: 宜蘭縣 | B16: Yilan County | C16: 1555 | D16: 794 | E16: 761 | F16: 77640.235 | G16: 57 | H16: 40 | I16: 17 | J16: 2520.263 | K16: 43 | L16: 29 | M16: 14 | N16: 2207.79 | O16: 14 | P16: 11 | Q16: 3 | R16: 312.473 | S16: 1498 | T16: 754 | U16: 744 | V16: 75119.972 | W16: 1409 | X16: 702 | Y16: 707 | Z16: 72668.561 | AA16: 89 | AB16: 52 | AC16: 37 | AD16: 2451.411
A17: 新竹縣 | B17: Hsinchu County | C17: 875 | D17: 477 | E17: 398 | F17: 42454.755 | G17: 49 | H17: 32 | I17: 17 | J17: 2005.509 | K17: 35 | L17: 19 | M17: 16 | N17: 1682.915 | O17: 14 | P17: 13 | Q17: 1 | R17: 322.594 | S17: 826 | T17: 445 | U17: 381 | V17: 40449.246 | W17: 798 | X17: 426 | Y17: 372 | Z17: 39665.842 | AA17: 28 | AB17: 19 | AC17: 9 | AD17: 783.404
A18: 苗栗縣 | B18: Miaoli County | C18: 1376 | D18: 747 | E18: 629 | F18: 71350.16 | G18: 38 | H18: 26 | I18: 12 | J18: 1461.477 | K18: 25 | L18: 16 | M18: 9 | N18: 1171.742 | O18: 13 | P18: 10 | Q18: 3 | R18: 289.735 | S18: 1338 | T18: 721 | U18: 617 | V18: 69888.683 | W18: 1304 | X18: 704 | Y18: 600 | Z18: 68909.541 | AA18: 34 | AB18: 17 | AC18: 17 | AD18: 979.142
A19: 彰化縣 | B19: Changhua County | C19: 2168 | D19: 1344 | E19: 824 | F19: 104823.36 | G19: 230 | H19: 144 | I19: 86 | J19: 8264.482 | K19: 125 | L19: 79 | M19: 46 | N19: 6203.52 | O19: 105 | P19: 65 | Q19: 40 | R19: 2060.962 | S19: 1938 | T19: 1200 | U19: 738 | V19: 96558.881 | W19: 1775 | X19: 1095 | Y19: 680 | Z19: 93260.227 | AA19: 163 | AB19: 105 | AC19: 58 | AD19: 3298.654
A20: 南投縣 | B20: Nantou County | C20: 1359 | D20: 757 | E20: 602 | F20: 46702.707 | G20: 56 | H20: 30 | I20: 26 | J20: 1802.771 | K20: 48 | L20: 27 | M20: 21 | N20: 1673.154 | O20: 8 | P20: 3 | Q20: 5 | R20: 129.617 | S20: 1303 | T20: 727 | U20: 576 | V20: 44899.936 | W20: 1279 | X20: 714 | Y20: 565 | Z20: 44400.96 | AA20: 24 | AB20: 13 | AC20: 11 | AD20: 498.976
... A31: 連江縣 | B31: Lienchiang County | C31: 19 | D31: 13 | E31: 6 | F31: 844.751 | G31: 3 | H31: 3 | I31: 0 | J31: 83.589 | K31: 2 | L31: 2 | M31: 0 | N31: 63.169 | O31: 1 | P31: 1 | Q31: 0 | R31: 20.42 | S31: 16 | T31: 10 | U31: 6 | V31: 761.162 | W31: 16 | X31: 10 | Y31: 6 | Z31: 761.162 | AA31: 0 | AB31: 0 | AC31: 0 | AD31: 0
A32: 資料來源：直轄市、縣(市)政府。
A33: 附 註：1.一般對象：依身心障礙者日間照顧及住宿式照顧費用補助辦法第5條而發給之補助對象。
A34: 2.特殊對象：依身心障礙者日間照顧及住宿式照顧費用補助辦法第6條而發給之補助對象。
A36: Source : County and City Government.
A38: 更新日期：2025/11/17

Sheet Q2, 2025
A1: 身心障礙者日間照顧及住宿式照顧補助Subsidies of Day Care and Residential Care for Disabled
A3: 114年第2季 Apr.-June, 2025 | C3: =IF(C9=SUM(C10:C31),"",SUM(C10:C31)) | D3: =IF(D9=SUM(D10:D31),"",SUM(D10:D31)) | E3: =IF(E9=SUM(E10:E31),"",SUM(E10:E31)) | F3: =IF(F9=SUM(F10:F31),"",SUM(F10:F31)) | G3: =IF(G9=SUM(G10:G31),"",SUM(G10:G31)) | H3: =IF(H9=SUM(H10:H31),"",SUM(H10:H31)) | I3: =IF(I9=SUM(I10:I31),"",SUM(I10:I31)) | J3: =IF(J9=SUM(J10:J31),"",SUM(J10:J31)) | ... AD3: =IF(AD9=SUM(AD10:AD31),"",SUM(AD10:AD31))
A4: 區域別 Locality | C4: 日間照顧及住宿式照顧補助Subsidies for Day Care and Residential Care
C5: 合計 Total | G5: 一般對象 General | S5: 特殊對象 Special
G6: 計 Subtotal | K6: 住宿式照顧 Residential Care | O6: 日間照顧 Day Care | S6: 計 Subtotal | W6: 住宿式照顧 Residential Care | AA6: 日間照顧 Day Care
C7: 期底人數 Persons (End of Year) | F7: 金額 (千元) Amounts (NT$1,000) | G7: 期底人數 Persons (End of Year) | J7: 金額 (千元) Amounts (NT$1,000) | K7: 期底人數 Persons (End of Year) | N7: 金額 (千元) Amounts (NT$1,000) | O7: 期底人數 Persons (End of Year) | R7: 金額 (千元) Amounts (NT$1,000) | S7: 期底人數 Persons (End of Year) | V7: 金額 (千元) Amounts (NT$1,000) | W7: 期底人數 Persons (End of Year) | Z7: 金額 (千元) Amounts (NT$1,000) | AA7: 期底人數 Persons (End of Year) | AD7: 金額 (千元) Amounts (NT$1,000)
C8: 計 Subtotal | D8: 男 Male | E8: 女 Female | G8: 計 Subtotal | H8: 男 Male | I8: 女 Female | K8: 計 Subtotal | L8: 男 Male | M8: 女 Female | O8: 計 Subtotal | P8: 男 Male | Q8: 女 Female | S8: 計 Subtotal | T8: 男 Male | U8: 女 Female | W8: 計 Subtotal | X8: 男 Male | Y8: 女 Female | AA8: 計 Subtotal | AB8: 男 Male | AC8: 女 Female
A9: 總計 | B9: Total | C9: 45354 | D9: 24411 | E9: 20943 | F9: 2273898.2 | G9: 6786 | H9: 3885 | I9: 2901 | J9: 350704.76 | K9: 5357 | L9: 2983 | M9: 2374 | N9: 316071.38 | O9: 1429 | P9: 902 | Q9: 527 | R9: 34633.386 | S9: 38568 | T9: 20526 | U9: 18042 | V9: 1923193.4 | W9: 36715 | X9: 19430 | Y9: 17285 | Z9: 1867080.3 | AA9: 1853 | AB9: 1096 | AC9: 757 | AD9: 56113.13
A10: 新北市 | B10: New Taipei City | C10: 8034 | D10: 4011 | E10: 4023 | F10: 335248.61 | G10: 410 | H10: 251 | I10: 159 | J10: 15429.5 | K10: 239 | L10: 142 | M10: 97 | N10: 11593.684 | O10: 171 | P10: 109 | Q10: 62 | R10: 3835.816 | S10: 7624 | T10: 3760 | U10: 3864 | V10: 319819.11 | W10: 7460 | X10: 3662 | Y10: 3798 | Z10: 315133.18 | AA10: 164 | AB10: 98 | AC10: 66 | AD10: 4685.928
A11: 臺北市 | B11: Taipei City | C11: 5577 | D11: 3079 | E11: 2498 | F11: 330734.29 | G11: 4242 | H11: 2298 | I11: 1944 | J11: 256716.16 | K11: 4015 | L11: 2168 | M11: 1847 | N11: 248988.88 | O11: 227 | P11: 130 | Q11: 97 | R11: 7727.283 | S11: 1335 | T11: 781 | U11: 554 | V11: 74018.136 | W11: 897 | X11: 523 | Y11: 374 | Z11: 58018.11 | AA11: 438 | AB11: 258 | AC11: 180 | AD11: 16000.026
A12: 桃園市 | B12: Taoyuan City | C12: 3786 | D12: 1929 | E12: 1857 | F12: 189003.52 | G12: 193 | H12: 109 | I12: 84 | J12: 8268.261 | K12: 128 | L12: 68 | M12: 60 | N12: 6585.434 | O12: 65 | P12: 41 | Q12: 24 | R12: 1682.827 | S12: 3593 | T12: 1820 | U12: 1773 | V12: 180735.26 | W12: 3523 | X12: 1774 | Y12: 1749 | Z12: 178553.45 | AA12: 70 | AB12: 46 | AC12: 24 | AD12: 2181.81
A13: 臺中市 | B13: Taichung City | C13: 3974 | D13: 2262 | E13: 1712 | F13: 198304.78 | G13: 355 | H13: 211 | I13: 144 | J13: 11651.049 | K13: 124 | L13: 69 | M13: 55 | N13: 6123.738 | O13: 231 | P13: 142 | Q13: 89 | R13: 5527.311 | S13: 3619 | T13: 2051 | U13: 1568 | V13: 186653.73 | W13: 3347 | X13: 1901 | Y13: 1446 | Z13: 178886.52 | AA13: 272 | AB13: 150 | AC13: 122 | AD13: 7767.213
A14: 臺南市 | B14: Tainan City | C14: 2252 | D14: 1397 | E14: 855 | F14: 115327.97 | G14: 179 | H14: 118 | I14: 61 | J14: 6528.684 | K14: 87 | L14: 63 | M14: 24 | N14: 4410.071 | O14: 92 | P14: 55 | Q14: 37 | R14: 2118.613 | S14: 2073 | T14: 1279 | U14: 794 | V14: 108799.28 | W14: 1907 | X14: 1174 | Y14: 733 | Z14: 103882.98 | AA14: 166 | AB14: 105 | AC14: 61 | AD14: 4916.305
A15: 高雄市 | B15: Kaohsiung City | C15: 5083 | D15: 2708 | E15: 2375 | F15: 235135.07 | G15: 450 | H15: 291 | I15: 159 | J15: 12179.805 | K15: 165 | L15: 103 | M15: 62 | N15: 6579.396 | O15: 285 | P15: 188 | Q15: 97 | R15: 5600.409 | S15: 4633 | T15: 2417 | U15: 2216 | V15: 222955.26 | W15: 4458 | X15: 2323 | Y15: 2135 | Z15: 217822.13 | AA15: 175 | AB15: 94 | AC15: 81 | AD15: 5133.13
A16: 宜蘭縣 | B16: Yilan County | C16: 1580 | D16: 791 | E16: 789 | F16: 78395.17 | G16: 56 | H16: 39 | I16: 17 | J16: 2467.822 | K16: 43 | L16: 29 | M16: 14 | N16: 2206.133 | O16: 13 | P16: 10 | Q16: 3 | R16: 261.689 | S16: 1524 | T16: 752 | U16: 772 | V16: 75927.348 | W16: 1433 | X16: 700 | Y16: 733 | Z16: 73466.002 | AA16: 91 | AB16: 52 | AC16: 39 | AD16: 2461.346
A17: 新竹縣 | B17: Hsinchu County | C17: 878 | D17: 473 | E17: 405 | F17: 42278.544 | G17: 48 | H17: 30 | I17: 18 | J17: 1948.115 | K17: 34 | L17: 18 | M17: 16 | N17: 1612.195 | O17: 14 | P17: 12 | Q17: 2 | R17: 335.92 | S17: 830 | T17: 443 | U17: 387 | V17: 40330.429 | W17: 801 | X17: 424 | Y17: 377 | Z17: 39543.665 | AA17: 29 | AB17: 19 | AC17: 10 | AD17: 786.764
A18: 苗栗縣 | B18: Miaoli County | C18: 1390 | D18: 748 | E18: 642 | F18: 71412.353 | G18: 41 | H18: 29 | I18: 12 | J18: 1446.427 | K18: 25 | L18: 16 | M18: 9 | N18: 1131.608 | O18: 16 | P18: 13 | Q18: 3 | R18: 314.819 | S18: 1349 | T18: 719 | U18: 630 | V18: 69965.926 | W18: 1315 | X18: 701 | Y18: 614 | Z18: 68968.963 | AA18: 34 | AB18: 18 | AC18: 16 | AD18: 996.963
A19: 彰化縣 | B19: Changhua County | C19: 2168 | D19: 1344 | E19: 824 | F19: 106198.69 | G19: 224 | H19: 139 | I19: 85 | J19: 8438.958 | K19: 127 | L19: 77 | M19: 50 | N19: 6329.265 | O19: 97 | P19: 62 | Q19: 35 | R19: 2109.693 | S19: 1944 | T19: 1205 | U19: 739 | V19: 97759.73 | W19: 1807 | X19: 1119 | Y19: 688 | Z19: 94707.187 | AA19: 137 | AB19: 86 | AC19: 51 | AD19: 3052.543
A20: 南投縣 | B20: Nantou County | C20: 1373 | D20: 758 | E20: 615 | F20: 89399.551 | G20: 56 | H20: 30 | I20: 26 | J20: 3444.176 | K20: 48 | L20: 28 | M20: 20 | N20: 3226.38 | O20: 8 | P20: 2 | Q20: 6 | R20: 217.796 | S20: 1317 | T20: 728 | U20: 589 | V20: 85955.375 | W20: 1294 | X20: 715 | Y20: 579 | Z20: 85321.147 | AA20: 23 | AB20: 13 | AC20: 10 | AD20: 634.228
... A31: 連江縣 | B31: Lienchiang County | C31: 17 | D31: 11 | E31: 6 | F31: 810.519 | G31: 2 | H31: 2 | I31: 0 | J31: 73.593 | K31: 1 | L31: 1 | M31: 0 | N31: 49.725 | O31: 1 | P31: 1 | Q31: 0 | R31: 23.868 | S31: 15 | T31: 9 | U31: 6 | V31: 736.926 | W31: 15 | X31: 9 | Y31: 6 | Z31: 736.926 | AA31: 0 | AB31: 0 | AC31: 0 | AD31: 0
A32: 資料來源：直轄市、縣(市)政府。
A33: 附 註：1.一般對象：依身心障礙者日間照顧及住宿式照顧費用補助辦法第5條而發給之補助對象。
A34: 2.特殊對象：依身心障礙者日間照顧及住宿式照顧費用補助辦法第6條而發給之補助對象。
A35: Source : County and City Government.
A36: 更新日期：2025/08/15
A38: 總計 | B38: Total | C38: 50455 | D38: 27134 | E38: 23321 | F38: 2349252.5 | G38: 7674 | H38: 4414 | I38: 3260 | J38: 371300.25 | K38: 5934 | L38: 3315 | M38: 2619 | N38: 330743.84 | O38: 1740 | P38: 1099 | Q38: 641 | R38: 40556.407 | S38: 42781 | T38: 22720 | U38: 20061 | V38: 1977952.2 | W38: 41095 | X38: 21702 | Y38: 19393 | Z38: 1927515.3 | AA38: 1686 | AB38: 1018 | AC38: 668 | AD38: 50436.923

Sheet Q1, 2025
A1: 身心障礙者日間照顧及住宿式照顧補助Subsidies of Day Care and Residential Care for Disabled
A3: 114年第1季Jan.-Mar., 2025 | C3: =IF(C9=SUM(C10:C31),"",SUM(C10:C31)) | D3: =IF(D9=SUM(D10:D31),"",SUM(D10:D31)) | E3: =IF(E9=SUM(E10:E31),"",SUM(E10:E31)) | F3: =IF(F9=SUM(F10:F31),"",SUM(F10:F31)) | G3: =IF(G9=SUM(G10:G31),"",SUM(G10:G31)) | H3: =IF(H9=SUM(H10:H31),"",SUM(H10:H31)) | I3: =IF(I9=SUM(I10:I31),"",SUM(I10:I31)) | J3: =IF(J9=SUM(J10:J31),"",SUM(J10:J31)) | ... AD3: =IF(AD9=SUM(AD10:AD31),"",SUM(AD10:AD31))
A4: 區域別 Locality | C4: 日間照顧及住宿式照顧補助Subsidies for Day Care and Residential Care
C5: 合計 Total | G5: 一般對象 General | S5: 特殊對象 Special
G6: 計 Subtotal | K6: 住宿式照顧 Residential Care | O6: 日間照顧 Day Care | S6: 計 Subtotal | W6: 住宿式照顧 Residential Care | AA6: 日間照顧 Day Care
C7: 期底人數 Persons (End of Year) | F7: 金額 (千元) Amounts (NT$1,000) | G7: 期底人數 Persons (End of Year) | J7: 金額 (千元) Amounts (NT$1,000) | K7: 期底人數 Persons (End of Year) | N7: 金額 (千元) Amounts (NT$1,000) | O7: 期底人數 Persons (End of Year) | R7: 金額 (千元) Amounts (NT$1,000) | S7: 期底人數 Persons (End of Year) | V7: 金額 (千元) Amounts (NT$1,000) | W7: 期底人數 Persons (End of Year) | Z7: 金額 (千元) Amounts (NT$1,000) | AA7: 期底人數 Persons (End of Year) | AD7: 金額 (千元) Amounts (NT$1,000)
C8: 計 Subtotal | D8: 男 Male | E8: 女 Female | G8: 計 Subtotal | H8: 男 Male | I8: 女 Female | K8: 計 Subtotal | L8: 男 Male | M8: 女 Female | O8: 計 Subtotal | P8: 男 Male | Q8: 女 Female | S8: 計 Subtotal | T8: 男 Male | U8: 女 Female | W8: 計 Subtotal | X8: 男 Male | Y8: 女 Female | AA8: 計 Subtotal | AB8: 男 Male | AC8: 女 Female
A9: 總計 | B9: Total | C9: 45625 | D9: 24508 | E9: 21117 | F9: 2241908.8 | G9: 6672 | H9: 3822 | I9: 2850 | J9: 344312.57 | K9: 5262 | L9: 2930 | M9: 2332 | N9: 310584.43 | O9: 1410 | P9: 892 | Q9: 518 | R9: 33728.139 | S9: 38953 | T9: 20686 | U9: 18267 | V9: 1897596.2 | W9: 37223 | X9: 19661 | Y9: 17562 | Z9: 1845543.5 | AA9: 1730 | AB9: 1025 | AC9: 705 | AD9: 52052.694
A10: 新北市 | B10: New Taipei City | C10: 8146 | D10: 4059 | E10: 4087 | F10: 345253.66 | G10: 437 | H10: 273 | I10: 164 | J10: 17066.075 | K10: 263 | L10: 158 | M10: 105 | N10: 12867.791 | O10: 174 | P10: 115 | Q10: 59 | R10: 4198.284 | S10: 7709 | T10: 3786 | U10: 3923 | V10: 328187.58 | W10: 7547 | X10: 3690 | Y10: 3857 | Z10: 323638.85 | AA10: 162 | AB10: 96 | AC10: 66 | AD10: 4548.729
A11: 臺北市 | B11: Taipei City | C11: 5359 | D11: 2955 | E11: 2404 | F11: 321399.51 | G11: 4084 | H11: 2208 | I11: 1876 | J11: 249502.72 | K11: 3886 | L11: 2088 | M11: 1798 | N11: 243037.95 | O11: 198 | P11: 120 | Q11: 78 | R11: 6464.766 | S11: 1275 | T11: 747 | U11: 528 | V11: 71896.791 | W11: 906 | X11: 528 | Y11: 378 | Z11: 58709.289 | AA11: 369 | AB11: 219 | AC11: 150 | AD11: 13187.502
A12: 桃園市 | B12: Taoyuan City | C12: 4055 | D12: 2085 | E12: 1970 | F12: 193146.78 | G12: 214 | H12: 120 | I12: 94 | J12: 9067.432 | K12: 143 | L12: 75 | M12: 68 | N12: 7228.358 | O12: 71 | P12: 45 | Q12: 26 | R12: 1839.074 | S12: 3841 | T12: 1965 | U12: 1876 | V12: 184079.35 | W12: 3769 | X12: 1918 | Y12: 1851 | Z12: 181961.4 | AA12: 72 | AB12: 47 | AC12: 25 | AD12: 2117.943
A13: 臺中市 | B13: Taichung City | C13: 4026 | D13: 2299 | E13: 1727 | F13: 199714.9 | G13: 360 | H13: 214 | I13: 146 | J13: 11677.043 | K13: 122 | L13: 71 | M13: 51 | N13: 6049.298 | O13: 238 | P13: 143 | Q13: 95 | R13: 5627.745 | S13: 3666 | T13: 2085 | U13: 1581 | V13: 188037.86 | W13: 3399 | X13: 1935 | Y13: 1464 | Z13: 180550.18 | AA13: 267 | AB13: 150 | AC13: 117 | AD13: 7487.677
A14: 臺南市 | B14: Tainan City | C14: 2253 | D14: 1404 | E14: 849 | F14: 115874.17 | G14: 185 | H14: 125 | I14: 60 | J14: 6762.006 | K14: 94 | L14: 67 | M14: 27 | N14: 4662.249 | O14: 91 | P14: 58 | Q14: 33 | R14: 2099.757 | S14: 2068 | T14: 1279 | U14: 789 | V14: 109112.16 | W14: 1907 | X14: 1181 | Y14: 726 | Z14: 104163.06 | AA14: 161 | AB14: 98 | AC14: 63 | AD14: 4949.1
A15: 高雄市 | B15: Kaohsiung City | C15: 5108 | D15: 2698 | E15: 2410 | F15: 236979.65 | G15: 461 | H15: 293 | I15: 168 | J15: 12443.958 | K15: 171 | L15: 107 | M15: 64 | N15: 6791.542 | O15: 290 | P15: 186 | Q15: 104 | R15: 5652.416 | S15: 4647 | T15: 2405 | U15: 2242 | V15: 224535.7 | W15: 4474 | X15: 2313 | Y15: 2161 | Z15: 219379.11 | AA15: 173 | AB15: 92 | AC15: 81 | AD15: 5156.587
A16: 宜蘭縣 | B16: Yilan County | C16: 1578 | D16: 780 | E16: 798 | F16: 78294.422 | G16: 53 | H16: 35 | I16: 18 | J16: 2436.97 | K16: 43 | L16: 28 | M16: 15 | N16: 2193.979 | O16: 10 | P16: 7 | Q16: 3 | R16: 242.991 | S16: 1525 | T16: 745 | U16: 780 | V16: 75857.452 | W16: 1436 | X16: 694 | Y16: 742 | Z16: 73419.634 | AA16: 89 | AB16: 51 | AC16: 38 | AD16: 2437.818
A17: 新竹縣 | B17: Hsinchu County | C17: 887 | D17: 475 | E17: 412 | F17: 42047.383 | G17: 46 | H17: 29 | I17: 17 | J17: 1867.671 | K17: 30 | L17: 15 | M17: 15 | N17: 1481.805 | O17: 16 | P17: 14 | Q17: 2 | R17: 385.866 | S17: 841 | T17: 446 | U17: 395 | V17: 40179.712 | W17: 812 | X17: 427 | Y17: 385 | Z17: 39438.119 | AA17: 29 | AB17: 19 | AC17: 10 | AD17: 741.593
A18: 苗栗縣 | B18: Miaoli County | C18: 1404 | D18: 746 | E18: 658 | F18: 72016.605 | G18: 43 | H18: 32 | I18: 11 | J18: 1578.055 | K18: 27 | L18: 19 | M18: 8 | N18: 1230.308 | O18: 16 | P18: 13 | Q18: 3 | R18: 347.747 | S18: 1361 | T18: 714 | U18: 647 | V18: 70438.55 | W18: 1326 | X18: 696 | Y18: 630 | Z18: 69468.885 | AA18: 35 | AB18: 18 | AC18: 17 | AD18: 969.665
A19: 彰化縣 | B19: Changhua County | C19: 2118 | D19: 1312 | E19: 806 | F19: 105848.95 | G19: 207 | H19: 126 | I19: 81 | J19: 8004.8 | K19: 114 | L19: 71 | M19: 43 | N19: 5948.475 | O19: 93 | P19: 55 | Q19: 38 | R19: 2056.325 | S19: 1911 | T19: 1186 | U19: 725 | V19: 97844.15 | W19: 1815 | X19: 1123 | Y19: 692 | Z19: 95244.568 | AA19: 96 | AB19: 63 | AC19: 33 | AD19: 2599.582
A20: 南投縣 | B20: Nantou County | C20: 1403 | D20: 778 | E20: 625 | F20: 47313.07 | G20: 56 | H20: 30 | I20: 26 | J20: 1847.045 | K20: 48 | L20: 28 | M20: 20 | N20: 1711.129 | O20: 8 | P20: 2 | Q20: 6 | R20: 135.916 | S20: 1347 | T20: 748 | U20: 599 | V20: 45466.025 | W20: 1324 | X20: 734 | Y20: 590 | Z20: 44985.083 | AA20: 23 | AB20: 14 | AC20: 9 | AD20: 480.942
... A31: 連江縣 | B31: Lienchiang County | C31: 17 | D31: 11 | E31: 6 | F31: 810.519 | G31: 2 | H31: 2 | I31: 0 | J31: 73.593 | K31: 1 | L31: 1 | M31: 0 | N31: 49.725 | O31: 1 | P31: 1 | Q31: 0 | R31: 23.868 | S31: 15 | T31: 9 | U31: 6 | V31: 736.926 | W31: 15 | X31: 9 | Y31: 6 | Z31: 736.926 | AA31: 0 | AB31: 0 | AC31: 0 | AD31: 0
A32: 資料來源：直轄市、縣(市)政府。
A33: 附 註：1.一般對象：依身心障礙者日間照顧及住宿式照顧費用補助辦法第5條而發給之補助對象。
A34: 2.特殊對象：依身心障礙者日間照顧及住宿式照顧費用補助辦法第6條而發給之補助對象。
A36: Source : County and City Government.
A38: 更新日期：2025/05/15

Sheet 2024
A1: 身心障礙者日間照顧及住宿式照顧補助Subsidies of Day Care and Residential Care for Disabled
A3: 113年,2024 | C3: =IF(C9=SUM(C10:C31),"",SUM(C10:C31)) | D3: =IF(D9=SUM(D10:D31),"",SUM(D10:D31)) | E3: =IF(E9=SUM(E10:E31),"",SUM(E10:E31)) | F3: =IF(F9=SUM(F10:F31),"",SUM(F10:F31)) | G3: =IF(G9=SUM(G10:G31),"",SUM(G10:G31)) | H3: =IF(H9=SUM(H10:H31),"",SUM(H10:H31)) | I3: =IF(I9=SUM(I10:I31),"",SUM(I10:I31)) | J3: =IF(J9=SUM(J10:J31),"",SUM(J10:J31)) | ... AD3: =IF(AD9=SUM(AD10:AD31),"",SUM(AD10:AD31))
A4: 區域別 Locality | C4: 日間照顧及住宿式照顧補助Subsidies for Day Care and Residential Care
C5: 合計 Total | G5: 一般對象 General | S5: 特殊對象 Special
G6: 計 Subtotal | K6: 住宿式照顧 Residential Care | O6: 日間照顧 Day Care | S6: 計 Subtotal | W6: 住宿式照顧 Residential Care | AA6: 日間照顧 Day Care
C7: 期底人數 Persons (End of Year) | F7: 金額 (千元) Amounts (NT$1,000) | G7: 期底人數 Persons (End of Year) | J7: 金額 (千元) Amounts (NT$1,000) | K7: 期底人數 Persons (End of Year) | N7: 金額 (千元) Amounts (NT$1,000) | O7: 期底人數 Persons (End of Year) | R7: 金額 (千元) Amounts (NT$1,000) | S7: 期底人數 Persons (End of Year) | V7: 金額 (千元) Amounts (NT$1,000) | W7: 期底人數 Persons (End of Year) | Z7: 金額 (千元) Amounts (NT$1,000) | AA7: 期底人數 Persons (End of Year) | AD7: 金額 (千元) Amounts (NT$1,000)
C8: 計 Subtotal | D8: 男 Male | E8: 女 Female | G8: 計 Subtotal | H8: 男 Male | I8: 女 Female | K8: 計 Subtotal | L8: 男 Male | M8: 女 Female | O8: 計 Subtotal | P8: 男 Male | Q8: 女 Female | S8: 計 Subtotal | T8: 男 Male | U8: 女 Female | W8: 計 Subtotal | X8: 男 Male | Y8: 女 Female | AA8: 計 Subtotal | AB8: 男 Male | AC8: 女 Female
A9: 總計 | B9: Total | C9: 45751 | D9: 24578 | E9: 21173 | F9: 9120162.1 | G9: 6750 | H9: 3876 | I9: 2874 | J9: 1370225.2 | K9: 5340 | L9: 2989 | M9: 2351 | N9: 1229347.5 | O9: 1410 | P9: 887 | Q9: 523 | R9: 140877.66 | S9: 39001 | T9: 20702 | U9: 18299 | V9: 7749936.9 | W9: 37281 | X9: 19678 | Y9: 17603 | Z9: 7541419.8 | AA9: 1720 | AB9: 1024 | AC9: 696 | AD9: 208517.04
A10: 新北市 | B10: New Taipei City | C10: 7886 | D10: 3924 | E10: 3962 | F10: 1367841 | G10: 428 | H10: 265 | I10: 163 | J10: 68715.218 | K10: 265 | L10: 159 | M10: 106 | N10: 52264.339 | O10: 163 | P10: 106 | Q10: 57 | R10: 16450.879 | S10: 7458 | T10: 3659 | U10: 3799 | V10: 1299125.8 | W10: 7304 | X10: 3568 | Y10: 3736 | Z10: 1281224.3 | AA10: 154 | AB10: 91 | AC10: 63 | AD10: 17901.491
A11: 臺北市 | B11: Taipei City | C11: 5384 | D11: 2983 | E11: 2401 | F11: 1267336.8 | G11: 4078 | H11: 2224 | I11: 1854 | J11: 976161.97 | K11: 3883 | L11: 2107 | M11: 1776 | N11: 948083.62 | O11: 195 | P11: 117 | Q11: 78 | R11: 28078.353 | S11: 1306 | T11: 759 | U11: 547 | V11: 291174.82 | W11: 923 | X11: 527 | Y11: 396 | Z11: 231521.89 | AA11: 383 | AB11: 232 | AC11: 151 | AD11: 59652.924
A12: 桃園市 | B12: Taoyuan City | C12: 3937 | D12: 2024 | E12: 1913 | F12: 773293.72 | G12: 231 | H12: 130 | I12: 101 | J12: 39066.441 | K12: 157 | L12: 83 | M12: 74 | N12: 31494.934 | O12: 74 | P12: 47 | Q12: 27 | R12: 7571.507 | S12: 3706 | T12: 1894 | U12: 1812 | V12: 734227.28 | W12: 3643 | X12: 1851 | Y12: 1792 | Z12: 726561.37 | AA12: 63 | AB12: 43 | AC12: 20 | AD12: 7665.904
A13: 臺中市 | B13: Taichung City | C13: 4128 | D13: 2340 | E13: 1788 | F13: 804807.36 | G13: 377 | H13: 229 | I13: 148 | J13: 49244.153 | K13: 128 | L13: 77 | M13: 51 | N13: 26045.853 | O13: 249 | P13: 152 | Q13: 97 | R13: 23198.3 | S13: 3751 | T13: 2111 | U13: 1640 | V13: 755563.2 | W13: 3499 | X13: 1971 | Y13: 1528 | Z13: 728409.35 | AA13: 252 | AB13: 140 | AC13: 112 | AD13: 27153.855
A14: 臺南市 | B14: Tainan City | C14: 2268 | D14: 1404 | E14: 864 | F14: 461642.43 | G14: 170 | H14: 113 | I14: 57 | J14: 23909.397 | K14: 79 | L14: 55 | M14: 24 | N14: 14585.192 | O14: 91 | P14: 58 | Q14: 33 | R14: 9324.205 | S14: 2098 | T14: 1291 | U14: 807 | V14: 437733.03 | W14: 1942 | X14: 1196 | Y14: 746 | Z14: 419898.55 | AA14: 156 | AB14: 95 | AC14: 61 | AD14: 17834.479
A15: 高雄市 | B15: Kaohsiung City | C15: 5170 | D15: 2750 | E15: 2420 | F15: 949367.54 | G15: 467 | H15: 292 | I15: 175 | J15: 51321.04 | K15: 180 | L15: 109 | M15: 71 | N15: 27431.33 | O15: 287 | P15: 183 | Q15: 104 | R15: 23889.71 | S15: 4703 | T15: 2458 | U15: 2245 | V15: 898046.5 | W15: 4492 | X15: 2340 | Y15: 2152 | Z15: 876931.27 | AA15: 211 | AB15: 118 | AC15: 93 | AD15: 21115.233
A16: 宜蘭縣 | B16: Yilan County | C16: 1588 | D16: 789 | E16: 799 | F16: 325412.21 | G16: 58 | H16: 38 | I16: 20 | J16: 9933.447 | K16: 45 | L16: 29 | M16: 16 | N16: 8820.927 | O16: 13 | P16: 9 | Q16: 4 | R16: 1112.52 | S16: 1530 | T16: 751 | U16: 779 | V16: 315478.76 | W16: 1442 | X16: 700 | Y16: 742 | Z16: 305991.99 | AA16: 88 | AB16: 51 | AC16: 37 | AD16: 9486.771
A17: 新竹縣 | B17: Hsinchu County | C17: 897 | D17: 482 | E17: 415 | F17: 177603.87 | G17: 52 | H17: 33 | I17: 19 | J17: 8378.552 | K17: 35 | L17: 18 | M17: 17 | N17: 6852.326 | O17: 17 | P17: 15 | Q17: 2 | R17: 1526.226 | S17: 845 | T17: 449 | U17: 396 | V17: 169225.32 | W17: 818 | X17: 431 | Y17: 387 | Z17: 166217.19 | AA17: 27 | AB17: 18 | AC17: 9 | AD17: 3008.133
A18: 苗栗縣 | B18: Miaoli County | C18: 1418 | D18: 753 | E18: 665 | F18: 294789.4 | G18: 54 | H18: 35 | I18: 19 | J18: 7601.461 | K18: 34 | L18: 20 | M18: 14 | N18: 5541.687 | O18: 20 | P18: 15 | Q18: 5 | R18: 2059.774 | S18: 1364 | T18: 718 | U18: 646 | V18: 287187.94 | W18: 1333 | X18: 702 | Y18: 631 | Z18: 283388.55 | AA18: 31 | AB18: 16 | AC18: 15 | AD18: 3799.386
A19: 彰化縣 | B19: Changhua County | C19: 2148 | D19: 1333 | E19: 815 | F19: 431603.39 | G19: 188 | H19: 116 | I19: 72 | J19: 30424.884 | K19: 109 | L19: 72 | M19: 37 | N19: 23012.755 | O19: 79 | P19: 44 | Q19: 35 | R19: 7412.129 | S19: 1960 | T19: 1217 | U19: 743 | V19: 401178.5 | W19: 1871 | X19: 1160 | Y19: 711 | Z19: 390795.03 | AA19: 89 | AB19: 57 | AC19: 32 | AD19: 10383.476
A20: 南投縣 | B20: Nantou County | C20: 1421 | D20: 770 | E20: 651 | F20: 293249.67 | G20: 60 | H20: 32 | I20: 28 | J20: 11385.095 | K20: 50 | L20: 29 | M20: 21 | N20: 10403.294 | O20: 10 | P20: 3 | Q20: 7 | R20: 981.801 | S20: 1361 | T20: 738 | U20: 623 | V20: 281864.58 | W20: 1339 | X20: 725 | Y20: 614 | Z20: 279089.95 | AA20: 22 | AB20: 13 | AC20: 9 | AD20: 2774.629
... A31: 連江縣 | B31: Lienchiang County | C31: 17 | D31: 11 | E31: 6 | F31: 3393.055 | G31: 2 | H31: 2 | I31: 0 | J31: 262.548 | K31: 1 | L31: 1 | M31: 0 | N31: 198.9 | O31: 1 | P31: 1 | Q31: 0 | R31: 63.648 | S31: 15 | T31: 9 | U31: 6 | V31: 3130.507 | W31: 15 | X31: 9 | Y31: 6 | Z31: 3130.507 | AA31: 0 | AB31: 0 | AC31: 0 | AD31: 0
A32: 資料來源：直轄市、縣(市)政府。
A33: 附 註：1.一般對象：依身心障礙者日間照顧及住宿式照顧費用補助辦法第5條而發給之補助對象。
A34: 2.特殊對象：依身心障礙者日間照顧及住宿式照顧費用補助辦法第6條而發給之補助對象。
A36: Source : County and City Government.
A38: 更新日期：2025/06/20

Sheet Q4,2024
A1: 身心障礙者日間照顧及住宿式照顧補助Subsidies of Day Care and Residential Care for Disabled
A3: 113年第4季,2024 Q4 | C3: =IF(C9=SUM(C10:C31),"",SUM(C10:C31)) | D3: =IF(D9=SUM(D10:D31),"",SUM(D10:D31)) | E3: =IF(E9=SUM(E10:E31),"",SUM(E10:E31)) | F3: =IF(F9=SUM(F10:F31),"",SUM(F10:F31)) | G3: =IF(G9=SUM(G10:G31),"",SUM(G10:G31)) | H3: =IF(H9=SUM(H10:H31),"",SUM(H10:H31)) | I3: =IF(I9=SUM(I10:I31),"",SUM(I10:I31)) | J3: =IF(J9=SUM(J10:J31),"",SUM(J10:J31)) | ... AD3: =IF(AD9=SUM(AD10:AD31),"",SUM(AD10:AD31))
A4: 區域別 Locality | C4: 日間照顧及住宿式照顧補助Subsidies for Day Care and Residential Care
C5: 合計 Total | G5: 一般對象 General | S5: 特殊對象 Special
G6: 計 Subtotal | K6: 住宿式照顧 Residential Care | O6: 日間照顧 Day Care | S6: 計 Subtotal | W6: 住宿式照顧 Residential Care | AA6: 日間照顧 Day Care
C7: 期底人數 Persons (End of Year) | F7: 金額 (千元) Amounts (NT$1,000) | G7: 期底人數 Persons (End of Year) | J7: 金額 (千元) Amounts (NT$1,000) | K7: 期底人數 Persons (End of Year) | N7: 金額 (千元) Amounts (NT$1,000) | O7: 期底人數 Persons (End of Year) | R7: 金額 (千元) Amounts (NT$1,000) | S7: 期底人數 Persons (End of Year) | V7: 金額 (千元) Amounts (NT$1,000) | W7: 期底人數 Persons (End of Year) | Z7: 金額 (千元) Amounts (NT$1,000) | AA7: 期底人數 Persons (End of Year) | AD7: 金額 (千元) Amounts (NT$1,000)
C8: 計 Subtotal | D8: 男 Male | E8: 女 Female | G8: 計 Subtotal | H8: 男 Male | I8: 女 Female | K8: 計 Subtotal | L8: 男 Male | M8: 女 Female | O8: 計 Subtotal | P8: 男 Male | Q8: 女 Female | S8: 計 Subtotal | T8: 男 Male | U8: 女 Female | W8: 計 Subtotal | X8: 男 Male | Y8: 女 Female | AA8: 計 Subtotal | AB8: 男 Male | AC8: 女 Female
A9: 總計 | B9: Total | C9: 45751 | D9: 24578 | E9: 21173 | F9: 2281584.6 | G9: 6750 | H9: 3876 | I9: 2874 | J9: 347857.13 | K9: 5340 | L9: 2989 | M9: 2351 | N9: 313802.13 | O9: 1410 | P9: 887 | Q9: 523 | R9: 34055 | S9: 39001 | T9: 20702 | U9: 18299 | V9: 1933727.5 | W9: 37281 | X9: 19678 | Y9: 17603 | Z9: 1881408.5 | AA9: 1720 | AB9: 1024 | AC9: 696 | AD9: 52318.98
A10: 新北市 | B10: New Taipei City | C10: 7886 | D10: 3924 | E10: 3962 | F10: 328095.6 | G10: 428 | H10: 265 | I10: 163 | J10: 16542.157 | K10: 265 | L10: 159 | M10: 106 | N10: 12765.42 | O10: 163 | P10: 106 | Q10: 57 | R10: 3776.737 | S10: 7458 | T10: 3659 | U10: 3799 | V10: 311553.44 | W10: 7304 | X10: 3568 | Y10: 3736 | Z10: 307246.2 | AA10: 154 | AB10: 91 | AC10: 63 | AD10: 4307.237
A11: 臺北市 | B11: Taipei City | C11: 5384 | D11: 2983 | E11: 2401 | F11: 321879.25 | G11: 4078 | H11: 2224 | I11: 1854 | J11: 248303.77 | K11: 3883 | L11: 2107 | M11: 1776 | N11: 241734.89 | O11: 195 | P11: 117 | Q11: 78 | R11: 6568.878 | S11: 1306 | T11: 759 | U11: 547 | V11: 73575.477 | W11: 923 | X11: 527 | Y11: 396 | Z11: 59651.307 | AA11: 383 | AB11: 232 | AC11: 151 | AD11: 13924.17
A12: 桃園市 | B12: Taoyuan City | C12: 3937 | D12: 2024 | E12: 1913 | F12: 192752.28 | G12: 231 | H12: 130 | I12: 101 | J12: 9687.572 | K12: 157 | L12: 83 | M12: 74 | N12: 7768.518 | O12: 74 | P12: 47 | Q12: 27 | R12: 1919.054 | S12: 3706 | T12: 1894 | U12: 1812 | V12: 183064.71 | W12: 3643 | X12: 1851 | Y12: 1792 | Z12: 181148.31 | AA12: 63 | AB12: 43 | AC12: 20 | AD12: 1916.399
A13: 臺中市 | B13: Taichung City | C13: 4128 | D13: 2340 | E13: 1788 | F13: 203914.47 | G13: 377 | H13: 229 | I13: 148 | J13: 12249.857 | K13: 128 | L13: 77 | M13: 51 | N13: 6481.025 | O13: 249 | P13: 152 | Q13: 97 | R13: 5768.832 | S13: 3751 | T13: 2111 | U13: 1640 | V13: 191664.61 | W13: 3499 | X13: 1971 | Y13: 1528 | Z13: 184597.39 | AA13: 252 | AB13: 140 | AC13: 112 | AD13: 7067.226
A14: 臺南市 | B14: Tainan City | C14: 2268 | D14: 1404 | E14: 864 | F14: 114448.83 | G14: 170 | H14: 113 | I14: 57 | J14: 5759.103 | K14: 79 | L14: 55 | M14: 24 | N14: 3683.728 | O14: 91 | P14: 58 | Q14: 33 | R14: 2075.375 | S14: 2098 | T14: 1291 | U14: 807 | V14: 108689.73 | W14: 1942 | X14: 1196 | Y14: 746 | Z14: 104013.37 | AA14: 156 | AB14: 95 | AC14: 61 | AD14: 4676.365
A15: 高雄市 | B15: Kaohsiung City | C15: 5170 | D15: 2750 | E15: 2420 | F15: 233618.3 | G15: 467 | H15: 292 | I15: 175 | J15: 12893.159 | K15: 180 | L15: 109 | M15: 71 | N15: 6887.522 | O15: 287 | P15: 183 | Q15: 104 | R15: 6005.637 | S15: 4703 | T15: 2458 | U15: 2245 | V15: 220725.14 | W15: 4492 | X15: 2340 | Y15: 2152 | Z15: 214864.08 | AA15: 211 | AB15: 118 | AC15: 93 | AD15: 5861.056
A16: 宜蘭縣 | B16: Yilan County | C16: 1588 | D16: 789 | E16: 799 | F16: 78226.306 | G16: 58 | H16: 38 | I16: 20 | J16: 2456.123 | K16: 45 | L16: 29 | M16: 16 | N16: 2182.634 | O16: 13 | P16: 9 | Q16: 4 | R16: 273.489 | S16: 1530 | T16: 751 | U16: 779 | V16: 75770.183 | W16: 1442 | X16: 700 | Y16: 742 | Z16: 73415.173 | AA16: 88 | AB16: 51 | AC16: 37 | AD16: 2355.01
A17: 新竹縣 | B17: Hsinchu County | C17: 897 | D17: 482 | E17: 415 | F17: 42919.518 | G17: 52 | H17: 33 | I17: 19 | J17: 2109.224 | K17: 35 | L17: 18 | M17: 17 | N17: 1712.75 | O17: 17 | P17: 15 | Q17: 2 | R17: 396.474 | S17: 845 | T17: 449 | U17: 396 | V17: 40810.294 | W17: 818 | X17: 431 | Y17: 387 | Z17: 40048.702 | AA17: 27 | AB17: 18 | AC17: 9 | AD17: 761.592
A18: 苗栗縣 | B18: Miaoli County | C18: 1418 | D18: 753 | E18: 665 | F18: 72667.485 | G18: 54 | H18: 35 | I18: 19 | J18: 1901.562 | K18: 34 | L18: 20 | M18: 14 | N18: 1508.51 | O18: 20 | P18: 15 | Q18: 5 | R18: 393.052 | S18: 1364 | T18: 718 | U18: 646 | V18: 70765.923 | W18: 1333 | X18: 702 | Y18: 631 | Z18: 69834.149 | AA18: 31 | AB18: 16 | AC18: 15 | AD18: 931.774
A19: 彰化縣 | B19: Changhua County | C19: 2148 | D19: 1333 | E19: 815 | F19: 107180.1 | G19: 188 | H19: 116 | I19: 72 | J19: 7603.062 | K19: 109 | L19: 72 | M19: 37 | N19: 5729.395 | O19: 79 | P19: 44 | Q19: 35 | R19: 1873.667 | S19: 1960 | T19: 1217 | U19: 743 | V19: 99577.042 | W19: 1871 | X19: 1160 | Y19: 711 | Z19: 97005.109 | AA19: 89 | AB19: 57 | AC19: 32 | AD19: 2571.933
A20: 南投縣 | B20: Nantou County | C20: 1421 | D20: 770 | E20: 651 | F20: 96494.41 | G20: 60 | H20: 32 | I20: 28 | J20: 3758.934 | K20: 50 | L20: 29 | M20: 21 | N20: 3436.881 | O20: 10 | P20: 3 | Q20: 7 | R20: 322.053 | S20: 1361 | T20: 738 | U20: 623 | V20: 92735.476 | W20: 1339 | X20: 725 | Y20: 614 | Z20: 91802.764 | AA20: 22 | AB20: 13 | AC20: 9 | AD20: 932.712
... A31: 連江縣 | B31: Lienchiang County | C31: 17 | D31: 11 | E31: 6 | F31: 721.788 | G31: 2 | H31: 2 | I31: 0 | J31: 65.637 | K31: 1 | L31: 1 | M31: 0 | N31: 49.725 | O31: 1 | P31: 1 | Q31: 0 | R31: 15.912 | S31: 15 | T31: 9 | U31: 6 | V31: 656.151 | W31: 15 | X31: 9 | Y31: 6 | Z31: 656.151 | AA31: 0 | AB31: 0 | AC31: 0 | AD31: 0
A32: 資料來源：直轄市、縣(市)政府。
A33: 附 註：1.一般對象：依身心障礙者日間照顧及住宿式照顧費用補助辦法第5條而發給之補助對象。
A34: 2.特殊對象：依身心障礙者日間照顧及住宿式照顧費用補助辦法第6條而發給之補助對象。
A36: Source : County and City Government.
A38: 更新日期：2025/06/20
A40: 總計 | B40: Total | C40: 45751 | D40: 24578 | E40: 21173 | F40: 2281584.6 | G40: 6750 | H40: 3876 | I40: 2874 | J40: 347857.13 | K40: 5340 | L40: 2989 | M40: 2351 | N40: 313802.13 | O40: 1410 | P40: 887 | Q40: 523 | R40: 34055 | S40: 39001 | T40: 20702 | U40: 18299 | V40: 1933727.5 | W40: 37281 | X40: 19678 | Y40: 17603 | Z40: 1881408.5 | AA40: 1720 | AB40: 1024 | AC40: 696 | AD40: 52318.98
A41: 新北市 | B41: New Taipei City | C41: 7886 | D41: 3924 | E41: 3962 | F41: 328095.6 | G41: 428 | H41: 265 | I41: 163 | J41: 16542.157 | K41: 265 | L41: 159 | M41: 106 | N41: 12765.42 | O41: 163 | P41: 106 | Q41: 57 | R41: 3776.737 | S41: 7458 | T41: 3659 | U41: 3799 | V41: 311553.44 | W41: 7304 | X41: 3568 | Y41: 3736 | Z41: 307246.2 | AA41: 154 | AB41: 91 | AC41: 63 | AD41: 4307.237
A42: 臺北市 | B42: Taipei City | C42: 5384 | D42: 2983 | E42: 2401 | F42: 321879.25 | G42: 4078 | H42: 2224 | I42: 1854 | J42: 248303.77 | K42: 3883 | L42: 2107 | M42: 1776 | N42: 241734.89 | O42: 195 | P42: 117 | Q42: 78 | R42: 6568.878 | S42: 1306 | T42: 759 | U42: 547 | V42: 73575.477 | W42: 923 | X42: 527 | Y42: 396 | Z42: 59651.307 | AA42: 383 | AB42: 232 | AC42: 151 | AD42: 13924.17
A43: 桃園市 | B43: Taoyuan City | C43: 3937 | D43: 2024 | E43: 1913 | F43: 192752.28 | G43: 231 | H43: 130 | I43: 101 | J43: 9687.572 | K43: 157 | L43: 83 | M43: 74 | N43: 7768.518 | O43: 74 | P43: 47 | Q43: 27 | R43: 1919.054 | S43: 3706 | T43: 1894 | U43: 1812 | V43: 183064.71 | W43: 3643 | X43: 1851 | Y43: 1792 | Z43: 181148.31 | AA43: 63 | AB43: 43 | AC43: 20 | AD43: 1916.399
A44: 臺中市 | B44: Taichung City | C44: 4128 | D44: 2340 | E44: 1788 | F44: 203914.47 | G44: 377 | H44: 229 | I44: 148 | J44: 12249.857 | K44: 128 | L44: 77 | M44: 51 | N44: 6481.025 | O44: 249 | P44: 152 | Q44: 97 | R44: 5768.832 | S44: 3751 | T44: 2111 | U44: 1640 | V44: 191664.61 | W44: 3499 | X44: 1971 | Y44: 1528 | Z44: 184597.39 | AA44: 252 | AB44: 140 | AC44: 112 | AD44: 7067.226
A45: 臺南市 | B45: Tainan City | C45: 2268 | D45: 1404 | E45: 864 | F45: 114448.83 | G45: 170 | H45: 113 | I45: 57 | J45: 5759.103 | K45: 79 | L45: 55 | M45: 24 | N45: 3683.728 | O45: 91 | P45: 58 | Q45: 33 | R45: 2075.375 | S45: 2098 | T45: 1291 | U45: 807 | V45: 108689.73 | W45: 1942 | X45: 1196 | Y45: 746 | Z45: 104013.37 | AA45: 156 | AB45: 95 | AC45: 61 | AD45: 4676.365
A46: 高雄市 | B46: Kaohsiung City | C46: 5170 | D46: 2750 | E46: 2420 | F46: 233618.3 | G46: 467 | H46: 292 | I46: 175 | J46: 12893.159 | K46: 180 | L46: 109 | M46: 71 | N46: 6887.522 | O46: 287 | P46: 183 | Q46: 104 | R46: 6005.637 | S46: 4703 | T46: 2458 | U46: 2245 | V46: 220725.14 | W46: 4492 | X46: 2340 | Y46: 2152 | Z46: 214864.08 | AA46: 211 | AB46: 118 | AC46: 93 | AD46: 5861.056
A47: 宜蘭縣 | B47: Yilan County | C47: 1588 | D47: 789 | E47: 799 | F47: 78226.306 | G47: 58 | H47: 38 | I47: 20 | J47: 2456.123 | K47: 45 | L47: 29 | M47: 16 | N47: 2182.634 | O47: 13 | P47: 9 | Q47: 4 | R47: 273.489 | S47: 1530 | T47: 751 | U47: 779 | V47: 75770.183 | W47: 1442 | X47: 700 | Y47: 742 | Z47: 73415.173 | AA47: 88 | AB47: 51 | AC47: 37 | AD47: 2355.01
A48: 新竹縣 | B48: Hsinchu County | C48: 897 | D48: 482 | E48: 415 | F48: 42919.518 | G48: 52 | H48: 33 | I48: 19 | J48: 2109.224 | K48: 35 | L48: 18 | M48: 17 | N48: 1712.75 | O48: 17 | P48: 15 | Q48: 2 | R48: 396.474 | S48: 845 | T48: 449 | U48: 396 | V48: 40810.294 | W48: 818 | X48: 431 | Y48: 387 | Z48: 40048.702 | AA48: 27 | AB48: 18 | AC48: 9 | AD48: 761.592
A49: 苗栗縣 | B49: Miaoli County | C49: 1418 | D49: 753 | E49: 665 | F49: 72667.485 | G49: 54 | H49: 35 | I49: 19 | J49: 1901.562 | K49: 34 | L49: 20 | M49: 14 | N49: 1508.51 | O49: 20 | P49: 15 | Q49: 5 | R49: 393.052 | S49: 1364 | T49: 718 | U49: 646 | V49: 70765.923 | W49: 1333 | X49: 702 | Y49: 631 | Z49: 69834.149 | AA49: 31 | AB49: 16 | AC49: 15 | AD49: 931.774
A50: 彰化縣 | B50: Changhua County | C50: 2148 | D50: 1333 | E50: 815 | F50: 107180.1 | G50: 188 | H50: 116 | I50: 72 | J50: 7603.062 | K50: 109 | L50: 72 | M50: 37 | N50: 5729.395 | O50: 79 | P50: 44 | Q50: 35 | R50: 1873.667 | S50: 1960 | T50: 1217 | U50: 743 | V50: 99577.042 | W50: 1871 | X50: 1160 | Y50: 711 | Z50: 97005.109 | AA50: 89 | AB50: 57 | AC50: 32 | AD50: 2571.933
A51: 南投縣 | B51: Nantou County | C51: 1421 | D51: 770 | E51: 651 | F51: 96494.41 | G51: 60 | H51: 32 | I51: 28 | J51: 3758.934 | K51: 50 | L51: 29 | M51: 21 | N51: 3436.881 | O51: 10 | P51: 3 | Q51: 7 | R51: 322.053 | S51: 1361 | T51: 738 | U51: 623 | V51: 92735.476 | W51: 1339 | X51: 725 | Y51: 614 | Z51: 91802.764 | AA51: 22 | AB51: 13 | AC51: 9 | AD51: 932.712
... A62: 連江縣 | B62: Lienchiang County | C62: 17 | D62: 11 | E62: 6 | F62: 721.788 | G62: 2 | H62: 2 | I62: 0 | J62: 65.637 | K62: 1 | L62: 1 | M62: 0 | N62: 49.725 | O62: 1 | P62: 1 | Q62: 0 | R62: 15.912 | S62: 15 | T62: 9 | U62: 6 | V62: 656.151 | W62: 15 | X62: 9 | Y62: 6 | Z62: 656.151 | AA62: 0 | AB62: 0 | AC62: 0 | AD62: 0
A64: 總計 | B64: Total | C64: =IF(C40=C9,"","*") | D64: =IF(D40=D9,"","*") | E64: =IF(E40=E9,"","*") | F64: =IF(F40=F9,"","*") | G64: =IF(G40=G9,"","*") | H64: =IF(H40=H9,"","*") | I64: =IF(I40=I9,"","*") | J64: =IF(J40=J9,"","*") | ... AD64: =IF(AD40=AD9,"","*")
A65: 新北市 | B65: New Taipei City | C65: =IF(C41=C10,"","*") | D65: =IF(D41=D10,"","*") | E65: =IF(E41=E10,"","*") | F65: =IF(F41=F10,"","*") | G65: =IF(G41=G10,"","*") | H65: =IF(H41=H10,"","*") | I65: =IF(I41=I10,"","*") | J65: =IF(J41=J10,"","*") | ... AD65: =IF(AD41=AD10,"","*")
A66: 臺北市 | B66: Taipei City | C66: =IF(C42=C11,"","*") | D66: =IF(D42=D11,"","*") | E66: =IF(E42=E11,"","*") | F66: =IF(F42=F11,"","*") | G66: =IF(G42=G11,"","*") | H66: =IF(H42=H11,"","*") | I66: =IF(I42=I11,"","*") | J66: =IF(J42=J11,"","*") | ... AD66: =IF(AD42=AD11,"","*")
A67: 桃園市 | B67: Taoyuan City | C67: =IF(C43=C12,"","*") | D67: =IF(D43=D12,"","*") | E67: =IF(E43=E12,"","*") | F67: =IF(F43=F12,"","*") | G67: =IF(G43=G12,"","*") | H67: =IF(H43=H12,"","*") | I67: =IF(I43=I12,"","*") | J67: =IF(J43=J12,"","*") | ... AD67: =IF(AD43=AD12,"","*")
A68: 臺中市 | B68: Taichung City | C68: =IF(C44=C13,"","*") | D68: =IF(D44=D13,"","*") | E68: =IF(E44=E13,"","*") | F68: =IF(F44=F13,"","*") | G68: =IF(G44=G13,"","*") | H68: =IF(H44=H13,"","*") | I68: =IF(I44=I13,"","*") | J68: =IF(J44=J13,"","*") | ... AD68: =IF(AD44=AD13,"","*")
A69: 臺南市 | B69: Tainan City | C69: =IF(C45=C14,"","*") | D69: =IF(D45=D14,"","*") | E69: =IF(E45=E14,"","*") | F69: =IF(F45=F14,"","*") | G69: =IF(G45=G14,"","*") | H69: =IF(H45=H14,"","*") | I69: =IF(I45=I14,"","*") | J69: =IF(J45=J14,"","*") | ... AD69: =IF(AD45=AD14,"","*")
A70: 高雄市 | B70: Kaohsiung City | C70: =IF(C46=C15,"","*") | D70: =IF(D46=D15,"","*") | E70: =IF(E46=E15,"","*") | F70: =IF(F46=F15,"","*") | G70: =IF(G46=G15,"","*") | H70: =IF(H46=H15,"","*") | I70: =IF(I46=I15,"","*") | J70: =IF(J46=J15,"","*") | ... AD70: =IF(AD46=AD15,"","*")
A71: 宜蘭縣 | B71: Yilan County | C71: =IF(C47=C16,"","*") | D71: =IF(D47=D16,"","*") | E71: =IF(E47=E16,"","*") | F71: =IF(F47=F16,"","*") | G71: =IF(G47=G16,"","*") | H71: =IF(H47=H16,"","*") | I71: =IF(I47=I16,"","*") | J71: =IF(J47=J16,"","*") | ... AD71: =IF(AD47=AD16,"","*")
A72: 新竹縣 | B72: Hsinchu County | C72: =IF(C48=C17,"","*") | D72: =IF(D48=D17,"","*") | E72: =IF(E48=E17,"","*") | F72: =IF(F48=F17,"","*") | G72: =IF(G48=G17,"","*") | H72: =IF(H48=H17,"","*") | I72: =IF(I48=I17,"","*") | J72: =IF(J48=J17,"","*") | ... AD72: =IF(AD48=AD17,"","*")
A73: 苗栗縣 | B73: Miaoli County | C73: =IF(C49=C18,"","*") | D73: =IF(D49=D18,"","*") | E73: =IF(E49=E18,"","*") | F73: =IF(F49=F18,"","*") | G73: =IF(G49=G18,"","*") | H73: =IF(H49=H18,"","*") | I73: =IF(I49=I18,"","*") | J73: =IF(J49=J18,"","*") | ... AD73: =IF(AD49=AD18,"","*")
A74: 彰化縣 | B74: Changhua County | C74: =IF(C50=C19,"","*") | D74: =IF(D50=D19,"","*") | E74: =IF(E50=E19,"","*") | F74: =IF(F50=F19,"","*") | G74: =IF(G50=G19,"","*") | H74: =IF(H50=H19,"","*") | I74: =IF(I50=I19,"","*") | J74: =IF(J50=J19,"","*") | ... AD74: =IF(AD50=AD19,"","*")
A75: 南投縣 | B75: Nantou County | C75: =IF(C51=C20,"","*") | D75: =IF(D51=D20,"","*") | E75: =IF(E51=E20,"","*") | F75: =IF(F51=F20,"","*") | G75: =IF(G51=G20,"","*") | H75: =IF(H51=H20,"","*") | I75: =IF(I51=I20,"","*") | J75: =IF(J51=J20,"","*") | ... AD75: =IF(AD51=AD20,"","*")
... A86: 連江縣 | B86: Lienchiang County | C86: =IF(C62=C31,"","*") | D86: =IF(D62=D31,"","*") | E86: =IF(E62=E31,"","*") | F86: =IF(F62=F31,"","*") | G86: =IF(G62=G31,"","*") | H86: =IF(H62=H31,"","*") | I86: =IF(I62=I31,"","*") | J86: =IF(J62=J31,"","*") | ... AD86: =IF(AD62=AD31,"","*")

Sheet Q3,2024
A1: 身心障礙者日間照顧及住宿式照顧補助Subsidies of Day Care and Residential Care for Disabled
A3: 113年第3季,2024 Q3 | C3: =IF(C9=SUM(C10:C31),"",SUM(C10:C31)) | D3: =IF(D9=SUM(D10:D31),"",SUM(D10:D31)) | E3: =IF(E9=SUM(E10:E31),"",SUM(E10:E31)) | F3: =IF(F9=SUM(F10:F31),"",SUM(F10:F31)) | G3: =IF(G9=SUM(G10:G31),"",SUM(G10:G31)) | H3: =IF(H9=SUM(H10:H31),"",SUM(H10:H31)) | I3: =IF(I9=SUM(I10:I31),"",SUM(I10:I31)) | J3: =IF(J9=SUM(J10:J31),"",SUM(J10:J31)) | ... AD3: =IF(AD9=SUM(AD10:AD31),"",SUM(AD10:AD31))
A4: 區域別 Locality | C4: 日間照顧及住宿式照顧補助Subsidies for Day Care and Residential Care
C5: 合計 Total | G5: 一般對象 General | S5: 特殊對象 Special
G6: 計 Subtotal | K6: 住宿式照顧 Residential Care | O6: 日間照顧 Day Care | S6: 計 Subtotal | W6: 住宿式照顧 Residential Care | AA6: 日間照顧 Day Care
C7: 期底人數 Persons (End of Year) | F7: 金額 (千元) Amounts (NT$1,000) | G7: 期底人數 Persons (End of Year) | J7: 金額 (千元) Amounts (NT$1,000) | K7: 期底人數 Persons (End of Year) | N7: 金額 (千元) Amounts (NT$1,000) | O7: 期底人數 Persons (End of Year) | R7: 金額 (千元) Amounts (NT$1,000) | S7: 期底人數 Persons (End of Year) | V7: 金額 (千元) Amounts (NT$1,000) | W7: 期底人數 Persons (End of Year) | Z7: 金額 (千元) Amounts (NT$1,000) | AA7: 期底人數 Persons (End of Year) | AD7: 金額 (千元) Amounts (NT$1,000)
C8: 計 Subtotal | D8: 男 Male | E8: 女 Female | G8: 計 Subtotal | H8: 男 Male | I8: 女 Female | K8: 計 Subtotal | L8: 男 Male | M8: 女 Female | O8: 計 Subtotal | P8: 男 Male | Q8: 女 Female | S8: 計 Subtotal | T8: 男 Male | U8: 女 Female | W8: 計 Subtotal | X8: 男 Male | Y8: 女 Female | AA8: 計 Subtotal | AB8: 男 Male | AC8: 女 Female
A9: 總計 | B9: Total | C9: 46631 | D9: 24970 | E9: 21661 | F9: 2266117.6 | G9: 6813 | H9: 3877 | I9: 2936 | J9: 347924.03 | K9: 5341 | L9: 2979 | M9: 2362 | N9: 312646.53 | O9: 1472 | P9: 898 | Q9: 574 | R9: 35277.494 | S9: 39818 | T9: 21093 | U9: 18725 | V9: 1918193.6 | W9: 38084 | X9: 20053 | Y9: 18031 | Z9: 1865688.6 | AA9: 1734 | AB9: 1040 | AC9: 694 | AD9: 52504.96
A10: 新北市 | B10: New Taipei City | C10: 8235 | D10: 4102 | E10: 4133 | F10: 340258.9 | G10: 467 | H10: 281 | I10: 186 | J10: 16964.336 | K10: 269 | L10: 162 | M10: 107 | N10: 12944.885 | O10: 198 | P10: 119 | Q10: 79 | R10: 4019.451 | S10: 7768 | T10: 3821 | U10: 3947 | V10: 323294.56 | W10: 7608 | X10: 3723 | Y10: 3885 | Z10: 318947.58 | AA10: 160 | AB10: 98 | AC10: 62 | AD10: 4346.983
A11: 臺北市 | B11: Taipei City | C11: 5418 | D11: 2989 | E11: 2429 | F11: 322466.9 | G11: 4101 | H11: 2222 | I11: 1879 | J11: 249526.97 | K11: 3892 | L11: 2107 | M11: 1785 | N11: 242322.52 | O11: 209 | P11: 115 | Q11: 94 | R11: 7204.449 | S11: 1317 | T11: 767 | U11: 550 | V11: 72939.924 | W11: 894 | X11: 516 | Y11: 378 | Z11: 57721.68 | AA11: 423 | AB11: 251 | AC11: 172 | AD11: 15218.244
A12: 桃園市 | B12: Taoyuan City | C12: 4003 | D12: 2065 | E12: 1938 | F12: 195903.42 | G12: 227 | H12: 129 | I12: 98 | J12: 9865.685 | K12: 154 | L12: 82 | M12: 72 | N12: 7847.047 | O12: 73 | P12: 47 | Q12: 26 | R12: 2018.638 | S12: 3776 | T12: 1936 | U12: 1840 | V12: 186037.74 | W12: 3713 | X12: 1893 | Y12: 1820 | Z12: 184074.52 | AA12: 63 | AB12: 43 | AC12: 20 | AD12: 1963.22
A13: 臺中市 | B13: Taichung City | C13: 4168 | D13: 2346 | E13: 1822 | F13: 206003.95 | G13: 374 | H13: 222 | I13: 152 | J13: 12646.175 | K13: 132 | L13: 78 | M13: 54 | N13: 6732.377 | O13: 242 | P13: 144 | Q13: 98 | R13: 5913.798 | S13: 3794 | T13: 2124 | U13: 1670 | V13: 193357.77 | W13: 3542 | X13: 1979 | Y13: 1563 | Z13: 186265.7 | AA13: 252 | AB13: 145 | AC13: 107 | AD13: 7092.073
A14: 臺南市 | B14: Tainan City | C14: 2264 | D14: 1414 | E14: 850 | F14: 115206.04 | G14: 175 | H14: 116 | I14: 59 | J14: 5712.693 | K14: 80 | L14: 55 | M14: 25 | N14: 3637.318 | O14: 95 | P14: 61 | Q14: 34 | R14: 2075.375 | S14: 2089 | T14: 1298 | U14: 791 | V14: 109493.35 | W14: 1929 | X14: 1200 | Y14: 729 | Z14: 104823.53 | AA14: 160 | AB14: 98 | AC14: 62 | AD14: 4669.814
A15: 高雄市 | B15: Kaohsiung City | C15: 5246 | D15: 2786 | E15: 2460 | F15: 236906.46 | G15: 489 | H15: 302 | I15: 187 | J15: 12983.248 | K15: 178 | L15: 108 | M15: 70 | N15: 6931.683 | O15: 311 | P15: 194 | Q15: 117 | R15: 6051.565 | S15: 4757 | T15: 2484 | U15: 2273 | V15: 223923.21 | W15: 4580 | X15: 2387 | Y15: 2193 | Z15: 218808.79 | AA15: 177 | AB15: 97 | AC15: 80 | AD15: 5114.423
A16: 宜蘭縣 | B16: Yilan County | C16: 1631 | D16: 808 | E16: 823 | F16: 80512.006 | G16: 56 | H16: 36 | I16: 20 | J16: 2474.828 | K16: 43 | L16: 27 | M16: 16 | N16: 2212.212 | O16: 13 | P16: 9 | Q16: 4 | R16: 262.616 | S16: 1575 | T16: 772 | U16: 803 | V16: 78037.178 | W16: 1490 | X16: 719 | Y16: 771 | Z16: 75702.721 | AA16: 85 | AB16: 53 | AC16: 32 | AD16: 2334.457
A17: 新竹縣 | B17: Hsinchu County | C17: 935 | D17: 503 | E17: 432 | F17: 43779.121 | G17: 54 | H17: 34 | I17: 20 | J17: 2178.618 | K17: 37 | L17: 20 | M17: 17 | N17: 1783.47 | O17: 17 | P17: 14 | Q17: 3 | R17: 395.148 | S17: 881 | T17: 469 | U17: 412 | V17: 41600.503 | W17: 855 | X17: 451 | Y17: 404 | Z17: 40872.724 | AA17: 26 | AB17: 18 | AC17: 8 | AD17: 727.779
A18: 苗栗縣 | B18: Miaoli County | C18: 1448 | D18: 756 | E18: 692 | F18: 73729.868 | G18: 51 | H18: 32 | I18: 19 | J18: 1966.971 | K18: 34 | L18: 20 | M18: 14 | N18: 1475.618 | O18: 17 | P18: 12 | Q18: 5 | R18: 491.353 | S18: 1397 | T18: 724 | U18: 673 | V18: 71762.897 | W18: 1365 | X18: 707 | Y18: 658 | Z18: 70807.884 | AA18: 32 | AB18: 17 | AC18: 15 | AD18: 955.013
A19: 彰化縣 | B19: Changhua County | C19: 2179 | D19: 1338 | E19: 841 | F19: 107333.14 | G19: 199 | H19: 125 | I19: 74 | J19: 7562.502 | K19: 111 | L19: 74 | M19: 37 | N19: 5715.02 | O19: 88 | P19: 51 | Q19: 37 | R19: 1847.482 | S19: 1980 | T19: 1213 | U19: 767 | V19: 99770.634 | W19: 1881 | X19: 1149 | Y19: 732 | Z19: 97064.642 | AA19: 99 | AB19: 64 | AC19: 35 | AD19: 2705.992
A20: 南投縣 | B20: Nantou County | C20: 1439 | D20: 778 | E20: 661 | F20: 48614.524 | G20: 59 | H20: 31 | I20: 28 | J20: 1887.506 | K20: 50 | L20: 28 | M20: 22 | N20: 1723.082 | O20: 9 | P20: 3 | Q20: 6 | R20: 164.424 | S20: 1380 | T20: 747 | U20: 633 | V20: 46727.018 | W20: 1358 | X20: 734 | Y20: 624 | Z20: 46260.662 | AA20: 22 | AB20: 13 | AC20: 9 | AD20: 466.356
... A31: 連江縣 | B31: Lienchiang County | C31: 18 | D31: 12 | E31: 6 | F31: 790.864 | G31: 2 | H31: 2 | I31: 0 | J31: 65.637 | K31: 1 | L31: 1 | M31: 0 | N31: 49.725 | O31: 1 | P31: 1 | Q31: 0 | R31: 15.912 | S31: 16 | T31: 10 | U31: 6 | V31: 725.227 | W31: 16 | X31: 10 | Y31: 6 | Z31: 725.227 | AA31: 0 | AB31: 0 | AC31: 0 | AD31: 0
A32: 資料來源：直轄市、縣(市)政府。
A33: 附 註：1.一般對象：依身心障礙者日間照顧及住宿式照顧費用補助辦法第5條而發給之補助對象。
A34: 2.特殊對象：依身心障礙者日間照顧及住宿式照顧費用補助辦法第6條而發給之補助對象。
A36: Source : County and City Government.
A38: 更新日期：2025/06/20
A40: 總計 | B40: Total | C40: 46411 | D40: 24831 | E40: 21580 | F40: 2262570.7 | G40: 6941 | H40: 3945 | I40: 2996 | J40: 356856.78 | K40: 5569 | L40: 3095 | M40: 2474 | N40: 325438.87 | O40: 1372 | P40: 850 | Q40: 522 | R40: 31417.904 | S40: 39470 | T40: 20886 | U40: 18584 | V40: 1905713.9 | W40: 38092 | X40: 20056 | Y40: 18036 | Z40: 1866201.1 | AA40: 1378 | AB40: 830 | AC40: 548 | AD40: 39512.749
A41: 新北市 | B41: New Taipei City | C41: 8235 | D41: 4102 | E41: 4133 | F41: 340258.9 | G41: 467 | H41: 281 | I41: 186 | J41: 16964.336 | K41: 269 | L41: 162 | M41: 107 | N41: 12944.885 | O41: 198 | P41: 119 | Q41: 79 | R41: 4019.451 | S41: 7768 | T41: 3821 | U41: 3947 | V41: 323294.56 | W41: 7608 | X41: 3723 | Y41: 3885 | Z41: 318947.58 | AA41: 160 | AB41: 98 | AC41: 62 | AD41: 4346.983
A42: 臺北市 | B42: Taipei City | C42: 5198 | D42: 2850 | E42: 2348 | F42: 318919.97 | G42: 4229 | H42: 2290 | I42: 1939 | J42: 258459.73 | K42: 4120 | L42: 2223 | M42: 1897 | N42: 255114.87 | O42: 109 | P42: 67 | Q42: 42 | R42: 3344.859 | S42: 969 | T42: 560 | U42: 409 | V42: 60460.239 | W42: 902 | X42: 519 | Y42: 383 | Z42: 58234.206 | AA42: 67 | AB42: 41 | AC42: 26 | AD42: 2226.033
A43: 桃園市 | B43: Taoyuan City | C43: 4003 | D43: 2065 | E43: 1938 | F43: 195903.42 | G43: 227 | H43: 129 | I43: 98 | J43: 9865.685 | K43: 154 | L43: 82 | M43: 72 | N43: 7847.047 | O43: 73 | P43: 47 | Q43: 26 | R43: 2018.638 | S43: 3776 | T43: 1936 | U43: 1840 | V43: 186037.74 | W43: 3713 | X43: 1893 | Y43: 1820 | Z43: 184074.52 | AA43: 63 | AB43: 43 | AC43: 20 | AD43: 1963.22
A44: 臺中市 | B44: Taichung City | C44: 4168 | D44: 2346 | E44: 1822 | F44: 206003.95 | G44: 374 | H44: 222 | I44: 152 | J44: 12646.175 | K44: 132 | L44: 78 | M44: 54 | N44: 6732.377 | O44: 242 | P44: 144 | Q44: 98 | R44: 5913.798 | S44: 3794 | T44: 2124 | U44: 1670 | V44: 193357.77 | W44: 3542 | X44: 1979 | Y44: 1563 | Z44: 186265.7 | AA44: 252 | AB44: 145 | AC44: 107 | AD44: 7092.073
A45: 臺南市 | B45: Tainan City | C45: 2264 | D45: 1414 | E45: 850 | F45: 115206.04 | G45: 175 | H45: 116 | I45: 59 | J45: 5712.693 | K45: 80 | L45: 55 | M45: 25 | N45: 3637.318 | O45: 95 | P45: 61 | Q45: 34 | R45: 2075.375 | S45: 2089 | T45: 1298 | U45: 791 | V45: 109493.35 | W45: 1929 | X45: 1200 | Y45: 729 | Z45: 104823.53 | AA45: 160 | AB45: 98 | AC45: 62 | AD45: 4669.814
A46: 高雄市 | B46: Kaohsiung City | C46: 5246 | D46: 2786 | E46: 2460 | F46: 236906.46 | G46: 489 | H46: 302 | I46: 187 | J46: 12983.248 | K46: 178 | L46: 108 | M46: 70 | N46: 6931.683 | O46: 311 | P46: 194 | Q46: 117 | R46: 6051.565 | S46: 4757 | T46: 2484 | U46: 2273 | V46: 223923.21 | W46: 4580 | X46: 2387 | Y46: 2193 | Z46: 218808.79 | AA46: 177 | AB46: 97 | AC46: 80 | AD46: 5114.423
A47: 宜蘭縣 | B47: Yilan County | C47: 1631 | D47: 808 | E47: 823 | F47: 80512.006 | G47: 56 | H47: 36 | I47: 20 | J47: 2474.828 | K47: 43 | L47: 27 | M47: 16 | N47: 2212.212 | O47: 13 | P47: 9 | Q47: 4 | R47: 262.616 | S47: 1575 | T47: 772 | U47: 803 | V47: 78037.178 | W47: 1490 | X47: 719 | Y47: 771 | Z47: 75702.721 | AA47: 85 | AB47: 53 | AC47: 32 | AD47: 2334.457
A48: 新竹縣 | B48: Hsinchu County | C48: 935 | D48: 503 | E48: 432 | F48: 43779.121 | G48: 54 | H48: 34 | I48: 20 | J48: 2178.618 | K48: 37 | L48: 20 | M48: 17 | N48: 1783.47 | O48: 17 | P48: 14 | Q48: 3 | R48: 395.148 | S48: 881 | T48: 469 | U48: 412 | V48: 41600.503 | W48: 855 | X48: 451 | Y48: 404 | Z48: 40872.724 | AA48: 26 | AB48: 18 | AC48: 8 | AD48: 727.779
A49: 苗栗縣 | B49: Miaoli County | C49: 1448 | D49: 756 | E49: 692 | F49: 73729.868 | G49: 51 | H49: 32 | I49: 19 | J49: 1966.971 | K49: 34 | L49: 20 | M49: 14 | N49: 1475.618 | O49: 17 | P49: 12 | Q49: 5 | R49: 491.353 | S49: 1397 | T49: 724 | U49: 673 | V49: 71762.897 | W49: 1365 | X49: 707 | Y49: 658 | Z49: 70807.884 | AA49: 32 | AB49: 17 | AC49: 15 | AD49: 955.013
A50: 彰化縣 | B50: Changhua County | C50: 2179 | D50: 1338 | E50: 841 | F50: 107333.14 | G50: 199 | H50: 125 | I50: 74 | J50: 7562.502 | K50: 111 | L50: 74 | M50: 37 | N50: 5715.02 | O50: 88 | P50: 51 | Q50: 37 | R50: 1847.482 | S50: 1980 | T50: 1213 | U50: 767 | V50: 99770.634 | W50: 1881 | X50: 1149 | Y50: 732 | Z50: 97064.642 | AA50: 99 | AB50: 64 | AC50: 35 | AD50: 2705.992
A51: 南投縣 | B51: Nantou County | C51: 1439 | D51: 778 | E51: 661 | F51: 48614.524 | G51: 59 | H51: 31 | I51: 28 | J51: 1887.506 | K51: 50 | L51: 28 | M51: 22 | N51: 1723.082 | O51: 9 | P51: 3 | Q51: 6 | R51: 164.424 | S51: 1380 | T51: 747 | U51: 633 | V51: 46727.018 | W51: 1358 | X51: 734 | Y51: 624 | Z51: 46260.662 | AA51: 22 | AB51: 13 | AC51: 9 | AD51: 466.356
... A62: 連江縣 | B62: Lienchiang County | C62: 18 | D62: 12 | E62: 6 | F62: 790.864 | G62: 2 | H62: 2 | I62: 0 | J62: 65.637 | K62: 1 | L62: 1 | M62: 0 | N62: 49.725 | O62: 1 | P62: 1 | Q62: 0 | R62: 15.912 | S62: 16 | T62: 10 | U62: 6 | V62: 725.227 | W62: 16 | X62: 10 | Y62: 6 | Z62: 725.227 | AA62: 0 | AB62: 0 | AC62: 0 | AD62: 0
A64: 總計 | B64: Total | C64: =IF(C40=C9,"","*") -> * | D64: =IF(D40=D9,"","*") -> * | E64: =IF(E40=E9,"","*") -> * | F64: =IF(F40=F9,"","*") -> * | G64: =IF(G40=G9,"","*") -> * | H64: =IF(H40=H9,"","*") -> * | I64: =IF(I40=I9,"","*") -> * | J64: =IF(J40=J9,"","*") -> * | ... AD64: =IF(AD40=AD9,"","*") -> *
A65: 新北市 | B65: New Taipei City | C65: =IF(C41=C10,"","*") | D65: =IF(D41=D10,"","*") | E65: =IF(E41=E10,"","*") | F65: =IF(F41=F10,"","*") | G65: =IF(G41=G10,"","*") | H65: =IF(H41=H10,"","*") | I65: =IF(I41=I10,"","*") | J65: =IF(J41=J10,"","*") | ... AD65: =IF(AD41=AD10,"","*")
A66: 臺北市 | B66: Taipei City | C66: =IF(C42=C11,"","*") -> * | D66: =IF(D42=D11,"","*") -> * | E66: =IF(E42=E11,"","*") -> * | F66: =IF(F42=F11,"","*") -> * | G66: =IF(G42=G11,"","*") -> * | H66: =IF(H42=H11,"","*") -> * | I66: =IF(I42=I11,"","*") -> * | J66: =IF(J42=J11,"","*") -> * | ... AD66: =IF(AD42=AD11,"","*") -> *
A67: 桃園市 | B67: Taoyuan City | C67: =IF(C43=C12,"","*") | D67: =IF(D43=D12,"","*") | E67: =IF(E43=E12,"","*") | F67: =IF(F43=F12,"","*") | G67: =IF(G43=G12,"","*") | H67: =IF(H43=H12,"","*") | I67: =IF(I43=I12,"","*") | J67: =IF(J43=J12,"","*") | ... AD67: =IF(AD43=AD12,"","*")
A68: 臺中市 | B68: Taichung City | C68: =IF(C44=C13,"","*") | D68: =IF(D44=D13,"","*") | E68: =IF(E44=E13,"","*") | F68: =IF(F44=F13,"","*") | G68: =IF(G44=G13,"","*") | H68: =IF(H44=H13,"","*") | I68: =IF(I44=I13,"","*") | J68: =IF(J44=J13,"","*") | ... AD68: =IF(AD44=AD13,"","*")
A69: 臺南市 | B69: Tainan City | C69: =IF(C45=C14,"","*") | D69: =IF(D45=D14,"","*") | E69: =IF(E45=E14,"","*") | F69: =IF(F45=F14,"","*") | G69: =IF(G45=G14,"","*") | H69: =IF(H45=H14,"","*") | I69: =IF(I45=I14,"","*") | J69: =IF(J45=J14,"","*") | ... AD69: =IF(AD45=AD14,"","*")
A70: 高雄市 | B70: Kaohsiung City | C70: =IF(C46=C15,"","*") | D70: =IF(D46=D15,"","*") | E70: =IF(E46=E15,"","*") | F70: =IF(F46=F15,"","*") | G70: =IF(G46=G15,"","*") | H70: =IF(H46=H15,"","*") | I70: =IF(I46=I15,"","*") | J70: =IF(J46=J15,"","*") | ... AD70: =IF(AD46=AD15,"","*")
A71: 宜蘭縣 | B71: Yilan County | C71: =IF(C47=C16,"","*") | D71: =IF(D47=D16,"","*") | E71: =IF(E47=E16,"","*") | F71: =IF(F47=F16,"","*") | G71: =IF(G47=G16,"","*") | H71: =IF(H47=H16,"","*") | I71: =IF(I47=I16,"","*") | J71: =IF(J47=J16,"","*") | ... AD71: =IF(AD47=AD16,"","*")
A72: 新竹縣 | B72: Hsinchu County | C72: =IF(C48=C17,"","*") | D72: =IF(D48=D17,"","*") | E72: =IF(E48=E17,"","*") | F72: =IF(F48=F17,"","*") | G72: =IF(G48=G17,"","*") | H72: =IF(H48=H17,"","*") | I72: =IF(I48=I17,"","*") | J72: =IF(J48=J17,"","*") | ... AD72: =IF(AD48=AD17,"","*")
A73: 苗栗縣 | B73: Miaoli County | C73: =IF(C49=C18,"","*") | D73: =IF(D49=D18,"","*") | E73: =IF(E49=E18,"","*") | F73: =IF(F49=F18,"","*") | G73: =IF(G49=G18,"","*") | H73: =IF(H49=H18,"","*") | I73: =IF(I49=I18,"","*") | J73: =IF(J49=J18,"","*") | ... AD73: =IF(AD49=AD18,"","*")
A74: 彰化縣 | B74: Changhua County | C74: =IF(C50=C19,"","*") | D74: =IF(D50=D19,"","*") | E74: =IF(E50=E19,"","*") | F74: =IF(F50=F19,"","*") | G74: =IF(G50=G19,"","*") | H74: =IF(H50=H19,"","*") | I74: =IF(I50=I19,"","*") | J74: =IF(J50=J19,"","*") | ... AD74: =IF(AD50=AD19,"","*")
A75: 南投縣 | B75: Nantou County | C75: =IF(C51=C20,"","*") | D75: =IF(D51=D20,"","*") | E75: =IF(E51=E20,"","*") | F75: =IF(F51=F20,"","*") | G75: =IF(G51=G20,"","*") | H75: =IF(H51=H20,"","*") | I75: =IF(I51=I20,"","*") | J75: =IF(J51=J20,"","*") | ... AD75: =IF(AD51=AD20,"","*")
... A86: 連江縣 | B86: Lienchiang County | C86: =IF(C62=C31,"","*") | D86: =IF(D62=D31,"","*") | E86: =IF(E62=E31,"","*") | F86: =IF(F62=F31,"","*") | G86: =IF(G62=G31,"","*") | H86: =IF(H62=H31,"","*") | I86: =IF(I62=I31,"","*") | J86: =IF(J62=J31,"","*") | ... AD86: =IF(AD62=AD31,"","*")

Sheet Q2,2024
A1: 身心障礙者日間照顧及住宿式照顧補助Subsidies of Day Care and Residential Care for Disabled
A3: 113年第2季,2024 Q2 | C3: =IF(C9=SUM(C10:C31),"",SUM(C10:C31)) | D3: =IF(D9=SUM(D10:D31),"",SUM(D10:D31)) | E3: =IF(E9=SUM(E10:E31),"",SUM(E10:E31)) | F3: =IF(F9=SUM(F10:F31),"",SUM(F10:F31)) | G3: =IF(G9=SUM(G10:G31),"",SUM(G10:G31)) | H3: =IF(H9=SUM(H10:H31),"",SUM(H10:H31)) | I3: =IF(I9=SUM(I10:I31),"",SUM(I10:I31)) | J3: =IF(J9=SUM(J10:J31),"",SUM(J10:J31)) | ... AD3: =IF(AD9=SUM(AD10:AD31),"",SUM(AD10:AD31))
A4: 區域別 Locality | C4: 日間照顧及住宿式照顧補助Subsidies for Day Care and Residential Care
C5: 合計 Total | G5: 一般對象 General | S5: 特殊對象 Special
G6: 計 Subtotal | K6: 住宿式照顧 Residential Care | O6: 日間照顧 Day Care | S6: 計 Subtotal | W6: 住宿式照顧 Residential Care | AA6: 日間照顧 Day Care
C7: 期底人數 Persons (End of Year) | F7: 金額 (千元) Amounts (NT$1,000) | G7: 期底人數 Persons (End of Year) | J7: 金額 (千元) Amounts (NT$1,000) | K7: 期底人數 Persons (End of Year) | N7: 金額 (千元) Amounts (NT$1,000) | O7: 期底人數 Persons (End of Year) | R7: 金額 (千元) Amounts (NT$1,000) | S7: 期底人數 Persons (End of Year) | V7: 金額 (千元) Amounts (NT$1,000) | W7: 期底人數 Persons (End of Year) | Z7: 金額 (千元) Amounts (NT$1,000) | AA7: 期底人數 Persons (End of Year) | AD7: 金額 (千元) Amounts (NT$1,000)
C8: 計 Subtotal | D8: 男 Male | E8: 女 Female | G8: 計 Subtotal | H8: 男 Male | I8: 女 Female | K8: 計 Subtotal | L8: 男 Male | M8: 女 Female | O8: 計 Subtotal | P8: 男 Male | Q8: 女 Female | S8: 計 Subtotal | T8: 男 Male | U8: 女 Female | W8: 計 Subtotal | X8: 男 Male | Y8: 女 Female | AA8: 計 Subtotal | AB8: 男 Male | AC8: 女 Female
A9: 總計 | B9: Total | C9: 47197 | D9: 25241 | E9: 21956 | F9: 2316506.8 | G9: 6715 | H9: 3821 | I9: 2894 | J9: 339114.3 | K9: 5193 | L9: 2891 | M9: 2302 | N9: 303704.27 | O9: 1522 | P9: 930 | Q9: 592 | R9: 35410.037 | S9: 40482 | T9: 21420 | U9: 19062 | V9: 1977392.5 | W9: 38748 | X9: 20391 | Y9: 18357 | Z9: 1923816.9 | AA9: 1734 | AB9: 1029 | AC9: 705 | AD9: 53575.549
A10: 新北市 | B10: New Taipei City | C10: 8338 | D10: 4156 | E10: 4182 | F10: 342909.54 | G10: 443 | H10: 260 | I10: 183 | J10: 17080.947 | K10: 262 | L10: 155 | M10: 107 | N10: 12870.75 | O10: 181 | P10: 105 | Q10: 76 | R10: 4210.197 | S10: 7895 | T10: 3896 | U10: 3999 | V10: 325828.6 | W10: 7733 | X10: 3799 | Y10: 3934 | Z10: 321222.68 | AA10: 162 | AB10: 97 | AC10: 65 | AD10: 4605.914
A11: 臺北市 | B11: Taipei City | C11: 5256 | D11: 2891 | E11: 2365 | F11: 312763.16 | G11: 3948 | H11: 2131 | I11: 1817 | J11: 240216.73 | K11: 3736 | L11: 2015 | M11: 1721 | N11: 233006.67 | O11: 212 | P11: 116 | Q11: 96 | R11: 7210.065 | S11: 1308 | T11: 760 | U11: 548 | V11: 72546.429 | W11: 876 | X11: 510 | Y11: 366 | Z11: 56819.328 | AA11: 432 | AB11: 250 | AC11: 182 | AD11: 15727.101
A12: 桃園市 | B12: Taoyuan City | C12: 4038 | D12: 2075 | E12: 1963 | F12: 194585.84 | G12: 233 | H12: 132 | I12: 101 | J12: 9766.199 | K12: 160 | L12: 86 | M12: 74 | N12: 7910.108 | O12: 73 | P12: 46 | Q12: 27 | R12: 1856.091 | S12: 3805 | T12: 1943 | U12: 1862 | V12: 184819.64 | W12: 3743 | X12: 1902 | Y12: 1841 | Z12: 182902.23 | AA12: 62 | AB12: 41 | AC12: 21 | AD12: 1917.408
A13: 臺中市 | B13: Taichung City | C13: 4252 | D13: 2369 | E13: 1883 | F13: 200707.15 | G13: 392 | H13: 233 | I13: 159 | J13: 12505.255 | K13: 139 | L13: 82 | M13: 57 | N13: 6603.536 | O13: 253 | P13: 151 | Q13: 102 | R13: 5901.719 | S13: 3860 | T13: 2136 | U13: 1724 | V13: 188201.9 | W13: 3608 | X13: 1992 | Y13: 1616 | Z13: 181422.29 | AA13: 252 | AB13: 144 | AC13: 108 | AD13: 6779.602
A14: 臺南市 | B14: Tainan City | C14: 2299 | D14: 1435 | E14: 864 | F14: 120707.19 | G14: 182 | H14: 116 | I14: 66 | J14: 6087.235 | K14: 84 | L14: 58 | M14: 26 | N14: 3884.265 | O14: 98 | P14: 58 | Q14: 40 | R14: 2202.97 | S14: 2117 | T14: 1319 | U14: 798 | V14: 114619.96 | W14: 1961 | X14: 1222 | Y14: 739 | Z14: 109681.57 | AA14: 156 | AB14: 97 | AC14: 59 | AD14: 4938.393
A15: 高雄市 | B15: Kaohsiung City | C15: 5382 | D15: 2860 | E15: 2522 | F15: 239880.14 | G15: 521 | H15: 330 | I15: 191 | J15: 12389.808 | K15: 180 | L15: 111 | M15: 69 | N15: 6770.555 | O15: 341 | P15: 219 | Q15: 122 | R15: 5619.253 | S15: 4861 | T15: 2530 | U15: 2331 | V15: 227490.33 | W15: 4686 | X15: 2435 | Y15: 2251 | Z15: 222426.08 | AA15: 175 | AB15: 95 | AC15: 80 | AD15: 5064.247
A16: 宜蘭縣 | B16: Yilan County | C16: 1709 | D16: 847 | E16: 862 | F16: 82829.342 | G16: 57 | H16: 37 | I16: 20 | J16: 2506.033 | K16: 44 | L16: 28 | M16: 16 | N16: 2226.577 | O16: 13 | P16: 9 | Q16: 4 | R16: 279.456 | S16: 1652 | T16: 810 | U16: 842 | V16: 80323.309 | W16: 1566 | X16: 758 | Y16: 808 | Z16: 77946.914 | AA16: 86 | AB16: 52 | AC16: 34 | AD16: 2376.395
A17: 新竹縣 | B17: Hsinchu County | C17: 932 | D17: 496 | E17: 436 | F17: 44902.383 | G17: 52 | H17: 34 | I17: 18 | J17: 2044.25 | K17: 36 | L17: 21 | M17: 15 | N17: 1667.666 | O17: 16 | P17: 13 | Q17: 3 | R17: 376.584 | S17: 880 | T17: 462 | U17: 418 | V17: 42858.133 | W17: 853 | X17: 443 | Y17: 410 | Z17: 42094.597 | AA17: 27 | AB17: 19 | AC17: 8 | AD17: 763.536
A18: 苗栗縣 | B18: Miaoli County | C18: 1478 | D18: 778 | E18: 700 | F18: 74207.057 | G18: 59 | H18: 37 | I18: 22 | J18: 1968.117 | K18: 33 | L18: 20 | M18: 13 | N18: 1389.648 | O18: 26 | P18: 17 | Q18: 9 | R18: 578.469 | S18: 1419 | T18: 741 | U18: 678 | V18: 72238.94 | W18: 1387 | X18: 723 | Y18: 664 | Z18: 71291.74 | AA18: 32 | AB18: 18 | AC18: 14 | AD18: 947.2
A19: 彰化縣 | B19: Changhua County | C19: 2225 | D19: 1382 | E19: 843 | F19: 108191.84 | G19: 192 | H19: 118 | I19: 74 | J19: 7613.282 | K19: 112 | L19: 71 | M19: 41 | N19: 5744.585 | O19: 80 | P19: 47 | Q19: 33 | R19: 1868.697 | S19: 2033 | T19: 1264 | U19: 769 | V19: 100578.56 | W19: 1939 | X19: 1202 | Y19: 737 | Z19: 97972.543 | AA19: 94 | AB19: 62 | AC19: 32 | AD19: 2606.015
A20: 南投縣 | B20: Nantou County | C20: 1477 | D20: 790 | E20: 687 | F20: 98966.633 | G20: 62 | H20: 31 | I20: 31 | J20: 3843.728 | K20: 51 | L20: 28 | M20: 23 | N20: 3509.576 | O20: 11 | P20: 3 | Q20: 8 | R20: 334.152 | S20: 1415 | T20: 759 | U20: 656 | V20: 95122.905 | W20: 1394 | X20: 746 | Y20: 648 | Z20: 94186.887 | AA20: 21 | AB20: 13 | AC20: 8 | AD20: 936.018
... A31: 連江縣 | B31: Lienchiang County | C31: 21 | D31: 14 | E31: 7 | F31: 915.037 | G31: 2 | H31: 2 | I31: 0 | J31: 65.637 | K31: 1 | L31: 1 | M31: 0 | N31: 49.725 | O31: 1 | P31: 1 | Q31: 0 | R31: 15.912 | S31: 19 | T31: 12 | U31: 7 | V31: 849.4 | W31: 19 | X31: 12 | Y31: 7 | Z31: 849.4 | AA31: 0 | AB31: 0 | AC31: 0 | AD31: 0
A32: 資料來源：直轄市、縣(市)政府。
A33: 附 註：1.一般對象：依身心障礙者日間照顧及住宿式照顧費用補助辦法第5條而發給之補助對象。
A34: 2.特殊對象：依身心障礙者日間照顧及住宿式照顧費用補助辦法第6條而發給之補助對象。
A36: Source : County and City Government.
A38: 更新日期：2025/06/20
A40: 總計 | B40: Total | C40: 47173 | D40: 25202 | E40: 21971 | F40: 2325413.5 | G40: 7020 | H40: 3976 | I40: 3044 | J40: 359259.58 | K40: 5610 | L40: 3098 | M40: 2512 | N40: 327952.04 | O40: 1410 | P40: 878 | Q40: 532 | R40: 31307.534 | S40: 40153 | T40: 21226 | U40: 18927 | V40: 1966154 | W40: 38793 | X40: 20411 | Y40: 18382 | Z40: 1926407.5 | AA40: 1360 | AB40: 815 | AC40: 545 | AD40: 39746.497
A41: 新北市 | B41: New Taipei City | C41: 8338 | D41: 4156 | E41: 4182 | F41: 342909.54 | G41: 443 | H41: 260 | I41: 183 | J41: 17080.947 | K41: 262 | L41: 155 | M41: 107 | N41: 12870.75 | O41: 181 | P41: 105 | Q41: 76 | R41: 4210.197 | S41: 7895 | T41: 3896 | U41: 3999 | V41: 325828.6 | W41: 7733 | X41: 3799 | Y41: 3934 | Z41: 321222.68 | AA41: 162 | AB41: 97 | AC41: 65 | AD41: 4605.914
A42: 臺北市 | B42: Taipei City | C42: 5232 | D42: 2852 | E42: 2380 | F42: 321669.92 | G42: 4253 | H42: 2286 | I42: 1967 | J42: 260362.01 | K42: 4153 | L42: 2222 | M42: 1931 | N42: 257254.44 | O42: 100 | P42: 64 | Q42: 36 | R42: 3107.562 | S42: 979 | T42: 566 | U42: 413 | V42: 61307.913 | W42: 921 | X42: 530 | Y42: 391 | Z42: 59409.864 | AA42: 58 | AB42: 36 | AC42: 22 | AD42: 1898.049
A43: 桃園市 | B43: Taoyuan City | C43: 4038 | D43: 2075 | E43: 1963 | F43: 194585.84 | G43: 233 | H43: 132 | I43: 101 | J43: 9766.199 | K43: 160 | L43: 86 | M43: 74 | N43: 7910.108 | O43: 73 | P43: 46 | Q43: 27 | R43: 1856.091 | S43: 3805 | T43: 1943 | U43: 1862 | V43: 184819.64 | W43: 3743 | X43: 1902 | Y43: 1841 | Z43: 182902.23 | AA43: 62 | AB43: 41 | AC43: 21 | AD43: 1917.408
A44: 臺中市 | B44: Taichung City | C44: 4252 | D44: 2369 | E44: 1883 | F44: 200707.15 | G44: 392 | H44: 233 | I44: 159 | J44: 12505.255 | K44: 139 | L44: 82 | M44: 57 | N44: 6603.536 | O44: 253 | P44: 151 | Q44: 102 | R44: 5901.719 | S44: 3860 | T44: 2136 | U44: 1724 | V44: 188201.9 | W44: 3608 | X44: 1992 | Y44: 1616 | Z44: 181422.29 | AA44: 252 | AB44: 144 | AC44: 108 | AD44: 6779.602
A45: 臺南市 | B45: Tainan City | C45: 2299 | D45: 1435 | E45: 864 | F45: 120707.19 | G45: 182 | H45: 116 | I45: 66 | J45: 6087.235 | K45: 84 | L45: 58 | M45: 26 | N45: 3884.265 | O45: 98 | P45: 58 | Q45: 40 | R45: 2202.97 | S45: 2117 | T45: 1319 | U45: 798 | V45: 114619.96 | W45: 1961 | X45: 1222 | Y45: 739 | Z45: 109681.57 | AA45: 156 | AB45: 97 | AC45: 59 | AD45: 4938.393
A46: 高雄市 | B46: Kaohsiung City | C46: 5382 | D46: 2860 | E46: 2522 | F46: 239880.14 | G46: 521 | H46: 330 | I46: 191 | J46: 12389.808 | K46: 180 | L46: 111 | M46: 69 | N46: 6770.555 | O46: 341 | P46: 219 | Q46: 122 | R46: 5619.253 | S46: 4861 | T46: 2530 | U46: 2331 | V46: 227490.33 | W46: 4686 | X46: 2435 | Y46: 2251 | Z46: 222426.08 | AA46: 175 | AB46: 95 | AC46: 80 | AD46: 5064.247
A47: 宜蘭縣 | B47: Yilan County | C47: 1709 | D47: 847 | E47: 862 | F47: 82829.342 | G47: 57 | H47: 37 | I47: 20 | J47: 2506.033 | K47: 44 | L47: 28 | M47: 16 | N47: 2226.577 | O47: 13 | P47: 9 | Q47: 4 | R47: 279.456 | S47: 1652 | T47: 810 | U47: 842 | V47: 80323.309 | W47: 1566 | X47: 758 | Y47: 808 | Z47: 77946.914 | AA47: 86 | AB47: 52 | AC47: 34 | AD47: 2376.395
A48: 新竹縣 | B48: Hsinchu County | C48: 932 | D48: 496 | E48: 436 | F48: 44902.383 | G48: 52 | H48: 34 | I48: 18 | J48: 2044.25 | K48: 36 | L48: 21 | M48: 15 | N48: 1667.666 | O48: 16 | P48: 13 | Q48: 3 | R48: 376.584 | S48: 880 | T48: 462 | U48: 418 | V48: 42858.133 | W48: 853 | X48: 443 | Y48: 410 | Z48: 42094.597 | AA48: 27 | AB48: 19 | AC48: 8 | AD48: 763.536
A49: 苗栗縣 | B49: Miaoli County | C49: 1478 | D49: 778 | E49: 700 | F49: 74207.057 | G49: 59 | H49: 37 | I49: 22 | J49: 1968.117 | K49: 33 | L49: 20 | M49: 13 | N49: 1389.648 | O49: 26 | P49: 17 | Q49: 9 | R49: 578.469 | S49: 1419 | T49: 741 | U49: 678 | V49: 72238.94 | W49: 1387 | X49: 723 | Y49: 664 | Z49: 71291.74 | AA49: 32 | AB49: 18 | AC49: 14 | AD49: 947.2
A50: 彰化縣 | B50: Changhua County | C50: 2225 | D50: 1382 | E50: 843 | F50: 108191.84 | G50: 192 | H50: 118 | I50: 74 | J50: 7613.282 | K50: 112 | L50: 71 | M50: 41 | N50: 5744.585 | O50: 80 | P50: 47 | Q50: 33 | R50: 1868.697 | S50: 2033 | T50: 1264 | U50: 769 | V50: 100578.56 | W50: 1939 | X50: 1202 | Y50: 737 | Z50: 97972.543 | AA50: 94 | AB50: 62 | AC50: 32 | AD50: 2606.015
A51: 南投縣 | B51: Nantou County | C51: 1477 | D51: 790 | E51: 687 | F51: 98966.633 | G51: 62 | H51: 31 | I51: 31 | J51: 3843.728 | K51: 51 | L51: 28 | M51: 23 | N51: 3509.576 | O51: 11 | P51: 3 | Q51: 8 | R51: 334.152 | S51: 1415 | T51: 759 | U51: 656 | V51: 95122.905 | W51: 1394 | X51: 746 | Y51: 648 | Z51: 94186.887 | AA51: 21 | AB51: 13 | AC51: 8 | AD51: 936.018
... A62: 連江縣 | B62: Lienchiang County | C62: 21 | D62: 14 | E62: 7 | F62: 915.037 | G62: 2 | H62: 2 | I62: 0 | J62: 65.637 | K62: 1 | L62: 1 | M62: 0 | N62: 49.725 | O62: 1 | P62: 1 | Q62: 0 | R62: 15.912 | S62: 19 | T62: 12 | U62: 7 | V62: 849.4 | W62: 19 | X62: 12 | Y62: 7 | Z62: 849.4 | AA62: 0 | AB62: 0 | AC62: 0 | AD62: 0
A64: 總計 | B64: Total | C64: =IF(C40=C9,"","*") -> * | D64: =IF(D40=D9,"","*") -> * | E64: =IF(E40=E9,"","*") -> * | F64: =IF(F40=F9,"","*") -> * | G64: =IF(G40=G9,"","*") -> * | H64: =IF(H40=H9,"","*") -> * | I64: =IF(I40=I9,"","*") -> * | J64: =IF(J40=J9,"","*") -> * | ... AD64: =IF(AD40=AD9,"","*") -> *
A65: 新北市 | B65: New Taipei City | C65: =IF(C41=C10,"","*") | D65: =IF(D41=D10,"","*") | E65: =IF(E41=E10,"","*") | F65: =IF(F41=F10,"","*") | G65: =IF(G41=G10,"","*") | H65: =IF(H41=H10,"","*") | I65: =IF(I41=I10,"","*") | J65: =IF(J41=J10,"","*") | ... AD65: =IF(AD41=AD10,"","*")
A66: 臺北市 | B66: Taipei City | C66: =IF(C42=C11,"","*") -> * | D66: =IF(D42=D11,"","*") -> * | E66: =IF(E42=E11,"","*") -> * | F66: =IF(F42=F11,"","*") -> * | G66: =IF(G42=G11,"","*") -> * | H66: =IF(H42=H11,"","*") -> * | I66: =IF(I42=I11,"","*") -> * | J66: =IF(J42=J11,"","*") -> * | ... AD66: =IF(AD42=AD11,"","*") -> *
A67: 桃園市 | B67: Taoyuan City | C67: =IF(C43=C12,"","*") | D67: =IF(D43=D12,"","*") | E67: =IF(E43=E12,"","*") | F67: =IF(F43=F12,"","*") | G67: =IF(G43=G12,"","*") | H67: =IF(H43=H12,"","*") | I67: =IF(I43=I12,"","*") | J67: =IF(J43=J12,"","*") | ... AD67: =IF(AD43=AD12,"","*")
A68: 臺中市 | B68: Taichung City | C68: =IF(C44=C13,"","*") | D68: =IF(D44=D13,"","*") | E68: =IF(E44=E13,"","*") | F68: =IF(F44=F13,"","*") | G68: =IF(G44=G13,"","*") | H68: =IF(H44=H13,"","*") | I68: =IF(I44=I13,"","*") | J68: =IF(J44=J13,"","*") | ... AD68: =IF(AD44=AD13,"","*")
A69: 臺南市 | B69: Tainan City | C69: =IF(C45=C14,"","*") | D69: =IF(D45=D14,"","*") | E69: =IF(E45=E14,"","*") | F69: =IF(F45=F14,"","*") | G69: =IF(G45=G14,"","*") | H69: =IF(H45=H14,"","*") | I69: =IF(I45=I14,"","*") | J69: =IF(J45=J14,"","*") | ... AD69: =IF(AD45=AD14,"","*")
A70: 高雄市 | B70: Kaohsiung City | C70: =IF(C46=C15,"","*") | D70: =IF(D46=D15,"","*") | E70: =IF(E46=E15,"","*") | F70: =IF(F46=F15,"","*") | G70: =IF(G46=G15,"","*") | H70: =IF(H46=H15,"","*") | I70: =IF(I46=I15,"","*") | J70: =IF(J46=J15,"","*") | ... AD70: =IF(AD46=AD15,"","*")
A71: 宜蘭縣 | B71: Yilan County | C71: =IF(C47=C16,"","*") | D71: =IF(D47=D16,"","*") | E71: =IF(E47=E16,"","*") | F71: =IF(F47=F16,"","*") | G71: =IF(G47=G16,"","*") | H71: =IF(H47=H16,"","*") | I71: =IF(I47=I16,"","*") | J71: =IF(J47=J16,"","*") | ... AD71: =IF(AD47=AD16,"","*")
A72: 新竹縣 | B72: Hsinchu County | C72: =IF(C48=C17,"","*") | D72: =IF(D48=D17,"","*") | E72: =IF(E48=E17,"","*") | F72: =IF(F48=F17,"","*") | G72: =IF(G48=G17,"","*") | H72: =IF(H48=H17,"","*") | I72: =IF(I48=I17,"","*") | J72: =IF(J48=J17,"","*") | ... AD72: =IF(AD48=AD17,"","*")
A73: 苗栗縣 | B73: Miaoli County | C73: =IF(C49=C18,"","*") | D73: =IF(D49=D18,"","*") | E73: =IF(E49=E18,"","*") | F73: =IF(F49=F18,"","*") | G73: =IF(G49=G18,"","*") | H73: =IF(H49=H18,"","*") | I73: =IF(I49=I18,"","*") | J73: =IF(J49=J18,"","*") | ... AD73: =IF(AD49=AD18,"","*")
A74: 彰化縣 | B74: Changhua County | C74: =IF(C50=C19,"","*") | D74: =IF(D50=D19,"","*") | E74: =IF(E50=E19,"","*") | F74: =IF(F50=F19,"","*") | G74: =IF(G50=G19,"","*") | H74: =IF(H50=H19,"","*") | I74: =IF(I50=I19,"","*") | J74: =IF(J50=J19,"","*") | ... AD74: =IF(AD50=AD19,"","*")
A75: 南投縣 | B75: Nantou County | C75: =IF(C51=C20,"","*") | D75: =IF(D51=D20,"","*") | E75: =IF(E51=E20,"","*") | F75: =IF(F51=F20,"","*") | G75: =IF(G51=G20,"","*") | H75: =IF(H51=H20,"","*") | I75: =IF(I51=I20,"","*") | J75: =IF(J51=J20,"","*") | ... AD75: =IF(AD51=AD20,"","*")
... A86: 連江縣 | B86: Lienchiang County | C86: =IF(C62=C31,"","*") | D86: =IF(D62=D31,"","*") | E86: =IF(E62=E31,"","*") | F86: =IF(F62=F31,"","*") | G86: =IF(G62=G31,"","*") | H86: =IF(H62=H31,"","*") | I86: =IF(I62=I31,"","*") | J86: =IF(J62=J31,"","*") | ... AD86: =IF(AD62=AD31,"","*")

Sheet Q1,2024
A1: 身心障礙者日間照顧及住宿式照顧補助Subsidies of Day Care and Residential Care for Disabled
A3: 113年第1季,2024 Q1 | C3: =IF(C9=SUM(C10:C31),"",SUM(C10:C31)) | D3: =IF(D9=SUM(D10:D31),"",SUM(D10:D31)) | E3: =IF(E9=SUM(E10:E31),"",SUM(E10:E31)) | F3: =IF(F9=SUM(F10:F31),"",SUM(F10:F31)) | G3: =IF(G9=SUM(G10:G31),"",SUM(G10:G31)) | H3: =IF(H9=SUM(H10:H31),"",SUM(H10:H31)) | I3: =IF(I9=SUM(I10:I31),"",SUM(I10:I31)) | J3: =IF(J9=SUM(J10:J31),"",SUM(J10:J31)) | ... AD3: =IF(AD9=SUM(AD10:AD31),"",SUM(AD10:AD31))
A4: 區域別 Locality | C4: 日間照顧及住宿式照顧補助Subsidies for Day Care and Residential Care
C5: 合計 Total | G5: 一般對象 General | S5: 特殊對象 Special
G6: 計 Subtotal | K6: 住宿式照顧 Residential Care | O6: 日間照顧 Day Care | S6: 計 Subtotal | W6: 住宿式照顧 Residential Care | AA6: 日間照顧 Day Care
C7: 期底人數 Persons (End of Year) | F7: 金額 (千元) Amounts (NT$1,000) | G7: 期底人數 Persons (End of Year) | J7: 金額 (千元) Amounts (NT$1,000) | K7: 期底人數 Persons (End of Year) | N7: 金額 (千元) Amounts (NT$1,000) | O7: 期底人數 Persons (End of Year) | R7: 金額 (千元) Amounts (NT$1,000) | S7: 期底人數 Persons (End of Year) | V7: 金額 (千元) Amounts (NT$1,000) | W7: 期底人數 Persons (End of Year) | Z7: 金額 (千元) Amounts (NT$1,000) | AA7: 期底人數 Persons (End of Year) | AD7: 金額 (千元) Amounts (NT$1,000)
C8: 計 Subtotal | D8: 男 Male | E8: 女 Female | G8: 計 Subtotal | H8: 男 Male | I8: 女 Female | K8: 計 Subtotal | L8: 男 Male | M8: 女 Female | O8: 計 Subtotal | P8: 男 Male | Q8: 女 Female | S8: 計 Subtotal | T8: 男 Male | U8: 女 Female | W8: 計 Subtotal | X8: 男 Male | Y8: 女 Female | AA8: 計 Subtotal | AB8: 男 Male | AC8: 女 Female
A9: 總計 | B9: Total | C9: 47423 | D9: 25351 | E9: 22072 | F9: 2255953.1 | G9: 6710 | H9: 3828 | I9: 2882 | J9: 335329.73 | K9: 5170 | L9: 2872 | M9: 2298 | N9: 299194.6 | O9: 1540 | P9: 956 | Q9: 584 | R9: 36135.13 | S9: 40713 | T9: 21523 | U9: 19190 | V9: 1920623.4 | W9: 39031 | X9: 20534 | Y9: 18497 | Z9: 1870505.8 | AA9: 1682 | AB9: 989 | AC9: 693 | AD9: 50117.547
A10: 新北市 | B10: New Taipei City | C10: 8537 | D10: 4251 | E10: 4286 | F10: 356576.98 | G10: 463 | H10: 273 | I10: 190 | J10: 18127.778 | K10: 278 | L10: 165 | M10: 113 | N10: 13683.284 | O10: 185 | P10: 108 | Q10: 77 | R10: 4444.494 | S10: 8074 | T10: 3978 | U10: 4096 | V10: 338449.2 | W10: 7907 | X10: 3876 | Y10: 4031 | Z10: 333807.85 | AA10: 167 | AB10: 102 | AC10: 65 | AD10: 4641.357
A11: 臺北市 | B11: Taipei City | C11: 5214 | D11: 2868 | E11: 2346 | F11: 310227.48 | G11: 3912 | H11: 2114 | I11: 1798 | J11: 238114.49 | K11: 3705 | L11: 1998 | M11: 1707 | N11: 231019.53 | O11: 207 | P11: 116 | Q11: 91 | R11: 7094.961 | S11: 1302 | T11: 754 | U11: 548 | V11: 72112.989 | W11: 890 | X11: 515 | Y11: 375 | Z11: 57329.58 | AA11: 412 | AB11: 239 | AC11: 173 | AD11: 14783.409
A12: 桃園市 | B12: Taoyuan City | C12: 3976 | D12: 2049 | E12: 1927 | F12: 190052.18 | G12: 230 | H12: 129 | I12: 101 | J12: 9746.985 | K12: 161 | L12: 83 | M12: 78 | N12: 7969.261 | O12: 69 | P12: 46 | Q12: 23 | R12: 1777.724 | S12: 3746 | T12: 1920 | U12: 1826 | V12: 180305.19 | W12: 3684 | X12: 1879 | Y12: 1805 | Z12: 178436.32 | AA12: 62 | AB12: 41 | AC12: 21 | AD12: 1868.877
A13: 臺中市 | B13: Taichung City | C13: 4319 | D13: 2411 | E13: 1908 | F13: 194181.79 | G13: 394 | H13: 237 | I13: 157 | J13: 11842.866 | K13: 140 | L13: 81 | M13: 59 | N13: 6228.915 | O13: 254 | P13: 156 | Q13: 98 | R13: 5613.951 | S13: 3925 | T13: 2174 | U13: 1751 | V13: 182338.92 | W13: 3680 | X13: 2036 | Y13: 1644 | Z13: 176123.96 | AA13: 245 | AB13: 138 | AC13: 107 | AD13: 6214.954
A14: 臺南市 | B14: Tainan City | C14: 2270 | D14: 1416 | E14: 854 | F14: 111280.36 | G14: 204 | H14: 131 | I14: 73 | J14: 6350.366 | K14: 82 | L14: 54 | M14: 28 | N14: 3379.881 | O14: 122 | P14: 77 | Q14: 45 | R14: 2970.485 | S14: 2066 | T14: 1285 | U14: 781 | V14: 104929.99 | W14: 1935 | X14: 1207 | Y14: 728 | Z14: 101380.09 | AA14: 131 | AB14: 78 | AC14: 53 | AD14: 3549.907
A15: 高雄市 | B15: Kaohsiung City | C15: 5350 | D15: 2845 | E15: 2505 | F15: 238962.65 | G15: 525 | H15: 332 | I15: 193 | J15: 13054.825 | K15: 183 | L15: 112 | M15: 71 | N15: 6841.57 | O15: 342 | P15: 220 | Q15: 122 | R15: 6213.255 | S15: 4825 | T15: 2513 | U15: 2312 | V15: 225907.82 | W15: 4653 | X15: 2421 | Y15: 2232 | Z15: 220832.31 | AA15: 172 | AB15: 92 | AC15: 80 | AD15: 5075.507
A16: 宜蘭縣 | B16: Yilan County | C16: 1746 | D16: 853 | E16: 893 | F16: 83844.552 | G16: 59 | H16: 39 | I16: 20 | J16: 2496.463 | K16: 45 | L16: 29 | M16: 16 | N16: 2199.504 | O16: 14 | P16: 10 | Q16: 4 | R16: 296.959 | S16: 1687 | T16: 814 | U16: 873 | V16: 81348.089 | W16: 1596 | X16: 760 | Y16: 836 | Z16: 78927.18 | AA16: 91 | AB16: 54 | AC16: 37 | AD16: 2420.909
A17: 新竹縣 | B17: Hsinchu County | C17: 986 | D17: 520 | E17: 466 | F17: 46002.852 | G17: 51 | H17: 33 | I17: 18 | J17: 2046.46 | K17: 36 | L17: 21 | M17: 15 | N17: 1688.44 | O17: 15 | P17: 12 | Q17: 3 | R17: 358.02 | S17: 935 | T17: 487 | U17: 448 | V17: 43956.392 | W17: 908 | X17: 468 | Y17: 440 | Z17: 43201.166 | AA17: 27 | AB17: 19 | AC17: 8 | AD17: 755.226
A18: 苗栗縣 | B18: Miaoli County | C18: 1476 | D18: 779 | E18: 697 | F18: 74184.991 | G18: 55 | H18: 35 | I18: 20 | J18: 1764.811 | K18: 30 | L18: 19 | M18: 11 | N18: 1167.911 | O18: 25 | P18: 16 | Q18: 9 | R18: 596.9 | S18: 1421 | T18: 744 | U18: 677 | V18: 72420.18 | W18: 1390 | X18: 726 | Y18: 664 | Z18: 71454.781 | AA18: 31 | AB18: 18 | AC18: 13 | AD18: 965.399
A19: 彰化縣 | B19: Changhua County | C19: 2233 | D19: 1384 | E19: 849 | F19: 108898.31 | G19: 193 | H19: 120 | I19: 73 | J19: 7646.038 | K19: 112 | L19: 72 | M19: 40 | N19: 5823.755 | O19: 81 | P19: 48 | Q19: 33 | R19: 1822.283 | S19: 2040 | T19: 1264 | U19: 776 | V19: 101252.27 | W19: 1951 | X19: 1207 | Y19: 744 | Z19: 98752.732 | AA19: 89 | AB19: 57 | AC19: 32 | AD19: 2499.536
A20: 南投縣 | B20: Nantou County | C20: 1519 | D20: 820 | E20: 699 | F20: 49174.106 | G20: 64 | H20: 32 | I20: 32 | J20: 1894.927 | K20: 53 | L20: 29 | M20: 24 | N20: 1733.755 | O20: 11 | P20: 3 | Q20: 8 | R20: 161.172 | S20: 1455 | T20: 788 | U20: 667 | V20: 47279.179 | W20: 1435 | X20: 775 | Y20: 660 | Z20: 46839.636 | AA20: 20 | AB20: 13 | AC20: 7 | AD20: 439.543
... A31: 連江縣 | B31: Lienchiang County | C31: 22 | D31: 14 | E31: 8 | F31: 965.366 | G31: 2 | H31: 2 | I31: 0 | J31: 65.637 | K31: 1 | L31: 1 | M31: 0 | N31: 49.725 | O31: 1 | P31: 1 | Q31: 0 | R31: 15.912 | S31: 20 | T31: 12 | U31: 8 | V31: 899.729 | W31: 20 | X31: 12 | Y31: 8 | Z31: 899.729 | AA31: 0 | AB31: 0 | AC31: 0 | AD31: 0
A32: 資料來源：直轄市、縣(市)政府。
A33: 附 註：1.一般對象：依身心障礙者日間照顧及住宿式照顧費用補助辦法第5條而發給之補助對象。
A34: 2.特殊對象：依身心障礙者日間照顧及住宿式照顧費用補助辦法第6條而發給之補助對象。
A36: Source : County and City Government.
A38: 更新日期：2025/06/20
A40: 總計 | B40: Total | C40: 47296 | D40: 25273 | E40: 22023 | F40: 2259155.9 | G40: 6924 | H40: 3944 | I40: 2980 | J40: 350700.84 | K40: 5503 | L40: 3050 | M40: 2453 | N40: 318922.44 | O40: 1421 | P40: 894 | Q40: 527 | R40: 31778.395 | S40: 40372 | T40: 21329 | U40: 19043 | V40: 1908455.1 | W40: 39056 | X40: 20548 | Y40: 18508 | Z40: 1871612.7 | AA40: 1316 | AB40: 781 | AC40: 535 | AD40: 36842.394
A41: 新北市 | B41: New Taipei City | C41: 8537 | D41: 4251 | E41: 4286 | F41: 356576.98 | G41: 463 | H41: 273 | I41: 190 | J41: 18127.778 | K41: 278 | L41: 165 | M41: 113 | N41: 13683.284 | O41: 185 | P41: 108 | Q41: 77 | R41: 4444.494 | S41: 8074 | T41: 3978 | U41: 4096 | V41: 338449.2 | W41: 7907 | X41: 3876 | Y41: 4031 | Z41: 333807.85 | AA41: 167 | AB41: 102 | AC41: 65 | AD41: 4641.357
A42: 臺北市 | B42: Taipei City | C42: 5087 | D42: 2790 | E42: 2297 | F42: 313430.29 | G42: 4126 | H42: 2230 | I42: 1896 | J42: 253485.6 | K42: 4038 | L42: 2176 | M42: 1862 | N42: 250747.37 | O42: 88 | P42: 54 | Q42: 34 | R42: 2738.226 | S42: 961 | T42: 560 | U42: 401 | V42: 59944.698 | W42: 915 | X42: 529 | Y42: 386 | Z42: 58436.442 | AA42: 46 | AB42: 31 | AC42: 15 | AD42: 1508.256
A43: 桃園市 | B43: Taoyuan City | C43: 3976 | D43: 2049 | E43: 1927 | F43: 190052.18 | G43: 230 | H43: 129 | I43: 101 | J43: 9746.985 | K43: 161 | L43: 83 | M43: 78 | N43: 7969.261 | O43: 69 | P43: 46 | Q43: 23 | R43: 1777.724 | S43: 3746 | T43: 1920 | U43: 1826 | V43: 180305.19 | W43: 3684 | X43: 1879 | Y43: 1805 | Z43: 178436.32 | AA43: 62 | AB43: 41 | AC43: 21 | AD43: 1868.877
A44: 臺中市 | B44: Taichung City | C44: 4319 | D44: 2411 | E44: 1908 | F44: 194181.79 | G44: 394 | H44: 237 | I44: 157 | J44: 11842.866 | K44: 140 | L44: 81 | M44: 59 | N44: 6228.915 | O44: 254 | P44: 156 | Q44: 98 | R44: 5613.951 | S44: 3925 | T44: 2174 | U44: 1751 | V44: 182338.92 | W44: 3680 | X44: 2036 | Y44: 1644 | Z44: 176123.96 | AA44: 245 | AB44: 138 | AC44: 107 | AD44: 6214.954
A45: 臺南市 | B45: Tainan City | C45: 2270 | D45: 1416 | E45: 854 | F45: 111280.36 | G45: 204 | H45: 131 | I45: 73 | J45: 6350.366 | K45: 82 | L45: 54 | M45: 28 | N45: 3379.881 | O45: 122 | P45: 77 | Q45: 45 | R45: 2970.485 | S45: 2066 | T45: 1285 | U45: 781 | V45: 104929.99 | W45: 1935 | X45: 1207 | Y45: 728 | Z45: 101380.09 | AA45: 131 | AB45: 78 | AC45: 53 | AD45: 3549.907
A46: 高雄市 | B46: Kaohsiung City | C46: 5350 | D46: 2845 | E46: 2505 | F46: 238962.65 | G46: 525 | H46: 332 | I46: 193 | J46: 13054.825 | K46: 183 | L46: 112 | M46: 71 | N46: 6841.57 | O46: 342 | P46: 220 | Q46: 122 | R46: 6213.255 | S46: 4825 | T46: 2513 | U46: 2312 | V46: 225907.82 | W46: 4653 | X46: 2421 | Y46: 2232 | Z46: 220832.31 | AA46: 172 | AB46: 92 | AC46: 80 | AD46: 5075.507
A47: 宜蘭縣 | B47: Yilan County | C47: 1746 | D47: 853 | E47: 893 | F47: 83844.552 | G47: 59 | H47: 39 | I47: 20 | J47: 2496.463 | K47: 45 | L47: 29 | M47: 16 | N47: 2199.504 | O47: 14 | P47: 10 | Q47: 4 | R47: 296.959 | S47: 1687 | T47: 814 | U47: 873 | V47: 81348.089 | W47: 1596 | X47: 760 | Y47: 836 | Z47: 78927.18 | AA47: 91 | AB47: 54 | AC47: 37 | AD47: 2420.909
A48: 新竹縣 | B48: Hsinchu County | C48: 986 | D48: 520 | E48: 466 | F48: 46002.852 | G48: 51 | H48: 33 | I48: 18 | J48: 2046.46 | K48: 36 | L48: 21 | M48: 15 | N48: 1688.44 | O48: 15 | P48: 12 | Q48: 3 | R48: 358.02 | S48: 935 | T48: 487 | U48: 448 | V48: 43956.392 | W48: 908 | X48: 468 | Y48: 440 | Z48: 43201.166 | AA48: 27 | AB48: 19 | AC48: 8 | AD48: 755.226
A49: 苗栗縣 | B49: Miaoli County | C49: 1476 | D49: 779 | E49: 697 | F49: 74184.991 | G49: 55 | H49: 35 | I49: 20 | J49: 1764.811 | K49: 30 | L49: 19 | M49: 11 | N49: 1167.911 | O49: 25 | P49: 16 | Q49: 9 | R49: 596.9 | S49: 1421 | T49: 744 | U49: 677 | V49: 72420.18 | W49: 1390 | X49: 726 | Y49: 664 | Z49: 71454.781 | AA49: 31 | AB49: 18 | AC49: 13 | AD49: 965.399
A50: 彰化縣 | B50: Changhua County | C50: 2233 | D50: 1384 | E50: 849 | F50: 108898.31 | G50: 193 | H50: 120 | I50: 73 | J50: 7646.038 | K50: 112 | L50: 72 | M50: 40 | N50: 5823.755 | O50: 81 | P50: 48 | Q50: 33 | R50: 1822.283 | S50: 2040 | T50: 1264 | U50: 776 | V50: 101252.27 | W50: 1951 | X50: 1207 | Y50: 744 | Z50: 98752.732 | AA50: 89 | AB50: 57 | AC50: 32 | AD50: 2499.536
A51: 南投縣 | B51: Nantou County | C51: 1519 | D51: 820 | E51: 699 | F51: 49174.106 | G51: 64 | H51: 32 | I51: 32 | J51: 1894.927 | K51: 53 | L51: 29 | M51: 24 | N51: 1733.755 | O51: 11 | P51: 3 | Q51: 8 | R51: 161.172 | S51: 1455 | T51: 788 | U51: 667 | V51: 47279.179 | W51: 1435 | X51: 775 | Y51: 660 | Z51: 46839.636 | AA51: 20 | AB51: 13 | AC51: 7 | AD51: 439.543
... A62: 連江縣 | B62: Lienchiang County | C62: 22 | D62: 14 | E62: 8 | F62: 965.366 | G62: 2 | H62: 2 | I62: 0 | J62: 65.637 | K62: 1 | L62: 1 | M62: 0 | N62: 49.725 | O62: 1 | P62: 1 | Q62: 0 | R62: 15.912 | S62: 20 | T62: 12 | U62: 8 | V62: 899.729 | W62: 20 | X62: 12 | Y62: 8 | Z62: 899.729 | AA62: 0 | AB62: 0 | AC62: 0 | AD62: 0
A64: 總計 | B64: Total | C64: =IF(C40=C9,"","*") -> * | D64: =IF(D40=D9,"","*") -> * | E64: =IF(E40=E9,"","*") -> * | F64: =IF(F40=F9,"","*") -> * | G64: =IF(G40=G9,"","*") -> * | H64: =IF(H40=H9,"","*") -> * | I64: =IF(I40=I9,"","*") -> * | J64: =IF(J40=J9,"","*") -> * | ... AD64: =IF(AD40=AD9,"","*") -> *
A65: 新北市 | B65: New Taipei City | C65: =IF(C41=C10,"","*") | D65: =IF(D41=D10,"","*") | E65: =IF(E41=E10,"","*") | F65: =IF(F41=F10,"","*") | G65: =IF(G41=G10,"","*") | H65: =IF(H41=H10,"","*") | I65: =IF(I41=I10,"","*") | J65: =IF(J41=J10,"","*") | ... AD65: =IF(AD41=AD10,"","*")
A66: 臺北市 | B66: Taipei City | C66: =IF(C42=C11,"","*") -> * | D66: =IF(D42=D11,"","*") -> * | E66: =IF(E42=E11,"","*") -> * | F66: =IF(F42=F11,"","*") -> * | G66: =IF(G42=G11,"","*") -> * | H66: =IF(H42=H11,"","*") -> * | I66: =IF(I42=I11,"","*") -> * | J66: =IF(J42=J11,"","*") -> * | ... AD66: =IF(AD42=AD11,"","*") -> *
A67: 桃園市 | B67: Taoyuan City | C67: =IF(C43=C12,"","*") | D67: =IF(D43=D12,"","*") | E67: =IF(E43=E12,"","*") | F67: =IF(F43=F12,"","*") | G67: =IF(G43=G12,"","*") | H67: =IF(H43=H12,"","*") | I67: =IF(I43=I12,"","*") | J67: =IF(J43=J12,"","*") | ... AD67: =IF(AD43=AD12,"","*")
A68: 臺中市 | B68: Taichung City | C68: =IF(C44=C13,"","*") | D68: =IF(D44=D13,"","*") | E68: =IF(E44=E13,"","*") | F68: =IF(F44=F13,"","*") | G68: =IF(G44=G13,"","*") | H68: =IF(H44=H13,"","*") | I68: =IF(I44=I13,"","*") | J68: =IF(J44=J13,"","*") | ... AD68: =IF(AD44=AD13,"","*")
A69: 臺南市 | B69: Tainan City | C69: =IF(C45=C14,"","*") | D69: =IF(D45=D14,"","*") | E69: =IF(E45=E14,"","*") | F69: =IF(F45=F14,"","*") | G69: =IF(G45=G14,"","*") | H69: =IF(H45=H14,"","*") | I69: =IF(I45=I14,"","*") | J69: =IF(J45=J14,"","*") | ... AD69: =IF(AD45=AD14,"","*")
A70: 高雄市 | B70: Kaohsiung City | C70: =IF(C46=C15,"","*") | D70: =IF(D46=D15,"","*") | E70: =IF(E46=E15,"","*") | F70: =IF(F46=F15,"","*") | G70: =IF(G46=G15,"","*") | H70: =IF(H46=H15,"","*") | I70: =IF(I46=I15,"","*") | J70: =IF(J46=J15,"","*") | ... AD70: =IF(AD46=AD15,"","*")
A71: 宜蘭縣 | B71: Yilan County | C71: =IF(C47=C16,"","*") | D71: =IF(D47=D16,"","*") | E71: =IF(E47=E16,"","*") | F71: =IF(F47=F16,"","*") | G71: =IF(G47=G16,"","*") | H71: =IF(H47=H16,"","*") | I71: =IF(I47=I16,"","*") | J71: =IF(J47=J16,"","*") | ... AD71: =IF(AD47=AD16,"","*")
A72: 新竹縣 | B72: Hsinchu County | C72: =IF(C48=C17,"","*") | D72: =IF(D48=D17,"","*") | E72: =IF(E48=E17,"","*") | F72: =IF(F48=F17,"","*") | G72: =IF(G48=G17,"","*") | H72: =IF(H48=H17,"","*") | I72: =IF(I48=I17,"","*") | J72: =IF(J48=J17,"","*") | ... AD72: =IF(AD48=AD17,"","*")
A73: 苗栗縣 | B73: Miaoli County | C73: =IF(C49=C18,"","*") | D73: =IF(D49=D18,"","*") | E73: =IF(E49=E18,"","*") | F73: =IF(F49=F18,"","*") | G73: =IF(G49=G18,"","*") | H73: =IF(H49=H18,"","*") | I73: =IF(I49=I18,"","*") | J73: =IF(J49=J18,"","*") | ... AD73: =IF(AD49=AD18,"","*")
A74: 彰化縣 | B74: Changhua County | C74: =IF(C50=C19,"","*") | D74: =IF(D50=D19,"","*") | E74: =IF(E50=E19,"","*") | F74: =IF(F50=F19,"","*") | G74: =IF(G50=G19,"","*") | H74: =IF(H50=H19,"","*") | I74: =IF(I50=I19,"","*") | J74: =IF(J50=J19,"","*") | ... AD74: =IF(AD50=AD19,"","*")
A75: 南投縣 | B75: Nantou County | C75: =IF(C51=C20,"","*") | D75: =IF(D51=D20,"","*") | E75: =IF(E51=E20,"","*") | F75: =IF(F51=F20,"","*") | G75: =IF(G51=G20,"","*") | H75: =IF(H51=H20,"","*") | I75: =IF(I51=I20,"","*") | J75: =IF(J51=J20,"","*") | ... AD75: =IF(AD51=AD20,"","*")
... A86: 連江縣 | B86: Lienchiang County | C86: =IF(C62=C31,"","*") | D86: =IF(D62=D31,"","*") | E86: =IF(E62=E31,"","*") | F86: =IF(F62=F31,"","*") | G86: =IF(G62=G31,"","*") | H86: =IF(H62=H31,"","*") | I86: =IF(I62=I31,"","*") | J86: =IF(J62=J31,"","*") | ... AD86: =IF(AD62=AD31,"","*")

Sheet 2023
A1: 身心障礙者日間照顧及住宿式照顧補助Subsidies of Day Care and Residential Care for Disabled
A3: 112年,2023 | C3: =IF(C9=SUM(C10:C31),"",SUM(C10:C31)) | D3: =IF(D9=SUM(D10:D31),"",SUM(D10:D31)) | E3: =IF(E9=SUM(E10:E31),"",SUM(E10:E31)) | F3: =IF(F9=SUM(F10:F31),"",SUM(F10:F31)) | G3: =IF(G9=SUM(G10:G31),"",SUM(G10:G31)) | H3: =IF(H9=SUM(H10:H31),"",SUM(H10:H31)) | I3: =IF(I9=SUM(I10:I31),"",SUM(I10:I31)) | J3: =IF(J9=SUM(J10:J31),"",SUM(J10:J31)) | ... AD3: =IF(AD9=SUM(AD10:AD31),"",SUM(AD10:AD31))
A4: 區域別 Locality | C4: 日間照顧及住宿式照顧補助Subsidies for Day Care and Residential Care
C5: 合計 Total | G5: 一般對象 General | S5: 特殊對象 Special
G6: 計 Subtotal | K6: 住宿式照顧 Residential Care | O6: 日間照顧 Day Care | S6: 計 Subtotal | W6: 住宿式照顧 Residential Care | AA6: 日間照顧 Day Care
C7: 期底人數 Persons (End of Year) | F7: 金額 (千元) Amounts (NT$1,000) | G7: 期底人數 Persons (End of Year) | J7: 金額 (千元) Amounts (NT$1,000) | K7: 期底人數 Persons (End of Year) | N7: 金額 (千元) Amounts (NT$1,000) | O7: 期底人數 Persons (End of Year) | R7: 金額 (千元) Amounts (NT$1,000) | S7: 期底人數 Persons (End of Year) | V7: 金額 (千元) Amounts (NT$1,000) | W7: 期底人數 Persons (End of Year) | Z7: 金額 (千元) Amounts (NT$1,000) | AA7: 期底人數 Persons (End of Year) | AD7: 金額 (千元) Amounts (NT$1,000)
C8: 計 Subtotal | D8: 男 Male | E8: 女 Female | G8: 計 Subtotal | H8: 男 Male | I8: 女 Female | K8: 計 Subtotal | L8: 男 Male | M8: 女 Female | O8: 計 Subtotal | P8: 男 Male | Q8: 女 Female | S8: 計 Subtotal | T8: 男 Male | U8: 女 Female | W8: 計 Subtotal | X8: 男 Male | Y8: 女 Female | AA8: 計 Subtotal | AB8: 男 Male | AC8: 女 Female
A9: 總計 | B9: Total | C9: 47837 | D9: 25632 | E9: 22205 | F9: 9059788.9 | G9: 7313 | H9: 4161 | I9: 3152 | J9: 1435378.6 | K9: 5720 | L9: 3166 | M9: 2554 | N9: 1280286.7 | O9: 1593 | P9: 995 | Q9: 598 | R9: 155091.88 | S9: 40524 | T9: 21471 | U9: 19053 | V9: 7624410.4 | W9: 38827 | X9: 20462 | Y9: 18365 | Z9: 7423264.7 | AA9: 1697 | AB9: 1009 | AC9: 688 | AD9: 201145.63
A10: 新北市 | B10: New Taipei City | C10: 8157 | D10: 4072 | E10: 4085 | F10: 1375887.9 | G10: 449 | H10: 261 | I10: 188 | J10: 69628.167 | K10: 276 | L10: 165 | M10: 111 | N10: 52818.241 | O10: 173 | P10: 96 | Q10: 77 | R10: 16809.926 | S10: 7708 | T10: 3811 | U10: 3897 | V10: 1306259.7 | W10: 7538 | X10: 3707 | Y10: 3831 | Z10: 1287806 | AA10: 170 | AB10: 104 | AC10: 66 | AD10: 18453.707
A11: 臺北市 | B11: Taipei City | C11: 5683 | D11: 3135 | E11: 2548 | F11: 1291513 | G11: 4374 | H11: 2373 | I11: 2001 | J11: 1018844 | K11: 4134 | L11: 2228 | M11: 1906 | N11: 984093.15 | O11: 240 | P11: 145 | Q11: 95 | R11: 34750.871 | S11: 1309 | T11: 762 | U11: 547 | V11: 272668.99 | W11: 866 | X11: 490 | Y11: 376 | Z11: 208480.49 | AA11: 443 | AB11: 272 | AC11: 171 | AD11: 64188.498
A12: 桃園市 | B12: Taoyuan City | C12: 3872 | D12: 1978 | E12: 1894 | F12: 743896.17 | G12: 231 | H12: 128 | I12: 103 | J12: 41248.228 | K12: 163 | L12: 86 | M12: 77 | N12: 33151.573 | O12: 68 | P12: 42 | Q12: 26 | R12: 8096.655 | S12: 3641 | T12: 1850 | U12: 1791 | V12: 702647.94 | W12: 3584 | X12: 1812 | Y12: 1772 | Z12: 696253.66 | AA12: 57 | AB12: 38 | AC12: 19 | AD12: 6394.286
A13: 臺中市 | B13: Taichung City | C13: 4437 | D13: 2473 | E13: 1964 | F13: 815223.29 | G13: 415 | H13: 254 | I13: 161 | J13: 53231.048 | K13: 152 | L13: 90 | M13: 62 | N13: 29261.53 | O13: 263 | P13: 164 | Q13: 99 | R13: 23969.518 | S13: 4022 | T13: 2219 | U13: 1803 | V13: 761992.24 | W13: 3789 | X13: 2085 | Y13: 1704 | Z13: 737595.25 | AA13: 233 | AB13: 134 | AC13: 99 | AD13: 24396.984
A14: 臺南市 | B14: Tainan City | C14: 2269 | D14: 1417 | E14: 852 | F14: 444625.14 | G14: 216 | H14: 142 | I14: 74 | J14: 29840.889 | K14: 89 | L14: 61 | M14: 28 | N14: 17127.325 | O14: 127 | P14: 81 | Q14: 46 | R14: 12713.564 | S14: 2053 | T14: 1275 | U14: 778 | V14: 414784.26 | W14: 1920 | X14: 1196 | Y14: 724 | Z14: 400378.18 | AA14: 133 | AB14: 79 | AC14: 54 | AD14: 14406.078
A15: 高雄市 | B15: Kaohsiung City | C15: 5366 | D15: 2853 | E15: 2513 | F15: 904817.02 | G15: 592 | H15: 362 | I15: 230 | J15: 61350.392 | K15: 237 | L15: 131 | M15: 106 | N15: 36349.703 | O15: 355 | P15: 231 | Q15: 124 | R15: 25000.689 | S15: 4774 | T15: 2491 | U15: 2283 | V15: 843466.63 | W15: 4599 | X15: 2403 | Y15: 2196 | Z15: 824310.17 | AA15: 175 | AB15: 88 | AC15: 87 | AD15: 19156.455
A16: 宜蘭縣 | B16: Yilan County | C16: 1767 | D16: 877 | E16: 890 | F16: 333051.51 | G16: 63 | H16: 40 | I16: 23 | J16: 10234.966 | K16: 48 | L16: 31 | M16: 17 | N16: 8965.075 | O16: 15 | P16: 9 | Q16: 6 | R16: 1269.891 | S16: 1704 | T16: 837 | U16: 867 | V16: 322816.54 | W16: 1611 | X16: 783 | Y16: 828 | Z16: 312889.78 | AA16: 93 | AB16: 54 | AC16: 39 | AD16: 9926.763
A17: 新竹縣 | B17: Hsinchu County | C17: 1007 | D17: 534 | E17: 473 | F17: 191069.62 | G17: 54 | H17: 32 | I17: 22 | J17: 7984.27 | K17: 39 | L17: 21 | M17: 18 | N17: 6782.65 | O17: 15 | P17: 11 | Q17: 4 | R17: 1201.62 | S17: 953 | T17: 502 | U17: 451 | V17: 183085.35 | W17: 926 | X17: 484 | Y17: 442 | Z17: 180241.71 | AA17: 27 | AB17: 18 | AC17: 9 | AD17: 2843.642
A18: 苗栗縣 | B18: Miaoli County | C18: 1520 | D18: 815 | E18: 705 | F18: 297075.29 | G18: 57 | H18: 38 | I18: 19 | J18: 7121.538 | K18: 29 | L18: 19 | M18: 10 | N18: 4744.495 | O18: 28 | P18: 19 | Q18: 9 | R18: 2377.043 | S18: 1463 | T18: 777 | U18: 686 | V18: 289953.75 | W18: 1432 | X18: 760 | Y18: 672 | Z18: 286462.77 | AA18: 31 | AB18: 17 | AC18: 14 | AD18: 3490.986
A19: 彰化縣 | B19: Changhua County | C19: 2248 | D19: 1397 | E19: 851 | F19: 428413.44 | G19: 194 | H19: 119 | I19: 75 | J19: 29500.72 | K19: 115 | L19: 72 | M19: 43 | N19: 21802.75 | O19: 79 | P19: 47 | Q19: 32 | R19: 7697.97 | S19: 2054 | T19: 1278 | U19: 776 | V19: 398912.72 | W19: 1968 | X19: 1223 | Y19: 745 | Z19: 389233.21 | AA19: 86 | AB19: 55 | AC19: 31 | AD19: 9679.509
A20: 南投縣 | B20: Nantou County | C20: 1535 | D20: 824 | E20: 711 | F20: 294096.32 | G20: 67 | H20: 32 | I20: 35 | J20: 11927.386 | K20: 55 | L20: 28 | M20: 27 | N20: 10540.441 | O20: 12 | P20: 4 | Q20: 8 | R20: 1386.945 | S20: 1468 | T20: 792 | U20: 676 | V20: 282168.94 | W20: 1452 | X20: 783 | Y20: 669 | Z20: 280250.84 | AA20: 16 | AB20: 9 | AC20: 7 | AD20: 1918.098
... A31: 連江縣 | B31: Lienchiang County | C31: 21 | D31: 13 | E31: 8 | F31: 3582.95 | G31: 2 | H31: 2 | I31: 0 | J31: 279.72 | K31: 1 | L31: 1 | M31: 0 | N31: 189 | O31: 1 | P31: 1 | Q31: 0 | R31: 90.72 | S31: 19 | T31: 11 | U31: 8 | V31: 3303.23 | W31: 19 | X31: 11 | Y31: 8 | Z31: 3303.23 | AA31: 0 | AB31: 0 | AC31: 0 | AD31: 0
A32: 資料來源：直轄市、縣(市)政府。
A33: 附 註：1.一般對象：依身心障礙者日間照顧及住宿式照顧費用補助辦法第5條而發給之補助對象。
A34: 2.特殊對象：依身心障礙者日間照顧及住宿式照顧費用補助辦法第6條而發給之補助對象。
A36: Source : County and City Government.
A38: 更新日期：2024/2/22

Sheet 2022
A1: 身心障礙者日間照顧及住宿式照顧補助Subsidies of Day Care and Residential Care for Disabled
A3: 111年,2022 | C3: =IF(C9=SUM(C10:C31),"",SUM(C10:C31)) | D3: =IF(D9=SUM(D10:D31),"",SUM(D10:D31)) | E3: =IF(E9=SUM(E10:E31),"",SUM(E10:E31)) | F3: =IF(F9=SUM(F10:F31),"",SUM(F10:F31)) | G3: =IF(G9=SUM(G10:G31),"",SUM(G10:G31)) | H3: =IF(H9=SUM(H10:H31),"",SUM(H10:H31)) | I3: =IF(I9=SUM(I10:I31),"",SUM(I10:I31)) | J3: =IF(J9=SUM(J10:J31),"",SUM(J10:J31)) | ... AD3: =IF(AD9=SUM(AD10:AD31),"",SUM(AD10:AD31))
A4: 區域別 Locality | C4: 日間照顧及住宿式照顧補助Subsidies for Day Care and Residential Care
C5: 合計 Total | G5: 一般對象 General | S5: 特殊對象 Special
G6: 計 Subtotal | K6: 住宿式照顧 Residential Care | O6: 日間照顧 Day Care | S6: 計 Subtotal | W6: 住宿式照顧 Residential Care | AA6: 日間照顧 Day Care
C7: 期底人數 Persons (End of Year) | F7: 金額 (千元) Amounts (NT$1,000) | G7: 期底人數 Persons (End of Year) | J7: 金額 (千元) Amounts (NT$1,000) | K7: 期底人數 Persons (End of Year) | N7: 金額 (千元) Amounts (NT$1,000) | O7: 期底人數 Persons (End of Year) | R7: 金額 (千元) Amounts (NT$1,000) | S7: 期底人數 Persons (End of Year) | V7: 金額 (千元) Amounts (NT$1,000) | W7: 期底人數 Persons (End of Year) | Z7: 金額 (千元) Amounts (NT$1,000) | AA7: 期底人數 Persons (End of Year) | AD7: 金額 (千元) Amounts (NT$1,000)
C8: 計 Subtotal | D8: 男 Male | E8: 女 Female | G8: 計 Subtotal | H8: 男 Male | I8: 女 Female | K8: 計 Subtotal | L8: 男 Male | M8: 女 Female | O8: 計 Subtotal | P8: 男 Male | Q8: 女 Female | S8: 計 Subtotal | T8: 男 Male | U8: 女 Female | W8: 計 Subtotal | X8: 男 Male | Y8: 女 Female | AA8: 計 Subtotal | AB8: 男 Male | AC8: 女 Female
A9: 總計 | B9: Total | C9: 48959 | D9: 26272 | E9: 22687 | F9: 9231312.3 | G9: 7500 | H9: 4304 | I9: 3196 | J9: 1474516.2 | K9: 5882 | L9: 3274 | M9: 2608 | N9: 1315052.2 | O9: 1618 | P9: 1030 | Q9: 588 | R9: 159464 | S9: 41459 | T9: 21968 | U9: 19491 | V9: 7756796.2 | W9: 39786 | X9: 20968 | Y9: 18818 | Z9: 7557326.9 | AA9: 1673 | AB9: 1000 | AC9: 673 | AD9: 199469.26
A10: 新北市 | B10: New Taipei City | C10: 8238 | D10: 4181 | E10: 4057 | F10: 1402303.1 | G10: 468 | H10: 289 | I10: 179 | J10: 71379.062 | K10: 286 | L10: 176 | M10: 110 | N10: 54687.374 | O10: 182 | P10: 113 | Q10: 69 | R10: 16691.688 | S10: 7770 | T10: 3892 | U10: 3878 | V10: 1330924.1 | W10: 7603 | X10: 3792 | Y10: 3811 | Z10: 1313056.6 | AA10: 167 | AB10: 100 | AC10: 67 | AD10: 17867.532
A11: 臺北市 | B11: Taipei City | C11: 5708 | D11: 3168 | E11: 2540 | F11: 1301424.2 | G11: 4412 | H11: 2411 | I11: 2001 | J11: 1029488.1 | K11: 4176 | L11: 2264 | M11: 1912 | N11: 997285.42 | O11: 236 | P11: 147 | Q11: 89 | R11: 32202.717 | S11: 1296 | T11: 757 | U11: 539 | V11: 271936.1 | W11: 844 | X11: 480 | Y11: 364 | Z11: 206547.66 | AA11: 452 | AB11: 277 | AC11: 175 | AD11: 65388.438
A12: 桃園市 | B12: Taoyuan City | C12: 3954 | D12: 2035 | E12: 1919 | F12: 739243.66 | G12: 261 | H12: 143 | I12: 118 | J12: 43518.598 | K12: 181 | L12: 94 | M12: 87 | N12: 34631.45 | O12: 80 | P12: 49 | Q12: 31 | R12: 8887.148 | S12: 3693 | T12: 1892 | U12: 1801 | V12: 695725.06 | W12: 3640 | X12: 1858 | Y12: 1782 | Z12: 689369.83 | AA12: 53 | AB12: 34 | AC12: 19 | AD12: 6355.23
A13: 臺中市 | B13: Taichung City | C13: 4785 | D13: 2637 | E13: 2148 | F13: 872307.16 | G13: 441 | H13: 280 | I13: 161 | J13: 58156.696 | K13: 169 | L13: 100 | M13: 69 | N13: 32653.13 | O13: 272 | P13: 180 | Q13: 92 | R13: 25503.566 | S13: 4344 | T13: 2357 | U13: 1987 | V13: 814150.47 | W13: 4117 | X13: 2226 | Y13: 1891 | Z13: 790580.51 | AA13: 227 | AB13: 131 | AC13: 96 | AD13: 23569.955
A14: 臺南市 | B14: Tainan City | C14: 2234 | D14: 1406 | E14: 828 | F14: 442579.63 | G14: 224 | H14: 146 | I14: 78 | J14: 31173.967 | K14: 97 | L14: 66 | M14: 31 | N14: 18274.351 | O14: 127 | P14: 80 | Q14: 47 | R14: 12899.616 | S14: 2010 | T14: 1260 | U14: 750 | V14: 411405.66 | W14: 1877 | X14: 1183 | Y14: 694 | Z14: 396021.07 | AA14: 133 | AB14: 77 | AC14: 56 | AD14: 15384.597
A15: 高雄市 | B15: Kaohsiung City | C15: 5522 | D15: 2935 | E15: 2587 | F15: 926918.58 | G15: 579 | H15: 346 | I15: 233 | J15: 66560.448 | K15: 253 | L15: 140 | M15: 113 | N15: 40331.156 | O15: 326 | P15: 206 | Q15: 120 | R15: 26229.292 | S15: 4943 | T15: 2589 | U15: 2354 | V15: 860358.13 | W15: 4783 | X15: 2500 | Y15: 2283 | Z15: 842520.28 | AA15: 160 | AB15: 89 | AC15: 71 | AD15: 17837.85
A16: 宜蘭縣 | B16: Yilan County | C16: 1830 | D16: 907 | E16: 923 | F16: 343850.25 | G16: 73 | H16: 48 | I16: 25 | J16: 11091.973 | K16: 54 | L16: 35 | M16: 19 | N16: 9400.843 | O16: 19 | P16: 13 | Q16: 6 | R16: 1691.13 | S16: 1757 | T16: 859 | U16: 898 | V16: 332758.28 | W16: 1661 | X16: 804 | Y16: 857 | Z16: 322655.78 | AA16: 96 | AB16: 55 | AC16: 41 | AD16: 10102.503
A17: 新竹縣 | B17: Hsinchu County | C17: 1188 | D17: 627 | E17: 561 | F17: 218516.87 | G17: 59 | H17: 36 | I17: 23 | J17: 9632.35 | K17: 43 | L17: 25 | M17: 18 | N17: 7941.64 | O17: 16 | P17: 11 | Q17: 5 | R17: 1690.71 | S17: 1129 | T17: 591 | U17: 538 | V17: 208884.52 | W17: 1102 | X17: 573 | Y17: 529 | Z17: 206035.84 | AA17: 27 | AB17: 18 | AC17: 9 | AD17: 2848.678
A18: 苗栗縣 | B18: Miaoli County | C18: 1539 | D18: 827 | E18: 712 | F18: 303803.6 | G18: 62 | H18: 42 | I18: 20 | J18: 8737.145 | K18: 32 | L18: 22 | M18: 10 | N18: 5992.718 | O18: 30 | P18: 20 | Q18: 10 | R18: 2744.427 | S18: 1477 | T18: 785 | U18: 692 | V18: 295066.46 | W18: 1450 | X18: 768 | Y18: 682 | Z18: 292288.14 | AA18: 27 | AB18: 17 | AC18: 10 | AD18: 2778.321
A19: 彰化縣 | B19: Changhua County | C19: 2389 | D19: 1483 | E19: 906 | F19: 445245.98 | G19: 220 | H19: 138 | I19: 82 | J19: 32057.855 | K19: 120 | L19: 75 | M19: 45 | N19: 23264 | O19: 100 | P19: 63 | Q19: 37 | R19: 8793.855 | S19: 2169 | T19: 1345 | U19: 824 | V19: 413188.12 | W19: 2083 | X19: 1290 | Y19: 793 | Z19: 403512.14 | AA19: 86 | AB19: 55 | AC19: 31 | AD19: 9675.981
A20: 南投縣 | B20: Nantou County | C20: 1533 | D20: 833 | E20: 700 | F20: 297220.87 | G20: 76 | H20: 40 | I20: 36 | J20: 14306.822 | K20: 65 | L20: 35 | M20: 30 | N20: 13181.201 | O20: 11 | P20: 5 | Q20: 6 | R20: 1125.621 | S20: 1457 | T20: 793 | U20: 664 | V20: 282914.05 | W20: 1441 | X20: 783 | Y20: 658 | Z20: 280900.89 | AA20: 16 | AB20: 10 | AC20: 6 | AD20: 2013.161
... A31: 連江縣 | B31: Lienchiang County | C31: 24 | D31: 14 | E31: 10 | F31: 3712.814 | G31: 2 | H31: 2 | I31: 0 | J31: 237.216 | K31: 1 | L31: 1 | M31: 0 | N31: 189 | O31: 1 | P31: 1 | Q31: 0 | R31: 48.216 | S31: 22 | T31: 12 | U31: 10 | V31: 3475.598 | W31: 22 | X31: 12 | Y31: 10 | Z31: 3475.598 | AA31: 0 | AB31: 0 | AC31: 0 | AD31: 0
A32: 資料來源：直轄市、縣(市)政府。
A33: 附 註：1.一般對象：依身心障礙者日間照顧及住宿式照顧費用補助辦法第5條而發給之補助對象。
A34: 2.特殊對象：依身心障礙者日間照顧及住宿式照顧費用補助辦法第6條而發給之補助對象。
A36: Source : County and City Government.
A38: 更新日期：2023/2/23

Sheet 2021
A1: 身心障礙者日間照顧及住宿式照顧補助Subsidies of Day Care and Residential Care for Disabled
A3: 110年,2021 | C3: =IF(C9=SUM(C10:C31),"",SUM(C10:C31)) | D3: =IF(D9=SUM(D10:D31),"",SUM(D10:D31)) | E3: =IF(E9=SUM(E10:E31),"",SUM(E10:E31)) | F3: =IF(F9=SUM(F10:F31),"",SUM(F10:F31)) | G3: =IF(G9=SUM(G10:G31),"",SUM(G10:G31)) | H3: =IF(H9=SUM(H10:H31),"",SUM(H10:H31)) | I3: =IF(I9=SUM(I10:I31),"",SUM(I10:I31)) | J3: =IF(J9=SUM(J10:J31),"",SUM(J10:J31)) | ... AD3: =IF(AD9=SUM(AD10:AD31),"",SUM(AD10:AD31))
A4: 區域別 Locality | C4: 日間照顧及住宿式照顧補助Subsidies for Day Care and Residential Care
C5: 合計 Total | G5: 一般對象 General | S5: 特殊對象 Special
G6: 計 Subtotal | K6: 住宿式照顧 Residential Care | O6: 日間照顧 Day Care | S6: 計 Subtotal | W6: 住宿式照顧 Residential Care | AA6: 日間照顧 Day Care
C7: 期底人數 Persons (End of Year) | F7: 金額 (千元) Amounts (NT$1,000) | G7: 期底人數 Persons (End of Year) | J7: 金額 (千元) Amounts (NT$1,000) | K7: 期底人數 Persons (End of Year) | N7: 金額 (千元) Amounts (NT$1,000) | O7: 期底人數 Persons (End of Year) | R7: 金額 (千元) Amounts (NT$1,000) | S7: 期底人數 Persons (End of Year) | V7: 金額 (千元) Amounts (NT$1,000) | W7: 期底人數 Persons (End of Year) | Z7: 金額 (千元) Amounts (NT$1,000) | AA7: 期底人數 Persons (End of Year) | AD7: 金額 (千元) Amounts (NT$1,000)
C8: 計 Subtotal | D8: 男 Male | E8: 女 Female | G8: 計 Subtotal | H8: 男 Male | I8: 女 Female | K8: 計 Subtotal | L8: 男 Male | M8: 女 Female | O8: 計 Subtotal | P8: 男 Male | Q8: 女 Female | S8: 計 Subtotal | T8: 男 Male | U8: 女 Female | W8: 計 Subtotal | X8: 男 Male | Y8: 女 Female | AA8: 計 Subtotal | AB8: 男 Male | AC8: 女 Female
A9: 總計 | B9: Total | C9: 50420 | D9: 27298 | E9: 23122 | F9: 9438777 | G9: 7789 | H9: 4487 | I9: 3302 | J9: 1525956.2 | K9: 6060 | L9: 3406 | M9: 2654 | N9: 1353676.9 | O9: 1729 | P9: 1081 | Q9: 648 | R9: 172279.3 | S9: 42631 | T9: 22811 | U9: 19820 | V9: 7912820.8 | W9: 40980 | X9: 21859 | Y9: 19121 | Z9: 7716281.6 | AA9: 1651 | AB9: 952 | AC9: 699 | AD9: 196539.23
A10: 新北市 | B10: New Taipei City | C10: 8513 | D10: 4394 | E10: 4119 | F10: 1448402.6 | G10: 458 | H10: 277 | I10: 181 | J10: 71727.08 | K10: 283 | L10: 168 | M10: 115 | N10: 55373.767 | O10: 175 | P10: 109 | Q10: 66 | R10: 16353.313 | S10: 8055 | T10: 4117 | U10: 3938 | V10: 1376675.5 | W10: 7902 | X10: 4027 | Y10: 3875 | Z10: 1360399.5 | AA10: 153 | AB10: 90 | AC10: 63 | AD10: 16275.968
A11: 臺北市 | B11: Taipei City | C11: 5838 | D11: 3229 | E11: 2609 | F11: 1345237.6 | G11: 4524 | H11: 2507 | I11: 2017 | J11: 1069501.3 | K11: 4269 | L11: 2350 | M11: 1919 | N11: 1023129.8 | O11: 255 | P11: 157 | Q11: 98 | R11: 46371.453 | S11: 1314 | T11: 722 | U11: 592 | V11: 275736.33 | W11: 842 | X11: 479 | Y11: 363 | Z11: 204639.2 | AA11: 472 | AB11: 243 | AC11: 229 | AD11: 71097.129
A12: 桃園市 | B12: Taoyuan City | C12: 4142 | D12: 2129 | E12: 2013 | F12: 770914.16 | G12: 289 | H12: 165 | I12: 124 | J12: 46653.793 | K12: 191 | L12: 107 | M12: 84 | N12: 36268.033 | O12: 98 | P12: 58 | Q12: 40 | R12: 10385.76 | S12: 3853 | T12: 1964 | U12: 1889 | V12: 724260.36 | W12: 3801 | X12: 1930 | Y12: 1871 | Z12: 718601.64 | AA12: 52 | AB12: 34 | AC12: 18 | AD12: 5658.719
A13: 臺中市 | B13: Taichung City | C13: 5091 | D13: 2849 | E13: 2242 | F13: 908549.97 | G13: 495 | H13: 317 | I13: 178 | J13: 62881.708 | K13: 200 | L13: 118 | M13: 82 | N13: 37208.327 | O13: 295 | P13: 199 | Q13: 96 | R13: 25673.381 | S13: 4596 | T13: 2532 | U13: 2064 | V13: 845668.26 | W13: 4388 | X13: 2410 | Y13: 1978 | Z13: 824225.82 | AA13: 208 | AB13: 122 | AC13: 86 | AD13: 21442.445
A14: 臺南市 | B14: Tainan City | C14: 2283 | D14: 1474 | E14: 809 | F14: 446705.2 | G14: 254 | H14: 156 | I14: 98 | J14: 31097.516 | K14: 106 | L14: 71 | M14: 35 | N14: 20192.68 | O14: 148 | P14: 85 | Q14: 63 | R14: 10904.836 | S14: 2029 | T14: 1318 | U14: 711 | V14: 415607.68 | W14: 1904 | X14: 1235 | Y14: 669 | Z14: 403220.19 | AA14: 125 | AB14: 83 | AC14: 42 | AD14: 12387.499
A15: 高雄市 | B15: Kaohsiung City | C15: 5575 | D15: 2966 | E15: 2609 | F15: 937510.81 | G15: 583 | H15: 343 | I15: 240 | J15: 64337.078 | K15: 231 | L15: 124 | M15: 107 | N15: 37704.85 | O15: 352 | P15: 219 | Q15: 133 | R15: 26632.228 | S15: 4992 | T15: 2623 | U15: 2369 | V15: 873173.73 | W15: 4839 | X15: 2542 | Y15: 2297 | Z15: 855788.32 | AA15: 153 | AB15: 81 | AC15: 72 | AD15: 17385.412
A16: 宜蘭縣 | B16: Yilan County | C16: 1887 | D16: 942 | E16: 945 | F16: 344506 | G16: 67 | H16: 38 | I16: 29 | J16: 10693.256 | K16: 46 | L16: 25 | M16: 21 | N16: 8920.1 | O16: 21 | P16: 13 | Q16: 8 | R16: 1773.156 | S16: 1820 | T16: 904 | U16: 916 | V16: 333812.74 | W16: 1718 | X16: 846 | Y16: 872 | Z16: 323292.52 | AA16: 102 | AB16: 58 | AC16: 44 | AD16: 10520.223
A17: 新竹縣 | B17: Hsinchu County | C17: 1254 | D17: 677 | E17: 577 | F17: 225463.86 | G17: 72 | H17: 45 | I17: 27 | J17: 10495.457 | K17: 55 | L17: 33 | M17: 22 | N17: 8983.625 | O17: 17 | P17: 12 | Q17: 5 | R17: 1511.832 | S17: 1182 | T17: 632 | U17: 550 | V17: 214968.4 | W17: 1155 | X17: 613 | Y17: 542 | Z17: 211916.05 | AA17: 27 | AB17: 19 | AC17: 8 | AD17: 3052.35
A18: 苗栗縣 | B18: Miaoli County | C18: 1592 | D18: 874 | E18: 718 | F18: 310833.18 | G18: 70 | H18: 48 | I18: 22 | J18: 10240.461 | K18: 41 | L18: 30 | M18: 11 | N18: 7361.97 | O18: 29 | P18: 18 | Q18: 11 | R18: 2878.491 | S18: 1522 | T18: 826 | U18: 696 | V18: 300592.72 | W18: 1503 | X18: 813 | Y18: 690 | Z18: 298555.01 | AA18: 19 | AB18: 13 | AC18: 6 | AD18: 2037.714
A19: 彰化縣 | B19: Changhua County | C19: 2417 | D19: 1490 | E19: 927 | F19: 440732.21 | G19: 239 | H19: 144 | I19: 95 | J19: 33583.955 | K19: 131 | L19: 77 | M19: 54 | N19: 25073.6 | O19: 108 | P19: 67 | Q19: 41 | R19: 8510.355 | S19: 2178 | T19: 1346 | U19: 832 | V19: 407148.25 | W19: 2095 | X19: 1294 | Y19: 801 | Z19: 398340.58 | AA19: 83 | AB19: 52 | AC19: 31 | AD19: 8807.67
A20: 南投縣 | B20: Nantou County | C20: 1604 | D20: 861 | E20: 743 | F20: 310282.01 | G20: 97 | H20: 54 | I20: 43 | J20: 16451.081 | K20: 86 | L20: 50 | M20: 36 | N20: 15620.772 | O20: 11 | P20: 4 | Q20: 7 | R20: 830.309 | S20: 1507 | T20: 807 | U20: 700 | V20: 293830.93 | W20: 1487 | X20: 796 | Y20: 691 | Z20: 291917.61 | AA20: 20 | AB20: 11 | AC20: 9 | AD20: 1913.318
... A31: 連江縣 | B31: Lienchiang County | C31: 25 | D31: 14 | E31: 11 | F31: 4239.9 | G31: 1 | H31: 1 | I31: 0 | J31: 220.5 | K31: 1 | L31: 1 | M31: 0 | N31: 220.5 | O31: 0 | P31: 0 | Q31: 0 | R31: 0 | S31: 24 | T31: 13 | U31: 11 | V31: 4019.4 | W31: 24 | X31: 13 | Y31: 11 | Z31: 4019.4 | AA31: 0 | AB31: 0 | AC31: 0 | AD31: 0
A32: 資料來源：直轄市、縣(市)政府。
A33: 附 註：1.一般對象：依身心障礙者日間照顧及住宿式照顧費用補助辦法第5條而發給之補助對象。
A34: 2.特殊對象：依身心障礙者日間照顧及住宿式照顧費用補助辦法第6條而發給之補助對象。
A36: Source : County and City Government.
A38: 更新日期：2022/2/23

Sheet 2020
A1: 身心障礙者日間照顧及住宿式照顧補助Subsidies of Day Care and Residential Care for Disabled
A3: 109年,2020 | C3: =IF(C9=SUM(C10:C31),"",SUM(C10:C31)) | D3: =IF(D9=SUM(D10:D31),"",SUM(D10:D31)) | E3: =IF(E9=SUM(E10:E31),"",SUM(E10:E31)) | F3: =IF(F9=SUM(F10:F31),"",SUM(F10:F31)) | G3: =IF(G9=SUM(G10:G31),"",SUM(G10:G31)) | H3: =IF(H9=SUM(H10:H31),"",SUM(H10:H31)) | I3: =IF(I9=SUM(I10:I31),"",SUM(I10:I31)) | J3: =IF(J9=SUM(J10:J31),"",SUM(J10:J31)) | ... AD3: =IF(AD9=SUM(AD10:AD31),"",SUM(AD10:AD31))
A4: 區域別 Locality | C4: 日間照顧及住宿式照顧補助Subsidies for Day Care and Residential Care
C5: 合計 Total | G5: 一般對象 General | S5: 特殊對象 Special
G6: 計 Subtotal | K6: 住宿式照顧 Residential Care | O6: 日間照顧 Day Care | S6: 計 Subtotal | W6: 住宿式照顧 Residential Care | AA6: 日間照顧 Day Care
C7: 期底人數 Persons (End of Year) | F7: 金額 (千元) Amounts (NT$1,000) | G7: 期底人數 Persons (End of Year) | J7: 金額 (千元) Amounts (NT$1,000) | K7: 期底人數 Persons (End of Year) | N7: 金額 (千元) Amounts (NT$1,000) | O7: 期底人數 Persons (End of Year) | R7: 金額 (千元) Amounts (NT$1,000) | S7: 期底人數 Persons (End of Year) | V7: 金額 (千元) Amounts (NT$1,000) | W7: 期底人數 Persons (End of Year) | Z7: 金額 (千元) Amounts (NT$1,000) | AA7: 期底人數 Persons (End of Year) | AD7: 金額 (千元) Amounts (NT$1,000)
C8: 計 Subtotal | D8: 男 Male | E8: 女 Female | G8: 計 Subtotal | H8: 男 Male | I8: 女 Female | K8: 計 Subtotal | L8: 男 Male | M8: 女 Female | O8: 計 Subtotal | P8: 男 Male | Q8: 女 Female | S8: 計 Subtotal | T8: 男 Male | U8: 女 Female | W8: 計 Subtotal | X8: 男 Male | Y8: 女 Female | AA8: 計 Subtotal | AB8: 男 Male | AC8: 女 Female
A9: 總計 | B9: Total | C9: 50815 | D9: 27736 | E9: 23079 | F9: 9332138.1 | G9: 8148 | H9: 4738 | I9: 3410 | J9: 1560087.1 | K9: 6372 | L9: 3621 | M9: 2751 | N9: 1385026.9 | O9: 1776 | P9: 1117 | Q9: 659 | R9: 175060.28 | S9: 42667 | T9: 22998 | U9: 19669 | V9: 7772050.9 | W9: 41036 | X9: 22064 | Y9: 18972 | Z9: 7586051.6 | AA9: 1631 | AB9: 934 | AC9: 697 | AD9: 185999.29
A10: 新北市 | B10: New Taipei City | C10: 8533 | D10: 4472 | E10: 4061 | F10: 1403206.6 | G10: 496 | H10: 303 | I10: 193 | J10: 73252.729 | K10: 313 | L10: 190 | M10: 123 | N10: 57070.283 | O10: 183 | P10: 113 | Q10: 70 | R10: 16182.446 | S10: 8037 | T10: 4169 | U10: 3868 | V10: 1329953.9 | W10: 7900 | X10: 4087 | Y10: 3813 | Z10: 1314887.2 | AA10: 137 | AB10: 82 | AC10: 55 | AD10: 15066.678
A11: 臺北市 | B11: Taipei City | C11: 6002 | D11: 3365 | E11: 2637 | F11: 1355874.1 | G11: 4652 | H11: 2593 | I11: 2059 | J11: 1078256 | K11: 4365 | L11: 2403 | M11: 1962 | N11: 1028461.1 | O11: 287 | P11: 190 | Q11: 97 | R11: 49794.972 | S11: 1350 | T11: 772 | U11: 578 | V11: 277618.04 | W11: 853 | X11: 488 | Y11: 365 | Z11: 214927.78 | AA11: 497 | AB11: 284 | AC11: 213 | AD11: 62690.259
A12: 桃園市 | B12: Taoyuan City | C12: 4113 | D12: 2150 | E12: 1963 | F12: 728130.93 | G12: 346 | H12: 211 | I12: 135 | J12: 49791.665 | K12: 234 | L12: 144 | M12: 90 | N12: 38905.979 | O12: 112 | P12: 67 | Q12: 45 | R12: 10885.686 | S12: 3767 | T12: 1939 | U12: 1828 | V12: 678339.27 | W12: 3715 | X12: 1907 | Y12: 1808 | Z12: 672413.96 | AA12: 52 | AB12: 32 | AC12: 20 | AD12: 5925.308
A13: 臺中市 | B13: Taichung City | C13: 5320 | D13: 2963 | E13: 2357 | F13: 944721.13 | G13: 554 | H13: 350 | I13: 204 | J13: 73884.582 | K13: 257 | L13: 154 | M13: 103 | N13: 48264.342 | O13: 297 | P13: 196 | Q13: 101 | R13: 25620.24 | S13: 4766 | T13: 2613 | U13: 2153 | V13: 870836.55 | W13: 4572 | X13: 2509 | Y13: 2063 | Z13: 850821.69 | AA13: 194 | AB13: 104 | AC13: 90 | AD13: 20014.86
A14: 臺南市 | B14: Tainan City | C14: 2313 | D14: 1484 | E14: 829 | F14: 458353.99 | G14: 268 | H14: 171 | I14: 97 | J14: 36972.851 | K14: 120 | L14: 82 | M14: 38 | N14: 23838.423 | O14: 148 | P14: 89 | Q14: 59 | R14: 13134.428 | S14: 2045 | T14: 1313 | U14: 732 | V14: 421381.14 | W14: 1913 | X14: 1235 | Y14: 678 | Z14: 406744.96 | AA14: 132 | AB14: 78 | AC14: 54 | AD14: 14636.183
A15: 高雄市 | B15: Kaohsiung City | C15: 5747 | D15: 3089 | E15: 2658 | F15: 918144.73 | G15: 595 | H15: 354 | I15: 241 | J15: 58394.901 | K15: 255 | L15: 141 | M15: 114 | N15: 35225.026 | O15: 340 | P15: 213 | Q15: 127 | R15: 23169.875 | S15: 5152 | T15: 2735 | U15: 2417 | V15: 859749.83 | W15: 4999 | X15: 2659 | Y15: 2340 | Z15: 843246.58 | AA15: 153 | AB15: 76 | AC15: 77 | AD15: 16503.248
A16: 宜蘭縣 | B16: Yilan County | C16: 1891 | D16: 962 | E16: 929 | F16: 340178.04 | G16: 70 | H16: 42 | I16: 28 | J16: 11104.247 | K16: 50 | L16: 30 | M16: 20 | N16: 9204.482 | O16: 20 | P16: 12 | Q16: 8 | R16: 1899.765 | S16: 1821 | T16: 920 | U16: 901 | V16: 329073.79 | W16: 1722 | X16: 862 | Y16: 860 | Z16: 318764.48 | AA16: 99 | AB16: 58 | AC16: 41 | AD16: 10309.312
A17: 新竹縣 | B17: Hsinchu County | C17: 1276 | D17: 694 | E17: 582 | F17: 228600.66 | G17: 70 | H17: 44 | I17: 26 | J17: 11046.861 | K17: 50 | L17: 29 | M17: 21 | N17: 9256.065 | O17: 20 | P17: 15 | Q17: 5 | R17: 1790.796 | S17: 1206 | T17: 650 | U17: 556 | V17: 217553.8 | W17: 1177 | X17: 630 | Y17: 547 | Z17: 214433.5 | AA17: 29 | AB17: 20 | AC17: 9 | AD17: 3120.306
A18: 苗栗縣 | B18: Miaoli County | C18: 1383 | D18: 766 | E18: 617 | F18: 293572.95 | G18: 74 | H18: 54 | I18: 20 | J18: 10323.464 | K18: 44 | L18: 31 | M18: 13 | N18: 7159.11 | O18: 30 | P18: 23 | Q18: 7 | R18: 3164.354 | S18: 1309 | T18: 712 | U18: 597 | V18: 283249.49 | W18: 1297 | X18: 703 | Y18: 594 | Z18: 281389.43 | AA18: 12 | AB18: 9 | AC18: 3 | AD18: 1860.054
A19: 彰化縣 | B19: Changhua County | C19: 2386 | D19: 1462 | E19: 924 | F19: 442641.05 | G19: 251 | H19: 149 | I19: 102 | J19: 38157.735 | K19: 144 | L19: 84 | M19: 60 | N19: 28887.6 | O19: 107 | P19: 65 | Q19: 42 | R19: 9270.135 | S19: 2135 | T19: 1313 | U19: 822 | V19: 404483.32 | W19: 2055 | X19: 1265 | Y19: 790 | Z19: 395726.46 | AA19: 80 | AB19: 48 | AC19: 32 | AD19: 8756.865
A20: 南投縣 | B20: Nantou County | C20: 1641 | D20: 907 | E20: 734 | F20: 315822.99 | G20: 85 | H20: 49 | I20: 36 | J20: 15471.252 | K20: 75 | L20: 44 | M20: 31 | N20: 14471.862 | O20: 10 | P20: 5 | Q20: 5 | R20: 999.39 | S20: 1556 | T20: 858 | U20: 698 | V20: 300351.73 | W20: 1535 | X20: 848 | Y20: 687 | Z20: 297921.6 | AA20: 21 | AB20: 10 | AC20: 11 | AD20: 2430.137
... A31: 連江縣 | B31: Lienchiang County | C31: 27 | D31: 16 | E31: 11 | F31: 3734.255 | G31: 3 | H31: 2 | I31: 1 | J31: 319.13 | K31: 3 | L31: 2 | M31: 1 | N31: 258.65 | O31: 0 | P31: 0 | Q31: 0 | R31: 60.48 | S31: 24 | T31: 14 | U31: 10 | V31: 3415.125 | W31: 24 | X31: 14 | Y31: 10 | Z31: 3415.125 | AA31: 0 | AB31: 0 | AC31: 0 | AD31: 0
A32: 資料來源：直轄市、縣(市)政府。
A33: 附 註：1.一般對象：依身心障礙者日間照顧及住宿式照顧費用補助辦法第5條而發給之補助對象。
A34: 2.特殊對象：依身心障礙者日間照顧及住宿式照顧費用補助辦法第6條而發給之補助對象。
A36: Source : County and City Government.
A38: 更新日期：2021/2/22

Sheet 2019
A1: 身心障礙者日間照顧及住宿式照顧補助Subsidies of Day Care and Residential Care for Disabled
A3: 108年,2019 | C3: =IF(C9=SUM(C10:C31),"",SUM(C10:C31)) | D3: =IF(D9=SUM(D10:D31),"",SUM(D10:D31)) | E3: =IF(E9=SUM(E10:E31),"",SUM(E10:E31)) | F3: =IF(F9=SUM(F10:F31),"",SUM(F10:F31)) | G3: =IF(G9=SUM(G10:G31),"",SUM(G10:G31)) | H3: =IF(H9=SUM(H10:H31),"",SUM(H10:H31)) | I3: =IF(I9=SUM(I10:I31),"",SUM(I10:I31)) | J3: =IF(J9=SUM(J10:J31),"",SUM(J10:J31)) | ... AD3: =IF(AD9=SUM(AD10:AD31),"",SUM(AD10:AD31))
A4: 區域別 Locality | C4: 日間照顧及住宿式照顧補助Subsidies for Day Care and Residential Care
C5: 合計 Total | G5: 一般對象 General | S5: 特殊對象 Special
G6: 計 Subtotal | K6: 住宿式照顧 Residential Care | O6: 日間照顧 Day Care | S6: 計 Subtotal | W6: 住宿式照顧 Residential Care | AA6: 日間照顧 Day Care
C7: 期底人數 Persons (End of Year) | F7: 金額 (千元) Amounts (NT$1,000) | G7: 期底人數 Persons (End of Year) | J7: 金額 (千元) Amounts (NT$1,000) | K7: 期底人數 Persons (End of Year) | N7: 金額 (千元) Amounts (NT$1,000) | O7: 期底人數 Persons (End of Year) | R7: 金額 (千元) Amounts (NT$1,000) | S7: 期底人數 Persons (End of Year) | V7: 金額 (千元) Amounts (NT$1,000) | W7: 期底人數 Persons (End of Year) | Z7: 金額 (千元) Amounts (NT$1,000) | AA7: 期底人數 Persons (End of Year) | AD7: 金額 (千元) Amounts (NT$1,000)
C8: 計 Subtotal | D8: 男 Male | E8: 女 Female | G8: 計 Subtotal | H8: 男 Male | I8: 女 Female | K8: 計 Subtotal | L8: 男 Male | M8: 女 Female | O8: 計 Subtotal | P8: 男 Male | Q8: 女 Female | S8: 計 Subtotal | T8: 男 Male | U8: 女 Female | W8: 計 Subtotal | X8: 男 Male | Y8: 女 Female | AA8: 計 Subtotal | AB8: 男 Male | AC8: 女 Female
A9: 總計 | B9: Total | C9: 49096 | D9: 27081 | E9: 22015 | F9: 8967773.8 | G9: 7970 | H9: 4682 | I9: 3288 | J9: 1519065.8 | K9: 6277 | L9: 3641 | M9: 2636 | N9: 1368440.3 | O9: 1693 | P9: 1041 | Q9: 652 | R9: 150625.45 | S9: 41126 | T9: 22399 | U9: 18727 | V9: 7448708.1 | W9: 39606 | X9: 21528 | Y9: 18078 | Z9: 7278746.3 | AA9: 1520 | AB9: 871 | AC9: 649 | AD9: 169961.74
A10: 新北市 | B10: New Taipei City | C10: 8112 | D10: 4298 | E10: 3814 | F10: 1351543.3 | G10: 484 | H10: 299 | I10: 185 | J10: 76509.781 | K10: 329 | L10: 202 | M10: 127 | N10: 60995.201 | O10: 155 | P10: 97 | Q10: 58 | R10: 15514.58 | S10: 7628 | T10: 3999 | U10: 3629 | V10: 1275033.5 | W10: 7495 | X10: 3923 | Y10: 3572 | Z10: 1260870.9 | AA10: 133 | AB10: 76 | AC10: 57 | AD10: 14162.591
A11: 臺北市 | B11: Taipei City | C11: 5868 | D11: 3343 | E11: 2525 | F11: 1257701.1 | G11: 4577 | H11: 2601 | I11: 1976 | J11: 1024529.9 | K11: 4225 | L11: 2389 | M11: 1836 | N11: 986904.19 | O11: 352 | P11: 212 | Q11: 140 | R11: 37625.727 | S11: 1291 | T11: 742 | U11: 549 | V11: 233171.13 | W11: 865 | X11: 493 | Y11: 372 | Z11: 180975.67 | AA11: 426 | AB11: 249 | AC11: 177 | AD11: 52195.458
A12: 桃園市 | B12: Taoyuan City | C12: 3660 | D12: 1949 | E12: 1711 | F12: 663267.81 | G12: 315 | H12: 199 | I12: 116 | J12: 48952.043 | K12: 216 | L12: 129 | M12: 87 | N12: 39052.475 | O12: 99 | P12: 70 | Q12: 29 | R12: 9899.568 | S12: 3345 | T12: 1750 | U12: 1595 | V12: 614315.76 | W12: 3295 | X12: 1719 | Y12: 1576 | Z12: 608688.74 | AA12: 50 | AB12: 31 | AC12: 19 | AD12: 5627.026
A13: 臺中市 | B13: Taichung City | C13: 5373 | D13: 2954 | E13: 2419 | F13: 948366.16 | G13: 553 | H13: 341 | I13: 212 | J13: 77026.153 | K13: 288 | L13: 175 | M13: 113 | N13: 54199.96 | O13: 265 | P13: 166 | Q13: 99 | R13: 22826.193 | S13: 4820 | T13: 2613 | U13: 2207 | V13: 871340 | W13: 4631 | X13: 2516 | Y13: 2115 | Z13: 851757.6 | AA13: 189 | AB13: 97 | AC13: 92 | AD13: 19582.399
A14: 臺南市 | B14: Tainan City | C14: 2317 | D14: 1514 | E14: 803 | F14: 461494.13 | G14: 266 | H14: 165 | I14: 101 | J14: 37447.992 | K14: 145 | L14: 94 | M14: 51 | N14: 26763.73 | O14: 121 | P14: 71 | Q14: 50 | R14: 10684.262 | S14: 2051 | T14: 1349 | U14: 702 | V14: 424046.14 | W14: 1926 | X14: 1277 | Y14: 649 | Z14: 409844.27 | AA14: 125 | AB14: 72 | AC14: 53 | AD14: 14201.871
A15: 高雄市 | B15: Kaohsiung City | C15: 5324 | D15: 2885 | E15: 2439 | F15: 863849.8 | G15: 495 | H15: 299 | I15: 196 | J15: 53701.97 | K15: 189 | L15: 112 | M15: 77 | N15: 34176.573 | O15: 306 | P15: 187 | Q15: 119 | R15: 19525.397 | S15: 4829 | T15: 2586 | U15: 2243 | V15: 810147.83 | W15: 4692 | X15: 2522 | Y15: 2170 | Z15: 794479.76 | AA15: 137 | AB15: 64 | AC15: 73 | AD15: 15668.07
A16: 宜蘭縣 | B16: Yilan County | C16: 1842 | D16: 947 | E16: 895 | F16: 329229.07 | G16: 85 | H16: 54 | I16: 31 | J16: 13727.949 | K16: 58 | L16: 38 | M16: 20 | N16: 11468.538 | O16: 27 | P16: 16 | Q16: 11 | R16: 2259.411 | S16: 1757 | T16: 893 | U16: 864 | V16: 315501.12 | W16: 1653 | X16: 832 | Y16: 821 | Z16: 306165.95 | AA16: 104 | AB16: 61 | AC16: 43 | AD16: 9335.173
A17: 新竹縣 | B17: Hsinchu County | C17: 1239 | D17: 697 | E17: 542 | F17: 220412.62 | G17: 78 | H17: 51 | I17: 27 | J17: 12147.184 | K17: 55 | L17: 33 | M17: 22 | N17: 10245.97 | O17: 23 | P17: 18 | Q17: 5 | R17: 1901.214 | S17: 1161 | T17: 646 | U17: 515 | V17: 208265.43 | W17: 1135 | X17: 628 | Y17: 507 | Z17: 205252.52 | AA17: 26 | AB17: 18 | AC17: 8 | AD17: 3012.912
A18: 苗栗縣 | B18: Miaoli County | C18: 1488 | D18: 840 | E18: 648 | F18: 282551.99 | G18: 84 | H18: 57 | I18: 27 | J18: 10127.901 | K18: 49 | L18: 33 | M18: 16 | N18: 8232.84 | O18: 35 | P18: 24 | Q18: 11 | R18: 1895.061 | S18: 1404 | T18: 783 | U18: 621 | V18: 272424.09 | W18: 1386 | X18: 770 | Y18: 616 | Z18: 270317.08 | AA18: 18 | AB18: 13 | AC18: 5 | AD18: 2107.01
A19: 彰化縣 | B19: Changhua County | C19: 2290 | D19: 1404 | E19: 886 | F19: 428016.58 | G19: 240 | H19: 142 | I19: 98 | J19: 38357.13 | K19: 144 | L19: 88 | M19: 56 | N19: 28607.25 | O19: 96 | P19: 54 | Q19: 42 | R19: 9749.88 | S19: 2050 | T19: 1262 | U19: 788 | V19: 389659.45 | W19: 1981 | X19: 1216 | Y19: 765 | Z19: 382617.12 | AA19: 69 | AB19: 46 | AC19: 23 | AD19: 7042.329
A20: 南投縣 | B20: Nantou County | C20: 1651 | D20: 899 | E20: 752 | F20: 320153.04 | G20: 85 | H20: 46 | I20: 39 | J20: 15497.615 | K20: 77 | L20: 42 | M20: 35 | N20: 14653.1 | O20: 8 | P20: 4 | Q20: 4 | R20: 844.515 | S20: 1566 | T20: 853 | U20: 713 | V20: 304655.42 | W20: 1540 | X20: 838 | Y20: 702 | Z20: 302146.56 | AA20: 26 | AB20: 15 | AC20: 11 | AD20: 2508.862
... A31: 連江縣 | B31: Lienchiang County | C31: 24 | D31: 15 | E31: 9 | F31: 3704.68 | G31: 2 | H31: 1 | I31: 1 | J31: 304.92 | K31: 1 | L31: 1 | M31: 0 | N31: 214.2 | O31: 1 | P31: 0 | Q31: 1 | R31: 90.72 | S31: 22 | T31: 14 | U31: 8 | V31: 3399.76 | W31: 22 | X31: 14 | Y31: 8 | Z31: 3399.76 | AA31: 0 | AB31: 0 | AC31: 0 | AD31: 0
A32: 資料來源：直轄市、縣(市)政府。
A33: 附 註：1.一般對象：依身心障礙者日間照顧及住宿式照顧費用補助辦法第5條而發給之補助對象。
A34: 2.特殊對象：依身心障礙者日間照顧及住宿式照顧費用補助辦法第6條而發給之補助對象。
A36: Source : County and City Government.
A38: 更新日期：2020/02/24

Sheet 2018
A1: 身心障礙者日間照顧及住宿式照顧補助Subsidies of Day Care and Residential Care for Disabled
A3: 107年,2018 | C3: =IF(C9=SUM(C10:C31),"",SUM(C10:C31)) | D3: =IF(D9=SUM(D10:D31),"",SUM(D10:D31)) | E3: =IF(E9=SUM(E10:E31),"",SUM(E10:E31)) | F3: =IF(F9=SUM(F10:F31),"",SUM(F10:F31)) | G3: =IF(G9=SUM(G10:G31),"",SUM(G10:G31)) | H3: =IF(H9=SUM(H10:H31),"",SUM(H10:H31)) | I3: =IF(I9=SUM(I10:I31),"",SUM(I10:I31)) | J3: =IF(J9=SUM(J10:J31),"",SUM(J10:J31)) | ... AD3: =IF(AD9=SUM(AD10:AD31),"",SUM(AD10:AD31))
A4: 區域別 Locality | C4: 日間照顧及住宿式照顧補助Subsidies for Day Care and Residential Care
C5: 合計 Total | G5: 一般對象 General | S5: 特殊對象 Special
G6: 計 Subtotal | K6: 住宿式照顧 Residential Care | O6: 日間照顧 Day Care | S6: 計 Subtotal | W6: 住宿式照顧 Residential Care | AA6: 日間照顧 Day Care
C7: 期底人數 Persons (End of Year) | F7: 金額 (千元) Amounts (NT$1,000) | G7: 期底人數 Persons (End of Year) | J7: 金額 (千元) Amounts (NT$1,000) | K7: 期底人數 Persons (End of Year) | N7: 金額 (千元) Amounts (NT$1,000) | O7: 期底人數 Persons (End of Year) | R7: 金額 (千元) Amounts (NT$1,000) | S7: 期底人數 Persons (End of Year) | V7: 金額 (千元) Amounts (NT$1,000) | W7: 期底人數 Persons (End of Year) | Z7: 金額 (千元) Amounts (NT$1,000) | AA7: 期底人數 Persons (End of Year) | AD7: 金額 (千元) Amounts (NT$1,000)
C8: 計 Subtotal | D8: 男 Male | E8: 女 Female | G8: 計 Subtotal | H8: 男 Male | I8: 女 Female | K8: 計 Subtotal | L8: 男 Male | M8: 女 Female | O8: 計 Subtotal | P8: 男 Male | Q8: 女 Female | S8: 計 Subtotal | T8: 男 Male | U8: 女 Female | W8: 計 Subtotal | X8: 男 Male | Y8: 女 Female | AA8: 計 Subtotal | AB8: 男 Male | AC8: 女 Female
A9: 總計 | B9: Total | C9: 47841 | D9: 26599 | E9: 21242 | F9: 8801920.4 | G9: 6529 | H9: 3819 | I9: 2710 | J9: 1119925.3 | K9: 4787 | L9: 2708 | M9: 2079 | N9: 966930.02 | O9: 1742 | P9: 1111 | Q9: 631 | R9: 152995.27 | S9: 41312 | T9: 22780 | U9: 18532 | V9: 7681995.2 | W9: 39378 | X9: 21696 | Y9: 17682 | Z9: 7501390 | AA9: 1934 | AB9: 1084 | AC9: 850 | AD9: 180605.18
A10: 新北市 | B10: New Taipei City | C10: 8584 | D10: 4541 | E10: 4043 | F10: 1422726.7 | G10: 521 | H10: 320 | I10: 201 | J10: 79941.58 | K10: 330 | L10: 200 | M10: 130 | N10: 62243.24 | O10: 191 | P10: 120 | Q10: 71 | R10: 17698.34 | S10: 8063 | T10: 4221 | U10: 3842 | V10: 1342785.1 | W10: 7927 | X10: 4141 | Y10: 3786 | Z10: 1327620.7 | AA10: 136 | AB10: 80 | AC10: 56 | AD10: 15164.422
A11: 臺北市 | B11: Taipei City | C11: 6381 | D11: 3611 | E11: 2770 | F11: 1317663.1 | G11: 3001 | H11: 1621 | I11: 1380 | J11: 606898.37 | K11: 2632 | L11: 1380 | M11: 1252 | N11: 572966.54 | O11: 369 | P11: 241 | Q11: 128 | R11: 33931.827 | S11: 3380 | T11: 1990 | U11: 1390 | V11: 710764.77 | W11: 2484 | X11: 1501 | Y11: 983 | Z11: 648847.06 | AA11: 896 | AB11: 489 | AC11: 407 | AD11: 61917.701
A12: 桃園市 | B12: Taoyuan City | C12: 2635 | D12: 1412 | E12: 1223 | F12: 514971.23 | G12: 276 | H12: 176 | I12: 100 | J12: 45712.158 | K12: 191 | L12: 110 | M12: 81 | N12: 36280.197 | O12: 85 | P12: 66 | Q12: 19 | R12: 9431.961 | S12: 2359 | T12: 1236 | U12: 1123 | V12: 469259.08 | W12: 2315 | X12: 1211 | Y12: 1104 | Z12: 463838.83 | AA12: 44 | AB12: 25 | AC12: 19 | AD12: 5420.248
A13: 臺中市 | B13: Taichung City | C13: 5226 | D13: 2900 | E13: 2326 | F13: 1033807.1 | G13: 517 | H13: 335 | I13: 182 | J13: 69064.28 | K13: 276 | L13: 173 | M13: 103 | N13: 48378.671 | O13: 241 | P13: 162 | Q13: 79 | R13: 20685.609 | S13: 4709 | T13: 2565 | U13: 2144 | V13: 964742.86 | W13: 4529 | X13: 2474 | Y13: 2055 | Z13: 945355.64 | AA13: 180 | AB13: 91 | AC13: 89 | AD13: 19387.225
A14: 臺南市 | B14: Tainan City | C14: 2286 | D14: 1487 | E14: 799 | F14: 457718.62 | G14: 281 | H14: 188 | I14: 93 | J14: 41798.374 | K14: 152 | L14: 104 | M14: 48 | N14: 29974.129 | O14: 129 | P14: 84 | Q14: 45 | R14: 11824.245 | S14: 2005 | T14: 1299 | U14: 706 | V14: 415920.25 | W14: 1886 | X14: 1232 | Y14: 654 | Z14: 402153.45 | AA14: 119 | AB14: 67 | AC14: 52 | AD14: 13766.802
A15: 高雄市 | B15: Kaohsiung City | C15: 4865 | D15: 2670 | E15: 2195 | F15: 776209.03 | G15: 520 | H15: 305 | I15: 215 | J15: 57879.514 | K15: 203 | L15: 111 | M15: 92 | N15: 34800.54 | O15: 317 | P15: 194 | Q15: 123 | R15: 23078.974 | S15: 4345 | T15: 2365 | U15: 1980 | V15: 718329.51 | W15: 4214 | X15: 2299 | Y15: 1915 | Z15: 700253.02 | AA15: 131 | AB15: 66 | AC15: 65 | AD15: 18076.491
A16: 宜蘭縣 | B16: Yilan County | C16: 1759 | D16: 924 | E16: 835 | F16: 317374.77 | G16: 97 | H16: 61 | I16: 36 | J16: 14960.12 | K16: 67 | L16: 45 | M16: 22 | N16: 12430.775 | O16: 30 | P16: 16 | Q16: 14 | R16: 2529.345 | S16: 1662 | T16: 863 | U16: 799 | V16: 302414.65 | W16: 1569 | X16: 807 | Y16: 762 | Z16: 292863.98 | AA16: 93 | AB16: 56 | AC16: 37 | AD16: 9550.663
A17: 新竹縣 | B17: Hsinchu County | C17: 1196 | D17: 678 | E17: 518 | F17: 211938.38 | G17: 90 | H17: 61 | I17: 29 | J17: 14031.776 | K17: 67 | L17: 43 | M17: 24 | N17: 11971.544 | O17: 23 | P17: 18 | Q17: 5 | R17: 2060.232 | S17: 1106 | T17: 617 | U17: 489 | V17: 197906.6 | W17: 1079 | X17: 598 | Y17: 481 | Z17: 194729.11 | AA17: 27 | AB17: 19 | AC17: 8 | AD17: 3177.489
A18: 苗栗縣 | B18: Miaoli County | C18: 1348 | D18: 780 | E18: 568 | F18: 280426.3 | G18: 69 | H18: 48 | I18: 21 | J18: 10363.355 | K18: 49 | L18: 35 | M18: 14 | N18: 8547.207 | O18: 20 | P18: 13 | Q18: 7 | R18: 1816.148 | S18: 1279 | T18: 732 | U18: 547 | V18: 270062.94 | W18: 1259 | X18: 720 | Y18: 539 | Z18: 267798.23 | AA18: 20 | AB18: 12 | AC18: 8 | AD18: 2264.716
A19: 彰化縣 | B19: Changhua County | C19: 2227 | D19: 1364 | E19: 863 | F19: 411568.53 | G19: 274 | H19: 169 | I19: 105 | J19: 41719.176 | K19: 158 | L19: 98 | M19: 60 | N19: 30759.696 | O19: 116 | P19: 71 | Q19: 45 | R19: 10959.48 | S19: 1953 | T19: 1195 | U19: 758 | V19: 369849.36 | W19: 1893 | X19: 1152 | Y19: 741 | Z19: 363276.88 | AA19: 60 | AB19: 43 | AC19: 17 | AD19: 6572.475
A20: 南投縣 | B20: Nantou County | C20: 1625 | D20: 912 | E20: 713 | F20: 312029.8 | G20: 94 | H20: 54 | I20: 40 | J20: 15155.823 | K20: 81 | L20: 48 | M20: 33 | N20: 14122.749 | O20: 13 | P20: 6 | Q20: 7 | R20: 1033.074 | S20: 1531 | T20: 858 | U20: 673 | V20: 296873.98 | W20: 1513 | X20: 848 | Y20: 665 | Z20: 294862.14 | AA20: 18 | AB20: 10 | AC20: 8 | AD20: 2011.842
... A31: 連江縣 | B31: Lienchiang County | C31: 26 | D31: 20 | E31: 6 | F31: 3633.054 | G31: 3 | H31: 2 | I31: 1 | J31: 382.573 | K31: 2 | L31: 2 | M31: 0 | N31: 340.2 | O31: 1 | P31: 0 | Q31: 1 | R31: 42.373 | S31: 23 | T31: 18 | U31: 5 | V31: 3250.481 | W31: 23 | X31: 18 | Y31: 5 | Z31: 3250.481 | AA31: 0 | AB31: 0 | AC31: 0 | AD31: 0
A32: 資料來源：直轄市、縣(市)政府。
A33: 附 註：1.一般對象：依身心障礙者日間照顧及住宿式照顧費用補助辦法第5條而發給之補助對象。
A34: 2.特殊對象：依身心障礙者日間照顧及住宿式照顧費用補助辦法第6條而發給之補助對象。
A36: Source : County and City Government.
A38: 更新日期：2019/2/22

Sheet 2017
A1: 身心障礙者日間照顧及住宿式照顧補助Subsidies of Day Care and Residential Care for Disabled
A3: 106年, 2017
A4: 區域別 Locality | C4: 日間照顧及住宿式照顧補助Subsidies for Day Care and Residential Care
C5: 合計 Total | G5: 一般對象 General | S5: 特殊對象 Special
G6: 計 Subtotal | K6: 住宿式照顧 Residential Care | O6: 日間照顧 Day Care | S6: 計 Subtotal | W6: 住宿式照顧 Residential Care | AA6: 日間照顧 Day Care
C7: 期底人數 Persons (End of Year) | F7: 金額 (千元) Amounts (NT$1,000) | G7: 期底人數 Persons (End of Year) | J7: 金額 (千元) Amounts (NT$1,000) | K7: 期底人數 Persons (End of Year) | N7: 金額 (千元) Amounts (NT$1,000) | O7: 期底人數 Persons (End of Year) | R7: 金額 (千元) Amounts (NT$1,000) | S7: 期底人數 Persons (End of Year) | V7: 金額 (千元) Amounts (NT$1,000) | W7: 期底人數 Persons (End of Year) | Z7: 金額 (千元) Amounts (NT$1,000) | AA7: 期底人數 Persons (End of Year) | AD7: 金額 (千元) Amounts (NT$1,000)
C8: 計 Subtotal | D8: 男 Male | E8: 女 Female | G8: 計 Subtotal | H8: 男 Male | I8: 女 Female | K8: 計 Subtotal | L8: 男 Male | M8: 女 Female | O8: 計 Subtotal | P8: 男 Male | Q8: 女 Female | S8: 計 Subtotal | T8: 男 Male | U8: 女 Female | W8: 計 Subtotal | X8: 男 Male | Y8: 女 Female | AA8: 計 Subtotal | AB8: 男 Male | AC8: 女 Female
A9: 總計 | B9: Total | C9: 45930 | D9: 25652 | E9: 20278 | F9: 8504325.5 | G9: 6411 | H9: 3675 | I9: 2736 | J9: 1160777.6 | K9: 4758 | L9: 2613 | M9: 2145 | N9: 1007293.6 | O9: 1653 | P9: 1062 | Q9: 591 | R9: 153483.97 | S9: 39519 | T9: 21977 | U9: 17542 | V9: 7343547.9 | W9: 37971 | X9: 21085 | Y9: 16886 | Z9: 7167734.3 | AA9: 1548 | AB9: 892 | AC9: 656 | AD9: 175813.64
A10: 新北市 | B10: New Taipei City | C10: 8282 | D10: 4405 | E10: 3877 | F10: 1446377.7 | G10: 504 | H10: 304 | I10: 200 | J10: 77968.593 | K10: 332 | L10: 196 | M10: 136 | N10: 62571.99 | O10: 172 | P10: 108 | Q10: 64 | R10: 15396.603 | S10: 7778 | T10: 4101 | U10: 3677 | V10: 1368409.1 | W10: 7647 | X10: 4022 | Y10: 3625 | Z10: 1353003.4 | AA10: 131 | AB10: 79 | AC10: 52 | AD10: 15405.736
A11: 臺北市 | B11: Taipei City | C11: 5982 | D11: 3317 | E11: 2665 | F11: 1306917.9 | G11: 2995 | H11: 1547 | I11: 1448 | J11: 637756.69 | K11: 2654 | L11: 1325 | M11: 1329 | N11: 601512.68 | O11: 341 | P11: 222 | Q11: 119 | R11: 36244.02 | S11: 2987 | T11: 1770 | U11: 1217 | V11: 669161.16 | W11: 2487 | X11: 1494 | Y11: 993 | Z11: 610231.24 | AA11: 500 | AB11: 276 | AC11: 224 | AD11: 58929.927
A12: 桃園市 | B12: Taoyuan City | C12: 2946 | D12: 1609 | E12: 1337 | F12: 519420.84 | G12: 322 | H12: 206 | I12: 116 | J12: 47970.592 | K12: 218 | L12: 126 | M12: 92 | N12: 38605.667 | O12: 104 | P12: 80 | Q12: 24 | R12: 9364.925 | S12: 2624 | T12: 1403 | U12: 1221 | V12: 471450.25 | W12: 2576 | X12: 1376 | Y12: 1200 | Z12: 466689.31 | AA12: 48 | AB12: 27 | AC12: 21 | AD12: 4760.945
A13: 臺中市 | B13: Taichung City | C13: 5134 | D13: 2840 | E13: 2294 | F13: 989264.76 | G13: 505 | H13: 322 | I13: 183 | J13: 71346.785 | K13: 278 | L13: 176 | M13: 102 | N13: 51375.089 | O13: 227 | P13: 146 | Q13: 81 | R13: 19971.696 | S13: 4629 | T13: 2518 | U13: 2111 | V13: 917917.98 | W13: 4472 | X13: 2438 | Y13: 2034 | Z13: 901693.39 | AA13: 157 | AB13: 80 | AC13: 77 | AD13: 16224.588
A14: 臺南市 | B14: Tainan City | C14: 2259 | D14: 1460 | E14: 799 | F14: 443097.95 | G14: 284 | H14: 174 | I14: 110 | J14: 39571.523 | K14: 151 | L14: 95 | M14: 56 | N14: 28550.749 | O14: 133 | P14: 79 | Q14: 54 | R14: 11020.774 | S14: 1975 | T14: 1286 | U14: 689 | V14: 403526.43 | W14: 1861 | X14: 1221 | Y14: 640 | Z14: 389971.39 | AA14: 114 | AB14: 65 | AC14: 49 | AD14: 13555.036
A15: 高雄市 | B15: Kaohsiung City | C15: 4066 | D15: 2322 | E15: 1744 | F15: 642238.11 | G15: 452 | H15: 296 | I15: 156 | J15: 58637.751 | K15: 186 | L15: 119 | M15: 67 | N15: 35348.655 | O15: 266 | P15: 177 | Q15: 89 | R15: 23289.096 | S15: 3614 | T15: 2026 | U15: 1588 | V15: 583600.36 | W15: 3444 | X15: 1929 | Y15: 1515 | Z15: 565319.02 | AA15: 170 | AB15: 97 | AC15: 73 | AD15: 18281.335
A16: 宜蘭縣 | B16: Yilan County | C16: 1687 | D16: 909 | E16: 778 | F16: 295380 | G16: 91 | H16: 59 | I16: 32 | J16: 15395.391 | K16: 74 | L16: 48 | M16: 26 | N16: 13293.966 | O16: 17 | P16: 11 | Q16: 6 | R16: 2101.425 | S16: 1596 | T16: 850 | U16: 746 | V16: 279984.61 | W16: 1522 | X16: 801 | Y16: 721 | Z16: 270816.53 | AA16: 74 | AB16: 49 | AC16: 25 | AD16: 9168.079
A17: 新竹縣 | B17: Hsinchu County | C17: 1111 | D17: 636 | E17: 475 | F17: 198626.62 | G17: 96 | H17: 67 | I17: 29 | J17: 15936.505 | K17: 72 | L17: 48 | M17: 24 | N17: 13393.573 | O17: 24 | P17: 19 | Q17: 5 | R17: 2542.932 | S17: 1015 | T17: 569 | U17: 446 | V17: 182690.12 | W17: 988 | X17: 549 | Y17: 439 | Z17: 179661.05 | AA17: 27 | AB17: 20 | AC17: 7 | AD17: 3029.068
A18: 苗栗縣 | B18: Miaoli County | C18: 1688 | D18: 889 | E18: 799 | F18: 275942.69 | G18: 78 | H18: 53 | I18: 25 | J18: 11384.007 | K18: 55 | L18: 39 | M18: 16 | N18: 9589.096 | O18: 23 | P18: 14 | Q18: 9 | R18: 1794.911 | S18: 1610 | T18: 836 | U18: 774 | V18: 264558.68 | W18: 1588 | X18: 821 | Y18: 767 | Z18: 261954.01 | AA18: 22 | AB18: 15 | AC18: 7 | AD18: 2604.671
A19: 彰化縣 | B19: Changhua County | C19: 2186 | D19: 1323 | E19: 863 | F19: 398062.38 | G19: 284 | H19: 171 | I19: 113 | J19: 43862.181 | K19: 168 | L19: 104 | M19: 64 | N19: 32452.566 | O19: 116 | P19: 67 | Q19: 49 | R19: 11409.615 | S19: 1902 | T19: 1152 | U19: 750 | V19: 354200.2 | W19: 1836 | X19: 1109 | Y19: 727 | Z19: 346727.77 | AA19: 66 | AB19: 43 | AC19: 23 | AD19: 7472.43
A20: 南投縣 | B20: Nantou County | C20: 1657 | D20: 945 | E20: 712 | F20: 312647.81 | G20: 102 | H20: 54 | I20: 48 | J20: 18468.371 | K20: 86 | L20: 48 | M20: 38 | N20: 17041.736 | O20: 16 | P20: 6 | Q20: 10 | R20: 1426.635 | S20: 1555 | T20: 891 | U20: 664 | V20: 294179.44 | W20: 1538 | X20: 879 | Y20: 659 | Z20: 292144.84 | AA20: 17 | AB20: 12 | AC20: 5 | AD20: 2034.606
... A31: 連江縣 | B31: Lienchiang County | C31: 19 | D31: 13 | E31: 6 | F31: 2980.005 | G31: 2 | H31: 2 | I31: 0 | J31: 239.4 | K31: 2 | L31: 2 | M31: 0 | N31: 239.4 | O31: 0 | P31: 0 | Q31: 0 | R31: 0 | S31: 17 | T31: 11 | U31: 6 | V31: 2740.605 | W31: 17 | X31: 11 | Y31: 6 | Z31: 2740.605 | AA31: 0 | AB31: 0 | AC31: 0 | AD31: 0
A32: 資料來源：直轄市、縣(市)政府。
A33: 附 註：1.一般對象：依身心障礙者日間照顧及住宿式照顧費用補助辦法第5條而發給之補助對象。
A34: 2.特殊對象：依身心障礙者日間照顧及住宿式照顧費用補助辦法第6條而發給之補助對象。
A36: Source : County and City Government.
A38: 更新日期：2018/2/22

Sheet 2016
A1: 身心障礙者日間照顧及住宿式照顧補助Subsidies of Day Care and Residential Care for Disabled
A3: 105年,2016
A4: 區域別 Locality | C4: 日間照顧及住宿式照顧補助Subsidies for Day Care and Residential Care
C5: 合計 Total | G5: 一般對象 General | S5: 特殊對象 Special
G6: 計 Subtotal | K6: 住宿式照顧 Residential Care | O6: 日間照顧 Day Care | S6: 計 Subtotal | W6: 住宿式照顧 Residential Care | AA6: 日間照顧 Day Care
C7: 年底人數(人) Persons (End of Year) | F7: 金額 (千元) Amounts (NT$1,000) | G7: 年底人數(人) Persons (End of Year) | J7: 金額 (千元) Amounts (NT$1,000) | K7: 年底人數(人) Persons (End of Year) | N7: 金額 (千元) Amounts (NT$1,000) | O7: 年底人數(人) Persons (End of Year) | R7: 金額 (千元) Amounts (NT$1,000) | S7: 年底人數(人) Persons (End of Year) | V7: 金額 (千元) Amounts (NT$1,000) | W7: 年底人數(人) Persons (End of Year) | Z7: 金額 (千元) Amounts (NT$1,000) | AA7: 年底人數(人) Persons (End of Year) | AD7: 金額 (千元) Amounts (NT$1,000)
C8: 計 Subtotal | D8: 男 Male | E8: 女 Female | G8: 計 Subtotal | H8: 男 Male | I8: 女 Female | K8: 計 Subtotal | L8: 男 Male | M8: 女 Female | O8: 計 Subtotal | P8: 男 Male | Q8: 女 Female | S8: 計 Subtotal | T8: 男 Male | U8: 女 Female | W8: 計 Subtotal | X8: 男 Male | Y8: 女 Female | AA8: 計 Subtotal | AB8: 男 Male | AC8: 女 Female
A9: 總計 | B9: Total | C9: 43300 | D9: 24513 | E9: 18787 | F9: 8025156.5 | G9: 6296 | H9: 3637 | I9: 2659 | J9: 1100096 | K9: 4641 | L9: 2614 | M9: 2027 | N9: 950142.55 | O9: 1655 | P9: 1023 | Q9: 632 | R9: 149953.47 | S9: 37004 | T9: 20876 | U9: 16128 | V9: 6925060.5 | W9: 35519 | X9: 20004 | Y9: 15515 | Z9: 6760228.5 | AA9: 1485 | AB9: 872 | AC9: 613 | AD9: 164831.99
A10: 新北市 | B10: New Taipei City | C10: 7448 | D10: 4020 | E10: 3428 | F10: 1258925.6 | G10: 507 | H10: 297 | I10: 210 | J10: 77978.548 | K10: 332 | L10: 192 | M10: 140 | N10: 62271.408 | O10: 175 | P10: 105 | Q10: 70 | R10: 15707.14 | S10: 6941 | T10: 3723 | U10: 3218 | V10: 1180947.1 | W10: 6811 | X10: 3645 | Y10: 3166 | Z10: 1166789.3 | AA10: 130 | AB10: 78 | AC10: 52 | AD10: 14157.754
A11: 臺北市 | B11: Taipei City | C11: 5551 | D11: 3107 | E11: 2444 | F11: 1223864.8 | G11: 2793 | H11: 1490 | I11: 1303 | J11: 561863.64 | K11: 2433 | L11: 1260 | M11: 1173 | N11: 527381.47 | O11: 360 | P11: 230 | Q11: 130 | R11: 34482.168 | S11: 2758 | T11: 1617 | U11: 1141 | V11: 662001.16 | W11: 2340 | X11: 1372 | Y11: 968 | Z11: 610712.58 | AA11: 418 | AB11: 245 | AC11: 173 | AD11: 51288.575
A12: 桃園市 | B12: Taoyuan City | C12: 2670 | D12: 1484 | E12: 1186 | F12: 469508.97 | G12: 338 | H12: 214 | I12: 124 | J12: 50809.059 | K12: 233 | L12: 140 | M12: 93 | N12: 40881.435 | O12: 105 | P12: 74 | Q12: 31 | R12: 9927.624 | S12: 2332 | T12: 1270 | U12: 1062 | V12: 418699.91 | W12: 2284 | X12: 1244 | Y12: 1040 | Z12: 413912.63 | AA12: 48 | AB12: 26 | AC12: 22 | AD12: 4787.282
A13: 臺中市 | B13: Taichung City | C13: 5404 | D13: 2982 | E13: 2422 | F13: 999065.57 | G13: 528 | H13: 333 | I13: 195 | J13: 80442.211 | K13: 309 | L13: 200 | M13: 109 | N13: 59555.932 | O13: 219 | P13: 133 | Q13: 86 | R13: 20886.279 | S13: 4876 | T13: 2649 | U13: 2227 | V13: 918623.36 | W13: 4728 | X13: 2574 | Y13: 2154 | Z13: 903549.92 | AA13: 148 | AB13: 75 | AC13: 73 | AD13: 15073.435
A14: 臺南市 | B14: Tainan City | C14: 2180 | D14: 1422 | E14: 758 | F14: 431503.29 | G14: 263 | H14: 164 | I14: 99 | J14: 38580.802 | K14: 159 | L14: 99 | M14: 60 | N14: 29912.386 | O14: 104 | P14: 65 | Q14: 39 | R14: 8668.416 | S14: 1917 | T14: 1258 | U14: 659 | V14: 392922.49 | W14: 1812 | X14: 1193 | Y14: 619 | Z14: 379915.56 | AA14: 105 | AB14: 65 | AC14: 40 | AD14: 13006.928
A15: 高雄市 | B15: Kaohsiung City | C15: 3560 | D15: 2066 | E15: 1494 | F15: 624173.41 | G15: 447 | H15: 272 | I15: 175 | J15: 58896.053 | K15: 188 | L15: 119 | M15: 69 | N15: 35279.171 | O15: 259 | P15: 153 | Q15: 106 | R15: 23616.882 | S15: 3113 | T15: 1794 | U15: 1319 | V15: 565277.36 | W15: 2948 | X15: 1696 | Y15: 1252 | Z15: 547032.62 | AA15: 165 | AB15: 98 | AC15: 67 | AD15: 18244.737
A16: 宜蘭縣 | B16: Yilan County | C16: 1589 | D16: 863 | E16: 726 | F16: 290266.22 | G16: 102 | H16: 61 | I16: 41 | J16: 18638.886 | K16: 75 | L16: 48 | M16: 27 | N16: 16250.745 | O16: 27 | P16: 13 | Q16: 14 | R16: 2388.141 | S16: 1487 | T16: 802 | U16: 685 | V16: 271627.34 | W16: 1387 | X16: 741 | Y16: 646 | Z16: 262094.59 | AA16: 100 | AB16: 61 | AC16: 39 | AD16: 9532.752
A17: 新竹縣 | B17: Hsinchu County | C17: 1086 | D17: 627 | E17: 459 | F17: 196715.93 | G17: 115 | H17: 78 | I17: 37 | J17: 16860.267 | K17: 81 | L17: 55 | M17: 26 | N17: 14141.588 | O17: 34 | P17: 23 | Q17: 11 | R17: 2718.679 | S17: 971 | T17: 549 | U17: 422 | V17: 179855.67 | W17: 934 | X17: 525 | Y17: 409 | Z17: 176490.2 | AA17: 37 | AB17: 24 | AC17: 13 | AD17: 3365.466
A18: 苗栗縣 | B18: Miaoli County | C18: 1356 | D18: 796 | E18: 560 | F18: 255557.44 | G18: 87 | H18: 60 | I18: 27 | J18: 13736.908 | K18: 64 | L18: 45 | M18: 19 | N18: 12092.601 | O18: 23 | P18: 15 | Q18: 8 | R18: 1644.307 | S18: 1269 | T18: 736 | U18: 533 | V18: 241820.54 | W18: 1243 | X18: 717 | Y18: 526 | Z18: 239298.76 | AA18: 26 | AB18: 19 | AC18: 7 | AD18: 2521.772
A19: 彰化縣 | B19: Changhua County | C19: 2186 | D19: 1321 | E19: 865 | F19: 384353.05 | G19: 296 | H19: 182 | I19: 114 | J19: 44451.404 | K19: 176 | L19: 111 | M19: 65 | N19: 33419.86 | O19: 120 | P19: 71 | Q19: 49 | R19: 11031.544 | S19: 1890 | T19: 1139 | U19: 751 | V19: 339901.64 | W19: 1823 | X19: 1098 | Y19: 725 | Z19: 333549.1 | AA19: 67 | AB19: 41 | AC19: 26 | AD19: 6352.548
A20: 南投縣 | B20: Nantou County | C20: 1588 | D20: 902 | E20: 686 | F20: 305080.85 | G20: 88 | H20: 48 | I20: 40 | J20: 18923.934 | K20: 72 | L20: 41 | M20: 31 | N20: 17473.065 | O20: 16 | P20: 7 | Q20: 9 | R20: 1450.869 | S20: 1500 | T20: 854 | U20: 646 | V20: 286156.92 | W20: 1484 | X20: 843 | Y20: 641 | Z20: 284495.35 | AA20: 16 | AB20: 11 | AC20: 5 | AD20: 1661.566
... A31: 連江縣 | B31: Lienchiang County | C31: 16 | D31: 10 | E31: 6 | F31: 2750.16 | G31: 1 | H31: 1 | I31: 0 | J31: 189 | K31: 1 | L31: 1 | M31: 0 | N31: 189 | O31: 0 | P31: 0 | Q31: 0 | R31: 0 | S31: 15 | T31: 9 | U31: 6 | V31: 2561.16 | W31: 15 | X31: 9 | Y31: 6 | Z31: 2561.16 | AA31: 0 | AB31: 0 | AC31: 0 | AD31: 0
A32: 資料來源：直轄市、縣(市)政府。
A33: 附 註：1.一般對象：依身心障礙者日間照顧及住宿式照顧費用補助辦法第5條而發給之補助對象。
A34: 2.特殊對象：依身心障礙者日間照顧及住宿式照顧費用補助辦法第6條而發給之補助對象。
A36: Source : County and City Government.
A38: 更新日期：2017/2/22
A39: 總計 | B39: Total | C39: 43300 | D39: 24513 | E39: 18787 | F39: 8025156.5 | G39: 6296 | H39: 3637 | I39: 2659 | J39: 1100096 | K39: 4641 | L39: 2614 | M39: 2027 | N39: 950142.55 | O39: 1655 | P39: 1023 | Q39: 632 | R39: 149953.47 | S39: 37004 | T39: 20876 | U39: 16128 | V39: 6925060.5 | W39: 35519 | X39: 20004 | Y39: 15515 | Z39: 6760228.5 | AA39: 1485 | AB39: 872 | AC39: 613 | AD39: 164831.99
A40: 新 北 市 | B40: New Taipei City | C40: 7448 | D40: 4020 | E40: 3428 | F40: 1258925.6 | G40: 507 | H40: 297 | I40: 210 | J40: 77978.548 | K40: 332 | L40: 192 | M40: 140 | N40: 62271.408 | O40: 175 | P40: 105 | Q40: 70 | R40: 15707.14 | S40: 6941 | T40: 3723 | U40: 3218 | V40: 1180947.1 | W40: 6811 | X40: 3645 | Y40: 3166 | Z40: 1166789.3 | AA40: 130 | AB40: 78 | AC40: 52 | AD40: 14157.754
A41: 臺 北 市 | B41: Taipei City | C41: 5551 | D41: 3107 | E41: 2444 | F41: 1223864.8 | G41: 2793 | H41: 1490 | I41: 1303 | J41: 561863.64 | K41: 2433 | L41: 1260 | M41: 1173 | N41: 527381.47 | O41: 360 | P41: 230 | Q41: 130 | R41: 34482.168 | S41: 2758 | T41: 1617 | U41: 1141 | V41: 662001.16 | W41: 2340 | X41: 1372 | Y41: 968 | Z41: 610712.58 | AA41: 418 | AB41: 245 | AC41: 173 | AD41: 51288.575
A42: 桃 園 市 | B42: Taoyuan City | C42: 2670 | D42: 1484 | E42: 1186 | F42: 469508.97 | G42: 338 | H42: 214 | I42: 124 | J42: 50809.059 | K42: 233 | L42: 140 | M42: 93 | N42: 40881.435 | O42: 105 | P42: 74 | Q42: 31 | R42: 9927.624 | S42: 2332 | T42: 1270 | U42: 1062 | V42: 418699.91 | W42: 2284 | X42: 1244 | Y42: 1040 | Z42: 413912.63 | AA42: 48 | AB42: 26 | AC42: 22 | AD42: 4787.282
A43: 臺 中 市 | B43: Taichung City | C43: 5404 | D43: 2982 | E43: 2422 | F43: 999065.57 | G43: 528 | H43: 333 | I43: 195 | J43: 80442.211 | K43: 309 | L43: 200 | M43: 109 | N43: 59555.932 | O43: 219 | P43: 133 | Q43: 86 | R43: 20886.279 | S43: 4876 | T43: 2649 | U43: 2227 | V43: 918623.36 | W43: 4728 | X43: 2574 | Y43: 2154 | Z43: 903549.92 | AA43: 148 | AB43: 75 | AC43: 73 | AD43: 15073.435
A44: 臺 南 市 | B44: Tainan City | C44: 2180 | D44: 1422 | E44: 758 | F44: 431503.29 | G44: 263 | H44: 164 | I44: 99 | J44: 38580.802 | K44: 159 | L44: 99 | M44: 60 | N44: 29912.386 | O44: 104 | P44: 65 | Q44: 39 | R44: 8668.416 | S44: 1917 | T44: 1258 | U44: 659 | V44: 392922.49 | W44: 1812 | X44: 1193 | Y44: 619 | Z44: 379915.56 | AA44: 105 | AB44: 65 | AC44: 40 | AD44: 13006.928
A45: 高 雄 市 | B45: Kaohsiung City | C45: 3560 | D45: 2066 | E45: 1494 | F45: 624173.41 | G45: 447 | H45: 272 | I45: 175 | J45: 58896.053 | K45: 188 | L45: 119 | M45: 69 | N45: 35279.171 | O45: 259 | P45: 153 | Q45: 106 | R45: 23616.882 | S45: 3113 | T45: 1794 | U45: 1319 | V45: 565277.36 | W45: 2948 | X45: 1696 | Y45: 1252 | Z45: 547032.62 | AA45: 165 | AB45: 98 | AC45: 67 | AD45: 18244.737
A46: 臺 灣 省 | B46: Taiwan Prov. | C46: 16310 | D46: 9334 | E46: 6976 | F46: 2980826.1 | G46: 1370 | H46: 836 | I46: 534 | J46: 219324.35 | K46: 937 | L46: 573 | M46: 364 | N46: 182659.38 | O46: 433 | P46: 263 | Q46: 170 | R46: 36664.961 | S46: 14940 | T46: 8498 | U46: 6442 | V46: 2761501.8 | W46: 14470 | X46: 8214 | Y46: 6256 | Z46: 2713497.3 | AA46: 470 | AB46: 284 | AC46: 186 | AD46: 48004.475
A47: 宜蘭縣 | B47: Yilan County | C47: 1589 | D47: 863 | E47: 726 | F47: 290266.22 | G47: 102 | H47: 61 | I47: 41 | J47: 18638.886 | K47: 75 | L47: 48 | M47: 27 | N47: 16250.745 | O47: 27 | P47: 13 | Q47: 14 | R47: 2388.141 | S47: 1487 | T47: 802 | U47: 685 | V47: 271627.34 | W47: 1387 | X47: 741 | Y47: 646 | Z47: 262094.59 | AA47: 100 | AB47: 61 | AC47: 39 | AD47: 9532.752
A48: 新竹縣 | B48: Hsinchu County | C48: 1086 | D48: 627 | E48: 459 | F48: 196715.93 | G48: 115 | H48: 78 | I48: 37 | J48: 16860.267 | K48: 81 | L48: 55 | M48: 26 | N48: 14141.588 | O48: 34 | P48: 23 | Q48: 11 | R48: 2718.679 | S48: 971 | T48: 549 | U48: 422 | V48: 179855.67 | W48: 934 | X48: 525 | Y48: 409 | Z48: 176490.2 | AA48: 37 | AB48: 24 | AC48: 13 | AD48: 3365.466
A49: 苗栗縣 | B49: Miaoli County | C49: 1356 | D49: 796 | E49: 560 | F49: 255557.44 | G49: 87 | H49: 60 | I49: 27 | J49: 13736.908 | K49: 64 | L49: 45 | M49: 19 | N49: 12092.601 | O49: 23 | P49: 15 | Q49: 8 | R49: 1644.307 | S49: 1269 | T49: 736 | U49: 533 | V49: 241820.54 | W49: 1243 | X49: 717 | Y49: 526 | Z49: 239298.76 | AA49: 26 | AB49: 19 | AC49: 7 | AD49: 2521.772
A50: 彰化縣 | B50: Changhua County | C50: 2186 | D50: 1321 | E50: 865 | F50: 384353.05 | G50: 296 | H50: 182 | I50: 114 | J50: 44451.404 | K50: 176 | L50: 111 | M50: 65 | N50: 33419.86 | O50: 120 | P50: 71 | Q50: 49 | R50: 11031.544 | S50: 1890 | T50: 1139 | U50: 751 | V50: 339901.64 | W50: 1823 | X50: 1098 | Y50: 725 | Z50: 333549.1 | AA50: 67 | AB50: 41 | AC50: 26 | AD50: 6352.548
... A63: 連江縣 | B63: Lienchiang County | C63: 16 | D63: 10 | E63: 6 | F63: 2750.16 | G63: 1 | H63: 1 | I63: 0 | J63: 189 | K63: 1 | L63: 1 | M63: 0 | N63: 189 | O63: 0 | P63: 0 | Q63: 0 | R63: 0 | S63: 15 | T63: 9 | U63: 6 | V63: 2561.16 | W63: 15 | X63: 9 | Y63: 6 | Z63: 2561.16 | AA63: 0 | AB63: 0 | AC63: 0 | AD63: 0
A65: 總計 | B65: Total | C65: =IF(C39=C9,"","*") | D65: =IF(D39=D9,"","*") | E65: =IF(E39=E9,"","*") | F65: =IF(F39=F9,"","*") | G65: =IF(G39=G9,"","*") | H65: =IF(H39=H9,"","*") | I65: =IF(I39=I9,"","*") | J65: =IF(J39=J9,"","*") | ... AD65: =IF(AD39=AD9,"","*")
A66: 新 北 市 | B66: New Taipei City | C66: =IF(C40=C10,"","*") | D66: =IF(D40=D10,"","*") | E66: =IF(E40=E10,"","*") | F66: =IF(F40=F10,"","*") | G66: =IF(G40=G10,"","*") | H66: =IF(H40=H10,"","*") | I66: =IF(I40=I10,"","*") | J66: =IF(J40=J10,"","*") | ... AD66: =IF(AD40=AD10,"","*")
A67: 臺 北 市 | B67: Taipei City | C67: =IF(C41=C11,"","*") | D67: =IF(D41=D11,"","*") | E67: =IF(E41=E11,"","*") | F67: =IF(F41=F11,"","*") | G67: =IF(G41=G11,"","*") | H67: =IF(H41=H11,"","*") | I67: =IF(I41=I11,"","*") | J67: =IF(J41=J11,"","*") | ... AD67: =IF(AD41=AD11,"","*")
A68: 桃 園 市 | B68: Taoyuan City | C68: =IF(C42=C12,"","*") | D68: =IF(D42=D12,"","*") | E68: =IF(E42=E12,"","*") | F68: =IF(F42=F12,"","*") | G68: =IF(G42=G12,"","*") | H68: =IF(H42=H12,"","*") | I68: =IF(I42=I12,"","*") | J68: =IF(J42=J12,"","*") | ... AD68: =IF(AD42=AD12,"","*")
A69: 臺 中 市 | B69: Taichung City | C69: =IF(C43=C13,"","*") | D69: =IF(D43=D13,"","*") | E69: =IF(E43=E13,"","*") | F69: =IF(F43=F13,"","*") | G69: =IF(G43=G13,"","*") | H69: =IF(H43=H13,"","*") | I69: =IF(I43=I13,"","*") | J69: =IF(J43=J13,"","*") | ... AD69: =IF(AD43=AD13,"","*")
A70: 臺 南 市 | B70: Tainan City | C70: =IF(C44=C14,"","*") | D70: =IF(D44=D14,"","*") | E70: =IF(E44=E14,"","*") | F70: =IF(F44=F14,"","*") | G70: =IF(G44=G14,"","*") | H70: =IF(H44=H14,"","*") | I70: =IF(I44=I14,"","*") | J70: =IF(J44=J14,"","*") | ... AD70: =IF(AD44=AD14,"","*")
A71: 高 雄 市 | B71: Kaohsiung City | C71: =IF(C45=C15,"","*") | D71: =IF(D45=D15,"","*") | E71: =IF(E45=E15,"","*") | F71: =IF(F45=F15,"","*") | G71: =IF(G45=G15,"","*") | H71: =IF(H45=H15,"","*") | I71: =IF(I45=I15,"","*") | J71: =IF(J45=J15,"","*") | ... AD71: =IF(AD45=AD15,"","*")
A72: 臺 灣 省 | B72: Taiwan Prov. | C72: =IF(C46=#REF!,"","*") -> #REF! | D72: =IF(D46=#REF!,"","*") -> #REF! | E72: =IF(E46=#REF!,"","*") -> #REF! | F72: =IF(F46=#REF!,"","*") -> #REF! | G72: =IF(G46=#REF!,"","*") -> #REF! | H72: =IF(H46=#REF!,"","*") -> #REF! | I72: =IF(I46=#REF!,"","*") -> #REF! | J72: =IF(J46=#REF!,"","*") -> #REF! | ... AD72: =IF(AD46=#REF!,"","*") -> #REF!
A73: 宜蘭縣 | B73: Yilan County | C73: =IF(C47=C16,"","*") | D73: =IF(D47=D16,"","*") | E73: =IF(E47=E16,"","*") | F73: =IF(F47=F16,"","*") | G73: =IF(G47=G16,"","*") | H73: =IF(H47=H16,"","*") | I73: =IF(I47=I16,"","*") | J73: =IF(J47=J16,"","*") | ... AD73: =IF(AD47=AD16,"","*")
A74: 新竹縣 | B74: Hsinchu County | C74: =IF(C48=C17,"","*") | D74: =IF(D48=D17,"","*") | E74: =IF(E48=E17,"","*") | F74: =IF(F48=F17,"","*") | G74: =IF(G48=G17,"","*") | H74: =IF(H48=H17,"","*") | I74: =IF(I48=I17,"","*") | J74: =IF(J48=J17,"","*") | ... AD74: =IF(AD48=AD17,"","*")
A75: 苗栗縣 | B75: Miaoli County | C75: =IF(C49=C18,"","*") | D75: =IF(D49=D18,"","*") | E75: =IF(E49=E18,"","*") | F75: =IF(F49=F18,"","*") | G75: =IF(G49=G18,"","*") | H75: =IF(H49=H18,"","*") | I75: =IF(I49=I18,"","*") | J75: =IF(J49=J18,"","*") | ... AD75: =IF(AD49=AD18,"","*")
A76: 彰化縣 | B76: Changhua County | C76: =IF(C50=C19,"","*") | D76: =IF(D50=D19,"","*") | E76: =IF(E50=E19,"","*") | F76: =IF(F50=F19,"","*") | G76: =IF(G50=G19,"","*") | H76: =IF(H50=H19,"","*") | I76: =IF(I50=I19,"","*") | J76: =IF(J50=J19,"","*") | ... AD76: =IF(AD50=AD19,"","*")
A77: 南投縣 | B77: Nantou County | C77: =IF(C51=C20,"","*") | D77: =IF(D51=D20,"","*") | E77: =IF(E51=E20,"","*") | F77: =IF(F51=F20,"","*") | G77: =IF(G51=G20,"","*") | H77: =IF(H51=H20,"","*") | I77: =IF(I51=I20,"","*") | J77: =IF(J51=J20,"","*") | ... AD77: =IF(AD51=AD20,"","*")
A78: 雲林縣 | B78: Yunlin County | C78: =IF(C52=C21,"","*") | D78: =IF(D52=D21,"","*") | E78: =IF(E52=E21,"","*") | F78: =IF(F52=F21,"","*") | G78: =IF(G52=G21,"","*") | H78: =IF(H52=H21,"","*") | I78: =IF(I52=I21,"","*") | J78: =IF(J52=J21,"","*") | ... AD78: =IF(AD52=AD21,"","*")
A79: 嘉義縣 | B79: Chiayi County | C79: =IF(C53=C22,"","*") | D79: =IF(D53=D22,"","*") | E79: =IF(E53=E22,"","*") | F79: =IF(F53=F22,"","*") | G79: =IF(G53=G22,"","*") | H79: =IF(H53=H22,"","*") | I79: =IF(I53=I22,"","*") | J79: =IF(J53=J22,"","*") | ... AD79: =IF(AD53=AD22,"","*")
A80: 屏東縣 | B80: Pingtung County | C80: =IF(C54=C23,"","*") | D80: =IF(D54=D23,"","*") | E80: =IF(E54=E23,"","*") | F80: =IF(F54=F23,"","*") | G80: =IF(G54=G23,"","*") | H80: =IF(H54=H23,"","*") | I80: =IF(I54=I23,"","*") | J80: =IF(J54=J23,"","*") | ... AD80: =IF(AD54=AD23,"","*")
A81: 臺東縣 | B81: Taitung County | C81: =IF(C55=C24,"","*") | D81: =IF(D55=D24,"","*") | E81: =IF(E55=E24,"","*") | F81: =IF(F55=F24,"","*") | G81: =IF(G55=G24,"","*") | H81: =IF(H55=H24,"","*") | I81: =IF(I55=I24,"","*") | J81: =IF(J55=J24,"","*") | ... AD81: =IF(AD55=AD24,"","*")
A82: 花蓮縣 | B82: Hualien County | C82: =IF(C56=C25,"","*") | D82: =IF(D56=D25,"","*") | E82: =IF(E56=E25,"","*") | F82: =IF(F56=F25,"","*") | G82: =IF(G56=G25,"","*") | H82: =IF(H56=H25,"","*") | I82: =IF(I56=I25,"","*") | J82: =IF(J56=J25,"","*") | ... AD82: =IF(AD56=AD25,"","*")
A83: 澎湖縣 | B83: Penghu County | C83: =IF(C57=C26,"","*") | D83: =IF(D57=D26,"","*") | E83: =IF(E57=E26,"","*") | F83: =IF(F57=F26,"","*") | G83: =IF(G57=G26,"","*") | H83: =IF(H57=H26,"","*") | I83: =IF(I57=I26,"","*") | J83: =IF(J57=J26,"","*") | ... AD83: =IF(AD57=AD26,"","*")
A84: 基隆市 | B84: Keelung City | C84: =IF(C58=C27,"","*") | D84: =IF(D58=D27,"","*") | E84: =IF(E58=E27,"","*") | F84: =IF(F58=F27,"","*") | G84: =IF(G58=G27,"","*") | H84: =IF(H58=H27,"","*") | I84: =IF(I58=I27,"","*") | J84: =IF(J58=J27,"","*") | ... AD84: =IF(AD58=AD27,"","*")
... A86: 嘉義市 | B86: Chiayi City | C86: =IF(C60=C29,"","*") | D86: =IF(D60=D29,"","*") | E86: =IF(E60=E29,"","*") | F86: =IF(F60=F29,"","*") | G86: =IF(G60=G29,"","*") | H86: =IF(H60=H29,"","*") | I86: =IF(I60=I29,"","*") | J86: =IF(J60=J29,"","*") | ... AD86: =IF(AD60=AD29,"","*")
A87: 福 建 省 | B87: Fuchien Prov. | C87: =IF(C61=#REF!,"","*") -> #REF! | D87: =IF(D61=#REF!,"","*") -> #REF! | E87: =IF(E61=#REF!,"","*") -> #REF! | F87: =IF(F61=#REF!,"","*") -> #REF! | G87: =IF(G61=#REF!,"","*") -> #REF! | H87: =IF(H61=#REF!,"","*") -> #REF! | I87: =IF(I61=#REF!,"","*") -> #REF! | J87: =IF(J61=#REF!,"","*") -> #REF! | ... AD87: =IF(AD61=#REF!,"","*") -> #REF!
A88: 金門縣 | B88: Kinmen County | C88: =IF(C62=C30,"","*") | D88: =IF(D62=D30,"","*") | E88: =IF(E62=E30,"","*") | F88: =IF(F62=F30,"","*") | G88: =IF(G62=G30,"","*") | H88: =IF(H62=H30,"","*") | I88: =IF(I62=I30,"","*") | J88: =IF(J62=J30,"","*") | ... AD88: =IF(AD62=AD30,"","*")
A89: 連江縣 | B89: Lienchiang County | C89: =IF(C63=C31,"","*") | D89: =IF(D63=D31,"","*") | E89: =IF(E63=E31,"","*") | F89: =IF(F63=F31,"","*") | G89: =IF(G63=G31,"","*") | H89: =IF(H63=H31,"","*") | I89: =IF(I63=I31,"","*") | J89: =IF(J63=J31,"","*") | ... AD89: =IF(AD63=AD31,"","*")

Sheet 2015
A1: 身心障礙者日間照顧及住宿式照顧補助Subsidies of Day Care and Residential Care for Disabled
A3: 104年,2015
A4: 區域別 Locality | C4: 日間照顧及住宿式照顧補助Subsidies for Day Care and Residential Care
C5: 合計 Total | E5: 一般對象 General | K5: 特殊對象 Special
E6: 計 Subtotal | G6: 住宿式照顧 Residential Care | I6: 日間照顧 Day Services Care | K6: 計 Subtotal | M6: 住宿式照顧 Residential Care | O6: 日間照顧 Day Services Care
C7: 年底人數 Persons (End of Year) | D7: 金額 (千元) Amounts (NT$1,000) | E7: 年底人數 Persons (End of Year) | F7: 金額 (千元) Amounts (NT$1,000) | G7: 年底人數 Persons (End of Year) | H7: 金額 (千元) Amounts (NT$1,000) | I7: 年底人數 Persons (End of Year) | J7: 金額 (千元) Amounts (NT$1,000) | K7: 年底人數 Persons (End of Year) | L7: 金額 (千元) Amounts (NT$1,000) | M7: 年底人數 Persons (End of Year) | N7: 金額 (千元) Amounts (NT$1,000) | O7: 年底人數 Persons (End of Year) | P7: 金額 (千元) Amounts (NT$1,000)
A9: 總計 | B9: Total | C9: 41225 | D9: 7642638.7 | E9: 6413 | F9: 1116318.8 | G9: 4739 | H9: 967928.13 | I9: 1674 | J9: 148390.69 | K9: 34812 | L9: 6526319.8 | M9: 33363 | N9: 6359861.5 | O9: 1449 | P9: 166458.29
A10: 新北市 | B10: New Taipei City | C10: 6305 | D10: 1189706.4 | E10: 512 | F10: 88395.259 | G10: 347 | H10: 72379.579 | I10: 165 | J10: 16015.68 | K10: 5793 | L10: 1101311.1 | M10: 5673 | N10: 1088460.1 | O10: 120 | P10: 12850.975
A11: 臺北市 | B11: Taipei City | C11: 5601 | D11: 1208106.2 | E11: 2591 | F11: 539539.83 | G11: 2239 | H11: 505280.22 | I11: 352 | J11: 34259.616 | K11: 3010 | L11: 668566.37 | M11: 2622 | N11: 616326.55 | O11: 388 | P11: 52239.816
A12: 桃園市 | B12: Taoyuan City | C12: 2463 | D12: 447712.18 | E12: 326 | F12: 52617.27 | G12: 250 | H12: 43104.102 | I12: 76 | J12: 9513.168 | K12: 2137 | L12: 395094.91 | M12: 2089 | N12: 390380.66 | O12: 48 | P12: 4714.253
A13: 臺中市 | B13: Taichung City | C13: 5220 | D13: 863017.2 | E13: 599 | F13: 84529.206 | G13: 376 | H13: 65998.785 | I13: 223 | J13: 18530.421 | K13: 4621 | L13: 778487.99 | M13: 4498 | N13: 766401.86 | O13: 123 | P13: 12086.133
A14: 臺南市 | B14: Tainan City | C14: 2146 | D14: 406408.68 | E14: 305 | F14: 43108.026 | G14: 175 | H14: 32258.645 | I14: 130 | J14: 10849.381 | K14: 1841 | L14: 363300.66 | M14: 1731 | N14: 351649.62 | O14: 110 | P14: 11651.031
A15: 高雄市 | B15: Kaohsiung City | C15: 3687 | D15: 603934.76 | E15: 538 | F15: 58805.641 | G15: 190 | H15: 35151.659 | I15: 348 | J15: 23653.982 | K15: 3149 | L15: 545129.12 | M15: 2911 | N15: 522302.45 | O15: 238 | P15: 22826.67
A16: 宜蘭縣 | B16: Yilan County | C16: 1537 | D16: 278761.86 | E16: 100 | F16: 16061.843 | G16: 75 | H16: 13597.366 | I16: 25 | J16: 2464.477 | K16: 1437 | L16: 262700.02 | M16: 1347 | N16: 250523.18 | O16: 90 | P16: 12176.84
A17: 新竹縣 | B17: Hsinchu County | C17: 1060 | D17: 191730.71 | E17: 108 | F17: 17340.168 | G17: 87 | H17: 14462.855 | I17: 21 | J17: 2877.313 | K17: 952 | L17: 174390.54 | M17: 933 | N17: 171004.99 | O17: 19 | P17: 3385.556
A18: 苗栗縣 | B18: Miaoli County | C18: 1284 | D18: 248630.51 | E18: 91 | F18: 14004.466 | G18: 70 | H18: 12496.014 | I18: 21 | J18: 1508.452 | K18: 1193 | L18: 234626.05 | M18: 1166 | N18: 231514.46 | O18: 27 | P18: 3111.585
A19: 彰化縣 | B19: Changhua County | C19: 1990 | D19: 369012.01 | E19: 295 | F19: 46642.652 | G19: 181 | H19: 35159.148 | I19: 114 | J19: 11483.504 | K19: 1695 | L19: 322369.35 | M19: 1643 | N19: 316796.94 | O19: 52 | P19: 5572.415
A20: 南投縣 | B20: Nantou County | C20: 1539 | D20: 293687.19 | E20: 141 | F20: 25869.952 | G20: 128 | H20: 24659.774 | I20: 13 | J20: 1210.178 | K20: 1398 | L20: 267817.24 | M20: 1382 | N20: 266417.66 | O20: 16 | P20: 1399.581
... A31: 連江縣 | B31: Lienchiang County | C31: 14 | D31: 2164.939 | E31: 1 | F31: 189 | G31: 1 | H31: 189 | I31: 0 | J31: 0 | K31: 13 | L31: 1975.939 | M31: 13 | N31: 1975.939 | O31: 0 | P31: 0
A32: 資料來源：直轄市、縣(市)政府。
A33: 附 註：1.一般對象：依身心障礙者日間照顧及住宿式照顧費用補助辦法第5條而發給之補助對象。
A34: 2.特殊對象：依身心障礙者日間照顧及住宿式照顧費用補助辦法第6條而發給之補助對象。
A36: Source : County and City Government.
A38: 更新日期：2016/05/16
A40: 總計 | B40: Total | C40: 41225 | D40: 7642638.7 | E40: 6413 | F40: 1116318.8 | G40: 4739 | H40: 967928.13 | I40: 1674 | J40: 148390.69 | K40: 34812 | L40: 6526319.8 | M40: 33363 | N40: 6359861.5 | O40: 1449 | P40: 166458.29
A41: 新 北 市 | B41: New Taipei City | C41: 6305 | D41: 1189706.4 | E41: 512 | F41: 88395.259 | G41: 347 | H41: 72379.579 | I41: 165 | J41: 16015.68 | K41: 5793 | L41: 1101311.1 | M41: 5673 | N41: 1088460.1 | O41: 120 | P41: 12850.975
A42: 臺 北 市 | B42: Taipei City | C42: 5601 | D42: 1208106.2 | E42: 2591 | F42: 539539.83 | G42: 2239 | H42: 505280.22 | I42: 352 | J42: 34259.616 | K42: 3010 | L42: 668566.37 | M42: 2622 | N42: 616326.55 | O42: 388 | P42: 52239.816
A43: 桃 園 市 | B43: Taoyuan City | C43: 2463 | D43: 447712.18 | E43: 326 | F43: 52617.27 | G43: 250 | H43: 43104.102 | I43: 76 | J43: 9513.168 | K43: 2137 | L43: 395094.91 | M43: 2089 | N43: 390380.66 | O43: 48 | P43: 4714.253
A44: 臺 中 市 | B44: Taichung City | C44: 5220 | D44: 863017.2 | E44: 599 | F44: 84529.206 | G44: 376 | H44: 65998.785 | I44: 223 | J44: 18530.421 | K44: 4621 | L44: 778487.99 | M44: 4498 | N44: 766401.86 | O44: 123 | P44: 12086.133
A45: 臺 南 市 | B45: Tainan City | C45: 2146 | D45: 406408.68 | E45: 305 | F45: 43108.026 | G45: 175 | H45: 32258.645 | I45: 130 | J45: 10849.381 | K45: 1841 | L45: 363300.66 | M45: 1731 | N45: 351649.62 | O45: 110 | P45: 11651.031
A46: 高 雄 市 | B46: Kaohsiung City | C46: 3687 | D46: 603934.76 | E46: 538 | F46: 58805.641 | G46: 190 | H46: 35151.659 | I46: 348 | J46: 23653.982 | K46: 3149 | L46: 545129.12 | M46: 2911 | N46: 522302.45 | O46: 238 | P46: 22826.67
A47: 臺 灣 省 | B47: Taiwan Prov. | C47: 15622 | D47: 2884762.4 | E47: 1489 | F47: 236221.18 | G47: 1109 | H47: 200652.73 | I47: 380 | J47: 35568.444 | K47: 14133 | L47: 2648541.2 | M47: 13712 | N47: 2598574.2 | O47: 421 | P47: 49967.012
A48: 宜蘭縣 | B48: Yilan County | C48: 1537 | D48: 278761.86 | E48: 100 | F48: 16061.843 | G48: 75 | H48: 13597.366 | I48: 25 | J48: 2464.477 | K48: 1437 | L48: 262700.02 | M48: 1347 | N48: 250523.18 | O48: 90 | P48: 12176.84
A49: 新竹縣 | B49: Hsinchu County | C49: 1060 | D49: 191730.71 | E49: 108 | F49: 17340.168 | G49: 87 | H49: 14462.855 | I49: 21 | J49: 2877.313 | K49: 952 | L49: 174390.54 | M49: 933 | N49: 171004.99 | O49: 19 | P49: 3385.556
A50: 苗栗縣 | B50: Miaoli County | C50: 1284 | D50: 248630.51 | E50: 91 | F50: 14004.466 | G50: 70 | H50: 12496.014 | I50: 21 | J50: 1508.452 | K50: 1193 | L50: 234626.05 | M50: 1166 | N50: 231514.46 | O50: 27 | P50: 3111.585
A51: 彰化縣 | B51: Changhua County | C51: 1990 | D51: 369012.01 | E51: 295 | F51: 46642.652 | G51: 181 | H51: 35159.148 | I51: 114 | J51: 11483.504 | K51: 1695 | L51: 322369.35 | M51: 1643 | N51: 316796.94 | O51: 52 | P51: 5572.415
... A64: 連江縣 | B64: Lienchiang County | C64: 14 | D64: 2164.939 | E64: 1 | F64: 189 | G64: 1 | H64: 189 | I64: 0 | J64: 0 | K64: 13 | L64: 1975.939 | M64: 13 | N64: 1975.939 | O64: 0 | P64: 0
A66: 總計 | B66: Total | C66: =IF(C40=C9,"","*") | D66: =IF(D40=D9,"","*") | E66: =IF(E40=E9,"","*") | F66: =IF(F40=F9,"","*") | G66: =IF(G40=G9,"","*") | H66: =IF(H40=H9,"","*") | I66: =IF(I40=I9,"","*") | J66: =IF(J40=J9,"","*") | ... P66: =IF(P40=P9,"","*")
A67: 新 北 市 | B67: New Taipei City | C67: =IF(C41=C10,"","*") | D67: =IF(D41=D10,"","*") | E67: =IF(E41=E10,"","*") | F67: =IF(F41=F10,"","*") | G67: =IF(G41=G10,"","*") | H67: =IF(H41=H10,"","*") | I67: =IF(I41=I10,"","*") | J67: =IF(J41=J10,"","*") | ... P67: =IF(P41=P10,"","*")
A68: 臺 北 市 | B68: Taipei City | C68: =IF(C42=C11,"","*") | D68: =IF(D42=D11,"","*") | E68: =IF(E42=E11,"","*") | F68: =IF(F42=F11,"","*") | G68: =IF(G42=G11,"","*") | H68: =IF(H42=H11,"","*") | I68: =IF(I42=I11,"","*") | J68: =IF(J42=J11,"","*") | ... P68: =IF(P42=P11,"","*")
A69: 桃 園 市 | B69: Taoyuan City | C69: =IF(C43=C12,"","*") | D69: =IF(D43=D12,"","*") | E69: =IF(E43=E12,"","*") | F69: =IF(F43=F12,"","*") | G69: =IF(G43=G12,"","*") | H69: =IF(H43=H12,"","*") | I69: =IF(I43=I12,"","*") | J69: =IF(J43=J12,"","*") | ... P69: =IF(P43=P12,"","*")
A70: 臺 中 市 | B70: Taichung City | C70: =IF(C44=C13,"","*") | D70: =IF(D44=D13,"","*") | E70: =IF(E44=E13,"","*") | F70: =IF(F44=F13,"","*") | G70: =IF(G44=G13,"","*") | H70: =IF(H44=H13,"","*") | I70: =IF(I44=I13,"","*") | J70: =IF(J44=J13,"","*") | ... P70: =IF(P44=P13,"","*")
A71: 臺 南 市 | B71: Tainan City | C71: =IF(C45=C14,"","*") | D71: =IF(D45=D14,"","*") | E71: =IF(E45=E14,"","*") | F71: =IF(F45=F14,"","*") | G71: =IF(G45=G14,"","*") | H71: =IF(H45=H14,"","*") | I71: =IF(I45=I14,"","*") | J71: =IF(J45=J14,"","*") | ... P71: =IF(P45=P14,"","*")
A72: 高 雄 市 | B72: Kaohsiung City | C72: =IF(C46=C15,"","*") | D72: =IF(D46=D15,"","*") | E72: =IF(E46=E15,"","*") | F72: =IF(F46=F15,"","*") | G72: =IF(G46=G15,"","*") | H72: =IF(H46=H15,"","*") | I72: =IF(I46=I15,"","*") | J72: =IF(J46=J15,"","*") | ... P72: =IF(P46=P15,"","*")
A73: 臺 灣 省 | B73: Taiwan Prov. | C73: =IF(C47=#REF!,"","*") -> #REF! | D73: =IF(D47=#REF!,"","*") -> #REF! | E73: =IF(E47=#REF!,"","*") -> #REF! | F73: =IF(F47=#REF!,"","*") -> #REF! | G73: =IF(G47=#REF!,"","*") -> #REF! | H73: =IF(H47=#REF!,"","*") -> #REF! | I73: =IF(I47=#REF!,"","*") -> #REF! | J73: =IF(J47=#REF!,"","*") -> #REF! | ... P73: =IF(P47=#REF!,"","*") -> #REF!
A74: 宜蘭縣 | B74: Yilan County | C74: =IF(C48=C16,"","*") | D74: =IF(D48=D16,"","*") | E74: =IF(E48=E16,"","*") | F74: =IF(F48=F16,"","*") | G74: =IF(G48=G16,"","*") | H74: =IF(H48=H16,"","*") | I74: =IF(I48=I16,"","*") | J74: =IF(J48=J16,"","*") | ... P74: =IF(P48=P16,"","*")
A75: 新竹縣 | B75: Hsinchu County | C75: =IF(C49=C17,"","*") | D75: =IF(D49=D17,"","*") | E75: =IF(E49=E17,"","*") | F75: =IF(F49=F17,"","*") | G75: =IF(G49=G17,"","*") | H75: =IF(H49=H17,"","*") | I75: =IF(I49=I17,"","*") | J75: =IF(J49=J17,"","*") | ... P75: =IF(P49=P17,"","*")
A76: 苗栗縣 | B76: Miaoli County | C76: =IF(C50=C18,"","*") | D76: =IF(D50=D18,"","*") | E76: =IF(E50=E18,"","*") | F76: =IF(F50=F18,"","*") | G76: =IF(G50=G18,"","*") | H76: =IF(H50=H18,"","*") | I76: =IF(I50=I18,"","*") | J76: =IF(J50=J18,"","*") | ... P76: =IF(P50=P18,"","*")
A77: 彰化縣 | B77: Changhua County | C77: =IF(C51=C19,"","*") | D77: =IF(D51=D19,"","*") | E77: =IF(E51=E19,"","*") | F77: =IF(F51=F19,"","*") | G77: =IF(G51=G19,"","*") | H77: =IF(H51=H19,"","*") | I77: =IF(I51=I19,"","*") | J77: =IF(J51=J19,"","*") | ... P77: =IF(P51=P19,"","*")
A78: 南投縣 | B78: Nantou County | C78: =IF(C52=C20,"","*") | D78: =IF(D52=D20,"","*") | E78: =IF(E52=E20,"","*") | F78: =IF(F52=F20,"","*") | G78: =IF(G52=G20,"","*") | H78: =IF(H52=H20,"","*") | I78: =IF(I52=I20,"","*") | J78: =IF(J52=J20,"","*") | ... P78: =IF(P52=P20,"","*")
A79: 雲林縣 | B79: Yunlin County | C79: =IF(C53=C21,"","*") | D79: =IF(D53=D21,"","*") | E79: =IF(E53=E21,"","*") | F79: =IF(F53=F21,"","*") | G79: =IF(G53=G21,"","*") | H79: =IF(H53=H21,"","*") | I79: =IF(I53=I21,"","*") | J79: =IF(J53=J21,"","*") | ... P79: =IF(P53=P21,"","*")
A80: 嘉義縣 | B80: Chiayi County | C80: =IF(C54=C22,"","*") | D80: =IF(D54=D22,"","*") | E80: =IF(E54=E22,"","*") | F80: =IF(F54=F22,"","*") | G80: =IF(G54=G22,"","*") | H80: =IF(H54=H22,"","*") | I80: =IF(I54=I22,"","*") | J80: =IF(J54=J22,"","*") | ... P80: =IF(P54=P22,"","*")
A81: 屏東縣 | B81: Pingtung County | C81: =IF(C55=C23,"","*") | D81: =IF(D55=D23,"","*") | E81: =IF(E55=E23,"","*") | F81: =IF(F55=F23,"","*") | G81: =IF(G55=G23,"","*") | H81: =IF(H55=H23,"","*") | I81: =IF(I55=I23,"","*") | J81: =IF(J55=J23,"","*") | ... P81: =IF(P55=P23,"","*")
A82: 臺東縣 | B82: Taitung County | C82: =IF(C56=C24,"","*") | D82: =IF(D56=D24,"","*") | E82: =IF(E56=E24,"","*") | F82: =IF(F56=F24,"","*") | G82: =IF(G56=G24,"","*") | H82: =IF(H56=H24,"","*") | I82: =IF(I56=I24,"","*") | J82: =IF(J56=J24,"","*") | ... P82: =IF(P56=P24,"","*")
A83: 花蓮縣 | B83: Hualien County | C83: =IF(C57=C25,"","*") | D83: =IF(D57=D25,"","*") | E83: =IF(E57=E25,"","*") | F83: =IF(F57=F25,"","*") | G83: =IF(G57=G25,"","*") | H83: =IF(H57=H25,"","*") | I83: =IF(I57=I25,"","*") | J83: =IF(J57=J25,"","*") | ... P83: =IF(P57=P25,"","*")
A84: 澎湖縣 | B84: Penghu County | C84: =IF(C58=C26,"","*") | D84: =IF(D58=D26,"","*") | E84: =IF(E58=E26,"","*") | F84: =IF(F58=F26,"","*") | G84: =IF(G58=G26,"","*") | H84: =IF(H58=H26,"","*") | I84: =IF(I58=I26,"","*") | J84: =IF(J58=J26,"","*") | ... P84: =IF(P58=P26,"","*")
A85: 基隆市 | B85: Keelung City | C85: =IF(C59=C27,"","*") | D85: =IF(D59=D27,"","*") | E85: =IF(E59=E27,"","*") | F85: =IF(F59=F27,"","*") | G85: =IF(G59=G27,"","*") | H85: =IF(H59=H27,"","*") | I85: =IF(I59=I27,"","*") | J85: =IF(J59=J27,"","*") | ... P85: =IF(P59=P27,"","*")
... A87: 嘉義市 | B87: Chiayi City | C87: =IF(C61=C29,"","*") | D87: =IF(D61=D29,"","*") | E87: =IF(E61=E29,"","*") | F87: =IF(F61=F29,"","*") | G87: =IF(G61=G29,"","*") | H87: =IF(H61=H29,"","*") | I87: =IF(I61=I29,"","*") | J87: =IF(J61=J29,"","*") | ... P87: =IF(P61=P29,"","*")
A88: 福 建 省 | B88: Fuchien Prov. | C88: =IF(C62=#REF!,"","*") -> #REF! | D88: =IF(D62=#REF!,"","*") -> #REF! | E88: =IF(E62=#REF!,"","*") -> #REF! | F88: =IF(F62=#REF!,"","*") -> #REF! | G88: =IF(G62=#REF!,"","*") -> #REF! | H88: =IF(H62=#REF!,"","*") -> #REF! | I88: =IF(I62=#REF!,"","*") -> #REF! | J88: =IF(J62=#REF!,"","*") -> #REF! | ... P88: =IF(P62=#REF!,"","*") -> #REF!
A89: 金門縣 | B89: Kinmen County | C89: =IF(C63=C30,"","*") | D89: =IF(D63=D30,"","*") | E89: =IF(E63=E30,"","*") | F89: =IF(F63=F30,"","*") | G89: =IF(G63=G30,"","*") | H89: =IF(H63=H30,"","*") | I89: =IF(I63=I30,"","*") | J89: =IF(J63=J30,"","*") | ... P89: =IF(P63=P30,"","*")
A90: 連江縣 | B90: Lienchiang County | C90: =IF(C64=C31,"","*") | D90: =IF(D64=D31,"","*") | E90: =IF(E64=E31,"","*") | F90: =IF(F64=F31,"","*") | G90: =IF(G64=G31,"","*") | H90: =IF(H64=H31,"","*") | I90: =IF(I64=I31,"","*") | J90: =IF(J64=J31,"","*") | ... P90: =IF(P64=P31,"","*")
