Workbook

Sheet 歷年
A1: 身心障礙者日間照顧及住宿式照顧補助Subsidies of Day Care and Residential Care for Disabled
A3: 年別 Years | B3: 合計 Total | F3: 一般對象 General | R3: 特殊對象 Special
F4: 計 Subtotal | J4: 住宿式照顧 Residential Care | N4: 日間照顧 Day Services Care | R4: 計 Subtotal | V4: 住宿式照顧 Residential Care | Z4: 日間照顧 Day Services Care
B5: 期底人數 Persons (End of Year) | E5: 金額 (千元) Amounts (NT$1,000) | F5: 期底人數 Persons (End of Year) | I5: 金額 (千元) Amounts (NT$1,000) | J5: 期底人數 Persons (End of Year) | M5: 金額 (千元) Amounts (NT$1,000) | N5: 期底人數 Persons (End of Year) | Q5: 金額 (千元) Amounts (NT$1,000) | R5: 期底人數 Persons (End of Year) | U5: 金額 (千元) Amounts (NT$1,000) | V5: 期底人數 Persons (End of Year) | Y5: 金額 (千元) Amounts (NT$1,000) | Z5: 期底人數 Persons (End of Year) | AC5: 金額 (千元) Amounts (NT$1,000)
B6: 計 Subtotal | C6: 男 Male | D6: 女 Female | F6: 計 Subtotal | G6: 男 Male | H6: 女 Female | J6: 計 Subtotal | K6: 男 Male | L6: 女 Female | N6: 計 Subtotal | O6: 男 Male | P6: 女 Female | R6: 計 Subtotal | S6: 男 Male | T6: 女 Female | V6: 計 Subtotal | W6: 男 Male | X6: 女 Female | Z6: 計 Subtotal | AA6: 男 Male | AB6: 女 Female
A7: 104年,2015 | B7: ='2015'!C9 -> 41225 | C7: ... | D7: ... | E7: ='2015'!D9 -> 7642638.7 | F7: ='2015'!E9 -> 6413 | G7: ... | H7: ... | I7: ='2015'!F9 -> 1116318.8 | J7: ='2015'!G9 -> 4739 | K7: ... | L7: ... | M7: ='2015'!H9 -> 967928.13 | N7: ='2015'!I9 -> 1674 | O7: ... | P7: ... | Q7: ='2015'!J9 -> 148390.69 | R7: ='2015'!K9 -> 34812 | S7: ... | T7: ... | U7: ='2015'!L9 -> 6526319.8 | V7: ='2015'!M9 -> 33363 | W7: ... | X7: ... | Y7: ='2015'!N9 -> 6359861.5 | Z7: ='2015'!O9 -> 1449 | AA7: ... | AB7: ... | AC7: ='2015'!P9 -> 166458.29
A8: 105年,2016 | B8: ='2016'!C9 -> 43300 | C8: ='2016'!D9 -> 24513 | D8: ='2016'!E9 -> 18787 | E8: ='2016'!F9 -> 8025156.5 | F8: ='2016'!G9 -> 6296 | G8: ='2016'!H9 -> 3637 | H8: ='2016'!I9 -> 2659 | I8: ='2016'!J9 -> 1100096 | ... AC8: ='2016'!AD9 -> 164831.99
A9: 106年,2017 | B9: ='2017'!C9 -> 45930 | C9: ='2017'!D9 -> 25652 | D9: ='2017'!E9 -> 20278 | E9: ='2017'!F9 -> 8504325.5 | F9: ='2017'!G9 -> 6411 | G9: ='2017'!H9 -> 3675 | H9: ='2017'!I9 -> 2736 | I9: ='2017'!J9 -> 1160777.6 | ... AC9: ='2017'!AD9 -> 175813.64
A10: 107年,2018 | B10: ='2018'!C9 -> 47841 | C10: ='2018'!D9 -> 26599 | D10: ='2018'!E9 -> 21242 | E10: ='2018'!F9 -> 8801920.4 | F10: ='2018'!G9 -> 6529 | G10: ='2018'!H9 -> 3819 | H10: ='2018'!I9 -> 2710 | I10: ='2018'!J9 -> 1119925.3 | ... AC10: ='2018'!AD9 -> 180605.18
A11: 108年,2019 | B11: ='2019'!C9 -> 49096 | C11: ='2019'!D9 -> 27081 | D11: ='2019'!E9 -> 22015 | E11: ='2019'!F9 -> 8967773.8 | F11: ='2019'!G9 -> 7970 | G11: ='2019'!H9 -> 4682 | H11: ='2019'!I9 -> 3288 | I11: ='2019'!J9 -> 1519065.8 | ... AC11: ='2019'!AD9 -> 169961.74
A12: 109年,2020 | B12: ='2020'!C9 -> 50815 | C12: ='2020'!D9 -> 27736 | D12: ='2020'!E9 -> 23079 | E12: ='2020'!F9 -> 9332138.1 | F12: ='2020'!G9 -> 8148 | G12: ='2020'!H9 -> 4738 | H12: ='2020'!I9 -> 3410 | I12: ='2020'!J9 -> 1560087.1 | ... AC12: ='2020'!AD9 -> 185999.29
A13: 110年,2021 | B13: ='2021'!C9 -> 50420 | C13: ='2021'!D9 -> 27298 | D13: ='2021'!E9 -> 23122 | E13: ='2021'!F9 -> 9438777 | F13: ='2021'!G9 -> 7789 | G13: ='2021'!H9 -> 4487 | H13: ='2021'!I9 -> 3302 | I13: ='2021'!J9 -> 1525956.2 | ... AC13: ='2021'!AD9 -> 196539.23
A14: 111年,2022 | B14: ='2022'!C9 -> 48959 | C14: ='2022'!D9 -> 26272 | D14: ='2022'!E9 -> 22687 | E14: ='2022'!F9 -> 9231312.3 | F14: ='2022'!G9 -> 7500 | G14: ='2022'!H9 -> 4304 | H14: ='2022'!I9 -> 3196 | I14: ='2022'!J9 -> 1474516.2 | ... AC14: ='2022'!AD9 -> 199469.26
A15: 112年,2023 | B15: ='2023'!C9 -> 47837 | C15: ='2023'!D9 -> 25632 | D15: ='2023'!E9 -> 22205 | E15: ='2023'!F9 -> 9059788.9 | F15: ='2023'!G9 -> 7313 | G15: ='2023'!H9 -> 4161 | H15: ='2023'!I9 -> 3152 | I15: ='2023'!J9 -> 1435378.6 | ... AC15: ='2023'!AD9 -> 201145.63
A16: 113年,2024 | B16: ='2024'!C9 -> 45751 | C16: ='2024'!D9 -> 24578 | D16: ='2024'!E9 -> 21173 | E16: ='2024'!F9 -> 9120162.1 | F16: ='2024'!G9 -> 6750 | G16: ='2024'!H9 -> 3876 | H16: ='2024'!I9 -> 2874 | I16: ='2024'!J9 -> 1370225.2 | ... AC16: ='2024'!AD9 -> 208517.04
A17: 第1季 Q1 | B17: ='Q1,2024'!C9 -> 47423 | C17: ='Q1,2024'!D9 -> 25351 | D17: ='Q1,2024'!E9 -> 22072 | E17: ='Q1,2024'!F9 -> 2255953.1 | F17: ='Q1,2024'!G9 -> 6710 | G17: ='Q1,2024'!H9 -> 3828 | H17: ='Q1,2024'!I9 -> 2882 | I17: ='Q1,2024'!J9 -> 335329.73 | ... AC17: ='Q1,2024'!AD9 -> 50117.547
A18: 第2季 Q2 | B18: ='Q2,2024'!C9 -> 47197 | C18: ='Q2,2024'!D9 -> 25241 | D18: ='Q2,2024'!E9 -> 21956 | E18: ='Q2,2024'!F9 -> 2316506.8 | F18: ='Q2,2024'!G9 -> 6715 | G18: ='Q2,2024'!H9 -> 3821 | H18: ='Q2,2024'!I9 -> 2894 | I18: ='Q2,2024'!J9 -> 339114.3 | ... AC18: ='Q2,2024'!AD9 -> 53575.549
A19: 第3季 Q3 | B19: ='Q3,2024'!C9 -> 46631 | C19: ='Q3,2024'!D9 -> 24970 | D19: ='Q3,2024'!E9 -> 21661 | E19: ='Q3,2024'!F9 -> 2266117.6 | F19: ='Q3,2024'!G9 -> 6813 | G19: ='Q3,2024'!H9 -> 3877 | H19: ='Q3,2024'!I9 -> 2936 | I19: ='Q3,2024'!J9 -> 347924.03 | ... AC19: ='Q3,2024'!AD9 -> 52504.96
A20: 第4季 Q4 | B20: ='Q4,2024'!C9 -> 45751 | C20: ='Q4,2024'!D9 -> 24578 | D20: ='Q4,2024'!E9 -> 21173 | E20: ='Q4,2024'!F9 -> 2281584.6 | F20: ='Q4,2024'!G9 -> 6750 | G20: ='Q4,2024'!H9 -> 3876 | H20: ='Q4,2024'!I9 -> 2874 | I20: ='Q4,2024'!J9 -> 347857.13 | ... AC20: ='Q4,2024'!AD9 -> 52318.98
A21: 114年,2025 | B21: ='2025'!C9 -> 43857 | C21: ='2025'!D9 -> 23686 | D21: ='2025'!E9 -> 20171 | E21: ='2025'!F9 -> 9026237.2 | F21: ='2025'!G9 -> 3993 | G21: ='2025'!H9 -> 2479 | H21: ='2025'!I9 -> 1514 | I21: ='2025'!J9 -> 1239994.2 | ... AC21: ='2025'!AD9 -> 223606.53
A22: 第1季 Q1 | B22: ='Q1, 2025'!C9 -> 45625 | C22: ='Q1, 2025'!D9 -> 24508 | D22: ='Q1, 2025'!E9 -> 21117 | E22: ='Q1, 2025'!F9 -> 2241908.8 | F22: ='Q1, 2025'!G9 -> 6672 | G22: ='Q1, 2025'!H9 -> 3822 | H22: ='Q1, 2025'!I9 -> 2850 | I22: ='Q1, 2025'!J9 -> 344312.57 | ... AC22: ='Q1, 2025'!AD9 -> 52052.694
A23: 第2季 Q2 | B23: ='Q2, 2025'!C9 -> 45354 | C23: ='Q2, 2025'!D9 -> 24411 | D23: ='Q2, 2025'!E9 -> 20943 | E23: ='Q2, 2025'!F9 -> 2273898.2 | F23: ='Q2, 2025'!G9 -> 6786 | G23: ='Q2, 2025'!H9 -> 3885 | H23: ='Q2, 2025'!I9 -> 2901 | I23: ='Q2, 2025'!J9 -> 350704.76 | ... AC23: ='Q2, 2025'!AD9 -> 56113.13
A24: 第3季 Q3 | B24: ='Q3, 2025'!C9 -> 44778 | C24: ='Q3, 2025'!D9 -> 24176 | D24: ='Q3, 2025'!E9 -> 20602 | E24: ='Q3, 2025'!F9 -> 2216454.2 | F24: ='Q3, 2025'!G9 -> 6676 | G24: ='Q3, 2025'!H9 -> 3816 | H24: ='Q3, 2025'!I9 -> 2860 | I24: ='Q3, 2025'!J9 -> 345775.73 | ... AC24: ='Q3, 2025'!AD9 -> 56654.678
A25: 第4季 Q4 | B25: ='Q4, 2025'!C9 -> 43857 | C25: ='Q4, 2025'!D9 -> 23686 | D25: ='Q4, 2025'!E9 -> 20171 | E25: ='Q4, 2025'!F9 -> 2293976 | F25: ='Q4, 2025'!G9 -> 3993 | G25: ='Q4, 2025'!H9 -> 2479 | H25: ='Q4, 2025'!I9 -> 1514 | I25: ='Q4, 2025'!J9 -> 199201.15 | ... AC25: ='Q4, 2025'!AD9 -> 58786.032
A26: 資料來源：直轄市、縣(市)政府。
A27: Source : County and City Government.
A28: 附 註：1.一般對象：依身心障礙者日間照顧及住宿式照顧費用補助辦法第5條而發給之補助對象。
A29: 2.特殊對象：依身心障礙者日間照顧及住宿式照顧費用補助辦法第6條而發給之補助對象。
A30: 3.臺北市精神復健機構及護理之家符合特殊對象資格者，均調整為補助至家庭總收入平均分配全家人口之金額在當年度每人每月最低生活費五倍以上未達六倍者，並於114年10月底完成補助金額調整作業，因此114年第4季住宿式照顧補助個案由一般對象轉為特殊對象。
A31: 更新日期：2026/02/23

Sheet 2025
A1: 身心障礙者日間照顧及住宿式照顧補助Subsidies of Day Care and Residential Care for Disabled
A3: 114年,2025 | C3: =IF(C9=SUM(C10:C31),"",SUM(C10:C31)) | D3: =IF(D9=SUM(D10:D31),"",SUM(D10:D31)) | E3: =IF(E9=SUM(E10:E31),"",SUM(E10:E31)) | F3: =IF(F9=SUM(F10:F31),"",SUM(F10:F31)) | G3: =IF(G9=SUM(G10:G31),"",SUM(G10:G31)) | H3: =IF(H9=SUM(H10:H31),"",SUM(H10:H31)) | I3: =IF(I9=SUM(I10:I31),"",SUM(I10:I31)) | J3: =IF(J9=SUM(J10:J31),"",SUM(J10:J31)) | ... AD3: =IF(AD9=SUM(AD10:AD31),"",SUM(AD10:AD31))
A4: 區域別 Locality | C4: 日間照顧及住宿式照顧補助Subsidies for Day Care and Residential Care
C5: 合計 Total | G5: 一般對象 General | S5: 特殊對象 Special
G6: 計 Subtotal | K6: 住宿式照顧 Residential Care | O6: 日間照顧 Day Care | S6: 計 Subtotal | W6: 住宿式照顧 Residential Care | AA6: 日間照顧 Day Care
C7: 期底人數 Persons (End of Year) | F7: 金額 (千元) Amounts (NT$1,000) | G7: 期底人數 Persons (End of Year) | J7: 金額 (千元) Amounts (NT$1,000) | K7: 期底人數 Persons (End of Year) | N7: 金額 (千元) Amounts (NT$1,000) | O7: 期底人數 Persons (End of Year) | R7: 金額 (千元) Amounts (NT$1,000) | S7: 期底人數 Persons (End of Year) | V7: 金額 (千元) Amounts (NT$1,000) | W7: 期底人數 Persons (End of Year) | Z7: 金額 (千元) Amounts (NT$1,000) | AA7: 期底人數 Persons (End of Year) | AD7: 金額 (千元) Amounts (NT$1,000)
C8: 計 Subtotal | D8: 男 Male | E8: 女 Female | G8: 計 Subtotal | H8: 男 Male | I8: 女 Female | K8: 計 Subtotal | L8: 男 Male | M8: 女 Female | O8: 計 Subtotal | P8: 男 Male | Q8: 女 Female | S8: 計 Subtotal | T8: 男 Male | U8: 女 Female | W8: 計 Subtotal | X8: 男 Male | Y8: 女 Female | AA8: 計 Subtotal | AB8: 男 Male | AC8: 女 Female
A9: 總計 | B9: Total | C9: 43857 | D9: 23686 | E9: 20171 | F9: 9026237.2 | G9: 3993 | H9: 2479 | I9: 1514 | J9: 1239994.2 | K9: 2690 | L9: 1655 | M9: 1035 | N9: 1103936 | O9: 1303 | P9: 824 | Q9: 479 | R9: 136058.2 | S9: 39864 | T9: 21207 | U9: 18657 | V9: 7786243 | W9: 37981 | X9: 20096 | Y9: 17885 | Z9: 7562636.5 | AA9: 1883 | AB9: 1111 | AC9: 772 | AD9: 223606.53
A10: 新北市 | B10: New Taipei City | C10: 7426 | D10: 3701 | E10: 3725 | F10: 1327467.1 | G10: 375 | H10: 233 | I10: 142 | J10: 61191.871 | K10: 231 | L10: 136 | M10: 95 | N10: 46461.111 | O10: 144 | P10: 97 | Q10: 47 | R10: 14730.76 | S10: 7051 | T10: 3468 | U10: 3583 | V10: 1266275.3 | W10: 6886 | X10: 3371 | Y10: 3515 | Z10: 1247591.4 | AA10: 165 | AB10: 97 | AC10: 68 | AD10: 18683.86
A11: 臺北市 | B11: Taipei City | C11: 5493 | D11: 3019 | E11: 2474 | F11: 1312312.5 | G11: 1641 | H11: 1001 | I11: 640 | J11: 867863.86 | K11: 1413 | L11: 872 | M11: 541 | N11: 837780.17 | O11: 228 | P11: 129 | Q11: 99 | R11: 30083.691 | S11: 3852 | T11: 2018 | U11: 1834 | V11: 444448.68 | W11: 3415 | X11: 1761 | Y11: 1654 | Z11: 382602.73 | AA11: 437 | AB11: 257 | AC11: 180 | AD11: 61845.951
A12: 桃園市 | B12: Taoyuan City | C12: 3824 | D12: 1978 | E12: 1846 | F12: 812651.2 | G12: 206 | H12: 120 | I12: 86 | J12: 36818.187 | K12: 143 | L12: 82 | M12: 61 | N12: 29533.958 | O12: 63 | P12: 38 | Q12: 25 | R12: 7284.229 | S12: 3618 | T12: 1858 | U12: 1760 | V12: 775833.01 | W12: 3549 | X12: 1815 | Y12: 1734 | Z12: 766571.36 | AA12: 69 | AB12: 43 | AC12: 26 | AD12: 9261.647
A13: 臺中市 | B13: Taichung City | C13: 3862 | D13: 2196 | E13: 1666 | F13: 789879.3 | G13: 327 | H13: 187 | I13: 140 | J13: 45685.6 | K13: 121 | L13: 66 | M13: 55 | N13: 24306.538 | O13: 206 | P13: 121 | Q13: 85 | R13: 21379.062 | S13: 3535 | T13: 2009 | U13: 1526 | V13: 744193.69 | W13: 3255 | X13: 1857 | Y13: 1398 | Z13: 713074.09 | AA13: 280 | AB13: 152 | AC13: 128 | AD13: 31119.605
A14: 臺南市 | B14: Tainan City | C14: 2242 | D14: 1382 | E14: 860 | F14: 468741.24 | G14: 174 | H14: 117 | I14: 57 | J14: 25157.637 | K14: 79 | L14: 58 | M14: 21 | N14: 16480.371 | O14: 95 | P14: 59 | Q14: 36 | R14: 8677.266 | S14: 2068 | T14: 1265 | U14: 803 | V14: 443583.6 | W14: 1900 | X14: 1160 | Y14: 740 | Z14: 423762.05 | AA14: 168 | AB14: 105 | AC14: 63 | AD14: 19821.55
A15: 高雄市 | B15: Kaohsiung City | C15: 4826 | D15: 2576 | E15: 2250 | F15: 931544.58 | G15: 374 | H15: 252 | I15: 122 | J15: 48536.133 | K15: 117 | L15: 79 | M15: 38 | N15: 25563.361 | O15: 257 | P15: 173 | Q15: 84 | R15: 22972.772 | S15: 4452 | T15: 2324 | U15: 2128 | V15: 883008.45 | W15: 4241 | X15: 2204 | Y15: 2037 | Z15: 861215.92 | AA15: 211 | AB15: 120 | AC15: 91 | AD15: 21792.526
A16: 宜蘭縣 | B16: Yilan County | C16: 1532 | D16: 776 | E16: 756 | F16: 310764.42 | G16: 61 | H16: 42 | I16: 19 | J16: 10063.65 | K16: 46 | L16: 31 | M16: 15 | N16: 8901.404 | O16: 15 | P16: 11 | Q16: 4 | R16: 1162.246 | S16: 1471 | T16: 734 | U16: 737 | V16: 300700.77 | W16: 1382 | X16: 682 | Y16: 700 | Z16: 290909 | AA16: 89 | AB16: 52 | AC16: 37 | AD16: 9791.767
A17: 新竹縣 | B17: Hsinchu County | C17: 856 | D17: 470 | E17: 386 | F17: 168733.31 | G17: 53 | H17: 34 | I17: 19 | J17: 8021.939 | K17: 38 | L17: 21 | M17: 17 | N17: 6631.473 | O17: 15 | P17: 13 | Q17: 2 | R17: 1390.466 | S17: 803 | T17: 436 | U17: 367 | V17: 160711.37 | W17: 774 | X17: 417 | Y17: 357 | Z17: 157604.8 | AA17: 29 | AB17: 19 | AC17: 10 | AD17: 3106.569
A18: 苗栗縣 | B18: Miaoli County | C18: 1358 | D18: 739 | E18: 619 | F18: 285031.64 | G18: 42 | H18: 29 | I18: 13 | J18: 6021.287 | K18: 28 | L18: 19 | M18: 9 | N18: 4797.483 | O18: 14 | P18: 10 | Q18: 4 | R18: 1223.804 | S18: 1316 | T18: 710 | U18: 606 | V18: 279010.35 | W18: 1281 | X18: 692 | Y18: 589 | Z18: 275067 | AA18: 35 | AB18: 18 | AC18: 17 | AD18: 3943.352
A19: 彰化縣 | B19: Changhua County | C19: 2063 | D19: 1277 | E19: 786 | F19: 420069.59 | G19: 184 | H19: 114 | I19: 70 | J19: 32261.741 | K19: 111 | L19: 68 | M19: 43 | N19: 24307.96 | O19: 73 | P19: 46 | Q19: 27 | R19: 7953.781 | S19: 1879 | T19: 1163 | U19: 716 | V19: 387807.85 | W19: 1760 | X19: 1088 | Y19: 672 | Z19: 376064.29 | AA19: 119 | AB19: 75 | AC19: 44 | AD19: 11743.556
A20: 南投縣 | B20: Nantou County | C20: 1347 | D20: 755 | E20: 592 | F20: 277135.9 | G20: 55 | H20: 30 | I20: 25 | J20: 10645.206 | K20: 48 | L20: 27 | M20: 21 | N20: 9912.589 | O20: 7 | P20: 3 | Q20: 4 | R20: 732.617 | S20: 1292 | T20: 725 | U20: 567 | V20: 266490.7 | W20: 1266 | X20: 712 | Y20: 554 | Z20: 263809.66 | AA20: 26 | AB20: 13 | AC20: 13 | AD20: 2681.039
... A31: 連江縣 | B31: Lienchiang County | C31: 17 | D31: 10 | E31: 7 | F31: 3302.46 | G31: 1 | H31: 1 | I31: 0 | J31: 286.025 | K31: 1 | L31: 1 | M31: 0 | N31: 217.869 | O31: 0 | P31: 0 | Q31: 0 | R31: 68.156 | S31: 16 | T31: 9 | U31: 7 | V31: 3016.435 | W31: 16 | X31: 9 | Y31: 7 | Z31: 3016.435 | AA31: 0 | AB31: 0 | AC31: 0 | AD31: 0
A32: 資料來源：直轄市、縣(市)政府。
A33: 附 註：1.一般對象：依身心障礙者日間照顧及住宿式照顧費用補助辦法第5條而發給之補助對象。
A34: 2.特殊對象：依身心障礙者日間照顧及住宿式照顧費用補助辦法第6條而發給之補助對象。
A35: 3.臺北市精神復健機構及護理之家符合特殊對象資格者，均調整為補助至家庭總收入平均分配全家人口之金額在當年度每人每月最低生活費五倍以上未達六倍者，並於114年10月底完成補助金額調整作業，因此114年第4季住宿式照顧補助個案由一般對象轉為特殊對象。
A36: Source : County and City Government.
A38: 更新日期：2026/02/23

Sheet Q4, 2025
A1: 身心障礙者日間照顧及住宿式照顧補助Subsidies of Day Care and Residential Care for Disabled
A3: 114年第4季 Oct.-Dec., 2025 | C3: =IF(C9=SUM(C10:C31),"",SUM(C10:C31)) | D3: =IF(D9=SUM(D10:D31),"",SUM(D10:D31)) | E3: =IF(E9=SUM(E10:E31),"",SUM(E10:E31)) | F3: =IF(F9=SUM(F10:F31),"",SUM(F10:F31)) | G3: =IF(G9=SUM(G10:G31),"",SUM(G10:G31)) | H3: =IF(H9=SUM(H10:H31),"",SUM(H10:H31)) | I3: =IF(I9=SUM(I10:I31),"",SUM(I10:I31)) | J3: =IF(J9=SUM(J10:J31),"",SUM(J10:J31)) | ... AD3: =IF(AD9=SUM(AD10:AD31),"",SUM(AD10:AD31))
A4: 區域別 Locality | C4: 日間照顧及住宿式照顧補助Subsidies for Day Care and Residential Care
C5: 合計 Total | G5: 一般對象 General | S5: 特殊對象 Special
G6: 計 Subtotal | K6: 住宿式照顧 Residential Care | O6: 日間照顧 Day Care | S6: 計 Subtotal | W6: 住宿式照顧 Residential Care | AA6: 日間照顧 Day Care
C7: 期底人數 Persons (End of Year) | F7: 金額 (千元) Amounts (NT$1,000) | G7: 期底人數 Persons (End of Year) | J7: 金額 (千元) Amounts (NT$1,000) | K7: 期底人數 Persons (End of Year) | N7: 金額 (千元) Amounts (NT$1,000) | O7: 期底人數 Persons (End of Year) | R7: 金額 (千元) Amounts (NT$1,000) | S7: 期底人數 Persons (End of Year) | V7: 金額 (千元) Amounts (NT$1,000) | W7: 期底人數 Persons (End of Year) | Z7: 金額 (千元) Amounts (NT$1,000) | AA7: 期底人數 Persons (End of Year) | AD7: 金額 (千元) Amounts (NT$1,000)
C8: 計 Subtotal | D8: 男 Male | E8: 女 Female | G8: 計 Subtotal | H8: 男 Male | I8: 女 Female | K8: 計 Subtotal | L8: 男 Male | M8: 女 Female | O8: 計 Subtotal | P8: 男 Male | Q8: 女 Female | S8: 計 Subtotal | T8: 男 Male | U8: 女 Female | W8: 計 Subtotal | X8: 男 Male | Y8: 女 Female | AA8: 計 Subtotal | AB8: 男 Male | AC8: 女 Female
A9: 總計 | B9: Total | C9: 43857 | D9: 23686 | E9: 20171 | F9: 2293976 | G9: 3993 | H9: 2479 | I9: 1514 | J9: 199201.15 | K9: 2690 | L9: 1655 | M9: 1035 | N9: 165797.43 | O9: 1303 | P9: 824 | Q9: 479 | R9: 33403.717 | S9: 39864 | T9: 21207 | U9: 18657 | V9: 2094774.8 | W9: 37981 | X9: 20096 | Y9: 17885 | Z9: 2035988.8 | AA9: 1883 | AB9: 1111 | AC9: 772 | AD9: 58786.032
A10: 新北市 | B10: New Taipei City | C10: 7426 | D10: 3701 | E10: 3725 | F10: 316817.99 | G10: 375 | H10: 233 | I10: 142 | J10: 13852.949 | K10: 231 | L10: 136 | M10: 95 | N10: 10593.273 | O10: 144 | P10: 97 | Q10: 47 | R10: 3259.676 | S10: 7051 | T10: 3468 | U10: 3583 | V10: 302965.04 | W10: 6886 | X10: 3371 | Y10: 3515 | Z10: 298209.98 | AA10: 165 | AB10: 97 | AC10: 68 | AD10: 4755.063
A11: 臺北市 | B11: Taipei City | C11: 5493 | D11: 3019 | E11: 2474 | F11: 328728.88 | G11: 1641 | H11: 1001 | I11: 640 | J11: 106345.14 | K11: 1413 | L11: 872 | M11: 541 | N11: 98447.196 | O11: 228 | P11: 129 | Q11: 99 | R11: 7897.944 | S11: 3852 | T11: 2018 | U11: 1834 | V11: 222383.74 | W11: 3415 | X11: 1761 | Y11: 1654 | Z11: 205932.93 | AA11: 437 | AB11: 257 | AC11: 180 | AD11: 16450.815
A12: 桃園市 | B12: Taoyuan City | C12: 3824 | D12: 1978 | E12: 1846 | F12: 247104.61 | G12: 206 | H12: 120 | I12: 86 | J12: 11308.497 | K12: 143 | L12: 82 | M12: 61 | N12: 9182.919 | O12: 63 | P12: 38 | Q12: 25 | R12: 2125.578 | S12: 3618 | T12: 1858 | U12: 1760 | V12: 235796.11 | W12: 3549 | X12: 1815 | Y12: 1734 | Z12: 232985.84 | AA12: 69 | AB12: 43 | AC12: 26 | AD12: 2810.273
A13: 臺中市 | B13: Taichung City | C13: 3862 | D13: 2196 | E13: 1666 | F13: 194929.4 | G13: 327 | H13: 187 | I13: 140 | J13: 10973.958 | K13: 121 | L13: 66 | M13: 55 | N13: 6048.629 | O13: 206 | P13: 121 | Q13: 85 | R13: 4925.329 | S13: 3535 | T13: 2009 | U13: 1526 | V13: 183955.44 | W13: 3255 | X13: 1857 | Y13: 1398 | Z13: 175952.38 | AA13: 280 | AB13: 152 | AC13: 128 | AD13: 8003.067
A14: 臺南市 | B14: Tainan City | C14: 2242 | D14: 1382 | E14: 860 | F14: 118786.44 | G14: 174 | H14: 117 | I14: 57 | J14: 6181.107 | K14: 79 | L14: 58 | M14: 21 | N14: 3906.224 | O14: 95 | P14: 59 | Q14: 36 | R14: 2274.883 | S14: 2068 | T14: 1265 | U14: 803 | V14: 112605.33 | W14: 1900 | X14: 1160 | Y14: 740 | Z14: 107609.76 | AA14: 168 | AB14: 105 | AC14: 63 | AD14: 4995.575
A15: 高雄市 | B15: Kaohsiung City | C15: 4826 | D15: 2576 | E15: 2250 | F15: 227097.1 | G15: 374 | H15: 252 | I15: 122 | J15: 11588.276 | K15: 117 | L15: 79 | M15: 38 | N15: 5884.554 | O15: 257 | P15: 173 | Q15: 84 | R15: 5703.722 | S15: 4452 | T15: 2324 | U15: 2128 | V15: 215508.82 | W15: 4241 | X15: 2204 | Y15: 2037 | Z15: 209277.51 | AA15: 211 | AB15: 120 | AC15: 91 | AD15: 6231.309
A16: 宜蘭縣 | B16: Yilan County | C16: 1532 | D16: 776 | E16: 756 | F16: 76434.591 | G16: 61 | H16: 42 | I16: 19 | J16: 2638.595 | K16: 46 | L16: 31 | M16: 15 | N16: 2293.502 | O16: 15 | P16: 11 | Q16: 4 | R16: 345.093 | S16: 1471 | T16: 734 | U16: 737 | V16: 73795.996 | W16: 1382 | X16: 682 | Y16: 700 | Z16: 71354.804 | AA16: 89 | AB16: 52 | AC16: 37 | AD16: 2441.192
A17: 新竹縣 | B17: Hsinchu County | C17: 856 | D17: 470 | E17: 386 | F17: 41952.627 | G17: 53 | H17: 34 | I17: 19 | J17: 2200.644 | K17: 38 | L17: 21 | M17: 17 | N17: 1854.558 | O17: 15 | P17: 13 | Q17: 2 | R17: 346.086 | S17: 803 | T17: 436 | U17: 367 | V17: 39751.983 | W17: 774 | X17: 417 | Y17: 357 | Z17: 38957.175 | AA17: 29 | AB17: 19 | AC17: 10 | AD17: 794.808
A18: 苗栗縣 | B18: Miaoli County | C18: 1358 | D18: 739 | E18: 619 | F18: 70252.518 | G18: 42 | H18: 29 | I18: 13 | J18: 1535.328 | K18: 28 | L18: 19 | M18: 9 | N18: 1263.825 | O18: 14 | P18: 10 | Q18: 4 | R18: 271.503 | S18: 1316 | T18: 710 | U18: 606 | V18: 68717.19 | W18: 1281 | X18: 692 | Y18: 589 | Z18: 67719.608 | AA18: 35 | AB18: 18 | AC18: 17 | AD18: 997.582
A19: 彰化縣 | B19: Changhua County | C19: 2063 | D19: 1277 | E19: 786 | F19: 103198.59 | G19: 184 | H19: 114 | I19: 70 | J19: 7553.501 | K19: 111 | L19: 68 | M19: 43 | N19: 5826.7 | O19: 73 | P19: 46 | Q19: 27 | R19: 1726.801 | S19: 1879 | T19: 1163 | U19: 716 | V19: 95645.09 | W19: 1760 | X19: 1088 | Y19: 672 | Z19: 92852.313 | AA19: 119 | AB19: 75 | AC19: 44 | AD19: 2792.777
A20: 南投縣 | B20: Nantou County | C20: 1347 | D20: 755 | E20: 592 | F20: 93720.576 | G20: 55 | H20: 30 | I20: 25 | J20: 3551.214 | K20: 48 | L20: 27 | M20: 21 | N20: 3301.926 | O20: 7 | P20: 3 | Q20: 4 | R20: 249.288 | S20: 1292 | T20: 725 | U20: 567 | V20: 90169.362 | W20: 1266 | X20: 712 | Y20: 554 | Z20: 89102.469 | AA20: 26 | AB20: 13 | AC20: 13 | AD20: 1066.893
... A31: 連江縣 | B31: Lienchiang County | C31: 17 | D31: 10 | E31: 7 | F31: 836.671 | G31: 1 | H31: 1 | I31: 0 | J31: 55.25 | K31: 1 | L31: 1 | M31: 0 | N31: 55.25 | O31: 0 | P31: 0 | Q31: 0 | R31: 0 | S31: 16 | T31: 9 | U31: 7 | V31: 781.421 | W31: 16 | X31: 9 | Y31: 7 | Z31: 781.421 | AA31: 0 | AB31: 0 | AC31: 0 | AD31: 0
A32: 資料來源：直轄市、縣(市)政府。
A33: 附 註：1.一般對象：依身心障礙者日間照顧及住宿式照顧費用補助辦法第5條而發給之補助對象。
A34: 2.特殊對象：依身心障礙者日間照顧及住宿式照顧費用補助辦法第6條而發給之補助對象。
A36: 更新日期：2026/02/23

Sheet Q3, 2025
A1: 身心障礙者日間照顧及住宿式照顧補助Subsidies of Day Care and Residential Care for Disabled
A3: 114年第3季 July-Sept., 2025 | C3: =IF(C9=SUM(C10:C31),"",SUM(C10:C31)) | D3: =IF(D9=SUM(D10:D31),"",SUM(D10:D31)) | E3: =IF(E9=SUM(E10:E31),"",SUM(E10:E31)) | F3: =IF(F9=SUM(F10:F31),"",SUM(F10:F31)) | G3: =IF(G9=SUM(G10:G31),"",SUM(G10:G31)) | H3: =IF(H9=SUM(H10:H31),"",SUM(H10:H31)) | I3: =IF(I9=SUM(I10:I31),"",SUM(I10:I31)) | J3: =IF(J9=SUM(J10:J31),"",SUM(J10:J31)) | ... AD3: =IF(AD9=SUM(AD10:AD31),"",SUM(AD10:AD31))
A4: 區域別 Locality | C4: 日間照顧及住宿式照顧補助Subsidies for Day Care and Residential Care
C5: 合計 Total | G5: 一般對象 General | S5: 特殊對象 Special
G6: 計 Subtotal | K6: 住宿式照顧 Residential Care | O6: 日間照顧 Day Care | S6: 計 Subtotal | W6: 住宿式照顧 Residential Care | AA6: 日間照顧 Day Care
C7: 期底人數 Persons (End of Year) | F7: 金額 (千元) Amounts (NT$1,000) | G7: 期底人數 Persons (End of Year) | J7: 金額 (千元) Amounts (NT$1,000) | K7: 期底人數 Persons (End of Year) | N7: 金額 (千元) Amounts (NT$1,000) | O7: 期底人數 Persons (End of Year) | R7: 金額 (千元) Amounts (NT$1,000) | S7: 期底人數 Persons (End of Year) | V7: 金額 (千元) Amounts (NT$1,000) | W7: 期底人數 Persons (End of Year) | Z7: 金額 (千元) Amounts (NT$1,000) | AA7: 期底人數 Persons (End of Year) | AD7: 金額 (千元) Amounts (NT$1,000)
C8: 計 Subtotal | D8: 男 Male | E8: 女 Female | G8: 計 Subtotal | H8: 男 Male | I8: 女 Female | K8: 計 Subtotal | L8: 男 Male | M8: 女 Female | O8: 計 Subtotal | P8: 男 Male | Q8: 女 Female | S8: 計 Subtotal | T8: 男 Male | U8: 女 Female | W8: 計 Subtotal | X8: 男 Male | Y8: 女 Female | AA8: 計 Subtotal | AB8: 男 Male | AC8: 女 Female
A9: 總計 | B9: Total | C9: 44778 | D9: 24176 | E9: 20602 | F9: 2216454.2 | G9: 6676 | H9: 3816 | I9: 2860 | J9: 345775.73 | K9: 5284 | L9: 2941 | M9: 2343 | N9: 311482.78 | O9: 1392 | P9: 875 | Q9: 517 | R9: 34292.956 | S9: 38102 | T9: 20360 | U9: 17742 | V9: 1870678.5 | W9: 36194 | X9: 19226 | Y9: 16968 | Z9: 1814023.8 | AA9: 1908 | AB9: 1134 | AC9: 774 | AD9: 56654.678
A10: 新北市 | B10: New Taipei City | C10: 7874 | D10: 3947 | E10: 3927 | F10: 330146.89 | G10: 419 | H10: 262 | I10: 157 | J10: 14843.347 | K10: 235 | L10: 139 | M10: 96 | N10: 11406.363 | O10: 184 | P10: 123 | Q10: 61 | R10: 3436.984 | S10: 7455 | T10: 3685 | U10: 3770 | V10: 315303.54 | W10: 7280 | X10: 3580 | Y10: 3700 | Z10: 310609.4 | AA10: 175 | AB10: 105 | AC10: 70 | AD10: 4694.14
A11: 臺北市 | B11: Taipei City | C11: 5588 | D11: 3078 | E11: 2510 | F11: 331449.86 | G11: 4208 | H11: 2272 | I11: 1936 | J11: 255299.85 | K11: 3971 | L11: 2137 | M11: 1834 | N11: 247306.15 | O11: 237 | P11: 135 | Q11: 102 | R11: 7993.698 | S11: 1380 | T11: 806 | U11: 574 | V11: 76150.014 | W11: 930 | X11: 540 | Y11: 390 | Z11: 59942.406 | AA11: 450 | AB11: 266 | AC11: 184 | AD11: 16207.608
A12: 桃園市 | B12: Taoyuan City | C12: 3719 | D12: 1893 | E12: 1826 | F12: 183396.29 | G12: 194 | H12: 111 | I12: 83 | J12: 8173.997 | K12: 130 | L12: 74 | M12: 56 | N12: 6537.247 | O12: 64 | P12: 37 | Q12: 27 | R12: 1636.75 | S12: 3525 | T12: 1782 | U12: 1743 | V12: 175222.29 | W12: 3458 | X12: 1739 | Y12: 1719 | Z12: 173070.67 | AA12: 67 | AB12: 43 | AC12: 24 | AD12: 2151.621
A13: 臺中市 | B13: Taichung City | C13: 3910 | D13: 2230 | E13: 1680 | F13: 196930.21 | G13: 335 | H13: 196 | I13: 139 | J13: 11383.55 | K13: 121 | L13: 67 | M13: 54 | N13: 6084.873 | O13: 214 | P13: 129 | Q13: 85 | R13: 5298.677 | S13: 3575 | T13: 2034 | U13: 1541 | V13: 185546.66 | W13: 3302 | X13: 1885 | Y13: 1417 | Z13: 177685.01 | AA13: 273 | AB13: 149 | AC13: 124 | AD13: 7861.648
A14: 臺南市 | B14: Tainan City | C14: 2259 | D14: 1398 | E14: 861 | F14: 118752.67 | G14: 177 | H14: 118 | I14: 59 | J14: 5685.84 | K14: 73 | L14: 55 | M14: 18 | N14: 3501.827 | O14: 104 | P14: 63 | Q14: 41 | R14: 2184.013 | S14: 2082 | T14: 1280 | U14: 802 | V14: 113066.83 | W14: 1915 | X14: 1173 | Y14: 742 | Z14: 108106.26 | AA14: 167 | AB14: 107 | AC14: 60 | AD14: 4960.57
A15: 高雄市 | B15: Kaohsiung City | C15: 4980 | D15: 2655 | E15: 2325 | F15: 232332.76 | G15: 416 | H15: 266 | I15: 150 | J15: 12324.094 | K15: 158 | L15: 96 | M15: 62 | N15: 6307.869 | O15: 258 | P15: 170 | Q15: 88 | R15: 6016.225 | S15: 4564 | T15: 2389 | U15: 2175 | V15: 220008.67 | W15: 4379 | X15: 2287 | Y15: 2092 | Z15: 214737.17 | AA15: 185 | AB15: 102 | AC15: 83 | AD15: 5271.5
A16: 宜蘭縣 | B16: Yilan County | C16: 1555 | D16: 794 | E16: 761 | F16: 77640.235 | G16: 57 | H16: 40 | I16: 17 | J16: 2520.263 | K16: 43 | L16: 29 | M16: 14 | N16: 2207.79 | O16: 14 | P16: 11 | Q16: 3 | R16: 312.473 | S16: 1498 | T16: 754 | U16: 744 | V16: 75119.972 | W16: 1409 | X16: 702 | Y16: 707 | Z16: 72668.561 | AA16: 89 | AB16: 52 | AC16: 37 | AD16: 2451.411
A17: 新竹縣 | B17: Hsinchu County | C17: 875 | D17: 477 | E17: 398 | F17: 42454.755 | G17: 49 | H17: 32 | I17: 17 | J17: 2005.509 | K17: 35 | L17: 19 | M17: 16 | N17: 1682.915 | O17: 14 | P17: 13 | Q17: 1 | R17: 322.594 | S17: 826 | T17: 445 | U17: 381 | V17: 40449.246 | W17: 798 | X17: 426 | Y17: 372 | Z17: 39665.842 | AA17: 28 | AB17: 19 | AC17: 9 | AD17: 783.404
A18: 苗栗縣 | B18: Miaoli County | C18: 1376 | D18: 747 | E18: 629 | F18: 71350.16 | G18: 38 | H18: 26 | I18: 12 | J18: 1461.477 | K18: 25 | L18: 16 | M18: 9 | N18: 1171.742 | O18: 13 | P18: 10 | Q18: 3 | R18: 289.735 | S18: 1338 | T18: 721 | U18: 617 | V18: 69888.683 | W18: 1304 | X18: 704 | Y18: 600 | Z18: 68909.541 | AA18: 34 | AB18: 17 | AC18: 17 | AD18: 979.142
A19: 彰化縣 | B19: Changhua County | C19: 2168 | D19: 1344 | E19: 824 | F19: 104823.36 | G19: 230 | H19: 144 | I19: 86 | J19: 8264.482 | K19: 125 | L19: 79 | M19: 46 | N19: 6203.52 | O19: 105 | P19: 65 | Q19: 40 | R19: 2060.962 | S19: 1938 | T19: 1200 | U19: 738 | V19: 96558.881 | W19: 1775 | X19: 1095 | Y19: 680 | Z19: 93260.227 | AA19: 163 | AB19: 105 | AC19: 58 | AD19: 3298.654
A20: 南投縣 | B20: Nantou County | C20: 1359 | D20: 757 | E20: 602 | F20: 46702.707 | G20: 56 | H20: 30 | I20: 26 | J20: 1802.771 | K20: 48 | L20: 27 | M20: 21 | N20: 1673.154 | O20: 8 | P20: 3 | Q20: 5 | R20: 129.617 | S20: 1303 | T20: 727 | U20: 576 | V20: 44899.936 | W20: 1279 | X20: 714 | Y20: 565 | Z20: 44400.96 | AA20: 24 | AB20: 13 | AC20: 11 | AD20: 498.976
... A31: 連江縣 | B31: Lienchiang County | C31: 19 | D31: 13 | E31: 6 | F31: 844.751 | G31: 3 | H31: 3 | I31: 0 | J31: 83.589 | K31: 2 | L31: 2 | M31: 0 | N31: 63.169 | O31: 1 | P31: 1 | Q31: 0 | R31: 20.42 | S31: 16 | T31: 10 | U31: 6 | V31: 761.162 | W31: 16 | X31: 10 | Y31: 6 | Z31: 761.162 | AA31: 0 | AB31: 0 | AC31: 0 | AD31: 0
A32: 資料來源：直轄市、縣(市)政府。
A33: 附 註：1.一般對象：依身心障礙者日間照顧及住宿式照顧費用補助辦法第5條而發給之補助對象。
A34: 2.特殊對象：依身心障礙者日間照顧及住宿式照顧費用補助辦法第6條而發給之補助對象。
A36: Source : County and City Government.
A38: 更新日期：2025/11/17

Sheet Q2, 2025
A1: 身心障礙者日間照顧及住宿式照顧補助Subsidies of Day Care and Residential Care for Disabled
A3: 114年第2季 Apr.-June, 2025 | C3: =IF(C9=SUM(C10:C31),"",SUM(C10:C31)) | D3: =IF(D9=SUM(D10:D31),"",SUM(D10:D31)) | E3: =IF(E9=SUM(E10:E31),"",SUM(E10:E31)) | F3: =IF(F9=SUM(F10:F31),"",SUM(F10:F31)) | G3: =IF(G9=SUM(G10:G31),"",SUM(G10:G31)) | H3: =IF(H9=SUM(H10:H31),"",SUM(H10:H31)) | I3: =IF(I9=SUM(I10:I31),"",SUM(I10:I31)) | J3: =IF(J9=SUM(J10:J31),"",SUM(J10:J31)) | ... AD3: =IF(AD9=SUM(AD10:AD31),"",SUM(AD10:AD31))
A4: 區域別 Locality | C4: 日間照顧及住宿式照顧補助Subsidies for Day Care and Residential Care
C5: 合計 Total | G5: 一般對象 General | S5: 特殊對象 Special
G6: 計 Subtotal | K6: 住宿式照顧 Residential Care | O6: 日間照顧 Day Care | S6: 計 Subtotal | W6: 住宿式照顧 Residential Care | AA6: 日間照顧 Day Care
C7: 期底人數 Persons (End of Year) | F7: 金額 (千元) Amounts (NT$1,000) | G7: 期底人數 Persons (End of Year) | J7: 金額 (千元) Amounts (NT$1,000) | K7: 期底人數 Persons (End of Year) | N7: 金額 (千元) Amounts (NT$1,000) | O7: 期底人數 Persons (End of Year) | R7: 金額 (千元) Amounts (NT$1,000) | S7: 期底人數 Persons (End of Year) | V7: 金額 (千元) Amounts (NT$1,000) | W7: 期底人數 Persons (End of Year) | Z7: 金額 (千元) Amounts (NT$1,000) | AA7: 期底人數 Persons (End of Year) | AD7: 金額 (千元) Amounts (NT$1,000)
C8: 計 Subtotal | D8: 男 Male | E8: 女 Female | G8: 計 Subtotal | H8: 男 Male | I8: 女 Female | K8: 計 Subtotal | L8: 男 Male | M8: 女 Female | O8: 計 Subtotal | P8: 男 Male | Q8: 女 Female | S8: 計 Subtotal | T8: 男 Male | U8: 女 Female | W8: 計 Subtotal | X8: 男 Male | Y8: 女 Female | AA8: 計 Subtotal | AB8: 男 Male | AC8: 女 Female
A9: 總計 | B9: Total | C9: 45354 | D9: 24411 | E9: 20943 | F9: 2273898.2 | G9: 6786 | H9: 3885 | I9: 2901 | J9: 350704.76 | K9: 5357 | L9: 2983 | M9: 2374 | N9: 316071.38 | O9: 1429 | P9: 902 | Q9: 527 | R9: 34633.386 | S9: 38568 | T9: 20526 | U9: 18042 | V9: 1923193.4 | W9: 36715 | X9: 19430 | Y9: 17285 | Z9: 1867080.3 | AA9: 1853 | AB9: 1096 | AC9: 757 | AD9: 56113.13
A10: 新北市 | B10: New Taipei City | C10: 8034 | D10: 4011 | E10: 4023 | F10: 335248.61 | G10: 410 | H10: 251 | I10: 159 | J10: 15429.5 | K10: 239 | L10: 142 | M10: 97 | N10: 11593.684 | O10: 171 | P10: 109 | Q10: 62 | R10: 3835.816 | S10: 7624 | T10: 3760 | U10: 3864 | V10: 319819.11 | W10: 7460 | X10: 3662 | Y10: 3798 | Z10: 315133.18 | AA10: 164 | AB10: 98 | AC10: 66 | AD10: 4685.928
A11: 臺北市 | B11: Taipei City | C11: 5577 | D11: 3079 | E11: 2498 | F11: 330734.29 | G11: 4242 | H11: 2298 | I11: 1944 | J11: 256716.16 | K11: 4015 | L11: 2168 | M11: 1847 | N11: 248988.88 | O11: 227 | P11: 130 | Q11: 97 | R11: 7727.283 | S11: 1335 | T11: 781 | U11: 554 | V11: 74018.136 | W11: 897 | X11: 523 | Y11: 374 | Z11: 58018.11 | AA11: 438 | AB11: 258 | AC11: 180 | AD11: 16000.026
A12: 桃園市 | B12: Taoyuan City | C12: 3786 | D12: 1929 | E12: 1857 | F12: 189003.52 | G12: 193 | H12: 109 | I12: 84 | J12: 8268.261 | K12: 128 | L12: 68 | M12: 60 | N12: 6585.434 | O12: 65 | P12: 41 | Q12: 24 | R12: 1682.827 | S12: 3593 | T12: 1820 | U12: 1773 | V12: 180735.26 | W12: 3523 | X12: 1774 | Y12: 1749 | Z12: 178553.45 | AA12: 70 | AB12: 46 | AC12: 24 | AD12: 2181.81
A13: 臺中市 | B13: Taichung City | C13: 3974 | D13: 2262 | E13: 1712 | F13: 198304.78 | G13: 355 | H13: 211 | I13: 144 | J13: 11651.049 | K13: 124 | L13: 69 | M13: 55 | N13: 6123.738 | O13: 231 | P13: 142 | Q13: 89 | R13: 5527.311 | S13: 3619 | T13: 2051 | U13: 1568 | V13: 186653.73 | W13: 3347 | X13: 1901 | Y13: 1446 | Z13: 178886.52 | AA13: 272 | AB13: 150 | AC13: 122 | AD13: 7767.213
A14: 臺南市 | B14: Tainan City | C14: 2252 | D14: 1397 | E14: 855 | F14: 115327.97 | G14: 179 | H14: 118 | I14: 61 | J14: 6528.684 | K14: 87 | L14: 63 | M14: 24 | N14: 4410.071 | O14: 92 | P14: 55 | Q14: 37 | R14: 2118.613 | S14: 2073 | T14: 1279 | U14: 794 | V14: 108799.28 | W14: 1907 | X14: 1174 | Y14: 733 | Z14: 103882.98 | AA14: 166 | AB14: 105 | AC14: 61 | AD14: 4916.305
A15: 高雄市 | B15: Kaohsiung City | C15: 5083 | D15: 2708 | E15: 2375 | F15: 235135.07 | G15: 450 | H15: 291 | I15: 159 | J15: 12179.805 | K15: 165 | L15: 103 | M15: 62 | N15: 6579.396 | O15: 285 | P15: 188 | Q15: 97 | R15: 5600.409 | S15: 4633 | T15: 2417 | U15: 2216 | V15: 222955.26 | W15: 4458 | X15: 2323 | Y15: 2135 | Z15: 217822.13 | AA15: 175 | AB15: 94 | AC15: 81 | AD15: 5133.13
A16: 宜蘭縣 | B16: Yilan County | C16: 1580 | D16: 791 | E16: 789 | F16: 78395.17 | G16: 56 | H16: 39 | I16: 17 | J16: 2467.822 | K16: 43 | L16: 29 | M16: 14 | N16: 2206.133 | O16: 13 | P16: 10 | Q16: 3 | R16: 261.689 | S16: 1524 | T16: 752 | U16: 772 | V16: 75927.348 | W16: 1433 | X16: 700 | Y16: 733 | Z16: 73466.002 | AA16: 91 | AB16: 52 | AC16: 39 | AD16: 2461.346
A17: 新竹縣 | B17: Hsinchu County | C17: 878 | D17: 473 | E17: 405 | F17: 42278.544 | G17: 48 | H17: 30 | I17: 18 | J17: 1948.115 | K17: 34 | L17: 18 | M17: 16 | N17: 1612.195 | O17: 14 | P17: 12 | Q17: 2 | R17: 335.92 | S17: 830 | T17: 443 | U17: 387 | V17: 40330.429 | W17: 801 | X17: 424 | Y17: 377 | Z17: 39543.665 | AA17: 29 | AB17: 19 | AC17: 10 | AD17: 786.764
A18: 苗栗縣 | B18: Miaoli County | C18: 1390 | D18: 748 | E18: 642 | F18: 71412.353 | G18: 41 | H18: 29 | I18: 12 | J18: 1446.427 | K18: 25 | L18: 16 | M18: 9 | N18: 1131.608 | O18: 16 | P18: 13 | Q18: 3 | R18: 314.819 | S18: 1349 | T18: 719 | U18: 630 | V18: 69965.926 | W18: 1315 | X18: 701 | Y18: 614 | Z18: 68968.963 | AA18: 34 | AB18: 18 | AC18: 16 | AD18: 996.963
A19: 彰化縣 | B19: Changhua County | C19: 2168 | D19: 1344 | E19: 824 | F19: 106198.69 | G19: 224 | H19: 139 | I19: 85 | J19: 8438.958 | K19: 127 | L19: 77 | M19: 50 | N19: 6329.265 | O19: 97 | P19: 62 | Q19: 35 | R19: 2109.693 | S19: 1944 | T19: 1205 | U19: 739 | V19: 97759.73 | W19: 1807 | X19: 1119 | Y19: 688 | Z19: 94707.187 | AA19: 137 | AB19: 86 | AC19: 51 | AD19: 3052.543
A20: 南投縣 | B20: Nantou County | C20: 1373 | D20: 758 | E20: 615 | F20: 89399.551 | G20: 56 | H20: 30 | I20: 26 | J20: 3444.176 | K20: 48 | L20: 28 | M20: 20 | N20: 3226.38 | O20: 8 | P20: 2 | Q20: 6 | R20: 217.796 | S20: 1317 | T20: 728 | U20: 589 | V20: 85955.375 | W20: 1294 | X20: 715 | Y20: 579 | Z20: 85321.147 | AA20: 23 | AB20: 13 | AC20: 10 | AD20: 634.228
... A31: 連江縣 | B31: Lienchiang County | C31: 17 | D31: 11 | E31: 6 | F31: 810.519 | G31: 2 | H31: 2 | I31: 0 | J31: 73.593 | K31: 1 | L31: 1 | M31: 0 | N31: 49.725 | O31: 1 | P31: 1 | Q31: 0 | R31: 23.868 | S31: 15 | T31: 9 | U31: 6 | V31: 736.926 | W31: 15 | X31: 9 | Y31: 6 | Z31: 736.926 | AA31: 0 | AB31: 0 | AC31: 0 | AD31: 0
A32: 資料來源：直轄市、縣(市)政府。
A33: 附 註：1.一般對象：依身心障礙者日間照顧及住宿式照顧費用補助辦法第5條而發給之補助對象。
A34: 2.特殊對象：依身心障礙者日間照顧及住宿式照顧費用補助辦法第6條而發給之補助對象。
A35: Source : County and City Government.
A36: 更新日期：2025/08/15
A38: 總計 | B38: Total | C38: 50455 | D38: 27134 | E38: 23321 | F38: 2349252.5 | G38: 7674 | H38: 4414 | I38: 3260 | J38: 371300.25 | K38: 5934 | L38: 3315 | M38: 2619 | N38: 330743.84 | O38: 1740 | P38: 1099 | Q38: 641 | R38: 40556.407 | S38: 42781 | T38: 22720 | U38: 20061 | V38: 1977952.2 | W38: 41095 | X38: 21702 | Y38: 19393 | Z38: 1927515.3 | AA38: 1686 | AB38: 1018 | AC38: 668 | AD38: 50436.923

Sheet Q1, 2025
A1: 身心障礙者日間照顧及住宿式照顧補助Subsidies of Day Care and Residential Care for Disabled
A3: 114年第1季Jan.-Mar., 2025 | C3: =IF(C9=SUM(C10:C31),"",SUM(C10:C31)) | D3: =IF(D9=SUM(D10:D31),"",SUM(D10:D31)) | E3: =IF(E9=SUM(E10:E31),"",SUM(E10:E31)) | F3: =IF(F9=SUM(F10:F31),"",SUM(F10:F31)) | G3: =IF(G9=SUM(G10:G31),"",SUM(G10:G31)) | H3: =IF(H9=SUM(H10:H31),"",SUM(H10:H31)) | I3: =IF(I9=SUM(I10:I31),"",SUM(I10:I31)) | J3: =IF(J9=SUM(J10:J31),"",SUM(J10:J31)) | ... AD3: =IF(AD9=SUM(AD10:AD31),"",SUM(AD10:AD31))
A4: 區域別 Locality | C4: 日間照顧及住宿式照顧補助Subsidies for Day Care and Residential Care
C5: 合計 Total | G5: 一般對象 General | S5: 特殊對象 Special
G6: 計 Subtotal | K6: 住宿式照顧 Residential Care | O6: 日間照顧 Day Care | S6: 計 Subtotal | W6: 住宿式照顧 Residential Care | AA6: 日間照顧 Day Care
C7: 期底人數 Persons (End of Year) | F7: 金額 (千元) Amounts (NT$1,000) | G7: 期底人數 Persons (End of Year) | J7: 金額 (千元) Amounts (NT$1,000) | K7: 期底人數 Persons (End of Year) | N7: 金額 (千元) Amounts (NT$1,000) | O7: 期底人數 Persons (End of Year) | R7: 金額 (千元) Amounts (NT$1,000) | S7: 期底人數 Persons (End of Year) | V7: 金額 (千元) Amounts (NT$1,000) | W7: 期底人數 Persons (End of Year) | Z7: 金額 (千元) Amounts (NT$1,000) | AA7: 期底人數 Persons (End of Year) | AD7: 金額 (千元) Amounts (NT$1,000)
C8: 計 Subtotal | D8: 男 Male | E8: 女 Female | G8: 計 Subtotal | H8: 男 Male | I8: 女 Female | K8: 計 Subtotal | L8: 男 Male | M8: 女 Female | O8: 計 Subtotal | P8: 男 Male | Q8: 女 Female | S8: 計 Subtotal | T8: 男 Male | U8: 女 Female | W8: 計 Subtotal | X8: 男 Male | Y8: 女 Female | AA8: 計 Subtotal | AB8: 男 Male | AC8: 女 Female
A9: 總計 | B9: Total | C9: 45625 | D9: 24508 | E9: 21117 | F9: 2241908.8 | G9: 6672 | H9: 3822 | I9: 2850 | J9: 344312.57 | K9: 5262 | L9: 2930 | M9: 2332 | N9: 310584.43 | O9: 1410 | P9: 892 | Q9: 518 | R9: 33728.139 | S9: 38953 | T9: 20686 | U9: 18267 | V9: 1897596.2 | W9: 37223 | X9: 19661 | Y9: 17562 | Z9: 1845543.5 | AA9: 1730 | AB9: 1025 | AC9: 705 | AD9: 52052.694
A10: 新北市 | B10: New Taipei City | C10: 8146 | D10: 4059 | E10: 4087 | F10: 345253.66 | G10: 437 | H10: 273 | I10: 164 | J10: 17066.075 | K10: 263 | L10: 158 | M10: 105 | N10: 12867.791 | O10: 174 | P10: 115 | Q10: 59 | R10: 4198.284 | S10: 7709 | T10: 3786 | U10: 3923 | V10: 328187.58 | W10: 7547 | X10: 3690 | Y10: 3857 | Z10: 323638.85 | AA10: 162 | AB10: 96 | AC10: 66 | AD10: 4548.729
A11: 臺北市 | B11: Taipei City | C11: 5359 | D11: 2955 | E11: 2404 | F11: 321399.51 | G11: 4084 | H11: 2208 | I11: 1876 | J11: 249502.72 | K11: 3886 | L11: 2088 | M11: 1798 | N11: 243037.95 | O11: 198 | P11: 120 | Q11: 78 | R11: 6464.766 | S11: 1275 | T11: 747 | U11: 528 | V11: 71896.791 | W11: 906 | X11: 528 | Y11: 378 | Z11: 58709.289 | AA11: 369 | AB11: 219 | AC11: 150 | AD11: 13187.502
A12: 桃園市 | B12: Taoyuan City | C12: 4055 | D12: 2085 | E12: 1970 | F12: 193146.78 | G12: 214 | H12: 120 | I12: 94 | J12: 9067.432 | K12: 143 | L12: 75 | M12: 68 | N12: 7228.358 | O12: 71 | P12: 45 | Q12: 26 | R12: 1839.074 | S12: 3841 | T12: 1965 | U12: 1876 | V12: 184079.35 | W12: 3769 | X12: 1918 | Y12: 1851 | Z12: 181961.4 | AA12: 72 | AB12: 47 | AC12: 25 | AD12: 2117.943
A13: 臺中市 | B13: Taichung City | C13: 4026 | D13: 2299 | E13: 1727 | F13: 199714.9 | G13: 360 | H13: 214 | I13: 146 | J13: 11677.043 | K13: 122 | L13: 71 | M13: 51 | N13: 6049.298 | O13: 238 | P13: 143 | Q13: 95 | R13: 5627.745 | S13: 3666 | T13: 2085 | U13: 1581 | V13: 188037.86 | W13: 3399 | X13: 1935 | Y13: 1464 | Z13: 180550.18 | AA13: 267 | AB13: 150 | AC13: 117 | AD13: 7487.677
A14: 臺南市 | B14: Tainan City | C14: 2253 | D14: 1404 | E14: 849 | F14: 115874.17 | G14: 185 | H14: 125 | I14: 60 | J14: 6762.006 | K14: 94 | L14: 67 | M14: 27 | N14: 4662.249 | O14: 91 | P14: 58 | Q14: 33 | R14: 2099.757 | S14: 2068 | T14: 1279 | U14: 789 | V14: 109112.16 | W14: 1907 | X14: 1181 | Y14: 726 | Z14: 104163.06 | AA14: 161 | AB14: 98 | AC14: 63 | AD14: 4949.1
A15: 高雄市 | B15: Kaohsiung City | C15: 5108 | D15: 2698 | E15: 2410 | F15: 236979.65 | G15: 461 | H15: 293 | I15: 168 | J15: 12443.958 | K15: 171 | L15: 107 | M15: 64 | N15: 6791.542 | O15: 290 | P15: 186 | Q15: 104 | R15: 5652.416 | S15: 4647 | T15: 2405 | U15: 2242 | V15: 224535.7 | W15: 4474 | X15: 2313 | Y15: 2161 | Z15: 219379.11 | AA15: 173 | AB15: 92 | AC15: 81 | AD15: 5156.587
A16: 宜蘭縣 | B16: Yilan County | C16: 1578 | D16: 780 | E16: 798 | F16: 78294.422 | G16: 53 | H16: 35 | I16: 18 | J16: 2436.97 | K16: 43 | L16: 28 | M16: 15 | N16: 2193.979 | O16: 10 | P16: 7 | Q16: 3 | R16: 242.991 | S16: 1525 | T16: 745 | U16: 780 | V16: 75857.452 | W16: 1436 | X16: 694 | Y16: 742 | Z16: 73419.634 | AA16: 89 | AB16: 51 | AC16: 38 | AD16: 2437.818
A17: 新竹縣 | B17: Hsinchu County | C17: 887 | D17: 475 | E17: 412 | F17: 42047.383 | G17: 46 | H17: 29 | I17: 17 | J17: 1867.671 | K17: 30 | L17: 15 | M17: 15 | N17: 1481.805 | O17: 16 | P17: 14 | Q17: 2 | R17: 385.866 | S17: 841 | T17: 446 | U17: 395 | V17: 40179.712 | W17: 812 | X17: 427 | Y17: 385 | Z17: 39438.119 | AA17: 29 | AB17: 19 | AC17: 10 | AD17: 741.593
A18: 苗栗縣 | B18: Miaoli County | C18: 1404 | D18: 746 | E18: 658 | F18: 72016.605 | G18: 43 | H18: 32 | I18: 11 | J18: 1578.055 | K18: 27 | L18: 19 | M18: 8 | N18: 1230.308 | O18: 16 | P18: 13 | Q18: 3 | R18: 347.747 | S18: 1361 | T18: 714 | U18: 647 | V18: 70438.55 | W18: 1326 | X18: 696 | Y18: 630 | Z18: 69468.885 | AA18: 35 | AB18: 18 | AC18: 17 | AD18: 969.665
A19: 彰化縣 | B19: Changhua County | C19: 2118 | D19: 1312 | E19: 806 | F19: 105848.95 | G19: 207 | H19: 126 | I19: 81 | J19: 8004.8 | K19: 114 | L19: 71 | M19: 43 | N19: 5948.475 | O19: 93 | P19: 55 | Q19: 38 | R19: 2056.325 | S19: 1911 | T19: 1186 | U19: 725 | V19: 97844.15 | W19: 1815 | X19: 1123 | Y19: 692 | Z19: 95244.568 | AA19: 96 | AB19: 63 | AC19: 33 | AD19: 2599.582
A20: 南投縣 | B20: Nantou County | C20: 1403 | D20: 778 | E20: 625 | F20: 47313.07 | G20: 56 | H20: 30 | I20: 26 | J20: 1847.045 | K20: 48 | L20: 28 | M20: 20 | N20: 1711.129 | O20: 8 | P20: 2 | Q20: 6 | R20: 135.916 | S20: 1347 | T20: 748 | U20: 599 | V20: 45466.025 | W20: 1324 | X20: 734 | Y20: 590 | Z20: 44985.083 | AA20: 23 | AB20: 14 | AC20: 9 | AD20: 480.942
... A31: 連江縣 | B31: Lienchiang County | C31: 17 | D31: 11 | E31: 6 | F31: 810.519 | G31: 2 | H31: 2 | I31: 0 | J31: 73.593 | K31: 1 | L31: 1 | M31: 0 | N31: 49.725 | O31: 1 | P31: 1 | Q31: 0 | R31: 23.868 | S31: 15 | T31: 9 | U31: 6 | V31: 736.926 | W31: 15 | X31: 9 | Y31: 6 | Z31: 736.926 | AA31: 0 | AB31: 0 | AC31: 0 | AD31: 0
A32: 資料來源：直轄市、縣(市)政府。
A33: 附 註：1.一般對象：依身心障礙者日間照顧及住宿式照顧費用補助辦法第5條而發給之補助對象。
A34: 2.特殊對象：依身心障礙者日間照顧及住宿式照顧費用補助辦法第6條而發給之補助對象。
A36: Source : County and City Government.
A38: 更新日期：2025/05/15

Sheet 2024
A1: 身心障礙者日間照顧及住宿式照顧補助Subsidies of Day Care and Residential Care for Disabled
A3: 113年,2024 | C3: =IF(C9=SUM(C10:C31),"",SUM(C10:C31)) | D3: =IF(D9=SUM(D10:D31),"",SUM(D10:D31)) | E3: =IF(E9=SUM(E10:E31),"",SUM(E10:E31)) | F3: =IF(F9=SUM(F10:F31),"",SUM(F10:F31)) | G3: =IF(G9=SUM(G10:G31),"",SUM(G10:G31)) | H3: =IF(H9=SUM(H10:H31),"",SUM(H10:H31)) | I3: =IF(I9=SUM(I10:I31),"",SUM(I10:I31)) | J3: =IF(J9=SUM(J10:J31),"",SUM(J10:J31)) | ... AD3: =IF(AD9=SUM(AD10:AD31),"",SUM(AD10:AD31))
A4: 區域別 Locality | C4: 日間照顧及住宿式照顧補助Subsidies for Day Care and Residential Care
C5: 合計 Total | G5: 一般對象 General | S5: 特殊對象 Special
G6: 計 Subtotal | K6: 住宿式照顧 Residential Care | O6: 日間照顧 Day Care | S6: 計 Subtotal | W6: 住宿式照顧 Residential Care | AA6: 日間照顧 Day Care
C7: 期底人數 Persons (End of Year) | F7: 金額 (千元) Amounts (NT$1,000) | G7: 期底人數 Persons (End of Year) | J7: 金額 (千元) Amounts (NT$1,000) | K7: 期底人數 Persons (End of Year) | N7: 金額 (千元) Amounts (NT$1,000) | O7: 期底人數 Persons (End of Year) | R7: 金額 (千元) Amounts (NT$1,000) | S7: 期底人數 Persons (End of Year) | V7: 金額 (千元) Amounts (NT$1,000) | W7: 期底人數 Persons (End of Year) | Z7: 金額 (千元) Amounts (NT$1,000) | AA7: 期底人數 Persons (End of Year) | AD7: 金額 (千元) Amounts (NT$1,000)
C8: 計 Subtotal | D8: 男 Male | E8: 女 Female | G8: 計 Subtotal | H8: 男 Male | I8: 女 Female | K8: 計 Subtotal | L8: 男 Male | M8: 女 Female | O8: 計 Subtotal | P8: 男 Male | Q8: 女 Female | S8: 計 Subtotal | T8: 男 Male | U8: 女 Female | W8: 計 Subtotal | X8: 男 Male | Y8: 女 Female | AA8: 計 Subtotal | AB8: 男 Male | AC8: 女 Female
A9: 總計 | B9: Total | C9: 45751 | D9: 24578 | E9: 21173 | F9: 9120162.1 | G9: 6750 | H9: 3876 | I9: 2874 | J9: 1370225.2 | K9: 5340 | L9: 2989 | M9: 2351 | N9: 1229347.5 | O9: 1410 | P9: 887 | Q9: 523 | R9: 140877.66 | S9: 39001 | T9: 20702 | U9: 18299 | V9: 7749936.9 | W9: 37281 | X9: 19678 | Y9: 17603 | Z9: 7541419.8 | AA9: 1720 | AB9: 1024 | AC9: 696 | AD9: 208517.04
A10: 新北市 | B10: New Taipei City | C10: 7886 | D10: 3924 | E10: 3962 | F10: 1367841 | G10: 428 | H10: 265 | I10: 163 | J10: 68715.218 | K10: 265 | L10: 159 | M10: 106 | N10: 52264.339 | O10: 163 | P10: 106 | Q10: 57 | R10: 16450.879 | S10: 7458 | T10: 3659 | U10: 3799 | V10: 1299125.8 | W10: 7304 | X10: 3568 | Y10: 3736 | Z10: 1281224.3 | AA10: 154 | AB10: 91 | AC10: 63 | AD10: 17901.491
A11: 臺北市 | B11: Taipei City | C11: 5384 | D11: 2983 | E11: 2401 | F11: 1267336.8 | G11: 4078 | H11: 2224 | I11: 1854 | J11: 976161.97 | K11: 3883 | L11: 2107 | M11: 1776 | N11: 948083.62 | O11: 195 | P11: 117 | Q11: 78 | R11: 28078.353 | S11: 1306 | T11: 759 | U11: 547 | V11: 291174.82 | W11: 923 | X11: 527 | Y11: 396 | Z11: 231521.89 | AA11: 383 | AB11: 232 | AC11: 151 | AD11: 59652.924
A12: 桃園市 | B12: Taoyuan City | C12: 3937 | D12: 2024 | E12: 1913 | F12: 773293.72 | G12: 231 | H12: 130 | I12: 101 | J12: 39066.441 | K12: 157 | L12: 83 | M12: 74 | N12: 31494.934 | O12: 74 | P12: 47 | Q12: 27 | R12: 7571.507 | S12: 3706 | T12: 1894 | U12: 1812 | V12: 734227.28 | W12: 3643 | X12: 1851 | Y12: 1792 | Z12: 726561.37 | AA12: 63 | AB12: 43 | AC12: 20 | AD12: 7665.904
A13: 臺中市 | B13: Taichung City | C13: 4128 | D13: 2340 | E13: 1788 | F13: 804807.36 | G13: 377 | H13: 229 | I13: 148 | J13: 49244.153 | K13: 128 | L13: 77 | M13: 51 | N13: 26045.853 | O13: 249 | P13: 152 | Q13: 97 | R13: 23198.3 | S13: 3751 | T13: 2111 | U13: 1640 | V13: 755563.2 | W13: 3499 | X13: 1971 | Y13: 1528 | Z13: 728409.35 | AA13: 252 | AB13: 140 | AC13: 112 | AD13: 27153.855
A14: 臺南市 | B14: Tainan City | C14: 2268 | D14: 1404 | E14: 864 | F14: 461642.43 | G14: 170 | H14: 113 | I14: 57 | J14: 23909.397 | K14: 79 | L14: 55 | M14: 24 | N14: 14585.192 | O14: 91 | P14: 58 | Q14: 33 | R14: 9324.205 | S14: 2098 | T14: 1291 | U14: 807 | V14: 437733.03 | W14: 1942 | X14: 1196 | Y14: 746 | Z14: 419898.55 | AA14: 156 | AB14: 95 | AC14: 61 | AD14: 17834.479
A15: 高雄市 | B15: Kaohsiung City | C15: 5170 | D15: 2750 | E15: 2420 | F15: 949367.54 | G15: 467 | H15: 292 | I15: 175 | J15: 51321.04 | K15: 180 | L15: 109 | M15: 71 | N15: 27431.33 | O15: 287 | P15: 183 | Q15: 104 | R15: 23889.71 | S15: 4703 | T15: 2458 | U15: 2245 | V15: 898046.5 | W15: 4492 | X15: 2340 | Y15: 2152 | Z15: 876931.27 | AA15: 211 | AB15: 118 | AC15: 93 | AD15: 21115.233
A16: 宜蘭縣 | B16: Yilan County | C16: 1588 | D16: 789 | E16: 799 | F16: 325412.21 | G16: 58 | H16: 38 | I16: 20 | J16: 9933.447 | K16: 45 | L16: 29 | M16: 16 | N16: 8820.927 | O16: 13 | P16: 9 | Q16: 4 | R16: 1112.52 | S16: 1530 | T16: 751 | U16: 779 | V16: 315478.76 | W16: 1442 | X16: 700 | Y16: 742 | Z16: 305991.99 | AA16: 88 | AB16: 51 | AC16: 37 | AD16: 9486.771
A17: 新竹縣 | B17: Hsinchu County | C17: 897 | D17: 482 | E17: 415 | F17: 177603.87 | G17: 52 | H17: 33 | I17: 19 | J17: 8378.552 | K17: 35 | L17: 18 | M17: 17 | N17: 6852.326 | O17: 17 | P17: 15 | Q17: 2 | R17: 1526.226 | S17: 845 | T17: 449 | U17: 396 | V17: 169225.32 | W17: 818 | X17: 431 | Y17: 387 | Z17: 166217.19 | AA17: 27 | AB17: 18 | AC17: 9 | AD17: 3008.133
A18: 苗栗縣 | B18: Miaoli County | C18: 1418 | D18: 753 | E18: 665 | F18: 294789.4 | G18: 54 | H18: 35 | I18: 19 | J18: 7601.461 | K18: 34 | L18: 20 | M18: 14 | N18: 5541.687 | O18: 20 | P18: 15 | Q18: 5 | R18: 2059.774 | S18: 1364 | T18: 718 | U18: 646 | V18: 287187.94 | W18: 1333 | X18: 702 | Y18: 631 | Z18: 283388.55 | AA18: 31 | AB18: 16 | AC18: 15 | AD18: 3799.386
A19: 彰化縣 | B19: Changhua County | C19: 2148 | D19: 1333 | E19: 815 | F19: 431603.39 | G19: 188 | H19: 116 | I19: 72 | J19: 30424.884 | K19: 109 | L19: 72 | M19: 37 | N19: 23012.755 | O19: 79 | P19: 44 | Q19: 35 | R19: 7412.129 | S19: 1960 | T19: 1217 | U19: 743 | V19: 401178.5 | W19: 1871 | X19: 1160 | Y19: 711 | Z19: 390795.03 | AA19: 89 | AB19: 57 | AC19: 32 | AD19: 10383.476
A20: 南投縣 | B20: Nantou County | C20: 1421 | D20: 770 | E20: 651 | F20: 293249.67 | G20: 60 | H20: 32 | I20: 28 | J20: 11385.095 | K20: 50 | L20: 29 | M20: 21 | N20: 10403.294 | O20: 10 | P20: 3 | Q20: 7 | R20: 981.801 | S20: 1361 | T20: 738 | U20: 623 | V20: 281864.58 | W20: 1339 | X20: 725 | Y20: 614 | Z20: 279089.95 | AA20: 22 | AB20: 13 | AC20: 9 | AD20: 2774.629
... A31: 連江縣 | B31: Lienchiang County | C31: 17 | D31: 11 | E31: 6 | F31: 3393.055 | G31: 2 | H31: 2 | I31: 0 | J31: 262.548 | K31: 1 | L31: 1 | M31: 0 | N31: 198.9 | O31: 1 | P31: 1 | Q31: 0 | R31: 63.648 | S31: 15 | T31: 9 | U31: 6 | V31: 3130.507 | W31: 15 | X31: 9 | Y31: 6 | Z31: 3130.507 | AA31: 0 | AB31: 0 | AC31: 0 | AD31: 0
A32: 資料來源：直轄市、縣(市)政府。
A33: 附 註：1.一般對象：依身心障礙者日間照顧及住宿式照顧費用補助辦法第5條而發給之補助對象。
A34: 2.特殊對象：依身心障礙者日間照顧及住宿式照顧費用補助辦法第6條而發給之補助對象。
A36: Source : County and City Government.
A38: 更新日期：2025/06/20

Sheet Q4,2024
A1: 身心障礙者日間照顧及住宿式照顧補助Subsidies of Day Care and Residential Care for Disabled
A3: 113年第4季,2024 Q4 | C3: =IF(C9=SUM(C10:C31),"",SUM(C10:C31)) | D3: =IF(D9=SUM(D10:D31),"",SUM(D10:D31)) | E3: =IF(E9=SUM(E10:E31),"",SUM(E10:E31)) | F3: =IF(F9=SUM(F10:F31),"",SUM(F10:F31)) | G3: =IF(G9=SUM(G10:G31),"",SUM(G10:G31)) | H3: =IF(H9=SUM(H10:H31),"",SUM(H10:H31)) | I3: =IF(I9=SUM(I10:I31),"",SUM(I10:I31)) | J3: =IF(J9=SUM(J10:J31),"",SUM(J10:J31)) | ... AD3: =IF(AD9=SUM(AD10:AD31),"",SUM(AD10:AD31))
A4: 區域別 Locality | C4: 日間照顧及住宿式照顧補助Subsidies for Day Care and Residential Care
C5: 合計 Total | G5: 一般對象 General | S5: 特殊對象 Special
G6: 計 Subtotal | K6: 住宿式照顧 Residential Care | O6: 日間照顧 Day Care | S6: 計 Subtotal | W6: 住宿式照顧 Residential Care | AA6: 日間照顧 Day Care
C7: 期底人數 Persons (End of Year) | F7: 金額 (千元) Amounts (NT$1,000) | G7: 期底人數 Persons (End of Year) | J7: 金額 (千元) Amounts (NT$1,000) | K7: 期底人數 Persons (End of Year) | N7: 金額 (千元) Amounts (NT$1,000) | O7: 期底人數 Persons (End of Year) | R7: 金額 (千元) Amounts (NT$1,000) | S7: 期底人數 Persons (End of Year) | V7: 金額 (千元) Amounts (NT$1,000) | W7: 期底人數 Persons (End of Year) | Z7: 金額 (千元) Amounts (NT$1,000) | AA7: 期底人數 Persons (End of Year) | AD7: 金額 (千元) Amounts (NT$1,000)
C8: 計 Subtotal | D8: 男 Male | E8: 女 Female | G8: 計 Subtotal | H8: 男 Male | I8: 女 Female | K8: 計 Subtotal | L8: 男 Male | M8: 女 Female | O8: 計 Subtotal | P8: 男 Male | Q8: 女 Female | S8: 計 Subtotal | T8: 男 Male | U8: 女 Female | W8: 計 Subtotal | X8: 男 Male | Y8: 女 Female | AA8: 計 Subtotal | AB8: 男 Male | AC8: 女 Female
A9: 總計 | B9: Total | C9: 45751 | D9: 24578 | E9: 21173 | F9: 2281584.6 | G9: 6750 | H9: 3876 | I9: 2874 | J9: 347857.13 | K9: 5340 | L9: 2989 | M9: 2351 | N9: 313802.13 | O9: 1410 | P9: 887 | Q9: 523 | R9: 34055 | S9: 39001 | T9: 20702 | U9: 18299 | V9: 1933727.5 | W9: 37281 | X9: 19678 | Y9: 17603 | Z9: 1881408.5 | AA9: 1720 | AB9: 1024 | AC9: 696 | AD9: 52318.98
A10: 新北市 | B10: New Taipei City | C10: 7886 | D10: 3924 | E10: 3962 | F10: 328095.6 | G10: 428 | H10: 265 | I10: 163 | J10: 16542.157 | K10: 265 | L10: 159 | M10: 106 | N10: 12765.42 | O10: 163 | P10: 106 | Q10: 57 | R10: 3776.737 | S10: 7458 | T10: 3659 | U10: 3799 | V10: 311553.44 | W10: 7304 | X10: 3568 | Y10: 3736 | Z10: 307246.2 | AA10: 154 | AB10: 91 | AC10: 63 | AD10: 4307.237
A11: 臺北市 | B11: Taipei City | C11: 5384 | D11: 2983 | E11: 2401 | F11: 321879.25 | G11: 4078 | H11: 2224 | I11: 1854 | J11: 248303.77 | K11: 3883 | L11: 2107 | M11: 1776 | N11: 241734.89 | O11: 195 | P11: 117 | Q11: 78 | R11: 6568.878 | S11: 1306 | T11: 759 | U11: 547 | V11: 73575.477 | W11: 923 | X11: 527 | Y11: 396 | Z11: 59651.307 | AA11: 383 | AB11: 232 | AC11: 151 | AD11: 13924.17
A12: 桃園市 | B12: Taoyuan City | C12: 3937 | D12: 2024 | E12: 1913 | F12: 192752.28 | G12: 231 | H12: 130 | I12: 101 | J12: 9687.572 | K12: 157 | L12: 83 | M12: 74 | N12: 7768.518 | O12: 74 | P12: 47 | Q12: 27 | R12: 1919.054 | S12: 3706 | T12: 1894 | U12: 1812 | V12: 183064.71 | W12: 3643 | X12: 1851 | Y12: 1792 | Z12: 181148.31 | AA12: 63 | AB12: 43 | AC12: 20 | AD12: 1916.399
A13: 臺中市 | B13: Taichung City | C13: 4128 | D13: 2340 | E13: 1788 | F13: 203914.47 | G13: 377 | H13: 229 | I13: 148 | J13: 12249.857 | K13: 128 | L13: 77 | M13: 51 | N13: 6481.025 | O13: 249 | P13: 152 | Q13: 97 | R13: 5768.832 | S13: 3751 | T13: 2111 | U13: 1640 | V13: 191664.61 | W13: 3499 | X13: 1971 | Y13: 1528 | Z13: 184597.39 | AA13: 252 | AB13: 140 | AC13: 112 | AD13: 7067.226
A14: 臺南市 | B14: Tainan City | C14: 2268 | D14: 1404 | E14: 864 | F14: 114448.83 | G14: 170 | H14: 113 | I14: 57 | J14: 5759.103 | K14: 79 | L14: 55 | M14: 24 | N14: 3683.728 | O14: 91 | P14: 58 | Q14: 33 | R14: 2075.375 | S14: 2098 | T14: 1291 | U14: 807 | V14: 108689.73 | W14: 1942 | X14: 1196 | Y14: 746 | Z14: 104013.37 | AA14: 156 | AB14: 95 | AC14: 61 | AD14: 4676.365
A15: 高雄市 | B15: Kaohsiung City | C15: 5170 | D15: 2750 | E15: 2420 | F15: 233618.3 | G15: 467 | H15: 292 | I15: 175 | J15: 12893.159 | K15: 180 | L15: 109 | M15: 71 | N15: 6887.522 | O15: 287 | P15: 183 | Q15: 104 | R15: 6005.637 | S15: 4703 | T15: 2458 | U15: 2245 | V15: 220725.14 | W15: 4492 | X15: 2340 | Y15: 2152 | Z15: 214864.08 | AA15: 211 | AB15: 118 | AC15: 93 | AD15: 5861.056
A16: 宜蘭縣 | B16: Yilan County | C16: 1588 | D16: 789 | E16: 799 | F16: 78226.306 | G16: 58 | H16: 38 | I16: 20 | J16: 2456.123 | K16: 45 | L16: 29 | M16: 16 | N16: 2182.634 | O16: 13 | P16: 9 | Q16: 4 | R16: 273.489 | S16: 1530 | T16: 751 | U16: 779 | V16: 75770.183 | W16: 1442 | X16: 700 | Y16: 742 | Z16: 73415.173 | AA16: 88 | AB16: 51 | AC16: 37 | AD16: 2355.01
A17: 新竹縣 | B17: Hsinchu County | C17: 897 | D17: 482 | E17: 415 | F17: 42919.518 | G17: 52 | H17: 33 | I17: 19 | J17: 2109.224 | K17: 35 | L17: 18 | M17: 17 | N17: 1712.75 | O17: 17 | P17: 15 | Q17: 2 | R17: 396.474 | S17: 845 | T17: 449 | U17: 396 | V17: 40810.294 | W17: 818 | X17: 431 | Y17: 387 | Z17: 40048.702 | AA17: 27 | AB17: 18 | AC17: 9 | AD17: 761.592
A18: 苗栗縣 | B18: Miaoli County | C18: 1418 | D18: 753 | E18: 665 | F18: 72667.485 | G18: 54 | H18: 35 | I18: 19 | J18: 1901.562 | K18: 34 | L18: 20 | M18: 14 | N18: 1508.51 | O18: 20 | P18: 15 | Q18: 5 | R18: 393.052 | S18: 1364 | T18: 718 | U18: 646 | V18: 70765.923 | W18: 1333 | X18: 702 | Y18: 631 | Z18: 69834.149 | AA18: 31 | AB18: 16 | AC18: 15 | AD18: 931.774
A19: 彰化縣 | B19: Changhua County | C19: 2148 | D19: 1333 | E19: 815 | F19: 107180.1 | G19: 188 | H19: 116 | I19: 72 | J19: 7603.062 | K19: 109 | L19: 72 | M19: 37 | N19: 5729.395 | O19: 79 | P19: 44 | Q19: 35 | R19: 1873.667 | S19: 1960 | T19: 1217 | U19: 743 | V19: 99577.042 | W19: 1871 | X19: 1160 | Y19: 711 | Z19: 97005.109 | AA19: 89 | AB19: 57 | AC19: 32 | AD19: 2571.933
A20: 南投縣 | B20: Nantou County | C20: 1421 | D20: 770 | E20: 651 | F20: 96494.41 | G20: 60 | H20: 32 | I20: 28 | J20: 3758.934 | K20: 50 | L20: 29 | M20: 21 | N20: 3436.881 | O20: 10 | P20: 3 | Q20: 7 | R20: 322.053 | S20: 1361 | T20: 738 | U20: 623 | V20: 92735.476 | W20: 1339 | X20: 725 | Y20: 614 | Z20: 91802.764 | AA20: 22 | AB20: 13 | AC20: 9 | AD20: 932.712
... A31: 連江縣 | B31: Lienchiang County | C31: 17 | D31: 11 | E31: 6 | F31: 721.788 | G31: 2 | H31: 2 | I31: 0 | J31: 65.637 | K31: 1 | L31: 1 | M31: 0 | N31: 49.725 | O31: 1 | P31: 1 | Q31: 0 | R31: 15.912 | S31: 15 | T31: 9 | U31: 6 | V31: 656.151 | W31: 15 | X31: 9 | Y31: 6 | Z31: 656.151 | AA31: 0 | AB31: 0 | AC31: 0 | AD31: 0
A32: 資料來源：直轄市、縣(市)政府。
A33: 附 註：1.一般對象：依身心障礙者日間照顧及住宿式照顧費用補助辦法第5條而發給之補助對象。
A34: 2.特殊對象：依身心障礙者日間照顧及住宿式照顧費用補助辦法第6條而發給之補助對象。
A36: Source : County and City Government.
A38: 更新日期：2025/06/20
A40: 總計 | B40: Total | C40: 45751 | D40: 24578 | E40: 21173 | F40: 2281584.6 | G40: 6750 | H40: 3876 | I40: 2874 | J40: 347857.13 | K40: 5340 | L40: 2989 | M40: 2351 | N40: 313802.13 | O40: 1410 | P40: 887 | Q40: 523 | R40: 34055 | S40: 39001 | T40: 20702 | U40: 18299 | V40: 1933727.5 | W40: 37281 | X40: 19678 | Y40: 17603 | Z40: 1881408.5 | AA40: 1720 | AB40: 1024 | AC40: 696 | AD40: 52318.98
A41: 新北市 | B41: New Taipei City | C41: 7886 | D41: 3924 | E41: 3962 | F41: 328095.6 | G41: 428 | H41: 265 | I41: 163 | J41: 16542.157 | K41: 265 | L41: 159 | M41: 106 | N41: 12765.42 | O41: 163 | P41: 106 | Q41: 57 | R41: 3776.737 | S41: 7458 | T41: 3659 | U41: 3799 | V41: 311553.44 | W41: 7304 | X41: 3568 | Y41: 3736 | Z41: 307246.2 | AA41: 154 | AB41: 91 | AC41: 63 | AD41: 4307.237
A42: 臺北市 | B42: Taipei City | C42: 5384 | D42: 2983 | E42: 2401 | F42: 321879.25 | G42: 4078 | H42: 2224 | I42: 1854 | J42: 248303.77 | K42: 3883 | L42: 2107 | M42: 1776 | N42: 241734.89 | O42: 195 | P42: 117 | Q42: 78 | R42: 6568.878 | S42: 1306 | T42: 759 | U42: 547 | V42: 73575.477 | W42: 923 | X42: 527 | Y42: 396 | Z42: 59651.307 | AA42: 383 | AB42: 232 | AC42: 151 | AD42: 13924.17
A43: 桃園市 | B43: Taoyuan City | C43: 3937 | D43: 2024 | E43: 1913 | F43: 192752.28 | G43: 231 | H43: 130 | I43: 101 | J43: 9687.572 | K43: 157 | L43: 83 | M43: 74 | N43: 7768.518 | O43: 74 | P43: 47 | Q43: 27 | R43: 1919.054 | S43: 3706 | T43: 1894 | U43: 1812 | V43: 183064.71 | W43: 3643 | X43: 1851 | Y43: 1792 | Z43: 181148.31 | AA43: 63 | AB43: 43 | AC43: 20 | AD43: 1916.399
A44: 臺中市 | B44: Taichung City | C44: 4128 | D44: 2340 | E44: 1788 | F44: 203914.47 | G44: 377 | H44: 229 | I44: 148 | J44: 12249.857 | K44: 128 | L44: 77 | M44: 51 | N44: 6481.025 | O44: 249 | P44: 152 | Q44: 97 | R44: 5768.832 | S44: 3751 | T44: 2111 | U44: 1640 | V44: 191664.61 | W44: 3499 | X44: 1971 | Y44: 1528 | Z44: 184597.39 | AA44: 252 | AB44: 140 | AC44: 112 | AD44: 7067.226
A45: 臺南市 | B45: Tainan City | C45: 2268 | D45: 1404 | E45: 864 | F45: 114448.83 | G45: 170 | H45: 113 | I45: 57 | J45: 5759.103 | K45: 79 | L45: 55 | M45: 24 | N45: 3683.728 | O45: 91 | P45: 58 | Q45: 33 | R45: 2075.375 | S45: 2098 | T45: 1291 | U45: 807 | V45: 108689.73 | W45: 1942 | X45: 1196 | Y45: 746 | Z45: 104013.37 | AA45: 156 | AB45: 95 | AC45: 61 | AD45: 4676.365
A46: 高雄市 | B46: Kaohsiung City | C46: 5170 | D46: 2750 | E46: 2420 | F46: 233618.3 | G46: 467 | H46: 292 | I46: 175 | J46: 12893.159 | K46: 180 | L46: 109 | M46: 71 | N46: 6887.522 | O46: 287 | P46: 183 | Q46: 104 | R46: 6005.637 | S46: 4703 | T46: 2458 | U46: 2245 | V46: 220725.14 | W46: 4492 | X46: 2340 | Y46: 2152 | Z46: 214864.08 | AA46: 211 | AB46: 118 | AC46: 93 | AD46: 5861.056
A47: 宜蘭縣 | B47: Yilan County | C47: 1588 | D47: 789 | E47: 799 | F47: 78226.306 | G47: 58 | H47: 38 | I47: 20 | J47: 2456.123 | K47: 45 | L47: 29 | M47: 16 | N47: 2182.634 | O47: 13 | P47: 9 | Q47: 4 | R47: 273.489 | S47: 1530 | T47: 751 | U47: 779 | V47: 75770.183 | W47: 1442 | X47: 700 | Y47: 742 | Z47: 73415.173 | AA47: 88 | AB47: 51 | AC47: 37 | AD47: 2355.01
A48: 新竹縣 | B48: Hsinchu County | C48: 897 | D48: 482 | E48: 415 | F48: 42919.518 | G48: 52 | H48: 33 | I48: 19 | J48: 2109.224 | K48: 35 | L48: 18 | M48: 17 | N48: 1712.75 | O48: 17 | P48: 15 | Q48: 2 | R48: 396.474 | S48: 845 | T48: 449 | U48: 396 | V48: 40810.294 | W48: 818 | X48: 431 | Y48: 387 | Z48: 40048.702 | AA48: 27 | AB48: 18 | AC48: 9 | AD48: 761.592
A49: 苗栗縣 | B49: Miaoli County | C49: 1418 | D49: 753 | E49: 665 | F49: 72667.485 | G49: 54 | H49: 35 | I49: 19 | J49: 1901.562 | K49: 34 | L49: 20 | M49: 14 | N49: 1508.51 | O49: 20 | P49: 15 | Q49: 5 | R49: 393.052 | S49: 1364 | T49: 718 | U49: 646 | V49: 70765.923 | W49: 1333 | X49: 702 | Y49: 631 | Z49: 69834.149 | AA49: 31 | AB49: 16 | AC49: 15 | AD49: 931.774
A50: 彰化縣 | B50: Changhua County | C50: 2148 | D50: 1333 | E50: 815 | F50: 107180.1 | G50: 188 | H50: 116 | I50: 72 | J50: 7603.062 | K50: 109 | L50: 72 | M50: 37 | N50: 5729.395 | O50: 79 | P50: 44 | Q50: 35 | R50: 1873.667 | S50: 1960 | T50: 1217 | U50: 743 | V50: 99577.042 | W50: 1871 | X50: 1160 | Y50: 711 | Z50: 97005.109 | AA50: 89 | AB50: 57 | AC50: 32 | AD50: 2571.933
A51: 南投縣 | B51: Nantou County | C51: 1421 | D51: 770 | E51: 651 | F51: 96494.41 | G51: 60 | H51: 32 | I51: 28 | J51: 3758.934 | K51: 50 | L51: 29 | M51: 21 | N51: 3436.881 | O51: 10 | P51: 3 | Q51: 7 | R51: 322.053 | S51: 1361 | T51: 738 | U51: 623 | V51: 92735.476 | W51: 1339 | X51: 725 | Y51: 614 | Z51: 91802.764 | AA51: 22 | AB51: 13 | AC51: 9 | AD51: 932.712
... A62: 連江縣 | B62: Lienchiang County | C62: 17 | D62: 11 | E62: 6 | F62: 721.788 | G62: 2 | H62: 2 | I62: 0 | J62: 65.637 | K62: 1 | L62: 1 | M62: 0 | N62: 49.725 | O62: 1 | P62: 1 | Q62: 0 | R62: 15.912 | S62: 15 | T62: 9 | U62: 6 | V62: 656.151 | W62: 15 | X62: 9 | Y62: 6 | Z62: 656.151 | AA62: 0 | AB62: 0 | AC62: 0 | AD62: 0
A64: 總計 | B64: Total | C64: =IF(C40=C9,"","*") | D64: =IF(D40=D9,"","*") | E64: =IF(E40=E9,"","*") | F64: =IF(F40=F9,"","*") | G64: =IF(G40=G9,"","*") | H64: =IF(H40=H9,"","*") | I64: =IF(I40=I9,"","*") | J64: =IF(J40=J9,"","*") | ... AD64: =IF(AD40=AD9,"","*")
A65: 新北市 | B65: New Taipei City | C65: =IF(C41=C10,"","*") | D65: =IF(D41=D10,"","*") | E65: =IF(E41=E10,"","*") | F65: =IF(F41=F10,"","*") | G65: =IF(G41=G10,"","*") | H65: =IF(H41=H10,"","*") | I65: =IF(I41=I10,"","*") | J65: =IF(J41=J10,"","*") | ... AD65: =IF(AD41=AD10,"","*")
...

Sheet Q3,2024
A1: 身心障礙者日間照顧及住宿式照顧補助Subsidies of Day Care and Residential Care for Disabled
A3: 113年第3季,2024 Q3 | C3: =IF(C9=SUM(C10:C31),"",SUM(C10:C31)) | D3: =IF(D9=SUM(D10:D31),"",SUM(D10:D31)) | E3: =IF(E9=SUM(E10:E31),"",SUM(E10:E31)) | F3: =IF(F9=SUM(F10:F31),"",SUM(F10:F31)) | G3: =IF(G9=SUM(G10:G31),"",SUM(G10:G31)) | H3: =IF(H9=SUM(H10:H31),"",SUM(H10:H31)) | I3: =IF(I9=SUM(I10:I31),"",SUM(I10:I31)) | J3: =IF(J9=SUM(J10:J31),"",SUM(J10:J31)) | ... AD3: =IF(AD9=SUM(AD10:AD31),"",SUM(AD10:AD31))
A4: 區域別 Locality | C4: 日間照顧及住宿式照顧補助Subsidies for Day Care and Residential Care
C5: 合計 Total | G5: 一般對象 General | S5: 特殊對象 Special
G6: 計 Subtotal | K6: 住宿式照顧 Residential Care | O6: 日間照顧 Day Care | S6: 計 Subtotal | W6: 住宿式照顧 Residential Care | AA6: 日間照顧 Day Care
