Workbook
Name pp: '2005'!$B$1:$K$16
Name pp: '2006'!$B$1:$K$16
Name pp: '2007'!$B$1:$K$16
Name pp: '2008'!$B$1:$K$16
Name pp: '2009'!$B$1:$K$16
Name pp: '2010'!$B$1:$K$16
Name pp: '2011'!$B$1:$K$32
Name pp: '2011~2018'!$B$1:$K$16
Name pp: '2012'!$B$1:$K$32
Name pp: '2013'!$B$1:$K$32
Name pp: '2014'!$B$1:$K$33
Name pp: '2015'!$B$5:$K$36
Name pp: '2016'!$B$5:$K$36
Name pp: '2016Q1'!$B$1:$U$42
Name pp: '2016Q2'!$B$1:$U$42
Name pp: '2016Q3'!$B$1:$U$42
Name pp: '2016Q4'!$B$1:$U$42
Name pp: '2017'!$B$5:$K$36
Name pp: '2017Q1'!$B$1:$U$43
Name pp: '2017Q2'!$B$1:$U$43
Name pp: '2017Q3'!$B$1:$U$43
Name pp: '2017Q4'!$B$1:$U$43
Name pp: '2018'!$B$5:$K$36
Name pp: '2019'!$B$1:$J$37
Name pp: '2019Q1'!$B$1:$T$39
Name pp: '2019Q2'!$B$1:$T$39
Name pp: '2019Q3'!$B$1:$T$39
Name pp: '2019Q4'!$B$1:$T$39
Name pp: '2020'!$B$6:$J$37
Name pp: '歷年(2019~)'!$B$1:$J$10
Name pp: !#REF!

Sheet 歷年(2019~)
A1: 家庭暴力通報案件被害人性別及籍別統計(單位：人數)
A2: 單位：人數 unit:Person
A3: 年 別 Year | C3: 性別 | D3: 被害人數 Victims
D4: 國籍、身分別 By Nationality and Identity
D5: 合計 | E5: 本國籍非原住民 | F5: 本國籍原住民 | G5: 大陸及 港澳籍 | H5: 外國籍 | I5: 無國籍 | J5: 資料 不明
C6: Gender | D6: Total | E6: Non-aboriginal Native | F6: Aboriginal Native | G6: Mainland China and Hong Kong and Macau | H6: Foreign | I6: Stateless | J6: Unknown Information
A7: 108年 2019 | C7: 計 Total | D7: 103930 | E7: 93635 | F7: 5522 | G7: 1231 | H7: 1329 | I7: 28 | J7: 2185
C8: 男 Male | D8: 33498 | E8: 31151 | F8: 1567 | G8: 44 | H8: 126 | I8: 13 | J8: 597
C9: 女 Female | D9: 70362 | E9: 62446 | F9: 3953 | G9: 1187 | H9: 1203 | I9: 15 | J9: 1558
C10: 其他 Other | D10: 70 | E10: 38 | F10: 2 | G10: 0 | H10: 0 | I10: 0 | J10: 30
A11: 109年 2020 | C11: 計 Total | D11: 114381 | E11: 103703 | F11: 5970 | G11: 1193 | H11: 1235 | I11: 17 | J11: 2263
C12: 男 Male | D12: 39225 | E12: 36444 | F12: 1791 | G12: 48 | H12: 142 | I12: 3 | J12: 797
C13: 女 Female | D13: 75083 | E13: 67222 | F13: 4176 | G13: 1143 | H13: 1090 | I13: 14 | J13: 1438
C14: 其他 Other | D14: 73 | E14: 37 | F14: 3 | G14: 2 | H14: 3 | I14: 0 | J14: 28
A15: 110年 2021 | C15: 計 Total | D15: 118532 | E15: 107596 | F15: 6278 | G15: 993 | H15: 1431 | I15: 27 | J15: 2207
C16: 男 Male | D16: 42274 | E16: 39200 | F16: 2062 | G16: 52 | H16: 202 | I16: 13 | J16: 745
C17: 女 Female | D17: 76189 | E17: 68359 | F17: 4212 | G17: 941 | H17: 1228 | I17: 14 | J17: 1435
C18: 其他 Other | D18: 22 | E18: 15 | F18: 0 | G18: 0 | H18: 0 | I18: 0 | J18: 7
C19: 不詳Unknown | D19: 47 | E19: 22 | F19: 4 | G19: 0 | H19: 1 | I19: 0 | J19: 20
A20: 111年 2022 | C20: 計 Total | D20: 123741 | E20: 112769 | F20: 6548 | G20: 935 | H20: 1296 | I20: 25 | J20: 2168
C21: 男 Male | D21: 44773 | E21: 41625 | F21: 2184 | G21: 39 | H21: 199 | I21: 13 | J21: 713
C22: 女 Female | D22: 78903 | E22: 71104 | F22: 4358 | G22: 895 | H22: 1097 | I22: 12 | J22: 1437
C23: 其他 Other | D23: 14 | E23: 9 | F23: 2 | G23: 0 | H23: 0 | I23: 0 | J23: 3
C24: 不詳Unknown | D24: 51 | E24: 31 | F24: 4 | G24: 1 | H24: 0 | I24: 0 | J24: 15
A25: 112年 2023 | C25: 計 Total | D25: 132147 | E25: 120607 | F25: 7006 | G25: 923 | H25: 1357 | I25: 33 | J25: 2221
C26: 男 Male | D26: 48891 | E26: 45489 | F26: 2315 | G26: 61 | H26: 220 | I26: 14 | J26: 792
C27: 女 Female | D27: 83179 | E27: 75062 | F27: 4685 | G27: 862 | H27: 1137 | I27: 19 | J27: 1414
C28: 其他 Other | D28: 13 | E28: 12 | F28: 0 | G28: 0 | H28: 0 | I28: 0 | J28: 1
C29: 不詳Unknown | D29: 64 | E29: 44 | F29: 6 | G29: 0 | H29: 0 | I29: 0 | J29: 14
A30: 113年 2024 | C30: 計 Total | D30: 138859 | E30: 126845 | F30: 7429 | G30: 913 | H30: 1464 | I30: 28 | J30: 2180
C31: 男 Male | D31: 52894 | E31: 49151 | F31: 2548 | G31: 55 | H31: 266 | I31: 15 | J31: 859
C32: 女 Female | D32: 85864 | E32: 77620 | F32: 4874 | G32: 857 | H32: 1197 | I32: 13 | J32: 1303
C33: 其他 Other | D33: 14 | E33: 10 | F33: 1 | G33: 1 | H33: 1 | I33: 0 | J33: 1
C34: 不詳Unknown | D34: 87 | E34: 64 | F34: 6 | G34: 0 | H34: 0 | I34: 0 | J34: 17
A35: 114年 2025 | C35: 計 Total | D35: 146105 | E35: 132473 | F35: 8041 | G35: 900 | H35: 1679 | I35: 25 | J35: 2987
C36: 男 Male | D36: 56855 | E36: 52370 | F36: 2893 | G36: 75 | H36: 312 | I36: 12 | J36: 1193
C37: 女 Female | D37: 89121 | E37: 80008 | F37: 5141 | G37: 824 | H37: 1366 | I37: 13 | J37: 1769
C38: 其他 Other | D38: 13 | E38: 13 | F38: 0 | G38: 0 | H38: 0 | I38: 0 | J38: 0
C39: 不詳Unknown | D39: 116 | E39: 82 | F39: 7 | G39: 1 | H39: 1 | I39: 0 | J39: 25
A40: 資料來源：本部保護服務司。
A41: Source :Department of Protective Services , MOHW.
A44: 更新日期：2026/3/27

Sheet 2025
A1: 家庭暴力事件通報被害及相對人概況Overview of Victim and Offender Status in Reporting Cases of Domestic Violence
A2: 114年，2025
A3: 單位：人數 unit:Person
A4: 區域別 Locality | C4: 性別 | D4: 國籍、身分別 By Nationality and Identity
D6: 合計 | E6: 本國籍 非原住民 | F6: 本國籍 原住民 | G6: 大陸及 港澳籍 | H6: 外國籍 | I6: 無國籍 | J6: 資料 不明
C7: Gender | D7: Total | E7: Non-aboriginal Native | F7: Aboriginal Native | G7: Mainland China and Hong Kong and Macau | H7: Foreign | I7: Stateless | J7: Unknown Information
A8: 總計 | C8: 計 Total | D8: 146105 | E8: 132473 | F8: 8041 | G8: 900 | H8: 1679 | I8: 25 | J8: 2987
C9: 男 Male | D9: 56855 | E9: 52370 | F9: 2893 | G9: 75 | H9: 312 | I9: 12 | J9: 1193
A10: Total | C10: 女 Female | D10: 89121 | E10: 80008 | F10: 5141 | G10: 824 | H10: 1366 | I10: 13 | J10: 1769
C11: 其他 Other | D11: 13 | E11: 13 | F11: 0 | G11: 0 | H11: 0 | I11: 0 | J11: 0
C12: 不詳Unknown | D12: 116 | E12: 82 | F12: 7 | G12: 1 | H12: 1 | I12: 0 | J12: 25
A13: 新北市 | C13: 計 Total | D13: 24510 | E13: 21765 | F13: 552 | G13: 190 | H13: 320 | I13: 5 | J13: 1678
C14: 男 Male | D14: 9014 | E14: 8051 | F14: 220 | G14: 13 | H14: 59 | I14: 2 | J14: 669
A15: New Taipei City | C15: 女 Female | D15: 15440 | E15: 13679 | F15: 329 | G15: 176 | H15: 261 | I15: 3 | J15: 992
C16: 其他 Other | D16: 2 | E16: 2 | F16: 0 | G16: 0 | H16: 0 | I16: 0 | J16: 0
C17: 不詳Unknown | D17: 54 | E17: 33 | F17: 3 | G17: 1 | H17: 0 | I17: 0 | J17: 17
A18: 臺北市 | C18: 計 Total | D18: 14075 | E18: 13184 | F18: 119 | G18: 134 | H18: 209 | I18: 7 | J18: 422
C19: 男 Male | D19: 5628 | E19: 5322 | F19: 44 | G19: 16 | H19: 69 | I19: 5 | J19: 172
A20: Taipei City | C20: 女 Female | D20: 8426 | E20: 7845 | F20: 75 | G20: 118 | H20: 139 | I20: 2 | J20: 247
C21: 其他 Other | D21: 3 | E21: 3 | F21: 0 | G21: 0 | H21: 0 | I21: 0 | J21: 0
C22: 不詳Unknown | D22: 18 | E22: 14 | F22: 0 | G22: 0 | H22: 1 | I22: 0 | J22: 3
A23: 桃園市 | C23: 計 Total | D23: 15565 | E23: 13551 | F23: 1678 | G23: 83 | H23: 224 | I23: 1 | J23: 28
C24: 男 Male | D24: 6085 | E24: 5379 | F24: 655 | G24: 9 | H24: 32 | I24: 1 | J24: 9
A25: Taoyuan City | C25: 女 Female | D25: 9477 | E25: 8169 | F25: 1023 | G25: 74 | H25: 192 | I25: 0 | J25: 19
C26: 其他 Other | D26: 1 | E26: 1 | F26: 0 | G26: 0 | H26: 0 | I26: 0 | J26: 0
C27: 不詳Unknown | D27: 2 | E27: 2 | F27: 0 | G27: 0 | H27: 0 | I27: 0 | J27: 0
A28: 臺中市 | C28: 計 Total | D28: 19542 | E28: 18254 | F28: 587 | G28: 142 | H28: 239 | I28: 5 | J28: 315
C29: 男 Male | D29: 7821 | E29: 7413 | F29: 222 | G29: 11 | H29: 39 | I29: 2 | J29: 134
A30: Taichung City | C30: 女 Female | D30: 11718 | E30: 10838 | F30: 365 | G30: 131 | H30: 200 | I30: 3 | J30: 181
C31: 其他 Other | D31: 2 | E31: 2 | F31: 0 | G31: 0 | H31: 0 | I31: 0 | J31: 0
C32: 不詳Unknown | D32: 1 | E32: 1 | F32: 0 | G32: 0 | H32: 0 | I32: 0 | J32: 0
A33: 臺南市 | C33: 計 Total | D33: 10228 | E33: 9929 | F33: 172 | G33: 33 | H33: 71 | I33: 0 | J33: 23
C34: 男 Male | D34: 3799 | E34: 3712 | F34: 68 | G34: 3 | H34: 12 | I34: 0 | J34: 4
A35: Tainan City | C35: 女 Female | D35: 6426 | E35: 6214 | F35: 104 | G35: 30 | H35: 59 | I35: 0 | J35: 19
C36: 其他 Other | D36: 0 | E36: 0 | F36: 0 | G36: 0 | H36: 0 | I36: 0 | J36: 0
C37: 不詳Unknown | D37: 3 | E37: 3 | F37: 0 | G37: 0 | H37: 0 | I37: 0 | J37: 0
A38: 高雄市 | C38: 計 Total | D38: 19568 | E38: 18623 | F38: 632 | G38: 97 | H38: 166 | I38: 1 | J38: 49
C39: 男 Male | D39: 7891 | E39: 7608 | F39: 227 | G39: 9 | H39: 34 | I39: 0 | J39: 13
A40: Kaohsiung City | C40: 女 Female | D40: 11676 | E40: 11014 | F40: 405 | G40: 88 | H40: 132 | I40: 1 | J40: 36
C41: 其他 Other | D41: 1 | E41: 1 | F41: 0 | G41: 0 | H41: 0 | I41: 0 | J41: 0
C42: 不詳Unknown | D42: 0 | E42: 0 | F42: 0 | G42: 0 | H42: 0 | I42: 0 | J42: 0
B43: 宜蘭縣 | C43: 計 Total | D43: 2332 | E43: 2005 | F43: 248 | G43: 17 | H43: 16 | I43: 0 | J43: 46
C44: 男 Male | D44: 823 | E44: 737 | F44: 65 | G44: 2 | H44: 1 | I44: 0 | J44: 18
B45: Yilan County | C45: 女 Female | D45: 1507 | E45: 1267 | F45: 183 | G45: 15 | H45: 15 | I45: 0 | J45: 27
C46: 其他 Other | D46: 0 | E46: 0 | F46: 0 | G46: 0 | H46: 0 | I46: 0 | J46: 0
C47: 不詳Unknown | D47: 2 | E47: 1 | F47: 0 | G47: 0 | H47: 0 | I47: 0 | J47: 1
B48: 新竹縣 | C48: 計 Total | D48: 3330 | E48: 2847 | F48: 383 | G48: 13 | H48: 48 | I48: 1 | J48: 38
C49: 男 Male | D49: 1325 | E49: 1156 | F49: 148 | G49: 2 | H49: 4 | I49: 0 | J49: 15
B50: Hsinchu County | C50: 女 Female | D50: 2002 | E50: 1688 | F50: 235 | G50: 11 | H50: 44 | I50: 1 | J50: 23
C51: 其他 Other | D51: 0 | E51: 0 | F51: 0 | G51: 0 | H51: 0 | I51: 0 | J51: 0
C52: 不詳Unknown | D52: 3 | E52: 3 | F52: 0 | G52: 0 | H52: 0 | I52: 0 | J52: 0
B53: 苗栗縣 | C53: 計 Total | D53: 2723 | E53: 2444 | F53: 208 | G53: 18 | H53: 27 | I53: 0 | J53: 26
C54: 男 Male | D54: 1039 | E54: 954 | F54: 75 | G54: 0 | H54: 0 | I54: 0 | J54: 10
B55: Miaoli County | C55: 女 Female | D55: 1684 | E55: 1490 | F55: 133 | G55: 18 | H55: 27 | I55: 0 | J55: 16
C56: 其他 Other | D56: 0 | E56: 0 | F56: 0 | G56: 0 | H56: 0 | I56: 0 | J56: 0
C57: 不詳Unknown | D57: 0 | E57: 0 | F57: 0 | G57: 0 | H57: 0 | I57: 0 | J57: 0
B58: 彰化縣 | C58: 計 Total | D58: 8194 | E58: 7840 | F58: 102 | G58: 22 | H58: 108 | I58: 1 | J58: 121
C59: 男 Male | D59: 3494 | E59: 3387 | F59: 36 | G59: 2 | H59: 26 | I59: 0 | J59: 43
B60: Changhua County | C60: 女 Female | D60: 4682 | E60: 4439 | F60: 66 | G60: 20 | H60: 82 | I60: 1 | J60: 74
C61: 其他 Other | D61: 4 | E61: 4 | F61: 0 | G61: 0 | H61: 0 | I61: 0 | J61: 0
C62: 不詳Unknown | D62: 14 | E62: 10 | F62: 0 | G62: 0 | H62: 0 | I62: 0 | J62: 4
B63: 南投縣 | C63: 計 Total | D63: 3199 | E63: 2664 | F63: 461 | G63: 21 | H63: 20 | I63: 1 | J63: 32
C64: 男 Male | D64: 1272 | E64: 1115 | F64: 141 | G64: 0 | H64: 2 | I64: 0 | J64: 14
B65: Nantou County | C65: 女 Female | D65: 1927 | E65: 1549 | F65: 320 | G65: 21 | H65: 18 | I65: 1 | J65: 18
C66: 其他 Other | D66: 0 | E66: 0 | F66: 0 | G66: 0 | H66: 0 | I66: 0 | J66: 0
C67: 不詳Unknown | D67: 0 | E67: 0 | F67: 0 | G67: 0 | H67: 0 | I67: 0 | J67: 0
B68: 雲林縣 | C68: 計 Total | D68: 4070 | E68: 3957 | F68: 46 | G68: 12 | H68: 36 | I68: 0 | J68: 19
C69: 男 Male | D69: 1616 | E69: 1591 | F69: 12 | G69: 0 | H69: 6 | I69: 0 | J69: 7
B70: Yunlin County | C70: 女 Female | D70: 2452 | E70: 2364 | F70: 34 | G70: 12 | H70: 30 | I70: 0 | J70: 12
C71: 其他 Other | D71: 0 | E71: 0 | F71: 0 | G71: 0 | H71: 0 | I71: 0 | J71: 0
C72: 不詳Unknown | D72: 2 | E72: 2 | F72: 0 | G72: 0 | H72: 0 | I72: 0 | J72: 0
B73: 嘉義縣 | C73: 計 Total | D73: 2550 | E73: 2421 | F73: 54 | G73: 18 | H73: 36 | I73: 1 | J73: 20
C74: 男 Male | D74: 1007 | E74: 980 | F74: 14 | G74: 1 | H74: 3 | I74: 1 | J74: 8
B75: Chiayi County | C75: 女 Female | D75: 1539 | E75: 1437 | F75: 40 | G75: 17 | H75: 33 | I75: 0 | J75: 12
C76: 其他 Other | D76: 0 | E76: 0 | F76: 0 | G76: 0 | H76: 0 | I76: 0 | J76: 0
C77: 不詳Unknown | D77: 4 | E77: 4 | F77: 0 | G77: 0 | H77: 0 | I77: 0 | J77: 0
B78: 屏東縣 | C78: 計 Total | D78: 4576 | E78: 3940 | F78: 465 | G78: 39 | H78: 66 | I78: 0 | J78: 66
C79: 男 Male | D79: 1631 | E79: 1472 | F79: 117 | G79: 2 | H79: 9 | I79: 0 | J79: 31
B80: Pingtung County | C80: 女 Female | D80: 2942 | E80: 2467 | F80: 346 | G80: 37 | H80: 57 | I80: 0 | J80: 35
C81: 其他 Other | D81: 0 | E81: 0 | F81: 0 | G81: 0 | H81: 0 | I81: 0 | J81: 0
C82: 不詳Unknown | D82: 3 | E82: 1 | F82: 2 | G82: 0 | H82: 0 | I82: 0 | J82: 0
B83: 臺東縣 | C83: 計 Total | D83: 1626 | E83: 808 | F83: 804 | G83: 5 | H83: 7 | I83: 0 | J83: 2
C84: 男 Male | D84: 592 | E84: 316 | F84: 275 | G84: 0 | H84: 0 | I84: 0 | J84: 1
B85: Taitung County | C85: 女 Female | D85: 1033 | E85: 491 | F85: 529 | G85: 5 | H85: 7 | I85: 0 | J85: 1
C86: 其他 Other | D86: 0 | E86: 0 | F86: 0 | G86: 0 | H86: 0 | I86: 0 | J86: 0
C87: 不詳Unknown | D87: 1 | E87: 1 | F87: 0 | G87: 0 | H87: 0 | I87: 0 | J87: 0
B88: 花蓮縣 | C88: 計 Total | D88: 2767 | E88: 1458 | F88: 1279 | G88: 7 | H88: 9 | I88: 0 | J88: 14
C89: 男 Male | D89: 1051 | E89: 558 | F89: 485 | G89: 1 | H89: 3 | I89: 0 | J89: 4
B90: Hualien County | C90: 女 Female | D90: 1714 | E90: 899 | F90: 793 | G90: 6 | H90: 6 | I90: 0 | J90: 10
C91: 其他 Other | D91: 0 | E91: 0 | F91: 0 | G91: 0 | H91: 0 | I91: 0 | J91: 0
C92: 不詳Unknown | D92: 2 | E92: 1 | F92: 1 | G92: 0 | H92: 0 | I92: 0 | J92: 0
A93: Penghu County | B93: 澎湖縣 | C93: 計 Total | D93: 435 | E93: 415 | F93: 10 | G93: 1 | H93: 4 | I93: 0 | J93: 5
C94: 男 Male | D94: 189 | E94: 182 | F94: 4 | G94: 0 | H94: 0 | I94: 0 | J94: 3
B95: Penghu County | C95: 女 Female | D95: 245 | E95: 232 | F95: 6 | G95: 1 | H95: 4 | I95: 0 | J95: 2
C96: 其他 Other | D96: 0 | E96: 0 | F96: 0 | G96: 0 | H96: 0 | I96: 0 | J96: 0
C97: 不詳Unknown | D97: 1 | E97: 1 | F97: 0 | G97: 0 | H97: 0 | I97: 0 | J97: 0
B98: 基隆市 | C98: 計 Total | D98: 2434 | E98: 2261 | F98: 126 | G98: 13 | H98: 14 | I98: 0 | J98: 20
C99: 男 Male | D99: 997 | E99: 936 | F99: 49 | G99: 1 | H99: 1 | I99: 0 | J99: 10
B100: Keelung City | C100: 女 Female | D100: 1437 | E100: 1325 | F100: 77 | G100: 12 | H100: 13 | I100: 0 | J100: 10
C101: 其他 Other | D101: 0 | E101: 0 | F101: 0 | G101: 0 | H101: 0 | I101: 0 | J101: 0
...

Sheet 2024
A1: 家庭暴力通報案件被害人性別及籍別統計(單位：人數)
A2: 113年，2024
A3: 單位：人數 unit:Person
A4: 區域別 Locality | C4: 性別 | D4: 國籍、身分別 By Nationality and Identity
D6: 合計 | E6: 本國籍 非原住民 | F6: 本國籍 原住民 | G6: 大陸及 港澳籍 | H6: 外國籍 | I6: 無國籍 | J6: 資料 不明
C7: Gender | D7: Total | E7: Non-aboriginal Native | F7: Aboriginal Native | G7: Mainland China and Hong Kong and Macau | H7: Foreign | I7: Stateless | J7: Unknown Information
A8: 總計 | C8: 計 Total | D8: 138859 | E8: 126845 | F8: 7429 | G8: 913 | H8: 1464 | I8: 28 | J8: 2180
C9: 男 Male | D9: 52894 | E9: 49151 | F9: 2548 | G9: 55 | H9: 266 | I9: 15 | J9: 859
A10: Total | C10: 女 Female | D10: 85864 | E10: 77620 | F10: 4874 | G10: 857 | H10: 1197 | I10: 13 | J10: 1303
C11: 其他 Other | D11: 14 | E11: 10 | F11: 1 | G11: 1 | H11: 1 | I11: 0 | J11: 1
C12: 不詳Unknown | D12: 87 | E12: 64 | F12: 6 | G12: 0 | H12: 0 | I12: 0 | J12: 17
A13: 新北市 | C13: 計 Total | D13: 23113 | E13: 20908 | F13: 484 | G13: 182 | H13: 266 | I13: 11 | J13: 1262
C14: 男 Male | D14: 8245 | E14: 7534 | F14: 165 | G14: 13 | H14: 37 | I14: 8 | J14: 488
A15: New Taipei City | C15: 女 Female | D15: 14831 | E15: 13348 | F15: 318 | G15: 168 | H15: 228 | I15: 3 | J15: 766
C16: 其他 Other | D16: 4 | E16: 2 | F16: 0 | G16: 1 | H16: 1 | I16: 0 | J16: 0
C17: 不詳Unknown | D17: 33 | E17: 24 | F17: 1 | G17: 0 | H17: 0 | I17: 0 | J17: 8
A18: 臺北市 | C18: 計 Total | D18: 13194 | E18: 12452 | F18: 128 | G18: 121 | H18: 179 | I18: 4 | J18: 310
C19: 男 Male | D19: 5251 | E19: 4995 | F19: 45 | G19: 9 | H19: 68 | I19: 2 | J19: 132
A20: Taipei City | C20: 女 Female | D20: 7928 | E20: 7445 | F20: 83 | G20: 112 | H20: 111 | I20: 2 | J20: 175
C21: 其他 Other | D21: 1 | E21: 0 | F21: 0 | G21: 0 | H21: 0 | I21: 0 | J21: 1
C22: 不詳Unknown | D22: 14 | E22: 12 | F22: 0 | G22: 0 | H22: 0 | I22: 0 | J22: 2
A23: 桃園市 | C23: 計 Total | D23: 14574 | E23: 12747 | F23: 1504 | G23: 90 | H23: 198 | I23: 1 | J23: 34
C24: 男 Male | D24: 5473 | E24: 4873 | F24: 556 | G24: 8 | H24: 28 | I24: 1 | J24: 7
A25: Taoyuan City | C25: 女 Female | D25: 9100 | E25: 7873 | F25: 948 | G25: 82 | H25: 170 | I25: 0 | J25: 27
C26: 其他 Other | D26: 0 | E26: 0 | F26: 0 | G26: 0 | H26: 0 | I26: 0 | J26: 0
C27: 不詳Unknown | D27: 1 | E27: 1 | F27: 0 | G27: 0 | H27: 0 | I27: 0 | J27: 0
A28: 臺中市 | C28: 計 Total | D28: 18668 | E28: 17634 | F28: 526 | G28: 134 | H28: 189 | I28: 3 | J28: 182
C29: 男 Male | D29: 7147 | E29: 6866 | F29: 183 | G29: 5 | H29: 31 | I29: 1 | J29: 61
A30: Taichung City | C30: 女 Female | D30: 11512 | E30: 10763 | F30: 342 | G30: 129 | H30: 158 | I30: 2 | J30: 118
C31: 其他 Other | D31: 2 | E31: 2 | F31: 0 | G31: 0 | H31: 0 | I31: 0 | J31: 0
C32: 不詳Unknown | D32: 7 | E32: 3 | F32: 1 | G32: 0 | H32: 0 | I32: 0 | J32: 3
A33: 臺南市 | C33: 計 Total | D33: 9273 | E33: 8995 | F33: 143 | G33: 39 | H33: 69 | I33: 2 | J33: 25
C34: 男 Male | D34: 3438 | E34: 3365 | F34: 42 | G34: 3 | H34: 15 | I34: 1 | J34: 12
A35: Tainan City | C35: 女 Female | D35: 5832 | E35: 5627 | F35: 101 | G35: 36 | H35: 54 | I35: 1 | J35: 13
C36: 其他 Other | D36: 2 | E36: 2 | F36: 0 | G36: 0 | H36: 0 | I36: 0 | J36: 0
C37: 不詳Unknown | D37: 1 | E37: 1 | F37: 0 | G37: 0 | H37: 0 | I37: 0 | J37: 0
A38: 高雄市 | C38: 計 Total | D38: 18612 | E38: 17806 | F38: 518 | G38: 114 | H38: 145 | I38: 2 | J38: 27
C39: 男 Male | D39: 7507 | E39: 7279 | F39: 175 | G39: 7 | H39: 36 | I39: 0 | J39: 10
A40: Kaohsiung City | C40: 女 Female | D40: 11101 | E40: 10524 | F40: 343 | G40: 107 | H40: 109 | I40: 2 | J40: 16
C41: 其他 Other | D41: 0 | E41: 0 | F41: 0 | G41: 0 | H41: 0 | I41: 0 | J41: 0
C42: 不詳Unknown | D42: 4 | E42: 3 | F42: 0 | G42: 0 | H42: 0 | I42: 0 | J42: 1
B43: 宜蘭縣 | C43: 計 Total | D43: 2193 | E43: 1897 | F43: 241 | G43: 21 | H43: 20 | I43: 0 | J43: 14
C44: 男 Male | D44: 762 | E44: 687 | F44: 67 | G44: 0 | H44: 2 | I44: 0 | J44: 6
B45: Yilan County | C45: 女 Female | D45: 1429 | E45: 1209 | F45: 174 | G45: 21 | H45: 18 | I45: 0 | J45: 7
C46: 其他 Other | D46: 0 | E46: 0 | F46: 0 | G46: 0 | H46: 0 | I46: 0 | J46: 0
C47: 不詳Unknown | D47: 2 | E47: 1 | F47: 0 | G47: 0 | H47: 0 | I47: 0 | J47: 1
B48: 新竹縣 | C48: 計 Total | D48: 3505 | E48: 2968 | F48: 433 | G48: 26 | H48: 45 | I48: 2 | J48: 31
C49: 男 Male | D49: 1377 | E49: 1180 | F49: 166 | G49: 0 | H49: 9 | I49: 1 | J49: 21
B50: Hsinchu County | C50: 女 Female | D50: 2126 | E50: 1787 | F50: 266 | G50: 26 | H50: 36 | I50: 1 | J50: 10
C51: 其他 Other | D51: 1 | E51: 1 | F51: 0 | G51: 0 | H51: 0 | I51: 0 | J51: 0
C52: 不詳Unknown | D52: 1 | E52: 0 | F52: 1 | G52: 0 | H52: 0 | I52: 0 | J52: 0
B53: 苗栗縣 | C53: 計 Total | D53: 2625 | E53: 2390 | F53: 185 | G53: 8 | H53: 26 | I53: 0 | J53: 16
C54: 男 Male | D54: 1007 | E54: 931 | F54: 65 | G54: 0 | H54: 3 | I54: 0 | J54: 8
B55: Miaoli County | C55: 女 Female | D55: 1617 | E55: 1458 | F55: 120 | G55: 8 | H55: 23 | I55: 0 | J55: 8
C56: 其他 Other | D56: 0 | E56: 0 | F56: 0 | G56: 0 | H56: 0 | I56: 0 | J56: 0
C57: 不詳Unknown | D57: 1 | E57: 1 | F57: 0 | G57: 0 | H57: 0 | I57: 0 | J57: 0
B58: 彰化縣 | C58: 計 Total | D58: 7831 | E58: 7510 | F58: 109 | G58: 26 | H58: 96 | I58: 0 | J58: 90
C59: 男 Male | D59: 3315 | E59: 3226 | F59: 32 | G59: 3 | H59: 15 | I59: 0 | J59: 39
B60: Changhua County | C60: 女 Female | D60: 4505 | E60: 4276 | F60: 76 | G60: 23 | H60: 81 | I60: 0 | J60: 49
C61: 其他 Other | D61: 1 | E61: 1 | F61: 0 | G61: 0 | H61: 0 | I61: 0 | J61: 0
C62: 不詳Unknown | D62: 10 | E62: 7 | F62: 1 | G62: 0 | H62: 0 | I62: 0 | J62: 2
B63: 南投縣 | C63: 計 Total | D63: 3139 | E63: 2644 | F63: 439 | G63: 16 | H63: 22 | I63: 1 | J63: 17
C64: 男 Male | D64: 1209 | E64: 1047 | F64: 151 | G64: 0 | H64: 2 | I64: 1 | J64: 8
B65: Nantou County | C65: 女 Female | D65: 1929 | E65: 1596 | F65: 288 | G65: 16 | H65: 20 | I65: 0 | J65: 9
C66: 其他 Other | D66: 0 | E66: 0 | F66: 0 | G66: 0 | H66: 0 | I66: 0 | J66: 0
C67: 不詳Unknown | D67: 1 | E67: 1 | F67: 0 | G67: 0 | H67: 0 | I67: 0 | J67: 0
B68: 雲林縣 | C68: 計 Total | D68: 3851 | E68: 3751 | F68: 33 | G68: 18 | H68: 37 | I68: 0 | J68: 12
C69: 男 Male | D69: 1546 | E69: 1521 | F69: 14 | G69: 1 | H69: 5 | I69: 0 | J69: 5
B70: Yunlin County | C70: 女 Female | D70: 2304 | E70: 2229 | F70: 19 | G70: 17 | H70: 32 | I70: 0 | J70: 7
C71: 其他 Other | D71: 1 | E71: 1 | F71: 0 | G71: 0 | H71: 0 | I71: 0 | J71: 0
C72: 不詳Unknown | D72: 0 | E72: 0 | F72: 0 | G72: 0 | H72: 0 | I72: 0 | J72: 0
B73: 嘉義縣 | C73: 計 Total | D73: 2483 | E73: 2357 | F73: 50 | G73: 18 | H73: 45 | I73: 0 | J73: 13
C74: 男 Male | D74: 934 | E74: 911 | F74: 13 | G74: 1 | H74: 4 | I74: 0 | J74: 5
B75: Chiayi County | C75: 女 Female | D75: 1547 | E75: 1444 | F75: 37 | G75: 17 | H75: 41 | I75: 0 | J75: 8
C76: 其他 Other | D76: 1 | E76: 1 | F76: 0 | G76: 0 | H76: 0 | I76: 0 | J76: 0
C77: 不詳Unknown | D77: 1 | E77: 1 | F77: 0 | G77: 0 | H77: 0 | I77: 0 | J77: 0
B78: 屏東縣 | C78: 計 Total | D78: 4420 | E78: 3884 | F78: 429 | G78: 21 | H78: 38 | I78: 1 | J78: 47
C79: 男 Male | D79: 1627 | E79: 1477 | F79: 124 | G79: 0 | H79: 2 | I79: 0 | J79: 24
B80: Pingtung County | C80: 女 Female | D80: 2790 | E80: 2405 | F80: 304 | G80: 21 | H80: 36 | I80: 1 | J80: 23
C81: 其他 Other | D81: 0 | E81: 0 | F81: 0 | G81: 0 | H81: 0 | I81: 0 | J81: 0
C82: 不詳Unknown | D82: 3 | E82: 2 | F82: 1 | G82: 0 | H82: 0 | I82: 0 | J82: 0
B83: 臺東縣 | C83: 計 Total | D83: 1688 | E83: 889 | F83: 771 | G83: 10 | H83: 10 | I83: 0 | J83: 8
C84: 男 Male | D84: 579 | E84: 324 | F84: 251 | G84: 1 | H84: 1 | I84: 0 | J84: 2
B85: Taitung County | C85: 女 Female | D85: 1107 | E85: 565 | F85: 518 | G85: 9 | H85: 9 | I85: 0 | J85: 6
C86: 其他 Other | D86: 1 | E86: 0 | F86: 1 | G86: 0 | H86: 0 | I86: 0 | J86: 0
C87: 不詳Unknown | D87: 1 | E87: 0 | F87: 1 | G87: 0 | H87: 0 | I87: 0 | J87: 0
B88: 花蓮縣 | C88: 計 Total | D88: 2617 | E88: 1342 | F88: 1210 | G88: 9 | H88: 20 | I88: 0 | J88: 36
C89: 男 Male | D89: 910 | E89: 474 | F89: 420 | G89: 0 | H89: 2 | I89: 0 | J89: 14
B90: Hualien County | C90: 女 Female | D90: 1704 | E90: 865 | F90: 790 | G90: 9 | H90: 18 | I90: 0 | J90: 22
C91: 其他 Other | D91: 0 | E91: 0 | F91: 0 | G91: 0 | H91: 0 | I91: 0 | J91: 0
C92: 不詳Unknown | D92: 3 | E92: 3 | F92: 0 | G92: 0 | H92: 0 | I92: 0 | J92: 0
A93: Penghu County | B93: 澎湖縣 | C93: 計 Total | D93: 372 | E93: 359 | F93: 3 | G93: 6 | H93: 2 | I93: 0 | J93: 2
C94: 男 Male | D94: 136 | E94: 132 | F94: 1 | G94: 1 | H94: 1 | I94: 0 | J94: 1
B95: Penghu County | C95: 女 Female | D95: 235 | E95: 226 | F95: 2 | G95: 5 | H95: 1 | I95: 0 | J95: 1
C96: 其他 Other | D96: 0 | E96: 0 | F96: 0 | G96: 0 | H96: 0 | I96: 0 | J96: 0
C97: 不詳Unknown | D97: 1 | E97: 1 | F97: 0 | G97: 0 | H97: 0 | I97: 0 | J97: 0
B98: 基隆市 | C98: 計 Total | D98: 2493 | E98: 2341 | F98: 113 | G98: 12 | H98: 17 | I98: 0 | J98: 10
C99: 男 Male | D99: 974 | E99: 927 | F99: 46 | G99: 0 | H99: 1 | I99: 0 | J99: 0
B100: Keelung City | C100: 女 Female | D100: 1518 | E100: 1413 | F100: 67 | G100: 12 | H100: 16 | I100: 0 | J100: 10
C101: 其他 Other | D101: 0 | E101: 0 | F101: 0 | G101: 0 | H101: 0 | I101: 0 | J101: 0
...

Sheet 2023
A1: 家庭暴力通報案件被害人性別及籍別統計(單位：人數)
A2: 112年，2023
A3: 單位：人數 unit:Person
A4: 區域別 Locality | C4: 性別 | D4: 國籍、身分別 By Nationality and Identity
D6: 合計 | E6: 本國籍 非原住民 | F6: 本國籍 原住民 | G6: 大陸及 港澳籍 | H6: 外國籍 | I6: 無國籍 | J6: 資料 不明
C7: Gender | D7: Total | E7: Non-aboriginal Native | F7: Aboriginal Native | G7: Mainland China and Hong Kong and Macau | H7: Foreign | I7: Stateless | J7: Unknown Information
A8: 總計 | C8: 計 Total | D8: 132147 | E8: 120607 | F8: 7006 | G8: 923 | H8: 1357 | I8: 33 | J8: 2221
C9: 男 Male | D9: 48891 | E9: 45489 | F9: 2315 | G9: 61 | H9: 220 | I9: 14 | J9: 792
A10: Total | C10: 女 Female | D10: 83179 | E10: 75062 | F10: 4685 | G10: 862 | H10: 1137 | I10: 19 | J10: 1414
C11: 其他 Other | D11: 13 | E11: 12 | F11: 0 | G11: 0 | H11: 0 | I11: 0 | J11: 1
C12: 不詳Unknown | D12: 64 | E12: 44 | F12: 6 | G12: 0 | H12: 0 | I12: 0 | J12: 14
A13: 新北市 | C13: 計 Total | D13: 21299 | E13: 19119 | F13: 400 | G13: 191 | H13: 258 | I13: 6 | J13: 1325
C14: 男 Male | D14: 7238 | E14: 6585 | F14: 149 | G14: 18 | H14: 32 | I14: 4 | J14: 450
A15: New Taipei City | C15: 女 Female | D15: 14029 | E15: 12511 | F15: 249 | G15: 173 | H15: 226 | I15: 2 | J15: 868
C16: 其他 Other | D16: 7 | E16: 7 | F16: 0 | G16: 0 | H16: 0 | I16: 0 | J16: 0
C17: 不詳Unknown | D17: 25 | E17: 16 | F17: 2 | G17: 0 | H17: 0 | I17: 0 | J17: 7
A18: 臺北市 | C18: 計 Total | D18: 12759 | E18: 12021 | F18: 147 | G18: 121 | H18: 176 | I18: 2 | J18: 292
C19: 男 Male | D19: 4911 | E19: 4681 | F19: 48 | G19: 7 | H19: 60 | I19: 1 | J19: 114
A20: Taipei City | C20: 女 Female | D20: 7832 | E20: 7326 | F20: 99 | G20: 114 | H20: 116 | I20: 1 | J20: 176
C21: 其他 Other | D21: 3 | E21: 3 | F21: 0 | G21: 0 | H21: 0 | I21: 0 | J21: 0
C22: 不詳Unknown | D22: 13 | E22: 11 | F22: 0 | G22: 0 | H22: 0 | I22: 0 | J22: 2
A23: 桃園市 | C23: 計 Total | D23: 13500 | E23: 11873 | F23: 1351 | G23: 88 | H23: 160 | I23: 2 | J23: 26
C24: 男 Male | D24: 5033 | E24: 4513 | F24: 484 | G24: 10 | H24: 20 | I24: 0 | J24: 6
A25: Taoyuan City | C25: 女 Female | D25: 8464 | E25: 7357 | F25: 867 | G25: 78 | H25: 140 | I25: 2 | J25: 20
C26: 其他 Other | D26: 0 | E26: 0 | F26: 0 | G26: 0 | H26: 0 | I26: 0 | J26: 0
C27: 不詳Unknown | D27: 3 | E27: 3 | F27: 0 | G27: 0 | H27: 0 | I27: 0 | J27: 0
A28: 臺中市 | C28: 計 Total | D28: 18463 | E28: 17391 | F28: 574 | G28: 127 | H28: 142 | I28: 7 | J28: 222
C29: 男 Male | D29: 6992 | E29: 6677 | F29: 196 | G29: 4 | H29: 21 | I29: 4 | J29: 90
A30: Taichung City | C30: 女 Female | D30: 11469 | E30: 10713 | F30: 378 | G30: 123 | H30: 121 | I30: 3 | J30: 131
C31: 其他 Other | D31: 1 | E31: 0 | F31: 0 | G31: 0 | H31: 0 | I31: 0 | J31: 1
C32: 不詳Unknown | D32: 1 | E32: 1 | F32: 0 | G32: 0 | H32: 0 | I32: 0 | J32: 0
A33: 臺南市 | C33: 計 Total | D33: 8779 | E33: 8515 | F33: 142 | G33: 40 | H33: 61 | I33: 0 | J33: 21
C34: 男 Male | D34: 3047 | E34: 2991 | F34: 38 | G34: 1 | H34: 7 | I34: 0 | J34: 10
A35: Tainan City | C35: 女 Female | D35: 5731 | E35: 5523 | F35: 104 | G35: 39 | H35: 54 | I35: 0 | J35: 11
C36: 其他 Other | D36: 0 | E36: 0 | F36: 0 | G36: 0 | H36: 0 | I36: 0 | J36: 0
C37: 不詳Unknown | D37: 1 | E37: 1 | F37: 0 | G37: 0 | H37: 0 | I37: 0 | J37: 0
A38: 高雄市 | C38: 計 Total | D38: 17824 | E38: 17045 | F38: 490 | G38: 101 | H38: 149 | I38: 2 | J38: 37
C39: 男 Male | D39: 6997 | E39: 6783 | F39: 172 | G39: 6 | H39: 26 | I39: 0 | J39: 10
A40: Kaohsiung City | C40: 女 Female | D40: 10825 | E40: 10260 | F40: 318 | G40: 95 | H40: 123 | I40: 2 | J40: 27
C41: 其他 Other | D41: 1 | E41: 1 | F41: 0 | G41: 0 | H41: 0 | I41: 0 | J41: 0
C42: 不詳Unknown | D42: 1 | E42: 1 | F42: 0 | G42: 0 | H42: 0 | I42: 0 | J42: 0
B43: 宜蘭縣 | C43: 計 Total | D43: 1967 | E43: 1724 | F43: 180 | G43: 14 | H43: 21 | I43: 2 | J43: 26
C44: 男 Male | D44: 679 | E44: 613 | F44: 53 | G44: 1 | H44: 2 | I44: 0 | J44: 10
B45: Yilan County | C45: 女 Female | D45: 1285 | E45: 1108 | F45: 127 | G45: 13 | H45: 19 | I45: 2 | J45: 16
C46: 其他 Other | D46: 0 | E46: 0 | F46: 0 | G46: 0 | H46: 0 | I46: 0 | J46: 0
C47: 不詳Unknown | D47: 3 | E47: 3 | F47: 0 | G47: 0 | H47: 0 | I47: 0 | J47: 0
B48: 新竹縣 | C48: 計 Total | D48: 3176 | E48: 2724 | F48: 366 | G48: 24 | H48: 45 | I48: 2 | J48: 15
C49: 男 Male | D49: 1150 | E49: 1011 | F49: 122 | G49: 2 | H49: 9 | I49: 0 | J49: 6
B50: Hsinchu County | C50: 女 Female | D50: 2026 | E50: 1713 | F50: 244 | G50: 22 | H50: 36 | I50: 2 | J50: 9
C51: 其他 Other | D51: 0 | E51: 0 | F51: 0 | G51: 0 | H51: 0 | I51: 0 | J51: 0
C52: 不詳Unknown | D52: 0 | E52: 0 | F52: 0 | G52: 0 | H52: 0 | I52: 0 | J52: 0
B53: 苗栗縣 | C53: 計 Total | D53: 2441 | E53: 2221 | F53: 165 | G53: 14 | H53: 32 | I53: 0 | J53: 9
C54: 男 Male | D54: 843 | E54: 784 | F54: 53 | G54: 0 | H54: 3 | I54: 0 | J54: 3
B55: Miaoli County | C55: 女 Female | D55: 1598 | E55: 1437 | F55: 112 | G55: 14 | H55: 29 | I55: 0 | J55: 6
C56: 其他 Other | D56: 0 | E56: 0 | F56: 0 | G56: 0 | H56: 0 | I56: 0 | J56: 0
C57: 不詳Unknown | D57: 0 | E57: 0 | F57: 0 | G57: 0 | H57: 0 | I57: 0 | J57: 0
B58: 彰化縣 | C58: 計 Total | D58: 7694 | E58: 7391 | F58: 101 | G58: 38 | H58: 80 | I58: 2 | J58: 82
C59: 男 Male | D59: 3205 | E59: 3122 | F59: 34 | G59: 4 | H59: 16 | I59: 1 | J59: 28
B60: Changhua County | C60: 女 Female | D60: 4482 | E60: 4265 | F60: 67 | G60: 34 | H60: 64 | I60: 1 | J60: 51
C61: 其他 Other | D61: 0 | E61: 0 | F61: 0 | G61: 0 | H61: 0 | I61: 0 | J61: 0
C62: 不詳Unknown | D62: 7 | E62: 4 | F62: 0 | G62: 0 | H62: 0 | I62: 0 | J62: 3
B63: 南投縣 | C63: 計 Total | D63: 3003 | E63: 2534 | F63: 415 | G63: 14 | H63: 27 | I63: 1 | J63: 12
C64: 男 Male | D64: 1125 | E64: 994 | F64: 123 | G64: 1 | H64: 3 | I64: 0 | J64: 4
B65: Nantou County | C65: 女 Female | D65: 1878 | E65: 1540 | F65: 292 | G65: 13 | H65: 24 | I65: 1 | J65: 8
C66: 其他 Other | D66: 0 | E66: 0 | F66: 0 | G66: 0 | H66: 0 | I66: 0 | J66: 0
C67: 不詳Unknown | D67: 0 | E67: 0 | F67: 0 | G67: 0 | H67: 0 | I67: 0 | J67: 0
B68: 雲林縣 | C68: 計 Total | D68: 3503 | E68: 3387 | F68: 37 | G68: 19 | H68: 51 | I68: 1 | J68: 8
C69: 男 Male | D69: 1349 | E69: 1335 | F69: 7 | G69: 1 | H69: 3 | I69: 0 | J69: 3
B70: Yunlin County | C70: 女 Female | D70: 2153 | E70: 2052 | F70: 30 | G70: 18 | H70: 48 | I70: 1 | J70: 4
C71: 其他 Other | D71: 0 | E71: 0 | F71: 0 | G71: 0 | H71: 0 | I71: 0 | J71: 0
C72: 不詳Unknown | D72: 1 | E72: 0 | F72: 0 | G72: 0 | H72: 0 | I72: 0 | J72: 1
B73: 嘉義縣 | C73: 計 Total | D73: 2372 | E73: 2242 | F73: 46 | G73: 24 | H73: 41 | I73: 0 | J73: 19
C74: 男 Male | D74: 882 | E74: 855 | F74: 12 | G74: 1 | H74: 5 | I74: 0 | J74: 9
B75: Chiayi County | C75: 女 Female | D75: 1489 | E75: 1386 | F75: 34 | G75: 23 | H75: 36 | I75: 0 | J75: 10
C76: 其他 Other | D76: 1 | E76: 1 | F76: 0 | G76: 0 | H76: 0 | I76: 0 | J76: 0
C77: 不詳Unknown | D77: 0 | E77: 0 | F77: 0 | G77: 0 | H77: 0 | I77: 0 | J77: 0
B78: 屏東縣 | C78: 計 Total | D78: 4485 | E78: 3952 | F78: 437 | G78: 26 | H78: 31 | I78: 2 | J78: 37
C79: 男 Male | D79: 1624 | E79: 1487 | F79: 120 | G79: 1 | H79: 4 | I79: 1 | J79: 11
B80: Pingtung County | C80: 女 Female | D80: 2860 | E80: 2464 | F80: 317 | G80: 25 | H80: 27 | I80: 1 | J80: 26
C81: 其他 Other | D81: 0 | E81: 0 | F81: 0 | G81: 0 | H81: 0 | I81: 0 | J81: 0
C82: 不詳Unknown | D82: 1 | E82: 1 | F82: 0 | G82: 0 | H82: 0 | I82: 0 | J82: 0
B83: 臺東縣 | C83: 計 Total | D83: 1776 | E83: 913 | F83: 836 | G83: 8 | H83: 8 | I83: 2 | J83: 9
C84: 男 Male | D84: 682 | E84: 392 | F84: 283 | G84: 0 | H84: 0 | I84: 1 | J84: 6
B85: Taitung County | C85: 女 Female | D85: 1092 | E85: 521 | F85: 551 | G85: 8 | H85: 8 | I85: 1 | J85: 3
C86: 其他 Other | D86: 0 | E86: 0 | F86: 0 | G86: 0 | H86: 0 | I86: 0 | J86: 0
C87: 不詳Unknown | D87: 2 | E87: 0 | F87: 2 | G87: 0 | H87: 0 | I87: 0 | J87: 0
B88: 花蓮縣 | C88: 計 Total | D88: 2430 | E88: 1275 | F88: 1104 | G88: 12 | H88: 11 | I88: 0 | J88: 28
C89: 男 Male | D89: 801 | E89: 440 | F89: 352 | G89: 1 | H89: 2 | I89: 0 | J89: 6
B90: Hualien County | C90: 女 Female | D90: 1627 | E90: 835 | F90: 750 | G90: 11 | H90: 9 | I90: 0 | J90: 22
C91: 其他 Other | D91: 0 | E91: 0 | F91: 0 | G91: 0 | H91: 0 | I91: 0 | J91: 0
C92: 不詳Unknown | D92: 2 | E92: 0 | F92: 2 | G92: 0 | H92: 0 | I92: 0 | J92: 0
A93: Penghu County | B93: 澎湖縣 | C93: 計 Total | D93: 337 | E93: 317 | F93: 7 | G93: 2 | H93: 5 | I93: 0 | J93: 6
C94: 男 Male | D94: 122 | E94: 115 | F94: 1 | G94: 1 | H94: 1 | I94: 0 | J94: 4
B95: Penghu County | C95: 女 Female | D95: 214 | E95: 201 | F95: 6 | G95: 1 | H95: 4 | I95: 0 | J95: 2
C96: 其他 Other | D96: 0 | E96: 0 | F96: 0 | G96: 0 | H96: 0 | I96: 0 | J96: 0
C97: 不詳Unknown | D97: 1 | E97: 1 | F97: 0 | G97: 0 | H97: 0 | I97: 0 | J97: 0
B98: 基隆市 | C98: 計 Total | D98: 2386 | E98: 2221 | F98: 117 | G98: 19 | H98: 18 | I98: 0 | J98: 11
C99: 男 Male | D99: 930 | E99: 873 | F99: 49 | G99: 0 | H99: 2 | I99: 0 | J99: 6
B100: Keelung City | C100: 女 Female | D100: 1454 | E100: 1347 | F100: 68 | G100: 19 | H100: 16 | I100: 0 | J100: 4
C101: 其他 Other | D101: 0 | E101: 0 | F101: 0 | G101: 0 | H101: 0 | I101: 0 | J101: 0
...

Sheet 2022
A1: 家庭暴力通報案件被害人性別及籍別統計(單位：人數)
A2: 111年，2022
A3: 單位：人數 unit:Person
A4: 區域別 Locality | C4: 性別 | D4: 國籍、身分別 By Nationality and Identity
D6: 合計 | E6: 本國籍 非原住民 | F6: 本國籍 原住民 | G6: 大陸及 港澳籍 | H6: 外國籍 | I6: 無國籍 | J6: 資料 不明
C7: Gender | D7: Total | E7: Non-aboriginal Native | F7: Aboriginal Native | G7: Mainland China and Hong Kong and Macau | H7: Foreign | I7: Stateless | J7: Unknown Information
A8: 總計 | C8: 計 Total | D8: 123741 | E8: 112769 | F8: 6548 | G8: 935 | H8: 1296 | I8: 25 | J8: 2168
C9: 男 Male | D9: 44773 | E9: 41625 | F9: 2184 | G9: 39 | H9: 199 | I9: 13 | J9: 713
A10: Total | C10: 女 Female | D10: 78903 | E10: 71104 | F10: 4358 | G10: 895 | H10: 1097 | I10: 12 | J10: 1437
C11: 其他 Other | D11: 14 | E11: 9 | F11: 2 | G11: 0 | H11: 0 | I11: 0 | J11: 3
C12: 不詳Unknown | D12: 51 | E12: 31 | F12: 4 | G12: 1 | H12: 0 | I12: 0 | J12: 15
A13: 新北市 | C13: 計 Total | D13: 19774 | E13: 17732 | F13: 396 | G13: 185 | H13: 233 | I13: 2 | J13: 1226
C14: 男 Male | D14: 6464 | E14: 5889 | F14: 150 | G14: 4 | H14: 32 | I14: 1 | J14: 388
A15: New Taipei City | C15: 女 Female | D15: 13274 | E15: 11822 | F15: 245 | G15: 180 | H15: 201 | I15: 1 | J15: 825
C16: 其他 Other | D16: 7 | E16: 4 | F16: 0 | G16: 0 | H16: 0 | I16: 0 | J16: 3
C17: 不詳Unknown | D17: 29 | E17: 17 | F17: 1 | G17: 1 | H17: 0 | I17: 0 | J17: 10
A18: 臺北市 | C18: 計 Total | D18: 12194 | E18: 11489 | F18: 139 | G18: 99 | H18: 143 | I18: 3 | J18: 321
C19: 男 Male | D19: 4717 | E19: 4491 | F19: 52 | G19: 11 | H19: 54 | I19: 2 | J19: 107
A20: Taipei City | C20: 女 Female | D20: 7473 | E20: 6995 | F20: 87 | G20: 88 | H20: 89 | I20: 1 | J20: 213
C21: 其他 Other | D21: 1 | E21: 1 | F21: 0 | G21: 0 | H21: 0 | I21: 0 | J21: 0
C22: 不詳Unknown | D22: 3 | E22: 2 | F22: 0 | G22: 0 | H22: 0 | I22: 0 | J22: 1
A23: 桃園市 | C23: 計 Total | D23: 12410 | E23: 10934 | F23: 1216 | G23: 74 | H23: 149 | I23: 2 | J23: 35
C24: 男 Male | D24: 4389 | E24: 3952 | F24: 405 | G24: 2 | H24: 19 | I24: 2 | J24: 9
A25: Taoyuan City | C25: 女 Female | D25: 8018 | E25: 6980 | F25: 810 | G25: 72 | H25: 130 | I25: 0 | J25: 26
C26: 其他 Other | D26: 1 | E26: 0 | F26: 1 | G26: 0 | H26: 0 | I26: 0 | J26: 0
C27: 不詳Unknown | D27: 2 | E27: 2 | F27: 0 | G27: 0 | H27: 0 | I27: 0 | J27: 0
A28: 臺中市 | C28: 計 Total | D28: 17446 | E28: 16350 | F28: 513 | G28: 140 | H28: 219 | I28: 3 | J28: 221
C29: 男 Male | D29: 6624 | E29: 6302 | F29: 196 | G29: 1 | H29: 36 | I29: 3 | J29: 86
A30: Taichung City | C30: 女 Female | D30: 10816 | E30: 10043 | F30: 316 | G30: 139 | H30: 183 | I30: 0 | J30: 135
C31: 其他 Other | D31: 4 | E31: 3 | F31: 1 | G31: 0 | H31: 0 | I31: 0 | J31: 0
C32: 不詳Unknown | D32: 2 | E32: 2 | F32: 0 | G32: 0 | H32: 0 | I32: 0 | J32: 0
A33: 臺南市 | C33: 計 Total | D33: 8059 | E33: 7808 | F33: 129 | G33: 46 | H33: 64 | I33: 0 | J33: 12
C34: 男 Male | D34: 2759 | E34: 2711 | F34: 37 | G34: 3 | H34: 6 | I34: 0 | J34: 2
A35: Tainan City | C35: 女 Female | D35: 5300 | E35: 5097 | F35: 92 | G35: 43 | H35: 58 | I35: 0 | J35: 10
C36: 其他 Other | D36: 0 | E36: 0 | F36: 0 | G36: 0 | H36: 0 | I36: 0 | J36: 0
C37: 不詳Unknown | D37: 0 | E37: 0 | F37: 0 | G37: 0 | H37: 0 | I37: 0 | J37: 0
A38: 高雄市 | C38: 計 Total | D38: 17217 | E38: 16475 | F38: 460 | G38: 103 | H38: 97 | I38: 3 | J38: 79
C39: 男 Male | D39: 6693 | E39: 6486 | F39: 160 | G39: 6 | H39: 17 | I39: 1 | J39: 23
A40: Kaohsiung City | C40: 女 Female | D40: 10521 | E40: 9987 | F40: 300 | G40: 97 | H40: 80 | I40: 2 | J40: 55
C41: 其他 Other | D41: 1 | E41: 1 | F41: 0 | G41: 0 | H41: 0 | I41: 0 | J41: 0
C42: 不詳Unknown | D42: 2 | E42: 1 | F42: 0 | G42: 0 | H42: 0 | I42: 0 | J42: 1
B43: 宜蘭縣 | C43: 計 Total | D43: 2004 | E43: 1720 | F43: 204 | G43: 20 | H43: 35 | I43: 1 | J43: 24
C44: 男 Male | D44: 637 | E44: 572 | F44: 55 | G44: 2 | H44: 1 | I44: 0 | J44: 7
B45: Yilan County | C45: 女 Female | D45: 1367 | E45: 1148 | F45: 149 | G45: 18 | H45: 34 | I45: 1 | J45: 17
C46: 其他 Other | D46: 0 | E46: 0 | F46: 0 | G46: 0 | H46: 0 | I46: 0 | J46: 0
C47: 不詳Unknown | D47: 0 | E47: 0 | F47: 0 | G47: 0 | H47: 0 | I47: 0 | J47: 0
B48: 新竹縣 | C48: 計 Total | D48: 2956 | E48: 2505 | F48: 360 | G48: 22 | H48: 48 | I48: 2 | J48: 19
C49: 男 Male | D49: 1028 | E49: 901 | F49: 117 | G49: 0 | H49: 3 | I49: 1 | J49: 6
B50: Hsinchu County | C50: 女 Female | D50: 1928 | E50: 1604 | F50: 243 | G50: 22 | H50: 45 | I50: 1 | J50: 13
C51: 其他 Other | D51: 0 | E51: 0 | F51: 0 | G51: 0 | H51: 0 | I51: 0 | J51: 0
C52: 不詳Unknown | D52: 0 | E52: 0 | F52: 0 | G52: 0 | H52: 0 | I52: 0 | J52: 0
B53: 苗栗縣 | C53: 計 Total | D53: 2278 | E53: 2098 | F53: 133 | G53: 19 | H53: 17 | I53: 0 | J53: 11
C54: 男 Male | D54: 804 | E54: 755 | F54: 44 | G54: 0 | H54: 1 | I54: 0 | J54: 4
B55: Miaoli County | C55: 女 Female | D55: 1472 | E55: 1341 | F55: 89 | G55: 19 | H55: 16 | I55: 0 | J55: 7
C56: 其他 Other | D56: 0 | E56: 0 | F56: 0 | G56: 0 | H56: 0 | I56: 0 | J56: 0
C57: 不詳Unknown | D57: 2 | E57: 2 | F57: 0 | G57: 0 | H57: 0 | I57: 0 | J57: 0
B58: 彰化縣 | C58: 計 Total | D58: 6809 | E58: 6514 | F58: 95 | G58: 51 | H58: 77 | I58: 0 | J58: 72
C59: 男 Male | D59: 2722 | E59: 2643 | F59: 36 | G59: 5 | H59: 10 | I59: 0 | J59: 28
B60: Changhua County | C60: 女 Female | D60: 4085 | E60: 3870 | F60: 59 | G60: 46 | H60: 67 | I60: 0 | J60: 43
C61: 其他 Other | D61: 0 | E61: 0 | F61: 0 | G61: 0 | H61: 0 | I61: 0 | J61: 0
C62: 不詳Unknown | D62: 2 | E62: 1 | F62: 0 | G62: 0 | H62: 0 | I62: 0 | J62: 1
B63: 南投縣 | C63: 計 Total | D63: 2694 | E63: 2258 | F63: 385 | G63: 17 | H63: 17 | I63: 1 | J63: 16
C64: 男 Male | D64: 1026 | E64: 880 | F64: 137 | G64: 1 | H64: 2 | I64: 0 | J64: 6
B65: Nantou County | C65: 女 Female | D65: 1668 | E65: 1378 | F65: 248 | G65: 16 | H65: 15 | I65: 1 | J65: 10
C66: 其他 Other | D66: 0 | E66: 0 | F66: 0 | G66: 0 | H66: 0 | I66: 0 | J66: 0
C67: 不詳Unknown | D67: 0 | E67: 0 | F67: 0 | G67: 0 | H67: 0 | I67: 0 | J67: 0
B68: 雲林縣 | C68: 計 Total | D68: 3371 | E68: 3279 | F68: 29 | G68: 25 | H68: 37 | I68: 0 | J68: 1
C69: 男 Male | D69: 1260 | E69: 1244 | F69: 11 | G69: 1 | H69: 3 | I69: 0 | J69: 1
B70: Yunlin County | C70: 女 Female | D70: 2111 | E70: 2035 | F70: 18 | G70: 24 | H70: 34 | I70: 0 | J70: 0
C71: 其他 Other | D71: 0 | E71: 0 | F71: 0 | G71: 0 | H71: 0 | I71: 0 | J71: 0
C72: 不詳Unknown | D72: 0 | E72: 0 | F72: 0 | G72: 0 | H72: 0 | I72: 0 | J72: 0
B73: 嘉義縣 | C73: 計 Total | D73: 2071 | E73: 1968 | F73: 34 | G73: 19 | H73: 36 | I73: 2 | J73: 12
C74: 男 Male | D74: 687 | E74: 672 | F74: 8 | G74: 0 | H74: 2 | I74: 1 | J74: 4
B75: Chiayi County | C75: 女 Female | D75: 1384 | E75: 1296 | F75: 26 | G75: 19 | H75: 34 | I75: 1 | J75: 8
C76: 其他 Other | D76: 0 | E76: 0 | F76: 0 | G76: 0 | H76: 0 | I76: 0 | J76: 0
C77: 不詳Unknown | D77: 0 | E77: 0 | F77: 0 | G77: 0 | H77: 0 | I77: 0 | J77: 0
B78: 屏東縣 | C78: 計 Total | D78: 4259 | E78: 3771 | F78: 383 | G78: 39 | H78: 28 | I78: 2 | J78: 36
C79: 男 Male | D79: 1490 | E79: 1352 | F79: 122 | G79: 0 | H79: 2 | I79: 0 | J79: 14
B80: Pingtung County | C80: 女 Female | D80: 2767 | E80: 2419 | F80: 260 | G80: 39 | H80: 26 | I80: 2 | J80: 21
C81: 其他 Other | D81: 0 | E81: 0 | F81: 0 | G81: 0 | H81: 0 | I81: 0 | J81: 0
C82: 不詳Unknown | D82: 2 | E82: 0 | F82: 1 | G82: 0 | H82: 0 | I82: 0 | J82: 1
B83: 臺東縣 | C83: 計 Total | D83: 1781 | E83: 930 | F83: 830 | G83: 8 | H83: 7 | I83: 0 | J83: 6
C84: 男 Male | D84: 659 | E84: 376 | F84: 280 | G84: 1 | H84: 0 | I84: 0 | J84: 2
B85: Taitung County | C85: 女 Female | D85: 1118 | E85: 552 | F85: 548 | G85: 7 | H85: 7 | I85: 0 | J85: 4
C86: 其他 Other | D86: 0 | E86: 0 | F86: 0 | G86: 0 | H86: 0 | I86: 0 | J86: 0
C87: 不詳Unknown | D87: 4 | E87: 2 | F87: 2 | G87: 0 | H87: 0 | I87: 0 | J87: 0
B88: 花蓮縣 | C88: 計 Total | D88: 2280 | E88: 1201 | F88: 1025 | G88: 10 | H88: 18 | I88: 1 | J88: 25
C89: 男 Male | D89: 717 | E89: 393 | F89: 314 | G89: 0 | H89: 2 | I89: 1 | J89: 7
B90: Hualien County | C90: 女 Female | D90: 1562 | E90: 807 | F90: 711 | G90: 10 | H90: 16 | I90: 0 | J90: 18
C91: 其他 Other | D91: 0 | E91: 0 | F91: 0 | G91: 0 | H91: 0 | I91: 0 | J91: 0
C92: 不詳Unknown | D92: 1 | E92: 1 | F92: 0 | G92: 0 | H92: 0 | I92: 0 | J92: 0
A93: Penghu County | B93: 澎湖縣 | C93: 計 Total | D93: 333 | E93: 312 | F93: 7 | G93: 3 | H93: 8 | I93: 0 | J93: 3
C94: 男 Male | D94: 120 | E94: 117 | F94: 1 | G94: 0 | H94: 0 | I94: 0 | J94: 2
B95: Penghu County | C95: 女 Female | D95: 213 | E95: 195 | F95: 6 | G95: 3 | H95: 8 | I95: 0 | J95: 1
C96: 其他 Other | D96: 0 | E96: 0 | F96: 0 | G96: 0 | H96: 0 | I96: 0 | J96: 0
C97: 不詳Unknown | D97: 0 | E97: 0 | F97: 0 | G97: 0 | H97: 0 | I97: 0 | J97: 0
B98: 基隆市 | C98: 計 Total | D98: 2179 | E98: 2025 | F98: 107 | G98: 15 | H98: 20 | I98: 0 | J98: 12
C99: 男 Male | D99: 808 | E99: 771 | F99: 31 | G99: 0 | H99: 4 | I99: 0 | J99: 2
B100: Keelung City | C100: 女 Female | D100: 1370 | E100: 1254 | F100: 76 | G100: 15 | H100: 16 | I100: 0 | J100: 9
C101: 其他 Other | D101: 0 | E101: 0 | F101: 0 | G101: 0 | H101: 0 | I101: 0 | J101: 0
...

Sheet 2021
A1: 家庭暴力通報案件被害人性別及籍別統計(單位：人數)
A2: 110年，2021
A3: 單位：人數 unit:Person
A4: 區域別 Locality | C4: 性別 | D4: 國籍、身分別 By Nationality and Identity
D6: 合計 | E6: 本國籍 非原住民 | F6: 本國籍 原住民 | G6: 大陸及 港澳籍 | H6: 外國籍 | I6: 無國籍 | J6: 資料 不明
C7: Gender | D7: Total | E7: Non-aboriginal Native | F7: Aboriginal Native | G7: Mainland China and Hong Kong and Macau | H7: Foreign | I7: Stateless | J7: Unknown Information
A8: 總計 | C8: 計 Total | D8: 118532 | E8: 107596 | F8: 6278 | G8: 993 | H8: 1431 | I8: 27 | J8: 2207
C9: 男 Male | D9: 42274 | E9: 39200 | F9: 2062 | G9: 52 | H9: 202 | I9: 13 | J9: 745
A10: Total | C10: 女 Female | D10: 76189 | E10: 68359 | F10: 4212 | G10: 941 | H10: 1228 | I10: 14 | J10: 1435
C11: 其他 Other | D11: 22 | E11: 15 | F11: 0 | G11: 0 | H11: 0 | I11: 0 | J11: 7
C12: 不詳Unknown | D12: 47 | E12: 22 | F12: 4 | G12: 0 | H12: 1 | I12: 0 | J12: 20
A13: 新北市 | C13: 計 Total | D13: 18921 | E13: 16758 | F13: 399 | G13: 219 | H13: 249 | I13: 4 | J13: 1292
C14: 男 Male | D14: 6176 | E14: 5570 | F14: 148 | G14: 5 | H14: 24 | I14: 0 | J14: 429
A15: New Taipei City | C15: 女 Female | D15: 12720 | E15: 11175 | F15: 251 | G15: 214 | H15: 225 | I15: 4 | J15: 851
C16: 其他 Other | D16: 2 | E16: 0 | F16: 0 | G16: 0 | H16: 0 | I16: 0 | J16: 2
C17: 不詳Unknown | D17: 23 | E17: 13 | F17: 0 | G17: 0 | H17: 0 | I17: 0 | J17: 10
A18: 臺北市 | C18: 計 Total | D18: 12216 | E18: 11545 | F18: 112 | G18: 123 | H18: 167 | I18: 1 | J18: 268
C19: 男 Male | D19: 4699 | E19: 4498 | F19: 42 | G19: 15 | H19: 58 | I19: 1 | J19: 85
A20: Taipei City | C20: 女 Female | D20: 7515 | E20: 7045 | F20: 70 | G20: 108 | H20: 109 | I20: 0 | J20: 183
C21: 其他 Other | D21: 1 | E21: 1 | F21: 0 | G21: 0 | H21: 0 | I21: 0 | J21: 0
C22: 不詳Unknown | D22: 1 | E22: 1 | F22: 0 | G22: 0 | H22: 0 | I22: 0 | J22: 0
A23: 桃園市 | C23: 計 Total | D23: 11552 | E23: 10199 | F23: 1067 | G23: 82 | H23: 157 | I23: 1 | J23: 46
C24: 男 Male | D24: 4114 | E24: 3743 | F24: 339 | G24: 5 | H24: 19 | I24: 0 | J24: 8
A25: Taoyuan City | C25: 女 Female | D25: 7436 | E25: 6454 | F25: 728 | G25: 77 | H25: 138 | I25: 1 | J25: 38
C26: 其他 Other | D26: 2 | E26: 2 | F26: 0 | G26: 0 | H26: 0 | I26: 0 | J26: 0
C27: 不詳Unknown | D27: 0 | E27: 0 | F27: 0 | G27: 0 | H27: 0 | I27: 0 | J27: 0
A28: 臺中市 | C28: 計 Total | D28: 16229 | E28: 15189 | F28: 502 | G28: 133 | H28: 213 | I28: 7 | J28: 185
C29: 男 Male | D29: 6014 | E29: 5732 | F29: 178 | G29: 5 | H29: 29 | I29: 6 | J29: 64
A30: Taichung City | C30: 女 Female | D30: 10206 | E30: 9455 | F30: 324 | G30: 128 | H30: 183 | I30: 1 | J30: 115
C31: 其他 Other | D31: 3 | E31: 1 | F31: 0 | G31: 0 | H31: 0 | I31: 0 | J31: 2
C32: 不詳Unknown | D32: 6 | E32: 1 | F32: 0 | G32: 0 | H32: 1 | I32: 0 | J32: 4
A33: 臺南市 | C33: 計 Total | D33: 7670 | E33: 7395 | F33: 122 | G33: 52 | H33: 75 | I33: 0 | J33: 26
C34: 男 Male | D34: 2601 | E34: 2545 | F34: 40 | G34: 2 | H34: 6 | I34: 0 | J34: 8
A35: Tainan City | C35: 女 Female | D35: 5066 | E35: 4848 | F35: 82 | G35: 50 | H35: 69 | I35: 0 | J35: 17
C36: 其他 Other | D36: 2 | E36: 1 | F36: 0 | G36: 0 | H36: 0 | I36: 0 | J36: 1
C37: 不詳Unknown | D37: 1 | E37: 1 | F37: 0 | G37: 0 | H37: 0 | I37: 0 | J37: 0
A38: 高雄市 | C38: 計 Total | D38: 16972 | E38: 16166 | F38: 475 | G38: 105 | H38: 135 | I38: 3 | J38: 88
C39: 男 Male | D39: 6539 | E39: 6298 | F39: 165 | G39: 8 | H39: 31 | I39: 1 | J39: 36
A40: Kaohsiung City | C40: 女 Female | D40: 10422 | E40: 9862 | F40: 309 | G40: 97 | H40: 104 | I40: 2 | J40: 48
C41: 其他 Other | D41: 4 | E41: 4 | F41: 0 | G41: 0 | H41: 0 | I41: 0 | J41: 0
C42: 不詳Unknown | D42: 7 | E42: 2 | F42: 1 | G42: 0 | H42: 0 | I42: 0 | J42: 4
B43: 宜蘭縣 | C43: 計 Total | D43: 1760 | E43: 1521 | F43: 164 | G43: 21 | H43: 38 | I43: 0 | J43: 16
C44: 男 Male | D44: 531 | E44: 479 | F44: 44 | G44: 1 | H44: 1 | I44: 0 | J44: 6
B45: Yilan County | C45: 女 Female | D45: 1229 | E45: 1042 | F45: 120 | G45: 20 | H45: 37 | I45: 0 | J45: 10
C46: 其他 Other | D46: 0 | E46: 0 | F46: 0 | G46: 0 | H46: 0 | I46: 0 | J46: 0
C47: 不詳Unknown | D47: 0 | E47: 0 | F47: 0 | G47: 0 | H47: 0 | I47: 0 | J47: 0
B48: 新竹縣 | C48: 計 Total | D48: 2705 | E48: 2317 | F48: 311 | G48: 18 | H48: 41 | I48: 1 | J48: 17
C49: 男 Male | D49: 929 | E49: 825 | F49: 88 | G49: 1 | H49: 7 | I49: 0 | J49: 8
B50: Hsinchu County | C50: 女 Female | D50: 1775 | E50: 1492 | F50: 223 | G50: 17 | H50: 34 | I50: 1 | J50: 8
C51: 其他 Other | D51: 0 | E51: 0 | F51: 0 | G51: 0 | H51: 0 | I51: 0 | J51: 0
C52: 不詳Unknown | D52: 1 | E52: 0 | F52: 0 | G52: 0 | H52: 0 | I52: 0 | J52: 1
B53: 苗栗縣 | C53: 計 Total | D53: 2407 | E53: 2199 | F53: 153 | G53: 10 | H53: 29 | I53: 0 | J53: 16
C54: 男 Male | D54: 761 | E54: 705 | F54: 52 | G54: 0 | H54: 1 | I54: 0 | J54: 3
B55: Miaoli County | C55: 女 Female | D55: 1646 | E55: 1494 | F55: 101 | G55: 10 | H55: 28 | I55: 0 | J55: 13
C56: 其他 Other | D56: 0 | E56: 0 | F56: 0 | G56: 0 | H56: 0 | I56: 0 | J56: 0
C57: 不詳Unknown | D57: 0 | E57: 0 | F57: 0 | G57: 0 | H57: 0 | I57: 0 | J57: 0
B58: 彰化縣 | C58: 計 Total | D58: 5728 | E58: 5448 | F58: 73 | G58: 58 | H58: 80 | I58: 0 | J58: 69
C59: 男 Male | D59: 2079 | E59: 2017 | F59: 25 | G59: 5 | H59: 3 | I59: 0 | J59: 29
B60: Changhua County | C60: 女 Female | D60: 3645 | E60: 3428 | F60: 48 | G60: 53 | H60: 77 | I60: 0 | J60: 39
C61: 其他 Other | D61: 3 | E61: 2 | F61: 0 | G61: 0 | H61: 0 | I61: 0 | J61: 1
C62: 不詳Unknown | D62: 1 | E62: 1 | F62: 0 | G62: 0 | H62: 0 | I62: 0 | J62: 0
B63: 南投縣 | C63: 計 Total | D63: 2732 | E63: 2231 | F63: 427 | G63: 26 | H63: 24 | I63: 0 | J63: 24
C64: 男 Male | D64: 980 | E64: 828 | F64: 139 | G64: 1 | H64: 2 | I64: 0 | J64: 10
B65: Nantou County | C65: 女 Female | D65: 1751 | E65: 1402 | F65: 288 | G65: 25 | H65: 22 | I65: 0 | J65: 14
C66: 其他 Other | D66: 1 | E66: 1 | F66: 0 | G66: 0 | H66: 0 | I66: 0 | J66: 0
C67: 不詳Unknown | D67: 0 | E67: 0 | F67: 0 | G67: 0 | H67: 0 | I67: 0 | J67: 0
B68: 雲林縣 | C68: 計 Total | D68: 3429 | E68: 3319 | F68: 38 | G68: 18 | H68: 48 | I68: 1 | J68: 5
C69: 男 Male | D69: 1288 | E69: 1269 | F69: 13 | G69: 0 | H69: 2 | I69: 1 | J69: 3
B70: Yunlin County | C70: 女 Female | D70: 2140 | E70: 2049 | F70: 25 | G70: 18 | H70: 46 | I70: 0 | J70: 2
C71: 其他 Other | D71: 1 | E71: 1 | F71: 0 | G71: 0 | H71: 0 | I71: 0 | J71: 0
C72: 不詳Unknown | D72: 0 | E72: 0 | F72: 0 | G72: 0 | H72: 0 | I72: 0 | J72: 0
B73: 嘉義縣 | C73: 計 Total | D73: 2161 | E73: 2059 | F73: 35 | G73: 18 | H73: 38 | I73: 0 | J73: 11
C74: 男 Male | D74: 763 | E74: 748 | F74: 7 | G74: 0 | H74: 5 | I74: 0 | J74: 3
B75: Chiayi County | C75: 女 Female | D75: 1398 | E75: 1311 | F75: 28 | G75: 18 | H75: 33 | I75: 0 | J75: 8
C76: 其他 Other | D76: 0 | E76: 0 | F76: 0 | G76: 0 | H76: 0 | I76: 0 | J76: 0
C77: 不詳Unknown | D77: 0 | E77: 0 | F77: 0 | G77: 0 | H77: 0 | I77: 0 | J77: 0
B78: 屏東縣 | C78: 計 Total | D78: 4287 | E78: 3757 | F78: 421 | G78: 21 | H78: 45 | I78: 1 | J78: 42
C79: 男 Male | D79: 1479 | E79: 1336 | F79: 122 | G79: 1 | H79: 3 | I79: 1 | J79: 16
B80: Pingtung County | C80: 女 Female | D80: 2806 | E80: 2419 | F80: 299 | G80: 20 | H80: 42 | I80: 0 | J80: 26
C81: 其他 Other | D81: 0 | E81: 0 | F81: 0 | G81: 0 | H81: 0 | I81: 0 | J81: 0
C82: 不詳Unknown | D82: 2 | E82: 2 | F82: 0 | G82: 0 | H82: 0 | I82: 0 | J82: 0
B83: 臺東縣 | C83: 計 Total | D83: 1846 | E83: 938 | F83: 878 | G83: 8 | H83: 17 | I83: 0 | J83: 5
C84: 男 Male | D84: 690 | E84: 363 | F84: 324 | G84: 0 | H84: 1 | I84: 0 | J84: 2
B85: Taitung County | C85: 女 Female | D85: 1154 | E85: 574 | F85: 553 | G85: 8 | H85: 16 | I85: 0 | J85: 3
C86: 其他 Other | D86: 0 | E86: 0 | F86: 0 | G86: 0 | H86: 0 | I86: 0 | J86: 0
C87: 不詳Unknown | D87: 2 | E87: 1 | F87: 1 | G87: 0 | H87: 0 | I87: 0 | J87: 0
B88: 花蓮縣 | C88: 計 Total | D88: 2128 | E88: 1140 | F88: 922 | G88: 10 | H88: 13 | I88: 3 | J88: 40
C89: 男 Male | D89: 659 | E89: 359 | F89: 287 | G89: 0 | H89: 1 | I89: 0 | J89: 12
B90: Hualien County | C90: 女 Female | D90: 1465 | E90: 780 | F90: 633 | G90: 10 | H90: 12 | I90: 3 | J90: 27
C91: 其他 Other | D91: 1 | E91: 1 | F91: 0 | G91: 0 | H91: 0 | I91: 0 | J91: 0
C92: 不詳Unknown | D92: 3 | E92: 0 | F92: 2 | G92: 0 | H92: 0 | I92: 0 | J92: 1
A93: Penghu County | B93: 澎湖縣 | C93: 計 Total | D93: 313 | E93: 292 | F93: 5 | G93: 2 | H93: 10 | I93: 0 | J93: 4
C94: 男 Male | D94: 111 | E94: 111 | F94: 0 | G94: 0 | H94: 0 | I94: 0 | J94: 0
B95: Penghu County | C95: 女 Female | D95: 202 | E95: 181 | F95: 5 | G95: 2 | H95: 10 | I95: 0 | J95: 4
C96: 其他 Other | D96: 0 | E96: 0 | F96: 0 | G96: 0 | H96: 0 | I96: 0 | J96: 0
C97: 不詳Unknown | D97: 0 | E97: 0 | F97: 0 | G97: 0 | H97: 0 | I97: 0 | J97: 0
B98: 基隆市 | C98: 計 Total | D98: 2133 | E98: 1991 | F98: 89 | G98: 22 | H98: 18 | I98: 1 | J98: 12
C99: 男 Male | D99: 775 | E99: 737 | F99: 28 | G99: 0 | H99: 3 | I99: 1 | J99: 6
B100: Keelung City | C100: 女 Female | D100: 1357 | E100: 1253 | F100: 61 | G100: 22 | H100: 15 | I100: 0 | J100: 6
C101: 其他 Other | D101: 1 | E101: 1 | F101: 0 | G101: 0 | H101: 0 | I101: 0 | J101: 0
...

Sheet 2020
A1: 家庭暴力通報案件被害人性別及籍別統計(單位：人數)
A2: 108年，2019
A3: 區域別 Locality | C3: 性別 | D3: 國籍、身分別 By Nationality and Identity
D4: 合計 | E4: 本國籍 非原住民 | F4: 本國籍 原住民 | G4: 大陸及 港澳籍 | H4: 外國籍 | I4: 無國籍 | J4: 資料 不明
C5: Gender | D5: Total | E5: Non-aboriginal Native | F5: Aboriginal Native | G5: Mainland China and Hong Kong and Macau | H5: Foreign | I5: Stateless | J5: Unknown Information
A6: 總計 | C6: 計 Total | D6: 114381 | E6: 103703 | F6: 5970 | G6: 1193 | H6: 1235 | I6: 17 | J6: 2263
C7: 男 Male | D7: 39225 | E7: 36444 | F7: 1791 | G7: 48 | H7: 142 | I7: 3 | J7: 797
A8: Total | C8: 女 Female | D8: 75083 | E8: 67222 | F8: 4176 | G8: 1143 | H8: 1090 | I8: 14 | J8: 1438
C9: 其他 Other | D9: 73 | E9: 37 | F9: 3 | G9: 2 | H9: 3 | I9: 0 | J9: 28
A10: 新北市 | C10: 計 Total | D10: 18954 | E10: 16899 | F10: 354 | G10: 241 | H10: 248 | I10: 6 | J10: 1206
C11: 男 Male | D11: 5889 | E11: 5318 | F11: 116 | G11: 9 | H11: 22 | I11: 1 | J11: 423
A12: New Taipei City | C12: 女 Female | D12: 13041 | E12: 11572 | F12: 236 | G12: 232 | H12: 225 | I12: 5 | J12: 771
C13: 其他 Other | D13: 24 | E13: 9 | F13: 2 | G13: 0 | H13: 1 | I13: 0 | J13: 12
A14: 臺北市 | C14: 計 Total | D14: 12520 | E14: 11829 | F14: 109 | G14: 153 | H14: 157 | I14: 2 | J14: 270
C15: 男 Male | D15: 4727 | E15: 4520 | F15: 44 | G15: 13 | H15: 60 | I15: 0 | J15: 90
A16: Taipei City | C16: 女 Female | D16: 7784 | E16: 7303 | F16: 65 | G16: 140 | H16: 97 | I16: 2 | J16: 177
C17: 其他 Other | D17: 9 | E17: 6 | F17: 0 | G17: 0 | H17: 0 | I17: 0 | J17: 3
A18: 桃園市 | C18: 計 Total | D18: 11146 | E18: 9892 | F18: 984 | G18: 95 | H18: 144 | I18: 0 | J18: 31
C19: 男 Male | D19: 3807 | E19: 3483 | F19: 303 | G19: 2 | H19: 13 | I19: 0 | J19: 6
A20: Taoyuan City | C20: 女 Female | D20: 7339 | E20: 6409 | F20: 681 | G20: 93 | H20: 131 | I20: 0 | J20: 25
C21: 其他 Other | D21: 0 | E21: 0 | F21: 0 | G21: 0 | H21: 0 | I21: 0 | J21: 0
A22: 臺中市 | C22: 計 Total | D22: 15611 | E22: 14512 | F22: 470 | G22: 185 | H22: 190 | I22: 3 | J22: 251
C23: 男 Male | D23: 5553 | E23: 5282 | F23: 160 | G23: 7 | H23: 10 | I23: 1 | J23: 93
A24: Taichung City | C24: 女 Female | D24: 10048 | E24: 9225 | F24: 309 | G24: 178 | H24: 180 | I24: 2 | J24: 154
C25: 其他 Other | D25: 10 | E25: 5 | F25: 1 | G25: 0 | H25: 0 | I25: 0 | J25: 4
A26: 臺南市 | C26: 計 Total | D26: 7249 | E26: 6984 | F26: 120 | G26: 54 | H26: 58 | I26: 1 | J26: 32
C27: 男 Male | D27: 2401 | E27: 2356 | F27: 28 | G27: 4 | H27: 2 | I27: 0 | J27: 11
A28: Tainan City | C28: 女 Female | D28: 4845 | E28: 4627 | F28: 92 | G28: 49 | H28: 56 | I28: 1 | J28: 20
C29: 其他 Other | D29: 3 | E29: 1 | F29: 0 | G29: 1 | H29: 0 | I29: 0 | J29: 1
A30: 高雄市 | C30: 計 Total | D30: 15304 | E30: 14567 | F30: 402 | G30: 120 | H30: 88 | I30: 1 | J30: 126
C31: 男 Male | D31: 5662 | E31: 5478 | F31: 124 | G31: 5 | H31: 7 | I31: 0 | J31: 48
A32: Kaohsiung City | C32: 女 Female | D32: 9631 | E32: 9082 | F32: 278 | G32: 115 | H32: 81 | I32: 1 | J32: 74
C33: 其他 Other | D33: 11 | E33: 7 | F33: 0 | G33: 0 | H33: 0 | I33: 0 | J33: 4
B34: 宜蘭縣 | C34: 計 Total | D34: 1813 | E34: 1586 | F34: 156 | G34: 32 | H34: 22 | I34: 0 | J34: 17
C35: 男 Male | D35: 577 | E35: 530 | F35: 43 | G35: 0 | H35: 1 | I35: 0 | J35: 3
B36: Yilan County | C36: 女 Female | D36: 1234 | E36: 1054 | F36: 113 | G36: 32 | H36: 21 | I36: 0 | J36: 14
C37: 其他 Other | D37: 2 | E37: 2 | F37: 0 | G37: 0 | H37: 0 | I37: 0 | J37: 0
B38: 新竹縣 | C38: 計 Total | D38: 2366 | E38: 1980 | F38: 291 | G38: 27 | H38: 35 | I38: 1 | J38: 32
C39: 男 Male | D39: 773 | E39: 666 | F39: 93 | G39: 1 | H39: 4 | I39: 0 | J39: 9
B40: Hsinchu County | C40: 女 Female | D40: 1592 | E40: 1314 | F40: 198 | G40: 26 | H40: 31 | I40: 1 | J40: 22
C41: 其他 Other | D41: 1 | E41: 0 | F41: 0 | G41: 0 | H41: 0 | I41: 0 | J41: 1
B42: 苗栗縣 | C42: 計 Total | D42: 2270 | E42: 2073 | F42: 133 | G42: 25 | H42: 28 | I42: 0 | J42: 11
C43: 男 Male | D43: 705 | E43: 668 | F43: 32 | G43: 1 | H43: 1 | I43: 0 | J43: 3
B44: Miaoli County | C44: 女 Female | D44: 1564 | E44: 1405 | F44: 101 | G44: 24 | H44: 27 | I44: 0 | J44: 7
C45: 其他 Other | D45: 1 | E45: 0 | F45: 0 | G45: 0 | H45: 0 | I45: 0 | J45: 1
B46: 彰化縣 | C46: 計 Total | D46: 5562 | E46: 5227 | F46: 101 | G46: 69 | H46: 79 | I46: 0 | J46: 86
C47: 男 Male | D47: 1957 | E47: 1888 | F47: 26 | G47: 1 | H47: 3 | I47: 0 | J47: 39
B48: Changhua County | C48: 女 Female | D48: 3602 | E48: 3336 | F48: 75 | G48: 68 | H48: 76 | I48: 0 | J48: 47
C49: 其他 Other | D49: 3 | E49: 3 | F49: 0 | G49: 0 | H49: 0 | I49: 0 | J49: 0
B50: 南投縣 | C50: 計 Total | D50: 2533 | E50: 2080 | F50: 389 | G50: 19 | H50: 16 | I50: 0 | J50: 29
C51: 男 Male | D51: 872 | E51: 739 | F51: 120 | G51: 2 | H51: 0 | I51: 0 | J51: 11
B52: Nantou County | C52: 女 Female | D52: 1660 | E52: 1341 | F52: 269 | G52: 17 | H52: 15 | I52: 0 | J52: 18
C53: 其他 Other | D53: 1 | E53: 0 | F53: 0 | G53: 0 | H53: 1 | I53: 0 | J53: 0
B54: 雲林縣 | C54: 計 Total | D54: 3194 | E54: 3084 | F54: 29 | G54: 29 | H54: 40 | I54: 0 | J54: 12
C55: 男 Male | D55: 1062 | E55: 1043 | F55: 9 | G55: 0 | H55: 3 | I55: 0 | J55: 7
B56: Yunlin County | C56: 女 Female | D56: 2130 | E56: 2041 | F56: 20 | G56: 28 | H56: 37 | I56: 0 | J56: 4
C57: 其他 Other | D57: 2 | E57: 0 | F57: 0 | G57: 1 | H57: 0 | I57: 0 | J57: 1
B58: 嘉義縣 | C58: 計 Total | D58: 2315 | E58: 2202 | F58: 39 | G58: 30 | H58: 27 | I58: 0 | J58: 17
C59: 男 Male | D59: 812 | E59: 792 | F59: 12 | G59: 1 | H59: 0 | I59: 0 | J59: 7
B60: Chiayi County | C60: 女 Female | D60: 1503 | E60: 1410 | F60: 27 | G60: 29 | H60: 27 | I60: 0 | J60: 10
C61: 其他 Other | D61: 0 | E61: 0 | F61: 0 | G61: 0 | H61: 0 | I61: 0 | J61: 0
B62: 屏東縣 | C62: 計 Total | D62: 4063 | E62: 3535 | F62: 438 | G62: 28 | H62: 34 | I62: 0 | J62: 28
C63: 男 Male | D63: 1353 | E63: 1216 | F63: 123 | G63: 0 | H63: 5 | I63: 0 | J63: 9
B64: Pingtung County | C64: 女 Female | D64: 2710 | E64: 2319 | F64: 315 | G64: 28 | H64: 29 | I64: 0 | J64: 19
C65: 其他 Other | D65: 0 | E65: 0 | F65: 0 | G65: 0 | H65: 0 | I65: 0 | J65: 0
B66: 臺東縣 | C66: 計 Total | D66: 1700 | E66: 887 | F66: 794 | G66: 7 | H66: 6 | I66: 0 | J66: 6
C67: 男 Male | D67: 584 | E67: 336 | F67: 245 | G67: 0 | H67: 2 | I67: 0 | J67: 1
B68: Taitung County | C68: 女 Female | D68: 1116 | E68: 551 | F68: 549 | G68: 7 | H68: 4 | I68: 0 | J68: 5
C69: 其他 Other | D69: 0 | E69: 0 | F69: 0 | G69: 0 | H69: 0 | I69: 0 | J69: 0
B70: 花蓮縣 | C70: 計 Total | D70: 2165 | E70: 1145 | F70: 968 | G70: 13 | H70: 10 | I70: 0 | J70: 29
C71: 男 Male | D71: 643 | E71: 359 | F71: 278 | G71: 0 | H71: 1 | I71: 0 | J71: 5
B72: Hualien County | C72: 女 Female | D72: 1521 | E72: 785 | F72: 690 | G72: 13 | H72: 9 | I72: 0 | J72: 24
C73: 其他 Other | D73: 1 | E73: 1 | F73: 0 | G73: 0 | H73: 0 | I73: 0 | J73: 0
A74: Penghu County | B74: 澎湖縣 | C74: 計 Total | D74: 303 | E74: 280 | F74: 3 | G74: 6 | H74: 11 | I74: 0 | J74: 3
C75: 男 Male | D75: 92 | E75: 90 | F75: 1 | G75: 0 | H75: 0 | I75: 0 | J75: 1
B76: Penghu County | C76: 女 Female | D76: 211 | E76: 190 | F76: 2 | G76: 6 | H76: 11 | I76: 0 | J76: 2
C77: 其他 Other | D77: 0 | E77: 0 | F77: 0 | G77: 0 | H77: 0 | I77: 0 | J77: 0
B78: 基隆市 | C78: 計 Total | D78: 1992 | E78: 1848 | F78: 98 | G78: 22 | H78: 11 | I78: 1 | J78: 12
C79: 男 Male | D79: 729 | E79: 697 | F79: 20 | G79: 0 | H79: 5 | I79: 0 | J79: 7
B80: Keelung City | C80: 女 Female | D80: 1262 | E80: 1150 | F80: 78 | G80: 22 | H80: 6 | I80: 1 | J80: 5
C81: 其他 Other | D81: 1 | E81: 1 | F81: 0 | G81: 0 | H81: 0 | I81: 0 | J81: 0
B82: 新竹市 | C82: 計 Total | D82: 1902 | E82: 1732 | F82: 73 | G82: 27 | H82: 25 | I82: 0 | J82: 45
C83: 男 Male | D83: 574 | E83: 541 | F83: 12 | G83: 2 | H83: 3 | I83: 0 | J83: 16
B84: Hsinchu City | C84: 女 Female | D84: 1328 | E84: 1191 | F84: 61 | G84: 25 | H84: 22 | I84: 0 | J84: 29
C85: 其他 Other | D85: 0 | E85: 0 | F85: 0 | G85: 0 | H85: 0 | I85: 0 | J85: 0
A86: 嘉義市Chiayi City | B86: 嘉義市 | C86: 計 Total | D86: 1119 | E86: 1083 | F86: 12 | G86: 4 | H86: 5 | I86: 2 | J86: 13
C87: 男 Male | D87: 348 | E87: 342 | F87: 0 | G87: 0 | H87: 0 | I87: 1 | J87: 5
B88: Chiayi City | C88: 女 Female | D88: 769 | E88: 740 | F88: 12 | G88: 4 | H88: 4 | I88: 1 | J88: 8
C89: 其他 Other | D89: 2 | E89: 1 | F89: 0 | G89: 0 | H89: 1 | I89: 0 | J89: 0
A90: Kinmen County | B90: 金門縣 | C90: 計 Total | D90: 280 | E90: 262 | F90: 4 | G90: 7 | H90: 1 | I90: 0 | J90: 6
C91: 男 Male | D91: 98 | E91: 95 | F91: 1 | G91: 0 | H91: 0 | I91: 0 | J91: 2
B92: Kinmen County | C92: 女 Female | D92: 180 | E92: 166 | F92: 3 | G92: 7 | H92: 1 | I92: 0 | J92: 3
C93: 不詳Unknown | D93: 2 | E93: 1 | F93: 0 | G93: 0 | H93: 0 | I93: 0 | J93: 1
B94: 連江縣 | C94: 計 Total | D94: 20 | E94: 16 | F94: 3 | G94: 0 | H94: 0 | I94: 0 | J94: 1
C95: 男 Male | D95: 7 | E95: 5 | F95: 1 | G95: 0 | H95: 0 | I95: 0 | J95: 1
B96: Lienchiang County | C96: 女 Female | D96: 13 | E96: 11 | F96: 2 | G96: 0 | H96: 0 | I96: 0 | J96: 0
C97: 其他 Other | D97: 0 | E97: 0 | F97: 0 | G97: 0 | H97: 0 | I97: 0 | J97: 0
A98: 資料來源：本部保護服務司。
A99: Source :Department of Protective Services , MOHW.

Sheet 2019
A1: 家庭暴力通報案件被害人性別及籍別統計(單位：人數)
A2: 108年，2019
A3: 區域別 Locality | C3: 性別 | D3: 國籍、身分別 By Nationality and Identity
D4: 合計 | E4: 本國籍 非原住民 | F4: 本國籍 原住民 | G4: 大陸及 港澳籍 | H4: 外國籍 | I4: 無國籍 | J4: 資料 不明
C5: Gender | D5: Total | E5: Non-aboriginal Native | F5: Aboriginal Native | G5: Mainland China and Hong Kong and Macau | H5: Foreign | I5: Stateless | J5: Unknown Information
A6: 總計 | C6: 計 Total | D6: 103930 | E6: 93635 | F6: 5522 | G6: 1231 | H6: 1329 | I6: 28 | J6: 2185
C7: 男 Male | D7: 33498 | E7: 31151 | F7: 1567 | G7: 44 | H7: 126 | I7: 13 | J7: 597
A8: Total | C8: 女 Female | D8: 70362 | E8: 62446 | F8: 3953 | G8: 1187 | H8: 1203 | I8: 15 | J8: 1558
C9: 其他 Other | D9: 70 | E9: 38 | F9: 2 | G9: 0 | H9: 0 | I9: 0 | J9: 30
A10: 新北市 | C10: 計 Total | D10: 16723 | E10: 14977 | F10: 401 | G10: 253 | H10: 257 | I10: 1 | J10: 834
C11: 男 Male | D11: 4654 | E11: 4310 | F11: 102 | G11: 11 | H11: 24 | I11: 0 | J11: 207
A12: New Taipei City | C12: 女 Female | D12: 12048 | E12: 10657 | F12: 299 | G12: 242 | H12: 233 | I12: 1 | J12: 616
C13: 其他 Other | D13: 21 | E13: 10 | F13: 0 | G13: 0 | H13: 0 | I13: 0 | J13: 11
A14: 臺北市 | C14: 計 Total | D14: 11581 | E14: 10908 | F14: 134 | G14: 149 | H14: 137 | I14: 4 | J14: 249
C15: 男 Male | D15: 4060 | E15: 3900 | F15: 51 | G15: 6 | H15: 34 | I15: 3 | J15: 66
A16: Taipei City | C16: 女 Female | D16: 7517 | E16: 7004 | F16: 83 | G16: 143 | H16: 103 | I16: 1 | J16: 183
C17: 其他 Other | D17: 4 | E17: 4 | F17: 0 | G17: 0 | H17: 0 | I17: 0 | J17: 0
A18: 桃園市 | C18: 計 Total | D18: 9615 | E18: 8425 | F18: 822 | G18: 115 | H18: 143 | I18: 1 | J18: 109
C19: 男 Male | D19: 3044 | E19: 2763 | F19: 244 | G19: 6 | H19: 12 | I19: 0 | J19: 19
A20: Taoyuan City | C20: 女 Female | D20: 6566 | E20: 5659 | F20: 578 | G20: 109 | H20: 131 | I20: 1 | J20: 88
C21: 其他 Other | D21: 5 | E21: 3 | F21: 0 | G21: 0 | H21: 0 | I21: 0 | J21: 2
A22: 臺中市 | C22: 計 Total | D22: 14337 | E22: 13009 | F22: 529 | G22: 242 | H22: 249 | I22: 5 | J22: 303
C23: 男 Male | D23: 4845 | E23: 4562 | F23: 164 | G23: 5 | H23: 30 | I23: 3 | J23: 81
A24: Taichung City | C24: 女 Female | D24: 9480 | E24: 8441 | F24: 365 | G24: 237 | H24: 219 | I24: 2 | J24: 216
C25: 其他 Other | D25: 12 | E25: 6 | F25: 0 | G25: 0 | H25: 0 | I25: 0 | J25: 6
A26: 臺南市 | C26: 計 Total | D26: 6550 | E26: 6305 | F26: 95 | G26: 55 | H26: 52 | I26: 2 | J26: 41
C27: 男 Male | D27: 1999 | E27: 1956 | F27: 23 | G27: 1 | H27: 2 | I27: 2 | J27: 15
A28: Tainan City | C28: 女 Female | D28: 4549 | E28: 4349 | F28: 72 | G28: 54 | H28: 50 | I28: 0 | J28: 24
C29: 其他 Other | D29: 2 | E29: 0 | F29: 0 | G29: 0 | H29: 0 | I29: 0 | J29: 2
A30: 高雄市 | C30: 計 Total | D30: 14111 | E30: 13307 | F30: 444 | G30: 104 | H30: 100 | I30: 3 | J30: 153
C31: 男 Male | D31: 5052 | E31: 4849 | F31: 141 | G31: 8 | H31: 10 | I31: 1 | J31: 43
A32: Kaohsiung City | C32: 女 Female | D32: 9050 | E32: 8454 | F32: 303 | G32: 96 | H32: 90 | I32: 2 | J32: 105
C33: 其他 Other | D33: 9 | E33: 4 | F33: 0 | G33: 0 | H33: 0 | I33: 0 | J33: 5
B34: 宜蘭縣 | C34: 計 Total | D34: 1545 | E34: 1379 | F34: 125 | G34: 16 | H34: 19 | I34: 0 | J34: 6
C35: 男 Male | D35: 443 | E35: 407 | F35: 33 | G35: 1 | H35: 0 | I35: 0 | J35: 2
B36: Yilan County | C36: 女 Female | D36: 1101 | E36: 971 | F36: 92 | G36: 15 | H36: 19 | I36: 0 | J36: 4
C37: 其他 Other | D37: 1 | E37: 1 | F37: 0 | G37: 0 | H37: 0 | I37: 0 | J37: 0
B38: 新竹縣 | C38: 計 Total | D38: 2206 | E38: 1861 | F38: 275 | G38: 14 | H38: 26 | I38: 2 | J38: 28
C39: 男 Male | D39: 667 | E39: 577 | F39: 76 | G39: 1 | H39: 1 | I39: 1 | J39: 11
B40: Hsinchu County | C40: 女 Female | D40: 1536 | E40: 1282 | F40: 199 | G40: 13 | H40: 25 | I40: 1 | J40: 16
C41: 其他 Other | D41: 3 | E41: 2 | F41: 0 | G41: 0 | H41: 0 | I41: 0 | J41: 1
B42: 苗栗縣 | C42: 計 Total | D42: 2167 | E42: 1917 | F42: 157 | G42: 25 | H42: 26 | I42: 0 | J42: 42
C43: 男 Male | D43: 661 | E43: 603 | F43: 42 | G43: 1 | H43: 1 | I43: 0 | J43: 14
B44: Miaoli County | C44: 女 Female | D44: 1505 | E44: 1313 | F44: 115 | G44: 24 | H44: 25 | I44: 0 | J44: 28
C45: 其他 Other | D45: 1 | E45: 1 | F45: 0 | G45: 0 | H45: 0 | I45: 0 | J45: 0
B46: 彰化縣 | C46: 計 Total | D46: 5338 | E46: 4981 | F46: 105 | G46: 53 | H46: 74 | I46: 0 | J46: 125
C47: 男 Male | D47: 1829 | E47: 1773 | F47: 22 | G47: 1 | H47: 0 | I47: 0 | J47: 33
B48: Changhua County | C48: 女 Female | D48: 3506 | E48: 3205 | F48: 83 | G48: 52 | H48: 74 | I48: 0 | J48: 92
C49: 其他 Other | D49: 3 | E49: 3 | F49: 0 | G49: 0 | H49: 0 | I49: 0 | J49: 0
B50: 南投縣 | C50: 計 Total | D50: 2337 | E50: 1905 | F50: 326 | G50: 29 | H50: 30 | I50: 1 | J50: 46
C51: 男 Male | D51: 752 | E51: 650 | F51: 77 | G51: 2 | H51: 2 | I51: 0 | J51: 21
B52: Nantou County | C52: 女 Female | D52: 1585 | E52: 1255 | F52: 249 | G52: 27 | H52: 28 | I52: 1 | J52: 25
C53: 其他 Other | D53: 0 | E53: 0 | F53: 0 | G53: 0 | H53: 0 | I53: 0 | J53: 0
B54: 雲林縣 | C54: 計 Total | D54: 3007 | E54: 2858 | F54: 43 | G54: 41 | H54: 45 | I54: 4 | J54: 16
C55: 男 Male | D55: 1003 | E55: 981 | F55: 12 | G55: 0 | H55: 3 | I55: 2 | J55: 5
B56: Yunlin County | C56: 女 Female | D56: 2004 | E56: 1877 | F56: 31 | G56: 41 | H56: 42 | I56: 2 | J56: 11
C57: 其他 Other | D57: 0 | E57: 0 | F57: 0 | G57: 0 | H57: 0 | I57: 0 | J57: 0
B58: 嘉義縣 | C58: 計 Total | D58: 2167 | E58: 2061 | F58: 34 | G58: 20 | H58: 37 | I58: 1 | J58: 14
C59: 男 Male | D59: 750 | E59: 734 | F59: 8 | G59: 0 | H59: 1 | I59: 0 | J59: 7
B60: Chiayi County | C60: 女 Female | D60: 1416 | E60: 1326 | F60: 26 | G60: 20 | H60: 36 | I60: 1 | J60: 7
C61: 其他 Other | D61: 1 | E61: 1 | F61: 0 | G61: 0 | H61: 0 | I61: 0 | J61: 0
B62: 屏東縣 | C62: 計 Total | D62: 3750 | E62: 3215 | F62: 394 | G62: 26 | H62: 55 | I62: 1 | J62: 59
C63: 男 Male | D63: 1195 | E63: 1055 | F63: 121 | G63: 1 | H63: 2 | I63: 0 | J63: 16
B64: Pingtung County | C64: 女 Female | D64: 2551 | E64: 2160 | F64: 271 | G64: 25 | H64: 53 | I64: 1 | J64: 41
C65: 其他 Other | D65: 4 | E65: 0 | F65: 2 | G65: 0 | H65: 0 | I65: 0 | J65: 2
B66: 臺東縣 | C66: 計 Total | D66: 1474 | E66: 804 | F66: 634 | G66: 14 | H66: 7 | I66: 0 | J66: 15
C67: 男 Male | D67: 491 | E67: 293 | F67: 196 | G67: 0 | H67: 0 | I67: 0 | J67: 2
B68: Taitung County | C68: 女 Female | D68: 983 | E68: 511 | F68: 438 | G68: 14 | H68: 7 | I68: 0 | J68: 13
C69: 其他 Other | D69: 0 | E69: 0 | F69: 0 | G69: 0 | H69: 0 | I69: 0 | J69: 0
B70: 花蓮縣 | C70: 計 Total | D70: 1791 | E70: 919 | F70: 810 | G70: 13 | H70: 16 | I70: 1 | J70: 32
C71: 男 Male | D71: 482 | E71: 258 | F71: 215 | G71: 0 | H71: 0 | I71: 0 | J71: 9
B72: Hualien County | C72: 女 Female | D72: 1308 | E72: 661 | F72: 595 | G72: 13 | H72: 16 | I72: 1 | J72: 22
C73: 其他 Other | D73: 1 | E73: 0 | F73: 0 | G73: 0 | H73: 0 | I73: 0 | J73: 1
A74: Penghu County | B74: 澎湖縣 | C74: 計 Total | D74: 302 | E74: 269 | F74: 8 | G74: 7 | H74: 7 | I74: 0 | J74: 11
C75: 男 Male | D75: 93 | E75: 88 | F75: 2 | G75: 0 | H75: 0 | I75: 0 | J75: 3
B76: Penghu County | C76: 女 Female | D76: 207 | E76: 179 | F76: 6 | G76: 7 | H76: 7 | I76: 0 | J76: 8
C77: 其他 Other | D77: 2 | E77: 2 | F77: 0 | G77: 0 | H77: 0 | I77: 0 | J77: 0
B78: 基隆市 | C78: 計 Total | D78: 1851 | E78: 1685 | F78: 91 | G78: 13 | H78: 18 | I78: 0 | J78: 44
C79: 男 Male | D79: 607 | E79: 569 | F79: 16 | G79: 0 | H79: 1 | I79: 0 | J79: 21
B80: Keelung City | C80: 女 Female | D80: 1243 | E80: 1115 | F80: 75 | G80: 13 | H80: 17 | I80: 0 | J80: 23
C81: 其他 Other | D81: 1 | E81: 1 | F81: 0 | G81: 0 | H81: 0 | I81: 0 | J81: 0
B82: 新竹市 | C82: 計 Total | D82: 1705 | E82: 1564 | F82: 66 | G82: 22 | H82: 24 | I82: 1 | J82: 28
C83: 男 Male | D83: 451 | E83: 427 | F83: 13 | G83: 0 | H83: 3 | I83: 0 | J83: 8
B84: Hsinchu City | C84: 女 Female | D84: 1254 | E84: 1137 | F84: 53 | G84: 22 | H84: 21 | I84: 1 | J84: 20
C85: 其他 Other | D85: 0 | E85: 0 | F85: 0 | G85: 0 | H85: 0 | I85: 0 | J85: 0
A86: 嘉義市Chiayi City | B86: 嘉義市 | C86: 計 Total | D86: 1126 | E86: 1077 | F86: 17 | G86: 10 | H86: 4 | I86: 1 | J86: 17
C87: 男 Male | D87: 337 | E87: 325 | F87: 4 | G87: 0 | H87: 0 | I87: 1 | J87: 7
B88: Chiayi City | C88: 女 Female | D88: 789 | E88: 752 | F88: 13 | G88: 10 | H88: 4 | I88: 0 | J88: 10
C89: 其他 Other | D89: 0 | E89: 0 | F89: 0 | G89: 0 | H89: 0 | I89: 0 | J89: 0
A90: Kinmen County | B90: 金門縣 | C90: 計 Total | D90: 227 | E90: 193 | F90: 11 | G90: 9 | H90: 2 | I90: 0 | J90: 12
C91: 男 Male | D91: 81 | E91: 70 | F91: 5 | G91: 0 | H91: 0 | I91: 0 | J91: 6
B92: Kinmen County | C92: 女 Female | D92: 146 | E92: 123 | F92: 6 | G92: 9 | H92: 2 | I92: 0 | J92: 6
C93: 不詳Unknown | D93: 0 | E93: 0 | F93: 0 | G93: 0 | H93: 0 | I93: 0 | J93: 0
B94: 連江縣 | C94: 計 Total | D94: 20 | E94: 16 | F94: 1 | G94: 1 | H94: 1 | I94: 0 | J94: 1
C95: 男 Male | D95: 2 | E95: 1 | F95: 0 | G95: 0 | H95: 0 | I95: 0 | J95: 1
B96: Lienchiang County | C96: 女 Female | D96: 18 | E96: 15 | F96: 1 | G96: 1 | H96: 1 | I96: 0 | J96: 0
C97: 其他 Other | D97: 0 | E97: 0 | F97: 0 | G97: 0 | H97: 0 | I97: 0 | J97: 0
A98: 資料來源：本部保護服務司。
A99: Source :Department of Protective Services , MOHW.

Sheet 2019Q4
A1: 家庭暴力事件通報被害及相對人概況Overview of Victim and Offender Status in Reporting Cases of Domestic Violence
A2: 108年第4季，2019Q4
A3: 單位：人數 unit:Person
A4: 區域別 Locality | C4: 性別 | D4: 被害人數 Victims | BH4: 相對人人數
D5: 國籍、身分別 By Nationality and Identity | K5: 年齡別 By Age | V5: 教育程度別 By Education | AG5: 職業別 By Occupation | AW5: 身心障礙別 By Disability | BH5: 年齡別 By Age | BS5: 國籍、身分別 By Nationality and Identity
D6: 合計 | E6: 本國籍 非原住民 | F6: 本國籍 原住民 | G6: 大陸及 港澳籍 | H6: 外國籍 | I6: 無國籍 | J6: 資料 不明 | K6: 合計 | L6: 0-未滿6歲 | M6: 6-未滿12歲 | N6: 12-未滿18歲 | O6: 18-未滿24歲 | P6: 24-未滿30歲 | Q6: 30-未滿40歲 | R6: 40-未滿50歲 | S6: 50-未滿65歲 | T6: 65歲 以上 | U6: 不詳 | V6: 合計 | W6: 學齡前 | X6: 國小 | Y6: 國中 | Z6: 高中(職) | AA6: 專科 | AB6: 大學 | AC6: 研究所 以上 | AD6: 不識字 | AE6: 自修 | AF6: 不詳 | AG6: 合計 | AH6: 學生 | AI6: 服務業 | AJ6: 專門 職業 | AK6: 農林 漁牧 | AL6: 工礦業 | AM6: 商業 | AN6: 公 | AO6: 教 | AP6: 軍 | AQ6: 警 | AR6: 家庭 管理 | AS6: 退休 | AT6: 無工作 | AU6: 其他 | AV6: 不詳 | AW6: 合計 | AX6: 非身心 障礙 | AY6: 智障 | AZ6: 視障 | BA6: 精神 病患 | BB6: 聲(語)障 | BC6: 聽障 | BD6: 肢障 | BE6: 多重 障礙 | BF6: 其他 障礙 | BG6: 不詳 | BH6: 合計 | BI6: 0-未滿6歲 | BJ6: 6-未滿12歲 | BK6: 12-未滿18歲 | BL6: 18-未滿24歲 | BM6: 24-未滿30歲 | BN6: 30-未滿40歲 | BO6: 40-未滿50歲 | BP6: 50-未滿65歲 | BQ6: 65歲 以上 | BR6: 不詳 | BS6: 合計 | BT6: 本國籍非原住民 | BU6: 本國籍原住民 | BV6: 大陸及 港澳籍 | BW6: 外國籍 | BX6: 無國籍 | BY6: 資料 不明
C7: Gender | D7: Total | E7: Non-aboriginal Native | F7: Aboriginal Native | G7: Mainland China and Hong Kong and Macau | H7: Foreign | I7: Stateless | J7: Unknown Information | K7: Total | L7: Under 6 Years | M7: 6-Under 12 Years | N7: 12-Under 18 Years | O7: 18-Under 2 Years | P7: 24-Under 30 Years | Q7: 30-Under 40 Years | R7: 40-Under 50 Years | S7: 50-Under 65 Years | T7: Above 65 Years | U7: Unknown | V7: Total | W7: Preschool | X7: Primary School | Y7: Junior High School | Z7: Senior High School (Vocational High School) | AA7: Junior College | AB7: University | AC7: Graduate School and Above | AD7: Illiterate | AE7: Self-taught | AF7: Unknown | AG7: Total | AH7: Student | AI7: Service Industry | AJ7: Professional | AK7: Agriculture, Forestry, Fishery and Animal Husbandry | AL7: Mining Industry | AM7: Business | AR7: Homemaker | AS7: Retired | AT7: No Work | AU7: Others | AV7: Unknown | AW7: Total | AX7: Not Disability | AY7: Intellectually Disabled | AZ7: Vision | BA7: Mentally Illed | BB7: Voice | BC7: Hearing | BD7: Physically Impaired | BE7: Multiple | BF7: Other | BG7: Unknown | BH7: Total | BI7: Under 6 Years | BJ7: 6-Under 12 Years | BK7: 12-Under 18 Years | BL7: 18-Under 2 Years | BM7: 24-Under 30 Years | BN7: 30-Under 40 Years | BO7: 40-Under 50 Years | BP7: 50-Under 65 Years | BQ7: Above 65 Years | BR7: Unknown | BS7: Total | BT7: Non-aboriginal Native | BU7: Aboriginal Native | BV7: Mainland China and Hong Kong and Macau | BW7: Foreign | BX7: Stateless | BY7: Unknown Information
A8: 總計 | C8: 計 Total | D8: 23931 | E8: 21642 | F8: 1255 | G8: 264 | H8: 278 | I8: 8 | J8: 484 | K8: 23931 | L8: 1448 | M8: 1461 | N8: 1628 | O8: 1672 | P8: 2022 | Q8: 4800 | R8: 4249 | S8: 4268 | T8: 2357 | U8: 26 | V8: 23931 | W8: 1216 | X8: 2019 | Y8: 2026 | Z8: 2658 | AA8: 470 | AB8: 1406 | AC8: 174 | AD8: 166 | AE8: 57 | AF8: 13739 | AG8: 23931 | AH8: 398 | AI8: 2889 | AJ8: 741 | AK8: 368 | AL8: 1273 | AM8: 775 | AN8: 121 | AO8: 174 | AP8: 58 | AQ8: 16 | AR8: 1626 | AS8: 1134 | AT8: 2079 | AU8: 1589 | AV8: 10690 | AW8: 23931 | AX8: 21535 | AY8: 316 | AZ8: 70 | BA8: 506 | BB8: 19 | BC8: 138 | BD8: 400 | BE8: 170 | BF8: 214 | BG8: 563 | BH8: 23610 | BI8: 6 | BJ8: 58 | BK8: 575 | BL8: 1148 | BM8: 2048 | BN8: 5902 | BO8: 6030 | BP8: 5100 | BQ8: 1712 | BR8: 1031 | BS8: 23610 | BT8: 20846 | BU8: 1082 | BV8: 163 | BW8: 207 | BX8: 7 | BY8: 1305
C9: 男 Male | D9: 8004 | E9: 7434 | F9: 373 | G9: 10 | H9: 30 | I9: 5 | J9: 152 | K9: 8004 | L9: 786 | M9: 875 | N9: 751 | O9: 503 | P9: 529 | Q9: 1094 | R9: 1194 | S9: 1402 | T9: 867 | U9: 3 | V9: 8004 | W9: 685 | X9: 1024 | Y9: 780 | Z9: 842 | AA9: 126 | AB9: 370 | AC9: 65 | AD9: 31 | AE9: 16 | AF9: 4065 | AG9: 8004 | AH9: 112 | AI9: 550 | AJ9: 242 | AK9: 162 | AL9: 679 | AM9: 259 | AN9: 41 | AO9: 32 | AP9: 39 | AQ9: 12 | AR9: 14 | AS9: 547 | AT9: 585 | AU9: 457 | AV9: 4273 | AW9: 8004 | AX9: 7067 | AY9: 126 | AZ9: 25 | BA9: 150 | BB9: 14 | BC9: 65 | BD9: 198 | BE9: 73 | BF9: 95 | BG9: 191 | BH9: 17305 | BI9: 5 | BJ9: 46 | BK9: 458 | BL9: 789 | BM9: 1450 | BN9: 4114 | BO9: 4534 | BP9: 3931 | BQ9: 1246 | BR9: 732 | BS9: 17305 | BT9: 15401 | BU9: 821 | BV9: 31 | BW9: 103 | BX9: 6 | BY9: 943
A10: Total | C10: 女 Female | D10: 15912 | E10: 14202 | F10: 881 | G10: 254 | H10: 248 | I10: 3 | J10: 324 | K10: 15912 | L10: 653 | M10: 584 | N10: 874 | O10: 1169 | P10: 1493 | Q10: 3706 | R10: 3054 | S10: 2866 | T10: 1490 | U10: 23 | V10: 15912 | W10: 526 | X10: 994 | Y10: 1244 | Z10: 1816 | AA10: 344 | AB10: 1036 | AC10: 109 | AD10: 135 | AE10: 41 | AF10: 9667 | AG10: 15912 | AH10: 286 | AI10: 2339 | AJ10: 499 | AK10: 206 | AL10: 594 | AM10: 516 | AN10: 80 | AO10: 142 | AP10: 19 | AQ10: 4 | AR10: 1612 | AS10: 587 | AT10: 1494 | AU10: 1132 | AV10: 6402 | AW10: 15912 | AX10: 14463 | AY10: 190 | AZ10: 45 | BA10: 356 | BB10: 5 | BC10: 73 | BD10: 202 | BE10: 97 | BF10: 119 | BG10: 362 | BH10: 6195 | BI10: 1 | BJ10: 12 | BK10: 117 | BL10: 358 | BM10: 597 | BN10: 1770 | BO10: 1482 | BP10: 1154 | BQ10: 463 | BR10: 241 | BS10: 6195 | BT10: 5402 | BU10: 261 | BV10: 130 | BW10: 102 | BX10: 1 | BY10: 299
C11: 其他 Other | D11: 15 | E11: 6 | F11: 1 | G11: 0 | H11: 0 | I11: 0 | J11: 8 | K11: 15 | L11: 9 | M11: 2 | N11: 3 | O11: 0 | P11: 0 | Q11: 0 | R11: 1 | S11: 0 | T11: 0 | U11: 0 | V11: 15 | W11: 5 | X11: 1 | Y11: 2 | Z11: 0 | AA11: 0 | AB11: 0 | AC11: 0 | AD11: 0 | AE11: 0 | AF11: 7 | AG11: 15 | AH11: 0 | AI11: 0 | AJ11: 0 | AK11: 0 | AL11: 0 | AM11: 0 | AN11: 0 | AO11: 0 | AP11: 0 | AQ11: 0 | AR11: 0 | AS11: 0 | AT11: 0 | AU11: 0 | AV11: 15 | AW11: 15 | AX11: 5 | AY11: 0 | AZ11: 0 | BA11: 0 | BB11: 0 | BC11: 0 | BD11: 0 | BE11: 0 | BF11: 0 | BG11: 10 | BH11: 110 | BI11: 0 | BJ11: 0 | BK11: 0 | BL11: 1 | BM11: 1 | BN11: 18 | BO11: 14 | BP11: 15 | BQ11: 3 | BR11: 58 | BS11: 110 | BT11: 43 | BU11: 0 | BV11: 2 | BW11: 2 | BX11: 0 | BY11: 63
A12: 新北市 | C12: 計 Total | D12: 3939 | E12: 3552 | F12: 88 | G12: 56 | H12: 56 | I12: 0 | J12: 187 | K12: 3939 | L12: 174 | M12: 174 | N12: 201 | O12: 312 | P12: 383 | Q12: 858 | R12: 748 | S12: 732 | T12: 345 | U12: 12 | V12: 3939 | W12: 101 | X12: 192 | Y12: 174 | Z12: 264 | AA12: 67 | AB12: 242 | AC12: 30 | AD12: 11 | AE12: 10 | AF12: 2848 | AG12: 3939 | AH12: 90 | AI12: 583 | AJ12: 176 | AK12: 10 | AL12: 84 | AM12: 130 | AN12: 30 | AO12: 36 | AP12: 4 | AQ12: 3 | AR12: 229 | AS12: 204 | AT12: 321 | AU12: 147 | AV12: 1892 | AW12: 3939 | AX12: 3434 | AY12: 37 | AZ12: 14 | BA12: 69 | BB12: 4 | BC12: 16 | BD12: 50 | BE12: 16 | BF12: 26 | BG12: 273 | BH12: 3998 | BI12: 2 | BJ12: 6 | BK12: 86 | BL12: 179 | BM12: 315 | BN12: 912 | BO12: 947 | BP12: 811 | BQ12: 247 | BR12: 493 | BS12: 3998 | BT12: 3272 | BU12: 72 | BV12: 32 | BW12: 38 | BX12: 0 | BY12: 584
C13: 男 Male | D13: 1095 | E13: 1018 | F13: 20 | G13: 2 | H13: 4 | I13: 0 | J13: 51 | K13: 1095 | L13: 79 | M13: 101 | N13: 79 | O13: 83 | P13: 77 | Q13: 173 | R13: 182 | S13: 212 | T13: 107 | U13: 2 | V13: 1095 | W13: 56 | X13: 103 | Y13: 66 | Z13: 75 | AA13: 13 | AB13: 59 | AC13: 9 | AD13: 1 | AE13: 4 | AF13: 709 | AG13: 1095 | AH13: 29 | AI13: 116 | AJ13: 56 | AK13: 5 | AL13: 39 | AM13: 45 | AN13: 10 | AO13: 3 | AP13: 3 | AQ13: 2 | AR13: 1 | AS13: 81 | AT13: 78 | AU13: 35 | AV13: 592 | AW13: 1095 | AX13: 925 | AY13: 16 | AZ13: 4 | BA13: 16 | BB13: 4 | BC13: 7 | BD13: 23 | BE13: 9 | BF13: 7 | BG13: 84 | BH13: 3054 | BI13: 1 | BJ13: 4 | BK13: 68 | BL13: 132 | BM13: 249 | BN13: 679 | BO13: 727 | BP13: 644 | BQ13: 190 | BR13: 360 | BS13: 3054 | BT13: 2519 | BU13: 64 | BV13: 4 | BW13: 19 | BX13: 0 | BY13: 448
A14: New Taipei City | C14: 女 Female | D14: 2841 | E14: 2532 | F14: 68 | G14: 54 | H14: 52 | I14: 0 | J14: 135 | K14: 2841 | L14: 94 | M14: 72 | N14: 121 | O14: 229 | P14: 306 | Q14: 685 | R14: 566 | S14: 520 | T14: 238 | U14: 10 | V14: 2841 | W14: 44 | X14: 89 | Y14: 108 | Z14: 189 | AA14: 54 | AB14: 183 | AC14: 21 | AD14: 10 | AE14: 6 | AF14: 2137 | AG14: 2841 | AH14: 61 | AI14: 467 | AJ14: 120 | AK14: 5 | AL14: 45 | AM14: 85 | AN14: 20 | AO14: 33 | AP14: 1 | AQ14: 1 | AR14: 228 | AS14: 123 | AT14: 243 | AU14: 112 | AV14: 1297 | AW14: 2841 | AX14: 2509 | AY14: 21 | AZ14: 10 | BA14: 53 | BB14: 0 | BC14: 9 | BD14: 27 | BE14: 7 | BF14: 19 | BG14: 186 | BH14: 912 | BI14: 1 | BJ14: 2 | BK14: 18 | BL14: 46 | BM14: 66 | BN14: 228 | BO14: 218 | BP14: 165 | BQ14: 57 | BR14: 111 | BS14: 912 | BT14: 746 | BU14: 8 | BV14: 27 | BW14: 19 | BX14: 0 | BY14: 112
C15: 其他 Other | D15: 3 | E15: 2 | F15: 0 | G15: 0 | H15: 0 | I15: 0 | J15: 1 | K15: 3 | L15: 1 | M15: 1 | N15: 1 | O15: 0 | P15: 0 | Q15: 0 | R15: 0 | S15: 0 | T15: 0 | U15: 0 | V15: 3 | W15: 1 | X15: 0 | Y15: 0 | Z15: 0 | AA15: 0 | AB15: 0 | AC15: 0 | AD15: 0 | AE15: 0 | AF15: 2 | AG15: 3 | AH15: 0 | AI15: 0 | AJ15: 0 | AK15: 0 | AL15: 0 | AM15: 0 | AN15: 0 | AO15: 0 | AP15: 0 | AQ15: 0 | AR15: 0 | AS15: 0 | AT15: 0 | AU15: 0 | AV15: 3 | AW15: 3 | AX15: 0 | AY15: 0 | AZ15: 0 | BA15: 0 | BB15: 0 | BC15: 0 | BD15: 0 | BE15: 0 | BF15: 0 | BG15: 3 | BH15: 32 | BI15: 0 | BJ15: 0 | BK15: 0 | BL15: 1 | BM15: 0 | BN15: 5 | BO15: 2 | BP15: 2 | BQ15: 0 | BR15: 22 | BS15: 32 | BT15: 7 | BU15: 0 | BV15: 1 | BW15: 0 | BX15: 0 | BY15: 24
A16: 臺北市 | C16: 計 Total | D16: 2762 | E16: 2598 | F16: 32 | G16: 30 | H16: 35 | I16: 1 | J16: 66 | K16: 2762 | L16: 144 | M16: 169 | N16: 218 | O16: 233 | P16: 217 | Q16: 478 | R16: 478 | S16: 503 | T16: 321 | U16: 1 | V16: 2762 | W16: 125 | X16: 180 | Y16: 126 | Z16: 93 | AA16: 17 | AB16: 86 | AC16: 14 | AD16: 7 | AE16: 12 | AF16: 2102 | AG16: 2762 | AH16: 42 | AI16: 92 | AJ16: 29 | AK16: 1 | AL16: 7 | AM16: 53 | AN16: 6 | AO16: 7 | AP16: 3 | AQ16: 0 | AR16: 55 | AS16: 65 | AT16: 77 | AU16: 40 | AV16: 2285 | AW16: 2762 | AX16: 2527 | AY16: 20 | AZ16: 10 | BA16: 60 | BB16: 1 | BC16: 15 | BD16: 34 | BE16: 18 | BF16: 33 | BG16: 44 | BH16: 2673 | BI16: 0 | BJ16: 8 | BK16: 85 | BL16: 143 | BM16: 200 | BN16: 581 | BO16: 678 | BP16: 607 | BQ16: 269 | BR16: 102 | BS16: 2673 | BT16: 2426 | BU16: 23 | BV16: 30 | BW16: 33 | BX16: 0 | BY16: 161
C17: 男 Male | D17: 1037 | E17: 994 | F17: 12 | G17: 0 | H17: 9 | I17: 1 | J17: 21 | K17: 1037 | L17: 87 | M17: 102 | N17: 109 | O17: 75 | P17: 72 | Q17: 129 | R17: 164 | S17: 186 | T17: 113 | U17: 0 | V17: 1037 | W17: 79 | X17: 105 | Y17: 62 | Z17: 45 | AA17: 2 | AB17: 18 | AC17: 4 | AD17: 5 | AE17: 3 | AF17: 714 | AG17: 1037 | AH17: 6 | AI17: 27 | AJ17: 9 | AK17: 1 | AL17: 5 | AM17: 18 | AN17: 3 | AO17: 1 | AP17: 1 | AQ17: 0 | AR17: 0 | AS17: 33 | AT17: 24 | AU17: 16 | AV17: 893 | AW17: 1037 | AX17: 934 | AY17: 8 | AZ17: 3 | BA17: 22 | BB17: 0 | BC17: 8 | BD17: 18 | BE17: 7 | BF17: 21 | BG17: 16 | BH17: 1805 | BI17: 0 | BJ17: 7 | BK17: 65 | BL17: 84 | BM17: 130 | BN17: 375 | BO17: 470 | BP17: 420 | BQ17: 183 | BR17: 71 | BS17: 1805 | BT17: 1659 | BU17: 14 | BV17: 11 | BW17: 21 | BX17: 0 | BY17: 100
A18: Taipei City | C18: 女 Female | D18: 1724 | E18: 1603 | F18: 20 | G18: 30 | H18: 26 | I18: 0 | J18: 45 | K18: 1724 | L18: 57 | M18: 67 | N18: 109 | O18: 158 | P18: 145 | Q18: 349 | R18: 313 | S18: 317 | T18: 208 | U18: 1 | V18: 1724 | W18: 46 | X18: 75 | Y18: 64 | Z18: 48 | AA18: 15 | AB18: 68 | AC18: 10 | AD18: 2 | AE18: 9 | AF18: 1387 | AG18: 1724 | AH18: 36 | AI18: 65 | AJ18: 20 | AK18: 0 | AL18: 2 | AM18: 35 | AN18: 3 | AO18: 6 | AP18: 2 | AQ18: 0 | AR18: 55 | AS18: 32 | AT18: 53 | AU18: 24 | AV18: 1391 | AW18: 1724 | AX18: 1592 | AY18: 12 | AZ18: 7 | BA18: 38 | BB18: 1 | BC18: 7 | BD18: 16 | BE18: 11 | BF18: 12 | BG18: 28 | BH18: 849 | BI18: 0 | BJ18: 1 | BK18: 20 | BL18: 59 | BM18: 70 | BN18: 205 | BO18: 205 | BP18: 182 | BQ18: 84 | BR18: 23 | BS18: 849 | BT18: 757 | BU18: 9 | BV18: 19 | BW18: 12 | BX18: 0 | BY18: 52
C19: 其他 Other | D19: 1 | E19: 1 | F19: 0 | G19: 0 | H19: 0 | I19: 0 | J19: 0 | K19: 1 | L19: 0 | M19: 0 | N19: 0 | O19: 0 | P19: 0 | Q19: 0 | R19: 1 | S19: 0 | T19: 0 | U19: 0 | V19: 1 | W19: 0 | X19: 0 | Y19: 0 | Z19: 0 | AA19: 0 | AB19: 0 | AC19: 0 | AD19: 0 | AE19: 0 | AF19: 1 | AG19: 1 | AH19: 0 | AI19: 0 | AJ19: 0 | AK19: 0 | AL19: 0 | AM19: 0 | AN19: 0 | AO19: 0 | AP19: 0 | AQ19: 0 | AR19: 0 | AS19: 0 | AT19: 0 | AU19: 0 | AV19: 1 | AW19: 1 | AX19: 1 | AY19: 0 | AZ19: 0 | BA19: 0 | BB19: 0 | BC19: 0 | BD19: 0 | BE19: 0 | BF19: 0 | BG19: 0 | BH19: 19 | BI19: 0 | BJ19: 0 | BK19: 0 | BL19: 0 | BM19: 0 | BN19: 1 | BO19: 3 | BP19: 5 | BQ19: 2 | BR19: 8 | BS19: 19 | BT19: 10 | BU19: 0 | BV19: 0 | BW19: 0 | BX19: 0 | BY19: 9
A20: 桃園市 | C20: 計 Total | D20: 2254 | E20: 2007 | F20: 169 | G20: 25 | H20: 29 | I20: 0 | J20: 24 | K20: 2254 | L20: 134 | M20: 168 | N20: 184 | O20: 189 | P20: 216 | Q20: 438 | R20: 399 | S20: 357 | T20: 166 | U20: 3 | V20: 2254 | W20: 130 | X20: 196 | Y20: 147 | Z20: 184 | AA20: 16 | AB20: 82 | AC20: 9 | AD20: 5 | AE20: 4 | AF20: 1481 | AG20: 2254 | AH20: 37 | AI20: 182 | AJ20: 45 | AK20: 6 | AL20: 97 | AM20: 49 | AN20: 8 | AO20: 10 | AP20: 3 | AQ20: 0 | AR20: 117 | AS20: 74 | AT20: 171 | AU20: 232 | AV20: 1223 | AW20: 2254 | AX20: 2098 | AY20: 34 | AZ20: 2 | BA20: 26 | BB20: 1 | BC20: 13 | BD20: 21 | BE20: 16 | BF20: 16 | BG20: 27 | BH20: 2258 | BI20: 0 | BJ20: 8 | BK20: 62 | BL20: 121 | BM20: 229 | BN20: 609 | BO20: 607 | BP20: 433 | BQ20: 114 | BR20: 75 | BS20: 2258 | BT20: 2004 | BU20: 143 | BV20: 14 | BW20: 23 | BX20: 0 | BY20: 74
C21: 男 Male | D21: 759 | E21: 702 | F21: 45 | G21: 2 | H21: 4 | I21: 0 | J21: 6 | K21: 759 | L21: 73 | M21: 103 | N21: 88 | O21: 56 | P21: 59 | Q21: 90 | R21: 107 | S21: 116 | T21: 66 | U21: 1 | V21: 759 | W21: 75 | X21: 113 | Y21: 54 | Z21: 65 | AA21: 5 | AB21: 27 | AC21: 6 | AD21: 2 | AE21: 2 | AF21: 410 | AG21: 759 | AH21: 9 | AI21: 42 | AJ21: 19 | AK21: 1 | AL21: 51 | AM21: 21 | AN21: 2 | AO21: 2 | AP21: 3 | AQ21: 0 | AR21: 1 | AS21: 38 | AT21: 42 | AU21: 63 | AV21: 465 | AW21: 759 | AX21: 701 | AY21: 14 | AZ21: 2 | BA21: 6 | BB21: 1 | BC21: 9 | BD21: 8 | BE21: 6 | BF21: 5 | BG21: 7 | BH21: 1672 | BI21: 0 | BJ21: 5 | BK21: 45 | BL21: 81 | BM21: 175 | BN21: 416 | BO21: 451 | BP21: 358 | BQ21: 83 | BR21: 58 | BS21: 1672 | BT21: 1492 | BU21: 106 | BV21: 4 | BW21: 12 | BX21: 0 | BY21: 58
A22: Taoyuan City | C22: 女 Female | D22: 1495 | E22: 1305 | F22: 124 | G22: 23 | H22: 25 | I22: 0 | J22: 18 | K22: 1495 | L22: 61 | M22: 65 | N22: 96 | O22: 133 | P22: 157 | Q22: 348 | R22: 292 | S22: 241 | T22: 100 | U22: 2 | V22: 1495 | W22: 55 | X22: 83 | Y22: 93 | Z22: 119 | AA22: 11 | AB22: 55 | AC22: 3 | AD22: 3 | AE22: 2 | AF22: 1071 | AG22: 1495 | AH22: 28 | AI22: 140 | AJ22: 26 | AK22: 5 | AL22: 46 | AM22: 28 | AN22: 6 | AO22: 8 | AP22: 0 | AQ22: 0 | AR22: 116 | AS22: 36 | AT22: 129 | AU22: 169 | AV22: 758 | AW22: 1495 | AX22: 1397 | AY22: 20 | AZ22: 0 | BA22: 20 | BB22: 0 | BC22: 4 | BD22: 13 | BE22: 10 | BF22: 11 | BG22: 20 | BH22: 575 | BI22: 0 | BJ22: 3 | BK22: 17 | BL22: 40 | BM22: 54 | BN22: 191 | BO22: 154 | BP22: 73 | BQ22: 31 | BR22: 12 | BS22: 575 | BT22: 509 | BU22: 37 | BV22: 10 | BW22: 9 | BX22: 0 | BY22: 10
C23: 其他 Other | D23: 0 | E23: 0 | F23: 0 | G23: 0 | H23: 0 | I23: 0 | J23: 0 | K23: 0 | L23: 0 | M23: 0 | N23: 0 | O23: 0 | P23: 0 | Q23: 0 | R23: 0 | S23: 0 | T23: 0 | U23: 0 | V23: 0 | W23: 0 | X23: 0 | Y23: 0 | Z23: 0 | AA23: 0 | AB23: 0 | AC23: 0 | AD23: 0 | AE23: 0 | AF23: 0 | AG23: 0 | AH23: 0 | AI23: 0 | AJ23: 0 | AK23: 0 | AL23: 0 | AM23: 0 | AN23: 0 | AO23: 0 | AP23: 0 | AQ23: 0 | AR23: 0 | AS23: 0 | AT23: 0 | AU23: 0 | AV23: 0 | AW23: 0 | AX23: 0 | AY23: 0 | AZ23: 0 | BA23: 0 | BB23: 0 | BC23: 0 | BD23: 0 | BE23: 0 | BF23: 0 | BG23: 0 | BH23: 11 | BI23: 0 | BJ23: 0 | BK23: 0 | BL23: 0 | BM23: 0 | BN23: 2 | BO23: 2 | BP23: 2 | BQ23: 0 | BR23: 5 | BS23: 11 | BT23: 3 | BU23: 0 | BV23: 0 | BW23: 2 | BX23: 0 | BY23: 6
A24: 臺中市 | C24: 計 Total | D24: 3312 | E24: 3018 | F24: 112 | G24: 59 | H24: 54 | I24: 1 | J24: 68 | K24: 3312 | L24: 289 | M24: 239 | N24: 231 | O24: 226 | P24: 284 | Q24: 662 | R24: 550 | S24: 520 | T24: 307 | U24: 4 | V24: 3312 | W24: 285 | X24: 287 | Y24: 243 | Z24: 356 | AA24: 56 | AB24: 234 | AC24: 24 | AD24: 13 | AE24: 8 | AF24: 1806 | AG24: 3312 | AH24: 72 | AI24: 427 | AJ24: 116 | AK24: 24 | AL24: 239 | AM24: 138 | AN24: 15 | AO24: 30 | AP24: 14 | AQ24: 4 | AR24: 244 | AS24: 174 | AT24: 296 | AU24: 235 | AV24: 1284 | AW24: 3312 | AX24: 3004 | AY24: 42 | AZ24: 10 | BA24: 59 | BB24: 0 | BC24: 22 | BD24: 46 | BE24: 27 | BF24: 26 | BG24: 76 | BH24: 3318 | BI24: 1 | BJ24: 4 | BK24: 94 | BL24: 163 | BM24: 314 | BN24: 899 | BO24: 802 | BP24: 646 | BQ24: 207 | BR24: 188 | BS24: 3318 | BT24: 2938 | BU24: 100 | BV24: 27 | BW24: 39 | BX24: 1 | BY24: 213
C25: 男 Male | D25: 1173 | E25: 1102 | F25: 38 | G25: 1 | H25: 4 | I25: 1 | J25: 27 | K25: 1173 | L25: 153 | M25: 155 | N25: 104 | O25: 60 | P25: 80 | Q25: 177 | R25: 151 | S25: 173 | T25: 120 | U25: 0 | V25: 1173 | W25: 155 | X25: 151 | Y25: 106 | Z25: 114 | AA25: 14 | AB25: 55 | AC25: 12 | AD25: 2 | AE25: 1 | AF25: 563 | AG25: 1173 | AH25: 15 | AI25: 81 | AJ25: 43 | AK25: 15 | AL25: 121 | AM25: 47 | AN25: 3 | AO25: 6 | AP25: 11 | AQ25: 3 | AR25: 1 | AS25: 90 | AT25: 69 | AU25: 72 | AV25: 596 | AW25: 1173 | AX25: 1066 | AY25: 17 | AZ25: 4 | BA25: 14 | BB25: 0 | BC25: 9 | BD25: 19 | BE25: 12 | BF25: 10 | BG25: 22 | BH25: 2350 | BI25: 1 | BJ25: 4 | BK25: 80 | BL25: 108 | BM25: 202 | BN25: 612 | BO25: 584 | BP25: 490 | BQ25: 142 | BR25: 127 | BS25: 2350 | BT25: 2121 | BU25: 62 | BV25: 8 | BW25: 11 | BX25: 1 | BY25: 147
A26: Taichung City | C26: 女 Female | D26: 2136 | E26: 1915 | F26: 74 | G26: 58 | H26: 50 | I26: 0 | J26: 39 | K26: 2136 | L26: 134 | M26: 83 | N26: 127 | O26: 166 | P26: 204 | Q26: 485 | R26: 399 | S26: 347 | T26: 187 | U26: 4 | V26: 2136 | W26: 128 | X26: 136 | Y26: 137 | Z26: 242 | AA26: 42 | AB26: 179 | AC26: 12 | AD26: 11 | AE26: 7 | AF26: 1242 | AG26: 2136 | AH26: 57 | AI26: 346 | AJ26: 73 | AK26: 9 | AL26: 118 | AM26: 91 | AN26: 12 | AO26: 24 | AP26: 3 | AQ26: 1 | AR26: 243 | AS26: 84 | AT26: 227 | AU26: 163 | AV26: 685 | AW26: 2136 | AX26: 1937 | AY26: 25 | AZ26: 6 | BA26: 45 | BB26: 0 | BC26: 13 | BD26: 27 | BE26: 15 | BF26: 16 | BG26: 52 | BH26: 950 | BI26: 0 | BJ26: 0 | BK26: 14 | BL26: 55 | BM26: 112 | BN26: 284 | BO26: 215 | BP26: 154 | BQ26: 64 | BR26: 52 | BS26: 950 | BT26: 811 | BU26: 38 | BV26: 18 | BW26: 28 | BX26: 0 | BY26: 55
C27: 其他 Other | D27: 3 | E27: 1 | F27: 0 | G27: 0 | H27: 0 | I27: 0 | J27: 2 | K27: 3 | L27: 2 | M27: 1 | N27: 0 | O27: 0 | P27: 0 | Q27: 0 | R27: 0 | S27: 0 | T27: 0 | U27: 0 | V27: 3 | W27: 2 | X27: 0 | Y27: 0 | Z27: 0 | AA27: 0 | AB27: 0 | AC27: 0 | AD27: 0 | AE27: 0 | AF27: 1 | AG27: 3 | AH27: 0 | AI27: 0 | AJ27: 0 | AK27: 0 | AL27: 0 | AM27: 0 | AN27: 0 | AO27: 0 | AP27: 0 | AQ27: 0 | AR27: 0 | AS27: 0 | AT27: 0 | AU27: 0 | AV27: 3 | AW27: 3 | AX27: 1 | AY27: 0 | AZ27: 0 | BA27: 0 | BB27: 0 | BC27: 0 | BD27: 0 | BE27: 0 | BF27: 0 | BG27: 2 | BH27: 18 | BI27: 0 | BJ27: 0 | BK27: 0 | BL27: 0 | BM27: 0 | BN27: 3 | BO27: 3 | BP27: 2 | BQ27: 1 | BR27: 9 | BS27: 18 | BT27: 6 | BU27: 0 | BV27: 1 | BW27: 0 | BX27: 0 | BY27: 11
A28: 臺南市 | C28: 計 Total | D28: 1370 | E28: 1317 | F28: 21 | G28: 9 | H28: 15 | I28: 0 | J28: 8 | K28: 1370 | L28: 88 | M28: 74 | N28: 76 | O28: 91 | P28: 110 | Q28: 301 | R28: 231 | S28: 257 | T28: 141 | U28: 1 | V28: 1370 | W28: 84 | X28: 117 | Y28: 116 | Z28: 149 | AA28: 27 | AB28: 81 | AC28: 10 | AD28: 17 | AE28: 2 | AF28: 767 | AG28: 1370 | AH28: 20 | AI28: 211 | AJ28: 45 | AK28: 17 | AL28: 120 | AM28: 45 | AN28: 2 | AO28: 12 | AP28: 0 | AQ28: 3 | AR28: 132 | AS28: 81 | AT28: 134 | AU28: 139 | AV28: 409 | AW28: 1370 | AX28: 1243 | AY28: 22 | AZ28: 6 | BA28: 26 | BB28: 3 | BC28: 5 | BD28: 29 | BE28: 12 | BF28: 17 | BG28: 7 | BH28: 1345 | BI28: 0 | BJ28: 2 | BK28: 25 | BL28: 63 | BM28: 116 | BN28: 370 | BO28: 329 | BP28: 315 | BQ28: 113 | BR28: 12 | BS28: 1345 | BT28: 1279 | BU28: 25 | BV28: 9 | BW28: 10 | BX28: 0 | BY28: 22
C29: 男 Male | D29: 452 | E29: 440 | F29: 8 | G29: 0 | H29: 1 | I29: 0 | J29: 3 | K29: 452 | L29: 45 | M29: 49 | N29: 34 | O29: 26 | P29: 27 | Q29: 72 | R29: 63 | S29: 80 | T29: 56 | U29: 0 | V29: 452 | W29: 44 | X29: 65 | Y29: 48 | Z29: 55 | AA29: 8 | AB29: 22 | AC29: 4 | AD29: 1 | AE29: 0 | AF29: 205 | AG29: 452 | AH29: 7 | AI29: 42 | AJ29: 14 | AK29: 7 | AL29: 67 | AM29: 11 | AN29: 1 | AO29: 3 | AP29: 0 | AQ29: 2 | AR29: 1 | AS29: 48 | AT29: 39 | AU29: 31 | AV29: 179 | AW29: 452 | AX29: 395 | AY29: 12 | AZ29: 2 | BA29: 8 | BB29: 3 | BC29: 3 | BD29: 18 | BE29: 5 | BF29: 4 | BG29: 2 | BH29: 989 | BI29: 0 | BJ29: 1 | BK29: 23 | BL29: 45 | BM29: 84 | BN29: 258 | BO29: 240 | BP29: 247 | BQ29: 82 | BR29: 9 | BS29: 989 | BT29: 952 | BU29: 17 | BV29: 1 | BW29: 6 | BX29: 0 | BY29: 13
A30: Tainan City | C30: 女 Female | D30: 918 | E30: 877 | F30: 13 | G30: 9 | H30: 14 | I30: 0 | J30: 5 | K30: 918 | L30: 43 | M30: 25 | N30: 42 | O30: 65 | P30: 83 | Q30: 229 | R30: 168 | S30: 177 | T30: 85 | U30: 1 | V30: 918 | W30: 40 | X30: 52 | Y30: 68 | Z30: 94 | AA30: 19 | AB30: 59 | AC30: 6 | AD30: 16 | AE30: 2 | AF30: 562 | AG30: 918 | AH30: 13 | AI30: 169 | AJ30: 31 | AK30: 10 | AL30: 53 | AM30: 34 | AN30: 1 | AO30: 9 | AP30: 0 | AQ30: 1 | AR30: 131 | AS30: 33 | AT30: 95 | AU30: 108 | AV30: 230 | AW30: 918 | AX30: 848 | AY30: 10 | AZ30: 4 | BA30: 18 | BB30: 0 | BC30: 2 | BD30: 11 | BE30: 7 | BF30: 13 | BG30: 5 | BH30: 355 | BI30: 0 | BJ30: 1 | BK30: 2 | BL30: 18 | BM30: 32 | BN30: 112 | BO30: 89 | BP30: 68 | BQ30: 31 | BR30: 2 | BS30: 355 | BT30: 327 | BU30: 8 | BV30: 8 | BW30: 4 | BX30: 0 | BY30: 8
C31: 其他 Other | D31: 0 | E31: 0 | F31: 0 | G31: 0 | H31: 0 | I31: 0 | J31: 0 | K31: 0 | L31: 0 | M31: 0 | N31: 0 | O31: 0 | P31: 0 | Q31: 0 | R31: 0 | S31: 0 | T31: 0 | U31: 0 | V31: 0 | W31: 0 | X31: 0 | Y31: 0 | Z31: 0 | AA31: 0 | AB31: 0 | AC31: 0 | AD31: 0 | AE31: 0 | AF31: 0 | AG31: 0 | AH31: 0 | AI31: 0 | AJ31: 0 | AK31: 0 | AL31: 0 | AM31: 0 | AN31: 0 | AO31: 0 | AP31: 0 | AQ31: 0 | AR31: 0 | AS31: 0 | AT31: 0 | AU31: 0 | AV31: 0 | AW31: 0 | AX31: 0 | AY31: 0 | AZ31: 0 | BA31: 0 | BB31: 0 | BC31: 0 | BD31: 0 | BE31: 0 | BF31: 0 | BG31: 0 | BH31: 1 | BI31: 0 | BJ31: 0 | BK31: 0 | BL31: 0 | BM31: 0 | BN31: 0 | BO31: 0 | BP31: 0 | BQ31: 0 | BR31: 1 | BS31: 1 | BT31: 0 | BU31: 0 | BV31: 0 | BW31: 0 | BX31: 0 | BY31: 1
A32: 高雄市 | C32: 計 Total | D32: 3202 | E32: 3034 | F32: 97 | G32: 23 | H32: 17 | I32: 1 | J32: 30 | K32: 3202 | L32: 206 | M32: 224 | N32: 260 | O32: 193 | P32: 247 | Q32: 600 | R32: 560 | S32: 575 | T32: 335 | U32: 2 | V32: 3202 | W32: 156 | X32: 301 | Y32: 272 | Z32: 508 | AA32: 100 | AB32: 271 | AC32: 35 | AD32: 34 | AE32: 9 | AF32: 1516 | AG32: 3202 | AH32: 44 | AI32: 465 | AJ32: 133 | AK32: 36 | AL32: 247 | AM32: 153 | AN32: 17 | AO32: 26 | AP32: 14 | AQ32: 1 | AR32: 249 | AS32: 165 | AT32: 346 | AU32: 182 | AV32: 1124 | AW32: 3202 | AX32: 2921 | AY32: 38 | AZ32: 8 | BA32: 80 | BB32: 3 | BC32: 18 | BD32: 51 | BE32: 28 | BF32: 25 | BG32: 30 | BH32: 3213 | BI32: 0 | BJ32: 10 | BK32: 86 | BL32: 168 | BM32: 272 | BN32: 831 | BO32: 838 | BP32: 731 | BQ32: 243 | BR32: 34 | BS32: 3213 | BT32: 3045 | BU32: 79 | BV32: 16 | BW32: 21 | BX32: 4 | BY32: 48
C33: 男 Male | D33: 1199 | E33: 1139 | F33: 40 | G33: 2 | H33: 3 | I33: 1 | J33: 14 | K33: 1199 | L33: 117 | M33: 136 | N33: 126 | O33: 79 | P33: 71 | Q33: 160 | R33: 186 | S33: 197 | T33: 127 | U33: 0 | V33: 1199 | W33: 89 | X33: 156 | Y33: 122 | Z33: 176 | AA33: 38 | AB33: 86 | AC33: 12 | AD33: 5 | AE33: 3 | AF33: 512 | AG33: 1199 | AH33: 20 | AI33: 89 | AJ33: 39 | AK33: 20 | AL33: 159 | AM33: 64 | AN33: 6 | AO33: 5 | AP33: 11 | AQ33: 0 | AR33: 6 | AS33: 89 | AT33: 114 | AU33: 77 | AV33: 500 | AW33: 1199 | AX33: 1081 | AY33: 15 | AZ33: 5 | BA33: 26 | BB33: 2 | BC33: 7 | BD33: 27 | BE33: 11 | BF33: 13 | BG33: 12 | BH33: 2219 | BI33: 0 | BJ33: 7 | BK33: 70 | BL33: 112 | BM33: 167 | BN33: 519 | BO33: 615 | BP33: 540 | BQ33: 164 | BR33: 25 | BS33: 2219 | BT33: 2111 | BU33: 57 | BV33: 1 | BW33: 12 | BX33: 3 | BY33: 35
A34: Kaohsiung City | C34: 女 Female | D34: 2001 | E34: 1895 | F34: 57 | G34: 21 | H34: 14 | I34: 0 | J34: 14 | K34: 2001 | L34: 87 | M34: 88 | N34: 134 | O34: 114 | P34: 176 | Q34: 440 | R34: 374 | S34: 378 | T34: 208 | U34: 2 | V34: 2001 | W34: 67 | X34: 145 | Y34: 150 | Z34: 332 | AA34: 62 | AB34: 185 | AC34: 23 | AD34: 29 | AE34: 6 | AF34: 1002 | AG34: 2001 | AH34: 24 | AI34: 376 | AJ34: 94 | AK34: 16 | AL34: 88 | AM34: 89 | AN34: 11 | AO34: 21 | AP34: 3 | AQ34: 1 | AR34: 243 | AS34: 76 | AT34: 232 | AU34: 105 | AV34: 622 | AW34: 2001 | AX34: 1840 | AY34: 23 | AZ34: 3 | BA34: 54 | BB34: 1 | BC34: 11 | BD34: 24 | BE34: 17 | BF34: 12 | BG34: 16 | BH34: 984 | BI34: 0 | BJ34: 3 | BK34: 16 | BL34: 56 | BM34: 105 | BN34: 310 | BO34: 222 | BP34: 189 | BQ34: 79 | BR34: 4 | BS34: 984 | BT34: 928 | BU34: 22 | BV34: 15 | BW34: 9 | BX34: 1 | BY34: 9
C35: 其他 Other | D35: 2 | E35: 0 | F35: 0 | G35: 0 | H35: 0 | I35: 0 | J35: 2 | K35: 2 | L35: 2 | M35: 0 | N35: 0 | O35: 0 | P35: 0 | Q35: 0 | R35: 0 | S35: 0 | T35: 0 | U35: 0 | V35: 2 | W35: 0 | X35: 0 | Y35: 0 | Z35: 0 | AA35: 0 | AB35: 0 | AC35: 0 | AD35: 0 | AE35: 0 | AF35: 2 | AG35: 2 | AH35: 0 | AI35: 0 | AJ35: 0 | AK35: 0 | AL35: 0 | AM35: 0 | AN35: 0 | AO35: 0 | AP35: 0 | AQ35: 0 | AR35: 0 | AS35: 0 | AT35: 0 | AU35: 0 | AV35: 2 | AW35: 2 | AX35: 0 | AY35: 0 | AZ35: 0 | BA35: 0 | BB35: 0 | BC35: 0 | BD35: 0 | BE35: 0 | BF35: 0 | BG35: 2 | BH35: 10 | BI35: 0 | BJ35: 0 | BK35: 0 | BL35: 0 | BM35: 0 | BN35: 2 | BO35: 1 | BP35: 2 | BQ35: 0 | BR35: 5 | BS35: 10 | BT35: 6 | BU35: 0 | BV35: 0 | BW35: 0 | BX35: 0 | BY35: 4
B36: 宜蘭縣 | C36: 計 Total | D36: 364 | E36: 333 | F36: 22 | G36: 6 | H36: 3 | I36: 0 | J36: 0 | K36: 364 | L36: 7 | M36: 7 | N36: 9 | O36: 32 | P36: 32 | Q36: 92 | R36: 70 | S36: 75 | T36: 40 | U36: 0 | V36: 364 | W36: 6 | X36: 37 | Y36: 78 | Z36: 91 | AA36: 27 | AB36: 40 | AC36: 6 | AD36: 7 | AE36: 4 | AF36: 68 | AG36: 364 | AH36: 8 | AI36: 104 | AJ36: 16 | AK36: 6 | AL36: 16 | AM36: 22 | AN36: 0 | AO36: 7 | AP36: 1 | AQ36: 0 | AR36: 53 | AS36: 27 | AT36: 49 | AU36: 13 | AV36: 42 | AW36: 364 | AX36: 324 | AY36: 6 | AZ36: 0 | BA36: 18 | BB36: 0 | BC36: 4 | BD36: 4 | BE36: 3 | BF36: 3 | BG36: 2 | BH36: 349 | BI36: 0 | BJ36: 1 | BK36: 8 | BL36: 16 | BM36: 32 | BN36: 81 | BO36: 96 | BP36: 79 | BQ36: 29 | BR36: 7 | BS36: 349 | BT36: 320 | BU36: 23 | BV36: 1 | BW36: 0 | BX36: 0 | BY36: 5
C37: 男 Male | D37: 95 | E37: 90 | F37: 4 | G37: 1 | H37: 0 | I37: 0 | J37: 0 | K37: 95 | L37: 5 | M37: 4 | N37: 3 | O37: 8 | P37: 9 | Q37: 19 | R37: 10 | S37: 26 | T37: 11 | U37: 0 | V37: 95 | W37: 5 | X37: 14 | Y37: 21 | Z37: 17 | AA37: 6 | AB37: 10 | AC37: 3 | AD37: 1 | AE37: 2 | AF37: 16 | AG37: 95 | AH37: 3 | AI37: 19 | AJ37: 6 | AK37: 4 | AL37: 9 | AM37: 3 | AN37: 0 | AO37: 2 | AP37: 0 | AQ37: 0 | AR37: 0 | AS37: 11 | AT37: 20 | AU37: 1 | AV37: 17 | AW37: 95 | AX37: 86 | AY37: 3 | AZ37: 0 | BA37: 3 | BB37: 0 | BC37: 1 | BD37: 1 | BE37: 1 | BF37: 0 | BG37: 0 | BH37: 277 | BI37: 0 | BJ37: 1 | BK37: 6 | BL37: 10 | BM37: 28 | BN37: 67 | BO37: 71 | BP37: 66 | BQ37: 23 | BR37: 5 | BS37: 277 | BT37: 251 | BU37: 22 | BV37: 0 | BW37: 0 | BX37: 0 | BY37: 4
B38: Yilan County | C38: 女 Female | D38: 269 | E38: 243 | F38: 18 | G38: 5 | H38: 3 | I38: 0 | J38: 0 | K38: 269 | L38: 2 | M38: 3 | N38: 6 | O38: 24 | P38: 23 | Q38: 73 | R38: 60 | S38: 49 | T38: 29 | U38: 0 | V38: 269 | W38: 1 | X38: 23 | Y38: 57 | Z38: 74 | AA38: 21 | AB38: 30 | AC38: 3 | AD38: 6 | AE38: 2 | AF38: 52 | AG38: 269 | AH38: 5 | AI38: 85 | AJ38: 10 | AK38: 2 | AL38: 7 | AM38: 19 | AN38: 0 | AO38: 5 | AP38: 1 | AQ38: 0 | AR38: 53 | AS38: 16 | AT38: 29 | AU38: 12 | AV38: 25 | AW38: 269 | AX38: 238 | AY38: 3 | AZ38: 0 | BA38: 15 | BB38: 0 | BC38: 3 | BD38: 3 | BE38: 2 | BF38: 3 | BG38: 2 | BH38: 70 | BI38: 0 | BJ38: 0 | BK38: 2 | BL38: 6 | BM38: 4 | BN38: 13 | BO38: 25 | BP38: 13 | BQ38: 6 | BR38: 1 | BS38: 70 | BT38: 68 | BU38: 1 | BV38: 1 | BW38: 0 | BX38: 0 | BY38: 0
C39: 其他 Other | D39: 0 | E39: 0 | F39: 0 | G39: 0 | H39: 0 | I39: 0 | J39: 0 | K39: 0 | L39: 0 | M39: 0 | N39: 0 | O39: 0 | P39: 0 | Q39: 0 | R39: 0 | S39: 0 | T39: 0 | U39: 0 | V39: 0 | W39: 0 | X39: 0 | Y39: 0 | Z39: 0 | AA39: 0 | AB39: 0 | AC39: 0 | AD39: 0 | AE39: 0 | AF39: 0 | AG39: 0 | AH39: 0 | AI39: 0 | AJ39: 0 | AK39: 0 | AL39: 0 | AM39: 0 | AN39: 0 | AO39: 0 | AP39: 0 | AQ39: 0 | AR39: 0 | AS39: 0 | AT39: 0 | AU39: 0 | AV39: 0 | AW39: 0 | AX39: 0 | AY39: 0 | AZ39: 0 | BA39: 0 | BB39: 0 | BC39: 0 | BD39: 0 | BE39: 0 | BF39: 0 | BG39: 0 | BH39: 2 | BI39: 0 | BJ39: 0 | BK39: 0 | BL39: 0 | BM39: 0 | BN39: 1 | BO39: 0 | BP39: 0 | BQ39: 0 | BR39: 1 | BS39: 2 | BT39: 1 | BU39: 0 | BV39: 0 | BW39: 0 | BX39: 0 | BY39: 1
B40: 新竹縣 | C40: 計 Total | D40: 518 | E40: 429 | F40: 71 | G40: 4 | H40: 7 | I40: 2 | J40: 5 | K40: 518 | L40: 35 | M40: 46 | N40: 30 | O40: 39 | P40: 50 | Q40: 108 | R40: 106 | S40: 69 | T40: 35 | U40: 0 | V40: 518 | W40: 30 | X40: 58 | Y40: 53 | Z40: 71 | AA40: 8 | AB40: 44 | AC40: 4 | AD40: 0 | AE40: 2 | AF40: 248 | AG40: 518 | AH40: 7 | AI40: 76 | AJ40: 30 | AK40: 6 | AL40: 30 | AM40: 5 | AN40: 6 | AO40: 5 | AP40: 1 | AQ40: 0 | AR40: 36 | AS40: 15 | AT40: 51 | AU40: 31 | AV40: 219 | AW40: 518 | AX40: 474 | AY40: 9 | AZ40: 1 | BA40: 10 | BB40: 1 | BC40: 5 | BD40: 9 | BE40: 2 | BF40: 0 | BG40: 7 | BH40: 511 | BI40: 0 | BJ40: 3 | BK40: 4 | BL40: 33 | BM40: 38 | BN40: 150 | BO40: 155 | BP40: 90 | BQ40: 19 | BR40: 19 | BS40: 511 | BT40: 417 | BU40: 61 | BV40: 5 | BW40: 5 | BX40: 0 | BY40: 23
C41: 男 Male | D41: 166 | E41: 143 | F41: 19 | G41: 0 | H41: 1 | I41: 1 | J41: 2 | K41: 166 | L41: 18 | M41: 27 | N41: 13 | O41: 10 | P41: 16 | Q41: 17 | R41: 28 | S41: 23 | T41: 14 | U41: 0 | V41: 166 | W41: 16 | X41: 29 | Y41: 20 | Z41: 21 | AA41: 1 | AB41: 10 | AC41: 2 | AD41: 0 | AE41: 1 | AF41: 66 | AG41: 166 | AH41: 1 | AI41: 10 | AJ41: 10 | AK41: 2 | AL41: 15 | AM41: 1 | AN41: 1 | AO41: 0 | AP41: 1 | AQ41: 0 | AR41: 0 | AS41: 4 | AT41: 14 | AU41: 6 | AV41: 101 | AW41: 166 | AX41: 154 | AY41: 2 | AZ41: 0 | BA41: 1 | BB41: 0 | BC41: 3 | BD41: 4 | BE41: 1 | BF41: 0 | BG41: 1 | BH41: 387 | BI41: 0 | BJ41: 3 | BK41: 2 | BL41: 25 | BM41: 26 | BN41: 109 | BO41: 119 | BP41: 76 | BQ41: 16 | BR41: 11 | BS41: 387 | BT41: 321 | BU41: 44 | BV41: 1 | BW41: 4 | BX41: 0 | BY41: 17
B42: Hsinchu County | C42: 女 Female | D42: 351 | E42: 286 | F42: 52 | G42: 4 | H42: 6 | I42: 1 | J42: 2 | K42: 351 | L42: 16 | M42: 19 | N42: 17 | O42: 29 | P42: 34 | Q42: 91 | R42: 78 | S42: 46 | T42: 21 | U42: 0 | V42: 351 | W42: 14 | X42: 29 | Y42: 33 | Z42: 50 | AA42: 7 | AB42: 34 | AC42: 2 | AD42: 0 | AE42: 1 | AF42: 181 | AG42: 351 | AH42: 6 | AI42: 66 | AJ42: 20 | AK42: 4 | AL42: 15 | AM42: 4 | AN42: 5 | AO42: 5 | AP42: 0 | AQ42: 0 | AR42: 36 | AS42: 11 | AT42: 37 | AU42: 25 | AV42: 117 | AW42: 351 | AX42: 320 | AY42: 7 | AZ42: 1 | BA42: 9 | BB42: 1 | BC42: 2 | BD42: 5 | BE42: 1 | BF42: 0 | BG42: 5 | BH42: 123 | BI42: 0 | BJ42: 0 | BK42: 2 | BL42: 8 | BM42: 11 | BN42: 41 | BO42: 36 | BP42: 14 | BQ42: 3 | BR42: 8 | BS42: 123 | BT42: 95 | BU42: 17 | BV42: 4 | BW42: 1 | BX42: 0 | BY42: 6
C43: 其他 Other | D43: 1 | E43: 0 | F43: 0 | G43: 0 | H43: 0 | I43: 0 | J43: 1 | K43: 1 | L43: 1 | M43: 0 | N43: 0 | O43: 0 | P43: 0 | Q43: 0 | R43: 0 | S43: 0 | T43: 0 | U43: 0 | V43: 1 | W43: 0 | X43: 0 | Y43: 0 | Z43: 0 | AA43: 0 | AB43: 0 | AC43: 0 | AD43: 0 | AE43: 0 | AF43: 1 | AG43: 1 | AH43: 0 | AI43: 0 | AJ43: 0 | AK43: 0 | AL43: 0 | AM43: 0 | AN43: 0 | AO43: 0 | AP43: 0 | AQ43: 0 | AR43: 0 | AS43: 0 | AT43: 0 | AU43: 0 | AV43: 1 | AW43: 1 | AX43: 0 | AY43: 0 | AZ43: 0 | BA43: 0 | BB43: 0 | BC43: 0 | BD43: 0 | BE43: 0 | BF43: 0 | BG43: 1 | BH43: 1 | BI43: 0 | BJ43: 0 | BK43: 0 | BL43: 0 | BM43: 1 | BN43: 0 | BO43: 0 | BP43: 0 | BQ43: 0 | BR43: 0 | BS43: 1 | BT43: 1 | BU43: 0 | BV43: 0 | BW43: 0 | BX43: 0 | BY43: 0
B44: 苗栗縣 | C44: 計 Total | D44: 539 | E44: 484 | F44: 40 | G44: 7 | H44: 5 | I44: 0 | J44: 3 | K44: 539 | L44: 35 | M44: 44 | N44: 53 | O44: 33 | P44: 35 | Q44: 111 | R44: 90 | S44: 90 | T44: 48 | U44: 0 | V44: 539 | W44: 34 | X44: 48 | Y44: 43 | Z44: 40 | AA44: 6 | AB44: 16 | AC44: 3 | AD44: 2 | AE44: 0 | AF44: 347 | AG44: 539 | AH44: 10 | AI44: 72 | AJ44: 9 | AK44: 11 | AL44: 25 | AM44: 6 | AN44: 6 | AO44: 4 | AP44: 0 | AQ44: 1 | AR44: 45 | AS44: 20 | AT44: 58 | AU44: 80 | AV44: 192 | AW44: 539 | AX44: 493 | AY44: 5 | AZ44: 2 | BA44: 11 | BB44: 0 | BC44: 1 | BD44: 11 | BE44: 9 | BF44: 5 | BG44: 2 | BH44: 526 | BI44: 0 | BJ44: 4 | BK44: 15 | BL44: 26 | BM44: 58 | BN44: 156 | BO44: 130 | BP44: 98 | BQ44: 36 | BR44: 3 | BS44: 526 | BT44: 479 | BU44: 26 | BV44: 4 | BW44: 6 | BX44: 0 | BY44: 11
C45: 男 Male | D45: 177 | E45: 165 | F45: 9 | G45: 1 | H45: 0 | I45: 0 | J45: 2 | K45: 177 | L45: 21 | M45: 25 | N45: 25 | O45: 8 | P45: 4 | Q45: 17 | R45: 30 | S45: 22 | T45: 25 | U45: 0 | V45: 177 | W45: 21 | X45: 27 | Y45: 19 | Z45: 11 | AA45: 0 | AB45: 4 | AC45: 0 | AD45: 0 | AE45: 0 | AF45: 95 | AG45: 177 | AH45: 3 | AI45: 15 | AJ45: 2 | AK45: 3 | AL45: 13 | AM45: 3 | AN45: 1 | AO45: 1 | AP45: 0 | AQ45: 1 | AR45: 0 | AS45: 14 | AT45: 16 | AU45: 18 | AV45: 87 | AW45: 177 | AX45: 156 | AY45: 2 | AZ45: 1 | BA45: 5 | BB45: 0 | BC45: 0 | BD45: 8 | BE45: 4 | BF45: 0 | BG45: 1 | BH45: 398 | BI45: 0 | BJ45: 4 | BK45: 10 | BL45: 16 | BM45: 42 | BN45: 121 | BO45: 97 | BP45: 77 | BQ45: 29 | BR45: 2 | BS45: 398 | BT45: 366 | BU45: 23 | BV45: 0 | BW45: 1 | BX45: 0 | BY45: 8
B46: Miaoli County | C46: 女 Female | D46: 362 | E46: 319 | F46: 31 | G46: 6 | H46: 5 | I46: 0 | J46: 1 | K46: 362 | L46: 14 | M46: 19 | N46: 28 | O46: 25 | P46: 31 | Q46: 94 | R46: 60 | S46: 68 | T46: 23 | U46: 0 | V46: 362 | W46: 13 | X46: 21 | Y46: 24 | Z46: 29 | AA46: 6 | AB46: 12 | AC46: 3 | AD46: 2 | AE46: 0 | AF46: 252 | AG46: 362 | AH46: 7 | AI46: 57 | AJ46: 7 | AK46: 8 | AL46: 12 | AM46: 3 | AN46: 5 | AO46: 3 | AP46: 0 | AQ46: 0 | AR46: 45 | AS46: 6 | AT46: 42 | AU46: 62 | AV46: 105 | AW46: 362 | AX46: 337 | AY46: 3 | AZ46: 1 | BA46: 6 | BB46: 0 | BC46: 1 | BD46: 3 | BE46: 5 | BF46: 5 | BG46: 1 | BH46: 127 | BI46: 0 | BJ46: 0 | BK46: 5 | BL46: 10 | BM46: 16 | BN46: 35 | BO46: 32 | BP46: 21 | BQ46: 7 | BR46: 1 | BS46: 127 | BT46: 112 | BU46: 3 | BV46: 4 | BW46: 5 | BX46: 0 | BY46: 3
C47: 其他 Other | D47: 0 | E47: 0 | F47: 0 | G47: 0 | H47: 0 | I47: 0 | J47: 0 | K47: 0 | L47: 0 | M47: 0 | N47: 0 | O47: 0 | P47: 0 | Q47: 0 | R47: 0 | S47: 0 | T47: 0 | U47: 0 | V47: 0 | W47: 0 | X47: 0 | Y47: 0 | Z47: 0 | AA47: 0 | AB47: 0 | AC47: 0 | AD47: 0 | AE47: 0 | AF47: 0 | AG47: 0 | AH47: 0 | AI47: 0 | AJ47: 0 | AK47: 0 | AL47: 0 | AM47: 0 | AN47: 0 | AO47: 0 | AP47: 0 | AQ47: 0 | AR47: 0 | AS47: 0 | AT47: 0 | AU47: 0 | AV47: 0 | AW47: 0 | AX47: 0 | AY47: 0 | AZ47: 0 | BA47: 0 | BB47: 0 | BC47: 0 | BD47: 0 | BE47: 0 | BF47: 0 | BG47: 0 | BH47: 1 | BI47: 0 | BJ47: 0 | BK47: 0 | BL47: 0 | BM47: 0 | BN47: 0 | BO47: 1 | BP47: 0 | BQ47: 0 | BR47: 0 | BS47: 1 | BT47: 1 | BU47: 0 | BV47: 0 | BW47: 0 | BX47: 0 | BY47: 0
B48: 彰化縣 | C48: 計 Total | D48: 1259 | E48: 1188 | F48: 27 | G48: 9 | H48: 11 | I48: 0 | J48: 24 | K48: 1259 | L48: 65 | M48: 73 | N48: 84 | O48: 73 | P48: 99 | Q48: 242 | R48: 221 | S48: 261 | T48: 139 | U48: 2 | V48: 1259 | W48: 60 | X48: 140 | Y48: 161 | Z48: 155 | AA48: 21 | AB48: 52 | AC48: 7 | AD48: 9 | AE48: 1 | AF48: 653 | AG48: 1259 | AH48: 12 | AI48: 84 | AJ48: 19 | AK48: 40 | AL48: 120 | AM48: 19 | AN48: 2 | AO48: 4 | AP48: 5 | AQ48: 0 | AR48: 105 | AS48: 79 | AT48: 144 | AU48: 277 | AV48: 349 | AW48: 1259 | AX48: 1125 | AY48: 31 | AZ48: 2 | BA48: 31 | BB48: 3 | BC48: 3 | BD48: 23 | BE48: 8 | BF48: 18 | BG48: 15 | BH48: 1207 | BI48: 0 | BJ48: 3 | BK48: 26 | BL48: 52 | BM48: 103 | BN48: 304 | BO48: 322 | BP48: 281 | BQ48: 109 | BR48: 7 | BS48: 1207 | BT48: 1130 | BU48: 24 | BV48: 9 | BW48: 11 | BX48: 0 | BY48: 33
C49: 男 Male | D49: 442 | E49: 428 | F49: 6 | G49: 1 | H49: 0 | I49: 0 | J49: 7 | K49: 442 | L49: 36 | M49: 44 | N49: 43 | O49: 26 | P49: 30 | Q49: 49 | R49: 63 | S49: 98 | T49: 53 | U49: 0 | V49: 442 | W49: 35 | X49: 64 | Y49: 66 | Z49: 54 | AA49: 5 | AB49: 15 | AC49: 1 | AD49: 2 | AE49: 0 | AF49: 200 | AG49: 442 | AH49: 3 | AI49: 11 | AJ49: 4 | AK49: 18 | AL49: 51 | AM49: 7 | AN49: 0 | AO49: 1 | AP49: 3 | AQ49: 0 | AR49: 1 | AS49: 36 | AT49: 49 | AU49: 92 | AV49: 166 | AW49: 442 | AX49: 378 | AY49: 18 | AZ49: 0 | BA49: 11 | BB49: 2 | BC49: 1 | BD49: 14 | BE49: 4 | BF49: 6 | BG49: 8 | BH49: 924 | BI49: 0 | BJ49: 1 | BK49: 18 | BL49: 38 | BM49: 76 | BN49: 215 | BO49: 267 | BP49: 220 | BQ49: 82 | BR49: 7 | BS49: 924 | BT49: 872 | BU49: 21 | BV49: 1 | BW49: 7 | BX49: 0 | BY49: 23
B50: Changhua County | C50: 女 Female | D50: 817 | E50: 760 | F50: 21 | G50: 8 | H50: 11 | I50: 0 | J50: 17 | K50: 817 | L50: 29 | M50: 29 | N50: 41 | O50: 47 | P50: 69 | Q50: 193 | R50: 158 | S50: 163 | T50: 86 | U50: 2 | V50: 817 | W50: 25 | X50: 76 | Y50: 95 | Z50: 101 | AA50: 16 | AB50: 37 | AC50: 6 | AD50: 7 | AE50: 1 | AF50: 453 | AG50: 817 | AH50: 9 | AI50: 73 | AJ50: 15 | AK50: 22 | AL50: 69 | AM50: 12 | AN50: 2 | AO50: 3 | AP50: 2 | AQ50: 0 | AR50: 104 | AS50: 43 | AT50: 95 | AU50: 185 | AV50: 183 | AW50: 817 | AX50: 747 | AY50: 13 | AZ50: 2 | BA50: 20 | BB50: 1 | BC50: 2 | BD50: 9 | BE50: 4 | BF50: 12 | BG50: 7 | BH50: 281 | BI50: 0 | BJ50: 2 | BK50: 8 | BL50: 14 | BM50: 27 | BN50: 88 | BO50: 55 | BP50: 60 | BQ50: 27 | BR50: 0 | BS50: 281 | BT50: 256 | BU50: 3 | BV50: 8 | BW50: 4 | BX50: 0 | BY50: 10
C51: 其他 Other | D51: 0 | E51: 0 | F51: 0 | G51: 0 | H51: 0 | I51: 0 | J51: 0 | K51: 0 | L51: 0 | M51: 0 | N51: 0 | O51: 0 | P51: 0 | Q51: 0 | R51: 0 | S51: 0 | T51: 0 | U51: 0 | V51: 0 | W51: 0 | X51: 0 | Y51: 0 | Z51: 0 | AA51: 0 | AB51: 0 | AC51: 0 | AD51: 0 | AE51: 0 | AF51: 0 | AG51: 0 | AH51: 0 | AI51: 0 | AJ51: 0 | AK51: 0 | AL51: 0 | AM51: 0 | AN51: 0 | AO51: 0 | AP51: 0 | AQ51: 0 | AR51: 0 | AS51: 0 | AT51: 0 | AU51: 0 | AV51: 0 | AW51: 0 | AX51: 0 | AY51: 0 | AZ51: 0 | BA51: 0 | BB51: 0 | BC51: 0 | BD51: 0 | BE51: 0 | BF51: 0 | BG51: 0 | BH51: 2 | BI51: 0 | BJ51: 0 | BK51: 0 | BL51: 0 | BM51: 0 | BN51: 1 | BO51: 0 | BP51: 1 | BQ51: 0 | BR51: 0 | BS51: 2 | BT51: 2 | BU51: 0 | BV51: 0 | BW51: 0 | BX51: 0 | BY51: 0
B52: 南投縣 | C52: 計 Total | D52: 557 | E52: 450 | F52: 94 | G52: 3 | H52: 5 | I52: 1 | J52: 4 | K52: 557 | L52: 44 | M52: 49 | N52: 59 | O52: 34 | P52: 28 | Q52: 89 | R52: 84 | S52: 93 | T52: 77 | U52: 0 | V52: 557 | W52: 27 | X52: 107 | Y52: 128 | Z52: 146 | AA52: 29 | AB52: 44 | AC52: 3 | AD52: 12 | AE52: 1 | AF52: 60 | AG52: 557 | AH52: 3 | AI52: 60 | AJ52: 6 | AK52: 42 | AL52: 77 | AM52: 35 | AN52: 2 | AO52: 5 | AP52: 1 | AQ52: 0 | AR52: 46 | AS52: 56 | AT52: 44 | AU52: 5 | AV52: 175 | AW52: 557 | AX52: 489 | AY52: 6 | AZ52: 1 | BA52: 9 | BB52: 0 | BC52: 9 | BD52: 15 | BE52: 2 | BF52: 10 | BG52: 16 | BH52: 507 | BI52: 0 | BJ52: 0 | BK52: 7 | BL52: 25 | BM52: 30 | BN52: 124 | BO52: 136 | BP52: 135 | BQ52: 43 | BR52: 7 | BS52: 507 | BT52: 412 | BU52: 79 | BV52: 3 | BW52: 4 | BX52: 0 | BY52: 9
C53: 男 Male | D53: 200 | E53: 171 | F53: 27 | G53: 0 | H53: 0 | I53: 0 | J53: 2 | K53: 200 | L53: 29 | M53: 25 | N53: 25 | O53: 8 | P53: 7 | Q53: 21 | R53: 24 | S53: 28 | T53: 33 | U53: 0 | V53: 200 | W53: 16 | X53: 50 | Y53: 38 | Z53: 48 | AA53: 9 | AB53: 13 | AC53: 1 | AD53: 2 | AE53: 0 | AF53: 23 | AG53: 200 | AH53: 0 | AI53: 8 | AJ53: 2 | AK53: 16 | AL53: 32 | AM53: 14 | AN53: 1 | AO53: 0 | AP53: 0 | AQ53: 0 | AR53: 1 | AS53: 24 | AT53: 17 | AU53: 0 | AV53: 85 | AW53: 200 | AX53: 160 | AY53: 3 | AZ53: 0 | BA53: 6 | BB53: 0 | BC53: 4 | BD53: 10 | BE53: 1 | BF53: 6 | BG53: 10 | BH53: 382 | BI53: 0 | BJ53: 0 | BK53: 7 | BL53: 21 | BM53: 21 | BN53: 84 | BO53: 107 | BP53: 107 | BQ53: 30 | BR53: 5 | BS53: 382 | BT53: 315 | BU53: 62 | BV53: 0 | BW53: 0 | BX53: 0 | BY53: 5
B54: Nantou County | C54: 女 Female | D54: 357 | E54: 279 | F54: 67 | G54: 3 | H54: 5 | I54: 1 | J54: 2 | K54: 357 | L54: 15 | M54: 24 | N54: 34 | O54: 26 | P54: 21 | Q54: 68 | R54: 60 | S54: 65 | T54: 44 | U54: 0 | V54: 357 | W54: 11 | X54: 57 | Y54: 90 | Z54: 98 | AA54: 20 | AB54: 31 | AC54: 2 | AD54: 10 | AE54: 1 | AF54: 37 | AG54: 357 | AH54: 3 | AI54: 52 | AJ54: 4 | AK54: 26 | AL54: 45 | AM54: 21 | AN54: 1 | AO54: 5 | AP54: 1 | AQ54: 0 | AR54: 45 | AS54: 32 | AT54: 27 | AU54: 5 | AV54: 90 | AW54: 357 | AX54: 329 | AY54: 3 | AZ54: 1 | BA54: 3 | BB54: 0 | BC54: 5 | BD54: 5 | BE54: 1 | BF54: 4 | BG54: 6 | BH54: 124 | BI54: 0 | BJ54: 0 | BK54: 0 | BL54: 4 | BM54: 9 | BN54: 40 | BO54: 29 | BP54: 27 | BQ54: 13 | BR54: 2 | BS54: 124 | BT54: 96 | BU54: 17 | BV54: 3 | BW54: 4 | BX54: 0 | BY54: 4
C55: 其他 Other | D55: 0 | E55: 0 | F55: 0 | G55: 0 | H55: 0 | I55: 0 | J55: 0 | K55: 0 | L55: 0 | M55: 0 | N55: 0 | O55: 0 | P55: 0 | Q55: 0 | R55: 0 | S55: 0 | T55: 0 | U55: 0 | V55: 0 | W55: 0 | X55: 0 | Y55: 0 | Z55: 0 | AA55: 0 | AB55: 0 | AC55: 0 | AD55: 0 | AE55: 0 | AF55: 0 | AG55: 0 | AH55: 0 | AI55: 0 | AJ55: 0 | AK55: 0 | AL55: 0 | AM55: 0 | AN55: 0 | AO55: 0 | AP55: 0 | AQ55: 0 | AR55: 0 | AS55: 0 | AT55: 0 | AU55: 0 | AV55: 0 | AW55: 0 | AX55: 0 | AY55: 0 | AZ55: 0 | BA55: 0 | BB55: 0 | BC55: 0 | BD55: 0 | BE55: 0 | BF55: 0 | BG55: 0 | BH55: 1 | BI55: 0 | BJ55: 0 | BK55: 0 | BL55: 0 | BM55: 0 | BN55: 0 | BO55: 0 | BP55: 1 | BQ55: 0 | BR55: 0 | BS55: 1 | BT55: 1 | BU55: 0 | BV55: 0 | BW55: 0 | BX55: 0 | BY55: 0
B56: 雲林縣 | C56: 計 Total | D56: 627 | E56: 592 | F56: 9 | G56: 11 | H56: 7 | I56: 1 | J56: 7 | K56: 627 | L56: 31 | M56: 24 | N56: 29 | O56: 25 | P56: 54 | Q56: 138 | R56: 131 | S56: 123 | T56: 72 | U56: 0 | V56: 627 | W56: 27 | X56: 38 | Y56: 35 | Z56: 43 | AA56: 5 | AB56: 10 | AC56: 6 | AD56: 6 | AE56: 2 | AF56: 455 | AG56: 627 | AH56: 5 | AI56: 59 | AJ56: 13 | AK56: 39 | AL56: 50 | AM56: 14 | AN56: 3 | AO56: 3 | AP56: 0 | AQ56: 0 | AR56: 29 | AS56: 18 | AT56: 64 | AU56: 28 | AV56: 302 | AW56: 627 | AX56: 539 | AY56: 11 | AZ56: 2 | BA56: 20 | BB56: 3 | BC56: 11 | BD56: 24 | BE56: 5 | BF56: 9 | BG56: 3 | BH56: 581 | BI56: 0 | BJ56: 0 | BK56: 7 | BL56: 30 | BM56: 48 | BN56: 163 | BO56: 153 | BP56: 131 | BQ56: 41 | BR56: 8 | BS56: 581 | BT56: 563 | BU56: 6 | BV56: 3 | BW56: 1 | BX56: 1 | BY56: 7
C57: 男 Male | D57: 199 | E57: 193 | F57: 3 | G57: 0 | H57: 0 | I57: 1 | J57: 2 | K57: 199 | L57: 14 | M57: 10 | N57: 13 | O57: 6 | P57: 7 | Q57: 25 | R57: 38 | S57: 55 | T57: 31 | U57: 0 | V57: 199 | W57: 13 | X57: 15 | Y57: 11 | Z57: 14 | AA57: 0 | AB57: 0 | AC57: 1 | AD57: 1 | AE57: 0 | AF57: 144 | AG57: 199 | AH57: 1 | AI57: 8 | AJ57: 0 | AK57: 19 | AL57: 27 | AM57: 3 | AN57: 2 | AO57: 1 | AP57: 0 | AQ57: 0 | AR57: 0 | AS57: 11 | AT57: 22 | AU57: 6 | AV57: 99 | AW57: 199 | AX57: 160 | AY57: 0 | AZ57: 0 | BA57: 6 | BB57: 2 | BC57: 6 | BD57: 15 | BE57: 3 | BF57: 7 | BG57: 0 | BH57: 452 | BI57: 0 | BJ57: 0 | BK57: 5 | BL57: 23 | BM57: 40 | BN57: 122 | BO57: 124 | BP57: 101 | BQ57: 31 | BR57: 6 | BS57: 452 | BT57: 440 | BU57: 6 | BV57: 0 | BW57: 1 | BX57: 1 | BY57: 4
B58: Yunlin County | C58: 女 Female | D58: 428 | E58: 399 | F58: 6 | G58: 11 | H58: 7 | I58: 0 | J58: 5 | K58: 428 | L58: 17 | M58: 14 | N58: 16 | O58: 19 | P58: 47 | Q58: 113 | R58: 93 | S58: 68 | T58: 41 | U58: 0 | V58: 428 | W58: 14 | X58: 23 | Y58: 24 | Z58: 29 | AA58: 5 | AB58: 10 | AC58: 5 | AD58: 5 | AE58: 2 | AF58: 311 | AG58: 428 | AH58: 4 | AI58: 51 | AJ58: 13 | AK58: 20 | AL58: 23 | AM58: 11 | AN58: 1 | AO58: 2 | AP58: 0 | AQ58: 0 | AR58: 29 | AS58: 7 | AT58: 42 | AU58: 22 | AV58: 203 | AW58: 428 | AX58: 379 | AY58: 11 | AZ58: 2 | BA58: 14 | BB58: 1 | BC58: 5 | BD58: 9 | BE58: 2 | BF58: 2 | BG58: 3 | BH58: 127 | BI58: 0 | BJ58: 0 | BK58: 2 | BL58: 7 | BM58: 8 | BN58: 41 | BO58: 28 | BP58: 30 | BQ58: 10 | BR58: 1 | BS58: 127 | BT58: 122 | BU58: 0 | BV58: 3 | BW58: 0 | BX58: 0 | BY58: 2
C59: 其他 Other | D59: 0 | E59: 0 | F59: 0 | G59: 0 | H59: 0 | I59: 0 | J59: 0 | K59: 0 | L59: 0 | M59: 0 | N59: 0 | O59: 0 | P59: 0 | Q59: 0 | R59: 0 | S59: 0 | T59: 0 | U59: 0 | V59: 0 | W59: 0 | X59: 0 | Y59: 0 | Z59: 0 | AA59: 0 | AB59: 0 | AC59: 0 | AD59: 0 | AE59: 0 | AF59: 0 | AG59: 0 | AH59: 0 | AI59: 0 | AJ59: 0 | AK59: 0 | AL59: 0 | AM59: 0 | AN59: 0 | AO59: 0 | AP59: 0 | AQ59: 0 | AR59: 0 | AS59: 0 | AT59: 0 | AU59: 0 | AV59: 0 | AW59: 0 | AX59: 0 | AY59: 0 | AZ59: 0 | BA59: 0 | BB59: 0 | BC59: 0 | BD59: 0 | BE59: 0 | BF59: 0 | BG59: 0 | BH59: 2 | BI59: 0 | BJ59: 0 | BK59: 0 | BL59: 0 | BM59: 0 | BN59: 0 | BO59: 1 | BP59: 0 | BQ59: 0 | BR59: 1 | BS59: 2 | BT59: 1 | BU59: 0 | BV59: 0 | BW59: 0 | BX59: 0 | BY59: 1
B60: 嘉義縣 | C60: 計 Total | D60: 439 | E60: 425 | F60: 7 | G60: 2 | H60: 4 | I60: 0 | J60: 1 | K60: 439 | L60: 21 | M60: 16 | N60: 24 | O60: 23 | P60: 35 | Q60: 102 | R60: 70 | S60: 87 | T60: 61 | U60: 0 | V60: 439 | W60: 22 | X60: 56 | Y60: 79 | Z60: 113 | AA60: 13 | AB60: 20 | AC60: 2 | AD60: 9 | AE60: 0 | AF60: 125 | AG60: 439 | AH60: 3 | AI60: 42 | AJ60: 7 | AK60: 36 | AL60: 36 | AM60: 23 | AN60: 2 | AO60: 2 | AP60: 2 | AQ60: 0 | AR60: 45 | AS60: 33 | AT60: 35 | AU60: 41 | AV60: 132 | AW60: 439 | AX60: 390 | AY60: 11 | AZ60: 1 | BA60: 13 | BB60: 0 | BC60: 3 | BD60: 13 | BE60: 2 | BF60: 5 | BG60: 1 | BH60: 418 | BI60: 1 | BJ60: 0 | BK60: 15 | BL60: 17 | BM60: 34 | BN60: 94 | BO60: 96 | BP60: 114 | BQ60: 46 | BR60: 1 | BS60: 418 | BT60: 405 | BU60: 6 | BV60: 2 | BW60: 1 | BX60: 0 | BY60: 4
C61: 男 Male | D61: 152 | E61: 152 | F61: 0 | G61: 0 | H61: 0 | I61: 0 | J61: 0 | K61: 152 | L61: 10 | M61: 10 | N61: 11 | O61: 8 | P61: 13 | Q61: 29 | R61: 20 | S61: 27 | T61: 24 | U61: 0 | V61: 152 | W61: 11 | X61: 25 | Y61: 27 | Z61: 34 | AA61: 3 | AB61: 5 | AC61: 1 | AD61: 2 | AE61: 0 | AF61: 44 | AG61: 152 | AH61: 0 | AI61: 3 | AJ61: 4 | AK61: 16 | AL61: 20 | AM61: 4 | AN61: 0 | AO61: 0 | AP61: 0 | AQ61: 0 | AR61: 0 | AS61: 18 | AT61: 14 | AU61: 9 | AV61: 64 | AW61: 152 | AX61: 129 | AY61: 4 | AZ61: 0 | BA61: 6 | BB61: 0 | BC61: 1 | BD61: 7 | BE61: 1 | BF61: 4 | BG61: 0 | BH61: 336 | BI61: 1 | BJ61: 0 | BK61: 15 | BL61: 15 | BM61: 27 | BN61: 67 | BO61: 85 | BP61: 90 | BQ61: 36 | BR61: 0 | BS61: 336 | BT61: 328 | BU61: 5 | BV61: 0 | BW61: 0 | BX61: 0 | BY61: 3
B62: Chiayi County | C62: 女 Female | D62: 287 | E62: 273 | F62: 7 | G62: 2 | H62: 4 | I62: 0 | J62: 1 | K62: 287 | L62: 11 | M62: 6 | N62: 13 | O62: 15 | P62: 22 | Q62: 73 | R62: 50 | S62: 60 | T62: 37 | U62: 0 | V62: 287 | W62: 11 | X62: 31 | Y62: 52 | Z62: 79 | AA62: 10 | AB62: 15 | AC62: 1 | AD62: 7 | AE62: 0 | AF62: 81 | AG62: 287 | AH62: 3 | AI62: 39 | AJ62: 3 | AK62: 20 | AL62: 16 | AM62: 19 | AN62: 2 | AO62: 2 | AP62: 2 | AQ62: 0 | AR62: 45 | AS62: 15 | AT62: 21 | AU62: 32 | AV62: 68 | AW62: 287 | AX62: 261 | AY62: 7 | AZ62: 1 | BA62: 7 | BB62: 0 | BC62: 2 | BD62: 6 | BE62: 1 | BF62: 1 | BG62: 1 | BH62: 81 | BI62: 0 | BJ62: 0 | BK62: 0 | BL62: 2 | BM62: 7 | BN62: 27 | BO62: 11 | BP62: 24 | BQ62: 10 | BR62: 0 | BS62: 81 | BT62: 77 | BU62: 1 | BV62: 2 | BW62: 1 | BX62: 0 | BY62: 0
C63: 其他 Other | D63: 0 | E63: 0 | F63: 0 | G63: 0 | H63: 0 | I63: 0 | J63: 0 | K63: 0 | L63: 0 | M63: 0 | N63: 0 | O63: 0 | P63: 0 | Q63: 0 | R63: 0 | S63: 0 | T63: 0 | U63: 0 | V63: 0 | W63: 0 | X63: 0 | Y63: 0 | Z63: 0 | AA63: 0 | AB63: 0 | AC63: 0 | AD63: 0 | AE63: 0 | AF63: 0 | AG63: 0 | AH63: 0 | AI63: 0 | AJ63: 0 | AK63: 0 | AL63: 0 | AM63: 0 | AN63: 0 | AO63: 0 | AP63: 0 | AQ63: 0 | AR63: 0 | AS63: 0 | AT63: 0 | AU63: 0 | AV63: 0 | AW63: 0 | AX63: 0 | AY63: 0 | AZ63: 0 | BA63: 0 | BB63: 0 | BC63: 0 | BD63: 0 | BE63: 0 | BF63: 0 | BG63: 0 | BH63: 1 | BI63: 0 | BJ63: 0 | BK63: 0 | BL63: 0 | BM63: 0 | BN63: 0 | BO63: 0 | BP63: 0 | BQ63: 0 | BR63: 1 | BS63: 1 | BT63: 0 | BU63: 0 | BV63: 0 | BW63: 0 | BX63: 0 | BY63: 1
B64: 屏東縣 | C64: 計 Total | D64: 867 | E64: 738 | F64: 90 | G64: 6 | H64: 9 | I64: 0 | J64: 24 | K64: 867 | L64: 60 | M64: 60 | N64: 74 | O64: 38 | P64: 72 | Q64: 175 | R64: 135 | S64: 164 | T64: 89 | U64: 0 | V64: 867 | W64: 48 | X64: 116 | Y64: 192 | Z64: 205 | AA64: 33 | AB64: 49 | AC64: 2 | AD64: 13 | AE64: 0 | AF64: 209 | AG64: 867 | AH64: 12 | AI64: 124 | AJ64: 26 | AK64: 45 | AL64: 32 | AM64: 23 | AN64: 4 | AO64: 5 | AP64: 3 | AQ64: 1 | AR64: 67 | AS64: 39 | AT64: 87 | AU64: 46 | AV64: 353 | AW64: 867 | AX64: 780 | AY64: 9 | AZ64: 4 | BA64: 18 | BB64: 0 | BC64: 2 | BD64: 26 | BE64: 5 | BF64: 7 | BG64: 16 | BH64: 822 | BI64: 2 | BJ64: 0 | BK64: 15 | BL64: 29 | BM64: 76 | BN64: 193 | BO64: 243 | BP64: 185 | BQ64: 68 | BR64: 11 | BS64: 822 | BT64: 707 | BU64: 79 | BV64: 1 | BW64: 4 | BX64: 1 | BY64: 30
C65: 男 Male | D65: 272 | E65: 241 | F65: 26 | G65: 0 | H65: 1 | I65: 0 | J65: 4 | K65: 272 | L65: 31 | M65: 28 | N65: 36 | O65: 10 | P65: 14 | Q65: 34 | R65: 35 | S65: 51 | T65: 33 | U65: 0 | V65: 272 | W65: 22 | X65: 47 | Y65: 63 | Z65: 50 | AA65: 12 | AB65: 11 | AC65: 0 | AD65: 2 | AE65: 0 | AF65: 65 | AG65: 272 | AH65: 1 | AI65: 21 | AJ65: 8 | AK65: 17 | AL65: 20 | AM65: 4 | AN65: 2 | AO65: 2 | AP65: 2 | AQ65: 1 | AR65: 1 | AS65: 18 | AT65: 21 | AU65: 9 | AV65: 145 | AW65: 272 | AX65: 233 | AY65: 3 | AZ65: 2 | BA65: 6 | BB65: 0 | BC65: 1 | BD65: 10 | BE65: 3 | BF65: 5 | BG65: 9 | BH65: 633 | BI65: 2 | BJ65: 0 | BK65: 13 | BL65: 19 | BM65: 52 | BN65: 150 | BO65: 194 | BP65: 141 | BQ65: 58 | BR65: 4 | BS65: 633 | BT65: 550 | BU65: 62 | BV65: 0 | BW65: 1 | BX65: 1 | BY65: 19
B66: Pingtung County | C66: 女 Female | D66: 592 | E66: 497 | F66: 63 | G66: 6 | H66: 8 | I66: 0 | J66: 18 | K66: 592 | L66: 27 | M66: 32 | N66: 37 | O66: 28 | P66: 58 | Q66: 141 | R66: 100 | S66: 113 | T66: 56 | U66: 0 | V66: 592 | W66: 25 | X66: 68 | Y66: 128 | Z66: 155 | AA66: 21 | AB66: 38 | AC66: 2 | AD66: 11 | AE66: 0 | AF66: 144 | AG66: 592 | AH66: 11 | AI66: 103 | AJ66: 18 | AK66: 28 | AL66: 12 | AM66: 19 | AN66: 2 | AO66: 3 | AP66: 1 | AQ66: 0 | AR66: 66 | AS66: 21 | AT66: 66 | AU66: 37 | AV66: 205 | AW66: 592 | AX66: 545 | AY66: 6 | AZ66: 2 | BA66: 12 | BB66: 0 | BC66: 1 | BD66: 16 | BE66: 2 | BF66: 2 | BG66: 6 | BH66: 186 | BI66: 0 | BJ66: 0 | BK66: 2 | BL66: 10 | BM66: 24 | BN66: 42 | BO66: 49 | BP66: 44 | BQ66: 10 | BR66: 5 | BS66: 186 | BT66: 156 | BU66: 17 | BV66: 1 | BW66: 3 | BX66: 0 | BY66: 9
C67: 其他 Other | D67: 3 | E67: 0 | F67: 1 | G67: 0 | H67: 0 | I67: 0 | J67: 2 | K67: 3 | L67: 2 | M67: 0 | N67: 1 | O67: 0 | P67: 0 | Q67: 0 | R67: 0 | S67: 0 | T67: 0 | U67: 0 | V67: 3 | W67: 1 | X67: 1 | Y67: 1 | Z67: 0 | AA67: 0 | AB67: 0 | AC67: 0 | AD67: 0 | AE67: 0 | AF67: 0 | AG67: 3 | AH67: 0 | AI67: 0 | AJ67: 0 | AK67: 0 | AL67: 0 | AM67: 0 | AN67: 0 | AO67: 0 | AP67: 0 | AQ67: 0 | AR67: 0 | AS67: 0 | AT67: 0 | AU67: 0 | AV67: 3 | AW67: 3 | AX67: 2 | AY67: 0 | AZ67: 0 | BA67: 0 | BB67: 0 | BC67: 0 | BD67: 0 | BE67: 0 | BF67: 0 | BG67: 1 | BH67: 3 | BI67: 0 | BJ67: 0 | BK67: 0 | BL67: 0 | BM67: 0 | BN67: 1 | BO67: 0 | BP67: 0 | BQ67: 0 | BR67: 2 | BS67: 3 | BT67: 1 | BU67: 0 | BV67: 0 | BW67: 0 | BX67: 0 | BY67: 2
B68: 臺東縣 | C68: 計 Total | D68: 333 | E68: 182 | F68: 147 | G68: 3 | H68: 0 | I68: 0 | J68: 1 | K68: 333 | L68: 26 | M68: 25 | N68: 10 | O68: 22 | P68: 30 | Q68: 57 | R68: 61 | S68: 66 | T68: 36 | U68: 0 | V68: 333 | W68: 25 | X68: 50 | Y68: 54 | Z68: 62 | AA68: 7 | AB68: 12 | AC68: 1 | AD68: 7 | AE68: 0 | AF68: 115 | AG68: 333 | AH68: 2 | AI68: 40 | AJ68: 10 | AK68: 28 | AL68: 34 | AM68: 4 | AN68: 3 | AO68: 0 | AP68: 3 | AQ68: 1 | AR68: 18 | AS68: 11 | AT68: 35 | AU68: 13 | AV68: 131 | AW68: 333 | AX68: 292 | AY68: 10 | AZ68: 2 | BA68: 8 | BB68: 0 | BC68: 3 | BD68: 9 | BE68: 4 | BF68: 4 | BG68: 1 | BH68: 336 | BI68: 0 | BJ68: 3 | BK68: 5 | BL68: 17 | BM68: 42 | BN68: 80 | BO68: 80 | BP68: 70 | BQ68: 37 | BR68: 2 | BS68: 336 | BT68: 193 | BU68: 139 | BV68: 0 | BW68: 0 | BX68: 0 | BY68: 4
C69: 男 Male | D69: 128 | E69: 76 | F69: 52 | G69: 0 | H69: 0 | I69: 0 | J69: 0 | K69: 128 | L69: 17 | M69: 14 | N69: 6 | O69: 10 | P69: 9 | Q69: 14 | R69: 18 | S69: 25 | T69: 15 | U69: 0 | V69: 128 | W69: 16 | X69: 19 | Y69: 22 | Z69: 19 | AA69: 2 | AB69: 3 | AC69: 0 | AD69: 2 | AE69: 0 | AF69: 45 | AG69: 128 | AH69: 1 | AI69: 9 | AJ69: 4 | AK69: 10 | AL69: 18 | AM69: 1 | AN69: 1 | AO69: 0 | AP69: 2 | AQ69: 1 | AR69: 0 | AS69: 4 | AT69: 11 | AU69: 2 | AV69: 64 | AW69: 128 | AX69: 113 | AY69: 2 | AZ69: 1 | BA69: 2 | BB69: 0 | BC69: 3 | BD69: 2 | BE69: 2 | BF69: 2 | BG69: 1 | BH69: 248 | BI69: 0 | BJ69: 3 | BK69: 4 | BL69: 13 | BM69: 30 | BN69: 57 | BO69: 60 | BP69: 55 | BQ69: 24 | BR69: 2 | BS69: 248 | BT69: 141 | BU69: 104 | BV69: 0 | BW69: 0 | BX69: 0 | BY69: 3
B70: Taitung County | C70: 女 Female | D70: 205 | E70: 106 | F70: 95 | G70: 3 | H70: 0 | I70: 0 | J70: 1 | K70: 205 | L70: 9 | M70: 11 | N70: 4 | O70: 12 | P70: 21 | Q70: 43 | R70: 43 | S70: 41 | T70: 21 | U70: 0 | V70: 205 | W70: 9 | X70: 31 | Y70: 32 | Z70: 43 | AA70: 5 | AB70: 9 | AC70: 1 | AD70: 5 | AE70: 0 | AF70: 70 | AG70: 205 | AH70: 1 | AI70: 31 | AJ70: 6 | AK70: 18 | AL70: 16 | AM70: 3 | AN70: 2 | AO70: 0 | AP70: 1 | AQ70: 0 | AR70: 18 | AS70: 7 | AT70: 24 | AU70: 11 | AV70: 67 | AW70: 205 | AX70: 179 | AY70: 8 | AZ70: 1 | BA70: 6 | BB70: 0 | BC70: 0 | BD70: 7 | BE70: 2 | BF70: 2 | BG70: 0 | BH70: 88 | BI70: 0 | BJ70: 0 | BK70: 1 | BL70: 4 | BM70: 12 | BN70: 23 | BO70: 20 | BP70: 15 | BQ70: 13 | BR70: 0 | BS70: 88 | BT70: 52 | BU70: 35 | BV70: 0 | BW70: 0 | BX70: 0 | BY70: 1
C71: 其他 Other | D71: 0 | E71: 0 | F71: 0 | G71: 0 | H71: 0 | I71: 0 | J71: 0 | K71: 0 | L71: 0 | M71: 0 | N71: 0 | O71: 0 | P71: 0 | Q71: 0 | R71: 0 | S71: 0 | T71: 0 | U71: 0 | V71: 0 | W71: 0 | X71: 0 | Y71: 0 | Z71: 0 | AA71: 0 | AB71: 0 | AC71: 0 | AD71: 0 | AE71: 0 | AF71: 0 | AG71: 0 | AH71: 0 | AI71: 0 | AJ71: 0 | AK71: 0 | AL71: 0 | AM71: 0 | AN71: 0 | AO71: 0 | AP71: 0 | AQ71: 0 | AR71: 0 | AS71: 0 | AT71: 0 | AU71: 0 | AV71: 0 | AW71: 0 | AX71: 0 | AY71: 0 | AZ71: 0 | BA71: 0 | BB71: 0 | BC71: 0 | BD71: 0 | BE71: 0 | BF71: 0 | BG71: 0 | BH71: 0 | BI71: 0 | BJ71: 0 | BK71: 0 | BL71: 0 | BM71: 0 | BN71: 0 | BO71: 0 | BP71: 0 | BQ71: 0 | BR71: 0 | BS71: 0 | BT71: 0 | BU71: 0 | BV71: 0 | BW71: 0 | BX71: 0 | BY71: 0
B72: 花蓮縣 | C72: 計 Total | D72: 415 | E72: 211 | F72: 191 | G72: 1 | H72: 4 | I72: 1 | J72: 7 | K72: 415 | L72: 19 | M72: 18 | N72: 25 | O72: 28 | P72: 38 | Q72: 88 | R72: 73 | S72: 91 | T72: 35 | U72: 0 | V72: 415 | W72: 17 | X72: 26 | Y72: 29 | Z72: 42 | AA72: 9 | AB72: 18 | AC72: 0 | AD72: 2 | AE72: 0 | AF72: 272 | AG72: 415 | AH72: 8 | AI72: 67 | AJ72: 16 | AK72: 12 | AL72: 10 | AM72: 10 | AN72: 2 | AO72: 4 | AP72: 2 | AQ72: 0 | AR72: 44 | AS72: 16 | AT72: 53 | AU72: 11 | AV72: 160 | AW72: 415 | AX72: 357 | AY72: 9 | AZ72: 1 | BA72: 16 | BB72: 0 | BC72: 2 | BD72: 16 | BE72: 6 | BF72: 2 | BG72: 6 | BH72: 399 | BI72: 0 | BJ72: 1 | BK72: 9 | BL72: 23 | BM72: 40 | BN72: 87 | BO72: 94 | BP72: 94 | BQ72: 22 | BR72: 29 | BS72: 399 | BT72: 204 | BU72: 163 | BV72: 0 | BW72: 0 | BX72: 0 | BY72: 32
C73: 男 Male | D73: 114 | E73: 54 | F73: 57 | G73: 0 | H73: 0 | I73: 0 | J73: 3 | K73: 114 | L73: 11 | M73: 13 | N73: 11 | O73: 7 | P73: 11 | Q73: 21 | R73: 15 | S73: 18 | T73: 7 | U73: 0 | V73: 114 | W73: 9 | X73: 14 | Y73: 9 | Z73: 12 | AA73: 0 | AB73: 2 | AC73: 0 | AD73: 0 | AE73: 0 | AF73: 68 | AG73: 114 | AH73: 1 | AI73: 7 | AJ73: 6 | AK73: 3 | AL73: 4 | AM73: 2 | AN73: 1 | AO73: 0 | AP73: 1 | AQ73: 0 | AR73: 0 | AS73: 5 | AT73: 9 | AU73: 2 | AV73: 73 | AW73: 114 | AX73: 102 | AY73: 2 | AZ73: 0 | BA73: 4 | BB73: 0 | BC73: 0 | BD73: 4 | BE73: 1 | BF73: 1 | BG73: 0 | BH73: 313 | BI73: 0 | BJ73: 1 | BK73: 6 | BL73: 17 | BM73: 28 | BN73: 62 | BO73: 80 | BP73: 81 | BQ73: 19 | BR73: 19 | BS73: 313 | BT73: 168 | BU73: 121 | BV73: 0 | BW73: 0 | BX73: 0 | BY73: 24
B74: Hualien County | C74: 女 Female | D74: 301 | E74: 157 | F74: 134 | G74: 1 | H74: 4 | I74: 1 | J74: 4 | K74: 301 | L74: 8 | M74: 5 | N74: 14 | O74: 21 | P74: 27 | Q74: 67 | R74: 58 | S74: 73 | T74: 28 | U74: 0 | V74: 301 | W74: 8 | X74: 12 | Y74: 20 | Z74: 30 | AA74: 9 | AB74: 16 | AC74: 0 | AD74: 2 | AE74: 0 | AF74: 204 | AG74: 301 | AH74: 7 | AI74: 60 | AJ74: 10 | AK74: 9 | AL74: 6 | AM74: 8 | AN74: 1 | AO74: 4 | AP74: 1 | AQ74: 0 | AR74: 44 | AS74: 11 | AT74: 44 | AU74: 9 | AV74: 87 | AW74: 301 | AX74: 255 | AY74: 7 | AZ74: 1 | BA74: 12 | BB74: 0 | BC74: 2 | BD74: 12 | BE74: 5 | BF74: 1 | BG74: 6 | BH74: 85 | BI74: 0 | BJ74: 0 | BK74: 3 | BL74: 6 | BM74: 12 | BN74: 25 | BO74: 14 | BP74: 13 | BQ74: 3 | BR74: 9 | BS74: 85 | BT74: 36 | BU74: 42 | BV74: 0 | BW74: 0 | BX74: 0 | BY74: 7
C75: 其他 Other | D75: 0 | E75: 0 | F75: 0 | G75: 0 | H75: 0 | I75: 0 | J75: 0 | K75: 0 | L75: 0 | M75: 0 | N75: 0 | O75: 0 | P75: 0 | Q75: 0 | R75: 0 | S75: 0 | T75: 0 | U75: 0 | V75: 0 | W75: 0 | X75: 0 | Y75: 0 | Z75: 0 | AA75: 0 | AB75: 0 | AC75: 0 | AD75: 0 | AE75: 0 | AF75: 0 | AG75: 0 | AH75: 0 | AI75: 0 | AJ75: 0 | AK75: 0 | AL75: 0 | AM75: 0 | AN75: 0 | AO75: 0 | AP75: 0 | AQ75: 0 | AR75: 0 | AS75: 0 | AT75: 0 | AU75: 0 | AV75: 0 | AW75: 0 | AX75: 0 | AY75: 0 | AZ75: 0 | BA75: 0 | BB75: 0 | BC75: 0 | BD75: 0 | BE75: 0 | BF75: 0 | BG75: 0 | BH75: 1 | BI75: 0 | BJ75: 0 | BK75: 0 | BL75: 0 | BM75: 0 | BN75: 0 | BO75: 0 | BP75: 0 | BQ75: 0 | BR75: 1 | BS75: 1 | BT75: 0 | BU75: 0 | BV75: 0 | BW75: 0 | BX75: 0 | BY75: 1
A76: Penghu County | B76: 澎湖縣 | C76: 計 Total | D76: 68 | E76: 64 | F76: 1 | G76: 0 | H76: 2 | I76: 0 | J76: 1 | K76: 68 | L76: 1 | M76: 3 | N76: 6 | O76: 4 | P76: 2 | Q76: 14 | R76: 14 | S76: 20 | T76: 4 | U76: 0 | V76: 68 | W76: 1 | X76: 4 | Y76: 13 | Z76: 21 | AA76: 3 | AB76: 9 | AC76: 0 | AD76: 2 | AE76: 0 | AF76: 15 | AG76: 68 | AH76: 1 | AI76: 11 | AJ76: 2 | AK76: 1 | AL76: 3 | AM76: 6 | AN76: 2 | AO76: 0 | AP76: 0 | AQ76: 1 | AR76: 5 | AS76: 4 | AT76: 7 | AU76: 12 | AV76: 13 | AW76: 68 | AX76: 58 | AY76: 2 | AZ76: 0 | BA76: 3 | BB76: 0 | BC76: 0 | BD76: 2 | BE76: 1 | BF76: 0 | BG76: 2 | BH76: 63 | BI76: 0 | BJ76: 0 | BK76: 1 | BL76: 1 | BM76: 3 | BN76: 13 | BO76: 14 | BP76: 21 | BQ76: 9 | BR76: 1 | BS76: 63 | BT76: 60 | BU76: 0 | BV76: 0 | BW76: 1 | BX76: 0 | BY76: 2
C77: 男 Male | D77: 23 | E77: 23 | F77: 0 | G77: 0 | H77: 0 | I77: 0 | J77: 0 | K77: 23 | L77: 0 | M77: 1 | N77: 1 | O77: 1 | P77: 1 | Q77: 5 | R77: 5 | S77: 8 | T77: 1 | U77: 0 | V77: 23 | W77: 0 | X77: 1 | Y77: 5 | Z77: 6 | AA77: 3 | AB77: 6 | AC77: 0 | AD77: 0 | AE77: 0 | AF77: 2 | AG77: 23 | AH77: 1 | AI77: 3 | AJ77: 1 | AK77: 1 | AL77: 2 | AM77: 1 | AN77: 2 | AO77: 0 | AP77: 0 | AQ77: 1 | AR77: 0 | AS77: 1 | AT77: 3 | AU77: 4 | AV77: 3 | AW77: 23 | AX77: 20 | AY77: 1 | AZ77: 0 | BA77: 0 | BB77: 0 | BC77: 0 | BD77: 2 | BE77: 0 | BF77: 0 | BG77: 0 | BH77: 50 | BI77: 0 | BJ77: 0 | BK77: 1 | BL77: 1 | BM77: 3 | BN77: 10 | BO77: 11 | BP77: 15 | BQ77: 8 | BR77: 1 | BS77: 50 | BT77: 48 | BU77: 0 | BV77: 0 | BW77: 0 | BX77: 0 | BY77: 2
B78: Penghu County | C78: 女 Female | D78: 44 | E78: 40 | F78: 1 | G78: 0 | H78: 2 | I78: 0 | J78: 1 | K78: 44 | L78: 1 | M78: 2 | N78: 4 | O78: 3 | P78: 1 | Q78: 9 | R78: 9 | S78: 12 | T78: 3 | U78: 0 | V78: 44 | W78: 1 | X78: 3 | Y78: 7 | Z78: 15 | AA78: 0 | AB78: 3 | AC78: 0 | AD78: 2 | AE78: 0 | AF78: 13 | AG78: 44 | AH78: 0 | AI78: 8 | AJ78: 1 | AK78: 0 | AL78: 1 | AM78: 5 | AN78: 0 | AO78: 0 | AP78: 0 | AQ78: 0 | AR78: 5 | AS78: 3 | AT78: 4 | AU78: 8 | AV78: 9 | AW78: 44 | AX78: 38 | AY78: 1 | AZ78: 0 | BA78: 3 | BB78: 0 | BC78: 0 | BD78: 0 | BE78: 1 | BF78: 0 | BG78: 1 | BH78: 13 | BI78: 0 | BJ78: 0 | BK78: 0 | BL78: 0 | BM78: 0 | BN78: 3 | BO78: 3 | BP78: 6 | BQ78: 1 | BR78: 0 | BS78: 13 | BT78: 12 | BU78: 0 | BV78: 0 | BW78: 1 | BX78: 0 | BY78: 0
C79: 其他 Other | D79: 1 | E79: 1 | F79: 0 | G79: 0 | H79: 0 | I79: 0 | J79: 0 | K79: 1 | L79: 0 | M79: 0 | N79: 1 | O79: 0 | P79: 0 | Q79: 0 | R79: 0 | S79: 0 | T79: 0 | U79: 0 | V79: 1 | W79: 0 | X79: 0 | Y79: 1 | Z79: 0 | AA79: 0 | AB79: 0 | AC79: 0 | AD79: 0 | AE79: 0 | AF79: 0 | AG79: 1 | AH79: 0 | AI79: 0 | AJ79: 0 | AK79: 0 | AL79: 0 | AM79: 0 | AN79: 0 | AO79: 0 | AP79: 0 | AQ79: 0 | AR79: 0 | AS79: 0 | AT79: 0 | AU79: 0 | AV79: 1 | AW79: 1 | AX79: 0 | AY79: 0 | AZ79: 0 | BA79: 0 | BB79: 0 | BC79: 0 | BD79: 0 | BE79: 0 | BF79: 0 | BG79: 1 | BH79: 0 | BI79: 0 | BJ79: 0 | BK79: 0 | BL79: 0 | BM79: 0 | BN79: 0 | BO79: 0 | BP79: 0 | BQ79: 0 | BR79: 0 | BS79: 0 | BT79: 0 | BU79: 0 | BV79: 0 | BW79: 0 | BX79: 0 | BY79: 0
B80: 基隆市 | C80: 計 Total | D80: 403 | E80: 375 | F80: 17 | G80: 0 | H80: 4 | I80: 0 | J80: 7 | K80: 403 | L80: 28 | M80: 21 | N80: 25 | O80: 21 | P80: 28 | Q80: 84 | R80: 78 | S80: 83 | T80: 35 | U80: 0 | V80: 403 | W80: 10 | X80: 21 | Y80: 23 | Z80: 29 | AA80: 14 | AB80: 19 | AC80: 7 | AD80: 3 | AE80: 0 | AF80: 277 | AG80: 403 | AH80: 7 | AI80: 64 | AJ80: 8 | AK80: 0 | AL80: 28 | AM80: 15 | AN80: 6 | AO80: 6 | AP80: 2 | AQ80: 1 | AR80: 33 | AS80: 17 | AT80: 32 | AU80: 22 | AV80: 162 | AW80: 403 | AX80: 360 | AY80: 5 | AZ80: 1 | BA80: 13 | BB80: 0 | BC80: 2 | BD80: 3 | BE80: 0 | BF80: 4 | BG80: 15 | BH80: 389 | BI80: 0 | BJ80: 2 | BK80: 9 | BL80: 12 | BM80: 38 | BN80: 89 | BO80: 106 | BP80: 102 | BQ80: 24 | BR80: 7 | BS80: 389 | BT80: 363 | BU80: 14 | BV80: 1 | BW80: 3 | BX80: 0 | BY80: 8
C81: 男 Male | D81: 141 | E81: 135 | F81: 3 | G81: 0 | H81: 1 | I81: 0 | J81: 2 | K81: 141 | L81: 13 | M81: 14 | N81: 12 | O81: 10 | P81: 8 | Q81: 20 | R81: 23 | S81: 28 | T81: 13 | U81: 0 | V81: 141 | W81: 4 | X81: 12 | Y81: 8 | Z81: 7 | AA81: 4 | AB81: 7 | AC81: 5 | AD81: 0 | AE81: 0 | AF81: 94 | AG81: 141 | AH81: 3 | AI81: 17 | AJ81: 1 | AK81: 0 | AL81: 18 | AM81: 4 | AN81: 4 | AO81: 2 | AP81: 1 | AQ81: 1 | AR81: 0 | AS81: 8 | AT81: 7 | AU81: 8 | AV81: 67 | AW81: 141 | AX81: 123 | AY81: 0 | AZ81: 1 | BA81: 4 | BB81: 0 | BC81: 0 | BD81: 2 | BE81: 0 | BF81: 2 | BG81: 9 | BH81: 285 | BI81: 0 | BJ81: 2 | BK81: 8 | BL81: 8 | BM81: 24 | BN81: 66 | BO81: 76 | BP81: 80 | BQ81: 17 | BR81: 4 | BS81: 285 | BT81: 264 | BU81: 14 | BV81: 0 | BW81: 2 | BX81: 0 | BY81: 5
B82: Keelung City | C82: 女 Female | D82: 261 | E82: 239 | F82: 14 | G82: 0 | H82: 3 | I82: 0 | J82: 5 | K82: 261 | L82: 14 | M82: 7 | N82: 13 | O82: 11 | P82: 20 | Q82: 64 | R82: 55 | S82: 55 | T82: 22 | U82: 0 | V82: 261 | W82: 5 | X82: 9 | Y82: 15 | Z82: 22 | AA82: 10 | AB82: 12 | AC82: 2 | AD82: 3 | AE82: 0 | AF82: 183 | AG82: 261 | AH82: 4 | AI82: 47 | AJ82: 7 | AK82: 0 | AL82: 10 | AM82: 11 | AN82: 2 | AO82: 4 | AP82: 1 | AQ82: 0 | AR82: 33 | AS82: 9 | AT82: 25 | AU82: 14 | AV82: 94 | AW82: 261 | AX82: 236 | AY82: 5 | AZ82: 0 | BA82: 9 | BB82: 0 | BC82: 2 | BD82: 1 | BE82: 0 | BF82: 2 | BG82: 6 | BH82: 103 | BI82: 0 | BJ82: 0 | BK82: 1 | BL82: 4 | BM82: 14 | BN82: 22 | BO82: 30 | BP82: 22 | BQ82: 7 | BR82: 3 | BS82: 103 | BT82: 98 | BU82: 0 | BV82: 1 | BW82: 1 | BX82: 0 | BY82: 3
C83: 其他 Other | D83: 1 | E83: 1 | F83: 0 | G83: 0 | H83: 0 | I83: 0 | J83: 0 | K83: 1 | L83: 1 | M83: 0 | N83: 0 | O83: 0 | P83: 0 | Q83: 0 | R83: 0 | S83: 0 | T83: 0 | U83: 0 | V83: 1 | W83: 1 | X83: 0 | Y83: 0 | Z83: 0 | AA83: 0 | AB83: 0 | AC83: 0 | AD83: 0 | AE83: 0 | AF83: 0 | AG83: 1 | AH83: 0 | AI83: 0 | AJ83: 0 | AK83: 0 | AL83: 0 | AM83: 0 | AN83: 0 | AO83: 0 | AP83: 0 | AQ83: 0 | AR83: 0 | AS83: 0 | AT83: 0 | AU83: 0 | AV83: 1 | AW83: 1 | AX83: 1 | AY83: 0 | AZ83: 0 | BA83: 0 | BB83: 0 | BC83: 0 | BD83: 0 | BE83: 0 | BF83: 0 | BG83: 0 | BH83: 1 | BI83: 0 | BJ83: 0 | BK83: 0 | BL83: 0 | BM83: 0 | BN83: 1 | BO83: 0 | BP83: 0 | BQ83: 0 | BR83: 0 | BS83: 1 | BT83: 1 | BU83: 0 | BV83: 0 | BW83: 0 | BX83: 0 | BY83: 0
B84: 新竹市 | C84: 計 Total | D84: 381 | E84: 344 | F84: 15 | G84: 6 | H84: 8 | I84: 0 | J84: 8 | K84: 381 | L84: 19 | M84: 15 | N84: 8 | O84: 34 | P84: 37 | Q84: 89 | R84: 86 | S84: 56 | T84: 37 | U84: 0 | V84: 381 | W84: 10 | X84: 19 | Y84: 23 | Z84: 22 | AA84: 6 | AB84: 30 | AC84: 7 | AD84: 1 | AE84: 1 | AF84: 262 | AG84: 381 | AH84: 10 | AI84: 72 | AJ84: 31 | AK84: 3 | AL84: 9 | AM84: 12 | AN84: 3 | AO84: 4 | AP84: 0 | AQ84: 0 | AR84: 38 | AS84: 21 | AT84: 40 | AU84: 14 | AV84: 124 | AW84: 381 | AX84: 343 | AY84: 5 | AZ84: 0 | BA84: 8 | BB84: 0 | BC84: 3 | BD84: 9 | BE84: 4 | BF84: 0 | BG84: 9 | BH84: 384 | BI84: 0 | BJ84: 1 | BK84: 8 | BL84: 19 | BM84: 36 | BN84: 95 | BO84: 106 | BP84: 93 | BQ84: 17 | BR84: 9 | BS84: 384 | BT84: 345 | BU84: 16 | BV84: 3 | BW84: 5 | BX84: 0 | BY84: 15
C85: 男 Male | D85: 90 | E85: 84 | F85: 2 | G85: 0 | H85: 2 | I85: 0 | J85: 2 | K85: 90 | L85: 10 | M85: 7 | N85: 2 | O85: 7 | P85: 7 | Q85: 15 | R85: 19 | S85: 13 | T85: 10 | U85: 0 | V85: 90 | W85: 6 | X85: 6 | Y85: 3 | Z85: 4 | AA85: 0 | AB85: 7 | AC85: 2 | AD85: 1 | AE85: 0 | AF85: 61 | AG85: 90 | AH85: 4 | AI85: 14 | AJ85: 14 | AK85: 2 | AL85: 4 | AM85: 2 | AN85: 0 | AO85: 2 | AP85: 0 | AQ85: 0 | AR85: 1 | AS85: 6 | AT85: 6 | AU85: 1 | AV85: 34 | AW85: 90 | AX85: 79 | AY85: 2 | AZ85: 0 | BA85: 2 | BB85: 0 | BC85: 1 | BD85: 3 | BE85: 1 | BF85: 0 | BG85: 2 | BH85: 289 | BI85: 0 | BJ85: 1 | BK85: 4 | BL85: 12 | BM85: 27 | BN85: 71 | BO85: 80 | BP85: 75 | BQ85: 13 | BR85: 6 | BS85: 289 | BT85: 260 | BU85: 13 | BV85: 0 | BW85: 5 | BX85: 0 | BY85: 11
B86: Hsinchu City | C86: 女 Female | D86: 291 | E86: 260 | F86: 13 | G86: 6 | H86: 6 | I86: 0 | J86: 6 | K86: 291 | L86: 9 | M86: 8 | N86: 6 | O86: 27 | P86: 30 | Q86: 74 | R86: 67 | S86: 43 | T86: 27 | U86: 0 | V86: 291 | W86: 4 | X86: 13 | Y86: 20 | Z86: 18 | AA86: 6 | AB86: 23 | AC86: 5 | AD86: 0 | AE86: 1 | AF86: 201 | AG86: 291 | AH86: 6 | AI86: 58 | AJ86: 17 | AK86: 1 | AL86: 5 | AM86: 10 | AN86: 3 | AO86: 2 | AP86: 0 | AQ86: 0 | AR86: 37 | AS86: 15 | AT86: 34 | AU86: 13 | AV86: 90 | AW86: 291 | AX86: 264 | AY86: 3 | AZ86: 0 | BA86: 6 | BB86: 0 | BC86: 2 | BD86: 6 | BE86: 3 | BF86: 0 | BG86: 7 | BH86: 94 | BI86: 0 | BJ86: 0 | BK86: 4 | BL86: 7 | BM86: 9 | BN86: 23 | BO86: 26 | BP86: 18 | BQ86: 4 | BR86: 3 | BS86: 94 | BT86: 84 | BU86: 3 | BV86: 3 | BW86: 0 | BX86: 0 | BY86: 4
C87: 其他 Other | D87: 0 | E87: 0 | F87: 0 | G87: 0 | H87: 0 | I87: 0 | J87: 0 | K87: 0 | L87: 0 | M87: 0 | N87: 0 | O87: 0 | P87: 0 | Q87: 0 | R87: 0 | S87: 0 | T87: 0 | U87: 0 | V87: 0 | W87: 0 | X87: 0 | Y87: 0 | Z87: 0 | AA87: 0 | AB87: 0 | AC87: 0 | AD87: 0 | AE87: 0 | AF87: 0 | AG87: 0 | AH87: 0 | AI87: 0 | AJ87: 0 | AK87: 0 | AL87: 0 | AM87: 0 | AN87: 0 | AO87: 0 | AP87: 0 | AQ87: 0 | AR87: 0 | AS87: 0 | AT87: 0 | AU87: 0 | AV87: 0 | AW87: 0 | AX87: 0 | AY87: 0 | AZ87: 0 | BA87: 0 | BB87: 0 | BC87: 0 | BD87: 0 | BE87: 0 | BF87: 0 | BG87: 0 | BH87: 1 | BI87: 0 | BJ87: 0 | BK87: 0 | BL87: 0 | BM87: 0 | BN87: 1 | BO87: 0 | BP87: 0 | BQ87: 0 | BR87: 0 | BS87: 1 | BT87: 1 | BU87: 0 | BV87: 0 | BW87: 0 | BX87: 0 | BY87: 0
A88: 嘉義市Chiayi City | B88: 嘉義市 | C88: 計 Total | D88: 266 | E88: 253 | F88: 3 | G88: 1 | H88: 3 | I88: 0 | J88: 6 | K88: 266 | L88: 15 | M88: 7 | N88: 14 | O88: 22 | P88: 22 | Q88: 62 | R88: 51 | S88: 41 | T88: 31 | U88: 1 | V88: 266 | W88: 14 | X88: 21 | Y88: 32 | Z88: 59 | AA88: 6 | AB88: 46 | AC88: 4 | AD88: 5 | AE88: 1 | AF88: 78 | AG88: 266 | AH88: 4 | AI88: 50 | AJ88: 4 | AK88: 5 | AL88: 9 | AM88: 11 | AN88: 1 | AO88: 4 | AP88: 0 | AQ88: 0 | AR88: 33 | AS88: 15 | AT88: 33 | AU88: 18 | AV88: 79 | AW88: 266 | AX88: 237 | AY88: 4 | AZ88: 2 | BA88: 7 | BB88: 0 | BC88: 1 | BD88: 5 | BE88: 1 | BF88: 4 | BG88: 5 | BH88: 258 | BI88: 0 | BJ88: 2 | BK88: 7 | BL88: 11 | BM88: 20 | BN88: 59 | BO88: 78 | BP88: 52 | BQ88: 16 | BR88: 13 | BS88: 258 | BT88: 239 | BU88: 1 | BV88: 2 | BW88: 1 | BX88: 0 | BY88: 15
C89: 男 Male | D89: 67 | E89: 65 | F89: 0 | G89: 0 | H89: 0 | I89: 0 | J89: 2 | K89: 67 | L89: 11 | M89: 3 | N89: 5 | O89: 5 | P89: 7 | Q89: 5 | R89: 10 | S89: 14 | T89: 7 | U89: 0 | V89: 67 | W89: 10 | X89: 4 | Y89: 9 | Z89: 13 | AA89: 1 | AB89: 10 | AC89: 2 | AD89: 1 | AE89: 0 | AF89: 17 | AG89: 67 | AH89: 3 | AI89: 7 | AJ89: 0 | AK89: 2 | AL89: 4 | AM89: 4 | AN89: 1 | AO89: 1 | AP89: 0 | AQ89: 0 | AR89: 0 | AS89: 8 | AT89: 9 | AU89: 5 | AV89: 23 | AW89: 67 | AX89: 54 | AY89: 2 | AZ89: 0 | BA89: 2 | BB89: 0 | BC89: 1 | BD89: 3 | BE89: 0 | BF89: 2 | BG89: 3 | BH89: 204 | BI89: 0 | BJ89: 2 | BK89: 7 | BL89: 9 | BM89: 18 | BN89: 45 | BO89: 60 | BP89: 40 | BQ89: 14 | BR89: 9 | BS89: 204 | BT89: 190 | BU89: 1 | BV89: 0 | BW89: 1 | BX89: 0 | BY89: 12
B90: Chiayi City | C90: 女 Female | D90: 199 | E90: 188 | F90: 3 | G90: 1 | H90: 3 | I90: 0 | J90: 4 | K90: 199 | L90: 4 | M90: 4 | N90: 9 | O90: 17 | P90: 15 | Q90: 57 | R90: 41 | S90: 27 | T90: 24 | U90: 1 | V90: 199 | W90: 4 | X90: 17 | Y90: 23 | Z90: 46 | AA90: 5 | AB90: 36 | AC90: 2 | AD90: 4 | AE90: 1 | AF90: 61 | AG90: 199 | AH90: 1 | AI90: 43 | AJ90: 4 | AK90: 3 | AL90: 5 | AM90: 7 | AN90: 0 | AO90: 3 | AP90: 0 | AQ90: 0 | AR90: 33 | AS90: 7 | AT90: 24 | AU90: 13 | AV90: 56 | AW90: 199 | AX90: 183 | AY90: 2 | AZ90: 2 | BA90: 5 | BB90: 0 | BC90: 0 | BD90: 2 | BE90: 1 | BF90: 2 | BG90: 2 | BH90: 53 | BI90: 0 | BJ90: 0 | BK90: 0 | BL90: 2 | BM90: 2 | BN90: 14 | BO90: 18 | BP90: 12 | BQ90: 2 | BR90: 3 | BS90: 53 | BT90: 49 | BU90: 0 | BV90: 2 | BW90: 0 | BX90: 0 | BY90: 2
C91: 其他 Other | D91: 0 | E91: 0 | F91: 0 | G91: 0 | H91: 0 | I91: 0 | J91: 0 | K91: 0 | L91: 0 | M91: 0 | N91: 0 | O91: 0 | P91: 0 | Q91: 0 | R91: 0 | S91: 0 | T91: 0 | U91: 0 | V91: 0 | W91: 0 | X91: 0 | Y91: 0 | Z91: 0 | AA91: 0 | AB91: 0 | AC91: 0 | AD91: 0 | AE91: 0 | AF91: 0 | AG91: 0 | AH91: 0 | AI91: 0 | AJ91: 0 | AK91: 0 | AL91: 0 | AM91: 0 | AN91: 0 | AO91: 0 | AP91: 0 | AQ91: 0 | AR91: 0 | AS91: 0 | AT91: 0 | AU91: 0 | AV91: 0 | AW91: 0 | AX91: 0 | AY91: 0 | AZ91: 0 | BA91: 0 | BB91: 0 | BC91: 0 | BD91: 0 | BE91: 0 | BF91: 0 | BG91: 0 | BH91: 1 | BI91: 0 | BJ91: 0 | BK91: 0 | BL91: 0 | BM91: 0 | BN91: 0 | BO91: 0 | BP91: 0 | BQ91: 0 | BR91: 1 | BS91: 1 | BT91: 0 | BU91: 0 | BV91: 0 | BW91: 0 | BX91: 0 | BY91: 1
A92: Kinmen County | B92: 金門縣 | C92: 計 Total | D92: 51 | E92: 44 | F92: 2 | G92: 3 | H92: 0 | I92: 0 | J92: 2 | K92: 51 | L92: 5 | M92: 5 | N92: 8 | O92: 0 | P92: 2 | Q92: 10 | R92: 13 | S92: 5 | T92: 3 | U92: 0 | V92: 51 | W92: 3 | X92: 5 | Y92: 2 | Z92: 5 | AA92: 0 | AB92: 1 | AC92: 0 | AD92: 0 | AE92: 0 | AF92: 35 | AG92: 51 | AH92: 0 | AI92: 2 | AJ92: 0 | AK92: 0 | AL92: 0 | AM92: 2 | AN92: 1 | AO92: 0 | AP92: 0 | AQ92: 0 | AR92: 2 | AS92: 0 | AT92: 2 | AU92: 3 | AV92: 39 | AW92: 51 | AX92: 42 | AY92: 0 | AZ92: 1 | BA92: 1 | BB92: 0 | BC92: 0 | BD92: 0 | BE92: 1 | BF92: 0 | BG92: 6 | BH92: 52 | BI92: 0 | BJ92: 0 | BK92: 1 | BL92: 0 | BM92: 4 | BN92: 9 | BO92: 20 | BP92: 12 | BQ92: 3 | BR92: 3 | BS92: 52 | BT92: 42 | BU92: 3 | BV92: 1 | BW92: 1 | BX92: 0 | BY92: 5
C93: 男 Male | D93: 21 | E93: 18 | F93: 2 | G93: 0 | H93: 0 | I93: 0 | J93: 1 | K93: 21 | L93: 4 | M93: 4 | N93: 5 | O93: 0 | P93: 0 | Q93: 2 | R93: 3 | S93: 2 | T93: 1 | U93: 0 | V93: 21 | W93: 2 | X93: 4 | Y93: 1 | Z93: 2 | AA93: 0 | AB93: 0 | AC93: 0 | AD93: 0 | AE93: 0 | AF93: 12 | AG93: 21 | AH93: 0 | AI93: 1 | AJ93: 0 | AK93: 0 | AL93: 0 | AM93: 0 | AN93: 0 | AO93: 0 | AP93: 0 | AQ93: 0 | AR93: 0 | AS93: 0 | AT93: 1 | AU93: 0 | AV93: 19 | AW93: 21 | AX93: 16 | AY93: 0 | AZ93: 0 | BA93: 0 | BB93: 0 | BC93: 0 | BD93: 0 | BE93: 1 | BF93: 0 | BG93: 4 | BH93: 35 | BI93: 0 | BJ93: 0 | BK93: 1 | BL93: 0 | BM93: 1 | BN93: 6 | BO93: 16 | BP93: 8 | BQ93: 2 | BR93: 1 | BS93: 35 | BT93: 30 | BU93: 3 | BV93: 0 | BW93: 0 | BX93: 0 | BY93: 2
B94: Kinmen County | C94: 女 Female | D94: 30 | E94: 26 | F94: 0 | G94: 3 | H94: 0 | I94: 0 | J94: 1 | K94: 30 | L94: 1 | M94: 1 | N94: 3 | O94: 0 | P94: 2 | Q94: 8 | R94: 10 | S94: 3 | T94: 2 | U94: 0 | V94: 30 | W94: 1 | X94: 1 | Y94: 1 | Z94: 3 | AA94: 0 | AB94: 1 | AC94: 0 | AD94: 0 | AE94: 0 | AF94: 23 | AG94: 30 | AH94: 0 | AI94: 1 | AJ94: 0 | AK94: 0 | AL94: 0 | AM94: 2 | AN94: 1 | AO94: 0 | AP94: 0 | AQ94: 0 | AR94: 2 | AS94: 0 | AT94: 1 | AU94: 3 | AV94: 20 | AW94: 30 | AX94: 26 | AY94: 0 | AZ94: 1 | BA94: 1 | BB94: 0 | BC94: 0 | BD94: 0 | BE94: 0 | BF94: 0 | BG94: 2 | BH94: 15 | BI94: 0 | BJ94: 0 | BK94: 0 | BL94: 0 | BM94: 3 | BN94: 3 | BO94: 3 | BP94: 4 | BQ94: 1 | BR94: 1 | BS94: 15 | BT94: 11 | BU94: 0 | BV94: 1 | BW94: 1 | BX94: 0 | BY94: 2
C95: 不詳Unknown | D95: 0 | E95: 0 | F95: 0 | G95: 0 | H95: 0 | I95: 0 | J95: 0 | K95: 0 | L95: 0 | M95: 0 | N95: 0 | O95: 0 | P95: 0 | Q95: 0 | R95: 0 | S95: 0 | T95: 0 | U95: 0 | V95: 0 | W95: 0 | X95: 0 | Y95: 0 | Z95: 0 | AA95: 0 | AB95: 0 | AC95: 0 | AD95: 0 | AE95: 0 | AF95: 0 | AG95: 0 | AH95: 0 | AI95: 0 | AJ95: 0 | AK95: 0 | AL95: 0 | AM95: 0 | AN95: 0 | AO95: 0 | AP95: 0 | AQ95: 0 | AR95: 0 | AS95: 0 | AT95: 0 | AU95: 0 | AV95: 0 | AW95: 0 | AX95: 0 | AY95: 0 | AZ95: 0 | BA95: 0 | BB95: 0 | BC95: 0 | BD95: 0 | BE95: 0 | BF95: 0 | BG95: 0 | BH95: 2 | BI95: 0 | BJ95: 0 | BK95: 0 | BL95: 0 | BM95: 0 | BN95: 0 | BO95: 1 | BP95: 0 | BQ95: 0 | BR95: 1 | BS95: 2 | BT95: 1 | BU95: 0 | BV95: 0 | BW95: 0 | BX95: 0 | BY95: 1
B96: 連江縣 | C96: 計 Total | D96: 5 | E96: 4 | F96: 0 | G96: 0 | H96: 0 | I96: 0 | J96: 1 | K96: 5 | L96: 2 | M96: 0 | N96: 0 | O96: 0 | P96: 1 | Q96: 2 | R96: 0 | S96: 0 | T96: 0 | U96: 0 | V96: 5 | W96: 1 | X96: 0 | Y96: 3 | Z96: 0 | AA96: 0 | AB96: 0 | AC96: 0 | AD96: 1 | AE96: 0 | AF96: 0 | AG96: 5 | AH96: 1 | AI96: 2 | AJ96: 0 | AK96: 0 | AL96: 0 | AM96: 0 | AN96: 0 | AO96: 0 | AP96: 0 | AQ96: 0 | AR96: 1 | AS96: 0 | AT96: 0 | AU96: 0 | AV96: 1 | AW96: 5 | AX96: 5 | AY96: 0 | AZ96: 0 | BA96: 0 | BB96: 0 | BC96: 0 | BD96: 0 | BE96: 0 | BF96: 0 | BG96: 0 | BH96: 3 | BI96: 0 | BJ96: 0 | BK96: 0 | BL96: 0 | BM96: 0 | BN96: 3 | BO96: 0 | BP96: 0 | BQ96: 0 | BR96: 0 | BS96: 3 | BT96: 3 | BU96: 0 | BV96: 0 | BW96: 0 | BX96: 0 | BY96: 0
C97: 男 Male | D97: 2 | E97: 1 | F97: 0 | G97: 0 | H97: 0 | I97: 0 | J97: 1 | K97: 2 | L97: 2 | M97: 0 | N97: 0 | O97: 0 | P97: 0 | Q97: 0 | R97: 0 | S97: 0 | T97: 0 | U97: 0 | V97: 2 | W97: 1 | X97: 0 | Y97: 0 | Z97: 0 | AA97: 0 | AB97: 0 | AC97: 0 | AD97: 1 | AE97: 0 | AF97: 0 | AG97: 2 | AH97: 1 | AI97: 0 | AJ97: 0 | AK97: 0 | AL97: 0 | AM97: 0 | AN97: 0 | AO97: 0 | AP97: 0 | AQ97: 0 | AR97: 0 | AS97: 0 | AT97: 0 | AU97: 0 | AV97: 1 | AW97: 2 | AX97: 2 | AY97: 0 | AZ97: 0 | BA97: 0 | BB97: 0 | BC97: 0 | BD97: 0 | BE97: 0 | BF97: 0 | BG97: 0 | BH97: 3 | BI97: 0 | BJ97: 0 | BK97: 0 | BL97: 0 | BM97: 0 | BN97: 3 | BO97: 0 | BP97: 0 | BQ97: 0 | BR97: 0 | BS97: 3 | BT97: 3 | BU97: 0 | BV97: 0 | BW97: 0 | BX97: 0 | BY97: 0
B98: Lienchiang County | C98: 女 Female | D98: 3 | E98: 3 | F98: 0 | G98: 0 | H98: 0 | I98: 0 | J98: 0 | K98: 3 | L98: 0 | M98: 0 | N98: 0 | O98: 0 | P98: 1 | Q98: 2 | R98: 0 | S98: 0 | T98: 0 | U98: 0 | V98: 3 | W98: 0 | X98: 0 | Y98: 3 | Z98: 0 | AA98: 0 | AB98: 0 | AC98: 0 | AD98: 0 | AE98: 0 | AF98: 0 | AG98: 3 | AH98: 0 | AI98: 2 | AJ98: 0 | AK98: 0 | AL98: 0 | AM98: 0 | AN98: 0 | AO98: 0 | AP98: 0 | AQ98: 0 | AR98: 1 | AS98: 0 | AT98: 0 | AU98: 0 | AV98: 0 | AW98: 3 | AX98: 3 | AY98: 0 | AZ98: 0 | BA98: 0 | BB98: 0 | BC98: 0 | BD98: 0 | BE98: 0 | BF98: 0 | BG98: 0 | BH98: 0 | BI98: 0 | BJ98: 0 | BK98: 0 | BL98: 0 | BM98: 0 | BN98: 0 | BO98: 0 | BP98: 0 | BQ98: 0 | BR98: 0 | BS98: 0 | BT98: 0 | BU98: 0 | BV98: 0 | BW98: 0 | BX98: 0 | BY98: 0
C99: 其他 Other | D99: 0 | E99: 0 | F99: 0 | G99: 0 | H99: 0 | I99: 0 | J99: 0 | K99: 0 | L99: 0 | M99: 0 | N99: 0 | O99: 0 | P99: 0 | Q99: 0 | R99: 0 | S99: 0 | T99: 0 | U99: 0 | V99: 0 | W99: 0 | X99: 0 | Y99: 0 | Z99: 0 | AA99: 0 | AB99: 0 | AC99: 0 | AD99: 0 | AE99: 0 | AF99: 0 | AG99: 0 | AH99: 0 | AI99: 0 | AJ99: 0 | AK99: 0 | AL99: 0 | AM99: 0 | AN99: 0 | AO99: 0 | AP99: 0 | AQ99: 0 | AR99: 0 | AS99: 0 | AT99: 0 | AU99: 0 | AV99: 0 | AW99: 0 | AX99: 0 | AY99: 0 | AZ99: 0 | BA99: 0 | BB99: 0 | BC99: 0 | BD99: 0 | BE99: 0 | BF99: 0 | BG99: 0 | BH99: 0 | BI99: 0 | BJ99: 0 | BK99: 0 | BL99: 0 | BM99: 0 | BN99: 0 | BO99: 0 | BP99: 0 | BQ99: 0 | BR99: 0 | BS99: 0 | BT99: 0 | BU99: 0 | BV99: 0 | BW99: 0 | BX99: 0 | BY99: 0
A100: 資料來源：本部保護服務司。
...

Sheet 2019Q3
A1: 家庭暴力事件通報被害及相對人概況Overview of Victim and Offender Status in Reporting Cases of Domestic Violence
A2: 108年第3季，2019Q3
A3: 單位：人數 unit:Person
A4: 區域別 Locality | C4: 性別 | D4: 被害人數 Victims | BH4: 相對人人數
D5: 國籍、身分別 By Nationality and Identity | K5: 年齡別 By Age | V5: 教育程度別 By Education | AG5: 職業別 By Occupation | AW5: 身心障礙別 By Disability | BH5: 年齡別 By Age | BS5: 國籍、身分別 By Nationality and Identity
D6: 合計 | E6: 本國籍 非原住民 | F6: 本國籍 原住民 | G6: 大陸及 港澳籍 | H6: 外國籍 | I6: 無國籍 | J6: 資料 不明 | K6: 合計 | L6: 0-未滿6歲 | M6: 6-未滿12歲 | N6: 12-未滿18歲 | O6: 18-未滿24歲 | P6: 24-未滿30歲 | Q6: 30-未滿40歲 | R6: 40-未滿50歲 | S6: 50-未滿65歲 | T6: 65歲 以上 | U6: 不詳 | V6: 合計 | W6: 學齡前 | X6: 國小 | Y6: 國中 | Z6: 高中(職) | AA6: 專科 | AB6: 大學 | AC6: 研究所 以上 | AD6: 不識字 | AE6: 自修 | AF6: 不詳 | AG6: 合計 | AH6: 學生 | AI6: 服務業 | AJ6: 專門 職業 | AK6: 農林 漁牧 | AL6: 工礦業 | AM6: 商業 | AN6: 公 | AO6: 教 | AP6: 軍 | AQ6: 警 | AR6: 家庭 管理 | AS6: 退休 | AT6: 無工作 | AU6: 其他 | AV6: 不詳 | AW6: 合計 | AX6: 非身心 障礙 | AY6: 智障 | AZ6: 視障 | BA6: 精神 病患 | BB6: 聲(語)障 | BC6: 聽障 | BD6: 肢障 | BE6: 多重 障礙 | BF6: 其他 障礙 | BG6: 不詳 | BH6: 合計 | BI6: 0-未滿6歲 | BJ6: 6-未滿12歲 | BK6: 12-未滿18歲 | BL6: 18-未滿24歲 | BM6: 24-未滿30歲 | BN6: 30-未滿40歲 | BO6: 40-未滿50歲 | BP6: 50-未滿65歲 | BQ6: 65歲 以上 | BR6: 不詳 | BS6: 合計 | BT6: 本國籍非原住民 | BU6: 本國籍原住民 | BV6: 大陸及 港澳籍 | BW6: 外國籍 | BX6: 無國籍 | BY6: 資料 不明
C7: Gender | D7: Total | E7: Non-aboriginal Native | F7: Aboriginal Native | G7: Mainland China and Hong Kong and Macau | H7: Foreign | I7: Stateless | J7: Unknown Information | K7: Total | L7: Under 6 Years | M7: 6-Under 12 Years | N7: 12-Under 18 Years | O7: 18-Under 2 Years | P7: 24-Under 30 Years | Q7: 30-Under 40 Years | R7: 40-Under 50 Years | S7: 50-Under 65 Years | T7: Above 65 Years | U7: Unknown | V7: Total | W7: Preschool | X7: Primary School | Y7: Junior High School | Z7: Senior High School (Vocational High School) | AA7: Junior College | AB7: University | AC7: Graduate School and Above | AD7: Illiterate | AE7: Self-taught | AF7: Unknown | AG7: Total | AH7: Student | AI7: Service Industry | AJ7: Professional | AK7: Agriculture, Forestry, Fishery and Animal Husbandry | AL7: Mining Industry | AM7: Business | AR7: Homemaker | AS7: Retired | AT7: No Work | AU7: Others | AV7: Unknown | AW7: Total | AX7: Not Disability | AY7: Intellectually Disabled | AZ7: Vision | BA7: Mentally Illed | BB7: Voice | BC7: Hearing | BD7: Physically Impaired | BE7: Multiple | BF7: Other | BG7: Unknown | BH7: Total | BI7: Under 6 Years | BJ7: 6-Under 12 Years | BK7: 12-Under 18 Years | BL7: 18-Under 2 Years | BM7: 24-Under 30 Years | BN7: 30-Under 40 Years | BO7: 40-Under 50 Years | BP7: 50-Under 65 Years | BQ7: Above 65 Years | BR7: Unknown | BS7: Total | BT7: Non-aboriginal Native | BU7: Aboriginal Native | BV7: Mainland China and Hong Kong and Macau | BW7: Foreign | BX7: Stateless | BY7: Unknown Information
A8: 總計 | C8: 計 Total | D8: 25590 | E8: 22998 | F8: 1383 | G8: 311 | H8: 344 | I8: 8 | J8: 546 | K8: 25590 | L8: 1424 | M8: 1141 | N8: 1354 | O8: 1872 | P8: 2228 | Q8: 5407 | R8: 4902 | S8: 4568 | T8: 2693 | U8: 1 | V8: 25590 | W8: 1160 | X8: 1688 | Y8: 1715 | Z8: 2819 | AA8: 490 | AB8: 1491 | AC8: 193 | AD8: 167 | AE8: 50 | AF8: 15817 | AG8: 25590 | AH8: 416 | AI8: 3187 | AJ8: 856 | AK8: 406 | AL8: 1332 | AM8: 827 | AN8: 124 | AO8: 195 | AP8: 47 | AQ8: 18 | AR8: 1829 | AS8: 1199 | AT8: 2404 | AU8: 1853 | AV8: 10897 | AW8: 25590 | AX8: 22953 | AY8: 326 | AZ8: 91 | BA8: 563 | BB8: 20 | BC8: 132 | BD8: 454 | BE8: 180 | BF8: 287 | BG8: 584 | BH8: 25245 | BI8: 3 | BJ8: 42 | BK8: 517 | BL8: 1238 | BM8: 2220 | BN8: 6191 | BO8: 6533 | BP8: 5438 | BQ8: 1845 | BR8: 1218 | BS8: 25245 | BT8: 21464 | BU8: 1216 | BV8: 141 | BW8: 211 | BX8: 5 | BY8: 2208
C9: 男 Male | D9: 8121 | E9: 7539 | F9: 379 | G9: 10 | H9: 38 | I9: 4 | J9: 151 | K9: 8121 | L9: 738 | M9: 679 | N9: 634 | O9: 526 | P9: 584 | Q9: 1180 | R9: 1321 | S9: 1468 | T9: 991 | U9: 0 | V9: 8121 | W9: 656 | X9: 813 | Y9: 683 | Z9: 774 | AA9: 121 | AB9: 398 | AC9: 81 | AD9: 24 | AE9: 13 | AF9: 4558 | AG9: 8121 | AH9: 117 | AI9: 599 | AJ9: 322 | AK9: 182 | AL9: 665 | AM9: 238 | AN9: 45 | AO9: 30 | AP9: 35 | AQ9: 12 | AR9: 8 | AS9: 579 | AT9: 624 | AU9: 579 | AV9: 4086 | AW9: 8121 | AX9: 7174 | AY9: 121 | AZ9: 34 | BA9: 149 | BB9: 10 | BC9: 55 | BD9: 213 | BE9: 86 | BF9: 114 | BG9: 165 | BH9: 18772 | BI9: 1 | BJ9: 34 | BK9: 393 | BL9: 899 | BM9: 1585 | BN9: 4460 | BO9: 5008 | BP9: 4233 | BQ9: 1329 | BR9: 830 | BS9: 18772 | BT9: 16109 | BU9: 928 | BV9: 21 | BW9: 108 | BX9: 2 | BY9: 1604
A10: Total | C10: 女 Female | D10: 17453 | E10: 15447 | F10: 1004 | G10: 301 | H10: 306 | I10: 4 | J10: 391 | K10: 17453 | L10: 679 | M10: 459 | N10: 718 | O10: 1345 | P10: 1642 | Q10: 4227 | R10: 3581 | S10: 3100 | T10: 1702 | U10: 0 | V10: 17453 | W10: 501 | X10: 871 | Y10: 1032 | Z10: 2044 | AA10: 369 | AB10: 1093 | AC10: 112 | AD10: 143 | AE10: 37 | AF10: 11251 | AG10: 17453 | AH10: 299 | AI10: 2586 | AJ10: 534 | AK10: 224 | AL10: 667 | AM10: 589 | AN10: 79 | AO10: 165 | AP10: 12 | AQ10: 6 | AR10: 1820 | AS10: 620 | AT10: 1780 | AU10: 1274 | AV10: 6798 | AW10: 17453 | AX10: 15769 | AY10: 205 | AZ10: 57 | BA10: 414 | BB10: 10 | BC10: 77 | BD10: 241 | BE10: 94 | BF10: 173 | BG10: 413 | BH10: 6317 | BI10: 2 | BJ10: 8 | BK10: 122 | BL10: 335 | BM10: 627 | BN10: 1713 | BO10: 1515 | BP10: 1194 | BQ10: 510 | BR10: 291 | BS10: 6317 | BT10: 5316 | BU10: 287 | BV10: 119 | BW10: 98 | BX10: 3 | BY10: 494
C11: 其他 Other | D11: 16 | E11: 12 | F11: 0 | G11: 0 | H11: 0 | I11: 0 | J11: 4 | K11: 16 | L11: 7 | M11: 3 | N11: 2 | O11: 1 | P11: 2 | Q11: 0 | R11: 0 | S11: 0 | T11: 0 | U11: 1 | V11: 16 | W11: 3 | X11: 4 | Y11: 0 | Z11: 1 | AA11: 0 | AB11: 0 | AC11: 0 | AD11: 0 | AE11: 0 | AF11: 8 | AG11: 16 | AH11: 0 | AI11: 2 | AJ11: 0 | AK11: 0 | AL11: 0 | AM11: 0 | AN11: 0 | AO11: 0 | AP11: 0 | AQ11: 0 | AR11: 1 | AS11: 0 | AT11: 0 | AU11: 0 | AV11: 13 | AW11: 16 | AX11: 10 | AY11: 0 | AZ11: 0 | BA11: 0 | BB11: 0 | BC11: 0 | BD11: 0 | BE11: 0 | BF11: 0 | BG11: 6 | BH11: 156 | BI11: 0 | BJ11: 0 | BK11: 2 | BL11: 4 | BM11: 8 | BN11: 18 | BO11: 10 | BP11: 11 | BQ11: 6 | BR11: 97 | BS11: 156 | BT11: 39 | BU11: 1 | BV11: 1 | BW11: 5 | BX11: 0 | BY11: 110
A12: 新北市 | C12: 計 Total | D12: 4078 | E12: 3595 | F12: 97 | G12: 73 | H12: 70 | I12: 0 | J12: 243 | K12: 4078 | L12: 198 | M12: 140 | N12: 174 | O12: 341 | P12: 384 | Q12: 892 | R12: 826 | S12: 697 | T12: 426 | U12: 0 | V12: 4078 | W12: 111 | X12: 167 | Y12: 167 | Z12: 332 | AA12: 71 | AB12: 275 | AC12: 35 | AD12: 16 | AE12: 9 | AF12: 2895 | AG12: 4078 | AH12: 107 | AI12: 597 | AJ12: 200 | AK12: 10 | AL12: 100 | AM12: 128 | AN12: 11 | AO12: 29 | AP12: 6 | AQ12: 2 | AR12: 245 | AS12: 210 | AT12: 364 | AU12: 177 | AV12: 1892 | AW12: 4078 | AX12: 3544 | AY12: 29 | AZ12: 17 | BA12: 92 | BB12: 2 | BC12: 21 | BD12: 55 | BE12: 18 | BF12: 38 | BG12: 262 | BH12: 4083 | BI12: 0 | BJ12: 13 | BK12: 89 | BL12: 189 | BM12: 332 | BN12: 890 | BO12: 991 | BP12: 759 | BQ12: 270 | BR12: 550 | BS12: 4083 | BT12: 2933 | BU12: 79 | BV12: 23 | BW12: 30 | BX12: 2 | BY12: 1016
C13: 男 Male | D13: 1124 | E13: 1022 | F13: 23 | G13: 5 | H13: 13 | I13: 0 | J13: 61 | K13: 1124 | L13: 83 | M13: 91 | N13: 86 | O13: 89 | P13: 87 | Q13: 177 | R13: 187 | S13: 176 | T13: 148 | U13: 0 | V13: 1124 | W13: 64 | X13: 90 | Y13: 63 | Z13: 84 | AA13: 8 | AB13: 70 | AC13: 10 | AD13: 1 | AE13: 2 | AF13: 732 | AG13: 1124 | AH13: 29 | AI13: 123 | AJ13: 66 | AK13: 6 | AL13: 52 | AM13: 46 | AN13: 4 | AO13: 4 | AP13: 6 | AQ13: 2 | AR13: 0 | AS13: 84 | AT13: 78 | AU13: 40 | AV13: 584 | AW13: 1124 | AX13: 981 | AY13: 13 | AZ13: 3 | BA13: 19 | BB13: 1 | BC13: 7 | BD13: 19 | BE13: 9 | BF13: 9 | BG13: 63 | BH13: 3108 | BI13: 0 | BJ13: 10 | BK13: 64 | BL13: 148 | BM13: 253 | BN13: 660 | BO13: 801 | BP13: 604 | BQ13: 195 | BR13: 373 | BS13: 3108 | BT13: 2292 | BU13: 62 | BV13: 5 | BW13: 17 | BX13: 1 | BY13: 731
A14: New Taipei City | C14: 女 Female | D14: 2949 | E14: 2569 | F14: 74 | G14: 68 | H14: 57 | I14: 0 | J14: 181 | K14: 2949 | L14: 114 | M14: 49 | N14: 87 | O14: 251 | P14: 295 | Q14: 715 | R14: 639 | S14: 521 | T14: 278 | U14: 0 | V14: 2949 | W14: 47 | X14: 77 | Y14: 104 | Z14: 247 | AA14: 63 | AB14: 205 | AC14: 25 | AD14: 15 | AE14: 7 | AF14: 2159 | AG14: 2949 | AH14: 78 | AI14: 472 | AJ14: 134 | AK14: 4 | AL14: 48 | AM14: 82 | AN14: 7 | AO14: 25 | AP14: 0 | AQ14: 0 | AR14: 244 | AS14: 126 | AT14: 286 | AU14: 137 | AV14: 1306 | AW14: 2949 | AX14: 2559 | AY14: 16 | AZ14: 14 | BA14: 73 | BB14: 1 | BC14: 14 | BD14: 36 | BE14: 9 | BF14: 29 | BG14: 198 | BH14: 904 | BI14: 0 | BJ14: 3 | BK14: 24 | BL14: 41 | BM14: 77 | BN14: 227 | BO14: 186 | BP14: 151 | BQ14: 74 | BR14: 121 | BS14: 904 | BT14: 632 | BU14: 16 | BV14: 18 | BW14: 12 | BX14: 1 | BY14: 225
C15: 其他 Other | D15: 5 | E15: 4 | F15: 0 | G15: 0 | H15: 0 | I15: 0 | J15: 1 | K15: 5 | L15: 1 | M15: 0 | N15: 1 | O15: 1 | P15: 2 | Q15: 0 | R15: 0 | S15: 0 | T15: 0 | U15: 0 | V15: 5 | W15: 0 | X15: 0 | Y15: 0 | Z15: 1 | AA15: 0 | AB15: 0 | AC15: 0 | AD15: 0 | AE15: 0 | AF15: 4 | AG15: 5 | AH15: 0 | AI15: 2 | AJ15: 0 | AK15: 0 | AL15: 0 | AM15: 0 | AN15: 0 | AO15: 0 | AP15: 0 | AQ15: 0 | AR15: 1 | AS15: 0 | AT15: 0 | AU15: 0 | AV15: 2 | AW15: 5 | AX15: 4 | AY15: 0 | AZ15: 0 | BA15: 0 | BB15: 0 | BC15: 0 | BD15: 0 | BE15: 0 | BF15: 0 | BG15: 1 | BH15: 71 | BI15: 0 | BJ15: 0 | BK15: 1 | BL15: 0 | BM15: 2 | BN15: 3 | BO15: 4 | BP15: 4 | BQ15: 1 | BR15: 56 | BS15: 71 | BT15: 9 | BU15: 1 | BV15: 0 | BW15: 1 | BX15: 0 | BY15: 60
A16: 臺北市 | C16: 計 Total | D16: 2837 | E16: 2698 | F16: 26 | G16: 40 | H16: 34 | I16: 2 | J16: 37 | K16: 2837 | L16: 135 | M16: 114 | N16: 129 | O16: 199 | P16: 273 | Q16: 516 | R16: 553 | S16: 545 | T16: 373 | U16: 0 | V16: 2837 | W16: 116 | X16: 122 | Y16: 81 | Z16: 97 | AA16: 13 | AB16: 46 | AC16: 15 | AD16: 5 | AE16: 5 | AF16: 2337 | AG16: 2837 | AH16: 13 | AI16: 85 | AJ16: 32 | AK16: 0 | AL16: 4 | AM16: 39 | AN16: 8 | AO16: 6 | AP16: 2 | AQ16: 0 | AR16: 56 | AS16: 43 | AT16: 44 | AU16: 47 | AV16: 2458 | AW16: 2837 | AX16: 2591 | AY16: 25 | AZ16: 10 | BA16: 73 | BB16: 1 | BC16: 13 | BD16: 29 | BE16: 20 | BF16: 34 | BG16: 41 | BH16: 2781 | BI16: 2 | BJ16: 5 | BK16: 90 | BL16: 135 | BM16: 222 | BN16: 584 | BO16: 639 | BP16: 656 | BQ16: 300 | BR16: 148 | BS16: 2781 | BT16: 2508 | BU16: 26 | BV16: 23 | BW16: 24 | BX16: 0 | BY16: 200
C17: 男 Male | D17: 947 | E17: 918 | F17: 7 | G17: 2 | H17: 9 | I17: 2 | J17: 9 | K17: 947 | L17: 57 | M17: 75 | N17: 59 | O17: 51 | P17: 70 | Q17: 149 | R17: 177 | S17: 184 | T17: 125 | U17: 0 | V17: 947 | W17: 52 | X17: 72 | Y17: 47 | Z17: 21 | AA17: 4 | AB17: 13 | AC17: 8 | AD17: 3 | AE17: 1 | AF17: 726 | AG17: 947 | AH17: 3 | AI17: 17 | AJ17: 12 | AK17: 0 | AL17: 3 | AM17: 14 | AN17: 2 | AO17: 1 | AP17: 2 | AQ17: 0 | AR17: 0 | AS17: 17 | AT17: 11 | AU17: 24 | AV17: 841 | AW17: 947 | AX17: 855 | AY17: 11 | AZ17: 3 | BA17: 21 | BB17: 0 | BC17: 8 | BD17: 12 | BE17: 8 | BF17: 13 | BG17: 16 | BH17: 1923 | BI17: 1 | BJ17: 4 | BK17: 68 | BL17: 82 | BM17: 144 | BN17: 380 | BO17: 458 | BP17: 481 | BQ17: 201 | BR17: 104 | BS17: 1923 | BT17: 1738 | BU17: 17 | BV17: 5 | BW17: 21 | BX17: 0 | BY17: 142
A18: Taipei City | C18: 女 Female | D18: 1888 | E18: 1778 | F18: 19 | G18: 38 | H18: 25 | I18: 0 | J18: 28 | K18: 1888 | L18: 76 | M18: 39 | N18: 70 | O18: 148 | P18: 203 | Q18: 367 | R18: 376 | S18: 361 | T18: 248 | U18: 0 | V18: 1888 | W18: 62 | X18: 50 | Y18: 34 | Z18: 76 | AA18: 9 | AB18: 33 | AC18: 7 | AD18: 2 | AE18: 4 | AF18: 1611 | AG18: 1888 | AH18: 10 | AI18: 68 | AJ18: 20 | AK18: 0 | AL18: 1 | AM18: 25 | AN18: 6 | AO18: 5 | AP18: 0 | AQ18: 0 | AR18: 56 | AS18: 26 | AT18: 33 | AU18: 23 | AV18: 1615 | AW18: 1888 | AX18: 1734 | AY18: 14 | AZ18: 7 | BA18: 52 | BB18: 1 | BC18: 5 | BD18: 17 | BE18: 12 | BF18: 21 | BG18: 25 | BH18: 845 | BI18: 1 | BJ18: 1 | BK18: 22 | BL18: 52 | BM18: 77 | BN18: 202 | BO18: 181 | BP18: 174 | BQ18: 96 | BR18: 39 | BS18: 845 | BT18: 767 | BU18: 9 | BV18: 18 | BW18: 3 | BX18: 0 | BY18: 48
C19: 其他 Other | D19: 2 | E19: 2 | F19: 0 | G19: 0 | H19: 0 | I19: 0 | J19: 0 | K19: 2 | L19: 2 | M19: 0 | N19: 0 | O19: 0 | P19: 0 | Q19: 0 | R19: 0 | S19: 0 | T19: 0 | U19: 0 | V19: 2 | W19: 2 | X19: 0 | Y19: 0 | Z19: 0 | AA19: 0 | AB19: 0 | AC19: 0 | AD19: 0 | AE19: 0 | AF19: 0 | AG19: 2 | AH19: 0 | AI19: 0 | AJ19: 0 | AK19: 0 | AL19: 0 | AM19: 0 | AN19: 0 | AO19: 0 | AP19: 0 | AQ19: 0 | AR19: 0 | AS19: 0 | AT19: 0 | AU19: 0 | AV19: 2 | AW19: 2 | AX19: 2 | AY19: 0 | AZ19: 0 | BA19: 0 | BB19: 0 | BC19: 0 | BD19: 0 | BE19: 0 | BF19: 0 | BG19: 0 | BH19: 13 | BI19: 0 | BJ19: 0 | BK19: 0 | BL19: 1 | BM19: 1 | BN19: 2 | BO19: 0 | BP19: 1 | BQ19: 3 | BR19: 5 | BS19: 13 | BT19: 3 | BU19: 0 | BV19: 0 | BW19: 0 | BX19: 0 | BY19: 10
A20: 桃園市 | C20: 計 Total | D20: 2336 | E20: 2023 | F20: 222 | G20: 27 | H20: 41 | I20: 1 | J20: 22 | K20: 2336 | L20: 134 | M20: 117 | N20: 143 | O20: 187 | P20: 224 | Q20: 538 | R20: 432 | S20: 361 | T20: 200 | U20: 0 | V20: 2336 | W20: 122 | X20: 144 | Y20: 137 | Z20: 167 | AA20: 19 | AB20: 95 | AC20: 16 | AD20: 9 | AE20: 8 | AF20: 1619 | AG20: 2336 | AH20: 36 | AI20: 212 | AJ20: 50 | AK20: 11 | AL20: 108 | AM20: 46 | AN20: 11 | AO20: 17 | AP20: 4 | AQ20: 1 | AR20: 147 | AS20: 79 | AT20: 212 | AU20: 218 | AV20: 1184 | AW20: 2336 | AX20: 2163 | AY20: 28 | AZ20: 5 | BA20: 37 | BB20: 2 | BC20: 11 | BD20: 33 | BE20: 20 | BF20: 13 | BG20: 24 | BH20: 2341 | BI20: 0 | BJ20: 4 | BK20: 38 | BL20: 130 | BM20: 248 | BN20: 633 | BO20: 647 | BP20: 465 | BQ20: 120 | BR20: 56 | BS20: 2341 | BT20: 1993 | BU20: 202 | BV20: 18 | BW20: 33 | BX20: 0 | BY20: 95
C21: 男 Male | D21: 722 | E21: 653 | F21: 62 | G21: 1 | H21: 4 | I21: 0 | J21: 2 | K21: 722 | L21: 68 | M21: 78 | N21: 63 | O21: 51 | P21: 70 | Q21: 101 | R21: 101 | S21: 111 | T21: 79 | U21: 0 | V21: 722 | W21: 65 | X21: 94 | Y21: 60 | Z21: 53 | AA21: 4 | AB21: 27 | AC21: 7 | AD21: 0 | AE21: 0 | AF21: 412 | AG21: 722 | AH21: 10 | AI21: 63 | AJ21: 18 | AK21: 6 | AL21: 45 | AM21: 8 | AN21: 3 | AO21: 1 | AP21: 3 | AQ21: 1 | AR21: 1 | AS21: 49 | AT21: 55 | AU21: 61 | AV21: 398 | AW21: 722 | AX21: 660 | AY21: 5 | AZ21: 2 | BA21: 8 | BB21: 1 | BC21: 7 | BD21: 17 | BE21: 12 | BF21: 7 | BG21: 3 | BH21: 1765 | BI21: 0 | BJ21: 3 | BK21: 29 | BL21: 102 | BM21: 163 | BN21: 468 | BO21: 504 | BP21: 372 | BQ21: 82 | BR21: 42 | BS21: 1765 | BT21: 1515 | BU21: 146 | BV21: 2 | BW21: 24 | BX21: 0 | BY21: 78
A22: Taoyuan City | C22: 女 Female | D22: 1614 | E22: 1370 | F22: 160 | G22: 26 | H22: 37 | I22: 1 | J22: 20 | K22: 1614 | L22: 66 | M22: 39 | N22: 80 | O22: 136 | P22: 154 | Q22: 437 | R22: 331 | S22: 250 | T22: 121 | U22: 0 | V22: 1614 | W22: 57 | X22: 50 | Y22: 77 | Z22: 114 | AA22: 15 | AB22: 68 | AC22: 9 | AD22: 9 | AE22: 8 | AF22: 1207 | AG22: 1614 | AH22: 26 | AI22: 149 | AJ22: 32 | AK22: 5 | AL22: 63 | AM22: 38 | AN22: 8 | AO22: 16 | AP22: 1 | AQ22: 0 | AR22: 146 | AS22: 30 | AT22: 157 | AU22: 157 | AV22: 786 | AW22: 1614 | AX22: 1503 | AY22: 23 | AZ22: 3 | BA22: 29 | BB22: 1 | BC22: 4 | BD22: 16 | BE22: 8 | BF22: 6 | BG22: 21 | BH22: 563 | BI22: 0 | BJ22: 1 | BK22: 9 | BL22: 28 | BM22: 82 | BN22: 163 | BO22: 143 | BP22: 91 | BQ22: 37 | BR22: 9 | BS22: 563 | BT22: 472 | BU22: 56 | BV22: 15 | BW22: 9 | BX22: 0 | BY22: 11
C23: 其他 Other | D23: 0 | E23: 0 | F23: 0 | G23: 0 | H23: 0 | I23: 0 | J23: 0 | K23: 0 | L23: 0 | M23: 0 | N23: 0 | O23: 0 | P23: 0 | Q23: 0 | R23: 0 | S23: 0 | T23: 0 | U23: 0 | V23: 0 | W23: 0 | X23: 0 | Y23: 0 | Z23: 0 | AA23: 0 | AB23: 0 | AC23: 0 | AD23: 0 | AE23: 0 | AF23: 0 | AG23: 0 | AH23: 0 | AI23: 0 | AJ23: 0 | AK23: 0 | AL23: 0 | AM23: 0 | AN23: 0 | AO23: 0 | AP23: 0 | AQ23: 0 | AR23: 0 | AS23: 0 | AT23: 0 | AU23: 0 | AV23: 0 | AW23: 0 | AX23: 0 | AY23: 0 | AZ23: 0 | BA23: 0 | BB23: 0 | BC23: 0 | BD23: 0 | BE23: 0 | BF23: 0 | BG23: 0 | BH23: 13 | BI23: 0 | BJ23: 0 | BK23: 0 | BL23: 0 | BM23: 3 | BN23: 2 | BO23: 0 | BP23: 2 | BQ23: 1 | BR23: 5 | BS23: 13 | BT23: 6 | BU23: 0 | BV23: 1 | BW23: 0 | BX23: 0 | BY23: 6
A24: 臺中市 | C24: 計 Total | D24: 3595 | E24: 3266 | F24: 138 | G24: 55 | H24: 61 | I24: 1 | J24: 74 | K24: 3595 | L24: 244 | M24: 193 | N24: 252 | O24: 278 | P24: 316 | Q24: 804 | R24: 615 | S24: 603 | T24: 289 | U24: 1 | V24: 3595 | W24: 219 | X24: 241 | Y24: 263 | Z24: 412 | AA24: 64 | AB24: 284 | AC24: 22 | AD24: 13 | AE24: 7 | AF24: 2070 | AG24: 3595 | AH24: 72 | AI24: 464 | AJ24: 152 | AK24: 27 | AL24: 244 | AM24: 149 | AN24: 17 | AO24: 33 | AP24: 6 | AQ24: 1 | AR24: 284 | AS24: 144 | AT24: 335 | AU24: 275 | AV24: 1392 | AW24: 3595 | AX24: 3240 | AY24: 50 | AZ24: 9 | BA24: 77 | BB24: 3 | BC24: 14 | BD24: 47 | BE24: 23 | BF24: 41 | BG24: 91 | BH24: 3608 | BI24: 0 | BJ24: 7 | BK24: 70 | BL24: 166 | BM24: 330 | BN24: 961 | BO24: 916 | BP24: 724 | BQ24: 213 | BR24: 221 | BS24: 3608 | BT24: 3036 | BU24: 116 | BV24: 23 | BW24: 39 | BX24: 1 | BY24: 393
C25: 男 Male | D25: 1216 | E25: 1143 | F25: 42 | G25: 0 | H25: 9 | I25: 1 | J25: 21 | K25: 1216 | L25: 145 | M25: 109 | N25: 110 | O25: 90 | P25: 86 | Q25: 185 | R25: 171 | S25: 201 | T25: 119 | U25: 0 | V25: 1216 | W25: 143 | X25: 116 | Y25: 109 | Z25: 113 | AA25: 16 | AB25: 76 | AC25: 7 | AD25: 4 | AE25: 2 | AF25: 630 | AG25: 1216 | AH25: 20 | AI25: 93 | AJ25: 59 | AK25: 16 | AL25: 108 | AM25: 47 | AN25: 8 | AO25: 4 | AP25: 4 | AQ25: 0 | AR25: 0 | AS25: 76 | AT25: 97 | AU25: 95 | AV25: 589 | AW25: 1216 | AX25: 1092 | AY25: 27 | AZ25: 1 | BA25: 21 | BB25: 3 | BC25: 6 | BD25: 18 | BE25: 8 | BF25: 19 | BG25: 21 | BH25: 2625 | BI25: 0 | BJ25: 7 | BK25: 51 | BL25: 119 | BM25: 234 | BN25: 682 | BO25: 693 | BP25: 534 | BQ25: 152 | BR25: 153 | BS25: 2625 | BT25: 2228 | BU25: 91 | BV25: 2 | BW25: 11 | BX25: 0 | BY25: 293
A26: Taichung City | C26: 女 Female | D26: 2374 | E26: 2120 | F26: 96 | G26: 55 | H26: 52 | I26: 0 | J26: 51 | K26: 2374 | L26: 96 | M26: 83 | N26: 142 | O26: 188 | P26: 230 | Q26: 619 | R26: 444 | S26: 402 | T26: 170 | U26: 0 | V26: 2374 | W26: 75 | X26: 123 | Y26: 154 | Z26: 299 | AA26: 48 | AB26: 208 | AC26: 15 | AD26: 9 | AE26: 5 | AF26: 1438 | AG26: 2374 | AH26: 52 | AI26: 371 | AJ26: 93 | AK26: 11 | AL26: 136 | AM26: 102 | AN26: 9 | AO26: 29 | AP26: 2 | AQ26: 1 | AR26: 284 | AS26: 68 | AT26: 238 | AU26: 180 | AV26: 798 | AW26: 2374 | AX26: 2146 | AY26: 23 | AZ26: 8 | BA26: 56 | BB26: 0 | BC26: 8 | BD26: 29 | BE26: 15 | BF26: 22 | BG26: 67 | BH26: 958 | BI26: 0 | BJ26: 0 | BK26: 18 | BL26: 44 | BM26: 96 | BN26: 273 | BO26: 222 | BP26: 188 | BQ26: 61 | BR26: 56 | BS26: 958 | BT26: 800 | BU26: 25 | BV26: 21 | BW26: 27 | BX26: 1 | BY26: 84
C27: 其他 Other | D27: 5 | E27: 3 | F27: 0 | G27: 0 | H27: 0 | I27: 0 | J27: 2 | K27: 5 | L27: 3 | M27: 1 | N27: 0 | O27: 0 | P27: 0 | Q27: 0 | R27: 0 | S27: 0 | T27: 0 | U27: 1 | V27: 5 | W27: 1 | X27: 2 | Y27: 0 | Z27: 0 | AA27: 0 | AB27: 0 | AC27: 0 | AD27: 0 | AE27: 0 | AF27: 2 | AG27: 5 | AH27: 0 | AI27: 0 | AJ27: 0 | AK27: 0 | AL27: 0 | AM27: 0 | AN27: 0 | AO27: 0 | AP27: 0 | AQ27: 0 | AR27: 0 | AS27: 0 | AT27: 0 | AU27: 0 | AV27: 5 | AW27: 5 | AX27: 2 | AY27: 0 | AZ27: 0 | BA27: 0 | BB27: 0 | BC27: 0 | BD27: 0 | BE27: 0 | BF27: 0 | BG27: 3 | BH27: 25 | BI27: 0 | BJ27: 0 | BK27: 1 | BL27: 3 | BM27: 0 | BN27: 6 | BO27: 1 | BP27: 2 | BQ27: 0 | BR27: 12 | BS27: 25 | BT27: 8 | BU27: 0 | BV27: 0 | BW27: 1 | BX27: 0 | BY27: 16
A28: 臺南市 | C28: 計 Total | D28: 1621 | E28: 1546 | F28: 34 | G28: 15 | H28: 15 | I28: 0 | J28: 11 | K28: 1621 | L28: 72 | M28: 87 | N28: 68 | O28: 115 | P28: 130 | Q28: 361 | R28: 306 | S28: 304 | T28: 178 | U28: 0 | V28: 1621 | W28: 74 | X28: 143 | Y28: 94 | Z28: 192 | AA28: 36 | AB28: 105 | AC28: 12 | AD28: 30 | AE28: 4 | AF28: 931 | AG28: 1621 | AH28: 25 | AI28: 238 | AJ28: 29 | AK28: 34 | AL28: 131 | AM28: 60 | AN28: 4 | AO28: 12 | AP28: 3 | AQ28: 1 | AR28: 164 | AS28: 97 | AT28: 212 | AU28: 228 | AV28: 383 | AW28: 1621 | AX28: 1478 | AY28: 28 | AZ28: 3 | BA28: 23 | BB28: 1 | BC28: 9 | BD28: 36 | BE28: 8 | BF28: 20 | BG28: 15 | BH28: 1595 | BI28: 0 | BJ28: 2 | BK28: 33 | BL28: 73 | BM28: 116 | BN28: 402 | BO28: 453 | BP28: 359 | BQ28: 131 | BR28: 26 | BS28: 1595 | BT28: 1522 | BU28: 25 | BV28: 8 | BW28: 5 | BX28: 0 | BY28: 35
C29: 男 Male | D29: 475 | E29: 466 | F29: 6 | G29: 0 | H29: 0 | I29: 0 | J29: 3 | K29: 475 | L29: 46 | M29: 44 | N29: 37 | O29: 24 | P29: 29 | Q29: 68 | R29: 79 | S29: 90 | T29: 58 | U29: 0 | V29: 475 | W29: 48 | X29: 57 | Y29: 37 | Z29: 53 | AA29: 7 | AB29: 28 | AC29: 3 | AD29: 5 | AE29: 2 | AF29: 235 | AG29: 475 | AH29: 4 | AI29: 39 | AJ29: 8 | AK29: 13 | AL29: 65 | AM29: 16 | AN29: 1 | AO29: 3 | AP29: 2 | AQ29: 0 | AR29: 0 | AS29: 49 | AT29: 57 | AU29: 47 | AV29: 171 | AW29: 475 | AX29: 426 | AY29: 11 | AZ29: 2 | BA29: 3 | BB29: 1 | BC29: 2 | BD29: 16 | BE29: 5 | BF29: 7 | BG29: 2 | BH29: 1211 | BI29: 0 | BJ29: 1 | BK29: 27 | BL29: 51 | BM29: 88 | BN29: 299 | BO29: 337 | BP29: 295 | BQ29: 94 | BR29: 19 | BS29: 1211 | BT29: 1167 | BU29: 15 | BV29: 1 | BW29: 5 | BX29: 0 | BY29: 23
A30: Tainan City | C30: 女 Female | D30: 1146 | E30: 1080 | F30: 28 | G30: 15 | H30: 15 | I30: 0 | J30: 8 | K30: 1146 | L30: 26 | M30: 43 | N30: 31 | O30: 91 | P30: 101 | Q30: 293 | R30: 227 | S30: 214 | T30: 120 | U30: 0 | V30: 1146 | W30: 26 | X30: 86 | Y30: 57 | Z30: 139 | AA30: 29 | AB30: 77 | AC30: 9 | AD30: 25 | AE30: 2 | AF30: 696 | AG30: 1146 | AH30: 21 | AI30: 199 | AJ30: 21 | AK30: 21 | AL30: 66 | AM30: 44 | AN30: 3 | AO30: 9 | AP30: 1 | AQ30: 1 | AR30: 164 | AS30: 48 | AT30: 155 | AU30: 181 | AV30: 212 | AW30: 1146 | AX30: 1052 | AY30: 17 | AZ30: 1 | BA30: 20 | BB30: 0 | BC30: 7 | BD30: 20 | BE30: 3 | BF30: 13 | BG30: 13 | BH30: 381 | BI30: 0 | BJ30: 1 | BK30: 6 | BL30: 22 | BM30: 28 | BN30: 103 | BO30: 115 | BP30: 64 | BQ30: 37 | BR30: 5 | BS30: 381 | BT30: 354 | BU30: 10 | BV30: 7 | BW30: 0 | BX30: 0 | BY30: 10
C31: 其他 Other | D31: 0 | E31: 0 | F31: 0 | G31: 0 | H31: 0 | I31: 0 | J31: 0 | K31: 0 | L31: 0 | M31: 0 | N31: 0 | O31: 0 | P31: 0 | Q31: 0 | R31: 0 | S31: 0 | T31: 0 | U31: 0 | V31: 0 | W31: 0 | X31: 0 | Y31: 0 | Z31: 0 | AA31: 0 | AB31: 0 | AC31: 0 | AD31: 0 | AE31: 0 | AF31: 0 | AG31: 0 | AH31: 0 | AI31: 0 | AJ31: 0 | AK31: 0 | AL31: 0 | AM31: 0 | AN31: 0 | AO31: 0 | AP31: 0 | AQ31: 0 | AR31: 0 | AS31: 0 | AT31: 0 | AU31: 0 | AV31: 0 | AW31: 0 | AX31: 0 | AY31: 0 | AZ31: 0 | BA31: 0 | BB31: 0 | BC31: 0 | BD31: 0 | BE31: 0 | BF31: 0 | BG31: 0 | BH31: 3 | BI31: 0 | BJ31: 0 | BK31: 0 | BL31: 0 | BM31: 0 | BN31: 0 | BO31: 1 | BP31: 0 | BQ31: 0 | BR31: 2 | BS31: 3 | BT31: 1 | BU31: 0 | BV31: 0 | BW31: 0 | BX31: 0 | BY31: 2
A32: 高雄市 | C32: 計 Total | D32: 3377 | E32: 3177 | F32: 100 | G32: 27 | H32: 29 | I32: 1 | J32: 43 | K32: 3377 | L32: 207 | M32: 178 | N32: 203 | O32: 211 | P32: 281 | Q32: 663 | R32: 659 | S32: 615 | T32: 360 | U32: 0 | V32: 3377 | W32: 156 | X32: 245 | Y32: 259 | Z32: 481 | AA32: 98 | AB32: 287 | AC32: 43 | AD32: 27 | AE32: 8 | AF32: 1773 | AG32: 3377 | AH32: 72 | AI32: 497 | AJ32: 149 | AK32: 42 | AL32: 234 | AM32: 179 | AN32: 17 | AO32: 33 | AP32: 10 | AQ32: 6 | AR32: 294 | AS32: 206 | AT32: 402 | AU32: 212 | AV32: 1024 | AW32: 3377 | AX32: 3055 | AY32: 44 | AZ32: 10 | BA32: 93 | BB32: 3 | BC32: 15 | BD32: 64 | BE32: 26 | BF32: 37 | BG32: 30 | BH32: 3325 | BI32: 0 | BJ32: 6 | BK32: 69 | BL32: 158 | BM32: 295 | BN32: 814 | BO32: 915 | BP32: 750 | BQ32: 277 | BR32: 41 | BS32: 3325 | BT32: 3068 | BU32: 83 | BV32: 17 | BW32: 20 | BX32: 2 | BY32: 135
C33: 男 Male | D33: 1178 | E33: 1139 | F33: 26 | G33: 1 | H33: 2 | I33: 0 | J33: 10 | K33: 1178 | L33: 104 | M33: 105 | N33: 102 | O33: 61 | P33: 84 | Q33: 163 | R33: 211 | S33: 212 | T33: 136 | U33: 0 | V33: 1178 | W33: 79 | X33: 113 | Y33: 105 | Z33: 151 | AA33: 26 | AB33: 87 | AC33: 20 | AD33: 1 | AE33: 2 | AF33: 594 | AG33: 1178 | AH33: 19 | AI33: 84 | AJ33: 62 | AK33: 23 | AL33: 144 | AM33: 51 | AN33: 9 | AO33: 6 | AP33: 8 | AQ33: 4 | AR33: 1 | AS33: 101 | AT33: 122 | AU33: 98 | AV33: 446 | AW33: 1178 | AX33: 1055 | AY33: 15 | AZ33: 4 | BA33: 24 | BB33: 1 | BC33: 7 | BD33: 32 | BE33: 13 | BF33: 16 | BG33: 11 | BH33: 2320 | BI33: 0 | BJ33: 6 | BK33: 53 | BL33: 104 | BM33: 197 | BN33: 532 | BO33: 647 | BP33: 558 | BQ33: 195 | BR33: 28 | BS33: 2320 | BT33: 2156 | BU33: 60 | BV33: 4 | BW33: 6 | BX33: 1 | BY33: 93
A34: Kaohsiung City | C34: 女 Female | D34: 2197 | E34: 2037 | F34: 74 | G34: 26 | H34: 27 | I34: 1 | J34: 32 | K34: 2197 | L34: 102 | M34: 73 | N34: 100 | O34: 150 | P34: 197 | Q34: 500 | R34: 448 | S34: 403 | T34: 224 | U34: 0 | V34: 2197 | W34: 77 | X34: 132 | Y34: 154 | Z34: 330 | AA34: 72 | AB34: 200 | AC34: 23 | AD34: 26 | AE34: 6 | AF34: 1177 | AG34: 2197 | AH34: 53 | AI34: 413 | AJ34: 87 | AK34: 19 | AL34: 90 | AM34: 128 | AN34: 8 | AO34: 27 | AP34: 2 | AQ34: 2 | AR34: 293 | AS34: 105 | AT34: 280 | AU34: 114 | AV34: 576 | AW34: 2197 | AX34: 2000 | AY34: 29 | AZ34: 6 | BA34: 69 | BB34: 2 | BC34: 8 | BD34: 32 | BE34: 13 | BF34: 21 | BG34: 17 | BH34: 996 | BI34: 0 | BJ34: 0 | BK34: 16 | BL34: 54 | BM34: 97 | BN34: 281 | BO34: 266 | BP34: 192 | BQ34: 82 | BR34: 8 | BS34: 996 | BT34: 908 | BU34: 23 | BV34: 13 | BW34: 13 | BX34: 1 | BY34: 38
C35: 其他 Other | D35: 2 | E35: 1 | F35: 0 | G35: 0 | H35: 0 | I35: 0 | J35: 1 | K35: 2 | L35: 1 | M35: 0 | N35: 1 | O35: 0 | P35: 0 | Q35: 0 | R35: 0 | S35: 0 | T35: 0 | U35: 0 | V35: 2 | W35: 0 | X35: 0 | Y35: 0 | Z35: 0 | AA35: 0 | AB35: 0 | AC35: 0 | AD35: 0 | AE35: 0 | AF35: 2 | AG35: 2 | AH35: 0 | AI35: 0 | AJ35: 0 | AK35: 0 | AL35: 0 | AM35: 0 | AN35: 0 | AO35: 0 | AP35: 0 | AQ35: 0 | AR35: 0 | AS35: 0 | AT35: 0 | AU35: 0 | AV35: 2 | AW35: 2 | AX35: 0 | AY35: 0 | AZ35: 0 | BA35: 0 | BB35: 0 | BC35: 0 | BD35: 0 | BE35: 0 | BF35: 0 | BG35: 2 | BH35: 9 | BI35: 0 | BJ35: 0 | BK35: 0 | BL35: 0 | BM35: 1 | BN35: 1 | BO35: 2 | BP35: 0 | BQ35: 0 | BR35: 5 | BS35: 9 | BT35: 4 | BU35: 0 | BV35: 0 | BW35: 1 | BX35: 0 | BY35: 4
B36: 宜蘭縣 | C36: 計 Total | D36: 397 | E36: 343 | F36: 41 | G36: 5 | H36: 8 | I36: 0 | J36: 0 | K36: 397 | L36: 7 | M36: 4 | N36: 8 | O36: 24 | P36: 37 | Q36: 90 | R36: 84 | S36: 93 | T36: 50 | U36: 0 | V36: 397 | W36: 7 | X36: 42 | Y36: 85 | Z36: 105 | AA36: 30 | AB36: 33 | AC36: 3 | AD36: 7 | AE36: 0 | AF36: 85 | AG36: 397 | AH36: 6 | AI36: 98 | AJ36: 25 | AK36: 10 | AL36: 27 | AM36: 24 | AN36: 5 | AO36: 5 | AP36: 2 | AQ36: 1 | AR36: 57 | AS36: 35 | AT36: 48 | AU36: 10 | AV36: 44 | AW36: 397 | AX36: 356 | AY36: 5 | AZ36: 1 | BA36: 7 | BB36: 1 | BC36: 1 | BD36: 13 | BE36: 2 | BF36: 9 | BG36: 2 | BH36: 393 | BI36: 0 | BJ36: 0 | BK36: 6 | BL36: 16 | BM36: 49 | BN36: 98 | BO36: 101 | BP36: 90 | BQ36: 28 | BR36: 5 | BS36: 393 | BT36: 337 | BU36: 45 | BV36: 1 | BW36: 0 | BX36: 0 | BY36: 10
C37: 男 Male | D37: 127 | E37: 112 | F37: 15 | G37: 0 | H37: 0 | I37: 0 | J37: 0 | K37: 127 | L37: 4 | M37: 2 | N37: 4 | O37: 5 | P37: 12 | Q37: 13 | R37: 24 | S37: 36 | T37: 27 | U37: 0 | V37: 127 | W37: 4 | X37: 13 | Y37: 30 | Z37: 23 | AA37: 9 | AB37: 11 | AC37: 1 | AD37: 4 | AE37: 0 | AF37: 32 | AG37: 127 | AH37: 3 | AI37: 19 | AJ37: 13 | AK37: 7 | AL37: 12 | AM37: 1 | AN37: 4 | AO37: 0 | AP37: 1 | AQ37: 1 | AR37: 1 | AS37: 25 | AT37: 15 | AU37: 3 | AV37: 22 | AW37: 127 | AX37: 102 | AY37: 1 | AZ37: 1 | BA37: 5 | BB37: 0 | BC37: 1 | BD37: 11 | BE37: 2 | BF37: 3 | BG37: 1 | BH37: 317 | BI37: 0 | BJ37: 0 | BK37: 5 | BL37: 13 | BM37: 38 | BN37: 80 | BO37: 86 | BP37: 71 | BQ37: 22 | BR37: 2 | BS37: 317 | BT37: 274 | BU37: 36 | BV37: 1 | BW37: 0 | BX37: 0 | BY37: 6
B38: Yilan County | C38: 女 Female | D38: 270 | E38: 231 | F38: 26 | G38: 5 | H38: 8 | I38: 0 | J38: 0 | K38: 270 | L38: 3 | M38: 2 | N38: 4 | O38: 19 | P38: 25 | Q38: 77 | R38: 60 | S38: 57 | T38: 23 | U38: 0 | V38: 270 | W38: 3 | X38: 29 | Y38: 55 | Z38: 82 | AA38: 21 | AB38: 22 | AC38: 2 | AD38: 3 | AE38: 0 | AF38: 53 | AG38: 270 | AH38: 3 | AI38: 79 | AJ38: 12 | AK38: 3 | AL38: 15 | AM38: 23 | AN38: 1 | AO38: 5 | AP38: 1 | AQ38: 0 | AR38: 56 | AS38: 10 | AT38: 33 | AU38: 7 | AV38: 22 | AW38: 270 | AX38: 254 | AY38: 4 | AZ38: 0 | BA38: 2 | BB38: 1 | BC38: 0 | BD38: 2 | BE38: 0 | BF38: 6 | BG38: 1 | BH38: 75 | BI38: 0 | BJ38: 0 | BK38: 1 | BL38: 3 | BM38: 11 | BN38: 18 | BO38: 15 | BP38: 19 | BQ38: 6 | BR38: 2 | BS38: 75 | BT38: 63 | BU38: 9 | BV38: 0 | BW38: 0 | BX38: 0 | BY38: 3
C39: 其他 Other | D39: 0 | E39: 0 | F39: 0 | G39: 0 | H39: 0 | I39: 0 | J39: 0 | K39: 0 | L39: 0 | M39: 0 | N39: 0 | O39: 0 | P39: 0 | Q39: 0 | R39: 0 | S39: 0 | T39: 0 | U39: 0 | V39: 0 | W39: 0 | X39: 0 | Y39: 0 | Z39: 0 | AA39: 0 | AB39: 0 | AC39: 0 | AD39: 0 | AE39: 0 | AF39: 0 | AG39: 0 | AH39: 0 | AI39: 0 | AJ39: 0 | AK39: 0 | AL39: 0 | AM39: 0 | AN39: 0 | AO39: 0 | AP39: 0 | AQ39: 0 | AR39: 0 | AS39: 0 | AT39: 0 | AU39: 0 | AV39: 0 | AW39: 0 | AX39: 0 | AY39: 0 | AZ39: 0 | BA39: 0 | BB39: 0 | BC39: 0 | BD39: 0 | BE39: 0 | BF39: 0 | BG39: 0 | BH39: 1 | BI39: 0 | BJ39: 0 | BK39: 0 | BL39: 0 | BM39: 0 | BN39: 0 | BO39: 0 | BP39: 0 | BQ39: 0 | BR39: 1 | BS39: 1 | BT39: 0 | BU39: 0 | BV39: 0 | BW39: 0 | BX39: 0 | BY39: 1
B40: 新竹縣 | C40: 計 Total | D40: 526 | E40: 452 | F40: 51 | G40: 6 | H40: 9 | I40: 0 | J40: 8 | K40: 526 | L40: 32 | M40: 31 | N40: 28 | O40: 40 | P40: 47 | Q40: 115 | R40: 107 | S40: 83 | T40: 43 | U40: 0 | V40: 526 | W40: 30 | X40: 54 | Y40: 38 | Z40: 75 | AA40: 17 | AB40: 40 | AC40: 10 | AD40: 2 | AE40: 0 | AF40: 260 | AG40: 526 | AH40: 8 | AI40: 91 | AJ40: 22 | AK40: 7 | AL40: 42 | AM40: 17 | AN40: 6 | AO40: 9 | AP40: 1 | AQ40: 0 | AR40: 30 | AS40: 14 | AT40: 50 | AU40: 39 | AV40: 190 | AW40: 526 | AX40: 486 | AY40: 8 | AZ40: 4 | BA40: 3 | BB40: 0 | BC40: 1 | BD40: 8 | BE40: 1 | BF40: 6 | BG40: 9 | BH40: 509 | BI40: 0 | BJ40: 0 | BK40: 14 | BL40: 22 | BM40: 45 | BN40: 133 | BO40: 147 | BP40: 101 | BQ40: 38 | BR40: 9 | BS40: 509 | BT40: 429 | BU40: 47 | BV40: 2 | BW40: 7 | BX40: 0 | BY40: 24
C41: 男 Male | D41: 160 | E41: 140 | F41: 16 | G41: 1 | H41: 0 | I41: 0 | J41: 3 | K41: 160 | L41: 19 | M41: 18 | N41: 15 | O41: 7 | P41: 5 | Q41: 19 | R41: 30 | S41: 33 | T41: 14 | U41: 0 | V41: 160 | W41: 18 | X41: 26 | Y41: 16 | Z41: 19 | AA41: 7 | AB41: 8 | AC41: 7 | AD41: 1 | AE41: 0 | AF41: 58 | AG41: 160 | AH41: 1 | AI41: 11 | AJ41: 8 | AK41: 5 | AL41: 24 | AM41: 3 | AN41: 2 | AO41: 1 | AP41: 0 | AQ41: 0 | AR41: 0 | AS41: 10 | AT41: 5 | AU41: 12 | AV41: 78 | AW41: 160 | AX41: 145 | AY41: 1 | AZ41: 3 | BA41: 2 | BB41: 0 | BC41: 0 | BD41: 4 | BE41: 0 | BF41: 2 | BG41: 3 | BH41: 389 | BI41: 0 | BJ41: 0 | BK41: 9 | BL41: 19 | BM41: 36 | BN41: 97 | BO41: 110 | BP41: 82 | BQ41: 27 | BR41: 9 | BS41: 389 | BT41: 332 | BU41: 36 | BV41: 0 | BW41: 2 | BX41: 0 | BY41: 19
B42: Hsinchu County | C42: 女 Female | D42: 365 | E42: 311 | F42: 35 | G42: 5 | H42: 9 | I42: 0 | J42: 5 | K42: 365 | L42: 13 | M42: 12 | N42: 13 | O42: 33 | P42: 42 | Q42: 96 | R42: 77 | S42: 50 | T42: 29 | U42: 0 | V42: 365 | W42: 12 | X42: 27 | Y42: 22 | Z42: 56 | AA42: 10 | AB42: 32 | AC42: 3 | AD42: 1 | AE42: 0 | AF42: 202 | AG42: 365 | AH42: 7 | AI42: 80 | AJ42: 14 | AK42: 2 | AL42: 18 | AM42: 14 | AN42: 4 | AO42: 8 | AP42: 1 | AQ42: 0 | AR42: 30 | AS42: 4 | AT42: 45 | AU42: 27 | AV42: 111 | AW42: 365 | AX42: 340 | AY42: 7 | AZ42: 1 | BA42: 1 | BB42: 0 | BC42: 1 | BD42: 4 | BE42: 1 | BF42: 4 | BG42: 6 | BH42: 120 | BI42: 0 | BJ42: 0 | BK42: 5 | BL42: 3 | BM42: 9 | BN42: 36 | BO42: 37 | BP42: 19 | BQ42: 11 | BR42: 0 | BS42: 120 | BT42: 97 | BU42: 11 | BV42: 2 | BW42: 5 | BX42: 0 | BY42: 5
C43: 其他 Other | D43: 1 | E43: 1 | F43: 0 | G43: 0 | H43: 0 | I43: 0 | J43: 0 | K43: 1 | L43: 0 | M43: 1 | N43: 0 | O43: 0 | P43: 0 | Q43: 0 | R43: 0 | S43: 0 | T43: 0 | U43: 0 | V43: 1 | W43: 0 | X43: 1 | Y43: 0 | Z43: 0 | AA43: 0 | AB43: 0 | AC43: 0 | AD43: 0 | AE43: 0 | AF43: 0 | AG43: 1 | AH43: 0 | AI43: 0 | AJ43: 0 | AK43: 0 | AL43: 0 | AM43: 0 | AN43: 0 | AO43: 0 | AP43: 0 | AQ43: 0 | AR43: 0 | AS43: 0 | AT43: 0 | AU43: 0 | AV43: 1 | AW43: 1 | AX43: 1 | AY43: 0 | AZ43: 0 | BA43: 0 | BB43: 0 | BC43: 0 | BD43: 0 | BE43: 0 | BF43: 0 | BG43: 0 | BH43: 0 | BI43: 0 | BJ43: 0 | BK43: 0 | BL43: 0 | BM43: 0 | BN43: 0 | BO43: 0 | BP43: 0 | BQ43: 0 | BR43: 0 | BS43: 0 | BT43: 0 | BU43: 0 | BV43: 0 | BW43: 0 | BX43: 0 | BY43: 0
B44: 苗栗縣 | C44: 計 Total | D44: 544 | E44: 484 | F44: 40 | G44: 7 | H44: 7 | I44: 0 | J44: 6 | K44: 544 | L44: 38 | M44: 20 | N44: 37 | O44: 41 | P44: 48 | Q44: 117 | R44: 94 | S44: 89 | T44: 60 | U44: 0 | V44: 544 | W44: 34 | X44: 23 | Y44: 31 | Z44: 57 | AA44: 6 | AB44: 16 | AC44: 1 | AD44: 0 | AE44: 5 | AF44: 371 | AG44: 544 | AH44: 10 | AI44: 75 | AJ44: 17 | AK44: 11 | AL44: 31 | AM44: 6 | AN44: 2 | AO44: 9 | AP44: 1 | AQ44: 0 | AR44: 49 | AS44: 22 | AT44: 58 | AU44: 99 | AV44: 154 | AW44: 544 | AX44: 492 | AY44: 9 | AZ44: 1 | BA44: 12 | BB44: 0 | BC44: 6 | BD44: 10 | BE44: 4 | BF44: 6 | BG44: 4 | BH44: 527 | BI44: 0 | BJ44: 2 | BK44: 9 | BL44: 29 | BM44: 54 | BN44: 132 | BO44: 135 | BP44: 128 | BQ44: 28 | BR44: 10 | BS44: 527 | BT44: 473 | BU44: 36 | BV44: 1 | BW44: 2 | BX44: 0 | BY44: 15
C45: 男 Male | D45: 159 | E45: 144 | F45: 12 | G45: 0 | H45: 0 | I45: 0 | J45: 3 | K45: 159 | L45: 18 | M45: 12 | N45: 14 | O45: 15 | P45: 12 | Q45: 29 | R45: 17 | S45: 23 | T45: 19 | U45: 0 | V45: 159 | W45: 17 | X45: 11 | Y45: 9 | Z45: 17 | AA45: 1 | AB45: 5 | AC45: 1 | AD45: 0 | AE45: 3 | AF45: 95 | AG45: 159 | AH45: 3 | AI45: 15 | AJ45: 7 | AK45: 3 | AL45: 15 | AM45: 3 | AN45: 0 | AO45: 1 | AP45: 1 | AQ45: 0 | AR45: 0 | AS45: 12 | AT45: 12 | AU45: 27 | AV45: 60 | AW45: 159 | AX45: 141 | AY45: 2 | AZ45: 1 | BA45: 3 | BB45: 0 | BC45: 2 | BD45: 5 | BE45: 2 | BF45: 3 | BG45: 0 | BH45: 425 | BI45: 0 | BJ45: 1 | BK45: 7 | BL45: 19 | BM45: 42 | BN45: 101 | BO45: 115 | BP45: 109 | BQ45: 24 | BR45: 7 | BS45: 425 | BT45: 385 | BU45: 26 | BV45: 0 | BW45: 1 | BX45: 0 | BY45: 13
B46: Miaoli County | C46: 女 Female | D46: 385 | E46: 340 | F46: 28 | G46: 7 | H46: 7 | I46: 0 | J46: 3 | K46: 385 | L46: 20 | M46: 8 | N46: 23 | O46: 26 | P46: 36 | Q46: 88 | R46: 77 | S46: 66 | T46: 41 | U46: 0 | V46: 385 | W46: 17 | X46: 12 | Y46: 22 | Z46: 40 | AA46: 5 | AB46: 11 | AC46: 0 | AD46: 0 | AE46: 2 | AF46: 276 | AG46: 385 | AH46: 7 | AI46: 60 | AJ46: 10 | AK46: 8 | AL46: 16 | AM46: 3 | AN46: 2 | AO46: 8 | AP46: 0 | AQ46: 0 | AR46: 49 | AS46: 10 | AT46: 46 | AU46: 72 | AV46: 94 | AW46: 385 | AX46: 351 | AY46: 7 | AZ46: 0 | BA46: 9 | BB46: 0 | BC46: 4 | BD46: 5 | BE46: 2 | BF46: 3 | BG46: 4 | BH46: 101 | BI46: 0 | BJ46: 1 | BK46: 2 | BL46: 10 | BM46: 12 | BN46: 30 | BO46: 20 | BP46: 19 | BQ46: 4 | BR46: 3 | BS46: 101 | BT46: 87 | BU46: 10 | BV46: 1 | BW46: 1 | BX46: 0 | BY46: 2
C47: 其他 Other | D47: 0 | E47: 0 | F47: 0 | G47: 0 | H47: 0 | I47: 0 | J47: 0 | K47: 0 | L47: 0 | M47: 0 | N47: 0 | O47: 0 | P47: 0 | Q47: 0 | R47: 0 | S47: 0 | T47: 0 | U47: 0 | V47: 0 | W47: 0 | X47: 0 | Y47: 0 | Z47: 0 | AA47: 0 | AB47: 0 | AC47: 0 | AD47: 0 | AE47: 0 | AF47: 0 | AG47: 0 | AH47: 0 | AI47: 0 | AJ47: 0 | AK47: 0 | AL47: 0 | AM47: 0 | AN47: 0 | AO47: 0 | AP47: 0 | AQ47: 0 | AR47: 0 | AS47: 0 | AT47: 0 | AU47: 0 | AV47: 0 | AW47: 0 | AX47: 0 | AY47: 0 | AZ47: 0 | BA47: 0 | BB47: 0 | BC47: 0 | BD47: 0 | BE47: 0 | BF47: 0 | BG47: 0 | BH47: 1 | BI47: 0 | BJ47: 0 | BK47: 0 | BL47: 0 | BM47: 0 | BN47: 1 | BO47: 0 | BP47: 0 | BQ47: 0 | BR47: 0 | BS47: 1 | BT47: 1 | BU47: 0 | BV47: 0 | BW47: 0 | BX47: 0 | BY47: 0
B48: 彰化縣 | C48: 計 Total | D48: 1346 | E48: 1267 | F48: 26 | G48: 8 | H48: 13 | I48: 0 | J48: 32 | K48: 1346 | L48: 85 | M48: 53 | N48: 67 | O48: 91 | P48: 114 | Q48: 305 | R48: 258 | S48: 233 | T48: 140 | U48: 0 | V48: 1346 | W48: 71 | X48: 81 | Y48: 75 | Z48: 135 | AA48: 16 | AB48: 55 | AC48: 5 | AD48: 4 | AE48: 0 | AF48: 904 | AG48: 1346 | AH48: 16 | AI48: 88 | AJ48: 43 | AK48: 31 | AL48: 115 | AM48: 30 | AN48: 11 | AO48: 12 | AP48: 2 | AQ48: 1 | AR48: 102 | AS48: 66 | AT48: 146 | AU48: 273 | AV48: 410 | AW48: 1346 | AX48: 1195 | AY48: 20 | AZ48: 6 | BA48: 26 | BB48: 1 | BC48: 9 | BD48: 30 | BE48: 18 | BF48: 11 | BG48: 30 | BH48: 1306 | BI48: 0 | BJ48: 1 | BK48: 24 | BL48: 52 | BM48: 117 | BN48: 370 | BO48: 335 | BP48: 280 | BQ48: 97 | BR48: 30 | BS48: 1306 | BT48: 1176 | BU48: 28 | BV48: 7 | BW48: 12 | BX48: 0 | BY48: 83
C49: 男 Male | D49: 452 | E49: 437 | F49: 5 | G49: 0 | H49: 0 | I49: 0 | J49: 10 | K49: 452 | L49: 48 | M49: 36 | N49: 22 | O49: 28 | P49: 39 | Q49: 65 | R49: 80 | S49: 83 | T49: 51 | U49: 0 | V49: 452 | W49: 45 | X49: 39 | Y49: 20 | Z49: 39 | AA49: 4 | AB49: 16 | AC49: 2 | AD49: 1 | AE49: 0 | AF49: 286 | AG49: 452 | AH49: 5 | AI49: 15 | AJ49: 18 | AK49: 14 | AL49: 39 | AM49: 7 | AN49: 3 | AO49: 2 | AP49: 1 | AQ49: 1 | AR49: 1 | AS49: 29 | AT49: 46 | AU49: 91 | AV49: 180 | AW49: 452 | AX49: 393 | AY49: 5 | AZ49: 3 | BA49: 5 | BB49: 1 | BC49: 1 | BD49: 18 | BE49: 9 | BF49: 4 | BG49: 13 | BH49: 990 | BI49: 0 | BJ49: 0 | BK49: 21 | BL49: 36 | BM49: 80 | BN49: 280 | BO49: 259 | BP49: 225 | BQ49: 74 | BR49: 15 | BS49: 990 | BT49: 898 | BU49: 26 | BV49: 1 | BW49: 7 | BX49: 0 | BY49: 58
B50: Changhua County | C50: 女 Female | D50: 893 | E50: 829 | F50: 21 | G50: 8 | H50: 13 | I50: 0 | J50: 22 | K50: 893 | L50: 37 | M50: 16 | N50: 45 | O50: 63 | P50: 75 | Q50: 240 | R50: 178 | S50: 150 | T50: 89 | U50: 0 | V50: 893 | W50: 26 | X50: 41 | Y50: 55 | Z50: 96 | AA50: 12 | AB50: 39 | AC50: 3 | AD50: 3 | AE50: 0 | AF50: 618 | AG50: 893 | AH50: 11 | AI50: 73 | AJ50: 25 | AK50: 17 | AL50: 76 | AM50: 23 | AN50: 8 | AO50: 10 | AP50: 1 | AQ50: 0 | AR50: 101 | AS50: 37 | AT50: 100 | AU50: 182 | AV50: 229 | AW50: 893 | AX50: 801 | AY50: 15 | AZ50: 3 | BA50: 21 | BB50: 0 | BC50: 8 | BD50: 12 | BE50: 9 | BF50: 7 | BG50: 17 | BH50: 312 | BI50: 0 | BJ50: 1 | BK50: 3 | BL50: 16 | BM50: 37 | BN50: 90 | BO50: 76 | BP50: 55 | BQ50: 23 | BR50: 11 | BS50: 312 | BT50: 278 | BU50: 2 | BV50: 6 | BW50: 5 | BX50: 0 | BY50: 21
C51: 其他 Other | D51: 1 | E51: 1 | F51: 0 | G51: 0 | H51: 0 | I51: 0 | J51: 0 | K51: 1 | L51: 0 | M51: 1 | N51: 0 | O51: 0 | P51: 0 | Q51: 0 | R51: 0 | S51: 0 | T51: 0 | U51: 0 | V51: 1 | W51: 0 | X51: 1 | Y51: 0 | Z51: 0 | AA51: 0 | AB51: 0 | AC51: 0 | AD51: 0 | AE51: 0 | AF51: 0 | AG51: 1 | AH51: 0 | AI51: 0 | AJ51: 0 | AK51: 0 | AL51: 0 | AM51: 0 | AN51: 0 | AO51: 0 | AP51: 0 | AQ51: 0 | AR51: 0 | AS51: 0 | AT51: 0 | AU51: 0 | AV51: 1 | AW51: 1 | AX51: 1 | AY51: 0 | AZ51: 0 | BA51: 0 | BB51: 0 | BC51: 0 | BD51: 0 | BE51: 0 | BF51: 0 | BG51: 0 | BH51: 4 | BI51: 0 | BJ51: 0 | BK51: 0 | BL51: 0 | BM51: 0 | BN51: 0 | BO51: 0 | BP51: 0 | BQ51: 0 | BR51: 4 | BS51: 4 | BT51: 0 | BU51: 0 | BV51: 0 | BW51: 0 | BX51: 0 | BY51: 4
B52: 南投縣 | C52: 計 Total | D52: 606 | E52: 508 | F52: 79 | G52: 4 | H52: 5 | I52: 0 | J52: 10 | K52: 606 | L52: 42 | M52: 30 | N52: 38 | O52: 39 | P52: 45 | Q52: 107 | R52: 117 | S52: 114 | T52: 74 | U52: 0 | V52: 606 | W52: 28 | X52: 104 | Y52: 133 | Z52: 189 | AA52: 32 | AB52: 51 | AC52: 10 | AD52: 10 | AE52: 0 | AF52: 49 | AG52: 606 | AH52: 7 | AI52: 105 | AJ52: 17 | AK52: 54 | AL52: 74 | AM52: 29 | AN52: 2 | AO52: 6 | AP52: 0 | AQ52: 1 | AR52: 37 | AS52: 53 | AT52: 83 | AU52: 3 | AV52: 135 | AW52: 606 | AX52: 523 | AY52: 8 | AZ52: 1 | BA52: 12 | BB52: 2 | BC52: 5 | BD52: 20 | BE52: 6 | BF52: 15 | BG52: 14 | BH52: 580 | BI52: 0 | BJ52: 1 | BK52: 12 | BL52: 31 | BM52: 47 | BN52: 152 | BO52: 151 | BP52: 136 | BQ52: 39 | BR52: 11 | BS52: 580 | BT52: 476 | BU52: 70 | BV52: 4 | BW52: 4 | BX52: 0 | BY52: 26
C53: 男 Male | D53: 203 | E53: 178 | F53: 19 | G53: 0 | H53: 0 | I53: 0 | J53: 6 | K53: 203 | L53: 22 | M53: 18 | N53: 21 | O53: 7 | P53: 12 | Q53: 19 | R53: 30 | S53: 44 | T53: 30 | U53: 0 | V53: 203 | W53: 18 | X53: 45 | Y53: 53 | Z53: 46 | AA53: 13 | AB53: 10 | AC53: 4 | AD53: 0 | AE53: 0 | AF53: 14 | AG53: 203 | AH53: 2 | AI53: 21 | AJ53: 4 | AK53: 21 | AL53: 34 | AM53: 5 | AN53: 1 | AO53: 2 | AP53: 0 | AQ53: 1 | AR53: 1 | AS53: 22 | AT53: 22 | AU53: 2 | AV53: 65 | AW53: 203 | AX53: 169 | AY53: 1 | AZ53: 1 | BA53: 4 | BB53: 1 | BC53: 3 | BD53: 8 | BE53: 2 | BF53: 8 | BG53: 6 | BH53: 462 | BI53: 0 | BJ53: 1 | BK53: 7 | BL53: 25 | BM53: 38 | BN53: 116 | BO53: 121 | BP53: 115 | BQ53: 31 | BR53: 8 | BS53: 462 | BT53: 383 | BU53: 58 | BV53: 0 | BW53: 1 | BX53: 0 | BY53: 20
B54: Nantou County | C54: 女 Female | D54: 403 | E54: 330 | F54: 60 | G54: 4 | H54: 5 | I54: 0 | J54: 4 | K54: 403 | L54: 20 | M54: 12 | N54: 17 | O54: 32 | P54: 33 | Q54: 88 | R54: 87 | S54: 70 | T54: 44 | U54: 0 | V54: 403 | W54: 10 | X54: 59 | Y54: 80 | Z54: 143 | AA54: 19 | AB54: 41 | AC54: 6 | AD54: 10 | AE54: 0 | AF54: 35 | AG54: 403 | AH54: 5 | AI54: 84 | AJ54: 13 | AK54: 33 | AL54: 40 | AM54: 24 | AN54: 1 | AO54: 4 | AP54: 0 | AQ54: 0 | AR54: 36 | AS54: 31 | AT54: 61 | AU54: 1 | AV54: 70 | AW54: 403 | AX54: 354 | AY54: 7 | AZ54: 0 | BA54: 8 | BB54: 1 | BC54: 2 | BD54: 12 | BE54: 4 | BF54: 7 | BG54: 8 | BH54: 117 | BI54: 0 | BJ54: 0 | BK54: 5 | BL54: 6 | BM54: 9 | BN54: 36 | BO54: 30 | BP54: 21 | BQ54: 8 | BR54: 2 | BS54: 117 | BT54: 93 | BU54: 12 | BV54: 4 | BW54: 3 | BX54: 0 | BY54: 5
C55: 其他 Other | D55: 0 | E55: 0 | F55: 0 | G55: 0 | H55: 0 | I55: 0 | J55: 0 | K55: 0 | L55: 0 | M55: 0 | N55: 0 | O55: 0 | P55: 0 | Q55: 0 | R55: 0 | S55: 0 | T55: 0 | U55: 0 | V55: 0 | W55: 0 | X55: 0 | Y55: 0 | Z55: 0 | AA55: 0 | AB55: 0 | AC55: 0 | AD55: 0 | AE55: 0 | AF55: 0 | AG55: 0 | AH55: 0 | AI55: 0 | AJ55: 0 | AK55: 0 | AL55: 0 | AM55: 0 | AN55: 0 | AO55: 0 | AP55: 0 | AQ55: 0 | AR55: 0 | AS55: 0 | AT55: 0 | AU55: 0 | AV55: 0 | AW55: 0 | AX55: 0 | AY55: 0 | AZ55: 0 | BA55: 0 | BB55: 0 | BC55: 0 | BD55: 0 | BE55: 0 | BF55: 0 | BG55: 0 | BH55: 1 | BI55: 0 | BJ55: 0 | BK55: 0 | BL55: 0 | BM55: 0 | BN55: 0 | BO55: 0 | BP55: 0 | BQ55: 0 | BR55: 1 | BS55: 1 | BT55: 0 | BU55: 0 | BV55: 0 | BW55: 0 | BX55: 0 | BY55: 1
B56: 雲林縣 | C56: 計 Total | D56: 702 | E56: 665 | F56: 14 | G56: 6 | H56: 11 | I56: 2 | J56: 4 | K56: 702 | L56: 27 | M56: 20 | N56: 33 | O56: 42 | P56: 57 | Q56: 141 | R56: 150 | S56: 151 | T56: 81 | U56: 0 | V56: 702 | W56: 28 | X56: 27 | Y56: 37 | Z56: 48 | AA56: 8 | AB56: 14 | AC56: 1 | AD56: 7 | AE56: 1 | AF56: 531 | AG56: 702 | AH56: 3 | AI56: 49 | AJ56: 12 | AK56: 44 | AL56: 45 | AM56: 18 | AN56: 1 | AO56: 0 | AP56: 0 | AQ56: 0 | AR56: 49 | AS56: 30 | AT56: 67 | AU56: 54 | AV56: 330 | AW56: 702 | AX56: 625 | AY56: 13 | AZ56: 4 | BA56: 22 | BB56: 2 | BC56: 5 | BD56: 18 | BE56: 3 | BF56: 10 | BG56: 0 | BH56: 656 | BI56: 0 | BJ56: 0 | BK56: 10 | BL56: 39 | BM56: 60 | BN56: 155 | BO56: 174 | BP56: 163 | BQ56: 50 | BR56: 5 | BS56: 656 | BT56: 626 | BU56: 10 | BV56: 2 | BW56: 11 | BX56: 0 | BY56: 7
C57: 男 Male | D57: 239 | E57: 231 | F57: 4 | G57: 0 | H57: 1 | I57: 1 | J57: 2 | K57: 239 | L57: 15 | M57: 11 | N57: 13 | O57: 16 | P57: 20 | Q57: 40 | R57: 37 | S57: 51 | T57: 36 | U57: 0 | V57: 239 | W57: 15 | X57: 12 | Y57: 16 | Z57: 13 | AA57: 2 | AB57: 4 | AC57: 1 | AD57: 2 | AE57: 0 | AF57: 174 | AG57: 239 | AH57: 0 | AI57: 8 | AJ57: 3 | AK57: 18 | AL57: 24 | AM57: 4 | AN57: 1 | AO57: 0 | AP57: 0 | AQ57: 0 | AR57: 0 | AS57: 15 | AT57: 20 | AU57: 19 | AV57: 127 | AW57: 239 | AX57: 206 | AY57: 8 | AZ57: 2 | BA57: 4 | BB57: 0 | BC57: 3 | BD57: 12 | BE57: 1 | BF57: 3 | BG57: 0 | BH57: 508 | BI57: 0 | BJ57: 0 | BK57: 9 | BL57: 28 | BM57: 49 | BN57: 115 | BO57: 140 | BP57: 126 | BQ57: 38 | BR57: 3 | BS57: 508 | BT57: 493 | BU57: 7 | BV57: 0 | BW57: 3 | BX57: 0 | BY57: 5
B58: Yunlin County | C58: 女 Female | D58: 463 | E58: 434 | F58: 10 | G58: 6 | H58: 10 | I58: 1 | J58: 2 | K58: 463 | L58: 12 | M58: 9 | N58: 20 | O58: 26 | P58: 37 | Q58: 101 | R58: 113 | S58: 100 | T58: 45 | U58: 0 | V58: 463 | W58: 13 | X58: 15 | Y58: 21 | Z58: 35 | AA58: 6 | AB58: 10 | AC58: 0 | AD58: 5 | AE58: 1 | AF58: 357 | AG58: 463 | AH58: 3 | AI58: 41 | AJ58: 9 | AK58: 26 | AL58: 21 | AM58: 14 | AN58: 0 | AO58: 0 | AP58: 0 | AQ58: 0 | AR58: 49 | AS58: 15 | AT58: 47 | AU58: 35 | AV58: 203 | AW58: 463 | AX58: 419 | AY58: 5 | AZ58: 2 | BA58: 18 | BB58: 2 | BC58: 2 | BD58: 6 | BE58: 2 | BF58: 7 | BG58: 0 | BH58: 144 | BI58: 0 | BJ58: 0 | BK58: 1 | BL58: 11 | BM58: 11 | BN58: 38 | BO58: 33 | BP58: 37 | BQ58: 11 | BR58: 2 | BS58: 144 | BT58: 131 | BU58: 3 | BV58: 2 | BW58: 7 | BX58: 0 | BY58: 1
C59: 其他 Other | D59: 0 | E59: 0 | F59: 0 | G59: 0 | H59: 0 | I59: 0 | J59: 0 | K59: 0 | L59: 0 | M59: 0 | N59: 0 | O59: 0 | P59: 0 | Q59: 0 | R59: 0 | S59: 0 | T59: 0 | U59: 0 | V59: 0 | W59: 0 | X59: 0 | Y59: 0 | Z59: 0 | AA59: 0 | AB59: 0 | AC59: 0 | AD59: 0 | AE59: 0 | AF59: 0 | AG59: 0 | AH59: 0 | AI59: 0 | AJ59: 0 | AK59: 0 | AL59: 0 | AM59: 0 | AN59: 0 | AO59: 0 | AP59: 0 | AQ59: 0 | AR59: 0 | AS59: 0 | AT59: 0 | AU59: 0 | AV59: 0 | AW59: 0 | AX59: 0 | AY59: 0 | AZ59: 0 | BA59: 0 | BB59: 0 | BC59: 0 | BD59: 0 | BE59: 0 | BF59: 0 | BG59: 0 | BH59: 4 | BI59: 0 | BJ59: 0 | BK59: 0 | BL59: 0 | BM59: 0 | BN59: 2 | BO59: 1 | BP59: 0 | BQ59: 1 | BR59: 0 | BS59: 4 | BT59: 2 | BU59: 0 | BV59: 0 | BW59: 1 | BX59: 0 | BY59: 1
B60: 嘉義縣 | C60: 計 Total | D60: 551 | E60: 526 | F60: 6 | G60: 6 | H60: 10 | I60: 0 | J60: 3 | K60: 551 | L60: 29 | M60: 18 | N60: 20 | O60: 29 | P60: 39 | Q60: 108 | R60: 95 | S60: 118 | T60: 95 | U60: 0 | V60: 551 | W60: 28 | X60: 80 | Y60: 77 | Z60: 116 | AA60: 16 | AB60: 28 | AC60: 1 | AD60: 12 | AE60: 0 | AF60: 193 | AG60: 551 | AH60: 5 | AI60: 57 | AJ60: 11 | AK60: 43 | AL60: 43 | AM60: 23 | AN60: 4 | AO60: 4 | AP60: 2 | AQ60: 1 | AR60: 68 | AS60: 47 | AT60: 37 | AU60: 47 | AV60: 159 | AW60: 551 | AX60: 488 | AY60: 10 | AZ60: 4 | BA60: 8 | BB60: 0 | BC60: 1 | BD60: 20 | BE60: 7 | BF60: 10 | BG60: 3 | BH60: 511 | BI60: 1 | BJ60: 0 | BK60: 11 | BL60: 22 | BM60: 39 | BN60: 129 | BO60: 125 | BP60: 127 | BQ60: 54 | BR60: 3 | BS60: 511 | BT60: 499 | BU60: 4 | BV60: 0 | BW60: 2 | BX60: 0 | BY60: 6
C61: 男 Male | D61: 188 | E61: 184 | F61: 2 | G61: 0 | H61: 0 | I61: 0 | J61: 2 | K61: 188 | L61: 16 | M61: 12 | N61: 12 | O61: 7 | P61: 8 | Q61: 26 | R61: 29 | S61: 41 | T61: 37 | U61: 0 | V61: 188 | W61: 16 | X61: 34 | Y61: 30 | Z61: 34 | AA61: 5 | AB61: 4 | AC61: 0 | AD61: 1 | AE61: 0 | AF61: 64 | AG61: 188 | AH61: 2 | AI61: 7 | AJ61: 5 | AK61: 17 | AL61: 22 | AM61: 12 | AN61: 0 | AO61: 0 | AP61: 1 | AQ61: 1 | AR61: 0 | AS61: 20 | AT61: 13 | AU61: 11 | AV61: 77 | AW61: 188 | AX61: 162 | AY61: 3 | AZ61: 2 | BA61: 2 | BB61: 0 | BC61: 0 | BD61: 9 | BE61: 3 | BF61: 6 | BG61: 1 | BH61: 402 | BI61: 0 | BJ61: 0 | BK61: 9 | BL61: 17 | BM61: 24 | BN61: 101 | BO61: 99 | BP61: 110 | BQ61: 42 | BR61: 0 | BS61: 402 | BT61: 395 | BU61: 3 | BV61: 0 | BW61: 0 | BX61: 0 | BY61: 4
B62: Chiayi County | C62: 女 Female | D62: 363 | E62: 342 | F62: 4 | G62: 6 | H62: 10 | I62: 0 | J62: 1 | K62: 363 | L62: 13 | M62: 6 | N62: 8 | O62: 22 | P62: 31 | Q62: 82 | R62: 66 | S62: 77 | T62: 58 | U62: 0 | V62: 363 | W62: 12 | X62: 46 | Y62: 47 | Z62: 82 | AA62: 11 | AB62: 24 | AC62: 1 | AD62: 11 | AE62: 0 | AF62: 129 | AG62: 363 | AH62: 3 | AI62: 50 | AJ62: 6 | AK62: 26 | AL62: 21 | AM62: 11 | AN62: 4 | AO62: 4 | AP62: 1 | AQ62: 0 | AR62: 68 | AS62: 27 | AT62: 24 | AU62: 36 | AV62: 82 | AW62: 363 | AX62: 326 | AY62: 7 | AZ62: 2 | BA62: 6 | BB62: 0 | BC62: 1 | BD62: 11 | BE62: 4 | BF62: 4 | BG62: 2 | BH62: 108 | BI62: 1 | BJ62: 0 | BK62: 2 | BL62: 5 | BM62: 15 | BN62: 27 | BO62: 26 | BP62: 17 | BQ62: 12 | BR62: 3 | BS62: 108 | BT62: 104 | BU62: 1 | BV62: 0 | BW62: 2 | BX62: 0 | BY62: 1
C63: 其他 Other | D63: 0 | E63: 0 | F63: 0 | G63: 0 | H63: 0 | I63: 0 | J63: 0 | K63: 0 | L63: 0 | M63: 0 | N63: 0 | O63: 0 | P63: 0 | Q63: 0 | R63: 0 | S63: 0 | T63: 0 | U63: 0 | V63: 0 | W63: 0 | X63: 0 | Y63: 0 | Z63: 0 | AA63: 0 | AB63: 0 | AC63: 0 | AD63: 0 | AE63: 0 | AF63: 0 | AG63: 0 | AH63: 0 | AI63: 0 | AJ63: 0 | AK63: 0 | AL63: 0 | AM63: 0 | AN63: 0 | AO63: 0 | AP63: 0 | AQ63: 0 | AR63: 0 | AS63: 0 | AT63: 0 | AU63: 0 | AV63: 0 | AW63: 0 | AX63: 0 | AY63: 0 | AZ63: 0 | BA63: 0 | BB63: 0 | BC63: 0 | BD63: 0 | BE63: 0 | BF63: 0 | BG63: 0 | BH63: 1 | BI63: 0 | BJ63: 0 | BK63: 0 | BL63: 0 | BM63: 0 | BN63: 1 | BO63: 0 | BP63: 0 | BQ63: 0 | BR63: 0 | BS63: 1 | BT63: 0 | BU63: 0 | BV63: 0 | BW63: 0 | BX63: 0 | BY63: 1
B64: 屏東縣 | C64: 計 Total | D64: 943 | E64: 801 | F64: 104 | G64: 8 | H64: 14 | I64: 1 | J64: 15 | K64: 943 | L64: 71 | M64: 52 | N64: 60 | O64: 60 | P64: 58 | Q64: 189 | R64: 173 | S64: 165 | T64: 115 | U64: 0 | V64: 943 | W64: 58 | X64: 84 | Y64: 86 | Z64: 132 | AA64: 18 | AB64: 32 | AC64: 7 | AD64: 9 | AE64: 1 | AF64: 516 | AG64: 943 | AH64: 11 | AI64: 155 | AJ64: 37 | AK64: 38 | AL64: 46 | AM64: 25 | AN64: 3 | AO64: 7 | AP64: 3 | AQ64: 1 | AR64: 70 | AS64: 44 | AT64: 90 | AU64: 38 | AV64: 375 | AW64: 943 | AX64: 845 | AY64: 12 | AZ64: 4 | BA64: 26 | BB64: 1 | BC64: 4 | BD64: 18 | BE64: 7 | BF64: 12 | BG64: 14 | BH64: 908 | BI64: 0 | BJ64: 1 | BK64: 14 | BL64: 46 | BM64: 81 | BN64: 223 | BO64: 244 | BP64: 215 | BQ64: 70 | BR64: 14 | BS64: 908 | BT64: 768 | BU64: 95 | BV64: 1 | BW64: 7 | BX64: 0 | BY64: 37
C65: 男 Male | D65: 282 | E65: 248 | F65: 30 | G65: 0 | H65: 0 | I65: 0 | J65: 4 | K65: 282 | L65: 36 | M65: 21 | N65: 28 | O65: 26 | P65: 9 | Q65: 29 | R65: 41 | S65: 52 | T65: 40 | U65: 0 | V65: 282 | W65: 28 | X65: 27 | Y65: 38 | Z65: 35 | AA65: 4 | AB65: 10 | AC65: 4 | AD65: 0 | AE65: 0 | AF65: 136 | AG65: 282 | AH65: 7 | AI65: 18 | AJ65: 17 | AK65: 16 | AL65: 22 | AM65: 3 | AN65: 0 | AO65: 2 | AP65: 1 | AQ65: 0 | AR65: 1 | AS65: 20 | AT65: 19 | AU65: 9 | AV65: 147 | AW65: 282 | AX65: 241 | AY65: 4 | AZ65: 1 | BA65: 11 | BB65: 1 | BC65: 1 | BD65: 9 | BE65: 3 | BF65: 5 | BG65: 6 | BH65: 715 | BI65: 0 | BJ65: 1 | BK65: 11 | BL65: 36 | BM65: 65 | BN65: 163 | BO65: 202 | BP65: 173 | BQ65: 56 | BR65: 8 | BS65: 715 | BT65: 613 | BU65: 75 | BV65: 0 | BW65: 1 | BX65: 0 | BY65: 26
B66: Pingtung County | C66: 女 Female | D66: 661 | E66: 553 | F66: 74 | G66: 8 | H66: 14 | I66: 1 | J66: 11 | K66: 661 | L66: 35 | M66: 31 | N66: 32 | O66: 34 | P66: 49 | Q66: 160 | R66: 132 | S66: 113 | T66: 75 | U66: 0 | V66: 661 | W66: 30 | X66: 57 | Y66: 48 | Z66: 97 | AA66: 14 | AB66: 22 | AC66: 3 | AD66: 9 | AE66: 1 | AF66: 380 | AG66: 661 | AH66: 4 | AI66: 137 | AJ66: 20 | AK66: 22 | AL66: 24 | AM66: 22 | AN66: 3 | AO66: 5 | AP66: 2 | AQ66: 1 | AR66: 69 | AS66: 24 | AT66: 71 | AU66: 29 | AV66: 228 | AW66: 661 | AX66: 604 | AY66: 8 | AZ66: 3 | BA66: 15 | BB66: 0 | BC66: 3 | BD66: 9 | BE66: 4 | BF66: 7 | BG66: 8 | BH66: 192 | BI66: 0 | BJ66: 0 | BK66: 3 | BL66: 10 | BM66: 16 | BN66: 60 | BO66: 42 | BP66: 42 | BQ66: 14 | BR66: 5 | BS66: 192 | BT66: 155 | BU66: 20 | BV66: 1 | BW66: 6 | BX66: 0 | BY66: 10
C67: 其他 Other | D67: 0 | E67: 0 | F67: 0 | G67: 0 | H67: 0 | I67: 0 | J67: 0 | K67: 0 | L67: 0 | M67: 0 | N67: 0 | O67: 0 | P67: 0 | Q67: 0 | R67: 0 | S67: 0 | T67: 0 | U67: 0 | V67: 0 | W67: 0 | X67: 0 | Y67: 0 | Z67: 0 | AA67: 0 | AB67: 0 | AC67: 0 | AD67: 0 | AE67: 0 | AF67: 0 | AG67: 0 | AH67: 0 | AI67: 0 | AJ67: 0 | AK67: 0 | AL67: 0 | AM67: 0 | AN67: 0 | AO67: 0 | AP67: 0 | AQ67: 0 | AR67: 0 | AS67: 0 | AT67: 0 | AU67: 0 | AV67: 0 | AW67: 0 | AX67: 0 | AY67: 0 | AZ67: 0 | BA67: 0 | BB67: 0 | BC67: 0 | BD67: 0 | BE67: 0 | BF67: 0 | BG67: 0 | BH67: 1 | BI67: 0 | BJ67: 0 | BK67: 0 | BL67: 0 | BM67: 0 | BN67: 0 | BO67: 0 | BP67: 0 | BQ67: 0 | BR67: 1 | BS67: 1 | BT67: 0 | BU67: 0 | BV67: 0 | BW67: 0 | BX67: 0 | BY67: 1
B68: 臺東縣 | C68: 計 Total | D68: 377 | E68: 208 | F68: 165 | G68: 1 | H68: 2 | I68: 0 | J68: 1 | K68: 377 | L68: 21 | M68: 15 | N68: 20 | O68: 26 | P68: 28 | Q68: 71 | R68: 83 | S68: 74 | T68: 39 | U68: 0 | V68: 377 | W68: 22 | X68: 35 | Y68: 60 | Z68: 62 | AA68: 6 | AB68: 14 | AC68: 3 | AD68: 6 | AE68: 0 | AF68: 169 | AG68: 377 | AH68: 2 | AI68: 50 | AJ68: 7 | AK68: 19 | AL68: 24 | AM68: 9 | AN68: 5 | AO68: 4 | AP68: 0 | AQ68: 0 | AR68: 17 | AS68: 15 | AT68: 50 | AU68: 17 | AV68: 158 | AW68: 377 | AX68: 326 | AY68: 11 | AZ68: 3 | BA68: 11 | BB68: 1 | BC68: 1 | BD68: 9 | BE68: 3 | BF68: 11 | BG68: 1 | BH68: 397 | BI68: 0 | BJ68: 0 | BK68: 7 | BL68: 27 | BM68: 42 | BN68: 87 | BO68: 115 | BP68: 101 | BQ68: 15 | BR68: 3 | BS68: 397 | BT68: 225 | BU68: 162 | BV68: 1 | BW68: 1 | BX68: 0 | BY68: 8
C69: 男 Male | D69: 132 | E69: 78 | F69: 54 | G69: 0 | H69: 0 | I69: 0 | J69: 0 | K69: 132 | L69: 14 | M69: 9 | N69: 9 | O69: 11 | P69: 4 | Q69: 17 | R69: 25 | S69: 28 | T69: 15 | U69: 0 | V69: 132 | W69: 14 | X69: 17 | Y69: 18 | Z69: 13 | AA69: 2 | AB69: 7 | AC69: 1 | AD69: 0 | AE69: 0 | AF69: 60 | AG69: 132 | AH69: 1 | AI69: 3 | AJ69: 1 | AK69: 6 | AL69: 14 | AM69: 3 | AN69: 2 | AO69: 2 | AP69: 0 | AQ69: 0 | AR69: 0 | AS69: 7 | AT69: 12 | AU69: 7 | AV69: 74 | AW69: 132 | AX69: 109 | AY69: 6 | AZ69: 2 | BA69: 4 | BB69: 0 | BC69: 0 | BD69: 7 | BE69: 2 | BF69: 2 | BG69: 0 | BH69: 303 | BI69: 0 | BJ69: 0 | BK69: 7 | BL69: 20 | BM69: 31 | BN69: 67 | BO69: 86 | BP69: 79 | BQ69: 12 | BR69: 1 | BS69: 303 | BT69: 176 | BU69: 124 | BV69: 0 | BW69: 1 | BX69: 0 | BY69: 2
B70: Taitung County | C70: 女 Female | D70: 245 | E70: 130 | F70: 111 | G70: 1 | H70: 2 | I70: 0 | J70: 1 | K70: 245 | L70: 7 | M70: 6 | N70: 11 | O70: 15 | P70: 24 | Q70: 54 | R70: 58 | S70: 46 | T70: 24 | U70: 0 | V70: 245 | W70: 8 | X70: 18 | Y70: 42 | Z70: 49 | AA70: 4 | AB70: 7 | AC70: 2 | AD70: 6 | AE70: 0 | AF70: 109 | AG70: 245 | AH70: 1 | AI70: 47 | AJ70: 6 | AK70: 13 | AL70: 10 | AM70: 6 | AN70: 3 | AO70: 2 | AP70: 0 | AQ70: 0 | AR70: 17 | AS70: 8 | AT70: 38 | AU70: 10 | AV70: 84 | AW70: 245 | AX70: 217 | AY70: 5 | AZ70: 1 | BA70: 7 | BB70: 1 | BC70: 1 | BD70: 2 | BE70: 1 | BF70: 9 | BG70: 1 | BH70: 92 | BI70: 0 | BJ70: 0 | BK70: 0 | BL70: 7 | BM70: 11 | BN70: 20 | BO70: 28 | BP70: 22 | BQ70: 3 | BR70: 1 | BS70: 92 | BT70: 48 | BU70: 38 | BV70: 1 | BW70: 0 | BX70: 0 | BY70: 5
C71: 其他 Other | D71: 0 | E71: 0 | F71: 0 | G71: 0 | H71: 0 | I71: 0 | J71: 0 | K71: 0 | L71: 0 | M71: 0 | N71: 0 | O71: 0 | P71: 0 | Q71: 0 | R71: 0 | S71: 0 | T71: 0 | U71: 0 | V71: 0 | W71: 0 | X71: 0 | Y71: 0 | Z71: 0 | AA71: 0 | AB71: 0 | AC71: 0 | AD71: 0 | AE71: 0 | AF71: 0 | AG71: 0 | AH71: 0 | AI71: 0 | AJ71: 0 | AK71: 0 | AL71: 0 | AM71: 0 | AN71: 0 | AO71: 0 | AP71: 0 | AQ71: 0 | AR71: 0 | AS71: 0 | AT71: 0 | AU71: 0 | AV71: 0 | AW71: 0 | AX71: 0 | AY71: 0 | AZ71: 0 | BA71: 0 | BB71: 0 | BC71: 0 | BD71: 0 | BE71: 0 | BF71: 0 | BG71: 0 | BH71: 2 | BI71: 0 | BJ71: 0 | BK71: 0 | BL71: 0 | BM71: 0 | BN71: 0 | BO71: 1 | BP71: 0 | BQ71: 0 | BR71: 1 | BS71: 2 | BT71: 1 | BU71: 0 | BV71: 0 | BW71: 0 | BX71: 0 | BY71: 1
B72: 花蓮縣 | C72: 計 Total | D72: 441 | E72: 240 | F72: 181 | G72: 7 | H72: 4 | I72: 0 | J72: 9 | K72: 441 | L72: 17 | M72: 16 | N72: 14 | O72: 38 | P72: 30 | Q72: 93 | R72: 99 | S72: 84 | T72: 50 | U72: 0 | V72: 441 | W72: 16 | X72: 21 | Y72: 10 | Z72: 44 | AA72: 5 | AB72: 16 | AC72: 1 | AD72: 1 | AE72: 0 | AF72: 327 | AG72: 441 | AH72: 4 | AI72: 78 | AJ72: 12 | AK72: 13 | AL72: 14 | AM72: 5 | AN72: 3 | AO72: 3 | AP72: 1 | AQ72: 0 | AR72: 39 | AS72: 20 | AT72: 58 | AU72: 24 | AV72: 167 | AW72: 441 | AX72: 381 | AY72: 10 | AZ72: 2 | BA72: 7 | BB72: 0 | BC72: 5 | BD72: 19 | BE72: 5 | BF72: 5 | BG72: 7 | BH72: 446 | BI72: 0 | BJ72: 0 | BK72: 8 | BL72: 18 | BM72: 37 | BN72: 100 | BO72: 116 | BP72: 99 | BQ72: 27 | BR72: 41 | BS72: 446 | BT72: 224 | BU72: 155 | BV72: 2 | BW72: 1 | BX72: 0 | BY72: 64
C73: 男 Male | D73: 117 | E73: 73 | F73: 42 | G73: 0 | H73: 0 | I73: 0 | J73: 2 | K73: 117 | L73: 6 | M73: 8 | N73: 7 | O73: 7 | P73: 4 | Q73: 21 | R73: 14 | S73: 27 | T73: 23 | U73: 0 | V73: 117 | W73: 6 | X73: 11 | Y73: 5 | Z73: 9 | AA73: 0 | AB73: 1 | AC73: 0 | AD73: 0 | AE73: 0 | AF73: 85 | AG73: 117 | AH73: 2 | AI73: 8 | AJ73: 4 | AK73: 4 | AL73: 8 | AM73: 0 | AN73: 1 | AO73: 0 | AP73: 1 | AQ73: 0 | AR73: 1 | AS73: 11 | AT73: 13 | AU73: 5 | AV73: 59 | AW73: 117 | AX73: 97 | AY73: 4 | AZ73: 0 | BA73: 1 | BB73: 0 | BC73: 3 | BD73: 8 | BE73: 1 | BF73: 2 | BG73: 1 | BH73: 347 | BI73: 0 | BJ73: 0 | BK73: 5 | BL73: 18 | BM73: 28 | BN73: 75 | BO73: 93 | BP73: 82 | BQ73: 20 | BR73: 26 | BS73: 347 | BT73: 175 | BU73: 124 | BV73: 0 | BW73: 1 | BX73: 0 | BY73: 47
B74: Hualien County | C74: 女 Female | D74: 324 | E74: 167 | F74: 139 | G74: 7 | H74: 4 | I74: 0 | J74: 7 | K74: 324 | L74: 11 | M74: 8 | N74: 7 | O74: 31 | P74: 26 | Q74: 72 | R74: 85 | S74: 57 | T74: 27 | U74: 0 | V74: 324 | W74: 10 | X74: 10 | Y74: 5 | Z74: 35 | AA74: 5 | AB74: 15 | AC74: 1 | AD74: 1 | AE74: 0 | AF74: 242 | AG74: 324 | AH74: 2 | AI74: 70 | AJ74: 8 | AK74: 9 | AL74: 6 | AM74: 5 | AN74: 2 | AO74: 3 | AP74: 0 | AQ74: 0 | AR74: 38 | AS74: 9 | AT74: 45 | AU74: 19 | AV74: 108 | AW74: 324 | AX74: 284 | AY74: 6 | AZ74: 2 | BA74: 6 | BB74: 0 | BC74: 2 | BD74: 11 | BE74: 4 | BF74: 3 | BG74: 6 | BH74: 96 | BI74: 0 | BJ74: 0 | BK74: 3 | BL74: 0 | BM74: 9 | BN74: 25 | BO74: 23 | BP74: 16 | BQ74: 7 | BR74: 13 | BS74: 96 | BT74: 48 | BU74: 31 | BV74: 2 | BW74: 0 | BX74: 0 | BY74: 15
C75: 其他 Other | D75: 0 | E75: 0 | F75: 0 | G75: 0 | H75: 0 | I75: 0 | J75: 0 | K75: 0 | L75: 0 | M75: 0 | N75: 0 | O75: 0 | P75: 0 | Q75: 0 | R75: 0 | S75: 0 | T75: 0 | U75: 0 | V75: 0 | W75: 0 | X75: 0 | Y75: 0 | Z75: 0 | AA75: 0 | AB75: 0 | AC75: 0 | AD75: 0 | AE75: 0 | AF75: 0 | AG75: 0 | AH75: 0 | AI75: 0 | AJ75: 0 | AK75: 0 | AL75: 0 | AM75: 0 | AN75: 0 | AO75: 0 | AP75: 0 | AQ75: 0 | AR75: 0 | AS75: 0 | AT75: 0 | AU75: 0 | AV75: 0 | AW75: 0 | AX75: 0 | AY75: 0 | AZ75: 0 | BA75: 0 | BB75: 0 | BC75: 0 | BD75: 0 | BE75: 0 | BF75: 0 | BG75: 0 | BH75: 3 | BI75: 0 | BJ75: 0 | BK75: 0 | BL75: 0 | BM75: 0 | BN75: 0 | BO75: 0 | BP75: 1 | BQ75: 0 | BR75: 2 | BS75: 3 | BT75: 1 | BU75: 0 | BV75: 0 | BW75: 0 | BX75: 0 | BY75: 2
A76: Penghu County | B76: 澎湖縣 | C76: 計 Total | D76: 88 | E76: 81 | F76: 2 | G76: 2 | H76: 2 | I76: 0 | J76: 1 | K76: 88 | L76: 4 | M76: 7 | N76: 4 | O76: 7 | P76: 8 | Q76: 13 | R76: 17 | S76: 17 | T76: 11 | U76: 0 | V76: 88 | W76: 3 | X76: 12 | Y76: 15 | Z76: 21 | AA76: 3 | AB76: 8 | AC76: 0 | AD76: 4 | AE76: 0 | AF76: 22 | AG76: 88 | AH76: 0 | AI76: 13 | AJ76: 2 | AK76: 3 | AL76: 5 | AM76: 10 | AN76: 3 | AO76: 0 | AP76: 0 | AQ76: 0 | AR76: 6 | AS76: 9 | AT76: 4 | AU76: 10 | AV76: 23 | AW76: 88 | AX76: 77 | AY76: 3 | AZ76: 0 | BA76: 1 | BB76: 0 | BC76: 3 | BD76: 0 | BE76: 0 | BF76: 0 | BG76: 4 | BH76: 85 | BI76: 0 | BJ76: 0 | BK76: 0 | BL76: 5 | BM76: 7 | BN76: 16 | BO76: 19 | BP76: 26 | BQ76: 9 | BR76: 3 | BS76: 85 | BT76: 77 | BU76: 0 | BV76: 0 | BW76: 2 | BX76: 0 | BY76: 6
C77: 男 Male | D77: 28 | E77: 27 | F77: 1 | G77: 0 | H77: 0 | I77: 0 | J77: 0 | K77: 28 | L77: 1 | M77: 3 | N77: 1 | O77: 2 | P77: 2 | Q77: 2 | R77: 8 | S77: 6 | T77: 3 | U77: 0 | V77: 28 | W77: 1 | X77: 4 | Y77: 8 | Z77: 3 | AA77: 1 | AB77: 4 | AC77: 0 | AD77: 1 | AE77: 0 | AF77: 6 | AG77: 28 | AH77: 0 | AI77: 0 | AJ77: 2 | AK77: 2 | AL77: 4 | AM77: 3 | AN77: 2 | AO77: 0 | AP77: 0 | AQ77: 0 | AR77: 0 | AS77: 4 | AT77: 1 | AU77: 3 | AV77: 7 | AW77: 28 | AX77: 25 | AY77: 1 | AZ77: 0 | BA77: 0 | BB77: 0 | BC77: 1 | BD77: 0 | BE77: 0 | BF77: 0 | BG77: 1 | BH77: 57 | BI77: 0 | BJ77: 0 | BK77: 0 | BL77: 5 | BM77: 4 | BN77: 10 | BO77: 12 | BP77: 19 | BQ77: 7 | BR77: 0 | BS77: 57 | BT77: 54 | BU77: 0 | BV77: 0 | BW77: 0 | BX77: 0 | BY77: 3
