Workbook
Name pp: '2005'!$B$1:$K$16
Name pp: '2006'!$B$1:$K$16
Name pp: '2007'!$B$1:$K$16
Name pp: '2008'!$B$1:$K$16
Name pp: '2009'!$B$1:$K$16
Name pp: '2010'!$B$1:$K$16
Name pp: '2011'!$B$1:$K$32
Name pp: '2011~2018'!$B$1:$K$16
Name pp: '2012'!$B$1:$K$32
Name pp: '2013'!$B$1:$K$32
Name pp: '2014'!$B$1:$K$33
Name pp: '2015'!$B$5:$K$36
Name pp: '2016'!$B$5:$K$36
Name pp: '2016Q1'!$B$1:$U$42
Name pp: '2016Q2'!$B$1:$U$42
Name pp: '2016Q3'!$B$1:$U$42
Name pp: '2016Q4'!$B$1:$U$42
Name pp: '2017'!$B$5:$K$36
Name pp: '2017Q1'!$B$1:$U$43
Name pp: '2017Q2'!$B$1:$U$43
Name pp: '2017Q3'!$B$1:$U$43
Name pp: '2017Q4'!$B$1:$U$43
Name pp: '2018'!$B$5:$K$36
Name pp: '2019'!$B$1:$J$37
Name pp: '2019Q1'!$B$1:$T$39
Name pp: '2019Q2'!$B$1:$T$39
Name pp: '2019Q3'!$B$1:$T$39
Name pp: '2019Q4'!$B$1:$T$39
Name pp: '2020'!$B$6:$J$37
Name pp: '歷年(2019~)'!$B$1:$J$10
Name pp: !#REF!

Sheet 歷年(2019~)
A1: 家庭暴力通報案件被害人性別及籍別統計(單位：人數)
A2: 單位：人數 unit:Person
A3: 年 別 Year | C3: 性別 | D3: 被害人數 Victims
D4: 國籍、身分別 By Nationality and Identity
D5: 合計 | E5: 本國籍非原住民 | F5: 本國籍原住民 | G5: 大陸及 港澳籍 | H5: 外國籍 | I5: 無國籍 | J5: 資料 不明
C6: Gender | D6: Total | E6: Non-aboriginal Native | F6: Aboriginal Native | G6: Mainland China and Hong Kong and Macau | H6: Foreign | I6: Stateless | J6: Unknown Information
A7: 108年 2019 | C7: 計 Total | D7: 103930 | E7: 93635 | F7: 5522 | G7: 1231 | H7: 1329 | I7: 28 | J7: 2185
C8: 男 Male | D8: 33498 | E8: 31151 | F8: 1567 | G8: 44 | H8: 126 | I8: 13 | J8: 597
C9: 女 Female | D9: 70362 | E9: 62446 | F9: 3953 | G9: 1187 | H9: 1203 | I9: 15 | J9: 1558
C10: 其他 Other | D10: 70 | E10: 38 | F10: 2 | G10: 0 | H10: 0 | I10: 0 | J10: 30
A11: 109年 2020 | C11: 計 Total | D11: 114381 | E11: 103703 | F11: 5970 | G11: 1193 | H11: 1235 | I11: 17 | J11: 2263
C12: 男 Male | D12: 39225 | E12: 36444 | F12: 1791 | G12: 48 | H12: 142 | I12: 3 | J12: 797
C13: 女 Female | D13: 75083 | E13: 67222 | F13: 4176 | G13: 1143 | H13: 1090 | I13: 14 | J13: 1438
C14: 其他 Other | D14: 73 | E14: 37 | F14: 3 | G14: 2 | H14: 3 | I14: 0 | J14: 28
A15: 110年 2021 | C15: 計 Total | D15: 118532 | E15: 107596 | F15: 6278 | G15: 993 | H15: 1431 | I15: 27 | J15: 2207
C16: 男 Male | D16: 42274 | E16: 39200 | F16: 2062 | G16: 52 | H16: 202 | I16: 13 | J16: 745
C17: 女 Female | D17: 76189 | E17: 68359 | F17: 4212 | G17: 941 | H17: 1228 | I17: 14 | J17: 1435
C18: 其他 Other | D18: 22 | E18: 15 | F18: 0 | G18: 0 | H18: 0 | I18: 0 | J18: 7
C19: 不詳Unknown | D19: 47 | E19: 22 | F19: 4 | G19: 0 | H19: 1 | I19: 0 | J19: 20
A20: 111年 2022 | C20: 計 Total | D20: 123741 | E20: 112769 | F20: 6548 | G20: 935 | H20: 1296 | I20: 25 | J20: 2168
C21: 男 Male | D21: 44773 | E21: 41625 | F21: 2184 | G21: 39 | H21: 199 | I21: 13 | J21: 713
C22: 女 Female | D22: 78903 | E22: 71104 | F22: 4358 | G22: 895 | H22: 1097 | I22: 12 | J22: 1437
C23: 其他 Other | D23: 14 | E23: 9 | F23: 2 | G23: 0 | H23: 0 | I23: 0 | J23: 3
C24: 不詳Unknown | D24: 51 | E24: 31 | F24: 4 | G24: 1 | H24: 0 | I24: 0 | J24: 15
A25: 112年 2023 | C25: 計 Total | D25: 132147 | E25: 120607 | F25: 7006 | G25: 923 | H25: 1357 | I25: 33 | J25: 2221
C26: 男 Male | D26: 48891 | E26: 45489 | F26: 2315 | G26: 61 | H26: 220 | I26: 14 | J26: 792
C27: 女 Female | D27: 83179 | E27: 75062 | F27: 4685 | G27: 862 | H27: 1137 | I27: 19 | J27: 1414
C28: 其他 Other | D28: 13 | E28: 12 | F28: 0 | G28: 0 | H28: 0 | I28: 0 | J28: 1
C29: 不詳Unknown | D29: 64 | E29: 44 | F29: 6 | G29: 0 | H29: 0 | I29: 0 | J29: 14
A30: 113年 2024 | C30: 計 Total | D30: 138859 | E30: 126845 | F30: 7429 | G30: 913 | H30: 1464 | I30: 28 | J30: 2180
C31: 男 Male | D31: 52894 | E31: 49151 | F31: 2548 | G31: 55 | H31: 266 | I31: 15 | J31: 859
C32: 女 Female | D32: 85864 | E32: 77620 | F32: 4874 | G32: 857 | H32: 1197 | I32: 13 | J32: 1303
C33: 其他 Other | D33: 14 | E33: 10 | F33: 1 | G33: 1 | H33: 1 | I33: 0 | J33: 1
C34: 不詳Unknown | D34: 87 | E34: 64 | F34: 6 | G34: 0 | H34: 0 | I34: 0 | J34: 17
A35: 114年 2025 | C35: 計 Total | D35: 146105 | E35: 132473 | F35: 8041 | G35: 900 | H35: 1679 | I35: 25 | J35: 2987
C36: 男 Male | D36: 56855 | E36: 52370 | F36: 2893 | G36: 75 | H36: 312 | I36: 12 | J36: 1193
C37: 女 Female | D37: 89121 | E37: 80008 | F37: 5141 | G37: 824 | H37: 1366 | I37: 13 | J37: 1769
C38: 其他 Other | D38: 13 | E38: 13 | F38: 0 | G38: 0 | H38: 0 | I38: 0 | J38: 0
C39: 不詳Unknown | D39: 116 | E39: 82 | F39: 7 | G39: 1 | H39: 1 | I39: 0 | J39: 25
A40: 資料來源：本部保護服務司。
...

Sheet 2025
A1: 家庭暴力事件通報被害及相對人概況Overview of Victim and Offender Status in Reporting Cases of Domestic Violence
A2: 114年，2025
A3: 單位：人數 unit:Person
A4: 區域別 Locality | C4: 性別 | D4: 國籍、身分別 By Nationality and Identity
D6: 合計 | E6: 本國籍 非原住民 | F6: 本國籍 原住民 | G6: 大陸及 港澳籍 | H6: 外國籍 | I6: 無國籍 | J6: 資料 不明
C7: Gender | D7: Total | E7: Non-aboriginal Native | F7: Aboriginal Native | G7: Mainland China and Hong Kong and Macau | H7: Foreign | I7: Stateless | J7: Unknown Information
A8: 總計 | C8: 計 Total | D8: 146105 | E8: 132473 | F8: 8041 | G8: 900 | H8: 1679 | I8: 25 | J8: 2987
C9: 男 Male | D9: 56855 | E9: 52370 | F9: 2893 | G9: 75 | H9: 312 | I9: 12 | J9: 1193
A10: Total | C10: 女 Female | D10: 89121 | E10: 80008 | F10: 5141 | G10: 824 | H10: 1366 | I10: 13 | J10: 1769
C11: 其他 Other | D11: 13 | E11: 13 | F11: 0 | G11: 0 | H11: 0 | I11: 0 | J11: 0
C12: 不詳Unknown | D12: 116 | E12: 82 | F12: 7 | G12: 1 | H12: 1 | I12: 0 | J12: 25
A13: 新北市 | C13: 計 Total | D13: 24510 | E13: 21765 | F13: 552 | G13: 190 | H13: 320 | I13: 5 | J13: 1678
C14: 男 Male | D14: 9014 | E14: 8051 | F14: 220 | G14: 13 | H14: 59 | I14: 2 | J14: 669
A15: New Taipei City | C15: 女 Female | D15: 15440 | E15: 13679 | F15: 329 | G15: 176 | H15: 261 | I15: 3 | J15: 992
C16: 其他 Other | D16: 2 | E16: 2 | F16: 0 | G16: 0 | H16: 0 | I16: 0 | J16: 0
C17: 不詳Unknown | D17: 54 | E17: 33 | F17: 3 | G17: 1 | H17: 0 | I17: 0 | J17: 17
A18: 臺北市 | C18: 計 Total | D18: 14075 | E18: 13184 | F18: 119 | G18: 134 | H18: 209 | I18: 7 | J18: 422
C19: 男 Male | D19: 5628 | E19: 5322 | F19: 44 | G19: 16 | H19: 69 | I19: 5 | J19: 172
A20: Taipei City | C20: 女 Female | D20: 8426 | E20: 7845 | F20: 75 | G20: 118 | H20: 139 | I20: 2 | J20: 247
C21: 其他 Other | D21: 3 | E21: 3 | F21: 0 | G21: 0 | H21: 0 | I21: 0 | J21: 0
C22: 不詳Unknown | D22: 18 | E22: 14 | F22: 0 | G22: 0 | H22: 1 | I22: 0 | J22: 3
A23: 桃園市 | C23: 計 Total | D23: 15565 | E23: 13551 | F23: 1678 | G23: 83 | H23: 224 | I23: 1 | J23: 28
C24: 男 Male | D24: 6085 | E24: 5379 | F24: 655 | G24: 9 | H24: 32 | I24: 1 | J24: 9
A25: Taoyuan City | C25: 女 Female | D25: 9477 | E25: 8169 | F25: 1023 | G25: 74 | H25: 192 | I25: 0 | J25: 19
C26: 其他 Other | D26: 1 | E26: 1 | F26: 0 | G26: 0 | H26: 0 | I26: 0 | J26: 0
C27: 不詳Unknown | D27: 2 | E27: 2 | F27: 0 | G27: 0 | H27: 0 | I27: 0 | J27: 0
A28: 臺中市 | C28: 計 Total | D28: 19542 | E28: 18254 | F28: 587 | G28: 142 | H28: 239 | I28: 5 | J28: 315
C29: 男 Male | D29: 7821 | E29: 7413 | F29: 222 | G29: 11 | H29: 39 | I29: 2 | J29: 134
A30: Taichung City | C30: 女 Female | D30: 11718 | E30: 10838 | F30: 365 | G30: 131 | H30: 200 | I30: 3 | J30: 181
C31: 其他 Other | D31: 2 | E31: 2 | F31: 0 | G31: 0 | H31: 0 | I31: 0 | J31: 0
C32: 不詳Unknown | D32: 1 | E32: 1 | F32: 0 | G32: 0 | H32: 0 | I32: 0 | J32: 0
A33: 臺南市 | C33: 計 Total | D33: 10228 | E33: 9929 | F33: 172 | G33: 33 | H33: 71 | I33: 0 | J33: 23
C34: 男 Male | D34: 3799 | E34: 3712 | F34: 68 | G34: 3 | H34: 12 | I34: 0 | J34: 4
A35: Tainan City | C35: 女 Female | D35: 6426 | E35: 6214 | F35: 104 | G35: 30 | H35: 59 | I35: 0 | J35: 19
C36: 其他 Other | D36: 0 | E36: 0 | F36: 0 | G36: 0 | H36: 0 | I36: 0 | J36: 0
C37: 不詳Unknown | D37: 3 | E37: 3 | F37: 0 | G37: 0 | H37: 0 | I37: 0 | J37: 0
A38: 高雄市 | C38: 計 Total | D38: 19568 | E38: 18623 | F38: 632 | G38: 97 | H38: 166 | I38: 1 | J38: 49
C39: 男 Male | D39: 7891 | E39: 7608 | F39: 227 | G39: 9 | H39: 34 | I39: 0 | J39: 13
A40: Kaohsiung City | C40: 女 Female | D40: 11676 | E40: 11014 | F40: 405 | G40: 88 | H40: 132 | I40: 1 | J40: 36
C41: 其他 Other | D41: 1 | E41: 1 | F41: 0 | G41: 0 | H41: 0 | I41: 0 | J41: 0
...

Sheet 2024
A1: 家庭暴力通報案件被害人性別及籍別統計(單位：人數)
A2: 113年，2024
A3: 單位：人數 unit:Person
A4: 區域別 Locality | C4: 性別 | D4: 國籍、身分別 By Nationality and Identity
D6: 合計 | E6: 本國籍 非原住民 | F6: 本國籍 原住民 | G6: 大陸及 港澳籍 | H6: 外國籍 | I6: 無國籍 | J6: 資料 不明
C7: Gender | D7: Total | E7: Non-aboriginal Native | F7: Aboriginal Native | G7: Mainland China and Hong Kong and Macau | H7: Foreign | I7: Stateless | J7: Unknown Information
A8: 總計 | C8: 計 Total | D8: 138859 | E8: 126845 | F8: 7429 | G8: 913 | H8: 1464 | I8: 28 | J8: 2180
C9: 男 Male | D9: 52894 | E9: 49151 | F9: 2548 | G9: 55 | H9: 266 | I9: 15 | J9: 859
A10: Total | C10: 女 Female | D10: 85864 | E10: 77620 | F10: 4874 | G10: 857 | H10: 1197 | I10: 13 | J10: 1303
C11: 其他 Other | D11: 14 | E11: 10 | F11: 1 | G11: 1 | H11: 1 | I11: 0 | J11: 1
C12: 不詳Unknown | D12: 87 | E12: 64 | F12: 6 | G12: 0 | H12: 0 | I12: 0 | J12: 17
A13: 新北市 | C13: 計 Total | D13: 23113 | E13: 20908 | F13: 484 | G13: 182 | H13: 266 | I13: 11 | J13: 1262
C14: 男 Male | D14: 8245 | E14: 7534 | F14: 165 | G14: 13 | H14: 37 | I14: 8 | J14: 488
A15: New Taipei City | C15: 女 Female | D15: 14831 | E15: 13348 | F15: 318 | G15: 168 | H15: 228 | I15: 3 | J15: 766
C16: 其他 Other | D16: 4 | E16: 2 | F16: 0 | G16: 1 | H16: 1 | I16: 0 | J16: 0
C17: 不詳Unknown | D17: 33 | E17: 24 | F17: 1 | G17: 0 | H17: 0 | I17: 0 | J17: 8
A18: 臺北市 | C18: 計 Total | D18: 13194 | E18: 12452 | F18: 128 | G18: 121 | H18: 179 | I18: 4 | J18: 310
C19: 男 Male | D19: 5251 | E19: 4995 | F19: 45 | G19: 9 | H19: 68 | I19: 2 | J19: 132
A20: Taipei City | C20: 女 Female | D20: 7928 | E20: 7445 | F20: 83 | G20: 112 | H20: 111 | I20: 2 | J20: 175
C21: 其他 Other | D21: 1 | E21: 0 | F21: 0 | G21: 0 | H21: 0 | I21: 0 | J21: 1
C22: 不詳Unknown | D22: 14 | E22: 12 | F22: 0 | G22: 0 | H22: 0 | I22: 0 | J22: 2
A23: 桃園市 | C23: 計 Total | D23: 14574 | E23: 12747 | F23: 1504 | G23: 90 | H23: 198 | I23: 1 | J23: 34
C24: 男 Male | D24: 5473 | E24: 4873 | F24: 556 | G24: 8 | H24: 28 | I24: 1 | J24: 7
A25: Taoyuan City | C25: 女 Female | D25: 9100 | E25: 7873 | F25: 948 | G25: 82 | H25: 170 | I25: 0 | J25: 27
C26: 其他 Other | D26: 0 | E26: 0 | F26: 0 | G26: 0 | H26: 0 | I26: 0 | J26: 0
C27: 不詳Unknown | D27: 1 | E27: 1 | F27: 0 | G27: 0 | H27: 0 | I27: 0 | J27: 0
A28: 臺中市 | C28: 計 Total | D28: 18668 | E28: 17634 | F28: 526 | G28: 134 | H28: 189 | I28: 3 | J28: 182
C29: 男 Male | D29: 7147 | E29: 6866 | F29: 183 | G29: 5 | H29: 31 | I29: 1 | J29: 61
A30: Taichung City | C30: 女 Female | D30: 11512 | E30: 10763 | F30: 342 | G30: 129 | H30: 158 | I30: 2 | J30: 118
C31: 其他 Other | D31: 2 | E31: 2 | F31: 0 | G31: 0 | H31: 0 | I31: 0 | J31: 0
C32: 不詳Unknown | D32: 7 | E32: 3 | F32: 1 | G32: 0 | H32: 0 | I32: 0 | J32: 3
A33: 臺南市 | C33: 計 Total | D33: 9273 | E33: 8995 | F33: 143 | G33: 39 | H33: 69 | I33: 2 | J33: 25
C34: 男 Male | D34: 3438 | E34: 3365 | F34: 42 | G34: 3 | H34: 15 | I34: 1 | J34: 12
A35: Tainan City | C35: 女 Female | D35: 5832 | E35: 5627 | F35: 101 | G35: 36 | H35: 54 | I35: 1 | J35: 13
C36: 其他 Other | D36: 2 | E36: 2 | F36: 0 | G36: 0 | H36: 0 | I36: 0 | J36: 0
C37: 不詳Unknown | D37: 1 | E37: 1 | F37: 0 | G37: 0 | H37: 0 | I37: 0 | J37: 0
A38: 高雄市 | C38: 計 Total | D38: 18612 | E38: 17806 | F38: 518 | G38: 114 | H38: 145 | I38: 2 | J38: 27
C39: 男 Male | D39: 7507 | E39: 7279 | F39: 175 | G39: 7 | H39: 36 | I39: 0 | J39: 10
A40: Kaohsiung City | C40: 女 Female | D40: 11101 | E40: 10524 | F40: 343 | G40: 107 | H40: 109 | I40: 2 | J40: 16
C41: 其他 Other | D41: 0 | E41: 0 | F41: 0 | G41: 0 | H41: 0 | I41: 0 | J41: 0
...

Sheet 2023
A1: 家庭暴力通報案件被害人性別及籍別統計(單位：人數)
A2: 112年，2023
A3: 單位：人數 unit:Person
A4: 區域別 Locality | C4: 性別 | D4: 國籍、身分別 By Nationality and Identity
D6: 合計 | E6: 本國籍 非原住民 | F6: 本國籍 原住民 | G6: 大陸及 港澳籍 | H6: 外國籍 | I6: 無國籍 | J6: 資料 不明
C7: Gender | D7: Total | E7: Non-aboriginal Native | F7: Aboriginal Native | G7: Mainland China and Hong Kong and Macau | H7: Foreign | I7: Stateless | J7: Unknown Information
A8: 總計 | C8: 計 Total | D8: 132147 | E8: 120607 | F8: 7006 | G8: 923 | H8: 1357 | I8: 33 | J8: 2221
C9: 男 Male | D9: 48891 | E9: 45489 | F9: 2315 | G9: 61 | H9: 220 | I9: 14 | J9: 792
A10: Total | C10: 女 Female | D10: 83179 | E10: 75062 | F10: 4685 | G10: 862 | H10: 1137 | I10: 19 | J10: 1414
C11: 其他 Other | D11: 13 | E11: 12 | F11: 0 | G11: 0 | H11: 0 | I11: 0 | J11: 1
C12: 不詳Unknown | D12: 64 | E12: 44 | F12: 6 | G12: 0 | H12: 0 | I12: 0 | J12: 14
A13: 新北市 | C13: 計 Total | D13: 21299 | E13: 19119 | F13: 400 | G13: 191 | H13: 258 | I13: 6 | J13: 1325
C14: 男 Male | D14: 7238 | E14: 6585 | F14: 149 | G14: 18 | H14: 32 | I14: 4 | J14: 450
A15: New Taipei City | C15: 女 Female | D15: 14029 | E15: 12511 | F15: 249 | G15: 173 | H15: 226 | I15: 2 | J15: 868
C16: 其他 Other | D16: 7 | E16: 7 | F16: 0 | G16: 0 | H16: 0 | I16: 0 | J16: 0
C17: 不詳Unknown | D17: 25 | E17: 16 | F17: 2 | G17: 0 | H17: 0 | I17: 0 | J17: 7
A18: 臺北市 | C18: 計 Total | D18: 12759 | E18: 12021 | F18: 147 | G18: 121 | H18: 176 | I18: 2 | J18: 292
C19: 男 Male | D19: 4911 | E19: 4681 | F19: 48 | G19: 7 | H19: 60 | I19: 1 | J19: 114
A20: Taipei City | C20: 女 Female | D20: 7832 | E20: 7326 | F20: 99 | G20: 114 | H20: 116 | I20: 1 | J20: 176
C21: 其他 Other | D21: 3 | E21: 3 | F21: 0 | G21: 0 | H21: 0 | I21: 0 | J21: 0
C22: 不詳Unknown | D22: 13 | E22: 11 | F22: 0 | G22: 0 | H22: 0 | I22: 0 | J22: 2
A23: 桃園市 | C23: 計 Total | D23: 13500 | E23: 11873 | F23: 1351 | G23: 88 | H23: 160 | I23: 2 | J23: 26
C24: 男 Male | D24: 5033 | E24: 4513 | F24: 484 | G24: 10 | H24: 20 | I24: 0 | J24: 6
A25: Taoyuan City | C25: 女 Female | D25: 8464 | E25: 7357 | F25: 867 | G25: 78 | H25: 140 | I25: 2 | J25: 20
C26: 其他 Other | D26: 0 | E26: 0 | F26: 0 | G26: 0 | H26: 0 | I26: 0 | J26: 0
C27: 不詳Unknown | D27: 3 | E27: 3 | F27: 0 | G27: 0 | H27: 0 | I27: 0 | J27: 0
A28: 臺中市 | C28: 計 Total | D28: 18463 | E28: 17391 | F28: 574 | G28: 127 | H28: 142 | I28: 7 | J28: 222
C29: 男 Male | D29: 6992 | E29: 6677 | F29: 196 | G29: 4 | H29: 21 | I29: 4 | J29: 90
A30: Taichung City | C30: 女 Female | D30: 11469 | E30: 10713 | F30: 378 | G30: 123 | H30: 121 | I30: 3 | J30: 131
C31: 其他 Other | D31: 1 | E31: 0 | F31: 0 | G31: 0 | H31: 0 | I31: 0 | J31: 1
C32: 不詳Unknown | D32: 1 | E32: 1 | F32: 0 | G32: 0 | H32: 0 | I32: 0 | J32: 0
A33: 臺南市 | C33: 計 Total | D33: 8779 | E33: 8515 | F33: 142 | G33: 40 | H33: 61 | I33: 0 | J33: 21
C34: 男 Male | D34: 3047 | E34: 2991 | F34: 38 | G34: 1 | H34: 7 | I34: 0 | J34: 10
A35: Tainan City | C35: 女 Female | D35: 5731 | E35: 5523 | F35: 104 | G35: 39 | H35: 54 | I35: 0 | J35: 11
C36: 其他 Other | D36: 0 | E36: 0 | F36: 0 | G36: 0 | H36: 0 | I36: 0 | J36: 0
C37: 不詳Unknown | D37: 1 | E37: 1 | F37: 0 | G37: 0 | H37: 0 | I37: 0 | J37: 0
A38: 高雄市 | C38: 計 Total | D38: 17824 | E38: 17045 | F38: 490 | G38: 101 | H38: 149 | I38: 2 | J38: 37
C39: 男 Male | D39: 6997 | E39: 6783 | F39: 172 | G39: 6 | H39: 26 | I39: 0 | J39: 10
A40: Kaohsiung City | C40: 女 Female | D40: 10825 | E40: 10260 | F40: 318 | G40: 95 | H40: 123 | I40: 2 | J40: 27
C41: 其他 Other | D41: 1 | E41: 1 | F41: 0 | G41: 0 | H41: 0 | I41: 0 | J41: 0
...

Sheet 2022
A1: 家庭暴力通報案件被害人性別及籍別統計(單位：人數)
A2: 111年，2022
A3: 單位：人數 unit:Person
A4: 區域別 Locality | C4: 性別 | D4: 國籍、身分別 By Nationality and Identity
D6: 合計 | E6: 本國籍 非原住民 | F6: 本國籍 原住民 | G6: 大陸及 港澳籍 | H6: 外國籍 | I6: 無國籍 | J6: 資料 不明
C7: Gender | D7: Total | E7: Non-aboriginal Native | F7: Aboriginal Native | G7: Mainland China and Hong Kong and Macau | H7: Foreign | I7: Stateless | J7: Unknown Information
A8: 總計 | C8: 計 Total | D8: 123741 | E8: 112769 | F8: 6548 | G8: 935 | H8: 1296 | I8: 25 | J8: 2168
C9: 男 Male | D9: 44773 | E9: 41625 | F9: 2184 | G9: 39 | H9: 199 | I9: 13 | J9: 713
A10: Total | C10: 女 Female | D10: 78903 | E10: 71104 | F10: 4358 | G10: 895 | H10: 1097 | I10: 12 | J10: 1437
C11: 其他 Other | D11: 14 | E11: 9 | F11: 2 | G11: 0 | H11: 0 | I11: 0 | J11: 3
C12: 不詳Unknown | D12: 51 | E12: 31 | F12: 4 | G12: 1 | H12: 0 | I12: 0 | J12: 15
A13: 新北市 | C13: 計 Total | D13: 19774 | E13: 17732 | F13: 396 | G13: 185 | H13: 233 | I13: 2 | J13: 1226
C14: 男 Male | D14: 6464 | E14: 5889 | F14: 150 | G14: 4 | H14: 32 | I14: 1 | J14: 388
A15: New Taipei City | C15: 女 Female | D15: 13274 | E15: 11822 | F15: 245 | G15: 180 | H15: 201 | I15: 1 | J15: 825
C16: 其他 Other | D16: 7 | E16: 4 | F16: 0 | G16: 0 | H16: 0 | I16: 0 | J16: 3
C17: 不詳Unknown | D17: 29 | E17: 17 | F17: 1 | G17: 1 | H17: 0 | I17: 0 | J17: 10
A18: 臺北市 | C18: 計 Total | D18: 12194 | E18: 11489 | F18: 139 | G18: 99 | H18: 143 | I18: 3 | J18: 321
C19: 男 Male | D19: 4717 | E19: 4491 | F19: 52 | G19: 11 | H19: 54 | I19: 2 | J19: 107
A20: Taipei City | C20: 女 Female | D20: 7473 | E20: 6995 | F20: 87 | G20: 88 | H20: 89 | I20: 1 | J20: 213
C21: 其他 Other | D21: 1 | E21: 1 | F21: 0 | G21: 0 | H21: 0 | I21: 0 | J21: 0
C22: 不詳Unknown | D22: 3 | E22: 2 | F22: 0 | G22: 0 | H22: 0 | I22: 0 | J22: 1
A23: 桃園市 | C23: 計 Total | D23: 12410 | E23: 10934 | F23: 1216 | G23: 74 | H23: 149 | I23: 2 | J23: 35
C24: 男 Male | D24: 4389 | E24: 3952 | F24: 405 | G24: 2 | H24: 19 | I24: 2 | J24: 9
A25: Taoyuan City | C25: 女 Female | D25: 8018 | E25: 6980 | F25: 810 | G25: 72 | H25: 130 | I25: 0 | J25: 26
C26: 其他 Other | D26: 1 | E26: 0 | F26: 1 | G26: 0 | H26: 0 | I26: 0 | J26: 0
C27: 不詳Unknown | D27: 2 | E27: 2 | F27: 0 | G27: 0 | H27: 0 | I27: 0 | J27: 0
A28: 臺中市 | C28: 計 Total | D28: 17446 | E28: 16350 | F28: 513 | G28: 140 | H28: 219 | I28: 3 | J28: 221
C29: 男 Male | D29: 6624 | E29: 6302 | F29: 196 | G29: 1 | H29: 36 | I29: 3 | J29: 86
A30: Taichung City | C30: 女 Female | D30: 10816 | E30: 10043 | F30: 316 | G30: 139 | H30: 183 | I30: 0 | J30: 135
C31: 其他 Other | D31: 4 | E31: 3 | F31: 1 | G31: 0 | H31: 0 | I31: 0 | J31: 0
C32: 不詳Unknown | D32: 2 | E32: 2 | F32: 0 | G32: 0 | H32: 0 | I32: 0 | J32: 0
A33: 臺南市 | C33: 計 Total | D33: 8059 | E33: 7808 | F33: 129 | G33: 46 | H33: 64 | I33: 0 | J33: 12
C34: 男 Male | D34: 2759 | E34: 2711 | F34: 37 | G34: 3 | H34: 6 | I34: 0 | J34: 2
A35: Tainan City | C35: 女 Female | D35: 5300 | E35: 5097 | F35: 92 | G35: 43 | H35: 58 | I35: 0 | J35: 10
C36: 其他 Other | D36: 0 | E36: 0 | F36: 0 | G36: 0 | H36: 0 | I36: 0 | J36: 0
C37: 不詳Unknown | D37: 0 | E37: 0 | F37: 0 | G37: 0 | H37: 0 | I37: 0 | J37: 0
A38: 高雄市 | C38: 計 Total | D38: 17217 | E38: 16475 | F38: 460 | G38: 103 | H38: 97 | I38: 3 | J38: 79
C39: 男 Male | D39: 6693 | E39: 6486 | F39: 160 | G39: 6 | H39: 17 | I39: 1 | J39: 23
A40: Kaohsiung City | C40: 女 Female | D40: 10521 | E40: 9987 | F40: 300 | G40: 97 | H40: 80 | I40: 2 | J40: 55
C41: 其他 Other | D41: 1 | E41: 1 | F41: 0 | G41: 0 | H41: 0 | I41: 0 | J41: 0
...

Sheet 2021
A1: 家庭暴力通報案件被害人性別及籍別統計(單位：人數)
A2: 110年，2021
A3: 單位：人數 unit:Person
A4: 區域別 Locality | C4: 性別 | D4: 國籍、身分別 By Nationality and Identity
D6: 合計 | E6: 本國籍 非原住民 | F6: 本國籍 原住民 | G6: 大陸及 港澳籍 | H6: 外國籍 | I6: 無國籍 | J6: 資料 不明
C7: Gender | D7: Total | E7: Non-aboriginal Native | F7: Aboriginal Native | G7: Mainland China and Hong Kong and Macau | H7: Foreign | I7: Stateless | J7: Unknown Information
A8: 總計 | C8: 計 Total | D8: 118532 | E8: 107596 | F8: 6278 | G8: 993 | H8: 1431 | I8: 27 | J8: 2207
C9: 男 Male | D9: 42274 | E9: 39200 | F9: 2062 | G9: 52 | H9: 202 | I9: 13 | J9: 745
A10: Total | C10: 女 Female | D10: 76189 | E10: 68359 | F10: 4212 | G10: 941 | H10: 1228 | I10: 14 | J10: 1435
C11: 其他 Other | D11: 22 | E11: 15 | F11: 0 | G11: 0 | H11: 0 | I11: 0 | J11: 7
C12: 不詳Unknown | D12: 47 | E12: 22 | F12: 4 | G12: 0 | H12: 1 | I12: 0 | J12: 20
A13: 新北市 | C13: 計 Total | D13: 18921 | E13: 16758 | F13: 399 | G13: 219 | H13: 249 | I13: 4 | J13: 1292
C14: 男 Male | D14: 6176 | E14: 5570 | F14: 148 | G14: 5 | H14: 24 | I14: 0 | J14: 429
A15: New Taipei City | C15: 女 Female | D15: 12720 | E15: 11175 | F15: 251 | G15: 214 | H15: 225 | I15: 4 | J15: 851
C16: 其他 Other | D16: 2 | E16: 0 | F16: 0 | G16: 0 | H16: 0 | I16: 0 | J16: 2
C17: 不詳Unknown | D17: 23 | E17: 13 | F17: 0 | G17: 0 | H17: 0 | I17: 0 | J17: 10
A18: 臺北市 | C18: 計 Total | D18: 12216 | E18: 11545 | F18: 112 | G18: 123 | H18: 167 | I18: 1 | J18: 268
C19: 男 Male | D19: 4699 | E19: 4498 | F19: 42 | G19: 15 | H19: 58 | I19: 1 | J19: 85
A20: Taipei City | C20: 女 Female | D20: 7515 | E20: 7045 | F20: 70 | G20: 108 | H20: 109 | I20: 0 | J20: 183
C21: 其他 Other | D21: 1 | E21: 1 | F21: 0 | G21: 0 | H21: 0 | I21: 0 | J21: 0
C22: 不詳Unknown | D22: 1 | E22: 1 | F22: 0 | G22: 0 | H22: 0 | I22: 0 | J22: 0
A23: 桃園市 | C23: 計 Total | D23: 11552 | E23: 10199 | F23: 1067 | G23: 82 | H23: 157 | I23: 1 | J23: 46
C24: 男 Male | D24: 4114 | E24: 3743 | F24: 339 | G24: 5 | H24: 19 | I24: 0 | J24: 8
A25: Taoyuan City | C25: 女 Female | D25: 7436 | E25: 6454 | F25: 728 | G25: 77 | H25: 138 | I25: 1 | J25: 38
C26: 其他 Other | D26: 2 | E26: 2 | F26: 0 | G26: 0 | H26: 0 | I26: 0 | J26: 0
C27: 不詳Unknown | D27: 0 | E27: 0 | F27: 0 | G27: 0 | H27: 0 | I27: 0 | J27: 0
A28: 臺中市 | C28: 計 Total | D28: 16229 | E28: 15189 | F28: 502 | G28: 133 | H28: 213 | I28: 7 | J28: 185
C29: 男 Male | D29: 6014 | E29: 5732 | F29: 178 | G29: 5 | H29: 29 | I29: 6 | J29: 64
A30: Taichung City | C30: 女 Female | D30: 10206 | E30: 9455 | F30: 324 | G30: 128 | H30: 183 | I30: 1 | J30: 115
C31: 其他 Other | D31: 3 | E31: 1 | F31: 0 | G31: 0 | H31: 0 | I31: 0 | J31: 2
C32: 不詳Unknown | D32: 6 | E32: 1 | F32: 0 | G32: 0 | H32: 1 | I32: 0 | J32: 4
A33: 臺南市 | C33: 計 Total | D33: 7670 | E33: 7395 | F33: 122 | G33: 52 | H33: 75 | I33: 0 | J33: 26
C34: 男 Male | D34: 2601 | E34: 2545 | F34: 40 | G34: 2 | H34: 6 | I34: 0 | J34: 8
A35: Tainan City | C35: 女 Female | D35: 5066 | E35: 4848 | F35: 82 | G35: 50 | H35: 69 | I35: 0 | J35: 17
C36: 其他 Other | D36: 2 | E36: 1 | F36: 0 | G36: 0 | H36: 0 | I36: 0 | J36: 1
C37: 不詳Unknown | D37: 1 | E37: 1 | F37: 0 | G37: 0 | H37: 0 | I37: 0 | J37: 0
A38: 高雄市 | C38: 計 Total | D38: 16972 | E38: 16166 | F38: 475 | G38: 105 | H38: 135 | I38: 3 | J38: 88
C39: 男 Male | D39: 6539 | E39: 6298 | F39: 165 | G39: 8 | H39: 31 | I39: 1 | J39: 36
A40: Kaohsiung City | C40: 女 Female | D40: 10422 | E40: 9862 | F40: 309 | G40: 97 | H40: 104 | I40: 2 | J40: 48
C41: 其他 Other | D41: 4 | E41: 4 | F41: 0 | G41: 0 | H41: 0 | I41: 0 | J41: 0
...

Sheet 2020
A1: 家庭暴力通報案件被害人性別及籍別統計(單位：人數)
A2: 108年，2019
A3: 區域別 Locality | C3: 性別 | D3: 國籍、身分別 By Nationality and Identity
D4: 合計 | E4: 本國籍 非原住民 | F4: 本國籍 原住民 | G4: 大陸及 港澳籍 | H4: 外國籍 | I4: 無國籍 | J4: 資料 不明
C5: Gender | D5: Total | E5: Non-aboriginal Native | F5: Aboriginal Native | G5: Mainland China and Hong Kong and Macau | H5: Foreign | I5: Stateless | J5: Unknown Information
A6: 總計 | C6: 計 Total | D6: 114381 | E6: 103703 | F6: 5970 | G6: 1193 | H6: 1235 | I6: 17 | J6: 2263
C7: 男 Male | D7: 39225 | E7: 36444 | F7: 1791 | G7: 48 | H7: 142 | I7: 3 | J7: 797
A8: Total | C8: 女 Female | D8: 75083 | E8: 67222 | F8: 4176 | G8: 1143 | H8: 1090 | I8: 14 | J8: 1438
C9: 其他 Other | D9: 73 | E9: 37 | F9: 3 | G9: 2 | H9: 3 | I9: 0 | J9: 28
A10: 新北市 | C10: 計 Total | D10: 18954 | E10: 16899 | F10: 354 | G10: 241 | H10: 248 | I10: 6 | J10: 1206
C11: 男 Male | D11: 5889 | E11: 5318 | F11: 116 | G11: 9 | H11: 22 | I11: 1 | J11: 423
A12: New Taipei City | C12: 女 Female | D12: 13041 | E12: 11572 | F12: 236 | G12: 232 | H12: 225 | I12: 5 | J12: 771
C13: 其他 Other | D13: 24 | E13: 9 | F13: 2 | G13: 0 | H13: 1 | I13: 0 | J13: 12
A14: 臺北市 | C14: 計 Total | D14: 12520 | E14: 11829 | F14: 109 | G14: 153 | H14: 157 | I14: 2 | J14: 270
C15: 男 Male | D15: 4727 | E15: 4520 | F15: 44 | G15: 13 | H15: 60 | I15: 0 | J15: 90
A16: Taipei City | C16: 女 Female | D16: 7784 | E16: 7303 | F16: 65 | G16: 140 | H16: 97 | I16: 2 | J16: 177
C17: 其他 Other | D17: 9 | E17: 6 | F17: 0 | G17: 0 | H17: 0 | I17: 0 | J17: 3
A18: 桃園市 | C18: 計 Total | D18: 11146 | E18: 9892 | F18: 984 | G18: 95 | H18: 144 | I18: 0 | J18: 31
C19: 男 Male | D19: 3807 | E19: 3483 | F19: 303 | G19: 2 | H19: 13 | I19: 0 | J19: 6
A20: Taoyuan City | C20: 女 Female | D20: 7339 | E20: 6409 | F20: 681 | G20: 93 | H20: 131 | I20: 0 | J20: 25
C21: 其他 Other | D21: 0 | E21: 0 | F21: 0 | G21: 0 | H21: 0 | I21: 0 | J21: 0
A22: 臺中市 | C22: 計 Total | D22: 15611 | E22: 14512 | F22: 470 | G22: 185 | H22: 190 | I22: 3 | J22: 251
C23: 男 Male | D23: 5553 | E23: 5282 | F23: 160 | G23: 7 | H23: 10 | I23: 1 | J23: 93
A24: Taichung City | C24: 女 Female | D24: 10048 | E24: 9225 | F24: 309 | G24: 178 | H24: 180 | I24: 2 | J24: 154
C25: 其他 Other | D25: 10 | E25: 5 | F25: 1 | G25: 0 | H25: 0 | I25: 0 | J25: 4
A26: 臺南市 | C26: 計 Total | D26: 7249 | E26: 6984 | F26: 120 | G26: 54 | H26: 58 | I26: 1 | J26: 32
C27: 男 Male | D27: 2401 | E27: 2356 | F27: 28 | G27: 4 | H27: 2 | I27: 0 | J27: 11
A28: Tainan City | C28: 女 Female | D28: 4845 | E28: 4627 | F28: 92 | G28: 49 | H28: 56 | I28: 1 | J28: 20
C29: 其他 Other | D29: 3 | E29: 1 | F29: 0 | G29: 1 | H29: 0 | I29: 0 | J29: 1
A30: 高雄市 | C30: 計 Total | D30: 15304 | E30: 14567 | F30: 402 | G30: 120 | H30: 88 | I30: 1 | J30: 126
C31: 男 Male | D31: 5662 | E31: 5478 | F31: 124 | G31: 5 | H31: 7 | I31: 0 | J31: 48
A32: Kaohsiung City | C32: 女 Female | D32: 9631 | E32: 9082 | F32: 278 | G32: 115 | H32: 81 | I32: 1 | J32: 74
C33: 其他 Other | D33: 11 | E33: 7 | F33: 0 | G33: 0 | H33: 0 | I33: 0 | J33: 4
B34: 宜蘭縣 | C34: 計 Total | D34: 1813 | E34: 1586 | F34: 156 | G34: 32 | H34: 22 | I34: 0 | J34: 17
C35: 男 Male | D35: 577 | E35: 530 | F35: 43 | G35: 0 | H35: 1 | I35: 0 | J35: 3
B36: Yilan County | C36: 女 Female | D36: 1234 | E36: 1054 | F36: 113 | G36: 32 | H36: 21 | I36: 0 | J36: 14
C37: 其他 Other | D37: 2 | E37: 2 | F37: 0 | G37: 0 | H37: 0 | I37: 0 | J37: 0
B38: 新竹縣 | C38: 計 Total | D38: 2366 | E38: 1980 | F38: 291 | G38: 27 | H38: 35 | I38: 1 | J38: 32
C39: 男 Male | D39: 773 | E39: 666 | F39: 93 | G39: 1 | H39: 4 | I39: 0 | J39: 9
B40: Hsinchu County | C40: 女 Female | D40: 1592 | E40: 1314 | F40: 198 | G40: 26 | H40: 31 | I40: 1 | J40: 22
...

Sheet 2019
A1: 家庭暴力通報案件被害人性別及籍別統計(單位：人數)
A2: 108年，2019
A3: 區域別 Locality | C3: 性別 | D3: 國籍、身分別 By Nationality and Identity
D4: 合計 | E4: 本國籍 非原住民 | F4: 本國籍 原住民 | G4: 大陸及 港澳籍 | H4: 外國籍 | I4: 無國籍 | J4: 資料 不明
C5: Gender | D5: Total | E5: Non-aboriginal Native | F5: Aboriginal Native | G5: Mainland China and Hong Kong and Macau | H5: Foreign | I5: Stateless | J5: Unknown Information
A6: 總計 | C6: 計 Total | D6: 103930 | E6: 93635 | F6: 5522 | G6: 1231 | H6: 1329 | I6: 28 | J6: 2185
C7: 男 Male | D7: 33498 | E7: 31151 | F7: 1567 | G7: 44 | H7: 126 | I7: 13 | J7: 597
A8: Total | C8: 女 Female | D8: 70362 | E8: 62446 | F8: 3953 | G8: 1187 | H8: 1203 | I8: 15 | J8: 1558
C9: 其他 Other | D9: 70 | E9: 38 | F9: 2 | G9: 0 | H9: 0 | I9: 0 | J9: 30
A10: 新北市 | C10: 計 Total | D10: 16723 | E10: 14977 | F10: 401 | G10: 253 | H10: 257 | I10: 1 | J10: 834
C11: 男 Male | D11: 4654 | E11: 4310 | F11: 102 | G11: 11 | H11: 24 | I11: 0 | J11: 207
A12: New Taipei City | C12: 女 Female | D12: 12048 | E12: 10657 | F12: 299 | G12: 242 | H12: 233 | I12: 1 | J12: 616
C13: 其他 Other | D13: 21 | E13: 10 | F13: 0 | G13: 0 | H13: 0 | I13: 0 | J13: 11
A14: 臺北市 | C14: 計 Total | D14: 11581 | E14: 10908 | F14: 134 | G14: 149 | H14: 137 | I14: 4 | J14: 249
C15: 男 Male | D15: 4060 | E15: 3900 | F15: 51 | G15: 6 | H15: 34 | I15: 3 | J15: 66
A16: Taipei City | C16: 女 Female | D16: 7517 | E16: 7004 | F16: 83 | G16: 143 | H16: 103 | I16: 1 | J16: 183
C17: 其他 Other | D17: 4 | E17: 4 | F17: 0 | G17: 0 | H17: 0 | I17: 0 | J17: 0
A18: 桃園市 | C18: 計 Total | D18: 9615 | E18: 8425 | F18: 822 | G18: 115 | H18: 143 | I18: 1 | J18: 109
C19: 男 Male | D19: 3044 | E19: 2763 | F19: 244 | G19: 6 | H19: 12 | I19: 0 | J19: 19
A20: Taoyuan City | C20: 女 Female | D20: 6566 | E20: 5659 | F20: 578 | G20: 109 | H20: 131 | I20: 1 | J20: 88
C21: 其他 Other | D21: 5 | E21: 3 | F21: 0 | G21: 0 | H21: 0 | I21: 0 | J21: 2
A22: 臺中市 | C22: 計 Total | D22: 14337 | E22: 13009 | F22: 529 | G22: 242 | H22: 249 | I22: 5 | J22: 303
C23: 男 Male | D23: 4845 | E23: 4562 | F23: 164 | G23: 5 | H23: 30 | I23: 3 | J23: 81
A24: Taichung City | C24: 女 Female | D24: 9480 | E24: 8441 | F24: 365 | G24: 237 | H24: 219 | I24: 2 | J24: 216
C25: 其他 Other | D25: 12 | E25: 6 | F25: 0 | G25: 0 | H25: 0 | I25: 0 | J25: 6
A26: 臺南市 | C26: 計 Total | D26: 6550 | E26: 6305 | F26: 95 | G26: 55 | H26: 52 | I26: 2 | J26: 41
C27: 男 Male | D27: 1999 | E27: 1956 | F27: 23 | G27: 1 | H27: 2 | I27: 2 | J27: 15
A28: Tainan City | C28: 女 Female | D28: 4549 | E28: 4349 | F28: 72 | G28: 54 | H28: 50 | I28: 0 | J28: 24
C29: 其他 Other | D29: 2 | E29: 0 | F29: 0 | G29: 0 | H29: 0 | I29: 0 | J29: 2
A30: 高雄市 | C30: 計 Total | D30: 14111 | E30: 13307 | F30: 444 | G30: 104 | H30: 100 | I30: 3 | J30: 153
C31: 男 Male | D31: 5052 | E31: 4849 | F31: 141 | G31: 8 | H31: 10 | I31: 1 | J31: 43
A32: Kaohsiung City | C32: 女 Female | D32: 9050 | E32: 8454 | F32: 303 | G32: 96 | H32: 90 | I32: 2 | J32: 105
C33: 其他 Other | D33: 9 | E33: 4 | F33: 0 | G33: 0 | H33: 0 | I33: 0 | J33: 5
B34: 宜蘭縣 | C34: 計 Total | D34: 1545 | E34: 1379 | F34: 125 | G34: 16 | H34: 19 | I34: 0 | J34: 6
C35: 男 Male | D35: 443 | E35: 407 | F35: 33 | G35: 1 | H35: 0 | I35: 0 | J35: 2
B36: Yilan County | C36: 女 Female | D36: 1101 | E36: 971 | F36: 92 | G36: 15 | H36: 19 | I36: 0 | J36: 4
C37: 其他 Other | D37: 1 | E37: 1 | F37: 0 | G37: 0 | H37: 0 | I37: 0 | J37: 0
B38: 新竹縣 | C38: 計 Total | D38: 2206 | E38: 1861 | F38: 275 | G38: 14 | H38: 26 | I38: 2 | J38: 28
C39: 男 Male | D39: 667 | E39: 577 | F39: 76 | G39: 1 | H39: 1 | I39: 1 | J39: 11
B40: Hsinchu County | C40: 女 Female | D40: 1536 | E40: 1282 | F40: 199 | G40: 13 | H40: 25 | I40: 1 | J40: 16
...

Sheet 2019Q4
A1: 家庭暴力事件通報被害及相對人概況Overview of Victim and Offender Status in Reporting Cases of Domestic Violence
A2: 108年第4季，2019Q4
A3: 單位：人數 unit:Person
A4: 區域別 Locality | C4: 性別 | D4: 被害人數 Victims | BH4: 相對人人數
D5: 國籍、身分別 By Nationality and Identity | K5: 年齡別 By Age | V5: 教育程度別 By Education | AG5: 職業別 By Occupation | AW5: 身心障礙別 By Disability | BH5: 年齡別 By Age | BS5: 國籍、身分別 By Nationality and Identity
D6: 合計 | E6: 本國籍 非原住民 | F6: 本國籍 原住民 | G6: 大陸及 港澳籍 | H6: 外國籍 | I6: 無國籍 | J6: 資料 不明 | K6: 合計 | L6: 0-未滿6歲 | M6: 6-未滿12歲 | N6: 12-未滿18歲 | O6: 18-未滿24歲 | P6: 24-未滿30歲 | Q6: 30-未滿40歲 | R6: 40-未滿50歲 | S6: 50-未滿65歲 | T6: 65歲 以上 | U6: 不詳 | V6: 合計 | W6: 學齡前 | X6: 國小 | Y6: 國中 | Z6: 高中(職) | AA6: 專科 | AB6: 大學 | AC6: 研究所 以上 | AD6: 不識字 | AE6: 自修 | AF6: 不詳 | AG6: 合計 | AH6: 學生 | AI6: 服務業 | AJ6: 專門 職業 | AK6: 農林 漁牧 | AL6: 工礦業 | AM6: 商業 | AN6: 公 | AO6: 教 | AP6: 軍 | AQ6: 警 | AR6: 家庭 管理 | AS6: 退休 | AT6: 無工作 | AU6: 其他 | AV6: 不詳 | AW6: 合計 | AX6: 非身心 障礙 | AY6: 智障 | AZ6: 視障 | BA6: 精神 病患 | BB6: 聲(語)障 | BC6: 聽障 | BD6: 肢障 | BE6: 多重 障礙 | BF6: 其他 障礙 | BG6: 不詳 | BH6: 合計 | BI6: 0-未滿6歲 | BJ6: 6-未滿12歲 | BK6: 12-未滿18歲 | BL6: 18-未滿24歲 | BM6: 24-未滿30歲 | BN6: 30-未滿40歲 | BO6: 40-未滿50歲 | BP6: 50-未滿65歲 | BQ6: 65歲 以上 | BR6: 不詳 | BS6: 合計 | BT6: 本國籍非原住民 | BU6: 本國籍原住民 | BV6: 大陸及 港澳籍 | BW6: 外國籍 | BX6: 無國籍 | BY6: 資料 不明
C7: Gender | D7: Total | E7: Non-aboriginal Native | F7: Aboriginal Native | G7: Mainland China and Hong Kong and Macau | H7: Foreign | I7: Stateless | J7: Unknown Information | K7: Total | L7: Under 6 Years | M7: 6-Under 12 Years | N7: 12-Under 18 Years | O7: 18-Under 2 Years | P7: 24-Under 30 Years | Q7: 30-Under 40 Years | R7: 40-Under 50 Years | S7: 50-Under 65 Years | T7: Above 65 Years | U7: Unknown | V7: Total | W7: Preschool | X7: Primary School | Y7: Junior High School | Z7: Senior High School (Vocational High School) | AA7: Junior College | AB7: University | AC7: Graduate School and Above | AD7: Illiterate | AE7: Self-taught | AF7: Unknown | AG7: Total | AH7: Student | AI7: Service Industry | AJ7: Professional | AK7: Agriculture, Forestry, Fishery and Animal Husbandry | AL7: Mining Industry | AM7: Business | AR7: Homemaker | AS7: Retired | AT7: No Work | AU7: Others | AV7: Unknown | AW7: Total | AX7: Not Disability | AY7: Intellectually Disabled | AZ7: Vision | BA7: Mentally Illed | BB7: Voice | BC7: Hearing | BD7: Physically Impaired | BE7: Multiple | BF7: Other | BG7: Unknown | BH7: Total | BI7: Under 6 Years | BJ7: 6-Under 12 Years | BK7: 12-Under 18 Years | BL7: 18-Under 2 Years | BM7: 24-Under 30 Years | BN7: 30-Under 40 Years | BO7: 40-Under 50 Years | BP7: 50-Under 65 Years | BQ7: Above 65 Years | BR7: Unknown | BS7: Total | BT7: Non-aboriginal Native | BU7: Aboriginal Native | BV7: Mainland China and Hong Kong and Macau | BW7: Foreign | BX7: Stateless | BY7: Unknown Information
A8: 總計 | C8: 計 Total | D8: 23931 | E8: 21642 | F8: 1255 | G8: 264 | H8: 278 | I8: 8 | J8: 484 | K8: 23931 | L8: 1448 | M8: 1461 | N8: 1628 | O8: 1672 | P8: 2022 | Q8: 4800 | R8: 4249 | S8: 4268 | T8: 2357 | U8: 26 | V8: 23931 | W8: 1216 | X8: 2019 | Y8: 2026 | Z8: 2658 | AA8: 470 | AB8: 1406 | AC8: 174 | AD8: 166 | AE8: 57 | AF8: 13739 | AG8: 23931 | AH8: 398 | AI8: 2889 | AJ8: 741 | AK8: 368 | AL8: 1273 | AM8: 775 | AN8: 121 | AO8: 174 | AP8: 58 | AQ8: 16 | AR8: 1626 | AS8: 1134 | AT8: 2079 | AU8: 1589 | AV8: 10690 | AW8: 23931 | AX8: 21535 | AY8: 316 | AZ8: 70 | BA8: 506 | BB8: 19 | BC8: 138 | BD8: 400 | BE8: 170 | BF8: 214 | BG8: 563 | BH8: 23610 | BI8: 6 | BJ8: 58 | BK8: 575 | BL8: 1148 | BM8: 2048 | BN8: 5902 | BO8: 6030 | BP8: 5100 | BQ8: 1712 | BR8: 1031 | BS8: 23610 | BT8: 20846 | BU8: 1082 | BV8: 163 | BW8: 207 | BX8: 7 | BY8: 1305
C9: 男 Male | D9: 8004 | E9: 7434 | F9: 373 | G9: 10 | H9: 30 | I9: 5 | J9: 152 | K9: 8004 | L9: 786 | M9: 875 | N9: 751 | O9: 503 | P9: 529 | Q9: 1094 | R9: 1194 | S9: 1402 | T9: 867 | U9: 3 | V9: 8004 | W9: 685 | X9: 1024 | Y9: 780 | Z9: 842 | AA9: 126 | AB9: 370 | AC9: 65 | AD9: 31 | AE9: 16 | AF9: 4065 | AG9: 8004 | AH9: 112 | AI9: 550 | AJ9: 242 | AK9: 162 | AL9: 679 | AM9: 259 | AN9: 41 | AO9: 32 | AP9: 39 | AQ9: 12 | AR9: 14 | AS9: 547 | AT9: 585 | AU9: 457 | AV9: 4273 | AW9: 8004 | AX9: 7067 | AY9: 126 | AZ9: 25 | BA9: 150 | BB9: 14 | BC9: 65 | BD9: 198 | BE9: 73 | BF9: 95 | BG9: 191 | BH9: 17305 | BI9: 5 | BJ9: 46 | BK9: 458 | BL9: 789 | BM9: 1450 | BN9: 4114 | BO9: 4534 | BP9: 3931 | BQ9: 1246 | BR9: 732 | BS9: 17305 | BT9: 15401 | BU9: 821 | BV9: 31 | BW9: 103 | BX9: 6 | BY9: 943
A10: Total | C10: 女 Female | D10: 15912 | E10: 14202 | F10: 881 | G10: 254 | H10: 248 | I10: 3 | J10: 324 | K10: 15912 | L10: 653 | M10: 584 | N10: 874 | O10: 1169 | P10: 1493 | Q10: 3706 | R10: 3054 | S10: 2866 | T10: 1490 | U10: 23 | V10: 15912 | W10: 526 | X10: 994 | Y10: 1244 | Z10: 1816 | AA10: 344 | AB10: 1036 | AC10: 109 | AD10: 135 | AE10: 41 | AF10: 9667 | AG10: 15912 | AH10: 286 | AI10: 2339 | AJ10: 499 | AK10: 206 | AL10: 594 | AM10: 516 | AN10: 80 | AO10: 142 | AP10: 19 | AQ10: 4 | AR10: 1612 | AS10: 587 | AT10: 1494 | AU10: 1132 | AV10: 6402 | AW10: 15912 | AX10: 14463 | AY10: 190 | AZ10: 45 | BA10: 356 | BB10: 5 | BC10: 73 | BD10: 202 | BE10: 97 | BF10: 119 | BG10: 362 | BH10: 6195 | BI10: 1 | BJ10: 12 | BK10: 117 | BL10: 358 | BM10: 597 | BN10: 1770 | BO10: 1482 | BP10: 1154 | BQ10: 463 | BR10: 241 | BS10: 6195 | BT10: 5402 | BU10: 261 | BV10: 130 | BW10: 102 | BX10: 1 | BY10: 299
C11: 其他 Other | D11: 15 | E11: 6 | F11: 1 | G11: 0 | H11: 0 | I11: 0 | J11: 8 | K11: 15 | L11: 9 | M11: 2 | N11: 3 | O11: 0 | P11: 0 | Q11: 0 | R11: 1 | S11: 0 | T11: 0 | U11: 0 | V11: 15 | W11: 5 | X11: 1 | Y11: 2 | Z11: 0 | AA11: 0 | AB11: 0 | AC11: 0 | AD11: 0 | AE11: 0 | AF11: 7 | AG11: 15 | AH11: 0 | AI11: 0 | AJ11: 0 | AK11: 0 | AL11: 0 | AM11: 0 | AN11: 0 | AO11: 0 | AP11: 0 | AQ11: 0 | AR11: 0 | AS11: 0 | AT11: 0 | AU11: 0 | AV11: 15 | AW11: 15 | AX11: 5 | AY11: 0 | AZ11: 0 | BA11: 0 | BB11: 0 | BC11: 0 | BD11: 0 | BE11: 0 | BF11: 0 | BG11: 10 | BH11: 110 | BI11: 0 | BJ11: 0 | BK11: 0 | BL11: 1 | BM11: 1 | BN11: 18 | BO11: 14 | BP11: 15 | BQ11: 3 | BR11: 58 | BS11: 110 | BT11: 43 | BU11: 0 | BV11: 2 | BW11: 2 | BX11: 0 | BY11: 63
A12: 新北市 | C12: 計 Total | D12: 3939 | E12: 3552 | F12: 88 | G12: 56 | H12: 56 | I12: 0 | J12: 187 | K12: 3939 | L12: 174 | M12: 174 | N12: 201 | O12: 312 | P12: 383 | Q12: 858 | R12: 748 | S12: 732 | T12: 345 | U12: 12 | V12: 3939 | W12: 101 | X12: 192 | Y12: 174 | Z12: 264 | AA12: 67 | AB12: 242 | AC12: 30 | AD12: 11 | AE12: 10 | AF12: 2848 | AG12: 3939 | AH12: 90 | AI12: 583 | AJ12: 176 | AK12: 10 | AL12: 84 | AM12: 130 | AN12: 30 | AO12: 36 | AP12: 4 | AQ12: 3 | AR12: 229 | AS12: 204 | AT12: 321 | AU12: 147 | AV12: 1892 | AW12: 3939 | AX12: 3434 | AY12: 37 | AZ12: 14 | BA12: 69 | BB12: 4 | BC12: 16 | BD12: 50 | BE12: 16 | BF12: 26 | BG12: 273 | BH12: 3998 | BI12: 2 | BJ12: 6 | BK12: 86 | BL12: 179 | BM12: 315 | BN12: 912 | BO12: 947 | BP12: 811 | BQ12: 247 | BR12: 493 | BS12: 3998 | BT12: 3272 | BU12: 72 | BV12: 32 | BW12: 38 | BX12: 0 | BY12: 584
C13: 男 Male | D13: 1095 | E13: 1018 | F13: 20 | G13: 2 | H13: 4 | I13: 0 | J13: 51 | K13: 1095 | L13: 79 | M13: 101 | N13: 79 | O13: 83 | P13: 77 | Q13: 173 | R13: 182 | S13: 212 | T13: 107 | U13: 2 | V13: 1095 | W13: 56 | X13: 103 | Y13: 66 | Z13: 75 | AA13: 13 | AB13: 59 | AC13: 9 | AD13: 1 | AE13: 4 | AF13: 709 | AG13: 1095 | AH13: 29 | AI13: 116 | AJ13: 56 | AK13: 5 | AL13: 39 | AM13: 45 | AN13: 10 | AO13: 3 | AP13: 3 | AQ13: 2 | AR13: 1 | AS13: 81 | AT13: 78 | AU13: 35 | AV13: 592 | AW13: 1095 | AX13: 925 | AY13: 16 | AZ13: 4 | BA13: 16 | BB13: 4 | BC13: 7 | BD13: 23 | BE13: 9 | BF13: 7 | BG13: 84 | BH13: 3054 | BI13: 1 | BJ13: 4 | BK13: 68 | BL13: 132 | BM13: 249 | BN13: 679 | BO13: 727 | BP13: 644 | BQ13: 190 | BR13: 360 | BS13: 3054 | BT13: 2519 | BU13: 64 | BV13: 4 | BW13: 19 | BX13: 0 | BY13: 448
A14: New Taipei City | C14: 女 Female | D14: 2841 | E14: 2532 | F14: 68 | G14: 54 | H14: 52 | I14: 0 | J14: 135 | K14: 2841 | L14: 94 | M14: 72 | N14: 121 | O14: 229 | P14: 306 | Q14: 685 | R14: 566 | S14: 520 | T14: 238 | U14: 10 | V14: 2841 | W14: 44 | X14: 89 | Y14: 108 | Z14: 189 | AA14: 54 | AB14: 183 | AC14: 21 | AD14: 10 | AE14: 6 | AF14: 2137 | AG14: 2841 | AH14: 61 | AI14: 467 | AJ14: 120 | AK14: 5 | AL14: 45 | AM14: 85 | AN14: 20 | AO14: 33 | AP14: 1 | AQ14: 1 | AR14: 228 | AS14: 123 | AT14: 243 | AU14: 112 | AV14: 1297 | AW14: 2841 | AX14: 2509 | AY14: 21 | AZ14: 10 | BA14: 53 | BB14: 0 | BC14: 9 | BD14: 27 | BE14: 7 | BF14: 19 | BG14: 186 | BH14: 912 | BI14: 1 | BJ14: 2 | BK14: 18 | BL14: 46 | BM14: 66 | BN14: 228 | BO14: 218 | BP14: 165 | BQ14: 57 | BR14: 111 | BS14: 912 | BT14: 746 | BU14: 8 | BV14: 27 | BW14: 19 | BX14: 0 | BY14: 112
C15: 其他 Other | D15: 3 | E15: 2 | F15: 0 | G15: 0 | H15: 0 | I15: 0 | J15: 1 | K15: 3 | L15: 1 | M15: 1 | N15: 1 | O15: 0 | P15: 0 | Q15: 0 | R15: 0 | S15: 0 | T15: 0 | U15: 0 | V15: 3 | W15: 1 | X15: 0 | Y15: 0 | Z15: 0 | AA15: 0 | AB15: 0 | AC15: 0 | AD15: 0 | AE15: 0 | AF15: 2 | AG15: 3 | AH15: 0 | AI15: 0 | AJ15: 0 | AK15: 0 | AL15: 0 | AM15: 0 | AN15: 0 | AO15: 0 | AP15: 0 | AQ15: 0 | AR15: 0 | AS15: 0 | AT15: 0 | AU15: 0 | AV15: 3 | AW15: 3 | AX15: 0 | AY15: 0 | AZ15: 0 | BA15: 0 | BB15: 0 | BC15: 0 | BD15: 0 | BE15: 0 | BF15: 0 | BG15: 3 | BH15: 32 | BI15: 0 | BJ15: 0 | BK15: 0 | BL15: 1 | BM15: 0 | BN15: 5 | BO15: 2 | BP15: 2 | BQ15: 0 | BR15: 22 | BS15: 32 | BT15: 7 | BU15: 0 | BV15: 1 | BW15: 0 | BX15: 0 | BY15: 24
A16: 臺北市 | C16: 計 Total | D16: 2762 | E16: 2598 | F16: 32 | G16: 30 | H16: 35 | I16: 1 | J16: 66 | K16: 2762 | L16: 144 | M16: 169 | N16: 218 | O16: 233 | P16: 217 | Q16: 478 | R16: 478 | S16: 503 | T16: 321 | U16: 1 | V16: 2762 | W16: 125 | X16: 180 | Y16: 126 | Z16: 93 | AA16: 17 | AB16: 86 | AC16: 14 | AD16: 7 | AE16: 12 | AF16: 2102 | AG16: 2762 | AH16: 42 | AI16: 92 | AJ16: 29 | AK16: 1 | AL16: 7 | AM16: 53 | AN16: 6 | AO16: 7 | AP16: 3 | AQ16: 0 | AR16: 55 | AS16: 65 | AT16: 77 | AU16: 40 | AV16: 2285 | AW16: 2762 | AX16: 2527 | AY16: 20 | AZ16: 10 | BA16: 60 | BB16: 1 | BC16: 15 | BD16: 34 | BE16: 18 | BF16: 33 | BG16: 44 | BH16: 2673 | BI16: 0 | BJ16: 8 | BK16: 85 | BL16: 143 | BM16: 200 | BN16: 581 | BO16: 678 | BP16: 607 | BQ16: 269 | BR16: 102 | BS16: 2673 | BT16: 2426 | BU16: 23 | BV16: 30 | BW16: 33 | BX16: 0 | BY16: 161
C17: 男 Male | D17: 1037 | E17: 994 | F17: 12 | G17: 0 | H17: 9 | I17: 1 | J17: 21 | K17: 1037 | L17: 87 | M17: 102 | N17: 109 | O17: 75 | P17: 72 | Q17: 129 | R17: 164 | S17: 186 | T17: 113 | U17: 0 | V17: 1037 | W17: 79 | X17: 105 | Y17: 62 | Z17: 45 | AA17: 2 | AB17: 18 | AC17: 4 | AD17: 5 | AE17: 3 | AF17: 714 | AG17: 1037 | AH17: 6 | AI17: 27 | AJ17: 9 | AK17: 1 | AL17: 5 | AM17: 18 | AN17: 3 | AO17: 1 | AP17: 1 | AQ17: 0 | AR17: 0 | AS17: 33 | AT17: 24 | AU17: 16 | AV17: 893 | AW17: 1037 | AX17: 934 | AY17: 8 | AZ17: 3 | BA17: 22 | BB17: 0 | BC17: 8 | BD17: 18 | BE17: 7 | BF17: 21 | BG17: 16 | BH17: 1805 | BI17: 0 | BJ17: 7 | BK17: 65 | BL17: 84 | BM17: 130 | BN17: 375 | BO17: 470 | BP17: 420 | BQ17: 183 | BR17: 71 | BS17: 1805 | BT17: 1659 | BU17: 14 | BV17: 11 | BW17: 21 | BX17: 0 | BY17: 100
A18: Taipei City | C18: 女 Female | D18: 1724 | E18: 1603 | F18: 20 | G18: 30 | H18: 26 | I18: 0 | J18: 45 | K18: 1724 | L18: 57 | M18: 67 | N18: 109 | O18: 158 | P18: 145 | Q18: 349 | R18: 313 | S18: 317 | T18: 208 | U18: 1 | V18: 1724 | W18: 46 | X18: 75 | Y18: 64 | Z18: 48 | AA18: 15 | AB18: 68 | AC18: 10 | AD18: 2 | AE18: 9 | AF18: 1387 | AG18: 1724 | AH18: 36 | AI18: 65 | AJ18: 20 | AK18: 0 | AL18: 2 | AM18: 35 | AN18: 3 | AO18: 6 | AP18: 2 | AQ18: 0 | AR18: 55 | AS18: 32 | AT18: 53 | AU18: 24 | AV18: 1391 | AW18: 1724 | AX18: 1592 | AY18: 12 | AZ18: 7 | BA18: 38 | BB18: 1 | BC18: 7 | BD18: 16 | BE18: 11 | BF18: 12 | BG18: 28 | BH18: 849 | BI18: 0 | BJ18: 1 | BK18: 20 | BL18: 59 | BM18: 70 | BN18: 205 | BO18: 205 | BP18: 182 | BQ18: 84 | BR18: 23 | BS18: 849 | BT18: 757 | BU18: 9 | BV18: 19 | BW18: 12 | BX18: 0 | BY18: 52
C19: 其他 Other | D19: 1 | E19: 1 | F19: 0 | G19: 0 | H19: 0 | I19: 0 | J19: 0 | K19: 1 | L19: 0 | M19: 0 | N19: 0 | O19: 0 | P19: 0 | Q19: 0 | R19: 1 | S19: 0 | T19: 0 | U19: 0 | V19: 1 | W19: 0 | X19: 0 | Y19: 0 | Z19: 0 | AA19: 0 | AB19: 0 | AC19: 0 | AD19: 0 | AE19: 0 | AF19: 1 | AG19: 1 | AH19: 0 | AI19: 0 | AJ19: 0 | AK19: 0 | AL19: 0 | AM19: 0 | AN19: 0 | AO19: 0 | AP19: 0 | AQ19: 0 | AR19: 0 | AS19: 0 | AT19: 0 | AU19: 0 | AV19: 1 | AW19: 1 | AX19: 1 | AY19: 0 | AZ19: 0 | BA19: 0 | BB19: 0 | BC19: 0 | BD19: 0 | BE19: 0 | BF19: 0 | BG19: 0 | BH19: 19 | BI19: 0 | BJ19: 0 | BK19: 0 | BL19: 0 | BM19: 0 | BN19: 1 | BO19: 3 | BP19: 5 | BQ19: 2 | BR19: 8 | BS19: 19 | BT19: 10 | BU19: 0 | BV19: 0 | BW19: 0 | BX19: 0 | BY19: 9
A20: 桃園市 | C20: 計 Total | D20: 2254 | E20: 2007 | F20: 169 | G20: 25 | H20: 29 | I20: 0 | J20: 24 | K20: 2254 | L20: 134 | M20: 168 | N20: 184 | O20: 189 | P20: 216 | Q20: 438 | R20: 399 | S20: 357 | T20: 166 | U20: 3 | V20: 2254 | W20: 130 | X20: 196 | Y20: 147 | Z20: 184 | AA20: 16 | AB20: 82 | AC20: 9 | AD20: 5 | AE20: 4 | AF20: 1481 | AG20: 2254 | AH20: 37 | AI20: 182 | AJ20: 45 | AK20: 6 | AL20: 97 | AM20: 49 | AN20: 8 | AO20: 10 | AP20: 3 | AQ20: 0 | AR20: 117 | AS20: 74 | AT20: 171 | AU20: 232 | AV20: 1223 | AW20: 2254 | AX20: 2098 | AY20: 34 | AZ20: 2 | BA20: 26 | BB20: 1 | BC20: 13 | BD20: 21 | BE20: 16 | BF20: 16 | BG20: 27 | BH20: 2258 | BI20: 0 | BJ20: 8 | BK20: 62 | BL20: 121 | BM20: 229 | BN20: 609 | BO20: 607 | BP20: 433 | BQ20: 114 | BR20: 75 | BS20: 2258 | BT20: 2004 | BU20: 143 | BV20: 14 | BW20: 23 | BX20: 0 | BY20: 74
C21: 男 Male | D21: 759 | E21: 702 | F21: 45 | G21: 2 | H21: 4 | I21: 0 | J21: 6 | K21: 759 | L21: 73 | M21: 103 | N21: 88 | O21: 56 | P21: 59 | Q21: 90 | R21: 107 | S21: 116 | T21: 66 | U21: 1 | V21: 759 | W21: 75 | X21: 113 | Y21: 54 | Z21: 65 | AA21: 5 | AB21: 27 | AC21: 6 | AD21: 2 | AE21: 2 | AF21: 410 | AG21: 759 | AH21: 9 | AI21: 42 | AJ21: 19 | AK21: 1 | AL21: 51 | AM21: 21 | AN21: 2 | AO21: 2 | AP21: 3 | AQ21: 0 | AR21: 1 | AS21: 38 | AT21: 42 | AU21: 63 | AV21: 465 | AW21: 759 | AX21: 701 | AY21: 14 | AZ21: 2 | BA21: 6 | BB21: 1 | BC21: 9 | BD21: 8 | BE21: 6 | BF21: 5 | BG21: 7 | BH21: 1672 | BI21: 0 | BJ21: 5 | BK21: 45 | BL21: 81 | BM21: 175 | BN21: 416 | BO21: 451 | BP21: 358 | BQ21: 83 | BR21: 58 | BS21: 1672 | BT21: 1492 | BU21: 106 | BV21: 4 | BW21: 12 | BX21: 0 | BY21: 58
A22: Taoyuan City | C22: 女 Female | D22: 1495 | E22: 1305 | F22: 124 | G22: 23 | H22: 25 | I22: 0 | J22: 18 | K22: 1495 | L22: 61 | M22: 65 | N22: 96 | O22: 133 | P22: 157 | Q22: 348 | R22: 292 | S22: 241 | T22: 100 | U22: 2 | V22: 1495 | W22: 55 | X22: 83 | Y22: 93 | Z22: 119 | AA22: 11 | AB22: 55 | AC22: 3 | AD22: 3 | AE22: 2 | AF22: 1071 | AG22: 1495 | AH22: 28 | AI22: 140 | AJ22: 26 | AK22: 5 | AL22: 46 | AM22: 28 | AN22: 6 | AO22: 8 | AP22: 0 | AQ22: 0 | AR22: 116 | AS22: 36 | AT22: 129 | AU22: 169 | AV22: 758 | AW22: 1495 | AX22: 1397 | AY22: 20 | AZ22: 0 | BA22: 20 | BB22: 0 | BC22: 4 | BD22: 13 | BE22: 10 | BF22: 11 | BG22: 20 | BH22: 575 | BI22: 0 | BJ22: 3 | BK22: 17 | BL22: 40 | BM22: 54 | BN22: 191 | BO22: 154 | BP22: 73 | BQ22: 31 | BR22: 12 | BS22: 575 | BT22: 509 | BU22: 37 | BV22: 10 | BW22: 9 | BX22: 0 | BY22: 10
C23: 其他 Other | D23: 0 | E23: 0 | F23: 0 | G23: 0 | H23: 0 | I23: 0 | J23: 0 | K23: 0 | L23: 0 | M23: 0 | N23: 0 | O23: 0 | P23: 0 | Q23: 0 | R23: 0 | S23: 0 | T23: 0 | U23: 0 | V23: 0 | W23: 0 | X23: 0 | Y23: 0 | Z23: 0 | AA23: 0 | AB23: 0 | AC23: 0 | AD23: 0 | AE23: 0 | AF23: 0 | AG23: 0 | AH23: 0 | AI23: 0 | AJ23: 0 | AK23: 0 | AL23: 0 | AM23: 0 | AN23: 0 | AO23: 0 | AP23: 0 | AQ23: 0 | AR23: 0 | AS23: 0 | AT23: 0 | AU23: 0 | AV23: 0 | AW23: 0 | AX23: 0 | AY23: 0 | AZ23: 0 | BA23: 0 | BB23: 0 | BC23: 0 | BD23: 0 | BE23: 0 | BF23: 0 | BG23: 0 | BH23: 11 | BI23: 0 | BJ23: 0 | BK23: 0 | BL23: 0 | BM23: 0 | BN23: 2 | BO23: 2 | BP23: 2 | BQ23: 0 | BR23: 5 | BS23: 11 | BT23: 3 | BU23: 0 | BV23: 0 | BW23: 2 | BX23: 0 | BY23: 6
A24: 臺中市 | C24: 計 Total | D24: 3312 | E24: 3018 | F24: 112 | G24: 59 | H24: 54 | I24: 1 | J24: 68 | K24: 3312 | L24: 289 | M24: 239 | N24: 231 | O24: 226 | P24: 284 | Q24: 662 | R24: 550 | S24: 520 | T24: 307 | U24: 4 | V24: 3312 | W24: 285 | X24: 287 | Y24: 243 | Z24: 356 | AA24: 56 | AB24: 234 | AC24: 24 | AD24: 13 | AE24: 8 | AF24: 1806 | AG24: 3312 | AH24: 72 | AI24: 427 | AJ24: 116 | AK24: 24 | AL24: 239 | AM24: 138 | AN24: 15 | AO24: 30 | AP24: 14 | AQ24: 4 | AR24: 244 | AS24: 174 | AT24: 296 | AU24: 235 | AV24: 1284 | AW24: 3312 | AX24: 3004 | AY24: 42 | AZ24: 10 | BA24: 59 | BB24: 0 | BC24: 22 | BD24: 46 | BE24: 27 | BF24: 26 | BG24: 76 | BH24: 3318 | BI24: 1 | BJ24: 4 | BK24: 94 | BL24: 163 | BM24: 314 | BN24: 899 | BO24: 802 | BP24: 646 | BQ24: 207 | BR24: 188 | BS24: 3318 | BT24: 2938 | BU24: 100 | BV24: 27 | BW24: 39 | BX24: 1 | BY24: 213
C25: 男 Male | D25: 1173 | E25: 1102 | F25: 38 | G25: 1 | H25: 4 | I25: 1 | J25: 27 | K25: 1173 | L25: 153 | M25: 155 | N25: 104 | O25: 60 | P25: 80 | Q25: 177 | R25: 151 | S25: 173 | T25: 120 | U25: 0 | V25: 1173 | W25: 155 | X25: 151 | Y25: 106 | Z25: 114 | AA25: 14 | AB25: 55 | AC25: 12 | AD25: 2 | AE25: 1 | AF25: 563 | AG25: 1173 | AH25: 15 | AI25: 81 | AJ25: 43 | AK25: 15 | AL25: 121 | AM25: 47 | AN25: 3 | AO25: 6 | AP25: 11 | AQ25: 3 | AR25: 1 | AS25: 90 | AT25: 69 | AU25: 72 | AV25: 596 | AW25: 1173 | AX25: 1066 | AY25: 17 | AZ25: 4 | BA25: 14 | BB25: 0 | BC25: 9 | BD25: 19 | BE25: 12 | BF25: 10 | BG25: 22 | BH25: 2350 | BI25: 1 | BJ25: 4 | BK25: 80 | BL25: 108 | BM25: 202 | BN25: 612 | BO25: 584 | BP25: 490 | BQ25: 142 | BR25: 127 | BS25: 2350 | BT25: 2121 | BU25: 62 | BV25: 8 | BW25: 11 | BX25: 1 | BY25: 147
A26: Taichung City | C26: 女 Female | D26: 2136 | E26: 1915 | F26: 74 | G26: 58 | H26: 50 | I26: 0 | J26: 39 | K26: 2136 | L26: 134 | M26: 83 | N26: 127 | O26: 166 | P26: 204 | Q26: 485 | R26: 399 | S26: 347 | T26: 187 | U26: 4 | V26: 2136 | W26: 128 | X26: 136 | Y26: 137 | Z26: 242 | AA26: 42 | AB26: 179 | AC26: 12 | AD26: 11 | AE26: 7 | AF26: 1242 | AG26: 2136 | AH26: 57 | AI26: 346 | AJ26: 73 | AK26: 9 | AL26: 118 | AM26: 91 | AN26: 12 | AO26: 24 | AP26: 3 | AQ26: 1 | AR26: 243 | AS26: 84 | AT26: 227 | AU26: 163 | AV26: 685 | AW26: 2136 | AX26: 1937 | AY26: 25 | AZ26: 6 | BA26: 45 | BB26: 0 | BC26: 13 | BD26: 27 | BE26: 15 | BF26: 16 | BG26: 52 | BH26: 950 | BI26: 0 | BJ26: 0 | BK26: 14 | BL26: 55 | BM26: 112 | BN26: 284 | BO26: 215 | BP26: 154 | BQ26: 64 | BR26: 52 | BS26: 950 | BT26: 811 | BU26: 38 | BV26: 18 | BW26: 28 | BX26: 0 | BY26: 55
C27: 其他 Other | D27: 3 | E27: 1 | F27: 0 | G27: 0 | H27: 0 | I27: 0 | J27: 2 | K27: 3 | L27: 2 | M27: 1 | N27: 0 | O27: 0 | P27: 0 | Q27: 0 | R27: 0 | S27: 0 | T27: 0 | U27: 0 | V27: 3 | W27: 2 | X27: 0 | Y27: 0 | Z27: 0 | AA27: 0 | AB27: 0 | AC27: 0 | AD27: 0 | AE27: 0 | AF27: 1 | AG27: 3 | AH27: 0 | AI27: 0 | AJ27: 0 | AK27: 0 | AL27: 0 | AM27: 0 | AN27: 0 | AO27: 0 | AP27: 0 | AQ27: 0 | AR27: 0 | AS27: 0 | AT27: 0 | AU27: 0 | AV27: 3 | AW27: 3 | AX27: 1 | AY27: 0 | AZ27: 0 | BA27: 0 | BB27: 0 | BC27: 0 | BD27: 0 | BE27: 0 | BF27: 0 | BG27: 2 | BH27: 18 | BI27: 0 | BJ27: 0 | BK27: 0 | BL27: 0 | BM27: 0 | BN27: 3 | BO27: 3 | BP27: 2 | BQ27: 1 | BR27: 9 | BS27: 18 | BT27: 6 | BU27: 0 | BV27: 1 | BW27: 0 | BX27: 0 | BY27: 11
A28: 臺南市 | C28: 計 Total | D28: 1370 | E28: 1317 | F28: 21 | G28: 9 | H28: 15 | I28: 0 | J28: 8 | K28: 1370 | L28: 88 | M28: 74 | N28: 76 | O28: 91 | P28: 110 | Q28: 301 | R28: 231 | S28: 257 | T28: 141 | U28: 1 | V28: 1370 | W28: 84 | X28: 117 | Y28: 116 | Z28: 149 | AA28: 27 | AB28: 81 | AC28: 10 | AD28: 17 | AE28: 2 | AF28: 767 | AG28: 1370 | AH28: 20 | AI28: 211 | AJ28: 45 | AK28: 17 | AL28: 120 | AM28: 45 | AN28: 2 | AO28: 12 | AP28: 0 | AQ28: 3 | AR28: 132 | AS28: 81 | AT28: 134 | AU28: 139 | AV28: 409 | AW28: 1370 | AX28: 1243 | AY28: 22 | AZ28: 6 | BA28: 26 | BB28: 3 | BC28: 5 | BD28: 29 | BE28: 12 | BF28: 17 | BG28: 7 | BH28: 1345 | BI28: 0 | BJ28: 2 | BK28: 25 | BL28: 63 | BM28: 116 | BN28: 370 | BO28: 329 | BP28: 315 | BQ28: 113 | BR28: 12 | BS28: 1345 | BT28: 1279 | BU28: 25 | BV28: 9 | BW28: 10 | BX28: 0 | BY28: 22
C29: 男 Male | D29: 452 | E29: 440 | F29: 8 | G29: 0 | H29: 1 | I29: 0 | J29: 3 | K29: 452 | L29: 45 | M29: 49 | N29: 34 | O29: 26 | P29: 27 | Q29: 72 | R29: 63 | S29: 80 | T29: 56 | U29: 0 | V29: 452 | W29: 44 | X29: 65 | Y29: 48 | Z29: 55 | AA29: 8 | AB29: 22 | AC29: 4 | AD29: 1 | AE29: 0 | AF29: 205 | AG29: 452 | AH29: 7 | AI29: 42 | AJ29: 14 | AK29: 7 | AL29: 67 | AM29: 11 | AN29: 1 | AO29: 3 | AP29: 0 | AQ29: 2 | AR29: 1 | AS29: 48 | AT29: 39 | AU29: 31 | AV29: 179 | AW29: 452 | AX29: 395 | AY29: 12 | AZ29: 2 | BA29: 8 | BB29: 3 | BC29: 3 | BD29: 18 | BE29: 5 | BF29: 4 | BG29: 2 | BH29: 989 | BI29: 0 | BJ29: 1 | BK29: 23 | BL29: 45 | BM29: 84 | BN29: 258 | BO29: 240 | BP29: 247 | BQ29: 82 | BR29: 9 | BS29: 989 | BT29: 952 | BU29: 17 | BV29: 1 | BW29: 6 | BX29: 0 | BY29: 13
A30: Tainan City | C30: 女 Female | D30: 918 | E30: 877 | F30: 13 | G30: 9 | H30: 14 | I30: 0 | J30: 5 | K30: 918 | L30: 43 | M30: 25 | N30: 42 | O30: 65 | P30: 83 | Q30: 229 | R30: 168 | S30: 177 | T30: 85 | U30: 1 | V30: 918 | W30: 40 | X30: 52 | Y30: 68 | Z30: 94 | AA30: 19 | AB30: 59 | AC30: 6 | AD30: 16 | AE30: 2 | AF30: 562 | AG30: 918 | AH30: 13 | AI30: 169 | AJ30: 31 | AK30: 10 | AL30: 53 | AM30: 34 | AN30: 1 | AO30: 9 | AP30: 0 | AQ30: 1 | AR30: 131 | AS30: 33 | AT30: 95 | AU30: 108 | AV30: 230 | AW30: 918 | AX30: 848 | AY30: 10 | AZ30: 4 | BA30: 18 | BB30: 0 | BC30: 2 | BD30: 11 | BE30: 7 | BF30: 13 | BG30: 5 | BH30: 355 | BI30: 0 | BJ30: 1 | BK30: 2 | BL30: 18 | BM30: 32 | BN30: 112 | BO30: 89 | BP30: 68 | BQ30: 31 | BR30: 2 | BS30: 355 | BT30: 327 | BU30: 8 | BV30: 8 | BW30: 4 | BX30: 0 | BY30: 8
C31: 其他 Other | D31: 0 | E31: 0 | F31: 0 | G31: 0 | H31: 0 | I31: 0 | J31: 0 | K31: 0 | L31: 0 | M31: 0 | N31: 0 | O31: 0 | P31: 0 | Q31: 0 | R31: 0 | S31: 0 | T31: 0 | U31: 0 | V31: 0 | W31: 0 | X31: 0 | Y31: 0 | Z31: 0 | AA31: 0 | AB31: 0 | AC31: 0 | AD31: 0 | AE31: 0 | AF31: 0 | AG31: 0 | AH31: 0 | AI31: 0 | AJ31: 0 | AK31: 0 | AL31: 0 | AM31: 0 | AN31: 0 | AO31: 0 | AP31: 0 | AQ31: 0 | AR31: 0 | AS31: 0 | AT31: 0 | AU31: 0 | AV31: 0 | AW31: 0 | AX31: 0 | AY31: 0 | AZ31: 0 | BA31: 0 | BB31: 0 | BC31: 0 | BD31: 0 | BE31: 0 | BF31: 0 | BG31: 0 | BH31: 1 | BI31: 0 | BJ31: 0 | BK31: 0 | BL31: 0 | BM31: 0 | BN31: 0 | BO31: 0 | BP31: 0 | BQ31: 0 | BR31: 1 | BS31: 1 | BT31: 0 | BU31: 0 | BV31: 0 | BW31: 0 | BX31: 0 | BY31: 1
A32: 高雄市 | C32: 計 Total | D32: 3202 | E32: 3034 | F32: 97 | G32: 23 | H32: 17 | I32: 1 | J32: 30 | K32: 3202 | L32: 206 | M32: 224 | N32: 260 | O32: 193 | P32: 247 | Q32: 600 | R32: 560 | S32: 575 | T32: 335 | U32: 2 | V32: 3202 | W32: 156 | X32: 301 | Y32: 272 | Z32: 508 | AA32: 100 | AB32: 271 | AC32: 35 | AD32: 34 | AE32: 9 | AF32: 1516 | AG32: 3202 | AH32: 44 | AI32: 465 | AJ32: 133 | AK32: 36 | AL32: 247 | AM32: 153 | AN32: 17 | AO32: 26 | AP32: 14 | AQ32: 1 | AR32: 249 | AS32: 165 | AT32: 346 | AU32: 182 | AV32: 1124 | AW32: 3202 | AX32: 2921 | AY32: 38 | AZ32: 8 | BA32: 80 | BB32: 3 | BC32: 18 | BD32: 51 | BE32: 28 | BF32: 25 | BG32: 30 | BH32: 3213 | BI32: 0 | BJ32: 10 | BK32: 86 | BL32: 168 | BM32: 272 | BN32: 831 | BO32: 838 | BP32: 731 | BQ32: 243 | BR32: 34 | BS32: 3213 | BT32: 3045 | BU32: 79 | BV32: 16 | BW32: 21 | BX32: 4 | BY32: 48
C33: 男 Male | D33: 1199 | E33: 1139 | F33: 40 | G33: 2 | H33: 3 | I33: 1 | J33: 14 | K33: 1199 | L33: 117 | M33: 136 | N33: 126 | O33: 79 | P33: 71 | Q33: 160 | R33: 186 | S33: 197 | T33: 127 | U33: 0 | V33: 1199 | W33: 89 | X33: 156 | Y33: 122 | Z33: 176 | AA33: 38 | AB33: 86 | AC33: 12 | AD33: 5 | AE33: 3 | AF33: 512 | AG33: 1199 | AH33: 20 | AI33: 89 | AJ33: 39 | AK33: 20 | AL33: 159 | AM33: 64 | AN33: 6 | AO33: 5 | AP33: 11 | AQ33: 0 | AR33: 6 | AS33: 89 | AT33: 114 | AU33: 77 | AV33: 500 | AW33: 1199 | AX33: 1081 | AY33: 15 | AZ33: 5 | BA33: 26 | BB33: 2 | BC33: 7 | BD33: 27 | BE33: 11 | BF33: 13 | BG33: 12 | BH33: 2219 | BI33: 0 | BJ33: 7 | BK33: 70 | BL33: 112 | BM33: 167 | BN33: 519 | BO33: 615 | BP33: 540 | BQ33: 164 | BR33: 25 | BS33: 2219 | BT33: 2111 | BU33: 57 | BV33: 1 | BW33: 12 | BX33: 3 | BY33: 35
A34: Kaohsiung City | C34: 女 Female | D34: 2001 | E34: 1895 | F34: 57 | G34: 21 | H34: 14 | I34: 0 | J34: 14 | K34: 2001 | L34: 87 | M34: 88 | N34: 134 | O34: 114 | P34: 176 | Q34: 440 | R34: 374 | S34: 378 | T34: 208 | U34: 2 | V34: 2001 | W34: 67 | X34: 145 | Y34: 150 | Z34: 332 | AA34: 62 | AB34: 185 | AC34: 23 | AD34: 29 | AE34: 6 | AF34: 1002 | AG34: 2001 | AH34: 24 | AI34: 376 | AJ34: 94 | AK34: 16 | AL34: 88 | AM34: 89 | AN34: 11 | AO34: 21 | AP34: 3 | AQ34: 1 | AR34: 243 | AS34: 76 | AT34: 232 | AU34: 105 | AV34: 622 | AW34: 2001 | AX34: 1840 | AY34: 23 | AZ34: 3 | BA34: 54 | BB34: 1 | BC34: 11 | BD34: 24 | BE34: 17 | BF34: 12 | BG34: 16 | BH34: 984 | BI34: 0 | BJ34: 3 | BK34: 16 | BL34: 56 | BM34: 105 | BN34: 310 | BO34: 222 | BP34: 189 | BQ34: 79 | BR34: 4 | BS34: 984 | BT34: 928 | BU34: 22 | BV34: 15 | BW34: 9 | BX34: 1 | BY34: 9
C35: 其他 Other | D35: 2 | E35: 0 | F35: 0 | G35: 0 | H35: 0 | I35: 0 | J35: 2 | K35: 2 | L35: 2 | M35: 0 | N35: 0 | O35: 0 | P35: 0 | Q35: 0 | R35: 0 | S35: 0 | T35: 0 | U35: 0 | V35: 2 | W35: 0 | X35: 0 | Y35: 0 | Z35: 0 | AA35: 0 | AB35: 0 | AC35: 0 | AD35: 0 | AE35: 0 | AF35: 2 | AG35: 2 | AH35: 0 | AI35: 0 | AJ35: 0 | AK35: 0 | AL35: 0 | AM35: 0 | AN35: 0 | AO35: 0 | AP35: 0 | AQ35: 0 | AR35: 0 | AS35: 0 | AT35: 0 | AU35: 0 | AV35: 2 | AW35: 2 | AX35: 0 | AY35: 0 | AZ35: 0 | BA35: 0 | BB35: 0 | BC35: 0 | BD35: 0 | BE35: 0 | BF35: 0 | BG35: 2 | BH35: 10 | BI35: 0 | BJ35: 0 | BK35: 0 | BL35: 0 | BM35: 0 | BN35: 2 | BO35: 1 | BP35: 2 | BQ35: 0 | BR35: 5 | BS35: 10 | BT35: 6 | BU35: 0 | BV35: 0 | BW35: 0 | BX35: 0 | BY35: 4
B36: 宜蘭縣 | C36: 計 Total | D36: 364 | E36: 333 | F36: 22 | G36: 6 | H36: 3 | I36: 0 | J36: 0 | K36: 364 | L36: 7 | M36: 7 | N36: 9 | O36: 32 | P36: 32 | Q36: 92 | R36: 70 | S36: 75 | T36: 40 | U36: 0 | V36: 364 | W36: 6 | X36: 37 | Y36: 78 | Z36: 91 | AA36: 27 | AB36: 40 | AC36: 6 | AD36: 7 | AE36: 4 | AF36: 68 | AG36: 364 | AH36: 8 | AI36: 104 | AJ36: 16 | AK36: 6 | AL36: 16 | AM36: 22 | AN36: 0 | AO36: 7 | AP36: 1 | AQ36: 0 | AR36: 53 | AS36: 27 | AT36: 49 | AU36: 13 | AV36: 42 | AW36: 364 | AX36: 324 | AY36: 6 | AZ36: 0 | BA36: 18 | BB36: 0 | BC36: 4 | BD36: 4 | BE36: 3 | BF36: 3 | BG36: 2 | BH36: 349 | BI36: 0 | BJ36: 1 | BK36: 8 | BL36: 16 | BM36: 32 | BN36: 81 | BO36: 96 | BP36: 79 | BQ36: 29 | BR36: 7 | BS36: 349 | BT36: 320 | BU36: 23 | BV36: 1 | BW36: 0 | BX36: 0 | BY36: 5
C37: 男 Male | D37: 95 | E37: 90 | F37: 4 | G37: 1 | H37: 0 | I37: 0 | J37: 0 | K37: 95 | L37: 5 | M37: 4 | N37: 3 | O37: 8 | P37: 9 | Q37: 19 | R37: 10 | S37: 26 | T37: 11 | U37: 0 | V37: 95 | W37: 5 | X37: 14 | Y37: 21 | Z37: 17 | AA37: 6 | AB37: 10 | AC37: 3 | AD37: 1 | AE37: 2 | AF37: 16 | AG37: 95 | AH37: 3 | AI37: 19 | AJ37: 6 | AK37: 4 | AL37: 9 | AM37: 3 | AN37: 0 | AO37: 2 | AP37: 0 | AQ37: 0 | AR37: 0 | AS37: 11 | AT37: 20 | AU37: 1 | AV37: 17 | AW37: 95 | AX37: 86 | AY37: 3 | AZ37: 0 | BA37: 3 | BB37: 0 | BC37: 1 | BD37: 1 | BE37: 1 | BF37: 0 | BG37: 0 | BH37: 277 | BI37: 0 | BJ37: 1 | BK37: 6 | BL37: 10 | BM37: 28 | BN37: 67 | BO37: 71 | BP37: 66 | BQ37: 23 | BR37: 5 | BS37: 277 | BT37: 251 | BU37: 22 | BV37: 0 | BW37: 0 | BX37: 0 | BY37: 4
B38: Yilan County | C38: 女 Female | D38: 269 | E38: 243 | F38: 18 | G38: 5 | H38: 3 | I38: 0 | J38: 0 | K38: 269 | L38: 2 | M38: 3 | N38: 6 | O38: 24 | P38: 23 | Q38: 73 | R38: 60 | S38: 49 | T38: 29 | U38: 0 | V38: 269 | W38: 1 | X38: 23 | Y38: 57 | Z38: 74 | AA38: 21 | AB38: 30 | AC38: 3 | AD38: 6 | AE38: 2 | AF38: 52 | AG38: 269 | AH38: 5 | AI38: 85 | AJ38: 10 | AK38: 2 | AL38: 7 | AM38: 19 | AN38: 0 | AO38: 5 | AP38: 1 | AQ38: 0 | AR38: 53 | AS38: 16 | AT38: 29 | AU38: 12 | AV38: 25 | AW38: 269 | AX38: 238 | AY38: 3 | AZ38: 0 | BA38: 15 | BB38: 0 | BC38: 3 | BD38: 3 | BE38: 2 | BF38: 3 | BG38: 2 | BH38: 70 | BI38: 0 | BJ38: 0 | BK38: 2 | BL38: 6 | BM38: 4 | BN38: 13 | BO38: 25 | BP38: 13 | BQ38: 6 | BR38: 1 | BS38: 70 | BT38: 68 | BU38: 1 | BV38: 1 | BW38: 0 | BX38: 0 | BY38: 0
C39: 其他 Other | D39: 0 | E39: 0 | F39: 0 | G39: 0 | H39: 0 | I39: 0 | J39: 0 | K39: 0 | L39: 0 | M39: 0 | N39: 0 | O39: 0 | P39: 0 | Q39: 0 | R39: 0 | S39: 0 | T39: 0 | U39: 0 | V39: 0 | W39: 0 | X39: 0 | Y39: 0 | Z39: 0 | AA39: 0 | AB39: 0 | AC39: 0 | AD39: 0 | AE39: 0 | AF39: 0 | AG39: 0 | AH39: 0 | AI39: 0 | AJ39: 0 | AK39: 0 | AL39: 0 | AM39: 0 | AN39: 0 | AO39: 0 | AP39: 0 | AQ39: 0 | AR39: 0 | AS39: 0 | AT39: 0 | AU39: 0 | AV39: 0 | AW39: 0 | AX39: 0 | AY39: 0 | AZ39: 0 | BA39: 0 | BB39: 0 | BC39: 0 | BD39: 0 | BE39: 0 | BF39: 0 | BG39: 0 | BH39: 2 | BI39: 0 | BJ39: 0 | BK39: 0 | BL39: 0 | BM39: 0 | BN39: 1 | BO39: 0 | BP39: 0 | BQ39: 0 | BR39: 1 | BS39: 2 | BT39: 1 | BU39: 0 | BV39: 0 | BW39: 0 | BX39: 0 | BY39: 1
B40: 新竹縣 | C40: 計 Total | D40: 518 | E40: 429 | F40: 71 | G40: 4 | H40: 7 | I40: 2 | J40: 5 | K40: 518 | L40: 35 | M40: 46 | N40: 30 | O40: 39 | P40: 50 | Q40: 108 | R40: 106 | S40: 69 | T40: 35 | U40: 0 | V40: 518 | W40: 30 | X40: 58 | Y40: 53 | Z40: 71 | AA40: 8 | AB40: 44 | AC40: 4 | AD40: 0 | AE40: 2 | AF40: 248 | AG40: 518 | AH40: 7 | AI40: 76 | AJ40: 30 | AK40: 6 | AL40: 30 | AM40: 5 | AN40: 6 | AO40: 5 | AP40: 1 | AQ40: 0 | AR40: 36 | AS40: 15 | AT40: 51 | AU40: 31 | AV40: 219 | AW40: 518 | AX40: 474 | AY40: 9 | AZ40: 1 | BA40: 10 | BB40: 1 | BC40: 5 | BD40: 9 | BE40: 2 | BF40: 0 | BG40: 7 | BH40: 511 | BI40: 0 | BJ40: 3 | BK40: 4 | BL40: 33 | BM40: 38 | BN40: 150 | BO40: 155 | BP40: 90 | BQ40: 19 | BR40: 19 | BS40: 511 | BT40: 417 | BU40: 61 | BV40: 5 | BW40: 5 | BX40: 0 | BY40: 23
...

Sheet 2019Q3
A1: 家庭暴力事件通報被害及相對人概況Overview of Victim and Offender Status in Reporting Cases of Domestic Violence
A2: 108年第3季，2019Q3
A3: 單位：人數 unit:Person
A4: 區域別 Locality | C4: 性別 | D4: 被害人數 Victims | BH4: 相對人人數
D5: 國籍、身分別 By Nationality and Identity | K5: 年齡別 By Age | V5: 教育程度別 By Education | AG5: 職業別 By Occupation | AW5: 身心障礙別 By Disability | BH5: 年齡別 By Age | BS5: 國籍、身分別 By Nationality and Identity
D6: 合計 | E6: 本國籍 非原住民 | F6: 本國籍 原住民 | G6: 大陸及 港澳籍 | H6: 外國籍 | I6: 無國籍 | J6: 資料 不明 | K6: 合計 | L6: 0-未滿6歲 | M6: 6-未滿12歲 | N6: 12-未滿18歲 | O6: 18-未滿24歲 | P6: 24-未滿30歲 | Q6: 30-未滿40歲 | R6: 40-未滿50歲 | S6: 50-未滿65歲 | T6: 65歲 以上 | U6: 不詳 | V6: 合計 | W6: 學齡前 | X6: 國小 | Y6: 國中 | Z6: 高中(職) | AA6: 專科 | AB6: 大學 | AC6: 研究所 以上 | AD6: 不識字 | AE6: 自修 | AF6: 不詳 | AG6: 合計 | AH6: 學生 | AI6: 服務業 | AJ6: 專門 職業 | AK6: 農林 漁牧 | AL6: 工礦業 | AM6: 商業 | AN6: 公 | AO6: 教 | AP6: 軍 | AQ6: 警 | AR6: 家庭 管理 | AS6: 退休 | AT6: 無工作 | AU6: 其他 | AV6: 不詳 | AW6: 合計 | AX6: 非身心 障礙 | AY6: 智障 | AZ6: 視障 | BA6: 精神 病患 | BB6: 聲(語)障 | BC6: 聽障 | BD6: 肢障 | BE6: 多重 障礙 | BF6: 其他 障礙 | BG6: 不詳 | BH6: 合計 | BI6: 0-未滿6歲 | BJ6: 6-未滿12歲 | BK6: 12-未滿18歲 | BL6: 18-未滿24歲 | BM6: 24-未滿30歲 | BN6: 30-未滿40歲 | BO6: 40-未滿50歲 | BP6: 50-未滿65歲 | BQ6: 65歲 以上 | BR6: 不詳 | BS6: 合計 | BT6: 本國籍非原住民 | BU6: 本國籍原住民 | BV6: 大陸及 港澳籍 | BW6: 外國籍 | BX6: 無國籍 | BY6: 資料 不明
