Workbook
Name pp: '2006'!$B$1:$C$16
Name pp: '2007'!$B$4:$C$16
Name pp: '2008'!$B$4:$C$16
Name pp: '2009'!$B$4:$C$16
Name pp: '2010'!$B$4:$C$16
Name pp: '2011'!$B$4:$C$32
Name pp: '2011~2018'!$B$5:$C$12
Name pp: '2012'!$B$4:$C$32
Name pp: '2013'!$B$4:$C$32
Name pp: '2014'!$B$1:$C$33
Name pp: '2015'!$B$5:$C$36
Name pp: '2016'!$B$5:$C$36
Name pp: '2016Q1'!$B$1:$U$42
Name pp: '2016Q2'!$B$1:$U$42
Name pp: '2016Q3'!$B$1:$U$42
Name pp: '2016Q4'!$B$1:$U$42
Name pp: '2017'!$B$5:$C$36
Name pp: '2017Q1'!$B$1:$U$43
Name pp: '2017Q2'!$B$1:$U$43
Name pp: '2017Q3'!$B$1:$U$43
Name pp: '2017Q4'!$B$1:$U$43
Name pp: '2018'!$B$5:$C$36
Name pp: '2019'!$B$2:$C$36
Name pp: '2019Q1'!$B$1:$T$39
Name pp: '2019Q2'!$B$1:$T$39
Name pp: '2019Q3'!$B$1:$T$39
Name pp: '2019Q4'!$B$1:$T$39
Name pp: '2020'!$B$5:$C$36
Name pp: '歷年(2019~)'!$B$1:$C$8
Name pp: !#REF!

Sheet 歷年(2019~)
A1: 家庭暴力通報事件被害人性別及身心障礙別統計(單位：人數)
A2: 年 別 Year | C2: 性別 | D2: 身心障礙別 By Disability
D3: 合計 | E3: 非身心 障礙 | F3: 智障 | G3: 視障 | H3: 精神 病患 | I3: 聲(語)障 | J3: 聽障 | K3: 肢障 | L3: 失智症 | M3: 多重 障礙 | N3: 其他 障礙 | O3: 不詳
C4: Gender | D4: Total | E4: Not Disability | F4: Intellectually Disabled | G4: Vision | H4: Mentally Illed | I4: Voice | J4: Hearing | K4: Physically Impaired | L4: Dementia | M4: Multiple | N4: Other | O4: Unknown
A5: 108年 2019 | C5: 計 Total | D5: 103930 | E5: 93093 | F5: 1357 | G5: 385 | H5: 2347 | I5: 70 | J5: 516 | K5: 1828 | L5: … | M5: 726 | N5: 1011 | O5: 2597
C6: 男 Male | D6: 33498 | E6: 29529 | F6: 537 | G6: 150 | H6: 637 | I6: 41 | J6: 238 | K6: 871 | L6: … | M6: 330 | N6: 418 | O6: 747
C7: 女 Female | D7: 70362 | E7: 63530 | F7: 820 | G7: 235 | H7: 1710 | I7: 29 | J7: 277 | K7: 956 | L7: … | M7: 396 | N7: 593 | O7: 1816
C8: 其他 Other | D8: 70 | E8: 34 | F8: 0 | G8: 0 | H8: 0 | I8: 0 | J8: 1 | K8: 1 | L8: … | M8: 0 | N8: 0 | O8: 34
A9: 109年 2020 | C9: 計 Total | D9: 114381 | E9: 102860 | F9: 1583 | G9: 419 | H9: 2573 | I9: 86 | J9: 521 | K9: 2044 | L9: … | M9: 795 | N9: 1139 | O9: 2361
C10: 男 Male | D10: 39225 | E10: 34581 | F10: 611 | G10: 165 | H10: 743 | I10: 58 | J10: 230 | K10: 995 | L10: … | M10: 378 | N10: 522 | O10: 942
C11: 女 Female | D11: 75083 | E11: 68241 | F11: 971 | G11: 254 | H11: 1830 | I11: 28 | J11: 291 | K11: 1049 | L11: … | M11: 415 | N11: 617 | O11: 1387
C12: 其他 Other | D12: 73 | E12: 38 | F12: 1 | G12: 0 | H12: 0 | I12: 0 | J12: 0 | K12: 0 | L12: … | M12: 2 | N12: 0 | O12: 32
A13: 110年 2021 | C13: 計 Total | D13: 118532 | E13: 106938 | F13: 1717 | G13: 458 | H13: 2831 | I13: 95 | J13: 553 | K13: 2071 | L13: … | M13: 957 | N13: 1379 | O13: 1533
C14: 男 Male | D14: 42274 | E14: 37529 | F14: 699 | G14: 187 | H14: 803 | I14: 62 | J14: 240 | K14: 1025 | L14: … | M14: 472 | N14: 717 | O14: 540
C15: 女 Female | D15: 76189 | E15: 69360 | F15: 1018 | G15: 271 | H15: 2028 | I15: 33 | J15: 313 | K15: 1046 | L15: … | M15: 485 | N15: 662 | O15: 973
C16: 其他 Other | D16: 22 | E16: 17 | F16: 0 | G16: 0 | H16: 0 | I16: 0 | J16: 0 | K16: 0 | L16: … | M16: 0 | N16: 0 | O16: 5
C17: 不詳Unknown | D17: 47 | E17: 32 | F17: 0 | G17: 0 | H17: 0 | I17: 0 | J17: 0 | K17: 0 | L17: … | M17: 0 | N17: 0 | O17: 15
A18: 111年 2022 | C18: 計 Total | D18: 123741 | E18: 112228 | F18: 1780 | G18: 482 | H18: 2917 | I18: 92 | J18: 607 | K18: 2108 | L18: 336 | M18: 1012 | N18: 1367 | O18: 812
C19: 男 Male | D19: 44773 | E19: 39946 | F19: 746 | G19: 208 | H19: 808 | I19: 55 | J19: 296 | K19: 1057 | L19: 113 | M19: 503 | N19: 794 | O19: 247
C20: 女 Female | D20: 78903 | E20: 72230 | F20: 1032 | G20: 274 | H20: 2108 | I20: 37 | J20: 311 | K20: 1051 | L20: 223 | M20: 509 | N20: 572 | O20: 556
C21: 其他 Other | D21: 14 | E21: 11 | F21: 1 | G21: 0 | H21: 0 | I21: 0 | J21: 0 | K21: 0 | L21: 0 | M21: 0 | N21: 0 | O21: 2
C22: 不詳Unknown | D22: 51 | E22: 41 | F22: 1 | G22: 0 | H22: 1 | I22: 0 | J22: 0 | K22: 0 | L22: 0 | M22: 0 | N22: 1 | O22: 7
A23: 112年 2023 | C23: 計 Total | D23: 132147 | E23: 119789 | F23: 1964 | G23: 397 | H23: 3105 | I23: 121 | J23: 646 | K23: 2303 | L23: 386 | M23: 1154 | N23: 1585 | O23: 697
C24: 男 Male | D24: 48891 | E24: 43705 | F24: 812 | G24: 181 | H24: 917 | I24: 81 | J24: 289 | K24: 1114 | L24: 117 | M24: 563 | N24: 909 | O24: 203
C25: 女 Female | D25: 83179 | E25: 76021 | F25: 1151 | G25: 216 | H25: 2188 | I25: 40 | J25: 357 | K25: 1188 | L25: 269 | M25: 589 | N25: 676 | O25: 484
C26: 其他 Other | D26: 13 | E26: 11 | F26: 0 | G26: 0 | H26: 0 | I26: 0 | J26: 0 | K26: 0 | L26: 0 | M26: 0 | N26: 0 | O26: 2
C27: 不詳Unknown | D27: 64 | E27: 52 | F27: 1 | G27: 0 | H27: 0 | I27: 0 | J27: 0 | K27: 1 | L27: 0 | M27: 2 | N27: 0 | O27: 8
A28: 113年 2024 | C28: 計 Total | D28: 138859 | E28: 125177 | F28: 2080 | G28: 426 | H28: 3484 | I28: 144 | J28: 695 | K28: 2455 | L28: 536 | M28: 1323 | N28: 1909 | O28: 630
C29: 男 Male | D29: 52894 | E29: 47054 | F29: 874 | G29: 221 | H29: 1018 | I29: 86 | J29: 347 | K29: 1242 | L29: 151 | M29: 667 | N29: 1047 | O29: 187
C30: 女 Female | D30: 85864 | E30: 78038 | F30: 1203 | G30: 205 | H30: 2464 | I30: 58 | J30: 348 | K30: 1212 | L30: 385 | M30: 656 | N30: 861 | O30: 434
C31: 其他 Other | D31: 14 | E31: 7 | F31: 2 | G31: 0 | H31: 1 | I31: 0 | J31: 0 | K31: 0 | L31: 0 | M31: 0 | N31: 0 | O31: 4
C32: 不詳Unknown | D32: 87 | E32: 78 | F32: 1 | G32: 0 | H32: 1 | I32: 0 | J32: 0 | K32: 1 | L32: 0 | M32: 0 | N32: 1 | O32: 5
A33: 114年 2025 | C33: 計 Total | D33: 146105 | E33: 131647 | F33: 2166 | G33: 386 | H33: 3635 | I33: 163 | J33: 768 | K33: 2577 | L33: 593 | M33: 1387 | N33: 2100 | O33: 683
C34: 男 Male | D34: 56855 | E34: 50587 | F34: 924 | G34: 172 | H34: 1086 | I34: 99 | J34: 356 | K34: 1321 | L34: 204 | M34: 704 | N34: 1175 | O34: 227
C35: 女 Female | D35: 89121 | E35: 80960 | F35: 1242 | G35: 214 | H35: 2547 | I35: 64 | J35: 412 | K35: 1256 | L35: 389 | M35: 679 | N35: 917 | O35: 441
C36: 其他 Other | D36: 13 | E36: 9 | F36: 0 | G36: 0 | H36: 1 | I36: 0 | J36: 0 | K36: 0 | L36: 0 | M36: 2 | N36: 1 | O36: 0
C37: 不詳Unknown | D37: 116 | E37: 91 | F37: 0 | G37: 0 | H37: 1 | I37: 0 | J37: 0 | K37: 0 | L37: 0 | M37: 2 | N37: 7 | O37: 15
A38: 資料來源：本部保護服務司。
A39: Source :Department of Protective Services , MOHW.
A42: 更新日期：2026/03/27

Sheet 2025
A1: 家庭暴力事件通報被害及相對人概況Overview of Victim and Offender Status in Reporting Cases of Domestic Violence
A2: 114年，2025
A3: 單位：人數 unit:Person
A4: 區域別 Locality | C4: 性別 | D4: 身心障礙別 By Disability
D6: 合計 | E6: 非身心 障礙 | F6: 智障 | G6: 視障 | H6: 精神 病患 | I6: 聲(語)障 | J6: 聽障 | K6: 肢障 | L6: 失智症 | M6: 多重 障礙 | N6: 其他 障礙 | O6: 不詳
C7: Gender | D7: Total | E7: Not Disability | F7: Intellectually Disabled | G7: Vision | H7: Mentally Illed | I7: Voice | J7: Hearing | K7: Physically Impaired | L7: Dementia | M7: Multiple | N7: Other | O7: Unknown
A8: 總計 | C8: 計 Total | D8: 146105 | E8: 131647 | F8: 2166 | G8: 386 | H8: 3635 | I8: 163 | J8: 768 | K8: 2577 | L8: 593 | M8: 1387 | N8: 2100 | O8: 683
C9: 男 Male | D9: 56855 | E9: 50587 | F9: 924 | G9: 172 | H9: 1086 | I9: 99 | J9: 356 | K9: 1321 | L9: 204 | M9: 704 | N9: 1175 | O9: 227
A10: Total | C10: 女 Female | D10: 89121 | E10: 80960 | F10: 1242 | G10: 214 | H10: 2547 | I10: 64 | J10: 412 | K10: 1256 | L10: 389 | M10: 679 | N10: 917 | O10: 441
C11: 其他 Other | D11: 13 | E11: 9 | F11: 0 | G11: 0 | H11: 1 | I11: 0 | J11: 0 | K11: 0 | L11: 0 | M11: 2 | N11: 1 | O11: 0
C12: 不詳Unknown | D12: 116 | E12: 91 | F12: 0 | G12: 0 | H12: 1 | I12: 0 | J12: 0 | K12: 0 | L12: 0 | M12: 2 | N12: 7 | O12: 15
A13: 新北市 | C13: 計 Total | D13: 24510 | E13: 22165 | F13: 278 | G13: 66 | H13: 537 | I13: 30 | J13: 105 | K13: 319 | L13: 85 | M13: 192 | N13: 385 | O13: 348
C14: 男 Male | D14: 9014 | E14: 8026 | F14: 121 | G14: 28 | H14: 139 | I14: 15 | J14: 50 | K14: 168 | L14: 31 | M14: 90 | N14: 230 | O14: 116
A15: New Taipei City | C15: 女 Female | D15: 15440 | E15: 14098 | F15: 157 | G15: 38 | H15: 397 | I15: 15 | J15: 55 | K15: 151 | L15: 54 | M15: 101 | N15: 151 | O15: 223
C16: 其他 Other | D16: 2 | E16: 0 | F16: 0 | G16: 0 | H16: 0 | I16: 0 | J16: 0 | K16: 0 | L16: 0 | M16: 1 | N16: 1 | O16: 0
C17: 不詳Unknown | D17: 54 | E17: 41 | F17: 0 | G17: 0 | H17: 1 | I17: 0 | J17: 0 | K17: 0 | L17: 0 | M17: 0 | N17: 3 | O17: 9
A18: 臺北市 | C18: 計 Total | D18: 14075 | E18: 12785 | F18: 133 | G18: 30 | H18: 369 | I18: 9 | J18: 66 | K18: 170 | L18: 63 | M18: 125 | N18: 222 | O18: 103
C19: 男 Male | D19: 5628 | E19: 5062 | F19: 56 | G19: 14 | H19: 113 | I19: 5 | J19: 27 | K19: 84 | L19: 27 | M19: 62 | N19: 144 | O19: 34
A20: Taipei City | C20: 女 Female | D20: 8426 | E20: 7708 | F20: 77 | G20: 16 | H20: 255 | I20: 4 | J20: 39 | K20: 86 | L20: 36 | M20: 62 | N20: 77 | O20: 66
C21: 其他 Other | D21: 3 | E21: 1 | F21: 0 | G21: 0 | H21: 1 | I21: 0 | J21: 0 | K21: 0 | L21: 0 | M21: 1 | N21: 0 | O21: 0
C22: 不詳Unknown | D22: 18 | E22: 14 | F22: 0 | G22: 0 | H22: 0 | I22: 0 | J22: 0 | K22: 0 | L22: 0 | M22: 0 | N22: 1 | O22: 3
A23: 桃園市 | C23: 計 Total | D23: 15565 | E23: 14349 | F23: 207 | G23: 29 | H23: 316 | I23: 6 | J23: 64 | K23: 192 | L23: 35 | M23: 162 | N23: 173 | O23: 32
C24: 男 Male | D24: 6085 | E24: 5560 | F24: 86 | G24: 7 | H24: 99 | I24: 5 | J24: 21 | K24: 93 | L24: 8 | M24: 93 | N24: 101 | O24: 12
A25: Taoyuan City | C25: 女 Female | D25: 9477 | E25: 8786 | F25: 121 | G25: 22 | H25: 217 | I25: 1 | J25: 43 | K25: 99 | L25: 27 | M25: 69 | N25: 72 | O25: 20
C26: 其他 Other | D26: 1 | E26: 1 | F26: 0 | G26: 0 | H26: 0 | I26: 0 | J26: 0 | K26: 0 | L26: 0 | M26: 0 | N26: 0 | O26: 0
C27: 不詳Unknown | D27: 2 | E27: 2 | F27: 0 | G27: 0 | H27: 0 | I27: 0 | J27: 0 | K27: 0 | L27: 0 | M27: 0 | N27: 0 | O27: 0
A28: 臺中市 | C28: 計 Total | D28: 19542 | E28: 17726 | F28: 248 | G28: 52 | H28: 472 | I28: 17 | J28: 115 | K28: 317 | L28: 67 | M28: 185 | N28: 276 | O28: 67
C29: 男 Male | D29: 7821 | E29: 7044 | F29: 102 | G29: 23 | H29: 143 | I29: 10 | J29: 58 | K29: 163 | L29: 19 | M29: 96 | N29: 137 | O29: 26
A30: Taichung City | C30: 女 Female | D30: 11718 | E30: 10679 | F30: 146 | G30: 29 | H30: 329 | I30: 7 | J30: 57 | K30: 154 | L30: 48 | M30: 89 | N30: 139 | O30: 41
C31: 其他 Other | D31: 2 | E31: 2 | F31: 0 | G31: 0 | H31: 0 | I31: 0 | J31: 0 | K31: 0 | L31: 0 | M31: 0 | N31: 0 | O31: 0
C32: 不詳Unknown | D32: 1 | E32: 1 | F32: 0 | G32: 0 | H32: 0 | I32: 0 | J32: 0 | K32: 0 | L32: 0 | M32: 0 | N32: 0 | O32: 0
A33: 臺南市 | C33: 計 Total | D33: 10228 | E33: 9173 | F33: 200 | G33: 38 | H33: 204 | I33: 13 | J33: 54 | K33: 217 | L33: 57 | M33: 109 | N33: 149 | O33: 14
C34: 男 Male | D34: 3799 | E34: 3364 | F34: 80 | G34: 13 | H34: 50 | I34: 5 | J34: 26 | K34: 108 | L34: 16 | M34: 53 | N34: 79 | O34: 5
A35: Tainan City | C35: 女 Female | D35: 6426 | E35: 5808 | F35: 120 | G35: 25 | H35: 154 | I35: 8 | J35: 28 | K35: 109 | L35: 41 | M35: 55 | N35: 69 | O35: 9
C36: 其他 Other | D36: 0 | E36: 0 | F36: 0 | G36: 0 | H36: 0 | I36: 0 | J36: 0 | K36: 0 | L36: 0 | M36: 0 | N36: 0 | O36: 0
C37: 不詳Unknown | D37: 3 | E37: 1 | F37: 0 | G37: 0 | H37: 0 | I37: 0 | J37: 0 | K37: 0 | L37: 0 | M37: 1 | N37: 1 | O37: 0
A38: 高雄市 | C38: 計 Total | D38: 19568 | E38: 17504 | F38: 280 | G38: 56 | H38: 599 | I38: 27 | J38: 78 | K38: 414 | L38: 108 | M38: 188 | N38: 302 | O38: 12
C39: 男 Male | D39: 7891 | E39: 7001 | F39: 132 | G39: 27 | H39: 170 | I39: 14 | J39: 40 | K39: 222 | L39: 34 | M39: 92 | N39: 155 | O39: 4
A40: Kaohsiung City | C40: 女 Female | D40: 11676 | E40: 10502 | F40: 148 | G40: 29 | H40: 429 | I40: 13 | J40: 38 | K40: 192 | L40: 74 | M40: 96 | N40: 147 | O40: 8
C41: 其他 Other | D41: 1 | E41: 1 | F41: 0 | G41: 0 | H41: 0 | I41: 0 | J41: 0 | K41: 0 | L41: 0 | M41: 0 | N41: 0 | O41: 0
...

Sheet 2024
A1: 家庭暴力通報事件被害人性別及身心障礙別統計(單位：人數)
A2: 113年，2024
A3: 單位：人數 unit:Person
A4: 區域別 Locality | C4: 性別 | D4: 身心障礙別 By Disability
D6: 合計 | E6: 非身心 障礙 | F6: 智障 | G6: 視障 | H6: 精神 病患 | I6: 聲(語)障 | J6: 聽障 | K6: 肢障 | L6: 失智症 | M6: 多重 障礙 | N6: 其他 障礙 | O6: 不詳
C7: Gender | D7: Total | E7: Not Disability | F7: Intellectually Disabled | G7: Vision | H7: Mentally Illed | I7: Voice | J7: Hearing | K7: Physically Impaired | L7: Dementia | M7: Multiple | N7: Other | O7: Unknown
A8: 總計 | C8: 計 Total | D8: 138859 | E8: 125177 | F8: 2080 | G8: 426 | H8: 3484 | I8: 144 | J8: 695 | K8: 2455 | L8: 536 | M8: 1323 | N8: 1909 | O8: 630
C9: 男 Male | D9: 52894 | E9: 47054 | F9: 874 | G9: 221 | H9: 1018 | I9: 86 | J9: 347 | K9: 1242 | L9: 151 | M9: 667 | N9: 1047 | O9: 187
A10: Total | C10: 女 Female | D10: 85864 | E10: 78038 | F10: 1203 | G10: 205 | H10: 2464 | I10: 58 | J10: 348 | K10: 1212 | L10: 385 | M10: 656 | N10: 861 | O10: 434
C11: 其他 Other | D11: 14 | E11: 7 | F11: 2 | G11: 0 | H11: 1 | I11: 0 | J11: 0 | K11: 0 | L11: 0 | M11: 0 | N11: 0 | O11: 4
C12: 不詳Unknown | D12: 87 | E12: 78 | F12: 1 | G12: 0 | H12: 1 | I12: 0 | J12: 0 | K12: 1 | L12: 0 | M12: 0 | N12: 1 | O12: 5
A13: 新北市 | C13: 計 Total | D13: 23113 | E13: 20941 | F13: 256 | G13: 54 | H13: 515 | I13: 10 | J13: 93 | K13: 321 | L13: 67 | M13: 204 | N13: 328 | O13: 324
C14: 男 Male | D14: 8245 | E14: 7370 | F14: 114 | G14: 33 | H14: 140 | I14: 4 | J14: 34 | K14: 151 | L14: 18 | M14: 105 | N14: 180 | O14: 96
A15: New Taipei City | C15: 女 Female | D15: 14831 | E15: 13539 | F15: 142 | G15: 21 | H15: 374 | I15: 6 | J15: 59 | K15: 170 | L15: 49 | M15: 99 | N15: 148 | O15: 224
C16: 其他 Other | D16: 4 | E16: 3 | F16: 0 | G16: 0 | H16: 0 | I16: 0 | J16: 0 | K16: 0 | L16: 0 | M16: 0 | N16: 0 | O16: 1
C17: 不詳Unknown | D17: 33 | E17: 29 | F17: 0 | G17: 0 | H17: 1 | I17: 0 | J17: 0 | K17: 0 | L17: 0 | M17: 0 | N17: 0 | O17: 3
A18: 臺北市 | C18: 計 Total | D18: 13194 | E18: 11933 | F18: 138 | G18: 44 | H18: 368 | I18: 11 | J18: 65 | K18: 158 | L18: 68 | M18: 121 | N18: 207 | O18: 81
C19: 男 Male | D19: 5251 | E19: 4710 | F19: 57 | G19: 26 | H19: 123 | I19: 4 | J19: 31 | K19: 81 | L19: 15 | M19: 55 | N19: 124 | O19: 25
A20: Taipei City | C20: 女 Female | D20: 7928 | E20: 7210 | F20: 81 | G20: 18 | H20: 245 | I20: 7 | J20: 34 | K20: 77 | L20: 53 | M20: 66 | N20: 82 | O20: 55
C21: 其他 Other | D21: 1 | E21: 0 | F21: 0 | G21: 0 | H21: 0 | I21: 0 | J21: 0 | K21: 0 | L21: 0 | M21: 0 | N21: 0 | O21: 1
C22: 不詳Unknown | D22: 14 | E22: 13 | F22: 0 | G22: 0 | H22: 0 | I22: 0 | J22: 0 | K22: 0 | L22: 0 | M22: 0 | N22: 1 | O22: 0
A23: 桃園市 | C23: 計 Total | D23: 14574 | E23: 13417 | F23: 178 | G23: 31 | H23: 299 | I23: 12 | J23: 68 | K23: 200 | L23: 30 | M23: 140 | N23: 154 | O23: 45
C24: 男 Male | D24: 5473 | E24: 4998 | F24: 74 | G24: 14 | H24: 80 | I24: 6 | J24: 29 | K24: 97 | L24: 9 | M24: 71 | N24: 81 | O24: 14
A25: Taoyuan City | C25: 女 Female | D25: 9100 | E25: 8418 | F25: 104 | G25: 17 | H25: 219 | I25: 6 | J25: 39 | K25: 103 | L25: 21 | M25: 69 | N25: 73 | O25: 31
C26: 其他 Other | D26: 0 | E26: 0 | F26: 0 | G26: 0 | H26: 0 | I26: 0 | J26: 0 | K26: 0 | L26: 0 | M26: 0 | N26: 0 | O26: 0
C27: 不詳Unknown | D27: 1 | E27: 1 | F27: 0 | G27: 0 | H27: 0 | I27: 0 | J27: 0 | K27: 0 | L27: 0 | M27: 0 | N27: 0 | O27: 0
A28: 臺中市 | C28: 計 Total | D28: 18668 | E28: 17062 | F28: 240 | G28: 53 | H28: 415 | I28: 13 | J28: 86 | K28: 280 | L28: 66 | M28: 158 | N28: 228 | O28: 67
C29: 男 Male | D29: 7147 | E29: 6458 | F29: 108 | G29: 21 | H29: 139 | I29: 8 | J29: 50 | K29: 143 | L29: 15 | M29: 86 | N29: 103 | O29: 16
A30: Taichung City | C30: 女 Female | D30: 11512 | E30: 10597 | F30: 132 | G30: 32 | H30: 276 | I30: 5 | J30: 36 | K30: 137 | L30: 51 | M30: 72 | N30: 125 | O30: 49
C31: 其他 Other | D31: 2 | E31: 1 | F31: 0 | G31: 0 | H31: 0 | I31: 0 | J31: 0 | K31: 0 | L31: 0 | M31: 0 | N31: 0 | O31: 1
C32: 不詳Unknown | D32: 7 | E32: 6 | F32: 0 | G32: 0 | H32: 0 | I32: 0 | J32: 0 | K32: 0 | L32: 0 | M32: 0 | N32: 0 | O32: 1
A33: 臺南市 | C33: 計 Total | D33: 9273 | E33: 8271 | F33: 191 | G33: 32 | H33: 187 | I33: 14 | J33: 40 | K33: 221 | L33: 52 | M33: 108 | N33: 144 | O33: 13
C34: 男 Male | D34: 3438 | E34: 3004 | F34: 79 | G34: 20 | H34: 54 | I34: 8 | J34: 22 | K34: 102 | L34: 14 | M34: 49 | N34: 81 | O34: 5
A35: Tainan City | C35: 女 Female | D35: 5832 | E35: 5264 | F35: 112 | G35: 12 | H35: 133 | I35: 6 | J35: 18 | K35: 119 | L35: 38 | M35: 59 | N35: 63 | O35: 8
C36: 其他 Other | D36: 2 | E36: 2 | F36: 0 | G36: 0 | H36: 0 | I36: 0 | J36: 0 | K36: 0 | L36: 0 | M36: 0 | N36: 0 | O36: 0
C37: 不詳Unknown | D37: 1 | E37: 1 | F37: 0 | G37: 0 | H37: 0 | I37: 0 | J37: 0 | K37: 0 | L37: 0 | M37: 0 | N37: 0 | O37: 0
A38: 高雄市 | C38: 計 Total | D38: 18612 | E38: 16642 | F38: 268 | G38: 64 | H38: 596 | I38: 26 | J38: 80 | K38: 374 | L38: 92 | M38: 180 | N38: 283 | O38: 7
C39: 男 Male | D39: 7507 | E39: 6655 | F39: 118 | G39: 36 | H39: 175 | I39: 17 | J39: 42 | K39: 199 | L39: 26 | M39: 88 | N39: 150 | O39: 1
A40: Kaohsiung City | C40: 女 Female | D40: 11101 | E40: 9984 | F40: 150 | G40: 28 | H40: 421 | I40: 9 | J40: 38 | K40: 175 | L40: 66 | M40: 92 | N40: 133 | O40: 5
C41: 其他 Other | D41: 0 | E41: 0 | F41: 0 | G41: 0 | H41: 0 | I41: 0 | J41: 0 | K41: 0 | L41: 0 | M41: 0 | N41: 0 | O41: 0
...

Sheet 2023
A1: 家庭暴力通報事件被害人性別及身心障礙別統計(單位：人數)
A2: 112年，2023
A3: 單位：人數 unit:Person
A4: 區域別 Locality | C4: 性別 | D4: 身心障礙別 By Disability
D6: 合計 | E6: 非身心 障礙 | F6: 智障 | G6: 視障 | H6: 精神 病患 | I6: 聲(語)障 | J6: 聽障 | K6: 肢障 | L6: 失智症 | M6: 多重 障礙 | N6: 其他 障礙 | O6: 不詳
C7: Gender | D7: Total | E7: Not Disability | F7: Intellectually Disabled | G7: Vision | H7: Mentally Illed | I7: Voice | J7: Hearing | K7: Physically Impaired | L7: Dementia | M7: Multiple | N7: Other | O7: Unknown
A8: 總計 | C8: 計 Total | D8: 132147 | E8: 119789 | F8: 1964 | G8: 397 | H8: 3105 | I8: 121 | J8: 646 | K8: 2303 | L8: 386 | M8: 1154 | N8: 1585 | O8: 697
C9: 男 Male | D9: 48891 | E9: 43705 | F9: 812 | G9: 181 | H9: 917 | I9: 81 | J9: 289 | K9: 1114 | L9: 117 | M9: 563 | N9: 909 | O9: 203
A10: Total | C10: 女 Female | D10: 83179 | E10: 76021 | F10: 1151 | G10: 216 | H10: 2188 | I10: 40 | J10: 357 | K10: 1188 | L10: 269 | M10: 589 | N10: 676 | O10: 484
C11: 其他 Other | D11: 13 | E11: 11 | F11: 0 | G11: 0 | H11: 0 | I11: 0 | J11: 0 | K11: 0 | L11: 0 | M11: 0 | N11: 0 | O11: 2
C12: 不詳Unknown | D12: 64 | E12: 52 | F12: 1 | G12: 0 | H12: 0 | I12: 0 | J12: 0 | K12: 1 | L12: 0 | M12: 2 | N12: 0 | O12: 8
A13: 新北市 | C13: 計 Total | D13: 21299 | E13: 19312 | F13: 238 | G13: 57 | H13: 460 | I13: 7 | J13: 82 | K13: 276 | L13: 49 | M13: 159 | N13: 300 | O13: 359
C14: 男 Male | D14: 7238 | E14: 6446 | F14: 101 | G14: 21 | H14: 123 | I14: 6 | J14: 31 | K14: 144 | L14: 12 | M14: 76 | N14: 165 | O14: 113
A15: New Taipei City | C15: 女 Female | D15: 14029 | E15: 12842 | F15: 136 | G15: 36 | H15: 337 | I15: 1 | J15: 51 | K15: 131 | L15: 37 | M15: 82 | N15: 135 | O15: 241
C16: 其他 Other | D16: 7 | E16: 6 | F16: 0 | G16: 0 | H16: 0 | I16: 0 | J16: 0 | K16: 0 | L16: 0 | M16: 0 | N16: 0 | O16: 1
C17: 不詳Unknown | D17: 25 | E17: 18 | F17: 1 | G17: 0 | H17: 0 | I17: 0 | J17: 0 | K17: 1 | L17: 0 | M17: 1 | N17: 0 | O17: 4
A18: 臺北市 | C18: 計 Total | D18: 12759 | E18: 11582 | F18: 141 | G18: 41 | H18: 333 | I18: 14 | J18: 68 | K18: 165 | L18: 49 | M18: 122 | N18: 190 | O18: 54
C19: 男 Male | D19: 4911 | E19: 4397 | F19: 60 | G19: 22 | H19: 115 | I19: 7 | J19: 32 | K19: 80 | L19: 11 | M19: 63 | N19: 112 | O19: 12
A20: Taipei City | C20: 女 Female | D20: 7832 | E20: 7170 | F20: 81 | G20: 19 | H20: 218 | I20: 7 | J20: 36 | K20: 85 | L20: 38 | M20: 59 | N20: 78 | O20: 41
C21: 其他 Other | D21: 3 | E21: 3 | F21: 0 | G21: 0 | H21: 0 | I21: 0 | J21: 0 | K21: 0 | L21: 0 | M21: 0 | N21: 0 | O21: 0
C22: 不詳Unknown | D22: 13 | E22: 12 | F22: 0 | G22: 0 | H22: 0 | I22: 0 | J22: 0 | K22: 0 | L22: 0 | M22: 0 | N22: 0 | O22: 1
A23: 桃園市 | C23: 計 Total | D23: 13500 | E23: 12479 | F23: 168 | G23: 29 | H23: 232 | I23: 10 | J23: 54 | K23: 192 | L23: 21 | M23: 156 | N23: 129 | O23: 30
C24: 男 Male | D24: 5033 | E24: 4593 | F24: 69 | G24: 15 | H24: 68 | I24: 8 | J24: 22 | K24: 86 | L24: 11 | M24: 78 | N24: 77 | O24: 6
A25: Taoyuan City | C25: 女 Female | D25: 8464 | E25: 7883 | F25: 99 | G25: 14 | H25: 164 | I25: 2 | J25: 32 | K25: 106 | L25: 10 | M25: 78 | N25: 52 | O25: 24
C26: 其他 Other | D26: 0 | E26: 0 | F26: 0 | G26: 0 | H26: 0 | I26: 0 | J26: 0 | K26: 0 | L26: 0 | M26: 0 | N26: 0 | O26: 0
C27: 不詳Unknown | D27: 3 | E27: 3 | F27: 0 | G27: 0 | H27: 0 | I27: 0 | J27: 0 | K27: 0 | L27: 0 | M27: 0 | N27: 0 | O27: 0
A28: 臺中市 | C28: 計 Total | D28: 18463 | E28: 16949 | F28: 255 | G28: 58 | H28: 351 | I28: 12 | J28: 85 | K28: 274 | L28: 42 | M28: 146 | N28: 191 | O28: 100
C29: 男 Male | D29: 6992 | E29: 6348 | F29: 102 | G29: 25 | H29: 111 | I29: 9 | J29: 37 | K29: 133 | L29: 11 | M29: 78 | N29: 109 | O29: 29
A30: Taichung City | C30: 女 Female | D30: 11469 | E30: 10600 | F30: 153 | G30: 33 | H30: 240 | I30: 3 | J30: 48 | K30: 141 | L30: 31 | M30: 68 | N30: 82 | O30: 70
C31: 其他 Other | D31: 1 | E31: 0 | F31: 0 | G31: 0 | H31: 0 | I31: 0 | J31: 0 | K31: 0 | L31: 0 | M31: 0 | N31: 0 | O31: 1
C32: 不詳Unknown | D32: 1 | E32: 1 | F32: 0 | G32: 0 | H32: 0 | I32: 0 | J32: 0 | K32: 0 | L32: 0 | M32: 0 | N32: 0 | O32: 0
A33: 臺南市 | C33: 計 Total | D33: 8779 | E33: 7944 | F33: 164 | G33: 30 | H33: 183 | I33: 9 | J33: 50 | K33: 184 | L33: 29 | M33: 72 | N33: 102 | O33: 12
C34: 男 Male | D34: 3047 | E34: 2714 | F34: 72 | G34: 10 | H34: 48 | I34: 7 | J34: 22 | K34: 74 | L34: 5 | M34: 31 | N34: 60 | O34: 4
A35: Tainan City | C35: 女 Female | D35: 5731 | E35: 5229 | F35: 92 | G35: 20 | H35: 135 | I35: 2 | J35: 28 | K35: 110 | L35: 24 | M35: 41 | N35: 42 | O35: 8
C36: 其他 Other | D36: 0 | E36: 0 | F36: 0 | G36: 0 | H36: 0 | I36: 0 | J36: 0 | K36: 0 | L36: 0 | M36: 0 | N36: 0 | O36: 0
C37: 不詳Unknown | D37: 1 | E37: 1 | F37: 0 | G37: 0 | H37: 0 | I37: 0 | J37: 0 | K37: 0 | L37: 0 | M37: 0 | N37: 0 | O37: 0
A38: 高雄市 | C38: 計 Total | D38: 17824 | E38: 16096 | F38: 265 | G38: 51 | H38: 508 | I38: 23 | J38: 81 | K38: 349 | L38: 57 | M38: 148 | N38: 236 | O38: 10
C39: 男 Male | D39: 6997 | E39: 6271 | F39: 118 | G39: 29 | H39: 143 | I39: 15 | J39: 36 | K39: 172 | L39: 20 | M39: 60 | N39: 130 | O39: 3
A40: Kaohsiung City | C40: 女 Female | D40: 10825 | E40: 9823 | F40: 147 | G40: 22 | H40: 365 | I40: 8 | J40: 45 | K40: 177 | L40: 37 | M40: 88 | N40: 106 | O40: 7
C41: 其他 Other | D41: 1 | E41: 1 | F41: 0 | G41: 0 | H41: 0 | I41: 0 | J41: 0 | K41: 0 | L41: 0 | M41: 0 | N41: 0 | O41: 0
...

Sheet 2022
A1: 家庭暴力通報事件被害人性別及身心障礙別統計(單位：人數)
A2: 111年，2022
A3: 單位：人數 unit:Person
A4: 區域別 Locality | C4: 性別 | D4: 身心障礙別 By Disability
D6: 合計 | E6: 非身心 障礙 | F6: 智障 | G6: 視障 | H6: 精神 病患 | I6: 聲(語)障 | J6: 聽障 | K6: 肢障 | L6: 失智症 | M6: 多重 障礙 | N6: 其他 障礙 | O6: 不詳
C7: Gender | D7: Total | E7: Not Disability | F7: Intellectually Disabled | G7: Vision | H7: Mentally Illed | I7: Voice | J7: Hearing | K7: Physically Impaired | L7: Dementia | M7: Multiple | N7: Other | O7: Unknown
A8: 總計 | C8: 計 Total | D8: 123741 | E8: 112228 | F8: 1780 | G8: 482 | H8: 2917 | I8: 92 | J8: 607 | K8: 2108 | L8: 336 | M8: 1012 | N8: 1367 | O8: 812
C9: 男 Male | D9: 44773 | E9: 39946 | F9: 746 | G9: 208 | H9: 808 | I9: 55 | J9: 296 | K9: 1057 | L9: 113 | M9: 503 | N9: 794 | O9: 247
A10: Total | C10: 女 Female | D10: 78903 | E10: 72230 | F10: 1032 | G10: 274 | H10: 2108 | I10: 37 | J10: 311 | K10: 1051 | L10: 223 | M10: 509 | N10: 572 | O10: 556
C11: 其他 Other | D11: 14 | E11: 11 | F11: 1 | G11: 0 | H11: 0 | I11: 0 | J11: 0 | K11: 0 | L11: 0 | M11: 0 | N11: 0 | O11: 2
C12: 不詳Unknown | D12: 51 | E12: 41 | F12: 1 | G12: 0 | H12: 1 | I12: 0 | J12: 0 | K12: 0 | L12: 0 | M12: 0 | N12: 1 | O12: 7
A13: 新北市 | C13: 計 Total | D13: 19774 | E13: 17884 | F13: 243 | G13: 85 | H13: 385 | I13: 7 | J13: 71 | K13: 270 | L13: 50 | M13: 123 | N13: 235 | O13: 421
C14: 男 Male | D14: 6464 | E14: 5710 | F14: 102 | G14: 39 | H14: 92 | I14: 2 | J14: 33 | K14: 137 | L14: 15 | M14: 55 | N14: 143 | O14: 136
A15: New Taipei City | C15: 女 Female | D15: 13274 | E15: 12145 | F15: 141 | G15: 46 | H15: 293 | I15: 5 | J15: 38 | K15: 133 | L15: 35 | M15: 68 | N15: 92 | O15: 278
C16: 其他 Other | D16: 7 | E16: 5 | F16: 0 | G16: 0 | H16: 0 | I16: 0 | J16: 0 | K16: 0 | L16: 0 | M16: 0 | N16: 0 | O16: 2
C17: 不詳Unknown | D17: 29 | E17: 24 | F17: 0 | G17: 0 | H17: 0 | I17: 0 | J17: 0 | K17: 0 | L17: 0 | M17: 0 | N17: 0 | O17: 5
A18: 臺北市 | C18: 計 Total | D18: 12194 | E18: 11095 | F18: 105 | G18: 44 | H18: 354 | I18: 3 | J18: 63 | K18: 168 | L18: 39 | M18: 107 | N18: 145 | O18: 71
C19: 男 Male | D19: 4717 | E19: 4252 | F19: 49 | G19: 20 | H19: 115 | I19: 1 | J19: 35 | K19: 80 | L19: 10 | M19: 45 | N19: 93 | O19: 17
A20: Taipei City | C20: 女 Female | D20: 7473 | E20: 6839 | F20: 56 | G20: 24 | H20: 239 | I20: 2 | J20: 28 | K20: 88 | L20: 29 | M20: 62 | N20: 52 | O20: 54
C21: 其他 Other | D21: 1 | E21: 1 | F21: 0 | G21: 0 | H21: 0 | I21: 0 | J21: 0 | K21: 0 | L21: 0 | M21: 0 | N21: 0 | O21: 0
C22: 不詳Unknown | D22: 3 | E22: 3 | F22: 0 | G22: 0 | H22: 0 | I22: 0 | J22: 0 | K22: 0 | L22: 0 | M22: 0 | N22: 0 | O22: 0
A23: 桃園市 | C23: 計 Total | D23: 12410 | E23: 11534 | F23: 160 | G23: 27 | H23: 208 | I23: 7 | J23: 48 | K23: 163 | L23: 17 | M23: 99 | N23: 103 | O23: 44
C24: 男 Male | D24: 4389 | E24: 4014 | F24: 67 | G24: 13 | H24: 53 | I24: 4 | J24: 21 | K24: 84 | L24: 10 | M24: 55 | N24: 55 | O24: 13
A25: Taoyuan City | C25: 女 Female | D25: 8018 | E25: 7517 | F25: 93 | G25: 14 | H25: 155 | I25: 3 | J25: 27 | K25: 79 | L25: 7 | M25: 44 | N25: 48 | O25: 31
C26: 其他 Other | D26: 1 | E26: 1 | F26: 0 | G26: 0 | H26: 0 | I26: 0 | J26: 0 | K26: 0 | L26: 0 | M26: 0 | N26: 0 | O26: 0
C27: 不詳Unknown | D27: 2 | E27: 2 | F27: 0 | G27: 0 | H27: 0 | I27: 0 | J27: 0 | K27: 0 | L27: 0 | M27: 0 | N27: 0 | O27: 0
A28: 臺中市 | C28: 計 Total | D28: 17446 | E28: 15969 | F28: 210 | G28: 79 | H28: 326 | I28: 6 | J28: 103 | K28: 240 | L28: 41 | M28: 133 | N28: 200 | O28: 139
C29: 男 Male | D29: 6624 | E29: 5991 | F29: 91 | G29: 31 | H29: 88 | I29: 2 | J29: 53 | K29: 117 | L29: 19 | M29: 65 | N29: 118 | O29: 49
A30: Taichung City | C30: 女 Female | D30: 10816 | E30: 9974 | F30: 118 | G30: 48 | H30: 237 | I30: 4 | J30: 50 | K30: 123 | L30: 22 | M30: 68 | N30: 82 | O30: 90
C31: 其他 Other | D31: 4 | E31: 3 | F31: 1 | G31: 0 | H31: 0 | I31: 0 | J31: 0 | K31: 0 | L31: 0 | M31: 0 | N31: 0 | O31: 0
C32: 不詳Unknown | D32: 2 | E32: 1 | F32: 0 | G32: 0 | H32: 1 | I32: 0 | J32: 0 | K32: 0 | L32: 0 | M32: 0 | N32: 0 | O32: 0
A33: 臺南市 | C33: 計 Total | D33: 8059 | E33: 7313 | F33: 154 | G33: 28 | H33: 180 | I33: 4 | J33: 39 | K33: 145 | L33: 37 | M33: 60 | N33: 86 | O33: 13
C34: 男 Male | D34: 2759 | E34: 2438 | F34: 64 | G34: 13 | H34: 64 | I34: 3 | J34: 16 | K34: 75 | L34: 11 | M34: 24 | N34: 50 | O34: 1
A35: Tainan City | C35: 女 Female | D35: 5300 | E35: 4875 | F35: 90 | G35: 15 | H35: 116 | I35: 1 | J35: 23 | K35: 70 | L35: 26 | M35: 36 | N35: 36 | O35: 12
C36: 其他 Other | D36: 0 | E36: 0 | F36: 0 | G36: 0 | H36: 0 | I36: 0 | J36: 0 | K36: 0 | L36: 0 | M36: 0 | N36: 0 | O36: 0
C37: 不詳Unknown | D37: 0 | E37: 0 | F37: 0 | G37: 0 | H37: 0 | I37: 0 | J37: 0 | K37: 0 | L37: 0 | M37: 0 | N37: 0 | O37: 0
A38: 高雄市 | C38: 計 Total | D38: 17217 | E38: 15618 | F38: 234 | G38: 72 | H38: 490 | I38: 21 | J38: 77 | K38: 300 | L38: 46 | M38: 142 | N38: 191 | O38: 26
C39: 男 Male | D39: 6693 | E39: 6020 | F39: 99 | G39: 35 | H39: 124 | I39: 13 | J39: 41 | K39: 159 | L39: 17 | M39: 77 | N39: 104 | O39: 4
A40: Kaohsiung City | C40: 女 Female | D40: 10521 | E40: 9596 | F40: 135 | G40: 37 | H40: 366 | I40: 8 | J40: 36 | K40: 141 | L40: 29 | M40: 65 | N40: 87 | O40: 21
C41: 其他 Other | D41: 1 | E41: 1 | F41: 0 | G41: 0 | H41: 0 | I41: 0 | J41: 0 | K41: 0 | L41: 0 | M41: 0 | N41: 0 | O41: 0
...

Sheet 2021
A1: 家庭暴力事件通報被害及相對人概況Overview of Victim and Offender Status in Reporting Cases of Domestic Violence | B1: 家庭暴力通報事件被害人性別及身心障礙別統計(單位：人數)
A2: 110年，2021
A3: 單位：人數 unit:Person
A4: 區域別 Locality | C4: 性別 | D4: 身心障礙別 By Disability
D6: 合計 | E6: 非身心 障礙 | F6: 智障 | G6: 視障 | H6: 精神 病患 | I6: 聲(語)障 | J6: 聽障 | K6: 肢障 | L6: 多重 障礙 | M6: 其他 障礙 | N6: 不詳
C7: Gender | D7: Total | E7: Not Disability | F7: Intellectually Disabled | G7: Vision | H7: Mentally Illed | I7: Voice | J7: Hearing | K7: Physically Impaired | L7: Multiple | M7: Other | N7: Unknown
A8: 總計 | C8: 計 Total | D8: 118532 | E8: 106938 | F8: 1717 | G8: 458 | H8: 2831 | I8: 95 | J8: 553 | K8: 2071 | L8: 957 | M8: 1379 | N8: 1533
C9: 男 Male | D9: 42274 | E9: 37529 | F9: 699 | G9: 187 | H9: 803 | I9: 62 | J9: 240 | K9: 1025 | L9: 472 | M9: 717 | N9: 540
A10: Total | C10: 女 Female | D10: 76189 | E10: 69360 | F10: 1018 | G10: 271 | H10: 2028 | I10: 33 | J10: 313 | K10: 1046 | L10: 485 | M10: 662 | N10: 973
C11: 其他 Other | D11: 22 | E11: 17 | F11: 0 | G11: 0 | H11: 0 | I11: 0 | J11: 0 | K11: 0 | L11: 0 | M11: 0 | N11: 5
C12: 不詳Unknown | D12: 47 | E12: 32 | F12: 0 | G12: 0 | H12: 0 | I12: 0 | J12: 0 | K12: 0 | L12: 0 | M12: 0 | N12: 15
A13: 新北市 | C13: 計 Total | D13: 18921 | E13: 16715 | F13: 224 | G13: 68 | H13: 399 | I13: 9 | J13: 80 | K13: 248 | L13: 143 | M13: 196 | N13: 839
C14: 男 Male | D14: 6176 | E14: 5354 | F14: 88 | G14: 21 | H14: 83 | I14: 6 | J14: 31 | K14: 113 | L14: 73 | M14: 105 | N14: 302
A15: New Taipei City | C15: 女 Female | D15: 12720 | E15: 11343 | F15: 136 | G15: 47 | H15: 316 | I15: 3 | J15: 49 | K15: 135 | L15: 70 | M15: 91 | N15: 530
C16: 其他 Other | D16: 2 | E16: 0 | F16: 0 | G16: 0 | H16: 0 | I16: 0 | J16: 0 | K16: 0 | L16: 0 | M16: 0 | N16: 2
C17: 不詳Unknown | D17: 23 | E17: 18 | F17: 0 | G17: 0 | H17: 0 | I17: 0 | J17: 0 | K17: 0 | L17: 0 | M17: 0 | N17: 5
A18: 臺北市 | C18: 計 Total | D18: 12216 | E18: 11099 | F18: 112 | G18: 52 | H18: 330 | I18: 5 | J18: 52 | K18: 165 | L18: 95 | M18: 174 | N18: 132
C19: 男 Male | D19: 4699 | E19: 4192 | F19: 47 | G19: 24 | H19: 124 | I19: 5 | J19: 25 | K19: 83 | L19: 44 | M19: 100 | N19: 55
A20: Taipei City | C20: 女 Female | D20: 7515 | E20: 6905 | F20: 65 | G20: 28 | H20: 206 | I20: 0 | J20: 27 | K20: 82 | L20: 51 | M20: 74 | N20: 77
C21: 其他 Other | D21: 1 | E21: 1 | F21: 0 | G21: 0 | H21: 0 | I21: 0 | J21: 0 | K21: 0 | L21: 0 | M21: 0 | N21: 0
C22: 不詳Unknown | D22: 1 | E22: 1 | F22: 0 | G22: 0 | H22: 0 | I22: 0 | J22: 0 | K22: 0 | L22: 0 | M22: 0 | N22: 0
A23: 桃園市 | C23: 計 Total | D23: 11552 | E23: 10741 | F23: 174 | G23: 20 | H23: 203 | I23: 6 | J23: 37 | K23: 156 | L23: 94 | M23: 85 | N23: 36
C24: 男 Male | D24: 4114 | E24: 3772 | F24: 70 | G24: 10 | H24: 65 | I24: 3 | J24: 21 | K24: 77 | L24: 47 | M24: 44 | N24: 5
A25: Taoyuan City | C25: 女 Female | D25: 7436 | E25: 6967 | F25: 104 | G25: 10 | H25: 138 | I25: 3 | J25: 16 | K25: 79 | L25: 47 | M25: 41 | N25: 31
C26: 其他 Other | D26: 2 | E26: 2 | F26: 0 | G26: 0 | H26: 0 | I26: 0 | J26: 0 | K26: 0 | L26: 0 | M26: 0 | N26: 0
C27: 不詳Unknown | D27: 0 | E27: 0 | F27: 0 | G27: 0 | H27: 0 | I27: 0 | J27: 0 | K27: 0 | L27: 0 | M27: 0 | N27: 0
A28: 臺中市 | C28: 計 Total | D28: 16229 | E28: 14815 | F28: 206 | G28: 83 | H28: 335 | I28: 11 | J28: 88 | K28: 251 | L28: 118 | M28: 171 | N28: 151
C29: 男 Male | D29: 6014 | E29: 5400 | F29: 95 | G29: 36 | H29: 97 | I29: 6 | J29: 46 | K29: 126 | L29: 66 | M29: 90 | N29: 52
A30: Taichung City | C30: 女 Female | D30: 10206 | E30: 9411 | F30: 111 | G30: 47 | H30: 238 | I30: 5 | J30: 42 | K30: 125 | L30: 52 | M30: 81 | N30: 94
C31: 其他 Other | D31: 3 | E31: 3 | F31: 0 | G31: 0 | H31: 0 | I31: 0 | J31: 0 | K31: 0 | L31: 0 | M31: 0 | N31: 0
C32: 不詳Unknown | D32: 6 | E32: 1 | F32: 0 | G32: 0 | H32: 0 | I32: 0 | J32: 0 | K32: 0 | L32: 0 | M32: 0 | N32: 5
A33: 臺南市 | C33: 計 Total | D33: 7670 | E33: 6936 | F33: 129 | G33: 38 | H33: 163 | I33: 8 | J33: 32 | K33: 147 | L33: 71 | M33: 114 | N33: 32
C34: 男 Male | D34: 2601 | E34: 2307 | F34: 58 | G34: 13 | H34: 50 | I34: 7 | J34: 14 | K34: 67 | L34: 23 | M34: 53 | N34: 9
A35: Tainan City | C35: 女 Female | D35: 5066 | E35: 4627 | F35: 71 | G35: 25 | H35: 113 | I35: 1 | J35: 18 | K35: 80 | L35: 48 | M35: 61 | N35: 22
C36: 其他 Other | D36: 2 | E36: 1 | F36: 0 | G36: 0 | H36: 0 | I36: 0 | J36: 0 | K36: 0 | L36: 0 | M36: 0 | N36: 1
C37: 不詳Unknown | D37: 1 | E37: 1 | F37: 0 | G37: 0 | H37: 0 | I37: 0 | J37: 0 | K37: 0 | L37: 0 | M37: 0 | N37: 0
A38: 高雄市 | C38: 計 Total | D38: 16972 | E38: 15353 | F38: 251 | G38: 63 | H38: 496 | I38: 19 | J38: 64 | K38: 307 | L38: 126 | M38: 230 | N38: 63
C39: 男 Male | D39: 6539 | E39: 5869 | F39: 106 | G39: 31 | H39: 138 | I39: 10 | J39: 22 | K39: 158 | L39: 58 | M39: 126 | N39: 21
A40: Kaohsiung City | C40: 女 Female | D40: 10422 | E40: 9476 | F40: 145 | G40: 32 | H40: 358 | I40: 9 | J40: 42 | K40: 149 | L40: 68 | M40: 104 | N40: 39
C41: 其他 Other | D41: 4 | E41: 4 | F41: 0 | G41: 0 | H41: 0 | I41: 0 | J41: 0 | K41: 0 | L41: 0 | M41: 0 | N41: 0
...

Sheet 2020
A1: 家庭暴力通報事件被害人性別及身心障礙別統計(單位：人數)
A2: 區域別 Locality | C2: 性別 | D2: 身心障礙別 By Disability
D3: 合計 | E3: 非身心 障礙 | F3: 智障 | G3: 視障 | H3: 精神 病患 | I3: 聲(語)障 | J3: 聽障 | K3: 肢障 | L3: 多重 障礙 | M3: 其他 障礙 | N3: 不詳
C4: Gender | D4: Total | E4: Not Disability | F4: Intellectually Disabled | G4: Vision | H4: Mentally Illed | I4: Voice | J4: Hearing | K4: Physically Impaired | L4: Multiple | M4: Other | N4: Unknown
A5: 109年上半年 2020 | C5: 計 Total | D5: 114381 | E5: 102860 | F5: 1583 | G5: 419 | H5: 2573 | I5: 86 | J5: 521 | K5: 2044 | L5: 795 | M5: 1139 | N5: 2361
C6: 男 Male | D6: 39225 | E6: 34581 | F6: 611 | G6: 165 | H6: 743 | I6: 58 | J6: 230 | K6: 995 | L6: 378 | M6: 522 | N6: 942
C7: 女 Female | D7: 75083 | E7: 68241 | F7: 971 | G7: 254 | H7: 1830 | I7: 28 | J7: 291 | K7: 1049 | L7: 415 | M7: 617 | N7: 1387
C8: 其他 Other | D8: 73 | E8: 38 | F8: 1 | G8: 0 | H8: 0 | I8: 0 | J8: 0 | K8: 0 | L8: 2 | M8: 0 | N8: 32
A9: 新北市 | C9: 計 Total | D9: 18954 | E9: 16531 | F9: 193 | G9: 64 | H9: 335 | I9: 4 | J9: 63 | K9: 246 | L9: 99 | M9: 148 | N9: 1271
C10: 男 Male | D10: 5889 | E10: 4964 | F10: 78 | G10: 22 | H10: 66 | I10: 4 | J10: 25 | K10: 114 | L10: 44 | M10: 73 | N10: 499
A11: New Taipei City | C11: 女 Female | D11: 13041 | E11: 11555 | F11: 115 | G11: 42 | H11: 269 | I11: 0 | J11: 38 | K11: 132 | L11: 55 | M11: 75 | N11: 760
C12: 其他 Other | D12: 24 | E12: 12 | F12: 0 | G12: 0 | H12: 0 | I12: 0 | J12: 0 | K12: 0 | L12: 0 | M12: 0 | N12: 12
A13: 臺北市 | C13: 計 Total | D13: 12520 | E13: 11386 | F13: 96 | G13: 46 | H13: 373 | I13: 5 | J13: 58 | K13: 163 | L13: 94 | M13: 131 | N13: 168
C14: 男 Male | D14: 4727 | E14: 4263 | F14: 47 | G14: 16 | H14: 122 | I14: 3 | J14: 29 | K14: 81 | L14: 38 | M14: 63 | N14: 65
A15: Taipei City | C15: 女 Female | D15: 7784 | E15: 7117 | F15: 49 | G15: 30 | H15: 251 | I15: 2 | J15: 29 | K15: 82 | L15: 56 | M15: 68 | N15: 100
C16: 其他 Other | D16: 9 | E16: 6 | F16: 0 | G16: 0 | H16: 0 | I16: 0 | J16: 0 | K16: 0 | L16: 0 | M16: 0 | N16: 3
A17: 桃園市 | C17: 計 Total | D17: 11146 | E17: 10318 | F17: 177 | G17: 25 | H17: 184 | I17: 8 | J17: 48 | K17: 170 | L17: 64 | M17: 87 | N17: 65
C18: 男 Male | D18: 3807 | E18: 3464 | F18: 70 | G18: 10 | H18: 55 | I18: 6 | J18: 28 | K18: 88 | L18: 29 | M18: 40 | N18: 17
A19: Taoyuan City | C19: 女 Female | D19: 7339 | E19: 6854 | F19: 107 | G19: 15 | H19: 129 | I19: 2 | J19: 20 | K19: 82 | L19: 35 | M19: 47 | N19: 48
C20: 其他 Other | D20: 0 | E20: 0 | F20: 0 | G20: 0 | H20: 0 | I20: 0 | J20: 0 | K20: 0 | L20: 0 | M20: 0 | N20: 0
A21: 臺中市 | C21: 計 Total | D21: 15611 | E21: 14220 | F21: 211 | G21: 63 | H21: 285 | I21: 12 | J21: 65 | K21: 269 | L21: 100 | M21: 156 | N21: 230
C22: 男 Male | D22: 5553 | E22: 4952 | F22: 100 | G22: 28 | H22: 90 | I22: 7 | J22: 30 | K22: 134 | L22: 53 | M22: 75 | N22: 84
A23: Taichung City | C23: 女 Female | D23: 10048 | E23: 9264 | F23: 111 | G23: 35 | H23: 195 | I23: 5 | J23: 35 | K23: 135 | L23: 46 | M23: 81 | N23: 141
C24: 其他 Other | D24: 10 | E24: 4 | F24: 0 | G24: 0 | H24: 0 | I24: 0 | J24: 0 | K24: 0 | L24: 1 | M24: 0 | N24: 5
A25: 臺南市 | C25: 計 Total | D25: 7249 | E25: 6540 | F25: 129 | G25: 31 | H25: 148 | I25: 6 | J25: 32 | K25: 134 | L25: 44 | M25: 100 | N25: 85
C26: 男 Male | D26: 2401 | E26: 2104 | F26: 52 | G26: 9 | H26: 49 | I26: 5 | J26: 14 | K26: 75 | L26: 20 | M26: 40 | N26: 33
A27: Tainan City | C27: 女 Female | D27: 4845 | E27: 4434 | F27: 77 | G27: 22 | H27: 99 | I27: 1 | J27: 18 | K27: 59 | L27: 24 | M27: 60 | N27: 51
C28: 其他 Other | D28: 3 | E28: 2 | F28: 0 | G28: 0 | H28: 0 | I28: 0 | J28: 0 | K28: 0 | L28: 0 | M28: 0 | N28: 1
A29: 高雄市 | C29: 計 Total | D29: 15304 | E29: 13923 | F29: 198 | G29: 58 | H29: 416 | I29: 19 | J29: 57 | K29: 286 | L29: 111 | M29: 145 | N29: 91
C30: 男 Male | D30: 5662 | E30: 5110 | F30: 84 | G30: 24 | H30: 123 | I30: 10 | J30: 22 | K30: 135 | L30: 56 | M30: 57 | N30: 41
A31: Kaohsiung City | C31: 女 Female | D31: 9631 | E31: 8807 | F31: 113 | G31: 34 | H31: 293 | I31: 9 | J31: 35 | K31: 151 | L31: 55 | M31: 88 | N31: 46
C32: 其他 Other | D32: 11 | E32: 6 | F32: 1 | G32: 0 | H32: 0 | I32: 0 | J32: 0 | K32: 0 | L32: 0 | M32: 0 | N32: 4
B33: 宜蘭縣 | C33: 計 Total | D33: 1813 | E33: 1569 | F33: 25 | G33: 8 | H33: 69 | I33: 2 | J33: 13 | K33: 51 | L33: 21 | M33: 28 | N33: 27
C34: 男 Male | D34: 577 | E34: 486 | F34: 7 | G34: 3 | H34: 16 | I34: 2 | J34: 4 | K34: 21 | L34: 14 | M34: 13 | N34: 11
B35: Yilan County | C35: 女 Female | D35: 1234 | E35: 1082 | F35: 18 | G35: 5 | H35: 53 | I35: 0 | J35: 9 | K35: 30 | L35: 6 | M35: 15 | N35: 16
C36: 其他 Other | D36: 2 | E36: 1 | F36: 0 | G36: 0 | H36: 0 | I36: 0 | J36: 0 | K36: 0 | L36: 1 | M36: 0 | N36: 0
B37: 新竹縣 | C37: 計 Total | D37: 2366 | E37: 2202 | F37: 28 | G37: 9 | H37: 34 | I37: 1 | J37: 10 | K37: 25 | L37: 17 | M37: 19 | N37: 21
C38: 男 Male | D38: 773 | E38: 704 | F38: 10 | G38: 4 | H38: 11 | I38: 1 | J38: 3 | K38: 11 | L38: 13 | M38: 12 | N38: 4
B39: Hsinchu County | C39: 女 Female | D39: 1592 | E39: 1498 | F39: 18 | G39: 5 | H39: 23 | I39: 0 | J39: 7 | K39: 14 | L39: 4 | M39: 7 | N39: 16
C40: 其他 Other | D40: 1 | E40: 0 | F40: 0 | G40: 0 | H40: 0 | I40: 0 | J40: 0 | K40: 0 | L40: 0 | M40: 0 | N40: 1
...

Sheet 2019
A1: 家庭暴力通報事件被害人性別及身心障礙別統計(單位：人數)
A2: 區域別 Locality | C2: 性別 | D2: 身心障礙別 By Disability
D3: 合計 | E3: 非身心 障礙 | F3: 智障 | G3: 視障 | H3: 精神 病患 | I3: 聲(語)障 | J3: 聽障 | K3: 肢障 | L3: 多重 障礙 | M3: 其他 障礙 | N3: 不詳
C4: Gender | D4: Total | E4: Not Disability | F4: Intellectually Disabled | G4: Vision | H4: Mentally Illed | I4: Voice | J4: Hearing | K4: Physically Impaired | L4: Multiple | M4: Other | N4: Unknown
A5: 108年 2019 | C5: 計 Total | D5: 103930 | E5: 93093 | F5: 1357 | G5: 385 | H5: 2347 | I5: 70 | J5: 516 | K5: 1828 | L5: 726 | M5: 1011 | N5: 2597
C6: 男 Male | D6: 33498 | E6: 29529 | F6: 537 | G6: 150 | H6: 637 | I6: 41 | J6: 238 | K6: 871 | L6: 330 | M6: 418 | N6: 747
C7: 女 Female | D7: 70362 | E7: 63530 | F7: 820 | G7: 235 | H7: 1710 | I7: 29 | J7: 277 | K7: 956 | L7: 396 | M7: 593 | N7: 1816
C8: 其他 Other | D8: 70 | E8: 34 | F8: 0 | G8: 0 | H8: 0 | I8: 0 | J8: 1 | K8: 1 | L8: 0 | M8: 0 | N8: 34
A9: 新北市 | C9: 計 Total | D9: 16723 | E9: 14432 | F9: 157 | G9: 53 | H9: 343 | I9: 9 | J9: 72 | K9: 211 | L9: 77 | M9: 137 | N9: 1232
C10: 男 Male | D10: 4654 | E10: 3974 | F10: 67 | G10: 18 | H10: 73 | I10: 6 | J10: 26 | K10: 90 | L10: 35 | M10: 49 | N10: 316
A11: New Taipei City | C11: 女 Female | D11: 12048 | E11: 10450 | F11: 90 | G11: 35 | H11: 270 | I11: 3 | J11: 46 | K11: 121 | L11: 42 | M11: 88 | N11: 903
C12: 其他 Other | D12: 21 | E12: 8 | F12: 0 | G12: 0 | H12: 0 | I12: 0 | J12: 0 | K12: 0 | L12: 0 | M12: 0 | N12: 13
A13: 臺北市 | C13: 計 Total | D13: 11581 | E13: 10535 | F13: 93 | G13: 43 | H13: 307 | I13: 4 | J13: 64 | K13: 136 | L13: 89 | M13: 137 | N13: 173
C14: 男 Male | D14: 4060 | E14: 3653 | F14: 47 | G14: 18 | H14: 89 | I14: 1 | J14: 36 | K14: 64 | L14: 39 | M14: 59 | N14: 54
A15: Taipei City | C15: 女 Female | D15: 7517 | E15: 6878 | F15: 46 | G15: 25 | H15: 218 | I15: 3 | J15: 28 | K15: 72 | L15: 50 | M15: 78 | N15: 119
C16: 其他 Other | D16: 4 | E16: 4 | F16: 0 | G16: 0 | H16: 0 | I16: 0 | J16: 0 | K16: 0 | L16: 0 | M16: 0 | N16: 0
A17: 桃園市 | C17: 計 Total | D17: 9615 | E17: 8923 | F17: 125 | G17: 17 | H17: 138 | I17: 5 | J17: 35 | K17: 131 | L17: 61 | M17: 61 | N17: 119
C18: 男 Male | D18: 3044 | E18: 2824 | F18: 34 | G18: 6 | H18: 27 | I18: 3 | J18: 19 | K18: 59 | L18: 26 | M18: 27 | N18: 19
A19: Taoyuan City | C19: 女 Female | D19: 6566 | E19: 6097 | F19: 91 | G19: 11 | H19: 111 | I19: 2 | J19: 16 | K19: 72 | L19: 35 | M19: 34 | N19: 97
C20: 其他 Other | D20: 5 | E20: 2 | F20: 0 | G20: 0 | H20: 0 | I20: 0 | J20: 0 | K20: 0 | L20: 0 | M20: 0 | N20: 3
A21: 臺中市 | C21: 計 Total | D21: 14337 | E21: 12966 | F21: 178 | G21: 60 | H21: 265 | I21: 7 | J21: 73 | K21: 209 | L21: 96 | M21: 131 | N21: 352
C22: 男 Male | D22: 4845 | E22: 4363 | F22: 84 | G22: 18 | H22: 68 | I22: 6 | J22: 32 | K22: 96 | L22: 41 | M22: 57 | N22: 80
A23: Taichung City | C23: 女 Female | D23: 9480 | E23: 8598 | F23: 94 | G23: 42 | H23: 197 | I23: 1 | J23: 41 | K23: 113 | L23: 55 | M23: 74 | N23: 265
C24: 其他 Other | D24: 12 | E24: 5 | F24: 0 | G24: 0 | H24: 0 | I24: 0 | J24: 0 | K24: 0 | L24: 0 | M24: 0 | N24: 7
A25: 臺南市 | C25: 計 Total | D25: 6550 | E25: 5955 | F25: 96 | G25: 30 | H25: 126 | I25: 8 | J25: 29 | K25: 138 | L25: 50 | M25: 72 | N25: 46
C26: 男 Male | D26: 1999 | E26: 1769 | F26: 45 | G26: 12 | H26: 36 | I26: 5 | J26: 15 | K26: 68 | L26: 17 | M26: 21 | N26: 11
A27: Tainan City | C27: 女 Female | D27: 4549 | E27: 4186 | F27: 51 | G27: 18 | H27: 90 | I27: 3 | J27: 14 | K27: 70 | L27: 33 | M27: 51 | N27: 33
C28: 其他 Other | D28: 2 | E28: 0 | F28: 0 | G28: 0 | H28: 0 | I28: 0 | J28: 0 | K28: 0 | L28: 0 | M28: 0 | N28: 2
A29: 高雄市 | C29: 計 Total | D29: 14111 | E29: 12730 | F29: 191 | G29: 56 | H29: 399 | I29: 9 | J29: 65 | K29: 250 | L29: 114 | M29: 130 | N29: 167
C30: 男 Male | D30: 5052 | E30: 4477 | F30: 82 | G30: 31 | H30: 111 | I30: 5 | J30: 28 | K30: 133 | L30: 58 | M30: 59 | N30: 68
A31: Kaohsiung City | C31: 女 Female | D31: 9050 | E31: 8250 | F31: 109 | G31: 25 | H31: 288 | I31: 4 | J31: 37 | K31: 117 | L31: 56 | M31: 71 | N31: 93
C32: 其他 Other | D32: 9 | E32: 3 | F32: 0 | G32: 0 | H32: 0 | I32: 0 | J32: 0 | K32: 0 | L32: 0 | M32: 0 | N32: 6
B33: 宜蘭縣 | C33: 計 Total | D33: 1545 | E33: 1356 | F33: 21 | G33: 8 | H33: 62 | I33: 2 | J33: 8 | K33: 43 | L33: 12 | M33: 25 | N33: 8
C34: 男 Male | D34: 443 | E34: 374 | F34: 7 | G34: 3 | H34: 16 | I34: 1 | J34: 5 | K34: 18 | L34: 8 | M34: 9 | N34: 2
B35: Yilan County | C35: 女 Female | D35: 1101 | E35: 981 | F35: 14 | G35: 5 | H35: 46 | I35: 1 | J35: 3 | K35: 25 | L35: 4 | M35: 16 | N35: 6
C36: 其他 Other | D36: 1 | E36: 1 | F36: 0 | G36: 0 | H36: 0 | I36: 0 | J36: 0 | K36: 0 | L36: 0 | M36: 0 | N36: 0
B37: 新竹縣 | C37: 計 Total | D37: 2206 | E37: 2020 | F37: 33 | G37: 10 | H37: 32 | I37: 1 | J37: 11 | K37: 39 | L37: 9 | M37: 15 | N37: 36
C38: 男 Male | D38: 667 | E38: 599 | F38: 11 | G38: 4 | H38: 10 | I38: 0 | J38: 7 | K38: 17 | L38: 5 | M38: 7 | N38: 7
B39: Hsinchu County | C39: 女 Female | D39: 1536 | E39: 1420 | F39: 22 | G39: 6 | H39: 22 | I39: 1 | J39: 4 | K39: 21 | L39: 4 | M39: 8 | N39: 28
C40: 其他 Other | D40: 3 | E40: 1 | F40: 0 | G40: 0 | H40: 0 | I40: 0 | J40: 0 | K40: 1 | L40: 0 | M40: 0 | N40: 1
...

Sheet 2019Q4
A1: 家庭暴力事件通報被害及相對人概況Overview of Victim and Offender Status in Reporting Cases of Domestic Violence
A2: 108年第4季，2019Q4
A3: 單位：人數 unit:Person
A4: 區域別 Locality | C4: 性別 | D4: 被害人數 Victims | BH4: 相對人人數
D5: 國籍、身分別 By Nationality and Identity | K5: 年齡別 By Age | V5: 教育程度別 By Education | AG5: 職業別 By Occupation | AW5: 身心障礙別 By Disability | BH5: 年齡別 By Age | BS5: 國籍、身分別 By Nationality and Identity
D6: 合計 | E6: 本國籍 非原住民 | F6: 本國籍 原住民 | G6: 大陸及 港澳籍 | H6: 外國籍 | I6: 無國籍 | J6: 資料 不明 | K6: 合計 | L6: 0-未滿6歲 | M6: 6-未滿12歲 | N6: 12-未滿18歲 | O6: 18-未滿24歲 | P6: 24-未滿30歲 | Q6: 30-未滿40歲 | R6: 40-未滿50歲 | S6: 50-未滿65歲 | T6: 65歲 以上 | U6: 不詳 | V6: 合計 | W6: 學齡前 | X6: 國小 | Y6: 國中 | Z6: 高中(職) | AA6: 專科 | AB6: 大學 | AC6: 研究所 以上 | AD6: 不識字 | AE6: 自修 | AF6: 不詳 | AG6: 合計 | AH6: 學生 | AI6: 服務業 | AJ6: 專門 職業 | AK6: 農林 漁牧 | AL6: 工礦業 | AM6: 商業 | AN6: 公 | AO6: 教 | AP6: 軍 | AQ6: 警 | AR6: 家庭 管理 | AS6: 退休 | AT6: 無工作 | AU6: 其他 | AV6: 不詳 | AW6: 合計 | AX6: 非身心 障礙 | AY6: 智障 | AZ6: 視障 | BA6: 精神 病患 | BB6: 聲(語)障 | BC6: 聽障 | BD6: 肢障 | BE6: 多重 障礙 | BF6: 其他 障礙 | BG6: 不詳 | BH6: 合計 | BI6: 0-未滿6歲 | BJ6: 6-未滿12歲 | BK6: 12-未滿18歲 | BL6: 18-未滿24歲 | BM6: 24-未滿30歲 | BN6: 30-未滿40歲 | BO6: 40-未滿50歲 | BP6: 50-未滿65歲 | BQ6: 65歲 以上 | BR6: 不詳 | BS6: 合計 | BT6: 本國籍非原住民 | BU6: 本國籍原住民 | BV6: 大陸及 港澳籍 | BW6: 外國籍 | BX6: 無國籍 | BY6: 資料 不明
C7: Gender | D7: Total | E7: Non-aboriginal Native | F7: Aboriginal Native | G7: Mainland China and Hong Kong and Macau | H7: Foreign | I7: Stateless | J7: Unknown Information | K7: Total | L7: Under 6 Years | M7: 6-Under 12 Years | N7: 12-Under 18 Years | O7: 18-Under 2 Years | P7: 24-Under 30 Years | Q7: 30-Under 40 Years | R7: 40-Under 50 Years | S7: 50-Under 65 Years | T7: Above 65 Years | U7: Unknown | V7: Total | W7: Preschool | X7: Primary School | Y7: Junior High School | Z7: Senior High School (Vocational High School) | AA7: Junior College | AB7: University | AC7: Graduate School and Above | AD7: Illiterate | AE7: Self-taught | AF7: Unknown | AG7: Total | AH7: Student | AI7: Service Industry | AJ7: Professional | AK7: Agriculture, Forestry, Fishery and Animal Husbandry | AL7: Mining Industry | AM7: Business | AR7: Homemaker | AS7: Retired | AT7: No Work | AU7: Others | AV7: Unknown | AW7: Total | AX7: Not Disability | AY7: Intellectually Disabled | AZ7: Vision | BA7: Mentally Illed | BB7: Voice | BC7: Hearing | BD7: Physically Impaired | BE7: Multiple | BF7: Other | BG7: Unknown | BH7: Total | BI7: Under 6 Years | BJ7: 6-Under 12 Years | BK7: 12-Under 18 Years | BL7: 18-Under 2 Years | BM7: 24-Under 30 Years | BN7: 30-Under 40 Years | BO7: 40-Under 50 Years | BP7: 50-Under 65 Years | BQ7: Above 65 Years | BR7: Unknown | BS7: Total | BT7: Non-aboriginal Native | BU7: Aboriginal Native | BV7: Mainland China and Hong Kong and Macau | BW7: Foreign | BX7: Stateless | BY7: Unknown Information
A8: 總計 | C8: 計 Total | D8: 23931 | E8: 21642 | F8: 1255 | G8: 264 | H8: 278 | I8: 8 | J8: 484 | K8: 23931 | L8: 1448 | M8: 1461 | N8: 1628 | O8: 1672 | P8: 2022 | Q8: 4800 | R8: 4249 | S8: 4268 | T8: 2357 | U8: 26 | V8: 23931 | W8: 1216 | X8: 2019 | Y8: 2026 | Z8: 2658 | AA8: 470 | AB8: 1406 | AC8: 174 | AD8: 166 | AE8: 57 | AF8: 13739 | AG8: 23931 | AH8: 398 | AI8: 2889 | AJ8: 741 | AK8: 368 | AL8: 1273 | AM8: 775 | AN8: 121 | AO8: 174 | AP8: 58 | AQ8: 16 | AR8: 1626 | AS8: 1134 | AT8: 2079 | AU8: 1589 | AV8: 10690 | AW8: 23931 | AX8: 21535 | AY8: 316 | AZ8: 70 | BA8: 506 | BB8: 19 | BC8: 138 | BD8: 400 | BE8: 170 | BF8: 214 | BG8: 563 | BH8: 23610 | BI8: 6 | BJ8: 58 | BK8: 575 | BL8: 1148 | BM8: 2048 | BN8: 5902 | BO8: 6030 | BP8: 5100 | BQ8: 1712 | BR8: 1031 | BS8: 23610 | BT8: 20846 | BU8: 1082 | BV8: 163 | BW8: 207 | BX8: 7 | BY8: 1305
C9: 男 Male | D9: 8004 | E9: 7434 | F9: 373 | G9: 10 | H9: 30 | I9: 5 | J9: 152 | K9: 8004 | L9: 786 | M9: 875 | N9: 751 | O9: 503 | P9: 529 | Q9: 1094 | R9: 1194 | S9: 1402 | T9: 867 | U9: 3 | V9: 8004 | W9: 685 | X9: 1024 | Y9: 780 | Z9: 842 | AA9: 126 | AB9: 370 | AC9: 65 | AD9: 31 | AE9: 16 | AF9: 4065 | AG9: 8004 | AH9: 112 | AI9: 550 | AJ9: 242 | AK9: 162 | AL9: 679 | AM9: 259 | AN9: 41 | AO9: 32 | AP9: 39 | AQ9: 12 | AR9: 14 | AS9: 547 | AT9: 585 | AU9: 457 | AV9: 4273 | AW9: 8004 | AX9: 7067 | AY9: 126 | AZ9: 25 | BA9: 150 | BB9: 14 | BC9: 65 | BD9: 198 | BE9: 73 | BF9: 95 | BG9: 191 | BH9: 17305 | BI9: 5 | BJ9: 46 | BK9: 458 | BL9: 789 | BM9: 1450 | BN9: 4114 | BO9: 4534 | BP9: 3931 | BQ9: 1246 | BR9: 732 | BS9: 17305 | BT9: 15401 | BU9: 821 | BV9: 31 | BW9: 103 | BX9: 6 | BY9: 943
A10: Total | C10: 女 Female | D10: 15912 | E10: 14202 | F10: 881 | G10: 254 | H10: 248 | I10: 3 | J10: 324 | K10: 15912 | L10: 653 | M10: 584 | N10: 874 | O10: 1169 | P10: 1493 | Q10: 3706 | R10: 3054 | S10: 2866 | T10: 1490 | U10: 23 | V10: 15912 | W10: 526 | X10: 994 | Y10: 1244 | Z10: 1816 | AA10: 344 | AB10: 1036 | AC10: 109 | AD10: 135 | AE10: 41 | AF10: 9667 | AG10: 15912 | AH10: 286 | AI10: 2339 | AJ10: 499 | AK10: 206 | AL10: 594 | AM10: 516 | AN10: 80 | AO10: 142 | AP10: 19 | AQ10: 4 | AR10: 1612 | AS10: 587 | AT10: 1494 | AU10: 1132 | AV10: 6402 | AW10: 15912 | AX10: 14463 | AY10: 190 | AZ10: 45 | BA10: 356 | BB10: 5 | BC10: 73 | BD10: 202 | BE10: 97 | BF10: 119 | BG10: 362 | BH10: 6195 | BI10: 1 | BJ10: 12 | BK10: 117 | BL10: 358 | BM10: 597 | BN10: 1770 | BO10: 1482 | BP10: 1154 | BQ10: 463 | BR10: 241 | BS10: 6195 | BT10: 5402 | BU10: 261 | BV10: 130 | BW10: 102 | BX10: 1 | BY10: 299
C11: 其他 Other | D11: 15 | E11: 6 | F11: 1 | G11: 0 | H11: 0 | I11: 0 | J11: 8 | K11: 15 | L11: 9 | M11: 2 | N11: 3 | O11: 0 | P11: 0 | Q11: 0 | R11: 1 | S11: 0 | T11: 0 | U11: 0 | V11: 15 | W11: 5 | X11: 1 | Y11: 2 | Z11: 0 | AA11: 0 | AB11: 0 | AC11: 0 | AD11: 0 | AE11: 0 | AF11: 7 | AG11: 15 | AH11: 0 | AI11: 0 | AJ11: 0 | AK11: 0 | AL11: 0 | AM11: 0 | AN11: 0 | AO11: 0 | AP11: 0 | AQ11: 0 | AR11: 0 | AS11: 0 | AT11: 0 | AU11: 0 | AV11: 15 | AW11: 15 | AX11: 5 | AY11: 0 | AZ11: 0 | BA11: 0 | BB11: 0 | BC11: 0 | BD11: 0 | BE11: 0 | BF11: 0 | BG11: 10 | BH11: 110 | BI11: 0 | BJ11: 0 | BK11: 0 | BL11: 1 | BM11: 1 | BN11: 18 | BO11: 14 | BP11: 15 | BQ11: 3 | BR11: 58 | BS11: 110 | BT11: 43 | BU11: 0 | BV11: 2 | BW11: 2 | BX11: 0 | BY11: 63
A12: 新北市 | C12: 計 Total | D12: 3939 | E12: 3552 | F12: 88 | G12: 56 | H12: 56 | I12: 0 | J12: 187 | K12: 3939 | L12: 174 | M12: 174 | N12: 201 | O12: 312 | P12: 383 | Q12: 858 | R12: 748 | S12: 732 | T12: 345 | U12: 12 | V12: 3939 | W12: 101 | X12: 192 | Y12: 174 | Z12: 264 | AA12: 67 | AB12: 242 | AC12: 30 | AD12: 11 | AE12: 10 | AF12: 2848 | AG12: 3939 | AH12: 90 | AI12: 583 | AJ12: 176 | AK12: 10 | AL12: 84 | AM12: 130 | AN12: 30 | AO12: 36 | AP12: 4 | AQ12: 3 | AR12: 229 | AS12: 204 | AT12: 321 | AU12: 147 | AV12: 1892 | AW12: 3939 | AX12: 3434 | AY12: 37 | AZ12: 14 | BA12: 69 | BB12: 4 | BC12: 16 | BD12: 50 | BE12: 16 | BF12: 26 | BG12: 273 | BH12: 3998 | BI12: 2 | BJ12: 6 | BK12: 86 | BL12: 179 | BM12: 315 | BN12: 912 | BO12: 947 | BP12: 811 | BQ12: 247 | BR12: 493 | BS12: 3998 | BT12: 3272 | BU12: 72 | BV12: 32 | BW12: 38 | BX12: 0 | BY12: 584
C13: 男 Male | D13: 1095 | E13: 1018 | F13: 20 | G13: 2 | H13: 4 | I13: 0 | J13: 51 | K13: 1095 | L13: 79 | M13: 101 | N13: 79 | O13: 83 | P13: 77 | Q13: 173 | R13: 182 | S13: 212 | T13: 107 | U13: 2 | V13: 1095 | W13: 56 | X13: 103 | Y13: 66 | Z13: 75 | AA13: 13 | AB13: 59 | AC13: 9 | AD13: 1 | AE13: 4 | AF13: 709 | AG13: 1095 | AH13: 29 | AI13: 116 | AJ13: 56 | AK13: 5 | AL13: 39 | AM13: 45 | AN13: 10 | AO13: 3 | AP13: 3 | AQ13: 2 | AR13: 1 | AS13: 81 | AT13: 78 | AU13: 35 | AV13: 592 | AW13: 1095 | AX13: 925 | AY13: 16 | AZ13: 4 | BA13: 16 | BB13: 4 | BC13: 7 | BD13: 23 | BE13: 9 | BF13: 7 | BG13: 84 | BH13: 3054 | BI13: 1 | BJ13: 4 | BK13: 68 | BL13: 132 | BM13: 249 | BN13: 679 | BO13: 727 | BP13: 644 | BQ13: 190 | BR13: 360 | BS13: 3054 | BT13: 2519 | BU13: 64 | BV13: 4 | BW13: 19 | BX13: 0 | BY13: 448
A14: New Taipei City | C14: 女 Female | D14: 2841 | E14: 2532 | F14: 68 | G14: 54 | H14: 52 | I14: 0 | J14: 135 | K14: 2841 | L14: 94 | M14: 72 | N14: 121 | O14: 229 | P14: 306 | Q14: 685 | R14: 566 | S14: 520 | T14: 238 | U14: 10 | V14: 2841 | W14: 44 | X14: 89 | Y14: 108 | Z14: 189 | AA14: 54 | AB14: 183 | AC14: 21 | AD14: 10 | AE14: 6 | AF14: 2137 | AG14: 2841 | AH14: 61 | AI14: 467 | AJ14: 120 | AK14: 5 | AL14: 45 | AM14: 85 | AN14: 20 | AO14: 33 | AP14: 1 | AQ14: 1 | AR14: 228 | AS14: 123 | AT14: 243 | AU14: 112 | AV14: 1297 | AW14: 2841 | AX14: 2509 | AY14: 21 | AZ14: 10 | BA14: 53 | BB14: 0 | BC14: 9 | BD14: 27 | BE14: 7 | BF14: 19 | BG14: 186 | BH14: 912 | BI14: 1 | BJ14: 2 | BK14: 18 | BL14: 46 | BM14: 66 | BN14: 228 | BO14: 218 | BP14: 165 | BQ14: 57 | BR14: 111 | BS14: 912 | BT14: 746 | BU14: 8 | BV14: 27 | BW14: 19 | BX14: 0 | BY14: 112
C15: 其他 Other | D15: 3 | E15: 2 | F15: 0 | G15: 0 | H15: 0 | I15: 0 | J15: 1 | K15: 3 | L15: 1 | M15: 1 | N15: 1 | O15: 0 | P15: 0 | Q15: 0 | R15: 0 | S15: 0 | T15: 0 | U15: 0 | V15: 3 | W15: 1 | X15: 0 | Y15: 0 | Z15: 0 | AA15: 0 | AB15: 0 | AC15: 0 | AD15: 0 | AE15: 0 | AF15: 2 | AG15: 3 | AH15: 0 | AI15: 0 | AJ15: 0 | AK15: 0 | AL15: 0 | AM15: 0 | AN15: 0 | AO15: 0 | AP15: 0 | AQ15: 0 | AR15: 0 | AS15: 0 | AT15: 0 | AU15: 0 | AV15: 3 | AW15: 3 | AX15: 0 | AY15: 0 | AZ15: 0 | BA15: 0 | BB15: 0 | BC15: 0 | BD15: 0 | BE15: 0 | BF15: 0 | BG15: 3 | BH15: 32 | BI15: 0 | BJ15: 0 | BK15: 0 | BL15: 1 | BM15: 0 | BN15: 5 | BO15: 2 | BP15: 2 | BQ15: 0 | BR15: 22 | BS15: 32 | BT15: 7 | BU15: 0 | BV15: 1 | BW15: 0 | BX15: 0 | BY15: 24
A16: 臺北市 | C16: 計 Total | D16: 2762 | E16: 2598 | F16: 32 | G16: 30 | H16: 35 | I16: 1 | J16: 66 | K16: 2762 | L16: 144 | M16: 169 | N16: 218 | O16: 233 | P16: 217 | Q16: 478 | R16: 478 | S16: 503 | T16: 321 | U16: 1 | V16: 2762 | W16: 125 | X16: 180 | Y16: 126 | Z16: 93 | AA16: 17 | AB16: 86 | AC16: 14 | AD16: 7 | AE16: 12 | AF16: 2102 | AG16: 2762 | AH16: 42 | AI16: 92 | AJ16: 29 | AK16: 1 | AL16: 7 | AM16: 53 | AN16: 6 | AO16: 7 | AP16: 3 | AQ16: 0 | AR16: 55 | AS16: 65 | AT16: 77 | AU16: 40 | AV16: 2285 | AW16: 2762 | AX16: 2527 | AY16: 20 | AZ16: 10 | BA16: 60 | BB16: 1 | BC16: 15 | BD16: 34 | BE16: 18 | BF16: 33 | BG16: 44 | BH16: 2673 | BI16: 0 | BJ16: 8 | BK16: 85 | BL16: 143 | BM16: 200 | BN16: 581 | BO16: 678 | BP16: 607 | BQ16: 269 | BR16: 102 | BS16: 2673 | BT16: 2426 | BU16: 23 | BV16: 30 | BW16: 33 | BX16: 0 | BY16: 161
C17: 男 Male | D17: 1037 | E17: 994 | F17: 12 | G17: 0 | H17: 9 | I17: 1 | J17: 21 | K17: 1037 | L17: 87 | M17: 102 | N17: 109 | O17: 75 | P17: 72 | Q17: 129 | R17: 164 | S17: 186 | T17: 113 | U17: 0 | V17: 1037 | W17: 79 | X17: 105 | Y17: 62 | Z17: 45 | AA17: 2 | AB17: 18 | AC17: 4 | AD17: 5 | AE17: 3 | AF17: 714 | AG17: 1037 | AH17: 6 | AI17: 27 | AJ17: 9 | AK17: 1 | AL17: 5 | AM17: 18 | AN17: 3 | AO17: 1 | AP17: 1 | AQ17: 0 | AR17: 0 | AS17: 33 | AT17: 24 | AU17: 16 | AV17: 893 | AW17: 1037 | AX17: 934 | AY17: 8 | AZ17: 3 | BA17: 22 | BB17: 0 | BC17: 8 | BD17: 18 | BE17: 7 | BF17: 21 | BG17: 16 | BH17: 1805 | BI17: 0 | BJ17: 7 | BK17: 65 | BL17: 84 | BM17: 130 | BN17: 375 | BO17: 470 | BP17: 420 | BQ17: 183 | BR17: 71 | BS17: 1805 | BT17: 1659 | BU17: 14 | BV17: 11 | BW17: 21 | BX17: 0 | BY17: 100
A18: Taipei City | C18: 女 Female | D18: 1724 | E18: 1603 | F18: 20 | G18: 30 | H18: 26 | I18: 0 | J18: 45 | K18: 1724 | L18: 57 | M18: 67 | N18: 109 | O18: 158 | P18: 145 | Q18: 349 | R18: 313 | S18: 317 | T18: 208 | U18: 1 | V18: 1724 | W18: 46 | X18: 75 | Y18: 64 | Z18: 48 | AA18: 15 | AB18: 68 | AC18: 10 | AD18: 2 | AE18: 9 | AF18: 1387 | AG18: 1724 | AH18: 36 | AI18: 65 | AJ18: 20 | AK18: 0 | AL18: 2 | AM18: 35 | AN18: 3 | AO18: 6 | AP18: 2 | AQ18: 0 | AR18: 55 | AS18: 32 | AT18: 53 | AU18: 24 | AV18: 1391 | AW18: 1724 | AX18: 1592 | AY18: 12 | AZ18: 7 | BA18: 38 | BB18: 1 | BC18: 7 | BD18: 16 | BE18: 11 | BF18: 12 | BG18: 28 | BH18: 849 | BI18: 0 | BJ18: 1 | BK18: 20 | BL18: 59 | BM18: 70 | BN18: 205 | BO18: 205 | BP18: 182 | BQ18: 84 | BR18: 23 | BS18: 849 | BT18: 757 | BU18: 9 | BV18: 19 | BW18: 12 | BX18: 0 | BY18: 52
C19: 其他 Other | D19: 1 | E19: 1 | F19: 0 | G19: 0 | H19: 0 | I19: 0 | J19: 0 | K19: 1 | L19: 0 | M19: 0 | N19: 0 | O19: 0 | P19: 0 | Q19: 0 | R19: 1 | S19: 0 | T19: 0 | U19: 0 | V19: 1 | W19: 0 | X19: 0 | Y19: 0 | Z19: 0 | AA19: 0 | AB19: 0 | AC19: 0 | AD19: 0 | AE19: 0 | AF19: 1 | AG19: 1 | AH19: 0 | AI19: 0 | AJ19: 0 | AK19: 0 | AL19: 0 | AM19: 0 | AN19: 0 | AO19: 0 | AP19: 0 | AQ19: 0 | AR19: 0 | AS19: 0 | AT19: 0 | AU19: 0 | AV19: 1 | AW19: 1 | AX19: 1 | AY19: 0 | AZ19: 0 | BA19: 0 | BB19: 0 | BC19: 0 | BD19: 0 | BE19: 0 | BF19: 0 | BG19: 0 | BH19: 19 | BI19: 0 | BJ19: 0 | BK19: 0 | BL19: 0 | BM19: 0 | BN19: 1 | BO19: 3 | BP19: 5 | BQ19: 2 | BR19: 8 | BS19: 19 | BT19: 10 | BU19: 0 | BV19: 0 | BW19: 0 | BX19: 0 | BY19: 9
A20: 桃園市 | C20: 計 Total | D20: 2254 | E20: 2007 | F20: 169 | G20: 25 | H20: 29 | I20: 0 | J20: 24 | K20: 2254 | L20: 134 | M20: 168 | N20: 184 | O20: 189 | P20: 216 | Q20: 438 | R20: 399 | S20: 357 | T20: 166 | U20: 3 | V20: 2254 | W20: 130 | X20: 196 | Y20: 147 | Z20: 184 | AA20: 16 | AB20: 82 | AC20: 9 | AD20: 5 | AE20: 4 | AF20: 1481 | AG20: 2254 | AH20: 37 | AI20: 182 | AJ20: 45 | AK20: 6 | AL20: 97 | AM20: 49 | AN20: 8 | AO20: 10 | AP20: 3 | AQ20: 0 | AR20: 117 | AS20: 74 | AT20: 171 | AU20: 232 | AV20: 1223 | AW20: 2254 | AX20: 2098 | AY20: 34 | AZ20: 2 | BA20: 26 | BB20: 1 | BC20: 13 | BD20: 21 | BE20: 16 | BF20: 16 | BG20: 27 | BH20: 2258 | BI20: 0 | BJ20: 8 | BK20: 62 | BL20: 121 | BM20: 229 | BN20: 609 | BO20: 607 | BP20: 433 | BQ20: 114 | BR20: 75 | BS20: 2258 | BT20: 2004 | BU20: 143 | BV20: 14 | BW20: 23 | BX20: 0 | BY20: 74
C21: 男 Male | D21: 759 | E21: 702 | F21: 45 | G21: 2 | H21: 4 | I21: 0 | J21: 6 | K21: 759 | L21: 73 | M21: 103 | N21: 88 | O21: 56 | P21: 59 | Q21: 90 | R21: 107 | S21: 116 | T21: 66 | U21: 1 | V21: 759 | W21: 75 | X21: 113 | Y21: 54 | Z21: 65 | AA21: 5 | AB21: 27 | AC21: 6 | AD21: 2 | AE21: 2 | AF21: 410 | AG21: 759 | AH21: 9 | AI21: 42 | AJ21: 19 | AK21: 1 | AL21: 51 | AM21: 21 | AN21: 2 | AO21: 2 | AP21: 3 | AQ21: 0 | AR21: 1 | AS21: 38 | AT21: 42 | AU21: 63 | AV21: 465 | AW21: 759 | AX21: 701 | AY21: 14 | AZ21: 2 | BA21: 6 | BB21: 1 | BC21: 9 | BD21: 8 | BE21: 6 | BF21: 5 | BG21: 7 | BH21: 1672 | BI21: 0 | BJ21: 5 | BK21: 45 | BL21: 81 | BM21: 175 | BN21: 416 | BO21: 451 | BP21: 358 | BQ21: 83 | BR21: 58 | BS21: 1672 | BT21: 1492 | BU21: 106 | BV21: 4 | BW21: 12 | BX21: 0 | BY21: 58
A22: Taoyuan City | C22: 女 Female | D22: 1495 | E22: 1305 | F22: 124 | G22: 23 | H22: 25 | I22: 0 | J22: 18 | K22: 1495 | L22: 61 | M22: 65 | N22: 96 | O22: 133 | P22: 157 | Q22: 348 | R22: 292 | S22: 241 | T22: 100 | U22: 2 | V22: 1495 | W22: 55 | X22: 83 | Y22: 93 | Z22: 119 | AA22: 11 | AB22: 55 | AC22: 3 | AD22: 3 | AE22: 2 | AF22: 1071 | AG22: 1495 | AH22: 28 | AI22: 140 | AJ22: 26 | AK22: 5 | AL22: 46 | AM22: 28 | AN22: 6 | AO22: 8 | AP22: 0 | AQ22: 0 | AR22: 116 | AS22: 36 | AT22: 129 | AU22: 169 | AV22: 758 | AW22: 1495 | AX22: 1397 | AY22: 20 | AZ22: 0 | BA22: 20 | BB22: 0 | BC22: 4 | BD22: 13 | BE22: 10 | BF22: 11 | BG22: 20 | BH22: 575 | BI22: 0 | BJ22: 3 | BK22: 17 | BL22: 40 | BM22: 54 | BN22: 191 | BO22: 154 | BP22: 73 | BQ22: 31 | BR22: 12 | BS22: 575 | BT22: 509 | BU22: 37 | BV22: 10 | BW22: 9 | BX22: 0 | BY22: 10
C23: 其他 Other | D23: 0 | E23: 0 | F23: 0 | G23: 0 | H23: 0 | I23: 0 | J23: 0 | K23: 0 | L23: 0 | M23: 0 | N23: 0 | O23: 0 | P23: 0 | Q23: 0 | R23: 0 | S23: 0 | T23: 0 | U23: 0 | V23: 0 | W23: 0 | X23: 0 | Y23: 0 | Z23: 0 | AA23: 0 | AB23: 0 | AC23: 0 | AD23: 0 | AE23: 0 | AF23: 0 | AG23: 0 | AH23: 0 | AI23: 0 | AJ23: 0 | AK23: 0 | AL23: 0 | AM23: 0 | AN23: 0 | AO23: 0 | AP23: 0 | AQ23: 0 | AR23: 0 | AS23: 0 | AT23: 0 | AU23: 0 | AV23: 0 | AW23: 0 | AX23: 0 | AY23: 0 | AZ23: 0 | BA23: 0 | BB23: 0 | BC23: 0 | BD23: 0 | BE23: 0 | BF23: 0 | BG23: 0 | BH23: 11 | BI23: 0 | BJ23: 0 | BK23: 0 | BL23: 0 | BM23: 0 | BN23: 2 | BO23: 2 | BP23: 2 | BQ23: 0 | BR23: 5 | BS23: 11 | BT23: 3 | BU23: 0 | BV23: 0 | BW23: 2 | BX23: 0 | BY23: 6
A24: 臺中市 | C24: 計 Total | D24: 3312 | E24: 3018 | F24: 112 | G24: 59 | H24: 54 | I24: 1 | J24: 68 | K24: 3312 | L24: 289 | M24: 239 | N24: 231 | O24: 226 | P24: 284 | Q24: 662 | R24: 550 | S24: 520 | T24: 307 | U24: 4 | V24: 3312 | W24: 285 | X24: 287 | Y24: 243 | Z24: 356 | AA24: 56 | AB24: 234 | AC24: 24 | AD24: 13 | AE24: 8 | AF24: 1806 | AG24: 3312 | AH24: 72 | AI24: 427 | AJ24: 116 | AK24: 24 | AL24: 239 | AM24: 138 | AN24: 15 | AO24: 30 | AP24: 14 | AQ24: 4 | AR24: 244 | AS24: 174 | AT24: 296 | AU24: 235 | AV24: 1284 | AW24: 3312 | AX24: 3004 | AY24: 42 | AZ24: 10 | BA24: 59 | BB24: 0 | BC24: 22 | BD24: 46 | BE24: 27 | BF24: 26 | BG24: 76 | BH24: 3318 | BI24: 1 | BJ24: 4 | BK24: 94 | BL24: 163 | BM24: 314 | BN24: 899 | BO24: 802 | BP24: 646 | BQ24: 207 | BR24: 188 | BS24: 3318 | BT24: 2938 | BU24: 100 | BV24: 27 | BW24: 39 | BX24: 1 | BY24: 213
C25: 男 Male | D25: 1173 | E25: 1102 | F25: 38 | G25: 1 | H25: 4 | I25: 1 | J25: 27 | K25: 1173 | L25: 153 | M25: 155 | N25: 104 | O25: 60 | P25: 80 | Q25: 177 | R25: 151 | S25: 173 | T25: 120 | U25: 0 | V25: 1173 | W25: 155 | X25: 151 | Y25: 106 | Z25: 114 | AA25: 14 | AB25: 55 | AC25: 12 | AD25: 2 | AE25: 1 | AF25: 563 | AG25: 1173 | AH25: 15 | AI25: 81 | AJ25: 43 | AK25: 15 | AL25: 121 | AM25: 47 | AN25: 3 | AO25: 6 | AP25: 11 | AQ25: 3 | AR25: 1 | AS25: 90 | AT25: 69 | AU25: 72 | AV25: 596 | AW25: 1173 | AX25: 1066 | AY25: 17 | AZ25: 4 | BA25: 14 | BB25: 0 | BC25: 9 | BD25: 19 | BE25: 12 | BF25: 10 | BG25: 22 | BH25: 2350 | BI25: 1 | BJ25: 4 | BK25: 80 | BL25: 108 | BM25: 202 | BN25: 612 | BO25: 584 | BP25: 490 | BQ25: 142 | BR25: 127 | BS25: 2350 | BT25: 2121 | BU25: 62 | BV25: 8 | BW25: 11 | BX25: 1 | BY25: 147
