Workbook
Name pp: !#REF!
Name pp: !#REF!
Name pp: !#REF!
Name pp: !#REF!
Name pp: !#REF!
Name pp: !#REF!
Name ppp: !#REF!
Name ppp: !#REF!
Name ppp: !#REF!
Name ppp: '2020'!$B$1:$AA$8
Name ppp: '歷年_(原)'!$B$1:$AA$7
Name ppp: !#REF!
Name 低收: !#REF!
Name 低收: !#REF!
Name 低收: !#REF!
Name 低收: !#REF!
Name 低收: !#REF!
Name 低收: !#REF!

Sheet 歷年統計
A1: 同性親密關係暴力被害人保護扶助人次
A2: 單位：人次
A3: 年 別 Year | C3: 115年上半年 2026年上半年 | P3: 114年 2025 | AC3: 113年 2024 | AP3: 112年 2023 | BC3: 111年 2022 | BP3: 110年 2021 | CC3: 109年 2020
C4: 合計Total | F4: 本國籍非原住民 Non-aboriginal Native | H4: 本國籍原住民 Aboriginal Native | J4: 大陸籍(含港澳) Mainland China (Hong Kong and Macau Included) | L4: 外國籍 Foreign | N4: 其他 Others | P4: 合計Total | S4: 本國籍非原住民 Non-aboriginal Native | U4: 本國籍原住民 Aboriginal Native | W4: 大陸籍(含港澳) Mainland China (Hong Kong and Macau Included) | Y4: 外國籍 Foreign | AA4: 其他 Others | AC4: 合計Total | AF4: 本國籍非原住民 Non-aboriginal Native | AH4: 本國籍原住民 Aboriginal Native | AJ4: 大陸籍(含港澳) Mainland China (Hong Kong and Macau Included) | AL4: 外國籍 Foreign | AN4: 其他 Others | AP4: 合計Total | AS4: 本國籍非原住民 Non-aboriginal Native | AU4: 本國籍原住民 Aboriginal Native | AW4: 大陸籍(含港澳) Mainland China (Hong Kong and Macau Included) | AY4: 外國籍 Foreign | BA4: 其他 Others | BC4: 合計Total | BF4: 本國籍非原住民 Non-aboriginal Native | BH4: 本國籍原住民 Aboriginal Native | BJ4: 大陸籍(含港澳) Mainland China (Hong Kong and Macau Included) | BL4: 外國籍 Foreign | BN4: 其他 Others | BP4: 合計Total | BS4: 本國籍非原住民 Non-aboriginal Native | BU4: 本國籍原住民 Aboriginal Native | BW4: 大陸籍(含港澳) Mainland China (Hong Kong and Macau Included) | BY4: 外國籍 Foreign | CA4: 其他 Others | CC4: 合計Total | CF4: 本國籍非原住民 Non-aboriginal Native | CH4: 本國籍原住民 Aboriginal Native | CJ4: 大陸籍(含港澳) Mainland China (Hong Kong and Macau Included) | CL4: 外國籍 Foreign | CN4: 其他 Others
C6: 計 Total | D6: 男 Male | E6: 女 Female | F6: 男 Male | G6: 女 Female | H6: 男 Male | I6: 女 Female | J6: 男 Male | K6: 女 Female | L6: 男 Male | M6: 女 Female | N6: 男 Male | O6: 女 Female | P6: 計 Total | Q6: 男 Male | R6: 女 Female | S6: 男 Male | T6: 女 Female | U6: 男 Male | V6: 女 Female | W6: 男 Male | X6: 女 Female | Y6: 男 Male | Z6: 女 Female | AA6: 男 Male | AB6: 女 Female | AC6: 計 Total | AD6: 男 Male | AE6: 女 Female | AF6: 男 Male | AG6: 女 Female | AH6: 男 Male | AI6: 女 Female | AJ6: 男 Male | AK6: 女 Female | AL6: 男 Male | AM6: 女 Female | AN6: 男 Male | AO6: 女 Female | AP6: 計 Total | AQ6: 男 Male | AR6: 女 Female | AS6: 男 Male | AT6: 女 Female | AU6: 男 Male | AV6: 女 Female | AW6: 男 Male | AX6: 女 Female | AY6: 男 Male | AZ6: 女 Female | BA6: 男 Male | BB6: 女 Female | BC6: 計 Total | BD6: 男 Male | BE6: 女 Female | BF6: 男 Male | BG6: 女 Female | BH6: 男 Male | BI6: 女 Female | BJ6: 男 Male | BK6: 女 Female | BL6: 男 Male | BM6: 女 Female | BN6: 男 Male | BO6: 女 Female | BP6: 計 Total | BQ6: 男 Male | BR6: 女 Female | BS6: 男 Male | BT6: 女 Female | BU6: 男 Male | BV6: 女 Female | BW6: 男 Male | BX6: 女 Female | BY6: 男 Male | BZ6: 女 Female | CA6: 男 Male | CB6: 女 Female | CC6: 計 Total | CD6: 男 Male | CE6: 女 Female | CF6: 男 Male | CG6: 女 Female | CH6: 男 Male | CI6: 女 Female | CJ6: 男 Male | CK6: 女 Female | CL6: 男 Male | CM6: 女 Female | CN6: 男 Male | CO6: 女 Female
A7: 總計Total | C7: 9080 | D7: 3472 | E7: 5608 | F7: 3011 | G7: 4364 | H7: 191 | I7: 909 | J7: 6 | K7: 103 | L7: 190 | M7: 91 | N7: 74 | O7: 141 | P7: 19401 | Q7: 7620 | R7: 11781 | S7: 6311 | T7: 9938 | U7: 637 | V7: 1364 | W7: 29 | X7: 43 | Y7: 281 | Z7: 98 | AA7: 362 | AB7: 338 | AC7: 18458 | AD7: 6439 | AE7: 12019 | AF7: 5755 | AG7: 10260 | AH7: 474 | AI7: 1169 | AJ7: 2 | AK7: 186 | AL7: 45 | AM7: 190 | AN7: 163 | AO7: 214 | AP7: =SUM(AP8:AP23) -> 15811 | AQ7: =SUM(AQ8:AQ23) -> 5400 | AR7: =SUM(AR8:AR23) -> 10411 | AS7: =SUM(AS8:AS23) -> 4576 | AT7: =SUM(AT8:AT23) -> 8769 | AU7: =SUM(AU8:AU23) -> 501 | AV7: =SUM(AV8:AV23) -> 1065 | AW7: =SUM(AW8:AW23) -> 5 | ... BB7: =SUM(BB8:BB23) -> 262 | BC7: 12819 | BD7: 4141 | BE7: 8678 | BF7: 3530 | BG7: 7699 | BH7: 322 | BI7: 604 | BJ7: 4 | BK7: 94 | BL7: 74 | BM7: 72 | BN7: 211 | BO7: 209 | BP7: 11027 | BQ7: 4377 | BR7: 6650 | BS7: 3782 | BT7: 5810 | BU7: 343 | BV7: 549 | BW7: 9 | BX7: 57 | BY7: 54 | BZ7: 51 | CA7: 189 | CB7: 183 | CC7: 10098 | CD7: 4376 | CE7: 5722 | CF7: 3661 | CG7: 4935 | CH7: 382 | CI7: 509 | CJ7: 5 | CK7: 86 | CL7: 17 | CM7: 30 | CN7: 311 | CO7: 162
A8: 諮詢協談Consultation | C8: 8297 | D8: 3142 | E8: 5155 | F8: 2728 | G8: 4004 | H8: 182 | I8: 850 | J8: 4 | K8: 88 | L8: 160 | M8: 85 | N8: 68 | O8: 128 | P8: 17913 | Q8: 6930 | R8: 10983 | S8: 5725 | T8: 9265 | U8: 603 | V8: 1257 | W8: 20 | X8: 38 | Y8: 244 | Z8: 97 | AA8: 338 | AB8: 326 | AC8: 16961 | AD8: 5807 | AE8: 11154 | AF8: 5179 | AG8: 9529 | AH8: 444 | AI8: 1111 | AJ8: 2 | AK8: 163 | AL8: 41 | AM8: 148 | AN8: 141 | AO8: 203 | AP8: 14258 | AQ8: 4730 | AR8: 9528 | AS8: 4031 | AT8: 7998 | AU8: 441 | AV8: 989 | AW8: 5 | AX8: 137 | AY8: 40 | AZ8: 152 | BA8: 213 | BB8: 252 | BC8: 11810 | BD8: 3869 | BE8: 7941 | BF8: 3309 | BG8: 6985 | BH8: 301 | BI8: 592 | BJ8: 4 | BK8: 91 | BL8: 56 | BM8: 71 | BN8: 199 | BO8: 202 | BP8: 9982 | BQ8: 3883 | BR8: 6099 | BS8: 3341 | BT8: 5301 | BU8: 321 | BV8: 526 | BW8: 8 | BX8: 50 | BY8: 45 | BZ8: 48 | CA8: 168 | CB8: 174 | CC8: 8988 | CD8: 3875 | CE8: 5113 | CF8: 3235 | CG8: 4423 | CH8: 342 | CI8: 428 | CJ8: 4 | CK8: 78 | CL8: 17 | CM8: 29 | CN8: 277 | CO8: 155
A9: 庇護安置Providing Shelter | B9: 被害人Victim | C9: 5 | D9: 3 | E9: 2 | F9: 3 | G9: 2 | H9: - | I9: - | J9: - | K9: - | L9: - | M9: - | N9: - | O9: - | P9: 14 | Q9: 2 | R9: 12 | S9: 0 | T9: 8 | U9: 1 | V9: 4 | W9: 0 | X9: 0 | Y9: 1 | Z9: 0 | AA9: 0 | AB9: 0 | AC9: 12 | AD9: 6 | AE9: 6 | AF9: 6 | AG9: 4 | AH9: 0 | AI9: 2 | AJ9: 0 | AK9: 0 | AL9: 0 | AM9: 0 | AN9: 0 | AO9: 0 | AP9: 6 | AQ9: 0 | AR9: 6 | AS9: 0 | AT9: 5 | AU9: 0 | AV9: 0 | AW9: 0 | AX9: 0 | AY9: 0 | AZ9: 1 | BA9: 0 | BB9: 0 | BC9: 12 | BD9: 3 | BE9: 9 | BF9: 2 | BG9: 9 | BH9: 1 | BI9: 0 | BJ9: 0 | BK9: 0 | BL9: 0 | BM9: 0 | BN9: 0 | BO9: 0 | BP9: 8 | BQ9: 2 | BR9: 6 | BS9: 1 | BT9: 5 | BU9: 1 | BV9: 1 | BW9: 0 | BX9: 0 | BY9: 0 | BZ9: 0 | CA9: 0 | CB9: 0 | CC9: 6 | CD9: 4 | CE9: 2 | CF9: 2 | CG9: 2 | CH9: 0 | CI9: 0 | CJ9: 0 | CK9: 0 | CL9: 0 | CM9: 0 | CN9: 2 | CO9: 0
B10: 隨行子女Accompanying Children | C10: - | D10: - | E10: - | F10: - | G10: - | H10: - | I10: - | J10: - | K10: - | L10: - | M10: - | N10: - | O10: - | P10: 4 | Q10: 0 | R10: 4 | S10: 0 | T10: 4 | U10: 0 | V10: 0 | W10: 0 | X10: 0 | Y10: 0 | Z10: 0 | AA10: 0 | AB10: 0 | AC10: 0 | AD10: 0 | AE10: 0 | AF10: 0 | AG10: 0 | AH10: 0 | AI10: 0 | AJ10: 0 | AK10: 0 | AL10: 0 | AM10: 0 | AN10: 0 | AO10: 0 | AP10: 6 | AQ10: 0 | AR10: 6 | AS10: 0 | AT10: 6 | AU10: 0 | AV10: 0 | AW10: 0 | AX10: 0 | AY10: 0 | AZ10: 0 | BA10: 0 | BB10: 0 | BC10: 2 | BD10: 0 | BE10: 1 | BF10: 0 | BG10: 1 | BH10: 0 | BI10: 0 | BJ10: 0 | BK10: 0 | BL10: 0 | BM10: 0 | BN10: 0 | BO10: 0 | BP10: 0 | BQ10: 0 | BR10: 0 | BS10: 0 | BT10: 0 | BU10: 0 | BV10: 0 | BW10: 0 | BX10: 0 | BY10: 0 | BZ10: 0 | CA10: 0 | CB10: 0 | CC10: 0 | CD10: 0 | CE10: 0 | CF10: 0 | CG10: 0 | CH10: 0 | CI10: 0 | CJ10: 0 | CK10: 0 | CL10: 0 | CM10: 0 | CN10: 0 | CO10: 0
A11: 陪同報案偵詢（訊） Accompanied Interrogation | C11: 3 | D11: 1 | E11: 2 | F11: 1 | G11: 2 | H11: - | I11: - | J11: - | K11: - | L11: - | M11: - | N11: - | O11: - | P11: 2 | Q11: 1 | R11: 1 | S11: 1 | T11: 0 | U11: 0 | V11: 1 | W11: 0 | X11: 0 | Y11: 0 | Z11: 0 | AA11: 0 | AB11: 0 | AC11: 5 | AD11: 3 | AE11: 2 | AF11: 3 | AG11: 1 | AH11: 0 | AI11: 0 | AJ11: 0 | AK11: 0 | AL11: 0 | AM11: 1 | AN11: 0 | AO11: 0 | AP11: 10 | AQ11: 5 | AR11: 5 | AS11: 4 | AT11: 5 | AU11: 1 | AV11: 0 | AW11: 0 | AX11: 0 | AY11: 0 | AZ11: 0 | BA11: 0 | BB11: 0 | BC11: 1 | BD11: 1 | BE11: 0 | BF11: 0 | BG11: 0 | BH11: 1 | BI11: 0 | BJ11: 0 | BK11: 0 | BL11: 0 | BM11: 0 | BN11: 0 | BO11: 0 | BP11: 2 | BQ11: 0 | BR11: 2 | BS11: 0 | BT11: 1 | BU11: 0 | BV11: 0 | BW11: 0 | BX11: 0 | BY11: 0 | BZ11: 0 | CA11: 0 | CB11: 1 | CC11: 2 | CD11: 1 | CE11: 1 | CF11: 1 | CG11: 0 | CH11: 0 | CI11: 0 | CJ11: 0 | CK11: 0 | CL11: 0 | CM11: 0 | CN11: 0 | CO11: 1
A12: 陪同出庭Accompanied Present in Court | C12: 24 | D12: 6 | E12: 18 | F12: 6 | G12: 17 | H12: - | I12: 1 | J12: - | K12: - | L12: - | M12: - | N12: - | O12: - | P12: 42 | Q12: 19 | R12: 23 | S12: 14 | T12: 19 | U12: 4 | V12: 3 | W12: 0 | X12: 0 | Y12: 0 | Z12: 0 | AA12: 1 | AB12: 1 | AC12: 58 | AD12: 27 | AE12: 31 | AF12: 24 | AG12: 24 | AH12: 1 | AI12: 5 | AJ12: 0 | AK12: 2 | AL12: 0 | AM12: 0 | AN12: 2 | AO12: 0 | AP12: 59 | AQ12: 23 | AR12: 36 | AS12: 22 | AT12: 27 | AU12: 0 | AV12: 3 | AW12: 0 | AX12: 0 | AY12: 0 | AZ12: 3 | BA12: 1 | BB12: 3 | BC12: 39 | BD12: 8 | BE12: 31 | BF12: 7 | BG12: 29 | BH12: 0 | BI12: 2 | BJ12: 0 | BK12: 0 | BL12: 1 | BM12: 0 | BN12: 0 | BO12: 0 | BP12: 28 | BQ12: 10 | BR12: 18 | BS12: 8 | BT12: 12 | BU12: 1 | BV12: 6 | BW12: 0 | BX12: 0 | BY12: 1 | BZ12: 0 | CA12: 0 | CB12: 0 | CC12: 38 | CD12: 19 | CE12: 19 | CF12: 17 | CG12: 15 | CH12: 0 | CI12: 2 | CJ12: 0 | CK12: 1 | CL12: 0 | CM12: 0 | CN12: 2 | CO12: 1
A13: 驗傷診療 Medical Examinations and Treatments | C13: 1 | D13: - | E13: 1 | F13: - | G13: 1 | H13: - | I13: - | J13: - | K13: - | L13: - | M13: - | N13: - | O13: - | P13: 4 | Q13: 2 | R13: 2 | S13: 2 | T13: 2 | U13: 0 | V13: 0 | W13: 0 | X13: 0 | Y13: 0 | Z13: 0 | AA13: 0 | AB13: 0 | AC13: 3 | AD13: 2 | AE13: 1 | AF13: 2 | AG13: 1 | AH13: 0 | AI13: 0 | AJ13: 0 | AK13: 0 | AL13: 0 | AM13: 0 | AN13: 0 | AO13: 0 | AP13: 2 | AQ13: 1 | AR13: 1 | AS13: 0 | AT13: 1 | AU13: 1 | AV13: 0 | AW13: 0 | AX13: 0 | AY13: 0 | AZ13: 0 | BA13: 0 | BB13: 0 | BC13: 1 | BD13: 0 | BE13: 1 | BF13: 0 | BG13: 1 | BH13: 0 | BI13: 0 | BJ13: 0 | BK13: 0 | BL13: 0 | BM13: 0 | BN13: 0 | BO13: 0 | BP13: 1 | BQ13: 0 | BR13: 1 | BS13: 0 | BT13: 1 | BU13: 0 | BV13: 0 | BW13: 0 | BX13: 0 | BY13: 0 | BZ13: 0 | CA13: 0 | CB13: 0 | CC13: 4 | CD13: 1 | CE13: 3 | CF13: 0 | CG13: 3 | CH13: 1 | CI13: 0 | CJ13: 0 | CK13: 0 | CL13: 0 | CM13: 0 | CN13: 0 | CO13: 0
A14: 聲請保護令 Petition for Civil Protection Orders | C14: 17 | D14: 6 | E14: 11 | F14: 6 | G14: 8 | H14: - | I14: 2 | J14: - | K14: - | L14: - | M14: 1 | N14: - | O14: - | P14: 37 | Q14: 12 | R14: 25 | S14: 9 | T14: 23 | U14: 3 | V14: 2 | W14: 0 | X14: 0 | Y14: 0 | Z14: 0 | AA14: 0 | AB14: 0 | AC14: 34 | AD14: 8 | AE14: 26 | AF14: 8 | AG14: 16 | AH14: 0 | AI14: 8 | AJ14: 0 | AK14: 1 | AL14: 0 | AM14: 1 | AN14: 0 | AO14: 0 | AP14: 34 | AQ14: 24 | AR14: 10 | AS14: 17 | AT14: 8 | AU14: 0 | AV14: 1 | AW14: 0 | AX14: 0 | AY14: 0 | AZ14: 1 | BA14: 7 | BB14: 0 | BC14: 27 | BD14: 11 | BE14: 16 | BF14: 9 | BG14: 16 | BH14: 2 | BI14: 0 | BJ14: 0 | BK14: 0 | BL14: 0 | BM14: 0 | BN14: 0 | BO14: 0 | BP14: 20 | BQ14: 5 | BR14: 15 | BS14: 4 | BT14: 13 | BU14: 1 | BV14: 1 | BW14: 0 | BX14: 0 | BY14: 0 | BZ14: 1 | CA14: 0 | CB14: 0 | CC14: 27 | CD14: 10 | CE14: 17 | CF14: 9 | CG14: 15 | CH14: 0 | CI14: 1 | CJ14: 0 | CK14: 1 | CL14: 0 | CM14: 0 | CN14: 1 | CO14: 0
A15: 法律扶助Legal Aid | C15: 171 | D15: 83 | E15: 88 | F15: 72 | G15: 66 | H15: 1 | I15: 8 | J15: - | K15: 10 | L15: 10 | M15: 2 | N15: - | O15: 2 | P15: 269 | Q15: 145 | R15: 124 | S15: 126 | T15: 108 | U15: 3 | V15: 12 | W15: 0 | X15: 3 | Y15: 13 | Z15: 0 | AA15: 3 | AB15: 1 | AC15: 222 | AD15: 97 | AE15: 125 | AF15: 94 | AG15: 105 | AH15: 0 | AI15: 5 | AJ15: 0 | AK15: 7 | AL15: 0 | AM15: 7 | AN15: 3 | AO15: 1 | AP15: 309 | AQ15: 109 | AR15: 200 | AS15: 100 | AT15: 179 | AU15: 4 | AV15: 16 | AW15: 0 | AX15: 0 | AY15: 0 | AZ15: 4 | BA15: 5 | BB15: 1 | BC15: 387 | BD15: 114 | BE15: 273 | BF15: 93 | BG15: 269 | BH15: 7 | BI15: 0 | BJ15: 0 | BK15: 2 | BL15: 13 | BM15: 1 | BN15: 1 | BO15: 1 | BP15: 263 | BQ15: 120 | BR15: 143 | BS15: 109 | BT15: 129 | BU15: 4 | BV15: 3 | BW15: 1 | BX15: 6 | BY15: 3 | BZ15: 2 | CA15: 3 | CB15: 3 | CC15: 182 | CD15: 83 | CE15: 99 | CF15: 81 | CG15: 98 | CH15: 0 | CI15: 1 | CJ15: 1 | CK15: 0 | CL15: 0 | CM15: 0 | CN15: 1 | CO15: 0
A16: 經濟扶助Economic Support | C16: 23 | D16: 9 | E16: 14 | F16: 7 | G16: 11 | H16: 1 | I16: 3 | J16: - | K16: - | L16: 1 | M16: - | N16: - | O16: - | P16: 57 | Q16: 28 | R16: 29 | S16: 27 | T16: 19 | U16: 1 | V16: 10 | W16: 0 | X16: 0 | Y16: 0 | Z16: 0 | AA16: 0 | AB16: 0 | AC16: 67 | AD16: 37 | AE16: 30 | AF16: 32 | AG16: 19 | AH16: 2 | AI16: 11 | AJ16: 0 | AK16: 0 | AL16: 2 | AM16: 0 | AN16: 1 | AO16: 0 | AP16: 63 | AQ16: 32 | AR16: 31 | AS16: 22 | AT16: 11 | AU16: 8 | AV16: 17 | AW16: 0 | AX16: 0 | AY16: 0 | AZ16: 3 | BA16: 2 | BB16: 0 | BC16: 60 | BD16: 21 | BE16: 39 | BF16: 21 | BG16: 32 | BH16: 0 | BI16: 6 | BJ16: 0 | BK16: 0 | BL16: 0 | BM16: 0 | BN16: 0 | BO16: 1 | BP16: 53 | BQ16: 18 | BR16: 35 | BS16: 15 | BT16: 34 | BU16: 3 | BV16: 1 | BW16: 0 | BX16: 0 | BY16: 0 | BZ16: 0 | CA16: 0 | CB16: 0 | CC16: 54 | CD16: 34 | CE16: 20 | CF16: 18 | CG16: 19 | CH16: 14 | CI16: 0 | CJ16: 0 | CK16: 0 | CL16: 0 | CM16: 0 | CN16: 2 | CO16: 1
A17: 心理諮商與輔導Psychological Counseling | C17: 82 | D17: 25 | E17: 57 | F17: 16 | G17: 52 | H17: - | I17: - | J17: - | K17: - | L17: 5 | M17: - | N17: 4 | O17: 5 | P17: 151 | Q17: 54 | R17: 97 | S17: 52 | T17: 87 | U17: 0 | V17: 6 | W17: 0 | X17: 0 | Y17: 1 | Z17: 0 | AA17: 1 | AB17: 4 | AC17: 150 | AD17: 78 | AE17: 72 | AF17: 63 | AG17: 64 | AH17: 13 | AI17: 0 | AJ17: 0 | AK17: 2 | AL17: 0 | AM17: 0 | AN17: 2 | AO17: 6 | AP17: 230 | AQ17: 131 | AR17: 99 | AS17: 81 | AT17: 96 | AU17: 30 | AV17: 0 | AW17: 0 | AX17: 3 | AY17: 0 | AZ17: 0 | BA17: 20 | BB17: 0 | BC17: 112 | BD17: 36 | BE17: 76 | BF17: 26 | BG17: 70 | BH17: 6 | BI17: 1 | BJ17: 0 | BK17: 0 | BL17: 0 | BM17: 0 | BN17: 4 | BO17: 5 | BP17: 77 | BQ17: 49 | BR17: 28 | BS17: 42 | BT17: 27 | BU17: 5 | BV17: 0 | BW17: 0 | BX17: 0 | BY17: 0 | BZ17: 0 | CA17: 2 | CB17: 1 | CC17: 100 | CD17: 34 | CE17: 66 | CF17: 25 | CG17: 66 | CH17: 0 | CI17: 0 | CJ17: 0 | CK17: 0 | CL17: 0 | CM17: 0 | CN17: 9 | CO17: 0
A18: 就業服務Employment Service | C18: 6 | D18: 1 | E18: 5 | F18: - | G18: 1 | H18: 1 | I18: 4 | J18: - | K18: - | L18: - | M18: - | N18: - | O18: - | P18: 14 | Q18: 6 | R18: 8 | S18: 5 | T18: 4 | U18: 1 | V18: 4 | W18: 0 | X18: 0 | Y18: 0 | Z18: 0 | AA18: 0 | AB18: 0 | AC18: 17 | AD18: 3 | AE18: 14 | AF18: 3 | AG18: 14 | AH18: 0 | AI18: 0 | AJ18: 0 | AK18: 0 | AL18: 0 | AM18: 0 | AN18: 0 | AO18: 0 | AP18: 9 | AQ18: 7 | AR18: 2 | AS18: 5 | AT18: 0 | AU18: 0 | AV18: 1 | AW18: 0 | AX18: 0 | AY18: 0 | AZ18: 1 | BA18: 2 | BB18: 0 | BC18: 13 | BD18: 8 | BE18: 5 | BF18: 8 | BG18: 3 | BH18: 0 | BI18: 2 | BJ18: 0 | BK18: 0 | BL18: 0 | BM18: 0 | BN18: 0 | BO18: 0 | BP18: 8 | BQ18: 6 | BR18: 2 | BS18: 3 | BT18: 2 | BU18: 0 | BV18: 0 | BW18: 0 | BX18: 0 | BY18: 0 | BZ18: 0 | CA18: 3 | CB18: 0 | CC18: 12 | CD18: 8 | CE18: 4 | CF18: 2 | CG18: 4 | CH18: 0 | CI18: 0 | CJ18: 0 | CK18: 0 | CL18: 0 | CM18: 0 | CN18: 6 | CO18: 0
A19: 就學或轉學服務 Education or School Transfer Service | C19: 4 | D19: 1 | E19: 3 | F19: 1 | G19: 1 | H19: - | I19: 2 | J19: - | K19: - | L19: - | M19: - | N19: - | O19: - | P19: 0 | Q19: 0 | R19: 0 | S19: 0 | T19: 0 | U19: 0 | V19: 0 | W19: 0 | X19: 0 | Y19: 0 | Z19: 0 | AA19: 0 | AB19: 0 | AC19: 0 | AD19: 0 | AE19: 0 | AF19: 0 | AG19: 0 | AH19: 0 | AI19: 0 | AJ19: 0 | AK19: 0 | AL19: 0 | AM19: 0 | AN19: 0 | AO19: 0 | AP19: 4 | AQ19: 1 | AR19: 3 | AS19: 1 | AT19: 2 | AU19: 0 | AV19: 0 | AW19: 0 | AX19: 1 | AY19: 0 | AZ19: 0 | BA19: 0 | BB19: 0 | BC19: 21 | BD19: 21 | BE19: 0 | BF19: 19 | BG19: 0 | BH19: 2 | BI19: 0 | BJ19: 0 | BK19: 0 | BL19: 0 | BM19: 0 | BN19: 0 | BO19: 0 | BP19: 1 | BQ19: 0 | BR19: 1 | BS19: 0 | BT19: 1 | BU19: 0 | BV19: 0 | BW19: 0 | BX19: 0 | BY19: 0 | BZ19: 0 | CA19: 0 | CB19: 0 | CC19: 1 | CD19: 1 | CE19: 0 | CF19: 1 | CG19: 0 | CH19: 0 | CI19: 0 | CJ19: 0 | CK19: 0 | CL19: 0 | CM19: 0 | CN19: 0 | CO19: 0
A20: 轉介/提供目睹暴力服務 Referral/Witness Services | C20: 41 | D20: 11 | E20: 30 | F20: 9 | G20: 19 | H20: - | I20: 6 | J20: 1 | K20: - | L20: - | M20: - | N20: 1 | O20: 5 | P20: 59 | Q20: 31 | R20: 28 | S20: 18 | T20: 17 | U20: 3 | V20: 11 | W20: 9 | X20: 0 | Y20: 0 | Z20: 0 | AA20: 1 | AB20: 0 | AC20: 105 | AD20: 36 | AE20: 69 | AF20: 35 | AG20: 67 | AH20: 1 | AI20: 1 | AJ20: 0 | AK20: 0 | AL20: 0 | AM20: 0 | AN20: 0 | AO20: 1 | AP20: 152 | AQ20: 47 | AR20: 105 | AS20: 35 | AT20: 101 | AU20: 1 | AV20: 4 | AW20: 0 | AX20: 0 | AY20: 0 | AZ20: 0 | BA20: 11 | BB20: 0 | BC20: 307 | BD20: 35 | BE20: 272 | BF20: 27 | BG20: 271 | BH20: 2 | BI20: 0 | BJ20: 0 | BK20: 1 | BL20: 2 | BM20: 0 | BN20: 4 | BO20: 0 | BP20: 138 | BQ20: 96 | BR20: 42 | BS20: 92 | BT20: 39 | BU20: 1 | BV20: 3 | BW20: 0 | BX20: 0 | BY20: 0 | BZ20: 0 | CA20: 3 | CB20: 0 | CC20: 286 | CD20: 120 | CE20: 166 | CF20: 110 | CG20: 114 | CH20: 7 | CI20: 49 | CJ20: 0 | CK20: 2 | CL20: 0 | CM20: 0 | CN20: 3 | CO20: 1
A21: 子女問題協助 Assistance in Children's Problems | C21: 52 | D21: 21 | E21: 31 | F21: 19 | G21: 28 | H21: - | I21: 3 | J21: 1 | K21: - | L21: - | M21: - | N21: 1 | O21: - | P21: 52 | Q21: 32 | R21: 20 | S21: 26 | T21: 16 | U21: 0 | V21: 4 | W21: 0 | X21: 0 | Y21: 0 | Z21: 0 | AA21: 6 | AB21: 0 | AC21: 58 | AD21: 31 | AE21: 27 | AF21: 17 | AG21: 27 | AH21: 5 | AI21: 0 | AJ21: 0 | AK21: 0 | AL21: 0 | AM21: 0 | AN21: 9 | AO21: 0 | AP21: 39 | AQ21: 27 | AR21: 12 | AS21: 20 | AT21: 12 | AU21: 1 | AV21: 0 | AW21: 0 | AX21: 0 | AY21: 0 | AZ21: 0 | BA21: 6 | BB21: 0 | BC21: 27 | BD21: 14 | BE21: 13 | BF21: 9 | BG21: 12 | BH21: 0 | BI21: 1 | BJ21: 0 | BK21: 0 | BL21: 2 | BM21: 0 | BN21: 3 | BO21: 0 | BP21: 58 | BQ21: 31 | BR21: 27 | BS21: 29 | BT21: 27 | BU21: 0 | BV21: 0 | BW21: 0 | BX21: 0 | BY21: 0 | BZ21: 0 | CA21: 2 | CB21: 0 | CC21: 37 | CD21: 19 | CE21: 18 | CF21: 18 | CG21: 16 | CH21: 0 | CI21: 2 | CJ21: 0 | CK21: 0 | CL21: 0 | CM21: 0 | CN21: 1 | CO21: 0
A22: 通譯服務Interpret Service | C22: - | D22: - | E22: - | F22: - | G22: - | H22: - | I22: - | J22: - | K22: - | L22: - | M22: - | N22: - | O22: - | P22: 8 | Q22: 8 | R22: 0 | S22: 1 | T22: 0 | U22: 0 | V22: 0 | W22: 0 | X22: 0 | Y22: 7 | Z22: 0 | AA22: 0 | AB22: 0 | AC22: 0 | AD22: 0 | AE22: 0 | AF22: 0 | AG22: 0 | AH22: 0 | AI22: 0 | AJ22: 0 | AK22: 0 | AL22: 0 | AM22: 0 | AN22: 0 | AO22: 0 | AP22: 1 | AQ22: 0 | AR22: 1 | AS22: 0 | AT22: 0 | AU22: 0 | AV22: 0 | AW22: 0 | AX22: 0 | AY22: 0 | AZ22: 1 | BA22: 0 | BB22: 0 | BC22: 0 | BD22: 0 | BE22: 0 | BF22: 0 | BG22: 0 | BH22: 0 | BI22: 0 | BJ22: 0 | BK22: 0 | BL22: 0 | BM22: 0 | BN22: 0 | BO22: 0 | BP22: 0 | BQ22: 0 | BR22: 0 | BS22: 0 | BT22: 0 | BU22: 0 | BV22: 0 | BW22: 0 | BX22: 0 | BY22: 0 | BZ22: 0 | CA22: 0 | CB22: 0 | CC22: 1 | CD22: 0 | CE22: 1 | CF22: 0 | CG22: 0 | CH22: 0 | CI22: 0 | CJ22: 0 | CK22: 0 | CL22: 0 | CM22: 1 | CN22: 0 | CO22: 0
A23: 其他扶助Others | C23: 354 | D23: 163 | E23: 191 | F23: 143 | G23: 152 | H23: 6 | I23: 30 | J23: - | K23: 5 | L23: 14 | M23: 3 | N23: - | O23: 1 | P23: 775 | Q23: 350 | R23: 425 | S23: 305 | T23: 366 | U23: 18 | V23: 50 | W23: 0 | X23: 2 | Y23: 15 | Z23: 1 | AA23: 12 | AB23: 6 | AC23: 766 | AD23: 304 | AE23: 462 | AF23: 289 | AG23: 389 | AH23: 8 | AI23: 26 | AJ23: 0 | AK23: 11 | AL23: 2 | AM23: 33 | AN23: 5 | AO23: 3 | AP23: 629 | AQ23: 263 | AR23: 366 | AS23: 238 | AT23: 318 | AU23: 14 | AV23: 34 | AW23: 0 | AX23: 5 | AY23: 0 | AZ23: 3 | BA23: 11 | BB23: 6 | BC23: 617 | BD23: 202 | BE23: 415 | BF23: 177 | BG23: 396 | BH23: 12 | BI23: 12 | BJ23: 0 | BK23: 2 | BL23: 8 | BM23: 2 | BN23: 5 | BO23: 3 | BP23: 388 | BQ23: 157 | BR23: 231 | BS23: 138 | BT23: 218 | BU23: 6 | BV23: 8 | BW23: 0 | BX23: 1 | BY23: 5 | BZ23: 0 | CA23: 8 | CB23: 4 | CC23: 360 | CD23: 167 | CE23: 193 | CF23: 142 | CG23: 160 | CH23: 18 | CI23: 26 | CJ23: 0 | CK23: 4 | CL23: 0 | CM23: 0 | CN23: 7 | CO23: 3
A24: 資料來源：直轄市、縣﹝市﹞政府。
A25: Source : County and City Government.

Sheet 2026(上半年)
A1: 同性親密關係暴力被害人保護扶助人次
A2: 115年上半年，2026年上半年
A3: 單位：人次
A4: 區域別 Locality | C4: 總計Total | P4: 諮詢協談Consultation | AC4: 庇護安置Providing Shelter | AP4: 庇護安置Providing Shelter | BC4: 陪同報案偵詢（訊）Accompanied Interrogation | BP4: 陪同出庭Accompanied Present in Court | CC4: 驗傷診療Medical Examinations and Treatments | CP4: 聲請保護令Petition for Civil Protection Orders | DC4: 法律扶助Legal Aid | DP4: 經濟扶助Economic Support | EC4: 心理諮商與輔導Psychological Counseling | EP4: 就業服務Employment Service | FC4: 就學或轉學服務Education or School Transfer Service | FP4: 轉介/提供目睹暴力服務Referral/Witness Services | GC4: 子女問題協助Assistance in Children's Problems | GP4: 通譯服務Interpret Service | HC4: 其他扶助Others
AC5: 被害人Victim | AP5: 隨行子女Accompanying Children
C6: 合計Total | F6: 本國籍非原住民 Non-aboriginal Native | H6: 本國籍原住民 Aboriginal Native | J6: 大陸籍(含港澳) Mainland China (Hong Kong and Macau Included) | L6: 外國籍 Foreign | N6: 其他 Others | P6: 合計Total | S6: 本國籍非原住民 Non-aboriginal Native | U6: 本國籍原住民 Aboriginal Native | W6: 大陸籍(含港澳) Mainland China (Hong Kong and Macau Included) | Y6: 外國籍 Foreign | AA6: 其他 Others | AC6: 合計Total | AF6: 本國籍非原住民 Non-aboriginal Native | AH6: 本國籍原住民 Aboriginal Native | AJ6: 大陸籍(含港澳) Mainland China (Hong Kong and Macau Included) | AL6: 外國籍 Foreign | AN6: 其他 Others | AP6: 合計Total | AS6: 本國籍非原住民 Non-aboriginal Native | AU6: 本國籍原住民 Aboriginal Native | AW6: 大陸籍(含港澳) Mainland China (Hong Kong and Macau Included) | AY6: 外國籍 Foreign | BA6: 其他 Others | BC6: 合計Total | BF6: 本國籍非原住民 Non-aboriginal Native | BH6: 本國籍原住民 Aboriginal Native | BJ6: 大陸籍(含港澳) Mainland China (Hong Kong and Macau Included) | BL6: 外國籍 Foreign | BN6: 其他 Others | BP6: 合計Total | BS6: 本國籍非原住民 Non-aboriginal Native | BU6: 本國籍原住民 Aboriginal Native | BW6: 大陸籍(含港澳) Mainland China (Hong Kong and Macau Included) | BY6: 外國籍 Foreign | CA6: 其他 Others | CC6: 合計Total | CF6: 本國籍非原住民 Non-aboriginal Native | CH6: 本國籍原住民 Aboriginal Native | CJ6: 大陸籍(含港澳) Mainland China (Hong Kong and Macau Included) | CL6: 外國籍 Foreign | CN6: 其他 Others | CP6: 合計Total | CS6: 本國籍非原住民 Non-aboriginal Native | CU6: 本國籍原住民 Aboriginal Native | CW6: 大陸籍(含港澳) Mainland China (Hong Kong and Macau Included) | CY6: 外國籍 Foreign | DA6: 其他 Others | DC6: 合計Total | DF6: 本國籍非原住民 Non-aboriginal Native | DH6: 本國籍原住民 Aboriginal Native | DJ6: 大陸籍(含港澳) Mainland China (Hong Kong and Macau Included) | DL6: 外國籍 Foreign | DN6: 其他 Others | DP6: 合計Total | DS6: 本國籍非原住民 Non-aboriginal Native | DU6: 本國籍原住民 Aboriginal Native | DW6: 大陸籍(含港澳) Mainland China (Hong Kong and Macau Included) | DY6: 外國籍 Foreign | EA6: 其他 Others | EC6: 合計Total | EF6: 本國籍非原住民 Non-aboriginal Native | EH6: 本國籍原住民 Aboriginal Native | EJ6: 大陸籍(含港澳) Mainland China (Hong Kong and Macau Included) | EL6: 外國籍 Foreign | EN6: 其他 Others | EP6: 合計Total | ES6: 本國籍非原住民 Non-aboriginal Native | EU6: 本國籍原住民 Aboriginal Native | EW6: 大陸籍(含港澳) Mainland China (Hong Kong and Macau Included) | EY6: 外國籍 Foreign | FA6: 其他 Others | FC6: 合計Total | FF6: 本國籍非原住民 Non-aboriginal Native | FH6: 本國籍原住民 Aboriginal Native | FJ6: 大陸籍(含港澳) Mainland China (Hong Kong and Macau Included) | FL6: 外國籍 Foreign | FN6: 其他 Others | FP6: 合計Total | FS6: 本國籍非原住民 Non-aboriginal Native | FU6: 本國籍原住民 Aboriginal Native | FW6: 大陸籍(含港澳) Mainland China (Hong Kong and Macau Included) | FY6: 外國籍 Foreign | GA6: 其他 Others | GC6: 合計Total | GF6: 本國籍非原住民 Non-aboriginal Native | GH6: 本國籍原住民 Aboriginal Native | GJ6: 大陸籍(含港澳) Mainland China (Hong Kong and Macau Included) | GL6: 外國籍 Foreign | GN6: 其他 Others | GP6: 合計Total | GS6: 本國籍非原住民 Non-aboriginal Native | GU6: 本國籍原住民 Aboriginal Native | GW6: 大陸籍(含港澳) Mainland China (Hong Kong and Macau Included) | GY6: 外國籍 Foreign | HA6: 其他 Others | HC6: 合計Total | HF6: 本國籍非原住民 Non-aboriginal Native | HH6: 本國籍原住民 Aboriginal Native | HJ6: 大陸籍(含港澳) Mainland China (Hong Kong and Macau Included) | HL6: 外國籍 Foreign | HN6: 其他 Others
C8: 計 Total | D8: 男 Male | E8: 女 Female | F8: 男 Male | G8: 女 Female | H8: 男 Male | I8: 女 Female | J8: 男 Male | K8: 女 Female | L8: 男 Male | M8: 女 Female | N8: 男 Male | O8: 女 Female | P8: 計 Total | Q8: 男 Male | R8: 女 Female | S8: 男 Male | T8: 女 Female | U8: 男 Male | V8: 女 Female | W8: 男 Male | X8: 女 Female | Y8: 男 Male | Z8: 女 Female | AA8: 男 Male | AB8: 女 Female | AC8: 計 Total | AD8: 男 Male | AE8: 女 Female | AF8: 男 Male | AG8: 女 Female | AH8: 男 Male | AI8: 女 Female | AJ8: 男 Male | AK8: 女 Female | AL8: 男 Male | AM8: 女 Female | AN8: 男 Male | AO8: 女 Female | AP8: 計 Total | AQ8: 男 Male | AR8: 女 Female | AS8: 男 Male | AT8: 女 Female | AU8: 男 Male | AV8: 女 Female | AW8: 男 Male | AX8: 女 Female | AY8: 男 Male | AZ8: 女 Female | BA8: 男 Male | BB8: 女 Female | BC8: 計 Total | BD8: 男 Male | BE8: 女 Female | BF8: 男 Male | BG8: 女 Female | BH8: 男 Male | BI8: 女 Female | BJ8: 男 Male | BK8: 女 Female | BL8: 男 Male | BM8: 女 Female | BN8: 男 Male | BO8: 女 Female | BP8: 計 Total | BQ8: 男 Male | BR8: 女 Female | BS8: 男 Male | BT8: 女 Female | BU8: 男 Male | BV8: 女 Female | BW8: 男 Male | BX8: 女 Female | BY8: 男 Male | BZ8: 女 Female | CA8: 男 Male | CB8: 女 Female | CC8: 計 Total | CD8: 男 Male | CE8: 女 Female | CF8: 男 Male | CG8: 女 Female | CH8: 男 Male | CI8: 女 Female | CJ8: 男 Male | CK8: 女 Female | CL8: 男 Male | CM8: 女 Female | CN8: 男 Male | CO8: 女 Female | CP8: 計 Total | CQ8: 男 Male | CR8: 女 Female | CS8: 男 Male | CT8: 女 Female | CU8: 男 Male | CV8: 女 Female | CW8: 男 Male | CX8: 女 Female | CY8: 男 Male | CZ8: 女 Female | DA8: 男 Male | DB8: 女 Female | DC8: 計 Total | DD8: 男 Male | DE8: 女 Female | DF8: 男 Male | DG8: 女 Female | DH8: 男 Male | DI8: 女 Female | DJ8: 男 Male | DK8: 女 Female | DL8: 男 Male | DM8: 女 Female | DN8: 男 Male | DO8: 女 Female | DP8: 計 Total | DQ8: 男 Male | DR8: 女 Female | DS8: 男 Male | DT8: 女 Female | DU8: 男 Male | DV8: 女 Female | DW8: 男 Male | DX8: 女 Female | DY8: 男 Male | DZ8: 女 Female | EA8: 男 Male | EB8: 女 Female | EC8: 計 Total | ED8: 男 Male | EE8: 女 Female | EF8: 男 Male | EG8: 女 Female | EH8: 男 Male | EI8: 女 Female | EJ8: 男 Male | EK8: 女 Female | EL8: 男 Male | EM8: 女 Female | EN8: 男 Male | EO8: 女 Female | EP8: 計 Total | EQ8: 男 Male | ER8: 女 Female | ES8: 男 Male | ET8: 女 Female | EU8: 男 Male | EV8: 女 Female | EW8: 男 Male | EX8: 女 Female | EY8: 男 Male | EZ8: 女 Female | FA8: 男 Male | FB8: 女 Female | FC8: 計 Total | FD8: 男 Male | FE8: 女 Female | FF8: 男 Male | FG8: 女 Female | FH8: 男 Male | FI8: 女 Female | FJ8: 男 Male | FK8: 女 Female | FL8: 男 Male | FM8: 女 Female | FN8: 男 Male | FO8: 女 Female | FP8: 計 Total | FQ8: 男 Male | FR8: 女 Female | FS8: 男 Male | FT8: 女 Female | FU8: 男 Male | FV8: 女 Female | FW8: 男 Male | FX8: 女 Female | FY8: 男 Male | FZ8: 女 Female | GA8: 男 Male | GB8: 女 Female | GC8: 計 Total | GD8: 男 Male | GE8: 女 Female | GF8: 男 Male | GG8: 女 Female | GH8: 男 Male | GI8: 女 Female | GJ8: 男 Male | GK8: 女 Female | GL8: 男 Male | GM8: 女 Female | GN8: 男 Male | GO8: 女 Female | GP8: 計 Total | GQ8: 男 Male | GR8: 女 Female | GS8: 男 Male | GT8: 女 Female | GU8: 男 Male | GV8: 女 Female | GW8: 男 Male | GX8: 女 Female | GY8: 男 Male | GZ8: 女 Female | HA8: 男 Male | HB8: 女 Female | HC8: 計 Total | HD8: 男 Male | HE8: 女 Female | HF8: 男 Male | HG8: 女 Female | HH8: 男 Male | HI8: 女 Female | HJ8: 男 Male | HK8: 女 Female | HL8: 男 Male | HM8: 女 Female | HN8: 男 Male | HO8: 女 Female
A9: 115上半年 | C9: 9080 | D9: 3472 | E9: 5608 | F9: 3011 | G9: 4364 | H9: 191 | I9: 909 | J9: 6 | K9: 103 | L9: 190 | M9: 91 | N9: 74 | O9: 141 | P9: 8297 | Q9: 3142 | R9: 5155 | S9: 2728 | T9: 4004 | U9: 182 | V9: 850 | W9: 4 | X9: 88 | Y9: 160 | Z9: 85 | AA9: 68 | AB9: 128 | AC9: 5 | AD9: 3 | AE9: 2 | AF9: 3 | AG9: 2 | AH9: - | AI9: - | AJ9: - | AK9: - | AL9: - | AM9: - | AN9: - | AO9: - | AP9: - | AQ9: - | AR9: - | AS9: - | AT9: - | AU9: - | AV9: - | AW9: - | AX9: - | AY9: - | AZ9: - | BA9: - | BB9: - | BC9: 3 | BD9: 1 | BE9: 2 | BF9: 1 | BG9: 2 | BH9: - | BI9: - | BJ9: - | BK9: - | BL9: - | BM9: - | BN9: - | BO9: - | BP9: 24 | BQ9: 6 | BR9: 18 | BS9: 6 | BT9: 17 | BU9: - | BV9: 1 | BW9: - | BX9: - | BY9: - | BZ9: - | CA9: - | CB9: - | CC9: 1 | CD9: - | CE9: 1 | CF9: - | CG9: 1 | CH9: - | CI9: - | CJ9: - | CK9: - | CL9: - | CM9: - | CN9: - | CO9: - | CP9: 17 | CQ9: 6 | CR9: 11 | CS9: 6 | CT9: 8 | CU9: - | CV9: 2 | CW9: - | CX9: - | CY9: - | CZ9: 1 | DA9: - | DB9: - | DC9: 171 | DD9: 83 | DE9: 88 | DF9: 72 | DG9: 66 | DH9: 1 | DI9: 8 | DJ9: - | DK9: 10 | DL9: 10 | DM9: 2 | DN9: - | DO9: 2 | DP9: 23 | DQ9: 9 | DR9: 14 | DS9: 7 | DT9: 11 | DU9: 1 | DV9: 3 | DW9: - | DX9: - | DY9: 1 | DZ9: - | EA9: - | EB9: - | EC9: 82 | ED9: 25 | EE9: 57 | EF9: 16 | EG9: 52 | EH9: - | EI9: - | EJ9: - | EK9: - | EL9: 5 | EM9: - | EN9: 4 | EO9: 5 | EP9: 6 | EQ9: 1 | ER9: 5 | ES9: - | ET9: 1 | EU9: 1 | EV9: 4 | EW9: - | EX9: - | EY9: - | EZ9: - | FA9: - | FB9: - | FC9: 4 | FD9: 1 | FE9: 3 | FF9: 1 | FG9: 1 | FH9: - | FI9: 2 | FJ9: - | FK9: - | FL9: - | FM9: - | FN9: - | FO9: - | FP9: 41 | FQ9: 11 | FR9: 30 | FS9: 9 | FT9: 19 | FU9: - | FV9: 6 | FW9: 1 | FX9: - | FY9: - | FZ9: - | GA9: 1 | GB9: 5 | GC9: 52 | GD9: 21 | GE9: 31 | GF9: 19 | GG9: 28 | GH9: - | GI9: 3 | GJ9: 1 | GK9: - | GL9: - | GM9: - | GN9: 1 | GO9: - | GP9: - | GQ9: - | GR9: - | GS9: - | GT9: - | GU9: - | GV9: - | GW9: - | GX9: - | GY9: - | GZ9: - | HA9: - | HB9: - | HC9: 354 | HD9: 163 | HE9: 191 | HF9: 143 | HG9: 152 | HH9: 6 | HI9: 30 | HJ9: - | HK9: 5 | HL9: 14 | HM9: 3 | HN9: - | HO9: 1
A10: 新北市 | B10: New Taipei City | C10: 1548 | D10: 774 | E10: 774 | F10: 707 | G10: 679 | H10: 4 | I10: 27 | J10: - | K10: 7 | L10: 15 | M10: - | N10: 48 | O10: 61 | P10: 1380 | Q10: 695 | R10: 685 | S10: 630 | T10: 593 | U10: 4 | V10: 26 | W10: - | X10: 7 | Y10: 13 | Z10: - | AA10: 48 | AB10: 59 | AC10: 3 | AD10: 3 | AE10: - | AF10: 3 | AG10: - | AH10: - | AI10: - | AJ10: - | AK10: - | AL10: - | AM10: - | AN10: - | AO10: - | AP10: - | AQ10: - | AR10: - | AS10: - | AT10: - | AU10: - | AV10: - | AW10: - | AX10: - | AY10: - | AZ10: - | BA10: - | BB10: - | BC10: 1 | BD10: - | BE10: 1 | BF10: - | BG10: 1 | BH10: - | BI10: - | BJ10: - | BK10: - | BL10: - | BM10: - | BN10: - | BO10: - | BP10: 2 | BQ10: - | BR10: 2 | BS10: - | BT10: 2 | BU10: - | BV10: - | BW10: - | BX10: - | BY10: - | BZ10: - | CA10: - | CB10: - | CC10: - | CD10: - | CE10: - | CF10: - | CG10: - | CH10: - | CI10: - | CJ10: - | CK10: - | CL10: - | CM10: - | CN10: - | CO10: - | CP10: 2 | CQ10: 1 | CR10: 1 | CS10: 1 | CT10: 1 | CU10: - | CV10: - | CW10: - | CX10: - | CY10: - | CZ10: - | DA10: - | DB10: - | DC10: 16 | DD10: 8 | DE10: 8 | DF10: 7 | DG10: 8 | DH10: - | DI10: - | DJ10: - | DK10: - | DL10: 1 | DM10: - | DN10: - | DO10: - | DP10: 1 | DQ10: 1 | DR10: - | DS10: 1 | DT10: - | DU10: - | DV10: - | DW10: - | DX10: - | DY10: - | DZ10: - | EA10: - | EB10: - | EC10: 22 | ED10: - | EE10: 22 | EF10: - | EG10: 22 | EH10: - | EI10: - | EJ10: - | EK10: - | EL10: - | EM10: - | EN10: - | EO10: - | EP10: 1 | EQ10: - | ER10: 1 | ES10: - | ET10: 1 | EU10: - | EV10: - | EW10: - | EX10: - | EY10: - | EZ10: - | FA10: - | FB10: - | FC10: - | FD10: - | FE10: - | FF10: - | FG10: - | FH10: - | FI10: - | FJ10: - | FK10: - | FL10: - | FM10: - | FN10: - | FO10: - | FP10: 6 | FQ10: - | FR10: 6 | FS10: - | FT10: 4 | FU10: - | FV10: - | FW10: - | FX10: - | FY10: - | FZ10: - | GA10: - | GB10: 2 | GC10: 4 | GD10: 1 | GE10: 3 | GF10: 1 | GG10: 3 | GH10: - | GI10: - | GJ10: - | GK10: - | GL10: - | GM10: - | GN10: - | GO10: - | GP10: - | GQ10: - | GR10: - | GS10: - | GT10: - | GU10: - | GV10: - | GW10: - | GX10: - | GY10: - | GZ10: - | HA10: - | HB10: - | HC10: 110 | HD10: 65 | HE10: 45 | HF10: 64 | HG10: 44 | HH10: - | HI10: 1 | HJ10: - | HK10: - | HL10: 1 | HM10: - | HN10: - | HO10: -
A11: 臺北市 | B11: Taipei City | C11: 1233 | D11: 634 | E11: 599 | F11: 527 | G11: 519 | H11: - | I11: - | J11: - | K11: 76 | L11: 102 | M11: - | N11: 5 | O11: 4 | P11: 1024 | Q11: 535 | R11: 489 | S11: 448 | T11: 424 | U11: - | V11: - | W11: - | X11: 61 | Y11: 82 | Z11: - | AA11: 5 | AB11: 4 | AC11: - | AD11: - | AE11: - | AF11: - | AG11: - | AH11: - | AI11: - | AJ11: - | AK11: - | AL11: - | AM11: - | AN11: - | AO11: - | AP11: - | AQ11: - | AR11: - | AS11: - | AT11: - | AU11: - | AV11: - | AW11: - | AX11: - | AY11: - | AZ11: - | BA11: - | BB11: - | BC11: 2 | BD11: 1 | BE11: 1 | BF11: 1 | BG11: 1 | BH11: - | BI11: - | BJ11: - | BK11: - | BL11: - | BM11: - | BN11: - | BO11: - | BP11: 4 | BQ11: 3 | BR11: 1 | BS11: 3 | BT11: 1 | BU11: - | BV11: - | BW11: - | BX11: - | BY11: - | BZ11: - | CA11: - | CB11: - | CC11: 1 | CD11: - | CE11: 1 | CF11: - | CG11: 1 | CH11: - | CI11: - | CJ11: - | CK11: - | CL11: - | CM11: - | CN11: - | CO11: - | CP11: 3 | CQ11: 3 | CR11: - | CS11: 3 | CT11: - | CU11: - | CV11: - | CW11: - | CX11: - | CY11: - | CZ11: - | DA11: - | DB11: - | DC11: 90 | DD11: 46 | DE11: 44 | DF11: 37 | DG11: 34 | DH11: - | DI11: - | DJ11: - | DK11: 10 | DL11: 9 | DM11: - | DN11: - | DO11: - | DP11: 3 | DQ11: 3 | DR11: - | DS11: 2 | DT11: - | DU11: - | DV11: - | DW11: - | DX11: - | DY11: 1 | DZ11: - | EA11: - | EB11: - | EC11: 15 | ED11: 9 | EE11: 6 | EF11: 9 | EG11: 6 | EH11: - | EI11: - | EJ11: - | EK11: - | EL11: - | EM11: - | EN11: - | EO11: - | EP11: - | EQ11: - | ER11: - | ES11: - | ET11: - | EU11: - | EV11: - | EW11: - | EX11: - | EY11: - | EZ11: - | FA11: - | FB11: - | FC11: - | FD11: - | FE11: - | FF11: - | FG11: - | FH11: - | FI11: - | FJ11: - | FK11: - | FL11: - | FM11: - | FN11: - | FO11: - | FP11: - | FQ11: - | FR11: - | FS11: - | FT11: - | FU11: - | FV11: - | FW11: - | FX11: - | FY11: - | FZ11: - | GA11: - | GB11: - | GC11: 3 | GD11: - | GE11: 3 | GF11: - | GG11: 3 | GH11: - | GI11: - | GJ11: - | GK11: - | GL11: - | GM11: - | GN11: - | GO11: - | GP11: - | GQ11: - | GR11: - | GS11: - | GT11: - | GU11: - | GV11: - | GW11: - | GX11: - | GY11: - | GZ11: - | HA11: - | HB11: - | HC11: 88 | HD11: 34 | HE11: 54 | HF11: 24 | HG11: 49 | HH11: - | HI11: - | HJ11: - | HK11: 5 | HL11: 10 | HM11: - | HN11: - | HO11: -
A12: 桃園市 | B12: Taoyuan City | C12: 1063 | D12: 318 | E12: 745 | F12: 247 | G12: 471 | H12: 69 | I12: 239 | J12: - | K12: - | L12: - | M12: 31 | N12: 2 | O12: 4 | P12: 1021 | Q12: 300 | R12: 721 | S12: 232 | T12: 456 | U12: 67 | V12: 232 | W12: - | X12: - | Y12: - | Z12: 29 | AA12: 1 | AB12: 4 | AC12: - | AD12: - | AE12: - | AF12: - | AG12: - | AH12: - | AI12: - | AJ12: - | AK12: - | AL12: - | AM12: - | AN12: - | AO12: - | AP12: - | AQ12: - | AR12: - | AS12: - | AT12: - | AU12: - | AV12: - | AW12: - | AX12: - | AY12: - | AZ12: - | BA12: - | BB12: - | BC12: - | BD12: - | BE12: - | BF12: - | BG12: - | BH12: - | BI12: - | BJ12: - | BK12: - | BL12: - | BM12: - | BN12: - | BO12: - | BP12: 1 | BQ12: - | BR12: 1 | BS12: - | BT12: 1 | BU12: - | BV12: - | BW12: - | BX12: - | BY12: - | BZ12: - | CA12: - | CB12: - | CC12: - | CD12: - | CE12: - | CF12: - | CG12: - | CH12: - | CI12: - | CJ12: - | CK12: - | CL12: - | CM12: - | CN12: - | CO12: - | CP12: 5 | CQ12: 1 | CR12: 4 | CS12: 1 | CT12: 3 | CU12: - | CV12: 1 | CW12: - | CX12: - | CY12: - | CZ12: - | DA12: - | DB12: - | DC12: 4 | DD12: 2 | DE12: 2 | DF12: 2 | DG12: 2 | DH12: - | DI12: - | DJ12: - | DK12: - | DL12: - | DM12: - | DN12: - | DO12: - | DP12: - | DQ12: - | DR12: - | DS12: - | DT12: - | DU12: - | DV12: - | DW12: - | DX12: - | DY12: - | DZ12: - | EA12: - | EB12: - | EC12: - | ED12: - | EE12: - | EF12: - | EG12: - | EH12: - | EI12: - | EJ12: - | EK12: - | EL12: - | EM12: - | EN12: - | EO12: - | EP12: - | EQ12: - | ER12: - | ES12: - | ET12: - | EU12: - | EV12: - | EW12: - | EX12: - | EY12: - | EZ12: - | FA12: - | FB12: - | FC12: - | FD12: - | FE12: - | FF12: - | FG12: - | FH12: - | FI12: - | FJ12: - | FK12: - | FL12: - | FM12: - | FN12: - | FO12: - | FP12: 7 | FQ12: 3 | FR12: 4 | FS12: 2 | FT12: 2 | FU12: - | FV12: 2 | FW12: - | FX12: - | FY12: - | FZ12: - | GA12: 1 | GB12: - | GC12: - | GD12: - | GE12: - | GF12: - | GG12: - | GH12: - | GI12: - | GJ12: - | GK12: - | GL12: - | GM12: - | GN12: - | GO12: - | GP12: - | GQ12: - | GR12: - | GS12: - | GT12: - | GU12: - | GV12: - | GW12: - | GX12: - | GY12: - | GZ12: - | HA12: - | HB12: - | HC12: 25 | HD12: 12 | HE12: 13 | HF12: 10 | HG12: 7 | HH12: 2 | HI12: 4 | HJ12: - | HK12: - | HL12: - | HM12: 2 | HN12: - | HO12: -
A13: 臺中市 | B13: Taichung City | C13: 1572 | D13: 531 | E13: 1041 | F13: 455 | G13: 949 | H13: 5 | I13: 65 | J13: - | K13: 6 | L13: 66 | M13: 5 | N13: 5 | O13: 16 | P13: 1469 | Q13: 487 | R13: 982 | S13: 420 | T13: 890 | U13: 5 | V13: 65 | W13: - | X13: 6 | Y13: 58 | Z13: 5 | AA13: 4 | AB13: 16 | AC13: - | AD13: - | AE13: - | AF13: - | AG13: - | AH13: - | AI13: - | AJ13: - | AK13: - | AL13: - | AM13: - | AN13: - | AO13: - | AP13: - | AQ13: - | AR13: - | AS13: - | AT13: - | AU13: - | AV13: - | AW13: - | AX13: - | AY13: - | AZ13: - | BA13: - | BB13: - | BC13: - | BD13: - | BE13: - | BF13: - | BG13: - | BH13: - | BI13: - | BJ13: - | BK13: - | BL13: - | BM13: - | BN13: - | BO13: - | BP13: 5 | BQ13: - | BR13: 5 | BS13: - | BT13: 5 | BU13: - | BV13: - | BW13: - | BX13: - | BY13: - | BZ13: - | CA13: - | CB13: - | CC13: - | CD13: - | CE13: - | CF13: - | CG13: - | CH13: - | CI13: - | CJ13: - | CK13: - | CL13: - | CM13: - | CN13: - | CO13: - | CP13: - | CQ13: - | CR13: - | CS13: - | CT13: - | CU13: - | CV13: - | CW13: - | CX13: - | CY13: - | CZ13: - | DA13: - | DB13: - | DC13: 8 | DD13: 3 | DE13: 5 | DF13: 3 | DG13: 5 | DH13: - | DI13: - | DJ13: - | DK13: - | DL13: - | DM13: - | DN13: - | DO13: - | DP13: 4 | DQ13: 1 | DR13: 3 | DS13: 1 | DT13: 3 | DU13: - | DV13: - | DW13: - | DX13: - | DY13: - | DZ13: - | EA13: - | EB13: - | EC13: 28 | ED13: 12 | EE13: 16 | EF13: 7 | EG13: 16 | EH13: - | EI13: - | EJ13: - | EK13: - | EL13: 5 | EM13: - | EN13: - | EO13: - | EP13: - | EQ13: - | ER13: - | ES13: - | ET13: - | EU13: - | EV13: - | EW13: - | EX13: - | EY13: - | EZ13: - | FA13: - | FB13: - | FC13: - | FD13: - | FE13: - | FF13: - | FG13: - | FH13: - | FI13: - | FJ13: - | FK13: - | FL13: - | FM13: - | FN13: - | FO13: - | FP13: 5 | FQ13: 3 | FR13: 2 | FS13: 3 | FT13: 2 | FU13: - | FV13: - | FW13: - | FX13: - | FY13: - | FZ13: - | GA13: - | GB13: - | GC13: 12 | GD13: 11 | GE13: 1 | GF13: 10 | GG13: 1 | GH13: - | GI13: - | GJ13: - | GK13: - | GL13: - | GM13: - | GN13: 1 | GO13: - | GP13: - | GQ13: - | GR13: - | GS13: - | GT13: - | GU13: - | GV13: - | GW13: - | GX13: - | GY13: - | GZ13: - | HA13: - | HB13: - | HC13: 41 | HD13: 14 | HE13: 27 | HF13: 11 | HG13: 27 | HH13: - | HI13: - | HJ13: - | HK13: - | HL13: 3 | HM13: - | HN13: - | HO13: -
A14: 臺南市 | B14: Tainan City | C14: 676 | D14: 285 | E14: 391 | F14: 280 | G14: 332 | H14: 3 | I14: 22 | J14: - | K14: - | L14: - | M14: 37 | N14: 2 | O14: - | P14: 641 | Q14: 267 | R14: 374 | S14: 262 | T14: 319 | U14: 3 | V14: 21 | W14: - | X14: - | Y14: - | Z14: 34 | AA14: 2 | AB14: - | AC14: - | AD14: - | AE14: - | AF14: - | AG14: - | AH14: - | AI14: - | AJ14: - | AK14: - | AL14: - | AM14: - | AN14: - | AO14: - | AP14: - | AQ14: - | AR14: - | AS14: - | AT14: - | AU14: - | AV14: - | AW14: - | AX14: - | AY14: - | AZ14: - | BA14: - | BB14: - | BC14: - | BD14: - | BE14: - | BF14: - | BG14: - | BH14: - | BI14: - | BJ14: - | BK14: - | BL14: - | BM14: - | BN14: - | BO14: - | BP14: - | BQ14: - | BR14: - | BS14: - | BT14: - | BU14: - | BV14: - | BW14: - | BX14: - | BY14: - | BZ14: - | CA14: - | CB14: - | CC14: - | CD14: - | CE14: - | CF14: - | CG14: - | CH14: - | CI14: - | CJ14: - | CK14: - | CL14: - | CM14: - | CN14: - | CO14: - | CP14: 3 | CQ14: 1 | CR14: 2 | CS14: 1 | CT14: 1 | CU14: - | CV14: - | CW14: - | CX14: - | CY14: - | CZ14: 1 | DA14: - | DB14: - | DC14: 12 | DD14: 7 | DE14: 5 | DF14: 7 | DG14: 3 | DH14: - | DI14: - | DJ14: - | DK14: - | DL14: - | DM14: 2 | DN14: - | DO14: - | DP14: - | DQ14: - | DR14: - | DS14: - | DT14: - | DU14: - | DV14: - | DW14: - | DX14: - | DY14: - | DZ14: - | EA14: - | EB14: - | EC14: 2 | ED14: - | EE14: 2 | EF14: - | EG14: 2 | EH14: - | EI14: - | EJ14: - | EK14: - | EL14: - | EM14: - | EN14: - | EO14: - | EP14: - | EQ14: - | ER14: - | ES14: - | ET14: - | EU14: - | EV14: - | EW14: - | EX14: - | EY14: - | EZ14: - | FA14: - | FB14: - | FC14: - | FD14: - | FE14: - | FF14: - | FG14: - | FH14: - | FI14: - | FJ14: - | FK14: - | FL14: - | FM14: - | FN14: - | FO14: - | FP14: 1 | FQ14: - | FR14: 1 | FS14: - | FT14: 1 | FU14: - | FV14: - | FW14: - | FX14: - | FY14: - | FZ14: - | GA14: - | GB14: - | GC14: 2 | GD14: - | GE14: 2 | GF14: - | GG14: 1 | GH14: - | GI14: 1 | GJ14: - | GK14: - | GL14: - | GM14: - | GN14: - | GO14: - | GP14: - | GQ14: - | GR14: - | GS14: - | GT14: - | GU14: - | GV14: - | GW14: - | GX14: - | GY14: - | GZ14: - | HA14: - | HB14: - | HC14: 15 | HD14: 10 | HE14: 5 | HF14: 10 | HG14: 5 | HH14: - | HI14: - | HJ14: - | HK14: - | HL14: - | HM14: - | HN14: - | HO14: -
A15: 高雄市 | B15: Kaohsiung City | C15: 1239 | D15: 412 | E15: 827 | F15: 346 | G15: 712 | H15: 60 | I15: 98 | J15: 6 | K15: 14 | L15: - | M15: 3 | N15: - | O15: - | P15: 1127 | Q15: 369 | R15: 758 | S15: 309 | T15: 660 | U15: 56 | V15: 81 | W15: 4 | X15: 14 | Y15: - | Z15: 3 | AA15: - | AB15: - | AC15: - | AD15: - | AE15: - | AF15: - | AG15: - | AH15: - | AI15: - | AJ15: - | AK15: - | AL15: - | AM15: - | AN15: - | AO15: - | AP15: - | AQ15: - | AR15: - | AS15: - | AT15: - | AU15: - | AV15: - | AW15: - | AX15: - | AY15: - | AZ15: - | BA15: - | BB15: - | BC15: - | BD15: - | BE15: - | BF15: - | BG15: - | BH15: - | BI15: - | BJ15: - | BK15: - | BL15: - | BM15: - | BN15: - | BO15: - | BP15: 5 | BQ15: 1 | BR15: 4 | BS15: 1 | BT15: 4 | BU15: - | BV15: - | BW15: - | BX15: - | BY15: - | BZ15: - | CA15: - | CB15: - | CC15: - | CD15: - | CE15: - | CF15: - | CG15: - | CH15: - | CI15: - | CJ15: - | CK15: - | CL15: - | CM15: - | CN15: - | CO15: - | CP15: - | CQ15: - | CR15: - | CS15: - | CT15: - | CU15: - | CV15: - | CW15: - | CX15: - | CY15: - | CZ15: - | DA15: - | DB15: - | DC15: 30 | DD15: 13 | DE15: 17 | DF15: 13 | DG15: 14 | DH15: - | DI15: 3 | DJ15: - | DK15: - | DL15: - | DM15: - | DN15: - | DO15: - | DP15: 5 | DQ15: 1 | DR15: 4 | DS15: - | DT15: 3 | DU15: 1 | DV15: 1 | DW15: - | DX15: - | DY15: - | DZ15: - | EA15: - | EB15: - | EC15: 1 | ED15: - | EE15: 1 | EF15: - | EG15: 1 | EH15: - | EI15: - | EJ15: - | EK15: - | EL15: - | EM15: - | EN15: - | EO15: - | EP15: - | EQ15: - | ER15: - | ES15: - | ET15: - | EU15: - | EV15: - | EW15: - | EX15: - | EY15: - | EZ15: - | FA15: - | FB15: - | FC15: 2 | FD15: - | FE15: 2 | FF15: - | FG15: 1 | FH15: - | FI15: 1 | FJ15: - | FK15: - | FL15: - | FM15: - | FN15: - | FO15: - | FP15: 11 | FQ15: 2 | FR15: 9 | FS15: 1 | FT15: 7 | FU15: - | FV15: 2 | FW15: 1 | FX15: - | FY15: - | FZ15: - | GA15: - | GB15: - | GC15: 21 | GD15: 9 | GE15: 12 | GF15: 8 | GG15: 11 | GH15: - | GI15: 1 | GJ15: 1 | GK15: - | GL15: - | GM15: - | GN15: - | GO15: - | GP15: - | GQ15: - | GR15: - | GS15: - | GT15: - | GU15: - | GV15: - | GW15: - | GX15: - | GY15: - | GZ15: - | HA15: - | HB15: - | HC15: 37 | HD15: 17 | HE15: 20 | HF15: 14 | HG15: 11 | HH15: 3 | HI15: 9 | HJ15: - | HK15: - | HL15: - | HM15: - | HN15: - | HO15: -
A16: 宜蘭縣 | B16: Yilan County | C16: 184 | D16: 7 | E16: 177 | F16: 4 | G16: 78 | H16: - | I16: 99 | J16: - | K16: - | L16: - | M16: - | N16: 3 | O16: - | P16: 179 | Q16: 7 | R16: 172 | S16: 4 | T16: 75 | U16: - | V16: 97 | W16: - | X16: - | Y16: - | Z16: - | AA16: 3 | AB16: - | AC16: - | AD16: - | AE16: - | AF16: - | AG16: - | AH16: - | AI16: - | AJ16: - | AK16: - | AL16: - | AM16: - | AN16: - | AO16: - | AP16: - | AQ16: - | AR16: - | AS16: - | AT16: - | AU16: - | AV16: - | AW16: - | AX16: - | AY16: - | AZ16: - | BA16: - | BB16: - | BC16: - | BD16: - | BE16: - | BF16: - | BG16: - | BH16: - | BI16: - | BJ16: - | BK16: - | BL16: - | BM16: - | BN16: - | BO16: - | BP16: - | BQ16: - | BR16: - | BS16: - | BT16: - | BU16: - | BV16: - | BW16: - | BX16: - | BY16: - | BZ16: - | CA16: - | CB16: - | CC16: - | CD16: - | CE16: - | CF16: - | CG16: - | CH16: - | CI16: - | CJ16: - | CK16: - | CL16: - | CM16: - | CN16: - | CO16: - | CP16: - | CQ16: - | CR16: - | CS16: - | CT16: - | CU16: - | CV16: - | CW16: - | CX16: - | CY16: - | CZ16: - | DA16: - | DB16: - | DC16: 1 | DD16: - | DE16: 1 | DF16: - | DG16: - | DH16: - | DI16: 1 | DJ16: - | DK16: - | DL16: - | DM16: - | DN16: - | DO16: - | DP16: 4 | DQ16: - | DR16: 4 | DS16: - | DT16: 3 | DU16: - | DV16: 1 | DW16: - | DX16: - | DY16: - | DZ16: - | EA16: - | EB16: - | EC16: - | ED16: - | EE16: - | EF16: - | EG16: - | EH16: - | EI16: - | EJ16: - | EK16: - | EL16: - | EM16: - | EN16: - | EO16: - | EP16: - | EQ16: - | ER16: - | ES16: - | ET16: - | EU16: - | EV16: - | EW16: - | EX16: - | EY16: - | EZ16: - | FA16: - | FB16: - | FC16: - | FD16: - | FE16: - | FF16: - | FG16: - | FH16: - | FI16: - | FJ16: - | FK16: - | FL16: - | FM16: - | FN16: - | FO16: - | FP16: - | FQ16: - | FR16: - | FS16: - | FT16: - | FU16: - | FV16: - | FW16: - | FX16: - | FY16: - | FZ16: - | GA16: - | GB16: - | GC16: - | GD16: - | GE16: - | GF16: - | GG16: - | GH16: - | GI16: - | GJ16: - | GK16: - | GL16: - | GM16: - | GN16: - | GO16: - | GP16: - | GQ16: - | GR16: - | GS16: - | GT16: - | GU16: - | GV16: - | GW16: - | GX16: - | GY16: - | GZ16: - | HA16: - | HB16: - | HC16: - | HD16: - | HE16: - | HF16: - | HG16: - | HH16: - | HI16: - | HJ16: - | HK16: - | HL16: - | HM16: - | HN16: - | HO16: -
A17: 新竹縣 | B17: Hsinchu County | C17: 169 | D17: 39 | E17: 130 | F17: 33 | G17: 106 | H17: 6 | I17: 24 | J17: - | K17: - | L17: - | M17: - | N17: - | O17: - | P17: 167 | Q17: 39 | R17: 128 | S17: 33 | T17: 106 | U17: 6 | V17: 22 | W17: - | X17: - | Y17: - | Z17: - | AA17: - | AB17: - | AC17: - | AD17: - | AE17: - | AF17: - | AG17: - | AH17: - | AI17: - | AJ17: - | AK17: - | AL17: - | AM17: - | AN17: - | AO17: - | AP17: - | AQ17: - | AR17: - | AS17: - | AT17: - | AU17: - | AV17: - | AW17: - | AX17: - | AY17: - | AZ17: - | BA17: - | BB17: - | BC17: - | BD17: - | BE17: - | BF17: - | BG17: - | BH17: - | BI17: - | BJ17: - | BK17: - | BL17: - | BM17: - | BN17: - | BO17: - | BP17: - | BQ17: - | BR17: - | BS17: - | BT17: - | BU17: - | BV17: - | BW17: - | BX17: - | BY17: - | BZ17: - | CA17: - | CB17: - | CC17: - | CD17: - | CE17: - | CF17: - | CG17: - | CH17: - | CI17: - | CJ17: - | CK17: - | CL17: - | CM17: - | CN17: - | CO17: - | CP17: - | CQ17: - | CR17: - | CS17: - | CT17: - | CU17: - | CV17: - | CW17: - | CX17: - | CY17: - | CZ17: - | DA17: - | DB17: - | DC17: - | DD17: - | DE17: - | DF17: - | DG17: - | DH17: - | DI17: - | DJ17: - | DK17: - | DL17: - | DM17: - | DN17: - | DO17: - | DP17: - | DQ17: - | DR17: - | DS17: - | DT17: - | DU17: - | DV17: - | DW17: - | DX17: - | DY17: - | DZ17: - | EA17: - | EB17: - | EC17: - | ED17: - | EE17: - | EF17: - | EG17: - | EH17: - | EI17: - | EJ17: - | EK17: - | EL17: - | EM17: - | EN17: - | EO17: - | EP17: - | EQ17: - | ER17: - | ES17: - | ET17: - | EU17: - | EV17: - | EW17: - | EX17: - | EY17: - | EZ17: - | FA17: - | FB17: - | FC17: - | FD17: - | FE17: - | FF17: - | FG17: - | FH17: - | FI17: - | FJ17: - | FK17: - | FL17: - | FM17: - | FN17: - | FO17: - | FP17: - | FQ17: - | FR17: - | FS17: - | FT17: - | FU17: - | FV17: - | FW17: - | FX17: - | FY17: - | FZ17: - | GA17: - | GB17: - | GC17: - | GD17: - | GE17: - | GF17: - | GG17: - | GH17: - | GI17: - | GJ17: - | GK17: - | GL17: - | GM17: - | GN17: - | GO17: - | GP17: - | GQ17: - | GR17: - | GS17: - | GT17: - | GU17: - | GV17: - | GW17: - | GX17: - | GY17: - | GZ17: - | HA17: - | HB17: - | HC17: 2 | HD17: - | HE17: 2 | HF17: - | HG17: - | HH17: - | HI17: 2 | HJ17: - | HK17: - | HL17: - | HM17: - | HN17: - | HO17: -
A18: 苗栗縣 | B18: Miaoli County | C18: 21 | D18: 4 | E18: 17 | F18: 4 | G18: 8 | H18: - | I18: 9 | J18: - | K18: - | L18: - | M18: - | N18: - | O18: - | P18: 21 | Q18: 4 | R18: 17 | S18: 4 | T18: 8 | U18: - | V18: 9 | W18: - | X18: - | Y18: - | Z18: - | AA18: - | AB18: - | AC18: - | AD18: - | AE18: - | AF18: - | AG18: - | AH18: - | AI18: - | AJ18: - | AK18: - | AL18: - | AM18: - | AN18: - | AO18: - | AP18: - | AQ18: - | AR18: - | AS18: - | AT18: - | AU18: - | AV18: - | AW18: - | AX18: - | AY18: - | AZ18: - | BA18: - | BB18: - | BC18: - | BD18: - | BE18: - | BF18: - | BG18: - | BH18: - | BI18: - | BJ18: - | BK18: - | BL18: - | BM18: - | BN18: - | BO18: - | BP18: - | BQ18: - | BR18: - | BS18: - | BT18: - | BU18: - | BV18: - | BW18: - | BX18: - | BY18: - | BZ18: - | CA18: - | CB18: - | CC18: - | CD18: - | CE18: - | CF18: - | CG18: - | CH18: - | CI18: - | CJ18: - | CK18: - | CL18: - | CM18: - | CN18: - | CO18: - | CP18: - | CQ18: - | CR18: - | CS18: - | CT18: - | CU18: - | CV18: - | CW18: - | CX18: - | CY18: - | CZ18: - | DA18: - | DB18: - | DC18: - | DD18: - | DE18: - | DF18: - | DG18: - | DH18: - | DI18: - | DJ18: - | DK18: - | DL18: - | DM18: - | DN18: - | DO18: - | DP18: - | DQ18: - | DR18: - | DS18: - | DT18: - | DU18: - | DV18: - | DW18: - | DX18: - | DY18: - | DZ18: - | EA18: - | EB18: - | EC18: - | ED18: - | EE18: - | EF18: - | EG18: - | EH18: - | EI18: - | EJ18: - | EK18: - | EL18: - | EM18: - | EN18: - | EO18: - | EP18: - | EQ18: - | ER18: - | ES18: - | ET18: - | EU18: - | EV18: - | EW18: - | EX18: - | EY18: - | EZ18: - | FA18: - | FB18: - | FC18: - | FD18: - | FE18: - | FF18: - | FG18: - | FH18: - | FI18: - | FJ18: - | FK18: - | FL18: - | FM18: - | FN18: - | FO18: - | FP18: - | FQ18: - | FR18: - | FS18: - | FT18: - | FU18: - | FV18: - | FW18: - | FX18: - | FY18: - | FZ18: - | GA18: - | GB18: - | GC18: - | GD18: - | GE18: - | GF18: - | GG18: - | GH18: - | GI18: - | GJ18: - | GK18: - | GL18: - | GM18: - | GN18: - | GO18: - | GP18: - | GQ18: - | GR18: - | GS18: - | GT18: - | GU18: - | GV18: - | GW18: - | GX18: - | GY18: - | GZ18: - | HA18: - | HB18: - | HC18: - | HD18: - | HE18: - | HF18: - | HG18: - | HH18: - | HI18: - | HJ18: - | HK18: - | HL18: - | HM18: - | HN18: - | HO18: -
A19: 彰化縣 | B19: Changhua County | C19: 160 | D19: 76 | E19: 84 | F19: 73 | G19: 69 | H19: 3 | I19: - | J19: - | K19: - | L19: - | M19: 15 | N19: - | O19: - | P19: 154 | Q19: 73 | R19: 81 | S19: 70 | T19: 67 | U19: 3 | V19: - | W19: - | X19: - | Y19: - | Z19: 14 | AA19: - | AB19: - | AC19: - | AD19: - | AE19: - | AF19: - | AG19: - | AH19: - | AI19: - | AJ19: - | AK19: - | AL19: - | AM19: - | AN19: - | AO19: - | AP19: - | AQ19: - | AR19: - | AS19: - | AT19: - | AU19: - | AV19: - | AW19: - | AX19: - | AY19: - | AZ19: - | BA19: - | BB19: - | BC19: - | BD19: - | BE19: - | BF19: - | BG19: - | BH19: - | BI19: - | BJ19: - | BK19: - | BL19: - | BM19: - | BN19: - | BO19: - | BP19: - | BQ19: - | BR19: - | BS19: - | BT19: - | BU19: - | BV19: - | BW19: - | BX19: - | BY19: - | BZ19: - | CA19: - | CB19: - | CC19: - | CD19: - | CE19: - | CF19: - | CG19: - | CH19: - | CI19: - | CJ19: - | CK19: - | CL19: - | CM19: - | CN19: - | CO19: - | CP19: - | CQ19: - | CR19: - | CS19: - | CT19: - | CU19: - | CV19: - | CW19: - | CX19: - | CY19: - | CZ19: - | DA19: - | DB19: - | DC19: 1 | DD19: 1 | DE19: - | DF19: 1 | DG19: - | DH19: - | DI19: - | DJ19: - | DK19: - | DL19: - | DM19: - | DN19: - | DO19: - | DP19: - | DQ19: - | DR19: - | DS19: - | DT19: - | DU19: - | DV19: - | DW19: - | DX19: - | DY19: - | DZ19: - | EA19: - | EB19: - | EC19: - | ED19: - | EE19: - | EF19: - | EG19: - | EH19: - | EI19: - | EJ19: - | EK19: - | EL19: - | EM19: - | EN19: - | EO19: - | EP19: - | EQ19: - | ER19: - | ES19: - | ET19: - | EU19: - | EV19: - | EW19: - | EX19: - | EY19: - | EZ19: - | FA19: - | FB19: - | FC19: - | FD19: - | FE19: - | FF19: - | FG19: - | FH19: - | FI19: - | FJ19: - | FK19: - | FL19: - | FM19: - | FN19: - | FO19: - | FP19: - | FQ19: - | FR19: - | FS19: - | FT19: - | FU19: - | FV19: - | FW19: - | FX19: - | FY19: - | FZ19: - | GA19: - | GB19: - | GC19: - | GD19: - | GE19: - | GF19: - | GG19: - | GH19: - | GI19: - | GJ19: - | GK19: - | GL19: - | GM19: - | GN19: - | GO19: - | GP19: - | GQ19: - | GR19: - | GS19: - | GT19: - | GU19: - | GV19: - | GW19: - | GX19: - | GY19: - | GZ19: - | HA19: - | HB19: - | HC19: 5 | HD19: 2 | HE19: 3 | HF19: 2 | HG19: 2 | HH19: - | HI19: - | HJ19: - | HK19: - | HL19: - | HM19: 1 | HN19: - | HO19: -
A20: 南投縣 | B20: Nantou County | C20: 46 | D20: 12 | E20: 34 | F20: 8 | G20: 30 | H20: 4 | I20: 4 | J20: - | K20: - | L20: - | M20: - | N20: - | O20: - | P20: 41 | Q20: 12 | R20: 29 | S20: 8 | T20: 25 | U20: 4 | V20: 4 | W20: - | X20: - | Y20: - | Z20: - | AA20: - | AB20: - | AC20: - | AD20: - | AE20: - | AF20: - | AG20: - | AH20: - | AI20: - | AJ20: - | AK20: - | AL20: - | AM20: - | AN20: - | AO20: - | AP20: - | AQ20: - | AR20: - | AS20: - | AT20: - | AU20: - | AV20: - | AW20: - | AX20: - | AY20: - | AZ20: - | BA20: - | BB20: - | BC20: - | BD20: - | BE20: - | BF20: - | BG20: - | BH20: - | BI20: - | BJ20: - | BK20: - | BL20: - | BM20: - | BN20: - | BO20: - | BP20: 1 | BQ20: - | BR20: 1 | BS20: - | BT20: 1 | BU20: - | BV20: - | BW20: - | BX20: - | BY20: - | BZ20: - | CA20: - | CB20: - | CC20: - | CD20: - | CE20: - | CF20: - | CG20: - | CH20: - | CI20: - | CJ20: - | CK20: - | CL20: - | CM20: - | CN20: - | CO20: - | CP20: 1 | CQ20: - | CR20: 1 | CS20: - | CT20: 1 | CU20: - | CV20: - | CW20: - | CX20: - | CY20: - | CZ20: - | DA20: - | DB20: - | DC20: - | DD20: - | DE20: - | DF20: - | DG20: - | DH20: - | DI20: - | DJ20: - | DK20: - | DL20: - | DM20: - | DN20: - | DO20: - | DP20: - | DQ20: - | DR20: - | DS20: - | DT20: - | DU20: - | DV20: - | DW20: - | DX20: - | DY20: - | DZ20: - | EA20: - | EB20: - | EC20: - | ED20: - | EE20: - | EF20: - | EG20: - | EH20: - | EI20: - | EJ20: - | EK20: - | EL20: - | EM20: - | EN20: - | EO20: - | EP20: - | EQ20: - | ER20: - | ES20: - | ET20: - | EU20: - | EV20: - | EW20: - | EX20: - | EY20: - | EZ20: - | FA20: - | FB20: - | FC20: - | FD20: - | FE20: - | FF20: - | FG20: - | FH20: - | FI20: - | FJ20: - | FK20: - | FL20: - | FM20: - | FN20: - | FO20: - | FP20: 2 | FQ20: - | FR20: 2 | FS20: - | FT20: 2 | FU20: - | FV20: - | FW20: - | FX20: - | FY20: - | FZ20: - | GA20: - | GB20: - | GC20: - | GD20: - | GE20: - | GF20: - | GG20: - | GH20: - | GI20: - | GJ20: - | GK20: - | GL20: - | GM20: - | GN20: - | GO20: - | GP20: - | GQ20: - | GR20: - | GS20: - | GT20: - | GU20: - | GV20: - | GW20: - | GX20: - | GY20: - | GZ20: - | HA20: - | HB20: - | HC20: 1 | HD20: - | HE20: 1 | HF20: - | HG20: 1 | HH20: - | HI20: - | HJ20: - | HK20: - | HL20: - | HM20: - | HN20: - | HO20: -
A21: 雲林縣 | B21: Yunlin County | C21: 223 | D21: 110 | E21: 113 | F21: 103 | G21: 104 | H21: 7 | I21: - | J21: - | K21: - | L21: - | M21: - | N21: - | O21: 9 | P21: 215 | Q21: 108 | R21: 107 | S21: 101 | T21: 102 | U21: 7 | V21: - | W21: - | X21: - | Y21: - | Z21: - | AA21: - | AB21: 5 | AC21: 2 | AD21: - | AE21: 2 | AF21: - | AG21: 2 | AH21: - | AI21: - | AJ21: - | AK21: - | AL21: - | AM21: - | AN21: - | AO21: - | AP21: - | AQ21: - | AR21: - | AS21: - | AT21: - | AU21: - | AV21: - | AW21: - | AX21: - | AY21: - | AZ21: - | BA21: - | BB21: - | BC21: - | BD21: - | BE21: - | BF21: - | BG21: - | BH21: - | BI21: - | BJ21: - | BK21: - | BL21: - | BM21: - | BN21: - | BO21: - | BP21: 1 | BQ21: 1 | BR21: - | BS21: 1 | BT21: - | BU21: - | BV21: - | BW21: - | BX21: - | BY21: - | BZ21: - | CA21: - | CB21: - | CC21: - | CD21: - | CE21: - | CF21: - | CG21: - | CH21: - | CI21: - | CJ21: - | CK21: - | CL21: - | CM21: - | CN21: - | CO21: - | CP21: - | CQ21: - | CR21: - | CS21: - | CT21: - | CU21: - | CV21: - | CW21: - | CX21: - | CY21: - | CZ21: - | DA21: - | DB21: - | DC21: - | DD21: - | DE21: - | DF21: - | DG21: - | DH21: - | DI21: - | DJ21: - | DK21: - | DL21: - | DM21: - | DN21: - | DO21: - | DP21: - | DQ21: - | DR21: - | DS21: - | DT21: - | DU21: - | DV21: - | DW21: - | DX21: - | DY21: - | DZ21: - | EA21: - | EB21: - | EC21: - | ED21: - | EE21: - | EF21: - | EG21: - | EH21: - | EI21: - | EJ21: - | EK21: - | EL21: - | EM21: - | EN21: - | EO21: - | EP21: - | EQ21: - | ER21: - | ES21: - | ET21: - | EU21: - | EV21: - | EW21: - | EX21: - | EY21: - | EZ21: - | FA21: - | FB21: - | FC21: - | FD21: - | FE21: - | FF21: - | FG21: - | FH21: - | FI21: - | FJ21: - | FK21: - | FL21: - | FM21: - | FN21: - | FO21: - | FP21: 3 | FQ21: - | FR21: 3 | FS21: - | FT21: - | FU21: - | FV21: - | FW21: - | FX21: - | FY21: - | FZ21: - | GA21: - | GB21: 3 | GC21: - | GD21: - | GE21: - | GF21: - | GG21: - | GH21: - | GI21: - | GJ21: - | GK21: - | GL21: - | GM21: - | GN21: - | GO21: - | GP21: - | GQ21: - | GR21: - | GS21: - | GT21: - | GU21: - | GV21: - | GW21: - | GX21: - | GY21: - | GZ21: - | HA21: - | HB21: - | HC21: 2 | HD21: 1 | HE21: 1 | HF21: 1 | HG21: - | HH21: - | HI21: - | HJ21: - | HK21: - | HL21: - | HM21: - | HN21: - | HO21: 1
A22: 嘉義縣 | B22: Chiayi County | C22: 34 | D22: 11 | E22: 23 | F22: 11 | G22: 23 | H22: - | I22: - | J22: - | K22: - | L22: - | M22: - | N22: - | O22: - | P22: 33 | Q22: 10 | R22: 23 | S22: 10 | T22: 23 | U22: - | V22: - | W22: - | X22: - | Y22: - | Z22: - | AA22: - | AB22: - | AC22: - | AD22: - | AE22: - | AF22: - | AG22: - | AH22: - | AI22: - | AJ22: - | AK22: - | AL22: - | AM22: - | AN22: - | AO22: - | AP22: - | AQ22: - | AR22: - | AS22: - | AT22: - | AU22: - | AV22: - | AW22: - | AX22: - | AY22: - | AZ22: - | BA22: - | BB22: - | BC22: - | BD22: - | BE22: - | BF22: - | BG22: - | BH22: - | BI22: - | BJ22: - | BK22: - | BL22: - | BM22: - | BN22: - | BO22: - | BP22: - | BQ22: - | BR22: - | BS22: - | BT22: - | BU22: - | BV22: - | BW22: - | BX22: - | BY22: - | BZ22: - | CA22: - | CB22: - | CC22: - | CD22: - | CE22: - | CF22: - | CG22: - | CH22: - | CI22: - | CJ22: - | CK22: - | CL22: - | CM22: - | CN22: - | CO22: - | CP22: - | CQ22: - | CR22: - | CS22: - | CT22: - | CU22: - | CV22: - | CW22: - | CX22: - | CY22: - | CZ22: - | DA22: - | DB22: - | DC22: - | DD22: - | DE22: - | DF22: - | DG22: - | DH22: - | DI22: - | DJ22: - | DK22: - | DL22: - | DM22: - | DN22: - | DO22: - | DP22: - | DQ22: - | DR22: - | DS22: - | DT22: - | DU22: - | DV22: - | DW22: - | DX22: - | DY22: - | DZ22: - | EA22: - | EB22: - | EC22: - | ED22: - | EE22: - | EF22: - | EG22: - | EH22: - | EI22: - | EJ22: - | EK22: - | EL22: - | EM22: - | EN22: - | EO22: - | EP22: - | EQ22: - | ER22: - | ES22: - | ET22: - | EU22: - | EV22: - | EW22: - | EX22: - | EY22: - | EZ22: - | FA22: - | FB22: - | FC22: - | FD22: - | FE22: - | FF22: - | FG22: - | FH22: - | FI22: - | FJ22: - | FK22: - | FL22: - | FM22: - | FN22: - | FO22: - | FP22: - | FQ22: - | FR22: - | FS22: - | FT22: - | FU22: - | FV22: - | FW22: - | FX22: - | FY22: - | FZ22: - | GA22: - | GB22: - | GC22: - | GD22: - | GE22: - | GF22: - | GG22: - | GH22: - | GI22: - | GJ22: - | GK22: - | GL22: - | GM22: - | GN22: - | GO22: - | GP22: - | GQ22: - | GR22: - | GS22: - | GT22: - | GU22: - | GV22: - | GW22: - | GX22: - | GY22: - | GZ22: - | HA22: - | HB22: - | HC22: 1 | HD22: 1 | HE22: - | HF22: 1 | HG22: - | HH22: - | HI22: - | HJ22: - | HK22: - | HL22: - | HM22: - | HN22: - | HO22: -
A23: 屏東縣 | B23: Pingtung County | C23: 332 | D23: 139 | E23: 193 | F23: 117 | G23: 60 | H23: 6 | I23: 116 | J23: - | K23: - | L23: 7 | M23: - | N23: 9 | O23: 17 | P23: 304 | Q23: 128 | R23: 176 | S23: 110 | T23: 58 | U23: 6 | V23: 101 | W23: - | X23: - | Y23: 7 | Z23: - | AA23: 5 | AB23: 17 | AC23: - | AD23: - | AE23: - | AF23: - | AG23: - | AH23: - | AI23: - | AJ23: - | AK23: - | AL23: - | AM23: - | AN23: - | AO23: - | AP23: - | AQ23: - | AR23: - | AS23: - | AT23: - | AU23: - | AV23: - | AW23: - | AX23: - | AY23: - | AZ23: - | BA23: - | BB23: - | BC23: - | BD23: - | BE23: - | BF23: - | BG23: - | BH23: - | BI23: - | BJ23: - | BK23: - | BL23: - | BM23: - | BN23: - | BO23: - | BP23: 2 | BQ23: 1 | BR23: 1 | BS23: 1 | BT23: 1 | BU23: - | BV23: - | BW23: - | BX23: - | BY23: - | BZ23: - | CA23: - | CB23: - | CC23: - | CD23: - | CE23: - | CF23: - | CG23: - | CH23: - | CI23: - | CJ23: - | CK23: - | CL23: - | CM23: - | CN23: - | CO23: - | CP23: 1 | CQ23: - | CR23: 1 | CS23: - | CT23: 1 | CU23: - | CV23: - | CW23: - | CX23: - | CY23: - | CZ23: - | DA23: - | DB23: - | DC23: 5 | DD23: 1 | DE23: 4 | DF23: 1 | DG23: - | DH23: - | DI23: 4 | DJ23: - | DK23: - | DL23: - | DM23: - | DN23: - | DO23: - | DP23: 2 | DQ23: 1 | DR23: 1 | DS23: 1 | DT23: - | DU23: - | DV23: 1 | DW23: - | DX23: - | DY23: - | DZ23: - | EA23: - | EB23: - | EC23: 4 | ED23: 4 | EE23: - | EF23: - | EG23: - | EH23: - | EI23: - | EJ23: - | EK23: - | EL23: - | EM23: - | EN23: 4 | EO23: - | EP23: 2 | EQ23: - | ER23: 2 | ES23: - | ET23: - | EU23: - | EV23: 2 | EW23: - | EX23: - | EY23: - | EZ23: - | FA23: - | FB23: - | FC23: 2 | FD23: 1 | FE23: 1 | FF23: 1 | FG23: - | FH23: - | FI23: 1 | FJ23: - | FK23: - | FL23: - | FM23: - | FN23: - | FO23: - | FP23: 2 | FQ23: - | FR23: 2 | FS23: - | FT23: - | FU23: - | FV23: 2 | FW23: - | FX23: - | FY23: - | FZ23: - | GA23: - | GB23: - | GC23: 1 | GD23: - | GE23: 1 | GF23: - | GG23: - | GH23: - | GI23: 1 | GJ23: - | GK23: - | GL23: - | GM23: - | GN23: - | GO23: - | GP23: - | GQ23: - | GR23: - | GS23: - | GT23: - | GU23: - | GV23: - | GW23: - | GX23: - | GY23: - | GZ23: - | HA23: - | HB23: - | HC23: 7 | HD23: 3 | HE23: 4 | HF23: 3 | HG23: - | HH23: - | HI23: 4 | HJ23: - | HK23: - | HL23: - | HM23: - | HN23: - | HO23: -
A24: 臺東縣 | B24: Taitung County | C24: 112 | D24: 11 | E24: 101 | F24: 9 | G24: 41 | H24: 2 | I24: 60 | J24: - | K24: - | L24: - | M24: - | N24: - | O24: - | P24: 106 | Q24: 11 | R24: 95 | S24: 9 | T24: 37 | U24: 2 | V24: 58 | W24: - | X24: - | Y24: - | Z24: - | AA24: - | AB24: - | AC24: - | AD24: - | AE24: - | AF24: - | AG24: - | AH24: - | AI24: - | AJ24: - | AK24: - | AL24: - | AM24: - | AN24: - | AO24: - | AP24: - | AQ24: - | AR24: - | AS24: - | AT24: - | AU24: - | AV24: - | AW24: - | AX24: - | AY24: - | AZ24: - | BA24: - | BB24: - | BC24: - | BD24: - | BE24: - | BF24: - | BG24: - | BH24: - | BI24: - | BJ24: - | BK24: - | BL24: - | BM24: - | BN24: - | BO24: - | BP24: 3 | BQ24: - | BR24: 3 | BS24: - | BT24: 2 | BU24: - | BV24: 1 | BW24: - | BX24: - | BY24: - | BZ24: - | CA24: - | CB24: - | CC24: - | CD24: - | CE24: - | CF24: - | CG24: - | CH24: - | CI24: - | CJ24: - | CK24: - | CL24: - | CM24: - | CN24: - | CO24: - | CP24: 1 | CQ24: - | CR24: 1 | CS24: - | CT24: 1 | CU24: - | CV24: - | CW24: - | CX24: - | CY24: - | CZ24: - | DA24: - | DB24: - | DC24: - | DD24: - | DE24: - | DF24: - | DG24: - | DH24: - | DI24: - | DJ24: - | DK24: - | DL24: - | DM24: - | DN24: - | DO24: - | DP24: - | DQ24: - | DR24: - | DS24: - | DT24: - | DU24: - | DV24: - | DW24: - | DX24: - | DY24: - | DZ24: - | EA24: - | EB24: - | EC24: - | ED24: - | EE24: - | EF24: - | EG24: - | EH24: - | EI24: - | EJ24: - | EK24: - | EL24: - | EM24: - | EN24: - | EO24: - | EP24: - | EQ24: - | ER24: - | ES24: - | ET24: - | EU24: - | EV24: - | EW24: - | EX24: - | EY24: - | EZ24: - | FA24: - | FB24: - | FC24: - | FD24: - | FE24: - | FF24: - | FG24: - | FH24: - | FI24: - | FJ24: - | FK24: - | FL24: - | FM24: - | FN24: - | FO24: - | FP24: 1 | FQ24: - | FR24: 1 | FS24: - | FT24: 1 | FU24: - | FV24: - | FW24: - | FX24: - | FY24: - | FZ24: - | GA24: - | GB24: - | GC24: - | GD24: - | GE24: - | GF24: - | GG24: - | GH24: - | GI24: - | GJ24: - | GK24: - | GL24: - | GM24: - | GN24: - | GO24: - | GP24: - | GQ24: - | GR24: - | GS24: - | GT24: - | GU24: - | GV24: - | GW24: - | GX24: - | GY24: - | GZ24: - | HA24: - | HB24: - | HC24: 1 | HD24: - | HE24: 1 | HF24: - | HG24: - | HH24: - | HI24: 1 | HJ24: - | HK24: - | HL24: - | HM24: - | HN24: - | HO24: -
A25: 花蓮縣 | B25: Hualien County | C25: 173 | D25: 32 | E25: 141 | F25: 10 | G25: 2 | H25: 22 | I25: 139 | J25: - | K25: - | L25: - | M25: - | N25: - | O25: - | P25: 158 | Q25: 29 | R25: 129 | S25: 10 | T25: 2 | U25: 19 | V25: 127 | W25: - | X25: - | Y25: - | Z25: - | AA25: - | AB25: - | AC25: - | AD25: - | AE25: - | AF25: - | AG25: - | AH25: - | AI25: - | AJ25: - | AK25: - | AL25: - | AM25: - | AN25: - | AO25: - | AP25: - | AQ25: - | AR25: - | AS25: - | AT25: - | AU25: - | AV25: - | AW25: - | AX25: - | AY25: - | AZ25: - | BA25: - | BB25: - | BC25: - | BD25: - | BE25: - | BF25: - | BG25: - | BH25: - | BI25: - | BJ25: - | BK25: - | BL25: - | BM25: - | BN25: - | BO25: - | BP25: - | BQ25: - | BR25: - | BS25: - | BT25: - | BU25: - | BV25: - | BW25: - | BX25: - | BY25: - | BZ25: - | CA25: - | CB25: - | CC25: - | CD25: - | CE25: - | CF25: - | CG25: - | CH25: - | CI25: - | CJ25: - | CK25: - | CL25: - | CM25: - | CN25: - | CO25: - | CP25: 1 | CQ25: - | CR25: 1 | CS25: - | CT25: - | CU25: - | CV25: 1 | CW25: - | CX25: - | CY25: - | CZ25: - | DA25: - | DB25: - | DC25: 1 | DD25: 1 | DE25: - | DF25: - | DG25: - | DH25: 1 | DI25: - | DJ25: - | DK25: - | DL25: - | DM25: - | DN25: - | DO25: - | DP25: - | DQ25: - | DR25: - | DS25: - | DT25: - | DU25: - | DV25: - | DW25: - | DX25: - | DY25: - | DZ25: - | EA25: - | EB25: - | EC25: - | ED25: - | EE25: - | EF25: - | EG25: - | EH25: - | EI25: - | EJ25: - | EK25: - | EL25: - | EM25: - | EN25: - | EO25: - | EP25: 3 | EQ25: 1 | ER25: 2 | ES25: - | ET25: - | EU25: 1 | EV25: 2 | EW25: - | EX25: - | EY25: - | EZ25: - | FA25: - | FB25: - | FC25: - | FD25: - | FE25: - | FF25: - | FG25: - | FH25: - | FI25: - | FJ25: - | FK25: - | FL25: - | FM25: - | FN25: - | FO25: - | FP25: - | FQ25: - | FR25: - | FS25: - | FT25: - | FU25: - | FV25: - | FW25: - | FX25: - | FY25: - | FZ25: - | GA25: - | GB25: - | GC25: - | GD25: - | GE25: - | GF25: - | GG25: - | GH25: - | GI25: - | GJ25: - | GK25: - | GL25: - | GM25: - | GN25: - | GO25: - | GP25: - | GQ25: - | GR25: - | GS25: - | GT25: - | GU25: - | GV25: - | GW25: - | GX25: - | GY25: - | GZ25: - | HA25: - | HB25: - | HC25: 10 | HD25: 1 | HE25: 9 | HF25: - | HG25: - | HH25: 1 | HI25: 9 | HJ25: - | HK25: - | HL25: - | HM25: - | HN25: - | HO25: -
A26: 澎湖縣 | B26: Penghu County | C26: 1 | D26: - | E26: 1 | F26: - | G26: 1 | H26: - | I26: - | J26: - | K26: - | L26: - | M26: - | N26: - | O26: - | P26: 1 | Q26: - | R26: 1 | S26: - | T26: 1 | U26: - | V26: - | W26: - | X26: - | Y26: - | Z26: - | AA26: - | AB26: - | AC26: - | AD26: - | AE26: - | AF26: - | AG26: - | AH26: - | AI26: - | AJ26: - | AK26: - | AL26: - | AM26: - | AN26: - | AO26: - | AP26: - | AQ26: - | AR26: - | AS26: - | AT26: - | AU26: - | AV26: - | AW26: - | AX26: - | AY26: - | AZ26: - | BA26: - | BB26: - | BC26: - | BD26: - | BE26: - | BF26: - | BG26: - | BH26: - | BI26: - | BJ26: - | BK26: - | BL26: - | BM26: - | BN26: - | BO26: - | BP26: - | BQ26: - | BR26: - | BS26: - | BT26: - | BU26: - | BV26: - | BW26: - | BX26: - | BY26: - | BZ26: - | CA26: - | CB26: - | CC26: - | CD26: - | CE26: - | CF26: - | CG26: - | CH26: - | CI26: - | CJ26: - | CK26: - | CL26: - | CM26: - | CN26: - | CO26: - | CP26: - | CQ26: - | CR26: - | CS26: - | CT26: - | CU26: - | CV26: - | CW26: - | CX26: - | CY26: - | CZ26: - | DA26: - | DB26: - | DC26: - | DD26: - | DE26: - | DF26: - | DG26: - | DH26: - | DI26: - | DJ26: - | DK26: - | DL26: - | DM26: - | DN26: - | DO26: - | DP26: - | DQ26: - | DR26: - | DS26: - | DT26: - | DU26: - | DV26: - | DW26: - | DX26: - | DY26: - | DZ26: - | EA26: - | EB26: - | EC26: - | ED26: - | EE26: - | EF26: - | EG26: - | EH26: - | EI26: - | EJ26: - | EK26: - | EL26: - | EM26: - | EN26: - | EO26: - | EP26: - | EQ26: - | ER26: - | ES26: - | ET26: - | EU26: - | EV26: - | EW26: - | EX26: - | EY26: - | EZ26: - | FA26: - | FB26: - | FC26: - | FD26: - | FE26: - | FF26: - | FG26: - | FH26: - | FI26: - | FJ26: - | FK26: - | FL26: - | FM26: - | FN26: - | FO26: - | FP26: - | FQ26: - | FR26: - | FS26: - | FT26: - | FU26: - | FV26: - | FW26: - | FX26: - | FY26: - | FZ26: - | GA26: - | GB26: - | GC26: - | GD26: - | GE26: - | GF26: - | GG26: - | GH26: - | GI26: - | GJ26: - | GK26: - | GL26: - | GM26: - | GN26: - | GO26: - | GP26: - | GQ26: - | GR26: - | GS26: - | GT26: - | GU26: - | GV26: - | GW26: - | GX26: - | GY26: - | GZ26: - | HA26: - | HB26: - | HC26: - | HD26: - | HE26: - | HF26: - | HG26: - | HH26: - | HI26: - | HJ26: - | HK26: - | HL26: - | HM26: - | HN26: - | HO26: -
A27: 基隆市 | B27: Keelung City | C27: 97 | D27: 23 | E27: 74 | F27: 23 | G27: 44 | H27: - | I27: - | J27: - | K27: - | L27: - | M27: - | N27: - | O27: 30 | P27: 80 | Q27: 20 | R27: 60 | S27: 20 | T27: 37 | U27: - | V27: - | W27: - | X27: - | Y27: - | Z27: - | AA27: - | AB27: 23 | AC27: - | AD27: - | AE27: - | AF27: - | AG27: - | AH27: - | AI27: - | AJ27: - | AK27: - | AL27: - | AM27: - | AN27: - | AO27: - | AP27: - | AQ27: - | AR27: - | AS27: - | AT27: - | AU27: - | AV27: - | AW27: - | AX27: - | AY27: - | AZ27: - | BA27: - | BB27: - | BC27: - | BD27: - | BE27: - | BF27: - | BG27: - | BH27: - | BI27: - | BJ27: - | BK27: - | BL27: - | BM27: - | BN27: - | BO27: - | BP27: - | BQ27: - | BR27: - | BS27: - | BT27: - | BU27: - | BV27: - | BW27: - | BX27: - | BY27: - | BZ27: - | CA27: - | CB27: - | CC27: - | CD27: - | CE27: - | CF27: - | CG27: - | CH27: - | CI27: - | CJ27: - | CK27: - | CL27: - | CM27: - | CN27: - | CO27: - | CP27: - | CQ27: - | CR27: - | CS27: - | CT27: - | CU27: - | CV27: - | CW27: - | CX27: - | CY27: - | CZ27: - | DA27: - | DB27: - | DC27: 3 | DD27: 1 | DE27: 2 | DF27: 1 | DG27: - | DH27: - | DI27: - | DJ27: - | DK27: - | DL27: - | DM27: - | DN27: - | DO27: 2 | DP27: 1 | DQ27: - | DR27: 1 | DS27: - | DT27: 1 | DU27: - | DV27: - | DW27: - | DX27: - | DY27: - | DZ27: - | EA27: - | EB27: - | EC27: 6 | ED27: - | EE27: 6 | EF27: - | EG27: 1 | EH27: - | EI27: - | EJ27: - | EK27: - | EL27: - | EM27: - | EN27: - | EO27: 5 | EP27: - | EQ27: - | ER27: - | ES27: - | ET27: - | EU27: - | EV27: - | EW27: - | EX27: - | EY27: - | EZ27: - | FA27: - | FB27: - | FC27: - | FD27: - | FE27: - | FF27: - | FG27: - | FH27: - | FI27: - | FJ27: - | FK27: - | FL27: - | FM27: - | FN27: - | FO27: - | FP27: 1 | FQ27: 1 | FR27: - | FS27: 1 | FT27: - | FU27: - | FV27: - | FW27: - | FX27: - | FY27: - | FZ27: - | GA27: - | GB27: - | GC27: - | GD27: - | GE27: - | GF27: - | GG27: - | GH27: - | GI27: - | GJ27: - | GK27: - | GL27: - | GM27: - | GN27: - | GO27: - | GP27: - | GQ27: - | GR27: - | GS27: - | GT27: - | GU27: - | GV27: - | GW27: - | GX27: - | GY27: - | GZ27: - | HA27: - | HB27: - | HC27: 6 | HD27: 1 | HE27: 5 | HF27: 1 | HG27: 5 | HH27: - | HI27: - | HJ27: - | HK27: - | HL27: - | HM27: - | HN27: - | HO27: -
A28: 新竹市 | B28: Hsinchu City | C28: 152 | D28: 48 | E28: 104 | F28: 48 | G28: 104 | H28: - | I28: - | J28: - | K28: - | L28: - | M28: - | N28: - | O28: - | P28: 131 | Q28: 42 | R28: 89 | S28: 42 | T28: 89 | U28: - | V28: - | W28: - | X28: - | Y28: - | Z28: - | AA28: - | AB28: - | AC28: - | AD28: - | AE28: - | AF28: - | AG28: - | AH28: - | AI28: - | AJ28: - | AK28: - | AL28: - | AM28: - | AN28: - | AO28: - | AP28: - | AQ28: - | AR28: - | AS28: - | AT28: - | AU28: - | AV28: - | AW28: - | AX28: - | AY28: - | AZ28: - | BA28: - | BB28: - | BC28: - | BD28: - | BE28: - | BF28: - | BG28: - | BH28: - | BI28: - | BJ28: - | BK28: - | BL28: - | BM28: - | BN28: - | BO28: - | BP28: - | BQ28: - | BR28: - | BS28: - | BT28: - | BU28: - | BV28: - | BW28: - | BX28: - | BY28: - | BZ28: - | CA28: - | CB28: - | CC28: - | CD28: - | CE28: - | CF28: - | CG28: - | CH28: - | CI28: - | CJ28: - | CK28: - | CL28: - | CM28: - | CN28: - | CO28: - | CP28: - | CQ28: - | CR28: - | CS28: - | CT28: - | CU28: - | CV28: - | CW28: - | CX28: - | CY28: - | CZ28: - | DA28: - | DB28: - | DC28: - | DD28: - | DE28: - | DF28: - | DG28: - | DH28: - | DI28: - | DJ28: - | DK28: - | DL28: - | DM28: - | DN28: - | DO28: - | DP28: 3 | DQ28: 2 | DR28: 1 | DS28: 2 | DT28: 1 | DU28: - | DV28: - | DW28: - | DX28: - | DY28: - | DZ28: - | EA28: - | EB28: - | EC28: 4 | ED28: - | EE28: 4 | EF28: - | EG28: 4 | EH28: - | EI28: - | EJ28: - | EK28: - | EL28: - | EM28: - | EN28: - | EO28: - | EP28: - | EQ28: - | ER28: - | ES28: - | ET28: - | EU28: - | EV28: - | EW28: - | EX28: - | EY28: - | EZ28: - | FA28: - | FB28: - | FC28: - | FD28: - | FE28: - | FF28: - | FG28: - | FH28: - | FI28: - | FJ28: - | FK28: - | FL28: - | FM28: - | FN28: - | FO28: - | FP28: 2 | FQ28: 2 | FR28: - | FS28: 2 | FT28: - | FU28: - | FV28: - | FW28: - | FX28: - | FY28: - | FZ28: - | GA28: - | GB28: - | GC28: 9 | GD28: - | GE28: 9 | GF28: - | GG28: 9 | GH28: - | GI28: - | GJ28: - | GK28: - | GL28: - | GM28: - | GN28: - | GO28: - | GP28: - | GQ28: - | GR28: - | GS28: - | GT28: - | GU28: - | GV28: - | GW28: - | GX28: - | GY28: - | GZ28: - | HA28: - | HB28: - | HC28: 3 | HD28: 2 | HE28: 1 | HF28: 2 | HG28: 1 | HH28: - | HI28: - | HJ28: - | HK28: - | HL28: - | HM28: - | HN28: - | HO28: -
A29: 嘉義市 | B29: Chiayi City | C29: 45 | D29: 6 | E29: 39 | F29: 6 | G29: 32 | H29: - | I29: 7 | J29: - | K29: - | L29: - | M29: - | N29: - | O29: - | P29: 45 | Q29: 6 | R29: 39 | S29: 6 | T29: 32 | U29: - | V29: 7 | W29: - | X29: - | Y29: - | Z29: - | AA29: - | AB29: - | AC29: - | AD29: - | AE29: - | AF29: - | AG29: - | AH29: - | AI29: - | AJ29: - | AK29: - | AL29: - | AM29: - | AN29: - | AO29: - | AP29: - | AQ29: - | AR29: - | AS29: - | AT29: - | AU29: - | AV29: - | AW29: - | AX29: - | AY29: - | AZ29: - | BA29: - | BB29: - | BC29: - | BD29: - | BE29: - | BF29: - | BG29: - | BH29: - | BI29: - | BJ29: - | BK29: - | BL29: - | BM29: - | BN29: - | BO29: - | BP29: - | BQ29: - | BR29: - | BS29: - | BT29: - | BU29: - | BV29: - | BW29: - | BX29: - | BY29: - | BZ29: - | CA29: - | CB29: - | CC29: - | CD29: - | CE29: - | CF29: - | CG29: - | CH29: - | CI29: - | CJ29: - | CK29: - | CL29: - | CM29: - | CN29: - | CO29: - | CP29: - | CQ29: - | CR29: - | CS29: - | CT29: - | CU29: - | CV29: - | CW29: - | CX29: - | CY29: - | CZ29: - | DA29: - | DB29: - | DC29: - | DD29: - | DE29: - | DF29: - | DG29: - | DH29: - | DI29: - | DJ29: - | DK29: - | DL29: - | DM29: - | DN29: - | DO29: - | DP29: - | DQ29: - | DR29: - | DS29: - | DT29: - | DU29: - | DV29: - | DW29: - | DX29: - | DY29: - | DZ29: - | EA29: - | EB29: - | EC29: - | ED29: - | EE29: - | EF29: - | EG29: - | EH29: - | EI29: - | EJ29: - | EK29: - | EL29: - | EM29: - | EN29: - | EO29: - | EP29: - | EQ29: - | ER29: - | ES29: - | ET29: - | EU29: - | EV29: - | EW29: - | EX29: - | EY29: - | EZ29: - | FA29: - | FB29: - | FC29: - | FD29: - | FE29: - | FF29: - | FG29: - | FH29: - | FI29: - | FJ29: - | FK29: - | FL29: - | FM29: - | FN29: - | FO29: - | FP29: - | FQ29: - | FR29: - | FS29: - | FT29: - | FU29: - | FV29: - | FW29: - | FX29: - | FY29: - | FZ29: - | GA29: - | GB29: - | GC29: - | GD29: - | GE29: - | GF29: - | GG29: - | GH29: - | GI29: - | GJ29: - | GK29: - | GL29: - | GM29: - | GN29: - | GO29: - | GP29: - | GQ29: - | GR29: - | GS29: - | GT29: - | GU29: - | GV29: - | GW29: - | GX29: - | GY29: - | GZ29: - | HA29: - | HB29: - | HC29: - | HD29: - | HE29: - | HF29: - | HG29: - | HH29: - | HI29: - | HJ29: - | HK29: - | HL29: - | HM29: - | HN29: - | HO29: -
A30: 金門縣 | B30: Kinmen County | C30: - | D30: - | E30: - | F30: - | G30: - | H30: - | I30: - | J30: - | K30: - | L30: - | M30: - | N30: - | O30: - | P30: - | Q30: - | R30: - | S30: - | T30: - | U30: - | V30: - | W30: - | X30: - | Y30: - | Z30: - | AA30: - | AB30: - | AC30: - | AD30: - | AE30: - | AF30: - | AG30: - | AH30: - | AI30: - | AJ30: - | AK30: - | AL30: - | AM30: - | AN30: - | AO30: - | AP30: - | AQ30: - | AR30: - | AS30: - | AT30: - | AU30: - | AV30: - | AW30: - | AX30: - | AY30: - | AZ30: - | BA30: - | BB30: - | BC30: - | BD30: - | BE30: - | BF30: - | BG30: - | BH30: - | BI30: - | BJ30: - | BK30: - | BL30: - | BM30: - | BN30: - | BO30: - | BP30: - | BQ30: - | BR30: - | BS30: - | BT30: - | BU30: - | BV30: - | BW30: - | BX30: - | BY30: - | BZ30: - | CA30: - | CB30: - | CC30: - | CD30: - | CE30: - | CF30: - | CG30: - | CH30: - | CI30: - | CJ30: - | CK30: - | CL30: - | CM30: - | CN30: - | CO30: - | CP30: - | CQ30: - | CR30: - | CS30: - | CT30: - | CU30: - | CV30: - | CW30: - | CX30: - | CY30: - | CZ30: - | DA30: - | DB30: - | DC30: - | DD30: - | DE30: - | DF30: - | DG30: - | DH30: - | DI30: - | DJ30: - | DK30: - | DL30: - | DM30: - | DN30: - | DO30: - | DP30: - | DQ30: - | DR30: - | DS30: - | DT30: - | DU30: - | DV30: - | DW30: - | DX30: - | DY30: - | DZ30: - | EA30: - | EB30: - | EC30: - | ED30: - | EE30: - | EF30: - | EG30: - | EH30: - | EI30: - | EJ30: - | EK30: - | EL30: - | EM30: - | EN30: - | EO30: - | EP30: - | EQ30: - | ER30: - | ES30: - | ET30: - | EU30: - | EV30: - | EW30: - | EX30: - | EY30: - | EZ30: - | FA30: - | FB30: - | FC30: - | FD30: - | FE30: - | FF30: - | FG30: - | FH30: - | FI30: - | FJ30: - | FK30: - | FL30: - | FM30: - | FN30: - | FO30: - | FP30: - | FQ30: - | FR30: - | FS30: - | FT30: - | FU30: - | FV30: - | FW30: - | FX30: - | FY30: - | FZ30: - | GA30: - | GB30: - | GC30: - | GD30: - | GE30: - | GF30: - | GG30: - | GH30: - | GI30: - | GJ30: - | GK30: - | GL30: - | GM30: - | GN30: - | GO30: - | GP30: - | GQ30: - | GR30: - | GS30: - | GT30: - | GU30: - | GV30: - | GW30: - | GX30: - | GY30: - | GZ30: - | HA30: - | HB30: - | HC30: - | HD30: - | HE30: - | HF30: - | HG30: - | HH30: - | HI30: - | HJ30: - | HK30: - | HL30: - | HM30: - | HN30: - | HO30: -
A31: 連江縣 | B31: Lienchiang County | C31: - | D31: - | E31: - | F31: - | G31: - | H31: - | I31: - | J31: - | K31: - | L31: - | M31: - | N31: - | O31: - | P31: - | Q31: - | R31: - | S31: - | T31: - | U31: - | V31: - | W31: - | X31: - | Y31: - | Z31: - | AA31: - | AB31: - | AC31: - | AD31: - | AE31: - | AF31: - | AG31: - | AH31: - | AI31: - | AJ31: - | AK31: - | AL31: - | AM31: - | AN31: - | AO31: - | AP31: - | AQ31: - | AR31: - | AS31: - | AT31: - | AU31: - | AV31: - | AW31: - | AX31: - | AY31: - | AZ31: - | BA31: - | BB31: - | BC31: - | BD31: - | BE31: - | BF31: - | BG31: - | BH31: - | BI31: - | BJ31: - | BK31: - | BL31: - | BM31: - | BN31: - | BO31: - | BP31: - | BQ31: - | BR31: - | BS31: - | BT31: - | BU31: - | BV31: - | BW31: - | BX31: - | BY31: - | BZ31: - | CA31: - | CB31: - | CC31: - | CD31: - | CE31: - | CF31: - | CG31: - | CH31: - | CI31: - | CJ31: - | CK31: - | CL31: - | CM31: - | CN31: - | CO31: - | CP31: - | CQ31: - | CR31: - | CS31: - | CT31: - | CU31: - | CV31: - | CW31: - | CX31: - | CY31: - | CZ31: - | DA31: - | DB31: - | DC31: - | DD31: - | DE31: - | DF31: - | DG31: - | DH31: - | DI31: - | DJ31: - | DK31: - | DL31: - | DM31: - | DN31: - | DO31: - | DP31: - | DQ31: - | DR31: - | DS31: - | DT31: - | DU31: - | DV31: - | DW31: - | DX31: - | DY31: - | DZ31: - | EA31: - | EB31: - | EC31: - | ED31: - | EE31: - | EF31: - | EG31: - | EH31: - | EI31: - | EJ31: - | EK31: - | EL31: - | EM31: - | EN31: - | EO31: - | EP31: - | EQ31: - | ER31: - | ES31: - | ET31: - | EU31: - | EV31: - | EW31: - | EX31: - | EY31: - | EZ31: - | FA31: - | FB31: - | FC31: - | FD31: - | FE31: - | FF31: - | FG31: - | FH31: - | FI31: - | FJ31: - | FK31: - | FL31: - | FM31: - | FN31: - | FO31: - | FP31: - | FQ31: - | FR31: - | FS31: - | FT31: - | FU31: - | FV31: - | FW31: - | FX31: - | FY31: - | FZ31: - | GA31: - | GB31: - | GC31: - | GD31: - | GE31: - | GF31: - | GG31: - | GH31: - | GI31: - | GJ31: - | GK31: - | GL31: - | GM31: - | GN31: - | GO31: - | GP31: - | GQ31: - | GR31: - | GS31: - | GT31: - | GU31: - | GV31: - | GW31: - | GX31: - | GY31: - | GZ31: - | HA31: - | HB31: - | HC31: - | HD31: - | HE31: - | HF31: - | HG31: - | HH31: - | HI31: - | HJ31: - | HK31: - | HL31: - | HM31: - | HN31: - | HO31: -
A32: 資料來源：直轄市、縣﹝市﹞政府。
A33: Source : County and City Government.

Sheet 2025
A1: 同性親密關係暴力被害人保護扶助人次
A2: 114年，2025年
A3: 單位：人次
A4: 區域別 Locality | C4: 總計Total | P4: 諮詢協談Consultation | AC4: 庇護安置Providing Shelter | AP4: 庇護安置Providing Shelter | BC4: 陪同報案偵詢（訊）Accompanied Interrogation | BP4: 陪同出庭Accompanied Present in Court | CC4: 驗傷診療Medical Examinations and Treatments | CP4: 聲請保護令Petition for Civil Protection Orders | DC4: 法律扶助Legal Aid | DP4: 經濟扶助Economic Support | EC4: 心理諮商與輔導Psychological Counseling | EP4: 就業服務Employment Service | FC4: 就學或轉學服務Education or School Transfer Service | FP4: 轉介/提供目睹暴力服務Referral/Witness Services | GC4: 子女問題協助Assistance in Children's Problems | GP4: 通譯服務Interpret Service | HC4: 其他扶助Others
AC5: 被害人Victim | AP5: 隨行子女Accompanying Children
C6: 合計Total | F6: 本國籍非原住民 Non-aboriginal Native | H6: 本國籍原住民 Aboriginal Native | J6: 大陸籍(含港澳) Mainland China (Hong Kong and Macau Included) | L6: 外國籍 Foreign | N6: 其他 Others | P6: 合計Total | S6: 本國籍非原住民 Non-aboriginal Native | U6: 本國籍原住民 Aboriginal Native | W6: 大陸籍(含港澳) Mainland China (Hong Kong and Macau Included) | Y6: 外國籍 Foreign | AA6: 其他 Others | AC6: 合計Total | AF6: 本國籍非原住民 Non-aboriginal Native | AH6: 本國籍原住民 Aboriginal Native | AJ6: 大陸籍(含港澳) Mainland China (Hong Kong and Macau Included) | AL6: 外國籍 Foreign | AN6: 其他 Others | AP6: 合計Total | AS6: 本國籍非原住民 Non-aboriginal Native | AU6: 本國籍原住民 Aboriginal Native | AW6: 大陸籍(含港澳) Mainland China (Hong Kong and Macau Included) | AY6: 外國籍 Foreign | BA6: 其他 Others | BC6: 合計Total | BF6: 本國籍非原住民 Non-aboriginal Native | BH6: 本國籍原住民 Aboriginal Native | BJ6: 大陸籍(含港澳) Mainland China (Hong Kong and Macau Included) | BL6: 外國籍 Foreign | BN6: 其他 Others | BP6: 合計Total | BS6: 本國籍非原住民 Non-aboriginal Native | BU6: 本國籍原住民 Aboriginal Native | BW6: 大陸籍(含港澳) Mainland China (Hong Kong and Macau Included) | BY6: 外國籍 Foreign | CA6: 其他 Others | CC6: 合計Total | CF6: 本國籍非原住民 Non-aboriginal Native | CH6: 本國籍原住民 Aboriginal Native | CJ6: 大陸籍(含港澳) Mainland China (Hong Kong and Macau Included) | CL6: 外國籍 Foreign | CN6: 其他 Others | CP6: 合計Total | CS6: 本國籍非原住民 Non-aboriginal Native | CU6: 本國籍原住民 Aboriginal Native | CW6: 大陸籍(含港澳) Mainland China (Hong Kong and Macau Included) | CY6: 外國籍 Foreign | DA6: 其他 Others | DC6: 合計Total | DF6: 本國籍非原住民 Non-aboriginal Native | DH6: 本國籍原住民 Aboriginal Native | DJ6: 大陸籍(含港澳) Mainland China (Hong Kong and Macau Included) | DL6: 外國籍 Foreign | DN6: 其他 Others | DP6: 合計Total | DS6: 本國籍非原住民 Non-aboriginal Native | DU6: 本國籍原住民 Aboriginal Native | DW6: 大陸籍(含港澳) Mainland China (Hong Kong and Macau Included) | DY6: 外國籍 Foreign | EA6: 其他 Others | EC6: 合計Total | EF6: 本國籍非原住民 Non-aboriginal Native | EH6: 本國籍原住民 Aboriginal Native | EJ6: 大陸籍(含港澳) Mainland China (Hong Kong and Macau Included) | EL6: 外國籍 Foreign | EN6: 其他 Others | EP6: 合計Total | ES6: 本國籍非原住民 Non-aboriginal Native | EU6: 本國籍原住民 Aboriginal Native | EW6: 大陸籍(含港澳) Mainland China (Hong Kong and Macau Included) | EY6: 外國籍 Foreign | FA6: 其他 Others | FC6: 合計Total | FF6: 本國籍非原住民 Non-aboriginal Native | FH6: 本國籍原住民 Aboriginal Native | FJ6: 大陸籍(含港澳) Mainland China (Hong Kong and Macau Included) | FL6: 外國籍 Foreign | FN6: 其他 Others | FP6: 合計Total | FS6: 本國籍非原住民 Non-aboriginal Native | FU6: 本國籍原住民 Aboriginal Native | FW6: 大陸籍(含港澳) Mainland China (Hong Kong and Macau Included) | FY6: 外國籍 Foreign | GA6: 其他 Others | GC6: 合計Total | GF6: 本國籍非原住民 Non-aboriginal Native | GH6: 本國籍原住民 Aboriginal Native | GJ6: 大陸籍(含港澳) Mainland China (Hong Kong and Macau Included) | GL6: 外國籍 Foreign | GN6: 其他 Others | GP6: 合計Total | GS6: 本國籍非原住民 Non-aboriginal Native | GU6: 本國籍原住民 Aboriginal Native | GW6: 大陸籍(含港澳) Mainland China (Hong Kong and Macau Included) | GY6: 外國籍 Foreign | HA6: 其他 Others | HC6: 合計Total | HF6: 本國籍非原住民 Non-aboriginal Native | HH6: 本國籍原住民 Aboriginal Native | HJ6: 大陸籍(含港澳) Mainland China (Hong Kong and Macau Included) | HL6: 外國籍 Foreign | HN6: 其他 Others
C8: 計 Total | D8: 男 Male | E8: 女 Female | F8: 男 Male | G8: 女 Female | H8: 男 Male | I8: 女 Female | J8: 男 Male | K8: 女 Female | L8: 男 Male | M8: 女 Female | N8: 男 Male | O8: 女 Female | P8: 計 Total | Q8: 男 Male | R8: 女 Female | S8: 男 Male | T8: 女 Female | U8: 男 Male | V8: 女 Female | W8: 男 Male | X8: 女 Female | Y8: 男 Male | Z8: 女 Female | AA8: 男 Male | AB8: 女 Female | AC8: 計 Total | AD8: 男 Male | AE8: 女 Female | AF8: 男 Male | AG8: 女 Female | AH8: 男 Male | AI8: 女 Female | AJ8: 男 Male | AK8: 女 Female | AL8: 男 Male | AM8: 女 Female | AN8: 男 Male | AO8: 女 Female | AP8: 計 Total | AQ8: 男 Male | AR8: 女 Female | AS8: 男 Male | AT8: 女 Female | AU8: 男 Male | AV8: 女 Female | AW8: 男 Male | AX8: 女 Female | AY8: 男 Male | AZ8: 女 Female | BA8: 男 Male | BB8: 女 Female | BC8: 計 Total | BD8: 男 Male | BE8: 女 Female | BF8: 男 Male | BG8: 女 Female | BH8: 男 Male | BI8: 女 Female | BJ8: 男 Male | BK8: 女 Female | BL8: 男 Male | BM8: 女 Female | BN8: 男 Male | BO8: 女 Female | BP8: 計 Total | BQ8: 男 Male | BR8: 女 Female | BS8: 男 Male | BT8: 女 Female | BU8: 男 Male | BV8: 女 Female | BW8: 男 Male | BX8: 女 Female | BY8: 男 Male | BZ8: 女 Female | CA8: 男 Male | CB8: 女 Female | CC8: 計 Total | CD8: 男 Male | CE8: 女 Female | CF8: 男 Male | CG8: 女 Female | CH8: 男 Male | CI8: 女 Female | CJ8: 男 Male | CK8: 女 Female | CL8: 男 Male | CM8: 女 Female | CN8: 男 Male | CO8: 女 Female | CP8: 計 Total | CQ8: 男 Male | CR8: 女 Female | CS8: 男 Male | CT8: 女 Female | CU8: 男 Male | CV8: 女 Female | CW8: 男 Male | CX8: 女 Female | CY8: 男 Male | CZ8: 女 Female | DA8: 男 Male | DB8: 女 Female | DC8: 計 Total | DD8: 男 Male | DE8: 女 Female | DF8: 男 Male | DG8: 女 Female | DH8: 男 Male | DI8: 女 Female | DJ8: 男 Male | DK8: 女 Female | DL8: 男 Male | DM8: 女 Female | DN8: 男 Male | DO8: 女 Female | DP8: 計 Total | DQ8: 男 Male | DR8: 女 Female | DS8: 男 Male | DT8: 女 Female | DU8: 男 Male | DV8: 女 Female | DW8: 男 Male | DX8: 女 Female | DY8: 男 Male | DZ8: 女 Female | EA8: 男 Male | EB8: 女 Female | EC8: 計 Total | ED8: 男 Male | EE8: 女 Female | EF8: 男 Male | EG8: 女 Female | EH8: 男 Male | EI8: 女 Female | EJ8: 男 Male | EK8: 女 Female | EL8: 男 Male | EM8: 女 Female | EN8: 男 Male | EO8: 女 Female | EP8: 計 Total | EQ8: 男 Male | ER8: 女 Female | ES8: 男 Male | ET8: 女 Female | EU8: 男 Male | EV8: 女 Female | EW8: 男 Male | EX8: 女 Female | EY8: 男 Male | EZ8: 女 Female | FA8: 男 Male | FB8: 女 Female | FC8: 計 Total | FD8: 男 Male | FE8: 女 Female | FF8: 男 Male | FG8: 女 Female | FH8: 男 Male | FI8: 女 Female | FJ8: 男 Male | FK8: 女 Female | FL8: 男 Male | FM8: 女 Female | FN8: 男 Male | FO8: 女 Female | FP8: 計 Total | FQ8: 男 Male | FR8: 女 Female | FS8: 男 Male | FT8: 女 Female | FU8: 男 Male | FV8: 女 Female | FW8: 男 Male | FX8: 女 Female | FY8: 男 Male | FZ8: 女 Female | GA8: 男 Male | GB8: 女 Female | GC8: 計 Total | GD8: 男 Male | GE8: 女 Female | GF8: 男 Male | GG8: 女 Female | GH8: 男 Male | GI8: 女 Female | GJ8: 男 Male | GK8: 女 Female | GL8: 男 Male | GM8: 女 Female | GN8: 男 Male | GO8: 女 Female | GP8: 計 Total | GQ8: 男 Male | GR8: 女 Female | GS8: 男 Male | GT8: 女 Female | GU8: 男 Male | GV8: 女 Female | GW8: 男 Male | GX8: 女 Female | GY8: 男 Male | GZ8: 女 Female | HA8: 男 Male | HB8: 女 Female | HC8: 計 Total | HD8: 男 Male | HE8: 女 Female | HF8: 男 Male | HG8: 女 Female | HH8: 男 Male | HI8: 女 Female | HJ8: 男 Male | HK8: 女 Female | HL8: 男 Male | HM8: 女 Female | HN8: 男 Male | HO8: 女 Female
A9: 114上半年 | C9: 19401 | D9: 7620 | E9: 11781 | F9: 6311 | G9: 9938 | H9: 637 | I9: 1364 | J9: 29 | K9: 43 | L9: 281 | M9: 98 | N9: 362 | O9: 338 | P9: 17913 | Q9: 6930 | R9: 10983 | S9: 5725 | T9: 9265 | U9: 603 | V9: 1257 | W9: 20 | X9: 38 | Y9: 244 | Z9: 97 | AA9: 338 | AB9: 326 | AC9: 14 | AD9: 2 | AE9: 12 | AF9: 0 | AG9: 8 | AH9: 1 | AI9: 4 | AJ9: 0 | AK9: 0 | AL9: 1 | AM9: 0 | AN9: 0 | AO9: 0 | AP9: 4 | AQ9: 0 | AR9: 4 | AS9: 0 | AT9: 4 | AU9: 0 | AV9: 0 | AW9: 0 | AX9: 0 | AY9: 0 | AZ9: 0 | BA9: 0 | BB9: 0 | BC9: 2 | BD9: 1 | BE9: 1 | BF9: 1 | BG9: 0 | BH9: 0 | BI9: 1 | BJ9: 0 | BK9: 0 | BL9: 0 | BM9: 0 | BN9: 0 | BO9: 0 | BP9: 42 | BQ9: 19 | BR9: 23 | BS9: 14 | BT9: 19 | BU9: 4 | BV9: 3 | BW9: 0 | BX9: 0 | BY9: 0 | BZ9: 0 | CA9: 1 | CB9: 1 | CC9: 4 | CD9: 2 | CE9: 2 | CF9: 2 | CG9: 2 | CH9: 0 | CI9: 0 | CJ9: 0 | CK9: 0 | CL9: 0 | CM9: 0 | CN9: 0 | CO9: 0 | CP9: 37 | CQ9: 12 | CR9: 25 | CS9: 9 | CT9: 23 | CU9: 3 | CV9: 2 | CW9: 0 | CX9: 0 | CY9: 0 | CZ9: 0 | DA9: 0 | DB9: 0 | DC9: 269 | DD9: 145 | DE9: 124 | DF9: 126 | DG9: 108 | DH9: 3 | DI9: 12 | DJ9: 0 | DK9: 3 | DL9: 13 | DM9: 0 | DN9: 3 | DO9: 1 | DP9: 57 | DQ9: 28 | DR9: 29 | DS9: 27 | DT9: 19 | DU9: 1 | DV9: 10 | DW9: 0 | DX9: 0 | DY9: 0 | DZ9: 0 | EA9: 0 | EB9: 0 | EC9: 151 | ED9: 54 | EE9: 97 | EF9: 52 | EG9: 87 | EH9: 0 | EI9: 6 | EJ9: 0 | EK9: 0 | EL9: 1 | EM9: 0 | EN9: 1 | EO9: 4 | EP9: 14 | EQ9: 6 | ER9: 8 | ES9: 5 | ET9: 4 | EU9: 1 | EV9: 4 | EW9: 0 | EX9: 0 | EY9: 0 | EZ9: 0 | FA9: 0 | FB9: 0 | FC9: 0 | FD9: 0 | FE9: 0 | FF9: 0 | FG9: 0 | FH9: 0 | FI9: 0 | FJ9: 0 | FK9: 0 | FL9: 0 | FM9: 0 | FN9: 0 | FO9: 0 | FP9: 59 | FQ9: 31 | FR9: 28 | FS9: 18 | FT9: 17 | FU9: 3 | FV9: 11 | FW9: 9 | FX9: 0 | FY9: 0 | FZ9: 0 | GA9: 1 | GB9: 0 | GC9: 52 | GD9: 32 | GE9: 20 | GF9: 26 | GG9: 16 | GH9: 0 | GI9: 4 | GJ9: 0 | GK9: 0 | GL9: 0 | GM9: 0 | GN9: 6 | GO9: 0 | GP9: 8 | GQ9: 8 | GR9: 0 | GS9: 1 | GT9: 0 | GU9: 0 | GV9: 0 | GW9: 0 | GX9: 0 | GY9: 7 | GZ9: 0 | HA9: 0 | HB9: 0 | HC9: 775 | HD9: 350 | HE9: 425 | HF9: 305 | HG9: 366 | HH9: 18 | HI9: 50 | HJ9: 0 | HK9: 2 | HL9: 15 | HM9: 1 | HN9: 12 | HO9: 6
A10: 新北市 | B10: New Taipei City | C10: 3792 | D10: 1503 | E10: 2289 | F10: 1286 | G10: 1944 | H10: 26 | I10: 32 | J10: 3 | K10: 18 | L10: 77 | M10: 18 | N10: 111 | O10: 277 | P10: 3417 | Q10: 1323 | R10: 2094 | S10: 1121 | T10: 1758 | U10: 25 | V10: 32 | W10: 3 | X10: 16 | Y10: 68 | Z10: 18 | AA10: 106 | AB10: 270 | AC10: 4 | AD10: 1 | AE10: 3 | AF10: 0 | AG10: 3 | AH10: 0 | AI10: 0 | AJ10: 0 | AK10: 0 | AL10: 1 | AM10: 0 | AN10: 0 | AO10: 0 | AP10: 1 | AQ10: 0 | AR10: 1 | AS10: 0 | AT10: 1 | AU10: 0 | AV10: 0 | AW10: 0 | AX10: 0 | AY10: 0 | AZ10: 0 | BA10: 0 | BB10: 0 | BC10: 0 | BD10: 0 | BE10: 0 | BF10: 0 | BG10: 0 | BH10: 0 | BI10: 0 | BJ10: 0 | BK10: 0 | BL10: 0 | BM10: 0 | BN10: 0 | BO10: 0 | BP10: 2 | BQ10: 0 | BR10: 2 | BS10: 0 | BT10: 1 | BU10: 0 | BV10: 0 | BW10: 0 | BX10: 0 | BY10: 0 | BZ10: 0 | CA10: 0 | CB10: 1 | CC10: 1 | CD10: 1 | CE10: 0 | CF10: 1 | CG10: 0 | CH10: 0 | CI10: 0 | CJ10: 0 | CK10: 0 | CL10: 0 | CM10: 0 | CN10: 0 | CO10: 0 | CP10: 5 | CQ10: 2 | CR10: 3 | CS10: 2 | CT10: 3 | CU10: 0 | CV10: 0 | CW10: 0 | CX10: 0 | CY10: 0 | CZ10: 0 | DA10: 0 | DB10: 0 | DC10: 30 | DD10: 14 | DE10: 16 | DF10: 14 | DG10: 15 | DH10: 0 | DI10: 0 | DJ10: 0 | DK10: 0 | DL10: 0 | DM10: 0 | DN10: 0 | DO10: 1 | DP10: 11 | DQ10: 11 | DR10: 0 | DS10: 11 | DT10: 0 | DU10: 0 | DV10: 0 | DW10: 0 | DX10: 0 | DY10: 0 | DZ10: 0 | EA10: 0 | EB10: 0 | EC10: 16 | ED10: 3 | EE10: 13 | EF10: 2 | EG10: 13 | EH10: 0 | EI10: 0 | EJ10: 0 | EK10: 0 | EL10: 1 | EM10: 0 | EN10: 0 | EO10: 0 | EP10: 0 | EQ10: 0 | ER10: 0 | ES10: 0 | ET10: 0 | EU10: 0 | EV10: 0 | EW10: 0 | EX10: 0 | EY10: 0 | EZ10: 0 | FA10: 0 | FB10: 0 | FC10: 0 | FD10: 0 | FE10: 0 | FF10: 0 | FG10: 0 | FH10: 0 | FI10: 0 | FJ10: 0 | FK10: 0 | FL10: 0 | FM10: 0 | FN10: 0 | FO10: 0 | FP10: 3 | FQ10: 0 | FR10: 3 | FS10: 0 | FT10: 3 | FU10: 0 | FV10: 0 | FW10: 0 | FX10: 0 | FY10: 0 | FZ10: 0 | GA10: 0 | GB10: 0 | GC10: 7 | GD10: 1 | GE10: 6 | GF10: 1 | GG10: 6 | GH10: 0 | GI10: 0 | GJ10: 0 | GK10: 0 | GL10: 0 | GM10: 0 | GN10: 0 | GO10: 0 | GP10: 5 | GQ10: 5 | GR10: 0 | GS10: 0 | GT10: 0 | GU10: 0 | GV10: 0 | GW10: 0 | GX10: 0 | GY10: 5 | GZ10: 0 | HA10: 0 | HB10: 0 | HC10: 290 | HD10: 142 | HE10: 148 | HF10: 134 | HG10: 141 | HH10: 1 | HI10: 0 | HJ10: 0 | HK10: 2 | HL10: 2 | HM10: 0 | HN10: 5 | HO10: 5
A11: 臺北市 | B11: Taipei City | C11: 1867 | D11: 866 | E11: 1001 | F11: 752 | G11: 989 | H11: 5 | I11: 0 | J11: 4 | K11: 2 | L11: 103 | M11: 1 | N11: 2 | O11: 9 | P11: 1521 | Q11: 688 | R11: 833 | S11: 597 | T11: 822 | U11: 3 | V11: 0 | W11: 4 | X11: 2 | Y11: 82 | Z11: 1 | AA11: 2 | AB11: 8 | AC11: 0 | AD11: 0 | AE11: 0 | AF11: 0 | AG11: 0 | AH11: 0 | AI11: 0 | AJ11: 0 | AK11: 0 | AL11: 0 | AM11: 0 | AN11: 0 | AO11: 0 | AP11: 0 | AQ11: 0 | AR11: 0 | AS11: 0 | AT11: 0 | AU11: 0 | AV11: 0 | AW11: 0 | AX11: 0 | AY11: 0 | AZ11: 0 | BA11: 0 | BB11: 0 | BC11: 0 | BD11: 0 | BE11: 0 | BF11: 0 | BG11: 0 | BH11: 0 | BI11: 0 | BJ11: 0 | BK11: 0 | BL11: 0 | BM11: 0 | BN11: 0 | BO11: 0 | BP11: 1 | BQ11: 0 | BR11: 1 | BS11: 0 | BT11: 1 | BU11: 0 | BV11: 0 | BW11: 0 | BX11: 0 | BY11: 0 | BZ11: 0 | CA11: 0 | CB11: 0 | CC11: 1 | CD11: 1 | CE11: 0 | CF11: 1 | CG11: 0 | CH11: 0 | CI11: 0 | CJ11: 0 | CK11: 0 | CL11: 0 | CM11: 0 | CN11: 0 | CO11: 0 | CP11: 1 | CQ11: 0 | CR11: 1 | CS11: 0 | CT11: 1 | CU11: 0 | CV11: 0 | CW11: 0 | CX11: 0 | CY11: 0 | CZ11: 0 | DA11: 0 | DB11: 0 | DC11: 115 | DD11: 62 | DE11: 53 | DF11: 51 | DG11: 53 | DH11: 0 | DI11: 0 | DJ11: 0 | DK11: 0 | DL11: 11 | DM11: 0 | DN11: 0 | DO11: 0 | DP11: 7 | DQ11: 4 | DR11: 3 | DS11: 4 | DT11: 3 | DU11: 0 | DV11: 0 | DW11: 0 | DX11: 0 | DY11: 0 | DZ11: 0 | EA11: 0 | EB11: 0 | EC11: 7 | ED11: 2 | EE11: 5 | EF11: 2 | EG11: 4 | EH11: 0 | EI11: 0 | EJ11: 0 | EK11: 0 | EL11: 0 | EM11: 0 | EN11: 0 | EO11: 1 | EP11: 2 | EQ11: 2 | ER11: 0 | ES11: 2 | ET11: 0 | EU11: 0 | EV11: 0 | EW11: 0 | EX11: 0 | EY11: 0 | EZ11: 0 | FA11: 0 | FB11: 0 | FC11: 0 | FD11: 0 | FE11: 0 | FF11: 0 | FG11: 0 | FH11: 0 | FI11: 0 | FJ11: 0 | FK11: 0 | FL11: 0 | FM11: 0 | FN11: 0 | FO11: 0 | FP11: 0 | FQ11: 0 | FR11: 0 | FS11: 0 | FT11: 0 | FU11: 0 | FV11: 0 | FW11: 0 | FX11: 0 | FY11: 0 | FZ11: 0 | GA11: 0 | GB11: 0 | GC11: 1 | GD11: 1 | GE11: 0 | GF11: 1 | GG11: 0 | GH11: 0 | GI11: 0 | GJ11: 0 | GK11: 0 | GL11: 0 | GM11: 0 | GN11: 0 | GO11: 0 | GP11: 0 | GQ11: 0 | GR11: 0 | GS11: 0 | GT11: 0 | GU11: 0 | GV11: 0 | GW11: 0 | GX11: 0 | GY11: 0 | GZ11: 0 | HA11: 0 | HB11: 0 | HC11: 211 | HD11: 106 | HE11: 105 | HF11: 94 | HG11: 105 | HH11: 2 | HI11: 0 | HJ11: 0 | HK11: 0 | HL11: 10 | HM11: 0 | HN11: 0 | HO11: 0
A12: 桃園市 | B12: Taoyuan City | C12: 2181 | D12: 865 | E12: 1316 | F12: 542 | G12: 1053 | H12: 273 | I12: 238 | J12: 18 | K12: 0 | L12: 11 | M12: 25 | N12: 21 | O12: 0 | P12: 2071 | Q12: 792 | R12: 1279 | S12: 503 | T12: 1028 | U12: 259 | V12: 227 | W12: 9 | X12: 0 | Y12: 9 | Z12: 24 | AA12: 12 | AB12: 0 | AC12: 1 | AD12: 1 | AE12: 0 | AF12: 0 | AG12: 0 | AH12: 1 | AI12: 0 | AJ12: 0 | AK12: 0 | AL12: 0 | AM12: 0 | AN12: 0 | AO12: 0 | AP12: 0 | AQ12: 0 | AR12: 0 | AS12: 0 | AT12: 0 | AU12: 0 | AV12: 0 | AW12: 0 | AX12: 0 | AY12: 0 | AZ12: 0 | BA12: 0 | BB12: 0 | BC12: 0 | BD12: 0 | BE12: 0 | BF12: 0 | BG12: 0 | BH12: 0 | BI12: 0 | BJ12: 0 | BK12: 0 | BL12: 0 | BM12: 0 | BN12: 0 | BO12: 0 | BP12: 4 | BQ12: 2 | BR12: 2 | BS12: 1 | BT12: 2 | BU12: 0 | BV12: 0 | BW12: 0 | BX12: 0 | BY12: 0 | BZ12: 0 | CA12: 1 | CB12: 0 | CC12: 2 | CD12: 0 | CE12: 2 | CF12: 0 | CG12: 2 | CH12: 0 | CI12: 0 | CJ12: 0 | CK12: 0 | CL12: 0 | CM12: 0 | CN12: 0 | CO12: 0 | CP12: 11 | CQ12: 6 | CR12: 5 | CS12: 5 | CT12: 5 | CU12: 1 | CV12: 0 | CW12: 0 | CX12: 0 | CY12: 0 | CZ12: 0 | DA12: 0 | DB12: 0 | DC12: 7 | DD12: 7 | DE12: 0 | DF12: 3 | DG12: 0 | DH12: 0 | DI12: 0 | DJ12: 0 | DK12: 0 | DL12: 1 | DM12: 0 | DN12: 3 | DO12: 0 | DP12: 1 | DQ12: 1 | DR12: 0 | DS12: 0 | DT12: 0 | DU12: 1 | DV12: 0 | DW12: 0 | DX12: 0 | DY12: 0 | DZ12: 0 | EA12: 0 | EB12: 0 | EC12: 0 | ED12: 0 | EE12: 0 | EF12: 0 | EG12: 0 | EH12: 0 | EI12: 0 | EJ12: 0 | EK12: 0 | EL12: 0 | EM12: 0 | EN12: 0 | EO12: 0 | EP12: 0 | EQ12: 0 | ER12: 0 | ES12: 0 | ET12: 0 | EU12: 0 | EV12: 0 | EW12: 0 | EX12: 0 | EY12: 0 | EZ12: 0 | FA12: 0 | FB12: 0 | FC12: 0 | FD12: 0 | FE12: 0 | FF12: 0 | FG12: 0 | FH12: 0 | FI12: 0 | FJ12: 0 | FK12: 0 | FL12: 0 | FM12: 0 | FN12: 0 | FO12: 0 | FP12: 37 | FQ12: 26 | FR12: 11 | FS12: 14 | FT12: 5 | FU12: 3 | FV12: 6 | FW12: 9 | FX12: 0 | FY12: 0 | FZ12: 0 | GA12: 0 | GB12: 0 | GC12: 0 | GD12: 0 | GE12: 0 | GF12: 0 | GG12: 0 | GH12: 0 | GI12: 0 | GJ12: 0 | GK12: 0 | GL12: 0 | GM12: 0 | GN12: 0 | GO12: 0 | GP12: 0 | GQ12: 0 | GR12: 0 | GS12: 0 | GT12: 0 | GU12: 0 | GV12: 0 | GW12: 0 | GX12: 0 | GY12: 0 | GZ12: 0 | HA12: 0 | HB12: 0 | HC12: 47 | HD12: 30 | HE12: 17 | HF12: 16 | HG12: 11 | HH12: 8 | HI12: 5 | HJ12: 0 | HK12: 0 | HL12: 1 | HM12: 1 | HN12: 5 | HO12: 0
A13: 臺中市 | B13: Taichung City | C13: 2779 | D13: 911 | E13: 1868 | F13: 817 | G13: 1635 | H13: 54 | I13: 169 | J13: 0 | K13: 5 | L13: 6 | M13: 40 | N13: 34 | O13: 19 | P13: 2633 | Q13: 857 | R13: 1776 | S13: 770 | T13: 1559 | U13: 54 | V13: 156 | W13: 0 | X13: 5 | Y13: 6 | Z13: 40 | AA13: 27 | AB13: 16 | AC13: 1 | AD13: 0 | AE13: 1 | AF13: 0 | AG13: 0 | AH13: 0 | AI13: 1 | AJ13: 0 | AK13: 0 | AL13: 0 | AM13: 0 | AN13: 0 | AO13: 0 | AP13: 0 | AQ13: 0 | AR13: 0 | AS13: 0 | AT13: 0 | AU13: 0 | AV13: 0 | AW13: 0 | AX13: 0 | AY13: 0 | AZ13: 0 | BA13: 0 | BB13: 0 | BC13: 1 | BD13: 1 | BE13: 0 | BF13: 1 | BG13: 0 | BH13: 0 | BI13: 0 | BJ13: 0 | BK13: 0 | BL13: 0 | BM13: 0 | BN13: 0 | BO13: 0 | BP13: 3 | BQ13: 1 | BR13: 2 | BS13: 1 | BT13: 2 | BU13: 0 | BV13: 0 | BW13: 0 | BX13: 0 | BY13: 0 | BZ13: 0 | CA13: 0 | CB13: 0 | CC13: 0 | CD13: 0 | CE13: 0 | CF13: 0 | CG13: 0 | CH13: 0 | CI13: 0 | CJ13: 0 | CK13: 0 | CL13: 0 | CM13: 0 | CN13: 0 | CO13: 0 | CP13: 2 | CQ13: 0 | CR13: 2 | CS13: 0 | CT13: 2 | CU13: 0 | CV13: 0 | CW13: 0 | CX13: 0 | CY13: 0 | CZ13: 0 | DA13: 0 | DB13: 0 | DC13: 12 | DD13: 4 | DE13: 8 | DF13: 4 | DG13: 6 | DH13: 0 | DI13: 2 | DJ13: 0 | DK13: 0 | DL13: 0 | DM13: 0 | DN13: 0 | DO13: 0 | DP13: 2 | DQ13: 1 | DR13: 1 | DS13: 1 | DT13: 1 | DU13: 0 | DV13: 0 | DW13: 0 | DX13: 0 | DY13: 0 | DZ13: 0 | EA13: 0 | EB13: 0 | EC13: 42 | ED13: 0 | EE13: 42 | EF13: 0 | EG13: 38 | EH13: 0 | EI13: 1 | EJ13: 0 | EK13: 0 | EL13: 0 | EM13: 0 | EN13: 0 | EO13: 3 | EP13: 6 | EQ13: 1 | ER13: 5 | ES13: 1 | ET13: 1 | EU13: 0 | EV13: 4 | EW13: 0 | EX13: 0 | EY13: 0 | EZ13: 0 | FA13: 0 | FB13: 0 | FC13: 0 | FD13: 0 | FE13: 0 | FF13: 0 | FG13: 0 | FH13: 0 | FI13: 0 | FJ13: 0 | FK13: 0 | FL13: 0 | FM13: 0 | FN13: 0 | FO13: 0 | FP13: 3 | FQ13: 2 | FR13: 1 | FS13: 2 | FT13: 0 | FU13: 0 | FV13: 1 | FW13: 0 | FX13: 0 | FY13: 0 | FZ13: 0 | GA13: 0 | GB13: 0 | GC13: 21 | GD13: 21 | GE13: 0 | GF13: 15 | GG13: 0 | GH13: 0 | GI13: 0 | GJ13: 0 | GK13: 0 | GL13: 0 | GM13: 0 | GN13: 6 | GO13: 0 | GP13: 1 | GQ13: 1 | GR13: 0 | GS13: 1 | GT13: 0 | GU13: 0 | GV13: 0 | GW13: 0 | GX13: 0 | GY13: 0 | GZ13: 0 | HA13: 0 | HB13: 0 | HC13: 52 | HD13: 22 | HE13: 30 | HF13: 21 | HG13: 26 | HH13: 0 | HI13: 4 | HJ13: 0 | HK13: 0 | HL13: 0 | HM13: 0 | HN13: 1 | HO13: 0
A14: 臺南市 | B14: Tainan City | C14: 1708 | D14: 638 | E14: 1070 | F14: 638 | G14: 1032 | H14: 0 | I14: 20 | J14: 0 | K14: 8 | L14: 0 | M14: 10 | N14: 0 | O14: 0 | P14: 1644 | Q14: 614 | R14: 1030 | S14: 614 | T14: 995 | U14: 0 | V14: 17 | W14: 0 | X14: 8 | Y14: 0 | Z14: 10 | AA14: 0 | AB14: 0 | AC14: 0 | AD14: 0 | AE14: 0 | AF14: 0 | AG14: 0 | AH14: 0 | AI14: 0 | AJ14: 0 | AK14: 0 | AL14: 0 | AM14: 0 | AN14: 0 | AO14: 0 | AP14: 0 | AQ14: 0 | AR14: 0 | AS14: 0 | AT14: 0 | AU14: 0 | AV14: 0 | AW14: 0 | AX14: 0 | AY14: 0 | AZ14: 0 | BA14: 0 | BB14: 0 | BC14: 0 | BD14: 0 | BE14: 0 | BF14: 0 | BG14: 0 | BH14: 0 | BI14: 0 | BJ14: 0 | BK14: 0 | BL14: 0 | BM14: 0 | BN14: 0 | BO14: 0 | BP14: 4 | BQ14: 1 | BR14: 3 | BS14: 1 | BT14: 2 | BU14: 0 | BV14: 1 | BW14: 0 | BX14: 0 | BY14: 0 | BZ14: 0 | CA14: 0 | CB14: 0 | CC14: 0 | CD14: 0 | CE14: 0 | CF14: 0 | CG14: 0 | CH14: 0 | CI14: 0 | CJ14: 0 | CK14: 0 | CL14: 0 | CM14: 0 | CN14: 0 | CO14: 0 | CP14: 6 | CQ14: 0 | CR14: 6 | CS14: 0 | CT14: 5 | CU14: 0 | CV14: 1 | CW14: 0 | CX14: 0 | CY14: 0 | CZ14: 0 | DA14: 0 | DB14: 0 | DC14: 4 | DD14: 3 | DE14: 1 | DF14: 3 | DG14: 1 | DH14: 0 | DI14: 0 | DJ14: 0 | DK14: 0 | DL14: 0 | DM14: 0 | DN14: 0 | DO14: 0 | DP14: 3 | DQ14: 2 | DR14: 1 | DS14: 2 | DT14: 1 | DU14: 0 | DV14: 0 | DW14: 0 | DX14: 0 | DY14: 0 | DZ14: 0 | EA14: 0 | EB14: 0 | EC14: 0 | ED14: 0 | EE14: 0 | EF14: 0 | EG14: 0 | EH14: 0 | EI14: 0 | EJ14: 0 | EK14: 0 | EL14: 0 | EM14: 0 | EN14: 0 | EO14: 0 | EP14: 0 | EQ14: 0 | ER14: 0 | ES14: 0 | ET14: 0 | EU14: 0 | EV14: 0 | EW14: 0 | EX14: 0 | EY14: 0 | EZ14: 0 | FA14: 0 | FB14: 0 | FC14: 0 | FD14: 0 | FE14: 0 | FF14: 0 | FG14: 0 | FH14: 0 | FI14: 0 | FJ14: 0 | FK14: 0 | FL14: 0 | FM14: 0 | FN14: 0 | FO14: 0 | FP14: 0 | FQ14: 0 | FR14: 0 | FS14: 0 | FT14: 0 | FU14: 0 | FV14: 0 | FW14: 0 | FX14: 0 | FY14: 0 | FZ14: 0 | GA14: 0 | GB14: 0 | GC14: 1 | GD14: 0 | GE14: 1 | GF14: 0 | GG14: 1 | GH14: 0 | GI14: 0 | GJ14: 0 | GK14: 0 | GL14: 0 | GM14: 0 | GN14: 0 | GO14: 0 | GP14: 0 | GQ14: 0 | GR14: 0 | GS14: 0 | GT14: 0 | GU14: 0 | GV14: 0 | GW14: 0 | GX14: 0 | GY14: 0 | GZ14: 0 | HA14: 0 | HB14: 0 | HC14: 46 | HD14: 18 | HE14: 28 | HF14: 18 | HG14: 27 | HH14: 0 | HI14: 1 | HJ14: 0 | HK14: 0 | HL14: 0 | HM14: 0 | HN14: 0 | HO14: 0
A15: 高雄市 | B15: Kaohsiung City | C15: 2598 | D15: 793 | E15: 1805 | F15: 747 | G15: 1604 | H15: 40 | I15: 195 | J15: 0 | K15: 1 | L15: 5 | M15: 0 | N15: 1 | O15: 5 | P15: 2447 | Q15: 759 | R15: 1688 | S15: 713 | T15: 1538 | U15: 40 | V15: 144 | W15: 0 | X15: 1 | Y15: 5 | Z15: 0 | AA15: 1 | AB15: 5 | AC15: 5 | AD15: 0 | AE15: 5 | AF15: 0 | AG15: 2 | AH15: 0 | AI15: 3 | AJ15: 0 | AK15: 0 | AL15: 0 | AM15: 0 | AN15: 0 | AO15: 0 | AP15: 0 | AQ15: 0 | AR15: 0 | AS15: 0 | AT15: 0 | AU15: 0 | AV15: 0 | AW15: 0 | AX15: 0 | AY15: 0 | AZ15: 0 | BA15: 0 | BB15: 0 | BC15: 0 | BD15: 0 | BE15: 0 | BF15: 0 | BG15: 0 | BH15: 0 | BI15: 0 | BJ15: 0 | BK15: 0 | BL15: 0 | BM15: 0 | BN15: 0 | BO15: 0 | BP15: 6 | BQ15: 3 | BR15: 3 | BS15: 3 | BT15: 3 | BU15: 0 | BV15: 0 | BW15: 0 | BX15: 0 | BY15: 0 | BZ15: 0 | CA15: 0 | CB15: 0 | CC15: 0 | CD15: 0 | CE15: 0 | CF15: 0 | CG15: 0 | CH15: 0 | CI15: 0 | CJ15: 0 | CK15: 0 | CL15: 0 | CM15: 0 | CN15: 0 | CO15: 0 | CP15: 4 | CQ15: 2 | CR15: 2 | CS15: 2 | CT15: 1 | CU15: 0 | CV15: 1 | CW15: 0 | CX15: 0 | CY15: 0 | CZ15: 0 | DA15: 0 | DB15: 0 | DC15: 46 | DD15: 21 | DE15: 25 | DF15: 21 | DG15: 16 | DH15: 0 | DI15: 9 | DJ15: 0 | DK15: 0 | DL15: 0 | DM15: 0 | DN15: 0 | DO15: 0 | DP15: 16 | DQ15: 1 | DR15: 15 | DS15: 1 | DT15: 5 | DU15: 0 | DV15: 10 | DW15: 0 | DX15: 0 | DY15: 0 | DZ15: 0 | EA15: 0 | EB15: 0 | EC15: 7 | ED15: 0 | EE15: 7 | EF15: 0 | EG15: 7 | EH15: 0 | EI15: 0 | EJ15: 0 | EK15: 0 | EL15: 0 | EM15: 0 | EN15: 0 | EO15: 0 | EP15: 0 | EQ15: 0 | ER15: 0 | ES15: 0 | ET15: 0 | EU15: 0 | EV15: 0 | EW15: 0 | EX15: 0 | EY15: 0 | EZ15: 0 | FA15: 0 | FB15: 0 | FC15: 0 | FD15: 0 | FE15: 0 | FF15: 0 | FG15: 0 | FH15: 0 | FI15: 0 | FJ15: 0 | FK15: 0 | FL15: 0 | FM15: 0 | FN15: 0 | FO15: 0 | FP15: 9 | FQ15: 2 | FR15: 7 | FS15: 2 | FT15: 5 | FU15: 0 | FV15: 2 | FW15: 0 | FX15: 0 | FY15: 0 | FZ15: 0 | GA15: 0 | GB15: 0 | GC15: 6 | GD15: 0 | GE15: 6 | GF15: 0 | GG15: 3 | GH15: 0 | GI15: 3 | GJ15: 0 | GK15: 0 | GL15: 0 | GM15: 0 | GN15: 0 | GO15: 0 | GP15: 0 | GQ15: 0 | GR15: 0 | GS15: 0 | GT15: 0 | GU15: 0 | GV15: 0 | GW15: 0 | GX15: 0 | GY15: 0 | GZ15: 0 | HA15: 0 | HB15: 0 | HC15: 52 | HD15: 5 | HE15: 47 | HF15: 5 | HG15: 24 | HH15: 0 | HI15: 23 | HJ15: 0 | HK15: 0 | HL15: 0 | HM15: 0 | HN15: 0 | HO15: 0
A16: 宜蘭縣 | B16: Yilan County | C16: 346 | D16: 66 | E16: 280 | F16: 26 | G16: 129 | H16: 40 | I16: 150 | J16: 0 | K16: 0 | L16: 0 | M16: 0 | N16: 0 | O16: 1 | P16: 314 | Q16: 56 | R16: 258 | S16: 23 | T16: 119 | U16: 33 | V16: 138 | W16: 0 | X16: 0 | Y16: 0 | Z16: 0 | AA16: 0 | AB16: 1 | AC16: 0 | AD16: 0 | AE16: 0 | AF16: 0 | AG16: 0 | AH16: 0 | AI16: 0 | AJ16: 0 | AK16: 0 | AL16: 0 | AM16: 0 | AN16: 0 | AO16: 0 | AP16: 0 | AQ16: 0 | AR16: 0 | AS16: 0 | AT16: 0 | AU16: 0 | AV16: 0 | AW16: 0 | AX16: 0 | AY16: 0 | AZ16: 0 | BA16: 0 | BB16: 0 | BC16: 1 | BD16: 0 | BE16: 1 | BF16: 0 | BG16: 0 | BH16: 0 | BI16: 1 | BJ16: 0 | BK16: 0 | BL16: 0 | BM16: 0 | BN16: 0 | BO16: 0 | BP16: 2 | BQ16: 1 | BR16: 1 | BS16: 0 | BT16: 1 | BU16: 1 | BV16: 0 | BW16: 0 | BX16: 0 | BY16: 0 | BZ16: 0 | CA16: 0 | CB16: 0 | CC16: 0 | CD16: 0 | CE16: 0 | CF16: 0 | CG16: 0 | CH16: 0 | CI16: 0 | CJ16: 0 | CK16: 0 | CL16: 0 | CM16: 0 | CN16: 0 | CO16: 0 | CP16: 2 | CQ16: 2 | CR16: 0 | CS16: 0 | CT16: 0 | CU16: 2 | CV16: 0 | CW16: 0 | CX16: 0 | CY16: 0 | CZ16: 0 | DA16: 0 | DB16: 0 | DC16: 4 | DD16: 4 | DE16: 0 | DF16: 2 | DG16: 0 | DH16: 2 | DI16: 0 | DJ16: 0 | DK16: 0 | DL16: 0 | DM16: 0 | DN16: 0 | DO16: 0 | DP16: 0 | DQ16: 0 | DR16: 0 | DS16: 0 | DT16: 0 | DU16: 0 | DV16: 0 | DW16: 0 | DX16: 0 | DY16: 0 | DZ16: 0 | EA16: 0 | EB16: 0 | EC16: 15 | ED16: 1 | EE16: 14 | EF16: 1 | EG16: 9 | EH16: 0 | EI16: 5 | EJ16: 0 | EK16: 0 | EL16: 0 | EM16: 0 | EN16: 0 | EO16: 0 | EP16: 0 | EQ16: 0 | ER16: 0 | ES16: 0 | ET16: 0 | EU16: 0 | EV16: 0 | EW16: 0 | EX16: 0 | EY16: 0 | EZ16: 0 | FA16: 0 | FB16: 0 | FC16: 0 | FD16: 0 | FE16: 0 | FF16: 0 | FG16: 0 | FH16: 0 | FI16: 0 | FJ16: 0 | FK16: 0 | FL16: 0 | FM16: 0 | FN16: 0 | FO16: 0 | FP16: 1 | FQ16: 0 | FR16: 1 | FS16: 0 | FT16: 0 | FU16: 0 | FV16: 1 | FW16: 0 | FX16: 0 | FY16: 0 | FZ16: 0 | GA16: 0 | GB16: 0 | GC16: 0 | GD16: 0 | GE16: 0 | GF16: 0 | GG16: 0 | GH16: 0 | GI16: 0 | GJ16: 0 | GK16: 0 | GL16: 0 | GM16: 0 | GN16: 0 | GO16: 0 | GP16: 0 | GQ16: 0 | GR16: 0 | GS16: 0 | GT16: 0 | GU16: 0 | GV16: 0 | GW16: 0 | GX16: 0 | GY16: 0 | GZ16: 0 | HA16: 0 | HB16: 0 | HC16: 7 | HD16: 2 | HE16: 5 | HF16: 0 | HG16: 0 | HH16: 2 | HI16: 5 | HJ16: 0 | HK16: 0 | HL16: 0 | HM16: 0 | HN16: 0 | HO16: 0
A17: 新竹縣 | B17: Hsinchu County | C17: 857 | D17: 637 | E17: 220 | F17: 402 | G17: 118 | H17: 35 | I17: 83 | J17: 0 | K17: 0 | L17: 42 | M17: 2 | N17: 158 | O17: 17 | P17: 849 | Q17: 637 | R17: 212 | S17: 402 | T17: 111 | U17: 35 | V17: 82 | W17: 0 | X17: 0 | Y17: 42 | Z17: 2 | AA17: 158 | AB17: 17 | AC17: 0 | AD17: 0 | AE17: 0 | AF17: 0 | AG17: 0 | AH17: 0 | AI17: 0 | AJ17: 0 | AK17: 0 | AL17: 0 | AM17: 0 | AN17: 0 | AO17: 0 | AP17: 0 | AQ17: 0 | AR17: 0 | AS17: 0 | AT17: 0 | AU17: 0 | AV17: 0 | AW17: 0 | AX17: 0 | AY17: 0 | AZ17: 0 | BA17: 0 | BB17: 0 | BC17: 0 | BD17: 0 | BE17: 0 | BF17: 0 | BG17: 0 | BH17: 0 | BI17: 0 | BJ17: 0 | BK17: 0 | BL17: 0 | BM17: 0 | BN17: 0 | BO17: 0 | BP17: 0 | BQ17: 0 | BR17: 0 | BS17: 0 | BT17: 0 | BU17: 0 | BV17: 0 | BW17: 0 | BX17: 0 | BY17: 0 | BZ17: 0 | CA17: 0 | CB17: 0 | CC17: 0 | CD17: 0 | CE17: 0 | CF17: 0 | CG17: 0 | CH17: 0 | CI17: 0 | CJ17: 0 | CK17: 0 | CL17: 0 | CM17: 0 | CN17: 0 | CO17: 0 | CP17: 0 | CQ17: 0 | CR17: 0 | CS17: 0 | CT17: 0 | CU17: 0 | CV17: 0 | CW17: 0 | CX17: 0 | CY17: 0 | CZ17: 0 | DA17: 0 | DB17: 0 | DC17: 0 | DD17: 0 | DE17: 0 | DF17: 0 | DG17: 0 | DH17: 0 | DI17: 0 | DJ17: 0 | DK17: 0 | DL17: 0 | DM17: 0 | DN17: 0 | DO17: 0 | DP17: 1 | DQ17: 0 | DR17: 1 | DS17: 0 | DT17: 1 | DU17: 0 | DV17: 0 | DW17: 0 | DX17: 0 | DY17: 0 | DZ17: 0 | EA17: 0 | EB17: 0 | EC17: 0 | ED17: 0 | EE17: 0 | EF17: 0 | EG17: 0 | EH17: 0 | EI17: 0 | EJ17: 0 | EK17: 0 | EL17: 0 | EM17: 0 | EN17: 0 | EO17: 0 | EP17: 0 | EQ17: 0 | ER17: 0 | ES17: 0 | ET17: 0 | EU17: 0 | EV17: 0 | EW17: 0 | EX17: 0 | EY17: 0 | EZ17: 0 | FA17: 0 | FB17: 0 | FC17: 0 | FD17: 0 | FE17: 0 | FF17: 0 | FG17: 0 | FH17: 0 | FI17: 0 | FJ17: 0 | FK17: 0 | FL17: 0 | FM17: 0 | FN17: 0 | FO17: 0 | FP17: 0 | FQ17: 0 | FR17: 0 | FS17: 0 | FT17: 0 | FU17: 0 | FV17: 0 | FW17: 0 | FX17: 0 | FY17: 0 | FZ17: 0 | GA17: 0 | GB17: 0 | GC17: 6 | GD17: 0 | GE17: 6 | GF17: 0 | GG17: 5 | GH17: 0 | GI17: 1 | GJ17: 0 | GK17: 0 | GL17: 0 | GM17: 0 | GN17: 0 | GO17: 0 | GP17: 0 | GQ17: 0 | GR17: 0 | GS17: 0 | GT17: 0 | GU17: 0 | GV17: 0 | GW17: 0 | GX17: 0 | GY17: 0 | GZ17: 0 | HA17: 0 | HB17: 0 | HC17: 1 | HD17: 0 | HE17: 1 | HF17: 0 | HG17: 1 | HH17: 0 | HI17: 0 | HJ17: 0 | HK17: 0 | HL17: 0 | HM17: 0 | HN17: 0 | HO17: 0
A18: 苗栗縣 | B18: Miaoli County | C18: 233 | D18: 91 | E18: 142 | F18: 74 | G18: 133 | H18: 4 | I18: 9 | J18: 0 | K18: 0 | L18: 0 | M18: 0 | N18: 13 | O18: 0 | P18: 225 | Q18: 87 | R18: 138 | S18: 70 | T18: 130 | U18: 4 | V18: 8 | W18: 0 | X18: 0 | Y18: 0 | Z18: 0 | AA18: 13 | AB18: 0 | AC18: 0 | AD18: 0 | AE18: 0 | AF18: 0 | AG18: 0 | AH18: 0 | AI18: 0 | AJ18: 0 | AK18: 0 | AL18: 0 | AM18: 0 | AN18: 0 | AO18: 0 | AP18: 0 | AQ18: 0 | AR18: 0 | AS18: 0 | AT18: 0 | AU18: 0 | AV18: 0 | AW18: 0 | AX18: 0 | AY18: 0 | AZ18: 0 | BA18: 0 | BB18: 0 | BC18: 0 | BD18: 0 | BE18: 0 | BF18: 0 | BG18: 0 | BH18: 0 | BI18: 0 | BJ18: 0 | BK18: 0 | BL18: 0 | BM18: 0 | BN18: 0 | BO18: 0 | BP18: 0 | BQ18: 0 | BR18: 0 | BS18: 0 | BT18: 0 | BU18: 0 | BV18: 0 | BW18: 0 | BX18: 0 | BY18: 0 | BZ18: 0 | CA18: 0 | CB18: 0 | CC18: 0 | CD18: 0 | CE18: 0 | CF18: 0 | CG18: 0 | CH18: 0 | CI18: 0 | CJ18: 0 | CK18: 0 | CL18: 0 | CM18: 0 | CN18: 0 | CO18: 0 | CP18: 0 | CQ18: 0 | CR18: 0 | CS18: 0 | CT18: 0 | CU18: 0 | CV18: 0 | CW18: 0 | CX18: 0 | CY18: 0 | CZ18: 0 | DA18: 0 | DB18: 0 | DC18: 5 | DD18: 3 | DE18: 2 | DF18: 3 | DG18: 1 | DH18: 0 | DI18: 1 | DJ18: 0 | DK18: 0 | DL18: 0 | DM18: 0 | DN18: 0 | DO18: 0 | DP18: 0 | DQ18: 0 | DR18: 0 | DS18: 0 | DT18: 0 | DU18: 0 | DV18: 0 | DW18: 0 | DX18: 0 | DY18: 0 | DZ18: 0 | EA18: 0 | EB18: 0 | EC18: 0 | ED18: 0 | EE18: 0 | EF18: 0 | EG18: 0 | EH18: 0 | EI18: 0 | EJ18: 0 | EK18: 0 | EL18: 0 | EM18: 0 | EN18: 0 | EO18: 0 | EP18: 0 | EQ18: 0 | ER18: 0 | ES18: 0 | ET18: 0 | EU18: 0 | EV18: 0 | EW18: 0 | EX18: 0 | EY18: 0 | EZ18: 0 | FA18: 0 | FB18: 0 | FC18: 0 | FD18: 0 | FE18: 0 | FF18: 0 | FG18: 0 | FH18: 0 | FI18: 0 | FJ18: 0 | FK18: 0 | FL18: 0 | FM18: 0 | FN18: 0 | FO18: 0 | FP18: 0 | FQ18: 0 | FR18: 0 | FS18: 0 | FT18: 0 | FU18: 0 | FV18: 0 | FW18: 0 | FX18: 0 | FY18: 0 | FZ18: 0 | GA18: 0 | GB18: 0 | GC18: 0 | GD18: 0 | GE18: 0 | GF18: 0 | GG18: 0 | GH18: 0 | GI18: 0 | GJ18: 0 | GK18: 0 | GL18: 0 | GM18: 0 | GN18: 0 | GO18: 0 | GP18: 0 | GQ18: 0 | GR18: 0 | GS18: 0 | GT18: 0 | GU18: 0 | GV18: 0 | GW18: 0 | GX18: 0 | GY18: 0 | GZ18: 0 | HA18: 0 | HB18: 0 | HC18: 3 | HD18: 1 | HE18: 2 | HF18: 1 | HG18: 2 | HH18: 0 | HI18: 0 | HJ18: 0 | HK18: 0 | HL18: 0 | HM18: 0 | HN18: 0 | HO18: 0
A19: 彰化縣 | B19: Changhua County | C19: 339 | D19: 144 | E19: 195 | F19: 138 | G19: 187 | H19: 6 | I19: 8 | J19: 0 | K19: 0 | L19: 0 | M19: 0 | N19: 0 | O19: 0 | P19: 333 | Q19: 141 | R19: 192 | S19: 135 | T19: 184 | U19: 6 | V19: 8 | W19: 0 | X19: 0 | Y19: 0 | Z19: 0 | AA19: 0 | AB19: 0 | AC19: 0 | AD19: 0 | AE19: 0 | AF19: 0 | AG19: 0 | AH19: 0 | AI19: 0 | AJ19: 0 | AK19: 0 | AL19: 0 | AM19: 0 | AN19: 0 | AO19: 0 | AP19: 0 | AQ19: 0 | AR19: 0 | AS19: 0 | AT19: 0 | AU19: 0 | AV19: 0 | AW19: 0 | AX19: 0 | AY19: 0 | AZ19: 0 | BA19: 0 | BB19: 0 | BC19: 0 | BD19: 0 | BE19: 0 | BF19: 0 | BG19: 0 | BH19: 0 | BI19: 0 | BJ19: 0 | BK19: 0 | BL19: 0 | BM19: 0 | BN19: 0 | BO19: 0 | BP19: 2 | BQ19: 0 | BR19: 2 | BS19: 0 | BT19: 2 | BU19: 0 | BV19: 0 | BW19: 0 | BX19: 0 | BY19: 0 | BZ19: 0 | CA19: 0 | CB19: 0 | CC19: 0 | CD19: 0 | CE19: 0 | CF19: 0 | CG19: 0 | CH19: 0 | CI19: 0 | CJ19: 0 | CK19: 0 | CL19: 0 | CM19: 0 | CN19: 0 | CO19: 0 | CP19: 0 | CQ19: 0 | CR19: 0 | CS19: 0 | CT19: 0 | CU19: 0 | CV19: 0 | CW19: 0 | CX19: 0 | CY19: 0 | CZ19: 0 | DA19: 0 | DB19: 0 | DC19: 0 | DD19: 0 | DE19: 0 | DF19: 0 | DG19: 0 | DH19: 0 | DI19: 0 | DJ19: 0 | DK19: 0 | DL19: 0 | DM19: 0 | DN19: 0 | DO19: 0 | DP19: 1 | DQ19: 1 | DR19: 0 | DS19: 1 | DT19: 0 | DU19: 0 | DV19: 0 | DW19: 0 | DX19: 0 | DY19: 0 | DZ19: 0 | EA19: 0 | EB19: 0 | EC19: 0 | ED19: 0 | EE19: 0 | EF19: 0 | EG19: 0 | EH19: 0 | EI19: 0 | EJ19: 0 | EK19: 0 | EL19: 0 | EM19: 0 | EN19: 0 | EO19: 0 | EP19: 0 | EQ19: 0 | ER19: 0 | ES19: 0 | ET19: 0 | EU19: 0 | EV19: 0 | EW19: 0 | EX19: 0 | EY19: 0 | EZ19: 0 | FA19: 0 | FB19: 0 | FC19: 0 | FD19: 0 | FE19: 0 | FF19: 0 | FG19: 0 | FH19: 0 | FI19: 0 | FJ19: 0 | FK19: 0 | FL19: 0 | FM19: 0 | FN19: 0 | FO19: 0 | FP19: 0 | FQ19: 0 | FR19: 0 | FS19: 0 | FT19: 0 | FU19: 0 | FV19: 0 | FW19: 0 | FX19: 0 | FY19: 0 | FZ19: 0 | GA19: 0 | GB19: 0 | GC19: 1 | GD19: 1 | GE19: 0 | GF19: 1 | GG19: 0 | GH19: 0 | GI19: 0 | GJ19: 0 | GK19: 0 | GL19: 0 | GM19: 0 | GN19: 0 | GO19: 0 | GP19: 0 | GQ19: 0 | GR19: 0 | GS19: 0 | GT19: 0 | GU19: 0 | GV19: 0 | GW19: 0 | GX19: 0 | GY19: 0 | GZ19: 0 | HA19: 0 | HB19: 0 | HC19: 2 | HD19: 1 | HE19: 1 | HF19: 1 | HG19: 1 | HH19: 0 | HI19: 0 | HJ19: 0 | HK19: 0 | HL19: 0 | HM19: 0 | HN19: 0 | HO19: 0
A20: 南投縣 | B20: Nantou County | C20: 215 | D20: 136 | E20: 79 | F20: 114 | G20: 37 | H20: 18 | I20: 42 | J20: 4 | K20: 0 | L20: 0 | M20: 0 | N20: 0 | O20: 0 | P20: 206 | Q20: 134 | R20: 72 | S20: 112 | T20: 32 | U20: 18 | V20: 40 | W20: 4 | X20: 0 | Y20: 0 | Z20: 0 | AA20: 0 | AB20: 0 | AC20: 0 | AD20: 0 | AE20: 0 | AF20: 0 | AG20: 0 | AH20: 0 | AI20: 0 | AJ20: 0 | AK20: 0 | AL20: 0 | AM20: 0 | AN20: 0 | AO20: 0 | AP20: 0 | AQ20: 0 | AR20: 0 | AS20: 0 | AT20: 0 | AU20: 0 | AV20: 0 | AW20: 0 | AX20: 0 | AY20: 0 | AZ20: 0 | BA20: 0 | BB20: 0 | BC20: 0 | BD20: 0 | BE20: 0 | BF20: 0 | BG20: 0 | BH20: 0 | BI20: 0 | BJ20: 0 | BK20: 0 | BL20: 0 | BM20: 0 | BN20: 0 | BO20: 0 | BP20: 0 | BQ20: 0 | BR20: 0 | BS20: 0 | BT20: 0 | BU20: 0 | BV20: 0 | BW20: 0 | BX20: 0 | BY20: 0 | BZ20: 0 | CA20: 0 | CB20: 0 | CC20: 0 | CD20: 0 | CE20: 0 | CF20: 0 | CG20: 0 | CH20: 0 | CI20: 0 | CJ20: 0 | CK20: 0 | CL20: 0 | CM20: 0 | CN20: 0 | CO20: 0 | CP20: 0 | CQ20: 0 | CR20: 0 | CS20: 0 | CT20: 0 | CU20: 0 | CV20: 0 | CW20: 0 | CX20: 0 | CY20: 0 | CZ20: 0 | DA20: 0 | DB20: 0 | DC20: 1 | DD20: 0 | DE20: 1 | DF20: 0 | DG20: 1 | DH20: 0 | DI20: 0 | DJ20: 0 | DK20: 0 | DL20: 0 | DM20: 0 | DN20: 0 | DO20: 0 | DP20: 0 | DQ20: 0 | DR20: 0 | DS20: 0 | DT20: 0 | DU20: 0 | DV20: 0 | DW20: 0 | DX20: 0 | DY20: 0 | DZ20: 0 | EA20: 0 | EB20: 0 | EC20: 0 | ED20: 0 | EE20: 0 | EF20: 0 | EG20: 0 | EH20: 0 | EI20: 0 | EJ20: 0 | EK20: 0 | EL20: 0 | EM20: 0 | EN20: 0 | EO20: 0 | EP20: 0 | EQ20: 0 | ER20: 0 | ES20: 0 | ET20: 0 | EU20: 0 | EV20: 0 | EW20: 0 | EX20: 0 | EY20: 0 | EZ20: 0 | FA20: 0 | FB20: 0 | FC20: 0 | FD20: 0 | FE20: 0 | FF20: 0 | FG20: 0 | FH20: 0 | FI20: 0 | FJ20: 0 | FK20: 0 | FL20: 0 | FM20: 0 | FN20: 0 | FO20: 0 | FP20: 3 | FQ20: 0 | FR20: 3 | FS20: 0 | FT20: 3 | FU20: 0 | FV20: 0 | FW20: 0 | FX20: 0 | FY20: 0 | FZ20: 0 | GA20: 0 | GB20: 0 | GC20: 0 | GD20: 0 | GE20: 0 | GF20: 0 | GG20: 0 | GH20: 0 | GI20: 0 | GJ20: 0 | GK20: 0 | GL20: 0 | GM20: 0 | GN20: 0 | GO20: 0 | GP20: 0 | GQ20: 0 | GR20: 0 | GS20: 0 | GT20: 0 | GU20: 0 | GV20: 0 | GW20: 0 | GX20: 0 | GY20: 0 | GZ20: 0 | HA20: 0 | HB20: 0 | HC20: 5 | HD20: 2 | HE20: 3 | HF20: 2 | HG20: 1 | HH20: 0 | HI20: 2 | HJ20: 0 | HK20: 0 | HL20: 0 | HM20: 0 | HN20: 0 | HO20: 0
A21: 雲林縣 | B21: Yunlin County | C21: 377 | D21: 150 | E21: 227 | F21: 130 | G21: 226 | H21: 20 | I21: 0 | J21: 0 | K21: 0 | L21: 0 | M21: 0 | N21: 0 | O21: 1 | P21: 362 | Q21: 148 | R21: 214 | S21: 129 | T21: 214 | U21: 19 | V21: 0 | W21: 0 | X21: 0 | Y21: 0 | Z21: 0 | AA21: 0 | AB21: 0 | AC21: 0 | AD21: 0 | AE21: 0 | AF21: 0 | AG21: 0 | AH21: 0 | AI21: 0 | AJ21: 0 | AK21: 0 | AL21: 0 | AM21: 0 | AN21: 0 | AO21: 0 | AP21: 0 | AQ21: 0 | AR21: 0 | AS21: 0 | AT21: 0 | AU21: 0 | AV21: 0 | AW21: 0 | AX21: 0 | AY21: 0 | AZ21: 0 | BA21: 0 | BB21: 0 | BC21: 0 | BD21: 0 | BE21: 0 | BF21: 0 | BG21: 0 | BH21: 0 | BI21: 0 | BJ21: 0 | BK21: 0 | BL21: 0 | BM21: 0 | BN21: 0 | BO21: 0 | BP21: 2 | BQ21: 0 | BR21: 2 | BS21: 0 | BT21: 2 | BU21: 0 | BV21: 0 | BW21: 0 | BX21: 0 | BY21: 0 | BZ21: 0 | CA21: 0 | CB21: 0 | CC21: 0 | CD21: 0 | CE21: 0 | CF21: 0 | CG21: 0 | CH21: 0 | CI21: 0 | CJ21: 0 | CK21: 0 | CL21: 0 | CM21: 0 | CN21: 0 | CO21: 0 | CP21: 2 | CQ21: 0 | CR21: 2 | CS21: 0 | CT21: 2 | CU21: 0 | CV21: 0 | CW21: 0 | CX21: 0 | CY21: 0 | CZ21: 0 | DA21: 0 | DB21: 0 | DC21: 0 | DD21: 0 | DE21: 0 | DF21: 0 | DG21: 0 | DH21: 0 | DI21: 0 | DJ21: 0 | DK21: 0 | DL21: 0 | DM21: 0 | DN21: 0 | DO21: 0 | DP21: 0 | DQ21: 0 | DR21: 0 | DS21: 0 | DT21: 0 | DU21: 0 | DV21: 0 | DW21: 0 | DX21: 0 | DY21: 0 | DZ21: 0 | EA21: 0 | EB21: 0 | EC21: 0 | ED21: 0 | EE21: 0 | EF21: 0 | EG21: 0 | EH21: 0 | EI21: 0 | EJ21: 0 | EK21: 0 | EL21: 0 | EM21: 0 | EN21: 0 | EO21: 0 | EP21: 1 | EQ21: 0 | ER21: 1 | ES21: 0 | ET21: 1 | EU21: 0 | EV21: 0 | EW21: 0 | EX21: 0 | EY21: 0 | EZ21: 0 | FA21: 0 | FB21: 0 | FC21: 0 | FD21: 0 | FE21: 0 | FF21: 0 | FG21: 0 | FH21: 0 | FI21: 0 | FJ21: 0 | FK21: 0 | FL21: 0 | FM21: 0 | FN21: 0 | FO21: 0 | FP21: 1 | FQ21: 0 | FR21: 1 | FS21: 0 | FT21: 1 | FU21: 0 | FV21: 0 | FW21: 0 | FX21: 0 | FY21: 0 | FZ21: 0 | GA21: 0 | GB21: 0 | GC21: 0 | GD21: 0 | GE21: 0 | GF21: 0 | GG21: 0 | GH21: 0 | GI21: 0 | GJ21: 0 | GK21: 0 | GL21: 0 | GM21: 0 | GN21: 0 | GO21: 0 | GP21: 0 | GQ21: 0 | GR21: 0 | GS21: 0 | GT21: 0 | GU21: 0 | GV21: 0 | GW21: 0 | GX21: 0 | GY21: 0 | GZ21: 0 | HA21: 0 | HB21: 0 | HC21: 9 | HD21: 2 | HE21: 7 | HF21: 1 | HG21: 6 | HH21: 1 | HI21: 0 | HJ21: 0 | HK21: 0 | HL21: 0 | HM21: 0 | HN21: 0 | HO21: 1
... A31: 連江縣 | B31: Lienchiang County | C31: 0 | D31: 0 | E31: 0 | F31: 0 | G31: 0 | H31: 0 | I31: 0 | J31: 0 | K31: 0 | L31: 0 | M31: 0 | N31: 0 | O31: 0 | P31: 0 | Q31: 0 | R31: 0 | S31: 0 | T31: 0 | U31: 0 | V31: 0 | W31: 0 | X31: 0 | Y31: 0 | Z31: 0 | AA31: 0 | AB31: 0 | AC31: 0 | AD31: 0 | AE31: 0 | AF31: 0 | AG31: 0 | AH31: 0 | AI31: 0 | AJ31: 0 | AK31: 0 | AL31: 0 | AM31: 0 | AN31: 0 | AO31: 0 | AP31: 0 | AQ31: 0 | AR31: 0 | AS31: 0 | AT31: 0 | AU31: 0 | AV31: 0 | AW31: 0 | AX31: 0 | AY31: 0 | AZ31: 0 | BA31: 0 | BB31: 0 | BC31: 0 | BD31: 0 | BE31: 0 | BF31: 0 | BG31: 0 | BH31: 0 | BI31: 0 | BJ31: 0 | BK31: 0 | BL31: 0 | BM31: 0 | BN31: 0 | BO31: 0 | BP31: 0 | BQ31: 0 | BR31: 0 | BS31: 0 | BT31: 0 | BU31: 0 | BV31: 0 | BW31: 0 | BX31: 0 | BY31: 0 | BZ31: 0 | CA31: 0 | CB31: 0 | CC31: 0 | CD31: 0 | CE31: 0 | CF31: 0 | CG31: 0 | CH31: 0 | CI31: 0 | CJ31: 0 | CK31: 0 | CL31: 0 | CM31: 0 | CN31: 0 | CO31: 0 | CP31: 0 | CQ31: 0 | CR31: 0 | CS31: 0 | CT31: 0 | CU31: 0 | CV31: 0 | CW31: 0 | CX31: 0 | CY31: 0 | CZ31: 0 | DA31: 0 | DB31: 0 | DC31: 0 | DD31: 0 | DE31: 0 | DF31: 0 | DG31: 0 | DH31: 0 | DI31: 0 | DJ31: 0 | DK31: 0 | DL31: 0 | DM31: 0 | DN31: 0 | DO31: 0 | DP31: 0 | DQ31: 0 | DR31: 0 | DS31: 0 | DT31: 0 | DU31: 0 | DV31: 0 | DW31: 0 | DX31: 0 | DY31: 0 | DZ31: 0 | EA31: 0 | EB31: 0 | EC31: 0 | ED31: 0 | EE31: 0 | EF31: 0 | EG31: 0 | EH31: 0 | EI31: 0 | EJ31: 0 | EK31: 0 | EL31: 0 | EM31: 0 | EN31: 0 | EO31: 0 | EP31: 0 | EQ31: 0 | ER31: 0 | ES31: 0 | ET31: 0 | EU31: 0 | EV31: 0 | EW31: 0 | EX31: 0 | EY31: 0 | EZ31: 0 | FA31: 0 | FB31: 0 | FC31: 0 | FD31: 0 | FE31: 0 | FF31: 0 | FG31: 0 | FH31: 0 | FI31: 0 | FJ31: 0 | FK31: 0 | FL31: 0 | FM31: 0 | FN31: 0 | FO31: 0 | FP31: 0 | FQ31: 0 | FR31: 0 | FS31: 0 | FT31: 0 | FU31: 0 | FV31: 0 | FW31: 0 | FX31: 0 | FY31: 0 | FZ31: 0 | GA31: 0 | GB31: 0 | GC31: 0 | GD31: 0 | GE31: 0 | GF31: 0 | GG31: 0 | GH31: 0 | GI31: 0 | GJ31: 0 | GK31: 0 | GL31: 0 | GM31: 0 | GN31: 0 | GO31: 0 | GP31: 0 | GQ31: 0 | GR31: 0 | GS31: 0 | GT31: 0 | GU31: 0 | GV31: 0 | GW31: 0 | GX31: 0 | GY31: 0 | GZ31: 0 | HA31: 0 | HB31: 0 | HC31: 0 | HD31: 0 | HE31: 0 | HF31: 0 | HG31: 0 | HH31: 0 | HI31: 0 | HJ31: 0 | HK31: 0 | HL31: 0 | HM31: 0 | HN31: 0 | HO31: 0
A32: 資料來源：直轄市、縣﹝市﹞政府。
A33: Source : County and City Government.

Sheet 2024
A1: 同性親密關係暴力被害人保護扶助人次
A2: 中華民國113年,2024
A3: 單位：人次
A4: 區域別 Locality | C4: 總計Total | P4: 諮詢協談Consultation | AC4: 庇護安置Providing Shelter | AP4: 庇護安置Providing Shelter | BC4: 陪同報案偵詢（訊）Accompanied Interrogation | BP4: 陪同出庭Accompanied Present in Court | CC4: 驗傷診療Medical Examinations and Treatments | CP4: 聲請保護令Petition for Civil Protection Orders | DC4: 法律扶助Legal Aid | DP4: 經濟扶助Economic Support | EC4: 心理諮商與輔導Psychological Counseling | EP4: 就業服務Employment Service | FC4: 就學或轉學服務Education or School Transfer Service | FP4: 轉介/提供目睹暴力服務Referral/Witness Services | GC4: 子女問題協助Assistance in Children's Problems | GP4: 通譯服務Interpret Service | HC4: 其他扶助Others
AC5: 被害人Victim | AP5: 隨行子女Accompanying Children
C6: 合計Total | F6: 本國籍非原住民 Non-aboriginal Native | H6: 本國籍原住民 Aboriginal Native | J6: 大陸籍(含港澳) Mainland China (Hong Kong and Macau Included) | L6: 外國籍 Foreign | N6: 其他 Others | P6: 合計Total | S6: 本國籍非原住民 Non-aboriginal Native | U6: 本國籍原住民 Aboriginal Native | W6: 大陸籍(含港澳) Mainland China (Hong Kong and Macau Included) | Y6: 外國籍 Foreign | AA6: 其他 Others | AC6: 合計Total | AF6: 本國籍非原住民 Non-aboriginal Native | AH6: 本國籍原住民 Aboriginal Native | AJ6: 大陸籍(含港澳) Mainland China (Hong Kong and Macau Included) | AL6: 外國籍 Foreign | AN6: 其他 Others | AP6: 合計Total | AS6: 本國籍非原住民 Non-aboriginal Native | AU6: 本國籍原住民 Aboriginal Native | AW6: 大陸籍(含港澳) Mainland China (Hong Kong and Macau Included) | AY6: 外國籍 Foreign | BA6: 其他 Others | BC6: 合計Total | BF6: 本國籍非原住民 Non-aboriginal Native | BH6: 本國籍原住民 Aboriginal Native | BJ6: 大陸籍(含港澳) Mainland China (Hong Kong and Macau Included) | BL6: 外國籍 Foreign | BN6: 其他 Others | BP6: 合計Total | BS6: 本國籍非原住民 Non-aboriginal Native | BU6: 本國籍原住民 Aboriginal Native | BW6: 大陸籍(含港澳) Mainland China (Hong Kong and Macau Included) | BY6: 外國籍 Foreign | CA6: 其他 Others | CC6: 合計Total | CF6: 本國籍非原住民 Non-aboriginal Native | CH6: 本國籍原住民 Aboriginal Native | CJ6: 大陸籍(含港澳) Mainland China (Hong Kong and Macau Included) | CL6: 外國籍 Foreign | CN6: 其他 Others | CP6: 合計Total | CS6: 本國籍非原住民 Non-aboriginal Native | CU6: 本國籍原住民 Aboriginal Native | CW6: 大陸籍(含港澳) Mainland China (Hong Kong and Macau Included) | CY6: 外國籍 Foreign | DA6: 其他 Others | DC6: 合計Total | DF6: 本國籍非原住民 Non-aboriginal Native | DH6: 本國籍原住民 Aboriginal Native | DJ6: 大陸籍(含港澳) Mainland China (Hong Kong and Macau Included) | DL6: 外國籍 Foreign | DN6: 其他 Others | DP6: 合計Total | DS6: 本國籍非原住民 Non-aboriginal Native | DU6: 本國籍原住民 Aboriginal Native | DW6: 大陸籍(含港澳) Mainland China (Hong Kong and Macau Included) | DY6: 外國籍 Foreign | EA6: 其他 Others | EC6: 合計Total | EF6: 本國籍非原住民 Non-aboriginal Native | EH6: 本國籍原住民 Aboriginal Native | EJ6: 大陸籍(含港澳) Mainland China (Hong Kong and Macau Included) | EL6: 外國籍 Foreign | EN6: 其他 Others | EP6: 合計Total | ES6: 本國籍非原住民 Non-aboriginal Native | EU6: 本國籍原住民 Aboriginal Native | EW6: 大陸籍(含港澳) Mainland China (Hong Kong and Macau Included) | EY6: 外國籍 Foreign | FA6: 其他 Others | FC6: 合計Total | FF6: 本國籍非原住民 Non-aboriginal Native | FH6: 本國籍原住民 Aboriginal Native | FJ6: 大陸籍(含港澳) Mainland China (Hong Kong and Macau Included) | FL6: 外國籍 Foreign | FN6: 其他 Others | FP6: 合計Total | FS6: 本國籍非原住民 Non-aboriginal Native | FU6: 本國籍原住民 Aboriginal Native | FW6: 大陸籍(含港澳) Mainland China (Hong Kong and Macau Included) | FY6: 外國籍 Foreign | GA6: 其他 Others | GC6: 合計Total | GF6: 本國籍非原住民 Non-aboriginal Native | GH6: 本國籍原住民 Aboriginal Native | GJ6: 大陸籍(含港澳) Mainland China (Hong Kong and Macau Included) | GL6: 外國籍 Foreign | GN6: 其他 Others | GP6: 合計Total | GS6: 本國籍非原住民 Non-aboriginal Native | GU6: 本國籍原住民 Aboriginal Native | GW6: 大陸籍(含港澳) Mainland China (Hong Kong and Macau Included) | GY6: 外國籍 Foreign | HA6: 其他 Others | HC6: 合計Total | HF6: 本國籍非原住民 Non-aboriginal Native | HH6: 本國籍原住民 Aboriginal Native | HJ6: 大陸籍(含港澳) Mainland China (Hong Kong and Macau Included) | HL6: 外國籍 Foreign | HN6: 其他 Others
C8: 計 Total | D8: 男 Male | E8: 女 Female | F8: 男 Male | G8: 女 Female | H8: 男 Male | I8: 女 Female | J8: 男 Male | K8: 女 Female | L8: 男 Male | M8: 女 Female | N8: 男 Male | O8: 女 Female | P8: 計 Total | Q8: 男 Male | R8: 女 Female | S8: 男 Male | T8: 女 Female | U8: 男 Male | V8: 女 Female | W8: 男 Male | X8: 女 Female | Y8: 男 Male | Z8: 女 Female | AA8: 男 Male | AB8: 女 Female | AC8: 計 Total | AD8: 男 Male | AE8: 女 Female | AF8: 男 Male | AG8: 女 Female | AH8: 男 Male | AI8: 女 Female | AJ8: 男 Male | AK8: 女 Female | AL8: 男 Male | AM8: 女 Female | AN8: 男 Male | AO8: 女 Female | AP8: 計 Total | AQ8: 男 Male | AR8: 女 Female | AS8: 男 Male | AT8: 女 Female | AU8: 男 Male | AV8: 女 Female | AW8: 男 Male | AX8: 女 Female | AY8: 男 Male | AZ8: 女 Female | BA8: 男 Male | BB8: 女 Female | BC8: 計 Total | BD8: 男 Male | BE8: 女 Female | BF8: 男 Male | BG8: 女 Female | BH8: 男 Male | BI8: 女 Female | BJ8: 男 Male | BK8: 女 Female | BL8: 男 Male | BM8: 女 Female | BN8: 男 Male | BO8: 女 Female | BP8: 計 Total | BQ8: 男 Male | BR8: 女 Female | BS8: 男 Male | BT8: 女 Female | BU8: 男 Male | BV8: 女 Female | BW8: 男 Male | BX8: 女 Female | BY8: 男 Male | BZ8: 女 Female | CA8: 男 Male | CB8: 女 Female | CC8: 計 Total | CD8: 男 Male | CE8: 女 Female | CF8: 男 Male | CG8: 女 Female | CH8: 男 Male | CI8: 女 Female | CJ8: 男 Male | CK8: 女 Female | CL8: 男 Male | CM8: 女 Female | CN8: 男 Male | CO8: 女 Female | CP8: 計 Total | CQ8: 男 Male | CR8: 女 Female | CS8: 男 Male | CT8: 女 Female | CU8: 男 Male | CV8: 女 Female | CW8: 男 Male | CX8: 女 Female | CY8: 男 Male | CZ8: 女 Female | DA8: 男 Male | DB8: 女 Female | DC8: 計 Total | DD8: 男 Male | DE8: 女 Female | DF8: 男 Male | DG8: 女 Female | DH8: 男 Male | DI8: 女 Female | DJ8: 男 Male | DK8: 女 Female | DL8: 男 Male | DM8: 女 Female | DN8: 男 Male | DO8: 女 Female | DP8: 計 Total | DQ8: 男 Male | DR8: 女 Female | DS8: 男 Male | DT8: 女 Female | DU8: 男 Male | DV8: 女 Female | DW8: 男 Male | DX8: 女 Female | DY8: 男 Male | DZ8: 女 Female | EA8: 男 Male | EB8: 女 Female | EC8: 計 Total | ED8: 男 Male | EE8: 女 Female | EF8: 男 Male | EG8: 女 Female | EH8: 男 Male | EI8: 女 Female | EJ8: 男 Male | EK8: 女 Female | EL8: 男 Male | EM8: 女 Female | EN8: 男 Male | EO8: 女 Female | EP8: 計 Total | EQ8: 男 Male | ER8: 女 Female | ES8: 男 Male | ET8: 女 Female | EU8: 男 Male | EV8: 女 Female | EW8: 男 Male | EX8: 女 Female | EY8: 男 Male | EZ8: 女 Female | FA8: 男 Male | FB8: 女 Female | FC8: 計 Total | FD8: 男 Male | FE8: 女 Female | FF8: 男 Male | FG8: 女 Female | FH8: 男 Male | FI8: 女 Female | FJ8: 男 Male | FK8: 女 Female | FL8: 男 Male | FM8: 女 Female | FN8: 男 Male | FO8: 女 Female | FP8: 計 Total | FQ8: 男 Male | FR8: 女 Female | FS8: 男 Male | FT8: 女 Female | FU8: 男 Male | FV8: 女 Female | FW8: 男 Male | FX8: 女 Female | FY8: 男 Male | FZ8: 女 Female | GA8: 男 Male | GB8: 女 Female | GC8: 計 Total | GD8: 男 Male | GE8: 女 Female | GF8: 男 Male | GG8: 女 Female | GH8: 男 Male | GI8: 女 Female | GJ8: 男 Male | GK8: 女 Female | GL8: 男 Male | GM8: 女 Female | GN8: 男 Male | GO8: 女 Female | GP8: 計 Total | GQ8: 男 Male | GR8: 女 Female | GS8: 男 Male | GT8: 女 Female | GU8: 男 Male | GV8: 女 Female | GW8: 男 Male | GX8: 女 Female | GY8: 男 Male | GZ8: 女 Female | HA8: 男 Male | HB8: 女 Female | HC8: 計 Total | HD8: 男 Male | HE8: 女 Female | HF8: 男 Male | HG8: 女 Female | HH8: 男 Male | HI8: 女 Female | HJ8: 男 Male | HK8: 女 Female | HL8: 男 Male | HM8: 女 Female | HN8: 男 Male | HO8: 女 Female
A9: 113年上半年 2024 | C9: 18458 | D9: 6439 | E9: 12019 | F9: 5755 | G9: 10260 | H9: 474 | I9: 1169 | J9: 2 | K9: 186 | L9: 45 | M9: 190 | N9: 163 | O9: 214 | P9: 16961 | Q9: 5807 | R9: 11154 | S9: 5179 | T9: 9529 | U9: 444 | V9: 1111 | W9: 2 | X9: 163 | Y9: 41 | Z9: 148 | AA9: 141 | AB9: 203 | AC9: 12 | AD9: 6 | AE9: 6 | AF9: 6 | AG9: 4 | AH9: 0 | AI9: 2 | AJ9: 0 | AK9: 0 | AL9: 0 | AM9: 0 | AN9: 0 | AO9: 0 | AP9: 0 | AQ9: 0 | AR9: 0 | AS9: 0 | AT9: 0 | AU9: 0 | AV9: 0 | AW9: 0 | AX9: 0 | AY9: 0 | AZ9: 0 | BA9: 0 | BB9: 0 | BC9: 5 | BD9: 3 | BE9: 2 | BF9: 3 | BG9: 1 | BH9: 0 | BI9: 0 | BJ9: 0 | BK9: 0 | BL9: 0 | BM9: 1 | BN9: 0 | BO9: 0 | BP9: 58 | BQ9: 27 | BR9: 31 | BS9: 24 | BT9: 24 | BU9: 1 | BV9: 5 | BW9: 0 | BX9: 2 | BY9: 0 | BZ9: 0 | CA9: 2 | CB9: 0 | CC9: 3 | CD9: 2 | CE9: 1 | CF9: 2 | CG9: 1 | CH9: 0 | CI9: 0 | CJ9: 0 | CK9: 0 | CL9: 0 | CM9: 0 | CN9: 0 | CO9: 0 | CP9: 34 | CQ9: 8 | CR9: 26 | CS9: 8 | CT9: 16 | CU9: 0 | CV9: 8 | CW9: 0 | CX9: 1 | CY9: 0 | CZ9: 1 | DA9: 0 | DB9: 0 | DC9: 222 | DD9: 97 | DE9: 125 | DF9: 94 | DG9: 105 | DH9: 0 | DI9: 5 | DJ9: 0 | DK9: 7 | DL9: 0 | DM9: 7 | DN9: 3 | DO9: 1 | DP9: 67 | DQ9: 37 | DR9: 30 | DS9: 32 | DT9: 19 | DU9: 2 | DV9: 11 | DW9: 0 | DX9: 0 | DY9: 2 | DZ9: 0 | EA9: 1 | EB9: 0 | EC9: 150 | ED9: 78 | EE9: 72 | EF9: 63 | EG9: 64 | EH9: 13 | EI9: 0 | EJ9: 0 | EK9: 2 | EL9: 0 | EM9: 0 | EN9: 2 | EO9: 6 | EP9: 17 | EQ9: 3 | ER9: 14 | ES9: 3 | ET9: 14 | EU9: 0 | EV9: 0 | EW9: 0 | EX9: 0 | EY9: 0 | EZ9: 0 | FA9: 0 | FB9: 0 | FC9: 0 | FD9: 0 | FE9: 0 | FF9: 0 | FG9: 0 | FH9: 0 | FI9: 0 | FJ9: 0 | FK9: 0 | FL9: 0 | FM9: 0 | FN9: 0 | FO9: 0 | FP9: 105 | FQ9: 36 | FR9: 69 | FS9: 35 | FT9: 67 | FU9: 1 | FV9: 1 | FW9: 0 | FX9: 0 | FY9: 0 | FZ9: 0 | GA9: 0 | GB9: 1 | GC9: 58 | GD9: 31 | GE9: 27 | GF9: 17 | GG9: 27 | GH9: 5 | GI9: 0 | GJ9: 0 | GK9: 0 | GL9: 0 | GM9: 0 | GN9: 9 | GO9: 0 | GP9: 0 | GQ9: 0 | GR9: 0 | GS9: 0 | GT9: 0 | GU9: 0 | GV9: 0 | GW9: 0 | GX9: 0 | GY9: 0 | GZ9: 0 | HA9: 0 | HB9: 0 | HC9: 766 | HD9: 304 | HE9: 462 | HF9: 289 | HG9: 389 | HH9: 8 | HI9: 26 | HJ9: 0 | HK9: 11 | HL9: 2 | HM9: 33 | HN9: 5 | HO9: 3
A10: 新北市 | B10: New Taipei City | C10: 2746 | D10: 1085 | E10: 1661 | F10: 978 | G10: 1414 | H10: 37 | I10: 48 | J10: 2 | K10: 27 | L10: 6 | M10: 60 | N10: 62 | O10: 112 | P10: 2431 | Q10: 976 | R10: 1455 | S10: 879 | T10: 1235 | U10: 29 | V10: 46 | W10: 2 | X10: 27 | Y10: 6 | Z10: 35 | AA10: 60 | AB10: 112 | AC10: 1 | AD10: 1 | AE10: 0 | AF10: 1 | AG10: 0 | AH10: 0 | AI10: 0 | AJ10: 0 | AK10: 0 | AL10: 0 | AM10: 0 | AN10: 0 | AO10: 0 | AP10: 0 | AQ10: 0 | AR10: 0 | AS10: 0 | AT10: 0 | AU10: 0 | AV10: 0 | AW10: 0 | AX10: 0 | AY10: 0 | AZ10: 0 | BA10: 0 | BB10: 0 | BC10: 0 | BD10: 0 | BE10: 0 | BF10: 0 | BG10: 0 | BH10: 0 | BI10: 0 | BJ10: 0 | BK10: 0 | BL10: 0 | BM10: 0 | BN10: 0 | BO10: 0 | BP10: 7 | BQ10: 4 | BR10: 3 | BS10: 3 | BT10: 3 | BU10: 0 | BV10: 0 | BW10: 0 | BX10: 0 | BY10: 0 | BZ10: 0 | CA10: 1 | CB10: 0 | CC10: 0 | CD10: 0 | CE10: 0 | CF10: 0 | CG10: 0 | CH10: 0 | CI10: 0 | CJ10: 0 | CK10: 0 | CL10: 0 | CM10: 0 | CN10: 0 | CO10: 0 | CP10: 3 | CQ10: 1 | CR10: 2 | CS10: 1 | CT10: 2 | CU10: 0 | CV10: 0 | CW10: 0 | CX10: 0 | CY10: 0 | CZ10: 0 | DA10: 0 | DB10: 0 | DC10: 41 | DD10: 23 | DE10: 18 | DF10: 23 | DG10: 18 | DH10: 0 | DI10: 0 | DJ10: 0 | DK10: 0 | DL10: 0 | DM10: 0 | DN10: 0 | DO10: 0 | DP10: 2 | DQ10: 2 | DR10: 0 | DS10: 2 | DT10: 0 | DU10: 0 | DV10: 0 | DW10: 0 | DX10: 0 | DY10: 0 | DZ10: 0 | EA10: 0 | EB10: 0 | EC10: 27 | ED10: 9 | EE10: 18 | EF10: 3 | EG10: 18 | EH10: 6 | EI10: 0 | EJ10: 0 | EK10: 0 | EL10: 0 | EM10: 0 | EN10: 0 | EO10: 0 | EP10: 1 | EQ10: 1 | ER10: 0 | ES10: 1 | ET10: 0 | EU10: 0 | EV10: 0 | EW10: 0 | EX10: 0 | EY10: 0 | EZ10: 0 | FA10: 0 | FB10: 0 | FC10: 0 | FD10: 0 | FE10: 0 | FF10: 0 | FG10: 0 | FH10: 0 | FI10: 0 | FJ10: 0 | FK10: 0 | FL10: 0 | FM10: 0 | FN10: 0 | FO10: 0 | FP10: 6 | FQ10: 2 | FR10: 4 | FS10: 2 | FT10: 4 | FU10: 0 | FV10: 0 | FW10: 0 | FX10: 0 | FY10: 0 | FZ10: 0 | GA10: 0 | GB10: 0 | GC10: 2 | GD10: 0 | GE10: 2 | GF10: 0 | GG10: 2 | GH10: 0 | GI10: 0 | GJ10: 0 | GK10: 0 | GL10: 0 | GM10: 0 | GN10: 0 | GO10: 0 | GP10: 0 | GQ10: 0 | GR10: 0 | GS10: 0 | GT10: 0 | GU10: 0 | GV10: 0 | GW10: 0 | GX10: 0 | GY10: 0 | GZ10: 0 | HA10: 0 | HB10: 0 | HC10: 225 | HD10: 66 | HE10: 159 | HF10: 63 | HG10: 132 | HH10: 2 | HI10: 2 | HJ10: 0 | HK10: 0 | HL10: 0 | HM10: 25 | HN10: 1 | HO10: 0
A11: 臺北市 | B11: Taipei City | C11: 2016 | D11: 866 | E11: 1150 | F11: 808 | G11: 942 | H11: 6 | I11: 25 | J11: 0 | K11: 99 | L11: 26 | M11: 39 | N11: 26 | O11: 45 | P11: 1663 | Q11: 708 | R11: 955 | S11: 653 | T11: 798 | U11: 6 | V11: 19 | W11: 0 | X11: 78 | Y11: 23 | Z11: 23 | AA11: 26 | AB11: 37 | AC11: 1 | AD11: 1 | AE11: 0 | AF11: 1 | AG11: 0 | AH11: 0 | AI11: 0 | AJ11: 0 | AK11: 0 | AL11: 0 | AM11: 0 | AN11: 0 | AO11: 0 | AP11: 0 | AQ11: 0 | AR11: 0 | AS11: 0 | AT11: 0 | AU11: 0 | AV11: 0 | AW11: 0 | AX11: 0 | AY11: 0 | AZ11: 0 | BA11: 0 | BB11: 0 | BC11: 1 | BD11: 0 | BE11: 1 | BF11: 0 | BG11: 0 | BH11: 0 | BI11: 0 | BJ11: 0 | BK11: 0 | BL11: 0 | BM11: 1 | BN11: 0 | BO11: 0 | BP11: 6 | BQ11: 1 | BR11: 5 | BS11: 1 | BT11: 3 | BU11: 0 | BV11: 0 | BW11: 0 | BX11: 2 | BY11: 0 | BZ11: 0 | CA11: 0 | CB11: 0 | CC11: 0 | CD11: 0 | CE11: 0 | CF11: 0 | CG11: 0 | CH11: 0 | CI11: 0 | CJ11: 0 | CK11: 0 | CL11: 0 | CM11: 0 | CN11: 0 | CO11: 0 | CP11: 0 | CQ11: 0 | CR11: 0 | CS11: 0 | CT11: 0 | CU11: 0 | CV11: 0 | CW11: 0 | CX11: 0 | CY11: 0 | CZ11: 0 | DA11: 0 | DB11: 0 | DC11: 80 | DD11: 30 | DE11: 50 | DF11: 30 | DG11: 33 | DH11: 0 | DI11: 2 | DJ11: 0 | DK11: 7 | DL11: 0 | DM11: 7 | DN11: 0 | DO11: 1 | DP11: 4 | DQ11: 4 | DR11: 0 | DS11: 3 | DT11: 0 | DU11: 0 | DV11: 0 | DW11: 0 | DX11: 0 | DY11: 1 | DZ11: 0 | EA11: 0 | EB11: 0 | EC11: 18 | ED11: 7 | EE11: 11 | EF11: 7 | EG11: 4 | EH11: 0 | EI11: 0 | EJ11: 0 | EK11: 2 | EL11: 0 | EM11: 0 | EN11: 0 | EO11: 5 | EP11: 0 | EQ11: 0 | ER11: 0 | ES11: 0 | ET11: 0 | EU11: 0 | EV11: 0 | EW11: 0 | EX11: 0 | EY11: 0 | EZ11: 0 | FA11: 0 | FB11: 0 | FC11: 0 | FD11: 0 | FE11: 0 | FF11: 0 | FG11: 0 | FH11: 0 | FI11: 0 | FJ11: 0 | FK11: 0 | FL11: 0 | FM11: 0 | FN11: 0 | FO11: 0 | FP11: 0 | FQ11: 0 | FR11: 0 | FS11: 0 | FT11: 0 | FU11: 0 | FV11: 0 | FW11: 0 | FX11: 0 | FY11: 0 | FZ11: 0 | GA11: 0 | GB11: 0 | GC11: 0 | GD11: 0 | GE11: 0 | GF11: 0 | GG11: 0 | GH11: 0 | GI11: 0 | GJ11: 0 | GK11: 0 | GL11: 0 | GM11: 0 | GN11: 0 | GO11: 0 | GP11: 0 | GQ11: 0 | GR11: 0 | GS11: 0 | GT11: 0 | GU11: 0 | GV11: 0 | GW11: 0 | GX11: 0 | GY11: 0 | GZ11: 0 | HA11: 0 | HB11: 0 | HC11: 243 | HD11: 115 | HE11: 128 | HF11: 113 | HG11: 104 | HH11: 0 | HI11: 4 | HJ11: 0 | HK11: 10 | HL11: 2 | HM11: 8 | HN11: 0 | HO11: 2
A12: 桃園市 | B12: Taoyuan City | C12: 2224 | D12: 685 | E12: 1539 | F12: 577 | G12: 1158 | H12: 81 | I12: 336 | J12: 0 | K12: 0 | L12: 10 | M12: 34 | N12: 17 | O12: 11 | P12: 2046 | Q12: 587 | R12: 1459 | S12: 490 | T12: 1093 | U12: 78 | V12: 322 | W12: 0 | X12: 0 | Y12: 9 | Z12: 33 | AA12: 10 | AB12: 11 | AC12: 2 | AD12: 2 | AE12: 0 | AF12: 2 | AG12: 0 | AH12: 0 | AI12: 0 | AJ12: 0 | AK12: 0 | AL12: 0 | AM12: 0 | AN12: 0 | AO12: 0 | AP12: 0 | AQ12: 0 | AR12: 0 | AS12: 0 | AT12: 0 | AU12: 0 | AV12: 0 | AW12: 0 | AX12: 0 | AY12: 0 | AZ12: 0 | BA12: 0 | BB12: 0 | BC12: 0 | BD12: 0 | BE12: 0 | BF12: 0 | BG12: 0 | BH12: 0 | BI12: 0 | BJ12: 0 | BK12: 0 | BL12: 0 | BM12: 0 | BN12: 0 | BO12: 0 | BP12: 7 | BQ12: 4 | BR12: 3 | BS12: 4 | BT12: 3 | BU12: 0 | BV12: 0 | BW12: 0 | BX12: 0 | BY12: 0 | BZ12: 0 | CA12: 0 | CB12: 0 | CC12: 0 | CD12: 0 | CE12: 0 | CF12: 0 | CG12: 0 | CH12: 0 | CI12: 0 | CJ12: 0 | CK12: 0 | CL12: 0 | CM12: 0 | CN12: 0 | CO12: 0 | CP12: 9 | CQ12: 2 | CR12: 7 | CS12: 2 | CT12: 3 | CU12: 0 | CV12: 3 | CW12: 0 | CX12: 0 | CY12: 0 | CZ12: 1 | DA12: 0 | DB12: 0 | DC12: 15 | DD12: 14 | DE12: 1 | DF12: 11 | DG12: 1 | DH12: 0 | DI12: 0 | DJ12: 0 | DK12: 0 | DL12: 0 | DM12: 0 | DN12: 3 | DO12: 0 | DP12: 12 | DQ12: 4 | DR12: 8 | DS12: 3 | DT12: 0 | DU12: 0 | DV12: 8 | DW12: 0 | DX12: 0 | DY12: 1 | DZ12: 0 | EA12: 0 | EB12: 0 | EC12: 4 | ED12: 4 | EE12: 0 | EF12: 4 | EG12: 0 | EH12: 0 | EI12: 0 | EJ12: 0 | EK12: 0 | EL12: 0 | EM12: 0 | EN12: 0 | EO12: 0 | EP12: 0 | EQ12: 0 | ER12: 0 | ES12: 0 | ET12: 0 | EU12: 0 | EV12: 0 | EW12: 0 | EX12: 0 | EY12: 0 | EZ12: 0 | FA12: 0 | FB12: 0 | FC12: 0 | FD12: 0 | FE12: 0 | FF12: 0 | FG12: 0 | FH12: 0 | FI12: 0 | FJ12: 0 | FK12: 0 | FL12: 0 | FM12: 0 | FN12: 0 | FO12: 0 | FP12: 61 | FQ12: 20 | FR12: 41 | FS12: 20 | FT12: 40 | FU12: 0 | FV12: 1 | FW12: 0 | FX12: 0 | FY12: 0 | FZ12: 0 | GA12: 0 | GB12: 0 | GC12: 2 | GD12: 0 | GE12: 2 | GF12: 0 | GG12: 2 | GH12: 0 | GI12: 0 | GJ12: 0 | GK12: 0 | GL12: 0 | GM12: 0 | GN12: 0 | GO12: 0 | GP12: 0 | GQ12: 0 | GR12: 0 | GS12: 0 | GT12: 0 | GU12: 0 | GV12: 0 | GW12: 0 | GX12: 0 | GY12: 0 | GZ12: 0 | HA12: 0 | HB12: 0 | HC12: 66 | HD12: 48 | HE12: 18 | HF12: 41 | HG12: 16 | HH12: 3 | HI12: 2 | HJ12: 0 | HK12: 0 | HL12: 0 | HM12: 0 | HN12: 4 | HO12: 0
A13: 臺中市 | B13: Taichung City | C13: 3285 | D13: 982 | E13: 2303 | F13: 926 | G13: 2115 | H13: 56 | I13: 124 | J13: 0 | K13: 9 | L13: 0 | M13: 39 | N13: 0 | O13: 16 | P13: 3138 | Q13: 926 | R13: 2212 | S13: 870 | T13: 2028 | U13: 56 | V13: 121 | W13: 0 | X13: 9 | Y13: 0 | Z13: 39 | AA13: 0 | AB13: 15 | AC13: 2 | AD13: 1 | AE13: 1 | AF13: 1 | AG13: 1 | AH13: 0 | AI13: 0 | AJ13: 0 | AK13: 0 | AL13: 0 | AM13: 0 | AN13: 0 | AO13: 0 | AP13: 0 | AQ13: 0 | AR13: 0 | AS13: 0 | AT13: 0 | AU13: 0 | AV13: 0 | AW13: 0 | AX13: 0 | AY13: 0 | AZ13: 0 | BA13: 0 | BB13: 0 | BC13: 0 | BD13: 0 | BE13: 0 | BF13: 0 | BG13: 0 | BH13: 0 | BI13: 0 | BJ13: 0 | BK13: 0 | BL13: 0 | BM13: 0 | BN13: 0 | BO13: 0 | BP13: 9 | BQ13: 3 | BR13: 6 | BS13: 3 | BT13: 6 | BU13: 0 | BV13: 0 | BW13: 0 | BX13: 0 | BY13: 0 | BZ13: 0 | CA13: 0 | CB13: 0 | CC13: 1 | CD13: 1 | CE13: 0 | CF13: 1 | CG13: 0 | CH13: 0 | CI13: 0 | CJ13: 0 | CK13: 0 | CL13: 0 | CM13: 0 | CN13: 0 | CO13: 0 | CP13: 4 | CQ13: 0 | CR13: 4 | CS13: 0 | CT13: 3 | CU13: 0 | CV13: 1 | CW13: 0 | CX13: 0 | CY13: 0 | CZ13: 0 | DA13: 0 | DB13: 0 | DC13: 9 | DD13: 5 | DE13: 4 | DF13: 5 | DG13: 4 | DH13: 0 | DI13: 0 | DJ13: 0 | DK13: 0 | DL13: 0 | DM13: 0 | DN13: 0 | DO13: 0 | DP13: 1 | DQ13: 1 | DR13: 0 | DS13: 1 | DT13: 0 | DU13: 0 | DV13: 0 | DW13: 0 | DX13: 0 | DY13: 0 | DZ13: 0 | EA13: 0 | EB13: 0 | EC13: 29 | ED13: 14 | EE13: 15 | EF13: 14 | EG13: 14 | EH13: 0 | EI13: 0 | EJ13: 0 | EK13: 0 | EL13: 0 | EM13: 0 | EN13: 0 | EO13: 1 | EP13: 12 | EQ13: 0 | ER13: 12 | ES13: 0 | ET13: 12 | EU13: 0 | EV13: 0 | EW13: 0 | EX13: 0 | EY13: 0 | EZ13: 0 | FA13: 0 | FB13: 0 | FC13: 0 | FD13: 0 | FE13: 0 | FF13: 0 | FG13: 0 | FH13: 0 | FI13: 0 | FJ13: 0 | FK13: 0 | FL13: 0 | FM13: 0 | FN13: 0 | FO13: 0 | FP13: 7 | FQ13: 2 | FR13: 5 | FS13: 2 | FT13: 5 | FU13: 0 | FV13: 0 | FW13: 0 | FX13: 0 | FY13: 0 | FZ13: 0 | GA13: 0 | GB13: 0 | GC13: 4 | GD13: 3 | GE13: 1 | GF13: 3 | GG13: 1 | GH13: 0 | GI13: 0 | GJ13: 0 | GK13: 0 | GL13: 0 | GM13: 0 | GN13: 0 | GO13: 0 | GP13: 0 | GQ13: 0 | GR13: 0 | GS13: 0 | GT13: 0 | GU13: 0 | GV13: 0 | GW13: 0 | GX13: 0 | GY13: 0 | GZ13: 0 | HA13: 0 | HB13: 0 | HC13: 69 | HD13: 26 | HE13: 43 | HF13: 26 | HG13: 41 | HH13: 0 | HI13: 2 | HJ13: 0 | HK13: 0 | HL13: 0 | HM13: 0 | HN13: 0 | HO13: 0
A14: 臺南市 | B14: Tainan City | C14: 1518 | D14: 391 | E14: 1127 | F14: 383 | G14: 1020 | H14: 8 | I14: 55 | J14: 0 | K14: 39 | L14: 0 | M14: 9 | N14: 0 | O14: 4 | P14: 1475 | Q14: 382 | R14: 1093 | S14: 374 | T14: 990 | U14: 8 | V14: 53 | W14: 0 | X14: 37 | Y14: 0 | Z14: 9 | AA14: 0 | AB14: 4 | AC14: 1 | AD14: 0 | AE14: 1 | AF14: 0 | AG14: 0 | AH14: 0 | AI14: 1 | AJ14: 0 | AK14: 0 | AL14: 0 | AM14: 0 | AN14: 0 | AO14: 0 | AP14: 0 | AQ14: 0 | AR14: 0 | AS14: 0 | AT14: 0 | AU14: 0 | AV14: 0 | AW14: 0 | AX14: 0 | AY14: 0 | AZ14: 0 | BA14: 0 | BB14: 0 | BC14: 0 | BD14: 0 | BE14: 0 | BF14: 0 | BG14: 0 | BH14: 0 | BI14: 0 | BJ14: 0 | BK14: 0 | BL14: 0 | BM14: 0 | BN14: 0 | BO14: 0 | BP14: 0 | BQ14: 0 | BR14: 0 | BS14: 0 | BT14: 0 | BU14: 0 | BV14: 0 | BW14: 0 | BX14: 0 | BY14: 0 | BZ14: 0 | CA14: 0 | CB14: 0 | CC14: 0 | CD14: 0 | CE14: 0 | CF14: 0 | CG14: 0 | CH14: 0 | CI14: 0 | CJ14: 0 | CK14: 0 | CL14: 0 | CM14: 0 | CN14: 0 | CO14: 0 | CP14: 5 | CQ14: 1 | CR14: 4 | CS14: 1 | CT14: 2 | CU14: 0 | CV14: 1 | CW14: 0 | CX14: 1 | CY14: 0 | CZ14: 0 | DA14: 0 | DB14: 0 | DC14: 5 | DD14: 1 | DE14: 4 | DF14: 1 | DG14: 4 | DH14: 0 | DI14: 0 | DJ14: 0 | DK14: 0 | DL14: 0 | DM14: 0 | DN14: 0 | DO14: 0 | DP14: 2 | DQ14: 1 | DR14: 1 | DS14: 1 | DT14: 1 | DU14: 0 | DV14: 0 | DW14: 0 | DX14: 0 | DY14: 0 | DZ14: 0 | EA14: 0 | EB14: 0 | EC14: 0 | ED14: 0 | EE14: 0 | EF14: 0 | EG14: 0 | EH14: 0 | EI14: 0 | EJ14: 0 | EK14: 0 | EL14: 0 | EM14: 0 | EN14: 0 | EO14: 0 | EP14: 0 | EQ14: 0 | ER14: 0 | ES14: 0 | ET14: 0 | EU14: 0 | EV14: 0 | EW14: 0 | EX14: 0 | EY14: 0 | EZ14: 0 | FA14: 0 | FB14: 0 | FC14: 0 | FD14: 0 | FE14: 0 | FF14: 0 | FG14: 0 | FH14: 0 | FI14: 0 | FJ14: 0 | FK14: 0 | FL14: 0 | FM14: 0 | FN14: 0 | FO14: 0 | FP14: 1 | FQ14: 1 | FR14: 0 | FS14: 1 | FT14: 0 | FU14: 0 | FV14: 0 | FW14: 0 | FX14: 0 | FY14: 0 | FZ14: 0 | GA14: 0 | GB14: 0 | GC14: 1 | GD14: 0 | GE14: 1 | GF14: 0 | GG14: 1 | GH14: 0 | GI14: 0 | GJ14: 0 | GK14: 0 | GL14: 0 | GM14: 0 | GN14: 0 | GO14: 0 | GP14: 0 | GQ14: 0 | GR14: 0 | GS14: 0 | GT14: 0 | GU14: 0 | GV14: 0 | GW14: 0 | GX14: 0 | GY14: 0 | GZ14: 0 | HA14: 0 | HB14: 0 | HC14: 28 | HD14: 5 | HE14: 23 | HF14: 5 | HG14: 22 | HH14: 0 | HI14: 0 | HJ14: 0 | HK14: 1 | HL14: 0 | HM14: 0 | HN14: 0 | HO14: 0
A15: 高雄市 | B15: Kaohsiung City | C15: 3211 | D15: 977 | E15: 2234 | F15: 935 | G15: 2057 | H15: 39 | I15: 156 | J15: 0 | K15: 4 | L15: 0 | M15: 9 | N15: 3 | O15: 8 | P15: 3042 | Q15: 941 | R15: 2101 | S15: 899 | T15: 1937 | U15: 39 | V15: 144 | W15: 0 | X15: 4 | Y15: 0 | Z15: 9 | AA15: 3 | AB15: 7 | AC15: 2 | AD15: 0 | AE15: 2 | AF15: 0 | AG15: 1 | AH15: 0 | AI15: 1 | AJ15: 0 | AK15: 0 | AL15: 0 | AM15: 0 | AN15: 0 | AO15: 0 | AP15: 0 | AQ15: 0 | AR15: 0 | AS15: 0 | AT15: 0 | AU15: 0 | AV15: 0 | AW15: 0 | AX15: 0 | AY15: 0 | AZ15: 0 | BA15: 0 | BB15: 0 | BC15: 0 | BD15: 0 | BE15: 0 | BF15: 0 | BG15: 0 | BH15: 0 | BI15: 0 | BJ15: 0 | BK15: 0 | BL15: 0 | BM15: 0 | BN15: 0 | BO15: 0 | BP15: 7 | BQ15: 2 | BR15: 5 | BS15: 2 | BT15: 5 | BU15: 0 | BV15: 0 | BW15: 0 | BX15: 0 | BY15: 0 | BZ15: 0 | CA15: 0 | CB15: 0 | CC15: 0 | CD15: 0 | CE15: 0 | CF15: 0 | CG15: 0 | CH15: 0 | CI15: 0 | CJ15: 0 | CK15: 0 | CL15: 0 | CM15: 0 | CN15: 0 | CO15: 0 | CP15: 5 | CQ15: 1 | CR15: 4 | CS15: 1 | CT15: 4 | CU15: 0 | CV15: 0 | CW15: 0 | CX15: 0 | CY15: 0 | CZ15: 0 | DA15: 0 | DB15: 0 | DC15: 41 | DD15: 9 | DE15: 32 | DF15: 9 | DG15: 30 | DH15: 0 | DI15: 2 | DJ15: 0 | DK15: 0 | DL15: 0 | DM15: 0 | DN15: 0 | DO15: 0 | DP15: 20 | DQ15: 6 | DR15: 14 | DS15: 6 | DT15: 12 | DU15: 0 | DV15: 2 | DW15: 0 | DX15: 0 | DY15: 0 | DZ15: 0 | EA15: 0 | EB15: 0 | EC15: 8 | ED15: 1 | EE15: 7 | EF15: 1 | EG15: 7 | EH15: 0 | EI15: 0 | EJ15: 0 | EK15: 0 | EL15: 0 | EM15: 0 | EN15: 0 | EO15: 0 | EP15: 0 | EQ15: 0 | ER15: 0 | ES15: 0 | ET15: 0 | EU15: 0 | EV15: 0 | EW15: 0 | EX15: 0 | EY15: 0 | EZ15: 0 | FA15: 0 | FB15: 0 | FC15: 0 | FD15: 0 | FE15: 0 | FF15: 0 | FG15: 0 | FH15: 0 | FI15: 0 | FJ15: 0 | FK15: 0 | FL15: 0 | FM15: 0 | FN15: 0 | FO15: 0 | FP15: 17 | FQ15: 3 | FR15: 14 | FS15: 3 | FT15: 13 | FU15: 0 | FV15: 0 | FW15: 0 | FX15: 0 | FY15: 0 | FZ15: 0 | GA15: 0 | GB15: 1 | GC15: 24 | GD15: 4 | GE15: 20 | GF15: 4 | GG15: 20 | GH15: 0 | GI15: 0 | GJ15: 0 | GK15: 0 | GL15: 0 | GM15: 0 | GN15: 0 | GO15: 0 | GP15: 0 | GQ15: 0 | GR15: 0 | GS15: 0 | GT15: 0 | GU15: 0 | GV15: 0 | GW15: 0 | GX15: 0 | GY15: 0 | GZ15: 0 | HA15: 0 | HB15: 0 | HC15: 45 | HD15: 10 | HE15: 35 | HF15: 10 | HG15: 28 | HH15: 0 | HI15: 7 | HJ15: 0 | HK15: 0 | HL15: 0 | HM15: 0 | HN15: 0 | HO15: 0
A16: 宜蘭縣 | B16: Yilan County | C16: 149 | D16: 67 | E16: 82 | F16: 40 | G16: 72 | H16: 27 | I16: 10 | J16: 0 | K16: 0 | L16: 0 | M16: 0 | N16: 0 | O16: 0 | P16: 143 | Q16: 65 | R16: 78 | S16: 39 | T16: 70 | U16: 26 | V16: 8 | W16: 0 | X16: 0 | Y16: 0 | Z16: 0 | AA16: 0 | AB16: 0 | AC16: 1 | AD16: 1 | AE16: 0 | AF16: 1 | AG16: 0 | AH16: 0 | AI16: 0 | AJ16: 0 | AK16: 0 | AL16: 0 | AM16: 0 | AN16: 0 | AO16: 0 | AP16: 0 | AQ16: 0 | AR16: 0 | AS16: 0 | AT16: 0 | AU16: 0 | AV16: 0 | AW16: 0 | AX16: 0 | AY16: 0 | AZ16: 0 | BA16: 0 | BB16: 0 | BC16: 0 | BD16: 0 | BE16: 0 | BF16: 0 | BG16: 0 | BH16: 0 | BI16: 0 | BJ16: 0 | BK16: 0 | BL16: 0 | BM16: 0 | BN16: 0 | BO16: 0 | BP16: 2 | BQ16: 1 | BR16: 1 | BS16: 0 | BT16: 0 | BU16: 1 | BV16: 1 | BW16: 0 | BX16: 0 | BY16: 0 | BZ16: 0 | CA16: 0 | CB16: 0 | CC16: 0 | CD16: 0 | CE16: 0 | CF16: 0 | CG16: 0 | CH16: 0 | CI16: 0 | CJ16: 0 | CK16: 0 | CL16: 0 | CM16: 0 | CN16: 0 | CO16: 0 | CP16: 1 | CQ16: 0 | CR16: 1 | CS16: 0 | CT16: 0 | CU16: 0 | CV16: 1 | CW16: 0 | CX16: 0 | CY16: 0 | CZ16: 0 | DA16: 0 | DB16: 0 | DC16: 0 | DD16: 0 | DE16: 0 | DF16: 0 | DG16: 0 | DH16: 0 | DI16: 0 | DJ16: 0 | DK16: 0 | DL16: 0 | DM16: 0 | DN16: 0 | DO16: 0 | DP16: 0 | DQ16: 0 | DR16: 0 | DS16: 0 | DT16: 0 | DU16: 0 | DV16: 0 | DW16: 0 | DX16: 0 | DY16: 0 | DZ16: 0 | EA16: 0 | EB16: 0 | EC16: 0 | ED16: 0 | EE16: 0 | EF16: 0 | EG16: 0 | EH16: 0 | EI16: 0 | EJ16: 0 | EK16: 0 | EL16: 0 | EM16: 0 | EN16: 0 | EO16: 0 | EP16: 0 | EQ16: 0 | ER16: 0 | ES16: 0 | ET16: 0 | EU16: 0 | EV16: 0 | EW16: 0 | EX16: 0 | EY16: 0 | EZ16: 0 | FA16: 0 | FB16: 0 | FC16: 0 | FD16: 0 | FE16: 0 | FF16: 0 | FG16: 0 | FH16: 0 | FI16: 0 | FJ16: 0 | FK16: 0 | FL16: 0 | FM16: 0 | FN16: 0 | FO16: 0 | FP16: 0 | FQ16: 0 | FR16: 0 | FS16: 0 | FT16: 0 | FU16: 0 | FV16: 0 | FW16: 0 | FX16: 0 | FY16: 0 | FZ16: 0 | GA16: 0 | GB16: 0 | GC16: 0 | GD16: 0 | GE16: 0 | GF16: 0 | GG16: 0 | GH16: 0 | GI16: 0 | GJ16: 0 | GK16: 0 | GL16: 0 | GM16: 0 | GN16: 0 | GO16: 0 | GP16: 0 | GQ16: 0 | GR16: 0 | GS16: 0 | GT16: 0 | GU16: 0 | GV16: 0 | GW16: 0 | GX16: 0 | GY16: 0 | GZ16: 0 | HA16: 0 | HB16: 0 | HC16: 2 | HD16: 0 | HE16: 2 | HF16: 0 | HG16: 2 | HH16: 0 | HI16: 0 | HJ16: 0 | HK16: 0 | HL16: 0 | HM16: 0 | HN16: 0 | HO16: 0
A17: 新竹縣 | B17: Hsinchu County | C17: 268 | D17: 147 | E17: 121 | F17: 117 | G17: 104 | H17: 30 | I17: 11 | J17: 0 | K17: 0 | L17: 0 | M17: 0 | N17: 0 | O17: 6 | P17: 264 | Q17: 144 | R17: 120 | S17: 114 | T17: 103 | U17: 30 | V17: 11 | W17: 0 | X17: 0 | Y17: 0 | Z17: 0 | AA17: 0 | AB17: 6 | AC17: 0 | AD17: 0 | AE17: 0 | AF17: 0 | AG17: 0 | AH17: 0 | AI17: 0 | AJ17: 0 | AK17: 0 | AL17: 0 | AM17: 0 | AN17: 0 | AO17: 0 | AP17: 0 | AQ17: 0 | AR17: 0 | AS17: 0 | AT17: 0 | AU17: 0 | AV17: 0 | AW17: 0 | AX17: 0 | AY17: 0 | AZ17: 0 | BA17: 0 | BB17: 0 | BC17: 0 | BD17: 0 | BE17: 0 | BF17: 0 | BG17: 0 | BH17: 0 | BI17: 0 | BJ17: 0 | BK17: 0 | BL17: 0 | BM17: 0 | BN17: 0 | BO17: 0 | BP17: 1 | BQ17: 1 | BR17: 0 | BS17: 1 | BT17: 0 | BU17: 0 | BV17: 0 | BW17: 0 | BX17: 0 | BY17: 0 | BZ17: 0 | CA17: 0 | CB17: 0 | CC17: 0 | CD17: 0 | CE17: 0 | CF17: 0 | CG17: 0 | CH17: 0 | CI17: 0 | CJ17: 0 | CK17: 0 | CL17: 0 | CM17: 0 | CN17: 0 | CO17: 0 | CP17: 0 | CQ17: 0 | CR17: 0 | CS17: 0 | CT17: 0 | CU17: 0 | CV17: 0 | CW17: 0 | CX17: 0 | CY17: 0 | CZ17: 0 | DA17: 0 | DB17: 0 | DC17: 0 | DD17: 0 | DE17: 0 | DF17: 0 | DG17: 0 | DH17: 0 | DI17: 0 | DJ17: 0 | DK17: 0 | DL17: 0 | DM17: 0 | DN17: 0 | DO17: 0 | DP17: 0 | DQ17: 0 | DR17: 0 | DS17: 0 | DT17: 0 | DU17: 0 | DV17: 0 | DW17: 0 | DX17: 0 | DY17: 0 | DZ17: 0 | EA17: 0 | EB17: 0 | EC17: 0 | ED17: 0 | EE17: 0 | EF17: 0 | EG17: 0 | EH17: 0 | EI17: 0 | EJ17: 0 | EK17: 0 | EL17: 0 | EM17: 0 | EN17: 0 | EO17: 0 | EP17: 1 | EQ17: 0 | ER17: 1 | ES17: 0 | ET17: 1 | EU17: 0 | EV17: 0 | EW17: 0 | EX17: 0 | EY17: 0 | EZ17: 0 | FA17: 0 | FB17: 0 | FC17: 0 | FD17: 0 | FE17: 0 | FF17: 0 | FG17: 0 | FH17: 0 | FI17: 0 | FJ17: 0 | FK17: 0 | FL17: 0 | FM17: 0 | FN17: 0 | FO17: 0 | FP17: 0 | FQ17: 0 | FR17: 0 | FS17: 0 | FT17: 0 | FU17: 0 | FV17: 0 | FW17: 0 | FX17: 0 | FY17: 0 | FZ17: 0 | GA17: 0 | GB17: 0 | GC17: 0 | GD17: 0 | GE17: 0 | GF17: 0 | GG17: 0 | GH17: 0 | GI17: 0 | GJ17: 0 | GK17: 0 | GL17: 0 | GM17: 0 | GN17: 0 | GO17: 0 | GP17: 0 | GQ17: 0 | GR17: 0 | GS17: 0 | GT17: 0 | GU17: 0 | GV17: 0 | GW17: 0 | GX17: 0 | GY17: 0 | GZ17: 0 | HA17: 0 | HB17: 0 | HC17: 2 | HD17: 2 | HE17: 0 | HF17: 2 | HG17: 0 | HH17: 0 | HI17: 0 | HJ17: 0 | HK17: 0 | HL17: 0 | HM17: 0 | HN17: 0 | HO17: 0
A18: 苗栗縣 | B18: Miaoli County | C18: 346 | D18: 162 | E18: 184 | F18: 161 | G18: 171 | H18: 1 | I18: 13 | J18: 0 | K18: 0 | L18: 0 | M18: 0 | N18: 0 | O18: 0 | P18: 314 | Q18: 150 | R18: 164 | S18: 149 | T18: 151 | U18: 1 | V18: 13 | W18: 0 | X18: 0 | Y18: 0 | Z18: 0 | AA18: 0 | AB18: 0 | AC18: 0 | AD18: 0 | AE18: 0 | AF18: 0 | AG18: 0 | AH18: 0 | AI18: 0 | AJ18: 0 | AK18: 0 | AL18: 0 | AM18: 0 | AN18: 0 | AO18: 0 | AP18: 0 | AQ18: 0 | AR18: 0 | AS18: 0 | AT18: 0 | AU18: 0 | AV18: 0 | AW18: 0 | AX18: 0 | AY18: 0 | AZ18: 0 | BA18: 0 | BB18: 0 | BC18: 2 | BD18: 1 | BE18: 1 | BF18: 1 | BG18: 1 | BH18: 0 | BI18: 0 | BJ18: 0 | BK18: 0 | BL18: 0 | BM18: 0 | BN18: 0 | BO18: 0 | BP18: 2 | BQ18: 1 | BR18: 1 | BS18: 1 | BT18: 1 | BU18: 0 | BV18: 0 | BW18: 0 | BX18: 0 | BY18: 0 | BZ18: 0 | CA18: 0 | CB18: 0 | CC18: 1 | CD18: 1 | CE18: 0 | CF18: 1 | CG18: 0 | CH18: 0 | CI18: 0 | CJ18: 0 | CK18: 0 | CL18: 0 | CM18: 0 | CN18: 0 | CO18: 0 | CP18: 0 | CQ18: 0 | CR18: 0 | CS18: 0 | CT18: 0 | CU18: 0 | CV18: 0 | CW18: 0 | CX18: 0 | CY18: 0 | CZ18: 0 | DA18: 0 | DB18: 0 | DC18: 6 | DD18: 0 | DE18: 6 | DF18: 0 | DG18: 6 | DH18: 0 | DI18: 0 | DJ18: 0 | DK18: 0 | DL18: 0 | DM18: 0 | DN18: 0 | DO18: 0 | DP18: 1 | DQ18: 0 | DR18: 1 | DS18: 0 | DT18: 1 | DU18: 0 | DV18: 0 | DW18: 0 | DX18: 0 | DY18: 0 | DZ18: 0 | EA18: 0 | EB18: 0 | EC18: 1 | ED18: 0 | EE18: 1 | EF18: 0 | EG18: 1 | EH18: 0 | EI18: 0 | EJ18: 0 | EK18: 0 | EL18: 0 | EM18: 0 | EN18: 0 | EO18: 0 | EP18: 1 | EQ18: 1 | ER18: 0 | ES18: 1 | ET18: 0 | EU18: 0 | EV18: 0 | EW18: 0 | EX18: 0 | EY18: 0 | EZ18: 0 | FA18: 0 | FB18: 0 | FC18: 0 | FD18: 0 | FE18: 0 | FF18: 0 | FG18: 0 | FH18: 0 | FI18: 0 | FJ18: 0 | FK18: 0 | FL18: 0 | FM18: 0 | FN18: 0 | FO18: 0 | FP18: 5 | FQ18: 0 | FR18: 5 | FS18: 0 | FT18: 5 | FU18: 0 | FV18: 0 | FW18: 0 | FX18: 0 | FY18: 0 | FZ18: 0 | GA18: 0 | GB18: 0 | GC18: 0 | GD18: 0 | GE18: 0 | GF18: 0 | GG18: 0 | GH18: 0 | GI18: 0 | GJ18: 0 | GK18: 0 | GL18: 0 | GM18: 0 | GN18: 0 | GO18: 0 | GP18: 0 | GQ18: 0 | GR18: 0 | GS18: 0 | GT18: 0 | GU18: 0 | GV18: 0 | GW18: 0 | GX18: 0 | GY18: 0 | GZ18: 0 | HA18: 0 | HB18: 0 | HC18: 13 | HD18: 8 | HE18: 5 | HF18: 8 | HG18: 5 | HH18: 0 | HI18: 0 | HJ18: 0 | HK18: 0 | HL18: 0 | HM18: 0 | HN18: 0 | HO18: 0
A19: 彰化縣 | B19: Changhua County | C19: 295 | D19: 139 | E19: 156 | F19: 111 | G19: 154 | H19: 28 | I19: 2 | J19: 0 | K19: 0 | L19: 0 | M19: 0 | N19: 0 | O19: 0 | P19: 273 | Q19: 125 | R19: 148 | S19: 101 | T19: 146 | U19: 24 | V19: 2 | W19: 0 | X19: 0 | Y19: 0 | Z19: 0 | AA19: 0 | AB19: 0 | AC19: 0 | AD19: 0 | AE19: 0 | AF19: 0 | AG19: 0 | AH19: 0 | AI19: 0 | AJ19: 0 | AK19: 0 | AL19: 0 | AM19: 0 | AN19: 0 | AO19: 0 | AP19: 0 | AQ19: 0 | AR19: 0 | AS19: 0 | AT19: 0 | AU19: 0 | AV19: 0 | AW19: 0 | AX19: 0 | AY19: 0 | AZ19: 0 | BA19: 0 | BB19: 0 | BC19: 0 | BD19: 0 | BE19: 0 | BF19: 0 | BG19: 0 | BH19: 0 | BI19: 0 | BJ19: 0 | BK19: 0 | BL19: 0 | BM19: 0 | BN19: 0 | BO19: 0 | BP19: 0 | BQ19: 0 | BR19: 0 | BS19: 0 | BT19: 0 | BU19: 0 | BV19: 0 | BW19: 0 | BX19: 0 | BY19: 0 | BZ19: 0 | CA19: 0 | CB19: 0 | CC19: 0 | CD19: 0 | CE19: 0 | CF19: 0 | CG19: 0 | CH19: 0 | CI19: 0 | CJ19: 0 | CK19: 0 | CL19: 0 | CM19: 0 | CN19: 0 | CO19: 0 | CP19: 0 | CQ19: 0 | CR19: 0 | CS19: 0 | CT19: 0 | CU19: 0 | CV19: 0 | CW19: 0 | CX19: 0 | CY19: 0 | CZ19: 0 | DA19: 0 | DB19: 0 | DC19: 0 | DD19: 0 | DE19: 0 | DF19: 0 | DG19: 0 | DH19: 0 | DI19: 0 | DJ19: 0 | DK19: 0 | DL19: 0 | DM19: 0 | DN19: 0 | DO19: 0 | DP19: 2 | DQ19: 2 | DR19: 0 | DS19: 0 | DT19: 0 | DU19: 2 | DV19: 0 | DW19: 0 | DX19: 0 | DY19: 0 | DZ19: 0 | EA19: 0 | EB19: 0 | EC19: 0 | ED19: 0 | EE19: 0 | EF19: 0 | EG19: 0 | EH19: 0 | EI19: 0 | EJ19: 0 | EK19: 0 | EL19: 0 | EM19: 0 | EN19: 0 | EO19: 0 | EP19: 0 | EQ19: 0 | ER19: 0 | ES19: 0 | ET19: 0 | EU19: 0 | EV19: 0 | EW19: 0 | EX19: 0 | EY19: 0 | EZ19: 0 | FA19: 0 | FB19: 0 | FC19: 0 | FD19: 0 | FE19: 0 | FF19: 0 | FG19: 0 | FH19: 0 | FI19: 0 | FJ19: 0 | FK19: 0 | FL19: 0 | FM19: 0 | FN19: 0 | FO19: 0 | FP19: 3 | FQ19: 3 | FR19: 0 | FS19: 3 | FT19: 0 | FU19: 0 | FV19: 0 | FW19: 0 | FX19: 0 | FY19: 0 | FZ19: 0 | GA19: 0 | GB19: 0 | GC19: 2 | GD19: 1 | GE19: 1 | GF19: 0 | GG19: 1 | GH19: 1 | GI19: 0 | GJ19: 0 | GK19: 0 | GL19: 0 | GM19: 0 | GN19: 0 | GO19: 0 | GP19: 0 | GQ19: 0 | GR19: 0 | GS19: 0 | GT19: 0 | GU19: 0 | GV19: 0 | GW19: 0 | GX19: 0 | GY19: 0 | GZ19: 0 | HA19: 0 | HB19: 0 | HC19: 15 | HD19: 8 | HE19: 7 | HF19: 7 | HG19: 7 | HH19: 1 | HI19: 0 | HJ19: 0 | HK19: 0 | HL19: 0 | HM19: 0 | HN19: 0 | HO19: 0
A20: 南投縣 | B20: Nantou County | C20: 227 | D20: 88 | E20: 139 | F20: 57 | G20: 41 | H20: 31 | I20: 98 | J20: 0 | K20: 0 | L20: 0 | M20: 0 | N20: 0 | O20: 0 | P20: 225 | Q20: 86 | R20: 139 | S20: 56 | T20: 41 | U20: 30 | V20: 98 | W20: 0 | X20: 0 | Y20: 0 | Z20: 0 | AA20: 0 | AB20: 0 | AC20: 0 | AD20: 0 | AE20: 0 | AF20: 0 | AG20: 0 | AH20: 0 | AI20: 0 | AJ20: 0 | AK20: 0 | AL20: 0 | AM20: 0 | AN20: 0 | AO20: 0 | AP20: 0 | AQ20: 0 | AR20: 0 | AS20: 0 | AT20: 0 | AU20: 0 | AV20: 0 | AW20: 0 | AX20: 0 | AY20: 0 | AZ20: 0 | BA20: 0 | BB20: 0 | BC20: 0 | BD20: 0 | BE20: 0 | BF20: 0 | BG20: 0 | BH20: 0 | BI20: 0 | BJ20: 0 | BK20: 0 | BL20: 0 | BM20: 0 | BN20: 0 | BO20: 0 | BP20: 0 | BQ20: 0 | BR20: 0 | BS20: 0 | BT20: 0 | BU20: 0 | BV20: 0 | BW20: 0 | BX20: 0 | BY20: 0 | BZ20: 0 | CA20: 0 | CB20: 0 | CC20: 0 | CD20: 0 | CE20: 0 | CF20: 0 | CG20: 0 | CH20: 0 | CI20: 0 | CJ20: 0 | CK20: 0 | CL20: 0 | CM20: 0 | CN20: 0 | CO20: 0 | CP20: 1 | CQ20: 1 | CR20: 0 | CS20: 1 | CT20: 0 | CU20: 0 | CV20: 0 | CW20: 0 | CX20: 0 | CY20: 0 | CZ20: 0 | DA20: 0 | DB20: 0 | DC20: 0 | DD20: 0 | DE20: 0 | DF20: 0 | DG20: 0 | DH20: 0 | DI20: 0 | DJ20: 0 | DK20: 0 | DL20: 0 | DM20: 0 | DN20: 0 | DO20: 0 | DP20: 0 | DQ20: 0 | DR20: 0 | DS20: 0 | DT20: 0 | DU20: 0 | DV20: 0 | DW20: 0 | DX20: 0 | DY20: 0 | DZ20: 0 | EA20: 0 | EB20: 0 | EC20: 0 | ED20: 0 | EE20: 0 | EF20: 0 | EG20: 0 | EH20: 0 | EI20: 0 | EJ20: 0 | EK20: 0 | EL20: 0 | EM20: 0 | EN20: 0 | EO20: 0 | EP20: 0 | EQ20: 0 | ER20: 0 | ES20: 0 | ET20: 0 | EU20: 0 | EV20: 0 | EW20: 0 | EX20: 0 | EY20: 0 | EZ20: 0 | FA20: 0 | FB20: 0 | FC20: 0 | FD20: 0 | FE20: 0 | FF20: 0 | FG20: 0 | FH20: 0 | FI20: 0 | FJ20: 0 | FK20: 0 | FL20: 0 | FM20: 0 | FN20: 0 | FO20: 0 | FP20: 1 | FQ20: 1 | FR20: 0 | FS20: 0 | FT20: 0 | FU20: 1 | FV20: 0 | FW20: 0 | FX20: 0 | FY20: 0 | FZ20: 0 | GA20: 0 | GB20: 0 | GC20: 0 | GD20: 0 | GE20: 0 | GF20: 0 | GG20: 0 | GH20: 0 | GI20: 0 | GJ20: 0 | GK20: 0 | GL20: 0 | GM20: 0 | GN20: 0 | GO20: 0 | GP20: 0 | GQ20: 0 | GR20: 0 | GS20: 0 | GT20: 0 | GU20: 0 | GV20: 0 | GW20: 0 | GX20: 0 | GY20: 0 | GZ20: 0 | HA20: 0 | HB20: 0 | HC20: 0 | HD20: 0 | HE20: 0 | HF20: 0 | HG20: 0 | HH20: 0 | HI20: 0 | HJ20: 0 | HK20: 0 | HL20: 0 | HM20: 0 | HN20: 0 | HO20: 0
A21: 雲林縣 | B21: Yunlin County | C21: 358 | D21: 138 | E21: 220 | F21: 120 | G21: 218 | H21: 16 | I21: 0 | J21: 0 | K21: 0 | L21: 0 | M21: 0 | N21: 2 | O21: 2 | P21: 346 | Q21: 132 | R21: 214 | S21: 115 | T21: 213 | U21: 16 | V21: 0 | W21: 0 | X21: 0 | Y21: 0 | Z21: 0 | AA21: 1 | AB21: 1 | AC21: 1 | AD21: 0 | AE21: 1 | AF21: 0 | AG21: 1 | AH21: 0 | AI21: 0 | AJ21: 0 | AK21: 0 | AL21: 0 | AM21: 0 | AN21: 0 | AO21: 0 | AP21: 0 | AQ21: 0 | AR21: 0 | AS21: 0 | AT21: 0 | AU21: 0 | AV21: 0 | AW21: 0 | AX21: 0 | AY21: 0 | AZ21: 0 | BA21: 0 | BB21: 0 | BC21: 0 | BD21: 0 | BE21: 0 | BF21: 0 | BG21: 0 | BH21: 0 | BI21: 0 | BJ21: 0 | BK21: 0 | BL21: 0 | BM21: 0 | BN21: 0 | BO21: 0 | BP21: 1 | BQ21: 1 | BR21: 0 | BS21: 0 | BT21: 0 | BU21: 0 | BV21: 0 | BW21: 0 | BX21: 0 | BY21: 0 | BZ21: 0 | CA21: 1 | CB21: 0 | CC21: 0 | CD21: 0 | CE21: 0 | CF21: 0 | CG21: 0 | CH21: 0 | CI21: 0 | CJ21: 0 | CK21: 0 | CL21: 0 | CM21: 0 | CN21: 0 | CO21: 0 | CP21: 0 | CQ21: 0 | CR21: 0 | CS21: 0 | CT21: 0 | CU21: 0 | CV21: 0 | CW21: 0 | CX21: 0 | CY21: 0 | CZ21: 0 | DA21: 0 | DB21: 0 | DC21: 1 | DD21: 0 | DE21: 1 | DF21: 0 | DG21: 1 | DH21: 0 | DI21: 0 | DJ21: 0 | DK21: 0 | DL21: 0 | DM21: 0 | DN21: 0 | DO21: 0 | DP21: 0 | DQ21: 0 | DR21: 0 | DS21: 0 | DT21: 0 | DU21: 0 | DV21: 0 | DW21: 0 | DX21: 0 | DY21: 0 | DZ21: 0 | EA21: 0 | EB21: 0 | EC21: 0 | ED21: 0 | EE21: 0 | EF21: 0 | EG21: 0 | EH21: 0 | EI21: 0 | EJ21: 0 | EK21: 0 | EL21: 0 | EM21: 0 | EN21: 0 | EO21: 0 | EP21: 0 | EQ21: 0 | ER21: 0 | ES21: 0 | ET21: 0 | EU21: 0 | EV21: 0 | EW21: 0 | EX21: 0 | EY21: 0 | EZ21: 0 | FA21: 0 | FB21: 0 | FC21: 0 | FD21: 0 | FE21: 0 | FF21: 0 | FG21: 0 | FH21: 0 | FI21: 0 | FJ21: 0 | FK21: 0 | FL21: 0 | FM21: 0 | FN21: 0 | FO21: 0 | FP21: 0 | FQ21: 0 | FR21: 0 | FS21: 0 | FT21: 0 | FU21: 0 | FV21: 0 | FW21: 0 | FX21: 0 | FY21: 0 | FZ21: 0 | GA21: 0 | GB21: 0 | GC21: 0 | GD21: 0 | GE21: 0 | GF21: 0 | GG21: 0 | GH21: 0 | GI21: 0 | GJ21: 0 | GK21: 0 | GL21: 0 | GM21: 0 | GN21: 0 | GO21: 0 | GP21: 0 | GQ21: 0 | GR21: 0 | GS21: 0 | GT21: 0 | GU21: 0 | GV21: 0 | GW21: 0 | GX21: 0 | GY21: 0 | GZ21: 0 | HA21: 0 | HB21: 0 | HC21: 9 | HD21: 5 | HE21: 4 | HF21: 5 | HG21: 3 | HH21: 0 | HI21: 0 | HJ21: 0 | HK21: 0 | HL21: 0 | HM21: 0 | HN21: 0 | HO21: 1
... A31: 連江縣 | B31: Lienchiang County | C31: 0 | D31: 0 | E31: 0 | F31: 0 | G31: 0 | H31: 0 | I31: 0 | J31: 0 | K31: 0 | L31: 0 | M31: 0 | N31: 0 | O31: 0 | P31: 0 | Q31: 0 | R31: 0 | S31: 0 | T31: 0 | U31: 0 | V31: 0 | W31: 0 | X31: 0 | Y31: 0 | Z31: 0 | AA31: 0 | AB31: 0 | AC31: 0 | AD31: 0 | AE31: 0 | AF31: 0 | AG31: 0 | AH31: 0 | AI31: 0 | AJ31: 0 | AK31: 0 | AL31: 0 | AM31: 0 | AN31: 0 | AO31: 0 | AP31: 0 | AQ31: 0 | AR31: 0 | AS31: 0 | AT31: 0 | AU31: 0 | AV31: 0 | AW31: 0 | AX31: 0 | AY31: 0 | AZ31: 0 | BA31: 0 | BB31: 0 | BC31: 0 | BD31: 0 | BE31: 0 | BF31: 0 | BG31: 0 | BH31: 0 | BI31: 0 | BJ31: 0 | BK31: 0 | BL31: 0 | BM31: 0 | BN31: 0 | BO31: 0 | BP31: 0 | BQ31: 0 | BR31: 0 | BS31: 0 | BT31: 0 | BU31: 0 | BV31: 0 | BW31: 0 | BX31: 0 | BY31: 0 | BZ31: 0 | CA31: 0 | CB31: 0 | CC31: 0 | CD31: 0 | CE31: 0 | CF31: 0 | CG31: 0 | CH31: 0 | CI31: 0 | CJ31: 0 | CK31: 0 | CL31: 0 | CM31: 0 | CN31: 0 | CO31: 0 | CP31: 0 | CQ31: 0 | CR31: 0 | CS31: 0 | CT31: 0 | CU31: 0 | CV31: 0 | CW31: 0 | CX31: 0 | CY31: 0 | CZ31: 0 | DA31: 0 | DB31: 0 | DC31: 0 | DD31: 0 | DE31: 0 | DF31: 0 | DG31: 0 | DH31: 0 | DI31: 0 | DJ31: 0 | DK31: 0 | DL31: 0 | DM31: 0 | DN31: 0 | DO31: 0 | DP31: 0 | DQ31: 0 | DR31: 0 | DS31: 0 | DT31: 0 | DU31: 0 | DV31: 0 | DW31: 0 | DX31: 0 | DY31: 0 | DZ31: 0 | EA31: 0 | EB31: 0 | EC31: 0 | ED31: 0 | EE31: 0 | EF31: 0 | EG31: 0 | EH31: 0 | EI31: 0 | EJ31: 0 | EK31: 0 | EL31: 0 | EM31: 0 | EN31: 0 | EO31: 0 | EP31: 0 | EQ31: 0 | ER31: 0 | ES31: 0 | ET31: 0 | EU31: 0 | EV31: 0 | EW31: 0 | EX31: 0 | EY31: 0 | EZ31: 0 | FA31: 0 | FB31: 0 | FC31: 0 | FD31: 0 | FE31: 0 | FF31: 0 | FG31: 0 | FH31: 0 | FI31: 0 | FJ31: 0 | FK31: 0 | FL31: 0 | FM31: 0 | FN31: 0 | FO31: 0 | FP31: 0 | FQ31: 0 | FR31: 0 | FS31: 0 | FT31: 0 | FU31: 0 | FV31: 0 | FW31: 0 | FX31: 0 | FY31: 0 | FZ31: 0 | GA31: 0 | GB31: 0 | GC31: 0 | GD31: 0 | GE31: 0 | GF31: 0 | GG31: 0 | GH31: 0 | GI31: 0 | GJ31: 0 | GK31: 0 | GL31: 0 | GM31: 0 | GN31: 0 | GO31: 0 | GP31: 0 | GQ31: 0 | GR31: 0 | GS31: 0 | GT31: 0 | GU31: 0 | GV31: 0 | GW31: 0 | GX31: 0 | GY31: 0 | GZ31: 0 | HA31: 0 | HB31: 0 | HC31: 0 | HD31: 0 | HE31: 0 | HF31: 0 | HG31: 0 | HH31: 0 | HI31: 0 | HJ31: 0 | HK31: 0 | HL31: 0 | HM31: 0 | HN31: 0 | HO31: 0
A32: 資料來源：直轄市、縣﹝市﹞政府。

Sheet 2023
A1: 同性親密關係暴力被害人保護扶助人次
A2: 中華民國112年,2023
A3: 單位：人次
A4: 區域別 Locality | C4: 總計Total | P4: 諮詢協談Consultation | AC4: 庇護安置Providing Shelter | AP4: 庇護安置Providing Shelter | BC4: 陪同報案偵詢（訊）Accompanied Interrogation | BP4: 陪同出庭Accompanied Present in Court | CC4: 驗傷診療Medical Examinations and Treatments | CP4: 聲請保護令Petition for Civil Protection Orders | DC4: 法律扶助Legal Aid | DP4: 經濟扶助Economic Support | EC4: 心理諮商與輔導Psychological Counseling | EP4: 就業服務Employment Service | FC4: 就學或轉學服務Education or School Transfer Service | FP4: 轉介/提供目睹暴力服務Referral/Witness Services | GC4: 子女問題協助Assistance in Children's Problems | GP4: 通譯服務Interpret Service | HC4: 其他扶助Others
AC5: 被害人Victim | AP5: 隨行子女Accompanying Children
C6: 合計Total | F6: 本國籍非原住民 Non-aboriginal Native | H6: 本國籍原住民 Aboriginal Native | J6: 大陸籍(含港澳) Mainland China (Hong Kong and Macau Included) | L6: 外國籍 Foreign | N6: 其他 Others | P6: 合計Total | S6: 本國籍非原住民 Non-aboriginal Native | U6: 本國籍原住民 Aboriginal Native | W6: 大陸籍(含港澳) Mainland China (Hong Kong and Macau Included) | Y6: 外國籍 Foreign | AA6: 其他 Others | AC6: 合計Total | AF6: 本國籍非原住民 Non-aboriginal Native | AH6: 本國籍原住民 Aboriginal Native | AJ6: 大陸籍(含港澳) Mainland China (Hong Kong and Macau Included) | AL6: 外國籍 Foreign | AN6: 其他 Others | AP6: 合計Total | AS6: 本國籍非原住民 Non-aboriginal Native | AU6: 本國籍原住民 Aboriginal Native | AW6: 大陸籍(含港澳) Mainland China (Hong Kong and Macau Included) | AY6: 外國籍 Foreign | BA6: 其他 Others | BC6: 合計Total | BF6: 本國籍非原住民 Non-aboriginal Native | BH6: 本國籍原住民 Aboriginal Native | BJ6: 大陸籍(含港澳) Mainland China (Hong Kong and Macau Included) | BL6: 外國籍 Foreign | BN6: 其他 Others | BP6: 合計Total | BS6: 本國籍非原住民 Non-aboriginal Native | BU6: 本國籍原住民 Aboriginal Native | BW6: 大陸籍(含港澳) Mainland China (Hong Kong and Macau Included) | BY6: 外國籍 Foreign | CA6: 其他 Others | CC6: 合計Total | CF6: 本國籍非原住民 Non-aboriginal Native | CH6: 本國籍原住民 Aboriginal Native | CJ6: 大陸籍(含港澳) Mainland China (Hong Kong and Macau Included) | CL6: 外國籍 Foreign | CN6: 其他 Others | CP6: 合計Total | CS6: 本國籍非原住民 Non-aboriginal Native | CU6: 本國籍原住民 Aboriginal Native | CW6: 大陸籍(含港澳) Mainland China (Hong Kong and Macau Included) | CY6: 外國籍 Foreign | DA6: 其他 Others | DC6: 合計Total | DF6: 本國籍非原住民 Non-aboriginal Native | DH6: 本國籍原住民 Aboriginal Native | DJ6: 大陸籍(含港澳) Mainland China (Hong Kong and Macau Included) | DL6: 外國籍 Foreign | DN6: 其他 Others | DP6: 合計Total | DS6: 本國籍非原住民 Non-aboriginal Native | DU6: 本國籍原住民 Aboriginal Native | DW6: 大陸籍(含港澳) Mainland China (Hong Kong and Macau Included) | DY6: 外國籍 Foreign | EA6: 其他 Others | EC6: 合計Total | EF6: 本國籍非原住民 Non-aboriginal Native | EH6: 本國籍原住民 Aboriginal Native | EJ6: 大陸籍(含港澳) Mainland China (Hong Kong and Macau Included) | EL6: 外國籍 Foreign | EN6: 其他 Others | EP6: 合計Total | ES6: 本國籍非原住民 Non-aboriginal Native | EU6: 本國籍原住民 Aboriginal Native | EW6: 大陸籍(含港澳) Mainland China (Hong Kong and Macau Included) | EY6: 外國籍 Foreign | FA6: 其他 Others | FC6: 合計Total | FF6: 本國籍非原住民 Non-aboriginal Native | FH6: 本國籍原住民 Aboriginal Native | FJ6: 大陸籍(含港澳) Mainland China (Hong Kong and Macau Included) | FL6: 外國籍 Foreign | FN6: 其他 Others | FP6: 合計Total | FS6: 本國籍非原住民 Non-aboriginal Native | FU6: 本國籍原住民 Aboriginal Native | FW6: 大陸籍(含港澳) Mainland China (Hong Kong and Macau Included) | FY6: 外國籍 Foreign | GA6: 其他 Others | GC6: 合計Total | GF6: 本國籍非原住民 Non-aboriginal Native | GH6: 本國籍原住民 Aboriginal Native | GJ6: 大陸籍(含港澳) Mainland China (Hong Kong and Macau Included) | GL6: 外國籍 Foreign | GN6: 其他 Others | GP6: 合計Total | GS6: 本國籍非原住民 Non-aboriginal Native | GU6: 本國籍原住民 Aboriginal Native | GW6: 大陸籍(含港澳) Mainland China (Hong Kong and Macau Included) | GY6: 外國籍 Foreign | HA6: 其他 Others | HC6: 合計Total | HF6: 本國籍非原住民 Non-aboriginal Native | HH6: 本國籍原住民 Aboriginal Native | HJ6: 大陸籍(含港澳) Mainland China (Hong Kong and Macau Included) | HL6: 外國籍 Foreign | HN6: 其他 Others
C8: 計 Total | D8: 男 Male | E8: 女 Female | F8: 男 Male | G8: 女 Female | H8: 男 Male | I8: 女 Female | J8: 男 Male | K8: 女 Female | L8: 男 Male | M8: 女 Female | N8: 男 Male | O8: 女 Female | P8: 計 Total | Q8: 男 Male | R8: 女 Female | S8: 男 Male | T8: 女 Female | U8: 男 Male | V8: 女 Female | W8: 男 Male | X8: 女 Female | Y8: 男 Male | Z8: 女 Female | AA8: 男 Male | AB8: 女 Female | AC8: 計 Total | AD8: 男 Male | AE8: 女 Female | AF8: 男 Male | AG8: 女 Female | AH8: 男 Male | AI8: 女 Female | AJ8: 男 Male | AK8: 女 Female | AL8: 男 Male | AM8: 女 Female | AN8: 男 Male | AO8: 女 Female | AP8: 計 Total | AQ8: 男 Male | AR8: 女 Female | AS8: 男 Male | AT8: 女 Female | AU8: 男 Male | AV8: 女 Female | AW8: 男 Male | AX8: 女 Female | AY8: 男 Male | AZ8: 女 Female | BA8: 男 Male | BB8: 女 Female | BC8: 計 Total | BD8: 男 Male | BE8: 女 Female | BF8: 男 Male | BG8: 女 Female | BH8: 男 Male | BI8: 女 Female | BJ8: 男 Male | BK8: 女 Female | BL8: 男 Male | BM8: 女 Female | BN8: 男 Male | BO8: 女 Female | BP8: 計 Total | BQ8: 男 Male | BR8: 女 Female | BS8: 男 Male | BT8: 女 Female | BU8: 男 Male | BV8: 女 Female | BW8: 男 Male | BX8: 女 Female | BY8: 男 Male | BZ8: 女 Female | CA8: 男 Male | CB8: 女 Female | CC8: 計 Total | CD8: 男 Male | CE8: 女 Female | CF8: 男 Male | CG8: 女 Female | CH8: 男 Male | CI8: 女 Female | CJ8: 男 Male | CK8: 女 Female | CL8: 男 Male | CM8: 女 Female | CN8: 男 Male | CO8: 女 Female | CP8: 計 Total | CQ8: 男 Male | CR8: 女 Female | CS8: 男 Male | CT8: 女 Female | CU8: 男 Male | CV8: 女 Female | CW8: 男 Male | CX8: 女 Female | CY8: 男 Male | CZ8: 女 Female | DA8: 男 Male | DB8: 女 Female | DC8: 計 Total | DD8: 男 Male | DE8: 女 Female | DF8: 男 Male | DG8: 女 Female | DH8: 男 Male | DI8: 女 Female | DJ8: 男 Male | DK8: 女 Female | DL8: 男 Male | DM8: 女 Female | DN8: 男 Male | DO8: 女 Female | DP8: 計 Total | DQ8: 男 Male | DR8: 女 Female | DS8: 男 Male | DT8: 女 Female | DU8: 男 Male | DV8: 女 Female | DW8: 男 Male | DX8: 女 Female | DY8: 男 Male | DZ8: 女 Female | EA8: 男 Male | EB8: 女 Female | EC8: 計 Total | ED8: 男 Male | EE8: 女 Female | EF8: 男 Male | EG8: 女 Female | EH8: 男 Male | EI8: 女 Female | EJ8: 男 Male | EK8: 女 Female | EL8: 男 Male | EM8: 女 Female | EN8: 男 Male | EO8: 女 Female | EP8: 計 Total | EQ8: 男 Male | ER8: 女 Female | ES8: 男 Male | ET8: 女 Female | EU8: 男 Male | EV8: 女 Female | EW8: 男 Male | EX8: 女 Female | EY8: 男 Male | EZ8: 女 Female | FA8: 男 Male | FB8: 女 Female | FC8: 計 Total | FD8: 男 Male | FE8: 女 Female | FF8: 男 Male | FG8: 女 Female | FH8: 男 Male | FI8: 女 Female | FJ8: 男 Male | FK8: 女 Female | FL8: 男 Male | FM8: 女 Female | FN8: 男 Male | FO8: 女 Female | FP8: 計 Total | FQ8: 男 Male | FR8: 女 Female | FS8: 男 Male | FT8: 女 Female | FU8: 男 Male | FV8: 女 Female | FW8: 男 Male | FX8: 女 Female | FY8: 男 Male | FZ8: 女 Female | GA8: 男 Male | GB8: 女 Female | GC8: 計 Total | GD8: 男 Male | GE8: 女 Female | GF8: 男 Male | GG8: 女 Female | GH8: 男 Male | GI8: 女 Female | GJ8: 男 Male | GK8: 女 Female | GL8: 男 Male | GM8: 女 Female | GN8: 男 Male | GO8: 女 Female | GP8: 計 Total | GQ8: 男 Male | GR8: 女 Female | GS8: 男 Male | GT8: 女 Female | GU8: 男 Male | GV8: 女 Female | GW8: 男 Male | GX8: 女 Female | GY8: 男 Male | GZ8: 女 Female | HA8: 男 Male | HB8: 女 Female | HC8: 計 Total | HD8: 男 Male | HE8: 女 Female | HF8: 男 Male | HG8: 女 Female | HH8: 男 Male | HI8: 女 Female | HJ8: 男 Male | HK8: 女 Female | HL8: 男 Male | HM8: 女 Female | HN8: 男 Male | HO8: 女 Female
A9: 112年 2023 | C9: 15811 | D9: 5400 | E9: 10411 | F9: 4576 | G9: 8769 | H9: 501 | I9: 1065 | J9: 5 | K9: 146 | L9: 40 | M9: 169 | N9: 278 | O9: 262 | P9: 14258 | Q9: 4730 | R9: 9528 | S9: =SUM(S10:S31) -> 4031 | T9: =SUM(T10:T31) -> 7998 | U9: =SUM(U10:U31) -> 441 | V9: =SUM(V10:V31) -> 989 | W9: =SUM(W10:W31) -> 5 | X9: =SUM(X10:X31) -> 137 | Y9: =SUM(Y10:Y31) -> 40 | Z9: =SUM(Z10:Z31) -> 152 | ... AB9: =SUM(AB10:AB31) -> 252 | AC9: 6 | AD9: 0 | AE9: 6 | AF9: =SUM(AF10:AF31) -> 0 | AG9: =SUM(AG10:AG31) -> 5 | AH9: =SUM(AH10:AH31) -> 0 | AI9: =SUM(AI10:AI31) -> 0 | AJ9: =SUM(AJ10:AJ31) -> 0 | AK9: =SUM(AK10:AK31) -> 0 | AL9: =SUM(AL10:AL31) -> 0 | AM9: =SUM(AM10:AM31) -> 1 | ... AO9: =SUM(AO10:AO31) -> 0 | AP9: 6 | AQ9: 0 | AR9: 6 | AS9: =SUM(AS10:AS31) -> 0 | AT9: =SUM(AT10:AT31) -> 6 | AU9: =SUM(AU10:AU31) -> 0 | AV9: =SUM(AV10:AV31) -> 0 | AW9: =SUM(AW10:AW31) -> 0 | AX9: =SUM(AX10:AX31) -> 0 | AY9: =SUM(AY10:AY31) -> 0 | AZ9: =SUM(AZ10:AZ31) -> 0 | ... BB9: =SUM(BB10:BB31) -> 0 | BC9: 10 | BD9: 5 | BE9: 5 | BF9: =SUM(BF10:BF31) -> 4 | BG9: =SUM(BG10:BG31) -> 5 | BH9: =SUM(BH10:BH31) -> 1 | BI9: =SUM(BI10:BI31) -> 0 | BJ9: =SUM(BJ10:BJ31) -> 0 | BK9: =SUM(BK10:BK31) -> 0 | BL9: =SUM(BL10:BL31) -> 0 | BM9: =SUM(BM10:BM31) -> 0 | ... BO9: =SUM(BO10:BO31) -> 0 | BP9: 59 | BQ9: 23 | BR9: 36 | BS9: =SUM(BS10:BS31) -> 22 | BT9: =SUM(BT10:BT31) -> 27 | BU9: =SUM(BU10:BU31) -> 0 | BV9: =SUM(BV10:BV31) -> 3 | BW9: =SUM(BW10:BW31) -> 0 | BX9: =SUM(BX10:BX31) -> 0 | BY9: =SUM(BY10:BY31) -> 0 | BZ9: =SUM(BZ10:BZ31) -> 3 | ... CB9: =SUM(CB10:CB31) -> 3 | CC9: 2 | CD9: 1 | CE9: 1 | CF9: =SUM(CF10:CF31) -> 0 | CG9: =SUM(CG10:CG31) -> 1 | CH9: =SUM(CH10:CH31) -> 1 | CI9: =SUM(CI10:CI31) -> 0 | CJ9: =SUM(CJ10:CJ31) -> 0 | CK9: =SUM(CK10:CK31) -> 0 | CL9: =SUM(CL10:CL31) -> 0 | CM9: =SUM(CM10:CM31) -> 0 | ... CO9: =SUM(CO10:CO31) -> 0 | CP9: 34 | CQ9: 24 | CR9: 10 | CS9: =SUM(CS10:CS31) -> 17 | CT9: =SUM(CT10:CT31) -> 8 | CU9: =SUM(CU10:CU31) -> 0 | CV9: =SUM(CV10:CV31) -> 1 | CW9: =SUM(CW10:CW31) -> 0 | CX9: =SUM(CX10:CX31) -> 0 | CY9: =SUM(CY10:CY31) -> 0 | CZ9: =SUM(CZ10:CZ31) -> 1 | ... DB9: =SUM(DB10:DB31) -> 0 | DC9: 309 | DD9: 109 | DE9: 200 | DF9: =SUM(DF10:DF31) -> 100 | DG9: =SUM(DG10:DG31) -> 179 | DH9: =SUM(DH10:DH31) -> 4 | DI9: =SUM(DI10:DI31) -> 16 | DJ9: =SUM(DJ10:DJ31) -> 0 | DK9: =SUM(DK10:DK31) -> 0 | DL9: =SUM(DL10:DL31) -> 0 | DM9: =SUM(DM10:DM31) -> 4 | ... DO9: =SUM(DO10:DO31) -> 1 | DP9: 63 | DQ9: 32 | DR9: 31 | DS9: =SUM(DS10:DS31) -> 22 | DT9: =SUM(DT10:DT31) -> 11 | DU9: =SUM(DU10:DU31) -> 8 | DV9: =SUM(DV10:DV31) -> 17 | DW9: =SUM(DW10:DW31) -> 0 | DX9: =SUM(DX10:DX31) -> 0 | DY9: =SUM(DY10:DY31) -> 0 | DZ9: =SUM(DZ10:DZ31) -> 3 | ... EB9: =SUM(EB10:EB31) -> 0 | EC9: 230 | ED9: 131 | EE9: 99 | EF9: =SUM(EF10:EF31) -> 81 | EG9: =SUM(EG10:EG31) -> 96 | EH9: =SUM(EH10:EH31) -> 30 | EI9: =SUM(EI10:EI31) -> 0 | EJ9: =SUM(EJ10:EJ31) -> 0 | EK9: =SUM(EK10:EK31) -> 3 | EL9: =SUM(EL10:EL31) -> 0 | EM9: =SUM(EM10:EM31) -> 0 | ... EO9: =SUM(EO10:EO31) -> 0 | EP9: 9 | EQ9: 7 | ER9: 2 | ES9: =SUM(ES10:ES31) -> 5 | ET9: =SUM(ET10:ET31) -> 0 | EU9: =SUM(EU10:EU31) -> 0 | EV9: =SUM(EV10:EV31) -> 1 | EW9: =SUM(EW10:EW31) -> 0 | EX9: =SUM(EX10:EX31) -> 0 | EY9: =SUM(EY10:EY31) -> 0 | EZ9: =SUM(EZ10:EZ31) -> 1 | ... FB9: =SUM(FB10:FB31) -> 0 | FC9: 4 | FD9: 1 | FE9: 3 | FF9: =SUM(FF10:FF31) -> 1 | FG9: =SUM(FG10:FG31) -> 2 | FH9: =SUM(FH10:FH31) -> 0 | FI9: =SUM(FI10:FI31) -> 0 | FJ9: =SUM(FJ10:FJ31) -> 0 | FK9: =SUM(FK10:FK31) -> 1 | FL9: =SUM(FL10:FL31) -> 0 | FM9: =SUM(FM10:FM31) -> 0 | ... FO9: =SUM(FO10:FO31) -> 0 | FP9: 152 | FQ9: 47 | FR9: 105 | FS9: =SUM(FS10:FS31) -> 35 | FT9: =SUM(FT10:FT31) -> 101 | FU9: =SUM(FU10:FU31) -> 1 | FV9: =SUM(FV10:FV31) -> 4 | FW9: =SUM(FW10:FW31) -> 0 | FX9: =SUM(FX10:FX31) -> 0 | FY9: =SUM(FY10:FY31) -> 0 | FZ9: =SUM(FZ10:FZ31) -> 0 | ... GB9: =SUM(GB10:GB31) -> 0 | GC9: 39 | GD9: 27 | GE9: 12 | GF9: =SUM(GF10:GF31) -> 20 | GG9: =SUM(GG10:GG31) -> 12 | GH9: =SUM(GH10:GH31) -> 1 | GI9: =SUM(GI10:GI31) -> 0 | GJ9: =SUM(GJ10:GJ31) -> 0 | GK9: =SUM(GK10:GK31) -> 0 | GL9: =SUM(GL10:GL31) -> 0 | GM9: =SUM(GM10:GM31) -> 0 | ... GO9: =SUM(GO10:GO31) -> 0 | GP9: 1 | GQ9: 0 | GR9: 1 | GS9: =SUM(GS10:GS31) -> 0 | GT9: =SUM(GT10:GT31) -> 0 | GU9: =SUM(GU10:GU31) -> 0 | GV9: =SUM(GV10:GV31) -> 0 | GW9: =SUM(GW10:GW31) -> 0 | GX9: =SUM(GX10:GX31) -> 0 | GY9: =SUM(GY10:GY31) -> 0 | GZ9: =SUM(GZ10:GZ31) -> 1 | ... HB9: =SUM(HB10:HB31) -> 0 | HC9: 629 | HD9: 263 | HE9: 366 | HF9: =SUM(HF10:HF31) -> 238 | HG9: =SUM(HG10:HG31) -> 318 | HH9: =SUM(HH10:HH31) -> 14 | HI9: =SUM(HI10:HI31) -> 34 | HJ9: =SUM(HJ10:HJ31) -> 0 | HK9: =SUM(HK10:HK31) -> 5 | HL9: =SUM(HL10:HL31) -> 0 | HM9: =SUM(HM10:HM31) -> 3 | ... HO9: =SUM(HO10:HO31) -> 6
A10: 新北市 | B10: New Taipei City | C10: 2532 | D10: 1009 | E10: 1523 | F10: 872 | G10: 1339 | H10: 66 | I10: 33 | J10: 5 | K10: 19 | L10: 20 | M10: 8 | N10: 46 | O10: 124 | P10: 2181 | Q10: 870 | R10: 1311 | S10: 741 | T10: 1130 | U10: 61 | V10: 31 | W10: 5 | X10: 19 | Y10: 20 | Z10: 8 | AA10: 43 | AB10: 123 | AC10: 3 | AD10: 0 | AE10: 3 | AF10: 0 | AG10: 3 | AH10: 0 | AI10: 0 | AJ10: 0 | AK10: 0 | AL10: 0 | AM10: 0 | AN10: 0 | AO10: 0 | AP10: 6 | AQ10: 0 | AR10: 6 | AS10: 0 | AT10: 6 | AU10: 0 | AV10: 0 | AW10: 0 | AX10: 0 | AY10: 0 | AZ10: 0 | BA10: 0 | BB10: 0 | BC10: 3 | BD10: 3 | BE10: 0 | BF10: 2 | BG10: 0 | BH10: 1 | BI10: 0 | BJ10: 0 | BK10: 0 | BL10: 0 | BM10: 0 | BN10: 0 | BO10: 0 | BP10: 11 | BQ10: 7 | BR10: 4 | BS10: 7 | BT10: 4 | BU10: 0 | BV10: 0 | BW10: 0 | BX10: 0 | BY10: 0 | BZ10: 0 | CA10: 0 | CB10: 0 | CC10: 0 | CD10: 0 | CE10: 0 | CF10: 0 | CG10: 0 | CH10: 0 | CI10: 0 | CJ10: 0 | CK10: 0 | CL10: 0 | CM10: 0 | CN10: 0 | CO10: 0 | CP10: 8 | CQ10: 4 | CR10: 4 | CS10: 4 | CT10: 4 | CU10: 0 | CV10: 0 | CW10: 0 | CX10: 0 | CY10: 0 | CZ10: 0 | DA10: 0 | DB10: 0 | DC10: 100 | DD10: 29 | DE10: 71 | DF10: 28 | DG10: 69 | DH10: 1 | DI10: 1 | DJ10: 0 | DK10: 0 | DL10: 0 | DM10: 0 | DN10: 0 | DO10: 1 | DP10: 6 | DQ10: 5 | DR10: 1 | DS10: 5 | DT10: 0 | DU10: 0 | DV10: 1 | DW10: 0 | DX10: 0 | DY10: 0 | DZ10: 0 | EA10: 0 | EB10: 0 | EC10: 10 | ED10: 3 | EE10: 7 | EF10: 3 | EG10: 7 | EH10: 0 | EI10: 0 | EJ10: 0 | EK10: 0 | EL10: 0 | EM10: 0 | EN10: 0 | EO10: 0 | EP10: 3 | EQ10: 3 | ER10: 0 | ES10: 3 | ET10: 0 | EU10: 0 | EV10: 0 | EW10: 0 | EX10: 0 | EY10: 0 | EZ10: 0 | FA10: 0 | FB10: 0 | FC10: 2 | FD10: 0 | FE10: 2 | FF10: 0 | FG10: 2 | FH10: 0 | FI10: 0 | FJ10: 0 | FK10: 0 | FL10: 0 | FM10: 0 | FN10: 0 | FO10: 0 | FP10: 5 | FQ10: 0 | FR10: 5 | FS10: 0 | FT10: 5 | FU10: 0 | FV10: 0 | FW10: 0 | FX10: 0 | FY10: 0 | FZ10: 0 | GA10: 0 | GB10: 0 | GC10: 7 | GD10: 1 | GE10: 6 | GF10: 1 | GG10: 6 | GH10: 0 | GI10: 0 | GJ10: 0 | GK10: 0 | GL10: 0 | GM10: 0 | GN10: 0 | GO10: 0 | GP10: 0 | GQ10: 0 | GR10: 0 | GS10: 0 | GT10: 0 | GU10: 0 | GV10: 0 | GW10: 0 | GX10: 0 | GY10: 0 | GZ10: 0 | HA10: 0 | HB10: 0 | HC10: 187 | HD10: 84 | HE10: 103 | HF10: 78 | HG10: 103 | HH10: 3 | HI10: 0 | HJ10: 0 | HK10: 0 | HL10: 0 | HM10: 0 | HN10: 3 | HO10: 0
A11: 臺北市 | B11: Taipei City | C11: 1933 | D11: 784 | E11: 1149 | F11: 743 | G11: 926 | H11: 14 | I11: 97 | J11: 0 | K11: 53 | L11: 6 | M11: 21 | N11: 21 | O11: 52 | P11: 1531 | Q11: 592 | R11: 939 | S11: 563 | T11: 766 | U11: 8 | V11: 55 | W11: 0 | X11: 51 | Y11: 6 | Z11: 17 | AA11: 15 | AB11: 50 | AC11: 0 | AD11: 0 | AE11: 0 | AF11: 0 | AG11: 0 | AH11: 0 | AI11: 0 | AJ11: 0 | AK11: 0 | AL11: 0 | AM11: 0 | AN11: 0 | AO11: 0 | AP11: 0 | AQ11: 0 | AR11: 0 | AS11: 0 | AT11: 0 | AU11: 0 | AV11: 0 | AW11: 0 | AX11: 0 | AY11: 0 | AZ11: 0 | BA11: 0 | BB11: 0 | BC11: 0 | BD11: 0 | BE11: 0 | BF11: 0 | BG11: 0 | BH11: 0 | BI11: 0 | BJ11: 0 | BK11: 0 | BL11: 0 | BM11: 0 | BN11: 0 | BO11: 0 | BP11: 5 | BQ11: 4 | BR11: 1 | BS11: 4 | BT11: 1 | BU11: 0 | BV11: 0 | BW11: 0 | BX11: 0 | BY11: 0 | BZ11: 0 | CA11: 0 | CB11: 0 | CC11: 0 | CD11: 0 | CE11: 0 | CF11: 0 | CG11: 0 | CH11: 0 | CI11: 0 | CJ11: 0 | CK11: 0 | CL11: 0 | CM11: 0 | CN11: 0 | CO11: 0 | CP11: 3 | CQ11: 3 | CR11: 0 | CS11: 3 | CT11: 0 | CU11: 0 | CV11: 0 | CW11: 0 | CX11: 0 | CY11: 0 | CZ11: 0 | DA11: 0 | DB11: 0 | DC11: 127 | DD11: 59 | DE11: 68 | DF11: 58 | DG11: 52 | DH11: 0 | DI11: 13 | DJ11: 0 | DK11: 0 | DL11: 0 | DM11: 3 | DN11: 1 | DO11: 0 | DP11: 9 | DQ11: 0 | DR11: 9 | DS11: 0 | DT11: 1 | DU11: 0 | DV11: 8 | DW11: 0 | DX11: 0 | DY11: 0 | DZ11: 0 | EA11: 0 | EB11: 0 | EC11: 12 | ED11: 6 | EE11: 6 | EF11: 6 | EG11: 6 | EH11: 0 | EI11: 0 | EJ11: 0 | EK11: 0 | EL11: 0 | EM11: 0 | EN11: 0 | EO11: 0 | EP11: 1 | EQ11: 1 | ER11: 0 | ES11: 1 | ET11: 0 | EU11: 0 | EV11: 0 | EW11: 0 | EX11: 0 | EY11: 0 | EZ11: 0 | FA11: 0 | FB11: 0 | FC11: 0 | FD11: 0 | FE11: 0 | FF11: 0 | FG11: 0 | FH11: 0 | FI11: 0 | FJ11: 0 | FK11: 0 | FL11: 0 | FM11: 0 | FN11: 0 | FO11: 0 | FP11: 0 | FQ11: 0 | FR11: 0 | FS11: 0 | FT11: 0 | FU11: 0 | FV11: 0 | FW11: 0 | FX11: 0 | FY11: 0 | FZ11: 0 | GA11: 0 | GB11: 0 | GC11: 0 | GD11: 0 | GE11: 0 | GF11: 0 | GG11: 0 | GH11: 0 | GI11: 0 | GJ11: 0 | GK11: 0 | GL11: 0 | GM11: 0 | GN11: 0 | GO11: 0 | GP11: 0 | GQ11: 0 | GR11: 0 | GS11: 0 | GT11: 0 | GU11: 0 | GV11: 0 | GW11: 0 | GX11: 0 | GY11: 0 | GZ11: 0 | HA11: 0 | HB11: 0 | HC11: 245 | HD11: 119 | HE11: 126 | HF11: 108 | HG11: 100 | HH11: 6 | HI11: 21 | HJ11: 0 | HK11: 2 | HL11: 0 | HM11: 1 | HN11: 5 | HO11: 2
A12: 桃園市 | B12: Taoyuan City | C12: 1990 | D12: 551 | E12: 1439 | F12: 484 | G12: 1142 | H12: 38 | I12: 224 | J12: 0 | K12: 0 | L12: 0 | M12: 67 | N12: 29 | O12: 6 | P12: 1795 | Q12: 508 | R12: 1287 | S12: 453 | T12: 1003 | U12: 38 | V12: 220 | W12: 0 | X12: 0 | Y12: 0 | Z12: 58 | AA12: 17 | AB12: 6 | AC12: 1 | AD12: 0 | AE12: 1 | AF12: 0 | AG12: 0 | AH12: 0 | AI12: 0 | AJ12: 0 | AK12: 0 | AL12: 0 | AM12: 1 | AN12: 0 | AO12: 0 | AP12: 0 | AQ12: 0 | AR12: 0 | AS12: 0 | AT12: 0 | AU12: 0 | AV12: 0 | AW12: 0 | AX12: 0 | AY12: 0 | AZ12: 0 | BA12: 0 | BB12: 0 | BC12: 1 | BD12: 0 | BE12: 1 | BF12: 0 | BG12: 1 | BH12: 0 | BI12: 0 | BJ12: 0 | BK12: 0 | BL12: 0 | BM12: 0 | BN12: 0 | BO12: 0 | BP12: 11 | BQ12: 2 | BR12: 9 | BS12: 2 | BT12: 7 | BU12: 0 | BV12: 0 | BW12: 0 | BX12: 0 | BY12: 0 | BZ12: 2 | CA12: 0 | CB12: 0 | CC12: 0 | CD12: 0 | CE12: 0 | CF12: 0 | CG12: 0 | CH12: 0 | CI12: 0 | CJ12: 0 | CK12: 0 | CL12: 0 | CM12: 0 | CN12: 0 | CO12: 0 | CP12: 1 | CQ12: 0 | CR12: 1 | CS12: 0 | CT12: 0 | CU12: 0 | CV12: 0 | CW12: 0 | CX12: 0 | CY12: 0 | CZ12: 1 | DA12: 0 | DB12: 0 | DC12: 16 | DD12: 0 | DE12: 16 | DF12: 0 | DG12: 16 | DH12: 0 | DI12: 0 | DJ12: 0 | DK12: 0 | DL12: 0 | DM12: 0 | DN12: 0 | DO12: 0 | DP12: 8 | DQ12: 0 | DR12: 8 | DS12: 0 | DT12: 3 | DU12: 0 | DV12: 2 | DW12: 0 | DX12: 0 | DY12: 0 | DZ12: 3 | EA12: 0 | EB12: 0 | EC12: 10 | ED12: 9 | EE12: 1 | EF12: 9 | EG12: 1 | EH12: 0 | EI12: 0 | EJ12: 0 | EK12: 0 | EL12: 0 | EM12: 0 | EN12: 0 | EO12: 0 | EP12: 1 | EQ12: 0 | ER12: 1 | ES12: 0 | ET12: 0 | EU12: 0 | EV12: 0 | EW12: 0 | EX12: 0 | EY12: 0 | EZ12: 1 | FA12: 0 | FB12: 0 | FC12: 0 | FD12: 0 | FE12: 0 | FF12: 0 | FG12: 0 | FH12: 0 | FI12: 0 | FJ12: 0 | FK12: 0 | FL12: 0 | FM12: 0 | FN12: 0 | FO12: 0 | FP12: 111 | FQ12: 25 | FR12: 86 | FS12: 14 | FT12: 86 | FU12: 0 | FV12: 0 | FW12: 0 | FX12: 0 | FY12: 0 | FZ12: 0 | GA12: 11 | GB12: 0 | GC12: 0 | GD12: 0 | GE12: 0 | GF12: 0 | GG12: 0 | GH12: 0 | GI12: 0 | GJ12: 0 | GK12: 0 | GL12: 0 | GM12: 0 | GN12: 0 | GO12: 0 | GP12: 0 | GQ12: 0 | GR12: 0 | GS12: 0 | GT12: 0 | GU12: 0 | GV12: 0 | GW12: 0 | GX12: 0 | GY12: 0 | GZ12: 0 | HA12: 0 | HB12: 0 | HC12: 35 | HD12: 7 | HE12: 28 | HF12: 6 | HG12: 25 | HH12: 0 | HI12: 2 | HJ12: 0 | HK12: 0 | HL12: 0 | HM12: 1 | HN12: 1 | HO12: 0
A13: 臺中市 | B13: Taichung City | C13: 2295 | D13: 742 | E13: 1553 | F13: 676 | G13: 1411 | H13: 52 | I13: 115 | J13: 0 | K13: 25 | L13: 2 | M13: 0 | N13: 12 | O13: 2 | P13: 2201 | Q13: 702 | R13: 1499 | S13: 639 | T13: 1358 | U13: 50 | V13: 114 | W13: 0 | X13: 25 | Y13: 2 | Z13: 0 | AA13: 11 | AB13: 2 | AC13: 0 | AD13: 0 | AE13: 0 | AF13: 0 | AG13: 0 | AH13: 0 | AI13: 0 | AJ13: 0 | AK13: 0 | AL13: 0 | AM13: 0 | AN13: 0 | AO13: 0 | AP13: 0 | AQ13: 0 | AR13: 0 | AS13: 0 | AT13: 0 | AU13: 0 | AV13: 0 | AW13: 0 | AX13: 0 | AY13: 0 | AZ13: 0 | BA13: 0 | BB13: 0 | BC13: 1 | BD13: 0 | BE13: 1 | BF13: 0 | BG13: 1 | BH13: 0 | BI13: 0 | BJ13: 0 | BK13: 0 | BL13: 0 | BM13: 0 | BN13: 0 | BO13: 0 | BP13: 5 | BQ13: 2 | BR13: 3 | BS13: 2 | BT13: 3 | BU13: 0 | BV13: 0 | BW13: 0 | BX13: 0 | BY13: 0 | BZ13: 0 | CA13: 0 | CB13: 0 | CC13: 0 | CD13: 0 | CE13: 0 | CF13: 0 | CG13: 0 | CH13: 0 | CI13: 0 | CJ13: 0 | CK13: 0 | CL13: 0 | CM13: 0 | CN13: 0 | CO13: 0 | CP13: 2 | CQ13: 1 | CR13: 1 | CS13: 1 | CT13: 1 | CU13: 0 | CV13: 0 | CW13: 0 | CX13: 0 | CY13: 0 | CZ13: 0 | DA13: 0 | DB13: 0 | DC13: 18 | DD13: 6 | DE13: 12 | DF13: 6 | DG13: 12 | DH13: 0 | DI13: 0 | DJ13: 0 | DK13: 0 | DL13: 0 | DM13: 0 | DN13: 0 | DO13: 0 | DP13: 1 | DQ13: 1 | DR13: 0 | DS13: 1 | DT13: 0 | DU13: 0 | DV13: 0 | DW13: 0 | DX13: 0 | DY13: 0 | DZ13: 0 | EA13: 0 | EB13: 0 | EC13: 11 | ED13: 1 | EE13: 10 | EF13: 1 | EG13: 10 | EH13: 0 | EI13: 0 | EJ13: 0 | EK13: 0 | EL13: 0 | EM13: 0 | EN13: 0 | EO13: 0 | EP13: 0 | EQ13: 0 | ER13: 0 | ES13: 0 | ET13: 0 | EU13: 0 | EV13: 0 | EW13: 0 | EX13: 0 | EY13: 0 | EZ13: 0 | FA13: 0 | FB13: 0 | FC13: 0 | FD13: 0 | FE13: 0 | FF13: 0 | FG13: 0 | FH13: 0 | FI13: 0 | FJ13: 0 | FK13: 0 | FL13: 0 | FM13: 0 | FN13: 0 | FO13: 0 | FP13: 3 | FQ13: 3 | FR13: 0 | FS13: 3 | FT13: 0 | FU13: 0 | FV13: 0 | FW13: 0 | FX13: 0 | FY13: 0 | FZ13: 0 | GA13: 0 | GB13: 0 | GC13: 9 | GD13: 9 | GE13: 0 | GF13: 8 | GG13: 0 | GH13: 0 | GI13: 0 | GJ13: 0 | GK13: 0 | GL13: 0 | GM13: 0 | GN13: 1 | GO13: 0 | GP13: 0 | GQ13: 0 | GR13: 0 | GS13: 0 | GT13: 0 | GU13: 0 | GV13: 0 | GW13: 0 | GX13: 0 | GY13: 0 | GZ13: 0 | HA13: 0 | HB13: 0 | HC13: 44 | HD13: 17 | HE13: 27 | HF13: 15 | HG13: 26 | HH13: 2 | HI13: 1 | HJ13: 0 | HK13: 0 | HL13: 0 | HM13: 0 | HN13: 0 | HO13: 0
A14: 臺南市 | B14: Tainan City | C14: 1380 | D14: 441 | E14: 939 | F14: 435 | G14: 851 | H14: 4 | I14: 39 | J14: 0 | K14: 49 | L14: 2 | M14: 0 | N14: 0 | O14: 0 | P14: 1330 | Q14: 429 | R14: 901 | S14: 423 | T14: 820 | U14: 4 | V14: 39 | W14: 0 | X14: 42 | Y14: 2 | Z14: 0 | AA14: 0 | AB14: 0 | AC14: 0 | AD14: 0 | AE14: 0 | AF14: 0 | AG14: 0 | AH14: 0 | AI14: 0 | AJ14: 0 | AK14: 0 | AL14: 0 | AM14: 0 | AN14: 0 | AO14: 0 | AP14: 0 | AQ14: 0 | AR14: 0 | AS14: 0 | AT14: 0 | AU14: 0 | AV14: 0 | AW14: 0 | AX14: 0 | AY14: 0 | AZ14: 0 | BA14: 0 | BB14: 0 | BC14: 1 | BD14: 0 | BE14: 1 | BF14: 0 | BG14: 1 | BH14: 0 | BI14: 0 | BJ14: 0 | BK14: 0 | BL14: 0 | BM14: 0 | BN14: 0 | BO14: 0 | BP14: 4 | BQ14: 1 | BR14: 3 | BS14: 1 | BT14: 3 | BU14: 0 | BV14: 0 | BW14: 0 | BX14: 0 | BY14: 0 | BZ14: 0 | CA14: 0 | CB14: 0 | CC14: 0 | CD14: 0 | CE14: 0 | CF14: 0 | CG14: 0 | CH14: 0 | CI14: 0 | CJ14: 0 | CK14: 0 | CL14: 0 | CM14: 0 | CN14: 0 | CO14: 0 | CP14: 6 | CQ14: 4 | CR14: 2 | CS14: 4 | CT14: 2 | CU14: 0 | CV14: 0 | CW14: 0 | CX14: 0 | CY14: 0 | CZ14: 0 | DA14: 0 | DB14: 0 | DC14: 7 | DD14: 1 | DE14: 6 | DF14: 1 | DG14: 6 | DH14: 0 | DI14: 0 | DJ14: 0 | DK14: 0 | DL14: 0 | DM14: 0 | DN14: 0 | DO14: 0 | DP14: 2 | DQ14: 0 | DR14: 2 | DS14: 0 | DT14: 2 | DU14: 0 | DV14: 0 | DW14: 0 | DX14: 0 | DY14: 0 | DZ14: 0 | EA14: 0 | EB14: 0 | EC14: 3 | ED14: 0 | EE14: 3 | EF14: 0 | EG14: 0 | EH14: 0 | EI14: 0 | EJ14: 0 | EK14: 3 | EL14: 0 | EM14: 0 | EN14: 0 | EO14: 0 | EP14: 0 | EQ14: 0 | ER14: 0 | ES14: 0 | ET14: 0 | EU14: 0 | EV14: 0 | EW14: 0 | EX14: 0 | EY14: 0 | EZ14: 0 | FA14: 0 | FB14: 0 | FC14: 1 | FD14: 0 | FE14: 1 | FF14: 0 | FG14: 0 | FH14: 0 | FI14: 0 | FJ14: 0 | FK14: 1 | FL14: 0 | FM14: 0 | FN14: 0 | FO14: 0 | FP14: 0 | FQ14: 0 | FR14: 0 | FS14: 0 | FT14: 0 | FU14: 0 | FV14: 0 | FW14: 0 | FX14: 0 | FY14: 0 | FZ14: 0 | GA14: 0 | GB14: 0 | GC14: 0 | GD14: 0 | GE14: 0 | GF14: 0 | GG14: 0 | GH14: 0 | GI14: 0 | GJ14: 0 | GK14: 0 | GL14: 0 | GM14: 0 | GN14: 0 | GO14: 0 | GP14: 0 | GQ14: 0 | GR14: 0 | GS14: 0 | GT14: 0 | GU14: 0 | GV14: 0 | GW14: 0 | GX14: 0 | GY14: 0 | GZ14: 0 | HA14: 0 | HB14: 0 | HC14: 26 | HD14: 6 | HE14: 20 | HF14: 6 | HG14: 17 | HH14: 0 | HI14: 0 | HJ14: 0 | HK14: 3 | HL14: 0 | HM14: 0 | HN14: 0 | HO14: 0
A15: 高雄市 | B15: Kaohsiung City | C15: 1985 | D15: 567 | E15: 1418 | F15: 533 | G15: 1251 | H15: 29 | I15: 130 | J15: 0 | K15: 0 | L15: 0 | M15: 17 | N15: 5 | O15: 20 | P15: 1909 | Q15: 547 | R15: 1362 | S15: 515 | T15: 1204 | U15: 29 | V15: 123 | W15: 0 | X15: 0 | Y15: 0 | Z15: 17 | AA15: 3 | AB15: 18 | AC15: 0 | AD15: 0 | AE15: 0 | AF15: 0 | AG15: 0 | AH15: 0 | AI15: 0 | AJ15: 0 | AK15: 0 | AL15: 0 | AM15: 0 | AN15: 0 | AO15: 0 | AP15: 0 | AQ15: 0 | AR15: 0 | AS15: 0 | AT15: 0 | AU15: 0 | AV15: 0 | AW15: 0 | AX15: 0 | AY15: 0 | AZ15: 0 | BA15: 0 | BB15: 0 | BC15: 0 | BD15: 0 | BE15: 0 | BF15: 0 | BG15: 0 | BH15: 0 | BI15: 0 | BJ15: 0 | BK15: 0 | BL15: 0 | BM15: 0 | BN15: 0 | BO15: 0 | BP15: 4 | BQ15: 0 | BR15: 4 | BS15: 0 | BT15: 3 | BU15: 0 | BV15: 1 | BW15: 0 | BX15: 0 | BY15: 0 | BZ15: 0 | CA15: 0 | CB15: 0 | CC15: 0 | CD15: 0 | CE15: 0 | CF15: 0 | CG15: 0 | CH15: 0 | CI15: 0 | CJ15: 0 | CK15: 0 | CL15: 0 | CM15: 0 | CN15: 0 | CO15: 0 | CP15: 2 | CQ15: 2 | CR15: 0 | CS15: 2 | CT15: 0 | CU15: 0 | CV15: 0 | CW15: 0 | CX15: 0 | CY15: 0 | CZ15: 0 | DA15: 0 | DB15: 0 | DC15: 10 | DD15: 2 | DE15: 8 | DF15: 2 | DG15: 6 | DH15: 0 | DI15: 2 | DJ15: 0 | DK15: 0 | DL15: 0 | DM15: 0 | DN15: 0 | DO15: 0 | DP15: 4 | DQ15: 0 | DR15: 4 | DS15: 0 | DT15: 4 | DU15: 0 | DV15: 0 | DW15: 0 | DX15: 0 | DY15: 0 | DZ15: 0 | EA15: 0 | EB15: 0 | EC15: 9 | ED15: 1 | EE15: 8 | EF15: 1 | EG15: 8 | EH15: 0 | EI15: 0 | EJ15: 0 | EK15: 0 | EL15: 0 | EM15: 0 | EN15: 0 | EO15: 0 | EP15: 0 | EQ15: 0 | ER15: 0 | ES15: 0 | ET15: 0 | EU15: 0 | EV15: 0 | EW15: 0 | EX15: 0 | EY15: 0 | EZ15: 0 | FA15: 0 | FB15: 0 | FC15: 0 | FD15: 0 | FE15: 0 | FF15: 0 | FG15: 0 | FH15: 0 | FI15: 0 | FJ15: 0 | FK15: 0 | FL15: 0 | FM15: 0 | FN15: 0 | FO15: 0 | FP15: 13 | FQ15: 4 | FR15: 9 | FS15: 4 | FT15: 9 | FU15: 0 | FV15: 0 | FW15: 0 | FX15: 0 | FY15: 0 | FZ15: 0 | GA15: 0 | GB15: 0 | GC15: 2 | GD15: 2 | GE15: 0 | GF15: 0 | GG15: 0 | GH15: 0 | GI15: 0 | GJ15: 0 | GK15: 0 | GL15: 0 | GM15: 0 | GN15: 2 | GO15: 0 | GP15: 0 | GQ15: 0 | GR15: 0 | GS15: 0 | GT15: 0 | GU15: 0 | GV15: 0 | GW15: 0 | GX15: 0 | GY15: 0 | GZ15: 0 | HA15: 0 | HB15: 0 | HC15: 32 | HD15: 9 | HE15: 23 | HF15: 9 | HG15: 17 | HH15: 0 | HI15: 4 | HJ15: 0 | HK15: 0 | HL15: 0 | HM15: 0 | HN15: 0 | HO15: 2
A16: 宜蘭縣 | B16: Yilan County | C16: 276 | D16: 44 | E16: 232 | F16: 27 | G16: 231 | H16: 17 | I16: 1 | J16: 0 | K16: 0 | L16: 0 | M16: 0 | N16: 0 | O16: 0 | P16: 238 | Q16: 43 | R16: 195 | S16: 26 | T16: 194 | U16: 17 | V16: 1 | W16: 0 | X16: 0 | Y16: 0 | Z16: 0 | AA16: 0 | AB16: 0 | AC16: 0 | AD16: 0 | AE16: 0 | AF16: 0 | AG16: 0 | AH16: 0 | AI16: 0 | AJ16: 0 | AK16: 0 | AL16: 0 | AM16: 0 | AN16: 0 | AO16: 0 | AP16: 0 | AQ16: 0 | AR16: 0 | AS16: 0 | AT16: 0 | AU16: 0 | AV16: 0 | AW16: 0 | AX16: 0 | AY16: 0 | AZ16: 0 | BA16: 0 | BB16: 0 | BC16: 2 | BD16: 0 | BE16: 2 | BF16: 0 | BG16: 2 | BH16: 0 | BI16: 0 | BJ16: 0 | BK16: 0 | BL16: 0 | BM16: 0 | BN16: 0 | BO16: 0 | BP16: 1 | BQ16: 1 | BR16: 0 | BS16: 1 | BT16: 0 | BU16: 0 | BV16: 0 | BW16: 0 | BX16: 0 | BY16: 0 | BZ16: 0 | CA16: 0 | CB16: 0 | CC16: 0 | CD16: 0 | CE16: 0 | CF16: 0 | CG16: 0 | CH16: 0 | CI16: 0 | CJ16: 0 | CK16: 0 | CL16: 0 | CM16: 0 | CN16: 0 | CO16: 0 | CP16: 0 | CQ16: 0 | CR16: 0 | CS16: 0 | CT16: 0 | CU16: 0 | CV16: 0 | CW16: 0 | CX16: 0 | CY16: 0 | CZ16: 0 | DA16: 0 | DB16: 0 | DC16: 0 | DD16: 0 | DE16: 0 | DF16: 0 | DG16: 0 | DH16: 0 | DI16: 0 | DJ16: 0 | DK16: 0 | DL16: 0 | DM16: 0 | DN16: 0 | DO16: 0 | DP16: 0 | DQ16: 0 | DR16: 0 | DS16: 0 | DT16: 0 | DU16: 0 | DV16: 0 | DW16: 0 | DX16: 0 | DY16: 0 | DZ16: 0 | EA16: 0 | EB16: 0 | EC16: 33 | ED16: 0 | EE16: 33 | EF16: 0 | EG16: 33 | EH16: 0 | EI16: 0 | EJ16: 0 | EK16: 0 | EL16: 0 | EM16: 0 | EN16: 0 | EO16: 0 | EP16: 0 | EQ16: 0 | ER16: 0 | ES16: 0 | ET16: 0 | EU16: 0 | EV16: 0 | EW16: 0 | EX16: 0 | EY16: 0 | EZ16: 0 | FA16: 0 | FB16: 0 | FC16: 0 | FD16: 0 | FE16: 0 | FF16: 0 | FG16: 0 | FH16: 0 | FI16: 0 | FJ16: 0 | FK16: 0 | FL16: 0 | FM16: 0 | FN16: 0 | FO16: 0 | FP16: 0 | FQ16: 0 | FR16: 0 | FS16: 0 | FT16: 0 | FU16: 0 | FV16: 0 | FW16: 0 | FX16: 0 | FY16: 0 | FZ16: 0 | GA16: 0 | GB16: 0 | GC16: 0 | GD16: 0 | GE16: 0 | GF16: 0 | GG16: 0 | GH16: 0 | GI16: 0 | GJ16: 0 | GK16: 0 | GL16: 0 | GM16: 0 | GN16: 0 | GO16: 0 | GP16: 0 | GQ16: 0 | GR16: 0 | GS16: 0 | GT16: 0 | GU16: 0 | GV16: 0 | GW16: 0 | GX16: 0 | GY16: 0 | GZ16: 0 | HA16: 0 | HB16: 0 | HC16: 2 | HD16: 0 | HE16: 2 | HF16: 0 | HG16: 2 | HH16: 0 | HI16: 0 | HJ16: 0 | HK16: 0 | HL16: 0 | HM16: 0 | HN16: 0 | HO16: 0
A17: 新竹縣 | B17: Hsinchu County | C17: 351 | D17: 117 | E17: 234 | F17: 85 | G17: 182 | H17: 5 | I17: 25 | J17: 0 | K17: 0 | L17: 0 | M17: 27 | N17: 27 | O17: 0 | P17: 345 | Q17: 114 | R17: 231 | S17: 82 | T17: 181 | U17: 5 | V17: 25 | W17: 0 | X17: 0 | Y17: 0 | Z17: 25 | AA17: 27 | AB17: 0 | AC17: 0 | AD17: 0 | AE17: 0 | AF17: 0 | AG17: 0 | AH17: 0 | AI17: 0 | AJ17: 0 | AK17: 0 | AL17: 0 | AM17: 0 | AN17: 0 | AO17: 0 | AP17: 0 | AQ17: 0 | AR17: 0 | AS17: 0 | AT17: 0 | AU17: 0 | AV17: 0 | AW17: 0 | AX17: 0 | AY17: 0 | AZ17: 0 | BA17: 0 | BB17: 0 | BC17: 1 | BD17: 1 | BE17: 0 | BF17: 1 | BG17: 0 | BH17: 0 | BI17: 0 | BJ17: 0 | BK17: 0 | BL17: 0 | BM17: 0 | BN17: 0 | BO17: 0 | BP17: 1 | BQ17: 0 | BR17: 1 | BS17: 0 | BT17: 0 | BU17: 0 | BV17: 0 | BW17: 0 | BX17: 0 | BY17: 0 | BZ17: 1 | CA17: 0 | CB17: 0 | CC17: 0 | CD17: 0 | CE17: 0 | CF17: 0 | CG17: 0 | CH17: 0 | CI17: 0 | CJ17: 0 | CK17: 0 | CL17: 0 | CM17: 0 | CN17: 0 | CO17: 0 | CP17: 1 | CQ17: 1 | CR17: 0 | CS17: 1 | CT17: 0 | CU17: 0 | CV17: 0 | CW17: 0 | CX17: 0 | CY17: 0 | CZ17: 0 | DA17: 0 | DB17: 0 | DC17: 1 | DD17: 0 | DE17: 1 | DF17: 0 | DG17: 0 | DH17: 0 | DI17: 0 | DJ17: 0 | DK17: 0 | DL17: 0 | DM17: 1 | DN17: 0 | DO17: 0 | DP17: 0 | DQ17: 0 | DR17: 0 | DS17: 0 | DT17: 0 | DU17: 0 | DV17: 0 | DW17: 0 | DX17: 0 | DY17: 0 | DZ17: 0 | EA17: 0 | EB17: 0 | EC17: 0 | ED17: 0 | EE17: 0 | EF17: 0 | EG17: 0 | EH17: 0 | EI17: 0 | EJ17: 0 | EK17: 0 | EL17: 0 | EM17: 0 | EN17: 0 | EO17: 0 | EP17: 0 | EQ17: 0 | ER17: 0 | ES17: 0 | ET17: 0 | EU17: 0 | EV17: 0 | EW17: 0 | EX17: 0 | EY17: 0 | EZ17: 0 | FA17: 0 | FB17: 0 | FC17: 0 | FD17: 0 | FE17: 0 | FF17: 0 | FG17: 0 | FH17: 0 | FI17: 0 | FJ17: 0 | FK17: 0 | FL17: 0 | FM17: 0 | FN17: 0 | FO17: 0 | FP17: 0 | FQ17: 0 | FR17: 0 | FS17: 0 | FT17: 0 | FU17: 0 | FV17: 0 | FW17: 0 | FX17: 0 | FY17: 0 | FZ17: 0 | GA17: 0 | GB17: 0 | GC17: 0 | GD17: 0 | GE17: 0 | GF17: 0 | GG17: 0 | GH17: 0 | GI17: 0 | GJ17: 0 | GK17: 0 | GL17: 0 | GM17: 0 | GN17: 0 | GO17: 0 | GP17: 0 | GQ17: 0 | GR17: 0 | GS17: 0 | GT17: 0 | GU17: 0 | GV17: 0 | GW17: 0 | GX17: 0 | GY17: 0 | GZ17: 0 | HA17: 0 | HB17: 0 | HC17: 2 | HD17: 1 | HE17: 1 | HF17: 1 | HG17: 1 | HH17: 0 | HI17: 0 | HJ17: 0 | HK17: 0 | HL17: 0 | HM17: 0 | HN17: 0 | HO17: 0
A18: 苗栗縣 | B18: Miaoli County | C18: 170 | D18: 53 | E18: 117 | F18: 27 | G18: 111 | H18: 5 | I18: 6 | J18: 0 | K18: 0 | L18: 0 | M18: 0 | N18: 21 | O18: 0 | P18: 152 | Q18: 40 | R18: 112 | S18: 25 | T18: 106 | U18: 5 | V18: 6 | W18: 0 | X18: 0 | Y18: 0 | Z18: 0 | AA18: 10 | AB18: 0 | AC18: 0 | AD18: 0 | AE18: 0 | AF18: 0 | AG18: 0 | AH18: 0 | AI18: 0 | AJ18: 0 | AK18: 0 | AL18: 0 | AM18: 0 | AN18: 0 | AO18: 0 | AP18: 0 | AQ18: 0 | AR18: 0 | AS18: 0 | AT18: 0 | AU18: 0 | AV18: 0 | AW18: 0 | AX18: 0 | AY18: 0 | AZ18: 0 | BA18: 0 | BB18: 0 | BC18: 0 | BD18: 0 | BE18: 0 | BF18: 0 | BG18: 0 | BH18: 0 | BI18: 0 | BJ18: 0 | BK18: 0 | BL18: 0 | BM18: 0 | BN18: 0 | BO18: 0 | BP18: 1 | BQ18: 0 | BR18: 1 | BS18: 0 | BT18: 1 | BU18: 0 | BV18: 0 | BW18: 0 | BX18: 0 | BY18: 0 | BZ18: 0 | CA18: 0 | CB18: 0 | CC18: 0 | CD18: 0 | CE18: 0 | CF18: 0 | CG18: 0 | CH18: 0 | CI18: 0 | CJ18: 0 | CK18: 0 | CL18: 0 | CM18: 0 | CN18: 0 | CO18: 0 | CP18: 7 | CQ18: 7 | CR18: 0 | CS18: 0 | CT18: 0 | CU18: 0 | CV18: 0 | CW18: 0 | CX18: 0 | CY18: 0 | CZ18: 0 | DA18: 7 | DB18: 0 | DC18: 7 | DD18: 3 | DE18: 4 | DF18: 0 | DG18: 4 | DH18: 0 | DI18: 0 | DJ18: 0 | DK18: 0 | DL18: 0 | DM18: 0 | DN18: 3 | DO18: 0 | DP18: 0 | DQ18: 0 | DR18: 0 | DS18: 0 | DT18: 0 | DU18: 0 | DV18: 0 | DW18: 0 | DX18: 0 | DY18: 0 | DZ18: 0 | EA18: 0 | EB18: 0 | EC18: 2 | ED18: 2 | EE18: 0 | EF18: 1 | EG18: 0 | EH18: 0 | EI18: 0 | EJ18: 0 | EK18: 0 | EL18: 0 | EM18: 0 | EN18: 1 | EO18: 0 | EP18: 0 | EQ18: 0 | ER18: 0 | ES18: 0 | ET18: 0 | EU18: 0 | EV18: 0 | EW18: 0 | EX18: 0 | EY18: 0 | EZ18: 0 | FA18: 0 | FB18: 0 | FC18: 0 | FD18: 0 | FE18: 0 | FF18: 0 | FG18: 0 | FH18: 0 | FI18: 0 | FJ18: 0 | FK18: 0 | FL18: 0 | FM18: 0 | FN18: 0 | FO18: 0 | FP18: 0 | FQ18: 0 | FR18: 0 | FS18: 0 | FT18: 0 | FU18: 0 | FV18: 0 | FW18: 0 | FX18: 0 | FY18: 0 | FZ18: 0 | GA18: 0 | GB18: 0 | GC18: 0 | GD18: 0 | GE18: 0 | GF18: 0 | GG18: 0 | GH18: 0 | GI18: 0 | GJ18: 0 | GK18: 0 | GL18: 0 | GM18: 0 | GN18: 0 | GO18: 0 | GP18: 0 | GQ18: 0 | GR18: 0 | GS18: 0 | GT18: 0 | GU18: 0 | GV18: 0 | GW18: 0 | GX18: 0 | GY18: 0 | GZ18: 0 | HA18: 0 | HB18: 0 | HC18: 1 | HD18: 1 | HE18: 0 | HF18: 1 | HG18: 0 | HH18: 0 | HI18: 0 | HJ18: 0 | HK18: 0 | HL18: 0 | HM18: 0 | HN18: 0 | HO18: 0
A19: 彰化縣 | B19: Changhua County | C19: 387 | D19: 171 | E19: 216 | F19: 90 | G19: 209 | H19: 81 | I19: 7 | J19: 0 | K19: 0 | L19: 0 | M19: 0 | N19: 0 | O19: 0 | P19: 370 | Q19: 161 | R19: 209 | S19: 88 | T19: 202 | U19: 73 | V19: 7 | W19: 0 | X19: 0 | Y19: 0 | Z19: 0 | AA19: 0 | AB19: 0 | AC19: 1 | AD19: 0 | AE19: 1 | AF19: 0 | AG19: 1 | AH19: 0 | AI19: 0 | AJ19: 0 | AK19: 0 | AL19: 0 | AM19: 0 | AN19: 0 | AO19: 0 | AP19: 0 | AQ19: 0 | AR19: 0 | AS19: 0 | AT19: 0 | AU19: 0 | AV19: 0 | AW19: 0 | AX19: 0 | AY19: 0 | AZ19: 0 | BA19: 0 | BB19: 0 | BC19: 0 | BD19: 0 | BE19: 0 | BF19: 0 | BG19: 0 | BH19: 0 | BI19: 0 | BJ19: 0 | BK19: 0 | BL19: 0 | BM19: 0 | BN19: 0 | BO19: 0 | BP19: 0 | BQ19: 0 | BR19: 0 | BS19: 0 | BT19: 0 | BU19: 0 | BV19: 0 | BW19: 0 | BX19: 0 | BY19: 0 | BZ19: 0 | CA19: 0 | CB19: 0 | CC19: 1 | CD19: 1 | CE19: 0 | CF19: 0 | CG19: 0 | CH19: 1 | CI19: 0 | CJ19: 0 | CK19: 0 | CL19: 0 | CM19: 0 | CN19: 0 | CO19: 0 | CP19: 0 | CQ19: 0 | CR19: 0 | CS19: 0 | CT19: 0 | CU19: 0 | CV19: 0 | CW19: 0 | CX19: 0 | CY19: 0 | CZ19: 0 | DA19: 0 | DB19: 0 | DC19: 0 | DD19: 0 | DE19: 0 | DF19: 0 | DG19: 0 | DH19: 0 | DI19: 0 | DJ19: 0 | DK19: 0 | DL19: 0 | DM19: 0 | DN19: 0 | DO19: 0 | DP19: 4 | DQ19: 4 | DR19: 0 | DS19: 0 | DT19: 0 | DU19: 4 | DV19: 0 | DW19: 0 | DX19: 0 | DY19: 0 | DZ19: 0 | EA19: 0 | EB19: 0 | EC19: 0 | ED19: 0 | EE19: 0 | EF19: 0 | EG19: 0 | EH19: 0 | EI19: 0 | EJ19: 0 | EK19: 0 | EL19: 0 | EM19: 0 | EN19: 0 | EO19: 0 | EP19: 0 | EQ19: 0 | ER19: 0 | ES19: 0 | ET19: 0 | EU19: 0 | EV19: 0 | EW19: 0 | EX19: 0 | EY19: 0 | EZ19: 0 | FA19: 0 | FB19: 0 | FC19: 0 | FD19: 0 | FE19: 0 | FF19: 0 | FG19: 0 | FH19: 0 | FI19: 0 | FJ19: 0 | FK19: 0 | FL19: 0 | FM19: 0 | FN19: 0 | FO19: 0 | FP19: 1 | FQ19: 1 | FR19: 0 | FS19: 0 | FT19: 0 | FU19: 1 | FV19: 0 | FW19: 0 | FX19: 0 | FY19: 0 | FZ19: 0 | GA19: 0 | GB19: 0 | GC19: 1 | GD19: 1 | GE19: 0 | GF19: 0 | GG19: 0 | GH19: 1 | GI19: 0 | GJ19: 0 | GK19: 0 | GL19: 0 | GM19: 0 | GN19: 0 | GO19: 0 | GP19: 0 | GQ19: 0 | GR19: 0 | GS19: 0 | GT19: 0 | GU19: 0 | GV19: 0 | GW19: 0 | GX19: 0 | GY19: 0 | GZ19: 0 | HA19: 0 | HB19: 0 | HC19: 9 | HD19: 3 | HE19: 6 | HF19: 2 | HG19: 6 | HH19: 1 | HI19: 0 | HJ19: 0 | HK19: 0 | HL19: 0 | HM19: 0 | HN19: 0 | HO19: 0
A20: 南投縣 | B20: Nantou County | C20: 164 | D20: 23 | E20: 141 | F20: 8 | G20: 67 | H20: 15 | I20: 74 | J20: 0 | K20: 0 | L20: 0 | M20: 0 | N20: 0 | O20: 0 | P20: 153 | Q20: 23 | R20: 130 | S20: 8 | T20: 63 | U20: 15 | V20: 67 | W20: 0 | X20: 0 | Y20: 0 | Z20: 0 | AA20: 0 | AB20: 0 | AC20: 0 | AD20: 0 | AE20: 0 | AF20: 0 | AG20: 0 | AH20: 0 | AI20: 0 | AJ20: 0 | AK20: 0 | AL20: 0 | AM20: 0 | AN20: 0 | AO20: 0 | AP20: 0 | AQ20: 0 | AR20: 0 | AS20: 0 | AT20: 0 | AU20: 0 | AV20: 0 | AW20: 0 | AX20: 0 | AY20: 0 | AZ20: 0 | BA20: 0 | BB20: 0 | BC20: 0 | BD20: 0 | BE20: 0 | BF20: 0 | BG20: 0 | BH20: 0 | BI20: 0 | BJ20: 0 | BK20: 0 | BL20: 0 | BM20: 0 | BN20: 0 | BO20: 0 | BP20: 0 | BQ20: 0 | BR20: 0 | BS20: 0 | BT20: 0 | BU20: 0 | BV20: 0 | BW20: 0 | BX20: 0 | BY20: 0 | BZ20: 0 | CA20: 0 | CB20: 0 | CC20: 0 | CD20: 0 | CE20: 0 | CF20: 0 | CG20: 0 | CH20: 0 | CI20: 0 | CJ20: 0 | CK20: 0 | CL20: 0 | CM20: 0 | CN20: 0 | CO20: 0 | CP20: 0 | CQ20: 0 | CR20: 0 | CS20: 0 | CT20: 0 | CU20: 0 | CV20: 0 | CW20: 0 | CX20: 0 | CY20: 0 | CZ20: 0 | DA20: 0 | DB20: 0 | DC20: 0 | DD20: 0 | DE20: 0 | DF20: 0 | DG20: 0 | DH20: 0 | DI20: 0 | DJ20: 0 | DK20: 0 | DL20: 0 | DM20: 0 | DN20: 0 | DO20: 0 | DP20: 3 | DQ20: 0 | DR20: 3 | DS20: 0 | DT20: 0 | DU20: 0 | DV20: 3 | DW20: 0 | DX20: 0 | DY20: 0 | DZ20: 0 | EA20: 0 | EB20: 0 | EC20: 0 | ED20: 0 | EE20: 0 | EF20: 0 | EG20: 0 | EH20: 0 | EI20: 0 | EJ20: 0 | EK20: 0 | EL20: 0 | EM20: 0 | EN20: 0 | EO20: 0 | EP20: 0 | EQ20: 0 | ER20: 0 | ES20: 0 | ET20: 0 | EU20: 0 | EV20: 0 | EW20: 0 | EX20: 0 | EY20: 0 | EZ20: 0 | FA20: 0 | FB20: 0 | FC20: 0 | FD20: 0 | FE20: 0 | FF20: 0 | FG20: 0 | FH20: 0 | FI20: 0 | FJ20: 0 | FK20: 0 | FL20: 0 | FM20: 0 | FN20: 0 | FO20: 0 | FP20: 3 | FQ20: 0 | FR20: 3 | FS20: 0 | FT20: 0 | FU20: 0 | FV20: 3 | FW20: 0 | FX20: 0 | FY20: 0 | FZ20: 0 | GA20: 0 | GB20: 0 | GC20: 2 | GD20: 0 | GE20: 2 | GF20: 0 | GG20: 2 | GH20: 0 | GI20: 0 | GJ20: 0 | GK20: 0 | GL20: 0 | GM20: 0 | GN20: 0 | GO20: 0 | GP20: 0 | GQ20: 0 | GR20: 0 | GS20: 0 | GT20: 0 | GU20: 0 | GV20: 0 | GW20: 0 | GX20: 0 | GY20: 0 | GZ20: 0 | HA20: 0 | HB20: 0 | HC20: 3 | HD20: 0 | HE20: 3 | HF20: 0 | HG20: 2 | HH20: 0 | HI20: 1 | HJ20: 0 | HK20: 0 | HL20: 0 | HM20: 0 | HN20: 0 | HO20: 0
A21: 雲林縣 | B21: Yunlin County | C21: 254 | D21: 77 | E21: 177 | F21: 65 | G21: 165 | H21: 0 | I21: 0 | J21: 0 | K21: 0 | L21: 1 | M21: 0 | N21: 11 | O21: 12 | P21: 232 | Q21: 72 | R21: 160 | S21: 62 | T21: 151 | U21: 0 | V21: 0 | W21: 0 | X21: 0 | Y21: 1 | Z21: 0 | AA21: 9 | AB21: 9 | AC21: 0 | AD21: 0 | AE21: 0 | AF21: 0 | AG21: 0 | AH21: 0 | AI21: 0 | AJ21: 0 | AK21: 0 | AL21: 0 | AM21: 0 | AN21: 0 | AO21: 0 | AP21: 0 | AQ21: 0 | AR21: 0 | AS21: 0 | AT21: 0 | AU21: 0 | AV21: 0 | AW21: 0 | AX21: 0 | AY21: 0 | AZ21: 0 | BA21: 0 | BB21: 0 | BC21: 0 | BD21: 0 | BE21: 0 | BF21: 0 | BG21: 0 | BH21: 0 | BI21: 0 | BJ21: 0 | BK21: 0 | BL21: 0 | BM21: 0 | BN21: 0 | BO21: 0 | BP21: 6 | BQ21: 2 | BR21: 4 | BS21: 1 | BT21: 3 | BU21: 0 | BV21: 0 | BW21: 0 | BX21: 0 | BY21: 0 | BZ21: 0 | CA21: 1 | CB21: 1 | CC21: 0 | CD21: 0 | CE21: 0 | CF21: 0 | CG21: 0 | CH21: 0 | CI21: 0 | CJ21: 0 | CK21: 0 | CL21: 0 | CM21: 0 | CN21: 0 | CO21: 0 | CP21: 0 | CQ21: 0 | CR21: 0 | CS21: 0 | CT21: 0 | CU21: 0 | CV21: 0 | CW21: 0 | CX21: 0 | CY21: 0 | CZ21: 0 | DA21: 0 | DB21: 0 | DC21: 4 | DD21: 0 | DE21: 4 | DF21: 0 | DG21: 4 | DH21: 0 | DI21: 0 | DJ21: 0 | DK21: 0 | DL21: 0 | DM21: 0 | DN21: 0 | DO21: 0 | DP21: 0 | DQ21: 0 | DR21: 0 | DS21: 0 | DT21: 0 | DU21: 0 | DV21: 0 | DW21: 0 | DX21: 0 | DY21: 0 | DZ21: 0 | EA21: 0 | EB21: 0 | EC21: 0 | ED21: 0 | EE21: 0 | EF21: 0 | EG21: 0 | EH21: 0 | EI21: 0 | EJ21: 0 | EK21: 0 | EL21: 0 | EM21: 0 | EN21: 0 | EO21: 0 | EP21: 0 | EQ21: 0 | ER21: 0 | ES21: 0 | ET21: 0 | EU21: 0 | EV21: 0 | EW21: 0 | EX21: 0 | EY21: 0 | EZ21: 0 | FA21: 0 | FB21: 0 | FC21: 0 | FD21: 0 | FE21: 0 | FF21: 0 | FG21: 0 | FH21: 0 | FI21: 0 | FJ21: 0 | FK21: 0 | FL21: 0 | FM21: 0 | FN21: 0 | FO21: 0 | FP21: 0 | FQ21: 0 | FR21: 0 | FS21: 0 | FT21: 0 | FU21: 0 | FV21: 0 | FW21: 0 | FX21: 0 | FY21: 0 | FZ21: 0 | GA21: 0 | GB21: 0 | GC21: 1 | GD21: 0 | GE21: 1 | GF21: 0 | GG21: 1 | GH21: 0 | GI21: 0 | GJ21: 0 | GK21: 0 | GL21: 0 | GM21: 0 | GN21: 0 | GO21: 0 | GP21: 0 | GQ21: 0 | GR21: 0 | GS21: 0 | GT21: 0 | GU21: 0 | GV21: 0 | GW21: 0 | GX21: 0 | GY21: 0 | GZ21: 0 | HA21: 0 | HB21: 0 | HC21: 11 | HD21: 3 | HE21: 8 | HF21: 2 | HG21: 6 | HH21: 0 | HI21: 0 | HJ21: 0 | HK21: 0 | HL21: 0 | HM21: 0 | HN21: 1 | HO21: 2
... A31: 連江縣 | B31: Lienchiang County | C31: 0 | D31: 0 | E31: 0 | F31: 0 | G31: 0 | H31: 0 | I31: 0 | J31: 0 | K31: 0 | L31: 0 | M31: 0 | N31: 0 | O31: 0 | P31: 0 | Q31: 0 | R31: 0 | S31: 0 | T31: 0 | U31: 0 | V31: 0 | W31: 0 | X31: 0 | Y31: 0 | Z31: 0 | AA31: 0 | AB31: 0 | AC31: 0 | AD31: 0 | AE31: 0 | AF31: 0 | AG31: 0 | AH31: 0 | AI31: 0 | AJ31: 0 | AK31: 0 | AL31: 0 | AM31: 0 | AN31: 0 | AO31: 0 | AP31: 0 | AQ31: 0 | AR31: 0 | AS31: 0 | AT31: 0 | AU31: 0 | AV31: 0 | AW31: 0 | AX31: 0 | AY31: 0 | AZ31: 0 | BA31: 0 | BB31: 0 | BC31: 0 | BD31: 0 | BE31: 0 | BF31: 0 | BG31: 0 | BH31: 0 | BI31: 0 | BJ31: 0 | BK31: 0 | BL31: 0 | BM31: 0 | BN31: 0 | BO31: 0 | BP31: 0 | BQ31: 0 | BR31: 0 | BS31: 0 | BT31: 0 | BU31: 0 | BV31: 0 | BW31: 0 | BX31: 0 | BY31: 0 | BZ31: 0 | CA31: 0 | CB31: 0 | CC31: 0 | CD31: 0 | CE31: 0 | CF31: 0 | CG31: 0 | CH31: 0 | CI31: 0 | CJ31: 0 | CK31: 0 | CL31: 0 | CM31: 0 | CN31: 0 | CO31: 0 | CP31: 0 | CQ31: 0 | CR31: 0 | CS31: 0 | CT31: 0 | CU31: 0 | CV31: 0 | CW31: 0 | CX31: 0 | CY31: 0 | CZ31: 0 | DA31: 0 | DB31: 0 | DC31: 0 | DD31: 0 | DE31: 0 | DF31: 0 | DG31: 0 | DH31: 0 | DI31: 0 | DJ31: 0 | DK31: 0 | DL31: 0 | DM31: 0 | DN31: 0 | DO31: 0 | DP31: 0 | DQ31: 0 | DR31: 0 | DS31: 0 | DT31: 0 | DU31: 0 | DV31: 0 | DW31: 0 | DX31: 0 | DY31: 0 | DZ31: 0 | EA31: 0 | EB31: 0 | EC31: 0 | ED31: 0 | EE31: 0 | EF31: 0 | EG31: 0 | EH31: 0 | EI31: 0 | EJ31: 0 | EK31: 0 | EL31: 0 | EM31: 0 | EN31: 0 | EO31: 0 | EP31: 0 | EQ31: 0 | ER31: 0 | ES31: 0 | ET31: 0 | EU31: 0 | EV31: 0 | EW31: 0 | EX31: 0 | EY31: 0 | EZ31: 0 | FA31: 0 | FB31: 0 | FC31: 0 | FD31: 0 | FE31: 0 | FF31: 0 | FG31: 0 | FH31: 0 | FI31: 0 | FJ31: 0 | FK31: 0 | FL31: 0 | FM31: 0 | FN31: 0 | FO31: 0 | FP31: 0 | FQ31: 0 | FR31: 0 | FS31: 0 | FT31: 0 | FU31: 0 | FV31: 0 | FW31: 0 | FX31: 0 | FY31: 0 | FZ31: 0 | GA31: 0 | GB31: 0 | GC31: 0 | GD31: 0 | GE31: 0 | GF31: 0 | GG31: 0 | GH31: 0 | GI31: 0 | GJ31: 0 | GK31: 0 | GL31: 0 | GM31: 0 | GN31: 0 | GO31: 0 | GP31: 0 | GQ31: 0 | GR31: 0 | GS31: 0 | GT31: 0 | GU31: 0 | GV31: 0 | GW31: 0 | GX31: 0 | GY31: 0 | GZ31: 0 | HA31: 0 | HB31: 0 | HC31: 0 | HD31: 0 | HE31: 0 | HF31: 0 | HG31: 0 | HH31: 0 | HI31: 0 | HJ31: 0 | HK31: 0 | HL31: 0 | HM31: 0 | HN31: 0 | HO31: 0
A32: 資料來源：直轄市、縣﹝市﹞政府。

Sheet 2022
A1: 同性親密關係暴力被害人保護扶助人次
A2: 中華民國111年,2022
A3: 單位：人次
A4: 區域別 Locality | C4: 總計Total | P4: 諮詢協談Consultation | AC4: 庇護安置Providing Shelter | AP4: 庇護安置Providing Shelter | BC4: 陪同報案偵詢（訊）Accompanied Interrogation | BP4: 陪同出庭Accompanied Present in Court | CC4: 驗傷診療Medical Examinations and Treatments | CP4: 聲請保護令Petition for Civil Protection Orders | DC4: 法律扶助Legal Aid | DP4: 經濟扶助Economic Support | EC4: 心理諮商與輔導Psychological Counseling | EP4: 就業服務Employment Service | FC4: 就學或轉學服務Education or School Transfer Service | FP4: 轉介/提供目睹暴力服務Referral/Witness Services | GC4: 子女問題協助Assistance in Children's Problems | GP4: 通譯服務Interpret Service | HC4: 其他扶助Others
AC5: 被害人Victim | AP5: 隨行子女Accompanying Children
C6: 合計Total | F6: 本國籍非原住民 Non-aboriginal Native | H6: 本國籍原住民 Aboriginal Native | J6: 大陸籍(含港澳) Mainland China (Hong Kong and Macau Included) | L6: 外國籍 Foreign | N6: 其他 Others | P6: 合計Total | S6: 本國籍非原住民 Non-aboriginal Native | U6: 本國籍原住民 Aboriginal Native | W6: 大陸籍(含港澳) Mainland China (Hong Kong and Macau Included) | Y6: 外國籍 Foreign | AA6: 其他 Others | AC6: 合計Total | AF6: 本國籍非原住民 Non-aboriginal Native | AH6: 本國籍原住民 Aboriginal Native | AJ6: 大陸籍(含港澳) Mainland China (Hong Kong and Macau Included) | AL6: 外國籍 Foreign | AN6: 其他 Others | AP6: 合計Total | AS6: 本國籍非原住民 Non-aboriginal Native | AU6: 本國籍原住民 Aboriginal Native | AW6: 大陸籍(含港澳) Mainland China (Hong Kong and Macau Included) | AY6: 外國籍 Foreign | BA6: 其他 Others | BC6: 合計Total | BF6: 本國籍非原住民 Non-aboriginal Native | BH6: 本國籍原住民 Aboriginal Native | BJ6: 大陸籍(含港澳) Mainland China (Hong Kong and Macau Included) | BL6: 外國籍 Foreign | BN6: 其他 Others | BP6: 合計Total | BS6: 本國籍非原住民 Non-aboriginal Native | BU6: 本國籍原住民 Aboriginal Native | BW6: 大陸籍(含港澳) Mainland China (Hong Kong and Macau Included) | BY6: 外國籍 Foreign | CA6: 其他 Others | CC6: 合計Total | CF6: 本國籍非原住民 Non-aboriginal Native | CH6: 本國籍原住民 Aboriginal Native | CJ6: 大陸籍(含港澳) Mainland China (Hong Kong and Macau Included) | CL6: 外國籍 Foreign | CN6: 其他 Others | CP6: 合計Total | CS6: 本國籍非原住民 Non-aboriginal Native | CU6: 本國籍原住民 Aboriginal Native | CW6: 大陸籍(含港澳) Mainland China (Hong Kong and Macau Included) | CY6: 外國籍 Foreign | DA6: 其他 Others | DC6: 合計Total | DF6: 本國籍非原住民 Non-aboriginal Native | DH6: 本國籍原住民 Aboriginal Native | DJ6: 大陸籍(含港澳) Mainland China (Hong Kong and Macau Included) | DL6: 外國籍 Foreign | DN6: 其他 Others | DP6: 合計Total | DS6: 本國籍非原住民 Non-aboriginal Native | DU6: 本國籍原住民 Aboriginal Native | DW6: 大陸籍(含港澳) Mainland China (Hong Kong and Macau Included) | DY6: 外國籍 Foreign | EA6: 其他 Others | EC6: 合計Total | EF6: 本國籍非原住民 Non-aboriginal Native | EH6: 本國籍原住民 Aboriginal Native | EJ6: 大陸籍(含港澳) Mainland China (Hong Kong and Macau Included) | EL6: 外國籍 Foreign | EN6: 其他 Others | EP6: 合計Total | ES6: 本國籍非原住民 Non-aboriginal Native | EU6: 本國籍原住民 Aboriginal Native | EW6: 大陸籍(含港澳) Mainland China (Hong Kong and Macau Included) | EY6: 外國籍 Foreign | FA6: 其他 Others | FC6: 合計Total | FF6: 本國籍非原住民 Non-aboriginal Native | FH6: 本國籍原住民 Aboriginal Native | FJ6: 大陸籍(含港澳) Mainland China (Hong Kong and Macau Included) | FL6: 外國籍 Foreign | FN6: 其他 Others | FP6: 合計Total | FS6: 本國籍非原住民 Non-aboriginal Native | FU6: 本國籍原住民 Aboriginal Native | FW6: 大陸籍(含港澳) Mainland China (Hong Kong and Macau Included) | FY6: 外國籍 Foreign | GA6: 其他 Others | GC6: 合計Total | GF6: 本國籍非原住民 Non-aboriginal Native | GH6: 本國籍原住民 Aboriginal Native | GJ6: 大陸籍(含港澳) Mainland China (Hong Kong and Macau Included) | GL6: 外國籍 Foreign | GN6: 其他 Others | GP6: 合計Total | GS6: 本國籍非原住民 Non-aboriginal Native | GU6: 本國籍原住民 Aboriginal Native | GW6: 大陸籍(含港澳) Mainland China (Hong Kong and Macau Included) | GY6: 外國籍 Foreign | HA6: 其他 Others | HC6: 合計Total | HF6: 本國籍非原住民 Non-aboriginal Native | HH6: 本國籍原住民 Aboriginal Native | HJ6: 大陸籍(含港澳) Mainland China (Hong Kong and Macau Included) | HL6: 外國籍 Foreign | HN6: 其他 Others
