Workbook
Name pp: !#REF!
Name pp: !#REF!
Name pp: !#REF!
Name pp: !#REF!
Name pp: !#REF!
Name pp: !#REF!
Name ppp: !#REF!
Name ppp: !#REF!
Name ppp: !#REF!
Name ppp: '2020'!$B$1:$AA$8
Name ppp: '歷年_(原)'!$B$1:$AA$7
Name ppp: !#REF!
Name 低收: !#REF!
Name 低收: !#REF!
Name 低收: !#REF!
Name 低收: !#REF!
Name 低收: !#REF!
Name 低收: !#REF!

Sheet 歷年統計
A1: 同性親密關係暴力被害人保護扶助人次
A2: 單位：人次
A3: 年 別 Year | C3: 115年上半年 2026年上半年 | P3: 114年 2025 | AC3: 113年 2024 | AP3: 112年 2023 | BC3: 111年 2022 | BP3: 110年 2021 | CC3: 109年 2020
C4: 合計Total | F4: 本國籍非原住民 Non-aboriginal Native | H4: 本國籍原住民 Aboriginal Native | J4: 大陸籍(含港澳) Mainland China (Hong Kong and Macau Included) | L4: 外國籍 Foreign | N4: 其他 Others | P4: 合計Total | S4: 本國籍非原住民 Non-aboriginal Native | U4: 本國籍原住民 Aboriginal Native | W4: 大陸籍(含港澳) Mainland China (Hong Kong and Macau Included) | Y4: 外國籍 Foreign | AA4: 其他 Others | AC4: 合計Total | AF4: 本國籍非原住民 Non-aboriginal Native | AH4: 本國籍原住民 Aboriginal Native | AJ4: 大陸籍(含港澳) Mainland China (Hong Kong and Macau Included) | AL4: 外國籍 Foreign | AN4: 其他 Others | AP4: 合計Total | AS4: 本國籍非原住民 Non-aboriginal Native | AU4: 本國籍原住民 Aboriginal Native | AW4: 大陸籍(含港澳) Mainland China (Hong Kong and Macau Included) | AY4: 外國籍 Foreign | BA4: 其他 Others | BC4: 合計Total | BF4: 本國籍非原住民 Non-aboriginal Native | BH4: 本國籍原住民 Aboriginal Native | BJ4: 大陸籍(含港澳) Mainland China (Hong Kong and Macau Included) | BL4: 外國籍 Foreign | BN4: 其他 Others | BP4: 合計Total | BS4: 本國籍非原住民 Non-aboriginal Native | BU4: 本國籍原住民 Aboriginal Native | BW4: 大陸籍(含港澳) Mainland China (Hong Kong and Macau Included) | BY4: 外國籍 Foreign | CA4: 其他 Others | CC4: 合計Total | CF4: 本國籍非原住民 Non-aboriginal Native | CH4: 本國籍原住民 Aboriginal Native | CJ4: 大陸籍(含港澳) Mainland China (Hong Kong and Macau Included) | CL4: 外國籍 Foreign | CN4: 其他 Others
C6: 計 Total | D6: 男 Male | E6: 女 Female | F6: 男 Male | G6: 女 Female | H6: 男 Male | I6: 女 Female | J6: 男 Male | K6: 女 Female | L6: 男 Male | M6: 女 Female | N6: 男 Male | O6: 女 Female | P6: 計 Total | Q6: 男 Male | R6: 女 Female | S6: 男 Male | T6: 女 Female | U6: 男 Male | V6: 女 Female | W6: 男 Male | X6: 女 Female | Y6: 男 Male | Z6: 女 Female | AA6: 男 Male | AB6: 女 Female | AC6: 計 Total | AD6: 男 Male | AE6: 女 Female | AF6: 男 Male | AG6: 女 Female | AH6: 男 Male | AI6: 女 Female | AJ6: 男 Male | AK6: 女 Female | AL6: 男 Male | AM6: 女 Female | AN6: 男 Male | AO6: 女 Female | AP6: 計 Total | AQ6: 男 Male | AR6: 女 Female | AS6: 男 Male | AT6: 女 Female | AU6: 男 Male | AV6: 女 Female | AW6: 男 Male | AX6: 女 Female | AY6: 男 Male | AZ6: 女 Female | BA6: 男 Male | BB6: 女 Female | BC6: 計 Total | BD6: 男 Male | BE6: 女 Female | BF6: 男 Male | BG6: 女 Female | BH6: 男 Male | BI6: 女 Female | BJ6: 男 Male | BK6: 女 Female | BL6: 男 Male | BM6: 女 Female | BN6: 男 Male | BO6: 女 Female | BP6: 計 Total | BQ6: 男 Male | BR6: 女 Female | BS6: 男 Male | BT6: 女 Female | BU6: 男 Male | BV6: 女 Female | BW6: 男 Male | BX6: 女 Female | BY6: 男 Male | BZ6: 女 Female | CA6: 男 Male | CB6: 女 Female | CC6: 計 Total | CD6: 男 Male | CE6: 女 Female | CF6: 男 Male | CG6: 女 Female | CH6: 男 Male | CI6: 女 Female | CJ6: 男 Male | CK6: 女 Female | CL6: 男 Male | CM6: 女 Female | CN6: 男 Male | CO6: 女 Female
A7: 總計Total | C7: 9080 | D7: 3472 | E7: 5608 | F7: 3011 | G7: 4364 | H7: 191 | I7: 909 | J7: 6 | K7: 103 | L7: 190 | M7: 91 | N7: 74 | O7: 141 | P7: 19401 | Q7: 7620 | R7: 11781 | S7: 6311 | T7: 9938 | U7: 637 | V7: 1364 | W7: 29 | X7: 43 | Y7: 281 | Z7: 98 | AA7: 362 | AB7: 338 | AC7: 18458 | AD7: 6439 | AE7: 12019 | AF7: 5755 | AG7: 10260 | AH7: 474 | AI7: 1169 | AJ7: 2 | AK7: 186 | AL7: 45 | AM7: 190 | AN7: 163 | AO7: 214 | AP7: =SUM(AP8:AP23) -> 15811 | AQ7: =SUM(AQ8:AQ23) -> 5400 | AR7: =SUM(AR8:AR23) -> 10411 | AS7: =SUM(AS8:AS23) -> 4576 | AT7: =SUM(AT8:AT23) -> 8769 | AU7: =SUM(AU8:AU23) -> 501 | AV7: =SUM(AV8:AV23) -> 1065 | AW7: =SUM(AW8:AW23) -> 5 | ... BB7: =SUM(BB8:BB23) -> 262 | BC7: 12819 | BD7: 4141 | BE7: 8678 | BF7: 3530 | BG7: 7699 | BH7: 322 | BI7: 604 | BJ7: 4 | BK7: 94 | BL7: 74 | BM7: 72 | BN7: 211 | BO7: 209 | BP7: 11027 | BQ7: 4377 | BR7: 6650 | BS7: 3782 | BT7: 5810 | BU7: 343 | BV7: 549 | BW7: 9 | BX7: 57 | BY7: 54 | BZ7: 51 | CA7: 189 | CB7: 183 | CC7: 10098 | CD7: 4376 | CE7: 5722 | CF7: 3661 | CG7: 4935 | CH7: 382 | CI7: 509 | CJ7: 5 | CK7: 86 | CL7: 17 | CM7: 30 | CN7: 311 | CO7: 162
A8: 諮詢協談Consultation | C8: 8297 | D8: 3142 | E8: 5155 | F8: 2728 | G8: 4004 | H8: 182 | I8: 850 | J8: 4 | K8: 88 | L8: 160 | M8: 85 | N8: 68 | O8: 128 | P8: 17913 | Q8: 6930 | R8: 10983 | S8: 5725 | T8: 9265 | U8: 603 | V8: 1257 | W8: 20 | X8: 38 | Y8: 244 | Z8: 97 | AA8: 338 | AB8: 326 | AC8: 16961 | AD8: 5807 | AE8: 11154 | AF8: 5179 | AG8: 9529 | AH8: 444 | AI8: 1111 | AJ8: 2 | AK8: 163 | AL8: 41 | AM8: 148 | AN8: 141 | AO8: 203 | AP8: 14258 | AQ8: 4730 | AR8: 9528 | AS8: 4031 | AT8: 7998 | AU8: 441 | AV8: 989 | AW8: 5 | AX8: 137 | AY8: 40 | AZ8: 152 | BA8: 213 | BB8: 252 | BC8: 11810 | BD8: 3869 | BE8: 7941 | BF8: 3309 | BG8: 6985 | BH8: 301 | BI8: 592 | BJ8: 4 | BK8: 91 | BL8: 56 | BM8: 71 | BN8: 199 | BO8: 202 | BP8: 9982 | BQ8: 3883 | BR8: 6099 | BS8: 3341 | BT8: 5301 | BU8: 321 | BV8: 526 | BW8: 8 | BX8: 50 | BY8: 45 | BZ8: 48 | CA8: 168 | CB8: 174 | CC8: 8988 | CD8: 3875 | CE8: 5113 | CF8: 3235 | CG8: 4423 | CH8: 342 | CI8: 428 | CJ8: 4 | CK8: 78 | CL8: 17 | CM8: 29 | CN8: 277 | CO8: 155
A9: 庇護安置Providing Shelter | B9: 被害人Victim | C9: 5 | D9: 3 | E9: 2 | F9: 3 | G9: 2 | H9: - | I9: - | J9: - | K9: - | L9: - | M9: - | N9: - | O9: - | P9: 14 | Q9: 2 | R9: 12 | S9: 0 | T9: 8 | U9: 1 | V9: 4 | W9: 0 | X9: 0 | Y9: 1 | Z9: 0 | AA9: 0 | AB9: 0 | AC9: 12 | AD9: 6 | AE9: 6 | AF9: 6 | AG9: 4 | AH9: 0 | AI9: 2 | AJ9: 0 | AK9: 0 | AL9: 0 | AM9: 0 | AN9: 0 | AO9: 0 | AP9: 6 | AQ9: 0 | AR9: 6 | AS9: 0 | AT9: 5 | AU9: 0 | AV9: 0 | AW9: 0 | AX9: 0 | AY9: 0 | AZ9: 1 | BA9: 0 | BB9: 0 | BC9: 12 | BD9: 3 | BE9: 9 | BF9: 2 | BG9: 9 | BH9: 1 | BI9: 0 | BJ9: 0 | BK9: 0 | BL9: 0 | BM9: 0 | BN9: 0 | BO9: 0 | BP9: 8 | BQ9: 2 | BR9: 6 | BS9: 1 | BT9: 5 | BU9: 1 | BV9: 1 | BW9: 0 | BX9: 0 | BY9: 0 | BZ9: 0 | CA9: 0 | CB9: 0 | CC9: 6 | CD9: 4 | CE9: 2 | CF9: 2 | CG9: 2 | CH9: 0 | CI9: 0 | CJ9: 0 | CK9: 0 | CL9: 0 | CM9: 0 | CN9: 2 | CO9: 0
B10: 隨行子女Accompanying Children | C10: - | D10: - | E10: - | F10: - | G10: - | H10: - | I10: - | J10: - | K10: - | L10: - | M10: - | N10: - | O10: - | P10: 4 | Q10: 0 | R10: 4 | S10: 0 | T10: 4 | U10: 0 | V10: 0 | W10: 0 | X10: 0 | Y10: 0 | Z10: 0 | AA10: 0 | AB10: 0 | AC10: 0 | AD10: 0 | AE10: 0 | AF10: 0 | AG10: 0 | AH10: 0 | AI10: 0 | AJ10: 0 | AK10: 0 | AL10: 0 | AM10: 0 | AN10: 0 | AO10: 0 | AP10: 6 | AQ10: 0 | AR10: 6 | AS10: 0 | AT10: 6 | AU10: 0 | AV10: 0 | AW10: 0 | AX10: 0 | AY10: 0 | AZ10: 0 | BA10: 0 | BB10: 0 | BC10: 2 | BD10: 0 | BE10: 1 | BF10: 0 | BG10: 1 | BH10: 0 | BI10: 0 | BJ10: 0 | BK10: 0 | BL10: 0 | BM10: 0 | BN10: 0 | BO10: 0 | BP10: 0 | BQ10: 0 | BR10: 0 | BS10: 0 | BT10: 0 | BU10: 0 | BV10: 0 | BW10: 0 | BX10: 0 | BY10: 0 | BZ10: 0 | CA10: 0 | CB10: 0 | CC10: 0 | CD10: 0 | CE10: 0 | CF10: 0 | CG10: 0 | CH10: 0 | CI10: 0 | CJ10: 0 | CK10: 0 | CL10: 0 | CM10: 0 | CN10: 0 | CO10: 0
A11: 陪同報案偵詢（訊） Accompanied Interrogation | C11: 3 | D11: 1 | E11: 2 | F11: 1 | G11: 2 | H11: - | I11: - | J11: - | K11: - | L11: - | M11: - | N11: - | O11: - | P11: 2 | Q11: 1 | R11: 1 | S11: 1 | T11: 0 | U11: 0 | V11: 1 | W11: 0 | X11: 0 | Y11: 0 | Z11: 0 | AA11: 0 | AB11: 0 | AC11: 5 | AD11: 3 | AE11: 2 | AF11: 3 | AG11: 1 | AH11: 0 | AI11: 0 | AJ11: 0 | AK11: 0 | AL11: 0 | AM11: 1 | AN11: 0 | AO11: 0 | AP11: 10 | AQ11: 5 | AR11: 5 | AS11: 4 | AT11: 5 | AU11: 1 | AV11: 0 | AW11: 0 | AX11: 0 | AY11: 0 | AZ11: 0 | BA11: 0 | BB11: 0 | BC11: 1 | BD11: 1 | BE11: 0 | BF11: 0 | BG11: 0 | BH11: 1 | BI11: 0 | BJ11: 0 | BK11: 0 | BL11: 0 | BM11: 0 | BN11: 0 | BO11: 0 | BP11: 2 | BQ11: 0 | BR11: 2 | BS11: 0 | BT11: 1 | BU11: 0 | BV11: 0 | BW11: 0 | BX11: 0 | BY11: 0 | BZ11: 0 | CA11: 0 | CB11: 1 | CC11: 2 | CD11: 1 | CE11: 1 | CF11: 1 | CG11: 0 | CH11: 0 | CI11: 0 | CJ11: 0 | CK11: 0 | CL11: 0 | CM11: 0 | CN11: 0 | CO11: 1
A12: 陪同出庭Accompanied Present in Court | C12: 24 | D12: 6 | E12: 18 | F12: 6 | G12: 17 | H12: - | I12: 1 | J12: - | K12: - | L12: - | M12: - | N12: - | O12: - | P12: 42 | Q12: 19 | R12: 23 | S12: 14 | T12: 19 | U12: 4 | V12: 3 | W12: 0 | X12: 0 | Y12: 0 | Z12: 0 | AA12: 1 | AB12: 1 | AC12: 58 | AD12: 27 | AE12: 31 | AF12: 24 | AG12: 24 | AH12: 1 | AI12: 5 | AJ12: 0 | AK12: 2 | AL12: 0 | AM12: 0 | AN12: 2 | AO12: 0 | AP12: 59 | AQ12: 23 | AR12: 36 | AS12: 22 | AT12: 27 | AU12: 0 | AV12: 3 | AW12: 0 | AX12: 0 | AY12: 0 | AZ12: 3 | BA12: 1 | BB12: 3 | BC12: 39 | BD12: 8 | BE12: 31 | BF12: 7 | BG12: 29 | BH12: 0 | BI12: 2 | BJ12: 0 | BK12: 0 | BL12: 1 | BM12: 0 | BN12: 0 | BO12: 0 | BP12: 28 | BQ12: 10 | BR12: 18 | BS12: 8 | BT12: 12 | BU12: 1 | BV12: 6 | BW12: 0 | BX12: 0 | BY12: 1 | BZ12: 0 | CA12: 0 | CB12: 0 | CC12: 38 | CD12: 19 | CE12: 19 | CF12: 17 | CG12: 15 | CH12: 0 | CI12: 2 | CJ12: 0 | CK12: 1 | CL12: 0 | CM12: 0 | CN12: 2 | CO12: 1
A13: 驗傷診療 Medical Examinations and Treatments | C13: 1 | D13: - | E13: 1 | F13: - | G13: 1 | H13: - | I13: - | J13: - | K13: - | L13: - | M13: - | N13: - | O13: - | P13: 4 | Q13: 2 | R13: 2 | S13: 2 | T13: 2 | U13: 0 | V13: 0 | W13: 0 | X13: 0 | Y13: 0 | Z13: 0 | AA13: 0 | AB13: 0 | AC13: 3 | AD13: 2 | AE13: 1 | AF13: 2 | AG13: 1 | AH13: 0 | AI13: 0 | AJ13: 0 | AK13: 0 | AL13: 0 | AM13: 0 | AN13: 0 | AO13: 0 | AP13: 2 | AQ13: 1 | AR13: 1 | AS13: 0 | AT13: 1 | AU13: 1 | AV13: 0 | AW13: 0 | AX13: 0 | AY13: 0 | AZ13: 0 | BA13: 0 | BB13: 0 | BC13: 1 | BD13: 0 | BE13: 1 | BF13: 0 | BG13: 1 | BH13: 0 | BI13: 0 | BJ13: 0 | BK13: 0 | BL13: 0 | BM13: 0 | BN13: 0 | BO13: 0 | BP13: 1 | BQ13: 0 | BR13: 1 | BS13: 0 | BT13: 1 | BU13: 0 | BV13: 0 | BW13: 0 | BX13: 0 | BY13: 0 | BZ13: 0 | CA13: 0 | CB13: 0 | CC13: 4 | CD13: 1 | CE13: 3 | CF13: 0 | CG13: 3 | CH13: 1 | CI13: 0 | CJ13: 0 | CK13: 0 | CL13: 0 | CM13: 0 | CN13: 0 | CO13: 0
A14: 聲請保護令 Petition for Civil Protection Orders | C14: 17 | D14: 6 | E14: 11 | F14: 6 | G14: 8 | H14: - | I14: 2 | J14: - | K14: - | L14: - | M14: 1 | N14: - | O14: - | P14: 37 | Q14: 12 | R14: 25 | S14: 9 | T14: 23 | U14: 3 | V14: 2 | W14: 0 | X14: 0 | Y14: 0 | Z14: 0 | AA14: 0 | AB14: 0 | AC14: 34 | AD14: 8 | AE14: 26 | AF14: 8 | AG14: 16 | AH14: 0 | AI14: 8 | AJ14: 0 | AK14: 1 | AL14: 0 | AM14: 1 | AN14: 0 | AO14: 0 | AP14: 34 | AQ14: 24 | AR14: 10 | AS14: 17 | AT14: 8 | AU14: 0 | AV14: 1 | AW14: 0 | AX14: 0 | AY14: 0 | AZ14: 1 | BA14: 7 | BB14: 0 | BC14: 27 | BD14: 11 | BE14: 16 | BF14: 9 | BG14: 16 | BH14: 2 | BI14: 0 | BJ14: 0 | BK14: 0 | BL14: 0 | BM14: 0 | BN14: 0 | BO14: 0 | BP14: 20 | BQ14: 5 | BR14: 15 | BS14: 4 | BT14: 13 | BU14: 1 | BV14: 1 | BW14: 0 | BX14: 0 | BY14: 0 | BZ14: 1 | CA14: 0 | CB14: 0 | CC14: 27 | CD14: 10 | CE14: 17 | CF14: 9 | CG14: 15 | CH14: 0 | CI14: 1 | CJ14: 0 | CK14: 1 | CL14: 0 | CM14: 0 | CN14: 1 | CO14: 0
A15: 法律扶助Legal Aid | C15: 171 | D15: 83 | E15: 88 | F15: 72 | G15: 66 | H15: 1 | I15: 8 | J15: - | K15: 10 | L15: 10 | M15: 2 | N15: - | O15: 2 | P15: 269 | Q15: 145 | R15: 124 | S15: 126 | T15: 108 | U15: 3 | V15: 12 | W15: 0 | X15: 3 | Y15: 13 | Z15: 0 | AA15: 3 | AB15: 1 | AC15: 222 | AD15: 97 | AE15: 125 | AF15: 94 | AG15: 105 | AH15: 0 | AI15: 5 | AJ15: 0 | AK15: 7 | AL15: 0 | AM15: 7 | AN15: 3 | AO15: 1 | AP15: 309 | AQ15: 109 | AR15: 200 | AS15: 100 | AT15: 179 | AU15: 4 | AV15: 16 | AW15: 0 | AX15: 0 | AY15: 0 | AZ15: 4 | BA15: 5 | BB15: 1 | BC15: 387 | BD15: 114 | BE15: 273 | BF15: 93 | BG15: 269 | BH15: 7 | BI15: 0 | BJ15: 0 | BK15: 2 | BL15: 13 | BM15: 1 | BN15: 1 | BO15: 1 | BP15: 263 | BQ15: 120 | BR15: 143 | BS15: 109 | BT15: 129 | BU15: 4 | BV15: 3 | BW15: 1 | BX15: 6 | BY15: 3 | BZ15: 2 | CA15: 3 | CB15: 3 | CC15: 182 | CD15: 83 | CE15: 99 | CF15: 81 | CG15: 98 | CH15: 0 | CI15: 1 | CJ15: 1 | CK15: 0 | CL15: 0 | CM15: 0 | CN15: 1 | CO15: 0
A16: 經濟扶助Economic Support | C16: 23 | D16: 9 | E16: 14 | F16: 7 | G16: 11 | H16: 1 | I16: 3 | J16: - | K16: - | L16: 1 | M16: - | N16: - | O16: - | P16: 57 | Q16: 28 | R16: 29 | S16: 27 | T16: 19 | U16: 1 | V16: 10 | W16: 0 | X16: 0 | Y16: 0 | Z16: 0 | AA16: 0 | AB16: 0 | AC16: 67 | AD16: 37 | AE16: 30 | AF16: 32 | AG16: 19 | AH16: 2 | AI16: 11 | AJ16: 0 | AK16: 0 | AL16: 2 | AM16: 0 | AN16: 1 | AO16: 0 | AP16: 63 | AQ16: 32 | AR16: 31 | AS16: 22 | AT16: 11 | AU16: 8 | AV16: 17 | AW16: 0 | AX16: 0 | AY16: 0 | AZ16: 3 | BA16: 2 | BB16: 0 | BC16: 60 | BD16: 21 | BE16: 39 | BF16: 21 | BG16: 32 | BH16: 0 | BI16: 6 | BJ16: 0 | BK16: 0 | BL16: 0 | BM16: 0 | BN16: 0 | BO16: 1 | BP16: 53 | BQ16: 18 | BR16: 35 | BS16: 15 | BT16: 34 | BU16: 3 | BV16: 1 | BW16: 0 | BX16: 0 | BY16: 0 | BZ16: 0 | CA16: 0 | CB16: 0 | CC16: 54 | CD16: 34 | CE16: 20 | CF16: 18 | CG16: 19 | CH16: 14 | CI16: 0 | CJ16: 0 | CK16: 0 | CL16: 0 | CM16: 0 | CN16: 2 | CO16: 1
A17: 心理諮商與輔導Psychological Counseling | C17: 82 | D17: 25 | E17: 57 | F17: 16 | G17: 52 | H17: - | I17: - | J17: - | K17: - | L17: 5 | M17: - | N17: 4 | O17: 5 | P17: 151 | Q17: 54 | R17: 97 | S17: 52 | T17: 87 | U17: 0 | V17: 6 | W17: 0 | X17: 0 | Y17: 1 | Z17: 0 | AA17: 1 | AB17: 4 | AC17: 150 | AD17: 78 | AE17: 72 | AF17: 63 | AG17: 64 | AH17: 13 | AI17: 0 | AJ17: 0 | AK17: 2 | AL17: 0 | AM17: 0 | AN17: 2 | AO17: 6 | AP17: 230 | AQ17: 131 | AR17: 99 | AS17: 81 | AT17: 96 | AU17: 30 | AV17: 0 | AW17: 0 | AX17: 3 | AY17: 0 | AZ17: 0 | BA17: 20 | BB17: 0 | BC17: 112 | BD17: 36 | BE17: 76 | BF17: 26 | BG17: 70 | BH17: 6 | BI17: 1 | BJ17: 0 | BK17: 0 | BL17: 0 | BM17: 0 | BN17: 4 | BO17: 5 | BP17: 77 | BQ17: 49 | BR17: 28 | BS17: 42 | BT17: 27 | BU17: 5 | BV17: 0 | BW17: 0 | BX17: 0 | BY17: 0 | BZ17: 0 | CA17: 2 | CB17: 1 | CC17: 100 | CD17: 34 | CE17: 66 | CF17: 25 | CG17: 66 | CH17: 0 | CI17: 0 | CJ17: 0 | CK17: 0 | CL17: 0 | CM17: 0 | CN17: 9 | CO17: 0
A18: 就業服務Employment Service | C18: 6 | D18: 1 | E18: 5 | F18: - | G18: 1 | H18: 1 | I18: 4 | J18: - | K18: - | L18: - | M18: - | N18: - | O18: - | P18: 14 | Q18: 6 | R18: 8 | S18: 5 | T18: 4 | U18: 1 | V18: 4 | W18: 0 | X18: 0 | Y18: 0 | Z18: 0 | AA18: 0 | AB18: 0 | AC18: 17 | AD18: 3 | AE18: 14 | AF18: 3 | AG18: 14 | AH18: 0 | AI18: 0 | AJ18: 0 | AK18: 0 | AL18: 0 | AM18: 0 | AN18: 0 | AO18: 0 | AP18: 9 | AQ18: 7 | AR18: 2 | AS18: 5 | AT18: 0 | AU18: 0 | AV18: 1 | AW18: 0 | AX18: 0 | AY18: 0 | AZ18: 1 | BA18: 2 | BB18: 0 | BC18: 13 | BD18: 8 | BE18: 5 | BF18: 8 | BG18: 3 | BH18: 0 | BI18: 2 | BJ18: 0 | BK18: 0 | BL18: 0 | BM18: 0 | BN18: 0 | BO18: 0 | BP18: 8 | BQ18: 6 | BR18: 2 | BS18: 3 | BT18: 2 | BU18: 0 | BV18: 0 | BW18: 0 | BX18: 0 | BY18: 0 | BZ18: 0 | CA18: 3 | CB18: 0 | CC18: 12 | CD18: 8 | CE18: 4 | CF18: 2 | CG18: 4 | CH18: 0 | CI18: 0 | CJ18: 0 | CK18: 0 | CL18: 0 | CM18: 0 | CN18: 6 | CO18: 0
A19: 就學或轉學服務 Education or School Transfer Service | C19: 4 | D19: 1 | E19: 3 | F19: 1 | G19: 1 | H19: - | I19: 2 | J19: - | K19: - | L19: - | M19: - | N19: - | O19: - | P19: 0 | Q19: 0 | R19: 0 | S19: 0 | T19: 0 | U19: 0 | V19: 0 | W19: 0 | X19: 0 | Y19: 0 | Z19: 0 | AA19: 0 | AB19: 0 | AC19: 0 | AD19: 0 | AE19: 0 | AF19: 0 | AG19: 0 | AH19: 0 | AI19: 0 | AJ19: 0 | AK19: 0 | AL19: 0 | AM19: 0 | AN19: 0 | AO19: 0 | AP19: 4 | AQ19: 1 | AR19: 3 | AS19: 1 | AT19: 2 | AU19: 0 | AV19: 0 | AW19: 0 | AX19: 1 | AY19: 0 | AZ19: 0 | BA19: 0 | BB19: 0 | BC19: 21 | BD19: 21 | BE19: 0 | BF19: 19 | BG19: 0 | BH19: 2 | BI19: 0 | BJ19: 0 | BK19: 0 | BL19: 0 | BM19: 0 | BN19: 0 | BO19: 0 | BP19: 1 | BQ19: 0 | BR19: 1 | BS19: 0 | BT19: 1 | BU19: 0 | BV19: 0 | BW19: 0 | BX19: 0 | BY19: 0 | BZ19: 0 | CA19: 0 | CB19: 0 | CC19: 1 | CD19: 1 | CE19: 0 | CF19: 1 | CG19: 0 | CH19: 0 | CI19: 0 | CJ19: 0 | CK19: 0 | CL19: 0 | CM19: 0 | CN19: 0 | CO19: 0
A20: 轉介/提供目睹暴力服務 Referral/Witness Services | C20: 41 | D20: 11 | E20: 30 | F20: 9 | G20: 19 | H20: - | I20: 6 | J20: 1 | K20: - | L20: - | M20: - | N20: 1 | O20: 5 | P20: 59 | Q20: 31 | R20: 28 | S20: 18 | T20: 17 | U20: 3 | V20: 11 | W20: 9 | X20: 0 | Y20: 0 | Z20: 0 | AA20: 1 | AB20: 0 | AC20: 105 | AD20: 36 | AE20: 69 | AF20: 35 | AG20: 67 | AH20: 1 | AI20: 1 | AJ20: 0 | AK20: 0 | AL20: 0 | AM20: 0 | AN20: 0 | AO20: 1 | AP20: 152 | AQ20: 47 | AR20: 105 | AS20: 35 | AT20: 101 | AU20: 1 | AV20: 4 | AW20: 0 | AX20: 0 | AY20: 0 | AZ20: 0 | BA20: 11 | BB20: 0 | BC20: 307 | BD20: 35 | BE20: 272 | BF20: 27 | BG20: 271 | BH20: 2 | BI20: 0 | BJ20: 0 | BK20: 1 | BL20: 2 | BM20: 0 | BN20: 4 | BO20: 0 | BP20: 138 | BQ20: 96 | BR20: 42 | BS20: 92 | BT20: 39 | BU20: 1 | BV20: 3 | BW20: 0 | BX20: 0 | BY20: 0 | BZ20: 0 | CA20: 3 | CB20: 0 | CC20: 286 | CD20: 120 | CE20: 166 | CF20: 110 | CG20: 114 | CH20: 7 | CI20: 49 | CJ20: 0 | CK20: 2 | CL20: 0 | CM20: 0 | CN20: 3 | CO20: 1
A21: 子女問題協助 Assistance in Children's Problems | C21: 52 | D21: 21 | E21: 31 | F21: 19 | G21: 28 | H21: - | I21: 3 | J21: 1 | K21: - | L21: - | M21: - | N21: 1 | O21: - | P21: 52 | Q21: 32 | R21: 20 | S21: 26 | T21: 16 | U21: 0 | V21: 4 | W21: 0 | X21: 0 | Y21: 0 | Z21: 0 | AA21: 6 | AB21: 0 | AC21: 58 | AD21: 31 | AE21: 27 | AF21: 17 | AG21: 27 | AH21: 5 | AI21: 0 | AJ21: 0 | AK21: 0 | AL21: 0 | AM21: 0 | AN21: 9 | AO21: 0 | AP21: 39 | AQ21: 27 | AR21: 12 | AS21: 20 | AT21: 12 | AU21: 1 | AV21: 0 | AW21: 0 | AX21: 0 | AY21: 0 | AZ21: 0 | BA21: 6 | BB21: 0 | BC21: 27 | BD21: 14 | BE21: 13 | BF21: 9 | BG21: 12 | BH21: 0 | BI21: 1 | BJ21: 0 | BK21: 0 | BL21: 2 | BM21: 0 | BN21: 3 | BO21: 0 | BP21: 58 | BQ21: 31 | BR21: 27 | BS21: 29 | BT21: 27 | BU21: 0 | BV21: 0 | BW21: 0 | BX21: 0 | BY21: 0 | BZ21: 0 | CA21: 2 | CB21: 0 | CC21: 37 | CD21: 19 | CE21: 18 | CF21: 18 | CG21: 16 | CH21: 0 | CI21: 2 | CJ21: 0 | CK21: 0 | CL21: 0 | CM21: 0 | CN21: 1 | CO21: 0
A22: 通譯服務Interpret Service | C22: - | D22: - | E22: - | F22: - | G22: - | H22: - | I22: - | J22: - | K22: - | L22: - | M22: - | N22: - | O22: - | P22: 8 | Q22: 8 | R22: 0 | S22: 1 | T22: 0 | U22: 0 | V22: 0 | W22: 0 | X22: 0 | Y22: 7 | Z22: 0 | AA22: 0 | AB22: 0 | AC22: 0 | AD22: 0 | AE22: 0 | AF22: 0 | AG22: 0 | AH22: 0 | AI22: 0 | AJ22: 0 | AK22: 0 | AL22: 0 | AM22: 0 | AN22: 0 | AO22: 0 | AP22: 1 | AQ22: 0 | AR22: 1 | AS22: 0 | AT22: 0 | AU22: 0 | AV22: 0 | AW22: 0 | AX22: 0 | AY22: 0 | AZ22: 1 | BA22: 0 | BB22: 0 | BC22: 0 | BD22: 0 | BE22: 0 | BF22: 0 | BG22: 0 | BH22: 0 | BI22: 0 | BJ22: 0 | BK22: 0 | BL22: 0 | BM22: 0 | BN22: 0 | BO22: 0 | BP22: 0 | BQ22: 0 | BR22: 0 | BS22: 0 | BT22: 0 | BU22: 0 | BV22: 0 | BW22: 0 | BX22: 0 | BY22: 0 | BZ22: 0 | CA22: 0 | CB22: 0 | CC22: 1 | CD22: 0 | CE22: 1 | CF22: 0 | CG22: 0 | CH22: 0 | CI22: 0 | CJ22: 0 | CK22: 0 | CL22: 0 | CM22: 1 | CN22: 0 | CO22: 0
A23: 其他扶助Others | C23: 354 | D23: 163 | E23: 191 | F23: 143 | G23: 152 | H23: 6 | I23: 30 | J23: - | K23: 5 | L23: 14 | M23: 3 | N23: - | O23: 1 | P23: 775 | Q23: 350 | R23: 425 | S23: 305 | T23: 366 | U23: 18 | V23: 50 | W23: 0 | X23: 2 | Y23: 15 | Z23: 1 | AA23: 12 | AB23: 6 | AC23: 766 | AD23: 304 | AE23: 462 | AF23: 289 | AG23: 389 | AH23: 8 | AI23: 26 | AJ23: 0 | AK23: 11 | AL23: 2 | AM23: 33 | AN23: 5 | AO23: 3 | AP23: 629 | AQ23: 263 | AR23: 366 | AS23: 238 | AT23: 318 | AU23: 14 | AV23: 34 | AW23: 0 | AX23: 5 | AY23: 0 | AZ23: 3 | BA23: 11 | BB23: 6 | BC23: 617 | BD23: 202 | BE23: 415 | BF23: 177 | BG23: 396 | BH23: 12 | BI23: 12 | BJ23: 0 | BK23: 2 | BL23: 8 | BM23: 2 | BN23: 5 | BO23: 3 | BP23: 388 | BQ23: 157 | BR23: 231 | BS23: 138 | BT23: 218 | BU23: 6 | BV23: 8 | BW23: 0 | BX23: 1 | BY23: 5 | BZ23: 0 | CA23: 8 | CB23: 4 | CC23: 360 | CD23: 167 | CE23: 193 | CF23: 142 | CG23: 160 | CH23: 18 | CI23: 26 | CJ23: 0 | CK23: 4 | CL23: 0 | CM23: 0 | CN23: 7 | CO23: 3
A24: 資料來源：直轄市、縣﹝市﹞政府。
A25: Source : County and City Government.

Sheet 2026(上半年)
A1: 同性親密關係暴力被害人保護扶助人次
A2: 115年上半年，2026年上半年
A3: 單位：人次
A4: 區域別 Locality | C4: 總計Total | P4: 諮詢協談Consultation | AC4: 庇護安置Providing Shelter | AP4: 庇護安置Providing Shelter | BC4: 陪同報案偵詢（訊）Accompanied Interrogation | BP4: 陪同出庭Accompanied Present in Court | CC4: 驗傷診療Medical Examinations and Treatments | CP4: 聲請保護令Petition for Civil Protection Orders | DC4: 法律扶助Legal Aid | DP4: 經濟扶助Economic Support | EC4: 心理諮商與輔導Psychological Counseling | EP4: 就業服務Employment Service | FC4: 就學或轉學服務Education or School Transfer Service | FP4: 轉介/提供目睹暴力服務Referral/Witness Services | GC4: 子女問題協助Assistance in Children's Problems | GP4: 通譯服務Interpret Service | HC4: 其他扶助Others
AC5: 被害人Victim | AP5: 隨行子女Accompanying Children
C6: 合計Total | F6: 本國籍非原住民 Non-aboriginal Native | H6: 本國籍原住民 Aboriginal Native | J6: 大陸籍(含港澳) Mainland China (Hong Kong and Macau Included) | L6: 外國籍 Foreign | N6: 其他 Others | P6: 合計Total | S6: 本國籍非原住民 Non-aboriginal Native | U6: 本國籍原住民 Aboriginal Native | W6: 大陸籍(含港澳) Mainland China (Hong Kong and Macau Included) | Y6: 外國籍 Foreign | AA6: 其他 Others | AC6: 合計Total | AF6: 本國籍非原住民 Non-aboriginal Native | AH6: 本國籍原住民 Aboriginal Native | AJ6: 大陸籍(含港澳) Mainland China (Hong Kong and Macau Included) | AL6: 外國籍 Foreign | AN6: 其他 Others | AP6: 合計Total | AS6: 本國籍非原住民 Non-aboriginal Native | AU6: 本國籍原住民 Aboriginal Native | AW6: 大陸籍(含港澳) Mainland China (Hong Kong and Macau Included) | AY6: 外國籍 Foreign | BA6: 其他 Others | BC6: 合計Total | BF6: 本國籍非原住民 Non-aboriginal Native | BH6: 本國籍原住民 Aboriginal Native | BJ6: 大陸籍(含港澳) Mainland China (Hong Kong and Macau Included) | BL6: 外國籍 Foreign | BN6: 其他 Others | BP6: 合計Total | BS6: 本國籍非原住民 Non-aboriginal Native | BU6: 本國籍原住民 Aboriginal Native | BW6: 大陸籍(含港澳) Mainland China (Hong Kong and Macau Included) | BY6: 外國籍 Foreign | CA6: 其他 Others | CC6: 合計Total | CF6: 本國籍非原住民 Non-aboriginal Native | CH6: 本國籍原住民 Aboriginal Native | CJ6: 大陸籍(含港澳) Mainland China (Hong Kong and Macau Included) | CL6: 外國籍 Foreign | CN6: 其他 Others | CP6: 合計Total | CS6: 本國籍非原住民 Non-aboriginal Native | CU6: 本國籍原住民 Aboriginal Native | CW6: 大陸籍(含港澳) Mainland China (Hong Kong and Macau Included) | CY6: 外國籍 Foreign | DA6: 其他 Others | DC6: 合計Total | DF6: 本國籍非原住民 Non-aboriginal Native | DH6: 本國籍原住民 Aboriginal Native | DJ6: 大陸籍(含港澳) Mainland China (Hong Kong and Macau Included) | DL6: 外國籍 Foreign | DN6: 其他 Others | DP6: 合計Total | DS6: 本國籍非原住民 Non-aboriginal Native | DU6: 本國籍原住民 Aboriginal Native | DW6: 大陸籍(含港澳) Mainland China (Hong Kong and Macau Included) | DY6: 外國籍 Foreign | EA6: 其他 Others | EC6: 合計Total | EF6: 本國籍非原住民 Non-aboriginal Native | EH6: 本國籍原住民 Aboriginal Native | EJ6: 大陸籍(含港澳) Mainland China (Hong Kong and Macau Included) | EL6: 外國籍 Foreign | EN6: 其他 Others | EP6: 合計Total | ES6: 本國籍非原住民 Non-aboriginal Native | EU6: 本國籍原住民 Aboriginal Native | EW6: 大陸籍(含港澳) Mainland China (Hong Kong and Macau Included) | EY6: 外國籍 Foreign | FA6: 其他 Others | FC6: 合計Total | FF6: 本國籍非原住民 Non-aboriginal Native | FH6: 本國籍原住民 Aboriginal Native | FJ6: 大陸籍(含港澳) Mainland China (Hong Kong and Macau Included) | FL6: 外國籍 Foreign | FN6: 其他 Others | FP6: 合計Total | FS6: 本國籍非原住民 Non-aboriginal Native | FU6: 本國籍原住民 Aboriginal Native | FW6: 大陸籍(含港澳) Mainland China (Hong Kong and Macau Included) | FY6: 外國籍 Foreign | GA6: 其他 Others | GC6: 合計Total | GF6: 本國籍非原住民 Non-aboriginal Native | GH6: 本國籍原住民 Aboriginal Native | GJ6: 大陸籍(含港澳) Mainland China (Hong Kong and Macau Included) | GL6: 外國籍 Foreign | GN6: 其他 Others | GP6: 合計Total | GS6: 本國籍非原住民 Non-aboriginal Native | GU6: 本國籍原住民 Aboriginal Native | GW6: 大陸籍(含港澳) Mainland China (Hong Kong and Macau Included) | GY6: 外國籍 Foreign | HA6: 其他 Others | HC6: 合計Total | HF6: 本國籍非原住民 Non-aboriginal Native | HH6: 本國籍原住民 Aboriginal Native | HJ6: 大陸籍(含港澳) Mainland China (Hong Kong and Macau Included) | HL6: 外國籍 Foreign | HN6: 其他 Others
C8: 計 Total | D8: 男 Male | E8: 女 Female | F8: 男 Male | G8: 女 Female | H8: 男 Male | I8: 女 Female | J8: 男 Male | K8: 女 Female | L8: 男 Male | M8: 女 Female | N8: 男 Male | O8: 女 Female | P8: 計 Total | Q8: 男 Male | R8: 女 Female | S8: 男 Male | T8: 女 Female | U8: 男 Male | V8: 女 Female | W8: 男 Male | X8: 女 Female | Y8: 男 Male | Z8: 女 Female | AA8: 男 Male | AB8: 女 Female | AC8: 計 Total | AD8: 男 Male | AE8: 女 Female | AF8: 男 Male | AG8: 女 Female | AH8: 男 Male | AI8: 女 Female | AJ8: 男 Male | AK8: 女 Female | AL8: 男 Male | AM8: 女 Female | AN8: 男 Male | AO8: 女 Female | AP8: 計 Total | AQ8: 男 Male | AR8: 女 Female | AS8: 男 Male | AT8: 女 Female | AU8: 男 Male | AV8: 女 Female | AW8: 男 Male | AX8: 女 Female | AY8: 男 Male | AZ8: 女 Female | BA8: 男 Male | BB8: 女 Female | BC8: 計 Total | BD8: 男 Male | BE8: 女 Female | BF8: 男 Male | BG8: 女 Female | BH8: 男 Male | BI8: 女 Female | BJ8: 男 Male | BK8: 女 Female | BL8: 男 Male | BM8: 女 Female | BN8: 男 Male | BO8: 女 Female | BP8: 計 Total | BQ8: 男 Male | BR8: 女 Female | BS8: 男 Male | BT8: 女 Female | BU8: 男 Male | BV8: 女 Female | BW8: 男 Male | BX8: 女 Female | BY8: 男 Male | BZ8: 女 Female | CA8: 男 Male | CB8: 女 Female | CC8: 計 Total | CD8: 男 Male | CE8: 女 Female | CF8: 男 Male | CG8: 女 Female | CH8: 男 Male | CI8: 女 Female | CJ8: 男 Male | CK8: 女 Female | CL8: 男 Male | CM8: 女 Female | CN8: 男 Male | CO8: 女 Female | CP8: 計 Total | CQ8: 男 Male | CR8: 女 Female | CS8: 男 Male | CT8: 女 Female | CU8: 男 Male | CV8: 女 Female | CW8: 男 Male | CX8: 女 Female | CY8: 男 Male | CZ8: 女 Female | DA8: 男 Male | DB8: 女 Female | DC8: 計 Total | DD8: 男 Male | DE8: 女 Female | DF8: 男 Male | DG8: 女 Female | DH8: 男 Male | DI8: 女 Female | DJ8: 男 Male | DK8: 女 Female | DL8: 男 Male | DM8: 女 Female | DN8: 男 Male | DO8: 女 Female | DP8: 計 Total | DQ8: 男 Male | DR8: 女 Female | DS8: 男 Male | DT8: 女 Female | DU8: 男 Male | DV8: 女 Female | DW8: 男 Male | DX8: 女 Female | DY8: 男 Male | DZ8: 女 Female | EA8: 男 Male | EB8: 女 Female | EC8: 計 Total | ED8: 男 Male | EE8: 女 Female | EF8: 男 Male | EG8: 女 Female | EH8: 男 Male | EI8: 女 Female | EJ8: 男 Male | EK8: 女 Female | EL8: 男 Male | EM8: 女 Female | EN8: 男 Male | EO8: 女 Female | EP8: 計 Total | EQ8: 男 Male | ER8: 女 Female | ES8: 男 Male | ET8: 女 Female | EU8: 男 Male | EV8: 女 Female | EW8: 男 Male | EX8: 女 Female | EY8: 男 Male | EZ8: 女 Female | FA8: 男 Male | FB8: 女 Female | FC8: 計 Total | FD8: 男 Male | FE8: 女 Female | FF8: 男 Male | FG8: 女 Female | FH8: 男 Male | FI8: 女 Female | FJ8: 男 Male | FK8: 女 Female | FL8: 男 Male | FM8: 女 Female | FN8: 男 Male | FO8: 女 Female | FP8: 計 Total | FQ8: 男 Male | FR8: 女 Female | FS8: 男 Male | FT8: 女 Female | FU8: 男 Male | FV8: 女 Female | FW8: 男 Male | FX8: 女 Female | FY8: 男 Male | FZ8: 女 Female | GA8: 男 Male | GB8: 女 Female | GC8: 計 Total | GD8: 男 Male | GE8: 女 Female | GF8: 男 Male | GG8: 女 Female | GH8: 男 Male | GI8: 女 Female | GJ8: 男 Male | GK8: 女 Female | GL8: 男 Male | GM8: 女 Female | GN8: 男 Male | GO8: 女 Female | GP8: 計 Total | GQ8: 男 Male | GR8: 女 Female | GS8: 男 Male | GT8: 女 Female | GU8: 男 Male | GV8: 女 Female | GW8: 男 Male | GX8: 女 Female | GY8: 男 Male | GZ8: 女 Female | HA8: 男 Male | HB8: 女 Female | HC8: 計 Total | HD8: 男 Male | HE8: 女 Female | HF8: 男 Male | HG8: 女 Female | HH8: 男 Male | HI8: 女 Female | HJ8: 男 Male | HK8: 女 Female | HL8: 男 Male | HM8: 女 Female | HN8: 男 Male | HO8: 女 Female
A9: 115上半年 | C9: 9080 | D9: 3472 | E9: 5608 | F9: 3011 | G9: 4364 | H9: 191 | I9: 909 | J9: 6 | K9: 103 | L9: 190 | M9: 91 | N9: 74 | O9: 141 | P9: 8297 | Q9: 3142 | R9: 5155 | S9: 2728 | T9: 4004 | U9: 182 | V9: 850 | W9: 4 | X9: 88 | Y9: 160 | Z9: 85 | AA9: 68 | AB9: 128 | AC9: 5 | AD9: 3 | AE9: 2 | AF9: 3 | AG9: 2 | AH9: - | AI9: - | AJ9: - | AK9: - | AL9: - | AM9: - | AN9: - | AO9: - | AP9: - | AQ9: - | AR9: - | AS9: - | AT9: - | AU9: - | AV9: - | AW9: - | AX9: - | AY9: - | AZ9: - | BA9: - | BB9: - | BC9: 3 | BD9: 1 | BE9: 2 | BF9: 1 | BG9: 2 | BH9: - | BI9: - | BJ9: - | BK9: - | BL9: - | BM9: - | BN9: - | BO9: - | BP9: 24 | BQ9: 6 | BR9: 18 | BS9: 6 | BT9: 17 | BU9: - | BV9: 1 | BW9: - | BX9: - | BY9: - | BZ9: - | CA9: - | CB9: - | CC9: 1 | CD9: - | CE9: 1 | CF9: - | CG9: 1 | CH9: - | CI9: - | CJ9: - | CK9: - | CL9: - | CM9: - | CN9: - | CO9: - | CP9: 17 | CQ9: 6 | CR9: 11 | CS9: 6 | CT9: 8 | CU9: - | CV9: 2 | CW9: - | CX9: - | CY9: - | CZ9: 1 | DA9: - | DB9: - | DC9: 171 | DD9: 83 | DE9: 88 | DF9: 72 | DG9: 66 | DH9: 1 | DI9: 8 | DJ9: - | DK9: 10 | DL9: 10 | DM9: 2 | DN9: - | DO9: 2 | DP9: 23 | DQ9: 9 | DR9: 14 | DS9: 7 | DT9: 11 | DU9: 1 | DV9: 3 | DW9: - | DX9: - | DY9: 1 | DZ9: - | EA9: - | EB9: - | EC9: 82 | ED9: 25 | EE9: 57 | EF9: 16 | EG9: 52 | EH9: - | EI9: - | EJ9: - | EK9: - | EL9: 5 | EM9: - | EN9: 4 | EO9: 5 | EP9: 6 | EQ9: 1 | ER9: 5 | ES9: - | ET9: 1 | EU9: 1 | EV9: 4 | EW9: - | EX9: - | EY9: - | EZ9: - | FA9: - | FB9: - | FC9: 4 | FD9: 1 | FE9: 3 | FF9: 1 | FG9: 1 | FH9: - | FI9: 2 | FJ9: - | FK9: - | FL9: - | FM9: - | FN9: - | FO9: - | FP9: 41 | FQ9: 11 | FR9: 30 | FS9: 9 | FT9: 19 | FU9: - | FV9: 6 | FW9: 1 | FX9: - | FY9: - | FZ9: - | GA9: 1 | GB9: 5 | GC9: 52 | GD9: 21 | GE9: 31 | GF9: 19 | GG9: 28 | GH9: - | GI9: 3 | GJ9: 1 | GK9: - | GL9: - | GM9: - | GN9: 1 | GO9: - | GP9: - | GQ9: - | GR9: - | GS9: - | GT9: - | GU9: - | GV9: - | GW9: - | GX9: - | GY9: - | GZ9: - | HA9: - | HB9: - | HC9: 354 | HD9: 163 | HE9: 191 | HF9: 143 | HG9: 152 | HH9: 6 | HI9: 30 | HJ9: - | HK9: 5 | HL9: 14 | HM9: 3 | HN9: - | HO9: 1
A10: 新北市 | B10: New Taipei City | C10: 1548 | D10: 774 | E10: 774 | F10: 707 | G10: 679 | H10: 4 | I10: 27 | J10: - | K10: 7 | L10: 15 | M10: - | N10: 48 | O10: 61 | P10: 1380 | Q10: 695 | R10: 685 | S10: 630 | T10: 593 | U10: 4 | V10: 26 | W10: - | X10: 7 | Y10: 13 | Z10: - | AA10: 48 | AB10: 59 | AC10: 3 | AD10: 3 | AE10: - | AF10: 3 | AG10: - | AH10: - | AI10: - | AJ10: - | AK10: - | AL10: - | AM10: - | AN10: - | AO10: - | AP10: - | AQ10: - | AR10: - | AS10: - | AT10: - | AU10: - | AV10: - | AW10: - | AX10: - | AY10: - | AZ10: - | BA10: - | BB10: - | BC10: 1 | BD10: - | BE10: 1 | BF10: - | BG10: 1 | BH10: - | BI10: - | BJ10: - | BK10: - | BL10: - | BM10: - | BN10: - | BO10: - | BP10: 2 | BQ10: - | BR10: 2 | BS10: - | BT10: 2 | BU10: - | BV10: - | BW10: - | BX10: - | BY10: - | BZ10: - | CA10: - | CB10: - | CC10: - | CD10: - | CE10: - | CF10: - | CG10: - | CH10: - | CI10: - | CJ10: - | CK10: - | CL10: - | CM10: - | CN10: - | CO10: - | CP10: 2 | CQ10: 1 | CR10: 1 | CS10: 1 | CT10: 1 | CU10: - | CV10: - | CW10: - | CX10: - | CY10: - | CZ10: - | DA10: - | DB10: - | DC10: 16 | DD10: 8 | DE10: 8 | DF10: 7 | DG10: 8 | DH10: - | DI10: - | DJ10: - | DK10: - | DL10: 1 | DM10: - | DN10: - | DO10: - | DP10: 1 | DQ10: 1 | DR10: - | DS10: 1 | DT10: - | DU10: - | DV10: - | DW10: - | DX10: - | DY10: - | DZ10: - | EA10: - | EB10: - | EC10: 22 | ED10: - | EE10: 22 | EF10: - | EG10: 22 | EH10: - | EI10: - | EJ10: - | EK10: - | EL10: - | EM10: - | EN10: - | EO10: - | EP10: 1 | EQ10: - | ER10: 1 | ES10: - | ET10: 1 | EU10: - | EV10: - | EW10: - | EX10: - | EY10: - | EZ10: - | FA10: - | FB10: - | FC10: - | FD10: - | FE10: - | FF10: - | FG10: - | FH10: - | FI10: - | FJ10: - | FK10: - | FL10: - | FM10: - | FN10: - | FO10: - | FP10: 6 | FQ10: - | FR10: 6 | FS10: - | FT10: 4 | FU10: - | FV10: - | FW10: - | FX10: - | FY10: - | FZ10: - | GA10: - | GB10: 2 | GC10: 4 | GD10: 1 | GE10: 3 | GF10: 1 | GG10: 3 | GH10: - | GI10: - | GJ10: - | GK10: - | GL10: - | GM10: - | GN10: - | GO10: - | GP10: - | GQ10: - | GR10: - | GS10: - | GT10: - | GU10: - | GV10: - | GW10: - | GX10: - | GY10: - | GZ10: - | HA10: - | HB10: - | HC10: 110 | HD10: 65 | HE10: 45 | HF10: 64 | HG10: 44 | HH10: - | HI10: 1 | HJ10: - | HK10: - | HL10: 1 | HM10: - | HN10: - | HO10: -
A11: 臺北市 | B11: Taipei City | C11: 1233 | D11: 634 | E11: 599 | F11: 527 | G11: 519 | H11: - | I11: - | J11: - | K11: 76 | L11: 102 | M11: - | N11: 5 | O11: 4 | P11: 1024 | Q11: 535 | R11: 489 | S11: 448 | T11: 424 | U11: - | V11: - | W11: - | X11: 61 | Y11: 82 | Z11: - | AA11: 5 | AB11: 4 | AC11: - | AD11: - | AE11: - | AF11: - | AG11: - | AH11: - | AI11: - | AJ11: - | AK11: - | AL11: - | AM11: - | AN11: - | AO11: - | AP11: - | AQ11: - | AR11: - | AS11: - | AT11: - | AU11: - | AV11: - | AW11: - | AX11: - | AY11: - | AZ11: - | BA11: - | BB11: - | BC11: 2 | BD11: 1 | BE11: 1 | BF11: 1 | BG11: 1 | BH11: - | BI11: - | BJ11: - | BK11: - | BL11: - | BM11: - | BN11: - | BO11: - | BP11: 4 | BQ11: 3 | BR11: 1 | BS11: 3 | BT11: 1 | BU11: - | BV11: - | BW11: - | BX11: - | BY11: - | BZ11: - | CA11: - | CB11: - | CC11: 1 | CD11: - | CE11: 1 | CF11: - | CG11: 1 | CH11: - | CI11: - | CJ11: - | CK11: - | CL11: - | CM11: - | CN11: - | CO11: - | CP11: 3 | CQ11: 3 | CR11: - | CS11: 3 | CT11: - | CU11: - | CV11: - | CW11: - | CX11: - | CY11: - | CZ11: - | DA11: - | DB11: - | DC11: 90 | DD11: 46 | DE11: 44 | DF11: 37 | DG11: 34 | DH11: - | DI11: - | DJ11: - | DK11: 10 | DL11: 9 | DM11: - | DN11: - | DO11: - | DP11: 3 | DQ11: 3 | DR11: - | DS11: 2 | DT11: - | DU11: - | DV11: - | DW11: - | DX11: - | DY11: 1 | DZ11: - | EA11: - | EB11: - | EC11: 15 | ED11: 9 | EE11: 6 | EF11: 9 | EG11: 6 | EH11: - | EI11: - | EJ11: - | EK11: - | EL11: - | EM11: - | EN11: - | EO11: - | EP11: - | EQ11: - | ER11: - | ES11: - | ET11: - | EU11: - | EV11: - | EW11: - | EX11: - | EY11: - | EZ11: - | FA11: - | FB11: - | FC11: - | FD11: - | FE11: - | FF11: - | FG11: - | FH11: - | FI11: - | FJ11: - | FK11: - | FL11: - | FM11: - | FN11: - | FO11: - | FP11: - | FQ11: - | FR11: - | FS11: - | FT11: - | FU11: - | FV11: - | FW11: - | FX11: - | FY11: - | FZ11: - | GA11: - | GB11: - | GC11: 3 | GD11: - | GE11: 3 | GF11: - | GG11: 3 | GH11: - | GI11: - | GJ11: - | GK11: - | GL11: - | GM11: - | GN11: - | GO11: - | GP11: - | GQ11: - | GR11: - | GS11: - | GT11: - | GU11: - | GV11: - | GW11: - | GX11: - | GY11: - | GZ11: - | HA11: - | HB11: - | HC11: 88 | HD11: 34 | HE11: 54 | HF11: 24 | HG11: 49 | HH11: - | HI11: - | HJ11: - | HK11: 5 | HL11: 10 | HM11: - | HN11: - | HO11: -
A12: 桃園市 | B12: Taoyuan City | C12: 1063 | D12: 318 | E12: 745 | F12: 247 | G12: 471 | H12: 69 | I12: 239 | J12: - | K12: - | L12: - | M12: 31 | N12: 2 | O12: 4 | P12: 1021 | Q12: 300 | R12: 721 | S12: 232 | T12: 456 | U12: 67 | V12: 232 | W12: - | X12: - | Y12: - | Z12: 29 | AA12: 1 | AB12: 4 | AC12: - | AD12: - | AE12: - | AF12: - | AG12: - | AH12: - | AI12: - | AJ12: - | AK12: - | AL12: - | AM12: - | AN12: - | AO12: - | AP12: - | AQ12: - | AR12: - | AS12: - | AT12: - | AU12: - | AV12: - | AW12: - | AX12: - | AY12: - | AZ12: - | BA12: - | BB12: - | BC12: - | BD12: - | BE12: - | BF12: - | BG12: - | BH12: - | BI12: - | BJ12: - | BK12: - | BL12: - | BM12: - | BN12: - | BO12: - | BP12: 1 | BQ12: - | BR12: 1 | BS12: - | BT12: 1 | BU12: - | BV12: - | BW12: - | BX12: - | BY12: - | BZ12: - | CA12: - | CB12: - | CC12: - | CD12: - | CE12: - | CF12: - | CG12: - | CH12: - | CI12: - | CJ12: - | CK12: - | CL12: - | CM12: - | CN12: - | CO12: - | CP12: 5 | CQ12: 1 | CR12: 4 | CS12: 1 | CT12: 3 | CU12: - | CV12: 1 | CW12: - | CX12: - | CY12: - | CZ12: - | DA12: - | DB12: - | DC12: 4 | DD12: 2 | DE12: 2 | DF12: 2 | DG12: 2 | DH12: - | DI12: - | DJ12: - | DK12: - | DL12: - | DM12: - | DN12: - | DO12: - | DP12: - | DQ12: - | DR12: - | DS12: - | DT12: - | DU12: - | DV12: - | DW12: - | DX12: - | DY12: - | DZ12: - | EA12: - | EB12: - | EC12: - | ED12: - | EE12: - | EF12: - | EG12: - | EH12: - | EI12: - | EJ12: - | EK12: - | EL12: - | EM12: - | EN12: - | EO12: - | EP12: - | EQ12: - | ER12: - | ES12: - | ET12: - | EU12: - | EV12: - | EW12: - | EX12: - | EY12: - | EZ12: - | FA12: - | FB12: - | FC12: - | FD12: - | FE12: - | FF12: - | FG12: - | FH12: - | FI12: - | FJ12: - | FK12: - | FL12: - | FM12: - | FN12: - | FO12: - | FP12: 7 | FQ12: 3 | FR12: 4 | FS12: 2 | FT12: 2 | FU12: - | FV12: 2 | FW12: - | FX12: - | FY12: - | FZ12: - | GA12: 1 | GB12: - | GC12: - | GD12: - | GE12: - | GF12: - | GG12: - | GH12: - | GI12: - | GJ12: - | GK12: - | GL12: - | GM12: - | GN12: - | GO12: - | GP12: - | GQ12: - | GR12: - | GS12: - | GT12: - | GU12: - | GV12: - | GW12: - | GX12: - | GY12: - | GZ12: - | HA12: - | HB12: - | HC12: 25 | HD12: 12 | HE12: 13 | HF12: 10 | HG12: 7 | HH12: 2 | HI12: 4 | HJ12: - | HK12: - | HL12: - | HM12: 2 | HN12: - | HO12: -
A13: 臺中市 | B13: Taichung City | C13: 1572 | D13: 531 | E13: 1041 | F13: 455 | G13: 949 | H13: 5 | I13: 65 | J13: - | K13: 6 | L13: 66 | M13: 5 | N13: 5 | O13: 16 | P13: 1469 | Q13: 487 | R13: 982 | S13: 420 | T13: 890 | U13: 5 | V13: 65 | W13: - | X13: 6 | Y13: 58 | Z13: 5 | AA13: 4 | AB13: 16 | AC13: - | AD13: - | AE13: - | AF13: - | AG13: - | AH13: - | AI13: - | AJ13: - | AK13: - | AL13: - | AM13: - | AN13: - | AO13: - | AP13: - | AQ13: - | AR13: - | AS13: - | AT13: - | AU13: - | AV13: - | AW13: - | AX13: - | AY13: - | AZ13: - | BA13: - | BB13: - | BC13: - | BD13: - | BE13: - | BF13: - | BG13: - | BH13: - | BI13: - | BJ13: - | BK13: - | BL13: - | BM13: - | BN13: - | BO13: - | BP13: 5 | BQ13: - | BR13: 5 | BS13: - | BT13: 5 | BU13: - | BV13: - | BW13: - | BX13: - | BY13: - | BZ13: - | CA13: - | CB13: - | CC13: - | CD13: - | CE13: - | CF13: - | CG13: - | CH13: - | CI13: - | CJ13: - | CK13: - | CL13: - | CM13: - | CN13: - | CO13: - | CP13: - | CQ13: - | CR13: - | CS13: - | CT13: - | CU13: - | CV13: - | CW13: - | CX13: - | CY13: - | CZ13: - | DA13: - | DB13: - | DC13: 8 | DD13: 3 | DE13: 5 | DF13: 3 | DG13: 5 | DH13: - | DI13: - | DJ13: - | DK13: - | DL13: - | DM13: - | DN13: - | DO13: - | DP13: 4 | DQ13: 1 | DR13: 3 | DS13: 1 | DT13: 3 | DU13: - | DV13: - | DW13: - | DX13: - | DY13: - | DZ13: - | EA13: - | EB13: - | EC13: 28 | ED13: 12 | EE13: 16 | EF13: 7 | EG13: 16 | EH13: - | EI13: - | EJ13: - | EK13: - | EL13: 5 | EM13: - | EN13: - | EO13: - | EP13: - | EQ13: - | ER13: - | ES13: - | ET13: - | EU13: - | EV13: - | EW13: - | EX13: - | EY13: - | EZ13: - | FA13: - | FB13: - | FC13: - | FD13: - | FE13: - | FF13: - | FG13: - | FH13: - | FI13: - | FJ13: - | FK13: - | FL13: - | FM13: - | FN13: - | FO13: - | FP13: 5 | FQ13: 3 | FR13: 2 | FS13: 3 | FT13: 2 | FU13: - | FV13: - | FW13: - | FX13: - | FY13: - | FZ13: - | GA13: - | GB13: - | GC13: 12 | GD13: 11 | GE13: 1 | GF13: 10 | GG13: 1 | GH13: - | GI13: - | GJ13: - | GK13: - | GL13: - | GM13: - | GN13: 1 | GO13: - | GP13: - | GQ13: - | GR13: - | GS13: - | GT13: - | GU13: - | GV13: - | GW13: - | GX13: - | GY13: - | GZ13: - | HA13: - | HB13: - | HC13: 41 | HD13: 14 | HE13: 27 | HF13: 11 | HG13: 27 | HH13: - | HI13: - | HJ13: - | HK13: - | HL13: 3 | HM13: - | HN13: - | HO13: -
A14: 臺南市 | B14: Tainan City | C14: 676 | D14: 285 | E14: 391 | F14: 280 | G14: 332 | H14: 3 | I14: 22 | J14: - | K14: - | L14: - | M14: 37 | N14: 2 | O14: - | P14: 641 | Q14: 267 | R14: 374 | S14: 262 | T14: 319 | U14: 3 | V14: 21 | W14: - | X14: - | Y14: - | Z14: 34 | AA14: 2 | AB14: - | AC14: - | AD14: - | AE14: - | AF14: - | AG14: - | AH14: - | AI14: - | AJ14: - | AK14: - | AL14: - | AM14: - | AN14: - | AO14: - | AP14: - | AQ14: - | AR14: - | AS14: - | AT14: - | AU14: - | AV14: - | AW14: - | AX14: - | AY14: - | AZ14: - | BA14: - | BB14: - | BC14: - | BD14: - | BE14: - | BF14: - | BG14: - | BH14: - | BI14: - | BJ14: - | BK14: - | BL14: - | BM14: - | BN14: - | BO14: - | BP14: - | BQ14: - | BR14: - | BS14: - | BT14: - | BU14: - | BV14: - | BW14: - | BX14: - | BY14: - | BZ14: - | CA14: - | CB14: - | CC14: - | CD14: - | CE14: - | CF14: - | CG14: - | CH14: - | CI14: - | CJ14: - | CK14: - | CL14: - | CM14: - | CN14: - | CO14: - | CP14: 3 | CQ14: 1 | CR14: 2 | CS14: 1 | CT14: 1 | CU14: - | CV14: - | CW14: - | CX14: - | CY14: - | CZ14: 1 | DA14: - | DB14: - | DC14: 12 | DD14: 7 | DE14: 5 | DF14: 7 | DG14: 3 | DH14: - | DI14: - | DJ14: - | DK14: - | DL14: - | DM14: 2 | DN14: - | DO14: - | DP14: - | DQ14: - | DR14: - | DS14: - | DT14: - | DU14: - | DV14: - | DW14: - | DX14: - | DY14: - | DZ14: - | EA14: - | EB14: - | EC14: 2 | ED14: - | EE14: 2 | EF14: - | EG14: 2 | EH14: - | EI14: - | EJ14: - | EK14: - | EL14: - | EM14: - | EN14: - | EO14: - | EP14: - | EQ14: - | ER14: - | ES14: - | ET14: - | EU14: - | EV14: - | EW14: - | EX14: - | EY14: - | EZ14: - | FA14: - | FB14: - | FC14: - | FD14: - | FE14: - | FF14: - | FG14: - | FH14: - | FI14: - | FJ14: - | FK14: - | FL14: - | FM14: - | FN14: - | FO14: - | FP14: 1 | FQ14: - | FR14: 1 | FS14: - | FT14: 1 | FU14: - | FV14: - | FW14: - | FX14: - | FY14: - | FZ14: - | GA14: - | GB14: - | GC14: 2 | GD14: - | GE14: 2 | GF14: - | GG14: 1 | GH14: - | GI14: 1 | GJ14: - | GK14: - | GL14: - | GM14: - | GN14: - | GO14: - | GP14: - | GQ14: - | GR14: - | GS14: - | GT14: - | GU14: - | GV14: - | GW14: - | GX14: - | GY14: - | GZ14: - | HA14: - | HB14: - | HC14: 15 | HD14: 10 | HE14: 5 | HF14: 10 | HG14: 5 | HH14: - | HI14: - | HJ14: - | HK14: - | HL14: - | HM14: - | HN14: - | HO14: -
A15: 高雄市 | B15: Kaohsiung City | C15: 1239 | D15: 412 | E15: 827 | F15: 346 | G15: 712 | H15: 60 | I15: 98 | J15: 6 | K15: 14 | L15: - | M15: 3 | N15: - | O15: - | P15: 1127 | Q15: 369 | R15: 758 | S15: 309 | T15: 660 | U15: 56 | V15: 81 | W15: 4 | X15: 14 | Y15: - | Z15: 3 | AA15: - | AB15: - | AC15: - | AD15: - | AE15: - | AF15: - | AG15: - | AH15: - | AI15: - | AJ15: - | AK15: - | AL15: - | AM15: - | AN15: - | AO15: - | AP15: - | AQ15: - | AR15: - | AS15: - | AT15: - | AU15: - | AV15: - | AW15: - | AX15: - | AY15: - | AZ15: - | BA15: - | BB15: - | BC15: - | BD15: - | BE15: - | BF15: - | BG15: - | BH15: - | BI15: - | BJ15: - | BK15: - | BL15: - | BM15: - | BN15: - | BO15: - | BP15: 5 | BQ15: 1 | BR15: 4 | BS15: 1 | BT15: 4 | BU15: - | BV15: - | BW15: - | BX15: - | BY15: - | BZ15: - | CA15: - | CB15: - | CC15: - | CD15: - | CE15: - | CF15: - | CG15: - | CH15: - | CI15: - | CJ15: - | CK15: - | CL15: - | CM15: - | CN15: - | CO15: - | CP15: - | CQ15: - | CR15: - | CS15: - | CT15: - | CU15: - | CV15: - | CW15: - | CX15: - | CY15: - | CZ15: - | DA15: - | DB15: - | DC15: 30 | DD15: 13 | DE15: 17 | DF15: 13 | DG15: 14 | DH15: - | DI15: 3 | DJ15: - | DK15: - | DL15: - | DM15: - | DN15: - | DO15: - | DP15: 5 | DQ15: 1 | DR15: 4 | DS15: - | DT15: 3 | DU15: 1 | DV15: 1 | DW15: - | DX15: - | DY15: - | DZ15: - | EA15: - | EB15: - | EC15: 1 | ED15: - | EE15: 1 | EF15: - | EG15: 1 | EH15: - | EI15: - | EJ15: - | EK15: - | EL15: - | EM15: - | EN15: - | EO15: - | EP15: - | EQ15: - | ER15: - | ES15: - | ET15: - | EU15: - | EV15: - | EW15: - | EX15: - | EY15: - | EZ15: - | FA15: - | FB15: - | FC15: 2 | FD15: - | FE15: 2 | FF15: - | FG15: 1 | FH15: - | FI15: 1 | FJ15: - | FK15: - | FL15: - | FM15: - | FN15: - | FO15: - | FP15: 11 | FQ15: 2 | FR15: 9 | FS15: 1 | FT15: 7 | FU15: - | FV15: 2 | FW15: 1 | FX15: - | FY15: - | FZ15: - | GA15: - | GB15: - | GC15: 21 | GD15: 9 | GE15: 12 | GF15: 8 | GG15: 11 | GH15: - | GI15: 1 | GJ15: 1 | GK15: - | GL15: - | GM15: - | GN15: - | GO15: - | GP15: - | GQ15: - | GR15: - | GS15: - | GT15: - | GU15: - | GV15: - | GW15: - | GX15: - | GY15: - | GZ15: - | HA15: - | HB15: - | HC15: 37 | HD15: 17 | HE15: 20 | HF15: 14 | HG15: 11 | HH15: 3 | HI15: 9 | HJ15: - | HK15: - | HL15: - | HM15: - | HN15: - | HO15: -
A16: 宜蘭縣 | B16: Yilan County | C16: 184 | D16: 7 | E16: 177 | F16: 4 | G16: 78 | H16: - | I16: 99 | J16: - | K16: - | L16: - | M16: - | N16: 3 | O16: - | P16: 179 | Q16: 7 | R16: 172 | S16: 4 | T16: 75 | U16: - | V16: 97 | W16: - | X16: - | Y16: - | Z16: - | AA16: 3 | AB16: - | AC16: - | AD16: - | AE16: - | AF16: - | AG16: - | AH16: - | AI16: - | AJ16: - | AK16: - | AL16: - | AM16: - | AN16: - | AO16: - | AP16: - | AQ16: - | AR16: - | AS16: - | AT16: - | AU16: - | AV16: - | AW16: - | AX16: - | AY16: - | AZ16: - | BA16: - | BB16: - | BC16: - | BD16: - | BE16: - | BF16: - | BG16: - | BH16: - | BI16: - | BJ16: - | BK16: - | BL16: - | BM16: - | BN16: - | BO16: - | BP16: - | BQ16: - | BR16: - | BS16: - | BT16: - | BU16: - | BV16: - | BW16: - | BX16: - | BY16: - | BZ16: - | CA16: - | CB16: - | CC16: - | CD16: - | CE16: - | CF16: - | CG16: - | CH16: - | CI16: - | CJ16: - | CK16: - | CL16: - | CM16: - | CN16: - | CO16: - | CP16: - | CQ16: - | CR16: - | CS16: - | CT16: - | CU16: - | CV16: - | CW16: - | CX16: - | CY16: - | CZ16: - | DA16: - | DB16: - | DC16: 1 | DD16: - | DE16: 1 | DF16: - | DG16: - | DH16: - | DI16: 1 | DJ16: - | DK16: - | DL16: - | DM16: - | DN16: - | DO16: - | DP16: 4 | DQ16: - | DR16: 4 | DS16: - | DT16: 3 | DU16: - | DV16: 1 | DW16: - | DX16: - | DY16: - | DZ16: - | EA16: - | EB16: - | EC16: - | ED16: - | EE16: - | EF16: - | EG16: - | EH16: - | EI16: - | EJ16: - | EK16: - | EL16: - | EM16: - | EN16: - | EO16: - | EP16: - | EQ16: - | ER16: - | ES16: - | ET16: - | EU16: - | EV16: - | EW16: - | EX16: - | EY16: - | EZ16: - | FA16: - | FB16: - | FC16: - | FD16: - | FE16: - | FF16: - | FG16: - | FH16: - | FI16: - | FJ16: - | FK16: - | FL16: - | FM16: - | FN16: - | FO16: - | FP16: - | FQ16: - | FR16: - | FS16: - | FT16: - | FU16: - | FV16: - | FW16: - | FX16: - | FY16: - | FZ16: - | GA16: - | GB16: - | GC16: - | GD16: - | GE16: - | GF16: - | GG16: - | GH16: - | GI16: - | GJ16: - | GK16: - | GL16: - | GM16: - | GN16: - | GO16: - | GP16: - | GQ16: - | GR16: - | GS16: - | GT16: - | GU16: - | GV16: - | GW16: - | GX16: - | GY16: - | GZ16: - | HA16: - | HB16: - | HC16: - | HD16: - | HE16: - | HF16: - | HG16: - | HH16: - | HI16: - | HJ16: - | HK16: - | HL16: - | HM16: - | HN16: - | HO16: -
A17: 新竹縣 | B17: Hsinchu County | C17: 169 | D17: 39 | E17: 130 | F17: 33 | G17: 106 | H17: 6 | I17: 24 | J17: - | K17: - | L17: - | M17: - | N17: - | O17: - | P17: 167 | Q17: 39 | R17: 128 | S17: 33 | T17: 106 | U17: 6 | V17: 22 | W17: - | X17: - | Y17: - | Z17: - | AA17: - | AB17: - | AC17: - | AD17: - | AE17: - | AF17: - | AG17: - | AH17: - | AI17: - | AJ17: - | AK17: - | AL17: - | AM17: - | AN17: - | AO17: - | AP17: - | AQ17: - | AR17: - | AS17: - | AT17: - | AU17: - | AV17: - | AW17: - | AX17: - | AY17: - | AZ17: - | BA17: - | BB17: - | BC17: - | BD17: - | BE17: - | BF17: - | BG17: - | BH17: - | BI17: - | BJ17: - | BK17: - | BL17: - | BM17: - | BN17: - | BO17: - | BP17: - | BQ17: - | BR17: - | BS17: - | BT17: - | BU17: - | BV17: - | BW17: - | BX17: - | BY17: - | BZ17: - | CA17: - | CB17: - | CC17: - | CD17: - | CE17: - | CF17: - | CG17: - | CH17: - | CI17: - | CJ17: - | CK17: - | CL17: - | CM17: - | CN17: - | CO17: - | CP17: - | CQ17: - | CR17: - | CS17: - | CT17: - | CU17: - | CV17: - | CW17: - | CX17: - | CY17: - | CZ17: - | DA17: - | DB17: - | DC17: - | DD17: - | DE17: - | DF17: - | DG17: - | DH17: - | DI17: - | DJ17: - | DK17: - | DL17: - | DM17: - | DN17: - | DO17: - | DP17: - | DQ17: - | DR17: - | DS17: - | DT17: - | DU17: - | DV17: - | DW17: - | DX17: - | DY17: - | DZ17: - | EA17: - | EB17: - | EC17: - | ED17: - | EE17: - | EF17: - | EG17: - | EH17: - | EI17: - | EJ17: - | EK17: - | EL17: - | EM17: - | EN17: - | EO17: - | EP17: - | EQ17: - | ER17: - | ES17: - | ET17: - | EU17: - | EV17: - | EW17: - | EX17: - | EY17: - | EZ17: - | FA17: - | FB17: - | FC17: - | FD17: - | FE17: - | FF17: - | FG17: - | FH17: - | FI17: - | FJ17: - | FK17: - | FL17: - | FM17: - | FN17: - | FO17: - | FP17: - | FQ17: - | FR17: - | FS17: - | FT17: - | FU17: - | FV17: - | FW17: - | FX17: - | FY17: - | FZ17: - | GA17: - | GB17: - | GC17: - | GD17: - | GE17: - | GF17: - | GG17: - | GH17: - | GI17: - | GJ17: - | GK17: - | GL17: - | GM17: - | GN17: - | GO17: - | GP17: - | GQ17: - | GR17: - | GS17: - | GT17: - | GU17: - | GV17: - | GW17: - | GX17: - | GY17: - | GZ17: - | HA17: - | HB17: - | HC17: 2 | HD17: - | HE17: 2 | HF17: - | HG17: - | HH17: - | HI17: 2 | HJ17: - | HK17: - | HL17: - | HM17: - | HN17: - | HO17: -
A18: 苗栗縣 | B18: Miaoli County | C18: 21 | D18: 4 | E18: 17 | F18: 4 | G18: 8 | H18: - | I18: 9 | J18: - | K18: - | L18: - | M18: - | N18: - | O18: - | P18: 21 | Q18: 4 | R18: 17 | S18: 4 | T18: 8 | U18: - | V18: 9 | W18: - | X18: - | Y18: - | Z18: - | AA18: - | AB18: - | AC18: - | AD18: - | AE18: - | AF18: - | AG18: - | AH18: - | AI18: - | AJ18: - | AK18: - | AL18: - | AM18: - | AN18: - | AO18: - | AP18: - | AQ18: - | AR18: - | AS18: - | AT18: - | AU18: - | AV18: - | AW18: - | AX18: - | AY18: - | AZ18: - | BA18: - | BB18: - | BC18: - | BD18: - | BE18: - | BF18: - | BG18: - | BH18: - | BI18: - | BJ18: - | BK18: - | BL18: - | BM18: - | BN18: - | BO18: - | BP18: - | BQ18: - | BR18: - | BS18: - | BT18: - | BU18: - | BV18: - | BW18: - | BX18: - | BY18: - | BZ18: - | CA18: - | CB18: - | CC18: - | CD18: - | CE18: - | CF18: - | CG18: - | CH18: - | CI18: - | CJ18: - | CK18: - | CL18: - | CM18: - | CN18: - | CO18: - | CP18: - | CQ18: - | CR18: - | CS18: - | CT18: - | CU18: - | CV18: - | CW18: - | CX18: - | CY18: - | CZ18: - | DA18: - | DB18: - | DC18: - | DD18: - | DE18: - | DF18: - | DG18: - | DH18: - | DI18: - | DJ18: - | DK18: - | DL18: - | DM18: - | DN18: - | DO18: - | DP18: - | DQ18: - | DR18: - | DS18: - | DT18: - | DU18: - | DV18: - | DW18: - | DX18: - | DY18: - | DZ18: - | EA18: - | EB18: - | EC18: - | ED18: - | EE18: - | EF18: - | EG18: - | EH18: - | EI18: - | EJ18: - | EK18: - | EL18: - | EM18: - | EN18: - | EO18: - | EP18: - | EQ18: - | ER18: - | ES18: - | ET18: - | EU18: - | EV18: - | EW18: - | EX18: - | EY18: - | EZ18: - | FA18: - | FB18: - | FC18: - | FD18: - | FE18: - | FF18: - | FG18: - | FH18: - | FI18: - | FJ18: - | FK18: - | FL18: - | FM18: - | FN18: - | FO18: - | FP18: - | FQ18: - | FR18: - | FS18: - | FT18: - | FU18: - | FV18: - | FW18: - | FX18: - | FY18: - | FZ18: - | GA18: - | GB18: - | GC18: - | GD18: - | GE18: - | GF18: - | GG18: - | GH18: - | GI18: - | GJ18: - | GK18: - | GL18: - | GM18: - | GN18: - | GO18: - | GP18: - | GQ18: - | GR18: - | GS18: - | GT18: - | GU18: - | GV18: - | GW18: - | GX18: - | GY18: - | GZ18: - | HA18: - | HB18: - | HC18: - | HD18: - | HE18: - | HF18: - | HG18: - | HH18: - | HI18: - | HJ18: - | HK18: - | HL18: - | HM18: - | HN18: - | HO18: -
A19: 彰化縣 | B19: Changhua County | C19: 160 | D19: 76 | E19: 84 | F19: 73 | G19: 69 | H19: 3 | I19: - | J19: - | K19: - | L19: - | M19: 15 | N19: - | O19: - | P19: 154 | Q19: 73 | R19: 81 | S19: 70 | T19: 67 | U19: 3 | V19: - | W19: - | X19: - | Y19: - | Z19: 14 | AA19: - | AB19: - | AC19: - | AD19: - | AE19: - | AF19: - | AG19: - | AH19: - | AI19: - | AJ19: - | AK19: - | AL19: - | AM19: - | AN19: - | AO19: - | AP19: - | AQ19: - | AR19: - | AS19: - | AT19: - | AU19: - | AV19: - | AW19: - | AX19: - | AY19: - | AZ19: - | BA19: - | BB19: - | BC19: - | BD19: - | BE19: - | BF19: - | BG19: - | BH19: - | BI19: - | BJ19: - | BK19: - | BL19: - | BM19: - | BN19: - | BO19: - | BP19: - | BQ19: - | BR19: - | BS19: - | BT19: - | BU19: - | BV19: - | BW19: - | BX19: - | BY19: - | BZ19: - | CA19: - | CB19: - | CC19: - | CD19: - | CE19: - | CF19: - | CG19: - | CH19: - | CI19: - | CJ19: - | CK19: - | CL19: - | CM19: - | CN19: - | CO19: - | CP19: - | CQ19: - | CR19: - | CS19: - | CT19: - | CU19: - | CV19: - | CW19: - | CX19: - | CY19: - | CZ19: - | DA19: - | DB19: - | DC19: 1 | DD19: 1 | DE19: - | DF19: 1 | DG19: - | DH19: - | DI19: - | DJ19: - | DK19: - | DL19: - | DM19: - | DN19: - | DO19: - | DP19: - | DQ19: - | DR19: - | DS19: - | DT19: - | DU19: - | DV19: - | DW19: - | DX19: - | DY19: - | DZ19: - | EA19: - | EB19: - | EC19: - | ED19: - | EE19: - | EF19: - | EG19: - | EH19: - | EI19: - | EJ19: - | EK19: - | EL19: - | EM19: - | EN19: - | EO19: - | EP19: - | EQ19: - | ER19: - | ES19: - | ET19: - | EU19: - | EV19: - | EW19: - | EX19: - | EY19: - | EZ19: - | FA19: - | FB19: - | FC19: - | FD19: - | FE19: - | FF19: - | FG19: - | FH19: - | FI19: - | FJ19: - | FK19: - | FL19: - | FM19: - | FN19: - | FO19: - | FP19: - | FQ19: - | FR19: - | FS19: - | FT19: - | FU19: - | FV19: - | FW19: - | FX19: - | FY19: - | FZ19: - | GA19: - | GB19: - | GC19: - | GD19: - | GE19: - | GF19: - | GG19: - | GH19: - | GI19: - | GJ19: - | GK19: - | GL19: - | GM19: - | GN19: - | GO19: - | GP19: - | GQ19: - | GR19: - | GS19: - | GT19: - | GU19: - | GV19: - | GW19: - | GX19: - | GY19: - | GZ19: - | HA19: - | HB19: - | HC19: 5 | HD19: 2 | HE19: 3 | HF19: 2 | HG19: 2 | HH19: - | HI19: - | HJ19: - | HK19: - | HL19: - | HM19: 1 | HN19: - | HO19: -
A20: 南投縣 | B20: Nantou County | C20: 46 | D20: 12 | E20: 34 | F20: 8 | G20: 30 | H20: 4 | I20: 4 | J20: - | K20: - | L20: - | M20: - | N20: - | O20: - | P20: 41 | Q20: 12 | R20: 29 | S20: 8 | T20: 25 | U20: 4 | V20: 4 | W20: - | X20: - | Y20: - | Z20: - | AA20: - | AB20: - | AC20: - | AD20: - | AE20: - | AF20: - | AG20: - | AH20: - | AI20: - | AJ20: - | AK20: - | AL20: - | AM20: - | AN20: - | AO20: - | AP20: - | AQ20: - | AR20: - | AS20: - | AT20: - | AU20: - | AV20: - | AW20: - | AX20: - | AY20: - | AZ20: - | BA20: - | BB20: - | BC20: - | BD20: - | BE20: - | BF20: - | BG20: - | BH20: - | BI20: - | BJ20: - | BK20: - | BL20: - | BM20: - | BN20: - | BO20: - | BP20: 1 | BQ20: - | BR20: 1 | BS20: - | BT20: 1 | BU20: - | BV20: - | BW20: - | BX20: - | BY20: - | BZ20: - | CA20: - | CB20: - | CC20: - | CD20: - | CE20: - | CF20: - | CG20: - | CH20: - | CI20: - | CJ20: - | CK20: - | CL20: - | CM20: - | CN20: - | CO20: - | CP20: 1 | CQ20: - | CR20: 1 | CS20: - | CT20: 1 | CU20: - | CV20: - | CW20: - | CX20: - | CY20: - | CZ20: - | DA20: - | DB20: - | DC20: - | DD20: - | DE20: - | DF20: - | DG20: - | DH20: - | DI20: - | DJ20: - | DK20: - | DL20: - | DM20: - | DN20: - | DO20: - | DP20: - | DQ20: - | DR20: - | DS20: - | DT20: - | DU20: - | DV20: - | DW20: - | DX20: - | DY20: - | DZ20: - | EA20: - | EB20: - | EC20: - | ED20: - | EE20: - | EF20: - | EG20: - | EH20: - | EI20: - | EJ20: - | EK20: - | EL20: - | EM20: - | EN20: - | EO20: - | EP20: - | EQ20: - | ER20: - | ES20: - | ET20: - | EU20: - | EV20: - | EW20: - | EX20: - | EY20: - | EZ20: - | FA20: - | FB20: - | FC20: - | FD20: - | FE20: - | FF20: - | FG20: - | FH20: - | FI20: - | FJ20: - | FK20: - | FL20: - | FM20: - | FN20: - | FO20: - | FP20: 2 | FQ20: - | FR20: 2 | FS20: - | FT20: 2 | FU20: - | FV20: - | FW20: - | FX20: - | FY20: - | FZ20: - | GA20: - | GB20: - | GC20: - | GD20: - | GE20: - | GF20: - | GG20: - | GH20: - | GI20: - | GJ20: - | GK20: - | GL20: - | GM20: - | GN20: - | GO20: - | GP20: - | GQ20: - | GR20: - | GS20: - | GT20: - | GU20: - | GV20: - | GW20: - | GX20: - | GY20: - | GZ20: - | HA20: - | HB20: - | HC20: 1 | HD20: - | HE20: 1 | HF20: - | HG20: 1 | HH20: - | HI20: - | HJ20: - | HK20: - | HL20: - | HM20: - | HN20: - | HO20: -
A21: 雲林縣 | B21: Yunlin County | C21: 223 | D21: 110 | E21: 113 | F21: 103 | G21: 104 | H21: 7 | I21: - | J21: - | K21: - | L21: - | M21: - | N21: - | O21: 9 | P21: 215 | Q21: 108 | R21: 107 | S21: 101 | T21: 102 | U21: 7 | V21: - | W21: - | X21: - | Y21: - | Z21: - | AA21: - | AB21: 5 | AC21: 2 | AD21: - | AE21: 2 | AF21: - | AG21: 2 | AH21: - | AI21: - | AJ21: - | AK21: - | AL21: - | AM21: - | AN21: - | AO21: - | AP21: - | AQ21: - | AR21: - | AS21: - | AT21: - | AU21: - | AV21: - | AW21: - | AX21: - | AY21: - | AZ21: - | BA21: - | BB21: - | BC21: - | BD21: - | BE21: - | BF21: - | BG21: - | BH21: - | BI21: - | BJ21: - | BK21: - | BL21: - | BM21: - | BN21: - | BO21: - | BP21: 1 | BQ21: 1 | BR21: - | BS21: 1 | BT21: - | BU21: - | BV21: - | BW21: - | BX21: - | BY21: - | BZ21: - | CA21: - | CB21: - | CC21: - | CD21: - | CE21: - | CF21: - | CG21: - | CH21: - | CI21: - | CJ21: - | CK21: - | CL21: - | CM21: - | CN21: - | CO21: - | CP21: - | CQ21: - | CR21: - | CS21: - | CT21: - | CU21: - | CV21: - | CW21: - | CX21: - | CY21: - | CZ21: - | DA21: - | DB21: - | DC21: - | DD21: - | DE21: - | DF21: - | DG21: - | DH21: - | DI21: - | DJ21: - | DK21: - | DL21: - | DM21: - | DN21: - | DO21: - | DP21: - | DQ21: - | DR21: - | DS21: - | DT21: - | DU21: - | DV21: - | DW21: - | DX21: - | DY21: - | DZ21: - | EA21: - | EB21: - | EC21: - | ED21: - | EE21: - | EF21: - | EG21: - | EH21: - | EI21: - | EJ21: - | EK21: - | EL21: - | EM21: - | EN21: - | EO21: - | EP21: - | EQ21: - | ER21: - | ES21: - | ET21: - | EU21: - | EV21: - | EW21: - | EX21: - | EY21: - | EZ21: - | FA21: - | FB21: - | FC21: - | FD21: - | FE21: - | FF21: - | FG21: - | FH21: - | FI21: - | FJ21: - | FK21: - | FL21: - | FM21: - | FN21: - | FO21: - | FP21: 3 | FQ21: - | FR21: 3 | FS21: - | FT21: - | FU21: - | FV21: - | FW21: - | FX21: - | FY21: - | FZ21: - | GA21: - | GB21: 3 | GC21: - | GD21: - | GE21: - | GF21: - | GG21: - | GH21: - | GI21: - | GJ21: - | GK21: - | GL21: - | GM21: - | GN21: - | GO21: - | GP21: - | GQ21: - | GR21: - | GS21: - | GT21: - | GU21: - | GV21: - | GW21: - | GX21: - | GY21: - | GZ21: - | HA21: - | HB21: - | HC21: 2 | HD21: 1 | HE21: 1 | HF21: 1 | HG21: - | HH21: - | HI21: - | HJ21: - | HK21: - | HL21: - | HM21: - | HN21: - | HO21: 1
A22: 嘉義縣 | B22: Chiayi County | C22: 34 | D22: 11 | E22: 23 | F22: 11 | G22: 23 | H22: - | I22: - | J22: - | K22: - | L22: - | M22: - | N22: - | O22: - | P22: 33 | Q22: 10 | R22: 23 | S22: 10 | T22: 23 | U22: - | V22: - | W22: - | X22: - | Y22: - | Z22: - | AA22: - | AB22: - | AC22: - | AD22: - | AE22: - | AF22: - | AG22: - | AH22: - | AI22: - | AJ22: - | AK22: - | AL22: - | AM22: - | AN22: - | AO22: - | AP22: - | AQ22: - | AR22: - | AS22: - | AT22: - | AU22: - | AV22: - | AW22: - | AX22: - | AY22: - | AZ22: - | BA22: - | BB22: - | BC22: - | BD22: - | BE22: - | BF22: - | BG22: - | BH22: - | BI22: - | BJ22: - | BK22: - | BL22: - | BM22: - | BN22: - | BO22: - | BP22: - | BQ22: - | BR22: - | BS22: - | BT22: - | BU22: - | BV22: - | BW22: - | BX22: - | BY22: - | BZ22: - | CA22: - | CB22: - | CC22: - | CD22: - | CE22: - | CF22: - | CG22: - | CH22: - | CI22: - | CJ22: - | CK22: - | CL22: - | CM22: - | CN22: - | CO22: - | CP22: - | CQ22: - | CR22: - | CS22: - | CT22: - | CU22: - | CV22: - | CW22: - | CX22: - | CY22: - | CZ22: - | DA22: - | DB22: - | DC22: - | DD22: - | DE22: - | DF22: - | DG22: - | DH22: - | DI22: - | DJ22: - | DK22: - | DL22: - | DM22: - | DN22: - | DO22: - | DP22: - | DQ22: - | DR22: - | DS22: - | DT22: - | DU22: - | DV22: - | DW22: - | DX22: - | DY22: - | DZ22: - | EA22: - | EB22: - | EC22: - | ED22: - | EE22: - | EF22: - | EG22: - | EH22: - | EI22: - | EJ22: - | EK22: - | EL22: - | EM22: - | EN22: - | EO22: - | EP22: - | EQ22: - | ER22: - | ES22: - | ET22: - | EU22: - | EV22: - | EW22: - | EX22: - | EY22: - | EZ22: - | FA22: - | FB22: - | FC22: - | FD22: - | FE22: - | FF22: - | FG22: - | FH22: - | FI22: - | FJ22: - | FK22: - | FL22: - | FM22: - | FN22: - | FO22: - | FP22: - | FQ22: - | FR22: - | FS22: - | FT22: - | FU22: - | FV22: - | FW22: - | FX22: - | FY22: - | FZ22: - | GA22: - | GB22: - | GC22: - | GD22: - | GE22: - | GF22: - | GG22: - | GH22: - | GI22: - | GJ22: - | GK22: - | GL22: - | GM22: - | GN22: - | GO22: - | GP22: - | GQ22: - | GR22: - | GS22: - | GT22: - | GU22: - | GV22: - | GW22: - | GX22: - | GY22: - | GZ22: - | HA22: - | HB22: - | HC22: 1 | HD22: 1 | HE22: - | HF22: 1 | HG22: - | HH22: - | HI22: - | HJ22: - | HK22: - | HL22: - | HM22: - | HN22: - | HO22: -
A23: 屏東縣 | B23: Pingtung County | C23: 332 | D23: 139 | E23: 193 | F23: 117 | G23: 60 | H23: 6 | I23: 116 | J23: - | K23: - | L23: 7 | M23: - | N23: 9 | O23: 17 | P23: 304 | Q23: 128 | R23: 176 | S23: 110 | T23: 58 | U23: 6 | V23: 101 | W23: - | X23: - | Y23: 7 | Z23: - | AA23: 5 | AB23: 17 | AC23: - | AD23: - | AE23: - | AF23: - | AG23: - | AH23: - | AI23: - | AJ23: - | AK23: - | AL23: - | AM23: - | AN23: - | AO23: - | AP23: - | AQ23: - | AR23: - | AS23: - | AT23: - | AU23: - | AV23: - | AW23: - | AX23: - | AY23: - | AZ23: - | BA23: - | BB23: - | BC23: - | BD23: - | BE23: - | BF23: - | BG23: - | BH23: - | BI23: - | BJ23: - | BK23: - | BL23: - | BM23: - | BN23: - | BO23: - | BP23: 2 | BQ23: 1 | BR23: 1 | BS23: 1 | BT23: 1 | BU23: - | BV23: - | BW23: - | BX23: - | BY23: - | BZ23: - | CA23: - | CB23: - | CC23: - | CD23: - | CE23: - | CF23: - | CG23: - | CH23: - | CI23: - | CJ23: - | CK23: - | CL23: - | CM23: - | CN23: - | CO23: - | CP23: 1 | CQ23: - | CR23: 1 | CS23: - | CT23: 1 | CU23: - | CV23: - | CW23: - | CX23: - | CY23: - | CZ23: - | DA23: - | DB23: - | DC23: 5 | DD23: 1 | DE23: 4 | DF23: 1 | DG23: - | DH23: - | DI23: 4 | DJ23: - | DK23: - | DL23: - | DM23: - | DN23: - | DO23: - | DP23: 2 | DQ23: 1 | DR23: 1 | DS23: 1 | DT23: - | DU23: - | DV23: 1 | DW23: - | DX23: - | DY23: - | DZ23: - | EA23: - | EB23: - | EC23: 4 | ED23: 4 | EE23: - | EF23: - | EG23: - | EH23: - | EI23: - | EJ23: - | EK23: - | EL23: - | EM23: - | EN23: 4 | EO23: - | EP23: 2 | EQ23: - | ER23: 2 | ES23: - | ET23: - | EU23: - | EV23: 2 | EW23: - | EX23: - | EY23: - | EZ23: - | FA23: - | FB23: - | FC23: 2 | FD23: 1 | FE23: 1 | FF23: 1 | FG23: - | FH23: - | FI23: 1 | FJ23: - | FK23: - | FL23: - | FM23: - | FN23: - | FO23: - | FP23: 2 | FQ23: - | FR23: 2 | FS23: - | FT23: - | FU23: - | FV23: 2 | FW23: - | FX23: - | FY23: - | FZ23: - | GA23: - | GB23: - | GC23: 1 | GD23: - | GE23: 1 | GF23: - | GG23: - | GH23: - | GI23: 1 | GJ23: - | GK23: - | GL23: - | GM23: - | GN23: - | GO23: - | GP23: - | GQ23: - | GR23: - | GS23: - | GT23: - | GU23: - | GV23: - | GW23: - | GX23: - | GY23: - | GZ23: - | HA23: - | HB23: - | HC23: 7 | HD23: 3 | HE23: 4 | HF23: 3 | HG23: - | HH23: - | HI23: 4 | HJ23: - | HK23: - | HL23: - | HM23: - | HN23: - | HO23: -
