Workbook

Sheet 基本資料
A1: 衛生局縣市 | B1: 臺北市
A2: 計畫主持人 | C2: 職稱
A3: 計畫主辦科
A4: 計畫聯絡人 | C4: 職稱
A5: 電話
A6: 傳真
A7: 填報日期
A9: 填表說明
A10: 1.填報期間為：107年至109年1月31日。
A11: 2.應達員額數或相關規定之數值，將以公式代入。
A12: 3.工作表如為無需填復之欄位，以 " - " 作標註；需填報之欄位，以黃底標示。

Sheet 人力編制
A1: 中央補助人力
A2: 實際進用中央補助款人力 | AH2: 總人力(1+2+3+4+5) | AI2: 以人月數計算人力數(A+B+C+D) | AJ2: 是否符合中央補助人力數(以人月數判斷)
A3: 年度 | B3: 本部核定人力 | E3: 實際進用訪視人力 | Y3: 實際進用行政人力
E4: 精神疾病社區關懷訪視員人數 | K4: 自殺通報個案關懷訪視員人數 | Q4: 社區精神病人追蹤照護及自殺通報個案關懷訪視 合訪人力 | W4: 訪視人力 | Y4: 社區精神病人追蹤照護及自殺防治行政人力 | AC4: 其他(5) | AD4: 行政人力合計(4+5) | AE4: 在職月數>6個月者(g) | AF4: 在職月數合計≤6個月之人月數合計(h) | AG4: 以人月數計算人力數(D=g+h/12)
B5: 關懷訪視人力 | C5: 行政人力 | D5: 合計 | E5: 局內聘用 | F5: 委託辦理 | G5: 小計(1) | H5: 在職月數>6個月者(a) | I5: 在職月數合計≤6個月之人月數合計(b) | J5: 以人月數計算人力數(A=a+b/12) | K5: 局內聘用 | L5: 委託辦理 | M5: 小計(2) | N5: 在職月數>6個月者(c) | O5: 在職月數合計≤6個月之人月數合計(d) | P5: 以人月數計算人力數(B=c+d/12) | Q5: 局內聘用 | R5: 委託辦理 | S5: 小計(3) | T5: 在職月數>6個月者(e) | U5: 在職月數合計≤6個月之人月數合計(f) | V5: 以人月數計算人力數(C=e+f/12) | W5: 小計(1+2+3) | X5: 以人月數計算人力數(A+B+C) | Y5: 精神 | Z5: 自殺 | AA5: 合辦 | AB5: 合計(4)
A6: 107 | B6: =VLOOKUP(基本資料!B1,工作表1!A:I,6,0) -> 5 | C6: =VLOOKUP(基本資料!B1,工作表1!A:I,8,0) -> 0 | D6: =B6+C6 -> 5 | G6: =E6+F6 -> 0 | J6: =H6+(I6/12) -> 0 | M6: =K6+L6 -> 0 | P6: =N6+(O6/12) -> 0 | S6: =Q6+R6 -> 0 | V6: =T6+(U6/12) -> 0 | W6: =G6+M6+S6 -> 0 | X6: =J6+P6+V6 -> 0 | AB6: =AA6+Y6+Z6 -> 0 | AD6: =AB6+AC6 -> 0 | AG6: =AE6+(AF6/12) -> 0 | AH6: =G6+M6+S6+AD6 -> 0 | AI6: =J6+P6+V6+AG6 -> 0 | AJ6: =IF(AND(B6<=X6,C6<=AG6,D6<=AI6),"符合","不符合") -> 不符合
A7: 108 | B7: =VLOOKUP(基本資料!B1,工作表1!A:E,2,0) -> 5 | C7: =VLOOKUP(基本資料!B1,工作表1!A:I,4,0) -> 0 | D7: =B7+C7 -> 5 | G7: =E7+F7 -> 0 | J7: =H7+(I7/12) -> 0 | M7: =K7+L7 -> 0 | P7: =N7+(O7/12) -> 0 | S7: =Q7+R7 -> 0 | V7: =T7+(U7/12) -> 0 | W7: =G7+M7+S7 -> 0 | X7: =J7+P7+V7 -> 0 | AB7: =AA7+Y7+Z7 -> 0 | AD7: =AB7+AC7 -> 0 | AG7: =AE7+(AF7/12) -> 0 | AH7: =G7+M7+S7+AD7 -> 0 | AI7: =J7+P7+V7+AG7 -> 0 | AJ7: =IF(AND(B7<=X7,C7<=AG7,D7<=AI7),"符合","不符合") -> 不符合
A9: 地方自籌人力
A10: 實際進用地方自籌款人力 | AH10: 總人力(1+2+3+4+5) | AI10: 以人月數計算人力數(A+B+C+D) | AJ10: 評量等級
A11: 年度 | B11: 109年地方政府需自籌人力（如提報之計畫書有分關訪人力及行政人力，請依計劃書之規劃數填報；如未區分則提報合計人數即可） | E11: 實際進用訪視人力 | Y11: 實際進用行政人力
E12: 精神疾病社區關懷訪視員人數 | K12: 自殺通報個案關懷訪視員人數 | Q12: 社區精神病人追蹤照護及自殺通報個案關懷訪視 合訪人力 | W12: 訪視人力 | Y12: 社區精神病人追蹤照護及自殺防治行政人力 | AC12: 其他(5) | AD12: 行政人力合計(4+5) | AE12: 在職月數>6個月者(g) | AF12: 在職月數合計≤6個月之人月數合計(h) | AG12: 以人月數計算人力數D=(g+h/12)
B13: 關懷訪視人力 | C13: 行政人力 | D13: 合計 | E13: 局內 聘用 | F13: 委託辦理 | G13: 小計(1) | H13: 在職月數>6個月者(a) | I13: 在職月數合計≤6個月之人月數合計(b) | J13: 以人月數計算人力數A=(a+b/12) | K13: 局內聘用 | L13: 委託辦理 | M13: 小計(2) | N13: 在職月數>6個月者(c) | O13: 在職月數合計≤6個月之人月數合計(d) | P13: 以人月數計算人力數B=(c+d/12) | Q13: 局內聘用 | R13: 委託辦理 | S13: 小計(3) | T13: 在職月數>6個月者(e) | U13: 在職月數合計≤6個月之人月數合計(f) | V13: 以人月數計算人力數C=(e+f/12) | W13: 小計(1+2+3) | X13: 以人月數計算人力數(A+B+C) | Y13: 精神 | Z13: 自殺 | AA13: 合辦 | AB13: 合計(4)
A14: 107 | D14: =B14+C14 -> 0 | G14: =E14+F14 -> 0 | J14: =H14+(I14/12) -> 0 | M14: =K14+L14 -> 0 | P14: =N14+(O14/12) -> 0 | S14: =Q14+R14 -> 0 | V14: =T14+(U14/12) -> 0 | W14: =G14+M14+S14 -> 0 | X14: =J14+P14+V14 -> 0 | AB14: =AA14+Y14+Z14 -> 0 | AD14: =AC14+AB14 -> 0 | AG14: =AE14+(AF14/12) -> 0 | AH14: =G14+M14+S14+AD14 -> 0 | AI14: =J14+P14+V14+AG14 -> 0 | AJ14: =IF(AND(D14<=AI14,AI14>=D14*120%),"A",IF(AND(D14<=AI14,AI14*110%<=AI14<D14*120%),"B",IF(D14<=AI14,"C",IF(AND(D14>AI14,AI14<=D14*90%),"E",IF(D14>AI14,"D",))))) -> A
A15: 108 | D15: =B15+C15 -> 0 | G15: =E15+F15 -> 0 | J15: =H15+(I15/12) -> 0 | M15: =K15+L15 -> 0 | P15: =N15+(O15/12) -> 0 | S15: =Q15+R15 -> 0 | V15: =T15+(U15/12) -> 0 | W15: =G15+M15+S15 -> 0 | X15: =J15+P15+V15 -> 0 | AB15: =AA15+Y15+Z15 -> 0 | AD15: =AC15+AB15 -> 0 | AG15: =AE15+(AF15/12) -> 0 | AH15: =G15+M15+S15+AD15 -> 0 | AI15: =J15+P15+V15+AG15 -> 0 | AJ15: =IF(AND(D15<=AI15,AI15>=D15*120%),"A",IF(AND(D15<=AI15,AI15*110%<=AI15<D15*120%),"B",IF(D15<=AI15,"C",IF(AND(D15>AI15,AI15<=D15*90%),"E",IF(D15>AI15,"D",))))) -> A
A18: 評量等級說明
A19: A：人力編制與運用情形符合C，且地方自籌實際人力編制高於計畫書所訂地方自籌編制比例20%（含）以上，且落實進用。
A20: B：人力編制與運用情形符合C，且地方自籌實際人力編制高於計畫書所訂地方自籌編制比例10%，且落實進用。
A21: C：人力編制與運用情形符合規定
A22: 1.依據108年核定之各縣（市）員額分配表，其中央補助人力落實依前開計畫分配及運用（關懷訪視人力不得低於核定人數）。
A23: 2.各縣（市）政府應配合編列分擔款所聘任人力員額。
A24: 3.107年人力如未符合人力規定，於108年有合理改善機制且落實執行
A26: 備註說明
A27: 1.縣市自籌人力，不包含縣（市）承辦業務正式編制人員。
A28: 2.關懷訪視業務分派方式得採用精神病人關懷訪視及自殺通報個案關懷訪視兩者合併訪視方式辦理；如採用分訪方式，本部補助之社區精神關懷訪視員及自殺通報關懷訪視員之比例需合理分配（應至少有45%關懷訪視員執行精神病人訪視業務）。
A29: 3.依各縣（市）精神疾病及自殺通報個案管理計畫員額分配表辦理。
A30: 4.專案人力數計算方式：
... A32: (2) 若人力在職月數合計≤6個月之員額，則採合併計算人月數方式，其計算方式為「人力在職月數≤6個月之員額之人月數加總/12人月後以四捨五入取至整數位」。

Sheet 人員名冊
A1: 107-108年度中央補助/地方自籌計畫人員（專責人員、關懷訪視員、行政人力）名冊
A2: 1.專責人員註1
A3: 序號 | B3: 姓名 | C3: 工作內容 | D3: 職等 | E3: 在職月份數註10 | F3: 學歷註4 | G3: 工作經歷註5 | H3: 證照註6
A4: 1 | B4: 例：王小明 | F4: XX大學XX學系學士 | H4: 社工師證照
A5: 2 | B5: 例：黃大偉 | F5: XX大學XX學系碩士 | H5: 護理師證照
A10: 2.關懷訪視員註2
A11: (1)社區精神關懷訪視員：
A12: 序號 | B12: 姓名 | C12: 人力配置方式註7 | D12: 人力配置單位註8 | E12: 支薪標準註9 | F12: 薪資 | G12: 在職月份數註10 | J12: 學歷註4 | K12: 工作經歷註5 | L12: 證照註6
G13: 107年 | H13: 108年 | I13: 109年
A14: 1 | B14: 例：王小明 | C14: 請選擇 | D14: OO市政府衛生局 | E14: 約僱人員比照分類職位公務人員俸點支給報酬標準 | F14: 34916 | G14: 3 | H14: 12 | I14: 1 | J14: XX大學XX學系學士 | L14: 社工師證照
B15: 例：許安安 | C15: 請選擇 | D15: OO市政府衛生局 | E15: 約僱人員比照分類職位公務人員俸點支給報酬標準 | F15: 34916 | G15: 5 | H15: 0 | I15: 0 | J15: XX大學XX學系學士 | L15: 無
A16: 2 | B16: 例：黃大偉 | C16: 請選擇 | D16: 委辦機構、OO醫院 | E16: 衛生福利部及附屬機關研究計畫助理人員工作酬金支給基準 | F16: 36050 | G16: 0 | H16: 5 | I16: 1 | J16: XX大學XX學系碩士 | L16: 護理師證照
C17: 請選擇
C18: 請選擇
C19: 請選擇
A20: (2)自殺通報關懷訪視員：
A21: 序號 | B21: 姓名 | C21: 人力配置方式註7 | D21: 人力配置單位註8 | E21: 支薪標準註9 | F21: 薪資 | G21: 在職月份數註10 | J21: 學歷註4 | K21: 工作經歷註5 | L21: 證照註6
G22: 107年 | H22: 108年 | I22: 109年
A23: 1 | B23: 例：陶美美 | C23: 請選擇 | D23: OO醫院 | E23: 衛生福利部及附屬機關研究計畫助理人員工作酬金支給基準 | F23: 36050 | G23: 12 | H23: 12 | I23: 1 | J23: XX大學XX學系學士 | L23: 無
C24: 請選擇
C25: 請選擇
C26: 請選擇
A27: (3)社區精神病人追蹤照護及自殺通報個案關懷訪視合訪人力：
A28: 序號 | B28: 姓名 | C28: 人力配置方式註7 | D28: 人力配置單位註8 | E28: 支薪標準註9 | F28: 薪資 | G28: 在職月份數註10 | J28: 學歷註4 | K28: 工作經歷註5 | L28: 證照註6
G29: 107年 | H29: 108年 | I29: 109年
A30: 1 | B30: 例：孫芬芳 | C30: 請選擇 | D30: OO醫院 | E30: 衛生福利部及附屬機關研究計畫助理人員工作酬金支給基準 | F30: 36050 | G30: 12 | H30: 12 | I30: 1 | J30: XX大學XX學系學士 | L30: 無
C31: 請選擇
C32: 請選擇
C33: 請選擇
A35: 3.行政人力註3
A36: 序號 | B36: 姓名 | C36: 工作內容 | D36: 人力配置單位註8 | E36: 支薪標準註9 | F36: 薪資 | G36: 在職月份數註10 | J36: 學歷註4 | K36: 工作經歷註5 | L36: 證照註6
G37: 107年 | H37: 108年 | I37: 109年
A38: 1 | B38: 例：陳小婷 | C38: 請選擇 | D38: OO市政府衛生局 | E38: 約僱人員比照分類職位公務人員俸點支給報酬標準 | F38: 34916 | G38: 12 | H38: 12 | I38: 1 | J38: XX大學XX學系學士 | L38: 無
C39: 請選擇
C40: 請選擇
C41: 請選擇
A43: 4.人員別近3年（106年至108年）工作年資統計表（單位：人）
A44: 年資 各類人員 | C44: 1年以下 | D44: 1（含）至3年 | E44: 3年（含）以上 | F44: 小計
A46: 專責人員註1 | F46: =SUM(C46:E46) -> 0
A47: 關懷訪視員註2 | F47: =SUM(C47:E47) -> 0
A48: 行政人力註3 | F48: =SUM(C48:E48) -> 0
A49: 合計 | C49: =SUM(C46:C48) -> 0 | D49: =SUM(D46:D48) -> 0 | E49: =SUM(E46:E48) -> 0 | F49: =SUM(F46:F48) -> 0
D50: (A) | E50: (B) | F50: (C)
A51: 1年以上留任率（%）【計算公式(A+B)/C】 | D51: =(D49+E49)/F49 -> #DIV/0!
A53: 填表說明
A54: 註1：專責人員：係指專責整合型心理健康工作計畫，且具公務人員資格或以年度組織編制內進用正式人力經費聘用之約聘僱人員合計人數
A55: 註2：關懷訪視員：係指專責整合型心理健康工作計畫，並實際執行關懷訪視業務，且以計畫中央補助款或地方自籌款聘任之關懷訪視員之合計人數。
A56: 註3：行政人力：係指專責整合型心理健康工作計畫，且以計畫中央補助款或地方自籌款聘任之行政人力之合計人數
A57: 註4：「學歷」欄：請填寫最高學歷校名及科系。
A58: 註5：「工作經歷」欄：該工作服務時間必須達6個月以上才列入工作經歷。
A59: 註6：「證照」欄：請填寫專業證照號碼（例如：護理字第○○○○○○號）或填無。
A60: 註7：人力配置方式：係指該員配置方式係為「局內聘用」或「委託機構辦理方式聘用」
A61: 註8：人力配置單位：係指該員配置單位名稱
A62: 註9：支薪標準：係指該員之支薪標準係以「約僱人員比照分類職位公務人員俸點支給報酬標準」或「衛生福利部及附屬機關研究計畫助理人員工作酬金支給基準」
A63: 註10：在職總月份數：係指該員擔任該職位之總月份數，統計至109年1月底。

Sheet 業務分派及訪視案量統計
A1: 108年度中央補助/地方自籌關懷訪視員業務分派及訪視案量統計（註：總訪視次數係為有效及無效訪視之合計）
A2: 姓名 | B2: 工作內容 | C2: 關懷訪視總收案數 | G2: 平均每月新開案數 | K2: 總訪視次數註 | Q2: 平均每月訪視次數 | W2: 有效訪視次數
C3: 精神個案 | E3: 自殺個案 | F3: 合計 | G3: 精神個案 | I3: 自殺個案 | J3: 合計 | K3: 精神個案 | M3: 自殺個案 | O3: 合計 | Q3: 精神個案 | S3: 自殺個案 | U3: 合計 | W3: 精神個案 | Y3: 自殺個案 | AA3: 合計
K4: 面訪 | L4: 電訪 | M4: 面訪 | N4: 電訪 | O4: 面訪 | P4: 電訪 | Q4: 面訪 | R4: 電訪 | S4: 面訪 | T4: 電訪 | U4: 面訪 | V4: 電訪 | W4: 面訪 | X4: 電訪 | Y4: 面訪 | Z4: 電訪 | AA4: 面訪 | AB4: 電訪
A5: 例：王小明 | B5: 社區精神關懷訪視員 | C5: 合計 | D5: =SUM(D6:D10) -> 0 | F5: =D5+E5 -> 0 | G5: 合計 | H5: =SUM(H6:H10) -> 0 | J5: =H5+I5 -> 0 | O5: =K5+M5 -> 0 | P5: =L5+N5 -> 0 | U5: =Q5+S5 -> 0 | V5: =R5+T5 -> 0 | AA5: =W5+Y5 -> 0 | AB5: =X5+Z5 -> 0
C6: 1級 | G6: 1級
C7: 2級 | G7: 2級
C8: 3級 | G8: 3級
C9: 4級 | G9: 4級
C10: 5級 | G10: 5級
A11: 例：黃大偉 | B11: 社區精神關懷訪視員 | C11: 合計 | D11: =SUM(D12:D16) -> 0 | F11: =D11+E11 -> 0 | G11: 合計 | H11: =SUM(H12:H16) -> 0 | J11: =H11+I11 -> 0 | O11: =K11+M11 -> 0 | P11: =L11+N11 -> 0 | U11: =Q11+S11 -> 0 | V11: =R11+T11 -> 0 | AA11: =W11+Y11 -> 0 | AB11: =X11+Z11 -> 0
C12: 1級 | G12: 1級
C13: 2級 | G13: 2級
C14: 3級 | G14: 3級
C15: 4級 | G15: 4級
C16: 5級 | G16: 5級
C17: 合計 | D17: =SUM(D18:D22) -> 0 | F17: =D17+E17 -> 0 | G17: 合計 | H17: =SUM(H18:H22) -> 0 | J17: =H17+I17 -> 0 | O17: =K17+M17 -> 0 | P17: =L17+N17 -> 0 | U17: =Q17+S17 -> 0 | V17: =R17+T17 -> 0 | AA17: =W17+Y17 -> 0 | AB17: =X17+Z17 -> 0
C18: 1級 | G18: 1級
C19: 2級 | G19: 2級
C20: 3級 | G20: 3級
C21: 4級 | G21: 4級
C22: 5級 | G22: 5級
C23: 合計 | D23: =SUM(D24:D28) -> 0 | F23: =D23+E23 -> 0 | G23: 合計 | H23: =SUM(H24:H28) -> 0 | J23: =H23+I23 -> 0 | O23: =K23+M23 -> 0 | P23: =L23+N23 -> 0 | U23: =Q23+S23 -> 0 | V23: =R23+T23 -> 0 | AA23: =W23+Y23 -> 0 | AB23: =X23+Z23 -> 0
C24: 1級 | G24: 1級
C25: 2級 | G25: 2級
C26: 3級 | G26: 3級
C27: 4級 | G27: 4級
C28: 5級 | G28: 5級
C29: 合計 | D29: =SUM(D30:D34) -> 0 | F29: =D29+E29 -> 0 | G29: 合計 | H29: =SUM(H30:H34) -> 0 | J29: =H29+I29 -> 0 | O29: =K29+M29 -> 0 | P29: =L29+N29 -> 0 | U29: =Q29+S29 -> 0 | V29: =R29+T29 -> 0 | AA29: =W29+Y29 -> 0 | AB29: =X29+Z29 -> 0
C30: 1級 | G30: 1級
C31: 2級 | G31: 2級
C32: 3級 | G32: 3級
C33: 4級 | G33: 4級
C34: 5級 | G34: 5級

Sheet 轄區個案狀況
A1: 108年轄區追蹤照護個案狀況
A2: 鄉鎮市區名稱 | B2: 人口數 | C2: 領有身心障礙手冊人數 | D2: 自殺通報系統個案人數C | E2: 精神照護資訊管理系統追蹤照護個案 | N2: 其他人數（如未列管於精照系統個案）B | O2: 追蹤照護總人數(A+B) | P2: 總訪視次數 | R2: 平均訪視次數
E3: 依一般精神病人與嚴重病人分類 | J3: 合併多元照護議題個案
E4: 級數 | F4: 合計人數A=(1+2) | G4: 一般精神病人(1) | H4: 嚴重病人(2) | I4: 嚴重病人占追蹤照護總人數百分比 | J4: 合併自殺通報個案人數(3) | K4: 精神疾病合併保護性議題個案人數(4) | L4: 合併有替代治療議題個案(5) | M4: 合計人數(3+4+5) | P4: 精神個案 D | Q4: 自殺個案 E | R4: 精神個案D/(A+B) | S4: 自殺個案E/C
A5: XX鄉鎮市區 | E5: 合計 | F5: =G5+H5 -> 0 | G5: =SUM(G6:G10) -> 0 | H5: =SUM(H6:H10) -> 0 | I5: =H5/F5 -> #DIV/0! | J5: =SUM(J6:J10) -> 0 | K5: =SUM(K6:K10) -> 0 | L5: =SUM(L6:L10) -> 0 | M5: =SUM(J5:L5) -> 0 | O5: =F5+N5 -> 0 | R5: =P5/O5 -> #DIV/0! | S5: =Q5/D5 -> #DIV/0!
E6: 1級 | F6: =G6+H6 -> 0 | I6: =H6/F6 -> #DIV/0! | M6: =SUM(J6:L6) -> 0
E7: 2級 | F7: =G7+H7 -> 0 | I7: =H7/F7 -> #DIV/0! | M7: =SUM(J7:L7) -> 0
E8: 3級 | F8: =G8+H8 -> 0 | I8: =H8/F8 -> #DIV/0! | M8: =SUM(J8:L8) -> 0
E9: 4級 | F9: =G9+H9 -> 0 | I9: =H9/F9 -> #DIV/0! | M9: =SUM(J9:L9) -> 0
E10: 5級 | F10: =G10+H10 -> 0 | I10: =H10/F10 -> #DIV/0! | M10: =SUM(J10:L10) -> 0
E11: 合計 | F11: =G11+H11 -> 0 | G11: =SUM(G12:G16) -> 0 | H11: =SUM(H12:H16) -> 0 | I11: =H11/F11 -> #DIV/0! | J11: =SUM(J12:J16) -> 0 | K11: =SUM(K12:K16) -> 0 | L11: =SUM(L12:L16) -> 0 | M11: =SUM(J11:L11) -> 0 | O11: =F11+N11 -> 0 | R11: =P11/O11 -> #DIV/0! | S11: =Q11/D11 -> #DIV/0!
E12: 1級 | F12: =G12+H12 -> 0 | I12: =H12/F12 -> #DIV/0! | M12: =SUM(J12:L12) -> 0
E13: 2級 | F13: =G13+H13 -> 0 | I13: =H13/F13 -> #DIV/0! | M13: =SUM(J13:L13) -> 0
E14: 3級 | F14: =G14+H14 -> 0 | I14: =H14/F14 -> #DIV/0! | M14: =SUM(J14:L14) -> 0
E15: 4級 | F15: =G15+H15 -> 0 | I15: =H15/F15 -> #DIV/0! | M15: =SUM(J15:L15) -> 0
E16: 5級 | F16: =G16+H16 -> 0 | I16: =H16/F16 -> #DIV/0! | M16: =SUM(J16:L16) -> 0
E17: 合計 | F17: =G17+H17 -> 0 | G17: =SUM(G18:G22) -> 0 | H17: =SUM(H18:H22) -> 0 | I17: =H17/F17 -> #DIV/0! | J17: =SUM(J18:J22) -> 0 | K17: =SUM(K18:K22) -> 0 | L17: =SUM(L18:L22) -> 0 | M17: =SUM(J17:L17) -> 0 | O17: =F17+N17 -> 0 | R17: =P17/O17 -> #DIV/0! | S17: =Q17/D17 -> #DIV/0!
E18: 1級 | F18: =G18+H18 -> 0 | I18: =H18/F18 -> #DIV/0! | M18: =SUM(J18:L18) -> 0
E19: 2級 | F19: =G19+H19 -> 0 | I19: =H19/F19 -> #DIV/0! | M19: =SUM(J19:L19) -> 0
E20: 3級 | F20: =G20+H20 -> 0 | I20: =H20/F20 -> #DIV/0! | M20: =SUM(J20:L20) -> 0
E21: 4級 | F21: =G21+H21 -> 0 | I21: =H21/F21 -> #DIV/0! | M21: =SUM(J21:L21) -> 0
E22: 5級 | F22: =G22+H22 -> 0 | I22: =H22/F22 -> #DIV/0! | M22: =SUM(J22:L22) -> 0
E23: 合計 | F23: =G23+H23 -> 0 | G23: =SUM(G24:G28) -> 0 | H23: =SUM(H24:H28) -> 0 | I23: =H23/F23 -> #DIV/0! | J23: =SUM(J24:J28) -> 0 | K23: =SUM(K24:K28) -> 0 | L23: =SUM(L24:L28) -> 0 | M23: =SUM(J23:L23) -> 0 | O23: =F23+N23 -> 0 | R23: =P23/O23 -> #DIV/0! | S23: =Q23/D23 -> #DIV/0!
E24: 1級 | F24: =G24+H24 -> 0 | I24: =H24/F24 -> #DIV/0! | M24: =SUM(J24:L24) -> 0
E25: 2級 | F25: =G25+H25 -> 0 | I25: =H25/F25 -> #DIV/0! | M25: =SUM(J25:L25) -> 0
E26: 3級 | F26: =G26+H26 -> 0 | I26: =H26/F26 -> #DIV/0! | M26: =SUM(J26:L26) -> 0
E27: 4級 | F27: =G27+H27 -> 0 | I27: =H27/F27 -> #DIV/0! | M27: =SUM(J27:L27) -> 0
E28: 5級 | F28: =G28+H28 -> 0 | I28: =H28/F28 -> #DIV/0! | M28: =SUM(J28:L28) -> 0

Sheet 繼續教育及督導辦理情形
A1: 108年度提供之專案人力繼續教育訓練課程
A2: 辦理日期 | B2: 課程內容 | D2: 參與對象 | E2: 參與人次 | F2: 成效評估註
B3: 1.主題：
B4: 2.內容（含執行方式）：
B6: 1.主題：
B7: 2.內容（含執行方式）：
B9: 1.主題：
B10: 2.內容（含執行方式）：
A13: 108年度提供之專案人力業務督導
A14: 月份 | B14: 次數 | C14: 召開日期 | D14: 督導內容 | F14: 參與對象 | G14: 成效評估註
A15: 1 | D15: 1.主題：
D16: 2.內容（含執行方式）：
A18: 2 | D18: 1.主題：
D19: 2.內容（含執行方式）：
A21: 3 | D21: 1.主題：
D22: 2.內容（含執行方式）：
A24: 4 | D24: 1.主題：
D25: 2.內容（含執行方式）：
A27: 5 | D27: 1.主題：
D28: 2.內容（含執行方式）：
A30: 6 | D30: 1.主題：
D31: 2.內容（含執行方式）：
A33: 7 | D33: 1.主題：
D34: 2.內容（含執行方式）：
A36: 8 | D36: 1.主題：
D37: 2.內容（含執行方式）：
A39: 9 | D39: 1.主題：
D40: 2.內容（含執行方式）：
A42: 10 | D42: 1.主題：
D43: 2.內容（含執行方式）：
A45: 11 | D45: 1.主題：
D46: 2.內容（含執行方式）：
A48: 12 | D48: 1.主題：
D49: 2.內容（含執行方式）：
A52: 註：
A53: 1.成效評估呈現可為質性描述，如：滿意度調查、測驗、自我評估等
A54: 2.如單一月份辦理多場督導會議，請分開陳列

Sheet 業務執行品質
A1: 序號 | B1: 指標 | C1: 考評指標評分說明 | D1: 單位 | E1: 年度目標 | F1: 107年 達成率 | G1: 108年 達成率 | H1: 107年 是否符合指標 | I1: 108年 是否符合指標 | J1: 項目/備註 | K1: 107年 執行情形 | L1: 108年 執行情形 | M1: 說明
A2: 1 | B2: 建立跨局處、及跨公私部門平台之協商機制 | C2: 每季召開1次會報 | D2: 次 | E2: 4 | F2: =SUM(K2:K5)/($E$2) -> 0 | G2: =SUM(L2:L5)/($E$2) -> 0 | H2: =IF(F2>=1,"符合","不符合") -> 不符合 | I2: =IF(G2>=1,"符合","不符合") -> 不符合 | J2: 第1季會報次數 | M2: 佐證資料應檢附相關文件（含會議辦理日期、主持人姓名及其層級、會議參與單位等內容）
C3: 且至少2次由地方政府秘書長或主任秘書層級以上 | D3: 次 | E3: 2 | F3: =SUM(K6)/($E$3) -> 0 | G3: =SUM(L6)/($E$3) -> 0 | H3: =IF(F3>=1,"符合","不符合") -> 不符合 | I3: =IF(G3>=1,"符合","不符合") -> 不符合 | J3: 第2季會報次數
J4: 第3季會報次數
J5: 第4季會報次數
J6: 地方政府秘書長或主任秘書層級以上長官主持次數
A7: 2 | B7: 轄區內自殺標準化死亡率較前一年下降 | C7: 轄區內自殺標準化死亡率較前一年下降 | D7: 率 | E7: <0 | F7: =$K$8-$K$7 -> 0 | G7: =$L$8-$L$7 -> 0 | H7: =IF(F7<=0,"符合","不符合") -> 符合 | I7: =IF(G7<=0,"符合","不符合") -> 符合 | J7: 前一年年底自殺標準化死亡率
J8: 當年自殺標準化死亡率
A9: 3 | B9: 年度轄區內村(里)長及村(里)幹事參與自殺防治守門人訓練活動之比率 | C9: 村(里)長參與自殺防治守門人訓練活動之比率 | D9: 率 | E9: 0.7 | F9: =K10/K9 -> #DIV/0! | G9: =L10/L9 -> #DIV/0! | H9: =IF(F9>=0.7,"符合","不符合") -> #DIV/0! | I9: =IF(G9>=0.7,"符合","不符合") -> #DIV/0! | J9: 所轄村里長應參訓人數
C10: 村(里)幹事參與自殺防治守門人訓練活動之比率 | D10: 率 | E10: 0.7 | F10: =K12/K11 -> #DIV/0! | G10: =L12/L11 -> #DIV/0! | H10: =IF(F10>=0.7,"符合","不符合") -> #DIV/0! | I10: =IF(G10>=0.7,"符合","不符合") -> #DIV/0! | J10: 實際參訓人數
J11: 所轄村里幹事應參訓人數
J12: 實際參訓人數
A13: 4 | B13: 召集公衛護理人員與關懷訪視員，邀請專業督導及核心醫院代表參與個案管理相關會議。討論重點應含括：1.轄區內3次以上訪視未遇個案之處理、2.再次被通報個案之處置、3.個案合併有家暴等問題個案之處置、4.屆期及逾期未訪個案之處置，及建立個案訪視紀錄稽核機制及落實執行。（僅108年度） | C13: 1年至少辦理12場召集公衛護理人員與關懷訪視員，及邀請專業督導參與之個案管理及分級相關會議，討論重點應含括： | D13: 次 | E13: 12 | F13: - | G13: - | H13: - | I13: =IF(L13>=E13,"符合","不符合") -> 不符合 | J13: 召開個案管理及分級相關會議場次 | K13: - | M13: 佐證資料應檢附相關文件（含個案管理及分級相關會議辦理日期等內容）
C14: (1)轄區內3次以上訪視未遇個案之處理 | D14: 件 | E14: - | F14: - | G14: - | H14: - | I14: =IF(L14>=1,"符合","不符合") -> 不符合 | J14: 轄區內3次以上訪視未遇個案之處理件數 | K14: -
C15: (2)再次被通報個案之處置 | D15: 件 | E15: - | F15: - | G15: - | H15: - | I15: =IF(L15>=1,"符合","不符合") -> 不符合 | J15: 家中主要照顧者65歲以上，2位以上精神病人之處置件數 | K15: -
C16: (3)案合併有家暴等問題個案之處置 | D16: 件 | E16: - | F16: - | G16: - | H16: - | I16: =IF(L16>=1,"符合","不符合") -> 不符合 | J16: 屆期及逾期未訪個案之處置件數 | K16: -
C17: (4)屆期及逾期未訪個案之處置 | D17: 件 | E17: - | F17: - | G17: - | H17: - | I17: =IF(L17>=1,"符合","不符合") -> 不符合 | J17: 合併有自殺及家暴問題個案之處置件數 | K17: -
C18: 每季轄區內精神病人追蹤訪視紀錄之稽核率，目標值如下： | D18: 率 | E18: - | F18: - | G18: - | H18: - | I18: =IF(AND(L22>=L19,L25>=L19,L28>=L19,L31>=L19),"符合","不符合") -> #DIV/0! | J18: 縣市別 | K18: - | L18: =基本資料!$B$1 -> 臺北市
C19: (1)15%（每季訪視次數小於500人次）：澎湖縣、金門縣、連江縣。 | D19: 率 | E19: 0.15 | F19: - | G19: - | H19: - | I19: - | J19: 應達稽核率 | K19: - | L19: =VLOOKUP(L18,工作表1!A2:Q3,10,0) -> 0.04
C20: (2)10%（每季訪視次數介於500-1,000人次）：苗栗縣、臺東縣、花蓮縣、基隆市、新竹市、嘉義市。 | D20: 率 | E20: 0.1 | F20: - | G20: - | H20: - | I20: - | J20: 第1季訪視人次 | K20: -
C21: (3)6%（每季訪視次數介於1,000-2,000人次）：宜蘭縣、新竹縣、南投縣、雲林縣、嘉義縣、屏東縣。 | D21: 率 | E21: 0.06 | F21: - | G21: - | H21: - | I21: - | J21: 第1季稽核次數 | K21: -
C22: (4)4%（每季訪視次數大於2,000人次）：新北市、臺北市、桃園市、臺中市、臺南市、高雄市、彰化縣。 | D22: 率 | E22: 0.04 | F22: - | G22: - | H22: - | I22: - | J22: 第1季稽核率 | K22: - | L22: =L21/L20 -> #DIV/0!
J23: 第2季訪視人次 | K23: -
J24: 第2季稽核次數 | K24: -
J25: 第2季稽核率 | K25: - | L25: =L24/L23 -> #DIV/0!
J26: 第3季訪視人次 | K26: -
J27: 第3季稽核次數 | K27: -
J28: 第3季稽核率 | K28: - | L28: =L27/L26 -> #DIV/0!
J29: 第4季訪視人次 | K29: -
J30: 第4季稽核次數 | K30: -
J31: 第4季稽核率 | K31: - | L31: =L30/L29 -> #DIV/0!
A32: 5 | B32: 醫院推動住院病人自殺防治工作及各類醫事人員自殺防治守門人教育訓練執行率應達100% | C32: 執行率應達100% | D32: 率 | E32: 1 | F32: =K33/K32 -> #DIV/0! | G32: =L33/L32 -> #DIV/0! | H32: =IF(F32=1,"符合","不符合") -> #DIV/0! | I32: =IF(G32=1,"符合","不符合") -> #DIV/0! | J32: 督導考核醫院數
J33: 推動住院病人自殺防治工作及各類醫事人員自殺防治守門人教育訓練醫院數
A34: 6 | B34: 於107年4月30日前完成更新年度「災難心理衛生緊急動員計畫」(含重大公共安全危機事件之應變機制)，並依計畫內容，自行（或配合行政院災害防救辦公室）辦理災難心理演練至少1場（僅107年度） | C34: 於4月30日前如期完成「災難心理衛生緊急動員計畫」 | D34: - | E34: 4月30日前完成 | F34: =IF(K34="是",1,0) -> 0 | G34: - | H34: =IF(F34=1,"符合","不符合") -> 不符合 | I34: - | J34: 是否於4月30日前完成「災難心理衛生緊急動員計畫」 | K34: 請選擇 | L34: - | M34: 佐證資料應檢附相關文件（含完成訂定災難心理衛生緊急動員計畫日期及災難演練辦理日期），且完成計畫日期應不晚於演練日期，如因配合行政院災害防救辦公室而晚於4月30日，請檢附相關資料
C35: 於4月30日前辦理1場災難心理演練 | D35: 次 | E35: 1 | F35: - | G35: - | H35: =IF(K35>=1,"符合","不符合") -> 不符合 | I35: - | J35: 於4月30日前辦理災難心理演練場次數 | L35: -
A36: 7 | B36: 轄內警察、消防、村(里)長、村(里)幹事、社政相關人員及非精神科醫師，參與精神疾病知能、社區危機個案送醫、處置或協調後續安置之教育訓練 | C36: 除醫事人員外，每一類人員參加教育訓練比率應達35% | D36: 率 | E36: 0.35 | F36: - | G36: - | H36: =IF(AND(K38>=0.35,K41>=0.35,K44>=0.35,K47>=0.35,K50>=0.35),"符合","不符合") -> #DIV/0! | I36: =IF(AND(L38>=0.35,L41>=0.35,L44>=0.35,L47>=0.35,L50>=0.35),"符合","不符合") -> #DIV/0! | J36: 所轄警察人員應參訓人數 | M36: 佐證資料應檢附相關文件（含各類人員參訓紀錄及教育訓練辦理日期等內容）
C37: 辦理轄區非精神科開業醫師，有關精神疾病照護或轉介教育訓練辦理場次 | D37: 次 | E37: - | F37: - | G37: - | H37: =IF(K53>=K52,"符合","不符合") -> 不符合 | I37: =IF(L53>=L52,"符合","不符合") -> 不符合 | J37: 實際參訓人數
C38: 直轄市每年需至少辦理兩場 | D38: 次 | E38: 2 | F38: - | G38: - | H38: - | I38: - | J38: 參訓率 | K38: =K37/K36 -> #DIV/0! | L38: =L37/L36 -> #DIV/0!
C39: 其餘縣市每年至少一場 | D39: 次 | E39: 1 | F39: - | G39: - | H39: - | I39: - | J39: 所轄消防人員應參訓人數
J40: 實際參訓人數
J41: 參訓率 | K41: =K40/K39 -> #DIV/0! | L41: =L40/L39 -> #DIV/0!
J42: 所轄村里長應參訓人數
J43: 實際參訓人數
J44: 參訓率 | K44: =K43/K42 -> #DIV/0! | L44: =L43/L42 -> #DIV/0!
J45: 所轄村里幹事應參訓人數
J46: 實際參訓人數
J47: 參訓率 | K47: =K46/K45 -> #DIV/0! | L47: =L46/L45 -> #DIV/0!
J48: 所轄社政人員應參訓人數
J49: 實際參訓人數
J50: 參訓率 | K50: =K49/K48 -> #DIV/0! | L50: =L49/L48 -> #DIV/0!
J51: 縣市別 | K51: =基本資料!$B$1 -> 臺北市 | L51: =基本資料!$B$1 -> 臺北市
J52: 應辦理場次 | K52: =VLOOKUP(K51,工作表1!A2:Q3,11,0) -> 2 | L52: =VLOOKUP(L51,工作表1!A2:Q3,11,0) -> 2
J53: 實際辦理場次
A54: 8 | B54: 轄區內醫療機構針對出院病人，於出院後2星期內完成出院準備計畫上傳精照系統比率(含強制住院出院)及2星期內訪視比例（108年度出院準備上傳計畫應達65%） | C54: 出院後2星期內完成出院準備計畫上傳精照系統比率達70% | D54: 率 | E54: 0.7 | F54: =K54/K55 -> #DIV/0! | G54: =L54/L55 -> #DIV/0! | H54: =IF(F54>=E54,"符合","不符合") -> #DIV/0! | I54: =IF(G54>=E54,"符合","不符合") -> #DIV/0! | J54: 出院後2星期內上傳出院準備計畫之精神病人數
C55: 公共衛生護士或關訪員於出院準備計畫上傳後2星期內訪視比率 | D55: 率 | E55: - | F55: - | G55: - | H55: =IF(OR(AND(K59>=0.65,((K58-K59)/K59)>=0.05),AND(K59<0.65,((K58-K59)/K59)>=0.1)),"符合","不符合") -> #DIV/0! | I55: =IF(L58>=0.65,"符合","不符合") -> #DIV/0! | J55: 出院之精神病人數
C56: (1)105年度及106年度出院準備計畫上傳後2星期內訪視比率大於等於65%者，107年度總比率需較前一年進步5%（僅107年度） | D56: 率 | E56: 0.05 | F56: - | G56: - | H56: - | I56: - | J56: 出院準備計畫上傳後2星期內訪視之精神病人數
C57: (2)105年度及106年度出院準備計畫上傳後2星期內訪視比率未滿65%者，107年度總比率需較前一年進步10%（僅107年度） | D57: 率 | E57: 0.1 | F57: - | G57: - | H57: - | I57: - | J57: 上傳出院準備計畫之精神病人數
C58: 出院準備計畫上傳後2星期內訪視比率應達65%（僅108年度） | D58: 率 | E58: 0.65 | F58: - | G58: - | H58: - | I58: - | J58: 2星期內訪視比率 | K58: =K56/K57 -> #DIV/0! | L58: =L56/L57 -> #DIV/0!
J59: 105年度+106年度2星期內訪視比率 | L59: -
A60: 9 | B60: 社區精神病人之年平均訪視次數 | C60: 年平均訪視次數達4.15次以上 | D60: 次 | E60: 4.15 | F60: =K60/K61 -> #DIV/0! | G60: =L60/L61 -> #DIV/0! | H60: =IF(F60>=E60,"符合","不符合") -> #DIV/0! | I60: =IF(G60>=E60,"符合","不符合") -> #DIV/0! | J60: 總訪視次數（含訪視成功及無法訪視） | M60: 佐證資料應檢附相關文件（含多次訪視未遇個案追蹤機制等內容）
B61: 訂定多次訪視未遇個案追蹤機制 | C61: 訂定多次訪視未遇個案追蹤機制 | D61: - | E61: 完成訂定 | F61: - | G61: - | H61: =IF(K62="有","符合","不符合") -> 不符合 | I61: =IF(L62="有","符合","不符合") -> 不符合 | J61: 轄區關懷個案數
J62: 有無訂定多次訪視未遇個案追蹤機制 | K62: 請選擇 | L62: 請選擇
A63: 10 | B63: 召集公衛護士與關懷訪視員，及邀請專業督導參與之個案管理及分級相關會議，及建立個案訪視紀錄稽核機制及落實執行 | C63: 1年至少辦理12場召集公衛護士與關懷訪視員，及邀請專業督導參與之個案管理及分級相關會議，討論重點應含括： | D63: 次 | E63: 12 | F63: - | G63: - | H63: =IF(K63>=E63,"符合","不符合") -> 不符合 | I63: =IF(L63>=E63,"符合","不符合") -> 不符合 | J63: 召開個案管理及分級相關會議場次 | M63: 佐證資料應檢附相關文件（含個案管理及分級相關會議辦理日期等內容）
C64: (1)轄區內3次以上訪視未遇個案之處理 | D64: 件 | E64: - | F64: - | G64: - | H64: =IF(K64>=1,"符合","不符合") -> 不符合 | I64: =IF(L64>=1,"符合","不符合") -> 不符合 | J64: 轄區內3次以上訪視未遇個案之處理件數
C65: (2)家中主要照顧者65歲以上，2位以上精神病人之處置 | D65: 件 | E65: - | F65: - | G65: - | H65: =IF(K65>=1,"符合","不符合") -> 不符合 | I65: =IF(L65>=1,"符合","不符合") -> 不符合 | J65: 家中主要照顧者65歲以上，2位以上精神病人之處置件數
C66: (3)屆期及逾期未訪個案之處置 | D66: 件 | E66: - | F66: - | G66: - | H66: =IF(K66>=1,"符合","不符合") -> 不符合 | I66: =IF(L66>=1,"符合","不符合") -> 不符合 | J66: 屆期及逾期未訪個案之處置件數
C67: (4)或合併有自殺及家暴問題個案之處置（僅107年度） | D67: 件 | E67: - | F67: - | G67: - | H67: =IF(K67>=1,"符合","不符合") -> 不符合 | I67: - | J67: 合併有自殺及家暴問題個案之處置件數 | L67: -
C68: (5)精神疾病合併自殺議題個案、精神疾病合併保護性議題個案（兒少保護、家庭暴力、性侵害事件（含在案中及曾經在案）之處置（僅108年度） | D68: 件 | E68: - | F68: - | G68: - | H68: - | I68: =IF(L68>=1,"符合","不符合") -> 不符合 | J68: 精神疾病合併自殺議題個案、精神疾病合併保護性議題個案（兒少保護、家庭暴力、性侵害事件（含在案中及曾經在案）之處置 | K68: -
C69: 每季轄區內精神病人追蹤訪視紀錄之稽核率，目標值如下： | D69: 率 | E69: - | F69: - | G69: - | H69: =IF(AND(K73>=K70,K76>=K70,K79>=K70,K82>=K70),"符合","不符合") -> #DIV/0! | I69: =IF(AND(L73>=L70,L76>=L70,L79>=L70,L82>=L70),"符合","不符合") -> #DIV/0! | J69: 縣市別 | K69: =基本資料!$B$1 -> 臺北市 | L69: =基本資料!$B$1 -> 臺北市
C70: (1)15%(每季訪視次數小於4,000/人次)：連江縣、金門縣、澎湖縣、新竹市、嘉義市、臺東縣、花蓮縣、基隆市 | D70: 率 | E70: 0.15 | F70: - | G70: - | H70: - | I70: - | J70: 應達稽核率 | K70: =VLOOKUP(K69,工作表1!A2:Q3,12,0) -> 0.04 | L70: =VLOOKUP(L69,工作表1!A2:Q3,12,0) -> 0.04
C71: (2)10%(每季訪視次數介於4,000-7,000/人次)：新竹縣、苗栗縣、宜蘭縣、嘉義縣、南投縣、雲林縣。 | D71: 率 | E71: 0.1 | F71: - | G71: - | H71: - | I71: - | J71: 第1季訪視人次
C72: (3)6%(每季訪視次數介於7,000-10,000/人次)：彰化縣、屏東縣。 | D72: 率 | E72: 0.06 | F72: - | G72: - | H72: - | I72: - | J72: 第1季稽核次數
C73: (4)4%(每季訪視次數大於10,000人次)：臺北市、桃園市、臺南市、臺中市、高雄市、新北市 | D73: 率 | E73: 0.04 | F73: - | G73: - | H73: - | I73: - | J73: 第1季稽核率 | K73: =K72/K71 -> #DIV/0! | L73: =L72/L71 -> #DIV/0!
J74: 第2季訪視人次
J75: 第2季稽核次數
J76: 第2季稽核率 | K76: =K75/K74 -> #DIV/0! | L76: =L75/L74 -> #DIV/0!
J77: 第3季訪視人次
J78: 第3季稽核次數
J79: 第3季稽核率 | K79: =K78/K77 -> #DIV/0! | L79: =L78/L77 -> #DIV/0!
J80: 第4季訪視人次
J81: 第4季稽核次數
J82: 第4季稽核率 | K82: =K81/K80 -> #DIV/0! | L82: =L81/L80 -> #DIV/0!
A83: 11 | B83: 辦理精神病人社區融合活動之鄉鎮區涵蓋率 | C83: 辦理社區融合活動之鄉鎮區涵蓋率達30% | D83: 率 | E83: 0.3 | F83: =K83/K84 -> #DIV/0! | G83: =L83/L84 -> #DIV/0! | H83: =IF(F83>=0.3,"符合","不符合") -> #DIV/0! | I83: =IF(G83>=0.3,"符合","不符合") -> #DIV/0! | J83: 有辦理活動之鄉(鎮)數 | M83: 佐證資料應檢附相關文件（含辦理日期及辦理主題等內容）
J84: 全縣(市)鄉鎮區數
A85: 12 | B85: 辦理轄區內精神復健機構及精神護理之家緊急災害應變及災防演練之考核 | C85: 年度合格率100% | D85: 率 | E85: 1 | F85: =K86/K85 -> #DIV/0! | G85: =L86/L85 -> #DIV/0! | H85: =IF(F85=E85,"符合","不符合") -> #DIV/0! | I85: =IF(G85=E85,"符合","不符合") -> #DIV/0! | J85: 辦理家數
J86: 合格家數
A87: 13 | B87: 轄區內精神追蹤照護個案自殺粗死亡率較前一年下降（107年度須下降10%） | C87: 精神追蹤照護個案自殺粗死亡率需相較前一年下降10% | D87: 率 | E87: -0.1 | F87: =(K88-K87)/K87 -> #DIV/0! | G87: - | H87: =IF(OR(F87<=E87,F87=0),"符合","不符合") -> #DIV/0! | I87: =IF(G88<=0,"符合","不符合") -> #DIV/0! | J87: 前一年精神追蹤照護個案自殺粗死亡率 | M87: 佐證資料應檢附相關文件（含精神追蹤照護個案自殺名單、分派處理、後續追蹤及相關統計資料分析等內容）
D88: 率 | E88: <0 | F88: - | G88: =(L88-L87)/L87 -> #DIV/0! | H88: - | I88: - | J88: 當年精神追蹤照護個案自殺粗死亡率
A89: 14 | B89: 辦理酒癮防治相關議題宣導講座場次（應以分齡、分眾及不同宣導主題之方式辦理）(108年度新增網癮防治宣應至少1場) | C89: (1)4場次（107年度）/5場次（108年度）：台北市、新北市、桃園市、台中市、台南市、高雄市 | D89: 次 | E89: 4 | F89: - | G89: - | H89: =IF(K91>=K90,"符合","不符合") -> 不符合 | I89: =IF(AND(L91>=L90,L92>=1),"符合","不符合") -> 不符合 | J89: 縣市別 | K89: =基本資料!$B$1 -> 臺北市 | L89: =基本資料!$B$1 -> 臺北市 | M89: 佐證資料應分別檢附相關文件（含辦理講座日期、辦理對象及宣導主題等內容）
C90: (2)3場次（107年度）/4場次（108年度）：宜蘭縣、新竹縣、苗栗縣、彰化縣、南投縣、雲林縣、嘉義縣、屏東縣、花蓮縣、台東縣 | D90: 次 | E90: 3 | F90: - | G90: - | H90: - | I90: - | J90: 應達場次 | K90: =VLOOKUP(K89,工作表1!A2:Q3,13,0) -> 4 | L90: =VLOOKUP(L89,工作表1!A2:Q3,14,0) -> 5
C91: (3)2場次（107年度）/3場次（108年度）：基隆市、新竹市、嘉義市 | D91: 次 | E91: 2 | F91: - | G91: - | H91: - | I91: - | J91: 辦理場次（含網癮教育訓練場次）
C92: (4)1場次（107年度）/2場次（108年度）：澎湖縣、金門縣、連江縣 | D92: 次 | E92: 1 | F92: - | G92: - | H92: - | I92: - | J92: 網癮辦理場次 | K92: -
C93: (5)網癮至少1場次（僅108年度） | D93: 次 | E93: >0 | F93: - | G93: - | H93: - | I93: -
A94: 15 | B94: 與地檢署、監理所及法院均建立酒癮個案轉介機制 | C94: 與3個機關均訂有轉介流程及聯繫窗口 | D94: - | E94: 完成建立 | F94: - | G94: - | H94: =IF(K94="有","符合","不符合") -> 不符合 | I94: =IF(L94="有","符合","不符合") -> 不符合 | J94: 與3個機關均訂有轉介流程及聯繫窗口 | K94: 請選擇 | L94: 請選擇 | M94: 佐證資料應檢附相關文件（含與地檢署、監理所、法院訂定之轉介流程機制及聯繫窗口等內容）。如已訂有轉介流程及聯繫窗口，則應有更新。
A95: 16 | B95: 於「醫療機構替代治療作業管理系統」維護「非愛滋藥癮者替代治療補助方案」個案資料上傳之比率（僅107年度） | C95: 美沙冬個案資料上傳比率達100% | D95: 率 | E95: 1 | F95: =K95/K96 -> #DIV/0! | G95: - | H95: =IF(F95>=1,"符合","不符合") -> #DIV/0! | I95: - | J95: 美沙冬系統個案數 | L95: -
C96: 丁基原啡因個案資料上傳比率達100% | D96: 率 | E96: 1 | F96: =K97/K98 -> #DIV/0! | G96: - | H96: =IF(F96>=1,"符合","不符合") -> #DIV/0! | I96: - | J96: 美沙冬補助個案數 | L96: -
J97: 丁基原啡因系統個案數 | L97: -
J98: 丁基原啡因補助個案數 | L98: -
A99: 17 | B99: 輔導轄內於前年有開立丁基原啡因藥品之非指定替代治療執行機構，成為指定替代治療執行機構，或不開立（僅107年度） | C99: 輔導完成之機構數達50% | D99: 率 | E99: 0.5 | F99: =K100/K99 -> #DIV/0! | G99: - | H99: =IF(F99>=E99,"符合","不符合") -> #DIV/0! | I99: - | J99: 前一年有開立丁基原啡因藥品之非指定替代治療執行機構 | L99: - | M99: 佐證資料應檢附相關文件（含規劃輔導機制、期程、名冊及目標值等內容）
J100: 輔導成為替代治療執行機構數 | L100: -
...

Sheet 計畫經費
A1: 107年至109年度計畫經費核定/編列及實際執行金額（元）
A2: 經費來源 | B2: 科目 | D2: 107年度 | F2: 108年度 | H2: 109年度
D3: 委辦金額 | E3: 累計實際執行金額 | F3: 委辦金額 | G3: 累計實際執行金額 | H3: 委辦金額 | I3: 截至1/31實際執行金額
A4: 中央 | B4: 業務費（含人事費）
B5: 管理費
B6: 合計 | D6: =D4+D5 -> 0 | E6: =E4+E5 -> 0 | F6: =F4+F5 -> 0 | G6: =G4+G5 -> 0 | H6: =H4+H5 -> 0 | I6: =I4+I5 -> 0
D7: (A) | E7: (a) | F7: (A) | G7: (a) | H7: (A) | I7: (a)
A8: 地方 | B8: 地方自籌費用 | C8: 人事費
C9: 業務費
C10: 管理費
C11: 合計 | D11: =SUM(D8:D10) -> 0 | E11: =SUM(E8:E10) -> 0 | F11: =SUM(F8:F10) -> 0 | G11: =SUM(G8:G10) -> 0 | H11: =SUM(H8:H10) -> 0 | I11: =SUM(I8:I10) -> 0
D12: (B) | E12: (b) | F12: (B) | G12: (b) | H12: (B) | I12: (b)
B13: 地方自籌比率【計算公式：B/(A+B)*100%】 | D13: =D11/(D6+D11) -> #DIV/0! | F13: =F11/(F6+F11) -> #DIV/0! | H13: =H11/(H6+H11) -> #DIV/0!
A14: 執行率（中央核定經費+地方自籌）【計算公式：(a+b)/(A+B)*100%】 | E14: =(E6+E11)/(D6+D11) -> #DIV/0! | G14: =(G6+G11)/(F6+F11) -> #DIV/0! | I14: =(I6+I11)/(H6+H11) -> #DIV/0!

Sheet 創新作為
A1: 計畫執行特殊優良或創新事項
A2: 主題 | B2: 創新及特色業務內容

Sheet 工作表1
A1: 請選擇 | C1: 108 | G1: 107 | M1: 107 | N1: 108 | O1: 107 | P1: 108 | Q1: 107 | R1: 107 | S1: 108 | T1: 109
B2: 精神疾病及自殺通報個案關懷訪視員之員額數 | C2: 補助人力上限 | D2: 行政 | E2: 地方應編列人力 | F2: 精神疾病及自殺通報個案關懷訪視員之員額數 | G2: 補助人力上限 | H2: 行政 | I2: 地方應編列人力 | J2: 個案管理會議稽核比率 | K2: 轄內其他人員教育訓練場次 | L2: 個案管理及分級 | M2: 酒癮教育訓練 | O2: 跨科別藥酒癮教育訓練 | P2: 跨科別網絡教育訓練 | Q2: 家暴教育訓練 | R2: 補助比率
A3: 臺北市 | B3: 5 | C3: 5 | D3: 0 | E3: 0 | F3: 5 | G3: 5 | H3: 0 | I3: 0 | J3: 0.04 | K3: 2 | L3: 0.04 | M3: 4 | N3: 5 | O3: 2 | P3: 2 | Q3: 3
A4: 新北市 | B4: 29 | C4: 30 | D4: =C4-B4 -> 1 | E4: 16 | F4: =VLOOKUP(A:A,[1]工作表3!$C:$N,9,0) -> 29 | G4: =VLOOKUP(A:A,[1]工作表3!$C:$N,11,0) -> 32 | H4: =G4-F4 -> 3 | I4: =VLOOKUP(A:A,[1]工作表3!$C:$N,12,0) -> 14 | J4: 0.04 | K4: 2 | L4: 0.04 | N4: 5 | O4: 2 | P4: 2 | Q4: 3 | R4: 0.75 | S4: 0.65 | T4: 0.65
A5: 桃園市 | B5: 12 | C5: 13 | D5: =C5-B5 -> 1 | E5: 9 | F5: =VLOOKUP(A:A,[1]工作表3!$C:$N,9,0) -> 13 | G5: =VLOOKUP(A:A,[1]工作表3!$C:$N,11,0) -> 14 | H5: =G5-F5 -> 1 | I5: =VLOOKUP(A:A,[1]工作表3!$C:$N,12,0) -> 8 | J5: 0.04 | K5: 2 | L5: 0.04 | N5: 5 | O5: 2 | P5: 2 | Q5: 3 | R5: 0.75 | S5: 0.65 | T5: 0.65
A6: 臺中市 | B6: 19 | C6: 22 | D6: =C6-B6 -> 3 | E6: 13 | F6: =VLOOKUP(A:A,[1]工作表3!$C:$N,9,0) -> 19 | G6: =VLOOKUP(A:A,[1]工作表3!$C:$N,11,0) -> 24 | H6: =G6-F6 -> 5 | I6: =VLOOKUP(A:A,[1]工作表3!$C:$N,12,0) -> 11 | J6: 0.04 | K6: 2 | L6: 0.04 | N6: 5 | O6: 2 | P6: 2 | Q6: 3 | R6: 0.8 | S6: 0.65 | T6: 0.7
A7: 臺南市 | B7: 17 | C7: 19 | D7: =C7-B7 -> 2 | E7: 9 | F7: =VLOOKUP(A:A,[1]工作表3!$C:$N,9,0) -> 17 | G7: =VLOOKUP(A:A,[1]工作表3!$C:$N,11,0) -> 20 | H7: =G7-F7 -> 3 | I7: =VLOOKUP(A:A,[1]工作表3!$C:$N,12,0) -> 8 | J7: 0.04 | K7: 2 | L7: 0.04 | N7: 5 | O7: 2 | P7: 2 | Q7: 3 | R7: 0.8 | S7: 0.7 | T7: 0.7
A8: 高雄市 | B8: 26 | C8: 28 | D8: =C8-B8 -> 2 | E8: 14 | F8: =VLOOKUP(A:A,[1]工作表3!$C:$N,9,0) -> 26 | G8: =VLOOKUP(A:A,[1]工作表3!$C:$N,11,0) -> 30 | H8: =G8-F8 -> 4 | I8: =VLOOKUP(A:A,[1]工作表3!$C:$N,12,0) -> 12 | J8: 0.04 | K8: 2 | L8: 0.04 | N8: 5 | O8: 2 | P8: 2 | Q8: 3 | R8: 0.85 | S8: 0.7 | T8: 0.7
A9: 宜蘭縣 | B9: 7 | C9: 11 | D9: =C9-B9 -> 4 | E9: 3 | F9: =VLOOKUP(A:A,[1]工作表3!$C:$N,9,0) -> 7 | G9: =VLOOKUP(A:A,[1]工作表3!$C:$N,11,0) -> 11 | H9: =G9-F9 -> 4 | I9: =VLOOKUP(A:A,[1]工作表3!$C:$N,12,0) -> 3 | J9: 0.06 | K9: 1 | L9: 0.1 | N9: 4 | O9: 2 | P9: 2 | Q9: 2 | R9: 0.75 | S9: 0.75 | T9: 0.75
A10: 新竹縣 | B10: 8 | C10: 10 | D10: =C10-B10 -> 2 | E10: 3 | F10: =VLOOKUP(A:A,[1]工作表3!$C:$N,9,0) -> 8 | G10: =VLOOKUP(A:A,[1]工作表3!$C:$N,11,0) -> 10 | H10: =G10-F10 -> 2 | I10: =VLOOKUP(A:A,[1]工作表3!$C:$N,12,0) -> 3 | J10: 0.06 | K10: 1 | L10: 0.1 | N10: 4 | O10: 2 | P10: 2 | Q10: 2 | R10: 0.8 | S10: 0.7 | T10: 0.7
A11: 苗栗縣 | B11: 8 | C11: 10 | D11: =C11-B11 -> 2 | E11: 3 | F11: =VLOOKUP(A:A,[1]工作表3!$C:$N,9,0) -> 8 | G11: =VLOOKUP(A:A,[1]工作表3!$C:$N,11,0) -> 10 | H11: =G11-F11 -> 2 | I11: =VLOOKUP(A:A,[1]工作表3!$C:$N,12,0) -> 3 | J11: 0.1 | K11: 1 | L11: 0.1 | N11: 4 | O11: 2 | P11: 2 | Q11: 2 | R11: 0.9 | S11: 0.8 | T11: 0.8
A12: 彰化縣 | B12: 11 | C12: 14 | D12: =C12-B12 -> 3 | E12: 5 | F12: =VLOOKUP(A:A,[1]工作表3!$C:$N,9,0) -> 11 | G12: =VLOOKUP(A:A,[1]工作表3!$C:$N,11,0) -> 14 | H12: =G12-F12 -> 3 | I12: =VLOOKUP(A:A,[1]工作表3!$C:$N,12,0) -> 5 | J12: 0.04 | K12: 1 | L12: 0.06 | N12: 4 | O12: 2 | P12: 2 | Q12: 2 | R12: 0.85 | S12: 0.75 | T12: 0.75
A13: 南投縣 | B13: 10 | C13: 12 | D13: =C13-B13 -> 2 | E13: 3 | F13: =VLOOKUP(A:A,[1]工作表3!$C:$N,9,0) -> 10 | G13: =VLOOKUP(A:A,[1]工作表3!$C:$N,11,0) -> 12 | H13: =G13-F13 -> 2 | I13: =VLOOKUP(A:A,[1]工作表3!$C:$N,12,0) -> 3 | J13: 0.06 | K13: 1 | L13: 0.1 | N13: 4 | O13: 2 | P13: 2 | Q13: 2 | R13: 0.85 | S13: 0.75 | T13: 0.75
A14: 雲林縣 | B14: 9 | C14: 12 | D14: =C14-B14 -> 3 | E14: 3 | F14: =VLOOKUP(A:A,[1]工作表3!$C:$N,9,0) -> 9 | G14: =VLOOKUP(A:A,[1]工作表3!$C:$N,11,0) -> 12 | H14: =G14-F14 -> 3 | I14: =VLOOKUP(A:A,[1]工作表3!$C:$N,12,0) -> 3 | J14: 0.06 | K14: 1 | L14: 0.1 | N14: 4 | O14: 2 | P14: 2 | Q14: 2 | R14: 0.85 | S14: 0.75 | T14: 0.75
A15: 嘉義縣 | B15: 7 | C15: 9 | D15: =C15-B15 -> 2 | E15: 2 | F15: =VLOOKUP(A:A,[1]工作表3!$C:$N,9,0) -> 7 | G15: =VLOOKUP(A:A,[1]工作表3!$C:$N,11,0) -> 9 | H15: =G15-F15 -> 2 | I15: =VLOOKUP(A:A,[1]工作表3!$C:$N,12,0) -> 2 | J15: 0.06 | K15: 1 | L15: 0.1 | N15: 4 | O15: 2 | P15: 2 | Q15: 2 | R15: 0.9 | S15: 0.8 | T15: 0.8
... A24: 連江縣 | B24: 1 | C24: 2 | D24: =C24-B24 -> 1 | E24: 1 | F24: =VLOOKUP(A:A,[1]工作表3!$C:$N,9,0) -> 1 | G24: =VLOOKUP(A:A,[1]工作表3!$C:$N,11,0) -> 2 | H24: =G24-F24 -> 1 | I24: =VLOOKUP(A:A,[1]工作表3!$C:$N,12,0) -> 1 | J24: 0.15 | K24: 1 | L24: 0.15 | N24: 2 | O24: 1 | P24: 1 | Q24: 1 | R24: 0.9 | S24: 0.8 | T24: 0.8
A27: 請選擇 | B27: 請選擇 | C27: 請選擇
A28: 局內聘用 | B28: 是 | C28: 有
A29: 委託辦理 | B29: 否 | C29: 無
