Workbook

Sheet 歷年
A1: 精神衛生行政工作執行成果表
N2: 中華民國 93-114 年 | AI2: 單位：人、人次、次、件
A3: 年底別 | B3: 轄區 總人口數 | C3: 目前管理個案數 | E3: 領具精神 障礙手冊/ 證明人數 | F3: 管理個案分級人數 | L3: 訪員 人數 | N3: 嚴重病人 人數 | P3: 訪視人次 | Q3: 緊急處置 人數 | S3: 協助病人就醫次數 | U3: 會商選定指定保護人次數 | W3: 指定保護人次數 | Y3: 指定精神 醫療機構數 | Z3: 指定精神 專科醫師 人數 | AB3: 一般民眾 宣導活動 | AD3: 工作人員 在職訓練 | AF3: 相關基層人員 研習會 | AH3: 工作協調 會議(次) | AI3: 民眾申訴 案件(件)
C4: 上年 | D4: 本年 | F4: 一級 | G4: 二級 | H4: 三級 | I4: 四級 | J4: 五級 | K4: 未分級
L5: 男 | M5: 女 | N5: 男 | O5: 女 | Q5: 男 | R5: 女 | S5: 男 | T5: 女 | U5: 男 | V5: 女 | W5: 男 | X5: 女 | Z5: 男 | AA5: 女 | AB5: 人次 | AC5: 場次 | AD5: 人次 | AE5: 場次 | AF5: 人次 | AG5: 場次
A6: 93年 | B6: ='93年'!B8 -> 22695236 | C6: ='93年'!C8 -> 66832 | D6: ='93年'!D8 -> 78096 | E6: ='93年'!E8 -> 83618 | F6: … | G6: … | H6: … | I6: … | J6: … | K6: … | L6: ='93年'!F8 -> 3711 | N6: … | O6: … | P6: ='93年'!G8 -> 106286 | Q6: … | R6: … | S6: ='93年'!H8 -> 6068 | U6: … | V6: … | W6: ='93年'!I8 -> 79 | Y6: … | Z6: … | AA6: … | AB6: ='93年'!L8 -> 225271 | AC6: ='93年'!M8 -> 1599 | AD6: ='93年'!N8 -> 9428 | AE6: ='93年'!O8 -> 332 | AF6: ='93年'!P8 -> 25354 | AG6: ='93年'!Q8 -> 369 | AH6: ='93年'!R8 -> 328 | AI6: ='93年'!S8 -> 1159
A7: 94年 | B7: ='94年'!B8 -> 22770383 | C7: ='94年'!C8 -> 75749 | D7: ='94年'!D8 -> 73572 | E7: ='94年'!E8 -> 85198 | F7: … | G7: … | H7: … | I7: … | J7: … | K7: … | L7: ='94年'!F8 -> 4492 | N7: … | O7: … | P7: ='94年'!G8 -> 142252 | Q7: … | R7: … | S7: ='94年'!H8 -> 6847 | U7: … | V7: … | W7: ='94年'!I8 -> 173 | Y7: … | Z7: … | AA7: … | AB7: ='94年'!L8 -> 254975 | AC7: ='94年'!M8 -> 1908 | AD7: ='94年'!N8 -> 9558 | AE7: ='94年'!O8 -> 613 | AF7: ='94年'!P8 -> 21851 | AG7: ='94年'!Q8 -> 497 | AH7: ='94年'!R8 -> 337 | AI7: ='94年'!S8 -> 1342
A8: 95年 | B8: ='95年'!B8 -> 22876527 | C8: ='95年'!C8 -> 73572 | D8: ='95年'!D8 -> 78654 | E8: ='95年'!E8 -> 86657 | F8: … | G8: … | H8: … | I8: … | J8: … | K8: … | L8: ='95年'!F8 -> 2897 | N8: … | O8: … | P8: ='95年'!G8 -> 155991 | Q8: … | R8: … | S8: ='95年'!H8 -> 6598 | U8: … | V8: … | W8: ='95年'!I8 -> 143 | Y8: … | Z8: … | AA8: … | AB8: ='95年'!L8 -> 208840 | AC8: ='95年'!M8 -> 1611 | AD8: ='95年'!N8 -> 13087 | AE8: ='95年'!O8 -> 607 | AF8: ='95年'!P8 -> 19397 | AG8: ='95年'!Q8 -> 302 | AH8: ='95年'!R8 -> 796 | AI8: ='95年'!S8 -> 1447
A9: 96年 | B9: ='96年'!B8 -> 22958360 | C9: ='96年'!C8 -> 78657 | D9: ='96年'!D8 -> 91762 | E9: ='96年'!E8 -> 87829 | F9: ='96年'!F8 -> 4897 | G9: ='96年'!G8 -> 4066 | H9: ='96年'!H8 -> 31655 | I9: ='96年'!I8 -> 42567 | J9: ='96年'!J8 -> 8442 | K9: … | L9: ='96年'!K8 -> 2622 | N9: … | O9: … | P9: ='96年'!L8 -> 174652 | Q9: … | R9: … | S9: ='96年'!M8 -> 5829 | U9: … | V9: … | W9: ='96年'!N8 -> 376 | Y9: … | Z9: … | AA9: … | AB9: ='96年'!Q8 -> 225698 | AC9: ='96年'!R8 -> 4011 | AD9: ='96年'!S8 -> 11560 | AE9: ='96年'!T8 -> 856 | AF9: ='96年'!U8 -> 20673 | AG9: ='96年'!V8 -> 356 | AH9: ='96年'!W8 -> 411 | AI9: ='96年'!X8 -> 1511
A10: 97年 | B10: ='97年'!B8 -> 23037031 | C10: ='97年'!C8 -> 91665 | D10: ='97年'!D8 -> 99115 | E10: ='97年'!E8 -> 91622 | F10: ='97年'!F8 -> 4331 | G10: ='97年'!G8 -> 5121 | H10: ='97年'!H8 -> 36194 | I10: ='97年'!I8 -> 43559 | J10: ='97年'!J8 -> 9509 | K10: … | L10: ='97年'!K8 -> 2830 | N10: … | O10: … | P10: ='97年'!L8 -> 258914 | Q10: … | R10: … | S10: ='97年'!M8 -> 5559 | U10: … | V10: … | W10: ='97年'!N8 -> 48 | Y10: … | Z10: … | AA10: … | AB10: ='97年'!Q8 -> 251069 | AC10: ='97年'!R8 -> 3844 | AD10: ='97年'!S8 -> 12715 | AE10: ='97年'!T8 -> 583 | AF10: ='97年'!U8 -> 15874 | AG10: ='97年'!V8 -> 268 | AH10: ='97年'!W8 -> 388 | AI10: ='97年'!X8 -> 1650
A11: 98年 | B11: ='98年'!B8 -> 23119772 | C11: ='98年'!C8 -> 98542 | D11: ='98年'!D8 -> 104765 | E11: ='98年'!E8 -> 101959 | F11: ='98年'!F8 -> 6555 | G11: ='98年'!G8 -> 3753 | H11: ='98年'!H8 -> 39111 | I11: ='98年'!I8 -> 50510 | J11: ='98年'!J8 -> 4832 | K11: … | L11: ='98年'!K8 -> 2746 | N11: … | O11: … | P11: ='98年'!L8 -> 350096 | Q11: … | R11: … | S11: ='98年'!M8 -> 6431 | U11: … | V11: … | W11: ='98年'!N8 -> 272 | Y11: … | Z11: … | AA11: … | AB11: ='98年'!Q8 -> 289897 | AC11: ='98年'!R8 -> 3750 | AD11: ='98年'!S8 -> 8255 | AE11: ='98年'!T8 -> 844 | AF11: ='98年'!U8 -> 13234 | AG11: ='98年'!V8 -> 564 | AH11: ='98年'!W8 -> 519 | AI11: ='98年'!X8 -> 2001
A12: 99年 | B12: ='99年'!B8 -> 23162123 | C12: ='99年'!C8 -> 101746 | D12: ='99年'!D8 -> 119544 | E12: ='99年'!E8 -> 144610 | F12: ='99年'!F8 -> 10333 | G12: ='99年'!G8 -> 4723 | H12: ='99年'!H8 -> 39117 | I12: ='99年'!I8 -> 62933 | J12: ='99年'!J8 -> 2395 | K12: … | L12: ='99年'!K8 -> 2704 | N12: ='99年'!L8 -> 3212 | P12: ='99年'!M8 -> 462955 | Q12: … | R12: … | S12: ='99年'!N8 -> 9011 | U12: … | V12: … | W12: ='99年'!O8 -> 965 | Y12: ='99年'!P8 -> 108 | Z12: … | AA12: … | AB12: ='99年'!Q8 -> 296416 | AC12: ='99年'!R8 -> 3272 | AD12: ='99年'!S8 -> 7597 | AE12: ='99年'!T8 -> 910 | AF12: ='99年'!U8 -> 12022 | AG12: ='99年'!V8 -> 399 | AH12: ='99年'!W8 -> 438 | AI12: ='99年'!X8 -> 1695
A13: 100年 | B13: ='100年'!B8 -> 23224912 | C13: ='100年'!C8 -> 119544 | D13: ='100年'!D8 -> 123648 | E13: ='100年'!E8 -> 113461 | F13: ='100年'!F8 -> 8263 | G13: ='100年'!G8 -> 4640 | H13: ='100年'!H8 -> 40141 | I13: ='100年'!I8 -> 68537 | J13: ='100年'!J8 -> 2023 | K13: … | L13: ='100年'!K8 -> 2499 | N13: ='100年'!L8 -> 3575 | P13: ='100年'!M8 -> 490009 | Q13: … | R13: … | S13: ='100年'!N8 -> 7101 | U13: ='100年'!O8 -> 290 | W13: ='100年'!P8 -> 272 | Y13: ='100年'!Q8 -> 103 | Z13: … | AA13: … | AB13: ='100年'!R8 -> 299233 | AC13: ='100年'!S8 -> 3354 | AD13: ='100年'!T8 -> 9078 | AE13: ='100年'!U8 -> 832 | AF13: ='100年'!V8 -> 13907 | AG13: ='100年'!W8 -> 394 | AH13: ='100年'!X8 -> 522 | AI13: ='100年'!Y8 -> 2642
A14: 101年 | B14: ='101年'!B8 -> 23315822 | C14: ='101年'!C8 -> 123617 | D14: ='101年'!D8 -> 129837 | E14: ='101年'!E8 -> 117101 | F14: ='101年'!F8 -> 10051 | G14: ='101年'!G8 -> 5171 | H14: ='101年'!H8 -> 35752 | I14: ='101年'!I8 -> 77217 | J14: ='101年'!J8 -> 1646 | K14: … | L14: ='101年'!K8 -> 2515 | N14: ='101年'!L8 -> 3320 | P14: ='101年'!M8 -> 531322 | Q14: … | R14: … | S14: ='101年'!N8 -> 7180 | U14: ='101年'!O8 -> 284 | W14: ='101年'!P8 -> 283 | Y14: ='101年'!Q8 -> 104 | Z14: … | AA14: … | AB14: ='101年'!R8 -> 458453 | AC14: ='101年'!S8 -> 3194 | AD14: ='101年'!T8 -> 11367 | AE14: ='101年'!U8 -> 957 | AF14: ='101年'!V8 -> 32098 | AG14: ='101年'!W8 -> 647 | AH14: ='101年'!X8 -> 717 | AI14: ='101年'!Y8 -> 2667
A15: 102年 | B15: ='102年'!B8 -> 23373517 | C15: ='102年'!C8 -> 129837 | D15: ='102年'!D8 -> 133662 | E15: ='102年'!E8 -> 117529 | F15: ='102年'!F8 -> 14264 | G15: ='102年'!G8 -> 5964 | H15: ='102年'!H8 -> 34578 | I15: ='102年'!I8 -> 77640 | ... AI15: ='102年'!AI8 -> 3021
A16: 103年 | B16: ='103年'!B8 -> 23433753 | C16: ='103年'!C8 -> 133662 | D16: ='103年'!D8 -> 141310 | E16: ='103年'!E8 -> 119810 | F16: ='103年'!F8 -> 16020 | G16: ='103年'!G8 -> 8257 | H16: ='103年'!H8 -> 35622 | I16: ='103年'!I8 -> 80412 | ... AI16: ='103年'!AI8 -> 3285
A17: 104年 | B17: ='104年'!B8 -> 23043460 | C17: ='104年'!C8 -> 141310 | D17: ='104年'!D8 -> 141768 | E17: ='104年'!E8 -> 120479 | F17: ='104年'!F8 -> 13481 | G17: ='104年'!G8 -> 21308 | H17: ='104年'!H8 -> 37382 | I17: ='104年'!I8 -> 68780 | ... AI17: ='104年'!AI8 -> 3126
A18: 105年 | B18: ='105年'!B8 -> 23539816 | C18: ='105年'!C8 -> 141251 | D18: ='105年'!D8 -> 141537 | E18: ='105年'!E8 -> 121830 | F18: ='105年'!F8 -> 14117 | G18: ='105年'!G8 -> 25665 | H18: ='105年'!H8 -> 38420 | I18: ='105年'!I8 -> 62608 | ... AI18: ='105年'!AI8 -> 4011
A19: 106年 | B19: ='106年'!B8 -> 23571227 | C19: ='106年'!C8 -> 141537 | D19: ='106年'!D8 -> 139286 | E19: ='106年'!E8 -> 117858 | F19: ='106年'!F8 -> 18062 | G19: ='106年'!G8 -> 17085 | H19: ='106年'!H8 -> 42748 | I19: ='106年'!I8 -> 60630 | ... AI19: ='106年'!AI8 -> 3392
A20: 107年 | B20: ='107年'!B8 -> 23588932 | C20: ='107年'!C8 -> 139286 | D20: ='107年'!D8 -> 140516 | E20: ='107年'!E8 -> 114928 | F20: ='107年'!F8 -> 22080 | G20: ='107年'!G8 -> 19433 | H20: ='107年'!H8 -> 37779 | I20: ='107年'!I8 -> 60289 | ... AI20: ='107年'!AI8 -> 2154
A21: 108年 | B21: 23603121 | C21: 140516 | D21: 135719 | E21: 113199 | F21: 20761 | G21: 18547 | H21: 36160 | I21: 58988 | J21: 1113 | K21: 150 | L21: 136 | M21: 2850 | N21: 3550 | O21: 3049 | P21: 765405 | Q21: 495 | R21: 388 | S21: 2048 | T21: 1396 | U21: 166 | V21: 179 | W21: 225 | X21: 323 | Y21: 102 | Z21: 640 | AA21: 162 | AB21: 373173 | AC21: 4999 | AD21: 11671 | AE21: 998 | AF21: 30562 | AG21: 915 | AH21: 996 | AI21: 2462
A22: 109年 | B22: 23701833 | C22: 135719 | D22: 122830 | E22: 108668 | F22: 18132 | G22: 16178 | H22: 31137 | I22: 55952 | J22: 1271 | K22: 160 | L22: 111 | M22: 2841 | N22: 3056 | O22: 2838 | P22: 689339 | Q22: 352 | R22: 242 | S22: 2171 | T22: 1525 | U22: 150 | V22: 161 | W22: 172 | X22: 172 | Y22: 101 | Z22: 635 | AA22: 171 | AB22: 236608 | AC22: 4574 | AD22: 11704 | AE22: 906 | AF22: 27382 | AG22: 648 | AH22: 1133 | AI22: 2109
A23: 110年 | B23: 23375314 | C23: 122830 | D23: 114112 | E23: 107473 | F23: 19805 | G23: 14780 | H23: 29220 | I23: 48335 | J23: 1733 | K23: 239 | L23: 133 | M23: 2621 | N23: 3105 | O23: 2619 | P23: 625495 | Q23: 625 | R23: 444 | S23: 2004 | T23: 1370 | U23: 123 | V23: 142 | W23: 185 | X23: 220 | Y23: 100 | Z23: 656 | AA23: 169 | AB23: 157429 | AC23: 2799 | AD23: 9686 | AE23: 928 | AF23: 26087 | AG23: 800 | AH23: 893 | AI23: 1767
A24: 111年 | B24: 23264640 | C24: 114112 | D24: 105338 | E24: 112362 | F24: 19612 | G24: 14163 | H24: 28418 | I24: 41266 | J24: 1680 | K24: 199 | L24: 203 | M24: 2944 | N24: 3523 | O24: 2899 | P24: 547615 | Q24: 336 | R24: 278 | S24: 2747 | T24: 1982 | U24: 135 | V24: 139 | W24: 206 | X24: 250 | Y24: 101 | Z24: 699 | AA24: 196 | AB24: 229918 | AC24: 3368 | AD24: 9603 | AE24: 943 | AF24: 31154 | AG24: 770 | AH24: 1021 | AI24: 1804
A25: 112年 | B25: 23420442 | C25: 105338 | D25: 96768 | E25: 111437 | F25: 17148 | G25: 14078 | H25: 28187 | I25: 35577 | J25: 1636 | K25: 142 | L25: 272 | M25: 3032 | N25: 3050 | O25: 2658 | P25: 574205 | Q25: 460 | R25: 375 | S25: 1959 | T25: 1581 | U25: 135 | V25: 123 | W25: 204 | X25: 229 | Y25: 101 | Z25: 579 | AA25: 178 | AB25: 346869 | AC25: 5344 | AD25: 15090 | AE25: 804 | AF25: 29645 | AG25: 880 | AH25: 1250 | AI25: 2190
A26: 113年 | B26: 23400220 | C26: 96768 | D26: 92399 | E26: 112506 | F26: 16518 | G26: 13250 | H26: 27129 | I26: 34139 | J26: 1171 | K26: 192 | L26: 328 | M26: 3213 | N26: 2952 | O26: 2786 | P26: 556821 | Q26: 329 | R26: 263 | S26: 1920 | T26: 1579 | U26: 142 | V26: 152 | W26: 240 | X26: 270 | Y26: 105 | Z26: 600 | AA26: 186 | AB26: 304050 | AC26: 4495 | AD26: 16539 | AE26: 732 | AF26: 43901 | AG26: 974 | AH26: 1093 | AI26: 2637
A27: 114年 | B27: 23299132 | C27: 92399 | D27: 79136 | E27: 137082 | F27: 15138 | G27: 12521 | H27: 23713 | I27: 27143 | J27: 493 | K27: 128 | L27: 307 | M27: 2976 | N27: 464 | O27: 425 | P27: 533921 | Q27: 345 | R27: 295 | S27: 2054 | T27: 1833 | U27: 166 | V27: 157 | W27: 156 | X27: 213 | Y27: 98 | Z27: 641 | AA27: 217 | AB27: 442461 | AC27: 5761 | AD27: 26682 | AE27: 1292 | AF27: 44569 | AG27: 1215 | AH27: 1328 | AI27: 2253
A28: 資料來源：依據直轄市政府及各縣市衛生局(含金門、連江縣)之資料彙編。
A29: 填表說明：1.轄區總人口數依據內政部年底人口數。
A30: 填表說明：2.本表一式二份，一份送本部心理健康司，一份自存。
A31: 填表說明：3.新北市嚴重病人人數以醫院通報嚴重病人之人數為計算基準。
A32: 備註：
A33: 1.自96年起增列「管理個案分級人數」，93年至95年無相關統計資料，爰以「…」表示。
A34: 2.自99年起增列「嚴重病人人數」及「指定精神醫療機構數」，93年至98年無相關統計資料，爰以「…」表示。
A35: 3.自100年起增列「會商選定指定保護人次數」，93年至99年無相關統計資料，爰以「…」表示。
A36: 4.自102年起管理個案分級人數增列「未分級」，93年至101年無相關統計資料，爰以「…」表示。
A37: 5.自102年起「訪員人數」、「嚴重病人人數」、「緊急處置人數」、「協助病人就醫次數」、「會商選定指定保護人次數」、「指定精神專科醫師人數」始分計男女，93年至101年相關統計資料無法細分，爰以合計呈現。

Sheet 114年
A1: 公開類 | AF1: 編製機關 | AH1: 衛生福利部
A2: 年 報 | B2: 每年終了2個月內編報 | AF2: 表 號 | AH2: 10551-03-01
A3: 精神衛生行政工作執行成果
Q4: 中華民國 114 年 | AI4: 單位：人、人次、次、件
A5: 縣市別 | B5: 轄區 總人口數 | C5: 目前管理個案數 | E5: 領具精神障礙手冊/證明人數 | F5: 管理個案分級人數 | L5: 訪員 人數 | N5: 嚴重病人 人數 | P5: 訪視人次 | Q5: 緊急處置 人數 | S5: 協助病人 就醫次數 | U5: 會商選定指定保護人人次數 | W5: 指定保護人人次數 | Y5: 指定精神醫療機構數 | Z5: 指定精神科專科醫師人數 | AB5: 一般民眾 宣導活動 | AD5: 工作人員 在職訓練 | AF5: 相關基層人員 研習會 | AH5: 工作協調 會 議 (次) | AI5: 民眾申訴案件(件)
C6: 上年 | D6: 本年 | F6: 一級 | G6: 二級 | H6: 三級 | I6: 四級 | J6: 五級 | K6: 未分級
L7: 男 | M7: 女 | N7: 男 | O7: 女 | Q7: 男 | R7: 女 | S7: 男 | T7: 女 | U7: 男 | V7: 女 | W7: 男 | X7: 女 | Z7: 男 | AA7: 女 | AB7: 人次 | AC7: 場次 | AD7: 人次 | AE7: 場次 | AF7: 人次 | AG7: 場次
A8: 總 計 | B8: 23299132 | C8: 92399 | D8: 79136 | E8: 137082 | F8: 15138 | G8: 12521 | H8: 23713 | I8: 27143 | J8: 493 | K8: 128 | L8: 307 | M8: 2976 | N8: 464 | O8: 425 | P8: 533921 | Q8: 345 | R8: 295 | S8: 2054 | T8: 1833 | U8: 166 | V8: 157 | W8: 156 | X8: 213 | Y8: 98 | Z8: 641 | AA8: 217 | AB8: 442461 | AC8: 5761 | AD8: 26682 | AE8: 1292 | AF8: 44569 | AG8: 1215 | AH8: 1328 | AI8: 2253
A9: 新北市 | B9: 4044831 | C9: 14016 | D9: 13463 | E9: 20958 | F9: 2418 | G9: 1722 | H9: 4221 | I9: 5101 | J9: 1 | K9: 0 | L9: 33 | M9: 431 | N9: 71 | O9: 68 | P9: 81851 | Q9: 100 | R9: 97 | S9: 46 | T9: 36 | U9: 5 | V9: 10 | W9: 17 | X9: 25 | Y9: 9 | Z9: 63 | AA9: 29 | AB9: 36483 | AC9: 596 | AD9: 200 | AE9: 3 | AF9: 1320 | AG9: 24 | AH9: 115 | AI9: 505
A10: 臺北市 | B10: 2439507 | C10: 11834 | D10: 10350 | E10: 15550 | F10: 1602 | G10: 1586 | H10: 3907 | I10: 3159 | J10: 96 | K10: 0 | L10: 47 | M10: 100 | N10: 55 | O10: 63 | P10: 52472 | Q10: 68 | R10: 73 | S10: 32 | T10: 25 | U10: 28 | V10: 43 | W10: 3 | X10: 47 | Y10: 9 | Z10: 128 | AA10: 42 | AB10: 8056 | AC10: 58 | AD10: 8244 | AE10: 130 | AF10: 344 | AG10: 8 | AH10: 10 | AI10: 117
A11: 桃園市 | B11: 2355106 | C11: 6992 | D11: 6029 | E11: 10519 | F11: 1346 | G11: 1070 | H11: 2071 | I11: 1541 | J11: 1 | K11: 0 | L11: 26 | M11: 232 | N11: 14 | O11: 15 | P11: 48327 | Q11: 0 | R11: 0 | S11: 305 | T11: 378 | U11: 0 | V11: 0 | W11: 8 | X11: 6 | Y11: 5 | Z11: 55 | AA11: 14 | AB11: 15620 | AC11: 212 | AD11: 747 | AE11: 33 | AF11: 2025 | AG11: 16 | AH11: 4 | AI11: 187
A12: 臺中市 | B12: 2868465 | C12: 7270 | D12: 6927 | E12: 14182 | F12: 2053 | G12: 1289 | H12: 1807 | I12: 1778 | J12: 0 | K12: 0 | L12: 23 | M12: 318 | N12: 37 | O12: 21 | P12: 59734 | Q12: 38 | R12: 23 | S12: 141 | T12: 142 | U12: 0 | V12: 0 | W12: 3 | X12: 6 | Y12: 15 | Z12: 60 | AA12: 24 | AB12: 110037 | AC12: 728 | AD12: 1109 | AE12: 15 | AF12: 3262 | AG12: 144 | AH12: 5 | AI12: 77
A13: 臺南市 | B13: 1852477 | C13: 6879 | D13: 6398 | E13: 9121 | F13: 1159 | G13: 764 | H13: 1796 | I13: 2607 | J13: 0 | K13: 72 | L13: 23 | M13: 258 | N13: 71 | O13: 51 | P13: 48143 | Q13: 13 | R13: 5 | S13: 106 | T13: 86 | U13: 4 | V13: 11 | W13: 24 | X13: 34 | Y13: 7 | Z13: 33 | AA13: 22 | AB13: 11594 | AC13: 135 | AD13: 2537 | AE13: 79 | AF13: 2738 | AG13: 66 | AH13: 255 | AI13: 457
A14: 高雄市 | B14: 2718545 | C14: 15135 | D14: 10756 | E14: 18307 | F14: 2064 | G14: 2534 | H14: 2541 | I14: 3616 | J14: 1 | K14: 0 | L14: 44 | M14: 330 | N14: 124 | O14: 120 | P14: 80168 | Q14: 0 | R14: 0 | S14: 208 | T14: 200 | U14: 74 | V14: 81 | W14: 50 | X14: 39 | Y14: 11 | Z14: 84 | AA14: 39 | AB14: 34072 | AC14: 749 | AD14: 1227 | AE14: 408 | AF14: 1201 | AG14: 157 | AH14: 355 | AI14: 585
A15: 宜蘭縣 | B15: 449336 | C15: 3331 | D15: 3090 | E15: 3711 | F15: 333 | G15: 244 | H15: 816 | I15: 1667 | J15: 7 | K15: 23 | L15: 0 | M15: 71 | N15: 1 | O15: 2 | P15: 16028 | Q15: 0 | R15: 0 | S15: 119 | T15: 118 | U15: 0 | V15: 0 | W15: 0 | X15: 2 | Y15: 0 | Z15: 6 | AA15: 1 | AB15: 15264 | AC15: 314 | AD15: 1604 | AE15: 31 | AF15: 386 | AG15: 33 | AH15: 33 | AI15: 22
A16: 新竹縣 | B16: 597235 | C16: 2251 | D16: 1968 | E16: 2498 | F16: 382 | G16: 322 | H16: 394 | I16: 870 | J16: 0 | K16: 0 | L16: 5 | M16: 110 | N16: 3 | O16: 8 | P16: 12449 | Q16: 2 | R16: 1 | S16: 95 | T16: 59 | U16: 1 | V16: 1 | W16: 4 | X16: 9 | Y16: 3 | Z16: 8 | AA16: 4 | AB16: 13294 | AC16: 224 | AD16: 495 | AE16: 10 | AF16: 1436 | AG16: 29 | AH16: 2 | AI16: 6
A17: 苗栗縣 | B17: 531172 | C17: 1314 | D17: 991 | E17: 3243 | F17: 284 | G17: 228 | H17: 303 | I17: 176 | J17: 0 | K17: 0 | L17: 4 | M17: 142 | N17: 8 | O17: 6 | P17: 7681 | Q17: 0 | R17: 1 | S17: 60 | T17: 49 | U17: 0 | V17: 0 | W17: 5 | X17: 3 | Y17: 3 | Z17: 10 | AA17: 3 | AB17: 4956 | AC17: 56 | AD17: 572 | AE17: 22 | AF17: 2706 | AG17: 47 | AH17: 2 | AI17: 0
A18: 彰化縣 | B18: 1210206 | C18: 6800 | D18: 6216 | E18: 8731 | F18: 782 | G18: 575 | H18: 2035 | I18: 2440 | J18: 384 | K18: 0 | L18: 13 | M18: 183 | N18: 15 | O18: 14 | P18: 36016 | Q18: 0 | R18: 0 | S18: 353 | T18: 226 | U18: 5 | V18: 1 | W18: 9 | X18: 9 | Y18: 5 | Z18: 27 | AA18: 6 | AB18: 23913 | AC18: 508 | AD18: 666 | AE18: 154 | AF18: 6356 | AG18: 125 | AH18: 115 | AI18: 140
A19: 南投縣 | B19: 467881 | C19: 1714 | D19: 1590 | E19: 3432 | F19: 420 | G19: 409 | H19: 231 | I19: 530 | J19: 0 | K19: 0 | L19: 21 | M19: 130 | N19: 6 | O19: 1 | P19: 10636 | Q19: 0 | R19: 0 | S19: 148 | T19: 93 | U19: 0 | V19: 0 | W19: 0 | X19: 3 | Y19: 2 | Z19: 32 | AA19: 10 | AB19: 14677 | AC19: 144 | AD19: 801 | AE19: 74 | AF19: 3989 | AG19: 92 | AH19: 34 | AI19: 25
... A30: 連江縣 | B30: 13621 | C30: 26 | D30: 27 | E30: 77 | F30: 2 | G30: 5 | H30: 10 | I30: 10 | J30: 0 | K30: 0 | L30: 2 | M30: 3 | N30: 1 | O30: 1 | P30: 166 | Q30: 0 | R30: 0 | S30: 0 | T30: 0 | U30: 0 | V30: 0 | W30: 0 | X30: 0 | Y30: 0 | Z30: 0 | AA30: 0 | AB30: 692 | AC30: 5 | AD30: 21 | AE30: 1 | AF30: 120 | AG30: 5 | AH30: 2 | AI30: 0
A31: 填表 | G31: 審核 | U31: 主辦業務人員 | AF31: 機關長官
U32: 主辦統計人員
A33: 資料來源：依據直轄市政府及各縣市衛生局(含金門、連江縣)之資料彙編。
A34: 填表說明：1. 轄區總人口數依據內政部年底人口數。
A35: 2.本表一式二份，一份送本部心理健康司，一份統計處自存。

Sheet 113年
A1: 公開類 | AF1: 編製機關 | AH1: 衛生福利部
A2: 年 報 | B2: 每年終了2個月內編報 | AF2: 表 號 | AH2: 10551-03-01
A3: 精神衛生行政工作執行成果(修正)
Q4: 中華民國 113 年 | AI4: 單位：人、人次、次、件
A5: 縣市別 | B5: 轄區 總人口數 | C5: 目前管理個案數 | E5: 領具精神障礙手冊/證明人數 | F5: 管理個案分級人數 | L5: 訪員 人數 | N5: 嚴重病人 人數 | P5: 訪視人次 | Q5: 緊急處置 人數 | S5: 協助病人 就醫次數 | U5: 會商選定指定保護人人次數 | W5: 指定保護人人次數 | Y5: 指定精神醫療機構數 | Z5: 指定精神科專科醫師人數 | AB5: 一般民眾 宣導活動 | AD5: 工作人員 在職訓練 | AF5: 相關基層人員 研習會 | AH5: 工作協調 會 議 (次) | AI5: 民眾申訴案件(件)
C6: 上年 | D6: 本年 | F6: 一級 | G6: 二級 | H6: 三級 | I6: 四級 | J6: 五級 | K6: 未分級
L7: 男 | M7: 女 | N7: 男 | O7: 女 | Q7: 男 | R7: 女 | S7: 男 | T7: 女 | U7: 男 | V7: 女 | W7: 男 | X7: 女 | Z7: 男 | AA7: 女 | AB7: 人次 | AC7: 場次 | AD7: 人次 | AE7: 場次 | AF7: 人次 | AG7: 場次
A8: 總 計 | B8: 23400220 | C8: =SUM(C9:C30) -> 96768 | D8: =SUM(F8:K8) -> 92399 | E8: =SUM(E9:E30) -> 112506 | F8: =SUM(F9:F30) -> 16518 | G8: =SUM(G9:G30) -> 13250 | H8: =SUM(H9:H30) -> 27129 | I8: =SUM(I9:I30) -> 34139 | J8: =SUM(J9:J30) -> 1171 | K8: =SUM(K9:K30) -> 192 | L8: =SUM(L9:L30) -> 328 | ... AI8: =SUM(AI9:AI30) -> 2637
A9: 新北市 | B9: 4047001 | C9: =SUM('112年'!D9) -> 14746 | D9: =SUM(F9:K9) -> 14016 | E9: 10813 | F9: 2325 | G9: 1643 | H9: 4407 | I9: 5549 | J9: 92 | K9: 0 | L9: 53 | M9: 449 | N9: 521 | O9: 540 | P9: 87309 | Q9: 85 | R9: 63 | S9: 58 | T9: 47 | U9: 10 | V9: 11 | W9: 24 | X9: 22 | Y9: 9 | Z9: 61 | AA9: 30 | AB9: 45431 | AC9: 590 | AD9: 228 | AE9: 6 | AF9: 2521 | AG9: 35 | AH9: 109 | AI9: 852
A10: 臺北市 | B10: 2490869 | C10: =SUM('112年'!D10) -> 12331 | D10: =SUM(F10:K10) -> 11834 | E10: 15482 | F10: 1612 | G10: 1634 | H10: 4986 | I10: 3501 | J10: 101 | K10: 0 | L10: 22 | M10: 237 | N10: 559 | O10: 603 | P10: 53913 | Q10: 53 | R10: 60 | S10: 33 | T10: 52 | U10: 25 | V10: 39 | W10: 16 | X10: 19 | Y10: 9 | Z10: 88 | AA10: 28 | AB10: 9972 | AC10: 39 | AD10: 2524 | AE10: 84 | AF10: 929 | AG10: 17 | AH10: 24 | AI10: 412
A11: 桃園市 | B11: 2338648 | C11: =SUM('112年'!D11) -> 7111 | D11: =SUM(F11:K11) -> 6992 | E11: 5258 | F11: 2144 | G11: 1448 | H11: 1728 | I11: 1672 | J11: 0 | K11: 0 | L11: 24 | M11: 215 | N11: 226 | O11: 204 | P11: 51790 | Q11: 0 | R11: 0 | S11: 19 | T11: 11 | U11: 0 | V11: 0 | W11: 4 | X11: 6 | Y11: 5 | Z11: 50 | AA11: 11 | AB11: 10206 | AC11: 104 | AD11: 161 | AE11: 2 | AF11: 647 | AG11: 16 | AH11: 3 | AI11: 96
A12: 臺中市 | B12: 2860601 | C12: =SUM('112年'!D12) -> 7493 | D12: =SUM(F12:K12) -> 7270 | E12: 13949 | F12: 2026 | G12: 1278 | H12: 2107 | I12: 1859 | J12: 0 | K12: 0 | L12: 37 | M12: 318 | N12: 29 | O12: 31 | P12: 66315 | Q12: 24 | R12: 25 | S12: 107 | T12: 122 | U12: 0 | V12: 0 | W12: 2 | X12: 3 | Y12: 15 | Z12: 55 | AA12: 23 | AB12: 69941 | AC12: 943 | AD12: 256 | AE12: 2 | AF12: 0 | AG12: 0 | AH12: 0 | AI12: 81
A13: 臺南市 | B13: 1858651 | C13: =SUM('112年'!D13) -> 7498 | D13: =SUM(F13:K13) -> 6879 | E13: 9053 | F13: 1255 | G13: 918 | H13: 1885 | I13: 2721 | J13: 0 | K13: 100 | L13: 18 | M13: 241 | N13: 456 | O13: 387 | P13: 45674 | Q13: 39 | R13: 32 | S13: 185 | T13: 161 | U13: 6 | V13: 6 | W13: 0 | X13: 14 | Y13: 7 | Z13: 34 | AA13: 18 | AB13: 21213 | AC13: 224 | AD13: 1929 | AE13: 47 | AF13: 7187 | AG13: 173 | AH13: 191 | AI13: 451
A14: 高雄市 | B14: 2731412 | C14: =SUM('112年'!D14) -> 16085 | D14: =SUM(F14:K14) -> 15135 | E14: 18120 | F14: 2347 | G14: 2541 | H14: 3394 | I14: 6850 | J14: 3 | K14: 0 | L14: 59 | M14: 336 | N14: 453 | O14: 430 | P14: 76208 | Q14: 0 | R14: 0 | S14: 221 | T14: 138 | U14: 49 | V14: 49 | W14: 22 | X14: 40 | Y14: 11 | Z14: 76 | AA14: 32 | AB14: 31432 | AC14: 660 | AD14: 2851 | AE14: 125 | AF14: 1266 | AG14: 105 | AH14: 262 | AI14: 381
A15: 宜蘭縣 | B15: 449212 | C15: =SUM('112年'!D15) -> 3478 | D15: =SUM(F15:K15) -> 3331 | E15: 2861 | F15: 379 | G15: 299 | H15: 941 | I15: 1705 | J15: 7 | K15: 0 | L15: 8 | M15: 84 | N15: 42 | O15: 40 | P15: 16155 | Q15: 2 | R15: 1 | S15: 19 | T15: 18 | U15: 0 | V15: 0 | W15: 0 | X15: 0 | Y15: 3 | Z15: 6 | AA15: 0 | AB15: 11213 | AC15: 104 | AD15: 1226 | AE15: 51 | AF15: 1330 | AG15: 45 | AH15: 40 | AI15: 27
A16: 新竹縣 | B16: 594641 | C16: =SUM('112年'!D16) -> 2370 | D16: =SUM(F16:K16) -> 2251 | E16: 1436 | F16: 343 | G16: 372 | H16: 491 | I16: 1042 | J16: 3 | K16: 0 | L16: 3 | M16: 126 | N16: 8 | O16: 7 | P16: 13825 | Q16: 3 | R16: 3 | S16: 249 | T16: 229 | U16: 13 | V16: 6 | W16: 90 | X16: 78 | Y16: 7 | Z16: 14 | AA16: 4 | AB16: 13536 | AC16: 228 | AD16: 383 | AE16: 8 | AF16: 1168 | AG16: 16 | AH16: 2 | AI16: 8
A17: 苗栗縣 | B17: 532854 | C17: =SUM('112年'!D17) -> 1564 | D17: =SUM(F17:K17) -> 1314 | E17: 3220 | F17: 304 | G17: 250 | H17: 417 | I17: 343 | J17: 0 | K17: 0 | L17: 4 | M17: 128 | N17: 83 | O17: 51 | P17: 7493 | Q17: 18 | R17: 4 | S17: 100 | T17: 63 | U17: 5 | V17: 1 | W17: 10 | X17: 7 | Y17: 3 | Z17: 10 | AA17: 3 | AB17: 3251 | AC17: 50 | AD17: 609 | AE17: 19 | AF17: 1990 | AG17: 14 | AH17: 4 | AI17: 0
A18: 彰化縣 | B18: 1225675 | C18: =SUM('112年'!D18) -> 7157 | D18: =SUM(F18:K18) -> 6800 | E18: 5270 | F18: 851 | G18: 627 | H18: 2150 | I18: 2601 | J18: 571 | K18: 0 | L18: 11 | M18: 185 | N18: 146 | O18: 114 | P18: 36669 | Q18: 0 | R18: 0 | S18: 198 | T18: 165 | U18: 1 | V18: 1 | W18: 4 | X18: 1 | Y18: 5 | Z18: 27 | AA18: 4 | AB18: 12941 | AC18: 436 | AD18: 354 | AE18: 80 | AF18: 8927 | AG18: 163 | AH18: 84 | AI18: 155
A19: 南投縣 | B19: 472299 | C19: =SUM('112年'!D19) -> 1674 | D19: =SUM(F19:K19) -> 1714 | E19: 3408 | F19: 377 | G19: 386 | H19: 268 | I19: 683 | J19: 0 | K19: 0 | L19: 20 | M19: 130 | N19: 46 | O19: 39 | P19: 10257 | Q19: 0 | R19: 0 | S19: 101 | T19: 58 | U19: 0 | V19: 0 | W19: 0 | X19: 1 | Y19: 1 | Z19: 26 | AA19: 9 | AB19: 11026 | AC19: 124 | AD19: 233 | AE19: 74 | AF19: 1532 | AG19: 40 | AH19: 32 | AI19: 24
A20: 雲林縣 | B20: 658427 | C20: =SUM('112年'!D20) -> 2055 | D20: =SUM(F20:K20) -> 2067 | E20: 4657 | F20: 471 | G20: 378 | H20: 736 | I20: 482 | J20: 0 | K20: 0 | L20: 15 | M20: 174 | N20: 52 | O20: 62 | P20: 19707 | Q20: 0 | R20: 0 | S20: 170 | T20: 147 | U20: 3 | V20: 5 | W20: 30 | X20: 27 | Y20: 3 | Z20: 15 | AA20: 4 | AB20: 11280 | AC20: 167 | AD20: 550 | AE20: 41 | AF20: 1961 | AG20: 108 | AH20: 52 | AI20: 6
A21: 嘉義縣 | B21: 478786 | C21: =SUM('112年'!D21) -> 3289 | D21: =SUM(F21:K21) -> 3146 | E21: 3532 | F21: 337 | G21: 355 | H21: 760 | I21: 1216 | J21: 392 | K21: 86 | L21: 6 | M21: 7 | N21: 67 | O21: 46 | P21: 12909 | Q21: 0 | R21: 0 | S21: 44 | T21: 31 | U21: 0 | V21: 0 | W21: 0 | X21: 0 | Y21: 4 | Z21: 17 | AA21: 2 | AB21: 1878 | AC21: 54 | AD21: 190 | AE21: 2 | AF21: 960 | AG21: 13 | AH21: 4 | AI21: 0
A22: 屏東縣 | B22: 789239 | C22: =SUM('112年'!D22) -> 2251 | D22: =SUM(F22:K22) -> 2134 | E22: 5965 | F22: 684 | G22: 281 | H22: 685 | I22: 484 | K22: 0 | L22: 21 | M22: 290 | N22: 112 | O22: 67 | P22: 17545 | Q22: 17 | R22: 4 | S22: 185 | T22: 115 | U22: 0 | V22: 2 | W22: 7 | X22: 14 | Y22: 4 | Z22: 22 | AA22: 6 | AB22: 5148 | AC22: 69 | AD22: 1182 | AE22: 10 | AF22: 4052 | AG22: 27 | AH22: 27 | AI22: 30
A23: 臺東縣 | B23: 210219 | C23: =SUM('112年'!D23) -> 1036 | D23: =SUM(F23:K23) -> 1207 | E23: 977 | F23: 179 | G23: 139 | H23: 355 | I23: 533 | J23: 1 | K23: 0 | L23: 5 | M23: 66 | N23: 7 | O23: 15 | P23: 7144 | Q23: 1 | R23: 1 | S23: 87 | T23: 75 | U23: 0 | V23: 0 | W23: 0 | X23: 0 | Y23: 2 | Z23: 19 | AA23: 3 | AB23: 10635 | AC23: 209 | AD23: 499 | AE23: 70 | AF23: 288 | AG23: 20 | AH23: 31 | AI23: 25
A24: 花蓮縣 | B24: 315374 | C24: =SUM('112年'!D24) -> 2503 | D24: =SUM(F24:K24) -> 2411 | E24: 3229 | F24: 267 | G24: 184 | H24: 587 | I24: 1373 | J24: 0 | K24: 0 | L24: 4 | M24: 88 | N24: 35 | O24: 42 | P24: 10237 | Q24: 0 | R24: 0 | S24: 18 | T24: 13 | U24: 0 | W24: 5 | X24: 4 | Y24: 6 | Z24: 40 | AA24: 4 | AB24: 6309 | AC24: 165 | AD24: 851 | AE24: 12 | AF24: 2176 | AG24: 40 | AH24: 182 | AI24: 15
A25: 澎湖縣 | B25: 107901 | C25: =SUM('112年'!D25) -> 471 | D25: =SUM(F25:K25) -> 470 | E25: 626 | F25: 46 | G25: 61 | H25: 179 | I25: 178 | J25: 0 | K25: 6 | L25: 7 | M25: 51 | N25: 4 | O25: 3 | P25: 3101 | Q25: 23 | R25: 18 | S25: 6 | T25: 8 | U25: 2 | V25: 0 | W25: 3 | X25: 6 | Y25: 1 | Z25: 1 | AA25: 1 | AB25: 13694 | AC25: 171 | AD25: 893 | AE25: 23 | AF25: 1092 | AG25: 29 | AH25: 4 | AI25: 0
A26: 基隆市 | B26: 361441 | C26: =SUM('112年'!D26) -> 1997 | D26: =SUM(F26:K26) -> 1836 | E26: 2989 | F26: 245 | G26: 194 | H26: 496 | I26: 901 | J26: 0 | K26: 0 | L26: 1 | M26: 7 | N26: 41 | O26: 52 | P26: 9696 | Q26: 54 | R26: 47 | S26: 62 | T26: 95 | U26: 24 | V26: 31 | W26: 17 | X26: 21 | Y26: 3 | Z26: 15 | AA26: 1 | AB26: 8939 | AC26: 92 | AD26: 648 | AE26: 20 | AF26: 1054 | AG26: 62 | AH26: 23 | AI26: 24
A27: 新竹市 | B27: 457242 | C27: =SUM('112年'!D27) -> 709 | D27: =SUM(F27:K27) -> 695 | E27: 525 | F27: 185 | G27: 119 | H27: 242 | I27: 149 | J27: 0 | K27: 0 | L27: 3 | M27: 40 | N27: 29 | O27: 20 | P27: 3848 | Q27: 0 | R27: 0 | S27: 46 | T27: 26 | U27: 0 | V27: 0 | W27: 1 | X27: 0 | Y27: 2 | Z27: 13 | AA27: 1 | AB27: 145 | AC27: 2 | AD27: 209 | AE27: 6 | AF27: 2234 | AG27: 11 | AH27: 10 | AI27: 22
A28: 嘉義市 | B28: 262177 | C28: =SUM('112年'!D28) -> 687 | D28: =SUM(F28:K28) -> 670 | E28: 541 | F28: 121 | G28: 125 | H28: 223 | I28: 201 | J28: 0 | K28: 0 | L28: 4 | M28: 30 | N28: 30 | O28: 30 | P28: 5998 | Q28: 10 | R28: 5 | S28: 9 | T28: 3 | U28: 4 | V28: 1 | W28: 5 | X28: 7 | Y28: 4 | Z28: 11 | AA28: 1 | AB28: 398 | AC28: 14 | AD28: 465 | AE28: 24 | AF28: 1107 | AG28: 14 | AH28: 2 | AI28: 28
A29: 金門縣 | B29: 143601 | C29: =SUM('112年'!D29) -> 236 | D29: =SUM(F29:K29) -> 201 | E29: 571 | F29: 17 | G29: 14 | H29: 85 | I29: 84 | J29: 1 | K29: 0 | L29: 1 | M29: 7 | N29: 5 | O29: 1 | P29: 871 | Q29: 0 | R29: 0 | S29: 1 | T29: 1 | U29: 0 | V29: 0 | W29: 0 | X29: 0 | Y29: 1 | Z29: 0 | AA29: 1 | AB29: 5115 | AC29: 43 | AD29: 229 | AE29: 21 | AF29: 1416 | AG29: 24 | AH29: 5 | AI29: 0
A30: 連江縣 | B30: 13950 | C30: =SUM('112年'!D30) -> 27 | D30: =SUM(F30:K30) -> 26 | E30: 24 | F30: 3 | G30: 4 | H30: 7 | I30: 12 | J30: 0 | K30: 0 | L30: 2 | M30: 4 | N30: 1 | O30: 2 | P30: 157 | Q30: 0 | R30: 0 | S30: 2 | T30: 1 | U30: 0 | V30: 0 | W30: 0 | X30: 0 | Y30: 0 | Z30: 0 | AA30: 0 | AB30: 347 | AC30: 7 | AD30: 69 | AE30: 5 | AF30: 64 | AG30: 2 | AH30: 2 | AI30: 0
A31: 填表 | G31: 審核 | U31: 主辦業務人員 | AF31: 機關長官
U32: 主辦統計人員
A33: 資料來源：依據直轄市政府及各縣市衛生局(含金門、連江縣)之資料彙編。
A34: 填表說明：1. 轄區總人口數依據內政部年底人口數。
A35: 2.本表一式二份，一份送本部心理健康司，一份統計處自存。

Sheet 112年
A1: 公開類 | AF1: 編製機關 | AH1: 衛生福利部
A2: 年 報 | B2: 每年終了2個月內編報 | AF2: 表 號 | AH2: 10551-03-01
A3: 精神衛生行政工作執行成果(修正)
P4: 中華民國 112 年 | AI4: 單位：人、人次、次、件
A5: 縣市別 | B5: 轄區 總人口數 | C5: 目前管理個案數 | E5: 領具精神障礙手冊/證明人數 | F5: 管理個案分級人數 | L5: 訪員 人數 | N5: 嚴重病人 人數 | P5: 訪視人次 | Q5: 緊急處置 人數 | S5: 協助病人 就醫次數 | U5: 會商選定指定保護人次數 | W5: 指定保護人次數 | Y5: 指定精神醫療機構數 | Z5: 指定精神 專科醫師 人數 | AB5: 一般民眾 宣導活動 | AD5: 工作人員 在職訓練 | AF5: 相關基層人員 研習會 | AH5: 工作協調 會 議 (次) | AI5: 民眾申訴案件(件)
C6: 上年 | D6: 本年 | F6: 一級 | G6: 二級 | H6: 三級 | I6: 四級 | J6: 五級 | K6: 未分級
L7: 男 | M7: 女 | N7: 男 | O7: 女 | Q7: 男 | R7: 女 | S7: 男 | T7: 女 | U7: 男 | V7: 女 | W7: 男 | X7: 女 | Z7: 男 | AA7: 女 | AB7: 人次 | AC7: 場次 | AD7: 人次 | AE7: 場次 | AF7: 人次 | AG7: 場次
A8: 總 計 | B8: =SUM(B9:B30) -> 23420442 | C8: =SUM(C9:C30) -> 105338 | D8: =SUM(F8:K8) -> 96768 | E8: =SUM(E9:E30) -> 111437 | F8: =SUM(F9:F30) -> 17148 | G8: =SUM(G9:G30) -> 14078 | H8: =SUM(H9:H30) -> 28187 | I8: =SUM(I9:I30) -> 35577 | J8: =SUM(J9:J30) -> 1636 | K8: =SUM(K9:K30) -> 142 | L8: =SUM(L9:L30) -> 272 | ... AI8: =SUM(AI9:AI30) -> 2190
A9: 新北市 | B9: 4041120 | C9: 17595 | D9: =SUM(F9:K9) -> 14746 | E9: 11291 | F9: 2082 | G9: 2144 | H9: 4424 | I9: 5999 | J9: 97 | K9: 0 | L9: 46 | M9: 411 | N9: 332 | O9: 310 | P9: 90044 | Q9: 95 | R9: 73 | S9: 39 | T9: 51 | U9: 14 | V9: 20 | W9: 0 | X9: 23 | Y9: 9 | Z9: 64 | AA9: 28 | AB9: 38460 | AC9: 417 | AD9: 198 | AE9: 19 | AF9: 24 | AG9: 2 | AH9: 88 | AI9: 683
A10: 臺北市 | B10: 2511886 | C10: 12236 | D10: =SUM(F10:K10) -> 12331 | E10: 15374 | F10: 1720 | G10: 1800 | H10: 5303 | I10: 3376 | J10: 132 | K10: 0 | L10: 23 | M10: 224 | N10: 546 | O10: 584 | P10: 62269 | Q10: 64 | R10: 38 | S10: 41 | T10: 69 | U10: 32 | V10: 38 | W10: 8 | X10: 12 | Y10: 9 | Z10: 93 | AA10: 29 | AB10: 37324 | AC10: 612 | AD10: 427 | AE10: 71 | AF10: 554 | AG10: 13 | AH10: 95 | AI10: 181
A11: 桃園市 | B11: 2317445 | C11: 7234 | D11: =SUM(F11:K11) -> 7111 | E11: 5336 | F11: 2294 | G11: 1458 | H11: 1562 | I11: 1797 | J11: 0 | K11: 0 | L11: 17 | M11: 198 | N11: 218 | O11: 208 | P11: 45615 | Q11: 0 | R11: 0 | S11: 8 | T11: 13 | U11: 0 | V11: 0 | W11: 7 | X11: 12 | Y11: 5 | Z11: 48 | AA11: 14 | AB11: 14874 | AC11: 149 | AD11: 122 | AE11: 2 | AF11: 472 | AG11: 15 | AH11: 3 | AI11: 72
A12: 臺中市 | B12: 2845909 | C12: 8746 | D12: =SUM(F12:K12) -> 7493 | E12: 13658 | F12: 1993 | G12: 1423 | H12: 2064 | I12: 2012 | J12: 1 | K12: 0 | L12: 36 | M12: 317 | N12: 54 | O12: 57 | P12: 73214 | Q12: 133 | R12: 119 | S12: 99 | T12: 75 | U12: 1 | V12: 1 | W12: 2 | X12: 3 | Y12: 14 | Z12: 52 | AA12: 22 | AB12: 24966 | AC12: 93 | AD12: 1666 | AE12: 82 | AF12: 0 | AG12: 0 | AH12: 3 | AI12: 92
A13: 臺南市 | B13: 1859946 | C13: 8311 | D13: =SUM(F13:K13) -> 7498 | E13: 9052 | F13: 1434 | G13: 1161 | H13: 1845 | I13: 2971 | J13: 1 | K13: 86 | L13: 9 | M13: 235 | N13: 497 | O13: 400 | P13: 41189 | Q13: 55 | R13: 49 | S13: 145 | T13: 112 | U13: 9 | V13: 2 | W13: 0 | X13: 19 | Y13: 7 | Z13: 35 | AA13: 16 | AB13: 8665 | AC13: 81 | AD13: 1394 | AE13: 34 | AF13: 7293 | AG13: 101 | AH13: 167 | AI13: 420
A14: 高雄市 | B14: 2737941 | C14: 16900 | D14: =SUM(F14:K14) -> 16085 | E14: 17756 | F14: 2549 | G14: 2239 | H14: 3780 | I14: 7513 | J14: 4 | K14: 0 | L14: 50 | M14: 306 | N14: 544 | O14: 445 | P14: 81012 | Q14: 0 | R14: 0 | S14: 199 | T14: 213 | U14: 63 | V14: 47 | W14: 18 | X14: 25 | Y14: 11 | Z14: 78 | AA14: 32 | AB14: 54961 | AC14: 1273 | AD14: 3331 | AE14: 134 | AF14: 522 | AG14: 96 | AH14: 220 | AI14: 426
A15: 宜蘭縣 | B15: 449890 | C15: 3673 | D15: =SUM(F15:K15) -> 3478 | E15: 3014 | F15: 347 | G15: 346 | H15: 1005 | I15: 1773 | J15: 7 | K15: 0 | L15: 3 | M15: 102 | N15: 67 | O15: 53 | P15: 17347 | Q15: 0 | R15: 0 | S15: 15 | T15: 8 | U15: 0 | V15: 0 | W15: 0 | X15: 0 | Y15: 3 | Z15: 7 | AA15: 1 | AB15: 11386 | AC15: 70 | AD15: 632 | AE15: 30 | AF15: 1256 | AG15: 46 | AH15: 41 | AI15: 23
A16: 新竹縣 | B16: 589289 | C16: 2484 | D16: =SUM(F16:K16) -> 2370 | E16: 1170 | F16: 384 | G16: 340 | H16: 579 | I16: 1064 | J16: 3 | K16: 0 | L16: 4 | M16: 99 | N16: 5 | O16: 6 | P16: 14465 | Q16: 2 | R16: 1 | S16: 258 | T16: 164 | U16: 1 | V16: 0 | W16: 0 | X16: 0 | Y16: 4 | Z16: 15 | AA16: 3 | AB16: 9969 | AC16: 96 | AD16: 218 | AE16: 5 | AF16: 1970 | AG16: 29 | AH16: 2 | AI16: 8
A17: 苗栗縣 | B17: 534575 | C17: 2151 | D17: =SUM(F17:K17) -> 1564 | E17: 3196 | F17: 365 | G17: 275 | H17: 426 | I17: 498 | J17: 0 | K17: 0 | L17: 4 | M17: 128 | N17: 141 | O17: 78 | P17: 10385 | Q17: 20 | R17: 12 | S17: 78 | T17: 47 | U17: 5 | V17: 1 | W17: 16 | X17: 6 | Y17: 3 | Z17: 11 | AA17: 4 | AB17: 2826 | AC17: 22 | AD17: 1351 | AE17: 28 | AF17: 1161 | AG17: 28 | AH17: 8 | AI17: 0
A18: 彰化縣 | B18: 1239048 | C18: 7416 | D18: =SUM(F18:K18) -> 7157 | E18: 5098 | F18: 826 | G18: 559 | H18: 2377 | I18: 2547 | J18: 848 | K18: 0 | L18: 10 | M18: 183 | N18: 137 | O18: 109 | P18: 36285 | Q18: 6 | R18: 4 | S18: 197 | T18: 130 | U18: 1 | V18: 1 | W18: 6 | X18: 0 | Y18: 5 | Z18: 25 | AA18: 6 | AB18: 13058 | AC18: 286 | AD18: 593 | AE18: 130 | AF18: 1223 | AG18: 158 | AH18: 173 | AI18: 63
A19: 南投縣 | B19: 477094 | C19: 1838 | D19: =SUM(F19:K19) -> 1674 | E19: 3394 | F19: 397 | G19: 264 | H19: 385 | I19: 628 | J19: 0 | K19: 0 | L19: 17 | M19: 120 | N19: 35 | O19: 28 | P19: 13593 | Q19: 0 | R19: 0 | S19: 96 | T19: 66 | U19: 0 | V19: 0 | W19: 1 | X19: 0 | Y19: 2 | Z19: 27 | AA19: 8 | AB19: 24233 | AC19: 277 | AD19: 668 | AE19: 17 | AF19: 1266 | AG19: 45 | AH19: 30 | AI19: 13
A20: 雲林縣 | B20: 659468 | C20: 2055 | D20: =SUM(F20:K20) -> 2055 | E20: 4610 | F20: 554 | G20: 416 | H20: 735 | I20: 350 | J20: 0 | K20: 0 | L20: 12 | M20: 160 | N20: 40 | O20: 41 | P20: 22093 | Q20: 0 | R20: 0 | S20: 186 | T20: 139 | U20: 4 | V20: 4 | W20: 32 | X20: 36 | Y20: 3 | Z20: 10 | AA20: 1 | AB20: 5593 | AC20: 86 | AD20: 292 | AE20: 114 | AF20: 1420 | AG20: 184 | AH20: 44 | AI20: 5
... A30: 連江縣 | B30: 14039 | C30: 31 | D30: =SUM(F30:K30) -> 27 | E30: 24 | F30: 2 | G30: 6 | H30: 5 | I30: 14 | J30: 0 | K30: 0 | L30: 0 | M30: 1 | N30: 2 | O30: 2 | P30: 138 | Q30: 1 | R30: 0 | S30: 2 | T30: 2 | U30: 0 | V30: 0 | W30: 0 | X30: 0 | Y30: 0 | Z30: 0 | AA30: 0 | AB30: 394 | AC30: 5 | AD30: 135 | AE30: 7 | AF30: 78 | AG30: 3 | AH30: 3 | AI30: 0
A31: 填表 | G31: 審核 | U31: 主辦業務人員 | AF31: 機關長官
U32: 主辦統計人員
A33: 資料來源：依據直轄市政府及各縣市衛生局(含金門、連江縣)之資料彙編。
A34: 填表說明：1. 轄區總人口數依據內政部年底人口數。
A35: 2.本表一式二份，一份送本部心理健康司，一份統計處自存。

Sheet 111年
A1: 公開類 | AF1: 編製機關 | AH1: 衛生福利部
A2: 年 報 | B2: 每年終了2個月內編報 | AF2: 表 號 | AH2: 10551-03-01
A3: 精神衛生行政工作執行成果(修正)
P4: 中華民國 111 年 | AI4: 單位：人、人次、次、件
A5: 縣市別 | B5: 轄區 總人口數 | C5: 目前管理個案數 | E5: 領具精神障礙手冊/證明人數 | F5: 管理個案分級人數 | L5: 訪員 人數 | N5: 嚴重病人 人數 | P5: 訪視人次 | Q5: 緊急處置 人數 | S5: 協助病人 就醫次數 | U5: 會商選定指定保護人次數 | W5: 指定保護人次數 | Y5: 指定精神醫療機構數 | Z5: 指定精神 專科醫師 人數 | AB5: 一般民眾 宣導活動 | AD5: 工作人員 在職訓練 | AF5: 相關基層人員 研習會 | AH5: 工作協調 會 議 (次) | AI5: 民眾申訴案件(件)
C6: 上年 | D6: 本年 | F6: 一級 | G6: 二級 | H6: 三級 | I6: 四級 | J6: 五級 | K6: 未分級
L7: 男 | M7: 女 | N7: 男 | O7: 女 | Q7: 男 | R7: 女 | S7: 男 | T7: 女 | U7: 男 | V7: 女 | W7: 男 | X7: 女 | Z7: 男 | AA7: 女 | AB7: 人次 | AC7: 場次 | AD7: 人次 | AE7: 場次 | AF7: 人次 | AG7: 場次
A8: 總 計 | B8: =SUM(B9:B30) -> 23264640 | C8: =SUM(C9:C30) -> 114112 | D8: =SUM(F8:K8) -> 105338 | E8: =SUM(E9:E30) -> 112362 | F8: =SUM(F9:F30) -> 19612 | G8: =SUM(G9:G30) -> 14163 | H8: =SUM(H9:H30) -> 28418 | I8: =SUM(I9:I30) -> 41266 | J8: =SUM(J9:J30) -> 1680 | K8: =SUM(K9:K30) -> 199 | L8: =SUM(L9:L30) -> 203 | ... AI8: =SUM(AI9:AI30) -> 1804
A9: 新北市 | B9: 3995551 | C9: 18987 | D9: =SUM(F9:K9) -> 17595 | E9: 13546 | F9: 2266 | G9: 2488 | H9: 4109 | I9: 8578 | J9: 154 | K9: 0 | L9: 46 | M9: 404 | N9: 564 | O9: 526 | P9: 86793 | Q9: 101 | R9: 99 | S9: 17 | T9: 17 | U9: 16 | V9: 20 | W9: 24 | X9: 25 | Y9: 9 | Z9: 64 | AA9: 30 | AB9: 17837 | AC9: 223 | AD9: 750 | AE9: 20 | AF9: 2953 | AG9: 23 | AH9: 55 | AI9: 499
A10: 臺北市 | B10: 2480681 | C10: 13732 | D10: =SUM(F10:K10) -> 12236 | E10: 11565 | F10: 1757 | G10: 1335 | H10: 5887 | I10: 3112 | J10: 145 | K10: 0 | L10: 19 | M10: 217 | N10: 506 | O10: 535 | P10: 56402 | Q10: 68 | R10: 73 | S10: 49 | T10: 40 | U10: 27 | V10: 21 | W10: 9 | X10: 7 | Y10: 9 | Z10: 146 | AA10: 39 | AB10: 27203 | AC10: 516 | AD10: 428 | AE10: 106 | AF10: 42 | AG10: 7 | AH10: 96 | AI10: 162
A11: 桃園市 | B11: 2281464 | C11: 7399 | D11: =SUM(F11:K11) -> 7234 | E11: 5315 | F11: 2437 | G11: 1218 | H11: 1477 | I11: 2102 | J11: 0 | K11: 0 | L11: 5 | M11: 172 | N11: 215 | O11: 192 | P11: 42794 | Q11: 0 | R11: 0 | S11: 19 | T11: 13 | U11: 0 | V11: 0 | W11: 3 | X11: 6 | Y11: 5 | Z11: 70 | AA11: 14 | AB11: 9976 | AC11: 78 | AD11: 82 | AE11: 4 | AF11: 1603 | AG11: 14 | AH11: 4 | AI11: 54
A12: 臺中市 | B12: 2814459 | C12: 9628 | D12: =SUM(F12:K12) -> 8746 | E12: 13482 | F12: 2567 | G12: 1373 | H12: 2078 | I12: 2728 | J12: 0 | K12: 0 | L12: 13 | M12: 314 | N12: 28 | O12: 34 | P12: 41660 | Q12: 15 | R12: 20 | S12: 863 | T12: 727 | U12: 0 | V12: 0 | W12: 21 | X12: 36 | Y12: 15 | Z12: 50 | AA12: 22 | AB12: 11860 | AC12: 178 | AD12: 287 | AE12: 56 | AF12: 0 | AG12: 0 | AH12: 0 | AI12: 109
A13: 臺南市 | B13: 1852997 | C13: 8963 | D13: =SUM(F13:K13) -> 8311 | E13: 9785 | F13: 1835 | G13: 1172 | H13: 1860 | I13: 3295 | J13: 2 | K13: 147 | L13: 19 | M13: 248 | N13: 510 | O13: 440 | P13: 42605 | Q13: 58 | R13: 32 | S13: 192 | T13: 168 | U13: 10 | V13: 13 | W13: 0 | X13: 9 | Y13: 7 | Z13: 35 | AA13: 17 | AB13: 27122 | AC13: 97 | AD13: 470 | AE13: 20 | AF13: 1900 | AG13: 78 | AH13: 193 | AI13: 317
A14: 高雄市 | B14: 2728137 | C14: 17730 | D14: =SUM(F14:K14) -> 16900 | E14: 17756 | F14: 2821 | G14: 1864 | H14: 3809 | I14: 8403 | J14: 3 | K14: 0 | L14: 31 | M14: 278 | N14: 597 | O14: 477 | P14: 91231 | Q14: 0 | R14: 0 | S14: 171 | T14: 145 | U14: 69 | V14: 71 | W14: 11 | X14: 23 | Y14: 11 | Z14: 86 | AA14: 32 | AB14: 35515 | AC14: 624 | AD14: 898 | AE14: 130 | AF14: 3713 | AG14: 151 | AH14: 160 | AI14: 353
A15: 宜蘭縣 | B15: 449062 | C15: 3740 | D15: =SUM(F15:K15) -> 3673 | E15: 3207 | F15: 423 | G15: 470 | H15: 1037 | I15: 1740 | J15: 3 | K15: 0 | L15: 5 | M15: 77 | N15: 66 | O15: 52 | P15: 17274 | Q15: 0 | R15: 0 | S15: 10 | T15: 9 | U15: 0 | V15: 0 | W15: 0 | X15: 0 | Y15: 4 | Z15: 10 | AA15: 1 | AB15: 8247 | AC15: 47 | AD15: 621 | AE15: 10 | AF15: 797 | AG15: 15 | AH15: 35 | AI15: 0
A16: 新竹縣 | B16: 580503 | C16: 2598 | D16: =SUM(F16:K16) -> 2484 | E16: 2368 | F16: 404 | G16: 347 | H16: 583 | I16: 1147 | J16: 3 | K16: 0 | L16: 3 | M16: 121 | N16: 71 | O16: 44 | P16: 11567 | Q16: 0 | R16: 0 | S16: 110 | T16: 63 | U16: 2 | V16: 1 | W16: 0 | X16: 0 | Y16: 4 | Z16: 17 | AA16: 2 | AB16: 3098 | AC16: 26 | AD16: 216 | AE16: 6 | AF16: 1137 | AG16: 23 | AH16: 4 | AI16: 8
A17: 苗栗縣 | B17: 535132 | C17: 2843 | D17: =SUM(F17:K17) -> 2151 | E17: 3205 | F17: 410 | G17: 378 | H17: 555 | I17: 808 | J17: 0 | K17: 0 | L17: 2 | M17: 132 | N17: 302 | O17: 87 | P17: 11443 | Q17: 15 | R17: 7 | S17: 98 | T17: 41 | U17: 0 | V17: 2 | W17: 13 | X17: 6 | Y17: 3 | Z17: 12 | AA17: 3 | AB17: 1726 | AC17: 35 | AD17: 690 | AE17: 38 | AF17: 2441 | AG17: 35 | AH17: 7 | AI17: 0
A18: 彰化縣 | B18: 1245239 | C18: 7496 | D18: =SUM(F18:K18) -> 7416 | E18: 5271 | F18: 1251 | G18: 920 | H18: 1930 | I18: 2694 | J18: 621 | K18: 0 | L18: 7 | M18: 172 | N18: 138 | O18: 105 | P18: 30285 | Q18: 0 | R18: 2 | S18: 309 | T18: 190 | U18: 1 | V18: 0 | W18: 14 | X18: 12 | Y18: 5 | Z18: 55 | AA18: 7 | AB18: 9427 | AC18: 212 | AD18: 810 | AE18: 55 | AF18: 3727 | AG18: 161 | AH18: 66 | AI18: 39
A19: 南投縣 | B19: 479595 | C19: 2255 | D19: =SUM(F19:K19) -> 1838 | E19: 3411 | F19: 359 | G19: 278 | H19: 523 | I19: 678 | J19: 0 | K19: 0 | L19: 12 | M19: 104 | N19: 62 | O19: 32 | P19: 9886 | Q19: 0 | R19: 0 | S19: 87 | T19: 29 | U19: 0 | V19: 0 | W19: 1 | X19: 0 | Y19: 1 | Z19: 25 | AA19: 8 | AB19: 8765 | AC19: 47 | AD19: 504 | AE19: 50 | AF19: 1565 | AG19: 24 | AH19: 30 | AI19: 7
A20: 雲林縣 | B20: 664092 | C20: 2174 | D20: =SUM(F20:K20) -> 2055 | E20: 4610 | F20: 697 | G20: 472 | H20: 599 | I20: 287 | J20: 0 | K20: 0 | L20: 9 | M20: 155 | N20: 47 | O20: 51 | P20: 27213 | Q20: 0 | R20: 0 | S20: 178 | T20: 103 | U20: 7 | V20: 4 | W20: 32 | X20: 35 | Y20: 3 | Z20: 12 | AA20: 2 | AB20: 8453 | AC20: 106 | AD20: 713 | AE20: 307 | AF20: 303 | AG20: 61 | AH20: 42 | AI20: 1
... A30: 連江縣 | B30: 13983 | C30: 33 | D30: =SUM(F30:K30) -> 31 | E30: 25 | F30: 2 | G30: 4 | H30: 11 | I30: 14 | J30: 0 | K30: 0 | L30: 0 | M30: 5 | N30: 3 | O30: 2 | P30: 145 | Q30: 0 | R30: 0 | S30: 2 | T30: 0 | U30: 0 | V30: 0 | W30: 0 | X30: 0 | Y30: 0 | Z30: 0 | AA30: 0 | AB30: 123 | AC30: 4 | AD30: 100 | AE30: 10 | AF30: 96 | AG30: 4 | AH30: 4 | AI30: 0
A31: 填表 | G31: 審核 | U31: 主辦業務人員 | AF31: 機關長官
U32: 主辦統計人員
A33: 資料來源：依據直轄市政府及各縣市衛生局(含金門、連江縣)之資料彙編。
A34: 填表說明：1. 轄區總人口數依據內政部年底人口數。
A35: 2.本表一式二份，一份送本部心理及口腔健康司，一份自存。
A36: 備註：新北市嚴重病人人數以醫院通報嚴重病人之人數為計算基準。

Sheet 110年
A1: 公開類 | AF1: 編製機關 | AH1: 衛生福利部
A2: 年 報 | B2: 每年終了2個月內編報 | AF2: 表 號 | AH2: 10551-03-01
A3: 精神衛生行政工作執行成果(修正)
P4: 中華民國 110 年 | AI4: 單位：人、人次、次、件
A5: 縣市別 | B5: 轄區 總人口數 | C5: 目前管理個案數 | E5: 領具精神障礙手冊/證明人數 | F5: 管理個案分級人數 | L5: 訪員 人數 | N5: 嚴重病人 人數 | P5: 訪視人次 | Q5: 緊急處置 人數 | S5: 協助病人 就醫次數 | U5: 會商選定指定保護人次數 | W5: 指定保護人次數 | Y5: 指定精神醫療機構數 | Z5: 指定精神 專科醫師 人數 | AB5: 一般民眾 宣導活動 | AD5: 工作人員 在職訓練 | AF5: 相關基層人員 研習會 | AH5: 工作協調 會 議 (次) | AI5: 民眾申訴案件(件)
C6: 上年 | D6: 本年 | F6: 一級 | G6: 二級 | H6: 三級 | I6: 四級 | J6: 五級 | K6: 未分級
L7: 男 | M7: 女 | N7: 男 | O7: 女 | Q7: 男 | R7: 女 | S7: 男 | T7: 女 | U7: 男 | V7: 女 | W7: 男 | X7: 女 | Z7: 男 | AA7: 女 | AB7: 人次 | AC7: 場次 | AD7: 人次 | AE7: 場次 | AF7: 人次 | AG7: 場次
A8: 總 計 | B8: =SUM(B9:B30) -> 23375314 | C8: =SUM(C9:C30) -> 122830 | D8: =SUM(F8:K8) -> 114112 | E8: =SUM(E9:E30) -> 107473 | F8: =SUM(F9:F30) -> 19805 | G8: =SUM(G9:G30) -> 14780 | H8: =SUM(H9:H30) -> 29220 | I8: =SUM(I9:I30) -> 48335 | J8: =SUM(J9:J30) -> 1733 | K8: =SUM(K9:K30) -> 239 | L8: =SUM(L9:L30) -> 133 | ... AI8: =SUM(AI9:AI30) -> 1767
A9: 新北市 | B9: 4008113 | C9: 20411 | D9: =SUM(F9:K9) -> 18987 | E9: 14602 | F9: 2795 | G9: 2437 | H9: 4007 | I9: 9556 | J9: 192 | K9: 0 | L9: 30 | M9: 194 | N9: 66 | O9: 66 | P9: 97218 | Q9: 108 | R9: 91 | S9: 30 | T9: 28 | U9: 7 | V9: 10 | W9: 9 | X9: 9 | Y9: 8 | Z9: 53 | AA9: 29 | AB9: 17920 | AC9: 203 | AD9: 468 | AE9: 55 | AF9: 2610 | AG9: 22 | AH9: 60 | AI9: 472
A10: 臺北市 | B10: 2524393 | C10: 14232 | D10: =SUM(F10:K10) -> 13732 | E10: 12104 | F10: 1957 | G10: 1431 | H10: 6328 | I10: 3867 | J10: 149 | K10: 0 | L10: 9 | M10: 216 | N10: 527 | O10: 555 | P10: 70337 | Q10: 74 | R10: 74 | S10: 76 | T10: 47 | U10: 31 | V10: 33 | W10: 6 | X10: 3 | Y10: 9 | Z10: 130 | AA10: 21 | AB10: 27856 | AC10: 419 | AD10: 466 | AE10: 80 | AF10: 14 | AG10: 3 | AH10: 98 | AI10: 164
A11: 桃園市 | B11: 2272391 | C11: 7189 | D11: =SUM(F11:K11) -> 7399 | E11: 5313 | F11: 2146 | G11: 1277 | H11: 1457 | I11: 2517 | J11: 0 | K11: 2 | L11: 4 | M11: 183 | N11: 216 | O11: 195 | P11: 42276 | Q11: 0 | R11: 0 | S11: 3 | T11: 18 | U11: 0 | V11: 0 | W11: 0 | X11: 11 | Y11: 5 | Z11: 73 | AA11: 13 | AB11: 1533 | AC11: 55 | AD11: 98 | AE11: 5 | AF11: 665 | AG11: 13 | AH11: 4 | AI11: 115
A12: 臺中市 | B12: 2813490 | C12: 10921 | D12: =SUM(F12:K12) -> 9628 | E12: 13464 | F12: 2104 | G12: 1370 | H12: 2345 | I12: 3809 | J12: 0 | K12: 0 | L12: 2 | M12: 270 | N12: 47 | O12: 65 | P12: 70491 | Q12: 0 | R12: 0 | S12: 224 | T12: 193 | U12: 0 | V12: 0 | W12: 37 | X12: 32 | Y12: 15 | Z12: 48 | AA12: 17 | AB12: 2027 | AC12: 47 | AD12: 272 | AE12: 30 | AF12: 272 | AG12: 30 | AH12: 0 | AI12: 96
A13: 臺南市 | B13: 1862059 | C13: 9511 | D13: =SUM(F13:K13) -> 8963 | E13: 6339 | F13: 1848 | G13: 1221 | H13: 1946 | I13: 3825 | J13: 4 | K13: 119 | L13: 17 | M13: 243 | N13: 563 | O13: 472 | P13: 45663 | Q13: 24 | R13: 13 | S13: 86 | T13: 52 | U13: 8 | V13: 10 | W13: 0 | X13: 25 | Y13: 7 | Z13: 33 | AA13: 15 | AB13: 4943 | AC13: 50 | AD13: 144 | AE13: 31 | AF13: 2040 | AG13: 62 | AH13: 219 | AI13: 301
A14: 高雄市 | B14: 2744691 | C14: 19328 | D14: =SUM(F14:K14) -> 17730 | E14: 17800 | F14: 2577 | G14: 2107 | H14: 3615 | I14: 9427 | J14: 4 | K14: 0 | L14: 18 | M14: 256 | N14: 592 | O14: 479 | P14: 96312 | Q14: 0 | R14: 0 | S14: 240 | T14: 239 | U14: 53 | V14: 76 | W14: 29 | X14: 40 | Y14: 11 | Z14: 90 | AA14: 32 | AB14: 16685 | AC14: 305 | AD14: 1506 | AE14: 156 | AF14: 325 | AG14: 57 | AH14: 116 | AI14: 234
A15: 宜蘭縣 | B15: 450692 | C15: 3862 | D15: =SUM(F15:K15) -> 3740 | E15: 1460 | F15: 385 | G15: 403 | H15: 1131 | I15: 1817 | J15: 4 | K15: 0 | L15: 7 | M15: 102 | N15: 64 | O15: 54 | P15: 17274 | Q15: 0 | R15: 0 | S15: 26 | T15: 16 | U15: 0 | V15: 0 | W15: 0 | X15: 0 | Y15: 4 | Z15: 11 | AA15: 0 | AB15: 6866 | AC15: 62 | AD15: 811 | AE15: 15 | AF15: 365 | AG15: 12 | AH15: 14 | AI15: 4
A16: 新竹縣 | B16: 575580 | C16: 2649 | D16: =SUM(F16:K16) -> 2598 | E16: 2334 | F16: 417 | G16: 366 | H16: 564 | I16: 1246 | J16: 5 | K16: 0 | L16: 3 | M16: 108 | N16: 4 | O16: 6 | P16: 12704 | Q16: 1 | R16: 1 | S16: 102 | T16: 53 | U16: 0 | V16: 0 | W16: 1 | X16: 0 | Y16: 4 | Z16: 15 | AA16: 2 | AB16: 2999 | AC16: 34 | AD16: 140 | AE16: 3 | AF16: 1616 | AG16: 29 | AH16: 6 | AI16: 4
A17: 苗栗縣 | B17: 538178 | C17: 3512 | D17: =SUM(F17:K17) -> 2843 | E17: 3254 | F17: 459 | G17: 386 | H17: 751 | I17: 1247 | J17: 0 | K17: 0 | L17: 2 | M17: 117 | N17: 143 | O17: 100 | P17: 15960 | Q17: 16 | R17: 5 | S17: 92 | T17: 34 | U17: 1 | V17: 0 | W17: 15 | X17: 4 | Y17: 3 | Z17: 15 | AA17: 3 | AB17: 554 | AC17: 6 | AD17: 1175 | AE17: 65 | AF17: 3490 | AG17: 91 | AH17: 7 | AI17: 5
A18: 彰化縣 | B18: 1255330 | C18: 7840 | D18: =SUM(F18:K18) -> 7496 | E18: 5531 | F18: 1284 | G18: 858 | H18: 2001 | I18: 2789 | J18: 564 | K18: 0 | L18: 1 | M18: 160 | N18: 151 | O18: 114 | P18: 35493 | Q18: 4 | R18: 5 | S18: 175 | T18: 97 | U18: 5 | V18: 1 | W18: 3 | X18: 1 | Y18: 5 | Z18: 30 | AA18: 4 | AB18: 11012 | AC18: 222 | AD18: 472 | AE18: 74 | AF18: 5174 | AG18: 189 | AH18: 27 | AI18: 67
A19: 南投縣 | B19: 484897 | C19: 2968 | D19: =SUM(F19:K19) -> 2255 | E19: 3467 | F19: 316 | G19: 363 | H19: 653 | I19: 923 | J19: 0 | K19: 0 | L19: 11 | M19: 103 | N19: 76 | O19: 43 | P19: 13563 | Q19: 0 | R19: 0 | S19: 85 | T19: 49 | U19: 0 | V19: 0 | W19: 0 | X19: 0 | Y19: 1 | Z19: 21 | AA19: 9 | AB19: 6267 | AC19: 93 | AD19: 145 | AE19: 35 | AF19: 2137 | AG19: 30 | AH19: 30 | AI19: 22
A20: 雲林縣 | B20: 670132 | C20: 2119 | D20: =SUM(F20:K20) -> 2174 | E20: 2368 | F20: 830 | G20: 431 | H20: 576 | I20: 337 | J20: 0 | K20: 0 | L20: 4 | M20: 136 | N20: 46 | O20: 52 | P20: 13914 | Q20: 0 | R20: 0 | S20: 224 | T20: 128 | U20: 6 | V20: 3 | W20: 36 | X20: 35 | Y20: 3 | Z20: 13 | AA20: 5 | AB20: 12581 | AC20: 116 | AD20: 525 | AE20: 257 | AF20: 846 | AG20: 63 | AH20: 39 | AI20: 2
... A30: 連江縣 | B30: 13645 | C30: 34 | D30: =SUM(F30:K30) -> 33 | E30: 23 | F30: 1 | G30: 7 | H30: 11 | I30: 14 | J30: 0 | K30: 0 | L30: 1 | M30: 1 | N30: 4 | O30: 2 | P30: 189 | Q30: 1 | R30: 0 | S30: 1 | T30: 0 | U30: 0 | V30: 0 | W30: 0 | X30: 0 | Y30: 0 | Z30: 0 | AA30: 0 | AB30: 475 | AC30: 3 | AD30: 110 | AE30: 6 | AF30: 117 | AG30: 4 | AH30: 4 | AI30: 0
A31: 填表 | G31: 審核 | U31: 主辦業務人員 | AF31: 機關長官
U32: 主辦統計人員
A33: 資料來源：依據直轄市政府及各縣市衛生局(含金門、連江縣)之資料彙編。
A34: 填表說明：1. 轄區總人口數依據內政部年底人口數。
A35: 2.本表一式二份，一份送本部心理及口腔健康司，一份自存。
A36: 備註：新北市嚴重病人人數以醫院通報嚴重病人之人數為計算基準。

Sheet 109年
A1: 公開類 | AF1: 編製機關 | AH1: 衛生福利部
A2: 年 報 | B2: 每年終了2個月內編報 | AF2: 表 號 | AH2: 10551-03-01
A3: 精神衛生行政工作執行成果(修正)
P4: 中華民國 109 年 | AI4: 單位：人、人次、次、件
A5: 縣市別 | B5: 轄區 總人口數 | C5: 目前管理個案數 | E5: 領具精神障礙手冊/證明人數 | F5: 管理個案分級人數 | L5: 訪員 人數 | N5: 嚴重病人 人數 | P5: 訪視人次 | Q5: 緊急處置 人數 | S5: 協助病人 就醫次數 | U5: 會商選定指定保護人次數 | W5: 指定保護人次數 | Y5: 指定精神醫療機構數 | Z5: 指定精神 專科醫師 人數 | AB5: 一般民眾 宣導活動 | AD5: 工作人員 在職訓練 | AF5: 相關基層人員 研習會 | AH5: 工作協調 會 議 (次) | AI5: 民眾申訴案件(件)
C6: 上年 | D6: 本年 | F6: 一級 | G6: 二級 | H6: 三級 | I6: 四級 | J6: 五級 | K6: 未分級
L7: 男 | M7: 女 | N7: 男 | O7: 女 | Q7: 男 | R7: 女 | S7: 男 | T7: 女 | U7: 男 | V7: 女 | W7: 男 | X7: 女 | Z7: 男 | AA7: 女 | AB7: 人次 | AC7: 場次 | AD7: 人次 | AE7: 場次 | AF7: 人次 | AG7: 場次
A8: 總 計 | B8: =SUM(B9:B30) -> 23701833 | C8: =SUM(C9:C30) -> 135719 | D8: =SUM(F8:K8) -> 122830 | E8: =SUM(E9:E30) -> 108668 | F8: =SUM(F9:F30) -> 18132 | G8: =SUM(G9:G30) -> 16178 | H8: =SUM(H9:H30) -> 31137 | I8: =SUM(I9:I30) -> 55952 | J8: =SUM(J9:J30) -> 1271 | K8: =SUM(K9:K30) -> 160 | L8: =SUM(L9:L30) -> 111 | ... AI8: =SUM(AI9:AI30) -> 2109
A9: 新北市 | B9: 4030954 | C9: 21975 | D9: =SUM(F9:K9) -> 20411 | E9: 14875 | F9: 2713 | G9: 2550 | H9: 4224 | I9: 10667 | J9: 257 | K9: 0 | L9: 7 | M9: 304 | N9: 27 | O9: 340 | P9: 105595 | Q9: 199 | R9: 146 | S9: 15 | T9: 15 | U9: 3 | V9: 11 | W9: 61 | X9: 45 | Y9: 8 | Z9: 52 | AA9: 29 | AB9: 19181 | AC9: 232 | AD9: 822 | AE9: 21 | AF9: 4089 | AG9: 24 | AH9: 62 | AI9: 837
A10: 臺北市 | B10: 2602418 | C10: 16870 | D10: =SUM(F10:K10) -> 14232 | E10: 15443 | F10: 1431 | G10: 1464 | H10: 6850 | I10: 4381 | J10: 106 | K10: 0 | L10: 18 | M10: 226 | N10: 387 | O10: 447 | P10: 83886 | Q10: 47 | R10: 38 | S10: 96 | T10: 73 | U10: 41 | V10: 26 | W10: 12 | X10: 12 | Y10: 9 | Z10: 106 | AA10: 24 | AB10: 46502 | AC10: 980 | AD10: 759 | AE10: 106 | AF10: 46 | AG10: 7 | AH10: 158 | AI10: 169
A11: 桃園市 | B11: 2268807 | C11: 7520 | D11: =SUM(F11:K11) -> 7189 | E11: 4763 | F11: 1556 | G11: 1223 | H11: 1648 | I11: 2761 | J11: 1 | K11: 0 | L11: 5 | M11: 195 | N11: 196 | O11: 180 | P11: 43069 | Q11: 0 | R11: 0 | S11: 58 | T11: 43 | U11: 0 | V11: 0 | W11: 0 | X11: 17 | Y11: 5 | Z11: 54 | AA11: 13 | AB11: 1540 | AC11: 45 | AD11: 310 | AE11: 6 | AF11: 1781 | AG11: 16 | AH11: 4 | AI11: 57
A12: 臺中市 | B12: 2820787 | C12: 12937 | D12: =SUM(F12:K12) -> 10921 | E12: 13355 | F12: 1781 | G12: 1677 | H12: 2569 | I12: 4894 | J12: 0 | K12: 0 | L12: 4 | M12: 342 | N12: 40 | O12: 43 | P12: 78220 | Q12: 0 | R12: 0 | S12: 457 | T12: 300 | U12: 0 | V12: 0 | W12: 0 | X12: 0 | Y12: 16 | Z12: 72 | AA12: 24 | AB12: 2562 | AC12: 422 | AD12: 321 | AE12: 30 | AF12: 342 | AG12: 30 | AH12: 0 | AI12: 89
A13: 臺南市 | B13: 1874917 | C13: 10140 | D13: =SUM(F13:K13) -> 9511 | E13: 6045 | F13: 1560 | G13: 1454 | H13: 2033 | I13: 4458 | J13: 6 | K13: 0 | L13: 15 | M13: 245 | N13: 551 | O13: 479 | P13: 55297 | Q13: 9 | R13: 11 | S13: 89 | T13: 75 | U13: 9 | V13: 2 | W13: 0 | X13: 13 | Y13: 7 | Z13: 42 | AA13: 15 | AB13: 7483 | AC13: 61 | AD13: 358 | AE13: 66 | AF13: 2123 | AG13: 58 | AH13: 293 | AI13: 251
A14: 高雄市 | B14: 2765932 | C14: 20114 | D14: =SUM(F14:K14) -> 19328 | E14: 17574 | F14: 2720 | G14: 2221 | H14: 3771 | I14: 10611 | J14: 5 | K14: 0 | L14: 15 | M14: 255 | N14: 588 | O14: 488 | P14: 96856 | Q14: 0 | R14: 0 | S14: 204 | T14: 228 | U14: 53 | V14: 73 | W14: 21 | X14: 23 | Y14: 11 | Z14: 92 | AA14: 27 | AB14: 23837 | AC14: 370 | AD14: 1032 | AE14: 147 | AF14: 903 | AG14: 83 | AH14: 136 | AI14: 303
A15: 宜蘭縣 | B15: 453087 | C15: 4120 | D15: =SUM(F15:K15) -> 3862 | E15: 1568 | F15: 328 | G15: 444 | H15: 1313 | I15: 1772 | J15: 5 | K15: 0 | L15: 4 | M15: 107 | N15: 49 | O15: 53 | P15: 16247 | Q15: 0 | R15: 0 | S15: 12 | T15: 12 | U15: 0 | V15: 0 | W15: 0 | X15: 0 | Y15: 4 | Z15: 9 | AA15: 1 | AB15: 1439 | AC15: 42 | AD15: 1659 | AE15: 26 | AF15: 352 | AG15: 12 | AH15: 14 | AI15: 10
A16: 新竹縣 | B16: 570775 | C16: 2959 | D16: =SUM(F16:K16) -> 2649 | E16: 2319 | F16: 382 | G16: 389 | H16: 542 | I16: 1330 | J16: 6 | K16: 0 | L16: 2 | M16: 113 | N16: 7 | O16: 2 | P16: 14441 | Q16: 2 | R16: 1 | S16: 188 | T16: 132 | U16: 0 | V16: 0 | W16: 0 | X16: 0 | Y16: 4 | Z16: 14 | AA16: 1 | AB16: 4056 | AC16: 54 | AD16: 287 | AE16: 7 | AF16: 2951 | AG16: 44 | AH16: 6 | AI16: 9
A17: 苗栗縣 | B17: 542590 | C17: 3673 | D17: =SUM(F17:K17) -> 3512 | E17: 3234 | F17: 521 | G17: 481 | H17: 957 | I17: 1551 | J17: 2 | K17: 0 | L17: 2 | M17: 119 | N17: 267 | O17: 177 | P17: 18406 | Q17: 30 | R17: 8 | S17: 117 | T17: 48 | U17: 14 | V17: 7 | W17: 19 | X17: 12 | Y17: 3 | Z17: 15 | AA17: 3 | AB17: 3048 | AC17: 55 | AD17: 1509 | AE17: 76 | AF17: 956 | AG17: 27 | AH17: 5 | AI17: 0
A18: 彰化縣 | B18: 1266670 | C18: 8288 | D18: =SUM(F18:K18) -> 7840 | E18: 4862 | F18: 1151 | G18: 1084 | H18: 1992 | I18: 3091 | J18: 522 | K18: 0 | L18: 0 | M18: 163 | N18: 158 | O18: 114 | P18: 39492 | Q18: 0 | R18: 0 | S18: 172 | T18: 90 | U18: 2 | V18: 0 | W18: 5 | X18: 0 | Y18: 5 | Z18: 25 | AA18: 3 | AB18: 14042 | AC18: 311 | AD18: 333 | AE18: 107 | AF18: 3917 | AG18: 36 | AH18: 162 | AI18: 107
A19: 南投縣 | B19: 490832 | C19: 3617 | D19: =SUM(F19:K19) -> 2968 | E19: 3462 | F19: 401 | G19: 460 | H19: 696 | I19: 1411 | J19: 0 | K19: 0 | L19: 8 | M19: 103 | N19: 14 | O19: 4 | P19: 16242 | Q19: 0 | R19: 0 | S19: 69 | T19: 47 | U19: 0 | V19: 0 | W19: 0 | X19: 3 | Y19: 2 | Z19: 22 | AA19: 13 | AB19: 6907 | AC19: 66 | AD19: 179 | AE19: 41 | AF19: 953 | AG19: 25 | AH19: 41 | AI19: 27
A20: 雲林縣 | B20: 676873 | C20: 2666 | D20: =SUM(F20:K20) -> 2119 | E20: 1775 | F20: 768 | G20: 394 | H20: 532 | I20: 425 | J20: 0 | K20: 0 | L20: 5 | M20: 134 | N20: 53 | O20: 44 | P20: 16168 | Q20: 0 | R20: 0 | S20: 237 | T20: 165 | U20: 8 | V20: 2 | W20: 36 | X20: 38 | Y20: 3 | Z20: 12 | AA20: 3 | AB20: 28601 | AC20: 589 | AD20: 144 | AE20: 144 | AF20: 1731 | AG20: 113 | AH20: 68 | AI20: 4
... A30: 連江縣 | B30: 153876 | C30: 37 | D30: =SUM(F30:K30) -> 34 | E30: 24 | F30: 1 | G30: 9 | H30: 13 | I30: 11 | J30: 0 | K30: 0 | L30: 1 | M30: 1 | N30: 4 | O30: 2 | P30: 153 | Q30: 1 | R30: 0 | S30: 0 | T30: 2 | U30: 0 | V30: 0 | W30: 0 | X30: 0 | Y30: 0 | Z30: 0 | AA30: 0 | AB30: 815 | AC30: 6 | AD30: 132 | AE30: 7 | AF30: 115 | AG30: 4 | AH30: 6 | AI30: 0
A31: 填表 | G31: 審核 | U31: 主辦業務人員 | AF31: 機關長官
U32: 主辦統計人員
A33: 資料來源：依據直轄市政府及各縣市衛生局(含金門、連江縣)之資料彙編。
A34: 填表說明：1. 轄區總人口數依據內政部年底人口數。
A35: 2.本表一式二份，一份送本部心理及口腔健康司，一份自存。
A36: 備註：新北市嚴重病人人數以醫院通報嚴重病人之人數為計算基準。

Sheet 108年
A1: 公開類 | AF1: 編製機關 | AH1: 衛生福利部
A2: 年 報 | B2: 次年2月底前填報 | AF2: 表 號 | AH2: 10551-03-01
A3: 精神衛生行政工作執行成果(修正)
Q4: 中華民國 108 年 | AI4: 單位：人、人次、次、件
A5: 縣市別 | B5: 轄區 總人口數 | C5: 目前管理個案數 | E5: 領具精神 障礙手冊/ 證明人數 | F5: 管理個案分級人數 | L5: 訪員 人數 | N5: 嚴重病人 人數 | P5: 訪視人次 | Q5: 緊急處置 人數 | S5: 協助病人 就醫次數 | U5: 會商選定指定保護人次數 | W5: 指定保護 人次數 | Y5: 指定精神 醫療機構數 | Z5: 指定精神 專科醫師 人數 | AB5: 一般民眾 宣導活動 | AD5: 工作人員 在職訓練 | AF5: 相關基層人員 研習會 | AH5: 工作協調 會 議 (次) | AI5: 民眾申訴 案件(件)
C6: 上年 | D6: 本年 | F6: 一級 | G6: 二級 | H6: 三級 | I6: 四級 | J6: 五級 | K6: 未分級
L7: 男 | M7: 女 | N7: 男 | O7: 女 | Q7: 男 | R7: 女 | S7: 男 | T7: 女 | U7: 男 | V7: 女 | W7: 男 | X7: 女 | Z7: 男 | AA7: 女 | AB7: 人次 | AC7: 場次 | AD7: 人次 | AE7: 場次 | AF7: 人次 | AG7: 場次
A8: 總 計 | B8: =SUM(B9:B30) -> 23603121 | C8: =SUM(C9:C30) -> 140516 | D8: =SUM(F8:K8) -> 135719 | E8: =SUM(E9:E30) -> 113199 | F8: =SUM(F9:F30) -> 20761 | G8: =SUM(G9:G30) -> 18547 | H8: =SUM(H9:H30) -> 36160 | I8: =SUM(I9:I30) -> 58988 | J8: =SUM(J9:J30) -> 1113 | K8: =SUM(K9:K30) -> 150 | L8: =SUM(L9:L30) -> 136 | ... AI8: =SUM(AI9:AI30) -> 2462
A9: 新北市 | B9: 4018696 | C9: 22725 | D9: 21975 | E9: 15053 | F9: 3168 | G9: 2865 | H9: 4857 | I9: 10807 | J9: 278 | K9: 0 | L9: 37 | M9: 403 | N9: 902 | O9: 781 | P9: 126327 | Q9: 128 | R9: 107 | S9: 86 | T9: 82 | U9: 79 | V9: 77 | W9: 38 | X9: 41 | Y9: 8 | Z9: 55 | AA9: 26 | AB9: 20876 | AC9: 236 | AD9: 1025 | AE9: 20 | AF9: 4226 | AG9: 30 | AH9: 50 | AI9: 618
A10: 臺北市 | B10: 2645041 | C10: 17644 | D10: 16870 | E10: 15481 | F10: 1591 | G10: 1671 | H10: 8017 | I10: 5557 | J10: 34 | K10: 0 | L10: 9 | M10: 218 | N10: 452 | O10: 474 | P10: 101685 | Q10: 71 | R10: 82 | S10: 107 | T10: 76 | U10: 33 | V10: 53 | W10: 7 | X10: 3 | Y10: 9 | Z10: 111 | AA10: 26 | AB10: 94579 | AC10: 1583 | AD10: 670 | AE10: 92 | AF10: 96 | AG10: 22 | AH10: 173 | AI10: 173
A11: 桃園市 | B11: 2249037 | C11: 8448 | D11: 7520 | E11: 2969 | F11: 1636 | G11: 1384 | H11: 1742 | I11: 2756 | J11: 2 | K11: 0 | L11: 5 | M11: 189 | N11: 213 | O11: 193 | P11: 49981 | Q11: 0 | R11: 0 | S11: 57 | T11: 35 | U11: 0 | V11: 0 | W11: 0 | X11: 128 | Y11: 5 | Z11: 53 | AA11: 13 | AB11: 2645 | AC11: 71 | AD11: 522 | AE11: 5 | AF11: 1606 | AG11: 14 | AH11: 5 | AI11: 87
A12: 臺中市 | B12: 2815261 | C12: 13479 | D12: 12937 | E12: 12664 | F12: 2506 | G12: 2284 | H12: 3290 | I12: 4854 | J12: 3 | K12: 0 | L12: 4 | M12: 342 | N12: 37 | O12: 24 | P12: 86376 | Q12: 2 | R12: 0 | S12: 401 | T12: 257 | U12: 6 | V12: 2 | W12: 12 | X12: 7 | Y12: 16 | Z12: 64 | AA12: 20 | AB12: 684 | AC12: 34 | AD12: 342 | AE12: 30 | AF12: 342 | AG12: 30 | AH12: 30 | AI12: 89
A13: 臺南市 | B13: 1880906 | C13: 10125 | D13: 10140 | E13: 8829 | F13: 1788 | G13: 1576 | H13: 2269 | I13: 4500 | J13: 7 | K13: 0 | L13: 16 | M13: 243 | N13: 518 | O13: 454 | P13: 57514 | Q13: 7 | R13: 10 | S13: 105 | T13: 74 | U13: 7 | V13: 7 | W13: 0 | X13: 12 | Y13: 7 | Z13: 41 | AA13: 18 | AB13: 12236 | AC13: 64 | AD13: 752 | AE13: 35 | AF13: 2554 | AG13: 59 | AH13: 256 | AI13: 204
A14: 高雄市 | B14: 2773198 | C14: 20935 | D14: 20114 | E14: 17413 | F14: 2603 | G14: 2442 | H14: 4256 | I14: 10805 | J14: 8 | K14: 0 | L14: 17 | M14: 249 | N14: 634 | O14: 540 | P14: 105556 | Q14: 0 | R14: 0 | S14: 285 | T14: 236 | U14: 23 | V14: 26 | W14: 14 | X14: 32 | Y14: 11 | Z14: 93 | AA14: 27 | AB14: 43993 | AC14: 641 | AD14: 1211 | AE14: 187 | AF14: 763 | AG14: 203 | AH14: 116 | AI14: 312
A15: 宜蘭縣 | B15: 454178 | C15: 4269 | D15: 4120 | E15: 5218 | F15: 428 | G15: 513 | H15: 1559 | I15: 1612 | J15: 8 | K15: 0 | L15: 1 | M15: 88 | N15: 22 | O15: 14 | P15: 21414 | Q15: 0 | R15: 0 | S15: 12 | T15: 12 | U15: 0 | V15: 0 | W15: 0 | X15: 0 | Y15: 3 | Z15: 11 | AA15: 1 | AB15: 17307 | AC15: 126 | AD15: 832 | AE15: 14 | AF15: 1366 | AG15: 23 | AH15: 15 | AI15: 13
A16: 新竹縣 | B16: 563933 | C16: 2941 | D16: 2959 | E16: 2262 | F16: 500 | G16: 451 | H16: 635 | I16: 1367 | J16: 6 | K16: 0 | L16: 2 | M16: 99 | N16: 9 | O16: 11 | P16: 14556 | Q16: 9 | R16: 1 | S16: 134 | T16: 104 | U16: 0 | V16: 0 | W16: 0 | X16: 0 | Y16: 4 | Z16: 13 | AA16: 1 | AB16: 4039 | AC16: 44 | AD16: 780 | AE16: 11 | AF16: 3580 | AG16: 25 | AH16: 6 | AI16: 14
A17: 苗栗縣 | B17: 545459 | C17: 3584 | D17: 3673 | E17: 3138 | F17: 603 | G17: 610 | H17: 974 | I17: 1484 | J17: 2 | K17: 0 | L17: 2 | M17: 107 | N17: 170 | O17: 114 | P17: 20559 | Q17: 118 | R17: 40 | S17: 118 | T17: 40 | U17: 3 | V17: 5 | W17: 94 | X17: 62 | Y17: 3 | Z17: 14 | AA17: 2 | AB17: 2807 | AC17: 41 | AD17: 1467 | AE17: 67 | AF17: 1539 | AG17: 26 | AH17: 4 | AI17: 0
A18: 彰化縣 | B18: 1272802 | C18: 7961 | D18: 8288 | E18: 4717 | F18: 1265 | G18: 1048 | H18: 2376 | I18: 3121 | J18: 478 | K18: 0 | L18: 0 | M18: 153 | N18: 158 | O18: 113 | P18: 40979 | Q18: 41 | R18: 35 | S18: 169 | T18: 88 | U18: 1 | V18: 0 | W18: 2 | X18: 4 | Y18: 5 | Z18: 30 | AA18: 2 | AB18: 16358 | AC18: 364 | AD18: 452 | AE18: 90 | AF18: 683 | AG18: 125 | AH18: 111 | AI18: 108
A19: 南投縣 | B19: 494112 | C19: 3560 | D19: 3617 | E19: 3454 | F19: 600 | G19: 475 | H19: 832 | I19: 1710 | J19: 0 | K19: 0 | L19: 11 | M19: 108 | N19: 7 | O19: 4 | P19: 17409 | Q19: 0 | R19: 0 | S19: 81 | T19: 38 | U19: 0 | V19: 0 | W19: 6 | X19: 2 | Y19: 3 | Z19: 22 | AA19: 10 | AB19: 14398 | AC19: 129 | AD19: 266 | AE19: 47 | AF19: 4203 | AG19: 55 | AH19: 46 | AI19: 41
A20: 雲林縣 | B20: 681306 | C20: 2902 | D20: 2666 | E20: 2180 | F20: 887 | G20: 488 | H20: 682 | I20: 609 | J20: 0 | K20: 0 | L20: 3 | M20: 129 | N20: 48 | O20: 31 | P20: 18786 | Q20: 1 | R20: 1 | S20: 150 | T20: 95 | U20: 1 | V20: 1 | W20: 10 | X20: 11 | Y20: 3 | Z20: 13 | AA20: 3 | AB20: 44450 | AC20: 588 | AD20: 307 | AE20: 303 | AF20: 1935 | AG20: 112 | AH20: 39 | AI20: 5
... A29: 金門縣 | B29: 140185 | C29: 479 | D29: 453 | E29: 529 | F29: 52 | G29: 50 | H29: 213 | I29: 136 | J29: 2 | K29: 0 | L29: 1 | M29: 1 | N29: 9 | O29: 5 | P29: 2137 | Q29: 0 | R29: 0 | S29: 0 | T29: 0 | U29: 0 | V29: 0 | W29: 0 | X29: 0 | Y29: 1 | Z29: 3 | AA29: 1 | AB29: 534 | AC29: 6 | AD29: 20 | AE29: 5 | AF29: 4 | AG29: 2 | AH29: 6 | AI29: 0
A30: 連江縣 | B30: 13089 | C30: 40 | D30: 37 | E30: 25 | F30: 5 | G30: 10 | H30: 13 | I30: 9 | J30: 0 | K30: 0 | L30: 1 | M30: 1 | N30: 4 | O30: 2 | P30: 112 | Q30: 1 | R30: 1 | S30: 2 | T30: 1 | U30: 0 | V30: 0 | W30: 0 | X30: 0 | Y30: 0 | Z30: 0 | AA30: 0 | AB30: 2157 | AC30: 11 | AD30: 166 | AE30: 6 | AF30: 428 | AG30: 13 | AH30: 8
A31: 填表 | G31: 審核 | U31: 主辦業務人員 | AF31: 機關長官
U32: 主辦統計人員
A33: 資料來源：依據直轄市政府及各縣市衛生局(含金門、連江縣)之資料彙編。
A34: 填表說明：1. 轄區總人口數依據內政部年底人口數。
A35: 2.本表一式二份，一份送本部心理及口腔健康司，一份自存。
A36: 備註：新北市嚴重病人人數以醫院通報嚴重病人之人數為計算基準。

Sheet 107年
A1: 公開類 | AF1: 編製機關 | AH1: 衛生福利部統計處
A2: 年 報 | B2: 次年2月底前填報 | AF2: 表 號 | AH2: 10551-03-01
A3: 精神衛生行政工作執行成果
Q4: 中華民國 107 年 | AI4: 單位：人、人次、次、件
A5: 縣市別 | B5: 轄區 總人口數 | C5: 目前管理個案數 | E5: 領具精神 障礙手冊/ 證明人數 | F5: 管理個案分級人數 | L5: 訪員 人數 | N5: 嚴重病人 人數 | P5: 訪視人次 | Q5: 緊急處置 人數 | S5: 協助病人 就醫次數 | U5: 會商選定指定保護人次數 | W5: 指定保護 人次數 | Y5: 指定精神 醫療機構數 | Z5: 指定精神 專科醫師 人數 | AB5: 一般民眾 宣導活動 | AD5: 工作人員 在職訓練 | AF5: 相關基層人員 研習會 | AH5: 工作協調 會 議 (次) | AI5: 民眾申訴 案件(件)
C6: 上年 | D6: 本年 | F6: 一級 | G6: 二級 | H6: 三級 | I6: 四級 | J6: 五級 | K6: 未分級
L7: 男 | M7: 女 | N7: 男 | O7: 女 | Q7: 男 | R7: 女 | S7: 男 | T7: 女 | U7: 男 | V7: 女 | W7: 男 | X7: 女 | Z7: 男 | AA7: 女 | AB7: 人次 | AC7: 場次 | AD7: 人次 | AE7: 場次 | AF7: 人次 | AG7: 場次
A8: 總 計 | B8: =SUM(B9:B30) -> 23588932 | C8: =SUM(C9:C30) -> 139286 | D8: =SUM(F8:K8) -> 140516 | E8: =SUM(E9:E30) -> 114928 | F8: =SUM(F9:F30) -> 22080 | G8: =SUM(G9:G30) -> 19433 | H8: =SUM(H9:H30) -> 37779 | I8: =SUM(I9:I30) -> 60289 | J8: =SUM(J9:J30) -> 935 | K8: =SUM(K9:K30) -> 0 | L8: =SUM(L9:L30) -> 91 | ... AI8: =SUM(AI9:AI30) -> 2154
A9: 新北市 | B9: 3995717 | C9: 22370 | D9: 22725 | E9: 16165 | F9: 3169 | G9: 2925 | H9: 5508 | I9: 10801 | J9: 322 | K9: 0 | L9: 16 | M9: 417 | N9: 610 | O9: 551 | P9: 122158 | Q9: 205 | R9: 142 | S9: 91 | T9: 56 | U9: 88 | V9: 97 | W9: 42 | X9: 43 | Y9: 8 | Z9: 56 | AA9: 31 | AB9: 36414 | AC9: 433 | AD9: 876 | AE9: 48 | AF9: 4276 | AG9: 33 | AH9: 48 | AI9: 641
A10: 臺北市 | B10: 2668572 | C10: 18183 | D10: 17644 | E10: 15240 | F10: 1676 | G10: 1918 | H10: 8179 | I10: 5847 | J10: 24 | K10: 0 | L10: 11 | M10: 199 | N10: 595 | O10: 562 | P10: 107010 | Q10: 0 | R10: 0 | S10: 38 | T10: 43 | U10: 25 | V10: 116 | W10: 5 | X10: 89 | Y10: 9 | Z10: 109 | AA10: 25 | AB10: 80619 | AC10: 1183 | AD10: 437 | AE10: 57 | AF10: 835 | AG10: 90 | AH10: 175 | AI10: 181
A11: 桃園市 | B11: 2220872 | C11: 8758 | D11: 8448 | E11: 2968 | F11: 1899 | G11: 1332 | H11: 1886 | I11: 3327 | J11: 4 | K11: 0 | L11: 1 | M11: 187 | N11: 230 | O11: 183 | P11: 49941 | Q11: 0 | R11: 0 | S11: 0 | T11: 0 | U11: 0 | V11: 0 | W11: 0 | X11: 92 | Y11: 5 | Z11: 51 | AA11: 13 | AB11: 10341 | AC11: 97 | AD11: 363 | AE11: 5 | AF11: 1899 | AG11: 18 | AH11: 4 | AI11: 94
A12: 臺中市 | B12: 2803894 | C12: 11850 | D12: 13479 | E12: 12605 | F12: 2801 | G12: 2600 | H12: 3201 | I12: 4873 | J12: 4 | K12: 0 | L12: 2 | M12: 344 | N12: 17 | O12: 16 | P12: 81827 | Q12: 2 | R12: 0 | S12: 252 | T12: 189 | U12: 3 | V12: 2 | W12: 7 | X12: 7 | Y12: 15 | Z12: 48 | AA12: 15 | AB12: 11289 | AC12: 116 | AD12: 344 | AE12: 30 | AF12: 344 | AG12: 30 | AH12: 30 | AI12: 60
A13: 臺南市 | B13: 1883831 | C13: 10326 | D13: 10125 | E13: 10204 | F13: 1724 | G13: 1607 | H13: 2353 | I13: 4433 | J13: 8 | K13: 0 | L13: 9 | M13: 234 | N13: 514 | O13: 434 | P13: 62675 | Q13: 31 | R13: 18 | S13: 165 | T13: 124 | U13: 13 | V13: 10 | W13: 7 | X13: 4 | Y13: 7 | Z13: 44 | AA13: 17 | AB13: 8931 | AC13: 48 | AD13: 568 | AE13: 48 | AF13: 3137 | AG13: 58 | AH13: 344 | AI13: 222
A14: 高雄市 | B14: 2773533 | C14: 21353 | D14: 20935 | E14: 17155 | F14: 3022 | G14: 2519 | H14: 4402 | I14: 10981 | J14: 11 | K14: 0 | L14: 4 | M14: 238 | N14: 667 | O14: 525 | P14: 116761 | Q14: 0 | R14: 0 | S14: 259 | T14: 254 | U14: 15 | V14: 34 | W14: 10 | X14: 17 | Y14: 11 | Z14: 94 | AA14: 27 | AB14: 28602 | AC14: 455 | AD14: 369 | AE14: 166 | AF14: 797 | AG14: 73 | AH14: 100 | AI14: 384
A15: 宜蘭縣 | B15: 455221 | C15: 4119 | D15: 4269 | E15: 4419 | F15: 497 | G15: 563 | H15: 1607 | I15: 1590 | J15: 12 | K15: 0 | L15: 1 | M15: 87 | N15: 11 | O15: 7 | P15: 21503 | Q15: 0 | R15: 0 | S15: 7 | T15: 2 | U15: 0 | V15: 2 | W15: 1 | X15: 1 | Y15: 4 | Z15: 9 | AA15: 3 | AB15: 59207 | AC15: 528 | AD15: 644 | AE15: 23 | AF15: 1153 | AG15: 30 | AH15: 12 | AI15: 21
A16: 新竹縣 | B16: 557010 | C16: 2957 | D16: 2941 | E16: 2186 | F16: 486 | G16: 489 | H16: 654 | I16: 1302 | J16: 10 | K16: 0 | L16: 3 | M16: 102 | N16: 13 | O16: 3 | P16: 16766 | Q16: 4 | R16: 1 | S16: 105 | T16: 73 | U16: 1 | V16: 0 | W16: 0 | X16: 0 | Y16: 4 | Z16: 12 | AA16: 1 | AB16: 2927 | AC16: 32 | AD16: 215 | AE16: 4 | AF16: 2538 | AG16: 25 | AH16: 9 | AI16: 6
A17: 苗栗縣 | B17: 548863 | C17: 3481 | D17: 3584 | E17: 3123 | F17: 631 | G17: 496 | H17: 992 | I17: 1462 | J17: 3 | K17: 0 | L17: 1 | M17: 109 | N17: 162 | O17: 120 | P17: 19990 | Q17: 100 | R17: 81 | S17: 100 | T17: 81 | U17: 11 | V17: 8 | W17: 222 | X17: 172 | Y17: 2 | Z17: 13 | AA17: 3 | AB17: 2985 | AC17: 47 | AD17: 1700 | AE17: 89 | AF17: 2353 | AG17: 50 | AH17: 4 | AI17: 25
A18: 彰化縣 | B18: 1277824 | C18: 7469 | D18: 7961 | E18: 4850 | F18: 1251 | G18: 1067 | H18: 2345 | I18: 2920 | J18: 378 | K18: 0 | L18: 0 | M18: 148 | N18: 151 | O18: 108 | P18: 38162 | Q18: 8 | R18: 5 | S18: 147 | T18: 77 | U18: 16 | V18: 17 | W18: 6 | X18: 0 | Y18: 5 | Z18: 36 | AA18: 5 | AB18: 14634 | AC18: 727 | AD18: 359 | AE18: 109 | AF18: 427 | AG18: 137 | AH18: 108 | AI18: 75
A19: 南投縣 | B19: 497031 | C19: 3810 | D19: 3560 | E19: 3402 | F19: 521 | G19: 498 | H19: 898 | I19: 1643 | J19: 0 | K19: 0 | L19: 17 | M19: 112 | N19: 17 | O19: 3 | P19: 19341 | Q19: 0 | R19: 0 | S19: 101 | T19: 63 | U19: 2 | V19: 1 | W19: 0 | X19: 1 | Y19: 3 | Z19: 25 | AA19: 9 | AB19: 3065 | AC19: 40 | AD19: 117 | AE19: 16 | AF19: 2481 | AG19: 34 | AH19: 46 | AI19: 166
A20: 雲林縣 | B20: 686022 | C20: 3314 | D20: 2902 | E20: 2820 | F20: 787 | G20: 528 | H20: 794 | I20: 793 | J20: 0 | K20: 0 | L20: 1 | M20: 125 | N20: 48 | O20: 31 | P20: 31186 | Q20: 3 | R20: 2 | S20: 148 | T20: 77 | U20: 2 | V20: 1 | W20: 25 | X20: 25 | Y20: 3 | Z20: 11 | AA20: 4 | AB20: 15510 | AC20: 391 | AD20: 315 | AE20: 297 | AF20: 1138 | AG20: 45 | AH20: 39 | AI20: 10
... A30: 連江縣 | B30: 13056 | C30: 43 | D30: 40 | E30: 29 | F30: 9 | G30: 4 | H30: 18 | I30: 9 | J30: 0 | K30: 0 | L30: 0 | M30: 1 | N30: 3 | O30: 1 | P30: 182 | Q30: 0 | R30: 0 | S30: 1 | T30: 0 | U30: 0 | V30: 0 | W30: 0 | X30: 0 | Y30: 0 | Z30: 0 | AA30: 0 | AB30: 1245 | AC30: 15 | AD30: 238 | AE30: 8 | AF30: 312 | AG30: 10 | AH30: 12 | AI30: 4
A31: 填表 | G31: 審核 | U31: 主辦業務人員 | AF31: 機關長官
U32: 主辦統計人員
A33: 資料來源：依據直轄市政府及各縣市衛生局(含金門、連江縣)之資料彙編。
A34: 填表說明：1. 轄區總人口數依據內政部年底人口數。
A35: 2.本表一式二份，一份送本部心理及口腔健康司，一份自存。
A36: 備註：新北市嚴重病人人數以醫院通報嚴重病人之人數為計算基準。

Sheet 106年
A1: 公開類 | AF1: 編製機關 | AH1: 衛生福利部統計處
A2: 年 報 | B2: 次年2月底前填報 | AF2: 表 號 | AH2: 10551-03-01
A3: 精神衛生行政工作執行成果
Q4: 中華民國 106 年 | AI4: 單位：人、人次、次、件
A5: 縣市別 | B5: 轄區 總人口數 | C5: 目前管理個案數 | E5: 領具精神 障礙手冊/ 證明人數 | F5: 管理個案分級人數 | L5: 訪員 人數 | N5: 嚴重病人 人數 | P5: 訪視人次 | Q5: 緊急處置 人數 | S5: 協助病人 就醫次數 | U5: 會商選定指定保護人次數 | W5: 指定保護 人次數 | Y5: 指定精神 醫療機構數 | Z5: 指定精神 專科醫師 人數 | AB5: 一般民眾 宣導活動 | AD5: 工作人員 在職訓練 | AF5: 相關基層人員 研習會 | AH5: 工作協調 會 議 (次) | AI5: 民眾申訴 案件(件)
C6: 上年 | D6: 本年 | F6: 一級 | G6: 二級 | H6: 三級 | I6: 四級 | J6: 五級 | K6: 未分級
L7: 男 | M7: 女 | N7: 男 | O7: 女 | Q7: 男 | R7: 女 | S7: 男 | T7: 女 | U7: 男 | V7: 女 | W7: 男 | X7: 女 | Z7: 男 | AA7: 女 | AB7: 人次 | AC7: 場次 | AD7: 人次 | AE7: 場次 | AF7: 人次 | AG7: 場次
A8: 總 計 | B8: =SUM(B9:B30) -> 23571227 | C8: =SUM(C9:C30) -> 141537 | D8: =SUM(F8:K8) -> 139286 | E8: =SUM(E9:E30) -> 117858 | F8: =SUM(F9:F30) -> 18062 | G8: =SUM(G9:G30) -> 17085 | H8: =SUM(H9:H30) -> 42748 | I8: =SUM(I9:I30) -> 60630 | J8: =SUM(J9:J30) -> 761 | K8: =SUM(K9:K30) -> 0 | L8: =SUM(L9:L30) -> 89 | ... AI8: =SUM(AI9:AI30) -> 3392
A9: 新北市 | B9: 3986689 | C9: 22586 | D9: 22370 | E9: 18572 | F9: 2641 | G9: 2691 | H9: 6259 | I9: 10525 | J9: 254 | K9: 0 | L9: 27 | M9: 339 | N9: 145 | O9: 136 | P9: 110304 | Q9: 49 | R9: 41 | S9: 69 | T9: 62 | U9: 111 | V9: 93 | W9: 12 | X9: 18 | Y9: 8 | Z9: 49 | AA9: 28 | AB9: 30240 | AC9: 475 | AD9: 876 | AE9: 44 | AF9: 4978 | AG9: 76 | AH9: 50 | AI9: 576
A10: 臺北市 | B10: 2683257 | C10: 18215 | D10: 18183 | E10: 15077 | F10: 1632 | G10: 1973 | H10: 8845 | I10: 5724 | J10: 9 | K10: 0 | L10: 13 | M10: 201 | N10: 444 | O10: 406 | P10: 94392 | Q10: 0 | R10: 0 | S10: 50 | T10: 44 | U10: 37 | V10: 22 | W10: 3 | X10: 23 | Y10: 9 | Z10: 109 | AA10: 25 | AB10: 90351 | AC10: 1311 | AD10: 377 | AE10: 83 | AF10: 4120 | AG10: 14 | AH10: 213 | AI10: 312
A11: 桃園市 | B11: 2188017 | C11: 9331 | D11: 8758 | E11: 8761 | F11: 1479 | G11: 1324 | H11: 2282 | I11: 3667 | J11: 6 | L11: 1 | M11: 170 | N11: 51 | O11: 33 | P11: 49952 | Q11: 89 | R11: 56 | S11: 0 | T11: 0 | U11: 0 | V11: 0 | W11: 39 | X11: 32 | Y11: 5 | Z11: 64 | AA11: 14 | AB11: 3342 | AC11: 85 | AD11: 349 | AE11: 5 | AF11: 900 | AG11: 13 | AH11: 3 | AI11: 98
A12: 臺中市 | B12: 2787070 | C12: 11139 | D12: 11850 | E12: 11825 | F12: 1998 | G12: 1607 | H12: 3354 | I12: 4888 | J12: 3 | K12: 0 | L12: 4 | M12: 230 | N12: 26 | O12: 25 | P12: 61159 | Q12: 3 | R12: 4 | S12: 281 | T12: 170 | U12: 3 | V12: 2 | W12: 7 | X12: 7 | Y12: 15 | Z12: 48 | AA12: 15 | AB12: 11973 | AC12: 99 | AD12: 234 | AE12: 30 | AF12: 234 | AG12: 30 | AH12: 30 | AI12: 60
A13: 臺南市 | B13: 1886522 | C13: 10342 | D13: 10326 | E13: 6614 | F13: 1717 | G13: 1620 | H13: 2575 | I13: 4404 | J13: 10 | L13: 4 | M13: 240 | N13: 475 | O13: 381 | P13: 59423 | Q13: 19 | R13: 4 | S13: 274 | T13: 178 | U13: 10 | V13: 18 | W13: 0 | X13: 7 | Y13: 7 | Z13: 46 | AA13: 19 | AB13: 6957 | AC13: 62 | AD13: 730 | AE13: 29 | AF13: 6352 | AG13: 51 | AH13: 362 | AI13: 1230
A14: 高雄市 | B14: 2776912 | C14: 21982 | D14: 21353 | E14: 17028 | F14: 2539 | G14: 2303 | H14: 5302 | I14: 11195 | J14: 14 | K14: 0 | L14: 6 | M14: 231 | N14: 693 | O14: 528 | P14: 109867 | Q14: 0 | R14: 0 | S14: 260 | T14: 210 | U14: 27 | V14: 29 | W14: 14 | X14: 30 | Y14: 11 | Z14: 93 | AA14: 27 | AB14: 26337 | AC14: 625 | AD14: 365 | AE14: 117 | AF14: 587 | AG14: 77 | AH14: 82 | AI14: 437
A15: 宜蘭縣 | B15: 456607 | C15: 4040 | D15: 4119 | E15: 4160 | F15: 467 | G15: 437 | H15: 1653 | I15: 1550 | J15: 12 | K15: 0 | L15: 1 | M15: 87 | N15: 21 | O15: 17 | P15: 19614 | Q15: 0 | R15: 0 | S15: 10 | T15: 10 | U15: 2 | V15: 0 | W15: 0 | X15: 0 | Y15: 4 | Z15: 10 | AA15: 3 | AB15: 53279 | AC15: 404 | AD15: 451 | AE15: 11 | AF15: 1846 | AG15: 60 | AH15: 12 | AI15: 26
A16: 新竹縣 | B16: 552169 | C16: 3209 | D16: 2957 | E16: 2158 | F16: 461 | G16: 449 | H16: 765 | I16: 1274 | J16: 8 | K16: 0 | L16: 3 | M16: 110 | N16: 12 | O16: 12 | P16: 15508 | Q16: 8 | R16: 6 | S16: 212 | T16: 130 | U16: 13 | V16: 9 | W16: 0 | X16: 1 | Y16: 4 | Z16: 17 | AA16: 1 | AB16: 1807 | AC16: 20 | AD16: 698 | AE16: 11 | AF16: 2864 | AG16: 32 | AH16: 11 | AI16: 6
A17: 苗栗縣 | B17: 553807 | C17: 3624 | D17: 3481 | E17: 3078 | F17: 432 | G17: 369 | H17: 1191 | I17: 1484 | J17: 5 | K17: 0 | L17: 1 | M17: 109 | N17: 158 | O17: 120 | P17: 16906 | Q17: 148 | R17: 66 | S17: 148 | T17: 66 | U17: 0 | V17: 0 | W17: 164 | X17: 121 | Y17: 3 | Z17: 14 | AA17: 3 | AB17: 3170 | AC17: 20 | AD17: 2298 | AE17: 81 | AF17: 2131 | AG17: 41 | AH17: 4 | AI17: 52
A18: 彰化縣 | B18: 1282458 | C18: 7401 | D18: 7469 | E18: 4661 | F18: 1014 | G18: 1003 | H18: 2491 | I18: 2670 | J18: 291 | K18: 0 | L18: 1 | M18: 146 | N18: 121 | O18: 81 | P18: 40805 | Q18: 0 | R18: 0 | S18: 147 | T18: 92 | U18: 8 | V18: 6 | W18: 1 | X18: 6 | Y18: 5 | Z18: 33 | AA18: 2 | AB18: 3771 | AC18: 84 | AD18: 44 | AE18: 36 | AF18: 277 | AG18: 10 | AH18: 61 | AI18: 28
A19: 南投縣 | B19: 501051 | C19: 3842 | D19: 3810 | E19: 3113 | F19: 452 | G19: 428 | H19: 1149 | I19: 1781 | J19: 0 | K19: 0 | L19: 5 | M19: 119 | N19: 20 | O19: 6 | P19: 19863 | Q19: 0 | R19: 0 | S19: 121 | T19: 57 | U19: 2 | V19: 0 | W19: 9 | X19: 9 | Y19: 3 | Z19: 23 | AA19: 9 | AB19: 1335 | AC19: 28 | AD19: 224 | AE19: 17 | AF19: 610 | AG19: 17 | AH19: 21 | AI19: 70
A20: 雲林縣 | B20: 690373 | C20: 4357 | D20: 3314 | E20: 2841 | F20: 496 | G20: 439 | H20: 1179 | I20: 1200 | J20: 0 | K20: 0 | L20: 4 | M20: 127 | N20: 61 | O20: 42 | P20: 17117 | Q20: 26 | R20: 28 | S20: 359 | T20: 152 | U20: 0 | V20: 0 | W20: 4 | X20: 7 | Y20: 3 | Z20: 10 | AA20: 4 | AB20: 24735 | AC20: 595 | AD20: 219 | AE20: 209 | AF20: 538 | AG20: 239 | AH20: 149 | AI20: 5
A21: 嘉義縣 | B21: 511182 | C21: 4127 | D21: 4104 | E21: 3516 | F21: 274 | G21: 441 | H21: 1124 | I21: 2211 | J21: 54 | K21: 0 | L21: 9 | M21: 102 | N21: 74 | O21: 41 | P21: 21398 | Q21: 0 | R21: 1 | S21: 48 | T21: 48 | U21: 5 | V21: 8 | W21: 1 | X21: 0 | Y21: 3 | Z21: 14 | AA21: 3 | AB21: 14218 | AC21: 191 | AD21: 162 | AE21: 2 | AF21: 1159 | AG21: 13 | AH21: 18 | AI21: 14
A22: 屏東縣 | B22: 829939 | C22: 6000 | D22: 5892 | E22: 5850 | F22: 1083 | G22: 597 | H22: 1199 | I22: 2948 | J22: 65 | K22: 0 | L22: 2 | M22: 237 | N22: 89 | O22: 49 | P22: 30335 | Q22: 0 | R22: 0 | S22: 49 | T22: 29 | U22: 4 | V22: 4 | W22: 31 | X22: 39 | Y22: 4 | Z22: 19 | AA22: 2 | AB22: 43684 | AC22: 508 | AD22: 2327 | AE22: 51 | AF22: 181 | AG22: 2 | AH22: 6 | AI22: 16
A23: 臺東縣 | B23: 219540 | C23: 2037 | D23: 1942 | E23: 1319 | F23: 334 | G23: 284 | H23: 426 | I23: 894 | J23: 4 | L23: 3 | M23: 66 | N23: 19 | O23: 30 | P23: 13184 | Q23: 0 | R23: 1 | S23: 86 | T23: 48 | U23: 0 | V23: 1 | W23: 1 | X23: 0 | Y23: 2 | Z23: 6 | AA23: 0 | AB23: 4705 | AC23: 79 | AD23: 852 | AE23: 27 | AF23: 1158 | AG23: 19 | AH23: 30 | AI23: 20
A24: 花蓮縣 | B24: 329237 | C24: 3000 | D24: 3042 | E24: 3620 | F24: 427 | G24: 404 | H24: 870 | I24: 1338 | J24: 3 | K24: 0 | L24: 2 | M24: 93 | N24: 53 | O24: 58 | P24: 16183 | Q24: 0 | R24: 0 | S24: 26 | T24: 13 | U24: 1 | V24: 0 | W24: 1 | X24: 3 | Y24: 7 | Z24: 43 | AA24: 4 | AB24: 4974 | AC24: 95 | AD24: 153 | AE24: 4 | AF24: 1971 | AG24: 26 | AH24: 12 | AI24: 82
A25: 澎湖縣 | B25: 104073 | C25: 614 | D25: 605 | E25: 610 | F25: 86 | G25: 94 | H25: 250 | I25: 175 | J25: 0 | K25: 0 | L25: 1 | M25: 54 | N25: 5 | O25: 3 | P25: 3904 | Q25: 1 | R25: 1 | S25: 6 | T25: 1 | U25: 0 | V25: 0 | W25: 0 | X25: 2 | Y25: 1 | Z25: 4 | AA25: 0 | AB25: 3162 | AC25: 79 | AD25: 197 | AE25: 3 | AF25: 658 | AG25: 18 | AH25: 4 | AI25: 1
A26: 基隆市 | B26: 371458 | C26: 2935 | D26: 3020 | E26: 2632 | F26: 247 | G26: 327 | H26: 1075 | I26: 1352 | J26: 19 | K26: 0 | L26: 0 | M26: 38 | N26: 56 | O26: 52 | P26: 13508 | Q26: 10 | R26: 2 | S26: 8 | T26: 6 | U26: 3 | V26: 0 | W26: 3 | X26: 0 | Y26: 3 | Z26: 11 | AA26: 3 | AB26: 2641 | AC26: 4 | AD26: 314 | AE26: 12 | AF26: 699 | AG26: 12 | AH26: 5 | AI26: 96
A27: 新竹市 | B27: 441132 | C27: 896 | D27: 876 | E27: 734 | F27: 102 | G27: 100 | H27: 286 | I27: 388 | J27: 0 | K27: 0 | L27: 1 | M27: 23 | N27: 8 | O27: 20 | P27: 4685 | Q27: 187 | R27: 125 | S27: 187 | T27: 125 | U27: 0 | V27: 0 | W27: 1 | X27: 0 | Y27: 2 | Z27: 11 | AA27: 1 | AB27: 152 | AC27: 1 | AD27: 59 | AE27: 2 | AF27: 1031 | AG27: 11 | AH27: 4 | AI27: 11
A28: 嘉義市 | B28: 269398 | C28: 1373 | D28: 1332 | E28: 1125 | F28: 131 | G28: 131 | H28: 230 | I28: 839 | J28: 1 | K28: 0 | L28: 0 | M28: 15 | N28: 50 | O28: 26 | P28: 5728 | Q28: 126 | R28: 79 | S28: 126 | T28: 79 | U28: 42 | V28: 49 | W28: 11 | X28: 2 | Y28: 3 | Z28: 12 | AA28: 1 | AB28: 14670 | AC28: 95 | AD28: 598 | AE28: 9 | AF28: 100 | AG28: 1 | AH28: 2 | AI28: 242
A29: 金門縣 | B29: 137456 | C29: 445 | D29: 440 | E29: 528 | F29: 41 | G29: 56 | H29: 229 | I29: 111 | J29: 3 | K29: 0 | L29: 0 | M29: 1 | N29: 5 | O29: 1 | P29: 2042 | Q29: 0 | R29: 0 | S29: 3 | T29: 0 | U29: 0 | V29: 0 | W29: 3 | X29: 3 | Y29: 1 | Z29: 4 | AA29: 0 | AB29: 6 | AC29: 275 | AD29: 3 | AE29: 46 | AF29: 1 | AG29: 22 | AH29: 5 | AI29: 2
A30: 連江縣 | B30: 12880 | C30: 42 | D30: 43 | E30: 36 | F30: 9 | G30: 8 | H30: 14 | I30: 12 | J30: 0 | K30: 0 | L30: 1 | M30: 1 | N30: 4 | O30: 1 | P30: 178 | Q30: 0 | R30: 0 | S30: 1 | T30: 0 | U30: 0 | V30: 0 | W30: 0 | X30: 0 | Y30: 0 | Z30: 0 | AA30: 0 | AB30: 853 | AC30: 18 | AD30: 148 | AE30: 7 | AF30: 456 | AG30: 15 | AH30: 12 | AI30: 8
A31: 填表 | G31: 審核 | U31: 主辦業務人員 | AF31: 機關長官
U32: 主辦統計人員
A33: 資料來源：依據直轄市政府及各縣市衛生局(含金門、連江縣)之資料彙編。
A34: 填表說明：1. 轄區總人口數依據內政部年底人口數。
A35: 2.本表一式二份，一份送本部心理及口腔健康司，一份自存。
A36: 備註：新北市嚴重病人人數以醫院通報嚴重病人之人數為計算基準。

Sheet 105年
A1: 公開類 | AF1: 編製機關 | AH1: 衛生福利部統計處
A2: 年 報 | B2: 次年2月底前填報 | AF2: 表 號 | AH2: 10551-03-01
A3: 精神衛生行政工作執行成果
Q4: 中華民國 105 年 | AI4: 單位：人、人次、次、件
A5: 縣市別 | B5: 轄區 總人口數 | C5: 目前管理個案數 | E5: 領具精神 障礙手冊/ 證明人數 | F5: 管理個案分級人數 | L5: 訪員 人數 | N5: 嚴重病人 人數 | P5: 訪視人次 | Q5: 緊急處置 人數 | S5: 協助病人 就醫次數 | U5: 會商選定指定保護人次數 | W5: 指定保護 人次數 | Y5: 指定精神 醫療機構數 | Z5: 指定精神 專科醫師 人數 | AB5: 一般民眾 宣導活動 | AD5: 工作人員 在職訓練 | AF5: 相關基層人員 研習會 | AH5: 工作協調 會 議 (次) | AI5: 民眾申訴 案件(件)
C6: 上年 | D6: 本年 | F6: 一級 | G6: 二級 | H6: 三級 | I6: 四級 | J6: 五級 | K6: 未分級
L7: 男 | M7: 女 | N7: 男 | O7: 女 | Q7: 男 | R7: 女 | S7: 男 | T7: 女 | U7: 男 | V7: 女 | W7: 男 | X7: 女 | Z7: 男 | AA7: 女 | AB7: 人次 | AC7: 場次 | AD7: 人次 | AE7: 場次 | AF7: 人次 | AG7: 場次
A8: 總 計 | B8: =SUM(B9:B30) -> 23539816 | C8: =SUM(C9:C30) -> 141251 | D8: =SUM(F8:K8) -> 141537 | E8: =SUM(E9:E30) -> 121830 | F8: =SUM(F9:F30) -> 14117 | G8: =SUM(G9:G30) -> 25665 | H8: =SUM(H9:H30) -> 38420 | I8: =SUM(I9:I30) -> 62608 | J8: =SUM(J9:J30) -> 725 | K8: =SUM(K9:K30) -> 2 | L8: =SUM(L9:L30) -> 55 | ... AI8: =SUM(AI9:AI30) -> 4011
A9: 新北市 | B9: 3979208 | C9: 22050 | D9: 22586 | E9: 20160 | F9: 1999 | G9: 4271 | H9: 6200 | I9: 9955 | J9: 161 | K9: 0 | L9: 6 | M9: 367 | N9: 742 | O9: 620 | P9: 111108 | Q9: 336 | R9: 236 | S9: 2166 | T9: 1689 | U9: 12 | V9: 11 | W9: 149 | X9: 137 | Y9: 9 | Z9: 48 | AA9: 30 | AB9: 50484 | AC9: 483 | AD9: 441 | AE9: 21 | AF9: 3904 | AG9: 59 | AH9: 50 | AI9: 654
A10: 臺北市 | B10: 2695704 | C10: 18426 | D10: 18215 | E10: 14993 | F10: 1154 | G10: 2392 | H10: 9155 | I10: 5506 | J10: 7 | K10: 1 | L10: 11 | M10: 195 | N10: 121 | O10: 87 | P10: 88041 | Q10: 0 | R10: 0 | S10: 46 | T10: 37 | U10: 31 | V10: 22 | W10: 3 | X10: 15 | Y10: 9 | Z10: 120 | AA10: 31 | AB10: 102233 | AC10: 1321 | AD10: 252 | AE10: 84 | AF10: 307 | AG10: 22 | AH10: 95 | AI10: 460
A11: 桃園市 | B11: 2147763 | C11: 8823 | D11: 9331 | E11: 8244 | F11: 1237 | G11: 2388 | H11: 1508 | I11: 4192 | J11: 6 | K11: 0 | L11: 1 | M11: 170 | N11: 62 | O11: 49 | P11: 51428 | Q11: 240 | R11: 165 | S11: 0 | T11: 0 | U11: 0 | V11: 0 | W11: 7 | X11: 7 | Y11: 0 | Z11: 0 | AA11: 0 | AB11: 0 | AC11: 0 | AD11: 0 | AE11: 0 | AF11: 74 | AG11: 1 | AH11: 0 | AI11: 29
A12: 臺中市 | B12: 2767239 | C12: 11113 | D12: 11139 | E12: 12306 | F12: 1512 | G12: 2230 | H12: 2612 | I12: 4778 | J12: 7 | K12: 0 | L12: 4 | M12: 230 | N12: 31 | O12: 33 | P12: 56402 | Q12: 3 | R12: 4 | S12: 311 | T12: 201 | U12: 3 | V12: 2 | W12: 7 | X12: 7 | Y12: 14 | Z12: 46 | AA12: 18 | AB12: 14412 | AC12: 118 | AD12: 234 | AE12: 30 | AF12: 234 | AG12: 30 | AH12: 30 | AI12: 60
A13: 臺南市 | B13: 1886033 | C13: 10405 | D13: 10342 | E13: 6947 | F13: 1607 | G13: 2054 | H13: 1749 | I13: 4918 | J13: 14 | K13: 0 | L13: 4 | M13: 229 | N13: 480 | O13: 393 | P13: 52612 | Q13: 31 | R13: 12 | S13: 143 | T13: 69 | U13: 10 | V13: 6 | W13: 0 | X13: 10 | Y13: 7 | Z13: 42 | AA13: 19 | AB13: 10426 | AC13: 92 | AD13: 645 | AE13: 61 | AF13: 5949 | AG13: 81 | AH13: 91 | AI13: 425
A14: 高雄市 | B14: 2779371 | C14: 22365 | D14: 21982 | E14: 17628 | F14: 1670 | G14: 3370 | H14: 4854 | I14: 12068 | J14: 20 | K14: 0 | L14: 1 | M14: 228 | N14: 788 | O14: 567 | P14: 105538 | Q14: 0 | R14: 0 | S14: 230 | T14: 176 | U14: 20 | V14: 31 | W14: 21 | X14: 16 | Y14: 11 | Z14: 93 | AA14: 27 | AB14: 32564 | AC14: 389 | AD14: 403 | AE14: 163 | AF14: 680 | AG14: 69 | AH14: 83 | AI14: 409
A15: 宜蘭縣 | B15: 457538 | C15: 3859 | D15: 4040 | E15: 4148 | F15: 291 | G15: 900 | H15: 1396 | I15: 1438 | J15: 15 | K15: 0 | L15: 1 | M15: 88 | N15: 22 | O15: 12 | P15: 19617 | Q15: 0 | R15: 0 | S15: 19 | T15: 8 | U15: 8 | V15: 4 | W15: 0 | X15: 0 | Y15: 4 | Z15: 9 | AA15: 2 | AB15: 46518 | AC15: 283 | AD15: 1213 | AE15: 10 | AF15: 6272 | AG15: 122 | AH15: 12 | AI15: 36
A16: 新竹縣 | B16: 547481 | C16: 3140 | D16: 3209 | E16: 2479 | F16: 427 | G16: 626 | H16: 679 | I16: 1431 | J16: 46 | K16: 0 | L16: 3 | M16: 114 | N16: 9 | O16: 11 | P16: 17314 | Q16: 6 | R16: 9 | S16: 109 | T16: 85 | U16: 10 | V16: 9 | W16: 2 | X16: 0 | Y16: 4 | Z16: 14 | AA16: 1 | AB16: 630 | AC16: 6 | AD16: 120 | AE16: 5 | AF16: 989 | AG16: 5 | AH16: 8 | AI16: 11
A17: 苗栗縣 | B17: 559189 | C17: 3685 | D17: 3624 | E17: 3034 | F17: 319 | G17: 740 | H17: 1099 | I17: 1460 | J17: 6 | K17: 0 | L17: 1 | M17: 109 | N17: 194 | O17: 128 | P17: 17165 | Q17: 144 | R17: 95 | S17: 144 | T17: 95 | U17: 0 | V17: 0 | W17: 16 | X17: 6 | Y17: 3 | Z17: 14 | AA17: 2 | AB17: 2570 | AC17: 45 | AD17: 212 | AE17: 23 | AF17: 1403 | AG17: 87 | AH17: 4 | AI17: 48
A18: 彰化縣 | B18: 1287146 | C18: 6854 | D18: 7401 | E18: 5274 | F18: 851 | G18: 1434 | H18: 2083 | I18: 2750 | J18: 283 | K18: 0 | L18: 3 | M18: 149 | N18: 94 | O18: 61 | P18: 30984 | Q18: 0 | R18: 0 | S18: 119 | T18: 73 | U18: 2 | V18: 4 | W18: 7 | X18: 3 | Y18: 5 | Z18: 32 | AA18: 3 | AB18: 6326 | AC18: 113 | AD18: 67 | AE18: 41 | AF18: 285 | AG18: 16 | AH18: 69 | AI18: 80
A19: 南投縣 | B19: 505163 | C19: 3822 | D19: 3842 | E19: 3330 | F19: 297 | G19: 691 | H19: 975 | I19: 1879 | J19: 0 | K19: 0 | L19: 8 | M19: 123 | N19: 20 | O19: 11 | P19: 19963 | Q19: 15 | R19: 14 | S19: 119 | T19: 54 | U19: 3 | V19: 4 | W19: 2 | X19: 2 | Y19: 3 | Z19: 25 | AA19: 9 | AB19: 1641 | AC19: 24 | AD19: 128 | AE19: 15 | AF19: 1640 | AG19: 21 | AH19: 22 | AI19: 134
A20: 雲林縣 | B20: 694873 | C20: 4709 | D20: 4357 | E20: 3697 | F20: 391 | G20: 803 | H20: 1413 | I20: 1750 | J20: 0 | K20: 0 | L20: 0 | M20: 127 | N20: 27 | O20: 10 | P20: 25374 | Q20: 0 | R20: 0 | S20: 282 | T20: 135 | U20: 3 | V20: 0 | W20: 6 | X20: 3 | Y20: 3 | Z20: 13 | AA20: 4 | AB20: 19707 | AC20: 368 | AD20: 230 | AE20: 224 | AF20: 1297 | AG20: 128 | AH20: 60 | AI20: 21
... A23: 臺東縣 | B23: 220802 | C23: 1998 | D23: 2037 | E23: 1448 | F23: 287 | G23: 502 | H23: 300 | I23: 942 | J23: 6 | K23: 0 | L23: 4 | M23: 67 | N23: 5 | O23: 4 | P23: 4091 | Q23: 6 | R23: 3 | S23: 15 | T23: 12 | U23: 0 | V23: 0 | W23: 0 | X23: 0 | Y23: 9 | Z23: 9 | AA23: 2 | AB23: 151 | AC23: 19 | AD23: 22 | AE23: 4 | AF23: 62 | AG23: 4 | AH23: 9 | AI23: 0
A24: 花蓮縣 | B24: 330911 | C24: 2860 | D24: 3000 | E24: 3620 | F24: 357 | G24: 816 | H24: 488 | I24: 1335 | J24: 4 | L24: 2 | M24: 79 | N24: 18 | O24: 9 | P24: 17900 | Q24: 0 | R24: 0 | S24: 32 | T24: 16 | U24: 1 | V24: 0 | W24: 1 | X24: 3 | Y24: 7 | Z24: 45 | AA24: 4 | AB24: 1989 | AC24: 28 | AD24: 247 | AE24: 4 | AF24: 443 | AG24: 8 | AH24: 15 | AI24: 142
A25: 澎湖縣 | B25: 103263 | C25: 610 | D25: 614 | E25: 534 | F25: 86 | G25: 115 | H25: 219 | I25: 194 | J25: 0 | K25: 0 | L25: 1 | M25: 49 | N25: 5 | O25: 1 | P25: 3602 | Q25: 4 | R25: 0 | S25: 5 | T25: 0 | U25: 0 | V25: 0 | W25: 0 | X25: 0 | Y25: 1 | Z25: 4 | AA25: 2 | AB25: 2776 | AC25: 56 | AD25: 77 | AE25: 2 | AF25: 629 | AG25: 8 | AH25: 12 | AI25: 0
A26: 基隆市 | B26: 372100 | C26: 3014 | D26: 2935 | E26: 2675 | F26: 234 | G26: 283 | H26: 1056 | I26: 1343 | J26: 19 | K26: 0 | L26: 0 | M26: 39 | N26: 46 | O26: 49 | P26: 13989 | Q26: 28 | R26: 8 | S26: 8 | T26: 9 | U26: 1 | V26: 0 | W26: 1 | X26: 0 | Y26: 3 | Z26: 11 | AA26: 6 | AB26: 7451 | AC26: 27 | AD26: 960 | AE26: 16 | AF26: 696 | AG26: 20 | AH26: 16 | AI26: 8
A27: 新竹市 | B27: 437337 | C27: 944 | D27: 896 | E27: 789 | F27: 94 | G27: 148 | H27: 285 | I27: 369 | J27: 0 | K27: 0 | L27: 0 | M27: 22 | N27: 8 | O27: 11 | P27: 4566 | Q27: 194 | R27: 136 | S27: 194 | T27: 136 | U27: 0 | V27: 0 | W27: 1 | X27: 0 | Y27: 2 | Z27: 7 | AA27: 2 | AB27: 1086 | AC27: 2 | AD27: 1071 | AE27: 9 | AF27: 97 | AG27: 16 | AH27: 4 | AI27: 25
A28: 嘉義市 | B28: 269874 | C28: 1398 | D28: 1373 | E28: 1141 | F28: 132 | G28: 244 | H28: 125 | I28: 871 | J28: 1 | K28: 0 | L28: 0 | M28: 12 | N28: 44 | O28: 27 | P28: 6153 | Q28: 109 | R28: 95 | S28: 22 | T28: 17 | U28: 0 | V28: 0 | W28: 0 | X28: 0 | Y28: 3 | Z28: 14 | AA28: 0 | AB28: 6615 | AC28: 85 | AD28: 595 | AE28: 9 | AF28: 176 | AG28: 12 | AH28: 2 | AI28: 33
A29: 金門縣 | B29: 135114 | C29: 448 | D29: 445 | E29: 518 | F29: 31 | G29: 79 | H29: 233 | I29: 102 | J29: 0 | K29: 0 | L29: 0 | M29: 8 | N29: 3 | O29: 1 | P29: 2310 | Q29: 0 | R29: 0 | S29: 0 | T29: 3 | U29: 0 | V29: 1 | W29: 0 | X29: 2 | Y29: 1 | Z29: 4 | AA29: 0 | AB29: 238 | AC29: 6 | AD29: 234 | AE29: 9 | AF29: 212 | AG29: 4 | AH29: 4 | AI29: 1
A30: 連江縣 | B30: 12595 | C30: 37 | D30: 42 | E30: 36 | F30: 12 | G30: 2 | H30: 11 | I30: 15 | J30: 1 | K30: 1 | L30: 1 | M30: 1 | N30: 3 | O30: 0 | P30: 180 | Q30: 0 | R30: 0 | S30: 2 | T30: 1 | U30: 0 | V30: 1 | W30: 0 | X30: 2 | Y30: 0 | Z30: 0 | AA30: 0 | AB30: 5325 | AC30: 33 | AD30: 111 | AE30: 6 | AF30: 441 | AG30: 18 | AH30: 14 | AI30: 15
A31: 填表 | G31: 審核 | U31: 主辦業務人員 | AF31: 機關長官
U32: 主辦統計人員
A33: 資料來源：依據直轄市政府及各縣市衛生局(含金門、連江縣)之資料彙編。
A34: 填表說明：1. 轄區總人口數依據內政部年底人口數。
A35: 2.本表一式二份，一份送本部心理及口腔健康司，一份自存。
A36: 備註：新北市嚴重病人人數以醫院通報嚴重病人之人數為計算基準。

Sheet 104年
A1: 公開類 | AF1: 編製機關 | AH1: 衛生福利部統計處
A2: 年 報 | B2: 次年2月底前填報 | AF2: 表 號 | AH2: 10551-03-01
A3: 精神衛生行政工作執行成果表
Q4: 中華民國 104 年 | AI4: 單位：人、人次、次、件
A5: 縣市別 | B5: 轄區 總人口數 | C5: 目前管理個案數 | E5: 領具精神障礙手冊/證明人數 | F5: 管理個案分級人數 | L5: 訪員 人數 | N5: 嚴重病人 人數 | P5: 訪視人次 | Q5: 緊急處置人數 | S5: 協助病人就醫次數 | U5: 會商選定指定保護人次數 | W5: 指定保護人次數 | Y5: 指定精神醫療機構數 | Z5: 指定精神專科 醫師人數 | AB5: 一般民眾 宣導活動 | AD5: 工作人員 在職訓練 | AF5: 相關基層人員 研習會 | AH5: 工作協調 會 議 (次) | AI5: 民眾申訴案件(件)
C6: 上年 | D6: 本年 | F6: 一級 | G6: 二級 | H6: 三級 | I6: 四級 | J6: 五級 | K6: 未分級
L7: 男 | M7: 女 | N7: 男 | O7: 女 | Q7: 男 | R7: 女 | S7: 男 | T7: 女 | U7: 男 | V7: 女 | W7: 男 | X7: 女 | Z7: 男 | AA7: 女 | AB7: 人次 | AC7: 場次 | AD7: 人次 | AE7: 場次 | AF7: 人次 | AG7: 場次
A8: 總 計 | B8: =SUM(B9:B30) -> 23043460 | C8: =SUM(C9:C30) -> 141310 | D8: =SUM(F8:K8) -> 141768 | E8: =SUM(E9:E30) -> 120479 | F8: =SUM(F9:F30) -> 13481 | G8: =SUM(G9:G30) -> 21308 | H8: =SUM(H9:H30) -> 37382 | I8: =SUM(I9:I30) -> 68780 | J8: =SUM(J9:J30) -> 812 | K8: =SUM(K9:K30) -> 5 | L8: =SUM(L9:L30) -> 49 | ... AI8: =SUM(AI9:AI30) -> 3126
A9: 新北市 | B9: 3970644 | C9: 22115 | D9: 22050 | E9: 20109 | F9: 1846 | G9: 3570 | H9: 7223 | I9: 9240 | J9: 171 | K9: 0 | L9: 0 | M9: 189 | N9: 596 | O9: 514 | P9: 108109 | Q9: 104 | R9: 86 | S9: 604 | T9: 524 | U9: 13 | V9: 25 | W9: 246 | X9: 213 | Y9: 9 | Z9: 51 | AA9: 28 | AB9: 37271 | AC9: 394 | AD9: 359 | AE9: 32 | AF9: 7299 | AG9: 104 | AH9: 49 | AI9: 353
A10: 臺北市 | B10: 2704810 | C10: 18262 | D10: 18426 | E10: 14960 | F10: 1374 | G10: 2382 | H10: 8873 | I10: 5790 | J10: 6 | K10: 1 | L10: 18 | M10: 188 | N10: 385 | O10: 481 | P10: 87366 | Q10: 16 | R10: 12 | S10: 18 | T10: 18 | U10: 21 | V10: 20 | W10: 3 | X10: 25 | Y10: 9 | Z10: 115 | AA10: 27 | AB10: 32283 | AC10: 673 | AD10: 537 | AE10: 100 | AF10: 289 | AG10: 5 | AH10: 6 | AI10: 303
A11: 桃園市 | B11: 2105780 | C11: 8823 | D11: 9339 | E11: 6629 | F11: 1318 | G11: 1621 | H11: 1321 | I11: 5072 | J11: 7 | K11: 0 | L11: 1 | M11: 169 | N11: 55 | O11: 50 | P11: 48682 | Q11: 64 | R11: 28 | S11: 64 | T11: 28 | U11: 8 | V11: 10 | W11: 8 | X11: 10 | Y11: 5 | Z11: 60 | AA11: 10 | AB11: 48353 | AC11: 159 | AD11: 458 | AE11: 3 | AF11: 1389 | AG11: 13 | AH11: 14 | AI11: 232
A12: 臺中市 | B12: 2701618 | C12: 11148 | D12: 11113 | E12: 12334 | F12: 1299 | G12: 2004 | H12: 2685 | I12: 5115 | J12: 10 | K12: 0 | L12: 4 | M12: 230 | N12: 31 | O12: 33 | P12: 58691 | Q12: 3 | R12: 4 | S12: 387 | T12: 279 | U12: 3 | V12: 2 | W12: 11 | X12: 12 | Y12: 14 | Z12: 40 | AA12: 16 | AB12: 14412 | AC12: 118 | AD12: 234 | AE12: 30 | AF12: 234 | AG12: 30 | AH12: 30 | AI12: 111
A13: 臺南市 | B13: 1885390 | C13: 10496 | D13: 10406 | E13: 7309 | F13: 1313 | G13: 1423 | H13: 1708 | I13: 5940 | J13: 21 | K13: 1 | L13: 3 | M13: 230 | N13: 686 | O13: 528 | P13: 44103 | Q13: 0 | R13: 0 | S13: 291 | T13: 179 | U13: 11 | V13: 14 | W13: 0 | X13: 8 | Y13: 7 | Z13: 38 | AA13: 19 | AB13: 10373 | AC13: 73 | AD13: 271 | AE13: 40 | AF13: 6679 | AG13: 112 | AH13: 77 | AI13: 1165
A14: 高雄市 | B14: 2778918 | C14: 22614 | D14: 22365 | E14: 17298 | F14: 1241 | G14: 2519 | H14: 4256 | I14: 14339 | J14: 10 | K14: 0 | L14: 2 | M14: 213 | N14: 774 | O14: 597 | P14: 101274 | Q14: 0 | R14: 0 | S14: 206 | T14: 148 | U14: 16 | V14: 27 | W14: 10 | X14: 21 | Y14: 11 | Z14: 95 | AA14: 26 | AB14: 30020 | AC14: 388 | AD14: 368 | AE14: 106 | AF14: 1039 | AG14: 64 | AH14: 87 | AI14: 363
A15: 宜蘭縣 | B15: 45817 | C15: 3984 | D15: 3859 | E15: 4029 | F15: 290 | G15: 582 | H15: 1354 | I15: 1605 | J15: 28 | K15: 0 | L15: 1 | M15: 88 | N15: 10 | O15: 12 | P15: 19968 | Q15: 0 | R15: 0 | S15: 31 | T15: 21 | U15: 6 | V15: 5 | W15: 0 | X15: 0 | Y15: 4 | Z15: 9 | AA15: 2 | AB15: 32998 | AC15: 297 | AD15: 1902 | AE15: 27 | AF15: 1385 | AG15: 67 | AH15: 12 | AI15: 25
A16: 新竹縣 | B16: 542042 | C16: 2993 | D16: 3140 | E16: 2867 | F16: 415 | G16: 500 | H16: 610 | I16: 1553 | J16: 62 | K16: 0 | L16: 0 | M16: 123 | N16: 11 | O16: 12 | P16: 16254 | Q16: 8 | R16: 9 | S16: 91 | T16: 56 | U16: 3 | V16: 2 | W16: 1 | X16: 2 | Y16: 4 | Z16: 15 | AA16: 2 | AB16: 70 | AC16: 2 | AD16: 108 | AE16: 6 | AF16: 738 | AG16: 19 | AH16: 0 | AI16: 0
A17: 苗栗縣 | B17: 563912 | C17: 3624 | D17: 3685 | E17: 3019 | F17: 416 | G17: 700 | H17: 1038 | I17: 1519 | J17: 12 | K17: 0 | L17: 1 | M17: 118 | N17: 162 | O17: 118 | P17: 18444 | Q17: 239 | R17: 71 | S17: 239 | T17: 71 | U17: 0 | V17: 0 | W17: 14 | X17: 5 | Y17: 3 | Z17: 13 | AA17: 2 | AB17: 2393 | AC17: 48 | AD17: 329 | AE17: 8 | AF17: 2373 | AG17: 35 | AH17: 2 | AI17: 45
A18: 彰化縣 | B18: 1289072 | C18: 6774 | D18: 6854 | E18: 5030 | F18: 777 | G18: 1219 | H18: 1626 | I18: 2937 | J18: 295 | K18: 0 | L18: 0 | M18: 148 | N18: 134 | O18: 66 | P18: 31286 | Q18: 0 | R18: 0 | S18: 114 | T18: 65 | U18: 1 | V18: 3 | W18: 16 | X18: 19 | Y18: 5 | Z18: 44 | AA18: 7 | AB18: 2531 | AC18: 56 | AD18: 96 | AE18: 54 | AF18: 61 | AG18: 33 | AH18: 85 | AI18: 26
A19: 南投縣 | B19: 509490 | C19: 3748 | D19: 3822 | E19: 3270 | F19: 281 | G19: 638 | H19: 909 | I19: 1994 | J19: 0 | K19: 0 | L19: 2 | M19: 124 | N19: 10 | O19: 10 | P19: 21292 | Q19: 6 | R19: 10 | S19: 76 | T19: 59 | U19: 2 | V19: 2 | W19: 2 | X19: 2 | Y19: 3 | Z19: 25 | AA19: 10 | AB19: 834 | AC19: 18 | AD19: 115 | AE19: 15 | AF19: 1307 | AG19: 22 | AH19: 21 | AI19: 34
A20: 雲林縣 | B20: 699633 | C20: 4905 | D20: 4709 | E20: 4002 | F20: 417 | G20: 951 | H20: 1374 | I20: 1962 | J20: 4 | K20: 1 | L20: 3 | M20: 125 | N20: 24 | O20: 8 | P20: 24656 | Q20: 31 | R20: 15 | S20: 276 | T20: 132 | U20: 0 | V20: 0 | W20: 1 | X20: 1 | Y20: 3 | Z20: 11 | AA20: 3 | AB20: 24098 | AC20: 1268 | AD20: 250 | AE20: 230 | AF20: 972 | AG20: 45 | AH20: 28 | AI20: 27
... A30: 連江縣 | B30: 12547 | C30: 45 | D30: 37 | E30: 36 | F30: 7 | G30: 2 | H30: 12 | I30: 16 | J30: 0 | K30: 0 | L30: 1 | M30: 1 | N30: 2 | O30: 0 | P30: 169 | Q30: 0 | R30: 0 | S30: 2 | T30: 1 | U30: 0 | V30: 1 | W30: 0 | X30: 1 | Y30: 0 | Z30: 0 | AA30: 0 | AB30: 5896 | AC30: 44 | AD30: 76 | AE30: 5 | AF30: 270 | AG30: 10 | AH30: 8 | AI30: 15
A31: 填表 | G31: 審核 | U31: 主辦業務人員 | AF31: 機關長官
U32: 主辦統計人員
A33: 資料來源：依據直轄市政府及各縣市衛生局(含金門、連江縣)之資料彙編。
A34: 填表說明：1. 轄區總人口數依據內政部年底人口數。
A35: 2.本表一式二份，一份送本部心理及口腔健康司，一份自存。
A36: 備註：新北市嚴重病人人數以醫院通報嚴重病人之人數為計算基準。

Sheet 103年
A1: 公開類 | AF1: 編製機關 | AH1: 衛生福利部統計處
A2: 年 報 | B2: 次年2月底前填報 | AF2: 表 號 | AH2: 10551-03-01
A3: 精神衛生行政工作執行成果表
Q4: 中華民國 103 年 | AI4: 單位：人、人次、次、件
A5: 縣市別 | B5: 轄區 總人口數 | C5: 目前管理個案數 | E5: 領具精神障礙手冊/證明人數 | F5: 管理個案分級人數 | L5: 訪員 人數 | N5: 嚴重病人 人數 | P5: 訪視人次 | Q5: 緊急處置人數 | S5: 協助病人就醫次數 | U5: 會商選定指定保護人次數 | W5: 指定保護人次數 | Y5: 指定精神醫療機構數 | Z5: 指定精神專科 醫師人數 | AB5: 一般民眾 宣導活動 | AD5: 工作人員 在職訓練 | AF5: 相關基層人員 研習會 | AH5: 工作協調 會 議 (次) | AI5: 民眾申訴案件(件)
C6: 上年 | D6: 本年 | F6: 一級 | G6: 二級 | H6: 三級 | I6: 四級 | J6: 五級 | K6: 未分級
L7: 男 | M7: 女 | N7: 男 | O7: 女 | Q7: 男 | R7: 女 | S7: 男 | T7: 女 | U7: 男 | V7: 女 | W7: 男 | X7: 女 | Z7: 男 | AA7: 女 | AB7: 人次 | AC7: 場次 | AD7: 人次 | AE7: 場次 | AF7: 人次 | AG7: 場次
A8: 總 計 | B8: 23433753 | C8: 133662 | D8: 141310 | E8: 119810 | F8: 16020 | G8: 8257 | H8: 35622 | I8: 80412 | J8: 984 | K8: 15 | L8: 57 | M8: 2475 | N8: 3357 | O8: 2453 | P8: 715502 | Q8: 781 | R8: 428 | S8: 2720 | T8: 1710 | U8: 143 | V8: 128 | W8: 166 | X8: 177 | Y8: 106 | Z8: 583 | AA8: 156 | AB8: 285689 | AC8: 4850 | AD8: 9859 | AE8: 872 | AF8: 32223 | AG8: 719 | AH8: 677 | AI8: 3285
A9: 新北市 | B9: 3966818 | C9: 21083 | D9: 22115 | E9: 18003 | F9: 2869 | G9: 3220 | H9: 10213 | I9: 5586 | J9: 227 | K9: 0 | L9: 3 | M9: 198 | N9: 1021 | O9: 887 | P9: 107901 | Q9: 57 | R9: 21 | S9: 614 | T9: 474 | U9: 4 | V9: 10 | W9: 69 | X9: 71 | Y9: 9 | Z9: 48 | AA9: 28 | AB9: 59969 | AC9: 394 | AD9: 208 | AE9: 20 | AF9: 2784 | AG9: 82 | AH9: 49 | AI9: 538
A10: 臺北市 | B10: 2702315 | C10: 17614 | D10: 18262 | E10: 14744 | F10: 1609 | G10: 1313 | H10: 10947 | I10: 4379 | J10: 12 | K10: 2 | L10: 8 | M10: 187 | N10: 37 | O10: 41 | P10: 92342 | Q10: 5 | R10: 9 | S10: 23 | T10: 21 | U10: 38 | V10: 29 | W10: 8 | X10: 34 | Y10: 9 | Z10: 115 | AA10: 27 | AB10: 35597 | AC10: 630 | AD10: 423 | AE10: 97 | AF10: 42 | AG10: 3 | AH10: 6 | AI10: 287
A11: 桃園市 | B11: 2058328 | C11: 7741 | D11: 8823 | E11: 6621 | F11: 1409 | G11: 44 | H11: 657 | I11: 6696 | J11: 15 | K11: 2 | L11: 1 | M11: 170 | N11: 81 | O11: 15 | P11: 47549 | Q11: 11 | R11: 8 | S11: 11 | T11: 8 | U11: 13 | V11: 10 | W11: 13 | X11: 10 | Y11: 5 | Z11: 75 | AA11: 10 | AB11: 16350 | AC11: 150 | AD11: 317 | AE11: 26 | AF11: 1294 | AG11: 13 | AH11: 130 | AI11: 355
A12: 臺中市 | B12: 2719835 | C12: 10157 | D12: 11148 | E12: 12099 | F12: 1219 | G12: 545 | H12: 1881 | I12: 7484 | J12: 16 | K12: 3 | L12: 4 | M12: 230 | N12: 31 | O12: 33 | P12: 55502 | Q12: 3 | R12: 2 | S12: 368 | T12: 272 | U12: 5 | V12: 4 | W12: 20 | X12: 12 | Y12: 13 | Z12: 42 | AA12: 16 | AB12: 15967 | AC12: 118 | AD12: 218 | AE12: 30 | AF12: 218 | AG12: 30 | AH12: 30 | AI12: 67
A13: 臺南市 | B13: 1884284 | C13: 9987 | D13: 10496 | E13: 7749 | F13: 1568 | G13: 205 | H13: 1121 | I13: 7567 | J13: 30 | K13: 5 | L13: 3 | M13: 232 | N13: 137 | O13: 123 | P13: 51758 | Q13: 68 | R13: 61 | S13: 332 | T13: 203 | U13: 15 | V13: 14 | W13: 2 | X13: 5 | Y13: 6 | Z13: 31 | AA13: 15 | AB13: 5967 | AC13: 74 | AD13: 1224 | AE13: 76 | AF13: 9371 | AG13: 163 | AH13: 137 | AI13: 1115
A14: 高雄市 | B14: 2778992 | C14: 20994 | D14: 22614 | E14: 16802 | F14: 2004 | G14: 339 | H14: 2240 | I14: 17995 | J14: 36 | K14: 0 | L14: 3 | M14: 230 | N14: 881 | O14: 680 | P14: 108838 | Q14: 0 | R14: 0 | S14: 201 | T14: 131 | U14: 20 | V14: 25 | W14: 11 | X14: 12 | Y14: 11 | Z14: 90 | AA14: 24 | AB14: 20311 | AC14: 349 | AD14: 725 | AE14: 115 | AF14: 832 | AG14: 44 | AH14: 61 | AI14: 308
A15: 宜蘭縣 | B15: 458777 | C15: 3809 | D15: 3984 | E15: 3644 | F15: 339 | G15: 404 | H15: 731 | I15: 2455 | J15: 55 | K15: 0 | L15: 1 | M15: 88 | N15: 19 | O15: 13 | P15: 20215 | Q15: 0 | R15: 0 | S15: 19 | T15: 5 | U15: 21 | V15: 11 | W15: 7 | X15: 3 | Y15: 3 | Z15: 10 | AA15: 1 | AB15: 7932 | AC15: 181 | AD15: 1322 | AE15: 23 | AF15: 1896 | AG15: 33 | AH15: 12 | AI15: 21
A16: 新竹縣 | B16: 537630 | C16: 2732 | D16: 2993 | E16: 2235 | F16: 318 | G16: 53 | H16: 762 | I16: 1772 | J16: 88 | K16: 0 | L16: 0 | M16: 2 | N16: 13 | O16: 2 | P16: 15414 | Q16: 98 | R16: 52 | S16: 45 | T16: 25 | U16: 0 | V16: 0 | W16: 1 | X16: 1 | Y16: 5 | Z16: 17 | AA16: 2 | AB16: 742 | AC16: 14 | AD16: 560 | AE16: 14 | AF16: 0 | AG16: 0 | AH16: 10 | AI16: 14
A17: 苗栗縣 | B17: 567132 | C17: 3368 | D17: 3624 | E17: 2963 | F17: 512 | G17: 402 | H17: 537 | I17: 2156 | J17: 17 | K17: 0 | L17: 1 | M17: 116 | N17: 27 | O17: 18 | P17: 17809 | Q17: 217 | R17: 83 | S17: 217 | T17: 83 | U17: 0 | V17: 0 | W17: 0 | X17: 0 | Y17: 3 | Z17: 12 | AA17: 3 | AB17: 2513 | AC17: 70 | AD17: 620 | AE17: 10 | AF17: 1662 | AG17: 48 | AH17: 3 | AI17: 51
A18: 彰化縣 | B18: 1291474 | C18: 6391 | D18: 6774 | E18: 6778 | F18: 808 | G18: 171 | H18: 1089 | I18: 4486 | J18: 220 | K18: 0 | L18: 0 | M18: 144 | N18: 136 | O18: 87 | P18: 38263 | Q18: 0 | R18: 0 | S18: 108 | T18: 53 | U18: 18 | V18: 9 | W18: 4 | X18: 2 | Y18: 5 | Z18: 0 | AA18: 0 | AB18: 4099 | AC18: 113 | AD18: 114 | AE18: 70 | AF18: 141 | AG18: 12 | AH18: 27 | AI18: 26
A19: 南投縣 | B19: 514315 | C19: 3606 | D19: 3748 | E19: 3222 | F19: 455 | G19: 184 | H19: 735 | I19: 2374 | J19: 0 | K19: 0 | L19: 14 | M19: 118 | N19: 9 | O19: 11 | P19: 23206 | Q19: 61 | R19: 40 | S19: 80 | T19: 56 | U19: 2 | V19: 1 | W19: 2 | X19: 1 | Y19: 3 | Z19: 24 | AA19: 10 | AB19: 261 | AC19: 3 | AD19: 163 | AE19: 5 | AF19: 1039 | AG19: 31 | AH19: 14 | AI19: 88
... A30: 連江縣 | B30: 12506 | C30: 46 | D30: 45 | E30: 36 | F30: 7 | G30: 0 | H30: 6 | I30: 30 | J30: 2 | K30: 0 | L30: 1 | M30: 1 | N30: 0 | O30: 0 | P30: 188 | Q30: 0 | R30: 0 | S30: 1 | T30: 1 | U30: 0 | V30: 0 | W30: 0 | X30: 0 | Y30: 0 | Z30: 0 | AA30: 0 | AB30: 3840 | AC30: 43 | AD30: 24 | AE30: 4 | AF30: 188 | AG30: 8 | AH30: 1 | AI30: 15
A31: 填表 | G31: 審核 | U31: 主辦業務人員 | AF31: 機關長官
U32: 主辦統計人員
A33: 資料來源：依據直轄市政府及各縣市衛生局(含金門、連江縣)之資料彙編。
A34: 填表說明：1. 轄區總人口數依據內政部年底人口數。
A35: 2.本表一式二份，一份送本部心理及口腔健康司，一份自存。
A36: 備註：新北市嚴重病人人數以醫院通報嚴重病人之人數為計算基準。

Sheet 102年
A1: 公開類 | AF1: 編製機關 | AH1: 衛生福利部統計處
A2: 年 報 | B2: 次年2月底前填報 | AF2: 表 號 | AH2: 10551-03-01
A3: 精神衛生行政工作執行成果表
A4: 中華民國 102 年
A5: 縣市別 | B5: 轄區 總人口數 | C5: 目前管理個案數 | E5: 領具精神障礙類別手冊人數 | F5: 管理個案分級人數 | L5: 訪員 人數 | N5: 嚴重病人 人數 | P5: 訪視病人人次 | Q5: 緊急處置人數 | S5: 協助病人就醫次數 | U5: 會商選定指定保護人次數 | W5: 指定保護人次數 | Y5: 指定精神醫療機構數 | Z5: 指定精神專科 醫師人數 | AB5: 一般民眾 宣導活動 | AD5: 工作人員 在職訓練 | AF5: 相關基層人員 研習會 | AH5: 工作協調 會 議 (次) | AI5: 民眾申訴案件(件)
C6: 上年 | D6: 本年 | F6: 一級 | G6: 二級 | H6: 三級 | I6: 四級 | J6: 五級 | K6: 未分級
L7: 男 | M7: 女 | N7: 男 | O7: 女 | Q7: 男 | R7: 女 | S7: 男 | T7: 女 | U7: 男 | V7: 女 | W7: 男 | X7: 女 | Z7: 男 | AA7: 女 | AB7: 人次 | AC7: 場次 | AD7: 人次 | AE7: 場次 | AF7: 人次 | AG7: 場次
A8: 總 計 | B8: 23373517 | C8: 129837 | D8: 133662 | E8: 117529 | F8: 14264 | G8: 5964 | H8: 34578 | I8: 77640 | J8: 1189 | K8: 27 | L8: 109 | M8: 2479 | N8: 2266 | O8: 1623 | P8: 661649 | Q8: 743 | R8: 424 | S8: 3037 | T8: 1864 | U8: 93 | V8: 100 | W8: 209 | X8: 218 | Y8: 107 | Z8: 641 | AA8: 154 | AB8: 262498 | AC8: 4064 | AD8: 8057 | AE8: 777 | AF8: 33184 | AG8: 764 | AH8: 502 | AI8: 3021
A9: 新北市 | B9: 3954929 | C9: 19703 | D9: 21083 | E9: 17265 | F9: 2948 | G9: 3061 | H9: 9093 | I9: 5777 | J9: 201 | K9: 3 | L9: 10 | M9: 219 | N9: 474 | O9: 373 | P9: 101355 | Q9: 40 | R9: 30 | S9: 526 | T9: 455 | U9: 15 | V9: 7 | W9: 97 | X9: 110 | Y9: 9 | Z9: 55 | AA9: 19 | AB9: 40921 | AC9: 364 | AD9: 484 | AE9: 7 | AF9: 6312 | AG9: 87 | AH9: 63 | AI9: 542
A10: 臺北市 | B10: 2686516 | C10: 17351 | D10: 17614 | E10: 14593 | F10: 1340 | G10: 758 | H10: 11389 | I10: 4108 | J10: 16 | K10: 3 | L10: 54 | M10: 159 | N10: 149 | O10: 148 | P10: 85161 | Q10: 0 | R10: 0 | S10: 15 | T10: 20 | U10: 16 | V10: 31 | W10: 3 | X10: 7 | Y10: 9 | Z10: 109 | AA10: 19 | AB10: 56855 | AC10: 881 | AD10: 431 | AE10: 96 | AF10: 337 | AG10: 23 | AH10: 14 | AI10: 279
A11: 臺中市 | B11: 2701661 | C11: 9526 | D11: 10157 | E11: 12125 | F11: 645 | G11: 96 | H11: 1751 | I11: 7646 | J11: 17 | K11: 2 | L11: 10 | M11: 228 | N11: 28 | O11: 15 | P11: 51775 | Q11: 3 | R11: 2 | S11: 471 | T11: 214 | U11: 0 | V11: 0 | W11: 20 | X11: 12 | Y11: 16 | Z11: 72 | AA11: 25 | AB11: 11455 | AC11: 150 | AD11: 218 | AE11: 30 | AF11: 218 | AG11: 30 | AH11: 30 | AI11: 87
A12: 臺南市 | B12: 1883208 | C12: 9780 | D12: 9987 | E12: 7388 | F12: 1204 | G12: 92 | H12: 1188 | I12: 7459 | J12: 40 | K12: 4 | L12: 4 | M12: 234 | N12: 94 | O12: 68 | P12: 45791 | Q12: 0 | R12: 0 | S12: 247 | T12: 149 | U12: 9 | V12: 12 | W12: 3 | X12: 5 | Y12: 6 | Z12: 33 | AA12: 16 | AB12: 10294 | AC12: 70 | AD12: 1973 | AE12: 52 | AF12: 9128 | AG12: 156 | AH12: 67 | AI12: 889
A13: 高雄市 | B13: 2779877 | C13: 20543 | D13: 20994 | E13: 16273 | F13: 2596 | G13: 85 | H13: 2314 | I13: 15947 | J13: 52 | K13: 0 | L13: 8 | M13: 225 | N13: 864 | O13: 630 | P13: 112521 | Q13: 0 | R13: 0 | S13: 297 | T13: 209 | U13: 26 | V13: 32 | W13: 11 | X13: 14 | Y13: 11 | Z13: 92 | AA13: 22 | AB13: 27503 | AC13: 511 | AD13: 354 | AE13: 94 | AF13: 243 | AG13: 41 | AH13: 35 | AI13: 271
A14: 宜蘭縣 | B14: 458456 | C14: 3740 | D14: 3809 | E14: 4027 | F14: 377 | G14: 387 | H14: 530 | I14: 2414 | J14: 101 | K14: 0 | L14: 1 | M14: 89 | N14: 33 | O14: 15 | P14: 19522 | Q14: 2 | R14: 0 | S14: 41 | T14: 28 | U14: 9 | V14: 2 | W14: 2 | X14: 0 | Y14: 4 | Z14: 11 | AA14: 1 | AB14: 6508 | AC14: 635 | AD14: 1385 | AE14: 31 | AF14: 1402 | AG14: 125 | AH14: 12 | AI14: 21
A15: 桃園縣 | B15: 2044023 | C15: 7557 | D15: 7741 | E15: 6208 | F15: 823 | G15: 24 | H15: 694 | I15: 6161 | J15: 35 | K15: 4 | L15: 1 | M15: 141 | N15: 134 | O15: 20 | P15: 38600 | Q15: 8 | R15: 3 | S15: 8 | T15: 3 | U15: 4 | V15: 8 | W15: 4 | X15: 8 | Y15: 5 | Z15: 60 | AA15: 11 | AB15: 15570 | AC15: 97 | AD15: 387 | AE15: 13 | AF15: 1338 | AG15: 13 | AH15: 13 | AI15: 388
A16: 新竹縣 | B16: 530486 | C16: 2532 | D16: 2732 | E16: 2078 | F16: 302 | G16: 72 | H16: 681 | I16: 1573 | J16: 104 | K16: 0 | L16: 0 | M16: 113 | N16: 7 | O16: 5 | P16: 13521 | Q16: 103 | R16: 52 | S16: 35 | T16: 31 | U16: 1 | V16: 1 | W16: 2 | X16: 1 | Y16: 5 | Z16: 14 | AA16: 1 | AB16: 100 | AC16: 2 | AD16: 179 | AE16: 9 | AF16: 1219 | AG16: 29 | AH16: 21 | AI16: 9
A17: 苗栗縣 | B17: 565554 | C17: 3172 | D17: 3368 | E17: 2885 | F17: 452 | G17: 205 | H17: 361 | I17: 2313 | J17: 36 | K17: 1 | L17: 1 | M17: 109 | N17: 10 | O17: 10 | P17: 16287 | Q17: 207 | R17: 90 | S17: 207 | T17: 90 | U17: 0 | V17: 1 | W17: 0 | X17: 0 | Y17: 3 | Z17: 12 | AA17: 2 | AB17: 2312 | AC17: 53 | AD17: 190 | AE17: 3 | AF17: 5081 | AG17: 50 | AH17: 2 | AI17: 143
A18: 彰化縣 | B18: 1296013 | C18: 6217 | D18: 6391 | E18: 6602 | F18: 723 | G18: 208 | H18: 922 | I18: 4349 | J18: 189 | K18: 0 | L18: 0 | M18: 140 | N18: 121 | O18: 79 | P18: 36993 | Q18: 0 | R18: 0 | S18: 145 | T18: 84 | U18: 4 | V18: 2 | W18: 4 | X18: 8 | Y18: 6 | Z18: 32 | AA18: 3 | AB18: 7738 | AC18: 214 | AD18: 156 | AE18: 123 | AF18: 971 | AG18: 27 | AH18: 27 | AI18: 37
A19: 南投縣 | B19: 517222 | C19: 3809 | D19: 3606 | E19: 3112 | F19: 214 | G19: 56 | H19: 1046 | I19: 2290 | J19: 0 | K19: 0 | L19: 5 | M19: 96 | N19: 15 | O19: 13 | P19: 19106 | Q19: 9 | R19: 2 | S19: 78 | T19: 44 | U19: 2 | V19: 2 | W19: 21 | X19: 7 | Y19: 3 | Z19: 23 | AA19: 10 | AB19: 2671 | AC19: 58 | AD19: 127 | AE19: 27 | AF19: 182 | AG19: 18 | AH19: 15 | AI19: 100
... A30: 連江縣 | B30: 12165 | C30: 46 | D30: 46 | E30: 37 | F30: 2 | G30: 1 | H30: 13 | I30: 25 | J30: 5 | K30: 0 | L30: 1 | M30: 1 | N30: 0 | O30: 0 | P30: 200 | Q30: 0 | R30: 0 | S30: 3 | T30: 4 | U30: 0 | V30: 0 | W30: 0 | X30: 0 | Y30: 0 | Z30: 0 | AA30: 0 | AB30: 3572 | AC30: 25 | AD30: 18 | AE30: 2 | AF30: 278 | AG30: 13 | AH30: 1 | AI30: 15
A31: 填表 | G31: 審核 | U31: 主辦業務人員 | AF31: 機關長官
U32: 主辦統計人員
A33: 資料來源：依據直轄市政府及各縣市衛生局(含金門、連江縣)之資料彙編。
A34: 填表說明：1. 轄區總人口數依據內政部年底人口數。
A35: 2.本表一式二份，一份送本部心理及口腔健康司，一份自存。

Sheet 101年
A1: 公開類 | X1: 編製機關 | Z1: 行政院衛生署統計室
A2: 年 報 | B2: 次年2月底前填報 | X2: 表 號 | Z2: 1650-02-01
A3: 精神衛生行政工作執行成果表
A4: 中華民國 101 年
A5: 縣市別 | B5: 轄區 總人口數 | C5: 目前管理個案數 | E5: 領具精神障礙類別手冊人數 | F5: 管理個案分級人數 | K5: 訪員 人數 | L5: 嚴重病人人數 | M5: 訪視病人人次 | N5: 協助病人就醫次數 | O5: 會商選定指定保護人次數 | P5: 指定保護人次數 | Q5: 指定精神醫療機構數 | R5: 一般民眾 宣導活動 | T5: 工作人員 在職訓練 | V5: 相關基層人員 研習會 | X5: 工作協調 會 議 (次) | Y5: 民眾申訴案件(件) | Z5: 自殺未 遂人次 | AA5: 訪視自 殺個案 人 次
C6: 上年 | D6: 本年 | F6: 一級 | G6: 二級 | H6: 三級 | I6: 四級 | J6: 五級
R7: 人次 | S7: 場次 | T7: 人次 | U7: 場次 | V7: 人次 | W7: 場次
A8: 總 計 | B8: =SUM(B9:B30) -> 23315822 | C8: =SUM(C9:C30) -> 123617 | D8: =SUM(D9:D30) -> 129837 | E8: =SUM(E9:E30) -> 117101 | F8: =SUM(F9:F30) -> 10051 | G8: =SUM(G9:G30) -> 5171 | H8: =SUM(H9:H30) -> 35752 | I8: =SUM(I9:I30) -> 77217 | ... AA8: =SUM(AA9:AA30) -> 252650
A9: 新北市 | B9: 3939305 | C9: 18372 | D9: 19703 | E9: 16371 | F9: 2829 | G9: 2539 | H9: 9893 | I9: 4286 | J9: 156 | K9: 199 | L9: 120 | M9: 91785 | N9: 1718 | O9: 28 | P9: 120 | Q9: 8 | R9: 123748 | S9: 422 | T9: 641 | U9: 24 | V9: 678 | W9: 50 | X9: 75 | Y9: 637 | Z9: 4700 | AA9: 99461
A10: 臺北市 | B10: 2673226 | C10: 17018 | D10: 17351 | E10: 14449 | F10: 986 | G10: 614 | H10: 11339 | I10: 4399 | J10: 13 | K10: 200 | L10: 197 | M10: 64353 | N10: 326 | O10: 32 | P10: 13 | Q10: 9 | R10: 8724 | S10: 270 | T10: 247 | U10: 92 | V10: 225 | W10: 5 | X10: 24 | Y10: 257 | Z10: 2131 | AA10: 12582
A11: 臺中市 | B11: 2684893 | C11: 9673 | D11: 9526 | E11: 11547 | F11: 345 | G11: 75 | H11: 2027 | I11: 7069 | J11: 10 | K11: 218 | L11: 285 | M11: 40797 | N11: 1282 | O11: 32 | P11: 32 | Q11: 16 | R11: 10638 | S11: 150 | T11: 218 | U11: 30 | V11: 218 | W11: 30 | X11: 30 | Y11: 67 | Z11: 2721 | AA11: 16395
A12: 臺南市 | B12: 1881645 | C12: 9255 | D12: 9780 | E12: 8009 | F12: 1140 | G12: 124 | H12: 1412 | I12: 6999 | J12: 105 | K12: 225 | L12: 229 | M12: 38713 | N12: 477 | O12: 43 | P12: 8 | Q12: 6 | R12: 6971 | S12: 76 | T12: 1466 | U12: 70 | V12: 6010 | W12: 71 | X12: 149 | Y12: 477 | Z12: 2399 | AA12: 19449
A13: 高雄市 | B13: 2778659 | C13: 18759 | D13: 20543 | E13: 15591 | F13: 1278 | G13: 29 | H13: 2455 | I13: 16606 | J13: 175 | K13: 218 | L13: 1380 | M13: 87367 | N13: 420 | O13: 86 | P13: 19 | Q13: 11 | R13: 14146 | S13: 279 | T13: 250 | U13: 64 | V13: 333 | W13: 37 | X13: 63 | Y13: 273 | Z13: 3667 | AA13: 28203
A14: 宜蘭縣 | B14: 458595 | C14: 3428 | D14: 3740 | E14: 3580 | F14: 354 | G14: 328 | H14: 476 | I14: 2460 | J14: 122 | K14: 89 | L14: 53 | M14: 14946 | N14: 38 | O14: 11 | P14: 1 | Q14: 4 | R14: 63878 | S14: 393 | T14: 1246 | U14: 24 | V14: 12044 | W14: 126 | X14: 12 | Y14: 20 | Z14: 883 | AA14: 5764
A15: 桃園縣 | B15: 2030161 | C15: 7280 | D15: 7557 | E15: 7398 | F15: 473 | G15: 128 | H15: 982 | I15: 5911 | J15: 63 | K15: 137 | L15: 219 | M15: 32212 | N15: 30 | O15: 10 | P15: 10 | Q15: 5 | R15: 31010 | S15: 60 | T15: 353 | U15: 12 | V15: 691 | W15: 13 | X15: 13 | Y15: 422 | Z15: 2771 | AA15: 20929
A16: 新竹縣 | B16: 523993 | C16: 2408 | D16: 2532 | E16: 2092 | F16: 160 | G16: 61 | H16: 705 | I16: 1465 | J16: 141 | K16: 119 | L16: 21 | M16: 10295 | N16: 74 | O16: 0 | P16: 3 | Q16: 4 | R16: 2751 | S16: 34 | T16: 1208 | U16: 8 | V16: 1856 | W16: 25 | X16: 7 | Y16: 7 | Z16: 806 | AA16: 4077
A17: 苗栗縣 | B17: 563976 | C17: 3076 | D17: 3172 | E17: 2831 | F17: 314 | G17: 169 | H17: 339 | I17: 2299 | J17: 51 | K17: 110 | L17: 74 | M17: 11079 | N17: 328 | O17: 0 | P17: 13 | Q17: 3 | R17: 819 | S17: 21 | T17: 117 | U17: 3 | V17: 1864 | W17: 67 | X17: 5 | Y17: 10 | Z17: 845 | AA17: 5739
A18: 彰化縣 | B18: 1299868 | C18: 5900 | D18: 6217 | E18: 6617 | F18: 431 | G18: 92 | H18: 819 | I18: 4774 | J18: 101 | K18: 144 | L18: 162 | M18: 28879 | N18: 254 | O18: 2 | P18: 10 | Q18: 6 | R18: 3423 | S18: 81 | T18: 128 | U18: 114 | V18: 844 | W18: 26 | X18: 27 | Y18: 29 | Z18: 1659 | AA18: 8757
A19: 南投縣 | B19: 520196 | C19: 3616 | D19: 3809 | E19: 3155 | F19: 115 | G19: 71 | H19: 744 | I19: 2877 | J19: 2 | K19: 106 | L19: 24 | M19: 13024 | N19: 130 | O19: 1 | P19: 0 | Q19: 3 | R19: 2211 | S19: 36 | T19: 86 | U19: 30 | V19: 129 | W19: 14 | X19: 29 | Y19: 33 | Z19: 635 | AA19: 3597
A20: 雲林縣 | B20: 710991 | C20: 5023 | D20: 5094 | E20: 4344 | F20: 290 | G20: 98 | H20: 1451 | I20: 3114 | J20: 141 | K20: 134 | L20: 41 | M20: 17196 | N20: 447 | O20: 6 | P20: 10 | Q20: 3 | R20: 31145 | S20: 537 | T20: 223 | U20: 185 | V20: 685 | W20: 29 | X20: 67 | Y20: 48 | Z20: 964 | AA20: 6386
... A30: 連江縣 | B30: 11310 | C30: 51 | D30: 46 | E30: 44 | F30: 2 | G30: 1 | H30: 10 | I30: 29 | J30: 4 | K30: 4 | L30: 0 | M30: 219 | N30: 7 | O30: 0 | P30: 0 | Q30: 0 | R30: 4091 | S30: 14 | T30: 175 | U30: 6 | V30: 0 | W30: 0 | X30: 12 | Y30: 1 | Z30: 6 | AA30: 42
A31: 填表 | G31: 審核 | P31: 主辦業務人員 | V31: 機關長官
P32: 主辦統計人員
A33: 資料來源：依據直轄市政府及各縣市衛生局(含金門、連江縣)之資料彙編。
A34: 填表說明：1. 轄區總人口數依據內政部年底人口數。
A35: 2.本表一式二份，一份送本署醫事處，一份本署統計室自存。

Sheet 100年
A1: 公開類 | W1: 編製機關 | Y1: 行政院衛生署統計室
A2: 年 報 | B2: 次年2月底前填報 | W2: 表 號 | Y2: 1650-02-01
A3: 精神衛生行政工作執行成果表
A4: 中華民國100年
A5: 縣市別 | B5: 轄區 總人口數 | C5: 目前管理個案數 | E5: 領具精神障礙類別手冊人數 | F5: 管理個案分級人數 | K5: 訪員 人數 | L5: 嚴重病人人數 | M5: 訪視病人人次 | N5: 協助病人就醫次數 | O5: 會商選定指定保護人次數 | P5: 指定保護人次數 | Q5: 指定精神醫療機構數 | R5: 一般民眾 宣導活動 | T5: 工作人員 在職訓練 | V5: 相關基層人員 研習會 | X5: 工作協調 會 議 (次) | Y5: 民眾申訴案件(件) | Z5: 自殺未 遂人次 | AA5: 訪視自 殺個案 人 次
C6: 上年 | D6: 本年 | F6: 一級 | G6: 二級 | H6: 三級 | I6: 四級 | J6: 五級
R7: 人次 | S7: 場次 | T7: 人次 | U7: 場次 | V7: 人次 | W7: 場次
A8: 總 計 | B8: 23224912 | C8: =SUM(C9:C30) -> 119544 | D8: =SUM(D9:D30) -> 123648 | E8: =SUM(E9:E30) -> 113461 | F8: =SUM(F9:F30) -> 8263 | G8: =SUM(G9:G30) -> 4640 | H8: =SUM(H9:H30) -> 40141 | I8: =SUM(I9:I30) -> 68537 | J8: =SUM(J9:J30) -> 2023 | ... AA8: =SUM(AA9:AA30) -> 223991
A9: 新北市 | B9: 3916451 | C9: 18398 | D9: 18372 | E9: 15963 | F9: 2543 | G9: 2098 | H9: 12449 | I9: 1147 | J9: 134 | K9: 188 | L9: 452 | M9: 86766 | N9: 1095 | O9: 36 | P9: 36 | Q9: 8 | R9: 41549 | S9: 360 | T9: 599 | U9: 12 | V9: 1444 | W9: 82 | X9: 16 | Y9: 347 | Z9: 4976 | AA9: 53241
A10: 臺北市 | B10: 2650968 | C10: 16739 | D10: 17018 | E10: 14219 | F10: 560 | G10: 628 | H10: 11419 | I10: 4393 | J10: 18 | K10: 199 | L10: 350 | M10: 59704 | N10: 297 | O10: 17 | P10: 29 | Q10: 9 | R10: 16844 | S10: 376 | T10: 268 | U10: 101 | V10: 940 | W10: 16 | X10: 31 | Y10: 399 | Z10: 2098 | AA10: 8954
A11: 臺中市 | B11: 2664394 | C11: 9459 | D11: 9673 | E11: 11221 | F11: 646 | G11: 47 | H11: 2452 | I11: 6350 | J11: 178 | K11: 225 | L11: 253 | M11: 34298 | N11: 1400 | O11: - | P11: 23 | Q11: 14 | R11: 3533 | S11: 78 | T11: 225 | U11: 6 | V11: 225 | W11: 6 | X11: 30 | Y11: 11 | Z11: 2405 | AA11: 11679
A12: 臺南市 | B12: 1876960 | C12: 8915 | D12: 9255 | E12: 7614 | F12: 718 | G12: 149 | H12: 1576 | I12: 6692 | J12: 115 | K12: 228 | L12: 195 | M12: 41136 | N12: 405 | O12: 43 | P12: 43 | Q12: 6 | R12: 15887 | S12: 189 | T12: 468 | U12: 41 | V12: 758 | W12: 29 | X12: 87 | Y12: 188 | Z12: 1936 | AA12: 3933
A13: 高雄市 | B13: 2774470 | C13: 17301 | D13: 18759 | E13: 15167 | F13: 870 | G13: 25 | H13: 2770 | I13: 14663 | J13: 431 | K13: 221 | L13: 531 | M13: 76561 | N13: 879 | O13: 142 | P13: 23 | Q13: 12 | R13: 7770 | S13: 365 | T13: 195 | U13: 60 | V13: 127 | W13: 26 | X13: 33 | Y13: 249 | Z13: 13253 | AA13: 82402
A14: 宜蘭縣 | B14: 459061 | C14: 3246 | D14: 3458 | E14: 3580 | F14: 176 | G14: 179 | H14: 625 | I14: 2389 | J14: 89 | K14: 85 | L14: 45 | M14: 14423 | N14: 27 | O14: 3 | P14: 3 | Q14: 4 | R14: 74126 | S14: 329 | T14: 823 | U14: 12 | V14: 398 | W14: 24 | X14: 12 | Y14: 115 | Z14: 767 | AA14: 2657
A15: 桃園縣 | B15: 2013305 | C15: 7228 | D15: 7280 | E15: 7200 | F15: 463 | G15: 79 | H15: 1085 | I15: 5550 | J15: 94 | K15: 133 | L15: 643 | M15: 29009 | N15: 17 | O15: 9 | P15: 9 | Q15: 5 | R15: 10713 | S15: 54 | T15: 169 | U15: 13 | V15: 2529 | W15: 28 | X15: 13 | Y15: 692 | Z15: 2514 | AA15: 16403
A16: 新竹縣 | B16: 517641 | C16: 2240 | D16: 2414 | E16: 1990 | F16: 167 | G16: 48 | H16: 733 | I16: 1379 | J16: 87 | K16: 107 | L16: 40 | M16: 9001 | N16: 82 | O16: 3 | P16: 1 | Q16: 4 | R16: 351 | S16: 8 | T16: 1032 | U16: 16 | V16: 163 | W16: 8 | X16: 7 | Y16: 4 | Z16: 820 | AA16: 4256
A17: 苗栗縣 | B17: 562010 | C17: 3012 | D17: 3076 | E17: 2763 | F17: 156 | G17: 48 | H17: 369 | I17: 2426 | J17: 77 | K17: 105 | L17: 119 | M17: 9331 | N17: 357 | O17: - | P17: - | Q17: 3 | R17: 3969 | S17: 90 | T17: 1271 | U17: 26 | V17: 2248 | W17: 31 | X17: 1 | Y17: 15 | Z17: 898 | AA17: 5907
A18: 彰化縣 | B18: 1303039 | C18: 5628 | D18: 5900 | E18: 6213 | F18: 290 | G18: 77 | H18: 956 | I18: 4509 | J18: 66 | K18: 140 | L18: 183 | M18: 26950 | N18: 238 | O18: 7 | P18: 7 | Q18: 6 | R18: 11517 | S18: 213 | T18: 221 | U18: 176 | V18: 496 | W18: 27 | X18: 41 | Y18: 17 | Z18: 1500 | AA18: 8471
A19: 南投縣 | B19: 522807 | C19: 3270 | D19: 3616 | E19: 3064 | F19: 223 | G19: 78 | H19: 730 | I19: 2567 | J19: 5 | K19: 107 | L19: 45 | M19: 14594 | N19: 111 | O19: - | P19: - | Q19: 3 | R19: 3107 | S19: 76 | T19: 246 | U19: 31 | V19: 164 | W19: 17 | X19: 35 | Y19: 49 | Z19: 599 | AA19: 2682
A20: 雲林縣 | B20: 713556 | C20: 4899 | D20: 5023 | E20: 4214 | F20: 277 | G20: 120 | H20: 1596 | I20: 2885 | J20: 145 | K20: 139 | L20: 30 | M20: 15318 | N20: 464 | O20: 6 | P20: 20 | Q20: 3 | R20: 35274 | S20: 431 | T20: 207 | U20: 138 | V20: 342 | W20: 35 | X20: 28 | Y20: 103 | Z20: 995 | AA20: 3250
A21: 嘉義縣 | B21: 537942 | C21: 3694 | D21: 3817 | E21: 3241 | F21: 135 | G21: 103 | H21: 597 | I21: 2916 | J21: 66 | K21: 127 | L21: 213 | M21: 11038 | N21: 145 | O21: 10 | P21: 27 | Q21: 3 | R21: 831 | S21: 18 | T21: 101 | U21: 1 | V21: 135 | W21: 1 | X21: 8 | Y21: 192 | Z21: 422 | AA21: 1188
A22: 屏東縣 | B22: 864529 | C22: 5350 | D22: 5380 | E22: 5125 | F22: 259 | G22: 31 | H22: 514 | I22: 4318 | J22: 249 | K22: 191 | L22: 253 | M22: 18603 | N22: 780 | O22: 1 | P22: 17 | Q22: 5 | R22: 25570 | S22: 411 | T22: 1899 | U22: 35 | V22: 416 | W22: 6 | X22: 8 | Y22: 42 | Z22: 844 | AA22: 869
A23: 臺東縣 | B23: 228290 | C23: 1624 | D23: 1633 | E23: 1378 | F23: 40 | G23: 13 | H23: 150 | I23: 1424 | J23: 6 | K23: 100 | L23: 62 | M23: 8697 | N23: 121 | O23: - | P23: 6 | Q23: 2 | R23: 1480 | S23: 36 | T23: 74 | U23: 30 | V23: 198 | W23: 12 | X23: 11 | Y23: 1 | Z23: 460 | AA23: 2634
A24: 花蓮縣 | B24: 336838 | C24: 1687 | D24: 2030 | E24: 3795 | F24: 236 | G24: 102 | H24: 290 | I24: 1349 | J24: 49 | K24: 90 | L24: 54 | M24: 7776 | N24: 160 | O24: - | P24: 13 | Q24: 7 | R24: 4016 | S24: 65 | T24: 119 | U24: 100 | V24: 53 | W24: 17 | X24: 118 | Y24: 73 | Z24: 479 | AA24: 3285
A25: 澎湖縣 | B25: 97157 | C25: 616 | D25: 638 | E25: 632 | F25: 49 | G25: 30 | H25: 338 | I25: 211 | J25: 10 | K25: 34 | L25: 7 | M25: 3046 | N25: 12 | O25: 1 | P25: - | Q25: 1 | R25: 4964 | S25: 106 | T25: 73 | U25: 7 | V25: 248 | W25: 4 | X25: 7 | Y25: 1 | Z25: 100 | AA25: 385
A26: 基隆市 | B26: 379927 | C26: 3028 | D26: 3116 | E26: 2747 | F26: 325 | G26: 706 | H26: 847 | I26: 1215 | J26: 23 | K26: 36 | L26: 24 | M26: 14367 | N26: 74 | O26: 6 | P26: 6 | Q26: 2 | R26: 16859 | S26: 81 | T26: 195 | U26: 9 | V26: 1066 | W26: 5 | X26: 6 | Y26: 52 | Z26: 646 | AA26: 4171
A27: 新竹市 | B27: 420052 | C27: 1098 | D27: 1088 | E27: 1490 | F27: 32 | G27: 15 | H27: 191 | I27: 721 | J27: 128 | K27: 22 | L27: 42 | M27: 3707 | N27: 381 | O27: 1 | P27: 3 | Q27: 2 | R27: 5350 | S27: 15 | T27: 195 | U27: 1 | V27: 608 | W27: 6 | X27: 12 | Y27: 20 | Z27: 481 | AA27: 6143
A28: 嘉義市 | B28: 271526 | C28: 1605 | D28: 1622 | E28: 1406 | F28: 55 | G28: 26 | H28: 253 | I28: 1262 | J28: 26 | K28: 17 | L28: 33 | M28: 5256 | N28: 50 | O28: 5 | P28: 5 | Q28: 3 | R28: 14086 | S28: 43 | T28: 520 | U28: 14 | V28: 1298 | W28: 13 | X28: 16 | Y28: 72 | Z28: 314 | AA28: 1410
A29: 金門縣 | B29: 103883 | C29: 452 | D29: 474 | E29: 434 | F29: 42 | G29: 37 | H29: 199 | I29: 169 | J29: 27 | K29: 5 | L29: 1 | M29: 427 | N29: 6 | O29: - | P29: 1 | Q29: 1 | R29: 1207 | S29: 8 | T29: 178 | U29: 3 | V29: 51 | W29: 1 | X29: 2 | Y29: - | Z29: 5 | AA29: 71
A30: 連江縣 | B30: 10106 | C30: 55 | D30: 6 | E30: 5 | F30: 1 | G30: 1 | H30: 2 | I30: 2 | J30: - | K30: - | L30: - | M30: 1 | N30: - | O30: - | P30: - | Q30: - | R30: 230 | S30: 2 | T30: - | U30: - | V30: - | W30: - | X30: - | Y30: - | Z30: - | AA30: -
A31: 填表 | G31: 審核 | O31: 主辦業務人員 | U31: 機關長官
O32: 主辦統計人員
A33: 資料來源：依據直轄市政府及各縣市衛生局(含金門、連江縣)之資料彙編。
A34: 填表說明： 轄區總人口數依據內政部年底人口數。

Sheet 99年
A1: 公開類 | W1: 編製機關 | Y1: 行政院衛生署統計室
A2: 年 報 | B2: 次年2月底前填報 | W2: 表 號 | Y2: 1650-02-01
A3: 精神衛生行政工作執行成果表
A4: 中華民國 99 年
A5: 縣市別 | B5: 轄區 總人口數 | C5: 目前管理個案數 | E5: 領具精神障礙類別手冊人數 | F5: 管理個案分級人數 | K5: 訪員 人數 | L5: 嚴重病人人數 | M5: 訪視病患人次 | N5: 協助病患就醫次數 | O5: 指定保護人次數 | P5: 指定精神醫療機構數 | Q5: 一般民眾 宣導活動 | S5: 工作人員 在職訓練 | U5: 相關基層人員 研習會 | W5: 工作協調 (次) | X5: 民眾申訴案件(件) | Y5: 自殺未 遂人次 | Z5: 訪視自 殺個案 人 次
C6: 上年 | D6: 本年 | F6: 一級 | G6: 二級 | H6: 三級 | I6: 四級 | J6: 五級
Q7: 人次 | R7: 場次 | S7: 人次 | T7: 場次 | U7: 人次 | V7: 場次
A8: 總 計 | B8: =SUM(B9:B30) -> 23162123 | C8: =SUM(C9:C30) -> 101746 | D8: =SUM(D9:D30) -> 119544 | E8: =SUM(E9:E30) -> 144610 | F8: =SUM(F9:F30) -> 10333 | G8: =SUM(G9:G30) -> 4723 | H8: =SUM(H9:H30) -> 39117 | I8: =SUM(I9:I30) -> 62933 | ... Z8: =SUM(Z9:Z30) -> 114248
A9: 新北市 | B9: 3897367 | C9: 12332 | D9: 18398 | E9: 15075 | F9: 3197 | G9: 1901 | H9: 10939 | I9: 2274 | J9: 86 | K9: 277 | L9: 224 | M9: 74325 | N9: 998 | O9: 67 | P9: 7 | Q9: 53719 | R9: 239 | S9: 871 | T9: 44 | U9: 36 | V9: 1 | W9: 10 | X9: 213 | Y9: 4324 | Z9: 23043
A10: 臺北市 | B10: 2618772 | C10: 16125 | D10: 16739 | E10: 14068 | F10: 781 | G10: 756 | H10: 11205 | I10: 3966 | J10: 26 | K10: 203 | L10: 255 | M10: 57769 | N10: 337 | O10: 34 | P10: 11 | Q10: 24097 | R10: 386 | S10: 344 | T10: 134 | U10: 160 | V10: 10 | W10: 16 | X10: 275 | Y10: 2526 | Z10: 4984
A11: 臺中市 | B11: 2648419 | C11: 10059 | D11: 9459 | E11: 10807 | F11: 326 | G11: 54 | H11: 2699 | I11: 6038 | J11: 342 | K11: 253 | L11: 661 | M11: 38131 | N11: 879 | O11: 9 | P11: 15 | Q11: 7468 | R11: 111 | S11: 64 | T11: 2 | U11: 269 | V11: 9 | W11: 22 | X11: 168 | Y11: 3291 | Z11: 7045
A12: 臺南市 | B12: 1873794 | C12: 7366 | D12: 8915 | E12: 7650 | F12: 619 | G12: 163 | H12: 1573 | I12: 6394 | J12: 166 | K12: 244 | L12: 236 | M12: 44189 | N12: 476 | O12: 54 | P12: 6 | Q12: 4763 | R12: 61 | S12: 868 | T12: 35 | U12: 236 | V12: 9 | W12: 26 | X12: 190 | Y12: 1576 | Z12: 6532
A13: 高雄市 | B13: 2773483 | C13: 15637 | D13: 17301 | E13: 14698 | F13: 1977 | G13: 103 | H13: 2702 | I13: 11971 | J13: 540 | K13: 223 | L13: 645 | M13: 49323 | N13: 3130 | O13: 70 | P13: 12 | Q13: 7130 | R13: 51 | S13: 483 | T13: 14 | U13: 474 | V13: 28 | W13: 12 | X13: 223 | Y13: 5504 | Z13: 27226
A14: 宜蘭縣 | B14: 460486 | C14: 2830 | D14: 3246 | E14: 3531 | F14: 199 | G14: 139 | H14: 715 | I14: 2154 | J14: 42 | K14: 82 | L14: 54 | M14: 13406 | N14: 66 | O14: 603 | P14: 4 | Q14: 72237 | R14: 371 | S14: 728 | T14: 7 | U14: 353 | V14: 12 | W14: 8 | X14: 126 | Y14: 860 | Z14: 1606
A15: 桃園縣 | B15: 2002060 | C15: 2462 | D15: 7228 | E15: 6935 | F15: 839 | G15: 261 | H15: 1056 | I15: 4757 | J15: 315 | K15: 135 | L15: 163 | M15: 41940 | N15: 26 | O15: 17 | P15: 5 | Q15: 8537 | R15: 108 | S15: 380 | T15: 26 | U15: 1070 | V15: 26 | W15: 20 | X15: 56 | Y15: 2528 | Z15: 9314
A16: 新竹縣 | B16: 513015 | C16: 2102 | D16: 2240 | E16: 1917 | F16: 77 | G16: 42 | H16: 722 | I16: 1288 | J16: 111 | K16: 99 | L16: 69 | M16: 9377 | N16: 128 | O16: 3 | P16: 4 | Q16: 351 | R16: 6 | S16: 149 | T16: 8 | U16: 204 | V16: 21 | W16: 2 | X16: 5 | Y16: 679 | Z16: 3033
A17: 苗栗縣 | B17: 560968 | C17: 2715 | D17: 3012 | E17: 2690 | F17: 135 | G17: 25 | H17: 429 | I17: 2374 | J17: 48 | K17: 112 | L17: 71 | M17: 11491 | N17: 480 | O17: 9 | P17: 3 | Q17: 3473 | R17: 84 | S17: 150 | T17: 3 | U17: 2173 | V17: 55 | W17: 3 | X17: 6 | Y17: 926 | Z17: 5188
A18: 彰化縣 | B18: 1307286 | C18: 5564 | D18: 5628 | E18: 6092 | F18: 188 | G18: 96 | H18: 1241 | I18: 4028 | J18: 38 | K18: 141 | L18: 148 | M18: 26139 | N18: 298 | O18: 6 | P18: 6 | Q18: 7639 | R18: 166 | S18: 272 | T18: 261 | U18: 97 | V18: 26 | W18: 39 | X18: 63 | Y18: 1193 | Z18: 4779
A19: 南投縣 | B19: 526491 | C19: 3149 | D19: 3270 | E19: 2679 | F19: 109 | G19: 64 | H19: 790 | I19: 2297 | J19: 10 | K19: 107 | L19: 72 | M19: 11269 | N19: 122 | O19: 2 | P19: 3 | Q19: 5528 | R19: 112 | S19: 155 | T19: 45 | U19: 632 | V19: 24 | W19: 17 | X19: 14 | Y19: 663 | Z19: 1986
A20: 雲林縣 | B20: 717653 | C20: 4676 | D20: 4899 | E20: 4205 | F20: 222 | G20: 169 | H20: 1715 | I20: 2643 | J20: 150 | K20: 138 | L20: 36 | M20: 14877 | N20: 415 | O20: 5 | P20: 3 | Q20: 28045 | R20: 1026 | S20: 260 | T20: 108 | U20: 289 | V20: 15 | W20: 61 | X20: 114 | Y20: 707 | Z20: 2744
... A24: 花蓮縣 | B24: 338805 | C24: 1124 | D24: 1687 | E24: 3760 | F24: 375 | G24: 27 | H24: 269 | I24: 975 | J24: 41 | K24: 82 | L24: 14 | M24: 5579 | N24: 144 | O24: 4 | P24: 5 | Q24: 4596 | R24: 119 | S24: 158 | T24: 116 | U24: 1154 | V24: 14 | W24: 115 | X24: 16 | Y24: 582 | Z24: 2490
A25: 澎湖縣 | B25: 96918 | C25: 543 | D25: 616 | E25: 562 | F25: 65 | G25: 18 | H25: 255 | I25: 277 | J25: 11 | K25: 32 | L25: 5 | M25: 2930 | N25: 17 | O25: 1 | P25: 1 | Q25: 6240 | R25: 139 | S25: 397 | T25: 8 | U25: 286 | V25: 4 | W25: 3 | Y25: 106 | Z25: 438
A26: 基隆市 | B26: 384134 | C26: 2872 | D26: 3028 | E26: 2511 | F26: 451 | G26: 665 | H26: 594 | I26: 1301 | J26: 17 | K26: 35 | L26: 27 | M26: 16198 | N26: 9 | O26: 27 | P26: 2 | Q26: 13995 | R26: 55 | S26: 444 | T26: 32 | U26: 565 | V26: 15 | W26: 24 | X26: 6 | Y26: 529 | Z26: 2805
A27: 新竹市 | B27: 415344 | C27: 923 | D27: 1098 | E27: 1480 | F27: 47 | G27: 24 | H27: 237 | I27: 678 | J27: 112 | K27: 24 | L27: 40 | M27: 3934 | N27: 343 | O27: 4 | P27: 2 | Q27: 5312 | R27: 21 | S27: 126 | T27: 2 | U27: 1919 | V27: 15 | W27: 12 | X27: 27 | Y27: 472 | Z27: 7937
A28: 嘉義市 | B28: 272390 | C28: 1527 | D28: 1605 | E28: 1409 | F28: 103 | G28: 54 | H28: 324 | I28: 1089 | J28: 35 | K28: 17 | L28: 68 | M28: 6176 | N28: 85 | O28: 10 | P28: 4 | Q28: 24098 | R28: 83 | S28: 632 | T28: 18 | U28: 1597 | V28: 25 | W28: 20 | X28: 114 | Y28: 270 | Z28: 383
A29: 金門縣 | B29: 97364 | C29: 433 | D29: 452 | E29: 423 | F29: 37 | G29: 32 | H29: 150 | I29: 224 | J29: 9 | K29: 5 | L29: 6 | M29: 1813 | N29: - | O29: - | P29: 1 | Q29: 1441 | R29: 27 | S29: 441 | T29: 15 | U29: 164 | V29: 7 | W29: 5 | X29: 1 | Y29: 71 | Z29: 214
A30: 連江縣 | B30: 9944 | C30: 55 | D30: 55 | E30: 40 | F30: 3 | G30: 3 | H30: 11 | I30: 36 | J30: 1 | K30: 3 | L30: 92 | M30: 4 | N30: - | O30: - | P30: 3 | Q30: 2397 | R30: 7 | S30: 35 | T30: 5 | U30: 25 | V30: 1 | W30: 4 | X30: - | Y30: 8 | Z30: 28
A31: 填表 | G31: 審核 | O31: 主辦業務人員 | U31: 機關長官
O32: 主辦統計人員
A33: 資料來源：依據直轄市政府及各縣市衛生局(含金門、連江縣)之資料彙編。
A34: 填表說明：1. 轄區總人口數依據內政部年底人口數。
A35: 2.本表一式二份，一份送本署醫事處，一份本署統計室自存。

Sheet 98年
A1: 公開類 | W1: 編製機關 | Y1: 行政院衛生署統計室
A2: 年 報 | B2: 次年2月底前填報 | W2: 表 號 | Y2: 1650-02-01
A3: 精神衛生行政工作執行成果表
A4: 中華民國 98 年
A5: 縣市別 | B5: 轄區 總人口數 | C5: 目前管理個案數 | E5: 領具精神障礙類別手冊人數 | F5: 管理個案分級人數 | K5: 訪員 人數 | L5: 訪視病患人次 | M5: 協助病患就醫次數 | N5: 指定保護人次數 | O5: 精神病患家屬 座談會 | Q5: 一般民眾 宣導活動 | S5: 工作人員 在職訓練 | U5: 相關基層人員 研習會 | W5: 工作協調 (次) | X5: 民眾申訴案件(件) | Y5: 自殺未 遂人次 | Z5: 訪視自 殺個案 人 次
C6: 上年97 | D6: 本年98 | F6: 一級 | G6: 二級 | H6: 三級 | I6: 四級 | J6: 五級
O7: 人次 | P7: 場次 | Q7: 人次 | R7: 場次 | S7: 人次 | T7: 場次 | U7: 人次 | V7: 場次
A8: 總 計 | B8: =SUM(B9:B33) -> 23119772 | C8: =SUM(C9:C33) -> 98542 | D8: =SUM(D9:D33) -> 104765 | E8: =SUM(E9:E33) -> 101959 | F8: =SUM(F9:F33) -> 6555 | G8: =SUM(G9:G33) -> 3753 | H8: =SUM(H9:H33) -> 39111 | I8: =SUM(I9:I33) -> 50510 | ... Z8: =SUM(Z9:Z33) -> 57420
A9: 台北市 | B9: 2607428 | C9: 15327 | D9: 16125 | E9: 13648 | F9: 559 | G9: 897 | H9: 10662 | I9: 3973 | J9: 34 | K9: 184 | L9: 51400 | M9: 272 | N9: 12 | O9: - | P9: - | Q9: 22747 | R9: 431 | S9: 664 | T9: 100 | U9: 99 | V9: 6 | W9: 3 | X9: 470 | Y9: 2418 | Z9: 2343
A10: 高雄市 | B10: 1527914 | C10: 8079 | D10: 9520 | E10: 7890 | F10: 685 | G10: 74 | H10: 1600 | I10: 6529 | J10: 632 | K10: 70 | L10: 36754 | M10: 42 | N10: 4 | O10: - | P10: - | Q10: 7758 | R10: 57 | S10: 36 | T10: 34 | U10: 19 | V10: 18 | W10: 13 | X10: 153 | Y10: 1738 | Z10: 10519
A11: 台北縣 | B11: 3873653 | C11: 12171 | D11: 13879 | E11: 14679 | F11: 1674 | G11: 1008 | H11: 10652 | I11: 133 | J11: 412 | K11: 302 | L11: 45854 | M11: 766 | N11: 23 | O11: 752 | P11: 29 | Q11: 30952 | R11: 34 | S11: 687 | T11: 11 | U11: 1248 | V11: 3 | W11: 4 | X11: 153 | Y11: 3810 | Z11: 15094
A12: 宜蘭縣 | B12: 461625 | C12: 2746 | D12: 2830 | E12: 3137 | F12: 255 | G12: 187 | H12: 519 | I12: 1614 | J12: 255 | K12: 93 | L12: 8467 | M12: 91 | N12: - | O12: 1147 | P12: 23 | Q12: 28741 | R12: 145 | S12: - | T12: - | U12: 167 | V12: 7 | W12: 8 | X12: 91 | Y12: 937 | Z12: 1507
A13: 桃園縣 | B13: 1978782 | C13: 1709 | D13: 2462 | E13: 1953 | F13: 398 | G13: 41 | H13: 430 | I13: 1507 | J13: 86 | K13: 139 | L13: 9848 | M13: 35 | N13: 13 | O13: - | P13: - | Q13: 8360 | R13: 102 | S13: 460 | T13: 45 | U13: 1780 | V13: 33 | W13: 50 | X13: 83 | Y13: 5 | Z13: 15
A14: 新竹縣 | B14: 510882 | C14: 2223 | D14: 2102 | E14: 1856 | F14: 78 | G14: 42 | H14: 624 | I14: 1233 | J14: 125 | K14: 99 | L14: 9376 | M14: 357 | N14: 2 | O14: 580 | P14: 49 | Q14: 2919 | R14: 24 | S14: 189 | T14: 47 | U14: 152 | V14: 19 | W14: 5 | X14: 18 | Y14: 672 | Z14: 1438
A15: 苗栗縣 | B15: 561744 | C15: 2525 | D15: 2715 | E15: 2568 | F15: 68 | G15: 27 | H15: 496 | I15: 2077 | J15: 45 | K15: 119 | L15: 8185 | M15: 286 | N15: 107 | O15: 107 | P15: 3 | Q15: 152 | R15: 5 | S15: 300 | T15: 3 | U15: 3986 | V15: 161 | W15: 6 | X15: 6 | Y15: 795 | Z15: 906
A16: 台中縣 | B16: 1562126 | C16: 6247 | D16: 7019 | E16: 6686 | F16: 147 | G16: 65 | H16: 1937 | I16: 4584 | J16: 286 | K16: 168 | L16: 6975 | M16: 302 | N16: 5 | O16: 917 | P16: 22 | Q16: 4207 | R16: 110 | S16: 32 | T16: 1 | U16: 32 | V16: 1 | W16: 22 | X16: 4 | Y16: 1520 | Z16: 2974
A17: 彰化縣 | B17: 1312467 | C17: 6966 | D17: 5564 | E17: 5846 | F17: 103 | G17: 90 | H17: 1638 | I17: 3694 | J17: 39 | K17: 146 | L17: 25145 | M17: 200 | N17: 7 | O17: - | P17: - | Q17: 6627 | R17: 138 | S17: 152 | T17: 128 | U17: - | V17: - | W17: 27 | X17: 50 | Y17: 1050 | Z17: 2684
A18: 南投縣 | B18: 530824 | C18: 3117 | D18: 3149 | E18: 2856 | F18: 72 | G18: 51 | H18: 934 | I18: 2019 | J18: 73 | K18: 101 | L18: 9760 | M18: 88 | N18: 3 | O18: - | P18: - | Q18: 7848 | R18: 105 | S18: 147 | T18: 13 | U18: 345 | V18: 18 | W18: 16 | X18: 33 | Y18: 615 | Z18: 934
A19: 雲林縣 | B19: 722795 | C19: 4486 | D19: 4676 | E19: 4166 | F19: 117 | G19: 261 | H19: 1765 | I19: 2209 | J19: 324 | K19: 141 | L19: 14794 | M19: 459 | N19: 1 | O19: 189 | P19: 10 | Q19: 32273 | R19: 1803 | S19: 241 | T19: 144 | U19: 312 | V19: 70 | W19: 67 | X19: 236 | Y19: 702 | Z19: 1814
A20: 嘉義縣 | B20: 547716 | C20: 3356 | D20: 3464 | E20: 3180 | F20: 144 | G20: 108 | H20: 827 | I20: 2380 | J20: 5 | K20: 103 | L20: 11567 | M20: 161 | N20: 5 | O20: - | P20: - | Q20: 1606 | R20: 25 | S20: 513 | T20: 80 | U20: 280 | V20: 3 | W20: 86 | X20: 264 | Y20: 468 | Z20: 721
A21: 台南縣 | B21: 1104346 | C21: 5249 | D21: 5141 | E21: 5141 | F21: 381 | G21: 227 | H21: 1388 | I21: 3145 | J21: - | K21: 205 | L21: 22256 | M21: 271 | N21: 9 | O21: 315 | P21: 6 | Q21: 50000 | R21: 46 | S21: 85 | T21: 1 | U21: 330 | V21: 4 | W21: 1 | X21: 18 | Y21: 653 | Z21: 1175
A22: 高雄縣 | B22: 1242973 | C22: 5770 | D22: 6117 | E22: 6457 | F22: 282 | G22: 20 | H22: 2067 | I22: 3343 | J22: 405 | K22: 155 | L22: 21437 | M22: 480 | N22: 12 | O22: 62 | P22: 5 | Q22: 764 | R22: 13 | S22: 264 | T22: 4 | U22: 431 | V22: 4 | W22: 3 | X22: 7 | Y22: 1511 | Z22: 1524
A23: 屏東縣 | B23: 882640 | C23: 4368 | D23: 4222 | E23: 4561 | F23: 275 | G23: 28 | H23: 486 | I23: 2720 | J23: 712 | K23: 289 | L23: 8932 | M23: 736 | N23: 11 | O23: - | P23: - | Q23: 7951 | R23: 196 | S23: 496 | T23: 8 | U23: 85 | V23: 2 | W23: - | X23: 98 | Y23: 801 | Z23: 953
A24: 台東縣 | B24: 232497 | C24: 1490 | D24: 1580 | E24: 1356 | F24: 26 | G24: 20 | H24: 282 | I24: 1248 | J24: 4 | K24: 112 | L24: 5675 | M24: 89 | N24: 2 | O24: 630 | P24: 6 | Q24: 1969 | R24: 45 | S24: 387 | T24: 19 | U24: 349 | V24: 15 | W24: 15 | X24: 5 | Y24: 318 | Z24: 332
A25: 花蓮縣 | B25: 340964 | C25: 1147 | D25: 1124 | E25: 3737 | F25: 32 | G25: 16 | H25: 247 | I25: 753 | J25: 76 | K25: 82 | L25: 3240 | M25: 129 | N25: 3 | O25: 224 | P25: 14 | Q25: 6811 | R25: 70 | S25: 144 | T25: 115 | U25: 115 | V25: 11 | W25: 77 | X25: 31 | Y25: 647 | Z25: 2667
A26: 澎湖縣 | B26: 96210 | C26: 526 | D26: 543 | E26: 533 | F26: 28 | G26: 10 | H26: 265 | I26: 223 | J26: 16 | K26: 47 | L26: 1615 | M26: 32 | N26: 1 | O26: 208 | P26: 6 | Q26: 5162 | R26: 101 | S26: 209 | T26: 6 | U26: 412 | V26: 6 | W26: 2 | X26: - | Y26: 96 | Z26: 268
A27: 基隆市 | B27: 388321 | C27: 2395 | D27: 2872 | E27: 2400 | F27: 559 | G27: 452 | H27: 451 | I27: 1395 | J27: 15 | K27: 38 | L27: 12064 | M27: 43 | N27: 28 | O27: - | P27: - | Q27: 21050 | R27: 71 | S27: 596 | T27: 22 | U27: 828 | V27: 13 | W27: 60 | X27: 7 | Y27: 478 | Z27: 2225
A28: 新竹市 | B28: 411587 | C28: 903 | D28: 923 | E28: 1377 | F28: 34 | G28: 33 | H28: 287 | I28: 461 | J28: 108 | K28: 23 | L28: 3112 | M28: 276 | N28: 1 | O28: 505 | P28: 15 | Q28: 6910 | R28: 23 | S28: 830 | T28: 5 | U28: 136 | V28: 6 | W28: 6 | X28: 33 | Y28: 445 | Z28: 4561
A29: 台中市 | B29: 1073635 | C29: 2494 | D29: 3040 | E29: 3493 | F29: 312 | G29: 27 | H29: 502 | I29: 1655 | J29: 544 | K29: 66 | L29: 11437 | M29: 1080 | N29: 3 | O29: 287 | P29: 8 | Q29: 4850 | R29: 30 | S29: 557 | T29: 5 | U29: 335 | V29: 12 | W29: 2 | X29: 76 | Y29: 976 | Z29: 1126
A30: 嘉義市 | B30: 273861 | C30: 1315 | D30: 1527 | E30: 1300 | F30: 104 | G30: 28 | H30: 396 | I30: 948 | J30: 51 | K30: 17 | L30: 6418 | M30: 58 | N30: 8 | O30: 2850 | P30: 8 | Q30: 18880 | R30: 62 | S30: 933 | T30: 16 | U30: 1374 | V30: 17 | W30: 20 | X30: 71 | Y30: 312 | Z30: 862
A31: 台南市 | B31: 771060 | C31: 3422 | D31: 3683 | E31: 2709 | F31: 185 | G31: 5 | H31: 461 | I31: 2458 | J31: 574 | K31: 39 | L31: 14477 | M31: 175 | N31: 10 | O31: - | P31: - | Q31: 9052 | R31: 107 | S31: 257 | T31: 30 | U31: 308 | V31: 6 | W31: 14 | X31: 94 | Y31: 605 | Z31: 605
A32: 金門縣 | B32: 93803 | C32: 462 | D32: 433 | E32: 396 | F32: 36 | G32: 33 | H32: 176 | I32: 177 | J32: 11 | K32: 5 | L32: 1201 | M32: - | N32: 1 | O32: 160 | P32: 3 | Q32: 208 | R32: 5 | S32: 75 | T32: 6 | U32: 8 | V32: 125 | W32: 10 | X32: - | Y32: 64 | Z32: 166
A33: 連江縣 | B33: 9919 | C33: 49 | D33: 55 | E33: 34 | F33: 1 | G33: 3 | H33: 19 | I33: 32 | J33: - | K33: 3 | L33: 107 | M33: 3 | N33: 1 | O33: - | P33: - | Q33: 2100 | R33: 2 | S33: 1 | T33: 1 | U33: 103 | V33: 4 | W33: 2 | X33: - | Y33: 6 | Z33: 7
A34: 填表 | G34: 審核 | N34: 主辦業務人員 | U34: 機關長官
N35: 主辦統計人員
A36: 資料來源：依據直轄市政府及各縣市衛生局(含金門、連江縣)之資料彙編。
A37: 填表說明：1. 轄區總人口數依據內政部年底人口數。
A38: 2.本表一式二份，一份送本署醫事處，一份本署統計室自存。

Sheet 97年
A1: 公開類 | W1: 編製機關 | Y1: 行政院衛生署統計室
A2: 年 報 | B2: 次年2月底前填報 | W2: 表 號 | Y2: 1650-02-01
A3: 精神衛生行政工作執行成果表(修正)
A4: 中華民國 97 年
A5: 縣市別 | B5: 轄區 總人口數 | C5: 目前管理個案數 | E5: 領具精神障礙類別手冊人數 | F5: 管理個案分級人數 | K5: 訪員 人數 | L5: 訪視病患人次 | M5: 協助病患就醫次數 | N5: 指定保護人次數 | O5: 精神病患家屬 座談會 | Q5: 一般民眾 宣導活動 | S5: 工作人員 在職訓練 | U5: 相關基層人員 研習會 | W5: 工作協調 (次) | X5: 民眾申訴案件(件) | Y5: 自殺未 遂人次 | Z5: 訪視自 殺個案 人 次
C6: 上年 | D6: 本年 | F6: 一級 | G6: 二級 | H6: 三級 | I6: 四級 | J6: 五級
O7: 人次 | P7: 場次 | Q7: 人次 | R7: 場次 | S7: 人次 | T7: 場次 | U7: 人次 | V7: 場次
A8: 總 計 | B8: =SUM(B9:B33) -> 23037031 | C8: =SUM(C9:C33) -> 91665 | D8: =SUM(D9:D33) -> 99115 | E8: =SUM(E9:E33) -> 91622 | F8: =SUM(F9:F33) -> 4331 | G8: =SUM(G9:G33) -> 5121 | H8: =SUM(H9:H33) -> 36194 | I8: =SUM(I9:I33) -> 43559 | ... Z8: =SUM(Z9:Z33) -> 41437
A9: 台北市 | B9: 2622923 | C9: 15277 | D9: 15327 | E9: 12999 | F9: 411 | G9: 843 | H9: 10382 | I9: 3672 | J9: 19 | K9: 174 | L9: 39558 | M9: 305 | N9: 3 | O9: 662 | P9: 149 | Q9: 37039 | R9: 620 | S9: 1211 | T9: 154 | U9: 563 | V9: 3 | W9: 39 | X9: 280 | Y9: 1723 | Z9: 1604
A10: 高雄市 | B10: 1525642 | C10: 7290 | D10: 8079 | E10: 7381 | F10: 81 | G10: 69 | H10: 1455 | I10: 5838 | J10: 636 | K10: 80 | L10: 19752 | M10: 61 | N10: 0 | O10: 21 | P10: 1 | Q10: 4290 | R10: 35 | S10: 104 | T10: 37 | U10: 43 | V10: 24 | W10: 24 | X10: 116 | Y10: 554 | Z10: 680
A11: 台北縣 | B11: 3833730 | C11: 9372 | D11: 12332 | E11: 12999 | F11: 795 | G11: 1464 | H11: 9594 | I11: 14 | J11: 465 | K11: 302 | L11: 36750 | M11: 656 | N11: 1 | O11: 764 | P11: 29 | Q11: 18292 | R11: 125 | S11: 427 | T11: 4 | U11: 286 | V11: 14 | W11: 11 | X11: 70 | Y11: 3810 | Z11: 15094
A12: 宜蘭縣 | B12: 460902 | C12: 2612 | D12: 2746 | E12: 3660 | F12: 128 | G12: 252 | H12: 476 | I12: 1555 | J12: 335 | K12: 77 | L12: 7831 | M12: 143 | N12: - | O12: 126 | P12: 5 | Q12: 31400 | R12: 185 | S12: 1360 | T12: 16 | U12: 153 | V12: 3 | W12: 7 | X12: 116 | Y12: 887 | Z12: 1135
A13: 桃園縣 | B13: 1958686 | C13: 1973 | D13: 1709 | E13: 1398 | F13: 18 | G13: 35 | H13: 281 | I13: 1048 | J13: 326 | K13: 142 | L13: 4645 | M13: 24 | N13: - | O13: 441 | P13: 13 | Q13: 4458 | R13: 85 | S13: 271 | T13: 19 | U13: 560 | V13: 10 | W13: 11 | X13: 52 | Y13: - | Z13: -
A14: 新竹縣 | B14: 503273 | C14: 1762 | D14: 2223 | E14: 1676 | F14: 156 | G14: 22 | H14: 251 | I14: 1140 | J14: 295 | K14: 94 | L14: 2139 | M14: 217 | N14: 1 | O14: 71 | P14: 7 | Q14: 2090 | R14: 25 | S14: 69 | T14: 3 | U14: 172 | V14: 5 | W14: 18 | X14: 24 | Y14: 649 | Z14: 775
A15: 苗栗縣 | B15: 560397 | C15: 2499 | D15: 2525 | E15: 2394 | F15: 65 | G15: 18 | H15: 412 | I15: 1596 | J15: 434 | K15: 123 | L15: 1323 | M15: 36 | N15: - | O15: 685 | P15: 38 | Q15: 4485 | R15: 33 | S15: 293 | T15: 3 | U15: 4966 | V15: 41 | W15: 3 | X15: 9 | Y15: 672 | Z15: 2953
A16: 台中縣 | B16: 1557944 | C16: 6300 | D16: 6402 | E16: 6364 | F16: 61 | G16: 83 | H16: 1740 | I16: 3274 | J16: 1244 | K16: 168 | L16: 17042 | M16: 372 | N16: 3 | O16: 925 | P16: 22 | Q16: 6316 | R16: 56 | S16: 686 | T16: 51 | U16: 418 | V16: 11 | W16: 22 | X16: 6 | Y16: 1491 | Z16: 3907
A17: 彰化縣 | B17: 1312935 | C17: 6576 | D17: 6966 | E17: 5155 | F17: 77 | G17: 321 | H17: 1920 | I17: 4234 | J17: 414 | K17: 142 | L17: 24047 | M17: 37 | N17: 1 | O17: 107 | P17: 4 | Q17: 407 | R17: 12 | S17: 18 | T17: 12 | U17: 4 | V17: 4 | W17: 27 | X17: 6 | Y17: 274 | Z17: 551
A18: 南投縣 | B18: 531753 | C18: 3158 | D18: 3339 | E18: 2826 | F18: 80 | G18: 146 | H18: 765 | I18: 2295 | J18: 53 | K18: 104 | L18: 9774 | M18: 99 | N18: 9 | O18: 25 | P18: 1 | Q18: 6187 | R18: 1728 | S18: 179 | T18: 12 | U18: 333 | V18: 6 | W18: 10 | X18: 21 | Y18: 533 | Z18: 700
A19: 雲林縣 | B19: 723674 | C19: 4405 | D19: 4489 | E19: 4129 | F19: 136 | G19: 463 | H19: 1672 | I19: 1618 | J19: 600 | K19: 140 | L19: 11199 | M19: 430 | N19: 2 | O19: 214 | P19: 13 | Q19: 28110 | R19: 304 | S19: 1456 | T19: 130 | U19: 434 | V19: 21 | W19: 106 | X19: 328 | Y19: 678 | Z19: 748
A20: 嘉義縣 | B20: 548731 | C20: 3117 | D20: 3356 | E20: 3128 | F20: 80 | G20: 114 | H20: 490 | I20: 2600 | J20: 72 | K20: 102 | L20: 8711 | M20: 144 | N20: 1 | O20: - | P20: - | Q20: 9504 | R20: 131 | S20: 174 | T20: 4 | U20: 631 | V20: 4 | W20: 7 | X20: 200 | Y20: 456 | Z20: 599
A21: 台南縣 | B21: 1104552 | C21: 5129 | D21: 5249 | E21: 4455 | F21: 368 | G21: 422 | H21: 1565 | I21: 2894 | J21: - | K21: 197 | L21: 16397 | M21: 315 | N21: - | O21: 325 | P21: 8 | Q21: 10000 | R21: 38 | S21: 535 | T21: 7 | U21: 60 | V21: 1 | W21: - | X21: 20 | Y21: 674 | Z21: 765
A22: 高雄縣 | B22: 1243412 | C22: 5200 | D22: 5770 | E22: 6030 | F22: 199 | G22: 330 | H22: 2323 | I22: 2227 | J22: 691 | K22: 190 | L22: 13392 | M22: 487 | N22: - | O22: 160 | P22: 7 | Q22: 642 | R22: 13 | S22: 316 | T22: 8 | U22: 597 | V22: 9 | W22: 5 | X22: 8 | Y22: 1362 | Z22: 1724
A23: 屏東縣 | B23: 884838 | C23: 3187 | D23: 4400 | E23: 3392 | F23: 1083 | G23: 26 | H23: 480 | I23: 2015 | J23: 796 | K23: 289 | L23: 7952 | M23: 722 | N23: 1 | O23: 362 | P23: 3 | Q23: 1575 | R23: 36 | S23: 446 | T23: 7 | U23: 80 | V23: 2 | W23: - | X23: 71 | Y23: 671 | Z23: 777
A24: 台東縣 | B24: 231849 | C24: 1504 | D24: 1490 | E24: 1431 | F24: 61 | G24: 58 | H24: 287 | I24: 1084 | J24: - | K24: 80 | L24: 3954 | M24: 134 | N24: 7 | O24: 180 | P24: 5 | Q24: 1010 | R24: 23 | S24: 1060 | T24: 15 | U24: 215 | V24: 6 | W24: 5 | X24: 20 | Y24: 290 | Z24: 340
A25: 花蓮縣 | B25: 341433 | C25: 1442 | D25: 1147 | E25: 3521 | F25: 18 | G25: 29 | H25: 209 | I25: 762 | J25: 129 | K25: 85 | L25: 3140 | M25: 106 | N25: - | O25: 365 | P25: 13 | Q25: 4160 | R25: 41 | S25: 15 | T25: 13 | U25: 36 | V25: 1 | W25: - | X25: 6 | Y25: 659 | Z25: 762
A26: 澎湖縣 | B26: 93308 | C26: 505 | D26: 526 | E26: 562 | F26: 17 | G26: 12 | H26: 263 | I26: 195 | J26: 27 | K26: 42 | L26: 1326 | M26: 16 | N26: - | O26: - | P26: - | Q26: 2274 | R26: 37 | S26: 231 | T26: 4 | U26: 151 | V26: 2 | W26: 1 | X26: - | Y26: 85 | Z26: 175
A27: 基隆市 | B27: 388979 | C27: 2310 | D27: 2395 | E27: 1968 | F27: 226 | G27: 244 | H27: 358 | I27: 1511 | J27: 27 | K27: 32 | L27: 5622 | M27: 123 | N27: 2 | O27: - | P27: - | Q27: 10137 | R27: 79 | S27: 221 | T27: 13 | U27: 2180 | V27: 30 | W27: 62 | X27: 5 | Y27: 592 | Z27: 5942
A28: 新竹市 | B28: 405371 | C28: 853 | D28: 903 | E28: 1326 | F28: 53 | G28: 66 | H28: 248 | I28: 386 | J28: 150 | K28: 22 | L28: 2461 | M28: 281 | N28: - | O28: 318 | P28: 10 | Q28: 1470 | R28: 12 | S28: 1540 | T28: 12 | U28: 105 | V28: 3 | W28: 5 | X28: 20 | Y28: 389 | Z28: 400
A29: 台中市 | B29: 1066128 | C29: 2853 | D29: 2494 | E29: 522 | F29: 66 | G29: 40 | H29: 405 | I29: 1045 | J29: 938 | K29: 66 | L29: 7888 | M29: 680 | N29: 14 | O29: 318 | P29: 9 | Q29: 38570 | R29: 111 | S29: 701 | T29: 11 | U29: 993 | V29: 9 | W29: 6 | X29: 96 | Y29: 891 | Z29: 960
A30: 嘉義市 | B30: 273793 | C30: 1089 | D30: 1315 | E30: 1310 | F30: 64 | G30: 44 | H30: 144 | I30: 956 | J30: 107 | K30: 17 | L30: 3463 | M30: 34 | N30: 2 | O30: 300 | P30: 6 | Q30: 21383 | R30: 52 | S30: 1061 | T30: 12 | U30: 2423 | V30: 27 | W30: 6 | X30: 44 | Y30: 289 | Z30: 316
A31: 台南市 | B31: 768453 | C31: 2781 | D31: 3422 | E31: 2574 | F31: 61 | G31: 11 | H31: 297 | I31: 1321 | J31: 1732 | K31: 152 | L31: 9259 | M31: 126 | N31: - | O31: 387 | P31: 14 | Q31: 6188 | R31: 35 | S31: 102 | T31: 13 | U31: 382 | V31: 29 | W31: 10 | X31: 130 | Y31: 578 | Z31: 454
A32: 金門縣 | B32: 84570 | C32: 394 | D32: 462 | E32: 382 | F32: 22 | G32: 9 | H32: 168 | I32: 258 | J32: 5 | K32: 7 | L32: 1041 | M32: 2 | N32: - | O32: 193 | P32: 4 | Q32: 524 | R32: 12 | S32: 231 | T32: 16 | U32: 41 | V32: 1 | W32: 1 | X32: 2 | Y32: 56 | Z32: 60
A33: 連江縣 | B33: 9755 | C33: 77 | D33: 49 | E33: 40 | F33: 5 | G33: - | H33: 9 | I33: 21 | J33: 14 | K33: 3 | L33: 248 | M33: 9 | N33: 1 | O33: - | P33: - | Q33: 558 | R33: 16 | S33: 8 | T33: 7 | U33: 48 | V33: 2 | W33: 2 | X33: - | Y33: 13 | Z33: 16
A34: 填表 | G34: 審核 | N34: 主辦業務人員 | U34: 機關長官
N35: 主辦統計人員
A36: 資料來源：依據直轄市政府及各縣市衛生局(含金門、連江縣)之資料彙編。
A37: 填表說明：1. 轄區總人口數依據內政部年底人口數。
A38: 2.本表一式二份，一份送本署醫事處，一份本署統計室自存。

Sheet 96年
A1: 公開類 | W1: 編製機關 | Y1: 行政院衛生署統計室
A2: 年 報 | B2: 次年2月底前填報 | W2: 表 號 | Y2: 1650-02-01
A3: 精神衛生行政工作執行成果表(修正)
A4: 中華民國 96 年
A5: 縣市別 | B5: 轄區 總人口數 | C5: 目前管理個案數 | E5: 領具精神障礙類別手冊人數 | F5: 管理個案分級人數 | K5: 訪員 人數 | L5: 訪視病患人次 | M5: 協助病患就醫次數 | N5: 指定保護人次數 | O5: 精神病患家屬 座談會 | Q5: 一般民眾 宣導活動 | S5: 工作人員 在職訓練 | U5: 相關基層人員 研習會 | W5: 工作協調 (次) | X5: 民眾申訴案件(件) | Y5: 自殺未 遂人次 | Z5: 訪視自 殺個案 人 次
C6: 上年 | D6: 本年 | F6: 一級 | G6: 二級 | H6: 三級 | I6: 四級 | J6: 五級
O7: 人次 | P7: 場次 | Q7: 人次 | R7: 場次 | S7: 人次 | T7: 場次 | U7: 人次 | V7: 場次
A8: 總 計 | B8: =SUM(B9:B33) -> 22958360 | C8: =SUM(C9:C33) -> 78657 | D8: =SUM(D9:D33) -> 91762 | E8: =SUM(E9:E33) -> 87829 | F8: =SUM(F9:F33) -> 4897 | G8: =SUM(G9:G33) -> 4066 | H8: =SUM(H9:H33) -> 31655 | I8: =SUM(I9:I33) -> 42567 | ... Z8: =SUM(Z9:Z33) -> 37588
A9: 台北市 | B9: 2629269 | C9: 13982 | D9: 15277 | E9: 12602 | F9: 735 | G9: 1020 | H9: 7371 | I9: 5987 | J9: 164 | K9: 181 | L9: 40567 | M9: 444 | N9: 2 | O9: 386 | P9: 49 | Q9: 35351 | R9: 687 | S9: 213 | T9: 144 | U9: 285 | V9: 14 | W9: 10 | X9: 286 | Y9: 1323 | Z9: 1655
A10: 高雄市 | B10: 1520555 | C10: 5107 | D10: 7290 | E10: 7249 | F10: 17 | G10: 47 | H10: 1336 | I10: 5295 | J10: 595 | K10: 75 | L10: 9973 | M10: 212 | N10: 0 | O10: 732 | P10: 40 | Q10: 4883 | R10: 71 | S10: 1815 | T10: 60 | U10: 2827 | V10: 32 | W10: 24 | X10: 88 | Y10: 2040 | Z10: 3484
A11: 台北縣 | B11: 3798015 | C11: 9535 | D11: 9372 | E11: 12352 | F11: 960 | G11: 424 | H11: 7759 | I11: - | J11: 229 | K11: 215 | L11: 2371 | M11: 679 | N11: - | O11: 1787 | P11: 53 | Q11: 10000 | R11: 33 | S11: 1102 | T11: 14 | U11: 73 | V11: 4 | W11: 37 | X11: 120 | Y11: 3723 | Z11: 13924
A12: 宜蘭縣 | B12: 460398 | C12: 2150 | D12: 2613 | E12: 3323 | F12: 101 | G12: 158 | H12: 447 | I12: 1544 | J12: 363 | K12: 77 | L12: 6991 | M12: 124 | N12: - | O12: 65 | P12: 2 | Q12: 22347 | R12: 104 | S12: 1299 | T12: 15 | U12: 1299 | V12: 15 | W12: 21 | X12: 4 | Y12: 822 | Z12: 986
A13: 桃園縣 | B13: 1934968 | C13: 2113 | D13: 1982 | E13: 1496 | F13: 29 | G13: 18 | H13: 364 | I13: 1149 | J13: 422 | K13: 140 | L13: 5793 | M13: 32 | N13: - | O13: 530 | P13: 13 | Q13: 5263 | R13: 51 | S13: 59 | T13: - | U13: 40 | V13: 1 | W13: - | X13: 55 | Y13: - | Z13: -
A14: 新竹縣 | B14: 495821 | C14: 1125 | D14: 1762 | E14: 1402 | F14: 342 | G14: 25 | H14: 251 | I14: 916 | J14: 228 | K14: 90 | L14: 3766 | M14: 527 | N14: - | O14: 186 | P14: 4 | Q14: 6318 | R14: 40 | S14: 309 | T14: 7 | U14: 133 | V14: 3 | W14: 16 | X14: 103 | Y14: 607 | Z14: 343
A15: 苗栗縣 | B15: 560163 | C15: 2531 | D15: 2499 | E15: 2276 | F15: 145 | G15: 28 | H15: 493 | I15: 1399 | J15: 434 | K15: 100 | L15: 1741 | M15: 63 | N15: - | O15: 741 | P15: 40 | Q15: 3485 | R15: 26 | S15: 300 | T15: 4 | U15: 5289 | V15: 136 | W15: 10 | X15: 20 | Y15: 698 | Z15: 821
A16: 台中縣 | B16: 1550896 | C16: 5132 | D16: 6300 | E16: 5985 | F16: 185 | G16: 202 | H16: 1647 | I16: 3171 | J16: 1045 | K16: 168 | L16: 13000 | M16: 483 | N16: 2 | O16: 1015 | P16: 168 | Q16: 10955 | R16: 391 | S16: 301 | T16: 6 | U16: - | V16: - | W16: 4 | X16: 2 | Y16: 1315 | Z16: 2961
A17: 彰化縣 | B17: 1314354 | C17: 6022 | D17: 6576 | E17: 4555 | F17: 256 | G17: 368 | H17: 2325 | I17: 2942 | J17: 685 | K17: 141 | L17: 16414 | M17: 47 | N17: - | O17: 197 | P17: 6 | Q17: 20 | R17: 2 | S17: - | T17: - | U17: - | V17: - | W17: - | X17: 2 | Y17: 251 | Z17: 520
A18: 南投縣 | B18: 533717 | C18: 2279 | D18: 3244 | E18: 2763 | F18: 50 | G18: 104 | H18: 631 | I18: 2393 | J18: 66 | K18: 104 | L18: 5785 | M18: 107 | N18: - | O18: 467 | P18: 13 | Q18: 7614 | R18: 77 | S18: 289 | T18: 21 | U18: 370 | V18: 10 | W18: 14 | X18: 21 | Y18: 532 | Z18: 664
A19: 雲林縣 | B19: 725672 | C19: 4105 | D19: 4406 | E19: 4028 | F19: 317 | G19: 349 | H19: 1526 | I19: 1621 | J19: 593 | K19: 140 | L19: 9745 | M19: 398 | N19: 336 | O19: 466 | P19: 9 | Q19: 33744 | R19: 1906 | S19: 788 | T19: 154 | U19: 1240 | V19: 27 | W19: 61 | X19: 265 | Y19: 607 | Z19: 666
A20: 嘉義縣 | B20: 551345 | C20: 1884 | D20: 3117 | E20: 3043 | F20: 160 | G20: 139 | H20: 545 | I20: 2271 | J20: 2 | K20: 119 | L20: 5593 | M20: 321 | N20: - | O20: 603 | P20: 17 | Q20: 9653 | R20: 118 | S20: 9 | T20: 334 | U20: 1960 | V20: 7 | W20: 2 | X20: 41 | Y20: 397 | Z20: 408
A21: 台南縣 | B21: 1105403 | C21: 3930 | D21: 5129 | E21: 4315 | F21: 286 | G21: 486 | H21: 1552 | I21: 2805 | J21: - | K21: 208 | L21: 13190 | M21: 259 | N21: 3 | O21: 310 | P21: 8 | Q21: 2000 | R21: 35 | S21: 1030 | T21: 9 | U21: 120 | V21: 2 | W21: - | X21: 15 | Y21: 656 | Z21: 474
A22: 高雄縣 | B22: 1244313 | C22: 3111 | D22: 5200 | E22: 5670 | F22: 232 | G22: 38 | H22: 2250 | I22: 1915 | J22: 765 | K22: 190 | L22: 7099 | M22: 653 | N22: - | O22: 44 | P22: 2 | Q22: 2659 | R22: 62 | S22: 568 | T22: 5 | U22: 1307 | V22: 19 | W22: 1 | X22: 15 | Y22: 1274 | Z22: 1216
A23: 屏東縣 | B23: 889563 | C23: 3130 | D23: 3187 | E23: 3424 | F23: 98 | G23: 67 | H23: 573 | I23: 1941 | J23: 508 | K23: 289 | L23: 7952 | M23: 724 | N23: 9 | O23: 430 | P23: 3 | Q23: 2450 | R23: 10 | S23: 415 | T23: 6 | U23: 606 | V23: 2 | W23: - | X23: 92 | Y23: 770 | Z23: 924
A24: 台東縣 | B24: 233660 | C24: 1417 | D24: 1504 | E24: 1313 | F24: 198 | G24: 26 | H24: 306 | I24: 895 | J24: 63 | K24: 78 | L24: 3399 | M24: 121 | N24: 12 | O24: 101 | P24: 4 | Q24: 962 | R24: 24 | S24: 165 | T24: 5 | U24: 75 | V24: 2 | W24: 5 | X24: 48 | Y24: 260 | Z24: 287
A25: 花蓮縣 | B25: 343302 | C25: 1467 | D25: 1442 | E25: 3403 | F25: 206 | G25: 24 | H25: 312 | I25: 723 | J25: 177 | K25: 90 | L25: 3286 | M25: 57 | N25: - | O25: 251 | P25: 5 | Q25: 8173 | R25: 104 | S25: 171 | T25: 13 | U25: 142 | V25: 13 | W25: 13 | X25: 25 | Y25: 562 | Z25: 556
A26: 澎湖縣 | B26: 92390 | C26: 497 | D26: 505 | E26: 499 | F26: 43 | G26: 21 | H26: 266 | I26: 160 | J26: 15 | K26: 43 | L26: 1185 | M26: 46 | N26: - | O26: 153 | P26: 5 | Q26: 1280 | R26: 6 | S26: 19 | T26: 4 | U26: 172 | V26: 3 | W26: 1 | X26: - | Y26: 79 | Z26: 124
A27: 基隆市 | B27: 390397 | C27: 2018 | D27: 2310 | E27: 1968 | F27: 206 | G27: 246 | H27: 362 | I27: 1475 | J27: 21 | K27: 32 | L27: 5622 | M27: 123 | N27: 2 | O27: - | P27: - | Q27: 10137 | R27: 79 | S27: 221 | T27: 13 | U27: 2180 | V27: 30 | W27: 62 | X27: 5 | Y27: 592 | Z27: 5942
A28: 新竹市 | B28: 399035 | C28: 720 | D28: 853 | E28: 1259 | F28: 72 | G28: 85 | H28: 180 | I28: 310 | J28: 206 | K28: 22 | L28: 2125 | M28: 312 | N28: - | O28: 675 | P28: 20 | Q28: 2270 | R28: 11 | S28: 554 | T28: 5 | U28: 105 | V28: 2 | W28: 5 | X28: 5 | Y28: 374 | Z28: 374
A29: 台中市 | B29: 1055898 | C29: 2525 | D29: 2853 | E29: 1537 | F29: 173 | G29: 81 | H29: 517 | I29: 1224 | J29: 849 | K29: 64 | L29: 5982 | M29: 15 | N29: 9 | O29: 432 | P29: 11 | Q29: 31727 | R29: 85 | S29: 1010 | T29: 11 | U29: 493 | V29: 5 | W29: 3 | X29: 245 | Y29: 841 | Z29: 959
A30: 嘉義市 | B30: 273075 | C30: 1067 | D30: 1089 | E30: 975 | F30: 15 | G30: 24 | H30: 156 | I30: 619 | J30: 275 | K30: 16 | L30: 2026 | M30: 35 | N30: - | O30: 111 | P30: 2 | Q30: 11242 | R30: 62 | S30: 640 | T30: 11 | U30: 1735 | V30: 22 | W30: 118 | X30: 49 | Y30: 226 | Z30: 226
A31: 台南市 | B31: 764658 | C31: 2328 | D31: 2781 | E31: 1970 | F31: 43 | G31: 74 | H31: 353 | I31: 1606 | J31: 647 | K31: 29 | L31: 252 | M31: 36 | N31: - | O31: 31 | P31: 22 | Q31: 30 | R31: 1 | S31: - | T31: - | U31: - | V31: - | W31: 3 | X31: 3 | Y31: 3 | Z31: 22
A32: 金門縣 | B32: 81547 | C32: 405 | D32: 394 | E32: 382 | F32: 28 | G32: 12 | H32: 119 | I32: 167 | J32: 68 | K32: 7 | L32: 598 | M32: - | N32: - | O32: 252 | P32: 5 | Q32: 2515 | R32: 22 | S32: 282 | T32: 10 | U32: 134 | V32: 2 | W32: 1 | X32: 1 | Y32: 61 | Z32: 49
A33: 連江縣 | B33: 9946 | C33: 77 | D33: 77 | E33: 40 | F33: - | G33: - | H33: 14 | I33: 39 | J33: 22 | K33: 4 | L33: 197 | M33: 11 | N33: 1 | O33: 20 | P33: 2 | Q33: 620 | R33: 4 | S33: 1 | T33: 5 | U33: 88 | V33: 5 | W33: - | X33: 1 | Y33: 4 | Z33: 3
A34: 填表 | G34: 審核 | N34: 主辦業務人員 | U34: 機關長官
N35: 主辦統計人員
A36: 資料來源：依據直轄市政府及各縣市衛生局(含金門、連江縣)之資料彙編。
A37: 填表說明：1. 轄區總人口數依據內政部年底人口數。
A38: 2.本表一式二份，一份送本署醫事處，一份本署統計室自存。

Sheet 95年
A1: 公開類 | V1: 編製機關 | X1: 行政院衛生署(醫事處)
A2: 年 報 | B2: 次年二月底前填報 | V2: 表 號 | X2: 1650-02-01
A3: 精神衛生行政工作執行成果表
A4: 中華民國 95 年
A5: 縣市別 | B5: 轄區總 | C5: 目前管理個案數 | E5: 領具身心障礙手冊人數 | F5: 訪 員 | G5: 訪視病 | H5: 協助病患 | I5: 指定保 | J5: 精神病患 | L5: 一般民眾 | N5: 工作人員 | P5: 相關基層 | R5: 工作 | S5: 民眾申 | T5: 自殺未遂 | V5: 列管自殺 | X5: 訪視自殺
B6: 人口數 | C6: 上年 | D6: 本年 | F6: 人 數 | G6: 患人次 | H6: 就醫次數 | I6: 護人次數 | J6: 家屬座談會 | L6: 宣導活動 | N6: 在職訓練 | P6: 人員研習會 | R6: 協調 (次) | S6: 訴案件(件) | T6: 案件數 | V6: 案件數 | X6: 個案
J7: 人次 | K7: 場次 | L7: 人次 | M7: 場次 | N7: 人次 | O7: 場次 | P7: 人次 | Q7: 場次 | T7: 人數 | U7: 人次 | V7: 人數 | W7: 人次 | X7: 人數 | Y7: 人次
A8: 總計 | B8: =SUM(B9:B33) -> 22876527 | C8: =SUM(C9:C33) -> 73572 | D8: =SUM(D9:D33) -> 78654 | E8: =SUM(E9:E33) -> 86657 | F8: =SUM(F9:F33) -> 2897 | G8: =SUM(G9:G33) -> 155991 | H8: =SUM(H9:H33) -> 6598 | I8: =SUM(I9:I33) -> 143 | ... Y8: =SUM(Y9:Y33) -> 27816
A9: 台北市 | B9: 2632242 | C9: 13551 | D9: 13982 | E9: 12035 | F9: 177 | G9: 33492 | H9: 1052 | I9: - | J9: 99 | K9: 31 | L9: 7392 | M9: 352 | N9: 916 | O9: 189 | P9: 437 | Q9: 22 | R9: 26 | S9: 255 | T9: 1623 | U9: 2036 | V9: 1623 | W9: 2036 | X9: 1623 | Y9: 5875
A10: 高雄市 | B10: 1514706 | C10: 1022 | D10: 5107 | E10: 6701 | F10: 85 | G10: 13821 | H10: 611 | I10: - | J10: 7308 | K10: 177 | L10: 18481 | M10: 92 | N10: 5613 | O10: 128 | P10: 2367 | Q10: 27 | R10: - | S10: 82 | T10: 2243 | U10: 2243 | V10: 963 | W10: 963 | X10: 2073 | Y10: 2073
A11: 台北縣 | B11: 3767095 | C11: 10833 | D11: 9535 | E11: 11703 | F11: 216 | G11: 18430 | H11: 753 | I11: 1 | J11: 243 | K11: 16 | L11: 7000 | M11: 14 | N11: 230 | O11: 2 | P11: 254 | Q11: 2 | R11: 3 | S11: 30 | T11: 2078 | U11: 2078 | V11: 656 | W11: 656 | X11: 8536 | Y11: 8536
A12: 宜蘭縣 | B12: 460426 | C12: 2153 | D12: 2261 | E12: 3171 | F12: 94 | G12: 5774 | H12: 140 | I12: - | J12: 450 | K12: 3 | L12: 32774 | M12: 58 | N12: 240 | O12: 12 | P12: 769 | Q12: 14 | R12: 10 | S12: 15 | T12: 780 | U12: 822 | V12: 779 | W12: 821 | X12: 717 | Y12: 717
A13: 桃園縣 | B13: 1911161 | C13: 3516 | D13: 2113 | E13: 1626 | F13: 143 | G13: 7781 | H13: 48 | I13: - | J13: 476 | K13: 12 | L13: 6697 | M13: 48 | N13: 86 | O13: 10 | P13: 80 | Q13: 2 | R13: 19 | S13: 69 | T13: 580 | U13: 580 | V13: 230 | W13: 228 | X13: 415 | Y13: 423
A14: 新竹縣 | B14: 487692 | C14: 1009 | D14: 875 | E14: 749 | F14: 91 | G14: 1888 | H14: 152 | I14: - | J14: 295 | K14: 4 | L14: 4596 | M14: 51 | N14: 463 | O14: 13 | P14: 222 | Q14: 5 | R14: 4 | S14: 81 | T14: 480 | U14: 515 | V14: 197 | W14: 287 | X14: 457 | Y14: 740
A15: 苗栗縣 | B15: 559986 | C15: 1888 | D15: 2235 | E15: 2114 | F15: 99 | G15: 2127 | H15: 27 | I15: - | J15: 4070 | K15: 168 | L15: 14337 | M15: 54 | N15: 376 | O15: 5 | P15: 6727 | Q15: 136 | R15: 4 | S15: 20 | T15: 618 | U15: 647 | V15: 667 | W15: 697 | X15: 697 | Y15: 726
A16: 台中縣 | B16: 1543436 | C16: 4738 | D16: 5132 | E16: 5701 | F16: 161 | G16: 10635 | H16: 583 | I16: 4 | J16: 797 | K16: 22 | L16: 3602 | M16: 28 | N16: 161 | O16: 21 | P16: 145 | Q16: 4 | R16: 3 | S16: 16 | T16: 1048 | U16: 1078 | V16: 985 | W16: 1008 | X16: 1048 | Y16: 2392
A17: 彰化縣 | B17: 1315034 | C17: 3784 | D17: 4231 | E17: 3760 | F17: 130 | G17: 4121 | H17: 81 | I17: 7 | J17: 1263 | K17: 18 | L17: 5700 | M17: 112 | N17: 280 | O17: 10 | P17: 3000 | Q17: 15 | R17: 591 | S17: 2 | T17: 236 | U17: 236 | V17: - | W17: - | X17: 236 | Y17: 236
A18: 南投縣 | B18: 535205 | C18: 2381 | D18: 2242 | E18: 2638 | F18: 100 | G18: 4500 | H18: 121 | I18: - | J18: 510 | K18: 13 | L18: 12490 | M18: 156 | N18: 286 | O18: 4 | P18: - | Q18: - | R18: 4 | S18: 5 | T18: 471 | U18: 456 | V18: 503 | W18: 488 | X18: 488 | Y18: 755
A19: 雲林縣 | B19: 728490 | C19: 3752 | D19: 3980 | E19: 3517 | F19: 141 | G19: 8368 | H19: 419 | I19: - | J19: 341 | K19: 11 | L19: 33907 | M19: 282 | N19: 363 | O19: 141 | P19: 673 | Q19: 10 | R19: 81 | S19: 170 | T19: 393 | U19: 414 | V19: 387 | W19: 391 | X19: 399 | Y19: 539
A20: 嘉義縣 | B20: 553841 | C20: 1691 | D20: 1847 | E20: 3043 | F20: 119 | G20: 3229 | H20: 61 | I20: - | J20: 350 | K20: 7 | L20: 13000 | M20: 60 | N20: 180 | O20: 2 | P20: 1250 | Q20: 5 | R20: 1 | S20: 24 | T20: 297 | U20: 329 | V20: 279 | W20: 279 | X20: 279 | Y20: 279
A21: 台南縣 | B21: 1106690 | C21: 3850 | D21: 3929 | E21: 4140 | F21: 208 | G21: 10173 | H21: 273 | I21: - | J21: 197 | K21: 8 | L21: - | M21: - | N21: 474 | O21: 5 | P21: 50 | Q21: 1 | R21: 2 | S21: 87 | T21: 663 | U21: 663 | V21: 510 | W21: 510 | X21: 510 | Y21: 578
A22: 高雄縣 | B22: 1245474 | C22: 3835 | D22: 3111 | E22: 5251 | F22: 190 | G22: 4344 | H22: 529 | I22: - | J22: 20 | K22: 1 | L22: 4788 | M22: 89 | N22: 422 | O22: 6 | P22: 540 | Q22: 8 | R22: 3 | S22: 13 | T22: 1192 | U22: 1380 | V22: 50 | W22: 50 | X22: 391 | Y22: 432
A23: 屏東縣 | B23: 893544 | C23: 3075 | D23: 4409 | E23: 3474 | F23: 289 | G23: 7952 | H23: 658 | I23: 14 | J23: 325 | K23: 3 | L23: 1500 | M23: 7 | N23: 353 | O23: 5 | P23: 774 | Q23: 2 | R23: - | S23: 200 | T23: 665 | U23: 665 | V23: 665 | W23: 665 | X23: 252 | Y23: 252
A24: 台東縣 | B24: 235957 | C24: 1645 | D24: 1517 | E24: 1378 | F24: 178 | G24: 773 | H24: 30 | I24: 92 | J24: 18 | K24: 2 | L24: 220 | M24: 5 | N24: 28 | O24: 3 | P24: 47 | Q24: 5 | R24: 3 | S24: 2 | T24: 41 | U24: 41 | V24: 41 | W24: 41 | X24: 29 | Y24: 29
A25: 花蓮縣 | B25: 345303 | C25: 2040 | D25: 1684 | E25: 3345 | F25: 112 | G25: 3420 | H25: 128 | I25: 5 | J25: 60 | K25: 5 | L25: 2676 | M25: 14 | N25: 45 | O25: 1 | P25: 685 | Q25: 5 | R25: 10 | S25: 5 | T25: 561 | U25: 622 | V25: 551 | W25: 612 | X25: 137 | Y25: 198
A26: 澎湖縣 | B26: 91785 | C26: 495 | D26: 536 | E26: 475 | F26: 43 | G26: 753 | H26: 24 | I26: - | J26: 178 | K26: 4 | L26: 528 | M26: 2 | N26: 40 | O26: 1 | P26: 40 | Q26: 1 | R26: - | S26: - | T26: 21 | U26: 21 | V26: 8 | W26: 8 | X26: 15 | Y26: 18
A27: 基隆市 | B27: 390633 | C27: 1960 | D27: 2067 | E27: 1838 | F27: 37 | G27: 4362 | H27: 8 | I27: 8 | J27: 35 | K27: 1 | L27: 2503 | M27: 19 | N27: 707 | O27: 8 | P27: 58 | Q27: 9 | R27: 6 | S27: 19 | T27: 357 | U27: 357 | V27: 529 | W27: 529 | X27: 550 | Y27: 1286
A28: 新竹市 | B28: 394757 | C28: 784 | D28: 720 | E28: 3160 | F28: 22 | G28: 1079 | H28: 239 | I28: - | J28: 415 | K28: 6 | L28: 13117 | M28: 22 | N28: 810 | O28: 10 | P28: 220 | Q28: 7 | R28: 2 | S28: 9 | T28: 352 | U28: 352 | V28: 364 | W28: 364 | X28: 364 | Y28: 364
A29: 台中市 | B29: 1044392 | C29: 2453 | D29: 2525 | E29: 3217 | F29: 60 | G29: 5296 | H29: 384 | I29: 12 | J29: 565 | K29: 15 | L29: 6658 | M29: 43 | N29: 374 | O29: 6 | P29: 374 | Q29: 6 | R29: 2 | S29: 153 | T29: 1013 | U29: 1013 | V29: - | W29: - | X29: 563 | Y29: 563
A30: 嘉義市 | B30: 272364 | C30: 1053 | D30: 1067 | E30: 1024 | F30: 16 | G30: 1452 | H30: 49 | I30: - | J30: 70 | K30: 1 | L30: 10858 | M30: 60 | N30: 475 | O30: 11 | P30: 249 | Q30: 5 | R30: 4 | S30: 106 | T30: 133 | U30: 133 | V30: - | W30: - | X30: 133 | Y30: 133
A31: 台南市 | B31: 760037 | C31: 1515 | D31: 3069 | E31: 2173 | F31: 175 | G31: 1601 | H31: 207 | I31: - | J31: 306 | K31: 12 | L31: 2941 | M31: 13 | N31: 127 | O31: 4 | P31: 37 | Q31: 2 | R31: 13 | S31: 84 | T31: 666 | U31: 677 | V31: 383 | W31: 383 | X31: 593 | Y31: 652
A32: 金門縣 | B32: 76491 | C32: 472 | D32: 405 | E32: 388 | F32: 7 | G32: 428 | H32: 3 | I32: - | J32: 533 | K32: 8 | L32: 2895 | M32: 26 | N32: 29 | O32: 3 | P32: 289 | Q32: 4 | R32: 3 | S32: - | T32: 36 | U32: 36 | V32: 20 | W32: 20 | X32: 19 | Y32: 20
A33: 連江縣 | B33: 9786 | C33: 77 | D33: 75 | E33: 36 | F33: 4 | G33: 192 | H33: 18 | I33: - | J33: - | K33: - | L33: 180 | M33: 4 | N33: 9 | O33: 7 | P33: 110 | Q33: 5 | R33: 2 | S33: - | T33: 2 | U33: 2 | V33: 2 | W33: 2 | X33: - | Y33: -
A34: 填表 | F34: 審核 | L34: 主辦業務人員 | T34: 機關長官
L35: 主辦統計人員
A36: 資料來源：行政院衛生署醫事處。
A37: 填表說明：1.本表一式二份，一份送本署統計室，一份本署醫事處自存。
A38: 2.轄區人口數依據內政部年底人口數。

Sheet 94年
A1: 公開類 | V1: 編製機關 | X1: 行政院衛生署(醫事處)
A2: 年 報 | B2: 次年二月底前填報 | V2: 表 號 | X2: 1650-02-01
A3: 精神衛生行政工作執行成果表(修正)
A4: 中華民國 94 年
A5: 縣市別 | B5: 轄區總 | C5: 目前管理個案數 | F5: 訪 員 | G5: 訪視病 | H5: 協助病患 | I5: 指定保 | J5: 精神病患 | L5: 一般民眾 | N5: 工作人員 | P5: 相關基層 | R5: 工作 | S5: 民眾申 | T5: 自殺未遂 | V5: 列管自殺 | X5: 訪視自殺
B6: 人口數 | C6: 上年 | D6: 本年 | E6: 領具身心障礙手冊人數 | F6: 人 數 | G6: 患人次 | H6: 就醫次數 | I6: 護人次數 | J6: 家屬座談會 | L6: 宣導活動 | N6: 在職訓練 | P6: 人員研習會 | R6: 協調 (次) | S6: 訴案件(件) | T6: 案件數 | V6: 案件數 | X6: 個案
J7: 人次 | K7: 場次 | L7: 人次 | M7: 場次 | N7: 人次 | O7: 場次 | P7: 人次 | Q7: 場次 | T7: 人數 | U7: 人次 | V7: 人數 | W7: 人次 | X7: 人數 | Y7: 人次
A8: 總計 | B8: =SUM(B9:B33) -> 22770383 | C8: =SUM(C9:C33) -> 75749 | D8: =SUM(D9:D33) -> 73572 | E8: =SUM(E9:E33) -> 85198 | F8: =SUM(F9:F33) -> 4492 | G8: =SUM(G9:G33) -> 142252 | H8: =SUM(H9:H33) -> 6847 | I8: =SUM(I9:I33) -> 173 | ... Y8: =SUM(Y9:Y33) -> 15158
A9: 台北市 | B9: 2616375 | C9: 13000 | D9: 13551 | E9: 11401 | F9: 175 | G9: 34783 | H9: 205 | I9: 0 | J9: 5213 | K9: 292 | L9: 44651 | M9: 497 | N9: 1112 | O9: 217 | P9: 248 | Q9: 34 | R9: 44 | S9: 169 | T9: 1791 | U9: 2128 | V9: 1791 | W9: 2128 | X9: 2714 | Y9: 3234
A10: 高雄市 | B10: 1510649 | C10: 6091 | D10: 1022 | E10: 6316 | F10: 85 | G10: 11902 | H10: 1232 | I10: 1 | J10: 1346 | K10: 115 | L10: 18185 | M10: 372 | N10: 1575 | O10: 50 | P10: 8472 | Q10: 57 | R10: 0 | S10: 54 | T10: 1319 | U10: 1315 | V10: 235 | W10: 239 | X10: 1937 | Y10: 1937
A11: 台北縣 | B11: 3736677 | C11: 12670 | D11: 10833 | E11: 11792 | F11: 226 | G11: 16107 | H11: 769 | I11: 1 | J11: 985 | K11: 32 | L11: 1391 | M11: 26 | N11: 257 | O11: 4 | P11: 1383 | Q11: 45 | R11: 2 | S11: 9 | T11: 1493 | U11: 1493 | V11: 570 | W11: 570 | X11: 211 | Y11: 211
A12: 宜蘭縣 | B12: 461586 | C12: 1955 | D12: 2153 | E12: 2610 | F12: 354 | G12: 4981 | H12: 267 | I12: 0 | J12: 101 | K12: 3 | L12: 52439 | M12: 126 | N12: 1610 | O12: 44 | P12: 441 | Q12: 9 | R12: 8 | S12: 2 | T12: 613 | U12: 644 | V12: 53 | W12: 53 | X12: 595 | Y12: 634
A13: 桃園縣 | B13: 1880316 | C13: 3665 | D13: 3516 | E13: 4286 | F13: 405 | G13: 4439 | H13: 383 | I13: 1 | J13: 442 | K13: 27 | L13: 1660 | M13: 36 | N13: 1 | O13: 1 | P13: 61 | Q13: 1 | R13: 16 | S13: 34 | T13: 856 | U13: 801 | V13: 154 | W13: 154 | X13: 409 | Y13: 429
A14: 新竹縣 | B14: 477677 | C14: 903 | D14: 1009 | E14: 1731 | F14: 1592 | G14: 766 | H14: 116 | I14: 0 | J14: 125 | K14: 3 | L14: 7669 | M14: 77 | N14: 102 | O14: 5 | P14: 82 | Q14: 1 | R14: 3 | S14: 50 | T14: 457 | U14: 478 | V14: 338 | W14: 352 | X14: 457 | Y14: 740
A15: 苗栗縣 | B15: 559944 | C15: 1884 | D15: 1888 | E15: 1982 | F15: 90 | G15: 2404 | H15: 486 | I15: 0 | J15: 2867 | K15: 60 | L15: 10165 | M15: 28 | N15: 100 | O15: 2 | P15: 4468 | Q15: 78 | R15: 5 | S15: 14 | T15: 460 | U15: 437 | V15: 450 | W15: 427 | X15: 495 | Y15: 572
A16: 台中縣 | B16: 1533442 | C16: 3556 | D16: 4738 | E16: 4924 | F16: 161 | G16: 10514 | H16: 283 | I16: 2 | J16: 903 | K16: 24 | L16: 1230 | M16: 30 | N16: 161 | O16: 22 | P16: 5 | Q16: 175 | R16: 3 | S16: 17 | T16: 886 | U16: 886 | V16: 411 | W16: 411 | X16: 893 | Y16: 1447
A17: 彰化縣 | B17: 1315826 | C17: 3836 | D17: 3784 | E17: 2870 | F17: 122 | G17: 5010 | H17: 238 | I17: 9 | J17: 40 | K17: 2 | L17: 10454 | M17: 59 | N17: 345 | O17: 5 | P17: 40 | Q17: 1 | R17: 134 | S17: 2 | T17: 392 | U17: 392 | V17: 171 | W17: 171 | X17: 369 | Y17: 369
A18: 南投縣 | B18: 537168 | C18: 1352 | D18: 2381 | E18: 2523 | F18: 120 | G18: 2115 | H18: 126 | I18: 6 | J18: 127 | K18: 4 | L18: 6988 | M18: 60 | N18: 124 | O18: 2 | P18: 108 | Q18: 2 | R18: 0 | S18: 4 | T18: 367 | U18: 367 | V18: 394 | W18: 394 | X18: 394 | Y18: 229
A19: 雲林縣 | B19: 733330 | C19: 3533 | D19: 3752 | E19: 3308 | F19: 142 | G19: 7537 | H19: 327 | I19: 0 | J19: 233 | K19: 6 | L19: 31960 | M19: 243 | N19: 395 | O19: 175 | P19: 561 | Q19: 8 | R19: 98 | S19: 186 | T19: 215 | U19: 224 | V19: 168 | W19: 174 | X19: 222 | Y19: 288
A20: 嘉義縣 | B20: 557101 | C20: 1758 | D20: 1691 | E20: 2892 | F20: 119 | G20: 3207 | H20: 125 | I20: 0 | J20: 527 | K20: 12 | L20: 15000 | M20: 82 | N20: 150 | O20: 5 | P20: 80 | Q20: 2 | R20: 0 | S20: 5 | T20: 328 | U20: 328 | V20: 328 | W20: 363 | X20: 235 | Y20: 250
... A33: 連江縣 | B33: 10345 | C33: 81 | D33: 77 | E33: 34 | F33: 8 | G33: 322 | H33: 7 | I33: 0 | J33: 0 | K33: 0 | L33: 375 | M33: 14 | N33: 5 | O33: 4 | P33: 82 | Q33: 3 | R33: 0 | S33: 0 | T33: 3 | U33: 3 | V33: 3 | W33: 3 | X33: 3 | Y33: 6
A34: 填表 | F34: 審核 | L34: 主辦業務人員 | T34: 機關長官
L35: 主辦統計人員
A36: 資料來源：行政院衛生署醫事處。
A37: 填表說明：1.本表一式二份，一份送本署統計室，一份本署醫事處自存。
A38: 2.轄區人口數依據內政部年底人口數。

Sheet 93年
A1: 公開類 | V1: 編製機關 | X1: 行政院衛生署(醫事處)
A2: 年 報 | B2: 次年二月底前填報 | V2: 表 號 | X2: 1650-02-01
A3: 精神衛生行政工作執行成果表
A4: 中華民國 93 年
A5: 縣市別 | B5: 轄區總 | C5: 目前管理個案數 | F5: 訪員 | G5: 訪視病 | H5: 協助病患 | I5: 指定保 | J5: 精神病患 | L5: 一般民眾 | N5: 工作人員 | P5: 相關基層 | R5: 工作 | S5: 民眾申 | T5: 自殺未遂 | V5: 列管自殺 | X5: 訪視自殺
B6: 人口數 | C6: 上年 | D6: 本年 | E6: 領具身心障礙手冊人數 | F6: 人數 | G6: 患人次 | H6: 就醫次數 | I6: 護人次數 | J6: 家屬座談會 | L6: 宣導活動 | N6: 在職訓練 | P6: 人員研習會 | R6: 協調 (次) | S6: 訴案件(件) | T6: 案件數 | V6: 案件數 | X6: 個案
J7: 人次 | K7: 場次 | L7: 人次 | M7: 場次 | N7: 人次 | O7: 場次 | P7: 人次 | Q7: 場次 | T7: 人數 | U7: 人次 | V7: 人數 | W7: 人次 | X7: 人數 | Y7: 人次
A8: 總計 | B8: =SUM(B9:B33) -> 22695236 | C8: =SUM(C9:C33) -> 66832 | D8: =SUM(D9:D33) -> 78096 | E8: =SUM(E9:E33) -> 83618 | F8: =SUM(F9:F33) -> 3711 | G8: =SUM(G9:G33) -> 106286 | H8: =SUM(H9:H33) -> 6068 | I8: =SUM(I9:I33) -> 79 | ... Y8: =SUM(Y9:Y33) -> 16482
A9: 台北市 | B9: 2622472 | C9: 10601 | D9: 13000 | E9: 11191 | F9: 147 | G9: 32101 | H9: 905 | I9: 2 | J9: 2976 | K9: 158 | L9: 46027 | M9: 476 | N9: 575 | O9: 137 | P9: 829 | Q9: 42 | R9: 121 | S9: 480 | T9: 1414 | U9: 1645 | V9: 1414 | W9: 1645 | X9: 1321 | Y9: 3244
A10: 高雄市 | B10: 1512677 | C10: 5984 | D10: 6091 | E10: 5805 | F10: 85 | G10: 5768 | H10: 521 | I10: 2 | J10: 977 | K10: 15 | L10: 9727 | M10: 80 | N10: 697 | O10: 9 | P10: 1222 | Q10: 15 | R10: 0 | S10: 34 | T10: 835 | U10: 848 | V10: 146 | W10: 153 | X10: 108 | Y10: 181
A11: 台北縣 | B11: 3708099 | C11: 8908 | D11: 12670 | E11: 11012 | F11: 219 | G11: 13130 | H11: 713 | I11: 0 | J11: 753 | K11: 29 | L11: 1106 | M11: 25 | N11: 237 | O11: 4 | P11: 822 | Q11: 27 | R11: 5 | S11: 119 | T11: 1384 | U11: 1384 | V11: 737 | W11: 737 | X11: 1384 | Y11: 2550
A12: 宜蘭縣 | B12: 462271 | C12: 1784 | D12: 1998 | E12: 2442 | F12: 360 | G12: 4586 | H12: 319 | I12: 0 | J12: 265 | K12: 7 | L12: 31707 | M12: 164 | N12: 789 | O12: 28 | P12: 1509 | Q12: 21 | R12: 8 | S12: 1 | T12: 408 | U12: 396 | V12: 408 | W12: 371 | X12: 408 | Y12: 589
A13: 桃園縣 | B13: 1850605 | C13: 4116 | D13: 3985 | E13: 4813 | F13: 138 | G13: 1436 | H13: 17 | I13: 3 | J13: 86 | K13: 2 | L13: 1932 | M13: 124 | N13: 14 | O13: 1 | P13: 0 | Q13: 0 | R13: 0 | S13: 9 | T13: 169 | U13: 169 | V13: 55 | W13: 55 | X13: 191 | Y13: 191
A14: 新竹縣 | B14: 466364 | C14: 1050 | D14: 1009 | E14: 1517 | F14: 1087 | G14: 1067 | H14: 96 | I14: 0 | J14: 170 | K14: 4 | L14: 6073 | M14: 32 | N14: 342 | O14: 11 | P14: 135 | Q14: 7 | R14: 3 | S14: 9 | T14: 147 | U14: 147 | V14: 0 | W14: 0 | X14: 58 | Y14: 87
A15: 苗栗縣 | B15: 560643 | C15: 1650 | D15: 1868 | E15: 1857 | F15: 100 | G15: 2340 | H15: 799 | I15: 0 | J15: 2201 | K15: 100 | L15: 10938 | M15: 22 | N15: 460 | O15: 4 | P15: 7785 | Q15: 110 | R15: 12 | S15: 10 | T15: 148 | U15: 148 | V15: 162 | W15: 162 | X15: 162 | Y15: 192
A16: 台中縣 | B16: 1527145 | C16: 3522 | D16: 3556 | E16: 4892 | F16: 148 | G16: 2498 | H16: 202 | I16: 8 | J16: 933 | K16: 20 | L16: 7237 | M16: 67 | N16: 152 | O16: 22 | P16: 360 | Q16: 6 | R16: 2 | S16: 4 | T16: 909 | U16: 909 | V16: 401 | W16: 401 | X16: 992 | Y16: 3231
A17: 彰化縣 | B17: 1316762 | C17: 3570 | D17: 3836 | E17: 2892 | F17: 134 | G17: 4523 | H17: 278 | I17: 19 | J17: 88 | K17: 2 | L17: 9372 | M17: 50 | N17: 230 | O17: 4 | P17: 350 | Q17: 5 | R17: 75 | S17: 0 | T17: 215 | U17: 215 | V17: 103 | W17: 103 | X17: 229 | Y17: 229
A18: 南投縣 | B18: 538711 | C18: 1352 | D18: 2415 | E18: 2653 | F18: 131 | G18: 2742 | H18: 86 | I18: 16 | J18: 137 | K18: 4 | L18: 5420 | M18: 64 | N18: 1374 | O18: 14 | P18: 15 | Q18: 1 | R18: 0 | S18: 9 | T18: 554 | U18: 554 | V18: 646 | W18: 646 | X18: 646 | Y18: 3047
A19: 雲林縣 | B19: 736772 | C19: 2801 | D19: 3533 | E19: 3190 | F19: 142 | G19: 6741 | H19: 343 | I19: 0 | J19: 335 | K19: 6 | L19: 24136 | M19: 215 | N19: 397 | O19: 7 | P19: 688 | Q19: 8 | R19: 78 | S19: 146 | T19: 215 | U19: 224 | V19: 195 | W19: 208 | X19: 200 | Y19: 302
A20: 嘉義縣 | B20: 557898 | C20: 1891 | D20: 1902 | E20: 2814 | F20: 119 | G20: 2517 | H20: 150 | I20: 0 | J20: 527 | K20: 12 | L20: 9013 | M20: 22 | N20: 680 | O20: 3 | P20: 484 | Q20: 7 | R20: 1 | S20: 4 | T20: 197 | U20: 197 | V20: 162 | W20: 162 | X20: 174 | Y20: 174
... A33: 連江縣 | B33: 9359 | C33: 80 | D33: 81 | E33: 35 | F33: 11 | G33: 106 | H33: 26 | I33: 0 | J33: 0 | K33: 0 | L33: 782 | M33: 12 | N33: 0 | O33: 0 | P33: 63 | Q33: 2 | R33: 0 | S33: 0 | T33: 0 | U33: 0 | V33: 0 | W33: 0 | X33: 0 | Y33: 0
A34: 填表 | F34: 審核 | L34: 主辦業務人員 | T34: 機關長官
L35: 主辦統計人員
A37: 資料來源：行政院衛生署醫事處。
A38: 填表說明：本表一式二份，一份送本署統計室，一份本署醫事處自存。

Sheet 編製說明
H1: 精神衛生行政工作執行成果編製說明
B3: 一、統計範圍及對象：凡在衛生單位辦理精神衛生行政有關之各項工作，均為統計對象。
B4: 二、統計標準時間：以每年1月1日至12月底之事實為準。
B5: 三、分類標準：
B6: （一）橫項目依鄉鎮別或行政區域分。
B7: （二）縱項目依精神衛生行政工作所辦理之事項分。
B8: 四、統計項目定義：
B9: (一)轄區總人口數：依據內政部年底人口數。
B10: (二)目前管理個案數：
C11: 1. 上年：上年12月31日衛生局(所)列冊追蹤照護之精神病人數。
C12: 2. 本年：本年12月31日衛生局(所)列冊追蹤照護之精神病人數。
B13: (三)領具精神障礙手冊/證明人數：領具身心障礙者舊制障礙類別“慢性精神病”、新制鑑定診斷碼ICD9 291-298、ICD-10[精神、行為和神經發展疾患]F01-F99之人數。
B14: (四)管理個案分級人數：指依據「精神疾病患者社區家訪要點」之分級標準，各級病人人數。各級人數相加應等於本年目前管理個案數。
C15: 1、一級對象：
C16: (1)新收案三個月內。
C17: (2)出院追蹤三個月內(含經強制鑑定或強制住院出院後之精神疾病嚴重病人)。
C18: (3)社區精神病患訪視追蹤紀錄中之活性症狀干擾性四分以上之精神病患。
C19: (4)個案現況評分欄其活性症狀干擾性、社區生活功能障礙、家屬對患者照顧之態度心理問題、醫療上的問題等四項總分二十分以上之精神病患。
C20: (5)危險行為處理後,三個月內個案。
C21: (6)由各區督導會討論決定。
C22: ＊照護間隔：
C23: (1)二星期內訪視第一次。
C24: (2)前三個月每個月內訪視一次。
C25: 2、二級對象：
C26: (1)一級對象（1）（2）（5）項滿三個月以上。
... C42: ＊照護間隔：督導會議討論後決定。
B43: (五)訪員人數：指衛生局(所)參與追蹤照護精神病人之工作人員數(含公共衛生護理師、社區關懷訪視員、心理衛生社工等)，並區分訪員性別人數。
B44: (六)嚴重病人人數：指經精神專科醫師診斷確定為精神疾病嚴重病人年底累計人數，並區分嚴重病人性別人數。
B45: (七)訪視人次：指精神衛生相關工作人員訪視精神病人人次(含家訪、面訪及電訪等)。
B46: (八)協助緊急處置人數：依據精神衛生法第36條提供嚴重病人緊急處置人數(非緊急安置)，並區分緊急處置病人之性別人數。
B47: (九)協助病人就醫次數：指衛生局(所)工作人員協助精神病人就醫治療次數，並區分協助就醫病人之性別人數。
B48: (十)會商選定指定保護人人次數：指依精神衛生法及其相關規定，經衛生局會商選定指定保護人人次數，並區分保護人性別人數。
B49: (十一)指定保護人人次數：指依精神衛生法及其相關規定，指定精神病人保護人人次數，並區分保護人性別人數。
B50: (十二)指定精神醫療機構數：指經縣(市)政府指定公告辦理精神疾病嚴重病人強制住院及強制社區治療等業務之精神醫療機構。
B51: (十三)指定精神科專科醫師人數：依指定精神醫療機構管理辦法第6條指定精神科專科醫師人數，並區分指定精神科專科醫師性別人數。
B52: (十四)一般民眾宣導活動：指針對一般民眾之精神衛生教育宣導活動人次及場次。
B53: (十五)工作人員在職訓練：指衛生局(所)工作人員參加精神衛生相關訓練活動人次及場次。
B54: (十六)相關基層人員研習會：指針對基層工作人員如教師、村里鄰長等所辦理之精神衛生相關研討會、工作坊等活動人次及場次。
... B58: 六、編送對象：本表一式二份，一份送本部心理健康司，一份統計處自存。
