Workbook

Sheet 歷年
A1: 精神衛生行政工作執行成果表
N2: 中華民國 93-114 年 | AI2: 單位：人、人次、次、件
A3: 年底別 | B3: 轄區 總人口數 | C3: 目前管理個案數 | E3: 領具精神 障礙手冊/ 證明人數 | F3: 管理個案分級人數 | L3: 訪員 人數 | N3: 嚴重病人 人數 | P3: 訪視人次 | Q3: 緊急處置 人數 | S3: 協助病人就醫次數 | U3: 會商選定指定保護人次數 | W3: 指定保護人次數 | Y3: 指定精神 醫療機構數 | Z3: 指定精神 專科醫師 人數 | AB3: 一般民眾 宣導活動 | AD3: 工作人員 在職訓練 | AF3: 相關基層人員 研習會 | AH3: 工作協調 會議(次) | AI3: 民眾申訴 案件(件)
C4: 上年 | D4: 本年 | F4: 一級 | G4: 二級 | H4: 三級 | I4: 四級 | J4: 五級 | K4: 未分級
L5: 男 | M5: 女 | N5: 男 | O5: 女 | Q5: 男 | R5: 女 | S5: 男 | T5: 女 | U5: 男 | V5: 女 | W5: 男 | X5: 女 | Z5: 男 | AA5: 女 | AB5: 人次 | AC5: 場次 | AD5: 人次 | AE5: 場次 | AF5: 人次 | AG5: 場次
A6: 93年 | B6: ='93年'!B8 -> 22695236 | C6: ='93年'!C8 -> 66832 | D6: ='93年'!D8 -> 78096 | E6: ='93年'!E8 -> 83618 | F6: … | G6: … | H6: … | I6: … | J6: … | K6: … | L6: ='93年'!F8 -> 3711 | N6: … | O6: … | P6: ='93年'!G8 -> 106286 | Q6: … | R6: … | S6: ='93年'!H8 -> 6068 | U6: … | V6: … | W6: ='93年'!I8 -> 79 | Y6: … | Z6: … | AA6: … | AB6: ='93年'!L8 -> 225271 | AC6: ='93年'!M8 -> 1599 | AD6: ='93年'!N8 -> 9428 | AE6: ='93年'!O8 -> 332 | AF6: ='93年'!P8 -> 25354 | AG6: ='93年'!Q8 -> 369 | AH6: ='93年'!R8 -> 328 | AI6: ='93年'!S8 -> 1159
A7: 94年 | B7: ='94年'!B8 -> 22770383 | C7: ='94年'!C8 -> 75749 | D7: ='94年'!D8 -> 73572 | E7: ='94年'!E8 -> 85198 | F7: … | G7: … | H7: … | I7: … | J7: … | K7: … | L7: ='94年'!F8 -> 4492 | N7: … | O7: … | P7: ='94年'!G8 -> 142252 | Q7: … | R7: … | S7: ='94年'!H8 -> 6847 | U7: … | V7: … | W7: ='94年'!I8 -> 173 | Y7: … | Z7: … | AA7: … | AB7: ='94年'!L8 -> 254975 | AC7: ='94年'!M8 -> 1908 | AD7: ='94年'!N8 -> 9558 | AE7: ='94年'!O8 -> 613 | AF7: ='94年'!P8 -> 21851 | AG7: ='94年'!Q8 -> 497 | AH7: ='94年'!R8 -> 337 | AI7: ='94年'!S8 -> 1342
A8: 95年 | B8: ='95年'!B8 -> 22876527 | C8: ='95年'!C8 -> 73572 | D8: ='95年'!D8 -> 78654 | E8: ='95年'!E8 -> 86657 | F8: … | G8: … | H8: … | I8: … | J8: … | K8: … | L8: ='95年'!F8 -> 2897 | N8: … | O8: … | P8: ='95年'!G8 -> 155991 | Q8: … | R8: … | S8: ='95年'!H8 -> 6598 | U8: … | V8: … | W8: ='95年'!I8 -> 143 | Y8: … | Z8: … | AA8: … | AB8: ='95年'!L8 -> 208840 | AC8: ='95年'!M8 -> 1611 | AD8: ='95年'!N8 -> 13087 | AE8: ='95年'!O8 -> 607 | AF8: ='95年'!P8 -> 19397 | AG8: ='95年'!Q8 -> 302 | AH8: ='95年'!R8 -> 796 | AI8: ='95年'!S8 -> 1447
A9: 96年 | B9: ='96年'!B8 -> 22958360 | C9: ='96年'!C8 -> 78657 | D9: ='96年'!D8 -> 91762 | E9: ='96年'!E8 -> 87829 | F9: ='96年'!F8 -> 4897 | G9: ='96年'!G8 -> 4066 | H9: ='96年'!H8 -> 31655 | I9: ='96年'!I8 -> 42567 | J9: ='96年'!J8 -> 8442 | K9: … | L9: ='96年'!K8 -> 2622 | N9: … | O9: … | P9: ='96年'!L8 -> 174652 | Q9: … | R9: … | S9: ='96年'!M8 -> 5829 | U9: … | V9: … | W9: ='96年'!N8 -> 376 | Y9: … | Z9: … | AA9: … | AB9: ='96年'!Q8 -> 225698 | AC9: ='96年'!R8 -> 4011 | AD9: ='96年'!S8 -> 11560 | AE9: ='96年'!T8 -> 856 | AF9: ='96年'!U8 -> 20673 | AG9: ='96年'!V8 -> 356 | AH9: ='96年'!W8 -> 411 | AI9: ='96年'!X8 -> 1511
A10: 97年 | B10: ='97年'!B8 -> 23037031 | C10: ='97年'!C8 -> 91665 | D10: ='97年'!D8 -> 99115 | E10: ='97年'!E8 -> 91622 | F10: ='97年'!F8 -> 4331 | G10: ='97年'!G8 -> 5121 | H10: ='97年'!H8 -> 36194 | I10: ='97年'!I8 -> 43559 | J10: ='97年'!J8 -> 9509 | K10: … | L10: ='97年'!K8 -> 2830 | N10: … | O10: … | P10: ='97年'!L8 -> 258914 | Q10: … | R10: … | S10: ='97年'!M8 -> 5559 | U10: … | V10: … | W10: ='97年'!N8 -> 48 | Y10: … | Z10: … | AA10: … | AB10: ='97年'!Q8 -> 251069 | AC10: ='97年'!R8 -> 3844 | AD10: ='97年'!S8 -> 12715 | AE10: ='97年'!T8 -> 583 | AF10: ='97年'!U8 -> 15874 | AG10: ='97年'!V8 -> 268 | AH10: ='97年'!W8 -> 388 | AI10: ='97年'!X8 -> 1650
A11: 98年 | B11: ='98年'!B8 -> 23119772 | C11: ='98年'!C8 -> 98542 | D11: ='98年'!D8 -> 104765 | E11: ='98年'!E8 -> 101959 | F11: ='98年'!F8 -> 6555 | G11: ='98年'!G8 -> 3753 | H11: ='98年'!H8 -> 39111 | I11: ='98年'!I8 -> 50510 | J11: ='98年'!J8 -> 4832 | K11: … | L11: ='98年'!K8 -> 2746 | N11: … | O11: … | P11: ='98年'!L8 -> 350096 | Q11: … | R11: … | S11: ='98年'!M8 -> 6431 | U11: … | V11: … | W11: ='98年'!N8 -> 272 | Y11: … | Z11: … | AA11: … | AB11: ='98年'!Q8 -> 289897 | AC11: ='98年'!R8 -> 3750 | AD11: ='98年'!S8 -> 8255 | AE11: ='98年'!T8 -> 844 | AF11: ='98年'!U8 -> 13234 | AG11: ='98年'!V8 -> 564 | AH11: ='98年'!W8 -> 519 | AI11: ='98年'!X8 -> 2001
A12: 99年 | B12: ='99年'!B8 -> 23162123 | C12: ='99年'!C8 -> 101746 | D12: ='99年'!D8 -> 119544 | E12: ='99年'!E8 -> 144610 | F12: ='99年'!F8 -> 10333 | G12: ='99年'!G8 -> 4723 | H12: ='99年'!H8 -> 39117 | I12: ='99年'!I8 -> 62933 | J12: ='99年'!J8 -> 2395 | K12: … | L12: ='99年'!K8 -> 2704 | N12: ='99年'!L8 -> 3212 | P12: ='99年'!M8 -> 462955 | Q12: … | R12: … | S12: ='99年'!N8 -> 9011 | U12: … | V12: … | W12: ='99年'!O8 -> 965 | Y12: ='99年'!P8 -> 108 | Z12: … | AA12: … | AB12: ='99年'!Q8 -> 296416 | AC12: ='99年'!R8 -> 3272 | AD12: ='99年'!S8 -> 7597 | AE12: ='99年'!T8 -> 910 | AF12: ='99年'!U8 -> 12022 | AG12: ='99年'!V8 -> 399 | AH12: ='99年'!W8 -> 438 | AI12: ='99年'!X8 -> 1695
A13: 100年 | B13: ='100年'!B8 -> 23224912 | C13: ='100年'!C8 -> 119544 | D13: ='100年'!D8 -> 123648 | E13: ='100年'!E8 -> 113461 | F13: ='100年'!F8 -> 8263 | G13: ='100年'!G8 -> 4640 | H13: ='100年'!H8 -> 40141 | I13: ='100年'!I8 -> 68537 | J13: ='100年'!J8 -> 2023 | K13: … | L13: ='100年'!K8 -> 2499 | N13: ='100年'!L8 -> 3575 | P13: ='100年'!M8 -> 490009 | Q13: … | R13: … | S13: ='100年'!N8 -> 7101 | U13: ='100年'!O8 -> 290 | W13: ='100年'!P8 -> 272 | Y13: ='100年'!Q8 -> 103 | Z13: … | AA13: … | AB13: ='100年'!R8 -> 299233 | AC13: ='100年'!S8 -> 3354 | AD13: ='100年'!T8 -> 9078 | AE13: ='100年'!U8 -> 832 | AF13: ='100年'!V8 -> 13907 | AG13: ='100年'!W8 -> 394 | AH13: ='100年'!X8 -> 522 | AI13: ='100年'!Y8 -> 2642
A14: 101年 | B14: ='101年'!B8 -> 23315822 | C14: ='101年'!C8 -> 123617 | D14: ='101年'!D8 -> 129837 | E14: ='101年'!E8 -> 117101 | F14: ='101年'!F8 -> 10051 | G14: ='101年'!G8 -> 5171 | H14: ='101年'!H8 -> 35752 | I14: ='101年'!I8 -> 77217 | J14: ='101年'!J8 -> 1646 | K14: … | L14: ='101年'!K8 -> 2515 | N14: ='101年'!L8 -> 3320 | P14: ='101年'!M8 -> 531322 | Q14: … | R14: … | S14: ='101年'!N8 -> 7180 | U14: ='101年'!O8 -> 284 | W14: ='101年'!P8 -> 283 | Y14: ='101年'!Q8 -> 104 | Z14: … | AA14: … | AB14: ='101年'!R8 -> 458453 | AC14: ='101年'!S8 -> 3194 | AD14: ='101年'!T8 -> 11367 | AE14: ='101年'!U8 -> 957 | AF14: ='101年'!V8 -> 32098 | AG14: ='101年'!W8 -> 647 | AH14: ='101年'!X8 -> 717 | AI14: ='101年'!Y8 -> 2667
A15: 102年 | B15: ='102年'!B8 -> 23373517 | C15: ='102年'!C8 -> 129837 | D15: ='102年'!D8 -> 133662 | E15: ='102年'!E8 -> 117529 | F15: ='102年'!F8 -> 14264 | G15: ='102年'!G8 -> 5964 | H15: ='102年'!H8 -> 34578 | I15: ='102年'!I8 -> 77640 | ... AI15: ='102年'!AI8 -> 3021
A16: 103年 | B16: ='103年'!B8 -> 23433753 | C16: ='103年'!C8 -> 133662 | D16: ='103年'!D8 -> 141310 | E16: ='103年'!E8 -> 119810 | F16: ='103年'!F8 -> 16020 | G16: ='103年'!G8 -> 8257 | H16: ='103年'!H8 -> 35622 | I16: ='103年'!I8 -> 80412 | ... AI16: ='103年'!AI8 -> 3285
A17: 104年 | B17: ='104年'!B8 -> 23043460 | C17: ='104年'!C8 -> 141310 | D17: ='104年'!D8 -> 141768 | E17: ='104年'!E8 -> 120479 | F17: ='104年'!F8 -> 13481 | G17: ='104年'!G8 -> 21308 | H17: ='104年'!H8 -> 37382 | I17: ='104年'!I8 -> 68780 | ... AI17: ='104年'!AI8 -> 3126
A18: 105年 | B18: ='105年'!B8 -> 23539816 | C18: ='105年'!C8 -> 141251 | D18: ='105年'!D8 -> 141537 | E18: ='105年'!E8 -> 121830 | F18: ='105年'!F8 -> 14117 | G18: ='105年'!G8 -> 25665 | H18: ='105年'!H8 -> 38420 | I18: ='105年'!I8 -> 62608 | ... AI18: ='105年'!AI8 -> 4011
A19: 106年 | B19: ='106年'!B8 -> 23571227 | C19: ='106年'!C8 -> 141537 | D19: ='106年'!D8 -> 139286 | E19: ='106年'!E8 -> 117858 | F19: ='106年'!F8 -> 18062 | G19: ='106年'!G8 -> 17085 | H19: ='106年'!H8 -> 42748 | I19: ='106年'!I8 -> 60630 | ... AI19: ='106年'!AI8 -> 3392
A20: 107年 | B20: ='107年'!B8 -> 23588932 | C20: ='107年'!C8 -> 139286 | D20: ='107年'!D8 -> 140516 | E20: ='107年'!E8 -> 114928 | F20: ='107年'!F8 -> 22080 | G20: ='107年'!G8 -> 19433 | H20: ='107年'!H8 -> 37779 | I20: ='107年'!I8 -> 60289 | ... AI20: ='107年'!AI8 -> 2154
A21: 108年 | B21: 23603121 | C21: 140516 | D21: 135719 | E21: 113199 | F21: 20761 | G21: 18547 | H21: 36160 | I21: 58988 | J21: 1113 | K21: 150 | L21: 136 | M21: 2850 | N21: 3550 | O21: 3049 | P21: 765405 | Q21: 495 | R21: 388 | S21: 2048 | T21: 1396 | U21: 166 | V21: 179 | W21: 225 | X21: 323 | Y21: 102 | Z21: 640 | AA21: 162 | AB21: 373173 | AC21: 4999 | AD21: 11671 | AE21: 998 | AF21: 30562 | AG21: 915 | AH21: 996 | AI21: 2462
A22: 109年 | B22: 23701833 | C22: 135719 | D22: 122830 | E22: 108668 | F22: 18132 | G22: 16178 | H22: 31137 | I22: 55952 | J22: 1271 | K22: 160 | L22: 111 | M22: 2841 | N22: 3056 | O22: 2838 | P22: 689339 | Q22: 352 | R22: 242 | S22: 2171 | T22: 1525 | U22: 150 | V22: 161 | W22: 172 | X22: 172 | Y22: 101 | Z22: 635 | AA22: 171 | AB22: 236608 | AC22: 4574 | AD22: 11704 | AE22: 906 | AF22: 27382 | AG22: 648 | AH22: 1133 | AI22: 2109
A23: 110年 | B23: 23375314 | C23: 122830 | D23: 114112 | E23: 107473 | F23: 19805 | G23: 14780 | H23: 29220 | I23: 48335 | J23: 1733 | K23: 239 | L23: 133 | M23: 2621 | N23: 3105 | O23: 2619 | P23: 625495 | Q23: 625 | R23: 444 | S23: 2004 | T23: 1370 | U23: 123 | V23: 142 | W23: 185 | X23: 220 | Y23: 100 | Z23: 656 | AA23: 169 | AB23: 157429 | AC23: 2799 | AD23: 9686 | AE23: 928 | AF23: 26087 | AG23: 800 | AH23: 893 | AI23: 1767
A24: 111年 | B24: 23264640 | C24: 114112 | D24: 105338 | E24: 112362 | F24: 19612 | G24: 14163 | H24: 28418 | I24: 41266 | J24: 1680 | K24: 199 | L24: 203 | M24: 2944 | N24: 3523 | O24: 2899 | P24: 547615 | Q24: 336 | R24: 278 | S24: 2747 | T24: 1982 | U24: 135 | V24: 139 | W24: 206 | X24: 250 | Y24: 101 | Z24: 699 | AA24: 196 | AB24: 229918 | AC24: 3368 | AD24: 9603 | AE24: 943 | AF24: 31154 | AG24: 770 | AH24: 1021 | AI24: 1804
A25: 112年 | B25: 23420442 | C25: 105338 | D25: 96768 | E25: 111437 | F25: 17148 | G25: 14078 | H25: 28187 | I25: 35577 | J25: 1636 | K25: 142 | L25: 272 | M25: 3032 | N25: 3050 | O25: 2658 | P25: 574205 | Q25: 460 | R25: 375 | S25: 1959 | T25: 1581 | U25: 135 | V25: 123 | W25: 204 | X25: 229 | Y25: 101 | Z25: 579 | AA25: 178 | AB25: 346869 | AC25: 5344 | AD25: 15090 | AE25: 804 | AF25: 29645 | AG25: 880 | AH25: 1250 | AI25: 2190
A26: 113年 | B26: 23400220 | C26: 96768 | D26: 92399 | E26: 112506 | F26: 16518 | G26: 13250 | H26: 27129 | I26: 34139 | J26: 1171 | K26: 192 | L26: 328 | M26: 3213 | N26: 2952 | O26: 2786 | P26: 556821 | Q26: 329 | R26: 263 | S26: 1920 | T26: 1579 | U26: 142 | V26: 152 | W26: 240 | X26: 270 | Y26: 105 | Z26: 600 | AA26: 186 | AB26: 304050 | AC26: 4495 | AD26: 16539 | AE26: 732 | AF26: 43901 | AG26: 974 | AH26: 1093 | AI26: 2637
A27: 114年 | B27: 23299132 | C27: 92399 | D27: 79136 | E27: 137082 | F27: 15138 | G27: 12521 | H27: 23713 | I27: 27143 | J27: 493 | K27: 128 | L27: 307 | M27: 2976 | N27: 464 | O27: 425 | P27: 533921 | Q27: 345 | R27: 295 | S27: 2054 | T27: 1833 | U27: 166 | V27: 157 | W27: 156 | X27: 213 | Y27: 98 | Z27: 641 | AA27: 217 | AB27: 442461 | AC27: 5761 | AD27: 26682 | AE27: 1292 | AF27: 44569 | AG27: 1215 | AH27: 1328 | AI27: 2253
A28: 資料來源：依據直轄市政府及各縣市衛生局(含金門、連江縣)之資料彙編。
A29: 填表說明：1.轄區總人口數依據內政部年底人口數。
A30: 填表說明：2.本表一式二份，一份送本部心理健康司，一份自存。
A31: 填表說明：3.新北市嚴重病人人數以醫院通報嚴重病人之人數為計算基準。
A32: 備註：
A33: 1.自96年起增列「管理個案分級人數」，93年至95年無相關統計資料，爰以「…」表示。
A34: 2.自99年起增列「嚴重病人人數」及「指定精神醫療機構數」，93年至98年無相關統計資料，爰以「…」表示。
A35: 3.自100年起增列「會商選定指定保護人次數」，93年至99年無相關統計資料，爰以「…」表示。
A36: 4.自102年起管理個案分級人數增列「未分級」，93年至101年無相關統計資料，爰以「…」表示。
A37: 5.自102年起「訪員人數」、「嚴重病人人數」、「緊急處置人數」、「協助病人就醫次數」、「會商選定指定保護人次數」、「指定精神專科醫師人數」始分計男女，93年至101年相關統計資料無法細分，爰以合計呈現。

Sheet 114年
A1: 公開類 | AF1: 編製機關 | AH1: 衛生福利部
A2: 年 報 | B2: 每年終了2個月內編報 | AF2: 表 號 | AH2: 10551-03-01
A3: 精神衛生行政工作執行成果
Q4: 中華民國 114 年 | AI4: 單位：人、人次、次、件
A5: 縣市別 | B5: 轄區 總人口數 | C5: 目前管理個案數 | E5: 領具精神障礙手冊/證明人數 | F5: 管理個案分級人數 | L5: 訪員 人數 | N5: 嚴重病人 人數 | P5: 訪視人次 | Q5: 緊急處置 人數 | S5: 協助病人 就醫次數 | U5: 會商選定指定保護人人次數 | W5: 指定保護人人次數 | Y5: 指定精神醫療機構數 | Z5: 指定精神科專科醫師人數 | AB5: 一般民眾 宣導活動 | AD5: 工作人員 在職訓練 | AF5: 相關基層人員 研習會 | AH5: 工作協調 會 議 (次) | AI5: 民眾申訴案件(件)
C6: 上年 | D6: 本年 | F6: 一級 | G6: 二級 | H6: 三級 | I6: 四級 | J6: 五級 | K6: 未分級
L7: 男 | M7: 女 | N7: 男 | O7: 女 | Q7: 男 | R7: 女 | S7: 男 | T7: 女 | U7: 男 | V7: 女 | W7: 男 | X7: 女 | Z7: 男 | AA7: 女 | AB7: 人次 | AC7: 場次 | AD7: 人次 | AE7: 場次 | AF7: 人次 | AG7: 場次
A8: 總 計 | B8: 23299132 | C8: 92399 | D8: 79136 | E8: 137082 | F8: 15138 | G8: 12521 | H8: 23713 | I8: 27143 | J8: 493 | K8: 128 | L8: 307 | M8: 2976 | N8: 464 | O8: 425 | P8: 533921 | Q8: 345 | R8: 295 | S8: 2054 | T8: 1833 | U8: 166 | V8: 157 | W8: 156 | X8: 213 | Y8: 98 | Z8: 641 | AA8: 217 | AB8: 442461 | AC8: 5761 | AD8: 26682 | AE8: 1292 | AF8: 44569 | AG8: 1215 | AH8: 1328 | AI8: 2253
A9: 新北市 | B9: 4044831 | C9: 14016 | D9: 13463 | E9: 20958 | F9: 2418 | G9: 1722 | H9: 4221 | I9: 5101 | J9: 1 | K9: 0 | L9: 33 | M9: 431 | N9: 71 | O9: 68 | P9: 81851 | Q9: 100 | R9: 97 | S9: 46 | T9: 36 | U9: 5 | V9: 10 | W9: 17 | X9: 25 | Y9: 9 | Z9: 63 | AA9: 29 | AB9: 36483 | AC9: 596 | AD9: 200 | AE9: 3 | AF9: 1320 | AG9: 24 | AH9: 115 | AI9: 505
A10: 臺北市 | B10: 2439507 | C10: 11834 | D10: 10350 | E10: 15550 | F10: 1602 | G10: 1586 | H10: 3907 | I10: 3159 | J10: 96 | K10: 0 | L10: 47 | M10: 100 | N10: 55 | O10: 63 | P10: 52472 | Q10: 68 | R10: 73 | S10: 32 | T10: 25 | U10: 28 | V10: 43 | W10: 3 | X10: 47 | Y10: 9 | Z10: 128 | AA10: 42 | AB10: 8056 | AC10: 58 | AD10: 8244 | AE10: 130 | AF10: 344 | AG10: 8 | AH10: 10 | AI10: 117
A11: 桃園市 | B11: 2355106 | C11: 6992 | D11: 6029 | E11: 10519 | F11: 1346 | G11: 1070 | H11: 2071 | I11: 1541 | J11: 1 | K11: 0 | L11: 26 | M11: 232 | N11: 14 | O11: 15 | P11: 48327 | Q11: 0 | R11: 0 | S11: 305 | T11: 378 | U11: 0 | V11: 0 | W11: 8 | X11: 6 | Y11: 5 | Z11: 55 | AA11: 14 | AB11: 15620 | AC11: 212 | AD11: 747 | AE11: 33 | AF11: 2025 | AG11: 16 | AH11: 4 | AI11: 187
A12: 臺中市 | B12: 2868465 | C12: 7270 | D12: 6927 | E12: 14182 | F12: 2053 | G12: 1289 | H12: 1807 | I12: 1778 | J12: 0 | K12: 0 | L12: 23 | M12: 318 | N12: 37 | O12: 21 | P12: 59734 | Q12: 38 | R12: 23 | S12: 141 | T12: 142 | U12: 0 | V12: 0 | W12: 3 | X12: 6 | Y12: 15 | Z12: 60 | AA12: 24 | AB12: 110037 | AC12: 728 | AD12: 1109 | AE12: 15 | AF12: 3262 | AG12: 144 | AH12: 5 | AI12: 77
A13: 臺南市 | B13: 1852477 | C13: 6879 | D13: 6398 | E13: 9121 | F13: 1159 | G13: 764 | H13: 1796 | I13: 2607 | J13: 0 | K13: 72 | L13: 23 | M13: 258 | N13: 71 | O13: 51 | P13: 48143 | Q13: 13 | R13: 5 | S13: 106 | T13: 86 | U13: 4 | V13: 11 | W13: 24 | X13: 34 | Y13: 7 | Z13: 33 | AA13: 22 | AB13: 11594 | AC13: 135 | AD13: 2537 | AE13: 79 | AF13: 2738 | AG13: 66 | AH13: 255 | AI13: 457
A14: 高雄市 | B14: 2718545 | C14: 15135 | D14: 10756 | E14: 18307 | F14: 2064 | G14: 2534 | H14: 2541 | I14: 3616 | J14: 1 | K14: 0 | L14: 44 | M14: 330 | N14: 124 | O14: 120 | P14: 80168 | Q14: 0 | R14: 0 | S14: 208 | T14: 200 | U14: 74 | V14: 81 | W14: 50 | X14: 39 | Y14: 11 | Z14: 84 | AA14: 39 | AB14: 34072 | AC14: 749 | AD14: 1227 | AE14: 408 | AF14: 1201 | AG14: 157 | AH14: 355 | AI14: 585
A15: 宜蘭縣 | B15: 449336 | C15: 3331 | D15: 3090 | E15: 3711 | F15: 333 | G15: 244 | H15: 816 | I15: 1667 | J15: 7 | K15: 23 | L15: 0 | M15: 71 | N15: 1 | O15: 2 | P15: 16028 | Q15: 0 | R15: 0 | S15: 119 | T15: 118 | U15: 0 | V15: 0 | W15: 0 | X15: 2 | Y15: 0 | Z15: 6 | AA15: 1 | AB15: 15264 | AC15: 314 | AD15: 1604 | AE15: 31 | AF15: 386 | AG15: 33 | AH15: 33 | AI15: 22
A16: 新竹縣 | B16: 597235 | C16: 2251 | D16: 1968 | E16: 2498 | F16: 382 | G16: 322 | H16: 394 | I16: 870 | J16: 0 | K16: 0 | L16: 5 | M16: 110 | N16: 3 | O16: 8 | P16: 12449 | Q16: 2 | R16: 1 | S16: 95 | T16: 59 | U16: 1 | V16: 1 | W16: 4 | X16: 9 | Y16: 3 | Z16: 8 | AA16: 4 | AB16: 13294 | AC16: 224 | AD16: 495 | AE16: 10 | AF16: 1436 | AG16: 29 | AH16: 2 | AI16: 6
A17: 苗栗縣 | B17: 531172 | C17: 1314 | D17: 991 | E17: 3243 | F17: 284 | G17: 228 | H17: 303 | I17: 176 | J17: 0 | K17: 0 | L17: 4 | M17: 142 | N17: 8 | O17: 6 | P17: 7681 | Q17: 0 | R17: 1 | S17: 60 | T17: 49 | U17: 0 | V17: 0 | W17: 5 | X17: 3 | Y17: 3 | Z17: 10 | AA17: 3 | AB17: 4956 | AC17: 56 | AD17: 572 | AE17: 22 | AF17: 2706 | AG17: 47 | AH17: 2 | AI17: 0
A18: 彰化縣 | B18: 1210206 | C18: 6800 | D18: 6216 | E18: 8731 | F18: 782 | G18: 575 | H18: 2035 | I18: 2440 | J18: 384 | K18: 0 | L18: 13 | M18: 183 | N18: 15 | O18: 14 | P18: 36016 | Q18: 0 | R18: 0 | S18: 353 | T18: 226 | U18: 5 | V18: 1 | W18: 9 | X18: 9 | Y18: 5 | Z18: 27 | AA18: 6 | AB18: 23913 | AC18: 508 | AD18: 666 | AE18: 154 | AF18: 6356 | AG18: 125 | AH18: 115 | AI18: 140
A19: 南投縣 | B19: 467881 | C19: 1714 | D19: 1590 | E19: 3432 | F19: 420 | G19: 409 | H19: 231 | I19: 530 | J19: 0 | K19: 0 | L19: 21 | M19: 130 | N19: 6 | O19: 1 | P19: 10636 | Q19: 0 | R19: 0 | S19: 148 | T19: 93 | U19: 0 | V19: 0 | W19: 0 | X19: 3 | Y19: 2 | Z19: 32 | AA19: 10 | AB19: 14677 | AC19: 144 | AD19: 801 | AE19: 74 | AF19: 3989 | AG19: 92 | AH19: 34 | AI19: 25
... A30: 連江縣 | B30: 13621 | C30: 26 | D30: 27 | E30: 77 | F30: 2 | G30: 5 | H30: 10 | I30: 10 | J30: 0 | K30: 0 | L30: 2 | M30: 3 | N30: 1 | O30: 1 | P30: 166 | Q30: 0 | R30: 0 | S30: 0 | T30: 0 | U30: 0 | V30: 0 | W30: 0 | X30: 0 | Y30: 0 | Z30: 0 | AA30: 0 | AB30: 692 | AC30: 5 | AD30: 21 | AE30: 1 | AF30: 120 | AG30: 5 | AH30: 2 | AI30: 0
A31: 填表 | G31: 審核 | U31: 主辦業務人員 | AF31: 機關長官
U32: 主辦統計人員
A33: 資料來源：依據直轄市政府及各縣市衛生局(含金門、連江縣)之資料彙編。
A34: 填表說明：1. 轄區總人口數依據內政部年底人口數。
A35: 2.本表一式二份，一份送本部心理健康司，一份統計處自存。

Sheet 113年
A1: 公開類 | AF1: 編製機關 | AH1: 衛生福利部
A2: 年 報 | B2: 每年終了2個月內編報 | AF2: 表 號 | AH2: 10551-03-01
A3: 精神衛生行政工作執行成果(修正)
Q4: 中華民國 113 年 | AI4: 單位：人、人次、次、件
A5: 縣市別 | B5: 轄區 總人口數 | C5: 目前管理個案數 | E5: 領具精神障礙手冊/證明人數 | F5: 管理個案分級人數 | L5: 訪員 人數 | N5: 嚴重病人 人數 | P5: 訪視人次 | Q5: 緊急處置 人數 | S5: 協助病人 就醫次數 | U5: 會商選定指定保護人人次數 | W5: 指定保護人人次數 | Y5: 指定精神醫療機構數 | Z5: 指定精神科專科醫師人數 | AB5: 一般民眾 宣導活動 | AD5: 工作人員 在職訓練 | AF5: 相關基層人員 研習會 | AH5: 工作協調 會 議 (次) | AI5: 民眾申訴案件(件)
C6: 上年 | D6: 本年 | F6: 一級 | G6: 二級 | H6: 三級 | I6: 四級 | J6: 五級 | K6: 未分級
L7: 男 | M7: 女 | N7: 男 | O7: 女 | Q7: 男 | R7: 女 | S7: 男 | T7: 女 | U7: 男 | V7: 女 | W7: 男 | X7: 女 | Z7: 男 | AA7: 女 | AB7: 人次 | AC7: 場次 | AD7: 人次 | AE7: 場次 | AF7: 人次 | AG7: 場次
A8: 總 計 | B8: 23400220 | C8: =SUM(C9:C30) -> 96768 | D8: =SUM(F8:K8) -> 92399 | E8: =SUM(E9:E30) -> 112506 | F8: =SUM(F9:F30) -> 16518 | G8: =SUM(G9:G30) -> 13250 | H8: =SUM(H9:H30) -> 27129 | I8: =SUM(I9:I30) -> 34139 | J8: =SUM(J9:J30) -> 1171 | K8: =SUM(K9:K30) -> 192 | L8: =SUM(L9:L30) -> 328 | ... AI8: =SUM(AI9:AI30) -> 2637
A9: 新北市 | B9: 4047001 | C9: =SUM('112年'!D9) -> 14746 | D9: =SUM(F9:K9) -> 14016 | E9: 10813 | F9: 2325 | G9: 1643 | H9: 4407 | I9: 5549 | J9: 92 | K9: 0 | L9: 53 | M9: 449 | N9: 521 | O9: 540 | P9: 87309 | Q9: 85 | R9: 63 | S9: 58 | T9: 47 | U9: 10 | V9: 11 | W9: 24 | X9: 22 | Y9: 9 | Z9: 61 | AA9: 30 | AB9: 45431 | AC9: 590 | AD9: 228 | AE9: 6 | AF9: 2521 | AG9: 35 | AH9: 109 | AI9: 852
A10: 臺北市 | B10: 2490869 | C10: =SUM('112年'!D10) -> 12331 | D10: =SUM(F10:K10) -> 11834 | E10: 15482 | F10: 1612 | G10: 1634 | H10: 4986 | I10: 3501 | J10: 101 | K10: 0 | L10: 22 | M10: 237 | N10: 559 | O10: 603 | P10: 53913 | Q10: 53 | R10: 60 | S10: 33 | T10: 52 | U10: 25 | V10: 39 | W10: 16 | X10: 19 | Y10: 9 | Z10: 88 | AA10: 28 | AB10: 9972 | AC10: 39 | AD10: 2524 | AE10: 84 | AF10: 929 | AG10: 17 | AH10: 24 | AI10: 412
A11: 桃園市 | B11: 2338648 | C11: =SUM('112年'!D11) -> 7111 | D11: =SUM(F11:K11) -> 6992 | E11: 5258 | F11: 2144 | G11: 1448 | H11: 1728 | I11: 1672 | J11: 0 | K11: 0 | L11: 24 | M11: 215 | N11: 226 | O11: 204 | P11: 51790 | Q11: 0 | R11: 0 | S11: 19 | T11: 11 | U11: 0 | V11: 0 | W11: 4 | X11: 6 | Y11: 5 | Z11: 50 | AA11: 11 | AB11: 10206 | AC11: 104 | AD11: 161 | AE11: 2 | AF11: 647 | AG11: 16 | AH11: 3 | AI11: 96
A12: 臺中市 | B12: 2860601 | C12: =SUM('112年'!D12) -> 7493 | D12: =SUM(F12:K12) -> 7270 | E12: 13949 | F12: 2026 | G12: 1278 | H12: 2107 | I12: 1859 | J12: 0 | K12: 0 | L12: 37 | M12: 318 | N12: 29 | O12: 31 | P12: 66315 | Q12: 24 | R12: 25 | S12: 107 | T12: 122 | U12: 0 | V12: 0 | W12: 2 | X12: 3 | Y12: 15 | Z12: 55 | AA12: 23 | AB12: 69941 | AC12: 943 | AD12: 256 | AE12: 2 | AF12: 0 | AG12: 0 | AH12: 0 | AI12: 81
A13: 臺南市 | B13: 1858651 | C13: =SUM('112年'!D13) -> 7498 | D13: =SUM(F13:K13) -> 6879 | E13: 9053 | F13: 1255 | G13: 918 | H13: 1885 | I13: 2721 | J13: 0 | K13: 100 | L13: 18 | M13: 241 | N13: 456 | O13: 387 | P13: 45674 | Q13: 39 | R13: 32 | S13: 185 | T13: 161 | U13: 6 | V13: 6 | W13: 0 | X13: 14 | Y13: 7 | Z13: 34 | AA13: 18 | AB13: 21213 | AC13: 224 | AD13: 1929 | AE13: 47 | AF13: 7187 | AG13: 173 | AH13: 191 | AI13: 451
A14: 高雄市 | B14: 2731412 | C14: =SUM('112年'!D14) -> 16085 | D14: =SUM(F14:K14) -> 15135 | E14: 18120 | F14: 2347 | G14: 2541 | H14: 3394 | I14: 6850 | J14: 3 | K14: 0 | L14: 59 | M14: 336 | N14: 453 | O14: 430 | P14: 76208 | Q14: 0 | R14: 0 | S14: 221 | T14: 138 | U14: 49 | V14: 49 | W14: 22 | X14: 40 | Y14: 11 | Z14: 76 | AA14: 32 | AB14: 31432 | AC14: 660 | AD14: 2851 | AE14: 125 | AF14: 1266 | AG14: 105 | AH14: 262 | AI14: 381
A15: 宜蘭縣 | B15: 449212 | C15: =SUM('112年'!D15) -> 3478 | D15: =SUM(F15:K15) -> 3331 | E15: 2861 | F15: 379 | G15: 299 | H15: 941 | I15: 1705 | J15: 7 | K15: 0 | L15: 8 | M15: 84 | N15: 42 | O15: 40 | P15: 16155 | Q15: 2 | R15: 1 | S15: 19 | T15: 18 | U15: 0 | V15: 0 | W15: 0 | X15: 0 | Y15: 3 | Z15: 6 | AA15: 0 | AB15: 11213 | AC15: 104 | AD15: 1226 | AE15: 51 | AF15: 1330 | AG15: 45 | AH15: 40 | AI15: 27
A16: 新竹縣 | B16: 594641 | C16: =SUM('112年'!D16) -> 2370 | D16: =SUM(F16:K16) -> 2251 | E16: 1436 | F16: 343 | G16: 372 | H16: 491 | I16: 1042 | J16: 3 | K16: 0 | L16: 3 | M16: 126 | N16: 8 | O16: 7 | P16: 13825 | Q16: 3 | R16: 3 | S16: 249 | T16: 229 | U16: 13 | V16: 6 | W16: 90 | X16: 78 | Y16: 7 | Z16: 14 | AA16: 4 | AB16: 13536 | AC16: 228 | AD16: 383 | AE16: 8 | AF16: 1168 | AG16: 16 | AH16: 2 | AI16: 8
A17: 苗栗縣 | B17: 532854 | C17: =SUM('112年'!D17) -> 1564 | D17: =SUM(F17:K17) -> 1314 | E17: 3220 | F17: 304 | G17: 250 | H17: 417 | I17: 343 | J17: 0 | K17: 0 | L17: 4 | M17: 128 | N17: 83 | O17: 51 | P17: 7493 | Q17: 18 | R17: 4 | S17: 100 | T17: 63 | U17: 5 | V17: 1 | W17: 10 | X17: 7 | Y17: 3 | Z17: 10 | AA17: 3 | AB17: 3251 | AC17: 50 | AD17: 609 | AE17: 19 | AF17: 1990 | AG17: 14 | AH17: 4 | AI17: 0
A18: 彰化縣 | B18: 1225675 | C18: =SUM('112年'!D18) -> 7157 | D18: =SUM(F18:K18) -> 6800 | E18: 5270 | F18: 851 | G18: 627 | H18: 2150 | I18: 2601 | J18: 571 | K18: 0 | L18: 11 | M18: 185 | N18: 146 | O18: 114 | P18: 36669 | Q18: 0 | R18: 0 | S18: 198 | T18: 165 | U18: 1 | V18: 1 | W18: 4 | X18: 1 | Y18: 5 | Z18: 27 | AA18: 4 | AB18: 12941 | AC18: 436 | AD18: 354 | AE18: 80 | AF18: 8927 | AG18: 163 | AH18: 84 | AI18: 155
A19: 南投縣 | B19: 472299 | C19: =SUM('112年'!D19) -> 1674 | D19: =SUM(F19:K19) -> 1714 | E19: 3408 | F19: 377 | G19: 386 | H19: 268 | I19: 683 | J19: 0 | K19: 0 | L19: 20 | M19: 130 | N19: 46 | O19: 39 | P19: 10257 | Q19: 0 | R19: 0 | S19: 101 | T19: 58 | U19: 0 | V19: 0 | W19: 0 | X19: 1 | Y19: 1 | Z19: 26 | AA19: 9 | AB19: 11026 | AC19: 124 | AD19: 233 | AE19: 74 | AF19: 1532 | AG19: 40 | AH19: 32 | AI19: 24
A20: 雲林縣 | B20: 658427 | C20: =SUM('112年'!D20) -> 2055 | D20: =SUM(F20:K20) -> 2067 | E20: 4657 | F20: 471 | G20: 378 | H20: 736 | I20: 482 | J20: 0 | K20: 0 | L20: 15 | M20: 174 | N20: 52 | O20: 62 | P20: 19707 | Q20: 0 | R20: 0 | S20: 170 | T20: 147 | U20: 3 | V20: 5 | W20: 30 | X20: 27 | Y20: 3 | Z20: 15 | AA20: 4 | AB20: 11280 | AC20: 167 | AD20: 550 | AE20: 41 | AF20: 1961 | AG20: 108 | AH20: 52 | AI20: 6
A21: 嘉義縣 | B21: 478786 | C21: =SUM('112年'!D21) -> 3289 | D21: =SUM(F21:K21) -> 3146 | E21: 3532 | F21: 337 | G21: 355 | H21: 760 | I21: 1216 | J21: 392 | K21: 86 | L21: 6 | M21: 7 | N21: 67 | O21: 46 | P21: 12909 | Q21: 0 | R21: 0 | S21: 44 | T21: 31 | U21: 0 | V21: 0 | W21: 0 | X21: 0 | Y21: 4 | Z21: 17 | AA21: 2 | AB21: 1878 | AC21: 54 | AD21: 190 | AE21: 2 | AF21: 960 | AG21: 13 | AH21: 4 | AI21: 0
A22: 屏東縣 | B22: 789239 | C22: =SUM('112年'!D22) -> 2251 | D22: =SUM(F22:K22) -> 2134 | E22: 5965 | F22: 684 | G22: 281 | H22: 685 | I22: 484 | K22: 0 | L22: 21 | M22: 290 | N22: 112 | O22: 67 | P22: 17545 | Q22: 17 | R22: 4 | S22: 185 | T22: 115 | U22: 0 | V22: 2 | W22: 7 | X22: 14 | Y22: 4 | Z22: 22 | AA22: 6 | AB22: 5148 | AC22: 69 | AD22: 1182 | AE22: 10 | AF22: 4052 | AG22: 27 | AH22: 27 | AI22: 30
A23: 臺東縣 | B23: 210219 | C23: =SUM('112年'!D23) -> 1036 | D23: =SUM(F23:K23) -> 1207 | E23: 977 | F23: 179 | G23: 139 | H23: 355 | I23: 533 | J23: 1 | K23: 0 | L23: 5 | M23: 66 | N23: 7 | O23: 15 | P23: 7144 | Q23: 1 | R23: 1 | S23: 87 | T23: 75 | U23: 0 | V23: 0 | W23: 0 | X23: 0 | Y23: 2 | Z23: 19 | AA23: 3 | AB23: 10635 | AC23: 209 | AD23: 499 | AE23: 70 | AF23: 288 | AG23: 20 | AH23: 31 | AI23: 25
A24: 花蓮縣 | B24: 315374 | C24: =SUM('112年'!D24) -> 2503 | D24: =SUM(F24:K24) -> 2411 | E24: 3229 | F24: 267 | G24: 184 | H24: 587 | I24: 1373 | J24: 0 | K24: 0 | L24: 4 | M24: 88 | N24: 35 | O24: 42 | P24: 10237 | Q24: 0 | R24: 0 | S24: 18 | T24: 13 | U24: 0 | W24: 5 | X24: 4 | Y24: 6 | Z24: 40 | AA24: 4 | AB24: 6309 | AC24: 165 | AD24: 851 | AE24: 12 | AF24: 2176 | AG24: 40 | AH24: 182 | AI24: 15
A25: 澎湖縣 | B25: 107901 | C25: =SUM('112年'!D25) -> 471 | D25: =SUM(F25:K25) -> 470 | E25: 626 | F25: 46 | G25: 61 | H25: 179 | I25: 178 | J25: 0 | K25: 6 | L25: 7 | M25: 51 | N25: 4 | O25: 3 | P25: 3101 | Q25: 23 | R25: 18 | S25: 6 | T25: 8 | U25: 2 | V25: 0 | W25: 3 | X25: 6 | Y25: 1 | Z25: 1 | AA25: 1 | AB25: 13694 | AC25: 171 | AD25: 893 | AE25: 23 | AF25: 1092 | AG25: 29 | AH25: 4 | AI25: 0
A26: 基隆市 | B26: 361441 | C26: =SUM('112年'!D26) -> 1997 | D26: =SUM(F26:K26) -> 1836 | E26: 2989 | F26: 245 | G26: 194 | H26: 496 | I26: 901 | J26: 0 | K26: 0 | L26: 1 | M26: 7 | N26: 41 | O26: 52 | P26: 9696 | Q26: 54 | R26: 47 | S26: 62 | T26: 95 | U26: 24 | V26: 31 | W26: 17 | X26: 21 | Y26: 3 | Z26: 15 | AA26: 1 | AB26: 8939 | AC26: 92 | AD26: 648 | AE26: 20 | AF26: 1054 | AG26: 62 | AH26: 23 | AI26: 24
A27: 新竹市 | B27: 457242 | C27: =SUM('112年'!D27) -> 709 | D27: =SUM(F27:K27) -> 695 | E27: 525 | F27: 185 | G27: 119 | H27: 242 | I27: 149 | J27: 0 | K27: 0 | L27: 3 | M27: 40 | N27: 29 | O27: 20 | P27: 3848 | Q27: 0 | R27: 0 | S27: 46 | T27: 26 | U27: 0 | V27: 0 | W27: 1 | X27: 0 | Y27: 2 | Z27: 13 | AA27: 1 | AB27: 145 | AC27: 2 | AD27: 209 | AE27: 6 | AF27: 2234 | AG27: 11 | AH27: 10 | AI27: 22
A28: 嘉義市 | B28: 262177 | C28: =SUM('112年'!D28) -> 687 | D28: =SUM(F28:K28) -> 670 | E28: 541 | F28: 121 | G28: 125 | H28: 223 | I28: 201 | J28: 0 | K28: 0 | L28: 4 | M28: 30 | N28: 30 | O28: 30 | P28: 5998 | Q28: 10 | R28: 5 | S28: 9 | T28: 3 | U28: 4 | V28: 1 | W28: 5 | X28: 7 | Y28: 4 | Z28: 11 | AA28: 1 | AB28: 398 | AC28: 14 | AD28: 465 | AE28: 24 | AF28: 1107 | AG28: 14 | AH28: 2 | AI28: 28
A29: 金門縣 | B29: 143601 | C29: =SUM('112年'!D29) -> 236 | D29: =SUM(F29:K29) -> 201 | E29: 571 | F29: 17 | G29: 14 | H29: 85 | I29: 84 | J29: 1 | K29: 0 | L29: 1 | M29: 7 | N29: 5 | O29: 1 | P29: 871 | Q29: 0 | R29: 0 | S29: 1 | T29: 1 | U29: 0 | V29: 0 | W29: 0 | X29: 0 | Y29: 1 | Z29: 0 | AA29: 1 | AB29: 5115 | AC29: 43 | AD29: 229 | AE29: 21 | AF29: 1416 | AG29: 24 | AH29: 5 | AI29: 0
A30: 連江縣 | B30: 13950 | C30: =SUM('112年'!D30) -> 27 | D30: =SUM(F30:K30) -> 26 | E30: 24 | F30: 3 | G30: 4 | H30: 7 | I30: 12 | J30: 0 | K30: 0 | L30: 2 | M30: 4 | N30: 1 | O30: 2 | P30: 157 | Q30: 0 | R30: 0 | S30: 2 | T30: 1 | U30: 0 | V30: 0 | W30: 0 | X30: 0 | Y30: 0 | Z30: 0 | AA30: 0 | AB30: 347 | AC30: 7 | AD30: 69 | AE30: 5 | AF30: 64 | AG30: 2 | AH30: 2 | AI30: 0
A31: 填表 | G31: 審核 | U31: 主辦業務人員 | AF31: 機關長官
U32: 主辦統計人員
A33: 資料來源：依據直轄市政府及各縣市衛生局(含金門、連江縣)之資料彙編。
A34: 填表說明：1. 轄區總人口數依據內政部年底人口數。
A35: 2.本表一式二份，一份送本部心理健康司，一份統計處自存。

Sheet 112年
A1: 公開類 | AF1: 編製機關 | AH1: 衛生福利部
A2: 年 報 | B2: 每年終了2個月內編報 | AF2: 表 號 | AH2: 10551-03-01
A3: 精神衛生行政工作執行成果(修正)
P4: 中華民國 112 年 | AI4: 單位：人、人次、次、件
A5: 縣市別 | B5: 轄區 總人口數 | C5: 目前管理個案數 | E5: 領具精神障礙手冊/證明人數 | F5: 管理個案分級人數 | L5: 訪員 人數 | N5: 嚴重病人 人數 | P5: 訪視人次 | Q5: 緊急處置 人數 | S5: 協助病人 就醫次數 | U5: 會商選定指定保護人次數 | W5: 指定保護人次數 | Y5: 指定精神醫療機構數 | Z5: 指定精神 專科醫師 人數 | AB5: 一般民眾 宣導活動 | AD5: 工作人員 在職訓練 | AF5: 相關基層人員 研習會 | AH5: 工作協調 會 議 (次) | AI5: 民眾申訴案件(件)
C6: 上年 | D6: 本年 | F6: 一級 | G6: 二級 | H6: 三級 | I6: 四級 | J6: 五級 | K6: 未分級
L7: 男 | M7: 女 | N7: 男 | O7: 女 | Q7: 男 | R7: 女 | S7: 男 | T7: 女 | U7: 男 | V7: 女 | W7: 男 | X7: 女 | Z7: 男 | AA7: 女 | AB7: 人次 | AC7: 場次 | AD7: 人次 | AE7: 場次 | AF7: 人次 | AG7: 場次
A8: 總 計 | B8: =SUM(B9:B30) -> 23420442 | C8: =SUM(C9:C30) -> 105338 | D8: =SUM(F8:K8) -> 96768 | E8: =SUM(E9:E30) -> 111437 | F8: =SUM(F9:F30) -> 17148 | G8: =SUM(G9:G30) -> 14078 | H8: =SUM(H9:H30) -> 28187 | I8: =SUM(I9:I30) -> 35577 | J8: =SUM(J9:J30) -> 1636 | K8: =SUM(K9:K30) -> 142 | L8: =SUM(L9:L30) -> 272 | ... AI8: =SUM(AI9:AI30) -> 2190
A9: 新北市 | B9: 4041120 | C9: 17595 | D9: =SUM(F9:K9) -> 14746 | E9: 11291 | F9: 2082 | G9: 2144 | H9: 4424 | I9: 5999 | J9: 97 | K9: 0 | L9: 46 | M9: 411 | N9: 332 | O9: 310 | P9: 90044 | Q9: 95 | R9: 73 | S9: 39 | T9: 51 | U9: 14 | V9: 20 | W9: 0 | X9: 23 | Y9: 9 | Z9: 64 | AA9: 28 | AB9: 38460 | AC9: 417 | AD9: 198 | AE9: 19 | AF9: 24 | AG9: 2 | AH9: 88 | AI9: 683
A10: 臺北市 | B10: 2511886 | C10: 12236 | D10: =SUM(F10:K10) -> 12331 | E10: 15374 | F10: 1720 | G10: 1800 | H10: 5303 | I10: 3376 | J10: 132 | K10: 0 | L10: 23 | M10: 224 | N10: 546 | O10: 584 | P10: 62269 | Q10: 64 | R10: 38 | S10: 41 | T10: 69 | U10: 32 | V10: 38 | W10: 8 | X10: 12 | Y10: 9 | Z10: 93 | AA10: 29 | AB10: 37324 | AC10: 612 | AD10: 427 | AE10: 71 | AF10: 554 | AG10: 13 | AH10: 95 | AI10: 181
A11: 桃園市 | B11: 2317445 | C11: 7234 | D11: =SUM(F11:K11) -> 7111 | E11: 5336 | F11: 2294 | G11: 1458 | H11: 1562 | I11: 1797 | J11: 0 | K11: 0 | L11: 17 | M11: 198 | N11: 218 | O11: 208 | P11: 45615 | Q11: 0 | R11: 0 | S11: 8 | T11: 13 | U11: 0 | V11: 0 | W11: 7 | X11: 12 | Y11: 5 | Z11: 48 | AA11: 14 | AB11: 14874 | AC11: 149 | AD11: 122 | AE11: 2 | AF11: 472 | AG11: 15 | AH11: 3 | AI11: 72
A12: 臺中市 | B12: 2845909 | C12: 8746 | D12: =SUM(F12:K12) -> 7493 | E12: 13658 | F12: 1993 | G12: 1423 | H12: 2064 | I12: 2012 | J12: 1 | K12: 0 | L12: 36 | M12: 317 | N12: 54 | O12: 57 | P12: 73214 | Q12: 133 | R12: 119 | S12: 99 | T12: 75 | U12: 1 | V12: 1 | W12: 2 | X12: 3 | Y12: 14 | Z12: 52 | AA12: 22 | AB12: 24966 | AC12: 93 | AD12: 1666 | AE12: 82 | AF12: 0 | AG12: 0 | AH12: 3 | AI12: 92
A13: 臺南市 | B13: 1859946 | C13: 8311 | D13: =SUM(F13:K13) -> 7498 | E13: 9052 | F13: 1434 | G13: 1161 | H13: 1845 | I13: 2971 | J13: 1 | K13: 86 | L13: 9 | M13: 235 | N13: 497 | O13: 400 | P13: 41189 | Q13: 55 | R13: 49 | S13: 145 | T13: 112 | U13: 9 | V13: 2 | W13: 0 | X13: 19 | Y13: 7 | Z13: 35 | AA13: 16 | AB13: 8665 | AC13: 81 | AD13: 1394 | AE13: 34 | AF13: 7293 | AG13: 101 | AH13: 167 | AI13: 420
A14: 高雄市 | B14: 2737941 | C14: 16900 | D14: =SUM(F14:K14) -> 16085 | E14: 17756 | F14: 2549 | G14: 2239 | H14: 3780 | I14: 7513 | J14: 4 | K14: 0 | L14: 50 | M14: 306 | N14: 544 | O14: 445 | P14: 81012 | Q14: 0 | R14: 0 | S14: 199 | T14: 213 | U14: 63 | V14: 47 | W14: 18 | X14: 25 | Y14: 11 | Z14: 78 | AA14: 32 | AB14: 54961 | AC14: 1273 | AD14: 3331 | AE14: 134 | AF14: 522 | AG14: 96 | AH14: 220 | AI14: 426
A15: 宜蘭縣 | B15: 449890 | C15: 3673 | D15: =SUM(F15:K15) -> 3478 | E15: 3014 | F15: 347 | G15: 346 | H15: 1005 | I15: 1773 | J15: 7 | K15: 0 | L15: 3 | M15: 102 | N15: 67 | O15: 53 | P15: 17347 | Q15: 0 | R15: 0 | S15: 15 | T15: 8 | U15: 0 | V15: 0 | W15: 0 | X15: 0 | Y15: 3 | Z15: 7 | AA15: 1 | AB15: 11386 | AC15: 70 | AD15: 632 | AE15: 30 | AF15: 1256 | AG15: 46 | AH15: 41 | AI15: 23
A16: 新竹縣 | B16: 589289 | C16: 2484 | D16: =SUM(F16:K16) -> 2370 | E16: 1170 | F16: 384 | G16: 340 | H16: 579 | I16: 1064 | J16: 3 | K16: 0 | L16: 4 | M16: 99 | N16: 5 | O16: 6 | P16: 14465 | Q16: 2 | R16: 1 | S16: 258 | T16: 164 | U16: 1 | V16: 0 | W16: 0 | X16: 0 | Y16: 4 | Z16: 15 | AA16: 3 | AB16: 9969 | AC16: 96 | AD16: 218 | AE16: 5 | AF16: 1970 | AG16: 29 | AH16: 2 | AI16: 8
A17: 苗栗縣 | B17: 534575 | C17: 2151 | D17: =SUM(F17:K17) -> 1564 | E17: 3196 | F17: 365 | G17: 275 | H17: 426 | I17: 498 | J17: 0 | K17: 0 | L17: 4 | M17: 128 | N17: 141 | O17: 78 | P17: 10385 | Q17: 20 | R17: 12 | S17: 78 | T17: 47 | U17: 5 | V17: 1 | W17: 16 | X17: 6 | Y17: 3 | Z17: 11 | AA17: 4 | AB17: 2826 | AC17: 22 | AD17: 1351 | AE17: 28 | AF17: 1161 | AG17: 28 | AH17: 8 | AI17: 0
A18: 彰化縣 | B18: 1239048 | C18: 7416 | D18: =SUM(F18:K18) -> 7157 | E18: 5098 | F18: 826 | G18: 559 | H18: 2377 | I18: 2547 | J18: 848 | K18: 0 | L18: 10 | M18: 183 | N18: 137 | O18: 109 | P18: 36285 | Q18: 6 | R18: 4 | S18: 197 | T18: 130 | U18: 1 | V18: 1 | W18: 6 | X18: 0 | Y18: 5 | Z18: 25 | AA18: 6 | AB18: 13058 | AC18: 286 | AD18: 593 | AE18: 130 | AF18: 1223 | AG18: 158 | AH18: 173 | AI18: 63
A19: 南投縣 | B19: 477094 | C19: 1838 | D19: =SUM(F19:K19) -> 1674 | E19: 3394 | F19: 397 | G19: 264 | H19: 385 | I19: 628 | J19: 0 | K19: 0 | L19: 17 | M19: 120 | N19: 35 | O19: 28 | P19: 13593 | Q19: 0 | R19: 0 | S19: 96 | T19: 66 | U19: 0 | V19: 0 | W19: 1 | X19: 0 | Y19: 2 | Z19: 27 | AA19: 8 | AB19: 24233 | AC19: 277 | AD19: 668 | AE19: 17 | AF19: 1266 | AG19: 45 | AH19: 30 | AI19: 13
A20: 雲林縣 | B20: 659468 | C20: 2055 | D20: =SUM(F20:K20) -> 2055 | E20: 4610 | F20: 554 | G20: 416 | H20: 735 | I20: 350 | J20: 0 | K20: 0 | L20: 12 | M20: 160 | N20: 40 | O20: 41 | P20: 22093 | Q20: 0 | R20: 0 | S20: 186 | T20: 139 | U20: 4 | V20: 4 | W20: 32 | X20: 36 | Y20: 3 | Z20: 10 | AA20: 1 | AB20: 5593 | AC20: 86 | AD20: 292 | AE20: 114 | AF20: 1420 | AG20: 184 | AH20: 44 | AI20: 5
... A30: 連江縣 | B30: 14039 | C30: 31 | D30: =SUM(F30:K30) -> 27 | E30: 24 | F30: 2 | G30: 6 | H30: 5 | I30: 14 | J30: 0 | K30: 0 | L30: 0 | M30: 1 | N30: 2 | O30: 2 | P30: 138 | Q30: 1 | R30: 0 | S30: 2 | T30: 2 | U30: 0 | V30: 0 | W30: 0 | X30: 0 | Y30: 0 | Z30: 0 | AA30: 0 | AB30: 394 | AC30: 5 | AD30: 135 | AE30: 7 | AF30: 78 | AG30: 3 | AH30: 3 | AI30: 0
A31: 填表 | G31: 審核 | U31: 主辦業務人員 | AF31: 機關長官
U32: 主辦統計人員
A33: 資料來源：依據直轄市政府及各縣市衛生局(含金門、連江縣)之資料彙編。
A34: 填表說明：1. 轄區總人口數依據內政部年底人口數。
A35: 2.本表一式二份，一份送本部心理健康司，一份統計處自存。

Sheet 111年
A1: 公開類 | AF1: 編製機關 | AH1: 衛生福利部
A2: 年 報 | B2: 每年終了2個月內編報 | AF2: 表 號 | AH2: 10551-03-01
A3: 精神衛生行政工作執行成果(修正)
P4: 中華民國 111 年 | AI4: 單位：人、人次、次、件
A5: 縣市別 | B5: 轄區 總人口數 | C5: 目前管理個案數 | E5: 領具精神障礙手冊/證明人數 | F5: 管理個案分級人數 | L5: 訪員 人數 | N5: 嚴重病人 人數 | P5: 訪視人次 | Q5: 緊急處置 人數 | S5: 協助病人 就醫次數 | U5: 會商選定指定保護人次數 | W5: 指定保護人次數 | Y5: 指定精神醫療機構數 | Z5: 指定精神 專科醫師 人數 | AB5: 一般民眾 宣導活動 | AD5: 工作人員 在職訓練 | AF5: 相關基層人員 研習會 | AH5: 工作協調 會 議 (次) | AI5: 民眾申訴案件(件)
C6: 上年 | D6: 本年 | F6: 一級 | G6: 二級 | H6: 三級 | I6: 四級 | J6: 五級 | K6: 未分級
L7: 男 | M7: 女 | N7: 男 | O7: 女 | Q7: 男 | R7: 女 | S7: 男 | T7: 女 | U7: 男 | V7: 女 | W7: 男 | X7: 女 | Z7: 男 | AA7: 女 | AB7: 人次 | AC7: 場次 | AD7: 人次 | AE7: 場次 | AF7: 人次 | AG7: 場次
A8: 總 計 | B8: =SUM(B9:B30) -> 23264640 | C8: =SUM(C9:C30) -> 114112 | D8: =SUM(F8:K8) -> 105338 | E8: =SUM(E9:E30) -> 112362 | F8: =SUM(F9:F30) -> 19612 | G8: =SUM(G9:G30) -> 14163 | H8: =SUM(H9:H30) -> 28418 | I8: =SUM(I9:I30) -> 41266 | J8: =SUM(J9:J30) -> 1680 | K8: =SUM(K9:K30) -> 199 | L8: =SUM(L9:L30) -> 203 | ... AI8: =SUM(AI9:AI30) -> 1804
A9: 新北市 | B9: 3995551 | C9: 18987 | D9: =SUM(F9:K9) -> 17595 | E9: 13546 | F9: 2266 | G9: 2488 | H9: 4109 | I9: 8578 | J9: 154 | K9: 0 | L9: 46 | M9: 404 | N9: 564 | O9: 526 | P9: 86793 | Q9: 101 | R9: 99 | S9: 17 | T9: 17 | U9: 16 | V9: 20 | W9: 24 | X9: 25 | Y9: 9 | Z9: 64 | AA9: 30 | AB9: 17837 | AC9: 223 | AD9: 750 | AE9: 20 | AF9: 2953 | AG9: 23 | AH9: 55 | AI9: 499
A10: 臺北市 | B10: 2480681 | C10: 13732 | D10: =SUM(F10:K10) -> 12236 | E10: 11565 | F10: 1757 | G10: 1335 | H10: 5887 | I10: 3112 | J10: 145 | K10: 0 | L10: 19 | M10: 217 | N10: 506 | O10: 535 | P10: 56402 | Q10: 68 | R10: 73 | S10: 49 | T10: 40 | U10: 27 | V10: 21 | W10: 9 | X10: 7 | Y10: 9 | Z10: 146 | AA10: 39 | AB10: 27203 | AC10: 516 | AD10: 428 | AE10: 106 | AF10: 42 | AG10: 7 | AH10: 96 | AI10: 162
A11: 桃園市 | B11: 2281464 | C11: 7399 | D11: =SUM(F11:K11) -> 7234 | E11: 5315 | F11: 2437 | G11: 1218 | H11: 1477 | I11: 2102 | J11: 0 | K11: 0 | L11: 5 | M11: 172 | N11: 215 | O11: 192 | P11: 42794 | Q11: 0 | R11: 0 | S11: 19 | T11: 13 | U11: 0 | V11: 0 | W11: 3 | X11: 6 | Y11: 5 | Z11: 70 | AA11: 14 | AB11: 9976 | AC11: 78 | AD11: 82 | AE11: 4 | AF11: 1603 | AG11: 14 | AH11: 4 | AI11: 54
A12: 臺中市 | B12: 2814459 | C12: 9628 | D12: =SUM(F12:K12) -> 8746 | E12: 13482 | F12: 2567 | G12: 1373 | H12: 2078 | I12: 2728 | J12: 0 | K12: 0 | L12: 13 | M12: 314 | N12: 28 | O12: 34 | P12: 41660 | Q12: 15 | R12: 20 | S12: 863 | T12: 727 | U12: 0 | V12: 0 | W12: 21 | X12: 36 | Y12: 15 | Z12: 50 | AA12: 22 | AB12: 11860 | AC12: 178 | AD12: 287 | AE12: 56 | AF12: 0 | AG12: 0 | AH12: 0 | AI12: 109
A13: 臺南市 | B13: 1852997 | C13: 8963 | D13: =SUM(F13:K13) -> 8311 | E13: 9785 | F13: 1835 | G13: 1172 | H13: 1860 | I13: 3295 | J13: 2 | K13: 147 | L13: 19 | M13: 248 | N13: 510 | O13: 440 | P13: 42605 | Q13: 58 | R13: 32 | S13: 192 | T13: 168 | U13: 10 | V13: 13 | W13: 0 | X13: 9 | Y13: 7 | Z13: 35 | AA13: 17 | AB13: 27122 | AC13: 97 | AD13: 470 | AE13: 20 | AF13: 1900 | AG13: 78 | AH13: 193 | AI13: 317
A14: 高雄市 | B14: 2728137 | C14: 17730 | D14: =SUM(F14:K14) -> 16900 | E14: 17756 | F14: 2821 | G14: 1864 | H14: 3809 | I14: 8403 | J14: 3 | K14: 0 | L14: 31 | M14: 278 | N14: 597 | O14: 477 | P14: 91231 | Q14: 0 | R14: 0 | S14: 171 | T14: 145 | U14: 69 | V14: 71 | W14: 11 | X14: 23 | Y14: 11 | Z14: 86 | AA14: 32 | AB14: 35515 | AC14: 624 | AD14: 898 | AE14: 130 | AF14: 3713 | AG14: 151 | AH14: 160 | AI14: 353
A15: 宜蘭縣 | B15: 449062 | C15: 3740 | D15: =SUM(F15:K15) -> 3673 | E15: 3207 | F15: 423 | G15: 470 | H15: 1037 | I15: 1740 | J15: 3 | K15: 0 | L15: 5 | M15: 77 | N15: 66 | O15: 52 | P15: 17274 | Q15: 0 | R15: 0 | S15: 10 | T15: 9 | U15: 0 | V15: 0 | W15: 0 | X15: 0 | Y15: 4 | Z15: 10 | AA15: 1 | AB15: 8247 | AC15: 47 | AD15: 621 | AE15: 10 | AF15: 797 | AG15: 15 | AH15: 35 | AI15: 0
A16: 新竹縣 | B16: 580503 | C16: 2598 | D16: =SUM(F16:K16) -> 2484 | E16: 2368 | F16: 404 | G16: 347 | H16: 583 | I16: 1147 | J16: 3 | K16: 0 | L16: 3 | M16: 121 | N16: 71 | O16: 44 | P16: 11567 | Q16: 0 | R16: 0 | S16: 110 | T16: 63 | U16: 2 | V16: 1 | W16: 0 | X16: 0 | Y16: 4 | Z16: 17 | AA16: 2 | AB16: 3098 | AC16: 26 | AD16: 216 | AE16: 6 | AF16: 1137 | AG16: 23 | AH16: 4 | AI16: 8
A17: 苗栗縣 | B17: 535132 | C17: 2843 | D17: =SUM(F17:K17) -> 2151 | E17: 3205 | F17: 410 | G17: 378 | H17: 555 | I17: 808 | J17: 0 | K17: 0 | L17: 2 | M17: 132 | N17: 302 | O17: 87 | P17: 11443 | Q17: 15 | R17: 7 | S17: 98 | T17: 41 | U17: 0 | V17: 2 | W17: 13 | X17: 6 | Y17: 3 | Z17: 12 | AA17: 3 | AB17: 1726 | AC17: 35 | AD17: 690 | AE17: 38 | AF17: 2441 | AG17: 35 | AH17: 7 | AI17: 0
A18: 彰化縣 | B18: 1245239 | C18: 7496 | D18: =SUM(F18:K18) -> 7416 | E18: 5271 | F18: 1251 | G18: 920 | H18: 1930 | I18: 2694 | J18: 621 | K18: 0 | L18: 7 | M18: 172 | N18: 138 | O18: 105 | P18: 30285 | Q18: 0 | R18: 2 | S18: 309 | T18: 190 | U18: 1 | V18: 0 | W18: 14 | X18: 12 | Y18: 5 | Z18: 55 | AA18: 7 | AB18: 9427 | AC18: 212 | AD18: 810 | AE18: 55 | AF18: 3727 | AG18: 161 | AH18: 66 | AI18: 39
A19: 南投縣 | B19: 479595 | C19: 2255 | D19: =SUM(F19:K19) -> 1838 | E19: 3411 | F19: 359 | G19: 278 | H19: 523 | I19: 678 | J19: 0 | K19: 0 | L19: 12 | M19: 104 | N19: 62 | O19: 32 | P19: 9886 | Q19: 0 | R19: 0 | S19: 87 | T19: 29 | U19: 0 | V19: 0 | W19: 1 | X19: 0 | Y19: 1 | Z19: 25 | AA19: 8 | AB19: 8765 | AC19: 47 | AD19: 504 | AE19: 50 | AF19: 1565 | AG19: 24 | AH19: 30 | AI19: 7
A20: 雲林縣 | B20: 664092 | C20: 2174 | D20: =SUM(F20:K20) -> 2055 | E20: 4610 | F20: 697 | G20: 472 | H20: 599 | I20: 287 | J20: 0 | K20: 0 | L20: 9 | M20: 155 | N20: 47 | O20: 51 | P20: 27213 | Q20: 0 | R20: 0 | S20: 178 | T20: 103 | U20: 7 | V20: 4 | W20: 32 | X20: 35 | Y20: 3 | Z20: 12 | AA20: 2 | AB20: 8453 | AC20: 106 | AD20: 713 | AE20: 307 | AF20: 303 | AG20: 61 | AH20: 42 | AI20: 1
... A30: 連江縣 | B30: 13983 | C30: 33 | D30: =SUM(F30:K30) -> 31 | E30: 25 | F30: 2 | G30: 4 | H30: 11 | I30: 14 | J30: 0 | K30: 0 | L30: 0 | M30: 5 | N30: 3 | O30: 2 | P30: 145 | Q30: 0 | R30: 0 | S30: 2 | T30: 0 | U30: 0 | V30: 0 | W30: 0 | X30: 0 | Y30: 0 | Z30: 0 | AA30: 0 | AB30: 123 | AC30: 4 | AD30: 100 | AE30: 10 | AF30: 96 | AG30: 4 | AH30: 4 | AI30: 0
A31: 填表 | G31: 審核 | U31: 主辦業務人員 | AF31: 機關長官
U32: 主辦統計人員
A33: 資料來源：依據直轄市政府及各縣市衛生局(含金門、連江縣)之資料彙編。
A34: 填表說明：1. 轄區總人口數依據內政部年底人口數。
A35: 2.本表一式二份，一份送本部心理及口腔健康司，一份自存。
A36: 備註：新北市嚴重病人人數以醫院通報嚴重病人之人數為計算基準。

Sheet 110年
A1: 公開類 | AF1: 編製機關 | AH1: 衛生福利部
A2: 年 報 | B2: 每年終了2個月內編報 | AF2: 表 號 | AH2: 10551-03-01
A3: 精神衛生行政工作執行成果(修正)
P4: 中華民國 110 年 | AI4: 單位：人、人次、次、件
A5: 縣市別 | B5: 轄區 總人口數 | C5: 目前管理個案數 | E5: 領具精神障礙手冊/證明人數 | F5: 管理個案分級人數 | L5: 訪員 人數 | N5: 嚴重病人 人數 | P5: 訪視人次 | Q5: 緊急處置 人數 | S5: 協助病人 就醫次數 | U5: 會商選定指定保護人次數 | W5: 指定保護人次數 | Y5: 指定精神醫療機構數 | Z5: 指定精神 專科醫師 人數 | AB5: 一般民眾 宣導活動 | AD5: 工作人員 在職訓練 | AF5: 相關基層人員 研習會 | AH5: 工作協調 會 議 (次) | AI5: 民眾申訴案件(件)
C6: 上年 | D6: 本年 | F6: 一級 | G6: 二級 | H6: 三級 | I6: 四級 | J6: 五級 | K6: 未分級
L7: 男 | M7: 女 | N7: 男 | O7: 女 | Q7: 男 | R7: 女 | S7: 男 | T7: 女 | U7: 男 | V7: 女 | W7: 男 | X7: 女 | Z7: 男 | AA7: 女 | AB7: 人次 | AC7: 場次 | AD7: 人次 | AE7: 場次 | AF7: 人次 | AG7: 場次
A8: 總 計 | B8: =SUM(B9:B30) -> 23375314 | C8: =SUM(C9:C30) -> 122830 | D8: =SUM(F8:K8) -> 114112 | E8: =SUM(E9:E30) -> 107473 | F8: =SUM(F9:F30) -> 19805 | G8: =SUM(G9:G30) -> 14780 | H8: =SUM(H9:H30) -> 29220 | I8: =SUM(I9:I30) -> 48335 | J8: =SUM(J9:J30) -> 1733 | K8: =SUM(K9:K30) -> 239 | L8: =SUM(L9:L30) -> 133 | ... AI8: =SUM(AI9:AI30) -> 1767
A9: 新北市 | B9: 4008113 | C9: 20411 | D9: =SUM(F9:K9) -> 18987 | E9: 14602 | F9: 2795 | G9: 2437 | H9: 4007 | I9: 9556 | J9: 192 | K9: 0 | L9: 30 | M9: 194 | N9: 66 | O9: 66 | P9: 97218 | Q9: 108 | R9: 91 | S9: 30 | T9: 28 | U9: 7 | V9: 10 | W9: 9 | X9: 9 | Y9: 8 | Z9: 53 | AA9: 29 | AB9: 17920 | AC9: 203 | AD9: 468 | AE9: 55 | AF9: 2610 | AG9: 22 | AH9: 60 | AI9: 472
A10: 臺北市 | B10: 2524393 | C10: 14232 | D10: =SUM(F10:K10) -> 13732 | E10: 12104 | F10: 1957 | G10: 1431 | H10: 6328 | I10: 3867 | J10: 149 | K10: 0 | L10: 9 | M10: 216 | N10: 527 | O10: 555 | P10: 70337 | Q10: 74 | R10: 74 | S10: 76 | T10: 47 | U10: 31 | V10: 33 | W10: 6 | X10: 3 | Y10: 9 | Z10: 130 | AA10: 21 | AB10: 27856 | AC10: 419 | AD10: 466 | AE10: 80 | AF10: 14 | AG10: 3 | AH10: 98 | AI10: 164
A11: 桃園市 | B11: 2272391 | C11: 7189 | D11: =SUM(F11:K11) -> 7399 | E11: 5313 | F11: 2146 | G11: 1277 | H11: 1457 | I11: 2517 | J11: 0 | K11: 2 | L11: 4 | M11: 183 | N11: 216 | O11: 195 | P11: 42276 | Q11: 0 | R11: 0 | S11: 3 | T11: 18 | U11: 0 | V11: 0 | W11: 0 | X11: 11 | Y11: 5 | Z11: 73 | AA11: 13 | AB11: 1533 | AC11: 55 | AD11: 98 | AE11: 5 | AF11: 665 | AG11: 13 | AH11: 4 | AI11: 115
A12: 臺中市 | B12: 2813490 | C12: 10921 | D12: =SUM(F12:K12) -> 9628 | E12: 13464 | F12: 2104 | G12: 1370 | H12: 2345 | I12: 3809 | J12: 0 | K12: 0 | L12: 2 | M12: 270 | N12: 47 | O12: 65 | P12: 70491 | Q12: 0 | R12: 0 | S12: 224 | T12: 193 | U12: 0 | V12: 0 | W12: 37 | X12: 32 | Y12: 15 | Z12: 48 | AA12: 17 | AB12: 2027 | AC12: 47 | AD12: 272 | AE12: 30 | AF12: 272 | AG12: 30 | AH12: 0 | AI12: 96
A13: 臺南市 | B13: 1862059 | C13: 9511 | D13: =SUM(F13:K13) -> 8963 | E13: 6339 | F13: 1848 | G13: 1221 | H13: 1946 | I13: 3825 | J13: 4 | K13: 119 | L13: 17 | M13: 243 | N13: 563 | O13: 472 | P13: 45663 | Q13: 24 | R13: 13 | S13: 86 | T13: 52 | U13: 8 | V13: 10 | W13: 0 | X13: 25 | Y13: 7 | Z13: 33 | AA13: 15 | AB13: 4943 | AC13: 50 | AD13: 144 | AE13: 31 | AF13: 2040 | AG13: 62 | AH13: 219 | AI13: 301
A14: 高雄市 | B14: 2744691 | C14: 19328 | D14: =SUM(F14:K14) -> 17730 | E14: 17800 | F14: 2577 | G14: 2107 | H14: 3615 | I14: 9427 | J14: 4 | K14: 0 | L14: 18 | M14: 256 | N14: 592 | O14: 479 | P14: 96312 | Q14: 0 | R14: 0 | S14: 240 | T14: 239 | U14: 53 | V14: 76 | W14: 29 | X14: 40 | Y14: 11 | Z14: 90 | AA14: 32 | AB14: 16685 | AC14: 305 | AD14: 1506 | AE14: 156 | AF14: 325 | AG14: 57 | AH14: 116 | AI14: 234
A15: 宜蘭縣 | B15: 450692 | C15: 3862 | D15: =SUM(F15:K15) -> 3740 | E15: 1460 | F15: 385 | G15: 403 | H15: 1131 | I15: 1817 | J15: 4 | K15: 0 | L15: 7 | M15: 102 | N15: 64 | O15: 54 | P15: 17274 | Q15: 0 | R15: 0 | S15: 26 | T15: 16 | U15: 0 | V15: 0 | W15: 0 | X15: 0 | Y15: 4 | Z15: 11 | AA15: 0 | AB15: 6866 | AC15: 62 | AD15: 811 | AE15: 15 | AF15: 365 | AG15: 12 | AH15: 14 | AI15: 4
A16: 新竹縣 | B16: 575580 | C16: 2649 | D16: =SUM(F16:K16) -> 2598 | E16: 2334 | F16: 417 | G16: 366 | H16: 564 | I16: 1246 | J16: 5 | K16: 0 | L16: 3 | M16: 108 | N16: 4 | O16: 6 | P16: 12704 | Q16: 1 | R16: 1 | S16: 102 | T16: 53 | U16: 0 | V16: 0 | W16: 1 | X16: 0 | Y16: 4 | Z16: 15 | AA16: 2 | AB16: 2999 | AC16: 34 | AD16: 140 | AE16: 3 | AF16: 1616 | AG16: 29 | AH16: 6 | AI16: 4
A17: 苗栗縣 | B17: 538178 | C17: 3512 | D17: =SUM(F17:K17) -> 2843 | E17: 3254 | F17: 459 | G17: 386 | H17: 751 | I17: 1247 | J17: 0 | K17: 0 | L17: 2 | M17: 117 | N17: 143 | O17: 100 | P17: 15960 | Q17: 16 | R17: 5 | S17: 92 | T17: 34 | U17: 1 | V17: 0 | W17: 15 | X17: 4 | Y17: 3 | Z17: 15 | AA17: 3 | AB17: 554 | AC17: 6 | AD17: 1175 | AE17: 65 | AF17: 3490 | AG17: 91 | AH17: 7 | AI17: 5
A18: 彰化縣 | B18: 1255330 | C18: 7840 | D18: =SUM(F18:K18) -> 7496 | E18: 5531 | F18: 1284 | G18: 858 | H18: 2001 | I18: 2789 | J18: 564 | K18: 0 | L18: 1 | M18: 160 | N18: 151 | O18: 114 | P18: 35493 | Q18: 4 | R18: 5 | S18: 175 | T18: 97 | U18: 5 | V18: 1 | W18: 3 | X18: 1 | Y18: 5 | Z18: 30 | AA18: 4 | AB18: 11012 | AC18: 222 | AD18: 472 | AE18: 74 | AF18: 5174 | AG18: 189 | AH18: 27 | AI18: 67
A19: 南投縣 | B19: 484897 | C19: 2968 | D19: =SUM(F19:K19) -> 2255 | E19: 3467 | F19: 316 | G19: 363 | H19: 653 | I19: 923 | J19: 0 | K19: 0 | L19: 11 | M19: 103 | N19: 76 | O19: 43 | P19: 13563 | Q19: 0 | R19: 0 | S19: 85 | T19: 49 | U19: 0 | V19: 0 | W19: 0 | X19: 0 | Y19: 1 | Z19: 21 | AA19: 9 | AB19: 6267 | AC19: 93 | AD19: 145 | AE19: 35 | AF19: 2137 | AG19: 30 | AH19: 30 | AI19: 22
A20: 雲林縣 | B20: 670132 | C20: 2119 | D20: =SUM(F20:K20) -> 2174 | E20: 2368 | F20: 830 | G20: 431 | H20: 576 | I20: 337 | J20: 0 | K20: 0 | L20: 4 | M20: 136 | N20: 46 | O20: 52 | P20: 13914 | Q20: 0 | R20: 0 | S20: 224 | T20: 128 | U20: 6 | V20: 3 | W20: 36 | X20: 35 | Y20: 3 | Z20: 13 | AA20: 5 | AB20: 12581 | AC20: 116 | AD20: 525 | AE20: 257 | AF20: 846 | AG20: 63 | AH20: 39 | AI20: 2
... A30: 連江縣 | B30: 13645 | C30: 34 | D30: =SUM(F30:K30) -> 33 | E30: 23 | F30: 1 | G30: 7 | H30: 11 | I30: 14 | J30: 0 | K30: 0 | L30: 1 | M30: 1 | N30: 4 | O30: 2 | P30: 189 | Q30: 1 | R30: 0 | S30: 1 | T30: 0 | U30: 0 | V30: 0 | W30: 0 | X30: 0 | Y30: 0 | Z30: 0 | AA30: 0 | AB30: 475 | AC30: 3 | AD30: 110 | AE30: 6 | AF30: 117 | AG30: 4 | AH30: 4 | AI30: 0
A31: 填表 | G31: 審核 | U31: 主辦業務人員 | AF31: 機關長官
U32: 主辦統計人員
A33: 資料來源：依據直轄市政府及各縣市衛生局(含金門、連江縣)之資料彙編。
A34: 填表說明：1. 轄區總人口數依據內政部年底人口數。
A35: 2.本表一式二份，一份送本部心理及口腔健康司，一份自存。
A36: 備註：新北市嚴重病人人數以醫院通報嚴重病人之人數為計算基準。

Sheet 109年
A1: 公開類 | AF1: 編製機關 | AH1: 衛生福利部
A2: 年 報 | B2: 每年終了2個月內編報 | AF2: 表 號 | AH2: 10551-03-01
A3: 精神衛生行政工作執行成果(修正)
P4: 中華民國 109 年 | AI4: 單位：人、人次、次、件
A5: 縣市別 | B5: 轄區 總人口數 | C5: 目前管理個案數 | E5: 領具精神障礙手冊/證明人數 | F5: 管理個案分級人數 | L5: 訪員 人數 | N5: 嚴重病人 人數 | P5: 訪視人次 | Q5: 緊急處置 人數 | S5: 協助病人 就醫次數 | U5: 會商選定指定保護人次數 | W5: 指定保護人次數 | Y5: 指定精神醫療機構數 | Z5: 指定精神 專科醫師 人數 | AB5: 一般民眾 宣導活動 | AD5: 工作人員 在職訓練 | AF5: 相關基層人員 研習會 | AH5: 工作協調 會 議 (次) | AI5: 民眾申訴案件(件)
C6: 上年 | D6: 本年 | F6: 一級 | G6: 二級 | H6: 三級 | I6: 四級 | J6: 五級 | K6: 未分級
L7: 男 | M7: 女 | N7: 男 | O7: 女 | Q7: 男 | R7: 女 | S7: 男 | T7: 女 | U7: 男 | V7: 女 | W7: 男 | X7: 女 | Z7: 男 | AA7: 女 | AB7: 人次 | AC7: 場次 | AD7: 人次 | AE7: 場次 | AF7: 人次 | AG7: 場次
A8: 總 計 | B8: =SUM(B9:B30) -> 23701833 | C8: =SUM(C9:C30) -> 135719 | D8: =SUM(F8:K8) -> 122830 | E8: =SUM(E9:E30) -> 108668 | F8: =SUM(F9:F30) -> 18132 | G8: =SUM(G9:G30) -> 16178 | H8: =SUM(H9:H30) -> 31137 | I8: =SUM(I9:I30) -> 55952 | J8: =SUM(J9:J30) -> 1271 | K8: =SUM(K9:K30) -> 160 | L8: =SUM(L9:L30) -> 111 | ... AI8: =SUM(AI9:AI30) -> 2109
A9: 新北市 | B9: 4030954 | C9: 21975 | D9: =SUM(F9:K9) -> 20411 | E9: 14875 | F9: 2713 | G9: 2550 | H9: 4224 | I9: 10667 | J9: 257 | K9: 0 | L9: 7 | M9: 304 | N9: 27 | O9: 340 | P9: 105595 | Q9: 199 | R9: 146 | S9: 15 | T9: 15 | U9: 3 | V9: 11 | W9: 61 | X9: 45 | Y9: 8 | Z9: 52 | AA9: 29 | AB9: 19181 | AC9: 232 | AD9: 822 | AE9: 21 | AF9: 4089 | AG9: 24 | AH9: 62 | AI9: 837
A10: 臺北市 | B10: 2602418 | C10: 16870 | D10: =SUM(F10:K10) -> 14232 | E10: 15443 | F10: 1431 | G10: 1464 | H10: 6850 | I10: 4381 | J10: 106 | K10: 0 | L10: 18 | M10: 226 | N10: 387 | O10: 447 | P10: 83886 | Q10: 47 | R10: 38 | S10: 96 | T10: 73 | U10: 41 | V10: 26 | W10: 12 | X10: 12 | Y10: 9 | Z10: 106 | AA10: 24 | AB10: 46502 | AC10: 980 | AD10: 759 | AE10: 106 | AF10: 46 | AG10: 7 | AH10: 158 | AI10: 169
A11: 桃園市 | B11: 2268807 | C11: 7520 | D11: =SUM(F11:K11) -> 7189 | E11: 4763 | F11: 1556 | G11: 1223 | H11: 1648 | I11: 2761 | J11: 1 | K11: 0 | L11: 5 | M11: 195 | N11: 196 | O11: 180 | P11: 43069 | Q11: 0 | R11: 0 | S11: 58 | T11: 43 | U11: 0 | V11: 0 | W11: 0 | X11: 17 | Y11: 5 | Z11: 54 | AA11: 13 | AB11: 1540 | AC11: 45 | AD11: 310 | AE11: 6 | AF11: 1781 | AG11: 16 | AH11: 4 | AI11: 57
A12: 臺中市 | B12: 2820787 | C12: 12937 | D12: =SUM(F12:K12) -> 10921 | E12: 13355 | F12: 1781 | G12: 1677 | H12: 2569 | I12: 4894 | J12: 0 | K12: 0 | L12: 4 | M12: 342 | N12: 40 | O12: 43 | P12: 78220 | Q12: 0 | R12: 0 | S12: 457 | T12: 300 | U12: 0 | V12: 0 | W12: 0 | X12: 0 | Y12: 16 | Z12: 72 | AA12: 24 | AB12: 2562 | AC12: 422 | AD12: 321 | AE12: 30 | AF12: 342 | AG12: 30 | AH12: 0 | AI12: 89
A13: 臺南市 | B13: 1874917 | C13: 10140 | D13: =SUM(F13:K13) -> 9511 | E13: 6045 | F13: 1560 | G13: 1454 | H13: 2033 | I13: 4458 | J13: 6 | K13: 0 | L13: 15 | M13: 245 | N13: 551 | O13: 479 | P13: 55297 | Q13: 9 | R13: 11 | S13: 89 | T13: 75 | U13: 9 | V13: 2 | W13: 0 | X13: 13 | Y13: 7 | Z13: 42 | AA13: 15 | AB13: 7483 | AC13: 61 | AD13: 358 | AE13: 66 | AF13: 2123 | AG13: 58 | AH13: 293 | AI13: 251
A14: 高雄市 | B14: 2765932 | C14: 20114 | D14: =SUM(F14:K14) -> 19328 | E14: 17574 | F14: 2720 | G14: 2221 | H14: 3771 | I14: 10611 | J14: 5 | K14: 0 | L14: 15 | M14: 255 | N14: 588 | O14: 488 | P14: 96856 | Q14: 0 | R14: 0 | S14: 204 | T14: 228 | U14: 53 | V14: 73 | W14: 21 | X14: 23 | Y14: 11 | Z14: 92 | AA14: 27 | AB14: 23837 | AC14: 370 | AD14: 1032 | AE14: 147 | AF14: 903 | AG14: 83 | AH14: 136 | AI14: 303
A15: 宜蘭縣 | B15: 453087 | C15: 4120 | D15: =SUM(F15:K15) -> 3862 | E15: 1568 | F15: 328 | G15: 444 | H15: 1313 | I15: 1772 | J15: 5 | K15: 0 | L15: 4 | M15: 107 | N15: 49 | O15: 53 | P15: 16247 | Q15: 0 | R15: 0 | S15: 12 | T15: 12 | U15: 0 | V15: 0 | W15: 0 | X15: 0 | Y15: 4 | Z15: 9 | AA15: 1 | AB15: 1439 | AC15: 42 | AD15: 1659 | AE15: 26 | AF15: 352 | AG15: 12 | AH15: 14 | AI15: 10
A16: 新竹縣 | B16: 570775 | C16: 2959 | D16: =SUM(F16:K16) -> 2649 | E16: 2319 | F16: 382 | G16: 389 | H16: 542 | I16: 1330 | J16: 6 | K16: 0 | L16: 2 | M16: 113 | N16: 7 | O16: 2 | P16: 14441 | Q16: 2 | R16: 1 | S16: 188 | T16: 132 | U16: 0 | V16: 0 | W16: 0 | X16: 0 | Y16: 4 | Z16: 14 | AA16: 1 | AB16: 4056 | AC16: 54 | AD16: 287 | AE16: 7 | AF16: 2951 | AG16: 44 | AH16: 6 | AI16: 9
A17: 苗栗縣 | B17: 542590 | C17: 3673 | D17: =SUM(F17:K17) -> 3512 | E17: 3234 | F17: 521 | G17: 481 | H17: 957 | I17: 1551 | J17: 2 | K17: 0 | L17: 2 | M17: 119 | N17: 267 | O17: 177 | P17: 18406 | Q17: 30 | R17: 8 | S17: 117 | T17: 48 | U17: 14 | V17: 7 | W17: 19 | X17: 12 | Y17: 3 | Z17: 15 | AA17: 3 | AB17: 3048 | AC17: 55 | AD17: 1509 | AE17: 76 | AF17: 956 | AG17: 27 | AH17: 5 | AI17: 0
A18: 彰化縣 | B18: 1266670 | C18: 8288 | D18: =SUM(F18:K18) -> 7840 | E18: 4862 | F18: 1151 | G18: 1084 | H18: 1992 | I18: 3091 | J18: 522 | K18: 0 | L18: 0 | M18: 163 | N18: 158 | O18: 114 | P18: 39492 | Q18: 0 | R18: 0 | S18: 172 | T18: 90 | U18: 2 | V18: 0 | W18: 5 | X18: 0 | Y18: 5 | Z18: 25 | AA18: 3 | AB18: 14042 | AC18: 311 | AD18: 333 | AE18: 107 | AF18: 3917 | AG18: 36 | AH18: 162 | AI18: 107
A19: 南投縣 | B19: 490832 | C19: 3617 | D19: =SUM(F19:K19) -> 2968 | E19: 3462 | F19: 401 | G19: 460 | H19: 696 | I19: 1411 | J19: 0 | K19: 0 | L19: 8 | M19: 103 | N19: 14 | O19: 4 | P19: 16242 | Q19: 0 | R19: 0 | S19: 69 | T19: 47 | U19: 0 | V19: 0 | W19: 0 | X19: 3 | Y19: 2 | Z19: 22 | AA19: 13 | AB19: 6907 | AC19: 66 | AD19: 179 | AE19: 41 | AF19: 953 | AG19: 25 | AH19: 41 | AI19: 27
A20: 雲林縣 | B20: 676873 | C20: 2666 | D20: =SUM(F20:K20) -> 2119 | E20: 1775 | F20: 768 | G20: 394 | H20: 532 | I20: 425 | J20: 0 | K20: 0 | L20: 5 | M20: 134 | N20: 53 | O20: 44 | P20: 16168 | Q20: 0 | R20: 0 | S20: 237 | T20: 165 | U20: 8 | V20: 2 | W20: 36 | X20: 38 | Y20: 3 | Z20: 12 | AA20: 3 | AB20: 28601 | AC20: 589 | AD20: 144 | AE20: 144 | AF20: 1731 | AG20: 113 | AH20: 68 | AI20: 4
... A30: 連江縣 | B30: 153876 | C30: 37 | D30: =SUM(F30:K30) -> 34 | E30: 24 | F30: 1 | G30: 9 | H30: 13 | I30: 11 | J30: 0 | K30: 0 | L30: 1 | M30: 1 | N30: 4 | O30: 2 | P30: 153 | Q30: 1 | R30: 0 | S30: 0 | T30: 2 | U30: 0 | V30: 0 | W30: 0 | X30: 0 | Y30: 0 | Z30: 0 | AA30: 0 | AB30: 815 | AC30: 6 | AD30: 132 | AE30: 7 | AF30: 115 | AG30: 4 | AH30: 6 | AI30: 0
A31: 填表 | G31: 審核 | U31: 主辦業務人員 | AF31: 機關長官
U32: 主辦統計人員
A33: 資料來源：依據直轄市政府及各縣市衛生局(含金門、連江縣)之資料彙編。
A34: 填表說明：1. 轄區總人口數依據內政部年底人口數。
A35: 2.本表一式二份，一份送本部心理及口腔健康司，一份自存。
A36: 備註：新北市嚴重病人人數以醫院通報嚴重病人之人數為計算基準。

Sheet 108年
A1: 公開類 | AF1: 編製機關 | AH1: 衛生福利部
A2: 年 報 | B2: 次年2月底前填報 | AF2: 表 號 | AH2: 10551-03-01
A3: 精神衛生行政工作執行成果(修正)
Q4: 中華民國 108 年 | AI4: 單位：人、人次、次、件
A5: 縣市別 | B5: 轄區 總人口數 | C5: 目前管理個案數 | E5: 領具精神 障礙手冊/ 證明人數 | F5: 管理個案分級人數 | L5: 訪員 人數 | N5: 嚴重病人 人數 | P5: 訪視人次 | Q5: 緊急處置 人數 | S5: 協助病人 就醫次數 | U5: 會商選定指定保護人次數 | W5: 指定保護 人次數 | Y5: 指定精神 醫療機構數 | Z5: 指定精神 專科醫師 人數 | AB5: 一般民眾 宣導活動 | AD5: 工作人員 在職訓練 | AF5: 相關基層人員 研習會 | AH5: 工作協調 會 議 (次) | AI5: 民眾申訴 案件(件)
C6: 上年 | D6: 本年 | F6: 一級 | G6: 二級 | H6: 三級 | I6: 四級 | J6: 五級 | K6: 未分級
L7: 男 | M7: 女 | N7: 男 | O7: 女 | Q7: 男 | R7: 女 | S7: 男 | T7: 女 | U7: 男 | V7: 女 | W7: 男 | X7: 女 | Z7: 男 | AA7: 女 | AB7: 人次 | AC7: 場次 | AD7: 人次 | AE7: 場次 | AF7: 人次 | AG7: 場次
A8: 總 計 | B8: =SUM(B9:B30) -> 23603121 | C8: =SUM(C9:C30) -> 140516 | D8: =SUM(F8:K8) -> 135719 | E8: =SUM(E9:E30) -> 113199 | F8: =SUM(F9:F30) -> 20761 | G8: =SUM(G9:G30) -> 18547 | H8: =SUM(H9:H30) -> 36160 | I8: =SUM(I9:I30) -> 58988 | J8: =SUM(J9:J30) -> 1113 | K8: =SUM(K9:K30) -> 150 | L8: =SUM(L9:L30) -> 136 | ... AI8: =SUM(AI9:AI30) -> 2462
A9: 新北市 | B9: 4018696 | C9: 22725 | D9: 21975 | E9: 15053 | F9: 3168 | G9: 2865 | H9: 4857 | I9: 10807 | J9: 278 | K9: 0 | L9: 37 | M9: 403 | N9: 902 | O9: 781 | P9: 126327 | Q9: 128 | R9: 107 | S9: 86 | T9: 82 | U9: 79 | V9: 77 | W9: 38 | X9: 41 | Y9: 8 | Z9: 55 | AA9: 26 | AB9: 20876 | AC9: 236 | AD9: 1025 | AE9: 20 | AF9: 4226 | AG9: 30 | AH9: 50 | AI9: 618
A10: 臺北市 | B10: 2645041 | C10: 17644 | D10: 16870 | E10: 15481 | F10: 1591 | G10: 1671 | H10: 8017 | I10: 5557 | J10: 34 | K10: 0 | L10: 9 | M10: 218 | N10: 452 | O10: 474 | P10: 101685 | Q10: 71 | R10: 82 | S10: 107 | T10: 76 | U10: 33 | V10: 53 | W10: 7 | X10: 3 | Y10: 9 | Z10: 111 | AA10: 26 | AB10: 94579 | AC10: 1583 | AD10: 670 | AE10: 92 | AF10: 96 | AG10: 22 | AH10: 173 | AI10: 173
A11: 桃園市 | B11: 2249037 | C11: 8448 | D11: 7520 | E11: 2969 | F11: 1636 | G11: 1384 | H11: 1742 | I11: 2756 | J11: 2 | K11: 0 | L11: 5 | M11: 189 | N11: 213 | O11: 193 | P11: 49981 | Q11: 0 | R11: 0 | S11: 57 | T11: 35 | U11: 0 | V11: 0 | W11: 0 | X11: 128 | Y11: 5 | Z11: 53 | AA11: 13 | AB11: 2645 | AC11: 71 | AD11: 522 | AE11: 5 | AF11: 1606 | AG11: 14 | AH11: 5 | AI11: 87
A12: 臺中市 | B12: 2815261 | C12: 13479 | D12: 12937 | E12: 12664 | F12: 2506 | G12: 2284 | H12: 3290 | I12: 4854 | J12: 3 | K12: 0 | L12: 4 | M12: 342 | N12: 37 | O12: 24 | P12: 86376 | Q12: 2 | R12: 0 | S12: 401 | T12: 257 | U12: 6 | V12: 2 | W12: 12 | X12: 7 | Y12: 16 | Z12: 64 | AA12: 20 | AB12: 684 | AC12: 34 | AD12: 342 | AE12: 30 | AF12: 342 | AG12: 30 | AH12: 30 | AI12: 89
A13: 臺南市 | B13: 1880906 | C13: 10125 | D13: 10140 | E13: 8829 | F13: 1788 | G13: 1576 | H13: 2269 | I13: 4500 | J13: 7 | K13: 0 | L13: 16 | M13: 243 | N13: 518 | O13: 454 | P13: 57514 | Q13: 7 | R13: 10 | S13: 105 | T13: 74 | U13: 7 | V13: 7 | W13: 0 | X13: 12 | Y13: 7 | Z13: 41 | AA13: 18 | AB13: 12236 | AC13: 64 | AD13: 752 | AE13: 35 | AF13: 2554 | AG13: 59 | AH13: 256 | AI13: 204
A14: 高雄市 | B14: 2773198 | C14: 20935 | D14: 20114 | E14: 17413 | F14: 2603 | G14: 2442 | H14: 4256 | I14: 10805 | J14: 8 | K14: 0 | L14: 17 | M14: 249 | N14: 634 | O14: 540 | P14: 105556 | Q14: 0 | R14: 0 | S14: 285 | T14: 236 | U14: 23 | V14: 26 | W14: 14 | X14: 32 | Y14: 11 | Z14: 93 | AA14: 27 | AB14: 43993 | AC14: 641 | AD14: 1211 | AE14: 187 | AF14: 763 | AG14: 203 | AH14: 116 | AI14: 312
A15: 宜蘭縣 | B15: 454178 | C15: 4269 | D15: 4120 | E15: 5218 | F15: 428 | G15: 513 | H15: 1559 | I15: 1612 | J15: 8 | K15: 0 | L15: 1 | M15: 88 | N15: 22 | O15: 14 | P15: 21414 | Q15: 0 | R15: 0 | S15: 12 | T15: 12 | U15: 0 | V15: 0 | W15: 0 | X15: 0 | Y15: 3 | Z15: 11 | AA15: 1 | AB15: 17307 | AC15: 126 | AD15: 832 | AE15: 14 | AF15: 1366 | AG15: 23 | AH15: 15 | AI15: 13
A16: 新竹縣 | B16: 563933 | C16: 2941 | D16: 2959 | E16: 2262 | F16: 500 | G16: 451 | H16: 635 | I16: 1367 | J16: 6 | K16: 0 | L16: 2 | M16: 99 | N16: 9 | O16: 11 | P16: 14556 | Q16: 9 | R16: 1 | S16: 134 | T16: 104 | U16: 0 | V16: 0 | W16: 0 | X16: 0 | Y16: 4 | Z16: 13 | AA16: 1 | AB16: 4039 | AC16: 44 | AD16: 780 | AE16: 11 | AF16: 3580 | AG16: 25 | AH16: 6 | AI16: 14
A17: 苗栗縣 | B17: 545459 | C17: 3584 | D17: 3673 | E17: 3138 | F17: 603 | G17: 610 | H17: 974 | I17: 1484 | J17: 2 | K17: 0 | L17: 2 | M17: 107 | N17: 170 | O17: 114 | P17: 20559 | Q17: 118 | R17: 40 | S17: 118 | T17: 40 | U17: 3 | V17: 5 | W17: 94 | X17: 62 | Y17: 3 | Z17: 14 | AA17: 2 | AB17: 2807 | AC17: 41 | AD17: 1467 | AE17: 67 | AF17: 1539 | AG17: 26 | AH17: 4 | AI17: 0
A18: 彰化縣 | B18: 1272802 | C18: 7961 | D18: 8288 | E18: 4717 | F18: 1265 | G18: 1048 | H18: 2376 | I18: 3121 | J18: 478 | K18: 0 | L18: 0 | M18: 153 | N18: 158 | O18: 113 | P18: 40979 | Q18: 41 | R18: 35 | S18: 169 | T18: 88 | U18: 1 | V18: 0 | W18: 2 | X18: 4 | Y18: 5 | Z18: 30 | AA18: 2 | AB18: 16358 | AC18: 364 | AD18: 452 | AE18: 90 | AF18: 683 | AG18: 125 | AH18: 111 | AI18: 108
A19: 南投縣 | B19: 494112 | C19: 3560 | D19: 3617 | E19: 3454 | F19: 600 | G19: 475 | H19: 832 | I19: 1710 | J19: 0 | K19: 0 | L19: 11 | M19: 108 | N19: 7 | O19: 4 | P19: 17409 | Q19: 0 | R19: 0 | S19: 81 | T19: 38 | U19: 0 | V19: 0 | W19: 6 | X19: 2 | Y19: 3 | Z19: 22 | AA19: 10 | AB19: 14398 | AC19: 129 | AD19: 266 | AE19: 47 | AF19: 4203 | AG19: 55 | AH19: 46 | AI19: 41
A20: 雲林縣 | B20: 681306 | C20: 2902 | D20: 2666 | E20: 2180 | F20: 887 | G20: 488 | H20: 682 | I20: 609 | J20: 0 | K20: 0 | L20: 3 | M20: 129 | N20: 48 | O20: 31 | P20: 18786 | Q20: 1 | R20: 1 | S20: 150 | T20: 95 | U20: 1 | V20: 1 | W20: 10 | X20: 11 | Y20: 3 | Z20: 13 | AA20: 3 | AB20: 44450 | AC20: 588 | AD20: 307 | AE20: 303 | AF20: 1935 | AG20: 112 | AH20: 39 | AI20: 5
... A29: 金門縣 | B29: 140185 | C29: 479 | D29: 453 | E29: 529 | F29: 52 | G29: 50 | H29: 213 | I29: 136 | J29: 2 | K29: 0 | L29: 1 | M29: 1 | N29: 9 | O29: 5 | P29: 2137 | Q29: 0 | R29: 0 | S29: 0 | T29: 0 | U29: 0 | V29: 0 | W29: 0 | X29: 0 | Y29: 1 | Z29: 3 | AA29: 1 | AB29: 534 | AC29: 6 | AD29: 20 | AE29: 5 | AF29: 4 | AG29: 2 | AH29: 6 | AI29: 0
A30: 連江縣 | B30: 13089 | C30: 40 | D30: 37 | E30: 25 | F30: 5 | G30: 10 | H30: 13 | I30: 9 | J30: 0 | K30: 0 | L30: 1 | M30: 1 | N30: 4 | O30: 2 | P30: 112 | Q30: 1 | R30: 1 | S30: 2 | T30: 1 | U30: 0 | V30: 0 | W30: 0 | X30: 0 | Y30: 0 | Z30: 0 | AA30: 0 | AB30: 2157 | AC30: 11 | AD30: 166 | AE30: 6 | AF30: 428 | AG30: 13 | AH30: 8
A31: 填表 | G31: 審核 | U31: 主辦業務人員 | AF31: 機關長官
U32: 主辦統計人員
A33: 資料來源：依據直轄市政府及各縣市衛生局(含金門、連江縣)之資料彙編。
A34: 填表說明：1. 轄區總人口數依據內政部年底人口數。
A35: 2.本表一式二份，一份送本部心理及口腔健康司，一份自存。
A36: 備註：新北市嚴重病人人數以醫院通報嚴重病人之人數為計算基準。

Sheet 107年
A1: 公開類 | AF1: 編製機關 | AH1: 衛生福利部統計處
A2: 年 報 | B2: 次年2月底前填報 | AF2: 表 號 | AH2: 10551-03-01
A3: 精神衛生行政工作執行成果
Q4: 中華民國 107 年 | AI4: 單位：人、人次、次、件
A5: 縣市別 | B5: 轄區 總人口數 | C5: 目前管理個案數 | E5: 領具精神 障礙手冊/ 證明人數 | F5: 管理個案分級人數 | L5: 訪員 人數 | N5: 嚴重病人 人數 | P5: 訪視人次 | Q5: 緊急處置 人數 | S5: 協助病人 就醫次數 | U5: 會商選定指定保護人次數 | W5: 指定保護 人次數 | Y5: 指定精神 醫療機構數 | Z5: 指定精神 專科醫師 人數 | AB5: 一般民眾 宣導活動 | AD5: 工作人員 在職訓練 | AF5: 相關基層人員 研習會 | AH5: 工作協調 會 議 (次) | AI5: 民眾申訴 案件(件)
C6: 上年 | D6: 本年 | F6: 一級 | G6: 二級 | H6: 三級 | I6: 四級 | J6: 五級 | K6: 未分級
L7: 男 | M7: 女 | N7: 男 | O7: 女 | Q7: 男 | R7: 女 | S7: 男 | T7: 女 | U7: 男 | V7: 女 | W7: 男 | X7: 女 | Z7: 男 | AA7: 女 | AB7: 人次 | AC7: 場次 | AD7: 人次 | AE7: 場次 | AF7: 人次 | AG7: 場次
A8: 總 計 | B8: =SUM(B9:B30) -> 23588932 | C8: =SUM(C9:C30) -> 139286 | D8: =SUM(F8:K8) -> 140516 | E8: =SUM(E9:E30) -> 114928 | F8: =SUM(F9:F30) -> 22080 | G8: =SUM(G9:G30) -> 19433 | H8: =SUM(H9:H30) -> 37779 | I8: =SUM(I9:I30) -> 60289 | J8: =SUM(J9:J30) -> 935 | K8: =SUM(K9:K30) -> 0 | L8: =SUM(L9:L30) -> 91 | ... AI8: =SUM(AI9:AI30) -> 2154
