Workbook

Sheet 歷年
A1: 婦女福利機構服務Women's Welfare Institutional Services
A3: 年別 Year | C3: 一、婦女福利服務中心 Welfare Service Center | AT3: 二、婦女中途之家、庇護中心Housing/Sheltering Center
C4: 期底機構數 Number of institutions at the end of the period | J4: 服務內容Service Contents | AT4: 期底機構數 (個) Number of institutions at the end of the period | AX4: 收容數 Number of persons taken in
C5: 期底機構數 按公、私立別分 (個) Number of institutions at the end of the period | G5: 期底機構數 按服務對象分 (個) Number of institutions at the end of the period By service recipients (number) | J5: 成長活動 (人次) Growth activities (Times) | N5: 諮詢服務 (人次) Consulting Service (Person-Times) | R5: 個案管理服務 (人次) Cases Management Service (Person-Times) | V5: 就業支持服務方案(人次) Employment support service program | Z5: 團體方案 Team Scheme Service | AE5: 展覽 Exhibitions | AJ5: 研討會 Seminars | AO5: 其他 Others | AT5: 合計 Total | AU5: 公立 Public Ins. | AV5: 私立 Private Ins. | AW5: 公設民營Public Ins. Run by Private Ins. | AX5: 最高可收容人數 (人) No.of Providing | AY5: 本期收容個案數 (人次) Accommodated Persons (Times)
C7: 合計 Total | D7: 公立 Public Ins. | E7: 私立 Private Ins. | F7: 公設民營 Public Ins. Run by Private Ins. | G7: 合計 Total | H7: 婦女 Women | I7: 婦女及兒少 Women,children, and youths | J7: 合計 Total | K7: 男 Male | L7: 女 Female | M7: 其他 Other | N7: 合計 Total | O7: 男 Male | P7: 女 Female | Q7: 其他 Other | R7: 合計 Total | S7: 男 Male | T7: 女 Female | U7: 其他 Other | V7: 合計 Total | W7: 男 Male | X7: 女 Female | Y7: 其他 Other | Z7: 辦理 次數 Times | AA7: 參加人次 | AE7: 辦理 次數 Times | AF7: 參加人次 | AJ7: 辦理 次數 Times | AK7: 參加人次 | AO7: 辦理 次數 Times | AP7: 參加人次
AA8: 合計 Total | AB8: 男 Male | AC8: 女 Female | AD8: 其他 Other | AF8: 合計 Total | AG8: 男 Male | AH8: 女 Female | AI8: 其他 Other | AK8: 合計 Total | AL8: 男 Male | AM8: 女 Female | AN8: 其他 Other | AP8: 合計 Total | AQ8: 男 Male | AR8: 女 Female | AS8: 其他 Other
A9: 106年 2017 | C9: 73 | D9: 35 | E9: 2 | F9: 36 | G9: 73 | H9: 36 | I9: 37 | J9: 139546 | K9: 18848 | L9: 120698 | M9: … | N9: 150249 | O9: 29476 | P9: 120773 | Q9: … | R9: 64256 | S9: 7825 | T9: 56431 | U9: … | V9: 10429 | W9: 816 | X9: 9613 | Y9: … | Z9: 2646 | AA9: 74287 | AB9: 17863 | AC9: 56424 | AD9: … | AE9: 128 | AF9: 160744 | AG9: 49777 | AH9: 110967 | AI9: … | AJ9: 67 | AK9: 2736 | AL9: 600 | AM9: 2136 | AN9: … | AO9: 9568 | AP9: 1107336 | AQ9: 369779 | AR9: 737557 | AS9: … | AT9: 51 | AU9: 2 | AV9: 32 | AW9: 17 | AX9: 582 | AY9: 3154
A10: 107年 2018 | C10: 77 | D10: 37 | E10: 4 | F10: 36 | G10: 76 | H10: 40 | I10: 36 | J10: 128812 | K10: 16817 | L10: 111995 | M10: … | N10: 147091 | O10: 29807 | P10: 117284 | Q10: … | R10: 76658 | S10: 9343 | T10: 67315 | U10: … | V10: 10786 | W10: 1947 | X10: 8839 | Y10: … | Z10: 1990 | AA10: 44902 | AB10: 5884 | AC10: 39018 | AD10: … | AE10: 234 | AF10: 82006 | AG10: 19019 | AH10: 62987 | AI10: … | AJ10: 63 | AK10: 1943 | AL10: 218 | AM10: 1725 | AN10: … | AO10: 10745 | AP10: 1444575 | AQ10: 467606 | AR10: 976969 | AS10: … | AT10: 46 | AU10: 1 | AV10: 29 | AW10: 16 | AX10: 590 | AY10: 3194
A11: 108年 2019 | C11: 61 | D11: 27 | E11: 0 | F11: 34 | G11: 61 | H11: 42 | I11: 19 | J11: 132321 | K11: 18677 | L11: 113644 | M11: … | N11: 134390 | O11: 23924 | P11: 110466 | Q11: … | R11: 75064 | S11: 8588 | T11: 66476 | U11: … | V11: 11520 | W11: 1424 | X11: 10096 | Y11: … | Z11: 1822 | AA11: 46645 | AB11: 5381 | AC11: 41264 | AD11: … | AE11: 615 | AF11: 82120 | AG11: 20036 | AH11: 62084 | AI11: … | AJ11: 44 | AK11: 1045 | AL11: 192 | AM11: 853 | AN11: … | AO11: 13497 | AP11: 1337109 | AQ11: 291339 | AR11: 1045770 | AS11: … | AT11: 49 | AU11: 3 | AV11: 30 | AW11: 16 | AX11: 609 | AY11: 2400
A12: 109年 2020 | C12: 62 | D12: 26 | E12: 0 | F12: 36 | G12: 62 | H12: 44 | I12: 18 | J12: 127263 | K12: 16711 | L12: 110552 | M12: … | N12: 138827 | O12: 23558 | P12: 115269 | Q12: … | R12: 98419 | S12: 15374 | T12: 83045 | U12: … | V12: 9302 | W12: 736 | X12: 8566 | Y12: … | Z12: 1953 | AA12: 53058 | AB12: 8166 | AC12: 44892 | AD12: … | AE12: 374 | AF12: 112431 | AG12: 29068 | AH12: 83363 | AI12: … | AJ12: 63 | AK12: 2449 | AL12: 558 | AM12: 1891 | AN12: … | AO12: 12664 | AP12: 1980580 | AQ12: 333510 | AR12: 1647070 | AS12: … | AT12: 49 | AU12: 3 | AV12: 30 | AW12: 16 | AX12: 591 | AY12: 2375
A13: 110年,2021 | C13: 62 | D13: 26 | E13: 0 | F13: 36 | G13: 62 | H13: 45 | I13: 17 | J13: 119544 | K13: 18598 | L13: 100946 | M13: … | N13: 119505 | O13: 27653 | P13: 91852 | Q13: … | R13: 66597 | S13: 12847 | T13: 53750 | U13: … | V13: 14111 | W13: 2685 | X13: 11426 | Y13: … | Z13: 1640 | AA13: 34240 | AB13: 4391 | AC13: 29849 | AD13: … | AE13: 141 | AF13: 62307 | AG13: 14898 | AH13: 47409 | AI13: … | AJ13: 45 | AK13: 1820 | AL13: 332 | AM13: 1488 | AN13: … | AO13: 10949 | AP13: 2136205 | AQ13: 554299 | AR13: 1581906 | AS13: … | AT13: 49 | AU13: 3 | AV13: 30 | AW13: 16 | AX13: 557 | AY13: 1905
A14: 111年,2022 | C14: 58 | D14: 21 | E14: 0 | F14: 37 | G14: 58 | H14: 47 | I14: 11 | J14: 368727 | K14: 93379 | L14: 275348 | M14: … | N14: 151998 | O14: 38922 | P14: 113076 | Q14: … | R14: 84135 | S14: 19865 | T14: 64270 | U14: … | V14: 11049 | W14: 1190 | X14: 9859 | Y14: … | Z14: 2324 | AA14: 42911 | AB14: 4919 | AC14: 37992 | AD14: … | AE14: 120 | AF14: 53183 | AG14: 14077 | AH14: 39106 | AI14: … | AJ14: 662 | AK14: 31410 | AL14: 8458 | AM14: 22952 | AN14: … | AO14: 12562 | AP14: 2935016 | AQ14: 587574 | AR14: 2347442 | AS14: … | AT14: 49 | AU14: 3 | AV14: 30 | AW14: 16 | AX14: 566 | AY14: 1958
A15: 112年,2023 | C15: 62 | D15: 19 | E15: 0 | F15: 43 | G15: 62 | H15: 50 | I15: 12 | J15: 545523 | K15: 161905 | L15: 383618 | M15: … | N15: 254949 | O15: 70030 | P15: 184919 | Q15: … | R15: 101003 | S15: 21722 | T15: 79281 | U15: … | V15: 14722 | W15: 3414 | X15: 11308 | Y15: … | Z15: 1509 | AA15: 28956 | AB15: 4130 | AC15: 24826 | AD15: … | AE15: 426 | AF15: 200999 | AG15: 47847 | AH15: 153152 | AI15: … | AJ15: 85 | AK15: 2189 | AL15: 321 | AM15: 1868 | AN15: … | AO15: 14507 | AP15: 4672880 | AQ15: 783395 | AR15: 3889485 | AS15: … | AT15: 46 | AU15: 3 | AV15: 27 | AW15: 16 | AX15: 560 | AY15: 2334
A16: 上半年，Jan.-June | C16: 62 | D16: 19 | E16: 0 | F16: 43 | G16: 62 | H16: 49 | I16: 13 | J16: 269599 | K16: 86131 | L16: 183468 | N16: 137168 | O16: 40915 | P16: 96253 | R16: 42729 | S16: 10375 | T16: 32354 | V16: 4792 | W16: 479 | X16: 4313 | Z16: 479 | AA16: 8650 | AB16: 1127 | AC16: 7523 | AE16: 230 | AF16: 37001 | AG16: 9778 | AH16: 27223 | AJ16: 21 | AK16: 617 | AL16: 81 | AM16: 536 | AO16: 6121 | AP16: 1662789 | AQ16: 312142 | AR16: 1350647 | AT16: 46 | AU16: 3 | AV16: 27 | AW16: 16 | AX16: 564 | AY16: 1169
A17: 113年,2024 | C17: 65 | D17: 19 | E17: 0 | F17: 46 | G17: 65 | H17: 52 | I17: 13 | J17: 615953 | K17: 156372 | L17: 459581 | M17: 0 | N17: 364262 | O17: 96314 | P17: 267846 | Q17: 102 | R17: 103159 | S17: 27657 | T17: 75502 | U17: 0 | V17: 20305 | W17: 3547 | X17: 16758 | Y17: 0 | Z17: 1684 | AA17: 32388 | AB17: 6100 | AC17: 26288 | AD17: 0 | AE17: 435 | AF17: 167867 | AG17: 38740 | AH17: 129101 | AI17: 26 | AJ17: 963 | AK17: 15203 | AL17: 3212 | AM17: 11991 | AN17: 0 | AO17: 16020 | AP17: 3652412 | AQ17: 608054 | AR17: 3044327 | AS17: 31 | AT17: 48 | AU17: 3 | AV17: 24 | AW17: 21 | AX17: 715 | AY17: 2148
A18: 上半年，Jan.-June | C18: 65 | D18: 19 | E18: 0 | F18: 46 | G18: 65 | H18: 52 | I18: 13 | J18: 280759 | K18: 70235 | L18: 210524 | M18: 204590 | N18: 57021 | O18: 147569 | P18: 57418 | Q18: 17879 | R18: 39539 | S18: 6632 | T18: 1207 | U18: 5425 | V18: 577 | W18: 10433 | X18: 1714 | Y18: 8719 | Z18: 189 | AA18: 113684 | AB18: 24532 | AC18: 89139 | AD18: 12 | AE18: 725 | AF18: 44 | AG18: 681 | AH18: 7925 | AI18: 1236824 | AJ18: 194639 | AK18: 1042185 | AL18: 47 | AM18: 7 | AN18: 23 | AO18: 17 | AP18: 576 | AQ18: 1048 | AR18: 1042185 | AS18: 0 | AT18: 47 | AU18: 7 | AV18: 23 | AW18: 17 | AX18: 576 | AY18: 1048
A19: 下半年，July-Dec. | C19: 65 | D19: 19 | E19: 0 | F19: 46 | G19: 65 | H19: 52 | I19: 13 | J19: 335194 | K19: 86137 | L19: 249057 | M19: 0 | N19: 159672 | O19: 39293 | P19: 120277 | Q19: 102 | R19: 45741 | S19: 9778 | T19: 35963 | U19: 0 | V19: 13673 | W19: 2340 | X19: 11333 | Y19: 0 | Z19: 1107 | AA19: 21955 | AB19: 4386 | AC19: 17569 | AD19: 0 | AE19: 246 | AF19: 54183 | AG19: 14208 | AH19: 39962 | AI19: 13 | AJ19: 951 | AK19: 14478 | AL19: 3168 | AM19: 11310 | AN19: 0 | AO19: 8095 | AP19: 2415588 | AQ19: 413415 | AR19: 2002142 | AS19: 31 | AT19: 48 | AU19: 3 | AV19: 24 | AW19: 21 | AX19: 715 | AY19: 1100
A20: 114年,2025 | C20: 66 | D20: 19 | E20: 0 | F20: 47 | G20: 66 | H20: 53 | I20: 13 | AT20: 47 | AU20: 3 | AV20: 24 | AW20: 20 | AX20: 575 | AY20: 2141
A21: 上半年，Jan.-June | C21: 66 | D21: 19 | E21: 0 | F21: 47 | G21: 66 | H21: 54 | I21: 12 | J21: 278780 | K21: 72295 | L21: 206464 | M21: 21 | N21: 183757 | O21: 46132 | P21: 137624 | Q21: 1 | R21: 74883 | S21: 23899 | T21: 50984 | U21: 0 | V21: 7560 | W21: 1237 | X21: 6323 | Y21: 0 | Z21: 583 | AA21: 11719 | AB21: 2124 | AC21: 9595 | AD21: 0 | AE21: 105 | AF21: 122131 | AG21: 49995 | AH21: 72136 | AI21: 0 | AJ21: 15 | AK21: 465 | AL21: 54 | AM21: 411 | AN21: 0 | AT21: 46 | AU21: 3 | AV21: 23 | AW21: 20 | AX21: 584 | AY21: 1124
A22: 下半年，July-Dec. | C22: 66 | D22: 19 | E22: 0 | F22: 47 | G22: 66 | H22: 53 | I22: 13 | AT22: 47 | AU22: 3 | AV22: 24 | AW22: 20 | AX22: 575 | AY22: 1017
A23: 資料來源：直轄市、縣(市)政府
A24: Source : County and City Government.
A25: 附 註:108年底機構數較107年減少之主要原因，係桃園市108年起13區家庭服務中心移至家庭福利服務報表。
A26: 更新日期：2026/05/15

Sheet 2025
A1: 婦女福利機構服務Women's Welfare Institutional Services
A2: 地區別 Locality | C2: 一、婦女福利服務中心 Welfare Service Center | AT2: 二、婦女中途之家、庇護中心Housing/Sheltering Center
C3: 期底機構數 Number of institutions at the end of the period | J3: 服務內容Service Contents | AT3: 期底機構數 (個) Number of institutions at the end of the period | AX3: 收容數 Number of persons taken in
C4: 期底機構數 按公、私立別分 (個) Number of institutions at the end of the period | G4: 期底機構數 按服務對象分 (個) Number of institutions at the end of the period By service recipients (number) | J4: 成長活動 (人次) Growth activities (Times) | N4: 諮詢服務 (人次) Consulting Service (Person-Times) | R4: 個案管理服務 (人次) Cases Management Service (Person-Times) | V4: 就業支持服務方案(人次) Employment support service program | Z4: 團體方案 Team Scheme Service | AE4: 展覽 Exhibitions | AJ4: 研討會 Seminars | AO4: 其他 Others | AT4: 合計 Total | AU4: 公立 Public Ins. | AV4: 私立 Private Ins. | AW4: 公設民營Public Ins. Run by Private Ins. | AX4: 最高可收容人數 (人) No.of Providing | AY4: 本期收容個案數 (人次) Accommodated Persons (Times)
C6: 合計 Total | D6: 公立 Public Ins. | E6: 私立 Private Ins. | F6: 公設民營 Public Ins. Run by Private Ins. | G6: 合計 Total | H6: 婦女 Women | I6: 婦女及兒少 Women,children, and youths | J6: 合計 Total | K6: 男 Male | L6: 女 Female | M6: 其他 Other | N6: 合計 Total | O6: 男 Male | P6: 女 Female | Q6: 其他 Other | R6: 合計 Total | S6: 男 Male | T6: 女 Female | U6: 其他 Other | V6: 合計 Total | W6: 男 Male | X6: 女 Female | Y6: 其他 Other | Z6: 辦理 次數 Times | AA6: 參加人次 | AE6: 辦理 次數 Times | AF6: 參加人次 | AJ6: 辦理 次數 Times | AK6: 參加人次 | AO6: 辦理 次數 Times | AP6: 參加人次
AA7: 合計 Total | AB7: 男 Male | AC7: 女 Female | AD7: 其他 Other | AF7: 合計 Total | AG7: 男 Male | AH7: 女 Female | AI7: 其他 Other | AK7: 合計 Total | AL7: 男 Male | AM7: 女 Female | AN7: 其他 Other | AP7: 合計 Total | AQ7: 男 Male | AR7: 女 Female | AS7: 其他 Other
A8: 114年,2025 | C8: 66 | D8: 19 | E8: 0 | F8: 47 | G8: 66 | H8: 53 | I8: 13 | J8: 704749 | K8: 175264 | L8: 529237 | M8: 248 | N8: 551390 | O8: 98259 | P8: 452609 | Q8: 522 | R8: 135455 | S8: 39279 | T8: 96176 | U8: 0 | V8: 30330 | W8: 5189 | X8: 25110 | Y8: 31 | Z8: 2012 | AA8: 40625 | AB8: 7211 | AC8: 33414 | AD8: 0 | AE8: 318 | AF8: 219342 | AG8: 76143 | AH8: 135011 | AI8: 8188 | AJ8: 49 | AK8: 1113 | AL8: 140 | AM8: 973 | AN8: 0 | AO8: 9478 | AP8: 3301158 | AQ8: 499128 | AR8: 2801674 | AS8: 356 | AT8: 47 | AU8: 3 | AV8: 24 | AW8: 20 | AX8: 575 | AY8: 2141
A9: 新北市 | B9: New Taipei City | C9: 3 | D9: 1 | E9: 0 | F9: 2 | G9: 3 | H9: 3 | I9: 0 | J9: 162672 | K9: 5571 | L9: 157101 | M9: 0 | N9: 50839 | O9: 2597 | P9: 48242 | Q9: 0 | R9: 1931 | S9: 226 | T9: 1705 | U9: 0 | V9: 450 | W9: 30 | X9: 420 | Y9: 0 | Z9: 17 | AA9: 361 | AB9: 53 | AC9: 308 | AD9: 0 | AE9: 9 | AF9: 13738 | AG9: 2967 | AH9: 10771 | AI9: 0 | AJ9: 1 | AK9: 200 | AL9: 20 | AM9: 180 | AN9: 0 | AO9: 13 | AP9: 1955 | AQ9: 541 | AR9: 1414 | AS9: 0 | AT9: 3 | AU9: 0 | AV9: 0 | AW9: 3 | AX9: 59 | AY9: 267
A10: 臺北市 | B10: Taipei City | C10: 11 | D10: 0 | E10: 0 | F10: 11 | G10: 11 | H10: 11 | I10: 0 | J10: 84415 | K10: 19549 | L10: 64858 | M10: 8 | N10: 174319 | O10: 1051 | P10: 173267 | Q10: 1 | R10: 27429 | S10: 2510 | T10: 24919 | U10: 0 | V10: 770 | W10: 4 | X10: 766 | Y10: 0 | Z10: 364 | AA10: 5443 | AB10: 974 | AC10: 4469 | AD10: 0 | AE10: 12 | AF10: 13888 | AG10: 2702 | AH10: 11183 | AI10: 3 | AJ10: 2 | AK10: 16 | AL10: 3 | AM10: 13 | AN10: 0 | AO10: 4026 | AP10: 1554237 | AQ10: 221644 | AR10: 1332255 | AS10: 338 | AT10: 3 | AU10: 1 | AV10: 0 | AW10: 2 | AX10: 144 | AY10: 275 | BB10: =2141-2126 -> 15
A11: 桃園市 | B11: Taoyuan City | C11: 10 | D11: 5 | E11: 0 | F11: 5 | G11: 10 | H11: 5 | I11: 5 | J11: 289478 | K11: 120500 | L11: 168978 | M11: 0 | N11: 11316 | O11: 1395 | P11: 9921 | Q11: 0 | R11: 3135 | S11: 128 | T11: 3007 | U11: 0 | V11: 1252 | W11: 56 | X11: 1196 | Y11: 0 | Z11: 144 | AA11: 2855 | AB11: 658 | AC11: 2197 | AD11: 0 | AE11: 15 | AF11: 4805 | AG11: 1390 | AH11: 3415 | AI11: 0 | AJ11: 1 | AK11: 51 | AL11: 6 | AM11: 45 | AN11: 0 | AO11: 0 | AP11: 0 | AQ11: 0 | AR11: 0 | AS11: 0 | AT11: 2 | AU11: 0 | AV11: 0 | AW11: 2 | AX11: 53 | AY11: 372
A12: 臺中市 | B12: Taichung City | C12: 12 | D12: 1 | E12: 0 | F12: 11 | G12: 12 | H12: 9 | I12: 3 | J12: 18954 | K12: 2947 | L12: 15954 | M12: 53 | N12: 33759 | O12: 5381 | P12: 28371 | Q12: 7 | R12: 13022 | S12: 923 | T12: 12099 | U12: 0 | V12: 14264 | W12: 1795 | X12: 12438 | Y12: 31 | Z12: 221 | AA12: 2808 | AB12: 204 | AC12: 2604 | AD12: 0 | AE12: 157 | AF12: 44191 | AG12: 12958 | AH12: 23048 | AI12: 8185 | AJ12: 7 | AK12: 161 | AL12: 13 | AM12: 148 | AN12: 0 | AO12: 282 | AP12: 1498440 | AQ12: 215173 | AR12: 1283249 | AS12: 18 | AT12: 15 | AU12: 0 | AV12: 15 | AW12: 0 | AX12: 76 | AY12: 211
A13: 臺南市 | B13: Tainan City | C13: 4 | D13: 0 | E13: 0 | F13: 4 | G13: 4 | H13: 4 | I13: 0 | J13: 10583 | K13: 741 | L13: 9842 | M13: 0 | N13: 34985 | O13: 13635 | P13: 21350 | Q13: 0 | R13: 63630 | S13: 24872 | T13: 38758 | U13: 0 | V13: 1284 | W13: 246 | X13: 1038 | Y13: 0 | Z13: 346 | AA13: 4549 | AB13: 1109 | AC13: 3440 | AD13: 0 | AE13: 3 | AF13: 566 | AG13: 117 | AH13: 449 | AI13: 0 | AJ13: 19 | AK13: 402 | AL13: 58 | AM13: 344 | AN13: 0 | AO13: 697 | AP13: 8347 | AQ13: 2074 | AR13: 6273 | AS13: 0 | AT13: 2 | AU13: 0 | AV13: 2 | AW13: 0 | AX13: 14 | AY13: 53
A14: 高雄市 | B14: Kaohsiung City | C14: 4 | D14: 2 | E14: 0 | F14: 2 | G14: 4 | H14: 1 | I14: 3 | J14: 50014 | K14: 12246 | L14: 37768 | M14: 0 | N14: 145771 | O14: 46939 | P14: 98832 | Q14: 0 | R14: 0 | S14: 0 | T14: 0 | U14: 0 | V14: 5102 | W14: 1680 | X14: 3422 | Y14: 0 | Z14: 371 | AA14: 12105 | AB14: 1739 | AC14: 10366 | AD14: 0 | AE14: 18 | AF14: 46309 | AG14: 16953 | AH14: 29356 | AI14: 0 | AJ14: 0 | AK14: 0 | AL14: 0 | AM14: 0 | AN14: 0 | AO14: 2267 | AP14: 107105 | AQ14: 28235 | AR14: 78870 | AS14: 0 | AT14: 2 | AU14: 0 | AV14: 0 | AW14: 2 | AX14: 22 | AY14: 106
A15: 宜蘭縣 | B15: Yilan County | C15: 1 | D15: 1 | E15: 0 | F15: 0 | G15: 1 | H15: 1 | I15: 0 | J15: 46 | K15: 15 | L15: 31 | M15: 0 | N15: 19260 | O15: 9041 | P15: 10219 | Q15: 0 | R15: 12259 | S15: 5940 | T15: 6319 | U15: 0 | V15: 0 | W15: 0 | X15: 0 | Y15: 0 | Z15: 0 | AA15: 0 | AB15: 0 | AC15: 0 | AD15: 0 | AE15: 0 | AF15: 0 | AG15: 0 | AH15: 0 | AI15: 0 | AJ15: 0 | AK15: 0 | AL15: 0 | AM15: 0 | AN15: 0 | AO15: 0 | AP15: 0 | AQ15: 0 | AR15: 0 | AS15: 0 | AT15: 2 | AU15: 0 | AV15: 2 | AW15: 0 | AX15: 20 | AY15: 126
A16: 新竹縣 | B16: Hsinchu County | C16: 2 | D16: 0 | E16: 0 | F16: 2 | G16: 2 | H16: 2 | I16: 0 | J16: 2205 | K16: 539 | L16: 1666 | M16: 0 | N16: 34337 | O16: 6672 | P16: 27665 | Q16: 0 | R16: 0 | S16: 0 | T16: 0 | U16: 0 | V16: 193 | W16: 11 | X16: 182 | Y16: 0 | Z16: 32 | AA16: 480 | AB16: 22 | AC16: 458 | AD16: 0 | AE16: 8 | AF16: 6714 | AG16: 3319 | AH16: 3395 | AI16: 0 | AJ16: 0 | AK16: 0 | AL16: 0 | AM16: 0 | AN16: 0 | AO16: 0 | AP16: 0 | AQ16: 0 | AR16: 0 | AS16: 0 | AT16: 1 | AU16: 0 | AV16: 1 | AW16: 0 | AX16: 10 | AY16: 29
A17: 苗栗縣 | B17: Miaoli County | C17: 1 | D17: 0 | E17: 0 | F17: 1 | G17: 1 | H17: 1 | I17: 0 | J17: 2598 | K17: 674 | L17: 1924 | M17: 0 | N17: 91 | O17: 0 | P17: 91 | Q17: 0 | R17: 0 | S17: 0 | T17: 0 | U17: 0 | V17: 15 | W17: 0 | X17: 15 | Y17: 0 | Z17: 0 | AA17: 0 | AB17: 0 | AC17: 0 | AD17: 0 | AE17: 23 | AF17: 1160 | AG17: 326 | AH17: 834 | AI17: 0 | AJ17: 0 | AK17: 0 | AL17: 0 | AM17: 0 | AN17: 0 | AO17: 80 | AP17: 57584 | AQ17: 15885 | AR17: 41699 | AS17: 0 | AT17: 1 | AU17: 0 | AV17: 0 | AW17: 1 | AX17: 4 | AY17: 1
A18: 彰化縣 | B18: Changhua County | C18: 2 | D18: 0 | E18: 0 | F18: 2 | G18: 2 | H18: 2 | I18: 0 | J18: 3011 | K18: 215 | L18: 2796 | M18: 0 | N18: 3150 | O18: 318 | P18: 2832 | Q18: 0 | R18: 0 | S18: 0 | T18: 0 | U18: 0 | V18: 315 | W18: 0 | X18: 315 | Y18: 0 | Z18: 23 | AA18: 1877 | AB18: 225 | AC18: 1652 | AD18: 0 | AE18: 11 | AF18: 10214 | AG18: 2055 | AH18: 8159 | AI18: 0 | AJ18: 0 | AK18: 0 | AL18: 0 | AM18: 0 | AN18: 0 | AO18: 87 | AP18: 3842 | AQ18: 734 | AR18: 3108 | AS18: 0 | AT18: 2 | AU18: 0 | AV18: 1 | AW18: 1 | AX18: 13 | AY18: 42
A19: 南投縣 | B19: Nantou County | C19: 4 | D19: 0 | E19: 0 | F19: 4 | G19: 4 | H19: 4 | I19: 0 | J19: 3304 | K19: 1289 | L19: 2015 | M19: 0 | N19: 1971 | O19: 389 | P19: 1582 | Q19: 0 | R19: 91 | S19: 7 | T19: 84 | U19: 0 | V19: 355 | W19: 45 | X19: 310 | Y19: 0 | Z19: 151 | AA19: 4407 | AB19: 1402 | AC19: 3005 | AD19: 0 | AE19: 39 | AF19: 6426 | AG19: 1262 | AH19: 5164 | AI19: 0 | AJ19: 4 | AK19: 37 | AL19: 9 | AM19: 28 | AN19: 0 | AO19: 45 | AP19: 38922 | AQ19: 7998 | AR19: 30924 | AS19: 0 | AT19: 1 | AU19: 0 | AV19: 0 | AW19: 1 | AX19: 10 | AY19: 17
A20: 雲林縣 | B20: Yunlin County | C20: 1 | D20: 1 | E20: 0 | F20: 0 | G20: 1 | H20: 1 | I20: 0 | J20: 6230 | K20: 356 | L20: 5872 | M20: 2 | N20: 7471 | O20: 2559 | P20: 4912 | Q20: 0 | R20: 0 | S20: 0 | T20: 0 | U20: 0 | V20: 0 | W20: 0 | X20: 0 | Y20: 0 | Z20: 55 | AA20: 402 | AB20: 63 | AC20: 339 | AD20: 0 | AE20: 1 | AF20: 289 | AG20: 15 | AH20: 274 | AI20: 0 | AJ20: 0 | AK20: 0 | AL20: 0 | AM20: 0 | AN20: 0 | AO20: 1131 | AP20: 12734 | AQ20: 2199 | AR20: 10535 | AS20: 0 | AT20: 1 | AU20: 0 | AV20: 0 | AW20: 1 | AX20: 15 | AY20: 86
A21: 嘉義縣 | B21: Chiayi County | C21: 1 | D21: 1 | E21: 0 | F21: 0 | G21: 1 | H21: 1 | I21: 0 | J21: 1023 | K21: 0 | L21: 1023 | M21: 0 | N21: 1449 | O21: 189 | P21: 1260 | Q21: 0 | R21: 0 | S21: 0 | T21: 0 | U21: 0 | V21: 32 | W21: 0 | X21: 32 | Y21: 0 | Z21: 10 | AA21: 55 | AB21: 0 | AC21: 55 | AD21: 0 | AE21: 3 | AF21: 342 | AG21: 136 | AH21: 206 | AI21: 0 | AJ21: 0 | AK21: 0 | AL21: 0 | AM21: 0 | AN21: 0 | AO21: 32 | AP21: 10589 | AQ21: 2356 | AR21: 8233 | AS21: 0 | AT21: 3 | AU21: 2 | AV21: 0 | AW21: 1 | AX21: 6 | AY21: 27
A22: 屏東縣 | B22: Pingtung County | C22: 1 | D22: 1 | E22: 0 | F22: 0 | G22: 1 | H22: 1 | I22: 0 | J22: 12400 | K22: 2048 | L22: 10352 | M22: 0 | N22: 19686 | O22: 6157 | P22: 13529 | Q22: 0 | R22: 13958 | S22: 4673 | T22: 9285 | U22: 0 | V22: 3486 | W22: 1115 | X22: 2371 | Y22: 0 | Z22: 162 | AA22: 3653 | AB22: 622 | AC22: 3031 | AD22: 0 | AE22: 7 | AF22: 68359 | AG22: 31456 | AH22: 36903 | AI22: 0 | AJ22: 10 | AK22: 183 | AL22: 28 | AM22: 155 | AN22: 0 | AO22: 13 | AP22: 3242 | AQ22: 1327 | AR22: 1915 | AS22: 0 | AT22: 4 | AU22: 0 | AV22: 0 | AW22: 4 | AX22: 78 | AY22: 416
... A30: 連江縣 | B30: Lienchiang County | C30: 1 | D30: 1 | E30: 0 | F30: 0 | G30: 1 | H30: 1 | I30: 0 | J30: 0 | K30: 0 | L30: 0 | M30: 0 | N30: 0 | O30: 0 | P30: 0 | Q30: 0 | R30: 0 | S30: 0 | T30: 0 | U30: 0 | V30: 0 | W30: 0 | X30: 0 | Y30: 0 | Z30: 0 | AA30: 0 | AB30: 0 | AC30: 0 | AD30: 0 | AE30: 0 | AF30: 0 | AG30: 0 | AH30: 0 | AI30: 0 | AJ30: 0 | AK30: 0 | AL30: 0 | AM30: 0 | AN30: 0 | AO30: 0 | AP30: 0 | AQ30: 0 | AR30: 0 | AS30: 0 | AT30: 0 | AU30: 0 | AV30: 0 | AW30: 0 | AX30: 0 | AY30: 0
A31: 資料來源：直轄市、縣(市)政府
A32: Source : County and City Government.

Sheet Jan.-June,2025
A1: 婦女福利機構服務Women's Welfare Institutional Services
A2: 地區別 Locality | C2: 一、婦女福利服務中心 Welfare Service Center | AO2: 二、婦女中途之家、庇護中心Housing/Sheltering Center
C3: 期底機構數 Number of institutions at the end of the period | J3: 服務內容Service Contents | AO3: 期底機構數 (個) Number of institutions at the end of the period | AS3: 收容數 Number of persons taken in
C4: 期底機構數 按公、私立別分 (個) Number of institutions at the end of the period | G4: 期底機構數 按服務對象分 (個) Number of institutions at the end of the period By service recipients (number) | J4: 成長活動 (人次) Growth activities (Times) | N4: 諮詢服務 (人次) Consulting Service (Person-Times) | R4: 個案管理服務 (人次) Cases Management Service (Person-Times) | V4: 就業支持服務方案(人次) Employment support service program | Z4: 團體方案 Team Scheme Service | AE4: 展覽 Exhibitions | AJ4: 研討會 Seminars | AO4: 合計 Total | AP4: 公立 Public Ins. | AQ4: 私立 Private Ins. | AR4: 公設民營Public Ins. Run by Private Ins. | AS4: 最高可收容人數 (人) No.of Providing | AT4: 本期收容個案數 (人次) Accommodated Persons (Times)
C6: 合計 Total | D6: 公立 Public Ins. | E6: 私立 Private Ins. | F6: 公設民營 Public Ins. Run by Private Ins. | G6: 合計 Total | H6: 婦女 Women | I6: 婦女及兒少 Women,children, and youths | J6: 合計 Total | K6: 男 Male | L6: 女 Female | M6: 其他 Other | N6: 合計 Total | O6: 男 Male | P6: 女 Female | Q6: 其他 Other | R6: 合計 Total | S6: 男 Male | T6: 女 Female | U6: 其他 Other | V6: 合計 Total | W6: 男 Male | X6: 女 Female | Y6: 其他 Other | Z6: 辦理 次數 Times | AA6: 參加人次 | AE6: 辦理 次數 Times | AF6: 參加人次 | AJ6: 辦理 次數 Times | AK6: 參加人次
AA7: 合計 Total | AB7: 男 Male | AC7: 女 Female | AD7: 其他 Other | AF7: 合計 Total | AG7: 男 Male | AH7: 女 Female | AI7: 其他 Other | AK7: 合計 Total | AL7: 男 Male | AM7: 女 Female | AN7: 其他 Other
A8: 114年上半年 Jan.-June, 2025 | C8: 66 | D8: 19 | E8: 0 | F8: 47 | G8: 66 | H8: 54 | I8: 12 | J8: 278780 | K8: 72295 | L8: 206464 | M8: 21 | N8: 183757 | O8: 46132 | P8: 137624 | Q8: 1 | R8: 74883 | S8: 23899 | T8: 50984 | U8: 0 | V8: 7560 | W8: 1237 | X8: 6323 | Y8: 0 | Z8: 583 | AA8: 11719 | AB8: 2124 | AC8: 9595 | AD8: 0 | AE8: 105 | AF8: 122131 | AG8: 49995 | AH8: 72136 | AI8: 0 | AJ8: 15 | AK8: 465 | AL8: 54 | AM8: 411 | AN8: 0 | AO8: 46 | AP8: 3 | AQ8: 23 | AR8: 20 | AS8: 584 | AT8: 1124
A9: 新北市 | B9: New Taipei City | C9: 3 | D9: 1 | E9: 0 | F9: 2 | G9: 3 | H9: 3 | I9: 0 | J9: 70327 | K9: 1747 | L9: 68580 | M9: 0 | N9: 27416 | O9: 1432 | P9: 25984 | Q9: 0 | R9: 892 | S9: 101 | T9: 791 | U9: 0 | V9: 0 | W9: 0 | X9: 0 | Y9: 0 | Z9: 0 | AA9: 0 | AB9: 0 | AC9: 0 | AD9: 0 | AE9: 1 | AF9: 4561 | AG9: 850 | AH9: 3711 | AI9: 0 | AJ9: 1 | AK9: 200 | AL9: 20 | AM9: 180 | AN9: 0 | AO9: 3 | AP9: 0 | AQ9: 0 | AR9: 3 | AS9: 59 | AT9: 213
A10: 臺北市 | B10: Taipei City | C10: 11 | D10: 0 | E10: 0 | F10: 11 | G10: 11 | H10: 11 | I10: 0 | J10: 3986 | K10: 728 | L10: 3258 | M10: 0 | N10: 4513 | O10: 474 | P10: 4039 | Q10: 0 | R10: 11694 | S10: 1060 | T10: 10634 | U10: 0 | V10: 360 | W10: 1 | X10: 359 | Y10: 0 | Z10: 100 | AA10: 1131 | AB10: 103 | AC10: 1028 | AD10: 0 | AE10: 1 | AF10: 3824 | AG10: 621 | AH10: 3203 | AI10: 0 | AJ10: 0 | AK10: 0 | AL10: 0 | AM10: 0 | AN10: 0 | AO10: 3 | AP10: 1 | AQ10: 0 | AR10: 2 | AS10: 144 | AT10: 120
A11: 桃園市 | B11: Taoyuan City | C11: 10 | D11: 5 | E11: 0 | F11: 5 | G11: 10 | H11: 5 | I11: 5 | J11: 118274 | K11: 51581 | L11: 66693 | M11: 0 | N11: 4681 | O11: 618 | P11: 4063 | Q11: 0 | R11: 1406 | S11: 31 | T11: 1375 | U11: 0 | V11: 462 | W11: 24 | X11: 438 | Y11: 0 | Z11: 57 | AA11: 1048 | AB11: 129 | AC11: 919 | AD11: 0 | AE11: 5 | AF11: 1718 | AG11: 567 | AH11: 1151 | AI11: 0 | AJ11: 1 | AK11: 51 | AL11: 6 | AM11: 45 | AN11: 0 | AO11: 2 | AP11: 0 | AQ11: 0 | AR11: 2 | AS11: 53 | AT11: 178
A12: 臺中市 | B12: Taichung City | C12: 12 | D12: 1 | E12: 0 | F12: 11 | G12: 12 | H12: 9 | I12: 3 | J12: 7138 | K12: 1196 | L12: 5942 | M12: 0 | N12: 15573 | O12: 2567 | P12: 13005 | Q12: 1 | R12: 4756 | S12: 244 | T12: 4512 | U12: 0 | V12: 1285 | W12: 14 | X12: 1271 | Y12: 0 | Z12: 107 | AA12: 1150 | AB12: 65 | AC12: 1085 | AD12: 0 | AE12: 52 | AF12: 3936 | AG12: 913 | AH12: 3023 | AI12: 0 | AJ12: 3 | AK12: 74 | AL12: 5 | AM12: 69 | AN12: 0 | AO12: 14 | AP12: 0 | AQ12: 14 | AR12: 0 | AS12: 72 | AT12: 93
A13: 臺南市 | B13: Tainan City | C13: 4 | D13: 0 | E13: 0 | F13: 4 | G13: 4 | H13: 4 | I13: 0 | J13: 5750 | K13: 253 | L13: 5497 | M13: 0 | N13: 23888 | O13: 9770 | P13: 14118 | Q13: 0 | R13: 43970 | S13: 17667 | T13: 26303 | U13: 0 | V13: 378 | W13: 93 | X13: 285 | Y13: 0 | Z13: 53 | AA13: 334 | AB13: 51 | AC13: 283 | AD13: 0 | AE13: 1 | AF13: 528 | AG13: 112 | AH13: 416 | AI13: 0 | AJ13: 1 | AK13: 37 | AL13: 4 | AM13: 33 | AN13: 0 | AO13: 2 | AP13: 0 | AQ13: 2 | AR13: 0 | AS13: 14 | AT13: 38
A14: 高雄市 | B14: Kaohsiung City | C14: 4 | D14: 2 | E14: 0 | F14: 2 | G14: 4 | H14: 1 | I14: 3 | J14: 43071 | K14: 11355 | L14: 31716 | M14: 0 | N14: 76041 | O14: 21750 | P14: 54291 | Q14: 0 | R14: 0 | S14: 0 | T14: 0 | U14: 0 | V14: 1935 | W14: 440 | X14: 1495 | Y14: 0 | Z14: 109 | AA14: 3503 | AB14: 382 | AC14: 3121 | AD14: 0 | AE14: 8 | AF14: 28484 | AG14: 11769 | AH14: 16715 | AI14: 0 | AJ14: 0 | AK14: 0 | AL14: 0 | AM14: 0 | AN14: 0 | AO14: 2 | AP14: 0 | AQ14: 0 | AR14: 2 | AS14: 26 | AT14: 54
A15: 宜蘭縣 | B15: Yilan County | C15: 1 | D15: 1 | E15: 0 | F15: 0 | G15: 1 | H15: 1 | I15: 0 | J15: 0 | K15: 0 | L15: 0 | M15: 0 | N15: 8903 | O15: 4051 | P15: 4852 | Q15: 0 | R15: 5614 | S15: 2680 | T15: 2934 | U15: 0 | V15: 0 | W15: 0 | X15: 0 | Y15: 0 | Z15: 0 | AA15: 0 | AB15: 0 | AC15: 0 | AD15: 0 | AE15: 0 | AF15: 0 | AG15: 0 | AH15: 0 | AI15: 0 | AJ15: 0 | AK15: 0 | AL15: 0 | AM15: 0 | AN15: 0 | AO15: 2 | AP15: 0 | AQ15: 2 | AR15: 0 | AS15: 20 | AT15: 66
A16: 新竹縣 | B16: Hsinchu County | C16: 2 | D16: 0 | E16: 0 | F16: 2 | G16: 2 | H16: 2 | I16: 0 | J16: 733 | K16: 122 | L16: 611 | M16: 0 | N16: 1083 | O16: 118 | P16: 965 | Q16: 0 | R16: 0 | S16: 0 | T16: 0 | U16: 0 | V16: 61 | W16: 0 | X16: 61 | Y16: 0 | Z16: 5 | AA16: 57 | AB16: 5 | AC16: 52 | AD16: 0 | AE16: 8 | AF16: 6714 | AG16: 3319 | AH16: 3395 | AI16: 0 | AJ16: 0 | AK16: 0 | AL16: 0 | AM16: 0 | AN16: 0 | AO16: 1 | AP16: 0 | AQ16: 1 | AR16: 0 | AS16: 18 | AT16: 8
A17: 苗栗縣 | B17: Miaoli County | C17: 1 | D17: 0 | E17: 0 | F17: 1 | G17: 1 | H17: 1 | I17: 0 | J17: 839 | K17: 88 | L17: 751 | M17: 0 | N17: 40 | O17: 0 | P17: 40 | Q17: 0 | R17: 0 | S17: 0 | T17: 0 | U17: 0 | V17: 6 | W17: 0 | X17: 6 | Y17: 0 | Z17: 0 | AA17: 0 | AB17: 0 | AC17: 0 | AD17: 0 | AE17: 1 | AF17: 330 | AG17: 50 | AH17: 280 | AI17: 0 | AJ17: 0 | AK17: 0 | AL17: 0 | AM17: 0 | AN17: 0 | AO17: 1 | AP17: 0 | AQ17: 0 | AR17: 1 | AS17: 4 | AT17: 1
A18: 彰化縣 | B18: Changhua County | C18: 2 | D18: 0 | E18: 0 | F18: 2 | G18: 2 | H18: 2 | I18: 0 | J18: 856 | K18: 43 | L18: 813 | M18: 0 | N18: 2112 | O18: 244 | P18: 1868 | Q18: 0 | R18: 0 | S18: 0 | T18: 0 | U18: 0 | V18: 147 | W18: 0 | X18: 147 | Y18: 0 | Z18: 4 | AA18: 294 | AB18: 85 | AC18: 209 | AD18: 0 | AE18: 8 | AF18: 6063 | AG18: 1416 | AH18: 4647 | AI18: 0 | AJ18: 0 | AK18: 0 | AL18: 0 | AM18: 0 | AN18: 0 | AO18: 2 | AP18: 0 | AQ18: 1 | AR18: 1 | AS18: 13 | AT18: 13
A19: 南投縣 | B19: Nantou County | C19: 4 | D19: 0 | E19: 0 | F19: 4 | G19: 4 | H19: 4 | I19: 0 | J19: 597 | K19: 120 | L19: 477 | M19: 0 | N19: 702 | O19: 104 | P19: 598 | Q19: 0 | R19: 59 | S19: 0 | T19: 59 | U19: 0 | V19: 0 | W19: 0 | X19: 0 | Y19: 0 | Z19: 57 | AA19: 2787 | AB19: 1126 | AC19: 1661 | AD19: 0 | AE19: 10 | AF19: 5881 | AG19: 1174 | AH19: 4707 | AI19: 0 | AJ19: 0 | AK19: 0 | AL19: 0 | AM19: 0 | AN19: 0 | AO19: 1 | AP19: 0 | AQ19: 0 | AR19: 1 | AS19: 6 | AT19: 5
A20: 雲林縣 | B20: Yunlin County | C20: 1 | D20: 1 | E20: 0 | F20: 0 | G20: 1 | H20: 1 | I20: 0 | J20: 1203 | K20: 178 | L20: 1025 | M20: 0 | N20: 2176 | O20: 998 | P20: 1178 | Q20: 0 | R20: 0 | S20: 0 | T20: 0 | U20: 0 | V20: 0 | W20: 0 | X20: 0 | Y20: 0 | Z20: 8 | AA20: 61 | AB20: 4 | AC20: 57 | AD20: 0 | AE20: 1 | AF20: 289 | AG20: 15 | AH20: 274 | AI20: 0 | AJ20: 0 | AK20: 0 | AL20: 0 | AM20: 0 | AN20: 0 | AO20: 1 | AP20: 0 | AQ20: 0 | AR20: 1 | AS20: 15 | AT20: 30
... A30: 連江縣 | B30: Lienchiang County | C30: 1 | D30: 1 | E30: 0 | F30: 0 | G30: 1 | H30: 1 | I30: 0 | J30: 0 | K30: 0 | L30: 0 | M30: 0 | N30: 0 | O30: 0 | P30: 0 | Q30: 0 | R30: 0 | S30: 0 | T30: 0 | U30: 0 | V30: 0 | W30: 0 | X30: 0 | Y30: 0 | Z30: 0 | AA30: 0 | AB30: 0 | AC30: 0 | AD30: 0 | AE30: 0 | AF30: 0 | AG30: 0 | AH30: 0 | AI30: 0 | AJ30: 0 | AK30: 0 | AL30: 0 | AM30: 0 | AN30: 0 | AO30: 0 | AP30: 0 | AQ30: 0 | AR30: 0 | AS30: 0 | AT30: 0
A31: 資料來源：直轄市、縣(市)政府
A32: Source : County and City Government.
A58: 114年上半年 Jan.-June, 2025 | C58: =C8/'Jan.-June,2024'!C8-1 -> 0.015384615 | D58: =D8/'Jan.-June,2024'!D8-1 -> 0 | E58: =E8/'Jan.-June,2024'!E8-1 -> #DIV/0! | F58: =F8/'Jan.-June,2024'!F8-1 -> 0.02173913 | G58: =G8/'Jan.-June,2024'!G8-1 -> 0.015384615 | H58: =H8/'Jan.-June,2024'!H8-1 -> 0.038461538 | I58: =I8/'Jan.-June,2024'!I8-1 -> -0.076923077 | J58: =J8/'Jan.-June,2024'!J8-1 -> -0.00704875 | ... AN58: =AN8/'Jan.-June,2024'!AN8-1 -> -1 | AO58: =AO8/'Jan.-June,2024'!AT8-1 -> -0.021276596 | AP58: =AP8/'Jan.-June,2024'!AU8-1 -> -0.57142857 | AQ58: =AQ8/'Jan.-June,2024'!AV8-1 -> 0 | AR58: =AR8/'Jan.-June,2024'!AW8-1 -> 0.17647059 | AS58: =AS8/'Jan.-June,2024'!AX8-1 -> 0.013888889 | AT58: =AT8/'Jan.-June,2024'!AY8-1 -> 0.072519084
A59: 新北市 | B59: New Taipei City | C59: =C9/'Jan.-June,2024'!C9-1 -> 0 | D59: =D9/'Jan.-June,2024'!D9-1 -> 0 | E59: =E9/'Jan.-June,2024'!E9-1 -> #DIV/0! | F59: =F9/'Jan.-June,2024'!F9-1 -> 0 | G59: =G9/'Jan.-June,2024'!G9-1 -> 0 | H59: =H9/'Jan.-June,2024'!H9-1 -> 0 | I59: =I9/'Jan.-June,2024'!I9-1 -> #DIV/0! | J59: =J9/'Jan.-June,2024'!J9-1 -> -0.11215614 | ... AN59: =AN9/'Jan.-June,2024'!AN9-1 -> #DIV/0! | AO59: =AO9/'Jan.-June,2024'!AT9-1 -> 0 | AP59: =AP9/'Jan.-June,2024'!AU9-1 -> #DIV/0! | AQ59: =AQ9/'Jan.-June,2024'!AV9-1 -> #DIV/0! | AR59: =AR9/'Jan.-June,2024'!AW9-1 -> 0 | AS59: =AS9/'Jan.-June,2024'!AX9-1 -> 0 | AT59: =AT9/'Jan.-June,2024'!AY9-1 -> 0.33125
A60: 臺北市 | B60: Taipei City | C60: =C10/'Jan.-June,2024'!C10-1 -> 0 | D60: =D10/'Jan.-June,2024'!D10-1 -> #DIV/0! | E60: =E10/'Jan.-June,2024'!E10-1 -> #DIV/0! | F60: =F10/'Jan.-June,2024'!F10-1 -> 0 | G60: =G10/'Jan.-June,2024'!G10-1 -> 0 | H60: =H10/'Jan.-June,2024'!H10-1 -> 0 | I60: =I10/'Jan.-June,2024'!I10-1 -> #DIV/0! | J60: =J10/'Jan.-June,2024'!J10-1 -> -0.45262291 | ... AN60: =AN10/'Jan.-June,2024'!AN10-1 -> #DIV/0! | AO60: =AO10/'Jan.-June,2024'!AT10-1 -> 0 | AP60: =AP10/'Jan.-June,2024'!AU10-1 -> 0 | AQ60: =AQ10/'Jan.-June,2024'!AV10-1 -> #DIV/0! | AR60: =AR10/'Jan.-June,2024'!AW10-1 -> 0 | AS60: =AS10/'Jan.-June,2024'!AX10-1 -> -0.046357616 | AT60: =AT10/'Jan.-June,2024'!AY10-1 -> 0.17647059
A61: 桃園市 | B61: Taoyuan City | C61: =C11/'Jan.-June,2024'!C11-1 -> 0.11111111 | D61: =D11/'Jan.-June,2024'!D11-1 -> 0 | E61: =E11/'Jan.-June,2024'!E11-1 -> #DIV/0! | F61: =F11/'Jan.-June,2024'!F11-1 -> 0.25 | G61: =G11/'Jan.-June,2024'!G11-1 -> 0.11111111 | H61: =H11/'Jan.-June,2024'!H11-1 -> 0.25 | I61: =I11/'Jan.-June,2024'!I11-1 -> 0 | J61: =J11/'Jan.-June,2024'!J11-1 -> 0.43225275 | ... AN61: =AN11/'Jan.-June,2024'!AN11-1 -> #DIV/0! | AO61: =AO11/'Jan.-June,2024'!AT11-1 -> 0 | AP61: =AP11/'Jan.-June,2024'!AU11-1 -> #DIV/0! | AQ61: =AQ11/'Jan.-June,2024'!AV11-1 -> #DIV/0! | AR61: =AR11/'Jan.-June,2024'!AW11-1 -> 0 | AS61: =AS11/'Jan.-June,2024'!AX11-1 -> 0 | AT61: =AT11/'Jan.-June,2024'!AY11-1 -> 0.0056497175
A62: 臺中市 | B62: Taichung City | C62: =C12/'Jan.-June,2024'!C12-1 -> 0 | D62: =D12/'Jan.-June,2024'!D12-1 -> 0 | E62: =E12/'Jan.-June,2024'!E12-1 -> #DIV/0! | F62: =F12/'Jan.-June,2024'!F12-1 -> 0 | G62: =G12/'Jan.-June,2024'!G12-1 -> 0 | H62: =H12/'Jan.-June,2024'!H12-1 -> 0 | I62: =I12/'Jan.-June,2024'!I12-1 -> 0 | J62: =J12/'Jan.-June,2024'!J12-1 -> 0.28265948 | ... AN62: =AN12/'Jan.-June,2024'!AN12-1 -> -1 | AO62: =AO12/'Jan.-June,2024'!AT12-1 -> 0 | AP62: =AP12/'Jan.-June,2024'!AU12-1 -> #DIV/0! | AQ62: =AQ12/'Jan.-June,2024'!AV12-1 -> 0 | AR62: =AR12/'Jan.-June,2024'!AW12-1 -> #DIV/0! | AS62: =AS12/'Jan.-June,2024'!AX12-1 -> 0 | AT62: =AT12/'Jan.-June,2024'!AY12-1 -> 0.13414634
A63: 臺南市 | B63: Tainan City | C63: =C13/'Jan.-June,2024'!C13-1 -> 0 | D63: =D13/'Jan.-June,2024'!D13-1 -> #DIV/0! | E63: =E13/'Jan.-June,2024'!E13-1 -> #DIV/0! | F63: =F13/'Jan.-June,2024'!F13-1 -> 0 | G63: =G13/'Jan.-June,2024'!G13-1 -> 0 | H63: =H13/'Jan.-June,2024'!H13-1 -> 0 | I63: =I13/'Jan.-June,2024'!I13-1 -> #DIV/0! | J63: =J13/'Jan.-June,2024'!J13-1 -> 0.064814815 | ... AN63: =AN13/'Jan.-June,2024'!AN13-1 -> -1 | AO63: =AO13/'Jan.-June,2024'!AT13-1 -> 0 | AP63: =AP13/'Jan.-June,2024'!AU13-1 -> #DIV/0! | AQ63: =AQ13/'Jan.-June,2024'!AV13-1 -> 0 | AR63: =AR13/'Jan.-June,2024'!AW13-1 -> #DIV/0! | AS63: =AS13/'Jan.-June,2024'!AX13-1 -> 0 | AT63: =AT13/'Jan.-June,2024'!AY13-1 -> 0.52
A64: 高雄市 | B64: Kaohsiung City | C64: =C14/'Jan.-June,2024'!C14-1 -> 0 | D64: =D14/'Jan.-June,2024'!D14-1 -> 0 | E64: =E14/'Jan.-June,2024'!E14-1 -> #DIV/0! | F64: =F14/'Jan.-June,2024'!F14-1 -> 0 | G64: =G14/'Jan.-June,2024'!G14-1 -> 0 | H64: =H14/'Jan.-June,2024'!H14-1 -> 0 | I64: =I14/'Jan.-June,2024'!I14-1 -> 0 | J64: =J14/'Jan.-June,2024'!J14-1 -> -0.057836596 | ... AN64: =AN14/'Jan.-June,2024'!AN14-1 -> #DIV/0! | AO64: =AO14/'Jan.-June,2024'!AT14-1 -> 0 | AP64: =AP14/'Jan.-June,2024'!AU14-1 -> #DIV/0! | AQ64: =AQ14/'Jan.-June,2024'!AV14-1 -> #DIV/0! | AR64: =AR14/'Jan.-June,2024'!AW14-1 -> 0 | AS64: =AS14/'Jan.-June,2024'!AX14-1 -> 0 | AT64: =AT14/'Jan.-June,2024'!AY14-1 -> 0.58823529
A65: 宜蘭縣 | B65: Yilan County | C65: =C15/'Jan.-June,2024'!C15-1 -> 0 | D65: =D15/'Jan.-June,2024'!D15-1 -> 0 | E65: =E15/'Jan.-June,2024'!E15-1 -> #DIV/0! | F65: =F15/'Jan.-June,2024'!F15-1 -> #DIV/0! | G65: =G15/'Jan.-June,2024'!G15-1 -> 0 | H65: =H15/'Jan.-June,2024'!H15-1 -> 0 | I65: =I15/'Jan.-June,2024'!I15-1 -> #DIV/0! | J65: =J15/'Jan.-June,2024'!J15-1 -> #DIV/0! | ... AN65: =AN15/'Jan.-June,2024'!AN15-1 -> -1 | AO65: =AO15/'Jan.-June,2024'!AT15-1 -> 0 | AP65: =AP15/'Jan.-June,2024'!AU15-1 -> #DIV/0! | AQ65: =AQ15/'Jan.-June,2024'!AV15-1 -> 0 | AR65: =AR15/'Jan.-June,2024'!AW15-1 -> #DIV/0! | AS65: =AS15/'Jan.-June,2024'!AX15-1 -> 0 | AT65: =AT15/'Jan.-June,2024'!AY15-1 -> 0.13793103
A66: 新竹縣 | B66: Hsinchu County | C66: =C16/'Jan.-June,2024'!C16-1 -> 0 | D66: =D16/'Jan.-June,2024'!D16-1 -> #DIV/0! | E66: =E16/'Jan.-June,2024'!E16-1 -> #DIV/0! | F66: =F16/'Jan.-June,2024'!F16-1 -> 0 | G66: =G16/'Jan.-June,2024'!G16-1 -> 0 | H66: =H16/'Jan.-June,2024'!H16-1 -> 0 | I66: =I16/'Jan.-June,2024'!I16-1 -> #DIV/0! | J66: =J16/'Jan.-June,2024'!J16-1 -> -0.24743326 | ... AN66: =AN16/'Jan.-June,2024'!AN16-1 -> -1 | AO66: =AO16/'Jan.-June,2024'!AT16-1 -> 0 | AP66: =AP16/'Jan.-June,2024'!AU16-1 -> #DIV/0! | AQ66: =AQ16/'Jan.-June,2024'!AV16-1 -> 0 | AR66: =AR16/'Jan.-June,2024'!AW16-1 -> #DIV/0! | AS66: =AS16/'Jan.-June,2024'!AX16-1 -> 2 | AT66: =AT16/'Jan.-June,2024'!AY16-1 -> -0.66666667
A67: 苗栗縣 | B67: Miaoli County | C67: =C17/'Jan.-June,2024'!C17-1 -> 0 | D67: =D17/'Jan.-June,2024'!D17-1 -> #DIV/0! | E67: =E17/'Jan.-June,2024'!E17-1 -> #DIV/0! | F67: =F17/'Jan.-June,2024'!F17-1 -> 0 | G67: =G17/'Jan.-June,2024'!G17-1 -> 0 | H67: =H17/'Jan.-June,2024'!H17-1 -> 0 | I67: =I17/'Jan.-June,2024'!I17-1 -> #DIV/0! | J67: =J17/'Jan.-June,2024'!J17-1 -> 1.550152 | ... AN67: =AN17/'Jan.-June,2024'!AN17-1 -> #DIV/0! | AO67: =AO17/'Jan.-June,2024'!AT17-1 -> 0 | AP67: =AP17/'Jan.-June,2024'!AU17-1 -> #DIV/0! | AQ67: =AQ17/'Jan.-June,2024'!AV17-1 -> #DIV/0! | AR67: =AR17/'Jan.-June,2024'!AW17-1 -> 0 | AS67: =AS17/'Jan.-June,2024'!AX17-1 -> 0 | AT67: =AT17/'Jan.-June,2024'!AY17-1 -> -0.90909091
A68: 彰化縣 | B68: Changhua County | C68: =C18/'Jan.-June,2024'!C18-1 -> 0 | D68: =D18/'Jan.-June,2024'!D18-1 -> #DIV/0! | E68: =E18/'Jan.-June,2024'!E18-1 -> #DIV/0! | F68: =F18/'Jan.-June,2024'!F18-1 -> 0 | G68: =G18/'Jan.-June,2024'!G18-1 -> 0 | H68: =H18/'Jan.-June,2024'!H18-1 -> 0 | I68: =I18/'Jan.-June,2024'!I18-1 -> #DIV/0! | J68: =J18/'Jan.-June,2024'!J18-1 -> 0.19220056 | ... AN68: =AN18/'Jan.-June,2024'!AN18-1 -> -1 | AO68: =AO18/'Jan.-June,2024'!AT18-1 -> 0 | AP68: =AP18/'Jan.-June,2024'!AU18-1 -> #DIV/0! | AQ68: =AQ18/'Jan.-June,2024'!AV18-1 -> 0 | AR68: =AR18/'Jan.-June,2024'!AW18-1 -> 0 | AS68: =AS18/'Jan.-June,2024'!AX18-1 -> 0 | AT68: =AT18/'Jan.-June,2024'!AY18-1 -> -0.071428571
A69: 南投縣 | B69: Nantou County | C69: =C19/'Jan.-June,2024'!C19-1 -> 0 | D69: =D19/'Jan.-June,2024'!D19-1 -> #DIV/0! | E69: =E19/'Jan.-June,2024'!E19-1 -> #DIV/0! | F69: =F19/'Jan.-June,2024'!F19-1 -> 0 | G69: =G19/'Jan.-June,2024'!G19-1 -> 0 | H69: =H19/'Jan.-June,2024'!H19-1 -> 0 | I69: =I19/'Jan.-June,2024'!I19-1 -> #DIV/0! | J69: =J19/'Jan.-June,2024'!J19-1 -> -0.50904605 | ... AN69: =AN19/'Jan.-June,2024'!AN19-1 -> #DIV/0! | AO69: =AO19/'Jan.-June,2024'!AT19-1 -> 0 | AP69: =AP19/'Jan.-June,2024'!AU19-1 -> #DIV/0! | AQ69: =AQ19/'Jan.-June,2024'!AV19-1 -> #DIV/0! | AR69: =AR19/'Jan.-June,2024'!AW19-1 -> 0 | AS69: =AS19/'Jan.-June,2024'!AX19-1 -> 0 | AT69: =AT19/'Jan.-June,2024'!AY19-1 -> -0.28571429
A70: 雲林縣 | B70: Yunlin County | C70: =C20/'Jan.-June,2024'!C20-1 -> 0 | D70: =D20/'Jan.-June,2024'!D20-1 -> 0 | E70: =E20/'Jan.-June,2024'!E20-1 -> #DIV/0! | F70: =F20/'Jan.-June,2024'!F20-1 -> #DIV/0! | G70: =G20/'Jan.-June,2024'!G20-1 -> 0 | H70: =H20/'Jan.-June,2024'!H20-1 -> 0 | I70: =I20/'Jan.-June,2024'!I20-1 -> #DIV/0! | J70: =J20/'Jan.-June,2024'!J20-1 -> -0.62347418 | ... AN70: =AN20/'Jan.-June,2024'!AN20-1 -> #DIV/0! | AO70: =AO20/'Jan.-June,2024'!AT20-1 -> 0 | AP70: =AP20/'Jan.-June,2024'!AU20-1 -> #DIV/0! | AQ70: =AQ20/'Jan.-June,2024'!AV20-1 -> #DIV/0! | AR70: =AR20/'Jan.-June,2024'!AW20-1 -> 0 | AS70: =AS20/'Jan.-June,2024'!AX20-1 -> 0 | AT70: =AT20/'Jan.-June,2024'!AY20-1 -> -0.14285714
... A80: 連江縣 | B80: Lienchiang County | C80: =C30/'Jan.-June,2024'!C30-1 -> 0 | D80: =D30/'Jan.-June,2024'!D30-1 -> 0 | E80: =E30/'Jan.-June,2024'!E30-1 -> #DIV/0! | F80: =F30/'Jan.-June,2024'!F30-1 -> #DIV/0! | G80: =G30/'Jan.-June,2024'!G30-1 -> 0 | H80: =H30/'Jan.-June,2024'!H30-1 -> 0 | I80: =I30/'Jan.-June,2024'!I30-1 -> #DIV/0! | J80: =J30/'Jan.-June,2024'!J30-1 -> #DIV/0! | ... AN80: =AN30/'Jan.-June,2024'!AN30-1 -> #DIV/0! | AO80: =AO30/'Jan.-June,2024'!AT30-1 -> #DIV/0! | AP80: =AP30/'Jan.-June,2024'!AU30-1 -> #DIV/0! | AQ80: =AQ30/'Jan.-June,2024'!AV30-1 -> #DIV/0! | AR80: =AR30/'Jan.-June,2024'!AW30-1 -> #DIV/0! | AS80: =AS30/'Jan.-June,2024'!AX30-1 -> #DIV/0! | AT80: =AT30/'Jan.-June,2024'!AY30-1 -> #DIV/0!

Sheet July-Dec.,2025
A1: 婦女福利機構服務Women's Welfare Institutional Services
A2: 地區別 Locality | C2: 一、婦女福利服務中心 Welfare Service Center | AT2: 二、婦女中途之家、庇護中心Housing/Sheltering Center
C3: 期底機構數 Number of institutions at the end of the period | J3: 服務內容Service Contents | AT3: 期底機構數 (個) Number of institutions at the end of the period | AX3: 收容數 Number of persons taken in
C4: 期底機構數 按公、私立別分 (個) Number of institutions at the end of the period | G4: 期底機構數 按服務對象分 (個) Number of institutions at the end of the period By service recipients (number) | J4: 成長活動 (人次) Growth activities (Times) | N4: 諮詢服務 (人次) Consulting Service (Person-Times) | R4: 個案管理服務 (人次) Cases Management Service (Person-Times) | V4: 就業支持服務方案(人次) Employment support service program | Z4: 團體方案 Team Scheme Service | AE4: 展覽 Exhibitions | AJ4: 研討會 Seminars | AO4: 其他 Others | AT4: 合計 Total | AU4: 公立 Public Ins. | AV4: 私立 Private Ins. | AW4: 公設民營Public Ins. Run by Private Ins. | AX4: 最高可收容人數 (人) No.of Providing | AY4: 本期收容個案數 (人次) Accommodated Persons (Times)
C6: 合計 Total | D6: 公立 Public Ins. | E6: 私立 Private Ins. | F6: 公設民營 Public Ins. Run by Private Ins. | G6: 合計 Total | H6: 婦女 Women | I6: 婦女及兒少 Women,children, and youths | J6: 合計 Total | K6: 男 Male | L6: 女 Female | M6: 其他 Other | N6: 合計 Total | O6: 男 Male | P6: 女 Female | Q6: 其他 Other | R6: 合計 Total | S6: 男 Male | T6: 女 Female | U6: 其他 Other | V6: 合計 Total | W6: 男 Male | X6: 女 Female | Y6: 其他 Other | Z6: 辦理 次數 Times | AA6: 參加人次 | AE6: 辦理 次數 Times | AF6: 參加人次 | AJ6: 辦理 次數 Times | AK6: 參加人次 | AO6: 辦理 次數 Times | AP6: 參加人次
AA7: 合計 Total | AB7: 男 Male | AC7: 女 Female | AD7: 其他 Other | AF7: 合計 Total | AG7: 男 Male | AH7: 女 Female | AI7: 其他 Other | AK7: 合計 Total | AL7: 男 Male | AM7: 女 Female | AN7: 其他 Other | AP7: 合計 Total | AQ7: 男 Male | AR7: 女 Female | AS7: 其他 Other
A8: 114年下半年 July-Dec., 2025 | C8: 66 | D8: 19 | E8: 0 | F8: 47 | G8: 66 | H8: 53 | I8: 13 | J8: 425969 | K8: 102969 | L8: 322773 | M8: 227 | N8: 367633 | O8: 52127 | P8: 314985 | Q8: 521 | R8: 60572 | S8: 15380 | T8: 45192 | U8: 0 | V8: 22770 | W8: 3952 | X8: 18787 | Y8: 31 | Z8: 1429 | AA8: 28906 | AB8: 5087 | AC8: 23819 | AD8: 0 | AE8: 213 | AF8: 97211 | AG8: 26148 | AH8: 62875 | AI8: 8188 | AJ8: 34 | AK8: 648 | AL8: 86 | AM8: 562 | AN8: 0 | AO8: 9478 | AP8: 3301158 | AQ8: 499128 | AR8: 2801674 | AS8: 356 | AT8: 47 | AU8: 3 | AV8: 24 | AW8: 20 | AX8: 575 | AY8: 1017
A9: 新北市 | B9: New Taipei City | C9: 3 | D9: 1 | E9: 0 | F9: 2 | G9: 3 | H9: 3 | I9: 0 | J9: 92345 | K9: 3824 | L9: 88521 | M9: 0 | N9: 23423 | O9: 1165 | P9: 22258 | Q9: 0 | R9: 1039 | S9: 125 | T9: 914 | U9: 0 | V9: 450 | W9: 30 | X9: 420 | Y9: 0 | Z9: 17 | AA9: 361 | AB9: 53 | AC9: 308 | AD9: 0 | AE9: 8 | AF9: 9177 | AG9: 2117 | AH9: 7060 | AI9: 0 | AJ9: 0 | AK9: 0 | AL9: 0 | AM9: 0 | AN9: 0 | AO9: 13 | AP9: 1955 | AQ9: 541 | AR9: 1414 | AS9: 0 | AT9: 3 | AU9: 0 | AV9: 0 | AW9: 3 | AX9: 59 | AY9: 54
A10: 臺北市 | B10: Taipei City | C10: 11 | D10: 0 | E10: 0 | F10: 11 | G10: 11 | H10: 11 | I10: 0 | J10: 80429 | K10: 18821 | L10: 61600 | M10: 8 | N10: 169806 | O10: 577 | P10: 169228 | Q10: 1 | R10: 15735 | S10: 1450 | T10: 14285 | U10: 0 | V10: 410 | W10: 3 | X10: 407 | Y10: 0 | Z10: 264 | AA10: 4312 | AB10: 871 | AC10: 3441 | AD10: 0 | AE10: 11 | AF10: 10064 | AG10: 2081 | AH10: 7980 | AI10: 3 | AJ10: 2 | AK10: 16 | AL10: 3 | AM10: 13 | AN10: 0 | AO10: 4026 | AP10: 1554237 | AQ10: 221644 | AR10: 1332255 | AS10: 338 | AT10: 3 | AU10: 1 | AV10: 0 | AW10: 2 | AX10: 144 | AY10: 155
A11: 桃園市 | B11: Taoyuan City | C11: 10 | D11: 5 | E11: 0 | F11: 5 | G11: 10 | H11: 5 | I11: 5 | J11: 171204 | K11: 68919 | L11: 102285 | M11: 0 | N11: 6635 | O11: 777 | P11: 5858 | Q11: 0 | R11: 1729 | S11: 97 | T11: 1632 | U11: 0 | V11: 790 | W11: 32 | X11: 758 | Y11: 0 | Z11: 87 | AA11: 1807 | AB11: 529 | AC11: 1278 | AD11: 0 | AE11: 10 | AF11: 3087 | AG11: 823 | AH11: 2264 | AI11: 0 | AJ11: 0 | AK11: 0 | AL11: 0 | AM11: 0 | AN11: 0 | AO11: 0 | AP11: 0 | AQ11: 0 | AR11: 0 | AS11: 0 | AT11: 2 | AU11: 0 | AV11: 0 | AW11: 2 | AX11: 53 | AY11: 194
A12: 臺中市 | B12: Taichung City | C12: 12 | D12: 1 | E12: 0 | F12: 11 | G12: 12 | H12: 9 | I12: 3 | J12: 11816 | K12: 1751 | L12: 10012 | M12: 53 | N12: 18186 | O12: 2814 | P12: 15366 | Q12: 6 | R12: 8266 | S12: 679 | T12: 7587 | U12: 0 | V12: 12979 | W12: 1781 | X12: 11167 | Y12: 31 | Z12: 114 | AA12: 1658 | AB12: 139 | AC12: 1519 | AD12: 0 | AE12: 105 | AF12: 40255 | AG12: 12045 | AH12: 20025 | AI12: 8185 | AJ12: 4 | AK12: 87 | AL12: 8 | AM12: 79 | AN12: 0 | AO12: 282 | AP12: 1498440 | AQ12: 215173 | AR12: 1283249 | AS12: 18 | AT12: 15 | AU12: 0 | AV12: 15 | AW12: 0 | AX12: 76 | AY12: 118
A13: 臺南市 | B13: Tainan City | C13: 4 | D13: 0 | E13: 0 | F13: 4 | G13: 4 | H13: 4 | I13: 0 | J13: 4833 | K13: 488 | L13: 4345 | M13: 0 | N13: 11097 | O13: 3865 | P13: 7232 | Q13: 0 | R13: 19660 | S13: 7205 | T13: 12455 | U13: 0 | V13: 906 | W13: 153 | X13: 753 | Y13: 0 | Z13: 293 | AA13: 4215 | AB13: 1058 | AC13: 3157 | AD13: 0 | AE13: 2 | AF13: 38 | AG13: 5 | AH13: 33 | AI13: 0 | AJ13: 18 | AK13: 365 | AL13: 54 | AM13: 311 | AN13: 0 | AO13: 697 | AP13: 8347 | AQ13: 2074 | AR13: 6273 | AS13: 0 | AT13: 2 | AU13: 0 | AV13: 2 | AW13: 0 | AX13: 14 | AY13: 15
A14: 高雄市 | B14: Kaohsiung City | C14: 4 | D14: 2 | E14: 0 | F14: 2 | G14: 4 | H14: 1 | I14: 3 | J14: 6943 | K14: 891 | L14: 6052 | M14: 0 | N14: 69730 | O14: 25189 | P14: 44541 | Q14: 0 | R14: 0 | S14: 0 | T14: 0 | U14: 0 | V14: 3167 | W14: 1240 | X14: 1927 | Y14: 0 | Z14: 262 | AA14: 8602 | AB14: 1357 | AC14: 7245 | AD14: 0 | AE14: 10 | AF14: 17825 | AG14: 5184 | AH14: 12641 | AI14: 0 | AJ14: 0 | AK14: 0 | AL14: 0 | AM14: 0 | AN14: 0 | AO14: 2267 | AP14: 107105 | AQ14: 28235 | AR14: 78870 | AS14: 0 | AT14: 2 | AU14: 0 | AV14: 0 | AW14: 2 | AX14: 22 | AY14: 52
A15: 宜蘭縣 | B15: Yilan County | C15: 1 | D15: 1 | E15: 0 | F15: 0 | G15: 1 | H15: 1 | I15: 0 | J15: 46 | K15: 15 | L15: 31 | M15: 0 | N15: 10357 | O15: 4990 | P15: 5367 | Q15: 0 | R15: 6645 | S15: 3260 | T15: 3385 | U15: 0 | V15: 0 | W15: 0 | X15: 0 | Y15: 0 | Z15: 0 | AA15: 0 | AB15: 0 | AC15: 0 | AD15: 0 | AE15: 0 | AF15: 0 | AG15: 0 | AH15: 0 | AI15: 0 | AJ15: 0 | AK15: 0 | AL15: 0 | AM15: 0 | AN15: 0 | AO15: 0 | AP15: 0 | AQ15: 0 | AR15: 0 | AS15: 0 | AT15: 2 | AU15: 0 | AV15: 2 | AW15: 0 | AX15: 20 | AY15: 60
A16: 新竹縣 | B16: Hsinchu County | C16: 2 | D16: 0 | E16: 0 | F16: 2 | G16: 2 | H16: 2 | I16: 0 | J16: 1472 | K16: 417 | L16: 1055 | M16: 0 | N16: 33254 | O16: 6554 | P16: 26700 | Q16: 0 | R16: 0 | S16: 0 | T16: 0 | U16: 0 | V16: 132 | W16: 11 | X16: 121 | Y16: 0 | Z16: 27 | AA16: 423 | AB16: 17 | AC16: 406 | AD16: 0 | AE16: 0 | AF16: 0 | AG16: 0 | AH16: 0 | AI16: 0 | AJ16: 0 | AK16: 0 | AL16: 0 | AM16: 0 | AN16: 0 | AO16: 0 | AP16: 0 | AQ16: 0 | AR16: 0 | AS16: 0 | AT16: 1 | AU16: 0 | AV16: 1 | AW16: 0 | AX16: 10 | AY16: 21
A17: 苗栗縣 | B17: Miaoli County | C17: 1 | D17: 0 | E17: 0 | F17: 1 | G17: 1 | H17: 1 | I17: 0 | J17: 1759 | K17: 586 | L17: 1173 | M17: 0 | N17: 51 | O17: 0 | P17: 51 | Q17: 0 | R17: 0 | S17: 0 | T17: 0 | U17: 0 | V17: 9 | W17: 0 | X17: 9 | Y17: 0 | Z17: 0 | AA17: 0 | AB17: 0 | AC17: 0 | AD17: 0 | AE17: 22 | AF17: 830 | AG17: 276 | AH17: 554 | AI17: 0 | AJ17: 0 | AK17: 0 | AL17: 0 | AM17: 0 | AN17: 0 | AO17: 80 | AP17: 57584 | AQ17: 15885 | AR17: 41699 | AS17: 0 | AT17: 1 | AU17: 0 | AV17: 0 | AW17: 1 | AX17: 4 | AY17: 0
A18: 彰化縣 | B18: Changhua County | C18: 2 | D18: 0 | E18: 0 | F18: 2 | G18: 2 | H18: 2 | I18: 0 | J18: 2155 | K18: 172 | L18: 1983 | M18: 0 | N18: 1038 | O18: 74 | P18: 964 | Q18: 0 | R18: 0 | S18: 0 | T18: 0 | U18: 0 | V18: 168 | W18: 0 | X18: 168 | Y18: 0 | Z18: 19 | AA18: 1583 | AB18: 140 | AC18: 1443 | AD18: 0 | AE18: 3 | AF18: 4151 | AG18: 639 | AH18: 3512 | AI18: 0 | AJ18: 0 | AK18: 0 | AL18: 0 | AM18: 0 | AN18: 0 | AO18: 87 | AP18: 3842 | AQ18: 734 | AR18: 3108 | AS18: 0 | AT18: 2 | AU18: 0 | AV18: 1 | AW18: 1 | AX18: 13 | AY18: 29
A19: 南投縣 | B19: Nantou County | C19: 4 | D19: 0 | E19: 0 | F19: 4 | G19: 4 | H19: 4 | I19: 0 | J19: 2707 | K19: 1169 | L19: 1538 | M19: 0 | N19: 1269 | O19: 285 | P19: 984 | Q19: 0 | R19: 32 | S19: 7 | T19: 25 | U19: 0 | V19: 355 | W19: 45 | X19: 310 | Y19: 0 | Z19: 94 | AA19: 1620 | AB19: 276 | AC19: 1344 | AD19: 0 | AE19: 29 | AF19: 545 | AG19: 88 | AH19: 457 | AI19: 0 | AJ19: 4 | AK19: 37 | AL19: 9 | AM19: 28 | AN19: 0 | AO19: 45 | AP19: 38922 | AQ19: 7998 | AR19: 30924 | AS19: 0 | AT19: 1 | AU19: 0 | AV19: 0 | AW19: 1 | AX19: 10 | AY19: 12
A20: 雲林縣 | B20: Yunlin County | C20: 1 | D20: 1 | E20: 0 | F20: 0 | G20: 1 | H20: 1 | I20: 0 | J20: 5027 | K20: 178 | L20: 4847 | M20: 2 | N20: 5295 | O20: 1561 | P20: 3734 | Q20: 0 | R20: 0 | S20: 0 | T20: 0 | U20: 0 | V20: 0 | W20: 0 | X20: 0 | Y20: 0 | Z20: 47 | AA20: 341 | AB20: 59 | AC20: 282 | AD20: 0 | AE20: 0 | AF20: 0 | AG20: 0 | AH20: 0 | AI20: 0 | AJ20: 0 | AK20: 0 | AL20: 0 | AM20: 0 | AN20: 0 | AO20: 1131 | AP20: 12734 | AQ20: 2199 | AR20: 10535 | AS20: 0 | AT20: 1 | AU20: 0 | AV20: 0 | AW20: 1 | AX20: 15 | AY20: 56
... A30: 連江縣 | B30: Lienchiang County | C30: 1 | D30: 1 | E30: 0 | F30: 0 | G30: 1 | H30: 1 | I30: 0 | J30: 0 | K30: 0 | L30: 0 | M30: 0 | N30: 0 | O30: 0 | P30: 0 | Q30: 0 | R30: 0 | S30: 0 | T30: 0 | U30: 0 | V30: 0 | W30: 0 | X30: 0 | Y30: 0 | Z30: 0 | AA30: 0 | AB30: 0 | AC30: 0 | AD30: 0 | AE30: 0 | AF30: 0 | AG30: 0 | AH30: 0 | AI30: 0 | AJ30: 0 | AK30: 0 | AL30: 0 | AM30: 0 | AN30: 0 | AO30: 0 | AP30: 0 | AQ30: 0 | AR30: 0 | AS30: 0 | AT30: 0 | AU30: 0 | AV30: 0 | AW30: 0 | AX30: 0 | AY30: 0
A31: 資料來源：直轄市、縣(市)政府
A32: Source : County and City Government.

Sheet 2024
A1: 婦女福利機構服務Women's Welfare Institutional Services
A2: 地區別 Locality | C2: 一、婦女福利服務中心 Welfare Service Center | AT2: 二、婦女中途之家、庇護中心Housing/Sheltering Center
C3: 期底機構數 Number of institutions at the end of the period | J3: 服務內容Service Contents | AT3: 期底機構數 (個) Number of institutions at the end of the period | AX3: 收容數 Number of persons taken in
C4: 期底機構數 按公、私立別分 (個) Number of institutions at the end of the period | G4: 期底機構數 按服務對象分 (個) Number of institutions at the end of the period By service recipients (number) | J4: 成長活動 (人次) Growth activities (Times) | N4: 諮詢服務 (人次) Consulting Service (Person-Times) | R4: 個案管理服務 (人次) Cases Management Service (Person-Times) | V4: 就業支持服務方案(人次) Employment support service program | Z4: 團體方案 Team Scheme Service | AE4: 展覽 Exhibitions | AJ4: 研討會 Seminars | AO4: 其他 Others | AT4: 合計 Total | AU4: 公立 Public Ins. | AV4: 私立 Private Ins. | AW4: 公設民營Public Ins. Run by Private Ins. | AX4: 最高可收容人數 (人) No.of Providing | AY4: 本期收容個案數 (人次) Accommodated Persons (Times)
C6: 合計 Total | D6: 公立 Public Ins. | E6: 私立 Private Ins. | F6: 公設民營 Public Ins. Run by Private Ins. | G6: 合計 Total | H6: 婦女 Women | I6: 婦女及兒少 Women,children, and youths | J6: 合計 Total | K6: 男 Male | L6: 女 Female | M6: 其他 Other | N6: 合計 Total | O6: 男 Male | P6: 女 Female | Q6: 其他 Other | R6: 合計 Total | S6: 男 Male | T6: 女 Female | U6: 其他 Other | V6: 合計 Total | W6: 男 Male | X6: 女 Female | Y6: 其他 Other | Z6: 辦理 次數 Times | AA6: 參加人次 | AE6: 辦理 次數 Times | AF6: 參加人次 | AJ6: 辦理 次數 Times | AK6: 參加人次 | AO6: 辦理 次數 Times | AP6: 參加人次
AA7: 合計 Total | AB7: 男 Male | AC7: 女 Female | AD7: 其他 Other | AF7: 合計 Total | AG7: 男 Male | AH7: 女 Female | AI7: 其他 Other | AK7: 合計 Total | AL7: 男 Male | AM7: 女 Female | AN7: 其他 Other | AP7: 合計 Total | AQ7: 男 Male | AR7: 女 Female | AS7: 其他 Other
A8: 113年,2024 | C8: 65 | D8: 19 | E8: 0 | F8: 46 | G8: 65 | H8: 52 | I8: 13 | J8: 615953 | K8: 156372 | L8: 459581 | M8: 0 | N8: 364262 | O8: 96314 | P8: 267846 | Q8: 102 | R8: 103159 | S8: 27657 | T8: 75502 | U8: 0 | V8: 20305 | W8: 3547 | X8: 16758 | Y8: 0 | Z8: 1684 | AA8: 32388 | AB8: 6100 | AC8: 26288 | AD8: 0 | AE8: 435 | AF8: 167867 | AG8: 38740 | AH8: 129101 | AI8: 26 | AJ8: 963 | AK8: 15203 | AL8: 3212 | AM8: 11991 | AN8: 0 | AO8: 16020 | AP8: 3652412 | AQ8: 608054 | AR8: 3044327 | AS8: 31 | AT8: 48 | AU8: 3 | AV8: 24 | AW8: 21 | AX8: 715 | AY8: 2148
A9: 新北市 | B9: New Taipei City | C9: 3 | D9: 1 | E9: 0 | F9: 2 | G9: 3 | H9: 3 | I9: 0 | J9: 170078 | K9: 3026 | L9: 167052 | M9: 0 | N9: 28031 | O9: 2533 | P9: 25498 | Q9: 0 | R9: 1664 | S9: 122 | T9: 1542 | U9: 0 | V9: 2202 | W9: 123 | X9: 2079 | Y9: 0 | Z9: 37 | AA9: 411 | AB9: 10 | AC9: 401 | AD9: 0 | AE9: 6 | AF9: 1416 | AG9: 125 | AH9: 1291 | AI9: 0 | AJ9: 14 | AK9: 600 | AL9: 21 | AM9: 579 | AN9: 0 | AO9: 34 | AP9: 5211 | AQ9: 1290 | AR9: 3902 | AS9: 19 | AT9: 3 | AU9: 0 | AV9: 0 | AW9: 3 | AX9: 59 | AY9: 334
A10: 臺北市 | B10: Taipei City | C10: 11 | D10: 0 | E10: 0 | F10: 11 | G10: 11 | H10: 11 | I10: 0 | J10: 9400 | K10: 1897 | L10: 7503 | M10: 0 | N10: 12166 | O10: 1085 | P10: 10985 | Q10: 96 | R10: 29304 | S10: 2809 | T10: 26495 | U10: 0 | V10: 2000 | W10: 78 | X10: 1922 | Y10: 0 | Z10: 190 | AA10: 1873 | AB10: 252 | AC10: 1621 | AD10: 0 | AE10: 17 | AF10: 12110 | AG10: 2251 | AH10: 9845 | AI10: 14 | AJ10: 5 | AK10: 53 | AL10: 10 | AM10: 43 | AN10: 0 | AO10: 8204 | AP10: 1189822 | AQ10: 196223 | AR10: 993587 | AS10: 12 | AT10: 3 | AU10: 1 | AV10: 0 | AW10: 2 | AX10: 151 | AY10: 221
A11: 桃園市 | B11: Taoyuan City | C11: 9 | D11: 5 | E11: 0 | F11: 4 | G11: 9 | H11: 4 | I11: 5 | J11: 203514 | K11: 91406 | L11: 112108 | M11: 0 | N11: 5886 | O11: 700 | P11: 5186 | Q11: 0 | R11: 1033 | S11: 2 | T11: 1031 | U11: 0 | V11: 1104 | W11: 39 | X11: 1065 | Y11: 0 | Z11: 127 | AA11: 1667 | AB11: 170 | AC11: 1497 | AD11: 0 | AE11: 25 | AF11: 11630 | AG11: 2734 | AH11: 8896 | AI11: 0 | AJ11: 0 | AK11: 0 | AL11: 0 | AM11: 0 | AN11: 0 | AO11: 0 | AP11: 0 | AQ11: 0 | AR11: 0 | AS11: 0 | AT11: 2 | AU11: 0 | AV11: 0 | AW11: 2 | AX11: 53 | AY11: 404
A12: 臺中市 | B12: Taichung City | C12: 12 | D12: 1 | E12: 0 | F12: 11 | G12: 12 | H12: 9 | I12: 3 | J12: 36666 | K12: 2047 | L12: 34619 | M12: 0 | N12: 46877 | O12: 6756 | P12: 40115 | Q12: 6 | R12: 10619 | S12: 903 | T12: 9716 | U12: 0 | V12: 2727 | W12: 53 | X12: 2674 | Y12: 0 | Z12: 252 | AA12: 3731 | AB12: 421 | AC12: 3310 | AD12: 0 | AE12: 262 | AF12: 78434 | AG12: 15838 | AH12: 62584 | AI12: 12 | AJ12: 9 | AK12: 219 | AL12: 18 | AM12: 201 | AN12: 0 | AO12: 907 | AP12: 1959082 | AQ12: 281523 | AR12: 1677559 | AS12: 0 | AT12: 15 | AU12: 0 | AV12: 15 | AW12: 0 | AX12: 176 | AY12: 183
A13: 臺南市 | B13: Tainan City | C13: 4 | D13: 0 | E13: 0 | F13: 4 | G13: 4 | H13: 4 | I13: 0 | J13: 9493 | K13: 1119 | L13: 8374 | M13: 0 | N13: 36215 | O13: 8176 | P13: 28039 | Q13: 0 | R13: 29487 | S13: 10046 | T13: 19441 | U13: 0 | V13: 294 | W13: 98 | X13: 196 | Y13: 0 | Z13: 126 | AA13: 1869 | AB13: 383 | AC13: 1486 | AD13: 0 | AE13: 36 | AF13: 845 | AG13: 105 | AH13: 740 | AI13: 0 | AJ13: 11 | AK13: 73 | AL13: 0 | AM13: 73 | AN13: 0 | AO13: 825 | AP13: 115193 | AQ13: 15514 | AR13: 99679 | AS13: 0 | AT13: 2 | AU13: 0 | AV13: 2 | AW13: 0 | AX13: 14 | AY13: 52
A14: 高雄市 | B14: Kaohsiung City | C14: 4 | D14: 2 | E14: 0 | F14: 2 | G14: 4 | H14: 1 | I14: 3 | J14: 51595 | K14: 11773 | L14: 39822 | M14: 0 | N14: 148260 | O14: 44728 | P14: 103532 | Q14: 0 | R14: 0 | S14: 0 | T14: 0 | U14: 0 | V14: 4088 | W14: 1271 | X14: 2817 | Y14: 0 | Z14: 388 | AA14: 9843 | AB14: 1029 | AC14: 8814 | AD14: 0 | AE14: 15 | AF14: 31236 | AG14: 10066 | AH14: 21170 | AI14: 0 | AJ14: 0 | AK14: 0 | AL14: 0 | AM14: 0 | AN14: 0 | AO14: 3182 | AP14: 144906 | AQ14: 60943 | AR14: 83963 | AS14: 0 | AT14: 2 | AU14: 0 | AV14: 0 | AW14: 2 | AX14: 26 | AY14: 106
A15: 宜蘭縣 | B15: Yilan County | C15: 1 | D15: 1 | E15: 0 | F15: 0 | G15: 1 | H15: 1 | I15: 0 | J15: 0 | K15: 0 | L15: 0 | M15: 0 | N15: 32980 | O15: 18600 | P15: 14380 | Q15: 0 | R15: 16688 | S15: 9214 | T15: 7474 | U15: 0 | V15: 0 | W15: 0 | X15: 0 | Y15: 0 | Z15: 1 | AA15: 357 | AB15: 83 | AC15: 274 | AD15: 0 | AE15: 0 | AF15: 0 | AG15: 0 | AH15: 0 | AI15: 0 | AJ15: 0 | AK15: 0 | AL15: 0 | AM15: 0 | AN15: 0 | AO15: 30 | AP15: 1083 | AQ15: 272 | AR15: 811 | AS15: 0 | AT15: 2 | AU15: 0 | AV15: 2 | AW15: 0 | AX15: 20 | AY15: 132
A16: 新竹縣 | B16: Hsinchu County | C16: 2 | D16: 0 | E16: 0 | F16: 2 | G16: 2 | H16: 2 | I16: 0 | J16: 2050 | K16: 738 | L16: 1312 | M16: 0 | N16: 2258 | O16: 391 | P16: 1867 | Q16: 0 | R16: 0 | S16: 0 | T16: 0 | U16: 0 | V16: 60 | W16: 0 | X16: 60 | Y16: 0 | Z16: 43 | AA16: 548 | AB16: 24 | AC16: 524 | AD16: 0 | AE16: 4 | AF16: 3936 | AG16: 947 | AH16: 2989 | AI16: 0 | AJ16: 0 | AK16: 0 | AL16: 0 | AM16: 0 | AN16: 0 | AO16: 543 | AP16: 1441 | AQ16: 599 | AR16: 842 | AS16: 0 | AT16: 1 | AU16: 0 | AV16: 1 | AW16: 0 | AX16: 18 | AY16: 38
A17: 苗栗縣 | B17: Miaoli County | C17: 1 | D17: 0 | E17: 0 | F17: 1 | G17: 1 | H17: 1 | I17: 0 | J17: 920 | K17: 94 | L17: 826 | M17: 0 | N17: 174 | O17: 0 | P17: 174 | Q17: 0 | R17: 0 | S17: 0 | T17: 0 | U17: 0 | V17: 15 | W17: 0 | X17: 15 | Y17: 0 | Z17: 42 | AA17: 493 | AB17: 21 | AC17: 472 | AD17: 0 | AE17: 5 | AF17: 619 | AG17: 131 | AH17: 488 | AI17: 0 | AJ17: 3 | AK17: 44 | AL17: 4 | AM17: 40 | AN17: 0 | AO17: 615 | AP17: 89303 | AQ17: 23547 | AR17: 65756 | AS17: 0 | AT17: 1 | AU17: 0 | AV17: 0 | AW17: 1 | AX17: 4 | AY17: 13
A18: 彰化縣 | B18: Changhua County | C18: 2 | D18: 0 | E18: 0 | F18: 2 | G18: 2 | H18: 2 | I18: 0 | J18: 3994 | K18: 540 | L18: 3454 | M18: 0 | N18: 4318 | O18: 296 | P18: 4022 | Q18: 0 | R18: 0 | S18: 0 | T18: 0 | U18: 0 | V18: 601 | W18: 5 | X18: 596 | Y18: 0 | Z18: 8 | AA18: 50 | AB18: 5 | AC18: 45 | AD18: 0 | AE18: 17 | AF18: 12977 | AG18: 2731 | AH18: 10246 | AI18: 0 | AJ18: 0 | AK18: 0 | AL18: 0 | AM18: 0 | AN18: 0 | AO18: 338 | AP18: 14210 | AQ18: 2781 | AR18: 11429 | AS18: 0 | AT18: 2 | AU18: 0 | AV18: 1 | AW18: 1 | AX18: 13 | AY18: 22
A19: 南投縣 | B19: Nantou County | C19: 4 | D19: 0 | E19: 0 | F19: 4 | G19: 4 | H19: 4 | I19: 0 | J19: 3992 | K19: 585 | L19: 3407 | M19: 0 | N19: 1531 | O19: 258 | P19: 1273 | Q19: 0 | R19: 73 | S19: 1 | T19: 72 | U19: 0 | V19: 550 | W19: 200 | X19: 350 | Y19: 0 | Z19: 131 | AA19: 6606 | AB19: 2545 | AC19: 4061 | AD19: 0 | AE19: 6 | AF19: 476 | AG19: 132 | AH19: 344 | AI19: 0 | AJ19: 0 | AK19: 0 | AL19: 0 | AM19: 0 | AN19: 0 | AO19: 81 | AP19: 33986 | AQ19: 6133 | AR19: 27853 | AS19: 0 | AT19: 1 | AU19: 0 | AV19: 0 | AW19: 1 | AX19: 16 | AY19: 16
A20: 雲林縣 | B20: Yunlin County | C20: 1 | D20: 1 | E20: 0 | F20: 0 | G20: 1 | H20: 1 | I20: 0 | J20: 4672 | K20: 305 | L20: 4367 | M20: 0 | N20: 12987 | O20: 4473 | P20: 8514 | Q20: 0 | R20: 0 | S20: 0 | T20: 0 | U20: 0 | V20: 3625 | W20: 1495 | X20: 2130 | Y20: 0 | Z20: 24 | AA20: 386 | AB20: 123 | AC20: 263 | AD20: 0 | AE20: 1 | AF20: 160 | AG20: 40 | AH20: 120 | AI20: 0 | AJ20: 914 | AK20: 13980 | AL20: 3118 | AM20: 10862 | AN20: 0 | AO20: 600 | AP20: 9388 | AQ20: 1830 | AR20: 7558 | AS20: 0 | AT20: 1 | AU20: 0 | AV20: 0 | AW20: 1 | AX20: 15 | AY20: 45
... A30: 連江縣 | B30: Lienchiang County | C30: 1 | D30: 1 | E30: 0 | F30: 0 | G30: 1 | H30: 1 | I30: 0 | J30: 1079 | K30: 288 | L30: 791 | M30: 0 | N30: 0 | O30: 0 | P30: 0 | Q30: 0 | R30: 0 | S30: 0 | T30: 0 | U30: 0 | V30: 0 | W30: 0 | X30: 0 | Y30: 0 | Z30: 0 | AA30: 0 | AB30: 0 | AC30: 0 | AD30: 0 | AE30: 0 | AF30: 0 | AG30: 0 | AH30: 0 | AI30: 0 | AJ30: 0 | AK30: 0 | AL30: 0 | AM30: 0 | AN30: 0 | AO30: 0 | AP30: 0 | AQ30: 0 | AR30: 0 | AS30: 0 | AT30: 0 | AU30: 0 | AV30: 0 | AW30: 0 | AX30: 0 | AY30: 0
A31: 資料來源：直轄市、縣(市)政府
A32: Source : County and City Government.

Sheet Jan.-June,2024
A1: 婦女福利機構服務Women's Welfare Institutional Services
A2: 地區別 Locality | C2: 一、婦女福利服務中心 Welfare Service Center | AT2: 二、婦女中途之家、庇護中心Housing/Sheltering Center
C3: 期底機構數 Number of institutions at the end of the period | J3: 服務內容Service Contents | AT3: 期底機構數 (個) Number of institutions at the end of the period | AX3: 收容數 Number of persons taken in
C4: 期底機構數 按公、私立別分 (個) Number of institutions at the end of the period | G4: 期底機構數 按服務對象分 (個) Number of institutions at the end of the period By service recipients (number) | J4: 成長活動 (人次) Growth activities (Times) | N4: 諮詢服務 (人次) Consulting Service (Person-Times) | R4: 個案管理服務 (人次) Cases Management Service (Person-Times) | V4: 就業支持服務方案(人次) Employment support service program | Z4: 團體方案 Team Scheme Service | AE4: 展覽 Exhibitions | AJ4: 研討會 Seminars | AO4: 其他 Others | AT4: 合計 Total | AU4: 公立 Public Ins. | AV4: 私立 Private Ins. | AW4: 公設民營Public Ins. Run by Private Ins. | AX4: 最高可收容人數 (人) No.of Providing | AY4: 本期收容個案數 (人次) Accommodated Persons (Times)
C6: 合計 Total | D6: 公立 Public Ins. | E6: 私立 Private Ins. | F6: 公設民營 Public Ins. Run by Private Ins. | G6: 合計 Total | H6: 婦女 Women | I6: 婦女及兒少 Women,children, and youths | J6: 合計 Total | K6: 男 Male | L6: 女 Female | M6: 其他 Other | N6: 合計 Total | O6: 男 Male | P6: 女 Female | Q6: 其他 Other | R6: 合計 Total | S6: 男 Male | T6: 女 Female | U6: 其他 Other | V6: 合計 Total | W6: 男 Male | X6: 女 Female | Y6: 其他 Other | Z6: 辦理 次數 Times | AA6: 參加人次 | AE6: 辦理 次數 Times | AF6: 參加人次 | AJ6: 辦理 次數 Times | AK6: 參加人次 | AO6: 辦理 次數 Times | AP6: 參加人次
AA7: 合計 Total | AB7: 男 Male | AC7: 女 Female | AD7: 其他 Other | AF7: 合計 Total | AG7: 男 Male | AH7: 女 Female | AI7: 其他 Other | AK7: 合計 Total | AL7: 男 Male | AM7: 女 Female | AN7: 其他 Other | AP7: 合計 Total | AQ7: 男 Male | AR7: 女 Female | AS7: 其他 Other
A8: 113年上半年 Jan.-June, 2024 | C8: 65 | D8: 19 | E8: 0 | F8: 46 | G8: 65 | H8: 52 | I8: 13 | J8: 280759 | K8: 70235 | L8: 210524 | M8: 204590 | N8: 57021 | O8: 147569 | P8: 57418 | Q8: 17879 | R8: 39539 | S8: 6632 | T8: 1207 | U8: 5425 | V8: 577 | W8: 10433 | X8: 1714 | Y8: 8719 | Z8: 189 | AA8: 113684 | AB8: 24532 | AC8: 89139 | AD8: 12 | AE8: 725 | AF8: 44 | AG8: 681 | AH8: 7925 | AI8: 1236824 | AJ8: 194639 | AK8: 1042185 | AL8: 47 | AM8: 7 | AN8: 23 | AO8: 17 | AP8: 576 | AQ8: 1048 | AR8: 1042185 | AS8: 0 | AT8: 47 | AU8: 7 | AV8: 23 | AW8: 17 | AX8: 576 | AY8: 1048
