Workbook

Sheet 歷年
A1: 婦女福利機構服務Women's Welfare Institutional Services
A3: 年別 Year | C3: 一、婦女福利服務中心 Welfare Service Center | AT3: 二、婦女中途之家、庇護中心Housing/Sheltering Center
C4: 期底機構數 Number of institutions at the end of the period | J4: 服務內容Service Contents | AT4: 期底機構數 (個) Number of institutions at the end of the period | AX4: 收容數 Number of persons taken in
C5: 期底機構數 按公、私立別分 (個) Number of institutions at the end of the period | G5: 期底機構數 按服務對象分 (個) Number of institutions at the end of the period By service recipients (number) | J5: 成長活動 (人次) Growth activities (Times) | N5: 諮詢服務 (人次) Consulting Service (Person-Times) | R5: 個案管理服務 (人次) Cases Management Service (Person-Times) | V5: 就業支持服務方案(人次) Employment support service program | Z5: 團體方案 Team Scheme Service | AE5: 展覽 Exhibitions | AJ5: 研討會 Seminars | AO5: 其他 Others | AT5: 合計 Total | AU5: 公立 Public Ins. | AV5: 私立 Private Ins. | AW5: 公設民營Public Ins. Run by Private Ins. | AX5: 最高可收容人數 (人) No.of Providing | AY5: 本期收容個案數 (人次) Accommodated Persons (Times)
C7: 合計 Total | D7: 公立 Public Ins. | E7: 私立 Private Ins. | F7: 公設民營 Public Ins. Run by Private Ins. | G7: 合計 Total | H7: 婦女 Women | I7: 婦女及兒少 Women,children, and youths | J7: 合計 Total | K7: 男 Male | L7: 女 Female | M7: 其他 Other | N7: 合計 Total | O7: 男 Male | P7: 女 Female | Q7: 其他 Other | R7: 合計 Total | S7: 男 Male | T7: 女 Female | U7: 其他 Other | V7: 合計 Total | W7: 男 Male | X7: 女 Female | Y7: 其他 Other | Z7: 辦理 次數 Times | AA7: 參加人次 | AE7: 辦理 次數 Times | AF7: 參加人次 | AJ7: 辦理 次數 Times | AK7: 參加人次 | AO7: 辦理 次數 Times | AP7: 參加人次
AA8: 合計 Total | AB8: 男 Male | AC8: 女 Female | AD8: 其他 Other | AF8: 合計 Total | AG8: 男 Male | AH8: 女 Female | AI8: 其他 Other | AK8: 合計 Total | AL8: 男 Male | AM8: 女 Female | AN8: 其他 Other | AP8: 合計 Total | AQ8: 男 Male | AR8: 女 Female | AS8: 其他 Other
A9: 106年 2017 | C9: 73 | D9: 35 | E9: 2 | F9: 36 | G9: 73 | H9: 36 | I9: 37 | J9: 139546 | K9: 18848 | L9: 120698 | M9: … | N9: 150249 | O9: 29476 | P9: 120773 | Q9: … | R9: 64256 | S9: 7825 | T9: 56431 | U9: … | V9: 10429 | W9: 816 | X9: 9613 | Y9: … | Z9: 2646 | AA9: 74287 | AB9: 17863 | AC9: 56424 | AD9: … | AE9: 128 | AF9: 160744 | AG9: 49777 | AH9: 110967 | AI9: … | AJ9: 67 | AK9: 2736 | AL9: 600 | AM9: 2136 | AN9: … | AO9: 9568 | AP9: 1107336 | AQ9: 369779 | AR9: 737557 | AS9: … | AT9: 51 | AU9: 2 | AV9: 32 | AW9: 17 | AX9: 582 | AY9: 3154
A10: 107年 2018 | C10: 77 | D10: 37 | E10: 4 | F10: 36 | G10: 76 | H10: 40 | I10: 36 | J10: 128812 | K10: 16817 | L10: 111995 | M10: … | N10: 147091 | O10: 29807 | P10: 117284 | Q10: … | R10: 76658 | S10: 9343 | T10: 67315 | U10: … | V10: 10786 | W10: 1947 | X10: 8839 | Y10: … | Z10: 1990 | AA10: 44902 | AB10: 5884 | AC10: 39018 | AD10: … | AE10: 234 | AF10: 82006 | AG10: 19019 | AH10: 62987 | AI10: … | AJ10: 63 | AK10: 1943 | AL10: 218 | AM10: 1725 | AN10: … | AO10: 10745 | AP10: 1444575 | AQ10: 467606 | AR10: 976969 | AS10: … | AT10: 46 | AU10: 1 | AV10: 29 | AW10: 16 | AX10: 590 | AY10: 3194
A11: 108年 2019 | C11: 61 | D11: 27 | E11: 0 | F11: 34 | G11: 61 | H11: 42 | I11: 19 | J11: 132321 | K11: 18677 | L11: 113644 | M11: … | N11: 134390 | O11: 23924 | P11: 110466 | Q11: … | R11: 75064 | S11: 8588 | T11: 66476 | U11: … | V11: 11520 | W11: 1424 | X11: 10096 | Y11: … | Z11: 1822 | AA11: 46645 | AB11: 5381 | AC11: 41264 | AD11: … | AE11: 615 | AF11: 82120 | AG11: 20036 | AH11: 62084 | AI11: … | AJ11: 44 | AK11: 1045 | AL11: 192 | AM11: 853 | AN11: … | AO11: 13497 | AP11: 1337109 | AQ11: 291339 | AR11: 1045770 | AS11: … | AT11: 49 | AU11: 3 | AV11: 30 | AW11: 16 | AX11: 609 | AY11: 2400
A12: 109年 2020 | C12: 62 | D12: 26 | E12: 0 | F12: 36 | G12: 62 | H12: 44 | I12: 18 | J12: 127263 | K12: 16711 | L12: 110552 | M12: … | N12: 138827 | O12: 23558 | P12: 115269 | Q12: … | R12: 98419 | S12: 15374 | T12: 83045 | U12: … | V12: 9302 | W12: 736 | X12: 8566 | Y12: … | Z12: 1953 | AA12: 53058 | AB12: 8166 | AC12: 44892 | AD12: … | AE12: 374 | AF12: 112431 | AG12: 29068 | AH12: 83363 | AI12: … | AJ12: 63 | AK12: 2449 | AL12: 558 | AM12: 1891 | AN12: … | AO12: 12664 | AP12: 1980580 | AQ12: 333510 | AR12: 1647070 | AS12: … | AT12: 49 | AU12: 3 | AV12: 30 | AW12: 16 | AX12: 591 | AY12: 2375
A13: 110年,2021 | C13: 62 | D13: 26 | E13: 0 | F13: 36 | G13: 62 | H13: 45 | I13: 17 | J13: 119544 | K13: 18598 | L13: 100946 | M13: … | N13: 119505 | O13: 27653 | P13: 91852 | Q13: … | R13: 66597 | S13: 12847 | T13: 53750 | U13: … | V13: 14111 | W13: 2685 | X13: 11426 | Y13: … | Z13: 1640 | AA13: 34240 | AB13: 4391 | AC13: 29849 | AD13: … | AE13: 141 | AF13: 62307 | AG13: 14898 | AH13: 47409 | AI13: … | AJ13: 45 | AK13: 1820 | AL13: 332 | AM13: 1488 | AN13: … | AO13: 10949 | AP13: 2136205 | AQ13: 554299 | AR13: 1581906 | AS13: … | AT13: 49 | AU13: 3 | AV13: 30 | AW13: 16 | AX13: 557 | AY13: 1905
A14: 111年,2022 | C14: 58 | D14: 21 | E14: 0 | F14: 37 | G14: 58 | H14: 47 | I14: 11 | J14: 368727 | K14: 93379 | L14: 275348 | M14: … | N14: 151998 | O14: 38922 | P14: 113076 | Q14: … | R14: 84135 | S14: 19865 | T14: 64270 | U14: … | V14: 11049 | W14: 1190 | X14: 9859 | Y14: … | Z14: 2324 | AA14: 42911 | AB14: 4919 | AC14: 37992 | AD14: … | AE14: 120 | AF14: 53183 | AG14: 14077 | AH14: 39106 | AI14: … | AJ14: 662 | AK14: 31410 | AL14: 8458 | AM14: 22952 | AN14: … | AO14: 12562 | AP14: 2935016 | AQ14: 587574 | AR14: 2347442 | AS14: … | AT14: 49 | AU14: 3 | AV14: 30 | AW14: 16 | AX14: 566 | AY14: 1958
A15: 112年,2023 | C15: 62 | D15: 19 | E15: 0 | F15: 43 | G15: 62 | H15: 50 | I15: 12 | J15: 545523 | K15: 161905 | L15: 383618 | M15: … | N15: 254949 | O15: 70030 | P15: 184919 | Q15: … | R15: 101003 | S15: 21722 | T15: 79281 | U15: … | V15: 14722 | W15: 3414 | X15: 11308 | Y15: … | Z15: 1509 | AA15: 28956 | AB15: 4130 | AC15: 24826 | AD15: … | AE15: 426 | AF15: 200999 | AG15: 47847 | AH15: 153152 | AI15: … | AJ15: 85 | AK15: 2189 | AL15: 321 | AM15: 1868 | AN15: … | AO15: 14507 | AP15: 4672880 | AQ15: 783395 | AR15: 3889485 | AS15: … | AT15: 46 | AU15: 3 | AV15: 27 | AW15: 16 | AX15: 560 | AY15: 2334
A16: 上半年，Jan.-June | C16: 62 | D16: 19 | E16: 0 | F16: 43 | G16: 62 | H16: 49 | I16: 13 | J16: 269599 | K16: 86131 | L16: 183468 | N16: 137168 | O16: 40915 | P16: 96253 | R16: 42729 | S16: 10375 | T16: 32354 | V16: 4792 | W16: 479 | X16: 4313 | Z16: 479 | AA16: 8650 | AB16: 1127 | AC16: 7523 | AE16: 230 | AF16: 37001 | AG16: 9778 | AH16: 27223 | AJ16: 21 | AK16: 617 | AL16: 81 | AM16: 536 | AO16: 6121 | AP16: 1662789 | AQ16: 312142 | AR16: 1350647 | AT16: 46 | AU16: 3 | AV16: 27 | AW16: 16 | AX16: 564 | AY16: 1169
A17: 113年,2024 | C17: 65 | D17: 19 | E17: 0 | F17: 46 | G17: 65 | H17: 52 | I17: 13 | J17: 615953 | K17: 156372 | L17: 459581 | M17: 0 | N17: 364262 | O17: 96314 | P17: 267846 | Q17: 102 | R17: 103159 | S17: 27657 | T17: 75502 | U17: 0 | V17: 20305 | W17: 3547 | X17: 16758 | Y17: 0 | Z17: 1684 | AA17: 32388 | AB17: 6100 | AC17: 26288 | AD17: 0 | AE17: 435 | AF17: 167867 | AG17: 38740 | AH17: 129101 | AI17: 26 | AJ17: 963 | AK17: 15203 | AL17: 3212 | AM17: 11991 | AN17: 0 | AO17: 16020 | AP17: 3652412 | AQ17: 608054 | AR17: 3044327 | AS17: 31 | AT17: 48 | AU17: 3 | AV17: 24 | AW17: 21 | AX17: 715 | AY17: 2148
A18: 上半年，Jan.-June | C18: 65 | D18: 19 | E18: 0 | F18: 46 | G18: 65 | H18: 52 | I18: 13 | J18: 280759 | K18: 70235 | L18: 210524 | M18: 204590 | N18: 57021 | O18: 147569 | P18: 57418 | Q18: 17879 | R18: 39539 | S18: 6632 | T18: 1207 | U18: 5425 | V18: 577 | W18: 10433 | X18: 1714 | Y18: 8719 | Z18: 189 | AA18: 113684 | AB18: 24532 | AC18: 89139 | AD18: 12 | AE18: 725 | AF18: 44 | AG18: 681 | AH18: 7925 | AI18: 1236824 | AJ18: 194639 | AK18: 1042185 | AL18: 47 | AM18: 7 | AN18: 23 | AO18: 17 | AP18: 576 | AQ18: 1048 | AR18: 1042185 | AS18: 0 | AT18: 47 | AU18: 7 | AV18: 23 | AW18: 17 | AX18: 576 | AY18: 1048
A19: 下半年，July-Dec. | C19: 65 | D19: 19 | E19: 0 | F19: 46 | G19: 65 | H19: 52 | I19: 13 | J19: 335194 | K19: 86137 | L19: 249057 | M19: 0 | N19: 159672 | O19: 39293 | P19: 120277 | Q19: 102 | R19: 45741 | S19: 9778 | T19: 35963 | U19: 0 | V19: 13673 | W19: 2340 | X19: 11333 | Y19: 0 | Z19: 1107 | AA19: 21955 | AB19: 4386 | AC19: 17569 | AD19: 0 | AE19: 246 | AF19: 54183 | AG19: 14208 | AH19: 39962 | AI19: 13 | AJ19: 951 | AK19: 14478 | AL19: 3168 | AM19: 11310 | AN19: 0 | AO19: 8095 | AP19: 2415588 | AQ19: 413415 | AR19: 2002142 | AS19: 31 | AT19: 48 | AU19: 3 | AV19: 24 | AW19: 21 | AX19: 715 | AY19: 1100
A20: 114年,2025 | C20: 66 | D20: 19 | E20: 0 | F20: 47 | G20: 66 | H20: 53 | I20: 13 | AT20: 47 | AU20: 3 | AV20: 24 | AW20: 20 | AX20: 575 | AY20: 2141
A21: 上半年，Jan.-June | C21: 66 | D21: 19 | E21: 0 | F21: 47 | G21: 66 | H21: 54 | I21: 12 | J21: 278780 | K21: 72295 | L21: 206464 | M21: 21 | N21: 183757 | O21: 46132 | P21: 137624 | Q21: 1 | R21: 74883 | S21: 23899 | T21: 50984 | U21: 0 | V21: 7560 | W21: 1237 | X21: 6323 | Y21: 0 | Z21: 583 | AA21: 11719 | AB21: 2124 | AC21: 9595 | AD21: 0 | AE21: 105 | AF21: 122131 | AG21: 49995 | AH21: 72136 | AI21: 0 | AJ21: 15 | AK21: 465 | AL21: 54 | AM21: 411 | AN21: 0 | AT21: 46 | AU21: 3 | AV21: 23 | AW21: 20 | AX21: 584 | AY21: 1124
A22: 下半年，July-Dec. | C22: 66 | D22: 19 | E22: 0 | F22: 47 | G22: 66 | H22: 53 | I22: 13 | AT22: 47 | AU22: 3 | AV22: 24 | AW22: 20 | AX22: 575 | AY22: 1017
A23: 資料來源：直轄市、縣(市)政府
A24: Source : County and City Government.
A25: 附 註:108年底機構數較107年減少之主要原因，係桃園市108年起13區家庭服務中心移至家庭福利服務報表。
A26: 更新日期：2026/05/15

Sheet 2025
A1: 婦女福利機構服務Women's Welfare Institutional Services
A2: 地區別 Locality | C2: 一、婦女福利服務中心 Welfare Service Center | AT2: 二、婦女中途之家、庇護中心Housing/Sheltering Center
C3: 期底機構數 Number of institutions at the end of the period | J3: 服務內容Service Contents | AT3: 期底機構數 (個) Number of institutions at the end of the period | AX3: 收容數 Number of persons taken in
C4: 期底機構數 按公、私立別分 (個) Number of institutions at the end of the period | G4: 期底機構數 按服務對象分 (個) Number of institutions at the end of the period By service recipients (number) | J4: 成長活動 (人次) Growth activities (Times) | N4: 諮詢服務 (人次) Consulting Service (Person-Times) | R4: 個案管理服務 (人次) Cases Management Service (Person-Times) | V4: 就業支持服務方案(人次) Employment support service program | Z4: 團體方案 Team Scheme Service | AE4: 展覽 Exhibitions | AJ4: 研討會 Seminars | AO4: 其他 Others | AT4: 合計 Total | AU4: 公立 Public Ins. | AV4: 私立 Private Ins. | AW4: 公設民營Public Ins. Run by Private Ins. | AX4: 最高可收容人數 (人) No.of Providing | AY4: 本期收容個案數 (人次) Accommodated Persons (Times)
C6: 合計 Total | D6: 公立 Public Ins. | E6: 私立 Private Ins. | F6: 公設民營 Public Ins. Run by Private Ins. | G6: 合計 Total | H6: 婦女 Women | I6: 婦女及兒少 Women,children, and youths | J6: 合計 Total | K6: 男 Male | L6: 女 Female | M6: 其他 Other | N6: 合計 Total | O6: 男 Male | P6: 女 Female | Q6: 其他 Other | R6: 合計 Total | S6: 男 Male | T6: 女 Female | U6: 其他 Other | V6: 合計 Total | W6: 男 Male | X6: 女 Female | Y6: 其他 Other | Z6: 辦理 次數 Times | AA6: 參加人次 | AE6: 辦理 次數 Times | AF6: 參加人次 | AJ6: 辦理 次數 Times | AK6: 參加人次 | AO6: 辦理 次數 Times | AP6: 參加人次
AA7: 合計 Total | AB7: 男 Male | AC7: 女 Female | AD7: 其他 Other | AF7: 合計 Total | AG7: 男 Male | AH7: 女 Female | AI7: 其他 Other | AK7: 合計 Total | AL7: 男 Male | AM7: 女 Female | AN7: 其他 Other | AP7: 合計 Total | AQ7: 男 Male | AR7: 女 Female | AS7: 其他 Other
A8: 114年,2025 | C8: 66 | D8: 19 | E8: 0 | F8: 47 | G8: 66 | H8: 53 | I8: 13 | J8: 704749 | K8: 175264 | L8: 529237 | M8: 248 | N8: 551390 | O8: 98259 | P8: 452609 | Q8: 522 | R8: 135455 | S8: 39279 | T8: 96176 | U8: 0 | V8: 30330 | W8: 5189 | X8: 25110 | Y8: 31 | Z8: 2012 | AA8: 40625 | AB8: 7211 | AC8: 33414 | AD8: 0 | AE8: 318 | AF8: 219342 | AG8: 76143 | AH8: 135011 | AI8: 8188 | AJ8: 49 | AK8: 1113 | AL8: 140 | AM8: 973 | AN8: 0 | AO8: 9478 | AP8: 3301158 | AQ8: 499128 | AR8: 2801674 | AS8: 356 | AT8: 47 | AU8: 3 | AV8: 24 | AW8: 20 | AX8: 575 | AY8: 2141
A9: 新北市 | B9: New Taipei City | C9: 3 | D9: 1 | E9: 0 | F9: 2 | G9: 3 | H9: 3 | I9: 0 | J9: 162672 | K9: 5571 | L9: 157101 | M9: 0 | N9: 50839 | O9: 2597 | P9: 48242 | Q9: 0 | R9: 1931 | S9: 226 | T9: 1705 | U9: 0 | V9: 450 | W9: 30 | X9: 420 | Y9: 0 | Z9: 17 | AA9: 361 | AB9: 53 | AC9: 308 | AD9: 0 | AE9: 9 | AF9: 13738 | AG9: 2967 | AH9: 10771 | AI9: 0 | AJ9: 1 | AK9: 200 | AL9: 20 | AM9: 180 | AN9: 0 | AO9: 13 | AP9: 1955 | AQ9: 541 | AR9: 1414 | AS9: 0 | AT9: 3 | AU9: 0 | AV9: 0 | AW9: 3 | AX9: 59 | AY9: 267
A10: 臺北市 | B10: Taipei City | C10: 11 | D10: 0 | E10: 0 | F10: 11 | G10: 11 | H10: 11 | I10: 0 | J10: 84415 | K10: 19549 | L10: 64858 | M10: 8 | N10: 174319 | O10: 1051 | P10: 173267 | Q10: 1 | R10: 27429 | S10: 2510 | T10: 24919 | U10: 0 | V10: 770 | W10: 4 | X10: 766 | Y10: 0 | Z10: 364 | AA10: 5443 | AB10: 974 | AC10: 4469 | AD10: 0 | AE10: 12 | AF10: 13888 | AG10: 2702 | AH10: 11183 | AI10: 3 | AJ10: 2 | AK10: 16 | AL10: 3 | AM10: 13 | AN10: 0 | AO10: 4026 | AP10: 1554237 | AQ10: 221644 | AR10: 1332255 | AS10: 338 | AT10: 3 | AU10: 1 | AV10: 0 | AW10: 2 | AX10: 144 | AY10: 275 | BB10: =2141-2126 -> 15
A11: 桃園市 | B11: Taoyuan City | C11: 10 | D11: 5 | E11: 0 | F11: 5 | G11: 10 | H11: 5 | I11: 5 | J11: 289478 | K11: 120500 | L11: 168978 | M11: 0 | N11: 11316 | O11: 1395 | P11: 9921 | Q11: 0 | R11: 3135 | S11: 128 | T11: 3007 | U11: 0 | V11: 1252 | W11: 56 | X11: 1196 | Y11: 0 | Z11: 144 | AA11: 2855 | AB11: 658 | AC11: 2197 | AD11: 0 | AE11: 15 | AF11: 4805 | AG11: 1390 | AH11: 3415 | AI11: 0 | AJ11: 1 | AK11: 51 | AL11: 6 | AM11: 45 | AN11: 0 | AO11: 0 | AP11: 0 | AQ11: 0 | AR11: 0 | AS11: 0 | AT11: 2 | AU11: 0 | AV11: 0 | AW11: 2 | AX11: 53 | AY11: 372
A12: 臺中市 | B12: Taichung City | C12: 12 | D12: 1 | E12: 0 | F12: 11 | G12: 12 | H12: 9 | I12: 3 | J12: 18954 | K12: 2947 | L12: 15954 | M12: 53 | N12: 33759 | O12: 5381 | P12: 28371 | Q12: 7 | R12: 13022 | S12: 923 | T12: 12099 | U12: 0 | V12: 14264 | W12: 1795 | X12: 12438 | Y12: 31 | Z12: 221 | AA12: 2808 | AB12: 204 | AC12: 2604 | AD12: 0 | AE12: 157 | AF12: 44191 | AG12: 12958 | AH12: 23048 | AI12: 8185 | AJ12: 7 | AK12: 161 | AL12: 13 | AM12: 148 | AN12: 0 | AO12: 282 | AP12: 1498440 | AQ12: 215173 | AR12: 1283249 | AS12: 18 | AT12: 15 | AU12: 0 | AV12: 15 | AW12: 0 | AX12: 76 | AY12: 211
A13: 臺南市 | B13: Tainan City | C13: 4 | D13: 0 | E13: 0 | F13: 4 | G13: 4 | H13: 4 | I13: 0 | J13: 10583 | K13: 741 | L13: 9842 | M13: 0 | N13: 34985 | O13: 13635 | P13: 21350 | Q13: 0 | R13: 63630 | S13: 24872 | T13: 38758 | U13: 0 | V13: 1284 | W13: 246 | X13: 1038 | Y13: 0 | Z13: 346 | AA13: 4549 | AB13: 1109 | AC13: 3440 | AD13: 0 | AE13: 3 | AF13: 566 | AG13: 117 | AH13: 449 | AI13: 0 | AJ13: 19 | AK13: 402 | AL13: 58 | AM13: 344 | AN13: 0 | AO13: 697 | AP13: 8347 | AQ13: 2074 | AR13: 6273 | AS13: 0 | AT13: 2 | AU13: 0 | AV13: 2 | AW13: 0 | AX13: 14 | AY13: 53
A14: 高雄市 | B14: Kaohsiung City | C14: 4 | D14: 2 | E14: 0 | F14: 2 | G14: 4 | H14: 1 | I14: 3 | J14: 50014 | K14: 12246 | L14: 37768 | M14: 0 | N14: 145771 | O14: 46939 | P14: 98832 | Q14: 0 | R14: 0 | S14: 0 | T14: 0 | U14: 0 | V14: 5102 | W14: 1680 | X14: 3422 | Y14: 0 | Z14: 371 | AA14: 12105 | AB14: 1739 | AC14: 10366 | AD14: 0 | AE14: 18 | AF14: 46309 | AG14: 16953 | AH14: 29356 | AI14: 0 | AJ14: 0 | AK14: 0 | AL14: 0 | AM14: 0 | AN14: 0 | AO14: 2267 | AP14: 107105 | AQ14: 28235 | AR14: 78870 | AS14: 0 | AT14: 2 | AU14: 0 | AV14: 0 | AW14: 2 | AX14: 22 | AY14: 106
A15: 宜蘭縣 | B15: Yilan County | C15: 1 | D15: 1 | E15: 0 | F15: 0 | G15: 1 | H15: 1 | I15: 0 | J15: 46 | K15: 15 | L15: 31 | M15: 0 | N15: 19260 | O15: 9041 | P15: 10219 | Q15: 0 | R15: 12259 | S15: 5940 | T15: 6319 | U15: 0 | V15: 0 | W15: 0 | X15: 0 | Y15: 0 | Z15: 0 | AA15: 0 | AB15: 0 | AC15: 0 | AD15: 0 | AE15: 0 | AF15: 0 | AG15: 0 | AH15: 0 | AI15: 0 | AJ15: 0 | AK15: 0 | AL15: 0 | AM15: 0 | AN15: 0 | AO15: 0 | AP15: 0 | AQ15: 0 | AR15: 0 | AS15: 0 | AT15: 2 | AU15: 0 | AV15: 2 | AW15: 0 | AX15: 20 | AY15: 126
A16: 新竹縣 | B16: Hsinchu County | C16: 2 | D16: 0 | E16: 0 | F16: 2 | G16: 2 | H16: 2 | I16: 0 | J16: 2205 | K16: 539 | L16: 1666 | M16: 0 | N16: 34337 | O16: 6672 | P16: 27665 | Q16: 0 | R16: 0 | S16: 0 | T16: 0 | U16: 0 | V16: 193 | W16: 11 | X16: 182 | Y16: 0 | Z16: 32 | AA16: 480 | AB16: 22 | AC16: 458 | AD16: 0 | AE16: 8 | AF16: 6714 | AG16: 3319 | AH16: 3395 | AI16: 0 | AJ16: 0 | AK16: 0 | AL16: 0 | AM16: 0 | AN16: 0 | AO16: 0 | AP16: 0 | AQ16: 0 | AR16: 0 | AS16: 0 | AT16: 1 | AU16: 0 | AV16: 1 | AW16: 0 | AX16: 10 | AY16: 29
A17: 苗栗縣 | B17: Miaoli County | C17: 1 | D17: 0 | E17: 0 | F17: 1 | G17: 1 | H17: 1 | I17: 0 | J17: 2598 | K17: 674 | L17: 1924 | M17: 0 | N17: 91 | O17: 0 | P17: 91 | Q17: 0 | R17: 0 | S17: 0 | T17: 0 | U17: 0 | V17: 15 | W17: 0 | X17: 15 | Y17: 0 | Z17: 0 | AA17: 0 | AB17: 0 | AC17: 0 | AD17: 0 | AE17: 23 | AF17: 1160 | AG17: 326 | AH17: 834 | AI17: 0 | AJ17: 0 | AK17: 0 | AL17: 0 | AM17: 0 | AN17: 0 | AO17: 80 | AP17: 57584 | AQ17: 15885 | AR17: 41699 | AS17: 0 | AT17: 1 | AU17: 0 | AV17: 0 | AW17: 1 | AX17: 4 | AY17: 1
A18: 彰化縣 | B18: Changhua County | C18: 2 | D18: 0 | E18: 0 | F18: 2 | G18: 2 | H18: 2 | I18: 0 | J18: 3011 | K18: 215 | L18: 2796 | M18: 0 | N18: 3150 | O18: 318 | P18: 2832 | Q18: 0 | R18: 0 | S18: 0 | T18: 0 | U18: 0 | V18: 315 | W18: 0 | X18: 315 | Y18: 0 | Z18: 23 | AA18: 1877 | AB18: 225 | AC18: 1652 | AD18: 0 | AE18: 11 | AF18: 10214 | AG18: 2055 | AH18: 8159 | AI18: 0 | AJ18: 0 | AK18: 0 | AL18: 0 | AM18: 0 | AN18: 0 | AO18: 87 | AP18: 3842 | AQ18: 734 | AR18: 3108 | AS18: 0 | AT18: 2 | AU18: 0 | AV18: 1 | AW18: 1 | AX18: 13 | AY18: 42
A19: 南投縣 | B19: Nantou County | C19: 4 | D19: 0 | E19: 0 | F19: 4 | G19: 4 | H19: 4 | I19: 0 | J19: 3304 | K19: 1289 | L19: 2015 | M19: 0 | N19: 1971 | O19: 389 | P19: 1582 | Q19: 0 | R19: 91 | S19: 7 | T19: 84 | U19: 0 | V19: 355 | W19: 45 | X19: 310 | Y19: 0 | Z19: 151 | AA19: 4407 | AB19: 1402 | AC19: 3005 | AD19: 0 | AE19: 39 | AF19: 6426 | AG19: 1262 | AH19: 5164 | AI19: 0 | AJ19: 4 | AK19: 37 | AL19: 9 | AM19: 28 | AN19: 0 | AO19: 45 | AP19: 38922 | AQ19: 7998 | AR19: 30924 | AS19: 0 | AT19: 1 | AU19: 0 | AV19: 0 | AW19: 1 | AX19: 10 | AY19: 17
A20: 雲林縣 | B20: Yunlin County | C20: 1 | D20: 1 | E20: 0 | F20: 0 | G20: 1 | H20: 1 | I20: 0 | J20: 6230 | K20: 356 | L20: 5872 | M20: 2 | N20: 7471 | O20: 2559 | P20: 4912 | Q20: 0 | R20: 0 | S20: 0 | T20: 0 | U20: 0 | V20: 0 | W20: 0 | X20: 0 | Y20: 0 | Z20: 55 | AA20: 402 | AB20: 63 | AC20: 339 | AD20: 0 | AE20: 1 | AF20: 289 | AG20: 15 | AH20: 274 | AI20: 0 | AJ20: 0 | AK20: 0 | AL20: 0 | AM20: 0 | AN20: 0 | AO20: 1131 | AP20: 12734 | AQ20: 2199 | AR20: 10535 | AS20: 0 | AT20: 1 | AU20: 0 | AV20: 0 | AW20: 1 | AX20: 15 | AY20: 86
A21: 嘉義縣 | B21: Chiayi County | C21: 1 | D21: 1 | E21: 0 | F21: 0 | G21: 1 | H21: 1 | I21: 0 | J21: 1023 | K21: 0 | L21: 1023 | M21: 0 | N21: 1449 | O21: 189 | P21: 1260 | Q21: 0 | R21: 0 | S21: 0 | T21: 0 | U21: 0 | V21: 32 | W21: 0 | X21: 32 | Y21: 0 | Z21: 10 | AA21: 55 | AB21: 0 | AC21: 55 | AD21: 0 | AE21: 3 | AF21: 342 | AG21: 136 | AH21: 206 | AI21: 0 | AJ21: 0 | AK21: 0 | AL21: 0 | AM21: 0 | AN21: 0 | AO21: 32 | AP21: 10589 | AQ21: 2356 | AR21: 8233 | AS21: 0 | AT21: 3 | AU21: 2 | AV21: 0 | AW21: 1 | AX21: 6 | AY21: 27
A22: 屏東縣 | B22: Pingtung County | C22: 1 | D22: 1 | E22: 0 | F22: 0 | G22: 1 | H22: 1 | I22: 0 | J22: 12400 | K22: 2048 | L22: 10352 | M22: 0 | N22: 19686 | O22: 6157 | P22: 13529 | Q22: 0 | R22: 13958 | S22: 4673 | T22: 9285 | U22: 0 | V22: 3486 | W22: 1115 | X22: 2371 | Y22: 0 | Z22: 162 | AA22: 3653 | AB22: 622 | AC22: 3031 | AD22: 0 | AE22: 7 | AF22: 68359 | AG22: 31456 | AH22: 36903 | AI22: 0 | AJ22: 10 | AK22: 183 | AL22: 28 | AM22: 155 | AN22: 0 | AO22: 13 | AP22: 3242 | AQ22: 1327 | AR22: 1915 | AS22: 0 | AT22: 4 | AU22: 0 | AV22: 0 | AW22: 4 | AX22: 78 | AY22: 416
... A30: 連江縣 | B30: Lienchiang County | C30: 1 | D30: 1 | E30: 0 | F30: 0 | G30: 1 | H30: 1 | I30: 0 | J30: 0 | K30: 0 | L30: 0 | M30: 0 | N30: 0 | O30: 0 | P30: 0 | Q30: 0 | R30: 0 | S30: 0 | T30: 0 | U30: 0 | V30: 0 | W30: 0 | X30: 0 | Y30: 0 | Z30: 0 | AA30: 0 | AB30: 0 | AC30: 0 | AD30: 0 | AE30: 0 | AF30: 0 | AG30: 0 | AH30: 0 | AI30: 0 | AJ30: 0 | AK30: 0 | AL30: 0 | AM30: 0 | AN30: 0 | AO30: 0 | AP30: 0 | AQ30: 0 | AR30: 0 | AS30: 0 | AT30: 0 | AU30: 0 | AV30: 0 | AW30: 0 | AX30: 0 | AY30: 0
A31: 資料來源：直轄市、縣(市)政府
A32: Source : County and City Government.

Sheet Jan.-June,2025
A1: 婦女福利機構服務Women's Welfare Institutional Services
A2: 地區別 Locality | C2: 一、婦女福利服務中心 Welfare Service Center | AO2: 二、婦女中途之家、庇護中心Housing/Sheltering Center
C3: 期底機構數 Number of institutions at the end of the period | J3: 服務內容Service Contents | AO3: 期底機構數 (個) Number of institutions at the end of the period | AS3: 收容數 Number of persons taken in
C4: 期底機構數 按公、私立別分 (個) Number of institutions at the end of the period | G4: 期底機構數 按服務對象分 (個) Number of institutions at the end of the period By service recipients (number) | J4: 成長活動 (人次) Growth activities (Times) | N4: 諮詢服務 (人次) Consulting Service (Person-Times) | R4: 個案管理服務 (人次) Cases Management Service (Person-Times) | V4: 就業支持服務方案(人次) Employment support service program | Z4: 團體方案 Team Scheme Service | AE4: 展覽 Exhibitions | AJ4: 研討會 Seminars | AO4: 合計 Total | AP4: 公立 Public Ins. | AQ4: 私立 Private Ins. | AR4: 公設民營Public Ins. Run by Private Ins. | AS4: 最高可收容人數 (人) No.of Providing | AT4: 本期收容個案數 (人次) Accommodated Persons (Times)
C6: 合計 Total | D6: 公立 Public Ins. | E6: 私立 Private Ins. | F6: 公設民營 Public Ins. Run by Private Ins. | G6: 合計 Total | H6: 婦女 Women | I6: 婦女及兒少 Women,children, and youths | J6: 合計 Total | K6: 男 Male | L6: 女 Female | M6: 其他 Other | N6: 合計 Total | O6: 男 Male | P6: 女 Female | Q6: 其他 Other | R6: 合計 Total | S6: 男 Male | T6: 女 Female | U6: 其他 Other | V6: 合計 Total | W6: 男 Male | X6: 女 Female | Y6: 其他 Other | Z6: 辦理 次數 Times | AA6: 參加人次 | AE6: 辦理 次數 Times | AF6: 參加人次 | AJ6: 辦理 次數 Times | AK6: 參加人次
AA7: 合計 Total | AB7: 男 Male | AC7: 女 Female | AD7: 其他 Other | AF7: 合計 Total | AG7: 男 Male | AH7: 女 Female | AI7: 其他 Other | AK7: 合計 Total | AL7: 男 Male | AM7: 女 Female | AN7: 其他 Other
A8: 114年上半年 Jan.-June, 2025 | C8: 66 | D8: 19 | E8: 0 | F8: 47 | G8: 66 | H8: 54 | I8: 12 | J8: 278780 | K8: 72295 | L8: 206464 | M8: 21 | N8: 183757 | O8: 46132 | P8: 137624 | Q8: 1 | R8: 74883 | S8: 23899 | T8: 50984 | U8: 0 | V8: 7560 | W8: 1237 | X8: 6323 | Y8: 0 | Z8: 583 | AA8: 11719 | AB8: 2124 | AC8: 9595 | AD8: 0 | AE8: 105 | AF8: 122131 | AG8: 49995 | AH8: 72136 | AI8: 0 | AJ8: 15 | AK8: 465 | AL8: 54 | AM8: 411 | AN8: 0 | AO8: 46 | AP8: 3 | AQ8: 23 | AR8: 20 | AS8: 584 | AT8: 1124
A9: 新北市 | B9: New Taipei City | C9: 3 | D9: 1 | E9: 0 | F9: 2 | G9: 3 | H9: 3 | I9: 0 | J9: 70327 | K9: 1747 | L9: 68580 | M9: 0 | N9: 27416 | O9: 1432 | P9: 25984 | Q9: 0 | R9: 892 | S9: 101 | T9: 791 | U9: 0 | V9: 0 | W9: 0 | X9: 0 | Y9: 0 | Z9: 0 | AA9: 0 | AB9: 0 | AC9: 0 | AD9: 0 | AE9: 1 | AF9: 4561 | AG9: 850 | AH9: 3711 | AI9: 0 | AJ9: 1 | AK9: 200 | AL9: 20 | AM9: 180 | AN9: 0 | AO9: 3 | AP9: 0 | AQ9: 0 | AR9: 3 | AS9: 59 | AT9: 213
A10: 臺北市 | B10: Taipei City | C10: 11 | D10: 0 | E10: 0 | F10: 11 | G10: 11 | H10: 11 | I10: 0 | J10: 3986 | K10: 728 | L10: 3258 | M10: 0 | N10: 4513 | O10: 474 | P10: 4039 | Q10: 0 | R10: 11694 | S10: 1060 | T10: 10634 | U10: 0 | V10: 360 | W10: 1 | X10: 359 | Y10: 0 | Z10: 100 | AA10: 1131 | AB10: 103 | AC10: 1028 | AD10: 0 | AE10: 1 | AF10: 3824 | AG10: 621 | AH10: 3203 | AI10: 0 | AJ10: 0 | AK10: 0 | AL10: 0 | AM10: 0 | AN10: 0 | AO10: 3 | AP10: 1 | AQ10: 0 | AR10: 2 | AS10: 144 | AT10: 120
A11: 桃園市 | B11: Taoyuan City | C11: 10 | D11: 5 | E11: 0 | F11: 5 | G11: 10 | H11: 5 | I11: 5 | J11: 118274 | K11: 51581 | L11: 66693 | M11: 0 | N11: 4681 | O11: 618 | P11: 4063 | Q11: 0 | R11: 1406 | S11: 31 | T11: 1375 | U11: 0 | V11: 462 | W11: 24 | X11: 438 | Y11: 0 | Z11: 57 | AA11: 1048 | AB11: 129 | AC11: 919 | AD11: 0 | AE11: 5 | AF11: 1718 | AG11: 567 | AH11: 1151 | AI11: 0 | AJ11: 1 | AK11: 51 | AL11: 6 | AM11: 45 | AN11: 0 | AO11: 2 | AP11: 0 | AQ11: 0 | AR11: 2 | AS11: 53 | AT11: 178
A12: 臺中市 | B12: Taichung City | C12: 12 | D12: 1 | E12: 0 | F12: 11 | G12: 12 | H12: 9 | I12: 3 | J12: 7138 | K12: 1196 | L12: 5942 | M12: 0 | N12: 15573 | O12: 2567 | P12: 13005 | Q12: 1 | R12: 4756 | S12: 244 | T12: 4512 | U12: 0 | V12: 1285 | W12: 14 | X12: 1271 | Y12: 0 | Z12: 107 | AA12: 1150 | AB12: 65 | AC12: 1085 | AD12: 0 | AE12: 52 | AF12: 3936 | AG12: 913 | AH12: 3023 | AI12: 0 | AJ12: 3 | AK12: 74 | AL12: 5 | AM12: 69 | AN12: 0 | AO12: 14 | AP12: 0 | AQ12: 14 | AR12: 0 | AS12: 72 | AT12: 93
A13: 臺南市 | B13: Tainan City | C13: 4 | D13: 0 | E13: 0 | F13: 4 | G13: 4 | H13: 4 | I13: 0 | J13: 5750 | K13: 253 | L13: 5497 | M13: 0 | N13: 23888 | O13: 9770 | P13: 14118 | Q13: 0 | R13: 43970 | S13: 17667 | T13: 26303 | U13: 0 | V13: 378 | W13: 93 | X13: 285 | Y13: 0 | Z13: 53 | AA13: 334 | AB13: 51 | AC13: 283 | AD13: 0 | AE13: 1 | AF13: 528 | AG13: 112 | AH13: 416 | AI13: 0 | AJ13: 1 | AK13: 37 | AL13: 4 | AM13: 33 | AN13: 0 | AO13: 2 | AP13: 0 | AQ13: 2 | AR13: 0 | AS13: 14 | AT13: 38
A14: 高雄市 | B14: Kaohsiung City | C14: 4 | D14: 2 | E14: 0 | F14: 2 | G14: 4 | H14: 1 | I14: 3 | J14: 43071 | K14: 11355 | L14: 31716 | M14: 0 | N14: 76041 | O14: 21750 | P14: 54291 | Q14: 0 | R14: 0 | S14: 0 | T14: 0 | U14: 0 | V14: 1935 | W14: 440 | X14: 1495 | Y14: 0 | Z14: 109 | AA14: 3503 | AB14: 382 | AC14: 3121 | AD14: 0 | AE14: 8 | AF14: 28484 | AG14: 11769 | AH14: 16715 | AI14: 0 | AJ14: 0 | AK14: 0 | AL14: 0 | AM14: 0 | AN14: 0 | AO14: 2 | AP14: 0 | AQ14: 0 | AR14: 2 | AS14: 26 | AT14: 54
A15: 宜蘭縣 | B15: Yilan County | C15: 1 | D15: 1 | E15: 0 | F15: 0 | G15: 1 | H15: 1 | I15: 0 | J15: 0 | K15: 0 | L15: 0 | M15: 0 | N15: 8903 | O15: 4051 | P15: 4852 | Q15: 0 | R15: 5614 | S15: 2680 | T15: 2934 | U15: 0 | V15: 0 | W15: 0 | X15: 0 | Y15: 0 | Z15: 0 | AA15: 0 | AB15: 0 | AC15: 0 | AD15: 0 | AE15: 0 | AF15: 0 | AG15: 0 | AH15: 0 | AI15: 0 | AJ15: 0 | AK15: 0 | AL15: 0 | AM15: 0 | AN15: 0 | AO15: 2 | AP15: 0 | AQ15: 2 | AR15: 0 | AS15: 20 | AT15: 66
A16: 新竹縣 | B16: Hsinchu County | C16: 2 | D16: 0 | E16: 0 | F16: 2 | G16: 2 | H16: 2 | I16: 0 | J16: 733 | K16: 122 | L16: 611 | M16: 0 | N16: 1083 | O16: 118 | P16: 965 | Q16: 0 | R16: 0 | S16: 0 | T16: 0 | U16: 0 | V16: 61 | W16: 0 | X16: 61 | Y16: 0 | Z16: 5 | AA16: 57 | AB16: 5 | AC16: 52 | AD16: 0 | AE16: 8 | AF16: 6714 | AG16: 3319 | AH16: 3395 | AI16: 0 | AJ16: 0 | AK16: 0 | AL16: 0 | AM16: 0 | AN16: 0 | AO16: 1 | AP16: 0 | AQ16: 1 | AR16: 0 | AS16: 18 | AT16: 8
A17: 苗栗縣 | B17: Miaoli County | C17: 1 | D17: 0 | E17: 0 | F17: 1 | G17: 1 | H17: 1 | I17: 0 | J17: 839 | K17: 88 | L17: 751 | M17: 0 | N17: 40 | O17: 0 | P17: 40 | Q17: 0 | R17: 0 | S17: 0 | T17: 0 | U17: 0 | V17: 6 | W17: 0 | X17: 6 | Y17: 0 | Z17: 0 | AA17: 0 | AB17: 0 | AC17: 0 | AD17: 0 | AE17: 1 | AF17: 330 | AG17: 50 | AH17: 280 | AI17: 0 | AJ17: 0 | AK17: 0 | AL17: 0 | AM17: 0 | AN17: 0 | AO17: 1 | AP17: 0 | AQ17: 0 | AR17: 1 | AS17: 4 | AT17: 1
A18: 彰化縣 | B18: Changhua County | C18: 2 | D18: 0 | E18: 0 | F18: 2 | G18: 2 | H18: 2 | I18: 0 | J18: 856 | K18: 43 | L18: 813 | M18: 0 | N18: 2112 | O18: 244 | P18: 1868 | Q18: 0 | R18: 0 | S18: 0 | T18: 0 | U18: 0 | V18: 147 | W18: 0 | X18: 147 | Y18: 0 | Z18: 4 | AA18: 294 | AB18: 85 | AC18: 209 | AD18: 0 | AE18: 8 | AF18: 6063 | AG18: 1416 | AH18: 4647 | AI18: 0 | AJ18: 0 | AK18: 0 | AL18: 0 | AM18: 0 | AN18: 0 | AO18: 2 | AP18: 0 | AQ18: 1 | AR18: 1 | AS18: 13 | AT18: 13
A19: 南投縣 | B19: Nantou County | C19: 4 | D19: 0 | E19: 0 | F19: 4 | G19: 4 | H19: 4 | I19: 0 | J19: 597 | K19: 120 | L19: 477 | M19: 0 | N19: 702 | O19: 104 | P19: 598 | Q19: 0 | R19: 59 | S19: 0 | T19: 59 | U19: 0 | V19: 0 | W19: 0 | X19: 0 | Y19: 0 | Z19: 57 | AA19: 2787 | AB19: 1126 | AC19: 1661 | AD19: 0 | AE19: 10 | AF19: 5881 | AG19: 1174 | AH19: 4707 | AI19: 0 | AJ19: 0 | AK19: 0 | AL19: 0 | AM19: 0 | AN19: 0 | AO19: 1 | AP19: 0 | AQ19: 0 | AR19: 1 | AS19: 6 | AT19: 5
A20: 雲林縣 | B20: Yunlin County | C20: 1 | D20: 1 | E20: 0 | F20: 0 | G20: 1 | H20: 1 | I20: 0 | J20: 1203 | K20: 178 | L20: 1025 | M20: 0 | N20: 2176 | O20: 998 | P20: 1178 | Q20: 0 | R20: 0 | S20: 0 | T20: 0 | U20: 0 | V20: 0 | W20: 0 | X20: 0 | Y20: 0 | Z20: 8 | AA20: 61 | AB20: 4 | AC20: 57 | AD20: 0 | AE20: 1 | AF20: 289 | AG20: 15 | AH20: 274 | AI20: 0 | AJ20: 0 | AK20: 0 | AL20: 0 | AM20: 0 | AN20: 0 | AO20: 1 | AP20: 0 | AQ20: 0 | AR20: 1 | AS20: 15 | AT20: 30
... A30: 連江縣 | B30: Lienchiang County | C30: 1 | D30: 1 | E30: 0 | F30: 0 | G30: 1 | H30: 1 | I30: 0 | J30: 0 | K30: 0 | L30: 0 | M30: 0 | N30: 0 | O30: 0 | P30: 0 | Q30: 0 | R30: 0 | S30: 0 | T30: 0 | U30: 0 | V30: 0 | W30: 0 | X30: 0 | Y30: 0 | Z30: 0 | AA30: 0 | AB30: 0 | AC30: 0 | AD30: 0 | AE30: 0 | AF30: 0 | AG30: 0 | AH30: 0 | AI30: 0 | AJ30: 0 | AK30: 0 | AL30: 0 | AM30: 0 | AN30: 0 | AO30: 0 | AP30: 0 | AQ30: 0 | AR30: 0 | AS30: 0 | AT30: 0
A31: 資料來源：直轄市、縣(市)政府
A32: Source : County and City Government.
A58: 114年上半年 Jan.-June, 2025 | C58: =C8/'Jan.-June,2024'!C8-1 -> 0.015384615 | D58: =D8/'Jan.-June,2024'!D8-1 -> 0 | E58: =E8/'Jan.-June,2024'!E8-1 -> #DIV/0! | F58: =F8/'Jan.-June,2024'!F8-1 -> 0.02173913 | G58: =G8/'Jan.-June,2024'!G8-1 -> 0.015384615 | H58: =H8/'Jan.-June,2024'!H8-1 -> 0.038461538 | I58: =I8/'Jan.-June,2024'!I8-1 -> -0.076923077 | J58: =J8/'Jan.-June,2024'!J8-1 -> -0.00704875 | ... AN58: =AN8/'Jan.-June,2024'!AN8-1 -> -1 | AO58: =AO8/'Jan.-June,2024'!AT8-1 -> -0.021276596 | AP58: =AP8/'Jan.-June,2024'!AU8-1 -> -0.57142857 | AQ58: =AQ8/'Jan.-June,2024'!AV8-1 -> 0 | AR58: =AR8/'Jan.-June,2024'!AW8-1 -> 0.17647059 | AS58: =AS8/'Jan.-June,2024'!AX8-1 -> 0.013888889 | AT58: =AT8/'Jan.-June,2024'!AY8-1 -> 0.072519084
A59: 新北市 | B59: New Taipei City | C59: =C9/'Jan.-June,2024'!C9-1 -> 0 | D59: =D9/'Jan.-June,2024'!D9-1 -> 0 | E59: =E9/'Jan.-June,2024'!E9-1 -> #DIV/0! | F59: =F9/'Jan.-June,2024'!F9-1 -> 0 | G59: =G9/'Jan.-June,2024'!G9-1 -> 0 | H59: =H9/'Jan.-June,2024'!H9-1 -> 0 | I59: =I9/'Jan.-June,2024'!I9-1 -> #DIV/0! | J59: =J9/'Jan.-June,2024'!J9-1 -> -0.11215614 | ... AN59: =AN9/'Jan.-June,2024'!AN9-1 -> #DIV/0! | AO59: =AO9/'Jan.-June,2024'!AT9-1 -> 0 | AP59: =AP9/'Jan.-June,2024'!AU9-1 -> #DIV/0! | AQ59: =AQ9/'Jan.-June,2024'!AV9-1 -> #DIV/0! | AR59: =AR9/'Jan.-June,2024'!AW9-1 -> 0 | AS59: =AS9/'Jan.-June,2024'!AX9-1 -> 0 | AT59: =AT9/'Jan.-June,2024'!AY9-1 -> 0.33125
A60: 臺北市 | B60: Taipei City | C60: =C10/'Jan.-June,2024'!C10-1 -> 0 | D60: =D10/'Jan.-June,2024'!D10-1 -> #DIV/0! | E60: =E10/'Jan.-June,2024'!E10-1 -> #DIV/0! | F60: =F10/'Jan.-June,2024'!F10-1 -> 0 | G60: =G10/'Jan.-June,2024'!G10-1 -> 0 | H60: =H10/'Jan.-June,2024'!H10-1 -> 0 | I60: =I10/'Jan.-June,2024'!I10-1 -> #DIV/0! | J60: =J10/'Jan.-June,2024'!J10-1 -> -0.45262291 | ... AN60: =AN10/'Jan.-June,2024'!AN10-1 -> #DIV/0! | AO60: =AO10/'Jan.-June,2024'!AT10-1 -> 0 | AP60: =AP10/'Jan.-June,2024'!AU10-1 -> 0 | AQ60: =AQ10/'Jan.-June,2024'!AV10-1 -> #DIV/0! | AR60: =AR10/'Jan.-June,2024'!AW10-1 -> 0 | AS60: =AS10/'Jan.-June,2024'!AX10-1 -> -0.046357616 | AT60: =AT10/'Jan.-June,2024'!AY10-1 -> 0.17647059
A61: 桃園市 | B61: Taoyuan City | C61: =C11/'Jan.-June,2024'!C11-1 -> 0.11111111 | D61: =D11/'Jan.-June,2024'!D11-1 -> 0 | E61: =E11/'Jan.-June,2024'!E11-1 -> #DIV/0! | F61: =F11/'Jan.-June,2024'!F11-1 -> 0.25 | G61: =G11/'Jan.-June,2024'!G11-1 -> 0.11111111 | H61: =H11/'Jan.-June,2024'!H11-1 -> 0.25 | I61: =I11/'Jan.-June,2024'!I11-1 -> 0 | J61: =J11/'Jan.-June,2024'!J11-1 -> 0.43225275 | ... AN61: =AN11/'Jan.-June,2024'!AN11-1 -> #DIV/0! | AO61: =AO11/'Jan.-June,2024'!AT11-1 -> 0 | AP61: =AP11/'Jan.-June,2024'!AU11-1 -> #DIV/0! | AQ61: =AQ11/'Jan.-June,2024'!AV11-1 -> #DIV/0! | AR61: =AR11/'Jan.-June,2024'!AW11-1 -> 0 | AS61: =AS11/'Jan.-June,2024'!AX11-1 -> 0 | AT61: =AT11/'Jan.-June,2024'!AY11-1 -> 0.0056497175
A62: 臺中市 | B62: Taichung City | C62: =C12/'Jan.-June,2024'!C12-1 -> 0 | D62: =D12/'Jan.-June,2024'!D12-1 -> 0 | E62: =E12/'Jan.-June,2024'!E12-1 -> #DIV/0! | F62: =F12/'Jan.-June,2024'!F12-1 -> 0 | G62: =G12/'Jan.-June,2024'!G12-1 -> 0 | H62: =H12/'Jan.-June,2024'!H12-1 -> 0 | I62: =I12/'Jan.-June,2024'!I12-1 -> 0 | J62: =J12/'Jan.-June,2024'!J12-1 -> 0.28265948 | ... AN62: =AN12/'Jan.-June,2024'!AN12-1 -> -1 | AO62: =AO12/'Jan.-June,2024'!AT12-1 -> 0 | AP62: =AP12/'Jan.-June,2024'!AU12-1 -> #DIV/0! | AQ62: =AQ12/'Jan.-June,2024'!AV12-1 -> 0 | AR62: =AR12/'Jan.-June,2024'!AW12-1 -> #DIV/0! | AS62: =AS12/'Jan.-June,2024'!AX12-1 -> 0 | AT62: =AT12/'Jan.-June,2024'!AY12-1 -> 0.13414634
A63: 臺南市 | B63: Tainan City | C63: =C13/'Jan.-June,2024'!C13-1 -> 0 | D63: =D13/'Jan.-June,2024'!D13-1 -> #DIV/0! | E63: =E13/'Jan.-June,2024'!E13-1 -> #DIV/0! | F63: =F13/'Jan.-June,2024'!F13-1 -> 0 | G63: =G13/'Jan.-June,2024'!G13-1 -> 0 | H63: =H13/'Jan.-June,2024'!H13-1 -> 0 | I63: =I13/'Jan.-June,2024'!I13-1 -> #DIV/0! | J63: =J13/'Jan.-June,2024'!J13-1 -> 0.064814815 | ... AN63: =AN13/'Jan.-June,2024'!AN13-1 -> -1 | AO63: =AO13/'Jan.-June,2024'!AT13-1 -> 0 | AP63: =AP13/'Jan.-June,2024'!AU13-1 -> #DIV/0! | AQ63: =AQ13/'Jan.-June,2024'!AV13-1 -> 0 | AR63: =AR13/'Jan.-June,2024'!AW13-1 -> #DIV/0! | AS63: =AS13/'Jan.-June,2024'!AX13-1 -> 0 | AT63: =AT13/'Jan.-June,2024'!AY13-1 -> 0.52
A64: 高雄市 | B64: Kaohsiung City | C64: =C14/'Jan.-June,2024'!C14-1 -> 0 | D64: =D14/'Jan.-June,2024'!D14-1 -> 0 | E64: =E14/'Jan.-June,2024'!E14-1 -> #DIV/0! | F64: =F14/'Jan.-June,2024'!F14-1 -> 0 | G64: =G14/'Jan.-June,2024'!G14-1 -> 0 | H64: =H14/'Jan.-June,2024'!H14-1 -> 0 | I64: =I14/'Jan.-June,2024'!I14-1 -> 0 | J64: =J14/'Jan.-June,2024'!J14-1 -> -0.057836596 | ... AN64: =AN14/'Jan.-June,2024'!AN14-1 -> #DIV/0! | AO64: =AO14/'Jan.-June,2024'!AT14-1 -> 0 | AP64: =AP14/'Jan.-June,2024'!AU14-1 -> #DIV/0! | AQ64: =AQ14/'Jan.-June,2024'!AV14-1 -> #DIV/0! | AR64: =AR14/'Jan.-June,2024'!AW14-1 -> 0 | AS64: =AS14/'Jan.-June,2024'!AX14-1 -> 0 | AT64: =AT14/'Jan.-June,2024'!AY14-1 -> 0.58823529
A65: 宜蘭縣 | B65: Yilan County | C65: =C15/'Jan.-June,2024'!C15-1 -> 0 | D65: =D15/'Jan.-June,2024'!D15-1 -> 0 | E65: =E15/'Jan.-June,2024'!E15-1 -> #DIV/0! | F65: =F15/'Jan.-June,2024'!F15-1 -> #DIV/0! | G65: =G15/'Jan.-June,2024'!G15-1 -> 0 | H65: =H15/'Jan.-June,2024'!H15-1 -> 0 | I65: =I15/'Jan.-June,2024'!I15-1 -> #DIV/0! | J65: =J15/'Jan.-June,2024'!J15-1 -> #DIV/0! | ... AN65: =AN15/'Jan.-June,2024'!AN15-1 -> -1 | AO65: =AO15/'Jan.-June,2024'!AT15-1 -> 0 | AP65: =AP15/'Jan.-June,2024'!AU15-1 -> #DIV/0! | AQ65: =AQ15/'Jan.-June,2024'!AV15-1 -> 0 | AR65: =AR15/'Jan.-June,2024'!AW15-1 -> #DIV/0! | AS65: =AS15/'Jan.-June,2024'!AX15-1 -> 0 | AT65: =AT15/'Jan.-June,2024'!AY15-1 -> 0.13793103
A66: 新竹縣 | B66: Hsinchu County | C66: =C16/'Jan.-June,2024'!C16-1 -> 0 | D66: =D16/'Jan.-June,2024'!D16-1 -> #DIV/0! | E66: =E16/'Jan.-June,2024'!E16-1 -> #DIV/0! | F66: =F16/'Jan.-June,2024'!F16-1 -> 0 | G66: =G16/'Jan.-June,2024'!G16-1 -> 0 | H66: =H16/'Jan.-June,2024'!H16-1 -> 0 | I66: =I16/'Jan.-June,2024'!I16-1 -> #DIV/0! | J66: =J16/'Jan.-June,2024'!J16-1 -> -0.24743326 | ... AN66: =AN16/'Jan.-June,2024'!AN16-1 -> -1 | AO66: =AO16/'Jan.-June,2024'!AT16-1 -> 0 | AP66: =AP16/'Jan.-June,2024'!AU16-1 -> #DIV/0! | AQ66: =AQ16/'Jan.-June,2024'!AV16-1 -> 0 | AR66: =AR16/'Jan.-June,2024'!AW16-1 -> #DIV/0! | AS66: =AS16/'Jan.-June,2024'!AX16-1 -> 2 | AT66: =AT16/'Jan.-June,2024'!AY16-1 -> -0.66666667
A67: 苗栗縣 | B67: Miaoli County | C67: =C17/'Jan.-June,2024'!C17-1 -> 0 | D67: =D17/'Jan.-June,2024'!D17-1 -> #DIV/0! | E67: =E17/'Jan.-June,2024'!E17-1 -> #DIV/0! | F67: =F17/'Jan.-June,2024'!F17-1 -> 0 | G67: =G17/'Jan.-June,2024'!G17-1 -> 0 | H67: =H17/'Jan.-June,2024'!H17-1 -> 0 | I67: =I17/'Jan.-June,2024'!I17-1 -> #DIV/0! | J67: =J17/'Jan.-June,2024'!J17-1 -> 1.550152 | ... AN67: =AN17/'Jan.-June,2024'!AN17-1 -> #DIV/0! | AO67: =AO17/'Jan.-June,2024'!AT17-1 -> 0 | AP67: =AP17/'Jan.-June,2024'!AU17-1 -> #DIV/0! | AQ67: =AQ17/'Jan.-June,2024'!AV17-1 -> #DIV/0! | AR67: =AR17/'Jan.-June,2024'!AW17-1 -> 0 | AS67: =AS17/'Jan.-June,2024'!AX17-1 -> 0 | AT67: =AT17/'Jan.-June,2024'!AY17-1 -> -0.90909091
A68: 彰化縣 | B68: Changhua County | C68: =C18/'Jan.-June,2024'!C18-1 -> 0 | D68: =D18/'Jan.-June,2024'!D18-1 -> #DIV/0! | E68: =E18/'Jan.-June,2024'!E18-1 -> #DIV/0! | F68: =F18/'Jan.-June,2024'!F18-1 -> 0 | G68: =G18/'Jan.-June,2024'!G18-1 -> 0 | H68: =H18/'Jan.-June,2024'!H18-1 -> 0 | I68: =I18/'Jan.-June,2024'!I18-1 -> #DIV/0! | J68: =J18/'Jan.-June,2024'!J18-1 -> 0.19220056 | ... AN68: =AN18/'Jan.-June,2024'!AN18-1 -> -1 | AO68: =AO18/'Jan.-June,2024'!AT18-1 -> 0 | AP68: =AP18/'Jan.-June,2024'!AU18-1 -> #DIV/0! | AQ68: =AQ18/'Jan.-June,2024'!AV18-1 -> 0 | AR68: =AR18/'Jan.-June,2024'!AW18-1 -> 0 | AS68: =AS18/'Jan.-June,2024'!AX18-1 -> 0 | AT68: =AT18/'Jan.-June,2024'!AY18-1 -> -0.071428571
A69: 南投縣 | B69: Nantou County | C69: =C19/'Jan.-June,2024'!C19-1 -> 0 | D69: =D19/'Jan.-June,2024'!D19-1 -> #DIV/0! | E69: =E19/'Jan.-June,2024'!E19-1 -> #DIV/0! | F69: =F19/'Jan.-June,2024'!F19-1 -> 0 | G69: =G19/'Jan.-June,2024'!G19-1 -> 0 | H69: =H19/'Jan.-June,2024'!H19-1 -> 0 | I69: =I19/'Jan.-June,2024'!I19-1 -> #DIV/0! | J69: =J19/'Jan.-June,2024'!J19-1 -> -0.50904605 | ... AN69: =AN19/'Jan.-June,2024'!AN19-1 -> #DIV/0! | AO69: =AO19/'Jan.-June,2024'!AT19-1 -> 0 | AP69: =AP19/'Jan.-June,2024'!AU19-1 -> #DIV/0! | AQ69: =AQ19/'Jan.-June,2024'!AV19-1 -> #DIV/0! | AR69: =AR19/'Jan.-June,2024'!AW19-1 -> 0 | AS69: =AS19/'Jan.-June,2024'!AX19-1 -> 0 | AT69: =AT19/'Jan.-June,2024'!AY19-1 -> -0.28571429
A70: 雲林縣 | B70: Yunlin County | C70: =C20/'Jan.-June,2024'!C20-1 -> 0 | D70: =D20/'Jan.-June,2024'!D20-1 -> 0 | E70: =E20/'Jan.-June,2024'!E20-1 -> #DIV/0! | F70: =F20/'Jan.-June,2024'!F20-1 -> #DIV/0! | G70: =G20/'Jan.-June,2024'!G20-1 -> 0 | H70: =H20/'Jan.-June,2024'!H20-1 -> 0 | I70: =I20/'Jan.-June,2024'!I20-1 -> #DIV/0! | J70: =J20/'Jan.-June,2024'!J20-1 -> -0.62347418 | ... AN70: =AN20/'Jan.-June,2024'!AN20-1 -> #DIV/0! | AO70: =AO20/'Jan.-June,2024'!AT20-1 -> 0 | AP70: =AP20/'Jan.-June,2024'!AU20-1 -> #DIV/0! | AQ70: =AQ20/'Jan.-June,2024'!AV20-1 -> #DIV/0! | AR70: =AR20/'Jan.-June,2024'!AW20-1 -> 0 | AS70: =AS20/'Jan.-June,2024'!AX20-1 -> 0 | AT70: =AT20/'Jan.-June,2024'!AY20-1 -> -0.14285714
... A80: 連江縣 | B80: Lienchiang County | C80: =C30/'Jan.-June,2024'!C30-1 -> 0 | D80: =D30/'Jan.-June,2024'!D30-1 -> 0 | E80: =E30/'Jan.-June,2024'!E30-1 -> #DIV/0! | F80: =F30/'Jan.-June,2024'!F30-1 -> #DIV/0! | G80: =G30/'Jan.-June,2024'!G30-1 -> 0 | H80: =H30/'Jan.-June,2024'!H30-1 -> 0 | I80: =I30/'Jan.-June,2024'!I30-1 -> #DIV/0! | J80: =J30/'Jan.-June,2024'!J30-1 -> #DIV/0! | ... AN80: =AN30/'Jan.-June,2024'!AN30-1 -> #DIV/0! | AO80: =AO30/'Jan.-June,2024'!AT30-1 -> #DIV/0! | AP80: =AP30/'Jan.-June,2024'!AU30-1 -> #DIV/0! | AQ80: =AQ30/'Jan.-June,2024'!AV30-1 -> #DIV/0! | AR80: =AR30/'Jan.-June,2024'!AW30-1 -> #DIV/0! | AS80: =AS30/'Jan.-June,2024'!AX30-1 -> #DIV/0! | AT80: =AT30/'Jan.-June,2024'!AY30-1 -> #DIV/0!

Sheet July-Dec.,2025
A1: 婦女福利機構服務Women's Welfare Institutional Services
A2: 地區別 Locality | C2: 一、婦女福利服務中心 Welfare Service Center | AT2: 二、婦女中途之家、庇護中心Housing/Sheltering Center
C3: 期底機構數 Number of institutions at the end of the period | J3: 服務內容Service Contents | AT3: 期底機構數 (個) Number of institutions at the end of the period | AX3: 收容數 Number of persons taken in
C4: 期底機構數 按公、私立別分 (個) Number of institutions at the end of the period | G4: 期底機構數 按服務對象分 (個) Number of institutions at the end of the period By service recipients (number) | J4: 成長活動 (人次) Growth activities (Times) | N4: 諮詢服務 (人次) Consulting Service (Person-Times) | R4: 個案管理服務 (人次) Cases Management Service (Person-Times) | V4: 就業支持服務方案(人次) Employment support service program | Z4: 團體方案 Team Scheme Service | AE4: 展覽 Exhibitions | AJ4: 研討會 Seminars | AO4: 其他 Others | AT4: 合計 Total | AU4: 公立 Public Ins. | AV4: 私立 Private Ins. | AW4: 公設民營Public Ins. Run by Private Ins. | AX4: 最高可收容人數 (人) No.of Providing | AY4: 本期收容個案數 (人次) Accommodated Persons (Times)
C6: 合計 Total | D6: 公立 Public Ins. | E6: 私立 Private Ins. | F6: 公設民營 Public Ins. Run by Private Ins. | G6: 合計 Total | H6: 婦女 Women | I6: 婦女及兒少 Women,children, and youths | J6: 合計 Total | K6: 男 Male | L6: 女 Female | M6: 其他 Other | N6: 合計 Total | O6: 男 Male | P6: 女 Female | Q6: 其他 Other | R6: 合計 Total | S6: 男 Male | T6: 女 Female | U6: 其他 Other | V6: 合計 Total | W6: 男 Male | X6: 女 Female | Y6: 其他 Other | Z6: 辦理 次數 Times | AA6: 參加人次 | AE6: 辦理 次數 Times | AF6: 參加人次 | AJ6: 辦理 次數 Times | AK6: 參加人次 | AO6: 辦理 次數 Times | AP6: 參加人次
AA7: 合計 Total | AB7: 男 Male | AC7: 女 Female | AD7: 其他 Other | AF7: 合計 Total | AG7: 男 Male | AH7: 女 Female | AI7: 其他 Other | AK7: 合計 Total | AL7: 男 Male | AM7: 女 Female | AN7: 其他 Other | AP7: 合計 Total | AQ7: 男 Male | AR7: 女 Female | AS7: 其他 Other
A8: 114年下半年 July-Dec., 2025 | C8: 66 | D8: 19 | E8: 0 | F8: 47 | G8: 66 | H8: 53 | I8: 13 | J8: 425969 | K8: 102969 | L8: 322773 | M8: 227 | N8: 367633 | O8: 52127 | P8: 314985 | Q8: 521 | R8: 60572 | S8: 15380 | T8: 45192 | U8: 0 | V8: 22770 | W8: 3952 | X8: 18787 | Y8: 31 | Z8: 1429 | AA8: 28906 | AB8: 5087 | AC8: 23819 | AD8: 0 | AE8: 213 | AF8: 97211 | AG8: 26148 | AH8: 62875 | AI8: 8188 | AJ8: 34 | AK8: 648 | AL8: 86 | AM8: 562 | AN8: 0 | AO8: 9478 | AP8: 3301158 | AQ8: 499128 | AR8: 2801674 | AS8: 356 | AT8: 47 | AU8: 3 | AV8: 24 | AW8: 20 | AX8: 575 | AY8: 1017
A9: 新北市 | B9: New Taipei City | C9: 3 | D9: 1 | E9: 0 | F9: 2 | G9: 3 | H9: 3 | I9: 0 | J9: 92345 | K9: 3824 | L9: 88521 | M9: 0 | N9: 23423 | O9: 1165 | P9: 22258 | Q9: 0 | R9: 1039 | S9: 125 | T9: 914 | U9: 0 | V9: 450 | W9: 30 | X9: 420 | Y9: 0 | Z9: 17 | AA9: 361 | AB9: 53 | AC9: 308 | AD9: 0 | AE9: 8 | AF9: 9177 | AG9: 2117 | AH9: 7060 | AI9: 0 | AJ9: 0 | AK9: 0 | AL9: 0 | AM9: 0 | AN9: 0 | AO9: 13 | AP9: 1955 | AQ9: 541 | AR9: 1414 | AS9: 0 | AT9: 3 | AU9: 0 | AV9: 0 | AW9: 3 | AX9: 59 | AY9: 54
A10: 臺北市 | B10: Taipei City | C10: 11 | D10: 0 | E10: 0 | F10: 11 | G10: 11 | H10: 11 | I10: 0 | J10: 80429 | K10: 18821 | L10: 61600 | M10: 8 | N10: 169806 | O10: 577 | P10: 169228 | Q10: 1 | R10: 15735 | S10: 1450 | T10: 14285 | U10: 0 | V10: 410 | W10: 3 | X10: 407 | Y10: 0 | Z10: 264 | AA10: 4312 | AB10: 871 | AC10: 3441 | AD10: 0 | AE10: 11 | AF10: 10064 | AG10: 2081 | AH10: 7980 | AI10: 3 | AJ10: 2 | AK10: 16 | AL10: 3 | AM10: 13 | AN10: 0 | AO10: 4026 | AP10: 1554237 | AQ10: 221644 | AR10: 1332255 | AS10: 338 | AT10: 3 | AU10: 1 | AV10: 0 | AW10: 2 | AX10: 144 | AY10: 155
A11: 桃園市 | B11: Taoyuan City | C11: 10 | D11: 5 | E11: 0 | F11: 5 | G11: 10 | H11: 5 | I11: 5 | J11: 171204 | K11: 68919 | L11: 102285 | M11: 0 | N11: 6635 | O11: 777 | P11: 5858 | Q11: 0 | R11: 1729 | S11: 97 | T11: 1632 | U11: 0 | V11: 790 | W11: 32 | X11: 758 | Y11: 0 | Z11: 87 | AA11: 1807 | AB11: 529 | AC11: 1278 | AD11: 0 | AE11: 10 | AF11: 3087 | AG11: 823 | AH11: 2264 | AI11: 0 | AJ11: 0 | AK11: 0 | AL11: 0 | AM11: 0 | AN11: 0 | AO11: 0 | AP11: 0 | AQ11: 0 | AR11: 0 | AS11: 0 | AT11: 2 | AU11: 0 | AV11: 0 | AW11: 2 | AX11: 53 | AY11: 194
A12: 臺中市 | B12: Taichung City | C12: 12 | D12: 1 | E12: 0 | F12: 11 | G12: 12 | H12: 9 | I12: 3 | J12: 11816 | K12: 1751 | L12: 10012 | M12: 53 | N12: 18186 | O12: 2814 | P12: 15366 | Q12: 6 | R12: 8266 | S12: 679 | T12: 7587 | U12: 0 | V12: 12979 | W12: 1781 | X12: 11167 | Y12: 31 | Z12: 114 | AA12: 1658 | AB12: 139 | AC12: 1519 | AD12: 0 | AE12: 105 | AF12: 40255 | AG12: 12045 | AH12: 20025 | AI12: 8185 | AJ12: 4 | AK12: 87 | AL12: 8 | AM12: 79 | AN12: 0 | AO12: 282 | AP12: 1498440 | AQ12: 215173 | AR12: 1283249 | AS12: 18 | AT12: 15 | AU12: 0 | AV12: 15 | AW12: 0 | AX12: 76 | AY12: 118
A13: 臺南市 | B13: Tainan City | C13: 4 | D13: 0 | E13: 0 | F13: 4 | G13: 4 | H13: 4 | I13: 0 | J13: 4833 | K13: 488 | L13: 4345 | M13: 0 | N13: 11097 | O13: 3865 | P13: 7232 | Q13: 0 | R13: 19660 | S13: 7205 | T13: 12455 | U13: 0 | V13: 906 | W13: 153 | X13: 753 | Y13: 0 | Z13: 293 | AA13: 4215 | AB13: 1058 | AC13: 3157 | AD13: 0 | AE13: 2 | AF13: 38 | AG13: 5 | AH13: 33 | AI13: 0 | AJ13: 18 | AK13: 365 | AL13: 54 | AM13: 311 | AN13: 0 | AO13: 697 | AP13: 8347 | AQ13: 2074 | AR13: 6273 | AS13: 0 | AT13: 2 | AU13: 0 | AV13: 2 | AW13: 0 | AX13: 14 | AY13: 15
A14: 高雄市 | B14: Kaohsiung City | C14: 4 | D14: 2 | E14: 0 | F14: 2 | G14: 4 | H14: 1 | I14: 3 | J14: 6943 | K14: 891 | L14: 6052 | M14: 0 | N14: 69730 | O14: 25189 | P14: 44541 | Q14: 0 | R14: 0 | S14: 0 | T14: 0 | U14: 0 | V14: 3167 | W14: 1240 | X14: 1927 | Y14: 0 | Z14: 262 | AA14: 8602 | AB14: 1357 | AC14: 7245 | AD14: 0 | AE14: 10 | AF14: 17825 | AG14: 5184 | AH14: 12641 | AI14: 0 | AJ14: 0 | AK14: 0 | AL14: 0 | AM14: 0 | AN14: 0 | AO14: 2267 | AP14: 107105 | AQ14: 28235 | AR14: 78870 | AS14: 0 | AT14: 2 | AU14: 0 | AV14: 0 | AW14: 2 | AX14: 22 | AY14: 52
A15: 宜蘭縣 | B15: Yilan County | C15: 1 | D15: 1 | E15: 0 | F15: 0 | G15: 1 | H15: 1 | I15: 0 | J15: 46 | K15: 15 | L15: 31 | M15: 0 | N15: 10357 | O15: 4990 | P15: 5367 | Q15: 0 | R15: 6645 | S15: 3260 | T15: 3385 | U15: 0 | V15: 0 | W15: 0 | X15: 0 | Y15: 0 | Z15: 0 | AA15: 0 | AB15: 0 | AC15: 0 | AD15: 0 | AE15: 0 | AF15: 0 | AG15: 0 | AH15: 0 | AI15: 0 | AJ15: 0 | AK15: 0 | AL15: 0 | AM15: 0 | AN15: 0 | AO15: 0 | AP15: 0 | AQ15: 0 | AR15: 0 | AS15: 0 | AT15: 2 | AU15: 0 | AV15: 2 | AW15: 0 | AX15: 20 | AY15: 60
A16: 新竹縣 | B16: Hsinchu County | C16: 2 | D16: 0 | E16: 0 | F16: 2 | G16: 2 | H16: 2 | I16: 0 | J16: 1472 | K16: 417 | L16: 1055 | M16: 0 | N16: 33254 | O16: 6554 | P16: 26700 | Q16: 0 | R16: 0 | S16: 0 | T16: 0 | U16: 0 | V16: 132 | W16: 11 | X16: 121 | Y16: 0 | Z16: 27 | AA16: 423 | AB16: 17 | AC16: 406 | AD16: 0 | AE16: 0 | AF16: 0 | AG16: 0 | AH16: 0 | AI16: 0 | AJ16: 0 | AK16: 0 | AL16: 0 | AM16: 0 | AN16: 0 | AO16: 0 | AP16: 0 | AQ16: 0 | AR16: 0 | AS16: 0 | AT16: 1 | AU16: 0 | AV16: 1 | AW16: 0 | AX16: 10 | AY16: 21
A17: 苗栗縣 | B17: Miaoli County | C17: 1 | D17: 0 | E17: 0 | F17: 1 | G17: 1 | H17: 1 | I17: 0 | J17: 1759 | K17: 586 | L17: 1173 | M17: 0 | N17: 51 | O17: 0 | P17: 51 | Q17: 0 | R17: 0 | S17: 0 | T17: 0 | U17: 0 | V17: 9 | W17: 0 | X17: 9 | Y17: 0 | Z17: 0 | AA17: 0 | AB17: 0 | AC17: 0 | AD17: 0 | AE17: 22 | AF17: 830 | AG17: 276 | AH17: 554 | AI17: 0 | AJ17: 0 | AK17: 0 | AL17: 0 | AM17: 0 | AN17: 0 | AO17: 80 | AP17: 57584 | AQ17: 15885 | AR17: 41699 | AS17: 0 | AT17: 1 | AU17: 0 | AV17: 0 | AW17: 1 | AX17: 4 | AY17: 0
A18: 彰化縣 | B18: Changhua County | C18: 2 | D18: 0 | E18: 0 | F18: 2 | G18: 2 | H18: 2 | I18: 0 | J18: 2155 | K18: 172 | L18: 1983 | M18: 0 | N18: 1038 | O18: 74 | P18: 964 | Q18: 0 | R18: 0 | S18: 0 | T18: 0 | U18: 0 | V18: 168 | W18: 0 | X18: 168 | Y18: 0 | Z18: 19 | AA18: 1583 | AB18: 140 | AC18: 1443 | AD18: 0 | AE18: 3 | AF18: 4151 | AG18: 639 | AH18: 3512 | AI18: 0 | AJ18: 0 | AK18: 0 | AL18: 0 | AM18: 0 | AN18: 0 | AO18: 87 | AP18: 3842 | AQ18: 734 | AR18: 3108 | AS18: 0 | AT18: 2 | AU18: 0 | AV18: 1 | AW18: 1 | AX18: 13 | AY18: 29
A19: 南投縣 | B19: Nantou County | C19: 4 | D19: 0 | E19: 0 | F19: 4 | G19: 4 | H19: 4 | I19: 0 | J19: 2707 | K19: 1169 | L19: 1538 | M19: 0 | N19: 1269 | O19: 285 | P19: 984 | Q19: 0 | R19: 32 | S19: 7 | T19: 25 | U19: 0 | V19: 355 | W19: 45 | X19: 310 | Y19: 0 | Z19: 94 | AA19: 1620 | AB19: 276 | AC19: 1344 | AD19: 0 | AE19: 29 | AF19: 545 | AG19: 88 | AH19: 457 | AI19: 0 | AJ19: 4 | AK19: 37 | AL19: 9 | AM19: 28 | AN19: 0 | AO19: 45 | AP19: 38922 | AQ19: 7998 | AR19: 30924 | AS19: 0 | AT19: 1 | AU19: 0 | AV19: 0 | AW19: 1 | AX19: 10 | AY19: 12
A20: 雲林縣 | B20: Yunlin County | C20: 1 | D20: 1 | E20: 0 | F20: 0 | G20: 1 | H20: 1 | I20: 0 | J20: 5027 | K20: 178 | L20: 4847 | M20: 2 | N20: 5295 | O20: 1561 | P20: 3734 | Q20: 0 | R20: 0 | S20: 0 | T20: 0 | U20: 0 | V20: 0 | W20: 0 | X20: 0 | Y20: 0 | Z20: 47 | AA20: 341 | AB20: 59 | AC20: 282 | AD20: 0 | AE20: 0 | AF20: 0 | AG20: 0 | AH20: 0 | AI20: 0 | AJ20: 0 | AK20: 0 | AL20: 0 | AM20: 0 | AN20: 0 | AO20: 1131 | AP20: 12734 | AQ20: 2199 | AR20: 10535 | AS20: 0 | AT20: 1 | AU20: 0 | AV20: 0 | AW20: 1 | AX20: 15 | AY20: 56
... A30: 連江縣 | B30: Lienchiang County | C30: 1 | D30: 1 | E30: 0 | F30: 0 | G30: 1 | H30: 1 | I30: 0 | J30: 0 | K30: 0 | L30: 0 | M30: 0 | N30: 0 | O30: 0 | P30: 0 | Q30: 0 | R30: 0 | S30: 0 | T30: 0 | U30: 0 | V30: 0 | W30: 0 | X30: 0 | Y30: 0 | Z30: 0 | AA30: 0 | AB30: 0 | AC30: 0 | AD30: 0 | AE30: 0 | AF30: 0 | AG30: 0 | AH30: 0 | AI30: 0 | AJ30: 0 | AK30: 0 | AL30: 0 | AM30: 0 | AN30: 0 | AO30: 0 | AP30: 0 | AQ30: 0 | AR30: 0 | AS30: 0 | AT30: 0 | AU30: 0 | AV30: 0 | AW30: 0 | AX30: 0 | AY30: 0
A31: 資料來源：直轄市、縣(市)政府
A32: Source : County and City Government.

Sheet 2024
A1: 婦女福利機構服務Women's Welfare Institutional Services
A2: 地區別 Locality | C2: 一、婦女福利服務中心 Welfare Service Center | AT2: 二、婦女中途之家、庇護中心Housing/Sheltering Center
C3: 期底機構數 Number of institutions at the end of the period | J3: 服務內容Service Contents | AT3: 期底機構數 (個) Number of institutions at the end of the period | AX3: 收容數 Number of persons taken in
C4: 期底機構數 按公、私立別分 (個) Number of institutions at the end of the period | G4: 期底機構數 按服務對象分 (個) Number of institutions at the end of the period By service recipients (number) | J4: 成長活動 (人次) Growth activities (Times) | N4: 諮詢服務 (人次) Consulting Service (Person-Times) | R4: 個案管理服務 (人次) Cases Management Service (Person-Times) | V4: 就業支持服務方案(人次) Employment support service program | Z4: 團體方案 Team Scheme Service | AE4: 展覽 Exhibitions | AJ4: 研討會 Seminars | AO4: 其他 Others | AT4: 合計 Total | AU4: 公立 Public Ins. | AV4: 私立 Private Ins. | AW4: 公設民營Public Ins. Run by Private Ins. | AX4: 最高可收容人數 (人) No.of Providing | AY4: 本期收容個案數 (人次) Accommodated Persons (Times)
C6: 合計 Total | D6: 公立 Public Ins. | E6: 私立 Private Ins. | F6: 公設民營 Public Ins. Run by Private Ins. | G6: 合計 Total | H6: 婦女 Women | I6: 婦女及兒少 Women,children, and youths | J6: 合計 Total | K6: 男 Male | L6: 女 Female | M6: 其他 Other | N6: 合計 Total | O6: 男 Male | P6: 女 Female | Q6: 其他 Other | R6: 合計 Total | S6: 男 Male | T6: 女 Female | U6: 其他 Other | V6: 合計 Total | W6: 男 Male | X6: 女 Female | Y6: 其他 Other | Z6: 辦理 次數 Times | AA6: 參加人次 | AE6: 辦理 次數 Times | AF6: 參加人次 | AJ6: 辦理 次數 Times | AK6: 參加人次 | AO6: 辦理 次數 Times | AP6: 參加人次
AA7: 合計 Total | AB7: 男 Male | AC7: 女 Female | AD7: 其他 Other | AF7: 合計 Total | AG7: 男 Male | AH7: 女 Female | AI7: 其他 Other | AK7: 合計 Total | AL7: 男 Male | AM7: 女 Female | AN7: 其他 Other | AP7: 合計 Total | AQ7: 男 Male | AR7: 女 Female | AS7: 其他 Other
A8: 113年,2024 | C8: 65 | D8: 19 | E8: 0 | F8: 46 | G8: 65 | H8: 52 | I8: 13 | J8: 615953 | K8: 156372 | L8: 459581 | M8: 0 | N8: 364262 | O8: 96314 | P8: 267846 | Q8: 102 | R8: 103159 | S8: 27657 | T8: 75502 | U8: 0 | V8: 20305 | W8: 3547 | X8: 16758 | Y8: 0 | Z8: 1684 | AA8: 32388 | AB8: 6100 | AC8: 26288 | AD8: 0 | AE8: 435 | AF8: 167867 | AG8: 38740 | AH8: 129101 | AI8: 26 | AJ8: 963 | AK8: 15203 | AL8: 3212 | AM8: 11991 | AN8: 0 | AO8: 16020 | AP8: 3652412 | AQ8: 608054 | AR8: 3044327 | AS8: 31 | AT8: 48 | AU8: 3 | AV8: 24 | AW8: 21 | AX8: 715 | AY8: 2148
A9: 新北市 | B9: New Taipei City | C9: 3 | D9: 1 | E9: 0 | F9: 2 | G9: 3 | H9: 3 | I9: 0 | J9: 170078 | K9: 3026 | L9: 167052 | M9: 0 | N9: 28031 | O9: 2533 | P9: 25498 | Q9: 0 | R9: 1664 | S9: 122 | T9: 1542 | U9: 0 | V9: 2202 | W9: 123 | X9: 2079 | Y9: 0 | Z9: 37 | AA9: 411 | AB9: 10 | AC9: 401 | AD9: 0 | AE9: 6 | AF9: 1416 | AG9: 125 | AH9: 1291 | AI9: 0 | AJ9: 14 | AK9: 600 | AL9: 21 | AM9: 579 | AN9: 0 | AO9: 34 | AP9: 5211 | AQ9: 1290 | AR9: 3902 | AS9: 19 | AT9: 3 | AU9: 0 | AV9: 0 | AW9: 3 | AX9: 59 | AY9: 334
A10: 臺北市 | B10: Taipei City | C10: 11 | D10: 0 | E10: 0 | F10: 11 | G10: 11 | H10: 11 | I10: 0 | J10: 9400 | K10: 1897 | L10: 7503 | M10: 0 | N10: 12166 | O10: 1085 | P10: 10985 | Q10: 96 | R10: 29304 | S10: 2809 | T10: 26495 | U10: 0 | V10: 2000 | W10: 78 | X10: 1922 | Y10: 0 | Z10: 190 | AA10: 1873 | AB10: 252 | AC10: 1621 | AD10: 0 | AE10: 17 | AF10: 12110 | AG10: 2251 | AH10: 9845 | AI10: 14 | AJ10: 5 | AK10: 53 | AL10: 10 | AM10: 43 | AN10: 0 | AO10: 8204 | AP10: 1189822 | AQ10: 196223 | AR10: 993587 | AS10: 12 | AT10: 3 | AU10: 1 | AV10: 0 | AW10: 2 | AX10: 151 | AY10: 221
A11: 桃園市 | B11: Taoyuan City | C11: 9 | D11: 5 | E11: 0 | F11: 4 | G11: 9 | H11: 4 | I11: 5 | J11: 203514 | K11: 91406 | L11: 112108 | M11: 0 | N11: 5886 | O11: 700 | P11: 5186 | Q11: 0 | R11: 1033 | S11: 2 | T11: 1031 | U11: 0 | V11: 1104 | W11: 39 | X11: 1065 | Y11: 0 | Z11: 127 | AA11: 1667 | AB11: 170 | AC11: 1497 | AD11: 0 | AE11: 25 | AF11: 11630 | AG11: 2734 | AH11: 8896 | AI11: 0 | AJ11: 0 | AK11: 0 | AL11: 0 | AM11: 0 | AN11: 0 | AO11: 0 | AP11: 0 | AQ11: 0 | AR11: 0 | AS11: 0 | AT11: 2 | AU11: 0 | AV11: 0 | AW11: 2 | AX11: 53 | AY11: 404
A12: 臺中市 | B12: Taichung City | C12: 12 | D12: 1 | E12: 0 | F12: 11 | G12: 12 | H12: 9 | I12: 3 | J12: 36666 | K12: 2047 | L12: 34619 | M12: 0 | N12: 46877 | O12: 6756 | P12: 40115 | Q12: 6 | R12: 10619 | S12: 903 | T12: 9716 | U12: 0 | V12: 2727 | W12: 53 | X12: 2674 | Y12: 0 | Z12: 252 | AA12: 3731 | AB12: 421 | AC12: 3310 | AD12: 0 | AE12: 262 | AF12: 78434 | AG12: 15838 | AH12: 62584 | AI12: 12 | AJ12: 9 | AK12: 219 | AL12: 18 | AM12: 201 | AN12: 0 | AO12: 907 | AP12: 1959082 | AQ12: 281523 | AR12: 1677559 | AS12: 0 | AT12: 15 | AU12: 0 | AV12: 15 | AW12: 0 | AX12: 176 | AY12: 183
A13: 臺南市 | B13: Tainan City | C13: 4 | D13: 0 | E13: 0 | F13: 4 | G13: 4 | H13: 4 | I13: 0 | J13: 9493 | K13: 1119 | L13: 8374 | M13: 0 | N13: 36215 | O13: 8176 | P13: 28039 | Q13: 0 | R13: 29487 | S13: 10046 | T13: 19441 | U13: 0 | V13: 294 | W13: 98 | X13: 196 | Y13: 0 | Z13: 126 | AA13: 1869 | AB13: 383 | AC13: 1486 | AD13: 0 | AE13: 36 | AF13: 845 | AG13: 105 | AH13: 740 | AI13: 0 | AJ13: 11 | AK13: 73 | AL13: 0 | AM13: 73 | AN13: 0 | AO13: 825 | AP13: 115193 | AQ13: 15514 | AR13: 99679 | AS13: 0 | AT13: 2 | AU13: 0 | AV13: 2 | AW13: 0 | AX13: 14 | AY13: 52
A14: 高雄市 | B14: Kaohsiung City | C14: 4 | D14: 2 | E14: 0 | F14: 2 | G14: 4 | H14: 1 | I14: 3 | J14: 51595 | K14: 11773 | L14: 39822 | M14: 0 | N14: 148260 | O14: 44728 | P14: 103532 | Q14: 0 | R14: 0 | S14: 0 | T14: 0 | U14: 0 | V14: 4088 | W14: 1271 | X14: 2817 | Y14: 0 | Z14: 388 | AA14: 9843 | AB14: 1029 | AC14: 8814 | AD14: 0 | AE14: 15 | AF14: 31236 | AG14: 10066 | AH14: 21170 | AI14: 0 | AJ14: 0 | AK14: 0 | AL14: 0 | AM14: 0 | AN14: 0 | AO14: 3182 | AP14: 144906 | AQ14: 60943 | AR14: 83963 | AS14: 0 | AT14: 2 | AU14: 0 | AV14: 0 | AW14: 2 | AX14: 26 | AY14: 106
A15: 宜蘭縣 | B15: Yilan County | C15: 1 | D15: 1 | E15: 0 | F15: 0 | G15: 1 | H15: 1 | I15: 0 | J15: 0 | K15: 0 | L15: 0 | M15: 0 | N15: 32980 | O15: 18600 | P15: 14380 | Q15: 0 | R15: 16688 | S15: 9214 | T15: 7474 | U15: 0 | V15: 0 | W15: 0 | X15: 0 | Y15: 0 | Z15: 1 | AA15: 357 | AB15: 83 | AC15: 274 | AD15: 0 | AE15: 0 | AF15: 0 | AG15: 0 | AH15: 0 | AI15: 0 | AJ15: 0 | AK15: 0 | AL15: 0 | AM15: 0 | AN15: 0 | AO15: 30 | AP15: 1083 | AQ15: 272 | AR15: 811 | AS15: 0 | AT15: 2 | AU15: 0 | AV15: 2 | AW15: 0 | AX15: 20 | AY15: 132
A16: 新竹縣 | B16: Hsinchu County | C16: 2 | D16: 0 | E16: 0 | F16: 2 | G16: 2 | H16: 2 | I16: 0 | J16: 2050 | K16: 738 | L16: 1312 | M16: 0 | N16: 2258 | O16: 391 | P16: 1867 | Q16: 0 | R16: 0 | S16: 0 | T16: 0 | U16: 0 | V16: 60 | W16: 0 | X16: 60 | Y16: 0 | Z16: 43 | AA16: 548 | AB16: 24 | AC16: 524 | AD16: 0 | AE16: 4 | AF16: 3936 | AG16: 947 | AH16: 2989 | AI16: 0 | AJ16: 0 | AK16: 0 | AL16: 0 | AM16: 0 | AN16: 0 | AO16: 543 | AP16: 1441 | AQ16: 599 | AR16: 842 | AS16: 0 | AT16: 1 | AU16: 0 | AV16: 1 | AW16: 0 | AX16: 18 | AY16: 38
A17: 苗栗縣 | B17: Miaoli County | C17: 1 | D17: 0 | E17: 0 | F17: 1 | G17: 1 | H17: 1 | I17: 0 | J17: 920 | K17: 94 | L17: 826 | M17: 0 | N17: 174 | O17: 0 | P17: 174 | Q17: 0 | R17: 0 | S17: 0 | T17: 0 | U17: 0 | V17: 15 | W17: 0 | X17: 15 | Y17: 0 | Z17: 42 | AA17: 493 | AB17: 21 | AC17: 472 | AD17: 0 | AE17: 5 | AF17: 619 | AG17: 131 | AH17: 488 | AI17: 0 | AJ17: 3 | AK17: 44 | AL17: 4 | AM17: 40 | AN17: 0 | AO17: 615 | AP17: 89303 | AQ17: 23547 | AR17: 65756 | AS17: 0 | AT17: 1 | AU17: 0 | AV17: 0 | AW17: 1 | AX17: 4 | AY17: 13
A18: 彰化縣 | B18: Changhua County | C18: 2 | D18: 0 | E18: 0 | F18: 2 | G18: 2 | H18: 2 | I18: 0 | J18: 3994 | K18: 540 | L18: 3454 | M18: 0 | N18: 4318 | O18: 296 | P18: 4022 | Q18: 0 | R18: 0 | S18: 0 | T18: 0 | U18: 0 | V18: 601 | W18: 5 | X18: 596 | Y18: 0 | Z18: 8 | AA18: 50 | AB18: 5 | AC18: 45 | AD18: 0 | AE18: 17 | AF18: 12977 | AG18: 2731 | AH18: 10246 | AI18: 0 | AJ18: 0 | AK18: 0 | AL18: 0 | AM18: 0 | AN18: 0 | AO18: 338 | AP18: 14210 | AQ18: 2781 | AR18: 11429 | AS18: 0 | AT18: 2 | AU18: 0 | AV18: 1 | AW18: 1 | AX18: 13 | AY18: 22
A19: 南投縣 | B19: Nantou County | C19: 4 | D19: 0 | E19: 0 | F19: 4 | G19: 4 | H19: 4 | I19: 0 | J19: 3992 | K19: 585 | L19: 3407 | M19: 0 | N19: 1531 | O19: 258 | P19: 1273 | Q19: 0 | R19: 73 | S19: 1 | T19: 72 | U19: 0 | V19: 550 | W19: 200 | X19: 350 | Y19: 0 | Z19: 131 | AA19: 6606 | AB19: 2545 | AC19: 4061 | AD19: 0 | AE19: 6 | AF19: 476 | AG19: 132 | AH19: 344 | AI19: 0 | AJ19: 0 | AK19: 0 | AL19: 0 | AM19: 0 | AN19: 0 | AO19: 81 | AP19: 33986 | AQ19: 6133 | AR19: 27853 | AS19: 0 | AT19: 1 | AU19: 0 | AV19: 0 | AW19: 1 | AX19: 16 | AY19: 16
A20: 雲林縣 | B20: Yunlin County | C20: 1 | D20: 1 | E20: 0 | F20: 0 | G20: 1 | H20: 1 | I20: 0 | J20: 4672 | K20: 305 | L20: 4367 | M20: 0 | N20: 12987 | O20: 4473 | P20: 8514 | Q20: 0 | R20: 0 | S20: 0 | T20: 0 | U20: 0 | V20: 3625 | W20: 1495 | X20: 2130 | Y20: 0 | Z20: 24 | AA20: 386 | AB20: 123 | AC20: 263 | AD20: 0 | AE20: 1 | AF20: 160 | AG20: 40 | AH20: 120 | AI20: 0 | AJ20: 914 | AK20: 13980 | AL20: 3118 | AM20: 10862 | AN20: 0 | AO20: 600 | AP20: 9388 | AQ20: 1830 | AR20: 7558 | AS20: 0 | AT20: 1 | AU20: 0 | AV20: 0 | AW20: 1 | AX20: 15 | AY20: 45
... A30: 連江縣 | B30: Lienchiang County | C30: 1 | D30: 1 | E30: 0 | F30: 0 | G30: 1 | H30: 1 | I30: 0 | J30: 1079 | K30: 288 | L30: 791 | M30: 0 | N30: 0 | O30: 0 | P30: 0 | Q30: 0 | R30: 0 | S30: 0 | T30: 0 | U30: 0 | V30: 0 | W30: 0 | X30: 0 | Y30: 0 | Z30: 0 | AA30: 0 | AB30: 0 | AC30: 0 | AD30: 0 | AE30: 0 | AF30: 0 | AG30: 0 | AH30: 0 | AI30: 0 | AJ30: 0 | AK30: 0 | AL30: 0 | AM30: 0 | AN30: 0 | AO30: 0 | AP30: 0 | AQ30: 0 | AR30: 0 | AS30: 0 | AT30: 0 | AU30: 0 | AV30: 0 | AW30: 0 | AX30: 0 | AY30: 0
A31: 資料來源：直轄市、縣(市)政府
A32: Source : County and City Government.

Sheet Jan.-June,2024
A1: 婦女福利機構服務Women's Welfare Institutional Services
A2: 地區別 Locality | C2: 一、婦女福利服務中心 Welfare Service Center | AT2: 二、婦女中途之家、庇護中心Housing/Sheltering Center
C3: 期底機構數 Number of institutions at the end of the period | J3: 服務內容Service Contents | AT3: 期底機構數 (個) Number of institutions at the end of the period | AX3: 收容數 Number of persons taken in
C4: 期底機構數 按公、私立別分 (個) Number of institutions at the end of the period | G4: 期底機構數 按服務對象分 (個) Number of institutions at the end of the period By service recipients (number) | J4: 成長活動 (人次) Growth activities (Times) | N4: 諮詢服務 (人次) Consulting Service (Person-Times) | R4: 個案管理服務 (人次) Cases Management Service (Person-Times) | V4: 就業支持服務方案(人次) Employment support service program | Z4: 團體方案 Team Scheme Service | AE4: 展覽 Exhibitions | AJ4: 研討會 Seminars | AO4: 其他 Others | AT4: 合計 Total | AU4: 公立 Public Ins. | AV4: 私立 Private Ins. | AW4: 公設民營Public Ins. Run by Private Ins. | AX4: 最高可收容人數 (人) No.of Providing | AY4: 本期收容個案數 (人次) Accommodated Persons (Times)
C6: 合計 Total | D6: 公立 Public Ins. | E6: 私立 Private Ins. | F6: 公設民營 Public Ins. Run by Private Ins. | G6: 合計 Total | H6: 婦女 Women | I6: 婦女及兒少 Women,children, and youths | J6: 合計 Total | K6: 男 Male | L6: 女 Female | M6: 其他 Other | N6: 合計 Total | O6: 男 Male | P6: 女 Female | Q6: 其他 Other | R6: 合計 Total | S6: 男 Male | T6: 女 Female | U6: 其他 Other | V6: 合計 Total | W6: 男 Male | X6: 女 Female | Y6: 其他 Other | Z6: 辦理 次數 Times | AA6: 參加人次 | AE6: 辦理 次數 Times | AF6: 參加人次 | AJ6: 辦理 次數 Times | AK6: 參加人次 | AO6: 辦理 次數 Times | AP6: 參加人次
AA7: 合計 Total | AB7: 男 Male | AC7: 女 Female | AD7: 其他 Other | AF7: 合計 Total | AG7: 男 Male | AH7: 女 Female | AI7: 其他 Other | AK7: 合計 Total | AL7: 男 Male | AM7: 女 Female | AN7: 其他 Other | AP7: 合計 Total | AQ7: 男 Male | AR7: 女 Female | AS7: 其他 Other
A8: 113年上半年 Jan.-June, 2024 | C8: 65 | D8: 19 | E8: 0 | F8: 46 | G8: 65 | H8: 52 | I8: 13 | J8: 280759 | K8: 70235 | L8: 210524 | M8: 204590 | N8: 57021 | O8: 147569 | P8: 57418 | Q8: 17879 | R8: 39539 | S8: 6632 | T8: 1207 | U8: 5425 | V8: 577 | W8: 10433 | X8: 1714 | Y8: 8719 | Z8: 189 | AA8: 113684 | AB8: 24532 | AC8: 89139 | AD8: 12 | AE8: 725 | AF8: 44 | AG8: 681 | AH8: 7925 | AI8: 1236824 | AJ8: 194639 | AK8: 1042185 | AL8: 47 | AM8: 7 | AN8: 23 | AO8: 17 | AP8: 576 | AQ8: 1048 | AR8: 1042185 | AS8: 0 | AT8: 47 | AU8: 7 | AV8: 23 | AW8: 17 | AX8: 576 | AY8: 1048
A9: 新北市 | B9: New Taipei City | C9: 3 | D9: 1 | E9: 0 | F9: 2 | G9: 3 | H9: 3 | I9: 0 | J9: 79211 | K9: 2203 | L9: 77008 | M9: 12240 | N9: 1106 | O9: 11134 | P9: 783 | Q9: 49 | R9: 734 | S9: 167 | T9: 27 | U9: 140 | V9: 9 | W9: 108 | X9: 1 | Y9: 107 | Z9: 2 | AA9: 324 | AB9: 66 | AC9: 258 | AD9: 3 | AE9: 514 | AF9: 14 | AG9: 500 | AH9: 15 | AI9: 3054 | AJ9: 730 | AK9: 2324 | AL9: 3 | AM9: 0 | AN9: 0 | AO9: 3 | AP9: 59 | AQ9: 160 | AR9: 2324 | AS9: 0 | AT9: 3 | AU9: 0 | AV9: 0 | AW9: 3 | AX9: 59 | AY9: 160
A10: 臺北市 | B10: Taipei City | C10: 11 | D10: 0 | E10: 0 | F10: 11 | G10: 11 | H10: 11 | I10: 0 | J10: 7282 | K10: 1531 | L10: 5751 | M10: 5858 | N10: 499 | O10: 5359 | P10: 13312 | Q10: 1435 | R10: 11877 | S10: 734 | T10: 38 | U10: 696 | V10: 60 | W10: 738 | X10: 136 | Y10: 602 | Z10: 9 | AA10: 7294 | AB10: 1368 | AC10: 5913 | AD10: 2 | AE10: 24 | AF10: 3 | AG10: 21 | AH10: 3909 | AI10: 333189 | AJ10: 47277 | AK10: 285912 | AL10: 3 | AM10: 1 | AN10: 0 | AO10: 2 | AP10: 151 | AQ10: 102 | AR10: 285912 | AS10: 0 | AT10: 3 | AU10: 1 | AV10: 0 | AW10: 2 | AX10: 151 | AY10: 102
A11: 桃園市 | B11: Taoyuan City | C11: 9 | D11: 5 | E11: 0 | F11: 4 | G11: 9 | H11: 4 | I11: 5 | J11: 82579 | K11: 35365 | L11: 47214 | M11: 2226 | N11: 86 | O11: 2140 | P11: 348 | Q11: 2 | R11: 346 | S11: 255 | T11: 0 | U11: 255 | V11: 29 | W11: 354 | X11: 20 | Y11: 334 | Z11: 13 | AA11: 6892 | AB11: 1611 | AC11: 5281 | AD11: 0 | AE11: 0 | AF11: 0 | AG11: 0 | AH11: 0 | AI11: 0 | AJ11: 0 | AK11: 0 | AL11: 2 | AM11: 0 | AN11: 0 | AO11: 2 | AP11: 53 | AQ11: 177 | AR11: 0 | AS11: 0 | AT11: 2 | AU11: 0 | AV11: 0 | AW11: 2 | AX11: 53 | AY11: 177
A12: 臺中市 | B12: Taichung City | C12: 12 | D12: 1 | E12: 0 | F12: 11 | G12: 12 | H12: 9 | I12: 3 | J12: 5565 | K12: 1129 | L12: 4436 | M12: 23886 | N12: 3968 | O12: 19918 | P12: 3691 | Q12: 186 | R12: 3505 | S12: 1056 | T12: 13 | U12: 1043 | V12: 120 | W12: 1169 | X12: 85 | Y12: 1084 | Z12: 123 | AA12: 62301 | AB12: 10477 | AC12: 51824 | AD12: 3 | AE12: 81 | AF12: 8 | AG12: 73 | AH12: 716 | AI12: 708070 | AJ12: 100819 | AK12: 607251 | AL12: 14 | AM12: 0 | AN12: 14 | AO12: 0 | AP12: 72 | AQ12: 82 | AR12: 607251 | AS12: 0 | AT12: 14 | AU12: 0 | AV12: 14 | AW12: 0 | AX12: 72 | AY12: 82
A13: 臺南市 | B13: Tainan City | C13: 4 | D13: 0 | E13: 0 | F13: 4 | G13: 4 | H13: 4 | I13: 0 | J13: 5400 | K13: 564 | L13: 4836 | M13: 33433 | N13: 7871 | O13: 25562 | P13: 25227 | Q13: 9431 | R13: 15796 | S13: 269 | T13: 98 | U13: 171 | V13: 46 | W13: 735 | X13: 216 | Y13: 519 | Z13: 0 | AA13: 0 | AB13: 0 | AC13: 0 | AD13: 1 | AE13: 6 | AF13: 0 | AG13: 6 | AH13: 373 | AI13: 69775 | AJ13: 9703 | AK13: 60072 | AL13: 2 | AM13: 0 | AN13: 2 | AO13: 0 | AP13: 14 | AQ13: 25 | AR13: 60072 | AS13: 0 | AT13: 2 | AU13: 0 | AV13: 2 | AW13: 0 | AX13: 14 | AY13: 25
A14: 高雄市 | B14: Kaohsiung City | C14: 4 | D14: 2 | E14: 0 | F14: 2 | G14: 4 | H14: 1 | I14: 3 | J14: 45715 | K14: 11129 | L14: 34586 | M14: 82790 | N14: 26361 | O14: 56429 | P14: 0 | Q14: 0 | R14: 0 | S14: 2161 | T14: 762 | U14: 1399 | V14: 123 | W14: 3851 | X14: 385 | Y14: 3466 | Z14: 8 | AA14: 22935 | AB14: 7934 | AC14: 15001 | AD14: 0 | AE14: 0 | AF14: 0 | AG14: 0 | AH14: 1395 | AI14: 52616 | AJ14: 20519 | AK14: 32097 | AL14: 2 | AM14: 0 | AN14: 0 | AO14: 2 | AP14: 26 | AQ14: 34 | AR14: 32097 | AS14: 0 | AT14: 2 | AU14: 0 | AV14: 0 | AW14: 2 | AX14: 26 | AY14: 34
A15: 宜蘭縣 | B15: Yilan County | C15: 1 | D15: 1 | E15: 0 | F15: 0 | G15: 1 | H15: 1 | I15: 0 | J15: 0 | K15: 0 | L15: 0 | M15: 19168 | N15: 11117 | O15: 8051 | P15: 8758 | Q15: 5029 | R15: 3729 | S15: 0 | T15: 0 | U15: 0 | V15: 0 | W15: 0 | X15: 0 | Y15: 0 | Z15: 0 | AA15: 0 | AB15: 0 | AC15: 0 | AD15: 0 | AE15: 0 | AF15: 0 | AG15: 0 | AH15: 0 | AI15: 0 | AJ15: 0 | AK15: 0 | AL15: 2 | AM15: 0 | AN15: 2 | AO15: 0 | AP15: 20 | AQ15: 58 | AR15: 0 | AS15: 0 | AT15: 2 | AU15: 0 | AV15: 2 | AW15: 0 | AX15: 20 | AY15: 58
A16: 新竹縣 | B16: Hsinchu County | C16: 2 | D16: 0 | E16: 0 | F16: 2 | G16: 2 | H16: 2 | I16: 0 | J16: 974 | K16: 273 | L16: 701 | M16: 1453 | N16: 262 | O16: 1191 | P16: 0 | Q16: 0 | R16: 0 | S16: 0 | T16: 0 | U16: 0 | V16: 22 | W16: 341 | X16: 19 | Y16: 322 | Z16: 3 | AA16: 2537 | AB16: 443 | AC16: 2094 | AD16: 0 | AE16: 0 | AF16: 0 | AG16: 0 | AH16: 6 | AI16: 586 | AJ16: 447 | AK16: 139 | AL16: 1 | AM16: 0 | AN16: 1 | AO16: 0 | AP16: 6 | AQ16: 24 | AR16: 139 | AS16: 0 | AT16: 1 | AU16: 0 | AV16: 1 | AW16: 0 | AX16: 6 | AY16: 24
A17: 苗栗縣 | B17: Miaoli County | C17: 1 | D17: 0 | E17: 0 | F17: 1 | G17: 1 | H17: 1 | I17: 0 | J17: 329 | K17: 39 | L17: 290 | M17: 54 | N17: 0 | O17: 54 | P17: 0 | Q17: 0 | R17: 0 | S17: 0 | T17: 0 | U17: 0 | V17: 16 | W17: 181 | X17: 1 | Y17: 180 | Z17: 2 | AA17: 134 | AB17: 41 | AC17: 93 | AD17: 0 | AE17: 0 | AF17: 0 | AG17: 0 | AH17: 542 | AI17: 34217 | AJ17: 8254 | AK17: 25963 | AL17: 1 | AM17: 0 | AN17: 0 | AO17: 1 | AP17: 4 | AQ17: 11 | AR17: 25963 | AS17: 0 | AT17: 1 | AU17: 0 | AV17: 0 | AW17: 1 | AX17: 4 | AY17: 11
A18: 彰化縣 | B18: Changhua County | C18: 2 | D18: 0 | E18: 0 | F18: 2 | G18: 2 | H18: 2 | I18: 0 | J18: 718 | K18: 30 | L18: 688 | M18: 2377 | N18: 157 | O18: 2220 | P18: 0 | Q18: 0 | R18: 0 | S18: 241 | T18: 5 | U18: 236 | V18: 2 | W18: 14 | X18: 5 | Y18: 9 | Z18: 5 | AA18: 4614 | AB18: 816 | AC18: 3798 | AD18: 0 | AE18: 0 | AF18: 0 | AG18: 0 | AH18: 193 | AI18: 7997 | AJ18: 1558 | AK18: 6439 | AL18: 2 | AM18: 0 | AN18: 1 | AO18: 1 | AP18: 13 | AQ18: 14 | AR18: 6439 | AS18: 0 | AT18: 2 | AU18: 0 | AV18: 1 | AW18: 1 | AX18: 13 | AY18: 14
A19: 南投縣 | B19: Nantou County | C19: 4 | D19: 0 | E19: 0 | F19: 4 | G19: 4 | H19: 4 | I19: 0 | J19: 1216 | K19: 165 | L19: 1051 | M19: 751 | N19: 149 | O19: 602 | P19: 9 | Q19: 0 | R19: 9 | S19: 550 | T19: 200 | U19: 350 | V19: 26 | W19: 1127 | X19: 464 | Y19: 663 | Z19: 1 | AA19: 118 | AB19: 52 | AC19: 66 | AD19: 0 | AE19: 0 | AF19: 0 | AG19: 0 | AH19: 18 | AI19: 4747 | AJ19: 835 | AK19: 3912 | AL19: 1 | AM19: 0 | AN19: 0 | AO19: 1 | AP19: 6 | AQ19: 7 | AR19: 3912 | AS19: 0 | AT19: 1 | AU19: 0 | AV19: 0 | AW19: 1 | AX19: 6 | AY19: 7
A20: 雲林縣 | B20: Yunlin County | C20: 1 | D20: 1 | E20: 0 | F20: 0 | G20: 1 | H20: 1 | I20: 0 | J20: 3195 | K20: 47 | L20: 3148 | M20: 4475 | N20: 1563 | O20: 2912 | P20: 0 | Q20: 0 | R20: 0 | S20: 355 | T20: 0 | U20: 355 | V20: 0 | W20: 0 | X20: 0 | Y20: 0 | Z20: 1 | AA20: 160 | AB20: 40 | AC20: 120 | AD20: 0 | AE20: 0 | AF20: 0 | AG20: 0 | AH20: 600 | AI20: 9388 | AJ20: 1830 | AK20: 7558 | AL20: 1 | AM20: 0 | AN20: 0 | AO20: 1 | AP20: 15 | AQ20: 35 | AR20: 7558 | AS20: 0 | AT20: 1 | AU20: 0 | AV20: 0 | AW20: 1 | AX20: 15 | AY20: 35
... A30: 連江縣 | B30: Lienchiang County | C30: 1 | D30: 1 | E30: 0 | F30: 0 | G30: 1 | H30: 1 | I30: 0 | J30: 0 | K30: 0 | L30: 0 | M30: 0 | N30: 0 | O30: 0 | P30: 0 | Q30: 0 | R30: 0 | S30: 0 | T30: 0 | U30: 0 | V30: 0 | W30: 0 | X30: 0 | Y30: 0 | Z30: 0 | AA30: 0 | AB30: 0 | AC30: 0 | AD30: 0 | AE30: 0 | AF30: 0 | AG30: 0 | AH30: 0 | AI30: 0 | AJ30: 0 | AK30: 0 | AL30: 0 | AM30: 0 | AN30: 0 | AO30: 0 | AP30: 0 | AQ30: 0 | AR30: 0 | AS30: 0 | AT30: 0 | AU30: 0 | AV30: 0 | AW30: 0 | AX30: 0 | AY30: 0
A31: 資料來源：直轄市、縣(市)政府
A32: Source : County and City Government.

Sheet July-Dec.,2024
A1: 婦女福利機構服務Women's Welfare Institutional Services
A2: 地區別 Locality | C2: 一、婦女福利服務中心 Welfare Service Center | AT2: 二、婦女中途之家、庇護中心Housing/Sheltering Center
C3: 期底機構數 Number of institutions at the end of the period | J3: 服務內容Service Contents | AT3: 期底機構數 (個) Number of institutions at the end of the period | AX3: 收容數 Number of persons taken in
C4: 期底機構數 按公、私立別分 (個) Number of institutions at the end of the period | G4: 期底機構數 按服務對象分 (個) Number of institutions at the end of the period By service recipients (number) | J4: 成長活動 (人次) Growth activities (Times) | N4: 諮詢服務 (人次) Consulting Service (Person-Times) | R4: 個案管理服務 (人次) Cases Management Service (Person-Times) | V4: 就業支持服務方案(人次) Employment support service program | Z4: 團體方案 Team Scheme Service | AE4: 展覽 Exhibitions | AJ4: 研討會 Seminars | AO4: 其他 Others | AT4: 合計 Total | AU4: 公立 Public Ins. | AV4: 私立 Private Ins. | AW4: 公設民營Public Ins. Run by Private Ins. | AX4: 最高可收容人數 (人) No.of Providing | AY4: 本期收容個案數 (人次) Accommodated Persons (Times)
C6: 合計 Total | D6: 公立 Public Ins. | E6: 私立 Private Ins. | F6: 公設民營 Public Ins. Run by Private Ins. | G6: 合計 Total | H6: 婦女 Women | I6: 婦女及兒少 Women,children, and youths | J6: 合計 Total | K6: 男 Male | L6: 女 Female | M6: 其他 Other | N6: 合計 Total | O6: 男 Male | P6: 女 Female | Q6: 其他 Other | R6: 合計 Total | S6: 男 Male | T6: 女 Female | U6: 其他 Other | V6: 合計 Total | W6: 男 Male | X6: 女 Female | Y6: 其他 Other | Z6: 辦理 次數 Times | AA6: 參加人次 | AE6: 辦理 次數 Times | AF6: 參加人次 | AJ6: 辦理 次數 Times | AK6: 參加人次 | AO6: 辦理 次數 Times | AP6: 參加人次
AA7: 合計 Total | AB7: 男 Male | AC7: 女 Female | AD7: 其他 Other | AF7: 合計 Total | AG7: 男 Male | AH7: 女 Female | AI7: 其他 Other | AK7: 合計 Total | AL7: 男 Male | AM7: 女 Female | AN7: 其他 Other | AP7: 合計 Total | AQ7: 男 Male | AR7: 女 Female | AS7: 其他 Other
A8: 113年下半年 July-Dec., 2024 | C8: 65 | D8: 19 | E8: 0 | F8: 46 | G8: 65 | H8: 52 | I8: 13 | J8: 335194 | K8: 86137 | L8: 249057 | M8: 0 | N8: 159672 | O8: 39293 | P8: 120277 | Q8: 102 | R8: 45741 | S8: 9778 | T8: 35963 | U8: 0 | V8: 13673 | W8: 2340 | X8: 11333 | Y8: 0 | Z8: 1107 | AA8: 21955 | AB8: 4386 | AC8: 17569 | AD8: 0 | AE8: 246 | AF8: 54183 | AG8: 14208 | AH8: 39962 | AI8: 13 | AJ8: 951 | AK8: 14478 | AL8: 3168 | AM8: 11310 | AN8: 0 | AO8: 8095 | AP8: 2415588 | AQ8: 413415 | AR8: 2002142 | AS8: 31 | AT8: 48 | AU8: 3 | AV8: 24 | AW8: 21 | AX8: 715 | AY8: 1100
A9: 新北市 | B9: New Taipei City | C9: 3 | D9: 1 | E9: 0 | F9: 2 | G9: 3 | H9: 3 | I9: 0 | J9: 90867 | K9: 823 | L9: 90044 | M9: 0 | N9: 15791 | O9: 1427 | P9: 14364 | Q9: 0 | R9: 881 | S9: 73 | T9: 808 | U9: 0 | V9: 2035 | W9: 96 | X9: 1939 | Y9: 0 | Z9: 28 | AA9: 303 | AB9: 9 | AC9: 294 | AD9: 0 | AE9: 4 | AF9: 1092 | AG9: 59 | AH9: 1033 | AI9: 0 | AJ9: 11 | AK9: 86 | AL9: 7 | AM9: 79 | AN9: 0 | AO9: 19 | AP9: 2157 | AQ9: 560 | AR9: 1578 | AS9: 19 | AT9: 3 | AU9: 0 | AV9: 0 | AW9: 3 | AX9: 59 | AY9: 174
A10: 臺北市 | B10: Taipei City | C10: 11 | D10: 0 | E10: 0 | F10: 11 | G10: 11 | H10: 11 | I10: 0 | J10: 2118 | K10: 366 | L10: 1752 | M10: 0 | N10: 6308 | O10: 586 | P10: 5626 | Q10: 96 | R10: 15992 | S10: 1374 | T10: 14618 | U10: 0 | V10: 1266 | W10: 40 | X10: 1226 | Y10: 0 | Z10: 130 | AA10: 1135 | AB10: 116 | AC10: 1019 | AD10: 0 | AE10: 8 | AF10: 4816 | AG10: 883 | AH10: 3932 | AI10: 1 | AJ10: 3 | AK10: 29 | AL10: 7 | AM10: 22 | AN10: 0 | AO10: 4295 | AP10: 856633 | AQ10: 148946 | AR10: 707675 | AS10: 12 | AT10: 3 | AU10: 1 | AV10: 0 | AW10: 2 | AX10: 151 | AY10: 119
A11: 桃園市 | B11: Taoyuan City | C11: 9 | D11: 5 | E11: 0 | F11: 4 | G11: 9 | H11: 4 | I11: 5 | J11: 120935 | K11: 56041 | L11: 64894 | M11: 0 | N11: 3660 | O11: 614 | P11: 3046 | Q11: 0 | R11: 685 | S11: 0 | T11: 685 | U11: 0 | V11: 849 | W11: 39 | X11: 810 | Y11: 0 | Z11: 98 | AA11: 1313 | AB11: 150 | AC11: 1163 | AD11: 0 | AE11: 12 | AF11: 4738 | AG11: 1123 | AH11: 3615 | AI11: 0 | AJ11: 0 | AK11: 0 | AL11: 0 | AM11: 0 | AN11: 0 | AO11: 0 | AP11: 0 | AQ11: 0 | AR11: 0 | AS11: 0 | AT11: 2 | AU11: 0 | AV11: 0 | AW11: 2 | AX11: 53 | AY11: 227
A12: 臺中市 | B12: Taichung City | C12: 12 | D12: 1 | E12: 0 | F12: 11 | G12: 12 | H12: 9 | I12: 3 | J12: 31101 | K12: 918 | L12: 30183 | M12: 0 | N12: 22991 | O12: 2788 | P12: 20197 | Q12: 6 | R12: 6928 | S12: 717 | T12: 6211 | U12: 0 | V12: 1671 | W12: 40 | X12: 1631 | Y12: 0 | Z12: 132 | AA12: 2562 | AB12: 336 | AC12: 2226 | AD12: 0 | AE12: 139 | AF12: 16133 | AG12: 5361 | AH12: 10760 | AI12: 12 | AJ12: 6 | AK12: 138 | AL12: 10 | AM12: 128 | AN12: 0 | AO12: 191 | AP12: 1251012 | AQ12: 180704 | AR12: 1070308 | AS12: 0 | AT12: 15 | AU12: 0 | AV12: 15 | AW12: 0 | AX12: 176 | AY12: 101
A13: 臺南市 | B13: Tainan City | C13: 4 | D13: 0 | E13: 0 | F13: 4 | G13: 4 | H13: 4 | I13: 0 | J13: 4093 | K13: 555 | L13: 3538 | M13: 0 | N13: 2782 | O13: 305 | P13: 2477 | Q13: 0 | R13: 4260 | S13: 615 | T13: 3645 | U13: 0 | V13: 25 | W13: 0 | X13: 25 | Y13: 0 | Z13: 80 | AA13: 1134 | AB13: 167 | AC13: 967 | AD13: 0 | AE13: 36 | AF13: 845 | AG13: 105 | AH13: 740 | AI13: 0 | AJ13: 10 | AK13: 67 | AL13: 0 | AM13: 67 | AN13: 0 | AO13: 452 | AP13: 45418 | AQ13: 5811 | AR13: 39607 | AS13: 0 | AT13: 2 | AU13: 0 | AV13: 2 | AW13: 0 | AX13: 14 | AY13: 27
A14: 高雄市 | B14: Kaohsiung City | C14: 4 | D14: 2 | E14: 0 | F14: 2 | G14: 4 | H14: 1 | I14: 3 | J14: 5880 | K14: 644 | L14: 5236 | M14: 0 | N14: 65470 | O14: 18367 | P14: 47103 | Q14: 0 | R14: 0 | S14: 0 | T14: 0 | U14: 0 | V14: 1927 | W14: 509 | X14: 1418 | Y14: 0 | Z14: 265 | AA14: 5992 | AB14: 644 | AC14: 5348 | AD14: 0 | AE14: 7 | AF14: 8301 | AG14: 2132 | AH14: 6169 | AI14: 0 | AJ14: 0 | AK14: 0 | AL14: 0 | AM14: 0 | AN14: 0 | AO14: 1787 | AP14: 92290 | AQ14: 40424 | AR14: 51866 | AS14: 0 | AT14: 2 | AU14: 0 | AV14: 0 | AW14: 2 | AX14: 26 | AY14: 72
A15: 宜蘭縣 | B15: Yilan County | C15: 1 | D15: 1 | E15: 0 | F15: 0 | G15: 1 | H15: 1 | I15: 0 | J15: 0 | K15: 0 | L15: 0 | M15: 0 | N15: 13812 | O15: 7483 | P15: 6329 | Q15: 0 | R15: 7930 | S15: 4185 | T15: 3745 | U15: 0 | V15: 0 | W15: 0 | X15: 0 | Y15: 0 | Z15: 1 | AA15: 357 | AB15: 83 | AC15: 274 | AD15: 0 | AE15: 0 | AF15: 0 | AG15: 0 | AH15: 0 | AI15: 0 | AJ15: 0 | AK15: 0 | AL15: 0 | AM15: 0 | AN15: 0 | AO15: 30 | AP15: 1083 | AQ15: 272 | AR15: 811 | AS15: 0 | AT15: 2 | AU15: 0 | AV15: 2 | AW15: 0 | AX15: 20 | AY15: 74
A16: 新竹縣 | B16: Hsinchu County | C16: 2 | D16: 0 | E16: 0 | F16: 2 | G16: 2 | H16: 2 | I16: 0 | J16: 1076 | K16: 465 | L16: 611 | M16: 0 | N16: 805 | O16: 129 | P16: 676 | Q16: 0 | R16: 0 | S16: 0 | T16: 0 | U16: 0 | V16: 60 | W16: 0 | X16: 60 | Y16: 0 | Z16: 21 | AA16: 207 | AB16: 5 | AC16: 202 | AD16: 0 | AE16: 1 | AF16: 1399 | AG16: 504 | AH16: 895 | AI16: 0 | AJ16: 0 | AK16: 0 | AL16: 0 | AM16: 0 | AN16: 0 | AO16: 537 | AP16: 855 | AQ16: 152 | AR16: 703 | AS16: 0 | AT16: 1 | AU16: 0 | AV16: 1 | AW16: 0 | AX16: 18 | AY16: 14
A17: 苗栗縣 | B17: Miaoli County | C17: 1 | D17: 0 | E17: 0 | F17: 1 | G17: 1 | H17: 1 | I17: 0 | J17: 591 | K17: 55 | L17: 536 | M17: 0 | N17: 120 | O17: 0 | P17: 120 | Q17: 0 | R17: 0 | S17: 0 | T17: 0 | U17: 0 | V17: 15 | W17: 0 | X17: 15 | Y17: 0 | Z17: 26 | AA17: 312 | AB17: 20 | AC17: 292 | AD17: 0 | AE17: 3 | AF17: 485 | AG17: 90 | AH17: 395 | AI17: 0 | AJ17: 3 | AK17: 44 | AL17: 4 | AM17: 40 | AN17: 0 | AO17: 73 | AP17: 55086 | AQ17: 15293 | AR17: 39793 | AS17: 0 | AT17: 1 | AU17: 0 | AV17: 0 | AW17: 1 | AX17: 4 | AY17: 2
A18: 彰化縣 | B18: Changhua County | C18: 2 | D18: 0 | E18: 0 | F18: 2 | G18: 2 | H18: 2 | I18: 0 | J18: 3276 | K18: 510 | L18: 2766 | M18: 0 | N18: 1941 | O18: 139 | P18: 1802 | Q18: 0 | R18: 0 | S18: 0 | T18: 0 | U18: 0 | V18: 360 | W18: 0 | X18: 360 | Y18: 0 | Z18: 6 | AA18: 36 | AB18: 0 | AC18: 36 | AD18: 0 | AE18: 12 | AF18: 8363 | AG18: 1915 | AH18: 6448 | AI18: 0 | AJ18: 0 | AK18: 0 | AL18: 0 | AM18: 0 | AN18: 0 | AO18: 145 | AP18: 6213 | AQ18: 1223 | AR18: 4990 | AS18: 0 | AT18: 2 | AU18: 0 | AV18: 1 | AW18: 1 | AX18: 13 | AY18: 8
A19: 南投縣 | B19: Nantou County | C19: 4 | D19: 0 | E19: 0 | F19: 4 | G19: 4 | H19: 4 | I19: 0 | J19: 2776 | K19: 420 | L19: 2356 | M19: 0 | N19: 780 | O19: 109 | P19: 671 | Q19: 0 | R19: 64 | S19: 1 | T19: 63 | U19: 0 | V19: 0 | W19: 0 | X19: 0 | Y19: 0 | Z19: 105 | AA19: 5479 | AB19: 2081 | AC19: 3398 | AD19: 0 | AE19: 5 | AF19: 358 | AG19: 80 | AH19: 278 | AI19: 0 | AJ19: 0 | AK19: 0 | AL19: 0 | AM19: 0 | AN19: 0 | AO19: 63 | AP19: 29239 | AQ19: 5298 | AR19: 23941 | AS19: 0 | AT19: 1 | AU19: 0 | AV19: 0 | AW19: 1 | AX19: 16 | AY19: 9
A20: 雲林縣 | B20: Yunlin County | C20: 1 | D20: 1 | E20: 0 | F20: 0 | G20: 1 | H20: 1 | I20: 0 | J20: 1477 | K20: 258 | L20: 1219 | M20: 0 | N20: 8512 | O20: 2910 | P20: 5602 | Q20: 0 | R20: 0 | S20: 0 | T20: 0 | U20: 0 | V20: 3270 | W20: 1495 | X20: 1775 | Y20: 0 | Z20: 24 | AA20: 386 | AB20: 123 | AC20: 263 | AD20: 0 | AE20: 0 | AF20: 0 | AG20: 0 | AH20: 0 | AI20: 0 | AJ20: 914 | AK20: 13980 | AL20: 3118 | AM20: 10862 | AN20: 0 | AO20: 0 | AP20: 0 | AQ20: 0 | AR20: 0 | AS20: 0 | AT20: 1 | AU20: 0 | AV20: 0 | AW20: 1 | AX20: 15 | AY20: 10
... A30: 連江縣 | B30: Lienchiang County | C30: 1 | D30: 1 | E30: 0 | F30: 0 | G30: 1 | H30: 1 | I30: 0 | J30: 1079 | K30: 288 | L30: 791 | M30: 0 | N30: 0 | O30: 0 | P30: 0 | Q30: 0 | R30: 0 | S30: 0 | T30: 0 | U30: 0 | V30: 0 | W30: 0 | X30: 0 | Y30: 0 | Z30: 0 | AA30: 0 | AB30: 0 | AC30: 0 | AD30: 0 | AE30: 0 | AF30: 0 | AG30: 0 | AH30: 0 | AI30: 0 | AJ30: 0 | AK30: 0 | AL30: 0 | AM30: 0 | AN30: 0 | AO30: 0 | AP30: 0 | AQ30: 0 | AR30: 0 | AS30: 0 | AT30: 0 | AU30: 0 | AV30: 0 | AW30: 0 | AX30: 0 | AY30: 0
A31: 資料來源：直轄市、縣(市)政府
A32: Source : County and City Government.

Sheet 2023
A1: 婦女福利機構服務Women's Welfare Institutional Services
A2: 地區別 Locality | C2: 一、婦女福利服務中心 Welfare Service Center | AL2: 二、婦女中途之家、庇護中心Housing/Sheltering Center
C3: 期底機構數 Number of institutions at the end of the period | J3: 服務內容Service Contents | AL3: 期底機構數 (個) Number of institutions at the end of the period | AP3: 收容數 Number of persons taken in
C4: 期底機構數 按公、私立別分 (個) Number of institutions at the end of the period | G4: 期底機構數 按服務對象分 (個) Number of institutions at the end of the period By service recipients (number) | J4: 成長活動 (人次) Growth activities (Times) | M4: 諮詢服務 (人次) Consulting Service (Person-Times) | P4: 個案管理服務 (人次) Cases Management Service (Person-Times) | S4: 就業支持服務方案(人次) Employment support service program | V4: 團體方案 Team Scheme Service | Z4: 展覽 Exhibitions | AD4: 研討會 Seminars | AH4: 其他 Others | AL4: 合計 Total | AM4: 公立 Public Ins. | AN4: 私立 Private Ins. | AO4: 公設民營Public Ins. Run by Private Ins. | AP4: 最高可收容人數 (人) No.of Providing | AQ4: 本期收容個案數 (人次) Accommodated Persons (Times)
C6: 合計 Total | D6: 公立 Public Ins. | E6: 私立 Private Ins. | F6: 公設民營 Public Ins. Run by Private Ins. | G6: 合計 Total | H6: 婦女 Women | I6: 婦女及兒少 Women,children, and youths | J6: 合計 Total | K6: 男 Male | L6: 女 Female | M6: 合計 Total | N6: 男 Male | O6: 女 Female | P6: 合計 Total | Q6: 男 Male | R6: 女 Female | S6: 合計 Total | T6: 男 Male | U6: 女 Female | V6: 辦理 次數 Times | W6: 參加人次 | Z6: 辦理 次數 Times | AA6: 參加人次 | AD6: 辦理 次數 Times | AE6: 參加人次 | AH6: 辦理 次數 Times | AI6: 參加人次
W7: 合計 Total | X7: 男 Male | Y7: 女 Female | AA7: 合計 Total | AB7: 男 Male | AC7: 女 Female | AE7: 合計 Total | AF7: 男 Male | AG7: 女 Female | AI7: 合計 Total | AJ7: 男 Male | AK7: 女 Female
A8: 112年,2023 | C8: 62 | D8: 19 | E8: 0 | F8: 43 | G8: 62 | H8: 50 | I8: 12 | J8: 545523 | K8: 161905 | L8: 383618 | M8: 254949 | N8: 70030 | O8: 184919 | P8: 101003 | Q8: 21722 | R8: 79281 | S8: 14722 | T8: 3414 | U8: 11308 | V8: 1509 | W8: 28956 | X8: 4130 | Y8: 24826 | Z8: 426 | AA8: 200999 | AB8: 47847 | AC8: 153152 | AD8: 85 | AE8: 2189 | AF8: 321 | AG8: 1868 | AH8: 14507 | AI8: 4672880 | AJ8: 783395 | AK8: 3889485 | AL8: 46 | AM8: 3 | AN8: 27 | AO8: 16 | AP8: 560 | AQ8: 2334
A9: 新北市 | B9: New Taipei City | C9: 3 | D9: 1 | E9: 0 | F9: 2 | G9: 3 | H9: 3 | I9: 0 | J9: 71829 | K9: 4232 | L9: 67597 | M9: 21597 | N9: 2529 | O9: 19068 | P9: 1383 | Q9: 69 | R9: 1314 | S9: 587 | T9: 14 | U9: 573 | V9: 61 | W9: 1222 | X9: 106 | Y9: 1116 | Z9: 35 | AA9: 5769 | AB9: 674 | AC9: 5095 | AD9: 3 | AE9: 295 | AF9: 26 | AG9: 269 | AH9: 173 | AI9: 6055 | AJ9: 536 | AK9: 5519 | AL9: 3 | AM9: 0 | AN9: 0 | AO9: 3 | AP9: 59 | AQ9: 378
A10: 臺北市 | B10: Taipei City | C10: 11 | D10: 0 | E10: 0 | F10: 11 | G10: 11 | H10: 11 | I10: 0 | J10: 8649 | K10: 711 | L10: 7938 | M10: 14449 | N10: 1974 | O10: 12475 | P10: 35035 | Q10: 3009 | R10: 32026 | S10: 1325 | T10: 51 | U10: 1274 | V10: 136 | W10: 1623 | X10: 264 | Y10: 1359 | Z10: 8 | AA10: 15465 | AB10: 3403 | AC10: 12062 | AD10: 9 | AE10: 201 | AF10: 30 | AG10: 171 | AH10: 6747 | AI10: 1297774 | AJ10: 258560 | AK10: 1039214 | AL10: 3 | AM10: 1 | AN10: 0 | AO10: 2 | AP10: 151 | AQ10: 347
A11: 桃園市 | B11: Taoyuan City | C11: 8 | D11: 5 | E11: 0 | F11: 3 | G11: 8 | H11: 3 | I11: 5 | J11: 178944 | K11: 71718 | L11: 107226 | M11: 3630 | N11: 195 | O11: 3435 | P11: 606 | Q11: 0 | R11: 606 | S11: 154 | T11: 0 | U11: 154 | V11: 40 | W11: 700 | X11: 47 | Y11: 653 | Z11: 3 | AA11: 1285 | AB11: 253 | AC11: 1032 | AD11: 0 | AE11: 0 | AF11: 0 | AG11: 0 | AH11: 0 | AI11: 0 | AJ11: 0 | AK11: 0 | AL11: 2 | AM11: 0 | AN11: 0 | AO11: 2 | AP11: 53 | AQ11: 381
A12: 臺中市 | B12: Taichung City | C12: 12 | D12: 1 | E12: 0 | F12: 11 | G12: 12 | H12: 9 | I12: 3 | J12: 17967 | K12: 3085 | L12: 14882 | M12: 31127 | N12: 6024 | O12: 25103 | P12: 14391 | Q12: 1462 | R12: 12929 | S12: 1958 | T12: 93 | U12: 1865 | V12: 164 | W12: 3421 | X12: 529 | Y12: 2892 | Z12: 103 | AA12: 123929 | AB12: 28742 | AC12: 95187 | AD12: 33 | AE12: 686 | AF12: 93 | AG12: 593 | AH12: 728 | AI12: 2957402 | AJ12: 425937 | AK12: 2531465 | AL12: 14 | AM12: 0 | AN12: 14 | AO12: 0 | AP12: 59 | AQ12: 292
A13: 臺南市 | B13: Tainan City | C13: 2 | D13: 0 | E13: 0 | F13: 2 | G13: 2 | H13: 2 | I13: 0 | J13: 11070 | K13: 2868 | L13: 8202 | M13: 26850 | N13: 8232 | O13: 18618 | P13: 29976 | Q13: 9789 | R13: 20187 | S13: 451 | T13: 173 | U13: 278 | V13: 169 | W13: 6061 | X13: 1451 | Y13: 4610 | Z13: 0 | AA13: 0 | AB13: 0 | AC13: 0 | AD13: 11 | AE13: 87 | AF13: 0 | AG13: 87 | AH13: 232 | AI13: 103288 | AJ13: 10601 | AK13: 92687 | AL13: 2 | AM13: 0 | AN13: 2 | AO13: 0 | AP13: 14 | AQ13: 73
A14: 高雄市 | B14: Kaohsiung City | C14: 4 | D14: 2 | E14: 0 | F14: 2 | G14: 4 | H14: 1 | I14: 3 | J14: 115594 | K14: 32971 | L14: 82623 | M14: 102272 | N14: 31974 | O14: 70298 | P14: 0 | Q14: 0 | R14: 0 | S14: 9300 | T14: 2951 | U14: 6349 | V14: 318 | W14: 6165 | X14: 668 | Y14: 5497 | Z14: 36 | AA14: 7647 | AB14: 2419 | AC14: 5228 | AD14: 0 | AE14: 0 | AF14: 0 | AG14: 0 | AH14: 4059 | AI14: 162243 | AJ14: 64197 | AK14: 98046 | AL14: 2 | AM14: 0 | AN14: 0 | AO14: 2 | AP14: 26 | AQ14: 133
A15: 宜蘭縣 | B15: Yilan County | C15: 1 | D15: 1 | E15: 0 | F15: 0 | G15: 1 | H15: 1 | I15: 0 | J15: 187 | K15: 55 | L15: 132 | M15: 26283 | N15: 12351 | O15: 13932 | P15: 10312 | Q15: 4730 | R15: 5582 | S15: 0 | T15: 0 | U15: 0 | V15: 2 | W15: 54 | X15: 0 | Y15: 54 | Z15: 0 | AA15: 0 | AB15: 0 | AC15: 0 | AD15: 0 | AE15: 0 | AF15: 0 | AG15: 0 | AH15: 0 | AI15: 0 | AJ15: 0 | AK15: 0 | AL15: 2 | AM15: 0 | AN15: 2 | AO15: 0 | AP15: 24 | AQ15: 118
A16: 新竹縣 | B16: Hsinchu County | C16: 2 | D16: 0 | E16: 0 | F16: 2 | G16: 2 | H16: 2 | I16: 0 | J16: 0 | K16: 0 | L16: 0 | M16: 2057 | N16: 270 | O16: 1787 | P16: 1170 | Q16: 203 | R16: 967 | S16: 0 | T16: 0 | U16: 0 | V16: 26 | W16: 270 | X16: 5 | Y16: 265 | Z16: 5 | AA16: 516 | AB16: 107 | AC16: 409 | AD16: 0 | AE16: 0 | AF16: 0 | AG16: 0 | AH16: 87 | AI16: 16990 | AJ16: 5605 | AK16: 11385 | AL16: 1 | AM16: 0 | AN16: 1 | AO16: 0 | AP16: 5 | AQ16: 15
A17: 苗栗縣 | B17: Miaoli County | C17: 1 | D17: 0 | E17: 0 | F17: 1 | G17: 1 | H17: 1 | I17: 0 | J17: 774 | K17: 138 | L17: 636 | M17: 154 | N17: 20 | O17: 134 | P17: 0 | Q17: 0 | R17: 0 | S17: 0 | T17: 0 | U17: 0 | V17: 20 | W17: 190 | X17: 1 | Y17: 189 | Z17: 32 | AA17: 17513 | AB17: 6402 | AC17: 11111 | AD17: 0 | AE17: 0 | AF17: 0 | AG17: 0 | AH17: 328 | AI17: 6496 | AJ17: 1529 | AK17: 4967 | AL17: 0 | AM17: 0 | AN17: 0 | AO17: 0 | AP17: 0 | AQ17: 0
A18: 彰化縣 | B18: Changhua County | C18: 2 | D18: 0 | E18: 0 | F18: 2 | G18: 2 | H18: 2 | I18: 0 | J18: 4813 | K18: 941 | L18: 3872 | M18: 3206 | N18: 377 | O18: 2829 | P18: 0 | Q18: 0 | R18: 0 | S18: 227 | T18: 8 | U18: 219 | V18: 22 | W18: 329 | X18: 59 | Y18: 270 | Z18: 19 | AA18: 10194 | AB18: 2981 | AC18: 7213 | AD18: 0 | AE18: 0 | AF18: 0 | AG18: 0 | AH18: 303 | AI18: 13491 | AJ18: 2858 | AK18: 10633 | AL18: 2 | AM18: 0 | AN18: 1 | AO18: 1 | AP18: 13 | AQ18: 44
A19: 南投縣 | B19: Nantou County | C19: 4 | D19: 0 | E19: 0 | F19: 4 | G19: 4 | H19: 4 | I19: 0 | J19: 4229 | K19: 1004 | L19: 3225 | M19: 1113 | N19: 159 | O19: 954 | P19: 432 | Q19: 106 | R19: 326 | S19: 249 | T19: 29 | U19: 220 | V19: 75 | W19: 1512 | X19: 291 | Y19: 1221 | Z19: 1 | AA19: 31 | AB19: 7 | AC19: 24 | AD19: 2 | AE19: 47 | AF19: 11 | AG19: 36 | AH19: 84 | AI19: 5392 | AJ19: 1066 | AK19: 4326 | AL19: 1 | AM19: 0 | AN19: 0 | AO19: 1 | AP19: 6 | AQ19: 31
A20: 雲林縣 | B20: Yunlin County | C20: 1 | D20: 1 | E20: 0 | F20: 0 | G20: 1 | H20: 1 | I20: 0 | J20: 13326 | K20: 2556 | L20: 10770 | M20: 4148 | N20: 1248 | O20: 2900 | P20: 0 | Q20: 0 | R20: 0 | S20: 243 | T20: 0 | U20: 243 | V20: 0 | W20: 0 | X20: 0 | Y20: 0 | Z20: 4 | AA20: 7272 | AB20: 1110 | AC20: 6162 | AD20: 0 | AE20: 0 | AF20: 0 | AG20: 0 | AH20: 1215 | AI20: 21367 | AJ20: 3685 | AK20: 17682 | AL20: 1 | AM20: 0 | AN20: 0 | AO20: 1 | AP20: 15 | AQ20: 49
... A30: 連江縣 | B30: Lienchiang County | C30: 1 | D30: 1 | E30: 0 | F30: 0 | G30: 1 | H30: 1 | I30: 0 | J30: 312 | K30: 44 | L30: 268 | M30: 0 | N30: 0 | O30: 0 | P30: 0 | Q30: 0 | R30: 0 | S30: 0 | T30: 0 | U30: 0 | V30: 0 | W30: 0 | X30: 0 | Y30: 0 | Z30: 0 | AA30: 0 | AB30: 0 | AC30: 0 | AD30: 0 | AE30: 0 | AF30: 0 | AG30: 0 | AH30: 0 | AI30: 0 | AJ30: 0 | AK30: 0 | AL30: 0 | AM30: 0 | AN30: 0 | AO30: 0 | AP30: 0 | AQ30: 0
A31: 資料來源：直轄市、縣(市)政府
A32: Source : County and City Government.

Sheet 2022
A1: 婦女福利機構服務Women's Welfare Institutional Services
A2: 地區別 Locality | C2: 一、婦女福利服務中心 Welfare Service Center | AL2: 二、婦女中途之家、庇護中心Housing/Sheltering Center
C3: 期底機構數 Number of institutions at the end of the period | J3: 服務內容Service Contents | AL3: 期底機構數 (個) Number of institutions at the end of the period | AP3: 收容數 Number of persons taken in
C4: 期底機構數 按公、私立別分 (個) Number of institutions at the end of the period | G4: 期底機構數 按服務對象分 (個) Number of institutions at the end of the period By service recipients (number) | J4: 成長活動 (人次) Growth activities (Times) | M4: 諮詢服務 (人次) Consulting Service (Person-Times) | P4: 個案管理服務 (人次) Cases Management Service (Person-Times) | S4: 就業支持服務方案(人次) Employment support service program | V4: 團體方案 Team Scheme Service | Z4: 展覽 Exhibitions | AD4: 研討會 Seminars | AH4: 其他 Others | AL4: 合計 Total | AM4: 公立 Public Ins. | AN4: 私立 Private Ins. | AO4: 公設民營Public Ins. Run by Private Ins. | AP4: 最高可收容人數 (人) No.of Providing | AQ4: 本期收容個案數 (人次) Accommodated Persons (Times)
C6: 合計 Total | D6: 公立 Public Ins. | E6: 私立 Private Ins. | F6: 公設民營 Public Ins. Run by Private Ins. | G6: 合計 Total | H6: 婦女 Women | I6: 婦女及兒少 Women,children, and youths | J6: 合計 Total | K6: 男 Male | L6: 女 Female | M6: 合計 Total | N6: 男 Male | O6: 女 Female | P6: 合計 Total | Q6: 男 Male | R6: 女 Female | S6: 合計 Total | T6: 男 Male | U6: 女 Female | V6: 辦理 次數 Times | W6: 參加人次 | Z6: 辦理 次數 Times | AA6: 參加人次 | AD6: 辦理 次數 Times | AE6: 參加人次 | AH6: 辦理 次數 Times | AI6: 參加人次
W7: 合計 Total | X7: 男 Male | Y7: 女 Female | AA7: 合計 Total | AB7: 男 Male | AC7: 女 Female | AE7: 合計 Total | AF7: 男 Male | AG7: 女 Female | AI7: 合計 Total | AJ7: 男 Male | AK7: 女 Female
A8: 111年,2022 | C8: 58 | D8: 21 | E8: 0 | F8: 37 | G8: 58 | H8: 47 | I8: 11 | J8: 368727 | K8: 93379 | L8: 275348 | M8: 151998 | N8: 38922 | O8: 113076 | P8: 84135 | Q8: 19865 | R8: 64270 | S8: 11049 | T8: 1190 | U8: 9859 | V8: 2324 | W8: 42911 | X8: 4919 | Y8: 37992 | Z8: 120 | AA8: 53183 | AB8: 14077 | AC8: 39106 | AD8: 662 | AE8: 31410 | AF8: 8458 | AG8: 22952 | AH8: 12562 | AI8: 2935016 | AJ8: 587574 | AK8: 2347442 | AL8: 49 | AM8: 3 | AN8: 30 | AO8: 16 | AP8: 566 | AQ8: 1958
A9: 新北市 | B9: New Taipei City | C9: 3 | D9: 1 | E9: 0 | F9: 2 | G9: 3 | H9: 3 | I9: 0 | J9: 68046 | K9: 5793 | L9: 62253 | M9: 13106 | N9: 348 | O9: 12758 | P9: 1222 | Q9: 283 | R9: 939 | S9: 981 | T9: 135 | U9: 846 | V9: 97 | W9: 1665 | X9: 241 | Y9: 1424 | Z9: 8 | AA9: 828 | AB9: 157 | AC9: 671 | AD9: 6 | AE9: 176 | AF9: 36 | AG9: 140 | AH9: 196 | AI9: 4285 | AJ9: 672 | AK9: 3613 | AL9: 3 | AM9: 0 | AN9: 0 | AO9: 3 | AP9: 66 | AQ9: 467
A10: 臺北市 | B10: Taipei City | C10: 10 | D10: 0 | E10: 0 | F10: 10 | G10: 10 | H10: 10 | I10: 0 | J10: 8205 | K10: 473 | L10: 7732 | M10: 11057 | N10: 1049 | O10: 10008 | P10: 29272 | Q10: 2718 | R10: 26554 | S10: 722 | T10: 41 | U10: 681 | V10: 163 | W10: 2446 | X10: 482 | Y10: 1964 | Z10: 24 | AA10: 8195 | AB10: 2309 | AC10: 5886 | AD10: 2 | AE10: 14 | AF10: 4 | AG10: 10 | AH10: 5560 | AI10: 2411224 | AJ10: 437323 | AK10: 1973901 | AL10: 3 | AM10: 1 | AN10: 0 | AO10: 2 | AP10: 151 | AQ10: 314
A11: 桃園市 | B11: Taoyuan City | C11: 8 | D11: 5 | E11: 0 | F11: 3 | G11: 8 | H11: 3 | I11: 5 | J11: 99592 | K11: 37705 | L11: 61887 | M11: 3459 | N11: 866 | O11: 2593 | P11: 2652 | Q11: 1193 | R11: 1459 | S11: 452 | T11: 65 | U11: 387 | V11: 69 | W11: 834 | X11: 236 | Y11: 598 | Z11: 7 | AA11: 1925 | AB11: 469 | AC11: 1456 | AD11: 0 | AE11: 0 | AF11: 0 | AG11: 0 | AH11: 1343 | AI11: 26124 | AJ11: 6363 | AK11: 19761 | AL11: 3 | AM11: 0 | AN11: 0 | AO11: 3 | AP11: 53 | AQ11: 237
A12: 臺中市 | B12: Taichung City | C12: 10 | D12: 1 | E12: 0 | F12: 9 | G12: 10 | H12: 8 | I12: 2 | J12: 4194 | K12: 572 | L12: 3622 | M12: 22257 | N12: 2440 | O12: 19817 | P12: 9276 | Q12: 517 | R12: 8759 | S12: 1443 | T12: 77 | U12: 1366 | V12: 60 | W12: 924 | X12: 117 | Y12: 807 | Z12: 8 | AA12: 7292 | AB12: 2201 | AC12: 5091 | AD12: 157 | AE12: 582 | AF12: 55 | AG12: 527 | AH12: 836 | AI12: 46858 | AJ12: 8632 | AK12: 38226 | AL12: 15 | AM12: 0 | AN12: 15 | AO12: 0 | AP12: 50 | AQ12: 155
A13: 臺南市 | B13: Tainan City | C13: 2 | D13: 2 | E13: 0 | F13: 0 | G13: 2 | H13: 2 | I13: 0 | J13: 2692 | K13: 141 | L13: 2551 | M13: 19829 | N13: 7075 | O13: 12754 | P13: 28055 | Q13: 9476 | R13: 18579 | S13: 1102 | T13: 90 | U13: 1012 | V13: 107 | W13: 3379 | X13: 937 | Y13: 2442 | Z13: 3 | AA13: 4136 | AB13: 1266 | AC13: 2870 | AD13: 376 | AE13: 26476 | AF13: 7939 | AG13: 18537 | AH13: 331 | AI13: 61685 | AJ13: 10261 | AK13: 51424 | AL13: 2 | AM13: 0 | AN13: 2 | AO13: 0 | AP13: 12 | AQ13: 45
A14: 高雄市 | B14: Kaohsiung City | C14: 4 | D14: 2 | E14: 0 | F14: 2 | G14: 4 | H14: 1 | I14: 3 | J14: 76091 | K14: 20795 | L14: 55296 | M14: 39975 | N14: 11142 | O14: 28833 | P14: 0 | Q14: 0 | R14: 0 | S14: 3888 | T14: 717 | U14: 3171 | V14: 1237 | W14: 20867 | X14: 1308 | Y14: 19559 | Z14: 7 | AA14: 8035 | AB14: 2713 | AC14: 5322 | AD14: 109 | AE14: 3976 | AF14: 387 | AG14: 3589 | AH14: 1826 | AI14: 318023 | AJ14: 112378 | AK14: 205645 | AL14: 2 | AM14: 0 | AN14: 0 | AO14: 2 | AP14: 26 | AQ14: 137
A15: 宜蘭縣 | B15: Yilan County | C15: 1 | D15: 1 | E15: 0 | F15: 0 | G15: 1 | H15: 1 | I15: 0 | J15: 0 | K15: 0 | L15: 0 | M15: 24450 | N15: 11530 | O15: 12920 | P15: 9641 | Q15: 4332 | R15: 5309 | S15: 0 | T15: 0 | U15: 0 | V15: 12 | W15: 3436 | X15: 264 | Y15: 3172 | Z15: 12 | AA15: 2578 | AB15: 1089 | AC15: 1489 | AD15: 0 | AE15: 0 | AF15: 0 | AG15: 0 | AH15: 28 | AI15: 1117 | AJ15: 257 | AK15: 860 | AL15: 2 | AM15: 0 | AN15: 2 | AO15: 0 | AP15: 24 | AQ15: 62
A16: 新竹縣 | B16: Hsinchu County | C16: 1 | D16: 0 | E16: 0 | F16: 1 | G16: 1 | H16: 1 | I16: 0 | J16: 388 | K16: 170 | L16: 218 | M16: 1837 | N16: 341 | O16: 1496 | P16: 856 | Q16: 106 | R16: 750 | S16: 0 | T16: 0 | U16: 0 | V16: 22 | W16: 280 | X16: 187 | Y16: 93 | Z16: 0 | AA16: 0 | AB16: 0 | AC16: 0 | AD16: 0 | AE16: 0 | AF16: 0 | AG16: 0 | AH16: 6 | AI16: 876 | AJ16: 544 | AK16: 332 | AL16: 1 | AM16: 0 | AN16: 1 | AO16: 0 | AP16: 8 | AQ16: 22
A17: 苗栗縣 | B17: Miaoli County | C17: 1 | D17: 0 | E17: 0 | F17: 1 | G17: 1 | H17: 1 | I17: 0 | J17: 3268 | K17: 549 | L17: 2719 | M17: 102 | N17: 0 | O17: 102 | P17: 0 | Q17: 0 | R17: 0 | S17: 99 | T17: 0 | U17: 99 | V17: 24 | W17: 163 | X17: 0 | Y17: 163 | Z17: 1 | AA17: 200 | AB17: 43 | AC17: 157 | AD17: 0 | AE17: 0 | AF17: 0 | AG17: 0 | AH17: 32 | AI17: 893 | AJ17: 161 | AK17: 732 | AL17: 0 | AM17: 0 | AN17: 0 | AO17: 0 | AP17: 0 | AQ17: 0
A18: 彰化縣 | B18: Changhua County | C18: 2 | D18: 0 | E18: 0 | F18: 2 | G18: 2 | H18: 2 | I18: 0 | J18: 4783 | K18: 1112 | L18: 3671 | M18: 2232 | N18: 239 | O18: 1993 | P18: 0 | Q18: 0 | R18: 0 | S18: 92 | T18: 2 | U18: 90 | V18: 18 | W18: 264 | X18: 32 | Y18: 232 | Z18: 11 | AA18: 8218 | AB18: 1048 | AC18: 7170 | AD18: 0 | AE18: 0 | AF18: 0 | AG18: 0 | AH18: 143 | AI18: 10775 | AJ18: 1868 | AK18: 8907 | AL18: 2 | AM18: 0 | AN18: 2 | AO18: 0 | AP18: 14 | AQ18: 29
A19: 南投縣 | B19: Nantou County | C19: 4 | D19: 0 | E19: 0 | F19: 4 | G19: 4 | H19: 4 | I19: 0 | J19: 3234 | K19: 1097 | L19: 2137 | M19: 972 | N19: 215 | O19: 757 | P19: 211 | Q19: 9 | R19: 202 | S19: 8 | T19: 1 | U19: 7 | V19: 46 | W19: 1031 | X19: 186 | Y19: 845 | Z19: 5 | AA19: 1781 | AB19: 518 | AC19: 1263 | AD19: 4 | AE19: 101 | AF19: 13 | AG19: 88 | AH19: 42 | AI19: 2742 | AJ19: 961 | AK19: 1781 | AL19: 1 | AM19: 0 | AN19: 0 | AO19: 1 | AP19: 6 | AQ19: 2
A20: 雲林縣 | B20: Yunlin County | C20: 1 | D20: 1 | E20: 0 | F20: 0 | G20: 1 | H20: 1 | I20: 0 | J20: 11134 | K20: 1580 | L20: 9554 | M20: 290 | N20: 30 | O20: 260 | P20: 0 | Q20: 0 | R20: 0 | S20: 0 | T20: 0 | U20: 0 | V20: 0 | W20: 0 | X20: 0 | Y20: 0 | Z20: 2 | AA20: 3294 | AB20: 691 | AC20: 2603 | AD20: 0 | AE20: 0 | AF20: 0 | AG20: 0 | AH20: 1382 | AI20: 17860 | AJ20: 3864 | AK20: 13996 | AL20: 1 | AM20: 0 | AN20: 0 | AO20: 1 | AP20: 15 | AQ20: 43
... A30: 連江縣 | B30: Lienchiang County | C30: 1 | D30: 1 | E30: 0 | F30: 0 | G30: 1 | H30: 1 | I30: 0 | J30: 1185 | K30: 331 | L30: 854 | M30: 0 | N30: 0 | O30: 0 | P30: 0 | Q30: 0 | R30: 0 | S30: 0 | T30: 0 | U30: 0 | V30: 0 | W30: 0 | X30: 0 | Y30: 0 | Z30: 0 | AA30: 0 | AB30: 0 | AC30: 0 | AD30: 0 | AE30: 0 | AF30: 0 | AG30: 0 | AH30: 0 | AI30: 0 | AJ30: 0 | AK30: 0 | AL30: 0 | AM30: 0 | AN30: 0 | AO30: 0 | AP30: 0 | AQ30: 0
A31: 資料來源：直轄市、縣(市)政府
A32: Source : County and City Government.

Sheet 2021
A1: 婦女福利機構服務Women's Welfare Institutional Services
A2: 地區別 Locality | C2: 一、婦女福利服務中心 Welfare Service Center | AL2: 二、婦女中途之家、庇護中心Housing/Sheltering Center
C3: 期底機構數 Number of institutions at the end of the period | J3: 服務內容Service Contents | AL3: 期底機構數 (個) Number of institutions at the end of the period | AP3: 收容數 Number of persons taken in
C4: 期底機構數 按公、私立別分 (個) Number of institutions at the end of the period | G4: 期底機構數 按服務對象分 (個) Number of institutions at the end of the period By service recipients (number) | J4: 成長活動 (人次) Growth activities (Times) | M4: 諮詢服務 (人次) Consulting Service (Person-Times) | P4: 個案管理服務 (人次) Cases Management Service (Person-Times) | S4: 就業支持服務方案(人次) Employment support service program | V4: 團體方案 Team Scheme Service | Z4: 展覽 Exhibitions | AD4: 研討會 Seminars | AH4: 其他 Others | AL4: 合計 Total | AM4: 公立 Public Ins. | AN4: 私立 Private Ins. | AO4: 公設民營Public Ins. Run by Private Ins. | AP4: 最高可收容人數 (人) No.of Providing | AQ4: 本期收容個案數 (人次) Accommodated Persons (Times)
C6: 合計 Total | D6: 公立 Public Ins. | E6: 私立 Private Ins. | F6: 公設民營 Public Ins. Run by Private Ins. | G6: 合計 Total | H6: 婦女 Women | I6: 婦女及兒少 Women,children, and youths | J6: 合計 Total | K6: 男 Male | L6: 女 Female | M6: 合計 Total | N6: 男 Male | O6: 女 Female | P6: 合計 Total | Q6: 男 Male | R6: 女 Female | S6: 合計 Total | T6: 男 Male | U6: 女 Female | V6: 辦理 次數 Times | W6: 參加人次 | Z6: 辦理 次數 Times | AA6: 參加人次 | AD6: 辦理 次數 Times | AE6: 參加人次 | AH6: 辦理 次數 Times | AI6: 參加人次
W7: 合計 Total | X7: 男 Male | Y7: 女 Female | AA7: 合計 Total | AB7: 男 Male | AC7: 女 Female | AE7: 合計 Total | AF7: 男 Male | AG7: 女 Female | AI7: 合計 Total | AJ7: 男 Male | AK7: 女 Female
A8: 110年,2021 | C8: 62 | D8: 26 | E8: 0 | F8: 36 | G8: 62 | H8: 45 | I8: 17 | J8: 119544 | K8: 18598 | L8: 100946 | M8: 119505 | N8: 27653 | O8: 91852 | P8: 66597 | Q8: 12847 | R8: 53750 | S8: 14111 | T8: 2685 | U8: 11426 | V8: 1640 | W8: 34240 | X8: 4391 | Y8: 29849 | Z8: 141 | AA8: 62307 | AB8: 14898 | AC8: 47409 | AD8: 45 | AE8: 1820 | AF8: 332 | AG8: 1488 | AH8: 10949 | AI8: 2136205 | AJ8: 554299 | AK8: 1581906 | AL8: 49 | AM8: 3 | AN8: 30 | AO8: 16 | AP8: 557 | AQ8: 1905
A9: 新北市 | B9: New Taipei City | C9: 2 | D9: 0 | E9: 0 | F9: 2 | G9: 2 | H9: 1 | I9: 1 | J9: 4339 | K9: 328 | L9: 4011 | M9: 7396 | N9: 1378 | O9: 6018 | P9: 266 | Q9: 82 | R9: 184 | S9: 146 | T9: 25 | U9: 121 | V9: 28 | W9: 492 | X9: 38 | Y9: 454 | Z9: 4 | AA9: 2819 | AB9: 346 | AC9: 2473 | AD9: 2 | AE9: 18 | AF9: 6 | AG9: 12 | AH9: 139 | AI9: 2522 | AJ9: 359 | AK9: 2163 | AL9: 3 | AM9: 0 | AN9: 0 | AO9: 3 | AP9: 59 | AQ9: 575
A10: 臺北市 | B10: Taipei City | C10: 10 | D10: 0 | E10: 0 | F10: 10 | G10: 10 | H10: 10 | I10: 0 | J10: 7760 | K10: 1279 | L10: 6481 | M10: 8958 | N10: 717 | O10: 8241 | P10: 29778 | Q10: 2398 | R10: 27380 | S10: 624 | T10: 26 | U10: 598 | V10: 226 | W10: 3269 | X10: 632 | Y10: 2637 | Z10: 5 | AA10: 10642 | AB10: 2014 | AC10: 8628 | AD10: 4 | AE10: 30 | AF10: 3 | AG10: 27 | AH10: 3729 | AI10: 1216259 | AJ10: 239721 | AK10: 976538 | AL10: 3 | AM10: 1 | AN10: 0 | AO10: 2 | AP10: 151 | AQ10: 268
A11: 桃園市 | B11: Taoyuan City | C11: 7 | D11: 5 | E11: 0 | F11: 2 | G11: 7 | H11: 2 | I11: 5 | J11: 6467 | K11: 607 | L11: 5860 | M11: 1074 | N11: 136 | O11: 938 | P11: 0 | Q11: 0 | R11: 0 | S11: 601 | T11: 328 | U11: 273 | V11: 71 | W11: 4103 | X11: 1396 | Y11: 2707 | Z11: 4 | AA11: 823 | AB11: 211 | AC11: 612 | AD11: 7 | AE11: 384 | AF11: 124 | AG11: 260 | AH11: 2750 | AI11: 53325 | AJ11: 9017 | AK11: 44308 | AL11: 2 | AM11: 0 | AN11: 0 | AO11: 2 | AP11: 40 | AQ11: 240
A12: 臺中市 | B12: Taichung City | C12: 10 | D12: 1 | E12: 0 | F12: 9 | G12: 10 | H12: 10 | I12: 0 | J12: 10567 | K12: 1614 | L12: 8953 | M12: 21590 | N12: 2107 | O12: 19483 | P12: 7906 | Q12: 225 | R12: 7681 | S12: 5449 | T12: 1408 | U12: 4041 | V12: 117 | W12: 3963 | X12: 1218 | Y12: 2745 | Z12: 14 | AA12: 18707 | AB12: 5791 | AC12: 12916 | AD12: 0 | AE12: 0 | AF12: 0 | AG12: 0 | AH12: 452 | AI12: 12249 | AJ12: 1632 | AK12: 10617 | AL12: 15 | AM12: 0 | AN12: 15 | AO12: 0 | AP12: 50 | AQ12: 145
A13: 臺南市 | B13: Tainan City | C13: 1 | D13: 1 | E13: 0 | F13: 0 | G13: 1 | H13: 1 | I13: 0 | J13: 18099 | K13: 7673 | L13: 10426 | M13: 18869 | N13: 5585 | O13: 13284 | P13: 15233 | Q13: 4715 | R13: 10518 | S13: 1067 | T13: 72 | U13: 995 | V13: 53 | W13: 399 | X13: 164 | Y13: 235 | Z13: 29 | AA13: 1132 | AB13: 372 | AC13: 760 | AD13: 3 | AE13: 176 | AF13: 24 | AG13: 152 | AH13: 403 | AI13: 25279 | AJ13: 7774 | AK13: 17505 | AL13: 2 | AM13: 0 | AN13: 2 | AO13: 0 | AP13: 16 | AQ13: 67
A14: 高雄市 | B14: Kaohsiung City | C14: 4 | D14: 2 | E14: 0 | F14: 2 | G14: 4 | H14: 1 | I14: 3 | J14: 9722 | K14: 1120 | L14: 8602 | M14: 28577 | N14: 6665 | O14: 21912 | P14: 0 | Q14: 0 | R14: 0 | S14: 4924 | T14: 811 | U14: 4113 | V14: 843 | W14: 15834 | X14: 486 | Y14: 15348 | Z14: 10 | AA14: 1412 | AB14: 434 | AC14: 978 | AD14: 22 | AE14: 1075 | AF14: 147 | AG14: 928 | AH14: 909 | AI14: 758748 | AJ14: 282327 | AK14: 476421 | AL14: 2 | AM14: 0 | AN14: 0 | AO14: 2 | AP14: 26 | AQ14: 66
A15: 宜蘭縣 | B15: Yilan County | C15: 1 | D15: 1 | E15: 0 | F15: 0 | G15: 1 | H15: 1 | I15: 0 | J15: 76 | K15: 12 | L15: 64 | M15: 14469 | N15: 6775 | O15: 7694 | P15: 8786 | Q15: 3810 | R15: 4976 | S15: 0 | T15: 0 | U15: 0 | V15: 15 | W15: 781 | X15: 131 | Y15: 650 | Z15: 1 | AA15: 197 | AB15: 47 | AC15: 150 | AD15: 0 | AE15: 0 | AF15: 0 | AG15: 0 | AH15: 0 | AI15: 0 | AJ15: 0 | AK15: 0 | AL15: 2 | AM15: 0 | AN15: 2 | AO15: 0 | AP15: 27 | AQ15: 44
A16: 新竹縣 | B16: Hsinchu County | C16: 1 | D16: 0 | E16: 0 | F16: 1 | G16: 1 | H16: 1 | I16: 0 | J16: 441 | K16: 36 | L16: 405 | M16: 1182 | N16: 180 | O16: 1002 | P16: 1076 | Q16: 156 | R16: 920 | S16: 0 | T16: 0 | U16: 0 | V16: 27 | W16: 441 | X16: 36 | Y16: 405 | Z16: 2 | AA16: 76 | AB16: 12 | AC16: 64 | AD16: 0 | AE16: 0 | AF16: 0 | AG16: 0 | AH16: 32 | AI16: 1214 | AJ16: 416 | AK16: 798 | AL16: 1 | AM16: 0 | AN16: 1 | AO16: 0 | AP16: 8 | AQ16: 18
A17: 苗栗縣 | B17: Miaoli County | C17: 1 | D17: 0 | E17: 0 | F17: 1 | G17: 1 | H17: 1 | I17: 0 | J17: 1156 | K17: 119 | L17: 1037 | M17: 333 | N17: 31 | O17: 302 | P17: 0 | Q17: 0 | R17: 0 | S17: 0 | T17: 0 | U17: 0 | V17: 3 | W17: 97 | X17: 0 | Y17: 97 | Z17: 0 | AA17: 119 | AB17: 30 | AC17: 89 | AD17: 0 | AE17: 0 | AF17: 0 | AG17: 0 | AH17: 18 | AI17: 3032 | AJ17: 766 | AK17: 2266 | AL17: 0 | AM17: 0 | AN17: 0 | AO17: 0 | AP17: 0 | AQ17: 0
A18: 彰化縣 | B18: Changhua County | C18: 2 | D18: 0 | E18: 0 | F18: 2 | G18: 2 | H18: 2 | I18: 0 | J18: 13749 | K18: 2849 | L18: 10900 | M18: 4911 | N18: 724 | O18: 4187 | P18: 0 | Q18: 0 | R18: 0 | S18: 112 | T18: 3 | U18: 109 | V18: 24 | W18: 278 | X18: 42 | Y18: 236 | Z18: 10 | AA18: 9311 | AB18: 2561 | AC18: 6750 | AD18: 0 | AE18: 0 | AF18: 0 | AG18: 0 | AH18: 59 | AI18: 4331 | AJ18: 990 | AK18: 3341 | AL18: 2 | AM18: 0 | AN18: 1 | AO18: 1 | AP18: 14 | AQ18: 28
A19: 南投縣 | B19: Nantou County | C19: 4 | D19: 0 | E19: 0 | F19: 4 | G19: 4 | H19: 4 | I19: 0 | J19: 3259 | K19: 776 | L19: 2483 | M19: 1036 | N19: 244 | O19: 792 | P19: 323 | Q19: 59 | R19: 264 | S19: 10 | T19: 7 | U19: 3 | V19: 29 | W19: 491 | X19: 72 | Y19: 419 | Z19: 0 | AA19: 0 | AB19: 0 | AC19: 0 | AD19: 2 | AE19: 46 | AF19: 9 | AG19: 37 | AH19: 85 | AI19: 2575 | AJ19: 1102 | AK19: 1473 | AL19: 1 | AM19: 0 | AN19: 0 | AO19: 1 | AP19: 6 | AQ19: 11
A20: 雲林縣 | B20: Yunlin County | C20: 1 | D20: 1 | E20: 0 | F20: 0 | G20: 1 | H20: 1 | I20: 0 | J20: 11757 | K20: 1237 | L20: 10520 | M20: 530 | N20: 0 | O20: 530 | P20: 0 | Q20: 0 | R20: 0 | S20: 0 | T20: 0 | U20: 0 | V20: 0 | W20: 0 | X20: 0 | Y20: 0 | Z20: 2 | AA20: 3025 | AB20: 682 | AC20: 2343 | AD20: 0 | AE20: 0 | AF20: 0 | AG20: 0 | AH20: 1413 | AI20: 23560 | AJ20: 6487 | AK20: 17073 | AL20: 1 | AM20: 0 | AN20: 0 | AO20: 1 | AP20: 15 | AQ20: 52
... A30: 連江縣 | B30: Lienchiang County | C30: 1 | D30: 1 | E30: 0 | F30: 0 | G30: 1 | H30: 1 | I30: 0 | J30: 57 | K30: 0 | L30: 57 | M30: 0 | N30: 0 | O30: 0 | P30: 0 | Q30: 0 | R30: 0 | S30: 0 | T30: 0 | U30: 0 | V30: 2 | W30: 77 | X30: 0 | Y30: 77 | Z30: 0 | AA30: 0 | AB30: 0 | AC30: 0 | AD30: 0 | AE30: 0 | AF30: 0 | AG30: 0 | AH30: 0 | AI30: 0 | AJ30: 0 | AK30: 0 | AL30: 0 | AM30: 0 | AN30: 0 | AO30: 0 | AP30: 0 | AQ30: 0
A31: 資料來源：直轄市、縣(市)政府
A32: Source : County and City Government.

Sheet 2019
A1: 婦女福利機構服務Women's Welfare Institutional Services
A2: 地區別 Locality | C2: 一、婦女福利服務中心 Welfare Service Center | AL2: 二、婦女中途之家、庇護中心Housing/Sheltering Center
C3: 期底機構數 Number of institutions at the end of the period | J3: 服務內容Service Contents | AL3: 期底機構數 (個) Number of institutions at the end of the period | AP3: 收容數 Number of persons taken in
C4: 期底機構數 按公、私立別分 (個) Number of institutions at the end of the period | G4: 期底機構數 按服務對象分 (個) Number of institutions at the end of the period By service recipients (number) | J4: 成長活動 (人次) Growth activities (Times) | M4: 諮詢服務 (人次) Consulting Service (Person-Times) | P4: 個案管理服務 (人次) Cases Management Service (Person-Times) | S4: 就業支持服務方案(人次) Employment support service program | V4: 團體方案 Team Scheme Service | Z4: 展覽 Exhibitions | AD4: 研討會 Seminars | AH4: 其他 Others | AL4: 合計 Total | AM4: 公立 Public Ins. | AN4: 私立 Private Ins. | AO4: 公設民營Public Ins. Run by Private Ins. | AP4: 最高可收容人數 (人) No.of Providing | AQ4: 本期收容個案數 (人次) Accommodated Persons (Times)
C6: 合計 Total | D6: 公立 Public Ins. | E6: 私立 Private Ins. | F6: 公設民營 Public Ins. Run by Private Ins. | G6: 合計 Total | H6: 婦女 Women | I6: 婦女及兒少 Women,children, and youths | J6: 合計 Total | K6: 男 Male | L6: 女 Female | M6: 合計 Total | N6: 男 Male | O6: 女 Female | P6: 合計 Total | Q6: 男 Male | R6: 女 Female | S6: 合計 Total | T6: 男 Male | U6: 女 Female | V6: 辦理 次數 Times | W6: 參加人次 | Z6: 辦理 次數 Times | AA6: 參加人次 | AD6: 辦理 次數 Times | AE6: 參加人次 | AH6: 辦理 次數 Times | AI6: 參加人次
W7: 合計 Total | X7: 男 Male | Y7: 女 Female | AA7: 合計 Total | AB7: 男 Male | AC7: 女 Female | AE7: 合計 Total | AF7: 男 Male | AG7: 女 Female | AI7: 合計 Total | AJ7: 男 Male | AK7: 女 Female
A8: 108年,2019 | C8: 61 | D8: 27 | E8: 0 | F8: 34 | G8: 61 | H8: 42 | I8: 19 | J8: 132321 | K8: 18677 | L8: 113644 | M8: 134390 | N8: 23924 | O8: 110466 | P8: 75064 | Q8: 8588 | R8: 66476 | S8: 11520 | T8: 1424 | U8: 10096 | V8: 1822 | W8: 46645 | X8: 5381 | Y8: 41264 | Z8: 615 | AA8: 82120 | AB8: 20036 | AC8: 62084 | AD8: 44 | AE8: 1045 | AF8: 192 | AG8: 853 | AH8: 13497 | AI8: 1337109 | AJ8: 291339 | AK8: 1045770 | AL8: 49 | AM8: 3 | AN8: 30 | AO8: 16 | AP8: 609 | AQ8: 2400
A9: 新北市 | B9: New Taipei City | C9: 3 | D9: 0 | E9: 0 | F9: 3 | G9: 3 | H9: 3 | I9: 0 | J9: 6722 | K9: 1166 | L9: 5556 | M9: 7102 | N9: 1330 | O9: 5772 | P9: 472 | Q9: 162 | R9: 310 | S9: 84 | T9: 29 | U9: 55 | V9: 6 | W9: 268 | X9: 138 | Y9: 130 | Z9: 2 | AA9: 3509 | AB9: 543 | AC9: 2966 | AD9: 5 | AE9: 166 | AF9: 28 | AG9: 138 | AH9: 326 | AI9: 6909 | AJ9: 1819 | AK9: 5090 | AL9: 3 | AM9: 0 | AN9: 0 | AO9: 3 | AP9: 66 | AQ9: 584
A10: 臺北市 | B10: Taipei City | C10: 9 | D10: 0 | E10: 0 | F10: 9 | G10: 9 | H10: 9 | I10: 0 | J10: 5336 | K10: 552 | L10: 4784 | M10: 7437 | N10: 855 | O10: 6582 | P10: 31649 | Q10: 2254 | R10: 29395 | S10: 1878 | T10: 569 | U10: 1309 | V10: 131 | W10: 2680 | X10: 302 | Y10: 2378 | Z10: 4 | AA10: 6605 | AB10: 18 | AC10: 6587 | AD10: 4 | AE10: 95 | AF10: 18 | AG10: 77 | AH10: 3036 | AI10: 37812 | AJ10: 8227 | AK10: 29585 | AL10: 3 | AM10: 1 | AN10: 0 | AO10: 2 | AP10: 154 | AQ10: 329
A11: 桃園市 | B11: Taoyuan City | C11: 9 | D11: 7 | E11: 0 | F11: 2 | G11: 9 | H11: 3 | I11: 6 | J11: 26491 | K11: 5611 | L11: 20880 | M11: 2054 | N11: 403 | O11: 1651 | P11: 0 | Q11: 0 | R11: 0 | S11: 2051 | T11: 278 | U11: 1773 | V11: 295 | W11: 8621 | X11: 1390 | Y11: 7231 | Z11: 3 | AA11: 1062 | AB11: 249 | AC11: 813 | AD11: 0 | AE11: 0 | AF11: 0 | AG11: 0 | AH11: 2583 | AI11: 45068 | AJ11: 12197 | AK11: 32871 | AL11: 2 | AM11: 0 | AN11: 0 | AO11: 2 | AP11: 40 | AQ11: 388
A12: 臺中市 | B12: Taichung City | C12: 9 | D12: 1 | E12: 0 | F12: 8 | G12: 9 | H12: 7 | I12: 2 | J12: 4867 | K12: 689 | L12: 4178 | M12: 27923 | N12: 2057 | O12: 25866 | P12: 18325 | Q12: 0 | R12: 18325 | S12: 1732 | T12: 0 | U12: 1732 | V12: 141 | W12: 2298 | X12: 212 | Y12: 2086 | Z12: 246 | AA12: 9982 | AB12: 2631 | AC12: 7351 | AD12: 8 | AE12: 39 | AF12: 5 | AG12: 34 | AH12: 902 | AI12: 771143 | AJ12: 105597 | AK12: 665546 | AL12: 16 | AM12: 0 | AN12: 16 | AO12: 0 | AP12: 98 | AQ12: 185
A13: 臺南市 | B13: Tainan City | C13: 1 | D13: 1 | E13: 0 | F13: 0 | G13: 1 | H13: 1 | I13: 0 | J13: 4405 | K13: 1373 | L13: 3032 | M13: 12109 | N13: 3435 | O13: 8674 | P13: 16736 | Q13: 3471 | R13: 13265 | S13: 297 | T13: 46 | U13: 251 | V13: 27 | W13: 211 | X13: 33 | Y13: 178 | Z13: 2 | AA13: 12545 | AB13: 3451 | AC13: 9094 | AD13: 2 | AE13: 11 | AF13: 1 | AG13: 10 | AH13: 50 | AI13: 42386 | AJ13: 15487 | AK13: 26899 | AL13: 2 | AM13: 0 | AN13: 2 | AO13: 0 | AP13: 14 | AQ13: 65
A14: 高雄市 | B14: Kaohsiung City | C14: 4 | D14: 2 | E14: 0 | F14: 2 | G14: 4 | H14: 1 | I14: 3 | J14: 19995 | K14: 2689 | L14: 17306 | M14: 33648 | N14: 6971 | O14: 26677 | P14: 0 | Q14: 0 | R14: 0 | S14: 3094 | T14: 188 | U14: 2906 | V14: 954 | W14: 21628 | X14: 873 | Y14: 20755 | Z14: 311 | AA14: 6726 | AB14: 1209 | AC14: 5517 | AD14: 3 | AE14: 281 | AF14: 63 | AG14: 218 | AH14: 4932 | AI14: 355507 | AJ14: 128111 | AK14: 227396 | AL14: 1 | AM14: 0 | AN14: 0 | AO14: 1 | AP14: 24 | AQ14: 225
A15: 宜蘭縣 | B15: Yilan County | C15: 1 | D15: 1 | E15: 0 | F15: 0 | G15: 1 | H15: 1 | I15: 0 | J15: 241 | K15: 29 | L15: 212 | M15: 22526 | N15: 3755 | O15: 18771 | P15: 2578 | Q15: 849 | R15: 1729 | S15: 202 | T15: 21 | U15: 181 | V15: 4 | W15: 18 | X15: 3 | Y15: 15 | Z15: 1 | AA15: 42 | AB15: 11 | AC15: 31 | AD15: 0 | AE15: 0 | AF15: 0 | AG15: 0 | AH15: 0 | AI15: 0 | AJ15: 0 | AK15: 0 | AL15: 2 | AM15: 0 | AN15: 2 | AO15: 0 | AP15: 29 | AQ15: 22
A16: 新竹縣 | B16: Hsinchu County | C16: 1 | D16: 0 | E16: 0 | F16: 1 | G16: 1 | H16: 1 | I16: 0 | J16: 267 | K16: 14 | L16: 253 | M16: 1209 | N16: 171 | O16: 1038 | P16: 0 | Q16: 0 | R16: 0 | S16: 0 | T16: 0 | U16: 0 | V16: 1 | W16: 267 | X16: 14 | Y16: 253 | Z16: 0 | AA16: 0 | AB16: 0 | AC16: 0 | AD16: 0 | AE16: 0 | AF16: 0 | AG16: 0 | AH16: 14 | AI16: 1516 | AJ16: 674 | AK16: 842 | AL16: 1 | AM16: 0 | AN16: 1 | AO16: 0 | AP16: 8 | AQ16: 19
A17: 苗栗縣 | B17: Miaoli County | C17: 1 | D17: 0 | E17: 0 | F17: 1 | G17: 1 | H17: 1 | I17: 0 | J17: 1596 | K17: 335 | L17: 1261 | M17: 316 | N17: 56 | O17: 260 | P17: 0 | Q17: 0 | R17: 0 | S17: 0 | T17: 0 | U17: 0 | V17: 14 | W17: 307 | X17: 37 | Y17: 270 | Z17: 2 | AA17: 735 | AB17: 257 | AC17: 478 | AD17: 0 | AE17: 0 | AF17: 0 | AG17: 0 | AH17: 30 | AI17: 2236 | AJ17: 199 | AK17: 2037 | AL17: 1 | AM17: 0 | AN17: 1 | AO17: 0 | AP17: 4 | AQ17: 31
A18: 彰化縣 | B18: Changhua County | C18: 2 | D18: 0 | E18: 0 | F18: 2 | G18: 2 | H18: 2 | I18: 0 | J18: 2599 | K18: 427 | L18: 2172 | M18: 2982 | N18: 304 | O18: 2678 | P18: 0 | Q18: 0 | R18: 0 | S18: 0 | T18: 0 | U18: 0 | V18: 0 | W18: 816 | X18: 36 | Y18: 780 | Z18: 7 | AA18: 12126 | AB18: 2948 | AC18: 9178 | AD18: 0 | AE18: 0 | AF18: 0 | AG18: 0 | AH18: 128 | AI18: 5129 | AJ18: 1234 | AK18: 3895 | AL18: 2 | AM18: 0 | AN18: 1 | AO18: 1 | AP18: 16 | AQ18: 80
A19: 南投縣 | B19: Nantou County | C19: 3 | D19: 0 | E19: 0 | F19: 3 | G19: 3 | H19: 3 | I19: 0 | J19: 1612 | K19: 315 | L19: 1297 | M19: 1089 | N19: 153 | O19: 936 | P19: 382 | Q19: 66 | R19: 316 | S19: 0 | T19: 0 | U19: 0 | V19: 81 | W19: 2830 | X19: 419 | Y19: 2411 | Z19: 0 | AA19: 0 | AB19: 0 | AC19: 0 | AD19: 1 | AE19: 17 | AF19: 1 | AG19: 16 | AH19: 12 | AI19: 1303 | AJ19: 477 | AK19: 826 | AL19: 1 | AM19: 0 | AN19: 0 | AO19: 1 | AP19: 6 | AQ19: 26
A20: 雲林縣 | B20: Yunlin County | C20: 1 | D20: 1 | E20: 0 | F20: 0 | G20: 1 | H20: 1 | I20: 0 | J20: 950 | K20: 45 | L20: 905 | M20: 8861 | N20: 2666 | O20: 6195 | P20: 0 | Q20: 0 | R20: 0 | S20: 0 | T20: 0 | U20: 0 | V20: 0 | W20: 0 | X20: 0 | Y20: 0 | Z20: 2 | AA20: 16000 | AB20: 7000 | AC20: 9000 | AD20: 0 | AE20: 0 | AF20: 0 | AG20: 0 | AH20: 1061 | AI20: 31635 | AJ20: 8853 | AK20: 22782 | AL20: 1 | AM20: 0 | AN20: 0 | AO20: 1 | AP20: 15 | AQ20: 39
... A30: 連江縣 | B30: Lienchiang County | C30: 1 | D30: 1 | E30: 0 | F30: 0 | G30: 1 | H30: 1 | I30: 0 | J30: 180 | K30: 13 | L30: 167 | M30: 0 | N30: 0 | O30: 0 | P30: 0 | Q30: 0 | R30: 0 | S30: 52 | T30: 2 | U30: 50 | V30: 0 | W30: 0 | X30: 0 | Y30: 0 | Z30: 0 | AA30: 0 | AB30: 0 | AC30: 0 | AD30: 0 | AE30: 0 | AF30: 0 | AG30: 0 | AH30: 0 | AI30: 0 | AJ30: 0 | AK30: 0 | AL30: 0 | AM30: 0 | AN30: 0 | AO30: 0 | AP30: 0 | AQ30: 0
A31: 資料來源：直轄市、縣(市)政府
A32: Source : County and City Government.

Sheet 2020
A1: 婦女福利機構服務Women's Welfare Institutional Services
A2: 地區別 Locality | C2: 一、婦女福利服務中心 Welfare Service Center | AL2: 二、婦女中途之家、庇護中心Housing/Sheltering Center
C3: 期底機構數 Number of institutions at the end of the period | J3: 服務內容Service Contents | AL3: 期底機構數 (個) Number of institutions at the end of the period | AP3: 收容數 Number of persons taken in
C4: 期底機構數 按公、私立別分 (個) Number of institutions at the end of the period | G4: 期底機構數 按服務對象分 (個) Number of institutions at the end of the period By service recipients (number) | J4: 成長活動 (人次) Growth activities (Times) | M4: 諮詢服務 (人次) Consulting Service (Person-Times) | P4: 個案管理服務 (人次) Cases Management Service (Person-Times) | S4: 就業支持服務方案(人次) Employment support service program | V4: 團體方案 Team Scheme Service | Z4: 展覽 Exhibitions | AD4: 研討會 Seminars | AH4: 其他 Others | AL4: 合計 Total | AM4: 公立 Public Ins. | AN4: 私立 Private Ins. | AO4: 公設民營Public Ins. Run by Private Ins. | AP4: 最高可收容人數 (人) No.of Providing | AQ4: 本期收容個案數 (人次) Accommodated Persons (Times)
C6: 合計 Total | D6: 公立 Public Ins. | E6: 私立 Private Ins. | F6: 公設民營 Public Ins. Run by Private Ins. | G6: 合計 Total | H6: 婦女 Women | I6: 婦女及兒少 Women,children, and youths | J6: 合計 Total | K6: 男 Male | L6: 女 Female | M6: 合計 Total | N6: 男 Male | O6: 女 Female | P6: 合計 Total | Q6: 男 Male | R6: 女 Female | S6: 合計 Total | T6: 男 Male | U6: 女 Female | V6: 辦理 次數 Times | W6: 參加人次 | Z6: 辦理 次數 Times | AA6: 參加人次 | AD6: 辦理 次數 Times | AE6: 參加人次 | AH6: 辦理 次數 Times | AI6: 參加人次
W7: 合計 Total | X7: 男 Male | Y7: 女 Female | AA7: 合計 Total | AB7: 男 Male | AC7: 女 Female | AE7: 合計 Total | AF7: 男 Male | AG7: 女 Female | AI7: 合計 Total | AJ7: 男 Male | AK7: 女 Female
A8: 109年,2020 | C8: 62 | D8: 26 | E8: 0 | F8: 36 | G8: 62 | H8: 44 | I8: 18 | J8: 127263 | K8: 16711 | L8: 110552 | M8: 138827 | N8: 23558 | O8: 115269 | P8: 98419 | Q8: 15374 | R8: 83045 | S8: 9302 | T8: 736 | U8: 8566 | V8: 1953 | W8: 53058 | X8: 8166 | Y8: 44892 | Z8: 374 | AA8: 112431 | AB8: 29068 | AC8: 83363 | AD8: 63 | AE8: 2449 | AF8: 558 | AG8: 1891 | AH8: 12664 | AI8: 1980580 | AJ8: 333510 | AK8: 1647070 | AL8: 49 | AM8: 3 | AN8: 30 | AO8: 16 | AP8: 591 | AQ8: 2375
A9: 新北市 | B9: New Taipei City | C9: 3 | D9: 0 | E9: 0 | F9: 3 | G9: 3 | H9: 3 | I9: 0 | J9: 6657 | K9: 1191 | L9: 5466 | M9: 9322 | N9: 1717 | O9: 7605 | P9: 229 | Q9: 89 | R9: 140 | S9: 94 | T9: 48 | U9: 46 | V9: 21 | W9: 459 | X9: 203 | Y9: 256 | Z9: 2 | AA9: 2500 | AB9: 298 | AC9: 2202 | AD9: 3 | AE9: 104 | AF9: 5 | AG9: 99 | AH9: 177 | AI9: 6905 | AJ9: 1630 | AK9: 5275 | AL9: 3 | AM9: 0 | AN9: 0 | AO9: 3 | AP9: 59 | AQ9: 587
A10: 臺北市 | B10: Taipei City | C10: 10 | D10: 0 | E10: 0 | F10: 10 | G10: 10 | H10: 10 | I10: 0 | J10: 10515 | K10: 2220 | L10: 8295 | M10: 9459 | N10: 995 | O10: 8464 | P10: 28921 | Q10: 2408 | R10: 26513 | S10: 508 | T10: 30 | U10: 478 | V10: 209 | W10: 2551 | X10: 772 | Y10: 1779 | Z10: 10 | AA10: 22756 | AB10: 5089 | AC10: 17667 | AD10: 4 | AE10: 30 | AF10: 3 | AG10: 27 | AH10: 3852 | AI10: 649214 | AJ10: 116313 | AK10: 532901 | AL10: 3 | AM10: 1 | AN10: 0 | AO10: 2 | AP10: 154 | AQ10: 373
A11: 桃園市 | B11: Taoyuan City | C11: 8 | D11: 5 | E11: 0 | F11: 3 | G11: 8 | H11: 3 | I11: 5 | J11: 12543 | K11: 1855 | L11: 10688 | M11: 2225 | N11: 508 | O11: 1717 | P11: 6 | Q11: 0 | R11: 6 | S11: 913 | T11: 146 | U11: 767 | V11: 171 | W11: 8475 | X11: 2821 | Y11: 5654 | Z11: 2 | AA11: 452 | AB11: 75 | AC11: 377 | AD11: 13 | AE11: 931 | AF11: 317 | AG11: 614 | AH11: 2871 | AI11: 47585 | AJ11: 11666 | AK11: 35919 | AL11: 2 | AM11: 0 | AN11: 0 | AO11: 2 | AP11: 40 | AQ11: 431
A12: 臺中市 | B12: Taichung City | C12: 9 | D12: 1 | E12: 0 | F12: 8 | G12: 9 | H12: 7 | I12: 2 | J12: 2419 | K12: 247 | L12: 2172 | M12: 40624 | N12: 3075 | O12: 37549 | P12: 45469 | Q12: 4811 | R12: 40658 | S12: 1096 | T12: 22 | U12: 1074 | V12: 167 | W12: 2503 | X12: 255 | Y12: 2248 | Z12: 239 | AA12: 11543 | AB12: 2758 | AC12: 8785 | AD12: 0 | AE12: 0 | AF12: 0 | AG12: 0 | AH12: 806 | AI12: 1088290 | AJ12: 178186 | AK12: 910104 | AL12: 16 | AM12: 0 | AN12: 16 | AO12: 0 | AP12: 50 | AQ12: 90
A13: 臺南市 | B13: Tainan City | C13: 1 | D13: 1 | E13: 0 | F13: 0 | G13: 1 | H13: 1 | I13: 0 | J13: 14089 | K13: 4876 | L13: 9213 | M13: 18135 | N13: 5516 | O13: 12619 | P13: 10757 | Q13: 2599 | R13: 8158 | S13: 377 | T13: 26 | U13: 351 | V13: 289 | W13: 9261 | X13: 3507 | Y13: 5754 | Z13: 3 | AA13: 7605 | AB13: 2751 | AC13: 4854 | AD13: 8 | AE13: 232 | AF13: 25 | AG13: 207 | AH13: 90 | AI13: 1305 | AJ13: 11 | AK13: 1294 | AL13: 2 | AM13: 0 | AN13: 2 | AO13: 0 | AP13: 14 | AQ13: 54
A14: 高雄市 | B14: Kaohsiung City | C14: 4 | D14: 2 | E14: 0 | F14: 2 | G14: 4 | H14: 1 | I14: 3 | J14: 14256 | K14: 1023 | L14: 13233 | M14: 30955 | N14: 5775 | O14: 25180 | P14: 0 | Q14: 0 | R14: 0 | S14: 2693 | T14: 282 | U14: 2411 | V14: 806 | W14: 23870 | X14: 76 | Y14: 23794 | Z14: 32 | AA14: 7590 | AB14: 903 | AC14: 6687 | AD14: 1 | AE14: 116 | AF14: 24 | AG14: 92 | AH14: 3087 | AI14: 132939 | AJ14: 12110 | AK14: 120829 | AL14: 1 | AM14: 0 | AN14: 0 | AO14: 1 | AP14: 24 | AQ14: 172
A15: 宜蘭縣 | B15: Yilan County | C15: 1 | D15: 1 | E15: 0 | F15: 0 | G15: 1 | H15: 1 | I15: 0 | J15: 0 | K15: 0 | L15: 0 | M15: 15426 | N15: 3609 | O15: 11817 | P15: 9839 | Q15: 4598 | R15: 5241 | S15: 0 | T15: 0 | U15: 0 | V15: 0 | W15: 0 | X15: 0 | Y15: 0 | Z15: 1 | AA15: 304 | AB15: 150 | AC15: 154 | AD15: 0 | AE15: 0 | AF15: 0 | AG15: 0 | AH15: 8 | AI15: 436 | AJ15: 211 | AK15: 225 | AL15: 2 | AM15: 0 | AN15: 2 | AO15: 0 | AP15: 27 | AQ15: 29
A16: 新竹縣 | B16: Hsinchu County | C16: 1 | D16: 0 | E16: 0 | F16: 1 | G16: 1 | H16: 1 | I16: 0 | J16: 102 | K16: 0 | L16: 102 | M16: 727 | N16: 66 | O16: 661 | P16: 0 | Q16: 0 | R16: 0 | S16: 0 | T16: 0 | U16: 0 | V16: 12 | W16: 192 | X16: 0 | Y16: 192 | Z16: 4 | AA16: 150 | AB16: 38 | AC16: 112 | AD16: 0 | AE16: 0 | AF16: 0 | AG16: 0 | AH16: 5 | AI16: 147 | AJ16: 39 | AK16: 108 | AL16: 1 | AM16: 0 | AN16: 1 | AO16: 0 | AP16: 8 | AQ16: 18
A17: 苗栗縣 | B17: Miaoli County | C17: 1 | D17: 0 | E17: 0 | F17: 1 | G17: 1 | H17: 1 | I17: 0 | J17: 1597 | K17: 154 | L17: 1443 | M17: 493 | N17: 48 | O17: 445 | P17: 0 | Q17: 0 | R17: 0 | S17: 0 | T17: 0 | U17: 0 | V17: 10 | W17: 81 | X17: 0 | Y17: 81 | Z17: 3 | AA17: 530 | AB17: 208 | AC17: 322 | AD17: 0 | AE17: 0 | AF17: 0 | AG17: 0 | AH17: 105 | AI17: 2888 | AJ17: 737 | AK17: 2151 | AL17: 0 | AM17: 0 | AN17: 0 | AO17: 0 | AP17: 0 | AQ17: 0
A18: 彰化縣 | B18: Changhua County | C18: 2 | D18: 0 | E18: 0 | F18: 2 | G18: 2 | H18: 2 | I18: 0 | J18: 3952 | K18: 915 | L18: 3037 | M18: 768 | N18: 47 | O18: 721 | P18: 0 | Q18: 0 | R18: 0 | S18: 0 | T18: 0 | U18: 0 | V18: 25 | W18: 533 | X18: 95 | Y18: 438 | Z18: 15 | AA18: 17265 | AB18: 3439 | AC18: 13826 | AD18: 0 | AE18: 0 | AF18: 0 | AG18: 0 | AH18: 158 | AI18: 4448 | AJ18: 757 | AK18: 3691 | AL18: 2 | AM18: 0 | AN18: 1 | AO18: 1 | AP18: 16 | AQ18: 69
A19: 南投縣 | B19: Nantou County | C19: 3 | D19: 0 | E19: 0 | F19: 3 | G19: 3 | H19: 3 | I19: 0 | J19: 2153 | K19: 262 | L19: 1891 | M19: 984 | N19: 208 | O19: 776 | P19: 574 | Q19: 49 | R19: 525 | S19: 394 | T19: 8 | U19: 386 | V19: 63 | W19: 1342 | X19: 206 | Y19: 1136 | Z19: 2 | AA19: 182 | AB19: 66 | AC19: 116 | AD19: 2 | AE19: 38 | AF19: 2 | AG19: 36 | AH19: 54 | AI19: 1430 | AJ19: 389 | AK19: 1041 | AL19: 1 | AM19: 0 | AN19: 0 | AO19: 1 | AP19: 6 | AQ19: 12
A20: 雲林縣 | B20: Yunlin County | C20: 1 | D20: 1 | E20: 0 | F20: 0 | G20: 1 | H20: 1 | I20: 0 | J20: 3202 | K20: 1047 | L20: 2155 | M20: 567 | N20: 108 | O20: 459 | P20: 0 | Q20: 0 | R20: 0 | S20: 0 | T20: 0 | U20: 0 | V20: 0 | W20: 0 | X20: 0 | Y20: 0 | Z20: 2 | AA20: 25800 | AB20: 9100 | AC20: 16700 | AD20: 0 | AE20: 0 | AF20: 0 | AG20: 0 | AH20: 955 | AI20: 28505 | AJ20: 7414 | AK20: 21091 | AL20: 1 | AM20: 0 | AN20: 0 | AO20: 1 | AP20: 15 | AQ20: 50
... A30: 連江縣 | B30: Lienchiang County | C30: 1 | D30: 1 | E30: 0 | F30: 0 | G30: 1 | H30: 1 | I30: 0 | J30: 0 | K30: 0 | L30: 0 | M30: 0 | N30: 0 | O30: 0 | P30: 0 | Q30: 0 | R30: 0 | S30: 0 | T30: 0 | U30: 0 | V30: 0 | W30: 0 | X30: 0 | Y30: 0 | Z30: 0 | AA30: 0 | AB30: 0 | AC30: 0 | AD30: 0 | AE30: 0 | AF30: 0 | AG30: 0 | AH30: 0 | AI30: 0 | AJ30: 0 | AK30: 0 | AL30: 0 | AM30: 0 | AN30: 0 | AO30: 0 | AP30: 0 | AQ30: 0
A31: 資料來源：直轄市、縣(市)政府
A32: Source : County and City Government.

Sheet 2018
A1: 婦女福利機構服務Women's Welfare Institutional Services
A2: 地區別 Locality | C2: 一、婦女福利服務中心 Welfare Service Center | AL2: 二、婦女中途之家、庇護中心Housing/Sheltering Center
C3: 期底機構數 Number of institutions at the end of the period | J3: 服務內容Service Contents | AL3: 期底機構數 (個) Number of institutions at the end of the period | AP3: 收容數 Number of persons taken in
C4: 期底機構數 按公、私立別分 (個) Number of institutions at the end of the period | G4: 期底機構數 按服務對象分 (個) Number of institutions at the end of the period By service recipients (number) | J4: 成長活動 (人次) Growth activities (Times) | M4: 諮詢服務 (人次) Consulting Service (Person-Times) | P4: 個案管理服務 (人次) Cases Management Service (Person-Times) | S4: 就業支持服務方案(人次) Employment support service program | V4: 團體方案 Team Scheme Service | Z4: 展覽 Exhibitions | AD4: 研討會 Seminars | AH4: 其他 Others | AL4: 合計 Total | AM4: 公立 Public Ins. | AN4: 私立 Private Ins. | AO4: 公設民營Public Ins. Run by Private Ins. | AP4: 最高可收容人數 (人) No.of Providing | AQ4: 本期收容個案數 (人次) Accommodated Persons (Times)
C6: 合計 Total | D6: 公立 Public Ins. | E6: 私立 Private Ins. | F6: 公設民營 Public Ins. Run by Private Ins. | G6: 合計 Total | H6: 婦女 Women | I6: 婦女及兒少 Women,children, and youths | J6: 合計 Total | K6: 男 Male | L6: 女 Female | M6: 合計 Total | N6: 男 Male | O6: 女 Female | P6: 合計 Total | Q6: 男 Male | R6: 女 Female | S6: 合計 Total | T6: 男 Male | U6: 女 Female | V6: 辦理 次數 Times | W6: 參加人次 | Z6: 辦理 次數 Times | AA6: 參加人次 | AD6: 辦理 次數 Times | AE6: 參加人次 | AH6: 辦理 次數 Times | AI6: 參加人次
W7: 合計 Total | X7: 男 Male | Y7: 女 Female | AA7: 合計 Total | AB7: 男 Male | AC7: 女 Female | AE7: 合計 Total | AF7: 男 Male | AG7: 女 Female | AI7: 合計 Total | AJ7: 男 Male | AK7: 女 Female
A8: 107年,2018 | C8: 77 | D8: 37 | E8: 4 | F8: 36 | G8: 76 | H8: 40 | I8: 36 | J8: 128812 | K8: 16817 | L8: 111995 | M8: 147091 | N8: 29807 | O8: 117284 | P8: 76658 | Q8: 9343 | R8: 67315 | S8: 10786 | T8: 1947 | U8: 8839 | V8: 1990 | W8: 44902 | X8: 5884 | Y8: 39018 | Z8: 234 | AA8: 82006 | AB8: 19019 | AC8: 62987 | AD8: 63 | AE8: 1943 | AF8: 218 | AG8: 1725 | AH8: 10745 | AI8: 1444575 | AJ8: 467606 | AK8: 976969 | AL8: 46 | AM8: 1 | AN8: 29 | AO8: 16 | AP8: 590 | AQ8: 3194
A9: 新北市 | B9: New Taipei City | C9: 4 | D9: 0 | E9: 0 | F9: 4 | G9: 4 | H9: 4 | I9: 0 | J9: 6516 | K9: 396 | L9: 6120 | M9: 6202 | N9: 1178 | O9: 5024 | P9: 744 | Q9: 275 | R9: 469 | S9: 3 | T9: 0 | U9: 3 | V9: 43 | W9: 940 | X9: 340 | Y9: 600 | Z9: 5 | AA9: 1866 | AB9: 282 | AC9: 1584 | AD9: 10 | AE9: 156 | AF9: 45 | AG9: 111 | AH9: 49 | AI9: 1868 | AJ9: 541 | AK9: 1327 | AL9: 3 | AM9: 0 | AN9: 0 | AO9: 3 | AP9: 66 | AQ9: 619
A10: 臺北市 | B10: Taipei City | C10: 8 | D10: 0 | E10: 0 | F10: 8 | G10: 8 | H10: 8 | I10: 0 | J10: 5189 | K10: 925 | L10: 4264 | M10: 6411 | N10: 565 | O10: 5846 | P10: 29462 | Q10: 2044 | R10: 27418 | S10: 2035 | T10: 624 | U10: 1411 | V10: 147 | W10: 1742 | X10: 394 | Y10: 1348 | Z10: 6 | AA10: 8689 | AB10: 1772 | AC10: 6917 | AD10: 2 | AE10: 222 | AF10: 43 | AG10: 179 | AH10: 307 | AI10: 7558 | AJ10: 1684 | AK10: 5874 | AL10: 3 | AM10: 1 | AN10: 0 | AO10: 2 | AP10: 183 | AQ10: 366
A11: 桃園市 | B11: Taoyuan City | C11: 23 | D11: 18 | E11: 1 | F11: 4 | G11: 23 | H11: 2 | I11: 21 | J11: 28690 | K11: 6619 | L11: 22071 | M11: 9809 | N11: 3509 | O11: 6300 | P11: 1203 | Q11: 456 | R11: 747 | S11: 4276 | T11: 1176 | U11: 3100 | V11: 324 | W11: 9732 | X11: 3230 | Y11: 6502 | Z11: 4 | AA11: 1871 | AB11: 412 | AC11: 1459 | AD11: 0 | AE11: 0 | AF11: 0 | AG11: 0 | AH11: 2556 | AI11: 532805 | AJ11: 165241 | AK11: 367564 | AL11: 2 | AM11: 0 | AN11: 0 | AO11: 2 | AP11: 40 | AQ11: 484
A12: 臺中市 | B12: Taichung City | C12: 9 | D12: 1 | E12: 0 | F12: 8 | G12: 9 | H12: 7 | I12: 2 | J12: 5362 | K12: 677 | L12: 4685 | M12: 33488 | N12: 5670 | O12: 27818 | P12: 16885 | Q12: 2 | R12: 16883 | S12: 1228 | T12: 31 | U12: 1197 | V12: 115 | W12: 2104 | X12: 356 | Y12: 1748 | Z12: 12 | AA12: 10250 | AB12: 3227 | AC12: 7023 | AD12: 11 | AE12: 280 | AF12: 48 | AG12: 232 | AH12: 1218 | AI12: 434767 | AJ12: 138525 | AK12: 296242 | AL12: 16 | AM12: 0 | AN12: 16 | AO12: 0 | AP12: 35 | AQ12: 221
A13: 臺南市 | B13: Tainan City | C13: 3 | D13: 1 | E13: 2 | F13: 0 | G13: 3 | H13: 1 | I13: 2 | J13: 3872 | K13: 705 | L13: 3167 | M13: 7835 | N13: 2994 | O13: 4841 | P13: 9034 | Q13: 2177 | R13: 6857 | S13: 75 | T13: 0 | U13: 75 | V13: 21 | W13: 688 | X13: 231 | Y13: 457 | Z13: 21 | AA13: 15917 | AB13: 4594 | AC13: 11323 | AD13: 2 | AE13: 59 | AF13: 5 | AG13: 54 | AH13: 20 | AI13: 9508 | AJ13: 7886 | AK13: 1622 | AL13: 2 | AM13: 0 | AN13: 2 | AO13: 0 | AP13: 14 | AQ13: 65
A14: 高雄市 | B14: Kaohsiung City | C14: 4 | D14: 2 | E14: 0 | F14: 2 | G14: 4 | H14: 1 | I14: 3 | J14: 23203 | K14: 4232 | L14: 18971 | M14: 24629 | N14: 3052 | O14: 21577 | P14: 0 | Q14: 0 | R14: 0 | S14: 1971 | T14: 88 | U14: 1883 | V14: 1033 | W14: 24084 | X14: 815 | Y14: 23269 | Z14: 20 | AA14: 3535 | AB14: 583 | AC14: 2952 | AD14: 2 | AE14: 360 | AF14: 44 | AG14: 316 | AH14: 4743 | AI14: 386921 | AJ14: 135619 | AK14: 251302 | AL14: 2 | AM14: 0 | AN14: 0 | AO14: 2 | AP14: 46 | AQ14: 275
A15: 宜蘭縣 | B15: Yilan County | C15: 1 | D15: 1 | E15: 0 | F15: 0 | G15: 1 | H15: 1 | I15: 0 | J15: 434 | K15: 64 | L15: 370 | M15: 23713 | N15: 3901 | O15: 19812 | P15: 13431 | Q15: 2708 | R15: 10723 | S15: 143 | T15: 4 | U15: 139 | V15: 6 | W15: 17 | X15: 0 | Y15: 17 | Z15: 0 | AA15: 0 | AB15: 0 | AC15: 0 | AD15: 0 | AE15: 0 | AF15: 0 | AG15: 0 | AH15: 0 | AI15: 0 | AJ15: 0 | AK15: 0 | AL15: 2 | AM15: 0 | AN15: 2 | AO15: 0 | AP15: 29 | AQ15: 33
A16: 新竹縣 | B16: Hsinchu County | C16: 1 | D16: 0 | E16: 0 | F16: 1 | G16: 1 | H16: 1 | I16: 0 | J16: 89 | K16: 0 | L16: 89 | M16: 829 | N16: 71 | O16: 758 | P16: 0 | Q16: 0 | R16: 0 | S16: 0 | T16: 0 | U16: 0 | V16: 6 | W16: 153 | X16: 10 | Y16: 143 | Z16: 0 | AA16: 0 | AB16: 0 | AC16: 0 | AD16: 0 | AE16: 0 | AF16: 0 | AG16: 0 | AH16: 2 | AI16: 448 | AJ16: 202 | AK16: 246 | AL16: 1 | AM16: 0 | AN16: 1 | AO16: 0 | AP16: 8 | AQ16: 32
A17: 苗栗縣 | B17: Miaoli County | C17: 1 | D17: 0 | E17: 0 | F17: 1 | G17: 1 | H17: 1 | I17: 0 | J17: 1117 | K17: 269 | L17: 848 | M17: 509 | N17: 77 | O17: 432 | P17: 0 | Q17: 0 | R17: 0 | S17: 0 | T17: 0 | U17: 0 | V17: 12 | W17: 110 | X17: 0 | Y17: 110 | Z17: 2 | AA17: 2158 | AB17: 1059 | AC17: 1099 | AD17: 2 | AE17: 79 | AF17: 5 | AG17: 74 | AH17: 23 | AI17: 1864 | AJ17: 407 | AK17: 1457 | AL17: 1 | AM17: 0 | AN17: 1 | AO17: 0 | AP17: 8 | AQ17: 168
A18: 彰化縣 | B18: Changhua County | C18: 2 | D18: 0 | E18: 0 | F18: 2 | G18: 2 | H18: 2 | I18: 0 | J18: 2195 | K18: 420 | L18: 1775 | M18: 5571 | N18: 620 | O18: 4951 | P18: 0 | Q18: 0 | R18: 0 | S18: 573 | T18: 2 | U18: 571 | V18: 37 | W18: 838 | X18: 78 | Y18: 760 | Z18: 6 | AA18: 13932 | AB18: 3311 | AC18: 10621 | AD18: 1 | AE18: 24 | AF18: 4 | AG18: 20 | AH18: 120 | AI18: 13116 | AJ18: 4543 | AK18: 8573 | AL18: 2 | AM18: 0 | AN18: 1 | AO18: 1 | AP18: 11 | AQ18: 48
A19: 南投縣 | B19: Nantou County | C19: 3 | D19: 0 | E19: 0 | F19: 3 | G19: 3 | H19: 3 | I19: 0 | J19: 3224 | K19: 420 | L19: 2804 | M19: 1105 | N19: 160 | O19: 945 | P19: 860 | Q19: 96 | R19: 764 | S19: 0 | T19: 0 | U19: 0 | V19: 41 | W19: 1495 | X19: 207 | Y19: 1288 | Z19: 0 | AA19: 0 | AB19: 0 | AC19: 0 | AD19: 4 | AE19: 116 | AF19: 19 | AG19: 97 | AH19: 45 | AI19: 1467 | AJ19: 290 | AK19: 1177 | AL19: 1 | AM19: 0 | AN19: 0 | AO19: 1 | AP19: 6 | AQ19: 33
A20: 雲林縣 | B20: Yunlin County | C20: 1 | D20: 1 | E20: 0 | F20: 0 | G20: 0 | H20: 0 | I20: 0 | J20: 286 | K20: 0 | L20: 286 | M20: 17988 | N20: 5912 | O20: 12076 | P20: 0 | Q20: 0 | R20: 0 | S20: 0 | T20: 0 | U20: 0 | V20: 17 | W20: 712 | X20: 51 | Y20: 661 | Z20: 121 | AA20: 4920 | AB20: 1480 | AC20: 3440 | AD20: 1 | AE20: 40 | AF20: 5 | AG20: 35 | AH20: 1208 | AI20: 30962 | AJ20: 7317 | AK20: 23645 | AL20: 2 | AM20: 0 | AN20: 1 | AO20: 1 | AP20: 25 | AQ20: 163
... A30: 連江縣 | B30: Lienchiang County | C30: 1 | D30: 1 | E30: 0 | F30: 0 | G30: 1 | H30: 1 | I30: 0 | J30: 0 | K30: 0 | L30: 0 | M30: 0 | N30: 0 | O30: 0 | P30: 0 | Q30: 0 | R30: 0 | S30: 0 | T30: 0 | U30: 0 | V30: 0 | W30: 0 | X30: 0 | Y30: 0 | Z30: 0 | AA30: 0 | AB30: 0 | AC30: 0 | AD30: 0 | AE30: 0 | AF30: 0 | AG30: 0 | AH30: 0 | AI30: 0 | AJ30: 0 | AK30: 0 | AL30: 0 | AM30: 0 | AN30: 0 | AO30: 0 | AP30: 0 | AQ30: 0
A31: 資料來源：直轄市、縣(市)政府
A32: Source : County and City Government.

Sheet 2017
A1: 婦女福利機構服務Women's Welfare Institutional Services
A2: 地區別 Locality | C2: 一、婦女福利服務中心 Welfare Service Center | AL2: 二、婦女中途之家、庇護中心Housing/Sheltering Center
C3: 期底機構數 Number of institutions at the end of the period | J3: 服務內容Service Contents | AL3: 期底機構數 (個) Number of institutions at the end of the period | AP3: 收容數 Number of persons taken in
C4: 期底機構數 按公、私立別分 (個) Number of institutions at the end of the period | G4: 期底機構數 按服務對象分 (個) Number of institutions at the end of the period By service recipients (number) | J4: 成長活動 (人次) Growth activities (Times) | M4: 諮詢服務 (人次) Consulting Service (Person-Times) | P4: 個案管理服務 (人次) Cases Management Service (Person-Times) | S4: 就業支持服務方案(人次) Employment support service program | V4: 團體方案 Team Scheme Service | Z4: 展覽 Exhibitions | AD4: 研討會 Seminars | AH4: 其他 Others | AL4: 合計 Total | AM4: 公立 Public Ins. | AN4: 私立 Private Ins. | AO4: 公設民營Public Ins. Run by Private Ins. | AP4: 最高可收容人數 (人) No.of Providing | AQ4: 本期收容個案數 (人次) Accommodated Persons (Times)
C6: 合計 Total | D6: 公立 Public Ins. | E6: 私立 Private Ins. | F6: 公設民營 Public Ins. Run by Private Ins. | G6: 合計 Total | H6: 婦女 Women | I6: 婦女及兒少 Women,children, and youths | J6: 合計 Total | K6: 男 Male | L6: 女 Female | M6: 合計 Total | N6: 男 Male | O6: 女 Female | P6: 合計 Total | Q6: 男 Male | R6: 女 Female | S6: 合計 Total | T6: 男 Male | U6: 女 Female | V6: 辦理 次數 Times | W6: 參加人次 | Z6: 辦理 次數 Times | AA6: 參加人次 | AD6: 辦理 次數 Times | AE6: 參加人次 | AH6: 辦理 次數 Times | AI6: 參加人次
W7: 合計 Total | X7: 男 Male | Y7: 女 Female | AA7: 合計 Total | AB7: 男 Male | AC7: 女 Female | AE7: 合計 Total | AF7: 男 Male | AG7: 女 Female | AI7: 合計 Total | AJ7: 男 Male | AK7: 女 Female
A8: 106年,2017 | C8: 73 | D8: 35 | E8: 2 | F8: 36 | G8: 73 | H8: 36 | I8: 37 | J8: 139546 | K8: 18848 | L8: 120698 | M8: 150249 | N8: 29476 | O8: 120773 | P8: 64256 | Q8: 7825 | R8: 56431 | S8: 10429 | T8: 816 | U8: 9613 | V8: 2646 | W8: 74287 | X8: 17863 | Y8: 56424 | Z8: 128 | AA8: 160744 | AB8: 49777 | AC8: 110967 | AD8: 67 | AE8: 2736 | AF8: 600 | AG8: 2136 | AH8: 9568 | AI8: 1107336 | AJ8: 369779 | AK8: 737557 | AL8: 51 | AM8: 2 | AN8: 32 | AO8: 17 | AP8: 582 | AQ8: 3154
A9: 新北市 | B9: New Taipei City | C9: 4 | D9: 0 | E9: 0 | F9: 4 | G9: 4 | H9: 4 | I9: 0 | J9: 3647 | K9: 567 | L9: 3080 | M9: 8043 | N9: 1259 | O9: 6784 | P9: 0 | Q9: 0 | R9: 0 | S9: 25 | T9: 0 | U9: 25 | V9: 4 | W9: 147 | X9: 49 | Y9: 98 | Z9: 6 | AA9: 2480 | AB9: 597 | AC9: 1883 | AD9: 11 | AE9: 449 | AF9: 46 | AG9: 403 | AH9: 25 | AI9: 1585 | AJ9: 324 | AK9: 1261 | AL9: 2 | AM9: 0 | AN9: 0 | AO9: 2 | AP9: 48 | AQ9: 518
A10: 臺北市 | B10: Taipei City | C10: 8 | D10: 0 | E10: 0 | F10: 8 | G10: 8 | H10: 8 | I10: 0 | J10: 3977 | K10: 811 | L10: 3166 | M10: 5897 | N10: 563 | O10: 5334 | P10: 24049 | Q10: 1370 | R10: 22679 | S10: 1646 | T10: 154 | U10: 1492 | V10: 114 | W10: 1169 | X10: 325 | Y10: 844 | Z10: 5 | AA10: 9472 | AB10: 2065 | AC10: 7407 | AD10: 1 | AE10: 11 | AF10: 1 | AG10: 10 | AH10: 233 | AI10: 3337 | AJ10: 818 | AK10: 2519 | AL10: 3 | AM10: 1 | AN10: 0 | AO10: 2 | AP10: 183 | AQ10: 268
A11: 桃園市 | B11: Taoyuan City | C11: 23 | D11: 16 | E11: 1 | F11: 6 | G11: 23 | H11: 1 | I11: 22 | J11: 38866 | K11: 8710 | L11: 30156 | M11: 10289 | N11: 3364 | O11: 6925 | P11: 3009 | Q11: 1015 | R11: 1994 | S11: 1529 | T11: 338 | U11: 1191 | V11: 855 | W11: 37533 | X11: 14506 | Y11: 23027 | Z11: 2 | AA11: 710 | AB11: 66 | AC11: 644 | AD11: 14 | AE11: 607 | AF11: 193 | AG11: 414 | AH11: 3198 | AI11: 492726 | AJ11: 190205 | AK11: 302521 | AL11: 2 | AM11: 0 | AN11: 0 | AO11: 2 | AP11: 40 | AQ11: 466
A12: 臺中市 | B12: Taichung City | C12: 8 | D12: 1 | E12: 0 | F12: 7 | G12: 8 | H12: 6 | I12: 2 | J12: 4656 | K12: 599 | L12: 4057 | M12: 60729 | N12: 8631 | O12: 52098 | P12: 18203 | Q12: 0 | R12: 18203 | S12: 1039 | T12: 27 | U12: 1012 | V12: 110 | W12: 1530 | X12: 246 | Y12: 1284 | Z12: 16 | AA12: 97967 | AB12: 32686 | AC12: 65281 | AD12: 19 | AE12: 396 | AF12: 75 | AG12: 321 | AH12: 843 | AI12: 149580 | AJ12: 28688 | AK12: 120892 | AL12: 20 | AM12: 0 | AN12: 20 | AO12: 0 | AP12: 58 | AQ12: 366
A13: 臺南市 | B13: Tainan City | C13: 1 | D13: 1 | E13: 0 | F13: 0 | G13: 1 | H13: 0 | I13: 1 | J13: 6528 | K13: 1160 | L13: 5368 | M13: 16661 | N13: 6754 | O13: 9907 | P13: 8023 | Q13: 2745 | R13: 5278 | S13: 182 | T13: 54 | U13: 128 | V13: 85 | W13: 1741 | X13: 474 | Y13: 1267 | Z13: 16 | AA13: 22029 | AB13: 7762 | AC13: 14267 | AD13: 3 | AE13: 34 | AF13: 8 | AG13: 26 | AH13: 59 | AI13: 15920 | AJ13: 3182 | AK13: 12738 | AL13: 3 | AM13: 0 | AN13: 2 | AO13: 1 | AP13: 22 | AQ13: 87
A14: 高雄市 | B14: Kaohsiung City | C14: 4 | D14: 2 | E14: 0 | F14: 2 | G14: 4 | H14: 1 | I14: 3 | J14: 24521 | K14: 3629 | L14: 20892 | M14: 17964 | N14: 2562 | O14: 15402 | P14: 0 | Q14: 0 | R14: 0 | S14: 2383 | T14: 54 | U14: 2329 | V14: 1165 | W14: 25051 | X14: 1267 | Y14: 23784 | Z14: 23 | AA14: 12635 | AB14: 4040 | AC14: 8595 | AD14: 1 | AE14: 108 | AF14: 21 | AG14: 87 | AH14: 4786 | AI14: 426330 | AJ14: 141616 | AK14: 284714 | AL14: 2 | AM14: 0 | AN14: 0 | AO14: 2 | AP14: 46 | AQ14: 377
A15: 宜蘭縣 | B15: Yilan County | C15: 1 | D15: 1 | E15: 0 | F15: 0 | G15: 1 | H15: 1 | I15: 0 | J15: 213 | K15: 81 | L15: 132 | M15: 17630 | N15: 3866 | O15: 13764 | P15: 7191 | Q15: 1367 | R15: 5824 | S15: 0 | T15: 0 | U15: 0 | V15: 1 | W15: 271 | X15: 152 | Y15: 119 | Z15: 0 | AA15: 0 | AB15: 0 | AC15: 0 | AD15: 0 | AE15: 0 | AF15: 0 | AG15: 0 | AH15: 0 | AI15: 0 | AJ15: 0 | AK15: 0 | AL15: 1 | AM15: 0 | AN15: 1 | AO15: 0 | AP15: 14 | AQ15: 43
A16: 新竹縣 | B16: Hsinchu County | C16: 0 | D16: 0 | E16: 0 | F16: 0 | G16: 0 | H16: 0 | I16: 0 | J16: 0 | K16: 0 | L16: 0 | M16: 0 | N16: 0 | O16: 0 | P16: 0 | Q16: 0 | R16: 0 | S16: 0 | T16: 0 | U16: 0 | V16: 0 | W16: 0 | X16: 0 | Y16: 0 | Z16: 0 | AA16: 0 | AB16: 0 | AC16: 0 | AD16: 0 | AE16: 0 | AF16: 0 | AG16: 0 | AH16: 0 | AI16: 0 | AJ16: 0 | AK16: 0 | AL16: 1 | AM16: 0 | AN16: 1 | AO16: 0 | AP16: 8 | AQ16: 50
A17: 苗栗縣 | B17: Miaoli County | C17: 1 | D17: 0 | E17: 0 | F17: 1 | G17: 1 | H17: 1 | I17: 0 | J17: 985 | K17: 228 | L17: 757 | M17: 512 | N17: 73 | O17: 439 | P17: 0 | Q17: 0 | R17: 0 | S17: 0 | T17: 0 | U17: 0 | V17: 14 | W17: 324 | X17: 15 | Y17: 309 | Z17: 2 | AA17: 296 | AB17: 108 | AC17: 188 | AD17: 5 | AE17: 184 | AF17: 16 | AG17: 168 | AH17: 82 | AI17: 3493 | AJ17: 1045 | AK17: 2448 | AL17: 1 | AM17: 0 | AN17: 0 | AO17: 1 | AP17: 8 | AQ17: 152
A18: 彰化縣 | B18: Changhua County | C18: 2 | D18: 0 | E18: 0 | F18: 2 | G18: 2 | H18: 2 | I18: 0 | J18: 3229 | K18: 384 | L18: 2845 | M18: 3645 | N18: 562 | O18: 3083 | P18: 0 | Q18: 0 | R18: 0 | S18: 3240 | T18: 174 | U18: 3066 | V18: 29 | W18: 836 | X18: 152 | Y18: 684 | Z18: 0 | AA18: 0 | AB18: 0 | AC18: 0 | AD18: 0 | AE18: 0 | AF18: 0 | AG18: 0 | AH18: 85 | AI18: 2195 | AJ18: 498 | AK18: 1697 | AL18: 3 | AM18: 0 | AN18: 2 | AO18: 1 | AP18: 19 | AQ18: 40
A19: 南投縣 | B19: Nantou County | C19: 3 | D19: 0 | E19: 0 | F19: 3 | G19: 3 | H19: 2 | I19: 1 | J19: 2293 | K19: 527 | L19: 1766 | M19: 1629 | N19: 142 | O19: 1487 | P19: 611 | Q19: 222 | R19: 389 | S19: 12 | T19: 0 | U19: 12 | V19: 17 | W19: 133 | X19: 6 | Y19: 127 | Z19: 0 | AA19: 0 | AB19: 0 | AC19: 0 | AD19: 1 | AE19: 11 | AF19: 2 | AG19: 9 | AH19: 15 | AI19: 1041 | AJ19: 294 | AK19: 747 | AL19: 1 | AM19: 0 | AN19: 0 | AO19: 1 | AP19: 6 | AQ19: 34
A20: 雲林縣 | B20: Yunlin County | C20: 1 | D20: 1 | E20: 0 | F20: 0 | G20: 1 | H20: 1 | I20: 0 | J20: 0 | K20: 0 | L20: 0 | M20: 1340 | N20: 133 | O20: 1207 | P20: 99 | Q20: 0 | R20: 99 | S20: 0 | T20: 0 | U20: 0 | V20: 81 | W20: 1169 | X20: 0 | Y20: 1169 | Z20: 3 | AA20: 2670 | AB20: 280 | AC20: 2390 | AD20: 2 | AE20: 43 | AF20: 2 | AG20: 41 | AH20: 4 | AI20: 1564 | AJ20: 638 | AK20: 926 | AL20: 2 | AM20: 0 | AN20: 1 | AO20: 1 | AP20: 25 | AQ20: 174
... A30: 連江縣 | B30: Lienchiang County | C30: 1 | D30: 1 | E30: 0 | F30: 0 | G30: 1 | H30: 1 | I30: 0 | J30: 376 | K30: 0 | L30: 376 | M30: 0 | N30: 0 | O30: 0 | P30: 0 | Q30: 0 | R30: 0 | S30: 0 | T30: 0 | U30: 0 | V30: 15 | W30: 370 | X30: 0 | Y30: 370 | Z30: 0 | AA30: 0 | AB30: 0 | AC30: 0 | AD30: 0 | AE30: 0 | AF30: 0 | AG30: 0 | AH30: 0 | AI30: 0 | AJ30: 0 | AK30: 0 | AL30: 0 | AM30: 0 | AN30: 0 | AO30: 0 | AP30: 0 | AQ30: 0
A31: 資料來源：直轄市、縣(市)政府
A32: Source : County and City Government.
