Workbook
Name pp: #REF!
Name pp: #REF!
Name pp: #REF!
Name pp: #REF!
Name pp: #REF!
Name pp: #REF!
Name pp: #REF!
Name 民國100年第2季: #REF!
Name 民國100年第2季: #REF!

Sheet 歷年Yearly
A1: 低收入戶戶數及人數 Number and Population of Low-Income Households
A2: 年(季)底 | B2: 戶數(戶) Households | H2: 人數(人) Persons | N2: 低收入戶戶數占總戶數比率(%) | O2: 低收入戶人數占總人數比率(%)
B3: 合計(按戶長性別分) Total | E3: 第1款(省、新北、桃園、臺中、臺南)、第0類(臺北)、第1類(高雄) | F3: 第2款(省、新北、桃園、臺中、臺南)、第1、2類(臺北)、第2類(高雄) | G3: 第3款(省、新北、桃園、臺中、臺南)、第3、4類(臺北、高雄) | H3: 合計 Total | K3: 第1款(省、新北、桃園、臺中、臺南)、第0類(臺北)、第1類(高雄) | L3: 第2款(省、新北、桃園、臺中、臺南)、第1、2類(臺北)、第2類(高雄) | M3: 第3款(省、新北、桃園、臺中、臺南)、第3、4類(臺北、高雄) | Q3: 戶數 | R3: 人數 | S3: 戶數 | T3: 人數
B4: 計 | C4: 男 | D4: 女 | H4: 計 | I4: 男 | J4: 女
A5: End of Year (Quarter) | B5: Sub-Total | C5: Male | D5: Female | E5: Class 1 | F5: Class 2 | G5: Class 3 | H5: Sub-Total | I5: Male | J5: Female | K5: Class 1 | L5: Class 2 | M5: Class 3 | N5: Rate of Households (%) | O5: Rate of Persons (%)
A6: 104年 2015 | B6: 146379 | C6: 89167 | D6: 57212 | E6: 3902 | F6: 32662 | G6: 109815 | H6: 342490 | I6: 178253 | J6: 164237 | K6: 4032 | L6: 57917 | M6: 280541 | N6: 1.73 | O6: 1.46
A7: 105年 2016 | B7: 145176 | C7: 88869 | D7: 56307 | E7: 3533 | F7: 33216 | G7: 108427 | H7: 331776 | I7: 173763 | J7: 158013 | K7: 3653 | L7: 56516 | M7: 271607 | N7: 1.7 | O7: 1.41
A8: 106年 2017 | B8: 142814 | C8: 87828 | D8: 54986 | E8: 3328 | F8: 32748 | G8: 106738 | H8: 317257 | I8: 167287 | J8: 149970 | K8: 3448 | L8: 53142 | M8: 260667 | N8: 1.65 | O8: 1.35
A9: 107年 2018 | B9: 143941 | C9: 88747 | D9: 55194 | E9: 3073 | F9: 33394 | G9: 107474 | H9: 311526 | I9: 165319 | J9: 146207 | K9: 3194 | L9: 52141 | M9: 256191 | N9: 1.65 | O9: 1.32
A10: 108年 2019 | B10: 144863 | C10: 89549 | D10: 55314 | E10: 2926 | F10: 34050 | G10: 107887 | H10: 304470 | I10: 162658 | J10: 141812 | K10: 3028 | L10: 51337 | M10: 250105 | N10: 1.64 | O10: 1.29
A11: 109年 2020 | B11: 146342 | C11: 90618 | D11: 55724 | E11: 2733 | F11: 34563 | G11: 109046 | H11: 300241 | I11: 161390 | J11: 138851 | K11: 2813 | L11: 50711 | M11: 246717 | N11: 1.64 | O11: 1.27
A12: 110年 2021 | B12: 146995 | C12: 90786 | D12: 56209 | E12: 2646 | F12: 34843 | G12: 109506 | H12: 295901 | I12: 159633 | J12: 136268 | K12: 2725 | L12: 50284 | M12: 242892 | N12: 1.6320845 | O12: 1.2658696
A13: 111年 2022 | B13: 146029 | C13: 89837 | D13: 56192 | E13: 2452 | F13: 35047 | G13: 108530 | H13: 288703 | I13: 155932 | J13: 132771 | K13: 2533 | L13: 49686 | M13: 236484 | N13: 1.6065769 | O13: 1.2409519 | Q13: 9089450 | R13: 23264640 | S13: =B13/Q13*100 -> 1.6065769 | T13: =H13/R13*100 -> 1.2409519
A14: 112年 2023 | B14: 144668 | C14: 89017 | D14: 55651 | E14: 2314 | F14: 35375 | G14: 106979 | H14: 277364 | I14: 150565 | J14: 126799 | K14: 2386 | L14: 48368 | M14: 226610 | N14: 1.5655316 | O14: 1.1842817 | Q14: 9240823 | R14: 23420442 | S14: =B14/Q14*100 -> 1.5655316 | T14: =H14/R14*100 -> 1.1842817
A15: 113年 2024 | B15: 141947 | C15: 87255 | D15: 54692 | E15: 2354 | F15: 36313 | G15: 103280 | H15: 263294 | I15: 143816 | J15: 119478 | K15: 2416 | L15: 48617 | M15: 212261 | N15: 1.4961507 | O15: 1.1251775
A16: 第一季 Q1 | B16: 139333 | C16: 86084 | D16: 53249 | E16: 2440 | F16: 35889 | G16: 101004 | H16: 261216 | I16: 142803 | J16: 118413 | K16: 2511 | L16: 48434 | M16: 210271 | N16: 1.5032168 | O16: 1.1155271
A17: 第二季 Q2 | B17: 141137 | C17: 86979 | D17: 54158 | E17: 2418 | F17: 36250 | G17: 102469 | H17: 263884 | I17: 144151 | J17: 119733 | K17: 2481 | L17: 48833 | M17: 212570 | N17: 1.5159945 | O17: 1.1270881 | Q17: 9268989 | R17: 23416375 | S17: =#REF!/Q17*100 -> #REF! | T17: =#REF!/R17*100 -> #REF!
A18: 第三季 Q3 | B18: 141019 | C18: 86910 | D18: 54109 | E18: 2396 | F18: 36361 | G18: 102262 | H18: 261900 | I18: 143209 | J18: 118691 | K18: 2461 | L18: 48679 | M18: 210760 | N18: 1.5035581 | O18: 1.1190329
A19: 第四季 Q4 | B19: 141947 | C19: 87255 | D19: 54692 | E19: 2354 | F19: 36313 | G19: 103280 | H19: 263294 | I19: 143816 | J19: 119478 | K19: 2416 | L19: 48617 | M19: 212261 | N19: 1.4961507 | O19: 1.1251775
A20: 114年 2025 | B20: 143514 | C20: 88254 | D20: 55260 | E20: 2334 | F20: 37847 | G20: 103333 | H20: 260014 | I20: 142790 | J20: 117224 | K20: 2395 | L20: 50199 | M20: 207420 | N20: 1.4628597 | O20: 1.12
A21: 第一季 Q1 | B21: 139908 | C21: 86291 | D21: 53617 | E21: 2423 | F21: 37360 | G21: 100125 | H21: 256132 | I21: 140641 | J21: 115491 | K21: 2485 | L21: 49998 | M21: 203649 | N21: 1.440157 | O21: 1.095764
A22: 第二季 Q2 | B22: 141854 | C22: 87329 | D22: 54525 | E22: 2389 | F22: 37678 | G22: 101787 | H22: 259066 | I22: 142221 | J22: 116845 | K22: 2453 | L22: 50329 | M22: 206284 | N22: 1.4459391 | O22: 1.1096452
A23: 第三季 Q3 | B23: 142565 | C23: 87780 | D23: 54785 | E23: 2358 | F23: 37778 | G23: 102429 | H23: 258679 | I23: 142248 | J23: 116431 | K23: 2422 | L23: 50213 | M23: 206044 | N23: 1.4531864 | O23: 1.1079876
A24: 第四季 Q4 | B24: 143514 | C24: 88254 | D24: 55260 | E24: 2334 | F24: 37847 | G24: 103333 | H24: 260014 | I24: 142790 | J24: 117224 | K24: 2395 | L24: 50199 | M24: 207420 | N24: 1.4628597 | O24: 1.1137058
A26: 資料來源：直轄市、縣﹝市﹞政府。
A27: Source : County and City Government.
A28: 說明：1. 高雄市自民國100年起新增第4類。
A29: 2. 民國100年7月1日起實施新制社會救助法，除最低生活費調高外，應計算人口範圍亦將兄弟姊妹排除列計。
A30: Explanation : 1.As of the beginning of 2011, Category 4 is added to Kaohsiung City.
A31: 2.The new “Public Assistance Act” shall take effect on the 1st of July 2011. In addition to the upward revision of minimum monthly income, brothers and sisters are excluded from the scope of number of members living in the household.
A33: 更新日期：2026/04/20

Sheet 2025
A2: 低收入戶戶數及人數 Number and Population of Low-Income Households
A3: 中華民國114年第1季底 , 2025Q1
A4: 地區別 Locality | C4: 總計 Grand Total | I4: 第1款(省、新北、臺中、臺南)、第0類(臺北)、第1類(高雄) Class 1 | O4: 第2款(省、新北、臺中、臺南)、第1、2類(臺北)、第2類(高雄) Class 2 | U4: 第3款(省、新北、臺中、臺南)、第3、4類(臺北、高雄) Class 3 | AA4: 低收入戶戶數占總戶數比率(%) Rate of Households (%) | AB4: 低收入戶人數占總人數比率(%) Rate of Persons (%)
C5: 戶數(戶長性別) Households | F5: 人數 Persons | I5: 戶數 Households | L5: 人數 Persons | O5: 戶數 Households | R5: 人數 Persons | U5: 戶數 Households | X5: 人數 Persons
C6: 計 | D6: 男 | E6: 女 | F6: 計 | G6: 男 | H6: 女 | I6: 計 | J6: 男 | K6: 女 | L6: 計 | M6: 男 | N6: 女 | O6: 計 | P6: 男 | Q6: 女 | R6: 計 | S6: 男 | T6: 女 | U6: 計 | V6: 男 | W6: 女 | X6: 計 | Y6: 男 | Z6: 女 | AD6: 戶數 | AE6: 人數 | AF6: 戶數 | AH6: 人數
C7: Sub-Total | D7: Male | E7: Female | F7: Sub-Total | G7: Male | H7: Female | I7: Sub-Total | J7: Male | K7: Female | L7: Sub-Total | M7: Male | N7: Female | O7: Sub-Total | P7: Male | Q7: Female | R7: Sub-Total | S7: Male | T7: Female | U7: Sub-Total | V7: Male | W7: Female | X7: Sub-Total | Y7: Male | Z7: Female
A8: 總 計 | B8: Total | C8: 139908 | D8: 86291 | E8: 53617 | F8: 256132 | G8: 140641 | H8: 115491 | I8: 2423 | J8: 1725 | K8: 698 | L8: 2485 | M8: 1760 | N8: 725 | O8: 37360 | P8: 24968 | Q8: 12392 | R8: 49998 | S8: 31025 | T8: 18973 | U8: 100125 | V8: 59598 | W8: 40527 | X8: 203649 | Y8: 107856 | Z8: 95793 | AA8: 1.440157 | AB8: 1.095764 | AD8: 9268989 | AE8: 23416375 | AF8: =C8/AD8*100 -> 1.5094203 | AG8: =AA8-AF8 -> -0.06926326 | AH8: =F8/AE8*100 -> 1.0938158 | AI8: =AB8-AH8 -> 0.0019482068
A9: 新北市 | B9: New Taipei City | C9: 16116 | D9: 9848 | E9: 6268 | F9: 28066 | G9: 15345 | H9: 12721 | I9: 77 | J9: 59 | K9: 18 | L9: 84 | M9: 62 | N9: 22 | O9: 1637 | P9: 1057 | Q9: 580 | R9: 2316 | S9: 1392 | T9: 924 | U9: 14402 | V9: 8732 | W9: 5670 | X9: 25666 | Y9: 13891 | Z9: 11775 | AA9: 0.91616437 | AB9: 0.69313689 | AD9: 1677412 | AE9: 4042587 | AF9: =C9/AD9*100 -> 0.96076575 | AG9: =AA9-AF9 -> -0.044601385 | AH9: =F9/AE9*100 -> 0.6942584 | AI9: =AB9-AH9 -> -0.0011215116
A10: 臺北市 | B10: Taipei City | C10: 20135 | D10: 11004 | E10: 9131 | F10: 37934 | G10: 19289 | H10: 18645 | I10: 1222 | J10: 851 | K10: 371 | L10: 1253 | M10: 865 | N10: 388 | O10: 6767 | P10: 4184 | Q10: 2583 | R10: 8217 | S10: 4887 | T10: 3330 | U10: 12146 | V10: 5969 | W10: 6177 | X10: 28464 | Y10: 13537 | Z10: 14927 | AA10: 1.8656509 | AB10: 1.5369786 | AD10: 1065525 | AE10: 2509740 | AF10: =C10/AD10*100 -> 1.8896788 | AG10: =AA10-AF10 -> -0.024027899 | AH10: =F10/AE10*100 -> 1.5114713 | AI10: =AB10-AH10 -> 0.025507302
A11: 桃園市 | B11: Taoyuan City | C11: 12142 | D11: 7155 | E11: 4987 | F11: 26516 | G11: 13813 | H11: 12703 | I11: 106 | J11: 84 | K11: 22 | L11: 107 | M11: 85 | N11: 22 | O11: 1498 | P11: 1020 | Q11: 478 | R11: 2241 | S11: 1397 | T11: 844 | U11: 10538 | V11: 6051 | W11: 4487 | X11: 24168 | Y11: 12331 | Z11: 11837 | AA11: 1.2539049 | AB11: 1.1304141 | AD11: 908530 | AE11: 2321618 | AF11: =C11/AD11*100 -> 1.3364446 | AG11: =AA11-AF11 -> -0.082539688 | AH11: =F11/AE11*100 -> 1.1421345 | AI11: =AB11-AH11 -> -0.01172036
A12: 臺中市 | B12: Taichung City | C12: 19504 | D12: 11406 | E12: 8098 | F12: 39079 | G12: 20708 | H12: 18371 | I12: 535 | J12: 388 | K12: 147 | L12: 547 | M12: 397 | N12: 150 | O12: 8024 | P12: 5171 | Q12: 2853 | R12: 11810 | S12: 7001 | T12: 4809 | U12: 10945 | V12: 5847 | W12: 5098 | X12: 26722 | Y12: 13310 | Z12: 13412 | AA12: 1.7060359 | AB12: 1.3635632 | AD12: 1065799 | AE12: 2849578 | AF12: =C12/AD12*100 -> 1.8299886 | AG12: =AA12-AF12 -> -0.12395264 | AH12: =F12/AE12*100 -> 1.371396 | AI12: =AB12-AH12 -> -0.0078327973
A13: 臺南市 | B13: Tainan City | C13: 8441 | D13: 5682 | E13: 2759 | F13: 13713 | G13: 8181 | H13: 5532 | I13: 142 | J13: 94 | K13: 48 | L13: 145 | M13: 95 | N13: 50 | O13: 2652 | P13: 1883 | Q13: 769 | R13: 3130 | S13: 2113 | T13: 1017 | U13: 5647 | V13: 3705 | W13: 1942 | X13: 10438 | Y13: 5973 | Z13: 4465 | AA13: 1.103416 | AB13: 0.73782929 | AD13: 729268 | AE13: 1860072 | AF13: =C13/AD13*100 -> 1.157462 | AG13: =AA13-AF13 -> -0.054046002 | AH13: =F13/AE13*100 -> 0.73722953 | AI13: =AB13-AH13 -> 0.00059976059
A14: 高雄市 | B14: Kaohsiung City | C14: 14341 | D14: 9011 | E14: 5330 | F14: 25764 | G14: 14202 | H14: 11562 | I14: 58 | J14: 39 | K14: 19 | L14: 59 | M14: 40 | N14: 19 | O14: 7142 | P14: 4797 | Q14: 2345 | R14: 9017 | S14: 5703 | T14: 3314 | U14: 7141 | V14: 4175 | W14: 2966 | X14: 16688 | Y14: 8459 | Z14: 8229 | AA14: 1.19933 | AB14: 0.9441236 | AD14: 1153064 | AE14: 2736577 | AF14: =C14/AD14*100 -> 1.2437297 | AG14: =AA14-AF14 -> -0.044399789 | AH14: =F14/AE14*100 -> 0.94146812 | AI14: =AB14-AH14 -> 0.0026554777
A15: 宜蘭縣 | B15: Yilan County | C15: 2904 | D15: 1799 | E15: 1105 | F15: 5117 | G15: 2843 | H15: 2274 | I15: 5 | J15: 4 | K15: 1 | L15: 5 | M15: 4 | N15: 1 | O15: 242 | P15: 166 | Q15: 76 | R15: 336 | S15: 216 | T15: 120 | U15: 2657 | V15: 1629 | W15: 1028 | X15: 4776 | Y15: 2623 | Z15: 2153 | AA15: 1.5266453 | AB15: 1.1365984 | AD15: 179065 | AE15: 449492 | AF15: =C15/AD15*100 -> 1.6217575 | AG15: =AA15-AF15 -> -0.095112139 | AH15: =F15/AE15*100 -> 1.1383962 | AI15: =AB15-AH15 -> -0.001797855
A16: 新竹縣 | B16: Hsinchu County | C16: 1864 | D16: 1215 | E16: 649 | F16: 3679 | G16: 2048 | H16: 1631 | I16: 2 | J16: 2 | K16: 0 | L16: 2 | M16: 2 | N16: 0 | O16: 222 | P16: 164 | Q16: 58 | R16: 337 | S16: 223 | T16: 114 | U16: 1640 | V16: 1049 | W16: 591 | X16: 3340 | Y16: 1823 | Z16: 1517 | AA16: 0.78397725 | AB16: 0.61676136 | AD16: 222044 | AE16: 590305 | AF16: =C16/AD16*100 -> 0.83947326 | AG16: =AA16-AF16 -> -0.055496003 | AH16: =F16/AE16*100 -> 0.62323714 | AI16: =AB16-AH16 -> -0.0064757827
A17: 苗栗縣 | B17: Miaoli County | C17: 2980 | D17: 1945 | E17: 1035 | F17: 5246 | G17: 2978 | H17: 2268 | I17: 1 | J17: 1 | K17: 0 | L17: 1 | M17: 1 | N17: 0 | O17: 1031 | P17: 735 | Q17: 296 | R17: 1418 | S17: 924 | T17: 494 | U17: 1948 | V17: 1209 | W17: 739 | X17: 3827 | Y17: 2053 | Z17: 1774 | AA17: 1.4217354 | AB17: 0.98449505 | AD17: 200177 | AE17: 533971 | AF17: =C17/AD17*100 -> 1.4886825 | AG17: =AA17-AF17 -> -0.06694714 | AH17: =F17/AE17*100 -> 0.98245036 | AI17: =AB17-AH17 -> 0.0020446897
A18: 彰化縣 | B18: Changhua County | C18: 7714 | D18: 4968 | E18: 2746 | F18: 12155 | G18: 7102 | H18: 5053 | I18: 5 | J18: 3 | K18: 2 | L18: 5 | M18: 3 | N18: 2 | O18: 94 | P18: 57 | Q18: 37 | R18: 155 | S18: 90 | T18: 65 | U18: 7615 | V18: 4908 | W18: 2707 | X18: 11995 | Y18: 7009 | Z18: 4986 | AA18: 1.7586135 | AB18: 0.99607307 | AD18: 407050 | AE18: 1235255 | AF18: =C18/AD18*100 -> 1.8950989 | AG18: =AA18-AF18 -> -0.13648535 | AH18: =F18/AE18*100 -> 0.98400735 | AI18: =AB18-AH18 -> 0.01206572
A19: 南投縣 | B19: Nantou County | C19: 2418 | D19: 1735 | E19: 683 | F19: 3808 | G19: 2360 | H19: 1448 | I19: 1 | J19: 1 | K19: 0 | L19: 1 | M19: 1 | N19: 0 | O19: 114 | P19: 81 | Q19: 33 | R19: 157 | S19: 103 | T19: 54 | U19: 2303 | V19: 1653 | W19: 650 | X19: 3650 | Y19: 2256 | Z19: 1394 | AA19: 1.2875468 | AB19: 0.80829865 | AD19: 180840 | AE19: 475921 | AF19: =C19/AD19*100 -> 1.3370936 | AG19: =AA19-AF19 -> -0.049546771 | AH19: =F19/AE19*100 -> 0.8001328 | AI19: =AB19-AH19 -> 0.0081658508
... A30: 連江縣 | B30: Lienchiang County | C30: 46 | D30: 33 | E30: 13 | F30: 98 | G30: 51 | H30: 47 | I30: 12 | J30: 10 | K30: 2 | L30: 12 | M30: 10 | N30: 2 | O30: 16 | P30: 12 | Q30: 4 | R30: 29 | S30: 20 | T30: 9 | U30: 18 | V30: 11 | W30: 7 | X30: 57 | Y30: 21 | Z30: 36 | AA30: 1.1627907 | AB30: 0.71288281 | AD30: 3726 | AE30: 14006 | AF30: =C30/AD30*100 -> 1.2345679 | AG30: =AA30-AF30 -> -0.071777204 | AH30: =F30/AE30*100 -> 0.69970013 | AI30: =AB30-AH30 -> 0.013182682
A31: 資料來源：直轄市、縣﹝市﹞政府。
A32: Source : County and City Government.
A35: 中華民國114年第2季底 , 2025 Q2
A36: 地區別 Locality | C36: 總計 Grand Total | I36: 第1款(省、新北、臺中、臺南)、第0類(臺北)、第1類(高雄) Class 1 | O36: 第2款(省、新北、臺中、臺南)、第1、2類(臺北)、第2類(高雄) Class 2 | U36: 第3款(省、新北、臺中、臺南)、第3、4類(臺北、高雄) Class 3 | AA36: 低收入戶戶數占總戶數比率(%) Rate of Households (%) | AB36: 低收入戶人數占總人數比率(%) Rate of Persons (%)
C37: 戶數(戶長性別) Households | F37: 人數 Persons | I37: 戶數 Households | L37: 人數 Persons | O37: 戶數 Households | R37: 人數 Persons | U37: 戶數 Households | X37: 人數 Persons
C38: 計 | D38: 男 | E38: 女 | F38: 計 | G38: 男 | H38: 女 | I38: 計 | J38: 男 | K38: 女 | L38: 計 | M38: 男 | N38: 女 | O38: 計 | P38: 男 | Q38: 女 | R38: 計 | S38: 男 | T38: 女 | U38: 計 | V38: 男 | W38: 女 | X38: 計 | Y38: 男 | Z38: 女 | AD38: 戶數 | AE38: 人數 | AF38: 戶數 | AH38: 人數
C39: Sub-Total | D39: Male | E39: Female | F39: Sub-Total | G39: Male | H39: Female | I39: Sub-Total | J39: Male | K39: Female | L39: Sub-Total | M39: Male | N39: Female | O39: Sub-Total | P39: Male | Q39: Female | R39: Sub-Total | S39: Male | T39: Female | U39: Sub-Total | V39: Male | W39: Female | X39: Sub-Total | Y39: Male | Z39: Female
A40: 總 計 | B40: Total | C40: 141854 | D40: 87329 | E40: 54525 | F40: 259066 | G40: 142221 | H40: 116845 | I40: 2389 | J40: 1697 | K40: 692 | L40: 2453 | M40: 1733 | N40: 720 | O40: 37678 | P40: 25107 | Q40: 12571 | R40: 50329 | S40: 31185 | T40: 19144 | U40: 101787 | V40: 60525 | W40: 41262 | X40: 206284 | Y40: 109303 | Z40: 96981 | AA40: 1.4459391 | AB40: 1.1096452 | AD40: 9810510 | AE40: 23346741 | AF40: =C40/AD40*100 -> 1.4459391 | AG40: =AA40-AF40 -> -3.9968029e-15 | AH40: =F40/AE40*100 -> 1.1096452 | AI40: =AB40-AH40 -> 0
A41: 新北市 | B41: New Taipei City | C41: 16413 | D41: 10009 | E41: 6404 | F41: 28506 | G41: 15565 | H41: 12941 | I41: 76 | J41: 59 | K41: 17 | L41: 82 | M41: 62 | N41: 20 | O41: 1653 | P41: 1067 | Q41: 586 | R41: 2334 | S41: 1402 | T41: 932 | U41: 14684 | V41: 8883 | W41: 5801 | X41: 26090 | Y41: 14101 | Z41: 11989 | AA41: 0.92299127 | AB41: 0.70410811 | AD41: 1778240 | AE41: 4048526 | AF41: =C41/AD41*100 -> 0.92299127 | AG41: =AA41-AF41 -> 0 | AH41: =F41/AE41*100 -> 0.70410811 | AI41: =AB41-AH41 -> 0
A42: 臺北市 | B42: Taipei City | C42: 20330 | D42: 11107 | E42: 9223 | F42: 38126 | G42: 19400 | H42: 18726 | I42: 1213 | J42: 846 | K42: 367 | L42: 1245 | M42: 861 | N42: 384 | O42: 6839 | P42: 4214 | Q42: 2625 | R42: 8304 | S42: 4921 | T42: 3383 | U42: 12278 | V42: 6047 | W42: 6231 | X42: 28577 | Y42: 13618 | Z42: 14959 | AA42: 1.8807443 | AB42: 1.5537268 | AD42: 1080955 | AE42: 2453842 | AF42: =C42/AD42*100 -> 1.8807443 | AG42: =AA42-AF42 -> 0 | AH42: =F42/AE42*100 -> 1.5537268 | AI42: =AB42-AH42 -> 0
A43: 桃園市 | B43: Taoyuan City | C43: 12306 | D43: 7224 | E43: 5082 | F43: 26819 | G43: 13964 | H43: 12855 | I43: 103 | J43: 80 | K43: 23 | L43: 104 | M43: 80 | N43: 24 | O43: 1528 | P43: 1037 | Q43: 491 | R43: 2263 | S43: 1414 | T43: 849 | U43: 10675 | V43: 6107 | W43: 4568 | X43: 24452 | Y43: 12470 | Z43: 11982 | AA43: 1.2536739 | AB43: 1.1413292 | AD43: 981595 | AE43: 2349804 | AF43: =C43/AD43*100 -> 1.2536739 | AG43: =AA43-AF43 -> 0 | AH43: =F43/AE43*100 -> 1.1413292 | AI43: =AB43-AH43 -> 0
A44: 臺中市 | B44: Taichung City | C44: 19644 | D44: 11480 | E44: 8164 | F44: 39195 | G44: 20759 | H44: 18436 | I44: 524 | J44: 378 | K44: 146 | L44: 538 | M44: 388 | N44: 150 | O44: 8081 | P44: 5197 | Q44: 2884 | R44: 11866 | S44: 7030 | T44: 4836 | U44: 11039 | V44: 5905 | W44: 5134 | X44: 26791 | Y44: 13341 | Z44: 13450 | AA44: 1.6930615 | AB44: 1.3668029 | AD44: 1160265 | AE44: 2867641 | AF44: =C44/AD44*100 -> 1.6930615 | AG44: =AA44-AF44 -> 0 | AH44: =F44/AE44*100 -> 1.3668029 | AI44: =AB44-AH44 -> 0
A45: 臺南市 | B45: Tainan City | C45: 8510 | D45: 5702 | E45: 2808 | F45: 13874 | G45: 8253 | H45: 5621 | I45: 137 | J45: 89 | K45: 48 | L45: 140 | M45: 90 | N45: 50 | O45: 2627 | P45: 1857 | Q45: 770 | R45: 3098 | S45: 2084 | T45: 1014 | U45: 5746 | V45: 3756 | W45: 1990 | X45: 10636 | Y45: 6079 | Z45: 4557 | AA45: 1.1010751 | AB45: 0.74714677 | AD45: 772881 | AE45: 1856931 | AF45: =C45/AD45*100 -> 1.1010751 | AG45: =AA45-AF45 -> 0 | AH45: =F45/AE45*100 -> 0.74714677 | AI45: =AB45-AH45 -> 0
A46: 高雄市 | B46: Kaohsiung City | C46: 14641 | D46: 9187 | E46: 5454 | F46: 26308 | G46: 14502 | H46: 11806 | I46: 55 | J46: 37 | K46: 18 | L46: 56 | M46: 38 | N46: 18 | O46: 7246 | P46: 4867 | Q46: 2379 | R46: 9175 | S46: 5799 | T46: 3376 | U46: 7340 | V46: 4283 | W46: 3057 | X46: 17077 | Y46: 8665 | Z46: 8412 | AA46: 1.2134146 | AB46: 0.96514643 | AD46: 1206595 | AE46: 2725804 | AF46: =C46/AD46*100 -> 1.2134146 | AG46: =AA46-AF46 -> 0 | AH46: =F46/AE46*100 -> 0.96514643 | AI46: =AB46-AH46 -> 0
A47: 宜蘭縣 | B47: Yilan County | C47: 2984 | D47: 1845 | E47: 1139 | F47: 5230 | G47: 2902 | H47: 2328 | I47: 4 | J47: 3 | K47: 1 | L47: 4 | M47: 3 | N47: 1 | O47: 244 | P47: 166 | Q47: 78 | R47: 335 | S47: 214 | T47: 121 | U47: 2736 | V47: 1676 | W47: 1060 | X47: 4891 | Y47: 2685 | Z47: 2206 | AA47: 1.546699 | AB47: 1.1610148 | AD47: 192927 | AE47: 450468 | AF47: =C47/AD47*100 -> 1.546699 | AG47: =AA47-AF47 -> 0 | AH47: =F47/AE47*100 -> 1.1610148 | AI47: =AB47-AH47 -> 0
A48: 新竹縣 | B48: Hsinchu County | C48: 1898 | D48: 1228 | E48: 670 | F48: 3758 | G48: 2089 | H48: 1669 | I48: 2 | J48: 2 | K48: 0 | L48: 2 | M48: 2 | N48: 0 | O48: 224 | P48: 164 | Q48: 60 | R48: 342 | S48: 225 | T48: 117 | U48: 1672 | V48: 1062 | W48: 610 | X48: 3414 | Y48: 1862 | Z48: 1552 | AA48: 0.79029988 | AB48: 0.62963999 | AD48: 240162 | AE48: 596849 | AF48: =C48/AD48*100 -> 0.79029988 | AG48: =AA48-AF48 -> 0 | AH48: =F48/AE48*100 -> 0.62963999 | AI48: =AB48-AH48 -> 0
A49: 苗栗縣 | B49: Miaoli County | C49: 3016 | D49: 1969 | E49: 1047 | F49: 5287 | G49: 3013 | H49: 2274 | I49: 1 | J49: 1 | K49: 0 | L49: 1 | M49: 1 | N49: 0 | O49: 1022 | P49: 731 | Q49: 291 | R49: 1398 | S49: 916 | T49: 482 | U49: 1993 | V49: 1237 | W49: 756 | X49: 3888 | Y49: 2096 | Z49: 1792 | AA49: 1.423595 | AB49: 0.99277995 | AD49: 211858 | AE49: 532545 | AF49: =C49/AD49*100 -> 1.423595 | AG49: =AA49-AF49 -> 0 | AH49: =F49/AE49*100 -> 0.99277995 | AI49: =AB49-AH49 -> 0
A50: 彰化縣 | B50: Changhua County | C50: 7848 | D50: 5051 | E50: 2797 | F50: 12387 | G50: 7237 | H50: 5150 | I50: 6 | J50: 4 | K50: 2 | L50: 6 | M50: 4 | N50: 2 | O50: 103 | P50: 66 | Q50: 37 | R50: 168 | S50: 101 | T50: 67 | U50: 7739 | V50: 4981 | W50: 2758 | X50: 12213 | Y50: 7132 | Z50: 5081 | AA50: 1.7696521 | AB50: 1.0181453 | AD50: 443477 | AE50: 1216624 | AF50: =C50/AD50*100 -> 1.7696521 | AG50: =AA50-AF50 -> 0 | AH50: =F50/AE50*100 -> 1.0181453 | AI50: =AB50-AH50 -> 0
A51: 南投縣 | B51: Nantou County | C51: 2438 | D51: 1747 | E51: 691 | F51: 3837 | G51: 2379 | H51: 1458 | I51: 1 | J51: 1 | K51: 0 | L51: 1 | M51: 1 | N51: 0 | O51: 114 | P51: 81 | Q51: 33 | R51: 157 | S51: 103 | T51: 54 | U51: 2323 | V51: 1665 | W51: 658 | X51: 3679 | Y51: 2275 | Z51: 1404 | AA51: 1.2868491 | AB51: 0.81656888 | AD51: 189455 | AE51: 469893 | AF51: =C51/AD51*100 -> 1.2868491 | AG51: =AA51-AF51 -> 0 | AH51: =F51/AE51*100 -> 0.81656888 | AI51: =AB51-AH51 -> 0
... A62: 連江縣 | B62: Lienchiang County | C62: 45 | D62: 32 | E62: 13 | F62: 99 | G62: 51 | H62: 48 | I62: 12 | J62: 10 | K62: 2 | L62: 12 | M62: 10 | N62: 2 | O62: 15 | P62: 11 | Q62: 4 | R62: 29 | S62: 20 | T62: 9 | U62: 18 | V62: 11 | W62: 7 | X62: 58 | Y62: 21 | Z62: 37 | AA62: 1.1221945 | AB62: 0.72767365 | AD62: 4010 | AE62: 13605 | AF62: =C62/AD62*100 -> 1.1221945 | AG62: =AA62-AF62 -> 0 | AH62: =F62/AE62*100 -> 0.72767365 | AI62: =AB62-AH62 -> 0
A63: 資料來源：直轄市、縣﹝市﹞政府。
...

Sheet 2024
A2: 低收入戶戶數及人數 Number and Population of Low-Income Households
A3: 中華民國113年第1季底 , 2024Q1
A4: 地區別 Locality | C4: 總計 Grand Total | I4: 第1款(省、新北、臺中、臺南)、第0類(臺北)、第1類(高雄) Class 1 | O4: 第2款(省、新北、臺中、臺南)、第1、2類(臺北)、第2類(高雄) Class 2 | U4: 第3款(省、新北、臺中、臺南)、第3、4類(臺北、高雄) Class 3 | AA4: 低收入戶戶數占總戶數比率(%) Rate of Households (%) | AB4: 低收入戶人數占總人數比率(%) Rate of Persons (%)
C5: 戶數(戶長性別) Households | F5: 人數 Persons | I5: 戶數 Households | L5: 人數 Persons | O5: 戶數 Households | R5: 人數 Persons | U5: 戶數 Households | X5: 人數 Persons
C6: 計 | D6: 男 | E6: 女 | F6: 計 | G6: 男 | H6: 女 | I6: 計 | J6: 男 | K6: 女 | L6: 計 | M6: 男 | N6: 女 | O6: 計 | P6: 男 | Q6: 女 | R6: 計 | S6: 男 | T6: 女 | U6: 計 | V6: 男 | W6: 女 | X6: 計 | Y6: 男 | Z6: 女 | AD6: 戶數 | AE6: 人數 | AF6: 戶數 | AH6: 人數
C7: Sub-Total | D7: Male | E7: Female | F7: Sub-Total | G7: Male | H7: Female | I7: Sub-Total | J7: Male | K7: Female | L7: Sub-Total | M7: Male | N7: Female | O7: Sub-Total | P7: Male | Q7: Female | R7: Sub-Total | S7: Male | T7: Female | U7: Sub-Total | V7: Male | W7: Female | X7: Sub-Total | Y7: Male | Z7: Female
A8: 總 計 | B8: Total | C8: 139333 | D8: 86084 | E8: 53249 | F8: 261216 | G8: 142803 | H8: 118413 | I8: 2440 | J8: 1751 | K8: 689 | L8: 2511 | M8: 1790 | N8: 721 | O8: 35889 | P8: 24041 | Q8: 11848 | R8: 48434 | S8: 30014 | T8: 18420 | U8: 101004 | V8: 60292 | W8: 40712 | X8: 210271 | Y8: 110999 | Z8: 99272 | AA8: 1.5032168 | AB8: 1.1155271 | AD8: 9268989 | AE8: 23416375 | AF8: =C8/AD8*100 -> 1.5032168 | AG8: =AA8-AF8 -> 0 | AH8: =F8/AE8*100 -> 1.1155271 | AI8: =AB8-AH8 -> 0
A9: 新北市 | B9: New Taipei City | C9: 16256 | D9: 9970 | E9: 6286 | F9: 29293 | G9: 15864 | H9: 13429 | I9: 64 | J9: 54 | K9: 10 | L9: 71 | M9: 57 | N9: 14 | O9: 1333 | P9: 887 | Q9: 446 | R9: 1942 | S9: 1178 | T9: 764 | U9: 14859 | V9: 9029 | W9: 5830 | X9: 27280 | Y9: 14629 | Z9: 12651 | AA9: 0.96911194 | AB9: 0.72461026 | AD9: 1677412 | AE9: 4042587 | AF9: =C9/AD9*100 -> 0.96911194 | AG9: =AA9-AF9 -> 0 | AH9: =F9/AE9*100 -> 0.72461026 | AI9: =AB9-AH9 -> 0
A10: 臺北市 | B10: Taipei City | C10: 20676 | D10: 11375 | E10: 9301 | F10: 39985 | G10: 20373 | H10: 19612 | I10: 1331 | J10: 929 | K10: 402 | L10: 1372 | M10: 949 | N10: 423 | O10: 6764 | P10: 4200 | Q10: 2564 | R10: 8402 | S10: 4960 | T10: 3442 | U10: 12581 | V10: 6246 | W10: 6335 | X10: 30211 | Y10: 14464 | Z10: 15747 | AA10: 1.9404519 | AB10: 1.5931929 | AD10: 1065525 | AE10: 2509740 | AF10: =C10/AD10*100 -> 1.9404519 | AG10: =AA10-AF10 -> 0 | AH10: =F10/AE10*100 -> 1.5931929 | AI10: =AB10-AH10 -> 0
A11: 桃園市 | B11: Taoyuan City | C11: 12185 | D11: 7125 | E11: 5060 | F11: 27267 | G11: 14150 | H11: 13117 | I11: 68 | J11: 52 | K11: 16 | L11: 69 | M11: 52 | N11: 17 | O11: 1483 | P11: 1005 | Q11: 478 | R11: 2388 | S11: 1455 | T11: 933 | U11: 10634 | V11: 6068 | W11: 4566 | X11: 24810 | Y11: 12643 | Z11: 12167 | AA11: 1.3411775 | AB11: 1.1744826 | AD11: 908530 | AE11: 2321618 | AF11: =C11/AD11*100 -> 1.3411775 | AG11: =AA11-AF11 -> 0 | AH11: =F11/AE11*100 -> 1.1744826 | AI11: =AB11-AH11 -> 0
A12: 臺中市 | B12: Taichung City | C12: 19674 | D12: 11446 | E12: 8228 | F12: 40515 | G12: 21285 | H12: 19230 | I12: 523 | J12: 386 | K12: 137 | L12: 537 | M12: 396 | N12: 141 | O12: 7559 | P12: 4875 | Q12: 2684 | R12: 11380 | S12: 6708 | T12: 4672 | U12: 11592 | V12: 6185 | W12: 5407 | X12: 28598 | Y12: 14181 | Z12: 14417 | AA12: 1.8459391 | AB12: 1.4217895 | AD12: 1065799 | AE12: 2849578 | AF12: =C12/AD12*100 -> 1.8459391 | AG12: =AA12-AF12 -> 0 | AH12: =F12/AE12*100 -> 1.4217895 | AI12: =AB12-AH12 -> 0
A13: 臺南市 | B13: Tainan City | C13: 8573 | D13: 5795 | E13: 2778 | F13: 14255 | G13: 8448 | H13: 5807 | I13: 156 | J13: 103 | K13: 53 | L13: 158 | M13: 104 | N13: 54 | O13: 2841 | P13: 2031 | Q13: 810 | R13: 3338 | S13: 2270 | T13: 1068 | U13: 5576 | V13: 3661 | W13: 1915 | X13: 10759 | Y13: 6074 | Z13: 4685 | AA13: 1.1755623 | AB13: 0.76636818 | AD13: 729268 | AE13: 1860072 | AF13: =C13/AD13*100 -> 1.1755623 | AG13: =AA13-AF13 -> 0 | AH13: =F13/AE13*100 -> 0.76636818 | AI13: =AB13-AH13 -> 0
A14: 高雄市 | B14: Kaohsiung City | C14: 14166 | D14: 8902 | E14: 5264 | F14: 26125 | G14: 14311 | H14: 11814 | I14: 55 | J14: 36 | K14: 19 | L14: 56 | M14: 37 | N14: 19 | O14: 6981 | P14: 4679 | Q14: 2302 | R14: 8890 | S14: 5598 | T14: 3292 | U14: 7130 | V14: 4187 | W14: 2943 | X14: 17179 | Y14: 8676 | Z14: 8503 | AA14: 1.2285528 | AB14: 0.95465978 | AD14: 1153064 | AE14: 2736577 | AF14: =C14/AD14*100 -> 1.2285528 | AG14: =AA14-AF14 -> 0 | AH14: =F14/AE14*100 -> 0.95465978 | AI14: =AB14-AH14 -> 0
A15: 宜蘭縣 | B15: Yilan County | C15: 2852 | D15: 1789 | E15: 1063 | F15: 5053 | G15: 2818 | H15: 2235 | I15: 6 | J15: 5 | K15: 1 | L15: 6 | M15: 5 | N15: 1 | O15: 243 | P15: 170 | Q15: 73 | R15: 329 | S15: 217 | T15: 112 | U15: 2603 | V15: 1614 | W15: 989 | X15: 4718 | Y15: 2596 | Z15: 2122 | AA15: 1.5927177 | AB15: 1.1241579 | AD15: 179065 | AE15: 449492 | AF15: =C15/AD15*100 -> 1.5927177 | AG15: =AA15-AF15 -> 0 | AH15: =F15/AE15*100 -> 1.1241579 | AI15: =AB15-AH15 -> 0
A16: 新竹縣 | B16: Hsinchu County | C16: 1871 | D16: 1218 | E16: 653 | F16: 3786 | G16: 2109 | H16: 1677 | I16: 3 | J16: 3 | K16: 0 | L16: 3 | M16: 3 | N16: 0 | O16: 226 | P16: 165 | Q16: 61 | R16: 322 | S16: 215 | T16: 107 | U16: 1642 | V16: 1050 | W16: 592 | X16: 3461 | Y16: 1891 | Z16: 1570 | AA16: 0.84262579 | AB16: 0.64136336 | AD16: 222044 | AE16: 590305 | AF16: =C16/AD16*100 -> 0.84262579 | AG16: =AA16-AF16 -> 0 | AH16: =F16/AE16*100 -> 0.64136336 | AI16: =AB16-AH16 -> 0
A17: 苗栗縣 | B17: Miaoli County | C17: 2802 | D17: 1843 | E17: 959 | F17: 4996 | G17: 2839 | H17: 2157 | I17: 1 | J17: 1 | K17: 0 | L17: 1 | M17: 1 | N17: 0 | O17: 1026 | P17: 748 | Q17: 278 | R17: 1389 | S17: 934 | T17: 455 | U17: 1775 | V17: 1094 | W17: 681 | X17: 3606 | Y17: 1904 | Z17: 1702 | AA17: 1.3997612 | AB17: 0.93563134 | AD17: 200177 | AE17: 533971 | AF17: =C17/AD17*100 -> 1.3997612 | AG17: =AA17-AF17 -> 0 | AH17: =F17/AE17*100 -> 0.93563134 | AI17: =AB17-AH17 -> 0
A18: 彰化縣 | B18: Changhua County | C18: 7651 | D18: 4945 | E18: 2706 | F18: 12204 | G18: 7123 | H18: 5081 | I18: 4 | J18: 3 | K18: 1 | L18: 4 | M18: 3 | N18: 1 | O18: 98 | P18: 67 | Q18: 31 | R18: 152 | S18: 97 | T18: 55 | U18: 7549 | V18: 4875 | W18: 2674 | X18: 12048 | Y18: 7023 | Z18: 5025 | AA18: 1.8796217 | AB18: 0.98797414 | AD18: 407050 | AE18: 1235255 | AF18: =C18/AD18*100 -> 1.8796217 | AG18: =AA18-AF18 -> 0 | AH18: =F18/AE18*100 -> 0.98797414 | AI18: =AB18-AH18 -> 0
A19: 南投縣 | B19: Nantou County | C19: 2433 | D19: 1732 | E19: 701 | F19: 3962 | G19: 2418 | H19: 1544 | I19: 2 | J19: 1 | K19: 1 | L19: 2 | M19: 1 | N19: 1 | O19: 115 | P19: 83 | Q19: 32 | R19: 163 | S19: 106 | T19: 57 | U19: 2316 | V19: 1648 | W19: 668 | X19: 3797 | Y19: 2311 | Z19: 1486 | AA19: 1.3453882 | AB19: 0.83249111 | AD19: 180840 | AE19: 475921 | AF19: =C19/AD19*100 -> 1.3453882 | AG19: =AA19-AF19 -> 0 | AH19: =F19/AE19*100 -> 0.83249111 | AI19: =AB19-AH19 -> 0
... A30: 連江縣 | B30: Lienchiang County | C30: 50 | D30: 35 | E30: 15 | F30: 96 | G30: 50 | H30: 46 | I30: 13 | J30: 9 | K30: 4 | L30: 13 | M30: 9 | N30: 4 | O30: 17 | P30: 14 | Q30: 3 | R30: 29 | S30: 21 | T30: 8 | U30: 20 | V30: 12 | W30: 8 | X30: 54 | Y30: 20 | Z30: 34 | AA30: 1.3419216 | AB30: 0.68542053 | AD30: 3726 | AE30: 14006 | AF30: =C30/AD30*100 -> 1.3419216 | AG30: =AA30-AF30 -> 0 | AH30: =F30/AE30*100 -> 0.68542053 | AI30: =AB30-AH30 -> 0
A31: 資料來源：直轄市、縣﹝市﹞政府。
A32: Source : County and City Government.
A35: 中華民國113年第2季底 , 2024 Q2
A36: 地區別 Locality | C36: 總計 Grand Total | I36: 第1款(省、新北、臺中、臺南)、第0類(臺北)、第1類(高雄) Class 1 | O36: 第2款(省、新北、臺中、臺南)、第1、2類(臺北)、第2類(高雄) Class 2 | U36: 第3款(省、新北、臺中、臺南)、第3、4類(臺北、高雄) Class 3 | AA36: 低收入戶戶數占總戶數比率(%) Rate of Households (%) | AB36: 低收入戶人數占總人數比率(%) Rate of Persons (%)
C37: 戶數(戶長性別) Households | F37: 人數 Persons | I37: 戶數 Households | L37: 人數 Persons | O37: 戶數 Households | R37: 人數 Persons | U37: 戶數 Households | X37: 人數 Persons
C38: 計 | D38: 男 | E38: 女 | F38: 計 | G38: 男 | H38: 女 | I38: 計 | J38: 男 | K38: 女 | L38: 計 | M38: 男 | N38: 女 | O38: 計 | P38: 男 | Q38: 女 | R38: 計 | S38: 男 | T38: 女 | U38: 計 | V38: 男 | W38: 女 | X38: 計 | Y38: 男 | Z38: 女
C39: Sub-Total | D39: Male | E39: Female | F39: Sub-Total | G39: Male | H39: Female | I39: Sub-Total | J39: Male | K39: Female | L39: Sub-Total | M39: Male | N39: Female | O39: Sub-Total | P39: Male | Q39: Female | R39: Sub-Total | S39: Male | T39: Female | U39: Sub-Total | V39: Male | W39: Female | X39: Sub-Total | Y39: Male | Z39: Female
A40: 總 計 | B40: Total | C40: 141137 | D40: 86979 | E40: 54158 | F40: 263884 | G40: 144151 | H40: 119733 | I40: 2418 | J40: 1736 | K40: 682 | L40: 2481 | M40: 1770 | N40: 711 | O40: 36250 | P40: 24225 | Q40: 12025 | R40: 48833 | S40: 30223 | T40: 18610 | U40: 102469 | V40: 61018 | W40: 41451 | X40: 212570 | Y40: 112158 | Z40: 100412 | AA40: 1.5159945 | AB40: 1.1270881
A41: 新北市 | B41: New Taipei City | C41: 16563 | D41: 10135 | E41: 6428 | F41: 29761 | G41: 16133 | H41: 13628 | I41: 72 | J41: 60 | K41: 12 | L41: 79 | M41: 63 | N41: 16 | O41: 1398 | P41: 932 | Q41: 466 | R41: 2023 | S41: 1231 | T41: 792 | U41: 15093 | V41: 9143 | W41: 5950 | X41: 27659 | Y41: 14839 | Z41: 12820 | AA41: 0.98212745 | AB41: 0.73602241
A42: 臺北市 | B42: Taipei City | C42: 20889 | D42: 11453 | E42: 9436 | F42: 40340 | G42: 20512 | H42: 19828 | I42: 1303 | J42: 908 | K42: 395 | L42: 1336 | M42: 923 | N42: 413 | O42: 6833 | P42: 4225 | Q42: 2608 | R42: 8494 | S42: 4998 | T42: 3496 | U42: 12753 | V42: 6320 | W42: 6433 | X42: 30510 | Y42: 14591 | Z42: 15919 | AA42: 1.9568498 | AB42: 1.6092441
A43: 桃園市 | B43: Taoyuan City | C43: 12406 | D43: 7241 | E43: 5165 | F43: 27683 | G43: 14356 | H43: 13327 | I43: 68 | J43: 52 | K43: 16 | L43: 69 | M43: 52 | N43: 17 | O43: 1489 | P43: 1005 | Q43: 484 | R43: 2394 | S43: 1463 | T43: 931 | U43: 10849 | V43: 6184 | W43: 4665 | X43: 25220 | Y43: 12841 | Z43: 12379 | AA43: 1.3552353 | AB43: 1.1898576
A44: 臺中市 | B44: Taichung City | C44: 19878 | D44: 11553 | E44: 8325 | F44: 40762 | G44: 21403 | H44: 19359 | I44: 529 | J44: 392 | K44: 137 | L44: 543 | M44: 402 | N44: 141 | O44: 7641 | P44: 4928 | Q44: 2713 | R44: 11439 | S44: 6733 | T44: 4706 | U44: 11708 | V44: 6233 | W44: 5475 | X44: 28780 | Y44: 14268 | Z44: 14512 | AA44: 1.8534992 | AB44: 1.4290993
A45: 臺南市 | B45: Tainan City | C45: 8593 | D45: 5806 | E45: 2787 | F45: 14241 | G45: 8445 | H45: 5796 | I45: 156 | J45: 103 | K45: 53 | L45: 158 | M45: 104 | N45: 54 | O45: 2850 | P45: 2036 | Q45: 814 | R45: 3350 | S45: 2275 | T45: 1075 | U45: 5587 | V45: 3667 | W45: 1920 | X45: 10733 | Y45: 6066 | Z45: 4667 | AA45: 1.1732147 | AB45: 0.7657662
A46: 高雄市 | B46: Kaohsiung City | C46: 14430 | D46: 9028 | E46: 5402 | F46: 26527 | G46: 14507 | H46: 12020 | I46: 57 | J46: 38 | K46: 19 | L46: 58 | M46: 39 | N46: 19 | O46: 7089 | P46: 4727 | Q46: 2362 | R46: 9024 | S46: 5669 | T46: 3355 | U46: 7284 | V46: 4263 | W46: 3021 | X46: 17445 | Y46: 8799 | Z46: 8646 | AA46: 1.2468849 | AB46: 0.96995895
A47: 宜蘭縣 | B47: Yilan County | C47: 2896 | D47: 1812 | E47: 1084 | F47: 5124 | G47: 2859 | H47: 2265 | I47: 7 | J47: 6 | K47: 1 | L47: 7 | M47: 6 | N47: 1 | O47: 238 | P47: 166 | Q47: 72 | R47: 330 | S47: 217 | T47: 113 | U47: 2651 | V47: 1640 | W47: 1011 | X47: 4787 | Y47: 2636 | Z47: 2151 | AA47: 1.6102845 | AB47: 1.1401311
A48: 新竹縣 | B48: Hsinchu County | C48: 1904 | D48: 1240 | E48: 664 | F48: 3843 | G48: 2141 | H48: 1702 | I48: 2 | J48: 2 | K48: 0 | L48: 2 | M48: 2 | N48: 0 | O48: 224 | P48: 166 | Q48: 58 | R48: 319 | S48: 215 | T48: 104 | U48: 1678 | V48: 1072 | W48: 606 | X48: 3522 | Y48: 1924 | Z48: 1598 | AA48: 0.85080903 | AB48: 0.64936052
A49: 苗栗縣 | B49: Miaoli County | C49: 2811 | D49: 1849 | E49: 962 | F49: 5024 | G49: 2862 | H49: 2162 | I49: 1 | J49: 1 | K49: 0 | L49: 1 | M49: 1 | N49: 0 | O49: 1012 | P49: 736 | Q49: 276 | R49: 1374 | S49: 921 | T49: 453 | U49: 1798 | V49: 1112 | W49: 686 | X49: 3649 | Y49: 1940 | Z49: 1709 | AA49: 1.3983961 | AB49: 0.94158923
A50: 彰化縣 | B50: Changhua County | C50: 7820 | D50: 5039 | E50: 2781 | F50: 12490 | G50: 7257 | H50: 5233 | I50: 4 | J50: 3 | K50: 1 | L50: 4 | M50: 3 | N50: 1 | O50: 99 | P50: 67 | Q50: 32 | R50: 155 | S50: 99 | T50: 56 | U50: 7717 | V50: 4969 | W50: 2748 | X50: 12331 | Y50: 7155 | Z50: 5176 | AA50: 1.9156853 | AB50: 1.0136407
A51: 南投縣 | B51: Nantou County | C51: 2466 | D51: 1749 | E51: 717 | F51: 4001 | G51: 2441 | H51: 1560 | I51: 1 | J51: 1 | K51: 0 | L51: 1 | M51: 1 | N51: 0 | O51: 123 | P51: 87 | Q51: 36 | R51: 167 | S51: 109 | T51: 58 | U51: 2342 | V51: 1661 | W51: 681 | X51: 3833 | Y51: 2331 | Z51: 1502 | AA51: 1.3610774 | AB51: 0.84267592
... A62: 連江縣 | B62: Lienchiang County | C62: 48 | D62: 33 | E62: 15 | F62: 95 | G62: 50 | H62: 45 | I62: 12 | J62: 9 | K62: 3 | L62: 12 | M62: 9 | N62: 3 | O62: 17 | P62: 13 | Q62: 4 | R62: 31 | S62: 22 | T62: 9 | U62: 19 | V62: 11 | W62: 8 | X62: 52 | Y62: 19 | Z62: 33 | AA62: 1.2823938 | AB62: 0.68007731
A63: 資料來源：直轄市、縣﹝市﹞政府。
...

Sheet 2023
A2: 低收入戶戶數及人數 Number and Population of Low-Income Households
A3: 中華民國112年第1季底 , 2023Q1
A4: 地區別 Locality | C4: 總計 Grand Total | I4: 第1款(省、新北、臺中、臺南)、第0類(臺北)、第1類(高雄) Class 1 | O4: 第2款(省、新北、臺中、臺南)、第1、2類(臺北)、第2類(高雄) Class 2 | U4: 第3款(省、新北、臺中、臺南)、第3、4類(臺北、高雄) Class 3 | AA4: 低收入戶戶數占總戶數比率(%) Rate of Households (%) | AB4: 低收入戶人數占總人數比率(%) Rate of Persons (%)
C5: 戶數(戶長性別) Households | F5: 人數 Persons | I5: 戶數 Households | L5: 人數 Persons | O5: 戶數 Households | R5: 人數 Persons | U5: 戶數 Households | X5: 人數 Persons
C6: 計 | D6: 男 | E6: 女 | F6: 計 | G6: 男 | H6: 女 | I6: 計 | J6: 男 | K6: 女 | L6: 計 | M6: 男 | N6: 女 | O6: 計 | P6: 男 | Q6: 女 | R6: 計 | S6: 男 | T6: 女 | U6: 計 | V6: 男 | W6: 女 | X6: 計 | Y6: 男 | Z6: 女
C7: Sub-Total | D7: Male | E7: Female | F7: Sub-Total | G7: Male | H7: Female | I7: Sub-Total | J7: Male | K7: Female | L7: Sub-Total | M7: Male | N7: Female | O7: Sub-Total | P7: Male | Q7: Female | R7: Sub-Total | S7: Male | T7: Female | U7: Sub-Total | V7: Male | W7: Female | X7: Sub-Total | Y7: Male | Z7: Female
A8: 總 計 | B8: Total | C8: 142607 | D8: 88110 | E8: 54497 | F8: 276649 | G8: 150200 | H8: 126449 | I8: 2409 | J8: 1733 | K8: 676 | L8: 2479 | M8: 1776 | N8: 703 | O8: 34944 | P8: 23535 | Q8: 11409 | R8: 48421 | S8: 29904 | T8: 18517 | U8: 105254 | V8: 62842 | W8: 42412 | X8: 225749 | Y8: 118520 | Z8: 107229 | AA8: 1.5621464 | AB8: 1.1856591
A9: 新北市 | B9: New Taipei City | C9: 17242 | D9: 10538 | E9: 6704 | F9: 32550 | G9: 17504 | H9: 15046 | I9: 67 | J9: 57 | K9: 10 | L9: 75 | M9: 61 | N9: 14 | O9: 1250 | P9: 823 | Q9: 427 | R9: 1930 | S9: 1144 | T9: 786 | U9: 15925 | V9: 9658 | W9: 6267 | X9: 30545 | Y9: 16299 | Z9: 14246 | AA9: 1.0465211 | AB9: 0.8109807
A10: 臺北市 | B10: Taipei City | C10: 21124 | D10: 11690 | E10: 9434 | F10: 42021 | G10: 21466 | H10: 20555 | I10: 1432 | J10: 1021 | K10: 411 | L10: 1474 | M10: 1044 | N10: 430 | O10: 6451 | P10: 4053 | Q10: 2398 | R10: 8038 | S10: 4795 | T10: 3243 | U10: 13241 | V10: 6616 | W10: 6625 | X10: 32509 | Y10: 15627 | Z10: 16882 | AA10: 2.0008582 | AB10: 1.6843347
A11: 桃園市 | B11: Taoyuan City | C11: 12214 | D11: 7176 | E11: 5038 | F11: 28273 | G11: 14605 | H11: 13668 | I11: 63 | J11: 44 | K11: 19 | L11: 65 | M11: 45 | N11: 20 | O11: 1356 | P11: 908 | Q11: 448 | R11: 2315 | S11: 1390 | T11: 925 | U11: 10795 | V11: 6224 | W11: 4571 | X11: 25893 | Y11: 13170 | Z11: 12723 | AA11: 1.3801941 | AB11: 1.2327399
A12: 臺中市 | B12: Taichung City | C12: 19931 | D12: 11584 | E12: 8347 | F12: 42439 | G12: 22135 | H12: 20304 | I12: 403 | J12: 290 | K12: 113 | L12: 411 | M12: 297 | N12: 114 | O12: 7199 | P12: 4674 | Q12: 2525 | R12: 11101 | S12: 6518 | T12: 4583 | U12: 12329 | V12: 6620 | W12: 5709 | X12: 30927 | Y12: 15320 | Z12: 15607 | AA12: 1.9150686 | AB12: 1.5016117
A13: 臺南市 | B13: Tainan City | C13: 9052 | D13: 6097 | E13: 2955 | F13: 15751 | G13: 9149 | H13: 6602 | I13: 178 | J13: 122 | K13: 56 | L13: 180 | M13: 123 | N13: 57 | O13: 2990 | P13: 2131 | Q13: 859 | R13: 3641 | S13: 2442 | T13: 1199 | U13: 5884 | V13: 3844 | W13: 2040 | X13: 11930 | Y13: 6584 | Z13: 5346 | AA13: 1.2592072 | AB13: 0.84835957
A14: 高雄市 | B14: Kaohsiung City | C14: 14719 | D14: 9229 | E14: 5490 | F14: 28162 | G14: 15199 | H14: 12963 | I14: 56 | J14: 32 | K14: 24 | L14: 59 | M14: 35 | N14: 24 | O14: 6853 | P14: 4571 | Q14: 2282 | R14: 8951 | S14: 5562 | T14: 3389 | U14: 7810 | V14: 4626 | W14: 3184 | X14: 19152 | Y14: 9602 | Z14: 9550 | AA14: 1.290649 | AB14: 1.0300794
A15: 宜蘭縣 | B15: Yilan County | C15: 2786 | D15: 1765 | E15: 1021 | F15: 5039 | G15: 2824 | H15: 2215 | I15: 6 | J15: 5 | K15: 1 | L15: 6 | M15: 5 | N15: 1 | O15: 250 | P15: 178 | Q15: 72 | R15: 360 | S15: 236 | T15: 124 | U15: 2530 | V15: 1582 | W15: 948 | X15: 4673 | Y15: 2583 | Z15: 2090 | AA15: 1.5775407 | AB15: 1.1209984
A16: 新竹縣 | B16: Hsinchu County | C16: 1831 | D16: 1173 | E16: 658 | F16: 3846 | G16: 2080 | H16: 1766 | I16: 4 | J16: 4 | K16: 0 | L16: 4 | M16: 4 | N16: 0 | O16: 250 | P16: 188 | Q16: 62 | R16: 362 | S16: 241 | T16: 121 | U16: 1577 | V16: 981 | W16: 596 | X16: 3480 | Y16: 1835 | Z16: 1645 | AA16: 0.84384491 | AB16: 0.65805008
A17: 苗栗縣 | B17: Miaoli County | C17: 2958 | D17: 1948 | E17: 1010 | F17: 5430 | G17: 3080 | H17: 2350 | I17: 1 | J17: 1 | K17: 0 | L17: 1 | M17: 1 | N17: 0 | O17: 1093 | P17: 807 | Q17: 286 | R17: 1560 | S17: 1037 | T17: 523 | U17: 1864 | V17: 1140 | W17: 724 | X17: 3869 | Y17: 2042 | Z17: 1827 | AA17: 1.4977594 | AB17: 1.015124
A18: 彰化縣 | B18: Changhua County | C18: 7450 | D18: 4824 | E18: 2626 | F18: 12107 | G18: 6994 | H18: 5113 | I18: 3 | J18: 3 | K18: 0 | L18: 3 | M18: 3 | N18: 0 | O18: 82 | P18: 58 | Q18: 24 | R18: 125 | S18: 82 | T18: 43 | U18: 7365 | V18: 4763 | W18: 2602 | X18: 11979 | Y18: 6909 | Z18: 5070 | AA18: 1.8474892 | AB18: 0.97311574
A19: 南投縣 | B19: Nantou County | C19: 2469 | D19: 1750 | E19: 719 | F19: 4092 | G19: 2477 | H19: 1615 | I19: 3 | J19: 1 | K19: 2 | L19: 3 | M19: 1 | N19: 2 | O19: 110 | P19: 79 | Q19: 31 | R19: 174 | S19: 106 | T19: 68 | U19: 2356 | V19: 1670 | W19: 686 | X19: 3915 | Y19: 2370 | Z19: 1545 | AA19: 1.3718877 | AB19: 0.85384481
... A30: 連江縣 | B30: Lienchiang County | C30: 52 | D30: 37 | E30: 15 | F30: 90 | G30: 53 | H30: 37 | I30: 15 | J30: 11 | K30: 4 | L30: 15 | M30: 11 | N30: 4 | O30: 17 | P30: 13 | Q30: 4 | R30: 27 | S30: 17 | T30: 10 | U30: 20 | V30: 13 | W30: 7 | X30: 48 | Y30: 25 | Z30: 23 | AA30: 1.416122 | AB30: 0.64336264
A31: 資料來源：直轄市、縣﹝市﹞政府。
A32: Source : County and City Government.
A35: 中華民國112年第2季底 , 2023 Q2
A36: 地區別 Locality | C36: 總計 Grand Total | I36: 第1款(省、新北、臺中、臺南)、第0類(臺北)、第1類(高雄) Class 1 | O36: 第2款(省、新北、臺中、臺南)、第1、2類(臺北)、第2類(高雄) Class 2 | U36: 第3款(省、新北、臺中、臺南)、第3、4類(臺北、高雄) Class 3 | AA36: 低收入戶戶數占總戶數比率(%) Rate of Households (%) | AB36: 低收入戶人數占總人數比率(%) Rate of Persons (%)
C37: 戶數(戶長性別) Households | F37: 人數 Persons | I37: 戶數 Households | L37: 人數 Persons | O37: 戶數 Households | R37: 人數 Persons | U37: 戶數 Households | X37: 人數 Persons
C38: 計 | D38: 男 | E38: 女 | F38: 計 | G38: 男 | H38: 女 | I38: 計 | J38: 男 | K38: 女 | L38: 計 | M38: 男 | N38: 女 | O38: 計 | P38: 男 | Q38: 女 | R38: 計 | S38: 男 | T38: 女 | U38: 計 | V38: 男 | W38: 女 | X38: 計 | Y38: 男 | Z38: 女
C39: Sub-Total | D39: Male | E39: Female | F39: Sub-Total | G39: Male | H39: Female | I39: Sub-Total | J39: Male | K39: Female | L39: Sub-Total | M39: Male | N39: Female | O39: Sub-Total | P39: Male | Q39: Female | R39: Sub-Total | S39: Male | T39: Female | U39: Sub-Total | V39: Male | W39: Female | X39: Sub-Total | Y39: Male | Z39: Female
A40: 總 計 | B40: Total | C40: 144628 | D40: 89196 | E40: 55432 | F40: 279945 | G40: 151884 | H40: 128061 | I40: 2382 | J40: 1702 | K40: 680 | L40: 2453 | M40: 1745 | N40: 708 | O40: 35294 | P40: 23710 | Q40: 11584 | R40: 48769 | S40: 30089 | T40: 18680 | U40: 106952 | V40: 63784 | W40: 43168 | X40: 228723 | Y40: 120050 | Z40: 108673 | AA40: 1.5754092 | AB40: 1.1967337
A41: 新北市 | B41: New Taipei City | C41: 17592 | D41: 10727 | E41: 6865 | F41: 33088 | G41: 17766 | H41: 15322 | I41: 66 | J41: 56 | K41: 10 | L41: 74 | M41: 60 | N41: 14 | O41: 1303 | P41: 858 | Q41: 445 | R41: 1997 | S41: 1182 | T41: 815 | U41: 16223 | V41: 9813 | W41: 6410 | X41: 31017 | Y41: 16524 | Z41: 14493 | AA41: 1.0606823 | AB41: 0.82078638
A42: 臺北市 | B42: Taipei City | C42: 21351 | D42: 11772 | E42: 9579 | F42: 42397 | G42: 21626 | H42: 20771 | I42: 1416 | J42: 1001 | K42: 415 | L42: 1459 | M42: 1024 | N42: 435 | O42: 6521 | P42: 4082 | Q42: 2439 | R42: 8136 | S42: 4834 | T42: 3302 | U42: 13414 | V42: 6689 | W42: 6725 | X42: 32802 | Y42: 15768 | Z42: 17034 | AA42: 2.0133127 | AB42: 1.6910483
A43: 桃園市 | B43: Taoyuan City | C43: 12422 | D43: 7283 | E43: 5139 | F43: 28650 | G43: 14790 | H43: 13860 | I43: 64 | J43: 45 | K43: 19 | L43: 66 | M43: 46 | N43: 20 | O43: 1379 | P43: 929 | Q43: 450 | R43: 2328 | S43: 1413 | T43: 915 | U43: 10979 | V43: 6309 | W43: 4670 | X43: 26256 | Y43: 13331 | Z43: 12925 | AA43: 1.3903486 | AB43: 1.2421068
A44: 臺中市 | B44: Taichung City | C44: 20148 | D44: 11686 | E44: 8462 | F44: 42763 | G44: 22271 | H44: 20492 | I44: 403 | J44: 288 | K44: 115 | L44: 411 | M44: 295 | N44: 116 | O44: 7265 | P44: 4710 | Q44: 2555 | R44: 11160 | S44: 6558 | T44: 4602 | U44: 12480 | V44: 6688 | W44: 5792 | X44: 31192 | Y44: 15418 | Z44: 15774 | AA44: 1.9197347 | AB44: 1.5070369
A45: 臺南市 | B45: Tainan City | C45: 9077 | D45: 6115 | E45: 2962 | F45: 15734 | G45: 9156 | H45: 6578 | I45: 174 | J45: 118 | K45: 56 | L45: 176 | M45: 119 | N45: 57 | O45: 2969 | P45: 2114 | Q45: 855 | R45: 3605 | S45: 2416 | T45: 1189 | U45: 5934 | V45: 3883 | W45: 2051 | X45: 11953 | Y45: 6621 | Z45: 5332 | AA45: 1.2565791 | AB45: 0.84626477
A46: 高雄市 | B46: Kaohsiung City | C46: 14908 | D46: 9313 | E46: 5595 | F46: 28503 | G46: 15369 | H46: 13134 | I46: 54 | J46: 31 | K46: 23 | L46: 57 | M46: 34 | N46: 23 | O46: 6953 | P46: 4624 | Q46: 2329 | R46: 9077 | S46: 5631 | T46: 3446 | U46: 7901 | V46: 4658 | W46: 3243 | X46: 19369 | Y46: 9704 | Z46: 9665 | AA46: 1.3016347 | AB46: 1.0412823
A47: 宜蘭縣 | B47: Yilan County | C47: 2860 | D47: 1804 | E47: 1056 | F47: 5127 | G47: 2872 | H47: 2255 | I47: 6 | J47: 5 | K47: 1 | L47: 6 | M47: 5 | N47: 1 | O47: 248 | P47: 173 | Q47: 75 | R47: 349 | S47: 229 | T47: 120 | U47: 2606 | V47: 1626 | W47: 980 | X47: 4772 | Y47: 2638 | Z47: 2134 | AA47: 1.6117125 | AB47: 1.1393941
A48: 新竹縣 | B48: Hsinchu County | C48: 1863 | D48: 1194 | E48: 669 | F48: 3937 | G48: 2129 | H48: 1808 | I48: 3 | J48: 3 | K48: 0 | L48: 3 | M48: 3 | N48: 0 | O48: 245 | P48: 181 | Q48: 64 | R48: 356 | S48: 234 | T48: 122 | U48: 1615 | V48: 1010 | W48: 605 | X48: 3578 | Y48: 1892 | Z48: 1686 | AA48: 0.85159096 | AB48: 0.67062421
A49: 苗栗縣 | B49: Miaoli County | C49: 2978 | D49: 1958 | E49: 1020 | F49: 5467 | G49: 3103 | H49: 2364 | I49: 1 | J49: 1 | K49: 0 | L49: 1 | M49: 1 | N49: 0 | O49: 1091 | P49: 800 | Q49: 291 | R49: 1555 | S49: 1030 | T49: 525 | U49: 1886 | V49: 1157 | W49: 729 | X49: 3911 | Y49: 2072 | Z49: 1839 | AA49: 1.5015681 | AB49: 1.0219303
A50: 彰化縣 | B50: Changhua County | C50: 7610 | D50: 4930 | E50: 2680 | F50: 12374 | G50: 7162 | H50: 5212 | I50: 3 | J50: 3 | K50: 0 | L50: 3 | M50: 3 | N50: 0 | O50: 86 | P50: 62 | Q50: 24 | R50: 131 | S50: 87 | T50: 44 | U50: 7521 | V50: 4865 | W50: 2656 | X50: 12240 | Y50: 7072 | Z50: 5168 | AA50: 1.8806748 | AB50: 0.99588575
A51: 南投縣 | B51: Nantou County | C51: 2550 | D51: 1808 | E51: 742 | F51: 4234 | G51: 2569 | H51: 1665 | I51: 3 | J51: 1 | K51: 2 | L51: 3 | M51: 1 | N51: 2 | O51: 117 | P51: 85 | Q51: 32 | R51: 178 | S51: 111 | T51: 67 | U51: 2430 | V51: 1722 | W51: 708 | X51: 4053 | Y51: 2457 | Z51: 1596 | AA51: 1.4146233 | AB51: 0.88515556
... A62: 連江縣 | B62: Lienchiang County | C62: 50 | D62: 35 | E62: 15 | F62: 88 | G62: 51 | H62: 37 | I62: 14 | J62: 10 | K62: 4 | L62: 14 | M62: 10 | N62: 4 | O62: 16 | P62: 12 | Q62: 4 | R62: 26 | S62: 16 | T62: 10 | U62: 20 | V62: 13 | W62: 7 | X62: 48 | Y62: 25 | Z62: 23 | AA62: 1.35318 | AB62: 0.62834702
A63: 資料來源：直轄市、縣﹝市﹞政府。
...

Sheet 2022
A2: 低收入戶戶數及人數 Number and Population of Low-Income Households
A3: 中華民國111年第1季底 , 2022Q1
A4: 地區別 Locality | C4: 總計 Grand Total | I4: 第1款(省、新北、臺中、臺南)、第0類(臺北)、第1類(高雄) Class 1 | O4: 第2款(省、新北、臺中、臺南)、第1、2類(臺北)、第2類(高雄) Class 2 | U4: 第3款(省、新北、臺中、臺南)、第3、4類(臺北、高雄) Class 3 | AA4: 低收入戶戶數占總戶數比率(%) Rate of Households (%) | AB4: 低收入戶人數占總人數比率(%) Rate of Persons (%)
C5: 戶數(戶長性別) Households | F5: 人數 Persons | I5: 戶數 Households | L5: 人數 Persons | O5: 戶數 Households | R5: 人數 Persons | U5: 戶數 Households | X5: 人數 Persons
C6: 計 | D6: 男 | E6: 女 | F6: 計 | G6: 男 | H6: 女 | I6: 計 | J6: 男 | K6: 女 | L6: 計 | M6: 男 | N6: 女 | O6: 計 | P6: 男 | Q6: 女 | R6: 計 | S6: 男 | T6: 女 | U6: 計 | V6: 男 | W6: 女 | X6: 計 | Y6: 男 | Z6: 女
C7: Sub-Total | D7: Male | E7: Female | F7: Sub-Total | G7: Male | H7: Female | I7: Sub-Total | J7: Male | K7: Female | L7: Sub-Total | M7: Male | N7: Female | O7: Sub-Total | P7: Male | Q7: Female | R7: Sub-Total | S7: Male | T7: Female | U7: Sub-Total | V7: Male | W7: Female | X7: Sub-Total | Y7: Male | Z7: Female
A8: 總 計 | B8: Total | C8: 144114 | D8: 89121 | E8: 54993 | F8: 287590 | G8: 155624 | H8: 131966 | I8: 2570 | J8: 1859 | K8: 711 | L8: 2649 | M8: 1906 | N8: 743 | O8: 34926 | P8: 23569 | Q8: 11357 | R8: 49881 | S8: 30567 | T8: 19314 | U8: 106618 | V8: 63693 | W8: 42925 | X8: 235060 | Y8: 123151 | Z8: 111909 | AA8: 1.6005295 | AB8: 1.2359367
A9: 新北市 | B9: New Taipei City | C9: 17673 | D9: 10732 | E9: 6941 | F9: 34580 | G9: 18470 | H9: 16110 | I9: 73 | J9: 59 | K9: 14 | L9: 78 | M9: 62 | N9: 16 | O9: 1334 | P9: 890 | Q9: 444 | R9: 2108 | S9: 1250 | T9: 858 | U9: 16266 | V9: 9783 | W9: 6483 | X9: 32394 | Y9: 17158 | Z9: 15236 | AA9: 1.0902496 | AB9: 0.86669273
A10: 臺北市 | B10: Taipei City | C10: 21323 | D10: 11805 | E10: 9518 | F10: 43521 | G10: 22207 | H10: 21314 | I10: 1527 | J10: 1091 | K10: 436 | L10: 1580 | M10: 1120 | N10: 460 | O10: 6476 | P10: 4043 | Q10: 2433 | R10: 8499 | S10: 5007 | T10: 3492 | U10: 13320 | V10: 6671 | W10: 6649 | X10: 33442 | Y10: 16080 | Z10: 17362 | AA10: 2.0392179 | AB10: 1.747519
A11: 桃園市 | B11: Taoyuan City | C11: 11779 | D11: 6877 | E11: 4902 | F11: 27920 | G11: 14377 | H11: 13543 | I11: 63 | J11: 45 | K11: 18 | L11: 66 | M11: 46 | N11: 20 | O11: 1358 | P11: 890 | Q11: 468 | R11: 2527 | S11: 1468 | T11: 1059 | U11: 10358 | V11: 5942 | W11: 4416 | X11: 25327 | Y11: 12863 | Z11: 12464 | AA11: 1.3649975 | AB11: 1.2316309
A12: 臺中市 | B12: Taichung City | C12: 19962 | D12: 11634 | E12: 8328 | F12: 43621 | G12: 22767 | H12: 20854 | I12: 429 | J12: 312 | K12: 117 | L12: 438 | M12: 320 | N12: 118 | O12: 7019 | P12: 4623 | Q12: 2396 | R12: 11097 | S12: 6519 | T12: 4578 | U12: 12514 | V12: 6699 | W12: 5815 | X12: 32086 | Y12: 15928 | Z12: 16158 | AA12: 1.9576442 | AB12: 1.5543484
A13: 臺南市 | B13: Tainan City | C13: 9367 | D13: 6300 | E13: 3067 | F13: 17063 | G13: 9806 | H13: 7257 | I13: 203 | J13: 140 | K13: 63 | L13: 205 | M13: 141 | N13: 64 | O13: 3051 | P13: 2171 | Q13: 880 | R13: 3749 | S13: 2503 | T13: 1246 | U13: 6113 | V13: 3989 | W13: 2124 | X13: 13109 | Y13: 7162 | Z13: 5947 | AA13: 1.3189075 | AB13: 0.91961568
A14: 高雄市 | B14: Kaohsiung City | C14: 15024 | D14: 9430 | E14: 5594 | F14: 29560 | G14: 15854 | H14: 13706 | I14: 65 | J14: 41 | K14: 24 | L14: 69 | M14: 44 | N14: 25 | O14: 6823 | P14: 4551 | Q14: 2272 | R14: 9138 | S14: 5630 | T14: 3508 | U14: 8136 | V14: 4838 | W14: 3298 | X14: 20353 | Y14: 10180 | Z14: 10173 | AA14: 1.3313377 | AB14: 1.0820776
A15: 宜蘭縣 | B15: Yilan County | C15: 2733 | D15: 1743 | E15: 990 | F15: 5034 | G15: 2844 | H15: 2190 | I15: 9 | J15: 8 | K15: 1 | L15: 9 | M15: 8 | N15: 1 | O15: 268 | P15: 196 | Q15: 72 | R15: 385 | S15: 259 | T15: 126 | U15: 2456 | V15: 1539 | W15: 917 | X15: 4640 | Y15: 2577 | Z15: 2063 | AA15: 1.5675545 | AB15: 1.120073
A16: 新竹縣 | B16: Hsinchu County | C16: 1875 | D16: 1219 | E16: 656 | F16: 4133 | G16: 2227 | H16: 1906 | I16: 8 | J16: 8 | K16: 0 | L16: 8 | M16: 8 | N16: 0 | O16: 273 | P16: 200 | Q16: 73 | R16: 386 | S16: 255 | T16: 131 | U16: 1594 | V16: 1011 | W16: 583 | X16: 3739 | Y16: 1964 | Z16: 1775 | AA16: 0.88710364 | AB16: 0.71785127
A17: 苗栗縣 | B17: Miaoli County | C17: 3081 | D17: 2048 | E17: 1033 | F17: 5767 | G17: 3296 | H17: 2471 | I17: 1 | J17: 1 | K17: 0 | L17: 1 | M17: 1 | N17: 0 | O17: 1174 | P17: 870 | Q17: 304 | R17: 1733 | S17: 1136 | T17: 597 | U17: 1906 | V17: 1177 | W17: 729 | X17: 4033 | Y17: 2159 | Z17: 1874 | AA17: 1.5757898 | AB17: 1.0747598
A18: 彰化縣 | B18: Changhua County | C18: 7418 | D18: 4843 | E18: 2575 | F18: 12209 | G18: 7049 | H18: 5160 | I18: 5 | J18: 5 | K18: 0 | L18: 5 | M18: 5 | N18: 0 | O18: 88 | P18: 62 | Q18: 26 | R18: 134 | S18: 89 | T18: 45 | U18: 7325 | V18: 4776 | W18: 2549 | X18: 12070 | Y18: 6955 | Z18: 5115 | AA18: 1.8564168 | AB18: 0.9762272
A19: 南投縣 | B19: Nantou County | C19: 2532 | D19: 1792 | E19: 740 | F19: 4305 | G19: 2586 | H19: 1719 | I19: 3 | J19: 2 | K19: 1 | L19: 3 | M19: 2 | N19: 1 | O19: 131 | P19: 92 | Q19: 39 | R19: 241 | S19: 141 | T19: 100 | U19: 2398 | V19: 1698 | W19: 700 | X19: 4061 | Y19: 2443 | Z19: 1618 | AA19: 1.4097839 | AB19: 0.89159786
... A30: 連江縣 | B30: Lienchiang County | C30: 49 | D30: 34 | E30: 15 | F30: 85 | G30: 50 | H30: 35 | I30: 16 | J30: 11 | K30: 5 | L30: 17 | M30: 12 | N30: 5 | O30: 15 | P30: 12 | Q30: 3 | R30: 24 | S30: 15 | T30: 9 | U30: 18 | V30: 11 | W30: 7 | X30: 44 | Y30: 23 | Z30: 21 | AA30: 1.3702461 | AB30: 0.61994019
A31: 資料來源：直轄市、縣﹝市﹞政府。
A32: Source : County and City Government.
A35: 中華民國111年第2季底 , 2022 Q2
A36: 地區別 Locality | C36: 總計 Grand Total | I36: 第1款(省、新北、臺中、臺南)、第0類(臺北)、第1類(高雄) Class 1 | O36: 第2款(省、新北、臺中、臺南)、第1、2類(臺北)、第2類(高雄) Class 2 | U36: 第3款(省、新北、臺中、臺南)、第3、4類(臺北、高雄) Class 3 | AA36: 低收入戶戶數占總戶數比率(%) Rate of Households (%) | AB36: 低收入戶人數占總人數比率(%) Rate of Persons (%)
C37: 戶數(戶長性別) Households | F37: 人數 Persons | I37: 戶數 Households | L37: 人數 Persons | O37: 戶數 Households | R37: 人數 Persons | U37: 戶數 Households | X37: 人數 Persons
C38: 計 | D38: 男 | E38: 女 | F38: 計 | G38: 男 | H38: 女 | I38: 計 | J38: 男 | K38: 女 | L38: 計 | M38: 男 | N38: 女 | O38: 計 | P38: 男 | Q38: 女 | R38: 計 | S38: 男 | T38: 女 | U38: 計 | V38: 男 | W38: 女 | X38: 計 | Y38: 男 | Z38: 女
C39: Sub-Total | D39: Male | E39: Female | F39: Sub-Total | G39: Male | H39: Female | I39: Sub-Total | J39: Male | K39: Female | L39: Sub-Total | M39: Male | N39: Female | O39: Sub-Total | P39: Male | Q39: Female | R39: Sub-Total | S39: Male | T39: Female | U39: Sub-Total | V39: Male | W39: Female | X39: Sub-Total | Y39: Male | Z39: Female
A40: 總 計 | B40: Total | C40: 145366 | D40: 89661 | E40: 55705 | F40: 289616 | G40: 156507 | H40: 133109 | I40: 2533 | J40: 1825 | K40: 708 | L40: 2613 | M40: 1872 | N40: 741 | O40: 35063 | P40: 23605 | Q40: 11458 | R40: 49980 | S40: 30587 | T40: 19393 | U40: 107770 | V40: 64231 | W40: 43539 | X40: 237023 | Y40: 124048 | Z40: 112975 | AA40: 1.612544 | AB40: 1.2490836
A41: 新北市 | B41: New Taipei City | C41: 17719 | D41: 10709 | E41: 7010 | F41: 34542 | G41: 18368 | H41: 16174 | I41: 76 | J41: 63 | K41: 13 | L41: 84 | M41: 67 | N41: 17 | O41: 1331 | P41: 879 | Q41: 452 | R41: 2075 | S41: 1229 | T41: 846 | U41: 16312 | V41: 9767 | W41: 6545 | X41: 32383 | Y41: 17072 | Z41: 15311 | AA41: 1.0917598 | AB41: 0.86957813
A42: 臺北市 | B42: Taipei City | C42: 21522 | D42: 11892 | E42: 9630 | F42: 43788 | G42: 22325 | H42: 21463 | I42: 1506 | J42: 1071 | K42: 435 | L42: 1559 | M42: 1099 | N42: 460 | O42: 6537 | P42: 4080 | Q42: 2457 | R42: 8562 | S42: 5050 | T42: 3512 | U42: 13479 | V42: 6741 | W42: 6738 | X42: 33667 | Y42: 16176 | Z42: 17491 | AA42: 2.0661351 | AB42: 1.7767845
A43: 桃園市 | B43: Taoyuan City | C43: 11983 | D43: 7006 | E43: 4977 | F43: 28279 | G43: 14575 | H43: 13704 | I43: 67 | J43: 46 | K43: 21 | L43: 69 | M43: 47 | N43: 22 | O43: 1381 | P43: 905 | Q43: 476 | R43: 2551 | S43: 1484 | T43: 1067 | U43: 10535 | V43: 6055 | W43: 4480 | X43: 25659 | Y43: 13044 | Z43: 12615 | AA43: 1.3828735 | AB43: 1.2490272
A44: 臺中市 | B44: Taichung City | C44: 20093 | D44: 11669 | E44: 8424 | F44: 43870 | G44: 22872 | H44: 20998 | I44: 423 | J44: 308 | K44: 115 | L44: 431 | M44: 316 | N44: 115 | O44: 7045 | P44: 4614 | Q44: 2431 | R44: 11110 | S44: 6515 | T44: 4595 | U44: 12625 | V44: 6747 | W44: 5878 | X44: 32329 | Y44: 16041 | Z44: 16288 | AA44: 1.9653758 | AB44: 1.5671557
A45: 臺南市 | B45: Tainan City | C45: 9376 | D45: 6292 | E45: 3084 | F45: 17027 | G45: 9779 | H45: 7248 | I45: 197 | J45: 137 | K45: 60 | L45: 199 | M45: 138 | N45: 61 | O45: 3031 | P45: 2160 | Q45: 871 | R45: 3708 | S45: 2485 | T45: 1223 | U45: 6148 | V45: 3995 | W45: 2153 | X45: 13120 | Y45: 7156 | Z45: 5964 | AA45: 1.3176997 | AB45: 0.91994824
A46: 高雄市 | B46: Kaohsiung City | C46: 15166 | D46: 9499 | E46: 5667 | F46: 29850 | G46: 15979 | H46: 13871 | I46: 62 | J46: 37 | K46: 25 | L46: 66 | M46: 40 | N46: 26 | O46: 6885 | P46: 4594 | Q46: 2291 | R46: 9215 | S46: 5671 | T46: 3544 | U46: 8219 | V46: 4868 | W46: 3351 | X46: 20569 | Y46: 10268 | Z46: 10301 | AA46: 1.3424399 | AB46: 1.0961462
A47: 宜蘭縣 | B47: Yilan County | C47: 2789 | D47: 1769 | E47: 1020 | F47: 5141 | G47: 2896 | H47: 2245 | I47: 9 | J47: 8 | K47: 1 | L47: 9 | M47: 8 | N47: 1 | O47: 268 | P47: 195 | Q47: 73 | R47: 385 | S47: 258 | T47: 127 | U47: 2512 | V47: 1566 | W47: 946 | X47: 4747 | Y47: 2630 | Z47: 2117 | AA47: 1.5962135 | AB47: 1.1453562
A48: 新竹縣 | B48: Hsinchu County | C48: 1910 | D48: 1235 | E48: 675 | F48: 4198 | G48: 2254 | H48: 1944 | I48: 8 | J48: 8 | K48: 0 | L48: 8 | M48: 8 | N48: 0 | O48: 276 | P48: 201 | Q48: 75 | R48: 399 | S48: 259 | T48: 140 | U48: 1626 | V48: 1026 | W48: 600 | X48: 3791 | Y48: 1987 | Z48: 1804 | AA48: 0.89937373 | AB48: 0.72834779
A49: 苗栗縣 | B49: Miaoli County | C49: 3096 | D49: 2064 | E49: 1032 | F49: 5829 | G49: 3332 | H49: 2497 | I49: 1 | J49: 1 | K49: 0 | L49: 1 | M49: 1 | N49: 0 | O49: 1168 | P49: 867 | Q49: 301 | R49: 1727 | S49: 1133 | T49: 594 | U49: 1927 | V49: 1196 | W49: 731 | X49: 4101 | Y49: 2198 | Z49: 1903 | AA49: 1.5800191 | AB49: 1.0890035
A50: 彰化縣 | B50: Changhua County | C50: 7465 | D50: 4864 | E50: 2601 | F50: 12338 | G50: 7112 | H50: 5226 | I50: 3 | J50: 3 | K50: 0 | L50: 3 | M50: 3 | N50: 0 | O50: 87 | P50: 62 | Q50: 25 | R50: 130 | S50: 87 | T50: 43 | U50: 7375 | V50: 4799 | W50: 2576 | X50: 12205 | Y50: 7022 | Z50: 5183 | AA50: 1.8639108 | AB50: 0.98891498
A51: 南投縣 | B51: Nantou County | C51: 2570 | D51: 1817 | E51: 753 | F51: 4351 | G51: 2614 | H51: 1737 | I51: 3 | J51: 2 | K51: 1 | L51: 3 | M51: 2 | N51: 1 | O51: 131 | P51: 91 | Q51: 40 | R51: 237 | S51: 140 | T51: 97 | U51: 2436 | V51: 1724 | W51: 712 | X51: 4111 | Y51: 2472 | Z51: 1639 | AA51: 1.4309497 | AB51: 0.90426173
... A62: 連江縣 | B62: Lienchiang County | C62: 49 | D62: 34 | E62: 15 | F62: 86 | G62: 51 | H62: 35 | I62: 16 | J62: 11 | K62: 5 | L62: 17 | M62: 12 | N62: 5 | O62: 15 | P62: 12 | Q62: 3 | R62: 25 | S62: 16 | T62: 9 | U62: 18 | V62: 11 | W62: 7 | X62: 44 | Y62: 23 | Z62: 21 | AA62: 1.3633834 | AB62: 0.62215149
A63: 資料來源：直轄市、縣﹝市﹞政府。
...

Sheet 2021
A2: 低收入戶戶數及人數 Number and Population of Low-Income Households
A3: 中華民國110年第1季底 , 2021Q1
A4: 地區別 Locality | C4: 總計 Grand Total | I4: 第1款(省、新北、臺中、臺南)、第0類(臺北)、第1類(高雄) Class 1 | O4: 第2款(省、新北、臺中、臺南)、第1、2類(臺北)、第2類(高雄) Class 2 | U4: 第3款(省、新北、臺中、臺南)、第3、4類(臺北、高雄) Class 3 | AA4: 低收入戶戶數占總戶數比率(%) Rate of Households (%) | AB4: 低收入戶人數占總人數比率(%) Rate of Persons (%)
C5: 戶數(戶長性別) Households | F5: 人數 Persons | I5: 戶數 Households | L5: 人數 Persons | O5: 戶數 Households | R5: 人數 Persons | U5: 戶數 Households | X5: 人數 Persons
C6: 計 | D6: 男 | E6: 女 | F6: 計 | G6: 男 | H6: 女 | I6: 計 | J6: 男 | K6: 女 | L6: 計 | M6: 男 | N6: 女 | O6: 計 | P6: 男 | Q6: 女 | R6: 計 | S6: 男 | T6: 女 | U6: 計 | V6: 男 | W6: 女 | X6: 計 | Y6: 男 | Z6: 女
C7: Sub-Total | D7: Male | E7: Female | F7: Sub-Total | G7: Male | H7: Female | I7: Sub-Total | J7: Male | K7: Female | L7: Sub-Total | M7: Male | N7: Female | O7: Sub-Total | P7: Male | Q7: Female | R7: Sub-Total | S7: Male | T7: Female | U7: Sub-Total | V7: Male | W7: Female | X7: Sub-Total | Y7: Male | Z7: Female
A8: 總 計 | B8: Total | C8: 142509 | D8: 88446 | E8: 54063 | F8: 288808 | G8: 155894 | H8: 132914 | I8: 2727 | J8: 2008 | K8: 719 | L8: 2805 | M8: 2053 | N8: 752 | O8: 34318 | P8: 23257 | Q8: 11061 | R8: 49702 | S8: 30447 | T8: 19255 | U8: 105464 | V8: 63181 | W8: 42283 | X8: 236301 | Y8: 123394 | Z8: 112907 | AA8: 1.59 | AB8: 1.23
A9: 新北市 | B9: New Taipei City | C9: 17529 | D9: 10718 | E9: 6811 | F9: 34768 | G9: 18553 | H9: 16215 | I9: 65 | J9: 54 | K9: 11 | L9: 70 | M9: 56 | N9: 14 | O9: 1275 | P9: 860 | Q9: 415 | R9: 1979 | S9: 1184 | T9: 795 | U9: 16189 | V9: 9804 | W9: 6385 | X9: 32719 | Y9: 17313 | Z9: 15406 | AA9: 1.09 | AB9: 0.86
A10: 臺北市 | B10: Taipei City | C10: 20980 | D10: 11737 | E10: 9243 | F10: 43481 | G10: 22213 | H10: 21268 | I10: 1646 | J10: 1196 | K10: 450 | L10: 1697 | M10: 1226 | N10: 471 | O10: 6201 | P10: 3882 | Q10: 2319 | R10: 8318 | S10: 4901 | T10: 3417 | U10: 13133 | V10: 6659 | W10: 6474 | X10: 33466 | Y10: 16086 | Z10: 17380 | AA10: 1.98 | AB10: 1.68
A11: 桃園市 | B11: Taoyuan City | C11: 11180 | D11: 6529 | E11: 4651 | F11: 27083 | G11: 13869 | H11: 13214 | I11: 46 | J11: 36 | K11: 10 | L11: 48 | M11: 36 | N11: 12 | O11: 1184 | P11: 759 | Q11: 425 | R11: 2214 | S11: 1263 | T11: 951 | U11: 9950 | V11: 5734 | W11: 4216 | X11: 24821 | Y11: 12570 | Z11: 12251 | AA11: 1.31 | AB11: 1.19
A12: 臺中市 | B12: Taichung City | C12: 19391 | D12: 11283 | E12: 8108 | F12: 42900 | G12: 22290 | H12: 20610 | I12: 423 | J12: 314 | K12: 109 | L12: 431 | M12: 321 | N12: 110 | O12: 6667 | P12: 4426 | Q12: 2241 | R12: 10794 | S12: 6375 | T12: 4419 | U12: 12301 | V12: 6543 | W12: 5758 | X12: 31675 | Y12: 15594 | Z12: 16081 | AA12: 1.93 | AB12: 1.52
A13: 臺南市 | B13: Tainan City | C13: 9637 | D13: 6464 | E13: 3173 | F13: 17917 | G13: 10210 | H13: 7707 | I13: 249 | J13: 174 | K13: 75 | L13: 254 | M13: 176 | N13: 78 | O13: 3109 | P13: 2218 | Q13: 891 | R13: 3852 | S13: 2569 | T13: 1283 | U13: 6279 | V13: 4072 | W13: 2207 | X13: 13811 | Y13: 7465 | Z13: 6346 | AA13: 1.37 | AB13: 0.96
A14: 高雄市 | B14: Kaohsiung City | C14: 15432 | D14: 9683 | E14: 5749 | F14: 31147 | G14: 16548 | H14: 14599 | I14: 63 | J14: 43 | K14: 20 | L14: 66 | M14: 45 | N14: 21 | O14: 6914 | P14: 4597 | Q14: 2317 | R14: 9424 | S14: 5756 | T14: 3668 | U14: 8455 | V14: 5043 | W14: 3412 | X14: 21657 | Y14: 10747 | Z14: 10910 | AA14: 1.38 | AB14: 1.13
A15: 宜蘭縣 | B15: Yilan County | C15: 2543 | D15: 1647 | E15: 896 | F15: 4669 | G15: 2668 | H15: 2001 | I15: 11 | J15: 9 | K15: 2 | L15: 11 | M15: 9 | N15: 2 | O15: 282 | P15: 208 | Q15: 74 | R15: 426 | S15: 285 | T15: 141 | U15: 2250 | V15: 1430 | W15: 820 | X15: 4232 | Y15: 2374 | Z15: 1858 | AA15: 1.47 | AB15: 1.03
A16: 新竹縣 | B16: Hsinchu County | C16: 1906 | D16: 1246 | E16: 660 | F16: 4213 | G16: 2292 | H16: 1921 | I16: 9 | J16: 8 | K16: 1 | L16: 9 | M16: 8 | N16: 1 | O16: 296 | P16: 222 | Q16: 74 | R16: 437 | S16: 282 | T16: 155 | U16: 1601 | V16: 1016 | W16: 585 | X16: 3767 | Y16: 2002 | Z16: 1765 | AA16: 0.92 | AB16: 0.74
A17: 苗栗縣 | B17: Miaoli County | C17: 3085 | D17: 1993 | E17: 1092 | F17: 5854 | G17: 3270 | H17: 2584 | I17: 1 | J17: 1 | K17: 0 | L17: 1 | M17: 1 | N17: 0 | O17: 1240 | P17: 913 | Q17: 327 | R17: 1849 | S17: 1190 | T17: 659 | U17: 1844 | V17: 1079 | W17: 765 | X17: 4004 | Y17: 2079 | Z17: 1925 | AA17: 1.59 | AB17: 1.08
