Workbook
Name pp: #REF!
Name pp: #REF!
Name pp: #REF!
Name pp: #REF!
Name pp: #REF!
Name pp: #REF!
Name pp: #REF!
Name 民國100年第2季: #REF!
Name 民國100年第2季: #REF!

Sheet 歷年Yearly
A1: 低收入戶戶數及人數 Number and Population of Low-Income Households
A2: 年(季)底 | B2: 戶數(戶) Households | H2: 人數(人) Persons | N2: 低收入戶戶數占總戶數比率(%) | O2: 低收入戶人數占總人數比率(%)
B3: 合計(按戶長性別分) Total | E3: 第1款(省、新北、桃園、臺中、臺南)、第0類(臺北)、第1類(高雄) | F3: 第2款(省、新北、桃園、臺中、臺南)、第1、2類(臺北)、第2類(高雄) | G3: 第3款(省、新北、桃園、臺中、臺南)、第3、4類(臺北、高雄) | H3: 合計 Total | K3: 第1款(省、新北、桃園、臺中、臺南)、第0類(臺北)、第1類(高雄) | L3: 第2款(省、新北、桃園、臺中、臺南)、第1、2類(臺北)、第2類(高雄) | M3: 第3款(省、新北、桃園、臺中、臺南)、第3、4類(臺北、高雄) | Q3: 戶數 | R3: 人數 | S3: 戶數 | T3: 人數
B4: 計 | C4: 男 | D4: 女 | H4: 計 | I4: 男 | J4: 女
A5: End of Year (Quarter) | B5: Sub-Total | C5: Male | D5: Female | E5: Class 1 | F5: Class 2 | G5: Class 3 | H5: Sub-Total | I5: Male | J5: Female | K5: Class 1 | L5: Class 2 | M5: Class 3 | N5: Rate of Households (%) | O5: Rate of Persons (%)
A6: 104年 2015 | B6: 146379 | C6: 89167 | D6: 57212 | E6: 3902 | F6: 32662 | G6: 109815 | H6: 342490 | I6: 178253 | J6: 164237 | K6: 4032 | L6: 57917 | M6: 280541 | N6: 1.73 | O6: 1.46
A7: 105年 2016 | B7: 145176 | C7: 88869 | D7: 56307 | E7: 3533 | F7: 33216 | G7: 108427 | H7: 331776 | I7: 173763 | J7: 158013 | K7: 3653 | L7: 56516 | M7: 271607 | N7: 1.7 | O7: 1.41
A8: 106年 2017 | B8: 142814 | C8: 87828 | D8: 54986 | E8: 3328 | F8: 32748 | G8: 106738 | H8: 317257 | I8: 167287 | J8: 149970 | K8: 3448 | L8: 53142 | M8: 260667 | N8: 1.65 | O8: 1.35
A9: 107年 2018 | B9: 143941 | C9: 88747 | D9: 55194 | E9: 3073 | F9: 33394 | G9: 107474 | H9: 311526 | I9: 165319 | J9: 146207 | K9: 3194 | L9: 52141 | M9: 256191 | N9: 1.65 | O9: 1.32
A10: 108年 2019 | B10: 144863 | C10: 89549 | D10: 55314 | E10: 2926 | F10: 34050 | G10: 107887 | H10: 304470 | I10: 162658 | J10: 141812 | K10: 3028 | L10: 51337 | M10: 250105 | N10: 1.64 | O10: 1.29
A11: 109年 2020 | B11: 146342 | C11: 90618 | D11: 55724 | E11: 2733 | F11: 34563 | G11: 109046 | H11: 300241 | I11: 161390 | J11: 138851 | K11: 2813 | L11: 50711 | M11: 246717 | N11: 1.64 | O11: 1.27
A12: 110年 2021 | B12: 146995 | C12: 90786 | D12: 56209 | E12: 2646 | F12: 34843 | G12: 109506 | H12: 295901 | I12: 159633 | J12: 136268 | K12: 2725 | L12: 50284 | M12: 242892 | N12: 1.6320845 | O12: 1.2658696
A13: 111年 2022 | B13: 146029 | C13: 89837 | D13: 56192 | E13: 2452 | F13: 35047 | G13: 108530 | H13: 288703 | I13: 155932 | J13: 132771 | K13: 2533 | L13: 49686 | M13: 236484 | N13: 1.6065769 | O13: 1.2409519 | Q13: 9089450 | R13: 23264640 | S13: =B13/Q13*100 -> 1.6065769 | T13: =H13/R13*100 -> 1.2409519
A14: 112年 2023 | B14: 144668 | C14: 89017 | D14: 55651 | E14: 2314 | F14: 35375 | G14: 106979 | H14: 277364 | I14: 150565 | J14: 126799 | K14: 2386 | L14: 48368 | M14: 226610 | N14: 1.5655316 | O14: 1.1842817 | Q14: 9240823 | R14: 23420442 | S14: =B14/Q14*100 -> 1.5655316 | T14: =H14/R14*100 -> 1.1842817
A15: 113年 2024 | B15: 141947 | C15: 87255 | D15: 54692 | E15: 2354 | F15: 36313 | G15: 103280 | H15: 263294 | I15: 143816 | J15: 119478 | K15: 2416 | L15: 48617 | M15: 212261 | N15: 1.4961507 | O15: 1.1251775
A16: 第一季 Q1 | B16: 139333 | C16: 86084 | D16: 53249 | E16: 2440 | F16: 35889 | G16: 101004 | H16: 261216 | I16: 142803 | J16: 118413 | K16: 2511 | L16: 48434 | M16: 210271 | N16: 1.5032168 | O16: 1.1155271
A17: 第二季 Q2 | B17: 141137 | C17: 86979 | D17: 54158 | E17: 2418 | F17: 36250 | G17: 102469 | H17: 263884 | I17: 144151 | J17: 119733 | K17: 2481 | L17: 48833 | M17: 212570 | N17: 1.5159945 | O17: 1.1270881 | Q17: 9268989 | R17: 23416375 | S17: =#REF!/Q17*100 -> #REF! | T17: =#REF!/R17*100 -> #REF!
A18: 第三季 Q3 | B18: 141019 | C18: 86910 | D18: 54109 | E18: 2396 | F18: 36361 | G18: 102262 | H18: 261900 | I18: 143209 | J18: 118691 | K18: 2461 | L18: 48679 | M18: 210760 | N18: 1.5035581 | O18: 1.1190329
A19: 第四季 Q4 | B19: 141947 | C19: 87255 | D19: 54692 | E19: 2354 | F19: 36313 | G19: 103280 | H19: 263294 | I19: 143816 | J19: 119478 | K19: 2416 | L19: 48617 | M19: 212261 | N19: 1.4961507 | O19: 1.1251775
A20: 114年 2025 | B20: 143514 | C20: 88254 | D20: 55260 | E20: 2334 | F20: 37847 | G20: 103333 | H20: 260014 | I20: 142790 | J20: 117224 | K20: 2395 | L20: 50199 | M20: 207420 | N20: 1.4628597 | O20: 1.12
A21: 第一季 Q1 | B21: 139908 | C21: 86291 | D21: 53617 | E21: 2423 | F21: 37360 | G21: 100125 | H21: 256132 | I21: 140641 | J21: 115491 | K21: 2485 | L21: 49998 | M21: 203649 | N21: 1.440157 | O21: 1.095764
A22: 第二季 Q2 | B22: 141854 | C22: 87329 | D22: 54525 | E22: 2389 | F22: 37678 | G22: 101787 | H22: 259066 | I22: 142221 | J22: 116845 | K22: 2453 | L22: 50329 | M22: 206284 | N22: 1.4459391 | O22: 1.1096452
A23: 第三季 Q3 | B23: 142565 | C23: 87780 | D23: 54785 | E23: 2358 | F23: 37778 | G23: 102429 | H23: 258679 | I23: 142248 | J23: 116431 | K23: 2422 | L23: 50213 | M23: 206044 | N23: 1.4531864 | O23: 1.1079876
A24: 第四季 Q4 | B24: 143514 | C24: 88254 | D24: 55260 | E24: 2334 | F24: 37847 | G24: 103333 | H24: 260014 | I24: 142790 | J24: 117224 | K24: 2395 | L24: 50199 | M24: 207420 | N24: 1.4628597 | O24: 1.1137058
A26: 資料來源：直轄市、縣﹝市﹞政府。
A27: Source : County and City Government.
A28: 說明：1. 高雄市自民國100年起新增第4類。
A29: 2. 民國100年7月1日起實施新制社會救助法，除最低生活費調高外，應計算人口範圍亦將兄弟姊妹排除列計。
A30: Explanation : 1.As of the beginning of 2011, Category 4 is added to Kaohsiung City.
A31: 2.The new “Public Assistance Act” shall take effect on the 1st of July 2011. In addition to the upward revision of minimum monthly income, brothers and sisters are excluded from the scope of number of members living in the household.
A33: 更新日期：2026/04/20

Sheet 2025
A2: 低收入戶戶數及人數 Number and Population of Low-Income Households
A3: 中華民國114年第1季底 , 2025Q1
A4: 地區別 Locality | C4: 總計 Grand Total | I4: 第1款(省、新北、臺中、臺南)、第0類(臺北)、第1類(高雄) Class 1 | O4: 第2款(省、新北、臺中、臺南)、第1、2類(臺北)、第2類(高雄) Class 2 | U4: 第3款(省、新北、臺中、臺南)、第3、4類(臺北、高雄) Class 3 | AA4: 低收入戶戶數占總戶數比率(%) Rate of Households (%) | AB4: 低收入戶人數占總人數比率(%) Rate of Persons (%)
C5: 戶數(戶長性別) Households | F5: 人數 Persons | I5: 戶數 Households | L5: 人數 Persons | O5: 戶數 Households | R5: 人數 Persons | U5: 戶數 Households | X5: 人數 Persons
C6: 計 | D6: 男 | E6: 女 | F6: 計 | G6: 男 | H6: 女 | I6: 計 | J6: 男 | K6: 女 | L6: 計 | M6: 男 | N6: 女 | O6: 計 | P6: 男 | Q6: 女 | R6: 計 | S6: 男 | T6: 女 | U6: 計 | V6: 男 | W6: 女 | X6: 計 | Y6: 男 | Z6: 女 | AD6: 戶數 | AE6: 人數 | AF6: 戶數 | AH6: 人數
C7: Sub-Total | D7: Male | E7: Female | F7: Sub-Total | G7: Male | H7: Female | I7: Sub-Total | J7: Male | K7: Female | L7: Sub-Total | M7: Male | N7: Female | O7: Sub-Total | P7: Male | Q7: Female | R7: Sub-Total | S7: Male | T7: Female | U7: Sub-Total | V7: Male | W7: Female | X7: Sub-Total | Y7: Male | Z7: Female
A8: 總 計 | B8: Total | C8: 139908 | D8: 86291 | E8: 53617 | F8: 256132 | G8: 140641 | H8: 115491 | I8: 2423 | J8: 1725 | K8: 698 | L8: 2485 | M8: 1760 | N8: 725 | O8: 37360 | P8: 24968 | Q8: 12392 | R8: 49998 | S8: 31025 | T8: 18973 | U8: 100125 | V8: 59598 | W8: 40527 | X8: 203649 | Y8: 107856 | Z8: 95793 | AA8: 1.440157 | AB8: 1.095764 | AD8: 9268989 | AE8: 23416375 | AF8: =C8/AD8*100 -> 1.5094203 | AG8: =AA8-AF8 -> -0.06926326 | AH8: =F8/AE8*100 -> 1.0938158 | AI8: =AB8-AH8 -> 0.0019482068
A9: 新北市 | B9: New Taipei City | C9: 16116 | D9: 9848 | E9: 6268 | F9: 28066 | G9: 15345 | H9: 12721 | I9: 77 | J9: 59 | K9: 18 | L9: 84 | M9: 62 | N9: 22 | O9: 1637 | P9: 1057 | Q9: 580 | R9: 2316 | S9: 1392 | T9: 924 | U9: 14402 | V9: 8732 | W9: 5670 | X9: 25666 | Y9: 13891 | Z9: 11775 | AA9: 0.91616437 | AB9: 0.69313689 | AD9: 1677412 | AE9: 4042587 | AF9: =C9/AD9*100 -> 0.96076575 | AG9: =AA9-AF9 -> -0.044601385 | AH9: =F9/AE9*100 -> 0.6942584 | AI9: =AB9-AH9 -> -0.0011215116
A10: 臺北市 | B10: Taipei City | C10: 20135 | D10: 11004 | E10: 9131 | F10: 37934 | G10: 19289 | H10: 18645 | I10: 1222 | J10: 851 | K10: 371 | L10: 1253 | M10: 865 | N10: 388 | O10: 6767 | P10: 4184 | Q10: 2583 | R10: 8217 | S10: 4887 | T10: 3330 | U10: 12146 | V10: 5969 | W10: 6177 | X10: 28464 | Y10: 13537 | Z10: 14927 | AA10: 1.8656509 | AB10: 1.5369786 | AD10: 1065525 | AE10: 2509740 | AF10: =C10/AD10*100 -> 1.8896788 | AG10: =AA10-AF10 -> -0.024027899 | AH10: =F10/AE10*100 -> 1.5114713 | AI10: =AB10-AH10 -> 0.025507302
A11: 桃園市 | B11: Taoyuan City | C11: 12142 | D11: 7155 | E11: 4987 | F11: 26516 | G11: 13813 | H11: 12703 | I11: 106 | J11: 84 | K11: 22 | L11: 107 | M11: 85 | N11: 22 | O11: 1498 | P11: 1020 | Q11: 478 | R11: 2241 | S11: 1397 | T11: 844 | U11: 10538 | V11: 6051 | W11: 4487 | X11: 24168 | Y11: 12331 | Z11: 11837 | AA11: 1.2539049 | AB11: 1.1304141 | AD11: 908530 | AE11: 2321618 | AF11: =C11/AD11*100 -> 1.3364446 | AG11: =AA11-AF11 -> -0.082539688 | AH11: =F11/AE11*100 -> 1.1421345 | AI11: =AB11-AH11 -> -0.01172036
A12: 臺中市 | B12: Taichung City | C12: 19504 | D12: 11406 | E12: 8098 | F12: 39079 | G12: 20708 | H12: 18371 | I12: 535 | J12: 388 | K12: 147 | L12: 547 | M12: 397 | N12: 150 | O12: 8024 | P12: 5171 | Q12: 2853 | R12: 11810 | S12: 7001 | T12: 4809 | U12: 10945 | V12: 5847 | W12: 5098 | X12: 26722 | Y12: 13310 | Z12: 13412 | AA12: 1.7060359 | AB12: 1.3635632 | AD12: 1065799 | AE12: 2849578 | AF12: =C12/AD12*100 -> 1.8299886 | AG12: =AA12-AF12 -> -0.12395264 | AH12: =F12/AE12*100 -> 1.371396 | AI12: =AB12-AH12 -> -0.0078327973
A13: 臺南市 | B13: Tainan City | C13: 8441 | D13: 5682 | E13: 2759 | F13: 13713 | G13: 8181 | H13: 5532 | I13: 142 | J13: 94 | K13: 48 | L13: 145 | M13: 95 | N13: 50 | O13: 2652 | P13: 1883 | Q13: 769 | R13: 3130 | S13: 2113 | T13: 1017 | U13: 5647 | V13: 3705 | W13: 1942 | X13: 10438 | Y13: 5973 | Z13: 4465 | AA13: 1.103416 | AB13: 0.73782929 | AD13: 729268 | AE13: 1860072 | AF13: =C13/AD13*100 -> 1.157462 | AG13: =AA13-AF13 -> -0.054046002 | AH13: =F13/AE13*100 -> 0.73722953 | AI13: =AB13-AH13 -> 0.00059976059
A14: 高雄市 | B14: Kaohsiung City | C14: 14341 | D14: 9011 | E14: 5330 | F14: 25764 | G14: 14202 | H14: 11562 | I14: 58 | J14: 39 | K14: 19 | L14: 59 | M14: 40 | N14: 19 | O14: 7142 | P14: 4797 | Q14: 2345 | R14: 9017 | S14: 5703 | T14: 3314 | U14: 7141 | V14: 4175 | W14: 2966 | X14: 16688 | Y14: 8459 | Z14: 8229 | AA14: 1.19933 | AB14: 0.9441236 | AD14: 1153064 | AE14: 2736577 | AF14: =C14/AD14*100 -> 1.2437297 | AG14: =AA14-AF14 -> -0.044399789 | AH14: =F14/AE14*100 -> 0.94146812 | AI14: =AB14-AH14 -> 0.0026554777
A15: 宜蘭縣 | B15: Yilan County | C15: 2904 | D15: 1799 | E15: 1105 | F15: 5117 | G15: 2843 | H15: 2274 | I15: 5 | J15: 4 | K15: 1 | L15: 5 | M15: 4 | N15: 1 | O15: 242 | P15: 166 | Q15: 76 | R15: 336 | S15: 216 | T15: 120 | U15: 2657 | V15: 1629 | W15: 1028 | X15: 4776 | Y15: 2623 | Z15: 2153 | AA15: 1.5266453 | AB15: 1.1365984 | AD15: 179065 | AE15: 449492 | AF15: =C15/AD15*100 -> 1.6217575 | AG15: =AA15-AF15 -> -0.095112139 | AH15: =F15/AE15*100 -> 1.1383962 | AI15: =AB15-AH15 -> -0.001797855
A16: 新竹縣 | B16: Hsinchu County | C16: 1864 | D16: 1215 | E16: 649 | F16: 3679 | G16: 2048 | H16: 1631 | I16: 2 | J16: 2 | K16: 0 | L16: 2 | M16: 2 | N16: 0 | O16: 222 | P16: 164 | Q16: 58 | R16: 337 | S16: 223 | T16: 114 | U16: 1640 | V16: 1049 | W16: 591 | X16: 3340 | Y16: 1823 | Z16: 1517 | AA16: 0.78397725 | AB16: 0.61676136 | AD16: 222044 | AE16: 590305 | AF16: =C16/AD16*100 -> 0.83947326 | AG16: =AA16-AF16 -> -0.055496003 | AH16: =F16/AE16*100 -> 0.62323714 | AI16: =AB16-AH16 -> -0.0064757827
A17: 苗栗縣 | B17: Miaoli County | C17: 2980 | D17: 1945 | E17: 1035 | F17: 5246 | G17: 2978 | H17: 2268 | I17: 1 | J17: 1 | K17: 0 | L17: 1 | M17: 1 | N17: 0 | O17: 1031 | P17: 735 | Q17: 296 | R17: 1418 | S17: 924 | T17: 494 | U17: 1948 | V17: 1209 | W17: 739 | X17: 3827 | Y17: 2053 | Z17: 1774 | AA17: 1.4217354 | AB17: 0.98449505 | AD17: 200177 | AE17: 533971 | AF17: =C17/AD17*100 -> 1.4886825 | AG17: =AA17-AF17 -> -0.06694714 | AH17: =F17/AE17*100 -> 0.98245036 | AI17: =AB17-AH17 -> 0.0020446897
A18: 彰化縣 | B18: Changhua County | C18: 7714 | D18: 4968 | E18: 2746 | F18: 12155 | G18: 7102 | H18: 5053 | I18: 5 | J18: 3 | K18: 2 | L18: 5 | M18: 3 | N18: 2 | O18: 94 | P18: 57 | Q18: 37 | R18: 155 | S18: 90 | T18: 65 | U18: 7615 | V18: 4908 | W18: 2707 | X18: 11995 | Y18: 7009 | Z18: 4986 | AA18: 1.7586135 | AB18: 0.99607307 | AD18: 407050 | AE18: 1235255 | AF18: =C18/AD18*100 -> 1.8950989 | AG18: =AA18-AF18 -> -0.13648535 | AH18: =F18/AE18*100 -> 0.98400735 | AI18: =AB18-AH18 -> 0.01206572
A19: 南投縣 | B19: Nantou County | C19: 2418 | D19: 1735 | E19: 683 | F19: 3808 | G19: 2360 | H19: 1448 | I19: 1 | J19: 1 | K19: 0 | L19: 1 | M19: 1 | N19: 0 | O19: 114 | P19: 81 | Q19: 33 | R19: 157 | S19: 103 | T19: 54 | U19: 2303 | V19: 1653 | W19: 650 | X19: 3650 | Y19: 2256 | Z19: 1394 | AA19: 1.2875468 | AB19: 0.80829865 | AD19: 180840 | AE19: 475921 | AF19: =C19/AD19*100 -> 1.3370936 | AG19: =AA19-AF19 -> -0.049546771 | AH19: =F19/AE19*100 -> 0.8001328 | AI19: =AB19-AH19 -> 0.0081658508
... A30: 連江縣 | B30: Lienchiang County | C30: 46 | D30: 33 | E30: 13 | F30: 98 | G30: 51 | H30: 47 | I30: 12 | J30: 10 | K30: 2 | L30: 12 | M30: 10 | N30: 2 | O30: 16 | P30: 12 | Q30: 4 | R30: 29 | S30: 20 | T30: 9 | U30: 18 | V30: 11 | W30: 7 | X30: 57 | Y30: 21 | Z30: 36 | AA30: 1.1627907 | AB30: 0.71288281 | AD30: 3726 | AE30: 14006 | AF30: =C30/AD30*100 -> 1.2345679 | AG30: =AA30-AF30 -> -0.071777204 | AH30: =F30/AE30*100 -> 0.69970013 | AI30: =AB30-AH30 -> 0.013182682
A31: 資料來源：直轄市、縣﹝市﹞政府。
A32: Source : County and City Government.
A35: 中華民國114年第2季底 , 2025 Q2
A36: 地區別 Locality | C36: 總計 Grand Total | I36: 第1款(省、新北、臺中、臺南)、第0類(臺北)、第1類(高雄) Class 1 | O36: 第2款(省、新北、臺中、臺南)、第1、2類(臺北)、第2類(高雄) Class 2 | U36: 第3款(省、新北、臺中、臺南)、第3、4類(臺北、高雄) Class 3 | AA36: 低收入戶戶數占總戶數比率(%) Rate of Households (%) | AB36: 低收入戶人數占總人數比率(%) Rate of Persons (%)
C37: 戶數(戶長性別) Households | F37: 人數 Persons | I37: 戶數 Households | L37: 人數 Persons | O37: 戶數 Households | R37: 人數 Persons | U37: 戶數 Households | X37: 人數 Persons
C38: 計 | D38: 男 | E38: 女 | F38: 計 | G38: 男 | H38: 女 | I38: 計 | J38: 男 | K38: 女 | L38: 計 | M38: 男 | N38: 女 | O38: 計 | P38: 男 | Q38: 女 | R38: 計 | S38: 男 | T38: 女 | U38: 計 | V38: 男 | W38: 女 | X38: 計 | Y38: 男 | Z38: 女 | AD38: 戶數 | AE38: 人數 | AF38: 戶數 | AH38: 人數
C39: Sub-Total | D39: Male | E39: Female | F39: Sub-Total | G39: Male | H39: Female | I39: Sub-Total | J39: Male | K39: Female | L39: Sub-Total | M39: Male | N39: Female | O39: Sub-Total | P39: Male | Q39: Female | R39: Sub-Total | S39: Male | T39: Female | U39: Sub-Total | V39: Male | W39: Female | X39: Sub-Total | Y39: Male | Z39: Female
A40: 總 計 | B40: Total | C40: 141854 | D40: 87329 | E40: 54525 | F40: 259066 | G40: 142221 | H40: 116845 | I40: 2389 | J40: 1697 | K40: 692 | L40: 2453 | M40: 1733 | N40: 720 | O40: 37678 | P40: 25107 | Q40: 12571 | R40: 50329 | S40: 31185 | T40: 19144 | U40: 101787 | V40: 60525 | W40: 41262 | X40: 206284 | Y40: 109303 | Z40: 96981 | AA40: 1.4459391 | AB40: 1.1096452 | AD40: 9810510 | AE40: 23346741 | AF40: =C40/AD40*100 -> 1.4459391 | AG40: =AA40-AF40 -> -3.9968029e-15 | AH40: =F40/AE40*100 -> 1.1096452 | AI40: =AB40-AH40 -> 0
A41: 新北市 | B41: New Taipei City | C41: 16413 | D41: 10009 | E41: 6404 | F41: 28506 | G41: 15565 | H41: 12941 | I41: 76 | J41: 59 | K41: 17 | L41: 82 | M41: 62 | N41: 20 | O41: 1653 | P41: 1067 | Q41: 586 | R41: 2334 | S41: 1402 | T41: 932 | U41: 14684 | V41: 8883 | W41: 5801 | X41: 26090 | Y41: 14101 | Z41: 11989 | AA41: 0.92299127 | AB41: 0.70410811 | AD41: 1778240 | AE41: 4048526 | AF41: =C41/AD41*100 -> 0.92299127 | AG41: =AA41-AF41 -> 0 | AH41: =F41/AE41*100 -> 0.70410811 | AI41: =AB41-AH41 -> 0
A42: 臺北市 | B42: Taipei City | C42: 20330 | D42: 11107 | E42: 9223 | F42: 38126 | G42: 19400 | H42: 18726 | I42: 1213 | J42: 846 | K42: 367 | L42: 1245 | M42: 861 | N42: 384 | O42: 6839 | P42: 4214 | Q42: 2625 | R42: 8304 | S42: 4921 | T42: 3383 | U42: 12278 | V42: 6047 | W42: 6231 | X42: 28577 | Y42: 13618 | Z42: 14959 | AA42: 1.8807443 | AB42: 1.5537268 | AD42: 1080955 | AE42: 2453842 | AF42: =C42/AD42*100 -> 1.8807443 | AG42: =AA42-AF42 -> 0 | AH42: =F42/AE42*100 -> 1.5537268 | AI42: =AB42-AH42 -> 0
A43: 桃園市 | B43: Taoyuan City | C43: 12306 | D43: 7224 | E43: 5082 | F43: 26819 | G43: 13964 | H43: 12855 | I43: 103 | J43: 80 | K43: 23 | L43: 104 | M43: 80 | N43: 24 | O43: 1528 | P43: 1037 | Q43: 491 | R43: 2263 | S43: 1414 | T43: 849 | U43: 10675 | V43: 6107 | W43: 4568 | X43: 24452 | Y43: 12470 | Z43: 11982 | AA43: 1.2536739 | AB43: 1.1413292 | AD43: 981595 | AE43: 2349804 | AF43: =C43/AD43*100 -> 1.2536739 | AG43: =AA43-AF43 -> 0 | AH43: =F43/AE43*100 -> 1.1413292 | AI43: =AB43-AH43 -> 0
A44: 臺中市 | B44: Taichung City | C44: 19644 | D44: 11480 | E44: 8164 | F44: 39195 | G44: 20759 | H44: 18436 | I44: 524 | J44: 378 | K44: 146 | L44: 538 | M44: 388 | N44: 150 | O44: 8081 | P44: 5197 | Q44: 2884 | R44: 11866 | S44: 7030 | T44: 4836 | U44: 11039 | V44: 5905 | W44: 5134 | X44: 26791 | Y44: 13341 | Z44: 13450 | AA44: 1.6930615 | AB44: 1.3668029 | AD44: 1160265 | AE44: 2867641 | AF44: =C44/AD44*100 -> 1.6930615 | AG44: =AA44-AF44 -> 0 | AH44: =F44/AE44*100 -> 1.3668029 | AI44: =AB44-AH44 -> 0
A45: 臺南市 | B45: Tainan City | C45: 8510 | D45: 5702 | E45: 2808 | F45: 13874 | G45: 8253 | H45: 5621 | I45: 137 | J45: 89 | K45: 48 | L45: 140 | M45: 90 | N45: 50 | O45: 2627 | P45: 1857 | Q45: 770 | R45: 3098 | S45: 2084 | T45: 1014 | U45: 5746 | V45: 3756 | W45: 1990 | X45: 10636 | Y45: 6079 | Z45: 4557 | AA45: 1.1010751 | AB45: 0.74714677 | AD45: 772881 | AE45: 1856931 | AF45: =C45/AD45*100 -> 1.1010751 | AG45: =AA45-AF45 -> 0 | AH45: =F45/AE45*100 -> 0.74714677 | AI45: =AB45-AH45 -> 0
A46: 高雄市 | B46: Kaohsiung City | C46: 14641 | D46: 9187 | E46: 5454 | F46: 26308 | G46: 14502 | H46: 11806 | I46: 55 | J46: 37 | K46: 18 | L46: 56 | M46: 38 | N46: 18 | O46: 7246 | P46: 4867 | Q46: 2379 | R46: 9175 | S46: 5799 | T46: 3376 | U46: 7340 | V46: 4283 | W46: 3057 | X46: 17077 | Y46: 8665 | Z46: 8412 | AA46: 1.2134146 | AB46: 0.96514643 | AD46: 1206595 | AE46: 2725804 | AF46: =C46/AD46*100 -> 1.2134146 | AG46: =AA46-AF46 -> 0 | AH46: =F46/AE46*100 -> 0.96514643 | AI46: =AB46-AH46 -> 0
A47: 宜蘭縣 | B47: Yilan County | C47: 2984 | D47: 1845 | E47: 1139 | F47: 5230 | G47: 2902 | H47: 2328 | I47: 4 | J47: 3 | K47: 1 | L47: 4 | M47: 3 | N47: 1 | O47: 244 | P47: 166 | Q47: 78 | R47: 335 | S47: 214 | T47: 121 | U47: 2736 | V47: 1676 | W47: 1060 | X47: 4891 | Y47: 2685 | Z47: 2206 | AA47: 1.546699 | AB47: 1.1610148 | AD47: 192927 | AE47: 450468 | AF47: =C47/AD47*100 -> 1.546699 | AG47: =AA47-AF47 -> 0 | AH47: =F47/AE47*100 -> 1.1610148 | AI47: =AB47-AH47 -> 0
A48: 新竹縣 | B48: Hsinchu County | C48: 1898 | D48: 1228 | E48: 670 | F48: 3758 | G48: 2089 | H48: 1669 | I48: 2 | J48: 2 | K48: 0 | L48: 2 | M48: 2 | N48: 0 | O48: 224 | P48: 164 | Q48: 60 | R48: 342 | S48: 225 | T48: 117 | U48: 1672 | V48: 1062 | W48: 610 | X48: 3414 | Y48: 1862 | Z48: 1552 | AA48: 0.79029988 | AB48: 0.62963999 | AD48: 240162 | AE48: 596849 | AF48: =C48/AD48*100 -> 0.79029988 | AG48: =AA48-AF48 -> 0 | AH48: =F48/AE48*100 -> 0.62963999 | AI48: =AB48-AH48 -> 0
A49: 苗栗縣 | B49: Miaoli County | C49: 3016 | D49: 1969 | E49: 1047 | F49: 5287 | G49: 3013 | H49: 2274 | I49: 1 | J49: 1 | K49: 0 | L49: 1 | M49: 1 | N49: 0 | O49: 1022 | P49: 731 | Q49: 291 | R49: 1398 | S49: 916 | T49: 482 | U49: 1993 | V49: 1237 | W49: 756 | X49: 3888 | Y49: 2096 | Z49: 1792 | AA49: 1.423595 | AB49: 0.99277995 | AD49: 211858 | AE49: 532545 | AF49: =C49/AD49*100 -> 1.423595 | AG49: =AA49-AF49 -> 0 | AH49: =F49/AE49*100 -> 0.99277995 | AI49: =AB49-AH49 -> 0
A50: 彰化縣 | B50: Changhua County | C50: 7848 | D50: 5051 | E50: 2797 | F50: 12387 | G50: 7237 | H50: 5150 | I50: 6 | J50: 4 | K50: 2 | L50: 6 | M50: 4 | N50: 2 | O50: 103 | P50: 66 | Q50: 37 | R50: 168 | S50: 101 | T50: 67 | U50: 7739 | V50: 4981 | W50: 2758 | X50: 12213 | Y50: 7132 | Z50: 5081 | AA50: 1.7696521 | AB50: 1.0181453 | AD50: 443477 | AE50: 1216624 | AF50: =C50/AD50*100 -> 1.7696521 | AG50: =AA50-AF50 -> 0 | AH50: =F50/AE50*100 -> 1.0181453 | AI50: =AB50-AH50 -> 0
A51: 南投縣 | B51: Nantou County | C51: 2438 | D51: 1747 | E51: 691 | F51: 3837 | G51: 2379 | H51: 1458 | I51: 1 | J51: 1 | K51: 0 | L51: 1 | M51: 1 | N51: 0 | O51: 114 | P51: 81 | Q51: 33 | R51: 157 | S51: 103 | T51: 54 | U51: 2323 | V51: 1665 | W51: 658 | X51: 3679 | Y51: 2275 | Z51: 1404 | AA51: 1.2868491 | AB51: 0.81656888 | AD51: 189455 | AE51: 469893 | AF51: =C51/AD51*100 -> 1.2868491 | AG51: =AA51-AF51 -> 0 | AH51: =F51/AE51*100 -> 0.81656888 | AI51: =AB51-AH51 -> 0
... A62: 連江縣 | B62: Lienchiang County | C62: 45 | D62: 32 | E62: 13 | F62: 99 | G62: 51 | H62: 48 | I62: 12 | J62: 10 | K62: 2 | L62: 12 | M62: 10 | N62: 2 | O62: 15 | P62: 11 | Q62: 4 | R62: 29 | S62: 20 | T62: 9 | U62: 18 | V62: 11 | W62: 7 | X62: 58 | Y62: 21 | Z62: 37 | AA62: 1.1221945 | AB62: 0.72767365 | AD62: 4010 | AE62: 13605 | AF62: =C62/AD62*100 -> 1.1221945 | AG62: =AA62-AF62 -> 0 | AH62: =F62/AE62*100 -> 0.72767365 | AI62: =AB62-AH62 -> 0
A63: 資料來源：直轄市、縣﹝市﹞政府。
A64: Source : County and City Government.
A67: 中華民國114年第3季底 , 2025 Q3
A68: 地區別 Locality | C68: 總計 Grand Total | I68: 第1款(省、新北、臺中、臺南)、第0類(臺北)、第1類(高雄) Class 1 | O68: 第2款(省、新北、臺中、臺南)、第1、2類(臺北)、第2類(高雄) Class 2 | U68: 第3款(省、新北、臺中、臺南)、第3、4類(臺北、高雄) Class 3 | AA68: 低收入戶戶數占總戶數比率(%) Rate of Households (%) | AB68: 低收入戶人數占總人數比率(%) Rate of Persons (%)
C69: 戶數(戶長性別) Households | F69: 人數 Persons | I69: 戶數 Households | L69: 人數 Persons | O69: 戶數 Households | R69: 人數 Persons | U69: 戶數 Households | X69: 人數 Persons
C70: 計 | D70: 男 | E70: 女 | F70: 計 | G70: 男 | H70: 女 | I70: 計 | J70: 男 | K70: 女 | L70: 計 | M70: 男 | N70: 女 | O70: 計 | P70: 男 | Q70: 女 | R70: 計 | S70: 男 | T70: 女 | U70: 計 | V70: 男 | W70: 女 | X70: 計 | Y70: 男 | Z70: 女
C71: Sub-Total | D71: Male | E71: Female | F71: Sub-Total | G71: Male | H71: Female | I71: Sub-Total | J71: Male | K71: Female | L71: Sub-Total | M71: Male | N71: Female | O71: Sub-Total | P71: Male | Q71: Female | R71: Sub-Total | S71: Male | T71: Female | U71: Sub-Total | V71: Male | W71: Female | X71: Sub-Total | Y71: Male | Z71: Female
A72: 總 計 | B72: Total | C72: 142565 | D72: 87780 | E72: 54785 | F72: 258679 | G72: 142248 | H72: 116431 | I72: 2358 | J72: 1671 | K72: 687 | L72: 2422 | M72: 1707 | N72: 715 | O72: 37778 | P72: 25191 | Q72: 12587 | R72: 50213 | S72: 31177 | T72: 19036 | U72: 102429 | V72: 60918 | W72: 41511 | X72: 206044 | Y72: 109364 | Z72: 96680 | AA72: 1.4492163 | AB72: 1.1079876
A73: 新北市 | B73: New Taipei City | C73: 16650 | D73: 10167 | E73: 6483 | F73: 28881 | G73: 15799 | H73: 13082 | I73: 77 | J73: 58 | K73: 19 | L73: 83 | M73: 61 | N73: 22 | O73: 1683 | P73: 1089 | Q73: 594 | R73: 2367 | S73: 1421 | T73: 946 | U73: 14890 | V73: 9020 | W73: 5870 | X73: 26431 | Y73: 14317 | Z73: 12114 | AA73: 0.933488 | AB73: 0.71337074
A74: 臺北市 | B74: Taipei City | C74: 20370 | D74: 11126 | E74: 9244 | F74: 38129 | G74: 19387 | H74: 18742 | I74: 1195 | J74: 832 | K74: 363 | L74: 1226 | M74: 846 | N74: 380 | O74: 6824 | P74: 4208 | Q74: 2616 | R74: 8284 | S74: 4916 | T74: 3368 | U74: 12351 | V74: 6086 | W74: 6265 | X74: 28619 | Y74: 13625 | Z74: 14994 | AA74: 1.8838174 | AB74: 1.553849
A75: 桃園市 | B75: Taoyuan City | C75: 12291 | D75: 7216 | E75: 5075 | F75: 26558 | G75: 13851 | H75: 12707 | I75: 107 | J75: 82 | K75: 25 | L75: 109 | M75: 83 | N75: 26 | O75: 1564 | P75: 1062 | Q75: 502 | R75: 2305 | S75: 1441 | T75: 864 | U75: 10620 | V75: 6072 | W75: 4548 | X75: 24144 | Y75: 12327 | Z75: 11817 | AA75: 1.2444364 | AB75: 1.1302219
A76: 臺中市 | B76: Taichung City | C76: 19589 | D76: 11458 | E76: 8131 | F76: 38850 | G76: 20607 | H76: 18243 | I76: 518 | J76: 373 | K76: 145 | L76: 532 | M76: 383 | N76: 149 | O76: 8048 | P76: 5167 | Q76: 2881 | R76: 11733 | S76: 6951 | T76: 4782 | U76: 11023 | V76: 5918 | W76: 5105 | X76: 26585 | Y76: 13273 | Z76: 13312 | AA76: 1.6819068 | AB76: 1.3547721
A77: 臺南市 | B77: Tainan City | C77: 8451 | D77: 5654 | E77: 2797 | F77: 13607 | G77: 8108 | H77: 5499 | I77: 136 | J77: 87 | K77: 49 | L77: 139 | M77: 88 | N77: 51 | O77: 2592 | P77: 1829 | Q77: 763 | R77: 3062 | S77: 2058 | T77: 1004 | U77: 5723 | V77: 3738 | W77: 1985 | X77: 10406 | Y77: 5962 | Z77: 4444 | AA77: 1.0898385 | AB77: 0.73276821
A78: 高雄市 | B78: Kaohsiung City | C78: 14737 | D78: 9229 | E78: 5508 | F78: 26237 | G78: 14511 | H78: 11726 | I78: 53 | J78: 36 | K78: 17 | L78: 54 | M78: 37 | N78: 17 | O78: 7311 | P78: 4911 | Q78: 2400 | R78: 9190 | S78: 5820 | T78: 3370 | U78: 7373 | V78: 4282 | W78: 3091 | X78: 16993 | Y78: 8654 | Z78: 8339 | AA78: 1.2189382 | AB78: 0.96254169
A79: 宜蘭縣 | B79: Yilan County | C79: 2963 | D79: 1835 | E79: 1128 | F79: 5107 | G79: 2849 | H79: 2258 | I79: 4 | J79: 3 | K79: 1 | L79: 4 | M79: 3 | N79: 1 | O79: 243 | P79: 166 | Q79: 77 | R79: 331 | S79: 215 | T79: 116 | U79: 2716 | V79: 1666 | W79: 1050 | X79: 4772 | Y79: 2631 | Z79: 2141 | AA79: 1.5312424 | AB79: 1.1337098
A80: 新竹縣 | B80: Hsinchu County | C80: 1929 | D80: 1239 | E80: 690 | F80: 3831 | G80: 2116 | H80: 1715 | I80: 2 | J80: 2 | K80: 0 | L80: 2 | M80: 2 | N80: 0 | O80: 217 | P80: 156 | Q80: 61 | R80: 334 | S80: 216 | T80: 118 | U80: 1710 | V80: 1081 | W80: 629 | X80: 3495 | Y80: 1898 | Z80: 1597 | AA80: 0.79954904 | AB80: 0.64187089
A81: 苗栗縣 | B81: Miaoli County | C81: 3063 | D81: 2003 | E81: 1060 | F81: 5346 | G81: 3053 | H81: 2293 | I81: 1 | J81: 1 | K81: 0 | L81: 1 | M81: 1 | N81: 0 | O81: 1023 | P81: 729 | Q81: 294 | R81: 1402 | S81: 916 | T81: 486 | U81: 2039 | V81: 1273 | W81: 766 | X81: 3943 | Y81: 2136 | Z81: 1807 | AA81: 1.4417374 | AB81: 1.0038588
A82: 彰化縣 | B82: Changhua County | C82: 7972 | D82: 5126 | E82: 2846 | F82: 12576 | G82: 7335 | H82: 5241 | I82: 6 | J82: 4 | K82: 2 | L82: 6 | M82: 4 | N82: 2 | O82: 106 | P82: 69 | Q82: 37 | R82: 170 | S82: 103 | T82: 67 | U82: 7860 | V82: 5053 | W82: 2807 | X82: 12400 | Y82: 7228 | Z82: 5172 | AA82: 1.794675 | AB82: 1.0336801
A83: 南投縣 | B83: Nantou County | C83: 2427 | D83: 1732 | E83: 695 | F83: 3788 | G83: 2357 | H83: 1431 | I83: 1 | J83: 1 | K83: 0 | L83: 1 | M83: 1 | N83: 0 | O83: 113 | P83: 80 | Q83: 33 | R83: 155 | S83: 102 | T83: 53 | U83: 2313 | V83: 1651 | W83: 662 | X83: 3632 | Y83: 2254 | Z83: 1378 | AA83: 1.2802186 | AB83: 0.80614097
... A94: 連江縣 | B94: Lienchiang County | C94: 43 | D94: 31 | E94: 12 | F94: 88 | G94: 49 | H94: 39 | I94: 12 | J94: 10 | K94: 2 | L94: 12 | M94: 10 | N94: 2 | O94: 15 | P94: 11 | Q94: 4 | R94: 28 | S94: 19 | T94: 9 | U94: 16 | V94: 10 | W94: 6 | X94: 48 | Y94: 20 | Z94: 28 | AA94: 1.06462 | AB94: 0.64682102
A95: 資料來源：直轄市、縣﹝市﹞政府。
A96: Source : County and City Government.
A99: 中華民國114年第4季底 , 2025 Q4
A100: 地區別 Locality | C100: 總計 Grand Total | I100: 第1款(省、新北、臺中、臺南)、第0類(臺北)、第1類(高雄) Class 1 | O100: 第2款(省、新北、臺中、臺南)、第1、2類(臺北)、第2類(高雄) Class 2 | U100: 第3款(省、新北、臺中、臺南)、第3、4類(臺北、高雄) Class 3 | AA100: 低收入戶戶數占總戶數比率(%) Rate of Households (%) | AB100: 低收入戶人數占總人數比率(%) Rate of Persons (%)
C101: 戶數(戶長性別) Households | F101: 人數 Persons | I101: 戶數 Households | L101: 人數 Persons | O101: 戶數 Households | R101: 人數 Persons | U101: 戶數 Households | X101: 人數 Persons
C102: 計 | D102: 男 | E102: 女 | F102: 計 | G102: 男 | H102: 女 | I102: 計 | J102: 男 | K102: 女 | L102: 計 | M102: 男 | N102: 女 | O102: 計 | P102: 男 | Q102: 女 | R102: 計 | S102: 男 | T102: 女 | U102: 計 | V102: 男 | W102: 女 | X102: 計 | Y102: 男 | Z102: 女
C103: Sub-Total | D103: Male | E103: Female | F103: Sub-Total | G103: Male | H103: Female | I103: Sub-Total | J103: Male | K103: Female | L103: Sub-Total | M103: Male | N103: Female | O103: Sub-Total | P103: Male | Q103: Female | R103: Sub-Total | S103: Male | T103: Female | U103: Sub-Total | V103: Male | W103: Female | X103: Sub-Total | Y103: Male | Z103: Female
A104: 總 計 | B104: Total | C104: 143514 | D104: 88254 | E104: 55260 | F104: 260014 | G104: 142790 | H104: 117224 | I104: 2334 | J104: 1644 | K104: 690 | L104: 2395 | M104: 1678 | N104: 717 | O104: 37847 | P104: 25210 | Q104: 12637 | R104: 50199 | S104: 31116 | T104: 19083 | U104: 103333 | V104: 61400 | W104: 41933 | X104: 207420 | Y104: 109996 | Z104: 97424 | AA104: 1.4567683 | AB104: 1.12
A105: 新北市 | B105: New Taipei City | C105: 16906 | D105: 10315 | E105: 6591 | F105: 29297 | G105: 16034 | H105: 13263 | I105: 81 | J105: 61 | K105: 20 | L105: 87 | M105: 64 | N105: 23 | O105: 1747 | P105: 1130 | Q105: 617 | R105: 2475 | S105: 1480 | T105: 995 | U105: 15078 | V105: 9124 | W105: 5954 | X105: 26735 | Y105: 14490 | Z105: 12245 | AA105: 0.94614273 | AB105: 0.72
A106: 臺北市 | B106: Taipei City | C106: 20476 | D106: 11164 | E106: 9312 | F106: 38208 | G106: 19414 | H106: 18794 | I106: 1187 | J106: 823 | K106: 364 | L106: 1217 | M106: 836 | N106: 381 | O106: 6836 | P106: 4217 | Q106: 2619 | R106: 8289 | S106: 4920 | T106: 3369 | U106: 12453 | V106: 6124 | W106: 6329 | X106: 28702 | Y106: 13658 | Z106: 15044 | AA106: 1.8943613 | AB106: 1.57
A107: 桃園市 | B107: Taoyuan City | C107: 12357 | D107: 7255 | E107: 5102 | F107: 26718 | G107: 13889 | H107: 12829 | I107: 107 | J107: 82 | K107: 25 | L107: 109 | M107: 83 | N107: 26 | O107: 1575 | P107: 1065 | Q107: 510 | R107: 2311 | S107: 1441 | T107: 870 | U107: 10675 | V107: 6108 | W107: 4567 | X107: 24298 | Y107: 12365 | Z107: 11933 | AA107: 1.2465487 | AB107: 1.13
A108: 臺中市 | B108: Taichung City | C108: 19738 | D108: 11525 | E108: 8213 | F108: 38980 | G108: 20644 | H108: 18336 | I108: 517 | J108: 368 | K108: 149 | L108: 530 | M108: 377 | N108: 153 | O108: 8053 | P108: 5166 | Q108: 2887 | R108: 11684 | S108: 6928 | T108: 4756 | U108: 11168 | V108: 5991 | W108: 5177 | X108: 26766 | Y108: 13339 | Z108: 13427 | AA108: 1.6894633 | AB108: 1.36
A109: 臺南市 | B109: Tainan City | C109: 8042 | D109: 5415 | E109: 2627 | F109: 12696 | G109: 7617 | H109: 5079 | I109: 124 | J109: 77 | K109: 47 | L109: 127 | M109: 78 | N109: 49 | O109: 2483 | P109: 1758 | Q109: 725 | R109: 2887 | S109: 1951 | T109: 936 | U109: 5435 | V109: 3580 | W109: 1855 | X109: 9682 | Y109: 5588 | Z109: 4094 | AA109: 1.0354155 | AB109: 0.69
A110: 高雄市 | B110: Kaohsiung City | C110: 14978 | D110: 9377 | E110: 5601 | F110: 26630 | G110: 14706 | H110: 11924 | I110: 52 | J110: 35 | K110: 17 | L110: 53 | M110: 36 | N110: 17 | O110: 7389 | P110: 4945 | Q110: 2444 | R110: 9292 | S110: 5843 | T110: 3449 | U110: 7537 | V110: 4397 | W110: 3140 | X110: 17285 | Y110: 8827 | Z110: 8458 | AA110: 1.2377858 | AB110: 0.98
A111: 宜蘭縣 | B111: Yilan County | C111: 3007 | D111: 1864 | E111: 1143 | F111: 5188 | G111: 2895 | H111: 2293 | I111: 6 | J111: 4 | K111: 2 | L111: 6 | M111: 4 | N111: 2 | O111: 250 | P111: 174 | Q111: 76 | R111: 341 | S111: 223 | T111: 118 | U111: 2751 | V111: 1686 | W111: 1065 | X111: 4841 | Y111: 2668 | Z111: 2173 | AA111: 1.5531142 | AB111: 1.15
A112: 新竹縣 | B112: Hsinchu County | C112: 1951 | D112: 1256 | E112: 695 | F112: 3859 | G112: 2134 | H112: 1725 | I112: 2 | J112: 2 | K112: 0 | L112: 2 | M112: 2 | N112: 0 | O112: 214 | P112: 154 | Q112: 60 | R112: 333 | S112: 213 | T112: 120 | U112: 1735 | V112: 1100 | W112: 635 | X112: 3524 | Y112: 1919 | Z112: 1605 | AA112: 0.80711218 | AB112: 0.65
A113: 苗栗縣 | B113: Miaoli County | C113: 3113 | D113: 2046 | E113: 1067 | F113: 5405 | G113: 3098 | H113: 2307 | I113: 1 | J113: 1 | K113: 0 | L113: 1 | M113: 1 | N113: 0 | O113: 1017 | P113: 728 | Q113: 289 | R113: 1392 | S113: 912 | T113: 480 | U113: 2095 | V113: 1317 | W113: 778 | X113: 4012 | Y113: 2185 | Z113: 1827 | AA113: 1.4638321 | AB113: 1.02
A114: 彰化縣 | B114: Changhua County | C114: 7997 | D114: 5131 | E114: 2866 | F114: 12676 | G114: 7358 | H114: 5318 | I114: 6 | J114: 4 | K114: 2 | L114: 6 | M114: 4 | N114: 2 | O114: 111 | P114: 74 | Q114: 37 | R114: 179 | S114: 111 | T114: 68 | U114: 7880 | V114: 5053 | W114: 2827 | X114: 12491 | Y114: 7243 | Z114: 5248 | AA114: 1.7998735 | AB114: 1.05
A115: 南投縣 | B115: Nantou County | C115: 2443 | D115: 1739 | E115: 704 | F115: 3817 | G115: 2368 | H115: 1449 | I115: 1 | J115: 1 | K115: 0 | L115: 1 | M115: 1 | N115: 0 | O115: 115 | P115: 81 | Q115: 34 | R115: 157 | S115: 103 | T115: 54 | U115: 2327 | V115: 1657 | W115: 670 | X115: 3659 | Y115: 2264 | Z115: 1395 | AA115: 1.2883458 | AB115: 0.82
... A126: 連江縣 | B126: Lienchiang County | C126: 43 | D126: 30 | E126: 13 | F126: 91 | G126: 49 | H126: 42 | I126: 11 | J126: 9 | K126: 2 | L126: 11 | M126: 9 | N126: 2 | O126: 14 | P126: 10 | Q126: 4 | R126: 27 | S126: 18 | T126: 9 | U126: 18 | V126: 11 | W126: 7 | X126: 53 | Y126: 22 | Z126: 31 | AA126: 1.0583313 | AB126: 0.67
A127: 資料來源：直轄市、縣﹝市﹞政府。
A128: Source : County and City Government.

Sheet 2024
A2: 低收入戶戶數及人數 Number and Population of Low-Income Households
A3: 中華民國113年第1季底 , 2024Q1
A4: 地區別 Locality | C4: 總計 Grand Total | I4: 第1款(省、新北、臺中、臺南)、第0類(臺北)、第1類(高雄) Class 1 | O4: 第2款(省、新北、臺中、臺南)、第1、2類(臺北)、第2類(高雄) Class 2 | U4: 第3款(省、新北、臺中、臺南)、第3、4類(臺北、高雄) Class 3 | AA4: 低收入戶戶數占總戶數比率(%) Rate of Households (%) | AB4: 低收入戶人數占總人數比率(%) Rate of Persons (%)
C5: 戶數(戶長性別) Households | F5: 人數 Persons | I5: 戶數 Households | L5: 人數 Persons | O5: 戶數 Households | R5: 人數 Persons | U5: 戶數 Households | X5: 人數 Persons
C6: 計 | D6: 男 | E6: 女 | F6: 計 | G6: 男 | H6: 女 | I6: 計 | J6: 男 | K6: 女 | L6: 計 | M6: 男 | N6: 女 | O6: 計 | P6: 男 | Q6: 女 | R6: 計 | S6: 男 | T6: 女 | U6: 計 | V6: 男 | W6: 女 | X6: 計 | Y6: 男 | Z6: 女 | AD6: 戶數 | AE6: 人數 | AF6: 戶數 | AH6: 人數
C7: Sub-Total | D7: Male | E7: Female | F7: Sub-Total | G7: Male | H7: Female | I7: Sub-Total | J7: Male | K7: Female | L7: Sub-Total | M7: Male | N7: Female | O7: Sub-Total | P7: Male | Q7: Female | R7: Sub-Total | S7: Male | T7: Female | U7: Sub-Total | V7: Male | W7: Female | X7: Sub-Total | Y7: Male | Z7: Female
A8: 總 計 | B8: Total | C8: 139333 | D8: 86084 | E8: 53249 | F8: 261216 | G8: 142803 | H8: 118413 | I8: 2440 | J8: 1751 | K8: 689 | L8: 2511 | M8: 1790 | N8: 721 | O8: 35889 | P8: 24041 | Q8: 11848 | R8: 48434 | S8: 30014 | T8: 18420 | U8: 101004 | V8: 60292 | W8: 40712 | X8: 210271 | Y8: 110999 | Z8: 99272 | AA8: 1.5032168 | AB8: 1.1155271 | AD8: 9268989 | AE8: 23416375 | AF8: =C8/AD8*100 -> 1.5032168 | AG8: =AA8-AF8 -> 0 | AH8: =F8/AE8*100 -> 1.1155271 | AI8: =AB8-AH8 -> 0
A9: 新北市 | B9: New Taipei City | C9: 16256 | D9: 9970 | E9: 6286 | F9: 29293 | G9: 15864 | H9: 13429 | I9: 64 | J9: 54 | K9: 10 | L9: 71 | M9: 57 | N9: 14 | O9: 1333 | P9: 887 | Q9: 446 | R9: 1942 | S9: 1178 | T9: 764 | U9: 14859 | V9: 9029 | W9: 5830 | X9: 27280 | Y9: 14629 | Z9: 12651 | AA9: 0.96911194 | AB9: 0.72461026 | AD9: 1677412 | AE9: 4042587 | AF9: =C9/AD9*100 -> 0.96911194 | AG9: =AA9-AF9 -> 0 | AH9: =F9/AE9*100 -> 0.72461026 | AI9: =AB9-AH9 -> 0
A10: 臺北市 | B10: Taipei City | C10: 20676 | D10: 11375 | E10: 9301 | F10: 39985 | G10: 20373 | H10: 19612 | I10: 1331 | J10: 929 | K10: 402 | L10: 1372 | M10: 949 | N10: 423 | O10: 6764 | P10: 4200 | Q10: 2564 | R10: 8402 | S10: 4960 | T10: 3442 | U10: 12581 | V10: 6246 | W10: 6335 | X10: 30211 | Y10: 14464 | Z10: 15747 | AA10: 1.9404519 | AB10: 1.5931929 | AD10: 1065525 | AE10: 2509740 | AF10: =C10/AD10*100 -> 1.9404519 | AG10: =AA10-AF10 -> 0 | AH10: =F10/AE10*100 -> 1.5931929 | AI10: =AB10-AH10 -> 0
A11: 桃園市 | B11: Taoyuan City | C11: 12185 | D11: 7125 | E11: 5060 | F11: 27267 | G11: 14150 | H11: 13117 | I11: 68 | J11: 52 | K11: 16 | L11: 69 | M11: 52 | N11: 17 | O11: 1483 | P11: 1005 | Q11: 478 | R11: 2388 | S11: 1455 | T11: 933 | U11: 10634 | V11: 6068 | W11: 4566 | X11: 24810 | Y11: 12643 | Z11: 12167 | AA11: 1.3411775 | AB11: 1.1744826 | AD11: 908530 | AE11: 2321618 | AF11: =C11/AD11*100 -> 1.3411775 | AG11: =AA11-AF11 -> 0 | AH11: =F11/AE11*100 -> 1.1744826 | AI11: =AB11-AH11 -> 0
A12: 臺中市 | B12: Taichung City | C12: 19674 | D12: 11446 | E12: 8228 | F12: 40515 | G12: 21285 | H12: 19230 | I12: 523 | J12: 386 | K12: 137 | L12: 537 | M12: 396 | N12: 141 | O12: 7559 | P12: 4875 | Q12: 2684 | R12: 11380 | S12: 6708 | T12: 4672 | U12: 11592 | V12: 6185 | W12: 5407 | X12: 28598 | Y12: 14181 | Z12: 14417 | AA12: 1.8459391 | AB12: 1.4217895 | AD12: 1065799 | AE12: 2849578 | AF12: =C12/AD12*100 -> 1.8459391 | AG12: =AA12-AF12 -> 0 | AH12: =F12/AE12*100 -> 1.4217895 | AI12: =AB12-AH12 -> 0
A13: 臺南市 | B13: Tainan City | C13: 8573 | D13: 5795 | E13: 2778 | F13: 14255 | G13: 8448 | H13: 5807 | I13: 156 | J13: 103 | K13: 53 | L13: 158 | M13: 104 | N13: 54 | O13: 2841 | P13: 2031 | Q13: 810 | R13: 3338 | S13: 2270 | T13: 1068 | U13: 5576 | V13: 3661 | W13: 1915 | X13: 10759 | Y13: 6074 | Z13: 4685 | AA13: 1.1755623 | AB13: 0.76636818 | AD13: 729268 | AE13: 1860072 | AF13: =C13/AD13*100 -> 1.1755623 | AG13: =AA13-AF13 -> 0 | AH13: =F13/AE13*100 -> 0.76636818 | AI13: =AB13-AH13 -> 0
A14: 高雄市 | B14: Kaohsiung City | C14: 14166 | D14: 8902 | E14: 5264 | F14: 26125 | G14: 14311 | H14: 11814 | I14: 55 | J14: 36 | K14: 19 | L14: 56 | M14: 37 | N14: 19 | O14: 6981 | P14: 4679 | Q14: 2302 | R14: 8890 | S14: 5598 | T14: 3292 | U14: 7130 | V14: 4187 | W14: 2943 | X14: 17179 | Y14: 8676 | Z14: 8503 | AA14: 1.2285528 | AB14: 0.95465978 | AD14: 1153064 | AE14: 2736577 | AF14: =C14/AD14*100 -> 1.2285528 | AG14: =AA14-AF14 -> 0 | AH14: =F14/AE14*100 -> 0.95465978 | AI14: =AB14-AH14 -> 0
A15: 宜蘭縣 | B15: Yilan County | C15: 2852 | D15: 1789 | E15: 1063 | F15: 5053 | G15: 2818 | H15: 2235 | I15: 6 | J15: 5 | K15: 1 | L15: 6 | M15: 5 | N15: 1 | O15: 243 | P15: 170 | Q15: 73 | R15: 329 | S15: 217 | T15: 112 | U15: 2603 | V15: 1614 | W15: 989 | X15: 4718 | Y15: 2596 | Z15: 2122 | AA15: 1.5927177 | AB15: 1.1241579 | AD15: 179065 | AE15: 449492 | AF15: =C15/AD15*100 -> 1.5927177 | AG15: =AA15-AF15 -> 0 | AH15: =F15/AE15*100 -> 1.1241579 | AI15: =AB15-AH15 -> 0
A16: 新竹縣 | B16: Hsinchu County | C16: 1871 | D16: 1218 | E16: 653 | F16: 3786 | G16: 2109 | H16: 1677 | I16: 3 | J16: 3 | K16: 0 | L16: 3 | M16: 3 | N16: 0 | O16: 226 | P16: 165 | Q16: 61 | R16: 322 | S16: 215 | T16: 107 | U16: 1642 | V16: 1050 | W16: 592 | X16: 3461 | Y16: 1891 | Z16: 1570 | AA16: 0.84262579 | AB16: 0.64136336 | AD16: 222044 | AE16: 590305 | AF16: =C16/AD16*100 -> 0.84262579 | AG16: =AA16-AF16 -> 0 | AH16: =F16/AE16*100 -> 0.64136336 | AI16: =AB16-AH16 -> 0
A17: 苗栗縣 | B17: Miaoli County | C17: 2802 | D17: 1843 | E17: 959 | F17: 4996 | G17: 2839 | H17: 2157 | I17: 1 | J17: 1 | K17: 0 | L17: 1 | M17: 1 | N17: 0 | O17: 1026 | P17: 748 | Q17: 278 | R17: 1389 | S17: 934 | T17: 455 | U17: 1775 | V17: 1094 | W17: 681 | X17: 3606 | Y17: 1904 | Z17: 1702 | AA17: 1.3997612 | AB17: 0.93563134 | AD17: 200177 | AE17: 533971 | AF17: =C17/AD17*100 -> 1.3997612 | AG17: =AA17-AF17 -> 0 | AH17: =F17/AE17*100 -> 0.93563134 | AI17: =AB17-AH17 -> 0
A18: 彰化縣 | B18: Changhua County | C18: 7651 | D18: 4945 | E18: 2706 | F18: 12204 | G18: 7123 | H18: 5081 | I18: 4 | J18: 3 | K18: 1 | L18: 4 | M18: 3 | N18: 1 | O18: 98 | P18: 67 | Q18: 31 | R18: 152 | S18: 97 | T18: 55 | U18: 7549 | V18: 4875 | W18: 2674 | X18: 12048 | Y18: 7023 | Z18: 5025 | AA18: 1.8796217 | AB18: 0.98797414 | AD18: 407050 | AE18: 1235255 | AF18: =C18/AD18*100 -> 1.8796217 | AG18: =AA18-AF18 -> 0 | AH18: =F18/AE18*100 -> 0.98797414 | AI18: =AB18-AH18 -> 0
A19: 南投縣 | B19: Nantou County | C19: 2433 | D19: 1732 | E19: 701 | F19: 3962 | G19: 2418 | H19: 1544 | I19: 2 | J19: 1 | K19: 1 | L19: 2 | M19: 1 | N19: 1 | O19: 115 | P19: 83 | Q19: 32 | R19: 163 | S19: 106 | T19: 57 | U19: 2316 | V19: 1648 | W19: 668 | X19: 3797 | Y19: 2311 | Z19: 1486 | AA19: 1.3453882 | AB19: 0.83249111 | AD19: 180840 | AE19: 475921 | AF19: =C19/AD19*100 -> 1.3453882 | AG19: =AA19-AF19 -> 0 | AH19: =F19/AE19*100 -> 0.83249111 | AI19: =AB19-AH19 -> 0
... A30: 連江縣 | B30: Lienchiang County | C30: 50 | D30: 35 | E30: 15 | F30: 96 | G30: 50 | H30: 46 | I30: 13 | J30: 9 | K30: 4 | L30: 13 | M30: 9 | N30: 4 | O30: 17 | P30: 14 | Q30: 3 | R30: 29 | S30: 21 | T30: 8 | U30: 20 | V30: 12 | W30: 8 | X30: 54 | Y30: 20 | Z30: 34 | AA30: 1.3419216 | AB30: 0.68542053 | AD30: 3726 | AE30: 14006 | AF30: =C30/AD30*100 -> 1.3419216 | AG30: =AA30-AF30 -> 0 | AH30: =F30/AE30*100 -> 0.68542053 | AI30: =AB30-AH30 -> 0
A31: 資料來源：直轄市、縣﹝市﹞政府。
A32: Source : County and City Government.
A35: 中華民國113年第2季底 , 2024 Q2
A36: 地區別 Locality | C36: 總計 Grand Total | I36: 第1款(省、新北、臺中、臺南)、第0類(臺北)、第1類(高雄) Class 1 | O36: 第2款(省、新北、臺中、臺南)、第1、2類(臺北)、第2類(高雄) Class 2 | U36: 第3款(省、新北、臺中、臺南)、第3、4類(臺北、高雄) Class 3 | AA36: 低收入戶戶數占總戶數比率(%) Rate of Households (%) | AB36: 低收入戶人數占總人數比率(%) Rate of Persons (%)
C37: 戶數(戶長性別) Households | F37: 人數 Persons | I37: 戶數 Households | L37: 人數 Persons | O37: 戶數 Households | R37: 人數 Persons | U37: 戶數 Households | X37: 人數 Persons
C38: 計 | D38: 男 | E38: 女 | F38: 計 | G38: 男 | H38: 女 | I38: 計 | J38: 男 | K38: 女 | L38: 計 | M38: 男 | N38: 女 | O38: 計 | P38: 男 | Q38: 女 | R38: 計 | S38: 男 | T38: 女 | U38: 計 | V38: 男 | W38: 女 | X38: 計 | Y38: 男 | Z38: 女
C39: Sub-Total | D39: Male | E39: Female | F39: Sub-Total | G39: Male | H39: Female | I39: Sub-Total | J39: Male | K39: Female | L39: Sub-Total | M39: Male | N39: Female | O39: Sub-Total | P39: Male | Q39: Female | R39: Sub-Total | S39: Male | T39: Female | U39: Sub-Total | V39: Male | W39: Female | X39: Sub-Total | Y39: Male | Z39: Female
A40: 總 計 | B40: Total | C40: 141137 | D40: 86979 | E40: 54158 | F40: 263884 | G40: 144151 | H40: 119733 | I40: 2418 | J40: 1736 | K40: 682 | L40: 2481 | M40: 1770 | N40: 711 | O40: 36250 | P40: 24225 | Q40: 12025 | R40: 48833 | S40: 30223 | T40: 18610 | U40: 102469 | V40: 61018 | W40: 41451 | X40: 212570 | Y40: 112158 | Z40: 100412 | AA40: 1.5159945 | AB40: 1.1270881
A41: 新北市 | B41: New Taipei City | C41: 16563 | D41: 10135 | E41: 6428 | F41: 29761 | G41: 16133 | H41: 13628 | I41: 72 | J41: 60 | K41: 12 | L41: 79 | M41: 63 | N41: 16 | O41: 1398 | P41: 932 | Q41: 466 | R41: 2023 | S41: 1231 | T41: 792 | U41: 15093 | V41: 9143 | W41: 5950 | X41: 27659 | Y41: 14839 | Z41: 12820 | AA41: 0.98212745 | AB41: 0.73602241
A42: 臺北市 | B42: Taipei City | C42: 20889 | D42: 11453 | E42: 9436 | F42: 40340 | G42: 20512 | H42: 19828 | I42: 1303 | J42: 908 | K42: 395 | L42: 1336 | M42: 923 | N42: 413 | O42: 6833 | P42: 4225 | Q42: 2608 | R42: 8494 | S42: 4998 | T42: 3496 | U42: 12753 | V42: 6320 | W42: 6433 | X42: 30510 | Y42: 14591 | Z42: 15919 | AA42: 1.9568498 | AB42: 1.6092441
A43: 桃園市 | B43: Taoyuan City | C43: 12406 | D43: 7241 | E43: 5165 | F43: 27683 | G43: 14356 | H43: 13327 | I43: 68 | J43: 52 | K43: 16 | L43: 69 | M43: 52 | N43: 17 | O43: 1489 | P43: 1005 | Q43: 484 | R43: 2394 | S43: 1463 | T43: 931 | U43: 10849 | V43: 6184 | W43: 4665 | X43: 25220 | Y43: 12841 | Z43: 12379 | AA43: 1.3552353 | AB43: 1.1898576
A44: 臺中市 | B44: Taichung City | C44: 19878 | D44: 11553 | E44: 8325 | F44: 40762 | G44: 21403 | H44: 19359 | I44: 529 | J44: 392 | K44: 137 | L44: 543 | M44: 402 | N44: 141 | O44: 7641 | P44: 4928 | Q44: 2713 | R44: 11439 | S44: 6733 | T44: 4706 | U44: 11708 | V44: 6233 | W44: 5475 | X44: 28780 | Y44: 14268 | Z44: 14512 | AA44: 1.8534992 | AB44: 1.4290993
A45: 臺南市 | B45: Tainan City | C45: 8593 | D45: 5806 | E45: 2787 | F45: 14241 | G45: 8445 | H45: 5796 | I45: 156 | J45: 103 | K45: 53 | L45: 158 | M45: 104 | N45: 54 | O45: 2850 | P45: 2036 | Q45: 814 | R45: 3350 | S45: 2275 | T45: 1075 | U45: 5587 | V45: 3667 | W45: 1920 | X45: 10733 | Y45: 6066 | Z45: 4667 | AA45: 1.1732147 | AB45: 0.7657662
A46: 高雄市 | B46: Kaohsiung City | C46: 14430 | D46: 9028 | E46: 5402 | F46: 26527 | G46: 14507 | H46: 12020 | I46: 57 | J46: 38 | K46: 19 | L46: 58 | M46: 39 | N46: 19 | O46: 7089 | P46: 4727 | Q46: 2362 | R46: 9024 | S46: 5669 | T46: 3355 | U46: 7284 | V46: 4263 | W46: 3021 | X46: 17445 | Y46: 8799 | Z46: 8646 | AA46: 1.2468849 | AB46: 0.96995895
A47: 宜蘭縣 | B47: Yilan County | C47: 2896 | D47: 1812 | E47: 1084 | F47: 5124 | G47: 2859 | H47: 2265 | I47: 7 | J47: 6 | K47: 1 | L47: 7 | M47: 6 | N47: 1 | O47: 238 | P47: 166 | Q47: 72 | R47: 330 | S47: 217 | T47: 113 | U47: 2651 | V47: 1640 | W47: 1011 | X47: 4787 | Y47: 2636 | Z47: 2151 | AA47: 1.6102845 | AB47: 1.1401311
A48: 新竹縣 | B48: Hsinchu County | C48: 1904 | D48: 1240 | E48: 664 | F48: 3843 | G48: 2141 | H48: 1702 | I48: 2 | J48: 2 | K48: 0 | L48: 2 | M48: 2 | N48: 0 | O48: 224 | P48: 166 | Q48: 58 | R48: 319 | S48: 215 | T48: 104 | U48: 1678 | V48: 1072 | W48: 606 | X48: 3522 | Y48: 1924 | Z48: 1598 | AA48: 0.85080903 | AB48: 0.64936052
A49: 苗栗縣 | B49: Miaoli County | C49: 2811 | D49: 1849 | E49: 962 | F49: 5024 | G49: 2862 | H49: 2162 | I49: 1 | J49: 1 | K49: 0 | L49: 1 | M49: 1 | N49: 0 | O49: 1012 | P49: 736 | Q49: 276 | R49: 1374 | S49: 921 | T49: 453 | U49: 1798 | V49: 1112 | W49: 686 | X49: 3649 | Y49: 1940 | Z49: 1709 | AA49: 1.3983961 | AB49: 0.94158923
A50: 彰化縣 | B50: Changhua County | C50: 7820 | D50: 5039 | E50: 2781 | F50: 12490 | G50: 7257 | H50: 5233 | I50: 4 | J50: 3 | K50: 1 | L50: 4 | M50: 3 | N50: 1 | O50: 99 | P50: 67 | Q50: 32 | R50: 155 | S50: 99 | T50: 56 | U50: 7717 | V50: 4969 | W50: 2748 | X50: 12331 | Y50: 7155 | Z50: 5176 | AA50: 1.9156853 | AB50: 1.0136407
A51: 南投縣 | B51: Nantou County | C51: 2466 | D51: 1749 | E51: 717 | F51: 4001 | G51: 2441 | H51: 1560 | I51: 1 | J51: 1 | K51: 0 | L51: 1 | M51: 1 | N51: 0 | O51: 123 | P51: 87 | Q51: 36 | R51: 167 | S51: 109 | T51: 58 | U51: 2342 | V51: 1661 | W51: 681 | X51: 3833 | Y51: 2331 | Z51: 1502 | AA51: 1.3610774 | AB51: 0.84267592
... A62: 連江縣 | B62: Lienchiang County | C62: 48 | D62: 33 | E62: 15 | F62: 95 | G62: 50 | H62: 45 | I62: 12 | J62: 9 | K62: 3 | L62: 12 | M62: 9 | N62: 3 | O62: 17 | P62: 13 | Q62: 4 | R62: 31 | S62: 22 | T62: 9 | U62: 19 | V62: 11 | W62: 8 | X62: 52 | Y62: 19 | Z62: 33 | AA62: 1.2823938 | AB62: 0.68007731
A63: 資料來源：直轄市、縣﹝市﹞政府。
A64: Source : County and City Government.
A67: 中華民國113年第3季底 , 2024 Q3
A68: 地區別 Locality | C68: 總計 Grand Total | I68: 第1款(省、新北、臺中、臺南)、第0類(臺北)、第1類(高雄) Class 1 | O68: 第2款(省、新北、臺中、臺南)、第1、2類(臺北)、第2類(高雄) Class 2 | U68: 第3款(省、新北、臺中、臺南)、第3、4類(臺北、高雄) Class 3 | AA68: 低收入戶戶數占總戶數比率(%) Rate of Households (%) | AB68: 低收入戶人數占總人數比率(%) Rate of Persons (%)
C69: 戶數(戶長性別) Households | F69: 人數 Persons | I69: 戶數 Households | L69: 人數 Persons | O69: 戶數 Households | R69: 人數 Persons | U69: 戶數 Households | X69: 人數 Persons
C70: 計 | D70: 男 | E70: 女 | F70: 計 | G70: 男 | H70: 女 | I70: 計 | J70: 男 | K70: 女 | L70: 計 | M70: 男 | N70: 女 | O70: 計 | P70: 男 | Q70: 女 | R70: 計 | S70: 男 | T70: 女 | U70: 計 | V70: 男 | W70: 女 | X70: 計 | Y70: 男 | Z70: 女
C71: Sub-Total | D71: Male | E71: Female | F71: Sub-Total | G71: Male | H71: Female | I71: Sub-Total | J71: Male | K71: Female | L71: Sub-Total | M71: Male | N71: Female | O71: Sub-Total | P71: Male | Q71: Female | R71: Sub-Total | S71: Male | T71: Female | U71: Sub-Total | V71: Male | W71: Female | X71: Sub-Total | Y71: Male | Z71: Female
A72: 總 計 | B72: Total | C72: 141019 | D72: 86910 | E72: 54109 | F72: 261900 | G72: 143209 | H72: 118691 | I72: 2396 | J72: 1714 | K72: 682 | L72: 2461 | M72: 1748 | N72: 713 | O72: 36361 | P72: 24292 | Q72: 12069 | R72: 48679 | S72: 30156 | T72: 18523 | U72: 102262 | V72: 60904 | W72: 41358 | X72: 210760 | Y72: 111305 | Z72: 99455 | AA72: 1.5035581 | AB72: 1.1190329
A73: 新北市 | B73: New Taipei City | C73: 16685 | D73: 10200 | E73: 6485 | F73: 29961 | G73: 16230 | H73: 13731 | I73: 77 | J73: 62 | K73: 15 | L73: 84 | M73: 65 | N73: 19 | O73: 1460 | P73: 969 | Q73: 491 | R73: 2100 | S73: 1277 | T73: 823 | U73: 15148 | V73: 9169 | W73: 5979 | X73: 27777 | Y73: 14888 | Z73: 12889 | AA73: 0.98114912 | AB73: 0.74050512
A74: 臺北市 | B74: Taipei City | C74: 21038 | D74: 11499 | E74: 9539 | F74: 40400 | G74: 20523 | H74: 19877 | I74: 1290 | J74: 896 | K74: 394 | L74: 1324 | M74: 911 | N74: 413 | O74: 6897 | P74: 4254 | Q74: 2643 | R74: 8541 | S74: 5020 | T74: 3521 | U74: 12851 | V74: 6349 | W74: 6502 | X74: 30535 | Y74: 14592 | Z74: 15943 | AA74: 1.9650168 | AB74: 1.6171579
A75: 桃園市 | B75: Taoyuan City | C75: 12329 | D75: 7259 | E75: 5070 | F75: 27261 | G75: 14204 | H75: 13057 | I75: 68 | J75: 53 | K75: 15 | L75: 69 | M75: 53 | N75: 16 | O75: 1510 | P75: 1028 | Q75: 482 | R75: 2373 | S75: 1467 | T75: 906 | U75: 10751 | V75: 6178 | W75: 4573 | X75: 24819 | Y75: 12684 | Z75: 12135 | AA75: 1.3302174 | AB75: 1.1684965
A76: 臺中市 | B76: Taichung City | C76: 19754 | D76: 11509 | E76: 8245 | F76: 40216 | G76: 21154 | H76: 19062 | I76: 523 | J76: 387 | K76: 136 | L76: 538 | M76: 397 | N76: 141 | O76: 7631 | P76: 4922 | Q76: 2709 | R76: 11323 | S76: 6678 | T76: 4645 | U76: 11600 | V76: 6200 | W76: 5400 | X76: 28355 | Y76: 14079 | Z76: 14276 | AA76: 1.8266504 | AB76: 1.4087048
A77: 臺南市 | B77: Tainan City | C77: 8592 | D77: 5803 | E77: 2789 | F77: 14203 | G77: 8416 | H77: 5787 | I77: 156 | J77: 103 | K77: 53 | L77: 158 | M77: 104 | N77: 54 | O77: 2850 | P77: 2036 | Q77: 814 | R77: 3341 | S77: 2271 | T77: 1070 | U77: 5586 | V77: 3664 | W77: 1922 | X77: 10704 | Y77: 6041 | Z77: 4663 | AA77: 1.1639012 | AB77: 0.76400757
A78: 高雄市 | B78: Kaohsiung City | C78: 14346 | D78: 8968 | E78: 5378 | F78: 26006 | G78: 14256 | H78: 11750 | I78: 56 | J78: 37 | K78: 19 | L78: 57 | M78: 38 | N78: 19 | O78: 7097 | P78: 4737 | Q78: 2360 | R78: 8977 | S78: 5652 | T78: 3325 | U78: 7193 | V78: 4194 | W78: 2999 | X78: 16972 | Y78: 8566 | Z78: 8406 | AA78: 1.2311775 | AB78: 0.95162297
A79: 宜蘭縣 | B79: Yilan County | C79: 2874 | D79: 1796 | E79: 1078 | F79: 5034 | G79: 2810 | H79: 2224 | I79: 7 | J79: 5 | K79: 2 | L79: 7 | M79: 5 | N79: 2 | O79: 232 | P79: 160 | Q79: 72 | R79: 320 | S79: 208 | T79: 112 | U79: 2635 | V79: 1631 | W79: 1004 | X79: 4707 | Y79: 2597 | Z79: 2110 | AA79: 1.5844226 | AB79: 1.1208037
A80: 新竹縣 | B80: Hsinchu County | C80: 1925 | D80: 1249 | E80: 676 | F80: 3881 | G80: 2152 | H80: 1729 | I80: 2 | J80: 2 | K80: 0 | L80: 2 | M80: 2 | N80: 0 | O80: 223 | P80: 162 | Q80: 61 | R80: 323 | S80: 215 | T80: 108 | U80: 1700 | V80: 1085 | W80: 615 | X80: 3556 | Y80: 1935 | Z80: 1621 | AA80: 0.85068209 | AB80: 0.65435846
A81: 苗栗縣 | B81: Miaoli County | C81: 2832 | D81: 1858 | E81: 974 | F81: 5053 | G81: 2867 | H81: 2186 | I81: 1 | J81: 1 | K81: 0 | L81: 1 | M81: 1 | N81: 0 | O81: 1022 | P81: 736 | Q81: 286 | R81: 1387 | S81: 920 | T81: 467 | U81: 1809 | V81: 1121 | W81: 688 | X81: 3665 | Y81: 1946 | Z81: 1719 | AA81: 1.4009607 | AB81: 0.94764065
A82: 彰化縣 | B82: Changhua County | C82: 7840 | D82: 5030 | E82: 2810 | F82: 12580 | G82: 7276 | H82: 5304 | I82: 4 | J82: 3 | K82: 1 | L82: 4 | M82: 3 | N82: 1 | O82: 98 | P82: 65 | Q82: 33 | R82: 155 | S82: 96 | T82: 59 | U82: 7738 | V82: 4962 | W82: 2776 | X82: 12421 | Y82: 7177 | Z82: 5244 | AA82: 1.9037305 | AB82: 1.0239197
A83: 南投縣 | B83: Nantou County | C83: 2479 | D83: 1757 | E83: 722 | F83: 4009 | G83: 2449 | H83: 1560 | I83: 1 | J83: 1 | K83: 0 | L83: 1 | M83: 1 | N83: 0 | O83: 123 | P83: 88 | Q83: 35 | R83: 171 | S83: 111 | T83: 60 | U83: 2355 | V83: 1668 | W83: 687 | X83: 3837 | Y83: 2337 | Z83: 1500 | AA83: 1.3624248 | AB83: 0.84691517
... A94: 連江縣 | B94: Lienchiang County | C94: 46 | D94: 32 | E94: 14 | F94: 93 | G94: 49 | H94: 44 | I94: 11 | J94: 9 | K94: 2 | L94: 11 | M94: 9 | N94: 2 | O94: 16 | P94: 12 | Q94: 4 | R94: 30 | S94: 21 | T94: 9 | U94: 19 | V94: 11 | W94: 8 | X94: 52 | Y94: 19 | Z94: 33 | AA94: 1.2067156 | AB94: 0.66547406
A95: 資料來源：直轄市、縣﹝市﹞政府。
A96: Source : County and City Government.
A99: 中華民國113年第4季底 , 2024 Q4
A100: 地區別 Locality | C100: 總計 Grand Total | I100: 第1款(省、新北、臺中、臺南)、第0類(臺北)、第1類(高雄) Class 1 | O100: 第2款(省、新北、臺中、臺南)、第1、2類(臺北)、第2類(高雄) Class 2 | U100: 第3款(省、新北、臺中、臺南)、第3、4類(臺北、高雄) Class 3 | AA100: 低收入戶戶數占總戶數比率(%) Rate of Households (%) | AB100: 低收入戶人數占總人數比率(%) Rate of Persons (%)
C101: 戶數(戶長性別) Households | F101: 人數 Persons | I101: 戶數 Households | L101: 人數 Persons | O101: 戶數 Households | R101: 人數 Persons | U101: 戶數 Households | X101: 人數 Persons
C102: 計 | D102: 男 | E102: 女 | F102: 計 | G102: 男 | H102: 女 | I102: 計 | J102: 男 | K102: 女 | L102: 計 | M102: 男 | N102: 女 | O102: 計 | P102: 男 | Q102: 女 | R102: 計 | S102: 男 | T102: 女 | U102: 計 | V102: 男 | W102: 女 | X102: 計 | Y102: 男 | Z102: 女
C103: Sub-Total | D103: Male | E103: Female | F103: Sub-Total | G103: Male | H103: Female | I103: Sub-Total | J103: Male | K103: Female | L103: Sub-Total | M103: Male | N103: Female | O103: Sub-Total | P103: Male | Q103: Female | R103: Sub-Total | S103: Male | T103: Female | U103: Sub-Total | V103: Male | W103: Female | X103: Sub-Total | Y103: Male | Z103: Female
A104: 總 計 | B104: Total | C104: 141947 | D104: 87255 | E104: 54692 | F104: 263294 | G104: 143816 | H104: 119478 | I104: 2354 | J104: 1685 | K104: 669 | L104: 2416 | M104: 1716 | N104: 700 | O104: 36313 | P104: 24187 | Q104: 12126 | R104: 48617 | S104: 30076 | T104: 18541 | U104: 103280 | V104: 61383 | W104: 41897 | X104: 212261 | Y104: 112024 | Z104: 100237 | AA104: 1.4961507 | AB104: 1.1251775
A105: 新北市 | B105: New Taipei City | C105: 16952 | D105: 10352 | E105: 6600 | F105: 30456 | G105: 16477 | H105: 13979 | I105: 74 | J105: 60 | K105: 14 | L105: 81 | M105: 63 | N105: 18 | O105: 1558 | P105: 1027 | Q105: 531 | R105: 2248 | S105: 1361 | T105: 887 | U105: 15320 | V105: 9265 | W105: 6055 | X105: 28127 | Y105: 15053 | Z105: 13074 | AA105: 0.98683502 | AB105: 0.75255726
A106: 臺北市 | B106: Taipei City | C106: 21202 | D106: 11559 | E106: 9643 | F106: 40678 | G106: 20639 | H106: 20039 | I106: 1269 | J106: 880 | K106: 389 | L106: 1300 | M106: 893 | N106: 407 | O106: 6921 | P106: 4268 | Q106: 2653 | R106: 8584 | S106: 5048 | T106: 3536 | U106: 13012 | V106: 6411 | W106: 6601 | X106: 30794 | Y106: 14698 | Z106: 16096 | AA106: 1.9787343 | AB106: 1.6330847
A107: 桃園市 | B107: Taoyuan City | C107: 12338 | D107: 7241 | E107: 5097 | F107: 27220 | G107: 14151 | H107: 13069 | I107: 70 | J107: 54 | K107: 16 | L107: 71 | M107: 54 | N107: 17 | O107: 1522 | P107: 1029 | Q107: 493 | R107: 2394 | S107: 1472 | T107: 922 | U107: 10746 | V107: 6158 | W107: 4588 | X107: 24755 | Y107: 12625 | Z107: 12130 | AA107: 1.3151864 | AB107: 1.1639204
A108: 臺中市 | B108: Taichung City | C108: 19916 | D108: 11577 | E108: 8339 | F108: 40396 | G108: 21248 | H108: 19148 | I108: 519 | J108: 385 | K108: 134 | L108: 532 | M108: 394 | N108: 138 | O108: 7652 | P108: 4912 | Q108: 2740 | R108: 11271 | S108: 6649 | T108: 4622 | U108: 11745 | V108: 6280 | W108: 5465 | X108: 28593 | Y108: 14205 | Z108: 14388 | AA108: 1.7973999 | AB108: 1.4121508
A109: 臺南市 | B109: Tainan City | C109: 8208 | D109: 5547 | E109: 2661 | F109: 13343 | G109: 7976 | H109: 5367 | I109: 145 | J109: 96 | K109: 49 | L109: 147 | M109: 97 | N109: 50 | O109: 2629 | P109: 1870 | Q109: 759 | R109: 3083 | S109: 2087 | T109: 996 | U109: 5434 | V109: 3581 | W109: 1853 | X109: 10113 | Y109: 5792 | Z109: 4321 | AA109: 1.1000734 | AB109: 0.71788625
A110: 高雄市 | B110: Kaohsiung City | C110: 14477 | D110: 9048 | E110: 5429 | F110: 26239 | G110: 14391 | H110: 11848 | I110: 58 | J110: 39 | K110: 19 | L110: 61 | M110: 40 | N110: 21 | O110: 7124 | P110: 4758 | Q110: 2366 | R110: 9010 | S110: 5678 | T110: 3332 | U110: 7295 | V110: 4251 | W110: 3044 | X110: 17168 | Y110: 8673 | Z110: 8495 | AA110: 1.2323421 | AB110: 0.96063867
A111: 宜蘭縣 | B111: Yilan County | C111: 2967 | D111: 1843 | E111: 1124 | F111: 5173 | G111: 2896 | H111: 2277 | I111: 5 | J111: 4 | K111: 1 | L111: 5 | M111: 4 | N111: 1 | O111: 243 | P111: 165 | Q111: 78 | R111: 342 | S111: 220 | T111: 122 | U111: 2719 | V111: 1674 | W111: 1045 | X111: 4826 | Y111: 2672 | Z111: 2154 | AA111: 1.6138858 | AB111: 1.1515721
A112: 新竹縣 | B112: Hsinchu County | C112: 1968 | D112: 1266 | E112: 702 | F112: 3961 | G112: 2188 | H112: 1773 | I112: 2 | J112: 2 | K112: 0 | L112: 2 | M112: 2 | N112: 0 | O112: 221 | P112: 159 | Q112: 62 | R112: 326 | S112: 215 | T112: 111 | U112: 1745 | V112: 1105 | W112: 640 | X112: 3633 | Y112: 1971 | Z112: 1662 | AA112: 0.8552766 | AB112: 0.66611619
A113: 苗栗縣 | B113: Miaoli County | C113: 2870 | D113: 1887 | E113: 983 | F113: 5111 | G113: 2894 | H113: 2217 | I113: 1 | J113: 1 | K113: 0 | L113: 1 | M113: 1 | N113: 0 | O113: 1023 | P113: 736 | Q113: 287 | R113: 1392 | S113: 921 | T113: 471 | U113: 1846 | V113: 1150 | W113: 696 | X113: 3718 | Y113: 1972 | Z113: 1746 | AA113: 1.4016615 | AB113: 0.95917456
A114: 彰化縣 | B114: Changhua County | C114: 7866 | D114: 5025 | E114: 2841 | F114: 12670 | G114: 7301 | H114: 5369 | I114: 5 | J114: 3 | K114: 2 | L114: 5 | M114: 3 | N114: 2 | O114: 93 | P114: 61 | Q114: 32 | R114: 149 | S114: 92 | T114: 57 | U114: 7768 | V114: 4961 | W114: 2807 | X114: 12516 | Y114: 7206 | Z114: 5310 | AA114: 1.8690123 | AB114: 1.0337161
A115: 南投縣 | B115: Nantou County | C115: 2488 | D115: 1769 | E115: 719 | F115: 4017 | G115: 2462 | H115: 1555 | I115: 1 | J115: 1 | K115: 0 | L115: 1 | M115: 1 | N115: 0 | O115: 118 | P115: 85 | Q115: 33 | R115: 165 | S115: 107 | T115: 58 | U115: 2369 | V115: 1683 | W115: 686 | X115: 3851 | Y115: 2354 | Z115: 1497 | AA115: 1.3514908 | AB115: 0.85052054
... A126: 連江縣 | B126: Lienchiang County | C126: 44 | D126: 29 | E126: 15 | F126: 91 | G126: 46 | H126: 45 | I126: 11 | J126: 9 | K126: 2 | L126: 11 | M126: 9 | N126: 2 | O126: 15 | P126: 11 | Q126: 4 | R126: 29 | S126: 20 | T126: 9 | U126: 18 | V126: 9 | W126: 9 | X126: 51 | Y126: 17 | Z126: 34 | AA126: 1.1293634 | AB126: 0.65232975
A127: 資料來源：直轄市、縣﹝市﹞政府。
A128: Source : County and City Government.

Sheet 2023
A2: 低收入戶戶數及人數 Number and Population of Low-Income Households
A3: 中華民國112年第1季底 , 2023Q1
A4: 地區別 Locality | C4: 總計 Grand Total | I4: 第1款(省、新北、臺中、臺南)、第0類(臺北)、第1類(高雄) Class 1 | O4: 第2款(省、新北、臺中、臺南)、第1、2類(臺北)、第2類(高雄) Class 2 | U4: 第3款(省、新北、臺中、臺南)、第3、4類(臺北、高雄) Class 3 | AA4: 低收入戶戶數占總戶數比率(%) Rate of Households (%) | AB4: 低收入戶人數占總人數比率(%) Rate of Persons (%)
C5: 戶數(戶長性別) Households | F5: 人數 Persons | I5: 戶數 Households | L5: 人數 Persons | O5: 戶數 Households | R5: 人數 Persons | U5: 戶數 Households | X5: 人數 Persons
C6: 計 | D6: 男 | E6: 女 | F6: 計 | G6: 男 | H6: 女 | I6: 計 | J6: 男 | K6: 女 | L6: 計 | M6: 男 | N6: 女 | O6: 計 | P6: 男 | Q6: 女 | R6: 計 | S6: 男 | T6: 女 | U6: 計 | V6: 男 | W6: 女 | X6: 計 | Y6: 男 | Z6: 女
C7: Sub-Total | D7: Male | E7: Female | F7: Sub-Total | G7: Male | H7: Female | I7: Sub-Total | J7: Male | K7: Female | L7: Sub-Total | M7: Male | N7: Female | O7: Sub-Total | P7: Male | Q7: Female | R7: Sub-Total | S7: Male | T7: Female | U7: Sub-Total | V7: Male | W7: Female | X7: Sub-Total | Y7: Male | Z7: Female
A8: 總 計 | B8: Total | C8: 142607 | D8: 88110 | E8: 54497 | F8: 276649 | G8: 150200 | H8: 126449 | I8: 2409 | J8: 1733 | K8: 676 | L8: 2479 | M8: 1776 | N8: 703 | O8: 34944 | P8: 23535 | Q8: 11409 | R8: 48421 | S8: 29904 | T8: 18517 | U8: 105254 | V8: 62842 | W8: 42412 | X8: 225749 | Y8: 118520 | Z8: 107229 | AA8: 1.5621464 | AB8: 1.1856591
A9: 新北市 | B9: New Taipei City | C9: 17242 | D9: 10538 | E9: 6704 | F9: 32550 | G9: 17504 | H9: 15046 | I9: 67 | J9: 57 | K9: 10 | L9: 75 | M9: 61 | N9: 14 | O9: 1250 | P9: 823 | Q9: 427 | R9: 1930 | S9: 1144 | T9: 786 | U9: 15925 | V9: 9658 | W9: 6267 | X9: 30545 | Y9: 16299 | Z9: 14246 | AA9: 1.0465211 | AB9: 0.8109807
A10: 臺北市 | B10: Taipei City | C10: 21124 | D10: 11690 | E10: 9434 | F10: 42021 | G10: 21466 | H10: 20555 | I10: 1432 | J10: 1021 | K10: 411 | L10: 1474 | M10: 1044 | N10: 430 | O10: 6451 | P10: 4053 | Q10: 2398 | R10: 8038 | S10: 4795 | T10: 3243 | U10: 13241 | V10: 6616 | W10: 6625 | X10: 32509 | Y10: 15627 | Z10: 16882 | AA10: 2.0008582 | AB10: 1.6843347
A11: 桃園市 | B11: Taoyuan City | C11: 12214 | D11: 7176 | E11: 5038 | F11: 28273 | G11: 14605 | H11: 13668 | I11: 63 | J11: 44 | K11: 19 | L11: 65 | M11: 45 | N11: 20 | O11: 1356 | P11: 908 | Q11: 448 | R11: 2315 | S11: 1390 | T11: 925 | U11: 10795 | V11: 6224 | W11: 4571 | X11: 25893 | Y11: 13170 | Z11: 12723 | AA11: 1.3801941 | AB11: 1.2327399
A12: 臺中市 | B12: Taichung City | C12: 19931 | D12: 11584 | E12: 8347 | F12: 42439 | G12: 22135 | H12: 20304 | I12: 403 | J12: 290 | K12: 113 | L12: 411 | M12: 297 | N12: 114 | O12: 7199 | P12: 4674 | Q12: 2525 | R12: 11101 | S12: 6518 | T12: 4583 | U12: 12329 | V12: 6620 | W12: 5709 | X12: 30927 | Y12: 15320 | Z12: 15607 | AA12: 1.9150686 | AB12: 1.5016117
A13: 臺南市 | B13: Tainan City | C13: 9052 | D13: 6097 | E13: 2955 | F13: 15751 | G13: 9149 | H13: 6602 | I13: 178 | J13: 122 | K13: 56 | L13: 180 | M13: 123 | N13: 57 | O13: 2990 | P13: 2131 | Q13: 859 | R13: 3641 | S13: 2442 | T13: 1199 | U13: 5884 | V13: 3844 | W13: 2040 | X13: 11930 | Y13: 6584 | Z13: 5346 | AA13: 1.2592072 | AB13: 0.84835957
A14: 高雄市 | B14: Kaohsiung City | C14: 14719 | D14: 9229 | E14: 5490 | F14: 28162 | G14: 15199 | H14: 12963 | I14: 56 | J14: 32 | K14: 24 | L14: 59 | M14: 35 | N14: 24 | O14: 6853 | P14: 4571 | Q14: 2282 | R14: 8951 | S14: 5562 | T14: 3389 | U14: 7810 | V14: 4626 | W14: 3184 | X14: 19152 | Y14: 9602 | Z14: 9550 | AA14: 1.290649 | AB14: 1.0300794
A15: 宜蘭縣 | B15: Yilan County | C15: 2786 | D15: 1765 | E15: 1021 | F15: 5039 | G15: 2824 | H15: 2215 | I15: 6 | J15: 5 | K15: 1 | L15: 6 | M15: 5 | N15: 1 | O15: 250 | P15: 178 | Q15: 72 | R15: 360 | S15: 236 | T15: 124 | U15: 2530 | V15: 1582 | W15: 948 | X15: 4673 | Y15: 2583 | Z15: 2090 | AA15: 1.5775407 | AB15: 1.1209984
A16: 新竹縣 | B16: Hsinchu County | C16: 1831 | D16: 1173 | E16: 658 | F16: 3846 | G16: 2080 | H16: 1766 | I16: 4 | J16: 4 | K16: 0 | L16: 4 | M16: 4 | N16: 0 | O16: 250 | P16: 188 | Q16: 62 | R16: 362 | S16: 241 | T16: 121 | U16: 1577 | V16: 981 | W16: 596 | X16: 3480 | Y16: 1835 | Z16: 1645 | AA16: 0.84384491 | AB16: 0.65805008
A17: 苗栗縣 | B17: Miaoli County | C17: 2958 | D17: 1948 | E17: 1010 | F17: 5430 | G17: 3080 | H17: 2350 | I17: 1 | J17: 1 | K17: 0 | L17: 1 | M17: 1 | N17: 0 | O17: 1093 | P17: 807 | Q17: 286 | R17: 1560 | S17: 1037 | T17: 523 | U17: 1864 | V17: 1140 | W17: 724 | X17: 3869 | Y17: 2042 | Z17: 1827 | AA17: 1.4977594 | AB17: 1.015124
A18: 彰化縣 | B18: Changhua County | C18: 7450 | D18: 4824 | E18: 2626 | F18: 12107 | G18: 6994 | H18: 5113 | I18: 3 | J18: 3 | K18: 0 | L18: 3 | M18: 3 | N18: 0 | O18: 82 | P18: 58 | Q18: 24 | R18: 125 | S18: 82 | T18: 43 | U18: 7365 | V18: 4763 | W18: 2602 | X18: 11979 | Y18: 6909 | Z18: 5070 | AA18: 1.8474892 | AB18: 0.97311574
A19: 南投縣 | B19: Nantou County | C19: 2469 | D19: 1750 | E19: 719 | F19: 4092 | G19: 2477 | H19: 1615 | I19: 3 | J19: 1 | K19: 2 | L19: 3 | M19: 1 | N19: 2 | O19: 110 | P19: 79 | Q19: 31 | R19: 174 | S19: 106 | T19: 68 | U19: 2356 | V19: 1670 | W19: 686 | X19: 3915 | Y19: 2370 | Z19: 1545 | AA19: 1.3718877 | AB19: 0.85384481
... A30: 連江縣 | B30: Lienchiang County | C30: 52 | D30: 37 | E30: 15 | F30: 90 | G30: 53 | H30: 37 | I30: 15 | J30: 11 | K30: 4 | L30: 15 | M30: 11 | N30: 4 | O30: 17 | P30: 13 | Q30: 4 | R30: 27 | S30: 17 | T30: 10 | U30: 20 | V30: 13 | W30: 7 | X30: 48 | Y30: 25 | Z30: 23 | AA30: 1.416122 | AB30: 0.64336264
A31: 資料來源：直轄市、縣﹝市﹞政府。
A32: Source : County and City Government.
A35: 中華民國112年第2季底 , 2023 Q2
A36: 地區別 Locality | C36: 總計 Grand Total | I36: 第1款(省、新北、臺中、臺南)、第0類(臺北)、第1類(高雄) Class 1 | O36: 第2款(省、新北、臺中、臺南)、第1、2類(臺北)、第2類(高雄) Class 2 | U36: 第3款(省、新北、臺中、臺南)、第3、4類(臺北、高雄) Class 3 | AA36: 低收入戶戶數占總戶數比率(%) Rate of Households (%) | AB36: 低收入戶人數占總人數比率(%) Rate of Persons (%)
C37: 戶數(戶長性別) Households | F37: 人數 Persons | I37: 戶數 Households | L37: 人數 Persons | O37: 戶數 Households | R37: 人數 Persons | U37: 戶數 Households | X37: 人數 Persons
C38: 計 | D38: 男 | E38: 女 | F38: 計 | G38: 男 | H38: 女 | I38: 計 | J38: 男 | K38: 女 | L38: 計 | M38: 男 | N38: 女 | O38: 計 | P38: 男 | Q38: 女 | R38: 計 | S38: 男 | T38: 女 | U38: 計 | V38: 男 | W38: 女 | X38: 計 | Y38: 男 | Z38: 女
C39: Sub-Total | D39: Male | E39: Female | F39: Sub-Total | G39: Male | H39: Female | I39: Sub-Total | J39: Male | K39: Female | L39: Sub-Total | M39: Male | N39: Female | O39: Sub-Total | P39: Male | Q39: Female | R39: Sub-Total | S39: Male | T39: Female | U39: Sub-Total | V39: Male | W39: Female | X39: Sub-Total | Y39: Male | Z39: Female
A40: 總 計 | B40: Total | C40: 144628 | D40: 89196 | E40: 55432 | F40: 279945 | G40: 151884 | H40: 128061 | I40: 2382 | J40: 1702 | K40: 680 | L40: 2453 | M40: 1745 | N40: 708 | O40: 35294 | P40: 23710 | Q40: 11584 | R40: 48769 | S40: 30089 | T40: 18680 | U40: 106952 | V40: 63784 | W40: 43168 | X40: 228723 | Y40: 120050 | Z40: 108673 | AA40: 1.5754092 | AB40: 1.1967337
A41: 新北市 | B41: New Taipei City | C41: 17592 | D41: 10727 | E41: 6865 | F41: 33088 | G41: 17766 | H41: 15322 | I41: 66 | J41: 56 | K41: 10 | L41: 74 | M41: 60 | N41: 14 | O41: 1303 | P41: 858 | Q41: 445 | R41: 1997 | S41: 1182 | T41: 815 | U41: 16223 | V41: 9813 | W41: 6410 | X41: 31017 | Y41: 16524 | Z41: 14493 | AA41: 1.0606823 | AB41: 0.82078638
A42: 臺北市 | B42: Taipei City | C42: 21351 | D42: 11772 | E42: 9579 | F42: 42397 | G42: 21626 | H42: 20771 | I42: 1416 | J42: 1001 | K42: 415 | L42: 1459 | M42: 1024 | N42: 435 | O42: 6521 | P42: 4082 | Q42: 2439 | R42: 8136 | S42: 4834 | T42: 3302 | U42: 13414 | V42: 6689 | W42: 6725 | X42: 32802 | Y42: 15768 | Z42: 17034 | AA42: 2.0133127 | AB42: 1.6910483
A43: 桃園市 | B43: Taoyuan City | C43: 12422 | D43: 7283 | E43: 5139 | F43: 28650 | G43: 14790 | H43: 13860 | I43: 64 | J43: 45 | K43: 19 | L43: 66 | M43: 46 | N43: 20 | O43: 1379 | P43: 929 | Q43: 450 | R43: 2328 | S43: 1413 | T43: 915 | U43: 10979 | V43: 6309 | W43: 4670 | X43: 26256 | Y43: 13331 | Z43: 12925 | AA43: 1.3903486 | AB43: 1.2421068
A44: 臺中市 | B44: Taichung City | C44: 20148 | D44: 11686 | E44: 8462 | F44: 42763 | G44: 22271 | H44: 20492 | I44: 403 | J44: 288 | K44: 115 | L44: 411 | M44: 295 | N44: 116 | O44: 7265 | P44: 4710 | Q44: 2555 | R44: 11160 | S44: 6558 | T44: 4602 | U44: 12480 | V44: 6688 | W44: 5792 | X44: 31192 | Y44: 15418 | Z44: 15774 | AA44: 1.9197347 | AB44: 1.5070369
A45: 臺南市 | B45: Tainan City | C45: 9077 | D45: 6115 | E45: 2962 | F45: 15734 | G45: 9156 | H45: 6578 | I45: 174 | J45: 118 | K45: 56 | L45: 176 | M45: 119 | N45: 57 | O45: 2969 | P45: 2114 | Q45: 855 | R45: 3605 | S45: 2416 | T45: 1189 | U45: 5934 | V45: 3883 | W45: 2051 | X45: 11953 | Y45: 6621 | Z45: 5332 | AA45: 1.2565791 | AB45: 0.84626477
A46: 高雄市 | B46: Kaohsiung City | C46: 14908 | D46: 9313 | E46: 5595 | F46: 28503 | G46: 15369 | H46: 13134 | I46: 54 | J46: 31 | K46: 23 | L46: 57 | M46: 34 | N46: 23 | O46: 6953 | P46: 4624 | Q46: 2329 | R46: 9077 | S46: 5631 | T46: 3446 | U46: 7901 | V46: 4658 | W46: 3243 | X46: 19369 | Y46: 9704 | Z46: 9665 | AA46: 1.3016347 | AB46: 1.0412823
A47: 宜蘭縣 | B47: Yilan County | C47: 2860 | D47: 1804 | E47: 1056 | F47: 5127 | G47: 2872 | H47: 2255 | I47: 6 | J47: 5 | K47: 1 | L47: 6 | M47: 5 | N47: 1 | O47: 248 | P47: 173 | Q47: 75 | R47: 349 | S47: 229 | T47: 120 | U47: 2606 | V47: 1626 | W47: 980 | X47: 4772 | Y47: 2638 | Z47: 2134 | AA47: 1.6117125 | AB47: 1.1393941
A48: 新竹縣 | B48: Hsinchu County | C48: 1863 | D48: 1194 | E48: 669 | F48: 3937 | G48: 2129 | H48: 1808 | I48: 3 | J48: 3 | K48: 0 | L48: 3 | M48: 3 | N48: 0 | O48: 245 | P48: 181 | Q48: 64 | R48: 356 | S48: 234 | T48: 122 | U48: 1615 | V48: 1010 | W48: 605 | X48: 3578 | Y48: 1892 | Z48: 1686 | AA48: 0.85159096 | AB48: 0.67062421
A49: 苗栗縣 | B49: Miaoli County | C49: 2978 | D49: 1958 | E49: 1020 | F49: 5467 | G49: 3103 | H49: 2364 | I49: 1 | J49: 1 | K49: 0 | L49: 1 | M49: 1 | N49: 0 | O49: 1091 | P49: 800 | Q49: 291 | R49: 1555 | S49: 1030 | T49: 525 | U49: 1886 | V49: 1157 | W49: 729 | X49: 3911 | Y49: 2072 | Z49: 1839 | AA49: 1.5015681 | AB49: 1.0219303
A50: 彰化縣 | B50: Changhua County | C50: 7610 | D50: 4930 | E50: 2680 | F50: 12374 | G50: 7162 | H50: 5212 | I50: 3 | J50: 3 | K50: 0 | L50: 3 | M50: 3 | N50: 0 | O50: 86 | P50: 62 | Q50: 24 | R50: 131 | S50: 87 | T50: 44 | U50: 7521 | V50: 4865 | W50: 2656 | X50: 12240 | Y50: 7072 | Z50: 5168 | AA50: 1.8806748 | AB50: 0.99588575
A51: 南投縣 | B51: Nantou County | C51: 2550 | D51: 1808 | E51: 742 | F51: 4234 | G51: 2569 | H51: 1665 | I51: 3 | J51: 1 | K51: 2 | L51: 3 | M51: 1 | N51: 2 | O51: 117 | P51: 85 | Q51: 32 | R51: 178 | S51: 111 | T51: 67 | U51: 2430 | V51: 1722 | W51: 708 | X51: 4053 | Y51: 2457 | Z51: 1596 | AA51: 1.4146233 | AB51: 0.88515556
... A62: 連江縣 | B62: Lienchiang County | C62: 50 | D62: 35 | E62: 15 | F62: 88 | G62: 51 | H62: 37 | I62: 14 | J62: 10 | K62: 4 | L62: 14 | M62: 10 | N62: 4 | O62: 16 | P62: 12 | Q62: 4 | R62: 26 | S62: 16 | T62: 10 | U62: 20 | V62: 13 | W62: 7 | X62: 48 | Y62: 25 | Z62: 23 | AA62: 1.35318 | AB62: 0.62834702
A63: 資料來源：直轄市、縣﹝市﹞政府。
A64: Source : County and City Government.
A67: 中華民國112年第3季底 , 2023 Q3
A68: 地區別 Locality | C68: 總計 Grand Total | I68: 第1款(省、新北、臺中、臺南)、第0類(臺北)、第1類(高雄) Class 1 | O68: 第2款(省、新北、臺中、臺南)、第1、2類(臺北)、第2類(高雄) Class 2 | U68: 第3款(省、新北、臺中、臺南)、第3、4類(臺北、高雄) Class 3 | AA68: 低收入戶戶數占總戶數比率(%) Rate of Households (%) | AB68: 低收入戶人數占總人數比率(%) Rate of Persons (%)
C69: 戶數(戶長性別) Households | F69: 人數 Persons | I69: 戶數 Households | L69: 人數 Persons | O69: 戶數 Households | R69: 人數 Persons | U69: 戶數 Households | X69: 人數 Persons
C70: 計 | D70: 男 | E70: 女 | F70: 計 | G70: 男 | H70: 女 | I70: 計 | J70: 男 | K70: 女 | L70: 計 | M70: 男 | N70: 女 | O70: 計 | P70: 男 | Q70: 女 | R70: 計 | S70: 男 | T70: 女 | U70: 計 | V70: 男 | W70: 女 | X70: 計 | Y70: 男 | Z70: 女
C71: Sub-Total | D71: Male | E71: Female | F71: Sub-Total | G71: Male | H71: Female | I71: Sub-Total | J71: Male | K71: Female | L71: Sub-Total | M71: Male | N71: Female | O71: Sub-Total | P71: Male | Q71: Female | R71: Sub-Total | S71: Male | T71: Female | U71: Sub-Total | V71: Male | W71: Female | X71: Sub-Total | Y71: Male | Z71: Female
A72: 總 計 | B72: Total | C72: 144292 | D72: 88925 | E72: 55367 | F72: 277086 | G72: 150483 | H72: 126603 | I72: 2355 | J72: 1675 | K72: 680 | L72: 2425 | M72: 1718 | N72: 707 | O72: 35302 | P72: 23699 | Q72: 11603 | R72: 48440 | S72: 29952 | T72: 18488 | U72: 106635 | V72: 63551 | W72: 43084 | X72: 226221 | Y72: 118813 | Z72: 107408 | AA72: 1.5648795 | AB72: 1.1839106
A73: 新北市 | B73: New Taipei City | C73: 17701 | D73: 10780 | E73: 6921 | F73: 33259 | G73: 17817 | H73: 15442 | I73: 64 | J73: 54 | K73: 10 | L73: 72 | M73: 58 | N73: 14 | O73: 1339 | P73: 885 | Q73: 454 | R73: 2031 | S73: 1211 | T73: 820 | U73: 16298 | V73: 9841 | W73: 6457 | X73: 31156 | Y73: 16548 | Z73: 14608 | AA73: 1.0620286 | AB73: 0.82387251
A74: 臺北市 | B74: Taipei City | C74: 21432 | D74: 11776 | E74: 9656 | F74: 42369 | G74: 21585 | H74: 20784 | I74: 1395 | J74: 978 | K74: 417 | L74: 1439 | M74: 1002 | N74: 437 | O74: 6587 | P74: 4125 | Q74: 2462 | R74: 8220 | S74: 4881 | T74: 3339 | U74: 13450 | V74: 6673 | W74: 6777 | X74: 32710 | Y74: 15702 | Z74: 17008 | AA74: 2.014511 | AB74: 1.690533
A75: 桃園市 | B75: Taoyuan City | C75: 12474 | D75: 7324 | E75: 5150 | F75: 28547 | G75: 14762 | H75: 13785 | I75: 64 | J75: 45 | K75: 19 | L75: 66 | M75: 46 | N75: 20 | O75: 1398 | P75: 945 | Q75: 453 | R75: 2319 | S75: 1413 | T75: 906 | U75: 11012 | V75: 6334 | W75: 4678 | X75: 26162 | Y75: 13303 | Z75: 12859 | AA75: 1.3867658 | AB75: 1.2348013
A76: 臺中市 | B76: Taichung City | C76: 20016 | D76: 11602 | E76: 8414 | F76: 42190 | G76: 21994 | H76: 20196 | I76: 402 | J76: 290 | K76: 112 | L76: 408 | M76: 296 | N76: 112 | O76: 7217 | P76: 4677 | Q76: 2540 | R76: 10998 | S76: 6473 | T76: 4525 | U76: 12397 | V76: 6635 | W76: 5762 | X76: 30784 | Y76: 15225 | Z76: 15559 | AA76: 1.8962985 | AB76: 1.4849229
A77: 臺南市 | B77: Tainan City | C77: 8931 | D77: 6022 | E77: 2909 | F77: 15148 | G77: 8909 | H77: 6239 | I77: 170 | J77: 114 | K77: 56 | L77: 172 | M77: 115 | N77: 57 | O77: 2935 | P77: 2093 | Q77: 842 | R77: 3525 | S77: 2379 | T77: 1146 | U77: 5826 | V77: 3815 | W77: 2011 | X77: 11451 | Y77: 6415 | Z77: 5036 | AA77: 1.2304907 | AB77: 0.81447779
A78: 高雄市 | B78: Kaohsiung City | C78: 14762 | D78: 9209 | E78: 5553 | F78: 27913 | G78: 15101 | H78: 12812 | I78: 56 | J78: 32 | K78: 24 | L78: 59 | M78: 35 | N78: 24 | O78: 6947 | P78: 4620 | Q78: 2327 | R78: 9038 | S78: 5628 | T78: 3410 | U78: 7759 | V78: 4557 | W78: 3202 | X78: 18816 | Y78: 9438 | Z78: 9378 | AA78: 1.2844184 | AB78: 1.019742
A79: 宜蘭縣 | B79: Yilan County | C79: 2829 | D79: 1787 | E79: 1042 | F79: 5012 | G79: 2808 | H79: 2204 | I79: 6 | J79: 5 | K79: 1 | L79: 6 | M79: 5 | N79: 1 | O79: 252 | P79: 179 | Q79: 73 | R79: 358 | S79: 233 | T79: 125 | U79: 2571 | V79: 1603 | W79: 968 | X79: 4648 | Y79: 2570 | Z79: 2078 | AA79: 1.585869 | AB79: 1.1137011
A80: 新竹縣 | B80: Hsinchu County | C80: 1847 | D80: 1183 | E80: 664 | F80: 3882 | G80: 2104 | H80: 1778 | I80: 3 | J80: 3 | K80: 0 | L80: 3 | M80: 3 | N80: 0 | O80: 233 | P80: 170 | Q80: 63 | R80: 343 | S80: 224 | T80: 119 | U80: 1611 | V80: 1010 | W80: 601 | X80: 3536 | Y80: 1877 | Z80: 1659 | AA80: 0.83903441 | AB80: 0.65999867
A81: 苗栗縣 | B81: Miaoli County | C81: 3026 | D81: 1984 | E81: 1042 | F81: 5557 | G81: 3142 | H81: 2415 | I81: 1 | J81: 1 | K81: 0 | L81: 1 | M81: 1 | N81: 0 | O81: 1102 | P81: 808 | Q81: 294 | R81: 1564 | S81: 1038 | T81: 526 | U81: 1923 | V81: 1175 | W81: 748 | X81: 3992 | Y81: 2103 | Z81: 1889 | AA81: 1.5184665 | AB81: 1.0386702
A82: 彰化縣 | B82: Changhua County | C82: 7759 | D82: 5025 | E82: 2734 | F82: 12670 | G82: 7330 | H82: 5340 | I82: 4 | J82: 3 | K82: 1 | L82: 4 | M82: 3 | N82: 1 | O82: 95 | P82: 67 | Q82: 28 | R82: 146 | S82: 96 | T82: 50 | U82: 7660 | V82: 4955 | W82: 2705 | X82: 12520 | Y82: 7231 | Z82: 5289 | AA82: 1.9115404 | AB82: 1.021057
A83: 南投縣 | B83: Nantou County | C83: 2516 | D83: 1783 | E83: 733 | F83: 4156 | G83: 2527 | H83: 1629 | I83: 3 | J83: 1 | K83: 2 | L83: 3 | M83: 1 | N83: 2 | O83: 117 | P83: 84 | Q83: 33 | R83: 178 | S83: 110 | T83: 68 | U83: 2396 | V83: 1698 | W83: 698 | X83: 3975 | Y83: 2416 | Z83: 1559 | AA83: 1.3940062 | AB83: 0.87001848
... A94: 連江縣 | B94: Lienchiang County | C94: 51 | D94: 36 | E94: 15 | F94: 93 | G94: 52 | H94: 41 | I94: 14 | J94: 10 | K94: 4 | L94: 14 | M94: 10 | N94: 4 | O94: 16 | P94: 12 | Q94: 4 | R94: 26 | S94: 16 | T94: 10 | U94: 21 | V94: 14 | W94: 7 | X94: 53 | Y94: 26 | Z94: 27 | AA94: 1.378751 | AB94: 0.66196882
A95: 資料來源：直轄市、縣﹝市﹞政府。
A96: Source : County and City Government.
A99: 中華民國112年第4季底 , 2023 Q4
A100: 地區別 Locality | C100: 總計 Grand Total | I100: 第1款(省、新北、臺中、臺南)、第0類(臺北)、第1類(高雄) Class 1 | O100: 第2款(省、新北、臺中、臺南)、第1、2類(臺北)、第2類(高雄) Class 2 | U100: 第3款(省、新北、臺中、臺南)、第3、4類(臺北、高雄) Class 3 | AA100: 低收入戶戶數占總戶數比率(%) Rate of Households (%) | AB100: 低收入戶人數占總人數比率(%) Rate of Persons (%)
C101: 戶數(戶長性別) Households | F101: 人數 Persons | I101: 戶數 Households | L101: 人數 Persons | O101: 戶數 Households | R101: 人數 Persons | U101: 戶數 Households | X101: 人數 Persons
C102: 計 | D102: 男 | E102: 女 | F102: 計 | G102: 男 | H102: 女 | I102: 計 | J102: 男 | K102: 女 | L102: 計 | M102: 男 | N102: 女 | O102: 計 | P102: 男 | Q102: 女 | R102: 計 | S102: 男 | T102: 女 | U102: 計 | V102: 男 | W102: 女 | X102: 計 | Y102: 男 | Z102: 女
C103: Sub-Total | D103: Male | E103: Female | F103: Sub-Total | G103: Male | H103: Female | I103: Sub-Total | J103: Male | K103: Female | L103: Sub-Total | M103: Male | N103: Female | O103: Sub-Total | P103: Male | Q103: Female | R103: Sub-Total | S103: Male | T103: Female | U103: Sub-Total | V103: Male | W103: Female | X103: Sub-Total | Y103: Male | Z103: Female
A104: 總 計 | B104: Total | C104: 144668 | D104: 89017 | E104: 55651 | F104: 277364 | G104: 150565 | H104: 126799 | I104: 2314 | J104: 1639 | K104: 675 | L104: 2386 | M104: 1682 | N104: 704 | O104: 35375 | P104: 23695 | Q104: 11680 | R104: 48368 | S104: 29880 | T104: 18488 | U104: 106979 | V104: 63683 | W104: 43296 | X104: 226610 | Y104: 119003 | Z104: 107607 | AA104: 1.5655316 | AB104: 1.1842817
A105: 新北市 | B105: New Taipei City | C105: 17905 | D105: 10890 | E105: 7015 | F105: 33640 | G105: 18001 | H105: 15639 | I105: 66 | J105: 56 | K105: 10 | L105: 74 | M105: 60 | N105: 14 | O105: 1367 | P105: 903 | Q105: 464 | R105: 2066 | S105: 1231 | T105: 835 | U105: 16472 | V105: 9931 | W105: 6541 | X105: 31500 | Y105: 16710 | Z105: 14790 | AA105: 1.0714692 | AB105: 0.83244249
A106: 臺北市 | B106: Taipei City | C106: 21557 | D106: 11808 | E106: 9749 | F106: 42486 | G106: 21600 | H106: 20886 | I106: 1371 | J106: 959 | K106: 412 | L106: 1415 | M106: 982 | N106: 433 | O106: 6624 | P106: 4134 | Q106: 2490 | R106: 8260 | S106: 4891 | T106: 3369 | U106: 13562 | V106: 6715 | W106: 6847 | X106: 32811 | Y106: 15727 | Z106: 17084 | AA106: 2.0240706 | AB106: 1.6913984
A107: 桃園市 | B107: Taoyuan City | C107: 12580 | D107: 7373 | E107: 5207 | F107: 28841 | G107: 14890 | H107: 13951 | I107: 66 | J107: 46 | K107: 20 | L107: 68 | M107: 47 | N107: 21 | O107: 1419 | P107: 953 | Q107: 466 | R107: 2357 | S107: 1424 | T107: 933 | U107: 11095 | V107: 6374 | W107: 4721 | X107: 26416 | Y107: 13419 | Z107: 12997 | AA107: 1.3923923 | AB107: 1.2445171
A108: 臺中市 | B108: Taichung City | C108: 20368 | D108: 11779 | E108: 8589 | F108: 42813 | G108: 22336 | H108: 20477 | I108: 405 | J108: 289 | K108: 116 | L108: 413 | M108: 296 | N108: 117 | O108: 7309 | P108: 4721 | Q108: 2588 | R108: 11065 | S108: 6510 | T108: 4555 | U108: 12654 | V108: 6769 | W108: 5885 | X108: 31335 | Y108: 15530 | Z108: 15805 | AA108: 1.9221895 | AB108: 1.50437
A109: 臺南市 | B109: Tainan City | C109: 8274 | D109: 5614 | E109: 2660 | F109: 13700 | G109: 8142 | H109: 5558 | I109: 155 | J109: 101 | K109: 54 | L109: 157 | M109: 102 | N109: 55 | O109: 2781 | P109: 1986 | Q109: 795 | R109: 3242 | S109: 2207 | T109: 1035 | U109: 5338 | V109: 3527 | W109: 1811 | X109: 10301 | Y109: 5833 | Z109: 4468 | AA109: 1.1378874 | AB109: 0.73658052
A110: 高雄市 | B110: Kaohsiung City | C110: 14840 | D110: 9275 | E110: 5565 | F110: 27909 | G110: 15139 | H110: 12770 | I110: 57 | J110: 35 | K110: 22 | L110: 60 | M110: 38 | N110: 22 | O110: 7023 | P110: 4685 | Q110: 2338 | R110: 9121 | S110: 5700 | T110: 3421 | U110: 7760 | V110: 4555 | W110: 3205 | X110: 18728 | Y110: 9401 | Z110: 9327 | AA110: 1.2895657 | AB110: 1.0193426
A111: 宜蘭縣 | B111: Yilan County | C111: 2555 | D111: 1634 | E111: 921 | F111: 4354 | G111: 2495 | H111: 1859 | I111: 6 | J111: 5 | K111: 1 | L111: 6 | M111: 5 | N111: 1 | O111: 231 | P111: 163 | Q111: 68 | R111: 305 | S111: 201 | T111: 104 | U111: 2318 | V111: 1466 | W111: 852 | X111: 4043 | Y111: 2289 | Z111: 1754 | AA111: 1.4301547 | AB111: 0.96779213
A112: 新竹縣 | B112: Hsinchu County | C112: 1879 | D112: 1204 | E112: 675 | F112: 3947 | G112: 2149 | H112: 1798 | I112: 3 | J112: 3 | K112: 0 | L112: 3 | M112: 3 | N112: 0 | O112: 235 | P112: 170 | Q112: 65 | R112: 347 | S112: 226 | T112: 121 | U112: 1641 | V112: 1031 | W112: 610 | X112: 3597 | Y112: 1920 | Z112: 1677 | AA112: 0.85063809 | AB112: 0.6697902
A113: 苗栗縣 | B113: Miaoli County | C113: 3052 | D113: 2003 | E113: 1049 | F113: 5601 | G113: 3167 | H113: 2434 | I113: 1 | J113: 1 | K113: 0 | L113: 1 | M113: 1 | N113: 0 | O113: 1107 | P113: 814 | Q113: 293 | R113: 1566 | S113: 1045 | T113: 521 | U113: 1944 | V113: 1188 | W113: 756 | X113: 4034 | Y113: 2121 | Z113: 1913 | AA113: 1.5287364 | AB113: 1.0477482
A114: 彰化縣 | B114: Changhua County | C114: 7762 | D114: 5011 | E114: 2751 | F114: 12716 | G114: 7326 | H114: 5390 | I114: 4 | J114: 3 | K114: 1 | L114: 4 | M114: 3 | N114: 1 | O114: 100 | P114: 70 | Q114: 30 | R114: 155 | S114: 99 | T114: 56 | U114: 7658 | V114: 4938 | W114: 2720 | X114: 12557 | Y114: 7224 | Z114: 5333 | AA114: 1.9100114 | AB114: 1.0262718
A115: 南投縣 | B115: Nantou County | C115: 2535 | D115: 1794 | E115: 741 | F115: 4172 | G115: 2531 | H115: 1641 | I115: 3 | J115: 1 | K115: 2 | L115: 3 | M115: 1 | N115: 2 | O115: 119 | P115: 86 | Q115: 33 | R115: 181 | S115: 111 | T115: 70 | U115: 2413 | V115: 1707 | W115: 706 | X115: 3988 | Y115: 2419 | Z115: 1569 | AA115: 1.403367 | AB115: 0.8744608
... A126: 連江縣 | B126: Lienchiang County | C126: 51 | D126: 36 | E126: 15 | F126: 92 | G126: 51 | H126: 41 | I126: 14 | J126: 10 | K126: 4 | L126: 14 | M126: 10 | N126: 4 | O126: 16 | P126: 12 | Q126: 4 | R126: 26 | S126: 16 | T126: 10 | U126: 21 | V126: 14 | W126: 7 | X126: 52 | Y126: 25 | Z126: 27 | AA126: 1.3757756 | AB126: 0.65531733
A127: 資料來源：直轄市、縣﹝市﹞政府。
A128: Source : County and City Government.

Sheet 2022
A2: 低收入戶戶數及人數 Number and Population of Low-Income Households
A3: 中華民國111年第1季底 , 2022Q1
A4: 地區別 Locality | C4: 總計 Grand Total | I4: 第1款(省、新北、臺中、臺南)、第0類(臺北)、第1類(高雄) Class 1 | O4: 第2款(省、新北、臺中、臺南)、第1、2類(臺北)、第2類(高雄) Class 2 | U4: 第3款(省、新北、臺中、臺南)、第3、4類(臺北、高雄) Class 3 | AA4: 低收入戶戶數占總戶數比率(%) Rate of Households (%) | AB4: 低收入戶人數占總人數比率(%) Rate of Persons (%)
C5: 戶數(戶長性別) Households | F5: 人數 Persons | I5: 戶數 Households | L5: 人數 Persons | O5: 戶數 Households | R5: 人數 Persons | U5: 戶數 Households | X5: 人數 Persons
C6: 計 | D6: 男 | E6: 女 | F6: 計 | G6: 男 | H6: 女 | I6: 計 | J6: 男 | K6: 女 | L6: 計 | M6: 男 | N6: 女 | O6: 計 | P6: 男 | Q6: 女 | R6: 計 | S6: 男 | T6: 女 | U6: 計 | V6: 男 | W6: 女 | X6: 計 | Y6: 男 | Z6: 女
C7: Sub-Total | D7: Male | E7: Female | F7: Sub-Total | G7: Male | H7: Female | I7: Sub-Total | J7: Male | K7: Female | L7: Sub-Total | M7: Male | N7: Female | O7: Sub-Total | P7: Male | Q7: Female | R7: Sub-Total | S7: Male | T7: Female | U7: Sub-Total | V7: Male | W7: Female | X7: Sub-Total | Y7: Male | Z7: Female
A8: 總 計 | B8: Total | C8: 144114 | D8: 89121 | E8: 54993 | F8: 287590 | G8: 155624 | H8: 131966 | I8: 2570 | J8: 1859 | K8: 711 | L8: 2649 | M8: 1906 | N8: 743 | O8: 34926 | P8: 23569 | Q8: 11357 | R8: 49881 | S8: 30567 | T8: 19314 | U8: 106618 | V8: 63693 | W8: 42925 | X8: 235060 | Y8: 123151 | Z8: 111909 | AA8: 1.6005295 | AB8: 1.2359367
A9: 新北市 | B9: New Taipei City | C9: 17673 | D9: 10732 | E9: 6941 | F9: 34580 | G9: 18470 | H9: 16110 | I9: 73 | J9: 59 | K9: 14 | L9: 78 | M9: 62 | N9: 16 | O9: 1334 | P9: 890 | Q9: 444 | R9: 2108 | S9: 1250 | T9: 858 | U9: 16266 | V9: 9783 | W9: 6483 | X9: 32394 | Y9: 17158 | Z9: 15236 | AA9: 1.0902496 | AB9: 0.86669273
A10: 臺北市 | B10: Taipei City | C10: 21323 | D10: 11805 | E10: 9518 | F10: 43521 | G10: 22207 | H10: 21314 | I10: 1527 | J10: 1091 | K10: 436 | L10: 1580 | M10: 1120 | N10: 460 | O10: 6476 | P10: 4043 | Q10: 2433 | R10: 8499 | S10: 5007 | T10: 3492 | U10: 13320 | V10: 6671 | W10: 6649 | X10: 33442 | Y10: 16080 | Z10: 17362 | AA10: 2.0392179 | AB10: 1.747519
A11: 桃園市 | B11: Taoyuan City | C11: 11779 | D11: 6877 | E11: 4902 | F11: 27920 | G11: 14377 | H11: 13543 | I11: 63 | J11: 45 | K11: 18 | L11: 66 | M11: 46 | N11: 20 | O11: 1358 | P11: 890 | Q11: 468 | R11: 2527 | S11: 1468 | T11: 1059 | U11: 10358 | V11: 5942 | W11: 4416 | X11: 25327 | Y11: 12863 | Z11: 12464 | AA11: 1.3649975 | AB11: 1.2316309
A12: 臺中市 | B12: Taichung City | C12: 19962 | D12: 11634 | E12: 8328 | F12: 43621 | G12: 22767 | H12: 20854 | I12: 429 | J12: 312 | K12: 117 | L12: 438 | M12: 320 | N12: 118 | O12: 7019 | P12: 4623 | Q12: 2396 | R12: 11097 | S12: 6519 | T12: 4578 | U12: 12514 | V12: 6699 | W12: 5815 | X12: 32086 | Y12: 15928 | Z12: 16158 | AA12: 1.9576442 | AB12: 1.5543484
A13: 臺南市 | B13: Tainan City | C13: 9367 | D13: 6300 | E13: 3067 | F13: 17063 | G13: 9806 | H13: 7257 | I13: 203 | J13: 140 | K13: 63 | L13: 205 | M13: 141 | N13: 64 | O13: 3051 | P13: 2171 | Q13: 880 | R13: 3749 | S13: 2503 | T13: 1246 | U13: 6113 | V13: 3989 | W13: 2124 | X13: 13109 | Y13: 7162 | Z13: 5947 | AA13: 1.3189075 | AB13: 0.91961568
A14: 高雄市 | B14: Kaohsiung City | C14: 15024 | D14: 9430 | E14: 5594 | F14: 29560 | G14: 15854 | H14: 13706 | I14: 65 | J14: 41 | K14: 24 | L14: 69 | M14: 44 | N14: 25 | O14: 6823 | P14: 4551 | Q14: 2272 | R14: 9138 | S14: 5630 | T14: 3508 | U14: 8136 | V14: 4838 | W14: 3298 | X14: 20353 | Y14: 10180 | Z14: 10173 | AA14: 1.3313377 | AB14: 1.0820776
A15: 宜蘭縣 | B15: Yilan County | C15: 2733 | D15: 1743 | E15: 990 | F15: 5034 | G15: 2844 | H15: 2190 | I15: 9 | J15: 8 | K15: 1 | L15: 9 | M15: 8 | N15: 1 | O15: 268 | P15: 196 | Q15: 72 | R15: 385 | S15: 259 | T15: 126 | U15: 2456 | V15: 1539 | W15: 917 | X15: 4640 | Y15: 2577 | Z15: 2063 | AA15: 1.5675545 | AB15: 1.120073
A16: 新竹縣 | B16: Hsinchu County | C16: 1875 | D16: 1219 | E16: 656 | F16: 4133 | G16: 2227 | H16: 1906 | I16: 8 | J16: 8 | K16: 0 | L16: 8 | M16: 8 | N16: 0 | O16: 273 | P16: 200 | Q16: 73 | R16: 386 | S16: 255 | T16: 131 | U16: 1594 | V16: 1011 | W16: 583 | X16: 3739 | Y16: 1964 | Z16: 1775 | AA16: 0.88710364 | AB16: 0.71785127
A17: 苗栗縣 | B17: Miaoli County | C17: 3081 | D17: 2048 | E17: 1033 | F17: 5767 | G17: 3296 | H17: 2471 | I17: 1 | J17: 1 | K17: 0 | L17: 1 | M17: 1 | N17: 0 | O17: 1174 | P17: 870 | Q17: 304 | R17: 1733 | S17: 1136 | T17: 597 | U17: 1906 | V17: 1177 | W17: 729 | X17: 4033 | Y17: 2159 | Z17: 1874 | AA17: 1.5757898 | AB17: 1.0747598
A18: 彰化縣 | B18: Changhua County | C18: 7418 | D18: 4843 | E18: 2575 | F18: 12209 | G18: 7049 | H18: 5160 | I18: 5 | J18: 5 | K18: 0 | L18: 5 | M18: 5 | N18: 0 | O18: 88 | P18: 62 | Q18: 26 | R18: 134 | S18: 89 | T18: 45 | U18: 7325 | V18: 4776 | W18: 2549 | X18: 12070 | Y18: 6955 | Z18: 5115 | AA18: 1.8564168 | AB18: 0.9762272
A19: 南投縣 | B19: Nantou County | C19: 2532 | D19: 1792 | E19: 740 | F19: 4305 | G19: 2586 | H19: 1719 | I19: 3 | J19: 2 | K19: 1 | L19: 3 | M19: 2 | N19: 1 | O19: 131 | P19: 92 | Q19: 39 | R19: 241 | S19: 141 | T19: 100 | U19: 2398 | V19: 1698 | W19: 700 | X19: 4061 | Y19: 2443 | Z19: 1618 | AA19: 1.4097839 | AB19: 0.89159786
... A30: 連江縣 | B30: Lienchiang County | C30: 49 | D30: 34 | E30: 15 | F30: 85 | G30: 50 | H30: 35 | I30: 16 | J30: 11 | K30: 5 | L30: 17 | M30: 12 | N30: 5 | O30: 15 | P30: 12 | Q30: 3 | R30: 24 | S30: 15 | T30: 9 | U30: 18 | V30: 11 | W30: 7 | X30: 44 | Y30: 23 | Z30: 21 | AA30: 1.3702461 | AB30: 0.61994019
A31: 資料來源：直轄市、縣﹝市﹞政府。
A32: Source : County and City Government.
A35: 中華民國111年第2季底 , 2022 Q2
A36: 地區別 Locality | C36: 總計 Grand Total | I36: 第1款(省、新北、臺中、臺南)、第0類(臺北)、第1類(高雄) Class 1 | O36: 第2款(省、新北、臺中、臺南)、第1、2類(臺北)、第2類(高雄) Class 2 | U36: 第3款(省、新北、臺中、臺南)、第3、4類(臺北、高雄) Class 3 | AA36: 低收入戶戶數占總戶數比率(%) Rate of Households (%) | AB36: 低收入戶人數占總人數比率(%) Rate of Persons (%)
C37: 戶數(戶長性別) Households | F37: 人數 Persons | I37: 戶數 Households | L37: 人數 Persons | O37: 戶數 Households | R37: 人數 Persons | U37: 戶數 Households | X37: 人數 Persons
C38: 計 | D38: 男 | E38: 女 | F38: 計 | G38: 男 | H38: 女 | I38: 計 | J38: 男 | K38: 女 | L38: 計 | M38: 男 | N38: 女 | O38: 計 | P38: 男 | Q38: 女 | R38: 計 | S38: 男 | T38: 女 | U38: 計 | V38: 男 | W38: 女 | X38: 計 | Y38: 男 | Z38: 女
C39: Sub-Total | D39: Male | E39: Female | F39: Sub-Total | G39: Male | H39: Female | I39: Sub-Total | J39: Male | K39: Female | L39: Sub-Total | M39: Male | N39: Female | O39: Sub-Total | P39: Male | Q39: Female | R39: Sub-Total | S39: Male | T39: Female | U39: Sub-Total | V39: Male | W39: Female | X39: Sub-Total | Y39: Male | Z39: Female
A40: 總 計 | B40: Total | C40: 145366 | D40: 89661 | E40: 55705 | F40: 289616 | G40: 156507 | H40: 133109 | I40: 2533 | J40: 1825 | K40: 708 | L40: 2613 | M40: 1872 | N40: 741 | O40: 35063 | P40: 23605 | Q40: 11458 | R40: 49980 | S40: 30587 | T40: 19393 | U40: 107770 | V40: 64231 | W40: 43539 | X40: 237023 | Y40: 124048 | Z40: 112975 | AA40: 1.612544 | AB40: 1.2490836
A41: 新北市 | B41: New Taipei City | C41: 17719 | D41: 10709 | E41: 7010 | F41: 34542 | G41: 18368 | H41: 16174 | I41: 76 | J41: 63 | K41: 13 | L41: 84 | M41: 67 | N41: 17 | O41: 1331 | P41: 879 | Q41: 452 | R41: 2075 | S41: 1229 | T41: 846 | U41: 16312 | V41: 9767 | W41: 6545 | X41: 32383 | Y41: 17072 | Z41: 15311 | AA41: 1.0917598 | AB41: 0.86957813
A42: 臺北市 | B42: Taipei City | C42: 21522 | D42: 11892 | E42: 9630 | F42: 43788 | G42: 22325 | H42: 21463 | I42: 1506 | J42: 1071 | K42: 435 | L42: 1559 | M42: 1099 | N42: 460 | O42: 6537 | P42: 4080 | Q42: 2457 | R42: 8562 | S42: 5050 | T42: 3512 | U42: 13479 | V42: 6741 | W42: 6738 | X42: 33667 | Y42: 16176 | Z42: 17491 | AA42: 2.0661351 | AB42: 1.7767845
A43: 桃園市 | B43: Taoyuan City | C43: 11983 | D43: 7006 | E43: 4977 | F43: 28279 | G43: 14575 | H43: 13704 | I43: 67 | J43: 46 | K43: 21 | L43: 69 | M43: 47 | N43: 22 | O43: 1381 | P43: 905 | Q43: 476 | R43: 2551 | S43: 1484 | T43: 1067 | U43: 10535 | V43: 6055 | W43: 4480 | X43: 25659 | Y43: 13044 | Z43: 12615 | AA43: 1.3828735 | AB43: 1.2490272
A44: 臺中市 | B44: Taichung City | C44: 20093 | D44: 11669 | E44: 8424 | F44: 43870 | G44: 22872 | H44: 20998 | I44: 423 | J44: 308 | K44: 115 | L44: 431 | M44: 316 | N44: 115 | O44: 7045 | P44: 4614 | Q44: 2431 | R44: 11110 | S44: 6515 | T44: 4595 | U44: 12625 | V44: 6747 | W44: 5878 | X44: 32329 | Y44: 16041 | Z44: 16288 | AA44: 1.9653758 | AB44: 1.5671557
A45: 臺南市 | B45: Tainan City | C45: 9376 | D45: 6292 | E45: 3084 | F45: 17027 | G45: 9779 | H45: 7248 | I45: 197 | J45: 137 | K45: 60 | L45: 199 | M45: 138 | N45: 61 | O45: 3031 | P45: 2160 | Q45: 871 | R45: 3708 | S45: 2485 | T45: 1223 | U45: 6148 | V45: 3995 | W45: 2153 | X45: 13120 | Y45: 7156 | Z45: 5964 | AA45: 1.3176997 | AB45: 0.91994824
A46: 高雄市 | B46: Kaohsiung City | C46: 15166 | D46: 9499 | E46: 5667 | F46: 29850 | G46: 15979 | H46: 13871 | I46: 62 | J46: 37 | K46: 25 | L46: 66 | M46: 40 | N46: 26 | O46: 6885 | P46: 4594 | Q46: 2291 | R46: 9215 | S46: 5671 | T46: 3544 | U46: 8219 | V46: 4868 | W46: 3351 | X46: 20569 | Y46: 10268 | Z46: 10301 | AA46: 1.3424399 | AB46: 1.0961462
A47: 宜蘭縣 | B47: Yilan County | C47: 2789 | D47: 1769 | E47: 1020 | F47: 5141 | G47: 2896 | H47: 2245 | I47: 9 | J47: 8 | K47: 1 | L47: 9 | M47: 8 | N47: 1 | O47: 268 | P47: 195 | Q47: 73 | R47: 385 | S47: 258 | T47: 127 | U47: 2512 | V47: 1566 | W47: 946 | X47: 4747 | Y47: 2630 | Z47: 2117 | AA47: 1.5962135 | AB47: 1.1453562
A48: 新竹縣 | B48: Hsinchu County | C48: 1910 | D48: 1235 | E48: 675 | F48: 4198 | G48: 2254 | H48: 1944 | I48: 8 | J48: 8 | K48: 0 | L48: 8 | M48: 8 | N48: 0 | O48: 276 | P48: 201 | Q48: 75 | R48: 399 | S48: 259 | T48: 140 | U48: 1626 | V48: 1026 | W48: 600 | X48: 3791 | Y48: 1987 | Z48: 1804 | AA48: 0.89937373 | AB48: 0.72834779
A49: 苗栗縣 | B49: Miaoli County | C49: 3096 | D49: 2064 | E49: 1032 | F49: 5829 | G49: 3332 | H49: 2497 | I49: 1 | J49: 1 | K49: 0 | L49: 1 | M49: 1 | N49: 0 | O49: 1168 | P49: 867 | Q49: 301 | R49: 1727 | S49: 1133 | T49: 594 | U49: 1927 | V49: 1196 | W49: 731 | X49: 4101 | Y49: 2198 | Z49: 1903 | AA49: 1.5800191 | AB49: 1.0890035
A50: 彰化縣 | B50: Changhua County | C50: 7465 | D50: 4864 | E50: 2601 | F50: 12338 | G50: 7112 | H50: 5226 | I50: 3 | J50: 3 | K50: 0 | L50: 3 | M50: 3 | N50: 0 | O50: 87 | P50: 62 | Q50: 25 | R50: 130 | S50: 87 | T50: 43 | U50: 7375 | V50: 4799 | W50: 2576 | X50: 12205 | Y50: 7022 | Z50: 5183 | AA50: 1.8639108 | AB50: 0.98891498
A51: 南投縣 | B51: Nantou County | C51: 2570 | D51: 1817 | E51: 753 | F51: 4351 | G51: 2614 | H51: 1737 | I51: 3 | J51: 2 | K51: 1 | L51: 3 | M51: 2 | N51: 1 | O51: 131 | P51: 91 | Q51: 40 | R51: 237 | S51: 140 | T51: 97 | U51: 2436 | V51: 1724 | W51: 712 | X51: 4111 | Y51: 2472 | Z51: 1639 | AA51: 1.4309497 | AB51: 0.90426173
... A62: 連江縣 | B62: Lienchiang County | C62: 49 | D62: 34 | E62: 15 | F62: 86 | G62: 51 | H62: 35 | I62: 16 | J62: 11 | K62: 5 | L62: 17 | M62: 12 | N62: 5 | O62: 15 | P62: 12 | Q62: 3 | R62: 25 | S62: 16 | T62: 9 | U62: 18 | V62: 11 | W62: 7 | X62: 44 | Y62: 23 | Z62: 21 | AA62: 1.3633834 | AB62: 0.62215149
A63: 資料來源：直轄市、縣﹝市﹞政府。
A64: Source : County and City Government.
A67: 中華民國111年第3季底 , 2022 Q3
A68: 地區別 Locality | C68: 總計 Grand Total | I68: 第1款(省、新北、臺中、臺南)、第0類(臺北)、第1類(高雄) Class 1 | O68: 第2款(省、新北、臺中、臺南)、第1、2類(臺北)、第2類(高雄) Class 2 | U68: 第3款(省、新北、臺中、臺南)、第3、4類(臺北、高雄) Class 3 | AA68: 低收入戶戶數占總戶數比率(%) Rate of Households (%) | AB68: 低收入戶人數占總人數比率(%) Rate of Persons (%)
C69: 戶數(戶長性別) Households | F69: 人數 Persons | I69: 戶數 Households | L69: 人數 Persons | O69: 戶數 Households | R69: 人數 Persons | U69: 戶數 Households | X69: 人數 Persons
C70: 計 | D70: 男 | E70: 女 | F70: 計 | G70: 男 | H70: 女 | I70: 計 | J70: 男 | K70: 女 | L70: 計 | M70: 男 | N70: 女 | O70: 計 | P70: 男 | Q70: 女 | R70: 計 | S70: 男 | T70: 女 | U70: 計 | V70: 男 | W70: 女 | X70: 計 | Y70: 男 | Z70: 女
C71: Sub-Total | D71: Male | E71: Female | F71: Sub-Total | G71: Male | H71: Female | I71: Sub-Total | J71: Male | K71: Female | L71: Sub-Total | M71: Male | N71: Female | O71: Sub-Total | P71: Male | Q71: Female | R71: Sub-Total | S71: Male | T71: Female | U71: Sub-Total | V71: Male | W71: Female | X71: Sub-Total | Y71: Male | Z71: Female
A72: 總 計 | B72: Total | C72: 144944 | D72: 89342 | E72: 55602 | F72: 286936 | G72: 155117 | H72: 131819 | I72: 2491 | J72: 1787 | K72: 704 | L72: 2570 | M72: 1834 | N72: 736 | O72: 34942 | P72: 23514 | Q72: 11428 | R72: 49482 | S72: 30355 | T72: 19127 | U72: 107511 | V72: 64041 | W72: 43470 | X72: 234884 | Y72: 122928 | Z72: 111956 | AA72: 1.5993773 | AB72: 1.2368926
A73: 新北市 | B73: New Taipei City | C73: 17823 | D73: 10754 | E73: 7069 | F73: 34703 | G73: 18449 | H73: 16254 | I73: 75 | J73: 62 | K73: 13 | L73: 83 | M73: 66 | N73: 17 | O73: 1335 | P73: 881 | Q73: 454 | R73: 2074 | S73: 1231 | T73: 843 | U73: 16413 | V73: 9811 | W73: 6602 | X73: 32546 | Y73: 17152 | Z73: 15394 | AA73: 1.091509 | AB73: 0.87210603
A74: 臺北市 | B74: Taipei City | C74: 21633 | D74: 11931 | E74: 9702 | F74: 43969 | G74: 22371 | H74: 21598 | I74: 1488 | J74: 1052 | K74: 436 | L74: 1540 | M74: 1080 | N74: 460 | O74: 6568 | P74: 4094 | Q74: 2474 | R74: 8584 | S74: 5055 | T74: 3529 | U74: 13577 | V74: 6785 | W74: 6792 | X74: 33845 | Y74: 16236 | Z74: 17609 | AA74: 2.0683642 | AB74: 1.7866808
A75: 桃園市 | B75: Taoyuan City | C75: 12012 | D75: 7025 | E75: 4987 | F75: 28086 | G75: 14468 | H75: 13618 | I75: 69 | J75: 48 | K75: 21 | L75: 71 | M75: 49 | N75: 22 | O75: 1378 | P75: 902 | Q75: 476 | R75: 2518 | S75: 1461 | T75: 1057 | U75: 10565 | V75: 6075 | W75: 4490 | X75: 25497 | Y75: 12958 | Z75: 12539 | AA75: 1.3740673 | AB75: 1.2364713
A76: 臺中市 | B76: Taichung City | C76: 20092 | D76: 11660 | E76: 8432 | F76: 43682 | G76: 22759 | H76: 20923 | I76: 415 | J76: 301 | K76: 114 | L76: 423 | M76: 309 | N76: 114 | O76: 7039 | P76: 4619 | Q76: 2420 | R76: 11038 | S76: 6503 | T76: 4535 | U76: 12638 | V76: 6740 | W76: 5898 | X76: 32221 | Y76: 15947 | Z76: 16274 | AA76: 1.9523382 | AB76: 1.5578009
A77: 臺南市 | B77: Tainan City | C77: 9223 | D77: 6193 | E77: 3030 | F77: 16443 | G77: 9489 | H77: 6954 | I77: 195 | J77: 137 | K77: 58 | L77: 197 | M77: 138 | N77: 59 | O77: 3015 | P77: 2142 | Q77: 873 | R77: 3672 | S77: 2456 | T77: 1216 | U77: 6013 | V77: 3914 | W77: 2099 | X77: 12574 | Y77: 6895 | Z77: 5679 | AA77: 1.2893927 | AB77: 0.88848087
A78: 高雄市 | B78: Kaohsiung City | C78: 14961 | D78: 9383 | E78: 5578 | F78: 29127 | G78: 15647 | H78: 13480 | I78: 59 | J78: 34 | K78: 25 | L78: 63 | M78: 37 | N78: 26 | O78: 6847 | P78: 4559 | Q78: 2288 | R78: 9100 | S78: 5623 | T78: 3477 | U78: 8055 | V78: 4790 | W78: 3265 | X78: 19964 | Y78: 9987 | Z78: 9977 | AA78: 1.3185204 | AB78: 1.0697774
A79: 宜蘭縣 | B79: Yilan County | C79: 2741 | D79: 1745 | E79: 996 | F79: 4980 | G79: 2823 | H79: 2157 | I79: 8 | J79: 7 | K79: 1 | L79: 8 | M79: 7 | N79: 1 | O79: 258 | P79: 187 | Q79: 71 | R79: 365 | S79: 246 | T79: 119 | U79: 2475 | V79: 1551 | W79: 924 | X79: 4607 | Y79: 2570 | Z79: 2037 | AA79: 1.5596372 | AB79: 1.1092673
A80: 新竹縣 | B80: Hsinchu County | C80: 1904 | D80: 1236 | E80: 668 | F80: 4183 | G80: 2262 | H80: 1921 | I80: 7 | J80: 7 | K80: 0 | L80: 7 | M80: 7 | N80: 0 | O80: 270 | P80: 198 | Q80: 72 | R80: 391 | S80: 255 | T80: 136 | U80: 1627 | V80: 1031 | W80: 596 | X80: 3785 | Y80: 2000 | Z80: 1785 | AA80: 0.88877686 | AB80: 0.72308317
A81: 苗栗縣 | B81: Miaoli County | C81: 3083 | D81: 2049 | E81: 1034 | F81: 5816 | G81: 3306 | H81: 2510 | I81: 1 | J81: 1 | K81: 0 | L81: 1 | M81: 1 | N81: 0 | O81: 1156 | P81: 858 | Q81: 298 | R81: 1711 | S81: 1122 | T81: 589 | U81: 1926 | V81: 1190 | W81: 736 | X81: 4104 | Y81: 2183 | Z81: 1921 | AA81: 1.5664297 | AB81: 1.086723
A82: 彰化縣 | B82: Changhua County | C82: 7559 | D82: 4903 | E82: 2656 | F82: 12541 | G82: 7206 | H82: 5335 | I82: 3 | J82: 3 | K82: 0 | L82: 3 | M82: 3 | N82: 0 | O82: 88 | P82: 61 | Q82: 27 | R82: 130 | S82: 86 | T82: 44 | U82: 7468 | V82: 4839 | W82: 2629 | X82: 12408 | Y82: 7117 | Z82: 5291 | AA82: 1.8807179 | AB82: 1.0068806
A83: 南投縣 | B83: Nantou County | C83: 2551 | D83: 1802 | E83: 749 | F83: 4332 | G83: 2595 | H83: 1737 | I83: 3 | J83: 2 | K83: 1 | L83: 3 | M83: 2 | N83: 1 | O83: 126 | P83: 89 | Q83: 37 | R83: 225 | S83: 136 | T83: 89 | U83: 2422 | V83: 1711 | W83: 711 | X83: 4104 | Y83: 2457 | Z83: 1647 | AA83: 1.4180494 | AB83: 0.90244924
... A94: 連江縣 | B94: Lienchiang County | C94: 49 | D94: 34 | E94: 15 | F94: 86 | G94: 51 | H94: 35 | I94: 16 | J94: 11 | K94: 5 | L94: 17 | M94: 12 | N94: 5 | O94: 15 | P94: 12 | Q94: 3 | R94: 25 | S94: 16 | T94: 9 | U94: 18 | V94: 11 | W94: 7 | X94: 44 | Y94: 23 | Z94: 21 | AA94: 1.3565891 | AB94: 0.61701822
A95: 資料來源：直轄市、縣﹝市﹞政府。
A96: Source : County and City Government.
A99: 中華民國111年第4季底 , 2022 Q4
A100: 地區別 Locality | C100: 總計 Grand Total | I100: 第1款(省、新北、臺中、臺南)、第0類(臺北)、第1類(高雄) Class 1 | O100: 第2款(省、新北、臺中、臺南)、第1、2類(臺北)、第2類(高雄) Class 2 | U100: 第3款(省、新北、臺中、臺南)、第3、4類(臺北、高雄) Class 3 | AA100: 低收入戶戶數占總戶數比率(%) Rate of Households (%) | AB100: 低收入戶人數占總人數比率(%) Rate of Persons (%)
C101: 戶數(戶長性別) Households | F101: 人數 Persons | I101: 戶數 Households | L101: 人數 Persons | O101: 戶數 Households | R101: 人數 Persons | U101: 戶數 Households | X101: 人數 Persons
C102: 計 | D102: 男 | E102: 女 | F102: 計 | G102: 男 | H102: 女 | I102: 計 | J102: 男 | K102: 女 | L102: 計 | M102: 男 | N102: 女 | O102: 計 | P102: 男 | Q102: 女 | R102: 計 | S102: 男 | T102: 女 | U102: 計 | V102: 男 | W102: 女 | X102: 計 | Y102: 男 | Z102: 女
C103: Sub-Total | D103: Male | E103: Female | F103: Sub-Total | G103: Male | H103: Female | I103: Sub-Total | J103: Male | K103: Female | L103: Sub-Total | M103: Male | N103: Female | O103: Sub-Total | P103: Male | Q103: Female | R103: Sub-Total | S103: Male | T103: Female | U103: Sub-Total | V103: Male | W103: Female | X103: Sub-Total | Y103: Male | Z103: Female
A104: 總 計 | B104: Total | C104: 146029 | D104: 89837 | E104: 56192 | F104: 288703 | G104: 155932 | H104: 132771 | I104: 2452 | J104: 1753 | K104: 699 | L104: 2533 | M104: 1800 | N104: 733 | O104: 35047 | P104: 23515 | Q104: 11532 | R104: 49686 | S104: 30401 | T104: 19285 | U104: 108530 | V104: 64569 | W104: 43961 | X104: 236484 | Y104: 123731 | Z104: 112753 | AA104: 1.6065769 | AB104: 1.2409519
A105: 新北市 | B105: New Taipei City | C105: 18041 | D105: 10894 | E105: 7147 | F105: 35091 | G105: 18658 | H105: 16433 | I105: 73 | J105: 61 | K105: 12 | L105: 81 | M105: 65 | N105: 16 | O105: 1345 | P105: 879 | Q105: 466 | R105: 2106 | S105: 1239 | T105: 867 | U105: 16623 | V105: 9954 | W105: 6669 | X105: 32904 | Y105: 17354 | Z105: 15550 | AA105: 1.1007939 | AB105: 0.87825184
A106: 臺北市 | B106: Taipei City | C106: 21909 | D106: 12065 | E106: 9844 | F106: 44476 | G106: 22610 | H106: 21866 | I106: 1474 | J106: 1040 | K106: 434 | L106: 1528 | M106: 1069 | N106: 459 | O106: 6644 | P106: 4125 | Q106: 2519 | R106: 8691 | S106: 5097 | T106: 3594 | U106: 13791 | V106: 6900 | W106: 6891 | X106: 34257 | Y106: 16444 | Z106: 17813 | AA106: 2.0846238 | AB106: 1.7928948
A107: 桃園市 | B107: Taoyuan City | C107: 12091 | D107: 7071 | E107: 5020 | F107: 28305 | G107: 14570 | H107: 13735 | I107: 67 | J107: 46 | K107: 21 | L107: 69 | M107: 47 | N107: 22 | O107: 1397 | P107: 917 | Q107: 480 | R107: 2529 | S107: 1474 | T107: 1055 | U107: 10627 | V107: 6108 | W107: 4519 | X107: 25707 | Y107: 13049 | Z107: 12658 | AA107: 1.3763765 | AB107: 1.2406507
A108: 臺中市 | B108: Taichung City | C108: 20398 | D108: 11824 | E108: 8574 | F108: 44247 | G108: 23043 | H108: 21204 | I108: 412 | J108: 299 | K108: 113 | L108: 420 | M108: 306 | N108: 114 | O108: 7113 | P108: 4653 | Q108: 2460 | R108: 11170 | S108: 6561 | T108: 4609 | U108: 12873 | V108: 6872 | W108: 6001 | X108: 32657 | Y108: 16176 | Z108: 16481 | AA108: 1.9730688 | AB108: 1.5721316
A109: 臺南市 | B109: Tainan City | C109: 8775 | D109: 5912 | E109: 2863 | F109: 15214 | G109: 8853 | H109: 6361 | I109: 181 | J109: 124 | K109: 57 | L109: 183 | M109: 125 | N109: 58 | O109: 2912 | P109: 2073 | Q109: 839 | R109: 3528 | S109: 2372 | T109: 1156 | U109: 5682 | V109: 3715 | W109: 1967 | X109: 11503 | Y109: 6356 | Z109: 5147 | AA109: 1.2246299 | AB109: 0.82104828
A110: 高雄市 | B110: Kaohsiung City | C110: 15091 | D110: 9433 | E110: 5658 | F110: 29344 | G110: 15750 | H110: 13594 | I110: 60 | J110: 35 | K110: 25 | L110: 64 | M110: 38 | N110: 26 | O110: 6874 | P110: 4560 | Q110: 2314 | R110: 9135 | S110: 5630 | T110: 3505 | U110: 8157 | V110: 4838 | W110: 3319 | X110: 20145 | Y110: 10082 | Z110: 10063 | AA110: 1.3275158 | AB110: 1.0756058
A111: 宜蘭縣 | B111: Yilan County | C111: 2805 | D111: 1779 | E111: 1026 | F111: 5081 | G111: 2881 | H111: 2200 | I111: 7 | J111: 6 | K111: 1 | L111: 7 | M111: 6 | N111: 1 | O111: 259 | P111: 185 | Q111: 74 | R111: 363 | S111: 243 | T111: 120 | U111: 2539 | V111: 1588 | W111: 951 | X111: 4711 | Y111: 2632 | Z111: 2079 | AA111: 1.5930802 | AB111: 1.1314696
A112: 新竹縣 | B112: Hsinchu County | C112: 1920 | D112: 1233 | E112: 687 | F112: 4241 | G112: 2278 | H112: 1963 | I112: 6 | J112: 6 | K112: 0 | L112: 6 | M112: 6 | N112: 0 | O112: 264 | P112: 194 | Q112: 70 | R112: 381 | S112: 249 | T112: 132 | U112: 1650 | V112: 1033 | W112: 617 | X112: 3854 | Y112: 2023 | Z112: 1831 | AA112: 0.89228867 | AB112: 0.73057331
A113: 苗栗縣 | B113: Miaoli County | C113: 3099 | D113: 2055 | E113: 1044 | F113: 5851 | G113: 3310 | H113: 2541 | I113: 1 | J113: 1 | K113: 0 | L113: 1 | M113: 1 | N113: 0 | O113: 1152 | P113: 856 | Q113: 296 | R113: 1707 | S113: 1120 | T113: 587 | U113: 1946 | V113: 1198 | W113: 748 | X113: 4143 | Y113: 2189 | Z113: 1954 | AA113: 1.5728968 | AB113: 1.0933751
A114: 彰化縣 | B114: Changhua County | C114: 7562 | D114: 4879 | E114: 2683 | F114: 12594 | G114: 7206 | H114: 5388 | I114: 3 | J114: 3 | K114: 0 | L114: 3 | M114: 3 | N114: 0 | O114: 88 | P114: 61 | Q114: 27 | R114: 133 | S114: 87 | T114: 46 | U114: 7471 | V114: 4815 | W114: 2656 | X114: 12458 | Y114: 7116 | Z114: 5342 | AA114: 1.8791313 | AB114: 1.0113721
A115: 南投縣 | B115: Nantou County | C115: 2566 | D115: 1813 | E115: 753 | F115: 4343 | G115: 2605 | H115: 1738 | I115: 3 | J115: 2 | K115: 1 | L115: 3 | M115: 2 | N115: 1 | O115: 125 | P115: 89 | Q115: 36 | R115: 223 | S115: 135 | T115: 88 | U115: 2438 | V115: 1722 | W115: 716 | X115: 4117 | Y115: 2468 | Z115: 1649 | AA115: 1.4262925 | AB115: 0.90555573
... A126: 連江縣 | B126: Lienchiang County | C126: 48 | D126: 34 | E126: 14 | F126: 83 | G126: 50 | H126: 33 | I126: 16 | J126: 11 | K126: 5 | L126: 17 | M126: 12 | N126: 5 | O126: 15 | P126: 12 | Q126: 3 | R126: 25 | S126: 16 | T126: 9 | U126: 17 | V126: 11 | W126: 6 | X126: 41 | Y126: 22 | Z126: 19 | AA126: 1.322314 | AB126: 0.59357792
A127: 資料來源：直轄市、縣﹝市﹞政府。
A128: Source : County and City Government.

Sheet 2021
A2: 低收入戶戶數及人數 Number and Population of Low-Income Households
A3: 中華民國110年第1季底 , 2021Q1
A4: 地區別 Locality | C4: 總計 Grand Total | I4: 第1款(省、新北、臺中、臺南)、第0類(臺北)、第1類(高雄) Class 1 | O4: 第2款(省、新北、臺中、臺南)、第1、2類(臺北)、第2類(高雄) Class 2 | U4: 第3款(省、新北、臺中、臺南)、第3、4類(臺北、高雄) Class 3 | AA4: 低收入戶戶數占總戶數比率(%) Rate of Households (%) | AB4: 低收入戶人數占總人數比率(%) Rate of Persons (%)
C5: 戶數(戶長性別) Households | F5: 人數 Persons | I5: 戶數 Households | L5: 人數 Persons | O5: 戶數 Households | R5: 人數 Persons | U5: 戶數 Households | X5: 人數 Persons
C6: 計 | D6: 男 | E6: 女 | F6: 計 | G6: 男 | H6: 女 | I6: 計 | J6: 男 | K6: 女 | L6: 計 | M6: 男 | N6: 女 | O6: 計 | P6: 男 | Q6: 女 | R6: 計 | S6: 男 | T6: 女 | U6: 計 | V6: 男 | W6: 女 | X6: 計 | Y6: 男 | Z6: 女
C7: Sub-Total | D7: Male | E7: Female | F7: Sub-Total | G7: Male | H7: Female | I7: Sub-Total | J7: Male | K7: Female | L7: Sub-Total | M7: Male | N7: Female | O7: Sub-Total | P7: Male | Q7: Female | R7: Sub-Total | S7: Male | T7: Female | U7: Sub-Total | V7: Male | W7: Female | X7: Sub-Total | Y7: Male | Z7: Female
A8: 總 計 | B8: Total | C8: 142509 | D8: 88446 | E8: 54063 | F8: 288808 | G8: 155894 | H8: 132914 | I8: 2727 | J8: 2008 | K8: 719 | L8: 2805 | M8: 2053 | N8: 752 | O8: 34318 | P8: 23257 | Q8: 11061 | R8: 49702 | S8: 30447 | T8: 19255 | U8: 105464 | V8: 63181 | W8: 42283 | X8: 236301 | Y8: 123394 | Z8: 112907 | AA8: 1.59 | AB8: 1.23
A9: 新北市 | B9: New Taipei City | C9: 17529 | D9: 10718 | E9: 6811 | F9: 34768 | G9: 18553 | H9: 16215 | I9: 65 | J9: 54 | K9: 11 | L9: 70 | M9: 56 | N9: 14 | O9: 1275 | P9: 860 | Q9: 415 | R9: 1979 | S9: 1184 | T9: 795 | U9: 16189 | V9: 9804 | W9: 6385 | X9: 32719 | Y9: 17313 | Z9: 15406 | AA9: 1.09 | AB9: 0.86
A10: 臺北市 | B10: Taipei City | C10: 20980 | D10: 11737 | E10: 9243 | F10: 43481 | G10: 22213 | H10: 21268 | I10: 1646 | J10: 1196 | K10: 450 | L10: 1697 | M10: 1226 | N10: 471 | O10: 6201 | P10: 3882 | Q10: 2319 | R10: 8318 | S10: 4901 | T10: 3417 | U10: 13133 | V10: 6659 | W10: 6474 | X10: 33466 | Y10: 16086 | Z10: 17380 | AA10: 1.98 | AB10: 1.68
A11: 桃園市 | B11: Taoyuan City | C11: 11180 | D11: 6529 | E11: 4651 | F11: 27083 | G11: 13869 | H11: 13214 | I11: 46 | J11: 36 | K11: 10 | L11: 48 | M11: 36 | N11: 12 | O11: 1184 | P11: 759 | Q11: 425 | R11: 2214 | S11: 1263 | T11: 951 | U11: 9950 | V11: 5734 | W11: 4216 | X11: 24821 | Y11: 12570 | Z11: 12251 | AA11: 1.31 | AB11: 1.19
A12: 臺中市 | B12: Taichung City | C12: 19391 | D12: 11283 | E12: 8108 | F12: 42900 | G12: 22290 | H12: 20610 | I12: 423 | J12: 314 | K12: 109 | L12: 431 | M12: 321 | N12: 110 | O12: 6667 | P12: 4426 | Q12: 2241 | R12: 10794 | S12: 6375 | T12: 4419 | U12: 12301 | V12: 6543 | W12: 5758 | X12: 31675 | Y12: 15594 | Z12: 16081 | AA12: 1.93 | AB12: 1.52
A13: 臺南市 | B13: Tainan City | C13: 9637 | D13: 6464 | E13: 3173 | F13: 17917 | G13: 10210 | H13: 7707 | I13: 249 | J13: 174 | K13: 75 | L13: 254 | M13: 176 | N13: 78 | O13: 3109 | P13: 2218 | Q13: 891 | R13: 3852 | S13: 2569 | T13: 1283 | U13: 6279 | V13: 4072 | W13: 2207 | X13: 13811 | Y13: 7465 | Z13: 6346 | AA13: 1.37 | AB13: 0.96
A14: 高雄市 | B14: Kaohsiung City | C14: 15432 | D14: 9683 | E14: 5749 | F14: 31147 | G14: 16548 | H14: 14599 | I14: 63 | J14: 43 | K14: 20 | L14: 66 | M14: 45 | N14: 21 | O14: 6914 | P14: 4597 | Q14: 2317 | R14: 9424 | S14: 5756 | T14: 3668 | U14: 8455 | V14: 5043 | W14: 3412 | X14: 21657 | Y14: 10747 | Z14: 10910 | AA14: 1.38 | AB14: 1.13
A15: 宜蘭縣 | B15: Yilan County | C15: 2543 | D15: 1647 | E15: 896 | F15: 4669 | G15: 2668 | H15: 2001 | I15: 11 | J15: 9 | K15: 2 | L15: 11 | M15: 9 | N15: 2 | O15: 282 | P15: 208 | Q15: 74 | R15: 426 | S15: 285 | T15: 141 | U15: 2250 | V15: 1430 | W15: 820 | X15: 4232 | Y15: 2374 | Z15: 1858 | AA15: 1.47 | AB15: 1.03
A16: 新竹縣 | B16: Hsinchu County | C16: 1906 | D16: 1246 | E16: 660 | F16: 4213 | G16: 2292 | H16: 1921 | I16: 9 | J16: 8 | K16: 1 | L16: 9 | M16: 8 | N16: 1 | O16: 296 | P16: 222 | Q16: 74 | R16: 437 | S16: 282 | T16: 155 | U16: 1601 | V16: 1016 | W16: 585 | X16: 3767 | Y16: 2002 | Z16: 1765 | AA16: 0.92 | AB16: 0.74
A17: 苗栗縣 | B17: Miaoli County | C17: 3085 | D17: 1993 | E17: 1092 | F17: 5854 | G17: 3270 | H17: 2584 | I17: 1 | J17: 1 | K17: 0 | L17: 1 | M17: 1 | N17: 0 | O17: 1240 | P17: 913 | Q17: 327 | R17: 1849 | S17: 1190 | T17: 659 | U17: 1844 | V17: 1079 | W17: 765 | X17: 4004 | Y17: 2079 | Z17: 1925 | AA17: 1.59 | AB17: 1.08
A18: 彰化縣 | B18: Changhua County | C18: 7186 | D18: 4694 | E18: 2492 | F18: 11919 | G18: 6881 | H18: 5038 | I18: 2 | J18: 2 | K18: 0 | L18: 2 | M18: 2 | N18: 0 | O18: 81 | P18: 59 | Q18: 22 | R18: 118 | S18: 82 | T18: 36 | U18: 7103 | V18: 4633 | W18: 2470 | X18: 11799 | Y18: 6797 | Z18: 5002 | AA18: 1.81 | AB18: 0.94
A19: 南投縣 | B19: Nantou County | C19: 2692 | D19: 1910 | E19: 782 | F19: 4641 | G19: 2790 | H19: 1851 | I19: 5 | J19: 4 | K19: 1 | L19: 5 | M19: 4 | N19: 1 | O19: 163 | P19: 114 | Q19: 49 | R19: 292 | S19: 169 | T19: 123 | U19: 2524 | V19: 1792 | W19: 732 | X19: 4344 | Y19: 2617 | Z19: 1727 | AA19: 1.5 | AB19: 0.95
... A30: 連江縣 | B30: Lienchiang County | C30: 47 | D30: 34 | E30: 13 | F30: 83 | G30: 53 | H30: 30 | I30: 16 | J30: 12 | K30: 4 | L30: 17 | M30: 13 | N30: 4 | O30: 14 | P30: 11 | Q30: 3 | R30: 18 | S30: 12 | T30: 6 | U30: 17 | V30: 11 | W30: 6 | X30: 48 | Y30: 28 | Z30: 20 | AA30: 1.37 | AB30: 0.62
A31: 資料來源：直轄市、縣﹝市﹞政府。
A32: Source : County and City Government.
A35: 中華民國110年第2季底 , 2021 Q2
A36: 地區別 Locality | C36: 總計 Grand Total | I36: 第1款(省、新北、臺中、臺南)、第0類(臺北)、第1類(高雄) Class 1 | O36: 第2款(省、新北、臺中、臺南)、第1、2類(臺北)、第2類(高雄) Class 2 | U36: 第3款(省、新北、臺中、臺南)、第3、4類(臺北、高雄) Class 3 | AA36: 低收入戶戶數占總戶數比率(%) Rate of Households (%) | AB36: 低收入戶人數占總人數比率(%) Rate of Persons (%)
C37: 戶數(戶長性別) Households | F37: 人數 Persons | I37: 戶數 Households | L37: 人數 Persons | O37: 戶數 Households | R37: 人數 Persons | U37: 戶數 Households | X37: 人數 Persons
C38: 計 | D38: 男 | E38: 女 | F38: 計 | G38: 男 | H38: 女 | I38: 計 | J38: 男 | K38: 女 | L38: 計 | M38: 男 | N38: 女 | O38: 計 | P38: 男 | Q38: 女 | R38: 計 | S38: 男 | T38: 女 | U38: 計 | V38: 男 | W38: 女 | X38: 計 | Y38: 男 | Z38: 女
C39: Sub-Total | D39: Male | E39: Female | F39: Sub-Total | G39: Male | H39: Female | I39: Sub-Total | J39: Male | K39: Female | L39: Sub-Total | M39: Male | N39: Female | O39: Sub-Total | P39: Male | Q39: Female | R39: Sub-Total | S39: Male | T39: Female | U39: Sub-Total | V39: Male | W39: Female | X39: Sub-Total | Y39: Male | Z39: Female
A40: 總 計 | B40: Total | C40: 144923 | D40: 89777 | E40: 55146 | F40: 293638 | G40: 158387 | H40: 135251 | I40: 2712 | J40: 1997 | K40: 715 | L40: 2789 | M40: 2044 | N40: 745 | O40: 34623 | P40: 23409 | Q40: 11214 | R40: 50192 | S40: 30707 | T40: 19485 | U40: 107588 | V40: 64371 | W40: 43217 | X40: 240657 | Y40: 125636 | Z40: 115021 | AA40: 1.62 | AB40: 1.25
A41: 新北市 | B41: New Taipei City | C41: 18045 | D41: 11035 | E41: 7010 | F41: 35688 | G41: 19054 | H41: 16634 | I41: 70 | J41: 59 | K41: 11 | L41: 77 | M41: 62 | N41: 15 | O41: 1325 | P41: 895 | Q41: 430 | R41: 2077 | S41: 1245 | T41: 832 | U41: 16650 | V41: 10081 | W41: 6569 | X41: 33534 | Y41: 17747 | Z41: 15787 | AA41: 1.13 | AB41: 0.89
A42: 臺北市 | B42: Taipei City | C42: 21237 | D42: 11835 | E42: 9402 | F42: 44009 | G42: 22421 | H42: 21588 | I42: 1628 | J42: 1179 | K42: 449 | L42: 1679 | M42: 1210 | N42: 469 | O42: 6271 | P42: 3920 | Q42: 2351 | R42: 8419 | S42: 4955 | T42: 3464 | U42: 13338 | V42: 6736 | W42: 6602 | X42: 33911 | Y42: 16256 | Z42: 17655 | AA42: 2.01 | AB42: 1.71
A43: 桃園市 | B43: Taoyuan City | C43: 11516 | D43: 6698 | E43: 4818 | F43: 27815 | G43: 14250 | H43: 13565 | I43: 46 | J43: 36 | K43: 10 | L43: 48 | M43: 36 | N43: 12 | O43: 1224 | P43: 780 | Q43: 444 | R43: 2272 | S43: 1298 | T43: 974 | U43: 10246 | V43: 5882 | W43: 4364 | X43: 25495 | Y43: 12916 | Z43: 12579 | AA43: 1.35 | AB43: 1.22
A44: 臺中市 | B44: Taichung City | C44: 19731 | D44: 11460 | E44: 8271 | F44: 43571 | G44: 22631 | H44: 20940 | I44: 427 | J44: 317 | K44: 110 | L44: 435 | M44: 324 | N44: 111 | O44: 6752 | P44: 4467 | Q44: 2285 | R44: 10895 | S44: 6411 | T44: 4484 | U44: 12552 | V44: 6676 | W44: 5876 | X44: 32241 | Y44: 15896 | Z44: 16345 | AA44: 1.95 | AB44: 1.55
A45: 臺南市 | B45: Tainan City | C45: 9676 | D45: 6498 | E45: 3178 | F45: 17968 | G45: 10246 | H45: 7722 | I45: 242 | J45: 170 | K45: 72 | L45: 245 | M45: 172 | N45: 73 | O45: 3108 | P45: 2217 | Q45: 891 | R45: 3850 | S45: 2569 | T45: 1281 | U45: 6326 | V45: 4111 | W45: 2215 | X45: 13873 | Y45: 7505 | Z45: 6368 | AA45: 1.37 | AB45: 0.96
A46: 高雄市 | B46: Kaohsiung City | C46: 15507 | D46: 9726 | E46: 5781 | F46: 31350 | G46: 16672 | H46: 14678 | I46: 60 | J46: 41 | K46: 19 | L46: 62 | M46: 43 | N46: 19 | O46: 6940 | P46: 4614 | Q46: 2326 | R46: 9466 | S46: 5786 | T46: 3680 | U46: 8507 | V46: 5071 | W46: 3436 | X46: 21822 | Y46: 10843 | Z46: 10979 | AA46: 1.38 | AB46: 1.14
A47: 宜蘭縣 | B47: Yilan County | C47: 2581 | D47: 1663 | E47: 918 | F47: 4746 | G47: 2702 | H47: 2044 | I47: 11 | J47: 9 | K47: 2 | L47: 11 | M47: 9 | N47: 2 | O47: 280 | P47: 207 | Q47: 73 | R47: 419 | S47: 281 | T47: 138 | U47: 2290 | V47: 1447 | W47: 843 | X47: 4316 | Y47: 2412 | Z47: 1904 | AA47: 1.49 | AB47: 1.05
A48: 新竹縣 | B48: Hsinchu County | C48: 1947 | D48: 1267 | E48: 680 | F48: 4296 | G48: 2337 | H48: 1959 | I48: 9 | J48: 9 | K48: 0 | L48: 9 | M48: 9 | N48: 0 | O48: 295 | P48: 219 | Q48: 76 | R48: 436 | S48: 280 | T48: 156 | U48: 1643 | V48: 1039 | W48: 604 | X48: 3851 | Y48: 2048 | Z48: 1803 | AA48: 0.94 | AB48: 0.75
A49: 苗栗縣 | B49: Miaoli County | C49: 3126 | D49: 2024 | E49: 1102 | F49: 5938 | G49: 3326 | H49: 2612 | I49: 1 | J49: 1 | K49: 0 | L49: 1 | M49: 1 | N49: 0 | O49: 1238 | P49: 914 | Q49: 324 | R49: 1853 | S49: 1196 | T49: 657 | U49: 1887 | V49: 1109 | W49: 778 | X49: 4084 | Y49: 2129 | Z49: 1955 | AA49: 1.61 | AB49: 1.1
A50: 彰化縣 | B50: Changhua County | C50: 7305 | D50: 4766 | E50: 2539 | F50: 12147 | G50: 6999 | H50: 5148 | I50: 2 | J50: 2 | K50: 0 | L50: 2 | M50: 2 | N50: 0 | O50: 85 | P50: 60 | Q50: 25 | R50: 133 | S50: 91 | T50: 42 | U50: 7218 | V50: 4704 | W50: 2514 | X50: 12012 | Y50: 6906 | Z50: 5106 | AA50: 1.84 | AB50: 0.96
A51: 南投縣 | B51: Nantou County | C51: 2707 | D51: 1921 | E51: 786 | F51: 4687 | G51: 2812 | H51: 1875 | I51: 5 | J51: 4 | K51: 1 | L51: 5 | M51: 4 | N51: 1 | O51: 153 | P51: 105 | Q51: 48 | R51: 280 | S51: 160 | T51: 120 | U51: 2549 | V51: 1812 | W51: 737 | X51: 4402 | Y51: 2648 | Z51: 1754 | AA51: 1.51 | AB51: 0.96
... A62: 連江縣 | B62: Lienchiang County | C62: 48 | D62: 35 | E62: 13 | F62: 87 | G62: 53 | H62: 34 | I62: 15 | J62: 11 | K62: 4 | L62: 16 | M62: 12 | N62: 4 | O62: 14 | P62: 11 | Q62: 3 | R62: 18 | S62: 12 | T62: 6 | U62: 19 | V62: 13 | W62: 6 | X62: 53 | Y62: 29 | Z62: 24 | AA62: 1.39 | AB62: 0.65
A63: 資料來源：直轄市、縣﹝市﹞政府。
A64: Source : County and City Government.
B65: 總計 | C65: =C40-SUM(C41:C46)-#REF! -> #REF! | D65: =D40-SUM(D41:D46)-#REF! -> #REF! | E65: =E40-SUM(E41:E46)-#REF! -> #REF! | F65: =F40-SUM(F41:F46)-#REF! -> #REF! | G65: =G40-SUM(G41:G46)-#REF! -> #REF! | H65: =H40-SUM(H41:H46)-#REF! -> #REF! | I65: =I40-SUM(I41:I46)-#REF! -> #REF! | J65: =J40-SUM(J41:J46)-#REF! -> #REF! | ... Z65: =Z40-SUM(Z41:Z46)-#REF! -> #REF!
B66: 台灣省 | C66: =#REF!-SUM(C47:C60) -> #REF! | D66: =#REF!-SUM(D47:D60) -> #REF! | E66: =#REF!-SUM(E47:E60) -> #REF! | F66: =#REF!-SUM(F47:F60) -> #REF! | G66: =#REF!-SUM(G47:G60) -> #REF! | H66: =#REF!-SUM(H47:H60) -> #REF! | I66: =#REF!-SUM(I47:I60) -> #REF! | J66: =#REF!-SUM(J47:J60) -> #REF! | ... Z66: =#REF!-SUM(Z47:Z60) -> #REF!
B67: 福建省 | C67: =#REF!-C61-C62 -> #REF! | D67: =#REF!-D61-D62 -> #REF! | E67: =#REF!-E61-E62 -> #REF! | F67: =#REF!-F61-F62 -> #REF! | G67: =#REF!-G61-G62 -> #REF! | H67: =#REF!-H61-H62 -> #REF! | I67: =#REF!-I61-I62 -> #REF! | J67: =#REF!-J61-J62 -> #REF! | ... Z67: =#REF!-Z61-Z62 -> #REF!
B68: 核年季 | C68: =C40-歷年Yearly!#REF! -> #REF! | D68: =D40-歷年Yearly!#REF! -> #REF! | E68: =E40-歷年Yearly!#REF! -> #REF! | F68: =F40-歷年Yearly!#REF! -> #REF! | G68: =G40-歷年Yearly!#REF! -> #REF! | H68: =H40-歷年Yearly!#REF! -> #REF! | I68: =I40-歷年Yearly!#REF! -> #REF! | L68: =L40-歷年Yearly!#REF! -> #REF! | O68: =O40-歷年Yearly!#REF! -> #REF! | R68: =R40-歷年Yearly!#REF! -> #REF! | U68: =U40-歷年Yearly!#REF! -> #REF! | X68: =X40-歷年Yearly!#REF! -> #REF! | AA68: =AA40-歷年Yearly!#REF! -> #REF! | AB68: =AB40-歷年Yearly!#REF! -> #REF!
A71: 中華民國110年第3季底 , 2021 Q3
A72: 地區別 Locality | C72: 總計 Grand Total | I72: 第1款(省、新北、臺中、臺南)、第0類(臺北)、第1類(高雄) Class 1 | O72: 第2款(省、新北、臺中、臺南)、第1、2類(臺北)、第2類(高雄) Class 2 | U72: 第3款(省、新北、臺中、臺南)、第3、4類(臺北、高雄) Class 3 | AA72: 低收入戶戶數占總戶數比率(%) Rate of Households (%) | AB72: 低收入戶人數占總人數比率(%) Rate of Persons (%)
C73: 戶數(戶長性別) Households | F73: 人數 Persons | I73: 戶數 Households | L73: 人數 Persons | O73: 戶數 Households | R73: 人數 Persons | U73: 戶數 Households | X73: 人數 Persons
C74: 計 | D74: 男 | E74: 女 | F74: 計 | G74: 男 | H74: 女 | I74: 計 | J74: 男 | K74: 女 | L74: 計 | M74: 男 | N74: 女 | O74: 計 | P74: 男 | Q74: 女 | R74: 計 | S74: 男 | T74: 女 | U74: 計 | V74: 男 | W74: 女 | X74: 計 | Y74: 男 | Z74: 女
C75: Sub-Total | D75: Male | E75: Female | F75: Sub-Total | G75: Male | H75: Female | I75: Sub-Total | J75: Male | K75: Female | L75: Sub-Total | M75: Male | N75: Female | O75: Sub-Total | P75: Male | Q75: Female | R75: Sub-Total | S75: Male | T75: Female | U75: Sub-Total | V75: Male | W75: Female | X75: Sub-Total | Y75: Male | Z75: Female
A76: 總 計 | B76: Total | C76: 145424 | D76: 89976 | E76: 55448 | F76: 292925 | G76: 158156 | H76: 134769 | I76: 2667 | J76: 1953 | K76: 714 | L76: 2745 | M76: 2002 | N76: 743 | O76: 34651 | P76: 23435 | Q76: 11216 | R76: 49997 | S76: 30643 | T76: 19354 | U76: 108106 | V76: 64588 | W76: 43518 | X76: 240183 | Y76: 125511 | Z76: 114672 | AA76: 1.6150395 | AB76: 1.2501628
A77: 新北市 | B77: New Taipei City | C77: 18486 | D77: 11312 | E77: 7174 | F77: 36515 | G77: 19526 | H77: 16989 | I77: 74 | J77: 61 | K77: 13 | L77: 81 | M77: 65 | N77: 16 | O77: 1372 | P77: 924 | Q77: 448 | R77: 2161 | S77: 1295 | T77: 866 | U77: 17040 | V77: 10327 | W77: 6713 | X77: 34273 | Y77: 18166 | Z77: 16107 | AA77: 1.140764 | AB77: 0.90886871
A78: 臺北市 | B78: Taipei City | C78: 21416 | D78: 11882 | E78: 9534 | F78: 44293 | G78: 22554 | H78: 21739 | I78: 1599 | J78: 1152 | K78: 447 | L78: 1652 | M78: 1184 | N78: 468 | O78: 6337 | P78: 3957 | Q78: 2380 | R78: 8483 | S78: 5001 | T78: 3482 | U78: 13480 | V78: 6773 | W78: 6707 | X78: 34158 | Y78: 16369 | Z78: 17789 | AA78: 2.025485 | AB78: 1.7405844
A79: 桃園市 | B79: Taoyuan City | C79: 11676 | D79: 6793 | E79: 4883 | F79: 28071 | G79: 14414 | H79: 13657 | I79: 47 | J79: 36 | K79: 11 | L79: 49 | M79: 36 | N79: 13 | O79: 1242 | P79: 800 | Q79: 442 | R79: 2308 | S79: 1329 | T79: 979 | U79: 10387 | V79: 5957 | W79: 4430 | X79: 25714 | Y79: 13049 | Z79: 12665 | AA79: 1.3574471 | AB79: 1.235078
A80: 臺中市 | B80: Taichung City | C80: 19866 | D80: 11553 | E80: 8313 | F80: 43658 | G80: 22716 | H80: 20942 | I80: 417 | J80: 308 | K80: 109 | L80: 425 | M80: 315 | N80: 110 | O80: 6778 | P80: 4489 | Q80: 2289 | R80: 10886 | S80: 6416 | T80: 4470 | U80: 12671 | V80: 6756 | W80: 5915 | X80: 32347 | Y80: 15985 | Z80: 16362 | AA80: 1.9575037 | AB80: 1.5501388
A81: 臺南市 | B81: Tainan City | C81: 9555 | D81: 6415 | E81: 3140 | F81: 17536 | G81: 10040 | H81: 7496 | I81: 236 | J81: 165 | K81: 71 | L81: 239 | M81: 167 | N81: 72 | O81: 3080 | P81: 2195 | Q81: 885 | R81: 3805 | S81: 2540 | T81: 1265 | U81: 6239 | V81: 4055 | W81: 2184 | X81: 13492 | Y81: 7333 | Z81: 6159 | AA81: 1.346482 | AB81: 0.93972744
A82: 高雄市 | B82: Kaohsiung City | C82: 15359 | D82: 9637 | E82: 5722 | F82: 30645 | G82: 16392 | H82: 14253 | I82: 61 | J82: 41 | K82: 20 | L82: 63 | M82: 43 | N82: 20 | O82: 6911 | P82: 4604 | Q82: 2307 | R82: 9325 | S82: 5724 | T82: 3601 | U82: 8387 | V82: 4992 | W82: 3395 | X82: 21257 | Y82: 10625 | Z82: 10632 | AA82: 1.3610415 | AB82: 1.1138302
A83: 宜蘭縣 | B83: Yilan County | C83: 2612 | D83: 1668 | E83: 944 | F83: 4760 | G83: 2693 | H83: 2067 | I83: 10 | J83: 9 | K83: 1 | L83: 10 | M83: 9 | N83: 1 | O83: 283 | P83: 209 | Q83: 74 | R83: 421 | S83: 281 | T83: 140 | U83: 2319 | V83: 1450 | W83: 869 | X83: 4329 | Y83: 2403 | Z83: 1926 | AA83: 1.5005371 | AB83: 1.0544457
A84: 新竹縣 | B84: Hsinchu County | C84: 1951 | D84: 1264 | E84: 687 | F84: 4300 | G84: 2331 | H84: 1969 | I84: 9 | J84: 9 | K84: 0 | L84: 9 | M84: 9 | N84: 0 | O84: 294 | P84: 219 | Q84: 75 | R84: 421 | S84: 277 | T84: 144 | U84: 1648 | V84: 1036 | W84: 612 | X84: 3870 | Y84: 2045 | Z84: 1825 | AA84: 0.92921576 | AB84: 0.7484613
A85: 苗栗縣 | B85: Miaoli County | C85: 3163 | D85: 2051 | E85: 1112 | F85: 6026 | G85: 3383 | H85: 2643 | I85: 1 | J85: 1 | K85: 0 | L85: 1 | M85: 1 | N85: 0 | O85: 1232 | P85: 911 | Q85: 321 | R85: 1835 | S85: 1185 | T85: 650 | U85: 1930 | V85: 1139 | W85: 791 | X85: 4190 | Y85: 2197 | Z85: 1993 | AA85: 1.6203229 | AB85: 1.117248
A86: 彰化縣 | B86: Changhua County | C86: 7367 | D86: 4800 | E86: 2567 | F86: 12245 | G86: 7041 | H86: 5204 | I86: 2 | J86: 2 | K86: 0 | L86: 2 | M86: 2 | N86: 0 | O86: 86 | P86: 61 | Q86: 25 | R86: 131 | S86: 90 | T86: 41 | U86: 7279 | V86: 4737 | W86: 2542 | X86: 12112 | Y86: 6949 | Z86: 5163 | AA86: 1.8470186 | AB86: 0.97337662
A87: 南投縣 | B87: Nantou County | C87: 2701 | D87: 1910 | E87: 791 | F87: 4688 | G87: 2799 | H87: 1889 | I87: 4 | J87: 3 | K87: 1 | L87: 4 | M87: 3 | N87: 1 | O87: 154 | P87: 106 | Q87: 48 | R87: 285 | S87: 164 | T87: 121 | U87: 2543 | V87: 1801 | W87: 742 | X87: 4399 | Y87: 2632 | Z87: 1767 | AA87: 1.5006973 | AB87: 0.96370682
... A98: 連江縣 | B98: Lienchiang County | C98: 48 | D98: 35 | E98: 13 | F98: 87 | G98: 53 | H98: 34 | I98: 15 | J98: 11 | K98: 4 | L98: 16 | M98: 12 | N98: 4 | O98: 14 | P98: 11 | Q98: 3 | R98: 18 | S98: 12 | T98: 6 | U98: 19 | V98: 13 | W98: 6 | X98: 53 | Y98: 29 | Z98: 24 | AA98: 1.3757524 | AB98: 0.64785166
A99: 資料來源：直轄市、縣﹝市﹞政府。
A100: Source : County and City Government.
B101: 總計 | C101: =C76-SUM(C77:C82)-#REF! -> #REF! | D101: =D76-SUM(D77:D82)-#REF! -> #REF! | E101: =E76-SUM(E77:E82)-#REF! -> #REF! | F101: =F76-SUM(F77:F82)-#REF! -> #REF! | G101: =G76-SUM(G77:G82)-#REF! -> #REF! | H101: =H76-SUM(H77:H82)-#REF! -> #REF! | I101: =I76-SUM(I77:I82)-#REF! -> #REF! | J101: =J76-SUM(J77:J82)-#REF! -> #REF! | ... Z101: =Z76-SUM(Z77:Z82)-#REF! -> #REF!
B102: 台灣省 | C102: =#REF!-SUM(C83:C96) -> #REF! | D102: =#REF!-SUM(D83:D96) -> #REF! | E102: =#REF!-SUM(E83:E96) -> #REF! | F102: =#REF!-SUM(F83:F96) -> #REF! | G102: =#REF!-SUM(G83:G96) -> #REF! | H102: =#REF!-SUM(H83:H96) -> #REF! | I102: =#REF!-SUM(I83:I96) -> #REF! | J102: =#REF!-SUM(J83:J96) -> #REF! | ... Z102: =#REF!-SUM(Z83:Z96) -> #REF!
B103: 福建省 | C103: =#REF!-C97-C98 -> #REF! | D103: =#REF!-D97-D98 -> #REF! | E103: =#REF!-E97-E98 -> #REF! | F103: =#REF!-F97-F98 -> #REF! | G103: =#REF!-G97-G98 -> #REF! | H103: =#REF!-H97-H98 -> #REF! | I103: =#REF!-I97-I98 -> #REF! | J103: =#REF!-J97-J98 -> #REF! | ... Z103: =#REF!-Z97-Z98 -> #REF!
B104: 核年季 | C104: =C76-歷年Yearly!B54 -> 145424 | D104: =D76-歷年Yearly!C54 -> 89976 | E104: =E76-歷年Yearly!D54 -> 55448 | F104: =F76-歷年Yearly!H54 -> 292925 | G104: =G76-歷年Yearly!I54 -> 158156 | H104: =H76-歷年Yearly!J54 -> 134769 | I104: =I76-歷年Yearly!E54 -> 2667 | L104: =L76-歷年Yearly!K54 -> 2745 | O104: =O76-歷年Yearly!F54 -> 34651 | R104: =R76-歷年Yearly!M42 -> 49997 | U104: =U76-歷年Yearly!G54 -> 108106 | X104: =X76-歷年Yearly!M53 -> 240183 | AA104: =AA76-歷年Yearly!N53 -> 1.6150395 | AB104: =AB76-歷年Yearly!O53 -> 1.2501628
A107: 中華民國110年第4季底 , 2021 Q4
A108: 地區別 Locality | C108: 總計 Grand Total | I108: 第1款(省、新北、臺中、臺南)、第0類(臺北)、第1類(高雄) Class 1 | O108: 第2款(省、新北、臺中、臺南)、第1、2類(臺北)、第2類(高雄) Class 2 | U108: 第3款(省、新北、臺中、臺南)、第3、4類(臺北、高雄) Class 3 | AA108: 低收入戶戶數占總戶數比率(0/0) Rate of Households (%) | AB108: 低收入戶人數占總人數比率(0/0) Rate of Persons (%)
C109: 戶數(戶長性別) Households | F109: 人數 Persons | I109: 戶數 Households | L109: 人數 Persons | O109: 戶數 Households | R109: 人數 Persons | U109: 戶數 Households | X109: 人數 Persons
C110: 計 | D110: 男 | E110: 女 | F110: 計 | G110: 男 | H110: 女 | I110: 計 | J110: 男 | K110: 女 | L110: 計 | M110: 男 | N110: 女 | O110: 計 | P110: 男 | Q110: 女 | R110: 計 | S110: 男 | T110: 女 | U110: 計 | V110: 男 | W110: 女 | X110: 計 | Y110: 男 | Z110: 女
C111: Sub-Total | D111: Male | E111: Female | F111: Sub-Total | G111: Male | H111: Female | I111: Sub-Total | J111: Male | K111: Female | L111: Sub-Total | M111: Male | N111: Female | O111: Sub-Total | P111: Male | Q111: Female | R111: Sub-Total | S111: Male | T111: Female | U111: Sub-Total | V111: Male | W111: Female | X111: Sub-Total | Y111: Male | Z111: Female
A112: 總 計 | B112: Total | C112: 146995 | D112: 90786 | E112: 56209 | F112: 295901 | G112: 159633 | H112: 136268 | I112: 2646 | J112: 1927 | K112: 719 | L112: 2725 | M112: 1976 | N112: 749 | O112: 34843 | P112: 23544 | Q112: 11299 | R112: 50284 | S112: 30803 | T112: 19481 | U112: 109506 | V112: 65315 | W112: 44191 | X112: 242892 | Y112: 126854 | Z112: 116038 | AA112: 1.6320845 | AB112: 1.2658696
A113: 新北市 | B113: New Taipei City | C113: 18970 | D113: 11618 | E113: 7352 | F113: 37386 | G113: 20020 | H113: 17366 | I113: 78 | J113: 63 | K113: 15 | L113: 86 | M113: 67 | N113: 19 | O113: 1413 | P113: 954 | Q113: 459 | R113: 2220 | S113: 1331 | T113: 889 | U113: 17479 | V113: 10601 | W113: 6878 | X113: 35080 | Y113: 18622 | Z113: 16458 | AA113: 1.1703331 | AB113: 0.93275813
A114: 臺北市 | B114: Taipei City | C114: 21647 | D114: 11976 | E114: 9671 | F114: 44678 | G114: 22707 | H114: 21971 | I114: 1579 | J114: 1131 | K114: 448 | L114: 1630 | M114: 1161 | N114: 469 | O114: 6435 | P114: 4008 | Q114: 2427 | R114: 8636 | S114: 5069 | T114: 3567 | U114: 13633 | V114: 6837 | W114: 6796 | X114: 34412 | Y114: 16477 | Z114: 17935 | AA114: 2.0565345 | AB114: 1.7698512
A115: 桃園市 | B115: Taoyuan City | C115: 11802 | D115: 6864 | E115: 4938 | F115: 28359 | G115: 14553 | H115: 13806 | I115: 51 | J115: 38 | K115: 13 | L115: 53 | M115: 38 | N115: 15 | O115: 1271 | P115: 824 | Q115: 447 | R115: 2372 | S115: 1370 | T115: 1002 | U115: 10480 | V115: 6002 | W115: 4478 | X115: 25934 | Y115: 13145 | Z115: 12789 | AA115: 1.368916 | AB115: 1.2479807
A116: 臺中市 | B116: Taichung City | C116: 20168 | D116: 11699 | E116: 8469 | F116: 44205 | G116: 22994 | H116: 21211 | I116: 415 | J116: 306 | K116: 109 | L116: 424 | M116: 314 | N116: 110 | O116: 6832 | P116: 4523 | Q116: 2309 | R116: 10943 | S116: 6447 | T116: 4496 | U116: 12921 | V116: 6870 | W116: 6051 | X116: 32838 | Y116: 16233 | Z116: 16605 | AA116: 1.9824462 | AB116: 1.5711803
A117: 臺南市 | B117: Tainan City | C117: 9546 | D117: 6389 | E117: 3157 | F117: 17527 | G117: 10028 | H117: 7499 | I117: 230 | J117: 160 | K117: 70 | L117: 233 | M117: 162 | N117: 71 | O117: 3071 | P117: 2189 | Q117: 882 | R117: 3798 | S117: 2537 | T117: 1261 | U117: 6245 | V117: 4040 | W117: 2205 | X117: 13496 | Y117: 7329 | Z117: 6167 | AA117: 1.3446472 | AB117: 0.94126985
A118: 高雄市 | B118: Kaohsiung City | C118: 15368 | D118: 9634 | E118: 5734 | F118: 30563 | G118: 16334 | H118: 14229 | I118: 64 | J118: 43 | K118: 21 | L118: 67 | M118: 46 | N118: 21 | O118: 6918 | P118: 4609 | Q118: 2309 | R118: 9333 | S118: 5729 | T118: 3604 | U118: 8386 | V118: 4982 | W118: 3404 | X118: 21163 | Y118: 10559 | Z118: 10604 | AA118: 1.3614361 | AB118: 1.1135315
A119: 宜蘭縣 | B119: Yilan County | C119: 2683 | D119: 1712 | E119: 971 | F119: 4900 | G119: 2765 | H119: 2135 | I119: 10 | J119: 9 | K119: 1 | L119: 10 | M119: 9 | N119: 1 | O119: 284 | P119: 209 | Q119: 75 | R119: 421 | S119: 280 | T119: 141 | U119: 2389 | V119: 1494 | W119: 895 | X119: 4469 | Y119: 2476 | Z119: 1993 | AA119: 0.1044494 | AB119: 1.087217
A120: 新竹縣 | B120: Hsinchu County | C120: 1974 | D120: 1280 | E120: 694 | F120: 4353 | G120: 2355 | H120: 1998 | I120: 9 | J120: 9 | K120: 0 | L120: 9 | M120: 9 | N120: 0 | O120: 299 | P120: 223 | Q120: 76 | R120: 435 | S120: 288 | T120: 147 | U120: 1666 | V120: 1048 | W120: 618 | X120: 3909 | Y120: 2058 | Z120: 1851 | AA120: 0.93681038 | AB120: 0.75628062
A121: 苗栗縣 | B121: Miaoli County | C121: 3189 | D121: 2070 | E121: 1119 | F121: 6077 | G121: 3414 | H121: 2663 | I121: 1 | J121: 1 | K121: 0 | L121: 1 | M121: 1 | N121: 0 | O121: 1230 | P121: 908 | Q121: 322 | R121: 1836 | S121: 1183 | T121: 653 | U121: 1958 | V121: 1161 | W121: 797 | X121: 4240 | Y121: 2230 | Z121: 2010 | AA121: 1.6325381 | AB121: 1.1291803
A122: 彰化縣 | B122: Changhua County | C122: 7387 | D122: 4797 | E122: 2590 | F122: 12336 | G122: 7071 | H122: 5265 | I122: 2 | J122: 2 | K122: 0 | L122: 2 | M122: 2 | N122: 0 | O122: 85 | P122: 59 | Q122: 26 | R122: 130 | S122: 88 | T122: 42 | U122: 7300 | V122: 4736 | W122: 2564 | X122: 12204 | Y122: 6981 | Z122: 5223 | AA122: 1.8504555 | AB122: 0.98268981
A123: 南投縣 | B123: Nantou County | C123: 2693 | D123: 1902 | E123: 791 | F123: 4704 | G123: 2799 | H123: 1905 | I123: 4 | J123: 3 | K123: 1 | L123: 4 | M123: 3 | N123: 1 | O123: 152 | P123: 105 | Q123: 47 | R123: 284 | S123: 164 | T123: 120 | U123: 2537 | V123: 1794 | W123: 743 | X123: 4416 | Y123: 2632 | Z123: 1784 | AA123: 1.4976504 | AB123: 0.97010293
... A134: 連江縣 | B134: Lienchiang County | C134: 47 | D134: 34 | E134: 13 | F134: 86 | G134: 51 | H134: 35 | I134: 14 | J134: 10 | K134: 4 | L134: 15 | M134: 11 | N134: 4 | O134: 15 | P134: 12 | Q134: 3 | R134: 19 | S134: 13 | T134: 6 | U134: 18 | V134: 12 | W134: 6 | X134: 52 | Y134: 27 | Z134: 25 | AA134: 1.331822 | AB134: 0.6302675
A135: 資料來源：直轄市、縣﹝市﹞政府。
A136: Source : County and City Government.
B137: 總計 | C137: =C112-SUM(C113:C118)-#REF! -> #REF! | D137: =D112-SUM(D113:D118)-#REF! -> #REF! | E137: =E112-SUM(E113:E118)-#REF! -> #REF! | F137: =F112-SUM(F113:F118)-#REF! -> #REF! | G137: =G112-SUM(G113:G118)-#REF! -> #REF! | H137: =H112-SUM(H113:H118)-#REF! -> #REF! | I137: =I112-SUM(I113:I118)-#REF! -> #REF! | J137: =J112-SUM(J113:J118)-#REF! -> #REF! | ... Z137: =Z112-SUM(Z113:Z118)-#REF! -> #REF!
B138: 台灣省 | C138: =#REF!-SUM(C119:C132) -> #REF! | D138: =#REF!-SUM(D119:D132) -> #REF! | E138: =#REF!-SUM(E119:E132) -> #REF! | F138: =#REF!-SUM(F119:F132) -> #REF! | G138: =#REF!-SUM(G119:G132) -> #REF! | H138: =#REF!-SUM(H119:H132) -> #REF! | I138: =#REF!-SUM(I119:I132) -> #REF! | J138: =#REF!-SUM(J119:J132) -> #REF! | ... Z138: =#REF!-SUM(Z119:Z132) -> #REF!
B139: 福建省 | C139: =#REF!-C133-C134 -> #REF! | D139: =#REF!-D133-D134 -> #REF! | E139: =#REF!-E133-E134 -> #REF! | F139: =#REF!-F133-F134 -> #REF! | G139: =#REF!-G133-G134 -> #REF! | H139: =#REF!-H133-H134 -> #REF! | I139: =#REF!-I133-I134 -> #REF! | J139: =#REF!-J133-J134 -> #REF! | ... Z139: =#REF!-Z133-Z134 -> #REF!
B140: 核年季 | C140: =C112-歷年Yearly!B93 -> 146995 | D140: =D112-歷年Yearly!C93 -> 90786 | E140: =E112-歷年Yearly!D93 -> 56209 | F140: =F112-歷年Yearly!H93 -> 295901 | G140: =G112-歷年Yearly!I93 -> 159633 | H140: =H112-歷年Yearly!J93 -> 136268 | I140: =I112-歷年Yearly!E93 -> 2646 | L140: =L112-歷年Yearly!K93 -> 2725 | O140: =O112-歷年Yearly!F93 -> 34843 | R140: =R112-歷年Yearly!L92 -> 50284 | U140: =U112-歷年Yearly!G93 -> 109506 | X140: =X112-歷年Yearly!M92 -> 242892 | AA140: =AA112-歷年Yearly!N92 -> 1.6320845 | AB140: =AB112-歷年Yearly!O92 -> 1.2658696

Sheet 2020
A2: 低收入戶戶數及人數 Number and Population of Low-Income Households
A3: 中華民國109年第1季底 , 2020Q1
A4: 地區別 Locality | C4: 總計 Grand Total | I4: 第1款(省、新北、臺中、臺南)、第0類(臺北)、第1類(高雄) Class 1 | O4: 第2款(省、新北、臺中、臺南)、第1、2類(臺北)、第2類(高雄) Class 2 | U4: 第3款(省、新北、臺中、臺南)、第3、4類(臺北、高雄) Class 3 | AA4: 低收入戶戶數占總戶數比率(%) Rate of Households (%) | AB4: 低收入戶人數占總人數比率(%) Rate of Persons (%)
C5: 戶數(戶長性別) Households | F5: 人數 Persons | I5: 戶數 Households | L5: 人數 Persons | O5: 戶數 Households | R5: 人數 Persons | U5: 戶數 Households | X5: 人數 Persons
C6: 計 | D6: 男 | E6: 女 | F6: 計 | G6: 男 | H6: 女 | I6: 計 | J6: 男 | K6: 女 | L6: 計 | M6: 男 | N6: 女 | O6: 計 | P6: 男 | Q6: 女 | R6: 計 | S6: 男 | T6: 女 | U6: 計 | V6: 男 | W6: 女 | X6: 計 | Y6: 男 | Z6: 女
C7: Sub-Total | D7: Male | E7: Female | F7: Sub-Total | G7: Male | H7: Female | I7: Sub-Total | J7: Male | K7: Female | L7: Sub-Total | M7: Male | N7: Female | O7: Sub-Total | P7: Male | Q7: Female | R7: Sub-Total | S7: Male | T7: Female | U7: Sub-Total | V7: Male | W7: Female | X7: Sub-Total | Y7: Male | Z7: Female
A8: 總 計 | B8: Total | C8: 140035 | D8: 86881 | E8: 53154 | F8: 290204 | G8: 155763 | H8: 134441 | I8: 2836 | J8: 2089 | K8: 747 | L8: 2928 | M8: 2142 | N8: 786 | O8: 33773 | P8: 22801 | Q8: 10972 | R8: 49949 | S8: 30325 | T8: 19624 | U8: 103426 | V8: 61991 | W8: 41435 | X8: 237327 | Y8: 123296 | Z8: 114031 | AA8: 1.5826082 | AB8: 1.2298607
A9: 新北市 | B9: New Taipei City | C9: 17515 | D9: 10681 | E9: 6834 | F9: 36139 | G9: 19143 | H9: 16996 | I9: 68 | J9: 55 | K9: 13 | L9: 70 | M9: 55 | N9: 15 | O9: 1268 | P9: 860 | Q9: 408 | R9: 2029 | S9: 1215 | T9: 814 | U9: 16179 | V9: 9766 | W9: 6413 | X9: 34040 | Y9: 17873 | Z9: 16167 | AA9: 1.1027875 | AB9: 0.8981713
A10: 臺北市 | B10: Taipei City | C10: 20480 | D10: 11489 | E10: 8991 | F10: 43090 | G10: 21889 | H10: 21201 | I10: 1727 | J10: 1258 | K10: 469 | L10: 1789 | M10: 1293 | N10: 496 | O10: 5948 | P10: 3706 | Q10: 2242 | R10: 8217 | S10: 4789 | T10: 3428 | U10: 12805 | V10: 6525 | W10: 6280 | X10: 33084 | Y10: 15807 | Z10: 17277 | AA10: 1.9319898 | AB10: 1.6351166
A11: 桃園市 | B11: Taoyuan City | C11: 10131 | D11: 5848 | E11: 4283 | F11: 24804 | G11: 12675 | H11: 12129 | I11: 45 | J11: 35 | K11: 10 | L11: 48 | M11: 35 | N11: 13 | O11: 1159 | P11: 752 | Q11: 407 | R11: 2172 | S11: 1246 | T11: 926 | U11: 8927 | V11: 5061 | W11: 3866 | X11: 22584 | Y11: 11394 | Z11: 11190 | AA11: 1.2209996 | AB11: 1.1002665
A12: 臺中市 | B12: Taichung City | C12: 19117 | D12: 11131 | E12: 7986 | F12: 43266 | G12: 22337 | H12: 20929 | I12: 387 | J12: 294 | K12: 93 | L12: 397 | M12: 303 | N12: 94 | O12: 6357 | P12: 4150 | Q12: 2207 | R12: 10476 | S12: 6094 | T12: 4382 | U12: 12373 | V12: 6687 | W12: 5686 | X12: 32393 | Y12: 15940 | Z12: 16453 | AA12: 1.9319409 | AB12: 1.5360708
A13: 臺南市 | B13: Tainan City | C13: 9558 | D13: 6396 | E13: 3162 | F13: 18252 | G13: 10293 | H13: 7959 | I13: 281 | J13: 198 | K13: 83 | L13: 287 | M13: 201 | N13: 86 | O13: 3084 | P13: 2195 | Q13: 889 | R13: 3859 | S13: 2566 | T13: 1293 | U13: 6193 | V13: 4003 | W13: 2190 | X13: 14106 | Y13: 7526 | Z13: 6580 | AA13: 1.3709417 | AB13: 0.9713083
A14: 高雄市 | B14: Kaohsiung City | C14: 16137 | D14: 10038 | E14: 6099 | F14: 33928 | G14: 17830 | H14: 16098 | I14: 74 | J14: 50 | K14: 24 | L14: 78 | M14: 53 | N14: 25 | O14: 7018 | P14: 4644 | Q14: 2374 | R14: 9902 | S14: 5957 | T14: 3945 | U14: 9045 | V14: 5344 | W14: 3701 | X14: 23948 | Y14: 11820 | Z14: 12128 | AA14: 1.4517696 | AB14: 1.2230784
A15: 宜蘭縣 | B15: Yilan County | C15: 2478 | D15: 1633 | E15: 845 | F15: 4583 | G15: 2663 | H15: 1920 | I15: 12 | J15: 9 | K15: 3 | L15: 12 | M15: 9 | N15: 3 | O15: 285 | P15: 213 | Q15: 72 | R15: 420 | S15: 288 | T15: 132 | U15: 2181 | V15: 1411 | W15: 770 | X15: 4151 | Y15: 2366 | Z15: 1785 | AA15: 1.4485468 | AB15: 1.0095803
A16: 新竹縣 | B16: Hsinchu County | C16: 1791 | D16: 1171 | E16: 620 | F16: 4010 | G16: 2142 | H16: 1868 | I16: 10 | J16: 9 | K16: 1 | L16: 10 | M16: 9 | N16: 1 | O16: 296 | P16: 227 | Q16: 69 | R16: 433 | S16: 288 | T16: 145 | U16: 1485 | V16: 935 | W16: 550 | X16: 3567 | Y16: 1845 | Z16: 1722 | AA16: 0.88952241 | AB16: 0.709393
A17: 苗栗縣 | B17: Miaoli County | C17: 2929 | D17: 1913 | E17: 1016 | F17: 5673 | G17: 3229 | H17: 2444 | I17: 1 | J17: 1 | K17: 0 | L17: 1 | M17: 1 | N17: 0 | O17: 1242 | P17: 906 | Q17: 336 | R17: 1860 | S17: 1199 | T17: 661 | U17: 1686 | V17: 1006 | W17: 680 | X17: 3812 | Y17: 2029 | Z17: 1783 | AA17: 1.529472 | AB17: 1.0413722
A18: 彰化縣 | B18: Changhua County | C18: 6996 | D18: 4546 | E18: 2450 | F18: 11769 | G18: 6749 | H18: 5020 | I18: 1 | J18: 1 | K18: 0 | L18: 1 | M18: 1 | N18: 0 | O18: 83 | P18: 61 | Q18: 22 | R18: 119 | S18: 80 | T18: 39 | U18: 6912 | V18: 4484 | W18: 2428 | X18: 11649 | Y18: 6668 | Z18: 4981 | AA18: 1.77884 | AB18: 0.92595288
A19: 南投縣 | B19: Nantou County | C19: 2748 | D19: 1931 | E19: 817 | F19: 4915 | G19: 2923 | H19: 1992 | I19: 7 | J19: 6 | K19: 1 | L19: 8 | M19: 7 | N19: 1 | O19: 188 | P19: 128 | Q19: 60 | R19: 329 | S19: 186 | T19: 143 | U19: 2553 | V19: 1797 | W19: 756 | X19: 4578 | Y19: 2730 | Z19: 1848 | AA19: 1.5353671 | AB19: 0.99614311
... A30: 連江縣 | B30: Lienchiang County | C30: 50 | D30: 34 | E30: 16 | F30: 93 | G30: 55 | H30: 38 | I30: 13 | J30: 9 | K30: 4 | L30: 14 | M30: 10 | N30: 4 | O30: 17 | P30: 13 | Q30: 4 | R30: 24 | S30: 17 | T30: 7 | U30: 20 | V30: 12 | W30: 8 | X30: 55 | Y30: 28 | Z30: 27 | AA30: 1.5309247 | AB30: 0.71351849
A31: 資料來源：直轄市、縣﹝市﹞政府。
A32: Source : County and City Government.
A35: 中華民國109年第2季底 , 2020 Q2
A36: 地區別 Locality | C36: 總計 Grand Total | I36: 第1款(省、新北、臺中、臺南)、第0類(臺北)、第1類(高雄) Class 1 | O36: 第2款(省、新北、臺中、臺南)、第1、2類(臺北)、第2類(高雄) Class 2 | U36: 第3款(省、新北、臺中、臺南)、第3、4類(臺北、高雄) Class 3 | AA36: 低收入戶戶數占總戶數比率(%) Rate of Households (%) | AB36: 低收入戶人數占總人數比率(%) Rate of Persons (%)
C37: 戶數(戶長性別) Households | F37: 人數 Persons | I37: 戶數 Households | L37: 人數 Persons | O37: 戶數 Households | R37: 人數 Persons | U37: 戶數 Households | X37: 人數 Persons
C38: 計 | D38: 男 | E38: 女 | F38: 計 | G38: 男 | H38: 女 | I38: 計 | J38: 男 | K38: 女 | L38: 計 | M38: 男 | N38: 女 | O38: 計 | P38: 男 | Q38: 女 | R38: 計 | S38: 男 | T38: 女 | U38: 計 | V38: 男 | W38: 女 | X38: 計 | Y38: 男 | Z38: 女
C39: Sub-Total | D39: Male | E39: Female | F39: Sub-Total | G39: Male | H39: Female | I39: Sub-Total | J39: Male | K39: Female | L39: Sub-Total | M39: Male | N39: Female | O39: Sub-Total | P39: Male | Q39: Female | R39: Sub-Total | S39: Male | T39: Female | U39: Sub-Total | V39: Male | W39: Female | X39: Sub-Total | Y39: Male | Z39: Female
A40: 總 計 | B40: Total | C40: 143453 | D40: 88911 | E40: 54542 | F40: 296785 | G40: 159292 | H40: 137493 | I40: 2797 | J40: 2058 | K40: 739 | L40: 2957 | M40: 2150 | N40: 807 | O40: 34208 | P40: 23059 | Q40: 11149 | R40: 50494 | S40: 30654 | T40: 19840 | U40: 106448 | V40: 63794 | W40: 42654 | X40: 243334 | Y40: 126488 | Z40: 116846 | AA40: 1.6165168 | AB40: 1.2584262
A41: 新北市 | B41: New Taipei City | C41: 18224 | D41: 11114 | E41: 7110 | F41: 37504 | G41: 19863 | H41: 17641 | I41: 72 | J41: 59 | K41: 13 | L41: 75 | M41: 60 | N41: 15 | O41: 1304 | P41: 879 | Q41: 425 | R41: 2084 | S41: 1246 | T41: 838 | U41: 16848 | V41: 10176 | W41: 6672 | X41: 35345 | Y41: 18557 | Z41: 16788 | AA41: 1.1432077 | AB41: 0.93139551
A42: 臺北市 | B42: Taipei City | C42: 20813 | D42: 11658 | E42: 9155 | F42: 43747 | G42: 22223 | H42: 21524 | I42: 1691 | J42: 1226 | K42: 465 | L42: 1751 | M42: 1261 | N42: 490 | O42: 6041 | P42: 3761 | Q42: 2280 | R42: 8343 | S42: 4861 | T42: 3482 | U42: 13081 | V42: 6671 | W42: 6410 | X42: 33653 | Y42: 16101 | Z42: 17552 | AA42: 1.962898 | AB42: 1.6670966
A43: 桃園市 | B43: Taoyuan City | C43: 10676 | D43: 6168 | E43: 4508 | F43: 26132 | G43: 13325 | H43: 12807 | I43: 46 | J43: 35 | K43: 11 | L43: 49 | M43: 35 | N43: 14 | O43: 1199 | P43: 775 | Q43: 424 | R43: 2268 | S43: 1299 | T43: 969 | U43: 9431 | V43: 5358 | W43: 4073 | X43: 23815 | Y43: 11991 | Z43: 11824 | AA43: 1.279401 | AB43: 1.1572566
A44: 臺中市 | B44: Taichung City | C44: 19608 | D44: 11418 | E44: 8190 | F44: 44229 | G44: 22827 | H44: 21402 | I44: 392 | J44: 298 | K44: 94 | L44: 402 | M44: 307 | N44: 95 | O44: 6455 | P44: 4216 | Q44: 2239 | R44: 10612 | S44: 6179 | T44: 4433 | U44: 12761 | V44: 6904 | W44: 5857 | X44: 33215 | Y44: 16341 | Z44: 16874 | AA44: 1.9743599 | AB44: 1.5701208
A45: 臺南市 | B45: Tainan City | C45: 9673 | D45: 6458 | E45: 3215 | F45: 18386 | G45: 10364 | H45: 8022 | I45: 274 | J45: 193 | K45: 81 | L45: 280 | M45: 196 | N45: 84 | O45: 3109 | P45: 2209 | Q45: 900 | R45: 3878 | S45: 2570 | T45: 1308 | U45: 6290 | V45: 4056 | W45: 2234 | X45: 14228 | Y45: 7598 | Z45: 6630 | AA45: 1.383646 | AB45: 0.97907706
A46: 高雄市 | B46: Kaohsiung City | C46: 16332 | D46: 10163 | E46: 6169 | F46: 34359 | G46: 18067 | H46: 16292 | I46: 73 | J46: 50 | K46: 23 | L46: 77 | M46: 53 | N46: 24 | O46: 7054 | P46: 4662 | Q46: 2392 | R46: 9936 | S46: 5974 | T46: 3962 | U46: 9205 | V46: 5451 | W46: 3754 | X46: 24346 | Y46: 12040 | Z46: 12306 | AA46: 1.4662248 | AB46: 1.239571
A47: 宜蘭縣 | B47: Yilan County | C47: 2512 | D47: 1650 | E47: 862 | F47: 4665 | G47: 2697 | H47: 1968 | I47: 11 | J47: 8 | K47: 3 | L47: 11 | M47: 8 | N47: 3 | O47: 287 | P47: 215 | Q47: 72 | R47: 422 | S47: 289 | T47: 133 | U47: 2214 | V47: 1427 | W47: 787 | X47: 4232 | Y47: 2400 | Z47: 1832 | AA47: 1.4647657 | AB47: 1.0277798
A48: 新竹縣 | B48: Hsinchu County | C48: 1847 | D48: 1198 | E48: 649 | F48: 4171 | G48: 2222 | H48: 1949 | I48: 10 | J48: 9 | K48: 1 | L48: 10 | M48: 9 | N48: 1 | O48: 292 | P48: 222 | Q48: 70 | R48: 424 | S48: 282 | T48: 142 | U48: 1545 | V48: 967 | W48: 578 | X48: 3737 | Y48: 1931 | Z48: 1806 | AA48: 0.91139665 | AB48: 0.7356287
A49: 苗栗縣 | B49: Miaoli County | C49: 2987 | D49: 1956 | E49: 1031 | F49: 5768 | G49: 3282 | H49: 2486 | I49: 1 | J49: 1 | K49: 0 | L49: 1 | M49: 1 | N49: 0 | O49: 1263 | P49: 918 | Q49: 345 | R49: 1886 | S49: 1213 | T49: 673 | U49: 1723 | V49: 1037 | W49: 686 | X49: 3881 | Y49: 2068 | Z49: 1813 | AA49: 1.5551136 | AB49: 1.0600311
A50: 彰化縣 | B50: Changhua County | C50: 7138 | D50: 4627 | E50: 2511 | F50: 12046 | G50: 6911 | H50: 5135 | I50: 1 | J50: 1 | K50: 0 | L50: 1 | M50: 1 | N50: 0 | O50: 88 | P50: 65 | Q50: 23 | R50: 130 | S50: 87 | T50: 43 | U50: 7049 | V50: 4561 | W50: 2488 | X50: 11915 | Y50: 6823 | Z50: 5092 | AA50: 1.8093469 | AB50: 0.94866006
A51: 南投縣 | B51: Nantou County | C51: 2831 | D51: 1999 | E51: 832 | F51: 5044 | G51: 3010 | H51: 2034 | I51: 7 | J51: 6 | K51: 1 | L51: 8 | M51: 7 | N51: 1 | O51: 185 | P51: 126 | Q51: 59 | R51: 330 | S51: 186 | T51: 144 | U51: 2639 | V51: 1867 | W51: 772 | X51: 4706 | Y51: 2817 | Z51: 1889 | AA51: 1.5795699 | AB51: 1.0236781
... A62: 連江縣 | B62: Lienchiang County | C62: 51 | D62: 35 | E62: 16 | F62: 94 | G62: 56 | H62: 38 | I62: 13 | J62: 9 | K62: 4 | L62: 14 | M62: 10 | N62: 4 | O62: 18 | P62: 14 | Q62: 4 | R62: 25 | S62: 18 | T62: 7 | U62: 20 | V62: 12 | W62: 8 | X62: 55 | Y62: 28 | Z62: 27 | AA62: 1.5393903 | AB62: 0.72036171
A63: 資料來源：直轄市、縣﹝市﹞政府。
A64: Source : County and City Government.
B65: 總計 | C65: =C40-SUM(C41:C46)-#REF! -> #REF! | D65: =D40-SUM(D41:D46)-#REF! -> #REF! | E65: =E40-SUM(E41:E46)-#REF! -> #REF! | F65: =F40-SUM(F41:F46)-#REF! -> #REF! | G65: =G40-SUM(G41:G46)-#REF! -> #REF! | H65: =H40-SUM(H41:H46)-#REF! -> #REF! | I65: =I40-SUM(I41:I46)-#REF! -> #REF! | J65: =J40-SUM(J41:J46)-#REF! -> #REF! | ... Z65: =Z40-SUM(Z41:Z46)-#REF! -> #REF!
B66: 台灣省 | C66: =#REF!-SUM(C47:C60) -> #REF! | D66: =#REF!-SUM(D47:D60) -> #REF! | E66: =#REF!-SUM(E47:E60) -> #REF! | F66: =#REF!-SUM(F47:F60) -> #REF! | G66: =#REF!-SUM(G47:G60) -> #REF! | H66: =#REF!-SUM(H47:H60) -> #REF! | I66: =#REF!-SUM(I47:I60) -> #REF! | J66: =#REF!-SUM(J47:J60) -> #REF! | ... Z66: =#REF!-SUM(Z47:Z60) -> #REF!
B67: 福建省 | C67: =#REF!-C61-C62 -> #REF! | D67: =#REF!-D61-D62 -> #REF! | E67: =#REF!-E61-E62 -> #REF! | F67: =#REF!-F61-F62 -> #REF! | G67: =#REF!-G61-G62 -> #REF! | H67: =#REF!-H61-H62 -> #REF! | I67: =#REF!-I61-I62 -> #REF! | J67: =#REF!-J61-J62 -> #REF! | ... Z67: =#REF!-Z61-Z62 -> #REF!
B68: 核年季 | C68: =C40-歷年Yearly!#REF! -> #REF! | D68: =D40-歷年Yearly!#REF! -> #REF! | E68: =E40-歷年Yearly!#REF! -> #REF! | F68: =F40-歷年Yearly!#REF! -> #REF! | G68: =G40-歷年Yearly!#REF! -> #REF! | H68: =H40-歷年Yearly!#REF! -> #REF! | I68: =I40-歷年Yearly!#REF! -> #REF! | L68: =L40-歷年Yearly!#REF! -> #REF! | O68: =O40-歷年Yearly!#REF! -> #REF! | R68: =R40-歷年Yearly!#REF! -> #REF! | U68: =U40-歷年Yearly!#REF! -> #REF! | X68: =X40-歷年Yearly!#REF! -> #REF! | AA68: =AA40-歷年Yearly!#REF! -> #REF! | AB68: =AB40-歷年Yearly!#REF! -> #REF!
A71: 中華民國109年第3季底 , 2020 Q3
A72: 地區別 Locality | C72: 總計 Grand Total | I72: 第1款(省、新北、臺中、臺南)、第0類(臺北)、第1類(高雄) Class 1 | O72: 第2款(省、新北、臺中、臺南)、第1、2類(臺北)、第2類(高雄) Class 2 | U72: 第3款(省、新北、臺中、臺南)、第3、4類(臺北、高雄) Class 3 | AA72: 低收入戶戶數占總戶數比率(%) Rate of Households (%) | AB72: 低收入戶人數占總人數比率(%) Rate of Persons (%)
C73: 戶數(戶長性別) Households | F73: 人數 Persons | I73: 戶數 Households | L73: 人數 Persons | O73: 戶數 Households | R73: 人數 Persons | U73: 戶數 Households | X73: 人數 Persons
C74: 計 | D74: 男 | E74: 女 | F74: 計 | G74: 男 | H74: 女 | I74: 計 | J74: 男 | K74: 女 | L74: 計 | M74: 男 | N74: 女 | O74: 計 | P74: 男 | Q74: 女 | R74: 計 | S74: 男 | T74: 女 | U74: 計 | V74: 男 | W74: 女 | X74: 計 | Y74: 男 | Z74: 女
C75: Sub-Total | D75: Male | E75: Female | F75: Sub-Total | G75: Male | H75: Female | I75: Sub-Total | J75: Male | K75: Female | L75: Sub-Total | M75: Male | N75: Female | O75: Sub-Total | P75: Male | Q75: Female | R75: Sub-Total | S75: Male | T75: Female | U75: Sub-Total | V75: Male | W75: Female | X75: Sub-Total | Y75: Male | Z75: Female
A76: 總 計 | B76: Total | C76: 144673 | D76: 89682 | E76: 54991 | F76: 297047 | G76: 159727 | H76: 137320 | I76: 2774 | J76: 2035 | K76: 739 | L76: 2859 | M76: 2087 | N76: 772 | O76: 34378 | P76: 23208 | Q76: 11170 | R76: 50457 | S76: 30695 | T76: 19762 | U76: 107521 | V76: 64439 | W76: 43082 | X76: 243731 | Y76: 126945 | Z76: 116786 | AA76: 1.62 | AB76: 1.26
A77: 新北市 | B77: New Taipei City | C77: 18870 | D77: 11508 | E77: 7362 | F77: 38674 | G77: 20499 | H77: 18175 | I77: 75 | J77: 62 | K77: 13 | L77: 78 | M77: 63 | N77: 15 | O77: 1357 | P77: 914 | Q77: 443 | R77: 2197 | S77: 1307 | T77: 890 | U77: 17438 | V77: 10532 | W77: 6906 | X77: 36399 | Y77: 19129 | Z77: 17270 | AA77: 1.18 | AB77: 0.96
A78: 臺北市 | B78: Taipei City | C78: 21230 | D78: 11893 | E78: 9337 | F78: 44522 | G78: 22644 | H78: 21878 | I78: 1669 | J78: 1210 | K78: 459 | L78: 1726 | M78: 1245 | N78: 481 | O78: 6179 | P78: 3861 | Q78: 2318 | R78: 8499 | S78: 4967 | T78: 3532 | U78: 13382 | V78: 6822 | W78: 6560 | X78: 34297 | Y78: 16432 | Z78: 17865 | AA78: 2 | AB78: 1.71
A79: 桃園市 | B79: Taoyuan City | C79: 10922 | D79: 6334 | E79: 4588 | F79: 26612 | G79: 13614 | H79: 12998 | I79: 47 | J79: 35 | K79: 12 | L79: 49 | M79: 35 | N79: 14 | O79: 1199 | P79: 780 | Q79: 419 | R79: 2240 | S79: 1292 | T79: 948 | U79: 9676 | V79: 5519 | W79: 4157 | X79: 24323 | Y79: 12287 | Z79: 12036 | AA79: 1.3 | AB79: 1.18
A80: 臺中市 | B80: Taichung City | C80: 19825 | D80: 11542 | E80: 8283 | F80: 44550 | G80: 23010 | H80: 21540 | I80: 389 | J80: 294 | K80: 95 | L80: 398 | M80: 302 | N80: 96 | O80: 6506 | P80: 4264 | Q80: 2242 | R80: 10689 | S80: 6223 | T80: 4466 | U80: 12930 | V80: 6984 | W80: 5946 | X80: 33463 | Y80: 16485 | Z80: 16978 | AA80: 1.98 | AB80: 1.58
A81: 臺南市 | B81: Tainan City | C81: 9552 | D81: 6404 | E81: 3148 | F81: 17856 | G81: 10149 | H81: 7707 | I81: 268 | J81: 185 | K81: 83 | L81: 274 | M81: 188 | N81: 86 | O81: 3098 | P81: 2210 | Q81: 888 | R81: 3840 | S81: 2558 | T81: 1282 | U81: 6186 | V81: 4009 | W81: 2177 | X81: 13742 | Y81: 7403 | Z81: 6339 | AA81: 1.36 | AB81: 0.95
A82: 高雄市 | B82: Kaohsiung City | C82: 16140 | D82: 10062 | E82: 6078 | F82: 33462 | G82: 17674 | H82: 15788 | I82: 72 | J82: 49 | K82: 23 | L82: 75 | M82: 51 | N82: 24 | O82: 7051 | P82: 4663 | Q82: 2388 | R82: 9849 | S82: 5942 | T82: 3907 | U82: 9017 | V82: 5350 | W82: 3667 | X82: 23538 | Y82: 11681 | Z82: 11857 | AA82: 1.44 | AB82: 1.21
A83: 宜蘭縣 | B83: Yilan County | C83: 2497 | D83: 1644 | E83: 853 | F83: 4549 | G83: 2632 | H83: 1917 | I83: 11 | J83: 9 | K83: 2 | L83: 11 | M83: 9 | N83: 2 | O83: 279 | P83: 212 | Q83: 67 | R83: 405 | S83: 286 | T83: 119 | U83: 2207 | V83: 1423 | W83: 784 | X83: 4133 | Y83: 2337 | Z83: 1796 | AA83: 1.45 | AB83: 1
A84: 新竹縣 | B84: Hsinchu County | C84: 1859 | D84: 1214 | E84: 645 | F84: 4118 | G84: 2223 | H84: 1895 | I84: 10 | J84: 9 | K84: 1 | L84: 10 | M84: 9 | N84: 1 | O84: 297 | P84: 225 | Q84: 72 | R84: 429 | S84: 286 | T84: 143 | U84: 1552 | V84: 980 | W84: 572 | X84: 3679 | Y84: 1928 | Z84: 1751 | AA84: 0.91 | AB84: 0.72
A85: 苗栗縣 | B85: Miaoli County | C85: 2999 | D85: 1955 | E85: 1044 | F85: 5745 | G85: 3261 | H85: 2484 | I85: 1 | J85: 1 | K85: 0 | L85: 1 | M85: 1 | N85: 0 | O85: 1261 | P85: 917 | Q85: 344 | R85: 1884 | S85: 1209 | T85: 675 | U85: 1737 | V85: 1037 | W85: 700 | X85: 3860 | Y85: 2051 | Z85: 1809 | AA85: 1.55 | AB85: 1.06
A86: 彰化縣 | B86: Changhua County | C86: 7240 | D86: 4689 | E86: 2551 | F86: 12199 | G86: 6993 | H86: 5206 | I86: 2 | J86: 2 | K86: 0 | L86: 2 | M86: 2 | N86: 0 | O86: 89 | P86: 67 | Q86: 22 | R86: 129 | S86: 86 | T86: 43 | U86: 7149 | V86: 4620 | W86: 2529 | X86: 12068 | Y86: 6905 | Z86: 5163 | AA86: 1.83 | AB86: 0.96
A87: 南投縣 | B87: Nantou County | C87: 2854 | D87: 2009 | E87: 845 | F87: 5090 | G87: 3028 | H87: 2062 | I87: 7 | J87: 6 | K87: 1 | L87: 8 | M87: 7 | N87: 1 | O87: 182 | P87: 124 | Q87: 58 | R87: 327 | S87: 183 | T87: 144 | U87: 2665 | V87: 1879 | W87: 786 | X87: 4755 | Y87: 2838 | Z87: 1917 | AA87: 1.59 | AB87: 1.04
... A98: 連江縣 | B98: Lienchiang County | C98: 52 | D98: 35 | E98: 17 | F98: 96 | G98: 57 | H98: 39 | I98: 14 | J98: 9 | K98: 5 | L98: 15 | M98: 10 | N98: 5 | O98: 18 | P98: 14 | Q98: 4 | R98: 26 | S98: 19 | T98: 7 | U98: 20 | V98: 12 | W98: 8 | X98: 55 | Y98: 28 | Z98: 27 | AA98: 1.55 | AB98: 0.73
A99: 資料來源：直轄市、縣﹝市﹞政府。
A100: Source : County and City Government.
B101: 總計 | C101: =C76-SUM(C77:C82)-#REF! -> #REF! | D101: =D76-SUM(D77:D82)-#REF! -> #REF! | E101: =E76-SUM(E77:E82)-#REF! -> #REF! | F101: =F76-SUM(F77:F82)-#REF! -> #REF! | G101: =G76-SUM(G77:G82)-#REF! -> #REF! | H101: =H76-SUM(H77:H82)-#REF! -> #REF! | I101: =I76-SUM(I77:I82)-#REF! -> #REF! | J101: =J76-SUM(J77:J82)-#REF! -> #REF! | ... Z101: =Z76-SUM(Z77:Z82)-#REF! -> #REF!
B102: 台灣省 | C102: =#REF!-SUM(C83:C96) -> #REF! | D102: =#REF!-SUM(D83:D96) -> #REF! | E102: =#REF!-SUM(E83:E96) -> #REF! | F102: =#REF!-SUM(F83:F96) -> #REF! | G102: =#REF!-SUM(G83:G96) -> #REF! | H102: =#REF!-SUM(H83:H96) -> #REF! | I102: =#REF!-SUM(I83:I96) -> #REF! | J102: =#REF!-SUM(J83:J96) -> #REF! | ... Z102: =#REF!-SUM(Z83:Z96) -> #REF!
B103: 福建省 | C103: =#REF!-C97-C98 -> #REF! | D103: =#REF!-D97-D98 -> #REF! | E103: =#REF!-E97-E98 -> #REF! | F103: =#REF!-F97-F98 -> #REF! | G103: =#REF!-G97-G98 -> #REF! | H103: =#REF!-H97-H98 -> #REF! | I103: =#REF!-I97-I98 -> #REF! | J103: =#REF!-J97-J98 -> #REF! | ... Z103: =#REF!-Z97-Z98 -> #REF!
B104: 核年季 | C104: =C76-歷年Yearly!B54 -> 144673 | D104: =D76-歷年Yearly!C54 -> 89682 | E104: =E76-歷年Yearly!D54 -> 54991 | F104: =F76-歷年Yearly!H54 -> 297047 | G104: =G76-歷年Yearly!I54 -> 159727 | H104: =H76-歷年Yearly!J54 -> 137320 | I104: =I76-歷年Yearly!E54 -> 2774 | L104: =L76-歷年Yearly!K54 -> 2859 | O104: =O76-歷年Yearly!F54 -> 34378 | R104: =R76-歷年Yearly!M42 -> 50457 | U104: =U76-歷年Yearly!G54 -> 107521 | X104: =X76-歷年Yearly!M53 -> 243731 | AA104: =AA76-歷年Yearly!N53 -> 1.62 | AB104: =AB76-歷年Yearly!O53 -> 1.26
A107: 中華民國109年第4季底 , 2020 Q4
A108: 地區別 Locality | C108: 總計 Grand Total | I108: 第1款(省、新北、臺中、臺南)、第0類(臺北)、第1類(高雄) Class 1 | O108: 第2款(省、新北、臺中、臺南)、第1、2類(臺北)、第2類(高雄) Class 2 | U108: 第3款(省、新北、臺中、臺南)、第3、4類(臺北、高雄) Class 3 | AA108: 低收入戶戶數占總戶數比率(0/0) Rate of Households (%) | AB108: 低收入戶人數占總人數比率(0/0) Rate of Persons (%)
C109: 戶數(戶長性別) Households | F109: 人數 Persons | I109: 戶數 Households | L109: 人數 Persons | O109: 戶數 Households | R109: 人數 Persons | U109: 戶數 Households | X109: 人數 Persons
C110: 計 | D110: 男 | E110: 女 | F110: 計 | G110: 男 | H110: 女 | I110: 計 | J110: 男 | K110: 女 | L110: 計 | M110: 男 | N110: 女 | O110: 計 | P110: 男 | Q110: 女 | R110: 計 | S110: 男 | T110: 女 | U110: 計 | V110: 男 | W110: 女 | X110: 計 | Y110: 男 | Z110: 女
C111: Sub-Total | D111: Male | E111: Female | F111: Sub-Total | G111: Male | H111: Female | I111: Sub-Total | J111: Male | K111: Female | L111: Sub-Total | M111: Male | N111: Female | O111: Sub-Total | P111: Male | Q111: Female | R111: Sub-Total | S111: Male | T111: Female | U111: Sub-Total | V111: Male | W111: Female | X111: Sub-Total | Y111: Male | Z111: Female
A112: 總 計 | B112: Total | C112: 146342 | D112: 90618 | E112: 55724 | F112: 300241 | G112: 161390 | H112: 138851 | I112: 2733 | J112: 2008 | K112: 725 | L112: 2813 | M112: 2058 | N112: 755 | O112: 34563 | P112: 23299 | Q112: 11264 | R112: 50711 | S112: 30845 | T112: 19866 | U112: 109046 | V112: 65311 | W112: 43735 | X112: 246717 | Y112: 128487 | Z112: 118230 | AA112: 1.64 | AB112: 1.27
A113: 新北市 | B113: New Taipei City | C113: 19277 | D113: 11768 | E113: 7509 | F113: 39407 | G113: 20899 | H113: 18508 | I113: 78 | J113: 65 | K113: 13 | L113: 81 | M113: 66 | N113: 15 | O113: 1383 | P113: 933 | Q113: 450 | R113: 2237 | S113: 1332 | T113: 905 | U113: 17816 | V113: 10770 | W113: 7046 | X113: 37089 | Y113: 19501 | Z113: 17588 | AA113: 1.2 | AB113: 0.98
A114: 臺北市 | B114: Taipei City | C114: 21495 | D114: 12015 | E114: 9480 | F114: 45052 | G114: 22914 | H114: 22138 | I114: 1640 | J114: 1189 | K114: 451 | L114: 1693 | M114: 1223 | N114: 470 | O114: 6249 | P114: 3895 | Q114: 2354 | R114: 8600 | S114: 5026 | T114: 3574 | U114: 13606 | V114: 6931 | W114: 6675 | X114: 34759 | Y114: 16665 | Z114: 18094 | AA114: 2.03 | AB114: 1.73
A115: 桃園市 | B115: Taoyuan City | C115: 11078 | D115: 6419 | E115: 4659 | F115: 27119 | G115: 13844 | H115: 13275 | I115: 47 | J115: 35 | K115: 12 | L115: 49 | M115: 35 | N115: 14 | O115: 1196 | P115: 777 | Q115: 419 | R115: 2241 | S115: 1291 | T115: 950 | U115: 9835 | V115: 5607 | W115: 4228 | X115: 24829 | Y115: 12518 | Z115: 12311 | AA115: 1.31 | AB115: 1.2
A116: 臺中市 | B116: Taichung City | C116: 20134 | D116: 11691 | E116: 8443 | F116: 45090 | G116: 23293 | H116: 21797 | I116: 388 | J116: 293 | K116: 95 | L116: 396 | M116: 300 | N116: 96 | O116: 6566 | P116: 4292 | Q116: 2274 | R116: 10751 | S116: 6266 | T116: 4485 | U116: 13180 | V116: 7106 | W116: 6074 | X116: 33943 | Y116: 16727 | Z116: 17216 | AA116: 2.01 | AB116: 1.6
A117: 臺南市 | B117: Tainan City | C117: 9602 | D117: 6431 | E117: 3171 | F117: 17923 | G117: 10185 | H117: 7738 | I117: 261 | J117: 181 | K117: 80 | L117: 267 | M117: 184 | N117: 83 | O117: 3097 | P117: 2208 | Q117: 889 | R117: 3847 | S117: 2561 | T117: 1286 | U117: 6244 | V117: 4042 | W117: 2202 | X117: 13809 | Y117: 7440 | Z117: 6369 | AA117: 1.36 | AB117: 0.96
A118: 高雄市 | B118: Kaohsiung City | C118: 16088 | D118: 10023 | E118: 6065 | F118: 33192 | G118: 17528 | H118: 15664 | I118: 67 | J118: 45 | K118: 22 | L118: 70 | M118: 47 | N118: 23 | O118: 7074 | P118: 4677 | Q118: 2397 | R118: 9858 | S118: 5954 | T118: 3904 | U118: 8947 | V118: 5301 | W118: 3646 | X118: 23264 | Y118: 11527 | Z118: 11737 | AA118: 1.44 | AB118: 1.2
A119: 宜蘭縣 | B119: Yilan County | C119: 2543 | D119: 1670 | E119: 873 | F119: 4630 | G119: 2676 | H119: 1954 | I119: 11 | J119: 9 | K119: 2 | L119: 11 | M119: 9 | N119: 2 | O119: 276 | P119: 208 | Q119: 68 | R119: 394 | S119: 276 | T119: 118 | U119: 2256 | V119: 1453 | W119: 803 | X119: 4225 | Y119: 2391 | Z119: 1834 | AA119: 1.47 | AB119: 1.02
A120: 新竹縣 | B120: Hsinchu County | C120: 1889 | D120: 1235 | E120: 654 | F120: 4156 | G120: 2244 | H120: 1912 | I120: 10 | J120: 9 | K120: 1 | L120: 10 | M120: 9 | N120: 1 | O120: 307 | P120: 232 | Q120: 75 | R120: 447 | S120: 294 | T120: 153 | U120: 1572 | V120: 994 | W120: 578 | X120: 3699 | Y120: 1941 | Z120: 1758 | AA120: 0.92 | AB120: 0.73
A121: 苗栗縣 | B121: Miaoli County | C121: 3037 | D121: 1988 | E121: 1049 | F121: 5837 | G121: 3304 | H121: 2533 | I121: 1 | J121: 1 | K121: 0 | L121: 1 | M121: 1 | N121: 0 | O121: 1284 | P121: 936 | Q121: 348 | R121: 1926 | S121: 1241 | T121: 685 | U121: 1752 | V121: 1051 | W121: 701 | X121: 3910 | Y121: 2062 | Z121: 1848 | AA121: 1.57 | AB121: 1.08
A122: 彰化縣 | B122: Changhua County | C122: 7256 | D122: 4690 | E122: 2566 | F122: 12251 | G122: 7011 | H122: 5240 | I122: 2 | J122: 2 | K122: 0 | L122: 2 | M122: 2 | N122: 0 | O122: 91 | P122: 70 | Q122: 21 | R122: 135 | S122: 91 | T122: 44 | U122: 7163 | V122: 4618 | W122: 2545 | X122: 12114 | Y122: 6918 | Z122: 5196 | AA122: 1.83 | AB122: 0.97
A123: 南投縣 | B123: Nantou County | C123: 2888 | D123: 2026 | E123: 862 | F123: 5154 | G123: 3059 | H123: 2095 | I123: 6 | J123: 5 | K123: 1 | L123: 7 | M123: 6 | N123: 1 | O123: 183 | P123: 125 | Q123: 58 | R123: 326 | S123: 182 | T123: 144 | U123: 2699 | V123: 1896 | W123: 803 | X123: 4821 | Y123: 2871 | Z123: 1950 | AA123: 1.61 | AB123: 1.05
... A134: 連江縣 | B134: Lienchiang County | C134: 52 | D134: 35 | E134: 17 | F134: 96 | G134: 57 | H134: 39 | I134: 14 | J134: 9 | K134: 5 | L134: 15 | M134: 10 | N134: 5 | O134: 18 | P134: 14 | Q134: 4 | R134: 26 | S134: 19 | T134: 7 | U134: 20 | V134: 12 | W134: 8 | X134: 55 | Y134: 28 | Z134: 27 | AA134: 1.53 | AB134: 0.72
A135: 資料來源：直轄市、縣﹝市﹞政府。
A136: Source : County and City Government.
B137: 總計 | C137: =C112-SUM(C113:C118)-#REF! -> #REF! | D137: =D112-SUM(D113:D118)-#REF! -> #REF! | E137: =E112-SUM(E113:E118)-#REF! -> #REF! | F137: =F112-SUM(F113:F118)-#REF! -> #REF! | G137: =G112-SUM(G113:G118)-#REF! -> #REF! | H137: =H112-SUM(H113:H118)-#REF! -> #REF! | I137: =I112-SUM(I113:I118)-#REF! -> #REF! | J137: =J112-SUM(J113:J118)-#REF! -> #REF! | ... Z137: =Z112-SUM(Z113:Z118)-#REF! -> #REF!
B138: 台灣省 | C138: =#REF!-SUM(C119:C132) -> #REF! | D138: =#REF!-SUM(D119:D132) -> #REF! | E138: =#REF!-SUM(E119:E132) -> #REF! | F138: =#REF!-SUM(F119:F132) -> #REF! | G138: =#REF!-SUM(G119:G132) -> #REF! | H138: =#REF!-SUM(H119:H132) -> #REF! | I138: =#REF!-SUM(I119:I132) -> #REF! | J138: =#REF!-SUM(J119:J132) -> #REF! | ... Z138: =#REF!-SUM(Z119:Z132) -> #REF!
B139: 福建省 | C139: =#REF!-C133-C134 -> #REF! | D139: =#REF!-D133-D134 -> #REF! | E139: =#REF!-E133-E134 -> #REF! | F139: =#REF!-F133-F134 -> #REF! | G139: =#REF!-G133-G134 -> #REF! | H139: =#REF!-H133-H134 -> #REF! | I139: =#REF!-I133-I134 -> #REF! | J139: =#REF!-J133-J134 -> #REF! | ... Z139: =#REF!-Z133-Z134 -> #REF!
B140: 核年季 | C140: =C112-歷年Yearly!B93 -> 146342 | D140: =D112-歷年Yearly!C93 -> 90618 | E140: =E112-歷年Yearly!D93 -> 55724 | F140: =F112-歷年Yearly!H93 -> 300241 | G140: =G112-歷年Yearly!I93 -> 161390 | H140: =H112-歷年Yearly!J93 -> 138851 | I140: =I112-歷年Yearly!E93 -> 2733 | L140: =L112-歷年Yearly!K93 -> 2813 | O140: =O112-歷年Yearly!F93 -> 34563 | R140: =R112-歷年Yearly!L92 -> 50711 | U140: =U112-歷年Yearly!G93 -> 109046 | X140: =X112-歷年Yearly!M92 -> 246717 | AA140: =AA112-歷年Yearly!N92 -> 1.64 | AB140: =AB112-歷年Yearly!O92 -> 1.27

Sheet 2019
A2: 低收入戶戶數及人數 Number and Population of Low-Income Households
A3: 中華民國108年第1季底 , 2019Q1
A4: 地區別 Locality | C4: 總計 Grand Total | I4: 第1款(省、新北、臺中、臺南)、第0類(臺北)、第1類(高雄) Class 1 | O4: 第2款(省、新北、臺中、臺南)、第1、2類(臺北)、第2類(高雄) Class 2 | U4: 第3款(省、新北、臺中、臺南)、第3、4類(臺北、高雄) Class 3 | AA4: 低收入戶戶數占總戶數比率(%) Rate of Households (%) | AB4: 低收入戶人數占總人數比率(%) Rate of Persons (%)
C5: 戶數(戶長性別) Households | F5: 人數 Persons | I5: 戶數 Households | L5: 人數 Persons | O5: 戶數 Households | R5: 人數 Persons | U5: 戶數 Households | X5: 人數 Persons
C6: 計 | D6: 男 | E6: 女 | F6: 計 | G6: 男 | H6: 女 | I6: 計 | J6: 男 | K6: 女 | L6: 計 | M6: 男 | N6: 女 | O6: 計 | P6: 男 | Q6: 女 | R6: 計 | S6: 男 | T6: 女 | U6: 計 | V6: 男 | W6: 女 | X6: 計 | Y6: 男 | Z6: 女
C7: Sub-Total | D7: Male | E7: Female | F7: Sub-Total | G7: Male | H7: Female | I7: Sub-Total | J7: Male | K7: Female | L7: Sub-Total | M7: Male | N7: Female | O7: Sub-Total | P7: Male | Q7: Female | R7: Sub-Total | S7: Male | T7: Female | U7: Sub-Total | V7: Male | W7: Female | X7: Sub-Total | Y7: Male | Z7: Female
A8: 總 計 | B8: Total | C8: 139731 | D8: 86636 | E8: 53095 | F8: 297131 | G8: 158516 | H8: 138615 | I8: 2993 | J8: 2228 | K8: 765 | L8: 3097 | M8: 2281 | N8: 816 | O8: 33343 | P8: 22478 | Q8: 10865 | R8: 50710 | S8: 30584 | T8: 20126 | U8: 103395 | V8: 61930 | W8: 41465 | X8: 243324 | Y8: 125651 | Z8: 117673 | AA8: 1.6 | AB8: 1.26
A9: 新北市 | B9: New Taipei City | C9: 17408 | D9: 10610 | E9: 6798 | F9: 37300 | G9: 19641 | H9: 17659 | I9: 69 | J9: 56 | K9: 13 | L9: 72 | M9: 56 | N9: 16 | O9: 1220 | P9: 836 | Q9: 384 | R9: 1988 | S9: 1185 | T9: 803 | U9: 16119 | V9: 9718 | W9: 6401 | X9: 35240 | Y9: 18400 | Z9: 16840 | AA9: 1.11 | AB9: 0.93
A10: 臺北市 | B10: Taipei City | C10: 20425 | D10: 11468 | E10: 8957 | F10: 43917 | G10: 22242 | H10: 21675 | I10: 1812 | J10: 1333 | K10: 479 | L10: 1879 | M10: 1366 | N10: 513 | O10: 5743 | P10: 3550 | Q10: 2193 | R10: 8262 | S10: 4746 | T10: 3516 | U10: 12870 | V10: 6585 | W10: 6285 | X10: 33776 | Y10: 16130 | Z10: 17646 | AA10: 1.93 | AB10: 1.65
A11: 桃園市 | B11: Taoyuan City | C11: 9147 | D11: 5239 | E11: 3908 | F11: 22565 | G11: 11503 | H11: 11062 | I11: 43 | J11: 35 | K11: 8 | L11: 46 | M11: 35 | N11: 11 | O11: 1084 | P11: 707 | Q11: 377 | R11: 2040 | S11: 1171 | T11: 869 | U11: 8020 | V11: 4497 | W11: 3523 | X11: 20479 | Y11: 10297 | Z11: 10182 | AA11: 1.13 | AB11: 1.01
A12: 臺中市 | B12: Taichung City | C12: 18584 | D12: 10786 | E12: 7798 | F12: 42797 | G12: 22038 | H12: 20759 | I12: 376 | J12: 283 | K12: 93 | L12: 393 | M12: 295 | N12: 98 | O12: 6132 | P12: 3959 | Q12: 2173 | R12: 10392 | S12: 6011 | T12: 4381 | U12: 12076 | V12: 6544 | W12: 5532 | X12: 32012 | Y12: 15732 | Z12: 16280 | AA12: 1.9 | AB12: 1.52
A13: 臺南市 | B13: Tainan City | C13: 9889 | D13: 6596 | E13: 3293 | F13: 19704 | G13: 10931 | H13: 8773 | I13: 309 | J13: 222 | K13: 87 | L13: 314 | M13: 225 | N13: 89 | O13: 3059 | P13: 2185 | Q13: 874 | R13: 3924 | S13: 2595 | T13: 1329 | U13: 6521 | V13: 4189 | W13: 2332 | X13: 15466 | Y13: 8111 | Z13: 7355 | AA13: 1.43 | AB13: 1.05
A14: 高雄市 | B14: Kaohsiung City | C14: 17131 | D14: 10639 | E14: 6492 | F14: 37430 | G14: 19525 | H14: 17905 | I14: 78 | J14: 56 | K14: 22 | L14: 82 | M14: 58 | N14: 24 | O14: 7169 | P14: 4723 | Q14: 2446 | R14: 10476 | S14: 6220 | T14: 4256 | U14: 9884 | V14: 5860 | W14: 4024 | X14: 26872 | Y14: 13247 | Z14: 13625 | AA14: 1.55 | AB14: 1.35
A15: 宜蘭縣 | B15: Yilan County | C15: 2493 | D15: 1633 | E15: 860 | F15: 4382 | G15: 2508 | H15: 1874 | I15: 12 | J15: 10 | K15: 2 | L15: 12 | M15: 10 | N15: 2 | O15: 283 | P15: 215 | Q15: 68 | R15: 423 | S15: 293 | T15: 130 | U15: 2198 | V15: 1408 | W15: 790 | X15: 3947 | Y15: 2205 | Z15: 1742 | AA15: 1.47 | AB15: 0.96
A16: 新竹縣 | B16: Hsinchu County | C16: 1829 | D16: 1205 | E16: 624 | F16: 4331 | G16: 2303 | H16: 2028 | I16: 11 | J16: 10 | K16: 1 | L16: 11 | M16: 10 | N16: 1 | O16: 306 | P16: 236 | Q16: 70 | R16: 470 | S16: 303 | T16: 167 | U16: 1512 | V16: 959 | W16: 553 | X16: 3850 | Y16: 1990 | Z16: 1860 | AA16: 0.93 | AB16: 0.78
A17: 苗栗縣 | B17: Miaoli County | C17: 2943 | D17: 1945 | E17: 998 | F17: 5827 | G17: 3310 | H17: 2517 | I17: 5 | J17: 5 | K17: 0 | L17: 5 | M17: 5 | N17: 0 | O17: 1268 | P17: 915 | Q17: 353 | R17: 1991 | S17: 1258 | T17: 733 | U17: 1670 | V17: 1025 | W17: 645 | X17: 3831 | Y17: 2047 | Z17: 1784 | AA17: 1.55 | AB17: 1.06
A18: 彰化縣 | B18: Changhua County | C18: 6711 | D18: 4344 | E18: 2367 | F18: 11475 | G18: 6464 | H18: 5011 | I18: 2 | J18: 2 | K18: 0 | L18: 2 | M18: 2 | N18: 0 | O18: 80 | P18: 57 | Q18: 23 | R18: 116 | S18: 75 | T18: 41 | U18: 6629 | V18: 4285 | W18: 2344 | X18: 11357 | Y18: 6387 | Z18: 4970 | AA18: 1.72 | AB18: 0.9
A19: 南投縣 | B19: Nantou County | C19: 2833 | D19: 1991 | E19: 842 | F19: 5243 | G19: 3088 | H19: 2155 | I19: 9 | J19: 8 | K19: 1 | L19: 10 | M19: 9 | N19: 1 | O19: 239 | P19: 165 | Q19: 74 | R19: 453 | S19: 263 | T19: 190 | U19: 2585 | V19: 1818 | W19: 767 | X19: 4780 | Y19: 2816 | Z19: 1964 | AA19: 1.59 | AB19: 1.06
... A30: 連江縣 | B30: Lienchiang County | C30: 54 | D30: 35 | E30: 19 | F30: 108 | G30: 59 | H30: 49 | I30: 13 | J30: 9 | K30: 4 | L30: 14 | M30: 10 | N30: 4 | O30: 17 | P30: 13 | Q30: 4 | R30: 23 | S30: 16 | T30: 7 | U30: 24 | V30: 13 | W30: 11 | X30: 71 | Y30: 33 | Z30: 38 | AA30: 1.74 | AB30: 0.83
A31: 資料來源：直轄市、縣﹝市﹞政府。
A32: Source : County and City Government.
A35: 中華民國108年第2季底 , 2019 Q2
A36: 地區別 Locality | C36: 總計 Grand Total | I36: 第1款(省、新北、臺中、臺南)、第0類(臺北)、第1類(高雄) Class 1 | O36: 第2款(省、新北、臺中、臺南)、第1、2類(臺北)、第2類(高雄) Class 2 | U36: 第3款(省、新北、臺中、臺南)、第3、4類(臺北、高雄) Class 3 | AA36: 低收入戶戶數占總戶數比率(%) Rate of Households (%) | AB36: 低收入戶人數占總人數比率(%) Rate of Persons (%)
C37: 戶數(戶長性別) Households | F37: 人數 Persons | I37: 戶數 Households | L37: 人數 Persons | O37: 戶數 Households | R37: 人數 Persons | U37: 戶數 Households | X37: 人數 Persons
C38: 計 | D38: 男 | E38: 女 | F38: 計 | G38: 男 | H38: 女 | I38: 計 | J38: 男 | K38: 女 | L38: 計 | M38: 男 | N38: 女 | O38: 計 | P38: 男 | Q38: 女 | R38: 計 | S38: 男 | T38: 女 | U38: 計 | V38: 男 | W38: 女 | X38: 計 | Y38: 男 | Z38: 女
C39: Sub-Total | D39: Male | E39: Female | F39: Sub-Total | G39: Male | H39: Female | I39: Sub-Total | J39: Male | K39: Female | L39: Sub-Total | M39: Male | N39: Female | O39: Sub-Total | P39: Male | Q39: Female | R39: Sub-Total | S39: Male | T39: Female | U39: Sub-Total | V39: Male | W39: Female | X39: Sub-Total | Y39: Male | Z39: Female
A40: 總 計 | B40: Total | C40: 142456 | D40: 88093 | E40: 54363 | F40: 302698 | G40: 161281 | H40: 141417 | I40: 2967 | J40: 2209 | K40: 758 | L40: 3072 | M40: 2265 | N40: 807 | O40: 33704 | P40: 22662 | Q40: 11042 | R40: 51458 | S40: 30931 | T40: 20527 | U40: 105785 | V40: 63222 | W40: 42563 | X40: 248168 | Y40: 128085 | Z40: 120083 | AA40: 1.62 | AB40: 1.28
A41: 新北市 | B41: New Taipei City | C41: 18029 | D41: 11011 | E41: 7018 | F41: 38437 | G41: 20259 | H41: 18178 | I41: 70 | J41: 57 | K41: 13 | L41: 73 | M41: 57 | N41: 16 | O41: 1260 | P41: 860 | Q41: 400 | R41: 2059 | S41: 1220 | T41: 839 | U41: 16699 | V41: 10094 | W41: 6605 | X41: 36305 | Y41: 18982 | Z41: 17323 | AA41: 1.15 | AB41: 0.96
A42: 臺北市 | B42: Taipei City | C42: 20726 | D42: 11608 | E42: 9118 | F42: 44426 | G42: 22469 | H42: 21957 | I42: 1806 | J42: 1330 | K42: 476 | L42: 1876 | M42: 1366 | N42: 510 | O42: 5818 | P42: 3591 | Q42: 2227 | R42: 8375 | S42: 4810 | T42: 3565 | U42: 13102 | V42: 6687 | W42: 6415 | X42: 34175 | Y42: 16293 | Z42: 17882 | AA42: 1.96 | AB42: 1.67
A43: 桃園市 | B43: Taoyuan City | C43: 9441 | D43: 5399 | E43: 4042 | F43: 23198 | G43: 11844 | H43: 11354 | I43: 43 | J43: 35 | K43: 8 | L43: 46 | M43: 35 | N43: 11 | O43: 1107 | P43: 718 | Q43: 389 | R43: 2092 | S43: 1206 | T43: 886 | U43: 8291 | V43: 4646 | W43: 3645 | X43: 21060 | Y43: 10603 | Z43: 10457 | AA43: 1.16 | AB43: 1.04
A44: 臺中市 | B44: Taichung City | C44: 18865 | D44: 10949 | E44: 7916 | F44: 43320 | G44: 22333 | H44: 20987 | I44: 372 | J44: 282 | K44: 90 | L44: 388 | M44: 294 | N44: 94 | O44: 6180 | P44: 3984 | Q44: 2196 | R44: 10471 | S44: 6044 | T44: 4427 | U44: 12313 | V44: 6683 | W44: 5630 | X44: 32461 | Y44: 15995 | Z44: 16466 | AA44: 1.93 | AB44: 1.54
A45: 臺南市 | B45: Tainan City | C45: 9939 | D45: 6598 | E45: 3341 | F45: 19772 | G45: 10940 | H45: 8832 | I45: 303 | J45: 216 | K45: 87 | L45: 307 | M45: 219 | N45: 88 | O45: 3063 | P45: 2181 | Q45: 882 | R45: 3944 | S45: 2593 | T45: 1351 | U45: 6573 | V45: 4201 | W45: 2372 | X45: 15521 | Y45: 8128 | Z45: 7393 | AA45: 1.44 | AB45: 1.05
A46: 高雄市 | B46: Kaohsiung City | C46: 17382 | D46: 10745 | E46: 6637 | F46: 38115 | G46: 19833 | H46: 18282 | I46: 77 | J46: 55 | K46: 22 | L46: 81 | M46: 57 | N46: 24 | O46: 7252 | P46: 4768 | Q46: 2484 | R46: 10667 | S46: 6313 | T46: 4354 | U46: 10053 | V46: 5922 | W46: 4131 | X46: 27367 | Y46: 13463 | Z46: 13904 | AA46: 1.57 | AB46: 1.37
A47: 宜蘭縣 | B47: Yilan County | C47: 2531 | D47: 1640 | E47: 891 | F47: 4467 | G47: 2548 | H47: 1919 | I47: 12 | J47: 10 | K47: 2 | L47: 12 | M47: 10 | N47: 2 | O47: 288 | P47: 214 | Q47: 74 | R47: 432 | S47: 295 | T47: 137 | U47: 2231 | V47: 1416 | W47: 815 | X47: 4023 | Y47: 2243 | Z47: 1780 | AA47: 1.49 | AB47: 0.98
A48: 新竹縣 | B48: Hsinchu County | C48: 1882 | D48: 1227 | E48: 655 | F48: 4470 | G48: 2357 | H48: 2113 | I48: 11 | J48: 10 | K48: 1 | L48: 11 | M48: 10 | N48: 1 | O48: 317 | P48: 244 | Q48: 73 | R48: 491 | S48: 315 | T48: 176 | U48: 1554 | V48: 973 | W48: 581 | X48: 3968 | Y48: 2032 | Z48: 1936 | AA48: 0.95 | AB48: 0.8
A49: 苗栗縣 | B49: Miaoli County | C49: 2992 | D49: 1971 | E49: 1021 | F49: 5916 | G49: 3359 | H49: 2557 | I49: 5 | J49: 5 | K49: 0 | L49: 5 | M49: 5 | N49: 0 | O49: 1278 | P49: 927 | Q49: 351 | R49: 2007 | S49: 1271 | T49: 736 | U49: 1709 | V49: 1039 | W49: 670 | X49: 3904 | Y49: 2083 | Z49: 1821 | AA49: 1.57 | AB49: 1.08
A50: 彰化縣 | B50: Changhua County | C50: 6899 | D50: 4470 | E50: 2429 | F50: 11832 | G50: 6677 | H50: 5155 | I50: 2 | J50: 2 | K50: 0 | L50: 2 | M50: 2 | N50: 0 | O50: 81 | P50: 58 | Q50: 23 | R50: 119 | S50: 76 | T50: 43 | U50: 6816 | V50: 4410 | W50: 2406 | X50: 11711 | Y50: 6599 | Z50: 5112 | AA50: 1.77 | AB50: 0.93
A51: 南投縣 | B51: Nantou County | C51: 2893 | D51: 2023 | E51: 870 | F51: 5378 | G51: 3138 | H51: 2240 | I51: 8 | J51: 7 | K51: 1 | L51: 9 | M51: 8 | N51: 1 | O51: 236 | P51: 160 | Q51: 76 | R51: 450 | S51: 259 | T51: 191 | U51: 2649 | V51: 1856 | W51: 793 | X51: 4919 | Y51: 2871 | Z51: 2048 | AA51: 1.62 | AB51: 1.09
... A62: 連江縣 | B62: Lienchiang County | C62: 54 | D62: 35 | E62: 19 | F62: 108 | G62: 59 | H62: 49 | I62: 13 | J62: 9 | K62: 4 | L62: 14 | M62: 10 | N62: 4 | O62: 17 | P62: 13 | Q62: 4 | R62: 23 | S62: 16 | T62: 7 | U62: 24 | V62: 13 | W62: 11 | X62: 71 | Y62: 33 | Z62: 38 | AA62: 1.72 | AB62: 0.82
A63: 資料來源：直轄市、縣﹝市﹞政府。
A64: Source : County and City Government.
B65: 總計 | C65: =C40-SUM(C41:C46)-#REF! -> #REF! | D65: =D40-SUM(D41:D46)-#REF! -> #REF! | E65: =E40-SUM(E41:E46)-#REF! -> #REF! | F65: =F40-SUM(F41:F46)-#REF! -> #REF! | G65: =G40-SUM(G41:G46)-#REF! -> #REF! | H65: =H40-SUM(H41:H46)-#REF! -> #REF! | I65: =I40-SUM(I41:I46)-#REF! -> #REF! | J65: =J40-SUM(J41:J46)-#REF! -> #REF! | ... Z65: =Z40-SUM(Z41:Z46)-#REF! -> #REF!
B66: 台灣省 | C66: =#REF!-SUM(C47:C60) -> #REF! | D66: =#REF!-SUM(D47:D60) -> #REF! | E66: =#REF!-SUM(E47:E60) -> #REF! | F66: =#REF!-SUM(F47:F60) -> #REF! | G66: =#REF!-SUM(G47:G60) -> #REF! | H66: =#REF!-SUM(H47:H60) -> #REF! | I66: =#REF!-SUM(I47:I60) -> #REF! | J66: =#REF!-SUM(J47:J60) -> #REF! | ... Z66: =#REF!-SUM(Z47:Z60) -> #REF!
B67: 福建省 | C67: =#REF!-C61-C62 -> #REF! | D67: =#REF!-D61-D62 -> #REF! | E67: =#REF!-E61-E62 -> #REF! | F67: =#REF!-F61-F62 -> #REF! | G67: =#REF!-G61-G62 -> #REF! | H67: =#REF!-H61-H62 -> #REF! | I67: =#REF!-I61-I62 -> #REF! | J67: =#REF!-J61-J62 -> #REF! | ... Z67: =#REF!-Z61-Z62 -> #REF!
B68: 核年季 | C68: =C40-歷年Yearly!#REF! -> #REF! | D68: =D40-歷年Yearly!#REF! -> #REF! | E68: =E40-歷年Yearly!#REF! -> #REF! | F68: =F40-歷年Yearly!#REF! -> #REF! | G68: =G40-歷年Yearly!#REF! -> #REF! | H68: =H40-歷年Yearly!#REF! -> #REF! | I68: =I40-歷年Yearly!#REF! -> #REF! | L68: =L40-歷年Yearly!#REF! -> #REF! | O68: =O40-歷年Yearly!#REF! -> #REF! | R68: =R40-歷年Yearly!#REF! -> #REF! | U68: =U40-歷年Yearly!#REF! -> #REF! | X68: =X40-歷年Yearly!#REF! -> #REF! | AA68: =AA40-歷年Yearly!#REF! -> #REF! | AB68: =AB40-歷年Yearly!#REF! -> #REF!
A71: 中華民國108年第3季底 , 2019 Q3
A72: 地區別 Locality | C72: 總計 Grand Total | I72: 第1款(省、新北、臺中、臺南)、第0類(臺北)、第1類(高雄) Class 1 | O72: 第2款(省、新北、臺中、臺南)、第1、2類(臺北)、第2類(高雄) Class 2 | U72: 第3款(省、新北、臺中、臺南)、第3、4類(臺北、高雄) Class 3 | AA72: 低收入戶戶數占總戶數比率(%) Rate of Households (%) | AB72: 低收入戶人數占總人數比率(%) Rate of Persons (%)
C73: 戶數(戶長性別) Households | F73: 人數 Persons | I73: 戶數 Households | L73: 人數 Persons | O73: 戶數 Households | R73: 人數 Persons | U73: 戶數 Households | X73: 人數 Persons
C74: 計 | D74: 男 | E74: 女 | F74: 計 | G74: 男 | H74: 女 | I74: 計 | J74: 男 | K74: 女 | L74: 計 | M74: 男 | N74: 女 | O74: 計 | P74: 男 | Q74: 女 | R74: 計 | S74: 男 | T74: 女 | U74: 計 | V74: 男 | W74: 女 | X74: 計 | Y74: 男 | Z74: 女
C75: Sub-Total | D75: Male | E75: Female | F75: Sub-Total | G75: Male | H75: Female | I75: Sub-Total | J75: Male | K75: Female | L75: Sub-Total | M75: Male | N75: Female | O75: Sub-Total | P75: Male | Q75: Female | R75: Sub-Total | S75: Male | T75: Female | U75: Sub-Total | V75: Male | W75: Female | X75: Sub-Total | Y75: Male | Z75: Female
A76: 總 計 | B76: Total | C76: 142915 | D76: 88448 | E76: 54467 | F76: 300866 | G76: 160715 | H76: 140151 | I76: 2957 | J76: 2192 | K76: 765 | L76: 3063 | M76: 2249 | N76: 814 | O76: 33752 | P76: 22730 | Q76: 11022 | R76: 51043 | S76: 30812 | T76: 20231 | U76: 106206 | V76: 63526 | W76: 42680 | X76: 246760 | Y76: 127654 | Z76: 119106 | AA76: 1.62 | AB76: 1.28
A77: 新北市 | B77: New Taipei City | C77: 18573 | D77: 11371 | E77: 7202 | F77: 39422 | G77: 20805 | H77: 18617 | I77: 76 | J77: 62 | K77: 14 | L77: 79 | M77: 62 | N77: 17 | O77: 1308 | P77: 893 | Q77: 415 | R77: 2141 | S77: 1266 | T77: 875 | U77: 17189 | V77: 10416 | W77: 6773 | X77: 37202 | Y77: 19477 | Z77: 17725 | AA77: 1.17 | AB77: 0.98
A78: 臺北市 | B78: Taipei City | C78: 20906 | D78: 11698 | E78: 9208 | F78: 44655 | G78: 22601 | H78: 22054 | I78: 1791 | J78: 1312 | K78: 479 | L78: 1862 | M78: 1349 | N78: 513 | O78: 5887 | P78: 3650 | Q78: 2237 | R78: 8446 | S78: 4875 | T78: 3571 | U78: 13228 | V78: 6736 | W78: 6492 | X78: 34347 | Y78: 16377 | Z78: 17970 | AA78: 1.97 | AB78: 1.69
A79: 桃園市 | B79: Taoyuan City | C79: 9610 | D79: 5506 | E79: 4104 | F79: 23469 | G79: 11979 | H79: 11490 | I79: 43 | J79: 36 | K79: 7 | L79: 46 | M79: 36 | N79: 10 | O79: 1112 | P79: 716 | Q79: 396 | R79: 2103 | S79: 1198 | T79: 905 | U79: 8455 | V79: 4754 | W79: 3701 | X79: 21320 | Y79: 10745 | Z79: 10575 | AA79: 1.17 | AB79: 1.05
A80: 臺中市 | B80: Taichung City | C80: 19017 | D80: 11033 | E80: 7984 | F80: 43449 | G80: 22403 | H80: 21046 | I80: 371 | J80: 278 | K80: 93 | L80: 386 | M80: 289 | N80: 97 | O80: 6193 | P80: 4011 | Q80: 2182 | R80: 10358 | S80: 6001 | T80: 4357 | U80: 12453 | V80: 6744 | W80: 5709 | X80: 32705 | Y80: 16113 | Z80: 16592 | AA80: 1.93 | AB80: 1.54
A81: 臺南市 | B81: Tainan City | C81: 9727 | D81: 6497 | E81: 3230 | F81: 18891 | G81: 10570 | H81: 8321 | I81: 302 | J81: 216 | K81: 86 | L81: 306 | M81: 219 | N81: 87 | O81: 3045 | P81: 2170 | Q81: 875 | R81: 3885 | S81: 2566 | T81: 1319 | U81: 6380 | V81: 4111 | W81: 2269 | X81: 14700 | Y81: 7785 | Z81: 6915 | AA81: 1.4 | AB81: 1
A82: 高雄市 | B82: Kaohsiung City | C82: 17125 | D82: 10615 | E82: 6510 | F82: 37012 | G82: 19359 | H82: 17653 | I82: 80 | J82: 57 | K82: 23 | L82: 85 | M82: 60 | N82: 25 | O82: 7231 | P82: 4760 | Q82: 2471 | R82: 10498 | S82: 6251 | T82: 4247 | U82: 9814 | V82: 5798 | W82: 4016 | X82: 26429 | Y82: 13048 | Z82: 13381 | AA82: 1.54 | AB82: 1.33
A83: 宜蘭縣 | B83: Yilan County | C83: 2490 | D83: 1609 | E83: 881 | F83: 4333 | G83: 2482 | H83: 1851 | I83: 12 | J83: 9 | K83: 3 | L83: 12 | M83: 9 | N83: 3 | O83: 282 | P83: 212 | Q83: 70 | R83: 417 | S83: 288 | T83: 129 | U83: 2196 | V83: 1388 | W83: 808 | X83: 3904 | Y83: 2185 | Z83: 1719 | AA83: 1.46 | AB83: 0.95
A84: 新竹縣 | B84: Hsinchu County | C84: 1892 | D84: 1243 | E84: 649 | F84: 4388 | G84: 2350 | H84: 2038 | I84: 11 | J84: 10 | K84: 1 | L84: 11 | M84: 10 | N84: 1 | O84: 330 | P84: 256 | Q84: 74 | R84: 508 | S84: 334 | T84: 174 | U84: 1551 | V84: 977 | W84: 574 | X84: 3869 | Y84: 2006 | Z84: 1863 | AA84: 0.95 | AB84: 0.78
A85: 苗栗縣 | B85: Miaoli County | C85: 2992 | D85: 1969 | E85: 1023 | F85: 5895 | G85: 3342 | H85: 2553 | I85: 4 | J85: 4 | K85: 0 | L85: 4 | M85: 4 | N85: 0 | O85: 1272 | P85: 919 | Q85: 353 | R85: 1984 | S85: 1253 | T85: 731 | U85: 1716 | V85: 1046 | W85: 670 | X85: 3907 | Y85: 2085 | Z85: 1822 | AA85: 1.57 | AB85: 1.08
A86: 彰化縣 | B86: Changhua County | C86: 7037 | D86: 4553 | E86: 2484 | F86: 12069 | G86: 6816 | H86: 5253 | I86: 1 | J86: 1 | K86: 0 | L86: 1 | M86: 1 | N86: 0 | O86: 85 | P86: 62 | Q86: 23 | R86: 124 | S86: 80 | T86: 44 | U86: 6951 | V86: 4490 | W86: 2461 | X86: 11944 | Y86: 6735 | Z86: 5209 | AA86: 1.79 | AB86: 0.95
A87: 南投縣 | B87: Nantou County | C87: 2935 | D87: 2060 | E87: 875 | F87: 5475 | G87: 3203 | H87: 2272 | I87: 8 | J87: 7 | K87: 1 | L87: 9 | M87: 8 | N87: 1 | O87: 234 | P87: 157 | Q87: 77 | R87: 448 | S87: 256 | T87: 192 | U87: 2693 | V87: 1896 | W87: 797 | X87: 5018 | Y87: 2939 | Z87: 2079 | AA87: 1.64 | AB87: 1.11
... A98: 連江縣 | B98: Lienchiang County | C98: 54 | D98: 35 | E98: 19 | F98: 107 | G98: 59 | H98: 48 | I98: 13 | J98: 9 | K98: 4 | L98: 14 | M98: 10 | N98: 4 | O98: 17 | P98: 13 | Q98: 4 | R98: 23 | S98: 16 | T98: 7 | U98: 24 | V98: 13 | W98: 11 | X98: 70 | Y98: 33 | Z98: 37 | AA98: 1.7 | AB98: 0.82
A99: 資料來源：直轄市、縣﹝市﹞政府。
A100: Source : County and City Government.
B101: 總計 | C101: =C76-SUM(C77:C82)-#REF! -> #REF! | D101: =D76-SUM(D77:D82)-#REF! -> #REF! | E101: =E76-SUM(E77:E82)-#REF! -> #REF! | F101: =F76-SUM(F77:F82)-#REF! -> #REF! | G101: =G76-SUM(G77:G82)-#REF! -> #REF! | H101: =H76-SUM(H77:H82)-#REF! -> #REF! | I101: =I76-SUM(I77:I82)-#REF! -> #REF! | J101: =J76-SUM(J77:J82)-#REF! -> #REF! | ... Z101: =Z76-SUM(Z77:Z82)-#REF! -> #REF!
B102: 台灣省 | C102: =#REF!-SUM(C83:C96) -> #REF! | D102: =#REF!-SUM(D83:D96) -> #REF! | E102: =#REF!-SUM(E83:E96) -> #REF! | F102: =#REF!-SUM(F83:F96) -> #REF! | G102: =#REF!-SUM(G83:G96) -> #REF! | H102: =#REF!-SUM(H83:H96) -> #REF! | I102: =#REF!-SUM(I83:I96) -> #REF! | J102: =#REF!-SUM(J83:J96) -> #REF! | ... Z102: =#REF!-SUM(Z83:Z96) -> #REF!
B103: 福建省 | C103: =#REF!-C97-C98 -> #REF! | D103: =#REF!-D97-D98 -> #REF! | E103: =#REF!-E97-E98 -> #REF! | F103: =#REF!-F97-F98 -> #REF! | G103: =#REF!-G97-G98 -> #REF! | H103: =#REF!-H97-H98 -> #REF! | I103: =#REF!-I97-I98 -> #REF! | J103: =#REF!-J97-J98 -> #REF! | ... Z103: =#REF!-Z97-Z98 -> #REF!
B104: 核年季 | C104: =C76-歷年Yearly!B54 -> 142915 | D104: =D76-歷年Yearly!C54 -> 88448 | E104: =E76-歷年Yearly!D54 -> 54467 | F104: =F76-歷年Yearly!H54 -> 300866 | G104: =G76-歷年Yearly!I54 -> 160715 | H104: =H76-歷年Yearly!J54 -> 140151 | I104: =I76-歷年Yearly!E54 -> 2957 | L104: =L76-歷年Yearly!K54 -> 3063 | O104: =O76-歷年Yearly!F54 -> 33752 | R104: =R76-歷年Yearly!M42 -> 51043 | U104: =U76-歷年Yearly!G54 -> 106206 | X104: =X76-歷年Yearly!M53 -> 246760 | AA104: =AA76-歷年Yearly!N53 -> 1.62 | AB104: =AB76-歷年Yearly!O53 -> 1.28
A107: 中華民國108年第4季底 , 2019Q4
A108: 地區別 Locality | C108: 總計 Grand Total | I108: 第1款(省、新北、臺中、臺南)、第0類(臺北)、第1類(高雄) Class 1 | O108: 第2款(省、新北、臺中、臺南)、第1、2類(臺北)、第2類(高雄) Class 2 | U108: 第3款(省、新北、臺中、臺南)、第3、4類(臺北、高雄) Class 3 | AA108: 低收入戶戶數占總戶數比率(0/0) Rate of Households (%) | AB108: 低收入戶人數占總人數比率(0/0) Rate of Persons (%)
C109: 戶數(戶長性別) Households | F109: 人數 Persons | I109: 戶數 Households | L109: 人數 Persons | O109: 戶數 Households | R109: 人數 Persons | U109: 戶數 Households | X109: 人數 Persons
C110: 計 | D110: 男 | E110: 女 | F110: 計 | G110: 男 | H110: 女 | I110: 計 | J110: 男 | K110: 女 | L110: 計 | M110: 男 | N110: 女 | O110: 計 | P110: 男 | Q110: 女 | R110: 計 | S110: 男 | T110: 女 | U110: 計 | V110: 男 | W110: 女 | X110: 計 | Y110: 男 | Z110: 女
C111: Sub-Total | D111: Male | E111: Female | F111: Sub-Total | G111: Male | H111: Female | I111: Sub-Total | J111: Male | K111: Female | L111: Sub-Total | M111: Male | N111: Female | O111: Sub-Total | P111: Male | Q111: Female | R111: Sub-Total | S111: Male | T111: Female | U111: Sub-Total | V111: Male | W111: Female | X111: Sub-Total | Y111: Male | Z111: Female
A112: 總 計 | B112: Total | C112: 144863 | D112: 89549 | E112: 55314 | F112: 304470 | G112: 162658 | H112: 141812 | I112: 2926 | J112: 2157 | K112: 769 | L112: 3028 | M112: 2213 | N112: 815 | O112: 34050 | P112: 22893 | Q112: 11157 | R112: 51337 | S112: 30964 | T112: 20373 | U112: 107887 | V112: 64499 | W112: 43388 | X112: 250105 | Y112: 129481 | Z112: 120624 | AA112: 1.64 | AB112: 1.29
A113: 新北市 | B113: New Taipei City | C113: 19039 | D113: 11660 | E113: 7379 | F113: 40305 | G113: 21293 | H113: 19012 | I113: 78 | J113: 63 | K113: 15 | L113: 81 | M113: 64 | N113: 17 | O113: 1354 | P113: 922 | Q113: 432 | R113: 2206 | S113: 1307 | T113: 899 | U113: 17607 | V113: 10675 | W113: 6932 | X113: 38018 | Y113: 19922 | Z113: 18096 | AA113: 1.2 | AB113: 1
A114: 臺北市 | B114: Taipei City | C114: 21123 | D114: 11822 | E114: 9301 | F114: 44984 | G114: 22808 | H114: 22176 | I114: 1766 | J114: 1290 | K114: 476 | L114: 1833 | M114: 1325 | N114: 508 | O114: 6006 | P114: 3726 | Q114: 2280 | R114: 8579 | S114: 4962 | T114: 3617 | U114: 13351 | V114: 6806 | W114: 6545 | X114: 34572 | Y114: 16521 | Z114: 18051 | AA114: 1.99 | AB114: 1.7
A115: 桃園市 | B115: Taoyuan City | C115: 9738 | D115: 5581 | E115: 4157 | F115: 23822 | G115: 12149 | H115: 11673 | I115: 44 | J115: 36 | K115: 8 | L115: 47 | M115: 36 | N115: 11 | O115: 1131 | P115: 728 | Q115: 403 | R115: 2144 | S115: 1221 | T115: 923 | U115: 8563 | V115: 4817 | W115: 3746 | X115: 21631 | Y115: 10892 | Z115: 10739 | AA115: 1.18 | AB115: 1.06
A116: 臺中市 | B116: Taichung City | C116: 19332 | D116: 11203 | E116: 8129 | F116: 44049 | G116: 22715 | H116: 21334 | I116: 370 | J116: 277 | K116: 93 | L116: 385 | M116: 288 | N116: 97 | O116: 6261 | P116: 4044 | Q116: 2217 | R116: 10468 | S116: 6048 | T116: 4420 | U116: 12701 | V116: 6882 | W116: 5819 | X116: 33196 | Y116: 16379 | Z116: 16817 | AA116: 1.96 | AB116: 1.56
A117: 臺南市 | B117: Tainan City | C117: 9791 | D117: 6531 | E117: 3260 | F117: 18964 | G117: 10623 | H117: 8341 | I117: 297 | J117: 209 | K117: 88 | L117: 302 | M117: 212 | N117: 90 | O117: 3068 | P117: 2186 | Q117: 882 | R117: 3896 | S117: 2582 | T117: 1314 | U117: 6426 | V117: 4136 | W117: 2290 | X117: 14766 | Y117: 7829 | Z117: 6937 | AA117: 1.41 | AB117: 1.01
A118: 高雄市 | B118: Kaohsiung City | C118: 17141 | D118: 10601 | E118: 6540 | F118: 36844 | G118: 19270 | H118: 17574 | I118: 78 | J118: 53 | K118: 25 | L118: 82 | M118: 56 | N118: 26 | O118: 7249 | P118: 4775 | Q118: 2474 | R118: 10465 | S118: 6236 | T118: 4229 | U118: 9814 | V118: 5773 | W118: 4041 | X118: 26297 | Y118: 12978 | Z118: 13319 | AA118: 1.54 | AB118: 1.33
A119: 宜蘭縣 | B119: Yilan County | C119: 2531 | D119: 1652 | E119: 879 | F119: 4407 | G119: 2537 | H119: 1870 | I119: 12 | J119: 9 | K119: 3 | L119: 12 | M119: 9 | N119: 3 | O119: 287 | P119: 216 | Q119: 71 | R119: 414 | S119: 289 | T119: 125 | U119: 2232 | V119: 1427 | W119: 805 | X119: 3981 | Y119: 2239 | Z119: 1742 | AA119: 1.48 | AB119: 0.97
A120: 新竹縣 | B120: Hsinchu County | C120: 1921 | D120: 1253 | E120: 668 | F120: 4478 | G120: 2390 | H120: 2088 | I120: 11 | J120: 10 | K120: 1 | L120: 11 | M120: 10 | N120: 1 | O120: 330 | P120: 256 | Q120: 74 | R120: 505 | S120: 332 | T120: 173 | U120: 1580 | V120: 987 | W120: 593 | X120: 3962 | Y120: 2048 | Z120: 1914 | AA120: 0.96 | AB120: 0.79
A121: 苗栗縣 | B121: Miaoli County | C121: 3050 | D121: 2009 | E121: 1041 | F121: 6035 | G121: 3424 | H121: 2611 | I121: 4 | J121: 4 | K121: 0 | L121: 4 | M121: 4 | N121: 0 | O121: 1292 | P121: 934 | Q121: 358 | R121: 2019 | S121: 1271 | T121: 748 | U121: 1754 | V121: 1071 | W121: 683 | X121: 4012 | Y121: 2149 | Z121: 1863 | AA121: 1.6 | AB121: 1.11
A122: 彰化縣 | B122: Changhua County | C122: 7046 | D122: 4546 | E122: 2500 | F122: 12131 | G122: 6829 | H122: 5302 | I122: 1 | J122: 1 | K122: 0 | L122: 1 | M122: 1 | N122: 0 | O122: 85 | P122: 62 | Q122: 23 | R122: 125 | S122: 81 | T122: 44 | U122: 6960 | V122: 4483 | W122: 2477 | X122: 12005 | Y122: 6747 | Z122: 5258 | AA122: 1.79 | AB122: 0.95
A123: 南投縣 | B123: Nantou County | C123: 2972 | D123: 2080 | E123: 892 | F123: 5560 | G123: 3248 | H123: 2312 | I123: 7 | J123: 6 | K123: 1 | L123: 8 | M123: 7 | N123: 1 | O123: 230 | P123: 154 | Q123: 76 | R123: 442 | S123: 252 | T123: 190 | U123: 2735 | V123: 1920 | W123: 815 | X123: 5110 | Y123: 2989 | Z123: 2121 | AA123: 1.66 | AB123: 1.13
... A134: 連江縣 | B134: Lienchiang County | C134: 55 | D134: 35 | E134: 20 | F134: 108 | G134: 59 | H134: 49 | I134: 14 | J134: 10 | K134: 4 | L134: 15 | M134: 11 | N134: 4 | O134: 16 | P134: 12 | Q134: 4 | R134: 22 | S134: 15 | T134: 7 | U134: 25 | V134: 13 | W134: 12 | X134: 71 | Y134: 33 | Z134: 38 | AA134: 1.71 | AB134: 0.83
A135: 資料來源：直轄市、縣﹝市﹞政府。
A136: Source : County and City Government.
B137: 總計 | C137: =C112-SUM(C113:C118)-#REF! -> #REF! | D137: =D112-SUM(D113:D118)-#REF! -> #REF! | E137: =E112-SUM(E113:E118)-#REF! -> #REF! | F137: =F112-SUM(F113:F118)-#REF! -> #REF! | G137: =G112-SUM(G113:G118)-#REF! -> #REF! | H137: =H112-SUM(H113:H118)-#REF! -> #REF! | I137: =I112-SUM(I113:I118)-#REF! -> #REF! | J137: =J112-SUM(J113:J118)-#REF! -> #REF! | ... Z137: =Z112-SUM(Z113:Z118)-#REF! -> #REF!
B138: 台灣省 | C138: =#REF!-SUM(C119:C132) -> #REF! | D138: =#REF!-SUM(D119:D132) -> #REF! | E138: =#REF!-SUM(E119:E132) -> #REF! | F138: =#REF!-SUM(F119:F132) -> #REF! | G138: =#REF!-SUM(G119:G132) -> #REF! | H138: =#REF!-SUM(H119:H132) -> #REF! | I138: =#REF!-SUM(I119:I132) -> #REF! | J138: =#REF!-SUM(J119:J132) -> #REF! | ... Z138: =#REF!-SUM(Z119:Z132) -> #REF!
B139: 福建省 | C139: =#REF!-C133-C134 -> #REF! | D139: =#REF!-D133-D134 -> #REF! | E139: =#REF!-E133-E134 -> #REF! | F139: =#REF!-F133-F134 -> #REF! | G139: =#REF!-G133-G134 -> #REF! | H139: =#REF!-H133-H134 -> #REF! | I139: =#REF!-I133-I134 -> #REF! | J139: =#REF!-J133-J134 -> #REF! | ... Z139: =#REF!-Z133-Z134 -> #REF!
B140: 核年季 | C140: =C112-歷年Yearly!B93 -> 144863 | D140: =D112-歷年Yearly!C93 -> 89549 | E140: =E112-歷年Yearly!D93 -> 55314 | F140: =F112-歷年Yearly!H93 -> 304470 | G140: =G112-歷年Yearly!I93 -> 162658 | H140: =H112-歷年Yearly!J93 -> 141812 | I140: =I112-歷年Yearly!E93 -> 2926 | L140: =L112-歷年Yearly!K93 -> 3028 | O140: =O112-歷年Yearly!F93 -> 34050 | R140: =R112-歷年Yearly!L92 -> 51337 | U140: =U112-歷年Yearly!G93 -> 107887 | X140: =X112-歷年Yearly!M92 -> 250105 | AA140: =AA112-歷年Yearly!N92 -> 1.64 | AB140: =AB112-歷年Yearly!O92 -> 1.29

Sheet 2018
A2: 低收入戶戶數及人數 Number and Population of Low-Income Households
A3: 中華民國107年第1季底 , 2018 Q1
A4: 地區別 Locality | C4: 總計 Grand Total | I4: 第1款(省、新北、臺中、臺南)、第0類(臺北)、第1類(高雄) Class 1 | O4: 第2款(省、新北、臺中、臺南)、第1、2類(臺北)、第2類(高雄) Class 2 | U4: 第3款(省、新北、臺中、臺南)、第3、4類(臺北、高雄) Class 3 | AA4: 低收入戶戶數占總戶數比率(%) Rate of Households (%) | AB4: 低收入戶人數占總人數比率(%) Rate of Persons (%)
C5: 戶數(戶長性別) Households | F5: 人數 Persons | I5: 戶數 Households | L5: 人數 Persons | O5: 戶數 Households | R5: 人數 Persons | U5: 戶數 Households | X5: 人數 Persons
C6: 計 | D6: 男 | E6: 女 | F6: 計 | G6: 男 | H6: 女 | I6: 計 | J6: 男 | K6: 女 | L6: 計 | M6: 男 | N6: 女 | O6: 計 | P6: 男 | Q6: 女 | R6: 計 | S6: 男 | T6: 女 | U6: 計 | V6: 男 | W6: 女 | X6: 計 | Y6: 男 | Z6: 女
C7: Sub-Total | D7: Male | E7: Female | F7: Sub-Total | G7: Male | H7: Female | I7: Sub-Total | J7: Male | K7: Female | L7: Sub-Total | M7: Male | N7: Female | O7: Sub-Total | P7: Male | Q7: Female | R7: Sub-Total | S7: Male | T7: Female | U7: Sub-Total | V7: Male | W7: Female | X7: Sub-Total | Y7: Male | Z7: Female
A8: 總 計 | B8: Total | C8: 138692 | D8: 85833 | E8: 52859 | F8: 303264 | G8: 160873 | H8: 142391 | I8: 3181 | J8: 2376 | K8: 805 | L8: 3305 | M8: 2443 | N8: 862 | O8: 32627 | P8: 21962 | Q8: 10665 | R8: 51594 | S8: 30723 | T8: 20871 | U8: 102884 | V8: 61495 | W8: 41389 | X8: 248365 | Y8: 127707 | Z8: 120658 | AA8: 1.6 | AB8: 1.29 | AD8: 8479633 | AE8: 23496813 | AF8: =C8/AD8*100 -> 1.6355897 | AG8: =F8/AE8*100 -> 1.2906601
A9: 新北市 | B9: New Taipei City | C9: 17422 | D9: 10509 | E9: 6913 | F9: 38528 | G9: 20141 | H9: 18387 | I9: 63 | J9: 50 | K9: 13 | L9: 67 | M9: 51 | N9: 16 | O9: 1191 | P9: 811 | Q9: 380 | R9: 2028 | S9: 1192 | T9: 836 | U9: 16168 | V9: 9648 | W9: 6520 | X9: 36433 | Y9: 18898 | Z9: 17535 | AA9: 1.13 | AB9: 0.97 | AD9: 1512390 | AE9: 3970790 | AF9: =C9/AD9*100 -> 1.1519515 | AG9: =F9/AE9*100 -> 0.97028551
A10: 臺北市 | B10: Taipei City | C10: 20138 | D10: 11387 | E10: 8751 | F10: 44348 | G10: 22480 | H10: 21868 | I10: 1913 | J10: 1415 | K10: 498 | L10: 1988 | M10: 1453 | N10: 535 | O10: 5472 | P10: 3377 | Q10: 2095 | R10: 8181 | S10: 4655 | T10: 3526 | U10: 12753 | V10: 6595 | W10: 6158 | X10: 34179 | Y10: 16372 | Z10: 17807 | AA10: 1.91 | AB10: 1.65 | AD10: 1044184 | AE10: 2704495 | AF10: =C10/AD10*100 -> 1.9285873 | AG10: =F10/AE10*100 -> 1.6397886
A11: 桃園市 | B11: Taoyuan City | C11: 8129 | D11: 4623 | E11: 3506 | F11: 20302 | G11: 10346 | H11: 9956 | I11: 42 | J11: 35 | K11: 7 | L11: 46 | M11: 38 | N11: 8 | O11: 1077 | P11: 700 | Q11: 377 | R11: 2098 | S11: 1198 | T11: 900 | U11: 7010 | V11: 3888 | W11: 3122 | X11: 18158 | Y11: 9110 | Z11: 9048 | AA11: 1.02 | AB11: 0.92 | AD11: 753275 | AE11: 2114172 | AF11: =C11/AD11*100 -> 1.0791544 | AG11: =F11/AE11*100 -> 0.96028138
A12: 臺中市 | B12: Taichung City | C12: 18117 | D12: 10452 | E12: 7665 | F12: 43039 | G12: 22024 | H12: 21015 | I12: 416 | J12: 309 | K12: 107 | L12: 435 | M12: 321 | N12: 114 | O12: 5582 | P12: 3567 | Q12: 2015 | R12: 10025 | S12: 5694 | T12: 4331 | U12: 12119 | V12: 6576 | W12: 5543 | X12: 32579 | Y12: 16009 | Z12: 16570 | AA12: 1.88 | AB12: 1.54 | AD12: 930242 | AE12: 2748799 | AF12: =C12/AD12*100 -> 1.9475577 | AG12: =F12/AE12*100 -> 1.5657383
A13: 臺南市 | B13: Tainan City | C13: 10070 | D13: 6659 | E13: 3411 | F13: 20906 | G13: 11445 | H13: 9461 | I13: 312 | J13: 221 | K13: 91 | L13: 319 | M13: 224 | N13: 95 | O13: 3134 | P13: 2237 | Q13: 897 | R13: 4149 | S13: 2719 | T13: 1430 | U13: 6624 | V13: 4201 | W13: 2423 | X13: 16438 | Y13: 8502 | Z13: 7936 | AA13: 1.47 | AB13: 1.11 | AD13: 672858 | AE13: 1885157 | AF13: =C13/AD13*100 -> 1.4966011 | AG13: =F13/AE13*100 -> 1.1089793
A14: 高雄市 | B14: Kaohsiung City | C14: 17992 | D14: 11168 | E14: 6824 | F14: 40565 | G14: 21062 | H14: 19503 | I14: 91 | J14: 65 | K14: 26 | L14: 96 | M14: 68 | N14: 28 | O14: 7272 | P14: 4820 | Q14: 2452 | R14: 10956 | S14: 6488 | T14: 4468 | U14: 10629 | V14: 6283 | W14: 4346 | X14: 29513 | Y14: 14506 | Z14: 15007 | AA14: 1.65 | AB14: 1.46 | AD14: 1074044 | AE14: 2778240 | AF14: =C14/AD14*100 -> 1.6751641 | AG14: =F14/AE14*100 -> 1.460097
A15: 宜蘭縣 | B15: Yilan County | C15: 2480 | D15: 1606 | E15: 874 | F15: 4467 | G15: 2498 | H15: 1969 | I15: 14 | J15: 13 | K15: 1 | L15: 15 | M15: 13 | N15: 2 | O15: 259 | P15: 197 | Q15: 62 | R15: 399 | S15: 271 | T15: 128 | U15: 2207 | V15: 1396 | W15: 811 | X15: 4053 | Y15: 2214 | Z15: 1839 | AA15: 1.47 | AB15: 0.98 | AD15: 165138 | AE15: 457854 | AF15: =C15/AD15*100 -> 1.5017743 | AG15: =F15/AE15*100 -> 0.97563852
A16: 新竹縣 | B16: Hsinchu County | C16: 1734 | D16: 1159 | E16: 575 | F16: 4185 | G16: 2246 | H16: 1939 | I16: 14 | J16: 13 | K16: 1 | L16: 14 | M16: 13 | N16: 1 | O16: 223 | P16: 170 | Q16: 53 | R16: 359 | S16: 226 | T16: 133 | U16: 1497 | V16: 976 | W16: 521 | X16: 3812 | Y16: 2007 | Z16: 1805 | AA16: 0.9 | AB16: 0.76 | AD16: 183969 | AE16: 543183 | AF16: =C16/AD16*100 -> 0.9425501 | AG16: =F16/AE16*100 -> 0.77045857
A17: 苗栗縣 | B17: Miaoli County | C17: 2855 | D17: 1872 | E17: 983 | F17: 5800 | G17: 3258 | H17: 2542 | I17: 2 | J17: 2 | K17: 0 | L17: 2 | M17: 2 | N17: 0 | O17: 1234 | P17: 880 | Q17: 354 | R17: 2031 | S17: 1246 | T17: 785 | U17: 1619 | V17: 990 | W17: 629 | X17: 3767 | Y17: 2010 | Z17: 1757 | AA17: 1.52 | AB17: 1.05 | AD17: 184453 | AE17: 562473 | AF17: =C17/AD17*100 -> 1.5478198 | AG17: =F17/AE17*100 -> 1.0311606
A18: 彰化縣 | B18: Changhua County | C18: 6426 | D18: 4168 | E18: 2258 | F18: 11084 | G18: 6218 | H18: 4866 | I18: 3 | J18: 2 | K18: 1 | L18: 3 | M18: 2 | N18: 1 | O18: 74 | P18: 50 | Q18: 24 | R18: 110 | S18: 68 | T18: 42 | U18: 6349 | V18: 4116 | W18: 2233 | X18: 10971 | Y18: 6148 | Z18: 4823 | AA18: 1.66 | AB18: 0.87 | AD18: 382330 | AE18: 1288945 | AF18: =C18/AD18*100 -> 1.680747 | AG18: =F18/AE18*100 -> 0.85992808
A19: 南投縣 | B19: Nantou County | C19: 2936 | D19: 2043 | E19: 893 | F19: 5628 | G19: 3231 | H19: 2397 | I19: 12 | J19: 11 | K19: 1 | L19: 13 | M19: 12 | N19: 1 | O19: 302 | P19: 205 | Q19: 97 | R19: 582 | S19: 329 | T19: 253 | U19: 2622 | V19: 1827 | W19: 795 | X19: 5033 | Y19: 2890 | Z19: 2143 | AA19: 1.65 | AB19: 1.13 | AD19: 177009 | AE19: 508146 | AF19: =C19/AD19*100 -> 1.6586727 | AG19: =F19/AE19*100 -> 1.1075557
... A30: 連江縣 | B30: Lienchiang County | C30: 53 | D30: 34 | E30: 19 | F30: 103 | G30: 59 | H30: 44 | I30: 14 | J30: 10 | K30: 4 | L30: 15 | M30: 11 | N30: 4 | O30: 18 | P30: 12 | Q30: 6 | R30: 31 | S30: 18 | T30: 13 | U30: 21 | V30: 12 | W30: 9 | X30: 57 | Y30: 30 | Z30: 27 | AA30: 1.82 | AB30: 0.8 | AD30: 2607 | AE30: 12530 | AF30: =C30/AD30*100 -> 2.0329881 | AG30: =F30/AE30*100 -> 0.82202713
A31: 資料來源：直轄市、縣﹝市﹞政府。
A32: Source : County and City Government.
A35: 中華民國107年第2季底 , 2018 Q2
A36: 地區別 Locality | C36: 總計 Grand Total | I36: 第1款(省、新北、臺中、臺南)、第0類(臺北)、第1類(高雄) Class 1 | O36: 第2款(省、新北、臺中、臺南)、第1、2類(臺北)、第2類(高雄) Class 2 | U36: 第3款(省、新北、臺中、臺南)、第3、4類(臺北、高雄) Class 3 | AA36: 低收入戶戶數占總戶數比率(%) Rate of Households (%) | AB36: 低收入戶人數占總人數比率(%) Rate of Persons (%)
C37: 戶數(戶長性別) Households | F37: 人數 Persons | I37: 戶數 Households | L37: 人數 Persons | O37: 戶數 Households | R37: 人數 Persons | U37: 戶數 Households | X37: 人數 Persons
C38: 計 | D38: 男 | E38: 女 | F38: 計 | G38: 男 | H38: 女 | I38: 計 | J38: 男 | K38: 女 | L38: 計 | M38: 男 | N38: 女 | O38: 計 | P38: 男 | Q38: 女 | R38: 計 | S38: 男 | T38: 女 | U38: 計 | V38: 男 | W38: 女 | X38: 計 | Y38: 男 | Z38: 女
C39: Sub-Total | D39: Male | E39: Female | F39: Sub-Total | G39: Male | H39: Female | I39: Sub-Total | J39: Male | K39: Female | L39: Sub-Total | M39: Male | N39: Female | O39: Sub-Total | P39: Male | Q39: Female | R39: Sub-Total | S39: Male | T39: Female | U39: Sub-Total | V39: Male | W39: Female | X39: Sub-Total | Y39: Male | Z39: Female
A40: 總 計 | B40: Total | C40: 141441 | D40: 87374 | E40: 54067 | F40: 308548 | G40: 163682 | H40: 144866 | I40: 3164 | J40: 2365 | K40: 799 | L40: 3290 | M40: 2433 | N40: 857 | O40: 33040 | P40: 22196 | Q40: 10844 | R40: 52231 | S40: 31090 | T40: 21141 | U40: 105237 | V40: 62813 | W40: 42424 | X40: 253027 | Y40: 130159 | Z40: 122868 | AA40: 1.63 | AB40: 1.31
A41: 新北市 | B41: New Taipei City | C41: 18000 | D41: 10861 | E41: 7139 | F41: 39649 | G41: 20749 | H41: 18900 | I41: 64 | J41: 51 | K41: 13 | L41: 68 | M41: 52 | N41: 16 | O41: 1241 | P41: 846 | Q41: 395 | R41: 2124 | S41: 1251 | T41: 873 | U41: 16695 | V41: 9964 | W41: 6731 | X41: 37457 | Y41: 19446 | Z41: 18011 | AA41: 1.16 | AB41: 0.99
A42: 臺北市 | B42: Taipei City | C42: 20440 | D42: 11536 | E42: 8904 | F42: 44858 | G42: 22748 | H42: 22110 | I42: 1911 | J42: 1414 | K42: 497 | L42: 1990 | M42: 1455 | N42: 535 | O42: 5587 | P42: 3439 | Q42: 2148 | R42: 8331 | S42: 4733 | T42: 3598 | U42: 12942 | V42: 6683 | W42: 6259 | X42: 34537 | Y42: 16560 | Z42: 17977 | AA42: 1.94 | AB42: 1.68
A43: 桃園市 | B43: Taoyuan City | C43: 8472 | D43: 4808 | E43: 3664 | F43: 21109 | G43: 10743 | H43: 10366 | I43: 42 | J43: 35 | K43: 7 | L43: 45 | M43: 37 | N43: 8 | O43: 1103 | P43: 715 | Q43: 388 | R43: 2139 | S43: 1221 | T43: 918 | U43: 7327 | V43: 4058 | W43: 3269 | X43: 18925 | Y43: 9485 | Z43: 9440 | AA43: 1.06 | AB43: 0.96
A44: 臺中市 | B44: Taichung City | C44: 18482 | D44: 10662 | E44: 7820 | F44: 43712 | G44: 22397 | H44: 21315 | I44: 415 | J44: 310 | K44: 105 | L44: 433 | M44: 321 | N44: 112 | O44: 5678 | P44: 3640 | Q44: 2038 | R44: 10143 | S44: 5781 | T44: 4362 | U44: 12389 | V44: 6712 | W44: 5677 | X44: 33136 | Y44: 16295 | Z44: 16841 | AA44: 1.91 | AB44: 1.56
A45: 臺南市 | B45: Tainan City | C45: 10171 | D45: 6716 | E45: 3455 | F45: 21143 | G45: 11574 | H45: 9569 | I45: 310 | J45: 222 | K45: 88 | L45: 317 | M45: 225 | N45: 92 | O45: 3125 | P45: 2227 | Q45: 898 | R45: 4137 | S45: 2704 | T45: 1433 | U45: 6736 | V45: 4267 | W45: 2469 | X45: 16689 | Y45: 8645 | Z45: 8044 | AA45: 1.48 | AB45: 1.12
A46: 高雄市 | B46: Kaohsiung City | C46: 18195 | D46: 11271 | E46: 6924 | F46: 40941 | G46: 21272 | H46: 19669 | I46: 88 | J46: 62 | K46: 26 | L46: 93 | M46: 65 | N46: 28 | O46: 7335 | P46: 4841 | Q46: 2494 | R46: 11061 | S46: 6539 | T46: 4522 | U46: 10772 | V46: 6368 | W46: 4404 | X46: 29787 | Y46: 14668 | Z46: 15119 | AA46: 1.66 | AB46: 1.48
A47: 宜蘭縣 | B47: Yilan County | C47: 2499 | D47: 1615 | E47: 884 | F47: 4481 | G47: 2506 | H47: 1975 | I47: 14 | J47: 13 | K47: 1 | L47: 15 | M47: 13 | N47: 2 | O47: 264 | P47: 203 | Q47: 61 | R47: 409 | S47: 281 | T47: 128 | U47: 2221 | V47: 1399 | W47: 822 | X47: 4057 | Y47: 2212 | Z47: 1845 | AA47: 1.48 | AB47: 0.98
A48: 新竹縣 | B48: Hsinchu County | C48: 1784 | D48: 1185 | E48: 599 | F48: 4287 | G48: 2287 | H48: 2000 | I48: 12 | J48: 11 | K48: 1 | L48: 12 | M48: 11 | N48: 1 | O48: 219 | P48: 166 | Q48: 53 | R48: 357 | S48: 223 | T48: 134 | U48: 1553 | V48: 1008 | W48: 545 | X48: 3918 | Y48: 2053 | Z48: 1865 | AA48: 0.92 | AB48: 0.77
A49: 苗栗縣 | B49: Miaoli County | C49: 2908 | D49: 1901 | E49: 1007 | F49: 5898 | G49: 3300 | H49: 2598 | I49: 3 | J49: 3 | K49: 0 | L49: 3 | M49: 3 | N49: 0 | O49: 1252 | P49: 892 | Q49: 360 | R49: 2069 | S49: 1269 | T49: 800 | U49: 1653 | V49: 1006 | W49: 647 | X49: 3826 | Y49: 2028 | Z49: 1798 | AA49: 1.54 | AB49: 1.07
A50: 彰化縣 | B50: Changhua County | C50: 6570 | D50: 4235 | E50: 2335 | F50: 11351 | G50: 6337 | H50: 5014 | I50: 2 | J50: 2 | K50: 0 | L50: 2 | M50: 2 | N50: 0 | O50: 73 | P50: 49 | Q50: 24 | R50: 108 | S50: 66 | T50: 42 | U50: 6495 | V50: 4184 | W50: 2311 | X50: 11241 | Y50: 6269 | Z50: 4972 | AA50: 1.69 | AB50: 0.89
A51: 南投縣 | B51: Nantou County | C51: 2982 | D51: 2066 | E51: 916 | F51: 5758 | G51: 3298 | H51: 2460 | I51: 11 | J51: 10 | K51: 1 | L51: 12 | M51: 11 | N51: 1 | O51: 294 | P51: 195 | Q51: 99 | R51: 582 | S51: 322 | T51: 260 | U51: 2677 | V51: 1861 | W51: 816 | X51: 5164 | Y51: 2965 | Z51: 2199 | AA51: 1.67 | AB51: 1.15
... A62: 連江縣 | B62: Lienchiang County | C62: 52 | D62: 34 | E62: 18 | F62: 102 | G62: 59 | H62: 43 | I62: 13 | J62: 10 | K62: 3 | L62: 14 | M62: 11 | N62: 3 | O62: 19 | P62: 13 | Q62: 6 | R62: 32 | S62: 19 | T62: 13 | U62: 20 | V62: 11 | W62: 9 | X62: 56 | Y62: 29 | Z62: 27 | AA62: 1.74 | AB62: 0.78
A63: 資料來源：直轄市、縣﹝市﹞政府。
A64: Source : County and City Government.
B65: 總計 | C65: =C40-SUM(C41:C46)-#REF! -> #REF! | D65: =D40-SUM(D41:D46)-#REF! -> #REF! | E65: =E40-SUM(E41:E46)-#REF! -> #REF! | F65: =F40-SUM(F41:F46)-#REF! -> #REF! | G65: =G40-SUM(G41:G46)-#REF! -> #REF! | H65: =H40-SUM(H41:H46)-#REF! -> #REF! | I65: =I40-SUM(I41:I46)-#REF! -> #REF! | J65: =J40-SUM(J41:J46)-#REF! -> #REF! | ... Z65: =Z40-SUM(Z41:Z46)-#REF! -> #REF!
B66: 台灣省 | C66: =#REF!-SUM(C47:C60) -> #REF! | D66: =#REF!-SUM(D47:D60) -> #REF! | E66: =#REF!-SUM(E47:E60) -> #REF! | F66: =#REF!-SUM(F47:F60) -> #REF! | G66: =#REF!-SUM(G47:G60) -> #REF! | H66: =#REF!-SUM(H47:H60) -> #REF! | I66: =#REF!-SUM(I47:I60) -> #REF! | J66: =#REF!-SUM(J47:J60) -> #REF! | ... Z66: =#REF!-SUM(Z47:Z60) -> #REF!
B67: 福建省 | C67: =#REF!-C61-C62 -> #REF! | D67: =#REF!-D61-D62 -> #REF! | E67: =#REF!-E61-E62 -> #REF! | F67: =#REF!-F61-F62 -> #REF! | G67: =#REF!-G61-G62 -> #REF! | H67: =#REF!-H61-H62 -> #REF! | I67: =#REF!-I61-I62 -> #REF! | J67: =#REF!-J61-J62 -> #REF! | ... Z67: =#REF!-Z61-Z62 -> #REF!
B68: 核年季 | C68: =C40-歷年Yearly!#REF! -> #REF! | D68: =D40-歷年Yearly!#REF! -> #REF! | E68: =E40-歷年Yearly!#REF! -> #REF! | F68: =F40-歷年Yearly!#REF! -> #REF! | G68: =G40-歷年Yearly!#REF! -> #REF! | H68: =H40-歷年Yearly!#REF! -> #REF! | I68: =I40-歷年Yearly!#REF! -> #REF! | L68: =L40-歷年Yearly!#REF! -> #REF! | O68: =O40-歷年Yearly!#REF! -> #REF! | R68: =R40-歷年Yearly!#REF! -> #REF! | U68: =U40-歷年Yearly!#REF! -> #REF! | X68: =X40-歷年Yearly!#REF! -> #REF! | AA68: =AA40-歷年Yearly!#REF! -> #REF! | AB68: =AB40-歷年Yearly!#REF! -> #REF!
A71: 中華民國107年第3季底 , 2018 Q3
A72: 地區別 Locality | C72: 總計 Grand Total | I72: 第1款(省、新北、臺中、臺南)、第0類(臺北)、第1類(高雄) Class 1 | O72: 第2款(省、新北、臺中、臺南)、第1、2類(臺北)、第2類(高雄) Class 2 | U72: 第3款(省、新北、臺中、臺南)、第3、4類(臺北、高雄) Class 3 | AA72: 低收入戶戶數占總戶數比率(%) Rate of Households (%) | AB72: 低收入戶人數占總人數比率(%) Rate of Persons (%)
C73: 戶數(戶長性別) Households | F73: 人數 Persons | I73: 戶數 Households | L73: 人數 Persons | O73: 戶數 Households | R73: 人數 Persons | U73: 戶數 Households | X73: 人數 Persons
C74: 計 | D74: 男 | E74: 女 | F74: 計 | G74: 男 | H74: 女 | I74: 計 | J74: 男 | K74: 女 | L74: 計 | M74: 男 | N74: 女 | O74: 計 | P74: 男 | Q74: 女 | R74: 計 | S74: 男 | T74: 女 | U74: 計 | V74: 男 | W74: 女 | X74: 計 | Y74: 男 | Z74: 女
C75: Sub-Total | D75: Male | E75: Female | F75: Sub-Total | G75: Male | H75: Female | I75: Sub-Total | J75: Male | K75: Female | L75: Sub-Total | M75: Male | N75: Female | O75: Sub-Total | P75: Male | Q75: Female | R75: Sub-Total | S75: Male | T75: Female | U75: Sub-Total | V75: Male | W75: Female | X75: Sub-Total | Y75: Male | Z75: Female
A76: 總 計 | B76: Total | C76: 142033 | D76: 87757 | E76: 54276 | F76: 307710 | G76: 163436 | H76: 144274 | I76: 3114 | J76: 2326 | K76: 788 | L76: 3245 | M76: 2397 | N76: 848 | O76: 33144 | P76: 22263 | Q76: 10881 | R76: 51884 | S76: 30936 | T76: 20948 | U76: 105775 | V76: 63168 | W76: 42607 | X76: 252581 | Y76: 130103 | Z76: 122478 | AA76: 1.63 | AB76: 1.31
A77: 新北市 | B77: New Taipei City | C77: 18508 | D77: 11173 | E77: 7335 | F77: 40680 | G77: 21288 | H77: 19392 | I77: 67 | J77: 52 | K77: 15 | L77: 72 | M77: 53 | N77: 19 | O77: 1270 | P77: 866 | Q77: 404 | R77: 2175 | S77: 1279 | T77: 896 | U77: 17171 | V77: 10255 | W77: 6916 | X77: 38433 | Y77: 19956 | Z77: 18477 | AA77: 1.19 | AB77: 1.02
A78: 臺北市 | B78: Taipei City | C78: 20642 | D78: 11624 | E78: 9018 | F78: 45215 | G78: 22902 | H78: 22313 | I78: 1879 | J78: 1388 | K78: 491 | L78: 1961 | M78: 1431 | N78: 530 | O78: 5669 | P78: 3468 | Q78: 2201 | R78: 8401 | S78: 4759 | T78: 3642 | U78: 13094 | V78: 6768 | W78: 6326 | X78: 34853 | Y78: 16712 | Z78: 18141 | AA78: 1.95 | AB78: 1.69
A79: 桃園市 | B79: Taoyuan City | C79: 8544 | D79: 4862 | E79: 3682 | F79: 21134 | G79: 10803 | H79: 10331 | I79: 41 | J79: 34 | K79: 7 | L79: 44 | M79: 36 | N79: 8 | O79: 1091 | P79: 715 | Q79: 376 | R79: 2103 | S79: 1197 | T79: 906 | U79: 7412 | V79: 4113 | W79: 3299 | X79: 18987 | Y79: 9570 | Z79: 9417 | AA79: 1.06 | AB79: 0.95
A80: 臺中市 | B80: Taichung City | C80: 18631 | D80: 10772 | E80: 7859 | F80: 43795 | G80: 22464 | H80: 21331 | I80: 407 | J80: 306 | K80: 101 | L80: 426 | M80: 318 | N80: 108 | O80: 5718 | P80: 3671 | Q80: 2047 | R80: 10131 | S80: 5780 | T80: 4351 | U80: 12506 | V80: 6795 | W80: 5711 | X80: 33238 | Y80: 16366 | Z80: 16872 | AA80: 1.92 | AB80: 1.57
A81: 臺南市 | B81: Tainan City | C81: 9964 | D81: 6597 | E81: 3367 | F81: 20194 | G81: 11122 | H81: 9072 | I81: 301 | J81: 216 | K81: 85 | L81: 308 | M81: 219 | N81: 89 | O81: 3068 | P81: 2189 | Q81: 879 | R81: 3951 | S81: 2607 | T81: 1344 | U81: 6595 | V81: 4192 | W81: 2403 | X81: 15935 | Y81: 8296 | Z81: 7639 | AA81: 1.45 | AB81: 1.07
A82: 高雄市 | B82: Kaohsiung City | C82: 17965 | D82: 11119 | E82: 6846 | F82: 39947 | G82: 20791 | H82: 19156 | I82: 85 | J82: 60 | K82: 25 | L82: 90 | M82: 63 | N82: 27 | O82: 7288 | P82: 4821 | Q82: 2467 | R82: 10822 | S82: 6433 | T82: 4389 | U82: 10592 | V82: 6238 | W82: 4354 | X82: 29035 | Y82: 14295 | Z82: 14740 | AA82: 1.63 | AB82: 1.44
A83: 宜蘭縣 | B83: Yilan County | C83: 2505 | D83: 1622 | E83: 883 | F83: 4446 | G83: 2505 | H83: 1941 | I83: 14 | J83: 13 | K83: 1 | L83: 15 | M83: 13 | N83: 2 | O83: 276 | P83: 208 | Q83: 68 | R83: 423 | S83: 285 | T83: 138 | U83: 2215 | V83: 1401 | W83: 814 | X83: 4008 | Y83: 2207 | Z83: 1801 | AA83: 1.48 | AB83: 0.98
A84: 新竹縣 | B84: Hsinchu County | C84: 1796 | D84: 1196 | E84: 600 | F84: 4316 | G84: 2302 | H84: 2014 | I84: 13 | J84: 12 | K84: 1 | L84: 13 | M84: 12 | N84: 1 | O84: 237 | P84: 181 | Q84: 56 | R84: 400 | S84: 247 | T84: 153 | U84: 1546 | V84: 1003 | W84: 543 | X84: 3903 | Y84: 2043 | Z84: 1860 | AA84: 0.92 | AB84: 0.78
A85: 苗栗縣 | B85: Miaoli County | C85: 2947 | D85: 1922 | E85: 1025 | F85: 5938 | G85: 3331 | H85: 2607 | I85: 3 | J85: 3 | K85: 0 | L85: 3 | M85: 3 | N85: 0 | O85: 1258 | P85: 901 | Q85: 357 | R85: 2054 | S85: 1277 | T85: 777 | U85: 1686 | V85: 1018 | W85: 668 | X85: 3881 | Y85: 2051 | Z85: 1830 | AA85: 1.56 | AB85: 1.08
A86: 彰化縣 | B86: Changhua County | C86: 6696 | D86: 4318 | E86: 2378 | F86: 11606 | G86: 6481 | H86: 5125 | I86: 2 | J86: 2 | K86: 0 | L86: 2 | M86: 2 | N86: 0 | O86: 77 | P86: 51 | Q86: 26 | R86: 115 | S86: 70 | T86: 45 | U86: 6617 | V86: 4265 | W86: 2352 | X86: 11489 | Y86: 6409 | Z86: 5080 | AA86: 1.72 | AB86: 0.91
