Workbook

Sheet 歷年
A1: 兒童及少年保護-處遇中服務量Volume (Cases) of Services for People under Treatment
A3: 單位：案次 Unit : Cases
A4: 年別 Year | B4: 處遇中服務量(案次)Volume (Cases) of services for people under treatment
B5: 總計 Total | C5: 訪談服務 Interview Services | D5: 家外安置 Out-of-home Placement | E5: 安置期間探視服務 Visitation Services During Placement | F5: 網絡資源 連結 Links to Internet Resources | G5: 聲請保護令 Petition for a Protection Order | H5: 法律服務 Legal Services | I5: 以證人身分出庭 Appearing before Court as Witnesses | J5: 陪同服務 Companion Services | K5: 驗傷診療 Medical Examinations and Diagnoses | L5: 就學輔導 Admissions Guidance | M5: 強制性 親職教育 Compulsory Parental Education | N5: 一般性 親職教育 General Parental Education | O5: 自殺防治 Suicide Prevention | P5: 藥癮戒治 Drug Addiction Treatment | Q5: 酒癮戒治 Alcohol Addiction Treatment | R5: 精神疾 病治療 Treatment of Mental Illnesses | S5: 心理輔導及治療 Psychological Counseling and Psychotherapy | T5: 提供家庭福利服務方案 Offering of Family Welfare Service Programs | U5: 就業服務 Employment Services | V5: 提供經濟扶助 Offering of Financial Aid | W5: 相關經費補助 Relevant Funds and Subsidies | X5: 少年自立 生活方案 Independent Living Program for Youth | Y5: 結案後追蹤輔導 Follow-up and Guidance after Case Closure | Z5: 提出獨立告訴 Filing Lawsuits Independently | AA5: 通譯服務 Interpreting Services | AB5: 早期療育 Early Intervention | AC5: 其他服務 Others
A8: 108年, 2019 | B8: ='2019'!C8 -> 374777 | C8: ='2019'!D8 -> 251768 | D8: ='2019'!E8 -> 2689 | E8: ='2019'!F8 -> 5935 | F8: ='2019'!G8 -> 39270 | G8: ='2019'!H8 -> 230 | H8: ='2019'!I8 -> 1857 | I8: ='2019'!J8 -> 102 | ... AC8: ='2019'!AD8 -> 24439
A9: 109年, 2020 | B9: ='2020'!C8 -> 386787 | C9: ='2020'!D8 -> 255588 | D9: ='2020'!E8 -> 2660 | E9: ='2020'!F8 -> 5349 | F9: ='2020'!G8 -> 42423 | G9: ='2020'!H8 -> 225 | H9: ='2020'!I8 -> 2347 | I9: ='2020'!J8 -> 118 | ... AC9: ='2020'!AD8 -> 25392
A10: 110年, 2021 | B10: ='2021'!C8 -> 479534 | C10: ='2021'!D8 -> 351839 | D10: ='2021'!E8 -> 2433 | E10: ='2021'!F8 -> 5669 | F10: ='2021'!G8 -> 42099 | G10: ='2021'!H8 -> 198 | H10: ='2021'!I8 -> 1960 | I10: ='2021'!J8 -> 97 | ... AC10: ='2021'!AD8 -> 25433
A11: 111年, 2022 | B11: ='2022'!C8 -> 392949 | C11: ='2022'!D8 -> 256545 | D11: ='2022'!E8 -> 2330 | E11: ='2022'!F8 -> 8030 | F11: ='2022'!G8 -> 43710 | G11: ='2022'!H8 -> 213 | H11: ='2022'!I8 -> 2248 | I11: ='2022'!J8 -> 98 | ... AC11: ='2022'!AD8 -> 26849
A12: 112年, 2023 | B12: ='2023'!C8 -> 396094 | C12: ='2023'!D8 -> 247867 | D12: ='2023'!E8 -> 2832 | E12: ='2023'!F8 -> 9076 | F12: ='2023'!G8 -> 42168 | G12: ='2023'!H8 -> 225 | H12: ='2023'!I8 -> 2428 | I12: ='2023'!J8 -> 147 | ... AC12: ='2023'!AD8 -> 29804
A13: 113年, 2024 | B13: ='2024'!C8 -> 462553 | C13: ='2024'!D8 -> 276641 | D13: ='2024'!E8 -> 2902 | E13: ='2024'!F8 -> 9276 | F13: ='2024'!G8 -> 60947 | G13: ='2024'!H8 -> 310 | H13: ='2024'!I8 -> 2797 | I13: ='2024'!J8 -> 104 | ... AC13: ='2024'!AD8 -> 37602
A14: 114年, 2025 | B14: ='2025'!C8 -> 454305 | C14: ='2025'!D8 -> 268531 | D14: ='2025'!E8 -> 2527 | E14: ='2025'!F8 -> 8902 | F14: ='2025'!G8 -> 57761 | G14: ='2025'!H8 -> 344 | H14: ='2025'!I8 -> 2218 | I14: ='2025'!J8 -> 93 | ... AC14: ='2025'!AD8 -> 39785
A15: 上半年, Jan.-June | B15: ='Jan.-June, 2025'!C8 -> 228962 | C15: ='Jan.-June, 2025'!D8 -> 135966 | D15: ='Jan.-June, 2025'!E8 -> 1262 | E15: ='Jan.-June, 2025'!F8 -> 4497 | F15: ='Jan.-June, 2025'!G8 -> 29796 | G15: ='Jan.-June, 2025'!H8 -> 165 | H15: ='Jan.-June, 2025'!I8 -> 1165 | I15: ='Jan.-June, 2025'!J8 -> 58 | ... AC15: ='Jan.-June, 2025'!AD8 -> 19733
A16: 下半年, July-Dec. | B16: ='July-Dec., 2025'!C8 -> 225343 | C16: ='July-Dec., 2025'!D8 -> 132565 | D16: ='July-Dec., 2025'!E8 -> 1265 | E16: ='July-Dec., 2025'!F8 -> 4405 | F16: ='July-Dec., 2025'!G8 -> 27965 | G16: ='July-Dec., 2025'!H8 -> 179 | H16: ='July-Dec., 2025'!I8 -> 1053 | I16: ='July-Dec., 2025'!J8 -> 35 | ... AC16: ='July-Dec., 2025'!AD8 -> 20052
A17: 115年, 2026
A18: 上半年, Jan.-June | B18: ='Jan.-June, 2026'!C8 -> 210840 | C18: ='Jan.-June, 2026'!D8 -> 124523 | D18: ='Jan.-June, 2026'!E8 -> 1186 | E18: ='Jan.-June, 2026'!F8 -> 4123 | F18: ='Jan.-June, 2026'!G8 -> 25770 | G18: ='Jan.-June, 2026'!H8 -> 150 | H18: ='Jan.-June, 2026'!I8 -> 923 | I18: ='Jan.-June, 2026'!J8 -> 38 | ... AC18: ='Jan.-June, 2026'!AD8 -> 20181
A19: 下半年, July-Dec. | B19: ='July-Dec., 2026'!C8 -> 0 | C19: ='July-Dec., 2026'!D8 -> 0 | D19: ='July-Dec., 2026'!E8 -> 0 | E19: ='July-Dec., 2026'!F8 -> 0 | F19: ='July-Dec., 2026'!G8 -> 0 | G19: ='July-Dec., 2026'!H8 -> 0 | H19: ='July-Dec., 2026'!I8 -> 0 | I19: ='July-Dec., 2026'!J8 -> 0 | ... AC19: ='July-Dec., 2026'!AD8 -> 0
A20: 資料來源：各直轄市、縣市政府。
A21: 附註：1.處遇類型：係統計依兒童及少年福利與權益保障法第64條規定提供家庭處遇服務之家庭數及人數。
A22: 2.家庭處遇：係統計所有兒少保護案件自通報、調查至開案處遇之服務量。
A23: Source: County and Government.
A24: 更新日期：2026/09/30
B25: =IF(B14=SUM(B15:B16),"","*") | C25: =IF(C14=SUM(C15:C16),"","*") | D25: =IF(D14=SUM(D15:D16),"","*") | E25: =IF(E14=SUM(E15:E16),"","*") | F25: =IF(F14=SUM(F15:F16),"","*") | G25: =IF(G14=SUM(G15:G16),"","*") | H25: =IF(H14=SUM(H15:H16),"","*") | I25: =IF(I14=SUM(I15:I16),"","*") | ... AC25: =IF(AC14=SUM(AC15:AC16),"","*")

Sheet 2026
A1: 兒童及少年保護-處遇中服務量Volume (Cases) of Services for People under Treatment
A2: 單位：案次 Unit : Cases
A3: 民國115年, 2026
A4: 區域別 Locality | C4: 處遇中服務量(案次)Volume (Cases) of Services for People under Treatment
C5: 總計 Total | D5: 訪談服務 Interview Services | E5: 家外安置 Out-of-home Placement | F5: 安置期間 探視服務 Visitation Services During Placement | G5: 網絡資源 連結 Links to Internet Resources | H5: 聲請保護令 Petition for a Protection Order | I5: 法律服務 Legal Services | J5: 以證人身分出庭 Appearing before Court as Witnesses | K5: 陪同服務 Companion Services | L5: 驗傷診療 Medical Examinations and Diagnoses | M5: 就學輔導 Admissions Guidance | N5: 強制性 親職教育 Compulsory Parental Education | O5: 一般性 親職教育 General Parental Education | P5: 自殺防治 Suicide Prevention | Q5: 藥癮戒治 Drug Addiction Treatment | R5: 酒癮戒治 Alcohol Addiction Treatment | S5: 精神疾 病治療 Treatment of Mental Illnesses | T5: 心理輔導及治療 Psychological Counseling and Psychotherapy | U5: 提供家庭福利服務方案 Offering of Family Welfare Service Programs | V5: 就業服務 Employment Services | W5: 提供經濟扶助 Offering of Financial Aid | X5: 相關經費補助 Relevant Funds and Subsidies | Y5: 少年自立 生活方案 Independent Living Program for Youth | Z5: 結案後追蹤輔導 Follow-up and Guidance after Case Closure | AA5: 提出獨立告訴 Filing Lawsuits Independently | AB5: 通譯服務 Interpreting Services | AC5: 早期療育 Early Intervention | AD5: 其他服務 Others
A8: 總計 | B8: Total
A9: 新北市 | B9: New Taipei City
A10: 臺北市 | B10: Taipei City
A11: 桃園市 | B11: Taoyuan City
A12: 臺中市 | B12: Taichung City
A13: 臺南市 | B13: Tainan City
A14: 高雄市 | B14: Kaohsiung City
A15: 宜蘭縣 | B15: Yilan County
A16: 新竹縣 | B16: Hsinchu County
A17: 苗栗縣 | B17: Miaoli County
A18: 彰化縣 | B18: Changhua County
A19: 南投縣 | B19: Nantou County
... A30: 連江縣 | B30: Lienchiang County
A31: 資料來源：各直轄市、縣市政府。
A32: Source: County and Government.

Sheet July-Dec., 2026
A1: 兒童及少年保護-處遇中服務量Volume (Cases) of Services for People under Treatment
A2: 單位：案次 Unit : Cases
A3: 民國115年7-12月 July-Dec., 2026
A4: 區域別 Locality | C4: 處遇中服務量(案次)Volume (Cases) of Services for People under Treatment
C5: 總計 Total | D5: 訪談服務 Interview Services | E5: 家外安置 Out-of-home Placement | F5: 安置期間 探視服務 Visitation Services During Placement | G5: 網絡資源 連結 Links to Internet Resources | H5: 聲請保護令 Petition for a Protection Order | I5: 法律服務 Legal Services | J5: 以證人身分出庭 Appearing before Court as Witnesses | K5: 陪同服務 Companion Services | L5: 驗傷診療 Medical Examinations and Diagnoses | M5: 就學輔導 Admissions Guidance | N5: 強制性 親職教育 Compulsory Parental Education | O5: 一般性 親職教育 General Parental Education | P5: 自殺防治 Suicide Prevention | Q5: 藥癮戒治 Drug Addiction Treatment | R5: 酒癮戒治 Alcohol Addiction Treatment | S5: 精神疾 病治療 Treatment of Mental Illnesses | T5: 心理輔導及治療 Psychological Counseling and Psychotherapy | U5: 提供家庭福利服務方案 Offering of Family Welfare Service Programs | V5: 就業服務 Employment Services | W5: 提供經濟扶助 Offering of Financial Aid | X5: 相關經費補助 Relevant Funds and Subsidies | Y5: 少年自立 生活方案 Independent Living Program for Youth | Z5: 結案後追蹤輔導 Follow-up and Guidance after Case Closure | AA5: 提出獨立告訴 Filing Lawsuits Independently | AB5: 通譯服務 Interpreting Services | AC5: 早期療育 Early Intervention | AD5: 其他服務 Others
A8: 總計 | B8: Total
A9: 新北市 | B9: New Taipei City
A10: 臺北市 | B10: Taipei City
A11: 桃園市 | B11: Taoyuan City
A12: 臺中市 | B12: Taichung City
A13: 臺南市 | B13: Tainan City
A14: 高雄市 | B14: Kaohsiung City
A15: 宜蘭縣 | B15: Yilan County
A16: 新竹縣 | B16: Hsinchu County
A17: 苗栗縣 | B17: Miaoli County
A18: 彰化縣 | B18: Changhua County
A19: 南投縣 | B19: Nantou County
... A30: 連江縣 | B30: Lienchiang County
A31: 資料來源：各直轄市、縣市政府。
A32: Source: County and Government.

Sheet Jan.-June, 2026
A1: 兒童及少年保護-處遇中服務量Volume (Cases) of Services for People under Treatment
A2: 單位：案次 Unit : Cases
A3: 民國115年1-6月 Jan.-June, 2026 | C3: =IF(C8=SUM(C9:C30),"","*") | D3: =IF(D8=SUM(D9:D30),"","*") | E3: =IF(E8=SUM(E9:E30),"","*") | F3: =IF(F8=SUM(F9:F30),"","*") | G3: =IF(G8=SUM(G9:G30),"","*") | H3: =IF(H8=SUM(H9:H30),"","*") | I3: =IF(I8=SUM(I9:I30),"","*") | J3: =IF(J8=SUM(J9:J30),"","*") | ... AD3: =IF(AD8=SUM(AD9:AD30),"","*")
A4: 區域別 Locality | C4: 處遇中服務量(案次)Volume (Cases) of Services for People under Treatment
C5: 總計 Total | D5: 訪談服務 Interview Services | E5: 家外安置 Out-of-home Placement | F5: 安置期間 探視服務 Visitation Services During Placement | G5: 網絡資源 連結 Links to Internet Resources | H5: 聲請保護令 Petition for a Protection Order | I5: 法律服務 Legal Services | J5: 以證人身分出庭 Appearing before Court as Witnesses | K5: 陪同服務 Companion Services | L5: 驗傷診療 Medical Examinations and Diagnoses | M5: 就學輔導 Admissions Guidance | N5: 強制性 親職教育 Compulsory Parental Education | O5: 一般性 親職教育 General Parental Education | P5: 自殺防治 Suicide Prevention | Q5: 藥癮戒治 Drug Addiction Treatment | R5: 酒癮戒治 Alcohol Addiction Treatment | S5: 精神疾 病治療 Treatment of Mental Illnesses | T5: 心理輔導及治療 Psychological Counseling and Psychotherapy | U5: 提供家庭福利服務方案 Offering of Family Welfare Service Programs | V5: 就業服務 Employment Services | W5: 提供經濟扶助 Offering of Financial Aid | X5: 相關經費補助 Relevant Funds and Subsidies | Y5: 少年自立 生活方案 Independent Living Program for Youth | Z5: 結案後追蹤輔導 Follow-up and Guidance after Case Closure | AA5: 提出獨立告訴 Filing Lawsuits Independently | AB5: 通譯服務 Interpreting Services | AC5: 早期療育 Early Intervention | AD5: 其他服務 Others
A8: 總計 | B8: Total | C8: 210840 | D8: 124523 | E8: 1186 | F8: 4123 | G8: 25770 | H8: 150 | I8: 923 | J8: 38 | K8: 7764 | L8: 46 | M8: 960 | N8: 2068 | O8: 8836 | P8: 27 | Q8: 9 | R8: 3 | S8: 57 | T8: 5253 | U8: 552 | V8: 142 | W8: 4867 | X8: 2718 | Y8: 242 | Z8: 167 | AA8: 59 | AB8: 6 | AC8: 170 | AD8: 20181
A9: 新北市 | B9: New Taipei City | C9: 36819 | D9: 21213 | E9: 98 | F9: 486 | G9: 3394 | H9: 51 | I9: 265 | J9: 13 | K9: 1430 | L9: 8 | M9: 180 | N9: 46 | O9: 1500 | P9: 9 | Q9: 0 | R9: 0 | S9: 22 | T9: 2382 | U9: 141 | V9: 5 | W9: 706 | X9: 1204 | Y9: 25 | Z9: 7 | AA9: 15 | AB9: 0 | AC9: 8 | AD9: 3611
A10: 臺北市 | B10: Taipei City | C10: 24866 | D10: 15537 | E10: 14 | F10: 313 | G10: 2159 | H10: 14 | I10: 60 | J10: 1 | K10: 1312 | L10: 2 | M10: 74 | N10: 40 | O10: 959 | P10: 6 | Q10: 4 | R10: 0 | S10: 13 | T10: 700 | U10: 115 | V10: 23 | W10: 547 | X10: 815 | Y10: 9 | Z10: 2 | AA10: 0 | AB10: 3 | AC10: 3 | AD10: 2141
A11: 桃園市 | B11: Taoyuan City | C11: 35457 | D11: 19423 | E11: 189 | F11: 575 | G11: 9562 | H11: 5 | I11: 41 | J11: 2 | K11: 638 | L11: 2 | M11: 39 | N11: 353 | O11: 1404 | P11: 0 | Q11: 0 | R11: 0 | S11: 0 | T11: 368 | U11: 0 | V11: 2 | W11: 328 | X11: 161 | Y11: 4 | Z11: 15 | AA11: 5 | AB11: 0 | AC11: 29 | AD11: 2312
A12: 臺中市 | B12: Taichung City | C12: 34320 | D12: 22385 | E12: 141 | F12: 438 | G12: 2259 | H12: 10 | I12: 35 | J12: 6 | K12: 668 | L12: 2 | M12: 23 | N12: 575 | O12: 1596 | P12: 1 | Q12: 1 | R12: 3 | S12: 1 | T12: 801 | U12: 12 | V12: 9 | W12: 723 | X12: 64 | Y12: 105 | Z12: 9 | AA12: 2 | AB12: 0 | AC12: 22 | AD12: 4429
A13: 臺南市 | B13: Tainan City | C13: 12771 | D13: 6539 | E13: 105 | F13: 375 | G13: 2549 | H13: 11 | I13: 69 | J13: 0 | K13: 292 | L13: 1 | M13: 153 | N13: 105 | O13: 362 | P13: 0 | Q13: 0 | R13: 0 | S13: 6 | T13: 157 | U13: 10 | V13: 20 | W13: 341 | X13: 26 | Y13: 19 | Z13: 21 | AA13: 11 | AB13: 0 | AC13: 8 | AD13: 1591
A14: 高雄市 | B14: Kaohsiung City | C14: 23828 | D14: 14797 | E14: 299 | F14: 558 | G14: 1764 | H14: 21 | I14: 118 | J14: 6 | K14: 1040 | L14: 19 | M14: 80 | N14: 437 | O14: 1234 | P14: 3 | Q14: 0 | R14: 0 | S14: 5 | T14: 145 | U14: 36 | V14: 11 | W14: 657 | X14: 44 | Y14: 7 | Z14: 11 | AA14: 13 | AB14: 1 | AC14: 21 | AD14: 2501
A15: 宜蘭縣 | B15: Yilan County | C15: 1028 | D15: 708 | E15: 10 | F15: 18 | G15: 92 | H15: 0 | I15: 1 | J15: 0 | K15: 28 | L15: 0 | M15: 0 | N15: 0 | O15: 83 | P15: 0 | Q15: 0 | R15: 0 | S15: 0 | T15: 43 | U15: 1 | V15: 0 | W15: 10 | X15: 0 | Y15: 0 | Z15: 8 | AA15: 0 | AB15: 0 | AC15: 0 | AD15: 26
A16: 新竹縣 | B16: Hsinchu County | C16: 2223 | D16: 1304 | E16: 9 | F16: 64 | G16: 108 | H16: 1 | I16: 8 | J16: 1 | K16: 178 | L16: 2 | M16: 4 | N16: 8 | O16: 154 | P16: 0 | Q16: 1 | R16: 0 | S16: 0 | T16: 58 | U16: 3 | V16: 0 | W16: 54 | X16: 1 | Y16: 0 | Z16: 17 | AA16: 0 | AB16: 1 | AC16: 9 | AD16: 238
A17: 苗栗縣 | B17: Miaoli County | C17: 2194 | D17: 1474 | E17: 8 | F17: 106 | G17: 67 | H17: 2 | I17: 16 | J17: 1 | K17: 82 | L17: 0 | M17: 7 | N17: 73 | O17: 64 | P17: 0 | Q17: 1 | R17: 0 | S17: 1 | T17: 18 | U17: 5 | V17: 0 | W17: 72 | X17: 0 | Y17: 0 | Z17: 2 | AA17: 1 | AB17: 0 | AC17: 1 | AD17: 193
A18: 彰化縣 | B18: Changhua County | C18: 6577 | D18: 4284 | E18: 12 | F18: 173 | G18: 219 | H18: 1 | I18: 98 | J18: 1 | K18: 392 | L18: 1 | M18: 56 | N18: 89 | O18: 102 | P18: 0 | Q18: 0 | R18: 0 | S18: 0 | T18: 110 | U18: 10 | V18: 23 | W18: 158 | X18: 4 | Y18: 1 | Z18: 1 | AA18: 0 | AB18: 0 | AC18: 4 | AD18: 838
A19: 南投縣 | B19: Nantou County | C19: 2010 | D19: 1156 | E19: 3 | F19: 63 | G19: 87 | H19: 2 | I19: 17 | J19: 1 | K19: 128 | L19: 0 | M19: 5 | N19: 26 | O19: 291 | P19: 0 | Q19: 0 | R19: 0 | S19: 0 | T19: 27 | U19: 0 | V19: 1 | W19: 50 | X19: 12 | Y19: 0 | Z19: 2 | AA19: 0 | AB19: 0 | AC19: 0 | AD19: 139
... A30: 連江縣 | B30: Lienchiang County | C30: 34 | D30: 18 | E30: 1 | F30: 1 | G30: 2 | H30: 0 | I30: 0 | J30: 0 | K30: 4 | L30: 0 | M30: 0 | N30: 0 | O30: 0 | P30: 0 | Q30: 0 | R30: 0 | S30: 0 | T30: 1 | U30: 0 | V30: 0 | W30: 1 | X30: 0 | Y30: 0 | Z30: 0 | AA30: 0 | AB30: 0 | AC30: 3 | AD30: 3
A31: 資料來源：各直轄市、縣市政府。
A32: Source: County and Government.
A35: 總計 | B35: Total | C35: 228962 | D35: 135966 | E35: 1262 | F35: 4497 | G35: 29796 | H35: 165 | I35: 1165 | J35: 58 | K35: 8567 | L35: 67 | M35: 1267 | N35: 1460 | O35: 9505 | P35: 42 | Q35: 5 | R35: 7 | S35: 29 | T35: 5824 | U35: 588 | V35: 248 | W35: 5255 | X35: 2801 | Y35: 200 | Z35: 219 | AA35: 48 | AB35: 2 | AC35: 186 | AD35: 19733
A36: 新北市 | B36: New Taipei City | C36: 38353 | D36: 22032 | E36: 95 | F36: 505 | G36: 3589 | H36: 38 | I36: 263 | J36: 6 | K36: 1552 | L36: 3 | M36: 178 | N36: 53 | O36: 1842 | P36: 14 | Q36: 0 | R36: 4 | S36: 7 | T36: 2550 | U36: 120 | V36: 9 | W36: 773 | X36: 1193 | Y36: 14 | Z36: 7 | AA36: 8 | AB36: 0 | AC36: 48 | AD36: 3450
A37: 臺北市 | B37: Taipei City | C37: 26513 | D37: 16561 | E37: 8 | F37: 353 | G37: 2789 | H37: 17 | I37: 100 | J37: 3 | K37: 1374 | L37: 5 | M37: 52 | N37: 32 | O37: 1030 | P37: 3 | Q37: 0 | R37: 0 | S37: 5 | T37: 715 | U37: 105 | V37: 15 | W37: 513 | X37: 535 | Y37: 17 | Z37: 5 | AA37: 3 | AB37: 0 | AC37: 10 | AD37: 2263
A38: 桃園市 | B38: Taoyuan City | C38: 38532 | D38: 21078 | E38: 210 | F38: 496 | G38: 10758 | H38: 9 | I38: 126 | J38: 7 | K38: 878 | L38: 4 | M38: 54 | N38: 140 | O38: 1408 | P38: 0 | Q38: 0 | R38: 0 | S38: 0 | T38: 336 | U38: 2 | V38: 3 | W38: 436 | X38: 205 | Y38: 20 | Z38: 46 | AA38: 4 | AB38: 0 | AC38: 24 | AD38: 2288
A39: 臺中市 | B39: Taichung City | C39: 35268 | D39: 23689 | E39: 47 | F39: 504 | G39: 2429 | H39: 23 | I39: 29 | J39: 7 | K39: 752 | L39: 3 | M39: 41 | N39: 351 | O39: 1190 | P39: 4 | Q39: 1 | R39: 1 | S39: 3 | T39: 874 | U39: 17 | V39: 8 | W39: 759 | X39: 219 | Y39: 66 | Z39: 20 | AA39: 5 | AB39: 1 | AC39: 8 | AD39: 4217
A40: 臺南市 | B40: Tainan City | C40: 13760 | D40: 7078 | E40: 122 | F40: 385 | G40: 2911 | H40: 8 | I40: 109 | J40: 3 | K40: 272 | L40: 3 | M40: 236 | N40: 121 | O40: 483 | P40: 1 | Q40: 1 | R40: 1 | S40: 5 | T40: 111 | U40: 12 | V40: 65 | W40: 324 | X40: 21 | Y40: 22 | Z40: 2 | AA40: 5 | AB40: 0 | AC40: 22 | AD40: 1437
A41: 高雄市 | B41: Kaohsiung City | C41: 29646 | D41: 18384 | E41: 418 | F41: 805 | G41: 2698 | H41: 27 | I41: 195 | J41: 12 | K41: 1226 | L41: 25 | M41: 282 | N41: 341 | O41: 1441 | P41: 3 | Q41: 2 | R41: 0 | S41: 6 | T41: 287 | U41: 71 | V41: 16 | W41: 764 | X41: 136 | Y41: 18 | Z41: 11 | AA41: 11 | AB41: 0 | AC41: 13 | AD41: 2454
A42: 宜蘭縣 | B42: Yilan County | C42: 1580 | D42: 1064 | E42: 6 | F42: 25 | G42: 140 | H42: 1 | I42: 7 | J42: 1 | K42: 30 | L42: 1 | M42: 8 | N42: 0 | O42: 113 | P42: 0 | Q42: 0 | R42: 0 | S42: 0 | T42: 34 | U42: 11 | V42: 0 | W42: 46 | X42: 0 | Y42: 0 | Z42: 8 | AA42: 0 | AB42: 0 | AC42: 1 | AD42: 84
A43: 新竹縣 | B43: Hsinchu County | C43: 2469 | D43: 1383 | E43: 13 | F43: 98 | G43: 113 | H43: 2 | I43: 14 | J43: 2 | K43: 194 | L43: 0 | M43: 9 | N43: 11 | O43: 351 | P43: 3 | Q43: 0 | R43: 0 | S43: 0 | T43: 35 | U43: 0 | V43: 2 | W43: 67 | X43: 8 | Y43: 1 | Z43: 4 | AA43: 3 | AB43: 0 | AC43: 8 | AD43: 148
A44: 苗栗縣 | B44: Miaoli County | C44: 2362 | D44: 1644 | E44: 9 | F44: 115 | G44: 56 | H44: 1 | I44: 17 | J44: 1 | K44: 106 | L44: 0 | M44: 10 | N44: 32 | O44: 90 | P44: 0 | Q44: 0 | R44: 0 | S44: 0 | T44: 21 | U44: 18 | V44: 0 | W44: 49 | X44: 1 | Y44: 5 | Z44: 3 | AA44: 0 | AB44: 0 | AC44: 0 | AD44: 184
A45: 彰化縣 | B45: Changhua County | C45: 7375 | D45: 4971 | E45: 13 | F45: 155 | G45: 268 | H45: 5 | I45: 121 | J45: 4 | K45: 316 | L45: 1 | M45: 63 | N45: 49 | O45: 75 | P45: 2 | Q45: 0 | R45: 0 | S45: 0 | T45: 130 | U45: 11 | V45: 32 | W45: 122 | X45: 0 | Y45: 0 | Z45: 0 | AA45: 1 | AB45: 1 | AC45: 0 | AD45: 1035
A46: 南投縣 | B46: Nantou County | C46: 3120 | D46: 1910 | E46: 19 | F46: 133 | G46: 127 | H46: 1 | I46: 28 | J46: 1 | K46: 216 | L46: 2 | M46: 7 | N46: 14 | O46: 309 | P46: 2 | Q46: 1 | R46: 0 | S46: 0 | T46: 95 | U46: 0 | V46: 2 | W46: 58 | X46: 3 | Y46: 1 | Z46: 0 | AA46: 1 | AB46: 0 | AC46: 1 | AD46: 189
... A57: 連江縣 | B57: Lienchiang County | C57: 15 | D57: 10 | E57: 0 | F57: 0 | G57: 1 | H57: 0 | I57: 0 | J57: 0 | K57: 0 | L57: 0 | M57: 2 | N57: 0 | O57: 0 | P57: 0 | Q57: 0 | R57: 0 | S57: 0 | T57: 0 | U57: 0 | V57: 0 | W57: 0 | X57: 0 | Y57: 0 | Z57: 0 | AA57: 0 | AB57: 0 | AC57: 0 | AD57: 2
A59: 總計 | B59: Total | C59: =IF(C35=C8,"","*") -> * | D59: =IF(D35=D8,"","*") -> * | E59: =IF(E35=E8,"","*") -> * | F59: =IF(F35=F8,"","*") -> * | G59: =IF(G35=G8,"","*") -> * | H59: =IF(H35=H8,"","*") -> * | I59: =IF(I35=I8,"","*") -> * | J59: =IF(J35=J8,"","*") -> * | ... AD59: =IF(AD35=AD8,"","*") -> *
A60: 新 北 市 | B60: New Taipei City | C60: =IF(C36=C9,"","*") -> * | D60: =IF(D36=D9,"","*") -> * | E60: =IF(E36=E9,"","*") -> * | F60: =IF(F36=F9,"","*") -> * | G60: =IF(G36=G9,"","*") -> * | H60: =IF(H36=H9,"","*") -> * | I60: =IF(I36=I9,"","*") -> * | J60: =IF(J36=J9,"","*") -> * | ... AD60: =IF(AD36=AD9,"","*") -> *
A61: 臺 北 市 | B61: Taipei City | C61: =IF(C37=C10,"","*") -> * | D61: =IF(D37=D10,"","*") -> * | E61: =IF(E37=E10,"","*") -> * | F61: =IF(F37=F10,"","*") -> * | G61: =IF(G37=G10,"","*") -> * | H61: =IF(H37=H10,"","*") -> * | I61: =IF(I37=I10,"","*") -> * | J61: =IF(J37=J10,"","*") -> * | ... AD61: =IF(AD37=AD10,"","*") -> *
A62: 桃 園 市 | B62: Taoyuan City | C62: =IF(C38=C11,"","*") -> * | D62: =IF(D38=D11,"","*") -> * | E62: =IF(E38=E11,"","*") -> * | F62: =IF(F38=F11,"","*") -> * | G62: =IF(G38=G11,"","*") -> * | H62: =IF(H38=H11,"","*") -> * | I62: =IF(I38=I11,"","*") -> * | J62: =IF(J38=J11,"","*") -> * | ... AD62: =IF(AD38=AD11,"","*") -> *
A63: 臺 中 市 | B63: Taichung City | C63: =IF(C39=C12,"","*") -> * | D63: =IF(D39=D12,"","*") -> * | E63: =IF(E39=E12,"","*") -> * | F63: =IF(F39=F12,"","*") -> * | G63: =IF(G39=G12,"","*") -> * | H63: =IF(H39=H12,"","*") -> * | I63: =IF(I39=I12,"","*") -> * | J63: =IF(J39=J12,"","*") -> * | ... AD63: =IF(AD39=AD12,"","*") -> *
A64: 臺 南 市 | B64: Tainan City | C64: =IF(C40=C13,"","*") -> * | D64: =IF(D40=D13,"","*") -> * | E64: =IF(E40=E13,"","*") -> * | F64: =IF(F40=F13,"","*") -> * | G64: =IF(G40=G13,"","*") -> * | H64: =IF(H40=H13,"","*") -> * | I64: =IF(I40=I13,"","*") -> * | J64: =IF(J40=J13,"","*") -> * | ... AD64: =IF(AD40=AD13,"","*") -> *
A65: 高 雄 市 | B65: Kaohsiung City | C65: =IF(C41=C14,"","*") -> * | D65: =IF(D41=D14,"","*") -> * | E65: =IF(E41=E14,"","*") -> * | F65: =IF(F41=F14,"","*") -> * | G65: =IF(G41=G14,"","*") -> * | H65: =IF(H41=H14,"","*") -> * | I65: =IF(I41=I14,"","*") -> * | J65: =IF(J41=J14,"","*") -> * | ... AD65: =IF(AD41=AD14,"","*") -> *
...

Sheet 2025
A1: 兒童及少年保護-處遇中服務量Volume (Cases) of Services for People under Treatment
A2: 單位：案次 Unit : Cases
A3: 民國114年, 2025
A4: 區域別 Locality | C4: 處遇中服務量(案次)Volume (Cases) of Services for People under Treatment
C5: 總計 Total | D5: 訪談服務 Interview Services | E5: 家外安置 Out-of-home Placement | F5: 安置期間 探視服務 Visitation Services During Placement | G5: 網絡資源 連結 Links to Internet Resources | H5: 聲請保護令 Petition for a Protection Order | I5: 法律服務 Legal Services | J5: 以證人身分出庭 Appearing before Court as Witnesses | K5: 陪同服務 Companion Services | L5: 驗傷診療 Medical Examinations and Diagnoses | M5: 就學輔導 Admissions Guidance | N5: 強制性 親職教育 Compulsory Parental Education | O5: 一般性 親職教育 General Parental Education | P5: 自殺防治 Suicide Prevention | Q5: 藥癮戒治 Drug Addiction Treatment | R5: 酒癮戒治 Alcohol Addiction Treatment | S5: 精神疾 病治療 Treatment of Mental Illnesses | T5: 心理輔導及治療 Psychological Counseling and Psychotherapy | U5: 提供家庭福利服務方案 Offering of Family Welfare Service Programs | V5: 就業服務 Employment Services | W5: 提供經濟扶助 Offering of Financial Aid | X5: 相關經費補助 Relevant Funds and Subsidies | Y5: 少年自立 生活方案 Independent Living Program for Youth | Z5: 結案後追蹤輔導 Follow-up and Guidance after Case Closure | AA5: 提出獨立告訴 Filing Lawsuits Independently | AB5: 通譯服務 Interpreting Services | AC5: 早期療育 Early Intervention | AD5: 其他服務 Others
A8: 總計 | B8: Total | C8: 454305 | D8: 268531 | E8: 2527 | F8: 8902 | G8: 57761 | H8: 344 | I8: 2218 | J8: 93 | K8: 17018 | L8: 133 | M8: 2234 | N8: 3618 | O8: 18806 | P8: 71 | Q8: 9 | R8: 12 | S8: 61 | T8: 11812 | U8: 1353 | V8: 538 | W8: 10825 | X8: 6249 | Y8: 457 | Z8: 470 | AA8: 109 | AB8: 15 | AC8: 354 | AD8: 39785
A9: 新北市 | B9: New Taipei City | C9: 76224 | D9: 43169 | E9: 199 | F9: 1023 | G9: 7205 | H9: 75 | I9: 539 | J9: 11 | K9: 3044 | L9: 6 | M9: 347 | N9: 111 | O9: 3709 | P9: 17 | Q9: 1 | R9: 4 | S9: 17 | T9: 5074 | U9: 283 | V9: 15 | W9: 1315 | X9: 2572 | Y9: 32 | Z9: 27 | AA9: 27 | AB9: 0 | AC9: 67 | AD9: 7335
A10: 臺北市 | B10: Taipei City | C10: 53492 | D10: 33332 | E10: 21 | F10: 688 | G10: 5229 | H10: 48 | I10: 182 | J10: 6 | K10: 2744 | L10: 6 | M10: 93 | N10: 68 | O10: 2094 | P10: 3 | Q10: 0 | R10: 0 | S10: 6 | T10: 1610 | U10: 290 | V10: 30 | W10: 999 | X10: 1389 | Y10: 37 | Z10: 11 | AA10: 8 | AB10: 1 | AC10: 19 | AD10: 4578
A11: 桃園市 | B11: Taoyuan City | C11: 77498 | D11: 42319 | E11: 457 | F11: 1105 | G11: 21134 | H11: 16 | I11: 190 | J11: 10 | K11: 1690 | L11: 7 | M11: 101 | N11: 775 | O11: 2883 | P11: 2 | Q11: 0 | R11: 0 | S11: 0 | T11: 671 | U11: 7 | V11: 83 | W11: 953 | X11: 403 | Y11: 56 | Z11: 64 | AA11: 12 | AB11: 2 | AC11: 41 | AD11: 4517
A12: 臺中市 | B12: Taichung City | C12: 70389 | D12: 46936 | E12: 123 | F12: 1014 | G12: 4845 | H12: 50 | I12: 66 | J12: 10 | K12: 1532 | L12: 5 | M12: 68 | N12: 818 | O12: 2249 | P12: 6 | Q12: 2 | R12: 1 | S12: 3 | T12: 1563 | U12: 40 | V12: 14 | W12: 1787 | X12: 344 | Y12: 163 | Z12: 32 | AA12: 10 | AB12: 8 | AC12: 15 | AD12: 8685
A13: 臺南市 | B13: Tainan City | C13: 27082 | D13: 13858 | E13: 233 | F13: 811 | G13: 5446 | H13: 15 | I13: 194 | J13: 3 | K13: 602 | L13: 6 | M13: 374 | N13: 271 | O13: 894 | P13: 1 | Q13: 1 | R13: 2 | S13: 7 | T13: 267 | U13: 31 | V13: 97 | W13: 651 | X13: 41 | Y13: 44 | Z13: 16 | AA13: 12 | AB13: 0 | AC13: 30 | AD13: 3175
A14: 高雄市 | B14: Kaohsiung City | C14: 57084 | D14: 34974 | E14: 804 | F14: 1531 | G14: 4806 | H14: 59 | I14: 360 | J14: 22 | K14: 2486 | L14: 47 | M14: 428 | N14: 590 | O14: 2998 | P14: 6 | Q14: 3 | R14: 2 | S14: 9 | T14: 565 | U14: 146 | V14: 35 | W14: 1685 | X14: 301 | Y14: 46 | Z14: 38 | AA14: 24 | AB14: 1 | AC14: 36 | AD14: 5082
A15: 宜蘭縣 | B15: Yilan County | C15: 2684 | D15: 1788 | E15: 16 | F15: 42 | G15: 238 | H15: 1 | I15: 8 | J15: 3 | K15: 41 | L15: 10 | M15: 14 | N15: 21 | O15: 182 | P15: 0 | Q15: 0 | R15: 0 | S15: 0 | T15: 82 | U15: 12 | V15: 0 | W15: 98 | X15: 0 | Y15: 0 | Z15: 12 | AA15: 0 | AB15: 0 | AC15: 1 | AD15: 115
A16: 新竹縣 | B16: Hsinchu County | C16: 4550 | D16: 2597 | E16: 18 | F16: 159 | G16: 189 | H16: 3 | I16: 20 | J16: 3 | K16: 334 | L16: 0 | M16: 14 | N16: 79 | O16: 574 | P16: 4 | Q16: 0 | R16: 0 | S16: 3 | T16: 81 | U16: 1 | V16: 5 | W16: 134 | X16: 15 | Y16: 3 | Z16: 14 | AA16: 3 | AB16: 0 | AC16: 13 | AD16: 284
A17: 苗栗縣 | B17: Miaoli County | C17: 4819 | D17: 3391 | E17: 16 | F17: 229 | G17: 111 | H17: 5 | I17: 30 | J17: 3 | K17: 204 | L17: 2 | M17: 17 | N17: 76 | O17: 154 | P17: 0 | Q17: 0 | R17: 0 | S17: 1 | T17: 64 | U17: 41 | V17: 1 | W17: 81 | X17: 2 | Y17: 5 | Z17: 5 | AA17: 0 | AB17: 0 | AC17: 0 | AD17: 381
A18: 彰化縣 | B18: Changhua County | C18: 13371 | D18: 9466 | E18: 29 | F18: 331 | G18: 533 | H18: 5 | I18: 225 | J18: 7 | K18: 622 | L18: 9 | M18: 122 | N18: 127 | O18: 144 | P18: 4 | Q18: 0 | R18: 0 | S18: 0 | T18: 248 | U18: 19 | V18: 64 | W18: 275 | X18: 2 | Y18: 1 | Z18: 0 | AA18: 1 | AB18: 1 | AC18: 0 | AD18: 1136
A19: 南投縣 | B19: Nantou County | C19: 5987 | D19: 3542 | E19: 25 | F19: 211 | G19: 255 | H19: 2 | I19: 41 | J19: 1 | K19: 414 | L19: 3 | M19: 9 | N19: 33 | O19: 711 | P19: 2 | Q19: 1 | R19: 0 | S19: 1 | T19: 172 | U19: 0 | V19: 6 | W19: 123 | X19: 61 | Y19: 1 | Z19: 4 | AA19: 1 | AB19: 0 | AC19: 12 | AD19: 356
... A30: 連江縣 | B30: Lienchiang County | C30: 38 | D30: 23 | E30: 0 | F30: 0 | G30: 2 | H30: 0 | I30: 0 | J30: 0 | K30: 6 | L30: 0 | M30: 2 | N30: 0 | O30: 0 | P30: 0 | Q30: 0 | R30: 1 | S30: 0 | T30: 1 | U30: 0 | V30: 0 | W30: 0 | X30: 0 | Y30: 0 | Z30: 0 | AA30: 0 | AB30: 0 | AC30: 0 | AD30: 3
A31: 資料來源：各直轄市、縣市政府。
A32: Source: County and Government.

Sheet July-Dec., 2025
A1: 兒童及少年保護-處遇中服務量Volume (Cases) of Services for People under Treatment
A2: 單位：案次 Unit : Cases
A3: 民國114年7-12月 July-Dec., 2025
A4: 區域別 Locality | C4: 處遇中服務量(案次)Volume (Cases) of Services for People under Treatment
C5: 總計 Total | D5: 訪談服務 Interview Services | E5: 家外安置 Out-of-home Placement | F5: 安置期間 探視服務 Visitation Services During Placement | G5: 網絡資源 連結 Links to Internet Resources | H5: 聲請保護令 Petition for a Protection Order | I5: 法律服務 Legal Services | J5: 以證人身分出庭 Appearing before Court as Witnesses | K5: 陪同服務 Companion Services | L5: 驗傷診療 Medical Examinations and Diagnoses | M5: 就學輔導 Admissions Guidance | N5: 強制性 親職教育 Compulsory Parental Education | O5: 一般性 親職教育 General Parental Education | P5: 自殺防治 Suicide Prevention | Q5: 藥癮戒治 Drug Addiction Treatment | R5: 酒癮戒治 Alcohol Addiction Treatment | S5: 精神疾 病治療 Treatment of Mental Illnesses | T5: 心理輔導及治療 Psychological Counseling and Psychotherapy | U5: 提供家庭福利服務方案 Offering of Family Welfare Service Programs | V5: 就業服務 Employment Services | W5: 提供經濟扶助 Offering of Financial Aid | X5: 相關經費補助 Relevant Funds and Subsidies | Y5: 少年自立 生活方案 Independent Living Program for Youth | Z5: 結案後追蹤輔導 Follow-up and Guidance after Case Closure | AA5: 提出獨立告訴 Filing Lawsuits Independently | AB5: 通譯服務 Interpreting Services | AC5: 早期療育 Early Intervention | AD5: 其他服務 Others
A8: 總計 | B8: Total | C8: 225343 | D8: 132565 | E8: 1265 | F8: 4405 | G8: 27965 | H8: 179 | I8: 1053 | J8: 35 | K8: 8451 | L8: 66 | M8: 967 | N8: 2158 | O8: 9301 | P8: 29 | Q8: 4 | R8: 5 | S8: 32 | T8: 5988 | U8: 765 | V8: 290 | W8: 5570 | X8: 3448 | Y8: 257 | Z8: 251 | AA8: 61 | AB8: 13 | AC8: 168 | AD8: 20052
A9: 新北市 | B9: New Taipei City | C9: 37871 | D9: 21137 | E9: 104 | F9: 518 | G9: 3616 | H9: 37 | I9: 276 | J9: 5 | K9: 1492 | L9: 3 | M9: 169 | N9: 58 | O9: 1867 | P9: 3 | Q9: 1 | R9: 0 | S9: 10 | T9: 2524 | U9: 163 | V9: 6 | W9: 542 | X9: 1379 | Y9: 18 | Z9: 20 | AA9: 19 | AB9: 0 | AC9: 19 | AD9: 3885
A10: 臺北市 | B10: Taipei City | C10: 26979 | D10: 16771 | E10: 13 | F10: 335 | G10: 2440 | H10: 31 | I10: 82 | J10: 3 | K10: 1370 | L10: 1 | M10: 41 | N10: 36 | O10: 1064 | P10: 0 | Q10: 0 | R10: 0 | S10: 1 | T10: 895 | U10: 185 | V10: 15 | W10: 486 | X10: 854 | Y10: 20 | Z10: 6 | AA10: 5 | AB10: 1 | AC10: 9 | AD10: 2315
A11: 桃園市 | B11: Taoyuan City | C11: 38966 | D11: 21241 | E11: 247 | F11: 609 | G11: 10376 | H11: 7 | I11: 64 | J11: 3 | K11: 812 | L11: 3 | M11: 47 | N11: 635 | O11: 1475 | P11: 2 | Q11: 0 | R11: 0 | S11: 0 | T11: 335 | U11: 5 | V11: 80 | W11: 517 | X11: 198 | Y11: 36 | Z11: 18 | AA11: 8 | AB11: 2 | AC11: 17 | AD11: 2229
A12: 臺中市 | B12: Taichung City | C12: 35121 | D12: 23247 | E12: 76 | F12: 510 | G12: 2416 | H12: 27 | I12: 37 | J12: 3 | K12: 780 | L12: 2 | M12: 27 | N12: 467 | O12: 1059 | P12: 2 | Q12: 1 | R12: 0 | S12: 0 | T12: 689 | U12: 23 | V12: 6 | W12: 1028 | X12: 125 | Y12: 97 | Z12: 12 | AA12: 5 | AB12: 7 | AC12: 7 | AD12: 4468
A13: 臺南市 | B13: Tainan City | C13: 13322 | D13: 6780 | E13: 111 | F13: 426 | G13: 2535 | H13: 7 | I13: 85 | J13: 0 | K13: 330 | L13: 3 | M13: 138 | N13: 150 | O13: 411 | P13: 0 | Q13: 0 | R13: 1 | S13: 2 | T13: 156 | U13: 19 | V13: 32 | W13: 327 | X13: 20 | Y13: 22 | Z13: 14 | AA13: 7 | AB13: 0 | AC13: 8 | AD13: 1738
A14: 高雄市 | B14: Kaohsiung City | C14: 27438 | D14: 16590 | E14: 386 | F14: 726 | G14: 2108 | H14: 32 | I14: 165 | J14: 10 | K14: 1260 | L14: 22 | M14: 146 | N14: 249 | O14: 1557 | P14: 3 | Q14: 1 | R14: 2 | S14: 3 | T14: 278 | U14: 75 | V14: 19 | W14: 921 | X14: 165 | Y14: 28 | Z14: 27 | AA14: 13 | AB14: 1 | AC14: 23 | AD14: 2628
A15: 宜蘭縣 | B15: Yilan County | C15: 1104 | D15: 724 | E15: 10 | F15: 17 | G15: 98 | H15: 0 | I15: 1 | J15: 2 | K15: 11 | L15: 9 | M15: 6 | N15: 21 | O15: 69 | P15: 0 | Q15: 0 | R15: 0 | S15: 0 | T15: 48 | U15: 1 | V15: 0 | W15: 52 | X15: 0 | Y15: 0 | Z15: 4 | AA15: 0 | AB15: 0 | AC15: 0 | AD15: 31
A16: 新竹縣 | B16: Hsinchu County | C16: 2081 | D16: 1214 | E16: 5 | F16: 61 | G16: 76 | H16: 1 | I16: 6 | J16: 1 | K16: 140 | L16: 0 | M16: 5 | N16: 68 | O16: 223 | P16: 1 | Q16: 0 | R16: 0 | S16: 3 | T16: 46 | U16: 1 | V16: 3 | W16: 67 | X16: 7 | Y16: 2 | Z16: 10 | AA16: 0 | AB16: 0 | AC16: 5 | AD16: 136
A17: 苗栗縣 | B17: Miaoli County | C17: 2457 | D17: 1747 | E17: 7 | F17: 114 | G17: 55 | H17: 4 | I17: 13 | J17: 2 | K17: 98 | L17: 2 | M17: 7 | N17: 44 | O17: 64 | P17: 0 | Q17: 0 | R17: 0 | S17: 1 | T17: 43 | U17: 23 | V17: 1 | W17: 32 | X17: 1 | Y17: 0 | Z17: 2 | AA17: 0 | AB17: 0 | AC17: 0 | AD17: 197
A18: 彰化縣 | B18: Changhua County | C18: 5996 | D18: 4495 | E18: 16 | F18: 176 | G18: 265 | H18: 0 | I18: 104 | J18: 3 | K18: 306 | L18: 8 | M18: 59 | N18: 78 | O18: 69 | P18: 2 | Q18: 0 | R18: 0 | S18: 0 | T18: 118 | U18: 8 | V18: 32 | W18: 153 | X18: 2 | Y18: 1 | Z18: 0 | AA18: 0 | AB18: 0 | AC18: 0 | AD18: 101
A19: 南投縣 | B19: Nantou County | C19: 2867 | D19: 1632 | E19: 6 | F19: 78 | G19: 128 | H19: 1 | I19: 13 | J19: 0 | K19: 198 | L19: 1 | M19: 2 | N19: 19 | O19: 402 | P19: 0 | Q19: 0 | R19: 0 | S19: 1 | T19: 77 | U19: 0 | V19: 4 | W19: 65 | X19: 58 | Y19: 0 | Z19: 4 | AA19: 0 | AB19: 0 | AC19: 11 | AD19: 167
... A30: 連江縣 | B30: Lienchiang County | C30: 23 | D30: 13 | E30: 0 | F30: 0 | G30: 1 | H30: 0 | I30: 0 | J30: 0 | K30: 6 | L30: 0 | M30: 0 | N30: 0 | O30: 0 | P30: 0 | Q30: 0 | R30: 1 | S30: 0 | T30: 1 | U30: 0 | V30: 0 | W30: 0 | X30: 0 | Y30: 0 | Z30: 0 | AA30: 0 | AB30: 0 | AC30: 0 | AD30: 1
A31: 資料來源：各直轄市、縣市政府。
A32: Source: County and Government.

Sheet Jan.-June, 2025
A1: 兒童及少年保護-處遇中服務量Volume (Cases) of Services for People under Treatment
A2: 單位：案次 Unit : Cases
A3: 民國114年1-6月 Jan.-June, 2025 | C3: =IF(C8=SUM(C9:C30),"","*") | D3: =IF(D8=SUM(D9:D30),"","*") | E3: =IF(E8=SUM(E9:E30),"","*") | F3: =IF(F8=SUM(F9:F30),"","*") | G3: =IF(G8=SUM(G9:G30),"","*") | H3: =IF(H8=SUM(H9:H30),"","*") | I3: =IF(I8=SUM(I9:I30),"","*") | J3: =IF(J8=SUM(J9:J30),"","*") | ... AD3: =IF(AD8=SUM(AD9:AD30),"","*")
A4: 區域別 Locality | C4: 處遇中服務量(案次)Volume (Cases) of Services for People under Treatment
C5: 總計 Total | D5: 訪談服務 Interview Services | E5: 家外安置 Out-of-home Placement | F5: 安置期間 探視服務 Visitation Services During Placement | G5: 網絡資源 連結 Links to Internet Resources | H5: 聲請保護令 Petition for a Protection Order | I5: 法律服務 Legal Services | J5: 以證人身分出庭 Appearing before Court as Witnesses | K5: 陪同服務 Companion Services | L5: 驗傷診療 Medical Examinations and Diagnoses | M5: 就學輔導 Admissions Guidance | N5: 強制性 親職教育 Compulsory Parental Education | O5: 一般性 親職教育 General Parental Education | P5: 自殺防治 Suicide Prevention | Q5: 藥癮戒治 Drug Addiction Treatment | R5: 酒癮戒治 Alcohol Addiction Treatment | S5: 精神疾 病治療 Treatment of Mental Illnesses | T5: 心理輔導及治療 Psychological Counseling and Psychotherapy | U5: 提供家庭福利服務方案 Offering of Family Welfare Service Programs | V5: 就業服務 Employment Services | W5: 提供經濟扶助 Offering of Financial Aid | X5: 相關經費補助 Relevant Funds and Subsidies | Y5: 少年自立 生活方案 Independent Living Program for Youth | Z5: 結案後追蹤輔導 Follow-up and Guidance after Case Closure | AA5: 提出獨立告訴 Filing Lawsuits Independently | AB5: 通譯服務 Interpreting Services | AC5: 早期療育 Early Intervention | AD5: 其他服務 Others
A8: 總計 | B8: Total | C8: 228962 | D8: 135966 | E8: 1262 | F8: 4497 | G8: 29796 | H8: 165 | I8: 1165 | J8: 58 | K8: 8567 | L8: 67 | M8: 1267 | N8: 1460 | O8: 9505 | P8: 42 | Q8: 5 | R8: 7 | S8: 29 | T8: 5824 | U8: 588 | V8: 248 | W8: 5255 | X8: 2801 | Y8: 200 | Z8: 219 | AA8: 48 | AB8: 2 | AC8: 186 | AD8: 19733
A9: 新北市 | B9: New Taipei City | C9: 38353 | D9: 22032 | E9: 95 | F9: 505 | G9: 3589 | H9: 38 | I9: 263 | J9: 6 | K9: 1552 | L9: 3 | M9: 178 | N9: 53 | O9: 1842 | P9: 14 | Q9: 0 | R9: 4 | S9: 7 | T9: 2550 | U9: 120 | V9: 9 | W9: 773 | X9: 1193 | Y9: 14 | Z9: 7 | AA9: 8 | AB9: 0 | AC9: 48 | AD9: 3450
A10: 臺北市 | B10: Taipei City | C10: 26513 | D10: 16561 | E10: 8 | F10: 353 | G10: 2789 | H10: 17 | I10: 100 | J10: 3 | K10: 1374 | L10: 5 | M10: 52 | N10: 32 | O10: 1030 | P10: 3 | Q10: 0 | R10: 0 | S10: 5 | T10: 715 | U10: 105 | V10: 15 | W10: 513 | X10: 535 | Y10: 17 | Z10: 5 | AA10: 3 | AB10: 0 | AC10: 10 | AD10: 2263
A11: 桃園市 | B11: Taoyuan City | C11: 38532 | D11: 21078 | E11: 210 | F11: 496 | G11: 10758 | H11: 9 | I11: 126 | J11: 7 | K11: 878 | L11: 4 | M11: 54 | N11: 140 | O11: 1408 | P11: 0 | Q11: 0 | R11: 0 | S11: 0 | T11: 336 | U11: 2 | V11: 3 | W11: 436 | X11: 205 | Y11: 20 | Z11: 46 | AA11: 4 | AB11: 0 | AC11: 24 | AD11: 2288
A12: 臺中市 | B12: Taichung City | C12: 35268 | D12: 23689 | E12: 47 | F12: 504 | G12: 2429 | H12: 23 | I12: 29 | J12: 7 | K12: 752 | L12: 3 | M12: 41 | N12: 351 | O12: 1190 | P12: 4 | Q12: 1 | R12: 1 | S12: 3 | T12: 874 | U12: 17 | V12: 8 | W12: 759 | X12: 219 | Y12: 66 | Z12: 20 | AA12: 5 | AB12: 1 | AC12: 8 | AD12: 4217
A13: 臺南市 | B13: Tainan City | C13: 13760 | D13: 7078 | E13: 122 | F13: 385 | G13: 2911 | H13: 8 | I13: 109 | J13: 3 | K13: 272 | L13: 3 | M13: 236 | N13: 121 | O13: 483 | P13: 1 | Q13: 1 | R13: 1 | S13: 5 | T13: 111 | U13: 12 | V13: 65 | W13: 324 | X13: 21 | Y13: 22 | Z13: 2 | AA13: 5 | AB13: 0 | AC13: 22 | AD13: 1437
A14: 高雄市 | B14: Kaohsiung City | C14: 29646 | D14: 18384 | E14: 418 | F14: 805 | G14: 2698 | H14: 27 | I14: 195 | J14: 12 | K14: 1226 | L14: 25 | M14: 282 | N14: 341 | O14: 1441 | P14: 3 | Q14: 2 | R14: 0 | S14: 6 | T14: 287 | U14: 71 | V14: 16 | W14: 764 | X14: 136 | Y14: 18 | Z14: 11 | AA14: 11 | AB14: 0 | AC14: 13 | AD14: 2454
A15: 宜蘭縣 | B15: Yilan County | C15: 1580 | D15: 1064 | E15: 6 | F15: 25 | G15: 140 | H15: 1 | I15: 7 | J15: 1 | K15: 30 | L15: 1 | M15: 8 | N15: 0 | O15: 113 | P15: 0 | Q15: 0 | R15: 0 | S15: 0 | T15: 34 | U15: 11 | V15: 0 | W15: 46 | X15: 0 | Y15: 0 | Z15: 8 | AA15: 0 | AB15: 0 | AC15: 1 | AD15: 84
A16: 新竹縣 | B16: Hsinchu County | C16: 2469 | D16: 1383 | E16: 13 | F16: 98 | G16: 113 | H16: 2 | I16: 14 | J16: 2 | K16: 194 | L16: 0 | M16: 9 | N16: 11 | O16: 351 | P16: 3 | Q16: 0 | R16: 0 | S16: 0 | T16: 35 | U16: 0 | V16: 2 | W16: 67 | X16: 8 | Y16: 1 | Z16: 4 | AA16: 3 | AB16: 0 | AC16: 8 | AD16: 148
A17: 苗栗縣 | B17: Miaoli County | C17: 2362 | D17: 1644 | E17: 9 | F17: 115 | G17: 56 | H17: 1 | I17: 17 | J17: 1 | K17: 106 | L17: 0 | M17: 10 | N17: 32 | O17: 90 | P17: 0 | Q17: 0 | R17: 0 | S17: 0 | T17: 21 | U17: 18 | V17: 0 | W17: 49 | X17: 1 | Y17: 5 | Z17: 3 | AA17: 0 | AB17: 0 | AC17: 0 | AD17: 184
A18: 彰化縣 | B18: Changhua County | C18: 7375 | D18: 4971 | E18: 13 | F18: 155 | G18: 268 | H18: 5 | I18: 121 | J18: 4 | K18: 316 | L18: 1 | M18: 63 | N18: 49 | O18: 75 | P18: 2 | Q18: 0 | R18: 0 | S18: 0 | T18: 130 | U18: 11 | V18: 32 | W18: 122 | X18: 0 | Y18: 0 | Z18: 0 | AA18: 1 | AB18: 1 | AC18: 0 | AD18: 1035
A19: 南投縣 | B19: Nantou County | C19: 3120 | D19: 1910 | E19: 19 | F19: 133 | G19: 127 | H19: 1 | I19: 28 | J19: 1 | K19: 216 | L19: 2 | M19: 7 | N19: 14 | O19: 309 | P19: 2 | Q19: 1 | R19: 0 | S19: 0 | T19: 95 | U19: 0 | V19: 2 | W19: 58 | X19: 3 | Y19: 1 | Z19: 0 | AA19: 1 | AB19: 0 | AC19: 1 | AD19: 189
... A30: 連江縣 | B30: Lienchiang County | C30: 15 | D30: 10 | E30: 0 | F30: 0 | G30: 1 | H30: 0 | I30: 0 | J30: 0 | K30: 0 | L30: 0 | M30: 2 | N30: 0 | O30: 0 | P30: 0 | Q30: 0 | R30: 0 | S30: 0 | T30: 0 | U30: 0 | V30: 0 | W30: 0 | X30: 0 | Y30: 0 | Z30: 0 | AA30: 0 | AB30: 0 | AC30: 0 | AD30: 2
A31: 資料來源：各直轄市、縣市政府。
A32: Source: County and Government.
A35: 總計 | B35: Total | C35: 228962 | D35: 135966 | E35: 1262 | F35: 4497 | G35: 29796 | H35: 165 | I35: 1165 | J35: 58 | K35: 8567 | L35: 67 | M35: 1267 | N35: 1460 | O35: 9505 | P35: 42 | Q35: 5 | R35: 7 | S35: 29 | T35: 5824 | U35: 588 | V35: 248 | W35: 5255 | X35: 2801 | Y35: 200 | Z35: 219 | AA35: 48 | AB35: 2 | AC35: 186 | AD35: 19733
A36: 新北市 | B36: New Taipei City | C36: 38353 | D36: 22032 | E36: 95 | F36: 505 | G36: 3589 | H36: 38 | I36: 263 | J36: 6 | K36: 1552 | L36: 3 | M36: 178 | N36: 53 | O36: 1842 | P36: 14 | Q36: 0 | R36: 4 | S36: 7 | T36: 2550 | U36: 120 | V36: 9 | W36: 773 | X36: 1193 | Y36: 14 | Z36: 7 | AA36: 8 | AB36: 0 | AC36: 48 | AD36: 3450
A37: 臺北市 | B37: Taipei City | C37: 26513 | D37: 16561 | E37: 8 | F37: 353 | G37: 2789 | H37: 17 | I37: 100 | J37: 3 | K37: 1374 | L37: 5 | M37: 52 | N37: 32 | O37: 1030 | P37: 3 | Q37: 0 | R37: 0 | S37: 5 | T37: 715 | U37: 105 | V37: 15 | W37: 513 | X37: 535 | Y37: 17 | Z37: 5 | AA37: 3 | AB37: 0 | AC37: 10 | AD37: 2263
A38: 桃園市 | B38: Taoyuan City | C38: 38532 | D38: 21078 | E38: 210 | F38: 496 | G38: 10758 | H38: 9 | I38: 126 | J38: 7 | K38: 878 | L38: 4 | M38: 54 | N38: 140 | O38: 1408 | P38: 0 | Q38: 0 | R38: 0 | S38: 0 | T38: 336 | U38: 2 | V38: 3 | W38: 436 | X38: 205 | Y38: 20 | Z38: 46 | AA38: 4 | AB38: 0 | AC38: 24 | AD38: 2288
A39: 臺中市 | B39: Taichung City | C39: 35268 | D39: 23689 | E39: 47 | F39: 504 | G39: 2429 | H39: 23 | I39: 29 | J39: 7 | K39: 752 | L39: 3 | M39: 41 | N39: 351 | O39: 1190 | P39: 4 | Q39: 1 | R39: 1 | S39: 3 | T39: 874 | U39: 17 | V39: 8 | W39: 759 | X39: 219 | Y39: 66 | Z39: 20 | AA39: 5 | AB39: 1 | AC39: 8 | AD39: 4217
A40: 臺南市 | B40: Tainan City | C40: 13760 | D40: 7078 | E40: 122 | F40: 385 | G40: 2911 | H40: 8 | I40: 109 | J40: 3 | K40: 272 | L40: 3 | M40: 236 | N40: 121 | O40: 483 | P40: 1 | Q40: 1 | R40: 1 | S40: 5 | T40: 111 | U40: 12 | V40: 65 | W40: 324 | X40: 21 | Y40: 22 | Z40: 2 | AA40: 5 | AB40: 0 | AC40: 22 | AD40: 1437
A41: 高雄市 | B41: Kaohsiung City | C41: 29646 | D41: 18384 | E41: 418 | F41: 805 | G41: 2698 | H41: 27 | I41: 195 | J41: 12 | K41: 1226 | L41: 25 | M41: 282 | N41: 341 | O41: 1441 | P41: 3 | Q41: 2 | R41: 0 | S41: 6 | T41: 287 | U41: 71 | V41: 16 | W41: 764 | X41: 136 | Y41: 18 | Z41: 11 | AA41: 11 | AB41: 0 | AC41: 13 | AD41: 2454
A42: 宜蘭縣 | B42: Yilan County | C42: 1580 | D42: 1064 | E42: 6 | F42: 25 | G42: 140 | H42: 1 | I42: 7 | J42: 1 | K42: 30 | L42: 1 | M42: 8 | N42: 0 | O42: 113 | P42: 0 | Q42: 0 | R42: 0 | S42: 0 | T42: 34 | U42: 11 | V42: 0 | W42: 46 | X42: 0 | Y42: 0 | Z42: 8 | AA42: 0 | AB42: 0 | AC42: 1 | AD42: 84
A43: 新竹縣 | B43: Hsinchu County | C43: 2469 | D43: 1383 | E43: 13 | F43: 98 | G43: 113 | H43: 2 | I43: 14 | J43: 2 | K43: 194 | L43: 0 | M43: 9 | N43: 11 | O43: 351 | P43: 3 | Q43: 0 | R43: 0 | S43: 0 | T43: 35 | U43: 0 | V43: 2 | W43: 67 | X43: 8 | Y43: 1 | Z43: 4 | AA43: 3 | AB43: 0 | AC43: 8 | AD43: 148
A44: 苗栗縣 | B44: Miaoli County | C44: 2362 | D44: 1644 | E44: 9 | F44: 115 | G44: 56 | H44: 1 | I44: 17 | J44: 1 | K44: 106 | L44: 0 | M44: 10 | N44: 32 | O44: 90 | P44: 0 | Q44: 0 | R44: 0 | S44: 0 | T44: 21 | U44: 18 | V44: 0 | W44: 49 | X44: 1 | Y44: 5 | Z44: 3 | AA44: 0 | AB44: 0 | AC44: 0 | AD44: 184
A45: 彰化縣 | B45: Changhua County | C45: 7375 | D45: 4971 | E45: 13 | F45: 155 | G45: 268 | H45: 5 | I45: 121 | J45: 4 | K45: 316 | L45: 1 | M45: 63 | N45: 49 | O45: 75 | P45: 2 | Q45: 0 | R45: 0 | S45: 0 | T45: 130 | U45: 11 | V45: 32 | W45: 122 | X45: 0 | Y45: 0 | Z45: 0 | AA45: 1 | AB45: 1 | AC45: 0 | AD45: 1035
A46: 南投縣 | B46: Nantou County | C46: 3120 | D46: 1910 | E46: 19 | F46: 133 | G46: 127 | H46: 1 | I46: 28 | J46: 1 | K46: 216 | L46: 2 | M46: 7 | N46: 14 | O46: 309 | P46: 2 | Q46: 1 | R46: 0 | S46: 0 | T46: 95 | U46: 0 | V46: 2 | W46: 58 | X46: 3 | Y46: 1 | Z46: 0 | AA46: 1 | AB46: 0 | AC46: 1 | AD46: 189
... A57: 連江縣 | B57: Lienchiang County | C57: 15 | D57: 10 | E57: 0 | F57: 0 | G57: 1 | H57: 0 | I57: 0 | J57: 0 | K57: 0 | L57: 0 | M57: 2 | N57: 0 | O57: 0 | P57: 0 | Q57: 0 | R57: 0 | S57: 0 | T57: 0 | U57: 0 | V57: 0 | W57: 0 | X57: 0 | Y57: 0 | Z57: 0 | AA57: 0 | AB57: 0 | AC57: 0 | AD57: 2
A59: 總計 | B59: Total | C59: =IF(C35=C8,"","*") | D59: =IF(D35=D8,"","*") | E59: =IF(E35=E8,"","*") | F59: =IF(F35=F8,"","*") | G59: =IF(G35=G8,"","*") | H59: =IF(H35=H8,"","*") | I59: =IF(I35=I8,"","*") | J59: =IF(J35=J8,"","*") | ... AD59: =IF(AD35=AD8,"","*")
A60: 新 北 市 | B60: New Taipei City | C60: =IF(C36=C9,"","*") | D60: =IF(D36=D9,"","*") | E60: =IF(E36=E9,"","*") | F60: =IF(F36=F9,"","*") | G60: =IF(G36=G9,"","*") | H60: =IF(H36=H9,"","*") | I60: =IF(I36=I9,"","*") | J60: =IF(J36=J9,"","*") | ... AD60: =IF(AD36=AD9,"","*")
A61: 臺 北 市 | B61: Taipei City | C61: =IF(C37=C10,"","*") | D61: =IF(D37=D10,"","*") | E61: =IF(E37=E10,"","*") | F61: =IF(F37=F10,"","*") | G61: =IF(G37=G10,"","*") | H61: =IF(H37=H10,"","*") | I61: =IF(I37=I10,"","*") | J61: =IF(J37=J10,"","*") | ... AD61: =IF(AD37=AD10,"","*")
A62: 桃 園 市 | B62: Taoyuan City | C62: =IF(C38=C11,"","*") | D62: =IF(D38=D11,"","*") | E62: =IF(E38=E11,"","*") | F62: =IF(F38=F11,"","*") | G62: =IF(G38=G11,"","*") | H62: =IF(H38=H11,"","*") | I62: =IF(I38=I11,"","*") | J62: =IF(J38=J11,"","*") | ... AD62: =IF(AD38=AD11,"","*")
A63: 臺 中 市 | B63: Taichung City | C63: =IF(C39=C12,"","*") | D63: =IF(D39=D12,"","*") | E63: =IF(E39=E12,"","*") | F63: =IF(F39=F12,"","*") | G63: =IF(G39=G12,"","*") | H63: =IF(H39=H12,"","*") | I63: =IF(I39=I12,"","*") | J63: =IF(J39=J12,"","*") | ... AD63: =IF(AD39=AD12,"","*")
A64: 臺 南 市 | B64: Tainan City | C64: =IF(C40=C13,"","*") | D64: =IF(D40=D13,"","*") | E64: =IF(E40=E13,"","*") | F64: =IF(F40=F13,"","*") | G64: =IF(G40=G13,"","*") | H64: =IF(H40=H13,"","*") | I64: =IF(I40=I13,"","*") | J64: =IF(J40=J13,"","*") | ... AD64: =IF(AD40=AD13,"","*")
A65: 高 雄 市 | B65: Kaohsiung City | C65: =IF(C41=C14,"","*") | D65: =IF(D41=D14,"","*") | E65: =IF(E41=E14,"","*") | F65: =IF(F41=F14,"","*") | G65: =IF(G41=G14,"","*") | H65: =IF(H41=H14,"","*") | I65: =IF(I41=I14,"","*") | J65: =IF(J41=J14,"","*") | ... AD65: =IF(AD41=AD14,"","*")
...

Sheet 2024
A1: 兒童及少年保護-處遇中服務量Volume (Cases) of Services for People under Treatment
A2: 單位：案次 Unit : Cases
A3: 民國113年, 2024
A4: 區域別 Locality | C4: 處遇中服務量(案次)Volume (Cases) of Services for People under Treatment
C5: 總計 Total | D5: 訪談服務 Interview Services | E5: 家外安置 Out-of-home Placement | F5: 安置期間 探視服務 Visitation Services During Placement | G5: 網絡資源 連結 Links to Internet Resources | H5: 聲請保護令 Petition for a Protection Order | I5: 法律服務 Legal Services | J5: 以證人身分出庭 Appearing before Court as Witnesses | K5: 陪同服務 Companion Services | L5: 驗傷診療 Medical Examinations and Diagnoses | M5: 就學輔導 Admissions Guidance | N5: 強制性 親職教育 Compulsory Parental Education | O5: 一般性 親職教育 General Parental Education | P5: 自殺防治 Suicide Prevention | Q5: 藥癮戒治 Drug Addiction Treatment | R5: 酒癮戒治 Alcohol Addiction Treatment | S5: 精神疾 病治療 Treatment of Mental Illnesses | T5: 心理輔導及治療 Psychological Counseling and Psychotherapy | U5: 提供家庭福利服務方案 Offering of Family Welfare Service Programs | V5: 就業服務 Employment Services | W5: 提供經濟扶助 Offering of Financial Aid | X5: 相關經費補助 Relevant Funds and Subsidies | Y5: 少年自立 生活方案 Independent Living Program for Youth | Z5: 結案後追蹤輔導 Follow-up and Guidance after Case Closure | AA5: 提出獨立告訴 Filing Lawsuits Independently | AB5: 通譯服務 Interpreting Services | AC5: 早期療育 Early Intervention | AD5: 其他服務 Others
A8: 總計 | B8: Total | C8: 462553 | D8: 276641 | E8: 2902 | F8: 9276 | G8: 60947 | H8: 310 | I8: 2797 | J8: 104 | K8: 16914 | L8: 89 | M8: 2883 | N8: 3507 | O8: 17331 | P8: 78 | Q8: 25 | R8: 20 | S8: 159 | T8: 11461 | U8: 1916 | V8: 589 | W8: 10532 | X8: 5007 | Y8: 475 | Z8: 406 | AA8: 128 | AB8: 19 | AC8: 435 | AD8: 37602
A9: 新北市 | B9: New Taipei City | C9: 76780 | D9: 41628 | E9: 248 | F9: 1221 | G9: 7693 | H9: 57 | I9: 663 | J9: 15 | K9: 3450 | L9: 17 | M9: 584 | N9: 129 | O9: 4170 | P9: 20 | Q9: 1 | R9: 6 | S9: 39 | T9: 4788 | U9: 611 | V9: 33 | W9: 1481 | X9: 2403 | Y9: 44 | Z9: 47 | AA9: 35 | AB9: 9 | AC9: 90 | AD9: 7298
A10: 臺北市 | B10: Taipei City | C10: 51664 | D10: 32468 | E10: 39 | F10: 602 | G10: 5825 | H10: 24 | I10: 226 | J10: 9 | K10: 2464 | L10: 2 | M10: 137 | N10: 52 | O10: 2173 | P10: 7 | Q10: 1 | R10: 10 | S10: 34 | T10: 916 | U10: 357 | V10: 46 | W10: 867 | X10: 659 | Y10: 37 | Z10: 10 | AA10: 7 | AB10: 1 | AC10: 26 | AD10: 4665
A11: 桃園市 | B11: Taoyuan City | C11: 79878 | D11: 46989 | E11: 514 | F11: 1072 | G11: 19358 | H11: 37 | I11: 306 | J11: 7 | K11: 1754 | L11: 3 | M11: 180 | N11: 299 | O11: 2459 | P11: 1 | Q11: 0 | R11: 0 | S11: 3 | T11: 902 | U11: 5 | V11: 13 | W11: 910 | X11: 379 | Y11: 4 | Z11: 69 | AA11: 16 | AB11: 2 | AC11: 100 | AD11: 4496
A12: 臺中市 | B12: Taichung City | C12: 69489 | D12: 48316 | E12: 107 | F12: 907 | G12: 4867 | H12: 25 | I12: 93 | J12: 5 | K12: 1352 | L12: 5 | M12: 100 | N12: 1136 | O12: 1624 | P12: 4 | Q12: 2 | R12: 0 | S12: 3 | T12: 1675 | U12: 27 | V12: 14 | W12: 1368 | X12: 381 | Y12: 204 | Z12: 16 | AA12: 8 | AB12: 3 | AC12: 16 | AD12: 7231
A13: 臺南市 | B13: Tainan City | C13: 31831 | D13: 15889 | E13: 239 | F13: 876 | G13: 7173 | H13: 32 | I13: 357 | J13: 10 | K13: 694 | L13: 3 | M13: 531 | N13: 173 | O13: 1304 | P13: 2 | Q13: 14 | R13: 0 | S13: 7 | T13: 394 | U13: 95 | V13: 120 | W13: 911 | X13: 87 | Y13: 49 | Z13: 11 | AA13: 14 | AB13: 1 | AC13: 35 | AD13: 2810
A14: 高雄市 | B14: Kaohsiung City | C14: 54980 | D14: 34702 | E14: 969 | F14: 1569 | G14: 5514 | H14: 36 | I14: 473 | J14: 17 | K14: 2230 | L14: 35 | M14: 447 | N14: 399 | O14: 1225 | P14: 17 | Q14: 3 | R14: 1 | S14: 42 | T14: 834 | U14: 237 | V14: 67 | W14: 1520 | X14: 239 | Y14: 15 | Z14: 30 | AA14: 23 | AB14: 1 | AC14: 46 | AD14: 4289
A15: 宜蘭縣 | B15: Yilan County | C15: 4254 | D15: 2768 | E15: 2 | F15: 51 | G15: 411 | H15: 5 | I15: 12 | J15: 0 | K15: 112 | L15: 0 | M15: 16 | N15: 3 | O15: 206 | P15: 4 | Q15: 0 | R15: 0 | S15: 0 | T15: 86 | U15: 15 | V15: 2 | W15: 119 | X15: 1 | Y15: 0 | Z15: 3 | AA15: 3 | AB15: 0 | AC15: 1 | AD15: 434
A16: 新竹縣 | B16: Hsinchu County | C16: 5259 | D16: 2915 | E16: 26 | F16: 159 | G16: 402 | H16: 1 | I16: 20 | J16: 13 | K16: 334 | L16: 0 | M16: 38 | N16: 20 | O16: 799 | P16: 1 | Q16: 0 | R16: 0 | S16: 3 | T16: 97 | U16: 36 | V16: 30 | W16: 60 | X16: 9 | Y16: 0 | Z16: 14 | AA16: 0 | AB16: 0 | AC16: 15 | AD16: 267
A17: 苗栗縣 | B17: Miaoli County | C17: 5110 | D17: 3470 | E17: 16 | F17: 196 | G17: 119 | H17: 12 | I17: 44 | J17: 0 | K17: 198 | L17: 2 | M17: 13 | N17: 192 | O17: 123 | P17: 0 | Q17: 1 | R17: 0 | S17: 0 | T17: 68 | U17: 16 | V17: 5 | W17: 180 | X17: 3 | Y17: 18 | Z17: 14 | AA17: 4 | AB17: 0 | AC17: 1 | AD17: 415
A18: 彰化縣 | B18: Changhua County | C18: 12450 | D18: 8155 | E18: 22 | F18: 376 | G18: 546 | H18: 14 | I18: 203 | J18: 3 | K18: 506 | L18: 1 | M18: 91 | N18: 471 | O18: 239 | P18: 2 | Q18: 1 | R18: 0 | S18: 0 | T18: 223 | U18: 2 | V18: 17 | W18: 236 | X18: 5 | Y18: 0 | Z18: 0 | AA18: 2 | AB18: 0 | AC18: 1 | AD18: 1334
A19: 南投縣 | B19: Nantou County | C19: 5169 | D19: 2773 | E19: 40 | F19: 266 | G19: 303 | H19: 5 | I19: 70 | J19: 1 | K19: 530 | L19: 2 | M19: 29 | N19: 72 | O19: 502 | P19: 2 | Q19: 0 | R19: 1 | S19: 1 | T19: 144 | U19: 2 | V19: 16 | W19: 87 | X19: 4 | Y19: 4 | Z19: 2 | AA19: 0 | AB19: 1 | AC19: 9 | AD19: 303
... A30: 連江縣 | B30: Lienchiang County | C30: 131 | D30: 70 | E30: 4 | F30: 3 | G30: 8 | H30: 0 | I30: 5 | J30: 0 | K30: 14 | L30: 0 | M30: 3 | N30: 2 | O30: 12 | P30: 0 | Q30: 0 | R30: 0 | S30: 0 | T30: 10 | U30: 0 | V30: 0 | W30: 0 | X30: 0 | Y30: 0 | Z30: 0 | AA30: 0 | AB30: 0 | AC30: 0 | AD30: 0
A31: 資料來源：各直轄市、縣市政府。
A34: 更新日期：2025/03/31

Sheet 2023
A1: 兒童及少年保護-處遇中服務量Volume (Cases) of Services for People under Treatment
A2: 單位：案次 Unit : Cases
A3: 民國112年, 2023
A4: 區域別 Locality | C4: 處遇中服務量(案次)Volume (Cases) of Services for People under Treatment
C5: 總計 Total | D5: 訪談服務 Interview Services | E5: 家外安置 Out-of-home Placement | F5: 安置期間 探視服務 Visitation Services During Placement | G5: 網絡資源 連結 Links to Internet Resources | H5: 聲請保護令 Petition for a Protection Order | I5: 法律服務 Legal Services | J5: 以證人身分出庭 Appearing before Court as Witnesses | K5: 陪同服務 Companion Services | L5: 驗傷診療 Medical Examinations and Diagnoses | M5: 就學輔導 Admissions Guidance | N5: 強制性 親職教育 Compulsory Parental Education | O5: 一般性 親職教育 General Parental Education | P5: 自殺防治 Suicide Prevention | Q5: 藥癮戒治 Drug Addiction Treatment | R5: 酒癮戒治 Alcohol Addiction Treatment | S5: 精神疾 病治療 Treatment of Mental Illnesses | T5: 心理輔導及治療 Psychological Counseling and Psychotherapy | U5: 提供家庭福利服務方案 Offering of Family Welfare Service Programs | V5: 就業服務 Employment Services | W5: 提供經濟扶助 Offering of Financial Aid | X5: 相關經費補助 Relevant Funds and Subsidies | Y5: 少年自立 生活方案 Independent Living Program for Youth | Z5: 結案後追蹤輔導 Follow-up and Guidance after Case Closure | AA5: 提出獨立告訴 Filing Lawsuits Independently | AB5: 通譯服務 Interpreting Services | AC5: 早期療育 Early Intervention | AD5: 其他服務 Others
A8: 總計 | B8: Total | C8: 396094 | D8: 247867 | E8: 2832 | F8: 9076 | G8: 42168 | H8: 225 | I8: 2428 | J8: 147 | K8: 16329 | L8: 100 | M8: 2516 | N8: 2798 | O8: 11635 | P8: 83 | Q8: 10 | R8: 19 | S8: 221 | T8: 10628 | U8: 1735 | V8: 621 | W8: 9412 | X8: 4167 | Y8: 363 | Z8: 403 | AA8: 138 | AB8: 26 | AC8: 343 | AD8: 29804
A9: 新北市 | B9: New Taipei City | C9: 66636 | D9: 37181 | E9: 235 | F9: 1414 | G9: 7042 | H9: 47 | I9: 726 | J9: 30 | K9: 3412 | L9: 12 | M9: 476 | N9: 113 | O9: 3152 | P9: 19 | Q9: 0 | R9: 4 | S9: 67 | T9: 4209 | U9: 485 | V9: 41 | W9: 1216 | X9: 1676 | Y9: 31 | Z9: 63 | AA9: 37 | AB9: 10 | AC9: 106 | AD9: 4832
A10: 臺北市 | B10: Taipei City | C10: 46378 | D10: 29955 | E10: 46 | F10: 707 | G10: 5117 | H10: 16 | I10: 149 | J10: 7 | K10: 2484 | L10: 18 | M10: 171 | N10: 7 | O10: 1176 | P10: 2 | Q10: 0 | R10: 0 | S10: 58 | T10: 1377 | U10: 320 | V10: 59 | W10: 722 | X10: 230 | Y10: 21 | Z10: 18 | AA10: 4 | AB10: 0 | AC10: 13 | AD10: 3701
A11: 桃園市 | B11: Taoyuan City | C11: 57597 | D11: 43070 | E11: 484 | F11: 1119 | G11: 2468 | H11: 14 | I11: 263 | J11: 8 | K11: 1924 | L11: 2 | M11: 209 | N11: 414 | O11: 914 | P11: 1 | Q11: 0 | R11: 0 | S11: 0 | T11: 873 | U11: 1 | V11: 28 | W11: 692 | X11: 473 | Y11: 9 | Z11: 25 | AA11: 14 | AB11: 1 | AC11: 34 | AD11: 4557
A12: 臺中市 | B12: Taichung City | C12: 56401 | D12: 39476 | E12: 89 | F12: 934 | G12: 4749 | H12: 26 | I12: 90 | J12: 12 | K12: 1018 | L12: 2 | M12: 112 | N12: 948 | O12: 1273 | P12: 9 | Q12: 0 | R12: 0 | S12: 9 | T12: 1514 | U12: 27 | V12: 46 | W12: 1098 | X12: 410 | Y12: 121 | Z12: 25 | AA12: 11 | AB12: 3 | AC12: 10 | AD12: 4389
A13: 臺南市 | B13: Tainan City | C13: 32221 | D13: 15619 | E13: 253 | F13: 734 | G13: 7915 | H13: 15 | I13: 278 | J13: 15 | K13: 762 | L13: 13 | M13: 407 | N13: 100 | O13: 1413 | P13: 19 | Q13: 2 | R13: 3 | S13: 20 | T13: 402 | U13: 163 | V13: 93 | W13: 1009 | X13: 115 | Y13: 62 | Z13: 32 | AA13: 13 | AB13: 3 | AC13: 53 | AD13: 2708
A14: 高雄市 | B14: Kaohsiung City | C14: 46496 | D14: 30082 | E14: 891 | F14: 1501 | G14: 4314 | H14: 33 | I14: 280 | J14: 26 | K14: 2186 | L14: 12 | M14: 399 | N14: 113 | O14: 827 | P14: 11 | Q14: 4 | R14: 7 | S14: 24 | T14: 646 | U14: 170 | V14: 88 | W14: 1412 | X14: 170 | Y14: 20 | Z14: 31 | AA14: 26 | AB14: 1 | AC14: 35 | AD14: 3187
A15: 宜蘭縣 | B15: Yilan County | C15: 3875 | D15: 2576 | E15: 1 | F15: 92 | G15: 471 | H15: 3 | I15: 10 | J15: 2 | K15: 102 | L15: 0 | M15: 19 | N15: 6 | O15: 27 | P15: 1 | Q15: 0 | R15: 0 | S15: 1 | T15: 78 | U15: 1 | V15: 1 | W15: 107 | X15: 2 | Y15: 5 | Z15: 2 | AA15: 0 | AB15: 0 | AC15: 0 | AD15: 368
A16: 新竹縣 | B16: Hsinchu County | C16: 3472 | D16: 1880 | E16: 44 | F16: 90 | G16: 399 | H16: 1 | I16: 31 | J16: 18 | K16: 282 | L16: 0 | M16: 34 | N16: 4 | O16: 315 | P16: 2 | Q16: 0 | R16: 0 | S16: 4 | T16: 23 | U16: 41 | V16: 6 | W16: 40 | X16: 5 | Y16: 2 | Z16: 6 | AA16: 0 | AB16: 4 | AC16: 11 | AD16: 230
A17: 苗栗縣 | B17: Miaoli County | C17: 4961 | D17: 3340 | E17: 26 | F17: 211 | G17: 135 | H17: 21 | I17: 43 | J17: 3 | K17: 214 | L17: 1 | M17: 19 | N17: 88 | O17: 150 | P17: 0 | Q17: 1 | R17: 0 | S17: 0 | T17: 78 | U17: 13 | V17: 4 | W17: 177 | X17: 4 | Y17: 1 | Z17: 13 | AA17: 7 | AB17: 0 | AC17: 11 | AD17: 401
A18: 彰化縣 | B18: Changhua County | C18: 10508 | D18: 6513 | E18: 9 | F18: 257 | G18: 661 | H18: 2 | I18: 254 | J18: 5 | K18: 504 | L18: 1 | M18: 102 | N18: 411 | O18: 125 | P18: 1 | Q18: 0 | R18: 0 | S18: 2 | T18: 142 | U18: 1 | V18: 12 | W18: 295 | X18: 9 | Y18: 1 | Z18: 7 | AA18: 1 | AB18: 0 | AC18: 0 | AD18: 1193
A19: 南投縣 | B19: Nantou County | C19: 4676 | D19: 2735 | E19: 27 | F19: 226 | G19: 336 | H19: 4 | I19: 68 | J19: 1 | K19: 388 | L19: 12 | M19: 40 | N19: 4 | O19: 349 | P19: 0 | Q19: 0 | R19: 4 | S19: 0 | T19: 46 | U19: 4 | V19: 2 | W19: 89 | X19: 13 | Y19: 4 | Z19: 2 | AA19: 1 | AB19: 0 | AC19: 11 | AD19: 310
... A30: 連江縣 | B30: Lienchiang County | C30: 260 | D30: 86 | E30: 19 | F30: 4 | G30: 22 | H30: 0 | I30: 8 | J30: 3 | K30: 11 | L30: 4 | M30: 0 | N30: 8 | O30: 35 | P30: 0 | Q30: 0 | R30: 0 | S30: 1 | T30: 44 | U30: 0 | V30: 0 | W30: 0 | X30: 0 | Y30: 0 | Z30: 0 | AA30: 1 | AB30: 0 | AC30: 0 | AD30: 14
A31: 資料來源：各直轄市、縣市政府。
A34: 更新日期：2024/04/01

Sheet 2022
A1: 兒童及少年保護-處遇中服務量Volume (Cases) of Services for People under Treatment
A2: 單位：案次 Unit : Cases
A3: 民國111年, 2022
A4: 區域別 Locality | C4: 處遇中服務量(案次)Volume (Cases) of Services for People under Treatment
C5: 總計 Total | D5: 訪談服務 Interview Services | E5: 家外安置 Out-of-home Placement | F5: 安置期間 探視服務 Visitation Services During Placement | G5: 網絡資源 連結 Links to Internet Resources | H5: 聲請保護令 Petition for a Protection Order | I5: 法律服務 Legal Services | J5: 以證人身分出庭 Appearing before Court as Witnesses | K5: 陪同服務 Companion Services | L5: 驗傷診療 Medical Examinations and Diagnoses | M5: 就學輔導 Admissions Guidance | N5: 強制性 親職教育 Compulsory Parental Education | O5: 一般性 親職教育 General Parental Education | P5: 自殺防治 Suicide Prevention | Q5: 藥癮戒治 Drug Addiction Treatment | R5: 酒癮戒治 Alcohol Addiction Treatment | S5: 精神疾 病治療 Treatment of Mental Illnesses | T5: 心理輔導及治療 Psychological Counseling and Psychotherapy | U5: 提供家庭福利服務方案 Offering of Family Welfare Service Programs | V5: 就業服務 Employment Services | W5: 提供經濟扶助 Offering of Financial Aid | X5: 相關經費補助 Relevant Funds and Subsidies | Y5: 少年自立 生活方案 Independent Living Program for Youth | Z5: 結案後追蹤輔導 Follow-up and Guidance after Case Closure | AA5: 提出獨立告訴 Filing Lawsuits Independently | AB5: 通譯服務 Interpreting Services | AC5: 早期療育 Early Intervention | AD5: 其他服務 Others
A8: 總計 | B8: Total | C8: 392949 | D8: 256545 | E8: 2330 | F8: 8030 | G8: 43710 | H8: 213 | I8: 2248 | J8: 98 | K8: 13853 | L8: 92 | M8: 1937 | N8: 2456 | O8: 12356 | P8: 105 | Q8: 12 | R8: 20 | S8: 161 | T8: 9215 | U8: 1633 | V8: 358 | W8: 6987 | X8: 2573 | Y8: 267 | Z8: 464 | AA8: 184 | AB8: 17 | AC8: 236 | AD8: 26849
A9: 新北市 | B9: New Taipei City | C9: 71515 | D9: 41808 | E9: 332 | F9: 1492 | G9: 8552 | H9: 79 | I9: 998 | J9: 20 | K9: 3172 | L9: 29 | M9: 653 | N9: 66 | O9: 3849 | P9: 43 | Q9: 6 | R9: 10 | S9: 95 | T9: 3651 | U9: 499 | V9: 60 | W9: 902 | X9: 547 | Y9: 47 | Z9: 45 | AA9: 60 | AB9: 3 | AC9: 71 | AD9: 4426
A10: 臺北市 | B10: Taipei City | C10: 48441 | D10: 33522 | E10: 40 | F10: 921 | G10: 4350 | H10: 14 | I10: 188 | J10: 10 | K10: 2214 | L10: 21 | M10: 80 | N10: 19 | O10: 1340 | P10: 8 | Q10: 0 | R10: 1 | S10: 24 | T10: 1337 | U10: 182 | V10: 20 | W10: 365 | X10: 52 | Y10: 15 | Z10: 14 | AA10: 3 | AB10: 0 | AC10: 30 | AD10: 3671
A11: 桃園市 | B11: Taoyuan City | C11: 54012 | D11: 42777 | E11: 442 | F11: 855 | G11: 956 | H11: 8 | I11: 199 | J11: 5 | K11: 1608 | L11: 1 | M11: 86 | N11: 278 | O11: 622 | P11: 4 | Q11: 0 | R11: 0 | S11: 0 | T11: 873 | U11: 19 | V11: 7 | W11: 583 | X11: 433 | Y11: 3 | Z11: 11 | AA11: 26 | AB11: 1 | AC11: 7 | AD11: 4208
A12: 臺中市 | B12: Taichung City | C12: 53572 | D12: 39404 | E12: 102 | F12: 848 | G12: 4443 | H12: 31 | I12: 80 | J12: 10 | K12: 834 | L12: 6 | M12: 142 | N12: 783 | O12: 1445 | P12: 9 | Q12: 0 | R12: 0 | S12: 2 | T12: 1190 | U12: 13 | V12: 46 | W12: 267 | X12: 18 | Y12: 78 | Z12: 23 | AA12: 29 | AB12: 1 | AC12: 27 | AD12: 3741
A13: 臺南市 | B13: Tainan City | C13: 37048 | D13: 18431 | E13: 205 | F13: 483 | G13: 9931 | H13: 15 | I13: 310 | J13: 8 | K13: 760 | L13: 7 | M13: 450 | N13: 123 | O13: 1791 | P13: 18 | Q13: 5 | R13: 3 | S13: 15 | T13: 549 | U13: 378 | V13: 65 | W13: 948 | X13: 126 | Y13: 38 | Z13: 68 | AA13: 23 | AB13: 4 | AC13: 29 | AD13: 2265
A14: 高雄市 | B14: Kaohsiung City | C14: 38052 | D14: 26998 | E14: 451 | F14: 922 | G14: 2703 | H14: 20 | I14: 85 | J14: 15 | K14: 1546 | L14: 13 | M14: 89 | N14: 86 | O14: 771 | P14: 10 | Q14: 0 | R14: 0 | S14: 8 | T14: 315 | U14: 28 | V14: 23 | W14: 790 | X14: 169 | Y14: 14 | Z14: 22 | AA14: 21 | AB14: 0 | AC14: 18 | AD14: 2935
A15: 宜蘭縣 | B15: Yilan County | C15: 3973 | D15: 2566 | E15: 8 | F15: 83 | G15: 505 | H15: 3 | I15: 8 | J15: 1 | K15: 110 | L15: 0 | M15: 13 | N15: 4 | O15: 198 | P15: 1 | Q15: 0 | R15: 0 | S15: 0 | T15: 49 | U15: 5 | V15: 5 | W15: 181 | X15: 0 | Y15: 5 | Z15: 8 | AA15: 0 | AB15: 0 | AC15: 0 | AD15: 220
A16: 新竹縣 | B16: Hsinchu County | C16: 1782 | D16: 1081 | E16: 8 | F16: 30 | G16: 102 | H16: 1 | I16: 3 | J16: 1 | K16: 100 | L16: 0 | M16: 6 | N16: 4 | O16: 250 | P16: 0 | Q16: 0 | R16: 0 | S16: 0 | T16: 34 | U16: 0 | V16: 3 | W16: 15 | X16: 8 | Y16: 0 | Z16: 21 | AA16: 0 | AB16: 0 | AC16: 0 | AD16: 115
A17: 苗栗縣 | B17: Miaoli County | C17: 5196 | D17: 3981 | E17: 18 | F17: 231 | G17: 94 | H17: 3 | I17: 7 | J17: 2 | K17: 182 | L17: 0 | M17: 11 | N17: 82 | O17: 90 | P17: 0 | Q17: 1 | R17: 0 | S17: 0 | T17: 42 | U17: 16 | V17: 5 | W17: 120 | X17: 8 | Y17: 0 | Z17: 20 | AA17: 0 | AB17: 0 | AC17: 4 | AD17: 279
A18: 彰化縣 | B18: Changhua County | C18: 9586 | D18: 6118 | E18: 13 | F18: 211 | G18: 917 | H18: 0 | I18: 146 | J18: 5 | K18: 334 | L18: 0 | M18: 65 | N18: 293 | O18: 194 | P18: 7 | Q18: 0 | R18: 0 | S18: 7 | T18: 90 | U18: 0 | V18: 20 | W18: 231 | X18: 1 | Y18: 5 | Z18: 6 | AA18: 1 | AB18: 0 | AC18: 5 | AD18: 917
A19: 南投縣 | B19: Nantou County | C19: 3629 | D19: 2147 | E19: 28 | F19: 172 | G19: 318 | H19: 0 | I19: 20 | J19: 3 | K19: 268 | L19: 1 | M19: 7 | N19: 17 | O19: 300 | P19: 1 | Q19: 0 | R19: 2 | S19: 1 | T19: 17 | U19: 4 | V19: 1 | W19: 40 | X19: 6 | Y19: 0 | Z19: 4 | AA19: 0 | AB19: 0 | AC19: 3 | AD19: 269
... A30: 連江縣 | B30: Lienchiang County | C30: 46 | D30: 24 | E30: 0 | F30: 2 | G30: 11 | H30: 0 | I30: 0 | J30: 0 | K30: 0 | L30: 0 | M30: 0 | N30: 0 | O30: 6 | P30: 0 | Q30: 0 | R30: 0 | S30: 0 | T30: 1 | U30: 1 | V30: 0 | W30: 1 | X30: 0 | Y30: 0 | Z30: 0 | AA30: 0 | AB30: 0 | AC30: 0 | AD30: 0
A31: 資料來源：各直轄市、縣市政府。
A34: 更新日期：2023/3/31

Sheet 2021
