Workbook

Sheet 歷年
A1: 兒童少年保護-結(轉)案情形Status of Case Closure/Referral
A2: 單位：人；案數 Unit : Persons;Cases
A3: 年別 Year | B3: 結案情形Status of Case Closure/Referral
B4: 結案人數 Number of Persons in The Cases Closed/Referred | C4: 結案原因 Reason for The Cases Closed/Referred
C5: 受虐原因消失 Absence of Causes of Abuse | D5: 結束安置返家且列入追蹤輔導計畫 Returning Home after The End of Placement | E5: 案家搬遷/ 案件屬他轄 Relocation of the Parties Concerned/Outside of Jurisdiction | F5: 個案死亡 Deceased | G5: 個案出養 Adopted | H5: 其他 Others
A7: 108年, 2019 | B7: ='2019'!C8 -> 6337 | C7: ='2019'!D8 -> 3827 | D7: ='2019'!E8 -> 225 | E7: ='2019'!F8 -> 645 | F7: ='2019'!G8 -> 42 | G7: ='2019'!H8 -> 106 | H7: ='2019'!I8 -> 1508
A8: 109年, 2020 | B8: ='2020'!C8 -> 5641 | C8: ='2020'!D8 -> 4165 | D8: ='2020'!E8 -> 390 | E8: ='2020'!F8 -> 767 | F8: ='2020'!G8 -> 51 | G8: ='2020'!H8 -> 103 | H8: ='2020'!I8 -> 165
A9: 110年, 2021 | B9: ='2021'!C8 -> 5850 | C9: ='2021'!D8 -> 3712 | D9: ='2021'!E8 -> 425 | E9: ='2021'!F8 -> 657 | F9: ='2021'!G8 -> 40 | G9: ='2021'!H8 -> 86 | H9: ='2021'!I8 -> 946
A10: 111年, 2022 | B10: ='2022'!C8 -> 6637 | C10: ='2022'!D8 -> 4102 | D10: ='2022'!E8 -> 454 | E10: ='2022'!F8 -> 612 | F10: ='2022'!G8 -> 61 | G10: ='2022'!H8 -> 115 | H10: ='2022'!I8 -> 1293
A11: 112年, 2023 | B11: ='2023'!C8 -> 6329 | C11: ='2023'!D8 -> 3818 | D11: ='2023'!E8 -> 433 | E11: ='2023'!F8 -> 681 | F11: ='2023'!G8 -> 47 | G11: ='2023'!H8 -> 80 | H11: ='2023'!I8 -> 1270
A12: 113年, 2024 | B12: ='2024'!C8 -> 8087 | C12: ='2024'!D8 -> 4795 | D12: ='2024'!E8 -> 438 | E12: ='2024'!F8 -> 637 | F12: ='2024'!G8 -> 56 | G12: ='2024'!H8 -> 86 | H12: ='2024'!I8 -> 2075
A13: 114年, 2025 | B13: ='2025'!C8 -> 8149 | C13: ='2025'!D8 -> 4873 | D13: ='2025'!E8 -> 379 | E13: ='2025'!F8 -> 526 | F13: ='2025'!G8 -> 48 | G13: ='2025'!H8 -> 70 | H13: ='2025'!I8 -> 2253
A14: 上半年, Jan.-June | B14: ='Jan.-June, 2025'!C8 -> 3855 | C14: ='Jan.-June, 2025'!D8 -> 2324 | D14: ='Jan.-June, 2025'!E8 -> 180 | E14: ='Jan.-June, 2025'!F8 -> 256 | F14: ='Jan.-June, 2025'!G8 -> 35 | G14: ='Jan.-June, 2025'!H8 -> 36 | H14: ='Jan.-June, 2025'!I8 -> 1024
A15: 下半年, July-Dec. | B15: ='July-Dec., 2025'!C8 -> 4294 | C15: ='July-Dec., 2025'!D8 -> 2549 | D15: ='July-Dec., 2025'!E8 -> 199 | E15: ='July-Dec., 2025'!F8 -> 270 | F15: ='July-Dec., 2025'!G8 -> 13 | G15: ='July-Dec., 2025'!H8 -> 34 | H15: ='July-Dec., 2025'!I8 -> 1229
A16: 115年, 2026
A17: 上半年, Jan.-June | B17: ='Jan.-June, 2026'!C8 -> 3708 | C17: ='Jan.-June, 2026'!D8 -> 2233 | D17: ='Jan.-June, 2026'!E8 -> 132 | E17: ='Jan.-June, 2026'!F8 -> 237 | F17: ='Jan.-June, 2026'!G8 -> 23 | G17: ='Jan.-June, 2026'!H8 -> 26 | H17: ='Jan.-June, 2026'!I8 -> 1057
A18: 下半年, July-Dec. | B18: ='July-Dec., 2026'!C8 -> 0 | C18: ='July-Dec., 2026'!D8 -> 0 | D18: ='July-Dec., 2026'!E8 -> 0 | E18: ='July-Dec., 2026'!F8 -> 0 | F18: ='July-Dec., 2026'!G8 -> 0 | G18: ='July-Dec., 2026'!H8 -> 0 | H18: ='July-Dec., 2026'!I8 -> 0
A19: 資料來源：各直轄市、縣市政府。
A20: 說明：「個案死亡」係指服務中之兒少因疾病、意外、受虐等因素致死，因家中已無手足或無其他服務需求，故辦理結案。
A21: Source: County and Government.
A22: 更新日期：2026/09/30
B23: =IF(B13=SUM(B14:B15),"","*") | C23: =IF(C13=SUM(C14:C15),"","*") | D23: =IF(D13=SUM(D14:D15),"","*") | E23: =IF(E13=SUM(E14:E15),"","*") | F23: =IF(F13=SUM(F14:F15),"","*") | G23: =IF(G13=SUM(G14:G15),"","*") | H23: =IF(H13=SUM(H14:H15),"","*")

Sheet 2026
A1: 兒童少年保護-結(轉)案情形Status of Case Closure/Referral
A2: 單位：人；案數 Unit : Persons;Cases
A3: 民國115年, 2026 | C3: =IF(C8=SUM(C9:C30),"","*") | D3: =IF(D8=SUM(D9:D30),"","*") | E3: =IF(E8=SUM(E9:E30),"","*") | F3: =IF(F8=SUM(F9:F30),"","*") | G3: =IF(G8=SUM(G9:G30),"","*") | H3: =IF(H8=SUM(H9:H30),"","*") | I3: =IF(I8=SUM(I9:I30),"","*")
A4: 區域別 Locality | C4: 結案情形Status of Case Closure/Referral
C5: 結案人數 Number of Persons in The Cases Closed/Referred | D5: 結案原因 Reason for The Cases Closed/Referred
D6: 受虐原因消失 Absence of Causes of Abuse | E6: 結束安置返家且列入追蹤輔導計畫 Returning Home after The End of Placement | F6: 案家搬遷/ 案件屬他轄 Relocation of the Parties Concerned/Outside of Jurisdiction | G6: 個案死亡 Deceased | H6: 個案出養 Adopted | I6: 其他 Others
A8: 總計 | B8: Total
A9: 新北市 | B9: New Taipei City
A10: 臺北市 | B10: Taipei City
A11: 桃園市 | B11: Taoyuan City
A12: 臺中市 | B12: Taichung City
A13: 臺南市 | B13: Tainan City
A14: 高雄市 | B14: Kaohsiung City
A15: 宜蘭縣 | B15: Yilan County
A16: 新竹縣 | B16: Hsinchu County
A17: 苗栗縣 | B17: Miaoli County
A18: 彰化縣 | B18: Changhua County
A19: 南投縣 | B19: Nantou County
... A30: 連江縣 | B30: Lienchiang County
A31: 資料來源：各直轄市、縣市政府。
A32: 說明：「個案死亡」係指服務中之兒少因疾病、意外、受虐等因素致死，因家中已無手足或無其他服務需求，故辦理結案。
A33: Source: County and Government.

Sheet July-Dec., 2026
A1: 兒童少年保護-結(轉)案情形Status of Case Closure/Referral
A2: 單位：人；案數 Unit : Persons;Cases
A3: 民國115年7-12月 July-Dec., 2026 | C3: =IF(C8=SUM(C9:C30),"","*") | D3: =IF(D8=SUM(D9:D30),"","*") | E3: =IF(E8=SUM(E9:E30),"","*") | F3: =IF(F8=SUM(F9:F30),"","*") | G3: =IF(G8=SUM(G9:G30),"","*") | H3: =IF(H8=SUM(H9:H30),"","*") | I3: =IF(I8=SUM(I9:I30),"","*")
A4: 區域別 Locality | C4: 結案情形Status of Case Closure/Referral
C5: 結案人數 Number of Persons in The Cases Closed/Referred | D5: 結案原因 Reason for The Cases Closed/Referred
D6: 受虐原因消失 Absence of Causes of Abuse | E6: 結束安置返家且列入追蹤輔導計畫 Returning Home after The End of Placement | F6: 案家搬遷/ 案件屬他轄 Relocation of the Parties Concerned/Outside of Jurisdiction | G6: 個案死亡 Deceased | H6: 個案出養 Adopted | I6: 其他 Others
A8: 總計 | B8: Total
A9: 新北市 | B9: New Taipei City
A10: 臺北市 | B10: Taipei City
A11: 桃園市 | B11: Taoyuan City
A12: 臺中市 | B12: Taichung City
A13: 臺南市 | B13: Tainan City
A14: 高雄市 | B14: Kaohsiung City
A15: 宜蘭縣 | B15: Yilan County
A16: 新竹縣 | B16: Hsinchu County
A17: 苗栗縣 | B17: Miaoli County
A18: 彰化縣 | B18: Changhua County
A19: 南投縣 | B19: Nantou County
... A30: 連江縣 | B30: Lienchiang County
A31: 資料來源：各直轄市、縣市政府。
A32: 說明：「個案死亡」係指服務中之兒少因疾病、意外、受虐等因素致死，因家中已無手足或無其他服務需求，故辦理結案。
A33: Source: County and Government.

Sheet Jan.-June, 2026
A1: 兒童少年保護-結(轉)案情形Status of Case Closure/Referral
A2: 單位：人；案數 Unit : Persons;Cases
A3: 民國115年1-6月 Jan.-June, 2026 | C3: =IF(C8=SUM(C9:C30),"","*") | D3: =IF(D8=SUM(D9:D30),"","*") | E3: =IF(E8=SUM(E9:E30),"","*") | F3: =IF(F8=SUM(F9:F30),"","*") | G3: =IF(G8=SUM(G9:G30),"","*") | H3: =IF(H8=SUM(H9:H30),"","*") | I3: =IF(I8=SUM(I9:I30),"","*")
A4: 區域別 Locality | C4: 結案情形Status of Case Closure/Referral
C5: 結案人數 Number of Persons in The Cases Closed/Referred | D5: 結案原因 Reason for The Cases Closed/Referred
D6: 受虐原因消失 Absence of Causes of Abuse | E6: 結束安置返家且列入追蹤輔導計畫 Returning Home after The End of Placement | F6: 案家搬遷/ 案件屬他轄 Relocation of the Parties Concerned/Outside of Jurisdiction | G6: 個案死亡 Deceased | H6: 個案出養 Adopted | I6: 其他 Others
A8: 總計 | B8: Total | C8: 3708 | D8: 2233 | E8: 132 | F8: 237 | G8: 23 | H8: 26 | I8: 1057
A9: 新北市 | B9: New Taipei City | C9: 533 | D9: 381 | E9: 20 | F9: 40 | G9: 2 | H9: 5 | I9: 85
A10: 臺北市 | B10: Taipei City | C10: 756 | D10: 247 | E10: 12 | F10: 27 | G10: 3 | H10: 0 | I10: 467
A11: 桃園市 | B11: Taoyuan City | C11: 317 | D11: 195 | E11: 11 | F11: 19 | G11: 1 | H11: 3 | I11: 88
A12: 臺中市 | B12: Taichung City | C12: 534 | D12: 439 | E12: 16 | F12: 33 | G12: 4 | H12: 4 | I12: 38
A13: 臺南市 | B13: Tainan City | C13: 292 | D13: 84 | E13: 8 | F13: 17 | G13: 2 | H13: 3 | I13: 178
A14: 高雄市 | B14: Kaohsiung City | C14: 475 | D14: 368 | E14: 19 | F14: 18 | G14: 5 | H14: 2 | I14: 63
A15: 宜蘭縣 | B15: Yilan County | C15: 32 | D15: 23 | E15: 0 | F15: 3 | G15: 0 | H15: 0 | I15: 6
A16: 新竹縣 | B16: Hsinchu County | C16: 50 | D16: 37 | E16: 2 | F16: 6 | G16: 2 | H16: 1 | I16: 2
A17: 苗栗縣 | B17: Miaoli County | C17: 65 | D17: 45 | E17: 5 | F17: 10 | G17: 0 | H17: 3 | I17: 2
A18: 彰化縣 | B18: Changhua County | C18: 87 | D18: 68 | E18: 4 | F18: 3 | G18: 1 | H18: 1 | I18: 10
A19: 南投縣 | B19: Nantou County | C19: 50 | D19: 25 | E19: 3 | F19: 7 | G19: 0 | H19: 0 | I19: 15
... A30: 連江縣 | B30: Lienchiang County | C30: 0 | D30: 0 | E30: 0 | F30: 0 | G30: 0 | H30: 0 | I30: 0
A31: 資料來源：各直轄市、縣市政府。
A32: 說明：「個案死亡」係指服務中之兒少因疾病、意外、受虐等因素致死，因家中已無手足或無其他服務需求，故辦理結案。
A33: Source: County and Government.
A37: 總計 | B37: Total | C37: 3855 | D37: 2324 | E37: 180 | F37: 256 | G37: 35 | H37: 36 | I37: 1024
A38: 新北市 | B38: New Taipei City | C38: 513 | D38: 379 | E38: 25 | F38: 42 | G38: 1 | H38: 3 | I38: 63
A39: 臺北市 | B39: Taipei City | C39: 783 | D39: 303 | E39: 8 | F39: 40 | G39: 2 | H39: 5 | I39: 425
A40: 桃園市 | B40: Taoyuan City | C40: 417 | D40: 256 | E40: 20 | F40: 25 | G40: 1 | H40: 9 | I40: 106
A41: 臺中市 | B41: Taichung City | C41: 528 | D41: 414 | E41: 33 | F41: 36 | G41: 10 | H41: 4 | I41: 31
A42: 臺南市 | B42: Tainan City | C42: 307 | D42: 121 | E42: 7 | F42: 12 | G42: 5 | H42: 3 | I42: 159
A43: 高雄市 | B43: Kaohsiung City | C43: 466 | D43: 329 | E43: 18 | F43: 15 | G43: 7 | H43: 5 | I43: 92
A44: 宜蘭縣 | B44: Yilan County | C44: 66 | D44: 35 | E44: 1 | F44: 3 | G44: 0 | H44: 0 | I44: 27
A45: 新竹縣 | B45: Hsinchu County | C45: 44 | D45: 29 | E45: 7 | F45: 4 | G45: 0 | H45: 0 | I45: 4
A46: 苗栗縣 | B46: Miaoli County | C46: 53 | D46: 27 | E46: 10 | F46: 7 | G46: 2 | H46: 1 | I46: 6
A47: 彰化縣 | B47: Changhua County | C47: 98 | D47: 69 | E47: 4 | F47: 14 | G47: 0 | H47: 0 | I47: 11
A48: 南投縣 | B48: Nantou County | C48: 54 | D48: 33 | E48: 7 | F48: 4 | G48: 0 | H48: 1 | I48: 9
... A59: 連江縣 | B59: Lienchiang County | C59: 0 | D59: 0 | E59: 0 | F59: 0 | G59: 0 | H59: 0 | I59: 0
A61: 總計 | B61: Total | C61: =IF(C37=C8,"","*") -> * | D61: =IF(D37=D8,"","*") -> * | E61: =IF(E37=E8,"","*") -> * | F61: =IF(F37=F8,"","*") -> * | G61: =IF(G37=G8,"","*") -> * | H61: =IF(H37=H8,"","*") -> * | I61: =IF(I37=I8,"","*") -> *
A62: 新北市 | B62: New Taipei City | C62: =IF(C38=C9,"","*") -> * | D62: =IF(D38=D9,"","*") -> * | E62: =IF(E38=E9,"","*") -> * | F62: =IF(F38=F9,"","*") -> * | G62: =IF(G38=G9,"","*") -> * | H62: =IF(H38=H9,"","*") -> * | I62: =IF(I38=I9,"","*") -> *
A63: 臺北市 | B63: Taipei City | C63: =IF(C39=C10,"","*") -> * | D63: =IF(D39=D10,"","*") -> * | E63: =IF(E39=E10,"","*") -> * | F63: =IF(F39=F10,"","*") -> * | G63: =IF(G39=G10,"","*") -> * | H63: =IF(H39=H10,"","*") -> * | I63: =IF(I39=I10,"","*") -> *
A64: 桃園市 | B64: Taoyuan City | C64: =IF(C40=C11,"","*") -> * | D64: =IF(D40=D11,"","*") -> * | E64: =IF(E40=E11,"","*") -> * | F64: =IF(F40=F11,"","*") -> * | G64: =IF(G40=G11,"","*") | H64: =IF(H40=H11,"","*") -> * | I64: =IF(I40=I11,"","*") -> *
A65: 臺中市 | B65: Taichung City | C65: =IF(C41=C12,"","*") -> * | D65: =IF(D41=D12,"","*") -> * | E65: =IF(E41=E12,"","*") -> * | F65: =IF(F41=F12,"","*") -> * | G65: =IF(G41=G12,"","*") -> * | H65: =IF(H41=H12,"","*") | I65: =IF(I41=I12,"","*") -> *
A66: 臺南市 | B66: Tainan City | C66: =IF(C42=C13,"","*") -> * | D66: =IF(D42=D13,"","*") -> * | E66: =IF(E42=E13,"","*") -> * | F66: =IF(F42=F13,"","*") -> * | G66: =IF(G42=G13,"","*") -> * | H66: =IF(H42=H13,"","*") | I66: =IF(I42=I13,"","*") -> *
A67: 高雄市 | B67: Kaohsiung City | C67: =IF(C43=C14,"","*") -> * | D67: =IF(D43=D14,"","*") -> * | E67: =IF(E43=E14,"","*") -> * | F67: =IF(F43=F14,"","*") -> * | G67: =IF(G43=G14,"","*") -> * | H67: =IF(H43=H14,"","*") -> * | I67: =IF(I43=I14,"","*") -> *
A68: 宜蘭縣 | B68: Yilan County | C68: =IF(C44=C15,"","*") -> * | D68: =IF(D44=D15,"","*") -> * | E68: =IF(E44=E15,"","*") -> * | F68: =IF(F44=F15,"","*") | G68: =IF(G44=G15,"","*") | H68: =IF(H44=H15,"","*") | I68: =IF(I44=I15,"","*") -> *
A69: 新竹縣 | B69: Hsinchu County | C69: =IF(C45=C16,"","*") -> * | D69: =IF(D45=D16,"","*") -> * | E69: =IF(E45=E16,"","*") -> * | F69: =IF(F45=F16,"","*") -> * | G69: =IF(G45=G16,"","*") -> * | H69: =IF(H45=H16,"","*") -> * | I69: =IF(I45=I16,"","*") -> *
A70: 苗栗縣 | B70: Miaoli County | C70: =IF(C46=C17,"","*") -> * | D70: =IF(D46=D17,"","*") -> * | E70: =IF(E46=E17,"","*") -> * | F70: =IF(F46=F17,"","*") -> * | G70: =IF(G46=G17,"","*") -> * | H70: =IF(H46=H17,"","*") -> * | I70: =IF(I46=I17,"","*") -> *
A71: 彰化縣 | B71: Changhua County | C71: =IF(C47=C18,"","*") -> * | D71: =IF(D47=D18,"","*") -> * | E71: =IF(E47=E18,"","*") | F71: =IF(F47=F18,"","*") -> * | G71: =IF(G47=G18,"","*") -> * | H71: =IF(H47=H18,"","*") -> * | I71: =IF(I47=I18,"","*") -> *
A72: 南投縣 | B72: Nantou County | C72: =IF(C48=C19,"","*") -> * | D72: =IF(D48=D19,"","*") -> * | E72: =IF(E48=E19,"","*") -> * | F72: =IF(F48=F19,"","*") -> * | G72: =IF(G48=G19,"","*") | H72: =IF(H48=H19,"","*") -> * | I72: =IF(I48=I19,"","*") -> *
... A83: 連江縣 | B83: Lienchiang County | C83: =IF(C59=C30,"","*") | D83: =IF(D59=D30,"","*") | E83: =IF(E59=E30,"","*") | F83: =IF(F59=F30,"","*") | G83: =IF(G59=G30,"","*") | H83: =IF(H59=H30,"","*") | I83: =IF(I59=I30,"","*")

Sheet 2025
A1: 兒童少年保護-結(轉)案情形Status of Case Closure/Referral
A2: 單位：人；案數 Unit : Persons;Cases
A3: 民國114年, 2025 | C3: =IF(C8=SUM(C9:C30),"","*") | D3: =IF(D8=SUM(D9:D30),"","*") | E3: =IF(E8=SUM(E9:E30),"","*") | F3: =IF(F8=SUM(F9:F30),"","*") | G3: =IF(G8=SUM(G9:G30),"","*") | H3: =IF(H8=SUM(H9:H30),"","*") | I3: =IF(I8=SUM(I9:I30),"","*")
A4: 區域別 Locality | C4: 結案情形Status of Case Closure/Referral
C5: 結案人數 Number of Persons in The Cases Closed/Referred | D5: 結案原因 Reason for The Cases Closed/Referred
D6: 受虐原因消失 Absence of Causes of Abuse | E6: 結束安置返家且列入追蹤輔導計畫 Returning Home after The End of Placement | F6: 案家搬遷/ 案件屬他轄 Relocation of the Parties Concerned/Outside of Jurisdiction | G6: 個案死亡 Deceased | H6: 個案出養 Adopted | I6: 其他 Others
A8: 總計 | B8: Total | C8: 8149 | D8: 4873 | E8: 379 | F8: 526 | G8: 48 | H8: 70 | I8: 2253
A9: 新北市 | B9: New Taipei City | C9: 1057 | D9: 764 | E9: 46 | F9: 89 | G9: 4 | H9: 5 | I9: 149
A10: 臺北市 | B10: Taipei City | C10: 1706 | D10: 621 | E10: 19 | F10: 74 | G10: 4 | H10: 5 | I10: 983
A11: 桃園市 | B11: Taoyuan City | C11: 809 | D11: 508 | E11: 40 | F11: 42 | G11: 1 | H11: 19 | I11: 199
A12: 臺中市 | B12: Taichung City | C12: 1103 | D12: 908 | E12: 50 | F12: 70 | G12: 12 | H12: 5 | I12: 58
A13: 臺南市 | B13: Tainan City | C13: 598 | D13: 239 | E13: 18 | F13: 24 | G13: 5 | H13: 7 | I13: 305
A14: 高雄市 | B14: Kaohsiung City | C14: 1072 | D14: 743 | E14: 46 | F14: 42 | G14: 9 | H14: 13 | I14: 219
A15: 宜蘭縣 | B15: Yilan County | C15: 123 | D15: 74 | E15: 4 | F15: 8 | G15: 0 | H15: 0 | I15: 37
A16: 新竹縣 | B16: Hsinchu County | C16: 90 | D16: 60 | E16: 13 | F16: 9 | G16: 0 | H16: 1 | I16: 7
A17: 苗栗縣 | B17: Miaoli County | C17: 111 | D17: 56 | E17: 17 | F17: 14 | G17: 2 | H17: 2 | I17: 20
A18: 彰化縣 | B18: Changhua County | C18: 221 | D18: 153 | E18: 9 | F18: 27 | G18: 2 | H18: 1 | I18: 29
A19: 南投縣 | B19: Nantou County | C19: 131 | D19: 75 | E19: 9 | F19: 11 | G19: 0 | H19: 1 | I19: 35
... A30: 連江縣 | B30: Lienchiang County | C30: 4 | D30: 4 | E30: 0 | F30: 0 | G30: 0 | H30: 0 | I30: 0
A31: 資料來源：各直轄市、縣市政府。
A32: 說明：「個案死亡」係指服務中之兒少因疾病、意外、受虐等因素致死，因家中已無手足或無其他服務需求，故辦理結案。
A33: Source: County and Government.

Sheet July-Dec., 2025
A1: 兒童少年保護-結(轉)案情形Status of Case Closure/Referral
A2: 單位：人；案數 Unit : Persons;Cases
A3: 民國114年7-12月 July-Dec., 2025 | C3: =IF(C8=SUM(C9:C30),"","*") | D3: =IF(D8=SUM(D9:D30),"","*") | E3: =IF(E8=SUM(E9:E30),"","*") | F3: =IF(F8=SUM(F9:F30),"","*") | G3: =IF(G8=SUM(G9:G30),"","*") | H3: =IF(H8=SUM(H9:H30),"","*") | I3: =IF(I8=SUM(I9:I30),"","*")
A4: 區域別 Locality | C4: 結案情形Status of Case Closure/Referral
C5: 結案人數 Number of Persons in The Cases Closed/Referred | D5: 結案原因 Reason for The Cases Closed/Referred
D6: 受虐原因消失 Absence of Causes of Abuse | E6: 結束安置返家且列入追蹤輔導計畫 Returning Home after The End of Placement | F6: 案家搬遷/ 案件屬他轄 Relocation of the Parties Concerned/Outside of Jurisdiction | G6: 個案死亡 Deceased | H6: 個案出養 Adopted | I6: 其他 Others
A8: 總計 | B8: Total | C8: 4294 | D8: 2549 | E8: 199 | F8: 270 | G8: 13 | H8: 34 | I8: 1229
A9: 新北市 | B9: New Taipei City | C9: 544 | D9: 385 | E9: 21 | F9: 47 | G9: 3 | H9: 2 | I9: 86
A10: 臺北市 | B10: Taipei City | C10: 923 | D10: 318 | E10: 11 | F10: 34 | G10: 2 | H10: 0 | I10: 558
A11: 桃園市 | B11: Taoyuan City | C11: 392 | D11: 252 | E11: 20 | F11: 17 | G11: 0 | H11: 10 | I11: 93
A12: 臺中市 | B12: Taichung City | C12: 575 | D12: 494 | E12: 17 | F12: 34 | G12: 2 | H12: 1 | I12: 27
A13: 臺南市 | B13: Tainan City | C13: 291 | D13: 118 | E13: 11 | F13: 12 | G13: 0 | H13: 4 | I13: 146
A14: 高雄市 | B14: Kaohsiung City | C14: 606 | D14: 414 | E14: 28 | F14: 27 | G14: 2 | H14: 8 | I14: 127
A15: 宜蘭縣 | B15: Yilan County | C15: 57 | D15: 39 | E15: 3 | F15: 5 | G15: 0 | H15: 0 | I15: 10
A16: 新竹縣 | B16: Hsinchu County | C16: 46 | D16: 31 | E16: 6 | F16: 5 | G16: 0 | H16: 1 | I16: 3
A17: 苗栗縣 | B17: Miaoli County | C17: 58 | D17: 29 | E17: 7 | F17: 7 | G17: 0 | H17: 1 | I17: 14
A18: 彰化縣 | B18: Changhua County | C18: 123 | D18: 84 | E18: 5 | F18: 13 | G18: 2 | H18: 1 | I18: 18
A19: 南投縣 | B19: Nantou County | C19: 77 | D19: 42 | E19: 2 | F19: 7 | G19: 0 | H19: 0 | I19: 26
... A30: 連江縣 | B30: Lienchiang County | C30: 4 | D30: 4 | E30: 0 | F30: 0 | G30: 0 | H30: 0 | I30: 0
A31: 資料來源：各直轄市、縣市政府。
A32: 說明：「個案死亡」係指服務中之兒少因疾病、意外、受虐等因素致死，因家中已無手足或無其他服務需求，故辦理結案。
A33: Source: County and Government.

Sheet Jan.-June, 2025
A1: 兒童少年保護-結(轉)案情形Status of Case Closure/Referral
A2: 單位：人；案數 Unit : Persons;Cases
A3: 民國114年1-6月 Jan.-June, 2025 | C3: =IF(C8=SUM(C9:C30),"","*") | D3: =IF(D8=SUM(D9:D30),"","*") | E3: =IF(E8=SUM(E9:E30),"","*") | F3: =IF(F8=SUM(F9:F30),"","*") | G3: =IF(G8=SUM(G9:G30),"","*") | H3: =IF(H8=SUM(H9:H30),"","*") | I3: =IF(I8=SUM(I9:I30),"","*")
A4: 區域別 Locality | C4: 結案情形Status of Case Closure/Referral
C5: 結案人數 Number of Persons in The Cases Closed/Referred | D5: 結案原因 Reason for The Cases Closed/Referred
D6: 受虐原因消失 Absence of Causes of Abuse | E6: 結束安置返家且列入追蹤輔導計畫 Returning Home after The End of Placement | F6: 案家搬遷/ 案件屬他轄 Relocation of the Parties Concerned/Outside of Jurisdiction | G6: 個案死亡 Deceased | H6: 個案出養 Adopted | I6: 其他 Others
A8: 總計 | B8: Total | C8: 3855 | D8: 2324 | E8: 180 | F8: 256 | G8: 35 | H8: 36 | I8: 1024
A9: 新北市 | B9: New Taipei City | C9: 513 | D9: 379 | E9: 25 | F9: 42 | G9: 1 | H9: 3 | I9: 63
A10: 臺北市 | B10: Taipei City | C10: 783 | D10: 303 | E10: 8 | F10: 40 | G10: 2 | H10: 5 | I10: 425
A11: 桃園市 | B11: Taoyuan City | C11: 417 | D11: 256 | E11: 20 | F11: 25 | G11: 1 | H11: 9 | I11: 106
A12: 臺中市 | B12: Taichung City | C12: 528 | D12: 414 | E12: 33 | F12: 36 | G12: 10 | H12: 4 | I12: 31
A13: 臺南市 | B13: Tainan City | C13: 307 | D13: 121 | E13: 7 | F13: 12 | G13: 5 | H13: 3 | I13: 159
A14: 高雄市 | B14: Kaohsiung City | C14: 466 | D14: 329 | E14: 18 | F14: 15 | G14: 7 | H14: 5 | I14: 92
A15: 宜蘭縣 | B15: Yilan County | C15: 66 | D15: 35 | E15: 1 | F15: 3 | G15: 0 | H15: 0 | I15: 27
A16: 新竹縣 | B16: Hsinchu County | C16: 44 | D16: 29 | E16: 7 | F16: 4 | G16: 0 | H16: 0 | I16: 4
A17: 苗栗縣 | B17: Miaoli County | C17: 53 | D17: 27 | E17: 10 | F17: 7 | G17: 2 | H17: 1 | I17: 6
A18: 彰化縣 | B18: Changhua County | C18: 98 | D18: 69 | E18: 4 | F18: 14 | G18: 0 | H18: 0 | I18: 11
A19: 南投縣 | B19: Nantou County | C19: 54 | D19: 33 | E19: 7 | F19: 4 | G19: 0 | H19: 1 | I19: 9
... A30: 連江縣 | B30: Lienchiang County | C30: 0 | D30: 0 | E30: 0 | F30: 0 | G30: 0 | H30: 0 | I30: 0
A31: 資料來源：各直轄市、縣市政府。
A32: 說明：「個案死亡」係指服務中之兒少因疾病、意外、受虐等因素致死，因家中已無手足或無其他服務需求，故辦理結案。
A33: Source: County and Government.
A37: 總計 | B37: Total | C37: 3855 | D37: 2324 | E37: 180 | F37: 256 | G37: 35 | H37: 36 | I37: 1024
A38: 新北市 | B38: New Taipei City | C38: 513 | D38: 379 | E38: 25 | F38: 42 | G38: 1 | H38: 3 | I38: 63
A39: 臺北市 | B39: Taipei City | C39: 783 | D39: 303 | E39: 8 | F39: 40 | G39: 2 | H39: 5 | I39: 425
A40: 桃園市 | B40: Taoyuan City | C40: 417 | D40: 256 | E40: 20 | F40: 25 | G40: 1 | H40: 9 | I40: 106
A41: 臺中市 | B41: Taichung City | C41: 528 | D41: 414 | E41: 33 | F41: 36 | G41: 10 | H41: 4 | I41: 31
A42: 臺南市 | B42: Tainan City | C42: 307 | D42: 121 | E42: 7 | F42: 12 | G42: 5 | H42: 3 | I42: 159
A43: 高雄市 | B43: Kaohsiung City | C43: 466 | D43: 329 | E43: 18 | F43: 15 | G43: 7 | H43: 5 | I43: 92
A44: 宜蘭縣 | B44: Yilan County | C44: 66 | D44: 35 | E44: 1 | F44: 3 | G44: 0 | H44: 0 | I44: 27
A45: 新竹縣 | B45: Hsinchu County | C45: 44 | D45: 29 | E45: 7 | F45: 4 | G45: 0 | H45: 0 | I45: 4
A46: 苗栗縣 | B46: Miaoli County | C46: 53 | D46: 27 | E46: 10 | F46: 7 | G46: 2 | H46: 1 | I46: 6
A47: 彰化縣 | B47: Changhua County | C47: 98 | D47: 69 | E47: 4 | F47: 14 | G47: 0 | H47: 0 | I47: 11
A48: 南投縣 | B48: Nantou County | C48: 54 | D48: 33 | E48: 7 | F48: 4 | G48: 0 | H48: 1 | I48: 9
... A59: 連江縣 | B59: Lienchiang County | C59: 0 | D59: 0 | E59: 0 | F59: 0 | G59: 0 | H59: 0 | I59: 0
A61: 總計 | B61: Total | C61: =IF(C37=C8,"","*") | D61: =IF(D37=D8,"","*") | E61: =IF(E37=E8,"","*") | F61: =IF(F37=F8,"","*") | G61: =IF(G37=G8,"","*") | H61: =IF(H37=H8,"","*") | I61: =IF(I37=I8,"","*")
A62: 新北市 | B62: New Taipei City | C62: =IF(C38=C9,"","*") | D62: =IF(D38=D9,"","*") | E62: =IF(E38=E9,"","*") | F62: =IF(F38=F9,"","*") | G62: =IF(G38=G9,"","*") | H62: =IF(H38=H9,"","*") | I62: =IF(I38=I9,"","*")
A63: 臺北市 | B63: Taipei City | C63: =IF(C39=C10,"","*") | D63: =IF(D39=D10,"","*") | E63: =IF(E39=E10,"","*") | F63: =IF(F39=F10,"","*") | G63: =IF(G39=G10,"","*") | H63: =IF(H39=H10,"","*") | I63: =IF(I39=I10,"","*")
A64: 桃園市 | B64: Taoyuan City | C64: =IF(C40=C11,"","*") | D64: =IF(D40=D11,"","*") | E64: =IF(E40=E11,"","*") | F64: =IF(F40=F11,"","*") | G64: =IF(G40=G11,"","*") | H64: =IF(H40=H11,"","*") | I64: =IF(I40=I11,"","*")
A65: 臺中市 | B65: Taichung City | C65: =IF(C41=C12,"","*") | D65: =IF(D41=D12,"","*") | E65: =IF(E41=E12,"","*") | F65: =IF(F41=F12,"","*") | G65: =IF(G41=G12,"","*") | H65: =IF(H41=H12,"","*") | I65: =IF(I41=I12,"","*")
A66: 臺南市 | B66: Tainan City | C66: =IF(C42=C13,"","*") | D66: =IF(D42=D13,"","*") | E66: =IF(E42=E13,"","*") | F66: =IF(F42=F13,"","*") | G66: =IF(G42=G13,"","*") | H66: =IF(H42=H13,"","*") | I66: =IF(I42=I13,"","*")
A67: 高雄市 | B67: Kaohsiung City | C67: =IF(C43=C14,"","*") | D67: =IF(D43=D14,"","*") | E67: =IF(E43=E14,"","*") | F67: =IF(F43=F14,"","*") | G67: =IF(G43=G14,"","*") | H67: =IF(H43=H14,"","*") | I67: =IF(I43=I14,"","*")
A68: 宜蘭縣 | B68: Yilan County | C68: =IF(C44=C15,"","*") | D68: =IF(D44=D15,"","*") | E68: =IF(E44=E15,"","*") | F68: =IF(F44=F15,"","*") | G68: =IF(G44=G15,"","*") | H68: =IF(H44=H15,"","*") | I68: =IF(I44=I15,"","*")
A69: 新竹縣 | B69: Hsinchu County | C69: =IF(C45=C16,"","*") | D69: =IF(D45=D16,"","*") | E69: =IF(E45=E16,"","*") | F69: =IF(F45=F16,"","*") | G69: =IF(G45=G16,"","*") | H69: =IF(H45=H16,"","*") | I69: =IF(I45=I16,"","*")
A70: 苗栗縣 | B70: Miaoli County | C70: =IF(C46=C17,"","*") | D70: =IF(D46=D17,"","*") | E70: =IF(E46=E17,"","*") | F70: =IF(F46=F17,"","*") | G70: =IF(G46=G17,"","*") | H70: =IF(H46=H17,"","*") | I70: =IF(I46=I17,"","*")
A71: 彰化縣 | B71: Changhua County | C71: =IF(C47=C18,"","*") | D71: =IF(D47=D18,"","*") | E71: =IF(E47=E18,"","*") | F71: =IF(F47=F18,"","*") | G71: =IF(G47=G18,"","*") | H71: =IF(H47=H18,"","*") | I71: =IF(I47=I18,"","*")
A72: 南投縣 | B72: Nantou County | C72: =IF(C48=C19,"","*") | D72: =IF(D48=D19,"","*") | E72: =IF(E48=E19,"","*") | F72: =IF(F48=F19,"","*") | G72: =IF(G48=G19,"","*") | H72: =IF(H48=H19,"","*") | I72: =IF(I48=I19,"","*")
... A83: 連江縣 | B83: Lienchiang County | C83: =IF(C59=C30,"","*") | D83: =IF(D59=D30,"","*") | E83: =IF(E59=E30,"","*") | F83: =IF(F59=F30,"","*") | G83: =IF(G59=G30,"","*") | H83: =IF(H59=H30,"","*") | I83: =IF(I59=I30,"","*")

Sheet 2024
A1: 兒童少年保護-結(轉)案情形Status of Case Closure/Referral
A2: 單位：人；案數 Unit : Persons;Cases
A3: 民國113年, 2024 | C3: =IF(C8=SUM(C9:C30),"","*") | D3: =IF(D8=SUM(D9:D30),"","*") | E3: =IF(E8=SUM(E9:E30),"","*") | F3: =IF(F8=SUM(F9:F30),"","*") | G3: =IF(G8=SUM(G9:G30),"","*") | H3: =IF(H8=SUM(H9:H30),"","*") | I3: =IF(I8=SUM(I9:I30),"","*")
A4: 區域別 Locality | C4: 結案情形Status of Case Closure/Referral
C5: 結案人數 Number of Persons in The Cases Closed/Referred | D5: 結案原因 Reason for The Cases Closed/Referred
D6: 受虐原因消失 Absence of Causes of Abuse | E6: 結束安置返家且列入追蹤輔導計畫 Returning Home after The End of Placement | F6: 案家搬遷/ 案件屬他轄 Relocation of the Parties Concerned/Outside of Jurisdiction | G6: 個案死亡 Deceased | H6: 個案出養 Adopted | I6: 其他 Others
A8: 總計 | B8: Total | C8: 8087 | D8: 4795 | E8: 438 | F8: 637 | G8: 56 | H8: 86 | I8: 2075
A9: 新北市 | B9: New Taipei City | C9: 1147 | D9: 734 | E9: 79 | F9: 84 | G9: 12 | H9: 7 | I9: 231
A10: 臺北市 | B10: Taipei City | C10: 1598 | D10: 645 | E10: 34 | F10: 90 | G10: 8 | H10: 6 | I10: 815
A11: 桃園市 | B11: Taoyuan City | C11: 904 | D11: 582 | E11: 44 | F11: 68 | G11: 4 | H11: 21 | I11: 185
A12: 臺中市 | B12: Taichung City | C12: 1049 | D12: 809 | E12: 49 | F12: 87 | G12: 11 | H12: 5 | I12: 88
A13: 臺南市 | B13: Tainan City | C13: 492 | D13: 247 | E13: 17 | F13: 36 | G13: 6 | H13: 7 | I13: 179
A14: 高雄市 | B14: Kaohsiung City | C14: 957 | D14: 609 | E14: 61 | F14: 52 | G14: 2 | H14: 12 | I14: 221
A15: 宜蘭縣 | B15: Yilan County | C15: 127 | D15: 75 | E15: 5 | F15: 17 | G15: 0 | H15: 0 | I15: 30
A16: 新竹縣 | B16: Hsinchu County | C16: 107 | D16: 70 | E16: 9 | F16: 13 | G16: 1 | H16: 1 | I16: 13
A17: 苗栗縣 | B17: Miaoli County | C17: 94 | D17: 37 | E17: 13 | F17: 17 | G17: 1 | H17: 3 | I17: 23
A18: 彰化縣 | B18: Changhua County | C18: 255 | D18: 195 | E18: 12 | F18: 19 | G18: 0 | H18: 1 | I18: 28
A19: 南投縣 | B19: Nantou County | C19: 115 | D19: 75 | E19: 5 | F19: 15 | G19: 0 | H19: 0 | I19: 20
... A30: 連江縣 | B30: Lienchiang County | C30: 2 | D30: 2 | E30: 0 | F30: 0 | G30: 0 | H30: 0 | I30: 0
A31: 資料來源：各直轄市、縣市政府。
A32: 說明：「個案死亡」係指服務中之兒少因疾病、意外、受虐等因素致死，因家中已無手足或無其他服務需求，故辦理結案。
A33: Source: County and Government.

Sheet July-Dec., 2024
A1: 兒童少年保護-結(轉)案情形Status of Case Closure/Referral
A2: 單位：人；案數 Unit : Persons;Cases
A3: 民國113年7-12月, July-Dec., 2024 | C3: =IF(C8=SUM(C9:C30),"","*") | D3: =IF(D8=SUM(D9:D30),"","*") | E3: =IF(E8=SUM(E9:E30),"","*") | F3: =IF(F8=SUM(F9:F30),"","*") | G3: =IF(G8=SUM(G9:G30),"","*") | H3: =IF(H8=SUM(H9:H30),"","*") | I3: =IF(I8=SUM(I9:I30),"","*")
A4: 區域別 Locality | C4: 結案情形Status of Case Closure/Referral
C5: 結案人數 Number of Persons in The Cases Closed/Referred | D5: 結案原因 Reason for The Cases Closed/Referred
D6: 受虐原因消失 Absence of Causes of Abuse | E6: 結束安置返家且列入追蹤輔導計畫 Returning Home after The End of Placement | F6: 案家搬遷/ 案件屬他轄 Relocation of the Parties Concerned/Outside of Jurisdiction | G6: 個案死亡 Deceased | H6: 個案出養 Adopted | I6: 其他 Others
A8: 總計 | B8: Total | C8: 4535 | D8: 2653 | E8: 226 | F8: 328 | G8: 33 | H8: 37 | I8: 1258
A9: 新北市 | B9: New Taipei City | C9: 594 | D9: 397 | E9: 42 | F9: 34 | G9: 7 | H9: 2 | I9: 112
A10: 臺北市 | B10: Taipei City | C10: 986 | D10: 368 | E10: 20 | F10: 52 | G10: 7 | H10: 2 | I10: 537
A11: 桃園市 | B11: Taoyuan City | C11: 447 | D11: 292 | E11: 24 | F11: 32 | G11: 1 | H11: 12 | I11: 86
A12: 臺中市 | B12: Taichung City | C12: 576 | D12: 443 | E12: 32 | F12: 49 | G12: 6 | H12: 2 | I12: 44
A13: 臺南市 | B13: Tainan City | C13: 305 | D13: 132 | E13: 6 | F13: 14 | G13: 5 | H13: 1 | I13: 147
A14: 高雄市 | B14: Kaohsiung City | C14: 558 | D14: 353 | E14: 34 | F14: 32 | G14: 2 | H14: 3 | I14: 134
A15: 宜蘭縣 | B15: Yilan County | C15: 75 | D15: 51 | E15: 2 | F15: 10 | G15: 0 | H15: 0 | I15: 12
A16: 新竹縣 | B16: Hsinchu County | C16: 57 | D16: 36 | E16: 4 | F16: 9 | G16: 1 | H16: 0 | I16: 7
A17: 苗栗縣 | B17: Miaoli County | C17: 56 | D17: 24 | E17: 4 | F17: 11 | G17: 0 | H17: 1 | I17: 16
A18: 彰化縣 | B18: Changhua County | C18: 173 | D18: 142 | E18: 6 | F18: 7 | G18: 0 | H18: 1 | I18: 17
A19: 南投縣 | B19: Nantou County | C19: 73 | D19: 46 | E19: 2 | F19: 9 | G19: 0 | H19: 0 | I19: 16
... A30: 連江縣 | B30: Lienchiang County | C30: 2 | D30: 2 | E30: 0 | F30: 0 | G30: 0 | H30: 0 | I30: 0
A31: 資料來源：各直轄市、縣市政府。
A32: 說明：「個案死亡」係指服務中之兒少因疾病、意外、受虐等因素致死，因家中已無手足或無其他服務需求，故辦理結案。
A33: Source: County and Government.
A35: 更新日期：2025/03/31

Sheet Jan.-June, 2024
A1: 兒童少年保護-結(轉)案情形Status of Case Closure/Referral
A2: 單位：人；案數 Unit : Persons;Cases
A3: 民國113年1-6月,Jan.-June, 2024 | C3: =IF(C8=SUM(C9:C30),"","*") | D3: =IF(D8=SUM(D9:D30),"","*") | E3: =IF(E8=SUM(E9:E30),"","*") | F3: =IF(F8=SUM(F9:F30),"","*") | G3: =IF(G8=SUM(G9:G30),"","*") | H3: =IF(H8=SUM(H9:H30),"","*") | I3: =IF(I8=SUM(I9:I30),"","*")
A4: 區域別 Locality | C4: 結案情形Status of Case Closure/Referral
C5: 結案人數 Number of Persons in The Cases Closed/Referred | D5: 結案原因 Reason for The Cases Closed/Referred
D6: 受虐原因消失 Absence of Causes of Abuse | E6: 結束安置返家且列入追蹤輔導計畫 Returning Home after The End of Placement | F6: 案家搬遷/ 案件屬他轄 Relocation of the Parties Concerned/Outside of Jurisdiction | G6: 個案死亡 Deceased | H6: 個案出養 Adopted | I6: 其他 Others
A8: 總計 | B8: Total | C8: 3552 | D8: 2142 | E8: 212 | F8: 309 | G8: 23 | H8: 49 | I8: 817
A9: 新北市 | B9: New Taipei City | C9: 553 | D9: 337 | E9: 37 | F9: 50 | G9: 5 | H9: 5 | I9: 119
A10: 臺北市 | B10: Taipei City | C10: 612 | D10: 277 | E10: 14 | F10: 38 | G10: 1 | H10: 4 | I10: 278
A11: 桃園市 | B11: Taoyuan City | C11: 457 | D11: 290 | E11: 20 | F11: 36 | G11: 3 | H11: 9 | I11: 99
A12: 臺中市 | B12: Taichung City | C12: 473 | D12: 366 | E12: 17 | F12: 38 | G12: 5 | H12: 3 | I12: 44
A13: 臺南市 | B13: Tainan City | C13: 187 | D13: 115 | E13: 11 | F13: 22 | G13: 1 | H13: 6 | I13: 32
A14: 高雄市 | B14: Kaohsiung City | C14: 399 | D14: 256 | E14: 27 | F14: 20 | G14: 0 | H14: 9 | I14: 87
A15: 宜蘭縣 | B15: Yilan County | C15: 52 | D15: 24 | E15: 3 | F15: 7 | G15: 0 | H15: 0 | I15: 18
A16: 新竹縣 | B16: Hsinchu County | C16: 50 | D16: 34 | E16: 5 | F16: 4 | G16: 0 | H16: 1 | I16: 6
A17: 苗栗縣 | B17: Miaoli County | C17: 38 | D17: 13 | E17: 9 | F17: 6 | G17: 1 | H17: 2 | I17: 7
A18: 彰化縣 | B18: Changhua County | C18: 82 | D18: 53 | E18: 6 | F18: 12 | G18: 0 | H18: 0 | I18: 11
A19: 南投縣 | B19: Nantou County | C19: 42 | D19: 29 | E19: 3 | F19: 6 | G19: 0 | H19: 0 | I19: 4
... A30: 連江縣 | B30: Lienchiang County | C30: 0 | D30: 0 | E30: 0 | F30: 0 | G30: 0 | H30: 0 | I30: 0
A31: 資料來源：各直轄市、縣市政府。
A32: 說明：「個案死亡」係指服務中之兒少因疾病、意外、受虐等因素致死，因家中已無手足或無其他服務需求，故辦理結案。
A33: Source: County and Government.
A35: 更新日期：2024/09/30
A36: 總計 | B36: Total | C36: 3197 | D36: 2025 | E36: 197 | F36: 273 | G36: 26 | H36: 60 | I36: 615
A37: 新北市 | B37: New Taipei City | C37: 476 | D37: 328 | E37: 25 | F37: 38 | G37: 4 | H37: 3 | I37: 78
A38: 臺北市 | B38: Taipei City | C38: 361 | D38: 245 | E38: 12 | F38: 34 | G38: 1 | H38: 2 | I38: 67
A39: 桃園市 | B39: Taoyuan City | C39: 291 | D39: 167 | E39: 13 | F39: 32 | G39: 0 | H39: 8 | I39: 71
A40: 臺中市 | B40: Taichung City | C40: 572 | D40: 388 | E40: 21 | F40: 40 | G40: 6 | H40: 7 | I40: 110
A41: 臺南市 | B41: Tainan City | C41: 165 | D41: 112 | E41: 8 | F41: 15 | G41: 5 | H41: 2 | I41: 23
A42: 高雄市 | B42: Kaohsiung City | C42: 485 | D42: 337 | E42: 23 | F42: 19 | G42: 4 | H42: 11 | I42: 91
A43: 宜蘭縣 | B43: Yilan County | C43: 51 | D43: 19 | E43: 2 | F43: 1 | G43: 1 | H43: 1 | I43: 27
A44: 新竹縣 | B44: Hsinchu County | C44: 26 | D44: 16 | E44: 4 | F44: 3 | G44: 0 | H44: 1 | I44: 2
A45: 苗栗縣 | B45: Miaoli County | C45: 60 | D45: 32 | E45: 10 | F45: 7 | G45: 0 | H45: 2 | I45: 9
A46: 彰化縣 | B46: Changhua County | C46: 82 | D46: 50 | E46: 14 | F46: 4 | G46: 0 | H46: 2 | I46: 12
A47: 南投縣 | B47: Nantou County | C47: 59 | D47: 32 | E47: 4 | F47: 5 | G47: 0 | H47: 0 | I47: 17
... A58: 連江縣 | B58: Lienchiang County | C58: 0 | D58: 0 | E58: 0 | F58: 0 | G58: 0 | H58: 0 | I58: 0
A60: 總計 | B60: Total | C60: =IF(C36=C8,"","*") -> * | D60: =IF(D36=D8,"","*") -> * | E60: =IF(E36=E8,"","*") -> * | F60: =IF(F36=F8,"","*") -> * | G60: =IF(G36=G8,"","*") -> * | H60: =IF(H36=H8,"","*") -> * | I60: =IF(I36=I8,"","*") -> *
A61: 新北市 | B61: New Taipei City | C61: =IF(C37=C9,"","*") -> * | D61: =IF(D37=D9,"","*") -> * | E61: =IF(E37=E9,"","*") -> * | F61: =IF(F37=F9,"","*") -> * | G61: =IF(G37=G9,"","*") -> * | H61: =IF(H37=H9,"","*") -> * | I61: =IF(I37=I9,"","*") -> *
A62: 臺北市 | B62: Taipei City | C62: =IF(C38=C10,"","*") -> * | D62: =IF(D38=D10,"","*") -> * | E62: =IF(E38=E10,"","*") -> * | F62: =IF(F38=F10,"","*") -> * | G62: =IF(G38=G10,"","*") | H62: =IF(H38=H10,"","*") -> * | I62: =IF(I38=I10,"","*") -> *
A63: 桃園市 | B63: Taoyuan City | C63: =IF(C39=C11,"","*") -> * | D63: =IF(D39=D11,"","*") -> * | E63: =IF(E39=E11,"","*") -> * | F63: =IF(F39=F11,"","*") -> * | G63: =IF(G39=G11,"","*") -> * | H63: =IF(H39=H11,"","*") -> * | I63: =IF(I39=I11,"","*") -> *
A64: 臺中市 | B64: Taichung City | C64: =IF(C40=C12,"","*") -> * | D64: =IF(D40=D12,"","*") -> * | E64: =IF(E40=E12,"","*") -> * | F64: =IF(F40=F12,"","*") -> * | G64: =IF(G40=G12,"","*") -> * | H64: =IF(H40=H12,"","*") -> * | I64: =IF(I40=I12,"","*") -> *
A65: 臺南市 | B65: Tainan City | C65: =IF(C41=C13,"","*") -> * | D65: =IF(D41=D13,"","*") -> * | E65: =IF(E41=E13,"","*") -> * | F65: =IF(F41=F13,"","*") -> * | G65: =IF(G41=G13,"","*") -> * | H65: =IF(H41=H13,"","*") -> * | I65: =IF(I41=I13,"","*") -> *
A66: 高雄市 | B66: Kaohsiung City | C66: =IF(C42=C14,"","*") -> * | D66: =IF(D42=D14,"","*") -> * | E66: =IF(E42=E14,"","*") -> * | F66: =IF(F42=F14,"","*") -> * | G66: =IF(G42=G14,"","*") -> * | H66: =IF(H42=H14,"","*") -> * | I66: =IF(I42=I14,"","*") -> *
A67: 宜蘭縣 | B67: Yilan County | C67: =IF(C43=C15,"","*") -> * | D67: =IF(D43=D15,"","*") -> * | E67: =IF(E43=E15,"","*") -> * | F67: =IF(F43=F15,"","*") -> * | G67: =IF(G43=G15,"","*") -> * | H67: =IF(H43=H15,"","*") -> * | I67: =IF(I43=I15,"","*") -> *
A68: 新竹縣 | B68: Hsinchu County | C68: =IF(C44=C16,"","*") -> * | D68: =IF(D44=D16,"","*") -> * | E68: =IF(E44=E16,"","*") -> * | F68: =IF(F44=F16,"","*") -> * | G68: =IF(G44=G16,"","*") | H68: =IF(H44=H16,"","*") | I68: =IF(I44=I16,"","*") -> *
A69: 苗栗縣 | B69: Miaoli County | C69: =IF(C45=C17,"","*") -> * | D69: =IF(D45=D17,"","*") -> * | E69: =IF(E45=E17,"","*") -> * | F69: =IF(F45=F17,"","*") -> * | G69: =IF(G45=G17,"","*") -> * | H69: =IF(H45=H17,"","*") | I69: =IF(I45=I17,"","*") -> *
A70: 彰化縣 | B70: Changhua County | C70: =IF(C46=C18,"","*") | D70: =IF(D46=D18,"","*") -> * | E70: =IF(E46=E18,"","*") -> * | F70: =IF(F46=F18,"","*") -> * | G70: =IF(G46=G18,"","*") | H70: =IF(H46=H18,"","*") -> * | I70: =IF(I46=I18,"","*") -> *
A71: 南投縣 | B71: Nantou County | C71: =IF(C47=C19,"","*") -> * | D71: =IF(D47=D19,"","*") -> * | E71: =IF(E47=E19,"","*") -> * | F71: =IF(F47=F19,"","*") -> * | G71: =IF(G47=G19,"","*") | H71: =IF(H47=H19,"","*") | I71: =IF(I47=I19,"","*") -> *
... A82: 連江縣 | B82: Lienchiang County | C82: =IF(C58=C30,"","*") | D82: =IF(D58=D30,"","*") | E82: =IF(E58=E30,"","*") | F82: =IF(F58=F30,"","*") | G82: =IF(G58=G30,"","*") | H82: =IF(H58=H30,"","*") | I82: =IF(I58=I30,"","*")

Sheet 2023
A1: 兒童少年保護-結(轉)案情形Status of Case Closure/Referral
A2: 單位：人；案數 Unit : Persons;Cases
A3: 民國112年, 2023 | C3: =IF(C8=SUM(C9:C30),"","*") | D3: =IF(D8=SUM(D9:D30),"","*") | E3: =IF(E8=SUM(E9:E30),"","*") | F3: =IF(F8=SUM(F9:F30),"","*") | G3: =IF(G8=SUM(G9:G30),"","*") | H3: =IF(H8=SUM(H9:H30),"","*") | I3: =IF(I8=SUM(I9:I30),"","*")
A4: 區域別 Locality | C4: 結案情形Status of Case Closure/Referral
C5: 結案人數 Number of Persons in The Cases Closed/Referred | D5: 結案原因 Reason for The Cases Closed/Referred
D6: 受虐原因消失 Absence of Causes of Abuse | E6: 結束安置返家且列入追蹤輔導計畫 Returning Home after The End of Placement | F6: 案家搬遷/ 案件屬他轄 Relocation of the Parties Concerned/Outside of Jurisdiction | G6: 個案死亡 Deceased | H6: 個案出養 Adopted | I6: 其他 Others
A8: 總計 | B8: Total | C8: 6329 | D8: 3818 | E8: 433 | F8: 681 | G8: 47 | H8: 80 | I8: 1270
A9: 新北市 | B9: New Taipei City | C9: 945 | D9: 640 | E9: 65 | F9: 84 | G9: 6 | H9: 6 | I9: 144
A10: 臺北市 | B10: Taipei City | C10: 614 | D10: 312 | E10: 32 | F10: 86 | G10: 1 | H10: 0 | I10: 183
A11: 桃園市 | B11: Taoyuan City | C11: 705 | D11: 417 | E11: 43 | F11: 67 | G11: 4 | H11: 18 | I11: 156
A12: 臺中市 | B12: Taichung City | C12: 1223 | D12: 791 | E12: 29 | F12: 123 | G12: 10 | H12: 5 | I12: 265
A13: 臺南市 | B13: Tainan City | C13: 349 | D13: 228 | E13: 17 | F13: 38 | G13: 2 | H13: 6 | I13: 58
A14: 高雄市 | B14: Kaohsiung City | C14: 756 | D14: 486 | E14: 66 | F14: 46 | G14: 9 | H14: 14 | I14: 135
A15: 宜蘭縣 | B15: Yilan County | C15: 182 | D15: 48 | E15: 11 | F15: 27 | G15: 0 | H15: 3 | I15: 93
A16: 新竹縣 | B16: Hsinchu County | C16: 73 | D16: 35 | E16: 19 | F16: 9 | G16: 0 | H16: 4 | I16: 6
A17: 苗栗縣 | B17: Miaoli County | C17: 87 | D17: 33 | E17: 6 | F17: 13 | G17: 1 | H17: 5 | I17: 29
A18: 彰化縣 | B18: Changhua County | C18: 219 | D18: 153 | E18: 22 | F18: 14 | G18: 1 | H18: 1 | I18: 28
A19: 南投縣 | B19: Nantou County | C19: 112 | D19: 63 | E19: 12 | F19: 20 | G19: 1 | H19: 0 | I19: 16
... A30: 連江縣 | B30: Lienchiang County | C30: 2 | D30: 1 | E30: 0 | F30: 1 | G30: 0 | H30: 0 | I30: 0
A31: 資料來源：各直轄市、縣市政府。
A32: 說明：「個案死亡」係指服務中之兒少因疾病、意外、受虐等因素致死，因家中已無手足或無其他服務需求，故辦理結案。
A33: Source: County and Government.

Sheet 2022
A1: 兒童少年保護-結(轉)案情形Status of Case Closure/Referral
A2: 單位：人；案數 Unit : Persons;Cases
A3: 民國111年, 2022 | C3: =IF(C8=SUM(C9:C30),"","*") | D3: =IF(D8=SUM(D9:D30),"","*") | E3: =IF(E8=SUM(E9:E30),"","*") | F3: =IF(F8=SUM(F9:F30),"","*") | G3: =IF(G8=SUM(G9:G30),"","*") | H3: =IF(H8=SUM(H9:H30),"","*") | I3: =IF(I8=SUM(I9:I30),"","*")
A4: 區域別 Locality | C4: 結案情形Status of Case Closure/Referral
C5: 結案人數 Number of Persons in The Cases Closed/Referred | D5: 結案原因 Reason for The Cases Closed/Referred
D6: 受虐原因消失 Absence of Causes of Abuse | E6: 結束安置返家且列入追蹤輔導計畫 Returning Home after The End of Placement | F6: 案家搬遷/ 案件屬他轄 Relocation of the Parties Concerned/Outside of Jurisdiction | G6: 個案死亡 Deceased | H6: 個案出養 Adopted | I6: 其他 Others
A8: 總計 | B8: Total | C8: 6637 | D8: 4102 | E8: 454 | F8: 612 | G8: 61 | H8: 115 | I8: 1293
A9: 新北市 | B9: New Taipei City | C9: 996 | D9: 663 | E9: 56 | F9: 91 | G9: 5 | H9: 8 | I9: 173
A10: 臺北市 | B10: Taipei City | C10: 751 | D10: 466 | E10: 36 | F10: 87 | G10: 2 | H10: 3 | I10: 157
A11: 桃園市 | B11: Taoyuan City | C11: 623 | D11: 354 | E11: 27 | F11: 60 | G11: 4 | H11: 19 | I11: 159
A12: 臺中市 | B12: Taichung City | C12: 1229 | D12: 853 | E12: 51 | F12: 86 | G12: 16 | H12: 12 | I12: 211
A13: 臺南市 | B13: Tainan City | C13: 414 | D13: 225 | E13: 21 | F13: 30 | G13: 10 | H13: 6 | I13: 122
A14: 高雄市 | B14: Kaohsiung City | C14: 844 | D14: 565 | E14: 59 | F14: 45 | G14: 7 | H14: 17 | I14: 151
A15: 宜蘭縣 | B15: Yilan County | C15: 117 | D15: 41 | E15: 9 | F15: 6 | G15: 1 | H15: 1 | I15: 59
A16: 新竹縣 | B16: Hsinchu County | C16: 56 | D16: 35 | E16: 11 | F16: 6 | G16: 0 | H16: 1 | I16: 3
A17: 苗栗縣 | B17: Miaoli County | C17: 110 | D17: 52 | E17: 13 | F17: 14 | G17: 0 | H17: 5 | I17: 26
A18: 彰化縣 | B18: Changhua County | C18: 183 | D18: 110 | E18: 36 | F18: 17 | G18: 2 | H18: 3 | I18: 15
A19: 南投縣 | B19: Nantou County | C19: 89 | D19: 51 | E19: 5 | F19: 11 | G19: 0 | H19: 1 | I19: 21
... A30: 連江縣 | B30: Lienchiang County | C30: 0 | D30: 0 | E30: 0 | F30: 0 | G30: 0 | H30: 0 | I30: 0
A31: 資料來源：各直轄市、縣市政府。
A32: 說明：「個案死亡」係指服務中之兒少因疾病、意外、受虐等因素致死，因家中已無手足或無其他服務需求，故辦理結案。
A33: Source: County and Government.

Sheet 2021
A1: 兒童少年保護-結(轉)案情形Status of Case Closure/Referral
A2: 單位：人；案數 Unit : Persons;Cases
A3: 民國110年, 2021 | C3: =IF(C8=SUM(C9:C30),"","*") | D3: =IF(D8=SUM(D9:D30),"","*") | E3: =IF(E8=SUM(E9:E30),"","*") | F3: =IF(F8=SUM(F9:F30),"","*") | G3: =IF(G8=SUM(G9:G30),"","*") | H3: =IF(H8=SUM(H9:H30),"","*") | I3: =IF(I8=SUM(I9:I30),"","*")
A4: 區域別 Locality | C4: 結案情形Status of Case Closure/Referral
C5: 結案人數 Number of Persons in The Cases Closed/Referred | D5: 結案原因 Reason for The Cases Closed/Referred
D6: 受虐原因消失 Absence of Causes of Abuse | E6: 結束安置返家且列入追蹤輔導計畫 Returning Home after The End of Placement | F6: 案家搬遷/ 案件屬他轄 Relocation of the Parties Concerned/Outside of Jurisdiction | G6: 個案死亡 Deceased | H6: 個案出養 Adopted | I6: 其他 Others
A8: 總計 | B8: Total | C8: 5850 | D8: 3712 | E8: 425 | F8: 657 | G8: 40 | H8: 86 | I8: 946
A9: 新北市 | B9: New Taipei City | C9: 863 | D9: 575 | E9: 50 | F9: 92 | G9: 5 | H9: 12 | I9: 129
A10: 臺北市 | B10: Taipei City | C10: 666 | D10: 401 | E10: 25 | F10: 88 | G10: 4 | H10: 4 | I10: 144
A11: 桃園市 | B11: Taoyuan City | C11: 655 | D11: 445 | E11: 34 | F11: 50 | G11: 1 | H11: 8 | I11: 117
A12: 臺中市 | B12: Taichung City | C12: 847 | D12: 574 | E12: 39 | F12: 67 | G12: 5 | H12: 8 | I12: 154
A13: 臺南市 | B13: Tainan City | C13: 321 | D13: 226 | E13: 31 | F13: 34 | G13: 4 | H13: 2 | I13: 37
A14: 高雄市 | B14: Kaohsiung City | C14: 789 | D14: 530 | E14: 64 | F14: 54 | G14: 10 | H14: 14 | I14: 117
A15: 宜蘭縣 | B15: Yilan County | C15: 80 | D15: 33 | E15: 5 | F15: 22 | G15: 0 | H15: 0 | I15: 20
A16: 新竹縣 | B16: Hsinchu County | C16: 71 | D16: 56 | E16: 11 | F16: 11 | G16: 0 | H16: 2 | I16: 3
A17: 苗栗縣 | B17: Miaoli County | C17: 113 | D17: 47 | E17: 14 | F17: 17 | G17: 0 | H17: 4 | I17: 31
A18: 彰化縣 | B18: Changhua County | C18: 169 | D18: 105 | E18: 23 | F18: 26 | G18: 3 | H18: 0 | I18: 12
A19: 南投縣 | B19: Nantou County | C19: 112 | D19: 56 | E19: 12 | F19: 11 | G19: 3 | H19: 5 | I19: 25
... A30: 連江縣 | B30: Lienchiang County | C30: 4 | D30: 1 | E30: 0 | F30: 1 | G30: 0 | H30: 0 | I30: 2
A31: 資料來源：各直轄市、縣市政府。
A32: 說明：「個案死亡」係指服務中之兒少因疾病、意外、受虐等因素致死，因家中已無手足或無其他服務需求，故辦理結案。
A33: Source: County and Government.

Sheet 2020
A1: 兒童少年保護-結(轉)案情形Status of Case Closure/Referral
A2: 單位：人；案數 Unit : Persons;Cases
A3: 民國109年, 2020
A4: 區域別 Locality | C4: 結案情形Status of Case Closure/Referral
C5: 結案人數 Number of Persons in The Cases Closed/Referred | D5: 結案原因 Reason for The Cases Closed/Referred
D6: 受虐原因消失 Absence of Causes of Abuse | E6: 結束安置返家且列入追蹤輔導計畫 Returning Home after The End of Placement | F6: 案家搬遷/ 案件屬他轄 Relocation of the Parties Concerned/Outside of Jurisdiction | G6: 個案死亡 Deceased | H6: 個案出養 Adopted | I6: 其他 Others
A8: 總計 | B8: Total | C8: 5641 | D8: 4165 | E8: 390 | F8: 767 | G8: 51 | H8: 103 | I8: 165
A9: 新北市 | B9: New Taipei City | C9: 775 | D9: 599 | E9: 50 | F9: 90 | G9: 6 | H9: 8 | I9: 22
A10: 臺北市 | B10: Taipei City | C10: 597 | D10: 387 | E10: 25 | F10: 100 | G10: 1 | H10: 9 | I10: 75
A11: 桃園市 | B11: Taoyuan City | C11: 710 | D11: 552 | E11: 33 | F11: 97 | G11: 3 | H11: 16 | I11: 9
A12: 臺中市 | B12: Taichung City | C12: 815 | D12: 647 | E12: 48 | F12: 91 | G12: 12 | H12: 11 | I12: 6
A13: 臺南市 | B13: Tainan City | C13: 322 | D13: 251 | E13: 10 | F13: 41 | G13: 6 | H13: 7 | I13: 7
A14: 高雄市 | B14: Kaohsiung City | C14: 854 | D14: 679 | E14: 59 | F14: 74 | G14: 8 | H14: 18 | I14: 16
A15: 宜蘭縣 | B15: Yilan County | C15: 101 | D15: 65 | E15: 19 | F15: 16 | G15: 0 | H15: 1 | I15: 0
A16: 新竹縣 | B16: Hsinchu County | C16: 121 | D16: 100 | E16: 9 | F16: 9 | G16: 1 | H16: 2 | I16: 0
A17: 苗栗縣 | B17: Miaoli County | C17: 77 | D17: 40 | E17: 8 | F17: 22 | G17: 0 | H17: 5 | I17: 2
A18: 彰化縣 | B18: Changhua County | C18: 139 | D18: 89 | E18: 16 | F18: 24 | G18: 4 | H18: 1 | I18: 5
A19: 南投縣 | B19: Nantou County | C19: 95 | D19: 63 | E19: 12 | F19: 15 | G19: 0 | H19: 5 | I19: 0
... A30: 連江縣 | B30: Lienchiang County | C30: 5 | D30: 1 | E30: 0 | F30: 0 | G30: 0 | H30: 0 | I30: 4
A31: 資料來源：各直轄市、縣市政府。
A32: 說明：「個案死亡」係指服務中之兒少因疾病、意外、受虐等因素致死，因家中已無手足或無其他服務需求，故辦理結案。
A33: Source: County and Government.

Sheet 2019
A1: 兒童少年保護-結(轉)案情形Status of Case Closure/Referral
A2: 單位：人；案數 Unit : Persons;Cases
A3: 108年, 2019
A4: 區域別 Locality | C4: 結案情形Status of Case Closure/Referral
C5: 結案人數 Number of Persons in The Cases Closed/Referred | D5: 結案原因 Reason for The Cases Closed/Referred
D6: 受虐原因消失 Absence of Causes of Abuse | E6: 結束安置返家且列入追蹤輔導計畫 Returning Home after The End of Placement | F6: 案家搬遷/ 案件屬他轄 Relocation of the Parties Concerned/Outside of Jurisdiction | G6: 個案死亡 Deceased | H6: 個案出養 Adopted | I6: 其他 Others
A8: 總計 | B8: Total | C8: 6337 | D8: 3827 | E8: 225 | F8: 645 | G8: 42 | H8: 106 | I8: 1508
A9: 新北市 | B9: New Taipei City | C9: 870 | D9: 554 | E9: 14 | F9: 73 | G9: 11 | H9: 7 | I9: 211
A10: 臺北市 | B10: Taipei City | C10: 854 | D10: 295 | E10: 8 | F10: 66 | G10: 1 | H10: 3 | I10: 481
A11: 桃園市 | B11: Taoyuan City | C11: 622 | D11: 397 | E11: 23 | F11: 71 | G11: 1 | H11: 19 | I11: 111
A12: 臺中市 | B12: Taichung City | C12: 1153 | D12: 819 | E12: 48 | F12: 96 | G12: 9 | H12: 13 | I12: 168
A13: 臺南市 | B13: Tainan City | C13: 418 | D13: 264 | E13: 6 | F13: 39 | G13: 2 | H13: 11 | I13: 96
A14: 高雄市 | B14: Kaohsiung City | C14: 956 | D14: 671 | E14: 38 | F14: 78 | G14: 12 | H14: 15 | I14: 142
A15: 宜蘭縣 | B15: Yilan County | C15: 125 | D15: 40 | E15: 3 | F15: 16 | G15: 0 | H15: 3 | I15: 63
A16: 新竹縣 | B16: Hsinchu County | C16: 132 | D16: 81 | E16: 8 | F16: 18 | G16: 0 | H16: 8 | I16: 17
A17: 苗栗縣 | B17: Miaoli County | C17: 102 | D17: 52 | E17: 7 | F17: 17 | G17: 0 | H17: 3 | I17: 23
A18: 彰化縣 | B18: Changhua County | C18: 102 | D18: 56 | E18: 10 | F18: 22 | G18: 0 | H18: 2 | I18: 12
A19: 南投縣 | B19: Nantou County | C19: 79 | D19: 42 | E19: 9 | F19: 10 | G19: 0 | H19: 2 | I19: 16
... A30: 連江縣 | B30: Lienchiang County | C30: 0 | D30: 0 | E30: 0 | F30: 0 | G30: 0 | H30: 0 | I30: 0
A31: 資料來源：各直轄市、縣市政府。
A32: 說明：「個案死亡」係指服務中之兒少因疾病、意外、受虐等因素致死，因家中已無手足或無其他服務需求，故辦理結案。
A33: Source: County and Government.
A34: 更新日期：2020/3/31

Sheet 2018
A1: 家內兒童少年保護案件-結(轉)案情形 Intra-family Child and Youth Protection Cases - Status of Case Closure/Referral
A2: 單位：人；案數 Unit : Persons;Cases
A3: 107年, 2018
A4: 區域別 Locality | C4: 結(轉)案情形Status of Case Closure/Referral
C5: 結(轉)案人數 Number of Persons in The Cases Closed/Referred | D5: 結(轉)案原因 Reason for The Cases Closed/Referred
D6: 受虐原因消失 Absence of Causes of Abuse | E6: 結束安置返家 Returning Home after The End of Placement | F6: 案家搬遷/ 案件屬他轄 Relocation of the Parties Concerned/Outside of Jurisdiction | G6: 個案死亡 Deceased | H6: 個案出養 Adopted | I6: 其他 Others
A8: 總計 | B8: Total | C8: 4207 | D8: 2755 | E8: 193 | F8: 497 | G8: 18 | H8: 73 | I8: 843
A9: 新北市 | B9: New Taipei City | C9: 621 | D9: 429 | E9: 11 | F9: 70 | G9: 1 | H9: 1 | I9: 109
A10: 臺北市 | B10: Taipei City | C10: 446 | D10: 112 | E10: 10 | F10: 25 | G10: 1 | H10: 4 | I10: 304
A11: 桃園市 | B11: Taoyuan City | C11: 553 | D11: 443 | E11: 14 | F11: 49 | G11: - | H11: 11 | I11: 36
A12: 臺中市 | B12: Taichung City | C12: 859 | D12: 521 | E12: 29 | F12: 129 | G12: 3 | H12: 10 | I12: 207
A13: 臺南市 | B13: Tainan City | C13: 336 | D13: 281 | E13: 3 | F13: 32 | G13: 3 | H13: 6 | I13: 12
A14: 高雄市 | B14: Kaohsiung City | C14: 492 | D14: 338 | E14: 26 | F14: 58 | G14: 4 | H14: 12 | I14: 88
A15: 宜蘭縣 | B15: Yilan County | C15: 37 | D15: 22 | E15: 3 | F15: 4 | G15: - | H15: 1 | I15: 11
A16: 新竹縣 | B16: Hsinchu County | C16: 73 | D16: 41 | E16: 4 | F16: 16 | G16: 1 | H16: 5 | I16: 9
A17: 苗栗縣 | B17: Miaoli County | C17: 59 | D17: 38 | E17: 6 | F17: 12 | G17: - | H17: 1 | I17: 11
A18: 彰化縣 | B18: Changhua County | C18: 79 | D18: 46 | E18: 19 | F18: 9 | G18: 3 | H18: 1 | I18: 9
A19: 南投縣 | B19: Nantou County | C19: 39 | D19: 27 | E19: 4 | F19: 6 | G19: - | H19: 1 | I19: 7
A20: 雲林縣 | B20: Yunlin County | C20: 124 | D20: 96 | E20: 18 | F20: 15 | G20: - | H20: 5 | I20: 9
A21: 嘉義縣 | B21: Chiayi County | C21: 51 | D21: 37 | E21: 4 | F21: 9 | G21: - | H21: - | I21: 5
A22: 屏東縣 | B22: Pingtung County | C22: 186 | D22: 155 | E22: 21 | F22: 14 | G22: - | H22: 1 | I22: 7
A23: 臺東縣 | B23: Taitung County | C23: 52 | D23: 35 | E23: 7 | F23: 9 | G23: 1 | H23: 2 | I23: 1
A24: 花蓮縣 | B24: Hualien County | C24: 96 | D24: 67 | E24: 2 | F24: 15 | G24: - | H24: 5 | I24: 12
A25: 澎湖縣 | B25: Penghu County | C25: 4 | D25: 2 | E25: 3 | F25: 1 | G25: - | H25: - | I25: 2
A26: 基隆市 | B26: Keelung City | C26: 28 | D26: 20 | E26: 2 | F26: 6 | G26: - | H26: 2 | I26: -
A27: 新竹市 | B27: Hsinchu City | C27: 48 | D27: 28 | E27: 5 | F27: 14 | G27: 1 | H27: 5 | I27: 2
A28: 嘉義市 | B28: Chiayi City | C28: 14 | D28: 9 | E28: 2 | F28: 2 | G28: - | H28: - | I28: 2
A29: 金門縣 | B29: Kinmen County | C29: 9 | D29: 7 | E29: - | F29: 2 | G29: - | H29: - | I29: -
A30: 連江縣 | B30: Lienchiang County | C30: 1 | D30: 1 | E30: - | F30: - | G30: - | H30: - | I30: -
A31: 資料來源：各直轄市、縣市政府。
A32: 說明：「個案死亡」係指服務中之兒少因疾病、意外、受虐等因素致死，因家中已無手足或無其他服務需求，故辦理結案。
A33: Source: County and Government.
A34: 更新日期：2019/4/1

Sheet 2017
A1: 家內兒童少年保護案件-結(轉)案情形 Intra-family Child and Youth Protection Cases - Status of Case Closure/Referral
A2: 單位：人；案數 Unit : Persons;Cases
A3: 106年, 2017
A4: 區域別 Locality | C4: 結(轉)案情形Status of Case Closure/Referral
C5: 結(轉)案人數 Number of Persons in The Cases Closed/Referred | D5: 結(轉)案原因 Reason for The Cases Closed/Referred
D6: 受虐原因消失 Absence of Causes of Abuse | E6: 結束安置返家 Returning Home after The End of Placement | F6: 案家搬遷/ 案件屬他轄 Relocation of the Parties Concerned/Outside of Jurisdiction | G6: 個案死亡 Deceased | H6: 個案出養 Adopted | I6: 其他 Others
A8: 總計 | B8: Total | C8: 5003 | D8: 3354 | E8: 175 | F8: 504 | G8: 46 | H8: 55 | I8: 977
A9: 新北市 | B9: New Taipei City | C9: 857 | D9: 628 | E9: 16 | F9: 66 | G9: 5 | H9: 5 | I9: 137
A10: 臺北市 | B10: Taipei City | C10: 475 | D10: 113 | E10: 12 | F10: 31 | G10: 5 | H10: 3 | I10: 318
A11: 桃園市 | B11: Taoyuan City | C11: 506 | D11: 373 | E11: 16 | F11: 65 | G11: - | H11: 7 | I11: 49
A12: 臺中市 | B12: Taichung City | C12: 799 | D12: 493 | E12: 15 | F12: 85 | G12: 14 | H12: 5 | I12: 193
A13: 臺南市 | B13: Tainan City | C13: 356 | D13: 297 | E13: 14 | F13: 28 | G13: 2 | H13: 3 | I13: 12
A14: 高雄市 | B14: Kaohsiung City | C14: 668 | D14: 462 | E14: 29 | F14: 56 | G14: 11 | H14: 16 | I14: 128
A15: 宜蘭縣 | B15: Yilan County | C15: 82 | D15: 53 | E15: 5 | F15: 6 | G15: - | H15: 3 | I15: 16
A16: 新竹縣 | B16: Hsinchu County | C16: 94 | D16: 64 | E16: 3 | F16: 21 | G16: - | H16: 1 | I16: 7
A17: 苗栗縣 | B17: Miaoli County | C17: 61 | D17: 43 | E17: 2 | F17: 8 | G17: 1 | H17: - | I17: 11
A18: 彰化縣 | B18: Changhua County | C18: 162 | D18: 120 | E18: 10 | F18: 18 | G18: 3 | H18: - | I18: 13
A19: 南投縣 | B19: Nantou County | C19: 46 | D19: 29 | E19: 5 | F19: 8 | G19: 1 | H19: 2 | I19: 5
A20: 雲林縣 | B20: Yunlin County | C20: 286 | D20: 231 | E20: 4 | F20: 29 | G20: - | H20: 2 | I20: 42
A21: 嘉義縣 | B21: Chiayi County | C21: 66 | D21: 42 | E21: 1 | F21: 12 | G21: 1 | H21: 1 | I21: 9
A22: 屏東縣 | B22: Pingtung County | C22: 218 | D22: 171 | E22: 25 | F22: 16 | G22: - | H22: 1 | I22: 17
A23: 臺東縣 | B23: Taitung County | C23: 52 | D23: 37 | E23: 9 | F23: 7 | G23: - | H23: - | I23: 4
A24: 花蓮縣 | B24: Hualien County | C24: 150 | D24: 120 | E24: - | F24: 19 | G24: 1 | H24: 3 | I24: 7
A25: 澎湖縣 | B25: Penghu County | C25: 11 | D25: 7 | E25: - | F25: 3 | G25: - | H25: - | I25: 1
A26: 基隆市 | B26: Keelung City | C26: 46 | D26: 29 | E26: 3 | F26: 12 | G26: 1 | H26: 3 | I26: 2
A27: 新竹市 | B27: Hsinchu City | C27: 21 | D27: 9 | E27: 3 | F27: 8 | G27: - | H27: - | I27: 2
A28: 嘉義市 | B28: Chiayi City | C28: 34 | D28: 24 | E28: 2 | F28: 6 | G28: 1 | H28: - | I28: 3
A29: 金門縣 | B29: Kinmen County | C29: 10 | D29: 9 | E29: 1 | F29: - | G29: - | H29: - | I29: 1
A30: 連江縣 | B30: Lienchiang County | C30: 3 | D30: - | E30: - | F30: - | G30: - | H30: - | I30: -
A31: 資料來源：各直轄市、縣市政府。
A32: 說明：「個案死亡」係指服務中之兒少因疾病、意外、受虐等因素致死，因家中已無手足或無其他服務需求，故辦理結案。
A33: Source: County and Government.
A35: 更新日期：2018/3/31

Sheet 2016
A1: 兒童少年保護-結(轉)案情形Status of Case Closure/Referral
A3: 105年, 2016
A4: 區域及特殊族群別 Locality & Ethnos | C4: 結案人數Number of Persons in The Cases Closed/Referred | F4: 結案原因 (案次)Causes of Case Closure/Referral
F5: 受虐原因消失 Absence of Causes of Abuse | G5: 結束安置返家 Returning Home after The End of Placement | H5: 案家搬遷/案件屬他轄 Relocation of the Parties Concerned/Outside of Jurisdiction | I5: 個案死亡 Deceased | J5: 個案出養 Adopted | K5: 其他 Others
C6: 總計 | D6: 本年度個案本年結案人數 | E6: 以前年度個案本年結案人數
A8: 總計 | B8: Total | C8: 9455 | D8: 4002 | E8: 5453 | F8: 5126 | G8: 297 | H8: 730 | I8: 75 | J8: 106 | K8: 2961
A9: 新北市 | B9: New Taipei City | C9: 1244 | D9: 531 | E9: 713 | F9: 765 | G9: 21 | H9: 98 | I9: 10 | J9: 6 | K9: 361
A10: 臺北市 | B10: Taipei City | C10: 2287 | D10: 1454 | E10: 833 | F10: 787 | G10: 27 | H10: 51 | I10: 16 | J10: 4 | K10: 1402
A11: 桃園市 | B11: Taoyuan City | C11: 1111 | D11: 331 | E11: 780 | F11: 648 | G11: 33 | H11: 53 | I11: 1 | J11: 16 | K11: 360
A12: 臺中市 | B12: Taichung City | C12: 1015 | D12: 386 | E12: 629 | F12: 413 | G12: 19 | H12: 121 | I12: 6 | J12: 6 | K12: 280
A13: 臺南市 | B13: Tainan City | C13: 444 | D13: 184 | E13: 260 | F13: 351 | G13: 20 | H13: 42 | I13: 5 | J13: 2 | K13: 31
A14: 高雄市 | B14: Kaohsiung City | C14: 990 | D14: 384 | E14: 606 | F14: 699 | G14: 46 | H14: 114 | I14: 14 | J14: 23 | K14: 132
A15: 宜蘭縣 | B15: Yilan County | C15: 110 | D15: 41 | E15: 69 | F15: 75 | G15: 3 | H15: 8 | I15: - | J15: 1 | K15: 27
A16: 新竹縣 | B16: Hsinchu County | C16: 132 | D16: 42 | E16: 90 | F16: 80 | G16: 3 | H16: 20 | I16: - | J16: 1 | K16: 10
A17: 苗栗縣 | B17: Miaoli County | C17: 115 | D17: 34 | E17: 81 | F17: 33 | G17: 3 | H17: 18 | I17: - | J17: 4 | K17: 37
A18: 彰化縣 | B18: Changhua County | C18: 398 | D18: 198 | E18: 200 | F18: 314 | G18: 10 | H18: 29 | I18: 6 | J18: 3 | K18: 54
A19: 南投縣 | B19: Nantou County | C19: 138 | D19: 25 | E19: 113 | F19: 54 | G19: 4 | H19: 14 | I19: 1 | J19: 1 | K19: 40
A20: 雲林縣 | B20: Yunlin County | C20: 264 | D20: 51 | E20: 213 | F20: 150 | G20: 17 | H20: 29 | I20: - | J20: 2 | K20: 40
A21: 嘉義縣 | B21: Chiayi County | C21: 113 | D21: 39 | E21: 74 | F21: 48 | G21: 1 | H21: 13 | I21: 1 | J21: 1 | K21: 33
A22: 屏東縣 | B22: Pingtung County | C22: 383 | D22: 165 | E22: 218 | F22: 211 | G22: 52 | H22: 35 | I22: 4 | J22: 15 | K22: 76
A23: 臺東縣 | B23: Taitung County | C23: 111 | D23: 23 | E23: 88 | F23: 78 | G23: 9 | H23: 12 | I23: 2 | J23: 3 | K23: 24
A24: 花蓮縣 | B24: Hualien County | C24: 372 | D24: 33 | E24: 339 | F24: 266 | G24: 13 | H24: 47 | I24: 7 | J24: 6 | K24: 37
A25: 澎湖縣 | B25: Penghu County | C25: 6 | D25: 2 | E25: 4 | F25: 12 | G25: - | H25: 1 | I25: - | J25: - | K25: 3
A26: 基隆市 | B26: Keelung City | C26: 92 | D26: 38 | E26: 54 | F26: 54 | G26: 7 | H26: 11 | I26: 1 | J26: 4 | K26: 3
A27: 新竹市 | B27: Hsinchu City | C27: 61 | D27: 21 | E27: 40 | F27: 33 | G27: 7 | H27: 7 | I27: 1 | J27: 7 | K27: 4
A28: 嘉義市 | B28: Chiayi City | C28: 47 | D28: 2 | E28: 45 | F28: 34 | G28: 2 | H28: 6 | I28: - | J28: 1 | K28: 7
A29: 金門縣 | B29: Kinmen County | C29: 18 | D29: 18 | E29: - | F29: 17 | G29: - | H29: 1 | I29: - | J29: - | K29: -
A30: 連江縣 | B30: Lienchiang County | C30: 4 | D30: - | E30: 4 | F30: 4 | G30: - | H30: - | I30: - | J30: - | K30: -
A31: 資料來源：各直轄市、縣市政府。
A32: 說明：「個案死亡」係指服務中之兒少因疾病、意外、受虐等因素致死，因家中已無手足或無其他服務需求，故辦理結案。
A33: Source: County and Government.
A35: 更新日期：2017/3/9
