Workbook

Sheet 歷年
A1: 兒童少年保護-處遇計畫在案數 Child and Youth Protection Cases - Types of Treatment Programs
A2: 單位：案數 Unit : Number of Cases
A3: 年別 Year | B3: 處遇計畫在案數Types of Treatment Programs (Number of Cases)
B4: 家庭維繫 Family Preservation | C4: 家庭重整Family Reunification | F4: 安置後返家 Returning Home
C5: 合計 Subtotal | D5: 強制安置 Compulsory Placement | E5: 轉委託安置 Outsourced Placement
A7: 109年, 2020 | B7: ='2020'!C8 -> 16909 | C7: ='2020'!D8 -> 6144 | D7: ='2020'!E8 -> 3905 | E7: ='2020'!F8 -> 2239 | F7: …
A8: 110年, 2021 | B8: ='2021'!C8 -> 20139 | C8: ='2021'!D8 -> 4203 | D8: ='2021'!E8 -> 2925 | E8: ='2021'!F8 -> 1278 | F8: …
A9: 111年, 2022 | B9: ='2022'!C8 -> 22093 | C9: ='2022'!D8 -> 4552 | D9: ='2022'!E8 -> 3447 | E9: ='2022'!F8 -> 1105 | F9: ='2022'!G8 -> 205
A10: 112年, 2023 | B10: ='2023'!C8 -> 24339 | C10: ='2023'!D8 -> 4754 | D10: ='2023'!E8 -> 3727 | E10: ='2023'!F8 -> 1027 | F10: ='2023'!G8 -> 191
A11: 113年, 2024 | B11: ='2024'!C8 -> 25800 | C11: ='2024'!D8 -> 6121 | D11: ='2024'!E8 -> 4770 | E11: ='2024'!F8 -> 1351 | F11: ='2024'!G8 -> 154
A12: 114年, 2025 | B12: ='2025'!C8 -> 25228 | C12: ='2025'!D8 -> 6534 | D12: ='2025'!E8 -> 5257 | E12: ='2025'!F8 -> 1277 | F12: ='2025'!G8 -> 128
A13: 上半年, Jan.-June | B13: ='Jan.-June, 2025'!C8 -> 12731 | C13: ='Jan.-June, 2025'!D8 -> 3261 | D13: ='Jan.-June, 2025'!E8 -> 2597 | E13: ='Jan.-June, 2025'!F8 -> 664 | F13: ='Jan.-June, 2025'!G8 -> 57
A14: 下半年, July-Dec. | B14: ='July-Dec., 2025'!C8 -> 12497 | C14: ='July-Dec., 2025'!D8 -> 3273 | D14: ='July-Dec., 2025'!E8 -> 2660 | E14: ='July-Dec., 2025'!F8 -> 613 | F14: ='July-Dec., 2025'!G8 -> 71
A15: 115年, 2026
A16: 上半年, Jan.-June | B16: ='Jan.-June, 2026'!C8 -> 13140 | C16: ='Jan.-June, 2026'!D8 -> 3522 | D16: ='Jan.-June, 2026'!E8 -> 2933 | E16: ='Jan.-June, 2026'!F8 -> 589 | F16: ='Jan.-June, 2026'!G8 -> 62
A17: 下半年, July-Dec. | B17: ='July-Dec., 2026'!C8 -> 0 | C17: ='July-Dec., 2026'!D8 -> 0 | D17: ='July-Dec., 2026'!E8 -> 0 | E17: ='July-Dec., 2026'!F8 -> 0 | F17: ='July-Dec., 2026'!G8 -> 0
A18: 資料來源：各直轄市、縣市政府。
A19: Source: County and Government.
A20: 更新日期：2026/09/30
B21: =IF(B12=SUM(B13:B14),"","*") | C21: =IF(C12=SUM(C13:C14),"","*") | D21: =IF(D12=SUM(D13:D14),"","*") | E21: =IF(E12=SUM(E13:E14),"","*") | F21: =IF(F12=SUM(F13:F14),"","*")

Sheet 2026
A1: 兒童少年保護-處遇計畫在案數 Child and Youth Protection Cases - Types of Treatment Programs
A2: 單位：案數 Unit : Number of Cases
A3: 民國115年, 2026
A4: 區域別 Locality | C4: 處遇計畫在案數Types of Treatment Programs (Number of Cases)
C5: 家庭維繫 Family Preservation | D5: 家庭重整Family Reunification | G5: 安置後返家 Returning Home
D6: 合計 Subtotal | E6: 強制安置 Compulsory Placement | F6: 轉委託安置 Outsourced Placement
A8: 總計 | B8: Total
A9: 新北市 | B9: New Taipei City
A10: 臺北市 | B10: Taipei City
A11: 桃園市 | B11: Taoyuan City
A12: 臺中市 | B12: Taichung City
A13: 臺南市 | B13: Tainan City
A14: 高雄市 | B14: Kaohsiung City
A15: 宜蘭縣 | B15: Yilan County
A16: 新竹縣 | B16: Hsinchu County
A17: 苗栗縣 | B17: Miaoli County
A18: 彰化縣 | B18: Changhua County
A19: 南投縣 | B19: Nantou County
... A30: 連江縣 | B30: Lienchiang County
A31: 資料來源：各直轄市、縣市政府。
A33: Source: County and Government.

Sheet July-Dec., 2026
A1: 兒童少年保護-處遇計畫在案數 Child and Youth Protection Cases - Types of Treatment Programs
A2: 單位：案數 Unit : Number of Cases
A3: 民國115年7-12月 July-Dec., 2026
A4: 區域別 Locality | C4: 處遇計畫在案數Types of Treatment Programs (Number of Cases)
C5: 家庭維繫 Family Preservation | D5: 家庭重整Family Reunification | G5: 安置後返家 Returning Home
D6: 合計 Subtotal | E6: 強制安置 Compulsory Placement | F6: 轉委託安置 Outsourced Placement
A8: 總計 | B8: Total
A9: 新北市 | B9: New Taipei City
A10: 臺北市 | B10: Taipei City
A11: 桃園市 | B11: Taoyuan City
A12: 臺中市 | B12: Taichung City
A13: 臺南市 | B13: Tainan City
A14: 高雄市 | B14: Kaohsiung City
A15: 宜蘭縣 | B15: Yilan County
A16: 新竹縣 | B16: Hsinchu County
A17: 苗栗縣 | B17: Miaoli County
A18: 彰化縣 | B18: Changhua County
A19: 南投縣 | B19: Nantou County
... A30: 連江縣 | B30: Lienchiang County
A31: 資料來源：各直轄市、縣市政府。
A33: Source: County and Government.

Sheet Jan.-June, 2026
A1: 兒童少年保護-處遇計畫在案數 Child and Youth Protection Cases - Types of Treatment Programs
A2: 單位：案數 Unit : Number of Cases
A3: 民國115年1-6月 Jan.-June, 2026 | C3: =IF(C8=SUM(C9:C30),"","*") | D3: =IF(D8=SUM(D9:D30),"","*") | E3: =IF(E8=SUM(E9:E30),"","*") | F3: =IF(F8=SUM(F9:F30),"","*") | G3: =IF(G8=SUM(G9:G30),"","*")
A4: 區域別 Locality | C4: 處遇計畫在案數Types of Treatment Programs (Number of Cases)
C5: 家庭維繫 Family Preservation | D5: 家庭重整Family Reunification | G5: 安置後返家 Returning Home
D6: 合計 Subtotal | E6: 強制安置 Compulsory Placement | F6: 轉委託安置 Outsourced Placement
A8: 總計 | B8: Total | C8: 13140 | D8: 3522 | E8: 2933 | F8: 589 | G8: 62
A9: 新北市 | B9: New Taipei City | C9: 1691 | D9: 456 | E9: 400 | F9: 56 | G9: 8
A10: 臺北市 | B10: Taipei City | C10: 1320 | D10: 179 | E10: 154 | F10: 25 | G10: 7
A11: 桃園市 | B11: Taoyuan City | C11: 845 | D11: 245 | E11: 230 | F11: 15 | G11: 13
A12: 臺中市 | B12: Taichung City | C12: 4251 | D12: 760 | E12: 676 | F12: 84 | G12: 5
A13: 臺南市 | B13: Tainan City | C13: 450 | D13: 158 | E13: 145 | F13: 13 | G13: 5
A14: 高雄市 | B14: Kaohsiung City | C14: 1795 | D14: 561 | E14: 415 | F14: 146 | G14: 5
A15: 宜蘭縣 | B15: Yilan County | C15: 51 | D15: 5 | E15: 5 | F15: 0 | G15: 0
A16: 新竹縣 | B16: Hsinchu County | C16: 225 | D16: 64 | E16: 34 | F16: 30 | G16: 4
A17: 苗栗縣 | B17: Miaoli County | C17: 143 | D17: 84 | E17: 81 | F17: 3 | G17: 4
A18: 彰化縣 | B18: Changhua County | C18: 465 | D18: 245 | E18: 193 | F18: 52 | G18: 3
A19: 南投縣 | B19: Nantou County | C19: 205 | D19: 74 | E19: 69 | F19: 5 | G19: 1
... A30: 連江縣 | B30: Lienchiang County | C30: 0 | D30: 0 | E30: 0 | F30: 0 | G30: 0
A31: 資料來源：各直轄市、縣市政府。
A32: Source: County and Government.
A35: 總計 | B35: Total | C35: 12731 | D35: 3261 | E35: 2597 | F35: 664 | G35: 57
A36: 新北市 | B36: New Taipei City | C36: 1648 | D36: 477 | E36: 405 | F36: 72 | G36: 3
A37: 臺北市 | B37: Taipei City | C37: 1670 | D37: 183 | E37: 153 | F37: 30 | G37: 8
A38: 桃園市 | B38: Taoyuan City | C38: 976 | D38: 263 | E38: 248 | F38: 15 | G38: 11
A39: 臺中市 | B39: Taichung City | C39: 3142 | D39: 434 | E39: 381 | F39: 53 | G39: 5
A40: 臺南市 | B40: Tainan City | C40: 544 | D40: 158 | E40: 144 | F40: 14 | G40: 6
A41: 高雄市 | B41: Kaohsiung City | C41: 1773 | D41: 668 | E41: 427 | F41: 241 | G41: 4
A42: 宜蘭縣 | B42: Yilan County | C42: 59 | D42: 6 | E42: 5 | F42: 1 | G42: 0
A43: 新竹縣 | B43: Hsinchu County | C43: 268 | D43: 65 | E43: 36 | F43: 29 | G43: 2
A44: 苗栗縣 | B44: Miaoli County | C44: 150 | D44: 77 | E44: 74 | F44: 3 | G44: 3
A45: 彰化縣 | B45: Changhua County | C45: 561 | D45: 227 | E45: 174 | F45: 53 | G45: 3
A46: 南投縣 | B46: Nantou County | C46: 237 | D46: 94 | E46: 88 | F46: 6 | G46: 0
... A57: 連江縣 | B57: Lienchiang County | C57: 0 | D57: 0 | E57: 0 | F57: 0 | G57: 0
A59: 總計 | B59: Total | C59: =IF(C35=C8,"","*") -> * | D59: =IF(D35=D8,"","*") -> * | E59: =IF(E35=E8,"","*") -> * | F59: =IF(F35=F8,"","*") -> *
A60: 新北市 | B60: New Taipei City | C60: =IF(C36=C9,"","*") -> * | D60: =IF(D36=D9,"","*") -> * | E60: =IF(E36=E9,"","*") -> * | F60: =IF(F36=F9,"","*") -> *
A61: 臺北市 | B61: Taipei City | C61: =IF(C37=C10,"","*") -> * | D61: =IF(D37=D10,"","*") -> * | E61: =IF(E37=E10,"","*") -> * | F61: =IF(F37=F10,"","*") -> *
A62: 桃園市 | B62: Taoyuan City | C62: =IF(C38=C11,"","*") -> * | D62: =IF(D38=D11,"","*") -> * | E62: =IF(E38=E11,"","*") -> * | F62: =IF(F38=F11,"","*")
A63: 臺中市 | B63: Taichung City | C63: =IF(C39=C12,"","*") -> * | D63: =IF(D39=D12,"","*") -> * | E63: =IF(E39=E12,"","*") -> * | F63: =IF(F39=F12,"","*") -> *
A64: 臺南市 | B64: Tainan City | C64: =IF(C40=C13,"","*") -> * | D64: =IF(D40=D13,"","*") | E64: =IF(E40=E13,"","*") -> * | F64: =IF(F40=F13,"","*") -> *
...

Sheet 2025
A1: 兒童少年保護-處遇計畫在案數 Child and Youth Protection Cases - Types of Treatment Programs
A2: 單位：案數 Unit : Number of Cases
A3: 民國114年, 2025
A4: 區域別 Locality | C4: 處遇計畫在案數Types of Treatment Programs (Number of Cases)
C5: 家庭維繫 Family Preservation | D5: 家庭重整Family Reunification | G5: 安置後返家 Returning Home
D6: 合計 Subtotal | E6: 強制安置 Compulsory Placement | F6: 轉委託安置 Outsourced Placement
A8: 總計 | B8: Total | C8: 25228 | D8: 6534 | E8: 5257 | F8: 1277 | G8: 128
A9: 新北市 | B9: New Taipei City | C9: 3388 | D9: 962 | E9: 822 | F9: 140 | G9: 12
A10: 臺北市 | B10: Taipei City | C10: 3237 | D10: 356 | E10: 297 | F10: 59 | G10: 17
A11: 桃園市 | B11: Taoyuan City | C11: 1842 | D11: 517 | E11: 480 | F11: 37 | G11: 27
A12: 臺中市 | B12: Taichung City | C12: 6309 | D12: 860 | E12: 764 | F12: 96 | G12: 7
A13: 臺南市 | B13: Tainan City | C13: 1059 | D13: 317 | E13: 292 | F13: 25 | G13: 12
A14: 高雄市 | B14: Kaohsiung City | C14: 3529 | D14: 1328 | E14: 894 | F14: 434 | G14: 6
A15: 宜蘭縣 | B15: Yilan County | C15: 128 | D15: 26 | E15: 15 | F15: 11 | G15: 3
A16: 新竹縣 | B16: Hsinchu County | C16: 460 | D16: 139 | E16: 73 | F16: 66 | G16: 3
A17: 苗栗縣 | B17: Miaoli County | C17: 312 | D17: 156 | E17: 149 | F17: 7 | G17: 5
A18: 彰化縣 | B18: Changhua County | C18: 1074 | D18: 473 | E18: 367 | F18: 106 | G18: 11
A19: 南投縣 | B19: Nantou County | C19: 473 | D19: 181 | E19: 170 | F19: 11 | G19: 0
... A30: 連江縣 | B30: Lienchiang County | C30: 1 | D30: 0 | E30: 0 | F30: 0 | G30: 0
A31: 資料來源：各直轄市、縣市政府。
A32: Source: County and Government.

Sheet July-Dec., 2025
A1: 兒童少年保護-處遇計畫在案數 Child and Youth Protection Cases - Types of Treatment Programs
A2: 單位：案數 Unit : Number of Cases
A3: 民國114年7-12月 July-Dec., 2025
A4: 區域別 Locality | C4: 處遇計畫在案數Types of Treatment Programs (Number of Cases)
C5: 家庭維繫 Family Preservation | D5: 家庭重整Family Reunification | G5: 安置後返家 Returning Home
D6: 合計 Subtotal | E6: 強制安置 Compulsory Placement | F6: 轉委託安置 Outsourced Placement
A8: 總計 | B8: Total | C8: 12497 | D8: 3273 | E8: 2660 | F8: 613 | G8: 71
A9: 新北市 | B9: New Taipei City | C9: 1740 | D9: 485 | E9: 417 | F9: 68 | G9: 9
A10: 臺北市 | B10: Taipei City | C10: 1567 | D10: 173 | E10: 144 | F10: 29 | G10: 9
A11: 桃園市 | B11: Taoyuan City | C11: 866 | D11: 254 | E11: 232 | F11: 22 | G11: 16
A12: 臺中市 | B12: Taichung City | C12: 3167 | D12: 426 | E12: 383 | F12: 43 | G12: 2
A13: 臺南市 | B13: Tainan City | C13: 515 | D13: 159 | E13: 148 | F13: 11 | G13: 6
A14: 高雄市 | B14: Kaohsiung City | C14: 1756 | D14: 660 | E14: 467 | F14: 193 | G14: 2
A15: 宜蘭縣 | B15: Yilan County | C15: 69 | D15: 20 | E15: 10 | F15: 10 | G15: 3
A16: 新竹縣 | B16: Hsinchu County | C16: 192 | D16: 74 | E16: 37 | F16: 37 | G16: 1
A17: 苗栗縣 | B17: Miaoli County | C17: 162 | D17: 79 | E17: 75 | F17: 4 | G17: 2
A18: 彰化縣 | B18: Changhua County | C18: 513 | D18: 246 | E18: 193 | F18: 53 | G18: 8
A19: 南投縣 | B19: Nantou County | C19: 236 | D19: 87 | E19: 82 | F19: 5 | G19: 0
... A30: 連江縣 | B30: Lienchiang County | C30: 1 | D30: 0 | E30: 0 | F30: 0 | G30: 0
A31: 資料來源：各直轄市、縣市政府。
A33: Source: County and Government.

Sheet Jan.-June, 2025
A1: 兒童少年保護-處遇計畫在案數 Child and Youth Protection Cases - Types of Treatment Programs
A2: 單位：案數 Unit : Number of Cases
A3: 民國114年1-6月 Jan.-June, 2025 | C3: =IF(C8=SUM(C9:C30),"","*") | D3: =IF(D8=SUM(D9:D30),"","*") | E3: =IF(E8=SUM(E9:E30),"","*") | F3: =IF(F8=SUM(F9:F30),"","*") | G3: =IF(G8=SUM(G9:G30),"","*")
A4: 區域別 Locality | C4: 處遇計畫在案數Types of Treatment Programs (Number of Cases)
C5: 家庭維繫 Family Preservation | D5: 家庭重整Family Reunification | G5: 安置後返家 Returning Home
D6: 合計 Subtotal | E6: 強制安置 Compulsory Placement | F6: 轉委託安置 Outsourced Placement
A8: 總計 | B8: Total | C8: 12731 | D8: 3261 | E8: 2597 | F8: 664 | G8: 57
A9: 新北市 | B9: New Taipei City | C9: 1648 | D9: 477 | E9: 405 | F9: 72 | G9: 3
A10: 臺北市 | B10: Taipei City | C10: 1670 | D10: 183 | E10: 153 | F10: 30 | G10: 8
A11: 桃園市 | B11: Taoyuan City | C11: 976 | D11: 263 | E11: 248 | F11: 15 | G11: 11
A12: 臺中市 | B12: Taichung City | C12: 3142 | D12: 434 | E12: 381 | F12: 53 | G12: 5
A13: 臺南市 | B13: Tainan City | C13: 544 | D13: 158 | E13: 144 | F13: 14 | G13: 6
A14: 高雄市 | B14: Kaohsiung City | C14: 1773 | D14: 668 | E14: 427 | F14: 241 | G14: 4
A15: 宜蘭縣 | B15: Yilan County | C15: 59 | D15: 6 | E15: 5 | F15: 1 | G15: 0
A16: 新竹縣 | B16: Hsinchu County | C16: 268 | D16: 65 | E16: 36 | F16: 29 | G16: 2
A17: 苗栗縣 | B17: Miaoli County | C17: 150 | D17: 77 | E17: 74 | F17: 3 | G17: 3
A18: 彰化縣 | B18: Changhua County | C18: 561 | D18: 227 | E18: 174 | F18: 53 | G18: 3
A19: 南投縣 | B19: Nantou County | C19: 237 | D19: 94 | E19: 88 | F19: 6 | G19: 0
... A30: 連江縣 | B30: Lienchiang County | C30: 0 | D30: 0 | E30: 0 | F30: 0 | G30: 0
A31: 資料來源：各直轄市、縣市政府。
A32: Source: County and Government.
A33: 更新日期：2025/09/30
A35: 總計 | B35: Total | C35: 12731 | D35: 3261 | E35: 2597 | F35: 664 | G35: 57
A36: 新北市 | B36: New Taipei City | C36: 1648 | D36: 477 | E36: 405 | F36: 72 | G36: 3
A37: 臺北市 | B37: Taipei City | C37: 1670 | D37: 183 | E37: 153 | F37: 30 | G37: 8
A38: 桃園市 | B38: Taoyuan City | C38: 976 | D38: 263 | E38: 248 | F38: 15 | G38: 11
A39: 臺中市 | B39: Taichung City | C39: 3142 | D39: 434 | E39: 381 | F39: 53 | G39: 5
A40: 臺南市 | B40: Tainan City | C40: 544 | D40: 158 | E40: 144 | F40: 14 | G40: 6
A41: 高雄市 | B41: Kaohsiung City | C41: 1773 | D41: 668 | E41: 427 | F41: 241 | G41: 4
A42: 宜蘭縣 | B42: Yilan County | C42: 59 | D42: 6 | E42: 5 | F42: 1 | G42: 0
A43: 新竹縣 | B43: Hsinchu County | C43: 268 | D43: 65 | E43: 36 | F43: 29 | G43: 2
A44: 苗栗縣 | B44: Miaoli County | C44: 150 | D44: 77 | E44: 74 | F44: 3 | G44: 3
A45: 彰化縣 | B45: Changhua County | C45: 561 | D45: 227 | E45: 174 | F45: 53 | G45: 3
A46: 南投縣 | B46: Nantou County | C46: 237 | D46: 94 | E46: 88 | F46: 6 | G46: 0
... A57: 連江縣 | B57: Lienchiang County | C57: 0 | D57: 0 | E57: 0 | F57: 0 | G57: 0
A59: 總計 | B59: Total | C59: =IF(C35=C8,"","*") | D59: =IF(D35=D8,"","*") | E59: =IF(E35=E8,"","*") | F59: =IF(F35=F8,"","*")
A60: 新北市 | B60: New Taipei City | C60: =IF(C36=C9,"","*") | D60: =IF(D36=D9,"","*") | E60: =IF(E36=E9,"","*") | F60: =IF(F36=F9,"","*")
A61: 臺北市 | B61: Taipei City | C61: =IF(C37=C10,"","*") | D61: =IF(D37=D10,"","*") | E61: =IF(E37=E10,"","*") | F61: =IF(F37=F10,"","*")
A62: 桃園市 | B62: Taoyuan City | C62: =IF(C38=C11,"","*") | D62: =IF(D38=D11,"","*") | E62: =IF(E38=E11,"","*") | F62: =IF(F38=F11,"","*")
A63: 臺中市 | B63: Taichung City | C63: =IF(C39=C12,"","*") | D63: =IF(D39=D12,"","*") | E63: =IF(E39=E12,"","*") | F63: =IF(F39=F12,"","*")
...

Sheet 2024
A1: 兒童少年保護-處遇計畫在案數 Child and Youth Protection Cases - Types of Treatment Programs
A2: 單位：案數 Unit : Number of Cases
A3: 民國113年, 2024
A4: 區域別 Locality | C4: 處遇計畫在案數Types of Treatment Programs (Number of Cases)
C5: 家庭維繫 Family Preservation | D5: 家庭重整Family Reunification | G5: 安置後返家 Returning Home
D6: 合計 Subtotal | E6: 強制安置 Compulsory Placement | F6: 轉委託安置 Outsourced Placement
A8: 總計 | B8: Total | C8: 25800 | D8: 6121 | E8: 4770 | F8: 1351 | G8: 154
A9: 新北市 | B9: New Taipei City | C9: 3556 | D9: 928 | E9: 772 | F9: 156 | G9: 24
A10: 臺北市 | B10: Taipei City | C10: 3226 | D10: 333 | E10: 262 | F10: 71 | G10: 9
A11: 桃園市 | B11: Taoyuan City | C11: 2087 | D11: 499 | E11: 458 | F11: 41 | G11: 34
A12: 臺中市 | B12: Taichung City | C12: 6045 | D12: 742 | E12: 668 | F12: 74 | G12: 11
A13: 臺南市 | B13: Tainan City | C13: 1377 | D13: 256 | E13: 236 | F13: 20 | G13: 12
A14: 高雄市 | B14: Kaohsiung City | C14: 3139 | D14: 1290 | E14: 759 | F14: 531 | G14: 12
A15: 宜蘭縣 | B15: Yilan County | C15: 211 | D15: 54 | E15: 31 | F15: 23 | G15: 2
A16: 新竹縣 | B16: Hsinchu County | C16: 420 | D16: 116 | E16: 73 | F16: 43 | G16: 7
A17: 苗栗縣 | B17: Miaoli County | C17: 261 | D17: 147 | E17: 142 | F17: 5 | G17: 7
A18: 彰化縣 | B18: Changhua County | C18: 1146 | D18: 372 | E18: 292 | F18: 80 | G18: 7
A19: 南投縣 | B19: Nantou County | C19: 517 | D19: 209 | E19: 185 | F19: 24 | G19: 1
... A30: 連江縣 | B30: Lienchiang County | C30: 6 | D30: 0 | E30: 0 | F30: 0 | G30: 4
A31: 資料來源：各直轄市、縣市政府。
A32: Source: County and Government.

Sheet 2023
A1: 兒童少年保護-處遇計畫在案數 Child and Youth Protection Cases - Types of Treatment Programs
A2: 單位：案數 Unit : Number of Cases
A3: 民國112年, 2023
A4: 區域別 Locality | C4: 處遇計畫在案數Types of Treatment Programs (Number of Cases)
C5: 家庭維繫 Family Preservation | D5: 家庭重整Family Reunification | G5: 安置後返家 Returning Home
D6: 合計 Subtotal | E6: 強制安置 Compulsory Placement | F6: 轉委託安置 Outsourced Placement
A8: 總計 | B8: Total | C8: 24339 | D8: 4754 | E8: 3727 | F8: 1027 | G8: 191
A9: 新北市 | B9: New Taipei City | C9: 3657 | D9: 856 | E9: 685 | F9: 171 | G9: 28
A10: 臺北市 | B10: Taipei City | C10: 2759 | D10: 364 | E10: 263 | F10: 101 | G10: 29
A11: 桃園市 | B11: Taoyuan City | C11: 2092 | D11: 518 | E11: 462 | F11: 56 | G11: 29
A12: 臺中市 | B12: Taichung City | C12: 5615 | D12: 547 | E12: 496 | F12: 51 | G12: 13
A13: 臺南市 | B13: Tainan City | C13: 1413 | D13: 173 | E13: 147 | F13: 26 | G13: 19
A14: 高雄市 | B14: Kaohsiung City | C14: 2796 | D14: 814 | E14: 523 | F14: 291 | G14: 15
A15: 宜蘭縣 | B15: Yilan County | C15: 203 | D15: 45 | E15: 25 | F15: 20 | G15: 1
A16: 新竹縣 | B16: Hsinchu County | C16: 407 | D16: 107 | E16: 79 | F16: 28 | G16: 4
A17: 苗栗縣 | B17: Miaoli County | C17: 214 | D17: 79 | E17: 79 | F17: 0 | G17: 8
A18: 彰化縣 | B18: Changhua County | C18: 1043 | D18: 229 | E18: 166 | F18: 63 | G18: 4
A19: 南投縣 | B19: Nantou County | C19: 441 | D19: 143 | E19: 122 | F19: 21 | G19: 5
... A30: 連江縣 | B30: Lienchiang County | C30: 1 | D30: 0 | E30: 0 | F30: 0 | G30: 1
A31: 資料來源：各直轄市、縣市政府。
A32: Source: County and Government.

Sheet 2022
A1: 兒童少年保護-處遇計畫在案數 Child and Youth Protection Cases - Types of Treatment Programs
A2: 單位：案數 Unit : Number of Cases
A3: 民國111年, 2022
A4: 區域別 Locality | C4: 處遇計畫在案數Types of Treatment Programs (Number of Cases)
C5: 家庭維繫 Family Preservation | D5: 家庭重整Family Reunification | G5: 安置後返家 Returning Home
D6: 合計 Subtotal | E6: 強制安置 Compulsory Placement | F6: 轉委託安置 Outsourced Placement
A8: 總計 | B8: Total | C8: 22093 | D8: 4552 | E8: 3447 | F8: 1105 | G8: 205
A9: 新北市 | B9: New Taipei City | C9: 3531 | D9: 893 | E9: 690 | F9: 203 | G9: 67
A10: 臺北市 | B10: Taipei City | C10: 2482 | D10: 442 | E10: 309 | F10: 133 | G10: 10
A11: 桃園市 | B11: Taoyuan City | C11: 1581 | D11: 543 | E11: 496 | F11: 47 | G11: 17
A12: 臺中市 | B12: Taichung City | C12: 4744 | D12: 519 | E12: 459 | F12: 60 | G12: 14
A13: 臺南市 | B13: Tainan City | C13: 1385 | D13: 176 | E13: 146 | F13: 30 | G13: 19
A14: 高雄市 | B14: Kaohsiung City | C14: 2845 | D14: 645 | E14: 370 | F14: 275 | G14: 15
A15: 宜蘭縣 | B15: Yilan County | C15: 186 | D15: 35 | E15: 7 | F15: 28 | G15: 1
A16: 新竹縣 | B16: Hsinchu County | C16: 336 | D16: 111 | E16: 72 | F16: 39 | G16: 3
A17: 苗栗縣 | B17: Miaoli County | C17: 213 | D17: 75 | E17: 74 | F17: 1 | G17: 5
A18: 彰化縣 | B18: Changhua County | C18: 906 | D18: 204 | E18: 133 | F18: 71 | G18: 10
A19: 南投縣 | B19: Nantou County | C19: 418 | D19: 84 | E19: 72 | F19: 12 | G19: 1
... A30: 連江縣 | B30: Lienchiang County | C30: 3 | D30: 0 | E30: 0 | F30: 0 | G30: 0
A31: 資料來源：各直轄市、縣市政府。
A32: Source: County and Government.

Sheet 2021
A1: 兒童少年保護-處遇計畫在案數 Child and Youth Protection Cases - Types of Treatment Programs
A2: 單位：案數 Unit : Number of Cases
A3: 民國110年, 2021
A4: 區域別 Locality | C4: 處遇計畫在案數Types of Treatment Programs (Number of Cases)
C5: 家庭維繫 Family Preservation | D5: 家庭重整Family Reunification
D6: 合計 Subtotal | E6: 強制安置 Compulsory Placement | F6: 轉委託安置 Outsourced Placement
A8: 總計 | B8: Total | C8: 20139 | D8: 4203 | E8: 2925 | F8: 1278
A9: 新北市 | B9: New Taipei City | C9: 3196 | D9: 676 | E9: 506 | F9: 170
A10: 臺北市 | B10: Taipei City | C10: 2830 | D10: 429 | E10: 294 | F10: 135
A11: 桃園市 | B11: Taoyuan City | C11: 1707 | D11: 581 | E11: 496 | F11: 85
A12: 臺中市 | B12: Taichung City | C12: 2732 | D12: 404 | E12: 337 | F12: 67
A13: 臺南市 | B13: Tainan City | C13: 1343 | D13: 152 | E13: 134 | F13: 18
A14: 高雄市 | B14: Kaohsiung City | C14: 3172 | D14: 647 | E14: 304 | F14: 343
A15: 宜蘭縣 | B15: Yilan County | C15: 242 | D15: 62 | E15: 38 | F15: 24
A16: 新竹縣 | B16: Hsinchu County | C16: 329 | D16: 103 | E16: 43 | F16: 60
A17: 苗栗縣 | B17: Miaoli County | C17: 258 | D17: 84 | E17: 78 | F17: 6
A18: 彰化縣 | B18: Changhua County | C18: 476 | D18: 163 | E18: 110 | F18: 53
A19: 南投縣 | B19: Nantou County | C19: 437 | D19: 76 | E19: 57 | F19: 19
... A30: 連江縣 | B30: Lienchiang County | C30: 2 | D30: 0 | E30: 0 | F30: 0
A31: 資料來源：各直轄市、縣市政府。
A32: Source: County and Government.

Sheet 2020
A1: 兒童少年保護-處遇計畫在案數 Child and Youth Protection Cases - Types of Treatment Programs
A2: 單位：案數 Unit : Number of Cases
A3: 民國109年, 2020
A4: 區域別 Locality | C4: 處遇計畫在案數Types of Treatment Programs (Number of Cases)
C5: 家庭維繫 Family Preservation | D5: 家庭重整Family Reunification
D6: 合計 Subtotal | E6: 強制安置 Compulsory Placement | F6: 委託安置 Outsourced Placement
A8: 總計 | B8: Total | C8: 16909 | D8: 6144 | E8: 3905 | F8: 2239
A9: 新北市 | B9: New Taipei City | C9: 2640 | D9: 927 | E9: 709 | F9: 218
A10: 臺北市 | B10: Taipei City | C10: 2311 | D10: 458 | E10: 321 | F10: 137
A11: 桃園市 | B11: Taoyuan City | C11: 1795 | D11: 631 | E11: 495 | F11: 136
A12: 臺中市 | B12: Taichung City | C12: 2113 | D12: 544 | E12: 386 | F12: 158
A13: 臺南市 | B13: Tainan City | C13: 1254 | D13: 258 | E13: 229 | F13: 29
A14: 高雄市 | B14: Kaohsiung City | C14: 2618 | D14: 1180 | E14: 383 | F14: 797
A15: 宜蘭縣 | B15: Yilan County | C15: 167 | D15: 62 | E15: 42 | F15: 20
A16: 新竹縣 | B16: Hsinchu County | C16: 393 | D16: 157 | E16: 98 | F16: 59
A17: 苗栗縣 | B17: Miaoli County | C17: 209 | D17: 157 | E17: 138 | F17: 19
A18: 彰化縣 | B18: Changhua County | C18: 624 | D18: 313 | E18: 217 | F18: 96
A19: 南投縣 | B19: Nantou County | C19: 198 | D19: 142 | E19: 110 | F19: 32
... A30: 連江縣 | B30: Lienchiang County | C30: 1 | D30: 1 | E30: 1 | F30: 0
A31: 資料來源：各直轄市、縣市政府。
A32: Source: County and Government.
