Workbook

Sheet 歷年
A1: 兒童及少年保護-施虐者本身因素分By Reason of the Abused
A4: 年別 Year | B4: 本身因素分(人次) (複選)By Reason of the Abused
B5: 缺乏親職 教育知識 Lack of Parental Education Knowledge | C5: 婚姻 失調 Marital Maladjustment | D5: 貧困 Poverty | E5: 失業 Unemployment | F5: 酗酒、藥物濫用 Alcohol and Drug Abuse | G5: 精神疾病 Mental Illness | H5: 人格違常 Personality Disorder | I5: 迷信 Superstition | J5: 童年有受虐經驗 Child Abuse Experience | K5: 其他 (請說明) Others
A7: 98年 ,2009 | B7: ='98'!C8 -> 5669 | C7: ='98'!D8 -> 2703 | D7: ='98'!E8 -> 1161 | E7: ='98'!F8 -> 1104 | F7: ='98'!G8 -> 1672 | G7: ='98'!H8 -> 584 | H7: ='98'!I8 -> 247 | I7: ='98'!J8 -> 38 | ... K7: ='98'!L8 -> 3120
A8: 99年 ,2010 | B8: ='99'!C8 -> 13065 | C8: ='99'!D8 -> 7005 | D8: ='99'!E8 -> 3105 | E8: ='99'!F8 -> 1825 | F8: ='99'!G8 -> 2566 | G8: ='99'!H8 -> 1462 | H8: ='99'!I8 -> 418 | I8: ='99'!J8 -> 110 | ... K8: ='99'!L8 -> 3117
A9: 100年 ,2011 | B9: ='100'!C8 -> 14460 | C9: ='100'!D8 -> 7035 | D9: ='100'!E8 -> 3493 | E9: ='100'!F8 -> 1528 | F9: ='100'!G8 -> 2890 | G9: ='100'!H8 -> 1242 | H9: ='100'!I8 -> 480 | I9: ='100'!J8 -> 55 | ... K9: ='100'!L8 -> 2748
A10: 101年 ,2012 | B10: ='101'!C8 -> 15738 | C10: ='101'!D8 -> 7467 | D10: ='101'!E8 -> 3383 | E10: ='101'!F8 -> 1397 | F10: ='101'!G8 -> 2977 | G10: ='101'!H8 -> 1389 | H10: ='101'!I8 -> 412 | I10: ='101'!J8 -> 50 | ... K10: ='101'!L8 -> 2770
A11: 102年 ,2013 | B11: ='102'!C8 -> 13052 | C11: ='102'!D8 -> 6596 | D11: ='102'!E8 -> 2458 | E11: ='102'!F8 -> 1000 | F11: ='102'!G8 -> 2157 | G11: ='102'!H8 -> 1143 | H11: ='102'!I8 -> 182 | I11: ='102'!J8 -> 50 | ... K11: ='102'!L8 -> 2626
A12: 103年, 2014 | B12: ='103'!C8 -> 7060 | C12: ='103'!D8 -> 3280 | D12: ='103'!E8 -> 1112 | E12: ='103'!F8 -> 492 | F12: ='103'!G8 -> 1167 | G12: ='103'!H8 -> 533 | H12: ='103'!I8 -> 332 | I12: ='103'!J8 -> 31 | ... K12: ='103'!L8 -> 1701
A13: 104年, 2015 | B13: ='104'!C8 -> 4998 | C13: ='104'!D8 -> 2889 | D13: ='104'!E8 -> 1310 | E13: ='104'!F8 -> 522 | F13: ='104'!G8 -> 1108 | G13: ='104'!H8 -> 370 | H13: ='104'!I8 -> 99 | I13: ='104'!J8 -> 31 | ... K13: ='104'!L8 -> 782
A15: 年別 Year | B15: 本身因素分(人次) (複選)By Reason of the Abused
B16: 缺乏親職 教育知識 Lack of Parental Education Knowledge | C16: 婚姻 失調 Marital Maladjustment | D16: 經濟因素 Economic Factors | E16: 酗酒、藥物濫用 Alcohol and Drug Abuse | F16: 精神疾病 Mental Illness | G16: 人格違常 Personality Disorder | H16: 未婚或 未成年生育 Premarital or Teenage Childbirth | I16: 有自殺紀 錄或意圖 Records of Suicides or Suicide Attempts | J16: 童年有受虐經驗 Child Abuse Experience | K16: 其他 (請說明) Others
A18: 105年, 2016 | B18: ='105'!C8 -> 3584 | C18: ='105'!D8 -> 1474 | D18: ='105'!E8 -> 735 | E18: ='105'!F8 -> 820 | F18: ='105'!G8 -> 251 | G18: ='105'!H8 -> 59 | H18: ='105'!I8 -> 77 | I18: ='105'!J8 -> 177 | ... K18: ='105'!L8 -> 1587
A19: 家內兒童及少年保護案件-施虐者本身因素分Intra-family Child and Youth Protection Cases - By Reason of the Abused
A20: 單位：人次 Unit :Person-times
A21: 年別 Year | B21: 本身因素分(人次) (複選)By Reason of the Abused
B22: 缺乏親職 教育知識 Lack of Parental Education Knowledge | C22: 習於體罰或不當管教 Accustomed to Corporal Punishment or Improper Discipline | D22: 負向情緒行為特質 | E22: 親密關係失調 Intimate Relationship | F22: 經濟因素 Economic Factors | G22: 酗酒 Alcohol | H22: 藥物濫用 Drug Abuse | I22: 精神疾病 Mental Illness | J22: 有自殺紀錄 或自殺意圖 Records of Suicides or Suicide Attempts | K22: 未婚生育 Premarital Childbirth | L22: 未成年生育 Teenage Childbirth | M22: 人格違常 Personality Disorder | N22: 迷信 Superstition | O22: 童年有受虐經驗 Child Abuse Experience | P22: 其他 Others
A25: 106年, 2017 | B25: ='106'!C8 -> 1776 | C25: ='106'!D8 -> 618 | D25: =SUM('106'!E8:H8) -> 1459 | E25: ='106'!I8 -> 542 | F25: ='106'!J8 -> 496 | G25: ='106'!K8 -> 337 | H25: ='106'!L8 -> 226 | I25: ='106'!M8 -> 191 | J25: ='106'!N8 -> 140 | K25: ='106'!O8 -> 130 | L25: ='106'!P8 -> 34 | ... P25: ='106'!T8 -> 78
A26: 107年, 2018 | B26: ='107'!C8 -> 1912 | C26: ='107'!D8 -> 803 | D26: ='107'!E8 -> 1238 | E26: ='107'!F8 -> 583 | F26: ='107'!G8 -> 509 | G26: ='107'!H8 -> 308 | H26: ='107'!I8 -> 160 | I26: ='107'!J8 -> 179 | ... P26: ='107'!Q8 -> 69
A27: 兒童及少年保護-施虐者本身因素分 By Reason of the Abused
A28: 單位：人次 Unit :Person-times
A29: 年別 Year | B29: 本身因素分(人次) (複選)By Reason of the Abused
B30: 缺乏親職 教育知識 Lack of Parental Education Knowledge | C30: 習於體罰或不當管教 Accustomed to Corporal Punishment or Improper Discipline | D30: 負向情緒行為特質 | E30: 親密關係失調 Intimate Relationship | F30: 經濟因素 Economic Factors | G30: 酗酒 Alcohol | H30: 藥物濫用 Drug Abuse | I30: 精神疾病 Mental Illness | J30: 有自殺紀錄 或自殺意圖 Records of Suicides or Suicide Attempts | K30: 未婚生育 Premarital Childbirth | L30: 未成年生育 Teenage Childbirth | M30: 人格違常 Personality Disorder | N30: 迷信 Superstition | O30: 童年有受虐經驗 Child Abuse Experience | P30: 其他 Others
A33: 108年, 2019 | B33: ='2019'!C8 -> 1676 | C33: ='2019'!D8 -> 3589 | D33: ='2019'!E8 -> 2000 | E33: ='2019'!F8 -> 973 | F33: ='2019'!G8 -> 751 | G33: ='2019'!H8 -> 491 | H33: ='2019'!I8 -> 240 | I33: ='2019'!J8 -> 328 | ... P33: ='2019'!Q8 -> 2028
A34: 109年, 2020 | B34: ='2020'!C8 -> 2078 | C34: ='2020'!D8 -> 4522 | D34: ='2020'!E8 -> 2547 | E34: ='2020'!F8 -> 1175 | F34: ='2020'!G8 -> 1051 | G34: ='2020'!H8 -> 492 | H34: ='2020'!I8 -> 321 | I34: ='2020'!J8 -> 400 | ... P34: ='2020'!Q8 -> 1838
A35: 110年, 2021 | B35: ='2021'!C8 -> 3421 | C35: ='2021'!D8 -> 3189 | D35: ='2021'!E8 -> 2632 | E35: ='2021'!F8 -> 2888 | F35: ='2021'!G8 -> 1914 | G35: ='2021'!H8 -> 505 | H35: ='2021'!I8 -> 582 | I35: ='2021'!J8 -> 452 | ... P35: ='2021'!Q8 -> 763
A36: 111年, 2022 | B36: ='2022'!C8 -> 4798 | C36: ='2022'!D8 -> 2217 | D36: ='2022'!E8 -> 2581 | E36: ='2022'!F8 -> 2235 | F36: ='2022'!G8 -> 1822 | G36: ='2022'!H8 -> 438 | H36: ='2022'!I8 -> 534 | I36: ='2022'!J8 -> 473 | ... P36: ='2022'!Q8 -> 797
A37: 112年, 2023 | B37: ='2023'!C8 -> 5320 | C37: ='2023'!D8 -> 2320 | D37: ='2023'!E8 -> 2649 | E37: ='2023'!F8 -> 2474 | F37: ='2023'!G8 -> 2137 | G37: ='2023'!H8 -> 445 | H37: ='2023'!I8 -> 607 | I37: ='2023'!J8 -> 458 | ... P37: ='2023'!Q8 -> 826
A38: 113年, 2024 | B38: ='2024'!C8 -> 4918 | C38: ='2024'!D8 -> 2153 | D38: ='2024'!E8 -> 2294 | E38: ='2024'!F8 -> 2224 | F38: ='2024'!G8 -> 1909 | G38: ='2024'!H8 -> 359 | H38: ='2024'!I8 -> 601 | I38: ='2024'!J8 -> 400 | ... P38: ='2024'!Q8 -> 872
A39: 上半年, Jan.-June | B39: 2591 | C39: 1149 | D39: 1178 | E39: 1186 | F39: 988 | G39: 209 | H39: 310 | I39: 195 | J39: 222 | K39: 106 | L39: 32 | M39: 21 | N39: 12 | O39: 128 | P39: 466
A40: 下半年, July-Dec. | B40: 2327 | C40: 1004 | D40: 1116 | E40: 1038 | F40: 921 | G40: 150 | H40: 291 | I40: 205 | J40: 253 | K40: 111 | L40: 32 | M40: 11 | N40: 12 | O40: 100 | P40: 406
A41: 114年, 2025 | B41: ='2025'!C8 -> 4582 | C41: ='2025'!D8 -> 2079 | D41: ='2025'!E8 -> 2178 | E41: ='2025'!F8 -> 2071 | F41: ='2025'!G8 -> 1656 | G41: ='2025'!H8 -> 329 | H41: ='2025'!I8 -> 586 | I41: ='2025'!J8 -> 345 | ... P41: ='2025'!Q8 -> 761
A42: 上半年, Jan.-June | B42: ='Jan.-June, 2025'!C8 -> 2416 | C42: ='Jan.-June, 2025'!D8 -> 1113 | D42: ='Jan.-June, 2025'!E8 -> 1090 | E42: ='Jan.-June, 2025'!F8 -> 1056 | F42: ='Jan.-June, 2025'!G8 -> 888 | G42: ='Jan.-June, 2025'!H8 -> 165 | H42: ='Jan.-June, 2025'!I8 -> 289 | I42: ='Jan.-June, 2025'!J8 -> 171 | ... P42: ='Jan.-June, 2025'!Q8 -> 383
A43: 下半年, July-Dec. | B43: ='July-Dec., 2025'!C8 -> 2166 | C43: ='July-Dec., 2025'!D8 -> 966 | D43: ='July-Dec., 2025'!E8 -> 1088 | E43: ='July-Dec., 2025'!F8 -> 1015 | F43: ='July-Dec., 2025'!G8 -> 768 | G43: ='July-Dec., 2025'!H8 -> 164 | H43: ='July-Dec., 2025'!I8 -> 297 | I43: ='July-Dec., 2025'!J8 -> 174 | ... P43: ='July-Dec., 2025'!Q8 -> 378
A44: 資料來源：各直轄市、縣市政府。
A45: Source: County and Government.
A46: 更新日期：2026/03/31 | B46: =IF(B41=SUM(B42:B43),"","*") | C46: =IF(C41=SUM(C42:C43),"","*") | D46: =IF(D41=SUM(D42:D43),"","*") | E46: =IF(E41=SUM(E42:E43),"","*") | F46: =IF(F41=SUM(F42:F43),"","*") | G46: =IF(G41=SUM(G42:G43),"","*") | H46: =IF(H41=SUM(H42:H43),"","*") | I46: =IF(I41=SUM(I42:I43),"","*") | ... P46: =IF(P41=SUM(P42:P43),"","*")
B47: =IF(B38=SUM(B42:B43),"","*") -> * | C47: =IF(C38=SUM(C42:C43),"","*") -> * | D47: =IF(D38=SUM(D42:D43),"","*") -> * | E47: =IF(E38=SUM(E42:E43),"","*") -> * | F47: =IF(F38=SUM(F42:F43),"","*") -> * | G47: =IF(G38=SUM(G42:G43),"","*") -> * | H47: =IF(H38=SUM(H42:H43),"","*") -> * | I47: =IF(I38=SUM(I42:I43),"","*") -> * | ... P47: =IF(P38=SUM(P42:P43),"","*") -> *

Sheet 2025
A1: 兒童及少年保護-施虐者本身因素分 By Reason of the Abused
A2: 單位：人次 Unit :Person-times
A3: 民國114年, 2025 | C3: =IF(C8=SUM(C9:C30),"","*") | D3: =IF(D8=SUM(D9:D30),"","*") | E3: =IF(E8=SUM(E9:E30),"","*") | F3: =IF(F8=SUM(F9:F30),"","*") | G3: =IF(G8=SUM(G9:G30),"","*") | H3: =IF(H8=SUM(H9:H30),"","*") | I3: =IF(I8=SUM(I9:I30),"","*") | J3: =IF(J8=SUM(J9:J30),"","*") | ... Q3: =IF(Q8=SUM(Q9:Q30),"","*")
A4: 區域及特殊族群別 Locality & Ethnos | C4: 本身因素分(人次) (複選)By Reason of the Abused
C5: 缺乏親職 教育知識 Lack of Parental Education Knowledge | D5: 習於體罰或不當管教 Accustomed to Corporal Punishment or Improper Discipline | E5: 負向情緒行為特質 Emotional Instability | F5: 親密關係失調 Intimate Relationship | G5: 經濟因素 Economic Factors | H5: 酗酒 Alcohol | I5: 藥物濫用 Drug Abuse | J5: 精神疾病 Mental Illness | K5: 有自殺紀錄 或自殺意圖 Records of Suicides or Suicide Attempts | L5: 未婚生育 Premarital Childbirth | M5: 未成年生育 Teenage Childbirth | N5: 人格違常 Personality Disorder | O5: 迷信 Superstition | P5: 童年有受虐經驗 Child Abuse Experience | Q5: 其他 Others
A8: 總計 | B8: Total | C8: 4582 | D8: 2079 | E8: 2178 | F8: 2071 | G8: 1656 | H8: 329 | I8: 586 | J8: 345 | K8: 460 | L8: 213 | M8: 59 | N8: 26 | O8: 7 | P8: 259 | Q8: 761
A9: 新北市 | B9: New Taipei City | C9: 908 | D9: 534 | E9: 443 | F9: 313 | G9: 208 | H9: 65 | I9: 62 | J9: 70 | K9: 47 | L9: 32 | M9: 8 | N9: 4 | O9: 0 | P9: 42 | Q9: 236
A10: 臺北市 | B10: Taipei City | C10: 462 | D10: 202 | E10: 192 | F10: 201 | G10: 155 | H10: 20 | I10: 55 | J10: 30 | K10: 44 | L10: 26 | M10: 4 | N10: 1 | O10: 0 | P10: 20 | Q10: 65
A11: 桃園市 | B11: Taoyuan City | C11: 459 | D11: 170 | E11: 176 | F11: 95 | G11: 91 | H11: 9 | I11: 51 | J11: 14 | K11: 15 | L11: 20 | M11: 1 | N11: 0 | O11: 0 | P11: 5 | Q11: 35
A12: 臺中市 | B12: Taichung City | C12: 611 | D12: 234 | E12: 338 | F12: 262 | G12: 158 | H12: 48 | I12: 68 | J12: 36 | K12: 68 | L12: 19 | M12: 8 | N12: 2 | O12: 0 | P12: 37 | Q12: 76
A13: 臺南市 | B13: Tainan City | C13: 309 | D13: 159 | E13: 129 | F13: 192 | G13: 196 | H13: 25 | I13: 41 | J13: 24 | K13: 52 | L13: 16 | M13: 8 | N13: 4 | O13: 2 | P13: 29 | Q13: 48
A14: 高雄市 | B14: Kaohsiung City | C14: 750 | D14: 264 | E14: 276 | F14: 313 | G14: 255 | H14: 41 | I14: 74 | J14: 57 | K14: 82 | L14: 40 | M14: 9 | N14: 4 | O14: 2 | P14: 52 | Q14: 92
A15: 宜蘭縣 | B15: Yilan County | C15: 23 | D15: 20 | E15: 8 | F15: 8 | G15: 4 | H15: 3 | I15: 5 | J15: 5 | K15: 0 | L15: 0 | M15: 0 | N15: 0 | O15: 0 | P15: 0 | Q15: 4
A16: 新竹縣 | B16: Hsinchu County | C16: 177 | D16: 85 | E16: 118 | F16: 103 | G16: 67 | H16: 19 | I16: 12 | J16: 29 | K16: 21 | L16: 14 | M16: 13 | N16: 1 | O16: 0 | P16: 19 | Q16: 14
A17: 苗栗縣 | B17: Miaoli County | C17: 53 | D17: 30 | E17: 44 | F17: 33 | G17: 31 | H17: 4 | I17: 20 | J17: 13 | K17: 10 | L17: 6 | M17: 0 | N17: 2 | O17: 0 | P17: 4 | Q17: 18
A18: 彰化縣 | B18: Changhua County | C18: 136 | D18: 60 | E18: 74 | F18: 99 | G18: 89 | H18: 14 | I18: 25 | J18: 12 | K18: 32 | L18: 8 | M18: 2 | N18: 0 | O18: 2 | P18: 3 | Q18: 36
A19: 南投縣 | B19: Nantou County | C19: 63 | D19: 22 | E19: 43 | F19: 44 | G19: 42 | H19: 12 | I19: 12 | J19: 5 | K19: 8 | L19: 2 | M19: 0 | N19: 0 | O19: 0 | P19: 0 | Q19: 12
... A30: 連江縣 | B30: Lienchiang County | C30: 3 | D30: 2 | E30: 3 | F30: 2 | G30: 2 | H30: 3 | I30: 1 | J30: 1 | K30: 1 | L30: 0 | M30: 0 | N30: 0 | O30: 0 | P30: 2 | Q30: 0
A31: 資料來源：各直轄市、縣市政府。
A32: Source: County and Government.
A34: 更新日期：2026/03/31

Sheet July-Dec., 2025
A1: 兒童及少年保護-施虐者本身因素分 By Reason of the Abused
A2: 單位：人次 Unit :Person-times
A3: 民國114年7-12月, July-Dec., 2025 | C3: =IF(C8=SUM(C9:C30),"","*") | D3: =IF(D8=SUM(D9:D30),"","*") | E3: =IF(E8=SUM(E9:E30),"","*") | F3: =IF(F8=SUM(F9:F30),"","*") | G3: =IF(G8=SUM(G9:G30),"","*") | H3: =IF(H8=SUM(H9:H30),"","*") | I3: =IF(I8=SUM(I9:I30),"","*") | J3: =IF(J8=SUM(J9:J30),"","*") | ... Q3: =IF(Q8=SUM(Q9:Q30),"","*")
A4: 區域及特殊族群別 Locality & Ethnos | C4: 本身因素分(人次) (複選)By Reason of the Abused
C5: 缺乏親職 教育知識 Lack of Parental Education Knowledge | D5: 習於體罰或不當管教 Accustomed to Corporal Punishment or Improper Discipline | E5: 負向情緒行為特質 Emotional Instability | F5: 親密關係失調 Intimate Relationship | G5: 經濟因素 Economic Factors | H5: 酗酒 Alcohol | I5: 藥物濫用 Drug Abuse | J5: 精神疾病 Mental Illness | K5: 有自殺紀錄 或自殺意圖 Records of Suicides or Suicide Attempts | L5: 未婚生育 Premarital Childbirth | M5: 未成年生育 Teenage Childbirth | N5: 人格違常 Personality Disorder | O5: 迷信 Superstition | P5: 童年有受虐經驗 Child Abuse Experience | Q5: 其他 Others
A8: 總計 | B8: Total | C8: 2166 | D8: 966 | E8: 1088 | F8: 1015 | G8: 768 | H8: 164 | I8: 297 | J8: 174 | K8: 228 | L8: 82 | M8: 22 | N8: 14 | O8: 3 | P8: 121 | Q8: 378
A9: 新北市 | B9: New Taipei City | C9: 440 | D9: 224 | E9: 217 | F9: 151 | G9: 81 | H9: 28 | I9: 23 | J9: 35 | K9: 25 | L9: 8 | M9: 2 | N9: 3 | O9: 0 | P9: 16 | Q9: 129
A10: 臺北市 | B10: Taipei City | C10: 214 | D10: 94 | E10: 87 | F10: 84 | G10: 80 | H10: 5 | I10: 22 | J10: 17 | K10: 22 | L10: 7 | M10: 2 | N10: 0 | O10: 0 | P10: 4 | Q10: 25
A11: 桃園市 | B11: Taoyuan City | C11: 208 | D11: 80 | E11: 85 | F11: 49 | G11: 43 | H11: 6 | I11: 28 | J11: 6 | K11: 5 | L11: 10 | M11: 0 | N11: 0 | O11: 0 | P11: 1 | Q11: 17
A12: 臺中市 | B12: Taichung City | C12: 307 | D12: 116 | E12: 190 | F12: 154 | G12: 82 | H12: 26 | I12: 42 | J12: 19 | K12: 39 | L12: 9 | M12: 3 | N12: 0 | O12: 0 | P12: 19 | Q12: 40
A13: 臺南市 | B13: Tainan City | C13: 107 | D13: 55 | E13: 37 | F13: 68 | G13: 72 | H13: 7 | I13: 15 | J13: 4 | K13: 13 | L13: 7 | M13: 3 | N13: 0 | O13: 1 | P13: 6 | Q13: 11
A14: 高雄市 | B14: Kaohsiung City | C14: 382 | D14: 144 | E14: 154 | F14: 170 | G14: 139 | H14: 27 | I14: 48 | J14: 36 | K14: 53 | L14: 17 | M14: 3 | N14: 3 | O14: 2 | P14: 34 | Q14: 46
A15: 宜蘭縣 | B15: Yilan County | C15: 12 | D15: 15 | E15: 4 | F15: 4 | G15: 2 | H15: 3 | I15: 1 | J15: 2 | K15: 0 | L15: 0 | M15: 0 | N15: 0 | O15: 0 | P15: 0 | Q15: 2
A16: 新竹縣 | B16: Hsinchu County | C16: 89 | D16: 44 | E16: 63 | F16: 49 | G16: 30 | H16: 5 | I16: 4 | J16: 16 | K16: 8 | L16: 3 | M16: 6 | N16: 1 | O16: 0 | P16: 8 | Q16: 5
A17: 苗栗縣 | B17: Miaoli County | C17: 32 | D17: 19 | E17: 25 | F17: 22 | G17: 20 | H17: 2 | I17: 10 | J17: 11 | K17: 5 | L17: 3 | M17: 0 | N17: 2 | O17: 0 | P17: 4 | Q17: 8
A18: 彰化縣 | B18: Changhua County | C18: 57 | D18: 25 | E18: 27 | F18: 38 | G18: 34 | H18: 10 | I18: 9 | J18: 4 | K18: 15 | L18: 4 | M18: 2 | N18: 0 | O18: 0 | P18: 2 | Q18: 21
A19: 南投縣 | B19: Nantou County | C19: 16 | D19: 8 | E19: 22 | F19: 16 | G19: 12 | H19: 5 | I19: 7 | J19: 1 | K19: 3 | L19: 2 | M19: 0 | N19: 0 | O19: 0 | P19: 0 | Q19: 5
... A30: 連江縣 | B30: Lienchiang County | C30: 1 | D30: 1 | E30: 1 | F30: 1 | G30: 1 | H30: 1 | I30: 0 | J30: 0 | K30: 0 | L30: 0 | M30: 0 | N30: 0 | O30: 0 | P30: 1 | Q30: 0
A31: 資料來源：各直轄市、縣市政府。
A32: Source: County and Government.
A34: 更新日期：2026/03/31

Sheet Jan.-June, 2025
A1: 兒童及少年保護-施虐者本身因素分 By Reason of the Abused
A2: 單位：人次 Unit :Person-times
A3: 民國113年1-6月,Jan.-June, 2024 | C3: =IF(C8=SUM(C9:C30),"","*") | D3: =IF(D8=SUM(D9:D30),"","*") | E3: =IF(E8=SUM(E9:E30),"","*") | F3: =IF(F8=SUM(F9:F30),"","*") | G3: =IF(G8=SUM(G9:G30),"","*") | H3: =IF(H8=SUM(H9:H30),"","*") | I3: =IF(I8=SUM(I9:I30),"","*") | J3: =IF(J8=SUM(J9:J30),"","*") | ... Q3: =IF(Q8=SUM(Q9:Q30),"","*")
A4: 區域及特殊族群別 Locality & Ethnos | C4: 本身因素分(人次) (複選)By Reason of the Abused
C5: 缺乏親職 教育知識 Lack of Parental Education Knowledge | D5: 習於體罰或不當管教 Accustomed to Corporal Punishment or Improper Discipline | E5: 負向情緒行為特質 Emotional Instability | F5: 親密關係失調 Intimate Relationship | G5: 經濟因素 Economic Factors | H5: 酗酒 Alcohol | I5: 藥物濫用 Drug Abuse | J5: 精神疾病 Mental Illness | K5: 有自殺紀錄 或自殺意圖 Records of Suicides or Suicide Attempts | L5: 未婚生育 Premarital Childbirth | M5: 未成年生育 Teenage Childbirth | N5: 人格違常 Personality Disorder | O5: 迷信 Superstition | P5: 童年有受虐經驗 Child Abuse Experience | Q5: 其他 Others
A8: 總計 | B8: Total | C8: 2416 | D8: 1113 | E8: 1090 | F8: 1056 | G8: 888 | H8: 165 | I8: 289 | J8: 171 | K8: 232 | L8: 131 | M8: 37 | N8: 12 | O8: 4 | P8: 138 | Q8: 383
A9: 新北市 | B9: New Taipei City | C9: 468 | D9: 310 | E9: 226 | F9: 162 | G9: 127 | H9: 37 | I9: 39 | J9: 35 | K9: 22 | L9: 24 | M9: 6 | N9: 1 | O9: 0 | P9: 26 | Q9: 107
A10: 臺北市 | B10: Taipei City | C10: 248 | D10: 108 | E10: 105 | F10: 117 | G10: 75 | H10: 15 | I10: 33 | J10: 13 | K10: 22 | L10: 19 | M10: 2 | N10: 1 | O10: 0 | P10: 16 | Q10: 40
A11: 桃園市 | B11: Taoyuan City | C11: 251 | D11: 90 | E11: 91 | F11: 46 | G11: 48 | H11: 3 | I11: 23 | J11: 8 | K11: 10 | L11: 10 | M11: 1 | N11: 0 | O11: 0 | P11: 4 | Q11: 18
A12: 臺中市 | B12: Taichung City | C12: 304 | D12: 118 | E12: 148 | F12: 108 | G12: 76 | H12: 22 | I12: 26 | J12: 17 | K12: 29 | L12: 10 | M12: 5 | N12: 2 | O12: 0 | P12: 18 | Q12: 36
A13: 臺南市 | B13: Tainan City | C13: 202 | D13: 104 | E13: 92 | F13: 124 | G13: 124 | H13: 18 | I13: 26 | J13: 20 | K13: 39 | L13: 9 | M13: 5 | N13: 4 | O13: 1 | P13: 23 | Q13: 37
A14: 高雄市 | B14: Kaohsiung City | C14: 368 | D14: 120 | E14: 122 | F14: 143 | G14: 116 | H14: 14 | I14: 26 | J14: 21 | K14: 29 | L14: 23 | M14: 6 | N14: 1 | O14: 0 | P14: 18 | Q14: 46
A15: 宜蘭縣 | B15: Yilan County | C15: 11 | D15: 5 | E15: 4 | F15: 4 | G15: 2 | H15: 0 | I15: 4 | J15: 3 | K15: 0 | L15: 0 | M15: 0 | N15: 0 | O15: 0 | P15: 0 | Q15: 2
A16: 新竹縣 | B16: Hsinchu County | C16: 88 | D16: 41 | E16: 55 | F16: 54 | G16: 37 | H16: 14 | I16: 8 | J16: 13 | K16: 13 | L16: 11 | M16: 7 | N16: 0 | O16: 0 | P16: 11 | Q16: 9
A17: 苗栗縣 | B17: Miaoli County | C17: 21 | D17: 11 | E17: 19 | F17: 11 | G17: 11 | H17: 2 | I17: 10 | J17: 2 | K17: 5 | L17: 3 | M17: 0 | N17: 0 | O17: 0 | P17: 0 | Q17: 10
A18: 彰化縣 | B18: Changhua County | C18: 79 | D18: 35 | E18: 47 | F18: 61 | G18: 55 | H18: 4 | I18: 16 | J18: 8 | K18: 17 | L18: 4 | M18: 0 | N18: 0 | O18: 2 | P18: 1 | Q18: 15
A19: 南投縣 | B19: Nantou County | C19: 47 | D19: 14 | E19: 21 | F19: 28 | G19: 30 | H19: 7 | I19: 5 | J19: 4 | K19: 5 | L19: 0 | M19: 0 | N19: 0 | O19: 0 | P19: 0 | Q19: 7
... A30: 連江縣 | B30: Lienchiang County | C30: 2 | D30: 1 | E30: 2 | F30: 1 | G30: 1 | H30: 2 | I30: 1 | J30: 1 | K30: 1 | L30: 0 | M30: 0 | N30: 0 | O30: 0 | P30: 1 | Q30: 0
A31: 資料來源：各直轄市、縣市政府。
A32: Source: County and Government.
A34: 更新日期：2024/09/30
A36: 總計 | B36: Total | C36: 2416 | D36: 1113 | E36: 1090 | F36: 1056 | G36: 888 | H36: 165 | I36: 289 | J36: 171 | K36: 232 | L36: 131 | M36: 37 | N36: 12 | O36: 4 | P36: 138 | Q36: 383
A37: 新北市 | B37: New Taipei City | C37: 468 | D37: 310 | E37: 226 | F37: 162 | G37: 127 | H37: 37 | I37: 39 | J37: 35 | K37: 22 | L37: 24 | M37: 6 | N37: 1 | O37: 0 | P37: 26 | Q37: 107
A38: 臺北市 | B38: Taipei City | C38: 248 | D38: 108 | E38: 105 | F38: 117 | G38: 75 | H38: 15 | I38: 33 | J38: 13 | K38: 22 | L38: 19 | M38: 2 | N38: 1 | O38: 0 | P38: 16 | Q38: 40
A39: 桃園市 | B39: Taoyuan City | C39: 251 | D39: 90 | E39: 91 | F39: 46 | G39: 48 | H39: 3 | I39: 23 | J39: 8 | K39: 10 | L39: 10 | M39: 1 | N39: 0 | O39: 0 | P39: 4 | Q39: 18
A40: 臺中市 | B40: Taichung City | C40: 304 | D40: 118 | E40: 148 | F40: 108 | G40: 76 | H40: 22 | I40: 26 | J40: 17 | K40: 29 | L40: 10 | M40: 5 | N40: 2 | O40: 0 | P40: 18 | Q40: 36
A41: 臺南市 | B41: Tainan City | C41: 202 | D41: 104 | E41: 92 | F41: 124 | G41: 124 | H41: 18 | I41: 26 | J41: 20 | K41: 39 | L41: 9 | M41: 5 | N41: 4 | O41: 1 | P41: 23 | Q41: 37
A42: 高雄市 | B42: Kaohsiung City | C42: 368 | D42: 120 | E42: 122 | F42: 143 | G42: 116 | H42: 14 | I42: 26 | J42: 21 | K42: 29 | L42: 23 | M42: 6 | N42: 1 | O42: 0 | P42: 18 | Q42: 46
A43: 宜蘭縣 | B43: Yilan County | C43: 11 | D43: 5 | E43: 4 | F43: 4 | G43: 2 | H43: 0 | I43: 4 | J43: 3 | K43: 0 | L43: 0 | M43: 0 | N43: 0 | O43: 0 | P43: 0 | Q43: 2
A44: 新竹縣 | B44: Hsinchu County | C44: 88 | D44: 41 | E44: 55 | F44: 54 | G44: 37 | H44: 14 | I44: 8 | J44: 13 | K44: 13 | L44: 11 | M44: 7 | N44: 0 | O44: 0 | P44: 11 | Q44: 9
A45: 苗栗縣 | B45: Miaoli County | C45: 21 | D45: 11 | E45: 19 | F45: 11 | G45: 11 | H45: 2 | I45: 10 | J45: 2 | K45: 5 | L45: 3 | M45: 0 | N45: 0 | O45: 0 | P45: 0 | Q45: 10
A46: 彰化縣 | B46: Changhua County | C46: 79 | D46: 35 | E46: 47 | F46: 61 | G46: 55 | H46: 4 | I46: 16 | J46: 8 | K46: 17 | L46: 4 | M46: 0 | N46: 0 | O46: 2 | P46: 1 | Q46: 15
A47: 南投縣 | B47: Nantou County | C47: 47 | D47: 14 | E47: 21 | F47: 28 | G47: 30 | H47: 7 | I47: 5 | J47: 4 | K47: 5 | L47: 0 | M47: 0 | N47: 0 | O47: 0 | P47: 0 | Q47: 7
... A58: 連江縣 | B58: Lienchiang County | C58: 2 | D58: 1 | E58: 2 | F58: 1 | G58: 1 | H58: 2 | I58: 1 | J58: 1 | K58: 1 | L58: 0 | M58: 0 | N58: 0 | O58: 0 | P58: 1 | Q58: 0
A60: 總計 | B60: Total | C60: =IF(C36=C8,"","*") | D60: =IF(D36=D8,"","*") | E60: =IF(E36=E8,"","*") | F60: =IF(F36=F8,"","*") | G60: =IF(G36=G8,"","*") | H60: =IF(H36=H8,"","*") | I60: =IF(I36=I8,"","*") | J60: =IF(J36=J8,"","*") | ... Q60: =IF(Q36=Q8,"","*")
A61: 新北市 | B61: New Taipei City | C61: =IF(C37=C9,"","*") | D61: =IF(D37=D9,"","*") | E61: =IF(E37=E9,"","*") | F61: =IF(F37=F9,"","*") | G61: =IF(G37=G9,"","*") | H61: =IF(H37=H9,"","*") | I61: =IF(I37=I9,"","*") | J61: =IF(J37=J9,"","*") | ... Q61: =IF(Q37=Q9,"","*")
A62: 臺北市 | B62: Taipei City | C62: =IF(C38=C10,"","*") | D62: =IF(D38=D10,"","*") | E62: =IF(E38=E10,"","*") | F62: =IF(F38=F10,"","*") | G62: =IF(G38=G10,"","*") | H62: =IF(H38=H10,"","*") | I62: =IF(I38=I10,"","*") | J62: =IF(J38=J10,"","*") | ... Q62: =IF(Q38=Q10,"","*")
A63: 桃園市 | B63: Taoyuan City | C63: =IF(C39=C11,"","*") | D63: =IF(D39=D11,"","*") | E63: =IF(E39=E11,"","*") | F63: =IF(F39=F11,"","*") | G63: =IF(G39=G11,"","*") | H63: =IF(H39=H11,"","*") | I63: =IF(I39=I11,"","*") | J63: =IF(J39=J11,"","*") | ... Q63: =IF(Q39=Q11,"","*")
A64: 臺中市 | B64: Taichung City | C64: =IF(C40=C12,"","*") | D64: =IF(D40=D12,"","*") | E64: =IF(E40=E12,"","*") | F64: =IF(F40=F12,"","*") | G64: =IF(G40=G12,"","*") | H64: =IF(H40=H12,"","*") | I64: =IF(I40=I12,"","*") | J64: =IF(J40=J12,"","*") | ... Q64: =IF(Q40=Q12,"","*")
A65: 臺南市 | B65: Tainan City | C65: =IF(C41=C13,"","*") | D65: =IF(D41=D13,"","*") | E65: =IF(E41=E13,"","*") | F65: =IF(F41=F13,"","*") | G65: =IF(G41=G13,"","*") | H65: =IF(H41=H13,"","*") | I65: =IF(I41=I13,"","*") | J65: =IF(J41=J13,"","*") | ... Q65: =IF(Q41=Q13,"","*")
A66: 高雄市 | B66: Kaohsiung City | C66: =IF(C42=C14,"","*") | D66: =IF(D42=D14,"","*") | E66: =IF(E42=E14,"","*") | F66: =IF(F42=F14,"","*") | G66: =IF(G42=G14,"","*") | H66: =IF(H42=H14,"","*") | I66: =IF(I42=I14,"","*") | J66: =IF(J42=J14,"","*") | ... Q66: =IF(Q42=Q14,"","*")
A67: 宜蘭縣 | B67: Yilan County | C67: =IF(C43=C15,"","*") | D67: =IF(D43=D15,"","*") | E67: =IF(E43=E15,"","*") | F67: =IF(F43=F15,"","*") | G67: =IF(G43=G15,"","*") | H67: =IF(H43=H15,"","*") | I67: =IF(I43=I15,"","*") | J67: =IF(J43=J15,"","*") | ... Q67: =IF(Q43=Q15,"","*")
A68: 新竹縣 | B68: Hsinchu County | C68: =IF(C44=C16,"","*") | D68: =IF(D44=D16,"","*") | E68: =IF(E44=E16,"","*") | F68: =IF(F44=F16,"","*") | G68: =IF(G44=G16,"","*") | H68: =IF(H44=H16,"","*") | I68: =IF(I44=I16,"","*") | J68: =IF(J44=J16,"","*") | ... Q68: =IF(Q44=Q16,"","*")
A69: 苗栗縣 | B69: Miaoli County | C69: =IF(C45=C17,"","*") | D69: =IF(D45=D17,"","*") | E69: =IF(E45=E17,"","*") | F69: =IF(F45=F17,"","*") | G69: =IF(G45=G17,"","*") | H69: =IF(H45=H17,"","*") | I69: =IF(I45=I17,"","*") | J69: =IF(J45=J17,"","*") | ... Q69: =IF(Q45=Q17,"","*")
A70: 彰化縣 | B70: Changhua County | C70: =IF(C46=C18,"","*") | D70: =IF(D46=D18,"","*") | E70: =IF(E46=E18,"","*") | F70: =IF(F46=F18,"","*") | G70: =IF(G46=G18,"","*") | H70: =IF(H46=H18,"","*") | I70: =IF(I46=I18,"","*") | J70: =IF(J46=J18,"","*") | ... Q70: =IF(Q46=Q18,"","*")
A71: 南投縣 | B71: Nantou County | C71: =IF(C47=C19,"","*") | D71: =IF(D47=D19,"","*") | E71: =IF(E47=E19,"","*") | F71: =IF(F47=F19,"","*") | G71: =IF(G47=G19,"","*") | H71: =IF(H47=H19,"","*") | I71: =IF(I47=I19,"","*") | J71: =IF(J47=J19,"","*") | ... Q71: =IF(Q47=Q19,"","*")
... A82: 連江縣 | B82: Lienchiang County | C82: =IF(C58=C30,"","*") | D82: =IF(D58=D30,"","*") | E82: =IF(E58=E30,"","*") | F82: =IF(F58=F30,"","*") | G82: =IF(G58=G30,"","*") | H82: =IF(H58=H30,"","*") | I82: =IF(I58=I30,"","*") | J82: =IF(J58=J30,"","*") | ... Q82: =IF(Q58=Q30,"","*")

Sheet 2024
A1: 兒童及少年保護-施虐者本身因素分 By Reason of the Abused
A2: 單位：人次 Unit :Person-times
A3: 民國113年, 2024 | C3: =IF(C8=SUM(C9:C30),"","*") | D3: =IF(D8=SUM(D9:D30),"","*") | E3: =IF(E8=SUM(E9:E30),"","*") | F3: =IF(F8=SUM(F9:F30),"","*") | G3: =IF(G8=SUM(G9:G30),"","*") | H3: =IF(H8=SUM(H9:H30),"","*") | I3: =IF(I8=SUM(I9:I30),"","*") | J3: =IF(J8=SUM(J9:J30),"","*") | ... Q3: =IF(Q8=SUM(Q9:Q30),"","*")
A4: 區域及特殊族群別 Locality & Ethnos | C4: 本身因素分(人次) (複選)By Reason of the Abused
C5: 缺乏親職 教育知識 Lack of Parental Education Knowledge | D5: 習於體罰或不當管教 Accustomed to Corporal Punishment or Improper Discipline | E5: 負向情緒行為特質 Emotional Instability | F5: 親密關係失調 Intimate Relationship | G5: 經濟因素 Economic Factors | H5: 酗酒 Alcohol | I5: 藥物濫用 Drug Abuse | J5: 精神疾病 Mental Illness | K5: 有自殺紀錄 或自殺意圖 Records of Suicides or Suicide Attempts | L5: 未婚生育 Premarital Childbirth | M5: 未成年生育 Teenage Childbirth | N5: 人格違常 Personality Disorder | O5: 迷信 Superstition | P5: 童年有受虐經驗 Child Abuse Experience | Q5: 其他 Others
A8: 總計 | B8: Total | C8: 4918 | D8: 2153 | E8: 2294 | F8: 2224 | G8: 1909 | H8: 359 | I8: 601 | J8: 400 | K8: 475 | L8: 217 | M8: 64 | N8: 32 | O8: 24 | P8: 228 | Q8: 872
A9: 新北市 | B9: New Taipei City | C9: 849 | D9: 481 | E9: 392 | F9: 281 | G9: 185 | H9: 45 | I9: 92 | J9: 56 | K9: 57 | L9: 30 | M9: 13 | N9: 10 | O9: 2 | P9: 41 | Q9: 222
A10: 臺北市 | B10: Taipei City | C10: 531 | D10: 209 | E10: 209 | F10: 222 | G10: 205 | H10: 24 | I10: 48 | J10: 40 | K10: 31 | L10: 32 | M10: 11 | N10: 2 | O10: 1 | P10: 25 | Q10: 103
A11: 桃園市 | B11: Taoyuan City | C11: 550 | D11: 206 | E11: 200 | F11: 139 | G11: 132 | H11: 25 | I11: 61 | J11: 15 | K11: 27 | L11: 27 | M11: 3 | N11: 3 | O11: 4 | P11: 16 | Q11: 44
A12: 臺中市 | B12: Taichung City | C12: 605 | D12: 259 | E12: 313 | F12: 287 | G12: 196 | H12: 36 | I12: 74 | J12: 45 | K12: 64 | L12: 19 | M12: 5 | N12: 2 | O12: 1 | P12: 27 | Q12: 109
A13: 臺南市 | B13: Tainan City | C13: 365 | D13: 185 | E13: 196 | F13: 208 | G13: 207 | H13: 34 | I13: 32 | J13: 27 | K13: 32 | L13: 15 | M13: 1 | N13: 2 | O13: 1 | P13: 23 | Q13: 45
A14: 高雄市 | B14: Kaohsiung City | C14: 637 | D14: 212 | E14: 247 | F14: 272 | G14: 208 | H14: 26 | I14: 77 | J14: 59 | K14: 63 | L14: 37 | M14: 9 | N14: 2 | O14: 0 | P14: 22 | Q14: 90
A15: 宜蘭縣 | B15: Yilan County | C15: 62 | D15: 42 | E15: 35 | F15: 20 | G15: 30 | H15: 1 | I15: 7 | J15: 10 | K15: 10 | L15: 2 | M15: 1 | N15: 1 | O15: 1 | P15: 2 | Q15: 6
A16: 新竹縣 | B16: Hsinchu County | C16: 160 | D16: 84 | E16: 95 | F16: 76 | G16: 90 | H16: 33 | I16: 22 | J16: 25 | K16: 18 | L16: 6 | M16: 0 | N16: 1 | O16: 0 | P16: 15 | Q16: 22
A17: 苗栗縣 | B17: Miaoli County | C17: 51 | D17: 32 | E17: 27 | F17: 14 | G17: 23 | H17: 10 | I17: 4 | J17: 5 | K17: 4 | L17: 2 | M17: 1 | N17: 0 | O17: 2 | P17: 1 | Q17: 9
A18: 彰化縣 | B18: Changhua County | C18: 212 | D18: 71 | E18: 93 | F18: 146 | G18: 123 | H18: 19 | I18: 30 | J18: 19 | K18: 27 | L18: 11 | M18: 6 | N18: 2 | O18: 1 | P18: 5 | Q18: 51
A19: 南投縣 | B19: Nantou County | C19: 68 | D19: 28 | E19: 58 | F19: 64 | G19: 61 | H19: 8 | I19: 20 | J19: 21 | K19: 25 | L19: 6 | M19: 6 | N19: 0 | O19: 2 | P19: 4 | Q19: 8
... A30: 連江縣 | B30: Lienchiang County | C30: 11 | D30: 4 | E30: 1 | F30: 1 | G30: 5 | H30: 1 | I30: 1 | J30: 0 | K30: 0 | L30: 0 | M30: 3 | N30: 0 | O30: 0 | P30: 7 | Q30: 0
A31: 資料來源：各直轄市、縣市政府。
A32: Source: County and Government.
A34: 更新日期：2025/03/31

Sheet July-Dec., 2024
A1: 兒童及少年保護-施虐者本身因素分 By Reason of the Abused
A2: 單位：人次 Unit :Person-times
A3: 民國113年7-12月, July-Dec., 2024 | C3: =IF(C8=SUM(C9:C30),"","*") | D3: =IF(D8=SUM(D9:D30),"","*") | E3: =IF(E8=SUM(E9:E30),"","*") | F3: =IF(F8=SUM(F9:F30),"","*") | G3: =IF(G8=SUM(G9:G30),"","*") | H3: =IF(H8=SUM(H9:H30),"","*") | I3: =IF(I8=SUM(I9:I30),"","*") | J3: =IF(J8=SUM(J9:J30),"","*") | ... Q3: =IF(Q8=SUM(Q9:Q30),"","*")
A4: 區域及特殊族群別 Locality & Ethnos | C4: 本身因素分(人次) (複選)By Reason of the Abused
C5: 缺乏親職 教育知識 Lack of Parental Education Knowledge | D5: 習於體罰或不當管教 Accustomed to Corporal Punishment or Improper Discipline | E5: 負向情緒行為特質 Emotional Instability | F5: 親密關係失調 Intimate Relationship | G5: 經濟因素 Economic Factors | H5: 酗酒 Alcohol | I5: 藥物濫用 Drug Abuse | J5: 精神疾病 Mental Illness | K5: 有自殺紀錄 或自殺意圖 Records of Suicides or Suicide Attempts | L5: 未婚生育 Premarital Childbirth | M5: 未成年生育 Teenage Childbirth | N5: 人格違常 Personality Disorder | O5: 迷信 Superstition | P5: 童年有受虐經驗 Child Abuse Experience | Q5: 其他 Others
A8: 總計 | B8: Total | C8: 2327 | D8: 1004 | E8: 1116 | F8: 1038 | G8: 921 | H8: 150 | I8: 291 | J8: 205 | K8: 253 | L8: 111 | M8: 32 | N8: 11 | O8: 12 | P8: 100 | Q8: 406
A9: 新北市 | B9: New Taipei City | C9: 413 | D9: 240 | E9: 198 | F9: 158 | G9: 104 | H9: 22 | I9: 49 | J9: 36 | K9: 38 | L9: 13 | M9: 6 | N9: 3 | O9: 2 | P9: 14 | Q9: 95
A10: 臺北市 | B10: Taipei City | C10: 250 | D10: 100 | E10: 99 | F10: 104 | G10: 94 | H10: 13 | I10: 22 | J10: 19 | K10: 15 | L10: 18 | M10: 8 | N10: 1 | O10: 1 | P10: 5 | Q10: 52
A11: 桃園市 | B11: Taoyuan City | C11: 265 | D11: 108 | E11: 107 | F11: 58 | G11: 75 | H11: 9 | I11: 34 | J11: 10 | K11: 14 | L11: 17 | M11: 1 | N11: 2 | O11: 2 | P11: 13 | Q11: 19
A12: 臺中市 | B12: Taichung City | C12: 278 | D12: 112 | E12: 138 | F12: 122 | G12: 83 | H12: 13 | I12: 35 | J12: 21 | K12: 33 | L12: 9 | M12: 0 | N12: 0 | O12: 0 | P12: 12 | Q12: 52
A13: 臺南市 | B13: Tainan City | C13: 164 | D13: 80 | E13: 72 | F13: 103 | G13: 100 | H13: 18 | I13: 13 | J13: 6 | K13: 12 | L13: 5 | M13: 1 | N13: 1 | O13: 0 | P13: 9 | Q13: 22
A14: 高雄市 | B14: Kaohsiung City | C14: 303 | D14: 98 | E14: 119 | F14: 126 | G14: 95 | H14: 10 | I14: 42 | J14: 26 | K14: 28 | L14: 19 | M14: 4 | N14: 0 | O14: 0 | P14: 6 | Q14: 41
A15: 宜蘭縣 | B15: Yilan County | C15: 27 | D15: 14 | E15: 20 | F15: 6 | G15: 9 | H15: 0 | I15: 1 | J15: 5 | K15: 6 | L15: 0 | M15: 1 | N15: 0 | O15: 0 | P15: 2 | Q15: 0
A16: 新竹縣 | B16: Hsinchu County | C16: 97 | D16: 53 | E16: 56 | F16: 40 | G16: 48 | H16: 17 | I16: 13 | J16: 13 | K16: 10 | L16: 3 | M16: 0 | N16: 0 | O16: 0 | P16: 11 | Q16: 15
A17: 苗栗縣 | B17: Miaoli County | C17: 28 | D17: 18 | E17: 17 | F17: 9 | G17: 13 | H17: 6 | I17: 2 | J17: 4 | K17: 2 | L17: 1 | M17: 0 | N17: 0 | O17: 0 | P17: 1 | Q17: 3
A18: 彰化縣 | B18: Changhua County | C18: 94 | D18: 36 | E18: 46 | F18: 67 | G18: 51 | H18: 6 | I18: 13 | J18: 9 | K18: 16 | L18: 6 | M18: 4 | N18: 1 | O18: 1 | P18: 3 | Q18: 28
A19: 南投縣 | B19: Nantou County | C19: 33 | D19: 7 | E19: 29 | F19: 42 | G19: 39 | H19: 3 | I19: 13 | J19: 16 | K19: 20 | L19: 4 | M19: 4 | N19: 0 | O19: 1 | P19: 2 | Q19: 2
... A30: 連江縣 | B30: Lienchiang County | C30: 6 | D30: 3 | E30: 0 | F30: 0 | G30: 4 | H30: 1 | I30: 1 | J30: 0 | K30: 0 | L30: 0 | M30: 0 | N30: 0 | O30: 0 | P30: 3 | Q30: 0
A31: 資料來源：各直轄市、縣市政府。
A32: Source: County and Government.
A34: 更新日期：2025/03/31

Sheet Jan.-June, 2024
A1: 兒童及少年保護-施虐者本身因素分 By Reason of the Abused
A2: 單位：人次 Unit :Person-times
A3: 民國113年1-6月,Jan.-June, 2024 | C3: =IF(C8=SUM(C9:C30),"","*") | D3: =IF(D8=SUM(D9:D30),"","*") | E3: =IF(E8=SUM(E9:E30),"","*") | F3: =IF(F8=SUM(F9:F30),"","*") | G3: =IF(G8=SUM(G9:G30),"","*") | H3: =IF(H8=SUM(H9:H30),"","*") | I3: =IF(I8=SUM(I9:I30),"","*") | J3: =IF(J8=SUM(J9:J30),"","*") | ... Q3: =IF(Q8=SUM(Q9:Q30),"","*")
A4: 區域及特殊族群別 Locality & Ethnos | C4: 本身因素分(人次) (複選)By Reason of the Abused
C5: 缺乏親職 教育知識 Lack of Parental Education Knowledge | D5: 習於體罰或不當管教 Accustomed to Corporal Punishment or Improper Discipline | E5: 負向情緒行為特質 Emotional Instability | F5: 親密關係失調 Intimate Relationship | G5: 經濟因素 Economic Factors | H5: 酗酒 Alcohol | I5: 藥物濫用 Drug Abuse | J5: 精神疾病 Mental Illness | K5: 有自殺紀錄 或自殺意圖 Records of Suicides or Suicide Attempts | L5: 未婚生育 Premarital Childbirth | M5: 未成年生育 Teenage Childbirth | N5: 人格違常 Personality Disorder | O5: 迷信 Superstition | P5: 童年有受虐經驗 Child Abuse Experience | Q5: 其他 Others
A8: 總計 | B8: Total | C8: 2591 | D8: 1149 | E8: 1178 | F8: 1186 | G8: 988 | H8: 209 | I8: 310 | J8: 195 | K8: 222 | L8: 106 | M8: 32 | N8: 21 | O8: 12 | P8: 128 | Q8: 466
A9: 新北市 | B9: New Taipei City | C9: 436 | D9: 241 | E9: 194 | F9: 123 | G9: 81 | H9: 23 | I9: 43 | J9: 20 | K9: 19 | L9: 17 | M9: 7 | N9: 7 | O9: 0 | P9: 27 | Q9: 127
A10: 臺北市 | B10: Taipei City | C10: 281 | D10: 109 | E10: 110 | F10: 118 | G10: 111 | H10: 11 | I10: 26 | J10: 21 | K10: 16 | L10: 14 | M10: 3 | N10: 1 | O10: 0 | P10: 20 | Q10: 51
A11: 桃園市 | B11: Taoyuan City | C11: 285 | D11: 98 | E11: 93 | F11: 81 | G11: 57 | H11: 16 | I11: 27 | J11: 5 | K11: 13 | L11: 10 | M11: 2 | N11: 1 | O11: 2 | P11: 3 | Q11: 25
A12: 臺中市 | B12: Taichung City | C12: 327 | D12: 147 | E12: 175 | F12: 165 | G12: 113 | H12: 23 | I12: 39 | J12: 24 | K12: 31 | L12: 10 | M12: 5 | N12: 2 | O12: 1 | P12: 15 | Q12: 57
A13: 臺南市 | B13: Tainan City | C13: 201 | D13: 105 | E13: 124 | F13: 105 | G13: 107 | H13: 16 | I13: 19 | J13: 21 | K13: 20 | L13: 10 | M13: 0 | N13: 1 | O13: 1 | P13: 14 | Q13: 23
A14: 高雄市 | B14: Kaohsiung City | C14: 334 | D14: 114 | E14: 128 | F14: 146 | G14: 113 | H14: 16 | I14: 35 | J14: 33 | K14: 35 | L14: 18 | M14: 5 | N14: 2 | O14: 0 | P14: 16 | Q14: 49
A15: 宜蘭縣 | B15: Yilan County | C15: 35 | D15: 28 | E15: 15 | F15: 14 | G15: 21 | H15: 1 | I15: 6 | J15: 5 | K15: 4 | L15: 2 | M15: 0 | N15: 1 | O15: 1 | P15: 0 | Q15: 6
A16: 新竹縣 | B16: Hsinchu County | C16: 63 | D16: 31 | E16: 39 | F16: 36 | G16: 42 | H16: 16 | I16: 9 | J16: 12 | K16: 8 | L16: 3 | M16: 0 | N16: 1 | O16: 0 | P16: 4 | Q16: 7
A17: 苗栗縣 | B17: Miaoli County | C17: 23 | D17: 14 | E17: 10 | F17: 5 | G17: 10 | H17: 4 | I17: 2 | J17: 1 | K17: 2 | L17: 1 | M17: 1 | N17: 0 | O17: 2 | P17: 0 | Q17: 6
A18: 彰化縣 | B18: Changhua County | C18: 118 | D18: 35 | E18: 47 | F18: 79 | G18: 72 | H18: 13 | I18: 17 | J18: 10 | K18: 11 | L18: 5 | M18: 2 | N18: 1 | O18: 0 | P18: 2 | Q18: 23
A19: 南投縣 | B19: Nantou County | C19: 35 | D19: 21 | E19: 29 | F19: 22 | G19: 22 | H19: 5 | I19: 7 | J19: 5 | K19: 5 | L19: 2 | M19: 2 | N19: 0 | O19: 1 | P19: 2 | Q19: 6
... A30: 連江縣 | B30: Lienchiang County | C30: 5 | D30: 1 | E30: 1 | F30: 1 | G30: 1 | H30: 0 | I30: 0 | J30: 0 | K30: 0 | L30: 0 | M30: 3 | N30: 0 | O30: 0 | P30: 4 | Q30: 0
A31: 資料來源：各直轄市、縣市政府。
A32: Source: County and Government.
A34: 更新日期：2024/09/30
A36: 總計 | B36: Total | C36: 2226 | D36: 1027 | E36: 1281 | F36: 1101 | G36: 853 | H36: 206 | I36: 250 | J36: 239 | K36: 249 | L36: 110 | M36: 21 | N36: 26 | O36: 0 | P36: 137 | Q36: 389
A37: 新北市 | B37: New Taipei City | C37: 413 | D37: 238 | E37: 255 | F37: 141 | G37: 74 | H37: 34 | I37: 25 | J37: 32 | K37: 28 | L37: 6 | M37: 2 | N37: 4 | O37: 0 | P37: 36 | Q37: 69
A38: 臺北市 | B38: Taipei City | C38: 184 | D38: 66 | E38: 85 | F38: 86 | G38: 55 | H38: 9 | I38: 18 | J38: 13 | K38: 6 | L38: 8 | M38: 0 | N38: 1 | O38: 0 | P38: 7 | Q38: 51
A39: 桃園市 | B39: Taoyuan City | C39: 325 | D39: 104 | E39: 141 | F39: 104 | G39: 92 | H39: 20 | I39: 36 | J39: 14 | K39: 17 | L39: 23 | M39: 4 | N39: 2 | O39: 0 | P39: 16 | Q39: 36
A40: 臺中市 | B40: Taichung City | C40: 410 | D40: 161 | E40: 256 | F40: 226 | G40: 178 | H40: 38 | I40: 36 | J40: 46 | K40: 94 | L40: 21 | M40: 3 | N40: 3 | O40: 0 | P40: 29 | Q40: 65
A41: 臺南市 | B41: Tainan City | C41: 151 | D41: 94 | E41: 87 | F41: 100 | G41: 69 | H41: 10 | I41: 17 | J41: 16 | K41: 11 | L41: 15 | M41: 3 | N41: 3 | O41: 0 | P41: 14 | Q41: 19
A42: 高雄市 | B42: Kaohsiung City | C42: 262 | D42: 97 | E42: 102 | F42: 119 | G42: 103 | H42: 7 | I42: 28 | J42: 37 | K42: 30 | L42: 16 | M42: 1 | N42: 2 | O42: 0 | P42: 6 | Q42: 33
A43: 宜蘭縣 | B43: Yilan County | C43: 25 | D43: 10 | E43: 13 | F43: 2 | G43: 11 | H43: 2 | I43: 0 | J43: 7 | K43: 0 | L43: 0 | M43: 0 | N43: 0 | O43: 0 | P43: 0 | Q43: 7
A44: 新竹縣 | B44: Hsinchu County | C44: 34 | D44: 30 | E44: 38 | F44: 31 | G44: 25 | H44: 6 | I44: 6 | J44: 4 | K44: 2 | L44: 3 | M44: 0 | N44: 0 | O44: 0 | P44: 0 | Q44: 6
A45: 苗栗縣 | B45: Miaoli County | C45: 14 | D45: 7 | E45: 9 | F45: 7 | G45: 7 | H45: 3 | I45: 2 | J45: 1 | K45: 1 | L45: 1 | M45: 0 | N45: 0 | O45: 0 | P45: 0 | Q45: 15
A46: 彰化縣 | B46: Changhua County | C46: 51 | D46: 32 | E46: 30 | F46: 41 | G46: 46 | H46: 6 | I46: 8 | J46: 6 | K46: 10 | L46: 0 | M46: 1 | N46: 0 | O46: 0 | P46: 2 | Q46: 17
A47: 南投縣 | B47: Nantou County | C47: 24 | D47: 11 | E47: 21 | F47: 22 | G47: 21 | H47: 17 | I47: 3 | J47: 8 | K47: 9 | L47: 1 | M47: 2 | N47: 0 | O47: 0 | P47: 3 | Q47: 4
... A58: 連江縣 | B58: Lienchiang County | C58: 1 | D58: 0 | E58: 0 | F58: 0 | G58: 0 | H58: 0 | I58: 0 | J58: 0 | K58: 0 | L58: 0 | M58: 0 | N58: 0 | O58: 0 | P58: 0 | Q58: 3
A60: 總計 | B60: Total | C60: =IF(C36=C8,"","*") -> * | D60: =IF(D36=D8,"","*") -> * | E60: =IF(E36=E8,"","*") -> * | F60: =IF(F36=F8,"","*") -> * | G60: =IF(G36=G8,"","*") -> * | H60: =IF(H36=H8,"","*") -> * | I60: =IF(I36=I8,"","*") -> * | J60: =IF(J36=J8,"","*") -> * | ... Q60: =IF(Q36=Q8,"","*") -> *
A61: 新北市 | B61: New Taipei City | C61: =IF(C37=C9,"","*") -> * | D61: =IF(D37=D9,"","*") -> * | E61: =IF(E37=E9,"","*") -> * | F61: =IF(F37=F9,"","*") -> * | G61: =IF(G37=G9,"","*") -> * | H61: =IF(H37=H9,"","*") -> * | I61: =IF(I37=I9,"","*") -> * | J61: =IF(J37=J9,"","*") -> * | ... Q61: =IF(Q37=Q9,"","*") -> *
A62: 臺北市 | B62: Taipei City | C62: =IF(C38=C10,"","*") -> * | D62: =IF(D38=D10,"","*") -> * | E62: =IF(E38=E10,"","*") -> * | F62: =IF(F38=F10,"","*") -> * | G62: =IF(G38=G10,"","*") -> * | H62: =IF(H38=H10,"","*") -> * | I62: =IF(I38=I10,"","*") -> * | J62: =IF(J38=J10,"","*") -> * | ... Q62: =IF(Q38=Q10,"","*")
A63: 桃園市 | B63: Taoyuan City | C63: =IF(C39=C11,"","*") -> * | D63: =IF(D39=D11,"","*") -> * | E63: =IF(E39=E11,"","*") -> * | F63: =IF(F39=F11,"","*") -> * | G63: =IF(G39=G11,"","*") -> * | H63: =IF(H39=H11,"","*") -> * | I63: =IF(I39=I11,"","*") -> * | J63: =IF(J39=J11,"","*") -> * | ... Q63: =IF(Q39=Q11,"","*") -> *
A64: 臺中市 | B64: Taichung City | C64: =IF(C40=C12,"","*") -> * | D64: =IF(D40=D12,"","*") -> * | E64: =IF(E40=E12,"","*") -> * | F64: =IF(F40=F12,"","*") -> * | G64: =IF(G40=G12,"","*") -> * | H64: =IF(H40=H12,"","*") -> * | I64: =IF(I40=I12,"","*") -> * | J64: =IF(J40=J12,"","*") -> * | ... Q64: =IF(Q40=Q12,"","*") -> *
A65: 臺南市 | B65: Tainan City | C65: =IF(C41=C13,"","*") -> * | D65: =IF(D41=D13,"","*") -> * | E65: =IF(E41=E13,"","*") -> * | F65: =IF(F41=F13,"","*") -> * | G65: =IF(G41=G13,"","*") -> * | H65: =IF(H41=H13,"","*") -> * | I65: =IF(I41=I13,"","*") -> * | J65: =IF(J41=J13,"","*") -> * | ... Q65: =IF(Q41=Q13,"","*") -> *
A66: 高雄市 | B66: Kaohsiung City | C66: =IF(C42=C14,"","*") -> * | D66: =IF(D42=D14,"","*") -> * | E66: =IF(E42=E14,"","*") -> * | F66: =IF(F42=F14,"","*") -> * | G66: =IF(G42=G14,"","*") -> * | H66: =IF(H42=H14,"","*") -> * | I66: =IF(I42=I14,"","*") -> * | J66: =IF(J42=J14,"","*") -> * | ... Q66: =IF(Q42=Q14,"","*") -> *
A67: 宜蘭縣 | B67: Yilan County | C67: =IF(C43=C15,"","*") -> * | D67: =IF(D43=D15,"","*") -> * | E67: =IF(E43=E15,"","*") -> * | F67: =IF(F43=F15,"","*") -> * | G67: =IF(G43=G15,"","*") -> * | H67: =IF(H43=H15,"","*") -> * | I67: =IF(I43=I15,"","*") -> * | J67: =IF(J43=J15,"","*") -> * | ... Q67: =IF(Q43=Q15,"","*") -> *
A68: 新竹縣 | B68: Hsinchu County | C68: =IF(C44=C16,"","*") -> * | D68: =IF(D44=D16,"","*") -> * | E68: =IF(E44=E16,"","*") -> * | F68: =IF(F44=F16,"","*") -> * | G68: =IF(G44=G16,"","*") -> * | H68: =IF(H44=H16,"","*") -> * | I68: =IF(I44=I16,"","*") -> * | J68: =IF(J44=J16,"","*") -> * | ... Q68: =IF(Q44=Q16,"","*") -> *
A69: 苗栗縣 | B69: Miaoli County | C69: =IF(C45=C17,"","*") -> * | D69: =IF(D45=D17,"","*") -> * | E69: =IF(E45=E17,"","*") -> * | F69: =IF(F45=F17,"","*") -> * | G69: =IF(G45=G17,"","*") -> * | H69: =IF(H45=H17,"","*") -> * | I69: =IF(I45=I17,"","*") | J69: =IF(J45=J17,"","*") | ... Q69: =IF(Q45=Q17,"","*") -> *
A70: 彰化縣 | B70: Changhua County | C70: =IF(C46=C18,"","*") -> * | D70: =IF(D46=D18,"","*") -> * | E70: =IF(E46=E18,"","*") -> * | F70: =IF(F46=F18,"","*") -> * | G70: =IF(G46=G18,"","*") -> * | H70: =IF(H46=H18,"","*") -> * | I70: =IF(I46=I18,"","*") -> * | J70: =IF(J46=J18,"","*") -> * | ... Q70: =IF(Q46=Q18,"","*") -> *
A71: 南投縣 | B71: Nantou County | C71: =IF(C47=C19,"","*") -> * | D71: =IF(D47=D19,"","*") -> * | E71: =IF(E47=E19,"","*") -> * | F71: =IF(F47=F19,"","*") | G71: =IF(G47=G19,"","*") -> * | H71: =IF(H47=H19,"","*") -> * | I71: =IF(I47=I19,"","*") -> * | J71: =IF(J47=J19,"","*") -> * | ... Q71: =IF(Q47=Q19,"","*") -> *
... A82: 連江縣 | B82: Lienchiang County | C82: =IF(C58=C30,"","*") -> * | D82: =IF(D58=D30,"","*") -> * | E82: =IF(E58=E30,"","*") -> * | F82: =IF(F58=F30,"","*") -> * | G82: =IF(G58=G30,"","*") -> * | H82: =IF(H58=H30,"","*") | I82: =IF(I58=I30,"","*") | J82: =IF(J58=J30,"","*") | ... Q82: =IF(Q58=Q30,"","*") -> *

Sheet 2023
A1: 兒童及少年保護-施虐者本身因素分 By Reason of the Abused
A2: 單位：人次 Unit :Person-times
A3: 民國112年, 2023 | C3: =IF(C8=SUM(C9:C30),"","*") | D3: =IF(D8=SUM(D9:D30),"","*") | E3: =IF(E8=SUM(E9:E30),"","*") | F3: =IF(F8=SUM(F9:F30),"","*") | G3: =IF(G8=SUM(G9:G30),"","*") | H3: =IF(H8=SUM(H9:H30),"","*") | I3: =IF(I8=SUM(I9:I30),"","*") | J3: =IF(J8=SUM(J9:J30),"","*") | ... Q3: =IF(Q8=SUM(Q9:Q30),"","*")
A4: 區域及特殊族群別 Locality & Ethnos | C4: 本身因素分(人次) (複選)By Reason of the Abused
C5: 缺乏親職 教育知識 Lack of Parental Education Knowledge | D5: 習於體罰或不當管教 Accustomed to Corporal Punishment or Improper Discipline | E5: 負向情緒行為特質 Emotional Instability | F5: 親密關係失調 Intimate Relationship | G5: 經濟因素 Economic Factors | H5: 酗酒 Alcohol | I5: 藥物濫用 Drug Abuse | J5: 精神疾病 Mental Illness | K5: 有自殺紀錄 或自殺意圖 Records of Suicides or Suicide Attempts | L5: 未婚生育 Premarital Childbirth | M5: 未成年生育 Teenage Childbirth | N5: 人格違常 Personality Disorder | O5: 迷信 Superstition | P5: 童年有受虐經驗 Child Abuse Experience | Q5: 其他 Others
A8: 總計 | B8: Total | C8: 5320 | D8: 2320 | E8: 2649 | F8: 2474 | G8: 2137 | H8: 445 | I8: 607 | J8: 458 | K8: 556 | L8: 277 | M8: 55 | N8: 38 | O8: 17 | P8: 284 | Q8: 826
A9: 新北市 | B9: New Taipei City | C9: 771 | D9: 466 | E9: 394 | F9: 209 | G9: 125 | H9: 38 | I9: 56 | J9: 36 | K9: 47 | L9: 15 | M9: 1 | N9: 1 | O9: 0 | P9: 38 | Q9: 127
A10: 臺北市 | B10: Taipei City | C10: 484 | D10: 203 | E10: 213 | F10: 244 | G10: 192 | H10: 39 | I10: 54 | J10: 48 | K10: 47 | L10: 19 | M10: 1 | N10: 4 | O10: 1 | P10: 28 | Q10: 81
A11: 桃園市 | B11: Taoyuan City | C11: 753 | D11: 290 | E11: 321 | F11: 214 | G11: 209 | H11: 38 | I11: 81 | J11: 48 | K11: 53 | L11: 30 | M11: 10 | N11: 2 | O11: 1 | P11: 36 | Q11: 79
A12: 臺中市 | B12: Taichung City | C12: 930 | D12: 372 | E12: 492 | F12: 435 | G12: 379 | H12: 63 | I12: 92 | J12: 77 | K12: 100 | L12: 34 | M12: 7 | N12: 17 | O12: 3 | P12: 47 | Q12: 106
A13: 臺南市 | B13: Tainan City | C13: 416 | D13: 170 | E13: 210 | F13: 234 | G13: 204 | H13: 31 | I13: 64 | J13: 39 | K13: 58 | L13: 24 | M13: 3 | N13: 2 | O13: 3 | P13: 36 | Q13: 49
A14: 高雄市 | B14: Kaohsiung City | C14: 750 | D14: 252 | E14: 296 | F14: 324 | G14: 297 | H14: 56 | I14: 81 | J14: 55 | K14: 83 | L14: 62 | M14: 10 | N14: 4 | O14: 2 | P14: 25 | Q14: 78
A15: 宜蘭縣 | B15: Yilan County | C15: 78 | D15: 38 | E15: 35 | F15: 24 | G15: 33 | H15: 8 | I15: 8 | J15: 7 | K15: 7 | L15: 2 | M15: 1 | N15: 1 | O15: 4 | P15: 6 | Q15: 8
A16: 新竹縣 | B16: Hsinchu County | C16: 99 | D16: 50 | E16: 62 | F16: 51 | G16: 42 | H16: 14 | I16: 15 | J16: 10 | K16: 12 | L16: 9 | M16: 1 | N16: 0 | O16: 0 | P16: 4 | Q16: 25
A17: 苗栗縣 | B17: Miaoli County | C17: 42 | D17: 24 | E17: 27 | F17: 21 | G17: 22 | H17: 11 | I17: 9 | J17: 6 | K17: 7 | L17: 5 | M17: 3 | N17: 1 | O17: 0 | P17: 5 | Q17: 10
A18: 彰化縣 | B18: Changhua County | C18: 178 | D18: 82 | E18: 99 | F18: 170 | G18: 146 | H18: 23 | I18: 23 | J18: 38 | K18: 36 | L18: 18 | M18: 7 | N18: 0 | O18: 0 | P18: 3 | Q18: 58
A19: 南投縣 | B19: Nantou County | C19: 70 | D19: 26 | E19: 44 | F19: 53 | G19: 53 | H19: 21 | I19: 11 | J19: 5 | K19: 11 | L19: 16 | M19: 5 | N19: 0 | O19: 0 | P19: 8 | Q19: 20
... A30: 連江縣 | B30: Lienchiang County | C30: 1 | D30: 0 | E30: 1 | F30: 0 | G30: 0 | H30: 1 | I30: 0 | J30: 0 | K30: 0 | L30: 0 | M30: 0 | N30: 0 | O30: 0 | P30: 0 | Q30: 0
A31: 資料來源：各直轄市、縣市政府。
A32: Source: County and Government.
A34: 更新日期：2024/04/01

Sheet 2022
A1: 兒童及少年保護-施虐者本身因素分 By Reason of the Abused
A2: 單位：人次 Unit :Person-times
A3: 民國111年, 2022 | C3: =IF(C8=SUM(C9:C30),"","*") | D3: =IF(D8=SUM(D9:D30),"","*") | E3: =IF(E8=SUM(E9:E30),"","*") | F3: =IF(F8=SUM(F9:F30),"","*") | G3: =IF(G8=SUM(G9:G30),"","*") | H3: =IF(H8=SUM(H9:H30),"","*") | I3: =IF(I8=SUM(I9:I30),"","*") | J3: =IF(J8=SUM(J9:J30),"","*") | ... Q3: =IF(Q8=SUM(Q9:Q30),"","*")
A4: 區域及特殊族群別 Locality & Ethnos | C4: 本身因素分(人次) (複選)By Reason of the Abused
C5: 缺乏親職 教育知識 Lack of Parental Education Knowledge | D5: 習於體罰或不當管教 Accustomed to Corporal Punishment or Improper Discipline | E5: 負向情緒行為特質 Emotional Instability | F5: 親密關係失調 Intimate Relationship | G5: 經濟因素 Economic Factors | H5: 酗酒 Alcohol | I5: 藥物濫用 Drug Abuse | J5: 精神疾病 Mental Illness | K5: 有自殺紀錄 或自殺意圖 Records of Suicides or Suicide Attempts | L5: 未婚生育 Premarital Childbirth | M5: 未成年生育 Teenage Childbirth | N5: 人格違常 Personality Disorder | O5: 迷信 Superstition | P5: 童年有受虐經驗 Child Abuse Experience | Q5: 其他 Others
A8: 總計 | B8: Total | C8: 4798 | D8: 2217 | E8: 2581 | F8: 2235 | G8: 1822 | H8: 438 | I8: 534 | J8: 473 | K8: 497 | L8: 234 | M8: 61 | N8: 39 | O8: 5 | P8: 284 | Q8: 797
A9: 新北市 | B9: New Taipei City | C9: 818 | D9: 484 | E9: 493 | F9: 262 | G9: 146 | H9: 70 | I9: 72 | J9: 63 | K9: 58 | L9: 11 | M9: 4 | N9: 4 | O9: 0 | P9: 63 | Q9: 146
A10: 臺北市 | B10: Taipei City | C10: 390 | D10: 154 | E10: 183 | F10: 172 | G10: 128 | H10: 17 | I10: 35 | J10: 33 | K10: 15 | L10: 21 | M10: 0 | N10: 1 | O10: 0 | P10: 18 | Q10: 88
A11: 桃園市 | B11: Taoyuan City | C11: 714 | D11: 254 | E11: 308 | F11: 245 | G11: 199 | H11: 36 | I11: 70 | J11: 32 | K11: 40 | L11: 54 | M11: 9 | N11: 2 | O11: 0 | P11: 26 | Q11: 78
A12: 臺中市 | B12: Taichung City | C12: 891 | D12: 381 | E12: 495 | F12: 429 | G12: 343 | H12: 98 | I12: 76 | J12: 94 | K12: 163 | L12: 36 | M12: 10 | N12: 7 | O12: 0 | P12: 71 | Q12: 118
A13: 臺南市 | B13: Tainan City | C13: 293 | D13: 172 | E13: 173 | F13: 160 | G13: 140 | H13: 22 | I13: 30 | J13: 31 | K13: 22 | L13: 22 | M13: 8 | N13: 7 | O13: 0 | P13: 27 | Q13: 46
A14: 高雄市 | B14: Kaohsiung City | C14: 564 | D14: 223 | E14: 213 | F14: 245 | G14: 237 | H14: 17 | I14: 53 | J14: 67 | K14: 57 | L14: 40 | M14: 10 | N14: 2 | O14: 2 | P14: 22 | Q14: 63
A15: 宜蘭縣 | B15: Yilan County | C15: 45 | D15: 20 | E15: 23 | F15: 10 | G15: 23 | H15: 2 | I15: 6 | J15: 10 | K15: 2 | L15: 0 | M15: 0 | N15: 3 | O15: 0 | P15: 0 | Q15: 12
A16: 新竹縣 | B16: Hsinchu County | C16: 80 | D16: 57 | E16: 63 | F16: 52 | G16: 42 | H16: 12 | I16: 13 | J16: 7 | K16: 5 | L16: 5 | M16: 0 | N16: 0 | O16: 0 | P16: 2 | Q16: 18
A17: 苗栗縣 | B17: Miaoli County | C17: 39 | D17: 14 | E17: 27 | F17: 20 | G17: 17 | H17: 7 | I17: 5 | J17: 7 | K17: 3 | L17: 1 | M17: 0 | N17: 0 | O17: 0 | P17: 2 | Q17: 19
A18: 彰化縣 | B18: Changhua County | C18: 123 | D18: 53 | E18: 66 | F18: 100 | G18: 99 | H18: 15 | I18: 18 | J18: 23 | K18: 22 | L18: 5 | M18: 4 | N18: 0 | O18: 1 | P18: 3 | Q18: 38
A19: 南投縣 | B19: Nantou County | C19: 51 | D19: 18 | E19: 40 | F19: 50 | G19: 51 | H19: 28 | I19: 13 | J19: 14 | K19: 13 | L19: 6 | M19: 6 | N19: 0 | O19: 0 | P19: 8 | Q19: 13
... A30: 連江縣 | B30: Lienchiang County | C30: 1 | D30: 0 | E30: 0 | F30: 0 | G30: 0 | H30: 0 | I30: 0 | J30: 0 | K30: 0 | L30: 0 | M30: 0 | N30: 0 | O30: 0 | P30: 0 | Q30: 3
A31: 資料來源：各直轄市、縣市政府。
A32: Source: County and Government.
A34: 更新日期：2023/3/31

Sheet 2021
A1: 兒童及少年保護-施虐者本身因素分 By Reason of the Abused
A2: 單位：人次 Unit :Person-times
A3: 民國110年, 2021 | C3: =IF(C8=SUM(C9:C30),"","*") | D3: =IF(D8=SUM(D9:D30),"","*") | E3: =IF(E8=SUM(E9:E30),"","*") | F3: =IF(F8=SUM(F9:F30),"","*") | G3: =IF(G8=SUM(G9:G30),"","*") | H3: =IF(H8=SUM(H9:H30),"","*") | I3: =IF(I8=SUM(I9:I30),"","*") | J3: =IF(J8=SUM(J9:J30),"","*") | ... Q3: =IF(Q8=SUM(Q9:Q30),"","*")
A4: 區域及特殊族群別 Locality & Ethnos | C4: 本身因素分(人次) (複選)By Reason of the Abused
C5: 缺乏親職 教育知識 Lack of Parental Education Knowledge | D5: 習於體罰或不當管教 Accustomed to Corporal Punishment or Improper Discipline | E5: 負向情緒行為特質 Emotional Instability | F5: 親密關係失調 Intimate Relationship | G5: 經濟因素 Economic Factors | H5: 酗酒 Alcohol | I5: 藥物濫用 Drug Abuse | J5: 精神疾病 Mental Illness | K5: 有自殺紀錄 或自殺意圖 Records of Suicides or Suicide Attempts | L5: 未婚生育 Premarital Childbirth | M5: 未成年生育 Teenage Childbirth | N5: 人格違常 Personality Disorder | O5: 迷信 Superstition | P5: 童年有受虐經驗 Child Abuse Experience | Q5: 其他 Others
A8: 總計 | B8: Total | C8: 3421 | D8: 3189 | E8: 2632 | F8: 2888 | G8: 1914 | H8: 505 | I8: 582 | J8: 452 | K8: 466 | L8: 312 | M8: 58 | N8: 36 | O8: 7 | P8: 279 | Q8: 763
A9: 新北市 | B9: New Taipei City | C9: 622 | D9: 505 | E9: 442 | F9: 389 | G9: 161 | H9: 59 | I9: 77 | J9: 49 | K9: 68 | L9: 20 | M9: 5 | N9: 7 | O9: 1 | P9: 36 | Q9: 157
A10: 臺北市 | B10: Taipei City | C10: 338 | D10: 302 | E10: 266 | F10: 312 | G10: 154 | H10: 32 | I10: 59 | J10: 35 | K10: 22 | L10: 21 | M10: 2 | N10: 3 | O10: 2 | P10: 21 | Q10: 84
A11: 桃園市 | B11: Taoyuan City | C11: 404 | D11: 367 | E11: 213 | F11: 190 | G11: 152 | H11: 34 | I11: 44 | J11: 23 | K11: 20 | L11: 40 | M11: 8 | N11: 1 | O11: 1 | P11: 19 | Q11: 65
A12: 臺中市 | B12: Taichung City | C12: 518 | D12: 394 | E12: 352 | F12: 406 | G12: 279 | H12: 57 | I12: 58 | J12: 62 | K12: 76 | L12: 33 | M12: 7 | N12: 7 | O12: 0 | P12: 42 | Q12: 82
A13: 臺南市 | B13: Tainan City | C13: 233 | D13: 236 | E13: 177 | F13: 222 | G13: 180 | H13: 40 | I13: 48 | J13: 40 | K13: 47 | L13: 33 | M13: 3 | N13: 3 | O13: 0 | P13: 27 | Q13: 52
A14: 高雄市 | B14: Kaohsiung City | C14: 504 | D14: 523 | E14: 361 | F14: 472 | G14: 331 | H14: 55 | I14: 99 | J14: 61 | K14: 82 | L14: 63 | M14: 11 | N14: 1 | O14: 1 | P14: 57 | Q14: 54
A15: 宜蘭縣 | B15: Yilan County | C15: 28 | D15: 22 | E15: 18 | F15: 20 | G15: 10 | H15: 4 | I15: 4 | J15: 5 | K15: 2 | L15: 3 | M15: 0 | N15: 0 | O15: 0 | P15: 3 | Q15: 53
A16: 新竹縣 | B16: Hsinchu County | C16: 46 | D16: 47 | E16: 54 | F16: 34 | G16: 32 | H16: 26 | I16: 13 | J16: 8 | K16: 8 | L16: 4 | M16: 1 | N16: 0 | O16: 0 | P16: 2 | Q16: 11
A17: 苗栗縣 | B17: Miaoli County | C17: 34 | D17: 35 | E17: 32 | F17: 26 | G17: 31 | H17: 4 | I17: 12 | J17: 6 | K17: 3 | L17: 1 | M17: 0 | N17: 0 | O17: 0 | P17: 1 | Q17: 17
A18: 彰化縣 | B18: Changhua County | C18: 119 | D18: 110 | E18: 108 | F18: 118 | G18: 88 | H18: 32 | I18: 24 | J18: 27 | K18: 33 | L18: 8 | M18: 8 | N18: 2 | O18: 0 | P18: 3 | Q18: 42
A19: 南投縣 | B19: Nantou County | C19: 29 | D19: 64 | E19: 50 | F19: 61 | G19: 45 | H19: 28 | I19: 5 | J19: 11 | K19: 7 | L19: 8 | M19: 0 | N19: 0 | O19: 0 | P19: 3 | Q19: 16
... A30: 連江縣 | B30: Lienchiang County | C30: 1 | D30: 1 | E30: 0 | F30: 0 | G30: 0 | H30: 0 | I30: 0 | J30: 0 | K30: 0 | L30: 0 | M30: 0 | N30: 0 | O30: 0 | P30: 0 | Q30: 2
A31: 資料來源：各直轄市、縣市政府。
A32: Source: County and Government.
A34: 更新日期：2022/3/31

Sheet 2020
A1: 兒童及少年保護-施虐者本身因素分 By Reason of the Abused
A2: 單位：人次 Unit :Person-times
A3: 民國109年, 2020
A4: 區域及特殊族群別 Locality & Ethnos | C4: 本身因素分(人次) (複選)By Reason of the Abused
C5: 缺乏親職 教育知識 Lack of Parental Education Knowledge | D5: 習於體罰或不當管教 Accustomed to Corporal Punishment or Improper Discipline | E5: 負向情緒行為特質 Emotional Instability | F5: 親密關係失調 Intimate Relationship | G5: 經濟因素 Economic Factors | H5: 酗酒 Alcohol | I5: 藥物濫用 Drug Abuse | J5: 精神疾病 Mental Illness | K5: 有自殺紀錄 或自殺意圖 Records of Suicides or Suicide Attempts | L5: 未婚生育 Premarital Childbirth | M5: 未成年生育 Teenage Childbirth | N5: 人格違常 Personality Disorder | O5: 迷信 Superstition | P5: 童年有受虐經驗 Child Abuse Experience | Q5: 其他 Others
A8: 總計 | B8: Total | C8: 2078 | D8: 4522 | E8: 2547 | F8: 1175 | G8: 1051 | H8: 492 | I8: 321 | J8: 400 | K8: 346 | L8: 244 | M8: 73 | N8: 64 | O8: 14 | P8: 288 | Q8: 1838
A9: 新北市 | B9: New Taipei City | C9: 381 | D9: 656 | E9: 360 | F9: 120 | G9: 87 | H9: 70 | I9: 44 | J9: 39 | K9: 36 | L9: 15 | M9: 8 | N9: 1 | O9: 4 | P9: 42 | Q9: 367
A10: 臺北市 | B10: Taipei City | C10: 215 | D10: 495 | E10: 308 | F10: 144 | G10: 128 | H10: 19 | I10: 24 | J10: 59 | K10: 53 | L10: 18 | M10: 1 | N10: 7 | O10: 1 | P10: 38 | Q10: 135
A11: 桃園市 | B11: Taoyuan City | C11: 268 | D11: 809 | E11: 320 | F11: 108 | G11: 123 | H11: 35 | I11: 50 | J11: 33 | K11: 21 | L11: 27 | M11: 13 | N11: 3 | O11: 1 | P11: 28 | Q11: 259
A12: 臺中市 | B12: Taichung City | C12: 192 | D12: 453 | E12: 272 | F12: 165 | G12: 135 | H12: 40 | I12: 38 | J12: 68 | K12: 55 | L12: 38 | M12: 5 | N12: 7 | O12: 0 | P12: 36 | Q12: 173
A13: 臺南市 | B13: Tainan City | C13: 176 | D13: 309 | E13: 173 | F13: 142 | G13: 80 | H13: 35 | I13: 21 | J13: 28 | K13: 33 | L13: 18 | M13: 5 | N13: 3 | O13: 1 | P13: 19 | Q13: 103
A14: 高雄市 | B14: Kaohsiung City | C14: 297 | D14: 637 | E14: 376 | F14: 143 | G14: 171 | H14: 65 | I14: 38 | J14: 50 | K14: 48 | L14: 38 | M14: 8 | N14: 4 | O14: 1 | P14: 47 | Q14: 279
A15: 宜蘭縣 | B15: Yilan County | C15: 26 | D15: 51 | E15: 20 | F15: 14 | G15: 18 | H15: 4 | I15: 1 | J15: 4 | K15: 2 | L15: 4 | M15: 0 | N15: 3 | O15: 0 | P15: 12 | Q15: 25
A16: 新竹縣 | B16: Hsinchu County | C16: 36 | D16: 91 | E16: 64 | F16: 27 | G16: 31 | H16: 19 | I16: 5 | J16: 14 | K16: 11 | L16: 8 | M16: 0 | N16: 3 | O16: 1 | P16: 8 | Q16: 30
A17: 苗栗縣 | B17: Miaoli County | C17: 18 | D17: 37 | E17: 38 | F17: 18 | G17: 17 | H17: 5 | I17: 3 | J17: 4 | K17: 7 | L17: 8 | M17: 1 | N17: 1 | O17: 0 | P17: 2 | Q17: 52
A18: 彰化縣 | B18: Changhua County | C18: 59 | D18: 120 | E18: 104 | F18: 25 | G18: 29 | H18: 13 | I18: 16 | J18: 12 | K18: 15 | L18: 10 | M18: 9 | N18: 2 | O18: 0 | P18: 8 | Q18: 79
A19: 南投縣 | B19: Nantou County | C19: 24 | D19: 53 | E19: 52 | F19: 12 | G19: 10 | H19: 28 | I19: 2 | J19: 15 | K19: 8 | L19: 2 | M19: 0 | N19: 0 | O19: 0 | P19: 4 | Q19: 23
... A30: 連江縣 | B30: Lienchiang County | C30: 8 | D30: 5 | E30: 2 | F30: 2 | G30: 0 | H30: 0 | I30: 0 | J30: 1 | K30: 1 | L30: 0 | M30: 2 | N30: 0 | O30: 2 | P30: 4 | Q30: 1
A31: 資料來源：各直轄市、縣市政府。
A32: Source: County and Government.
A34: 更新日期：2021/03/31

Sheet 2019
A1: 兒童及少年保護-施虐者本身因素分 By Reason of the Abused
A2: 單位：人次 Unit :Person-times
A3: 108年, 2019
A4: 區域及特殊族群別 Locality & Ethnos | C4: 本身因素分(人次) (複選)By Reason of the Abused
C5: 缺乏親職 教育知識 Lack of Parental Education Knowledge | D5: 習於體罰或不當管教 Accustomed to Corporal Punishment or Improper Discipline | E5: 負向情緒行為特質 Emotional Instability | F5: 親密關係失調 Intimate Relationship | G5: 經濟因素 Economic Factors | H5: 酗酒 Alcohol | I5: 藥物濫用 Drug Abuse | J5: 精神疾病 Mental Illness | K5: 有自殺紀錄 或自殺意圖 Records of Suicides or Suicide Attempts | L5: 未婚生育 Premarital Childbirth | M5: 未成年生育 Teenage Childbirth | N5: 人格違常 Personality Disorder | O5: 迷信 Superstition | P5: 童年有受虐經驗 Child Abuse Experience | Q5: 其他 Others
A8: 總計 | B8: Total | C8: 1676 | D8: 3589 | E8: 2000 | F8: 973 | G8: 751 | H8: 491 | I8: 240 | J8: 328 | K8: 280 | L8: 186 | M8: 61 | N8: 50 | O8: 11 | P8: 198 | Q8: 2028
A9: 新北市 | B9: New Taipei City | C9: 355 | D9: 604 | E9: 335 | F9: 127 | G9: 62 | H9: 67 | I9: 41 | J9: 47 | K9: 40 | L9: 12 | M9: 9 | N9: 9 | O9: 4 | P9: 32 | Q9: 508
A10: 臺北市 | B10: Taipei City | C10: 135 | D10: 369 | E10: 203 | F10: 95 | G10: 44 | H10: 22 | I10: 22 | J10: 41 | K10: 30 | L10: 14 | M10: 1 | N10: 9 | O10: 0 | P10: 23 | Q10: 216
A11: 桃園市 | B11: Taoyuan City | C11: 226 | D11: 745 | E11: 222 | F11: 108 | G11: 80 | H11: 45 | I11: 24 | J11: 25 | K11: 25 | L11: 23 | M11: 4 | N11: 1 | O11: 2 | P11: 13 | Q11: 306
A12: 臺中市 | B12: Taichung City | C12: 179 | D12: 418 | E12: 241 | F12: 152 | G12: 124 | H12: 58 | I12: 28 | J12: 45 | K12: 43 | L12: 18 | M12: 8 | N12: 3 | O12: 1 | P12: 25 | Q12: 208
A13: 臺南市 | B13: Tainan City | C13: 137 | D13: 226 | E13: 156 | F13: 87 | G13: 88 | H13: 25 | I13: 19 | J13: 35 | K13: 33 | L13: 15 | M13: 3 | N13: 5 | O13: 2 | P13: 15 | Q13: 112
A14: 高雄市 | B14: Kaohsiung City | C14: 249 | D14: 495 | E14: 332 | F14: 114 | G14: 85 | H14: 50 | I14: 23 | J14: 36 | K14: 26 | L14: 32 | M14: 9 | N14: 2 | O14: 0 | P14: 24 | Q14: 195
A15: 宜蘭縣 | B15: Yilan County | C15: 17 | D15: 38 | E15: 10 | F15: 14 | G15: 9 | H15: 8 | I15: 3 | J15: 4 | K15: 5 | L15: 3 | M15: 0 | N15: 0 | O15: 0 | P15: 3 | Q15: 61
A16: 新竹縣 | B16: Hsinchu County | C16: 30 | D16: 76 | E16: 50 | F16: 21 | G16: 22 | H16: 28 | I16: 3 | J16: 6 | K16: 6 | L16: 8 | M16: 1 | N16: 0 | O16: 0 | P16: 0 | Q16: 33
A17: 苗栗縣 | B17: Miaoli County | C17: 25 | D17: 41 | E17: 31 | F17: 19 | G17: 13 | H17: 2 | I17: 3 | J17: 7 | K17: 5 | L17: 6 | M17: 3 | N17: 0 | O17: 0 | P17: 12 | Q17: 104
A18: 彰化縣 | B18: Changhua County | C18: 65 | D18: 82 | E18: 62 | F18: 34 | G18: 42 | H18: 15 | I18: 12 | J18: 12 | K18: 13 | L18: 14 | M18: 2 | N18: 0 | O18: 2 | P18: 16 | Q18: 33
A19: 南投縣 | B19: Nantou County | C19: 16 | D19: 6 | E19: 17 | F19: 2 | G19: 11 | H19: 10 | I19: 0 | J19: 1 | K19: 5 | L19: 0 | M19: 0 | N19: 1 | O19: 0 | P19: 0 | Q19: 5
... A30: 連江縣 | B30: Lienchiang County | C30: 1 | D30: 0 | E30: 0 | F30: 1 | G30: 0 | H30: 1 | I30: 0 | J30: 0 | K30: 0 | L30: 0 | M30: 0 | N30: 0 | O30: 0 | P30: 0 | Q30: 0
A31: 資料來源：各直轄市、縣市政府。
A32: Source: County and Government.
A33: 更新日期：2020/3/31

Sheet 107
A1: 家內兒童及少年保護案件-施虐者本身因素分Intra-family Child and Youth Protection Cases - By Reason of the Abused
A2: 單位：人次 Unit :Person-times
A3: 107年, 2018
A4: 區域及特殊族群別 Locality & Ethnos
C5: 缺乏親職 教育知識 Lack of Parental Education Knowledge | D5: 習於體罰或不當管教 Accustomed to Corporal Punishment or Improper Discipline | E5: 負向情緒行為特質 Emotional Instability | F5: 親密關係失調 Intimate Relationship | G5: 經濟因素 Economic Factors | H5: 酗酒 Alcohol | I5: 藥物濫用 Drug Abuse | J5: 精神疾病 Mental Illness | K5: 有自殺紀錄或自殺意圖 Records of Suicides or Suicide Attempts | L5: 未婚生育 Premarital Childbirth | M5: 未成年生育 Teenage Childbirth | N5: 人格違常 Personality Disorder | O5: 迷信 Superstition | P5: 童年有受虐經驗 Child Abuse Experience | Q5: 其他 Others
A8: 總計 | B8: Total | C8: 1912 | D8: 803 | E8: 1238 | F8: 583 | G8: 509 | H8: 308 | I8: 160 | J8: 179 | K8: 149 | L8: 135 | M8: 26 | N8: 21 | O8: 11 | P8: 61 | Q8: 69
A9: 新北市 | B9: New Taipei City | C9: 298 | D9: 146 | E9: 202 | F9: 72 | G9: 50 | H9: 38 | I9: 32 | J9: 30 | K9: 23 | L9: 15 | M9: 1 | N9: 3 | O9: 3 | P9: 8 | Q9: 8
A10: 臺北市 | B10: Taipei City | C10: 226 | D10: 94 | E10: 159 | F10: 68 | G10: 46 | H10: 20 | I10: 12 | J10: 20 | K10: 15 | L10: 16 | M10: 2 | N10: 1 | O10: 1 | P10: 6 | Q10: 15
A11: 桃園市 | B11: Taoyuan City | C11: 338 | D11: 87 | E11: 139 | F11: 56 | G11: 36 | H11: 29 | I11: 9 | J11: 18 | K11: 10 | L11: 10 | M11: 7 | N11: - | O11: - | P11: 5 | Q11: -
A12: 臺中市 | B12: Taichung City | C12: 235 | D12: 91 | E12: 173 | F12: 97 | G12: 64 | H12: 38 | I12: 14 | J12: 12 | K12: 28 | L12: 12 | M12: - | N12: 3 | O12: 1 | P12: 7 | Q12: 3
A13: 臺南市 | B13: Tainan City | C13: 150 | D13: 72 | E13: 124 | F13: 50 | G13: 45 | H13: 17 | I13: 18 | J13: 21 | K13: 25 | L13: 13 | M13: 1 | N13: 1 | O13: 1 | P13: 7 | Q13: -
A14: 高雄市 | B14: Kaohsiung City | C14: 200 | D14: 78 | E14: 152 | F14: 56 | G14: 59 | H14: 22 | I14: 19 | J14: 26 | K14: 11 | L14: 20 | M14: 4 | N14: 1 | O14: - | P14: 8 | Q14: -
A15: 宜蘭縣 | B15: Yilan County | C15: 29 | D15: 4 | E15: 10 | F15: 6 | G15: 5 | H15: 3 | I15: 1 | J15: - | K15: 1 | L15: 1 | M15: - | N15: 1 | O15: - | P15: - | Q15: -
A16: 新竹縣 | B16: Hsinchu County | C16: 32 | D16: 20 | E16: 34 | F16: 20 | G16: 14 | H16: 17 | I16: 11 | J16: 10 | K16: 4 | L16: 6 | M16: - | N16: 1 | O16: - | P16: - | Q16: 2
A17: 苗栗縣 | B17: Miaoli County | C17: 32 | D17: 10 | E17: 10 | F17: 13 | G17: 17 | H17: 4 | I17: 10 | J17: 3 | K17: 1 | L17: 4 | M17: 3 | N17: 1 | O17: - | P17: - | Q17: 3
A18: 彰化縣 | B18: Changhua County | C18: 79 | D18: 37 | E18: 23 | F18: 22 | G18: 32 | H18: 13 | I18: 2 | J18: 5 | K18: 3 | L18: 10 | M18: 1 | N18: 2 | O18: 2 | P18: 6 | Q18: 8
A19: 南投縣 | B19: Nantou County | C19: 12 | D19: 9 | E19: 15 | F19: 4 | G19: 6 | H19: 7 | I19: 1 | J19: - | K19: - | L19: 3 | M19: - | N19: - | O19: - | P19: 1 | Q19: 3
A20: 雲林縣 | B20: Yunlin County | C20: 24 | D20: 18 | E20: 30 | F20: 9 | G20: 8 | H20: 7 | I20: 1 | J20: 3 | K20: 3 | L20: 2 | M20: - | N20: 1 | O20: 1 | P20: 1 | Q20: -
A21: 嘉義縣 | B21: Chiayi County | C21: 13 | D21: 6 | E21: 11 | F21: 10 | G21: 8 | H21: 4 | I21: 3 | J21: 2 | K21: 1 | L21: 1 | M21: - | N21: - | O21: - | P21: 1 | Q21: -
A22: 屏東縣 | B22: Pingtung County | C22: 118 | D22: 71 | E22: 68 | F22: 49 | G22: 46 | H22: 38 | I22: 12 | J22: 16 | K22: 13 | L22: 9 | M22: 2 | N22: - | O22: 2 | P22: 2 | Q22: -
A23: 臺東縣 | B23: Taitung County | C23: 21 | D23: 6 | E23: 12 | F23: 4 | G23: 6 | H23: 6 | I23: 1 | J23: - | K23: - | L23: 1 | M23: 1 | N23: - | O23: - | P23: - | Q23: -
A24: 花蓮縣 | B24: Hualien County | C24: 37 | D24: 15 | E24: 21 | F24: 6 | G24: 16 | H24: 18 | I24: 4 | J24: 5 | K24: 5 | L24: - | M24: - | N24: 1 | O24: - | P24: 4 | Q24: -
A25: 澎湖縣 | B25: Penghu County | C25: 4 | D25: 4 | E25: 1 | F25: - | G25: - | H25: 1 | I25: - | J25: - | K25: - | L25: - | M25: - | N25: - | O25: - | P25: - | Q25: -
A26: 基隆市 | B26: Keelung City | C26: 10 | D26: 8 | E26: 9 | F26: 6 | G26: 5 | H26: 5 | I26: 3 | J26: 3 | K26: 1 | L26: 3 | M26: 2 | N26: - | O26: - | P26: 1 | Q26: 27
A27: 新竹市 | B27: Hsinchu City | C27: 35 | D27: 21 | E27: 29 | F27: 26 | G27: 34 | H27: 15 | I27: 5 | J27: 3 | K27: 3 | L27: 8 | M27: - | N27: 5 | O27: - | P27: 4 | Q27: -
A28: 嘉義市 | B28: Chiayi City | C28: 15 | D28: 5 | E28: 8 | F28: 8 | G28: 10 | H28: 1 | I28: 1 | J28: 2 | K28: - | L28: 1 | M28: 2 | N28: - | O28: - | P28: - | Q28: -
A29: 金門縣 | B29: Kinmen County | C29: - | D29: 1 | E29: 6 | F29: 1 | G29: 2 | H29: 5 | I29: 1 | J29: - | K29: 2 | L29: - | M29: - | N29: - | O29: - | P29: - | Q29: -
A30: 連江縣 | B30: Lienchiang County | C30: 4 | D30: - | E30: 2 | F30: - | G30: - | H30: - | I30: - | J30: - | K30: - | L30: - | M30: - | N30: - | O30: - | P30: - | Q30: -
A31: 資料來源：各直轄市、縣市政府。
A32: Source: County and Government.
A33: 更新日期：2019/4/1

Sheet 106
A1: 家內兒童及少年保護案件-施虐者本身因素分Intra-family Child and Youth Protection Cases - By Reason of the Abused
A2: 單位：人次 Unit :Person-times
A3: 106年, 2017
A4: 區域及特殊族群別 Locality & Ethnos
C5: 缺乏親職 教育知識 Lack of Parental Education Knowledge | D5: 習於體罰或不當管教 Accustomed to Corporal Punishment or Improper Discipline | E5: 情緒不穩定 Emotional Instability | F5: 具有暴力傾向 Violent Tendencies | G5: 控制慾強 Strong Desire to Control | H5: 經常性使用負面言語 | I5: 親密關係失調 Intimate Relationship | J5: 經濟因素 Economic Factors | K5: 酗酒 Alcohol | L5: 藥物濫用 Drug Abuse | M5: 精神疾病 Mental Illness | N5: 有自殺紀錄或自殺意圖 Records of Suicides or Suicide Attempts | O5: 未婚生育 Premarital Childbirth | P5: 未成年生育 Teenage Childbirth | Q5: 人格違常 Personality Disorder | R5: 迷信 Superstition | S5: 童年有受虐經驗 Child Abuse Experience | T5: 其他 Others
A8: 總計 | B8: Total | C8: 1776 | D8: 618 | E8: 906 | F8: 168 | G8: 184 | H8: 201 | I8: 542 | J8: 496 | K8: 337 | L8: 226 | M8: 191 | N8: 140 | O8: 130 | P8: 34 | Q8: 37 | R8: 10 | S8: 80 | T8: 78
A9: 新北市 | B9: New Taipei City | C9: 289 | D9: 121 | E9: 121 | F9: 23 | G9: 30 | H9: 21 | I9: 80 | J9: 60 | K9: 58 | L9: 38 | M9: 24 | N9: 20 | O9: 6 | P9: - | Q9: 10 | R9: 1 | S9: 11 | T9: 2
A10: 臺北市 | B10: Taipei City | C10: 147 | D10: 57 | E10: 83 | F10: 6 | G10: 17 | H10: 22 | I10: 56 | J10: 27 | K10: 7 | L10: 9 | M10: 17 | N10: 7 | O10: 7 | P10: 2 | Q10: 1 | R10: 2 | S10: 17 | T10: 13
A11: 桃園市 | B11: Taoyuan City | C11: 364 | D11: 99 | E11: 126 | F11: 12 | G11: 6 | H11: 17 | I11: 75 | J11: 61 | K11: 49 | L11: 30 | M11: 13 | N11: 10 | O11: 16 | P11: 2 | Q11: 3 | R11: - | S11: 5 | T11: -
A12: 臺中市 | B12: Taichung City | C12: 221 | D12: 81 | E12: 137 | F12: 17 | G12: 27 | H12: 30 | I12: 87 | J12: 78 | K12: 37 | L12: 20 | M12: 32 | N12: 41 | O12: 25 | P12: 2 | Q12: 6 | R12: 3 | S12: 16 | T12: 2
A13: 臺南市 | B13: Tainan City | C13: 82 | D13: 24 | E13: 45 | F13: 8 | G13: 1 | H13: 18 | I13: 24 | J13: 26 | K13: 21 | L13: 19 | M13: 4 | N13: 5 | O13: 17 | P13: 14 | Q13: 2 | R13: - | S13: 3 | T13: 16
A14: 高雄市 | B14: Kaohsiung City | C14: 231 | D14: 69 | E14: 126 | F14: 17 | G14: 36 | H14: 19 | I14: 63 | J14: 69 | K14: 37 | L14: 35 | M14: 29 | N14: 23 | O14: 26 | P14: 6 | Q14: 4 | R14: 1 | S14: 9 | T14: -
A15: 宜蘭縣 | B15: Yilan County | C15: 33 | D15: 12 | E15: 12 | F15: 4 | G15: 5 | H15: 5 | I15: 15 | J15: 6 | K15: 7 | L15: 3 | M15: 3 | N15: - | O15: 1 | P15: - | Q15: 2 | R15: - | S15: - | T15: -
A16: 新竹縣 | B16: Hsinchu County | C16: 36 | D16: 13 | E16: 25 | F16: 8 | G16: 7 | H16: 6 | I16: 18 | J16: 11 | K16: 6 | L16: 3 | M16: 9 | N16: 6 | O16: 2 | P16: - | Q16: 1 | R16: - | S16: 1 | T16: -
A17: 苗栗縣 | B17: Miaoli County | C17: 18 | D17: 8 | E17: 9 | F17: 4 | G17: 3 | H17: 4 | I17: 9 | J17: 10 | K17: 6 | L17: 7 | M17: 2 | N17: 6 | O17: - | P17: 1 | Q17: 4 | R17: - | S17: 1 | T17: -
A18: 彰化縣 | B18: Changhua County | C18: 69 | D18: 16 | E18: 39 | F18: 5 | G18: 5 | H18: 6 | I18: 20 | J18: 21 | K18: 8 | L18: 15 | M18: 6 | N18: 5 | O18: 5 | P18: 1 | Q18: - | R18: 1 | S18: 2 | T18: 25
A19: 南投縣 | B19: Nantou County | C19: 8 | D19: 6 | E19: 7 | F19: 4 | G19: 1 | H19: 4 | I19: 4 | J19: 7 | K19: 7 | L19: 2 | M19: 4 | N19: 1 | O19: 3 | P19: 1 | Q19: 1 | R19: - | S19: - | T19: 3
A20: 雲林縣 | B20: Yunlin County | C20: 18 | D20: 11 | E20: 24 | F20: 8 | G20: 2 | H20: 6 | I20: 3 | J20: 11 | K20: 10 | L20: 7 | M20: 5 | N20: 2 | O20: 1 | P20: - | Q20: - | R20: - | S20: 1 | T20: -
A21: 嘉義縣 | B21: Chiayi County | C21: 12 | D21: 4 | E21: 10 | F21: 1 | G21: - | H21: 1 | I21: 10 | J21: 5 | K21: 6 | L21: 1 | M21: 5 | N21: 2 | O21: - | P21: - | Q21: - | R21: 1 | S21: - | T21: -
A22: 屏東縣 | B22: Pingtung County | C22: 111 | D22: 45 | E22: 69 | F22: 26 | G22: 21 | H22: 14 | I22: 35 | J22: 33 | K22: 34 | L22: 16 | M22: 25 | N22: 3 | O22: 6 | P22: - | Q22: - | R22: - | S22: 5 | T22: -
A23: 臺東縣 | B23: Taitung County | C23: 31 | D23: 12 | E23: 19 | F23: 8 | G23: 3 | H23: 5 | I23: 6 | J23: 13 | K23: 12 | L23: 5 | M23: 5 | N23: 3 | O23: 4 | P23: - | Q23: 1 | R23: - | S23: 4 | T23: -
A24: 花蓮縣 | B24: Hualien County | C24: 45 | D24: 14 | E24: 19 | F24: 5 | G24: 7 | H24: 7 | I24: 18 | J24: 18 | K24: 16 | L24: 6 | M24: 1 | N24: 2 | O24: 4 | P24: 1 | Q24: 1 | R24: - | S24: 2 | T24: -
A25: 澎湖縣 | B25: Penghu County | C25: 3 | D25: 1 | E25: 1 | F25: 1 | G25: 1 | H25: 1 | I25: - | J25: 4 | K25: 2 | L25: - | M25: - | N25: - | O25: - | P25: - | Q25: - | R25: - | S25: - | T25: -
A26: 基隆市 | B26: Keelung City | C26: 9 | D26: 6 | E26: 9 | F26: 5 | G26: 4 | H26: 3 | I26: 3 | J26: 11 | K26: 4 | L26: 4 | M26: 2 | N26: 1 | O26: 1 | P26: 1 | Q26: 1 | R26: 1 | S26: - | T26: 17
A27: 新竹市 | B27: Hsinchu City | C27: 17 | D27: 11 | E27: 12 | F27: 4 | G27: 2 | H27: 5 | I27: 6 | J27: 14 | K27: 5 | L27: 5 | M27: 4 | N27: 2 | O27: 4 | P27: 1 | Q27: - | R27: - | S27: 1 | T27: -
A28: 嘉義市 | B28: Chiayi City | C28: 23 | D28: 7 | E28: 9 | F28: 2 | G28: 6 | H28: 5 | I28: 8 | J28: 8 | K28: 2 | L28: - | M28: - | N28: 1 | O28: 2 | P28: - | Q28: - | R28: - | S28: 2 | T28: -
A29: 金門縣 | B29: Kinmen County | C29: 5 | D29: 1 | E29: 3 | F29: - | G29: - | H29: 2 | I29: - | J29: 2 | K29: 2 | L29: 1 | M29: 1 | N29: - | O29: - | P29: 1 | Q29: - | R29: - | S29: - | T29: -
A30: 連江縣 | B30: Lienchiang County | C30: 4 | D30: - | E30: 1 | F30: - | G30: - | H30: - | I30: 2 | J30: 1 | K30: 1 | L30: - | M30: - | N30: - | O30: - | P30: 1 | Q30: - | R30: - | S30: - | T30: -
A31: 資料來源：各直轄市、縣市政府。
A32: Source: County and Government.
A34: 更新日期：2018/3/31

Sheet 105
A1: 兒童及少年保護-施虐者本身因素分By Reason of the Adopted
A3: 105年, 2016
A4: 區域別 Locality
C5: 缺乏親職 教育知識 Lack of Parental Education Knowledge | D5: 婚姻 失調 Marital Maladjustment | E5: 經濟因素 Economic Factors | F5: 酗酒、藥物濫用 Alcohol and Drug Abuse | G5: 精神疾病 Mental Illness | H5: 人格違常 Personality Disorder | I5: 未婚或 未成年生育 Premarital or Teenage Childbirth | J5: 有自殺紀 錄或意圖 Records of Suicides or Suicide Attempts | K5: 童年有受虐經驗 Child Abuse Experience | L5: 其他 (請說明) Others
A8: 總計 | B8: Total | C8: 3584 | D8: 1474 | E8: 735 | F8: 820 | G8: 251 | H8: 59 | I8: 77 | J8: 177 | K8: 94 | L8: 1587
A9: 新北市 | B9: New Taipei City | C9: 650 | D9: 205 | E9: 65 | F9: 173 | G9: 36 | H9: 27 | I9: 8 | J9: 18 | K9: 9 | L9: 62
A10: 臺北市 | B10: Taipei City | C10: 375 | D10: 285 | E10: 54 | F10: 33 | G10: 35 | H10: 2 | I10: 5 | J10: 8 | K10: - | L10: 766
A11: 桃園市 | B11: Taichung City | C11: 446 | D11: 67 | E11: 48 | F11: 42 | G11: 22 | H11: 3 | I11: 8 | J11: 19 | K11: 17 | L11: 380
A12: 臺中市 | B12: Tainan City | C12: 194 | D12: 87 | E12: 45 | F12: 48 | G12: 17 | H12: 2 | I12: 4 | J12: 11 | K12: 9 | L12: 22
A13: 臺南市 | B13: Kaohsiung City | C13: 54 | D13: 32 | E13: 53 | F13: 51 | G13: 2 | H13: - | I13: - | J13: - | K13: - | L13: 15
A14: 高雄市 | B14: Taiwan Prov. | C14: 591 | D14: 254 | E14: 142 | F14: 99 | G14: 45 | H14: 5 | I14: 15 | J14: 57 | K14: 13 | L14: 117
A15: 宜蘭縣 | B15: Taoyuan County | C15: 89 | D15: 35 | E15: 14 | F15: 22 | G15: 7 | H15: 2 | I15: 6 | J15: 2 | K15: 4 | L15: 26
A16: 新竹縣 | B16: Hsinchu County | C16: 73 | D16: 37 | E16: 11 | F16: 26 | G16: 8 | H16: - | I16: 2 | J16: 5 | K16: 6 | L16: 31
A17: 苗栗縣 | B17: Miaoli County | C17: 46 | D17: 33 | E17: 33 | F17: 44 | G17: 4 | H17: - | I17: 3 | J17: 10 | K17: 2 | L17: 1
A18: 彰化縣 | B18: Changhua County | C18: 237 | D18: 89 | E18: 54 | F18: 50 | G18: 14 | H18: 1 | I18: 11 | J18: 10 | K18: 2 | L18: 43
A19: 南投縣 | B19: Nantou County | C19: 7 | D19: 7 | E19: 5 | F19: 15 | G19: 2 | H19: - | I19: - | J19: 2 | K19: 2 | L19: 10
A20: 雲林縣 | B20: Yunlin County | C20: 279 | D20: 110 | E20: 2 | F20: 29 | G20: 9 | H20: 1 | I20: - | J20: 6 | K20: 11 | L20: -
A21: 嘉義縣 | B21: Chiayi County | C21: 30 | D21: 9 | E21: 2 | F21: 9 | G21: 6 | H21: - | I21: - | J21: - | K21: 5 | L21: 17
A22: 屏東縣 | B22: Pingtung County | C22: 131 | D22: 64 | E22: 48 | F22: 60 | G22: 12 | H22: 3 | I22: 3 | J22: 8 | K22: 4 | L22: 8
A23: 臺東縣 | B23: Taitung County | C23: 79 | D23: 32 | E23: 38 | F23: 35 | G23: 12 | H23: 2 | I23: 8 | J23: 4 | K23: 1 | L23: 3
A24: 花蓮縣 | B24: Hualien County | C24: 119 | D24: 47 | E24: 28 | F24: 30 | G24: 6 | H24: 2 | I24: 3 | J24: 5 | K24: 4 | L24: 46
A25: 澎湖縣 | B25: Penghu County | C25: 3 | D25: - | E25: - | F25: 1 | G25: 1 | H25: - | I25: - | J25: - | K25: - | L25: -
A26: 基隆市 | B26: Keelung City | C26: 80 | D26: 48 | E26: 45 | F26: 34 | G26: 10 | H26: - | I26: - | J26: 5 | K26: 2 | L26: 19
A27: 新竹市 | B27: Hsinchu City | C27: 26 | D27: 16 | E27: 28 | F27: 6 | G27: - | H27: 2 | I27: - | J27: 2 | K27: 1 | L27: -
A28: 嘉義市 | B28: Chiayi City | C28: 20 | D28: 9 | E28: 9 | F28: 7 | G28: 1 | H28: 4 | I28: 1 | J28: 2 | K28: 1 | L28: 1
A29: 金門縣 | B29: Kinmen County | C29: 52 | D29: 8 | E29: 11 | F29: 6 | G29: 2 | H29: 3 | I29: - | J29: 3 | K29: 1 | L29: 19
A30: 連江縣 | B30: Lienchiang County | C30: 3 | D30: - | E30: - | F30: - | G30: - | H30: - | I30: - | J30: - | K30: - | L30: 1
A31: 資料來源：各直轄市、縣市政府。
A32: Source: County and Government.
A34: 更新日期：2017/3/9

Sheet 104
A1: 兒童及少年保護-施虐者本身因素分By Reason of the Adopted
A3: 104年, 2015
A4: 區域別 Locality
C5: 缺乏親職 教育知識 Lack of Parental Education Knowledge | D5: 婚姻 失調 Marital Maladjustment | E5: 貧困 Poverty | F5: 失業 Unemployment | G5: 酗酒、藥物濫用 Alcohol and Drug Abuse | H5: 精神疾病 Mental Illness | I5: 人格違常 Personality Disorder | J5: 迷信 Superstition | K5: 童年有受虐經驗 Child Abuse Experience | L5: 其他 (請說明) Others
A8: 總計 | B8: Total | C8: 4998 | D8: 2889 | E8: 1310 | F8: 522 | G8: 1108 | H8: 370 | I8: 99 | J8: 31 | K8: 140 | L8: 782
A9: 新北市 | B9: New Taipei City | C9: 489 | D9: 79 | E9: 6 | F9: 4 | G9: 81 | H9: 32 | I9: 11 | J9: - | K9: 2 | L9: 203
A10: 臺北市 | B10: Taipei City | C10: 663 | D10: 345 | E10: 76 | F10: 34 | G10: 87 | H10: 94 | I10: 52 | J10: 11 | K10: 42 | L10: 192
A11: 桃園市 | B11: Taichung City | C11: 537 | D11: 151 | E11: 45 | F11: 13 | G11: 68 | H11: 20 | I11: - | J11: - | K11: 3 | L11: 122
A12: 臺中市 | B12: Tainan City | C12: 86 | D12: 64 | E12: 21 | F12: 3 | G12: 42 | H12: 9 | I12: 5 | J12: 4 | K12: - | L12: 3
A13: 臺南市 | B13: Kaohsiung City | C13: 103 | D13: 123 | E13: 28 | F13: 26 | G13: 23 | H13: 11 | I13: - | J13: - | K13: 3 | L13: 2
A14: 高雄市 | B14: Taiwan Prov. | C14: 967 | D14: 439 | E14: 135 | F14: 54 | G14: 115 | H14: 46 | I14: 5 | J14: 1 | K14: 10 | L14: 111
A15: 宜蘭縣 | B15: Taoyuan County | C15: 97 | D15: 29 | E15: 10 | F15: 6 | G15: 29 | H15: 10 | I15: 6 | J15: - | K15: 1 | L15: 3
A16: 新竹縣 | B16: Hsinchu County | C16: 12 | D16: 11 | E16: 2 | F16: 2 | G16: 18 | H16: - | I16: - | J16: - | K16: 3 | L16: 1
A17: 苗栗縣 | B17: Miaoli County | C17: 76 | D17: 78 | E17: 40 | F17: 19 | G17: 53 | H17: 18 | I17: - | J17: - | K17: 3 | L17: 2
A18: 彰化縣 | B18: Changhua County | C18: 7 | D18: 3 | E18: - | F18: 1 | G18: 15 | H18: 1 | I18: 1 | J18: - | K18: - | L18: -
A19: 南投縣 | B19: Nantou County | C19: 4 | D19: 17 | E19: 4 | F19: - | G19: 14 | H19: - | I19: - | J19: 1 | K19: 1 | L19: -
A20: 雲林縣 | B20: Yunlin County | C20: 417 | D20: 141 | E20: 3 | F20: 5 | G20: 51 | H20: 11 | I20: - | J20: - | K20: - | L20: 38
A21: 嘉義縣 | B21: Chiayi County | C21: 167 | D21: 131 | E21: 58 | F21: 8 | G21: 20 | H21: 23 | I21: 3 | J21: 2 | K21: 7 | L21: 21
A22: 屏東縣 | B22: Pingtung County | C22: 177 | D22: 57 | E22: 48 | F22: 17 | G22: 56 | H22: 19 | I22: 4 | J22: - | K22: 3 | L22: 6
A23: 臺東縣 | B23: Taitung County | C23: 840 | D23: 1029 | E23: 739 | F23: 289 | G23: 380 | H23: 56 | I23: 6 | J23: 10 | K23: 56 | L23: 6
A24: 花蓮縣 | B24: Hualien County | C24: 126 | D24: 84 | E24: 25 | F24: 12 | G24: 25 | H24: 4 | I24: 5 | J24: 1 | K24: 5 | L24: 22
A25: 澎湖縣 | B25: Penghu County | C25: 9 | D25: - | E25: - | F25: - | G25: - | H25: - | I25: - | J25: - | K25: - | L25: -
A26: 基隆市 | B26: Keelung City | C26: 104 | D26: 73 | E26: 37 | F26: 13 | G26: 13 | H26: 5 | I26: 1 | J26: - | K26: 1 | L26: 27
A27: 新竹市 | B27: Hsinchu City | C27: 40 | D27: 14 | E27: 23 | F27: 9 | G27: 6 | H27: - | I27: - | J27: 1 | K27: - | L27: -
A28: 嘉義市 | B28: Chiayi City | C28: 61 | D28: 17 | E28: 9 | F28: 5 | G28: 9 | H28: 10 | I28: - | J28: - | K28: - | L28: 23
A29: 金門縣 | B29: Kinmen County | C29: 16 | D29: 4 | E29: 1 | F29: 2 | G29: 3 | H29: 1 | I29: - | J29: - | K29: - | L29: -
A30: 連江縣 | B30: Lienchiang County | C30: - | D30: - | E30: - | F30: - | G30: - | H30: - | I30: - | J30: - | K30: - | L30: -
A31: 資料來源：各直轄市、縣市政府。
A32: Source: County and Government.
A34: 更新日期：2016/3/8

Sheet 103
A1: 兒童及少年保護-施虐者本身因素分By Reason of the Adopted
A3: 103年, 2014
A4: 區域別 Locality
C5: 缺乏親職 教育知識 Lack of Parental Education Knowledge | D5: 婚姻 失調 Marital Maladjustment | E5: 貧困 Poverty | F5: 失業 Unemployment | G5: 酗酒、藥物濫用 Alcohol and Drug Abuse | H5: 精神疾病 Mental Illness | I5: 人格違常 Personality Disorder | J5: 迷信 Superstition | K5: 童年有受虐經驗 Child Abuse Experience | L5: 其他 (請說明) Others
A8: 總計 | B8: Total | C8: 7060 | D8: 3280 | E8: 1112 | F8: 492 | G8: 1167 | H8: 533 | I8: 332 | J8: 31 | K8: 119 | L8: 1701
A9: 新北市 | B9: New Taipei City | C9: 853 | D9: 162 | E9: 14 | F9: 35 | G9: 104 | H9: 44 | I9: 22 | J9: 2 | K9: 4 | L9: 314
A10: 臺北市 | B10: Taipei City | C10: 789 | D10: 243 | E10: 140 | F10: 43 | G10: 96 | H10: 197 | I10: 160 | J10: 5 | K10: 26 | L10: 563
A11: 臺中市 | B11: Taichung City | C11: 1076 | D11: 574 | E11: 170 | F11: 68 | G11: 187 | H11: 35 | I11: 56 | J11: 4 | K11: 23 | L11: 100
A12: 臺南市 | B12: Tainan City | C12: 630 | D12: 335 | E12: 113 | F12: 36 | G12: 51 | H12: 23 | I12: 10 | J12: 3 | K12: 11 | L12: 15
A13: 高雄市 | B13: Kaohsiung City | C13: 1522 | D13: 627 | E13: 171 | F13: 85 | G13: 178 | H13: 63 | I13: 20 | J13: 1 | K13: 11 | L13: 153
A14: 宜蘭縣 | B14: Yilan County | C14: 107 | D14: 44 | E14: 14 | F14: 16 | G14: 21 | H14: 8 | I14: 1 | J14: 0 | K14: 0 | L14: 1
A15: 桃園縣 | B15: Taoyuan County | C15: 307 | D15: 233 | E15: 70 | F15: 17 | G15: 38 | H15: 21 | I15: 12 | J15: 4 | K15: 2 | L15: 356
A16: 新竹縣 | B16: Hsinchu County | C16: 28 | D16: 13 | E16: 2 | F16: 5 | G16: 13 | H16: 3 | I16: 0 | J16: 0 | K16: 0 | L16: 1
A17: 苗栗縣 | B17: Miaoli County | C17: 39 | D17: 37 | E17: 12 | F17: 7 | G17: 21 | H17: 7 | I17: 0 | J17: 0 | K17: 4 | L17: 2
A18: 彰化縣 | B18: Changhua County | C18: 81 | D18: 42 | E18: 20 | F18: 2 | G18: 16 | H18: 4 | I18: 7 | J18: 6 | K18: 8 | L18: 1
A19: 南投縣 | B19: Nantou County | C19: 23 | D19: 36 | E19: 2 | F19: 3 | G19: 8 | H19: 2 | I19: 1 | J19: 1 | K19: 0 | L19: 0
... A30: 連江縣 | B30: Lienchiang County | C30: 0 | D30: 0 | E30: 0 | F30: 0 | G30: 0 | H30: 0 | I30: 0 | J30: 0 | K30: 0 | L30: 0
A31: 資料來源：各直轄市、縣市政府。
A32: Source: County and Government.
A34: 更新日期：2015/3/6

Sheet 102
A1: 兒童及少年保護-施虐者本身因素分By Reason of the Adopted
A3: 102年, 2013
A4: 區域別 Locality
C5: 缺乏親職 教育知識 Lack of Parental Education Knowledge | D5: 婚姻 失調 Marital Maladjustment | E5: 貧困 Poverty | F5: 失業 Unemployment | G5: 酗酒、藥物濫用 Alcohol and Drug Abuse | H5: 精神疾病 Mental Illness | I5: 人格違常 Personality Disorder | J5: 迷信 Superstition | K5: 童年有受虐經驗 Child Abuse Experience | L5: 其他 (請說明) Others
A8: 總計 | B8: Total | C8: 13052 | D8: 6596 | E8: 2458 | F8: 1000 | G8: 2157 | H8: 1143 | I8: 182 | J8: 50 | K8: 238 | L8: 2626
A9: 新北市 | B9: New Taipei City | C9: 1657 | D9: 527 | E9: 68 | F9: 98 | G9: 359 | H9: 130 | I9: 25 | J9: 7 | K9: 18 | L9: 373
A10: 臺北市 | B10: Taipei City | C10: 392 | D10: 59 | E10: 68 | F10: 20 | G10: 85 | H10: 177 | I10: 18 | J10: 8 | K10: 9 | L10: 510
A11: 臺中市 | B11: Taichung City | C11: 2482 | D11: 1506 | E11: 548 | F11: 174 | G11: 303 | H11: 128 | I11: 31 | J11: 1 | K11: 43 | L11: 475
A12: 臺南市 | B12: Tainan City | C12: 928 | D12: 466 | E12: 198 | F12: 58 | G12: 124 | H12: 85 | I12: 4 | J12: 5 | K12: 19 | L12: 32
A13: 高雄市 | B13: Kaohsiung City | C13: 2091 | D13: 742 | E13: 236 | F13: 134 | G13: 186 | H13: 148 | I13: 21 | J13: 8 | K13: 23 | L13: 517
A14: 宜蘭縣 | B14: Yilan County | C14: 273 | D14: 189 | E14: 64 | F14: 18 | G14: 83 | H14: 46 | I14: 3 | J14: 2 | K14: 4 | L14: 44
A15: 桃園縣 | B15: Taoyuan County | C15: 387 | D15: 245 | E15: 122 | F15: 39 | G15: 66 | H15: 46 | I15: 8 | J15: 2 | K15: 14 | L15: 186
A16: 新竹縣 | B16: Hsinchu County | C16: 211 | D16: 107 | E16: 38 | F16: 27 | G16: 46 | H16: 16 | I16: 1 | J16: 1 | K16: 2 | L16: 9
A17: 苗栗縣 | B17: Miaoli County | C17: 360 | D17: 257 | E17: 84 | F17: 43 | G17: 102 | H17: 34 | I17: 1 | J17: 1 | K17: 3 | L17: 32
A18: 彰化縣 | B18: Changhua County | C18: 767 | D18: 465 | E18: 153 | F18: 50 | G18: 73 | H18: 42 | I18: 16 | J18: 2 | K18: 15 | L18: 38
A19: 南投縣 | B19: Nantou County | C19: 46 | D19: 34 | E19: 9 | F19: 0 | G19: 11 | H19: 3 | I19: 0 | J19: 0 | K19: 0 | L19: 26
... A30: 連江縣 | B30: Lienchiang County | C30: 3 | D30: 4 | E30: 2 | F30: 0 | G30: 2 | H30: 2 | I30: 0 | J30: 0 | K30: 0 | L30: 1
A31: 資料來源：各直轄市、縣市政府。
A32: Source: County and Government.
A34: 更新日期：2014/3/31

Sheet 101
A1: 兒童及少年保護-施虐者本身因素分By Reason of the Adopted
A3: 101年, 2012
A4: 區域別 Locality
C5: 缺乏親職 教育知識 Lack of Parental Education Knowledge | D5: 婚姻 失調 Marital Maladjustment | E5: 貧困 Poverty | F5: 失業 Unemployment | G5: 酗酒、藥物濫用 Alcohol and Drug Abuse | H5: 精神疾病 Mental Illness | I5: 人格違常 Personality Disorder | J5: 迷信 Superstition | K5: 童年有受虐經驗 Child Abuse Experience | L5: 其他 (請說明) Others
A8: 總計 | B8: Total | C8: 15738 | D8: 7467 | E8: 3383 | F8: 1397 | G8: 2977 | H8: 1389 | I8: 412 | J8: 50 | K8: 318 | L8: 2770
A9: 新北市 | B9: New Taipei City | C9: 1613 | D9: 553 | E9: 81 | F9: 103 | G9: 404 | H9: 120 | I9: 32 | J9: 6 | K9: 24 | L9: 215
A10: 臺北市 | B10: Taipei City | C10: 600 | D10: 63 | E10: 82 | F10: 20 | G10: 88 | H10: 74 | I10: 155 | J10: 0 | K10: 9 | L10: 791
A11: 臺中市 | B11: Taichung City | C11: 3249 | D11: 1604 | E11: 745 | F11: 267 | G11: 610 | H11: 241 | I11: 75 | J11: 11 | K11: 57 | L11: 130
A12: 臺南市 | B12: Tainan City | C12: 1139 | D12: 571 | E12: 243 | F12: 88 | G12: 146 | H12: 95 | I12: 24 | J12: 4 | K12: 10 | L12: 17
A13: 高雄市 | B13: Kaohsiung City | C13: 2964 | D13: 1044 | E13: 385 | F13: 183 | G13: 358 | H13: 216 | I13: 27 | J13: 8 | K13: 45 | L13: 876
A14: 宜蘭縣 | B14: Yilan County | C14: 386 | D14: 206 | E14: 73 | F14: 34 | G14: 67 | H14: 40 | I14: 4 | J14: 3 | K14: 3 | L14: 39
A15: 桃園縣 | B15: Taoyuan County | C15: 861 | D15: 534 | E15: 337 | F15: 116 | G15: 163 | H15: 116 | I15: 27 | J15: 8 | K15: 82 | L15: 89
A16: 新竹縣 | B16: Hsinchu County | C16: 338 | D16: 162 | E16: 73 | F16: 48 | G16: 81 | H16: 48 | I16: 4 | J16: 0 | K16: 2 | L16: 16
A17: 苗栗縣 | B17: Miaoli County | C17: 414 | D17: 212 | E17: 90 | F17: 44 | G17: 118 | H17: 33 | I17: 3 | J17: 0 | K17: 2 | L17: 28
A18: 彰化縣 | B18: Changhua County | C18: 837 | D18: 456 | E18: 188 | F18: 81 | G18: 124 | H18: 58 | I18: 20 | J18: 2 | K18: 6 | L18: 99
A19: 南投縣 | B19: Nantou County | C19: 68 | D19: 53 | E19: 28 | F19: 11 | G19: 14 | H19: 9 | I19: 2 | J19: 0 | K19: 3 | L19: 0
... A30: 連江縣 | B30: Lienchiang County | C30: 0 | D30: 0 | E30: 0 | F30: 0 | G30: 0 | H30: 0 | I30: 0 | J30: 0 | K30: 0 | L30: 1
A31: 資料來源：各直轄市、縣市政府。
A32: Source: County and Government.

Sheet 100
A1: 兒童及少年保護-施虐者本身因素分By Reason of the Adopted
A3: 100年,2011
A4: 區域別 Locality
C5: 缺乏親職 教育知識 Lack of Parental Education Knowledge | D5: 婚姻 失調 Marital Maladjustment | E5: 貧困 Poverty | F5: 失業 Unemployment | G5: 酗酒、藥物濫用 Alcohol and Drug Abuse | H5: 精神疾病 Mental Illness | I5: 人格違常 Personality Disorder | J5: 迷信 Superstition | K5: 童年有受虐經驗 Child Abuse Experience | L5: 其他 (請說明) Others
A8: 總計 | B8: Total | C8: 14460 | D8: 7035 | E8: 3493 | F8: 1528 | G8: 2890 | H8: 1242 | I8: 480 | J8: 55 | K8: 347 | L8: 2748
A9: 新北市 | B9: New Taipei City | C9: 1382 | D9: 551 | E9: 149 | F9: 134 | G9: 459 | H9: 120 | I9: 38 | J9: 0 | K9: 29 | L9: 534
A10: 臺北市 | B10: Taipei City | C10: 391 | D10: 42 | E10: 76 | F10: 22 | G10: 88 | H10: 77 | I10: 142 | J10: 0 | K10: 9 | L10: 734
A11: 臺中市 | B11: Taichung City | C11: 2602 | D11: 1552 | E11: 901 | F11: 307 | G11: 540 | H11: 203 | I11: 87 | J11: 20 | K11: 106 | L11: 193
A12: 臺南市 | B12: Tainan City | C12: 889 | D12: 468 | E12: 251 | F12: 88 | G12: 118 | H12: 80 | I12: 22 | J12: 6 | K12: 26 | L12: 22
A13: 高雄市 | B13: Kaohsiung City | C13: 2723 | D13: 979 | E13: 410 | F13: 204 | G13: 309 | H13: 189 | I13: 18 | J13: 14 | K13: 43 | L13: 552
A14: 宜蘭縣 | B14: Yilan County | C14: 339 | D14: 214 | E14: 72 | F14: 25 | G14: 90 | H14: 49 | I14: 1 | J14: 1 | K14: 8 | L14: 53
A15: 桃園縣 | B15: Taoyuan County | C15: 408 | D15: 281 | E15: 103 | F15: 34 | G15: 87 | H15: 39 | I15: 6 | J15: 2 | K15: 4 | L15: 29
A16: 新竹縣 | B16: Hsinchu County | C16: 352 | D16: 159 | E16: 72 | F16: 35 | G16: 68 | H16: 31 | I16: 7 | J16: 0 | K16: 2 | L16: 10
A17: 苗栗縣 | B17: Miaoli County | C17: 235 | D17: 77 | E17: 43 | F17: 24 | G17: 79 | H17: 25 | I17: 6 | J17: 0 | K17: 0 | L17: 42
A18: 彰化縣 | B18: Changhua County | C18: 1244 | D18: 498 | E18: 227 | F18: 119 | G18: 173 | H18: 82 | I18: 26 | J18: 0 | K18: 10 | L18: 144
A19: 南投縣 | B19: Nantou County | C19: 95 | D19: 62 | E19: 48 | F19: 17 | G19: 28 | H19: 10 | I19: 2 | J19: 0 | K19: 2 | L19: 13
... A30: 連江縣 | B30: Lienchiang County | C30: 4 | D30: 1 | E30: 0 | F30: 0 | G30: 0 | H30: 0 | I30: 0 | J30: 0 | K30: 0 | L30: 0
A31: 資料來源：各直轄市、縣市政府。
A32: Source: County and Government.

Sheet 99
A1: 兒童及少年保護-施虐者本身因素分By Reason of the Adopted
A3: 99年,2010
A4: 區域別 Locality
C5: 缺乏親職 教育知識 Lack of Parental Education Knowledge | D5: 婚姻 失調 Marital Maladjustment | E5: 貧困 Poverty | F5: 失業 Unemployment | G5: 酗酒、藥物濫用 Alcohol and Drug Abuse | H5: 精神疾病 Mental Illness | I5: 人格違常 Personality Disorder | J5: 迷信 Superstition | K5: 童年有受虐經驗 Child Abuse Experience | L5: 其他 (請說明) Others
A8: 總計 | B8: Total | C8: 13065 | D8: 7005 | E8: 3105 | F8: 1825 | G8: 2566 | H8: 1462 | I8: 418 | J8: 110 | K8: 318 | L8: 3117
A9: 臺北縣 | B9: Taipei County | C9: 1439 | D9: 571 | E9: 176 | F9: 160 | G9: 378 | H9: 146 | I9: 76 | J9: 1 | K9: 34 | L9: 605
A10: 宜蘭縣 | B10: Yilan County | C10: 347 | D10: 160 | E10: 82 | F10: 33 | G10: 96 | H10: 84 | I10: 10 | J10: 1 | K10: 1 | L10: 72
A11: 桃園縣 | B11: Taoyuan County | C11: 1697 | D11: 1118 | E11: 400 | F11: 203 | G11: 299 | H11: 223 | I11: 14 | J11: 3 | K11: 45 | L11: 56
A12: 新竹縣 | B12: Hsinchu County | C12: 266 | D12: 103 | E12: 33 | F12: 33 | G12: 58 | H12: 22 | I12: 2 | J12: 1 | K12: 2 | L12: 33
A13: 苗栗縣 | B13: Miaoli County | C13: 247 | D13: 68 | E13: 64 | F13: 48 | G13: 99 | H13: 39 | I13: 5 | J13: 1 | K13: 2 | L13: 67
A14: 臺中縣 | B14: Taichung County | C14: 1501 | D14: 813 | E14: 350 | F14: 194 | G14: 279 | H14: 142 | I14: 46 | J14: 8 | K14: 19 | L14: 206
A15: 彰化縣 | B15: Changhua County | C15: 825 | D15: 448 | E15: 156 | F15: 74 | G15: 123 | H15: 78 | I15: 12 | J15: 9 | K15: 9 | L15: 186
A16: 南投縣 | B16: Nantou County | C16: 104 | D16: 73 | E16: 39 | F16: 19 | G16: 24 | H16: 10 | I16: 4 | J16: 2 | K16: 2 | L16: 7
A17: 雲林縣 | B17: Yunlin County | C17: 219 | D17: 60 | E17: 12 | F17: 3 | G17: 48 | H17: 29 | I17: 11 | J17: 0 | K17: 2 | L17: 77
A18: 嘉義縣 | B18: Chiayi County | C18: 172 | D18: 103 | E18: 59 | F18: 35 | G18: 37 | H18: 27 | I18: 1 | J18: 1 | K18: 0 | L18: 33
A19: 臺南縣 | B19: Tainan County | C19: 474 | D19: 307 | E19: 178 | F19: 66 | G19: 85 | H19: 55 | I19: 17 | J19: 4 | K19: 3 | L19: 16
... A33: 連江縣 | B33: Lienchiang County | C33: 11 | D33: 6 | E33: 5 | F33: 2 | G33: 2 | H33: 2 | I33: 1 | J33: 1 | K33: 0 | L33: 0
A34: 資料來源：各直轄市、縣市政府。
A35: Source: County and Government.

Sheet 98
A1: 兒童及少年保護-施虐者本身因素分By Reason of the Adopted
A3: 98年,2009
A4: 區域別 Locality
C5: 缺乏親職 教育知識 Lack of Parental Education Knowledge | D5: 婚姻 失調 Marital Maladjustment | E5: 貧困 Poverty | F5: 失業 Unemployment | G5: 酗酒、藥物濫用 Alcohol and Drug Abuse | H5: 精神疾病 Mental Illness | I5: 人格違常 Personality Disorder | J5: 迷信 Superstition | K5: 童年有受虐經驗 Child Abuse Experience | L5: 其他 (請說明) Others
A8: 總計 | B8: Total | C8: 5669 | D8: 2703 | E8: 1161 | F8: 1104 | G8: 1672 | H8: 584 | I8: 247 | J8: 38 | K8: 129 | L8: 3120
A9: 臺北縣 | B9: Taipei County | C9: 1105 | D9: 460 | E9: 101 | F9: 146 | G9: 322 | H9: 111 | I9: 54 | J9: 2 | K9: 22 | L9: 479
A10: 宜蘭縣 | B10: Yilan County | C10: 125 | D10: 116 | E10: 107 | F10: 96 | G10: 91 | H10: 28 | I10: 4 | J10: 8 | K10: 0 | L10: 0
A11: 桃園縣 | B11: Taoyuan County | C11: 783 | D11: 407 | E11: 138 | F11: 151 | G11: 244 | H11: 74 | I11: 9 | J11: 1 | K11: 6 | L11: 357
A12: 新竹縣 | B12: Hsinchu County | C12: 175 | D12: 69 | E12: 10 | F12: 9 | G12: 33 | H12: 12 | I12: 0 | J12: 0 | K12: 0 | L12: 197
A13: 苗栗縣 | B13: Miaoli County | C13: 160 | D13: 54 | E13: 36 | F13: 27 | G13: 56 | H13: 15 | I13: 0 | J13: 0 | K13: 1 | L13: 66
A14: 臺中縣 | B14: Taichung County | C14: 537 | D14: 279 | E14: 89 | F14: 130 | G14: 168 | H14: 52 | I14: 29 | J14: 8 | K14: 12 | L14: 164
A15: 彰化縣 | B15: Changhua County | C15: 210 | D15: 110 | E15: 65 | F15: 34 | G15: 55 | H15: 23 | I15: 5 | J15: 1 | K15: 9 | L15: 125
A16: 南投縣 | B16: Nantou County | C16: 57 | D16: 17 | E16: 30 | F16: 11 | G16: 33 | H16: 10 | I16: 4 | J16: 0 | K16: 1 | L16: 5
A17: 雲林縣 | B17: Yunlin County | C17: 227 | D17: 84 | E17: 3 | F17: 2 | G17: 52 | H17: 14 | I17: 9 | J17: 0 | K17: 1 | L17: 63
A18: 嘉義縣 | B18: Chiayi County | C18: 46 | D18: 40 | E18: 20 | F18: 17 | G18: 14 | H18: 20 | I18: 5 | J18: 0 | K18: 0 | L18: 34
A19: 臺南縣 | B19: Tainan County | C19: 136 | D19: 57 | E19: 53 | F19: 59 | G19: 27 | H19: 3 | I19: 0 | J19: 0 | K19: 3 | L19: 47
... A33: 連江縣 | B33: Lienchiang County | C33: 3 | D33: 0 | E33: 0 | F33: 0 | G33: 2 | H33: 1 | I33: 0 | J33: 0 | K33: 0 | L33: 0
A34: 資料來源：各直轄市、縣市政府。
A35: Source: County and Government.
