Workbook

Sheet 歷年
A1: 兒童少年保護-受虐者父母國籍 Child and Youth Protection Cases - Nationality of Abused Child and Youth Parents
A2: 單位：人 Unit : Persons
A3: 年別 Year | B3: 父親 Father | G3: 母親 Mother
B4: 本國籍 Nationals | D4: 外國籍 Foreigners | E4: 大陸籍及港澳地區 Mainlanders, Hong Kong and Macao | F4: 其他 Others （不詳） | G4: 本國籍 Nationals | I4: 外國籍 Foreigners | J4: 大陸籍及港澳地區 Mainlanders, Hong Kong and Macao | K4: 其他 Others （不詳）
B5: 一般民眾 General | C5: 原住民 Indigenous | G5: 一般民眾 General | H5: 原住民 Indigenous
A6: 108年, 2019 | B6: ='2019'!C7 -> 5900 | C6: ='2019'!D7 -> 506 | D6: ='2019'!E7 -> 32 | E6: ='2019'!F7 -> 5 | F6: ='2019'!G7 -> 287 | G6: ='2019'!H7 -> 6091 | H6: ='2019'!I7 -> 599 | I6: ='2019'!J7 -> 218 | ... K6: ='2019'!L7 -> 316
A7: 109年, 2020 | B7: ='2020'!C7 -> 6151 | C7: ='2020'!D7 -> 633 | D7: ='2020'!E7 -> 30 | E7: ='2020'!F7 -> 10 | F7: ='2020'!G7 -> 381 | G7: ='2020'!H7 -> 6463 | H7: ='2020'!I7 -> 815 | I7: ='2020'!J7 -> 200 | ... K7: ='2020'!L7 -> 289
A8: 110年, 2021 | B8: ='2021'!C7 -> 5858 | C8: ='2021'!D7 -> 551 | D8: ='2021'!E7 -> 47 | E8: ='2021'!F7 -> 7 | F8: ='2021'!G7 -> 224 | G8: ='2021'!H7 -> 6133 | H8: ='2021'!I7 -> 732 | I8: ='2021'!J7 -> 208 | ... K8: ='2021'!L7 -> 174
A9: 111年, 2022 | B9: ='2022'!C7 -> 6335 | C9: ='2022'!D7 -> 467 | D9: ='2022'!E7 -> 38 | E9: ='2022'!F7 -> 5 | F9: ='2022'!G7 -> 188 | G9: ='2022'!H7 -> 6592 | H9: ='2022'!I7 -> 703 | I9: ='2022'!J7 -> 204 | ... K9: ='2022'!L7 -> 142
A10: 112年, 2023 | B10: ='2023'!C7 -> 6855 | C10: ='2023'!D7 -> 523 | D10: ='2023'!E7 -> 23 | E10: ='2023'!F7 -> 10 | F10: ='2023'!G7 -> 178 | G10: ='2023'!H7 -> 7402 | H10: ='2023'!I7 -> 687 | I10: ='2023'!J7 -> 166 | ... K10: ='2023'!L7 -> 125
A11: 113年, 2024 | B11: ='2024'!C7 -> 6038 | C11: ='2024'!D7 -> 432 | D11: ='2024'!E7 -> 26 | E11: ='2024'!F7 -> 14 | F11: ='2024'!G7 -> 166 | G11: ='2024'!H7 -> 6109 | H11: ='2024'!I7 -> 540 | I11: ='2024'!J7 -> 134 | ... K11: ='2024'!L7 -> 161
A12: 上半年, Jan.-June | B12: 3233 | C12: 208 | D12: 15 | E12: 5 | F12: 88 | G12: 3151 | H12: 275 | I12: 72 | J12: 77 | K12: 72
A13: 下半年, July-Dec. | B13: 2805 | C13: 224 | D13: 11 | E13: 9 | F13: 78 | G13: 2958 | H13: 265 | I13: 62 | J13: 59 | K13: 89
A14: 114年, 2025 | B14: ='2025'!C7 -> 5227 | C14: ='2025'!D7 -> 356 | D14: ='2025'!E7 -> 25 | E14: ='2025'!F7 -> 13 | F14: ='2025'!G7 -> 113 | G14: ='2025'!H7 -> 5501 | H14: ='2025'!I7 -> 525 | I14: ='2025'!J7 -> 122 | ... K14: ='2025'!L7 -> 129
A15: 上半年, Jan.-June | B15: ='Jan.-June, 2025'!C7 -> 2910 | C15: ='Jan.-June, 2025'!D7 -> 199 | D15: ='Jan.-June, 2025'!E7 -> 9 | E15: ='Jan.-June, 2025'!F7 -> 7 | F15: ='Jan.-June, 2025'!G7 -> 53 | G15: ='Jan.-June, 2025'!H7 -> 3046 | H15: ='Jan.-June, 2025'!I7 -> 274 | I15: ='Jan.-June, 2025'!J7 -> 70 | ... K15: ='Jan.-June, 2025'!L7 -> 74
A16: 下半年, July-Dec. | B16: ='July-Dec., 2025'!C7 -> 2317 | C16: ='July-Dec., 2025'!D7 -> 157 | D16: ='July-Dec., 2025'!E7 -> 16 | E16: ='July-Dec., 2025'!F7 -> 6 | F16: ='July-Dec., 2025'!G7 -> 60 | G16: ='July-Dec., 2025'!H7 -> 2455 | H16: ='July-Dec., 2025'!I7 -> 251 | I16: ='July-Dec., 2025'!J7 -> 52 | ... K16: ='July-Dec., 2025'!L7 -> 55
A17: 資料來源：各直轄市、縣市政府。
A18: Source: County and Government.
A19: 更新日期：2026/03/31
B20: =IF(B14=SUM(B15:B16),"","*") | C20: =IF(C14=SUM(C15:C16),"","*") | D20: =IF(D14=SUM(D15:D16),"","*") | E20: =IF(E14=SUM(E15:E16),"","*") | F20: =IF(F14=SUM(F15:F16),"","*") | G20: =IF(G14=SUM(G15:G16),"","*") | H20: =IF(H14=SUM(H15:H16),"","*") | I20: =IF(I14=SUM(I15:I16),"","*") | ... K20: =IF(K14=SUM(K15:K16),"","*")

Sheet 2025
A1: 兒童少年保護-受虐者父母國籍 Child and Youth Protection Cases - Nationality of Abused Child and Youth Parents
A2: 單位：人 Unit : Persons
A3: 民國114年, 2025 | C3: =IF(C7=SUM(C8:C29),"","*") | D3: =IF(D7=SUM(D8:D29),"","*") | E3: =IF(E7=SUM(E8:E29),"","*") | F3: =IF(F7=SUM(F8:F29),"","*") | G3: =IF(G7=SUM(G8:G29),"","*") | H3: =IF(H7=SUM(H8:H29),"","*") | I3: =IF(I7=SUM(I8:I29),"","*") | J3: =IF(J7=SUM(J8:J29),"","*") | ... L3: =IF(L7=SUM(L8:L29),"","*")
A4: 區域別 Locality | C4: 父親 Father | H4: 母親 Mother
C5: 本國籍 Nationals | E5: 外國籍 Foreigners | F5: 大陸籍及港澳地區 Mainlanders, Hong Kong and Macao | G5: 其他 Others （不詳） | H5: 本國籍 Nationals | J5: 外國籍 Foreigners | K5: 大陸籍及港澳地區 Mainlanders, Hong Kong and Macao | L5: 其他 Others （不詳）
C6: 一般民眾 General | D6: 原住民 Indigenous | H6: 一般民眾 General | I6: 原住民 Indigenous
A7: 總計 | B7: Total | C7: 5227 | D7: 356 | E7: 25 | F7: 13 | G7: 113 | H7: 5501 | I7: 525 | J7: 122 | K7: 114 | L7: 129
A8: 新北市 | B8: New Taipei City | C8: 1062 | D8: 48 | E8: 7 | F8: 4 | G8: 46 | H8: 1110 | I8: 62 | J8: 22 | K8: 23 | L8: 46
A9: 臺北市 | B9: Taipei City | C9: 493 | D9: 4 | E9: 3 | F9: 4 | G9: 8 | H9: 561 | I9: 15 | J9: 23 | K9: 24 | L9: 23
A10: 桃園市 | B10: Taoyuan City | C10: 452 | D10: 53 | E10: 1 | F10: 0 | G10: 4 | H10: 458 | I10: 79 | J10: 8 | K10: 3 | L10: 6
A11: 臺中市 | B11: Taichung City | C11: 706 | D11: 37 | E11: 5 | F11: 0 | G11: 10 | H11: 729 | I11: 44 | J11: 15 | K11: 17 | L11: 17
A12: 臺南市 | B12: Tainan City | C12: 296 | D12: 7 | E12: 0 | F12: 0 | G12: 1 | H12: 338 | I12: 10 | J12: 6 | K12: 4 | L12: 0
A13: 高雄市 | B13: Kaohsiung City | C13: 715 | D13: 27 | E13: 4 | F13: 2 | G13: 6 | H13: 774 | I13: 38 | J13: 8 | K13: 19 | L13: 3
A14: 宜蘭縣 | B14: Yilan County | C14: 49 | D14: 2 | E14: 0 | F14: 0 | G14: 1 | H14: 23 | I14: 30 | J14: 3 | K14: 0 | L14: 2
A15: 新竹縣 | B15: Hsinchu County | C15: 178 | D15: 20 | E15: 1 | F15: 0 | G15: 3 | H15: 186 | I15: 29 | J15: 4 | K15: 1 | L15: 4
A16: 苗栗縣 | B16: Miaoli County | C16: 142 | D16: 12 | E16: 1 | F16: 0 | G16: 6 | H16: 151 | I16: 13 | J16: 13 | K16: 1 | L16: 3
A17: 彰化縣 | B17: Changhua County | C17: 148 | D17: 6 | E17: 0 | F17: 0 | G17: 3 | H17: 149 | I17: 7 | J17: 3 | K17: 3 | L17: 3
A18: 南投縣 | B18: Nantou County | C18: 74 | D18: 19 | E18: 0 | F18: 0 | G18: 0 | H18: 62 | I18: 25 | J18: 0 | K18: 1 | L18: 1
... A29: 連江縣 | B29: Lienchiang County | C29: 0 | D29: 0 | E29: 0 | F29: 2 | G29: 0 | H29: 0 | I29: 0 | J29: 0 | K29: 0 | L29: 0
A30: 資料來源：各直轄市、縣市政府。
A31: Source: County and Government.
A33: 更新日期：2026/03/31

Sheet July-Dec., 2025
A1: 兒童少年保護-受虐者父母國籍 Child and Youth Protection Cases - Nationality of Abused Child and Youth Parents
A2: 單位：人 Unit : Persons
A3: 民國114年7-12月 July-Dec., 2025 | C3: =IF(C7=SUM(C8:C29),"","*") | D3: =IF(D7=SUM(D8:D29),"","*") | E3: =IF(E7=SUM(E8:E29),"","*") | F3: =IF(F7=SUM(F8:F29),"","*") | G3: =IF(G7=SUM(G8:G29),"","*") | H3: =IF(H7=SUM(H8:H29),"","*") | I3: =IF(I7=SUM(I8:I29),"","*") | J3: =IF(J7=SUM(J8:J29),"","*") | ... L3: =IF(L7=SUM(L8:L29),"","*")
A4: 區域別 Locality | C4: 父親 Father | H4: 母親 Mother
C5: 本國籍 Nationals | E5: 外國籍 Foreigners | F5: 大陸籍及港澳地區 Mainlanders, Hong Kong and Macao | G5: 其他 Others （不詳） | H5: 本國籍 Nationals | J5: 外國籍 Foreigners | K5: 大陸籍及港澳地區 Mainlanders, Hong Kong and Macao | L5: 其他 Others （不詳）
C6: 一般民眾 General | D6: 原住民 Indigenous | H6: 一般民眾 General | I6: 原住民 Indigenous
A7: 總計 | B7: Total | C7: 2317 | D7: 157 | E7: 16 | F7: 6 | G7: 60 | H7: 2455 | I7: 251 | J7: 52 | K7: 54 | L7: 55
A8: 新北市 | B8: New Taipei City | C8: 444 | D8: 25 | E8: 6 | F8: 1 | G8: 14 | H8: 485 | I8: 31 | J8: 10 | K8: 12 | L8: 14
A9: 臺北市 | B9: Taipei City | C9: 191 | D9: 1 | E9: 1 | F9: 3 | G9: 8 | H9: 224 | I9: 9 | J9: 9 | K9: 12 | L9: 11
A10: 桃園市 | B10: Taoyuan City | C10: 203 | D10: 26 | E10: 1 | F10: 0 | G10: 3 | H10: 198 | I10: 38 | J10: 3 | K10: 1 | L10: 5
A11: 臺中市 | B11: Taichung City | C11: 355 | D11: 13 | E11: 3 | F11: 0 | G11: 7 | H11: 367 | I11: 15 | J11: 5 | K11: 11 | L11: 12
A12: 臺南市 | B12: Tainan City | C12: 105 | D12: 2 | E12: 0 | F12: 0 | G12: 0 | H12: 134 | I12: 4 | J12: 1 | K12: 1 | L12: 0
A13: 高雄市 | B13: Kaohsiung City | C13: 315 | D13: 10 | E13: 2 | F13: 2 | G13: 3 | H13: 343 | I13: 14 | J13: 4 | K13: 11 | L13: 0
A14: 宜蘭縣 | B14: Yilan County | C14: 28 | D14: 2 | E14: 0 | F14: 0 | G14: 0 | H14: 0 | I14: 28 | J14: 2 | K14: 0 | L14: 0
A15: 新竹縣 | B15: Hsinchu County | C15: 96 | D15: 9 | E15: 1 | F15: 0 | G15: 1 | H15: 95 | I15: 6 | J15: 4 | K15: 1 | L15: 3
A16: 苗栗縣 | B16: Miaoli County | C16: 79 | D16: 6 | E16: 0 | F16: 0 | G16: 6 | H16: 74 | I16: 6 | J16: 9 | K16: 0 | L16: 2
A17: 彰化縣 | B17: Changhua County | C17: 57 | D17: 3 | E17: 0 | F17: 0 | G17: 1 | H17: 60 | I17: 4 | J17: 0 | K17: 0 | L17: 1
A18: 南投縣 | B18: Nantou County | C18: 22 | D18: 8 | E18: 0 | F18: 0 | G18: 0 | H18: 22 | I18: 10 | J18: 0 | K18: 0 | L18: 1
... A29: 連江縣 | B29: Lienchiang County | C29: 0 | D29: 0 | E29: 0 | F29: 0 | G29: 0 | H29: 0 | I29: 0 | J29: 0 | K29: 0 | L29: 0
A30: 資料來源：各直轄市、縣市政府。
A31: Source: County and Government.
A33: 更新日期：2026/03/31

Sheet Jan.-June, 2025
A1: 兒童少年保護-受虐者父母國籍 Child and Youth Protection Cases - Nationality of Abused Child and Youth Parents
A2: 單位：人 Unit : Persons
A3: 民國114年1-6月 Jan.-June, 2025 | C3: =IF(C7=SUM(C8:C29),"","*") | D3: =IF(D7=SUM(D8:D29),"","*") | E3: =IF(E7=SUM(E8:E29),"","*") | F3: =IF(F7=SUM(F8:F29),"","*") | G3: =IF(G7=SUM(G8:G29),"","*") | H3: =IF(H7=SUM(H8:H29),"","*") | I3: =IF(I7=SUM(I8:I29),"","*") | J3: =IF(J7=SUM(J8:J29),"","*") | ... L3: =IF(L7=SUM(L8:L29),"","*")
A4: 區域別 Locality | C4: 父親 Father | H4: 母親 Mother
C5: 本國籍 Nationals | E5: 外國籍 Foreigners | F5: 大陸籍及港澳地區 Mainlanders, Hong Kong and Macao | G5: 其他 Others （不詳） | H5: 本國籍 Nationals | J5: 外國籍 Foreigners | K5: 大陸籍及港澳地區 Mainlanders, Hong Kong and Macao | L5: 其他 Others （不詳）
C6: 一般民眾 General | D6: 原住民 Indigenous | H6: 一般民眾 General | I6: 原住民 Indigenous
A7: 總計 | B7: Total | C7: 2910 | D7: 199 | E7: 9 | F7: 7 | G7: 53 | H7: 3046 | I7: 274 | J7: 70 | K7: 60 | L7: 74
A8: 新北市 | B8: New Taipei City | C8: 618 | D8: 23 | E8: 1 | F8: 3 | G8: 32 | H8: 625 | I8: 31 | J8: 12 | K8: 11 | L8: 32
A9: 臺北市 | B9: Taipei City | C9: 302 | D9: 3 | E9: 2 | F9: 1 | G9: 0 | H9: 337 | I9: 6 | J9: 14 | K9: 12 | L9: 12
A10: 桃園市 | B10: Taoyuan City | C10: 249 | D10: 27 | E10: 0 | F10: 0 | G10: 1 | H10: 260 | I10: 41 | J10: 5 | K10: 2 | L10: 1
A11: 臺中市 | B11: Taichung City | C11: 351 | D11: 24 | E11: 2 | F11: 0 | G11: 3 | H11: 362 | I11: 29 | J11: 10 | K11: 6 | L11: 5
A12: 臺南市 | B12: Tainan City | C12: 191 | D12: 5 | E12: 0 | F12: 0 | G12: 1 | H12: 204 | I12: 6 | J12: 5 | K12: 3 | L12: 0
A13: 高雄市 | B13: Kaohsiung City | C13: 400 | D13: 17 | E13: 2 | F13: 0 | G13: 3 | H13: 431 | I13: 24 | J13: 4 | K13: 8 | L13: 3
A14: 宜蘭縣 | B14: Yilan County | C14: 21 | D14: 0 | E14: 0 | F14: 0 | G14: 1 | H14: 23 | I14: 2 | J14: 1 | K14: 0 | L14: 2
A15: 新竹縣 | B15: Hsinchu County | C15: 82 | D15: 11 | E15: 0 | F15: 0 | G15: 2 | H15: 91 | I15: 23 | J15: 0 | K15: 0 | L15: 1
A16: 苗栗縣 | B16: Miaoli County | C16: 63 | D16: 6 | E16: 1 | F16: 0 | G16: 0 | H16: 77 | I16: 7 | J16: 4 | K16: 1 | L16: 1
A17: 彰化縣 | B17: Changhua County | C17: 91 | D17: 3 | E17: 0 | F17: 0 | G17: 2 | H17: 89 | I17: 3 | J17: 3 | K17: 3 | L17: 2
A18: 南投縣 | B18: Nantou County | C18: 52 | D18: 11 | E18: 0 | F18: 0 | G18: 0 | H18: 40 | I18: 15 | J18: 0 | K18: 1 | L18: 0
... A29: 連江縣 | B29: Lienchiang County | C29: 0 | D29: 0 | E29: 0 | F29: 2 | G29: 0 | H29: 0 | I29: 0 | J29: 0 | K29: 0 | L29: 0
A30: 資料來源：各直轄市、縣市政府。
A31: Source: County and Government.
A33: 更新日期：2025/09/30
A35: 總計 | B35: Total | C35: 2910 | D35: 199 | E35: 9 | F35: 7 | G35: 53 | H35: 3046 | I35: 274 | J35: 70 | K35: 60 | L35: 74
A36: 新北市 | B36: New Taipei City | C36: 618 | D36: 23 | E36: 1 | F36: 3 | G36: 32 | H36: 625 | I36: 31 | J36: 12 | K36: 11 | L36: 32
A37: 臺北市 | B37: Taipei City | C37: 302 | D37: 3 | E37: 2 | F37: 1 | G37: 0 | H37: 337 | I37: 6 | J37: 14 | K37: 12 | L37: 12
A38: 桃園市 | B38: Taoyuan City | C38: 249 | D38: 27 | E38: 0 | F38: 0 | G38: 1 | H38: 260 | I38: 41 | J38: 5 | K38: 2 | L38: 1
A39: 臺中市 | B39: Taichung City | C39: 351 | D39: 24 | E39: 2 | F39: 0 | G39: 3 | H39: 362 | I39: 29 | J39: 10 | K39: 6 | L39: 5
A40: 臺南市 | B40: Tainan City | C40: 191 | D40: 5 | E40: 0 | F40: 0 | G40: 1 | H40: 204 | I40: 6 | J40: 5 | K40: 3 | L40: 0
A41: 高雄市 | B41: Kaohsiung City | C41: 400 | D41: 17 | E41: 2 | F41: 0 | G41: 3 | H41: 431 | I41: 24 | J41: 4 | K41: 8 | L41: 3
A42: 宜蘭縣 | B42: Yilan County | C42: 21 | D42: 0 | E42: 0 | F42: 0 | G42: 1 | H42: 23 | I42: 2 | J42: 1 | K42: 0 | L42: 2
A43: 新竹縣 | B43: Hsinchu County | C43: 82 | D43: 11 | E43: 0 | F43: 0 | G43: 2 | H43: 91 | I43: 23 | J43: 0 | K43: 0 | L43: 1
A44: 苗栗縣 | B44: Miaoli County | C44: 63 | D44: 6 | E44: 1 | F44: 0 | G44: 0 | H44: 77 | I44: 7 | J44: 4 | K44: 1 | L44: 1
A45: 彰化縣 | B45: Changhua County | C45: 91 | D45: 3 | E45: 0 | F45: 0 | G45: 2 | H45: 89 | I45: 3 | J45: 3 | K45: 3 | L45: 2
A46: 南投縣 | B46: Nantou County | C46: 52 | D46: 11 | E46: 0 | F46: 0 | G46: 0 | H46: 40 | I46: 15 | J46: 0 | K46: 1 | L46: 0
... A57: 連江縣 | B57: Lienchiang County | C57: 0 | D57: 0 | E57: 0 | F57: 2 | G57: 0 | H57: 0 | I57: 0 | J57: 0 | K57: 0 | L57: 0
A59: 總計 | B59: Total | C59: =IF(C35=C7,"","*") | D59: =IF(D35=D7,"","*") | E59: =IF(E35=E7,"","*") | F59: =IF(F35=F7,"","*") | G59: =IF(G35=G7,"","*") | H59: =IF(H35=H7,"","*") | I59: =IF(I35=I7,"","*") | J59: =IF(J35=J7,"","*") | ... L59: =IF(L35=L7,"","*")
A60: 新北市 | B60: New Taipei City | C60: =IF(C36=C8,"","*") | D60: =IF(D36=D8,"","*") | E60: =IF(E36=E8,"","*") | F60: =IF(F36=F8,"","*") | G60: =IF(G36=G8,"","*") | H60: =IF(H36=H8,"","*") | I60: =IF(I36=I8,"","*") | J60: =IF(J36=J8,"","*") | ... L60: =IF(L36=L8,"","*")
A61: 臺北市 | B61: Taipei City | C61: =IF(C37=C9,"","*") | D61: =IF(D37=D9,"","*") | E61: =IF(E37=E9,"","*") | F61: =IF(F37=F9,"","*") | G61: =IF(G37=G9,"","*") | H61: =IF(H37=H9,"","*") | I61: =IF(I37=I9,"","*") | J61: =IF(J37=J9,"","*") | ... L61: =IF(L37=L9,"","*")
A62: 桃園市 | B62: Taoyuan City | C62: =IF(C38=C10,"","*") | D62: =IF(D38=D10,"","*") | E62: =IF(E38=E10,"","*") | F62: =IF(F38=F10,"","*") | G62: =IF(G38=G10,"","*") | H62: =IF(H38=H10,"","*") | I62: =IF(I38=I10,"","*") | J62: =IF(J38=J10,"","*") | ... L62: =IF(L38=L10,"","*")
A63: 臺中市 | B63: Taichung City | C63: =IF(C39=C11,"","*") | D63: =IF(D39=D11,"","*") | E63: =IF(E39=E11,"","*") | F63: =IF(F39=F11,"","*") | G63: =IF(G39=G11,"","*") | H63: =IF(H39=H11,"","*") | I63: =IF(I39=I11,"","*") | J63: =IF(J39=J11,"","*") | ... L63: =IF(L39=L11,"","*")
...

Sheet 2024
A1: 兒童少年保護-受虐者父母國籍 Child and Youth Protection Cases - Nationality of Abused Child and Youth Parents
A2: 單位：人 Unit : Persons
A3: 民國113年, 2024 | C3: =IF(C7=SUM(C8:C29),"","*") | D3: =IF(D7=SUM(D8:D29),"","*") | E3: =IF(E7=SUM(E8:E29),"","*") | F3: =IF(F7=SUM(F8:F29),"","*") | G3: =IF(G7=SUM(G8:G29),"","*") | H3: =IF(H7=SUM(H8:H29),"","*") | I3: =IF(I7=SUM(I8:I29),"","*") | J3: =IF(J7=SUM(J8:J29),"","*") | ... L3: =IF(L7=SUM(L8:L29),"","*")
A4: 區域別 Locality | C4: 父親 Father | H4: 母親 Mother
C5: 本國籍 Nationals | E5: 外國籍 Foreigners | F5: 大陸籍及港澳地區 Mainlanders, Hong Kong and Macao | G5: 其他 Others （不詳） | H5: 本國籍 Nationals | J5: 外國籍 Foreigners | K5: 大陸籍及港澳地區 Mainlanders, Hong Kong and Macao | L5: 其他 Others （不詳）
C6: 一般民眾 General | D6: 原住民 Indigenous | H6: 一般民眾 General | I6: 原住民 Indigenous
A7: 總計 | B7: Total | C7: 6038 | D7: 432 | E7: 26 | F7: 14 | G7: 166 | H7: 6109 | I7: 540 | J7: 134 | K7: 136 | L7: 161
A8: 新北市 | B8: New Taipei City | C8: 1232 | D8: 47 | E8: 11 | F8: 6 | G8: 58 | H8: 1280 | I8: 70 | J8: 42 | K8: 27 | L8: 38
A9: 臺北市 | B9: Taipei City | C9: 641 | D9: 14 | E9: 5 | F9: 1 | G9: 19 | H9: 679 | I9: 13 | J9: 14 | K9: 21 | L9: 56
A10: 桃園市 | B10: Taoyuan City | C10: 521 | D10: 69 | E10: 2 | F10: 0 | G10: 4 | H10: 548 | I10: 76 | J10: 8 | K10: 7 | L10: 3
A11: 臺中市 | B11: Taichung City | C11: 785 | D11: 30 | E11: 3 | F11: 2 | G11: 25 | H11: 584 | I11: 36 | J11: 25 | K11: 18 | L11: 19
A12: 臺南市 | B12: Tainan City | C12: 319 | D12: 15 | E12: 0 | F12: 0 | G12: 1 | H12: 377 | I12: 11 | J12: 7 | K12: 9 | L12: 4
A13: 高雄市 | B13: Kaohsiung City | C13: 723 | D13: 27 | E13: 4 | F13: 1 | G13: 5 | H13: 826 | I13: 31 | J13: 10 | K13: 16 | L13: 5
A14: 宜蘭縣 | B14: Yilan County | C14: 129 | D14: 7 | E14: 0 | F14: 1 | G14: 4 | H14: 123 | I14: 10 | J14: 3 | K14: 5 | L14: 0
A15: 新竹縣 | B15: Hsinchu County | C15: 189 | D15: 27 | E15: 0 | F15: 0 | G15: 2 | H15: 198 | I15: 47 | J15: 2 | K15: 9 | L15: 5
A16: 苗栗縣 | B16: Miaoli County | C16: 119 | D16: 9 | E16: 0 | F16: 0 | G16: 20 | H16: 128 | I16: 12 | J16: 2 | K16: 1 | L16: 5
A17: 彰化縣 | B17: Changhua County | C17: 293 | D17: 7 | E17: 1 | F17: 0 | G17: 2 | H17: 256 | I17: 10 | J17: 2 | K17: 3 | L17: 2
A18: 南投縣 | B18: Nantou County | C18: 105 | D18: 10 | E18: 0 | F18: 0 | G18: 1 | H18: 92 | I18: 20 | J18: 0 | K18: 3 | L18: 0
... A29: 連江縣 | B29: Lienchiang County | C29: 8 | D29: 2 | E29: 0 | F29: 0 | G29: 1 | H29: 9 | I29: 0 | J29: 0 | K29: 1 | L29: 1
A30: 資料來源：各直轄市、縣市政府。
A31: Source: County and Government.
A33: 更新日期：2025/03/31

Sheet July-Dec., 2024
A1: 兒童少年保護-受虐者父母國籍 Child and Youth Protection Cases - Nationality of Abused Child and Youth Parents
A2: 單位：人 Unit : Persons
A3: 民國113年7-12月 July-Dec., 2024 | C3: =IF(C7=SUM(C8:C29),"","*") | D3: =IF(D7=SUM(D8:D29),"","*") | E3: =IF(E7=SUM(E8:E29),"","*") | F3: =IF(F7=SUM(F8:F29),"","*") | G3: =IF(G7=SUM(G8:G29),"","*") | H3: =IF(H7=SUM(H8:H29),"","*") | I3: =IF(I7=SUM(I8:I29),"","*") | J3: =IF(J7=SUM(J8:J29),"","*") | ... L3: =IF(L7=SUM(L8:L29),"","*")
A4: 區域別 Locality | C4: 父親 Father | H4: 母親 Mother
C5: 本國籍 Nationals | E5: 外國籍 Foreigners | F5: 大陸籍及港澳地區 Mainlanders, Hong Kong and Macao | G5: 其他 Others （不詳） | H5: 本國籍 Nationals | J5: 外國籍 Foreigners | K5: 大陸籍及港澳地區 Mainlanders, Hong Kong and Macao | L5: 其他 Others （不詳）
C6: 一般民眾 General | D6: 原住民 Indigenous | H6: 一般民眾 General | I6: 原住民 Indigenous
A7: 總計 | B7: Total | C7: 2805 | D7: 224 | E7: 11 | F7: 9 | G7: 78 | H7: 2958 | I7: 265 | J7: 62 | K7: 59 | L7: 89
A8: 新北市 | B8: New Taipei City | C8: 596 | D8: 21 | E8: 4 | F8: 3 | G8: 23 | H8: 608 | I8: 25 | J8: 18 | K8: 8 | L8: 14
A9: 臺北市 | B9: Taipei City | C9: 289 | D9: 3 | E9: 3 | F9: 0 | G9: 13 | H9: 314 | I9: 6 | J9: 8 | K9: 14 | L9: 42
A10: 桃園市 | B10: Taoyuan City | C10: 266 | D10: 44 | E10: 1 | F10: 0 | G10: 2 | H10: 282 | I10: 38 | J10: 5 | K10: 2 | L10: 2
A11: 臺中市 | B11: Taichung City | C11: 362 | D11: 12 | E11: 0 | F11: 2 | G11: 11 | H11: 374 | I11: 17 | J11: 13 | K11: 4 | L11: 11
A12: 臺南市 | B12: Tainan City | C12: 127 | D12: 10 | E12: 0 | F12: 0 | G12: 1 | H12: 167 | I12: 8 | J12: 3 | K12: 3 | L12: 3
A13: 高雄市 | B13: Kaohsiung City | C13: 356 | D13: 11 | E13: 3 | F13: 1 | G13: 1 | H13: 402 | I13: 20 | J13: 5 | K13: 6 | L13: 2
A14: 宜蘭縣 | B14: Yilan County | C14: 43 | D14: 3 | E14: 0 | F14: 1 | G14: 0 | H14: 42 | I14: 3 | J14: 0 | K14: 2 | L14: 0
A15: 新竹縣 | B15: Hsinchu County | C15: 105 | D15: 14 | E15: 0 | F15: 0 | G15: 2 | H15: 106 | I15: 27 | J15: 2 | K15: 5 | L15: 4
A16: 苗栗縣 | B16: Miaoli County | C16: 56 | D16: 4 | E16: 0 | F16: 0 | G16: 15 | H16: 67 | I16: 6 | J16: 2 | K16: 0 | L16: 0
A17: 彰化縣 | B17: Changhua County | C17: 144 | D17: 4 | E17: 0 | F17: 0 | G17: 1 | H17: 108 | I17: 6 | J17: 0 | K17: 3 | L17: 2
A18: 南投縣 | B18: Nantou County | C18: 46 | D18: 5 | E18: 0 | F18: 0 | G18: 1 | H18: 46 | I18: 10 | J18: 0 | K18: 2 | L18: 0
... A29: 連江縣 | B29: Lienchiang County | C29: 5 | D29: 2 | E29: 0 | F29: 0 | G29: 0 | H29: 6 | I29: 0 | J29: 0 | K29: 0 | L29: 0
A30: 資料來源：各直轄市、縣市政府。
A31: Source: County and Government.
A33: 更新日期：2025/03/31

Sheet Jan.-June, 2024
A1: 兒童少年保護-受虐者父母國籍 Child and Youth Protection Cases - Nationality of Abused Child and Youth Parents
A2: 單位：人 Unit : Persons
A3: 民國113年1-6月 Jan.-June, 2024 | C3: =IF(C7=SUM(C8:C29),"","*") | D3: =IF(D7=SUM(D8:D29),"","*") | E3: =IF(E7=SUM(E8:E29),"","*") | F3: =IF(F7=SUM(F8:F29),"","*") | G3: =IF(G7=SUM(G8:G29),"","*") | H3: =IF(H7=SUM(H8:H29),"","*") | I3: =IF(I7=SUM(I8:I29),"","*") | J3: =IF(J7=SUM(J8:J29),"","*") | ... L3: =IF(L7=SUM(L8:L29),"","*")
A4: 區域別 Locality | C4: 父親 Father | H4: 母親 Mother
C5: 本國籍 Nationals | E5: 外國籍 Foreigners | F5: 大陸籍及港澳地區 Mainlanders, Hong Kong and Macao | G5: 其他 Others （不詳） | H5: 本國籍 Nationals | J5: 外國籍 Foreigners | K5: 大陸籍及港澳地區 Mainlanders, Hong Kong and Macao | L5: 其他 Others （不詳）
C6: 一般民眾 General | D6: 原住民 Indigenous | H6: 一般民眾 General | I6: 原住民 Indigenous
A7: 總計 | B7: Total | C7: 3233 | D7: 208 | E7: 15 | F7: 5 | G7: 88 | H7: 3151 | I7: 275 | J7: 72 | K7: 77 | L7: 72
A8: 新北市 | B8: New Taipei City | C8: 636 | D8: 26 | E8: 7 | F8: 3 | G8: 35 | H8: 672 | I8: 45 | J8: 24 | K8: 19 | L8: 24
A9: 臺北市 | B9: Taipei City | C9: 352 | D9: 11 | E9: 2 | F9: 1 | G9: 6 | H9: 365 | I9: 7 | J9: 6 | K9: 7 | L9: 14
A10: 桃園市 | B10: Taoyuan City | C10: 255 | D10: 25 | E10: 1 | F10: 0 | G10: 2 | H10: 266 | I10: 38 | J10: 3 | K10: 5 | L10: 1
A11: 臺中市 | B11: Taichung City | C11: 423 | D11: 18 | E11: 3 | F11: 0 | G11: 14 | H11: 210 | I11: 19 | J11: 12 | K11: 14 | L11: 8
A12: 臺南市 | B12: Tainan City | C12: 192 | D12: 5 | E12: 0 | F12: 0 | G12: 0 | H12: 210 | I12: 3 | J12: 4 | K12: 6 | L12: 1
A13: 高雄市 | B13: Kaohsiung City | C13: 367 | D13: 16 | E13: 1 | F13: 0 | G13: 4 | H13: 424 | I13: 11 | J13: 5 | K13: 10 | L13: 3
A14: 宜蘭縣 | B14: Yilan County | C14: 86 | D14: 4 | E14: 0 | F14: 0 | G14: 4 | H14: 81 | I14: 7 | J14: 3 | K14: 3 | L14: 0
A15: 新竹縣 | B15: Hsinchu County | C15: 84 | D15: 13 | E15: 0 | F15: 0 | G15: 0 | H15: 92 | I15: 20 | J15: 0 | K15: 4 | L15: 1
A16: 苗栗縣 | B16: Miaoli County | C16: 63 | D16: 5 | E16: 0 | F16: 0 | G16: 5 | H16: 61 | I16: 6 | J16: 0 | K16: 1 | L16: 5
A17: 彰化縣 | B17: Changhua County | C17: 149 | D17: 3 | E17: 1 | F17: 0 | G17: 1 | H17: 148 | I17: 4 | J17: 2 | K17: 0 | L17: 0
A18: 南投縣 | B18: Nantou County | C18: 59 | D18: 5 | E18: 0 | F18: 0 | G18: 0 | H18: 46 | I18: 10 | J18: 0 | K18: 1 | L18: 0
... A29: 連江縣 | B29: Lienchiang County | C29: 3 | D29: 0 | E29: 0 | F29: 0 | G29: 1 | H29: 3 | I29: 0 | J29: 0 | K29: 1 | L29: 1
A30: 資料來源：各直轄市、縣市政府。
A31: Source: County and Government.
A33: 更新日期：2024/09/30
A35: 總計 | B35: Total | C35: 2998 | D35: 218 | E35: 26 | F35: 1 | G35: 103 | H35: 3060 | I35: 315 | J35: 104 | K35: 73 | L35: 62
A36: 新北市 | B36: New Taipei City | C36: 601 | D36: 19 | E36: 8 | F36: 1 | G36: 38 | H36: 614 | I36: 48 | J36: 30 | K36: 16 | L36: 27
A37: 臺北市 | B37: Taipei City | C37: 268 | D37: 6 | E37: 6 | F37: 0 | G37: 7 | H37: 295 | I37: 4 | J37: 10 | K37: 6 | L37: 11
A38: 桃園市 | B38: Taoyuan City | C38: 275 | D38: 42 | E38: 2 | F38: 0 | G38: 2 | H38: 294 | I38: 57 | J38: 8 | K38: 10 | L38: 2
A39: 臺中市 | B39: Taichung City | C39: 494 | D39: 11 | E39: 2 | F39: 0 | G39: 8 | H39: 556 | I39: 22 | J39: 12 | K39: 10 | L39: 5
A40: 臺南市 | B40: Tainan City | C40: 197 | D40: 4 | E40: 0 | F40: 0 | G40: 1 | H40: 206 | I40: 4 | J40: 4 | K40: 7 | L40: 1
A41: 高雄市 | B41: Kaohsiung City | C41: 283 | D41: 19 | E41: 1 | F41: 0 | G41: 0 | H41: 312 | I41: 17 | J41: 7 | K41: 7 | L41: 0
A42: 宜蘭縣 | B42: Yilan County | C42: 54 | D42: 9 | E42: 0 | F42: 0 | G42: 4 | H42: 52 | I42: 14 | J42: 1 | K42: 0 | L42: 0
A43: 新竹縣 | B43: Hsinchu County | C43: 84 | D43: 10 | E43: 1 | F43: 0 | G43: 1 | H43: 52 | I43: 18 | J43: 0 | K43: 0 | L43: 2
A44: 苗栗縣 | B44: Miaoli County | C44: 52 | D44: 4 | E44: 0 | F44: 0 | G44: 10 | H44: 58 | I44: 4 | J44: 3 | K44: 0 | L44: 1
A45: 彰化縣 | B45: Changhua County | C45: 113 | D45: 5 | E45: 1 | F45: 0 | G45: 1 | H45: 108 | I45: 1 | J45: 2 | K45: 0 | L45: 0
A46: 南投縣 | B46: Nantou County | C46: 46 | D46: 18 | E46: 0 | F46: 0 | G46: 2 | H46: 38 | I46: 24 | J46: 5 | K46: 2 | L46: 2
... A57: 連江縣 | B57: Lienchiang County | C57: 3 | D57: 1 | E57: 0 | F57: 0 | G57: 0 | H57: 3 | I57: 0 | J57: 0 | K57: 1 | L57: 0
A59: 總計 | B59: Total | C59: =IF(C35=C7,"","*") -> * | D59: =IF(D35=D7,"","*") -> * | E59: =IF(E35=E7,"","*") -> * | F59: =IF(F35=F7,"","*") -> * | G59: =IF(G35=G7,"","*") -> * | H59: =IF(H35=H7,"","*") -> * | I59: =IF(I35=I7,"","*") -> * | J59: =IF(J35=J7,"","*") -> * | ... L59: =IF(L35=L7,"","*") -> *
A60: 新北市 | B60: New Taipei City | C60: =IF(C36=C8,"","*") -> * | D60: =IF(D36=D8,"","*") -> * | E60: =IF(E36=E8,"","*") -> * | F60: =IF(F36=F8,"","*") -> * | G60: =IF(G36=G8,"","*") -> * | H60: =IF(H36=H8,"","*") -> * | I60: =IF(I36=I8,"","*") -> * | J60: =IF(J36=J8,"","*") -> * | ... L60: =IF(L36=L8,"","*") -> *
A61: 臺北市 | B61: Taipei City | C61: =IF(C37=C9,"","*") -> * | D61: =IF(D37=D9,"","*") -> * | E61: =IF(E37=E9,"","*") -> * | F61: =IF(F37=F9,"","*") -> * | G61: =IF(G37=G9,"","*") -> * | H61: =IF(H37=H9,"","*") -> * | I61: =IF(I37=I9,"","*") -> * | J61: =IF(J37=J9,"","*") -> * | ... L61: =IF(L37=L9,"","*") -> *
A62: 桃園市 | B62: Taoyuan City | C62: =IF(C38=C10,"","*") -> * | D62: =IF(D38=D10,"","*") -> * | E62: =IF(E38=E10,"","*") -> * | F62: =IF(F38=F10,"","*") | G62: =IF(G38=G10,"","*") | H62: =IF(H38=H10,"","*") -> * | I62: =IF(I38=I10,"","*") -> * | J62: =IF(J38=J10,"","*") -> * | ... L62: =IF(L38=L10,"","*") -> *
A63: 臺中市 | B63: Taichung City | C63: =IF(C39=C11,"","*") -> * | D63: =IF(D39=D11,"","*") -> * | E63: =IF(E39=E11,"","*") -> * | F63: =IF(F39=F11,"","*") | G63: =IF(G39=G11,"","*") -> * | H63: =IF(H39=H11,"","*") -> * | I63: =IF(I39=I11,"","*") -> * | J63: =IF(J39=J11,"","*") | ... L63: =IF(L39=L11,"","*") -> *
...

Sheet 2023
A1: 兒童少年保護-受虐者父母國籍 Child and Youth Protection Cases - Nationality of Abused Child and Youth Parents
A2: 單位：人 Unit : Persons
A3: 民國112年, 2023 | C3: =IF(C7=SUM(C8:C29),"","*") | D3: =IF(D7=SUM(D8:D29),"","*") | E3: =IF(E7=SUM(E8:E29),"","*") | F3: =IF(F7=SUM(F8:F29),"","*") | G3: =IF(G7=SUM(G8:G29),"","*") | H3: =IF(H7=SUM(H8:H29),"","*") | I3: =IF(I7=SUM(I8:I29),"","*") | J3: =IF(J7=SUM(J8:J29),"","*") | ... L3: =IF(L7=SUM(L8:L29),"","*")
A4: 區域別 Locality | C4: 父親 Father | H4: 母親 Mother
C5: 本國籍 Nationals | E5: 外國籍 Foreigners | F5: 大陸籍及港澳地區 Mainlanders, Hong Kong and Macao | G5: 其他 Others （不詳） | H5: 本國籍 Nationals | J5: 外國籍 Foreigners | K5: 大陸籍及港澳地區 Mainlanders, Hong Kong and Macao | L5: 其他 Others （不詳）
C6: 一般民眾 General | D6: 原住民 Indigenous | H6: 一般民眾 General | I6: 原住民 Indigenous
A7: 總計 | B7: Total | C7: 6855 | D7: 523 | E7: 23 | F7: 10 | G7: 178 | H7: 7402 | I7: 687 | J7: 166 | K7: 145 | L7: 125
A8: 新北市 | B8: New Taipei City | C8: 1114 | D8: 34 | E8: 5 | F8: 2 | G8: 51 | H8: 1126 | I8: 52 | J8: 26 | K8: 30 | L8: 45
A9: 臺北市 | B9: Taipei City | C9: 602 | D9: 14 | E9: 0 | F9: 2 | G9: 10 | H9: 660 | I9: 18 | J9: 8 | K9: 13 | L9: 15
A10: 桃園市 | B10: Taoyuan City | C10: 732 | D10: 94 | E10: 6 | F10: 0 | G10: 1 | H10: 804 | I10: 116 | J10: 20 | K10: 18 | L10: 4
A11: 臺中市 | B11: Taichung City | C11: 1097 | D11: 66 | E11: 6 | F11: 4 | G11: 22 | H11: 1264 | I11: 75 | J11: 42 | K11: 31 | L11: 20
A12: 臺南市 | B12: Tainan City | C12: 451 | D12: 6 | E12: 0 | F12: 1 | G12: 2 | H12: 502 | I12: 8 | J12: 3 | K12: 5 | L12: 5
A13: 高雄市 | B13: Kaohsiung City | C13: 924 | D13: 42 | E13: 3 | F13: 0 | G13: 0 | H13: 972 | I13: 48 | J13: 19 | K13: 7 | L13: 2
A14: 宜蘭縣 | B14: Yilan County | C14: 152 | D14: 16 | E14: 0 | F14: 0 | G14: 2 | H14: 153 | I14: 8 | J14: 4 | K14: 4 | L14: 1
A15: 新竹縣 | B15: Hsinchu County | C15: 152 | D15: 20 | E15: 1 | F15: 0 | G15: 3 | H15: 154 | I15: 23 | J15: 6 | K15: 6 | L15: 4
A16: 苗栗縣 | B16: Miaoli County | C16: 117 | D16: 10 | E16: 0 | F16: 0 | G16: 33 | H16: 135 | I16: 15 | J16: 5 | K16: 2 | L16: 3
A17: 彰化縣 | B17: Changhua County | C17: 268 | D17: 8 | E17: 2 | F17: 0 | G17: 4 | H17: 264 | I17: 9 | J17: 5 | K17: 3 | L17: 3
A18: 南投縣 | B18: Nantou County | C18: 101 | D18: 24 | E18: 0 | F18: 0 | G18: 0 | H18: 123 | I18: 34 | J18: 3 | K18: 1 | L18: 0
... A29: 連江縣 | B29: Lienchiang County | C29: 1 | D29: 4 | E29: 0 | F29: 0 | G29: 0 | H29: 3 | I29: 0 | J29: 1 | K29: 1 | L29: 0
A30: 資料來源：各直轄市、縣市政府。
A31: Source: County and Government.
A33: 更新日期：2024/04/01

Sheet 2022
A1: 兒童少年保護-受虐者父母國籍 Child and Youth Protection Cases - Nationality of Abused Child and Youth Parents
A2: 單位：人 Unit : Persons
A3: 民國111年, 2022 | C3: =IF(C7=SUM(C8:C29),"","*") | D3: =IF(D7=SUM(D8:D29),"","*") | E3: =IF(E7=SUM(E8:E29),"","*") | F3: =IF(F7=SUM(F8:F29),"","*") | G3: =IF(G7=SUM(G8:G29),"","*") | H3: =IF(H7=SUM(H8:H29),"","*") | I3: =IF(I7=SUM(I8:I29),"","*") | J3: =IF(J7=SUM(J8:J29),"","*") | ... L3: =IF(L7=SUM(L8:L29),"","*")
A4: 區域別 Locality | C4: 父親 Father | H4: 母親 Mother
C5: 本國籍 Nationals | E5: 外國籍 Foreigners | F5: 大陸籍及港澳地區 Mainlanders, Hong Kong and Macao | G5: 其他 Others （不詳） | H5: 本國籍 Nationals | J5: 外國籍 Foreigners | K5: 大陸籍及港澳地區 Mainlanders, Hong Kong and Macao | L5: 其他 Others （不詳）
C6: 一般民眾 General | D6: 原住民 Indigenous | H6: 一般民眾 General | I6: 原住民 Indigenous
A7: 總計 | B7: Total | C7: 6335 | D7: 467 | E7: 38 | F7: 5 | G7: 188 | H7: 6592 | I7: 703 | J7: 204 | K7: 157 | L7: 142
A8: 新北市 | B8: New Taipei City | C8: 1210 | D8: 35 | E8: 12 | F8: 2 | G8: 61 | H8: 1222 | I8: 78 | J8: 52 | K8: 39 | L8: 58
A9: 臺北市 | B9: Taipei City | C9: 525 | D9: 11 | E9: 7 | F9: 1 | G9: 14 | H9: 596 | I9: 10 | J9: 18 | K9: 20 | L9: 17
A10: 桃園市 | B10: Taoyuan City | C10: 605 | D10: 87 | E10: 4 | F10: 0 | G10: 3 | H10: 659 | I10: 116 | J10: 18 | K10: 16 | L10: 2
A11: 臺中市 | B11: Taichung City | C11: 1069 | D11: 40 | E11: 5 | F11: 1 | G11: 21 | H11: 1217 | I11: 60 | J11: 28 | K11: 25 | L11: 16
A12: 臺南市 | B12: Tainan City | C12: 392 | D12: 8 | E12: 0 | F12: 0 | G12: 2 | H12: 416 | I12: 5 | J12: 12 | K12: 10 | L12: 1
A13: 高雄市 | B13: Kaohsiung City | C13: 667 | D13: 31 | E13: 1 | F13: 0 | G13: 3 | H13: 734 | I13: 38 | J13: 12 | K13: 13 | L13: 3
A14: 宜蘭縣 | B14: Yilan County | C14: 112 | D14: 21 | E14: 0 | F14: 0 | G14: 7 | H14: 110 | I14: 26 | J14: 4 | K14: 0 | L14: 0
A15: 新竹縣 | B15: Hsinchu County | C15: 138 | D15: 20 | E15: 1 | F15: 0 | G15: 2 | H15: 116 | I15: 26 | J15: 0 | K15: 1 | L15: 4
A16: 苗栗縣 | B16: Miaoli County | C16: 110 | D16: 7 | E16: 1 | F16: 0 | G16: 23 | H16: 122 | I16: 9 | J16: 4 | K16: 0 | L16: 6
A17: 彰化縣 | B17: Changhua County | C17: 244 | D17: 8 | E17: 1 | F17: 1 | G17: 1 | H17: 228 | I17: 2 | J17: 4 | K17: 4 | L17: 1
A18: 南投縣 | B18: Nantou County | C18: 113 | D18: 20 | E18: 0 | F18: 0 | G18: 2 | H18: 95 | I18: 31 | J18: 8 | K18: 3 | L18: 3
... A29: 連江縣 | B29: Lienchiang County | C29: 4 | D29: 1 | E29: 0 | F29: 0 | G29: 0 | H29: 3 | I29: 0 | J29: 0 | K29: 1 | L29: 0
A30: 資料來源：各直轄市、縣市政府。
A31: Source: County and Government.
A33: 更新日期：2023/3/31

Sheet 2021
A1: 兒童少年保護-受虐者父母國籍 Child and Youth Protection Cases - Nationality of Abused Child and Youth Parents
A2: 單位：人 Unit : Persons
A3: 民國110年, 2021 | C3: =IF(C7=SUM(C8:C29),"","*") | D3: =IF(D7=SUM(D8:D29),"","*") | E3: =IF(E7=SUM(E8:E29),"","*") | F3: =IF(F7=SUM(F8:F29),"","*") | G3: =IF(G7=SUM(G8:G29),"","*") | H3: =IF(H7=SUM(H8:H29),"","*") | I3: =IF(I7=SUM(I8:I29),"","*") | J3: =IF(J7=SUM(J8:J29),"","*") | ... L3: =IF(L7=SUM(L8:L29),"","*")
A4: 區域別 Locality | C4: 父親 Father | H4: 母親 Mother
C5: 本國籍 Nationals | E5: 外國籍 Foreigners | F5: 大陸籍及港澳地區 Mainlanders, Hong Kong and Macao | G5: 其他 Others （不詳） | H5: 本國籍 Nationals | J5: 外國籍 Foreigners | K5: 大陸籍及港澳地區 Mainlanders, Hong Kong and Macao | L5: 其他 Others （不詳）
C6: 一般民眾 General | D6: 原住民 Indigenous | H6: 一般民眾 General | I6: 原住民 Indigenous
A7: 總計 | B7: Total | C7: 5858 | D7: 551 | E7: 47 | F7: 7 | G7: 224 | H7: 6133 | I7: 732 | J7: 208 | K7: 157 | L7: 174
A8: 新北市 | B8: New Taipei City | C8: 1106 | D8: 53 | E8: 9 | F8: 2 | G8: 62 | H8: 1087 | I8: 71 | J8: 47 | K8: 55 | L8: 80
A9: 臺北市 | B9: Taipei City | C9: 619 | D9: 5 | E9: 10 | F9: 1 | G9: 8 | H9: 671 | I9: 11 | J9: 21 | K9: 19 | L9: 13
A10: 桃園市 | B10: Taoyuan City | C10: 560 | D10: 95 | E10: 4 | F10: 1 | G10: 10 | H10: 620 | I10: 113 | J10: 14 | K10: 6 | L10: 6
A11: 臺中市 | B11: Taichung City | C11: 700 | D11: 30 | E11: 8 | F11: 0 | G11: 6 | H11: 749 | I11: 56 | J11: 26 | K11: 14 | L11: 8
A12: 臺南市 | B12: Tainan City | C12: 352 | D12: 16 | E12: 2 | F12: 0 | G12: 4 | H12: 415 | I12: 22 | J12: 11 | K12: 7 | L12: 6
A13: 高雄市 | B13: Kaohsiung City | C13: 821 | D13: 40 | E13: 5 | F13: 1 | G13: 5 | H13: 888 | I13: 49 | J13: 16 | K13: 17 | L13: 7
A14: 宜蘭縣 | B14: Yilan County | C14: 127 | D14: 23 | E14: 0 | F14: 0 | G14: 13 | H14: 126 | I14: 24 | J14: 7 | K14: 2 | L14: 4
A15: 新竹縣 | B15: Hsinchu County | C15: 102 | D15: 18 | E15: 5 | F15: 1 | G15: 5 | H15: 92 | I15: 19 | J15: 2 | K15: 1 | L15: 1
A16: 苗栗縣 | B16: Miaoli County | C16: 102 | D16: 9 | E16: 0 | F16: 0 | G16: 54 | H16: 113 | I16: 14 | J16: 9 | K16: 4 | L16: 25
A17: 彰化縣 | B17: Changhua County | C17: 226 | D17: 1 | E17: 1 | F17: 0 | G17: 4 | H17: 233 | I17: 2 | J17: 3 | K17: 4 | L17: 1
A18: 南投縣 | B18: Nantou County | C18: 116 | D18: 26 | E18: 0 | F18: 0 | G18: 1 | H18: 107 | I18: 25 | J18: 9 | K18: 4 | L18: 0
... A29: 連江縣 | B29: Lienchiang County | C29: 6 | D29: 1 | E29: 0 | F29: 0 | G29: 0 | H29: 5 | I29: 2 | J29: 0 | K29: 0 | L29: 0
A30: 資料來源：各直轄市、縣市政府。
A31: Source: County and Government.
A33: 更新日期：2022/3/31

Sheet 2020
A1: 兒童少年保護-受虐者父母國籍 Child and Youth Protection Cases - Nationality of Abused Child and Youth Parents
A2: 單位：人 Unit : Persons
A3: 民國109年, 2020
A4: 區域別 Locality | C4: 父親 Father | H4: 母親 Mother
C5: 本國籍 Nationals | E5: 外國籍 Foreigners | F5: 大陸籍及港澳地區 Mainlanders, Hong Kong and Macao | G5: 其他 Others （不詳） | H5: 本國籍 Nationals | J5: 外國籍 Foreigners | K5: 大陸籍及港澳地區 Mainlanders, Hong Kong and Macao | L5: 其他 Others （不詳）
C6: 一般民眾 General | D6: 原住民 Indigenous | H6: 一般民眾 General | I6: 原住民 Indigenous
A7: 總計 | B7: Total | C7: 6151 | D7: 633 | E7: 30 | F7: 10 | G7: 381 | H7: 6463 | I7: 815 | J7: 200 | K7: 167 | L7: 289
A8: 新北市 | B8: New Taipei City | C8: 1146 | D8: 29 | E8: 7 | F8: 4 | G8: 236 | H8: 1153 | I8: 60 | J8: 33 | K8: 51 | L8: 206
A9: 臺北市 | B9: Taipei City | C9: 609 | D9: 8 | E9: 3 | F9: 1 | G9: 5 | H9: 603 | I9: 21 | J9: 14 | K9: 13 | L9: 2
A10: 桃園市 | B10: Taoyuan City | C10: 867 | D10: 112 | E10: 6 | F10: 2 | G10: 9 | H10: 913 | I10: 136 | J10: 23 | K10: 13 | L10: 17
A11: 臺中市 | B11: Taichung City | C11: 575 | D11: 30 | E11: 2 | F11: 0 | G11: 18 | H11: 632 | I11: 29 | J11: 19 | K11: 21 | L11: 15
A12: 臺南市 | B12: Tainan City | C12: 394 | D12: 14 | E12: 0 | F12: 0 | G12: 2 | H12: 429 | I12: 21 | J12: 11 | K12: 3 | L12: 4
A13: 高雄市 | B13: Kaohsiung City | C13: 820 | D13: 31 | E13: 2 | F13: 1 | G13: 4 | H13: 850 | I13: 43 | J13: 10 | K13: 20 | L13: 5
A14: 宜蘭縣 | B14: Yilan County | C14: 59 | D14: 72 | E14: 7 | F14: 1 | G14: 5 | H14: 102 | I14: 32 | J14: 7 | K14: 2 | L14: 1
A15: 新竹縣 | B15: Hsinchu County | C15: 136 | D15: 20 | E15: 0 | F15: 0 | G15: 5 | H15: 125 | I15: 28 | J15: 4 | K15: 6 | L15: 2
A16: 苗栗縣 | B16: Miaoli County | C16: 128 | D16: 10 | E16: 0 | F16: 0 | G16: 63 | H16: 173 | I16: 17 | J16: 8 | K16: 1 | L16: 2
A17: 彰化縣 | B17: Changhua County | C17: 207 | D17: 3 | E17: 0 | F17: 1 | G17: 3 | H17: 225 | I17: 10 | J17: 15 | K17: 2 | L17: 4
A18: 南投縣 | B18: Nantou County | C18: 129 | D18: 22 | E18: 1 | F18: 0 | G18: 0 | H18: 116 | I18: 28 | J18: 14 | K18: 7 | L18: 6
... A29: 連江縣 | B29: Lienchiang County | C29: 7 | D29: 0 | E29: 0 | F29: 0 | G29: 0 | H29: 6 | I29: 1 | J29: 0 | K29: 0 | L29: 0
A30: 資料來源：各直轄市、縣市政府。
A31: Source: County and Government.
A33: 更新日期：2021/03/31

Sheet 2019
A1: 兒童少年保護-受虐者父母國籍 Child and Youth Protection Cases - Nationality of Abused Child and Youth Parents
A2: 單位：人 Unit : Persons
A3: 108年, 2019
A4: 區域別 Locality | C4: 父親 Father | H4: 母親 Mother
C5: 本國籍 Nationals | E5: 外國籍 Foreigners | F5: 大陸籍及港澳地區 Mainlanders, Hong Kong and Macao | G5: 其他 Others （不詳） | H5: 本國籍 Nationals | J5: 外國籍 Foreigners | K5: 大陸籍及港澳地區 Mainlanders, Hong Kong and Macao | L5: 其他 Others （不詳）
C6: 一般民眾 General | D6: 原住民 Indigenous | H6: 一般民眾 General | I6: 原住民 Indigenous
A7: 總計 | B7: Total | C7: 5900 | D7: 506 | E7: 32 | F7: 5 | G7: 287 | H7: 6091 | I7: 599 | J7: 218 | K7: 117 | L7: 316
A8: 新北市 | B8: New Taipei City | C8: 1114 | D8: 46 | E8: 7 | F8: 4 | G8: 153 | H8: 1097 | I8: 57 | J8: 40 | K8: 24 | L8: 160
A9: 臺北市 | B9: Taipei City | C9: 525 | D9: 7 | E9: 3 | F9: 0 | G9: 7 | H9: 570 | I9: 17 | J9: 19 | K9: 13 | L9: 9
A10: 桃園市 | B10: Taoyuan City | C10: 723 | D10: 85 | E10: 8 | F10: 0 | G10: 6 | H10: 763 | I10: 96 | J10: 15 | K10: 8 | L10: 16
A11: 臺中市 | B11: Taichung City | C11: 617 | D11: 38 | E11: 3 | F11: 1 | G11: 9 | H11: 651 | I11: 38 | J11: 24 | K11: 10 | L11: 11
A12: 臺南市 | B12: Tainan City | C12: 359 | D12: 7 | E12: 2 | F12: 0 | G12: 9 | H12: 382 | I12: 8 | J12: 9 | K12: 9 | L12: 10
A13: 高雄市 | B13: Kaohsiung City | C13: 851 | D13: 41 | E13: 5 | F13: 0 | G13: 16 | H13: 933 | I13: 61 | J13: 12 | K13: 15 | L13: 19
A14: 宜蘭縣 | B14: Yilan County | C14: 142 | D14: 10 | E14: 0 | F14: 0 | G14: 17 | H14: 128 | I14: 13 | J14: 4 | K14: 3 | L14: 21
A15: 新竹縣 | B15: Hsinchu County | C15: 122 | D15: 36 | E15: 0 | F15: 0 | G15: 7 | H15: 116 | I15: 30 | J15: 6 | K15: 1 | L15: 10
A16: 苗栗縣 | B16: Miaoli County | C16: 116 | D16: 8 | E16: 0 | F16: 0 | G16: 28 | H16: 135 | I16: 16 | J16: 15 | K16: 4 | L16: 10
A17: 彰化縣 | B17: Changhua County | C17: 289 | D17: 6 | E17: 1 | F17: 0 | G17: 5 | H17: 297 | I17: 6 | J17: 10 | K17: 3 | L17: 4
A18: 南投縣 | B18: Nantou County | C18: 61 | D18: 43 | E18: 1 | F18: 0 | G18: 3 | H18: 80 | I18: 21 | J18: 6 | K18: 6 | L18: 3
... A29: 連江縣 | B29: Lienchiang County | C29: 1 | D29: 0 | E29: 0 | F29: 0 | G29: 0 | H29: 1 | I29: 0 | J29: 0 | K29: 0 | L29: 0
A30: 資料來源：各直轄市、縣市政府。
A31: Source: County and Government.
A32: 更新日期：2020/3/31

Sheet 2018
A1: 家內兒童少年保護案件-受虐者父母國籍 Intra-family Child and Youth Protection Cases - Nationality of Abused Child and Youth Parents
A2: 單位：人 Unit : Persons
A3: 107年, 2018
A4: 區域別 Locality | C4: 受虐者父母國籍別Nationality of Abused Child's Parents
C5: 父親 Father | I5: 母親 Mother
C6: 合計 Total | D6: 本國籍 Nationals | F6: 外國籍 Foreigners | G6: 大陸籍 Mainlanders | H6: 其他 Others （不詳） | I6: 合計 Total | J6: 本國籍 Nationals | L6: 外國籍 Foreigners | M6: 大陸籍 Mainlanders | N6: 其他 Others （不詳）
D7: 一般民眾 General | E7: 原住民 Indigenous | J7: 一般民眾 General | K7: 原住民 Indigenous
A8: 總計 | B8: Total | C8: 3635 | D8: 3274 | E8: 269 | F8: 10 | G8: 5 | H8: 77 | I8: 3689 | J8: 3120 | K8: 308 | L8: 104 | M8: 94 | N8: 63
A9: 新北市 | B9: New Taipei City | C9: 697 | D9: 630 | E9: 29 | F9: 1 | G9: 4 | H9: 33 | I9: 692 | J9: 579 | K9: 40 | L9: 29 | M9: 17 | N9: 27
A10: 臺北市 | B10: Taipei City | C10: 345 | D10: 335 | E10: 4 | F10: 3 | G10: - | H10: 3 | I10: 369 | J10: 344 | K10: 7 | L10: 4 | M10: 11 | N10: 3
A11: 桃園市 | B11: Taoyuan City | C11: 379 | D11: 339 | E11: 36 | F11: 1 | G11: - | H11: 3 | I11: 393 | J11: 312 | K11: 61 | L11: 12 | M11: 8 | N11: -
A12: 臺中市 | B12: Taichung City | C12: 500 | D12: 474 | E12: 23 | F12: - | G12: - | H12: 3 | I12: 480 | J12: 422 | K12: 19 | L12: 15 | M12: 23 | N12: 1
A13: 臺南市 | B13: Tainan City | C13: 227 | D13: 224 | E13: 3 | F13: - | G13: - | H13: - | I13: 246 | J13: 229 | K13: 10 | L13: 2 | M13: 4 | N13: 1
A14: 高雄市 | B14: Kaohsiung City | C14: 509 | D14: 477 | E14: 22 | F14: 5 | G14: - | H14: 5 | I14: 529 | J14: 489 | K14: 18 | L14: 5 | M14: 14 | N14: 3
A15: 宜蘭縣 | B15: Yilan County | C15: 46 | D15: 40 | E15: 2 | F15: - | G15: 1 | H15: 3 | I15: 46 | J15: 41 | K15: 4 | L15: 1 | M15: - | N15: -
A16: 新竹縣 | B16: Hsinchu County | C16: 71 | D16: 58 | E16: 11 | F16: - | G16: - | H16: 2 | I16: 78 | J16: 58 | K16: 13 | L16: 4 | M16: - | N16: 3
A17: 苗栗縣 | B17: Miaoli County | C17: 55 | D17: 51 | E17: 4 | F17: - | G17: - | H17: - | I17: 63 | J17: 58 | K17: 2 | L17: 3 | M17: - | N17: -
A18: 彰化縣 | B18: Changhua County | C18: 120 | D18: 110 | E18: 9 | F18: - | G18: - | H18: 1 | I18: 101 | J18: 95 | K18: 3 | L18: 1 | M18: 2 | N18: -
A19: 南投縣 | B19: Nantou County | C19: 40 | D19: 32 | E19: 6 | F19: - | G19: - | H19: 2 | I19: 38 | J19: 26 | K19: 8 | L19: 2 | M19: 1 | N19: 1
A20: 雲林縣 | B20: Yunlin County | C20: 97 | D20: 90 | E20: 6 | F20: - | G20: - | H20: 1 | I20: 96 | J20: 84 | K20: 2 | L20: 7 | M20: 3 | N20: -
A21: 嘉義縣 | B21: Chiayi County | C21: 33 | D21: 32 | E21: 1 | F21: - | G21: - | H21: - | I21: 32 | J21: 29 | K21: 2 | L21: 1 | M21: - | N21: -
A22: 屏東縣 | B22: Pingtung County | C22: 241 | D22: 181 | E22: 49 | F22: - | G22: - | H22: 11 | I22: 241 | J22: 167 | K22: 49 | L22: 6 | M22: 5 | N22: 14
A23: 臺東縣 | B23: Taitung County | C23: 32 | D23: 16 | E23: 16 | F23: - | G23: - | H23: - | I23: 33 | J23: 14 | K23: 18 | L23: 1 | M23: - | N23: -
A24: 花蓮縣 | B24: Hualien County | C24: 59 | D24: 29 | E24: 29 | F24: - | G24: - | H24: 1 | I24: 62 | J24: 18 | K24: 42 | L24: 1 | M24: - | N24: 1
A25: 澎湖縣 | B25: Penghu County | C25: 7 | D25: 7 | E25: - | F25: - | G25: - | H25: - | I25: 4 | J25: 3 | K25: - | L25: 1 | M25: - | N25: -
A26: 基隆市 | B26: Keelung City | C26: 83 | D26: 75 | E26: 6 | F26: - | G26: - | H26: 2 | I26: 83 | J26: 68 | K26: 4 | L26: 5 | M26: 3 | N26: 3
A27: 新竹市 | B27: Hsinchu City | C27: 64 | D27: 45 | E27: 13 | F27: - | G27: - | H27: 6 | I27: 66 | J27: 53 | K27: 5 | L27: 3 | M27: - | N27: 5
A28: 嘉義市 | B28: Chiayi City | C28: 18 | D28: 17 | E28: - | F28: - | G28: - | H28: 1 | I28: 24 | J28: 22 | K28: 1 | L28: - | M28: - | N28: 1
A29: 金門縣 | B29: Kinmen County | C29: 9 | D29: 9 | E29: - | F29: - | G29: - | H29: - | I29: 12 | J29: 9 | K29: - | L29: - | M29: 3 | N29: -
A30: 連江縣 | B30: Lienchiang County | C30: 3 | D30: 3 | E30: - | F30: - | G30: - | H30: - | I30: 1 | J30: - | K30: - | L30: 1 | M30: - | N30: -
A31: 資料來源：各直轄市、縣市政府。
A32: Source: County and Government.
A33: 更新日期：2019/4/1

Sheet 2017
A1: 家內兒童少年保護案件-受虐者父母國籍 Intra-family Child and Youth Protection Cases - Nationality of Abused Child and Youth Parents
A2: 單位：人 Unit : Persons
A3: 106年, 2017
A4: 區域別 Locality | C4: 受虐者父母國籍別Nationality of Abused Child's Parents
C5: 父親 Father | I5: 母親 Mother
C6: 合計 Total | D6: 本國籍 Nationals | F6: 外國籍 Foreigners | G6: 大陸籍 Mainlanders | H6: 其他 Others （不詳） | I6: 合計 Total | J6: 本國籍 Nationals | L6: 外國籍 Foreigners | M6: 大陸籍 Mainlanders | N6: 其他 Others （不詳）
D7: 一般民眾 General | E7: 原住民 Indigenous | J7: 一般民眾 General | K7: 原住民 Indigenous
A8: 總計 | B8: Total | C8: 3488 | D8: 3095 | E8: 277 | F8: 9 | G8: 7 | H8: 100 | I8: 3502 | J8: 2908 | K8: 329 | L8: 108 | M8: 88 | N8: 69
A9: 新北市 | B9: New Taipei City | C9: 659 | D9: 595 | E9: 27 | F9: 2 | G9: 1 | H9: 34 | I9: 577 | J9: 484 | K9: 29 | L9: 25 | M9: 19 | N9: 20
A10: 臺北市 | B10: Taipei City | C10: 232 | D10: 219 | E10: 5 | F10: - | G10: 2 | H10: 6 | I10: 233 | J10: 209 | K10: 8 | L10: 5 | M10: 8 | N10: 3
A11: 桃園市 | B11: Taoyuan City | C11: 420 | D11: 357 | E11: 57 | F11: 2 | G11: 1 | H11: 3 | I11: 421 | J11: 357 | K11: 45 | L11: 8 | M11: 8 | N11: 3
A12: 臺中市 | B12: Taichung City | C12: 582 | D12: 539 | E12: 30 | F12: 3 | G12: - | H12: 10 | I12: 596 | J12: 506 | K12: 47 | L12: 16 | M12: 20 | N12: 7
A13: 臺南市 | B13: Tainan City | C13: 177 | D13: 174 | E13: 2 | F13: - | G13: 1 | H13: - | I13: 187 | J13: 180 | K13: 4 | L13: 2 | M13: 1 | N13: -
A14: 高雄市 | B14: Kaohsiung City | C14: 508 | D14: 468 | E14: 25 | F14: 1 | G14: 1 | H14: 13 | I14: 516 | J14: 454 | K14: 33 | L14: 20 | M14: 7 | N14: 2
A15: 宜蘭縣 | B15: Yilan County | C15: 57 | D15: 54 | E15: 1 | F15: - | G15: - | H15: 2 | I15: 57 | J15: 47 | K15: 3 | L15: 1 | M15: 2 | N15: 4
A16: 新竹縣 | B16: Hsinchu County | C16: 88 | D16: 84 | E16: 3 | F16: - | G16: - | H16: 1 | I16: 82 | J16: 67 | K16: 6 | L16: 5 | M16: 2 | N16: 2
A17: 苗栗縣 | B17: Miaoli County | C17: 49 | D17: 43 | E17: 5 | F17: - | G17: - | H17: 1 | I17: 46 | J17: 40 | K17: 5 | L17: 1 | M17: - | N17: -
A18: 彰化縣 | B18: Changhua County | C18: 133 | D18: 119 | E18: 5 | F18: - | G18: 1 | H18: 8 | I18: 142 | J18: 119 | K18: 8 | L18: 6 | M18: 4 | N18: 5
A19: 南投縣 | B19: Nantou County | C19: 34 | D19: 25 | E19: 5 | F19: 1 | G19: - | H19: 3 | I19: 31 | J19: 23 | K19: 5 | L19: 1 | M19: 1 | N19: 1
A20: 雲林縣 | B20: Yunlin County | C20: 62 | D20: 58 | E20: 1 | F20: - | G20: - | H20: 3 | I20: 63 | J20: 49 | K20: 6 | L20: 5 | M20: 2 | N20: 1
A21: 嘉義縣 | B21: Chiayi County | C21: 29 | D21: 29 | E21: - | F21: - | G21: - | H21: - | I21: 28 | J21: 23 | K21: 1 | L21: 4 | M21: - | N21: -
A22: 屏東縣 | B22: Pingtung County | C22: 207 | D22: 176 | E22: 28 | F22: - | G22: - | H22: 3 | I22: 223 | J22: 177 | K22: 32 | L22: 5 | M22: 6 | N22: 3
A23: 臺東縣 | B23: Taitung County | C23: 55 | D23: 22 | E23: 32 | F23: - | G23: - | H23: 1 | I23: 67 | J23: 22 | K23: 45 | L23: - | M23: - | N23: -
A24: 花蓮縣 | B24: Hualien County | C24: 58 | D24: 23 | E24: 35 | F24: - | G24: - | H24: - | I24: 65 | J24: 21 | K24: 41 | L24: - | M24: 3 | N24: -
A25: 澎湖縣 | B25: Penghu County | C25: 6 | D25: 6 | E25: - | F25: - | G25: - | H25: - | I25: 6 | J25: 5 | K25: - | L25: - | M25: 1 | N25: -
A26: 基隆市 | B26: Keelung City | C26: 73 | D26: 62 | E26: 1 | F26: - | G26: - | H26: 10 | I26: 73 | J26: 53 | K26: 3 | L26: 2 | M26: 2 | N26: 13
A27: 新竹市 | B27: Hsinchu City | C27: 24 | D27: 22 | E27: 2 | F27: - | G27: - | H27: - | I27: 45 | J27: 37 | K27: 5 | L27: - | M27: 2 | N27: 1
A28: 嘉義市 | B28: Chiayi City | C28: 26 | D28: 15 | E28: 11 | F28: - | G28: - | H28: - | I28: 32 | J28: 28 | K28: - | L28: 1 | M28: - | N28: 3
A29: 金門縣 | B29: Kinmen County | C29: 6 | D29: 4 | E29: - | F29: - | G29: - | H29: 2 | I29: 8 | J29: 6 | K29: - | L29: 1 | M29: - | N29: 1
A30: 連江縣 | B30: Lienchiang County | C30: 3 | D30: 1 | E30: 2 | F30: - | G30: - | H30: - | I30: 4 | J30: 1 | K30: 3 | L30: - | M30: - | N30: -
A31: 資料來源：各直轄市、縣市政府。
A32: Source: County and Government.
A34: 更新日期：2018/3/31

Sheet 2016
A1: 兒童少年保護-受虐者父母國籍
A3: 105年, 2016
A4: 區域別 Locality | C4: 受虐者父母國籍別
C5: 合計 Total | F5: 本國籍 Nationals | J5: 外國籍 Foreigners | L5: 大陸籍 Mainlanders | N5: 港澳地區 Hong Kong and Macau | P5: 其他 Others （不詳）
F6: 一般民眾 General | H6: 原住民 Indigenous
C7: 計Total | D7: 父 Father | E7: 母 Mother | F7: 父 Father | G7: 母 Mother | H7: 父 Father | I7: 母 Mother | J7: 父 Father | K7: 母 Mother | L7: 父 Father | M7: 母 Mother | N7: 父 Father | O7: 母 Mother | P7: 父 Father | Q7: 母 Mother
A8: 總計 | B8: Total | C8: 16776 | D8: 8330 | E8: 8446 | F8: 7143 | G8: 6750 | H8: 496 | I8: 609 | J8: 34 | K8: 292 | L8: 9 | M8: 191 | N8: 1 | O8: 0 | P8: 647 | Q8: 604
A9: 新北市 | B9: New Taipei City | C9: 2021 | D9: 1011 | E9: 1010 | F9: 713 | G9: 637 | H9: 29 | I9: 43 | J9: 2 | K9: 29 | L9: 1 | M9: 31 | N9: 0 | O9: 0 | P9: 266 | Q9: 270
A10: 臺北市 | B10: Taipei City | C10: 3723 | D10: 1864 | E10: 1859 | F10: 1810 | G10: 1797 | H10: 23 | I10: 24 | J10: 7 | K10: 11 | L10: 7 | M10: 11 | N10: 0 | O10: 0 | P10: 17 | Q10: 16
A11: 桃園市 | B11: Taoyuan City | C11: 1943 | D11: 969 | E11: 974 | F11: 801 | G11: 785 | H11: 119 | I11: 100 | J11: 4 | K11: 36 | L11: 0 | M11: 16 | N11: 0 | O11: 0 | P11: 45 | Q11: 37
A12: 臺中市 | B12: Taichung City | C12: 1452 | D12: 716 | E12: 736 | F12: 659 | G12: 634 | H12: 26 | I12: 29 | J12: 3 | K12: 22 | L12: 0 | M12: 21 | N12: 1 | O12: 0 | P12: 27 | Q12: 30
A13: 臺南市 | B13: Tainan City | C13: 774 | D13: 376 | E13: 398 | F13: 360 | G13: 354 | H13: 6 | I13: 12 | J13: 1 | K13: 13 | L13: 0 | M13: 9 | N13: 0 | O13: 0 | P13: 9 | Q13: 10
A14: 高雄市 | B14: Kaohsiung City | C14: 2482 | D14: 1241 | E14: 1241 | F14: 1117 | G14: 1075 | H14: 58 | I14: 79 | J14: 13 | K14: 31 | L14: 1 | M14: 33 | N14: 0 | O14: 0 | P14: 52 | Q14: 23
A15: 宜蘭縣 | B15: Yilan County | C15: 292 | D15: 146 | E15: 146 | F15: 117 | G15: 100 | H15: 20 | I15: 22 | J15: 0 | K15: 14 | L15: 0 | M15: 8 | N15: 0 | O15: 0 | P15: 9 | Q15: 2
A16: 新竹縣 | B16: Hsinchu County | C16: 306 | D16: 151 | E16: 155 | F16: 114 | G16: 101 | H16: 27 | I16: 30 | J16: 1 | K16: 8 | L16: 0 | M16: 5 | N16: 0 | O16: 0 | P16: 9 | Q16: 11
A17: 苗栗縣 | B17: Miaoli County | C17: 286 | D17: 140 | E17: 146 | F17: 122 | G17: 104 | H17: 10 | I17: 12 | J17: 0 | K17: 16 | L17: 0 | M17: 4 | N17: 0 | O17: 0 | P17: 8 | Q17: 10
A18: 彰化縣 | B18: Changhua County | C18: 570 | D18: 284 | E18: 286 | F18: 265 | G18: 227 | H18: 3 | I18: 11 | J18: 0 | K18: 25 | L18: 0 | M18: 13 | N18: 0 | O18: 0 | P18: 16 | Q18: 10
A19: 南投縣 | B19: Nantou County | C19: 128 | D19: 63 | E19: 65 | F19: 47 | G19: 47 | H19: 7 | I19: 7 | J19: 0 | K19: 2 | L19: 0 | M19: 2 | N19: 0 | O19: 0 | P19: 9 | Q19: 7
... A30: 連江縣 | B30: Lienchiang County | C30: 4 | D30: 2 | E30: 2 | F30: 2 | G30: 1 | H30: 0 | I30: 0 | J30: 0 | K30: 0 | L30: 0 | M30: 1 | N30: 0 | O30: 0 | P30: 0 | Q30: 0
A31: 資料來源：各直轄市、縣市政府。
A33: Source: County and Government.
A34: 更新日期：2017/3/9

Sheet 2015
A1: 兒童少年保護-受虐者父母國籍
A3: 104年, 2015
A4: 區域別 Locality | C4: 受虐者父母國籍別
C5: 合計 Total | F5: 本國籍 Nationals | J5: 外國籍 Foreigners | V5: 大陸籍 Mainlanders | X5: 港澳地區 Hong Kong and Macau | Z5: 其他 Others （不詳）
F6: 非原住民 General | H6: 原住民 Indigenous | J6: 越南 Vietnam | L6: 柬埔寨 Cambodia | N6: 泰國 Thailand | P6: 菲律賓 Philippines | R6: 印尼 Indonesia | T6: 其他 Others
C7: 計Total | D7: 父 Father | E7: 母 Mother | F7: 父 Father | G7: 母 Mother | H7: 父 Father | I7: 母 Mother | J7: 父 Father | K7: 母 Mother | L7: 父 Father | M7: 母 Mother | N7: 父 Father | O7: 母 Mother | P7: 父 Father | Q7: 母 Mother | R7: 父 Father | S7: 母 Mother | T7: 父 Father | U7: 母 Mother | V7: 父 Father | W7: 母 Mother | X7: 父 Father | Y7: 母 Mother | Z7: 父 Father | AA7: 母 Mother
A8: 總計 | B8: Total | C8: 16623 | D8: 8312 | E8: 8311 | F8: 7032 | G8: 6423 | H8: 540 | I8: 575 | J8: 1 | K8: 170 | L8: 0 | M8: 15 | N8: 3 | O8: 7 | P8: 2 | Q8: 5 | R8: 1 | S8: 78 | T8: 20 | U8: 12 | V8: 4 | W8: 182 | X8: 0 | Y8: 2 | Z8: 709 | AA8: 842
A9: 新北市 | B9: New Taipei City | C9: 1963 | D9: 990 | E9: 973 | F9: 538 | G9: 454 | H9: 26 | I9: 32 | J9: 0 | K9: 22 | L9: 0 | M9: 1 | N9: 1 | O9: 2 | P9: 0 | Q9: 1 | R9: 0 | S9: 10 | T9: 2 | U9: 2 | V9: 0 | W9: 29 | X9: 0 | Y9: 2 | Z9: 423 | AA9: 418
A10: 臺北市 | B10: Taipei City | C10: 4492 | D10: 2245 | E10: 2247 | F10: 2233 | G10: 2225 | H10: 6 | I10: 7 | J10: 0 | K10: 5 | L10: 0 | M10: 0 | N10: 0 | O10: 3 | P10: 0 | Q10: 0 | R10: 0 | S10: 2 | T10: 4 | U10: 2 | V10: 1 | W10: 3 | X10: 0 | Y10: 0 | Z10: 1 | AA10: 0
A11: 桃園市 | B11: Taoyuan City | C11: 2036 | D11: 1009 | E11: 1027 | F11: 822 | G11: 786 | H11: 131 | I11: 138 | J11: 1 | K11: 23 | L11: 0 | M11: 0 | N11: 0 | O11: 2 | P11: 1 | Q11: 1 | R11: 1 | S11: 22 | T11: 0 | U11: 1 | V11: 2 | W11: 29 | X11: 0 | Y11: 0 | Z11: 51 | AA11: 25
A12: 臺中市 | B12: Taichung City | C12: 1179 | D12: 581 | E12: 598 | F12: 502 | G12: 485 | H12: 19 | I12: 23 | J12: 0 | K12: 13 | L12: 0 | M12: 2 | N12: 0 | O12: 0 | P12: 0 | Q12: 0 | R12: 0 | S12: 9 | T12: 1 | U12: 0 | V12: 0 | W12: 16 | X12: 0 | Y12: 0 | Z12: 59 | AA12: 50
A13: 臺南市 | B13: Tainan City | C13: 640 | D13: 311 | E13: 329 | F13: 297 | G13: 295 | H13: 7 | I13: 7 | J13: 0 | K13: 3 | L13: 0 | M13: 2 | N13: 0 | O13: 0 | P13: 0 | Q13: 0 | R13: 0 | S13: 1 | T13: 3 | U13: 0 | V13: 0 | W13: 14 | X13: 0 | Y13: 0 | Z13: 4 | AA13: 7
A14: 高雄市 | B14: Kaohsiung City | C14: 1720 | D14: 860 | E14: 860 | F14: 798 | G14: 746 | H14: 54 | I14: 57 | J14: 0 | K14: 21 | L14: 0 | M14: 2 | N14: 0 | O14: 0 | P14: 1 | Q14: 1 | R14: 0 | S14: 2 | T14: 2 | U14: 2 | V14: 0 | W14: 21 | X14: 0 | Y14: 0 | Z14: 5 | AA14: 8
A15: 宜蘭縣 | B15: Yilan County | C15: 363 | D15: 183 | E15: 180 | F15: 156 | G15: 145 | H15: 20 | I15: 13 | J15: 0 | K15: 7 | L15: 0 | M15: 0 | N15: 0 | O15: 0 | P15: 0 | Q15: 0 | R15: 0 | S15: 0 | T15: 0 | U15: 0 | V15: 0 | W15: 6 | X15: 0 | Y15: 0 | Z15: 7 | AA15: 9
A16: 新竹縣 | B16: Hsinchu County | C16: 199 | D16: 99 | E16: 100 | F16: 68 | G16: 73 | H16: 31 | I16: 20 | J16: 0 | K16: 1 | L16: 0 | M16: 0 | N16: 0 | O16: 0 | P16: 0 | Q16: 0 | R16: 0 | S16: 4 | T16: 0 | U16: 0 | V16: 0 | W16: 0 | X16: 0 | Y16: 0 | Z16: 0 | AA16: 2
A17: 苗栗縣 | B17: Miaoli County | C17: 144 | D17: 76 | E17: 68 | F17: 66 | G17: 53 | H17: 3 | I17: 5 | J17: 0 | K17: 2 | L17: 0 | M17: 0 | N17: 0 | O17: 0 | P17: 0 | Q17: 0 | R17: 0 | S17: 1 | T17: 0 | U17: 0 | V17: 0 | W17: 0 | X17: 0 | Y17: 0 | Z17: 7 | AA17: 7
A18: 彰化縣 | B18: Changhua County | C18: 309 | D18: 165 | E18: 144 | F18: 144 | G18: 113 | H18: 1 | I18: 3 | J18: 0 | K18: 10 | L18: 0 | M18: 0 | N18: 0 | O18: 0 | P18: 0 | Q18: 0 | R18: 0 | S18: 0 | T18: 0 | U18: 0 | V18: 0 | W18: 6 | X18: 0 | Y18: 0 | Z18: 20 | AA18: 12
A19: 南投縣 | B19: Nantou County | C19: 119 | D19: 56 | E19: 63 | F19: 53 | G19: 59 | H19: 3 | I19: 2 | J19: 0 | K19: 0 | L19: 0 | M19: 0 | N19: 0 | O19: 0 | P19: 0 | Q19: 0 | R19: 0 | S19: 1 | T19: 0 | U19: 0 | V19: 0 | W19: 1 | X19: 0 | Y19: 0 | Z19: 0 | AA19: 0
... A30: 連江縣 | B30: Lienchiang County | C30: 4 | D30: 2 | E30: 2 | F30: 2 | G30: 2 | H30: 0 | I30: 0 | J30: 0 | K30: 0 | L30: 0 | M30: 0 | N30: 0 | O30: 0 | P30: 0 | Q30: 0 | R30: 0 | S30: 0 | T30: 0 | U30: 0 | V30: 0 | W30: 0 | X30: 0 | Y30: 0 | Z30: 0 | AA30: 0
A31: 資料來源：各直轄市、縣市政府。
A33: Source: County and Government.
A34: 更新日期：2016/3/8
