Workbook

Sheet 歷年
A1: 兒童及少年保護-遭父母、照顧者等家庭成員施虐死亡之人數及原因
A2: 單位：人 Unit : Persons
A3: 年別Year | B3: 家內受虐致死
B4: 總計 | C4: 遭嚴重虐待死亡 | D4: 遭嚴重疏忽死亡 | E4: 遭殺子自殺
A5: 106年, 2017 | B5: ='2017'!C5 -> 29 | C5: ='2017'!D5 -> 13 | D5: ='2017'!E5 -> 3 | E5: ='2017'!F5 -> 13
A6: 107年, 2018 | B6: ='2018'!C5 -> 15 | C6: ='2018'!D5 -> 6 | D6: ='2018'!E5 -> 4 | E6: ='2018'!F5 -> 5
A7: 108年, 2019 | B7: ='2019'!C6 -> 23 | C7: ='2019'!D6 -> 8 | D7: ='2019'!E6 -> 2 | E7: ='2019'!F6 -> 13
A8: 109年, 2020 | B8: ='2020'!C6 -> 22 | C8: ='2020'!D6 -> 7 | D8: ='2020'!E6 -> 4 | E8: ='2020'!F6 -> 11
A9: 110年, 2021 | B9: ='2021'!C6 -> 23 | C9: ='2021'!D6 -> 9 | D9: ='2021'!E6 -> 6 | E9: ='2021'!F6 -> 8
A10: 111年, 2022 | B10: ='2022'!C6 -> 14 | C10: ='2022'!D6 -> 4 | D10: ='2022'!E6 -> 6 | E10: ='2022'!F6 -> 4
A11: 112年, 2023 | B11: ='2023'!C6 -> 21 | C11: ='2023'!D6 -> 9 | D11: ='2023'!E6 -> 4 | E11: ='2023'!F6 -> 8
A12: 113年, 2024 | B12: ='2024'!C6 -> 30 | C12: ='2024'!D6 -> 14 | D12: ='2024'!E6 -> 4 | E12: ='2024'!F6 -> 12
A13: 114年, 2025 | B13: ='2025'!C6 -> 19 | C13: ='2025'!D6 -> 8 | D13: ='2025'!E6 -> 4 | E13: ='2025'!F6 -> 7
A14: 上半年, Jan.-June | B14: ='Jan.-June, 2025'!C6 -> 13 | C14: ='Jan.-June, 2025'!D6 -> 8 | D14: ='Jan.-June, 2025'!E6 -> 2 | E14: ='Jan.-June, 2025'!F6 -> 3
A15: 下半年, July-Dec. | B15: ='July-Dec., 2025'!C6 -> 6 | C15: ='July-Dec., 2025'!D6 -> 0 | D15: ='July-Dec., 2025'!E6 -> 2 | E15: ='July-Dec., 2025'!F6 -> 4
A16: 115年, 2026
A17: 上半年, Jan.-June | B17: ='Jan.-June, 2026'!C6 -> 8 | C17: ='Jan.-June, 2026'!D6 -> 2 | D17: ='Jan.-June, 2026'!E6 -> 3 | E17: ='Jan.-June, 2026'!F6 -> 3
A18: 下半年, July-Dec. | B18: ='July-Dec., 2026'!C6 -> 0 | C18: ='July-Dec., 2026'!D6 -> 0 | D18: ='July-Dec., 2026'!E6 -> 0 | E18: ='July-Dec., 2026'!F6 -> 0
A19: 資料來源：各直轄市、縣市政府。
A20: Source: County and Government.
A21: 更新日期：2026/09/30 | B21: =IF(B13=SUM(B14:B15),"","*") | C21: =IF(C13=SUM(C14:C15),"","*") | D21: =IF(D13=SUM(D14:D15),"","*") | E21: =IF(E13=SUM(E14:E15),"","*")

Sheet 2026
A1: 兒童及少年保護-遭父母、照顧者等家庭成員施虐死亡之人數及原因
A2: 單位：人 Unit : Persons
A3: 民國115年, 2026 | C3: =IF(C6=SUM(C7:C28),"",SUM(C7:C28)) | D3: =IF(D6=SUM(D7:D28),"",SUM(D7:D28)) | E3: =IF(E6=SUM(E7:E28),"",SUM(E7:E28)) | F3: =IF(F6=SUM(F7:F28),"",SUM(F7:F28))
A4: 區域別 Locality | C4: 家內受虐致死
C5: 總計 | D5: 遭嚴重虐待死亡 | E5: 遭嚴重疏忽死亡 | F5: 遭殺子自殺
A6: 總計 | B6: Total
A7: 新北市 | B7: New Taipei City
A8: 臺北市 | B8: Taipei City
A9: 桃園市 | B9: Taoyuan City
A10: 臺中市 | B10: Taichung City
A11: 臺南市 | B11: Tainan City
A12: 高雄市 | B12: Kaohsiung City
A13: 宜蘭縣 | B13: Yilan County
A14: 新竹縣 | B14: Hsinchu County
A15: 苗栗縣 | B15: Miaoli County
A16: 彰化縣 | B16: Changhua County
A17: 南投縣 | B17: Nantou County
... A28: 連江縣 | B28: Lienchiang County
A29: 資料來源：各直轄市、縣市政府。

Sheet July-Dec., 2026
A1: 兒童及少年保護-遭父母、照顧者等家庭成員施虐死亡之人數及原因
A2: 單位：人 Unit : Persons
A3: 民國115年7-12月 July-Dec., 2026 | C3: =IF(C6=SUM(C7:C28),"",SUM(C7:C28)) | D3: =IF(D6=SUM(D7:D28),"",SUM(D7:D28)) | E3: =IF(E6=SUM(E7:E28),"",SUM(E7:E28)) | F3: =IF(F6=SUM(F7:F28),"",SUM(F7:F28))
A4: 區域別 Locality | C4: 家內受虐致死
C5: 總計 | D5: 遭嚴重虐待死亡 | E5: 遭嚴重疏忽死亡 | F5: 遭殺子自殺
A6: 總計 | B6: Total
A7: 新北市 | B7: New Taipei City
A8: 臺北市 | B8: Taipei City
A9: 桃園市 | B9: Taoyuan City
A10: 臺中市 | B10: Taichung City
A11: 臺南市 | B11: Tainan City
A12: 高雄市 | B12: Kaohsiung City
A13: 宜蘭縣 | B13: Yilan County
A14: 新竹縣 | B14: Hsinchu County
A15: 苗栗縣 | B15: Miaoli County
A16: 彰化縣 | B16: Changhua County
A17: 南投縣 | B17: Nantou County
... A28: 連江縣 | B28: Lienchiang County
A29: 資料來源：各直轄市、縣市政府。

Sheet Jan.-June, 2026
A1: 兒童及少年保護-遭父母、照顧者等家庭成員施虐死亡之人數及原因
A2: 單位：人 Unit : Persons
A3: 民國115年1-6月 Jan.-June, 2026 | C3: =IF(C6=SUM(C7:C28),"",SUM(C7:C28)) | D3: =IF(D6=SUM(D7:D28),"",SUM(D7:D28)) | E3: =IF(E6=SUM(E7:E28),"",SUM(E7:E28)) | F3: =IF(F6=SUM(F7:F28),"",SUM(F7:F28))
A4: 區域別 Locality | C4: 家內受虐致死
C5: 總計 | D5: 遭嚴重虐待死亡 | E5: 遭嚴重疏忽死亡 | F5: 遭殺子自殺
A6: 總計 | B6: Total | C6: 8 | D6: 2 | E6: 3 | F6: 3
A7: 新北市 | B7: New Taipei City | C7: 0 | D7: 0 | E7: 0 | F7: 0
A8: 臺北市 | B8: Taipei City | C8: 0 | D8: 0 | E8: 0 | F8: 0
A9: 桃園市 | B9: Taoyuan City | C9: 2 | D9: 1 | E9: 1 | F9: 0
A10: 臺中市 | B10: Taichung City | C10: 2 | D10: 0 | E10: 0 | F10: 2
A11: 臺南市 | B11: Tainan City | C11: 2 | D11: 1 | E11: 0 | F11: 1
A12: 高雄市 | B12: Kaohsiung City | C12: 1 | D12: 0 | E12: 1 | F12: 0
A13: 宜蘭縣 | B13: Yilan County | C13: 0 | D13: 0 | E13: 0 | F13: 0
A14: 新竹縣 | B14: Hsinchu County | C14: 0 | D14: 0 | E14: 0 | F14: 0
A15: 苗栗縣 | B15: Miaoli County | C15: 0 | D15: 0 | E15: 0 | F15: 0
A16: 彰化縣 | B16: Changhua County | C16: 0 | D16: 0 | E16: 0 | F16: 0
A17: 南投縣 | B17: Nantou County | C17: 0 | D17: 0 | E17: 0 | F17: 0
... A28: 連江縣 | B28: Lienchiang County | C28: 0 | D28: 0 | E28: 0 | F28: 0
A29: 資料來源：各直轄市、縣市政府。
A32: 總計 | B32: Total | C32: 12 | D32: 6 | E32: 3 | F32: 3
A33: 新北市 | B33: New Taipei City | C33: 1 | D33: 1 | E33: 0 | F33: 0
A34: 臺北市 | B34: Taipei City | C34: 0 | D34: 0 | E34: 0 | F34: 0
A35: 桃園市 | B35: Taoyuan City | C35: 1 | D35: 0 | E35: 1 | F35: 0
A36: 臺中市 | B36: Taichung City | C36: 2 | D36: 2 | E36: 0 | F36: 0
A37: 臺南市 | B37: Tainan City | C37: 0 | D37: 0 | E37: 0 | F37: 0
A38: 高雄市 | B38: Kaohsiung City | C38: 0 | D38: 0 | E38: 0 | F38: 0
A39: 宜蘭縣 | B39: Yilan County | C39: 0 | D39: 0 | E39: 0 | F39: 0
A40: 新竹縣 | B40: Hsinchu County | C40: 0 | D40: 0 | E40: 0 | F40: 0
A41: 苗栗縣 | B41: Miaoli County | C41: 3 | D41: 0 | E41: 0 | F41: 3
A42: 彰化縣 | B42: Changhua County | C42: 0 | D42: 0 | E42: 0 | F42: 0
A43: 南投縣 | B43: Nantou County | C43: 2 | D43: 0 | E43: 2 | F43: 0
... A54: 連江縣 | B54: Lienchiang County | C54: 0 | D54: 0 | E54: 0 | F54: 0
A56: 總計 | B56: Total | C56: =IF(C32=C6,"","*") -> * | D56: =IF(D32=D6,"","*") -> * | E56: =IF(E32=E6,"","*") | F56: =IF(F32=F6,"","*")
A57: 新 北 市 | B57: New Taipei City | C57: =IF(C33=C7,"","*") -> * | D57: =IF(D33=D7,"","*") -> * | E57: =IF(E33=E7,"","*") | F57: =IF(F33=F7,"","*")
A58: 臺 北 市 | B58: Taipei City | C58: =IF(C34=C8,"","*") | D58: =IF(D34=D8,"","*") | E58: =IF(E34=E8,"","*") | F58: =IF(F34=F8,"","*")
A59: 桃 園 市 | B59: Taoyuan City | C59: =IF(C35=C9,"","*") -> * | D59: =IF(D35=D9,"","*") -> * | E59: =IF(E35=E9,"","*") | F59: =IF(F35=F9,"","*")
A60: 臺 中 市 | B60: Taichung City | C60: =IF(C36=C10,"","*") | D60: =IF(D36=D10,"","*") -> * | E60: =IF(E36=E10,"","*") | F60: =IF(F36=F10,"","*") -> *
A61: 臺 南 市 | B61: Tainan City | C61: =IF(C37=C11,"","*") -> * | D61: =IF(D37=D11,"","*") -> * | E61: =IF(E37=E11,"","*") | F61: =IF(F37=F11,"","*") -> *
A62: 高 雄 市 | B62: Kaohsiung City | C62: =IF(C38=C12,"","*") -> * | D62: =IF(D38=D12,"","*") | E62: =IF(E38=E12,"","*") -> * | F62: =IF(F38=F12,"","*")
A63: 宜蘭縣 | B63: Yilan County | C63: =IF(C39=C13,"","*") | D63: =IF(D39=D13,"","*") | E63: =IF(E39=E13,"","*") | F63: =IF(F39=F13,"","*")
A64: 新竹縣 | B64: Hsinchu County | C64: =IF(C40=C14,"","*") | D64: =IF(D40=D14,"","*") | E64: =IF(E40=E14,"","*") | F64: =IF(F40=F14,"","*")
A65: 苗栗縣 | B65: Miaoli County | C65: =IF(C41=C15,"","*") -> * | D65: =IF(D41=D15,"","*") | E65: =IF(E41=E15,"","*") | F65: =IF(F41=F15,"","*") -> *
A66: 彰化縣 | B66: Changhua County | C66: =IF(C42=C16,"","*") | D66: =IF(D42=D16,"","*") | E66: =IF(E42=E16,"","*") | F66: =IF(F42=F16,"","*")
A67: 南投縣 | B67: Nantou County | C67: =IF(C43=C17,"","*") -> * | D67: =IF(D43=D17,"","*") | E67: =IF(E43=E17,"","*") -> * | F67: =IF(F43=F17,"","*")
... A78: 連江縣 | B78: Lienchiang County | C78: =IF(C54=C28,"","*") | D78: =IF(D54=D28,"","*") | E78: =IF(E54=E28,"","*") | F78: =IF(F54=F28,"","*")

Sheet 2025
A1: 兒童及少年保護-遭父母、照顧者等家庭成員施虐死亡之人數及原因
A2: 單位：人 Unit : Persons
A3: 民國114年, 2025 | C3: =IF(C6=SUM(C7:C28),"",SUM(C7:C28)) | D3: =IF(D6=SUM(D7:D28),"",SUM(D7:D28)) | E3: =IF(E6=SUM(E7:E28),"",SUM(E7:E28)) | F3: =IF(F6=SUM(F7:F28),"",SUM(F7:F28))
A4: 區域別 Locality | C4: 家內受虐致死
C5: 總計 | D5: 遭嚴重虐待死亡 | E5: 遭嚴重疏忽死亡 | F5: 遭殺子自殺
A6: 總計 | B6: Total | C6: 19 | D6: 8 | E6: 4 | F6: 7
A7: 新北市 | B7: New Taipei City | C7: 2 | D7: 1 | E7: 0 | F7: 1
A8: 臺北市 | B8: Taipei City | C8: 1 | D8: 0 | E8: 0 | F8: 1
A9: 桃園市 | B9: Taoyuan City | C9: 2 | D9: 0 | E9: 2 | F9: 0
A10: 臺中市 | B10: Taichung City | C10: 3 | D10: 2 | E10: 0 | F10: 1
A11: 臺南市 | B11: Tainan City | C11: 0 | D11: 0 | E11: 0 | F11: 0
A12: 高雄市 | B12: Kaohsiung City | C12: 1 | D12: 0 | E12: 1 | F12: 0
A13: 宜蘭縣 | B13: Yilan County | C13: 2 | D13: 2 | E13: 0 | F13: 0
A14: 新竹縣 | B14: Hsinchu County | C14: 1 | D14: 0 | E14: 0 | F14: 1
A15: 苗栗縣 | B15: Miaoli County | C15: 3 | D15: 0 | E15: 0 | F15: 3
A16: 彰化縣 | B16: Changhua County | C16: 0 | D16: 0 | E16: 0 | F16: 0
A17: 南投縣 | B17: Nantou County | C17: 0 | D17: 0 | E17: 0 | F17: 0
... A28: 連江縣 | B28: Lienchiang County | C28: 0 | D28: 0 | E28: 0 | F28: 0
A29: 資料來源：各直轄市、縣市政府。

Sheet July-Dec., 2025
A1: 兒童及少年保護-遭父母、照顧者等家庭成員施虐死亡之人數及原因
A2: 單位：人 Unit : Persons
A3: 民國114年7-12月 July-Dec., 2025 | C3: =IF(C6=SUM(C7:C28),"",SUM(C7:C28)) | D3: =IF(D6=SUM(D7:D28),"",SUM(D7:D28)) | E3: =IF(E6=SUM(E7:E28),"",SUM(E7:E28)) | F3: =IF(F6=SUM(F7:F28),"",SUM(F7:F28))
A4: 區域別 Locality | C4: 家內受虐致死
C5: 總計 | D5: 遭嚴重虐待死亡 | E5: 遭嚴重疏忽死亡 | F5: 遭殺子自殺
A6: 總計 | B6: Total | C6: 6 | D6: 0 | E6: 2 | F6: 4
A7: 新北市 | B7: New Taipei City | C7: 1 | D7: 0 | E7: 0 | F7: 1
A8: 臺北市 | B8: Taipei City | C8: 1 | D8: 0 | E8: 0 | F8: 1
A9: 桃園市 | B9: Taoyuan City | C9: 0 | D9: 0 | E9: 0 | F9: 0
A10: 臺中市 | B10: Taichung City | C10: 1 | D10: 0 | E10: 0 | F10: 1
A11: 臺南市 | B11: Tainan City | C11: 0 | D11: 0 | E11: 0 | F11: 0
A12: 高雄市 | B12: Kaohsiung City | C12: 1 | D12: 0 | E12: 1 | F12: 0
A13: 宜蘭縣 | B13: Yilan County | C13: 0 | D13: 0 | E13: 0 | F13: 0
A14: 新竹縣 | B14: Hsinchu County | C14: 1 | D14: 0 | E14: 0 | F14: 1
A15: 苗栗縣 | B15: Miaoli County | C15: 0 | D15: 0 | E15: 0 | F15: 0
A16: 彰化縣 | B16: Changhua County | C16: 0 | D16: 0 | E16: 0 | F16: 0
A17: 南投縣 | B17: Nantou County | C17: 0 | D17: 0 | E17: 0 | F17: 0
... A28: 連江縣 | B28: Lienchiang County | C28: 0 | D28: 0 | E28: 0 | F28: 0
A29: 資料來源：各直轄市、縣市政府。

Sheet Jan.-June, 2025
A1: 兒童及少年保護-遭父母、照顧者等家庭成員施虐死亡之人數及原因
A2: 單位：人 Unit : Persons
A3: 民國114年1-6月 Jan.-June, 2025 | C3: =IF(C6=SUM(C7:C28),"",SUM(C7:C28)) | D3: =IF(D6=SUM(D7:D28),"",SUM(D7:D28)) | E3: =IF(E6=SUM(E7:E28),"",SUM(E7:E28)) | F3: =IF(F6=SUM(F7:F28),"",SUM(F7:F28))
A4: 區域別 Locality | C4: 家內受虐致死
C5: 總計 | D5: 遭嚴重虐待死亡 | E5: 遭嚴重疏忽死亡 | F5: 遭殺子自殺
A6: 總計 | B6: Total | C6: 13 | D6: 8 | E6: 2 | F6: 3
A7: 新北市 | B7: New Taipei City | C7: 1 | D7: 1 | E7: 0 | F7: 0
A8: 臺北市 | B8: Taipei City | C8: 0 | D8: 0 | E8: 0 | F8: 0
A9: 桃園市 | B9: Taoyuan City | C9: 2 | D9: 0 | E9: 2 | F9: 0
A10: 臺中市 | B10: Taichung City | C10: 2 | D10: 2 | E10: 0 | F10: 0
A11: 臺南市 | B11: Tainan City | C11: 0 | D11: 0 | E11: 0 | F11: 0
A12: 高雄市 | B12: Kaohsiung City | C12: 0 | D12: 0 | E12: 0 | F12: 0
A13: 宜蘭縣 | B13: Yilan County | C13: 2 | D13: 2 | E13: 0 | F13: 0
A14: 新竹縣 | B14: Hsinchu County | C14: 0 | D14: 0 | E14: 0 | F14: 0
A15: 苗栗縣 | B15: Miaoli County | C15: 3 | D15: 0 | E15: 0 | F15: 3
A16: 彰化縣 | B16: Changhua County | C16: 0 | D16: 0 | E16: 0 | F16: 0
A17: 南投縣 | B17: Nantou County | C17: 0 | D17: 0 | E17: 0 | F17: 0
... A28: 連江縣 | B28: Lienchiang County | C28: 0 | D28: 0 | E28: 0 | F28: 0
A29: 資料來源：各直轄市、縣市政府。
A32: 總計 | B32: Total | C32: 12 | D32: 6 | E32: 3 | F32: 3
A33: 新北市 | B33: New Taipei City | C33: 1 | D33: 1 | E33: 0 | F33: 0
A34: 臺北市 | B34: Taipei City | C34: 0 | D34: 0 | E34: 0 | F34: 0
A35: 桃園市 | B35: Taoyuan City | C35: 1 | D35: 0 | E35: 1 | F35: 0
A36: 臺中市 | B36: Taichung City | C36: 2 | D36: 2 | E36: 0 | F36: 0
A37: 臺南市 | B37: Tainan City | C37: 0 | D37: 0 | E37: 0 | F37: 0
A38: 高雄市 | B38: Kaohsiung City | C38: 0 | D38: 0 | E38: 0 | F38: 0
A39: 宜蘭縣 | B39: Yilan County | C39: 0 | D39: 0 | E39: 0 | F39: 0
A40: 新竹縣 | B40: Hsinchu County | C40: 0 | D40: 0 | E40: 0 | F40: 0
A41: 苗栗縣 | B41: Miaoli County | C41: 3 | D41: 0 | E41: 0 | F41: 3
A42: 彰化縣 | B42: Changhua County | C42: 0 | D42: 0 | E42: 0 | F42: 0
A43: 南投縣 | B43: Nantou County | C43: 2 | D43: 0 | E43: 2 | F43: 0
... A54: 連江縣 | B54: Lienchiang County | C54: 0 | D54: 0 | E54: 0 | F54: 0
A56: 總計 | B56: Total | C56: =IF(C32=C6,"","*") -> * | D56: =IF(D32=D6,"","*") -> * | E56: =IF(E32=E6,"","*") -> * | F56: =IF(F32=F6,"","*")
A57: 新 北 市 | B57: New Taipei City | C57: =IF(C33=C7,"","*") | D57: =IF(D33=D7,"","*") | E57: =IF(E33=E7,"","*") | F57: =IF(F33=F7,"","*")
A58: 臺 北 市 | B58: Taipei City | C58: =IF(C34=C8,"","*") | D58: =IF(D34=D8,"","*") | E58: =IF(E34=E8,"","*") | F58: =IF(F34=F8,"","*")
A59: 桃 園 市 | B59: Taoyuan City | C59: =IF(C35=C9,"","*") -> * | D59: =IF(D35=D9,"","*") | E59: =IF(E35=E9,"","*") -> * | F59: =IF(F35=F9,"","*")
A60: 臺 中 市 | B60: Taichung City | C60: =IF(C36=C10,"","*") | D60: =IF(D36=D10,"","*") | E60: =IF(E36=E10,"","*") | F60: =IF(F36=F10,"","*")
A61: 臺 南 市 | B61: Tainan City | C61: =IF(C37=C11,"","*") | D61: =IF(D37=D11,"","*") | E61: =IF(E37=E11,"","*") | F61: =IF(F37=F11,"","*")
A62: 高 雄 市 | B62: Kaohsiung City | C62: =IF(C38=C12,"","*") | D62: =IF(D38=D12,"","*") | E62: =IF(E38=E12,"","*") | F62: =IF(F38=F12,"","*")
A63: 宜蘭縣 | B63: Yilan County | C63: =IF(C39=C13,"","*") -> * | D63: =IF(D39=D13,"","*") -> * | E63: =IF(E39=E13,"","*") | F63: =IF(F39=F13,"","*")
A64: 新竹縣 | B64: Hsinchu County | C64: =IF(C40=C14,"","*") | D64: =IF(D40=D14,"","*") | E64: =IF(E40=E14,"","*") | F64: =IF(F40=F14,"","*")
A65: 苗栗縣 | B65: Miaoli County | C65: =IF(C41=C15,"","*") | D65: =IF(D41=D15,"","*") | E65: =IF(E41=E15,"","*") | F65: =IF(F41=F15,"","*")
A66: 彰化縣 | B66: Changhua County | C66: =IF(C42=C16,"","*") | D66: =IF(D42=D16,"","*") | E66: =IF(E42=E16,"","*") | F66: =IF(F42=F16,"","*")
A67: 南投縣 | B67: Nantou County | C67: =IF(C43=C17,"","*") -> * | D67: =IF(D43=D17,"","*") | E67: =IF(E43=E17,"","*") -> * | F67: =IF(F43=F17,"","*")
... A78: 連江縣 | B78: Lienchiang County | C78: =IF(C54=C28,"","*") | D78: =IF(D54=D28,"","*") | E78: =IF(E54=E28,"","*") | F78: =IF(F54=F28,"","*")

Sheet 2024
A1: 兒童及少年保護-遭父母、照顧者等家庭成員施虐死亡之人數及原因
A2: 單位：人 Unit : Persons
A3: 民國113年, 2024 | C3: =IF(C6=SUM(C7:C28),"",SUM(C7:C28)) | D3: =IF(D6=SUM(D7:D28),"",SUM(D7:D28)) | E3: =IF(E6=SUM(E7:E28),"",SUM(E7:E28)) | F3: =IF(F6=SUM(F7:F28),"",SUM(F7:F28))
A4: 區域別 Locality | C4: 家內受虐致死
C5: 總計 | D5: 遭嚴重虐待死亡 | E5: 遭嚴重疏忽死亡 | F5: 遭殺子自殺
A6: 總計 | B6: Total | C6: 30 | D6: 14 | E6: 4 | F6: 12
A7: 新北市 | B7: New Taipei City | C7: 9 | D7: 4 | E7: 0 | F7: 5
A8: 臺北市 | B8: Taipei City | C8: 0 | D8: 0 | E8: 0 | F8: 0
A9: 桃園市 | B9: Taoyuan City | C9: 0 | D9: 0 | E9: 0 | F9: 0
A10: 臺中市 | B10: Taichung City | C10: 4 | D10: 2 | E10: 0 | F10: 2
A11: 臺南市 | B11: Tainan City | C11: 2 | D11: 1 | E11: 0 | F11: 1
A12: 高雄市 | B12: Kaohsiung City | C12: 12 | D12: 6 | E12: 2 | F12: 4
A13: 宜蘭縣 | B13: Yilan County | C13: 0 | D13: 0 | E13: 0 | F13: 0
A14: 新竹縣 | B14: Hsinchu County | C14: 0 | D14: 0 | E14: 0 | F14: 0
A15: 苗栗縣 | B15: Miaoli County | C15: 0 | D15: 0 | E15: 0 | F15: 0
A16: 彰化縣 | B16: Changhua County | C16: 0 | D16: 0 | E16: 0 | F16: 0
A17: 南投縣 | B17: Nantou County | C17: 0 | D17: 0 | E17: 0 | F17: 0
... A28: 連江縣 | B28: Lienchiang County | C28: 0 | D28: 0 | E28: 0 | F28: 0
A29: 資料來源：各直轄市、縣市政府。

Sheet 2023
A1: 兒童及少年保護-遭父母、照顧者等家庭成員施虐死亡之人數及原因
A2: 單位：人 Unit : Persons
A3: 民國112年, 2023 | C3: =IF(C6=SUM(C7:C28),"",SUM(C7:C28)) | D3: =IF(D6=SUM(D7:D28),"",SUM(D7:D28)) | E3: =IF(E6=SUM(E7:E28),"",SUM(E7:E28)) | F3: =IF(F6=SUM(F7:F28),"",SUM(F7:F28))
A4: 區域別 Locality | C4: 家內受虐致死
C5: 總計 | D5: 遭嚴重虐待死亡 | E5: 遭嚴重疏忽死亡 | F5: 遭殺子自殺
A6: 總計 | B6: Total | C6: 21 | D6: 9 | E6: 4 | F6: 8
A7: 新北市 | B7: New Taipei City | C7: 2 | D7: 0 | E7: 2 | F7: 0
A8: 臺北市 | B8: Taipei City | C8: 1 | D8: 0 | E8: 0 | F8: 1
A9: 桃園市 | B9: Taoyuan City | C9: 3 | D9: 3 | E9: 0 | F9: 0
A10: 臺中市 | B10: Taichung City | C10: 4 | D10: 2 | E10: 0 | F10: 2
A11: 臺南市 | B11: Tainan City | C11: 1 | D11: 1 | E11: 0 | F11: 0
A12: 高雄市 | B12: Kaohsiung City | C12: 1 | D12: 1 | E12: 0 | F12: 0
A13: 宜蘭縣 | B13: Yilan County | C13: 0 | D13: 0 | E13: 0 | F13: 0
A14: 新竹縣 | B14: Hsinchu County | C14: 1 | D14: 0 | E14: 1 | F14: 0
A15: 苗栗縣 | B15: Miaoli County | C15: 4 | D15: 0 | E15: 0 | F15: 4
A16: 彰化縣 | B16: Changhua County | C16: 0 | D16: 0 | E16: 0 | F16: 0
A17: 南投縣 | B17: Nantou County | C17: 0 | D17: 0 | E17: 0 | F17: 0
... A28: 連江縣 | B28: Lienchiang County | C28: 0 | D28: 0 | E28: 0 | F28: 0
A29: 資料來源：各直轄市、縣市政府。

Sheet 2022
A1: 兒童及少年保護-遭父母、照顧者等家庭成員施虐死亡之人數及原因
A2: 單位：人 Unit : Persons
A3: 民國111年, 2022 | C3: =IF(C6=SUM(C7:C28),"",SUM(C7:C28)) | D3: =IF(D6=SUM(D7:D28),"",SUM(D7:D28)) | E3: =IF(E6=SUM(E7:E28),"",SUM(E7:E28)) | F3: =IF(F6=SUM(F7:F28),"",SUM(F7:F28))
A4: 區域別 Locality | C4: 家內受虐致死
C5: 總計 | D5: 遭嚴重虐待死亡 | E5: 遭嚴重疏忽死亡 | F5: 遭殺子自殺
A6: 總計 | B6: Total | C6: 14 | D6: 4 | E6: 6 | F6: 4
A7: 新北市 | B7: New Taipei City | C7: 2 | D7: 1 | E7: 0 | F7: 1
A8: 臺北市 | B8: Taipei City | C8: 0 | D8: 0 | E8: 0 | F8: 0
A9: 桃園市 | B9: Taoyuan City | C9: 4 | D9: 1 | E9: 3 | F9: 0
A10: 臺中市 | B10: Taichung City | C10: 3 | D10: 1 | E10: 0 | F10: 2
A11: 臺南市 | B11: Tainan City | C11: 1 | D11: 0 | E11: 1 | F11: 0
A12: 高雄市 | B12: Kaohsiung City | C12: 1 | D12: 1 | E12: 0 | F12: 0
A13: 宜蘭縣 | B13: Yilan County | C13: 0 | D13: 0 | E13: 0 | F13: 0
A14: 新竹縣 | B14: Hsinchu County | C14: 0 | D14: 0 | E14: 0 | F14: 0
A15: 苗栗縣 | B15: Miaoli County | C15: 0 | D15: 0 | E15: 0 | F15: 0
A16: 彰化縣 | B16: Changhua County | C16: 0 | D16: 0 | E16: 0 | F16: 0
A17: 南投縣 | B17: Nantou County | C17: 1 | D17: 0 | E17: 0 | F17: 1
... A28: 連江縣 | B28: Lienchiang County | C28: 0 | D28: 0 | E28: 0 | F28: 0
A29: 資料來源：各直轄市、縣市政府。

Sheet 2021
A1: 兒童及少年保護-遭父母、照顧者等家庭成員施虐死亡之人數及原因
A2: 單位：人 Unit : Persons
A3: 民國110年, 2021 | C3: =IF(C6=SUM(C7:C28),"",SUM(C7:C28)) | D3: =IF(D6=SUM(D7:D28),"",SUM(D7:D28)) | E3: =IF(E6=SUM(E7:E28),"",SUM(E7:E28)) | F3: =IF(F6=SUM(F7:F28),"",SUM(F7:F28))
A4: 區域別 Locality | C4: 家內受虐致死
C5: 總計 | D5: 遭嚴重虐待死亡 | E5: 遭嚴重疏忽死亡 | F5: 遭殺子自殺
A6: 總計 | B6: Total | C6: 23 | D6: 9 | E6: 6 | F6: 8
A7: 新北市 | B7: New Taipei City | C7: 2 | D7: 0 | E7: 1 | F7: 1
A8: 臺北市 | B8: Taipei City | C8: 0 | D8: 0 | E8: 0 | F8: 0
A9: 桃園市 | B9: Taoyuan City | C9: 5 | D9: 2 | E9: 2 | F9: 1
A10: 臺中市 | B10: Taichung City | C10: 4 | D10: 2 | E10: 0 | F10: 2
A11: 臺南市 | B11: Tainan City | C11: 3 | D11: 1 | E11: 1 | F11: 1
A12: 高雄市 | B12: Kaohsiung City | C12: 0 | D12: 0 | E12: 0 | F12: 0
A13: 宜蘭縣 | B13: Yilan County | C13: 0 | D13: 0 | E13: 0 | F13: 0
A14: 新竹縣 | B14: Hsinchu County | C14: 2 | D14: 1 | E14: 0 | F14: 1
A15: 苗栗縣 | B15: Miaoli County | C15: 3 | D15: 1 | E15: 0 | F15: 2
A16: 彰化縣 | B16: Changhua County | C16: 0 | D16: 0 | E16: 0 | F16: 0
A17: 南投縣 | B17: Nantou County | C17: 1 | D17: 0 | E17: 1 | F17: 0
... A28: 連江縣 | B28: Lienchiang County | C28: 0 | D28: 0 | E28: 0 | F28: 0
A29: 資料來源：各直轄市、縣市政府。

Sheet 2020
A1: 兒童及少年保護-遭父母、照顧者等家庭成員施虐死亡之人數及原因
A2: 單位：人 Unit : Persons
A3: 民國109年, 2020
A4: 區域別 Locality | C4: 家內受虐致死
C5: 總計 | D5: 遭嚴重虐待死亡 | E5: 遭嚴重疏忽死亡 | F5: 遭殺子自殺
A6: 總計 | B6: Total | C6: 22 | D6: 7 | E6: 4 | F6: 11
A7: 新北市 | B7: New Taipei City | C7: 2 | D7: 0 | E7: 0 | F7: 2
A8: 臺北市 | B8: Taipei City | C8: 1 | D8: 0 | E8: 0 | F8: 1
A9: 桃園市 | B9: Taoyuan City | C9: 4 | D9: 3 | E9: 0 | F9: 1
A10: 臺中市 | B10: Taichung City | C10: 1 | D10: 1 | E10: 0 | F10: 0
A11: 臺南市 | B11: Tainan City | C11: 1 | D11: 0 | E11: 1 | F11: 0
A12: 高雄市 | B12: Kaohsiung City | C12: 3 | D12: 1 | E12: 1 | F12: 1
A13: 宜蘭縣 | B13: Yilan County | C13: 0 | D13: 0 | E13: 0 | F13: 0
A14: 新竹縣 | B14: Hsinchu County | C14: 0 | D14: 0 | E14: 0 | F14: 0
A15: 苗栗縣 | B15: Miaoli County | C15: 1 | D15: 0 | E15: 0 | F15: 1
A16: 彰化縣 | B16: Changhua County | C16: 4 | D16: 0 | E16: 1 | F16: 3
A17: 南投縣 | B17: Nantou County | C17: 3 | D17: 1 | E17: 0 | F17: 2
... A28: 連江縣 | B28: Lienchiang County | C28: 0 | D28: 0 | E28: 0 | F28: 0
A29: 資料來源：各直轄市、縣市政府。

Sheet 2019
A1: 兒童及少年保護-遭父母、照顧者等家庭成員施虐死亡之人數及原因
A2: 單位：人 Unit : Persons
A3: 108年, 2019
A4: 區域別 Locality | C4: 家內受虐致死
C5: 總計 | D5: 遭嚴重虐待死亡 | E5: 遭嚴重疏忽死亡 | F5: 遭殺子自殺
A6: 總計 | B6: Total | C6: 23 | D6: 8 | E6: 2 | F6: 13
A7: 新北市 | B7: New Taipei City | C7: 4 | D7: 1 | E7: 0 | F7: 3
A8: 臺北市 | B8: Taipei City | C8: 2 | D8: 1 | E8: 1 | F8: 0
A9: 桃園市 | B9: Taoyuan City | C9: 1 | D9: 1 | E9: 0 | F9: 0
A10: 臺中市 | B10: Taichung City | C10: 7 | D10: 3 | E10: 0 | F10: 4
A11: 臺南市 | B11: Tainan City | C11: 3 | D11: 1 | E11: 0 | F11: 2
A12: 高雄市 | B12: Kaohsiung City | C12: 3 | D12: 0 | E12: 0 | F12: 3
A13: 宜蘭縣 | B13: Yilan County | C13: 0 | D13: 0 | E13: 0 | F13: 0
A14: 新竹縣 | B14: Hsinchu County | C14: 0 | D14: 0 | E14: 0 | F14: 0
A15: 苗栗縣 | B15: Miaoli County | C15: 1 | D15: 1 | E15: 0 | F15: 0
A16: 彰化縣 | B16: Changhua County | C16: 1 | D16: 0 | E16: 1 | F16: 0
A17: 南投縣 | B17: Nantou County | C17: 0 | D17: 0 | E17: 0 | F17: 0
... A28: 連江縣 | B28: Lienchiang County | C28: 0 | D28: 0 | E28: 0 | F28: 0
A29: 資料來源：各直轄市、縣市政府。
A32: 總計 | B32: Total | C32: 1 | D32: 2 | E32: 6 | F32: 0
A33: 新 北 市 | B33: New Taipei City | C33: 0 | D33: 0 | E33: 1 | F33: 0
A34: 臺 北 市 | B34: Taipei City | C34: 0 | D34: 0 | E34: 2 | F34: 0
A35: 桃 園 市 | B35: Taoyuan City | C35: 0 | D35: 0 | E35: 0 | F35: 0
A36: 臺 中 市 | B36: Taichung City | C36: 1 | D36: 1 | E36: 0 | F36: 0
A37: 臺 南 市 | B37: Tainan City | C37: 0 | D37: 0 | E37: 0 | F37: 0
A38: 高 雄 市 | B38: Kaohsiung City | C38: 0 | D38: 0 | E38: 0 | F38: 0
A39: 臺 灣 省 | B39: Taiwan Prov. | C39: 0 | D39: 1 | E39: 3 | F39: 0
A40: 宜蘭縣 | B40: Yilan County | C40: 0 | D40: 0 | E40: 0 | F40: 0
A41: 新竹縣 | B41: Hsinchu County | C41: 0 | D41: 0 | E41: 0 | F41: 0
A42: 總計 | B42: Total
A43: 新北市 | B43: New Taipei City
A44: 臺北市 | B44: Taipei City
A45: 桃園市 | B45: Taoyuan City
A46: 臺中市 | B46: Taichung City
A47: 臺南市 | B47: Tainan City
A48: 高雄市 | B48: Kaohsiung City
A49: 宜蘭縣 | B49: Yilan County
A50: 新竹縣 | B50: Hsinchu County
A51: 苗栗縣 | B51: Miaoli County
A52: 彰化縣 | B52: Changhua County
A53: 南投縣 | B53: Nantou County
... A64: 連江縣 | B64: Lienchiang County
A65: 資料來源：各直轄市、縣市政府。
A66: Source: County and Government.
A68: 更新日期：2018/3/31

Sheet 2018
A1: 家內兒童及少年保護案件-死亡人數及原因 Intra-family Child and Youth Protection Cases – Number of Deaths and Causes
A2: 單位：人 Unit : Persons
A3: 107年, 2018
A4: 區域別 Locality | C4: 總計 | D4: 遭父母(監護人、照顧者)虐待死亡 | E4: 遭父母(監護人、照顧者)嚴重疏忽死亡 | F4: 父母(監護人、照顧者)殺害兒少後自殺
A5: 總計 | B5: Total | C5: 15 | D5: 6 | E5: 4 | F5: 5
A6: 新北市 | B6: New Taipei City | C6: 2 | D6: 1 | E6: 1 | F6: 0
A7: 臺北市 | B7: Taipei City | C7: 2 | D7: 0 | E7: 2 | F7: 0
A8: 桃園市 | B8: Taoyuan City | C8: 4 | D8: 1 | E8: 0 | F8: 3
A9: 臺中市 | B9: Taichung City | C9: 2 | D9: 0 | E9: 1 | F9: 1
A10: 臺南市 | B10: Tainan City | C10: 0 | D10: 0 | E10: 0 | F10: 0
A11: 高雄市 | B11: Kaohsiung City | C11: 1 | D11: 1 | E11: 0 | F11: 0
A12: 宜蘭縣 | B12: Yilan County | C12: 0 | D12: 0 | E12: 0 | F12: 0
A13: 新竹縣 | B13: Hsinchu County | C13: 0 | D13: 0 | E13: 0 | F13: 0
A14: 苗栗縣 | B14: Miaoli County | C14: 0 | D14: 0 | E14: 0 | F14: 0
A15: 彰化縣 | B15: Changhua County | C15: 2 | D15: 2 | E15: 0 | F15: 0
A16: 南投縣 | B16: Nantou County | C16: 0 | D16: 0 | E16: 0 | F16: 0
... A27: 連江縣 | B27: Lienchiang County | C27: 0 | D27: 0 | E27: 0 | F27: 0
A29: 資料來源：各直轄市、縣市政府。
A32: 總計 | B32: Total | C32: 1 | D32: 2 | E32: 6 | F32: 0
A33: 新 北 市 | B33: New Taipei City | C33: 0 | D33: 0 | E33: 1 | F33: 0
A34: 臺 北 市 | B34: Taipei City | C34: 0 | D34: 0 | E34: 2 | F34: 0
A35: 桃 園 市 | B35: Taoyuan City | C35: 0 | D35: 0 | E35: 0 | F35: 0
A36: 臺 中 市 | B36: Taichung City | C36: 1 | D36: 1 | E36: 0 | F36: 0
A37: 臺 南 市 | B37: Tainan City | C37: 0 | D37: 0 | E37: 0 | F37: 0
A38: 高 雄 市 | B38: Kaohsiung City | C38: 0 | D38: 0 | E38: 0 | F38: 0
A39: 臺 灣 省 | B39: Taiwan Prov. | C39: 0 | D39: 1 | E39: 3 | F39: 0
A40: 宜蘭縣 | B40: Yilan County | C40: 0 | D40: 0 | E40: 0 | F40: 0
A41: 新竹縣 | B41: Hsinchu County | C41: 0 | D41: 0 | E41: 0 | F41: 0
A42: 總計 | B42: Total
A43: 新北市 | B43: New Taipei City
A44: 臺北市 | B44: Taipei City
A45: 桃園市 | B45: Taoyuan City
A46: 臺中市 | B46: Taichung City
A47: 臺南市 | B47: Tainan City
A48: 高雄市 | B48: Kaohsiung City
A49: 宜蘭縣 | B49: Yilan County
A50: 新竹縣 | B50: Hsinchu County
A51: 苗栗縣 | B51: Miaoli County
A52: 彰化縣 | B52: Changhua County
A53: 南投縣 | B53: Nantou County
... A64: 連江縣 | B64: Lienchiang County
A65: 資料來源：各直轄市、縣市政府。
A66: Source: County and Government.
A68: 更新日期：2018/3/31

Sheet 2017
A1: 家內兒童及少年保護案件-受虐死亡人數及原因 Intra-family Child and Youth Protection Cases – Number of Deaths and Causes
A2: 單位：人 Unit : Persons
A3: 106年, 2017
A4: 區域別 Locality | C4: 總計 | D4: 遭父母(監護人、照顧者)虐待死亡 | E4: 遭父母(監護人、照顧者)嚴重疏忽死亡 | F4: 父母(監護人、照顧者)殺害兒少後自殺
A5: 總計 | B5: Total | C5: 29 | D5: 13 | E5: 3 | F5: 13
A6: 新北市 | B6: New Taipei City | C6: 4 | D6: 2 | E6: 0 | F6: 2
A7: 臺北市 | B7: Taipei City | C7: 2 | D7: 0 | E7: 0 | F7: 2
A8: 桃園市 | B8: Taoyuan City | C8: 1 | D8: 0 | E8: 1 | F8: 0
A9: 臺中市 | B9: Taichung City | C9: 6 | D9: 3 | E9: 1 | F9: 2
A10: 臺南市 | B10: Tainan City | C10: 3 | D10: 0 | E10: 0 | F10: 3
A11: 高雄市 | B11: Kaohsiung City | C11: 5 | D11: 3 | E11: 1 | F11: 1
A12: 宜蘭縣 | B12: Yilan County | C12: 0 | D12: 0 | E12: 0 | F12: 0
A13: 新竹縣 | B13: Hsinchu County | C13: 0 | D13: 0 | E13: 0 | F13: 0
A14: 苗栗縣 | B14: Miaoli County | C14: 1 | D14: 1 | E14: 0 | F14: 0
A15: 彰化縣 | B15: Changhua County | C15: 0 | D15: 0 | E15: 0 | F15: 0
A16: 南投縣 | B16: Nantou County | C16: 0 | D16: 0 | E16: 0 | F16: 0
... A27: 連江縣 | B27: Lienchiang County | C27: 0 | D27: 0 | E27: 0 | F27: 0
A29: 資料來源：各直轄市、縣市政府。

Sheet 2016
A1: 兒童少年保護-死亡人數及原因Child and Youth Protection Cases – Number of Deaths and Causes
A3: 105年, 2016
A4: 區域及特殊族群別 Locality & Ethnos | D4: 個案死亡因素 (不限受虐致死，尚含生病、意外或其他原因死亡者) Dead
D7: 男 Male | E7: 女 Female
A8: 總計 | B8: 計 | C8: Total | D8: 67 | E8: 60
A9: Total | B9: 一般 | C9: General | D9: 62 | E9: 53
B10: 原住民 | C10: Aborigines | D10: 5 | E10: 7
A11: 新 北 市 | B11: 計 | C11: Total | D11: 14 | E11: 7
A12: New Taipei City | B12: 一般 | C12: General | D12: 14 | E12: 6
B13: 原住民 | C13: Aborigines | D13: 0 | E13: 1
A14: 臺 北 市 | B14: 計 | C14: Total | D14: 5 | E14: 6
A15: Taipei City | B15: 一般 | C15: General | D15: 5 | E15: 6
B16: 原住民 | C16: Aborigines | D16: 0 | E16: 0
A17: 桃 園 市 | B17: 計 | C17: Total | D17: 3 | E17: 3
A18: Taoyuan City | B18: 一般 | C18: General | D18: 3 | E18: 3
B19: 原住民 | C19: Aborigines | D19: 0 | E19: 0
A20: 臺 中 市 | B20: 計 | C20: Total | D20: 10 | E20: 10
A21: Taichung City | B21: 一般 | C21: General | D21: 9 | E21: 10
B22: 原住民 | C22: Aborigines | D22: 1 | E22: 0
A23: 臺 南 市 | B23: 計 | C23: Total | D23: 7 | E23: 1
A24: Tainan City | B24: 一般 | C24: General | D24: 7 | E24: 1
B25: 原住民 | C25: Aborigines | D25: 0 | E25: 0
A26: 高 雄 市 | B26: 計 | C26: Total | D26: 12 | E26: 11
A27: Kaohsiung City | B27: 一般 | C27: General | D27: 12 | E27: 9
B28: 原住民 | C28: Aborigines | D28: 0 | E28: 2
A29: 宜蘭縣 | B29: 計 | C29: Total | D29: 0 | E29: 0
A30: Yilan County | B30: 一般 | C30: General | D30: 0 | E30: 0
B31: 原住民 | C31: Aborigines | D31: 0 | E31: 0
A32: 新竹縣 | B32: 計 | C32: Total | D32: 5 | E32: 3
A33: Hsinchu County | B33: 一般 | C33: General | D33: 4 | E33: 1
B34: 原住民 | C34: Aborigines | D34: 1 | E34: 2
A35: 苗栗縣 | B35: 計 | C35: Total | D35: 1 | E35: 2
A36: Miaoli County | B36: 一般 | C36: General | D36: 1 | E36: 2
B37: 原住民 | C37: Aborigines | D37: 0 | E37: 0
A38: 彰化縣 | B38: 計 | C38: Total | D38: 2 | E38: 3
A39: Changhua County | B39: 一般 | C39: General | D39: 2 | E39: 3
B40: 原住民 | C40: Aborigines | D40: 0 | E40: 0
A41: 南投縣 | B41: 計 | C41: Total | D41: 1 | E41: 0
A42: Nantou County | B42: 一般 | C42: General | D42: 1 | E42: 0
B43: 原住民 | C43: Aborigines | D43: 0 | E43: 0
A44: 雲林縣 | B44: 計 | C44: Total | D44: 0 | E44: 2
A45: Yunlin County | B45: 一般 | C45: General | D45: 0 | E45: 2
B46: 原住民 | C46: Aborigines | D46: 0 | E46: 0
A47: 嘉義縣 | B47: 計 | C47: Total | D47: 2 | E47: 1
A48: Chiayi County | B48: 一般 | C48: General | D48: 1 | E48: 1
B49: 原住民 | C49: Aborigines | D49: 1 | E49: 0
A50: 屏東縣 | B50: 計 | C50: Total | D50: 3 | E50: 1
A51: Pingtung County | B51: 一般 | C51: General | D51: 3 | E51: 1
B52: 原住民 | C52: Aborigines | D52: 0 | E52: 0
A53: 臺東縣 | B53: 計 | C53: Total | D53: 1 | E53: 1
A54: Taitung County | B54: 一般 | C54: General | D54: 0 | E54: 0
B55: 原住民 | C55: Aborigines | D55: 1 | E55: 1
A56: 花蓮縣 | B56: 計 | C56: Total | D56: 1 | E56: 2
A57: Hualien County | B57: 一般 | C57: General | D57: 0 | E57: 1
B58: 原住民 | C58: Aborigines | D58: 1 | E58: 1
A59: 澎湖縣 | B59: 計 | C59: Total | D59: 0 | E59: 0
A60: Penghu County | B60: 一般 | C60: General | D60: 0 | E60: 0
B61: 原住民 | C61: Aborigines | D61: 0 | E61: 0
A62: 基隆市 | B62: 計 | C62: Total | D62: 0 | E62: 3
A63: Keelung City | B63: 一般 | C63: General | D63: 0 | E63: 3
B64: 原住民 | C64: Aborigines | D64: 0 | E64: 0
A65: 新竹市 | B65: 計 | C65: Total | D65: 0 | E65: 1
A66: Hsinchu City | B66: 一般 | C66: General | D66: 0 | E66: 1
B67: 原住民 | C67: Aborigines | D67: 0 | E67: 0
A68: 嘉義市 | B68: 計 | C68: Total | D68: 0 | E68: 2
A69: Chiayi City | B69: 一般 | C69: General | D69: 0 | E69: 2
B70: 原住民 | C70: Aborigines | D70: 0 | E70: 0
A71: 金門縣 | B71: 計 | C71: Total | D71: 0 | E71: 1
A72: Kinmen County | B72: 一般 | C72: General | D72: 0 | E72: 1
B73: 原住民 | C73: Aborigines | D73: 0 | E73: 0
A74: 連江縣 | B74: 計 | C74: Total | D74: 0 | E74: 0
A75: Lienchiang County | B75: 一般 | C75: General | D75: 0 | E75: 0
B76: 原住民 | C76: Aborigines | D76: 0 | E76: 0
A78: Source: County and Government.
A79: 更新日期：2017/3/9

Sheet 2015
A1: 兒童少年保護-死亡人數Child and Youth Protection – Number of Deaths
A3: 104年, 2015
A4: 區域及特殊族群別 Locality & Ethnos | D4: 死亡 (不限受虐致死，尚含生病、意外或其他原因死亡者) Dead
D7: 男 Male | E7: 女 Female
A8: 總計 | B8: 計 | C8: Total | D8: 38 | E8: 30
A9: Total | B9: 一般 | C9: General | D9: 35 | E9: 28
B10: 原住民 | C10: Aborigines | D10: 3 | E10: 2
A11: 新 北 市 | B11: 計 | C11: Total | D11: 3 | E11: 1
A12: New Taipei City | B12: 一般 | C12: General | D12: 3 | E12: 1
B13: 原住民 | C13: Aborigines | D13: 0 | E13: 0
A14: 臺 北 市 | B14: 計 | C14: Total | D14: 2 | E14: 5
A15: Taipei City | B15: 一般 | C15: General | D15: 2 | E15: 5
B16: 原住民 | C16: Aborigines | D16: 0 | E16: 0
A17: 桃 園 市 | B17: 計 | C17: Total | D17: 5 | E17: 2
A18: Taoyuan City | B18: 一般 | C18: General | D18: 4 | E18: 2
B19: 原住民 | C19: Aborigines | D19: 1 | E19: 0
A20: 臺 中 市 | B20: 計 | C20: Total | D20: 3 | E20: 3
A21: Taichung City | B21: 一般 | C21: General | D21: 3 | E21: 3
B22: 原住民 | C22: Aborigines | D22: 0 | E22: 0
A23: 臺 南 市 | B23: 計 | C23: Total | D23: 4 | E23: 2
A24: Tainan City | B24: 一般 | C24: General | D24: 4 | E24: 2
B25: 原住民 | C25: Aborigines | D25: 0 | E25: 0
A26: 高 雄 市 | B26: 計 | C26: Total | D26: 5 | E26: 2
A27: Kaohsiung City | B27: 一般 | C27: General | D27: 4 | E27: 2
B28: 原住民 | C28: Aborigines | D28: 1 | E28: 0
A29: 宜蘭縣 | B29: 計 | C29: Total | D29: 1 | E29: 2
A30: Yilan County | B30: 一般 | C30: General | D30: 1 | E30: 2
B31: 原住民 | C31: Aborigines | D31: 0 | E31: 0
A32: 新竹縣 | B32: 計 | C32: Total | D32: 2 | E32: 4
A33: Hsinchu County | B33: 一般 | C33: General | D33: 2 | E33: 3
B34: 原住民 | C34: Aborigines | D34: 0 | E34: 1
A35: 苗栗縣 | B35: 計 | C35: Total | D35: 1 | E35: 2
A36: Miaoli County | B36: 一般 | C36: General | D36: 1 | E36: 2
B37: 原住民 | C37: Aborigines | D37: 0 | E37: 0
A38: 彰化縣 | B38: 計 | C38: Total | D38: 2 | E38: 0
A39: Changhua County | B39: 一般 | C39: General | D39: 2 | E39: 0
B40: 原住民 | C40: Aborigines | D40: 0 | E40: 0
A41: 南投縣 | B41: 計 | C41: Total | D41: 0 | E41: 0
A42: Nantou County | B42: 一般 | C42: General | D42: 0 | E42: 0
B43: 原住民 | C43: Aborigines | D43: 0 | E43: 0
A44: 雲林縣 | B44: 計 | C44: Total | D44: 1 | E44: 3
A45: Yunlin County | B45: 一般 | C45: General | D45: 1 | E45: 3
B46: 原住民 | C46: Aborigines | D46: 0 | E46: 0
A47: 嘉義縣 | B47: 計 | C47: Total | D47: 3 | E47: 0
A48: Chiayi County | B48: 一般 | C48: General | D48: 3 | E48: 0
B49: 原住民 | C49: Aborigines | D49: 0 | E49: 0
A50: 屏東縣 | B50: 計 | C50: Total | D50: 2 | E50: 1
A51: Pingtung County | B51: 一般 | C51: General | D51: 1 | E51: 1
B52: 原住民 | C52: Aborigines | D52: 1 | E52: 0
A53: 臺東縣 | B53: 計 | C53: Total | D53: 0 | E53: 1
A54: Taitung County | B54: 一般 | C54: General | D54: 0 | E54: 1
B55: 原住民 | C55: Aborigines | D55: 0 | E55: 0
A56: 花蓮縣 | B56: 計 | C56: Total | D56: 0 | E56: 2
A57: Hualien County | B57: 一般 | C57: General | D57: 0 | E57: 1
B58: 原住民 | C58: Aborigines | D58: 0 | E58: 1
A59: 澎湖縣 | B59: 計 | C59: Total | D59: 0 | E59: 0
A60: Penghu County | B60: 一般 | C60: General | D60: 0 | E60: 0
B61: 原住民 | C61: Aborigines | D61: 0 | E61: 0
A62: 基隆市 | B62: 計 | C62: Total | D62: 3 | E62: 0
A63: Keelung City | B63: 一般 | C63: General | D63: 3 | E63: 0
B64: 原住民 | C64: Aborigines | D64: 0 | E64: 0
A65: 新竹市 | B65: 計 | C65: Total | D65: 0 | E65: 0
A66: Hsinchu City | B66: 一般 | C66: General | D66: 0 | E66: 0
B67: 原住民 | C67: Aborigines | D67: 0 | E67: 0
A68: 嘉義市 | B68: 計 | C68: Total | D68: 1 | E68: 0
A69: Chiayi City | B69: 一般 | C69: General | D69: 1 | E69: 0
B70: 原住民 | C70: Aborigines | D70: 0 | E70: 0
A71: 金門縣 | B71: 計 | C71: Total | D71: 0 | E71: 0
A72: Kinmen County | B72: 一般 | C72: General | D72: 0 | E72: 0
B73: 原住民 | C73: Aborigines | D73: 0 | E73: 0
A74: 連江縣 | B74: 計 | C74: Total | D74: 0 | E74: 0
A75: Lienchiang County | B75: 一般 | C75: General | D75: 0 | E75: 0
B76: 原住民 | C76: Aborigines | D76: 0 | E76: 0
A78: Source: County and Government.
A79: 更新日期：2016/3/8
