Workbook

Sheet 歷年
A1: 兒童少年保護-調查處理及服務 Child and Youth Protection Cases - Number of Investigation and Service
A3: 單位：件；人 Unit : Cases,Persons
A4: 年別 Year | B4: 通報調查處理 | D4: 提供後續處遇服務人數(人數) | H4: 經調查評估後 無後續服務需求(人數) | I4: 提供服務率 (B/A)%
B5: 件數 | C5: 人數(A) | D5: 總計(B) | E5: 保護服務 | F5: 福利服務 | G5: 轉介其他資源
A6: 108年, 2019 | B6: ='2019'!C6 -> 39009 | C6: ='2019'!D6 -> 40705 | D6: ='2019'!E6 -> 27716 | E6: ='2019'!F6 -> 11113 | F6: ='2019'!G6 -> 1101 | G6: ='2019'!H6 -> 15502 | H6: ='2019'!I6 -> 12989 | I6: ='2019'!J6 -> 68.089915
A7: 109年, 2020 | B7: ='2020'!C6 -> 46105 | C7: ='2020'!D6 -> 48392 | D7: ='2020'!E6 -> 35160 | E7: ='2020'!F6 -> 12610 | F7: ='2020'!G6 -> 929 | G7: ='2020'!H6 -> 21621 | H7: ='2020'!I6 -> 13232 | I7: ='2020'!J6 -> 72.656637
A8: 110年, 2021 | B8: ='2021'!C6 -> 44539 | C8: ='2021'!D6 -> 46733 | D8: ='2021'!E6 -> 35467 | E8: ='2021'!F6 -> 11523 | F8: ='2021'!G6 -> 550 | G8: ='2021'!H6 -> 23394 | H8: ='2021'!I6 -> 11266 | I8: ='2021'!J6 -> 75.892838
A9: 111年, 2022 | B9: ='2022'!C6 -> 46859 | C9: ='2022'!D6 -> 49014 | D9: ='2022'!E6 -> 40360 | E9: ='2022'!F6 -> 11950 | F9: ='2022'!G6 -> 480 | G9: ='2022'!H6 -> 27930 | H9: ='2022'!I6 -> 8654 | I9: ='2022'!J6 -> 82.34382
A10: 112年, 2023 | B10: ='2023'!C6 -> 56796 | C10: ='2023'!D6 -> 59170 | D10: ='2023'!E6 -> 53463 | E10: ='2023'!F6 -> 12646 | F10: ='2023'!G6 -> 343 | G10: ='2023'!H6 -> 40474 | H10: ='2023'!I6 -> 5707 | I10: ='2023'!J6 -> 90.35491
A11: 113年, 2024 | B11: ='2024'!C6 -> 62314 | C11: ='2024'!D6 -> 59559 | D11: ='2024'!E6 -> 57090 | E11: ='2024'!F6 -> 10810 | F11: ='2024'!G6 -> 329 | G11: ='2024'!H6 -> 45951 | H11: ='2024'!I6 -> 2469 | I11: ='2024'!J6 -> 95.854531
A12: 114年, 2025 | B12: ='2025'!C6 -> 73077 | C12: ='2025'!D6 -> 69190 | D12: ='2025'!E6 -> 66608 | E12: ='2025'!F6 -> 9898 | F12: ='2025'!G6 -> 272 | G12: ='2025'!H6 -> 56438 | H12: ='2025'!I6 -> 2582 | I12: ='2025'!J6 -> 96.268247
A13: 上半年, Jan.-June | B13: ='Jan.-June, 2025'!C6 -> 36791 | C13: ='Jan.-June, 2025'!D6 -> 34775 | D13: ='Jan.-June, 2025'!E6 -> 33501 | E13: ='Jan.-June, 2025'!F6 -> 5352 | F13: ='Jan.-June, 2025'!G6 -> 160 | G13: ='Jan.-June, 2025'!H6 -> 27989 | H13: ='Jan.-June, 2025'!I6 -> 1274 | I13: ='Jan.-June, 2025'!J6 -> 96.336449
A14: 下半年, July-Dec. | B14: ='July-Dec., 2025'!C6 -> 36286 | C14: ='July-Dec., 2025'!D6 -> 34415 | D14: ='July-Dec., 2025'!E6 -> 33107 | E14: ='July-Dec., 2025'!F6 -> 4546 | F14: ='July-Dec., 2025'!G6 -> 112 | G14: ='July-Dec., 2025'!H6 -> 28449 | H14: ='July-Dec., 2025'!I6 -> 1308 | I14: ='July-Dec., 2025'!J6 -> 96.199332
A15: 115年, 2026
A16: 上半年, Jan.-June | B16: ='Jan.-June, 2026'!C6 -> 38374 | C16: ='Jan.-June, 2026'!D6 -> 36303 | D16: ='Jan.-June, 2026'!E6 -> 35098 | E16: ='Jan.-June, 2026'!F6 -> 4545 | F16: ='Jan.-June, 2026'!G6 -> 97 | G16: ='Jan.-June, 2026'!H6 -> 30456 | H16: ='Jan.-June, 2026'!I6 -> 1205 | I16: ='Jan.-June, 2026'!J6 -> 96.680715
A17: 下半年, July-Dec. | B17: ='July-Dec., 2026'!C6 -> 0 | C17: ='July-Dec., 2026'!D6 -> 0 | D17: ='July-Dec., 2026'!E6 -> 0 | E17: ='July-Dec., 2026'!F6 -> 0 | F17: ='July-Dec., 2026'!G6 -> 0 | G17: ='July-Dec., 2026'!H6 -> 0 | H17: ='July-Dec., 2026'!I6 -> 0 | I17: ='July-Dec., 2026'!J6 -> 0
A18: 資料來源：各直轄市、縣市政府。
A19: Source: County and Government.
A20: 更新日期：2026/09/30
B21: =IF(B12=SUM(B13:B14),"","*") | C21: =IF(C12=SUM(C13:C14),"","*") | D21: =IF(D12=SUM(D13:D14),"","*") | E21: =IF(E12=SUM(E13:E14),"","*") | F21: =IF(F12=SUM(F13:F14),"","*") | G21: =IF(G12=SUM(G13:G14),"","*") | H21: =IF(H12=SUM(H13:H14),"","*")

Sheet 2026
A1: 兒童少年保護-調查處理及服務 Child and Youth Protection Cases - Number of Investigation and Service
A2: 單位：件；人 Unit : Cases,Persons
A3: 民國115年, 2026 | C3: =IF(C6=SUM(C7:C28),"","*") | D3: =IF(D6=SUM(D7:D28),"","*") | E3: =IF(E6=SUM(E7:E28),"","*") | F3: =IF(F6=SUM(F7:F28),"","*") | G3: =IF(G6=SUM(G7:G28),"","*") | H3: =IF(H6=SUM(H7:H28),"","*") | I3: =IF(I6=SUM(I7:I28),"","*")
A4: 區域別 Locality | C4: 通報調查處理 | E4: 提供後續處遇服務人數(人數) | I4: 經調查評估後 無後續服務需求 | J4: 提供服務率 (B/A)%
C5: 件數 | D5: 人數(A) | E5: 總計(B) | F5: 保護服務 | G5: 福利服務 | H5: 轉介其他資源
A6: 總計 | B6: Total
A7: 新北市 | B7: New Taipei City
A8: 臺北市 | B8: Taipei City
A9: 桃園市 | B9: Taoyuan City
A10: 臺中市 | B10: Taichung City
A11: 臺南市 | B11: Tainan City
A12: 高雄市 | B12: Kaohsiung City
A13: 宜蘭縣 | B13: Yilan County
A14: 新竹縣 | B14: Hsinchu County
A15: 苗栗縣 | B15: Miaoli County
A16: 彰化縣 | B16: Changhua County
A17: 南投縣 | B17: Nantou County
... A28: 連江縣 | B28: Lienchiang County
A29: 資料來源：各直轄市、縣市政府。
A30: Source: County and Government.
A31: 更新日期：2026/03/31

Sheet July-Dec., 2026
A1: 兒童少年保護-調查處理及服務 Child and Youth Protection Cases - Number of Investigation and Service
A2: 單位：件；人 Unit : Cases,Persons
A3: 民國115年7-12月 July-Dec., 2026 | C3: =IF(C6=SUM(C7:C28),"","*") | D3: =IF(D6=SUM(D7:D28),"","*") | E3: =IF(E6=SUM(E7:E28),"","*") | F3: =IF(F6=SUM(F7:F28),"","*") | G3: =IF(G6=SUM(G7:G28),"","*") | H3: =IF(H6=SUM(H7:H28),"","*") | I3: =IF(I6=SUM(I7:I28),"","*")
A4: 區域別 Locality | C4: 通報調查處理 | E4: 提供後續處遇服務人數(人數) | I4: 經調查評估後 無後續服務需求 | J4: 提供服務率 (B/A)%
C5: 件數 | D5: 人數(A) | E5: 總計(B) | F5: 保護服務 | G5: 福利服務 | H5: 轉介其他資源
A6: 總計 | B6: Total
A7: 新北市 | B7: New Taipei City
A8: 臺北市 | B8: Taipei City
A9: 桃園市 | B9: Taoyuan City
A10: 臺中市 | B10: Taichung City
A11: 臺南市 | B11: Tainan City
A12: 高雄市 | B12: Kaohsiung City
A13: 宜蘭縣 | B13: Yilan County
A14: 新竹縣 | B14: Hsinchu County
A15: 苗栗縣 | B15: Miaoli County
A16: 彰化縣 | B16: Changhua County
A17: 南投縣 | B17: Nantou County
... A28: 連江縣 | B28: Lienchiang County
A29: 資料來源：各直轄市、縣市政府。
A30: Source: County and Government.

Sheet Jan.-June, 2026
A1: 兒童少年保護-調查處理及服務 Child and Youth Protection Cases - Number of Investigation and Service
A2: 單位：件；人 Unit : Cases,Persons
A3: 民國115年1-6月 Jan.-June, 2026 | C3: =IF(C6=SUM(C7:C28),"","*") | D3: =IF(D6=SUM(D7:D28),"","*") | E3: =IF(E6=SUM(E7:E28),"","*") | F3: =IF(F6=SUM(F7:F28),"","*") | G3: =IF(G6=SUM(G7:G28),"","*") | H3: =IF(H6=SUM(H7:H28),"","*") | I3: =IF(I6=SUM(I7:I28),"","*")
A4: 區域別 Locality | C4: 通報調查處理 | E4: 提供後續處遇服務人數(人數) | I4: 經調查評估後 無後續服務需求 | J4: 提供服務率 (B/A)%
C5: 件數 | D5: 人數(A) | E5: 總計(B) | F5: 保護服務 | G5: 福利服務 | H5: 轉介其他資源
A6: 總計 | B6: Total | C6: 38374 | D6: 36303 | E6: 35098 | F6: 4545 | G6: 97 | H6: 30456 | I6: 1205 | J6: =E6/D6*100 -> 96.680715
A7: 新北市 | B7: New Taipei City | C7: 5697 | D7: 5616 | E7: 5399 | F7: 960 | G7: 1 | H7: 4438 | I7: 217 | J7: =E7/D7*100 -> 96.13604
A8: 臺北市 | B8: Taipei City | C8: 3987 | D8: 3671 | E8: 3633 | F8: 386 | G8: 0 | H8: 3247 | I8: 38 | J8: =E8/D8*100 -> 98.96486
A9: 桃園市 | B9: Taoyuan City | C9: 4583 | D9: 4541 | E9: 4295 | F9: 405 | G9: 7 | H9: 3883 | I9: 246 | J9: =E9/D9*100 -> 94.582691
A10: 臺中市 | B10: Taichung City | C10: 4742 | D10: 4494 | E10: 4369 | F10: 592 | G10: 19 | H10: 3758 | I10: 125 | J10: =E10/D10*100 -> 97.218514
A11: 臺南市 | B11: Tainan City | C11: 3574 | D11: 3372 | E11: 3257 | F11: 231 | G11: 4 | H11: 3022 | I11: 115 | J11: =E11/D11*100 -> 96.589561
A12: 高雄市 | B12: Kaohsiung City | C12: 5258 | D12: 4924 | E12: 4787 | F12: 634 | G12: 4 | H12: 4149 | I12: 137 | J12: =E12/D12*100 -> 97.217709
A13: 宜蘭縣 | B13: Yilan County | C13: 529 | D13: 529 | E13: 497 | F13: 45 | G13: 0 | H13: 452 | I13: 32 | J13: =E13/D13*100 -> 93.950851
A14: 新竹縣 | B14: Hsinchu County | C14: 833 | D14: 797 | E14: 762 | F14: 127 | G14: 4 | H14: 631 | I14: 35 | J14: =E14/D14*100 -> 95.608532
A15: 苗栗縣 | B15: Miaoli County | C15: 728 | D15: 708 | E15: 678 | F15: 101 | G15: 2 | H15: 575 | I15: 30 | J15: =E15/D15*100 -> 95.762712
A16: 彰化縣 | B16: Changhua County | C16: 1880 | D16: 1752 | E16: 1701 | F16: 156 | G16: 1 | H16: 1544 | I16: 51 | J16: =E16/D16*100 -> 97.089041
A17: 南投縣 | B17: Nantou County | C17: 943 | D17: 880 | E17: 836 | F17: 108 | G17: 7 | H17: 721 | I17: 44 | J17: =E17/D17*100 -> 95
... A28: 連江縣 | B28: Lienchiang County | C28: 3 | D28: 3 | E28: 3 | F28: 3 | G28: 0 | H28: 0 | I28: 0 | J28: =E28/D28*100 -> 100
A29: 資料來源：各直轄市、縣市政府。
A30: Source: County and Government.
A33: 總計 | B33: Total | C33: 36791 | D33: 34775 | E33: 33501 | F33: 5352 | G33: 160 | H33: 27989 | I33: 1274 | J33: =E33/D33*100 -> 96.336449
A34: 新北市 | B34: New Taipei City | C34: 5915 | D34: 5721 | E34: 5455 | F34: 1151 | G34: 2 | H34: 4302 | I34: 266 | J34: =E34/D34*100 -> 95.350463
A35: 臺北市 | B35: Taipei City | C35: 3567 | D35: 3358 | E35: 3293 | F35: 519 | G35: 2 | H35: 2772 | I35: 65 | J35: =E35/D35*100 -> 98.064324
A36: 桃園市 | B36: Taoyuan City | C36: 4255 | D36: 4114 | E36: 3906 | F36: 424 | G36: 17 | H36: 3465 | I36: 208 | J36: =E36/D36*100 -> 94.944093
A37: 臺中市 | B37: Taichung City | C37: 4452 | D37: 4290 | E37: 4139 | F37: 709 | G37: 23 | H37: 3407 | I37: 151 | J37: =E37/D37*100 -> 96.480186
A38: 臺南市 | B38: Tainan City | C38: 3371 | D38: 3189 | E38: 3062 | F38: 319 | G38: 2 | H38: 2741 | I38: 127 | J38: =E38/D38*100 -> 96.01756
A39: 高雄市 | B39: Kaohsiung City | C39: 5005 | D39: 4848 | E39: 4750 | F39: 682 | G39: 17 | H39: 4051 | I39: 98 | J39: =E39/D39*100 -> 97.978548
A40: 宜蘭縣 | B40: Yilan County | C40: 418 | D40: 226 | E40: 215 | F40: 35 | G40: 0 | H40: 180 | I40: 11 | J40: =E40/D40*100 -> 95.132743
A41: 新竹縣 | B41: Hsinchu County | C41: 850 | D41: 787 | E41: 751 | F41: 184 | G41: 13 | H41: 554 | I41: 36 | J41: =E41/D41*100 -> 95.425667
A42: 苗栗縣 | B42: Miaoli County | C42: 663 | D42: 569 | E42: 539 | F42: 91 | G42: 7 | H42: 441 | I42: 30 | J42: =E42/D42*100 -> 94.727592
A43: 彰化縣 | B43: Changhua County | C43: 1838 | D43: 1838 | E43: 1735 | F43: 223 | G43: 0 | H43: 1512 | I43: 103 | J43: =E43/D43*100 -> 94.396083
A44: 南投縣 | B44: Nantou County | C44: 949 | D44: 853 | E44: 812 | F44: 112 | G44: 4 | H44: 696 | I44: 41 | J44: =E44/D44*100 -> 95.193435
... A55: 連江縣 | B55: Lienchiang County | C55: 16 | D55: 16 | E55: 16 | F55: 3 | G55: 2 | H55: 11 | I55: 0 | J55: =E55/D55*100 -> 100
A57: 總計 | B57: Total | C57: =IF(C33=C6,"","*") -> * | D57: =IF(D33=D6,"","*") -> * | E57: =IF(E33=E6,"","*") -> * | F57: =IF(F33=F6,"","*") -> * | G57: =IF(G33=G6,"","*") -> * | H57: =IF(H33=H6,"","*") -> * | I57: =IF(I33=I6,"","*") -> * | J57: =IF(J33=J6,"","*") -> *
A58: 新北市 | B58: New Taipei City | C58: =IF(C34=C7,"","*") -> * | D58: =IF(D34=D7,"","*") -> * | E58: =IF(E34=E7,"","*") -> * | F58: =IF(F34=F7,"","*") -> * | G58: =IF(G34=G7,"","*") -> * | H58: =IF(H34=H7,"","*") -> * | I58: =IF(I34=I7,"","*") -> * | J58: =IF(J34=J7,"","*") -> *
A59: 臺北市 | B59: Taipei City | C59: =IF(C35=C8,"","*") -> * | D59: =IF(D35=D8,"","*") -> * | E59: =IF(E35=E8,"","*") -> * | F59: =IF(F35=F8,"","*") -> * | G59: =IF(G35=G8,"","*") -> * | H59: =IF(H35=H8,"","*") -> * | I59: =IF(I35=I8,"","*") -> * | J59: =IF(J35=J8,"","*") -> *
A60: 桃園市 | B60: Taoyuan City | C60: =IF(C36=C9,"","*") -> * | D60: =IF(D36=D9,"","*") -> * | E60: =IF(E36=E9,"","*") -> * | F60: =IF(F36=F9,"","*") -> * | G60: =IF(G36=G9,"","*") -> * | H60: =IF(H36=H9,"","*") -> * | I60: =IF(I36=I9,"","*") -> * | J60: =IF(J36=J9,"","*") -> *
A61: 臺中市 | B61: Taichung City | C61: =IF(C37=C10,"","*") -> * | D61: =IF(D37=D10,"","*") -> * | E61: =IF(E37=E10,"","*") -> * | F61: =IF(F37=F10,"","*") -> * | G61: =IF(G37=G10,"","*") -> * | H61: =IF(H37=H10,"","*") -> * | I61: =IF(I37=I10,"","*") -> * | J61: =IF(J37=J10,"","*") -> *
A62: 臺南市 | B62: Tainan City | C62: =IF(C38=C11,"","*") -> * | D62: =IF(D38=D11,"","*") -> * | E62: =IF(E38=E11,"","*") -> * | F62: =IF(F38=F11,"","*") -> * | G62: =IF(G38=G11,"","*") -> * | H62: =IF(H38=H11,"","*") -> * | I62: =IF(I38=I11,"","*") -> * | J62: =IF(J38=J11,"","*") -> *
A63: 高雄市 | B63: Kaohsiung City | C63: =IF(C39=C12,"","*") -> * | D63: =IF(D39=D12,"","*") -> * | E63: =IF(E39=E12,"","*") -> * | F63: =IF(F39=F12,"","*") -> * | G63: =IF(G39=G12,"","*") -> * | H63: =IF(H39=H12,"","*") -> * | I63: =IF(I39=I12,"","*") -> * | J63: =IF(J39=J12,"","*") -> *
A64: 宜蘭縣 | B64: Yilan County | C64: =IF(C40=C13,"","*") -> * | D64: =IF(D40=D13,"","*") -> * | E64: =IF(E40=E13,"","*") -> * | F64: =IF(F40=F13,"","*") -> * | G64: =IF(G40=G13,"","*") | H64: =IF(H40=H13,"","*") -> * | I64: =IF(I40=I13,"","*") -> * | J64: =IF(J40=J13,"","*") -> *
A65: 新竹縣 | B65: Hsinchu County | C65: =IF(C41=C14,"","*") -> * | D65: =IF(D41=D14,"","*") -> * | E65: =IF(E41=E14,"","*") -> * | F65: =IF(F41=F14,"","*") -> * | G65: =IF(G41=G14,"","*") -> * | H65: =IF(H41=H14,"","*") -> * | I65: =IF(I41=I14,"","*") -> * | J65: =IF(J41=J14,"","*") -> *
A66: 苗栗縣 | B66: Miaoli County | C66: =IF(C42=C15,"","*") -> * | D66: =IF(D42=D15,"","*") -> * | E66: =IF(E42=E15,"","*") -> * | F66: =IF(F42=F15,"","*") -> * | G66: =IF(G42=G15,"","*") -> * | H66: =IF(H42=H15,"","*") -> * | I66: =IF(I42=I15,"","*") | J66: =IF(J42=J15,"","*") -> *
A67: 彰化縣 | B67: Changhua County | C67: =IF(C43=C16,"","*") -> * | D67: =IF(D43=D16,"","*") -> * | E67: =IF(E43=E16,"","*") -> * | F67: =IF(F43=F16,"","*") -> * | G67: =IF(G43=G16,"","*") -> * | H67: =IF(H43=H16,"","*") -> * | I67: =IF(I43=I16,"","*") -> * | J67: =IF(J43=J16,"","*") -> *
A68: 南投縣 | B68: Nantou County | C68: =IF(C44=C17,"","*") -> * | D68: =IF(D44=D17,"","*") -> * | E68: =IF(E44=E17,"","*") -> * | F68: =IF(F44=F17,"","*") -> * | G68: =IF(G44=G17,"","*") -> * | H68: =IF(H44=H17,"","*") -> * | I68: =IF(I44=I17,"","*") -> * | J68: =IF(J44=J17,"","*") -> *
... A79: 連江縣 | B79: Lienchiang County | C79: =IF(C55=C28,"","*") -> * | D79: =IF(D55=D28,"","*") -> * | E79: =IF(E55=E28,"","*") -> * | F79: =IF(F55=F28,"","*") | G79: =IF(G55=G28,"","*") -> * | H79: =IF(H55=H28,"","*") -> * | I79: =IF(I55=I28,"","*") | J79: =IF(J55=J28,"","*")

Sheet 2025
A1: 兒童少年保護-調查處理及服務 Child and Youth Protection Cases - Number of Investigation and Service
A2: 單位：件；人 Unit : Cases,Persons
A3: 民國114年, 2025 | C3: =IF(C6=SUM(C7:C28),"","*") | D3: =IF(D6=SUM(D7:D28),"","*") | E3: =IF(E6=SUM(E7:E28),"","*") | F3: =IF(F6=SUM(F7:F28),"","*") | G3: =IF(G6=SUM(G7:G28),"","*") | H3: =IF(H6=SUM(H7:H28),"","*") | I3: =IF(I6=SUM(I7:I28),"","*")
A4: 區域別 Locality | C4: 通報調查處理 | E4: 提供後續處遇服務人數(人數) | I4: 經調查評估後 無後續服務需求 | J4: 提供服務率 (B/A)%
C5: 件數 | D5: 人數(A) | E5: 總計(B) | F5: 保護服務 | G5: 福利服務 | H5: 轉介其他資源
A6: 總計 | B6: Total | C6: 73077 | D6: 69190 | E6: 66608 | F6: 9898 | G6: 272 | H6: 56438 | I6: 2582 | J6: =E6/D6*100 -> 96.268247
A7: 新北市 | B7: New Taipei City | C7: 11428 | D7: 11118 | E7: 10684 | F7: 2147 | G7: 3 | H7: 8534 | I7: 434 | J7: =E7/D7*100 -> 96.09642
A8: 臺北市 | B8: Taipei City | C8: 6959 | D8: 6353 | E8: 6241 | F8: 894 | G8: 3 | H8: 5344 | I8: 112 | J8: =E8/D8*100 -> 98.237053
A9: 桃園市 | B9: Taoyuan City | C9: 8745 | D9: 8532 | E9: 8119 | F9: 777 | G9: 34 | H9: 7308 | I9: 413 | J9: =E9/D9*100 -> 95.1594
A10: 臺中市 | B10: Taichung City | C10: 8823 | D10: 8434 | E10: 8147 | F10: 1327 | G10: 37 | H10: 6783 | I10: 287 | J10: =E10/D10*100 -> 96.597107
A11: 臺南市 | B11: Tainan City | C11: 6804 | D11: 6389 | E11: 6171 | F11: 532 | G11: 4 | H11: 5635 | I11: 218 | J11: =E11/D11*100 -> 96.587885
A12: 高雄市 | B12: Kaohsiung City | C12: 9890 | D12: 9488 | E12: 9294 | F12: 1283 | G12: 31 | H12: 7980 | I12: 194 | J12: =E12/D12*100 -> 97.955312
A13: 宜蘭縣 | B13: Yilan County | C13: 865 | D13: 673 | E13: 636 | F13: 65 | G13: 0 | H13: 571 | I13: 37 | J13: =E13/D13*100 -> 94.502229
A14: 新竹縣 | B14: Hsinchu County | C14: 1795 | D14: 1732 | E14: 1648 | F14: 362 | G14: 15 | H14: 1271 | I14: 84 | J14: =E14/D14*100 -> 95.150115
A15: 苗栗縣 | B15: Miaoli County | C15: 1310 | D15: 1141 | E15: 1094 | F15: 182 | G15: 10 | H15: 902 | I15: 47 | J15: =E15/D15*100 -> 95.880806
A16: 彰化縣 | B16: Changhua County | C16: 3745 | D16: 3745 | E16: 3331 | F16: 373 | G16: 0 | H16: 2958 | I16: 414 | J16: =E16/D16*100 -> 88.94526
A17: 南投縣 | B17: Nantou County | C17: 1797 | D17: 1554 | E17: 1475 | F17: 195 | G17: 14 | H17: 1266 | I17: 79 | J17: =E17/D17*100 -> 94.916345
... A28: 連江縣 | B28: Lienchiang County | C28: 22 | D28: 22 | E28: 22 | F28: 4 | G28: 2 | H28: 16 | I28: 0 | J28: =E28/D28*100 -> 100
A29: 資料來源：各直轄市、縣市政府。
A30: Source: County and Government.

Sheet July-Dec., 2025
A1: 兒童少年保護-調查處理及服務 Child and Youth Protection Cases - Number of Investigation and Service
A2: 單位：件；人 Unit : Cases,Persons
A3: 民國114年7-12月 July-Dec., 2025 | C3: =IF(C6=SUM(C7:C28),"","*") | D3: =IF(D6=SUM(D7:D28),"","*") | E3: =IF(E6=SUM(E7:E28),"","*") | F3: =IF(F6=SUM(F7:F28),"","*") | G3: =IF(G6=SUM(G7:G28),"","*") | H3: =IF(H6=SUM(H7:H28),"","*") | I3: =IF(I6=SUM(I7:I28),"","*")
A4: 區域別 Locality | C4: 通報調查處理 | E4: 提供後續處遇服務人數(人數) | I4: 經調查評估後 無後續服務需求 | J4: 提供服務率 (B/A)%
C5: 件數 | D5: 人數(A) | E5: 總計(B) | F5: 保護服務 | G5: 福利服務 | H5: 轉介其他資源
A6: 總計 | B6: Total | C6: 36286 | D6: 34415 | E6: 33107 | F6: 4546 | G6: 112 | H6: 28449 | I6: 1308 | J6: =E6/D6*100 -> 96.199332
A7: 新北市 | B7: New Taipei City | C7: 5513 | D7: 5397 | E7: 5229 | F7: 996 | G7: 1 | H7: 4232 | I7: 168 | J7: =E7/D7*100 -> 96.88716
A8: 臺北市 | B8: Taipei City | C8: 3392 | D8: 2995 | E8: 2948 | F8: 375 | G8: 1 | H8: 2572 | I8: 47 | J8: =E8/D8*100 -> 98.430718
A9: 桃園市 | B9: Taoyuan City | C9: 4490 | D9: 4418 | E9: 4213 | F9: 353 | G9: 17 | H9: 3843 | I9: 205 | J9: =E9/D9*100 -> 95.359891
A10: 臺中市 | B10: Taichung City | C10: 4371 | D10: 4144 | E10: 4008 | F10: 618 | G10: 14 | H10: 3376 | I10: 136 | J10: =E10/D10*100 -> 96.718147
A11: 臺南市 | B11: Tainan City | C11: 3433 | D11: 3200 | E11: 3109 | F11: 213 | G11: 2 | H11: 2894 | I11: 91 | J11: =E11/D11*100 -> 97.15625
A12: 高雄市 | B12: Kaohsiung City | C12: 4885 | D12: 4640 | E12: 4544 | F12: 601 | G12: 14 | H12: 3929 | I12: 96 | J12: =E12/D12*100 -> 97.931034
A13: 宜蘭縣 | B13: Yilan County | C13: 447 | D13: 447 | E13: 421 | F13: 30 | G13: 0 | H13: 391 | I13: 26 | J13: =E13/D13*100 -> 94.183445
A14: 新竹縣 | B14: Hsinchu County | C14: 945 | D14: 945 | E14: 897 | F14: 178 | G14: 2 | H14: 717 | I14: 48 | J14: =E14/D14*100 -> 94.920635
A15: 苗栗縣 | B15: Miaoli County | C15: 647 | D15: 572 | E15: 555 | F15: 91 | G15: 3 | H15: 461 | I15: 17 | J15: =E15/D15*100 -> 97.027972
A16: 彰化縣 | B16: Changhua County | C16: 1907 | D16: 1907 | E16: 1596 | F16: 150 | G16: 0 | H16: 1446 | I16: 311 | J16: =E16/D16*100 -> 83.691662
A17: 南投縣 | B17: Nantou County | C17: 848 | D17: 701 | E17: 663 | F17: 83 | G17: 10 | H17: 570 | I17: 38 | J17: =E17/D17*100 -> 94.579173
... A28: 連江縣 | B28: Lienchiang County | C28: 6 | D28: 6 | E28: 6 | F28: 1 | G28: 0 | H28: 5 | I28: 0 | J28: =E28/D28*100 -> 100
A29: 資料來源：各直轄市、縣市政府。
A30: Source: County and Government.

Sheet Jan.-June, 2025
A1: 兒童少年保護-調查處理及服務 Child and Youth Protection Cases - Number of Investigation and Service
A2: 單位：件；人 Unit : Cases,Persons
A3: 民國114年1-6月 Jan.-June, 2025 | C3: =IF(C6=SUM(C7:C28),"","*") | D3: =IF(D6=SUM(D7:D28),"","*") | E3: =IF(E6=SUM(E7:E28),"","*") | F3: =IF(F6=SUM(F7:F28),"","*") | G3: =IF(G6=SUM(G7:G28),"","*") | H3: =IF(H6=SUM(H7:H28),"","*") | I3: =IF(I6=SUM(I7:I28),"","*")
A4: 區域別 Locality | C4: 通報調查處理 | E4: 提供後續處遇服務人數(人數) | I4: 經調查評估後 無後續服務需求 | J4: 提供服務率 (B/A)%
C5: 件數 | D5: 人數(A) | E5: 總計(B) | F5: 保護服務 | G5: 福利服務 | H5: 轉介其他資源
A6: 總計 | B6: Total | C6: 36791 | D6: 34775 | E6: 33501 | F6: 5352 | G6: 160 | H6: 27989 | I6: 1274 | J6: =E6/D6*100 -> 96.336449
A7: 新北市 | B7: New Taipei City | C7: 5915 | D7: 5721 | E7: 5455 | F7: 1151 | G7: 2 | H7: 4302 | I7: 266 | J7: =E7/D7*100 -> 95.350463
A8: 臺北市 | B8: Taipei City | C8: 3567 | D8: 3358 | E8: 3293 | F8: 519 | G8: 2 | H8: 2772 | I8: 65 | J8: =E8/D8*100 -> 98.064324
A9: 桃園市 | B9: Taoyuan City | C9: 4255 | D9: 4114 | E9: 3906 | F9: 424 | G9: 17 | H9: 3465 | I9: 208 | J9: =E9/D9*100 -> 94.944093
A10: 臺中市 | B10: Taichung City | C10: 4452 | D10: 4290 | E10: 4139 | F10: 709 | G10: 23 | H10: 3407 | I10: 151 | J10: =E10/D10*100 -> 96.480186
A11: 臺南市 | B11: Tainan City | C11: 3371 | D11: 3189 | E11: 3062 | F11: 319 | G11: 2 | H11: 2741 | I11: 127 | J11: =E11/D11*100 -> 96.01756
A12: 高雄市 | B12: Kaohsiung City | C12: 5005 | D12: 4848 | E12: 4750 | F12: 682 | G12: 17 | H12: 4051 | I12: 98 | J12: =E12/D12*100 -> 97.978548
A13: 宜蘭縣 | B13: Yilan County | C13: 418 | D13: 226 | E13: 215 | F13: 35 | G13: 0 | H13: 180 | I13: 11 | J13: =E13/D13*100 -> 95.132743
A14: 新竹縣 | B14: Hsinchu County | C14: 850 | D14: 787 | E14: 751 | F14: 184 | G14: 13 | H14: 554 | I14: 36 | J14: =E14/D14*100 -> 95.425667
A15: 苗栗縣 | B15: Miaoli County | C15: 663 | D15: 569 | E15: 539 | F15: 91 | G15: 7 | H15: 441 | I15: 30 | J15: =E15/D15*100 -> 94.727592
A16: 彰化縣 | B16: Changhua County | C16: 1838 | D16: 1838 | E16: 1735 | F16: 223 | G16: 0 | H16: 1512 | I16: 103 | J16: =E16/D16*100 -> 94.396083
A17: 南投縣 | B17: Nantou County | C17: 949 | D17: 853 | E17: 812 | F17: 112 | G17: 4 | H17: 696 | I17: 41 | J17: =E17/D17*100 -> 95.193435
... A28: 連江縣 | B28: Lienchiang County | C28: 16 | D28: 16 | E28: 16 | F28: 3 | G28: 2 | H28: 11 | I28: 0 | J28: =E28/D28*100 -> 100
A29: 資料來源：各直轄市、縣市政府。
A30: Source: County and Government.
A33: 總計 | B33: Total | C33: 36791 | D33: 34775 | E33: 33501 | F33: 5352 | G33: 160 | H33: 27989 | I33: 1274 | J33: =E33/D33*100 -> 96.336449
A34: 新北市 | B34: New Taipei City | C34: 5915 | D34: 5721 | E34: 5455 | F34: 1151 | G34: 2 | H34: 4302 | I34: 266 | J34: =E34/D34*100 -> 95.350463
A35: 臺北市 | B35: Taipei City | C35: 3567 | D35: 3358 | E35: 3293 | F35: 519 | G35: 2 | H35: 2772 | I35: 65 | J35: =E35/D35*100 -> 98.064324
A36: 桃園市 | B36: Taoyuan City | C36: 4255 | D36: 4114 | E36: 3906 | F36: 424 | G36: 17 | H36: 3465 | I36: 208 | J36: =E36/D36*100 -> 94.944093
A37: 臺中市 | B37: Taichung City | C37: 4452 | D37: 4290 | E37: 4139 | F37: 709 | G37: 23 | H37: 3407 | I37: 151 | J37: =E37/D37*100 -> 96.480186
A38: 臺南市 | B38: Tainan City | C38: 3371 | D38: 3189 | E38: 3062 | F38: 319 | G38: 2 | H38: 2741 | I38: 127 | J38: =E38/D38*100 -> 96.01756
A39: 高雄市 | B39: Kaohsiung City | C39: 5005 | D39: 4848 | E39: 4750 | F39: 682 | G39: 17 | H39: 4051 | I39: 98 | J39: =E39/D39*100 -> 97.978548
A40: 宜蘭縣 | B40: Yilan County | C40: 418 | D40: 226 | E40: 215 | F40: 35 | G40: 0 | H40: 180 | I40: 11 | J40: =E40/D40*100 -> 95.132743
A41: 新竹縣 | B41: Hsinchu County | C41: 850 | D41: 787 | E41: 751 | F41: 184 | G41: 13 | H41: 554 | I41: 36 | J41: =E41/D41*100 -> 95.425667
A42: 苗栗縣 | B42: Miaoli County | C42: 663 | D42: 569 | E42: 539 | F42: 91 | G42: 7 | H42: 441 | I42: 30 | J42: =E42/D42*100 -> 94.727592
A43: 彰化縣 | B43: Changhua County | C43: 1838 | D43: 1838 | E43: 1735 | F43: 223 | G43: 0 | H43: 1512 | I43: 103 | J43: =E43/D43*100 -> 94.396083
A44: 南投縣 | B44: Nantou County | C44: 949 | D44: 853 | E44: 812 | F44: 112 | G44: 4 | H44: 696 | I44: 41 | J44: =E44/D44*100 -> 95.193435
... A55: 連江縣 | B55: Lienchiang County | C55: 16 | D55: 16 | E55: 16 | F55: 3 | G55: 2 | H55: 11 | I55: 0 | J55: =E55/D55*100 -> 100
A57: 總計 | B57: Total | C57: =IF(C33=C6,"","*") | D57: =IF(D33=D6,"","*") | E57: =IF(E33=E6,"","*") | F57: =IF(F33=F6,"","*") | G57: =IF(G33=G6,"","*") | H57: =IF(H33=H6,"","*") | I57: =IF(I33=I6,"","*") | J57: =IF(J33=J6,"","*")
A58: 新北市 | B58: New Taipei City | C58: =IF(C34=C7,"","*") | D58: =IF(D34=D7,"","*") | E58: =IF(E34=E7,"","*") | F58: =IF(F34=F7,"","*") | G58: =IF(G34=G7,"","*") | H58: =IF(H34=H7,"","*") | I58: =IF(I34=I7,"","*") | J58: =IF(J34=J7,"","*")
A59: 臺北市 | B59: Taipei City | C59: =IF(C35=C8,"","*") | D59: =IF(D35=D8,"","*") | E59: =IF(E35=E8,"","*") | F59: =IF(F35=F8,"","*") | G59: =IF(G35=G8,"","*") | H59: =IF(H35=H8,"","*") | I59: =IF(I35=I8,"","*") | J59: =IF(J35=J8,"","*")
A60: 桃園市 | B60: Taoyuan City | C60: =IF(C36=C9,"","*") | D60: =IF(D36=D9,"","*") | E60: =IF(E36=E9,"","*") | F60: =IF(F36=F9,"","*") | G60: =IF(G36=G9,"","*") | H60: =IF(H36=H9,"","*") | I60: =IF(I36=I9,"","*") | J60: =IF(J36=J9,"","*")
A61: 臺中市 | B61: Taichung City | C61: =IF(C37=C10,"","*") | D61: =IF(D37=D10,"","*") | E61: =IF(E37=E10,"","*") | F61: =IF(F37=F10,"","*") | G61: =IF(G37=G10,"","*") | H61: =IF(H37=H10,"","*") | I61: =IF(I37=I10,"","*") | J61: =IF(J37=J10,"","*")
A62: 臺南市 | B62: Tainan City | C62: =IF(C38=C11,"","*") | D62: =IF(D38=D11,"","*") | E62: =IF(E38=E11,"","*") | F62: =IF(F38=F11,"","*") | G62: =IF(G38=G11,"","*") | H62: =IF(H38=H11,"","*") | I62: =IF(I38=I11,"","*") | J62: =IF(J38=J11,"","*")
A63: 高雄市 | B63: Kaohsiung City | C63: =IF(C39=C12,"","*") | D63: =IF(D39=D12,"","*") | E63: =IF(E39=E12,"","*") | F63: =IF(F39=F12,"","*") | G63: =IF(G39=G12,"","*") | H63: =IF(H39=H12,"","*") | I63: =IF(I39=I12,"","*") | J63: =IF(J39=J12,"","*")
A64: 宜蘭縣 | B64: Yilan County | C64: =IF(C40=C13,"","*") | D64: =IF(D40=D13,"","*") | E64: =IF(E40=E13,"","*") | F64: =IF(F40=F13,"","*") | G64: =IF(G40=G13,"","*") | H64: =IF(H40=H13,"","*") | I64: =IF(I40=I13,"","*") | J64: =IF(J40=J13,"","*")
A65: 新竹縣 | B65: Hsinchu County | C65: =IF(C41=C14,"","*") | D65: =IF(D41=D14,"","*") | E65: =IF(E41=E14,"","*") | F65: =IF(F41=F14,"","*") | G65: =IF(G41=G14,"","*") | H65: =IF(H41=H14,"","*") | I65: =IF(I41=I14,"","*") | J65: =IF(J41=J14,"","*")
A66: 苗栗縣 | B66: Miaoli County | C66: =IF(C42=C15,"","*") | D66: =IF(D42=D15,"","*") | E66: =IF(E42=E15,"","*") | F66: =IF(F42=F15,"","*") | G66: =IF(G42=G15,"","*") | H66: =IF(H42=H15,"","*") | I66: =IF(I42=I15,"","*") | J66: =IF(J42=J15,"","*")
A67: 彰化縣 | B67: Changhua County | C67: =IF(C43=C16,"","*") | D67: =IF(D43=D16,"","*") | E67: =IF(E43=E16,"","*") | F67: =IF(F43=F16,"","*") | G67: =IF(G43=G16,"","*") | H67: =IF(H43=H16,"","*") | I67: =IF(I43=I16,"","*") | J67: =IF(J43=J16,"","*")
A68: 南投縣 | B68: Nantou County | C68: =IF(C44=C17,"","*") | D68: =IF(D44=D17,"","*") | E68: =IF(E44=E17,"","*") | F68: =IF(F44=F17,"","*") | G68: =IF(G44=G17,"","*") | H68: =IF(H44=H17,"","*") | I68: =IF(I44=I17,"","*") | J68: =IF(J44=J17,"","*")
... A79: 連江縣 | B79: Lienchiang County | C79: =IF(C55=C28,"","*") | D79: =IF(D55=D28,"","*") | E79: =IF(E55=E28,"","*") | F79: =IF(F55=F28,"","*") | G79: =IF(G55=G28,"","*") | H79: =IF(H55=H28,"","*") | I79: =IF(I55=I28,"","*") | J79: =IF(J55=J28,"","*")

Sheet 2024
A1: 兒童少年保護-調查處理及服務 Child and Youth Protection Cases - Number of Investigation and Service
A2: 單位：件；人 Unit : Cases,Persons
A3: 民國113年, 2024 | C3: =IF(C6=SUM(C7:C28),"","*") | D3: =IF(D6=SUM(D7:D28),"","*") | E3: =IF(E6=SUM(E7:E28),"","*") | F3: =IF(F6=SUM(F7:F28),"","*") | G3: =IF(G6=SUM(G7:G28),"","*") | H3: =IF(H6=SUM(H7:H28),"","*") | I3: =IF(I6=SUM(I7:I28),"","*")
A4: 區域別 Locality | C4: 通報調查處理 | E4: 提供後續處遇服務人數(人數) | I4: 經調查評估後 無後續服務需求 | J4: 提供服務率 (B/A)%
C5: 件數 | D5: 人數(A) | E5: 總計(B) | F5: 保護服務 | G5: 福利服務 | H5: 轉介其他資源
A6: 總計 | B6: Total | C6: 62314 | D6: 59559 | E6: 57090 | F6: 10810 | G6: 329 | H6: 45951 | I6: 2469 | J6: =E6/D6*100 -> 95.854531
A7: 新北市 | B7: New Taipei City | C7: 9933 | D7: 9614 | E7: 9179 | F7: 2222 | G7: 5 | H7: 6952 | I7: 435 | J7: =E7/D7*100 -> 95.475348
A8: 臺北市 | B8: Taipei City | C8: 6409 | D8: 6244 | E8: 6061 | F8: 1077 | G8: 6 | H8: 4978 | I8: 183 | J8: =E8/D8*100 -> 97.069186
A9: 桃園市 | B9: Taoyuan City | C9: 7574 | D9: 7497 | E9: 7103 | F9: 1050 | G9: 44 | H9: 6009 | I9: 394 | J9: =E9/D9*100 -> 94.744564
A10: 臺中市 | B10: Taichung City | C10: 7100 | D10: 6914 | E10: 6624 | F10: 1339 | G10: 37 | H10: 5248 | I10: 290 | J10: =E10/D10*100 -> 95.805612
A11: 臺南市 | B11: Tainan City | C11: 5608 | D11: 5130 | E11: 4903 | F11: 572 | G11: 7 | H11: 4324 | I11: 227 | J11: =E11/D11*100 -> 95.575049
A12: 高雄市 | B12: Kaohsiung City | C12: 8333 | D12: 8161 | E12: 7897 | F12: 1157 | G12: 31 | H12: 6709 | I12: 264 | J12: =E12/D12*100 -> 96.765102
A13: 宜蘭縣 | B13: Yilan County | C13: 647 | D13: 541 | E13: 503 | F13: 141 | G13: 0 | H13: 362 | I13: 38 | J13: =E13/D13*100 -> 92.97597
A14: 新竹縣 | B14: Hsinchu County | C14: 1646 | D14: 1595 | E14: 1500 | F14: 416 | G14: 21 | H14: 1063 | I14: 95 | J14: =E14/D14*100 -> 94.043887
A15: 苗栗縣 | B15: Miaoli County | C15: 1090 | D15: 1007 | E15: 964 | F15: 148 | G15: 11 | H15: 805 | I15: 43 | J15: =E15/D15*100 -> 95.729891
A16: 彰化縣 | B16: Changhua County | C16: 3188 | D16: 2770 | E16: 2623 | F16: 544 | G16: 1 | H16: 2078 | I16: 147 | J16: =E16/D16*100 -> 94.693141
A17: 南投縣 | B17: Nantou County | C17: 1580 | D17: 1508 | E17: 1459 | F17: 221 | G17: 24 | H17: 1214 | I17: 49 | J17: =E17/D17*100 -> 96.750663
... A28: 連江縣 | B28: Lienchiang County | C28: 39 | D28: 34 | E28: 29 | F28: 15 | G28: 0 | H28: 14 | I28: 5 | J28: =E28/D28*100 -> 85.294118
A29: 資料來源：各直轄市、縣市政府。
A30: Source: County and Government.

Sheet 2023
A1: 兒童少年保護-調查處理及服務 Child and Youth Protection Cases - Number of Investigation and Service
A2: 單位：件；人 Unit : Cases,Persons
A3: 民國112年, 2023 | C3: =IF(C6=SUM(C7:C28),"","*") | D3: =IF(D6=SUM(D7:D28),"","*") | E3: =IF(E6=SUM(E7:E28),"","*") | F3: =IF(F6=SUM(F7:F28),"","*") | G3: =IF(G6=SUM(G7:G28),"","*") | H3: =IF(H6=SUM(H7:H28),"","*") | I3: =IF(I6=SUM(I7:I28),"","*")
A4: 區域別 Locality | C4: 通報調查處理 | E4: 提供後續處遇服務人數(人數) | I4: 經調查評估後 無後續服務需求 | J4: 提供服務率 (B/A)%
C5: 件數 | D5: 人數(A) | E5: 總計(B) | F5: 保護服務 | G5: 福利服務 | H5: 轉介其他資源
A6: 總計 | B6: Total | C6: 56796 | D6: 59170 | E6: 53463 | F6: 12646 | G6: 343 | H6: 40474 | I6: 5707 | J6: =E6/D6*100 -> 90.35491
A7: 新北市 | B7: New Taipei City | C7: 8210 | D7: 8402 | E7: 7712 | F7: 1936 | G7: 5 | H7: 5771 | I7: 690 | J7: =E7/D7*100 -> 91.78767
A8: 臺北市 | B8: Taipei City | C8: 5206 | D8: 5273 | E8: 4650 | F8: 1068 | G8: 9 | H8: 3573 | I8: 623 | J8: =E8/D8*100 -> 88.185094
A9: 桃園市 | B9: Taoyuan City | C9: 7354 | D9: 7936 | E9: 7239 | F9: 1521 | G9: 38 | H9: 5680 | I9: 697 | J9: =E9/D9*100 -> 91.217238
A10: 臺中市 | B10: Taichung City | C10: 7364 | D10: 7839 | E10: 7144 | F10: 2074 | G10: 53 | H10: 5017 | I10: 695 | J10: =E10/D10*100 -> 91.134073
A11: 臺南市 | B11: Tainan City | C11: 4715 | D11: 4901 | E11: 4617 | F11: 804 | G11: 13 | H11: 3800 | I11: 284 | J11: =E11/D11*100 -> 94.205264
A12: 高雄市 | B12: Kaohsiung City | C12: 8242 | D12: 8605 | E12: 7762 | F12: 1489 | G12: 31 | H12: 6242 | I12: 843 | J12: =E12/D12*100 -> 90.20337
A13: 宜蘭縣 | B13: Yilan County | C13: 659 | D13: 675 | E13: 567 | F13: 170 | G13: 0 | H13: 397 | I13: 108 | J13: =E13/D13*100 -> 84
A14: 新竹縣 | B14: Hsinchu County | C14: 1195 | D14: 1252 | E14: 1060 | F14: 307 | G14: 17 | H14: 736 | I14: 192 | J14: =E14/D14*100 -> 84.664537
A15: 苗栗縣 | B15: Miaoli County | C15: 945 | D15: 961 | E15: 861 | F15: 160 | G15: 6 | H15: 695 | I15: 100 | J15: =E15/D15*100 -> 89.594173
A16: 彰化縣 | B16: Changhua County | C16: 2833 | D16: 2833 | E16: 2389 | F16: 577 | G16: 4 | H16: 1808 | I16: 444 | J16: =E16/D16*100 -> 84.327568
A17: 南投縣 | B17: Nantou County | C17: 1453 | D17: 1614 | E17: 1457 | F17: 299 | G17: 32 | H17: 1126 | I17: 157 | J17: =E17/D17*100 -> 90.272615
... A28: 連江縣 | B28: Lienchiang County | C28: 15 | D28: 15 | E28: 14 | F28: 6 | G28: 0 | H28: 8 | I28: 1 | J28: =E28/D28*100 -> 93.333333
A29: 資料來源：各直轄市、縣市政府。
A30: Source: County and Government.

Sheet 2022
A1: 兒童少年保護-調查處理及服務 Child and Youth Protection Cases - Number of Investigation and Service
A2: 單位：件；人 Unit : Cases,Persons
A3: 民國111年, 2022 | C3: =IF(C6=SUM(C7:C28),"","*") | D3: =IF(D6=SUM(D7:D28),"","*") | E3: =IF(E6=SUM(E7:E28),"","*") | F3: =IF(F6=SUM(F7:F28),"","*") | G3: =IF(G6=SUM(G7:G28),"","*") | H3: =IF(H6=SUM(H7:H28),"","*") | I3: =IF(I6=SUM(I7:I28),"","*")
A4: 區域別 Locality | C4: 通報調查處理 | E4: 提供後續處遇服務人數(人數) | I4: 經調查評估後 無後續服務需求 | J4: 提供服務率 (B/A)%
C5: 件數 | D5: 人數(A) | E5: 總計(B) | F5: 保護服務 | G5: 福利服務 | H5: 轉介其他資源
A6: 總計 | B6: Total | C6: 46859 | D6: 49014 | E6: 40360 | F6: 11950 | G6: 480 | H6: 27930 | I6: 8654 | J6: =E6/D6*100 -> 82.34382
A7: 新北市 | B7: New Taipei City | C7: 7078 | D7: 7246 | E7: 6253 | F7: 2142 | G7: 10 | H7: 4101 | I7: 993 | J7: =E7/D7*100 -> 86.295887
A8: 臺北市 | B8: Taipei City | C8: 4414 | D8: 4438 | E8: 3680 | F8: 911 | G8: 21 | H8: 2748 | I8: 758 | J8: =E8/D8*100 -> 82.920234
A9: 桃園市 | B9: Taoyuan City | C9: 6258 | D9: 6818 | E9: 5427 | F9: 1395 | G9: 86 | H9: 3946 | I9: 1391 | J9: =E9/D9*100 -> 79.598123
A10: 臺中市 | B10: Taichung City | C10: 6334 | D10: 6816 | E10: 6054 | F10: 2023 | G10: 105 | H10: 3926 | I10: 762 | J10: =E10/D10*100 -> 88.820423
A11: 臺南市 | B11: Tainan City | C11: 3667 | D11: 3813 | E11: 3264 | F11: 707 | G11: 4 | H11: 2553 | I11: 549 | J11: =E11/D11*100 -> 85.601888
A12: 高雄市 | B12: Kaohsiung City | C12: 6616 | D12: 7001 | E12: 5630 | F12: 1278 | G12: 22 | H12: 4330 | I12: 1371 | J12: =E12/D12*100 -> 80.417083
A13: 宜蘭縣 | B13: Yilan County | C13: 539 | D13: 560 | E13: 407 | F13: 140 | G13: 0 | H13: 267 | I13: 153 | J13: =E13/D13*100 -> 72.678571
A14: 新竹縣 | B14: Hsinchu County | C14: 1003 | D14: 1033 | E14: 798 | F14: 284 | G14: 18 | H14: 496 | I14: 235 | J14: =E14/D14*100 -> 77.250726
A15: 苗栗縣 | B15: Miaoli County | C15: 771 | D15: 777 | E15: 538 | F15: 141 | G15: 9 | H15: 388 | I15: 239 | J15: =E15/D15*100 -> 69.240669
A16: 彰化縣 | B16: Changhua County | C16: 2088 | D16: 2096 | E16: 1645 | F16: 467 | G16: 2 | H16: 1176 | I16: 451 | J16: =E16/D16*100 -> 78.482824
A17: 南投縣 | B17: Nantou County | C17: 1166 | D17: 1278 | E17: 990 | F17: 273 | G17: 32 | H17: 685 | I17: 288 | J17: =E17/D17*100 -> 77.464789
... A28: 連江縣 | B28: Lienchiang County | C28: 17 | D28: 17 | E28: 12 | F28: 9 | G28: 0 | H28: 3 | I28: 5 | J28: =E28/D28*100 -> 70.588235
A29: 資料來源：各直轄市、縣市政府。
A30: Source: County and Government.

Sheet 2021
A1: 兒童少年保護-調查處理及服務 Child and Youth Protection Cases - Number of Investigation and Service
A2: 單位：件；人 Unit : Cases,Persons
A3: 民國110年, 2021 | C3: =IF(C6=SUM(C7:C28),"","*") | D3: =IF(D6=SUM(D7:D28),"","*") | E3: =IF(E6=SUM(E7:E28),"","*") | F3: =IF(F6=SUM(F7:F28),"","*") | G3: =IF(G6=SUM(G7:G28),"","*") | H3: =IF(H6=SUM(H7:H28),"","*") | I3: =IF(I6=SUM(I7:I28),"","*")
A4: 區域別 Locality | C4: 通報調查處理 | E4: 提供後續處遇服務人數(人數) | I4: 經調查評估後 無後續服務需求 | J4: 提供服務率 (B/A)%
C5: 件數 | D5: 人數(A) | E5: 總計(B) | F5: 保護服務 | G5: 福利服務 | H5: 轉介其他資源
A6: 總計 | B6: Total | C6: 44539 | D6: 46733 | E6: 35467 | F6: 11523 | G6: 550 | H6: 23394 | I6: 11266 | J6: =E6/D6*100 -> 75.892838
A7: 新北市 | B7: New Taipei City | C7: 6863 | D7: 6973 | E7: 5729 | F7: 2018 | G7: 14 | H7: 3697 | I7: 1244 | J7: =E7/D7*100 -> 82.159759
A8: 臺北市 | B8: Taipei City | C8: 4188 | D8: 4209 | E8: 2961 | F8: 984 | G8: 36 | H8: 1941 | I8: 1248 | J8: =E8/D8*100 -> 70.349252
A9: 桃園市 | B9: Taoyuan City | C9: 5679 | D9: 6111 | E9: 4144 | F9: 1288 | G9: 53 | H9: 2803 | I9: 1967 | J9: =E9/D9*100 -> 67.812142
A10: 臺中市 | B10: Taichung City | C10: 5241 | D10: 5656 | E10: 4800 | F10: 1401 | G10: 113 | H10: 3286 | I10: 856 | J10: =E10/D10*100 -> 84.865629
A11: 臺南市 | B11: Tainan City | C11: 3772 | D11: 3951 | E11: 3127 | F11: 753 | G11: 12 | H11: 2362 | I11: 824 | J11: =E11/D11*100 -> 79.14452
A12: 高雄市 | B12: Kaohsiung City | C12: 6940 | D12: 7441 | E12: 5574 | F12: 1622 | G12: 35 | H12: 3917 | I12: 1867 | J12: =E12/D12*100 -> 74.909286
A13: 宜蘭縣 | B13: Yilan County | C13: 512 | D13: 536 | E13: 459 | F13: 163 | G13: 1 | H13: 295 | I13: 77 | J13: =E13/D13*100 -> 85.634328
A14: 新竹縣 | B14: Hsinchu County | C14: 905 | D14: 932 | E14: 671 | F14: 239 | G14: 19 | H14: 413 | I14: 261 | J14: =E14/D14*100 -> 71.995708
A15: 苗栗縣 | B15: Miaoli County | C15: 822 | D15: 830 | E15: 506 | F15: 165 | G15: 11 | H15: 330 | I15: 324 | J15: =E15/D15*100 -> 60.963855
A16: 彰化縣 | B16: Changhua County | C16: 1959 | D16: 2032 | E16: 1570 | F16: 448 | G16: 4 | H16: 1118 | I16: 462 | J16: =E16/D16*100 -> 77.26378
A17: 南投縣 | B17: Nantou County | C17: 1089 | D17: 1243 | E17: 889 | F17: 309 | G17: 35 | H17: 545 | I17: 354 | J17: =E17/D17*100 -> 71.520515
... A28: 連江縣 | B28: Lienchiang County | C28: 8 | D28: 8 | E28: 8 | F28: 7 | G28: 1 | H28: 0 | I28: 0 | J28: =E28/D28*100 -> 100
A29: 資料來源：各直轄市、縣市政府。
A30: Source: County and Government.

Sheet 2020
A1: 兒童少年保護-調查處理及服務 Child and Youth Protection Cases - Number of Investigation and Service
A2: 單位：件；人 Unit : Cases,Persons
A3: 民國109年, 2020
A4: 區域別 Locality | C4: 通報調查處理 | E4: 提供後續處遇服務人數(人數) | I4: 經調查評估後 無後續服務需求 | J4: 提供服務率 (B/A)%
C5: 件數 | D5: 人數(A) | E5: 總計(B) | F5: 保護服務 | G5: 福利服務 | H5: 轉介其他資源
A6: 總計 | B6: Total | C6: 46105 | D6: 48392 | E6: 35160 | F6: 12610 | G6: 929 | H6: 21621 | I6: 13232 | J6: =E6/D6*100 -> 72.656637
A7: 新北市 | B7: New Taipei City | C7: 7330 | D7: 7411 | E7: 5869 | F7: 2110 | G7: 57 | H7: 3702 | I7: 1542 | J7: =E7/D7*100 -> 79.193091
A8: 臺北市 | B8: Taipei City | C8: 4539 | D8: 4561 | E8: 2872 | F8: 1020 | G8: 36 | H8: 1816 | I8: 1689 | J8: =E8/D8*100 -> 62.968647
A9: 桃園市 | B9: Taoyuan City | C9: 6116 | D9: 6695 | E9: 4897 | F9: 1808 | G9: 200 | H9: 2889 | I9: 1798 | J9: =E9/D9*100 -> 73.144137
A10: 臺中市 | B10: Taichung City | C10: 5543 | D10: 5836 | E10: 4665 | F10: 1202 | G10: 97 | H10: 3366 | I10: 1171 | J10: =E10/D10*100 -> 79.934887
A11: 臺南市 | B11: Tainan City | C11: 3878 | D11: 4103 | E11: 2917 | F11: 818 | G11: 38 | H11: 2061 | I11: 1186 | J11: =E11/D11*100 -> 71.094321
A12: 高雄市 | B12: Kaohsiung City | C12: 6059 | D12: 6560 | E12: 4894 | F12: 1620 | G12: 52 | H12: 3222 | I12: 1666 | J12: =E12/D12*100 -> 74.603659
A13: 宜蘭縣 | B13: Yilan County | C13: 469 | D13: 538 | E13: 399 | F13: 161 | G13: 0 | H13: 238 | I13: 139 | J13: =E13/D13*100 -> 74.163569
A14: 新竹縣 | B14: Hsinchu County | C14: 1048 | D14: 1083 | E14: 814 | F14: 343 | G14: 15 | H14: 456 | I14: 269 | J14: =E14/D14*100 -> 75.161588
A15: 苗栗縣 | B15: Miaoli County | C15: 822 | D15: 830 | E15: 506 | F15: 201 | G15: 17 | H15: 288 | I15: 324 | J15: =E15/D15*100 -> 60.963855
A16: 彰化縣 | B16: Changhua County | C16: 1985 | D16: 1985 | E16: 1207 | F16: 528 | G16: 3 | H16: 676 | I16: 778 | J16: =E16/D16*100 -> 60.806045
A17: 南投縣 | B17: Nantou County | C17: 1166 | D17: 1299 | E17: 849 | F17: 355 | G17: 51 | H17: 443 | I17: 450 | J17: =E17/D17*100 -> 65.357968
... A28: 連江縣 | B28: Lienchiang County | C28: 9 | D28: 16 | E28: 13 | F28: 9 | G28: 1 | H28: 3 | I28: 3 | J28: =E28/D28*100 -> 81.25
A29: 資料來源：各直轄市、縣市政府。
A30: Source: County and Government.

Sheet 2019
A1: 兒童少年保護-調查處理及服務 Child and Youth Protection Cases - Number of Investigation and Service
A2: 單位：件；人 Unit : Cases,Persons
A3: 108年, 2019
A4: 區域別 Locality | C4: 通報調查處理 | E4: 提供後續處遇服務人數(人數) | I4: 經調查評估後 無後續服務需求 | J4: 提供服務率 (B/A)%
C5: 件數 | D5: 人數(A) | E5: 總計(B) | F5: 保護服務 | G5: 福利服務 | H5: 轉介其他資源
A6: 總計 | B6: Total | C6: 39009 | D6: 40705 | E6: 27716 | F6: 11113 | G6: 1101 | H6: 15502 | I6: 12989 | J6: 68.089915
A7: 新北市 | B7: New Taipei City | C7: 6899 | D7: 6988 | E7: 5265 | F7: 1956 | G7: 121 | H7: 3188 | I7: 1723 | J7: 75.343446
A8: 臺北市 | B8: Taipei City | C8: 3399 | D8: 3406 | E8: 1825 | F8: 829 | G8: 71 | H8: 925 | I8: 1581 | J8: 53.581914
A9: 桃園市 | B9: Taoyuan City | C9: 4777 | D9: 5220 | E9: 3741 | F9: 1592 | G9: 145 | H9: 2004 | I9: 1479 | J9: 71.666667
A10: 臺中市 | B10: Taichung City | C10: 5125 | D10: 5372 | E10: 3384 | F10: 1185 | G10: 113 | H10: 2086 | I10: 1988 | J10: 62.993299
A11: 臺南市 | B11: Tainan City | C11: 2878 | D11: 2931 | E11: 1768 | F11: 688 | G11: 67 | H11: 1013 | I11: 1163 | J11: 60.32071
A12: 高雄市 | B12: Kaohsiung City | C12: 5577 | D12: 5984 | E12: 4574 | F12: 1566 | G12: 125 | H12: 2883 | I12: 1410 | J12: 76.437166
A13: 宜蘭縣 | B13: Yilan County | C13: 431 | D13: 436 | E13: 318 | F13: 169 | G13: 14 | H13: 135 | I13: 118 | J13: 72.93578
A14: 新竹縣 | B14: Hsinchu County | C14: 842 | D14: 902 | E14: 670 | F14: 334 | G14: 16 | H14: 320 | I14: 232 | J14: 74.279379
A15: 苗栗縣 | B15: Miaoli County | C15: 749 | D15: 750 | E15: 501 | F15: 180 | G15: 41 | H15: 280 | I15: 249 | J15: 66.8
A16: 彰化縣 | B16: Changhua County | C16: 1633 | D16: 1708 | E16: 1131 | F16: 431 | G16: 33 | H16: 667 | I16: 577 | J16: 66.217799
A17: 南投縣 | B17: Nantou County | C17: 803 | D17: 911 | E17: 617 | F17: 268 | G17: 100 | H17: 249 | I17: 294 | J17: 67.727772
... A22: 花蓮縣 | B22: Hualien County | C22: 805 | D22: 835 | E22: 408 | F22: 184 | G22: 42 | H22: 182 | I22: 427 | J22: 48.862275
A23: 澎湖縣 | B23: Penghu County | C23: 65 | D23: 65 | E23: 42 | F23: 31 | G23: - | H23: 11 | I23: 23 | J23: 64.615385
A24: 基隆市 | B24: Keelung City | C24: 598 | D24: 603 | E24: 457 | F24: 202 | G24: 19 | H24: 236 | I24: 146 | J24: 75.787728
A25: 新竹市 | B25: Hsinchu City | C25: 640 | D25: 672 | E25: 465 | F25: 200 | G25: 11 | H25: 254 | I25: 207 | J25: 69.196429
A26: 嘉義市 | B26: Chiayi City | C26: 365 | D26: 370 | E26: 245 | F26: 103 | G26: 17 | H26: 125 | I26: 125 | J26: 66.216216
A27: 金門縣 | B27: Kinmen County | C27: 107 | D27: 108 | E27: 70 | F27: 52 | G27: 6 | H27: 12 | I27: 38 | J27: 64.814815
A28: 連江縣 | B28: Lienchiang County | C28: 3 | D28: 3 | E28: 3 | F28: 3 | G28: - | H28: - | I28: - | J28: 100
A29: 資料來源：各直轄市、縣市政府。
A30: Source: County and Government.

Sheet 2018
A1: 家內兒童少年保護案件-調查及開案人數Intra-family Child and Youth Protection Cases - Number of Investigation and New Cases
A2: 單位：人 Unit : Persons
A3: 107年, 2018
A4: 區域別 Locality | C4: 調查處理人數 Number of Persons Subject to Investigation and Handling | D4: 開案人數 Number of Persons in New Cases | E4: 在案中人數 Number of Persons in Current Cases
A5: 總計 | B5: Total | C5: 21612 | D5: 4175 | E5: 1733
A6: 新北市 | B6: New Taipei City | C6: 3795 | D6: 712 | E6: 435
A7: 臺北市 | B7: Taipei City | C7: 1709 | D7: 395 | E7: 101
A8: 桃園市 | B8: Taoyuan City | C8: 2453 | D8: 510 | E8: 290
A9: 臺中市 | B9: Taichung City | C9: 2696 | D9: 534 | E9: 122
A10: 臺南市 | B10: Tainan City | C10: 1563 | D10: 318 | E10: 123
A11: 高雄市 | B11: Kaohsiung City | C11: 3358 | D11: 580 | E11: 214
A12: 宜蘭縣 | B12: Yilan County | C12: 173 | D12: 46 | E12: 5
A13: 新竹縣 | B13: Hsinchu County | C13: 433 | D13: 106 | E13: 61
A14: 苗栗縣 | B14: Miaoli County | C14: 312 | D14: 63 | E14: 12
A15: 彰化縣 | B15: Changhua County | C15: 1259 | D15: 124 | E15: 147
A16: 南投縣 | B16: Nantou County | C16: 250 | D16: 59 | E16: 10
... A27: 連江縣 | B27: Lienchiang County | C27: 13 | D27: 4 | E27: 1
A28: 資料來源：各直轄市、縣市政府。
A29: Source: County and Government.
A30: 更新日期：2019/4/1

Sheet 2017
A1: 家內兒童少年保護案件-調查及開案人數Intra-family Child and Youth Protection Cases - Number of Investigation and New Cases
A2: 單位：人 Unit : Persons
A3: 106年, 2017
A4: 區域別 Locality | C4: 調查處理人數 Number of Persons Subject to Investigation and Handling | D4: 開案人數 Number of Persons in New Cases | E4: 在案中人數 Number of Persons in Current Cases
A5: 總計 | B5: Total | C5: 22403 | D5: 4135 | E5: 1919
A6: 新北市 | B6: New Taipei City | C6: 3880 | D6: 702 | E6: 378
A7: 臺北市 | B7: Taipei City | C7: 1750 | D7: 262 | E7: 105
A8: 桃園市 | B8: Taoyuan City | C8: 2454 | D8: 559 | E8: 309
A9: 臺中市 | B9: Taichung City | C9: 3210 | D9: 621 | E9: 259
A10: 臺南市 | B10: Tainan City | C10: 1485 | D10: 238 | E10: 109
A11: 高雄市 | B11: Kaohsiung City | C11: 3575 | D11: 611 | E11: 279
A12: 宜蘭縣 | B12: Yilan County | C12: 214 | D12: 57 | E12: 9
A13: 新竹縣 | B13: Hsinchu County | C13: 300 | D13: 104 | E13: 36
A14: 苗栗縣 | B14: Miaoli County | C14: 383 | D14: 53 | E14: 13
A15: 彰化縣 | B15: Changhua County | C15: 1307 | D15: 159 | E15: 162
A16: 南投縣 | B16: Nantou County | C16: 257 | D16: 55 | E16: 13
... A27: 連江縣 | B27: Lienchiang County | C27: 8 | D27: 4 | E27: 0
A28: 資料來源：各直轄市、縣市政府。
A29: Source: County and Government.
A31: 更新日期：2018/3/31

Sheet 2016
A1: 兒童少年保護-受理案件及開案人數Number of Accepted and New Cases
A3: 105年, 2016
A4: 區域別 Locality | B4: 個案人數 Case (Persons)
B5: 受理案件人數 Number of persons in accepted cases | C5: 開案人數 Intervention
A8: 總計Total | B8: 40660 | C8: 9461
A9: 新北市New Taipei City | B9: 7784 | C9: 1295
A10: 臺北市Taipei City | B10: 2436 | C10: 1872
A11: 桃園市Taoyuan City | B11: 5324 | C11: 1007
A12: 臺中市Taichung City | B12: 5350 | C12: 899
A13: 臺南市Tainan City | B13: 2381 | C13: 556
A14: 高雄市Kaohsiung City | B14: 5641 | C14: 1241
A15: 宜蘭縣Yilan County | B15: 821 | C15: 146
A16: 新竹縣Hsinchu County | B16: 931 | C16: 207
A17: 苗栗縣Miaoli County | B17: 780 | C17: 179
A18: 彰化縣Changhua County | B18: 1725 | C18: 304
A19: 南投縣Nantou County | B19: 524 | C19: 115
... A30: 連江縣Lienchiang County | B30: 3 | C30: 3
A31: 資料來源：各直轄市、縣市政府。
A32: Source: County and Government.
A34: 更新日期：2017/3/9

Sheet 2015
A1: 兒童少年保護-受理案件及開案人數Number of Accepted and New Cases
A3: 104年, 2015 | B3: =IF(B8=SUM(B9:B14,B15:B28,B29:B30),"","") | C3: =IF(C8=SUM(C9:C14,C15:C28,C29:C30),"","")
A4: 區域別 Locality | B4: 個案人數 Case (Persons)
B5: 受理案件人數 Number of Persons in Accepted Cases | C5: 開案人數 Intervention
A8: 總計Total | B8: 41512 | C8: 9604
A9: 新北市New Taipei City | B9: 8296 | C9: 1509
A10: 臺北市Taipei City | B10: 2557 | C10: 2258
A11: 桃園市Taoyuan City | B11: 5075 | C11: 1043
A12: 臺中市Taichung City | B12: 5451 | C12: 636
A13: 臺南市Tainan City | B13: 2476 | C13: 375
A14: 高雄市Kaohsiung City | B14: 5825 | C14: 860
A15: 宜蘭縣Yilan County | B15: 953 | C15: 183
A16: 新竹縣Hsinchu County | B16: 953 | C16: 116
A17: 苗栗縣Miaoli County | B17: 923 | C17: 251
A18: 彰化縣Changhua County | B18: 1690 | C18: 184
A19: 南投縣Nantou County | B19: 756 | C19: 91
... A30: 連江縣Lienchiang County | B30: 9 | C30: 3
A31: 資料來源：各直轄市、縣市政府。
A32: Source: County and Government.
A34: 更新日期：2016/3/8
