Workbook
Name pp: '105'!$A$1:$AI$10
Name pp: '105~108'!$A$1:$AI$8
Name pp: '106'!$A$1:$AI$10
Name pp: '107'!$A$1:$AI$10
Name pp: '108'!$A$1:$AI$10
Name pp: '109 '!$A$1:$Y$10
Name pp: '110'!$A$1:$Y$10
Name pp: '111'!$A$1:$Y$11
Name pp: '112'!$A$1:$Y$11
Name pp: '113'!$A$1:$AC$11
Name pp: '歷年(109~)'!$A$1:$Y$7
Name pp: #REF!
Name ppp: #REF!
Name ppp: #REF!
Name ppp: #REF!
Name ppp: #REF!
Name ppp: #REF!
Name ppp: #REF!
Name ppp: #REF!
Name ppp: #REF!
Name ppp: #REF!
Name ppp: #REF!
Name ppp: #REF!
Name ppp: #REF!
Name 低收: #REF!
Name 低收: #REF!
Name 低收: #REF!
Name 低收: #REF!
Name 低收: #REF!
Name 低收: #REF!
Name 低收: #REF!
Name 低收: #REF!
Name 低收: #REF!
Name 低收: #REF!
Name 低收: #REF!
Name 低收: #REF!

Sheet 歷年(109~)
A1: 性侵害加害人處遇
A3: 年別 Year | C3: (1)加害人個案人數按處分類別分(人) (不含依少年事件處理法裁定保護處分確定而法院認有必要者) | Z3: (2)本期加害人個案尚接受身心治療或輔導教育者按再犯等級分(人) (不含依少年事件處理法裁定保護處分確定而法院認有必要者) | AK3: (3)本期加害人個案尚接受身心治療或輔導教育者按處遇期程分(人) (不含依少年事件處理法裁定保護處分確定而法院認有必要者) | BD3: (4)本期加害人個案暫停處遇人數按暫停原因分(人)(不含依少年事件處理法裁定保護處分確定而法院認有必要者) | BQ3: (5)處遇期間再犯人數按再犯案件分(人)(不含依少年事件處理法裁定保護處分確定而法院認有必要者) | BZ3: (6)加害人個案已結案人數按結案狀態分(人)(不含依少年事件處理法裁定保護處分確定而法院認有必要者) | DA3: (7)加害人個案裁罰移送狀況(人次)(不含依少年事件處理法裁定保護處分確定而法院認有必要者) | DQ3: (8)本期加害人個案裁罰移送狀況(人數)(不含依少年事件處理法裁定保護處分確定而法院認有必要者) | EM3: (9)依少年事件處理法裁定保護處分確定而法院裁定實施身心治療或輔導教育處遇者按處遇狀態分(人) | FL3: (9)依少年事件處理法裁定保護處分確定而法院裁定實施身心治療或輔導教育處遇者按處遇狀態分(人)
C4: 合計Total | F4: 有期徒刑或保安處分執行完畢 | H4: 有期徒刑經易服社會勞動 | J4: 假釋 | L4: 緩刑 | N4: 免刑 | P4: 赦免 | R4: 經法院、軍事法院依第22條之1第3項裁定停止強制治療 | T4: 經緩起訴處分確定者 | V4: 犯性騷擾防治法第25條判決有罪確定者 | X4: 犯兒少性剝削防制條例第31條判決有罪確定者 | Z4: 合計Total | AC4: 低再犯 | AE4: 中低再犯 | AG4: 中高再犯 | AI4: 高再犯 | AK4: 合計Total | AN4: 未滿3個月 | AP4: 3個月以上未滿6個月 | AR4: 6個月以上未滿9個月 | AT4: 9個月以上未滿1年 | AV4: 1年以上未滿1年6個月 | AX4: 1年6個月以上未滿2年 | AZ4: 2年以上未滿3年 | BB4: 3年以上至4年 | BD4: 合計 | BG4: 傷殘住院 | BI4: 出國 | BK4: 服兵役 | BM4: 因他案入監服刑 | BO4: 其他 | BQ4: 合計Total | BT4: 再犯性侵害案件 | BV4: 再犯其他案件 且合併性侵害 | BX4: 再犯其他非性侵害案件 | BZ4: 合計Total | CC4: 無須處遇個案 | CF4: 完成處遇人數 | CI4: 未完成處遇已結案人數按結案原因分(人) | CU4: 轉入強制治療人數(人) | DA4: 累計應裁罰移送人次 | DD4: 累計處以行政罰鍰人次 | DG4: 累計聲請移送人次 | DJ4: 累計移送結果確定者按結果分 | DQ4: 本期應裁罰移送個案人數 | DT4: 本期處以行政罰鍰人數 | DW4: 本期聲請移送者按階段分(人數) | EF4: 累計移送結果確定者按結果分(人數) | EM4: 本年截至本期累計少年性侵害行為人個案數 | EP4: 本年截至本期累計無須處遇人數 | ES4: 本年截至本期累計完成處遇人數 | EV4: 本期尚在接受處遇人數 | EY4: 本期暫停處遇人數按暫停原因分 | FL4: 本年截至本期累計未完成處遇已結案人數按結案原因分
C5: 計Total | D5: 男 Male | E5: 女Female | F5: 男 Male | G5: 女Female | H5: 男 Male | I5: 女Female | J5: 男 Male | K5: 女Female | L5: 男 Male | M5: 女Female | N5: 男 Male | O5: 女Female | P5: 男 Male | Q5: 女Female | R5: 男 Male | S5: 女Female | T5: 男 Male | U5: 女Female | V5: 男 Male | W5: 女Female | X5: 男 Male | Y5: 女Female | Z5: 計Total | AA5: 男 Male | AB5: 女Female | AC5: 男 Male | AD5: 女Female | AE5: 男 Male | AF5: 女Female | AG5: 男 Male | AH5: 女Female | AI5: 男 Male | AJ5: 女Female | AK5: 計Total | AL5: 男 Male | AM5: 女Female | AN5: 男 Male | AO5: 女Female | AP5: 男 Male | AQ5: 女Female | AR5: 男 Male | AS5: 女Female | AT5: 男 Male | AU5: 女Female | AV5: 男 Male | AW5: 女Female | AX5: 男 Male | AY5: 女Female | AZ5: 男 Male | BA5: 女Female | BB5: 男 Male | BC5: 女Female | BD5: 計Total | BE5: 男 Male | BF5: 女Female | BG5: 男 Male | BH5: 女Female | BI5: 男 Male | BJ5: 女Female | BK5: 男 Male | BL5: 女Female | BM5: 男 Male | BN5: 女Female | BO5: 男 Male | BP5: 女Female | BQ5: 計Total | BR5: 男 Male | BS5: 女Female | BT5: 男 Male | BU5: 女Female | BV5: 男 Male | BW5: 女Female | BX5: 男 Male | BY5: 女Female | BZ5: 計Total | CA5: 男 Male | CB5: 女Female | CC5: 計Total | CD5: 男 Male | CE5: 女Female | CF5: 計Total | CG5: 男 Male | CH5: 女Female | CI5: 計Total | CK5: 因再犯性侵害罪入獄 | CM5: 戶籍移轉外縣市 | CO5: 死亡 | CQ5: 長期入住機構 | CS5: 其他 | CU5: 計Total | CW5: 依性侵害犯罪防治法第22條規定 | CY5: 依性侵害犯罪防治法第22條之1規定 | DA5: 計 Total | DB5: 男 Male | DC5: 女Female | DD5: 計 Total | DE5: 男 Male | DF5: 女Female | DG5: 計 Total | DH5: 男 Male | DI5: 女Female | DJ5: 合計Total | DM5: 駁回或不起訴者 | DO5: 其他判決結果 | DQ5: 計 Total | DR5: 男 Male | DS5: 女Female | DT5: 計 Total | DU5: 男 Male | DV5: 女Female | DW5: 合計Total | DZ5: 移送家防中心/警察局/其他機關 | EB5: 移送地檢署 | ED5: 移送法院 | EF5: 合計Total | EI5: 駁回或不起訴者 | EK5: 其他判決結果 | EM5: 計 Total | EN5: 男 Male | EO5: 女Female | EP5: 計 Total | EQ5: 男 Male | ER5: 女Female | ES5: 計 Total | ET5: 男 Male | EU5: 女Female | EV5: 計 Total | EW5: 男 Male | EX5: 女Female | EY5: 合計Total | FB5: 傷殘住院 | FD5: 出國 | FF5: 服兵役 | FH5: 因他案入感化教育處所或監獄 | FJ5: 其他 | FL5: 合計Total | FO5: 保護處分期滿且未依規定接受處遇，檢還少年法院(庭) | FQ5: 保護處分期限未滿且未依規定接受處遇，檢還少年法院(庭) | FS5: 再犯性侵入感化教育處所或監獄 | FU5: 戶籍移轉外縣市 | FW5: 死亡 | FY5: 長期入住機構 | GA5: 其他
CI6: 男 Male | CJ6: 女Female | CK6: 男 Male | CL6: 女Female | CM6: 男 Male | CN6: 女Female | CO6: 男 Male | CP6: 女Female | CQ6: 男 Male | CR6: 女Female | CS6: 男 Male | CT6: 女Female | CU6: 男 Male | CV6: 女Female | CW6: 男 Male | CX6: 女Female | CY6: 男 Male | CZ6: 女Female | DJ6: 計 Total | DK6: 男 Male | DL6: 女Female | DM6: 男 Male | DN6: 女Female | DO6: 男 Male | DP6: 女Female | DW6: 計 Total | DX6: 男 Male | DY6: 女Female | DZ6: 男 Male | EA6: 女Female | EB6: 男 Male | EC6: 女Female | ED6: 男 Male | EE6: 女Female | EF6: 計 Total | EG6: 男 Male | EH6: 女Female | EI6: 男 Male | EJ6: 女Female | EK6: 男 Male | EL6: 女Female | EY6: 計 Total | EZ6: 男 Male | FA6: 女Female | FB6: 男 Male | FC6: 女Female | FD6: 男 Male | FE6: 女Female | FF6: 男 Male | FG6: 女Female | FH6: 男 Male | FI6: 女Female | FJ6: 男 Male | FK6: 女Female | FL6: 計 Total | FM6: 男 Male | FN6: 女Female | FO6: 男 Male | FP6: 女Female | FQ6: 男 Male | FR6: 女Female | FS6: 男 Male | FT6: 女Female | FU6: 男 Male | FV6: 女Female | FW6: 男 Male | FX6: 女Female | FY6: 男 Male | FZ6: 女Female | GA6: 男 Male | GB6: 女Female
A7: 109年 2020 | C7: 6821 | D7: 6785 | E7: 36 | F7: 2308 | G7: 4 | H7: 113 | I7: 0 | J7: 1982 | K7: 20 | L7: 1743 | M7: 5 | N7: 0 | O7: 0 | P7: 0 | Q7: 0 | R7: 41 | S7: 0 | T7: 347 | U7: 7 | V7: 224 | W7: 0 | X7: 27 | Y7: 0 | Z7: 4461 | AA7: 4437 | AB7: 24 | AC7: 1579 | AD7: 9 | AE7: 2280 | AF7: 14 | AG7: 523 | AH7: 1 | AI7: 55 | AJ7: 0 | AK7: 4461 | AL7: 4437 | AM7: 24 | AN7: 727 | AO7: 5 | AP7: 770 | AQ7: 7 | AR7: 447 | AS7: 1 | AT7: 437 | AU7: 3 | AV7: 862 | AW7: 3 | AX7: 354 | AY7: 3 | AZ7: 478 | BA7: 1 | BB7: 362 | BC7: 1 | BD7: 292 | BE7: 292 | BF7: 0 | BG7: 27 | BH7: 0 | BI7: 3 | BJ7: 0 | BK7: 2 | BL7: 0 | BM7: 186 | BN7: 0 | BO7: 74 | BP7: 0 | BQ7: 363 | BR7: 363 | BS7: 0 | BT7: 98 | BU7: 0 | BV7: 5 | BW7: 0 | BX7: 260 | BY7: 0 | BZ7: 2068 | CA7: 2056 | CB7: 12 | CC7: 25 | CD7: 25 | CE7: 0 | CF7: 1615 | CG7: 1604 | CH7: 11 | CI7: 421 | CJ7: 1 | CK7: 54 | CL7: 0 | CM7: 176 | CN7: 1 | CO7: 25 | CP7: 0 | CQ7: 17 | CR7: 0 | CS7: 149 | CT7: 0 | CU7: 6 | CV7: 0 | CW7: 5 | CX7: 0 | CY7: 1 | CZ7: 0 | DA7: 638 | DB7: 634 | DC7: 4 | DD7: 520 | DE7: 517 | DF7: 3 | DG7: 374 | DH7: 372 | DI7: 2 | DJ7: 120 | DK7: 119 | DL7: 1 | DM7: 49 | DN7: 1 | DO7: 70 | DP7: 0 | DQ7: 448 | DR7: 446 | DS7: 2 | DT7: 371 | DU7: 369 | DV7: 2 | DW7: 325 | DX7: 323 | DY7: 2 | DZ7: 133 | EA7: 1 | EB7: 167 | EC7: 1 | ED7: 23 | EE7: 0 | EF7: 90 | EG7: 89 | EH7: 1 | EI7: 44 | EJ7: 1 | EK7: 45 | EL7: 0 | EM7: 1344 | EN7: 1296 | EO7: 48 | EP7: 7 | EQ7: 5 | ER7: 2 | ES7: 314 | ET7: 295 | EU7: 19 | EV7: 804 | EW7: 785 | EX7: 19 | EY7: 55 | EZ7: 53 | FA7: 2 | FB7: 2 | FC7: 0 | FD7: 0 | FE7: 0 | FF7: 4 | FG7: 0 | FH7: 42 | FI7: 1 | FJ7: 5 | FK7: 1 | FL7: 164 | FM7: 158 | FN7: 6 | FO7: 79 | FP7: 3 | FQ7: 13 | FR7: 1 | FS7: 10 | FT7: 0 | FU7: 27 | FV7: 1 | FW7: 6 | FX7: 0 | FY7: 5 | FZ7: 0 | GA7: 18 | GB7: 1
A8: 110年 2021 | C8: 6540 | D8: 6500 | E8: 40 | F8: 2054 | G8: 9 | H8: 122 | I8: 0 | J8: 1928 | K8: 20 | L8: 1738 | M8: 4 | N8: 0 | O8: 0 | P8: 0 | Q8: 0 | R8: 33 | S8: 0 | T8: 322 | U8: 6 | V8: 286 | W8: 1 | X8: 17 | Y8: 0 | Z8: 4604 | AA8: 4577 | AB8: 27 | AC8: 1614 | AD8: 15 | AE8: 2394 | AF8: 10 | AG8: 510 | AH8: 2 | AI8: 59 | AJ8: 0 | AK8: 4604 | AL8: 4577 | AM8: 27 | AN8: 765 | AO8: 6 | AP8: 750 | AQ8: 9 | AR8: 475 | AS8: 3 | AT8: 427 | AU8: 0 | AV8: 902 | AW8: 4 | AX8: 382 | AY8: 4 | AZ8: 461 | BA8: 1 | BB8: 415 | BC8: 0 | BD8: 369 | BE8: 368 | BF8: 1 | BG8: 32 | BH8: 0 | BI8: 7 | BJ8: 0 | BK8: 13 | BL8: 0 | BM8: 236 | BN8: 0 | BO8: 80 | BP8: 1 | BQ8: 419 | BR8: 419 | BS8: 0 | BT8: 63 | BU8: 0 | BV8: 4 | BW8: 0 | BX8: 352 | BY8: 0 | BZ8: 1567 | CA8: 1555 | CB8: 12 | CC8: 25 | CD8: 25 | CE8: 0 | CF8: 1258 | CG8: 1250 | CH8: 8 | CI8: 272 | CJ8: 4 | CK8: 41 | CL8: 0 | CM8: 121 | CN8: 4 | CO8: 34 | CP8: 0 | CQ8: 5 | CR8: 0 | CS8: 71 | CT8: 0 | CU8: 8 | CV8: 0 | CW8: 3 | CX8: 0 | CY8: 6 | CZ8: 0 | DA8: 711 | DB8: 707 | DC8: 4 | DD8: 486 | DE8: 484 | DF8: 2 | DG8: 494 | DH8: 490 | DI8: 4 | DJ8: 107 | DK8: 107 | DL8: 0 | DM8: 49 | DN8: 0 | DO8: 58 | DP8: 0 | DQ8: 574 | DR8: 571 | DS8: 3 | DT8: 372 | DU8: 371 | DV8: 1 | DW8: 402 | DX8: 399 | DY8: 3 | DZ8: 208 | EA8: 3 | EB8: 175 | EC8: 0 | ED8: 16 | EE8: 0 | EF8: 88 | EG8: 88 | EH8: 0 | EI8: 43 | EJ8: 0 | EK8: 45 | EL8: 0 | EM8: 1228 | EN8: 1173 | EO8: 55 | EP8: 9 | EQ8: 8 | ER8: 1 | ES8: 265 | ET8: 248 | EU8: 17 | EV8: 842 | EW8: 806 | EX8: 36 | EY8: 28 | EZ8: 28 | FA8: 0 | FB8: 0 | FC8: 0 | FD8: 0 | FE8: 0 | FF8: 2 | FG8: 0 | FH8: 26 | FI8: 0 | FJ8: 0 | FK8: 0 | FL8: 84 | FM8: 83 | FN8: 1 | FO8: 38 | FP8: 1 | FQ8: 8 | FR8: 0 | FS8: 8 | FT8: 0 | FU8: 13 | FV8: 0 | FW8: 0 | FX8: 0 | FY8: 0 | FZ8: 0 | GA8: 16 | GB8: 0
A10: 年別 Year | C10: (1)本年截至本期加害人個案人數按處分類別分(人) (不含依少年事件處理法裁定保護處分確定而法院認有必要者) | Z10: (2)本期加害人個案尚接受身心治療或輔導教育者按再犯等級分(人) (不含依少年事件處理法裁定保護處分確定而法院認有必要者) | AM10: (3)本期加害人個案尚接受身心治療或輔導教育者按處遇期程分(人) (不含依少年事件處理法裁定保護處分確定而法院認有必要者) | BF10: (4)本期加害人個案暫停處遇人數按暫停原因分(人)(不含依少年事件處理法裁定保護處分確定而法院認有必要者) | BS10: (5)本年截至本期累計處遇期間再犯人數按再犯案件分(人)(不含依少年事件處理法裁定保護處分確定而法院認有必要者) | CB10: (6)本年截至本期累計加害人個案已結案人數按結案狀態分(人)(不含依少年事件處理法裁定保護處分確定而法院認有必要者) | DC10: (7)本年截至本期加害人個案行政裁罰情形(不含依少年事件處理法裁定保護處分確定而法院認有必要者) | ED10: (8)本年截至本期加害人個案移送情形(不含依少年事件處理法裁定保護處分確定而法院認有必要者) | FA10: (8)本年截至本期加害人個案移送情形(不含依少年事件處理法裁定保護處分確定而法院認有必要者) | FO10: (9)依少年事件處理法裁定保護處分確定而法院認有必要，經縣市政府評估接受身心治療或輔導教育者按處遇狀態分(人) | GK10: (9)依少年事件處理法裁定保護處分確定而法院認有必要，經縣市政府評估接受身心治療或輔導教育者按處遇狀態分(人)
C11: 合計Total | F11: 犯性侵害罪者 | V11: 犯性騷擾防治法第25條判決有罪確定者 | X11: 犯兒少性剝削防制條例第31條判決有罪確定者 | Z11: 合計Total | AC11: 評估中 | AE11: 低再犯 | AG11: 中低再犯 | AI11: 中高再犯 | AK11: 高再犯 | AM11: 合計Total | AP11: 未滿3個月 | AR11: 3個月以上 未滿6個月 | AT11: 6個月以上 未滿9個月 | AV11: 9個月以上 未滿1年 | AX11: 1年以上 未滿1年6個月 | AZ11: 1年6個月以上 未滿2年 | BB11: 2年以上 未滿3年 | BD11: 3年以上至4年 | BF11: 合計 | BI11: 傷殘住院 | BK11: 出國 | BM11: 服兵役 | BO11: 因他案 入監服刑 | BQ11: 其他 | BS11: 合計Total | BV11: 再犯性侵害案件 | BX11: 再犯其他案件 且合併性侵害 | BZ11: 再犯其他非性侵害案件 | CB11: 合計Total | CE11: 本年截至本期累計無須處遇個案 | CH11: 本年截至本期累計完成處遇人數 | CK11: 本年截至本期累計未完成處遇已結案人數按結案原因分(人) | CW11: 本年截至本期累計轉入強制治療人數(人) | DC11: 應行政裁罰個案人數(人) | DL11: 申請行政裁罰個案人次(人次) | DU11: 申請行政裁罰者按結果分(人次) | ED11: 應移送個案人數(人) | EM11: 聲請移送個案人次(人次) | EV11: 聲請移送者按階段分(人次) | FO11: 本年截至本期累計少年性侵害行為人個案人數 | FR11: 本年截至本期累計無須處遇人數 | FU11: 本年截至本期累計完成處遇人數 | FX11: 本期尚在接受處遇者按再犯等級分(人) | GK11: 本期暫停處遇人數按暫停原因分 | GX11: 本年截至本期累計未完成處遇已結案人數按結案原因分
F12: 有期徒刑或保安處分執行完畢 | H12: 有期徒刑經易服社會勞動 | J12: 假釋 | L12: 緩刑 | N12: 免刑 | P12: 赦免 | R12: 經法院、軍事法院依第22條之1第3項裁定停止強制治療 | T12: 經緩起訴處分確定者 | EV12: 合計Total (K)=L+M+N | EY12: 移送家防中心/警察局/其他機關 (L) | FA12: 移送地檢署 (M)=m1+m2+m3 | FI12: 移送法院(人次) (N)=m4=n1+n2+n3
C13: 計Total | D13: 男 Male | E13: 女Female | F13: 男 Male | G13: 女Female | H13: 男 Male | I13: 女Female | J13: 男 Male | K13: 女Female | L13: 男 Male | M13: 女Female | N13: 男 Male | O13: 女Female | P13: 男 Male | Q13: 女Female | R13: 男 Male | S13: 女Female | T13: 男 Male | U13: 女Female | V13: 男 Male | W13: 女Female | X13: 男 Male | Y13: 女Female | Z13: 計Total | AA13: 男 Male | AB13: 女Female | AC13: 男 Male | AD13: 女Female | AE13: 男 Male | AF13: 女Female | AG13: 男 Male | AH13: 女Female | AI13: 男 Male | AJ13: 女Female | AK13: 男 Male | AL13: 女Female | AM13: 計Total | AN13: 男 Male | AO13: 女Female | AP13: 男 Male | AQ13: 女Female | AR13: 男 Male | AS13: 女Female | AT13: 男 Male | AU13: 女Female | AV13: 男 Male | AW13: 女Female | AX13: 男 Male | AY13: 女Female | AZ13: 男 Male | BA13: 女Female | BB13: 男 Male | BC13: 女Female | BD13: 男 Male | BE13: 女Female | BF13: 計Total | BG13: 男 Male | BH13: 女Female | BI13: 男 Male | BJ13: 女Female | BK13: 男 Male | BL13: 女Female | BM13: 男 Male | BN13: 女Female | BO13: 男 Male | BP13: 女Female | BQ13: 男 Male | BR13: 女Female | BS13: 計Total | BT13: 男 Male | BU13: 女Female | BV13: 男 Male | BW13: 女Female | BX13: 男 Male | BY13: 女Female | BZ13: 男 Male | CA13: 女Female | CB13: 計Total | CC13: 男 Male | CD13: 女Female | CE13: 計Total | CF13: 男 Male | CG13: 女Female | CH13: 計Total | CI13: 男 Male | CJ13: 女Female | CK13: 計Total | CM13: 因再犯性侵害罪入獄 | CO13: 戶籍移轉外縣市 | CQ13: 死亡 | CS13: 長期入住機構 | CU13: 其他 | CW13: 計Total | CY13: 依性侵害犯罪防治法第22條規定 | DA13: 依性侵害犯罪防治法第22條之1規定 | DC13: 合計Total | DF13: 前年度應行政裁罰但結果未確定人數 | DI13: 本年度 應行政裁罰人數 | DL13: 合計Total | DO13: 前年度申請行政裁罰但結果未確定人次 | DR13: 本年度申請行政裁罰人次 | DU13: 調查或簽辦中 | DX13: 駁回或不罰 | EA13: 裁罰確定 | ED13: 合計Total | EG13: 前年度應移送但結果未確定人數 | EJ13: 本年度應移送人數 | EM13: 合計Total | EP13: 前年度移送但結果未確定人次 | ES13: 本年度聲請移送人次 | FA13: 偵查中 (m1) | FC13: 駁回或不起訴 (m2) | FE13: 緩起訴 (m3) | FG13: 起訴 (m4) | FI13: 審理中 (n1) | FK13: 無罪 (n2) | FM13: 有罪(拘役、有期徒刑等) (n3) | FO13: 計 Total | FP13: 男 Male | FQ13: 女Female | FR13: 計 Total | FS13: 男 Male | FT13: 女Female | FU13: 計 Total | FV13: 男 Male | FW13: 女Female | FX13: 合計Total | GA13: 評估中 | GC13: 低再犯 | GE13: 中低再犯 | GG13: 中高再犯 | GI13: 高再犯 | GK13: 合計Total | GN13: 傷殘住院 | GP13: 出國 | GR13: 服兵役 | GT13: 因他案入感化教育處所或監獄 | GV13: 其他 | GX13: 合計Total | HA13: 保護處分期滿且未依規定接受處遇，檢還少年法院(庭) | HC13: 保護處分期限未滿且未依規定接受處遇，檢還少年法院(庭) | HE13: 再犯性侵害案件入感化教育處所或監獄 | HG13: 戶籍移轉外縣市 | HI13: 死亡 | HK13: 長期入住機構 | HM13: 其他
CK14: 男 Male | CL14: 女Female | CM14: 男 Male | CN14: 女Female | CO14: 男 Male | CP14: 女Female | CQ14: 男 Male | CR14: 女Female | CS14: 男 Male | CT14: 女Female | CU14: 男 Male | CV14: 女Female | CW14: 男 Male | CX14: 女Female | CY14: 男 Male | CZ14: 女Female | DA14: 男 Male | DB14: 女Female | DC14: 計 Total | DD14: 男 Male | DE14: 女Female | DF14: 計 Total | DG14: 男 Male | DH14: 女Female | DI14: 計 Total | DJ14: 男 Male | DK14: 女Female | DL14: 計 Total | DM14: 男 Male | DN14: 女Female | DO14: 計 Total | DP14: 男 Male | DQ14: 女Female | DR14: 計 Total | DS14: 男 Male | DT14: 女Female | DU14: 計 Total | DV14: 男 Male | DW14: 女Female | DX14: 計 Total | DY14: 男 Male | DZ14: 女Female | EA14: 計 Total | EB14: 男 Male | EC14: 女Female | ED14: 計 Total | EE14: 男 Male | EF14: 女Female | EG14: 計 Total | EH14: 男 Male | EI14: 女Female | EJ14: 計 Total | EK14: 男 Male | EL14: 女Female | EM14: 計 Total | EN14: 男 Male | EO14: 女Female | EP14: 計 Total | EQ14: 男 Male | ER14: 女Female | ES14: 計 Total | ET14: 男 Male | EU14: 女Female | EV14: 計 Total | EW14: 男 Male | EX14: 女Female | EY14: 男 Male | EZ14: 女Female | FA14: 男 Male | FB14: 女Female | FC14: 男 Male | FD14: 女Female | FE14: 男 Male | FF14: 女Female | FG14: 男 Male | FH14: 女Female | FI14: 男 Male | FJ14: 女Female | FK14: 男 Male | FL14: 女Female | FM14: 男 Male | FN14: 女Female | FX14: 計 Total | FY14: 男 Male | FZ14: 女Female | GA14: 男 Male | GB14: 女Female | GC14: 男 Male | GD14: 女Female | GE14: 男 Male | GF14: 女Female | GG14: 男 Male | GH14: 女Female | GI14: 男 Male | GJ14: 女Female | GK14: 計 Total | GL14: 男 Male | GM14: 女Female | GN14: 男 Male | GO14: 女Female | GP14: 男 Male | GQ14: 女Female | GR14: 男 Male | GS14: 女Female | GT14: 男 Male | GU14: 女Female | GV14: 男 Male | GW14: 女Female | GX14: 計 Total | GY14: 男 Male | GZ14: 女Female | HA14: 男 Male | HB14: 女Female | HC14: 男 Male | HD14: 女Female | HE14: 男 Male | HF14: 女Female | HG14: 男 Male | HH14: 女Female | HI14: 男 Male | HJ14: 女Female | HK14: 男 Male | HL14: 女Female | HM14: 男 Male | HN14: 女Female
A15: 111年 2022 | C15: 6678 | D15: 6631 | E15: 47 | F15: 2097 | G15: 8 | H15: 128 | I15: 0 | J15: 1794 | K15: 18 | L15: 1875 | M15: 13 | N15: 4 | O15: 0 | P15: 0 | Q15: 0 | R15: 35 | S15: 0 | T15: 350 | U15: 7 | V15: 330 | W15: 1 | X15: 18 | Y15: 0 | Z15: 4482 | AA15: 4453 | AB15: 29 | AC15: 466 | AD15: 7 | AE15: 1092 | AF15: 7 | AG15: 2351 | AH15: 14 | AI15: 495 | AJ15: 1 | AK15: 49 | AL15: 0 | AM15: 4482 | AN15: 4453 | AO15: 29 | AP15: 755 | AQ15: 10 | AR15: 663 | AS15: 4 | AT15: 508 | AU15: 3 | AV15: 557 | AW15: 3 | AX15: 733 | AY15: 4 | AZ15: 389 | BA15: 4 | BB15: 434 | BC15: 1 | BD15: 414 | BE15: 0 | BF15: 450 | BG15: 448 | BH15: 2 | BI15: 28 | BJ15: 0 | BK15: 14 | BL15: 0 | BM15: 7 | BN15: 0 | BO15: 343 | BP15: 2 | BQ15: 56 | BR15: 0 | BS15: 239 | BT15: 238 | BU15: 1 | BV15: 41 | BW15: 0 | BX15: 0 | BY15: 0 | BZ15: 197 | CA15: 1 | CB15: 1746 | CC15: 1730 | CD15: 16 | CE15: 20 | CF15: 20 | CG15: 0 | CH15: 1448 | CI15: 1435 | CJ15: 13 | CK15: 266 | CL15: 3 | CM15: 27 | CN15: 0 | CO15: 156 | CP15: 2 | CQ15: 31 | CR15: 1 | CS15: 7 | CT15: 0 | CU15: 45 | CV15: 0 | CW15: 9 | CX15: 0 | CY15: 7 | CZ15: 0 | DA15: 2 | DB15: 0 | DC15: 1083 | DD15: 1080 | DE15: 3 | DF15: 36 | DG15: 36 | DH15: 0 | DI15: 1047 | DJ15: 1044 | DK15: 3 | DL15: 1398 | DM15: 1395 | DN15: 3 | DO15: 59 | DP15: 59 | DQ15: 0 | DR15: 1339 | DS15: 1336 | DT15: 3 | DU15: 510 | DV15: 510 | DW15: 0 | DX15: 70 | DY15: 70 | DZ15: 0 | EA15: 818 | EB15: 815 | EC15: 3 | ED15: 555 | EE15: 552 | EF15: 3 | EG15: 100 | EH15: 100 | EI15: 0 | EJ15: 455 | EK15: 452 | EL15: 3 | EM15: 745 | EN15: 742 | EO15: 3 | EP15: 124 | EQ15: 124 | ER15: 0 | ES15: 621 | ET15: 618 | EU15: 3 | EV15: 745 | EW15: 742 | EX15: 3 | EY15: 228 | EZ15: 1 | FA15: 336 | FB15: 1 | FC15: 58 | FD15: 0 | FE15: 2 | FF15: 0 | FG15: 118 | FH15: 1 | FI15: 46 | FJ15: 0 | FK15: 2 | FL15: 0 | FM15: 70 | FN15: 1 | FO15: 1329 | FP15: 1277 | FQ15: 52 | FR15: 17 | FS15: 16 | FT15: 1 | FU15: 350 | FV15: 329 | FW15: 21 | FX15: 805 | FY15: 780 | FZ15: 25 | GA15: 157 | GB15: 10 | GC15: 231 | GD15: 6 | GE15: 307 | GF15: 8 | GG15: 79 | GH15: 1 | GI15: 6 | GJ15: 0 | GK15: 48 | GL15: 47 | GM15: 1 | GN15: 1 | GO15: 0 | GP15: 2 | GQ15: 0 | GR15: 7 | GS15: 0 | GT15: 36 | GU15: 1 | GV15: 1 | GW15: 0 | GX15: 109 | GY15: 105 | GZ15: 4 | HA15: 71 | HB15: 3 | HC15: 10 | HD15: 0 | HE15: 5 | HF15: 0 | HG15: 9 | HH15: 0 | HI15: 1 | HJ15: 0 | HK15: 0 | HL15: 0 | HM15: 9 | HN15: 1
A16: 112年 2023 | C16: 6629 | D16: 6584 | E16: 45 | F16: 2062 | G16: 5 | H16: 119 | I16: 0 | J16: 1606 | K16: 13 | L16: 1977 | M16: 14 | N16: 1 | O16: 3 | P16: 0 | Q16: 0 | R16: 34 | S16: 0 | T16: 359 | U16: 6 | V16: 394 | W16: 4 | X16: 32 | Y16: 0 | Z16: 4197 | AA16: 4178 | AB16: 19 | AC16: 289 | AD16: 3 | AE16: 1043 | AF16: 3 | AG16: 2289 | AH16: 12 | AI16: 492 | AJ16: 1 | AK16: 65 | AL16: 0 | AM16: 4197 | AN16: 4178 | AO16: 19 | AP16: 685 | AQ16: 8 | AR16: 627 | AS16: 2 | AT16: 472 | AU16: 0 | AV16: 479 | AW16: 2 | AX16: 633 | AY16: 4 | AZ16: 536 | BA16: 2 | BB16: 498 | BC16: 1 | BD16: 248 | BE16: 0 | BF16: 502 | BG16: 501 | BH16: 1 | BI16: 26 | BJ16: 0 | BK16: 20 | BL16: 0 | BM16: 6 | BN16: 0 | BO16: 368 | BP16: 1 | BQ16: 81 | BR16: 0 | BS16: 293 | BT16: 292 | BU16: 1 | BV16: 36 | BW16: 0 | BX16: 5 | BY16: 0 | BZ16: 251 | CA16: 1 | CB16: 1930 | CC16: 1905 | CD16: 25 | CE16: 25 | CF16: 24 | CG16: 1 | CH16: 1536 | CI16: 1513 | CJ16: 23 | CK16: 352 | CL16: 1 | CM16: 26 | CN16: 0 | CO16: 128 | CP16: 1 | CQ16: 53 | CR16: 0 | CS16: 8 | CT16: 0 | CU16: 137 | CV16: 0 | CW16: 16 | CX16: 0 | CY16: 12 | CZ16: 0 | DA16: 4 | DB16: 0 | DC16: 1408 | DD16: 1403 | DE16: 5 | DF16: 325 | DG16: 325 | DH16: 0 | DI16: 1083 | DJ16: 1078 | DK16: 5 | DL16: 2259 | DM16: 2252 | DN16: 7 | DO16: 526 | DP16: 525 | DQ16: 1 | DR16: 1733 | DS16: 1727 | DT16: 6 | DU16: 1289 | DV16: 1289 | DW16: 0 | DX16: 114 | DY16: 114 | DZ16: 0 | EA16: 856 | EB16: 849 | EC16: 7 | ED16: 840 | EE16: 833 | EF16: 7 | EG16: 303 | EH16: 302 | EI16: 1 | EJ16: 537 | EK16: 531 | EL16: 6 | EM16: 1032 | EN16: 1025 | EO16: 7 | EP16: 458 | EQ16: 457 | ER16: 1 | ES16: 574 | ET16: 568 | EU16: 6 | EV16: 1032 | EW16: 1025 | EX16: 7 | EY16: 143 | EZ16: 2 | FA16: 491 | FB16: 5 | FC16: 105 | FD16: 0 | FE16: 10 | FF16: 0 | FG16: 276 | FH16: 0 | FI16: 64 | FJ16: 0 | FK16: 7 | FL16: 0 | FM16: 205 | FN16: 0 | FO16: 1206 | FP16: 1144 | FQ16: 62 | FR16: 20 | FS16: 20 | FT16: 0 | FU16: 297 | FV16: 267 | FW16: 30 | FX16: 694 | FY16: 669 | FZ16: 25 | GA16: 91 | GB16: 4 | GC16: 200 | GD16: 12 | GE16: 297 | GF16: 6 | GG16: 73 | GH16: 3 | GI16: 8 | GJ16: 0 | GK16: 59 | GL16: 59 | GM16: 0 | GN16: 0 | GO16: 0 | GP16: 2 | GQ16: 0 | GR16: 4 | GS16: 0 | GT16: 53 | GU16: 0 | GV16: 0 | GW16: 0 | GX16: 136 | GY16: 129 | GZ16: 7 | HA16: 57 | HB16: 3 | HC16: 29 | HD16: 3 | HE16: 7 | HF16: 0 | HG16: 18 | HH16: 1 | HI16: 2 | HJ16: 0 | HK16: 0 | HL16: 0 | HM16: 16 | HN16: 0
A18: 年別 Year | C18: (1)本年截至本期加害人個案人數按處分類別分(人) (不含依少年事件處理法裁定保護處分確定而法院認有必要者) | AD18: (2)本期加害人個案尚接受身心治療、輔導或教育者按再犯等級分(人) (不含依少年事件處理法裁定保護處分確定而法院認有必要者) | AQ18: (3)本期加害人個案尚接受身、輔導或教育者按處遇期程分(人) (不含依少年事件處理法裁定保護處分確定而法院認有必要者) | BJ18: (4)本期加害人個案暫停處遇人數按暫停原因分(人)(不含依少年事件處理法裁定保護處分確定而法院認有必要者) | BW18: (5)本年截至本期累計處遇期間再犯人數按再犯案件分(人)(不含依少年事件處理法裁定保護處分確定而法院認有必要者) | CF18: (6)本年截至本期累計加害人個案已結案人數按結案狀態分(人)(不含依少年事件處理法裁定保護處分確定而法院認有必要者) | DG18: (7)本年截至本期加害人個案行政裁罰情形(不含依少年事件處理法裁定保護處分確定而法院認有必要者) | EH18: (8)本年截至本期加害人個案移送情形(不含依少年事件處理法裁定保護處分確定而法院認有必要者) | FE18: (8)本年截至本期加害人個案移送情形(不含依少年事件處理法裁定保護處分確定而法院認有必要者) | FS18: (9)依少年事件處理法裁定保護處分確定而法院認有必要，經縣市政府評估接受身心治療、輔導或教育者按處遇狀態分(人) | GO18: (9)依少年事件處理法裁定保護處分確定而法院認有必要，經縣市政府評估接受身心治療、輔導或教育者按處遇狀態分(人)
C19: 合計Total | F19: 犯性侵害罪者 | V19: 犯性騷擾防治法第25條判決有罪確定者 | X19: 犯兒童及少年性剝削防制條例第31條判決有罪確定者 | Z19: 犯刑法第319條之2第1項判決有罪確定者 | AB19: 依性侵害犯罪防治法第31條第4項受身心治療、輔導或教育者 | AD19: 合計Total | AG19: 評估中 | AI19: 低再犯 | AK19: 中低再犯 | AM19: 中高再犯 | AO19: 高再犯 | AQ19: 合計Total | AT19: 未滿3個月 | AV19: 3個月以上 未滿6個月 | AX19: 6個月以上 未滿9個月 | AZ19: 9個月以上 未滿1年 | BB19: 1年以上 未滿1年6個月 | BD19: 1年6個月以上 未滿2年 | BF19: 2年以上 未滿3年 | BH19: 3年以上至4年 | BJ19: 合計 | BM19: 傷殘住院 | BO19: 出國 | BQ19: 服兵役 | BS19: 因他案 入監服刑 | BU19: 其他 | BW19: 合計Total | BZ19: 再犯性侵害案件 | CB19: 再犯其他案件 且合併性侵害 | CD19: 再犯其他非性侵害案件 | CF19: 合計Total | CI19: 本年截至本期累計無須處遇個案 | CL19: 本年截至本期累計完成處遇人數 | CO19: 本年截至本期累計未完成處遇已結案人數按結案原因分(人) | DA19: 本年截至本期累計轉入強制治療人數(人) | DG19: 應行政裁罰個案人數(人) | DP19: 申請行政裁罰個案人次(人次) | DY19: 申請行政裁罰者按結果分(人次) | EH19: 應移送個案人數(人) | EQ19: 聲請移送個案人次(人次) | EZ19: 聲請移送者按階段分(人次) | FS19: 本年截至本期累計少年性侵害行為人個案人數 | FV19: 本年截至本期累計無須處遇人數 | FY19: 本年截至本期累計完成處遇人數 | GB19: 本期尚在接受處遇者按再犯等級分(人) | GO19: 本期暫停處遇人數按暫停原因分 | HB19: 本年截至本期累計未完成處遇已結案人數按結案原因分
F20: 有期徒刑、保安處分或性侵害犯罪防治法第37條、第38條所定之強制治療執行完畢 | H20: 有期徒刑經易服社會勞動 | J20: 假釋 | L20: 緩刑 | N20: 免刑 | P20: 赦免 | R20: 經法院依性侵害犯罪防治法第38條第1項但書及第6項規定或刑法第91條之1第2項但書規定裁定停止強制治療 | T20: 經緩起訴處分確定者 | EZ20: 合計Total (K)=L+M+N | FC20: 移送家防中心/警察局/其他機關 (L) | FE20: 移送地檢署 (M)=m1+m2+m3 | FM20: 移送法院(人次) (N)=m4=n1+n2+n3
C21: 計Total | D21: 男 Male | E21: 女Female | F21: 男 Male | G21: 女Female | H21: 男 Male | I21: 女Female | J21: 男 Male | K21: 女Female | L21: 男 Male | M21: 女Female | N21: 男 Male | O21: 女Female | P21: 男 Male | Q21: 女Female | R21: 男 Male | S21: 女Female | T21: 男 Male | U21: 女Female | V21: 男 Male | W21: 女Female | X21: 男 Male | Y21: 女Female | Z21: 男 Male | AA21: 女Female | AB21: 男 Male | AC21: 女Female | AD21: 計Total | AE21: 男 Male | AF21: 女Female | AG21: 男 Male | AH21: 女Female | AI21: 男 Male | AJ21: 女Female | AK21: 男 Male | AL21: 女Female | AM21: 男 Male | AN21: 女Female | AO21: 男 Male | AP21: 女Female | AQ21: 計Total | AR21: 男 Male | AS21: 女Female | AT21: 男 Male | AU21: 女Female | AV21: 男 Male | AW21: 女Female | AX21: 男 Male | AY21: 女Female | AZ21: 男 Male | BA21: 女Female | BB21: 男 Male | BC21: 女Female | BD21: 男 Male | BE21: 女Female | BF21: 男 Male | BG21: 女Female | BH21: 男 Male | BI21: 女Female | BJ21: 計Total | BK21: 男 Male | BL21: 女Female | BM21: 男 Male | BN21: 女Female | BO21: 男 Male | BP21: 女Female | BQ21: 男 Male | BR21: 女Female | BS21: 男 Male | BT21: 女Female | BU21: 男 Male | BV21: 女Female | BW21: 計Total | BX21: 男 Male | BY21: 女Female | BZ21: 男 Male | CA21: 女Female | CB21: 男 Male | CC21: 女Female | CD21: 男 Male | CE21: 女Female | CF21: 計Total | CG21: 男 Male | CH21: 女Female | CI21: 計Total | CJ21: 男 Male | CK21: 女Female | CL21: 計Total | CM21: 男 Male | CN21: 女Female | CO21: 計Total | CQ21: 因再犯性侵害罪入獄 | CS21: 戶籍移轉外縣市 | CU21: 死亡 | CW21: 長期入住機構 | CY21: 其他 | DA21: 計Total | DC21: 依性侵害犯罪防治法第36條及刑法第91之1條規定 | DE21: 依性侵害犯罪防治法第37條及第38條規定 | DG21: 合計Total | DJ21: 前年度應行政裁罰但結果未確定人數 | DM21: 本年度 應行政裁罰人數 | DP21: 合計Total | DS21: 前年度申請行政裁罰但結果未確定人次 | DV21: 本年度申請行政裁罰人次 | DY21: 調查或簽辦中 | EB21: 駁回或不罰 | EE21: 裁罰確定 | EH21: 合計Total | EK21: 前年度應移送但結果未確定人數 | EN21: 本年度應移送人數 | EQ21: 合計Total | ET21: 前年度移送但結果未確定人次 | EW21: 本年度聲請移送人次 | FE21: 偵查中 (m1) | FG21: 駁回或不起訴 (m2) | FI21: 緩起訴 (m3) | FK21: 起訴 (m4) | FM21: 審理中 (n1) | FO21: 無罪 (n2) | FQ21: 有罪(拘役、有期徒刑等) (n3) | FS21: 計 Total | FT21: 男 Male | FU21: 女Female | FV21: 計 Total | FW21: 男 Male | FX21: 女Female | FY21: 計 Total | FZ21: 男 Male | GA21: 女Female | GB21: 合計Total | GE21: 評估中 | GG21: 低再犯 | GI21: 中低再犯 | GK21: 中高再犯 | GM21: 高再犯 | GO21: 合計Total | GR21: 傷殘住院 | GT21: 出國 | GV21: 服兵役 | GX21: 因他案入感化教育處所或監獄 | GZ21: 其他 | HB21: 合計Total | HE21: 保護處分期滿且未依規定接受處遇，檢還少年法院(庭) | HG21: 保護處分期限未滿且未依規定接受處遇，檢還少年法院(庭) | HI21: 再犯性侵害案件入感化教育處所或監獄 | HK21: 戶籍移轉外縣市 | HM21: 死亡 | HO21: 長期入住機構 | HQ21: 其他
CO22: 男 Male | CP22: 女Female | CQ22: 男 Male | CR22: 女Female | CS22: 男 Male | CT22: 女Female | CU22: 男 Male | CV22: 女Female | CW22: 男 Male | CX22: 女Female | CY22: 男 Male | CZ22: 女Female | DA22: 男 Male | DB22: 女Female | DC22: 男 Male | DD22: 女Female | DE22: 男 Male | DF22: 女Female | DG22: 計 Total | DH22: 男 Male | DI22: 女Female | DJ22: 計 Total | DK22: 男 Male | DL22: 女Female | DM22: 計 Total | DN22: 男 Male | DO22: 女Female | DP22: 計 Total | DQ22: 男 Male | DR22: 女Female | DS22: 計 Total | DT22: 男 Male | DU22: 女Female | DV22: 計 Total | DW22: 男 Male | DX22: 女Female | DY22: 計 Total | DZ22: 男 Male | EA22: 女Female | EB22: 計 Total | EC22: 男 Male | ED22: 女Female | EE22: 計 Total | EF22: 男 Male | EG22: 女Female | EH22: 計 Total | EI22: 男 Male | EJ22: 女Female | EK22: 計 Total | EL22: 男 Male | EM22: 女Female | EN22: 計 Total | EO22: 男 Male | EP22: 女Female | EQ22: 計 Total | ER22: 男 Male | ES22: 女Female | ET22: 計 Total | EU22: 男 Male | EV22: 女Female | EW22: 計 Total | EX22: 男 Male | EY22: 女Female | EZ22: 計 Total | FA22: 男 Male | FB22: 女Female | FC22: 男 Male | FD22: 女Female | FE22: 男 Male | FF22: 女Female | FG22: 男 Male | FH22: 女Female | FI22: 男 Male | FJ22: 女Female | FK22: 男 Male | FL22: 女Female | FM22: 男 Male | FN22: 女Female | FO22: 男 Male | FP22: 女Female | FQ22: 男 Male | FR22: 女Female | GB22: 計 Total | GC22: 男 Male | GD22: 女Female | GE22: 男 Male | GF22: 女Female | GG22: 男 Male | GH22: 女Female | GI22: 男 Male | GJ22: 女Female | GK22: 男 Male | GL22: 女Female | GM22: 男 Male | GN22: 女Female | GO22: 計 Total | GP22: 男 Male | GQ22: 女Female | GR22: 男 Male | GS22: 女Female | GT22: 男 Male | GU22: 女Female | GV22: 男 Male | GW22: 女Female | GX22: 男 Male | GY22: 女Female | GZ22: 男 Male | HA22: 女Female | HB22: 計 Total | HC22: 男 Male | HD22: 女Female | HE22: 男 Male | HF22: 女Female | HG22: 男 Male | HH22: 女Female | HI22: 男 Male | HJ22: 女Female | HK22: 男 Male | HL22: 女Female | HM22: 男 Male | HN22: 女Female | HO22: 男 Male | HP22: 女Female | HQ22: 男 Male | HR22: 女Female
A23: 113年 2024 | C23: 6687 | D23: 6639 | E23: 48 | F23: 2083 | G23: 8 | H23: 108 | I23: 1 | J23: 1369 | K23: 9 | L23: 2119 | M23: 17 | N23: 1 | O23: 0 | P23: 0 | Q23: 0 | R23: 36 | S23: 0 | T23: 393 | U23: 9 | V23: 497 | W23: 4 | X23: 31 | Y23: 0 | Z23: 0 | AA23: 0 | AB23: 2 | AC23: 0 | AD23: 4351 | AE23: 4319 | AF23: 32 | AG23: 264 | AH23: 3 | AI23: 998 | AJ23: 7 | AK23: 2404 | AL23: 18 | AM23: 565 | AN23: 4 | AO23: 88 | AP23: 0 | AQ23: 4351 | AR23: 4319 | AS23: 32 | AT23: 789 | AU23: 12 | AV23: 792 | AW23: 5 | AX23: 384 | AY23: 6 | AZ23: 494 | BA23: 3 | BB23: 803 | BC23: 2 | BD23: 396 | BE23: 2 | BF23: 446 | BG23: 1 | BH23: 215 | BI23: 1 | BJ23: 588 | BK23: 587 | BL23: 1 | BM23: 25 | BN23: 0 | BO23: 26 | BP23: 0 | BQ23: 3 | BR23: 0 | BS23: 441 | BT23: 1 | BU23: 92 | BV23: 0 | BW23: 214 | BX23: 214 | BY23: 0 | BZ23: 30 | CA23: 0 | CB23: 3 | CC23: 0 | CD23: 181 | CE23: 0 | CF23: 1748 | CG23: 1733 | CH23: 15 | CI23: 20 | CJ23: 19 | CK23: 1 | CL23: 1402 | CM23: 1392 | CN23: 10 | CO23: 296 | CP23: 4 | CQ23: 33 | CR23: 0 | CS23: 133 | CT23: 4 | CU23: 50 | CV23: 0 | CW23: 5 | CX23: 0 | CY23: 75 | CZ23: 0 | DA23: 26 | DB23: 0 | DC23: 15 | DD23: 0 | DE23: 7 | DF23: 0 | DG23: 790 | DH23: 786 | DI23: 4 | DJ23: 50 | DK23: 50 | DL23: 0 | DM23: 740 | DN23: 736 | DO23: 4 | DP23: 984 | DQ23: 980 | DR23: 4 | DS23: 52 | DT23: 52 | DU23: 0 | DV23: 932 | DW23: 928 | DX23: 4 | DY23: 105 | DZ23: 102 | EA23: 3 | EB23: 76 | EC23: 76 | ED23: 0 | EE23: 803 | EF23: 802 | EG23: 1 | EH23: 744 | EI23: 741 | EJ23: 3 | EK23: 287 | EL23: 287 | EM23: 0 | EN23: 457 | EO23: 454 | EP23: 3 | EQ23: 1122 | ER23: 1115 | ES23: 7 | ET23: 571 | EU23: 567 | EV23: 4 | EW23: 551 | EX23: 548 | EY23: 3 | EZ23: 1122 | FA23: 1115 | FB23: 7 | FC23: 131 | FD23: 3 | FE23: 515 | FF23: 1 | FG23: 130 | FH23: 0 | FI23: 9 | FJ23: 0 | FK23: 330 | FL23: 3 | FM23: 82 | FN23: 0 | FO23: 18 | FP23: 0 | FQ23: 230 | FR23: 3 | FS23: 1177 | FT23: 1126 | FU23: 51 | FV23: 12 | FW23: 11 | FX23: 1 | FY23: 314 | FZ23: 289 | GA23: 25 | GB23: 659 | GC23: 636 | GD23: 23 | GE23: 111 | GF23: 6 | GG23: 166 | GH23: 9 | GI23: 274 | GJ23: 8 | GK23: 73 | GL23: 0 | GM23: 12 | GN23: 0 | GO23: 78 | GP23: 78 | GQ23: 0 | GR23: 1 | GS23: 0 | GT23: 2 | GU23: 0 | GV23: 6 | GW23: 0 | GX23: 63 | GY23: 0 | GZ23: 6 | HA23: 0 | HB23: 114 | HC23: 112 | HD23: 2 | HE23: 52 | HF23: 0 | HG23: 20 | HH23: 0 | HI23: 3 | HJ23: 0 | HK23: 21 | HL23: 0 | HM23: 1 | HN23: 0 | HO23: 0 | HP23: 0 | HQ23: 15 | HR23: 2
A24: 資料來源：直轄市、縣﹝市﹞政府。
A25: Source : County and City Government.
A28: 更新日期：2025/6/2

Sheet 113
A1: 性侵害加害人處遇
A2: 中華民國113年 2024
A4: 區域別 Locality | C4: (1)本年截至本期加害人個案人數按處分類別分(人) (不含依少年事件處理法裁定保護處分確定而法院認有必要者) | AD4: (2)本期加害人個案尚接受身心治療、輔導或教育者按再犯等級分(人) (不含依少年事件處理法裁定保護處分確定而法院認有必要者) | AQ4: (3)本期加害人個案尚接受身、輔導或教育者按處遇期程分(人) (不含依少年事件處理法裁定保護處分確定而法院認有必要者) | BJ4: (4)本期加害人個案暫停處遇人數按暫停原因分(人)(不含依少年事件處理法裁定保護處分確定而法院認有必要者) | BW4: (5)本年截至本期累計處遇期間再犯人數按再犯案件分(人)(不含依少年事件處理法裁定保護處分確定而法院認有必要者) | CF4: (6)本年截至本期累計加害人個案已結案人數按結案狀態分(人)(不含依少年事件處理法裁定保護處分確定而法院認有必要者) | DG4: (7)本年截至本期加害人個案行政裁罰情形(不含依少年事件處理法裁定保護處分確定而法院認有必要者) | EH4: (8)本年截至本期加害人個案移送情形(不含依少年事件處理法裁定保護處分確定而法院認有必要者) | FE4: (8)本年截至本期加害人個案移送情形(不含依少年事件處理法裁定保護處分確定而法院認有必要者) | FS4: (9)依少年事件處理法裁定保護處分確定而法院認有必要，經縣市政府評估接受身心治療、輔導或教育者按處遇狀態分(人) | GO4: (9)依少年事件處理法裁定保護處分確定而法院認有必要，經縣市政府評估接受身心治療、輔導或教育者按處遇狀態分(人)
C5: 合計Total | F5: 犯性侵害罪者 | V5: 犯性騷擾防治法第25條判決有罪確定者 | X5: 犯兒童及少年性剝削防制條例第31條判決有罪確定者 | Z5: 犯刑法第319條之2第1項判決有罪確定者 | AB5: 依性侵害犯罪防治法第31條第4項受身心治療、輔導或教育者 | AD5: 合計Total | AG5: 評估中 | AI5: 低再犯 | AK5: 中低再犯 | AM5: 中高再犯 | AO5: 高再犯 | AQ5: 合計Total | AT5: 未滿3個月 | AV5: 3個月以上 未滿6個月 | AX5: 6個月以上 未滿9個月 | AZ5: 9個月以上 未滿1年 | BB5: 1年以上 未滿1年6個月 | BD5: 1年6個月以上 未滿2年 | BF5: 2年以上 未滿3年 | BH5: 3年以上至4年 | BJ5: 合計 | BM5: 傷殘住院 | BO5: 出國 | BQ5: 服兵役 | BS5: 因他案 入監服刑 | BU5: 其他 | BW5: 合計Total | BZ5: 再犯性侵害案件 | CB5: 再犯其他案件 且合併性侵害 | CD5: 再犯其他非性侵害案件 | CF5: 合計Total | CI5: 本年截至本期累計無須處遇個案 | CL5: 本年截至本期累計完成處遇人數 | CO5: 本年截至本期累計未完成處遇已結案人數按結案原因分(人) | DA5: 本年截至本期累計轉入強制治療人數(人) | DG5: 應行政裁罰個案人數(人) | DP5: 申請行政裁罰個案人次(人次) | DY5: 申請行政裁罰者按結果分(人次) | EH5: 應移送個案人數(人) | EQ5: 聲請移送個案人次(人次) | EZ5: 聲請移送者按階段分(人次) | FS5: 本年截至本期累計少年性侵害行為人個案人數 | FV5: 本年截至本期累計無須處遇人數 | FY5: 本年截至本期累計完成處遇人數 | GB5: 本期尚在接受處遇者按再犯等級分(人) | GO5: 本期暫停處遇人數按暫停原因分 | HB5: 本年截至本期累計未完成處遇已結案人數按結案原因分
F6: 有期徒刑、保安處分或性侵害犯罪防治法第37條、第38條所定之強制治療執行完畢 | H6: 有期徒刑經易服社會勞動 | J6: 假釋 | L6: 緩刑 | N6: 免刑 | P6: 赦免 | R6: 經法院依性侵害犯罪防治法第38條第1項但書及第6項規定或刑法第91條之1第2項但書規定裁定停止強制治療 | T6: 經緩起訴處分確定者 | EZ6: 合計Total (K)=L+M+N | FC6: 移送家防中心/警察局/其他機關 (L) | FE6: 移送地檢署 (M)=m1+m2+m3 | FM6: 移送法院(人次) (N)=m4=n1+n2+n3
C7: 計Total | D7: 男 Male | E7: 女Female | F7: 男 Male | G7: 女Female | H7: 男 Male | I7: 女Female | J7: 男 Male | K7: 女Female | L7: 男 Male | M7: 女Female | N7: 男 Male | O7: 女Female | P7: 男 Male | Q7: 女Female | R7: 男 Male | S7: 女Female | T7: 男 Male | U7: 女Female | V7: 男 Male | W7: 女Female | X7: 男 Male | Y7: 女Female | Z7: 男 Male | AA7: 女Female | AB7: 男 Male | AC7: 女Female | AD7: 計Total | AE7: 男 Male | AF7: 女Female | AG7: 男 Male | AH7: 女Female | AI7: 男 Male | AJ7: 女Female | AK7: 男 Male | AL7: 女Female | AM7: 男 Male | AN7: 女Female | AO7: 男 Male | AP7: 女Female | AQ7: 計Total | AR7: 男 Male | AS7: 女Female | AT7: 男 Male | AU7: 女Female | AV7: 男 Male | AW7: 女Female | AX7: 男 Male | AY7: 女Female | AZ7: 男 Male | BA7: 女Female | BB7: 男 Male | BC7: 女Female | BD7: 男 Male | BE7: 女Female | BF7: 男 Male | BG7: 女Female | BH7: 男 Male | BI7: 女Female | BJ7: 計Total | BK7: 男 Male | BL7: 女Female | BM7: 男 Male | BN7: 女Female | BO7: 男 Male | BP7: 女Female | BQ7: 男 Male | BR7: 女Female | BS7: 男 Male | BT7: 女Female | BU7: 男 Male | BV7: 女Female | BW7: 計Total | BX7: 男 Male | BY7: 女Female | BZ7: 男 Male | CA7: 女Female | CB7: 男 Male | CC7: 女Female | CD7: 男 Male | CE7: 女Female | CF7: 計Total | CG7: 男 Male | CH7: 女Female | CI7: 計Total | CJ7: 男 Male | CK7: 女Female | CL7: 計Total | CM7: 男 Male | CN7: 女Female | CO7: 計Total | CQ7: 因再犯性侵害罪入獄 | CS7: 戶籍移轉外縣市 | CU7: 死亡 | CW7: 長期入住機構 | CY7: 其他 | DA7: 計Total | DC7: 依性侵害犯罪防治法第36條及刑法第91之1條規定 | DE7: 依性侵害犯罪防治法第37條及第38條規定 | DG7: 合計Total | DJ7: 前年度應行政裁罰但結果未確定人數 | DM7: 本年度 應行政裁罰人數 | DP7: 合計Total | DS7: 前年度申請行政裁罰但結果未確定人次 | DV7: 本年度申請行政裁罰人次 | DY7: 調查或簽辦中 | EB7: 駁回或不罰 | EE7: 裁罰確定 | EH7: 合計Total | EK7: 前年度應移送但結果未確定人數 | EN7: 本年度應移送人數 | EQ7: 合計Total | ET7: 前年度移送但結果未確定人次 | EW7: 本年度聲請移送人次 | FE7: 偵查中 (m1) | FG7: 駁回或不起訴 (m2) | FI7: 緩起訴 (m3) | FK7: 起訴 (m4) | FM7: 審理中 (n1) | FO7: 無罪 (n2) | FQ7: 有罪(拘役、有期徒刑等) (n3) | FS7: 計 Total | FT7: 男 Male | FU7: 女Female | FV7: 計 Total | FW7: 男 Male | FX7: 女Female | FY7: 計 Total | FZ7: 男 Male | GA7: 女Female | GB7: 合計Total | GE7: 評估中 | GG7: 低再犯 | GI7: 中低再犯 | GK7: 中高再犯 | GM7: 高再犯 | GO7: 合計Total | GR7: 傷殘住院 | GT7: 出國 | GV7: 服兵役 | GX7: 因他案入感化教育處所或監獄 | GZ7: 其他 | HB7: 合計Total | HE7: 保護處分期滿且未依規定接受處遇，檢還少年法院(庭) | HG7: 保護處分期限未滿且未依規定接受處遇，檢還少年法院(庭) | HI7: 再犯性侵害案件入感化教育處所或監獄 | HK7: 戶籍移轉外縣市 | HM7: 死亡 | HO7: 長期入住機構 | HQ7: 其他
CO8: 男 Male | CP8: 女Female | CQ8: 男 Male | CR8: 女Female | CS8: 男 Male | CT8: 女Female | CU8: 男 Male | CV8: 女Female | CW8: 男 Male | CX8: 女Female | CY8: 男 Male | CZ8: 女Female | DA8: 男 Male | DB8: 女Female | DC8: 男 Male | DD8: 女Female | DE8: 男 Male | DF8: 女Female | DG8: 計 Total | DH8: 男 Male | DI8: 女Female | DJ8: 計 Total | DK8: 男 Male | DL8: 女Female | DM8: 計 Total | DN8: 男 Male | DO8: 女Female | DP8: 計 Total | DQ8: 男 Male | DR8: 女Female | DS8: 計 Total | DT8: 男 Male | DU8: 女Female | DV8: 計 Total | DW8: 男 Male | DX8: 女Female | DY8: 計 Total | DZ8: 男 Male | EA8: 女Female | EB8: 計 Total | EC8: 男 Male | ED8: 女Female | EE8: 計 Total | EF8: 男 Male | EG8: 女Female | EH8: 計 Total | EI8: 男 Male | EJ8: 女Female | EK8: 計 Total | EL8: 男 Male | EM8: 女Female | EN8: 計 Total | EO8: 男 Male | EP8: 女Female | EQ8: 計 Total | ER8: 男 Male | ES8: 女Female | ET8: 計 Total | EU8: 男 Male | EV8: 女Female | EW8: 計 Total | EX8: 男 Male | EY8: 女Female | EZ8: 計 Total | FA8: 男 Male | FB8: 女Female | FC8: 男 Male | FD8: 女Female | FE8: 男 Male | FF8: 女Female | FG8: 男 Male | FH8: 女Female | FI8: 男 Male | FJ8: 女Female | FK8: 男 Male | FL8: 女Female | FM8: 男 Male | FN8: 女Female | FO8: 男 Male | FP8: 女Female | FQ8: 男 Male | FR8: 女Female | GB8: 計 Total | GC8: 男 Male | GD8: 女Female | GE8: 男 Male | GF8: 女Female | GG8: 男 Male | GH8: 女Female | GI8: 男 Male | GJ8: 女Female | GK8: 男 Male | GL8: 女Female | GM8: 男 Male | GN8: 女Female | GO8: 計 Total | GP8: 男 Male | GQ8: 女Female | GR8: 男 Male | GS8: 女Female | GT8: 男 Male | GU8: 女Female | GV8: 男 Male | GW8: 女Female | GX8: 男 Male | GY8: 女Female | GZ8: 男 Male | HA8: 女Female | HB8: 計 Total | HC8: 男 Male | HD8: 女Female | HE8: 男 Male | HF8: 女Female | HG8: 男 Male | HH8: 女Female | HI8: 男 Male | HJ8: 女Female | HK8: 男 Male | HL8: 女Female | HM8: 男 Male | HN8: 女Female | HO8: 男 Male | HP8: 女Female | HQ8: 男 Male | HR8: 女Female
A9: 總 計 | B9: Total | C9: 6687 | D9: 6639 | E9: 48 | F9: 2083 | G9: 8 | H9: 108 | I9: 1 | J9: 1369 | K9: 9 | L9: 2119 | M9: 17 | N9: 1 | O9: 0 | P9: 0 | Q9: 0 | R9: 36 | S9: 0 | T9: 393 | U9: 9 | V9: 497 | W9: 4 | X9: 31 | Y9: 0 | Z9: 0 | AA9: 0 | AB9: 2 | AC9: 0 | AD9: 4351 | AE9: 4319 | AF9: 32 | AG9: 264 | AH9: 3 | AI9: 998 | AJ9: 7 | AK9: 2404 | AL9: 18 | AM9: 565 | AN9: 4 | AO9: 88 | AP9: 0 | AQ9: 4351 | AR9: 4319 | AS9: 32 | AT9: 789 | AU9: 12 | AV9: 792 | AW9: 5 | AX9: 384 | AY9: 6 | AZ9: 494 | BA9: 3 | BB9: 803 | BC9: 2 | BD9: 396 | BE9: 2 | BF9: 446 | BG9: 1 | BH9: 215 | BI9: 1 | BJ9: 588 | BK9: 587 | BL9: 1 | BM9: 25 | BN9: 0 | BO9: 26 | BP9: 0 | BQ9: 3 | BR9: 0 | BS9: 441 | BT9: 1 | BU9: 92 | BV9: 0 | BW9: 214 | BX9: 214 | BY9: 0 | BZ9: 30 | CA9: 0 | CB9: 3 | CC9: 0 | CD9: 181 | CE9: 0 | CF9: 1748 | CG9: 1733 | CH9: 15 | CI9: 20 | CJ9: 19 | CK9: 1 | CL9: 1402 | CM9: 1392 | CN9: 10 | CO9: 296 | CP9: 4 | CQ9: 33 | CR9: 0 | CS9: 133 | CT9: 4 | CU9: 50 | CV9: 0 | CW9: 5 | CX9: 0 | CY9: 75 | CZ9: 0 | DA9: 26 | DB9: 0 | DC9: 15 | DD9: 0 | DE9: 7 | DF9: 0 | DG9: 790 | DH9: 786 | DI9: 4 | DJ9: 50 | DK9: 50 | DL9: 0 | DM9: 740 | DN9: 736 | DO9: 4 | DP9: 984 | DQ9: 980 | DR9: 4 | DS9: 52 | DT9: 52 | DU9: 0 | DV9: 932 | DW9: 928 | DX9: 4 | DY9: 105 | DZ9: 102 | EA9: 3 | EB9: 76 | EC9: 76 | ED9: 0 | EE9: 803 | EF9: 802 | EG9: 1 | EH9: 744 | EI9: 741 | EJ9: 3 | EK9: 287 | EL9: 287 | EM9: 0 | EN9: 457 | EO9: 454 | EP9: 3 | EQ9: 1122 | ER9: 1115 | ES9: 7 | ET9: 571 | EU9: 567 | EV9: 4 | EW9: 551 | EX9: 548 | EY9: 3 | EZ9: 1122 | FA9: 1115 | FB9: 7 | FC9: 131 | FD9: 3 | FE9: 515 | FF9: 1 | FG9: 130 | FH9: 0 | FI9: 9 | FJ9: 0 | FK9: 330 | FL9: 3 | FM9: 82 | FN9: 0 | FO9: 18 | FP9: 0 | FQ9: 230 | FR9: 3 | FS9: 1177 | FT9: 1126 | FU9: 51 | FV9: 12 | FW9: 11 | FX9: 1 | FY9: 314 | FZ9: 289 | GA9: 25 | GB9: 659 | GC9: 636 | GD9: 23 | GE9: 111 | GF9: 6 | GG9: 166 | GH9: 9 | GI9: 274 | GJ9: 8 | GK9: 73 | GL9: 0 | GM9: 12 | GN9: 0 | GO9: 78 | GP9: 78 | GQ9: 0 | GR9: 1 | GS9: 0 | GT9: 2 | GU9: 0 | GV9: 6 | GW9: 0 | GX9: 63 | GY9: 0 | GZ9: 6 | HA9: 0 | HB9: 114 | HC9: 112 | HD9: 2 | HE9: 52 | HF9: 0 | HG9: 20 | HH9: 0 | HI9: 3 | HJ9: 0 | HK9: 21 | HL9: 0 | HM9: 1 | HN9: 0 | HO9: 0 | HP9: 0 | HQ9: 15 | HR9: 2
A10: 新北市 | B10: New Taipei City | C10: 1362 | D10: 1343 | E10: 19 | F10: 410 | G10: 3 | H10: 14 | I10: 1 | J10: 283 | K10: 3 | L10: 438 | M10: 7 | N10: 0 | O10: 0 | P10: 0 | Q10: 0 | R10: 0 | S10: 0 | T10: 49 | U10: 3 | V10: 139 | W10: 2 | X10: 10 | Y10: 0 | Z10: 0 | AA10: 0 | AB10: 0 | AC10: 0 | AD10: 1043 | AE10: 1028 | AF10: 15 | AG10: 57 | AH10: 0 | AI10: 192 | AJ10: 2 | AK10: 614 | AL10: 9 | AM10: 150 | AN10: 4 | AO10: 15 | AP10: 0 | AQ10: 1043 | AR10: 1028 | AS10: 15 | AT10: 237 | AU10: 6 | AV10: 224 | AW10: 2 | AX10: 39 | AY10: 2 | AZ10: 153 | BA10: 1 | BB10: 140 | BC10: 1 | BD10: 103 | BE10: 2 | BF10: 92 | BG10: 0 | BH10: 40 | BI10: 1 | BJ10: 32 | BK10: 32 | BL10: 0 | BM10: 0 | BN10: 0 | BO10: 0 | BP10: 0 | BQ10: 0 | BR10: 0 | BS10: 30 | BT10: 0 | BU10: 2 | BV10: 0 | BW10: 35 | BX10: 35 | BY10: 0 | BZ10: 5 | CA10: 0 | CB10: 0 | CC10: 0 | CD10: 30 | CE10: 0 | CF10: 287 | CG10: 283 | CH10: 4 | CI10: 0 | CJ10: 0 | CK10: 0 | CL10: 233 | CM10: 231 | CN10: 2 | CO10: 48 | CP10: 2 | CQ10: 5 | CR10: 0 | CS10: 35 | CT10: 2 | CU10: 5 | CV10: 0 | CW10: 0 | CX10: 0 | CY10: 3 | CZ10: 0 | DA10: 4 | DB10: 0 | DC10: 4 | DD10: 0 | DE10: 0 | DF10: 0 | DG10: 174 | DH10: 173 | DI10: 1 | DJ10: 0 | DK10: 0 | DL10: 0 | DM10: 174 | DN10: 173 | DO10: 1 | DP10: 232 | DQ10: 231 | DR10: 1 | DS10: 0 | DT10: 0 | DU10: 0 | DV10: 232 | DW10: 231 | DX10: 1 | DY10: 0 | DZ10: 0 | EA10: 0 | EB10: 0 | EC10: 0 | ED10: 0 | EE10: 232 | EF10: 231 | EG10: 1 | EH10: 118 | EI10: 118 | EJ10: 0 | EK10: 0 | EL10: 0 | EM10: 0 | EN10: 118 | EO10: 118 | EP10: 0 | EQ10: 328 | ER10: 324 | ES10: 4 | ET10: 165 | EU10: 161 | EV10: 4 | EW10: 163 | EX10: 163 | EY10: 0 | EZ10: 328 | FA10: 324 | FB10: 4 | FC10: 0 | FD10: 0 | FE10: 148 | FF10: 1 | FG10: 41 | FH10: 0 | FI10: 1 | FJ10: 0 | FK10: 134 | FL10: 3 | FM10: 12 | FN10: 0 | FO10: 10 | FP10: 0 | FQ10: 112 | FR10: 3 | FS10: 183 | FT10: 181 | FU10: 2 | FV10: 0 | FW10: 0 | FX10: 0 | FY10: 29 | FZ10: 28 | GA10: 1 | GB10: 111 | GC10: 110 | GD10: 1 | GE10: 30 | GF10: 0 | GG10: 10 | GH10: 0 | GI10: 65 | GJ10: 1 | GK10: 4 | GL10: 0 | GM10: 1 | GN10: 0 | GO10: 9 | GP10: 9 | GQ10: 0 | GR10: 0 | GS10: 0 | GT10: 0 | GU10: 0 | GV10: 0 | GW10: 0 | GX10: 9 | GY10: 0 | GZ10: 0 | HA10: 0 | HB10: 34 | HC10: 34 | HD10: 0 | HE10: 30 | HF10: 0 | HG10: 0 | HH10: 0 | HI10: 0 | HJ10: 0 | HK10: 3 | HL10: 0 | HM10: 0 | HN10: 0 | HO10: 0 | HP10: 0 | HQ10: 1 | HR10: 0
A11: 臺北市 | B11: Taipei City | C11: 489 | D11: 487 | E11: 2 | F11: 115 | G11: 0 | H11: 7 | I11: 0 | J11: 81 | K11: 0 | L11: 198 | M11: 1 | N11: 1 | O11: 0 | P11: 0 | Q11: 0 | R11: 3 | S11: 0 | T11: 15 | U11: 1 | V11: 65 | W11: 0 | X11: 2 | Y11: 0 | Z11: 0 | AA11: 0 | AB11: 0 | AC11: 0 | AD11: 361 | AE11: 359 | AF11: 2 | AG11: 7 | AH11: 0 | AI11: 56 | AJ11: 2 | AK11: 210 | AL11: 0 | AM11: 69 | AN11: 0 | AO11: 17 | AP11: 0 | AQ11: 361 | AR11: 359 | AS11: 2 | AT11: 20 | AU11: 0 | AV11: 39 | AW11: 0 | AX11: 20 | AY11: 1 | AZ11: 28 | BA11: 1 | BB11: 53 | BC11: 0 | BD11: 51 | BE11: 0 | BF11: 85 | BG11: 0 | BH11: 63 | BI11: 0 | BJ11: 35 | BK11: 35 | BL11: 0 | BM11: 2 | BN11: 0 | BO11: 0 | BP11: 0 | BQ11: 0 | BR11: 0 | BS11: 29 | BT11: 0 | BU11: 4 | BV11: 0 | BW11: 19 | BX11: 19 | BY11: 0 | BZ11: 0 | CA11: 0 | CB11: 2 | CC11: 0 | CD11: 17 | CE11: 0 | CF11: 93 | CG11: 93 | CH11: 0 | CI11: 0 | CJ11: 0 | CK11: 0 | CL11: 69 | CM11: 69 | CN11: 0 | CO11: 22 | CP11: 0 | CQ11: 2 | CR11: 0 | CS11: 17 | CT11: 0 | CU11: 3 | CV11: 0 | CW11: 0 | CX11: 0 | CY11: 0 | CZ11: 0 | DA11: 2 | DB11: 0 | DC11: 0 | DD11: 0 | DE11: 2 | DF11: 0 | DG11: 54 | DH11: 54 | DI11: 0 | DJ11: 0 | DK11: 0 | DL11: 0 | DM11: 54 | DN11: 54 | DO11: 0 | DP11: 79 | DQ11: 79 | DR11: 0 | DS11: 0 | DT11: 0 | DU11: 0 | DV11: 79 | DW11: 79 | DX11: 0 | DY11: 0 | DZ11: 0 | EA11: 0 | EB11: 0 | EC11: 0 | ED11: 0 | EE11: 79 | EF11: 79 | EG11: 0 | EH11: 50 | EI11: 50 | EJ11: 0 | EK11: 26 | EL11: 26 | EM11: 0 | EN11: 24 | EO11: 24 | EP11: 0 | EQ11: 69 | ER11: 69 | ES11: 0 | ET11: 39 | EU11: 39 | EV11: 0 | EW11: 30 | EX11: 30 | EY11: 0 | EZ11: 69 | FA11: 69 | FB11: 0 | FC11: 3 | FD11: 0 | FE11: 41 | FF11: 0 | FG11: 4 | FH11: 0 | FI11: 0 | FJ11: 0 | FK11: 21 | FL11: 0 | FM11: 1 | FN11: 0 | FO11: 2 | FP11: 0 | FQ11: 18 | FR11: 0 | FS11: 72 | FT11: 69 | FU11: 3 | FV11: 0 | FW11: 0 | FX11: 0 | FY11: 11 | FZ11: 10 | GA11: 1 | GB11: 52 | GC11: 50 | GD11: 2 | GE11: 0 | GF11: 0 | GG11: 8 | GH11: 0 | GI11: 22 | GJ11: 2 | GK11: 15 | GL11: 0 | GM11: 5 | GN11: 0 | GO11: 3 | GP11: 3 | GQ11: 0 | GR11: 0 | GS11: 0 | GT11: 0 | GU11: 0 | GV11: 0 | GW11: 0 | GX11: 3 | GY11: 0 | GZ11: 0 | HA11: 0 | HB11: 6 | HC11: 6 | HD11: 0 | HE11: 2 | HF11: 0 | HG11: 0 | HH11: 0 | HI11: 1 | HJ11: 0 | HK11: 2 | HL11: 0 | HM11: 0 | HN11: 0 | HO11: 0 | HP11: 0 | HQ11: 1 | HR11: 0
A12: 桃園市 | B12: Taoyuan City | C12: 927 | D12: 924 | E12: 3 | F12: 318 | G12: 0 | H12: 18 | I12: 0 | J12: 191 | K12: 1 | L12: 279 | M12: 1 | N12: 0 | O12: 0 | P12: 0 | Q12: 0 | R12: 5 | S12: 0 | T12: 41 | U12: 1 | V12: 67 | W12: 0 | X12: 5 | Y12: 0 | Z12: 0 | AA12: 0 | AB12: 0 | AC12: 0 | AD12: 618 | AE12: 615 | AF12: 3 | AG12: 41 | AH12: 1 | AI12: 167 | AJ12: 0 | AK12: 335 | AL12: 2 | AM12: 65 | AN12: 0 | AO12: 7 | AP12: 0 | AQ12: 618 | AR12: 615 | AS12: 3 | AT12: 130 | AU12: 1 | AV12: 135 | AW12: 1 | AX12: 60 | AY12: 1 | AZ12: 80 | BA12: 0 | BB12: 95 | BC12: 0 | BD12: 56 | BE12: 0 | BF12: 53 | BG12: 0 | BH12: 6 | BI12: 0 | BJ12: 123 | BK12: 123 | BL12: 0 | BM12: 14 | BN12: 0 | BO12: 10 | BP12: 0 | BQ12: 1 | BR12: 0 | BS12: 64 | BT12: 0 | BU12: 34 | BV12: 0 | BW12: 36 | BX12: 36 | BY12: 0 | BZ12: 2 | CA12: 0 | CB12: 0 | CC12: 0 | CD12: 34 | CE12: 0 | CF12: 186 | CG12: 186 | CH12: 0 | CI12: 0 | CJ12: 0 | CK12: 0 | CL12: 139 | CM12: 139 | CN12: 0 | CO12: 47 | CP12: 0 | CQ12: 3 | CR12: 0 | CS12: 14 | CT12: 0 | CU12: 12 | CV12: 0 | CW12: 0 | CX12: 0 | CY12: 18 | CZ12: 0 | DA12: 0 | DB12: 0 | DC12: 0 | DD12: 0 | DE12: 0 | DF12: 0 | DG12: 39 | DH12: 39 | DI12: 0 | DJ12: 0 | DK12: 0 | DL12: 0 | DM12: 39 | DN12: 39 | DO12: 0 | DP12: 39 | DQ12: 39 | DR12: 0 | DS12: 0 | DT12: 0 | DU12: 0 | DV12: 39 | DW12: 39 | DX12: 0 | DY12: 0 | DZ12: 0 | EA12: 0 | EB12: 0 | EC12: 0 | ED12: 0 | EE12: 39 | EF12: 39 | EG12: 0 | EH12: 40 | EI12: 40 | EJ12: 0 | EK12: 32 | EL12: 32 | EM12: 0 | EN12: 8 | EO12: 8 | EP12: 0 | EQ12: 40 | ER12: 40 | ES12: 0 | ET12: 32 | EU12: 32 | EV12: 0 | EW12: 8 | EX12: 8 | EY12: 0 | EZ12: 40 | FA12: 40 | FB12: 0 | FC12: 0 | FD12: 0 | FE12: 16 | FF12: 0 | FG12: 9 | FH12: 0 | FI12: 0 | FJ12: 0 | FK12: 15 | FL12: 0 | FM12: 5 | FN12: 0 | FO12: 1 | FP12: 0 | FQ12: 9 | FR12: 0 | FS12: 99 | FT12: 97 | FU12: 2 | FV12: 0 | FW12: 0 | FX12: 0 | FY12: 11 | FZ12: 11 | GA12: 0 | GB12: 65 | GC12: 63 | GD12: 2 | GE12: 8 | GF12: 1 | GG12: 8 | GH12: 0 | GI12: 42 | GJ12: 1 | GK12: 5 | GL12: 0 | GM12: 0 | GN12: 0 | GO12: 12 | GP12: 12 | GQ12: 0 | GR12: 0 | GS12: 0 | GT12: 1 | GU12: 0 | GV12: 1 | GW12: 0 | GX12: 7 | GY12: 0 | GZ12: 3 | HA12: 0 | HB12: 11 | HC12: 11 | HD12: 0 | HE12: 7 | HF12: 0 | HG12: 0 | HH12: 0 | HI12: 0 | HJ12: 0 | HK12: 4 | HL12: 0 | HM12: 0 | HN12: 0 | HO12: 0 | HP12: 0 | HQ12: 0 | HR12: 0
A13: 臺中市 | B13: Taichung City | C13: 855 | D13: 852 | E13: 3 | F13: 215 | G13: 0 | H13: 11 | I13: 0 | J13: 191 | K13: 0 | L13: 253 | M13: 1 | N13: 0 | O13: 0 | P13: 0 | Q13: 0 | R13: 15 | S13: 0 | T13: 87 | U13: 1 | V13: 75 | W13: 1 | X13: 4 | Y13: 0 | Z13: 0 | AA13: 0 | AB13: 1 | AC13: 0 | AD13: 548 | AE13: 547 | AF13: 1 | AG13: 40 | AH13: 0 | AI13: 76 | AJ13: 1 | AK13: 355 | AL13: 0 | AM13: 68 | AN13: 0 | AO13: 8 | AP13: 0 | AQ13: 548 | AR13: 547 | AS13: 1 | AT13: 43 | AU13: 0 | AV13: 89 | AW13: 0 | AX13: 4 | AY13: 1 | AZ13: 10 | BA13: 0 | BB13: 243 | BC13: 0 | BD13: 13 | BE13: 0 | BF13: 108 | BG13: 0 | BH13: 37 | BI13: 0 | BJ13: 79 | BK13: 79 | BL13: 0 | BM13: 4 | BN13: 0 | BO13: 4 | BP13: 0 | BQ13: 0 | BR13: 0 | BS13: 53 | BT13: 0 | BU13: 18 | BV13: 0 | BW13: 6 | BX13: 6 | BY13: 0 | BZ13: 6 | CA13: 0 | CB13: 0 | CC13: 0 | CD13: 0 | CE13: 0 | CF13: 228 | CG13: 226 | CH13: 2 | CI13: 4 | CJ13: 4 | CK13: 0 | CL13: 197 | CM13: 195 | CN13: 2 | CO13: 26 | CP13: 0 | CQ13: 6 | CR13: 0 | CS13: 8 | CT13: 0 | CU13: 5 | CV13: 0 | CW13: 2 | CX13: 0 | CY13: 5 | CZ13: 0 | DA13: 1 | DB13: 0 | DC13: 1 | DD13: 0 | DE13: 0 | DF13: 0 | DG13: 73 | DH13: 73 | DI13: 0 | DJ13: 0 | DK13: 0 | DL13: 0 | DM13: 73 | DN13: 73 | DO13: 0 | DP13: 73 | DQ13: 73 | DR13: 0 | DS13: 0 | DT13: 0 | DU13: 0 | DV13: 73 | DW13: 73 | DX13: 0 | DY13: 0 | DZ13: 0 | EA13: 0 | EB13: 0 | EC13: 0 | ED13: 0 | EE13: 73 | EF13: 73 | EG13: 0 | EH13: 37 | EI13: 37 | EJ13: 0 | EK13: 0 | EL13: 0 | EM13: 0 | EN13: 37 | EO13: 37 | EP13: 0 | EQ13: 43 | ER13: 43 | ES13: 0 | ET13: 0 | EU13: 0 | EV13: 0 | EW13: 43 | EX13: 43 | EY13: 0 | EZ13: 43 | FA13: 43 | FB13: 0 | FC13: 0 | FD13: 0 | FE13: 16 | FF13: 0 | FG13: 6 | FH13: 0 | FI13: 1 | FJ13: 0 | FK13: 20 | FL13: 0 | FM13: 8 | FN13: 0 | FO13: 0 | FP13: 0 | FQ13: 12 | FR13: 0 | FS13: 87 | FT13: 87 | FU13: 0 | FV13: 6 | FW13: 6 | FX13: 0 | FY13: 33 | FZ13: 33 | GA13: 0 | GB13: 39 | GC13: 39 | GD13: 0 | GE13: 8 | GF13: 0 | GG13: 5 | GH13: 0 | GI13: 19 | GJ13: 0 | GK13: 7 | GL13: 0 | GM13: 0 | GN13: 0 | GO13: 1 | GP13: 1 | GQ13: 0 | GR13: 0 | GS13: 0 | GT13: 0 | GU13: 0 | GV13: 0 | GW13: 0 | GX13: 1 | GY13: 0 | GZ13: 0 | HA13: 0 | HB13: 8 | HC13: 8 | HD13: 0 | HE13: 0 | HF13: 0 | HG13: 5 | HH13: 0 | HI13: 0 | HJ13: 0 | HK13: 2 | HL13: 0 | HM13: 0 | HN13: 0 | HO13: 0 | HP13: 0 | HQ13: 1 | HR13: 0
A14: 臺南市 | B14: Tainan City | C14: 326 | D14: 324 | E14: 2 | F14: 95 | G14: 0 | H14: 6 | I14: 0 | J14: 69 | K14: 0 | L14: 111 | M14: 2 | N14: 0 | O14: 0 | P14: 0 | Q14: 0 | R14: 2 | S14: 0 | T14: 22 | U14: 0 | V14: 19 | W14: 0 | X14: 0 | Y14: 0 | Z14: 0 | AA14: 0 | AB14: 0 | AC14: 0 | AD14: 184 | AE14: 183 | AF14: 1 | AG14: 20 | AH14: 1 | AI14: 132 | AJ14: 0 | AK14: 25 | AL14: 0 | AM14: 6 | AN14: 0 | AO14: 0 | AP14: 0 | AQ14: 184 | AR14: 183 | AS14: 1 | AT14: 36 | AU14: 1 | AV14: 41 | AW14: 0 | AX14: 7 | AY14: 0 | AZ14: 24 | BA14: 0 | BB14: 28 | BC14: 0 | BD14: 22 | BE14: 0 | BF14: 13 | BG14: 0 | BH14: 12 | BI14: 0 | BJ14: 38 | BK14: 38 | BL14: 0 | BM14: 2 | BN14: 0 | BO14: 3 | BP14: 0 | BQ14: 0 | BR14: 0 | BS14: 32 | BT14: 0 | BU14: 1 | BV14: 0 | BW14: 2 | BX14: 2 | BY14: 0 | BZ14: 0 | CA14: 0 | CB14: 0 | CC14: 0 | CD14: 2 | CE14: 0 | CF14: 104 | CG14: 103 | CH14: 1 | CI14: 2 | CJ14: 2 | CK14: 0 | CL14: 87 | CM14: 86 | CN14: 1 | CO14: 10 | CP14: 0 | CQ14: 0 | CR14: 0 | CS14: 5 | CT14: 0 | CU14: 5 | CV14: 0 | CW14: 0 | CX14: 0 | CY14: 0 | CZ14: 0 | DA14: 5 | DB14: 0 | DC14: 5 | DD14: 0 | DE14: 0 | DF14: 0 | DG14: 71 | DH14: 71 | DI14: 0 | DJ14: 0 | DK14: 0 | DL14: 0 | DM14: 71 | DN14: 71 | DO14: 0 | DP14: 71 | DQ14: 71 | DR14: 0 | DS14: 0 | DT14: 0 | DU14: 0 | DV14: 71 | DW14: 71 | DX14: 0 | DY14: 0 | DZ14: 0 | EA14: 0 | EB14: 0 | EC14: 0 | ED14: 0 | EE14: 71 | EF14: 71 | EG14: 0 | EH14: 58 | EI14: 58 | EJ14: 0 | EK14: 11 | EL14: 11 | EM14: 0 | EN14: 47 | EO14: 47 | EP14: 0 | EQ14: 72 | ER14: 72 | ES14: 0 | ET14: 25 | EU14: 25 | EV14: 0 | EW14: 47 | EX14: 47 | EY14: 0 | EZ14: 72 | FA14: 72 | FB14: 0 | FC14: 0 | FD14: 0 | FE14: 45 | FF14: 0 | FG14: 7 | FH14: 0 | FI14: 2 | FJ14: 0 | FK14: 18 | FL14: 0 | FM14: 11 | FN14: 0 | FO14: 0 | FP14: 0 | FQ14: 7 | FR14: 0 | FS14: 81 | FT14: 77 | FU14: 4 | FV14: 0 | FW14: 0 | FX14: 0 | FY14: 27 | FZ14: 24 | GA14: 3 | GB14: 44 | GC14: 43 | GD14: 1 | GE14: 4 | GF14: 0 | GG14: 16 | GH14: 1 | GI14: 23 | GJ14: 0 | GK14: 0 | GL14: 0 | GM14: 0 | GN14: 0 | GO14: 3 | GP14: 3 | GQ14: 0 | GR14: 0 | GS14: 0 | GT14: 0 | GU14: 0 | GV14: 0 | GW14: 0 | GX14: 3 | GY14: 0 | GZ14: 0 | HA14: 0 | HB14: 7 | HC14: 7 | HD14: 0 | HE14: 3 | HF14: 0 | HG14: 3 | HH14: 0 | HI14: 0 | HJ14: 0 | HK14: 0 | HL14: 0 | HM14: 0 | HN14: 0 | HO14: 0 | HP14: 0 | HQ14: 1 | HR14: 0
A15: 高雄市 | B15: Kaohsiung City | C15: 445 | D15: 442 | E15: 3 | F15: 138 | G15: 0 | H15: 6 | I15: 0 | J15: 74 | K15: 1 | L15: 132 | M15: 2 | N15: 0 | O15: 0 | P15: 0 | Q15: 0 | R15: 1 | S15: 0 | T15: 55 | U15: 0 | V15: 33 | W15: 0 | X15: 3 | Y15: 0 | Z15: 0 | AA15: 0 | AB15: 0 | AC15: 0 | AD15: 246 | AE15: 243 | AF15: 3 | AG15: 10 | AH15: 1 | AI15: 41 | AJ15: 1 | AK15: 145 | AL15: 1 | AM15: 34 | AN15: 0 | AO15: 13 | AP15: 0 | AQ15: 246 | AR15: 243 | AS15: 3 | AT15: 28 | AU15: 2 | AV15: 30 | AW15: 0 | AX15: 114 | AY15: 0 | AZ15: 23 | BA15: 0 | BB15: 22 | BC15: 0 | BD15: 13 | BE15: 0 | BF15: 5 | BG15: 1 | BH15: 8 | BI15: 0 | BJ15: 12 | BK15: 12 | BL15: 0 | BM15: 0 | BN15: 0 | BO15: 0 | BP15: 0 | BQ15: 0 | BR15: 0 | BS15: 9 | BT15: 0 | BU15: 3 | BV15: 0 | BW15: 21 | BX15: 21 | BY15: 0 | BZ15: 1 | CA15: 0 | CB15: 1 | CC15: 0 | CD15: 19 | CE15: 0 | CF15: 187 | CG15: 187 | CH15: 0 | CI15: 3 | CJ15: 3 | CK15: 0 | CL15: 141 | CM15: 141 | CN15: 0 | CO15: 43 | CP15: 0 | CQ15: 1 | CR15: 0 | CS15: 9 | CT15: 0 | CU15: 4 | CV15: 0 | CW15: 0 | CX15: 0 | CY15: 29 | CZ15: 0 | DA15: 0 | DB15: 0 | DC15: 0 | DD15: 0 | DE15: 0 | DF15: 0 | DG15: 72 | DH15: 72 | DI15: 0 | DJ15: 0 | DK15: 0 | DL15: 0 | DM15: 72 | DN15: 72 | DO15: 0 | DP15: 111 | DQ15: 111 | DR15: 0 | DS15: 0 | DT15: 0 | DU15: 0 | DV15: 111 | DW15: 111 | DX15: 0 | DY15: 7 | DZ15: 7 | EA15: 0 | EB15: 51 | EC15: 51 | ED15: 0 | EE15: 53 | EF15: 53 | EG15: 0 | EH15: 69 | EI15: 69 | EJ15: 0 | EK15: 31 | EL15: 31 | EM15: 0 | EN15: 38 | EO15: 38 | EP15: 0 | EQ15: 73 | ER15: 73 | ES15: 0 | ET15: 35 | EU15: 35 | EV15: 0 | EW15: 38 | EX15: 38 | EY15: 0 | EZ15: 73 | FA15: 73 | FB15: 0 | FC15: 1 | FD15: 0 | FE15: 29 | FF15: 0 | FG15: 12 | FH15: 0 | FI15: 1 | FJ15: 0 | FK15: 30 | FL15: 0 | FM15: 11 | FN15: 0 | FO15: 3 | FP15: 0 | FQ15: 16 | FR15: 0 | FS15: 109 | FT15: 103 | FU15: 6 | FV15: 0 | FW15: 0 | FX15: 0 | FY15: 41 | FZ15: 37 | GA15: 4 | GB15: 58 | GC15: 56 | GD15: 2 | GE15: 12 | GF15: 0 | GG15: 30 | GH15: 2 | GI15: 11 | GJ15: 0 | GK15: 3 | GL15: 0 | GM15: 0 | GN15: 0 | GO15: 4 | GP15: 4 | GQ15: 0 | GR15: 0 | GS15: 0 | GT15: 0 | GU15: 0 | GV15: 0 | GW15: 0 | GX15: 4 | GY15: 0 | GZ15: 0 | HA15: 0 | HB15: 6 | HC15: 6 | HD15: 0 | HE15: 2 | HF15: 0 | HG15: 0 | HH15: 0 | HI15: 0 | HJ15: 0 | HK15: 1 | HL15: 0 | HM15: 0 | HN15: 0 | HO15: 0 | HP15: 0 | HQ15: 3 | HR15: 0
A16: 宜蘭縣 | B16: Yilan County | C16: 154 | D16: 153 | E16: 1 | F16: 60 | G16: 0 | H16: 0 | I16: 0 | J16: 26 | K16: 0 | L16: 43 | M16: 0 | N16: 0 | O16: 0 | P16: 0 | Q16: 0 | R16: 1 | S16: 0 | T16: 7 | U16: 0 | V16: 15 | W16: 1 | X16: 1 | Y16: 0 | Z16: 0 | AA16: 0 | AB16: 0 | AC16: 0 | AD16: 96 | AE16: 95 | AF16: 1 | AG16: 12 | AH16: 0 | AI16: 11 | AJ16: 0 | AK16: 63 | AL16: 1 | AM16: 6 | AN16: 0 | AO16: 3 | AP16: 0 | AQ16: 96 | AR16: 95 | AS16: 1 | AT16: 12 | AU16: 0 | AV16: 2 | AW16: 0 | AX16: 4 | AY16: 0 | AZ16: 7 | BA16: 0 | BB16: 39 | BC16: 1 | BD16: 18 | BE16: 0 | BF16: 10 | BG16: 0 | BH16: 3 | BI16: 0 | BJ16: 12 | BK16: 12 | BL16: 0 | BM16: 0 | BN16: 0 | BO16: 2 | BP16: 0 | BQ16: 0 | BR16: 0 | BS16: 9 | BT16: 0 | BU16: 1 | BV16: 0 | BW16: 5 | BX16: 5 | BY16: 0 | BZ16: 0 | CA16: 0 | CB16: 0 | CC16: 0 | CD16: 5 | CE16: 0 | CF16: 46 | CG16: 46 | CH16: 0 | CI16: 0 | CJ16: 0 | CK16: 0 | CL16: 39 | CM16: 39 | CN16: 0 | CO16: 6 | CP16: 0 | CQ16: 0 | CR16: 0 | CS16: 4 | CT16: 0 | CU16: 1 | CV16: 0 | CW16: 1 | CX16: 0 | CY16: 0 | CZ16: 0 | DA16: 1 | DB16: 0 | DC16: 1 | DD16: 0 | DE16: 0 | DF16: 0 | DG16: 2 | DH16: 2 | DI16: 0 | DJ16: 0 | DK16: 0 | DL16: 0 | DM16: 2 | DN16: 2 | DO16: 0 | DP16: 2 | DQ16: 2 | DR16: 0 | DS16: 0 | DT16: 0 | DU16: 0 | DV16: 2 | DW16: 2 | DX16: 0 | DY16: 0 | DZ16: 0 | EA16: 0 | EB16: 0 | EC16: 0 | ED16: 0 | EE16: 2 | EF16: 2 | EG16: 0 | EH16: 1 | EI16: 1 | EJ16: 0 | EK16: 0 | EL16: 0 | EM16: 0 | EN16: 1 | EO16: 1 | EP16: 0 | EQ16: 1 | ER16: 1 | ES16: 0 | ET16: 0 | EU16: 0 | EV16: 0 | EW16: 1 | EX16: 1 | EY16: 0 | EZ16: 1 | FA16: 1 | FB16: 0 | FC16: 0 | FD16: 0 | FE16: 0 | FF16: 0 | FG16: 0 | FH16: 0 | FI16: 0 | FJ16: 0 | FK16: 1 | FL16: 0 | FM16: 0 | FN16: 0 | FO16: 0 | FP16: 0 | FQ16: 1 | FR16: 0 | FS16: 45 | FT16: 40 | FU16: 5 | FV16: 0 | FW16: 0 | FX16: 0 | FY16: 15 | FZ16: 12 | GA16: 3 | GB16: 23 | GC16: 21 | GD16: 2 | GE16: 2 | GF16: 0 | GG16: 3 | GH16: 0 | GI16: 12 | GJ16: 2 | GK16: 3 | GL16: 0 | GM16: 1 | GN16: 0 | GO16: 4 | GP16: 4 | GQ16: 0 | GR16: 0 | GS16: 0 | GT16: 0 | GU16: 0 | GV16: 0 | GW16: 0 | GX16: 3 | GY16: 0 | GZ16: 1 | HA16: 0 | HB16: 3 | HC16: 3 | HD16: 0 | HE16: 0 | HF16: 0 | HG16: 2 | HH16: 0 | HI16: 1 | HJ16: 0 | HK16: 0 | HL16: 0 | HM16: 0 | HN16: 0 | HO16: 0 | HP16: 0 | HQ16: 0 | HR16: 0
A17: 新竹縣 | B17: Hsinchu County | C17: 176 | D17: 176 | E17: 0 | F17: 82 | G17: 0 | H17: 2 | I17: 0 | J17: 32 | K17: 0 | L17: 49 | M17: 0 | N17: 0 | O17: 0 | P17: 0 | Q17: 0 | R17: 1 | S17: 0 | T17: 7 | U17: 0 | V17: 2 | W17: 0 | X17: 1 | Y17: 0 | Z17: 0 | AA17: 0 | AB17: 0 | AC17: 0 | AD17: 100 | AE17: 100 | AF17: 0 | AG17: 2 | AH17: 0 | AI17: 37 | AJ17: 0 | AK17: 44 | AL17: 0 | AM17: 15 | AN17: 0 | AO17: 2 | AP17: 0 | AQ17: 100 | AR17: 100 | AS17: 0 | AT17: 34 | AU17: 0 | AV17: 30 | AW17: 0 | AX17: 17 | AY17: 0 | AZ17: 8 | BA17: 0 | BB17: 6 | BC17: 0 | BD17: 4 | BE17: 0 | BF17: 1 | BG17: 0 | BH17: 0 | BI17: 0 | BJ17: 20 | BK17: 20 | BL17: 0 | BM17: 0 | BN17: 0 | BO17: 0 | BP17: 0 | BQ17: 0 | BR17: 0 | BS17: 20 | BT17: 0 | BU17: 0 | BV17: 0 | BW17: 20 | BX17: 20 | BY17: 0 | BZ17: 8 | CA17: 0 | CB17: 0 | CC17: 0 | CD17: 12 | CE17: 0 | CF17: 56 | CG17: 56 | CH17: 0 | CI17: 0 | CJ17: 0 | CK17: 0 | CL17: 52 | CM17: 52 | CN17: 0 | CO17: 2 | CP17: 0 | CQ17: 0 | CR17: 0 | CS17: 0 | CT17: 0 | CU17: 1 | CV17: 0 | CW17: 1 | CX17: 0 | CY17: 0 | CZ17: 0 | DA17: 2 | DB17: 0 | DC17: 0 | DD17: 0 | DE17: 2 | DF17: 0 | DG17: 23 | DH17: 23 | DI17: 0 | DJ17: 1 | DK17: 1 | DL17: 0 | DM17: 22 | DN17: 22 | DO17: 0 | DP17: 23 | DQ17: 23 | DR17: 0 | DS17: 1 | DT17: 1 | DU17: 0 | DV17: 22 | DW17: 22 | DX17: 0 | DY17: 0 | DZ17: 0 | EA17: 0 | EB17: 1 | EC17: 1 | ED17: 0 | EE17: 22 | EF17: 22 | EG17: 0 | EH17: 51 | EI17: 51 | EJ17: 0 | EK17: 36 | EL17: 36 | EM17: 0 | EN17: 15 | EO17: 15 | EP17: 0 | EQ17: 51 | ER17: 51 | ES17: 0 | ET17: 36 | EU17: 36 | EV17: 0 | EW17: 15 | EX17: 15 | EY17: 0 | EZ17: 51 | FA17: 51 | FB17: 0 | FC17: 0 | FD17: 0 | FE17: 32 | FF17: 0 | FG17: 14 | FH17: 0 | FI17: 1 | FJ17: 0 | FK17: 4 | FL17: 0 | FM17: 0 | FN17: 0 | FO17: 1 | FP17: 0 | FQ17: 3 | FR17: 0 | FS17: 23 | FT17: 22 | FU17: 1 | FV17: 0 | FW17: 0 | FX17: 0 | FY17: 14 | FZ17: 13 | GA17: 1 | GB17: 4 | GC17: 4 | GD17: 0 | GE17: 0 | GF17: 0 | GG17: 1 | GH17: 0 | GI17: 2 | GJ17: 0 | GK17: 0 | GL17: 0 | GM17: 1 | GN17: 0 | GO17: 1 | GP17: 1 | GQ17: 0 | GR17: 0 | GS17: 0 | GT17: 0 | GU17: 0 | GV17: 1 | GW17: 0 | GX17: 0 | GY17: 0 | GZ17: 0 | HA17: 0 | HB17: 4 | HC17: 4 | HD17: 0 | HE17: 0 | HF17: 0 | HG17: 4 | HH17: 0 | HI17: 0 | HJ17: 0 | HK17: 0 | HL17: 0 | HM17: 0 | HN17: 0 | HO17: 0 | HP17: 0 | HQ17: 0 | HR17: 0
A18: 苗栗縣 | B18: Miaoli County | C18: 237 | D18: 237 | E18: 0 | F18: 69 | G18: 0 | H18: 10 | I18: 0 | J18: 57 | K18: 0 | L18: 65 | M18: 0 | N18: 0 | O18: 0 | P18: 0 | Q18: 0 | R18: 0 | S18: 0 | T18: 16 | U18: 0 | V18: 18 | W18: 0 | X18: 1 | Y18: 0 | Z18: 0 | AA18: 0 | AB18: 1 | AC18: 0 | AD18: 155 | AE18: 155 | AF18: 0 | AG18: 5 | AH18: 0 | AI18: 37 | AJ18: 0 | AK18: 82 | AL18: 0 | AM18: 25 | AN18: 0 | AO18: 6 | AP18: 0 | AQ18: 155 | AR18: 155 | AS18: 0 | AT18: 38 | AU18: 0 | AV18: 22 | AW18: 0 | AX18: 19 | AY18: 0 | AZ18: 19 | BA18: 0 | BB18: 30 | BC18: 0 | BD18: 18 | BE18: 0 | BF18: 6 | BG18: 0 | BH18: 3 | BI18: 0 | BJ18: 25 | BK18: 25 | BL18: 0 | BM18: 0 | BN18: 0 | BO18: 2 | BP18: 0 | BQ18: 0 | BR18: 0 | BS18: 21 | BT18: 0 | BU18: 2 | BV18: 0 | BW18: 3 | BX18: 3 | BY18: 0 | BZ18: 1 | CA18: 0 | CB18: 0 | CC18: 0 | CD18: 2 | CE18: 0 | CF18: 57 | CG18: 57 | CH18: 0 | CI18: 1 | CJ18: 1 | CK18: 0 | CL18: 41 | CM18: 41 | CN18: 0 | CO18: 15 | CP18: 0 | CQ18: 1 | CR18: 0 | CS18: 5 | CT18: 0 | CU18: 3 | CV18: 0 | CW18: 0 | CX18: 0 | CY18: 6 | CZ18: 0 | DA18: 0 | DB18: 0 | DC18: 0 | DD18: 0 | DE18: 0 | DF18: 0 | DG18: 39 | DH18: 39 | DI18: 0 | DJ18: 18 | DK18: 18 | DL18: 0 | DM18: 21 | DN18: 21 | DO18: 0 | DP18: 42 | DQ18: 42 | DR18: 0 | DS18: 18 | DT18: 18 | DU18: 0 | DV18: 24 | DW18: 24 | DX18: 0 | DY18: 8 | DZ18: 8 | EA18: 0 | EB18: 5 | EC18: 5 | ED18: 0 | EE18: 29 | EF18: 29 | EG18: 0 | EH18: 28 | EI18: 28 | EJ18: 0 | EK18: 8 | EL18: 8 | EM18: 0 | EN18: 20 | EO18: 20 | EP18: 0 | EQ18: 28 | ER18: 28 | ES18: 0 | ET18: 8 | EU18: 8 | EV18: 0 | EW18: 20 | EX18: 20 | EY18: 0 | EZ18: 28 | FA18: 28 | FB18: 0 | FC18: 6 | FD18: 0 | FE18: 8 | FF18: 0 | FG18: 5 | FH18: 0 | FI18: 0 | FJ18: 0 | FK18: 9 | FL18: 0 | FM18: 6 | FN18: 0 | FO18: 0 | FP18: 0 | FQ18: 3 | FR18: 0 | FS18: 52 | FT18: 51 | FU18: 1 | FV18: 0 | FW18: 0 | FX18: 0 | FY18: 5 | FZ18: 5 | GA18: 0 | GB18: 37 | GC18: 36 | GD18: 1 | GE18: 5 | GF18: 0 | GG18: 15 | GH18: 0 | GI18: 8 | GJ18: 1 | GK18: 6 | GL18: 0 | GM18: 2 | GN18: 0 | GO18: 7 | GP18: 7 | GQ18: 0 | GR18: 0 | GS18: 0 | GT18: 0 | GU18: 0 | GV18: 2 | GW18: 0 | GX18: 5 | GY18: 0 | GZ18: 0 | HA18: 0 | HB18: 3 | HC18: 3 | HD18: 0 | HE18: 0 | HF18: 0 | HG18: 0 | HH18: 0 | HI18: 0 | HJ18: 0 | HK18: 3 | HL18: 0 | HM18: 0 | HN18: 0 | HO18: 0 | HP18: 0 | HQ18: 0 | HR18: 0
A19: 彰化縣 | B19: Changhua County | C19: 287 | D19: 285 | E19: 2 | F19: 88 | G19: 1 | H19: 1 | I19: 0 | J19: 63 | K19: 0 | L19: 114 | M19: 0 | N19: 0 | O19: 0 | P19: 0 | Q19: 0 | R19: 2 | S19: 0 | T19: 16 | U19: 1 | V19: 1 | W19: 0 | X19: 0 | Y19: 0 | Z19: 0 | AA19: 0 | AB19: 0 | AC19: 0 | AD19: 150 | AE19: 150 | AF19: 0 | AG19: 26 | AH19: 0 | AI19: 23 | AJ19: 0 | AK19: 87 | AL19: 0 | AM19: 14 | AN19: 0 | AO19: 0 | AP19: 0 | AQ19: 150 | AR19: 150 | AS19: 0 | AT19: 13 | AU19: 0 | AV19: 16 | AW19: 0 | AX19: 18 | AY19: 0 | AZ19: 15 | BA19: 0 | BB19: 25 | BC19: 0 | BD19: 13 | BE19: 0 | BF19: 17 | BG19: 0 | BH19: 33 | BI19: 0 | BJ19: 37 | BK19: 37 | BL19: 0 | BM19: 1 | BN19: 0 | BO19: 0 | BP19: 0 | BQ19: 1 | BR19: 0 | BS19: 30 | BT19: 0 | BU19: 5 | BV19: 0 | BW19: 4 | BX19: 4 | BY19: 0 | BZ19: 4 | CA19: 0 | CB19: 0 | CC19: 0 | CD19: 0 | CE19: 0 | CF19: 100 | CG19: 98 | CH19: 2 | CI19: 5 | CJ19: 5 | CK19: 0 | CL19: 75 | CM19: 73 | CN19: 2 | CO19: 16 | CP19: 0 | CQ19: 4 | CR19: 0 | CS19: 5 | CT19: 0 | CU19: 3 | CV19: 0 | CW19: 0 | CX19: 0 | CY19: 4 | CZ19: 0 | DA19: 4 | DB19: 0 | DC19: 0 | DD19: 0 | DE19: 0 | DF19: 0 | DG19: 16 | DH19: 16 | DI19: 0 | DJ19: 0 | DK19: 0 | DL19: 0 | DM19: 16 | DN19: 16 | DO19: 0 | DP19: 18 | DQ19: 18 | DR19: 0 | DS19: 0 | DT19: 0 | DU19: 0 | DV19: 18 | DW19: 18 | DX19: 0 | DY19: 0 | DZ19: 0 | EA19: 0 | EB19: 0 | EC19: 0 | ED19: 0 | EE19: 18 | EF19: 18 | EG19: 0 | EH19: 42 | EI19: 42 | EJ19: 0 | EK19: 22 | EL19: 22 | EM19: 0 | EN19: 20 | EO19: 20 | EP19: 0 | EQ19: 46 | ER19: 46 | ES19: 0 | ET19: 25 | EU19: 25 | EV19: 0 | EW19: 21 | EX19: 21 | EY19: 0 | EZ19: 46 | FA19: 46 | FB19: 0 | FC19: 0 | FD19: 0 | FE19: 12 | FF19: 0 | FG19: 15 | FH19: 0 | FI19: 3 | FJ19: 0 | FK19: 16 | FL19: 0 | FM19: 6 | FN19: 0 | FO19: 1 | FP19: 0 | FQ19: 9 | FR19: 0 | FS19: 52 | FT19: 51 | FU19: 1 | FV19: 0 | FW19: 0 | FX19: 0 | FY19: 13 | FZ19: 12 | GA19: 1 | GB19: 27 | GC19: 27 | GD19: 0 | GE19: 7 | GF19: 0 | GG19: 11 | GH19: 0 | GI19: 6 | GJ19: 0 | GK19: 2 | GL19: 0 | GM19: 1 | GN19: 0 | GO19: 7 | GP19: 7 | GQ19: 0 | GR19: 1 | GS19: 0 | GT19: 0 | GU19: 0 | GV19: 0 | GW19: 0 | GX19: 6 | GY19: 0 | GZ19: 0 | HA19: 0 | HB19: 5 | HC19: 5 | HD19: 0 | HE19: 1 | HF19: 0 | HG19: 1 | HH19: 0 | HI19: 0 | HJ19: 0 | HK19: 2 | HL19: 0 | HM19: 1 | HN19: 0 | HO19: 0 | HP19: 0 | HQ19: 0 | HR19: 0
A20: 南投縣 | B20: Nantou County | C20: 172 | D20: 172 | E20: 0 | F20: 64 | G20: 0 | H20: 9 | I20: 0 | J20: 34 | K20: 0 | L20: 51 | M20: 0 | N20: 0 | O20: 0 | P20: 0 | Q20: 0 | R20: 0 | S20: 0 | T20: 6 | U20: 0 | V20: 8 | W20: 0 | X20: 0 | Y20: 0 | Z20: 0 | AA20: 0 | AB20: 0 | AC20: 0 | AD20: 85 | AE20: 85 | AF20: 0 | AG20: 9 | AH20: 0 | AI20: 11 | AJ20: 0 | AK20: 54 | AL20: 0 | AM20: 9 | AN20: 0 | AO20: 2 | AP20: 0 | AQ20: 85 | AR20: 85 | AS20: 0 | AT20: 24 | AU20: 0 | AV20: 20 | AW20: 0 | AX20: 8 | AY20: 0 | AZ20: 10 | BA20: 0 | BB20: 17 | BC20: 0 | BD20: 5 | BE20: 0 | BF20: 0 | BG20: 0 | BH20: 1 | BI20: 0 | BJ20: 32 | BK20: 32 | BL20: 0 | BM20: 0 | BN20: 0 | BO20: 0 | BP20: 0 | BQ20: 0 | BR20: 0 | BS20: 32 | BT20: 0 | BU20: 0 | BV20: 0 | BW20: 0 | BX20: 0 | BY20: 0 | BZ20: 0 | CA20: 0 | CB20: 0 | CC20: 0 | CD20: 0 | CE20: 0 | CF20: 55 | CG20: 55 | CH20: 0 | CI20: 1 | CJ20: 1 | CK20: 0 | CL20: 48 | CM20: 48 | CN20: 0 | CO20: 6 | CP20: 0 | CQ20: 2 | CR20: 0 | CS20: 1 | CT20: 0 | CU20: 1 | CV20: 0 | CW20: 0 | CX20: 0 | CY20: 2 | CZ20: 0 | DA20: 0 | DB20: 0 | DC20: 0 | DD20: 0 | DE20: 0 | DF20: 0 | DG20: 17 | DH20: 17 | DI20: 0 | DJ20: 0 | DK20: 0 | DL20: 0 | DM20: 17 | DN20: 17 | DO20: 0 | DP20: 17 | DQ20: 17 | DR20: 0 | DS20: 0 | DT20: 0 | DU20: 0 | DV20: 17 | DW20: 17 | DX20: 0 | DY20: 9 | DZ20: 9 | EA20: 0 | EB20: 0 | EC20: 0 | ED20: 0 | EE20: 8 | EF20: 8 | EG20: 0 | EH20: 5 | EI20: 5 | EJ20: 0 | EK20: 0 | EL20: 0 | EM20: 0 | EN20: 5 | EO20: 5 | EP20: 0 | EQ20: 13 | ER20: 13 | ES20: 0 | ET20: 8 | EU20: 8 | EV20: 0 | EW20: 5 | EX20: 5 | EY20: 0 | EZ20: 13 | FA20: 13 | FB20: 0 | FC20: 0 | FD20: 0 | FE20: 9 | FF20: 0 | FG20: 2 | FH20: 0 | FI20: 0 | FJ20: 0 | FK20: 2 | FL20: 0 | FM20: 2 | FN20: 0 | FO20: 0 | FP20: 0 | FQ20: 0 | FR20: 0 | FS20: 41 | FT20: 40 | FU20: 1 | FV20: 0 | FW20: 0 | FX20: 0 | FY20: 14 | FZ20: 13 | GA20: 1 | GB20: 22 | GC20: 22 | GD20: 0 | GE20: 3 | GF20: 0 | GG20: 15 | GH20: 0 | GI20: 4 | GJ20: 0 | GK20: 0 | GL20: 0 | GM20: 0 | GN20: 0 | GO20: 2 | GP20: 2 | GQ20: 0 | GR20: 0 | GS20: 0 | GT20: 0 | GU20: 0 | GV20: 0 | GW20: 0 | GX20: 2 | GY20: 0 | GZ20: 0 | HA20: 0 | HB20: 3 | HC20: 3 | HD20: 0 | HE20: 2 | HF20: 0 | HG20: 0 | HH20: 0 | HI20: 0 | HJ20: 0 | HK20: 0 | HL20: 0 | HM20: 0 | HN20: 0 | HO20: 0 | HP20: 0 | HQ20: 1 | HR20: 0
... A31: 連江縣 | B31: Lienchiang County | C31: 2 | D31: 2 | E31: 0 | F31: 0 | G31: 0 | H31: 0 | I31: 0 | J31: 0 | K31: 0 | L31: 0 | M31: 0 | N31: 0 | O31: 0 | P31: 0 | Q31: 0 | R31: 0 | S31: 0 | T31: 0 | U31: 0 | V31: 2 | W31: 0 | X31: 0 | Y31: 0 | Z31: 0 | AA31: 0 | AB31: 0 | AC31: 0 | AD31: 1 | AE31: 1 | AF31: 0 | AG31: 0 | AH31: 0 | AI31: 0 | AJ31: 0 | AK31: 0 | AL31: 0 | AM31: 1 | AN31: 0 | AO31: 0 | AP31: 0 | AQ31: 1 | AR31: 1 | AS31: 0 | AT31: 0 | AU31: 0 | AV31: 0 | AW31: 0 | AX31: 0 | AY31: 0 | AZ31: 0 | BA31: 0 | BB31: 0 | BC31: 0 | BD31: 1 | BE31: 0 | BF31: 0 | BG31: 0 | BH31: 0 | BI31: 0 | BJ31: 0 | BK31: 0 | BL31: 0 | BM31: 0 | BN31: 0 | BO31: 0 | BP31: 0 | BQ31: 0 | BR31: 0 | BS31: 0 | BT31: 0 | BU31: 0 | BV31: 0 | BW31: 0 | BX31: 0 | BY31: 0 | BZ31: 0 | CA31: 0 | CB31: 0 | CC31: 0 | CD31: 0 | CE31: 0 | CF31: 1 | CG31: 1 | CH31: 0 | CI31: 0 | CJ31: 0 | CK31: 0 | CL31: 1 | CM31: 1 | CN31: 0 | CO31: 0 | CP31: 0 | CQ31: 0 | CR31: 0 | CS31: 0 | CT31: 0 | CU31: 0 | CV31: 0 | CW31: 0 | CX31: 0 | CY31: 0 | CZ31: 0 | DA31: 0 | DB31: 0 | DC31: 0 | DD31: 0 | DE31: 0 | DF31: 0 | DG31: 0 | DH31: 0 | DI31: 0 | DJ31: 0 | DK31: 0 | DL31: 0 | DM31: 0 | DN31: 0 | DO31: 0 | DP31: 0 | DQ31: 0 | DR31: 0 | DS31: 0 | DT31: 0 | DU31: 0 | DV31: 0 | DW31: 0 | DX31: 0 | DY31: 0 | DZ31: 0 | EA31: 0 | EB31: 0 | EC31: 0 | ED31: 0 | EE31: 0 | EF31: 0 | EG31: 0 | EH31: 0 | EI31: 0 | EJ31: 0 | EK31: 0 | EL31: 0 | EM31: 0 | EN31: 0 | EO31: 0 | EP31: 0 | EQ31: 0 | ER31: 0 | ES31: 0 | ET31: 0 | EU31: 0 | EV31: 0 | EW31: 0 | EX31: 0 | EY31: 0 | EZ31: 0 | FA31: 0 | FB31: 0 | FC31: 0 | FD31: 0 | FE31: 0 | FF31: 0 | FG31: 0 | FH31: 0 | FI31: 0 | FJ31: 0 | FK31: 0 | FL31: 0 | FM31: 0 | FN31: 0 | FO31: 0 | FP31: 0 | FQ31: 0 | FR31: 0 | FS31: 0 | FT31: 0 | FU31: 0 | FV31: 0 | FW31: 0 | FX31: 0 | FY31: 0 | FZ31: 0 | GA31: 0 | GB31: 0 | GC31: 0 | GD31: 0 | GE31: 0 | GF31: 0 | GG31: 0 | GH31: 0 | GI31: 0 | GJ31: 0 | GK31: 0 | GL31: 0 | GM31: 0 | GN31: 0 | GO31: 0 | GP31: 0 | GQ31: 0 | GR31: 0 | GS31: 0 | GT31: 0 | GU31: 0 | GV31: 0 | GW31: 0 | GX31: 0 | GY31: 0 | GZ31: 0 | HA31: 0 | HB31: 0 | HC31: 0 | HD31: 0 | HE31: 0 | HF31: 0 | HG31: 0 | HH31: 0 | HI31: 0 | HJ31: 0 | HK31: 0 | HL31: 0 | HM31: 0 | HN31: 0 | HO31: 0 | HP31: 0 | HQ31: 0 | HR31: 0
A32: 資料來源：直轄市、縣﹝市﹞政府。
A33: Source : County and City Government.

Sheet 112
A1: 性侵害加害人處遇
A2: 中華民國112年 2023
A4: 區域別 Locality | C4: (1)本年截至本期加害人個案人數按處分類別分(人) (不含依少年事件處理法裁定保護處分確定而法院認有必要者) | Z4: (2)本期加害人個案尚接受身心治療或輔導教育者按再犯等級分(人) (不含依少年事件處理法裁定保護處分確定而法院認有必要者) | AM4: (3)本期加害人個案尚接受身心治療或輔導教育者按處遇期程分(人) (不含依少年事件處理法裁定保護處分確定而法院認有必要者) | BF4: (4)本期加害人個案暫停處遇人數按暫停原因分(人)(不含依少年事件處理法裁定保護處分確定而法院認有必要者) | BS4: (5)本年截至本期累計處遇期間再犯人數按再犯案件分(人)(不含依少年事件處理法裁定保護處分確定而法院認有必要者) | CB4: (6)本年截至本期累計加害人個案已結案人數按結案狀態分(人)(不含依少年事件處理法裁定保護處分確定而法院認有必要者) | DC4: (7)本年截至本期加害人個案行政裁罰情形(不含依少年事件處理法裁定保護處分確定而法院認有必要者) | ED4: (8)本年截至本期加害人個案移送情形(不含依少年事件處理法裁定保護處分確定而法院認有必要者) | FA4: (8)本年截至本期加害人個案移送情形(不含依少年事件處理法裁定保護處分確定而法院認有必要者) | FO4: (9)依少年事件處理法裁定保護處分確定而法院認有必要，經縣市政府評估接受身心治療或輔導教育者按處遇狀態分(人) | GK4: (9)依少年事件處理法裁定保護處分確定而法院認有必要，經縣市政府評估接受身心治療或輔導教育者按處遇狀態分(人)
C5: 合計Total | F5: 犯性侵害罪者 | V5: 犯性騷擾防治法第25條判決有罪確定者 | X5: 犯兒少性剝削防制條例第31條判決有罪確定者 | Z5: 合計Total | AC5: 評估中 | AE5: 低再犯 | AG5: 中低再犯 | AI5: 中高再犯 | AK5: 高再犯 | AM5: 合計Total | AP5: 未滿3個月 | AR5: 3個月以上 未滿6個月 | AT5: 6個月以上 未滿9個月 | AV5: 9個月以上 未滿1年 | AX5: 1年以上 未滿1年6個月 | AZ5: 1年6個月以上 未滿2年 | BB5: 2年以上 未滿3年 | BD5: 3年以上至4年 | BF5: 合計 | BI5: 傷殘住院 | BK5: 出國 | BM5: 服兵役 | BO5: 因他案 入監服刑 | BQ5: 其他 | BS5: 合計Total | BV5: 再犯性侵害案件 | BX5: 再犯其他案件 且合併性侵害 | BZ5: 再犯其他非性侵害案件 | CB5: 合計Total | CE5: 本年截至本期累計無須處遇個案 | CH5: 本年截至本期累計完成處遇人數 | CK5: 本年截至本期累計未完成處遇已結案人數按結案原因分(人) | CW5: 本年截至本期累計轉入強制治療人數(人) | DC5: 應行政裁罰個案人數(人) | DL5: 申請行政裁罰個案人次(人次) | DU5: 申請行政裁罰者按結果分(人次) | ED5: 應移送個案人數(人) | EM5: 聲請移送個案人次(人次) | EV5: 聲請移送者按階段分(人次) | FO5: 本年截至本期累計少年性侵害行為人個案人數 | FR5: 本年截至本期累計無須處遇人數 | FU5: 本年截至本期累計完成處遇人數 | FX5: 本期尚在接受處遇者按再犯等級分(人) | GK5: 本期暫停處遇人數按暫停原因分 | GX5: 本年截至本期累計未完成處遇已結案人數按結案原因分
F6: 有期徒刑或保安處分執行完畢 | H6: 有期徒刑經易服社會勞動 | J6: 假釋 | L6: 緩刑 | N6: 免刑 | P6: 赦免 | R6: 經法院、軍事法院依第22條之1第3項裁定停止強制治療 | T6: 經緩起訴處分確定者 | EV6: 合計Total (K)=L+M+N | EY6: 移送家防中心/警察局/其他機關 (L) | FA6: 移送地檢署 (M)=m1+m2+m3 | FI6: 移送法院(人次) (N)=m4=n1+n2+n3
C7: 計Total | D7: 男 Male | E7: 女Female | F7: 男 Male | G7: 女Female | H7: 男 Male | I7: 女Female | J7: 男 Male | K7: 女Female | L7: 男 Male | M7: 女Female | N7: 男 Male | O7: 女Female | P7: 男 Male | Q7: 女Female | R7: 男 Male | S7: 女Female | T7: 男 Male | U7: 女Female | V7: 男 Male | W7: 女Female | X7: 男 Male | Y7: 女Female | Z7: 計Total | AA7: 男 Male | AB7: 女Female | AC7: 男 Male | AD7: 女Female | AE7: 男 Male | AF7: 女Female | AG7: 男 Male | AH7: 女Female | AI7: 男 Male | AJ7: 女Female | AK7: 男 Male | AL7: 女Female | AM7: 計Total | AN7: 男 Male | AO7: 女Female | AP7: 男 Male | AQ7: 女Female | AR7: 男 Male | AS7: 女Female | AT7: 男 Male | AU7: 女Female | AV7: 男 Male | AW7: 女Female | AX7: 男 Male | AY7: 女Female | AZ7: 男 Male | BA7: 女Female | BB7: 男 Male | BC7: 女Female | BD7: 男 Male | BE7: 女Female | BF7: 計Total | BG7: 男 Male | BH7: 女Female | BI7: 男 Male | BJ7: 女Female | BK7: 男 Male | BL7: 女Female | BM7: 男 Male | BN7: 女Female | BO7: 男 Male | BP7: 女Female | BQ7: 男 Male | BR7: 女Female | BS7: 計Total | BT7: 男 Male | BU7: 女Female | BV7: 男 Male | BW7: 女Female | BX7: 男 Male | BY7: 女Female | BZ7: 男 Male | CA7: 女Female | CB7: 計Total | CC7: 男 Male | CD7: 女Female | CE7: 計Total | CF7: 男 Male | CG7: 女Female | CH7: 計Total | CI7: 男 Male | CJ7: 女Female | CK7: 計Total | CM7: 因再犯性侵害罪入獄 | CO7: 戶籍移轉外縣市 | CQ7: 死亡 | CS7: 長期入住機構 | CU7: 其他 | CW7: 計Total | CY7: 依性侵害犯罪防治法第22條規定 | DA7: 依性侵害犯罪防治法第22條之1規定 | DC7: 合計Total | DF7: 前年度應行政裁罰但結果未確定人數 | DI7: 本年度 應行政裁罰人數 | DL7: 合計Total | DO7: 前年度申請行政裁罰但結果未確定人次 | DR7: 本年度申請行政裁罰人次 | DU7: 調查或簽辦中 | DX7: 駁回或不罰 | EA7: 裁罰確定 | ED7: 合計Total | EG7: 前年度應移送但結果未確定人數 | EJ7: 本年度應移送人數 | EM7: 合計Total | EP7: 前年度移送但結果未確定人次 | ES7: 本年度聲請移送人次 | FA7: 偵查中 (m1) | FC7: 駁回或不起訴 (m2) | FE7: 緩起訴 (m3) | FG7: 起訴 (m4) | FI7: 審理中 (n1) | FK7: 無罪 (n2) | FM7: 有罪(拘役、有期徒刑等) (n3) | FO7: 計 Total | FP7: 男 Male | FQ7: 女Female | FR7: 計 Total | FS7: 男 Male | FT7: 女Female | FU7: 計 Total | FV7: 男 Male | FW7: 女Female | FX7: 合計Total | GA7: 評估中 | GC7: 低再犯 | GE7: 中低再犯 | GG7: 中高再犯 | GI7: 高再犯 | GK7: 合計Total | GN7: 傷殘住院 | GP7: 出國 | GR7: 服兵役 | GT7: 因他案入感化教育處所或監獄 | GV7: 其他 | GX7: 合計Total | HA7: 保護處分期滿且未依規定接受處遇，檢還少年法院(庭) | HC7: 保護處分期限未滿且未依規定接受處遇，檢還少年法院(庭) | HE7: 再犯性侵害案件入感化教育處所或監獄 | HG7: 戶籍移轉外縣市 | HI7: 死亡 | HK7: 長期入住機構 | HM7: 其他
CK8: 男 Male | CL8: 女Female | CM8: 男 Male | CN8: 女Female | CO8: 男 Male | CP8: 女Female | CQ8: 男 Male | CR8: 女Female | CS8: 男 Male | CT8: 女Female | CU8: 男 Male | CV8: 女Female | CW8: 男 Male | CX8: 女Female | CY8: 男 Male | CZ8: 女Female | DA8: 男 Male | DB8: 女Female | DC8: 計 Total | DD8: 男 Male | DE8: 女Female | DF8: 計 Total | DG8: 男 Male | DH8: 女Female | DI8: 計 Total | DJ8: 男 Male | DK8: 女Female | DL8: 計 Total | DM8: 男 Male | DN8: 女Female | DO8: 計 Total | DP8: 男 Male | DQ8: 女Female | DR8: 計 Total | DS8: 男 Male | DT8: 女Female | DU8: 計 Total | DV8: 男 Male | DW8: 女Female | DX8: 計 Total | DY8: 男 Male | DZ8: 女Female | EA8: 計 Total | EB8: 男 Male | EC8: 女Female | ED8: 計 Total | EE8: 男 Male | EF8: 女Female | EG8: 計 Total | EH8: 男 Male | EI8: 女Female | EJ8: 計 Total | EK8: 男 Male | EL8: 女Female | EM8: 計 Total | EN8: 男 Male | EO8: 女Female | EP8: 計 Total | EQ8: 男 Male | ER8: 女Female | ES8: 計 Total | ET8: 男 Male | EU8: 女Female | EV8: 計 Total | EW8: 男 Male | EX8: 女Female | EY8: 男 Male | EZ8: 女Female | FA8: 男 Male | FB8: 女Female | FC8: 男 Male | FD8: 女Female | FE8: 男 Male | FF8: 女Female | FG8: 男 Male | FH8: 女Female | FI8: 男 Male | FJ8: 女Female | FK8: 男 Male | FL8: 女Female | FM8: 男 Male | FN8: 女Female | FX8: 計 Total | FY8: 男 Male | FZ8: 女Female | GA8: 男 Male | GB8: 女Female | GC8: 男 Male | GD8: 女Female | GE8: 男 Male | GF8: 女Female | GG8: 男 Male | GH8: 女Female | GI8: 男 Male | GJ8: 女Female | GK8: 計 Total | GL8: 男 Male | GM8: 女Female | GN8: 男 Male | GO8: 女Female | GP8: 男 Male | GQ8: 女Female | GR8: 男 Male | GS8: 女Female | GT8: 男 Male | GU8: 女Female | GV8: 男 Male | GW8: 女Female | GX8: 計 Total | GY8: 男 Male | GZ8: 女Female | HA8: 男 Male | HB8: 女Female | HC8: 男 Male | HD8: 女Female | HE8: 男 Male | HF8: 女Female | HG8: 男 Male | HH8: 女Female | HI8: 男 Male | HJ8: 女Female | HK8: 男 Male | HL8: 女Female | HM8: 男 Male | HN8: 女Female
A9: 總 計 | B9: Total | C9: 6629 | D9: 6584 | E9: 45 | F9: 2062 | G9: 5 | H9: 119 | I9: 0 | J9: 1606 | K9: 13 | L9: 1977 | M9: 14 | N9: 1 | O9: 3 | P9: 0 | Q9: 0 | R9: 34 | S9: 0 | T9: 359 | U9: 6 | V9: 394 | W9: 4 | X9: 32 | Y9: 0 | Z9: 4197 | AA9: 4178 | AB9: 19 | AC9: 289 | AD9: 3 | AE9: 1043 | AF9: 3 | AG9: 2289 | AH9: 12 | AI9: 492 | AJ9: 1 | AK9: 65 | AL9: 0 | AM9: 4197 | AN9: 4178 | AO9: 19 | AP9: 685 | AQ9: 8 | AR9: 627 | AS9: 2 | AT9: 472 | AU9: 0 | AV9: 479 | AW9: 2 | AX9: 633 | AY9: 4 | AZ9: 536 | BA9: 2 | BB9: 498 | BC9: 1 | BD9: 248 | BE9: 0 | BF9: 502 | BG9: 501 | BH9: 1 | BI9: 26 | BJ9: 0 | BK9: 20 | BL9: 0 | BM9: 6 | BN9: 0 | BO9: 368 | BP9: 1 | BQ9: 81 | BR9: 0 | BS9: 293 | BT9: 292 | BU9: 1 | BV9: 36 | BW9: 0 | BX9: 5 | BY9: 0 | BZ9: 251 | CA9: 1 | CB9: 1930 | CC9: 1905 | CD9: 25 | CE9: 25 | CF9: 24 | CG9: 1 | CH9: 1536 | CI9: 1513 | CJ9: 23 | CK9: 352 | CL9: 1 | CM9: 26 | CN9: 0 | CO9: 128 | CP9: 1 | CQ9: 53 | CR9: 0 | CS9: 8 | CT9: 0 | CU9: 137 | CV9: 0 | CW9: 16 | CX9: 0 | CY9: 12 | CZ9: 0 | DA9: 4 | DB9: 0 | DC9: 1408 | DD9: 1403 | DE9: 5 | DF9: 325 | DG9: 325 | DH9: 0 | DI9: 1083 | DJ9: 1078 | DK9: 5 | DL9: 2259 | DM9: 2252 | DN9: 7 | DO9: 526 | DP9: 525 | DQ9: 1 | DR9: 1733 | DS9: 1727 | DT9: 6 | DU9: 1289 | DV9: 1289 | DW9: 0 | DX9: 114 | DY9: 114 | DZ9: 0 | EA9: 856 | EB9: 849 | EC9: 7 | ED9: 840 | EE9: 833 | EF9: 7 | EG9: 303 | EH9: 302 | EI9: 1 | EJ9: 537 | EK9: 531 | EL9: 6 | EM9: 1032 | EN9: 1025 | EO9: 7 | EP9: 458 | EQ9: 457 | ER9: 1 | ES9: 574 | ET9: 568 | EU9: 6 | EV9: 1032 | EW9: 1025 | EX9: 7 | EY9: 143 | EZ9: 2 | FA9: 491 | FB9: 5 | FC9: 105 | FD9: 0 | FE9: 10 | FF9: 0 | FG9: 276 | FH9: 0 | FI9: 64 | FJ9: 0 | FK9: 7 | FL9: 0 | FM9: 205 | FN9: 0 | FO9: 1206 | FP9: 1144 | FQ9: 62 | FR9: 20 | FS9: 20 | FT9: 0 | FU9: 297 | FV9: 267 | FW9: 30 | FX9: 694 | FY9: 669 | FZ9: 25 | GA9: 91 | GB9: 4 | GC9: 200 | GD9: 12 | GE9: 297 | GF9: 6 | GG9: 73 | GH9: 3 | GI9: 8 | GJ9: 0 | GK9: 59 | GL9: 59 | GM9: 0 | GN9: 0 | GO9: 0 | GP9: 2 | GQ9: 0 | GR9: 4 | GS9: 0 | GT9: 53 | GU9: 0 | GV9: 0 | GW9: 0 | GX9: 136 | GY9: 129 | GZ9: 7 | HA9: 57 | HB9: 3 | HC9: 29 | HD9: 3 | HE9: 7 | HF9: 0 | HG9: 18 | HH9: 1 | HI9: 2 | HJ9: 0 | HK9: 0 | HL9: 0 | HM9: 16 | HN9: 0
A10: 新北市 | B10: New Taipei City | C10: 1239 | D10: 1226 | E10: 13 | F10: 390 | G10: 1 | H10: 16 | I10: 0 | J10: 291 | K10: 5 | L10: 375 | M10: 4 | N10: 0 | O10: 0 | P10: 0 | Q10: 0 | R10: 1 | S10: 0 | T10: 40 | U10: 2 | V10: 97 | W10: 1 | X10: 16 | Y10: 0 | Z10: 980 | AA10: 968 | AB10: 12 | AC10: 102 | AD10: 1 | AE10: 187 | AF10: 2 | AG10: 551 | AH10: 8 | AI10: 115 | AJ10: 1 | AK10: 13 | AL10: 0 | AM10: 980 | AN10: 968 | AO10: 12 | AP10: 201 | AQ10: 5 | AR10: 222 | AS10: 1 | AT10: 38 | AU10: 0 | AV10: 139 | AW10: 2 | AX10: 151 | AY10: 2 | AZ10: 96 | BA10: 1 | BB10: 94 | BC10: 1 | BD10: 27 | BE10: 0 | BF10: 0 | BG10: 0 | BH10: 0 | BI10: 0 | BJ10: 0 | BK10: 0 | BL10: 0 | BM10: 0 | BN10: 0 | BO10: 0 | BP10: 0 | BQ10: 0 | BR10: 0 | BS10: 5 | BT10: 5 | BU10: 0 | BV10: 1 | BW10: 0 | BX10: 0 | BY10: 0 | BZ10: 4 | CA10: 0 | CB10: 259 | CC10: 258 | CD10: 1 | CE10: 0 | CF10: 0 | CG10: 0 | CH10: 203 | CI10: 202 | CJ10: 1 | CK10: 52 | CL10: 0 | CM10: 4 | CN10: 0 | CO10: 14 | CP10: 0 | CQ10: 14 | CR10: 0 | CS10: 3 | CT10: 0 | CU10: 17 | CV10: 0 | CW10: 4 | CX10: 0 | CY10: 4 | CZ10: 0 | DA10: 0 | DB10: 0 | DC10: 216 | DD10: 214 | DE10: 2 | DF10: 0 | DG10: 0 | DH10: 0 | DI10: 216 | DJ10: 214 | DK10: 2 | DL10: 232 | DM10: 229 | DN10: 3 | DO10: 0 | DP10: 0 | DQ10: 0 | DR10: 232 | DS10: 229 | DT10: 3 | DU10: 0 | DV10: 0 | DW10: 0 | DX10: 0 | DY10: 0 | DZ10: 0 | EA10: 232 | EB10: 229 | EC10: 3 | ED10: 257 | EE10: 252 | EF10: 5 | EG10: 106 | EH10: 105 | EI10: 1 | EJ10: 151 | EK10: 147 | EL10: 4 | EM10: 305 | EN10: 300 | EO10: 5 | EP10: 154 | EQ10: 153 | ER10: 1 | ES10: 151 | ET10: 147 | EU10: 4 | EV10: 305 | EW10: 300 | EX10: 5 | EY10: 0 | EZ10: 0 | FA10: 158 | FB10: 5 | FC10: 26 | FD10: 0 | FE10: 0 | FF10: 0 | FG10: 116 | FH10: 0 | FI10: 8 | FJ10: 0 | FK10: 2 | FL10: 0 | FM10: 106 | FN10: 0 | FO10: 181 | FP10: 180 | FQ10: 1 | FR10: 0 | FS10: 0 | FT10: 0 | FU10: 17 | FV10: 17 | FW10: 0 | FX10: 149 | FY10: 148 | FZ10: 1 | GA10: 38 | GB10: 0 | GC10: 18 | GD10: 0 | GE10: 86 | GF10: 1 | GG10: 6 | GH10: 0 | GI10: 0 | GJ10: 0 | GK10: 4 | GL10: 4 | GM10: 0 | GN10: 0 | GO10: 0 | GP10: 1 | GQ10: 0 | GR10: 0 | GS10: 0 | GT10: 3 | GU10: 0 | GV10: 0 | GW10: 0 | GX10: 11 | GY10: 11 | GZ10: 0 | HA10: 9 | HB10: 0 | HC10: 0 | HD10: 0 | HE10: 0 | HF10: 0 | HG10: 0 | HH10: 0 | HI10: 0 | HJ10: 0 | HK10: 0 | HL10: 0 | HM10: 2 | HN10: 0
A11: 臺北市 | B11: Taipei City | C11: 493 | D11: 493 | E11: 0 | F11: 116 | G11: 0 | H11: 8 | I11: 0 | J11: 106 | K11: 0 | L11: 185 | M11: 0 | N11: 1 | O11: 0 | P11: 0 | Q11: 0 | R11: 1 | S11: 0 | T11: 14 | U11: 0 | V11: 59 | W11: 0 | X11: 3 | Y11: 0 | Z11: 332 | AA11: 332 | AB11: 0 | AC11: 7 | AD11: 0 | AE11: 75 | AF11: 0 | AG11: 185 | AH11: 0 | AI11: 50 | AJ11: 0 | AK11: 15 | AL11: 0 | AM11: 332 | AN11: 332 | AO11: 0 | AP11: 26 | AQ11: 0 | AR11: 24 | AS11: 0 | AT11: 29 | AU11: 0 | AV11: 32 | AW11: 0 | AX11: 47 | AY11: 0 | AZ11: 57 | BA11: 0 | BB11: 70 | BC11: 0 | BD11: 47 | BE11: 0 | BF11: 31 | BG11: 31 | BH11: 0 | BI11: 0 | BJ11: 0 | BK11: 0 | BL11: 0 | BM11: 0 | BN11: 0 | BO11: 28 | BP11: 0 | BQ11: 3 | BR11: 0 | BS11: 17 | BT11: 17 | BU11: 0 | BV11: 2 | BW11: 0 | BX11: 1 | BY11: 0 | BZ11: 14 | CA11: 0 | CB11: 130 | CC11: 130 | CD11: 0 | CE11: 0 | CF11: 0 | CG11: 0 | CH11: 101 | CI11: 101 | CJ11: 0 | CK11: 27 | CL11: 0 | CM11: 3 | CN11: 0 | CO11: 19 | CP11: 0 | CQ11: 4 | CR11: 0 | CS11: 0 | CT11: 0 | CU11: 1 | CV11: 0 | CW11: 2 | CX11: 0 | CY11: 1 | CZ11: 0 | DA11: 1 | DB11: 0 | DC11: 60 | DD11: 60 | DE11: 0 | DF11: 0 | DG11: 0 | DH11: 0 | DI11: 60 | DJ11: 60 | DK11: 0 | DL11: 87 | DM11: 87 | DN11: 0 | DO11: 0 | DP11: 0 | DQ11: 0 | DR11: 87 | DS11: 87 | DT11: 0 | DU11: 0 | DV11: 0 | DW11: 0 | DX11: 0 | DY11: 0 | DZ11: 0 | EA11: 87 | EB11: 87 | EC11: 0 | ED11: 49 | EE11: 49 | EF11: 0 | EG11: 26 | EH11: 26 | EI11: 0 | EJ11: 23 | EK11: 23 | EL11: 0 | EM11: 73 | EN11: 73 | EO11: 0 | EP11: 40 | EQ11: 40 | ER11: 0 | ES11: 33 | ET11: 33 | EU11: 0 | EV11: 73 | EW11: 73 | EX11: 0 | EY11: 1 | EZ11: 0 | FA11: 33 | FB11: 0 | FC11: 9 | FD11: 0 | FE11: 1 | FF11: 0 | FG11: 29 | FH11: 0 | FI11: 5 | FJ11: 0 | FK11: 1 | FL11: 0 | FM11: 23 | FN11: 0 | FO11: 62 | FP11: 59 | FQ11: 3 | FR11: 0 | FS11: 0 | FT11: 0 | FU11: 10 | FV11: 10 | FW11: 0 | FX11: 48 | FY11: 45 | FZ11: 3 | GA11: 2 | GB11: 0 | GC11: 6 | GD11: 0 | GE11: 24 | GF11: 0 | GG11: 9 | GH11: 3 | GI11: 4 | GJ11: 0 | GK11: 2 | GL11: 2 | GM11: 0 | GN11: 0 | GO11: 0 | GP11: 0 | GQ11: 0 | GR11: 0 | GS11: 0 | GT11: 2 | GU11: 0 | GV11: 0 | GW11: 0 | GX11: 2 | GY11: 2 | GZ11: 0 | HA11: 1 | HB11: 0 | HC11: 0 | HD11: 0 | HE11: 0 | HF11: 0 | HG11: 1 | HH11: 0 | HI11: 0 | HJ11: 0 | HK11: 0 | HL11: 0 | HM11: 0 | HN11: 0
A12: 桃園市 | B12: Taoyuan City | C12: 955 | D12: 952 | E12: 3 | F12: 336 | G12: 0 | H12: 12 | I12: 0 | J12: 224 | K12: 2 | L12: 277 | M12: 1 | N12: 0 | O12: 0 | P12: 0 | Q12: 0 | R12: 4 | S12: 0 | T12: 39 | U12: 0 | V12: 58 | W12: 0 | X12: 2 | Y12: 0 | Z12: 597 | AA12: 596 | AB12: 1 | AC12: 33 | AD12: 0 | AE12: 179 | AF12: 0 | AG12: 330 | AH12: 1 | AI12: 49 | AJ12: 0 | AK12: 5 | AL12: 0 | AM12: 597 | AN12: 596 | AO12: 1 | AP12: 30 | AQ12: 0 | AR12: 44 | AS12: 0 | AT12: 39 | AU12: 0 | AV12: 37 | AW12: 0 | AX12: 67 | AY12: 1 | AZ12: 120 | BA12: 0 | BB12: 149 | BC12: 0 | BD12: 110 | BE12: 0 | BF12: 110 | BG12: 110 | BH12: 0 | BI12: 14 | BJ12: 0 | BK12: 8 | BL12: 0 | BM12: 0 | BN12: 0 | BO12: 54 | BP12: 0 | BQ12: 34 | BR12: 0 | BS12: 56 | BT12: 56 | BU12: 0 | BV12: 1 | BW12: 0 | BX12: 0 | BY12: 0 | BZ12: 55 | CA12: 0 | CB12: 248 | CC12: 246 | CD12: 2 | CE12: 0 | CF12: 0 | CG12: 0 | CH12: 158 | CI12: 156 | CJ12: 2 | CK12: 90 | CL12: 0 | CM12: 1 | CN12: 0 | CO12: 10 | CP12: 0 | CQ12: 9 | CR12: 0 | CS12: 0 | CT12: 0 | CU12: 70 | CV12: 0 | CW12: 0 | CX12: 0 | CY12: 0 | CZ12: 0 | DA12: 0 | DB12: 0 | DC12: 571 | DD12: 571 | DE12: 0 | DF12: 266 | DG12: 266 | DH12: 0 | DI12: 305 | DJ12: 305 | DK12: 0 | DL12: 1221 | DM12: 1221 | DN12: 0 | DO12: 391 | DP12: 391 | DQ12: 0 | DR12: 830 | DS12: 830 | DT12: 0 | DU12: 1112 | DV12: 1112 | DW12: 0 | DX12: 65 | DY12: 65 | DZ12: 0 | EA12: 44 | EB12: 44 | EC12: 0 | ED12: 37 | EE12: 37 | EF12: 0 | EG12: 4 | EH12: 4 | EI12: 0 | EJ12: 33 | EK12: 33 | EL12: 0 | EM12: 37 | EN12: 37 | EO12: 0 | EP12: 4 | EQ12: 4 | ER12: 0 | ES12: 33 | ET12: 33 | EU12: 0 | EV12: 37 | EW12: 37 | EX12: 0 | EY12: 5 | EZ12: 0 | FA12: 25 | FB12: 0 | FC12: 3 | FD12: 0 | FE12: 0 | FF12: 0 | FG12: 4 | FH12: 0 | FI12: 1 | FJ12: 0 | FK12: 1 | FL12: 0 | FM12: 2 | FN12: 0 | FO12: 104 | FP12: 104 | FQ12: 0 | FR12: 0 | FS12: 0 | FT12: 0 | FU12: 14 | FV12: 14 | FW12: 0 | FX12: 55 | FY12: 55 | FZ12: 0 | GA12: 9 | GB12: 0 | GC12: 9 | GD12: 0 | GE12: 33 | GF12: 0 | GG12: 4 | GH12: 0 | GI12: 0 | GJ12: 0 | GK12: 11 | GL12: 11 | GM12: 0 | GN12: 0 | GO12: 0 | GP12: 1 | GQ12: 0 | GR12: 0 | GS12: 0 | GT12: 10 | GU12: 0 | GV12: 0 | GW12: 0 | GX12: 24 | GY12: 24 | GZ12: 0 | HA12: 19 | HB12: 0 | HC12: 0 | HD12: 0 | HE12: 1 | HF12: 0 | HG12: 3 | HH12: 0 | HI12: 0 | HJ12: 0 | HK12: 0 | HL12: 0 | HM12: 1 | HN12: 0
A13: 臺中市 | B13: Taichung City | C13: 844 | D13: 842 | E13: 2 | F13: 203 | G13: 0 | H13: 24 | I13: 0 | J13: 220 | K13: 0 | L13: 250 | M13: 1 | N13: 0 | O13: 0 | P13: 0 | Q13: 0 | R13: 13 | S13: 0 | T13: 71 | U13: 0 | V13: 61 | W13: 1 | X13: 0 | Y13: 0 | Z13: 531 | AA13: 530 | AB13: 1 | AC13: 64 | AD13: 1 | AE13: 45 | AF13: 0 | AG13: 350 | AH13: 0 | AI13: 67 | AJ13: 0 | AK13: 4 | AL13: 0 | AM13: 531 | AN13: 530 | AO13: 1 | AP13: 97 | AQ13: 1 | AR13: 46 | AS13: 0 | AT13: 51 | AU13: 0 | AV13: 49 | AW13: 0 | AX13: 98 | AY13: 0 | AZ13: 110 | BA13: 0 | BB13: 58 | BC13: 0 | BD13: 21 | BE13: 0 | BF13: 68 | BG13: 68 | BH13: 0 | BI13: 5 | BJ13: 0 | BK13: 3 | BL13: 0 | BM13: 4 | BN13: 0 | BO13: 44 | BP13: 0 | BQ13: 12 | BR13: 0 | BS13: 17 | BT13: 17 | BU13: 0 | BV13: 8 | BW13: 0 | BX13: 0 | BY13: 0 | BZ13: 9 | CA13: 0 | CB13: 245 | CC13: 244 | CD13: 1 | CE13: 9 | CF13: 9 | CG13: 0 | CH13: 193 | CI13: 192 | CJ13: 1 | CK13: 41 | CL13: 0 | CM13: 8 | CN13: 0 | CO13: 15 | CP13: 0 | CQ13: 4 | CR13: 0 | CS13: 0 | CT13: 0 | CU13: 14 | CV13: 0 | CW13: 2 | CX13: 0 | CY13: 1 | CZ13: 0 | DA13: 1 | DB13: 0 | DC13: 81 | DD13: 81 | DE13: 0 | DF13: 0 | DG13: 0 | DH13: 0 | DI13: 81 | DJ13: 81 | DK13: 0 | DL13: 81 | DM13: 81 | DN13: 0 | DO13: 0 | DP13: 0 | DQ13: 0 | DR13: 81 | DS13: 81 | DT13: 0 | DU13: 0 | DV13: 0 | DW13: 0 | DX13: 4 | DY13: 4 | DZ13: 0 | EA13: 77 | EB13: 77 | EC13: 0 | ED13: 57 | EE13: 57 | EF13: 0 | EG13: 17 | EH13: 17 | EI13: 0 | EJ13: 40 | EK13: 40 | EL13: 0 | EM13: 57 | EN13: 57 | EO13: 0 | EP13: 17 | EQ13: 17 | ER13: 0 | ES13: 40 | ET13: 40 | EU13: 0 | EV13: 57 | EW13: 57 | EX13: 0 | EY13: 8 | EZ13: 0 | FA13: 35 | FB13: 0 | FC13: 5 | FD13: 0 | FE13: 0 | FF13: 0 | FG13: 9 | FH13: 0 | FI13: 1 | FJ13: 0 | FK13: 0 | FL13: 0 | FM13: 8 | FN13: 0 | FO13: 78 | FP13: 78 | FQ13: 0 | FR13: 6 | FS13: 6 | FT13: 0 | FU13: 24 | FV13: 24 | FW13: 0 | FX13: 33 | FY13: 33 | FZ13: 0 | GA13: 5 | GB13: 0 | GC13: 4 | GD13: 0 | GE13: 15 | GF13: 0 | GG13: 9 | GH13: 0 | GI13: 0 | GJ13: 0 | GK13: 4 | GL13: 4 | GM13: 0 | GN13: 0 | GO13: 0 | GP13: 0 | GQ13: 0 | GR13: 1 | GS13: 0 | GT13: 3 | GU13: 0 | GV13: 0 | GW13: 0 | GX13: 11 | GY13: 11 | GZ13: 0 | HA13: 1 | HB13: 0 | HC13: 7 | HD13: 0 | HE13: 1 | HF13: 0 | HG13: 2 | HH13: 0 | HI13: 0 | HJ13: 0 | HK13: 0 | HL13: 0 | HM13: 0 | HN13: 0
A14: 臺南市 | B14: Tainan City | C14: 336 | D14: 334 | E14: 2 | F14: 104 | G14: 0 | H14: 3 | I14: 0 | J14: 90 | K14: 0 | L14: 107 | M14: 2 | N14: 0 | O14: 0 | P14: 0 | Q14: 0 | R14: 2 | S14: 0 | T14: 18 | U14: 0 | V14: 10 | W14: 0 | X14: 0 | Y14: 0 | Z14: 183 | AA14: 183 | AB14: 0 | AC14: 7 | AD14: 0 | AE14: 145 | AF14: 0 | AG14: 26 | AH14: 0 | AI14: 5 | AJ14: 0 | AK14: 0 | AL14: 0 | AM14: 183 | AN14: 183 | AO14: 0 | AP14: 30 | AQ14: 0 | AR14: 37 | AS14: 0 | AT14: 31 | AU14: 0 | AV14: 21 | AW14: 0 | AX14: 23 | AY14: 0 | AZ14: 15 | BA14: 0 | BB14: 22 | BC14: 0 | BD14: 4 | BE14: 0 | BF14: 35 | BG14: 35 | BH14: 0 | BI14: 1 | BJ14: 0 | BK14: 1 | BL14: 0 | BM14: 0 | BN14: 0 | BO14: 31 | BP14: 0 | BQ14: 2 | BR14: 0 | BS14: 21 | BT14: 21 | BU14: 0 | BV14: 2 | BW14: 0 | BX14: 0 | BY14: 0 | BZ14: 19 | CA14: 0 | CB14: 118 | CC14: 116 | CD14: 2 | CE14: 0 | CF14: 0 | CG14: 0 | CH14: 111 | CI14: 109 | CJ14: 2 | CK14: 4 | CL14: 0 | CM14: 0 | CN14: 0 | CO14: 3 | CP14: 0 | CQ14: 1 | CR14: 0 | CS14: 0 | CT14: 0 | CU14: 0 | CV14: 0 | CW14: 3 | CX14: 0 | CY14: 3 | CZ14: 0 | DA14: 0 | DB14: 0 | DC14: 42 | DD14: 42 | DE14: 0 | DF14: 0 | DG14: 0 | DH14: 0 | DI14: 42 | DJ14: 42 | DK14: 0 | DL14: 42 | DM14: 42 | DN14: 0 | DO14: 0 | DP14: 0 | DQ14: 0 | DR14: 42 | DS14: 42 | DT14: 0 | DU14: 0 | DV14: 0 | DW14: 0 | DX14: 0 | DY14: 0 | DZ14: 0 | EA14: 42 | EB14: 42 | EC14: 0 | ED14: 40 | EE14: 40 | EF14: 0 | EG14: 12 | EH14: 12 | EI14: 0 | EJ14: 28 | EK14: 28 | EL14: 0 | EM14: 40 | EN14: 40 | EO14: 0 | EP14: 12 | EQ14: 12 | ER14: 0 | ES14: 28 | ET14: 28 | EU14: 0 | EV14: 40 | EW14: 40 | EX14: 0 | EY14: 0 | EZ14: 0 | FA14: 22 | FB14: 0 | FC14: 4 | FD14: 0 | FE14: 1 | FF14: 0 | FG14: 13 | FH14: 0 | FI14: 7 | FJ14: 0 | FK14: 0 | FL14: 0 | FM14: 6 | FN14: 0 | FO14: 102 | FP14: 96 | FQ14: 6 | FR14: 0 | FS14: 0 | FT14: 0 | FU14: 32 | FV14: 31 | FW14: 1 | FX14: 49 | FY14: 47 | FZ14: 2 | GA14: 3 | GB14: 0 | GC14: 27 | GD14: 2 | GE14: 15 | GF14: 0 | GG14: 2 | GH14: 0 | GI14: 0 | GJ14: 0 | GK14: 2 | GL14: 2 | GM14: 0 | GN14: 0 | GO14: 0 | GP14: 0 | GQ14: 0 | GR14: 0 | GS14: 0 | GT14: 2 | GU14: 0 | GV14: 0 | GW14: 0 | GX14: 19 | GY14: 16 | GZ14: 3 | HA14: 3 | HB14: 2 | HC14: 12 | HD14: 1 | HE14: 0 | HF14: 0 | HG14: 1 | HH14: 0 | HI14: 0 | HJ14: 0 | HK14: 0 | HL14: 0 | HM14: 0 | HN14: 0
A15: 高雄市 | B15: Kaohsiung City | C15: 405 | D15: 400 | E15: 5 | F15: 147 | G15: 1 | H15: 7 | I15: 0 | J15: 92 | K15: 0 | L15: 103 | M15: 0 | N15: 0 | O15: 3 | P15: 0 | Q15: 0 | R15: 1 | S15: 0 | T15: 37 | U15: 0 | V15: 9 | W15: 1 | X15: 4 | Y15: 0 | Z15: 216 | AA15: 215 | AB15: 1 | AC15: 10 | AD15: 0 | AE15: 34 | AF15: 1 | AG15: 141 | AH15: 0 | AI15: 21 | AJ15: 0 | AK15: 9 | AL15: 0 | AM15: 216 | AN15: 215 | AO15: 1 | AP15: 16 | AQ15: 0 | AR15: 32 | AS15: 0 | AT15: 111 | AU15: 0 | AV15: 14 | AW15: 0 | AX15: 25 | AY15: 1 | AZ15: 11 | BA15: 0 | BB15: 3 | BC15: 0 | BD15: 3 | BE15: 0 | BF15: 12 | BG15: 12 | BH15: 0 | BI15: 0 | BJ15: 0 | BK15: 0 | BL15: 0 | BM15: 0 | BN15: 0 | BO15: 10 | BP15: 0 | BQ15: 2 | BR15: 0 | BS15: 23 | BT15: 23 | BU15: 0 | BV15: 3 | BW15: 0 | BX15: 2 | BY15: 0 | BZ15: 18 | CA15: 0 | CB15: 177 | CC15: 173 | CD15: 4 | CE15: 2 | CF15: 2 | CG15: 0 | CH15: 132 | CI15: 128 | CJ15: 4 | CK15: 42 | CL15: 0 | CM15: 1 | CN15: 0 | CO15: 13 | CP15: 0 | CQ15: 4 | CR15: 0 | CS15: 0 | CT15: 0 | CU15: 24 | CV15: 0 | CW15: 1 | CX15: 0 | CY15: 1 | CZ15: 0 | DA15: 0 | DB15: 0 | DC15: 102 | DD15: 101 | DE15: 1 | DF15: 0 | DG15: 0 | DH15: 0 | DI15: 102 | DJ15: 101 | DK15: 1 | DL15: 102 | DM15: 101 | DN15: 1 | DO15: 0 | DP15: 0 | DQ15: 0 | DR15: 102 | DS15: 101 | DT15: 1 | DU15: 2 | DV15: 2 | DW15: 0 | DX15: 13 | DY15: 13 | DZ15: 0 | EA15: 87 | EB15: 86 | EC15: 1 | ED15: 87 | EE15: 87 | EF15: 0 | EG15: 37 | EH15: 37 | EI15: 0 | EJ15: 50 | EK15: 50 | EL15: 0 | EM15: 87 | EN15: 87 | EO15: 0 | EP15: 37 | EQ15: 37 | ER15: 0 | ES15: 50 | ET15: 50 | EU15: 0 | EV15: 87 | EW15: 87 | EX15: 0 | EY15: 0 | EZ15: 0 | FA15: 29 | FB15: 0 | FC15: 19 | FD15: 0 | FE15: 4 | FF15: 0 | FG15: 35 | FH15: 0 | FI15: 16 | FJ15: 0 | FK15: 1 | FL15: 0 | FM15: 18 | FN15: 0 | FO15: 106 | FP15: 96 | FQ15: 10 | FR15: 1 | FS15: 1 | FT15: 0 | FU15: 31 | FV15: 27 | FW15: 4 | FX15: 64 | FY15: 59 | FZ15: 5 | GA15: 2 | GB15: 0 | GC15: 36 | GD15: 4 | GE15: 20 | GF15: 1 | GG15: 1 | GH15: 0 | GI15: 0 | GJ15: 0 | GK15: 3 | GL15: 3 | GM15: 0 | GN15: 0 | GO15: 0 | GP15: 0 | GQ15: 0 | GR15: 0 | GS15: 0 | GT15: 3 | GU15: 0 | GV15: 0 | GW15: 0 | GX15: 7 | GY15: 6 | GZ15: 1 | HA15: 5 | HB15: 1 | HC15: 0 | HD15: 0 | HE15: 0 | HF15: 0 | HG15: 1 | HH15: 0 | HI15: 0 | HJ15: 0 | HK15: 0 | HL15: 0 | HM15: 0 | HN15: 0
A16: 宜蘭縣 | B16: Yilan County | C16: 135 | D16: 133 | E16: 2 | F16: 54 | G16: 1 | H16: 1 | I16: 0 | J16: 27 | K16: 0 | L16: 34 | M16: 0 | N16: 0 | O16: 0 | P16: 0 | Q16: 0 | R16: 2 | S16: 0 | T16: 9 | U16: 0 | V16: 6 | W16: 1 | X16: 0 | Y16: 0 | Z16: 85 | AA16: 84 | AB16: 1 | AC16: 8 | AD16: 1 | AE16: 20 | AF16: 0 | AG16: 45 | AH16: 0 | AI16: 10 | AJ16: 0 | AK16: 1 | AL16: 0 | AM16: 85 | AN16: 84 | AO16: 1 | AP16: 9 | AQ16: 1 | AR16: 2 | AS16: 0 | AT16: 6 | AU16: 0 | AV16: 6 | AW16: 0 | AX16: 33 | AY16: 0 | AZ16: 16 | BA16: 0 | BB16: 9 | BC16: 0 | BD16: 3 | BE16: 0 | BF16: 8 | BG16: 8 | BH16: 0 | BI16: 0 | BJ16: 0 | BK16: 1 | BL16: 0 | BM16: 0 | BN16: 0 | BO16: 6 | BP16: 0 | BQ16: 1 | BR16: 0 | BS16: 1 | BT16: 1 | BU16: 0 | BV16: 0 | BW16: 0 | BX16: 0 | BY16: 0 | BZ16: 1 | CA16: 0 | CB16: 42 | CC16: 41 | CD16: 1 | CE16: 0 | CF16: 0 | CG16: 0 | CH16: 33 | CI16: 32 | CJ16: 1 | CK16: 8 | CL16: 0 | CM16: 0 | CN16: 0 | CO16: 5 | CP16: 0 | CQ16: 1 | CR16: 0 | CS16: 1 | CT16: 0 | CU16: 1 | CV16: 0 | CW16: 1 | CX16: 0 | CY16: 1 | CZ16: 0 | DA16: 0 | DB16: 0 | DC16: 4 | DD16: 4 | DE16: 0 | DF16: 0 | DG16: 0 | DH16: 0 | DI16: 4 | DJ16: 4 | DK16: 0 | DL16: 4 | DM16: 4 | DN16: 0 | DO16: 0 | DP16: 0 | DQ16: 0 | DR16: 4 | DS16: 4 | DT16: 0 | DU16: 0 | DV16: 0 | DW16: 0 | DX16: 0 | DY16: 0 | DZ16: 0 | EA16: 4 | EB16: 4 | EC16: 0 | ED16: 3 | EE16: 3 | EF16: 0 | EG16: 0 | EH16: 0 | EI16: 0 | EJ16: 3 | EK16: 3 | EL16: 0 | EM16: 0 | EN16: 0 | EO16: 0 | EP16: 0 | EQ16: 0 | ER16: 0 | ES16: 0 | ET16: 0 | EU16: 0 | EV16: 0 | EW16: 0 | EX16: 0 | EY16: 0 | EZ16: 0 | FA16: 0 | FB16: 0 | FC16: 0 | FD16: 0 | FE16: 0 | FF16: 0 | FG16: 0 | FH16: 0 | FI16: 0 | FJ16: 0 | FK16: 0 | FL16: 0 | FM16: 0 | FN16: 0 | FO16: 45 | FP16: 41 | FQ16: 4 | FR16: 1 | FS16: 1 | FT16: 0 | FU16: 19 | FV16: 16 | FW16: 3 | FX16: 19 | FY16: 18 | FZ16: 1 | GA16: 3 | GB16: 0 | GC16: 0 | GD16: 0 | GE16: 7 | GF16: 1 | GG16: 7 | GH16: 0 | GI16: 1 | GJ16: 0 | GK16: 2 | GL16: 2 | GM16: 0 | GN16: 0 | GO16: 0 | GP16: 0 | GQ16: 0 | GR16: 0 | GS16: 0 | GT16: 2 | GU16: 0 | GV16: 0 | GW16: 0 | GX16: 4 | GY16: 4 | GZ16: 0 | HA16: 2 | HB16: 0 | HC16: 1 | HD16: 0 | HE16: 1 | HF16: 0 | HG16: 0 | HH16: 0 | HI16: 0 | HJ16: 0 | HK16: 0 | HL16: 0 | HM16: 0 | HN16: 0
A17: 新竹縣 | B17: Hsinchu County | C17: 212 | D17: 212 | E17: 0 | F17: 84 | G17: 0 | H17: 3 | I17: 0 | J17: 51 | K17: 0 | L17: 55 | M17: 0 | N17: 0 | O17: 0 | P17: 0 | Q17: 0 | R17: 0 | S17: 0 | T17: 17 | U17: 0 | V17: 2 | W17: 0 | X17: 0 | Y17: 0 | Z17: 132 | AA17: 132 | AB17: 0 | AC17: 5 | AD17: 0 | AE17: 60 | AF17: 0 | AG17: 45 | AH17: 0 | AI17: 18 | AJ17: 0 | AK17: 4 | AL17: 0 | AM17: 132 | AN17: 132 | AO17: 0 | AP17: 41 | AQ17: 0 | AR17: 27 | AS17: 0 | AT17: 18 | AU17: 0 | AV17: 10 | AW17: 0 | AX17: 16 | AY17: 0 | AZ17: 6 | BA17: 0 | BB17: 12 | BC17: 0 | BD17: 2 | BE17: 0 | BF17: 9 | BG17: 9 | BH17: 0 | BI17: 0 | BJ17: 0 | BK17: 1 | BL17: 0 | BM17: 0 | BN17: 0 | BO17: 8 | BP17: 0 | BQ17: 0 | BR17: 0 | BS17: 9 | BT17: 9 | BU17: 0 | BV17: 2 | BW17: 0 | BX17: 0 | BY17: 0 | BZ17: 7 | CA17: 0 | CB17: 71 | CC17: 71 | CD17: 0 | CE17: 1 | CF17: 1 | CG17: 0 | CH17: 61 | CI17: 61 | CJ17: 0 | CK17: 7 | CL17: 0 | CM17: 2 | CN17: 0 | CO17: 1 | CP17: 0 | CQ17: 1 | CR17: 0 | CS17: 1 | CT17: 0 | CU17: 2 | CV17: 0 | CW17: 2 | CX17: 0 | CY17: 0 | CZ17: 0 | DA17: 2 | DB17: 0 | DC17: 27 | DD17: 27 | DE17: 0 | DF17: 2 | DG17: 2 | DH17: 0 | DI17: 25 | DJ17: 25 | DK17: 0 | DL17: 33 | DM17: 33 | DN17: 0 | DO17: 2 | DP17: 2 | DQ17: 0 | DR17: 31 | DS17: 31 | DT17: 0 | DU17: 3 | DV17: 3 | DW17: 0 | DX17: 3 | DY17: 3 | DZ17: 0 | EA17: 27 | EB17: 27 | EC17: 0 | ED17: 31 | EE17: 31 | EF17: 0 | EG17: 10 | EH17: 10 | EI17: 0 | EJ17: 21 | EK17: 21 | EL17: 0 | EM17: 54 | EN17: 54 | EO17: 0 | EP17: 33 | EQ17: 33 | ER17: 0 | ES17: 21 | ET17: 21 | EU17: 0 | EV17: 54 | EW17: 54 | EX17: 0 | EY17: 20 | EZ17: 0 | FA17: 20 | FB17: 0 | FC17: 6 | FD17: 0 | FE17: 3 | FF17: 0 | FG17: 5 | FH17: 0 | FI17: 3 | FJ17: 0 | FK17: 0 | FL17: 0 | FM17: 2 | FN17: 0 | FO17: 37 | FP17: 36 | FQ17: 1 | FR17: 0 | FS17: 0 | FT17: 0 | FU17: 12 | FV17: 12 | FW17: 0 | FX17: 13 | FY17: 12 | FZ17: 1 | GA17: 0 | GB17: 1 | GC17: 3 | GD17: 0 | GE17: 5 | GF17: 0 | GG17: 2 | GH17: 0 | GI17: 2 | GJ17: 0 | GK17: 1 | GL17: 1 | GM17: 0 | GN17: 0 | GO17: 0 | GP17: 0 | GQ17: 0 | GR17: 0 | GS17: 0 | GT17: 1 | GU17: 0 | GV17: 0 | GW17: 0 | GX17: 11 | GY17: 11 | GZ17: 0 | HA17: 7 | HB17: 0 | HC17: 2 | HD17: 0 | HE17: 1 | HF17: 0 | HG17: 0 | HH17: 0 | HI17: 1 | HJ17: 0 | HK17: 0 | HL17: 0 | HM17: 0 | HN17: 0
A18: 苗栗縣 | B18: Miaoli County | C18: 232 | D18: 230 | E18: 2 | F18: 77 | G18: 0 | H18: 12 | I18: 0 | J18: 60 | K18: 0 | L18: 58 | M18: 0 | N18: 0 | O18: 0 | P18: 0 | Q18: 0 | R18: 0 | S18: 0 | T18: 14 | U18: 2 | V18: 7 | W18: 0 | X18: 2 | Y18: 0 | Z18: 142 | AA18: 142 | AB18: 0 | AC18: 6 | AD18: 0 | AE18: 33 | AF18: 0 | AG18: 81 | AH18: 0 | AI18: 18 | AJ18: 0 | AK18: 4 | AL18: 0 | AM18: 142 | AN18: 142 | AO18: 0 | AP18: 25 | AQ18: 0 | AR18: 19 | AS18: 0 | AT18: 17 | AU18: 0 | AV18: 21 | AW18: 0 | AX18: 34 | AY18: 0 | AZ18: 14 | BA18: 0 | BB18: 9 | BC18: 0 | BD18: 3 | BE18: 0 | BF18: 29 | BG18: 29 | BH18: 0 | BI18: 0 | BJ18: 0 | BK18: 0 | BL18: 0 | BM18: 0 | BN18: 0 | BO18: 27 | BP18: 0 | BQ18: 2 | BR18: 0 | BS18: 29 | BT18: 29 | BU18: 0 | BV18: 2 | BW18: 0 | BX18: 0 | BY18: 0 | BZ18: 27 | CA18: 0 | CB18: 61 | CC18: 59 | CD18: 2 | CE18: 2 | CF18: 2 | CG18: 0 | CH18: 49 | CI18: 48 | CJ18: 1 | CK18: 9 | CL18: 1 | CM18: 2 | CN18: 0 | CO18: 3 | CP18: 1 | CQ18: 1 | CR18: 0 | CS18: 1 | CT18: 0 | CU18: 2 | CV18: 0 | CW18: 0 | CX18: 0 | CY18: 0 | CZ18: 0 | DA18: 0 | DB18: 0 | DC18: 28 | DD18: 28 | DE18: 0 | DF18: 3 | DG18: 3 | DH18: 0 | DI18: 25 | DJ18: 25 | DK18: 0 | DL18: 33 | DM18: 33 | DN18: 0 | DO18: 3 | DP18: 3 | DQ18: 0 | DR18: 30 | DS18: 30 | DT18: 0 | DU18: 18 | DV18: 18 | DW18: 0 | DX18: 4 | DY18: 4 | DZ18: 0 | EA18: 11 | EB18: 11 | EC18: 0 | ED18: 24 | EE18: 24 | EF18: 0 | EG18: 9 | EH18: 9 | EI18: 0 | EJ18: 15 | EK18: 15 | EL18: 0 | EM18: 24 | EN18: 24 | EO18: 0 | EP18: 9 | EQ18: 9 | ER18: 0 | ES18: 15 | ET18: 15 | EU18: 0 | EV18: 24 | EW18: 24 | EX18: 0 | EY18: 3 | EZ18: 0 | FA18: 5 | FB18: 0 | FC18: 6 | FD18: 0 | FE18: 0 | FF18: 0 | FG18: 10 | FH18: 0 | FI18: 7 | FJ18: 0 | FK18: 0 | FL18: 0 | FM18: 3 | FN18: 0 | FO18: 44 | FP18: 44 | FQ18: 0 | FR18: 0 | FS18: 0 | FT18: 0 | FU18: 1 | FV18: 1 | FW18: 0 | FX18: 32 | FY18: 32 | FZ18: 0 | GA18: 0 | GB18: 0 | GC18: 21 | GD18: 0 | GE18: 6 | GF18: 0 | GG18: 4 | GH18: 0 | GI18: 1 | GJ18: 0 | GK18: 5 | GL18: 5 | GM18: 0 | GN18: 0 | GO18: 0 | GP18: 0 | GQ18: 0 | GR18: 0 | GS18: 0 | GT18: 5 | GU18: 0 | GV18: 0 | GW18: 0 | GX18: 6 | GY18: 6 | GZ18: 0 | HA18: 0 | HB18: 0 | HC18: 0 | HD18: 0 | HE18: 0 | HF18: 0 | HG18: 1 | HH18: 0 | HI18: 0 | HJ18: 0 | HK18: 0 | HL18: 0 | HM18: 5 | HN18: 0
A19: 彰化縣 | B19: Changhua County | C19: 325 | D19: 321 | E19: 4 | F19: 59 | G19: 0 | H19: 5 | I19: 0 | J19: 87 | K19: 2 | L19: 105 | M19: 1 | N19: 0 | O19: 0 | P19: 0 | Q19: 0 | R19: 2 | S19: 0 | T19: 37 | U19: 1 | V19: 24 | W19: 0 | X19: 2 | Y19: 0 | Z19: 174 | AA19: 174 | AB19: 0 | AC19: 9 | AD19: 0 | AE19: 29 | AF19: 0 | AG19: 122 | AH19: 0 | AI19: 14 | AJ19: 0 | AK19: 0 | AL19: 0 | AM19: 174 | AN19: 174 | AO19: 0 | AP19: 19 | AQ19: 0 | AR19: 9 | AS19: 0 | AT19: 39 | AU19: 0 | AV19: 29 | AW19: 0 | AX19: 27 | AY19: 0 | AZ19: 28 | BA19: 0 | BB19: 17 | BC19: 0 | BD19: 6 | BE19: 0 | BF19: 26 | BG19: 26 | BH19: 0 | BI19: 1 | BJ19: 0 | BK19: 0 | BL19: 0 | BM19: 1 | BN19: 0 | BO19: 18 | BP19: 0 | BQ19: 6 | BR19: 0 | BS19: 37 | BT19: 37 | BU19: 0 | BV19: 7 | BW19: 0 | BX19: 0 | BY19: 0 | BZ19: 30 | CA19: 0 | CB19: 125 | CC19: 121 | CD19: 4 | CE19: 0 | CF19: 0 | CG19: 0 | CH19: 123 | CI19: 119 | CJ19: 4 | CK19: 2 | CL19: 0 | CM19: 0 | CN19: 0 | CO19: 2 | CP19: 0 | CQ19: 0 | CR19: 0 | CS19: 0 | CT19: 0 | CU19: 0 | CV19: 0 | CW19: 0 | CX19: 0 | CY19: 0 | CZ19: 0 | DA19: 0 | DB19: 0 | DC19: 38 | DD19: 38 | DE19: 0 | DF19: 19 | DG19: 19 | DH19: 0 | DI19: 19 | DJ19: 19 | DK19: 0 | DL19: 50 | DM19: 50 | DN19: 0 | DO19: 30 | DP19: 30 | DQ19: 0 | DR19: 20 | DS19: 20 | DT19: 0 | DU19: 30 | DV19: 30 | DW19: 0 | DX19: 0 | DY19: 0 | DZ19: 0 | EA19: 20 | EB19: 20 | EC19: 0 | ED19: 42 | EE19: 42 | EF19: 0 | EG19: 13 | EH19: 13 | EI19: 0 | EJ19: 29 | EK19: 29 | EL19: 0 | EM19: 42 | EN19: 42 | EO19: 0 | EP19: 21 | EQ19: 21 | ER19: 0 | ES19: 21 | ET19: 21 | EU19: 0 | EV19: 42 | EW19: 42 | EX19: 0 | EY19: 21 | EZ19: 0 | FA19: 12 | FB19: 0 | FC19: 5 | FD19: 0 | FE19: 1 | FF19: 0 | FG19: 3 | FH19: 0 | FI19: 2 | FJ19: 0 | FK19: 0 | FL19: 0 | FM19: 1 | FN19: 0 | FO19: 47 | FP19: 46 | FQ19: 1 | FR19: 0 | FS19: 0 | FT19: 0 | FU19: 12 | FV19: 12 | FW19: 0 | FX19: 27 | FY19: 26 | FZ19: 1 | GA19: 8 | GB19: 0 | GC19: 8 | GD19: 0 | GE19: 7 | GF19: 1 | GG19: 3 | GH19: 0 | GI19: 0 | GJ19: 0 | GK19: 5 | GL19: 5 | GM19: 0 | GN19: 0 | GO19: 0 | GP19: 0 | GQ19: 0 | GR19: 1 | GS19: 0 | GT19: 4 | GU19: 0 | GV19: 0 | GW19: 0 | GX19: 3 | GY19: 3 | GZ19: 0 | HA19: 0 | HB19: 0 | HC19: 3 | HD19: 0 | HE19: 0 | HF19: 0 | HG19: 0 | HH19: 0 | HI19: 0 | HJ19: 0 | HK19: 0 | HL19: 0 | HM19: 0 | HN19: 0
A20: 南投縣 | B20: Nantou County | C20: 194 | D20: 194 | E20: 0 | F20: 79 | G20: 0 | H20: 6 | I20: 0 | J20: 32 | K20: 0 | L20: 60 | M20: 0 | N20: 0 | O20: 0 | P20: 0 | Q20: 0 | R20: 0 | S20: 0 | T20: 6 | U20: 0 | V20: 11 | W20: 0 | X20: 0 | Y20: 0 | Z20: 84 | AA20: 84 | AB20: 0 | AC20: 7 | AD20: 0 | AE20: 21 | AF20: 0 | AG20: 47 | AH20: 0 | AI20: 9 | AJ20: 0 | AK20: 0 | AL20: 0 | AM20: 84 | AN20: 84 | AO20: 0 | AP20: 14 | AQ20: 0 | AR20: 15 | AS20: 0 | AT20: 9 | AU20: 0 | AV20: 7 | AW20: 0 | AX20: 11 | AY20: 0 | AZ20: 6 | BA20: 0 | BB20: 10 | BC20: 0 | BD20: 12 | BE20: 0 | BF20: 36 | BG20: 36 | BH20: 0 | BI20: 0 | BJ20: 0 | BK20: 0 | BL20: 0 | BM20: 0 | BN20: 0 | BO20: 36 | BP20: 0 | BQ20: 0 | BR20: 0 | BS20: 0 | BT20: 0 | BU20: 0 | BV20: 0 | BW20: 0 | BX20: 0 | BY20: 0 | BZ20: 0 | CA20: 0 | CB20: 74 | CC20: 74 | CD20: 0 | CE20: 0 | CF20: 0 | CG20: 0 | CH20: 64 | CI20: 64 | CJ20: 0 | CK20: 10 | CL20: 0 | CM20: 1 | CN20: 0 | CO20: 6 | CP20: 0 | CQ20: 3 | CR20: 0 | CS20: 0 | CT20: 0 | CU20: 0 | CV20: 0 | CW20: 0 | CX20: 0 | CY20: 0 | CZ20: 0 | DA20: 0 | DB20: 0 | DC20: 34 | DD20: 34 | DE20: 0 | DF20: 0 | DG20: 0 | DH20: 0 | DI20: 34 | DJ20: 34 | DK20: 0 | DL20: 34 | DM20: 34 | DN20: 0 | DO20: 0 | DP20: 0 | DQ20: 0 | DR20: 34 | DS20: 34 | DT20: 0 | DU20: 0 | DV20: 0 | DW20: 0 | DX20: 0 | DY20: 0 | DZ20: 0 | EA20: 34 | EB20: 34 | EC20: 0 | ED20: 19 | EE20: 19 | EF20: 0 | EG20: 1 | EH20: 1 | EI20: 0 | EJ20: 18 | EK20: 18 | EL20: 0 | EM20: 19 | EN20: 19 | EO20: 0 | EP20: 1 | EQ20: 1 | ER20: 0 | ES20: 18 | ET20: 18 | EU20: 0 | EV20: 19 | EW20: 19 | EX20: 0 | EY20: 0 | EZ20: 0 | FA20: 15 | FB20: 0 | FC20: 2 | FD20: 0 | FE20: 0 | FF20: 0 | FG20: 2 | FH20: 0 | FI20: 2 | FJ20: 0 | FK20: 0 | FL20: 0 | FM20: 0 | FN20: 0 | FO20: 44 | FP20: 43 | FQ20: 1 | FR20: 0 | FS20: 0 | FT20: 0 | FU20: 10 | FV20: 10 | FW20: 0 | FX20: 22 | FY20: 21 | FZ20: 1 | GA20: 2 | GB20: 0 | GC20: 15 | GD20: 1 | GE20: 4 | GF20: 0 | GG20: 0 | GH20: 0 | GI20: 0 | GJ20: 0 | GK20: 4 | GL20: 4 | GM20: 0 | GN20: 0 | GO20: 0 | GP20: 0 | GQ20: 0 | GR20: 2 | GS20: 0 | GT20: 2 | GU20: 0 | GV20: 0 | GW20: 0 | GX20: 8 | GY20: 8 | GZ20: 0 | HA20: 0 | HB20: 0 | HC20: 1 | HD20: 0 | HE20: 1 | HF20: 0 | HG20: 4 | HH20: 0 | HI20: 0 | HJ20: 0 | HK20: 0 | HL20: 0 | HM20: 2 | HN20: 0
... A31: 連江縣 | B31: Lienchiang County | C31: 5 | D31: 5 | E31: 0 | F31: 0 | G31: 0 | H31: 0 | I31: 0 | J31: 0 | K31: 0 | L31: 0 | M31: 0 | N31: 0 | O31: 0 | P31: 0 | Q31: 0 | R31: 0 | S31: 0 | T31: 3 | U31: 0 | V31: 2 | W31: 0 | X31: 0 | Y31: 0 | Z31: 2 | AA31: 2 | AB31: 0 | AC31: 0 | AD31: 0 | AE31: 0 | AF31: 0 | AG31: 0 | AH31: 0 | AI31: 2 | AJ31: 0 | AK31: 0 | AL31: 0 | AM31: 2 | AN31: 2 | AO31: 0 | AP31: 0 | AQ31: 0 | AR31: 0 | AS31: 0 | AT31: 0 | AU31: 0 | AV31: 2 | AW31: 0 | AX31: 0 | AY31: 0 | AZ31: 0 | BA31: 0 | BB31: 0 | BC31: 0 | BD31: 0 | BE31: 0 | BF31: 0 | BG31: 0 | BH31: 0 | BI31: 0 | BJ31: 0 | BK31: 0 | BL31: 0 | BM31: 0 | BN31: 0 | BO31: 0 | BP31: 0 | BQ31: 0 | BR31: 0 | BS31: 0 | BT31: 0 | BU31: 0 | BV31: 0 | BW31: 0 | BX31: 0 | BY31: 0 | BZ31: 0 | CA31: 0 | CB31: 3 | CC31: 3 | CD31: 0 | CE31: 0 | CF31: 0 | CG31: 0 | CH31: 2 | CI31: 2 | CJ31: 0 | CK31: 1 | CL31: 0 | CM31: 0 | CN31: 0 | CO31: 0 | CP31: 0 | CQ31: 1 | CR31: 0 | CS31: 0 | CT31: 0 | CU31: 0 | CV31: 0 | CW31: 0 | CX31: 0 | CY31: 0 | CZ31: 0 | DA31: 0 | DB31: 0 | DC31: 0 | DD31: 0 | DE31: 0 | DF31: 0 | DG31: 0 | DH31: 0 | DI31: 0 | DJ31: 0 | DK31: 0 | DL31: 0 | DM31: 0 | DN31: 0 | DO31: 0 | DP31: 0 | DQ31: 0 | DR31: 0 | DS31: 0 | DT31: 0 | DU31: 0 | DV31: 0 | DW31: 0 | DX31: 0 | DY31: 0 | DZ31: 0 | EA31: 0 | EB31: 0 | EC31: 0 | ED31: 0 | EE31: 0 | EF31: 0 | EG31: 0 | EH31: 0 | EI31: 0 | EJ31: 0 | EK31: 0 | EL31: 0 | EM31: 0 | EN31: 0 | EO31: 0 | EP31: 0 | EQ31: 0 | ER31: 0 | ES31: 0 | ET31: 0 | EU31: 0 | EV31: 0 | EW31: 0 | EX31: 0 | EY31: 0 | EZ31: 0 | FA31: 0 | FB31: 0 | FC31: 0 | FD31: 0 | FE31: 0 | FF31: 0 | FG31: 0 | FH31: 0 | FI31: 0 | FJ31: 0 | FK31: 0 | FL31: 0 | FM31: 0 | FN31: 0 | FO31: 0 | FP31: 0 | FQ31: 0 | FR31: 0 | FS31: 0 | FT31: 0 | FU31: 0 | FV31: 0 | FW31: 0 | FX31: 0 | FY31: 0 | FZ31: 0 | GA31: 0 | GB31: 0 | GC31: 0 | GD31: 0 | GE31: 0 | GF31: 0 | GG31: 0 | GH31: 0 | GI31: 0 | GJ31: 0 | GK31: 0 | GL31: 0 | GM31: 0 | GN31: 0 | GO31: 0 | GP31: 0 | GQ31: 0 | GR31: 0 | GS31: 0 | GT31: 0 | GU31: 0 | GV31: 0 | GW31: 0 | GX31: 0 | GY31: 0 | GZ31: 0 | HA31: 0 | HB31: 0 | HC31: 0 | HD31: 0 | HE31: 0 | HF31: 0 | HG31: 0 | HH31: 0 | HI31: 0 | HJ31: 0 | HK31: 0 | HL31: 0 | HM31: 0 | HN31: 0
A32: 資料來源：直轄市、縣﹝市﹞政府。
A33: Source : County and City Government.

Sheet 111
A1: 性侵害加害人處遇
A2: 中華民國111年 2022
A4: 區域別 Locality | C4: (1)本年截至本期加害人個案人數按處分類別分(人) (不含依少年事件處理法裁定保護處分確定而法院認有必要者) | Z4: (2)本期加害人個案尚接受身心治療或輔導教育者按再犯等級分(人) (不含依少年事件處理法裁定保護處分確定而法院認有必要者) | AM4: (3)本期加害人個案尚接受身心治療或輔導教育者按處遇期程分(人) (不含依少年事件處理法裁定保護處分確定而法院認有必要者) | BF4: (4)本期加害人個案暫停處遇人數按暫停原因分(人)(不含依少年事件處理法裁定保護處分確定而法院認有必要者) | BS4: (5)本年截至本期累計處遇期間再犯人數按再犯案件分(人)(不含依少年事件處理法裁定保護處分確定而法院認有必要者) | CB4: (6)本年截至本期累計加害人個案已結案人數按結案狀態分(人)(不含依少年事件處理法裁定保護處分確定而法院認有必要者) | DC4: (7)本年截至本期加害人個案行政裁罰情形(不含依少年事件處理法裁定保護處分確定而法院認有必要者) | ED4: (8)本年截至本期加害人個案移送情形(不含依少年事件處理法裁定保護處分確定而法院認有必要者) | FA4: (8)本年截至本期加害人個案移送情形(不含依少年事件處理法裁定保護處分確定而法院認有必要者) | FO4: (9)依少年事件處理法裁定保護處分確定而法院認有必要，經縣市政府評估接受身心治療或輔導教育者按處遇狀態分(人) | GK4: (9)依少年事件處理法裁定保護處分確定而法院認有必要，經縣市政府評估接受身心治療或輔導教育者按處遇狀態分(人)
C5: 合計Total | F5: 犯性侵害罪者 | V5: 犯性騷擾防治法第25條判決有罪確定者 | X5: 犯兒少性剝削防制條例第31條判決有罪確定者 | Z5: 合計Total | AC5: 評估中 | AE5: 低再犯 | AG5: 中低再犯 | AI5: 中高再犯 | AK5: 高再犯 | AM5: 合計Total | AP5: 未滿3個月 | AR5: 3個月以上 未滿6個月 | AT5: 6個月以上 未滿9個月 | AV5: 9個月以上 未滿1年 | AX5: 1年以上 未滿1年6個月 | AZ5: 1年6個月以上 未滿2年 | BB5: 2年以上 未滿3年 | BD5: 3年以上至4年 | BF5: 合計 | BI5: 傷殘住院 | BK5: 出國 | BM5: 服兵役 | BO5: 因他案 入監服刑 | BQ5: 其他 | BS5: 合計Total | BV5: 再犯性侵害案件 | BX5: 再犯其他案件 且合併性侵害 | BZ5: 再犯其他非性侵害案件 | CB5: 合計Total | CE5: 本年截至本期累計無須處遇個案 | CH5: 本年截至本期累計完成處遇人數 | CK5: 本年截至本期累計未完成處遇已結案人數按結案原因分(人) | CW5: 本年截至本期累計轉入強制治療人數(人) | DC5: 應行政裁罰個案人數(人) | DL5: 申請行政裁罰個案人次(人次) | DU5: 申請行政裁罰者按結果分(人次) | ED5: 應移送個案人數(人) | EM5: 聲請移送個案人次(人次) | EV5: 聲請移送者按階段分(人次) | FO5: 本年截至本期累計少年性侵害行為人個案人數 | FR5: 本年截至本期累計無須處遇人數 | FU5: 本年截至本期累計完成處遇人數 | FX5: 本期尚在接受處遇者按再犯等級分(人) | GK5: 本期暫停處遇人數按暫停原因分 | GX5: 本年截至本期累計未完成處遇已結案人數按結案原因分
F6: 有期徒刑或保安處分執行完畢 | H6: 有期徒刑經易服社會勞動 | J6: 假釋 | L6: 緩刑 | N6: 免刑 | P6: 赦免 | R6: 經法院、軍事法院依第22條之1第3項裁定停止強制治療 | T6: 經緩起訴處分確定者 | EV6: 合計Total (K)=L+M+N | EY6: 移送家防中心/警察局/其他機關 (L) | FA6: 移送地檢署 (M)=m1+m2+m3 | FI6: 移送法院(人次) (N)=m4=n1+n2+n3
C7: 計Total | D7: 男 Male | E7: 女Female | F7: 男 Male | G7: 女Female | H7: 男 Male | I7: 女Female | J7: 男 Male | K7: 女Female | L7: 男 Male | M7: 女Female | N7: 男 Male | O7: 女Female | P7: 男 Male | Q7: 女Female | R7: 男 Male | S7: 女Female | T7: 男 Male | U7: 女Female | V7: 男 Male | W7: 女Female | X7: 男 Male | Y7: 女Female | Z7: 計Total | AA7: 男 Male | AB7: 女Female | AC7: 男 Male | AD7: 女Female | AE7: 男 Male | AF7: 女Female | AG7: 男 Male | AH7: 女Female | AI7: 男 Male | AJ7: 女Female | AK7: 男 Male | AL7: 女Female | AM7: 計Total | AN7: 男 Male | AO7: 女Female | AP7: 男 Male | AQ7: 女Female | AR7: 男 Male | AS7: 女Female | AT7: 男 Male | AU7: 女Female | AV7: 男 Male | AW7: 女Female | AX7: 男 Male | AY7: 女Female | AZ7: 男 Male | BA7: 女Female | BB7: 男 Male | BC7: 女Female | BD7: 男 Male | BE7: 女Female | BF7: 計Total | BG7: 男 Male | BH7: 女Female | BI7: 男 Male | BJ7: 女Female | BK7: 男 Male | BL7: 女Female | BM7: 男 Male | BN7: 女Female | BO7: 男 Male | BP7: 女Female | BQ7: 男 Male | BR7: 女Female | BS7: 計Total | BT7: 男 Male | BU7: 女Female | BV7: 男 Male | BW7: 女Female | BX7: 男 Male | BY7: 女Female | BZ7: 男 Male | CA7: 女Female | CB7: 計Total | CC7: 男 Male | CD7: 女Female | CE7: 計Total | CF7: 男 Male | CG7: 女Female | CH7: 計Total | CI7: 男 Male | CJ7: 女Female | CK7: 計Total | CM7: 因再犯性侵害罪入獄 | CO7: 戶籍移轉外縣市 | CQ7: 死亡 | CS7: 長期入住機構 | CU7: 其他 | CW7: 計Total | CY7: 依性侵害犯罪防治法第22條規定 | DA7: 依性侵害犯罪防治法第22條之1規定 | DC7: 合計Total | DF7: 前年度應行政裁罰但結果未確定人數 | DI7: 本年度 應行政裁罰人數 | DL7: 合計Total | DO7: 前年度申請行政裁罰但結果未確定人次 | DR7: 本年度申請行政裁罰人次 | DU7: 調查或簽辦中 | DX7: 駁回或不罰 | EA7: 裁罰確定 | ED7: 合計Total | EG7: 前年度應移送但結果未確定人數 | EJ7: 本年度應移送人數 | EM7: 合計Total | EP7: 前年度移送但結果未確定人次 | ES7: 本年度聲請移送人次 | FA7: 偵查中 (m1) | FC7: 駁回或不起訴 (m2) | FE7: 緩起訴 (m3) | FG7: 起訴 (m4) | FI7: 審理中 (n1) | FK7: 無罪 (n2) | FM7: 有罪(拘役、有期徒刑等) (n3) | FO7: 計 Total | FP7: 男 Male | FQ7: 女Female | FR7: 計 Total | FS7: 男 Male | FT7: 女Female | FU7: 計 Total | FV7: 男 Male | FW7: 女Female | FX7: 合計Total | GA7: 評估中 | GC7: 低再犯 | GE7: 中低再犯 | GG7: 中高再犯 | GI7: 高再犯 | GK7: 合計Total | GN7: 傷殘住院 | GP7: 出國 | GR7: 服兵役 | GT7: 因他案入感化教育處所或監獄 | GV7: 其他 | GX7: 合計Total | HA7: 保護處分期滿且未依規定接受處遇，檢還少年法院(庭) | HC7: 保護處分期限未滿且未依規定接受處遇，檢還少年法院(庭) | HE7: 再犯性侵害案件入感化教育處所或監獄 | HG7: 戶籍移轉外縣市 | HI7: 死亡 | HK7: 長期入住機構 | HM7: 其他
CK8: 男 Male | CL8: 女Female | CM8: 男 Male | CN8: 女Female | CO8: 男 Male | CP8: 女Female | CQ8: 男 Male | CR8: 女Female | CS8: 男 Male | CT8: 女Female | CU8: 男 Male | CV8: 女Female | CW8: 男 Male | CX8: 女Female | CY8: 男 Male | CZ8: 女Female | DA8: 男 Male | DB8: 女Female | DC8: 計 Total | DD8: 男 Male | DE8: 女Female | DF8: 計 Total | DG8: 男 Male | DH8: 女Female | DI8: 計 Total | DJ8: 男 Male | DK8: 女Female | DL8: 計 Total | DM8: 男 Male | DN8: 女Female | DO8: 計 Total | DP8: 男 Male | DQ8: 女Female | DR8: 計 Total | DS8: 男 Male | DT8: 女Female | DU8: 計 Total | DV8: 男 Male | DW8: 女Female | DX8: 計 Total | DY8: 男 Male | DZ8: 女Female | EA8: 計 Total | EB8: 男 Male | EC8: 女Female | ED8: 計 Total | EE8: 男 Male | EF8: 女Female | EG8: 計 Total | EH8: 男 Male | EI8: 女Female | EJ8: 計 Total | EK8: 男 Male | EL8: 女Female | EM8: 計 Total | EN8: 男 Male | EO8: 女Female | EP8: 計 Total | EQ8: 男 Male | ER8: 女Female | ES8: 計 Total | ET8: 男 Male | EU8: 女Female | EV8: 計 Total | EW8: 男 Male | EX8: 女Female | EY8: 男 Male | EZ8: 女 Female | FA8: 男 Male | FB8: 女Female | FC8: 男 Male | FD8: 女Female | FE8: 男 Male | FF8: 女Female | FG8: 男 Male | FH8: 女Female | FI8: 男 Male | FJ8: 女Female | FK8: 男 Male | FL8: 女Female | FM8: 男 Male | FN8: 女Female | FX8: 計 Total | FY8: 男 Male | FZ8: 女Female | GA8: 男 Male | GB8: 女Female | GC8: 男 Male | GD8: 女Female | GE8: 男 Male | GF8: 女Female | GG8: 男 Male | GH8: 女Female | GI8: 男 Male | GJ8: 女Female | GK8: 計 Total | GL8: 男 Male | GM8: 女Female | GN8: 男 Male | GO8: 女Female | GP8: 男 Male | GQ8: 女Female | GR8: 男 Male | GS8: 女Female | GT8: 男 Male | GU8: 女Female | GV8: 男 Male | GW8: 女Female | GX8: 計 Total | GY8: 男 Male | GZ8: 女Female | HA8: 男 Male | HB8: 女Female | HC8: 男 Male | HD8: 女Female | HE8: 男 Male | HF8: 女Female | HG8: 男 Male | HH8: 女Female | HI8: 男 Male | HJ8: 女Female | HK8: 男 Male | HL8: 女Female | HM8: 男 Male | HN8: 女Female
A9: 總 計 | B9: Total | C9: 6678 | D9: 6631 | E9: 47 | F9: 2097 | G9: 8 | H9: 128 | I9: 0 | J9: 1794 | K9: 18 | L9: 1875 | M9: 13 | N9: 4 | O9: 0 | P9: 0 | Q9: 0 | R9: 35 | S9: 0 | T9: 350 | U9: 7 | V9: 330 | W9: 1 | X9: 18 | Y9: 0 | Z9: 4482 | AA9: 4453 | AB9: 29 | AC9: 466 | AD9: 7 | AE9: 1092 | AF9: 7 | AG9: 2351 | AH9: 14 | AI9: 495 | AJ9: 1 | AK9: 49 | AL9: 0 | AM9: 4482 | AN9: 4453 | AO9: 29 | AP9: 755 | AQ9: 10 | AR9: 663 | AS9: 4 | AT9: 508 | AU9: 3 | AV9: 557 | AW9: 3 | AX9: 733 | AY9: 4 | AZ9: 389 | BA9: 4 | BB9: 434 | BC9: 1 | BD9: 414 | BE9: 0 | BF9: 450 | BG9: 448 | BH9: 2 | BI9: 28 | BJ9: 0 | BK9: 14 | BL9: 0 | BM9: 7 | BN9: 0 | BO9: 343 | BP9: 2 | BQ9: 56 | BR9: 0 | BS9: 239 | BT9: 238 | BU9: 1 | BV9: 41 | BW9: 0 | BX9: 0 | BY9: 0 | BZ9: 197 | CA9: 1 | CB9: 1746 | CC9: 1730 | CD9: 16 | CE9: 20 | CF9: 20 | CG9: 0 | CH9: 1448 | CI9: 1435 | CJ9: 13 | CK9: 266 | CL9: 3 | CM9: 27 | CN9: 0 | CO9: 156 | CP9: 2 | CQ9: 31 | CR9: 1 | CS9: 7 | CT9: 0 | CU9: 45 | CV9: 0 | CW9: 9 | CX9: 0 | CY9: 7 | CZ9: 0 | DA9: 2 | DB9: 0 | DC9: 1083 | DD9: 1080 | DE9: 3 | DF9: 36 | DG9: 36 | DH9: 0 | DI9: 1047 | DJ9: 1044 | DK9: 3 | DL9: 1398 | DM9: 1395 | DN9: 3 | DO9: 59 | DP9: 59 | DQ9: 0 | DR9: 1339 | DS9: 1336 | DT9: 3 | DU9: 510 | DV9: 510 | DW9: 0 | DX9: 70 | DY9: 70 | DZ9: 0 | EA9: 818 | EB9: 815 | EC9: 3 | ED9: 555 | EE9: 552 | EF9: 3 | EG9: 100 | EH9: 100 | EI9: 0 | EJ9: 455 | EK9: 452 | EL9: 3 | EM9: 745 | EN9: 742 | EO9: 3 | EP9: 124 | EQ9: 124 | ER9: 0 | ES9: 621 | ET9: 618 | EU9: 3 | EV9: 745 | EW9: 742 | EX9: 3 | EY9: 228 | EZ9: 1 | FA9: 336 | FB9: 1 | FC9: 58 | FD9: 0 | FE9: 2 | FF9: 0 | FG9: 118 | FH9: 1 | FI9: 46 | FJ9: 0 | FK9: 2 | FL9: 0 | FM9: 70 | FN9: 1 | FO9: 1329 | FP9: 1277 | FQ9: 52 | FR9: 17 | FS9: 16 | FT9: 1 | FU9: 350 | FV9: 329 | FW9: 21 | FX9: 805 | FY9: 780 | FZ9: 25 | GA9: 157 | GB9: 10 | GC9: 231 | GD9: 6 | GE9: 307 | GF9: 8 | GG9: 79 | GH9: 1 | GI9: 6 | GJ9: 0 | GK9: 48 | GL9: 47 | GM9: 1 | GN9: 1 | GO9: 0 | GP9: 2 | GQ9: 0 | GR9: 7 | GS9: 0 | GT9: 36 | GU9: 1 | GV9: 1 | GW9: 0 | GX9: 109 | GY9: 105 | GZ9: 4 | HA9: 71 | HB9: 3 | HC9: 10 | HD9: 0 | HE9: 5 | HF9: 0 | HG9: 9 | HH9: 0 | HI9: 1 | HJ9: 0 | HK9: 0 | HL9: 0 | HM9: 9 | HN9: 1
A10: 新北市 | B10: New Taipei City | C10: 1178 | D10: 1165 | E10: 13 | F10: 401 | G10: 2 | H10: 10 | I10: 0 | J10: 306 | K10: 5 | L10: 323 | M10: 3 | N10: 0 | O10: 0 | P10: 0 | Q10: 0 | R10: 0 | S10: 0 | T10: 39 | U10: 2 | V10: 82 | W10: 1 | X10: 4 | Y10: 0 | Z10: 941 | AA10: 929 | AB10: 12 | AC10: 56 | AD10: 3 | AE10: 180 | AF10: 4 | AG10: 585 | AH10: 4 | AI10: 95 | AJ10: 1 | AK10: 13 | AL10: 0 | AM10: 941 | AN10: 929 | AO10: 12 | AP10: 233 | AQ10: 5 | AR10: 195 | AS10: 1 | AT10: 36 | AU10: 0 | AV10: 157 | AW10: 3 | AX10: 119 | AY10: 2 | AZ10: 104 | BA10: 1 | BB10: 67 | BC10: 0 | BD10: 18 | BE10: 0 | BF10: 22 | BG10: 22 | BH10: 0 | BI10: 0 | BJ10: 0 | BK10: 1 | BL10: 0 | BM10: 0 | BN10: 0 | BO10: 21 | BP10: 0 | BQ10: 0 | BR10: 0 | BS10: 29 | BT10: 29 | BU10: 0 | BV10: 8 | BW10: 0 | BX10: 0 | BY10: 0 | BZ10: 21 | CA10: 0 | CB10: 215 | CC10: 214 | CD10: 1 | CE10: 1 | CF10: 1 | CG10: 0 | CH10: 174 | CI10: 173 | CJ10: 1 | CK10: 37 | CL10: 0 | CM10: 6 | CN10: 0 | CO10: 20 | CP10: 0 | CQ10: 4 | CR10: 0 | CS10: 0 | CT10: 0 | CU10: 7 | CV10: 0 | CW10: 3 | CX10: 0 | CY10: 3 | CZ10: 0 | DA10: 0 | DB10: 0 | DC10: 170 | DD10: 169 | DE10: 1 | DF10: 0 | DG10: 0 | DH10: 0 | DI10: 170 | DJ10: 169 | DK10: 1 | DL10: 242 | DM10: 241 | DN10: 1 | DO10: 0 | DP10: 0 | DQ10: 0 | DR10: 242 | DS10: 241 | DT10: 1 | DU10: 0 | DV10: 0 | DW10: 0 | DX10: 0 | DY10: 0 | DZ10: 0 | EA10: 242 | EB10: 241 | EC10: 1 | ED10: 104 | EE10: 103 | EF10: 1 | EG10: 15 | EH10: 15 | EI10: 0 | EJ10: 89 | EK10: 88 | EL10: 1 | EM10: 122 | EN10: 121 | EO10: 1 | EP10: 15 | EQ10: 15 | ER10: 0 | ES10: 107 | ET10: 106 | EU10: 1 | EV10: 122 | EW10: 121 | EX10: 1 | EY10: 0 | EZ10: 0 | FA10: 89 | FB10: 1 | FC10: 2 | FD10: 0 | FE10: 1 | FF10: 0 | FG10: 29 | FH10: 0 | FI10: 15 | FJ10: 0 | FK10: 0 | FL10: 0 | FM10: 14 | FN10: 0 | FO10: 217 | FP10: 216 | FQ10: 1 | FR10: 2 | FS10: 2 | FT10: 0 | FU10: 27 | FV10: 27 | FW10: 0 | FX10: 147 | FY10: 146 | FZ10: 1 | GA10: 39 | GB10: 1 | GC10: 13 | GD10: 0 | GE10: 87 | GF10: 0 | GG10: 7 | GH10: 0 | GI10: 0 | GJ10: 0 | GK10: 7 | GL10: 7 | GM10: 0 | GN10: 0 | GO10: 0 | GP10: 0 | GQ10: 0 | GR10: 0 | GS10: 0 | GT10: 7 | GU10: 0 | GV10: 0 | GW10: 0 | GX10: 34 | GY10: 34 | GZ10: 0 | HA10: 28 | HB10: 0 | HC10: 0 | HD10: 0 | HE10: 2 | HF10: 0 | HG10: 1 | HH10: 0 | HI10: 0 | HJ10: 0 | HK10: 0 | HL10: 0 | HM10: 3 | HN10: 0
A11: 臺北市 | B11: Taipei City | C11: 490 | D11: 490 | E11: 0 | F11: 125 | G11: 0 | H11: 9 | I11: 0 | J11: 114 | K11: 0 | L11: 157 | M11: 0 | N11: 1 | O11: 0 | P11: 0 | Q11: 0 | R11: 1 | S11: 0 | T11: 15 | U11: 0 | V11: 66 | W11: 0 | X11: 2 | Y11: 0 | Z11: 338 | AA11: 338 | AB11: 0 | AC11: 15 | AD11: 0 | AE11: 102 | AF11: 0 | AG11: 154 | AH11: 0 | AI11: 56 | AJ11: 0 | AK11: 11 | AL11: 0 | AM11: 338 | AN11: 338 | AO11: 0 | AP11: 20 | AQ11: 0 | AR11: 26 | AS11: 0 | AT11: 38 | AU11: 0 | AV11: 37 | AW11: 0 | AX11: 46 | AY11: 0 | AZ11: 54 | BA11: 0 | BB11: 71 | BC11: 0 | BD11: 46 | BE11: 0 | BF11: 29 | BG11: 29 | BH11: 0 | BI11: 0 | BJ11: 0 | BK11: 0 | BL11: 0 | BM11: 0 | BN11: 0 | BO11: 27 | BP11: 0 | BQ11: 2 | BR11: 0 | BS11: 19 | BT11: 19 | BU11: 0 | BV11: 5 | BW11: 0 | BX11: 0 | BY11: 0 | BZ11: 14 | CA11: 0 | CB11: 123 | CC11: 123 | CD11: 0 | CE11: 1 | CF11: 1 | CG11: 0 | CH11: 98 | CI11: 98 | CJ11: 0 | CK11: 23 | CL11: 0 | CM11: 3 | CN11: 0 | CO11: 16 | CP11: 0 | CQ11: 4 | CR11: 0 | CS11: 0 | CT11: 0 | CU11: 0 | CV11: 0 | CW11: 1 | CX11: 0 | CY11: 0 | CZ11: 0 | DA11: 1 | DB11: 0 | DC11: 52 | DD11: 52 | DE11: 0 | DF11: 0 | DG11: 0 | DH11: 0 | DI11: 52 | DJ11: 52 | DK11: 0 | DL11: 82 | DM11: 82 | DN11: 0 | DO11: 0 | DP11: 0 | DQ11: 0 | DR11: 82 | DS11: 82 | DT11: 0 | DU11: 0 | DV11: 0 | DW11: 0 | DX11: 0 | DY11: 0 | DZ11: 0 | EA11: 82 | EB11: 82 | EC11: 0 | ED11: 40 | EE11: 40 | EF11: 0 | EG11: 17 | EH11: 17 | EI11: 0 | EJ11: 23 | EK11: 23 | EL11: 0 | EM11: 57 | EN11: 57 | EO11: 0 | EP11: 24 | EQ11: 24 | ER11: 0 | ES11: 33 | ET11: 33 | EU11: 0 | EV11: 57 | EW11: 57 | EX11: 0 | EY11: 3 | EZ11: 0 | FA11: 33 | FB11: 0 | FC11: 3 | FD11: 0 | FE11: 0 | FF11: 0 | FG11: 18 | FH11: 0 | FI11: 4 | FJ11: 0 | FK11: 1 | FL11: 0 | FM11: 13 | FN11: 0 | FO11: 60 | FP11: 59 | FQ11: 1 | FR11: 0 | FS11: 0 | FT11: 0 | FU11: 15 | FV11: 15 | FW11: 0 | FX11: 36 | FY11: 35 | FZ11: 1 | GA11: 3 | GB11: 0 | GC11: 4 | GD11: 0 | GE11: 14 | GF11: 0 | GG11: 10 | GH11: 1 | GI11: 4 | GJ11: 0 | GK11: 3 | GL11: 3 | GM11: 0 | GN11: 0 | GO11: 0 | GP11: 0 | GQ11: 0 | GR11: 0 | GS11: 0 | GT11: 3 | GU11: 0 | GV11: 0 | GW11: 0 | GX11: 6 | GY11: 6 | GZ11: 0 | HA11: 6 | HB11: 0 | HC11: 0 | HD11: 0 | HE11: 0 | HF11: 0 | HG11: 0 | HH11: 0 | HI11: 0 | HJ11: 0 | HK11: 0 | HL11: 0 | HM11: 0 | HN11: 0
A12: 桃園市 | B12: Taoyuan City | C12: 1038 | D12: 1034 | E12: 4 | F12: 378 | G12: 0 | H12: 24 | I12: 0 | J12: 278 | K12: 2 | L12: 281 | M12: 1 | N12: 0 | O12: 0 | P12: 0 | Q12: 0 | R12: 3 | S12: 0 | T12: 38 | U12: 1 | V12: 31 | W12: 0 | X12: 1 | Y12: 0 | Z12: 723 | AA12: 720 | AB12: 3 | AC12: 55 | AD12: 2 | AE12: 276 | AF12: 0 | AG12: 326 | AH12: 1 | AI12: 60 | AJ12: 0 | AK12: 3 | AL12: 0 | AM12: 723 | AN12: 720 | AO12: 3 | AP12: 46 | AQ12: 0 | AR12: 38 | AS12: 1 | AT12: 44 | AU12: 0 | AV12: 48 | AW12: 0 | AX12: 72 | AY12: 0 | AZ12: 81 | BA12: 2 | BB12: 88 | BC12: 0 | BD12: 303 | BE12: 0 | BF12: 107 | BG12: 107 | BH12: 0 | BI12: 13 | BJ12: 0 | BK12: 6 | BL12: 0 | BM12: 0 | BN12: 0 | BO12: 63 | BP12: 0 | BQ12: 25 | BR12: 0 | BS12: 73 | BT12: 73 | BU12: 0 | BV12: 2 | BW12: 0 | BX12: 0 | BY12: 0 | BZ12: 71 | CA12: 0 | CB12: 208 | CC12: 207 | CD12: 1 | CE12: 0 | CF12: 0 | CG12: 0 | CH12: 158 | CI12: 158 | CJ12: 0 | CK12: 49 | CL12: 1 | CM12: 2 | CN12: 0 | CO12: 33 | CP12: 1 | CQ12: 8 | CR12: 0 | CS12: 0 | CT12: 0 | CU12: 6 | CV12: 0 | CW12: 0 | CX12: 0 | CY12: 0 | CZ12: 0 | DA12: 0 | DB12: 0 | DC12: 415 | DD12: 415 | DE12: 0 | DF12: 23 | DG12: 23 | DH12: 0 | DI12: 392 | DJ12: 392 | DK12: 0 | DL12: 415 | DM12: 415 | DN12: 0 | DO12: 23 | DP12: 23 | DQ12: 0 | DR12: 392 | DS12: 392 | DT12: 0 | DU12: 349 | DV12: 349 | DW12: 0 | DX12: 28 | DY12: 28 | DZ12: 0 | EA12: 38 | EB12: 38 | EC12: 0 | ED12: 29 | EE12: 29 | EF12: 0 | EG12: 18 | EH12: 18 | EI12: 0 | EJ12: 11 | EK12: 11 | EL12: 0 | EM12: 29 | EN12: 29 | EO12: 0 | EP12: 18 | EQ12: 18 | ER12: 0 | ES12: 11 | ET12: 11 | EU12: 0 | EV12: 29 | EW12: 29 | EX12: 0 | EY12: 5 | EZ12: 0 | FA12: 14 | FB12: 0 | FC12: 6 | FD12: 0 | FE12: 0 | FF12: 0 | FG12: 4 | FH12: 0 | FI12: 2 | FJ12: 0 | FK12: 0 | FL12: 0 | FM12: 2 | FN12: 0 | FO12: 160 | FP12: 159 | FQ12: 1 | FR12: 0 | FS12: 0 | FT12: 0 | FU12: 20 | FV12: 20 | FW12: 0 | FX12: 110 | FY12: 110 | FZ12: 0 | GA12: 20 | GB12: 0 | GC12: 31 | GD12: 0 | GE12: 55 | GF12: 0 | GG12: 4 | GH12: 0 | GI12: 0 | GJ12: 0 | GK12: 10 | GL12: 10 | GM12: 0 | GN12: 0 | GO12: 0 | GP12: 1 | GQ12: 0 | GR12: 1 | GS12: 0 | GT12: 8 | GU12: 0 | GV12: 0 | GW12: 0 | GX12: 20 | GY12: 19 | GZ12: 1 | HA12: 14 | HB12: 1 | HC12: 0 | HD12: 0 | HE12: 0 | HF12: 0 | HG12: 3 | HH12: 0 | HI12: 1 | HJ12: 0 | HK12: 0 | HL12: 0 | HM12: 1 | HN12: 0
A13: 臺中市 | B13: Taichung City | C13: 858 | D13: 854 | E13: 4 | F13: 211 | G13: 1 | H13: 29 | I13: 0 | J13: 223 | K13: 2 | L13: 222 | M13: 0 | N13: 0 | O13: 0 | P13: 0 | Q13: 0 | R13: 15 | S13: 0 | T13: 85 | U13: 1 | V13: 68 | W13: 0 | X13: 1 | Y13: 0 | Z13: 558 | AA13: 558 | AB13: 0 | AC13: 69 | AD13: 0 | AE13: 97 | AF13: 0 | AG13: 325 | AH13: 0 | AI13: 64 | AJ13: 0 | AK13: 3 | AL13: 0 | AM13: 558 | AN13: 558 | AO13: 0 | AP13: 51 | AQ13: 0 | AR13: 89 | AS13: 0 | AT13: 25 | AU13: 0 | AV13: 23 | AW13: 0 | AX13: 227 | AY13: 0 | AZ13: 14 | BA13: 0 | BB13: 106 | BC13: 0 | BD13: 23 | BE13: 0 | BF13: 44 | BG13: 44 | BH13: 0 | BI13: 6 | BJ13: 0 | BK13: 0 | BL13: 0 | BM13: 4 | BN13: 0 | BO13: 30 | BP13: 0 | BQ13: 4 | BR13: 0 | BS13: 5 | BT13: 5 | BU13: 0 | BV13: 4 | BW13: 0 | BX13: 0 | BY13: 0 | BZ13: 1 | CA13: 0 | CB13: 256 | CC13: 252 | CD13: 4 | CE13: 6 | CF13: 6 | CG13: 0 | CH13: 225 | CI13: 221 | CJ13: 4 | CK13: 22 | CL13: 0 | CM13: 4 | CN13: 0 | CO13: 11 | CP13: 0 | CQ13: 2 | CR13: 0 | CS13: 4 | CT13: 0 | CU13: 1 | CV13: 0 | CW13: 3 | CX13: 0 | CY13: 3 | CZ13: 0 | DA13: 0 | DB13: 0 | DC13: 55 | DD13: 55 | DE13: 0 | DF13: 0 | DG13: 0 | DH13: 0 | DI13: 55 | DJ13: 55 | DK13: 0 | DL13: 55 | DM13: 55 | DN13: 0 | DO13: 0 | DP13: 0 | DQ13: 0 | DR13: 55 | DS13: 55 | DT13: 0 | DU13: 24 | DV13: 24 | DW13: 0 | DX13: 21 | DY13: 21 | DZ13: 0 | EA13: 10 | EB13: 10 | EC13: 0 | ED13: 46 | EE13: 46 | EF13: 0 | EG13: 0 | EH13: 0 | EI13: 0 | EJ13: 46 | EK13: 46 | EL13: 0 | EM13: 46 | EN13: 46 | EO13: 0 | EP13: 0 | EQ13: 0 | ER13: 0 | ES13: 46 | ET13: 46 | EU13: 0 | EV13: 46 | EW13: 46 | EX13: 0 | EY13: 15 | EZ13: 0 | FA13: 18 | FB13: 0 | FC13: 2 | FD13: 0 | FE13: 0 | FF13: 0 | FG13: 11 | FH13: 0 | FI13: 5 | FJ13: 0 | FK13: 0 | FL13: 0 | FM13: 6 | FN13: 0 | FO13: 113 | FP13: 113 | FQ13: 0 | FR13: 9 | FS13: 9 | FT13: 0 | FU13: 40 | FV13: 40 | FW13: 0 | FX13: 53 | FY13: 53 | FZ13: 0 | GA13: 26 | GB13: 0 | GC13: 11 | GD13: 0 | GE13: 14 | GF13: 0 | GG13: 2 | GH13: 0 | GI13: 0 | GJ13: 0 | GK13: 2 | GL13: 2 | GM13: 0 | GN13: 0 | GO13: 0 | GP13: 0 | GQ13: 0 | GR13: 2 | GS13: 0 | GT13: 0 | GU13: 0 | GV13: 0 | GW13: 0 | GX13: 9 | GY13: 9 | GZ13: 0 | HA13: 2 | HB13: 0 | HC13: 6 | HD13: 0 | HE13: 0 | HF13: 0 | HG13: 1 | HH13: 0 | HI13: 0 | HJ13: 0 | HK13: 0 | HL13: 0 | HM13: 0 | HN13: 0
A14: 臺南市 | B14: Tainan City | C14: 344 | D14: 343 | E14: 1 | F14: 104 | G14: 0 | H14: 6 | I14: 0 | J14: 106 | K14: 0 | L14: 104 | M14: 1 | N14: 0 | O14: 0 | P14: 0 | Q14: 0 | R14: 1 | S14: 0 | T14: 13 | U14: 0 | V14: 9 | W14: 0 | X14: 0 | Y14: 0 | Z14: 211 | AA14: 210 | AB14: 1 | AC14: 174 | AD14: 1 | AE14: 0 | AF14: 0 | AG14: 36 | AH14: 0 | AI14: 0 | AJ14: 0 | AK14: 0 | AL14: 0 | AM14: 211 | AN14: 210 | AO14: 1 | AP14: 45 | AQ14: 0 | AR14: 30 | AS14: 0 | AT14: 25 | AU14: 1 | AV14: 29 | AW14: 0 | AX14: 43 | AY14: 0 | AZ14: 18 | BA14: 0 | BB14: 16 | BC14: 0 | BD14: 4 | BE14: 0 | BF14: 22 | BG14: 22 | BH14: 0 | BI14: 2 | BJ14: 0 | BK14: 0 | BL14: 0 | BM14: 0 | BN14: . | BO14: 19 | BP14: 0 | BQ14: 1 | BR14: 0 | BS14: 7 | BT14: 7 | BU14: 0 | BV14: 2 | BW14: 0 | BX14: 0 | BY14: 0 | BZ14: 5 | CA14: 0 | CB14: 111 | CC14: 111 | CD14: 0 | CE14: 0 | CF14: 0 | CG14: 0 | CH14: 96 | CI14: 96 | CJ14: 0 | CK14: 15 | CL14: 0 | CM14: 2 | CN14: 0 | CO14: 11 | CP14: 0 | CQ14: 1 | CR14: 0 | CS14: 1 | CT14: 0 | CU14: 0 | CV14: 0 | CW14: 0 | CX14: 0 | CY14: 0 | CZ14: 0 | DA14: 0 | DB14: 0 | DC14: 41 | DD14: 41 | DE14: 0 | DF14: 0 | DG14: 0 | DH14: 0 | DI14: 41 | DJ14: 41 | DK14: 0 | DL14: 41 | DM14: 41 | DN14: 0 | DO14: 0 | DP14: 0 | DQ14: 0 | DR14: 41 | DS14: 41 | DT14: 0 | DU14: 0 | DV14: 0 | DW14: 0 | DX14: 0 | DY14: 0 | DZ14: 0 | EA14: 41 | EB14: 41 | EC14: 0 | ED14: 22 | EE14: 22 | EF14: 0 | EG14: 5 | EH14: 5 | EI14: 0 | EJ14: 17 | EK14: 17 | EL14: 0 | EM14: 22 | EN14: 22 | EO14: 0 | EP14: 5 | EQ14: 5 | ER14: 0 | ES14: 17 | ET14: 17 | EU14: 0 | EV14: 22 | EW14: 22 | EX14: 0 | EY14: 0 | EZ14: 0 | FA14: 13 | FB14: 0 | FC14: 4 | FD14: 0 | FE14: 0 | FF14: 0 | FG14: 5 | FH14: 0 | FI14: 5 | FJ14: 0 | FK14: 0 | FL14: 0 | FM14: 0 | FN14: 0 | FO14: 108 | FP14: 104 | FQ14: 4 | FR14: 0 | FS14: 0 | FT14: 0 | FU14: 40 | FV14: 37 | FW14: 3 | FX14: 60 | FY14: 59 | FZ14: 1 | GA14: 0 | GB14: 0 | GC14: 59 | GD14: 1 | GE14: 0 | GF14: 0 | GG14: 0 | GH14: 0 | GI14: 0 | GJ14: 0 | GK14: 4 | GL14: 4 | GM14: 0 | GN14: 0 | GO14: 0 | GP14: 0 | GQ14: 0 | GR14: 2 | GS14: 0 | GT14: 2 | GU14: 0 | GV14: 0 | GW14: 0 | GX14: 4 | GY14: 4 | GZ14: 0 | HA14: 2 | HB14: 0 | HC14: 1 | HD14: 0 | HE14: 0 | HF14: 0 | HG14: 0 | HH14: 0 | HI14: 0 | HJ14: 0 | HK14: 0 | HL14: 0 | HM14: 1 | HN14: 0
A15: 高雄市 | B15: Kaohsiung City | C15: 412 | D15: 407 | E15: 5 | F15: 133 | G15: 1 | H15: 5 | I15: 0 | J15: 117 | K15: 1 | L15: 109 | M15: 3 | N15: 0 | O15: 0 | P15: 0 | Q15: 0 | R15: 1 | S15: 0 | T15: 29 | U15: 0 | V15: 11 | W15: 0 | X15: 2 | Y15: 0 | Z15: 246 | AA15: 242 | AB15: 4 | AC15: 16 | AD15: 0 | AE15: 41 | AF15: 2 | AG15: 161 | AH15: 2 | AI15: 21 | AJ15: 0 | AK15: 3 | AL15: 0 | AM15: 246 | AN15: 242 | AO15: 4 | AP15: 54 | AQ15: 2 | AR15: 13 | AS15: 0 | AT15: 132 | AU15: 2 | AV15: 11 | AW15: 0 | AX15: 21 | AY15: 0 | AZ15: 8 | BA15: 0 | BB15: 3 | BC15: 0 | BD15: 0 | BE15: 0 | BF15: 8 | BG15: 8 | BH15: 0 | BI15: 1 | BJ15: 0 | BK15: 0 | BL15: 0 | BM15: 0 | BN15: 0 | BO15: 6 | BP15: 0 | BQ15: 1 | BR15: 0 | BS15: 7 | BT15: 7 | BU15: 0 | BV15: 0 | BW15: 0 | BX15: 0 | BY15: 0 | BZ15: 7 | CA15: 0 | CB15: 158 | CC15: 157 | CD15: 1 | CE15: 3 | CF15: 3 | CG15: 0 | CH15: 118 | CI15: 117 | CJ15: 1 | CK15: 37 | CL15: 0 | CM15: 1 | CN15: 0 | CO15: 13 | CP15: 0 | CQ15: 0 | CR15: 0 | CS15: 0 | CT15: 0 | CU15: 23 | CV15: 0 | CW15: 0 | CX15: 0 | CY15: 0 | CZ15: 0 | DA15: 0 | DB15: 0 | DC15: 69 | DD15: 69 | DE15: 0 | DF15: 0 | DG15: 0 | DH15: 0 | DI15: 69 | DJ15: 69 | DK15: 0 | DL15: 69 | DM15: 69 | DN15: 0 | DO15: 0 | DP15: 0 | DQ15: 0 | DR15: 69 | DS15: 69 | DT15: 0 | DU15: 5 | DV15: 5 | DW15: 0 | DX15: 0 | DY15: 0 | DZ15: 0 | EA15: 64 | EB15: 64 | EC15: 0 | ED15: 59 | EE15: 59 | EF15: 0 | EG15: 14 | EH15: 14 | EI15: 0 | EJ15: 45 | EK15: 45 | EL15: 0 | EM15: 59 | EN15: 59 | EO15: 0 | EP15: 14 | EQ15: 14 | ER15: 0 | ES15: 45 | ET15: 45 | EU15: 0 | EV15: 59 | EW15: 59 | EX15: 0 | EY15: 0 | EZ15: 0 | FA15: 38 | FB15: 0 | FC15: 7 | FD15: 0 | FE15: 0 | FF15: 0 | FG15: 14 | FH15: 0 | FI15: 3 | FJ15: 0 | FK15: 1 | FL15: 0 | FM15: 10 | FN15: 0 | FO15: 96 | FP15: 84 | FQ15: 12 | FR15: 1 | FS15: 0 | FT15: 1 | FU15: 42 | FV15: 37 | FW15: 5 | FX15: 46 | FY15: 41 | FZ15: 5 | GA15: 10 | GB15: 2 | GC15: 23 | GD15: 2 | GE15: 7 | GF15: 1 | GG15: 1 | GH15: 0 | GI15: 0 | GJ15: 0 | GK15: 2 | GL15: 2 | GM15: 0 | GN15: 0 | GO15: 0 | GP15: 0 | GQ15: 0 | GR15: 0 | GS15: 0 | GT15: 2 | GU15: 0 | GV15: 0 | GW15: 0 | GX15: 5 | GY15: 4 | GZ15: 1 | HA15: 3 | HB15: 1 | HC15: 0 | HD15: 0 | HE15: 0 | HF15: 0 | HG15: 1 | HH15: 0 | HI15: 0 | HJ15: 0 | HK15: 0 | HL15: 0 | HM15: 0 | HN15: 0
A16: 宜蘭縣 | B16: Yilan County | C16: 157 | D16: 155 | E16: 2 | F16: 43 | G16: 1 | H16: 0 | I16: 0 | J16: 38 | K16: 1 | L16: 44 | M16: 0 | N16: 0 | O16: 0 | P16: 0 | Q16: 0 | R16: 2 | S16: 0 | T16: 10 | U16: 0 | V16: 17 | W16: 0 | X16: 1 | Y16: 0 | Z16: 98 | AA16: 97 | AB16: 1 | AC16: 17 | AD16: 0 | AE16: 18 | AF16: 0 | AG16: 48 | AH16: 1 | AI16: 13 | AJ16: 0 | AK16: 1 | AL16: 0 | AM16: 98 | AN16: 97 | AO16: 1 | AP16: 17 | AQ16: 0 | AR16: 4 | AS16: 0 | AT16: 7 | AU16: 0 | AV16: 5 | AW16: 0 | AX16: 32 | AY16: 0 | AZ16: 14 | BA16: 1 | BB16: 13 | BC16: 0 | BD16: 5 | BE16: 0 | BF16: 8 | BG16: 8 | BH16: 0 | BI16: 1 | BJ16: 0 | BK16: 1 | BL16: 0 | BM16: 0 | BN16: 0 | BO16: 5 | BP16: 0 | BQ16: 1 | BR16: 0 | BS16: 6 | BT16: 6 | BU16: 0 | BV16: 1 | BW16: 0 | BX16: 0 | BY16: 0 | BZ16: 5 | CA16: 0 | CB16: 51 | CC16: 50 | CD16: 1 | CE16: 0 | CF16: 0 | CG16: 0 | CH16: 44 | CI16: 43 | CJ16: 1 | CK16: 7 | CL16: 0 | CM16: 1 | CN16: 0 | CO16: 5 | CP16: 0 | CQ16: 1 | CR16: 0 | CS16: 0 | CT16: 0 | CU16: 0 | CV16: 0 | CW16: 0 | CX16: 0 | CY16: 0 | CZ16: 0 | DA16: 0 | DB16: 0 | DC16: 6 | DD16: 6 | DE16: 0 | DF16: 0 | DG16: 0 | DH16: 0 | DI16: 6 | DJ16: 6 | DK16: 0 | DL16: 6 | DM16: 6 | DN16: 0 | DO16: 6 | DP16: 6 | DQ16: 0 | DR16: 0 | DS16: 0 | DT16: 0 | DU16: 0 | DV16: 0 | DW16: 0 | DX16: 0 | DY16: 0 | DZ16: 0 | EA16: 6 | EB16: 6 | EC16: 0 | ED16: 6 | EE16: 6 | EF16: 0 | EG16: 0 | EH16: 0 | EI16: 0 | EJ16: 6 | EK16: 6 | EL16: 0 | EM16: 1 | EN16: 1 | EO16: 0 | EP16: 0 | EQ16: 0 | ER16: 0 | ES16: 1 | ET16: 1 | EU16: 0 | EV16: 1 | EW16: 1 | EX16: 0 | EY16: 0 | EZ16: 0 | FA16: 0 | FB16: 0 | FC16: 0 | FD16: 0 | FE16: 0 | FF16: 0 | FG16: 1 | FH16: 0 | FI16: 0 | FJ16: 0 | FK16: 0 | FL16: 0 | FM16: 1 | FN16: 0 | FO16: 41 | FP16: 37 | FQ16: 4 | FR16: 1 | FS16: 1 | FT16: 0 | FU16: 16 | FV16: 15 | FW16: 1 | FX16: 21 | FY16: 18 | FZ16: 3 | GA16: 6 | GB16: 2 | GC16: 1 | GD16: 0 | GE16: 8 | GF16: 1 | GG16: 3 | GH16: 0 | GI16: 0 | GJ16: 0 | GK16: 0 | GL16: 0 | GM16: 0 | GN16: 0 | GO16: 0 | GP16: 0 | GQ16: 0 | GR16: 0 | GS16: 0 | GT16: 0 | GU16: 0 | GV16: 0 | GW16: 0 | GX16: 3 | GY16: 3 | GZ16: 0 | HA16: 0 | HB16: 0 | HC16: 1 | HD16: 0 | HE16: 1 | HF16: 0 | HG16: 1 | HH16: 0 | HI16: 0 | HJ16: 0 | HK16: 0 | HL16: 0 | HM16: 0 | HN16: 0
A17: 新竹縣 | B17: Hsinchu County | C17: 215 | D17: 214 | E17: 1 | F17: 76 | G17: 0 | H17: 4 | I17: 0 | J17: 62 | K17: 0 | L17: 60 | M17: 1 | N17: 0 | O17: 0 | P17: 0 | Q17: 0 | R17: 0 | S17: 0 | T17: 10 | U17: 0 | V17: 2 | W17: 0 | X17: 0 | Y17: 0 | Z17: 164 | AA17: 164 | AB17: 0 | AC17: 8 | AD17: 0 | AE17: 99 | AF17: 0 | AG17: 42 | AH17: 0 | AI17: 12 | AJ17: 0 | AK17: 3 | AL17: 0 | AM17: 164 | AN17: 164 | AO17: 0 | AP17: 36 | AQ17: 0 | AR17: 35 | AS17: 0 | AT17: 34 | AU17: 0 | AV17: 17 | AW17: 0 | AX17: 22 | AY17: 0 | AZ17: 13 | BA17: 0 | BB17: 5 | BC17: 0 | BD17: 2 | BE17: 0 | BF17: 18 | BG17: 18 | BH17: 0 | BI17: 0 | BJ17: 0 | BK17: 1 | BL17: 0 | BM17: 0 | BN17: 0 | BO17: 17 | BP17: 0 | BQ17: 0 | BR17: 0 | BS17: 17 | BT17: 17 | BU17: 0 | BV17: 5 | BW17: 0 | BX17: 0 | BY17: 0 | BZ17: 12 | CA17: 0 | CB17: 33 | CC17: 32 | CD17: 1 | CE17: 0 | CF17: 0 | CG17: 0 | CH17: 26 | CI17: 25 | CJ17: 1 | CK17: 6 | CL17: 0 | CM17: 0 | CN17: 0 | CO17: 4 | CP17: 0 | CQ17: 1 | CR17: 0 | CS17: 1 | CT17: 0 | CU17: 0 | CV17: 0 | CW17: 1 | CX17: 0 | CY17: 0 | CZ17: 0 | DA17: 1 | DB17: 0 | DC17: 60 | DD17: 60 | DE17: 0 | DF17: 0 | DG17: 0 | DH17: 0 | DI17: 60 | DJ17: 60 | DK17: 0 | DL17: 64 | DM17: 64 | DN17: 0 | DO17: 0 | DP17: 0 | DQ17: 0 | DR17: 64 | DS17: 64 | DT17: 0 | DU17: 16 | DV17: 16 | DW17: 0 | DX17: 6 | DY17: 6 | DZ17: 0 | EA17: 42 | EB17: 42 | EC17: 0 | ED17: 44 | EE17: 44 | EF17: 0 | EG17: 0 | EH17: 0 | EI17: 0 | EJ17: 44 | EK17: 44 | EL17: 0 | EM17: 43 | EN17: 43 | EO17: 0 | EP17: 0 | EQ17: 0 | ER17: 0 | ES17: 43 | ET17: 43 | EU17: 0 | EV17: 43 | EW17: 43 | EX17: 0 | EY17: 40 | EZ17: 0 | FA17: 0 | FB17: 0 | FC17: 3 | FD17: 0 | FE17: 0 | FF17: 0 | FG17: 0 | FH17: 0 | FI17: 0 | FJ17: 0 | FK17: 0 | FL17: 0 | FM17: 0 | FN17: 0 | FO17: 49 | FP17: 49 | FQ17: 0 | FR17: 0 | FS17: 0 | FT17: 0 | FU17: 13 | FV17: 13 | FW17: 0 | FX17: 36 | FY17: 36 | FZ17: 0 | GA17: 3 | GB17: 0 | GC17: 17 | GD17: 0 | GE17: 12 | GF17: 0 | GG17: 3 | GH17: 0 | GI17: 1 | GJ17: 0 | GK17: 0 | GL17: 0 | GM17: 0 | GN17: 0 | GO17: 0 | GP17: 0 | GQ17: 0 | GR17: 0 | GS17: 0 | GT17: 0 | GU17: 0 | GV17: 0 | GW17: 0 | GX17: 0 | GY17: 0 | GZ17: 0 | HA17: 0 | HB17: 0 | HC17: 0 | HD17: 0 | HE17: 0 | HF17: 0 | HG17: 0 | HH17: 0 | HI17: 0 | HJ17: 0 | HK17: 0 | HL17: 0 | HM17: 0 | HN17: 0
A18: 苗栗縣 | B18: Miaoli County | C18: 229 | D18: 227 | E18: 2 | F18: 72 | G18: 0 | H18: 11 | I18: 0 | J18: 60 | K18: 0 | L18: 61 | M18: 0 | N18: 0 | O18: 0 | P18: 0 | Q18: 0 | R18: 0 | S18: 0 | T18: 14 | U18: 2 | V18: 7 | W18: 0 | X18: 2 | Y18: 0 | Z18: 168 | AA18: 167 | AB18: 1 | AC18: 4 | AD18: 0 | AE18: 39 | AF18: 0 | AG18: 104 | AH18: 1 | AI18: 20 | AJ18: 0 | AK18: 0 | AL18: 0 | AM18: 168 | AN18: 167 | AO18: 1 | AP18: 31 | AQ18: 1 | AR18: 31 | AS18: 0 | AT18: 15 | AU18: 0 | AV18: 18 | AW18: 0 | AX18: 43 | AY18: 0 | AZ18: 20 | BA18: 0 | BB18: 8 | BC18: 0 | BD18: 1 | BE18: 0 | BF18: 22 | BG18: 22 | BH18: 0 | BI18: 0 | BJ18: 0 | BK18: 1 | BL18: 0 | BM18: 0 | BN18: 0 | BO18: 19 | BP18: 0 | BQ18: 2 | BR18: 0 | BS18: 22 | BT18: 22 | BU18: 0 | BV18: 2 | BW18: 0 | BX18: 0 | BY18: 0 | BZ18: 20 | CA18: 0 | CB18: 39 | CC18: 38 | CD18: 1 | CE18: 0 | CF18: 0 | CG18: 0 | CH18: 33 | CI18: 33 | CJ18: 0 | CK18: 5 | CL18: 1 | CM18: 1 | CN18: 0 | CO18: 1 | CP18: 1 | CQ18: 2 | CR18: 0 | CS18: 0 | CT18: 0 | CU18: 1 | CV18: 0 | CW18: 0 | CX18: 0 | CY18: 0 | CZ18: 0 | DA18: 0 | DB18: 0 | DC18: 31 | DD18: 31 | DE18: 0 | DF18: 0 | DG18: 0 | DH18: 0 | DI18: 31 | DJ18: 31 | DK18: 0 | DL18: 31 | DM18: 31 | DN18: 0 | DO18: 0 | DP18: 0 | DQ18: 0 | DR18: 31 | DS18: 31 | DT18: 0 | DU18: 3 | DV18: 3 | DW18: 0 | DX18: 7 | DY18: 7 | DZ18: 0 | EA18: 21 | EB18: 21 | EC18: 0 | ED18: 22 | EE18: 22 | EF18: 0 | EG18: 1 | EH18: 1 | EI18: 0 | EJ18: 21 | EK18: 21 | EL18: 0 | EM18: 22 | EN18: 22 | EO18: 0 | EP18: 1 | EQ18: 1 | ER18: 0 | ES18: 21 | ET18: 21 | EU18: 0 | EV18: 22 | EW18: 22 | EX18: 0 | EY18: 0 | EZ18: 0 | FA18: 9 | FB18: 0 | FC18: 13 | FD18: 0 | FE18: 0 | FF18: 0 | FG18: 0 | FH18: 0 | FI18: 0 | FJ18: 0 | FK18: 0 | FL18: 0 | FM18: 0 | FN18: 0 | FO18: 29 | FP18: 28 | FQ18: 1 | FR18: 1 | FS18: 1 | FT18: 0 | FU18: 4 | FV18: 3 | FW18: 1 | FX18: 23 | FY18: 23 | FZ18: 0 | GA18: 3 | GB18: 0 | GC18: 7 | GD18: 0 | GE18: 9 | GF18: 0 | GG18: 3 | GH18: 0 | GI18: 1 | GJ18: 0 | GK18: 1 | GL18: 1 | GM18: 0 | GN18: 0 | GO18: 0 | GP18: 0 | GQ18: 0 | GR18: 0 | GS18: 0 | GT18: 1 | GU18: 0 | GV18: 0 | GW18: 0 | GX18: 0 | GY18: 0 | GZ18: 0 | HA18: 0 | HB18: 0 | HC18: 0 | HD18: 0 | HE18: 0 | HF18: 0 | HG18: 0 | HH18: 0 | HI18: 0 | HJ18: 0 | HK18: 0 | HL18: 0 | HM18: 0 | HN18: 0
A19: 彰化縣 | B19: Changhua County | C19: 312 | D19: 310 | E19: 2 | F19: 87 | G19: 0 | H19: 2 | I19: 0 | J19: 91 | K19: 2 | L19: 99 | M19: 0 | N19: 0 | O19: 0 | P19: 0 | Q19: 0 | R19: 1 | S19: 0 | T19: 25 | U19: 0 | V19: 2 | W19: 0 | X19: 3 | Y19: 0 | Z19: 190 | AA19: 189 | AB19: 1 | AC19: 11 | AD19: 0 | AE19: 22 | AF19: 0 | AG19: 140 | AH19: 1 | AI19: 14 | AJ19: 0 | AK19: 2 | AL19: 0 | AM19: 190 | AN19: 189 | AO19: 1 | AP19: 24 | AQ19: 0 | AR19: 45 | AS19: 1 | AT19: 52 | AU19: 0 | AV19: 50 | AW19: 0 | AX19: 7 | AY19: 0 | AZ19: 6 | BA19: 0 | BB19: 5 | BC19: 0 | BD19: 0 | BE19: 0 | BF19: 6 | BG19: 6 | BH19: 0 | BI19: 1 | BJ19: 0 | BK19: 0 | BL19: 0 | BM19: 0 | BN19: 0 | BO19: 5 | BP19: 0 | BQ19: 0 | BR19: 0 | BS19: 1 | BT19: 1 | BU19: 0 | BV19: 1 | BW19: 0 | BX19: 0 | BY19: 0 | BZ19: 0 | CA19: 0 | CB19: 116 | CC19: 115 | CD19: 1 | CE19: 1 | CF19: 1 | CG19: 0 | CH19: 106 | CI19: 105 | CJ19: 1 | CK19: 9 | CL19: 0 | CM19: 0 | CN19: 0 | CO19: 7 | CP19: 0 | CQ19: 2 | CR19: 0 | CS19: 0 | CT19: 0 | CU19: 0 | CV19: 0 | CW19: 0 | CX19: 0 | CY19: 0 | CZ19: 0 | DA19: 0 | DB19: 0 | DC19: 0 | DD19: 0 | DE19: 0 | DF19: 0 | DG19: 0 | DH19: 0 | DI19: 0 | DJ19: 0 | DK19: 0 | DL19: 17 | DM19: 17 | DN19: 0 | DO19: 17 | DP19: 17 | DQ19: 0 | DR19: 0 | DS19: 0 | DT19: 0 | DU19: 0 | DV19: 0 | DW19: 0 | DX19: 0 | DY19: 0 | DZ19: 0 | EA19: 17 | EB19: 17 | EC19: 0 | ED19: 12 | EE19: 12 | EF19: 0 | EG19: 0 | EH19: 0 | EI19: 0 | EJ19: 12 | EK19: 12 | EL19: 0 | EM19: 12 | EN19: 12 | EO19: 0 | EP19: 0 | EQ19: 0 | ER19: 0 | ES19: 12 | ET19: 12 | EU19: 0 | EV19: 12 | EW19: 12 | EX19: 0 | EY19: 0 | EZ19: 0 | FA19: 9 | FB19: 0 | FC19: 1 | FD19: 0 | FE19: 0 | FF19: 0 | FG19: 2 | FH19: 0 | FI19: 0 | FJ19: 0 | FK19: 0 | FL19: 0 | FM19: 2 | FN19: 0 | FO19: 56 | FP19: 53 | FQ19: 3 | FR19: 0 | FS19: 0 | FT19: 0 | FU19: 18 | FV19: 17 | FW19: 1 | FX19: 29 | FY19: 27 | FZ19: 2 | GA19: 11 | GB19: 0 | GC19: 9 | GD19: 0 | GE19: 5 | GF19: 2 | GG19: 2 | GH19: 0 | GI19: 0 | GJ19: 0 | GK19: 2 | GL19: 2 | GM19: 0 | GN19: 0 | GO19: 0 | GP19: 0 | GQ19: 0 | GR19: 1 | GS19: 0 | GT19: 0 | GU19: 0 | GV19: 1 | GW19: 0 | GX19: 7 | GY19: 7 | GZ19: 0 | HA19: 7 | HB19: 0 | HC19: 0 | HD19: 0 | HE19: 0 | HF19: 0 | HG19: 0 | HH19: 0 | HI19: 0 | HJ19: 0 | HK19: 0 | HL19: 0 | HM19: 0 | HN19: 0
A20: 南投縣 | B20: Nantou County | C20: 192 | D20: 192 | E20: 0 | F20: 65 | G20: 0 | H20: 4 | I20: 0 | J20: 41 | K20: 0 | L20: 69 | M20: 0 | N20: 0 | O20: 0 | P20: 0 | Q20: 0 | R20: 0 | S20: 0 | T20: 6 | U20: 0 | V20: 7 | W20: 0 | X20: 0 | Y20: 0 | Z20: 106 | AA20: 106 | AB20: 0 | AC20: 18 | AD20: 0 | AE20: 35 | AF20: 0 | AG20: 47 | AH20: 0 | AI20: 6 | AJ20: 0 | AK20: 0 | AL20: 0 | AM20: 106 | AN20: 106 | AO20: 0 | AP20: 23 | AQ20: 0 | AR20: 19 | AS20: 0 | AT20: 31 | AU20: 0 | AV20: 25 | AW20: 0 | AX20: 4 | AY20: 0 | AZ20: 4 | BA20: 0 | BB20: 0 | BC20: 0 | BD20: 0 | BE20: 0 | BF20: 37 | BG20: 37 | BH20: 0 | BI20: 0 | BJ20: 0 | BK20: 0 | BL20: 0 | BM20: 0 | BN20: 0 | BO20: 37 | BP20: 0 | BQ20: 0 | BR20: 0 | BS20: 0 | BT20: 0 | BU20: 0 | BV20: 0 | BW20: 0 | BX20: 0 | BY20: 0 | BZ20: 0 | CA20: 0 | CB20: 49 | CC20: 49 | CD20: 0 | CE20: 0 | CF20: 0 | CG20: 0 | CH20: 47 | CI20: 47 | CJ20: 0 | CK20: 2 | CL20: 0 | CM20: 0 | CN20: 0 | CO20: 2 | CP20: 0 | CQ20: 0 | CR20: 0 | CS20: 0 | CT20: 0 | CU20: 0 | CV20: 0 | CW20: 0 | CX20: 0 | CY20: 0 | CZ20: 0 | DA20: 0 | DB20: 0 | DC20: 21 | DD20: 21 | DE20: 0 | DF20: 0 | DG20: 0 | DH20: 0 | DI20: 21 | DJ20: 21 | DK20: 0 | DL20: 21 | DM20: 21 | DN20: 0 | DO20: 0 | DP20: 0 | DQ20: 0 | DR20: 21 | DS20: 21 | DT20: 0 | DU20: 0 | DV20: 0 | DW20: 0 | DX20: 0 | DY20: 0 | DZ20: 0 | EA20: 21 | EB20: 21 | EC20: 0 | ED20: 21 | EE20: 21 | EF20: 0 | EG20: 0 | EH20: 0 | EI20: 0 | EJ20: 21 | EK20: 21 | EL20: 0 | EM20: 11 | EN20: 11 | EO20: 0 | EP20: 0 | EQ20: 0 | ER20: 0 | ES20: 11 | ET20: 11 | EU20: 0 | EV20: 11 | EW20: 11 | EX20: 0 | EY20: 0 | EZ20: 0 | FA20: 7 | FB20: 0 | FC20: 4 | FD20: 0 | FE20: 0 | FF20: 0 | FG20: 0 | FH20: 0 | FI20: 0 | FJ20: 0 | FK20: 0 | FL20: 0 | FM20: 0 | FN20: 0 | FO20: 47 | FP20: 47 | FQ20: 0 | FR20: 0 | FS20: 0 | FT20: 0 | FU20: 6 | FV20: 6 | FW20: 0 | FX20: 39 | FY20: 39 | FZ20: 0 | GA20: 8 | GB20: 0 | GC20: 17 | GD20: 0 | GE20: 10 | GF20: 0 | GG20: 4 | GH20: 0 | GI20: 0 | GJ20: 0 | GK20: 2 | GL20: 2 | GM20: 0 | GN20: 0 | GO20: 0 | GP20: 0 | GQ20: 0 | GR20: 1 | GS20: 0 | GT20: 1 | GU20: 0 | GV20: 0 | GW20: 0 | GX20: 0 | GY20: 0 | GZ20: 0 | HA20: 0 | HB20: 0 | HC20: 0 | HD20: 0 | HE20: 0 | HF20: 0 | HG20: 0 | HH20: 0 | HI20: 0 | HJ20: 0 | HK20: 0 | HL20: 0 | HM20: 0 | HN20: 0
A21: 雲林縣 | B21: Yunlin County | C21: 161 | D21: 159 | E21: 2 | F21: 47 | G21: 0 | H21: 2 | I21: 0 | J21: 46 | K21: 1 | L21: 57 | M21: 1 | N21: 0 | O21: 0 | P21: 0 | Q21: 0 | R21: 3 | S21: 0 | T21: 3 | U21: 0 | V21: 1 | W21: 0 | X21: 0 | Y21: 0 | Z21: 102 | AA21: 101 | AB21: 1 | AC21: 0 | AD21: 0 | AE21: 14 | AF21: 0 | AG21: 63 | AH21: 1 | AI21: 23 | AJ21: 0 | AK21: 1 | AL21: 0 | AM21: 102 | AN21: 101 | AO21: 1 | AP21: 40 | AQ21: 0 | AR21: 18 | AS21: 0 | AT21: 3 | AU21: 0 | AV21: 14 | AW21: 0 | AX21: 16 | AY21: 0 | AZ21: 6 | BA21: 0 | BB21: 4 | BC21: 1 | BD21: 0 | BE21: 0 | BF21: 15 | BG21: 15 | BH21: 0 | BI21: 1 | BJ21: 0 | BK21: 2 | BL21: 0 | BM21: 0 | BN21: 0 | BO21: 12 | BP21: 0 | BQ21: 0 | BR21: 0 | BS21: 1 | BT21: 1 | BU21: 0 | BV21: 0 | BW21: 0 | BX21: 0 | BY21: 0 | BZ21: 1 | CA21: 0 | CB21: 44 | CC21: 43 | CD21: 1 | CE21: 0 | CF21: 0 | CG21: 0 | CH21: 41 | CI21: 40 | CJ21: 1 | CK21: 3 | CL21: 0 | CM21: 0 | CN21: 0 | CO21: 1 | CP21: 0 | CQ21: 2 | CR21: 0 | CS21: 0 | CT21: 0 | CU21: 0 | CV21: 0 | CW21: 0 | CX21: 0 | CY21: 0 | CZ21: 0 | DA21: 0 | DB21: 0 | DC21: 11 | DD21: 11 | DE21: 0 | DF21: 0 | DG21: 0 | DH21: 0 | DI21: 11 | DJ21: 11 | DK21: 0 | DL21: 12 | DM21: 12 | DN21: 0 | DO21: 0 | DP21: 0 | DQ21: 0 | DR21: 12 | DS21: 12 | DT21: 0 | DU21: 6 | DV21: 6 | DW21: 0 | DX21: 1 | DY21: 1 | DZ21: 0 | EA21: 5 | EB21: 5 | EC21: 0 | ED21: 15 | EE21: 15 | EF21: 0 | EG21: 4 | EH21: 4 | EI21: 0 | EJ21: 11 | EK21: 11 | EL21: 0 | EM21: 21 | EN21: 21 | EO21: 0 | EP21: 9 | EQ21: 9 | ER21: 0 | ES21: 12 | ET21: 12 | EU21: 0 | EV21: 21 | EW21: 21 | EX21: 0 | EY21: 10 | EZ21: 0 | FA21: 10 | FB21: 0 | FC21: 1 | FD21: 0 | FE21: 0 | FF21: 0 | FG21: 0 | FH21: 0 | FI21: 0 | FJ21: 0 | FK21: 0 | FL21: 0 | FM21: 0 | FN21: 0 | FO21: 59 | FP21: 53 | FQ21: 6 | FR21: 0 | FS21: 0 | FT21: 0 | FU21: 14 | FV21: 12 | FW21: 2 | FX21: 40 | FY21: 37 | FZ21: 3 | GA21: 2 | GB21: 0 | GC21: 3 | GD21: 1 | GE21: 26 | GF21: 2 | GG21: 6 | GH21: 0 | GI21: 0 | GJ21: 0 | GK21: 3 | GL21: 2 | GM21: 1 | GN21: 0 | GO21: 0 | GP21: 0 | GQ21: 0 | GR21: 0 | GS21: 0 | GT21: 2 | GU21: 1 | GV21: 0 | GW21: 0 | GX21: 2 | GY21: 2 | GZ21: 0 | HA21: 0 | HB21: 0 | HC21: 0 | HD21: 0 | HE21: 0 | HF21: 0 | HG21: 2 | HH21: 0 | HI21: 0 | HJ21: 0 | HK21: 0 | HL21: 0 | HM21: 0 | HN21: 0
A22: 嘉義縣 | B22: Chiayi County | C22: 137 | D22: 135 | E22: 2 | F22: 46 | G22: 1 | H22: 3 | I22: 0 | J22: 41 | K22: 1 | L22: 37 | M22: 0 | N22: 0 | O22: 0 | P22: 0 | Q22: 0 | R22: 2 | S22: 0 | T22: 3 | U22: 0 | V22: 3 | W22: 0 | X22: 0 | Y22: 0 | Z22: 99 | AA22: 97 | AB22: 2 | AC22: 0 | AD22: 0 | AE22: 3 | AF22: 0 | AG22: 71 | AH22: 2 | AI22: 23 | AJ22: 0 | AK22: 0 | AL22: 0 | AM22: 99 | AN22: 97 | AO22: 2 | AP22: 10 | AQ22: 0 | AR22: 17 | AS22: 0 | AT22: 15 | AU22: 0 | AV22: 13 | AW22: 0 | AX22: 17 | AY22: 2 | AZ22: 12 | BA22: 0 | BB22: 10 | BC22: 0 | BD22: 3 | BE22: 0 | BF22: 8 | BG22: 8 | BH22: 0 | BI22: 1 | BJ22: 0 | BK22: 0 | BL22: 0 | BM22: 0 | BN22: 0 | BO22: 7 | BP22: 0 | BQ22: 0 | BR22: 0 | BS22: 0 | BT22: 0 | BU22: 0 | BV22: 0 | BW22: 0 | BX22: 0 | BY22: 0 | BZ22: 0 | CA22: 0 | CB22: 30 | CC22: 30 | CD22: 0 | CE22: 0 | CF22: 0 | CG22: 0 | CH22: 25 | CI22: 25 | CJ22: 0 | CK22: 5 | CL22: 0 | CM22: 0 | CN22: 0 | CO22: 5 | CP22: 0 | CQ22: 0 | CR22: 0 | CS22: 0 | CT22: 0 | CU22: 0 | CV22: 0 | CW22: 0 | CX22: 0 | CY22: 0 | CZ22: 0 | DA22: 0 | DB22: 0 | DC22: 7 | DD22: 7 | DE22: 0 | DF22: 0 | DG22: 0 | DH22: 0 | DI22: 7 | DJ22: 7 | DK22: 0 | DL22: 7 | DM22: 7 | DN22: 0 | DO22: 0 | DP22: 0 | DQ22: 0 | DR22: 7 | DS22: 7 | DT22: 0 | DU22: 0 | DV22: 0 | DW22: 0 | DX22: 0 | DY22: 0 | DZ22: 0 | EA22: 7 | EB22: 7 | EC22: 0 | ED22: 9 | EE22: 9 | EF22: 0 | EG22: 5 | EH22: 5 | EI22: 0 | EJ22: 4 | EK22: 4 | EL22: 0 | EM22: 9 | EN22: 9 | EO22: 0 | EP22: 5 | EQ22: 5 | ER22: 0 | ES22: 4 | ET22: 4 | EU22: 0 | EV22: 9 | EW22: 9 | EX22: 0 | EY22: 0 | EZ22: 0 | FA22: 2 | FB22: 0 | FC22: 1 | FD22: 0 | FE22: 0 | FF22: 0 | FG22: 6 | FH22: 0 | FI22: 0 | FJ22: 0 | FK22: 0 | FL22: 0 | FM22: 6 | FN22: 0 | FO22: 59 | FP22: 58 | FQ22: 1 | FR22: 0 | FS22: 0 | FT22: 0 | FU22: 4 | FV22: 4 | FW22: 0 | FX22: 51 | FY22: 50 | FZ22: 1 | GA22: 5 | GB22: 0 | GC22: 2 | GD22: 0 | GE22: 21 | GF22: 1 | GG22: 22 | GH22: 0 | GI22: 0 | GJ22: 0 | GK22: 4 | GL22: 4 | GM22: 0 | GN22: 1 | GO22: 0 | GP22: 1 | GQ22: 0 | GR22: 0 | GS22: 0 | GT22: 2 | GU22: 0 | GV22: 0 | GW22: 0 | GX22: 0 | GY22: 0 | GZ22: 0 | HA22: 0 | HB22: 0 | HC22: 0 | HD22: 0 | HE22: 0 | HF22: 0 | HG22: 0 | HH22: 0 | HI22: 0 | HJ22: 0 | HK22: 0 | HL22: 0 | HM22: 0 | HN22: 0
A23: 屏東縣 | B23: Pingtung County | C23: 226 | D23: 222 | E23: 4 | F23: 74 | G23: 0 | H23: 6 | I23: 0 | J23: 63 | K23: 2 | L23: 56 | M23: 2 | N23: 0 | O23: 0 | P23: 0 | Q23: 0 | R23: 2 | S23: 0 | T23: 18 | U23: 0 | V23: 3 | W23: 0 | X23: 0 | Y23: 0 | Z23: 111 | AA23: 110 | AB23: 1 | AC23: 2 | AD23: 0 | AE23: 40 | AF23: 1 | AG23: 49 | AH23: 0 | AI23: 17 | AJ23: 0 | AK23: 2 | AL23: 0 | AM23: 111 | AN23: 110 | AO23: 1 | AP23: 40 | AQ23: 1 | AR23: 22 | AS23: 0 | AT23: 14 | AU23: 0 | AV23: 14 | AW23: 0 | AX23: 14 | AY23: 0 | AZ23: 2 | BA23: 0 | BB23: 3 | BC23: 0 | BD23: 1 | BE23: 0 | BF23: 28 | BG23: 27 | BH23: 1 | BI23: 0 | BJ23: 0 | BK23: 1 | BL23: 0 | BM23: 0 | BN23: 0 | BO23: 21 | BP23: 1 | BQ23: 5 | BR23: 0 | BS23: 42 | BT23: 41 | BU23: 1 | BV23: 6 | BW23: 0 | BX23: 0 | BY23: 0 | BZ23: 35 | CA23: 1 | CB23: 87 | CC23: 85 | CD23: 2 | CE23: 1 | CF23: 1 | CG23: 0 | CH23: 80 | CI23: 78 | CJ23: 2 | CK23: 6 | CL23: 0 | CM23: 4 | CN23: 0 | CO23: 1 | CP23: 0 | CQ23: 1 | CR23: 0 | CS23: 0 | CT23: 0 | CU23: 0 | CV23: 0 | CW23: 0 | CX23: 0 | CY23: 0 | CZ23: 0 | DA23: 0 | DB23: 0 | DC23: 83 | DD23: 82 | DE23: 1 | DF23: 13 | DG23: 13 | DH23: 0 | DI23: 70 | DJ23: 69 | DK23: 1 | DL23: 165 | DM23: 164 | DN23: 1 | DO23: 13 | DP23: 13 | DQ23: 0 | DR23: 152 | DS23: 151 | DT23: 1 | DU23: 10 | DV23: 10 | DW23: 0 | DX23: 5 | DY23: 5 | DZ23: 0 | EA23: 150 | EB23: 149 | EC23: 1 | ED23: 63 | EE23: 62 | EF23: 1 | EG23: 19 | EH23: 19 | EI23: 0 | EJ23: 44 | EK23: 43 | EL23: 1 | EM23: 119 | EN23: 118 | EO23: 1 | EP23: 31 | EQ23: 31 | ER23: 0 | ES23: 88 | ET23: 87 | EU23: 1 | EV23: 119 | EW23: 118 | EX23: 1 | EY23: 7 | EZ23: 0 | FA23: 78 | FB23: 0 | FC23: 11 | FD23: 0 | FE23: 1 | FF23: 0 | FG23: 21 | FH23: 1 | FI23: 10 | FJ23: 0 | FK23: 0 | FL23: 0 | FM23: 11 | FN23: 1 | FO23: 77 | FP23: 69 | FQ23: 8 | FR23: 0 | FS23: 0 | FT23: 0 | FU23: 40 | FV23: 35 | FW23: 5 | FX23: 30 | FY23: 28 | FZ23: 2 | GA23: 5 | GB23: 0 | GC23: 19 | GD23: 1 | GE23: 4 | GF23: 1 | GG23: 0 | GH23: 0 | GI23: 0 | GJ23: 0 | GK23: 1 | GL23: 1 | GM23: 0 | GN23: 0 | GO23: 0 | GP23: 0 | GQ23: 0 | GR23: 0 | GS23: 0 | GT23: 1 | GU23: 0 | GV23: 0 | GW23: 0 | GX23: 6 | GY23: 5 | GZ23: 1 | HA23: 0 | HB23: 0 | HC23: 0 | HD23: 0 | HE23: 2 | HF23: 0 | HG23: 0 | HH23: 0 | HI23: 0 | HJ23: 0 | HK23: 0 | HL23: 0 | HM23: 3 | HN23: 1
A24: 臺東縣 | B24: Taitung County | C24: 117 | D24: 117 | E24: 0 | F24: 34 | G24: 0 | H24: 0 | I24: 0 | J24: 49 | K24: 0 | L24: 23 | M24: 0 | N24: 0 | O24: 0 | P24: 0 | Q24: 0 | R24: 1 | S24: 0 | T24: 5 | U24: 0 | V24: 4 | W24: 0 | X24: 1 | Y24: 0 | Z24: 50 | AA24: 50 | AB24: 0 | AC24: 0 | AD24: 0 | AE24: 20 | AF24: 0 | AG24: 22 | AH24: 0 | AI24: 6 | AJ24: 0 | AK24: 2 | AL24: 0 | AM24: 50 | AN24: 50 | AO24: 0 | AP24: 18 | AQ24: 0 | AR24: 1 | AS24: 0 | AT24: 9 | AU24: 0 | AV24: 6 | AW24: 0 | AX24: 2 | AY24: 0 | AZ24: 6 | BA24: 0 | BB24: 4 | BC24: 0 | BD24: 4 | BE24: 0 | BF24: 9 | BG24: 9 | BH24: 0 | BI24: 1 | BJ24: 0 | BK24: 0 | BL24: 0 | BM24: 0 | BN24: 0 | BO24: 5 | BP24: 0 | BQ24: 3 | BR24: 0 | BS24: 2 | BT24: 2 | BU24: 0 | BV24: 2 | BW24: 0 | BX24: 0 | BY24: 0 | BZ24: 0 | CA24: 0 | CB24: 58 | CC24: 58 | CD24: 0 | CE24: 0 | CF24: 0 | CG24: 0 | CH24: 49 | CI24: 49 | CJ24: 0 | CK24: 8 | CL24: 0 | CM24: 1 | CN24: 0 | CO24: 5 | CP24: 0 | CQ24: 1 | CR24: 0 | CS24: 0 | CT24: 0 | CU24: 1 | CV24: 0 | CW24: 1 | CX24: 0 | CY24: 1 | CZ24: 0 | DA24: 0 | DB24: 0 | DC24: 12 | DD24: 12 | DE24: 0 | DF24: 0 | DG24: 0 | DH24: 0 | DI24: 12 | DJ24: 12 | DK24: 0 | DL24: 16 | DM24: 16 | DN24: 0 | DO24: 0 | DP24: 0 | DQ24: 0 | DR24: 16 | DS24: 16 | DT24: 0 | DU24: 3 | DV24: 3 | DW24: 0 | DX24: 2 | DY24: 2 | DZ24: 0 | EA24: 11 | EB24: 11 | EC24: 0 | ED24: 12 | EE24: 12 | EF24: 0 | EG24: 0 | EH24: 0 | EI24: 0 | EJ24: 12 | EK24: 12 | EL24: 0 | EM24: 16 | EN24: 16 | EO24: 0 | EP24: 0 | EQ24: 0 | ER24: 0 | ES24: 16 | ET24: 16 | EU24: 0 | EV24: 16 | EW24: 16 | EX24: 0 | EY24: 3 | EZ24: 0 | FA24: 11 | FB24: 0 | FC24: 0 | FD24: 0 | FE24: 0 | FF24: 0 | FG24: 2 | FH24: 0 | FI24: 0 | FJ24: 0 | FK24: 0 | FL24: 0 | FM24: 2 | FN24: 0 | FO24: 61 | FP24: 52 | FQ24: 9 | FR24: 0 | FS24: 0 | FT24: 0 | FU24: 25 | FV24: 22 | FW24: 3 | FX24: 31 | FY24: 26 | FZ24: 5 | GA24: 12 | GB24: 5 | GC24: 6 | GD24: 0 | GE24: 7 | GF24: 0 | GG24: 1 | GH24: 0 | GI24: 0 | GJ24: 0 | GK24: 1 | GL24: 1 | GM24: 0 | GN24: 0 | GO24: 0 | GP24: 0 | GQ24: 0 | GR24: 0 | GS24: 0 | GT24: 1 | GU24: 0 | GV24: 0 | GW24: 0 | GX24: 4 | GY24: 3 | GZ24: 1 | HA24: 3 | HB24: 1 | HC24: 0 | HD24: 0 | HE24: 0 | HF24: 0 | HG24: 0 | HH24: 0 | HI24: 0 | HJ24: 0 | HK24: 0 | HL24: 0 | HM24: 0 | HN24: 0
A25: 花蓮縣 | B25: Hualien County | C25: 167 | D25: 166 | E25: 1 | F25: 62 | G25: 0 | H25: 2 | I25: 0 | J25: 57 | K25: 0 | L25: 30 | M25: 0 | N25: 0 | O25: 0 | P25: 0 | Q25: 0 | R25: 2 | S25: 0 | T25: 7 | U25: 1 | V25: 5 | W25: 0 | X25: 1 | Y25: 0 | Z25: 85 | AA25: 85 | AB25: 0 | AC25: 8 | AD25: 0 | AE25: 18 | AF25: 0 | AG25: 49 | AH25: 0 | AI25: 9 | AJ25: 0 | AK25: 1 | AL25: 0 | AM25: 85 | AN25: 85 | AO25: 0 | AP25: 30 | AQ25: 0 | AR25: 12 | AS25: 0 | AT25: 11 | AU25: 0 | AV25: 18 | AW25: 0 | AX25: 8 | AY25: 0 | AZ25: 3 | BA25: 0 | BB25: 3 | BC25: 0 | BD25: 0 | BE25: 0 | BF25: 16 | BG25: 16 | BH25: 0 | BI25: 0 | BJ25: 0 | BK25: 0 | BL25: 0 | BM25: 0 | BN25: 0 | BO25: 5 | BP25: 0 | BQ25: 11 | BR25: 0 | BS25: 6 | BT25: 6 | BU25: 0 | BV25: 1 | BW25: 0 | BX25: 0 | BY25: 0 | BZ25: 5 | CA25: 0 | CB25: 66 | CC25: 65 | CD25: 1 | CE25: 7 | CF25: 7 | CG25: 0 | CH25: 49 | CI25: 48 | CJ25: 1 | CK25: 10 | CL25: 0 | CM25: 1 | CN25: 0 | CO25: 5 | CP25: 0 | CQ25: 0 | CR25: 0 | CS25: 0 | CT25: 0 | CU25: 4 | CV25: 0 | CW25: 0 | CX25: 0 | CY25: 0 | CZ25: 0 | DA25: 0 | DB25: 0 | DC25: 6 | DD25: 6 | DE25: 0 | DF25: 0 | DG25: 0 | DH25: 0 | DI25: 6 | DJ25: 6 | DK25: 0 | DL25: 6 | DM25: 6 | DN25: 0 | DO25: 0 | DP25: 0 | DQ25: 0 | DR25: 6 | DS25: 6 | DT25: 0 | DU25: 2 | DV25: 2 | DW25: 0 | DX25: 0 | DY25: 0 | DZ25: 0 | EA25: 4 | EB25: 4 | EC25: 0 | ED25: 10 | EE25: 10 | EF25: 0 | EG25: 2 | EH25: 2 | EI25: 0 | EJ25: 8 | EK25: 8 | EL25: 0 | EM25: 10 | EN25: 10 | EO25: 0 | EP25: 2 | EQ25: 2 | ER25: 0 | ES25: 8 | ET25: 8 | EU25: 0 | EV25: 10 | EW25: 10 | EX25: 0 | EY25: 1 | EZ25: 0 | FA25: 4 | FB25: 0 | FC25: 0 | FD25: 0 | FE25: 0 | FF25: 0 | FG25: 5 | FH25: 0 | FI25: 2 | FJ25: 0 | FK25: 0 | FL25: 0 | FM25: 3 | FN25: 0 | FO25: 21 | FP25: 21 | FQ25: 0 | FR25: 1 | FS25: 1 | FT25: 0 | FU25: 6 | FV25: 6 | FW25: 0 | FX25: 12 | FY25: 12 | FZ25: 0 | GA25: 3 | GB25: 0 | GC25: 2 | GD25: 0 | GE25: 5 | GF25: 0 | GG25: 2 | GH25: 0 | GI25: 0 | GJ25: 0 | GK25: 0 | GL25: 0 | GM25: 0 | GN25: 0 | GO25: 0 | GP25: 0 | GQ25: 0 | GR25: 0 | GS25: 0 | GT25: 0 | GU25: 0 | GV25: 0 | GW25: 0 | GX25: 2 | GY25: 2 | GZ25: 0 | HA25: 1 | HB25: 0 | HC25: 0 | HD25: 0 | HE25: 0 | HF25: 0 | HG25: 0 | HH25: 0 | HI25: 0 | HJ25: 0 | HK25: 0 | HL25: 0 | HM25: 1 | HN25: 0
A26: 澎湖縣 | B26: Penghu County | C26: 23 | D26: 23 | E26: 0 | F26: 10 | G26: 0 | H26: 0 | I26: 0 | J26: 7 | K26: 0 | L26: 6 | M26: 0 | N26: 0 | O26: 0 | P26: 0 | Q26: 0 | R26: 0 | S26: 0 | T26: 0 | U26: 0 | V26: 0 | W26: 0 | X26: 0 | Y26: 0 | Z26: 16 | AA26: 16 | AB26: 0 | AC26: 0 | AD26: 0 | AE26: 12 | AF26: 0 | AG26: 1 | AH26: 0 | AI26: 3 | AJ26: 0 | AK26: 0 | AL26: 0 | AM26: 16 | AN26: 16 | AO26: 0 | AP26: 4 | AQ26: 0 | AR26: 4 | AS26: 0 | AT26: 4 | AU26: 0 | AV26: 3 | AW26: 0 | AX26: 0 | AY26: 0 | AZ26: 1 | BA26: 0 | BB26: 0 | BC26: 0 | BD26: 0 | BE26: 0 | BF26: 1 | BG26: 1 | BH26: 0 | BI26: 0 | BJ26: 0 | BK26: 0 | BL26: 0 | BM26: 0 | BN26: 0 | BO26: 1 | BP26: 0 | BQ26: 0 | BR26: 0 | BS26: 0 | BT26: 0 | BU26: 0 | BV26: 0 | BW26: 0 | BX26: 0 | BY26: 0 | BZ26: 0 | CA26: 0 | CB26: 6 | CC26: 6 | CD26: 0 | CE26: 0 | CF26: 0 | CG26: 0 | CH26: 5 | CI26: 5 | CJ26: 0 | CK26: 1 | CL26: 0 | CM26: 0 | CN26: 0 | CO26: 1 | CP26: 0 | CQ26: 0 | CR26: 0 | CS26: 0 | CT26: 0 | CU26: 0 | CV26: 0 | CW26: 0 | CX26: 0 | CY26: 0 | CZ26: 0 | DA26: 0 | DB26: 0 | DC26: 1 | DD26: 1 | DE26: 0 | DF26: 0 | DG26: 0 | DH26: 0 | DI26: 1 | DJ26: 1 | DK26: 0 | DL26: 1 | DM26: 1 | DN26: 0 | DO26: 0 | DP26: 0 | DQ26: 0 | DR26: 1 | DS26: 1 | DT26: 0 | DU26: 0 | DV26: 0 | DW26: 0 | DX26: 0 | DY26: 0 | DZ26: 0 | EA26: 1 | EB26: 1 | EC26: 0 | ED26: 0 | EE26: 0 | EF26: 0 | EG26: 0 | EH26: 0 | EI26: 0 | EJ26: 0 | EK26: 0 | EL26: 0 | EM26: 0 | EN26: 0 | EO26: 0 | EP26: 0 | EQ26: 0 | ER26: 0 | ES26: 0 | ET26: 0 | EU26: 0 | EV26: 0 | EW26: 0 | EX26: 0 | EY26: 0 | EZ26: 0 | FA26: 0 | FB26: 0 | FC26: 0 | FD26: 0 | FE26: 0 | FF26: 0 | FG26: 0 | FH26: 0 | FI26: 0 | FJ26: 0 | FK26: 0 | FL26: 0 | FM26: 0 | FN26: 0 | FO26: 3 | FP26: 3 | FQ26: 0 | FR26: 0 | FS26: 0 | FT26: 0 | FU26: 2 | FV26: 2 | FW26: 0 | FX26: 1 | FY26: 1 | FZ26: 0 | GA26: 0 | GB26: 0 | GC26: 1 | GD26: 0 | GE26: 0 | GF26: 0 | GG26: 0 | GH26: 0 | GI26: 0 | GJ26: 0 | GK26: 0 | GL26: 0 | GM26: 0 | GN26: 0 | GO26: 0 | GP26: 0 | GQ26: 0 | GR26: 0 | GS26: 0 | GT26: 0 | GU26: 0 | GV26: 0 | GW26: 0 | GX26: 0 | GY26: 0 | GZ26: 0 | HA26: 0 | HB26: 0 | HC26: 0 | HD26: 0 | HE26: 0 | HF26: 0 | HG26: 0 | HH26: 0 | HI26: 0 | HJ26: 0 | HK26: 0 | HL26: 0 | HM26: 0 | HN26: 0
... A31: 連江縣 | B31: Lienchiang County | C31: 1 | D31: 1 | E31: 0 | F31: 0 | G31: 0 | H31: 0 | I31: 0 | J31: 0 | K31: 0 | L31: 1 | M31: 0 | N31: 0 | O31: 0 | P31: 0 | Q31: 0 | R31: 0 | S31: 0 | T31: 0 | U31: 0 | V31: 0 | W31: 0 | X31: 0 | Y31: 0 | Z31: 1 | AA31: 1 | AB31: 0 | AC31: 0 | AD31: 0 | AE31: 0 | AF31: 0 | AG31: 1 | AH31: 0 | AI31: 0 | AJ31: 0 | AK31: 0 | AL31: 0 | AM31: 1 | AN31: 1 | AO31: 0 | AP31: 0 | AQ31: 0 | AR31: 0 | AS31: 0 | AT31: 0 | AU31: 0 | AV31: 1 | AW31: 0 | AX31: 0 | AY31: 0 | AZ31: 0 | BA31: 0 | BB31: 0 | BC31: 0 | BD31: 0 | BE31: 0 | BF31: 0 | BG31: 0 | BH31: 0 | BI31: 0 | BJ31: 0 | BK31: 0 | BL31: 0 | BM31: 0 | BN31: 0 | BO31: 0 | BP31: 0 | BQ31: 0 | BR31: 0 | BS31: 0 | BT31: 0 | BU31: 0 | BV31: 0 | BW31: 0 | BX31: 0 | BY31: 0 | BZ31: 0 | CA31: 0 | CB31: 0 | CC31: 0 | CD31: 0 | CE31: 0 | CF31: 0 | CG31: 0 | CH31: 0 | CI31: 0 | CJ31: 0 | CK31: 0 | CL31: 0 | CM31: 0 | CN31: 0 | CO31: 0 | CP31: 0 | CQ31: 0 | CR31: 0 | CS31: 0 | CT31: 0 | CU31: 0 | CV31: 0 | CW31: 0 | CX31: 0 | CY31: 0 | CZ31: 0 | DA31: 0 | DB31: 0 | DC31: 0 | DD31: 0 | DE31: 0 | DF31: 0 | DG31: 0 | DH31: 0 | DI31: 0 | DJ31: 0 | DK31: 0 | DL31: 0 | DM31: 0 | DN31: 0 | DO31: 0 | DP31: 0 | DQ31: 0 | DR31: 0 | DS31: 0 | DT31: 0 | DU31: 0 | DV31: 0 | DW31: 0 | DX31: 0 | DY31: 0 | DZ31: 0 | EA31: 0 | EB31: 0 | EC31: 0 | ED31: 0 | EE31: 0 | EF31: 0 | EG31: 0 | EH31: 0 | EI31: 0 | EJ31: 0 | EK31: 0 | EL31: 0 | EM31: 0 | EN31: 0 | EO31: 0 | EP31: 0 | EQ31: 0 | ER31: 0 | ES31: 0 | ET31: 0 | EU31: 0 | EV31: 0 | EW31: 0 | EX31: 0 | EY31: 0 | EZ31: 0 | FA31: 0 | FB31: 0 | FC31: 0 | FD31: 0 | FE31: 0 | FF31: 0 | FG31: 0 | FH31: 0 | FI31: 0 | FJ31: 0 | FK31: 0 | FL31: 0 | FM31: 0 | FN31: 0 | FO31: 0 | FP31: 0 | FQ31: 0 | FR31: 0 | FS31: 0 | FT31: 0 | FU31: 0 | FV31: 0 | FW31: 0 | FX31: 0 | FY31: 0 | FZ31: 0 | GA31: 0 | GB31: 0 | GC31: 0 | GD31: 0 | GE31: 0 | GF31: 0 | GG31: 0 | GH31: 0 | GI31: 0 | GJ31: 0 | GK31: 0 | GL31: 0 | GM31: 0 | GN31: 0 | GO31: 0 | GP31: 0 | GQ31: 0 | GR31: 0 | GS31: 0 | GT31: 0 | GU31: 0 | GV31: 0 | GW31: 0 | GX31: 0 | GY31: 0 | GZ31: 0 | HA31: 0 | HB31: 0 | HC31: 0 | HD31: 0 | HE31: 0 | HF31: 0 | HG31: 0 | HH31: 0 | HI31: 0 | HJ31: 0 | HK31: 0 | HL31: 0 | HM31: 0 | HN31: 0
A32: 資料來源：直轄市、縣﹝市﹞政府。
A33: Source : County and City Government.

Sheet 110
A1: 性侵害加害人處遇
A2: 中華民國110年 2021
A4: 區域別 Locality | C4: (1)本年截至本期加害人個案人數按處分類別分(人) (不含依少年事件處理法裁定保護處分確定而法院認有必要者) | Z4: (2)本期加害人個案尚接受身心治療或輔導教育者按再犯等級分(人) (不含依少年事件處理法裁定保護處分確定而法院認有必要者) | AK4: (3)本期加害人個案尚接受身心治療或輔導教育者按處遇期程分(人) (不含依少年事件處理法裁定保護處分確定而法院認有必要者) | BD4: (4)本期加害人個案暫停處遇人數按暫停原因分(人)(不含依少年事件處理法裁定保護處分確定而法院認有必要者) | BQ4: (5)本年截至本期累計處遇期間再犯人數按再犯案件分(人)(不含依少年事件處理法裁定保護處分確定而法院認有必要者) | BZ4: (6)本年截至本期累計加害人個案已結案人數按結案狀態分(人)(不含依少年事件處理法裁定保護處分確定而法院認有必要者) | DA4: (7)本年截至本期累計加害人個案裁罰移送狀況(人次)(不含依少年事件處理法裁定保護處分確定而法院認有必要者) | DQ4: (8)本期加害人個案裁罰移送狀況(人數)(不含依少年事件處理法裁定保護處分確定而法院認有必要者) | EM4: (9)依少年事件處理法裁定保護處分確定而法院裁定實施身心治療或輔導教育處遇者按處遇狀態分(人) | FL4: (9)依少年事件處理法裁定保護處分確定而法院裁定實施身心治療或輔導教育處遇者按處遇狀態分(人)
C5: 合計Total | F5: 有期徒刑或保安處分執行完畢 | H5: 有期徒刑經易服社會勞動 | J5: 假釋 | L5: 緩刑 | N5: 免刑 | P5: 赦免 | R5: 經法院、軍事法院依第22條之1第3項裁定停止強制治療 | T5: 經緩起訴處分確定者 | V5: 犯性騷擾防治法第25條判決有罪確定者 | X5: 犯兒少性剝削防制條例第31條判決有罪確定者 | Z5: 合計Total | AC5: 低再犯 | AE5: 中低再犯 | AG5: 中高再犯 | AI5: 高再犯 | AK5: 合計Total | AN5: 未滿3個月 | AP5: 3個月以上未滿6個月 | AR5: 6個月以上未滿9個月 | AT5: 9個月以上未滿1年 | AV5: 1年以上未滿1年6個月 | AX5: 1年6個月以上未滿2年 | AZ5: 2年以上未滿3年 | BB5: 3年以上至4年 | BD5: 合計 | BG5: 傷殘住院 | BI5: 出國 | BK5: 服兵役 | BM5: 因他案 入監服刑 | BO5: 其他 | BQ5: 合計Total | BT5: 再犯性侵害案件 | BV5: 再犯其他案件 且合併性侵害 | BX5: 再犯其他非性侵害案件 | BZ5: 合計Total | CC5: 本年截至本期累計無須處遇個案 | CF5: 本年截至本期累計完成處遇人數 | CI5: 本年截至本期累計未完成處遇已結案人數按結案原因分(人) | CU5: 本年截至本期累計轉入強制治療人數(人) | DA5: 累計應裁罰移送人次 | DD5: 累計處以行政罰鍰人次 | DG5: 累計聲請移送人次 | DJ5: 累計移送結果確定者按結果分 | DQ5: 本期應裁罰移送個案人數 | DT5: 本期處以行政罰鍰人數 | DW5: 本期聲請移送者按階段分(人數) | EF5: 累計移送結果確定者按結果分(人數) | EM5: 本年截至本期累計少年性侵害行為人個案數 | EP5: 本年截至本期累計無須處遇人數 | ES5: 本年截至本期累計完成處遇人數 | EV5: 本期尚在接受處遇人數 | EY5: 本期暫停處遇人數按暫停原因分 | FL5: 本年截至本期累計未完成處遇已結案人數按結案原因分
C6: 計Total | D6: 男 Male | E6: 女Female | F6: 男 Male | G6: 女Female | H6: 男 Male | I6: 女Female | J6: 男 Male | K6: 女Female | L6: 男 Male | M6: 女Female | N6: 男 Male | O6: 女Female | P6: 男 Male | Q6: 女Female | R6: 男 Male | S6: 女Female | T6: 男 Male | U6: 女Female | V6: 男 Male | W6: 女Female | X6: 男 Male | Y6: 女Female | Z6: 計Total | AA6: 男 Male | AB6: 女Female | AC6: 男 Male | AD6: 女Female | AE6: 男 Male | AF6: 女Female | AG6: 男 Male | AH6: 女Female | AI6: 男 Male | AJ6: 女Female | AK6: 計Total | AL6: 男 Male | AM6: 女Female | AN6: 男 Male | AO6: 女Female | AP6: 男 Male | AQ6: 女Female | AR6: 男 Male | AS6: 女Female | AT6: 男 Male | AU6: 女Female | AV6: 男 Male | AW6: 女Female | AX6: 男 Male | AY6: 女Female | AZ6: 男 Male | BA6: 女Female | BB6: 男 Male | BC6: 女Female | BD6: 計Total | BE6: 男 Male | BF6: 女Female | BG6: 男 Male | BH6: 女Female | BI6: 男 Male | BJ6: 女Female | BK6: 男 Male | BL6: 女Female | BM6: 男 Male | BN6: 女Female | BO6: 男 Male | BP6: 女Female | BQ6: 計Total | BR6: 男 Male | BS6: 女Female | BT6: 男 Male | BU6: 女Female | BV6: 男 Male | BW6: 女Female | BX6: 男 Male | BY6: 女Female | BZ6: 計Total | CA6: 男 Male | CB6: 女Female | CC6: 計Total | CD6: 男 Male | CE6: 女Female | CF6: 計Total | CG6: 男 Male | CH6: 女Female | CI6: 計Total | CK6: 因再犯性侵害罪入獄 | CM6: 戶籍移轉外縣市 | CO6: 死亡 | CQ6: 長期入住機構 | CS6: 其他 | CU6: 計Total | CW6: 依性侵害犯罪防治法第22條規定 | CY6: 依性侵害犯罪防治法第22條之1規定 | DA6: 計 Total | DB6: 男 Male | DC6: 女Female | DD6: 計 Total | DE6: 男 Male | DF6: 女Female | DG6: 計 Total | DH6: 男 Male | DI6: 女Female | DJ6: 合計Total | DM6: 駁回或不起訴者 | DO6: 其他判決結果 | DQ6: 計 Total | DR6: 男 Male | DS6: 女Female | DT6: 計 Total | DU6: 男 Male | DV6: 女Female | DW6: 合計Total | DZ6: 移送家防中心/警察局/其他機關 | EB6: 移送地檢署 | ED6: 移送法院 | EF6: 合計Total | EI6: 駁回或不起訴者 | EK6: 其他判決結果 | EM6: 計 Total | EN6: 男 Male | EO6: 女Female | EP6: 計 Total | EQ6: 男 Male | ER6: 女Female | ES6: 計 Total | ET6: 男 Male | EU6: 女Female | EV6: 計 Total | EW6: 男 Male | EX6: 女Female | EY6: 合計Total | FB6: 傷殘住院 | FD6: 出國 | FF6: 服兵役 | FH6: 因他案入感化教育處所或監獄 | FJ6: 其他 | FL6: 合計Total | FO6: 保護處分期滿且未依規定接受處遇，檢還少年法院(庭) | FQ6: 保護處分期限未滿且未依規定接受處遇，檢還少年法院(庭) | FS6: 再犯性侵入感化教育處所或監獄 | FU6: 戶籍移轉外縣市 | FW6: 死亡 | FY6: 長期入住機構 | GA6: 其他
CI7: 男 Male | CJ7: 女Female | CK7: 男 Male | CL7: 女Female | CM7: 男 Male | CN7: 女Female | CO7: 男 Male | CP7: 女Female | CQ7: 男 Male | CR7: 女Female | CS7: 男 Male | CT7: 女Female | CU7: 男 Male | CV7: 女Female | CW7: 男 Male | CX7: 女Female | CY7: 男 Male | CZ7: 女Female | DJ7: 計 Total | DK7: 男 Male | DL7: 女Female | DM7: 男 Male | DN7: 女Female | DO7: 男 Male | DP7: 女Female | DW7: 計 Total | DX7: 男 Male | DY7: 女Female | DZ7: 男 Male | EA7: 女Female | EB7: 男 Male | EC7: 女Female | ED7: 男 Male | EE7: 女Female | EF7: 計 Total | EG7: 男 Male | EH7: 女Female | EI7: 男 Male | EJ7: 女Female | EK7: 男 Male | EL7: 女Female | EY7: 計 Total | EZ7: 男 Male | FA7: 女Female | FB7: 男 Male | FC7: 女Female | FD7: 男 Male | FE7: 女Female | FF7: 男 Male | FG7: 女Female | FH7: 男 Male | FI7: 女Female | FJ7: 男 Male | FK7: 女Female | FL7: 計 Total | FM7: 男 Male | FN7: 女Female | FO7: 男 Male | FP7: 女Female | FQ7: 男 Male | FR7: 女Female | FS7: 男 Male | FT7: 女Female | FU7: 男 Male | FV7: 女Female | FW7: 男 Male | FX7: 女Female | FY7: 男 Male | FZ7: 女Female | GA7: 男 Male | GB7: 女Female
A8: 總 計 | B8: Total | C8: 6540 | D8: 6500 | E8: 40 | F8: 2054 | G8: 9 | H8: 122 | I8: 0 | J8: 1928 | K8: 20 | L8: 1738 | M8: 4 | N8: 0 | O8: 0 | P8: 0 | Q8: 0 | R8: 33 | S8: 0 | T8: 322 | U8: 6 | V8: 286 | W8: 1 | X8: 17 | Y8: 0 | Z8: 4604 | AA8: 4577 | AB8: 27 | AC8: 1614 | AD8: 15 | AE8: 2394 | AF8: 10 | AG8: 510 | AH8: 2 | AI8: 59 | AJ8: 0 | AK8: 4604 | AL8: 4577 | AM8: 27 | AN8: 765 | AO8: 6 | AP8: 750 | AQ8: 9 | AR8: 475 | AS8: 3 | AT8: 427 | AU8: 0 | AV8: 902 | AW8: 4 | AX8: 382 | AY8: 4 | AZ8: 461 | BA8: 1 | BB8: 415 | BC8: 0 | BD8: 369 | BE8: 368 | BF8: 1 | BG8: 32 | BH8: 0 | BI8: 7 | BJ8: 0 | BK8: 13 | BL8: 0 | BM8: 236 | BN8: 0 | BO8: 80 | BP8: 1 | BQ8: 419 | BR8: 419 | BS8: 0 | BT8: 63 | BU8: 0 | BV8: 4 | BW8: 0 | BX8: 352 | BY8: 0 | BZ8: 1567 | CA8: 1555 | CB8: 12 | CC8: 25 | CD8: 25 | CE8: 0 | CF8: 1258 | CG8: 1250 | CH8: 8 | CI8: 272 | CJ8: 4 | CK8: 41 | CL8: 0 | CM8: 121 | CN8: 4 | CO8: 34 | CP8: 0 | CQ8: 5 | CR8: 0 | CS8: 71 | CT8: 0 | CU8: 8 | CV8: 0 | CW8: 3 | CX8: 0 | CY8: 6 | CZ8: 0 | DA8: 711 | DB8: 707 | DC8: 4 | DD8: 486 | DE8: 484 | DF8: 2 | DG8: 494 | DH8: 490 | DI8: 4 | DJ8: 107 | DK8: 107 | DL8: 0 | DM8: 49 | DN8: 0 | DO8: 58 | DP8: 0 | DQ8: 574 | DR8: 571 | DS8: 3 | DT8: 372 | DU8: 371 | DV8: 1 | DW8: 402 | DX8: 399 | DY8: 3 | DZ8: 208 | EA8: 3 | EB8: 175 | EC8: 0 | ED8: 16 | EE8: 0 | EF8: 88 | EG8: 88 | EH8: 0 | EI8: 43 | EJ8: 0 | EK8: 45 | EL8: 0 | EM8: 1228 | EN8: 1173 | EO8: 55 | EP8: 9 | EQ8: 8 | ER8: 1 | ES8: 265 | ET8: 248 | EU8: 17 | EV8: 842 | EW8: 806 | EX8: 36 | EY8: 28 | EZ8: 28 | FA8: 0 | FB8: 0 | FC8: 0 | FD8: 0 | FE8: 0 | FF8: 2 | FG8: 0 | FH8: 26 | FI8: 0 | FJ8: 0 | FK8: 0 | FL8: 84 | FM8: 83 | FN8: 1 | FO8: 38 | FP8: 1 | FQ8: 8 | FR8: 0 | FS8: 8 | FT8: 0 | FU8: 13 | FV8: 0 | FW8: 0 | FX8: 0 | FY8: 0 | FZ8: 0 | GA8: 16 | GB8: 0
A9: 新北市 | B9: New Taipei City | C9: 1096 | D9: 1087 | E9: 9 | F9: 323 | G9: 1 | H9: 17 | I9: 0 | J9: 352 | K9: 6 | L9: 287 | M9: 0 | N9: 0 | O9: 0 | P9: 0 | Q9: 0 | R9: 0 | S9: 0 | T9: 36 | U9: 1 | V9: 69 | W9: 1 | X9: 3 | Y9: 0 | Z9: 878 | AA9: 871 | AB9: 7 | AC9: 289 | AD9: 3 | AE9: 510 | AF9: 3 | AG9: 61 | AH9: 1 | AI9: 11 | AJ9: 0 | AK9: 878 | AL9: 871 | AM9: 7 | AN9: 212 | AO9: 3 | AP9: 222 | AQ9: 3 | AR9: 30 | AS9: 0 | AT9: 120 | AU9: 0 | AV9: 141 | AW9: 0 | AX9: 85 | AY9: 1 | AZ9: 38 | BA9: 0 | BB9: 23 | BC9: 0 | BD9: 25 | BE9: 25 | BF9: 0 | BG9: 1 | BH9: 0 | BI9: 0 | BJ9: 0 | BK9: 0 | BL9: 0 | BM9: 24 | BN9: 0 | BO9: 0 | BP9: 0 | BQ9: 30 | BR9: 30 | BS9: 0 | BT9: 6 | BU9: 0 | BV9: 0 | BW9: 0 | BX9: 24 | BY9: 0 | BZ9: 193 | CA9: 191 | CB9: 2 | CC9: 0 | CD9: 0 | CE9: 0 | CF9: 139 | CG9: 138 | CH9: 1 | CI9: 50 | CJ9: 1 | CK9: 6 | CL9: 0 | CM9: 20 | CN9: 1 | CO9: 6 | CP9: 0 | CQ9: 2 | CR9: 0 | CS9: 16 | CT9: 0 | CU9: 3 | CV9: 0 | CW9: 2 | CX9: 0 | CY9: 1 | CZ9: 0 | DA9: 102 | DB9: 102 | DC9: 0 | DD9: 65 | DE9: 65 | DF9: 0 | DG9: 37 | DH9: 37 | DI9: 0 | DJ9: 10 | DK9: 10 | DL9: 0 | DM9: 5 | DN9: 0 | DO9: 5 | DP9: 0 | DQ9: 102 | DR9: 102 | DS9: 0 | DT9: 65 | DU9: 65 | DV9: 0 | DW9: 37 | DX9: 37 | DY9: 0 | DZ9: 0 | EA9: 0 | EB9: 37 | EC9: 0 | ED9: 0 | EE9: 0 | EF9: 10 | EG9: 10 | EH9: 0 | EI9: 5 | EJ9: 0 | EK9: 5 | EL9: 0 | EM9: 205 | EN9: 203 | EO9: 2 | EP9: 0 | EQ9: 0 | ER9: 0 | ES9: 9 | ET9: 9 | EU9: 0 | EV9: 171 | EW9: 170 | EX9: 1 | EY9: 1 | EZ9: 1 | FA9: 0 | FB9: 0 | FC9: 0 | FD9: 0 | FE9: 0 | FF9: 0 | FG9: 0 | FH9: 1 | FI9: 0 | FJ9: 0 | FK9: 0 | FL9: 24 | FM9: 23 | FN9: 1 | FO9: 18 | FP9: 1 | FQ9: 0 | FR9: 0 | FS9: 2 | FT9: 0 | FU9: 2 | FV9: 0 | FW9: 0 | FX9: 0 | FY9: 0 | FZ9: 0 | GA9: 1 | GB9: 0
A10: 臺北市 | B10: Taipei City | C10: 482 | D10: 482 | E10: 0 | F10: 132 | G10: 0 | H10: 9 | I10: 0 | J10: 126 | K10: 0 | L10: 138 | M10: 0 | N10: 0 | O10: 0 | P10: 0 | Q10: 0 | R10: 0 | S10: 0 | T10: 14 | U10: 0 | V10: 60 | W10: 0 | X10: 3 | Y10: 0 | Z10: 341 | AA10: 341 | AB10: 0 | AC10: 101 | AD10: 0 | AE10: 161 | AF10: 0 | AG10: 64 | AH10: 0 | AI10: 15 | AJ10: 0 | AK10: 341 | AL10: 341 | AM10: 0 | AN10: 35 | AO10: 0 | AP10: 21 | AQ10: 0 | AR10: 34 | AS10: 0 | AT10: 33 | AU10: 0 | AV10: 51 | AW10: 0 | AX10: 46 | AY10: 0 | AZ10: 63 | BA10: 0 | BB10: 58 | BC10: 0 | BD10: 28 | BE10: 28 | BF10: 0 | BG10: 1 | BH10: 0 | BI10: 0 | BJ10: 0 | BK10: 0 | BL10: 0 | BM10: 26 | BN10: 0 | BO10: 1 | BP10: 0 | BQ10: 9 | BR10: 9 | BS10: 0 | BT10: 0 | BU10: 0 | BV10: 0 | BW10: 0 | BX10: 9 | BY10: 0 | BZ10: 113 | CA10: 113 | CB10: 0 | CC10: 0 | CD10: 0 | CE10: 0 | CF10: 102 | CG10: 102 | CH10: 0 | CI10: 10 | CJ10: 0 | CK10: 0 | CL10: 0 | CM10: 9 | CN10: 0 | CO10: 0 | CP10: 0 | CQ10: 0 | CR10: 0 | CS10: 1 | CT10: 0 | CU10: 1 | CV10: 0 | CW10: 0 | CX10: 0 | CY10: 1 | CZ10: 0 | DA10: 73 | DB10: 73 | DC10: 0 | DD10: 45 | DE10: 45 | DF10: 0 | DG10: 28 | DH10: 28 | DI10: 0 | DJ10: 4 | DK10: 4 | DL10: 0 | DM10: 2 | DN10: 0 | DO10: 2 | DP10: 0 | DQ10: 39 | DR10: 39 | DS10: 0 | DT10: 27 | DU10: 27 | DV10: 0 | DW10: 12 | DX10: 12 | DY10: 0 | DZ10: 3 | EA10: 0 | EB10: 9 | EC10: 0 | ED10: 0 | EE10: 0 | EF10: 4 | EG10: 4 | EH10: 0 | EI10: 2 | EJ10: 0 | EK10: 2 | EL10: 0 | EM10: 71 | EN10: 70 | EO10: 1 | EP10: 0 | EQ10: 0 | ER10: 0 | ES10: 16 | ET10: 16 | EU10: 0 | EV10: 40 | EW10: 39 | EX10: 1 | EY10: 4 | EZ10: 4 | FA10: 0 | FB10: 0 | FC10: 0 | FD10: 0 | FE10: 0 | FF10: 0 | FG10: 0 | FH10: 4 | FI10: 0 | FJ10: 0 | FK10: 0 | FL10: 11 | FM10: 11 | FN10: 0 | FO10: 8 | FP10: 0 | FQ10: 2 | FR10: 0 | FS10: 0 | FT10: 0 | FU10: 1 | FV10: 0 | FW10: 0 | FX10: 0 | FY10: 0 | FZ10: 0 | GA10: 0 | GB10: 0
A11: 桃園市 | B11: Taoyuan City | C11: 1045 | D11: 1039 | E11: 6 | F11: 361 | G11: 1 | H11: 27 | I11: 0 | J11: 292 | K11: 2 | L11: 282 | M11: 2 | N11: 0 | O11: 0 | P11: 0 | Q11: 0 | R11: 4 | S11: 0 | T11: 40 | U11: 1 | V11: 32 | W11: 0 | X11: 1 | Y11: 0 | Z11: 836 | AA11: 832 | AB11: 4 | AC11: 385 | AD11: 4 | AE11: 379 | AF11: 0 | AG11: 63 | AH11: 0 | AI11: 5 | AJ11: 0 | AK11: 836 | AL11: 832 | AM11: 4 | AN11: 55 | AO11: 0 | AP11: 38 | AQ11: 2 | AR11: 52 | AS11: 2 | AT11: 38 | AU11: 0 | AV11: 118 | AW11: 0 | AX11: 105 | AY11: 0 | AZ11: 145 | BA11: 0 | BB11: 281 | BC11: 0 | BD11: 71 | BE11: 71 | BF11: 0 | BG11: 7 | BH11: 0 | BI11: 2 | BJ11: 0 | BK11: 3 | BL11: 0 | BM11: 19 | BN11: 0 | BO11: 40 | BP11: 0 | BQ11: 101 | BR11: 101 | BS11: 0 | BT11: 1 | BU11: 0 | BV11: 0 | BW11: 0 | BX11: 100 | BY11: 0 | BZ11: 138 | CA11: 136 | CB11: 2 | CC11: 0 | CD11: 0 | CE11: 0 | CF11: 91 | CG11: 90 | CH11: 1 | CI11: 46 | CJ11: 1 | CK11: 2 | CL11: 0 | CM11: 20 | CN11: 1 | CO11: 6 | CP11: 0 | CQ11: 0 | CR11: 0 | CS11: 18 | CT11: 0 | CU11: 0 | CV11: 0 | CW11: 0 | CX11: 0 | CY11: 0 | CZ11: 0 | DA11: 34 | DB11: 34 | DC11: 0 | DD11: 30 | DE11: 30 | DF11: 0 | DG11: 38 | DH11: 38 | DI11: 0 | DJ11: 25 | DK11: 25 | DL11: 0 | DM11: 6 | DN11: 0 | DO11: 19 | DP11: 0 | DQ11: 34 | DR11: 34 | DS11: 0 | DT11: 30 | DU11: 30 | DV11: 0 | DW11: 35 | DX11: 35 | DY11: 0 | DZ11: 15 | EA11: 0 | EB11: 20 | EC11: 0 | ED11: 0 | EE11: 0 | EF11: 25 | EG11: 25 | EH11: 0 | EI11: 6 | EJ11: 0 | EK11: 19 | EL11: 0 | EM11: 155 | EN11: 153 | EO11: 2 | EP11: 0 | EQ11: 0 | ER11: 0 | ES11: 14 | ET11: 13 | EU11: 1 | EV11: 126 | EW11: 125 | EX11: 1 | EY11: 6 | EZ11: 6 | FA11: 0 | FB11: 0 | FC11: 0 | FD11: 0 | FE11: 0 | FF11: 0 | FG11: 0 | FH11: 6 | FI11: 0 | FJ11: 0 | FK11: 0 | FL11: 9 | FM11: 9 | FN11: 0 | FO11: 1 | FP11: 0 | FQ11: 0 | FR11: 0 | FS11: 1 | FT11: 0 | FU11: 1 | FV11: 0 | FW11: 0 | FX11: 0 | FY11: 0 | FZ11: 0 | GA11: 6 | GB11: 0
A12: 臺中市 | B12: Taichung City | C12: 888 | D12: 884 | E12: 4 | F12: 225 | G12: 2 | H12: 16 | I12: 0 | J12: 276 | K12: 2 | L12: 247 | M12: 0 | N12: 0 | O12: 0 | P12: 0 | Q12: 0 | R12: 16 | S12: 0 | T12: 55 | U12: 0 | V12: 46 | W12: 0 | X12: 3 | Y12: 0 | Z12: 606 | AA12: 604 | AB12: 2 | AC12: 141 | AD12: 1 | AE12: 378 | AF12: 1 | AG12: 79 | AH12: 0 | AI12: 6 | AJ12: 0 | AK12: 606 | AL12: 604 | AM12: 2 | AN12: 55 | AO12: 0 | AP12: 92 | AQ12: 0 | AR12: 10 | AS12: 0 | AT12: 7 | AU12: 0 | AV12: 305 | AW12: 2 | AX12: 9 | AY12: 0 | AZ12: 101 | BA12: 0 | BB12: 25 | BC12: 0 | BD12: 39 | BE12: 39 | BF12: 0 | BG12: 8 | BH12: 0 | BI12: 1 | BJ12: 0 | BK12: 0 | BL12: 0 | BM12: 22 | BN12: 0 | BO12: 8 | BP12: 0 | BQ12: 10 | BR12: 10 | BS12: 0 | BT12: 8 | BU12: 0 | BV12: 0 | BW12: 0 | BX12: 2 | BY12: 0 | BZ12: 243 | CA12: 241 | CB12: 2 | CC12: 13 | CD12: 13 | CE12: 0 | CF12: 194 | CG12: 193 | CH12: 1 | CI12: 34 | CJ12: 1 | CK12: 8 | CL12: 0 | CM12: 15 | CN12: 1 | CO12: 7 | CP12: 0 | CQ12: 0 | CR12: 0 | CS12: 4 | CT12: 0 | CU12: 1 | CV12: 0 | CW12: 0 | CX12: 0 | CY12: 1 | CZ12: 0 | DA12: 64 | DB12: 64 | DC12: 0 | DD12: 64 | DE12: 64 | DF12: 0 | DG12: 41 | DH12: 41 | DI12: 0 | DJ12: 14 | DK12: 14 | DL12: 0 | DM12: 3 | DN12: 0 | DO12: 11 | DP12: 0 | DQ12: 35 | DR12: 35 | DS12: 0 | DT12: 30 | DU12: 30 | DV12: 0 | DW12: 23 | DX12: 23 | DY12: 0 | DZ12: 0 | EA12: 0 | EB12: 23 | EC12: 0 | ED12: 0 | EE12: 0 | EF12: 0 | EG12: 0 | EH12: 0 | EI12: 0 | EJ12: 0 | EK12: 0 | EL12: 0 | EM12: 97 | EN12: 97 | EO12: 0 | EP12: 6 | EQ12: 6 | ER12: 0 | ES12: 18 | ET12: 18 | EU12: 0 | EV12: 63 | EW12: 63 | EX12: 0 | EY12: 3 | EZ12: 3 | FA12: 0 | FB12: 0 | FC12: 0 | FD12: 0 | FE12: 0 | FF12: 0 | FG12: 0 | FH12: 3 | FI12: 0 | FJ12: 0 | FK12: 0 | FL12: 7 | FM12: 7 | FN12: 0 | FO12: 2 | FP12: 0 | FQ12: 4 | FR12: 0 | FS12: 1 | FT12: 0 | FU12: 0 | FV12: 0 | FW12: 0 | FX12: 0 | FY12: 0 | FZ12: 0 | GA12: 0 | GB12: 0
A13: 臺南市 | B13: Tainan City | C13: 326 | D13: 325 | E13: 1 | F13: 110 | G13: 0 | H13: 4 | I13: 0 | J13: 100 | K13: 1 | L13: 81 | M13: 0 | N13: 0 | O13: 0 | P13: 0 | Q13: 0 | R13: 1 | S13: 0 | T13: 19 | U13: 0 | V13: 10 | W13: 0 | X13: 0 | Y13: 0 | Z13: 225 | AA13: 224 | AB13: 1 | AC13: 177 | AD13: 1 | AE13: 38 | AF13: 0 | AG13: 8 | AH13: 0 | AI13: 1 | AJ13: 0 | AK13: 225 | AL13: 224 | AM13: 1 | AN13: 41 | AO13: 0 | AP13: 48 | AQ13: 0 | AR13: 36 | AS13: 0 | AT13: 24 | AU13: 0 | AV13: 31 | AW13: 1 | AX13: 22 | AY13: 0 | AZ13: 17 | BA13: 0 | BB13: 5 | BC13: 0 | BD13: 9 | BE13: 9 | BF13: 0 | BG13: 0 | BH13: 0 | BI13: 0 | BJ13: 0 | BK13: 0 | BL13: 0 | BM13: 6 | BN13: 0 | BO13: 3 | BP13: 0 | BQ13: 10 | BR13: 10 | BS13: 0 | BT13: 7 | BU13: 0 | BV13: 0 | BW13: 0 | BX13: 3 | BY13: 0 | BZ13: 92 | CA13: 92 | CB13: 0 | CC13: 0 | CD13: 0 | CE13: 0 | CF13: 84 | CG13: 84 | CH13: 0 | CI13: 8 | CJ13: 0 | CK13: 4 | CL13: 0 | CM13: 3 | CN13: 0 | CO13: 1 | CP13: 0 | CQ13: 0 | CR13: 0 | CS13: 0 | CT13: 0 | CU13: 0 | CV13: 0 | CW13: 0 | CX13: 0 | CY13: 0 | CZ13: 0 | DA13: 31 | DB13: 31 | DC13: 0 | DD13: 19 | DE13: 19 | DF13: 0 | DG13: 12 | DH13: 12 | DI13: 0 | DJ13: 3 | DK13: 3 | DL13: 0 | DM13: 2 | DN13: 0 | DO13: 1 | DP13: 0 | DQ13: 31 | DR13: 31 | DS13: 0 | DT13: 19 | DU13: 19 | DV13: 0 | DW13: 12 | DX13: 12 | DY13: 0 | DZ13: 0 | EA13: 0 | EB13: 12 | EC13: 0 | ED13: 0 | EE13: 0 | EF13: 3 | EG13: 3 | EH13: 0 | EI13: 2 | EJ13: 0 | EK13: 1 | EL13: 0 | EM13: 81 | EN13: 77 | EO13: 4 | EP13: 0 | EQ13: 0 | ER13: 0 | ES13: 9 | ET13: 9 | EU13: 0 | EV13: 62 | EW13: 58 | EX13: 4 | EY13: 2 | EZ13: 2 | FA13: 0 | FB13: 0 | FC13: 0 | FD13: 0 | FE13: 0 | FF13: 1 | FG13: 0 | FH13: 1 | FI13: 0 | FJ13: 0 | FK13: 0 | FL13: 8 | FM13: 8 | FN13: 0 | FO13: 3 | FP13: 0 | FQ13: 0 | FR13: 0 | FS13: 0 | FT13: 0 | FU13: 2 | FV13: 0 | FW13: 0 | FX13: 0 | FY13: 0 | FZ13: 0 | GA13: 3 | GB13: 0
A14: 高雄市 | B14: Kaohsiung City | C14: 417 | D14: 411 | E14: 6 | F14: 122 | G14: 2 | H14: 5 | I14: 0 | J14: 154 | K14: 3 | L14: 101 | M14: 1 | N14: 0 | O14: 0 | P14: 0 | Q14: 0 | R14: 1 | S14: 0 | T14: 19 | U14: 0 | V14: 8 | W14: 0 | X14: 1 | Y14: 0 | Z14: 228 | AA14: 227 | AB14: 1 | AC14: 72 | AD14: 0 | AE14: 112 | AF14: 1 | AG14: 40 | AH14: 0 | AI14: 3 | AJ14: 0 | AK14: 228 | AL14: 227 | AM14: 1 | AN14: 65 | AO14: 0 | AP14: 16 | AQ14: 0 | AR14: 112 | AS14: 0 | AT14: 8 | AU14: 0 | AV14: 14 | AW14: 0 | AX14: 9 | AY14: 1 | AZ14: 2 | BA14: 0 | BB14: 1 | BC14: 0 | BD14: 24 | BE14: 24 | BF14: 0 | BG14: 2 | BH14: 0 | BI14: 0 | BJ14: 0 | BK14: 1 | BL14: 0 | BM14: 18 | BN14: 0 | BO14: 3 | BP14: 0 | BQ14: 25 | BR14: 25 | BS14: 0 | BT14: 7 | BU14: 0 | BV14: 0 | BW14: 0 | BX14: 18 | BY14: 0 | BZ14: 165 | CA14: 160 | CB14: 5 | CC14: 1 | CD14: 1 | CE14: 0 | CF14: 137 | CG14: 133 | CH14: 4 | CI14: 26 | CJ14: 1 | CK14: 4 | CL14: 0 | CM14: 4 | CN14: 1 | CO14: 3 | CP14: 0 | CQ14: 0 | CR14: 0 | CS14: 15 | CT14: 0 | CU14: 0 | CV14: 0 | CW14: 0 | CX14: 0 | CY14: 0 | CZ14: 0 | DA14: 62 | DB14: 62 | DC14: 0 | DD14: 62 | DE14: 62 | DF14: 0 | DG14: 62 | DH14: 62 | DI14: 0 | DJ14: 16 | DK14: 16 | DL14: 0 | DM14: 12 | DN14: 0 | DO14: 4 | DP14: 0 | DQ14: 62 | DR14: 62 | DS14: 0 | DT14: 62 | DU14: 62 | DV14: 0 | DW14: 46 | DX14: 46 | DY14: 0 | DZ14: 21 | EA14: 0 | EB14: 20 | EC14: 0 | ED14: 5 | EE14: 0 | EF14: 16 | EG14: 16 | EH14: 0 | EI14: 12 | EJ14: 0 | EK14: 4 | EL14: 0 | EM14: 122 | EN14: 108 | EO14: 14 | EP14: 0 | EQ14: 0 | ER14: 0 | ES14: 58 | ET14: 52 | EU14: 6 | EV14: 59 | EW14: 51 | EX14: 8 | EY14: 2 | EZ14: 2 | FA14: 0 | FB14: 0 | FC14: 0 | FD14: 0 | FE14: 0 | FF14: 0 | FG14: 0 | FH14: 2 | FI14: 0 | FJ14: 0 | FK14: 0 | FL14: 3 | FM14: 3 | FN14: 0 | FO14: 0 | FP14: 0 | FQ14: 0 | FR14: 0 | FS14: 0 | FT14: 0 | FU14: 1 | FV14: 0 | FW14: 0 | FX14: 0 | FY14: 0 | FZ14: 0 | GA14: 2 | GB14: 0
A15: 宜蘭縣 | B15: Yilan County | C15: 144 | D15: 142 | E15: 2 | F15: 38 | G15: 1 | H15: 0 | I15: 0 | J15: 40 | K15: 1 | L15: 42 | M15: 0 | N15: 0 | O15: 0 | P15: 0 | Q15: 0 | R15: 2 | S15: 0 | T15: 10 | U15: 0 | V15: 10 | W15: 0 | X15: 0 | Y15: 0 | Z15: 86 | AA15: 84 | AB15: 2 | AC15: 32 | AD15: 1 | AE15: 30 | AF15: 1 | AG15: 19 | AH15: 0 | AI15: 3 | AJ15: 0 | AK15: 86 | AL15: 84 | AM15: 2 | AN15: 0 | AO15: 0 | AP15: 15 | AQ15: 1 | AR15: 5 | AS15: 0 | AT15: 5 | AU15: 0 | AV15: 33 | AW15: 0 | AX15: 13 | AY15: 0 | AZ15: 10 | BA15: 1 | BB15: 3 | BC15: 0 | BD15: 7 | BE15: 7 | BF15: 0 | BG15: 0 | BH15: 0 | BI15: 0 | BJ15: 0 | BK15: 0 | BL15: 0 | BM15: 6 | BN15: 0 | BO15: 1 | BP15: 0 | BQ15: 3 | BR15: 3 | BS15: 0 | BT15: 0 | BU15: 0 | BV15: 0 | BW15: 0 | BX15: 3 | BY15: 0 | BZ15: 51 | CA15: 51 | CB15: 0 | CC15: 0 | CD15: 0 | CE15: 0 | CF15: 40 | CG15: 40 | CH15: 0 | CI15: 11 | CJ15: 0 | CK15: 2 | CL15: 0 | CM15: 1 | CN15: 0 | CO15: 3 | CP15: 0 | CQ15: 0 | CR15: 0 | CS15: 5 | CT15: 0 | CU15: 0 | CV15: 0 | CW15: 1 | CX15: 0 | CY15: 0 | CZ15: 0 | DA15: 7 | DB15: 7 | DC15: 0 | DD15: 3 | DE15: 3 | DF15: 0 | DG15: 4 | DH15: 4 | DI15: 0 | DJ15: 6 | DK15: 6 | DL15: 0 | DM15: 2 | DN15: 0 | DO15: 4 | DP15: 0 | DQ15: 7 | DR15: 7 | DS15: 0 | DT15: 3 | DU15: 3 | DV15: 0 | DW15: 4 | DX15: 4 | DY15: 0 | DZ15: 0 | EA15: 0 | EB15: 4 | EC15: 0 | ED15: 0 | EE15: 0 | EF15: 5 | EG15: 5 | EH15: 0 | EI15: 1 | EJ15: 0 | EK15: 4 | EL15: 0 | EM15: 41 | EN15: 38 | EO15: 3 | EP15: 0 | EQ15: 0 | ER15: 0 | ES15: 15 | ET15: 13 | EU15: 2 | EV15: 25 | EW15: 24 | EX15: 1 | EY15: 0 | EZ15: 0 | FA15: 0 | FB15: 0 | FC15: 0 | FD15: 0 | FE15: 0 | FF15: 0 | FG15: 0 | FH15: 0 | FI15: 0 | FJ15: 0 | FK15: 0 | FL15: 1 | FM15: 1 | FN15: 0 | FO15: 1 | FP15: 0 | FQ15: 0 | FR15: 0 | FS15: 0 | FT15: 0 | FU15: 0 | FV15: 0 | FW15: 0 | FX15: 0 | FY15: 0 | FZ15: 0 | GA15: 0 | GB15: 0
A16: 新竹縣 | B16: Hsinchu County | C16: 170 | D16: 169 | E16: 1 | F16: 89 | G16: 0 | H16: 0 | I16: 0 | J16: 35 | K16: 0 | L16: 38 | M16: 0 | N16: 0 | O16: 0 | P16: 0 | Q16: 0 | R16: 0 | S16: 0 | T16: 7 | U16: 1 | V16: 0 | W16: 0 | X16: 0 | Y16: 0 | Z16: 103 | AA16: 102 | AB16: 1 | AC16: 59 | AD16: 1 | AE16: 33 | AF16: 0 | AG16: 7 | AH16: 0 | AI16: 3 | AJ16: 0 | AK16: 103 | AL16: 102 | AM16: 1 | AN16: 18 | AO16: 0 | AP16: 29 | AQ16: 1 | AR16: 17 | AS16: 0 | AT16: 16 | AU16: 0 | AV16: 10 | AW16: 0 | AX16: 10 | AY16: 0 | AZ16: 2 | BA16: 0 | BB16: 0 | BC16: 0 | BD16: 16 | BE16: 16 | BF16: 0 | BG16: 8 | BH16: 0 | BI16: 1 | BJ16: 0 | BK16: 1 | BL16: 0 | BM16: 6 | BN16: 0 | BO16: 0 | BP16: 0 | BQ16: 24 | BR16: 24 | BS16: 0 | BT16: 0 | BU16: 0 | BV16: 0 | BW16: 0 | BX16: 24 | BY16: 0 | BZ16: 51 | CA16: 51 | CB16: 0 | CC16: 2 | CD16: 2 | CE16: 0 | CF16: 43 | CG16: 43 | CH16: 0 | CI16: 6 | CJ16: 0 | CK16: 0 | CL16: 0 | CM16: 4 | CN16: 0 | CO16: 0 | CP16: 0 | CQ16: 0 | CR16: 0 | CS16: 2 | CT16: 0 | CU16: 0 | CV16: 0 | CW16: 0 | CX16: 0 | CY16: 0 | CZ16: 0 | DA16: 39 | DB16: 39 | DC16: 0 | DD16: 9 | DE16: 9 | DF16: 0 | DG16: 40 | DH16: 40 | DI16: 0 | DJ16: 3 | DK16: 3 | DL16: 0 | DM16: 3 | DN16: 0 | DO16: 0 | DP16: 0 | DQ16: 32 | DR16: 32 | DS16: 0 | DT16: 9 | DU16: 9 | DV16: 0 | DW16: 38 | DX16: 38 | DY16: 0 | DZ16: 28 | EA16: 0 | EB16: 9 | EC16: 0 | ED16: 1 | EE16: 0 | EF16: 3 | EG16: 3 | EH16: 0 | EI16: 3 | EJ16: 0 | EK16: 0 | EL16: 0 | EM16: 32 | EN16: 32 | EO16: 0 | EP16: 0 | EQ16: 0 | ER16: 0 | ES16: 23 | ET16: 23 | EU16: 0 | EV16: 9 | EW16: 9 | EX16: 0 | EY16: 0 | EZ16: 0 | FA16: 0 | FB16: 0 | FC16: 0 | FD16: 0 | FE16: 0 | FF16: 0 | FG16: 0 | FH16: 0 | FI16: 0 | FJ16: 0 | FK16: 0 | FL16: 0 | FM16: 0 | FN16: 0 | FO16: 0 | FP16: 0 | FQ16: 0 | FR16: 0 | FS16: 0 | FT16: 0 | FU16: 0 | FV16: 0 | FW16: 0 | FX16: 0 | FY16: 0 | FZ16: 0 | GA16: 0 | GB16: 0
A17: 苗栗縣 | B17: Miaoli County | C17: 220 | D17: 219 | E17: 1 | F17: 74 | G17: 0 | H17: 11 | I17: 0 | J17: 62 | K17: 0 | L17: 49 | M17: 0 | N17: 0 | O17: 0 | P17: 0 | Q17: 0 | R17: 0 | S17: 0 | T17: 12 | U17: 1 | V17: 8 | W17: 0 | X17: 3 | Y17: 0 | Z17: 170 | AA17: 169 | AB17: 1 | AC17: 39 | AD17: 1 | AE17: 102 | AF17: 0 | AG17: 28 | AH17: 0 | AI17: 0 | AJ17: 0 | AK17: 170 | AL17: 169 | AM17: 1 | AN17: 14 | AO17: 0 | AP17: 33 | AQ17: 1 | AR17: 19 | AS17: 0 | AT17: 11 | AU17: 0 | AV17: 76 | AW17: 0 | AX17: 6 | AY17: 0 | AZ17: 9 | BA17: 0 | BB17: 1 | BC17: 0 | BD17: 2 | BE17: 2 | BF17: 0 | BG17: 0 | BH17: 0 | BI17: 0 | BJ17: 0 | BK17: 0 | BL17: 0 | BM17: 2 | BN17: 0 | BO17: 0 | BP17: 0 | BQ17: 4 | BR17: 4 | BS17: 0 | BT17: 1 | BU17: 0 | BV17: 3 | BW17: 0 | BX17: 0 | BY17: 0 | BZ17: 48 | CA17: 48 | CB17: 0 | CC17: 2 | CD17: 2 | CE17: 0 | CF17: 41 | CG17: 41 | CH17: 0 | CI17: 5 | CJ17: 0 | CK17: 2 | CL17: 0 | CM17: 3 | CN17: 0 | CO17: 0 | CP17: 0 | CQ17: 0 | CR17: 0 | CS17: 0 | CT17: 0 | CU17: 0 | CV17: 0 | CW17: 0 | CX17: 0 | CY17: 0 | CZ17: 0 | DA17: 10 | DB17: 10 | DC17: 0 | DD17: 8 | DE17: 8 | DF17: 0 | DG17: 9 | DH17: 9 | DI17: 0 | DJ17: 0 | DK17: 0 | DL17: 0 | DM17: 0 | DN17: 0 | DO17: 0 | DP17: 0 | DQ17: 10 | DR17: 10 | DS17: 0 | DT17: 8 | DU17: 8 | DV17: 0 | DW17: 9 | DX17: 9 | DY17: 0 | DZ17: 8 | EA17: 0 | EB17: 1 | EC17: 0 | ED17: 0 | EE17: 0 | EF17: 0 | EG17: 0 | EH17: 0 | EI17: 0 | EJ17: 0 | EK17: 0 | EL17: 0 | EM17: 22 | EN17: 20 | EO17: 2 | EP17: 1 | EQ17: 0 | ER17: 1 | ES17: 4 | ET17: 4 | EU17: 0 | EV17: 16 | EW17: 15 | EX17: 1 | EY17: 1 | EZ17: 1 | FA17: 0 | FB17: 0 | FC17: 0 | FD17: 0 | FE17: 0 | FF17: 0 | FG17: 0 | FH17: 1 | FI17: 0 | FJ17: 0 | FK17: 0 | FL17: 0 | FM17: 0 | FN17: 0 | FO17: 0 | FP17: 0 | FQ17: 0 | FR17: 0 | FS17: 0 | FT17: 0 | FU17: 0 | FV17: 0 | FW17: 0 | FX17: 0 | FY17: 0 | FZ17: 0 | GA17: 0 | GB17: 0
A18: 彰化縣 | B18: Changhua County | C18: 320 | D18: 319 | E18: 1 | F18: 97 | G18: 0 | H18: 1 | I18: 0 | J18: 75 | K18: 1 | L18: 114 | M18: 0 | N18: 0 | O18: 0 | P18: 0 | Q18: 0 | R18: 1 | S18: 0 | T18: 23 | U18: 0 | V18: 8 | W18: 0 | X18: 0 | Y18: 0 | Z18: 249 | AA18: 248 | AB18: 1 | AC18: 59 | AD18: 0 | AE18: 177 | AF18: 1 | AG18: 12 | AH18: 0 | AI18: 0 | AJ18: 0 | AK18: 249 | AL18: 248 | AM18: 1 | AN18: 60 | AO18: 0 | AP18: 55 | AQ18: 0 | AR18: 45 | AS18: 0 | AT18: 43 | AU18: 0 | AV18: 13 | AW18: 0 | AX18: 15 | AY18: 1 | AZ18: 17 | BA18: 0 | BB18: 0 | BC18: 0 | BD18: 3 | BE18: 3 | BF18: 0 | BG18: 0 | BH18: 0 | BI18: 0 | BJ18: 0 | BK18: 2 | BL18: 0 | BM18: 0 | BN18: 0 | BO18: 1 | BP18: 0 | BQ18: 113 | BR18: 113 | BS18: 0 | BT18: 23 | BU18: 0 | BV18: 1 | BW18: 0 | BX18: 89 | BY18: 0 | BZ18: 68 | CA18: 68 | CB18: 0 | CC18: 0 | CD18: 0 | CE18: 0 | CF18: 61 | CG18: 61 | CH18: 0 | CI18: 7 | CJ18: 0 | CK18: 1 | CL18: 0 | CM18: 2 | CN18: 0 | CO18: 1 | CP18: 0 | CQ18: 2 | CR18: 0 | CS18: 1 | CT18: 0 | CU18: 0 | CV18: 0 | CW18: 0 | CX18: 0 | CY18: 0 | CZ18: 0 | DA18: 8 | DB18: 8 | DC18: 0 | DD18: 8 | DE18: 8 | DF18: 0 | DG18: 1 | DH18: 1 | DI18: 0 | DJ18: 0 | DK18: 0 | DL18: 0 | DM18: 0 | DN18: 0 | DO18: 0 | DP18: 0 | DQ18: 8 | DR18: 8 | DS18: 0 | DT18: 8 | DU18: 8 | DV18: 0 | DW18: 1 | DX18: 1 | DY18: 0 | DZ18: 0 | EA18: 0 | EB18: 1 | EC18: 0 | ED18: 0 | EE18: 0 | EF18: 0 | EG18: 0 | EH18: 0 | EI18: 0 | EJ18: 0 | EK18: 0 | EL18: 0 | EM18: 52 | EN18: 50 | EO18: 2 | EP18: 0 | EQ18: 0 | ER18: 0 | ES18: 12 | ET18: 12 | EU18: 0 | EV18: 38 | EW18: 36 | EX18: 2 | EY18: 2 | EZ18: 2 | FA18: 0 | FB18: 0 | FC18: 0 | FD18: 0 | FE18: 0 | FF18: 1 | FG18: 0 | FH18: 1 | FI18: 0 | FJ18: 0 | FK18: 0 | FL18: 0 | FM18: 0 | FN18: 0 | FO18: 0 | FP18: 0 | FQ18: 0 | FR18: 0 | FS18: 0 | FT18: 0 | FU18: 0 | FV18: 0 | FW18: 0 | FX18: 0 | FY18: 0 | FZ18: 0 | GA18: 0 | GB18: 0
A19: 南投縣 | B19: Nantou County | C19: 172 | D19: 172 | E19: 0 | F19: 63 | G19: 0 | H19: 5 | I19: 0 | J19: 43 | K19: 0 | L19: 52 | M19: 0 | N19: 0 | O19: 0 | P19: 0 | Q19: 0 | R19: 0 | S19: 0 | T19: 4 | U19: 0 | V19: 5 | W19: 0 | X19: 0 | Y19: 0 | Z19: 109 | AA19: 109 | AB19: 0 | AC19: 57 | AD19: 0 | AE19: 46 | AF19: 0 | AG19: 6 | AH19: 0 | AI19: 0 | AJ19: 0 | AK19: 109 | AL19: 109 | AM19: 0 | AN19: 29 | AO19: 0 | AP19: 11 | AQ19: 0 | AR19: 17 | AS19: 0 | AT19: 19 | AU19: 0 | AV19: 7 | AW19: 0 | AX19: 13 | AY19: 0 | AZ19: 12 | BA19: 0 | BB19: 1 | BC19: 0 | BD19: 29 | BE19: 29 | BF19: 0 | BG19: 0 | BH19: 0 | BI19: 1 | BJ19: 0 | BK19: 0 | BL19: 0 | BM19: 25 | BN19: 0 | BO19: 3 | BP19: 0 | BQ19: 0 | BR19: 0 | BS19: 0 | BT19: 0 | BU19: 0 | BV19: 0 | BW19: 0 | BX19: 0 | BY19: 0 | BZ19: 34 | CA19: 34 | CB19: 0 | CC19: 0 | CD19: 0 | CE19: 0 | CF19: 30 | CG19: 30 | CH19: 0 | CI19: 4 | CJ19: 0 | CK19: 0 | CL19: 0 | CM19: 2 | CN19: 0 | CO19: 1 | CP19: 0 | CQ19: 0 | CR19: 0 | CS19: 1 | CT19: 0 | CU19: 0 | CV19: 0 | CW19: 0 | CX19: 0 | CY19: 0 | CZ19: 0 | DA19: 11 | DB19: 11 | DC19: 0 | DD19: 11 | DE19: 11 | DF19: 0 | DG19: 6 | DH19: 6 | DI19: 0 | DJ19: 6 | DK19: 6 | DL19: 0 | DM19: 4 | DN19: 0 | DO19: 2 | DP19: 0 | DQ19: 11 | DR19: 11 | DS19: 0 | DT19: 11 | DU19: 11 | DV19: 0 | DW19: 4 | DX19: 4 | DY19: 0 | DZ19: 0 | EA19: 0 | EB19: 4 | EC19: 0 | ED19: 0 | EE19: 0 | EF19: 4 | EG19: 4 | EH19: 0 | EI19: 3 | EJ19: 0 | EK19: 1 | EL19: 0 | EM19: 40 | EN19: 40 | EO19: 0 | EP19: 0 | EQ19: 0 | ER19: 0 | ES19: 6 | ET19: 6 | EU19: 0 | EV19: 33 | EW19: 33 | EX19: 0 | EY19: 1 | EZ19: 1 | FA19: 0 | FB19: 0 | FC19: 0 | FD19: 0 | FE19: 0 | FF19: 0 | FG19: 0 | FH19: 1 | FI19: 0 | FJ19: 0 | FK19: 0 | FL19: 0 | FM19: 0 | FN19: 0 | FO19: 0 | FP19: 0 | FQ19: 0 | FR19: 0 | FS19: 0 | FT19: 0 | FU19: 0 | FV19: 0 | FW19: 0 | FX19: 0 | FY19: 0 | FZ19: 0 | GA19: 0 | GB19: 0
... A30: 連江縣 | B30: Lienchiang County | C30: 1 | D30: 1 | E30: 0 | F30: 0 | G30: 0 | H30: 0 | I30: 0 | J30: 0 | K30: 0 | L30: 1 | M30: 0 | N30: 0 | O30: 0 | P30: 0 | Q30: 0 | R30: 0 | S30: 0 | T30: 0 | U30: 0 | V30: 0 | W30: 0 | X30: 0 | Y30: 0 | Z30: 1 | AA30: 1 | AB30: 0 | AC30: 1 | AD30: 0 | AE30: 0 | AF30: 0 | AG30: 0 | AH30: 0 | AI30: 0 | AJ30: 0 | AK30: 1 | AL30: 1 | AM30: 0 | AN30: 0 | AO30: 0 | AP30: 0 | AQ30: 0 | AR30: 1 | AS30: 0 | AT30: 0 | AU30: 0 | AV30: 0 | AW30: 0 | AX30: 0 | AY30: 0 | AZ30: 0 | BA30: 0 | BB30: 0 | BC30: 0 | BD30: 0 | BE30: 0 | BF30: 0 | BG30: 0 | BH30: 0 | BI30: 0 | BJ30: 0 | BK30: 0 | BL30: 0 | BM30: 0 | BN30: 0 | BO30: 0 | BP30: 0 | BQ30: 0 | BR30: 0 | BS30: 0 | BT30: 0 | BU30: 0 | BV30: 0 | BW30: 0 | BX30: 0 | BY30: 0 | BZ30: 0 | CA30: 0 | CB30: 0 | CC30: 0 | CD30: 0 | CE30: 0 | CF30: 0 | CG30: 0 | CH30: 0 | CI30: 0 | CJ30: 0 | CK30: 0 | CL30: 0 | CM30: 0 | CN30: 0 | CO30: 0 | CP30: 0 | CQ30: 0 | CR30: 0 | CS30: 0 | CT30: 0 | CU30: 0 | CV30: 0 | CW30: 0 | CX30: 0 | CY30: 0 | CZ30: 0 | DA30: 0 | DB30: 0 | DC30: 0 | DD30: 0 | DE30: 0 | DF30: 0 | DG30: 0 | DH30: 0 | DI30: 0 | DJ30: 0 | DK30: 0 | DL30: 0 | DM30: 0 | DN30: 0 | DO30: 0 | DP30: 0 | DQ30: 0 | DR30: 0 | DS30: 0 | DT30: 0 | DU30: 0 | DV30: 0 | DW30: 0 | DX30: 0 | DY30: 0 | DZ30: 0 | EA30: 0 | EB30: 0 | EC30: 0 | ED30: 0 | EE30: 0 | EF30: 0 | EG30: 0 | EH30: 0 | EI30: 0 | EJ30: 0 | EK30: 0 | EL30: 0 | EM30: 0 | EN30: 0 | EO30: 0 | EP30: 0 | EQ30: 0 | ER30: 0 | ES30: 0 | ET30: 0 | EU30: 0 | EV30: 0 | EW30: 0 | EX30: 0 | EY30: 0 | EZ30: 0 | FA30: 0 | FB30: 0 | FC30: 0 | FD30: 0 | FE30: 0 | FF30: 0 | FG30: 0 | FH30: 0 | FI30: 0 | FJ30: 0 | FK30: 0 | FL30: 0 | FM30: 0 | FN30: 0 | FO30: 0 | FP30: 0 | FQ30: 0 | FR30: 0 | FS30: 0 | FT30: 0 | FU30: 0 | FV30: 0 | FW30: 0 | FX30: 0 | FY30: 0 | FZ30: 0 | GA30: 0 | GB30: 0
A31: 資料來源：直轄市、縣﹝市﹞政府。
A32: Source : County and City Government.

Sheet 109 
A1: 性侵害加害人處遇
A2: 中華民國109年 2020
A4: 區域別 Locality | C4: (1)本年截至本期加害人個案人數按處分類別分(人) (不含依少年事件處理法裁定保護處分確定而法院認有必要者) | Z4: (2)本期加害人個案尚接受身心治療或輔導教育者按再犯等級分(人) (不含依少年事件處理法裁定保護處分確定而法院認有必要者) | AK4: (3)本期加害人個案尚接受身心治療或輔導教育者按處遇期程分(人) (不含依少年事件處理法裁定保護處分確定而法院認有必要者) | BD4: (4)本期加害人個案暫停處遇人數按暫停原因分(人)(不含依少年事件處理法裁定保護處分確定而法院認有必要者) | BQ4: (5)本年截至本期累計處遇期間再犯人數按再犯案件分(人)(不含依少年事件處理法裁定保護處分確定而法院認有必要者) | BZ4: (6)本年截至本期累計加害人個案已結案人數按結案狀態分(人)(不含依少年事件處理法裁定保護處分確定而法院認有必要者) | DA4: (7)本年截至本期累計加害人個案裁罰移送狀況(人次)(不含依少年事件處理法裁定保護處分確定而法院認有必要者) | DQ4: (8)本期加害人個案裁罰移送狀況(人數)(不含依少年事件處理法裁定保護處分確定而法院認有必要者) | EM4: (9)依少年事件處理法裁定保護處分確定而法院裁定實施身心治療或輔導教育處遇者按處遇狀態分(人) | FL4: (9)依少年事件處理法裁定保護處分確定而法院裁定實施身心治療或輔導教育處遇者按處遇狀態分(人)
C5: 合計Total | F5: 有期徒刑或保安處分執行完畢 | H5: 有期徒刑經易服社會勞動 | J5: 假釋 | L5: 緩刑 | N5: 免刑 | P5: 赦免 | R5: 經法院、軍事法院依第22條之1第3項裁定停止強制治療 | T5: 經緩起訴處分確定者 | V5: 犯性騷擾防治法第25條判決有罪確定者 | X5: 犯兒少性剝削防制條例第31條判決有罪確定者 | Z5: 合計Total | AC5: 低再犯 | AE5: 中低再犯 | AG5: 中高再犯 | AI5: 高再犯 | AK5: 合計Total | AN5: 未滿3個月 | AP5: 3個月以上未滿6個月 | AR5: 6個月以上未滿9個月 | AT5: 9個月以上未滿1年 | AV5: 1年以上未滿1年6個月 | AX5: 1年6個月以上未滿2年 | AZ5: 2年以上未滿3年 | BB5: 3年以上至4年 | BD5: 合計 | BG5: 傷殘住院 | BI5: 出國 | BK5: 服兵役 | BM5: 因他案 入監服刑 | BO5: 其他 | BQ5: 合計Total | BT5: 再犯性侵害案件 | BV5: 再犯其他案件 且合併性侵害 | BX5: 再犯其他非性侵害案件 | BZ5: 合計Total | CC5: 本年截至本期累計無須處遇個案 | CF5: 本年截至本期累計完成處遇人數 | CI5: 本年截至本期累計未完成處遇已結案人數按結案原因分(人) | CU5: 本年截至本期累計轉入強制治療人數(人) | DA5: 累計應裁罰移送人次 | DD5: 累計處以行政罰鍰人次 | DG5: 累計聲請移送人次 | DJ5: 累計移送結果確定者按結果分 | DQ5: 本期應裁罰移送個案人數 | DT5: 本期處以行政罰鍰人數 | DW5: 本期聲請移送者按階段分(人數) | EF5: 累計移送結果確定者按結果分(人數) | EM5: 本年截至本期累計少年性侵害行為人個案數 | EP5: 本年截至本期累計無須處遇人數 | ES5: 本年截至本期累計完成處遇人數 | EV5: 本期尚在接受處遇人數 | EY5: 本期暫停處遇人數按暫停原因分 | FL5: 本年截至本期累計未完成處遇已結案人數按結案原因分
C6: 計Total | D6: 男 Male | E6: 女Female | F6: 男 Male | G6: 女Female | H6: 男 Male | I6: 女Female | J6: 男 Male | K6: 女Female | L6: 男 Male | M6: 女Female | N6: 男 Male | O6: 女Female | P6: 男 Male | Q6: 女Female | R6: 男 Male | S6: 女Female | T6: 男 Male | U6: 女Female | V6: 男 Male | W6: 女Female | X6: 男 Male | Y6: 女Female | Z6: 計Total | AA6: 男 Male | AB6: 女Female | AC6: 男 Male | AD6: 女Female | AE6: 男 Male | AF6: 女Female | AG6: 男 Male | AH6: 女Female | AI6: 男 Male | AJ6: 女Female | AK6: 計Total | AL6: 男 Male | AM6: 女Female | AN6: 男 Male | AO6: 女Female | AP6: 男 Male | AQ6: 女Female | AR6: 男 Male | AS6: 女Female | AT6: 男 Male | AU6: 女Female | AV6: 男 Male | AW6: 女Female | AX6: 男 Male | AY6: 女Female | AZ6: 男 Male | BA6: 女Female | BB6: 男 Male | BC6: 女Female | BD6: 計Total | BE6: 男 Male | BF6: 女Female | BG6: 男 Male | BH6: 女Female | BI6: 男 Male | BJ6: 女Female | BK6: 男 Male | BL6: 女Female | BM6: 男 Male | BN6: 女Female | BO6: 男 Male | BP6: 女Female | BQ6: 計Total | BR6: 男 Male | BS6: 女Female | BT6: 男 Male | BU6: 女Female | BV6: 男 Male | BW6: 女Female | BX6: 男 Male | BY6: 女Female | BZ6: 計Total | CA6: 男 Male | CB6: 女Female | CC6: 計Total | CD6: 男 Male | CE6: 女Female | CF6: 計Total | CG6: 男 Male | CH6: 女Female | CI6: 計Total | CK6: 因再犯性侵害罪入獄 | CM6: 戶籍移轉外縣市 | CO6: 死亡 | CQ6: 長期入住機構 | CS6: 其他 | CU6: 計Total | CW6: 依性侵害犯罪防治法第22條規定 | CY6: 依性侵害犯罪防治法第22條之1規定 | DA6: 計 Total | DB6: 男 Male | DC6: 女Female | DD6: 計 Total | DE6: 男 Male | DF6: 女Female | DG6: 計 Total | DH6: 男 Male | DI6: 女Female | DJ6: 合計Total | DM6: 駁回或不起訴者 | DO6: 其他判決結果 | DQ6: 計 Total | DR6: 男 Male | DS6: 女Female | DT6: 計 Total | DU6: 男 Male | DV6: 女Female | DW6: 合計Total | DZ6: 移送家防中心/警察局/其他機關 | EB6: 移送地檢署 | ED6: 移送法院 | EF6: 合計Total | EI6: 駁回或不起訴者 | EK6: 其他判決結果 | EM6: 計 Total | EN6: 男 Male | EO6: 女Female | EP6: 計 Total | EQ6: 男 Male | ER6: 女Female | ES6: 計 Total | ET6: 男 Male | EU6: 女Female | EV6: 計 Total | EW6: 男 Male | EX6: 女Female | EY6: 合計Total | FB6: 傷殘住院 | FD6: 出國 | FF6: 服兵役 | FH6: 因他案入感化教育處所或監獄 | FJ6: 其他 | FL6: 合計Total | FO6: 保護處分期滿且未依規定接受處遇，檢還少年法院(庭) | FQ6: 保護處分期限未滿且未依規定接受處遇，檢還少年法院(庭) | FS6: 再犯性侵入感化教育處所或監獄 | FU6: 戶籍移轉外縣市 | FW6: 死亡 | FY6: 長期入住機構 | GA6: 其他
CI7: 男 Male | CJ7: 女Female | CK7: 男 Male | CL7: 女Female | CM7: 男 Male | CN7: 女Female | CO7: 男 Male | CP7: 女Female | CQ7: 男 Male | CR7: 女Female | CS7: 男 Male | CT7: 女Female | CU7: 男 Male | CV7: 女Female | CW7: 男 Male | CX7: 女Female | CY7: 男 Male | CZ7: 女Female | DJ7: 計 Total | DK7: 男 Male | DL7: 女Female | DM7: 男 Male | DN7: 女Female | DO7: 男 Male | DP7: 女Female | DW7: 計 Total | DX7: 男 Male | DY7: 女Female | DZ7: 男 Male | EA7: 女Female | EB7: 男 Male | EC7: 女Female | ED7: 男 Male | EE7: 女Female | EF7: 計 Total | EG7: 男 Male | EH7: 女Female | EI7: 男 Male | EJ7: 女Female | EK7: 男 Male | EL7: 女Female | EY7: 計 Total | EZ7: 男 Male | FA7: 女Female | FB7: 男 Male | FC7: 女Female | FD7: 男 Male | FE7: 女Female | FF7: 男 Male | FG7: 女Female | FH7: 男 Male | FI7: 女Female | FJ7: 男 Male | FK7: 女Female | FL7: 計 Total | FM7: 男 Male | FN7: 女Female | FO7: 男 Male | FP7: 女Female | FQ7: 男 Male | FR7: 女Female | FS7: 男 Male | FT7: 女Female | FU7: 男 Male | FV7: 女Female | FW7: 男 Male | FX7: 女Female | FY7: 男 Male | FZ7: 女Female | GA7: 男 Male | GB7: 女Female
A8: 總 計 | B8: Total | C8: 6821 | D8: 6785 | E8: 36 | F8: 2308 | G8: 4 | H8: 113 | I8: 0 | J8: 1982 | K8: 20 | L8: 1743 | M8: 5 | N8: 0 | O8: 0 | P8: 0 | Q8: 0 | R8: 41 | S8: 0 | T8: 347 | U8: 7 | V8: 224 | W8: 0 | X8: 27 | Y8: 0 | Z8: 4461 | AA8: 4437 | AB8: 24 | AC8: 1579 | AD8: 9 | AE8: 2280 | AF8: 14 | AG8: 523 | AH8: 1 | AI8: 55 | AJ8: 0 | AK8: 4461 | AL8: 4437 | AM8: 24 | AN8: 727 | AO8: 5 | AP8: 770 | AQ8: 7 | AR8: 447 | AS8: 1 | AT8: 437 | AU8: 3 | AV8: 862 | AW8: 3 | AX8: 354 | AY8: 3 | AZ8: 478 | BA8: 1 | BB8: 362 | BC8: 1 | BD8: 292 | BE8: 292 | BF8: 0 | BG8: 27 | BH8: 0 | BI8: 3 | BJ8: 0 | BK8: 2 | BL8: 0 | BM8: 186 | BN8: 0 | BO8: 74 | BP8: 0 | BQ8: 363 | BR8: 363 | BS8: 0 | BT8: 98 | BU8: 0 | BV8: 5 | BW8: 0 | BX8: 260 | BY8: 0 | BZ8: 2068 | CA8: 2056 | CB8: 12 | CC8: 25 | CD8: 25 | CE8: 0 | CF8: 1615 | CG8: 1604 | CH8: 11 | CI8: 421 | CJ8: 1 | CK8: 54 | CL8: 0 | CM8: 176 | CN8: 1 | CO8: 25 | CP8: 0 | CQ8: 17 | CR8: 0 | CS8: 149 | CT8: 0 | CU8: 6 | CV8: 0 | CW8: 5 | CX8: 0 | CY8: 1 | CZ8: 0 | DA8: 638 | DB8: 634 | DC8: 4 | DD8: 520 | DE8: 517 | DF8: 3 | DG8: 374 | DH8: 372 | DI8: 2 | DJ8: 120 | DK8: 119 | DL8: 1 | DM8: 49 | DN8: 1 | DO8: 70 | DP8: 0 | DQ8: 448 | DR8: 446 | DS8: 2 | DT8: 371 | DU8: 369 | DV8: 2 | DW8: 325 | DX8: 323 | DY8: 2 | DZ8: 133 | EA8: 1 | EB8: 167 | EC8: 1 | ED8: 23 | EE8: 0 | EF8: 90 | EG8: 89 | EH8: 1 | EI8: 44 | EJ8: 1 | EK8: 45 | EL8: 0 | EM8: 1344 | EN8: 1296 | EO8: 48 | EP8: 7 | EQ8: 5 | ER8: 2 | ES8: 314 | ET8: 295 | EU8: 19 | EV8: 804 | EW8: 785 | EX8: 19 | EY8: 55 | EZ8: 53 | FA8: 2 | FB8: 2 | FC8: 0 | FD8: 0 | FE8: 0 | FF8: 4 | FG8: 0 | FH8: 42 | FI8: 1 | FJ8: 5 | FK8: 1 | FL8: 164 | FM8: 158 | FN8: 6 | FO8: 79 | FP8: 3 | FQ8: 13 | FR8: 1 | FS8: 10 | FT8: 0 | FU8: 27 | FV8: 1 | FW8: 6 | FX8: 0 | FY8: 5 | FZ8: 0 | GA8: 18 | GB8: 1
A9: 新北市 | B9: New Taipei City | C9: 1153 | D9: 1149 | E9: 4 | F9: 375 | G9: 0 | H9: 9 | I9: 0 | J9: 355 | K9: 3 | L9: 317 | M9: 0 | N9: 0 | O9: 0 | P9: 0 | Q9: 0 | R9: 5 | S9: 0 | T9: 40 | U9: 1 | V9: 47 | W9: 0 | X9: 1 | Y9: 0 | Z9: 874 | AA9: 870 | AB9: 4 | AC9: 199 | AD9: 2 | AE9: 570 | AF9: 1 | AG9: 87 | AH9: 1 | AI9: 14 | AJ9: 0 | AK9: 874 | AL9: 870 | AM9: 4 | AN9: 194 | AO9: 1 | AP9: 207 | AQ9: 0 | AR9: 36 | AS9: 0 | AT9: 154 | AU9: 1 | AV9: 127 | AW9: 0 | AX9: 72 | AY9: 2 | AZ9: 60 | BA9: 0 | BB9: 20 | BC9: 0 | BD9: 0 | BE9: 0 | BF9: 0 | BG9: 0 | BH9: 0 | BI9: 0 | BJ9: 0 | BK9: 0 | BL9: 0 | BM9: 0 | BN9: 0 | BO9: 0 | BP9: 0 | BQ9: 50 | BR9: 50 | BS9: 0 | BT9: 12 | BU9: 0 | BV9: 1 | BW9: 0 | BX9: 37 | BY9: 0 | BZ9: 279 | CA9: 279 | CB9: 0 | CC9: 1 | CD9: 1 | CE9: 0 | CF9: 199 | CG9: 199 | CH9: 0 | CI9: 78 | CJ9: 0 | CK9: 2 | CL9: 0 | CM9: 35 | CN9: 0 | CO9: 2 | CP9: 0 | CQ9: 0 | CR9: 0 | CS9: 39 | CT9: 0 | CU9: 1 | CV9: 0 | CW9: 1 | CX9: 0 | CY9: 0 | CZ9: 0 | DA9: 153 | DB9: 152 | DC9: 1 | DD9: 100 | DE9: 99 | DF9: 1 | DG9: 53 | DH9: 53 | DI9: 0 | DJ9: 13 | DK9: 13 | DL9: 0 | DM9: 3 | DN9: 0 | DO9: 10 | DP9: 0 | DQ9: 57 | DR9: 57 | DS9: 0 | DT9: 43 | DU9: 43 | DV9: 0 | DW9: 32 | DX9: 32 | DY9: 0 | DZ9: 0 | EA9: 0 | EB9: 32 | EC9: 0 | ED9: 0 | EE9: 0 | EF9: 1 | EG9: 1 | EH9: 0 | EI9: 1 | EJ9: 0 | EK9: 0 | EL9: 0 | EM9: 200 | EN9: 198 | EO9: 2 | EP9: 0 | EQ9: 0 | ER9: 0 | ES9: 15 | ET9: 14 | EU9: 1 | EV9: 166 | EW9: 165 | EX9: 1 | EY9: 0 | EZ9: 0 | FA9: 0 | FB9: 0 | FC9: 0 | FD9: 0 | FE9: 0 | FF9: 0 | FG9: 0 | FH9: 0 | FI9: 0 | FJ9: 0 | FK9: 0 | FL9: 19 | FM9: 19 | FN9: 0 | FO9: 4 | FP9: 0 | FQ9: 0 | FR9: 0 | FS9: 2 | FT9: 0 | FU9: 1 | FV9: 0 | FW9: 3 | FX9: 0 | FY9: 3 | FZ9: 0 | GA9: 6 | GB9: 0
A10: 臺北市 | B10: Taipei City | C10: 504 | D10: 504 | E10: 0 | F10: 150 | G10: 0 | H10: 10 | I10: 0 | J10: 130 | K10: 0 | L10: 170 | M10: 0 | N10: 0 | O10: 0 | P10: 0 | Q10: 0 | R10: 0 | S10: 0 | T10: 16 | U10: 0 | V10: 28 | W10: 0 | X10: 0 | Y10: 0 | Z10: 324 | AA10: 324 | AB10: 0 | AC10: 114 | AD10: 0 | AE10: 152 | AF10: 0 | AG10: 50 | AH10: 0 | AI10: 8 | AJ10: 0 | AK10: 324 | AL10: 324 | AM10: 0 | AN10: 33 | AO10: 0 | AP10: 28 | AQ10: 0 | AR10: 36 | AS10: 0 | AT10: 32 | AU10: 0 | AV10: 41 | AW10: 0 | AX10: 41 | AY10: 0 | AZ10: 67 | BA10: 0 | BB10: 46 | BC10: 0 | BD10: 7 | BE10: 7 | BF10: 0 | BG10: 0 | BH10: 0 | BI10: 0 | BJ10: 0 | BK10: 0 | BL10: 0 | BM10: 7 | BN10: 0 | BO10: 0 | BP10: 0 | BQ10: 6 | BR10: 6 | BS10: 0 | BT10: 2 | BU10: 0 | BV10: 0 | BW10: 0 | BX10: 4 | BY10: 0 | BZ10: 173 | CA10: 173 | CB10: 0 | CC10: 0 | CD10: 0 | CE10: 0 | CF10: 149 | CG10: 149 | CH10: 0 | CI10: 24 | CJ10: 0 | CK10: 5 | CL10: 0 | CM10: 17 | CN10: 0 | CO10: 2 | CP10: 0 | CQ10: 0 | CR10: 0 | CS10: 0 | CT10: 0 | CU10: 0 | CV10: 0 | CW10: 0 | CX10: 0 | CY10: 0 | CZ10: 0 | DA10: 47 | DB10: 47 | DC10: 0 | DD10: 38 | DE10: 38 | DF10: 0 | DG10: 9 | DH10: 9 | DI10: 0 | DJ10: 9 | DK10: 9 | DL10: 0 | DM10: 0 | DN10: 0 | DO10: 9 | DP10: 0 | DQ10: 18 | DR10: 18 | DS10: 0 | DT10: 17 | DU10: 17 | DV10: 0 | DW10: 4 | DX10: 4 | DY10: 0 | DZ10: 1 | EA10: 0 | EB10: 3 | EC10: 0 | ED10: 0 | EE10: 0 | EF10: 2 | EG10: 2 | EH10: 0 | EI10: 0 | EJ10: 0 | EK10: 2 | EL10: 0 | EM10: 90 | EN10: 90 | EO10: 0 | EP10: 0 | EQ10: 0 | ER10: 0 | ES10: 12 | ET10: 12 | EU10: 0 | EV10: 54 | EW10: 54 | EX10: 0 | EY10: 4 | EZ10: 4 | FA10: 0 | FB10: 0 | FC10: 0 | FD10: 0 | FE10: 0 | FF10: 1 | FG10: 0 | FH10: 2 | FI10: 0 | FJ10: 1 | FK10: 0 | FL10: 20 | FM10: 20 | FN10: 0 | FO10: 10 | FP10: 0 | FQ10: 5 | FR10: 0 | FS10: 0 | FT10: 0 | FU10: 1 | FV10: 0 | FW10: 0 | FX10: 0 | FY10: 0 | FZ10: 0 | GA10: 4 | GB10: 0
A11: 桃園市 | B11: Taoyuan City | C11: 1025 | D11: 1023 | E11: 2 | F11: 396 | G11: 1 | H11: 23 | I11: 0 | J11: 295 | K11: 0 | L11: 238 | M11: 0 | N11: 0 | O11: 0 | P11: 0 | Q11: 0 | R11: 6 | S11: 0 | T11: 35 | U11: 1 | V11: 29 | W11: 0 | X11: 1 | Y11: 0 | Z11: 807 | AA11: 806 | AB11: 1 | AC11: 383 | AD11: 1 | AE11: 344 | AF11: 0 | AG11: 73 | AH11: 0 | AI11: 6 | AJ11: 0 | AK11: 807 | AL11: 806 | AM11: 1 | AN11: 50 | AO11: 0 | AP11: 43 | AQ11: 0 | AR11: 56 | AS11: 0 | AT11: 59 | AU11: 0 | AV11: 107 | AW11: 0 | AX11: 126 | AY11: 1 | AZ11: 129 | BA11: 0 | BB11: 236 | BC11: 0 | BD11: 18 | BE11: 18 | BF11: 0 | BG11: 5 | BH11: 0 | BI11: 0 | BJ11: 0 | BK11: 0 | BL11: 0 | BM11: 12 | BN11: 0 | BO11: 1 | BP11: 0 | BQ11: 15 | BR11: 15 | BS11: 0 | BT11: 3 | BU11: 0 | BV11: 0 | BW11: 0 | BX11: 12 | BY11: 0 | BZ11: 200 | CA11: 199 | CB11: 1 | CC11: 3 | CD11: 3 | CE11: 0 | CF11: 147 | CG11: 146 | CH11: 1 | CI11: 50 | CJ11: 0 | CK11: 3 | CL11: 0 | CM11: 28 | CN11: 0 | CO11: 5 | CP11: 0 | CQ11: 10 | CR11: 0 | CS11: 4 | CT11: 0 | CU11: 0 | CV11: 0 | CW11: 0 | CX11: 0 | CY11: 0 | CZ11: 0 | DA11: 22 | DB11: 22 | DC11: 0 | DD11: 20 | DE11: 20 | DF11: 0 | DG11: 12 | DH11: 12 | DI11: 0 | DJ11: 6 | DK11: 6 | DL11: 0 | DM11: 2 | DN11: 0 | DO11: 4 | DP11: 0 | DQ11: 22 | DR11: 22 | DS11: 0 | DT11: 20 | DU11: 20 | DV11: 0 | DW11: 12 | DX11: 12 | DY11: 0 | DZ11: 0 | EA11: 0 | EB11: 12 | EC11: 0 | ED11: 0 | EE11: 0 | EF11: 6 | EG11: 6 | EH11: 0 | EI11: 2 | EJ11: 0 | EK11: 4 | EL11: 0 | EM11: 173 | EN11: 172 | EO11: 1 | EP11: 0 | EQ11: 0 | ER11: 0 | ES11: 13 | ET11: 13 | EU11: 0 | EV11: 106 | EW11: 105 | EX11: 1 | EY11: 12 | EZ11: 12 | FA11: 0 | FB11: 0 | FC11: 0 | FD11: 0 | FE11: 0 | FF11: 1 | FG11: 0 | FH11: 11 | FI11: 0 | FJ11: 0 | FK11: 0 | FL11: 42 | FM11: 42 | FN11: 0 | FO11: 25 | FP11: 0 | FQ11: 0 | FR11: 0 | FS11: 3 | FT11: 0 | FU11: 13 | FV11: 0 | FW11: 1 | FX11: 0 | FY11: 0 | FZ11: 0 | GA11: 0 | GB11: 0
A12: 臺中市 | B12: Taichung City | C12: 946 | D12: 939 | E12: 7 | F12: 253 | G12: 1 | H12: 24 | I12: 0 | J12: 272 | K12: 5 | L12: 258 | M12: 1 | N12: 0 | O12: 0 | P12: 0 | Q12: 0 | R12: 19 | S12: 0 | T12: 66 | U12: 0 | V12: 39 | W12: 0 | X12: 8 | Y12: 0 | Z12: 592 | AA12: 589 | AB12: 3 | AC12: 137 | AD12: 1 | AE12: 369 | AF12: 2 | AG12: 72 | AH12: 0 | AI12: 11 | AJ12: 0 | AK12: 592 | AL12: 589 | AM12: 3 | AN12: 21 | AO12: 0 | AP12: 112 | AQ12: 3 | AR12: 4 | AS12: 0 | AT12: 5 | AU12: 0 | AV12: 315 | AW12: 0 | AX12: 9 | AY12: 0 | AZ12: 98 | BA12: 0 | BB12: 25 | BC12: 0 | BD12: 29 | BE12: 29 | BF12: 0 | BG12: 7 | BH12: 0 | BI12: 1 | BJ12: 0 | BK12: 2 | BL12: 0 | BM12: 18 | BN12: 0 | BO12: 1 | BP12: 0 | BQ12: 13 | BR12: 13 | BS12: 0 | BT12: 7 | BU12: 0 | BV12: 0 | BW12: 0 | BX12: 6 | BY12: 0 | BZ12: 325 | CA12: 321 | CB12: 4 | CC12: 17 | CD12: 17 | CE12: 0 | CF12: 217 | CG12: 213 | CH12: 4 | CI12: 88 | CJ12: 0 | CK12: 7 | CL12: 0 | CM12: 13 | CN12: 0 | CO12: 5 | CP12: 0 | CQ12: 1 | CR12: 0 | CS12: 62 | CT12: 0 | CU12: 3 | CV12: 0 | CW12: 2 | CX12: 0 | CY12: 1 | CZ12: 0 | DA12: 58 | DB12: 58 | DC12: 0 | DD12: 92 | DE12: 92 | DF12: 0 | DG12: 58 | DH12: 58 | DI12: 0 | DJ12: 32 | DK12: 32 | DL12: 0 | DM12: 17 | DN12: 0 | DO12: 15 | DP12: 0 | DQ12: 39 | DR12: 39 | DS12: 0 | DT12: 53 | DU12: 53 | DV12: 0 | DW12: 39 | DX12: 39 | DY12: 0 | DZ12: 3 | EA12: 0 | EB12: 19 | EC12: 0 | ED12: 17 | EE12: 0 | EF12: 24 | EG12: 24 | EH12: 0 | EI12: 14 | EJ12: 0 | EK12: 10 | EL12: 0 | EM12: 110 | EN12: 109 | EO12: 1 | EP12: 2 | EQ12: 2 | ER12: 0 | ES12: 23 | ET12: 23 | EU12: 0 | EV12: 58 | EW12: 58 | EX12: 0 | EY12: 4 | EZ12: 4 | FA12: 0 | FB12: 2 | FC12: 0 | FD12: 0 | FE12: 0 | FF12: 0 | FG12: 0 | FH12: 2 | FI12: 0 | FJ12: 0 | FK12: 0 | FL12: 23 | FM12: 22 | FN12: 1 | FO12: 14 | FP12: 0 | FQ12: 1 | FR12: 0 | FS12: 0 | FT12: 0 | FU12: 2 | FV12: 1 | FW12: 0 | FX12: 0 | FY12: 0 | FZ12: 0 | GA12: 5 | GB12: 0
A13: 臺南市 | B13: Tainan City | C13: 331 | D13: 329 | E13: 2 | F13: 101 | G13: 0 | H13: 6 | I13: 0 | J13: 103 | K13: 2 | L13: 66 | M13: 0 | N13: 0 | O13: 0 | P13: 0 | Q13: 0 | R13: 0 | S13: 0 | T13: 18 | U13: 0 | V13: 25 | W13: 0 | X13: 10 | Y13: 0 | Z13: 216 | AA13: 215 | AB13: 1 | AC13: 175 | AD13: 1 | AE13: 36 | AF13: 0 | AG13: 4 | AH13: 0 | AI13: 0 | AJ13: 0 | AK13: 216 | AL13: 215 | AM13: 1 | AN13: 45 | AO13: 0 | AP13: 36 | AQ13: 0 | AR13: 26 | AS13: 0 | AT13: 29 | AU13: 1 | AV13: 34 | AW13: 0 | AX13: 19 | AY13: 0 | AZ13: 19 | BA13: 0 | BB13: 7 | BC13: 0 | BD13: 10 | BE13: 10 | BF13: 0 | BG13: 3 | BH13: 0 | BI13: 0 | BJ13: 0 | BK13: 0 | BL13: 0 | BM13: 4 | BN13: 0 | BO13: 3 | BP13: 0 | BQ13: 10 | BR13: 10 | BS13: 0 | BT13: 5 | BU13: 0 | BV13: 0 | BW13: 0 | BX13: 5 | BY13: 0 | BZ13: 105 | CA13: 104 | CB13: 1 | CC13: 0 | CD13: 0 | CE13: 0 | CF13: 92 | CG13: 92 | CH13: 0 | CI13: 12 | CJ13: 1 | CK13: 2 | CL13: 0 | CM13: 7 | CN13: 1 | CO13: 2 | CP13: 0 | CQ13: 0 | CR13: 0 | CS13: 1 | CT13: 0 | CU13: 0 | CV13: 0 | CW13: 0 | CX13: 0 | CY13: 0 | CZ13: 0 | DA13: 33 | DB13: 33 | DC13: 0 | DD13: 22 | DE13: 22 | DF13: 0 | DG13: 11 | DH13: 11 | DI13: 0 | DJ13: 7 | DK13: 7 | DL13: 0 | DM13: 4 | DN13: 0 | DO13: 3 | DP13: 0 | DQ13: 33 | DR13: 33 | DS13: 0 | DT13: 22 | DU13: 22 | DV13: 0 | DW13: 11 | DX13: 11 | DY13: 0 | DZ13: 0 | EA13: 0 | EB13: 11 | EC13: 0 | ED13: 0 | EE13: 0 | EF13: 7 | EG13: 7 | EH13: 0 | EI13: 4 | EJ13: 0 | EK13: 3 | EL13: 0 | EM13: 85 | EN13: 82 | EO13: 3 | EP13: 0 | EQ13: 0 | ER13: 0 | ES13: 20 | ET13: 19 | EU13: 1 | EV13: 52 | EW13: 51 | EX13: 1 | EY13: 4 | EZ13: 4 | FA13: 0 | FB13: 0 | FC13: 0 | FD13: 0 | FE13: 0 | FF13: 1 | FG13: 0 | FH13: 3 | FI13: 0 | FJ13: 0 | FK13: 0 | FL13: 9 | FM13: 8 | FN13: 1 | FO13: 6 | FP13: 1 | FQ13: 0 | FR13: 0 | FS13: 0 | FT13: 0 | FU13: 1 | FV13: 0 | FW13: 1 | FX13: 0 | FY13: 0 | FZ13: 0 | GA13: 0 | GB13: 0
A14: 高雄市 | B14: Kaohsiung City | C14: 488 | D14: 482 | E14: 6 | F14: 161 | G14: 2 | H14: 8 | I14: 0 | J14: 179 | K14: 4 | L14: 94 | M14: 0 | N14: 0 | O14: 0 | P14: 0 | Q14: 0 | R14: 1 | S14: 0 | T14: 30 | U14: 0 | V14: 8 | W14: 0 | X14: 1 | Y14: 0 | Z14: 252 | AA14: 247 | AB14: 5 | AC14: 115 | AD14: 0 | AE14: 100 | AF14: 5 | AG14: 30 | AH14: 0 | AI14: 2 | AJ14: 0 | AK14: 252 | AL14: 247 | AM14: 5 | AN14: 59 | AO14: 3 | AP14: 14 | AQ14: 0 | AR14: 146 | AS14: 1 | AT14: 7 | AU14: 0 | AV14: 14 | AW14: 1 | AX14: 6 | AY14: 0 | AZ14: 0 | BA14: 0 | BB14: 1 | BC14: 0 | BD14: 24 | BE14: 24 | BF14: 0 | BG14: 1 | BH14: 0 | BI14: 0 | BJ14: 0 | BK14: 0 | BL14: 0 | BM14: 11 | BN14: 0 | BO14: 12 | BP14: 0 | BQ14: 28 | BR14: 28 | BS14: 0 | BT14: 13 | BU14: 0 | BV14: 1 | BW14: 0 | BX14: 14 | BY14: 0 | BZ14: 212 | CA14: 211 | CB14: 1 | CC14: 1 | CD14: 1 | CE14: 0 | CF14: 173 | CG14: 172 | CH14: 1 | CI14: 38 | CJ14: 0 | CK14: 5 | CL14: 0 | CM14: 22 | CN14: 0 | CO14: 1 | CP14: 0 | CQ14: 0 | CR14: 0 | CS14: 10 | CT14: 0 | CU14: 0 | CV14: 0 | CW14: 0 | CX14: 0 | CY14: 0 | CZ14: 0 | DA14: 63 | DB14: 62 | DC14: 1 | DD14: 62 | DE14: 61 | DF14: 1 | DG14: 63 | DH14: 62 | DI14: 1 | DJ14: 13 | DK14: 13 | DL14: 0 | DM14: 9 | DN14: 0 | DO14: 4 | DP14: 0 | DQ14: 63 | DR14: 62 | DS14: 1 | DT14: 62 | DU14: 61 | DV14: 1 | DW14: 63 | DX14: 62 | DY14: 1 | DZ14: 38 | EA14: 1 | EB14: 20 | EC14: 0 | ED14: 4 | EE14: 0 | EF14: 13 | EG14: 13 | EH14: 0 | EI14: 9 | EJ14: 0 | EK14: 4 | EL14: 0 | EM14: 115 | EN14: 104 | EO14: 11 | EP14: 0 | EQ14: 0 | ER14: 0 | ES14: 40 | ET14: 35 | EU14: 5 | EV14: 71 | EW14: 66 | EX14: 5 | EY14: 3 | EZ14: 2 | FA14: 1 | FB14: 0 | FC14: 0 | FD14: 0 | FE14: 0 | FF14: 0 | FG14: 0 | FH14: 2 | FI14: 1 | FJ14: 0 | FK14: 0 | FL14: 1 | FM14: 1 | FN14: 0 | FO14: 0 | FP14: 0 | FQ14: 0 | FR14: 0 | FS14: 1 | FT14: 0 | FU14: 0 | FV14: 0 | FW14: 0 | FX14: 0 | FY14: 0 | FZ14: 0 | GA14: 0 | GB14: 0
A15: 宜蘭縣 | B15: Yilan County | C15: 142 | D15: 140 | E15: 2 | F15: 42 | G15: 0 | H15: 0 | I15: 0 | J15: 35 | K15: 2 | L15: 42 | M15: 0 | N15: 0 | O15: 0 | P15: 0 | Q15: 0 | R15: 1 | S15: 0 | T15: 13 | U15: 0 | V15: 7 | W15: 0 | X15: 0 | Y15: 0 | Z15: 86 | AA15: 85 | AB15: 1 | AC15: 40 | AD15: 0 | AE15: 30 | AF15: 1 | AG15: 13 | AH15: 0 | AI15: 2 | AJ15: 0 | AK15: 86 | AL15: 85 | AM15: 1 | AN15: 0 | AO15: 0 | AP15: 21 | AQ15: 0 | AR15: 4 | AS15: 0 | AT15: 10 | AU15: 0 | AV15: 25 | AW15: 0 | AX15: 16 | AY15: 0 | AZ15: 7 | BA15: 1 | BB15: 2 | BC15: 0 | BD15: 5 | BE15: 5 | BF15: 0 | BG15: 0 | BH15: 0 | BI15: 0 | BJ15: 0 | BK15: 0 | BL15: 0 | BM15: 5 | BN15: 0 | BO15: 0 | BP15: 0 | BQ15: 7 | BR15: 7 | BS15: 0 | BT15: 2 | BU15: 0 | BV15: 0 | BW15: 0 | BX15: 5 | BY15: 0 | BZ15: 51 | CA15: 50 | CB15: 1 | CC15: 0 | CD15: 0 | CE15: 0 | CF15: 37 | CG15: 36 | CH15: 1 | CI15: 14 | CJ15: 0 | CK15: 3 | CL15: 0 | CM15: 4 | CN15: 0 | CO15: 0 | CP15: 0 | CQ15: 1 | CR15: 0 | CS15: 6 | CT15: 0 | CU15: 0 | CV15: 0 | CW15: 0 | CX15: 0 | CY15: 0 | CZ15: 0 | DA15: 21 | DB15: 21 | DC15: 0 | DD15: 16 | DE15: 16 | DF15: 0 | DG15: 5 | DH15: 5 | DI15: 0 | DJ15: 2 | DK15: 2 | DL15: 0 | DM15: 0 | DN15: 0 | DO15: 2 | DP15: 0 | DQ15: 12 | DR15: 12 | DS15: 0 | DT15: 8 | DU15: 8 | DV15: 0 | DW15: 4 | DX15: 4 | DY15: 0 | DZ15: 0 | EA15: 0 | EB15: 4 | EC15: 0 | ED15: 0 | EE15: 0 | EF15: 0 | EG15: 0 | EH15: 0 | EI15: 0 | EJ15: 0 | EK15: 0 | EL15: 0 | EM15: 53 | EN15: 50 | EO15: 3 | EP15: 0 | EQ15: 0 | ER15: 0 | ES15: 20 | ET15: 18 | EU15: 2 | EV15: 27 | EW15: 26 | EX15: 1 | EY15: 0 | EZ15: 0 | FA15: 0 | FB15: 0 | FC15: 0 | FD15: 0 | FE15: 0 | FF15: 0 | FG15: 0 | FH15: 0 | FI15: 0 | FJ15: 0 | FK15: 0 | FL15: 6 | FM15: 6 | FN15: 0 | FO15: 2 | FP15: 0 | FQ15: 0 | FR15: 0 | FS15: 3 | FT15: 0 | FU15: 1 | FV15: 0 | FW15: 0 | FX15: 0 | FY15: 0 | FZ15: 0 | GA15: 0 | GB15: 0
A16: 新竹縣 | B16: Hsinchu County | C16: 187 | D16: 186 | E16: 1 | F16: 69 | G16: 0 | H16: 0 | I16: 0 | J16: 52 | K16: 0 | L16: 49 | M16: 0 | N16: 0 | O16: 0 | P16: 0 | Q16: 0 | R16: 0 | S16: 0 | T16: 14 | U16: 1 | V16: 2 | W16: 0 | X16: 0 | Y16: 0 | Z16: 129 | AA16: 128 | AB16: 1 | AC16: 71 | AD16: 1 | AE16: 40 | AF16: 0 | AG16: 15 | AH16: 0 | AI16: 2 | AJ16: 0 | AK16: 129 | AL16: 128 | AM16: 1 | AN16: 29 | AO16: 0 | AP16: 35 | AQ16: 1 | AR16: 18 | AS16: 0 | AT16: 23 | AU16: 0 | AV16: 15 | AW16: 0 | AX16: 5 | AY16: 0 | AZ16: 2 | BA16: 0 | BB16: 1 | BC16: 0 | BD16: 6 | BE16: 6 | BF16: 0 | BG16: 0 | BH16: 0 | BI16: 1 | BJ16: 0 | BK16: 0 | BL16: 0 | BM16: 5 | BN16: 0 | BO16: 0 | BP16: 0 | BQ16: 7 | BR16: 7 | BS16: 0 | BT16: 4 | BU16: 0 | BV16: 0 | BW16: 0 | BX16: 3 | BY16: 0 | BZ16: 52 | CA16: 52 | CB16: 0 | CC16: 0 | CD16: 0 | CE16: 0 | CF16: 47 | CG16: 47 | CH16: 0 | CI16: 5 | CJ16: 0 | CK16: 0 | CL16: 0 | CM16: 3 | CN16: 0 | CO16: 1 | CP16: 0 | CQ16: 0 | CR16: 0 | CS16: 1 | CT16: 0 | CU16: 0 | CV16: 0 | CW16: 0 | CX16: 0 | CY16: 0 | CZ16: 0 | DA16: 35 | DB16: 35 | DC16: 0 | DD16: 41 | DE16: 41 | DF16: 0 | DG16: 35 | DH16: 35 | DI16: 0 | DJ16: 3 | DK16: 3 | DL16: 0 | DM16: 1 | DN16: 0 | DO16: 2 | DP16: 0 | DQ16: 33 | DR16: 33 | DS16: 0 | DT16: 35 | DU16: 35 | DV16: 0 | DW16: 33 | DX16: 33 | DY16: 0 | DZ16: 9 | EA16: 0 | EB16: 24 | EC16: 0 | ED16: 0 | EE16: 0 | EF16: 3 | EG16: 3 | EH16: 0 | EI16: 1 | EJ16: 0 | EK16: 2 | EL16: 0 | EM16: 38 | EN16: 38 | EO16: 0 | EP16: 0 | EQ16: 0 | ER16: 0 | ES16: 6 | ET16: 6 | EU16: 0 | EV16: 30 | EW16: 30 | EX16: 0 | EY16: 1 | EZ16: 1 | FA16: 0 | FB16: 0 | FC16: 0 | FD16: 0 | FE16: 0 | FF16: 0 | FG16: 0 | FH16: 1 | FI16: 0 | FJ16: 0 | FK16: 0 | FL16: 1 | FM16: 1 | FN16: 0 | FO16: 0 | FP16: 0 | FQ16: 0 | FR16: 0 | FS16: 0 | FT16: 0 | FU16: 0 | FV16: 0 | FW16: 0 | FX16: 0 | FY16: 0 | FZ16: 0 | GA16: 1 | GB16: 0
