Workbook
Name pp: '105'!$A$1:$AI$10
Name pp: '105~108'!$A$1:$AI$8
Name pp: '106'!$A$1:$AI$10
Name pp: '107'!$A$1:$AI$10
Name pp: '108'!$A$1:$AI$10
Name pp: '109 '!$A$1:$Y$10
Name pp: '110'!$A$1:$Y$10
Name pp: '111'!$A$1:$Y$11
Name pp: '112'!$A$1:$Y$11
Name pp: '113'!$A$1:$AC$11
Name pp: '歷年(109~)'!$A$1:$Y$7
Name pp: #REF!
Name ppp: #REF!
Name ppp: #REF!
Name ppp: #REF!
Name ppp: #REF!
Name ppp: #REF!
Name ppp: #REF!
Name ppp: #REF!
Name ppp: #REF!
Name ppp: #REF!
Name ppp: #REF!
Name ppp: #REF!
Name ppp: #REF!
Name 低收: #REF!
Name 低收: #REF!
Name 低收: #REF!
Name 低收: #REF!
Name 低收: #REF!
Name 低收: #REF!
Name 低收: #REF!
Name 低收: #REF!
Name 低收: #REF!
Name 低收: #REF!
Name 低收: #REF!
Name 低收: #REF!

Sheet 歷年(109~)
A1: 性侵害加害人處遇
A3: 年別 Year | C3: (1)加害人個案人數按處分類別分(人) (不含依少年事件處理法裁定保護處分確定而法院認有必要者) | Z3: (2)本期加害人個案尚接受身心治療或輔導教育者按再犯等級分(人) (不含依少年事件處理法裁定保護處分確定而法院認有必要者) | AK3: (3)本期加害人個案尚接受身心治療或輔導教育者按處遇期程分(人) (不含依少年事件處理法裁定保護處分確定而法院認有必要者) | BD3: (4)本期加害人個案暫停處遇人數按暫停原因分(人)(不含依少年事件處理法裁定保護處分確定而法院認有必要者) | BQ3: (5)處遇期間再犯人數按再犯案件分(人)(不含依少年事件處理法裁定保護處分確定而法院認有必要者) | BZ3: (6)加害人個案已結案人數按結案狀態分(人)(不含依少年事件處理法裁定保護處分確定而法院認有必要者) | DA3: (7)加害人個案裁罰移送狀況(人次)(不含依少年事件處理法裁定保護處分確定而法院認有必要者) | DQ3: (8)本期加害人個案裁罰移送狀況(人數)(不含依少年事件處理法裁定保護處分確定而法院認有必要者) | EM3: (9)依少年事件處理法裁定保護處分確定而法院裁定實施身心治療或輔導教育處遇者按處遇狀態分(人) | FL3: (9)依少年事件處理法裁定保護處分確定而法院裁定實施身心治療或輔導教育處遇者按處遇狀態分(人)
C4: 合計Total | F4: 有期徒刑或保安處分執行完畢 | H4: 有期徒刑經易服社會勞動 | J4: 假釋 | L4: 緩刑 | N4: 免刑 | P4: 赦免 | R4: 經法院、軍事法院依第22條之1第3項裁定停止強制治療 | T4: 經緩起訴處分確定者 | V4: 犯性騷擾防治法第25條判決有罪確定者 | X4: 犯兒少性剝削防制條例第31條判決有罪確定者 | Z4: 合計Total | AC4: 低再犯 | AE4: 中低再犯 | AG4: 中高再犯 | AI4: 高再犯 | AK4: 合計Total | AN4: 未滿3個月 | AP4: 3個月以上未滿6個月 | AR4: 6個月以上未滿9個月 | AT4: 9個月以上未滿1年 | AV4: 1年以上未滿1年6個月 | AX4: 1年6個月以上未滿2年 | AZ4: 2年以上未滿3年 | BB4: 3年以上至4年 | BD4: 合計 | BG4: 傷殘住院 | BI4: 出國 | BK4: 服兵役 | BM4: 因他案入監服刑 | BO4: 其他 | BQ4: 合計Total | BT4: 再犯性侵害案件 | BV4: 再犯其他案件 且合併性侵害 | BX4: 再犯其他非性侵害案件 | BZ4: 合計Total | CC4: 無須處遇個案 | CF4: 完成處遇人數 | CI4: 未完成處遇已結案人數按結案原因分(人) | CU4: 轉入強制治療人數(人) | DA4: 累計應裁罰移送人次 | DD4: 累計處以行政罰鍰人次 | DG4: 累計聲請移送人次 | DJ4: 累計移送結果確定者按結果分 | DQ4: 本期應裁罰移送個案人數 | DT4: 本期處以行政罰鍰人數 | DW4: 本期聲請移送者按階段分(人數) | EF4: 累計移送結果確定者按結果分(人數) | EM4: 本年截至本期累計少年性侵害行為人個案數 | EP4: 本年截至本期累計無須處遇人數 | ES4: 本年截至本期累計完成處遇人數 | EV4: 本期尚在接受處遇人數 | EY4: 本期暫停處遇人數按暫停原因分 | FL4: 本年截至本期累計未完成處遇已結案人數按結案原因分
C5: 計Total | D5: 男 Male | E5: 女Female | F5: 男 Male | G5: 女Female | H5: 男 Male | I5: 女Female | J5: 男 Male | K5: 女Female | L5: 男 Male | M5: 女Female | N5: 男 Male | O5: 女Female | P5: 男 Male | Q5: 女Female | R5: 男 Male | S5: 女Female | T5: 男 Male | U5: 女Female | V5: 男 Male | W5: 女Female | X5: 男 Male | Y5: 女Female | Z5: 計Total | AA5: 男 Male | AB5: 女Female | AC5: 男 Male | AD5: 女Female | AE5: 男 Male | AF5: 女Female | AG5: 男 Male | AH5: 女Female | AI5: 男 Male | AJ5: 女Female | AK5: 計Total | AL5: 男 Male | AM5: 女Female | AN5: 男 Male | AO5: 女Female | AP5: 男 Male | AQ5: 女Female | AR5: 男 Male | AS5: 女Female | AT5: 男 Male | AU5: 女Female | AV5: 男 Male | AW5: 女Female | AX5: 男 Male | AY5: 女Female | AZ5: 男 Male | BA5: 女Female | BB5: 男 Male | BC5: 女Female | BD5: 計Total | BE5: 男 Male | BF5: 女Female | BG5: 男 Male | BH5: 女Female | BI5: 男 Male | BJ5: 女Female | BK5: 男 Male | BL5: 女Female | BM5: 男 Male | BN5: 女Female | BO5: 男 Male | BP5: 女Female | BQ5: 計Total | BR5: 男 Male | BS5: 女Female | BT5: 男 Male | BU5: 女Female | BV5: 男 Male | BW5: 女Female | BX5: 男 Male | BY5: 女Female | BZ5: 計Total | CA5: 男 Male | CB5: 女Female | CC5: 計Total | CD5: 男 Male | CE5: 女Female | CF5: 計Total | CG5: 男 Male | CH5: 女Female | CI5: 計Total | CK5: 因再犯性侵害罪入獄 | CM5: 戶籍移轉外縣市 | CO5: 死亡 | CQ5: 長期入住機構 | CS5: 其他 | CU5: 計Total | CW5: 依性侵害犯罪防治法第22條規定 | CY5: 依性侵害犯罪防治法第22條之1規定 | DA5: 計 Total | DB5: 男 Male | DC5: 女Female | DD5: 計 Total | DE5: 男 Male | DF5: 女Female | DG5: 計 Total | DH5: 男 Male | DI5: 女Female | DJ5: 合計Total | DM5: 駁回或不起訴者 | DO5: 其他判決結果 | DQ5: 計 Total | DR5: 男 Male | DS5: 女Female | DT5: 計 Total | DU5: 男 Male | DV5: 女Female | DW5: 合計Total | DZ5: 移送家防中心/警察局/其他機關 | EB5: 移送地檢署 | ED5: 移送法院 | EF5: 合計Total | EI5: 駁回或不起訴者 | EK5: 其他判決結果 | EM5: 計 Total | EN5: 男 Male | EO5: 女Female | EP5: 計 Total | EQ5: 男 Male | ER5: 女Female | ES5: 計 Total | ET5: 男 Male | EU5: 女Female | EV5: 計 Total | EW5: 男 Male | EX5: 女Female | EY5: 合計Total | FB5: 傷殘住院 | FD5: 出國 | FF5: 服兵役 | FH5: 因他案入感化教育處所或監獄 | FJ5: 其他 | FL5: 合計Total | FO5: 保護處分期滿且未依規定接受處遇，檢還少年法院(庭) | FQ5: 保護處分期限未滿且未依規定接受處遇，檢還少年法院(庭) | FS5: 再犯性侵入感化教育處所或監獄 | FU5: 戶籍移轉外縣市 | FW5: 死亡 | FY5: 長期入住機構 | GA5: 其他
CI6: 男 Male | CJ6: 女Female | CK6: 男 Male | CL6: 女Female | CM6: 男 Male | CN6: 女Female | CO6: 男 Male | CP6: 女Female | CQ6: 男 Male | CR6: 女Female | CS6: 男 Male | CT6: 女Female | CU6: 男 Male | CV6: 女Female | CW6: 男 Male | CX6: 女Female | CY6: 男 Male | CZ6: 女Female | DJ6: 計 Total | DK6: 男 Male | DL6: 女Female | DM6: 男 Male | DN6: 女Female | DO6: 男 Male | DP6: 女Female | DW6: 計 Total | DX6: 男 Male | DY6: 女Female | DZ6: 男 Male | EA6: 女Female | EB6: 男 Male | EC6: 女Female | ED6: 男 Male | EE6: 女Female | EF6: 計 Total | EG6: 男 Male | EH6: 女Female | EI6: 男 Male | EJ6: 女Female | EK6: 男 Male | EL6: 女Female | EY6: 計 Total | EZ6: 男 Male | FA6: 女Female | FB6: 男 Male | FC6: 女Female | FD6: 男 Male | FE6: 女Female | FF6: 男 Male | FG6: 女Female | FH6: 男 Male | FI6: 女Female | FJ6: 男 Male | FK6: 女Female | FL6: 計 Total | FM6: 男 Male | FN6: 女Female | FO6: 男 Male | FP6: 女Female | FQ6: 男 Male | FR6: 女Female | FS6: 男 Male | FT6: 女Female | FU6: 男 Male | FV6: 女Female | FW6: 男 Male | FX6: 女Female | FY6: 男 Male | FZ6: 女Female | GA6: 男 Male | GB6: 女Female
A7: 109年 2020 | C7: 6821 | D7: 6785 | E7: 36 | F7: 2308 | G7: 4 | H7: 113 | I7: 0 | J7: 1982 | K7: 20 | L7: 1743 | M7: 5 | N7: 0 | O7: 0 | P7: 0 | Q7: 0 | R7: 41 | S7: 0 | T7: 347 | U7: 7 | V7: 224 | W7: 0 | X7: 27 | Y7: 0 | Z7: 4461 | AA7: 4437 | AB7: 24 | AC7: 1579 | AD7: 9 | AE7: 2280 | AF7: 14 | AG7: 523 | AH7: 1 | AI7: 55 | AJ7: 0 | AK7: 4461 | AL7: 4437 | AM7: 24 | AN7: 727 | AO7: 5 | AP7: 770 | AQ7: 7 | AR7: 447 | AS7: 1 | AT7: 437 | AU7: 3 | AV7: 862 | AW7: 3 | AX7: 354 | AY7: 3 | AZ7: 478 | BA7: 1 | BB7: 362 | BC7: 1 | BD7: 292 | BE7: 292 | BF7: 0 | BG7: 27 | BH7: 0 | BI7: 3 | BJ7: 0 | BK7: 2 | BL7: 0 | BM7: 186 | BN7: 0 | BO7: 74 | BP7: 0 | BQ7: 363 | BR7: 363 | BS7: 0 | BT7: 98 | BU7: 0 | BV7: 5 | BW7: 0 | BX7: 260 | BY7: 0 | BZ7: 2068 | CA7: 2056 | CB7: 12 | CC7: 25 | CD7: 25 | CE7: 0 | CF7: 1615 | CG7: 1604 | CH7: 11 | CI7: 421 | CJ7: 1 | CK7: 54 | CL7: 0 | CM7: 176 | CN7: 1 | CO7: 25 | CP7: 0 | CQ7: 17 | CR7: 0 | CS7: 149 | CT7: 0 | CU7: 6 | CV7: 0 | CW7: 5 | CX7: 0 | CY7: 1 | CZ7: 0 | DA7: 638 | DB7: 634 | DC7: 4 | DD7: 520 | DE7: 517 | DF7: 3 | DG7: 374 | DH7: 372 | DI7: 2 | DJ7: 120 | DK7: 119 | DL7: 1 | DM7: 49 | DN7: 1 | DO7: 70 | DP7: 0 | DQ7: 448 | DR7: 446 | DS7: 2 | DT7: 371 | DU7: 369 | DV7: 2 | DW7: 325 | DX7: 323 | DY7: 2 | DZ7: 133 | EA7: 1 | EB7: 167 | EC7: 1 | ED7: 23 | EE7: 0 | EF7: 90 | EG7: 89 | EH7: 1 | EI7: 44 | EJ7: 1 | EK7: 45 | EL7: 0 | EM7: 1344 | EN7: 1296 | EO7: 48 | EP7: 7 | EQ7: 5 | ER7: 2 | ES7: 314 | ET7: 295 | EU7: 19 | EV7: 804 | EW7: 785 | EX7: 19 | EY7: 55 | EZ7: 53 | FA7: 2 | FB7: 2 | FC7: 0 | FD7: 0 | FE7: 0 | FF7: 4 | FG7: 0 | FH7: 42 | FI7: 1 | FJ7: 5 | FK7: 1 | FL7: 164 | FM7: 158 | FN7: 6 | FO7: 79 | FP7: 3 | FQ7: 13 | FR7: 1 | FS7: 10 | FT7: 0 | FU7: 27 | FV7: 1 | FW7: 6 | FX7: 0 | FY7: 5 | FZ7: 0 | GA7: 18 | GB7: 1
A8: 110年 2021 | C8: 6540 | D8: 6500 | E8: 40 | F8: 2054 | G8: 9 | H8: 122 | I8: 0 | J8: 1928 | K8: 20 | L8: 1738 | M8: 4 | N8: 0 | O8: 0 | P8: 0 | Q8: 0 | R8: 33 | S8: 0 | T8: 322 | U8: 6 | V8: 286 | W8: 1 | X8: 17 | Y8: 0 | Z8: 4604 | AA8: 4577 | AB8: 27 | AC8: 1614 | AD8: 15 | AE8: 2394 | AF8: 10 | AG8: 510 | AH8: 2 | AI8: 59 | AJ8: 0 | AK8: 4604 | AL8: 4577 | AM8: 27 | AN8: 765 | AO8: 6 | AP8: 750 | AQ8: 9 | AR8: 475 | AS8: 3 | AT8: 427 | AU8: 0 | AV8: 902 | AW8: 4 | AX8: 382 | AY8: 4 | AZ8: 461 | BA8: 1 | BB8: 415 | BC8: 0 | BD8: 369 | BE8: 368 | BF8: 1 | BG8: 32 | BH8: 0 | BI8: 7 | BJ8: 0 | BK8: 13 | BL8: 0 | BM8: 236 | BN8: 0 | BO8: 80 | BP8: 1 | BQ8: 419 | BR8: 419 | BS8: 0 | BT8: 63 | BU8: 0 | BV8: 4 | BW8: 0 | BX8: 352 | BY8: 0 | BZ8: 1567 | CA8: 1555 | CB8: 12 | CC8: 25 | CD8: 25 | CE8: 0 | CF8: 1258 | CG8: 1250 | CH8: 8 | CI8: 272 | CJ8: 4 | CK8: 41 | CL8: 0 | CM8: 121 | CN8: 4 | CO8: 34 | CP8: 0 | CQ8: 5 | CR8: 0 | CS8: 71 | CT8: 0 | CU8: 8 | CV8: 0 | CW8: 3 | CX8: 0 | CY8: 6 | CZ8: 0 | DA8: 711 | DB8: 707 | DC8: 4 | DD8: 486 | DE8: 484 | DF8: 2 | DG8: 494 | DH8: 490 | DI8: 4 | DJ8: 107 | DK8: 107 | DL8: 0 | DM8: 49 | DN8: 0 | DO8: 58 | DP8: 0 | DQ8: 574 | DR8: 571 | DS8: 3 | DT8: 372 | DU8: 371 | DV8: 1 | DW8: 402 | DX8: 399 | DY8: 3 | DZ8: 208 | EA8: 3 | EB8: 175 | EC8: 0 | ED8: 16 | EE8: 0 | EF8: 88 | EG8: 88 | EH8: 0 | EI8: 43 | EJ8: 0 | EK8: 45 | EL8: 0 | EM8: 1228 | EN8: 1173 | EO8: 55 | EP8: 9 | EQ8: 8 | ER8: 1 | ES8: 265 | ET8: 248 | EU8: 17 | EV8: 842 | EW8: 806 | EX8: 36 | EY8: 28 | EZ8: 28 | FA8: 0 | FB8: 0 | FC8: 0 | FD8: 0 | FE8: 0 | FF8: 2 | FG8: 0 | FH8: 26 | FI8: 0 | FJ8: 0 | FK8: 0 | FL8: 84 | FM8: 83 | FN8: 1 | FO8: 38 | FP8: 1 | FQ8: 8 | FR8: 0 | FS8: 8 | FT8: 0 | FU8: 13 | FV8: 0 | FW8: 0 | FX8: 0 | FY8: 0 | FZ8: 0 | GA8: 16 | GB8: 0
A10: 年別 Year | C10: (1)本年截至本期加害人個案人數按處分類別分(人) (不含依少年事件處理法裁定保護處分確定而法院認有必要者) | Z10: (2)本期加害人個案尚接受身心治療或輔導教育者按再犯等級分(人) (不含依少年事件處理法裁定保護處分確定而法院認有必要者) | AM10: (3)本期加害人個案尚接受身心治療或輔導教育者按處遇期程分(人) (不含依少年事件處理法裁定保護處分確定而法院認有必要者) | BF10: (4)本期加害人個案暫停處遇人數按暫停原因分(人)(不含依少年事件處理法裁定保護處分確定而法院認有必要者) | BS10: (5)本年截至本期累計處遇期間再犯人數按再犯案件分(人)(不含依少年事件處理法裁定保護處分確定而法院認有必要者) | CB10: (6)本年截至本期累計加害人個案已結案人數按結案狀態分(人)(不含依少年事件處理法裁定保護處分確定而法院認有必要者) | DC10: (7)本年截至本期加害人個案行政裁罰情形(不含依少年事件處理法裁定保護處分確定而法院認有必要者) | ED10: (8)本年截至本期加害人個案移送情形(不含依少年事件處理法裁定保護處分確定而法院認有必要者) | FA10: (8)本年截至本期加害人個案移送情形(不含依少年事件處理法裁定保護處分確定而法院認有必要者) | FO10: (9)依少年事件處理法裁定保護處分確定而法院認有必要，經縣市政府評估接受身心治療或輔導教育者按處遇狀態分(人) | GK10: (9)依少年事件處理法裁定保護處分確定而法院認有必要，經縣市政府評估接受身心治療或輔導教育者按處遇狀態分(人)
C11: 合計Total | F11: 犯性侵害罪者 | V11: 犯性騷擾防治法第25條判決有罪確定者 | X11: 犯兒少性剝削防制條例第31條判決有罪確定者 | Z11: 合計Total | AC11: 評估中 | AE11: 低再犯 | AG11: 中低再犯 | AI11: 中高再犯 | AK11: 高再犯 | AM11: 合計Total | AP11: 未滿3個月 | AR11: 3個月以上 未滿6個月 | AT11: 6個月以上 未滿9個月 | AV11: 9個月以上 未滿1年 | AX11: 1年以上 未滿1年6個月 | AZ11: 1年6個月以上 未滿2年 | BB11: 2年以上 未滿3年 | BD11: 3年以上至4年 | BF11: 合計 | BI11: 傷殘住院 | BK11: 出國 | BM11: 服兵役 | BO11: 因他案 入監服刑 | BQ11: 其他 | BS11: 合計Total | BV11: 再犯性侵害案件 | BX11: 再犯其他案件 且合併性侵害 | BZ11: 再犯其他非性侵害案件 | CB11: 合計Total | CE11: 本年截至本期累計無須處遇個案 | CH11: 本年截至本期累計完成處遇人數 | CK11: 本年截至本期累計未完成處遇已結案人數按結案原因分(人) | CW11: 本年截至本期累計轉入強制治療人數(人) | DC11: 應行政裁罰個案人數(人) | DL11: 申請行政裁罰個案人次(人次) | DU11: 申請行政裁罰者按結果分(人次) | ED11: 應移送個案人數(人) | EM11: 聲請移送個案人次(人次) | EV11: 聲請移送者按階段分(人次) | FO11: 本年截至本期累計少年性侵害行為人個案人數 | FR11: 本年截至本期累計無須處遇人數 | FU11: 本年截至本期累計完成處遇人數 | FX11: 本期尚在接受處遇者按再犯等級分(人) | GK11: 本期暫停處遇人數按暫停原因分 | GX11: 本年截至本期累計未完成處遇已結案人數按結案原因分
F12: 有期徒刑或保安處分執行完畢 | H12: 有期徒刑經易服社會勞動 | J12: 假釋 | L12: 緩刑 | N12: 免刑 | P12: 赦免 | R12: 經法院、軍事法院依第22條之1第3項裁定停止強制治療 | T12: 經緩起訴處分確定者 | EV12: 合計Total (K)=L+M+N | EY12: 移送家防中心/警察局/其他機關 (L) | FA12: 移送地檢署 (M)=m1+m2+m3 | FI12: 移送法院(人次) (N)=m4=n1+n2+n3
C13: 計Total | D13: 男 Male | E13: 女Female | F13: 男 Male | G13: 女Female | H13: 男 Male | I13: 女Female | J13: 男 Male | K13: 女Female | L13: 男 Male | M13: 女Female | N13: 男 Male | O13: 女Female | P13: 男 Male | Q13: 女Female | R13: 男 Male | S13: 女Female | T13: 男 Male | U13: 女Female | V13: 男 Male | W13: 女Female | X13: 男 Male | Y13: 女Female | Z13: 計Total | AA13: 男 Male | AB13: 女Female | AC13: 男 Male | AD13: 女Female | AE13: 男 Male | AF13: 女Female | AG13: 男 Male | AH13: 女Female | AI13: 男 Male | AJ13: 女Female | AK13: 男 Male | AL13: 女Female | AM13: 計Total | AN13: 男 Male | AO13: 女Female | AP13: 男 Male | AQ13: 女Female | AR13: 男 Male | AS13: 女Female | AT13: 男 Male | AU13: 女Female | AV13: 男 Male | AW13: 女Female | AX13: 男 Male | AY13: 女Female | AZ13: 男 Male | BA13: 女Female | BB13: 男 Male | BC13: 女Female | BD13: 男 Male | BE13: 女Female | BF13: 計Total | BG13: 男 Male | BH13: 女Female | BI13: 男 Male | BJ13: 女Female | BK13: 男 Male | BL13: 女Female | BM13: 男 Male | BN13: 女Female | BO13: 男 Male | BP13: 女Female | BQ13: 男 Male | BR13: 女Female | BS13: 計Total | BT13: 男 Male | BU13: 女Female | BV13: 男 Male | BW13: 女Female | BX13: 男 Male | BY13: 女Female | BZ13: 男 Male | CA13: 女Female | CB13: 計Total | CC13: 男 Male | CD13: 女Female | CE13: 計Total | CF13: 男 Male | CG13: 女Female | CH13: 計Total | CI13: 男 Male | CJ13: 女Female | CK13: 計Total | CM13: 因再犯性侵害罪入獄 | CO13: 戶籍移轉外縣市 | CQ13: 死亡 | CS13: 長期入住機構 | CU13: 其他 | CW13: 計Total | CY13: 依性侵害犯罪防治法第22條規定 | DA13: 依性侵害犯罪防治法第22條之1規定 | DC13: 合計Total | DF13: 前年度應行政裁罰但結果未確定人數 | DI13: 本年度 應行政裁罰人數 | DL13: 合計Total | DO13: 前年度申請行政裁罰但結果未確定人次 | DR13: 本年度申請行政裁罰人次 | DU13: 調查或簽辦中 | DX13: 駁回或不罰 | EA13: 裁罰確定 | ED13: 合計Total | EG13: 前年度應移送但結果未確定人數 | EJ13: 本年度應移送人數 | EM13: 合計Total | EP13: 前年度移送但結果未確定人次 | ES13: 本年度聲請移送人次 | FA13: 偵查中 (m1) | FC13: 駁回或不起訴 (m2) | FE13: 緩起訴 (m3) | FG13: 起訴 (m4) | FI13: 審理中 (n1) | FK13: 無罪 (n2) | FM13: 有罪(拘役、有期徒刑等) (n3) | FO13: 計 Total | FP13: 男 Male | FQ13: 女Female | FR13: 計 Total | FS13: 男 Male | FT13: 女Female | FU13: 計 Total | FV13: 男 Male | FW13: 女Female | FX13: 合計Total | GA13: 評估中 | GC13: 低再犯 | GE13: 中低再犯 | GG13: 中高再犯 | GI13: 高再犯 | GK13: 合計Total | GN13: 傷殘住院 | GP13: 出國 | GR13: 服兵役 | GT13: 因他案入感化教育處所或監獄 | GV13: 其他 | GX13: 合計Total | HA13: 保護處分期滿且未依規定接受處遇，檢還少年法院(庭) | HC13: 保護處分期限未滿且未依規定接受處遇，檢還少年法院(庭) | HE13: 再犯性侵害案件入感化教育處所或監獄 | HG13: 戶籍移轉外縣市 | HI13: 死亡 | HK13: 長期入住機構 | HM13: 其他
CK14: 男 Male | CL14: 女Female | CM14: 男 Male | CN14: 女Female | CO14: 男 Male | CP14: 女Female | CQ14: 男 Male | CR14: 女Female | CS14: 男 Male | CT14: 女Female | CU14: 男 Male | CV14: 女Female | CW14: 男 Male | CX14: 女Female | CY14: 男 Male | CZ14: 女Female | DA14: 男 Male | DB14: 女Female | DC14: 計 Total | DD14: 男 Male | DE14: 女Female | DF14: 計 Total | DG14: 男 Male | DH14: 女Female | DI14: 計 Total | DJ14: 男 Male | DK14: 女Female | DL14: 計 Total | DM14: 男 Male | DN14: 女Female | DO14: 計 Total | DP14: 男 Male | DQ14: 女Female | DR14: 計 Total | DS14: 男 Male | DT14: 女Female | DU14: 計 Total | DV14: 男 Male | DW14: 女Female | DX14: 計 Total | DY14: 男 Male | DZ14: 女Female | EA14: 計 Total | EB14: 男 Male | EC14: 女Female | ED14: 計 Total | EE14: 男 Male | EF14: 女Female | EG14: 計 Total | EH14: 男 Male | EI14: 女Female | EJ14: 計 Total | EK14: 男 Male | EL14: 女Female | EM14: 計 Total | EN14: 男 Male | EO14: 女Female | EP14: 計 Total | EQ14: 男 Male | ER14: 女Female | ES14: 計 Total | ET14: 男 Male | EU14: 女Female | EV14: 計 Total | EW14: 男 Male | EX14: 女Female | EY14: 男 Male | EZ14: 女Female | FA14: 男 Male | FB14: 女Female | FC14: 男 Male | FD14: 女Female | FE14: 男 Male | FF14: 女Female | FG14: 男 Male | FH14: 女Female | FI14: 男 Male | FJ14: 女Female | FK14: 男 Male | FL14: 女Female | FM14: 男 Male | FN14: 女Female | FX14: 計 Total | FY14: 男 Male | FZ14: 女Female | GA14: 男 Male | GB14: 女Female | GC14: 男 Male | GD14: 女Female | GE14: 男 Male | GF14: 女Female | GG14: 男 Male | GH14: 女Female | GI14: 男 Male | GJ14: 女Female | GK14: 計 Total | GL14: 男 Male | GM14: 女Female | GN14: 男 Male | GO14: 女Female | GP14: 男 Male | GQ14: 女Female | GR14: 男 Male | GS14: 女Female | GT14: 男 Male | GU14: 女Female | GV14: 男 Male | GW14: 女Female | GX14: 計 Total | GY14: 男 Male | GZ14: 女Female | HA14: 男 Male | HB14: 女Female | HC14: 男 Male | HD14: 女Female | HE14: 男 Male | HF14: 女Female | HG14: 男 Male | HH14: 女Female | HI14: 男 Male | HJ14: 女Female | HK14: 男 Male | HL14: 女Female | HM14: 男 Male | HN14: 女Female
A15: 111年 2022 | C15: 6678 | D15: 6631 | E15: 47 | F15: 2097 | G15: 8 | H15: 128 | I15: 0 | J15: 1794 | K15: 18 | L15: 1875 | M15: 13 | N15: 4 | O15: 0 | P15: 0 | Q15: 0 | R15: 35 | S15: 0 | T15: 350 | U15: 7 | V15: 330 | W15: 1 | X15: 18 | Y15: 0 | Z15: 4482 | AA15: 4453 | AB15: 29 | AC15: 466 | AD15: 7 | AE15: 1092 | AF15: 7 | AG15: 2351 | AH15: 14 | AI15: 495 | AJ15: 1 | AK15: 49 | AL15: 0 | AM15: 4482 | AN15: 4453 | AO15: 29 | AP15: 755 | AQ15: 10 | AR15: 663 | AS15: 4 | AT15: 508 | AU15: 3 | AV15: 557 | AW15: 3 | AX15: 733 | AY15: 4 | AZ15: 389 | BA15: 4 | BB15: 434 | BC15: 1 | BD15: 414 | BE15: 0 | BF15: 450 | BG15: 448 | BH15: 2 | BI15: 28 | BJ15: 0 | BK15: 14 | BL15: 0 | BM15: 7 | BN15: 0 | BO15: 343 | BP15: 2 | BQ15: 56 | BR15: 0 | BS15: 239 | BT15: 238 | BU15: 1 | BV15: 41 | BW15: 0 | BX15: 0 | BY15: 0 | BZ15: 197 | CA15: 1 | CB15: 1746 | CC15: 1730 | CD15: 16 | CE15: 20 | CF15: 20 | CG15: 0 | CH15: 1448 | CI15: 1435 | CJ15: 13 | CK15: 266 | CL15: 3 | CM15: 27 | CN15: 0 | CO15: 156 | CP15: 2 | CQ15: 31 | CR15: 1 | CS15: 7 | CT15: 0 | CU15: 45 | CV15: 0 | CW15: 9 | CX15: 0 | CY15: 7 | CZ15: 0 | DA15: 2 | DB15: 0 | DC15: 1083 | DD15: 1080 | DE15: 3 | DF15: 36 | DG15: 36 | DH15: 0 | DI15: 1047 | DJ15: 1044 | DK15: 3 | DL15: 1398 | DM15: 1395 | DN15: 3 | DO15: 59 | DP15: 59 | DQ15: 0 | DR15: 1339 | DS15: 1336 | DT15: 3 | DU15: 510 | DV15: 510 | DW15: 0 | DX15: 70 | DY15: 70 | DZ15: 0 | EA15: 818 | EB15: 815 | EC15: 3 | ED15: 555 | EE15: 552 | EF15: 3 | EG15: 100 | EH15: 100 | EI15: 0 | EJ15: 455 | EK15: 452 | EL15: 3 | EM15: 745 | EN15: 742 | EO15: 3 | EP15: 124 | EQ15: 124 | ER15: 0 | ES15: 621 | ET15: 618 | EU15: 3 | EV15: 745 | EW15: 742 | EX15: 3 | EY15: 228 | EZ15: 1 | FA15: 336 | FB15: 1 | FC15: 58 | FD15: 0 | FE15: 2 | FF15: 0 | FG15: 118 | FH15: 1 | FI15: 46 | FJ15: 0 | FK15: 2 | FL15: 0 | FM15: 70 | FN15: 1 | FO15: 1329 | FP15: 1277 | FQ15: 52 | FR15: 17 | FS15: 16 | FT15: 1 | FU15: 350 | FV15: 329 | FW15: 21 | FX15: 805 | FY15: 780 | FZ15: 25 | GA15: 157 | GB15: 10 | GC15: 231 | GD15: 6 | GE15: 307 | GF15: 8 | GG15: 79 | GH15: 1 | GI15: 6 | GJ15: 0 | GK15: 48 | GL15: 47 | GM15: 1 | GN15: 1 | GO15: 0 | GP15: 2 | GQ15: 0 | GR15: 7 | GS15: 0 | GT15: 36 | GU15: 1 | GV15: 1 | GW15: 0 | GX15: 109 | GY15: 105 | GZ15: 4 | HA15: 71 | HB15: 3 | HC15: 10 | HD15: 0 | HE15: 5 | HF15: 0 | HG15: 9 | HH15: 0 | HI15: 1 | HJ15: 0 | HK15: 0 | HL15: 0 | HM15: 9 | HN15: 1
A16: 112年 2023 | C16: 6629 | D16: 6584 | E16: 45 | F16: 2062 | G16: 5 | H16: 119 | I16: 0 | J16: 1606 | K16: 13 | L16: 1977 | M16: 14 | N16: 1 | O16: 3 | P16: 0 | Q16: 0 | R16: 34 | S16: 0 | T16: 359 | U16: 6 | V16: 394 | W16: 4 | X16: 32 | Y16: 0 | Z16: 4197 | AA16: 4178 | AB16: 19 | AC16: 289 | AD16: 3 | AE16: 1043 | AF16: 3 | AG16: 2289 | AH16: 12 | AI16: 492 | AJ16: 1 | AK16: 65 | AL16: 0 | AM16: 4197 | AN16: 4178 | AO16: 19 | AP16: 685 | AQ16: 8 | AR16: 627 | AS16: 2 | AT16: 472 | AU16: 0 | AV16: 479 | AW16: 2 | AX16: 633 | AY16: 4 | AZ16: 536 | BA16: 2 | BB16: 498 | BC16: 1 | BD16: 248 | BE16: 0 | BF16: 502 | BG16: 501 | BH16: 1 | BI16: 26 | BJ16: 0 | BK16: 20 | BL16: 0 | BM16: 6 | BN16: 0 | BO16: 368 | BP16: 1 | BQ16: 81 | BR16: 0 | BS16: 293 | BT16: 292 | BU16: 1 | BV16: 36 | BW16: 0 | BX16: 5 | BY16: 0 | BZ16: 251 | CA16: 1 | CB16: 1930 | CC16: 1905 | CD16: 25 | CE16: 25 | CF16: 24 | CG16: 1 | CH16: 1536 | CI16: 1513 | CJ16: 23 | CK16: 352 | CL16: 1 | CM16: 26 | CN16: 0 | CO16: 128 | CP16: 1 | CQ16: 53 | CR16: 0 | CS16: 8 | CT16: 0 | CU16: 137 | CV16: 0 | CW16: 16 | CX16: 0 | CY16: 12 | CZ16: 0 | DA16: 4 | DB16: 0 | DC16: 1408 | DD16: 1403 | DE16: 5 | DF16: 325 | DG16: 325 | DH16: 0 | DI16: 1083 | DJ16: 1078 | DK16: 5 | DL16: 2259 | DM16: 2252 | DN16: 7 | DO16: 526 | DP16: 525 | DQ16: 1 | DR16: 1733 | DS16: 1727 | DT16: 6 | DU16: 1289 | DV16: 1289 | DW16: 0 | DX16: 114 | DY16: 114 | DZ16: 0 | EA16: 856 | EB16: 849 | EC16: 7 | ED16: 840 | EE16: 833 | EF16: 7 | EG16: 303 | EH16: 302 | EI16: 1 | EJ16: 537 | EK16: 531 | EL16: 6 | EM16: 1032 | EN16: 1025 | EO16: 7 | EP16: 458 | EQ16: 457 | ER16: 1 | ES16: 574 | ET16: 568 | EU16: 6 | EV16: 1032 | EW16: 1025 | EX16: 7 | EY16: 143 | EZ16: 2 | FA16: 491 | FB16: 5 | FC16: 105 | FD16: 0 | FE16: 10 | FF16: 0 | FG16: 276 | FH16: 0 | FI16: 64 | FJ16: 0 | FK16: 7 | FL16: 0 | FM16: 205 | FN16: 0 | FO16: 1206 | FP16: 1144 | FQ16: 62 | FR16: 20 | FS16: 20 | FT16: 0 | FU16: 297 | FV16: 267 | FW16: 30 | FX16: 694 | FY16: 669 | FZ16: 25 | GA16: 91 | GB16: 4 | GC16: 200 | GD16: 12 | GE16: 297 | GF16: 6 | GG16: 73 | GH16: 3 | GI16: 8 | GJ16: 0 | GK16: 59 | GL16: 59 | GM16: 0 | GN16: 0 | GO16: 0 | GP16: 2 | GQ16: 0 | GR16: 4 | GS16: 0 | GT16: 53 | GU16: 0 | GV16: 0 | GW16: 0 | GX16: 136 | GY16: 129 | GZ16: 7 | HA16: 57 | HB16: 3 | HC16: 29 | HD16: 3 | HE16: 7 | HF16: 0 | HG16: 18 | HH16: 1 | HI16: 2 | HJ16: 0 | HK16: 0 | HL16: 0 | HM16: 16 | HN16: 0
A18: 年別 Year | C18: (1)本年截至本期加害人個案人數按處分類別分(人) (不含依少年事件處理法裁定保護處分確定而法院認有必要者) | AD18: (2)本期加害人個案尚接受身心治療、輔導或教育者按再犯等級分(人) (不含依少年事件處理法裁定保護處分確定而法院認有必要者) | AQ18: (3)本期加害人個案尚接受身、輔導或教育者按處遇期程分(人) (不含依少年事件處理法裁定保護處分確定而法院認有必要者) | BJ18: (4)本期加害人個案暫停處遇人數按暫停原因分(人)(不含依少年事件處理法裁定保護處分確定而法院認有必要者) | BW18: (5)本年截至本期累計處遇期間再犯人數按再犯案件分(人)(不含依少年事件處理法裁定保護處分確定而法院認有必要者) | CF18: (6)本年截至本期累計加害人個案已結案人數按結案狀態分(人)(不含依少年事件處理法裁定保護處分確定而法院認有必要者) | DG18: (7)本年截至本期加害人個案行政裁罰情形(不含依少年事件處理法裁定保護處分確定而法院認有必要者) | EH18: (8)本年截至本期加害人個案移送情形(不含依少年事件處理法裁定保護處分確定而法院認有必要者) | FE18: (8)本年截至本期加害人個案移送情形(不含依少年事件處理法裁定保護處分確定而法院認有必要者) | FS18: (9)依少年事件處理法裁定保護處分確定而法院認有必要，經縣市政府評估接受身心治療、輔導或教育者按處遇狀態分(人) | GO18: (9)依少年事件處理法裁定保護處分確定而法院認有必要，經縣市政府評估接受身心治療、輔導或教育者按處遇狀態分(人)
C19: 合計Total | F19: 犯性侵害罪者 | V19: 犯性騷擾防治法第25條判決有罪確定者 | X19: 犯兒童及少年性剝削防制條例第31條判決有罪確定者 | Z19: 犯刑法第319條之2第1項判決有罪確定者 | AB19: 依性侵害犯罪防治法第31條第4項受身心治療、輔導或教育者 | AD19: 合計Total | AG19: 評估中 | AI19: 低再犯 | AK19: 中低再犯 | AM19: 中高再犯 | AO19: 高再犯 | AQ19: 合計Total | AT19: 未滿3個月 | AV19: 3個月以上 未滿6個月 | AX19: 6個月以上 未滿9個月 | AZ19: 9個月以上 未滿1年 | BB19: 1年以上 未滿1年6個月 | BD19: 1年6個月以上 未滿2年 | BF19: 2年以上 未滿3年 | BH19: 3年以上至4年 | BJ19: 合計 | BM19: 傷殘住院 | BO19: 出國 | BQ19: 服兵役 | BS19: 因他案 入監服刑 | BU19: 其他 | BW19: 合計Total | BZ19: 再犯性侵害案件 | CB19: 再犯其他案件 且合併性侵害 | CD19: 再犯其他非性侵害案件 | CF19: 合計Total | CI19: 本年截至本期累計無須處遇個案 | CL19: 本年截至本期累計完成處遇人數 | CO19: 本年截至本期累計未完成處遇已結案人數按結案原因分(人) | DA19: 本年截至本期累計轉入強制治療人數(人) | DG19: 應行政裁罰個案人數(人) | DP19: 申請行政裁罰個案人次(人次) | DY19: 申請行政裁罰者按結果分(人次) | EH19: 應移送個案人數(人) | EQ19: 聲請移送個案人次(人次) | EZ19: 聲請移送者按階段分(人次) | FS19: 本年截至本期累計少年性侵害行為人個案人數 | FV19: 本年截至本期累計無須處遇人數 | FY19: 本年截至本期累計完成處遇人數 | GB19: 本期尚在接受處遇者按再犯等級分(人) | GO19: 本期暫停處遇人數按暫停原因分 | HB19: 本年截至本期累計未完成處遇已結案人數按結案原因分
F20: 有期徒刑、保安處分或性侵害犯罪防治法第37條、第38條所定之強制治療執行完畢 | H20: 有期徒刑經易服社會勞動 | J20: 假釋 | L20: 緩刑 | N20: 免刑 | P20: 赦免 | R20: 經法院依性侵害犯罪防治法第38條第1項但書及第6項規定或刑法第91條之1第2項但書規定裁定停止強制治療 | T20: 經緩起訴處分確定者 | EZ20: 合計Total (K)=L+M+N | FC20: 移送家防中心/警察局/其他機關 (L) | FE20: 移送地檢署 (M)=m1+m2+m3 | FM20: 移送法院(人次) (N)=m4=n1+n2+n3
C21: 計Total | D21: 男 Male | E21: 女Female | F21: 男 Male | G21: 女Female | H21: 男 Male | I21: 女Female | J21: 男 Male | K21: 女Female | L21: 男 Male | M21: 女Female | N21: 男 Male | O21: 女Female | P21: 男 Male | Q21: 女Female | R21: 男 Male | S21: 女Female | T21: 男 Male | U21: 女Female | V21: 男 Male | W21: 女Female | X21: 男 Male | Y21: 女Female | Z21: 男 Male | AA21: 女Female | AB21: 男 Male | AC21: 女Female | AD21: 計Total | AE21: 男 Male | AF21: 女Female | AG21: 男 Male | AH21: 女Female | AI21: 男 Male | AJ21: 女Female | AK21: 男 Male | AL21: 女Female | AM21: 男 Male | AN21: 女Female | AO21: 男 Male | AP21: 女Female | AQ21: 計Total | AR21: 男 Male | AS21: 女Female | AT21: 男 Male | AU21: 女Female | AV21: 男 Male | AW21: 女Female | AX21: 男 Male | AY21: 女Female | AZ21: 男 Male | BA21: 女Female | BB21: 男 Male | BC21: 女Female | BD21: 男 Male | BE21: 女Female | BF21: 男 Male | BG21: 女Female | BH21: 男 Male | BI21: 女Female | BJ21: 計Total | BK21: 男 Male | BL21: 女Female | BM21: 男 Male | BN21: 女Female | BO21: 男 Male | BP21: 女Female | BQ21: 男 Male | BR21: 女Female | BS21: 男 Male | BT21: 女Female | BU21: 男 Male | BV21: 女Female | BW21: 計Total | BX21: 男 Male | BY21: 女Female | BZ21: 男 Male | CA21: 女Female | CB21: 男 Male | CC21: 女Female | CD21: 男 Male | CE21: 女Female | CF21: 計Total | CG21: 男 Male | CH21: 女Female | CI21: 計Total | CJ21: 男 Male | CK21: 女Female | CL21: 計Total | CM21: 男 Male | CN21: 女Female | CO21: 計Total | CQ21: 因再犯性侵害罪入獄 | CS21: 戶籍移轉外縣市 | CU21: 死亡 | CW21: 長期入住機構 | CY21: 其他 | DA21: 計Total | DC21: 依性侵害犯罪防治法第36條及刑法第91之1條規定 | DE21: 依性侵害犯罪防治法第37條及第38條規定 | DG21: 合計Total | DJ21: 前年度應行政裁罰但結果未確定人數 | DM21: 本年度 應行政裁罰人數 | DP21: 合計Total | DS21: 前年度申請行政裁罰但結果未確定人次 | DV21: 本年度申請行政裁罰人次 | DY21: 調查或簽辦中 | EB21: 駁回或不罰 | EE21: 裁罰確定 | EH21: 合計Total | EK21: 前年度應移送但結果未確定人數 | EN21: 本年度應移送人數 | EQ21: 合計Total | ET21: 前年度移送但結果未確定人次 | EW21: 本年度聲請移送人次 | FE21: 偵查中 (m1) | FG21: 駁回或不起訴 (m2) | FI21: 緩起訴 (m3) | FK21: 起訴 (m4) | FM21: 審理中 (n1) | FO21: 無罪 (n2) | FQ21: 有罪(拘役、有期徒刑等) (n3) | FS21: 計 Total | FT21: 男 Male | FU21: 女Female | FV21: 計 Total | FW21: 男 Male | FX21: 女Female | FY21: 計 Total | FZ21: 男 Male | GA21: 女Female | GB21: 合計Total | GE21: 評估中 | GG21: 低再犯 | GI21: 中低再犯 | GK21: 中高再犯 | GM21: 高再犯 | GO21: 合計Total | GR21: 傷殘住院 | GT21: 出國 | GV21: 服兵役 | GX21: 因他案入感化教育處所或監獄 | GZ21: 其他 | HB21: 合計Total | HE21: 保護處分期滿且未依規定接受處遇，檢還少年法院(庭) | HG21: 保護處分期限未滿且未依規定接受處遇，檢還少年法院(庭) | HI21: 再犯性侵害案件入感化教育處所或監獄 | HK21: 戶籍移轉外縣市 | HM21: 死亡 | HO21: 長期入住機構 | HQ21: 其他
CO22: 男 Male | CP22: 女Female | CQ22: 男 Male | CR22: 女Female | CS22: 男 Male | CT22: 女Female | CU22: 男 Male | CV22: 女Female | CW22: 男 Male | CX22: 女Female | CY22: 男 Male | CZ22: 女Female | DA22: 男 Male | DB22: 女Female | DC22: 男 Male | DD22: 女Female | DE22: 男 Male | DF22: 女Female | DG22: 計 Total | DH22: 男 Male | DI22: 女Female | DJ22: 計 Total | DK22: 男 Male | DL22: 女Female | DM22: 計 Total | DN22: 男 Male | DO22: 女Female | DP22: 計 Total | DQ22: 男 Male | DR22: 女Female | DS22: 計 Total | DT22: 男 Male | DU22: 女Female | DV22: 計 Total | DW22: 男 Male | DX22: 女Female | DY22: 計 Total | DZ22: 男 Male | EA22: 女Female | EB22: 計 Total | EC22: 男 Male | ED22: 女Female | EE22: 計 Total | EF22: 男 Male | EG22: 女Female | EH22: 計 Total | EI22: 男 Male | EJ22: 女Female | EK22: 計 Total | EL22: 男 Male | EM22: 女Female | EN22: 計 Total | EO22: 男 Male | EP22: 女Female | EQ22: 計 Total | ER22: 男 Male | ES22: 女Female | ET22: 計 Total | EU22: 男 Male | EV22: 女Female | EW22: 計 Total | EX22: 男 Male | EY22: 女Female | EZ22: 計 Total | FA22: 男 Male | FB22: 女Female | FC22: 男 Male | FD22: 女Female | FE22: 男 Male | FF22: 女Female | FG22: 男 Male | FH22: 女Female | FI22: 男 Male | FJ22: 女Female | FK22: 男 Male | FL22: 女Female | FM22: 男 Male | FN22: 女Female | FO22: 男 Male | FP22: 女Female | FQ22: 男 Male | FR22: 女Female | GB22: 計 Total | GC22: 男 Male | GD22: 女Female | GE22: 男 Male | GF22: 女Female | GG22: 男 Male | GH22: 女Female | GI22: 男 Male | GJ22: 女Female | GK22: 男 Male | GL22: 女Female | GM22: 男 Male | GN22: 女Female | GO22: 計 Total | GP22: 男 Male | GQ22: 女Female | GR22: 男 Male | GS22: 女Female | GT22: 男 Male | GU22: 女Female | GV22: 男 Male | GW22: 女Female | GX22: 男 Male | GY22: 女Female | GZ22: 男 Male | HA22: 女Female | HB22: 計 Total | HC22: 男 Male | HD22: 女Female | HE22: 男 Male | HF22: 女Female | HG22: 男 Male | HH22: 女Female | HI22: 男 Male | HJ22: 女Female | HK22: 男 Male | HL22: 女Female | HM22: 男 Male | HN22: 女Female | HO22: 男 Male | HP22: 女Female | HQ22: 男 Male | HR22: 女Female
A23: 113年 2024 | C23: 6687 | D23: 6639 | E23: 48 | F23: 2083 | G23: 8 | H23: 108 | I23: 1 | J23: 1369 | K23: 9 | L23: 2119 | M23: 17 | N23: 1 | O23: 0 | P23: 0 | Q23: 0 | R23: 36 | S23: 0 | T23: 393 | U23: 9 | V23: 497 | W23: 4 | X23: 31 | Y23: 0 | Z23: 0 | AA23: 0 | AB23: 2 | AC23: 0 | AD23: 4351 | AE23: 4319 | AF23: 32 | AG23: 264 | AH23: 3 | AI23: 998 | AJ23: 7 | AK23: 2404 | AL23: 18 | AM23: 565 | AN23: 4 | AO23: 88 | AP23: 0 | AQ23: 4351 | AR23: 4319 | AS23: 32 | AT23: 789 | AU23: 12 | AV23: 792 | AW23: 5 | AX23: 384 | AY23: 6 | AZ23: 494 | BA23: 3 | BB23: 803 | BC23: 2 | BD23: 396 | BE23: 2 | BF23: 446 | BG23: 1 | BH23: 215 | BI23: 1 | BJ23: 588 | BK23: 587 | BL23: 1 | BM23: 25 | BN23: 0 | BO23: 26 | BP23: 0 | BQ23: 3 | BR23: 0 | BS23: 441 | BT23: 1 | BU23: 92 | BV23: 0 | BW23: 214 | BX23: 214 | BY23: 0 | BZ23: 30 | CA23: 0 | CB23: 3 | CC23: 0 | CD23: 181 | CE23: 0 | CF23: 1748 | CG23: 1733 | CH23: 15 | CI23: 20 | CJ23: 19 | CK23: 1 | CL23: 1402 | CM23: 1392 | CN23: 10 | CO23: 296 | CP23: 4 | CQ23: 33 | CR23: 0 | CS23: 133 | CT23: 4 | CU23: 50 | CV23: 0 | CW23: 5 | CX23: 0 | CY23: 75 | CZ23: 0 | DA23: 26 | DB23: 0 | DC23: 15 | DD23: 0 | DE23: 7 | DF23: 0 | DG23: 790 | DH23: 786 | DI23: 4 | DJ23: 50 | DK23: 50 | DL23: 0 | DM23: 740 | DN23: 736 | DO23: 4 | DP23: 984 | DQ23: 980 | DR23: 4 | DS23: 52 | DT23: 52 | DU23: 0 | DV23: 932 | DW23: 928 | DX23: 4 | DY23: 105 | DZ23: 102 | EA23: 3 | EB23: 76 | EC23: 76 | ED23: 0 | EE23: 803 | EF23: 802 | EG23: 1 | EH23: 744 | EI23: 741 | EJ23: 3 | EK23: 287 | EL23: 287 | EM23: 0 | EN23: 457 | EO23: 454 | EP23: 3 | EQ23: 1122 | ER23: 1115 | ES23: 7 | ET23: 571 | EU23: 567 | EV23: 4 | EW23: 551 | EX23: 548 | EY23: 3 | EZ23: 1122 | FA23: 1115 | FB23: 7 | FC23: 131 | FD23: 3 | FE23: 515 | FF23: 1 | FG23: 130 | FH23: 0 | FI23: 9 | FJ23: 0 | FK23: 330 | FL23: 3 | FM23: 82 | FN23: 0 | FO23: 18 | FP23: 0 | FQ23: 230 | FR23: 3 | FS23: 1177 | FT23: 1126 | FU23: 51 | FV23: 12 | FW23: 11 | FX23: 1 | FY23: 314 | FZ23: 289 | GA23: 25 | GB23: 659 | GC23: 636 | GD23: 23 | GE23: 111 | GF23: 6 | GG23: 166 | GH23: 9 | GI23: 274 | GJ23: 8 | GK23: 73 | GL23: 0 | GM23: 12 | GN23: 0 | GO23: 78 | GP23: 78 | GQ23: 0 | GR23: 1 | GS23: 0 | GT23: 2 | GU23: 0 | GV23: 6 | GW23: 0 | GX23: 63 | GY23: 0 | GZ23: 6 | HA23: 0 | HB23: 114 | HC23: 112 | HD23: 2 | HE23: 52 | HF23: 0 | HG23: 20 | HH23: 0 | HI23: 3 | HJ23: 0 | HK23: 21 | HL23: 0 | HM23: 1 | HN23: 0 | HO23: 0 | HP23: 0 | HQ23: 15 | HR23: 2
A24: 資料來源：直轄市、縣﹝市﹞政府。
A25: Source : County and City Government.
A28: 更新日期：2025/6/2

Sheet 113
A1: 性侵害加害人處遇
A2: 中華民國113年 2024
A4: 區域別 Locality | C4: (1)本年截至本期加害人個案人數按處分類別分(人) (不含依少年事件處理法裁定保護處分確定而法院認有必要者) | AD4: (2)本期加害人個案尚接受身心治療、輔導或教育者按再犯等級分(人) (不含依少年事件處理法裁定保護處分確定而法院認有必要者) | AQ4: (3)本期加害人個案尚接受身、輔導或教育者按處遇期程分(人) (不含依少年事件處理法裁定保護處分確定而法院認有必要者) | BJ4: (4)本期加害人個案暫停處遇人數按暫停原因分(人)(不含依少年事件處理法裁定保護處分確定而法院認有必要者) | BW4: (5)本年截至本期累計處遇期間再犯人數按再犯案件分(人)(不含依少年事件處理法裁定保護處分確定而法院認有必要者) | CF4: (6)本年截至本期累計加害人個案已結案人數按結案狀態分(人)(不含依少年事件處理法裁定保護處分確定而法院認有必要者) | DG4: (7)本年截至本期加害人個案行政裁罰情形(不含依少年事件處理法裁定保護處分確定而法院認有必要者) | EH4: (8)本年截至本期加害人個案移送情形(不含依少年事件處理法裁定保護處分確定而法院認有必要者) | FE4: (8)本年截至本期加害人個案移送情形(不含依少年事件處理法裁定保護處分確定而法院認有必要者) | FS4: (9)依少年事件處理法裁定保護處分確定而法院認有必要，經縣市政府評估接受身心治療、輔導或教育者按處遇狀態分(人) | GO4: (9)依少年事件處理法裁定保護處分確定而法院認有必要，經縣市政府評估接受身心治療、輔導或教育者按處遇狀態分(人)
C5: 合計Total | F5: 犯性侵害罪者 | V5: 犯性騷擾防治法第25條判決有罪確定者 | X5: 犯兒童及少年性剝削防制條例第31條判決有罪確定者 | Z5: 犯刑法第319條之2第1項判決有罪確定者 | AB5: 依性侵害犯罪防治法第31條第4項受身心治療、輔導或教育者 | AD5: 合計Total | AG5: 評估中 | AI5: 低再犯 | AK5: 中低再犯 | AM5: 中高再犯 | AO5: 高再犯 | AQ5: 合計Total | AT5: 未滿3個月 | AV5: 3個月以上 未滿6個月 | AX5: 6個月以上 未滿9個月 | AZ5: 9個月以上 未滿1年 | BB5: 1年以上 未滿1年6個月 | BD5: 1年6個月以上 未滿2年 | BF5: 2年以上 未滿3年 | BH5: 3年以上至4年 | BJ5: 合計 | BM5: 傷殘住院 | BO5: 出國 | BQ5: 服兵役 | BS5: 因他案 入監服刑 | BU5: 其他 | BW5: 合計Total | BZ5: 再犯性侵害案件 | CB5: 再犯其他案件 且合併性侵害 | CD5: 再犯其他非性侵害案件 | CF5: 合計Total | CI5: 本年截至本期累計無須處遇個案 | CL5: 本年截至本期累計完成處遇人數 | CO5: 本年截至本期累計未完成處遇已結案人數按結案原因分(人) | DA5: 本年截至本期累計轉入強制治療人數(人) | DG5: 應行政裁罰個案人數(人) | DP5: 申請行政裁罰個案人次(人次) | DY5: 申請行政裁罰者按結果分(人次) | EH5: 應移送個案人數(人) | EQ5: 聲請移送個案人次(人次) | EZ5: 聲請移送者按階段分(人次) | FS5: 本年截至本期累計少年性侵害行為人個案人數 | FV5: 本年截至本期累計無須處遇人數 | FY5: 本年截至本期累計完成處遇人數 | GB5: 本期尚在接受處遇者按再犯等級分(人) | GO5: 本期暫停處遇人數按暫停原因分 | HB5: 本年截至本期累計未完成處遇已結案人數按結案原因分
F6: 有期徒刑、保安處分或性侵害犯罪防治法第37條、第38條所定之強制治療執行完畢 | H6: 有期徒刑經易服社會勞動 | J6: 假釋 | L6: 緩刑 | N6: 免刑 | P6: 赦免 | R6: 經法院依性侵害犯罪防治法第38條第1項但書及第6項規定或刑法第91條之1第2項但書規定裁定停止強制治療 | T6: 經緩起訴處分確定者 | EZ6: 合計Total (K)=L+M+N | FC6: 移送家防中心/警察局/其他機關 (L) | FE6: 移送地檢署 (M)=m1+m2+m3 | FM6: 移送法院(人次) (N)=m4=n1+n2+n3
C7: 計Total | D7: 男 Male | E7: 女Female | F7: 男 Male | G7: 女Female | H7: 男 Male | I7: 女Female | J7: 男 Male | K7: 女Female | L7: 男 Male | M7: 女Female | N7: 男 Male | O7: 女Female | P7: 男 Male | Q7: 女Female | R7: 男 Male | S7: 女Female | T7: 男 Male | U7: 女Female | V7: 男 Male | W7: 女Female | X7: 男 Male | Y7: 女Female | Z7: 男 Male | AA7: 女Female | AB7: 男 Male | AC7: 女Female | AD7: 計Total | AE7: 男 Male | AF7: 女Female | AG7: 男 Male | AH7: 女Female | AI7: 男 Male | AJ7: 女Female | AK7: 男 Male | AL7: 女Female | AM7: 男 Male | AN7: 女Female | AO7: 男 Male | AP7: 女Female | AQ7: 計Total | AR7: 男 Male | AS7: 女Female | AT7: 男 Male | AU7: 女Female | AV7: 男 Male | AW7: 女Female | AX7: 男 Male | AY7: 女Female | AZ7: 男 Male | BA7: 女Female | BB7: 男 Male | BC7: 女Female | BD7: 男 Male | BE7: 女Female | BF7: 男 Male | BG7: 女Female | BH7: 男 Male | BI7: 女Female | BJ7: 計Total | BK7: 男 Male | BL7: 女Female | BM7: 男 Male | BN7: 女Female | BO7: 男 Male | BP7: 女Female | BQ7: 男 Male | BR7: 女Female | BS7: 男 Male | BT7: 女Female | BU7: 男 Male | BV7: 女Female | BW7: 計Total | BX7: 男 Male | BY7: 女Female | BZ7: 男 Male | CA7: 女Female | CB7: 男 Male | CC7: 女Female | CD7: 男 Male | CE7: 女Female | CF7: 計Total | CG7: 男 Male | CH7: 女Female | CI7: 計Total | CJ7: 男 Male | CK7: 女Female | CL7: 計Total | CM7: 男 Male | CN7: 女Female | CO7: 計Total | CQ7: 因再犯性侵害罪入獄 | CS7: 戶籍移轉外縣市 | CU7: 死亡 | CW7: 長期入住機構 | CY7: 其他 | DA7: 計Total | DC7: 依性侵害犯罪防治法第36條及刑法第91之1條規定 | DE7: 依性侵害犯罪防治法第37條及第38條規定 | DG7: 合計Total | DJ7: 前年度應行政裁罰但結果未確定人數 | DM7: 本年度 應行政裁罰人數 | DP7: 合計Total | DS7: 前年度申請行政裁罰但結果未確定人次 | DV7: 本年度申請行政裁罰人次 | DY7: 調查或簽辦中 | EB7: 駁回或不罰 | EE7: 裁罰確定 | EH7: 合計Total | EK7: 前年度應移送但結果未確定人數 | EN7: 本年度應移送人數 | EQ7: 合計Total | ET7: 前年度移送但結果未確定人次 | EW7: 本年度聲請移送人次 | FE7: 偵查中 (m1) | FG7: 駁回或不起訴 (m2) | FI7: 緩起訴 (m3) | FK7: 起訴 (m4) | FM7: 審理中 (n1) | FO7: 無罪 (n2) | FQ7: 有罪(拘役、有期徒刑等) (n3) | FS7: 計 Total | FT7: 男 Male | FU7: 女Female | FV7: 計 Total | FW7: 男 Male | FX7: 女Female | FY7: 計 Total | FZ7: 男 Male | GA7: 女Female | GB7: 合計Total | GE7: 評估中 | GG7: 低再犯 | GI7: 中低再犯 | GK7: 中高再犯 | GM7: 高再犯 | GO7: 合計Total | GR7: 傷殘住院 | GT7: 出國 | GV7: 服兵役 | GX7: 因他案入感化教育處所或監獄 | GZ7: 其他 | HB7: 合計Total | HE7: 保護處分期滿且未依規定接受處遇，檢還少年法院(庭) | HG7: 保護處分期限未滿且未依規定接受處遇，檢還少年法院(庭) | HI7: 再犯性侵害案件入感化教育處所或監獄 | HK7: 戶籍移轉外縣市 | HM7: 死亡 | HO7: 長期入住機構 | HQ7: 其他
CO8: 男 Male | CP8: 女Female | CQ8: 男 Male | CR8: 女Female | CS8: 男 Male | CT8: 女Female | CU8: 男 Male | CV8: 女Female | CW8: 男 Male | CX8: 女Female | CY8: 男 Male | CZ8: 女Female | DA8: 男 Male | DB8: 女Female | DC8: 男 Male | DD8: 女Female | DE8: 男 Male | DF8: 女Female | DG8: 計 Total | DH8: 男 Male | DI8: 女Female | DJ8: 計 Total | DK8: 男 Male | DL8: 女Female | DM8: 計 Total | DN8: 男 Male | DO8: 女Female | DP8: 計 Total | DQ8: 男 Male | DR8: 女Female | DS8: 計 Total | DT8: 男 Male | DU8: 女Female | DV8: 計 Total | DW8: 男 Male | DX8: 女Female | DY8: 計 Total | DZ8: 男 Male | EA8: 女Female | EB8: 計 Total | EC8: 男 Male | ED8: 女Female | EE8: 計 Total | EF8: 男 Male | EG8: 女Female | EH8: 計 Total | EI8: 男 Male | EJ8: 女Female | EK8: 計 Total | EL8: 男 Male | EM8: 女Female | EN8: 計 Total | EO8: 男 Male | EP8: 女Female | EQ8: 計 Total | ER8: 男 Male | ES8: 女Female | ET8: 計 Total | EU8: 男 Male | EV8: 女Female | EW8: 計 Total | EX8: 男 Male | EY8: 女Female | EZ8: 計 Total | FA8: 男 Male | FB8: 女Female | FC8: 男 Male | FD8: 女Female | FE8: 男 Male | FF8: 女Female | FG8: 男 Male | FH8: 女Female | FI8: 男 Male | FJ8: 女Female | FK8: 男 Male | FL8: 女Female | FM8: 男 Male | FN8: 女Female | FO8: 男 Male | FP8: 女Female | FQ8: 男 Male | FR8: 女Female | GB8: 計 Total | GC8: 男 Male | GD8: 女Female | GE8: 男 Male | GF8: 女Female | GG8: 男 Male | GH8: 女Female | GI8: 男 Male | GJ8: 女Female | GK8: 男 Male | GL8: 女Female | GM8: 男 Male | GN8: 女Female | GO8: 計 Total | GP8: 男 Male | GQ8: 女Female | GR8: 男 Male | GS8: 女Female | GT8: 男 Male | GU8: 女Female | GV8: 男 Male | GW8: 女Female | GX8: 男 Male | GY8: 女Female | GZ8: 男 Male | HA8: 女Female | HB8: 計 Total | HC8: 男 Male | HD8: 女Female | HE8: 男 Male | HF8: 女Female | HG8: 男 Male | HH8: 女Female | HI8: 男 Male | HJ8: 女Female | HK8: 男 Male | HL8: 女Female | HM8: 男 Male | HN8: 女Female | HO8: 男 Male | HP8: 女Female | HQ8: 男 Male | HR8: 女Female
A9: 總 計 | B9: Total | C9: 6687 | D9: 6639 | E9: 48 | F9: 2083 | G9: 8 | H9: 108 | I9: 1 | J9: 1369 | K9: 9 | L9: 2119 | M9: 17 | N9: 1 | O9: 0 | P9: 0 | Q9: 0 | R9: 36 | S9: 0 | T9: 393 | U9: 9 | V9: 497 | W9: 4 | X9: 31 | Y9: 0 | Z9: 0 | AA9: 0 | AB9: 2 | AC9: 0 | AD9: 4351 | AE9: 4319 | AF9: 32 | AG9: 264 | AH9: 3 | AI9: 998 | AJ9: 7 | AK9: 2404 | AL9: 18 | AM9: 565 | AN9: 4 | AO9: 88 | AP9: 0 | AQ9: 4351 | AR9: 4319 | AS9: 32 | AT9: 789 | AU9: 12 | AV9: 792 | AW9: 5 | AX9: 384 | AY9: 6 | AZ9: 494 | BA9: 3 | BB9: 803 | BC9: 2 | BD9: 396 | BE9: 2 | BF9: 446 | BG9: 1 | BH9: 215 | BI9: 1 | BJ9: 588 | BK9: 587 | BL9: 1 | BM9: 25 | BN9: 0 | BO9: 26 | BP9: 0 | BQ9: 3 | BR9: 0 | BS9: 441 | BT9: 1 | BU9: 92 | BV9: 0 | BW9: 214 | BX9: 214 | BY9: 0 | BZ9: 30 | CA9: 0 | CB9: 3 | CC9: 0 | CD9: 181 | CE9: 0 | CF9: 1748 | CG9: 1733 | CH9: 15 | CI9: 20 | CJ9: 19 | CK9: 1 | CL9: 1402 | CM9: 1392 | CN9: 10 | CO9: 296 | CP9: 4 | CQ9: 33 | CR9: 0 | CS9: 133 | CT9: 4 | CU9: 50 | CV9: 0 | CW9: 5 | CX9: 0 | CY9: 75 | CZ9: 0 | DA9: 26 | DB9: 0 | DC9: 15 | DD9: 0 | DE9: 7 | DF9: 0 | DG9: 790 | DH9: 786 | DI9: 4 | DJ9: 50 | DK9: 50 | DL9: 0 | DM9: 740 | DN9: 736 | DO9: 4 | DP9: 984 | DQ9: 980 | DR9: 4 | DS9: 52 | DT9: 52 | DU9: 0 | DV9: 932 | DW9: 928 | DX9: 4 | DY9: 105 | DZ9: 102 | EA9: 3 | EB9: 76 | EC9: 76 | ED9: 0 | EE9: 803 | EF9: 802 | EG9: 1 | EH9: 744 | EI9: 741 | EJ9: 3 | EK9: 287 | EL9: 287 | EM9: 0 | EN9: 457 | EO9: 454 | EP9: 3 | EQ9: 1122 | ER9: 1115 | ES9: 7 | ET9: 571 | EU9: 567 | EV9: 4 | EW9: 551 | EX9: 548 | EY9: 3 | EZ9: 1122 | FA9: 1115 | FB9: 7 | FC9: 131 | FD9: 3 | FE9: 515 | FF9: 1 | FG9: 130 | FH9: 0 | FI9: 9 | FJ9: 0 | FK9: 330 | FL9: 3 | FM9: 82 | FN9: 0 | FO9: 18 | FP9: 0 | FQ9: 230 | FR9: 3 | FS9: 1177 | FT9: 1126 | FU9: 51 | FV9: 12 | FW9: 11 | FX9: 1 | FY9: 314 | FZ9: 289 | GA9: 25 | GB9: 659 | GC9: 636 | GD9: 23 | GE9: 111 | GF9: 6 | GG9: 166 | GH9: 9 | GI9: 274 | GJ9: 8 | GK9: 73 | GL9: 0 | GM9: 12 | GN9: 0 | GO9: 78 | GP9: 78 | GQ9: 0 | GR9: 1 | GS9: 0 | GT9: 2 | GU9: 0 | GV9: 6 | GW9: 0 | GX9: 63 | GY9: 0 | GZ9: 6 | HA9: 0 | HB9: 114 | HC9: 112 | HD9: 2 | HE9: 52 | HF9: 0 | HG9: 20 | HH9: 0 | HI9: 3 | HJ9: 0 | HK9: 21 | HL9: 0 | HM9: 1 | HN9: 0 | HO9: 0 | HP9: 0 | HQ9: 15 | HR9: 2
A10: 新北市 | B10: New Taipei City | C10: 1362 | D10: 1343 | E10: 19 | F10: 410 | G10: 3 | H10: 14 | I10: 1 | J10: 283 | K10: 3 | L10: 438 | M10: 7 | N10: 0 | O10: 0 | P10: 0 | Q10: 0 | R10: 0 | S10: 0 | T10: 49 | U10: 3 | V10: 139 | W10: 2 | X10: 10 | Y10: 0 | Z10: 0 | AA10: 0 | AB10: 0 | AC10: 0 | AD10: 1043 | AE10: 1028 | AF10: 15 | AG10: 57 | AH10: 0 | AI10: 192 | AJ10: 2 | AK10: 614 | AL10: 9 | AM10: 150 | AN10: 4 | AO10: 15 | AP10: 0 | AQ10: 1043 | AR10: 1028 | AS10: 15 | AT10: 237 | AU10: 6 | AV10: 224 | AW10: 2 | AX10: 39 | AY10: 2 | AZ10: 153 | BA10: 1 | BB10: 140 | BC10: 1 | BD10: 103 | BE10: 2 | BF10: 92 | BG10: 0 | BH10: 40 | BI10: 1 | BJ10: 32 | BK10: 32 | BL10: 0 | BM10: 0 | BN10: 0 | BO10: 0 | BP10: 0 | BQ10: 0 | BR10: 0 | BS10: 30 | BT10: 0 | BU10: 2 | BV10: 0 | BW10: 35 | BX10: 35 | BY10: 0 | BZ10: 5 | CA10: 0 | CB10: 0 | CC10: 0 | CD10: 30 | CE10: 0 | CF10: 287 | CG10: 283 | CH10: 4 | CI10: 0 | CJ10: 0 | CK10: 0 | CL10: 233 | CM10: 231 | CN10: 2 | CO10: 48 | CP10: 2 | CQ10: 5 | CR10: 0 | CS10: 35 | CT10: 2 | CU10: 5 | CV10: 0 | CW10: 0 | CX10: 0 | CY10: 3 | CZ10: 0 | DA10: 4 | DB10: 0 | DC10: 4 | DD10: 0 | DE10: 0 | DF10: 0 | DG10: 174 | DH10: 173 | DI10: 1 | DJ10: 0 | DK10: 0 | DL10: 0 | DM10: 174 | DN10: 173 | DO10: 1 | DP10: 232 | DQ10: 231 | DR10: 1 | DS10: 0 | DT10: 0 | DU10: 0 | DV10: 232 | DW10: 231 | DX10: 1 | DY10: 0 | DZ10: 0 | EA10: 0 | EB10: 0 | EC10: 0 | ED10: 0 | EE10: 232 | EF10: 231 | EG10: 1 | EH10: 118 | EI10: 118 | EJ10: 0 | EK10: 0 | EL10: 0 | EM10: 0 | EN10: 118 | EO10: 118 | EP10: 0 | EQ10: 328 | ER10: 324 | ES10: 4 | ET10: 165 | EU10: 161 | EV10: 4 | EW10: 163 | EX10: 163 | EY10: 0 | EZ10: 328 | FA10: 324 | FB10: 4 | FC10: 0 | FD10: 0 | FE10: 148 | FF10: 1 | FG10: 41 | FH10: 0 | FI10: 1 | FJ10: 0 | FK10: 134 | FL10: 3 | FM10: 12 | FN10: 0 | FO10: 10 | FP10: 0 | FQ10: 112 | FR10: 3 | FS10: 183 | FT10: 181 | FU10: 2 | FV10: 0 | FW10: 0 | FX10: 0 | FY10: 29 | FZ10: 28 | GA10: 1 | GB10: 111 | GC10: 110 | GD10: 1 | GE10: 30 | GF10: 0 | GG10: 10 | GH10: 0 | GI10: 65 | GJ10: 1 | GK10: 4 | GL10: 0 | GM10: 1 | GN10: 0 | GO10: 9 | GP10: 9 | GQ10: 0 | GR10: 0 | GS10: 0 | GT10: 0 | GU10: 0 | GV10: 0 | GW10: 0 | GX10: 9 | GY10: 0 | GZ10: 0 | HA10: 0 | HB10: 34 | HC10: 34 | HD10: 0 | HE10: 30 | HF10: 0 | HG10: 0 | HH10: 0 | HI10: 0 | HJ10: 0 | HK10: 3 | HL10: 0 | HM10: 0 | HN10: 0 | HO10: 0 | HP10: 0 | HQ10: 1 | HR10: 0
A11: 臺北市 | B11: Taipei City | C11: 489 | D11: 487 | E11: 2 | F11: 115 | G11: 0 | H11: 7 | I11: 0 | J11: 81 | K11: 0 | L11: 198 | M11: 1 | N11: 1 | O11: 0 | P11: 0 | Q11: 0 | R11: 3 | S11: 0 | T11: 15 | U11: 1 | V11: 65 | W11: 0 | X11: 2 | Y11: 0 | Z11: 0 | AA11: 0 | AB11: 0 | AC11: 0 | AD11: 361 | AE11: 359 | AF11: 2 | AG11: 7 | AH11: 0 | AI11: 56 | AJ11: 2 | AK11: 210 | AL11: 0 | AM11: 69 | AN11: 0 | AO11: 17 | AP11: 0 | AQ11: 361 | AR11: 359 | AS11: 2 | AT11: 20 | AU11: 0 | AV11: 39 | AW11: 0 | AX11: 20 | AY11: 1 | AZ11: 28 | BA11: 1 | BB11: 53 | BC11: 0 | BD11: 51 | BE11: 0 | BF11: 85 | BG11: 0 | BH11: 63 | BI11: 0 | BJ11: 35 | BK11: 35 | BL11: 0 | BM11: 2 | BN11: 0 | BO11: 0 | BP11: 0 | BQ11: 0 | BR11: 0 | BS11: 29 | BT11: 0 | BU11: 4 | BV11: 0 | BW11: 19 | BX11: 19 | BY11: 0 | BZ11: 0 | CA11: 0 | CB11: 2 | CC11: 0 | CD11: 17 | CE11: 0 | CF11: 93 | CG11: 93 | CH11: 0 | CI11: 0 | CJ11: 0 | CK11: 0 | CL11: 69 | CM11: 69 | CN11: 0 | CO11: 22 | CP11: 0 | CQ11: 2 | CR11: 0 | CS11: 17 | CT11: 0 | CU11: 3 | CV11: 0 | CW11: 0 | CX11: 0 | CY11: 0 | CZ11: 0 | DA11: 2 | DB11: 0 | DC11: 0 | DD11: 0 | DE11: 2 | DF11: 0 | DG11: 54 | DH11: 54 | DI11: 0 | DJ11: 0 | DK11: 0 | DL11: 0 | DM11: 54 | DN11: 54 | DO11: 0 | DP11: 79 | DQ11: 79 | DR11: 0 | DS11: 0 | DT11: 0 | DU11: 0 | DV11: 79 | DW11: 79 | DX11: 0 | DY11: 0 | DZ11: 0 | EA11: 0 | EB11: 0 | EC11: 0 | ED11: 0 | EE11: 79 | EF11: 79 | EG11: 0 | EH11: 50 | EI11: 50 | EJ11: 0 | EK11: 26 | EL11: 26 | EM11: 0 | EN11: 24 | EO11: 24 | EP11: 0 | EQ11: 69 | ER11: 69 | ES11: 0 | ET11: 39 | EU11: 39 | EV11: 0 | EW11: 30 | EX11: 30 | EY11: 0 | EZ11: 69 | FA11: 69 | FB11: 0 | FC11: 3 | FD11: 0 | FE11: 41 | FF11: 0 | FG11: 4 | FH11: 0 | FI11: 0 | FJ11: 0 | FK11: 21 | FL11: 0 | FM11: 1 | FN11: 0 | FO11: 2 | FP11: 0 | FQ11: 18 | FR11: 0 | FS11: 72 | FT11: 69 | FU11: 3 | FV11: 0 | FW11: 0 | FX11: 0 | FY11: 11 | FZ11: 10 | GA11: 1 | GB11: 52 | GC11: 50 | GD11: 2 | GE11: 0 | GF11: 0 | GG11: 8 | GH11: 0 | GI11: 22 | GJ11: 2 | GK11: 15 | GL11: 0 | GM11: 5 | GN11: 0 | GO11: 3 | GP11: 3 | GQ11: 0 | GR11: 0 | GS11: 0 | GT11: 0 | GU11: 0 | GV11: 0 | GW11: 0 | GX11: 3 | GY11: 0 | GZ11: 0 | HA11: 0 | HB11: 6 | HC11: 6 | HD11: 0 | HE11: 2 | HF11: 0 | HG11: 0 | HH11: 0 | HI11: 1 | HJ11: 0 | HK11: 2 | HL11: 0 | HM11: 0 | HN11: 0 | HO11: 0 | HP11: 0 | HQ11: 1 | HR11: 0
A12: 桃園市 | B12: Taoyuan City | C12: 927 | D12: 924 | E12: 3 | F12: 318 | G12: 0 | H12: 18 | I12: 0 | J12: 191 | K12: 1 | L12: 279 | M12: 1 | N12: 0 | O12: 0 | P12: 0 | Q12: 0 | R12: 5 | S12: 0 | T12: 41 | U12: 1 | V12: 67 | W12: 0 | X12: 5 | Y12: 0 | Z12: 0 | AA12: 0 | AB12: 0 | AC12: 0 | AD12: 618 | AE12: 615 | AF12: 3 | AG12: 41 | AH12: 1 | AI12: 167 | AJ12: 0 | AK12: 335 | AL12: 2 | AM12: 65 | AN12: 0 | AO12: 7 | AP12: 0 | AQ12: 618 | AR12: 615 | AS12: 3 | AT12: 130 | AU12: 1 | AV12: 135 | AW12: 1 | AX12: 60 | AY12: 1 | AZ12: 80 | BA12: 0 | BB12: 95 | BC12: 0 | BD12: 56 | BE12: 0 | BF12: 53 | BG12: 0 | BH12: 6 | BI12: 0 | BJ12: 123 | BK12: 123 | BL12: 0 | BM12: 14 | BN12: 0 | BO12: 10 | BP12: 0 | BQ12: 1 | BR12: 0 | BS12: 64 | BT12: 0 | BU12: 34 | BV12: 0 | BW12: 36 | BX12: 36 | BY12: 0 | BZ12: 2 | CA12: 0 | CB12: 0 | CC12: 0 | CD12: 34 | CE12: 0 | CF12: 186 | CG12: 186 | CH12: 0 | CI12: 0 | CJ12: 0 | CK12: 0 | CL12: 139 | CM12: 139 | CN12: 0 | CO12: 47 | CP12: 0 | CQ12: 3 | CR12: 0 | CS12: 14 | CT12: 0 | CU12: 12 | CV12: 0 | CW12: 0 | CX12: 0 | CY12: 18 | CZ12: 0 | DA12: 0 | DB12: 0 | DC12: 0 | DD12: 0 | DE12: 0 | DF12: 0 | DG12: 39 | DH12: 39 | DI12: 0 | DJ12: 0 | DK12: 0 | DL12: 0 | DM12: 39 | DN12: 39 | DO12: 0 | DP12: 39 | DQ12: 39 | DR12: 0 | DS12: 0 | DT12: 0 | DU12: 0 | DV12: 39 | DW12: 39 | DX12: 0 | DY12: 0 | DZ12: 0 | EA12: 0 | EB12: 0 | EC12: 0 | ED12: 0 | EE12: 39 | EF12: 39 | EG12: 0 | EH12: 40 | EI12: 40 | EJ12: 0 | EK12: 32 | EL12: 32 | EM12: 0 | EN12: 8 | EO12: 8 | EP12: 0 | EQ12: 40 | ER12: 40 | ES12: 0 | ET12: 32 | EU12: 32 | EV12: 0 | EW12: 8 | EX12: 8 | EY12: 0 | EZ12: 40 | FA12: 40 | FB12: 0 | FC12: 0 | FD12: 0 | FE12: 16 | FF12: 0 | FG12: 9 | FH12: 0 | FI12: 0 | FJ12: 0 | FK12: 15 | FL12: 0 | FM12: 5 | FN12: 0 | FO12: 1 | FP12: 0 | FQ12: 9 | FR12: 0 | FS12: 99 | FT12: 97 | FU12: 2 | FV12: 0 | FW12: 0 | FX12: 0 | FY12: 11 | FZ12: 11 | GA12: 0 | GB12: 65 | GC12: 63 | GD12: 2 | GE12: 8 | GF12: 1 | GG12: 8 | GH12: 0 | GI12: 42 | GJ12: 1 | GK12: 5 | GL12: 0 | GM12: 0 | GN12: 0 | GO12: 12 | GP12: 12 | GQ12: 0 | GR12: 0 | GS12: 0 | GT12: 1 | GU12: 0 | GV12: 1 | GW12: 0 | GX12: 7 | GY12: 0 | GZ12: 3 | HA12: 0 | HB12: 11 | HC12: 11 | HD12: 0 | HE12: 7 | HF12: 0 | HG12: 0 | HH12: 0 | HI12: 0 | HJ12: 0 | HK12: 4 | HL12: 0 | HM12: 0 | HN12: 0 | HO12: 0 | HP12: 0 | HQ12: 0 | HR12: 0
A13: 臺中市 | B13: Taichung City | C13: 855 | D13: 852 | E13: 3 | F13: 215 | G13: 0 | H13: 11 | I13: 0 | J13: 191 | K13: 0 | L13: 253 | M13: 1 | N13: 0 | O13: 0 | P13: 0 | Q13: 0 | R13: 15 | S13: 0 | T13: 87 | U13: 1 | V13: 75 | W13: 1 | X13: 4 | Y13: 0 | Z13: 0 | AA13: 0 | AB13: 1 | AC13: 0 | AD13: 548 | AE13: 547 | AF13: 1 | AG13: 40 | AH13: 0 | AI13: 76 | AJ13: 1 | AK13: 355 | AL13: 0 | AM13: 68 | AN13: 0 | AO13: 8 | AP13: 0 | AQ13: 548 | AR13: 547 | AS13: 1 | AT13: 43 | AU13: 0 | AV13: 89 | AW13: 0 | AX13: 4 | AY13: 1 | AZ13: 10 | BA13: 0 | BB13: 243 | BC13: 0 | BD13: 13 | BE13: 0 | BF13: 108 | BG13: 0 | BH13: 37 | BI13: 0 | BJ13: 79 | BK13: 79 | BL13: 0 | BM13: 4 | BN13: 0 | BO13: 4 | BP13: 0 | BQ13: 0 | BR13: 0 | BS13: 53 | BT13: 0 | BU13: 18 | BV13: 0 | BW13: 6 | BX13: 6 | BY13: 0 | BZ13: 6 | CA13: 0 | CB13: 0 | CC13: 0 | CD13: 0 | CE13: 0 | CF13: 228 | CG13: 226 | CH13: 2 | CI13: 4 | CJ13: 4 | CK13: 0 | CL13: 197 | CM13: 195 | CN13: 2 | CO13: 26 | CP13: 0 | CQ13: 6 | CR13: 0 | CS13: 8 | CT13: 0 | CU13: 5 | CV13: 0 | CW13: 2 | CX13: 0 | CY13: 5 | CZ13: 0 | DA13: 1 | DB13: 0 | DC13: 1 | DD13: 0 | DE13: 0 | DF13: 0 | DG13: 73 | DH13: 73 | DI13: 0 | DJ13: 0 | DK13: 0 | DL13: 0 | DM13: 73 | DN13: 73 | DO13: 0 | DP13: 73 | DQ13: 73 | DR13: 0 | DS13: 0 | DT13: 0 | DU13: 0 | DV13: 73 | DW13: 73 | DX13: 0 | DY13: 0 | DZ13: 0 | EA13: 0 | EB13: 0 | EC13: 0 | ED13: 0 | EE13: 73 | EF13: 73 | EG13: 0 | EH13: 37 | EI13: 37 | EJ13: 0 | EK13: 0 | EL13: 0 | EM13: 0 | EN13: 37 | EO13: 37 | EP13: 0 | EQ13: 43 | ER13: 43 | ES13: 0 | ET13: 0 | EU13: 0 | EV13: 0 | EW13: 43 | EX13: 43 | EY13: 0 | EZ13: 43 | FA13: 43 | FB13: 0 | FC13: 0 | FD13: 0 | FE13: 16 | FF13: 0 | FG13: 6 | FH13: 0 | FI13: 1 | FJ13: 0 | FK13: 20 | FL13: 0 | FM13: 8 | FN13: 0 | FO13: 0 | FP13: 0 | FQ13: 12 | FR13: 0 | FS13: 87 | FT13: 87 | FU13: 0 | FV13: 6 | FW13: 6 | FX13: 0 | FY13: 33 | FZ13: 33 | GA13: 0 | GB13: 39 | GC13: 39 | GD13: 0 | GE13: 8 | GF13: 0 | GG13: 5 | GH13: 0 | GI13: 19 | GJ13: 0 | GK13: 7 | GL13: 0 | GM13: 0 | GN13: 0 | GO13: 1 | GP13: 1 | GQ13: 0 | GR13: 0 | GS13: 0 | GT13: 0 | GU13: 0 | GV13: 0 | GW13: 0 | GX13: 1 | GY13: 0 | GZ13: 0 | HA13: 0 | HB13: 8 | HC13: 8 | HD13: 0 | HE13: 0 | HF13: 0 | HG13: 5 | HH13: 0 | HI13: 0 | HJ13: 0 | HK13: 2 | HL13: 0 | HM13: 0 | HN13: 0 | HO13: 0 | HP13: 0 | HQ13: 1 | HR13: 0
A14: 臺南市 | B14: Tainan City | C14: 326 | D14: 324 | E14: 2 | F14: 95 | G14: 0 | H14: 6 | I14: 0 | J14: 69 | K14: 0 | L14: 111 | M14: 2 | N14: 0 | O14: 0 | P14: 0 | Q14: 0 | R14: 2 | S14: 0 | T14: 22 | U14: 0 | V14: 19 | W14: 0 | X14: 0 | Y14: 0 | Z14: 0 | AA14: 0 | AB14: 0 | AC14: 0 | AD14: 184 | AE14: 183 | AF14: 1 | AG14: 20 | AH14: 1 | AI14: 132 | AJ14: 0 | AK14: 25 | AL14: 0 | AM14: 6 | AN14: 0 | AO14: 0 | AP14: 0 | AQ14: 184 | AR14: 183 | AS14: 1 | AT14: 36 | AU14: 1 | AV14: 41 | AW14: 0 | AX14: 7 | AY14: 0 | AZ14: 24 | BA14: 0 | BB14: 28 | BC14: 0 | BD14: 22 | BE14: 0 | BF14: 13 | BG14: 0 | BH14: 12 | BI14: 0 | BJ14: 38 | BK14: 38 | BL14: 0 | BM14: 2 | BN14: 0 | BO14: 3 | BP14: 0 | BQ14: 0 | BR14: 0 | BS14: 32 | BT14: 0 | BU14: 1 | BV14: 0 | BW14: 2 | BX14: 2 | BY14: 0 | BZ14: 0 | CA14: 0 | CB14: 0 | CC14: 0 | CD14: 2 | CE14: 0 | CF14: 104 | CG14: 103 | CH14: 1 | CI14: 2 | CJ14: 2 | CK14: 0 | CL14: 87 | CM14: 86 | CN14: 1 | CO14: 10 | CP14: 0 | CQ14: 0 | CR14: 0 | CS14: 5 | CT14: 0 | CU14: 5 | CV14: 0 | CW14: 0 | CX14: 0 | CY14: 0 | CZ14: 0 | DA14: 5 | DB14: 0 | DC14: 5 | DD14: 0 | DE14: 0 | DF14: 0 | DG14: 71 | DH14: 71 | DI14: 0 | DJ14: 0 | DK14: 0 | DL14: 0 | DM14: 71 | DN14: 71 | DO14: 0 | DP14: 71 | DQ14: 71 | DR14: 0 | DS14: 0 | DT14: 0 | DU14: 0 | DV14: 71 | DW14: 71 | DX14: 0 | DY14: 0 | DZ14: 0 | EA14: 0 | EB14: 0 | EC14: 0 | ED14: 0 | EE14: 71 | EF14: 71 | EG14: 0 | EH14: 58 | EI14: 58 | EJ14: 0 | EK14: 11 | EL14: 11 | EM14: 0 | EN14: 47 | EO14: 47 | EP14: 0 | EQ14: 72 | ER14: 72 | ES14: 0 | ET14: 25 | EU14: 25 | EV14: 0 | EW14: 47 | EX14: 47 | EY14: 0 | EZ14: 72 | FA14: 72 | FB14: 0 | FC14: 0 | FD14: 0 | FE14: 45 | FF14: 0 | FG14: 7 | FH14: 0 | FI14: 2 | FJ14: 0 | FK14: 18 | FL14: 0 | FM14: 11 | FN14: 0 | FO14: 0 | FP14: 0 | FQ14: 7 | FR14: 0 | FS14: 81 | FT14: 77 | FU14: 4 | FV14: 0 | FW14: 0 | FX14: 0 | FY14: 27 | FZ14: 24 | GA14: 3 | GB14: 44 | GC14: 43 | GD14: 1 | GE14: 4 | GF14: 0 | GG14: 16 | GH14: 1 | GI14: 23 | GJ14: 0 | GK14: 0 | GL14: 0 | GM14: 0 | GN14: 0 | GO14: 3 | GP14: 3 | GQ14: 0 | GR14: 0 | GS14: 0 | GT14: 0 | GU14: 0 | GV14: 0 | GW14: 0 | GX14: 3 | GY14: 0 | GZ14: 0 | HA14: 0 | HB14: 7 | HC14: 7 | HD14: 0 | HE14: 3 | HF14: 0 | HG14: 3 | HH14: 0 | HI14: 0 | HJ14: 0 | HK14: 0 | HL14: 0 | HM14: 0 | HN14: 0 | HO14: 0 | HP14: 0 | HQ14: 1 | HR14: 0
A15: 高雄市 | B15: Kaohsiung City | C15: 445 | D15: 442 | E15: 3 | F15: 138 | G15: 0 | H15: 6 | I15: 0 | J15: 74 | K15: 1 | L15: 132 | M15: 2 | N15: 0 | O15: 0 | P15: 0 | Q15: 0 | R15: 1 | S15: 0 | T15: 55 | U15: 0 | V15: 33 | W15: 0 | X15: 3 | Y15: 0 | Z15: 0 | AA15: 0 | AB15: 0 | AC15: 0 | AD15: 246 | AE15: 243 | AF15: 3 | AG15: 10 | AH15: 1 | AI15: 41 | AJ15: 1 | AK15: 145 | AL15: 1 | AM15: 34 | AN15: 0 | AO15: 13 | AP15: 0 | AQ15: 246 | AR15: 243 | AS15: 3 | AT15: 28 | AU15: 2 | AV15: 30 | AW15: 0 | AX15: 114 | AY15: 0 | AZ15: 23 | BA15: 0 | BB15: 22 | BC15: 0 | BD15: 13 | BE15: 0 | BF15: 5 | BG15: 1 | BH15: 8 | BI15: 0 | BJ15: 12 | BK15: 12 | BL15: 0 | BM15: 0 | BN15: 0 | BO15: 0 | BP15: 0 | BQ15: 0 | BR15: 0 | BS15: 9 | BT15: 0 | BU15: 3 | BV15: 0 | BW15: 21 | BX15: 21 | BY15: 0 | BZ15: 1 | CA15: 0 | CB15: 1 | CC15: 0 | CD15: 19 | CE15: 0 | CF15: 187 | CG15: 187 | CH15: 0 | CI15: 3 | CJ15: 3 | CK15: 0 | CL15: 141 | CM15: 141 | CN15: 0 | CO15: 43 | CP15: 0 | CQ15: 1 | CR15: 0 | CS15: 9 | CT15: 0 | CU15: 4 | CV15: 0 | CW15: 0 | CX15: 0 | CY15: 29 | CZ15: 0 | DA15: 0 | DB15: 0 | DC15: 0 | DD15: 0 | DE15: 0 | DF15: 0 | DG15: 72 | DH15: 72 | DI15: 0 | DJ15: 0 | DK15: 0 | DL15: 0 | DM15: 72 | DN15: 72 | DO15: 0 | DP15: 111 | DQ15: 111 | DR15: 0 | DS15: 0 | DT15: 0 | DU15: 0 | DV15: 111 | DW15: 111 | DX15: 0 | DY15: 7 | DZ15: 7 | EA15: 0 | EB15: 51 | EC15: 51 | ED15: 0 | EE15: 53 | EF15: 53 | EG15: 0 | EH15: 69 | EI15: 69 | EJ15: 0 | EK15: 31 | EL15: 31 | EM15: 0 | EN15: 38 | EO15: 38 | EP15: 0 | EQ15: 73 | ER15: 73 | ES15: 0 | ET15: 35 | EU15: 35 | EV15: 0 | EW15: 38 | EX15: 38 | EY15: 0 | EZ15: 73 | FA15: 73 | FB15: 0 | FC15: 1 | FD15: 0 | FE15: 29 | FF15: 0 | FG15: 12 | FH15: 0 | FI15: 1 | FJ15: 0 | FK15: 30 | FL15: 0 | FM15: 11 | FN15: 0 | FO15: 3 | FP15: 0 | FQ15: 16 | FR15: 0 | FS15: 109 | FT15: 103 | FU15: 6 | FV15: 0 | FW15: 0 | FX15: 0 | FY15: 41 | FZ15: 37 | GA15: 4 | GB15: 58 | GC15: 56 | GD15: 2 | GE15: 12 | GF15: 0 | GG15: 30 | GH15: 2 | GI15: 11 | GJ15: 0 | GK15: 3 | GL15: 0 | GM15: 0 | GN15: 0 | GO15: 4 | GP15: 4 | GQ15: 0 | GR15: 0 | GS15: 0 | GT15: 0 | GU15: 0 | GV15: 0 | GW15: 0 | GX15: 4 | GY15: 0 | GZ15: 0 | HA15: 0 | HB15: 6 | HC15: 6 | HD15: 0 | HE15: 2 | HF15: 0 | HG15: 0 | HH15: 0 | HI15: 0 | HJ15: 0 | HK15: 1 | HL15: 0 | HM15: 0 | HN15: 0 | HO15: 0 | HP15: 0 | HQ15: 3 | HR15: 0
A16: 宜蘭縣 | B16: Yilan County | C16: 154 | D16: 153 | E16: 1 | F16: 60 | G16: 0 | H16: 0 | I16: 0 | J16: 26 | K16: 0 | L16: 43 | M16: 0 | N16: 0 | O16: 0 | P16: 0 | Q16: 0 | R16: 1 | S16: 0 | T16: 7 | U16: 0 | V16: 15 | W16: 1 | X16: 1 | Y16: 0 | Z16: 0 | AA16: 0 | AB16: 0 | AC16: 0 | AD16: 96 | AE16: 95 | AF16: 1 | AG16: 12 | AH16: 0 | AI16: 11 | AJ16: 0 | AK16: 63 | AL16: 1 | AM16: 6 | AN16: 0 | AO16: 3 | AP16: 0 | AQ16: 96 | AR16: 95 | AS16: 1 | AT16: 12 | AU16: 0 | AV16: 2 | AW16: 0 | AX16: 4 | AY16: 0 | AZ16: 7 | BA16: 0 | BB16: 39 | BC16: 1 | BD16: 18 | BE16: 0 | BF16: 10 | BG16: 0 | BH16: 3 | BI16: 0 | BJ16: 12 | BK16: 12 | BL16: 0 | BM16: 0 | BN16: 0 | BO16: 2 | BP16: 0 | BQ16: 0 | BR16: 0 | BS16: 9 | BT16: 0 | BU16: 1 | BV16: 0 | BW16: 5 | BX16: 5 | BY16: 0 | BZ16: 0 | CA16: 0 | CB16: 0 | CC16: 0 | CD16: 5 | CE16: 0 | CF16: 46 | CG16: 46 | CH16: 0 | CI16: 0 | CJ16: 0 | CK16: 0 | CL16: 39 | CM16: 39 | CN16: 0 | CO16: 6 | CP16: 0 | CQ16: 0 | CR16: 0 | CS16: 4 | CT16: 0 | CU16: 1 | CV16: 0 | CW16: 1 | CX16: 0 | CY16: 0 | CZ16: 0 | DA16: 1 | DB16: 0 | DC16: 1 | DD16: 0 | DE16: 0 | DF16: 0 | DG16: 2 | DH16: 2 | DI16: 0 | DJ16: 0 | DK16: 0 | DL16: 0 | DM16: 2 | DN16: 2 | DO16: 0 | DP16: 2 | DQ16: 2 | DR16: 0 | DS16: 0 | DT16: 0 | DU16: 0 | DV16: 2 | DW16: 2 | DX16: 0 | DY16: 0 | DZ16: 0 | EA16: 0 | EB16: 0 | EC16: 0 | ED16: 0 | EE16: 2 | EF16: 2 | EG16: 0 | EH16: 1 | EI16: 1 | EJ16: 0 | EK16: 0 | EL16: 0 | EM16: 0 | EN16: 1 | EO16: 1 | EP16: 0 | EQ16: 1 | ER16: 1 | ES16: 0 | ET16: 0 | EU16: 0 | EV16: 0 | EW16: 1 | EX16: 1 | EY16: 0 | EZ16: 1 | FA16: 1 | FB16: 0 | FC16: 0 | FD16: 0 | FE16: 0 | FF16: 0 | FG16: 0 | FH16: 0 | FI16: 0 | FJ16: 0 | FK16: 1 | FL16: 0 | FM16: 0 | FN16: 0 | FO16: 0 | FP16: 0 | FQ16: 1 | FR16: 0 | FS16: 45 | FT16: 40 | FU16: 5 | FV16: 0 | FW16: 0 | FX16: 0 | FY16: 15 | FZ16: 12 | GA16: 3 | GB16: 23 | GC16: 21 | GD16: 2 | GE16: 2 | GF16: 0 | GG16: 3 | GH16: 0 | GI16: 12 | GJ16: 2 | GK16: 3 | GL16: 0 | GM16: 1 | GN16: 0 | GO16: 4 | GP16: 4 | GQ16: 0 | GR16: 0 | GS16: 0 | GT16: 0 | GU16: 0 | GV16: 0 | GW16: 0 | GX16: 3 | GY16: 0 | GZ16: 1 | HA16: 0 | HB16: 3 | HC16: 3 | HD16: 0 | HE16: 0 | HF16: 0 | HG16: 2 | HH16: 0 | HI16: 1 | HJ16: 0 | HK16: 0 | HL16: 0 | HM16: 0 | HN16: 0 | HO16: 0 | HP16: 0 | HQ16: 0 | HR16: 0
A17: 新竹縣 | B17: Hsinchu County | C17: 176 | D17: 176 | E17: 0 | F17: 82 | G17: 0 | H17: 2 | I17: 0 | J17: 32 | K17: 0 | L17: 49 | M17: 0 | N17: 0 | O17: 0 | P17: 0 | Q17: 0 | R17: 1 | S17: 0 | T17: 7 | U17: 0 | V17: 2 | W17: 0 | X17: 1 | Y17: 0 | Z17: 0 | AA17: 0 | AB17: 0 | AC17: 0 | AD17: 100 | AE17: 100 | AF17: 0 | AG17: 2 | AH17: 0 | AI17: 37 | AJ17: 0 | AK17: 44 | AL17: 0 | AM17: 15 | AN17: 0 | AO17: 2 | AP17: 0 | AQ17: 100 | AR17: 100 | AS17: 0 | AT17: 34 | AU17: 0 | AV17: 30 | AW17: 0 | AX17: 17 | AY17: 0 | AZ17: 8 | BA17: 0 | BB17: 6 | BC17: 0 | BD17: 4 | BE17: 0 | BF17: 1 | BG17: 0 | BH17: 0 | BI17: 0 | BJ17: 20 | BK17: 20 | BL17: 0 | BM17: 0 | BN17: 0 | BO17: 0 | BP17: 0 | BQ17: 0 | BR17: 0 | BS17: 20 | BT17: 0 | BU17: 0 | BV17: 0 | BW17: 20 | BX17: 20 | BY17: 0 | BZ17: 8 | CA17: 0 | CB17: 0 | CC17: 0 | CD17: 12 | CE17: 0 | CF17: 56 | CG17: 56 | CH17: 0 | CI17: 0 | CJ17: 0 | CK17: 0 | CL17: 52 | CM17: 52 | CN17: 0 | CO17: 2 | CP17: 0 | CQ17: 0 | CR17: 0 | CS17: 0 | CT17: 0 | CU17: 1 | CV17: 0 | CW17: 1 | CX17: 0 | CY17: 0 | CZ17: 0 | DA17: 2 | DB17: 0 | DC17: 0 | DD17: 0 | DE17: 2 | DF17: 0 | DG17: 23 | DH17: 23 | DI17: 0 | DJ17: 1 | DK17: 1 | DL17: 0 | DM17: 22 | DN17: 22 | DO17: 0 | DP17: 23 | DQ17: 23 | DR17: 0 | DS17: 1 | DT17: 1 | DU17: 0 | DV17: 22 | DW17: 22 | DX17: 0 | DY17: 0 | DZ17: 0 | EA17: 0 | EB17: 1 | EC17: 1 | ED17: 0 | EE17: 22 | EF17: 22 | EG17: 0 | EH17: 51 | EI17: 51 | EJ17: 0 | EK17: 36 | EL17: 36 | EM17: 0 | EN17: 15 | EO17: 15 | EP17: 0 | EQ17: 51 | ER17: 51 | ES17: 0 | ET17: 36 | EU17: 36 | EV17: 0 | EW17: 15 | EX17: 15 | EY17: 0 | EZ17: 51 | FA17: 51 | FB17: 0 | FC17: 0 | FD17: 0 | FE17: 32 | FF17: 0 | FG17: 14 | FH17: 0 | FI17: 1 | FJ17: 0 | FK17: 4 | FL17: 0 | FM17: 0 | FN17: 0 | FO17: 1 | FP17: 0 | FQ17: 3 | FR17: 0 | FS17: 23 | FT17: 22 | FU17: 1 | FV17: 0 | FW17: 0 | FX17: 0 | FY17: 14 | FZ17: 13 | GA17: 1 | GB17: 4 | GC17: 4 | GD17: 0 | GE17: 0 | GF17: 0 | GG17: 1 | GH17: 0 | GI17: 2 | GJ17: 0 | GK17: 0 | GL17: 0 | GM17: 1 | GN17: 0 | GO17: 1 | GP17: 1 | GQ17: 0 | GR17: 0 | GS17: 0 | GT17: 0 | GU17: 0 | GV17: 1 | GW17: 0 | GX17: 0 | GY17: 0 | GZ17: 0 | HA17: 0 | HB17: 4 | HC17: 4 | HD17: 0 | HE17: 0 | HF17: 0 | HG17: 4 | HH17: 0 | HI17: 0 | HJ17: 0 | HK17: 0 | HL17: 0 | HM17: 0 | HN17: 0 | HO17: 0 | HP17: 0 | HQ17: 0 | HR17: 0
A18: 苗栗縣 | B18: Miaoli County | C18: 237 | D18: 237 | E18: 0 | F18: 69 | G18: 0 | H18: 10 | I18: 0 | J18: 57 | K18: 0 | L18: 65 | M18: 0 | N18: 0 | O18: 0 | P18: 0 | Q18: 0 | R18: 0 | S18: 0 | T18: 16 | U18: 0 | V18: 18 | W18: 0 | X18: 1 | Y18: 0 | Z18: 0 | AA18: 0 | AB18: 1 | AC18: 0 | AD18: 155 | AE18: 155 | AF18: 0 | AG18: 5 | AH18: 0 | AI18: 37 | AJ18: 0 | AK18: 82 | AL18: 0 | AM18: 25 | AN18: 0 | AO18: 6 | AP18: 0 | AQ18: 155 | AR18: 155 | AS18: 0 | AT18: 38 | AU18: 0 | AV18: 22 | AW18: 0 | AX18: 19 | AY18: 0 | AZ18: 19 | BA18: 0 | BB18: 30 | BC18: 0 | BD18: 18 | BE18: 0 | BF18: 6 | BG18: 0 | BH18: 3 | BI18: 0 | BJ18: 25 | BK18: 25 | BL18: 0 | BM18: 0 | BN18: 0 | BO18: 2 | BP18: 0 | BQ18: 0 | BR18: 0 | BS18: 21 | BT18: 0 | BU18: 2 | BV18: 0 | BW18: 3 | BX18: 3 | BY18: 0 | BZ18: 1 | CA18: 0 | CB18: 0 | CC18: 0 | CD18: 2 | CE18: 0 | CF18: 57 | CG18: 57 | CH18: 0 | CI18: 1 | CJ18: 1 | CK18: 0 | CL18: 41 | CM18: 41 | CN18: 0 | CO18: 15 | CP18: 0 | CQ18: 1 | CR18: 0 | CS18: 5 | CT18: 0 | CU18: 3 | CV18: 0 | CW18: 0 | CX18: 0 | CY18: 6 | CZ18: 0 | DA18: 0 | DB18: 0 | DC18: 0 | DD18: 0 | DE18: 0 | DF18: 0 | DG18: 39 | DH18: 39 | DI18: 0 | DJ18: 18 | DK18: 18 | DL18: 0 | DM18: 21 | DN18: 21 | DO18: 0 | DP18: 42 | DQ18: 42 | DR18: 0 | DS18: 18 | DT18: 18 | DU18: 0 | DV18: 24 | DW18: 24 | DX18: 0 | DY18: 8 | DZ18: 8 | EA18: 0 | EB18: 5 | EC18: 5 | ED18: 0 | EE18: 29 | EF18: 29 | EG18: 0 | EH18: 28 | EI18: 28 | EJ18: 0 | EK18: 8 | EL18: 8 | EM18: 0 | EN18: 20 | EO18: 20 | EP18: 0 | EQ18: 28 | ER18: 28 | ES18: 0 | ET18: 8 | EU18: 8 | EV18: 0 | EW18: 20 | EX18: 20 | EY18: 0 | EZ18: 28 | FA18: 28 | FB18: 0 | FC18: 6 | FD18: 0 | FE18: 8 | FF18: 0 | FG18: 5 | FH18: 0 | FI18: 0 | FJ18: 0 | FK18: 9 | FL18: 0 | FM18: 6 | FN18: 0 | FO18: 0 | FP18: 0 | FQ18: 3 | FR18: 0 | FS18: 52 | FT18: 51 | FU18: 1 | FV18: 0 | FW18: 0 | FX18: 0 | FY18: 5 | FZ18: 5 | GA18: 0 | GB18: 37 | GC18: 36 | GD18: 1 | GE18: 5 | GF18: 0 | GG18: 15 | GH18: 0 | GI18: 8 | GJ18: 1 | GK18: 6 | GL18: 0 | GM18: 2 | GN18: 0 | GO18: 7 | GP18: 7 | GQ18: 0 | GR18: 0 | GS18: 0 | GT18: 0 | GU18: 0 | GV18: 2 | GW18: 0 | GX18: 5 | GY18: 0 | GZ18: 0 | HA18: 0 | HB18: 3 | HC18: 3 | HD18: 0 | HE18: 0 | HF18: 0 | HG18: 0 | HH18: 0 | HI18: 0 | HJ18: 0 | HK18: 3 | HL18: 0 | HM18: 0 | HN18: 0 | HO18: 0 | HP18: 0 | HQ18: 0 | HR18: 0
