Workbook

Sheet 歷年
A1: 家庭暴力事件裁罰事由案
A3: 年別 Year | C3: 合計 | E3: 執行家庭暴力防治人員，在執行職務時知有疑似家庭暴力情事，未立即通報當地主管機關者(家庭暴力防治法第62條第1項) | G3: 醫療機構對於家庭暴力之被害人，無故拒絕診療及開立驗傷診斷書者(家庭暴力防治法第62條第2項) | I3: 無正當理由撥打24小時專線電話，致妨害公務執行，經勸阻不聽者(家庭暴力防治法第63條)
C6: 件數 (件) | D6: 罰鍰金額 (新臺幣元) | E6: 件數 (件) | F6: 罰鍰金額 (新臺幣元) | G6: 件數 (件) | H6: 罰鍰金額 (新臺幣元) | I6: 件數 (件) | J6: 罰鍰金額 (新臺幣元)
A7: 105年 2016 | C7: 5 | D7: 39000 | E7: 5 | F7: 39000 | G7: 0 | H7: 0 | I7: 0 | J7: 0
A8: 106年 2017 | C8: 3 | D8: 66000 | E8: 3 | F8: 66000 | G8: 0 | H8: 0 | I8: 0 | J8: 0
A9: 107年 2018 | C9: 4 | D9: 28000 | E9: 4 | F9: 28000 | G9: 0 | H9: 0 | I9: 0 | J9: 0
A10: 108年 2019 | C10: 2 | D10: 12000 | E10: 2 | F10: 12000 | G10: 0 | H10: 0 | I10: 0 | J10: 0
A11: 109年 2020 | C11: 2 | D11: 12000 | E11: 2 | F11: 12000 | G11: 0 | H11: 0 | I11: 0 | J11: 0
A12: 110年 2021 | C12: 3 | D12: 27000 | E12: 2 | F12: 12000 | G12: 0 | H12: 0 | I12: 1 | J12: 15000
A13: 111年 2022 | C13: 4 | D13: 57000 | E13: 4 | F13: 57000 | G13: 0 | H13: 0 | I13: 0 | J13: 0
A14: 112年 2023 | C14: 1 | D14: 3000 | E14: 0 | F14: 0 | G14: 0 | H14: 0 | I14: 1 | J14: 3000
A15: 113年 2024 | C15: 3 | D15: 13500 | E15: 2 | F15: 12000 | G15: 0 | H15: 0 | I15: 1 | J15: 1500
A16: 114年 2025 | C16: 3 | D16: 42000 | E16: 1 | F16: 30000 | G16: 0 | H16: 0 | I16: 2 | J16: 12000
A17: 資料來源：直轄市、縣﹝市﹞政府。
A18: Source : County and City Government.
A21: 更新日期：2026/6/1

Sheet 2025
A1: 家庭暴力事件裁罰事由案
A2: 中華民國114年,2025
A3: 區域別 Locality | C3: 合計 | E3: 執行家庭暴力防治人員，在執行職務時知有疑似家庭暴力情事，未立即通報當地主管機關者(家庭暴力防治法第62條第1項) | G3: 醫療機構對於家庭暴力之被害人，無故拒絕診療及開立驗傷診斷書者(家庭暴力防治法第62條第2項) | I3: 無正當理由撥打24小時專線電話，致妨害公務執行，經勸阻不聽者(家庭暴力防治法第63條)
C6: 件數 (件) | D6: 罰鍰金額 (新臺幣元) | E6: 件數 (件) | F6: 罰鍰金額 (新臺幣元) | G6: 件數 (件) | H6: 罰鍰金額 (新臺幣元) | I6: 件數 (件) | J6: 罰鍰金額 (新臺幣元)
A7: 總 計 | B7: Total | C7: 3 | D7: 42000 | E7: 1 | F7: 30000 | G7: 0 | H7: 0 | I7: 2 | J7: 12000
A8: 新北市 | B8: New Taipei City | C8: 2 | D8: 12000 | E8: 0 | F8: 0 | G8: 0 | H8: 0 | I8: 2 | J8: 12000
A9: 臺北市 | B9: Taipei City | C9: 0 | D9: 0 | E9: 0 | F9: 0 | G9: 0 | H9: 0 | I9: 0 | J9: 0
A10: 桃園市 | B10: Taoyuan City | C10: 0 | D10: 0 | E10: 0 | F10: 0 | G10: 0 | H10: 0 | I10: 0 | J10: 0
A11: 臺中市 | B11: Taichung City | C11: 1 | D11: 30000 | E11: 1 | F11: 30000 | G11: 0 | H11: 0 | I11: 0 | J11: 0
A12: 臺南市 | B12: Tainan City | C12: 0 | D12: 0 | E12: 0 | F12: 0 | G12: 0 | H12: 0 | I12: 0 | J12: 0
A13: 高雄市 | B13: Kaohsiung City | C13: 0 | D13: 0 | E13: 0 | F13: 0 | G13: 0 | H13: 0 | I13: 0 | J13: 0
A14: 宜蘭縣 | B14: Yilan County | C14: 0 | D14: 0 | E14: 0 | F14: 0 | G14: 0 | H14: 0 | I14: 0 | J14: 0
A15: 新竹縣 | B15: Hsinchu County | C15: 0 | D15: 0 | E15: 0 | F15: 0 | G15: 0 | H15: 0 | I15: 0 | J15: 0
A16: 苗栗縣 | B16: Miaoli County | C16: 0 | D16: 0 | E16: 0 | F16: 0 | G16: 0 | H16: 0 | I16: 0 | J16: 0
A17: 彰化縣 | B17: Changhua County | C17: 0 | D17: 0 | E17: 0 | F17: 0 | G17: 0 | H17: 0 | I17: 0 | J17: 0
A18: 南投縣 | B18: Nantou County | C18: 0 | D18: 0 | E18: 0 | F18: 0 | G18: 0 | H18: 0 | I18: 0 | J18: 0
... A29: 連江縣 | B29: Lienchiang County | C29: 0 | D29: 0 | E29: 0 | F29: 0 | G29: 0 | H29: 0 | I29: 0 | J29: 0
A30: 資料來源：直轄市、縣﹝市﹞政府。
A31: Source : County and City Government.

Sheet 2024
A1: 家庭暴力事件裁罰事由案
A2: 中華民國113年,2024
A3: 區域別 Locality | C3: 合計 | E3: 執行家庭暴力防治人員，在執行職務時知有疑似家庭暴力情事，未立即通報當地主管機關者(家庭暴力防治法第62條第1項) | G3: 醫療機構對於家庭暴力之被害人，無故拒絕診療及開立驗傷診斷書者(家庭暴力防治法第62條第2項) | I3: 無正當理由撥打24小時專線電話，致妨害公務執行，經勸阻不聽者(家庭暴力防治法第63條)
C6: 件數 (件) | D6: 罰鍰金額 (新臺幣元) | E6: 件數 (件) | F6: 罰鍰金額 (新臺幣元) | G6: 件數 (件) | H6: 罰鍰金額 (新臺幣元) | I6: 件數 (件) | J6: 罰鍰金額 (新臺幣元)
A7: 總 計 | B7: Total | C7: 3 | D7: 13500 | E7: 2 | F7: 12000 | G7: 0 | H7: 0 | I7: 1 | J7: 1500
A8: 新北市 | B8: New Taipei City | C8: 1 | D8: 1500 | E8: 0 | F8: 0 | G8: 0 | H8: 0 | I8: 1 | J8: 1500
A9: 臺北市 | B9: Taipei City | C9: 0 | D9: 0 | E9: 0 | F9: 0 | G9: 0 | H9: 0 | I9: 0 | J9: 0
A10: 桃園市 | B10: Taoyuan City | C10: 0 | D10: 0 | E10: 0 | F10: 0 | G10: 0 | H10: 0 | I10: 0 | J10: 0
A11: 臺中市 | B11: Taichung City | C11: 0 | D11: 0 | E11: 0 | F11: 0 | G11: 0 | H11: 0 | I11: 0 | J11: 0
A12: 臺南市 | B12: Tainan City | C12: 0 | D12: 0 | E12: 0 | F12: 0 | G12: 0 | H12: 0 | I12: 0 | J12: 0
A13: 高雄市 | B13: Kaohsiung City | C13: 1 | D13: 6000 | E13: 1 | F13: 6000 | G13: 0 | H13: 0 | I13: 0 | J13: 0
A14: 宜蘭縣 | B14: Yilan County | C14: 0 | D14: 0 | E14: 0 | F14: 0 | G14: 0 | H14: 0 | I14: 0 | J14: 0
A15: 新竹縣 | B15: Hsinchu County | C15: 0 | D15: 0 | E15: 0 | F15: 0 | G15: 0 | H15: 0 | I15: 0 | J15: 0
A16: 苗栗縣 | B16: Miaoli County | C16: 0 | D16: 0 | E16: 0 | F16: 0 | G16: 0 | H16: 0 | I16: 0 | J16: 0
A17: 彰化縣 | B17: Changhua County | C17: 0 | D17: 0 | E17: 0 | F17: 0 | G17: 0 | H17: 0 | I17: 0 | J17: 0
A18: 南投縣 | B18: Nantou County | C18: 0 | D18: 0 | E18: 0 | F18: 0 | G18: 0 | H18: 0 | I18: 0 | J18: 0
... A29: 連江縣 | B29: Lienchiang County | C29: 0 | D29: 0 | E29: 0 | F29: 0 | G29: 0 | H29: 0 | I29: 0 | J29: 0
A30: 資料來源：直轄市、縣﹝市﹞政府。
A31: Source : County and City Government.

Sheet 2023
A1: 家庭暴力事件裁罰事由案
A2: 中華民國112年,2023
A3: 區域別 Locality | C3: 合計 | E3: 執行家庭暴力防治人員，在執行職務時知有疑似家庭暴力情事，未立即通報當地主管機關者(家庭暴力防治法第62條第1項) | G3: 醫療機構對於家庭暴力之被害人，無故拒絕診療及開立驗傷診斷書者(家庭暴力防治法第62條第2項) | I3: 無正當理由撥打24小時專線電話，致妨害公務執行，經勸阻不聽者(家庭暴力防治法第63條)
C6: 件數 (件) | D6: 罰鍰金額 (新臺幣元) | E6: 件數 (件) | F6: 罰鍰金額 (新臺幣元) | G6: 件數 (件) | H6: 罰鍰金額 (新臺幣元) | I6: 件數 (件) | J6: 罰鍰金額 (新臺幣元)
A7: 總 計 | B7: Total | C7: 1 | D7: 3000 | E7: 0 | F7: 0 | G7: 0 | H7: 0 | I7: 1 | J7: 3000
A8: 新北市 | B8: New Taipei City | C8: 0 | D8: 0 | E8: 0 | F8: 0 | G8: 0 | H8: 0 | I8: 0 | J8: 0
A9: 臺北市 | B9: Taipei City | C9: 0 | D9: 0 | E9: 0 | F9: 0 | G9: 0 | H9: 0 | I9: 0 | J9: 0
A10: 桃園市 | B10: Taoyuan City | C10: 0 | D10: 0 | E10: 0 | F10: 0 | G10: 0 | H10: 0 | I10: 0 | J10: 0
A11: 臺中市 | B11: Taichung City | C11: 0 | D11: 0 | E11: 0 | F11: 0 | G11: 0 | H11: 0 | I11: 0 | J11: 0
A12: 臺南市 | B12: Tainan City | C12: 0 | D12: 0 | E12: 0 | F12: 0 | G12: 0 | H12: 0 | I12: 0 | J12: 0
A13: 高雄市 | B13: Kaohsiung City | C13: 0 | D13: 0 | E13: 0 | F13: 0 | G13: 0 | H13: 0 | I13: 0 | J13: 0
A14: 宜蘭縣 | B14: Yilan County | C14: 0 | D14: 0 | E14: 0 | F14: 0 | G14: 0 | H14: 0 | I14: 0 | J14: 0
A15: 新竹縣 | B15: Hsinchu County | C15: 0 | D15: 0 | E15: 0 | F15: 0 | G15: 0 | H15: 0 | I15: 0 | J15: 0
A16: 苗栗縣 | B16: Miaoli County | C16: 0 | D16: 0 | E16: 0 | F16: 0 | G16: 0 | H16: 0 | I16: 0 | J16: 0
A17: 彰化縣 | B17: Changhua County | C17: 0 | D17: 0 | E17: 0 | F17: 0 | G17: 0 | H17: 0 | I17: 0 | J17: 0
A18: 南投縣 | B18: Nantou County | C18: 0 | D18: 0 | E18: 0 | F18: 0 | G18: 0 | H18: 0 | I18: 0 | J18: 0
... A29: 連江縣 | B29: Lienchiang County | C29: 0 | D29: 0 | E29: 0 | F29: 0 | G29: 0 | H29: 0 | I29: 0 | J29: 0
A30: 資料來源：直轄市、縣﹝市﹞政府。
A31: Source : County and City Government.

Sheet 2022
A1: 家庭暴力事件裁罰事由案
A2: 中華民國111年,2022
A3: 區域別 Locality | C3: 合計 | E3: 執行家庭暴力防治人員，在執行職務時知有疑似家庭暴力情事，未立即通報當地主管機關者(家庭暴力防治法第62條第1項) | G3: 醫療機構對於家庭暴力之被害人，無故拒絕診療及開立驗傷診斷書者(家庭暴力防治法第62條第2項) | I3: 無正當理由撥打24小時專線電話，致妨害公務執行，經勸阻不聽者(家庭暴力防治法第63條)
C6: 件數 (件) | D6: 罰鍰金額 (新臺幣元) | E6: 件數 (件) | F6: 罰鍰金額 (新臺幣元) | G6: 件數 (件) | H6: 罰鍰金額 (新臺幣元) | I6: 件數 (件) | J6: 罰鍰金額 (新臺幣元)
A7: 總 計 | B7: Total | C7: 4 | D7: 57000 | E7: 4 | F7: 57000 | G7: 0 | H7: 0 | I7: 0 | J7: 0
A8: 新北市 | B8: New Taipei City | C8: 0 | D8: 0 | E8: 0 | F8: 0 | G8: 0 | H8: 0 | I8: 0 | J8: 0
A9: 臺北市 | B9: Taipei City | C9: 0 | D9: 0 | E9: 0 | F9: 0 | G9: 0 | H9: 0 | I9: 0 | J9: 0
A10: 桃園市 | B10: Taoyuan City | C10: 0 | D10: 0 | E10: 0 | F10: 0 | G10: 0 | H10: 0 | I10: 0 | J10: 0
A11: 臺中市 | B11: Taichung City | C11: 0 | D11: 0 | E11: 0 | F11: 0 | G11: 0 | H11: 0 | I11: 0 | J11: 0
A12: 臺南市 | B12: Tainan City | C12: 0 | D12: 0 | E12: 0 | F12: 0 | G12: 0 | H12: 0 | I12: 0 | J12: 0
A13: 高雄市 | B13: Kaohsiung City | C13: 2 | D13: 12000 | E13: 2 | F13: 12000 | G13: 0 | H13: 0 | I13: 0 | J13: 0
A14: 宜蘭縣 | B14: Yilan County | C14: 0 | D14: 0 | E14: 0 | F14: 0 | G14: 0 | H14: 0 | I14: 0 | J14: 0
A15: 新竹縣 | B15: Hsinchu County | C15: 0 | D15: 0 | E15: 0 | F15: 0 | G15: 0 | H15: 0 | I15: 0 | J15: 0
A16: 苗栗縣 | B16: Miaoli County | C16: 0 | D16: 0 | E16: 0 | F16: 0 | G16: 0 | H16: 0 | I16: 0 | J16: 0
A17: 彰化縣 | B17: Changhua County | C17: 2 | D17: 45000 | E17: 2 | F17: 45000 | G17: 0 | H17: 0 | I17: 0 | J17: 0
A18: 南投縣 | B18: Nantou County | C18: 0 | D18: 0 | E18: 0 | F18: 0 | G18: 0 | H18: 0 | I18: 0 | J18: 0
... A29: 連江縣 | B29: Lienchiang County | C29: 0 | D29: 0 | E29: 0 | F29: 0 | G29: 0 | H29: 0 | I29: 0 | J29: 0
A30: 資料來源：直轄市、縣﹝市﹞政府。
A31: Source : County and City Government.

Sheet 2021
A1: 家庭暴力事件裁罰事由案
A2: 中華民國110年,2021
A3: 區域別 Locality | C3: 合計 | E3: 執行家庭暴力防治人員，在執行職務時知有疑似家庭暴力情事，未立即通報當地主管機關者(家庭暴力防治法第62條第1項) | G3: 醫療機構對於家庭暴力之被害人，無故拒絕診療及開立驗傷診斷書者(家庭暴力防治法第62條第2項) | I3: 無正當理由撥打24小時專線電話，致妨害公務執行，經勸阻不聽者(家庭暴力防治法第63條)
C6: 件數 (件) | D6: 罰鍰金額 (新臺幣元) | E6: 件數 (件) | F6: 罰鍰金額 (新臺幣元) | G6: 件數 (件) | H6: 罰鍰金額 (新臺幣元) | I6: 件數 (件) | J6: 罰鍰金額 (新臺幣元)
A7: 總 計 | B7: Total | C7: 3 | D7: 27000 | E7: 2 | F7: 12000 | G7: 0 | H7: 0 | I7: 1 | J7: 15000
A8: 新北市 | B8: New Taipei City | C8: 0 | D8: 0 | E8: 0 | F8: 0 | G8: 0 | H8: 0 | I8: 0 | J8: 0
A9: 臺北市 | B9: Taipei City | C9: 0 | D9: 0 | E9: 0 | F9: 0 | G9: 0 | H9: 0 | I9: 0 | J9: 0
A10: 桃園市 | B10: Taoyuan City | C10: 0 | D10: 0 | E10: 0 | F10: 0 | G10: 0 | H10: 0 | I10: 0 | J10: 0
A11: 臺中市 | B11: Taichung City | C11: 0 | D11: 0 | E11: 0 | F11: 0 | G11: 0 | H11: 0 | I11: 0 | J11: 0
A12: 臺南市 | B12: Tainan City | C12: 0 | D12: 0 | E12: 0 | F12: 0 | G12: 0 | H12: 0 | I12: 0 | J12: 0
A13: 高雄市 | B13: Kaohsiung City | C13: 2 | D13: 12000 | E13: 2 | F13: 12000 | G13: 0 | H13: 0 | I13: 0 | J13: 0
A14: 宜蘭縣 | B14: Yilan County | C14: 0 | D14: 0 | E14: 0 | F14: 0 | G14: 0 | H14: 0 | I14: 0 | J14: 0
A15: 新竹縣 | B15: Hsinchu County | C15: 0 | D15: 0 | E15: 0 | F15: 0 | G15: 0 | H15: 0 | I15: 0 | J15: 0
A16: 苗栗縣 | B16: Miaoli County | C16: 0 | D16: 0 | E16: 0 | F16: 0 | G16: 0 | H16: 0 | I16: 0 | J16: 0
A17: 彰化縣 | B17: Changhua County | C17: 0 | D17: 0 | E17: 0 | F17: 0 | G17: 0 | H17: 0 | I17: 0 | J17: 0
A18: 南投縣 | B18: Nantou County | C18: 0 | D18: 0 | E18: 0 | F18: 0 | G18: 0 | H18: 0 | I18: 0 | J18: 0
... A29: 連江縣 | B29: Lienchiang County | C29: 0 | D29: 0 | E29: 0 | F29: 0 | G29: 0 | H29: 0 | I29: 0 | J29: 0
A30: 資料來源：直轄市、縣﹝市﹞政府。
A31: Source : County and City Government.

Sheet 2020
A1: 家庭暴力事件裁罰事由案
A2: 中華民國109年,2020
A3: 區域別 Locality | C3: 合計 | E3: 執行家庭暴力防治人員，在執行職務時知有疑似家庭暴力情事，未立即通報當地主管機關者(家庭暴力防治法第62條第1項) | G3: 醫療機構對於家庭暴力之被害人，無故拒絕診療及開立驗傷診斷書者(家庭暴力防治法第62條第2項) | I3: 無正當理由撥打24小時專線電話，致妨害公務執行，經勸阻不聽者(家庭暴力防治法第63條)
C6: 件數 (件) | D6: 罰鍰金額 (新臺幣元) | E6: 件數 (件) | F6: 罰鍰金額 (新臺幣元) | G6: 件數 (件) | H6: 罰鍰金額 (新臺幣元) | I6: 件數 (件) | J6: 罰鍰金額 (新臺幣元)
A7: 總 計 | B7: Total | C7: 2 | D7: 12000 | E7: 2 | F7: 12000 | G7: 0 | H7: 0 | I7: 0 | J7: 0
A8: 新北市 | B8: New Taipei City | C8: 0 | D8: 0 | E8: 0 | F8: 0 | G8: 0 | H8: 0 | I8: 0 | J8: 0
A9: 臺北市 | B9: Taipei City | C9: 0 | D9: 0 | E9: 0 | F9: 0 | G9: 0 | H9: 0 | I9: 0 | J9: 0
A10: 桃園市 | B10: Taoyuan City | C10: 0 | D10: 0 | E10: 0 | F10: 0 | G10: 0 | H10: 0 | I10: 0 | J10: 0
A11: 臺中市 | B11: Taichung City | C11: 0 | D11: 0 | E11: 0 | F11: 0 | G11: 0 | H11: 0 | I11: 0 | J11: 0
A12: 臺南市 | B12: Tainan City | C12: 0 | D12: 0 | E12: 0 | F12: 0 | G12: 0 | H12: 0 | I12: 0 | J12: 0
A13: 高雄市 | B13: Kaohsiung City | C13: 0 | D13: 0 | E13: 0 | F13: 0 | G13: 0 | H13: 0 | I13: 0 | J13: 0
A14: 宜蘭縣 | B14: Yilan County | C14: 0 | D14: 0 | E14: 0 | F14: 0 | G14: 0 | H14: 0 | I14: 0 | J14: 0
A15: 新竹縣 | B15: Hsinchu County | C15: 0 | D15: 0 | E15: 0 | F15: 0 | G15: 0 | H15: 0 | I15: 0 | J15: 0
A16: 苗栗縣 | B16: Miaoli County | C16: 0 | D16: 0 | E16: 0 | F16: 0 | G16: 0 | H16: 0 | I16: 0 | J16: 0
A17: 彰化縣 | B17: Changhua County | C17: 0 | D17: 0 | E17: 0 | F17: 0 | G17: 0 | H17: 0 | I17: 0 | J17: 0
A18: 南投縣 | B18: Nantou County | C18: 0 | D18: 0 | E18: 0 | F18: 0 | G18: 0 | H18: 0 | I18: 0 | J18: 0
... A29: 連江縣 | B29: Lienchiang County | C29: 0 | D29: 0 | E29: 0 | F29: 0 | G29: 0 | H29: 0 | I29: 0 | J29: 0
A30: 資料來源：直轄市、縣﹝市﹞政府。
A31: Source : County and City Government.

Sheet 2019
A1: 家庭暴力事件裁罰事由案
A2: 中華民國108年,2019
A3: 區域別 Locality | C3: 合計 | E3: 執行家庭暴力防治人員，在執行職務時知有疑似家庭暴力情事，未立即通報當地主管機關者(家庭暴力防治法第62條第1項) | G3: 醫療機構對於家庭暴力之被害人，無故拒絕診療及開立驗傷診斷書者(家庭暴力防治法第62條第2項) | I3: 無正當理由撥打24小時專線電話，致妨害公務執行，經勸阻不聽者(家庭暴力防治法第63條)
C6: 件數 (件) | D6: 罰鍰金額 (新臺幣元) | E6: 件數 (件) | F6: 罰鍰金額 (新臺幣元) | G6: 件數 (件) | H6: 罰鍰金額 (新臺幣元) | I6: 件數 (件) | J6: 罰鍰金額 (新臺幣元)
A7: 總 計 | B7: Total | C7: 2 | D7: 12000 | E7: 2 | F7: 12000 | G7: 0 | H7: 0 | I7: 0 | J7: 0
A8: 新北市 | B8: New Taipei City | C8: 0 | D8: 0 | E8: 0 | F8: 0 | G8: 0 | H8: 0 | I8: 0 | J8: 0
A9: 臺北市 | B9: Taipei City | C9: 0 | D9: 0 | E9: 0 | F9: 0 | G9: 0 | H9: 0 | I9: 0 | J9: 0
A10: 桃園市 | B10: Taoyuan City | C10: 0 | D10: 0 | E10: 0 | F10: 0 | G10: 0 | H10: 0 | I10: 0 | J10: 0
A11: 臺中市 | B11: Taichung City | C11: 0 | D11: 0 | E11: 0 | F11: 0 | G11: 0 | H11: 0 | I11: 0 | J11: 0
A12: 臺南市 | B12: Tainan City | C12: 0 | D12: 0 | E12: 0 | F12: 0 | G12: 0 | H12: 0 | I12: 0 | J12: 0
A13: 高雄市 | B13: Kaohsiung City | C13: 0 | D13: 0 | E13: 0 | F13: 0 | G13: 0 | H13: 0 | I13: 0 | J13: 0
A14: 宜蘭縣 | B14: Yilan County | C14: 0 | D14: 0 | E14: 0 | F14: 0 | G14: 0 | H14: 0 | I14: 0 | J14: 0
A15: 新竹縣 | B15: Hsinchu County | C15: 0 | D15: 0 | E15: 0 | F15: 0 | G15: 0 | H15: 0 | I15: 0 | J15: 0
A16: 苗栗縣 | B16: Miaoli County | C16: 0 | D16: 0 | E16: 0 | F16: 0 | G16: 0 | H16: 0 | I16: 0 | J16: 0
A17: 彰化縣 | B17: Changhua County | C17: 0 | D17: 0 | E17: 0 | F17: 0 | G17: 0 | H17: 0 | I17: 0 | J17: 0
A18: 南投縣 | B18: Nantou County | C18: 0 | D18: 0 | E18: 0 | F18: 0 | G18: 0 | H18: 0 | I18: 0 | J18: 0
... A29: 連江縣 | B29: Lienchiang County | C29: 0 | D29: 0 | E29: 0 | F29: 0 | G29: 0 | H29: 0 | I29: 0 | J29: 0
A30: 資料來源：直轄市、縣﹝市﹞政府。
A31: Source : County and City Government.

Sheet 2018
A1: 家庭暴力事件裁罰事由案
A2: 中華民國107年,2018
A3: 區域別 Locality | C3: 合計 | E3: 執行家庭暴力防治人員，在執行職務時知有疑似家庭暴力情事，未立即通報當地主管機關者(家庭暴力防治法第62條第1項) | G3: 醫療機構對於家庭暴力之被害人，無故拒絕診療及開立驗傷診斷書者(家庭暴力防治法第62條第2項) | I3: 無正當理由撥打24小時專線電話，致妨害公務執行，經勸阻不聽者(家庭暴力防治法第63條)
C6: 件數 (件) | D6: 罰鍰金額 (新臺幣元) | E6: 件數 (件) | F6: 罰鍰金額 (新臺幣元) | G6: 件數 (件) | H6: 罰鍰金額 (新臺幣元) | I6: 件數 (件) | J6: 罰鍰金額 (新臺幣元)
A7: 總 計 | B7: Total | C7: 4 | D7: 28000 | E7: 4 | F7: 28000 | G7: 0 | H7: 0 | I7: 0 | J7: 0
A8: 新北市 | B8: New Taipei City | C8: 0 | D8: 0 | E8: 0 | F8: 0 | G8: 0 | H8: 0 | I8: 0 | J8: 0
A9: 臺北市 | B9: Taipei City | C9: 0 | D9: 0 | E9: 0 | F9: 0 | G9: 0 | H9: 0 | I9: 0 | J9: 0
A10: 桃園市 | B10: Taoyuan City | C10: 0 | D10: 0 | E10: 0 | F10: 0 | G10: 0 | H10: 0 | I10: 0 | J10: 0
A11: 臺中市 | B11: Taichung City | C11: 1 | D11: 10000 | E11: 1 | F11: 10000 | G11: 0 | H11: 0 | I11: 0 | J11: 0
A12: 臺南市 | B12: Tainan City | C12: 0 | D12: 0 | E12: 0 | F12: 0 | G12: 0 | H12: 0 | I12: 0 | J12: 0
A13: 高雄市 | B13: Kaohsiung City | C13: 0 | D13: 0 | E13: 0 | F13: 0 | G13: 0 | H13: 0 | I13: 0 | J13: 0
A14: 宜蘭縣 | B14: Yilan County | C14: 0 | D14: 0 | E14: 0 | F14: 0 | G14: 0 | H14: 0 | I14: 0 | J14: 0
A15: 新竹縣 | B15: Hsinchu County | C15: 0 | D15: 0 | E15: 0 | F15: 0 | G15: 0 | H15: 0 | I15: 0 | J15: 0
A16: 苗栗縣 | B16: Miaoli County | C16: 0 | D16: 0 | E16: 0 | F16: 0 | G16: 0 | H16: 0 | I16: 0 | J16: 0
A17: 彰化縣 | B17: Changhua County | C17: 0 | D17: 0 | E17: 0 | F17: 0 | G17: 0 | H17: 0 | I17: 0 | J17: 0
A18: 南投縣 | B18: Nantou County | C18: 0 | D18: 0 | E18: 0 | F18: 0 | G18: 0 | H18: 0 | I18: 0 | J18: 0
... A29: 連江縣 | B29: Lienchiang County | C29: 0 | D29: 0 | E29: 0 | F29: 0 | G29: 0 | H29: 0 | I29: 0 | J29: 0
A30: 資料來源：直轄市、縣﹝市﹞政府。
A31: Source : County and City Government.

Sheet 2017
A1: 家庭暴力事件裁罰事由案
A2: 中華民國106年,2017
A3: 區域別 Locality | C3: 合計 | E3: 執行家庭暴力防治人員，在執行職務時知有疑似家庭暴力情事，未立即通報當地主管機關者(家庭暴力防治法第62條第1項) | G3: 醫療機構對於家庭暴力之被害人，無故拒絕診療及開立驗傷診斷書者(家庭暴力防治法第62條第2項) | I3: 無正當理由撥打24小時專線電話，致妨害公務執行，經勸阻不聽者(家庭暴力防治法第63條)
C6: 件數 (件) | D6: 罰鍰金額 (新臺幣元) | E6: 件數 (件) | F6: 罰鍰金額 (新臺幣元) | G6: 件數 (件) | H6: 罰鍰金額 (新臺幣元) | I6: 件數 (件) | J6: 罰鍰金額 (新臺幣元)
A7: 總 計 | B7: Total | C7: 3 | D7: 66000 | E7: 3 | F7: 66000 | G7: 0 | H7: 0 | I7: 0 | J7: 0
A8: 新北市 | B8: New Taipei City | C8: 0 | D8: 0 | E8: 0 | F8: 0 | G8: 0 | H8: 0 | I8: 0 | J8: 0
A9: 臺北市 | B9: Taipei City | C9: 2 | D9: 60000 | E9: 2 | F9: 60000 | G9: 0 | H9: 0 | I9: 0 | J9: 0
A10: 桃園市 | B10: Taoyuan City | C10: 0 | D10: 0 | E10: 0 | F10: 0 | G10: 0 | H10: 0 | I10: 0 | J10: 0
A11: 臺中市 | B11: Taichung City | C11: 0 | D11: 0 | E11: 0 | F11: 0 | G11: 0 | H11: 0 | I11: 0 | J11: 0
A12: 臺南市 | B12: Tainan City | C12: 0 | D12: 0 | E12: 0 | F12: 0 | G12: 0 | H12: 0 | I12: 0 | J12: 0
A13: 高雄市 | B13: Kaohsiung City | C13: 0 | D13: 0 | E13: 0 | F13: 0 | G13: 0 | H13: 0 | I13: 0 | J13: 0
A14: 宜蘭縣 | B14: Yilan County | C14: 0 | D14: 0 | E14: 0 | F14: 0 | G14: 0 | H14: 0 | I14: 0 | J14: 0
A15: 新竹縣 | B15: Hsinchu County | C15: 0 | D15: 0 | E15: 0 | F15: 0 | G15: 0 | H15: 0 | I15: 0 | J15: 0
A16: 苗栗縣 | B16: Miaoli County | C16: 0 | D16: 0 | E16: 0 | F16: 0 | G16: 0 | H16: 0 | I16: 0 | J16: 0
A17: 彰化縣 | B17: Changhua County | C17: 0 | D17: 0 | E17: 0 | F17: 0 | G17: 0 | H17: 0 | I17: 0 | J17: 0
A18: 南投縣 | B18: Nantou County | C18: 0 | D18: 0 | E18: 0 | F18: 0 | G18: 0 | H18: 0 | I18: 0 | J18: 0
... A29: 連江縣 | B29: Lienchiang County | C29: 0 | D29: 0 | E29: 0 | F29: 0 | G29: 0 | H29: 0 | I29: 0 | J29: 0
A30: 資料來源：直轄市、縣﹝市﹞政府。
A31: Source : County and City Government.

Sheet 2016
A1: 家庭暴力事件裁罰事由案
A2: 中華民國105年,2016
A4: 區域別 Locality | C4: 合計 | E4: 執行家庭暴力防治人員，在執行職務時知有疑似家庭暴力情事，未立即通報當地主管機關者(家庭暴力防治法第62條第1項) | G4: 醫療機構對於家庭暴力之被害人，無故拒絕診療及開立驗傷診斷書者(家庭暴力防治法第62條第2項) | I4: 無正當理由撥打24小時專線電話，致妨害公務執行，經勸阻不聽者(家庭暴力防治法第63條)
C7: 件數 | D7: 罰鍰金額 (新臺幣元) | E7: 件數 | F7: 罰鍰金額 (新臺幣元) | G7: 件數 | H7: 罰鍰金額 (新臺幣元) | I7: 件數 | J7: 罰鍰金額 (新臺幣元)
A8: 總 計 | B8: Total | C8: 5 | D8: 39000 | E8: 5 | F8: 39000 | G8: 0 | H8: 0 | I8: 0 | J8: 0
A9: 新北市 | B9: New Taipei City | C9: 0 | D9: 0 | E9: 0 | F9: 0 | G9: 0 | H9: 0 | I9: 0 | J9: 0
A10: 臺北市 | B10: Taipei City | C10: 0 | D10: 0 | E10: 0 | F10: 0 | G10: 0 | H10: 0 | I10: 0 | J10: 0
A11: 桃園市 | B11: Taoyuan City | C11: 0 | D11: 0 | E11: 0 | F11: 0 | G11: 0 | H11: 0 | I11: 0 | J11: 0
A12: 臺中市 | B12: Taichung City | C12: 1 | D12: 15000 | E12: 1 | F12: 15000 | G12: 0 | H12: 0 | I12: 0 | J12: 0
A13: 臺南市 | B13: Tainan City | C13: 0 | D13: 0 | E13: 0 | F13: 0 | G13: 0 | H13: 0 | I13: 0 | J13: 0
A14: 高雄市 | B14: Kaohsiung City | C14: 0 | D14: 0 | E14: 0 | F14: 0 | G14: 0 | H14: 0 | I14: 0 | J14: 0
A15: 宜蘭縣 | B15: Yilan County | C15: 4 | D15: 24000 | E15: 4 | F15: 24000 | G15: 0 | H15: 0 | I15: 0 | J15: 0
A16: 新竹縣 | B16: Hsinchu County | C16: 0 | D16: 0 | E16: 0 | F16: 0 | G16: 0 | H16: 0 | I16: 0 | J16: 0
A17: 苗栗縣 | B17: Miaoli County | C17: 0 | D17: 0 | E17: 0 | F17: 0 | G17: 0 | H17: 0 | I17: 0 | J17: 0
A18: 彰化縣 | B18: Changhua County | C18: 0 | D18: 0 | E18: 0 | F18: 0 | G18: 0 | H18: 0 | I18: 0 | J18: 0
A19: 南投縣 | B19: Nantou County | C19: 0 | D19: 0 | E19: 0 | F19: 0 | G19: 0 | H19: 0 | I19: 0 | J19: 0
... A30: 連江縣 | B30: Lienchiang County | C30: 0 | D30: 0 | E30: 0 | F30: 0 | G30: 0 | H30: 0 | I30: 0 | J30: 0
A31: 資料來源：直轄市、縣﹝市﹞政府。
A32: Source : County and City Government.

Sheet 歷年_(2007-2018)
A1: 家庭暴力事件裁罰事由案
A2: 民國96-105年
A4: 年別、件數 與罰鍰金額 | C4: 家庭暴力事件裁罰按裁罰事由統計
C5: 合計 | D5: 執行家庭暴力防治人員，在執行職務時知有疑似家庭暴力情事，未立即通報當地主管機關者（家庭暴力防治法第62條第1項） | E5: 醫療機構對於家庭暴力之被害人，無故拒絕診療及開立驗傷診斷書者（家庭暴力防治法第62條第2項） | F5: 無正當理由撥打24小時專線電話，致妨害公務執行，經勸阻不聽者（家庭暴力防治法第63條）
A6: 96年, 2007 | B6: 件數 | C6: =#REF! -> #REF! | D6: =#REF! -> #REF! | E6: =#REF! -> #REF! | F6: =#REF! -> #REF!
B7: 金額 | C7: =#REF! -> #REF! | D7: =#REF! -> #REF! | E7: =#REF! -> #REF! | F7: =#REF! -> #REF!
A8: 97年, 2008 | B8: 件數 | C8: =#REF! -> #REF! | D8: =#REF! -> #REF! | E8: =#REF! -> #REF! | F8: =#REF! -> #REF!
B9: 金額 | C9: =#REF! -> #REF! | D9: =#REF! -> #REF! | E9: =#REF! -> #REF! | F9: =#REF! -> #REF!
A10: 98年 , 2009 | B10: 件數 | C10: =#REF! -> #REF! | D10: =#REF! -> #REF! | E10: =#REF! -> #REF! | F10: =#REF! -> #REF!
B11: 金額 | C11: =#REF! -> #REF! | D11: =#REF! -> #REF! | E11: =#REF! -> #REF! | F11: =#REF! -> #REF!
A12: 99年 , 2010 | B12: 件數 | C12: =#REF! -> #REF! | D12: =#REF! -> #REF! | E12: =#REF! -> #REF! | F12: =#REF! -> #REF!
B13: 金額 | C13: =#REF! -> #REF! | D13: =#REF! -> #REF! | E13: =#REF! -> #REF! | F13: =#REF! -> #REF!
A14: 100年 , 2011 | B14: 件數 | C14: =#REF! -> #REF! | D14: =#REF! -> #REF! | E14: =#REF! -> #REF! | F14: =#REF! -> #REF!
B15: 金額 | C15: =#REF! -> #REF! | D15: =#REF! -> #REF! | E15: =#REF! -> #REF! | F15: =#REF! -> #REF!
A16: 101年 , 2012 | B16: 件數 | C16: =#REF! -> #REF! | D16: =#REF! -> #REF! | E16: =#REF! -> #REF! | F16: =#REF! -> #REF!
B17: 金額 | C17: =#REF! -> #REF! | D17: =#REF! -> #REF! | E17: =#REF! -> #REF! | F17: =#REF! -> #REF!
A18: 102年 , 2013 | B18: 件數 | C18: =#REF! -> #REF! | D18: =#REF! -> #REF! | E18: =#REF! -> #REF! | F18: =#REF! -> #REF!
B19: 金額 | C19: =#REF! -> #REF! | D19: =#REF! -> #REF! | E19: =#REF! -> #REF! | F19: =#REF! -> #REF!
A20: 103年 , 2014 | B20: 件數 | C20: =#REF! -> #REF! | D20: =#REF! -> #REF! | E20: =#REF! -> #REF! | F20: =#REF! -> #REF!
B21: 金額 | C21: =#REF! -> #REF! | D21: =#REF! -> #REF! | E21: =#REF! -> #REF! | F21: =#REF! -> #REF!
A22: 104年 , 2015 | B22: 件數 | C22: ='2015'!C6 -> 1 | D22: ='2015'!D6 -> 1 | E22: ='2015'!E6 -> 0 | F22: ='2015'!F6 -> 0
B23: 金額 | C23: ='2015'!C7 -> 15000 | D23: ='2015'!D7 -> 15000 | E23: ='2015'!E7 -> 0 | F23: ='2015'!F7 -> 0
A24: 105年 , 2016 | B24: 件數 | C24: =#REF! -> #REF! | D24: =#REF! -> #REF! | E24: 0 | F24: 0
B25: 金額 | C25: =#REF! -> #REF! | D25: 39000 | E25: 0 | F25: 0
A26: 106年 , 2017 | B26: 件數 | C26: 3 | D26: 3 | E26: 0 | F26: 0
B27: 金額 | C27: 66000 | D27: 66000 | E27: 0 | F27: 0
A28: 107年 , 2018 | B28: 件數 | C28: 4 | D28: 4 | E28: 0 | F28: 0
B29: 金額 | C29: 28000 | D29: 28000 | E29: 0 | F29: 0
A34: 更新日期：2017/4/28

Sheet 2015
A1: 家庭暴力事件裁罰事由案
A2: 民國104年,2015
A4: 件數與罰鍰金額 | C4: 4.家庭暴力事件裁罰按裁罰事由統計
C5: 合計 | D5: 執行家庭暴力防治人員，在執行職務時知有疑似家庭暴力情事，未立即通報當地主管機關者（家庭暴力防治法第62條第1項） | E5: 醫療機構對於家庭暴力之被害人，無故拒絕診療及開立驗傷診斷書者（家庭暴力防治法第62條第2項） | F5: 無正當理由撥打24小時專線電話，致妨害公務執行，經勸阻不聽者（家庭暴力防治法第63條）
A6: 件數 | C6: 1 | D6: 1 | E6: 0 | F6: 0
A7: 罰鍰金額(新台幣元) | C7: 15000 | D7: 15000 | E7: 0 | F7: 0
