Workbook
Name pp: '2015'!$B$1:$U$38
Name pp: '2015~2018'!$B$1:$U$6
Name pp: '2016'!$B$1:$U$38
Name pp: '2017'!$B$1:$U$39
Name pp: '2018'!$B$1:$U$39
Name pp: '2019'!$B$1:$T$39
Name pp: '2019~2020'!$B$1:$T$10
Name pp: '2020'!$B$1:$T$39
Name pp: '2021'!$B$1:$T$46
Name pp: '2022'!$B$1:$T$46
Name pp: '2023'!$B$1:$T$46
Name pp: '2024'!$B$1:$T$46
Name pp: '2025'!$B$1:$T$46
Name pp: 'Jan.-June.,2024'!$B$1:$T$46
Name pp: 'Jan.-June.,2025'!$B$1:$T$46
Name pp: 'July-Dec., 2024'!$B$1:$T$46
Name pp: 'July-Dec., 2025'!$B$1:$T$46
Name pp: '歷年(2021~)'!$B$1:$T$6
Name pp: #REF!

Sheet 歷年(2021~)
A1: 家庭暴力事件通報被害及相對人概況Overview of Victim and Offender Status in Reporting Cases of Domestic Violence
A2: 單位：人數 unit:Person
A3: 年 別 Year | C3: 性別 | D3: 被害人數 Victims | AH3: 相對人人數
D4: 國籍、身分別 By Nationality and Identity | K4: 年齡別 By Age | V4: 身心障礙別 By Disability | AH4: 年齡別 By Age | AS4: 國籍、身分別 By Nationality and Identity
D5: 合計 | E5: 本國籍非原住民 | F5: 本國籍原住民 | G5: 大陸及 港澳籍 | H5: 外國籍 | I5: 無國籍 | J5: 資料 不明 | K5: 合計 | L5: 0-未滿6歲 | M5: 6-未滿12歲 | N5: 12-未滿18歲 | O5: 18-未滿24歲 | P5: 24-未滿30歲 | Q5: 30-未滿40歲 | R5: 40-未滿50歲 | S5: 50-未滿65歲 | T5: 65歲 以上 | U5: 不詳 | V5: 合計 | W5: 非身心 障礙 | X5: 智障 | Y5: 視障 | Z5: 精神 病患 | AA5: 聲(語)障 | AB5: 聽障 | AC5: 肢障 | AD5: 失智症 | AE5: 多重 障礙 | AF5: 其他 障礙 | AG5: 不詳 | AH5: 合計 | AI5: 0-未滿6歲 | AJ5: 6-未滿12歲 | AK5: 12-未滿18歲 | AL5: 18-未滿24歲 | AM5: 24-未滿30歲 | AN5: 30-未滿40歲 | AO5: 40-未滿50歲 | AP5: 50-未滿65歲 | AQ5: 65歲 以上 | AR5: 不詳 | AS5: 合計 | AT5: 本國籍非原住民 | AU5: 本國籍原住民 | AV5: 大陸及 港澳籍 | AW5: 外國籍 | AX5: 無國籍 | AY5: 資料 不明
C6: Gender | D6: Total | E6: Non-Indigenous Native | F6: Indigenous Native | G6: Mainland China and Hong Kong and Macau | H6: Foreign | I6: Stateless | J6: Unknown Information | K6: Total | L6: Under 6 Years | M6: 6-Under 12 Years | N6: 12-Under 18 Years | O6: 18-Under 2 Years | P6: 24-Under 30 Years | Q6: 30-Under 40 Years | R6: 40-Under 50 Years | S6: 50-Under 65 Years | T6: Above 65 Years | U6: Unknown | V6: Total | W6: Not Disability | X6: Intellectually Disabled | Y6: Vision | Z6: Mentally Illed | AA6: Voice | AB6: Hearing | AC6: Physically Impaired | AD6: Dementia | AE6: Multiple | AF6: Other | AG6: Unknown | AH6: Total | AI6: Under 6 Years | AJ6: 6-Under 12 Years | AK6: 12-Under 18 Years | AL6: 18-Under 2 Years | AM6: 24-Under 30 Years | AN6: 30-Under 40 Years | AO6: 40-Under 50 Years | AP6: 50-Under 65 Years | AQ6: Above 65 Years | AR6: Unknown | AS6: Total | AT6: Non-Indigenous Native | AU6: Indigenous Native | AV6: Mainland China and Hong Kong and Macau | AW6: Foreign | AX6: Stateless | AY6: Unknown Information
A7: 110年 2021 | C7: 計 Total | D7: 118532 | E7: 107596 | F7: 6278 | G7: 993 | H7: 1431 | I7: 27 | J7: 2207 | K7: 118532 | L7: 5577 | M7: 7679 | N7: 7579 | O7: 8504 | P7: 10231 | Q7: 22213 | R7: 22183 | S7: 20976 | T7: 13127 | U7: 463 | V7: 118532 | W7: 106938 | X7: 1717 | Y7: 458 | Z7: 2831 | AA7: 95 | AB7: 553 | AC7: 2071 | AD7: … | AE7: 957 | AF7: 1379 | AG7: 1533 | AH7: 114647 | AI7: 25 | AJ7: 391 | AK7: 2833 | AL7: 5981 | AM7: 10332 | AN7: 26949 | AO7: 30619 | AP7: 24621 | AQ7: 9390 | AR7: 3506 | AS7: 114647 | AT7: 104100 | AU7: 5247 | AV7: 714 | AW7: 1188 | AX7: 30 | AY7: 3368
C8: 男 Male | D8: 42274 | E8: 39200 | F8: 2062 | G8: 52 | H8: 202 | I8: 13 | J8: 745 | K8: 42274 | L8: 3198 | M8: 4561 | N8: 3505 | O8: 2780 | P8: 2998 | Q8: 5931 | R8: 6695 | S8: 7519 | T8: 4987 | U8: 100 | V8: 42274 | W8: 37529 | X8: 699 | Y8: 187 | Z8: 803 | AA8: 62 | AB8: 240 | AC8: 1025 | AD8: … | AE8: 472 | AF8: 717 | AG8: 540 | AH8: 82311 | AI8: 17 | AJ8: 304 | AK8: 2161 | AL8: 4119 | AM8: 7245 | AN8: 18495 | AO8: 22325 | AP8: 18406 | AQ8: 6669 | AR8: 2570 | AS8: 82311 | AT8: 75396 | AU8: 3709 | AV8: 101 | AW8: 676 | AX8: 25 | AY8: 2404
C9: 女 Female | D9: 76189 | E9: 68359 | F9: 4212 | G9: 941 | H9: 1228 | I9: 14 | J9: 1435 | K9: 76189 | L9: 2360 | M9: 3103 | N9: 4065 | O9: 5722 | P9: 7231 | Q9: 16280 | R9: 15486 | S9: 13454 | T9: 8139 | U9: 349 | V9: 76189 | W9: 69360 | X9: 1018 | Y9: 271 | Z9: 2028 | AA9: 33 | AB9: 313 | AC9: 1046 | AD9: … | AE9: 485 | AF9: 662 | AG9: 973 | AH9: 32233 | AI9: 8 | AJ9: 87 | AK9: 669 | AL9: 1862 | AM9: 3084 | AN9: 8449 | AO9: 8289 | AP9: 6212 | AQ9: 2721 | AR9: 852 | AS9: 32233 | AT9: 28678 | AU9: 1536 | AV9: 612 | AW9: 512 | AX9: 5 | AY9: 890
C10: 其他 Other | D10: 22 | E10: 15 | F10: 0 | G10: 0 | H10: 0 | I10: 0 | J10: 7 | K10: 22 | L10: 12 | M10: 1 | N10: 1 | O10: 1 | P10: 2 | Q10: 1 | R10: 1 | S10: 0 | T10: 1 | U10: 2 | V10: 22 | W10: 17 | X10: 0 | Y10: 0 | Z10: 0 | AA10: 0 | AB10: 0 | AC10: 0 | AD10: … | AE10: 0 | AF10: 0 | AG10: 5 | AH10: 9 | AI10: 0 | AJ10: 0 | AK10: 0 | AL10: 0 | AM10: 0 | AN10: 2 | AO10: 2 | AP10: 2 | AQ10: 0 | AR10: 3 | AS10: 9 | AT10: 5 | AU10: 2 | AV10: 0 | AW10: 0 | AX10: 0 | AY10: 2
C11: 不詳Unknown | D11: 47 | E11: 22 | F11: 4 | G11: 0 | H11: 1 | I11: 0 | J11: 20 | K11: 47 | L11: 7 | M11: 14 | N11: 8 | O11: 1 | P11: 0 | Q11: 1 | R11: 1 | S11: 3 | T11: 0 | U11: 12 | V11: 47 | W11: 32 | X11: 0 | Y11: 0 | Z11: 0 | AA11: 0 | AB11: 0 | AC11: 0 | AD11: … | AE11: 0 | AF11: 0 | AG11: 15 | AH11: 94 | AI11: 0 | AJ11: 0 | AK11: 3 | AL11: 0 | AM11: 3 | AN11: 3 | AO11: 3 | AP11: 1 | AQ11: 0 | AR11: 81 | AS11: 94 | AT11: 21 | AU11: 0 | AV11: 1 | AW11: 0 | AX11: 0 | AY11: 72
A12: 111年 2022 | C12: 計 Total | D12: 123741 | E12: 112769 | F12: 6548 | G12: 935 | H12: 1296 | I12: 25 | J12: 2168 | K12: 123741 | L12: 5733 | M12: 7939 | N12: 7603 | O12: 8464 | P12: 11284 | Q12: 22600 | R12: 24019 | S12: 21548 | T12: 14167 | U12: 384 | V12: 123741 | W12: 112228 | X12: 1780 | Y12: 482 | Z12: 2917 | AA12: 92 | AB12: 607 | AC12: 2108 | AD12: 336 | AE12: 1012 | AF12: 1367 | AG12: 812 | AH12: 118851 | AI12: 30 | AJ12: 384 | AK12: 3138 | AL12: 5958 | AM12: 11126 | AN12: 27479 | AO12: 32246 | AP12: 25157 | AQ12: 10157 | AR12: 3176 | AS12: 118851 | AT12: 108702 | AU12: 5477 | AV12: 643 | AW12: 1124 | AX12: 18 | AY12: 2887
C13: 男 Male | D13: 44773 | E13: 41625 | F13: 2184 | G13: 39 | H13: 199 | I13: 13 | J13: 713 | K13: 44773 | L13: 3210 | M13: 4720 | N13: 3422 | O13: 2740 | P13: 3399 | Q13: 6371 | R13: 7418 | S13: 8057 | T13: 5322 | U13: 114 | V13: 44773 | W13: 39946 | X13: 746 | Y13: 208 | Z13: 808 | AA13: 55 | AB13: 296 | AC13: 1057 | AD13: 113 | AE13: 503 | AF13: 794 | AG13: 247 | AH13: 84367 | AI13: 22 | AJ13: 298 | AK13: 2335 | AL13: 4034 | AM13: 7658 | AN13: 18890 | AO13: 23167 | AP13: 18615 | AQ13: 7059 | AR13: 2289 | AS13: 84367 | AT13: 77712 | AU13: 3826 | AV13: 117 | AW13: 613 | AX13: 16 | AY13: 2083
C14: 女 Female | D14: 78903 | E14: 71104 | F14: 4358 | G14: 895 | H14: 1097 | I14: 12 | J14: 1437 | K14: 78903 | L14: 2510 | M14: 3196 | N14: 4170 | O14: 5721 | P14: 7883 | Q14: 16227 | R14: 16598 | S14: 13488 | T14: 8843 | U14: 267 | V14: 78903 | W14: 72230 | X14: 1032 | Y14: 274 | Z14: 2108 | AA14: 37 | AB14: 311 | AC14: 1051 | AD14: 223 | AE14: 509 | AF14: 572 | AG14: 556 | AH14: 34422 | AI14: 8 | AJ14: 86 | AK14: 803 | AL14: 1923 | AM14: 3466 | AN14: 8584 | AO14: 9075 | AP14: 6537 | AQ14: 3098 | AR14: 842 | AS14: 34422 | AT14: 30967 | AU14: 1650 | AV14: 526 | AW14: 509 | AX14: 2 | AY14: 768
C15: 其他 Other | D15: 14 | E15: 9 | F15: 2 | G15: 0 | H15: 0 | I15: 0 | J15: 3 | K15: 14 | L15: 5 | M15: 1 | N15: 1 | O15: 2 | P15: 2 | Q15: 0 | R15: 1 | S15: 0 | T15: 1 | U15: 1 | V15: 14 | W15: 11 | X15: 1 | Y15: 0 | Z15: 0 | AA15: 0 | AB15: 0 | AC15: 0 | AD15: 0 | AE15: 0 | AF15: 0 | AG15: 2 | AH15: 10 | AI15: 0 | AJ15: 0 | AK15: 0 | AL15: 0 | AM15: 1 | AN15: 3 | AO15: 1 | AP15: 2 | AQ15: 0 | AR15: 3 | AS15: 10 | AT15: 6 | AU15: 0 | AV15: 0 | AW15: 1 | AX15: 0 | AY15: 3
C16: 不詳Unknown | D16: 51 | E16: 31 | F16: 4 | G16: 1 | H16: 0 | I16: 0 | J16: 15 | K16: 51 | L16: 8 | M16: 22 | N16: 10 | O16: 1 | P16: 0 | Q16: 2 | R16: 2 | S16: 3 | T16: 1 | U16: 2 | V16: 51 | W16: 41 | X16: 1 | Y16: 0 | Z16: 1 | AA16: 0 | AB16: 0 | AC16: 0 | AD16: 0 | AE16: 0 | AF16: 1 | AG16: 7 | AH16: 52 | AI16: 0 | AJ16: 0 | AK16: 0 | AL16: 1 | AM16: 1 | AN16: 2 | AO16: 3 | AP16: 3 | AQ16: 0 | AR16: 42 | AS16: 52 | AT16: 17 | AU16: 1 | AV16: 0 | AW16: 1 | AX16: 0 | AY16: 33
A17: 112年 2023 | C17: 計 Total | D17: 132147 | E17: 120607 | F17: 7006 | G17: 923 | H17: 1357 | I17: 33 | J17: 2221 | K17: 132147 | L17: 6003 | M17: 9076 | N17: 7755 | O17: 8658 | P17: 11839 | Q17: 23625 | R17: 26108 | S17: 23001 | T17: 15730 | U17: 352 | V17: 132147 | W17: 119789 | X17: 1964 | Y17: 397 | Z17: 3105 | AA17: 121 | AB17: 646 | AC17: 2303 | AD17: 386 | AE17: 1154 | AF17: 1585 | AG17: 697 | AH17: 126815 | AI17: 38 | AJ17: 504 | AK17: 3192 | AL17: 6339 | AM17: 11981 | AN17: 28653 | AO17: 34595 | AP17: 26138 | AQ17: 11583 | AR17: 3792 | AS17: 126815 | AT17: 115859 | AU17: 5930 | AV17: 670 | AW17: 1255 | AX17: 27 | AY17: 3074
C18: 男 Male | D18: 48891 | E18: 45489 | F18: 2315 | G18: 61 | H18: 220 | I18: 14 | J18: 792 | K18: 48891 | L18: 3465 | M18: 5361 | N18: 3512 | O18: 2888 | P18: 3731 | Q18: 6995 | R18: 8311 | S18: 8677 | T18: 5850 | U18: 101 | V18: 48891 | W18: 43705 | X18: 812 | Y18: 181 | Z18: 917 | AA18: 81 | AB18: 289 | AC18: 1114 | AD18: 117 | AE18: 563 | AF18: 909 | AG18: 203 | AH18: 88587 | AI18: 33 | AJ18: 389 | AK18: 2348 | AL18: 4208 | AM18: 8013 | AN18: 19364 | AO18: 24406 | AP18: 19128 | AQ18: 8001 | AR18: 2697 | AS18: 88587 | AT18: 81460 | AU18: 4125 | AV18: 129 | AW18: 690 | AX18: 19 | AY18: 2164
C19: 女 Female | D19: 83179 | E19: 75062 | F19: 4685 | G19: 862 | H19: 1137 | I19: 19 | J19: 1414 | K19: 83179 | L19: 2517 | M19: 3696 | N19: 4222 | O19: 5769 | P19: 8105 | Q19: 16627 | R19: 17795 | S19: 14321 | T19: 9879 | U19: 248 | V19: 83179 | W19: 76021 | X19: 1151 | Y19: 216 | Z19: 2188 | AA19: 40 | AB19: 357 | AC19: 1188 | AD19: 269 | AE19: 589 | AF19: 676 | AG19: 484 | AH19: 38146 | AI19: 5 | AJ19: 115 | AK19: 844 | AL19: 2129 | AM19: 3966 | AN19: 9283 | AO19: 10186 | AP19: 7005 | AQ19: 3579 | AR19: 1034 | AS19: 38146 | AT19: 34370 | AU19: 1805 | AV19: 541 | AW19: 564 | AX19: 8 | AY19: 858
C20: 其他 Other | D20: 13 | E20: 12 | F20: 0 | G20: 0 | H20: 0 | I20: 0 | J20: 1 | K20: 13 | L20: 0 | M20: 1 | N20: 2 | O20: 1 | P20: 3 | Q20: 2 | R20: 1 | S20: 1 | T20: 1 | U20: 1 | V20: 13 | W20: 11 | X20: 0 | Y20: 0 | Z20: 0 | AA20: 0 | AB20: 0 | AC20: 0 | AD20: 0 | AE20: 0 | AF20: 0 | AG20: 2 | AH20: 7 | AI20: 0 | AJ20: 0 | AK20: 0 | AL20: 1 | AM20: 0 | AN20: 3 | AO20: 0 | AP20: 2 | AQ20: 0 | AR20: 1 | AS20: 7 | AT20: 7 | AU20: 0 | AV20: 0 | AW20: 0 | AX20: 0 | AY20: 0
C21: 不詳Unknown | D21: 64 | E21: 44 | F21: 6 | G21: 0 | H21: 0 | I21: 0 | J21: 14 | K21: 64 | L21: 21 | M21: 18 | N21: 19 | O21: 0 | P21: 0 | Q21: 1 | R21: 1 | S21: 2 | T21: 0 | U21: 2 | V21: 64 | W21: 52 | X21: 1 | Y21: 0 | Z21: 0 | AA21: 0 | AB21: 0 | AC21: 1 | AD21: 0 | AE21: 2 | AF21: 0 | AG21: 8 | AH21: 75 | AI21: 0 | AJ21: 0 | AK21: 0 | AL21: 1 | AM21: 2 | AN21: 3 | AO21: 3 | AP21: 3 | AQ21: 3 | AR21: 60 | AS21: 75 | AT21: 22 | AU21: 0 | AV21: 0 | AW21: 1 | AX21: 0 | AY21: 52
A22: 113年 2024 | C22: 計 Total | D22: 138859 | E22: 126845 | F22: 7429 | G22: 913 | H22: 1464 | I22: 28 | J22: 2180 | K22: 138859 | L22: 6224 | M22: 9842 | N22: 8045 | O22: 8896 | P22: 12432 | Q22: 24757 | R22: 27308 | S22: 24160 | T22: 16866 | U22: 329 | V22: 138859 | W22: 125177 | X22: 2080 | Y22: 426 | Z22: 3484 | AA22: 144 | AB22: 695 | AC22: 2455 | AD22: 536 | AE22: 1323 | AF22: 1909 | AG22: 630 | AH22: 132792 | AI22: 49 | AJ22: 684 | AK22: 3596 | AL22: 6491 | AM22: 12508 | AN22: 29611 | AO22: 35981 | AP22: 27273 | AQ22: 12693 | AR22: 3906 | AS22: 132792 | AT22: 121611 | AU22: 6184 | AV22: 732 | AW22: 1356 | AX22: 27 | AY22: 2882
C23: 男 Male | D23: 52894 | E23: 49151 | F23: 2548 | G23: 55 | H23: 266 | I23: 15 | J23: 859 | K23: 52894 | L23: 3592 | M23: 5933 | N23: 3756 | O23: 3011 | P23: 4032 | Q23: 7768 | R23: 8940 | S23: 9390 | T23: 6386 | U23: 86 | V23: 52894 | W23: 47054 | X23: 874 | Y23: 221 | Z23: 1018 | AA23: 86 | AB23: 347 | AC23: 1242 | AD23: 151 | AE23: 667 | AF23: 1047 | AG23: 187 | AH23: 91211 | AI23: 37 | AJ23: 515 | AK23: 2600 | AL23: 4235 | AM23: 8262 | AN23: 19687 | AO23: 24907 | AP23: 19505 | AQ23: 8700 | AR23: 2763 | AS23: 91211 | AT23: 84050 | AU23: 4265 | AV23: 162 | AW23: 752 | AX23: 16 | AY23: 1966
C24: 女 Female | D24: 85864 | E24: 77620 | F24: 4874 | G24: 857 | H24: 1197 | I24: 13 | J24: 1303 | K24: 85864 | L24: 2613 | M24: 3875 | N24: 4265 | O24: 5884 | P24: 8397 | Q24: 16984 | R24: 18362 | S24: 14766 | T24: 10480 | U24: 238 | V24: 85864 | W24: 78038 | X24: 1203 | Y24: 205 | Z24: 2464 | AA24: 58 | AB24: 348 | AC24: 1212 | AD24: 385 | AE24: 656 | AF24: 861 | AG24: 434 | AH24: 41502 | AI24: 12 | AJ24: 169 | AK24: 995 | AL24: 2255 | AM24: 4239 | AN24: 9915 | AO24: 11069 | AP24: 7766 | AQ24: 3992 | AR24: 1090 | AS24: 41502 | AT24: 37534 | AU24: 1916 | AV24: 570 | AW24: 600 | AX24: 11 | AY24: 871
C25: 其他 Other | D25: 14 | E25: 10 | F25: 1 | G25: 1 | H25: 1 | I25: 0 | J25: 1 | K25: 14 | L25: 0 | M25: 0 | N25: 0 | O25: 1 | P25: 3 | Q25: 2 | R25: 4 | S25: 1 | T25: 0 | U25: 3 | V25: 14 | W25: 7 | X25: 2 | Y25: 0 | Z25: 1 | AA25: 0 | AB25: 0 | AC25: 0 | AD25: 0 | AE25: 0 | AF25: 0 | AG25: 4 | AH25: 13 | AI25: 0 | AJ25: 0 | AK25: 1 | AL25: 0 | AM25: 3 | AN25: 3 | AO25: 3 | AP25: 0 | AQ25: 0 | AR25: 3 | AS25: 13 | AT25: 10 | AU25: 0 | AV25: 0 | AW25: 1 | AX25: 0 | AY25: 2
C26: 不詳Unknown | D26: 87 | E26: 64 | F26: 6 | G26: 0 | H26: 0 | I26: 0 | J26: 17 | K26: 87 | L26: 19 | M26: 34 | N26: 24 | O26: 0 | P26: 0 | Q26: 3 | R26: 2 | S26: 3 | T26: 0 | U26: 2 | V26: 87 | W26: 78 | X26: 1 | Y26: 0 | Z26: 1 | AA26: 0 | AB26: 0 | AC26: 1 | AD26: 0 | AE26: 0 | AF26: 1 | AG26: 5 | AH26: 66 | AI26: 0 | AJ26: 0 | AK26: 0 | AL26: 1 | AM26: 4 | AN26: 6 | AO26: 2 | AP26: 2 | AQ26: 1 | AR26: 50 | AS26: 66 | AT26: 17 | AU26: 3 | AV26: 0 | AW26: 3 | AX26: 0 | AY26: 43
A27: 113年上半年 Jan.-June,2024 | C27: 計 Total | D27: 74057 | E27: 67809 | F27: 3909 | G27: 476 | H27: 752 | I27: 9 | J27: 1102 | K27: 74057 | L27: 3300 | M27: 5387 | N27: 4349 | O27: 4698 | P27: 6515 | Q27: 13250 | R27: 14611 | S27: 12852 | T27: 8922 | U27: 173 | V27: 74057 | W27: 66699 | X27: 1155 | Y27: 236 | Z27: 1900 | AA27: 79 | AB27: 373 | AC27: 1306 | AD27: 258 | AE27: 728 | AF27: 1006 | AG27: 317 | AH27: 70686 | AI27: 26 | AJ27: 338 | AK27: 1862 | AL27: 3450 | AM27: 6749 | AN27: 15959 | AO27: 19199 | AP27: 14522 | AQ27: 6614 | AR27: 1967 | AS27: 70686 | AT27: 64851 | AU27: 3291 | AV27: 373 | AW27: 662 | AX27: 11 | AY27: 1498
C28: 男 Male | D28: 27904 | E28: 25959 | F28: 1346 | G28: 30 | H28: 134 | I28: 5 | J28: 430 | K28: 27904 | L28: 1915 | M28: 3272 | N28: 1995 | O28: 1569 | P28: 2090 | Q28: 4092 | R28: 4664 | S28: 4915 | T28: 3342 | U28: 50 | V28: 27904 | W28: 24781 | X28: 483 | Y28: 125 | Z28: 524 | AA28: 47 | AB28: 199 | AC28: 656 | AD28: 67 | AE28: 369 | AF28: 562 | AG28: 91 | AH28: 49027 | AI28: 19 | AJ28: 259 | AK28: 1367 | AL28: 2286 | AM28: 4516 | AN28: 10681 | AO28: 13441 | AP28: 10490 | AQ28: 4567 | AR28: 1401 | AS28: 49027 | AT28: 45263 | AU28: 2295 | AV28: 79 | AW28: 358 | AX28: 6 | AY28: 1026
C29: 女 Female | D29: 46098 | E29: 41807 | F29: 2559 | G29: 445 | H29: 617 | I29: 4 | J29: 666 | K29: 46098 | L29: 1378 | M29: 2096 | N29: 2338 | O29: 3129 | P29: 4423 | Q29: 9154 | R29: 9944 | S29: 7934 | T29: 5580 | U29: 122 | V29: 46098 | W29: 41868 | X29: 670 | Y29: 111 | Z29: 1375 | AA29: 32 | AB29: 174 | AC29: 649 | AD29: 191 | AE29: 359 | AF29: 443 | AG29: 226 | AH29: 21627 | AI29: 7 | AJ29: 79 | AK29: 494 | AL29: 1164 | AM29: 2230 | AN29: 5276 | AO29: 5756 | AP29: 4031 | AQ29: 2047 | AR29: 543 | AS29: 21627 | AT29: 19581 | AU29: 995 | AV29: 294 | AW29: 303 | AX29: 5 | AY29: 449
C30: 其他 Other | D30: 7 | E30: 4 | F30: 1 | G30: 1 | H30: 1 | I30: 0 | J30: 0 | K30: 7 | L30: 0 | M30: 0 | N30: 0 | O30: 0 | P30: 2 | Q30: 2 | R30: 2 | S30: 1 | T30: 0 | U30: 0 | V30: 7 | W30: 4 | X30: 2 | Y30: 0 | Z30: 1 | AA30: 0 | AB30: 0 | AC30: 0 | AD30: 0 | AE30: 0 | AF30: 0 | AG30: 0 | AH30: 3 | AI30: 0 | AJ30: 0 | AK30: 1 | AL30: 0 | AM30: 1 | AN30: 0 | AO30: 1 | AP30: 0 | AQ30: 0 | AR30: 0 | AS30: 3 | AT30: 3 | AU30: 0 | AV30: 0 | AW30: 0 | AX30: 0 | AY30: 0
C31: 不詳Unknown | D31: 48 | E31: 39 | F31: 3 | G31: 0 | H31: 0 | I31: 0 | J31: 6 | K31: 48 | L31: 7 | M31: 19 | N31: 16 | O31: 0 | P31: 0 | Q31: 2 | R31: 1 | S31: 2 | T31: 0 | U31: 1 | V31: 48 | W31: 46 | X31: 0 | Y31: 0 | Z31: 0 | AA31: 0 | AB31: 0 | AC31: 1 | AD31: 0 | AE31: 0 | AF31: 1 | AG31: 0 | AH31: 29 | AI31: 0 | AJ31: 0 | AK31: 0 | AL31: 0 | AM31: 2 | AN31: 2 | AO31: 1 | AP31: 1 | AQ31: 0 | AR31: 23 | AS31: 29 | AT31: 4 | AU31: 1 | AV31: 0 | AW31: 1 | AX31: 0 | AY31: 23
A32: 113年下半年 July-Dec.,2024 | C32: 計 Total | D32: 64802 | E32: 59036 | F32: 3520 | G32: 437 | H32: 712 | I32: 19 | J32: 1078 | K32: 64802 | L32: 2924 | M32: 4455 | N32: 3696 | O32: 4198 | P32: 5917 | Q32: 11507 | R32: 12697 | S32: 11308 | T32: 7944 | U32: 156 | V32: 64802 | W32: 58478 | X32: 925 | Y32: 190 | Z32: 1584 | AA32: 65 | AB32: 322 | AC32: 1149 | AD32: 278 | AE32: 595 | AF32: 903 | AG32: 313 | AH32: 62106 | AI32: 23 | AJ32: 346 | AK32: 1734 | AL32: 3041 | AM32: 5759 | AN32: 13652 | AO32: 16782 | AP32: 12751 | AQ32: 6079 | AR32: 1939 | AS32: 62106 | AT32: 56760 | AU32: 2893 | AV32: 359 | AW32: 694 | AX32: 16 | AY32: 1384
C33: 男 Male | D33: 24990 | E33: 23192 | F33: 1202 | G33: 25 | H33: 132 | I33: 10 | J33: 429 | K33: 24990 | L33: 1677 | M33: 2661 | N33: 1761 | O33: 1442 | P33: 1942 | Q33: 3676 | R33: 4276 | S33: 4475 | T33: 3044 | U33: 36 | V33: 24990 | W33: 22273 | X33: 391 | Y33: 96 | Z33: 494 | AA33: 39 | AB33: 148 | AC33: 586 | AD33: 84 | AE33: 298 | AF33: 485 | AG33: 96 | AH33: 42184 | AI33: 18 | AJ33: 256 | AK33: 1233 | AL33: 1949 | AM33: 3746 | AN33: 9006 | AO33: 11466 | AP33: 9015 | AQ33: 4133 | AR33: 1362 | AS33: 42184 | AT33: 38787 | AU33: 1970 | AV33: 83 | AW33: 394 | AX33: 10 | AY33: 940
C34: 女 Female | D34: 39766 | E34: 35813 | F34: 2315 | G34: 412 | H34: 580 | I34: 9 | J34: 637 | K34: 39766 | L34: 1235 | M34: 1779 | N34: 1927 | O34: 2755 | P34: 3974 | Q34: 7830 | R34: 8418 | S34: 6832 | T34: 4900 | U34: 116 | V34: 39766 | W34: 36170 | X34: 533 | Y34: 94 | Z34: 1089 | AA34: 26 | AB34: 174 | AC34: 563 | AD34: 194 | AE34: 297 | AF34: 418 | AG34: 208 | AH34: 19875 | AI34: 5 | AJ34: 90 | AK34: 501 | AL34: 1091 | AM34: 2009 | AN34: 4639 | AO34: 5313 | AP34: 3735 | AQ34: 1945 | AR34: 547 | AS34: 19875 | AT34: 17953 | AU34: 921 | AV34: 276 | AW34: 297 | AX34: 6 | AY34: 422
C35: 其他 Other | D35: 7 | E35: 6 | F35: 0 | G35: 0 | H35: 0 | I35: 0 | J35: 1 | K35: 7 | L35: 0 | M35: 0 | N35: 0 | O35: 1 | P35: 1 | Q35: 0 | R35: 2 | S35: 0 | T35: 0 | U35: 3 | V35: 7 | W35: 3 | X35: 0 | Y35: 0 | Z35: 0 | AA35: 0 | AB35: 0 | AC35: 0 | AD35: 0 | AE35: 0 | AF35: 0 | AG35: 4 | AH35: 10 | AI35: 0 | AJ35: 0 | AK35: 0 | AL35: 0 | AM35: 2 | AN35: 3 | AO35: 2 | AP35: 0 | AQ35: 0 | AR35: 3 | AS35: 10 | AT35: 7 | AU35: 0 | AV35: 0 | AW35: 1 | AX35: 0 | AY35: 2
C36: 不詳Unknown | D36: 39 | E36: 25 | F36: 3 | G36: 0 | H36: 0 | I36: 0 | J36: 11 | K36: 39 | L36: 12 | M36: 15 | N36: 8 | O36: 0 | P36: 0 | Q36: 1 | R36: 1 | S36: 1 | T36: 0 | U36: 1 | V36: 39 | W36: 32 | X36: 1 | Y36: 0 | Z36: 1 | AA36: 0 | AB36: 0 | AC36: 0 | AD36: 0 | AE36: 0 | AF36: 0 | AG36: 5 | AH36: 37 | AI36: 0 | AJ36: 0 | AK36: 0 | AL36: 1 | AM36: 2 | AN36: 4 | AO36: 1 | AP36: 1 | AQ36: 1 | AR36: 27 | AS36: 37 | AT36: 13 | AU36: 2 | AV36: 0 | AW36: 2 | AX36: 0 | AY36: 20
A37: 114年 2025 | C37: 計 Total | D37: 146105 | E37: 132473 | F37: 8041 | G37: 900 | H37: 1679 | I37: 25 | J37: 2987 | K37: 146105 | L37: 6231 | M37: 10228 | N37: 8640 | O37: 8933 | P37: 12897 | Q37: 25709 | R37: 29292 | S37: 25552 | T37: 18298 | U37: 325 | V37: 146105 | W37: 131647 | X37: 2166 | Y37: 386 | Z37: 3635 | AA37: 163 | AB37: 768 | AC37: 2577 | AD37: 593 | AE37: 1387 | AF37: 2100 | AG37: 683 | AH37: 140334 | AI37: 29 | AJ37: 822 | AK37: 4414 | AL37: 6566 | AM37: 12659 | AN37: 30880 | AO37: 37688 | AP37: 28892 | AQ37: 13921 | AR37: 4463 | AS37: 140334 | AT37: 127161 | AU37: 6737 | AV37: 760 | AW37: 1599 | AX37: 28 | AY37: 4049
C38: 男 Male | D38: 56855 | E38: 52370 | F38: 2893 | G38: 75 | H38: 312 | I38: 12 | J38: 1193 | K38: 56855 | L38: 3616 | M38: 6224 | N38: 4078 | O38: 3138 | P38: 4251 | Q38: 8413 | R38: 10053 | S38: 10025 | T38: 6956 | U38: 101 | V38: 56855 | W38: 50587 | X38: 924 | Y38: 172 | Z38: 1086 | AA38: 99 | AB38: 356 | AC38: 1321 | AD38: 204 | AE38: 704 | AF38: 1175 | AG38: 227 | AH38: 94881 | AI38: 16 | AJ38: 626 | AK38: 3157 | AL38: 4226 | AM38: 8157 | AN38: 20378 | AO38: 25772 | AP38: 20306 | AQ38: 9216 | AR38: 3027 | AS38: 94881 | AT38: 86621 | AU38: 4498 | AV38: 170 | AW38: 886 | AX38: 18 | AY38: 2688
C39: 女 Female | D39: 89121 | E39: 80008 | F39: 5141 | G39: 824 | H39: 1366 | I39: 13 | J39: 1769 | K39: 89121 | L39: 2571 | M39: 3973 | N39: 4533 | O39: 5790 | P39: 8644 | Q39: 17293 | R39: 19233 | S39: 15523 | T39: 11339 | U39: 222 | V39: 89121 | W39: 80960 | X39: 1242 | Y39: 214 | Z39: 2547 | AA39: 64 | AB39: 412 | AC39: 1256 | AD39: 389 | AE39: 679 | AF39: 917 | AG39: 441 | AH39: 45315 | AI39: 13 | AJ39: 196 | AK39: 1255 | AL39: 2337 | AM39: 4498 | AN39: 10491 | AO39: 11908 | AP39: 8584 | AQ39: 4702 | AR39: 1331 | AS39: 45315 | AT39: 40505 | AU39: 2237 | AV39: 587 | AW39: 712 | AX39: 10 | AY39: 1264
C40: 其他 Other | D40: 13 | E40: 13 | F40: 0 | G40: 0 | H40: 0 | I40: 0 | J40: 0 | K40: 13 | L40: 0 | M40: 0 | N40: 0 | O40: 4 | P40: 1 | Q40: 3 | R40: 3 | S40: 2 | T40: 0 | U40: 0 | V40: 13 | W40: 9 | X40: 0 | Y40: 0 | Z40: 1 | AA40: 0 | AB40: 0 | AC40: 0 | AD40: 0 | AE40: 2 | AF40: 1 | AG40: 0 | AH40: 11 | AI40: 0 | AJ40: 0 | AK40: 0 | AL40: 2 | AM40: 1 | AN40: 2 | AO40: 3 | AP40: 1 | AQ40: 1 | AR40: 1 | AS40: 11 | AT40: 10 | AU40: 0 | AV40: 0 | AW40: 0 | AX40: 0 | AY40: 1
C41: 不詳Unknown | D41: 116 | E41: 82 | F41: 7 | G41: 1 | H41: 1 | I41: 0 | J41: 25 | K41: 116 | L41: 44 | M41: 31 | N41: 29 | O41: 1 | P41: 1 | Q41: 0 | R41: 3 | S41: 2 | T41: 3 | U41: 2 | V41: 116 | W41: 91 | X41: 0 | Y41: 0 | Z41: 1 | AA41: 0 | AB41: 0 | AC41: 0 | AD41: 0 | AE41: 2 | AF41: 7 | AG41: 15 | AH41: 127 | AI41: 0 | AJ41: 0 | AK41: 2 | AL41: 1 | AM41: 3 | AN41: 9 | AO41: 5 | AP41: 1 | AQ41: 2 | AR41: 104 | AS41: 127 | AT41: 25 | AU41: 2 | AV41: 3 | AW41: 1 | AX41: 0 | AY41: 96
A42: 114年上半年 Jan.-June,2025 | C42: 計 Total | D42: 77407 | E42: 70271 | F42: 4289 | G42: 475 | H42: 854 | I42: 10 | J42: 1508 | K42: 77407 | L42: 3177 | M42: 5575 | N42: 4674 | O42: 4634 | P42: 6818 | Q42: 13694 | R42: 15628 | S42: 13388 | T42: 9642 | U42: 177 | V42: 77407 | W42: 69647 | X42: 1158 | Y42: 217 | Z42: 1990 | AA42: 94 | AB42: 380 | AC42: 1366 | AD42: 308 | AE42: 741 | AF42: 1125 | AG42: 381 | AH42: 74109 | AI42: 12 | AJ42: 424 | AK42: 2306 | AL42: 3434 | AM42: 6695 | AN42: 16357 | AO42: 20225 | AP42: 15293 | AQ42: 7173 | AR42: 2190 | AS42: 74109 | AT42: 67399 | AU42: 3604 | AV42: 408 | AW42: 803 | AX42: 13 | AY42: 1882
C43: 男 Male | D43: 29673 | E43: 27376 | F43: 1520 | G43: 34 | H43: 158 | I43: 6 | J43: 579 | K43: 29673 | L43: 1820 | M43: 3412 | N43: 2196 | O43: 1610 | P43: 2153 | Q43: 4387 | R43: 5181 | S43: 5229 | T43: 3632 | U43: 53 | V43: 29673 | W43: 26370 | X43: 475 | Y43: 103 | Z43: 593 | AA43: 54 | AB43: 184 | AC43: 676 | AD43: 105 | AE43: 362 | AF43: 627 | AG43: 124 | AH43: 50659 | AI43: 7 | AJ43: 332 | AK43: 1673 | AL43: 2258 | AM43: 4383 | AN43: 10874 | AO43: 14010 | AP43: 10812 | AQ43: 4782 | AR43: 1528 | AS43: 50659 | AT43: 46388 | AU43: 2416 | AV43: 87 | AW43: 450 | AX43: 9 | AY43: 1309
C44: 女 Female | D44: 47670 | E44: 42850 | F44: 2765 | G44: 441 | H44: 696 | I44: 4 | J44: 914 | K44: 47670 | L44: 1337 | M44: 2144 | N44: 2463 | O44: 3022 | P44: 4664 | Q44: 9307 | R44: 10443 | S44: 8158 | T44: 6009 | U44: 123 | V44: 47670 | W44: 43233 | X44: 683 | Y44: 114 | Z44: 1396 | AA44: 40 | AB44: 196 | AC44: 690 | AD44: 203 | AE44: 376 | AF44: 494 | AG44: 245 | AH44: 23407 | AI44: 5 | AJ44: 92 | AK44: 632 | AL44: 1175 | AM44: 2310 | AN44: 5477 | AO44: 6211 | AP44: 4480 | AQ44: 2391 | AR44: 634 | AS44: 23407 | AT44: 20990 | AU44: 1187 | AV44: 319 | AW44: 353 | AX44: 4 | AY44: 554
C45: 其他 Other | D45: 6 | E45: 6 | F45: 0 | G45: 0 | H45: 0 | I45: 0 | J45: 0 | K45: 6 | L45: 0 | M45: 0 | N45: 0 | O45: 2 | P45: 1 | Q45: 0 | R45: 2 | S45: 1 | T45: 0 | U45: 0 | V45: 6 | W45: 2 | X45: 0 | Y45: 0 | Z45: 1 | AA45: 0 | AB45: 0 | AC45: 0 | AD45: 0 | AE45: 2 | AF45: 1 | AG45: 0 | AH45: 6 | AI45: 0 | AJ45: 0 | AK45: 0 | AL45: 0 | AM45: 0 | AN45: 2 | AO45: 2 | AP45: 1 | AQ45: 0 | AR45: 1 | AS45: 6 | AT45: 5 | AU45: 0 | AV45: 0 | AW45: 0 | AX45: 0 | AY45: 1
C46: 不詳Unknown | D46: 58 | E46: 39 | F46: 4 | G46: 0 | H46: 0 | I46: 0 | J46: 15 | K46: 58 | L46: 20 | M46: 19 | N46: 15 | O46: 0 | P46: 0 | Q46: 0 | R46: 2 | S46: 0 | T46: 1 | U46: 1 | V46: 58 | W46: 42 | X46: 0 | Y46: 0 | Z46: 0 | AA46: 0 | AB46: 0 | AC46: 0 | AD46: 0 | AE46: 1 | AF46: 3 | AG46: 12 | AH46: 37 | AI46: 0 | AJ46: 0 | AK46: 1 | AL46: 1 | AM46: 2 | AN46: 4 | AO46: 2 | AP46: 0 | AQ46: 0 | AR46: 27 | AS46: 37 | AT46: 16 | AU46: 1 | AV46: 2 | AW46: 0 | AX46: 0 | AY46: 18
A47: 114年下半年 July-Dec.,2025 | C47: 計 Total | D47: 68698 | E47: 62202 | F47: 3752 | G47: 425 | H47: 825 | I47: 15 | J47: 1479 | K47: 68698 | L47: 3054 | M47: 4653 | N47: 3966 | O47: 4299 | P47: 6079 | Q47: 12015 | R47: 13664 | S47: 12164 | T47: 8656 | U47: 148 | V47: 68698 | W47: 62000 | X47: 1008 | Y47: 169 | Z47: 1645 | AA47: 69 | AB47: 388 | AC47: 1211 | AD47: 285 | AE47: 646 | AF47: 975 | AG47: 302 | AH47: 66225 | AI47: 17 | AJ47: 398 | AK47: 2108 | AL47: 3132 | AM47: 5964 | AN47: 14523 | AO47: 17463 | AP47: 13599 | AQ47: 6748 | AR47: 2273 | AS47: 66225 | AT47: 59762 | AU47: 3133 | AV47: 352 | AW47: 796 | AX47: 15 | AY47: 2167
C48: 男 Male | D48: 27182 | E48: 24994 | F48: 1373 | G48: 41 | H48: 154 | I48: 6 | J48: 614 | K48: 27182 | L48: 1796 | M48: 2812 | N48: 1882 | O48: 1528 | P48: 2098 | Q48: 4026 | R48: 4872 | S48: 4796 | T48: 3324 | U48: 48 | V48: 27182 | W48: 24217 | X48: 449 | Y48: 69 | Z48: 493 | AA48: 45 | AB48: 172 | AC48: 645 | AD48: 99 | AE48: 342 | AF48: 548 | AG48: 103 | AH48: 44222 | AI48: 9 | AJ48: 294 | AK48: 1484 | AL48: 1968 | AM48: 3774 | AN48: 9504 | AO48: 11762 | AP48: 9494 | AQ48: 4434 | AR48: 1499 | AS48: 44222 | AT48: 40233 | AU48: 2082 | AV48: 83 | AW48: 436 | AX48: 9 | AY48: 1379
C49: 女 Female | D49: 41451 | E49: 37158 | F49: 2376 | G49: 383 | H49: 670 | I49: 9 | J49: 855 | K49: 41451 | L49: 1234 | M49: 1829 | N49: 2070 | O49: 2768 | P49: 3980 | Q49: 7986 | R49: 8790 | S49: 7365 | T49: 5330 | U49: 99 | V49: 41451 | W49: 37727 | X49: 559 | Y49: 100 | Z49: 1151 | AA49: 24 | AB49: 216 | AC49: 566 | AD49: 186 | AE49: 303 | AF49: 423 | AG49: 196 | AH49: 21908 | AI49: 8 | AJ49: 104 | AK49: 623 | AL49: 1162 | AM49: 2188 | AN49: 5014 | AO49: 5697 | AP49: 4104 | AQ49: 2311 | AR49: 697 | AS49: 21908 | AT49: 19515 | AU49: 1050 | AV49: 268 | AW49: 359 | AX49: 6 | AY49: 710
C50: 其他 Other | D50: 7 | E50: 7 | F50: 0 | G50: 0 | H50: 0 | I50: 0 | J50: 0 | K50: 7 | L50: 0 | M50: 0 | N50: 0 | O50: 2 | P50: 0 | Q50: 3 | R50: 1 | S50: 1 | T50: 0 | U50: 0 | V50: 7 | W50: 7 | X50: 0 | Y50: 0 | Z50: 0 | AA50: 0 | AB50: 0 | AC50: 0 | AD50: 0 | AE50: 0 | AF50: 0 | AG50: 0 | AH50: 5 | AI50: 0 | AJ50: 0 | AK50: 0 | AL50: 2 | AM50: 1 | AN50: 0 | AO50: 1 | AP50: 0 | AQ50: 1 | AR50: 0 | AS50: 5 | AT50: 5 | AU50: 0 | AV50: 0 | AW50: 0 | AX50: 0 | AY50: 0
C51: 不詳Unknown | D51: 58 | E51: 43 | F51: 3 | G51: 1 | H51: 1 | I51: 0 | J51: 10 | K51: 58 | L51: 24 | M51: 12 | N51: 14 | O51: 1 | P51: 1 | Q51: 0 | R51: 1 | S51: 2 | T51: 2 | U51: 1 | V51: 58 | W51: 49 | X51: 0 | Y51: 0 | Z51: 1 | AA51: 0 | AB51: 0 | AC51: 0 | AD51: 0 | AE51: 1 | AF51: 4 | AG51: 3 | AH51: 90 | AI51: 0 | AJ51: 0 | AK51: 1 | AL51: 0 | AM51: 1 | AN51: 5 | AO51: 3 | AP51: 1 | AQ51: 2 | AR51: 77 | AS51: 90 | AT51: 9 | AU51: 1 | AV51: 1 | AW51: 1 | AX51: 0 | AY51: 78
A52: 資料來源：本部保護服務司。
A53: Source :Department of Protective Services , MOHW.
A54: 註：性別「其他」係指不同的性別認同；「不詳」係指受理通報人員因故難以勾選被害人或相對人之性別，如：聯繫不上當事人或重要關係人以確認性別等。
A57: 更新日期：2026/3/20

Sheet 2025
A1: 家庭暴力事件通報被害及相對人概況Overview of Victim and Offender Status in Reporting Cases of Domestic Violence
A2: 114年，2025
A3: 單位：人數 unit:Person
A4: 區域別 Locality | C4: 性別 | D4: 被害人數 Victims | AH4: 相對人人數
D5: 國籍、身分別 By Nationality and Identity | K5: 年齡別 By Age | V5: 身心障礙別 By Disability | AH5: 年齡別 By Age | AS5: 國籍、身分別 By Nationality and Identity
D6: 合計 | E6: 本國籍 非原住民 | F6: 本國籍 原住民 | G6: 大陸及 港澳籍 | H6: 外國籍 | I6: 無國籍 | J6: 資料 不明 | K6: 合計 | L6: 0-未滿6歲 | M6: 6-未滿12歲 | N6: 12-未滿18歲 | O6: 18-未滿24歲 | P6: 24-未滿30歲 | Q6: 30-未滿40歲 | R6: 40-未滿50歲 | S6: 50-未滿65歲 | T6: 65歲 以上 | U6: 不詳 | V6: 合計 | W6: 非身心 障礙 | X6: 智障 | Y6: 視障 | Z6: 精神 病患 | AA6: 聲(語)障 | AB6: 聽障 | AC6: 肢障 | AD6: 失智症 | AE6: 多重 障礙 | AF6: 其他 障礙 | AG6: 不詳 | AH6: 合計 | AI6: 0-未滿6歲 | AJ6: 6-未滿12歲 | AK6: 12-未滿18歲 | AL6: 18-未滿24歲 | AM6: 24-未滿30歲 | AN6: 30-未滿40歲 | AO6: 40-未滿50歲 | AP6: 50-未滿65歲 | AQ6: 65歲 以上 | AR6: 不詳 | AS6: 合計 | AT6: 本國籍非原住民 | AU6: 本國籍原住民 | AV6: 大陸及 港澳籍 | AW6: 外國籍 | AX6: 無國籍 | AY6: 資料 不明
C7: Gender | D7: Total | E7: Non-Indigenous Native | F7: Indigenous Native | G7: Mainland China and Hong Kong and Macau | H7: Foreign | I7: Stateless | J7: Unknown Information | K7: Total | L7: Under 6 Years | M7: 6-Under 12 Years | N7: 12-Under 18 Years | O7: 18-Under 2 Years | P7: 24-Under 30 Years | Q7: 30-Under 40 Years | R7: 40-Under 50 Years | S7: 50-Under 65 Years | T7: Above 65 Years | U7: Unknown | V7: Total | W7: Not Disability | X7: Intellectually Disabled | Y7: Vision | Z7: Mentally Illed | AA7: Voice | AB7: Hearing | AC7: Physically Impaired | AD7: Dementia | AE7: Multiple | AF7: Other | AG7: Unknown | AH7: Total | AI7: Under 6 Years | AJ7: 6-Under 12 Years | AK7: 12-Under 18 Years | AL7: 18-Under 2 Years | AM7: 24-Under 30 Years | AN7: 30-Under 40 Years | AO7: 40-Under 50 Years | AP7: 50-Under 65 Years | AQ7: Above 65 Years | AR7: Unknown | AS7: Total | AT7: Non-Indigenous Native | AU7: Indigenous Native | AV7: Mainland China and Hong Kong and Macau | AW7: Foreign | AX7: Stateless | AY7: Unknown Information
A8: 總計 | C8: 計 Total | D8: 146105 | E8: 132473 | F8: 8041 | G8: 900 | H8: 1679 | I8: 25 | J8: 2987 | K8: 146105 | L8: 6231 | M8: 10228 | N8: 8640 | O8: 8933 | P8: 12897 | Q8: 25709 | R8: 29292 | S8: 25552 | T8: 18298 | U8: 325 | V8: 146105 | W8: 131647 | X8: 2166 | Y8: 386 | Z8: 3635 | AA8: 163 | AB8: 768 | AC8: 2577 | AD8: 593 | AE8: 1387 | AF8: 2100 | AG8: 683 | AH8: 140334 | AI8: 29 | AJ8: 822 | AK8: 4414 | AL8: 6566 | AM8: 12659 | AN8: 30880 | AO8: 37688 | AP8: 28892 | AQ8: 13921 | AR8: 4463 | AS8: 140334 | AT8: 127161 | AU8: 6737 | AV8: 760 | AW8: 1599 | AX8: 28 | AY8: 4049
C9: 男 Male | D9: 56855 | E9: 52370 | F9: 2893 | G9: 75 | H9: 312 | I9: 12 | J9: 1193 | K9: 56855 | L9: 3616 | M9: 6224 | N9: 4078 | O9: 3138 | P9: 4251 | Q9: 8413 | R9: 10053 | S9: 10025 | T9: 6956 | U9: 101 | V9: 56855 | W9: 50587 | X9: 924 | Y9: 172 | Z9: 1086 | AA9: 99 | AB9: 356 | AC9: 1321 | AD9: 204 | AE9: 704 | AF9: 1175 | AG9: 227 | AH9: 94881 | AI9: 16 | AJ9: 626 | AK9: 3157 | AL9: 4226 | AM9: 8157 | AN9: 20378 | AO9: 25772 | AP9: 20306 | AQ9: 9216 | AR9: 3027 | AS9: 94881 | AT9: 86621 | AU9: 4498 | AV9: 170 | AW9: 886 | AX9: 18 | AY9: 2688
A10: Total | C10: 女 Female | D10: 89121 | E10: 80008 | F10: 5141 | G10: 824 | H10: 1366 | I10: 13 | J10: 1769 | K10: 89121 | L10: 2571 | M10: 3973 | N10: 4533 | O10: 5790 | P10: 8644 | Q10: 17293 | R10: 19233 | S10: 15523 | T10: 11339 | U10: 222 | V10: 89121 | W10: 80960 | X10: 1242 | Y10: 214 | Z10: 2547 | AA10: 64 | AB10: 412 | AC10: 1256 | AD10: 389 | AE10: 679 | AF10: 917 | AG10: 441 | AH10: 45315 | AI10: 13 | AJ10: 196 | AK10: 1255 | AL10: 2337 | AM10: 4498 | AN10: 10491 | AO10: 11908 | AP10: 8584 | AQ10: 4702 | AR10: 1331 | AS10: 45315 | AT10: 40505 | AU10: 2237 | AV10: 587 | AW10: 712 | AX10: 10 | AY10: 1264
C11: 其他 Other | D11: 13 | E11: 13 | F11: 0 | G11: 0 | H11: 0 | I11: 0 | J11: 0 | K11: 13 | L11: 0 | M11: 0 | N11: 0 | O11: 4 | P11: 1 | Q11: 3 | R11: 3 | S11: 2 | T11: 0 | U11: 0 | V11: 13 | W11: 9 | X11: 0 | Y11: 0 | Z11: 1 | AA11: 0 | AB11: 0 | AC11: 0 | AD11: 0 | AE11: 2 | AF11: 1 | AG11: 0 | AH11: 11 | AI11: 0 | AJ11: 0 | AK11: 0 | AL11: 2 | AM11: 1 | AN11: 2 | AO11: 3 | AP11: 1 | AQ11: 1 | AR11: 1 | AS11: 11 | AT11: 10 | AU11: 0 | AV11: 0 | AW11: 0 | AX11: 0 | AY11: 1
C12: 不詳Unknown | D12: 116 | E12: 82 | F12: 7 | G12: 1 | H12: 1 | I12: 0 | J12: 25 | K12: 116 | L12: 44 | M12: 31 | N12: 29 | O12: 1 | P12: 1 | Q12: 0 | R12: 3 | S12: 2 | T12: 3 | U12: 2 | V12: 116 | W12: 91 | X12: 0 | Y12: 0 | Z12: 1 | AA12: 0 | AB12: 0 | AC12: 0 | AD12: 0 | AE12: 2 | AF12: 7 | AG12: 15 | AH12: 127 | AI12: 0 | AJ12: 0 | AK12: 2 | AL12: 1 | AM12: 3 | AN12: 9 | AO12: 5 | AP12: 1 | AQ12: 2 | AR12: 104 | AS12: 127 | AT12: 25 | AU12: 2 | AV12: 3 | AW12: 1 | AX12: 0 | AY12: 96
A13: 新北市 | C13: 計 Total | D13: 24510 | E13: 21765 | F13: 552 | G13: 190 | H13: 320 | I13: 5 | J13: 1678 | K13: 24510 | L13: 906 | M13: 2024 | N13: 1592 | O13: 1606 | P13: 2149 | Q13: 4342 | R13: 4827 | S13: 4106 | T13: 2809 | U13: 149 | V13: 24510 | W13: 22165 | X13: 278 | Y13: 66 | Z13: 537 | AA13: 30 | AB13: 105 | AC13: 319 | AD13: 85 | AE13: 192 | AF13: 385 | AG13: 348 | AH13: 23123 | AI13: 0 | AJ13: 124 | AK13: 716 | AL13: 1041 | AM13: 1942 | AN13: 4845 | AO13: 5974 | AP13: 4433 | AQ13: 2158 | AR13: 1890 | AS13: 23123 | AT13: 20089 | AU13: 439 | AV13: 162 | AW13: 290 | AX13: 8 | AY13: 2135
C14: 男 Male | D14: 9014 | E14: 8051 | F14: 220 | G14: 13 | H14: 59 | I14: 2 | J14: 669 | K14: 9014 | L14: 509 | M14: 1209 | N14: 731 | O14: 532 | P14: 656 | Q14: 1263 | R14: 1579 | S14: 1511 | T14: 981 | U14: 43 | V14: 9014 | W14: 8026 | X14: 121 | Y14: 28 | Z14: 139 | AA14: 15 | AB14: 50 | AC14: 168 | AD14: 31 | AE14: 90 | AF14: 230 | AG14: 116 | AH14: 15829 | AI14: 0 | AJ14: 93 | AK14: 488 | AL14: 713 | AM14: 1248 | AN14: 3250 | AO14: 4110 | AP14: 3207 | AQ14: 1465 | AR14: 1255 | AS14: 15829 | AT14: 13925 | AU14: 279 | AV14: 45 | AW14: 150 | AX14: 4 | AY14: 1426
A15: New Taipei City | C15: 女 Female | D15: 15440 | E15: 13679 | F15: 329 | G15: 176 | H15: 261 | I15: 3 | J15: 992 | K15: 15440 | L15: 382 | M15: 797 | N15: 845 | O15: 1072 | P15: 1492 | Q15: 3079 | R15: 3246 | S15: 2595 | T15: 1826 | U15: 106 | V15: 15440 | W15: 14098 | X15: 157 | Y15: 38 | Z15: 397 | AA15: 15 | AB15: 55 | AC15: 151 | AD15: 54 | AE15: 101 | AF15: 151 | AG15: 223 | AH15: 7237 | AI15: 0 | AJ15: 31 | AK15: 227 | AL15: 328 | AM15: 692 | AN15: 1592 | AO15: 1863 | AP15: 1226 | AQ15: 692 | AR15: 586 | AS15: 7237 | AT15: 6156 | AU15: 160 | AV15: 116 | AW15: 140 | AX15: 4 | AY15: 661
C16: 其他 Other | D16: 2 | E16: 2 | F16: 0 | G16: 0 | H16: 0 | I16: 0 | J16: 0 | K16: 2 | L16: 0 | M16: 0 | N16: 0 | O16: 2 | P16: 0 | Q16: 0 | R16: 0 | S16: 0 | T16: 0 | U16: 0 | V16: 2 | W16: 0 | X16: 0 | Y16: 0 | Z16: 0 | AA16: 0 | AB16: 0 | AC16: 0 | AD16: 0 | AE16: 1 | AF16: 1 | AG16: 0 | AH16: 0 | AI16: 0 | AJ16: 0 | AK16: 0 | AL16: 0 | AM16: 0 | AN16: 0 | AO16: 0 | AP16: 0 | AQ16: 0 | AR16: 0 | AS16: 0 | AT16: 0 | AU16: 0 | AV16: 0 | AW16: 0 | AX16: 0 | AY16: 0
C17: 不詳Unknown | D17: 54 | E17: 33 | F17: 3 | G17: 1 | H17: 0 | I17: 0 | J17: 17 | K17: 54 | L17: 15 | M17: 18 | N17: 16 | O17: 0 | P17: 1 | Q17: 0 | R17: 2 | S17: 0 | T17: 2 | U17: 0 | V17: 54 | W17: 41 | X17: 0 | Y17: 0 | Z17: 1 | AA17: 0 | AB17: 0 | AC17: 0 | AD17: 0 | AE17: 0 | AF17: 3 | AG17: 9 | AH17: 57 | AI17: 0 | AJ17: 0 | AK17: 1 | AL17: 0 | AM17: 2 | AN17: 3 | AO17: 1 | AP17: 0 | AQ17: 1 | AR17: 49 | AS17: 57 | AT17: 8 | AU17: 0 | AV17: 1 | AW17: 0 | AX17: 0 | AY17: 48
A18: 臺北市 | C18: 計 Total | D18: 14075 | E18: 13184 | F18: 119 | G18: 134 | H18: 209 | I18: 7 | J18: 422 | K18: 14075 | L18: 562 | M18: 1078 | N18: 999 | O18: 779 | P18: 1059 | Q18: 2196 | R18: 2762 | S18: 2614 | T18: 1976 | U18: 50 | V18: 14075 | W18: 12785 | X18: 133 | Y18: 30 | Z18: 369 | AA18: 9 | AB18: 66 | AC18: 170 | AD18: 63 | AE18: 125 | AF18: 222 | AG18: 103 | AH18: 13329 | AI18: 4 | AJ18: 142 | AK18: 627 | AL18: 557 | AM18: 941 | AN18: 2457 | AO18: 3381 | AP18: 2939 | AQ18: 1577 | AR18: 704 | AS18: 13329 | AT18: 12417 | AU18: 77 | AV18: 120 | AW18: 234 | AX18: 6 | AY18: 475
C19: 男 Male | D19: 5628 | E19: 5322 | F19: 44 | G19: 16 | H19: 69 | I19: 5 | J19: 172 | K19: 5628 | L19: 321 | M19: 682 | N19: 520 | O19: 266 | P19: 367 | Q19: 770 | R19: 937 | S19: 1030 | T19: 718 | U19: 17 | V19: 5628 | W19: 5062 | X19: 56 | Y19: 14 | Z19: 113 | AA19: 5 | AB19: 27 | AC19: 84 | AD19: 27 | AE19: 62 | AF19: 144 | AG19: 34 | AH19: 8466 | AI19: 2 | AJ19: 101 | AK19: 454 | AL19: 324 | AM19: 555 | AN19: 1482 | AO19: 2136 | AP19: 1943 | AQ19: 1003 | AR19: 466 | AS19: 8466 | AT19: 7969 | AU19: 39 | AV19: 31 | AW19: 135 | AX19: 3 | AY19: 289
A20: Taipei City | C20: 女 Female | D20: 8426 | E20: 7845 | F20: 75 | G20: 118 | H20: 139 | I20: 2 | J20: 247 | K20: 8426 | L20: 233 | M20: 392 | N20: 475 | O20: 513 | P20: 691 | Q20: 1426 | R20: 1823 | S20: 1583 | T20: 1258 | U20: 32 | V20: 8426 | W20: 7708 | X20: 77 | Y20: 16 | Z20: 255 | AA20: 4 | AB20: 39 | AC20: 86 | AD20: 36 | AE20: 62 | AF20: 77 | AG20: 66 | AH20: 4843 | AI20: 2 | AJ20: 41 | AK20: 173 | AL20: 231 | AM20: 385 | AN20: 973 | AO20: 1245 | AP20: 996 | AQ20: 574 | AR20: 223 | AS20: 4843 | AT20: 4443 | AU20: 38 | AV20: 87 | AW20: 99 | AX20: 3 | AY20: 173
C21: 其他 Other | D21: 3 | E21: 3 | F21: 0 | G21: 0 | H21: 0 | I21: 0 | J21: 0 | K21: 3 | L21: 0 | M21: 0 | N21: 0 | O21: 0 | P21: 1 | Q21: 0 | R21: 2 | S21: 0 | T21: 0 | U21: 0 | V21: 3 | W21: 1 | X21: 0 | Y21: 0 | Z21: 1 | AA21: 0 | AB21: 0 | AC21: 0 | AD21: 0 | AE21: 1 | AF21: 0 | AG21: 0 | AH21: 1 | AI21: 0 | AJ21: 0 | AK21: 0 | AL21: 1 | AM21: 0 | AN21: 0 | AO21: 0 | AP21: 0 | AQ21: 0 | AR21: 0 | AS21: 1 | AT21: 1 | AU21: 0 | AV21: 0 | AW21: 0 | AX21: 0 | AY21: 0
C22: 不詳Unknown | D22: 18 | E22: 14 | F22: 0 | G22: 0 | H22: 1 | I22: 0 | J22: 3 | K22: 18 | L22: 8 | M22: 4 | N22: 4 | O22: 0 | P22: 0 | Q22: 0 | R22: 0 | S22: 1 | T22: 0 | U22: 1 | V22: 18 | W22: 14 | X22: 0 | Y22: 0 | Z22: 0 | AA22: 0 | AB22: 0 | AC22: 0 | AD22: 0 | AE22: 0 | AF22: 1 | AG22: 3 | AH22: 19 | AI22: 0 | AJ22: 0 | AK22: 0 | AL22: 1 | AM22: 1 | AN22: 2 | AO22: 0 | AP22: 0 | AQ22: 0 | AR22: 15 | AS22: 19 | AT22: 4 | AU22: 0 | AV22: 2 | AW22: 0 | AX22: 0 | AY22: 13
A23: 桃園市 | C23: 計 Total | D23: 15565 | E23: 13551 | F23: 1678 | G23: 83 | H23: 224 | I23: 1 | J23: 28 | K23: 15565 | L23: 652 | M23: 1228 | N23: 1042 | O23: 996 | P23: 1578 | Q23: 2991 | R23: 3190 | S23: 2400 | T23: 1472 | U23: 16 | V23: 15565 | W23: 14349 | X23: 207 | Y23: 29 | Z23: 316 | AA23: 6 | AB23: 64 | AC23: 192 | AD23: 35 | AE23: 162 | AF23: 173 | AG23: 32 | AH23: 15248 | AI23: 2 | AJ23: 64 | AK23: 406 | AL23: 807 | AM23: 1546 | AN23: 3843 | AO23: 4312 | AP23: 2870 | AQ23: 1148 | AR23: 250 | AS23: 15248 | AT23: 13348 | AU23: 1460 | AV23: 62 | AW23: 209 | AX23: 1 | AY23: 168
C24: 男 Male | D24: 6085 | E24: 5379 | F24: 655 | G24: 9 | H24: 32 | I24: 1 | J24: 9 | K24: 6085 | L24: 394 | M24: 748 | N24: 483 | O24: 373 | P24: 503 | Q24: 1001 | R24: 1084 | S24: 929 | T24: 565 | U24: 5 | V24: 6085 | W24: 5560 | X24: 86 | Y24: 7 | Z24: 99 | AA24: 5 | AB24: 21 | AC24: 93 | AD24: 8 | AE24: 93 | AF24: 101 | AG24: 12 | AH24: 10431 | AI24: 1 | AJ24: 52 | AK24: 291 | AL24: 531 | AM24: 1014 | AN24: 2546 | AO24: 2949 | AP24: 2106 | AQ24: 766 | AR24: 175 | AS24: 10431 | AT24: 9235 | AU24: 943 | AV24: 9 | AW24: 131 | AX24: 0 | AY24: 113
A25: Taoyuan City | C25: 女 Female | D25: 9477 | E25: 8169 | F25: 1023 | G25: 74 | H25: 192 | I25: 0 | J25: 19 | K25: 9477 | L25: 258 | M25: 480 | N25: 559 | O25: 623 | P25: 1075 | Q25: 1989 | R25: 2105 | S25: 1471 | T25: 906 | U25: 11 | V25: 9477 | W25: 8786 | X25: 121 | Y25: 22 | Z25: 217 | AA25: 1 | AB25: 43 | AC25: 99 | AD25: 27 | AE25: 69 | AF25: 72 | AG25: 20 | AH25: 4801 | AI25: 1 | AJ25: 12 | AK25: 115 | AL25: 276 | AM25: 532 | AN25: 1296 | AO25: 1361 | AP25: 764 | AQ25: 382 | AR25: 62 | AS25: 4801 | AT25: 4108 | AU25: 516 | AV25: 53 | AW25: 78 | AX25: 1 | AY25: 45
C26: 其他 Other | D26: 1 | E26: 1 | F26: 0 | G26: 0 | H26: 0 | I26: 0 | J26: 0 | K26: 1 | L26: 0 | M26: 0 | N26: 0 | O26: 0 | P26: 0 | Q26: 1 | R26: 0 | S26: 0 | T26: 0 | U26: 0 | V26: 1 | W26: 1 | X26: 0 | Y26: 0 | Z26: 0 | AA26: 0 | AB26: 0 | AC26: 0 | AD26: 0 | AE26: 0 | AF26: 0 | AG26: 0 | AH26: 1 | AI26: 0 | AJ26: 0 | AK26: 0 | AL26: 0 | AM26: 0 | AN26: 0 | AO26: 1 | AP26: 0 | AQ26: 0 | AR26: 0 | AS26: 1 | AT26: 1 | AU26: 0 | AV26: 0 | AW26: 0 | AX26: 0 | AY26: 0
C27: 不詳Unknown | D27: 2 | E27: 2 | F27: 0 | G27: 0 | H27: 0 | I27: 0 | J27: 0 | K27: 2 | L27: 0 | M27: 0 | N27: 0 | O27: 0 | P27: 0 | Q27: 0 | R27: 1 | S27: 0 | T27: 1 | U27: 0 | V27: 2 | W27: 2 | X27: 0 | Y27: 0 | Z27: 0 | AA27: 0 | AB27: 0 | AC27: 0 | AD27: 0 | AE27: 0 | AF27: 0 | AG27: 0 | AH27: 15 | AI27: 0 | AJ27: 0 | AK27: 0 | AL27: 0 | AM27: 0 | AN27: 1 | AO27: 1 | AP27: 0 | AQ27: 0 | AR27: 13 | AS27: 15 | AT27: 4 | AU27: 1 | AV27: 0 | AW27: 0 | AX27: 0 | AY27: 10
A28: 臺中市 | C28: 計 Total | D28: 19542 | E28: 18254 | F28: 587 | G28: 142 | H28: 239 | I28: 5 | J28: 315 | K28: 19542 | L28: 679 | M28: 1295 | N28: 1155 | O28: 1355 | P28: 1893 | Q28: 3659 | R28: 4016 | S28: 3266 | T28: 2188 | U28: 36 | V28: 19542 | W28: 17726 | X28: 248 | Y28: 52 | Z28: 472 | AA28: 17 | AB28: 115 | AC28: 317 | AD28: 67 | AE28: 185 | AF28: 276 | AG28: 67 | AH28: 19117 | AI28: 3 | AJ28: 109 | AK28: 612 | AL28: 1037 | AM28: 1885 | AN28: 4316 | AO28: 5286 | AP28: 3805 | AQ28: 1697 | AR28: 367 | AS28: 19117 | AT28: 17928 | AU28: 489 | AV28: 109 | AW28: 216 | AX28: 2 | AY28: 373
C29: 男 Male | D29: 7821 | E29: 7413 | F29: 222 | G29: 11 | H29: 39 | I29: 2 | J29: 134 | K29: 7821 | L29: 407 | M29: 806 | N29: 591 | O29: 477 | P29: 652 | Q29: 1261 | R29: 1459 | S29: 1289 | T29: 867 | U29: 12 | V29: 7821 | W29: 7044 | X29: 102 | Y29: 23 | Z29: 143 | AA29: 10 | AB29: 58 | AC29: 163 | AD29: 19 | AE29: 96 | AF29: 137 | AG29: 26 | AH29: 12729 | AI29: 2 | AJ29: 85 | AK29: 453 | AL29: 636 | AM29: 1204 | AN29: 2797 | AO29: 3592 | AP29: 2605 | AQ29: 1099 | AR29: 256 | AS29: 12729 | AT29: 12015 | AU29: 324 | AV29: 25 | AW29: 107 | AX29: 1 | AY29: 257
A30: Taichung City | C30: 女 Female | D30: 11718 | E30: 10838 | F30: 365 | G30: 131 | H30: 200 | I30: 3 | J30: 181 | K30: 11718 | L30: 272 | M30: 489 | N30: 563 | O30: 877 | P30: 1241 | Q30: 2398 | R30: 2557 | S30: 1976 | T30: 1321 | U30: 24 | V30: 11718 | W30: 10679 | X30: 146 | Y30: 29 | Z30: 329 | AA30: 7 | AB30: 57 | AC30: 154 | AD30: 48 | AE30: 89 | AF30: 139 | AG30: 41 | AH30: 6376 | AI30: 1 | AJ30: 24 | AK30: 159 | AL30: 400 | AM30: 681 | AN30: 1518 | AO30: 1693 | AP30: 1200 | AQ30: 597 | AR30: 103 | AS30: 6376 | AT30: 5910 | AU30: 165 | AV30: 84 | AW30: 108 | AX30: 1 | AY30: 108
C31: 其他 Other | D31: 2 | E31: 2 | F31: 0 | G31: 0 | H31: 0 | I31: 0 | J31: 0 | K31: 2 | L31: 0 | M31: 0 | N31: 0 | O31: 1 | P31: 0 | Q31: 0 | R31: 0 | S31: 1 | T31: 0 | U31: 0 | V31: 2 | W31: 2 | X31: 0 | Y31: 0 | Z31: 0 | AA31: 0 | AB31: 0 | AC31: 0 | AD31: 0 | AE31: 0 | AF31: 0 | AG31: 0 | AH31: 1 | AI31: 0 | AJ31: 0 | AK31: 0 | AL31: 1 | AM31: 0 | AN31: 0 | AO31: 0 | AP31: 0 | AQ31: 0 | AR31: 0 | AS31: 1 | AT31: 1 | AU31: 0 | AV31: 0 | AW31: 0 | AX31: 0 | AY31: 0
C32: 不詳Unknown | D32: 1 | E32: 1 | F32: 0 | G32: 0 | H32: 0 | I32: 0 | J32: 0 | K32: 1 | L32: 0 | M32: 0 | N32: 1 | O32: 0 | P32: 0 | Q32: 0 | R32: 0 | S32: 0 | T32: 0 | U32: 0 | V32: 1 | W32: 1 | X32: 0 | Y32: 0 | Z32: 0 | AA32: 0 | AB32: 0 | AC32: 0 | AD32: 0 | AE32: 0 | AF32: 0 | AG32: 0 | AH32: 11 | AI32: 0 | AJ32: 0 | AK32: 0 | AL32: 0 | AM32: 0 | AN32: 1 | AO32: 1 | AP32: 0 | AQ32: 1 | AR32: 8 | AS32: 11 | AT32: 2 | AU32: 0 | AV32: 0 | AW32: 1 | AX32: 0 | AY32: 8
A33: 臺南市 | C33: 計 Total | D33: 10228 | E33: 9929 | F33: 172 | G33: 33 | H33: 71 | I33: 0 | J33: 23 | K33: 10228 | L33: 538 | M33: 795 | N33: 594 | O33: 566 | P33: 856 | Q33: 1753 | R33: 1978 | S33: 1751 | T33: 1392 | U33: 5 | V33: 10228 | W33: 9173 | X33: 200 | Y33: 38 | Z33: 204 | AA33: 13 | AB33: 54 | AC33: 217 | AD33: 57 | AE33: 109 | AF33: 149 | AG33: 14 | AH33: 9918 | AI33: 9 | AJ33: 71 | AK33: 275 | AL33: 445 | AM33: 871 | AN33: 2217 | AO33: 2764 | AP33: 2066 | AQ33: 1070 | AR33: 130 | AS33: 9918 | AT33: 9586 | AU33: 144 | AV33: 37 | AW33: 95 | AX33: 2 | AY33: 54
C34: 男 Male | D34: 3799 | E34: 3712 | F34: 68 | G34: 3 | H34: 12 | I34: 0 | J34: 4 | K34: 3799 | L34: 314 | M34: 494 | N34: 248 | O34: 183 | P34: 277 | Q34: 539 | R34: 603 | S34: 642 | T34: 498 | U34: 1 | V34: 3799 | W34: 3364 | X34: 80 | Y34: 13 | Z34: 50 | AA34: 5 | AB34: 26 | AC34: 108 | AD34: 16 | AE34: 53 | AF34: 79 | AG34: 5 | AH34: 6753 | AI34: 4 | AJ34: 58 | AK34: 196 | AL34: 274 | AM34: 568 | AN34: 1486 | AO34: 1907 | AP34: 1439 | AQ34: 721 | AR34: 100 | AS34: 6753 | AT34: 6552 | AU34: 88 | AV34: 12 | AW34: 62 | AX34: 2 | AY34: 37
A35: Tainan City | C35: 女 Female | D35: 6426 | E35: 6214 | F35: 104 | G35: 30 | H35: 59 | I35: 0 | J35: 19 | K35: 6426 | L35: 223 | M35: 301 | N35: 344 | O35: 383 | P35: 579 | Q35: 1214 | R35: 1375 | S35: 1109 | T35: 894 | U35: 4 | V35: 6426 | W35: 5808 | X35: 120 | Y35: 25 | Z35: 154 | AA35: 8 | AB35: 28 | AC35: 109 | AD35: 41 | AE35: 55 | AF35: 69 | AG35: 9 | AH35: 3156 | AI35: 5 | AJ35: 13 | AK35: 79 | AL35: 171 | AM35: 303 | AN35: 731 | AO35: 856 | AP35: 626 | AQ35: 348 | AR35: 24 | AS35: 3156 | AT35: 3031 | AU35: 56 | AV35: 25 | AW35: 33 | AX35: 0 | AY35: 11
C36: 其他 Other | D36: 0 | E36: 0 | F36: 0 | G36: 0 | H36: 0 | I36: 0 | J36: 0 | K36: 0 | L36: 0 | M36: 0 | N36: 0 | O36: 0 | P36: 0 | Q36: 0 | R36: 0 | S36: 0 | T36: 0 | U36: 0 | V36: 0 | W36: 0 | X36: 0 | Y36: 0 | Z36: 0 | AA36: 0 | AB36: 0 | AC36: 0 | AD36: 0 | AE36: 0 | AF36: 0 | AG36: 0 | AH36: 3 | AI36: 0 | AJ36: 0 | AK36: 0 | AL36: 0 | AM36: 0 | AN36: 0 | AO36: 1 | AP36: 1 | AQ36: 1 | AR36: 0 | AS36: 3 | AT36: 3 | AU36: 0 | AV36: 0 | AW36: 0 | AX36: 0 | AY36: 0
C37: 不詳Unknown | D37: 3 | E37: 3 | F37: 0 | G37: 0 | H37: 0 | I37: 0 | J37: 0 | K37: 3 | L37: 1 | M37: 0 | N37: 2 | O37: 0 | P37: 0 | Q37: 0 | R37: 0 | S37: 0 | T37: 0 | U37: 0 | V37: 3 | W37: 1 | X37: 0 | Y37: 0 | Z37: 0 | AA37: 0 | AB37: 0 | AC37: 0 | AD37: 0 | AE37: 1 | AF37: 1 | AG37: 0 | AH37: 6 | AI37: 0 | AJ37: 0 | AK37: 0 | AL37: 0 | AM37: 0 | AN37: 0 | AO37: 0 | AP37: 0 | AQ37: 0 | AR37: 6 | AS37: 6 | AT37: 0 | AU37: 0 | AV37: 0 | AW37: 0 | AX37: 0 | AY37: 6
A38: 高雄市 | C38: 計 Total | D38: 19568 | E38: 18623 | F38: 632 | G38: 97 | H38: 166 | I38: 1 | J38: 49 | K38: 19568 | L38: 775 | M38: 1161 | N38: 1068 | O38: 1187 | P38: 1743 | Q38: 3433 | R38: 3973 | S38: 3576 | T38: 2641 | U38: 11 | V38: 19568 | W38: 17504 | X38: 280 | Y38: 56 | Z38: 599 | AA38: 27 | AB38: 78 | AC38: 414 | AD38: 108 | AE38: 188 | AF38: 302 | AG38: 12 | AH38: 19155 | AI38: 3 | AJ38: 129 | AK38: 636 | AL38: 891 | AM38: 1697 | AN38: 4233 | AO38: 5244 | AP38: 4085 | AQ38: 2139 | AR38: 98 | AS38: 19155 | AT38: 18280 | AU38: 514 | AV38: 87 | AW38: 167 | AX38: 0 | AY38: 107
C39: 男 Male | D39: 7891 | E39: 7608 | F39: 227 | G39: 9 | H39: 34 | I39: 0 | J39: 13 | K39: 7891 | L39: 470 | M39: 693 | N39: 500 | O39: 455 | P39: 595 | Q39: 1258 | R39: 1453 | S39: 1458 | T39: 1005 | U39: 4 | V39: 7891 | W39: 7001 | X39: 132 | Y39: 27 | Z39: 170 | AA39: 14 | AB39: 40 | AC39: 222 | AD39: 34 | AE39: 92 | AF39: 155 | AG39: 4 | AH39: 12219 | AI39: 1 | AJ39: 98 | AK39: 431 | AL39: 534 | AM39: 991 | AN39: 2699 | AO39: 3373 | AP39: 2684 | AQ39: 1336 | AR39: 72 | AS39: 12219 | AT39: 11735 | AU39: 308 | AV39: 15 | AW39: 84 | AX39: 0 | AY39: 77
A40: Kaohsiung City | C40: 女 Female | D40: 11676 | E40: 11014 | F40: 405 | G40: 88 | H40: 132 | I40: 1 | J40: 36 | K40: 11676 | L40: 305 | M40: 468 | N40: 568 | O40: 731 | P40: 1148 | Q40: 2175 | R40: 2520 | S40: 2118 | T40: 1636 | U40: 7 | V40: 11676 | W40: 10502 | X40: 148 | Y40: 29 | Z40: 429 | AA40: 13 | AB40: 38 | AC40: 192 | AD40: 74 | AE40: 96 | AF40: 147 | AG40: 8 | AH40: 6932 | AI40: 2 | AJ40: 31 | AK40: 205 | AL40: 357 | AM40: 705 | AN40: 1532 | AO40: 1871 | AP40: 1401 | AQ40: 803 | AR40: 25 | AS40: 6932 | AT40: 6542 | AU40: 206 | AV40: 72 | AW40: 83 | AX40: 0 | AY40: 29
C41: 其他 Other | D41: 1 | E41: 1 | F41: 0 | G41: 0 | H41: 0 | I41: 0 | J41: 0 | K41: 1 | L41: 0 | M41: 0 | N41: 0 | O41: 1 | P41: 0 | Q41: 0 | R41: 0 | S41: 0 | T41: 0 | U41: 0 | V41: 1 | W41: 1 | X41: 0 | Y41: 0 | Z41: 0 | AA41: 0 | AB41: 0 | AC41: 0 | AD41: 0 | AE41: 0 | AF41: 0 | AG41: 0 | AH41: 1 | AI41: 0 | AJ41: 0 | AK41: 0 | AL41: 0 | AM41: 1 | AN41: 0 | AO41: 0 | AP41: 0 | AQ41: 0 | AR41: 0 | AS41: 1 | AT41: 1 | AU41: 0 | AV41: 0 | AW41: 0 | AX41: 0 | AY41: 0
C42: 不詳Unknown | D42: 0 | E42: 0 | F42: 0 | G42: 0 | H42: 0 | I42: 0 | J42: 0 | K42: 0 | L42: 0 | M42: 0 | N42: 0 | O42: 0 | P42: 0 | Q42: 0 | R42: 0 | S42: 0 | T42: 0 | U42: 0 | V42: 0 | W42: 0 | X42: 0 | Y42: 0 | Z42: 0 | AA42: 0 | AB42: 0 | AC42: 0 | AD42: 0 | AE42: 0 | AF42: 0 | AG42: 0 | AH42: 3 | AI42: 0 | AJ42: 0 | AK42: 0 | AL42: 0 | AM42: 0 | AN42: 2 | AO42: 0 | AP42: 0 | AQ42: 0 | AR42: 1 | AS42: 3 | AT42: 2 | AU42: 0 | AV42: 0 | AW42: 0 | AX42: 0 | AY42: 1
B43: 宜蘭縣 | C43: 計 Total | D43: 2332 | E43: 2005 | F43: 248 | G43: 17 | H43: 16 | I43: 0 | J43: 46 | K43: 2332 | L43: 92 | M43: 116 | N43: 84 | O43: 147 | P43: 222 | Q43: 429 | R43: 497 | S43: 449 | T43: 295 | U43: 1 | V43: 2332 | W43: 2045 | X43: 45 | Y43: 9 | Z43: 75 | AA43: 4 | AB43: 13 | AC43: 62 | AD43: 11 | AE43: 27 | AF43: 35 | AG43: 6 | AH43: 2236 | AI43: 0 | AJ43: 3 | AK43: 80 | AL43: 110 | AM43: 188 | AN43: 504 | AO43: 554 | AP43: 467 | AQ43: 211 | AR43: 119 | AS43: 2236 | AT43: 1923 | AU43: 215 | AV43: 11 | AW43: 12 | AX43: 0 | AY43: 75
C44: 男 Male | D44: 823 | E44: 737 | F44: 65 | G44: 2 | H44: 1 | I44: 0 | J44: 18 | K44: 823 | L44: 56 | M44: 66 | N44: 31 | O44: 49 | P44: 55 | Q44: 116 | R44: 156 | S44: 184 | T44: 110 | U44: 0 | V44: 823 | W44: 711 | X44: 14 | Y44: 3 | Z44: 21 | AA44: 2 | AB44: 5 | AC44: 32 | AD44: 6 | AE44: 9 | AF44: 19 | AG44: 1 | AH44: 1643 | AI44: 0 | AJ44: 3 | AK44: 58 | AL44: 84 | AM44: 151 | AN44: 361 | AO44: 426 | AP44: 337 | AQ44: 154 | AR44: 69 | AS44: 1643 | AT44: 1425 | AU44: 159 | AV44: 3 | AW44: 8 | AX44: 0 | AY44: 48
B45: Yilan County | C45: 女 Female | D45: 1507 | E45: 1267 | F45: 183 | G45: 15 | H45: 15 | I45: 0 | J45: 27 | K45: 1507 | L45: 36 | M45: 49 | N45: 52 | O45: 98 | P45: 167 | Q45: 313 | R45: 341 | S45: 265 | T45: 185 | U45: 1 | V45: 1507 | W45: 1332 | X45: 31 | Y45: 6 | Z45: 54 | AA45: 2 | AB45: 8 | AC45: 30 | AD45: 5 | AE45: 18 | AF45: 16 | AG45: 5 | AH45: 592 | AI45: 0 | AJ45: 0 | AK45: 22 | AL45: 26 | AM45: 37 | AN45: 142 | AO45: 128 | AP45: 130 | AQ45: 57 | AR45: 50 | AS45: 592 | AT45: 497 | AU45: 56 | AV45: 8 | AW45: 4 | AX45: 0 | AY45: 27
C46: 其他 Other | D46: 0 | E46: 0 | F46: 0 | G46: 0 | H46: 0 | I46: 0 | J46: 0 | K46: 0 | L46: 0 | M46: 0 | N46: 0 | O46: 0 | P46: 0 | Q46: 0 | R46: 0 | S46: 0 | T46: 0 | U46: 0 | V46: 0 | W46: 0 | X46: 0 | Y46: 0 | Z46: 0 | AA46: 0 | AB46: 0 | AC46: 0 | AD46: 0 | AE46: 0 | AF46: 0 | AG46: 0 | AH46: 1 | AI46: 0 | AJ46: 0 | AK46: 0 | AL46: 0 | AM46: 0 | AN46: 1 | AO46: 0 | AP46: 0 | AQ46: 0 | AR46: 0 | AS46: 1 | AT46: 1 | AU46: 0 | AV46: 0 | AW46: 0 | AX46: 0 | AY46: 0
C47: 不詳Unknown | D47: 2 | E47: 1 | F47: 0 | G47: 0 | H47: 0 | I47: 0 | J47: 1 | K47: 2 | L47: 0 | M47: 1 | N47: 1 | O47: 0 | P47: 0 | Q47: 0 | R47: 0 | S47: 0 | T47: 0 | U47: 0 | V47: 2 | W47: 2 | X47: 0 | Y47: 0 | Z47: 0 | AA47: 0 | AB47: 0 | AC47: 0 | AD47: 0 | AE47: 0 | AF47: 0 | AG47: 0 | AH47: 0 | AI47: 0 | AJ47: 0 | AK47: 0 | AL47: 0 | AM47: 0 | AN47: 0 | AO47: 0 | AP47: 0 | AQ47: 0 | AR47: 0 | AS47: 0 | AT47: 0 | AU47: 0 | AV47: 0 | AW47: 0 | AX47: 0 | AY47: 0
B48: 新竹縣 | C48: 計 Total | D48: 3330 | E48: 2847 | F48: 383 | G48: 13 | H48: 48 | I48: 1 | J48: 38 | K48: 3330 | L48: 234 | M48: 230 | N48: 138 | O48: 197 | P48: 289 | Q48: 652 | R48: 684 | S48: 541 | T48: 361 | U48: 4 | V48: 3330 | W48: 3104 | X48: 38 | Y48: 6 | Z48: 52 | AA48: 2 | AB48: 14 | AC48: 45 | AD48: 3 | AE48: 20 | AF48: 33 | AG48: 13 | AH48: 3084 | AI48: 0 | AJ48: 17 | AK48: 109 | AL48: 156 | AM48: 325 | AN48: 736 | AO48: 861 | AP48: 570 | AQ48: 239 | AR48: 71 | AS48: 3084 | AT48: 2639 | AU48: 317 | AV48: 11 | AW48: 36 | AX48: 2 | AY48: 79
C49: 男 Male | D49: 1325 | E49: 1156 | F49: 148 | G49: 2 | H49: 4 | I49: 0 | J49: 15 | K49: 1325 | L49: 138 | M49: 155 | N49: 54 | O49: 61 | P49: 104 | Q49: 189 | R49: 237 | S49: 234 | T49: 152 | U49: 1 | V49: 1325 | W49: 1221 | X49: 13 | Y49: 2 | Z49: 15 | AA49: 2 | AB49: 6 | AC49: 30 | AD49: 1 | AE49: 10 | AF49: 22 | AG49: 3 | AH49: 2221 | AI49: 0 | AJ49: 14 | AK49: 80 | AL49: 100 | AM49: 230 | AN49: 486 | AO49: 654 | AP49: 442 | AQ49: 163 | AR49: 52 | AS49: 2221 | AT49: 1915 | AU49: 224 | AV49: 3 | AW49: 22 | AX49: 2 | AY49: 55
B50: Hsinchu County | C50: 女 Female | D50: 2002 | E50: 1688 | F50: 235 | G50: 11 | H50: 44 | I50: 1 | J50: 23 | K50: 2002 | L50: 95 | M50: 74 | N50: 83 | O50: 136 | P50: 185 | Q50: 463 | R50: 447 | S50: 307 | T50: 209 | U50: 3 | V50: 2002 | W50: 1880 | X50: 25 | Y50: 4 | Z50: 37 | AA50: 0 | AB50: 8 | AC50: 15 | AD50: 2 | AE50: 10 | AF50: 11 | AG50: 10 | AH50: 861 | AI50: 0 | AJ50: 3 | AK50: 28 | AL50: 56 | AM50: 95 | AN50: 250 | AO50: 207 | AP50: 128 | AQ50: 76 | AR50: 18 | AS50: 861 | AT50: 724 | AU50: 92 | AV50: 8 | AW50: 14 | AX50: 0 | AY50: 23
C51: 其他 Other | D51: 0 | E51: 0 | F51: 0 | G51: 0 | H51: 0 | I51: 0 | J51: 0 | K51: 0 | L51: 0 | M51: 0 | N51: 0 | O51: 0 | P51: 0 | Q51: 0 | R51: 0 | S51: 0 | T51: 0 | U51: 0 | V51: 0 | W51: 0 | X51: 0 | Y51: 0 | Z51: 0 | AA51: 0 | AB51: 0 | AC51: 0 | AD51: 0 | AE51: 0 | AF51: 0 | AG51: 0 | AH51: 1 | AI51: 0 | AJ51: 0 | AK51: 0 | AL51: 0 | AM51: 0 | AN51: 0 | AO51: 0 | AP51: 0 | AQ51: 0 | AR51: 1 | AS51: 1 | AT51: 0 | AU51: 0 | AV51: 0 | AW51: 0 | AX51: 0 | AY51: 1
C52: 不詳Unknown | D52: 3 | E52: 3 | F52: 0 | G52: 0 | H52: 0 | I52: 0 | J52: 0 | K52: 3 | L52: 1 | M52: 1 | N52: 1 | O52: 0 | P52: 0 | Q52: 0 | R52: 0 | S52: 0 | T52: 0 | U52: 0 | V52: 3 | W52: 3 | X52: 0 | Y52: 0 | Z52: 0 | AA52: 0 | AB52: 0 | AC52: 0 | AD52: 0 | AE52: 0 | AF52: 0 | AG52: 0 | AH52: 1 | AI52: 0 | AJ52: 0 | AK52: 1 | AL52: 0 | AM52: 0 | AN52: 0 | AO52: 0 | AP52: 0 | AQ52: 0 | AR52: 0 | AS52: 1 | AT52: 0 | AU52: 1 | AV52: 0 | AW52: 0 | AX52: 0 | AY52: 0
B53: 苗栗縣 | C53: 計 Total | D53: 2723 | E53: 2444 | F53: 208 | G53: 18 | H53: 27 | I53: 0 | J53: 26 | K53: 2723 | L53: 136 | M53: 200 | N53: 189 | O53: 146 | P53: 231 | Q53: 473 | R53: 558 | S53: 437 | T53: 350 | U53: 3 | V53: 2723 | W53: 2444 | X53: 44 | Y53: 5 | Z53: 72 | AA53: 6 | AB53: 23 | AC53: 59 | AD53: 4 | AE53: 33 | AF53: 30 | AG53: 3 | AH53: 2632 | AI53: 0 | AJ53: 11 | AK53: 55 | AL53: 114 | AM53: 250 | AN53: 643 | AO53: 750 | AP53: 507 | AQ53: 252 | AR53: 50 | AS53: 2632 | AT53: 2408 | AU53: 169 | AV53: 12 | AW53: 21 | AX53: 1 | AY53: 21
C54: 男 Male | D54: 1039 | E54: 954 | F54: 75 | G54: 0 | H54: 0 | I54: 0 | J54: 10 | K54: 1039 | L54: 81 | M54: 120 | N54: 84 | O54: 48 | P54: 74 | Q54: 134 | R54: 176 | S54: 176 | T54: 146 | U54: 0 | V54: 1039 | W54: 912 | X54: 20 | Y54: 3 | Z54: 27 | AA54: 3 | AB54: 7 | AC54: 35 | AD54: 1 | AE54: 18 | AF54: 13 | AG54: 0 | AH54: 1974 | AI54: 0 | AJ54: 8 | AK54: 43 | AL54: 85 | AM54: 184 | AN54: 468 | AO54: 579 | AP54: 384 | AQ54: 184 | AR54: 39 | AS54: 1974 | AT54: 1818 | AU54: 128 | AV54: 3 | AW54: 7 | AX54: 1 | AY54: 17
B55: Miaoli County | C55: 女 Female | D55: 1684 | E55: 1490 | F55: 133 | G55: 18 | H55: 27 | I55: 0 | J55: 16 | K55: 1684 | L55: 55 | M55: 80 | N55: 105 | O55: 98 | P55: 157 | Q55: 339 | R55: 382 | S55: 261 | T55: 204 | U55: 3 | V55: 1684 | W55: 1532 | X55: 24 | Y55: 2 | Z55: 45 | AA55: 3 | AB55: 16 | AC55: 24 | AD55: 3 | AE55: 15 | AF55: 17 | AG55: 3 | AH55: 658 | AI55: 0 | AJ55: 3 | AK55: 12 | AL55: 29 | AM55: 66 | AN55: 175 | AO55: 171 | AP55: 123 | AQ55: 68 | AR55: 11 | AS55: 658 | AT55: 590 | AU55: 41 | AV55: 9 | AW55: 14 | AX55: 0 | AY55: 4
C56: 其他 Other | D56: 0 | E56: 0 | F56: 0 | G56: 0 | H56: 0 | I56: 0 | J56: 0 | K56: 0 | L56: 0 | M56: 0 | N56: 0 | O56: 0 | P56: 0 | Q56: 0 | R56: 0 | S56: 0 | T56: 0 | U56: 0 | V56: 0 | W56: 0 | X56: 0 | Y56: 0 | Z56: 0 | AA56: 0 | AB56: 0 | AC56: 0 | AD56: 0 | AE56: 0 | AF56: 0 | AG56: 0 | AH56: 0 | AI56: 0 | AJ56: 0 | AK56: 0 | AL56: 0 | AM56: 0 | AN56: 0 | AO56: 0 | AP56: 0 | AQ56: 0 | AR56: 0 | AS56: 0 | AT56: 0 | AU56: 0 | AV56: 0 | AW56: 0 | AX56: 0 | AY56: 0
C57: 不詳Unknown | D57: 0 | E57: 0 | F57: 0 | G57: 0 | H57: 0 | I57: 0 | J57: 0 | K57: 0 | L57: 0 | M57: 0 | N57: 0 | O57: 0 | P57: 0 | Q57: 0 | R57: 0 | S57: 0 | T57: 0 | U57: 0 | V57: 0 | W57: 0 | X57: 0 | Y57: 0 | Z57: 0 | AA57: 0 | AB57: 0 | AC57: 0 | AD57: 0 | AE57: 0 | AF57: 0 | AG57: 0 | AH57: 0 | AI57: 0 | AJ57: 0 | AK57: 0 | AL57: 0 | AM57: 0 | AN57: 0 | AO57: 0 | AP57: 0 | AQ57: 0 | AR57: 0 | AS57: 0 | AT57: 0 | AU57: 0 | AV57: 0 | AW57: 0 | AX57: 0 | AY57: 0
B58: 彰化縣 | C58: 計 Total | D58: 8194 | E58: 7840 | F58: 102 | G58: 22 | H58: 108 | I58: 1 | J58: 121 | K58: 8194 | L58: 370 | M58: 440 | N58: 405 | O58: 434 | P58: 635 | Q58: 1379 | R58: 1740 | S58: 1521 | T58: 1256 | U58: 14 | V58: 8194 | W58: 7241 | X58: 188 | Y58: 19 | Z58: 231 | AA58: 11 | AB58: 62 | AC58: 172 | AD58: 37 | AE58: 87 | AF58: 110 | AG58: 36 | AH58: 7747 | AI58: 1 | AJ58: 35 | AK58: 227 | AL58: 285 | AM58: 630 | AN58: 1628 | AO58: 2111 | AP58: 1683 | AQ58: 883 | AR58: 264 | AS58: 7747 | AT58: 7398 | AU58: 85 | AV58: 24 | AW58: 112 | AX58: 3 | AY58: 125
C59: 男 Male | D59: 3494 | E59: 3387 | F59: 36 | G59: 2 | H59: 26 | I59: 0 | J59: 43 | K59: 3494 | L59: 203 | M59: 266 | N59: 190 | O59: 168 | P59: 256 | Q59: 504 | R59: 686 | S59: 679 | T59: 537 | U59: 5 | V59: 3494 | W59: 3020 | X59: 96 | Y59: 13 | Z59: 88 | AA59: 8 | AB59: 32 | AC59: 100 | AD59: 14 | AE59: 45 | AF59: 69 | AG59: 9 | AH59: 5286 | AI59: 1 | AJ59: 24 | AK59: 156 | AL59: 191 | AM59: 441 | AN59: 1085 | AO59: 1456 | AP59: 1188 | AQ59: 569 | AR59: 175 | AS59: 5286 | AT59: 5077 | AU59: 51 | AV59: 4 | AW59: 70 | AX59: 3 | AY59: 81
B60: Changhua County | C60: 女 Female | D60: 4682 | E60: 4439 | F60: 66 | G60: 20 | H60: 82 | I60: 1 | J60: 74 | K60: 4682 | L60: 160 | M60: 171 | N60: 212 | O60: 266 | P60: 379 | Q60: 873 | R60: 1053 | S60: 841 | T60: 719 | U60: 8 | V60: 4682 | W60: 4207 | X60: 92 | Y60: 6 | Z60: 143 | AA60: 3 | AB60: 30 | AC60: 72 | AD60: 23 | AE60: 41 | AF60: 41 | AG60: 24 | AH60: 2456 | AI60: 0 | AJ60: 11 | AK60: 71 | AL60: 94 | AM60: 189 | AN60: 542 | AO60: 655 | AP60: 495 | AQ60: 314 | AR60: 85 | AS60: 2456 | AT60: 2319 | AU60: 34 | AV60: 20 | AW60: 42 | AX60: 0 | AY60: 41
C61: 其他 Other | D61: 4 | E61: 4 | F61: 0 | G61: 0 | H61: 0 | I61: 0 | J61: 0 | K61: 4 | L61: 0 | M61: 0 | N61: 0 | O61: 0 | P61: 0 | Q61: 2 | R61: 1 | S61: 1 | T61: 0 | U61: 0 | V61: 4 | W61: 4 | X61: 0 | Y61: 0 | Z61: 0 | AA61: 0 | AB61: 0 | AC61: 0 | AD61: 0 | AE61: 0 | AF61: 0 | AG61: 0 | AH61: 1 | AI61: 0 | AJ61: 0 | AK61: 0 | AL61: 0 | AM61: 0 | AN61: 1 | AO61: 0 | AP61: 0 | AQ61: 0 | AR61: 0 | AS61: 1 | AT61: 1 | AU61: 0 | AV61: 0 | AW61: 0 | AX61: 0 | AY61: 0
C62: 不詳Unknown | D62: 14 | E62: 10 | F62: 0 | G62: 0 | H62: 0 | I62: 0 | J62: 4 | K62: 14 | L62: 7 | M62: 3 | N62: 3 | O62: 0 | P62: 0 | Q62: 0 | R62: 0 | S62: 0 | T62: 0 | U62: 1 | V62: 14 | W62: 10 | X62: 0 | Y62: 0 | Z62: 0 | AA62: 0 | AB62: 0 | AC62: 0 | AD62: 0 | AE62: 1 | AF62: 0 | AG62: 3 | AH62: 4 | AI62: 0 | AJ62: 0 | AK62: 0 | AL62: 0 | AM62: 0 | AN62: 0 | AO62: 0 | AP62: 0 | AQ62: 0 | AR62: 4 | AS62: 4 | AT62: 1 | AU62: 0 | AV62: 0 | AW62: 0 | AX62: 0 | AY62: 3
B63: 南投縣 | C63: 計 Total | D63: 3199 | E63: 2664 | F63: 461 | G63: 21 | H63: 20 | I63: 1 | J63: 32 | K63: 3199 | L63: 192 | M63: 221 | N63: 174 | O63: 162 | P63: 230 | Q63: 505 | R63: 644 | S63: 598 | T63: 469 | U63: 4 | V63: 3199 | W63: 2821 | X63: 71 | Y63: 10 | Z63: 84 | AA63: 3 | AB63: 33 | AC63: 76 | AD63: 12 | AE63: 31 | AF63: 54 | AG63: 4 | AH63: 3036 | AI63: 3 | AJ63: 13 | AK63: 78 | AL63: 140 | AM63: 279 | AN63: 688 | AO63: 810 | AP63: 651 | AQ63: 338 | AR63: 36 | AS63: 3036 | AT63: 2544 | AU63: 428 | AV63: 20 | AW63: 23 | AX63: 1 | AY63: 20
C64: 男 Male | D64: 1272 | E64: 1115 | F64: 141 | G64: 0 | H64: 2 | I64: 0 | J64: 14 | K64: 1272 | L64: 100 | M64: 139 | N64: 68 | O64: 68 | P64: 80 | Q64: 171 | R64: 229 | S64: 233 | T64: 183 | U64: 1 | V64: 1272 | W64: 1094 | X64: 29 | Y64: 6 | Z64: 32 | AA64: 2 | AB64: 18 | AC64: 37 | AD64: 7 | AE64: 17 | AF64: 29 | AG64: 1 | AH64: 2130 | AI64: 1 | AJ64: 13 | AK64: 60 | AL64: 96 | AM64: 194 | AN64: 476 | AO64: 571 | AP64: 464 | AQ64: 230 | AR64: 25 | AS64: 2130 | AT64: 1798 | AU64: 303 | AV64: 2 | AW64: 14 | AX64: 0 | AY64: 13
B65: Nantou County | C65: 女 Female | D65: 1927 | E65: 1549 | F65: 320 | G65: 21 | H65: 18 | I65: 1 | J65: 18 | K65: 1927 | L65: 92 | M65: 82 | N65: 106 | O65: 94 | P65: 150 | Q65: 334 | R65: 415 | S65: 365 | T65: 286 | U65: 3 | V65: 1927 | W65: 1727 | X65: 42 | Y65: 4 | Z65: 52 | AA65: 1 | AB65: 15 | AC65: 39 | AD65: 5 | AE65: 14 | AF65: 25 | AG65: 3 | AH65: 904 | AI65: 2 | AJ65: 0 | AK65: 18 | AL65: 44 | AM65: 85 | AN65: 212 | AO65: 239 | AP65: 187 | AQ65: 108 | AR65: 9 | AS65: 904 | AT65: 746 | AU65: 125 | AV65: 18 | AW65: 9 | AX65: 1 | AY65: 5
C66: 其他 Other | D66: 0 | E66: 0 | F66: 0 | G66: 0 | H66: 0 | I66: 0 | J66: 0 | K66: 0 | L66: 0 | M66: 0 | N66: 0 | O66: 0 | P66: 0 | Q66: 0 | R66: 0 | S66: 0 | T66: 0 | U66: 0 | V66: 0 | W66: 0 | X66: 0 | Y66: 0 | Z66: 0 | AA66: 0 | AB66: 0 | AC66: 0 | AD66: 0 | AE66: 0 | AF66: 0 | AG66: 0 | AH66: 0 | AI66: 0 | AJ66: 0 | AK66: 0 | AL66: 0 | AM66: 0 | AN66: 0 | AO66: 0 | AP66: 0 | AQ66: 0 | AR66: 0 | AS66: 0 | AT66: 0 | AU66: 0 | AV66: 0 | AW66: 0 | AX66: 0 | AY66: 0
C67: 不詳Unknown | D67: 0 | E67: 0 | F67: 0 | G67: 0 | H67: 0 | I67: 0 | J67: 0 | K67: 0 | L67: 0 | M67: 0 | N67: 0 | O67: 0 | P67: 0 | Q67: 0 | R67: 0 | S67: 0 | T67: 0 | U67: 0 | V67: 0 | W67: 0 | X67: 0 | Y67: 0 | Z67: 0 | AA67: 0 | AB67: 0 | AC67: 0 | AD67: 0 | AE67: 0 | AF67: 0 | AG67: 0 | AH67: 2 | AI67: 0 | AJ67: 0 | AK67: 0 | AL67: 0 | AM67: 0 | AN67: 0 | AO67: 0 | AP67: 0 | AQ67: 0 | AR67: 2 | AS67: 2 | AT67: 0 | AU67: 0 | AV67: 0 | AW67: 0 | AX67: 0 | AY67: 2
B68: 雲林縣 | C68: 計 Total | D68: 4070 | E68: 3957 | F68: 46 | G68: 12 | H68: 36 | I68: 0 | J68: 19 | K68: 4070 | L68: 169 | M68: 176 | N68: 187 | O68: 233 | P68: 355 | Q68: 684 | R68: 843 | S68: 798 | T68: 619 | U68: 6 | V68: 4070 | W68: 3568 | X68: 85 | Y68: 17 | Z68: 124 | AA68: 12 | AB68: 34 | AC68: 107 | AD68: 23 | AE68: 42 | AF68: 54 | AG68: 4 | AH68: 3822 | AI68: 0 | AJ68: 17 | AK68: 102 | AL68: 158 | AM68: 337 | AN68: 845 | AO68: 999 | AP68: 866 | AQ68: 417 | AR68: 81 | AS68: 3822 | AT68: 3709 | AU68: 34 | AV68: 17 | AW68: 34 | AX68: 0 | AY68: 28
C69: 男 Male | D69: 1616 | E69: 1591 | F69: 12 | G69: 0 | H69: 6 | I69: 0 | J69: 7 | K69: 1616 | L69: 104 | M69: 104 | N69: 100 | O69: 91 | P69: 115 | Q69: 235 | R69: 284 | S69: 331 | T69: 248 | U69: 4 | V69: 1616 | W69: 1404 | X69: 21 | Y69: 10 | Z69: 40 | AA69: 10 | AB69: 18 | AC69: 55 | AD69: 7 | AE69: 21 | AF69: 27 | AG69: 3 | AH69: 2683 | AI69: 0 | AJ69: 11 | AK69: 72 | AL69: 105 | AM69: 214 | AN69: 589 | AO69: 717 | AP69: 641 | AQ69: 283 | AR69: 51 | AS69: 2683 | AT69: 2627 | AU69: 16 | AV69: 1 | AW69: 20 | AX69: 0 | AY69: 19
B70: Yunlin County | C70: 女 Female | D70: 2452 | E70: 2364 | F70: 34 | G70: 12 | H70: 30 | I70: 0 | J70: 12 | K70: 2452 | L70: 64 | M70: 71 | N70: 87 | O70: 142 | P70: 240 | Q70: 449 | R70: 559 | S70: 467 | T70: 371 | U70: 2 | V70: 2452 | W70: 2162 | X70: 64 | Y70: 7 | Z70: 84 | AA70: 2 | AB70: 16 | AC70: 52 | AD70: 16 | AE70: 21 | AF70: 27 | AG70: 1 | AH70: 1137 | AI70: 0 | AJ70: 6 | AK70: 30 | AL70: 53 | AM70: 123 | AN70: 256 | AO70: 281 | AP70: 225 | AQ70: 134 | AR70: 29 | AS70: 1137 | AT70: 1080 | AU70: 18 | AV70: 16 | AW70: 14 | AX70: 0 | AY70: 9
C71: 其他 Other | D71: 0 | E71: 0 | F71: 0 | G71: 0 | H71: 0 | I71: 0 | J71: 0 | K71: 0 | L71: 0 | M71: 0 | N71: 0 | O71: 0 | P71: 0 | Q71: 0 | R71: 0 | S71: 0 | T71: 0 | U71: 0 | V71: 0 | W71: 0 | X71: 0 | Y71: 0 | Z71: 0 | AA71: 0 | AB71: 0 | AC71: 0 | AD71: 0 | AE71: 0 | AF71: 0 | AG71: 0 | AH71: 0 | AI71: 0 | AJ71: 0 | AK71: 0 | AL71: 0 | AM71: 0 | AN71: 0 | AO71: 0 | AP71: 0 | AQ71: 0 | AR71: 0 | AS71: 0 | AT71: 0 | AU71: 0 | AV71: 0 | AW71: 0 | AX71: 0 | AY71: 0
C72: 不詳Unknown | D72: 2 | E72: 2 | F72: 0 | G72: 0 | H72: 0 | I72: 0 | J72: 0 | K72: 2 | L72: 1 | M72: 1 | N72: 0 | O72: 0 | P72: 0 | Q72: 0 | R72: 0 | S72: 0 | T72: 0 | U72: 0 | V72: 2 | W72: 2 | X72: 0 | Y72: 0 | Z72: 0 | AA72: 0 | AB72: 0 | AC72: 0 | AD72: 0 | AE72: 0 | AF72: 0 | AG72: 0 | AH72: 2 | AI72: 0 | AJ72: 0 | AK72: 0 | AL72: 0 | AM72: 0 | AN72: 0 | AO72: 1 | AP72: 0 | AQ72: 0 | AR72: 1 | AS72: 2 | AT72: 2 | AU72: 0 | AV72: 0 | AW72: 0 | AX72: 0 | AY72: 0
B73: 嘉義縣 | C73: 計 Total | D73: 2550 | E73: 2421 | F73: 54 | G73: 18 | H73: 36 | I73: 1 | J73: 20 | K73: 2550 | L73: 128 | M73: 122 | N73: 93 | O73: 136 | P73: 175 | Q73: 398 | R73: 484 | S73: 566 | T73: 445 | U73: 3 | V73: 2550 | W73: 2234 | X73: 59 | Y73: 9 | Z73: 67 | AA73: 3 | AB73: 15 | AC73: 64 | AD73: 19 | AE73: 30 | AF73: 47 | AG73: 3 | AH73: 2395 | AI73: 0 | AJ73: 10 | AK73: 58 | AL73: 103 | AM73: 177 | AN73: 499 | AO73: 589 | AP73: 615 | AQ73: 308 | AR73: 36 | AS73: 2395 | AT73: 2314 | AU73: 34 | AV73: 10 | AW73: 23 | AX73: 0 | AY73: 14
C74: 男 Male | D74: 1007 | E74: 980 | F74: 14 | G74: 1 | H74: 3 | I74: 1 | J74: 8 | K74: 1007 | L74: 69 | M74: 67 | N74: 45 | O74: 49 | P74: 68 | Q74: 131 | R74: 167 | S74: 236 | T74: 174 | U74: 1 | V74: 1007 | W74: 861 | X74: 33 | Y74: 1 | Z74: 23 | AA74: 3 | AB74: 9 | AC74: 28 | AD74: 6 | AE74: 17 | AF74: 24 | AG74: 2 | AH74: 1724 | AI74: 0 | AJ74: 9 | AK74: 46 | AL74: 68 | AM74: 119 | AN74: 334 | AO74: 439 | AP74: 462 | AQ74: 219 | AR74: 28 | AS74: 1724 | AT74: 1678 | AU74: 25 | AV74: 1 | AW74: 10 | AX74: 0 | AY74: 10
B75: Chiayi County | C75: 女 Female | D75: 1539 | E75: 1437 | F75: 40 | G75: 17 | H75: 33 | I75: 0 | J75: 12 | K75: 1539 | L75: 57 | M75: 55 | N75: 47 | O75: 87 | P75: 107 | Q75: 267 | R75: 317 | S75: 329 | T75: 271 | U75: 2 | V75: 1539 | W75: 1369 | X75: 26 | Y75: 8 | Z75: 44 | AA75: 0 | AB75: 6 | AC75: 36 | AD75: 13 | AE75: 13 | AF75: 23 | AG75: 1 | AH75: 668 | AI75: 0 | AJ75: 1 | AK75: 12 | AL75: 35 | AM75: 58 | AN75: 165 | AO75: 149 | AP75: 153 | AQ75: 89 | AR75: 6 | AS75: 668 | AT75: 635 | AU75: 9 | AV75: 9 | AW75: 13 | AX75: 0 | AY75: 2
C76: 其他 Other | D76: 0 | E76: 0 | F76: 0 | G76: 0 | H76: 0 | I76: 0 | J76: 0 | K76: 0 | L76: 0 | M76: 0 | N76: 0 | O76: 0 | P76: 0 | Q76: 0 | R76: 0 | S76: 0 | T76: 0 | U76: 0 | V76: 0 | W76: 0 | X76: 0 | Y76: 0 | Z76: 0 | AA76: 0 | AB76: 0 | AC76: 0 | AD76: 0 | AE76: 0 | AF76: 0 | AG76: 0 | AH76: 0 | AI76: 0 | AJ76: 0 | AK76: 0 | AL76: 0 | AM76: 0 | AN76: 0 | AO76: 0 | AP76: 0 | AQ76: 0 | AR76: 0 | AS76: 0 | AT76: 0 | AU76: 0 | AV76: 0 | AW76: 0 | AX76: 0 | AY76: 0
C77: 不詳Unknown | D77: 4 | E77: 4 | F77: 0 | G77: 0 | H77: 0 | I77: 0 | J77: 0 | K77: 4 | L77: 2 | M77: 0 | N77: 1 | O77: 0 | P77: 0 | Q77: 0 | R77: 0 | S77: 1 | T77: 0 | U77: 0 | V77: 4 | W77: 4 | X77: 0 | Y77: 0 | Z77: 0 | AA77: 0 | AB77: 0 | AC77: 0 | AD77: 0 | AE77: 0 | AF77: 0 | AG77: 0 | AH77: 3 | AI77: 0 | AJ77: 0 | AK77: 0 | AL77: 0 | AM77: 0 | AN77: 0 | AO77: 1 | AP77: 0 | AQ77: 0 | AR77: 2 | AS77: 3 | AT77: 1 | AU77: 0 | AV77: 0 | AW77: 0 | AX77: 0 | AY77: 2
B78: 屏東縣 | C78: 計 Total | D78: 4576 | E78: 3940 | F78: 465 | G78: 39 | H78: 66 | I78: 0 | J78: 66 | K78: 4576 | L78: 169 | M78: 299 | N78: 242 | O78: 300 | P78: 398 | Q78: 818 | R78: 885 | S78: 816 | T78: 646 | U78: 3 | V78: 4576 | W78: 4106 | X78: 88 | Y78: 11 | Z78: 120 | AA78: 9 | AB78: 15 | AC78: 107 | AD78: 24 | AE78: 32 | AF78: 58 | AG78: 6 | AH78: 4320 | AI78: 1 | AJ78: 14 | AK78: 96 | AL78: 198 | AM78: 438 | AN78: 964 | AO78: 1119 | AP78: 964 | AQ78: 449 | AR78: 77 | AS78: 4320 | AT78: 3837 | AU78: 374 | AV78: 19 | AW78: 32 | AX78: 0 | AY78: 58
C79: 男 Male | D79: 1631 | E79: 1472 | F79: 117 | G79: 2 | H79: 9 | I79: 0 | J79: 31 | K79: 1631 | L79: 96 | M79: 169 | N79: 110 | O79: 103 | P79: 119 | Q79: 223 | R79: 265 | S79: 298 | T79: 247 | U79: 1 | V79: 1631 | W79: 1436 | X79: 38 | Y79: 5 | Z79: 33 | AA79: 6 | AB79: 5 | AC79: 47 | AD79: 11 | AE79: 19 | AF79: 30 | AG79: 1 | AH79: 3077 | AI79: 1 | AJ79: 9 | AK79: 74 | AL79: 125 | AM79: 301 | AN79: 696 | AO79: 803 | AP79: 687 | AQ79: 327 | AR79: 54 | AS79: 3077 | AT79: 2755 | AU79: 273 | AV79: 3 | AW79: 11 | AX79: 0 | AY79: 35
B80: Pingtung County | C80: 女 Female | D80: 2942 | E80: 2467 | F80: 346 | G80: 37 | H80: 57 | I80: 0 | J80: 35 | K80: 2942 | L80: 70 | M80: 130 | N80: 132 | O80: 197 | P80: 279 | Q80: 595 | R80: 620 | S80: 518 | T80: 399 | U80: 2 | V80: 2942 | W80: 2667 | X80: 50 | Y80: 6 | Z80: 87 | AA80: 3 | AB80: 10 | AC80: 60 | AD80: 13 | AE80: 13 | AF80: 28 | AG80: 5 | AH80: 1242 | AI80: 0 | AJ80: 5 | AK80: 22 | AL80: 73 | AM80: 137 | AN80: 268 | AO80: 316 | AP80: 277 | AQ80: 122 | AR80: 22 | AS80: 1242 | AT80: 1082 | AU80: 101 | AV80: 16 | AW80: 21 | AX80: 0 | AY80: 22
C81: 其他 Other | D81: 0 | E81: 0 | F81: 0 | G81: 0 | H81: 0 | I81: 0 | J81: 0 | K81: 0 | L81: 0 | M81: 0 | N81: 0 | O81: 0 | P81: 0 | Q81: 0 | R81: 0 | S81: 0 | T81: 0 | U81: 0 | V81: 0 | W81: 0 | X81: 0 | Y81: 0 | Z81: 0 | AA81: 0 | AB81: 0 | AC81: 0 | AD81: 0 | AE81: 0 | AF81: 0 | AG81: 0 | AH81: 0 | AI81: 0 | AJ81: 0 | AK81: 0 | AL81: 0 | AM81: 0 | AN81: 0 | AO81: 0 | AP81: 0 | AQ81: 0 | AR81: 0 | AS81: 0 | AT81: 0 | AU81: 0 | AV81: 0 | AW81: 0 | AX81: 0 | AY81: 0
C82: 不詳Unknown | D82: 3 | E82: 1 | F82: 2 | G82: 0 | H82: 0 | I82: 0 | J82: 0 | K82: 3 | L82: 3 | M82: 0 | N82: 0 | O82: 0 | P82: 0 | Q82: 0 | R82: 0 | S82: 0 | T82: 0 | U82: 0 | V82: 3 | W82: 3 | X82: 0 | Y82: 0 | Z82: 0 | AA82: 0 | AB82: 0 | AC82: 0 | AD82: 0 | AE82: 0 | AF82: 0 | AG82: 0 | AH82: 1 | AI82: 0 | AJ82: 0 | AK82: 0 | AL82: 0 | AM82: 0 | AN82: 0 | AO82: 0 | AP82: 0 | AQ82: 0 | AR82: 1 | AS82: 1 | AT82: 0 | AU82: 0 | AV82: 0 | AW82: 0 | AX82: 0 | AY82: 1
B83: 臺東縣 | C83: 計 Total | D83: 1626 | E83: 808 | F83: 804 | G83: 5 | H83: 7 | I83: 0 | J83: 2 | K83: 1626 | L83: 55 | M83: 96 | N83: 79 | O83: 84 | P83: 160 | Q83: 275 | R83: 281 | S83: 365 | T83: 229 | U83: 2 | V83: 1626 | W83: 1392 | X83: 50 | Y83: 6 | Z83: 43 | AA83: 1 | AB83: 14 | AC83: 60 | AD83: 6 | AE83: 28 | AF83: 25 | AG83: 1 | AH83: 1537 | AI83: 0 | AJ83: 8 | AK83: 27 | AL83: 76 | AM83: 167 | AN83: 314 | AO83: 351 | AP83: 407 | AQ83: 150 | AR83: 37 | AS83: 1537 | AT83: 781 | AU83: 717 | AV83: 3 | AW83: 5 | AX83: 0 | AY83: 31
C84: 男 Male | D84: 592 | E84: 316 | F84: 275 | G84: 0 | H84: 0 | I84: 0 | J84: 1 | K84: 592 | L84: 32 | M84: 50 | N84: 37 | O84: 24 | P84: 53 | Q84: 78 | R84: 91 | S84: 141 | T84: 86 | U84: 0 | V84: 592 | W84: 495 | X84: 19 | Y84: 3 | Z84: 12 | AA84: 1 | AB84: 4 | AC84: 27 | AD84: 4 | AE84: 15 | AF84: 12 | AG84: 0 | AH84: 1117 | AI84: 0 | AJ84: 5 | AK84: 23 | AL84: 54 | AM84: 119 | AN84: 233 | AO84: 253 | AP84: 295 | AQ84: 108 | AR84: 27 | AS84: 1117 | AT84: 584 | AU84: 512 | AV84: 0 | AW84: 2 | AX84: 0 | AY84: 19
B85: Taitung County | C85: 女 Female | D85: 1033 | E85: 491 | F85: 529 | G85: 5 | H85: 7 | I85: 0 | J85: 1 | K85: 1033 | L85: 23 | M85: 46 | N85: 42 | O85: 59 | P85: 107 | Q85: 197 | R85: 190 | S85: 224 | T85: 143 | U85: 2 | V85: 1033 | W85: 896 | X85: 31 | Y85: 3 | Z85: 31 | AA85: 0 | AB85: 10 | AC85: 33 | AD85: 2 | AE85: 13 | AF85: 13 | AG85: 1 | AH85: 420 | AI85: 0 | AJ85: 3 | AK85: 4 | AL85: 22 | AM85: 48 | AN85: 81 | AO85: 98 | AP85: 112 | AQ85: 42 | AR85: 10 | AS85: 420 | AT85: 197 | AU85: 205 | AV85: 3 | AW85: 3 | AX85: 0 | AY85: 12
C86: 其他 Other | D86: 0 | E86: 0 | F86: 0 | G86: 0 | H86: 0 | I86: 0 | J86: 0 | K86: 0 | L86: 0 | M86: 0 | N86: 0 | O86: 0 | P86: 0 | Q86: 0 | R86: 0 | S86: 0 | T86: 0 | U86: 0 | V86: 0 | W86: 0 | X86: 0 | Y86: 0 | Z86: 0 | AA86: 0 | AB86: 0 | AC86: 0 | AD86: 0 | AE86: 0 | AF86: 0 | AG86: 0 | AH86: 0 | AI86: 0 | AJ86: 0 | AK86: 0 | AL86: 0 | AM86: 0 | AN86: 0 | AO86: 0 | AP86: 0 | AQ86: 0 | AR86: 0 | AS86: 0 | AT86: 0 | AU86: 0 | AV86: 0 | AW86: 0 | AX86: 0 | AY86: 0
C87: 不詳Unknown | D87: 1 | E87: 1 | F87: 0 | G87: 0 | H87: 0 | I87: 0 | J87: 0 | K87: 1 | L87: 0 | M87: 0 | N87: 0 | O87: 1 | P87: 0 | Q87: 0 | R87: 0 | S87: 0 | T87: 0 | U87: 0 | V87: 1 | W87: 1 | X87: 0 | Y87: 0 | Z87: 0 | AA87: 0 | AB87: 0 | AC87: 0 | AD87: 0 | AE87: 0 | AF87: 0 | AG87: 0 | AH87: 0 | AI87: 0 | AJ87: 0 | AK87: 0 | AL87: 0 | AM87: 0 | AN87: 0 | AO87: 0 | AP87: 0 | AQ87: 0 | AR87: 0 | AS87: 0 | AT87: 0 | AU87: 0 | AV87: 0 | AW87: 0 | AX87: 0 | AY87: 0
B88: 花蓮縣 | C88: 計 Total | D88: 2767 | E88: 1458 | F88: 1279 | G88: 7 | H88: 9 | I88: 0 | J88: 14 | K88: 2767 | L88: 221 | M88: 254 | N88: 214 | O88: 171 | P88: 272 | Q88: 419 | R88: 488 | S88: 421 | T88: 303 | U88: 4 | V88: 2767 | W88: 2442 | X88: 59 | Y88: 11 | Z88: 66 | AA88: 1 | AB88: 24 | AC88: 68 | AD88: 14 | AE88: 38 | AF88: 37 | AG88: 7 | AH88: 2769 | AI88: 3 | AJ88: 22 | AK88: 54 | AL88: 147 | AM88: 329 | AN88: 635 | AO88: 746 | AP88: 540 | AQ88: 207 | AR88: 86 | AS88: 2769 | AT88: 1522 | AU88: 1054 | AV88: 12 | AW88: 11 | AX88: 0 | AY88: 170
C89: 男 Male | D89: 1051 | E89: 558 | F89: 485 | G89: 1 | H89: 3 | I89: 0 | J89: 4 | K89: 1051 | L89: 125 | M89: 155 | N89: 101 | O89: 58 | P89: 70 | Q89: 125 | R89: 146 | S89: 162 | T89: 108 | U89: 1 | V89: 1051 | W89: 910 | X89: 20 | Y89: 6 | Z89: 21 | AA89: 0 | AB89: 9 | AC89: 35 | AD89: 2 | AE89: 23 | AF89: 25 | AG89: 0 | AH89: 1887 | AI89: 3 | AJ89: 17 | AK89: 37 | AL89: 103 | AM89: 215 | AN89: 411 | AO89: 514 | AP89: 385 | AQ89: 141 | AR89: 61 | AS89: 1887 | AT89: 1056 | AU89: 702 | AV89: 4 | AW89: 8 | AX89: 0 | AY89: 117
B90: Hualien County | C90: 女 Female | D90: 1714 | E90: 899 | F90: 793 | G90: 6 | H90: 6 | I90: 0 | J90: 10 | K90: 1714 | L90: 95 | M90: 98 | N90: 113 | O90: 113 | P90: 202 | Q90: 294 | R90: 342 | S90: 259 | T90: 195 | U90: 3 | V90: 1714 | W90: 1530 | X90: 39 | Y90: 5 | Z90: 45 | AA90: 1 | AB90: 15 | AC90: 33 | AD90: 12 | AE90: 15 | AF90: 12 | AG90: 7 | AH90: 881 | AI90: 0 | AJ90: 5 | AK90: 17 | AL90: 44 | AM90: 114 | AN90: 224 | AO90: 231 | AP90: 155 | AQ90: 66 | AR90: 25 | AS90: 881 | AT90: 465 | AU90: 352 | AV90: 8 | AW90: 3 | AX90: 0 | AY90: 53
C91: 其他 Other | D91: 0 | E91: 0 | F91: 0 | G91: 0 | H91: 0 | I91: 0 | J91: 0 | K91: 0 | L91: 0 | M91: 0 | N91: 0 | O91: 0 | P91: 0 | Q91: 0 | R91: 0 | S91: 0 | T91: 0 | U91: 0 | V91: 0 | W91: 0 | X91: 0 | Y91: 0 | Z91: 0 | AA91: 0 | AB91: 0 | AC91: 0 | AD91: 0 | AE91: 0 | AF91: 0 | AG91: 0 | AH91: 1 | AI91: 0 | AJ91: 0 | AK91: 0 | AL91: 0 | AM91: 0 | AN91: 0 | AO91: 1 | AP91: 0 | AQ91: 0 | AR91: 0 | AS91: 1 | AT91: 1 | AU91: 0 | AV91: 0 | AW91: 0 | AX91: 0 | AY91: 0
C92: 不詳Unknown | D92: 2 | E92: 1 | F92: 1 | G92: 0 | H92: 0 | I92: 0 | J92: 0 | K92: 2 | L92: 1 | M92: 1 | N92: 0 | O92: 0 | P92: 0 | Q92: 0 | R92: 0 | S92: 0 | T92: 0 | U92: 0 | V92: 2 | W92: 2 | X92: 0 | Y92: 0 | Z92: 0 | AA92: 0 | AB92: 0 | AC92: 0 | AD92: 0 | AE92: 0 | AF92: 0 | AG92: 0 | AH92: 0 | AI92: 0 | AJ92: 0 | AK92: 0 | AL92: 0 | AM92: 0 | AN92: 0 | AO92: 0 | AP92: 0 | AQ92: 0 | AR92: 0 | AS92: 0 | AT92: 0 | AU92: 0 | AV92: 0 | AW92: 0 | AX92: 0 | AY92: 0
A93: Penghu County | B93: 澎湖縣 | C93: 計 Total | D93: 435 | E93: 415 | F93: 10 | G93: 1 | H93: 4 | I93: 0 | J93: 5 | K93: 435 | L93: 3 | M93: 13 | N93: 8 | O93: 28 | P93: 37 | Q93: 76 | R93: 94 | S93: 101 | T93: 74 | U93: 1 | V93: 435 | W93: 382 | X93: 10 | Y93: 3 | Z93: 13 | AA93: 2 | AB93: 5 | AC93: 10 | AD93: 2 | AE93: 3 | AF93: 4 | AG93: 1 | AH93: 405 | AI93: 0 | AJ93: 2 | AK93: 6 | AL93: 21 | AM93: 36 | AN93: 64 | AO93: 111 | AP93: 111 | AQ93: 49 | AR93: 5 | AS93: 405 | AT93: 396 | AU93: 0 | AV93: 0 | AW93: 3 | AX93: 0 | AY93: 6
C94: 男 Male | D94: 189 | E94: 182 | F94: 4 | G94: 0 | H94: 0 | I94: 0 | J94: 3 | K94: 189 | L94: 1 | M94: 7 | N94: 5 | O94: 11 | P94: 14 | Q94: 33 | R94: 33 | S94: 51 | T94: 34 | U94: 0 | V94: 189 | W94: 156 | X94: 7 | Y94: 3 | Z94: 5 | AA94: 2 | AB94: 3 | AC94: 8 | AD94: 1 | AE94: 2 | AF94: 1 | AG94: 1 | AH94: 297 | AI94: 0 | AJ94: 2 | AK94: 4 | AL94: 12 | AM94: 22 | AN94: 50 | AO94: 80 | AP94: 87 | AQ94: 36 | AR94: 4 | AS94: 297 | AT94: 293 | AU94: 0 | AV94: 0 | AW94: 1 | AX94: 0 | AY94: 3
B95: Penghu County | C95: 女 Female | D95: 245 | E95: 232 | F95: 6 | G95: 1 | H95: 4 | I95: 0 | J95: 2 | K95: 245 | L95: 2 | M95: 5 | N95: 3 | O95: 17 | P95: 23 | Q95: 43 | R95: 61 | S95: 50 | T95: 40 | U95: 1 | V95: 245 | W95: 225 | X95: 3 | Y95: 0 | Z95: 8 | AA95: 0 | AB95: 2 | AC95: 2 | AD95: 1 | AE95: 1 | AF95: 3 | AG95: 0 | AH95: 108 | AI95: 0 | AJ95: 0 | AK95: 2 | AL95: 9 | AM95: 14 | AN95: 14 | AO95: 31 | AP95: 24 | AQ95: 13 | AR95: 1 | AS95: 108 | AT95: 103 | AU95: 0 | AV95: 0 | AW95: 2 | AX95: 0 | AY95: 3
C96: 其他 Other | D96: 0 | E96: 0 | F96: 0 | G96: 0 | H96: 0 | I96: 0 | J96: 0 | K96: 0 | L96: 0 | M96: 0 | N96: 0 | O96: 0 | P96: 0 | Q96: 0 | R96: 0 | S96: 0 | T96: 0 | U96: 0 | V96: 0 | W96: 0 | X96: 0 | Y96: 0 | Z96: 0 | AA96: 0 | AB96: 0 | AC96: 0 | AD96: 0 | AE96: 0 | AF96: 0 | AG96: 0 | AH96: 0 | AI96: 0 | AJ96: 0 | AK96: 0 | AL96: 0 | AM96: 0 | AN96: 0 | AO96: 0 | AP96: 0 | AQ96: 0 | AR96: 0 | AS96: 0 | AT96: 0 | AU96: 0 | AV96: 0 | AW96: 0 | AX96: 0 | AY96: 0
C97: 不詳Unknown | D97: 1 | E97: 1 | F97: 0 | G97: 0 | H97: 0 | I97: 0 | J97: 0 | K97: 1 | L97: 0 | M97: 1 | N97: 0 | O97: 0 | P97: 0 | Q97: 0 | R97: 0 | S97: 0 | T97: 0 | U97: 0 | V97: 1 | W97: 1 | X97: 0 | Y97: 0 | Z97: 0 | AA97: 0 | AB97: 0 | AC97: 0 | AD97: 0 | AE97: 0 | AF97: 0 | AG97: 0 | AH97: 0 | AI97: 0 | AJ97: 0 | AK97: 0 | AL97: 0 | AM97: 0 | AN97: 0 | AO97: 0 | AP97: 0 | AQ97: 0 | AR97: 0 | AS97: 0 | AT97: 0 | AU97: 0 | AV97: 0 | AW97: 0 | AX97: 0 | AY97: 0
B98: 基隆市 | C98: 計 Total | D98: 2434 | E98: 2261 | F98: 126 | G98: 13 | H98: 14 | I98: 0 | J98: 20 | K98: 2434 | L98: 92 | M98: 129 | N98: 130 | O98: 126 | P98: 208 | Q98: 453 | R98: 503 | S98: 493 | T98: 297 | U98: 3 | V98: 2434 | W98: 2175 | X98: 24 | Y98: 5 | Z98: 94 | AA98: 1 | AB98: 15 | AC98: 42 | AD98: 10 | AE98: 26 | AF98: 38 | AG98: 4 | AH98: 2331 | AI98: 0 | AJ98: 6 | AK98: 73 | AL98: 100 | AM98: 201 | AN98: 500 | AO98: 622 | AP98: 521 | AQ98: 258 | AR98: 50 | AS98: 2331 | AT98: 2154 | AU98: 107 | AV98: 14 | AW98: 17 | AX98: 1 | AY98: 38
C99: 男 Male | D99: 997 | E99: 936 | F99: 49 | G99: 1 | H99: 1 | I99: 0 | J99: 10 | K99: 997 | L99: 56 | M99: 77 | N99: 56 | O99: 52 | P99: 87 | Q99: 158 | R99: 200 | S99: 197 | T99: 113 | U99: 1 | V99: 997 | W99: 881 | X99: 10 | Y99: 4 | Z99: 28 | AA99: 0 | AB99: 9 | AC99: 21 | AD99: 4 | AE99: 14 | AF99: 24 | AG99: 2 | AH99: 1534 | AI99: 0 | AJ99: 4 | AK99: 56 | AL99: 65 | AM99: 115 | AN99: 316 | AO99: 424 | AP99: 358 | AQ99: 163 | AR99: 33 | AS99: 1534 | AT99: 1432 | AU99: 72 | AV99: 1 | AW99: 6 | AX99: 1 | AY99: 22
B100: Keelung City | C100: 女 Female | D100: 1437 | E100: 1325 | F100: 77 | G100: 12 | H100: 13 | I100: 0 | J100: 10 | K100: 1437 | L100: 36 | M100: 52 | N100: 74 | O100: 74 | P100: 121 | Q100: 295 | R100: 303 | S100: 296 | T100: 184 | U100: 2 | V100: 1437 | W100: 1294 | X100: 14 | Y100: 1 | Z100: 66 | AA100: 1 | AB100: 6 | AC100: 21 | AD100: 6 | AE100: 12 | AF100: 14 | AG100: 2 | AH100: 796 | AI100: 0 | AJ100: 2 | AK100: 17 | AL100: 35 | AM100: 86 | AN100: 184 | AO100: 198 | AP100: 163 | AQ100: 95 | AR100: 16 | AS100: 796 | AT100: 722 | AU100: 35 | AV100: 13 | AW100: 11 | AX100: 0 | AY100: 15
...

Sheet July-Dec., 2025
A1: 家庭暴力事件通報被害及相對人概況Overview of Victim and Offender Status in Reporting Cases of Domestic Violence
A2: 114年下半年 July-Dec., 2025
A3: 單位：人數 unit:Person
A4: 區域別 Locality | C4: 性別 | D4: 被害人數 Victims | AH4: 相對人人數
D5: 國籍、身分別 By Nationality and Identity | K5: 年齡別 By Age | V5: 身心障礙別 By Disability | AH5: 年齡別 By Age | AS5: 國籍、身分別 By Nationality and Identity
D6: 合計 | E6: 本國籍 非原住民 | F6: 本國籍 原住民 | G6: 大陸及 港澳籍 | H6: 外國籍 | I6: 無國籍 | J6: 資料 不明 | K6: 合計 | L6: 0-未滿6歲 | M6: 6-未滿12歲 | N6: 12-未滿18歲 | O6: 18-未滿24歲 | P6: 24-未滿30歲 | Q6: 30-未滿40歲 | R6: 40-未滿50歲 | S6: 50-未滿65歲 | T6: 65歲 以上 | U6: 不詳 | V6: 合計 | W6: 非身心 障礙 | X6: 智障 | Y6: 視障 | Z6: 精神 病患 | AA6: 聲(語)障 | AB6: 聽障 | AC6: 肢障 | AD6: 失智症 | AE6: 多重 障礙 | AF6: 其他 障礙 | AG6: 不詳 | AH6: 合計 | AI6: 0-未滿6歲 | AJ6: 6-未滿12歲 | AK6: 12-未滿18歲 | AL6: 18-未滿24歲 | AM6: 24-未滿30歲 | AN6: 30-未滿40歲 | AO6: 40-未滿50歲 | AP6: 50-未滿65歲 | AQ6: 65歲 以上 | AR6: 不詳 | AS6: 合計 | AT6: 本國籍非原住民 | AU6: 本國籍原住民 | AV6: 大陸及 港澳籍 | AW6: 外國籍 | AX6: 無國籍 | AY6: 資料 不明
C7: Gender | D7: Total | E7: Non-aboriginal Native | F7: Aboriginal Native | G7: Mainland China and Hong Kong and Macau | H7: Foreign | I7: Stateless | J7: Unknown Information | K7: Total | L7: Under 6 Years | M7: 6-Under 12 Years | N7: 12-Under 18 Years | O7: 18-Under 2 Years | P7: 24-Under 30 Years | Q7: 30-Under 40 Years | R7: 40-Under 50 Years | S7: 50-Under 65 Years | T7: Above 65 Years | U7: Unknown | V7: Total | W7: Not Disability | X7: Intellectually Disabled | Y7: Vision | Z7: Mentally Illed | AA7: Voice | AB7: Hearing | AC7: Physically Impaired | AD7: Dementia | AE7: Multiple | AF7: Other | AG7: Unknown | AH7: Total | AI7: Under 6 Years | AJ7: 6-Under 12 Years | AK7: 12-Under 18 Years | AL7: 18-Under 2 Years | AM7: 24-Under 30 Years | AN7: 30-Under 40 Years | AO7: 40-Under 50 Years | AP7: 50-Under 65 Years | AQ7: Above 65 Years | AR7: Unknown | AS7: Total | AT7: Non-aboriginal Native | AU7: Aboriginal Native | AV7: Mainland China and Hong Kong and Macau | AW7: Foreign | AX7: Stateless | AY7: Unknown Information
A8: 總計 | C8: 計 Total | D8: 68698 | E8: 62202 | F8: 3752 | G8: 425 | H8: 825 | I8: 15 | J8: 1479 | K8: 68698 | L8: 3054 | M8: 4653 | N8: 3966 | O8: 4299 | P8: 6079 | Q8: 12015 | R8: 13664 | S8: 12164 | T8: 8656 | U8: 148 | V8: 68698 | W8: 62000 | X8: 1008 | Y8: 169 | Z8: 1645 | AA8: 69 | AB8: 388 | AC8: 1211 | AD8: 285 | AE8: 646 | AF8: 975 | AG8: 302 | AH8: 66225 | AI8: 17 | AJ8: 398 | AK8: 2108 | AL8: 3132 | AM8: 5964 | AN8: 14523 | AO8: 17463 | AP8: 13599 | AQ8: 6748 | AR8: 2273 | AS8: 66225 | AT8: 59762 | AU8: 3133 | AV8: 352 | AW8: 796 | AX8: 15 | AY8: 2167
C9: 男 Male | D9: 27182 | E9: 24994 | F9: 1373 | G9: 41 | H9: 154 | I9: 6 | J9: 614 | K9: 27182 | L9: 1796 | M9: 2812 | N9: 1882 | O9: 1528 | P9: 2098 | Q9: 4026 | R9: 4872 | S9: 4796 | T9: 3324 | U9: 48 | V9: 27182 | W9: 24217 | X9: 449 | Y9: 69 | Z9: 493 | AA9: 45 | AB9: 172 | AC9: 645 | AD9: 99 | AE9: 342 | AF9: 548 | AG9: 103 | AH9: 44222 | AI9: 9 | AJ9: 294 | AK9: 1484 | AL9: 1968 | AM9: 3774 | AN9: 9504 | AO9: 11762 | AP9: 9494 | AQ9: 4434 | AR9: 1499 | AS9: 44222 | AT9: 40233 | AU9: 2082 | AV9: 83 | AW9: 436 | AX9: 9 | AY9: 1379
A10: Total | C10: 女 Female | D10: 41451 | E10: 37158 | F10: 2376 | G10: 383 | H10: 670 | I10: 9 | J10: 855 | K10: 41451 | L10: 1234 | M10: 1829 | N10: 2070 | O10: 2768 | P10: 3980 | Q10: 7986 | R10: 8790 | S10: 7365 | T10: 5330 | U10: 99 | V10: 41451 | W10: 37727 | X10: 559 | Y10: 100 | Z10: 1151 | AA10: 24 | AB10: 216 | AC10: 566 | AD10: 186 | AE10: 303 | AF10: 423 | AG10: 196 | AH10: 21908 | AI10: 8 | AJ10: 104 | AK10: 623 | AL10: 1162 | AM10: 2188 | AN10: 5014 | AO10: 5697 | AP10: 4104 | AQ10: 2311 | AR10: 697 | AS10: 21908 | AT10: 19515 | AU10: 1050 | AV10: 268 | AW10: 359 | AX10: 6 | AY10: 710
C11: 其他 Other | D11: 7 | E11: 7 | F11: 0 | G11: 0 | H11: 0 | I11: 0 | J11: 0 | K11: 7 | L11: 0 | M11: 0 | N11: 0 | O11: 2 | P11: 0 | Q11: 3 | R11: 1 | S11: 1 | T11: 0 | U11: 0 | V11: 7 | W11: 7 | X11: 0 | Y11: 0 | Z11: 0 | AA11: 0 | AB11: 0 | AC11: 0 | AD11: 0 | AE11: 0 | AF11: 0 | AG11: 0 | AH11: 5 | AI11: 0 | AJ11: 0 | AK11: 0 | AL11: 2 | AM11: 1 | AN11: 0 | AO11: 1 | AP11: 0 | AQ11: 1 | AR11: 0 | AS11: 5 | AT11: 5 | AU11: 0 | AV11: 0 | AW11: 0 | AX11: 0 | AY11: 0
C12: 不詳Unknown | D12: 58 | E12: 43 | F12: 3 | G12: 1 | H12: 1 | I12: 0 | J12: 10 | K12: 58 | L12: 24 | M12: 12 | N12: 14 | O12: 1 | P12: 1 | Q12: 0 | R12: 1 | S12: 2 | T12: 2 | U12: 1 | V12: 58 | W12: 49 | X12: 0 | Y12: 0 | Z12: 1 | AA12: 0 | AB12: 0 | AC12: 0 | AD12: 0 | AE12: 1 | AF12: 4 | AG12: 3 | AH12: 90 | AI12: 0 | AJ12: 0 | AK12: 1 | AL12: 0 | AM12: 1 | AN12: 5 | AO12: 3 | AP12: 1 | AQ12: 2 | AR12: 77 | AS12: 90 | AT12: 9 | AU12: 1 | AV12: 1 | AW12: 1 | AX12: 0 | AY12: 78
A13: 新北市 | C13: 計 Total | D13: 11605 | E13: 10250 | F13: 263 | G13: 87 | H13: 169 | I13: 5 | J13: 831 | K13: 11605 | L13: 475 | M13: 885 | N13: 729 | O13: 786 | P13: 1034 | Q13: 2037 | R13: 2272 | S13: 1941 | T13: 1385 | U13: 61 | V13: 11605 | W13: 10486 | X13: 140 | Y13: 32 | Z13: 239 | AA13: 17 | AB13: 60 | AC13: 148 | AD13: 41 | AE13: 99 | AF13: 193 | AG13: 150 | AH13: 11028 | AI13: 0 | AJ13: 62 | AK13: 332 | AL13: 505 | AM13: 911 | AN13: 2335 | AO13: 2810 | AP13: 2041 | AQ13: 1067 | AR13: 965 | AS13: 11028 | AT13: 9427 | AU13: 222 | AV13: 87 | AW13: 153 | AX13: 5 | AY13: 1134
C14: 男 Male | D14: 4442 | E14: 3949 | F14: 103 | G14: 9 | H14: 33 | I14: 2 | J14: 346 | K14: 4442 | L14: 275 | M14: 529 | N14: 349 | O14: 277 | P14: 345 | Q14: 610 | R14: 798 | S14: 739 | T14: 506 | U14: 14 | V14: 4442 | W14: 3942 | X14: 70 | Y14: 12 | Z14: 58 | AA14: 9 | AB14: 28 | AC14: 90 | AD14: 16 | AE14: 49 | AF14: 117 | AG14: 51 | AH14: 7401 | AI14: 0 | AJ14: 42 | AK14: 223 | AL14: 333 | AM14: 587 | AN14: 1566 | AO14: 1894 | AP14: 1430 | AQ14: 716 | AR14: 610 | AS14: 7401 | AT14: 6445 | AU14: 141 | AV14: 28 | AW14: 75 | AX14: 3 | AY14: 709
A15: New Taipei City | C15: 女 Female | D15: 7136 | E15: 6284 | F15: 159 | G15: 77 | H15: 136 | I15: 3 | J15: 477 | K15: 7136 | L15: 193 | M15: 349 | N15: 371 | O15: 509 | P15: 688 | Q15: 1427 | R15: 1473 | S15: 1202 | T15: 877 | U15: 47 | V15: 7136 | W15: 6522 | X15: 70 | Y15: 20 | Z15: 180 | AA15: 8 | AB15: 32 | AC15: 58 | AD15: 25 | AE15: 50 | AF15: 74 | AG15: 97 | AH15: 3582 | AI15: 0 | AJ15: 20 | AK15: 108 | AL15: 172 | AM15: 323 | AN15: 767 | AO15: 916 | AP15: 611 | AQ15: 350 | AR15: 315 | AS15: 3582 | AT15: 2979 | AU15: 81 | AV15: 59 | AW15: 78 | AX15: 2 | AY15: 383
C16: 其他 Other | D16: 0 | E16: 0 | F16: 0 | G16: 0 | H16: 0 | I16: 0 | J16: 0 | K16: 0 | L16: 0 | M16: 0 | N16: 0 | O16: 0 | P16: 0 | Q16: 0 | R16: 0 | S16: 0 | T16: 0 | U16: 0 | V16: 0 | W16: 0 | X16: 0 | Y16: 0 | Z16: 0 | AA16: 0 | AB16: 0 | AC16: 0 | AD16: 0 | AE16: 0 | AF16: 0 | AG16: 0 | AH16: 0 | AI16: 0 | AJ16: 0 | AK16: 0 | AL16: 0 | AM16: 0 | AN16: 0 | AO16: 0 | AP16: 0 | AQ16: 0 | AR16: 0 | AS16: 0 | AT16: 0 | AU16: 0 | AV16: 0 | AW16: 0 | AX16: 0 | AY16: 0
C17: 不詳Unknown | D17: 27 | E17: 17 | F17: 1 | G17: 1 | H17: 0 | I17: 0 | J17: 8 | K17: 27 | L17: 7 | M17: 7 | N17: 9 | O17: 0 | P17: 1 | Q17: 0 | R17: 1 | S17: 0 | T17: 2 | U17: 0 | V17: 27 | W17: 22 | X17: 0 | Y17: 0 | Z17: 1 | AA17: 0 | AB17: 0 | AC17: 0 | AD17: 0 | AE17: 0 | AF17: 2 | AG17: 2 | AH17: 45 | AI17: 0 | AJ17: 0 | AK17: 1 | AL17: 0 | AM17: 1 | AN17: 2 | AO17: 0 | AP17: 0 | AQ17: 1 | AR17: 40 | AS17: 45 | AT17: 3 | AU17: 0 | AV17: 0 | AW17: 0 | AX17: 0 | AY17: 42
A18: 臺北市 | C18: 計 Total | D18: 6512 | E18: 6073 | F18: 48 | G18: 65 | H18: 115 | I18: 2 | J18: 209 | K18: 6512 | L18: 243 | M18: 489 | N18: 474 | O18: 368 | P18: 473 | Q18: 991 | R18: 1279 | S18: 1248 | T18: 925 | U18: 22 | V18: 6512 | W18: 5938 | X18: 69 | Y18: 13 | Z18: 167 | AA18: 4 | AB18: 33 | AC18: 71 | AD18: 28 | AE18: 50 | AF18: 94 | AG18: 45 | AH18: 6196 | AI18: 2 | AJ18: 71 | AK18: 292 | AL18: 251 | AM18: 439 | AN18: 1121 | AO18: 1523 | AP18: 1363 | AQ18: 751 | AR18: 383 | AS18: 6196 | AT18: 5724 | AU18: 32 | AV18: 49 | AW18: 115 | AX18: 3 | AY18: 273
C19: 男 Male | D19: 2612 | E19: 2456 | F19: 19 | G19: 7 | H19: 32 | I19: 1 | J19: 97 | K19: 2612 | L19: 136 | M19: 305 | N19: 239 | O19: 121 | P19: 151 | Q19: 351 | R19: 442 | S19: 512 | T19: 349 | U19: 6 | V19: 2612 | W19: 2354 | X19: 26 | Y19: 7 | Z19: 50 | AA19: 3 | AB19: 12 | AC19: 36 | AD19: 12 | AE19: 33 | AF19: 66 | AG19: 13 | AH19: 3897 | AI19: 1 | AJ19: 49 | AK19: 205 | AL19: 151 | AM19: 252 | AN19: 669 | AO19: 947 | AP19: 904 | AQ19: 478 | AR19: 241 | AS19: 3897 | AT19: 3638 | AU19: 17 | AV19: 10 | AW19: 63 | AX19: 2 | AY19: 167
A20: Taipei City | C20: 女 Female | D20: 3890 | E20: 3609 | F20: 29 | G20: 58 | H20: 82 | I20: 1 | J20: 111 | K20: 3890 | L20: 101 | M20: 183 | N20: 233 | O20: 247 | P20: 322 | Q20: 640 | R20: 837 | S20: 735 | T20: 576 | U20: 16 | V20: 3890 | W20: 3574 | X20: 43 | Y20: 6 | Z20: 117 | AA20: 1 | AB20: 21 | AC20: 35 | AD20: 16 | AE20: 17 | AF20: 28 | AG20: 32 | AH20: 2282 | AI20: 1 | AJ20: 22 | AK20: 87 | AL20: 99 | AM20: 187 | AN20: 450 | AO20: 576 | AP20: 459 | AQ20: 273 | AR20: 128 | AS20: 2282 | AT20: 2083 | AU20: 15 | AV20: 38 | AW20: 52 | AX20: 1 | AY20: 93
C21: 其他 Other | D21: 0 | E21: 0 | F21: 0 | G21: 0 | H21: 0 | I21: 0 | J21: 0 | K21: 0 | L21: 0 | M21: 0 | N21: 0 | O21: 0 | P21: 0 | Q21: 0 | R21: 0 | S21: 0 | T21: 0 | U21: 0 | V21: 0 | W21: 0 | X21: 0 | Y21: 0 | Z21: 0 | AA21: 0 | AB21: 0 | AC21: 0 | AD21: 0 | AE21: 0 | AF21: 0 | AG21: 0 | AH21: 1 | AI21: 0 | AJ21: 0 | AK21: 0 | AL21: 1 | AM21: 0 | AN21: 0 | AO21: 0 | AP21: 0 | AQ21: 0 | AR21: 0 | AS21: 1 | AT21: 1 | AU21: 0 | AV21: 0 | AW21: 0 | AX21: 0 | AY21: 0
C22: 不詳Unknown | D22: 10 | E22: 8 | F22: 0 | G22: 0 | H22: 1 | I22: 0 | J22: 1 | K22: 10 | L22: 6 | M22: 1 | N22: 2 | O22: 0 | P22: 0 | Q22: 0 | R22: 0 | S22: 1 | T22: 0 | U22: 0 | V22: 10 | W22: 10 | X22: 0 | Y22: 0 | Z22: 0 | AA22: 0 | AB22: 0 | AC22: 0 | AD22: 0 | AE22: 0 | AF22: 0 | AG22: 0 | AH22: 16 | AI22: 0 | AJ22: 0 | AK22: 0 | AL22: 0 | AM22: 0 | AN22: 2 | AO22: 0 | AP22: 0 | AQ22: 0 | AR22: 14 | AS22: 16 | AT22: 2 | AU22: 0 | AV22: 1 | AW22: 0 | AX22: 0 | AY22: 13
A23: 桃園市 | C23: 計 Total | D23: 7322 | E23: 6363 | F23: 796 | G23: 36 | H23: 112 | I23: 0 | J23: 15 | K23: 7322 | L23: 327 | M23: 543 | N23: 474 | O23: 448 | P23: 730 | Q23: 1443 | R23: 1485 | S23: 1161 | T23: 701 | U23: 10 | V23: 7322 | W23: 6772 | X23: 87 | Y23: 12 | Z23: 137 | AA23: 1 | AB23: 36 | AC23: 88 | AD23: 19 | AE23: 78 | AF23: 77 | AG23: 15 | AH23: 7171 | AI23: 0 | AJ23: 33 | AK23: 188 | AL23: 393 | AM23: 745 | AN23: 1816 | AO23: 1939 | AP23: 1373 | AQ23: 563 | AR23: 121 | AS23: 7171 | AT23: 6268 | AU23: 687 | AV23: 27 | AW23: 98 | AX23: 1 | AY23: 90
C24: 男 Male | D24: 2903 | E24: 2549 | F24: 332 | G24: 4 | H24: 13 | I24: 0 | J24: 5 | K24: 2903 | L24: 188 | M24: 339 | N24: 219 | O24: 189 | P24: 243 | Q24: 480 | R24: 530 | S24: 442 | T24: 269 | U24: 4 | V24: 2903 | W24: 2677 | X24: 40 | Y24: 3 | Z24: 34 | AA24: 1 | AB24: 12 | AC24: 44 | AD24: 3 | AE24: 45 | AF24: 38 | AG24: 6 | AH24: 4823 | AI24: 0 | AJ24: 25 | AK24: 138 | AL24: 247 | AM24: 470 | AN24: 1186 | AO24: 1298 | AP24: 1001 | AQ24: 371 | AR24: 87 | AS24: 4823 | AT24: 4265 | AU24: 434 | AV24: 3 | AW24: 60 | AX24: 0 | AY24: 61
A25: Taoyuan City | C25: 女 Female | D25: 4418 | E25: 3813 | F25: 464 | G25: 32 | H25: 99 | I25: 0 | J25: 10 | K25: 4418 | L25: 139 | M25: 204 | N25: 255 | O25: 259 | P25: 487 | Q25: 962 | R25: 955 | S25: 719 | T25: 432 | U25: 6 | V25: 4418 | W25: 4094 | X25: 47 | Y25: 9 | Z25: 103 | AA25: 0 | AB25: 24 | AC25: 44 | AD25: 16 | AE25: 33 | AF25: 39 | AG25: 9 | AH25: 2339 | AI25: 0 | AJ25: 8 | AK25: 50 | AL25: 146 | AM25: 275 | AN25: 629 | AO25: 639 | AP25: 372 | AQ25: 192 | AR25: 28 | AS25: 2339 | AT25: 2001 | AU25: 252 | AV25: 24 | AW25: 38 | AX25: 1 | AY25: 23
C26: 其他 Other | D26: 1 | E26: 1 | F26: 0 | G26: 0 | H26: 0 | I26: 0 | J26: 0 | K26: 1 | L26: 0 | M26: 0 | N26: 0 | O26: 0 | P26: 0 | Q26: 1 | R26: 0 | S26: 0 | T26: 0 | U26: 0 | V26: 1 | W26: 1 | X26: 0 | Y26: 0 | Z26: 0 | AA26: 0 | AB26: 0 | AC26: 0 | AD26: 0 | AE26: 0 | AF26: 0 | AG26: 0 | AH26: 1 | AI26: 0 | AJ26: 0 | AK26: 0 | AL26: 0 | AM26: 0 | AN26: 0 | AO26: 1 | AP26: 0 | AQ26: 0 | AR26: 0 | AS26: 1 | AT26: 1 | AU26: 0 | AV26: 0 | AW26: 0 | AX26: 0 | AY26: 0
C27: 不詳Unknown | D27: 0 | E27: 0 | F27: 0 | G27: 0 | H27: 0 | I27: 0 | J27: 0 | K27: 0 | L27: 0 | M27: 0 | N27: 0 | O27: 0 | P27: 0 | Q27: 0 | R27: 0 | S27: 0 | T27: 0 | U27: 0 | V27: 0 | W27: 0 | X27: 0 | Y27: 0 | Z27: 0 | AA27: 0 | AB27: 0 | AC27: 0 | AD27: 0 | AE27: 0 | AF27: 0 | AG27: 0 | AH27: 8 | AI27: 0 | AJ27: 0 | AK27: 0 | AL27: 0 | AM27: 0 | AN27: 1 | AO27: 1 | AP27: 0 | AQ27: 0 | AR27: 6 | AS27: 8 | AT27: 1 | AU27: 1 | AV27: 0 | AW27: 0 | AX27: 0 | AY27: 6
A28: 臺中市 | C28: 計 Total | D28: 9306 | E28: 8709 | F28: 269 | G28: 58 | H28: 116 | I28: 3 | J28: 151 | K28: 9306 | L28: 326 | M28: 603 | N28: 528 | O28: 685 | P28: 905 | Q28: 1741 | R28: 1868 | S28: 1582 | T28: 1053 | U28: 15 | V28: 9306 | W28: 8451 | X28: 125 | Y28: 20 | Z28: 214 | AA28: 7 | AB28: 56 | AC28: 145 | AD28: 30 | AE28: 87 | AF28: 142 | AG28: 29 | AH28: 9168 | AI28: 1 | AJ28: 57 | AK28: 296 | AL28: 497 | AM28: 895 | AN28: 2072 | AO28: 2537 | AP28: 1792 | AQ28: 833 | AR28: 188 | AS28: 9168 | AT28: 8602 | AU28: 212 | AV28: 42 | AW28: 122 | AX28: 1 | AY28: 189
C29: 男 Male | D29: 3798 | E29: 3606 | F29: 103 | G29: 3 | H29: 21 | I29: 1 | J29: 64 | K29: 3798 | L29: 200 | M29: 376 | N29: 280 | O29: 225 | P29: 330 | Q29: 632 | R29: 705 | S29: 626 | T29: 417 | U29: 7 | V29: 3798 | W29: 3429 | X29: 55 | Y29: 5 | Z29: 65 | AA29: 4 | AB29: 26 | AC29: 80 | AD29: 9 | AE29: 42 | AF29: 70 | AG29: 13 | AH29: 6024 | AI29: 1 | AJ29: 45 | AK29: 219 | AL29: 297 | AM29: 546 | AN29: 1348 | AO29: 1685 | AP29: 1221 | AQ29: 521 | AR29: 141 | AS29: 6024 | AT29: 5681 | AU29: 138 | AV29: 11 | AW29: 63 | AX29: 0 | AY29: 131
A30: Taichung City | C30: 女 Female | D30: 5505 | E30: 5100 | F30: 166 | G30: 55 | H30: 95 | I30: 2 | J30: 87 | K30: 5505 | L30: 126 | M30: 227 | N30: 247 | O30: 459 | P30: 575 | Q30: 1109 | R30: 1163 | S30: 955 | T30: 636 | U30: 8 | V30: 5505 | W30: 5019 | X30: 70 | Y30: 15 | Z30: 149 | AA30: 3 | AB30: 30 | AC30: 65 | AD30: 21 | AE30: 45 | AF30: 72 | AG30: 16 | AH30: 3137 | AI30: 0 | AJ30: 12 | AK30: 77 | AL30: 199 | AM30: 349 | AN30: 724 | AO30: 851 | AP30: 571 | AQ30: 311 | AR30: 43 | AS30: 3137 | AT30: 2920 | AU30: 74 | AV30: 31 | AW30: 58 | AX30: 1 | AY30: 53
C31: 其他 Other | D31: 2 | E31: 2 | F31: 0 | G31: 0 | H31: 0 | I31: 0 | J31: 0 | K31: 2 | L31: 0 | M31: 0 | N31: 0 | O31: 1 | P31: 0 | Q31: 0 | R31: 0 | S31: 1 | T31: 0 | U31: 0 | V31: 2 | W31: 2 | X31: 0 | Y31: 0 | Z31: 0 | AA31: 0 | AB31: 0 | AC31: 0 | AD31: 0 | AE31: 0 | AF31: 0 | AG31: 0 | AH31: 1 | AI31: 0 | AJ31: 0 | AK31: 0 | AL31: 1 | AM31: 0 | AN31: 0 | AO31: 0 | AP31: 0 | AQ31: 0 | AR31: 0 | AS31: 1 | AT31: 1 | AU31: 0 | AV31: 0 | AW31: 0 | AX31: 0 | AY31: 0
C32: 不詳Unknown | D32: 1 | E32: 1 | F32: 0 | G32: 0 | H32: 0 | I32: 0 | J32: 0 | K32: 1 | L32: 0 | M32: 0 | N32: 1 | O32: 0 | P32: 0 | Q32: 0 | R32: 0 | S32: 0 | T32: 0 | U32: 0 | V32: 1 | W32: 1 | X32: 0 | Y32: 0 | Z32: 0 | AA32: 0 | AB32: 0 | AC32: 0 | AD32: 0 | AE32: 0 | AF32: 0 | AG32: 0 | AH32: 6 | AI32: 0 | AJ32: 0 | AK32: 0 | AL32: 0 | AM32: 0 | AN32: 0 | AO32: 1 | AP32: 0 | AQ32: 1 | AR32: 4 | AS32: 6 | AT32: 0 | AU32: 0 | AV32: 0 | AW32: 1 | AX32: 0 | AY32: 5
A33: 臺南市 | C33: 計 Total | D33: 4773 | E33: 4639 | F33: 77 | G33: 15 | H33: 29 | I33: 0 | J33: 13 | K33: 4773 | L33: 250 | M33: 372 | N33: 289 | O33: 279 | P33: 399 | Q33: 815 | R33: 899 | S33: 831 | T33: 635 | U33: 4 | V33: 4773 | W33: 4261 | X33: 95 | Y33: 18 | Z33: 90 | AA33: 4 | AB33: 24 | AC33: 110 | AD33: 27 | AE33: 50 | AF33: 87 | AG33: 7 | AH33: 4596 | AI33: 6 | AJ33: 30 | AK33: 142 | AL33: 220 | AM33: 390 | AN33: 1016 | AO33: 1240 | AP33: 972 | AQ33: 509 | AR33: 71 | AS33: 4596 | AT33: 4435 | AU33: 64 | AV33: 19 | AW33: 47 | AX33: 1 | AY33: 30
C34: 男 Male | D34: 1796 | E34: 1763 | F34: 26 | G34: 2 | H34: 4 | I34: 0 | J34: 1 | K34: 1796 | L34: 142 | M34: 229 | N34: 123 | O34: 99 | P34: 126 | Q34: 267 | R34: 290 | S34: 305 | T34: 214 | U34: 1 | V34: 1796 | W34: 1584 | X34: 41 | Y34: 5 | Z34: 26 | AA34: 1 | AB34: 9 | AC34: 49 | AD34: 8 | AE34: 23 | AF34: 47 | AG34: 3 | AH34: 3114 | AI34: 3 | AJ34: 23 | AK34: 100 | AL34: 138 | AM34: 249 | AN34: 677 | AO34: 848 | AP34: 688 | AQ34: 337 | AR34: 51 | AS34: 3114 | AT34: 3012 | AU34: 36 | AV34: 9 | AW34: 36 | AX34: 1 | AY34: 20
A35: Tainan City | C35: 女 Female | D35: 2976 | E35: 2875 | F35: 51 | G35: 13 | H35: 25 | I35: 0 | J35: 12 | K35: 2976 | L35: 108 | M35: 143 | N35: 165 | O35: 180 | P35: 273 | Q35: 548 | R35: 609 | S35: 526 | T35: 421 | U35: 3 | V35: 2976 | W35: 2676 | X35: 54 | Y35: 13 | Z35: 64 | AA35: 3 | AB35: 15 | AC35: 61 | AD35: 19 | AE35: 27 | AF35: 40 | AG35: 4 | AH35: 1477 | AI35: 3 | AJ35: 7 | AK35: 42 | AL35: 82 | AM35: 141 | AN35: 339 | AO35: 392 | AP35: 284 | AQ35: 171 | AR35: 16 | AS35: 1477 | AT35: 1422 | AU35: 28 | AV35: 10 | AW35: 11 | AX35: 0 | AY35: 6
C36: 其他 Other | D36: 0 | E36: 0 | F36: 0 | G36: 0 | H36: 0 | I36: 0 | J36: 0 | K36: 0 | L36: 0 | M36: 0 | N36: 0 | O36: 0 | P36: 0 | Q36: 0 | R36: 0 | S36: 0 | T36: 0 | U36: 0 | V36: 0 | W36: 0 | X36: 0 | Y36: 0 | Z36: 0 | AA36: 0 | AB36: 0 | AC36: 0 | AD36: 0 | AE36: 0 | AF36: 0 | AG36: 0 | AH36: 1 | AI36: 0 | AJ36: 0 | AK36: 0 | AL36: 0 | AM36: 0 | AN36: 0 | AO36: 0 | AP36: 0 | AQ36: 1 | AR36: 0 | AS36: 1 | AT36: 1 | AU36: 0 | AV36: 0 | AW36: 0 | AX36: 0 | AY36: 0
C37: 不詳Unknown | D37: 1 | E37: 1 | F37: 0 | G37: 0 | H37: 0 | I37: 0 | J37: 0 | K37: 1 | L37: 0 | M37: 0 | N37: 1 | O37: 0 | P37: 0 | Q37: 0 | R37: 0 | S37: 0 | T37: 0 | U37: 0 | V37: 1 | W37: 1 | X37: 0 | Y37: 0 | Z37: 0 | AA37: 0 | AB37: 0 | AC37: 0 | AD37: 0 | AE37: 0 | AF37: 0 | AG37: 0 | AH37: 4 | AI37: 0 | AJ37: 0 | AK37: 0 | AL37: 0 | AM37: 0 | AN37: 0 | AO37: 0 | AP37: 0 | AQ37: 0 | AR37: 4 | AS37: 4 | AT37: 0 | AU37: 0 | AV37: 0 | AW37: 0 | AX37: 0 | AY37: 4
A38: 高雄市 | C38: 計 Total | D38: 9202 | E38: 8746 | F38: 318 | G38: 41 | H38: 77 | I38: 1 | J38: 19 | K38: 9202 | L38: 396 | M38: 543 | N38: 500 | O38: 559 | P38: 827 | Q38: 1578 | R38: 1817 | S38: 1705 | T38: 1272 | U38: 5 | V38: 9202 | W38: 8225 | X38: 132 | Y38: 23 | Z38: 278 | AA38: 13 | AB38: 40 | AC38: 202 | AD38: 57 | AE38: 95 | AF38: 131 | AG38: 6 | AH38: 9048 | AI38: 3 | AJ38: 56 | AK38: 307 | AL38: 423 | AM38: 809 | AN38: 1987 | AO38: 2416 | AP38: 1917 | AQ38: 1086 | AR38: 44 | AS38: 9048 | AT38: 8639 | AU38: 249 | AV38: 39 | AW38: 75 | AX38: 0 | AY38: 46
C39: 男 Male | D39: 3729 | E39: 3602 | F39: 105 | G39: 4 | H39: 14 | I39: 0 | J39: 4 | K39: 3729 | L39: 242 | M39: 322 | N39: 220 | O39: 207 | P39: 291 | Q39: 581 | R39: 683 | S39: 698 | T39: 482 | U39: 3 | V39: 3729 | W39: 3285 | X39: 67 | Y39: 10 | Z39: 87 | AA39: 8 | AB39: 21 | AC39: 112 | AD39: 21 | AE39: 48 | AF39: 67 | AG39: 3 | AH39: 5720 | AI39: 1 | AJ39: 43 | AK39: 197 | AL39: 236 | AM39: 471 | AN39: 1260 | AO39: 1535 | AP39: 1266 | AQ39: 678 | AR39: 33 | AS39: 5720 | AT39: 5492 | AU39: 153 | AV39: 6 | AW39: 36 | AX39: 0 | AY39: 33
A40: Kaohsiung City | C40: 女 Female | D40: 5472 | E40: 5143 | F40: 213 | G40: 37 | H40: 63 | I40: 1 | J40: 15 | K40: 5472 | L40: 154 | M40: 221 | N40: 280 | O40: 351 | P40: 536 | Q40: 997 | R40: 1134 | S40: 1007 | T40: 790 | U40: 2 | V40: 5472 | W40: 4939 | X40: 65 | Y40: 13 | Z40: 191 | AA40: 5 | AB40: 19 | AC40: 90 | AD40: 36 | AE40: 47 | AF40: 64 | AG40: 3 | AH40: 3327 | AI40: 2 | AJ40: 13 | AK40: 110 | AL40: 187 | AM40: 337 | AN40: 727 | AO40: 881 | AP40: 651 | AQ40: 408 | AR40: 11 | AS40: 3327 | AT40: 3146 | AU40: 96 | AV40: 33 | AW40: 39 | AX40: 0 | AY40: 13
C41: 其他 Other | D41: 1 | E41: 1 | F41: 0 | G41: 0 | H41: 0 | I41: 0 | J41: 0 | K41: 1 | L41: 0 | M41: 0 | N41: 0 | O41: 1 | P41: 0 | Q41: 0 | R41: 0 | S41: 0 | T41: 0 | U41: 0 | V41: 1 | W41: 1 | X41: 0 | Y41: 0 | Z41: 0 | AA41: 0 | AB41: 0 | AC41: 0 | AD41: 0 | AE41: 0 | AF41: 0 | AG41: 0 | AH41: 1 | AI41: 0 | AJ41: 0 | AK41: 0 | AL41: 0 | AM41: 1 | AN41: 0 | AO41: 0 | AP41: 0 | AQ41: 0 | AR41: 0 | AS41: 1 | AT41: 1 | AU41: 0 | AV41: 0 | AW41: 0 | AX41: 0 | AY41: 0
C42: 不詳Unknown | D42: 0 | E42: 0 | F42: 0 | G42: 0 | H42: 0 | I42: 0 | J42: 0 | K42: 0 | L42: 0 | M42: 0 | N42: 0 | O42: 0 | P42: 0 | Q42: 0 | R42: 0 | S42: 0 | T42: 0 | U42: 0 | V42: 0 | W42: 0 | X42: 0 | Y42: 0 | Z42: 0 | AA42: 0 | AB42: 0 | AC42: 0 | AD42: 0 | AE42: 0 | AF42: 0 | AG42: 0 | AH42: 0 | AI42: 0 | AJ42: 0 | AK42: 0 | AL42: 0 | AM42: 0 | AN42: 0 | AO42: 0 | AP42: 0 | AQ42: 0 | AR42: 0 | AS42: 0 | AT42: 0 | AU42: 0 | AV42: 0 | AW42: 0 | AX42: 0 | AY42: 0
B43: 宜蘭縣 | C43: 計 Total | D43: 1080 | E43: 919 | F43: 125 | G43: 10 | H43: 8 | I43: 0 | J43: 18 | K43: 1080 | L43: 52 | M43: 54 | N43: 35 | O43: 79 | P43: 99 | Q43: 206 | R43: 221 | S43: 202 | T43: 132 | U43: 0 | V43: 1080 | W43: 946 | X43: 22 | Y43: 6 | Z43: 34 | AA43: 0 | AB43: 8 | AC43: 33 | AD43: 4 | AE43: 12 | AF43: 12 | AG43: 3 | AH43: 1051 | AI43: 0 | AJ43: 1 | AK43: 35 | AL43: 49 | AM43: 91 | AN43: 237 | AO43: 261 | AP43: 223 | AQ43: 105 | AR43: 49 | AS43: 1051 | AT43: 889 | AU43: 106 | AV43: 6 | AW43: 6 | AX43: 0 | AY43: 44
C44: 男 Male | D44: 390 | E44: 346 | F44: 35 | G44: 2 | H44: 1 | I44: 0 | J44: 6 | K44: 390 | L44: 34 | M44: 26 | N44: 12 | O44: 25 | P44: 27 | Q44: 57 | R44: 73 | S44: 81 | T44: 55 | U44: 0 | V44: 390 | W44: 336 | X44: 7 | Y44: 3 | Z44: 10 | AA44: 0 | AB44: 4 | AC44: 15 | AD44: 1 | AE44: 5 | AF44: 8 | AG44: 1 | AH44: 764 | AI44: 0 | AJ44: 1 | AK44: 23 | AL44: 34 | AM44: 76 | AN44: 167 | AO44: 197 | AP44: 158 | AQ44: 79 | AR44: 29 | AS44: 764 | AT44: 651 | AU44: 80 | AV44: 2 | AW44: 4 | AX44: 0 | AY44: 27
B45: Yilan County | C45: 女 Female | D45: 690 | E45: 573 | F45: 90 | G45: 8 | H45: 7 | I45: 0 | J45: 12 | K45: 690 | L45: 18 | M45: 28 | N45: 23 | O45: 54 | P45: 72 | Q45: 149 | R45: 148 | S45: 121 | T45: 77 | U45: 0 | V45: 690 | W45: 610 | X45: 15 | Y45: 3 | Z45: 24 | AA45: 0 | AB45: 4 | AC45: 18 | AD45: 3 | AE45: 7 | AF45: 4 | AG45: 2 | AH45: 287 | AI45: 0 | AJ45: 0 | AK45: 12 | AL45: 15 | AM45: 15 | AN45: 70 | AO45: 64 | AP45: 65 | AQ45: 26 | AR45: 20 | AS45: 287 | AT45: 238 | AU45: 26 | AV45: 4 | AW45: 2 | AX45: 0 | AY45: 17
C46: 其他 Other | D46: 0 | E46: 0 | F46: 0 | G46: 0 | H46: 0 | I46: 0 | J46: 0 | K46: 0 | L46: 0 | M46: 0 | N46: 0 | O46: 0 | P46: 0 | Q46: 0 | R46: 0 | S46: 0 | T46: 0 | U46: 0 | V46: 0 | W46: 0 | X46: 0 | Y46: 0 | Z46: 0 | AA46: 0 | AB46: 0 | AC46: 0 | AD46: 0 | AE46: 0 | AF46: 0 | AG46: 0 | AH46: 0 | AI46: 0 | AJ46: 0 | AK46: 0 | AL46: 0 | AM46: 0 | AN46: 0 | AO46: 0 | AP46: 0 | AQ46: 0 | AR46: 0 | AS46: 0 | AT46: 0 | AU46: 0 | AV46: 0 | AW46: 0 | AX46: 0 | AY46: 0
C47: 不詳Unknown | D47: 0 | E47: 0 | F47: 0 | G47: 0 | H47: 0 | I47: 0 | J47: 0 | K47: 0 | L47: 0 | M47: 0 | N47: 0 | O47: 0 | P47: 0 | Q47: 0 | R47: 0 | S47: 0 | T47: 0 | U47: 0 | V47: 0 | W47: 0 | X47: 0 | Y47: 0 | Z47: 0 | AA47: 0 | AB47: 0 | AC47: 0 | AD47: 0 | AE47: 0 | AF47: 0 | AG47: 0 | AH47: 0 | AI47: 0 | AJ47: 0 | AK47: 0 | AL47: 0 | AM47: 0 | AN47: 0 | AO47: 0 | AP47: 0 | AQ47: 0 | AR47: 0 | AS47: 0 | AT47: 0 | AU47: 0 | AV47: 0 | AW47: 0 | AX47: 0 | AY47: 0
B48: 新竹縣 | C48: 計 Total | D48: 1541 | E48: 1316 | F48: 163 | G48: 11 | H48: 21 | I48: 1 | J48: 29 | K48: 1541 | L48: 114 | M48: 107 | N48: 61 | O48: 101 | P48: 147 | Q48: 293 | R48: 301 | S48: 249 | T48: 164 | U48: 4 | V48: 1541 | W48: 1432 | X48: 20 | Y48: 3 | Z48: 24 | AA48: 1 | AB48: 7 | AC48: 21 | AD48: 2 | AE48: 8 | AF48: 16 | AG48: 7 | AH48: 1425 | AI48: 0 | AJ48: 6 | AK48: 45 | AL48: 78 | AM48: 151 | AN48: 335 | AO48: 392 | AP48: 284 | AQ48: 103 | AR48: 31 | AS48: 1425 | AT48: 1235 | AU48: 139 | AV48: 5 | AW48: 13 | AX48: 1 | AY48: 32
C49: 男 Male | D49: 622 | E49: 536 | F49: 68 | G49: 2 | H49: 3 | I49: 0 | J49: 13 | K49: 622 | L49: 67 | M49: 72 | N49: 18 | O49: 33 | P49: 60 | Q49: 92 | R49: 102 | S49: 105 | T49: 72 | U49: 1 | V49: 622 | W49: 568 | X49: 9 | Y49: 0 | Z49: 10 | AA49: 1 | AB49: 4 | AC49: 13 | AD49: 1 | AE49: 3 | AF49: 11 | AG49: 2 | AH49: 1025 | AI49: 0 | AJ49: 5 | AK49: 32 | AL49: 54 | AM49: 108 | AN49: 223 | AO49: 299 | AP49: 211 | AQ49: 70 | AR49: 23 | AS49: 1025 | AT49: 892 | AU49: 99 | AV49: 2 | AW49: 8 | AX49: 1 | AY49: 23
B50: Hsinchu County | C50: 女 Female | D50: 918 | E50: 779 | F50: 95 | G50: 9 | H50: 18 | I50: 1 | J50: 16 | K50: 918 | L50: 46 | M50: 35 | N50: 43 | O50: 68 | P50: 87 | Q50: 201 | R50: 199 | S50: 144 | T50: 92 | U50: 3 | V50: 918 | W50: 863 | X50: 11 | Y50: 3 | Z50: 14 | AA50: 0 | AB50: 3 | AC50: 8 | AD50: 1 | AE50: 5 | AF50: 5 | AG50: 5 | AH50: 400 | AI50: 0 | AJ50: 1 | AK50: 13 | AL50: 24 | AM50: 43 | AN50: 112 | AO50: 93 | AP50: 73 | AQ50: 33 | AR50: 8 | AS50: 400 | AT50: 343 | AU50: 40 | AV50: 3 | AW50: 5 | AX50: 0 | AY50: 9
C51: 其他 Other | D51: 0 | E51: 0 | F51: 0 | G51: 0 | H51: 0 | I51: 0 | J51: 0 | K51: 0 | L51: 0 | M51: 0 | N51: 0 | O51: 0 | P51: 0 | Q51: 0 | R51: 0 | S51: 0 | T51: 0 | U51: 0 | V51: 0 | W51: 0 | X51: 0 | Y51: 0 | Z51: 0 | AA51: 0 | AB51: 0 | AC51: 0 | AD51: 0 | AE51: 0 | AF51: 0 | AG51: 0 | AH51: 0 | AI51: 0 | AJ51: 0 | AK51: 0 | AL51: 0 | AM51: 0 | AN51: 0 | AO51: 0 | AP51: 0 | AQ51: 0 | AR51: 0 | AS51: 0 | AT51: 0 | AU51: 0 | AV51: 0 | AW51: 0 | AX51: 0 | AY51: 0
C52: 不詳Unknown | D52: 1 | E52: 1 | F52: 0 | G52: 0 | H52: 0 | I52: 0 | J52: 0 | K52: 1 | L52: 1 | M52: 0 | N52: 0 | O52: 0 | P52: 0 | Q52: 0 | R52: 0 | S52: 0 | T52: 0 | U52: 0 | V52: 1 | W52: 1 | X52: 0 | Y52: 0 | Z52: 0 | AA52: 0 | AB52: 0 | AC52: 0 | AD52: 0 | AE52: 0 | AF52: 0 | AG52: 0 | AH52: 0 | AI52: 0 | AJ52: 0 | AK52: 0 | AL52: 0 | AM52: 0 | AN52: 0 | AO52: 0 | AP52: 0 | AQ52: 0 | AR52: 0 | AS52: 0 | AT52: 0 | AU52: 0 | AV52: 0 | AW52: 0 | AX52: 0 | AY52: 0
B53: 苗栗縣 | C53: 計 Total | D53: 1331 | E53: 1181 | F53: 113 | G53: 9 | H53: 12 | I53: 0 | J53: 16 | K53: 1331 | L53: 71 | M53: 93 | N53: 89 | O53: 74 | P53: 115 | Q53: 254 | R53: 263 | S53: 199 | T53: 172 | U53: 1 | V53: 1331 | W53: 1214 | X53: 20 | Y53: 3 | Z53: 26 | AA53: 3 | AB53: 10 | AC53: 25 | AD53: 2 | AE53: 15 | AF53: 13 | AG53: 0 | AH53: 1284 | AI53: 0 | AJ53: 8 | AK53: 28 | AL53: 64 | AM53: 111 | AN53: 316 | AO53: 353 | AP53: 248 | AQ53: 138 | AR53: 18 | AS53: 1284 | AT53: 1173 | AU53: 84 | AV53: 7 | AW53: 11 | AX53: 0 | AY53: 9
C54: 男 Male | D54: 516 | E54: 469 | F54: 41 | G54: 0 | H54: 0 | I54: 0 | J54: 6 | K54: 516 | L54: 44 | M54: 53 | N54: 46 | O54: 25 | P54: 37 | Q54: 78 | R54: 89 | S54: 75 | T54: 69 | U54: 0 | V54: 516 | W54: 457 | X54: 6 | Y54: 2 | Z54: 13 | AA54: 2 | AB54: 2 | AC54: 16 | AD54: 1 | AE54: 10 | AF54: 7 | AG54: 0 | AH54: 951 | AI54: 0 | AJ54: 7 | AK54: 25 | AL54: 44 | AM54: 83 | AN54: 219 | AO54: 270 | AP54: 186 | AQ54: 104 | AR54: 13 | AS54: 951 | AT54: 878 | AU54: 61 | AV54: 2 | AW54: 3 | AX54: 0 | AY54: 7
B55: Miaoli County | C55: 女 Female | D55: 815 | E55: 712 | F55: 72 | G55: 9 | H55: 12 | I55: 0 | J55: 10 | K55: 815 | L55: 27 | M55: 40 | N55: 43 | O55: 49 | P55: 78 | Q55: 176 | R55: 174 | S55: 124 | T55: 103 | U55: 1 | V55: 815 | W55: 757 | X55: 14 | Y55: 1 | Z55: 13 | AA55: 1 | AB55: 8 | AC55: 9 | AD55: 1 | AE55: 5 | AF55: 6 | AG55: 0 | AH55: 333 | AI55: 0 | AJ55: 1 | AK55: 3 | AL55: 20 | AM55: 28 | AN55: 97 | AO55: 83 | AP55: 62 | AQ55: 34 | AR55: 5 | AS55: 333 | AT55: 295 | AU55: 23 | AV55: 5 | AW55: 8 | AX55: 0 | AY55: 2
C56: 其他 Other | D56: 0 | E56: 0 | F56: 0 | G56: 0 | H56: 0 | I56: 0 | J56: 0 | K56: 0 | L56: 0 | M56: 0 | N56: 0 | O56: 0 | P56: 0 | Q56: 0 | R56: 0 | S56: 0 | T56: 0 | U56: 0 | V56: 0 | W56: 0 | X56: 0 | Y56: 0 | Z56: 0 | AA56: 0 | AB56: 0 | AC56: 0 | AD56: 0 | AE56: 0 | AF56: 0 | AG56: 0 | AH56: 0 | AI56: 0 | AJ56: 0 | AK56: 0 | AL56: 0 | AM56: 0 | AN56: 0 | AO56: 0 | AP56: 0 | AQ56: 0 | AR56: 0 | AS56: 0 | AT56: 0 | AU56: 0 | AV56: 0 | AW56: 0 | AX56: 0 | AY56: 0
C57: 不詳Unknown | D57: 0 | E57: 0 | F57: 0 | G57: 0 | H57: 0 | I57: 0 | J57: 0 | K57: 0 | L57: 0 | M57: 0 | N57: 0 | O57: 0 | P57: 0 | Q57: 0 | R57: 0 | S57: 0 | T57: 0 | U57: 0 | V57: 0 | W57: 0 | X57: 0 | Y57: 0 | Z57: 0 | AA57: 0 | AB57: 0 | AC57: 0 | AD57: 0 | AE57: 0 | AF57: 0 | AG57: 0 | AH57: 0 | AI57: 0 | AJ57: 0 | AK57: 0 | AL57: 0 | AM57: 0 | AN57: 0 | AO57: 0 | AP57: 0 | AQ57: 0 | AR57: 0 | AS57: 0 | AT57: 0 | AU57: 0 | AV57: 0 | AW57: 0 | AX57: 0 | AY57: 0
B58: 彰化縣 | C58: 計 Total | D58: 3812 | E58: 3644 | F58: 47 | G58: 12 | H58: 53 | I58: 0 | J58: 56 | K58: 3812 | L58: 174 | M58: 194 | N58: 178 | O58: 196 | P58: 295 | Q58: 650 | R58: 823 | S58: 723 | T58: 573 | U58: 6 | V58: 3812 | W58: 3385 | X58: 78 | Y58: 5 | Z58: 102 | AA58: 6 | AB58: 28 | AC58: 86 | AD58: 15 | AE58: 40 | AF58: 50 | AG58: 17 | AH58: 3606 | AI58: 0 | AJ58: 18 | AK58: 102 | AL58: 124 | AM58: 294 | AN58: 754 | AO58: 986 | AP58: 784 | AQ58: 420 | AR58: 124 | AS58: 3606 | AT58: 3417 | AU58: 39 | AV58: 6 | AW58: 56 | AX58: 1 | AY58: 87
C59: 男 Male | D59: 1676 | E59: 1615 | F59: 21 | G59: 2 | H59: 15 | I59: 0 | J59: 23 | K59: 1676 | L59: 98 | M59: 120 | N59: 90 | O59: 73 | P59: 133 | Q59: 246 | R59: 335 | S59: 327 | T59: 252 | U59: 2 | V59: 1676 | W59: 1461 | X59: 43 | Y59: 3 | Z59: 35 | AA59: 5 | AB59: 15 | AC59: 47 | AD59: 4 | AE59: 25 | AF59: 33 | AG59: 5 | AH59: 2446 | AI59: 0 | AJ59: 14 | AK59: 66 | AL59: 85 | AM59: 206 | AN59: 485 | AO59: 676 | AP59: 556 | AQ59: 275 | AR59: 83 | AS59: 2446 | AT59: 2325 | AU59: 28 | AV59: 1 | AW59: 34 | AX59: 1 | AY59: 57
B60: Changhua County | C60: 女 Female | D60: 2127 | E60: 2021 | F60: 26 | G60: 10 | H60: 38 | I60: 0 | J60: 32 | K60: 2127 | L60: 73 | M60: 73 | N60: 87 | O60: 123 | P60: 162 | Q60: 402 | R60: 487 | S60: 396 | T60: 321 | U60: 3 | V60: 2127 | W60: 1917 | X60: 35 | Y60: 2 | Z60: 67 | AA60: 1 | AB60: 13 | AC60: 39 | AD60: 11 | AE60: 14 | AF60: 17 | AG60: 11 | AH60: 1157 | AI60: 0 | AJ60: 4 | AK60: 36 | AL60: 39 | AM60: 88 | AN60: 269 | AO60: 310 | AP60: 228 | AQ60: 145 | AR60: 38 | AS60: 1157 | AT60: 1092 | AU60: 11 | AV60: 5 | AW60: 22 | AX60: 0 | AY60: 27
C61: 其他 Other | D61: 3 | E61: 3 | F61: 0 | G61: 0 | H61: 0 | I61: 0 | J61: 0 | K61: 3 | L61: 0 | M61: 0 | N61: 0 | O61: 0 | P61: 0 | Q61: 2 | R61: 1 | S61: 0 | T61: 0 | U61: 0 | V61: 3 | W61: 3 | X61: 0 | Y61: 0 | Z61: 0 | AA61: 0 | AB61: 0 | AC61: 0 | AD61: 0 | AE61: 0 | AF61: 0 | AG61: 0 | AH61: 0 | AI61: 0 | AJ61: 0 | AK61: 0 | AL61: 0 | AM61: 0 | AN61: 0 | AO61: 0 | AP61: 0 | AQ61: 0 | AR61: 0 | AS61: 0 | AT61: 0 | AU61: 0 | AV61: 0 | AW61: 0 | AX61: 0 | AY61: 0
C62: 不詳Unknown | D62: 6 | E62: 5 | F62: 0 | G62: 0 | H62: 0 | I62: 0 | J62: 1 | K62: 6 | L62: 3 | M62: 1 | N62: 1 | O62: 0 | P62: 0 | Q62: 0 | R62: 0 | S62: 0 | T62: 0 | U62: 1 | V62: 6 | W62: 4 | X62: 0 | Y62: 0 | Z62: 0 | AA62: 0 | AB62: 0 | AC62: 0 | AD62: 0 | AE62: 1 | AF62: 0 | AG62: 1 | AH62: 3 | AI62: 0 | AJ62: 0 | AK62: 0 | AL62: 0 | AM62: 0 | AN62: 0 | AO62: 0 | AP62: 0 | AQ62: 0 | AR62: 3 | AS62: 3 | AT62: 0 | AU62: 0 | AV62: 0 | AW62: 0 | AX62: 0 | AY62: 3
B63: 南投縣 | C63: 計 Total | D63: 1476 | E63: 1218 | F63: 216 | G63: 11 | H63: 13 | I63: 1 | J63: 17 | K63: 1476 | L63: 83 | M63: 89 | N63: 83 | O63: 72 | P63: 112 | Q63: 231 | R63: 312 | S63: 278 | T63: 215 | U63: 1 | V63: 1476 | W63: 1298 | X63: 33 | Y63: 3 | Z63: 41 | AA63: 0 | AB63: 17 | AC63: 36 | AD63: 8 | AE63: 12 | AF63: 27 | AG63: 1 | AH63: 1414 | AI63: 3 | AJ63: 5 | AK63: 45 | AL63: 61 | AM63: 129 | AN63: 323 | AO63: 372 | AP63: 300 | AQ63: 160 | AR63: 16 | AS63: 1414 | AT63: 1184 | AU63: 200 | AV63: 6 | AW63: 12 | AX63: 1 | AY63: 11
C64: 男 Male | D64: 589 | E64: 511 | F64: 68 | G64: 0 | H64: 2 | I64: 0 | J64: 8 | K64: 589 | L64: 41 | M64: 57 | N64: 38 | O64: 37 | P64: 44 | Q64: 76 | R64: 110 | S64: 103 | T64: 83 | U64: 0 | V64: 589 | W64: 505 | X64: 12 | Y64: 2 | Z64: 14 | AA64: 0 | AB64: 11 | AC64: 17 | AD64: 5 | AE64: 6 | AF64: 17 | AG64: 0 | AH64: 997 | AI64: 1 | AJ64: 5 | AK64: 35 | AL64: 42 | AM64: 93 | AN64: 222 | AO64: 264 | AP64: 215 | AQ64: 112 | AR64: 8 | AS64: 997 | AT64: 841 | AU64: 141 | AV64: 1 | AW64: 7 | AX64: 0 | AY64: 7
B65: Nantou County | C65: 女 Female | D65: 887 | E65: 707 | F65: 148 | G65: 11 | H65: 11 | I65: 1 | J65: 9 | K65: 887 | L65: 42 | M65: 32 | N65: 45 | O65: 35 | P65: 68 | Q65: 155 | R65: 202 | S65: 175 | T65: 132 | U65: 1 | V65: 887 | W65: 793 | X65: 21 | Y65: 1 | Z65: 27 | AA65: 0 | AB65: 6 | AC65: 19 | AD65: 3 | AE65: 6 | AF65: 10 | AG65: 1 | AH65: 415 | AI65: 2 | AJ65: 0 | AK65: 10 | AL65: 19 | AM65: 36 | AN65: 101 | AO65: 108 | AP65: 85 | AQ65: 48 | AR65: 6 | AS65: 415 | AT65: 343 | AU65: 59 | AV65: 5 | AW65: 5 | AX65: 1 | AY65: 2
C66: 其他 Other | D66: 0 | E66: 0 | F66: 0 | G66: 0 | H66: 0 | I66: 0 | J66: 0 | K66: 0 | L66: 0 | M66: 0 | N66: 0 | O66: 0 | P66: 0 | Q66: 0 | R66: 0 | S66: 0 | T66: 0 | U66: 0 | V66: 0 | W66: 0 | X66: 0 | Y66: 0 | Z66: 0 | AA66: 0 | AB66: 0 | AC66: 0 | AD66: 0 | AE66: 0 | AF66: 0 | AG66: 0 | AH66: 0 | AI66: 0 | AJ66: 0 | AK66: 0 | AL66: 0 | AM66: 0 | AN66: 0 | AO66: 0 | AP66: 0 | AQ66: 0 | AR66: 0 | AS66: 0 | AT66: 0 | AU66: 0 | AV66: 0 | AW66: 0 | AX66: 0 | AY66: 0
C67: 不詳Unknown | D67: 0 | E67: 0 | F67: 0 | G67: 0 | H67: 0 | I67: 0 | J67: 0 | K67: 0 | L67: 0 | M67: 0 | N67: 0 | O67: 0 | P67: 0 | Q67: 0 | R67: 0 | S67: 0 | T67: 0 | U67: 0 | V67: 0 | W67: 0 | X67: 0 | Y67: 0 | Z67: 0 | AA67: 0 | AB67: 0 | AC67: 0 | AD67: 0 | AE67: 0 | AF67: 0 | AG67: 0 | AH67: 2 | AI67: 0 | AJ67: 0 | AK67: 0 | AL67: 0 | AM67: 0 | AN67: 0 | AO67: 0 | AP67: 0 | AQ67: 0 | AR67: 2 | AS67: 2 | AT67: 0 | AU67: 0 | AV67: 0 | AW67: 0 | AX67: 0 | AY67: 2
B68: 雲林縣 | C68: 計 Total | D68: 1875 | E68: 1824 | F68: 19 | G68: 7 | H68: 15 | I68: 0 | J68: 10 | K68: 1875 | L68: 86 | M68: 95 | N68: 96 | O68: 99 | P68: 157 | Q68: 293 | R68: 399 | S68: 368 | T68: 278 | U68: 4 | V68: 1875 | W68: 1641 | X68: 40 | Y68: 8 | Z68: 59 | AA68: 4 | AB68: 16 | AC68: 51 | AD68: 10 | AE68: 23 | AF68: 21 | AG68: 2 | AH68: 1764 | AI68: 0 | AJ68: 10 | AK68: 59 | AL68: 66 | AM68: 143 | AN68: 372 | AO68: 482 | AP68: 392 | AQ68: 194 | AR68: 46 | AS68: 1764 | AT68: 1697 | AU68: 16 | AV68: 11 | AW68: 17 | AX68: 0 | AY68: 23
C69: 男 Male | D69: 772 | E69: 761 | F69: 4 | G69: 0 | H69: 3 | I69: 0 | J69: 4 | K69: 772 | L69: 54 | M69: 57 | N69: 56 | O69: 39 | P69: 55 | Q69: 96 | R69: 146 | S69: 145 | T69: 121 | U69: 3 | V69: 772 | W69: 673 | X69: 8 | Y69: 4 | Z69: 23 | AA69: 4 | AB69: 8 | AC69: 29 | AD69: 3 | AE69: 11 | AF69: 8 | AG69: 1 | AH69: 1205 | AI69: 0 | AJ69: 6 | AK69: 42 | AL69: 44 | AM69: 84 | AN69: 246 | AO69: 345 | AP69: 285 | AQ69: 124 | AR69: 29 | AS69: 1205 | AT69: 1167 | AU69: 9 | AV69: 1 | AW69: 12 | AX69: 0 | AY69: 16
B70: Yunlin County | C70: 女 Female | D70: 1101 | E70: 1061 | F70: 15 | G70: 7 | H70: 12 | I70: 0 | J70: 6 | K70: 1101 | L70: 31 | M70: 37 | N70: 40 | O70: 60 | P70: 102 | Q70: 197 | R70: 253 | S70: 223 | T70: 157 | U70: 1 | V70: 1101 | W70: 966 | X70: 32 | Y70: 4 | Z70: 36 | AA70: 0 | AB70: 8 | AC70: 22 | AD70: 7 | AE70: 12 | AF70: 13 | AG70: 1 | AH70: 557 | AI70: 0 | AJ70: 4 | AK70: 17 | AL70: 22 | AM70: 59 | AN70: 126 | AO70: 136 | AP70: 107 | AQ70: 70 | AR70: 16 | AS70: 557 | AT70: 528 | AU70: 7 | AV70: 10 | AW70: 5 | AX70: 0 | AY70: 7
C71: 其他 Other | D71: 0 | E71: 0 | F71: 0 | G71: 0 | H71: 0 | I71: 0 | J71: 0 | K71: 0 | L71: 0 | M71: 0 | N71: 0 | O71: 0 | P71: 0 | Q71: 0 | R71: 0 | S71: 0 | T71: 0 | U71: 0 | V71: 0 | W71: 0 | X71: 0 | Y71: 0 | Z71: 0 | AA71: 0 | AB71: 0 | AC71: 0 | AD71: 0 | AE71: 0 | AF71: 0 | AG71: 0 | AH71: 0 | AI71: 0 | AJ71: 0 | AK71: 0 | AL71: 0 | AM71: 0 | AN71: 0 | AO71: 0 | AP71: 0 | AQ71: 0 | AR71: 0 | AS71: 0 | AT71: 0 | AU71: 0 | AV71: 0 | AW71: 0 | AX71: 0 | AY71: 0
C72: 不詳Unknown | D72: 2 | E72: 2 | F72: 0 | G72: 0 | H72: 0 | I72: 0 | J72: 0 | K72: 2 | L72: 1 | M72: 1 | N72: 0 | O72: 0 | P72: 0 | Q72: 0 | R72: 0 | S72: 0 | T72: 0 | U72: 0 | V72: 2 | W72: 2 | X72: 0 | Y72: 0 | Z72: 0 | AA72: 0 | AB72: 0 | AC72: 0 | AD72: 0 | AE72: 0 | AF72: 0 | AG72: 0 | AH72: 2 | AI72: 0 | AJ72: 0 | AK72: 0 | AL72: 0 | AM72: 0 | AN72: 0 | AO72: 1 | AP72: 0 | AQ72: 0 | AR72: 1 | AS72: 2 | AT72: 2 | AU72: 0 | AV72: 0 | AW72: 0 | AX72: 0 | AY72: 0
B73: 嘉義縣 | C73: 計 Total | D73: 1219 | E73: 1161 | F73: 26 | G73: 5 | H73: 17 | I73: 1 | J73: 9 | K73: 1219 | L73: 61 | M73: 57 | N73: 37 | O73: 76 | P73: 86 | Q73: 184 | R73: 237 | S73: 279 | T73: 200 | U73: 2 | V73: 1219 | W73: 1091 | X73: 17 | Y73: 3 | Z73: 32 | AA73: 2 | AB73: 5 | AC73: 28 | AD73: 9 | AE73: 14 | AF73: 16 | AG73: 2 | AH73: 1149 | AI73: 0 | AJ73: 7 | AK73: 32 | AL73: 52 | AM73: 87 | AN73: 237 | AO73: 275 | AP73: 303 | AQ73: 133 | AR73: 23 | AS73: 1149 | AT73: 1107 | AU73: 18 | AV73: 4 | AW73: 10 | AX73: 0 | AY73: 10
C74: 男 Male | D74: 489 | E74: 477 | F74: 6 | G74: 1 | H74: 2 | I74: 1 | J74: 2 | K74: 489 | L74: 38 | M74: 29 | N74: 21 | O74: 21 | P74: 36 | Q74: 60 | R74: 83 | S74: 127 | T74: 73 | U74: 1 | V74: 489 | W74: 429 | X74: 9 | Y74: 0 | Z74: 12 | AA74: 2 | AB74: 2 | AC74: 14 | AD74: 2 | AE74: 10 | AF74: 8 | AG74: 1 | AH74: 818 | AI74: 0 | AJ74: 7 | AK74: 25 | AL74: 33 | AM74: 62 | AN74: 160 | AO74: 197 | AP74: 224 | AQ74: 93 | AR74: 17 | AS74: 818 | AT74: 790 | AU74: 16 | AV74: 1 | AW74: 5 | AX74: 0 | AY74: 6
B75: Chiayi County | C75: 女 Female | D75: 728 | E75: 682 | F75: 20 | G75: 4 | H75: 15 | I75: 0 | J75: 7 | K75: 728 | L75: 22 | M75: 28 | N75: 16 | O75: 55 | P75: 50 | Q75: 124 | R75: 154 | S75: 151 | T75: 127 | U75: 1 | V75: 728 | W75: 660 | X75: 8 | Y75: 3 | Z75: 20 | AA75: 0 | AB75: 3 | AC75: 14 | AD75: 7 | AE75: 4 | AF75: 8 | AG75: 1 | AH75: 329 | AI75: 0 | AJ75: 0 | AK75: 7 | AL75: 19 | AM75: 25 | AN75: 77 | AO75: 78 | AP75: 79 | AQ75: 40 | AR75: 4 | AS75: 329 | AT75: 317 | AU75: 2 | AV75: 3 | AW75: 5 | AX75: 0 | AY75: 2
C76: 其他 Other | D76: 0 | E76: 0 | F76: 0 | G76: 0 | H76: 0 | I76: 0 | J76: 0 | K76: 0 | L76: 0 | M76: 0 | N76: 0 | O76: 0 | P76: 0 | Q76: 0 | R76: 0 | S76: 0 | T76: 0 | U76: 0 | V76: 0 | W76: 0 | X76: 0 | Y76: 0 | Z76: 0 | AA76: 0 | AB76: 0 | AC76: 0 | AD76: 0 | AE76: 0 | AF76: 0 | AG76: 0 | AH76: 0 | AI76: 0 | AJ76: 0 | AK76: 0 | AL76: 0 | AM76: 0 | AN76: 0 | AO76: 0 | AP76: 0 | AQ76: 0 | AR76: 0 | AS76: 0 | AT76: 0 | AU76: 0 | AV76: 0 | AW76: 0 | AX76: 0 | AY76: 0
C77: 不詳Unknown | D77: 2 | E77: 2 | F77: 0 | G77: 0 | H77: 0 | I77: 0 | J77: 0 | K77: 2 | L77: 1 | M77: 0 | N77: 0 | O77: 0 | P77: 0 | Q77: 0 | R77: 0 | S77: 1 | T77: 0 | U77: 0 | V77: 2 | W77: 2 | X77: 0 | Y77: 0 | Z77: 0 | AA77: 0 | AB77: 0 | AC77: 0 | AD77: 0 | AE77: 0 | AF77: 0 | AG77: 0 | AH77: 2 | AI77: 0 | AJ77: 0 | AK77: 0 | AL77: 0 | AM77: 0 | AN77: 0 | AO77: 0 | AP77: 0 | AQ77: 0 | AR77: 2 | AS77: 2 | AT77: 0 | AU77: 0 | AV77: 0 | AW77: 0 | AX77: 0 | AY77: 2
B78: 屏東縣 | C78: 計 Total | D78: 2161 | E78: 1849 | F78: 232 | G78: 18 | H78: 34 | I78: 0 | J78: 28 | K78: 2161 | L78: 100 | M78: 153 | N78: 103 | O78: 142 | P78: 187 | Q78: 375 | R78: 414 | S78: 385 | T78: 300 | U78: 2 | V78: 2161 | W78: 1938 | X78: 48 | Y78: 6 | Z78: 59 | AA78: 3 | AB78: 9 | AC78: 49 | AD78: 9 | AE78: 13 | AF78: 23 | AG78: 4 | AH78: 2057 | AI78: 1 | AJ78: 6 | AK78: 49 | AL78: 95 | AM78: 221 | AN78: 463 | AO78: 513 | AP78: 456 | AQ78: 200 | AR78: 53 | AS78: 2057 | AT78: 1801 | AU78: 192 | AV78: 9 | AW78: 17 | AX78: 0 | AY78: 38
C79: 男 Male | D79: 777 | E79: 703 | F79: 59 | G79: 1 | H79: 3 | I79: 0 | J79: 11 | K79: 777 | L79: 61 | M79: 87 | N79: 48 | O79: 48 | P79: 56 | Q79: 107 | R79: 127 | S79: 131 | T79: 111 | U79: 1 | V79: 777 | W79: 694 | X79: 21 | Y79: 3 | Z79: 12 | AA79: 2 | AB79: 3 | AC79: 22 | AD79: 4 | AE79: 6 | AF79: 9 | AG79: 1 | AH79: 1459 | AI79: 1 | AJ79: 4 | AK79: 34 | AL79: 59 | AM79: 156 | AN79: 335 | AO79: 362 | AP79: 326 | AQ79: 144 | AR79: 38 | AS79: 1459 | AT79: 1279 | AU79: 148 | AV79: 1 | AW79: 6 | AX79: 0 | AY79: 25
B80: Pingtung County | C80: 女 Female | D80: 1384 | E80: 1146 | F80: 173 | G80: 17 | H80: 31 | I80: 0 | J80: 17 | K80: 1384 | L80: 39 | M80: 66 | N80: 55 | O80: 94 | P80: 131 | Q80: 268 | R80: 287 | S80: 254 | T80: 189 | U80: 1 | V80: 1384 | W80: 1244 | X80: 27 | Y80: 3 | Z80: 47 | AA80: 1 | AB80: 6 | AC80: 27 | AD80: 5 | AE80: 7 | AF80: 14 | AG80: 3 | AH80: 598 | AI80: 0 | AJ80: 2 | AK80: 15 | AL80: 36 | AM80: 65 | AN80: 128 | AO80: 151 | AP80: 130 | AQ80: 56 | AR80: 15 | AS80: 598 | AT80: 522 | AU80: 44 | AV80: 8 | AW80: 11 | AX80: 0 | AY80: 13
C81: 其他 Other | D81: 0 | E81: 0 | F81: 0 | G81: 0 | H81: 0 | I81: 0 | J81: 0 | K81: 0 | L81: 0 | M81: 0 | N81: 0 | O81: 0 | P81: 0 | Q81: 0 | R81: 0 | S81: 0 | T81: 0 | U81: 0 | V81: 0 | W81: 0 | X81: 0 | Y81: 0 | Z81: 0 | AA81: 0 | AB81: 0 | AC81: 0 | AD81: 0 | AE81: 0 | AF81: 0 | AG81: 0 | AH81: 0 | AI81: 0 | AJ81: 0 | AK81: 0 | AL81: 0 | AM81: 0 | AN81: 0 | AO81: 0 | AP81: 0 | AQ81: 0 | AR81: 0 | AS81: 0 | AT81: 0 | AU81: 0 | AV81: 0 | AW81: 0 | AX81: 0 | AY81: 0
C82: 不詳Unknown | D82: 0 | E82: 0 | F82: 0 | G82: 0 | H82: 0 | I82: 0 | J82: 0 | K82: 0 | L82: 0 | M82: 0 | N82: 0 | O82: 0 | P82: 0 | Q82: 0 | R82: 0 | S82: 0 | T82: 0 | U82: 0 | V82: 0 | W82: 0 | X82: 0 | Y82: 0 | Z82: 0 | AA82: 0 | AB82: 0 | AC82: 0 | AD82: 0 | AE82: 0 | AF82: 0 | AG82: 0 | AH82: 0 | AI82: 0 | AJ82: 0 | AK82: 0 | AL82: 0 | AM82: 0 | AN82: 0 | AO82: 0 | AP82: 0 | AQ82: 0 | AR82: 0 | AS82: 0 | AT82: 0 | AU82: 0 | AV82: 0 | AW82: 0 | AX82: 0 | AY82: 0
B83: 臺東縣 | C83: 計 Total | D83: 793 | E83: 421 | F83: 364 | G83: 4 | H83: 2 | I83: 0 | J83: 2 | K83: 793 | L83: 31 | M83: 40 | N83: 35 | O83: 41 | P83: 82 | Q83: 125 | R83: 139 | S83: 186 | T83: 113 | U83: 1 | V83: 793 | W83: 678 | X83: 24 | Y83: 5 | Z83: 21 | AA83: 0 | AB83: 9 | AC83: 30 | AD83: 0 | AE83: 10 | AF83: 15 | AG83: 1 | AH83: 749 | AI83: 0 | AJ83: 2 | AK83: 10 | AL83: 33 | AM83: 80 | AN83: 151 | AO83: 164 | AP83: 221 | AQ83: 75 | AR83: 13 | AS83: 749 | AT83: 407 | AU83: 322 | AV83: 2 | AW83: 3 | AX83: 0 | AY83: 15
C84: 男 Male | D84: 290 | E84: 154 | F84: 135 | G84: 0 | H84: 0 | I84: 0 | J84: 1 | K84: 290 | L84: 20 | M84: 19 | N84: 15 | O84: 12 | P84: 29 | Q84: 36 | R84: 44 | S84: 64 | T84: 51 | U84: 0 | V84: 290 | W84: 240 | X84: 8 | Y84: 3 | Z84: 7 | AA84: 0 | AB84: 2 | AC84: 18 | AD84: 0 | AE84: 4 | AF84: 8 | AG84: 0 | AH84: 531 | AI84: 0 | AJ84: 0 | AK84: 7 | AL84: 22 | AM84: 57 | AN84: 109 | AO84: 114 | AP84: 156 | AQ84: 57 | AR84: 9 | AS84: 531 | AT84: 303 | AU84: 219 | AV84: 0 | AW84: 2 | AX84: 0 | AY84: 7
B85: Taitung County | C85: 女 Female | D85: 502 | E85: 266 | F85: 229 | G85: 4 | H85: 2 | I85: 0 | J85: 1 | K85: 502 | L85: 11 | M85: 21 | N85: 20 | O85: 28 | P85: 53 | Q85: 89 | R85: 95 | S85: 122 | T85: 62 | U85: 1 | V85: 502 | W85: 437 | X85: 16 | Y85: 2 | Z85: 14 | AA85: 0 | AB85: 7 | AC85: 12 | AD85: 0 | AE85: 6 | AF85: 7 | AG85: 1 | AH85: 218 | AI85: 0 | AJ85: 2 | AK85: 3 | AL85: 11 | AM85: 23 | AN85: 42 | AO85: 50 | AP85: 65 | AQ85: 18 | AR85: 4 | AS85: 218 | AT85: 104 | AU85: 103 | AV85: 2 | AW85: 1 | AX85: 0 | AY85: 8
C86: 其他 Other | D86: 0 | E86: 0 | F86: 0 | G86: 0 | H86: 0 | I86: 0 | J86: 0 | K86: 0 | L86: 0 | M86: 0 | N86: 0 | O86: 0 | P86: 0 | Q86: 0 | R86: 0 | S86: 0 | T86: 0 | U86: 0 | V86: 0 | W86: 0 | X86: 0 | Y86: 0 | Z86: 0 | AA86: 0 | AB86: 0 | AC86: 0 | AD86: 0 | AE86: 0 | AF86: 0 | AG86: 0 | AH86: 0 | AI86: 0 | AJ86: 0 | AK86: 0 | AL86: 0 | AM86: 0 | AN86: 0 | AO86: 0 | AP86: 0 | AQ86: 0 | AR86: 0 | AS86: 0 | AT86: 0 | AU86: 0 | AV86: 0 | AW86: 0 | AX86: 0 | AY86: 0
C87: 不詳Unknown | D87: 1 | E87: 1 | F87: 0 | G87: 0 | H87: 0 | I87: 0 | J87: 0 | K87: 1 | L87: 0 | M87: 0 | N87: 0 | O87: 1 | P87: 0 | Q87: 0 | R87: 0 | S87: 0 | T87: 0 | U87: 0 | V87: 1 | W87: 1 | X87: 0 | Y87: 0 | Z87: 0 | AA87: 0 | AB87: 0 | AC87: 0 | AD87: 0 | AE87: 0 | AF87: 0 | AG87: 0 | AH87: 0 | AI87: 0 | AJ87: 0 | AK87: 0 | AL87: 0 | AM87: 0 | AN87: 0 | AO87: 0 | AP87: 0 | AQ87: 0 | AR87: 0 | AS87: 0 | AT87: 0 | AU87: 0 | AV87: 0 | AW87: 0 | AX87: 0 | AY87: 0
B88: 花蓮縣 | C88: 計 Total | D88: 1206 | E88: 654 | F88: 540 | G88: 2 | H88: 4 | I88: 0 | J88: 6 | K88: 1206 | L88: 92 | M88: 108 | N88: 89 | O88: 78 | P88: 110 | Q88: 177 | R88: 211 | S88: 200 | T88: 139 | U88: 2 | V88: 1206 | W88: 1070 | X88: 23 | Y88: 4 | Z88: 28 | AA88: 0 | AB88: 11 | AC88: 32 | AD88: 7 | AE88: 19 | AF88: 10 | AG88: 2 | AH88: 1224 | AI88: 1 | AJ88: 11 | AK88: 27 | AL88: 70 | AM88: 144 | AN88: 288 | AO88: 316 | AP88: 237 | AQ88: 99 | AR88: 31 | AS88: 1224 | AT88: 685 | AU88: 456 | AV88: 5 | AW88: 7 | AX88: 0 | AY88: 71
C89: 男 Male | D89: 476 | E89: 271 | F89: 202 | G89: 0 | H89: 1 | I89: 0 | J89: 2 | K89: 476 | L89: 56 | M89: 58 | N89: 38 | O89: 34 | P89: 34 | Q89: 52 | R89: 71 | S89: 82 | T89: 50 | U89: 1 | V89: 476 | W89: 409 | X89: 9 | Y89: 4 | Z89: 10 | AA89: 0 | AB89: 3 | AC89: 19 | AD89: 1 | AE89: 14 | AF89: 7 | AG89: 0 | AH89: 814 | AI89: 1 | AJ89: 7 | AK89: 19 | AL89: 51 | AM89: 87 | AN89: 177 | AO89: 219 | AP89: 168 | AQ89: 66 | AR89: 19 | AS89: 814 | AT89: 467 | AU89: 300 | AV89: 2 | AW89: 4 | AX89: 0 | AY89: 41
B90: Hualien County | C90: 女 Female | D90: 728 | E90: 382 | F90: 337 | G90: 2 | H90: 3 | I90: 0 | J90: 4 | K90: 728 | L90: 35 | M90: 49 | N90: 51 | O90: 44 | P90: 76 | Q90: 125 | R90: 140 | S90: 118 | T90: 89 | U90: 1 | V90: 728 | W90: 659 | X90: 14 | Y90: 0 | Z90: 18 | AA90: 0 | AB90: 8 | AC90: 13 | AD90: 6 | AE90: 5 | AF90: 3 | AG90: 2 | AH90: 410 | AI90: 0 | AJ90: 4 | AK90: 8 | AL90: 19 | AM90: 57 | AN90: 111 | AO90: 97 | AP90: 69 | AQ90: 33 | AR90: 12 | AS90: 410 | AT90: 218 | AU90: 156 | AV90: 3 | AW90: 3 | AX90: 0 | AY90: 30
C91: 其他 Other | D91: 0 | E91: 0 | F91: 0 | G91: 0 | H91: 0 | I91: 0 | J91: 0 | K91: 0 | L91: 0 | M91: 0 | N91: 0 | O91: 0 | P91: 0 | Q91: 0 | R91: 0 | S91: 0 | T91: 0 | U91: 0 | V91: 0 | W91: 0 | X91: 0 | Y91: 0 | Z91: 0 | AA91: 0 | AB91: 0 | AC91: 0 | AD91: 0 | AE91: 0 | AF91: 0 | AG91: 0 | AH91: 0 | AI91: 0 | AJ91: 0 | AK91: 0 | AL91: 0 | AM91: 0 | AN91: 0 | AO91: 0 | AP91: 0 | AQ91: 0 | AR91: 0 | AS91: 0 | AT91: 0 | AU91: 0 | AV91: 0 | AW91: 0 | AX91: 0 | AY91: 0
C92: 不詳Unknown | D92: 2 | E92: 1 | F92: 1 | G92: 0 | H92: 0 | I92: 0 | J92: 0 | K92: 2 | L92: 1 | M92: 1 | N92: 0 | O92: 0 | P92: 0 | Q92: 0 | R92: 0 | S92: 0 | T92: 0 | U92: 0 | V92: 2 | W92: 2 | X92: 0 | Y92: 0 | Z92: 0 | AA92: 0 | AB92: 0 | AC92: 0 | AD92: 0 | AE92: 0 | AF92: 0 | AG92: 0 | AH92: 0 | AI92: 0 | AJ92: 0 | AK92: 0 | AL92: 0 | AM92: 0 | AN92: 0 | AO92: 0 | AP92: 0 | AQ92: 0 | AR92: 0 | AS92: 0 | AT92: 0 | AU92: 0 | AV92: 0 | AW92: 0 | AX92: 0 | AY92: 0
A93: Penghu County | B93: 澎湖縣 | C93: 計 Total | D93: 209 | E93: 195 | F93: 9 | G93: 1 | H93: 1 | I93: 0 | J93: 3 | K93: 209 | L93: 3 | M93: 5 | N93: 4 | O93: 12 | P93: 24 | Q93: 34 | R93: 44 | S93: 44 | T93: 39 | U93: 0 | V93: 209 | W93: 185 | X93: 3 | Y93: 1 | Z93: 8 | AA93: 0 | AB93: 2 | AC93: 1 | AD93: 2 | AE93: 3 | AF93: 3 | AG93: 1 | AH93: 194 | AI93: 0 | AJ93: 0 | AK93: 4 | AL93: 13 | AM93: 22 | AN93: 30 | AO93: 56 | AP93: 46 | AQ93: 20 | AR93: 3 | AS93: 194 | AT93: 191 | AU93: 0 | AV93: 0 | AW93: 0 | AX93: 0 | AY93: 3
C94: 男 Male | D94: 88 | E94: 82 | F94: 4 | G94: 0 | H94: 0 | I94: 0 | J94: 2 | K94: 88 | L94: 1 | M94: 3 | N94: 2 | O94: 4 | P94: 10 | Q94: 14 | R94: 12 | S94: 24 | T94: 18 | U94: 0 | V94: 88 | W94: 74 | X94: 3 | Y94: 1 | Z94: 4 | AA94: 0 | AB94: 1 | AC94: 1 | AD94: 1 | AE94: 2 | AF94: 0 | AG94: 1 | AH94: 140 | AI94: 0 | AJ94: 0 | AK94: 3 | AL94: 8 | AM94: 13 | AN94: 23 | AO94: 37 | AP94: 36 | AQ94: 17 | AR94: 3 | AS94: 140 | AT94: 139 | AU94: 0 | AV94: 0 | AW94: 0 | AX94: 0 | AY94: 1
B95: Penghu County | C95: 女 Female | D95: 121 | E95: 113 | F95: 5 | G95: 1 | H95: 1 | I95: 0 | J95: 1 | K95: 121 | L95: 2 | M95: 2 | N95: 2 | O95: 8 | P95: 14 | Q95: 20 | R95: 32 | S95: 20 | T95: 21 | U95: 0 | V95: 121 | W95: 111 | X95: 0 | Y95: 0 | Z95: 4 | AA95: 0 | AB95: 1 | AC95: 0 | AD95: 1 | AE95: 1 | AF95: 3 | AG95: 0 | AH95: 54 | AI95: 0 | AJ95: 0 | AK95: 1 | AL95: 5 | AM95: 9 | AN95: 7 | AO95: 19 | AP95: 10 | AQ95: 3 | AR95: 0 | AS95: 54 | AT95: 52 | AU95: 0 | AV95: 0 | AW95: 0 | AX95: 0 | AY95: 2
C96: 其他 Other | D96: 0 | E96: 0 | F96: 0 | G96: 0 | H96: 0 | I96: 0 | J96: 0 | K96: 0 | L96: 0 | M96: 0 | N96: 0 | O96: 0 | P96: 0 | Q96: 0 | R96: 0 | S96: 0 | T96: 0 | U96: 0 | V96: 0 | W96: 0 | X96: 0 | Y96: 0 | Z96: 0 | AA96: 0 | AB96: 0 | AC96: 0 | AD96: 0 | AE96: 0 | AF96: 0 | AG96: 0 | AH96: 0 | AI96: 0 | AJ96: 0 | AK96: 0 | AL96: 0 | AM96: 0 | AN96: 0 | AO96: 0 | AP96: 0 | AQ96: 0 | AR96: 0 | AS96: 0 | AT96: 0 | AU96: 0 | AV96: 0 | AW96: 0 | AX96: 0 | AY96: 0
C97: 不詳Unknown | D97: 0 | E97: 0 | F97: 0 | G97: 0 | H97: 0 | I97: 0 | J97: 0 | K97: 0 | L97: 0 | M97: 0 | N97: 0 | O97: 0 | P97: 0 | Q97: 0 | R97: 0 | S97: 0 | T97: 0 | U97: 0 | V97: 0 | W97: 0 | X97: 0 | Y97: 0 | Z97: 0 | AA97: 0 | AB97: 0 | AC97: 0 | AD97: 0 | AE97: 0 | AF97: 0 | AG97: 0 | AH97: 0 | AI97: 0 | AJ97: 0 | AK97: 0 | AL97: 0 | AM97: 0 | AN97: 0 | AO97: 0 | AP97: 0 | AQ97: 0 | AR97: 0 | AS97: 0 | AT97: 0 | AU97: 0 | AV97: 0 | AW97: 0 | AX97: 0 | AY97: 0
B98: 基隆市 | C98: 計 Total | D98: 1133 | E98: 1036 | F98: 70 | G98: 11 | H98: 5 | I98: 0 | J98: 11 | K98: 1133 | L98: 36 | M98: 65 | N98: 62 | O98: 52 | P98: 101 | Q98: 209 | R98: 249 | S98: 225 | T98: 131 | U98: 3 | V98: 1133 | W98: 1009 | X98: 9 | Y98: 1 | Z98: 45 | AA98: 1 | AB98: 11 | AC98: 19 | AD98: 6 | AE98: 10 | AF98: 18 | AG98: 4 | AH98: 1089 | AI98: 0 | AJ98: 5 | AK98: 23 | AL98: 46 | AM98: 99 | AN98: 210 | AO98: 313 | AP98: 259 | AQ98: 108 | AR98: 26 | AS98: 1089 | AT98: 993 | AU98: 56 | AV98: 11 | AW98: 6 | AX98: 0 | AY98: 23
C99: 男 Male | D99: 462 | E99: 433 | F99: 24 | G99: 1 | H99: 0 | I99: 0 | J99: 4 | K99: 462 | L99: 25 | M99: 38 | N99: 22 | O99: 21 | P99: 40 | Q99: 73 | R99: 102 | S99: 91 | T99: 49 | U99: 1 | V99: 462 | W99: 405 | X99: 4 | Y99: 1 | Z99: 13 | AA99: 0 | AB99: 7 | AC99: 8 | AD99: 3 | AE99: 6 | AF99: 13 | AG99: 2 | AH99: 700 | AI99: 0 | AJ99: 3 | AK99: 17 | AL99: 29 | AM99: 49 | AN99: 134 | AO99: 209 | AP99: 175 | AQ99: 68 | AR99: 16 | AS99: 700 | AT99: 642 | AU99: 41 | AV99: 0 | AW99: 3 | AX99: 0 | AY99: 14
B100: Keelung City | C100: 女 Female | D100: 671 | E100: 603 | F100: 46 | G100: 10 | H100: 5 | I100: 0 | J100: 7 | K100: 671 | L100: 11 | M100: 27 | N100: 40 | O100: 31 | P100: 61 | Q100: 136 | R100: 147 | S100: 134 | T100: 82 | U100: 2 | V100: 671 | W100: 604 | X100: 5 | Y100: 0 | Z100: 32 | AA100: 1 | AB100: 4 | AC100: 11 | AD100: 3 | AE100: 4 | AF100: 5 | AG100: 2 | AH100: 389 | AI100: 0 | AJ100: 2 | AK100: 6 | AL100: 17 | AM100: 50 | AN100: 76 | AO100: 104 | AP100: 84 | AQ100: 40 | AR100: 10 | AS100: 389 | AT100: 351 | AU100: 15 | AV100: 11 | AW100: 3 | AX100: 0 | AY100: 9
...

Sheet Jan.-June.,2025
A1: 家庭暴力事件通報被害及相對人概況Overview of Victim and Offender Status in Reporting Cases of Domestic Violence
A2: 114年上半年 Jan.-June.,2025
A3: 單位：人數 unit:Person
A4: 區域別 Locality | C4: 性別 | D4: 被害人數 Victims | AH4: 相對人人數
D5: 國籍、身分別 By Nationality and Identity | K5: 年齡別 By Age | V5: 身心障礙別 By Disability | AH5: 年齡別 By Age | AS5: 國籍、身分別 By Nationality and Identity
D6: 合計 | E6: 本國籍 非原住民 | F6: 本國籍 原住民 | G6: 大陸及 港澳籍 | H6: 外國籍 | I6: 無國籍 | J6: 資料 不明 | K6: 合計 | L6: 0-未滿6歲 | M6: 6-未滿12歲 | N6: 12-未滿18歲 | O6: 18-未滿24歲 | P6: 24-未滿30歲 | Q6: 30-未滿40歲 | R6: 40-未滿50歲 | S6: 50-未滿65歲 | T6: 65歲 以上 | U6: 不詳 | V6: 合計 | W6: 非身心 障礙 | X6: 智障 | Y6: 視障 | Z6: 精神 病患 | AA6: 聲(語)障 | AB6: 聽障 | AC6: 肢障 | AD6: 失智症 | AE6: 多重 障礙 | AF6: 其他 障礙 | AG6: 不詳 | AH6: 合計 | AI6: 0-未滿6歲 | AJ6: 6-未滿12歲 | AK6: 12-未滿18歲 | AL6: 18-未滿24歲 | AM6: 24-未滿30歲 | AN6: 30-未滿40歲 | AO6: 40-未滿50歲 | AP6: 50-未滿65歲 | AQ6: 65歲 以上 | AR6: 不詳 | AS6: 合計 | AT6: 本國籍非原住民 | AU6: 本國籍原住民 | AV6: 大陸及 港澳籍 | AW6: 外國籍 | AX6: 無國籍 | AY6: 資料 不明
C7: Gender | D7: Total | E7: Non-aboriginal Native | F7: Aboriginal Native | G7: Mainland China and Hong Kong and Macau | H7: Foreign | I7: Stateless | J7: Unknown Information | K7: Total | L7: Under 6 Years | M7: 6-Under 12 Years | N7: 12-Under 18 Years | O7: 18-Under 2 Years | P7: 24-Under 30 Years | Q7: 30-Under 40 Years | R7: 40-Under 50 Years | S7: 50-Under 65 Years | T7: Above 65 Years | U7: Unknown | V7: Total | W7: Not Disability | X7: Intellectually Disabled | Y7: Vision | Z7: Mentally Illed | AA7: Voice | AB7: Hearing | AC7: Physically Impaired | AD7: Dementia | AE7: Multiple | AF7: Other | AG7: Unknown | AH7: Total | AI7: Under 6 Years | AJ7: 6-Under 12 Years | AK7: 12-Under 18 Years | AL7: 18-Under 2 Years | AM7: 24-Under 30 Years | AN7: 30-Under 40 Years | AO7: 40-Under 50 Years | AP7: 50-Under 65 Years | AQ7: Above 65 Years | AR7: Unknown | AS7: Total | AT7: Non-aboriginal Native | AU7: Aboriginal Native | AV7: Mainland China and Hong Kong and Macau | AW7: Foreign | AX7: Stateless | AY7: Unknown Information
A8: 總計 | C8: 計 Total | D8: 77407 | E8: 70271 | F8: 4289 | G8: 475 | H8: 854 | I8: 10 | J8: 1508 | K8: 77407 | L8: 3177 | M8: 5575 | N8: 4674 | O8: 4634 | P8: 6818 | Q8: 13694 | R8: 15628 | S8: 13388 | T8: 9642 | U8: 177 | V8: 77407 | W8: 69647 | X8: 1158 | Y8: 217 | Z8: 1990 | AA8: 94 | AB8: 380 | AC8: 1366 | AD8: 308 | AE8: 741 | AF8: 1125 | AG8: 381 | AH8: 74109 | AI8: 12 | AJ8: 424 | AK8: 2306 | AL8: 3434 | AM8: 6695 | AN8: 16357 | AO8: 20225 | AP8: 15293 | AQ8: 7173 | AR8: 2190 | AS8: 74109 | AT8: 67399 | AU8: 3604 | AV8: 408 | AW8: 803 | AX8: 13 | AY8: 1882
C9: 男 Male | D9: 29673 | E9: 27376 | F9: 1520 | G9: 34 | H9: 158 | I9: 6 | J9: 579 | K9: 29673 | L9: 1820 | M9: 3412 | N9: 2196 | O9: 1610 | P9: 2153 | Q9: 4387 | R9: 5181 | S9: 5229 | T9: 3632 | U9: 53 | V9: 29673 | W9: 26370 | X9: 475 | Y9: 103 | Z9: 593 | AA9: 54 | AB9: 184 | AC9: 676 | AD9: 105 | AE9: 362 | AF9: 627 | AG9: 124 | AH9: 50659 | AI9: 7 | AJ9: 332 | AK9: 1673 | AL9: 2258 | AM9: 4383 | AN9: 10874 | AO9: 14010 | AP9: 10812 | AQ9: 4782 | AR9: 1528 | AS9: 50659 | AT9: 46388 | AU9: 2416 | AV9: 87 | AW9: 450 | AX9: 9 | AY9: 1309
A10: Total | C10: 女 Female | D10: 47670 | E10: 42850 | F10: 2765 | G10: 441 | H10: 696 | I10: 4 | J10: 914 | K10: 47670 | L10: 1337 | M10: 2144 | N10: 2463 | O10: 3022 | P10: 4664 | Q10: 9307 | R10: 10443 | S10: 8158 | T10: 6009 | U10: 123 | V10: 47670 | W10: 43233 | X10: 683 | Y10: 114 | Z10: 1396 | AA10: 40 | AB10: 196 | AC10: 690 | AD10: 203 | AE10: 376 | AF10: 494 | AG10: 245 | AH10: 23407 | AI10: 5 | AJ10: 92 | AK10: 632 | AL10: 1175 | AM10: 2310 | AN10: 5477 | AO10: 6211 | AP10: 4480 | AQ10: 2391 | AR10: 634 | AS10: 23407 | AT10: 20990 | AU10: 1187 | AV10: 319 | AW10: 353 | AX10: 4 | AY10: 554
C11: 其他 Other | D11: 6 | E11: 6 | F11: 0 | G11: 0 | H11: 0 | I11: 0 | J11: 0 | K11: 6 | L11: 0 | M11: 0 | N11: 0 | O11: 2 | P11: 1 | Q11: 0 | R11: 2 | S11: 1 | T11: 0 | U11: 0 | V11: 6 | W11: 2 | X11: 0 | Y11: 0 | Z11: 1 | AA11: 0 | AB11: 0 | AC11: 0 | AD11: 0 | AE11: 2 | AF11: 1 | AG11: 0 | AH11: 6 | AI11: 0 | AJ11: 0 | AK11: 0 | AL11: 0 | AM11: 0 | AN11: 2 | AO11: 2 | AP11: 1 | AQ11: 0 | AR11: 1 | AS11: 6 | AT11: 5 | AU11: 0 | AV11: 0 | AW11: 0 | AX11: 0 | AY11: 1
C12: 不詳Unknown | D12: 58 | E12: 39 | F12: 4 | G12: 0 | H12: 0 | I12: 0 | J12: 15 | K12: 58 | L12: 20 | M12: 19 | N12: 15 | O12: 0 | P12: 0 | Q12: 0 | R12: 2 | S12: 0 | T12: 1 | U12: 1 | V12: 58 | W12: 42 | X12: 0 | Y12: 0 | Z12: 0 | AA12: 0 | AB12: 0 | AC12: 0 | AD12: 0 | AE12: 1 | AF12: 3 | AG12: 12 | AH12: 37 | AI12: 0 | AJ12: 0 | AK12: 1 | AL12: 1 | AM12: 2 | AN12: 4 | AO12: 2 | AP12: 0 | AQ12: 0 | AR12: 27 | AS12: 37 | AT12: 16 | AU12: 1 | AV12: 2 | AW12: 0 | AX12: 0 | AY12: 18
A13: 新北市 | C13: 計 Total | D13: 12905 | E13: 11515 | F13: 289 | G13: 103 | H13: 151 | I13: 0 | J13: 847 | K13: 12905 | L13: 431 | M13: 1139 | N13: 863 | O13: 820 | P13: 1115 | Q13: 2305 | R13: 2555 | S13: 2165 | T13: 1424 | U13: 88 | V13: 12905 | W13: 11679 | X13: 138 | Y13: 34 | Z13: 298 | AA13: 13 | AB13: 45 | AC13: 171 | AD13: 44 | AE13: 93 | AF13: 192 | AG13: 198 | AH13: 12095 | AI13: 0 | AJ13: 62 | AK13: 384 | AL13: 536 | AM13: 1031 | AN13: 2510 | AO13: 3164 | AP13: 2392 | AQ13: 1091 | AR13: 925 | AS13: 12095 | AT13: 10662 | AU13: 217 | AV13: 75 | AW13: 137 | AX13: 3 | AY13: 1001
C14: 男 Male | D14: 4572 | E14: 4102 | F14: 117 | G14: 4 | H14: 26 | I14: 0 | J14: 323 | K14: 4572 | L14: 234 | M14: 680 | N14: 382 | O14: 255 | P14: 311 | Q14: 653 | R14: 781 | S14: 772 | T14: 475 | U14: 29 | V14: 4572 | W14: 4084 | X14: 51 | Y14: 16 | Z14: 81 | AA14: 6 | AB14: 22 | AC14: 78 | AD14: 15 | AE14: 41 | AF14: 113 | AG14: 65 | AH14: 8428 | AI14: 0 | AJ14: 51 | AK14: 265 | AL14: 380 | AM14: 661 | AN14: 1684 | AO14: 2216 | AP14: 1777 | AQ14: 749 | AR14: 645 | AS14: 8428 | AT14: 7480 | AU14: 138 | AV14: 17 | AW14: 75 | AX14: 1 | AY14: 717
A15: New Taipei City | C15: 女 Female | D15: 8304 | E15: 7395 | F15: 170 | G15: 99 | H15: 125 | I15: 0 | J15: 515 | K15: 8304 | L15: 189 | M15: 448 | N15: 474 | O15: 563 | P15: 804 | Q15: 1652 | R15: 1773 | S15: 1393 | T15: 949 | U15: 59 | V15: 8304 | W15: 7576 | X15: 87 | Y15: 18 | Z15: 217 | AA15: 7 | AB15: 23 | AC15: 93 | AD15: 29 | AE15: 51 | AF15: 77 | AG15: 126 | AH15: 3655 | AI15: 0 | AJ15: 11 | AK15: 119 | AL15: 156 | AM15: 369 | AN15: 825 | AO15: 947 | AP15: 615 | AQ15: 342 | AR15: 271 | AS15: 3655 | AT15: 3177 | AU15: 79 | AV15: 57 | AW15: 62 | AX15: 2 | AY15: 278
C16: 其他 Other | D16: 2 | E16: 2 | F16: 0 | G16: 0 | H16: 0 | I16: 0 | J16: 0 | K16: 2 | L16: 0 | M16: 0 | N16: 0 | O16: 2 | P16: 0 | Q16: 0 | R16: 0 | S16: 0 | T16: 0 | U16: 0 | V16: 2 | W16: 0 | X16: 0 | Y16: 0 | Z16: 0 | AA16: 0 | AB16: 0 | AC16: 0 | AD16: 0 | AE16: 1 | AF16: 1 | AG16: 0 | AH16: 0 | AI16: 0 | AJ16: 0 | AK16: 0 | AL16: 0 | AM16: 0 | AN16: 0 | AO16: 0 | AP16: 0 | AQ16: 0 | AR16: 0 | AS16: 0 | AT16: 0 | AU16: 0 | AV16: 0 | AW16: 0 | AX16: 0 | AY16: 0
C17: 不詳Unknown | D17: 27 | E17: 16 | F17: 2 | G17: 0 | H17: 0 | I17: 0 | J17: 9 | K17: 27 | L17: 8 | M17: 11 | N17: 7 | O17: 0 | P17: 0 | Q17: 0 | R17: 1 | S17: 0 | T17: 0 | U17: 0 | V17: 27 | W17: 19 | X17: 0 | Y17: 0 | Z17: 0 | AA17: 0 | AB17: 0 | AC17: 0 | AD17: 0 | AE17: 0 | AF17: 1 | AG17: 7 | AH17: 12 | AI17: 0 | AJ17: 0 | AK17: 0 | AL17: 0 | AM17: 1 | AN17: 1 | AO17: 1 | AP17: 0 | AQ17: 0 | AR17: 9 | AS17: 12 | AT17: 5 | AU17: 0 | AV17: 1 | AW17: 0 | AX17: 0 | AY17: 6
A18: 臺北市 | C18: 計 Total | D18: 7563 | E18: 7111 | F18: 71 | G18: 69 | H18: 94 | I18: 5 | J18: 213 | K18: 7563 | L18: 319 | M18: 589 | N18: 525 | O18: 411 | P18: 586 | Q18: 1205 | R18: 1483 | S18: 1366 | T18: 1051 | U18: 28 | V18: 7563 | W18: 6847 | X18: 64 | Y18: 17 | Z18: 202 | AA18: 5 | AB18: 33 | AC18: 99 | AD18: 35 | AE18: 75 | AF18: 128 | AG18: 58 | AH18: 7133 | AI18: 2 | AJ18: 71 | AK18: 335 | AL18: 306 | AM18: 502 | AN18: 1336 | AO18: 1858 | AP18: 1576 | AQ18: 826 | AR18: 321 | AS18: 7133 | AT18: 6693 | AU18: 45 | AV18: 71 | AW18: 119 | AX18: 3 | AY18: 202
C19: 男 Male | D19: 3016 | E19: 2866 | F19: 25 | G19: 9 | H19: 37 | I19: 4 | J19: 75 | K19: 3016 | L19: 185 | M19: 377 | N19: 281 | O19: 145 | P19: 216 | Q19: 419 | R19: 495 | S19: 518 | T19: 369 | U19: 11 | V19: 3016 | W19: 2708 | X19: 30 | Y19: 7 | Z19: 63 | AA19: 2 | AB19: 15 | AC19: 48 | AD19: 15 | AE19: 29 | AF19: 78 | AG19: 21 | AH19: 4569 | AI19: 1 | AJ19: 52 | AK19: 249 | AL19: 173 | AM19: 303 | AN19: 813 | AO19: 1189 | AP19: 1039 | AQ19: 525 | AR19: 225 | AS19: 4569 | AT19: 4331 | AU19: 22 | AV19: 21 | AW19: 72 | AX19: 1 | AY19: 122
A20: Taipei City | C20: 女 Female | D20: 4536 | E20: 4236 | F20: 46 | G20: 60 | H20: 57 | I20: 1 | J20: 136 | K20: 4536 | L20: 132 | M20: 209 | N20: 242 | O20: 266 | P20: 369 | Q20: 786 | R20: 986 | S20: 848 | T20: 682 | U20: 16 | V20: 4536 | W20: 4134 | X20: 34 | Y20: 10 | Z20: 138 | AA20: 3 | AB20: 18 | AC20: 51 | AD20: 20 | AE20: 45 | AF20: 49 | AG20: 34 | AH20: 2561 | AI20: 1 | AJ20: 19 | AK20: 86 | AL20: 132 | AM20: 198 | AN20: 523 | AO20: 669 | AP20: 537 | AQ20: 301 | AR20: 95 | AS20: 2561 | AT20: 2360 | AU20: 23 | AV20: 49 | AW20: 47 | AX20: 2 | AY20: 80
C21: 其他 Other | D21: 3 | E21: 3 | F21: 0 | G21: 0 | H21: 0 | I21: 0 | J21: 0 | K21: 3 | L21: 0 | M21: 0 | N21: 0 | O21: 0 | P21: 1 | Q21: 0 | R21: 2 | S21: 0 | T21: 0 | U21: 0 | V21: 3 | W21: 1 | X21: 0 | Y21: 0 | Z21: 1 | AA21: 0 | AB21: 0 | AC21: 0 | AD21: 0 | AE21: 1 | AF21: 0 | AG21: 0 | AH21: 0 | AI21: 0 | AJ21: 0 | AK21: 0 | AL21: 0 | AM21: 0 | AN21: 0 | AO21: 0 | AP21: 0 | AQ21: 0 | AR21: 0 | AS21: 0 | AT21: 0 | AU21: 0 | AV21: 0 | AW21: 0 | AX21: 0 | AY21: 0
C22: 不詳Unknown | D22: 8 | E22: 6 | F22: 0 | G22: 0 | H22: 0 | I22: 0 | J22: 2 | K22: 8 | L22: 2 | M22: 3 | N22: 2 | O22: 0 | P22: 0 | Q22: 0 | R22: 0 | S22: 0 | T22: 0 | U22: 1 | V22: 8 | W22: 4 | X22: 0 | Y22: 0 | Z22: 0 | AA22: 0 | AB22: 0 | AC22: 0 | AD22: 0 | AE22: 0 | AF22: 1 | AG22: 3 | AH22: 3 | AI22: 0 | AJ22: 0 | AK22: 0 | AL22: 1 | AM22: 1 | AN22: 0 | AO22: 0 | AP22: 0 | AQ22: 0 | AR22: 1 | AS22: 3 | AT22: 2 | AU22: 0 | AV22: 1 | AW22: 0 | AX22: 0 | AY22: 0
A23: 桃園市 | C23: 計 Total | D23: 8243 | E23: 7188 | F23: 882 | G23: 47 | H23: 112 | I23: 1 | J23: 13 | K23: 8243 | L23: 325 | M23: 685 | N23: 568 | O23: 548 | P23: 848 | Q23: 1548 | R23: 1705 | S23: 1239 | T23: 771 | U23: 6 | V23: 8243 | W23: 7577 | X23: 120 | Y23: 17 | Z23: 179 | AA23: 5 | AB23: 28 | AC23: 104 | AD23: 16 | AE23: 84 | AF23: 96 | AG23: 17 | AH23: 8077 | AI23: 2 | AJ23: 31 | AK23: 218 | AL23: 414 | AM23: 801 | AN23: 2027 | AO23: 2373 | AP23: 1497 | AQ23: 585 | AR23: 129 | AS23: 8077 | AT23: 7080 | AU23: 773 | AV23: 35 | AW23: 111 | AX23: 0 | AY23: 78
C24: 男 Male | D24: 3182 | E24: 2830 | F24: 323 | G24: 5 | H24: 19 | I24: 1 | J24: 4 | K24: 3182 | L24: 206 | M24: 409 | N24: 264 | O24: 184 | P24: 260 | Q24: 521 | R24: 554 | S24: 487 | T24: 296 | U24: 1 | V24: 3182 | W24: 2883 | X24: 46 | Y24: 4 | Z24: 65 | AA24: 4 | AB24: 9 | AC24: 49 | AD24: 5 | AE24: 48 | AF24: 63 | AG24: 6 | AH24: 5608 | AI24: 1 | AJ24: 27 | AK24: 153 | AL24: 284 | AM24: 544 | AN24: 1360 | AO24: 1651 | AP24: 1105 | AQ24: 395 | AR24: 88 | AS24: 5608 | AT24: 4970 | AU24: 509 | AV24: 6 | AW24: 71 | AX24: 0 | AY24: 52
A25: Taoyuan City | C25: 女 Female | D25: 5059 | E25: 4356 | F25: 559 | G25: 42 | H25: 93 | I25: 0 | J25: 9 | K25: 5059 | L25: 119 | M25: 276 | N25: 304 | O25: 364 | P25: 588 | Q25: 1027 | R25: 1150 | S25: 752 | T25: 474 | U25: 5 | V25: 5059 | W25: 4692 | X25: 74 | Y25: 13 | Z25: 114 | AA25: 1 | AB25: 19 | AC25: 55 | AD25: 11 | AE25: 36 | AF25: 33 | AG25: 11 | AH25: 2462 | AI25: 1 | AJ25: 4 | AK25: 65 | AL25: 130 | AM25: 257 | AN25: 667 | AO25: 722 | AP25: 392 | AQ25: 190 | AR25: 34 | AS25: 2462 | AT25: 2107 | AU25: 264 | AV25: 29 | AW25: 40 | AX25: 0 | AY25: 22
C26: 其他 Other | D26: 0 | E26: 0 | F26: 0 | G26: 0 | H26: 0 | I26: 0 | J26: 0 | K26: 0 | L26: 0 | M26: 0 | N26: 0 | O26: 0 | P26: 0 | Q26: 0 | R26: 0 | S26: 0 | T26: 0 | U26: 0 | V26: 0 | W26: 0 | X26: 0 | Y26: 0 | Z26: 0 | AA26: 0 | AB26: 0 | AC26: 0 | AD26: 0 | AE26: 0 | AF26: 0 | AG26: 0 | AH26: 0 | AI26: 0 | AJ26: 0 | AK26: 0 | AL26: 0 | AM26: 0 | AN26: 0 | AO26: 0 | AP26: 0 | AQ26: 0 | AR26: 0 | AS26: 0 | AT26: 0 | AU26: 0 | AV26: 0 | AW26: 0 | AX26: 0 | AY26: 0
C27: 不詳Unknown | D27: 2 | E27: 2 | F27: 0 | G27: 0 | H27: 0 | I27: 0 | J27: 0 | K27: 2 | L27: 0 | M27: 0 | N27: 0 | O27: 0 | P27: 0 | Q27: 0 | R27: 1 | S27: 0 | T27: 1 | U27: 0 | V27: 2 | W27: 2 | X27: 0 | Y27: 0 | Z27: 0 | AA27: 0 | AB27: 0 | AC27: 0 | AD27: 0 | AE27: 0 | AF27: 0 | AG27: 0 | AH27: 7 | AI27: 0 | AJ27: 0 | AK27: 0 | AL27: 0 | AM27: 0 | AN27: 0 | AO27: 0 | AP27: 0 | AQ27: 0 | AR27: 7 | AS27: 7 | AT27: 3 | AU27: 0 | AV27: 0 | AW27: 0 | AX27: 0 | AY27: 4
A28: 臺中市 | C28: 計 Total | D28: 10236 | E28: 9545 | F28: 318 | G28: 84 | H28: 123 | I28: 2 | J28: 164 | K28: 10236 | L28: 353 | M28: 692 | N28: 627 | O28: 670 | P28: 988 | Q28: 1918 | R28: 2148 | S28: 1684 | T28: 1135 | U28: 21 | V28: 10236 | W28: 9275 | X28: 123 | Y28: 32 | Z28: 258 | AA28: 10 | AB28: 59 | AC28: 172 | AD28: 37 | AE28: 98 | AF28: 134 | AG28: 38 | AH28: 9949 | AI28: 2 | AJ28: 52 | AK28: 316 | AL28: 540 | AM28: 990 | AN28: 2244 | AO28: 2749 | AP28: 2013 | AQ28: 864 | AR28: 179 | AS28: 9949 | AT28: 9326 | AU28: 277 | AV28: 67 | AW28: 94 | AX28: 1 | AY28: 184
C29: 男 Male | D29: 4023 | E29: 3807 | F29: 119 | G29: 8 | H29: 18 | I29: 1 | J29: 70 | K29: 4023 | L29: 207 | M29: 430 | N29: 311 | O29: 252 | P29: 322 | Q29: 629 | R29: 754 | S29: 663 | T29: 450 | U29: 5 | V29: 4023 | W29: 3615 | X29: 47 | Y29: 18 | Z29: 78 | AA29: 6 | AB29: 32 | AC29: 83 | AD29: 10 | AE29: 54 | AF29: 67 | AG29: 13 | AH29: 6705 | AI29: 1 | AJ29: 40 | AK29: 234 | AL29: 339 | AM29: 658 | AN29: 1449 | AO29: 1907 | AP29: 1384 | AQ29: 578 | AR29: 115 | AS29: 6705 | AT29: 6334 | AU29: 186 | AV29: 14 | AW29: 44 | AX29: 1 | AY29: 126
A30: Taichung City | C30: 女 Female | D30: 6213 | E30: 5738 | F30: 199 | G30: 76 | H30: 105 | I30: 1 | J30: 94 | K30: 6213 | L30: 146 | M30: 262 | N30: 316 | O30: 418 | P30: 666 | Q30: 1289 | R30: 1394 | S30: 1021 | T30: 685 | U30: 16 | V30: 6213 | W30: 5660 | X30: 76 | Y30: 14 | Z30: 180 | AA30: 4 | AB30: 27 | AC30: 89 | AD30: 27 | AE30: 44 | AF30: 67 | AG30: 25 | AH30: 3239 | AI30: 1 | AJ30: 12 | AK30: 82 | AL30: 201 | AM30: 332 | AN30: 794 | AO30: 842 | AP30: 629 | AQ30: 286 | AR30: 60 | AS30: 3239 | AT30: 2990 | AU30: 91 | AV30: 53 | AW30: 50 | AX30: 0 | AY30: 55
C31: 其他 Other | D31: 0 | E31: 0 | F31: 0 | G31: 0 | H31: 0 | I31: 0 | J31: 0 | K31: 0 | L31: 0 | M31: 0 | N31: 0 | O31: 0 | P31: 0 | Q31: 0 | R31: 0 | S31: 0 | T31: 0 | U31: 0 | V31: 0 | W31: 0 | X31: 0 | Y31: 0 | Z31: 0 | AA31: 0 | AB31: 0 | AC31: 0 | AD31: 0 | AE31: 0 | AF31: 0 | AG31: 0 | AH31: 0 | AI31: 0 | AJ31: 0 | AK31: 0 | AL31: 0 | AM31: 0 | AN31: 0 | AO31: 0 | AP31: 0 | AQ31: 0 | AR31: 0 | AS31: 0 | AT31: 0 | AU31: 0 | AV31: 0 | AW31: 0 | AX31: 0 | AY31: 0
C32: 不詳Unknown | D32: 0 | E32: 0 | F32: 0 | G32: 0 | H32: 0 | I32: 0 | J32: 0 | K32: 0 | L32: 0 | M32: 0 | N32: 0 | O32: 0 | P32: 0 | Q32: 0 | R32: 0 | S32: 0 | T32: 0 | U32: 0 | V32: 0 | W32: 0 | X32: 0 | Y32: 0 | Z32: 0 | AA32: 0 | AB32: 0 | AC32: 0 | AD32: 0 | AE32: 0 | AF32: 0 | AG32: 0 | AH32: 5 | AI32: 0 | AJ32: 0 | AK32: 0 | AL32: 0 | AM32: 0 | AN32: 1 | AO32: 0 | AP32: 0 | AQ32: 0 | AR32: 4 | AS32: 5 | AT32: 2 | AU32: 0 | AV32: 0 | AW32: 0 | AX32: 0 | AY32: 3
A33: 臺南市 | C33: 計 Total | D33: 5455 | E33: 5290 | F33: 95 | G33: 18 | H33: 42 | I33: 0 | J33: 10 | K33: 5455 | L33: 288 | M33: 423 | N33: 305 | O33: 287 | P33: 457 | Q33: 938 | R33: 1079 | S33: 920 | T33: 757 | U33: 1 | V33: 5455 | W33: 4912 | X33: 105 | Y33: 20 | Z33: 114 | AA33: 9 | AB33: 30 | AC33: 107 | AD33: 30 | AE33: 59 | AF33: 62 | AG33: 7 | AH33: 5322 | AI33: 3 | AJ33: 41 | AK33: 133 | AL33: 225 | AM33: 481 | AN33: 1201 | AO33: 1524 | AP33: 1094 | AQ33: 561 | AR33: 59 | AS33: 5322 | AT33: 5151 | AU33: 80 | AV33: 18 | AW33: 48 | AX33: 1 | AY33: 24
C34: 男 Male | D34: 2003 | E34: 1949 | F34: 42 | G34: 1 | H34: 8 | I34: 0 | J34: 3 | K34: 2003 | L34: 172 | M34: 265 | N34: 125 | O34: 84 | P34: 151 | Q34: 272 | R34: 313 | S34: 337 | T34: 284 | U34: 0 | V34: 2003 | W34: 1780 | X34: 39 | Y34: 8 | Z34: 24 | AA34: 4 | AB34: 17 | AC34: 59 | AD34: 8 | AE34: 30 | AF34: 32 | AG34: 2 | AH34: 3639 | AI34: 1 | AJ34: 35 | AK34: 96 | AL34: 136 | AM34: 319 | AN34: 809 | AO34: 1059 | AP34: 751 | AQ34: 384 | AR34: 49 | AS34: 3639 | AT34: 3540 | AU34: 52 | AV34: 3 | AW34: 26 | AX34: 1 | AY34: 17
A35: Tainan City | C35: 女 Female | D35: 3450 | E35: 3339 | F35: 53 | G35: 17 | H35: 34 | I35: 0 | J35: 7 | K35: 3450 | L35: 115 | M35: 158 | N35: 179 | O35: 203 | P35: 306 | Q35: 666 | R35: 766 | S35: 583 | T35: 473 | U35: 1 | V35: 3450 | W35: 3132 | X35: 66 | Y35: 12 | Z35: 90 | AA35: 5 | AB35: 13 | AC35: 48 | AD35: 22 | AE35: 28 | AF35: 29 | AG35: 5 | AH35: 1679 | AI35: 2 | AJ35: 6 | AK35: 37 | AL35: 89 | AM35: 162 | AN35: 392 | AO35: 464 | AP35: 342 | AQ35: 177 | AR35: 8 | AS35: 1679 | AT35: 1609 | AU35: 28 | AV35: 15 | AW35: 22 | AX35: 0 | AY35: 5
C36: 其他 Other | D36: 0 | E36: 0 | F36: 0 | G36: 0 | H36: 0 | I36: 0 | J36: 0 | K36: 0 | L36: 0 | M36: 0 | N36: 0 | O36: 0 | P36: 0 | Q36: 0 | R36: 0 | S36: 0 | T36: 0 | U36: 0 | V36: 0 | W36: 0 | X36: 0 | Y36: 0 | Z36: 0 | AA36: 0 | AB36: 0 | AC36: 0 | AD36: 0 | AE36: 0 | AF36: 0 | AG36: 0 | AH36: 2 | AI36: 0 | AJ36: 0 | AK36: 0 | AL36: 0 | AM36: 0 | AN36: 0 | AO36: 1 | AP36: 1 | AQ36: 0 | AR36: 0 | AS36: 2 | AT36: 2 | AU36: 0 | AV36: 0 | AW36: 0 | AX36: 0 | AY36: 0
C37: 不詳Unknown | D37: 2 | E37: 2 | F37: 0 | G37: 0 | H37: 0 | I37: 0 | J37: 0 | K37: 2 | L37: 1 | M37: 0 | N37: 1 | O37: 0 | P37: 0 | Q37: 0 | R37: 0 | S37: 0 | T37: 0 | U37: 0 | V37: 2 | W37: 0 | X37: 0 | Y37: 0 | Z37: 0 | AA37: 0 | AB37: 0 | AC37: 0 | AD37: 0 | AE37: 1 | AF37: 1 | AG37: 0 | AH37: 2 | AI37: 0 | AJ37: 0 | AK37: 0 | AL37: 0 | AM37: 0 | AN37: 0 | AO37: 0 | AP37: 0 | AQ37: 0 | AR37: 2 | AS37: 2 | AT37: 0 | AU37: 0 | AV37: 0 | AW37: 0 | AX37: 0 | AY37: 2
A38: 高雄市 | C38: 計 Total | D38: 10366 | E38: 9877 | F38: 314 | G38: 56 | H38: 89 | I38: 0 | J38: 30 | K38: 10366 | L38: 379 | M38: 618 | N38: 568 | O38: 628 | P38: 916 | Q38: 1855 | R38: 2156 | S38: 1871 | T38: 1369 | U38: 6 | V38: 10366 | W38: 9279 | X38: 148 | Y38: 33 | Z38: 321 | AA38: 14 | AB38: 38 | AC38: 212 | AD38: 51 | AE38: 93 | AF38: 171 | AG38: 6 | AH38: 10107 | AI38: 0 | AJ38: 73 | AK38: 329 | AL38: 468 | AM38: 888 | AN38: 2246 | AO38: 2828 | AP38: 2168 | AQ38: 1053 | AR38: 54 | AS38: 10107 | AT38: 9641 | AU38: 265 | AV38: 48 | AW38: 92 | AX38: 0 | AY38: 61
C39: 男 Male | D39: 4162 | E39: 4006 | F39: 122 | G39: 5 | H39: 20 | I39: 0 | J39: 9 | K39: 4162 | L39: 228 | M39: 371 | N39: 280 | O39: 248 | P39: 304 | Q39: 677 | R39: 770 | S39: 760 | T39: 523 | U39: 1 | V39: 4162 | W39: 3716 | X39: 65 | Y39: 17 | Z39: 83 | AA39: 6 | AB39: 19 | AC39: 110 | AD39: 13 | AE39: 44 | AF39: 88 | AG39: 1 | AH39: 6499 | AI39: 0 | AJ39: 55 | AK39: 234 | AL39: 298 | AM39: 520 | AN39: 1439 | AO39: 1838 | AP39: 1418 | AQ39: 658 | AR39: 39 | AS39: 6499 | AT39: 6243 | AU39: 155 | AV39: 9 | AW39: 48 | AX39: 0 | AY39: 44
A40: Kaohsiung City | C40: 女 Female | D40: 6204 | E40: 5871 | F40: 192 | G40: 51 | H40: 69 | I40: 0 | J40: 21 | K40: 6204 | L40: 151 | M40: 247 | N40: 288 | O40: 380 | P40: 612 | Q40: 1178 | R40: 1386 | S40: 1111 | T40: 846 | U40: 5 | V40: 6204 | W40: 5563 | X40: 83 | Y40: 16 | Z40: 238 | AA40: 8 | AB40: 19 | AC40: 102 | AD40: 38 | AE40: 49 | AF40: 83 | AG40: 5 | AH40: 3605 | AI40: 0 | AJ40: 18 | AK40: 95 | AL40: 170 | AM40: 368 | AN40: 805 | AO40: 990 | AP40: 750 | AQ40: 395 | AR40: 14 | AS40: 3605 | AT40: 3396 | AU40: 110 | AV40: 39 | AW40: 44 | AX40: 0 | AY40: 16
C41: 其他 Other | D41: 0 | E41: 0 | F41: 0 | G41: 0 | H41: 0 | I41: 0 | J41: 0 | K41: 0 | L41: 0 | M41: 0 | N41: 0 | O41: 0 | P41: 0 | Q41: 0 | R41: 0 | S41: 0 | T41: 0 | U41: 0 | V41: 0 | W41: 0 | X41: 0 | Y41: 0 | Z41: 0 | AA41: 0 | AB41: 0 | AC41: 0 | AD41: 0 | AE41: 0 | AF41: 0 | AG41: 0 | AH41: 0 | AI41: 0 | AJ41: 0 | AK41: 0 | AL41: 0 | AM41: 0 | AN41: 0 | AO41: 0 | AP41: 0 | AQ41: 0 | AR41: 0 | AS41: 0 | AT41: 0 | AU41: 0 | AV41: 0 | AW41: 0 | AX41: 0 | AY41: 0
C42: 不詳Unknown | D42: 0 | E42: 0 | F42: 0 | G42: 0 | H42: 0 | I42: 0 | J42: 0 | K42: 0 | L42: 0 | M42: 0 | N42: 0 | O42: 0 | P42: 0 | Q42: 0 | R42: 0 | S42: 0 | T42: 0 | U42: 0 | V42: 0 | W42: 0 | X42: 0 | Y42: 0 | Z42: 0 | AA42: 0 | AB42: 0 | AC42: 0 | AD42: 0 | AE42: 0 | AF42: 0 | AG42: 0 | AH42: 3 | AI42: 0 | AJ42: 0 | AK42: 0 | AL42: 0 | AM42: 0 | AN42: 2 | AO42: 0 | AP42: 0 | AQ42: 0 | AR42: 1 | AS42: 3 | AT42: 2 | AU42: 0 | AV42: 0 | AW42: 0 | AX42: 0 | AY42: 1
B43: 宜蘭縣 | C43: 計 Total | D43: 1252 | E43: 1086 | F43: 123 | G43: 7 | H43: 8 | I43: 0 | J43: 28 | K43: 1252 | L43: 40 | M43: 62 | N43: 49 | O43: 68 | P43: 123 | Q43: 223 | R43: 276 | S43: 247 | T43: 163 | U43: 1 | V43: 1252 | W43: 1099 | X43: 23 | Y43: 3 | Z43: 41 | AA43: 4 | AB43: 5 | AC43: 29 | AD43: 7 | AE43: 15 | AF43: 23 | AG43: 3 | AH43: 1185 | AI43: 0 | AJ43: 2 | AK43: 45 | AL43: 61 | AM43: 97 | AN43: 267 | AO43: 293 | AP43: 244 | AQ43: 106 | AR43: 70 | AS43: 1185 | AT43: 1034 | AU43: 109 | AV43: 5 | AW43: 6 | AX43: 0 | AY43: 31
C44: 男 Male | D44: 433 | E44: 391 | F44: 30 | G44: 0 | H44: 0 | I44: 0 | J44: 12 | K44: 433 | L44: 22 | M44: 40 | N44: 19 | O44: 24 | P44: 28 | Q44: 59 | R44: 83 | S44: 103 | T44: 55 | U44: 0 | V44: 433 | W44: 375 | X44: 7 | Y44: 0 | Z44: 11 | AA44: 2 | AB44: 1 | AC44: 17 | AD44: 5 | AE44: 4 | AF44: 11 | AG44: 0 | AH44: 879 | AI44: 0 | AJ44: 2 | AK44: 35 | AL44: 50 | AM44: 75 | AN44: 194 | AO44: 229 | AP44: 179 | AQ44: 75 | AR44: 40 | AS44: 879 | AT44: 774 | AU44: 79 | AV44: 1 | AW44: 4 | AX44: 0 | AY44: 21
B45: Yilan County | C45: 女 Female | D45: 817 | E45: 694 | F45: 93 | G45: 7 | H45: 8 | I45: 0 | J45: 15 | K45: 817 | L45: 18 | M45: 21 | N45: 29 | O45: 44 | P45: 95 | Q45: 164 | R45: 193 | S45: 144 | T45: 108 | U45: 1 | V45: 817 | W45: 722 | X45: 16 | Y45: 3 | Z45: 30 | AA45: 2 | AB45: 4 | AC45: 12 | AD45: 2 | AE45: 11 | AF45: 12 | AG45: 3 | AH45: 305 | AI45: 0 | AJ45: 0 | AK45: 10 | AL45: 11 | AM45: 22 | AN45: 72 | AO45: 64 | AP45: 65 | AQ45: 31 | AR45: 30 | AS45: 305 | AT45: 259 | AU45: 30 | AV45: 4 | AW45: 2 | AX45: 0 | AY45: 10
C46: 其他 Other | D46: 0 | E46: 0 | F46: 0 | G46: 0 | H46: 0 | I46: 0 | J46: 0 | K46: 0 | L46: 0 | M46: 0 | N46: 0 | O46: 0 | P46: 0 | Q46: 0 | R46: 0 | S46: 0 | T46: 0 | U46: 0 | V46: 0 | W46: 0 | X46: 0 | Y46: 0 | Z46: 0 | AA46: 0 | AB46: 0 | AC46: 0 | AD46: 0 | AE46: 0 | AF46: 0 | AG46: 0 | AH46: 1 | AI46: 0 | AJ46: 0 | AK46: 0 | AL46: 0 | AM46: 0 | AN46: 1 | AO46: 0 | AP46: 0 | AQ46: 0 | AR46: 0 | AS46: 1 | AT46: 1 | AU46: 0 | AV46: 0 | AW46: 0 | AX46: 0 | AY46: 0
C47: 不詳Unknown | D47: 2 | E47: 1 | F47: 0 | G47: 0 | H47: 0 | I47: 0 | J47: 1 | K47: 2 | L47: 0 | M47: 1 | N47: 1 | O47: 0 | P47: 0 | Q47: 0 | R47: 0 | S47: 0 | T47: 0 | U47: 0 | V47: 2 | W47: 2 | X47: 0 | Y47: 0 | Z47: 0 | AA47: 0 | AB47: 0 | AC47: 0 | AD47: 0 | AE47: 0 | AF47: 0 | AG47: 0 | AH47: 0 | AI47: 0 | AJ47: 0 | AK47: 0 | AL47: 0 | AM47: 0 | AN47: 0 | AO47: 0 | AP47: 0 | AQ47: 0 | AR47: 0 | AS47: 0 | AT47: 0 | AU47: 0 | AV47: 0 | AW47: 0 | AX47: 0 | AY47: 0
B48: 新竹縣 | C48: 計 Total | D48: 1789 | E48: 1531 | F48: 220 | G48: 2 | H48: 27 | I48: 0 | J48: 9 | K48: 1789 | L48: 120 | M48: 123 | N48: 77 | O48: 96 | P48: 142 | Q48: 359 | R48: 383 | S48: 292 | T48: 197 | U48: 0 | V48: 1789 | W48: 1672 | X48: 18 | Y48: 3 | Z48: 28 | AA48: 1 | AB48: 7 | AC48: 24 | AD48: 1 | AE48: 12 | AF48: 17 | AG48: 6 | AH48: 1659 | AI48: 0 | AJ48: 11 | AK48: 64 | AL48: 78 | AM48: 174 | AN48: 401 | AO48: 469 | AP48: 286 | AQ48: 136 | AR48: 40 | AS48: 1659 | AT48: 1404 | AU48: 178 | AV48: 6 | AW48: 23 | AX48: 1 | AY48: 47
C49: 男 Male | D49: 703 | E49: 620 | F49: 80 | G49: 0 | H49: 1 | I49: 0 | J49: 2 | K49: 703 | L49: 71 | M49: 83 | N49: 36 | O49: 28 | P49: 44 | Q49: 97 | R49: 135 | S49: 129 | T49: 80 | U49: 0 | V49: 703 | W49: 653 | X49: 4 | Y49: 2 | Z49: 5 | AA49: 1 | AB49: 2 | AC49: 17 | AD49: 0 | AE49: 7 | AF49: 11 | AG49: 1 | AH49: 1196 | AI49: 0 | AJ49: 9 | AK49: 48 | AL49: 46 | AM49: 122 | AN49: 263 | AO49: 355 | AP49: 231 | AQ49: 93 | AR49: 29 | AS49: 1196 | AT49: 1023 | AU49: 125 | AV49: 1 | AW49: 14 | AX49: 1 | AY49: 32
B50: Hsinchu County | C50: 女 Female | D50: 1084 | E50: 909 | F50: 140 | G50: 2 | H50: 26 | I50: 0 | J50: 7 | K50: 1084 | L50: 49 | M50: 39 | N50: 40 | O50: 68 | P50: 98 | Q50: 262 | R50: 248 | S50: 163 | T50: 117 | U50: 0 | V50: 1084 | W50: 1017 | X50: 14 | Y50: 1 | Z50: 23 | AA50: 0 | AB50: 5 | AC50: 7 | AD50: 1 | AE50: 5 | AF50: 6 | AG50: 5 | AH50: 461 | AI50: 0 | AJ50: 2 | AK50: 15 | AL50: 32 | AM50: 52 | AN50: 138 | AO50: 114 | AP50: 55 | AQ50: 43 | AR50: 10 | AS50: 461 | AT50: 381 | AU50: 52 | AV50: 5 | AW50: 9 | AX50: 0 | AY50: 14
C51: 其他 Other | D51: 0 | E51: 0 | F51: 0 | G51: 0 | H51: 0 | I51: 0 | J51: 0 | K51: 0 | L51: 0 | M51: 0 | N51: 0 | O51: 0 | P51: 0 | Q51: 0 | R51: 0 | S51: 0 | T51: 0 | U51: 0 | V51: 0 | W51: 0 | X51: 0 | Y51: 0 | Z51: 0 | AA51: 0 | AB51: 0 | AC51: 0 | AD51: 0 | AE51: 0 | AF51: 0 | AG51: 0 | AH51: 1 | AI51: 0 | AJ51: 0 | AK51: 0 | AL51: 0 | AM51: 0 | AN51: 0 | AO51: 0 | AP51: 0 | AQ51: 0 | AR51: 1 | AS51: 1 | AT51: 0 | AU51: 0 | AV51: 0 | AW51: 0 | AX51: 0 | AY51: 1
C52: 不詳Unknown | D52: 2 | E52: 2 | F52: 0 | G52: 0 | H52: 0 | I52: 0 | J52: 0 | K52: 2 | L52: 0 | M52: 1 | N52: 1 | O52: 0 | P52: 0 | Q52: 0 | R52: 0 | S52: 0 | T52: 0 | U52: 0 | V52: 2 | W52: 2 | X52: 0 | Y52: 0 | Z52: 0 | AA52: 0 | AB52: 0 | AC52: 0 | AD52: 0 | AE52: 0 | AF52: 0 | AG52: 0 | AH52: 1 | AI52: 0 | AJ52: 0 | AK52: 1 | AL52: 0 | AM52: 0 | AN52: 0 | AO52: 0 | AP52: 0 | AQ52: 0 | AR52: 0 | AS52: 1 | AT52: 0 | AU52: 1 | AV52: 0 | AW52: 0 | AX52: 0 | AY52: 0
B53: 苗栗縣 | C53: 計 Total | D53: 1392 | E53: 1263 | F53: 95 | G53: 9 | H53: 15 | I53: 0 | J53: 10 | K53: 1392 | L53: 65 | M53: 107 | N53: 100 | O53: 72 | P53: 116 | Q53: 219 | R53: 295 | S53: 238 | T53: 178 | U53: 2 | V53: 1392 | W53: 1230 | X53: 24 | Y53: 2 | Z53: 46 | AA53: 3 | AB53: 13 | AC53: 34 | AD53: 2 | AE53: 18 | AF53: 17 | AG53: 3 | AH53: 1348 | AI53: 0 | AJ53: 3 | AK53: 27 | AL53: 50 | AM53: 139 | AN53: 327 | AO53: 397 | AP53: 259 | AQ53: 114 | AR53: 32 | AS53: 1348 | AT53: 1235 | AU53: 85 | AV53: 5 | AW53: 10 | AX53: 1 | AY53: 12
C54: 男 Male | D54: 523 | E54: 485 | F54: 34 | G54: 0 | H54: 0 | I54: 0 | J54: 4 | K54: 523 | L54: 37 | M54: 67 | N54: 38 | O54: 23 | P54: 37 | Q54: 56 | R54: 87 | S54: 101 | T54: 77 | U54: 0 | V54: 523 | W54: 455 | X54: 14 | Y54: 1 | Z54: 14 | AA54: 1 | AB54: 5 | AC54: 19 | AD54: 0 | AE54: 8 | AF54: 6 | AG54: 0 | AH54: 1023 | AI54: 0 | AJ54: 1 | AK54: 18 | AL54: 41 | AM54: 101 | AN54: 249 | AO54: 309 | AP54: 198 | AQ54: 80 | AR54: 26 | AS54: 1023 | AT54: 940 | AU54: 67 | AV54: 1 | AW54: 4 | AX54: 1 | AY54: 10
B55: Miaoli County | C55: 女 Female | D55: 869 | E55: 778 | F55: 61 | G55: 9 | H55: 15 | I55: 0 | J55: 6 | K55: 869 | L55: 28 | M55: 40 | N55: 62 | O55: 49 | P55: 79 | Q55: 163 | R55: 208 | S55: 137 | T55: 101 | U55: 2 | V55: 869 | W55: 775 | X55: 10 | Y55: 1 | Z55: 32 | AA55: 2 | AB55: 8 | AC55: 15 | AD55: 2 | AE55: 10 | AF55: 11 | AG55: 3 | AH55: 325 | AI55: 0 | AJ55: 2 | AK55: 9 | AL55: 9 | AM55: 38 | AN55: 78 | AO55: 88 | AP55: 61 | AQ55: 34 | AR55: 6 | AS55: 325 | AT55: 295 | AU55: 18 | AV55: 4 | AW55: 6 | AX55: 0 | AY55: 2
C56: 其他 Other | D56: 0 | E56: 0 | F56: 0 | G56: 0 | H56: 0 | I56: 0 | J56: 0 | K56: 0 | L56: 0 | M56: 0 | N56: 0 | O56: 0 | P56: 0 | Q56: 0 | R56: 0 | S56: 0 | T56: 0 | U56: 0 | V56: 0 | W56: 0 | X56: 0 | Y56: 0 | Z56: 0 | AA56: 0 | AB56: 0 | AC56: 0 | AD56: 0 | AE56: 0 | AF56: 0 | AG56: 0 | AH56: 0 | AI56: 0 | AJ56: 0 | AK56: 0 | AL56: 0 | AM56: 0 | AN56: 0 | AO56: 0 | AP56: 0 | AQ56: 0 | AR56: 0 | AS56: 0 | AT56: 0 | AU56: 0 | AV56: 0 | AW56: 0 | AX56: 0 | AY56: 0
C57: 不詳Unknown | D57: 0 | E57: 0 | F57: 0 | G57: 0 | H57: 0 | I57: 0 | J57: 0 | K57: 0 | L57: 0 | M57: 0 | N57: 0 | O57: 0 | P57: 0 | Q57: 0 | R57: 0 | S57: 0 | T57: 0 | U57: 0 | V57: 0 | W57: 0 | X57: 0 | Y57: 0 | Z57: 0 | AA57: 0 | AB57: 0 | AC57: 0 | AD57: 0 | AE57: 0 | AF57: 0 | AG57: 0 | AH57: 0 | AI57: 0 | AJ57: 0 | AK57: 0 | AL57: 0 | AM57: 0 | AN57: 0 | AO57: 0 | AP57: 0 | AQ57: 0 | AR57: 0 | AS57: 0 | AT57: 0 | AU57: 0 | AV57: 0 | AW57: 0 | AX57: 0 | AY57: 0
B58: 彰化縣 | C58: 計 Total | D58: 4382 | E58: 4196 | F58: 55 | G58: 10 | H58: 55 | I58: 1 | J58: 65 | K58: 4382 | L58: 196 | M58: 246 | N58: 227 | O58: 238 | P58: 340 | Q58: 729 | R58: 917 | S58: 798 | T58: 683 | U58: 8 | V58: 4382 | W58: 3856 | X58: 110 | Y58: 14 | Z58: 129 | AA58: 5 | AB58: 34 | AC58: 86 | AD58: 22 | AE58: 47 | AF58: 60 | AG58: 19 | AH58: 4141 | AI58: 1 | AJ58: 17 | AK58: 125 | AL58: 161 | AM58: 336 | AN58: 874 | AO58: 1125 | AP58: 899 | AQ58: 463 | AR58: 140 | AS58: 4141 | AT58: 3981 | AU58: 46 | AV58: 18 | AW58: 56 | AX58: 2 | AY58: 38
C59: 男 Male | D59: 1818 | E59: 1772 | F59: 15 | G59: 0 | H59: 11 | I59: 0 | J59: 20 | K59: 1818 | L59: 105 | M59: 146 | N59: 100 | O59: 95 | P59: 123 | Q59: 258 | R59: 351 | S59: 352 | T59: 285 | U59: 3 | V59: 1818 | W59: 1559 | X59: 53 | Y59: 10 | Z59: 53 | AA59: 3 | AB59: 17 | AC59: 53 | AD59: 10 | AE59: 20 | AF59: 36 | AG59: 4 | AH59: 2840 | AI59: 1 | AJ59: 10 | AK59: 90 | AL59: 106 | AM59: 235 | AN59: 600 | AO59: 780 | AP59: 632 | AQ59: 294 | AR59: 92 | AS59: 2840 | AT59: 2752 | AU59: 23 | AV59: 3 | AW59: 36 | AX59: 2 | AY59: 24
B60: Changhua County | C60: 女 Female | D60: 2555 | E60: 2418 | F60: 40 | G60: 10 | H60: 44 | I60: 1 | J60: 42 | K60: 2555 | L60: 87 | M60: 98 | N60: 125 | O60: 143 | P60: 217 | Q60: 471 | R60: 566 | S60: 445 | T60: 398 | U60: 5 | V60: 2555 | W60: 2290 | X60: 57 | Y60: 4 | Z60: 76 | AA60: 2 | AB60: 17 | AC60: 33 | AD60: 12 | AE60: 27 | AF60: 24 | AG60: 13 | AH60: 1299 | AI60: 0 | AJ60: 7 | AK60: 35 | AL60: 55 | AM60: 101 | AN60: 273 | AO60: 345 | AP60: 267 | AQ60: 169 | AR60: 47 | AS60: 1299 | AT60: 1227 | AU60: 23 | AV60: 15 | AW60: 20 | AX60: 0 | AY60: 14
C61: 其他 Other | D61: 1 | E61: 1 | F61: 0 | G61: 0 | H61: 0 | I61: 0 | J61: 0 | K61: 1 | L61: 0 | M61: 0 | N61: 0 | O61: 0 | P61: 0 | Q61: 0 | R61: 0 | S61: 1 | T61: 0 | U61: 0 | V61: 1 | W61: 1 | X61: 0 | Y61: 0 | Z61: 0 | AA61: 0 | AB61: 0 | AC61: 0 | AD61: 0 | AE61: 0 | AF61: 0 | AG61: 0 | AH61: 1 | AI61: 0 | AJ61: 0 | AK61: 0 | AL61: 0 | AM61: 0 | AN61: 1 | AO61: 0 | AP61: 0 | AQ61: 0 | AR61: 0 | AS61: 1 | AT61: 1 | AU61: 0 | AV61: 0 | AW61: 0 | AX61: 0 | AY61: 0
C62: 不詳Unknown | D62: 8 | E62: 5 | F62: 0 | G62: 0 | H62: 0 | I62: 0 | J62: 3 | K62: 8 | L62: 4 | M62: 2 | N62: 2 | O62: 0 | P62: 0 | Q62: 0 | R62: 0 | S62: 0 | T62: 0 | U62: 0 | V62: 8 | W62: 6 | X62: 0 | Y62: 0 | Z62: 0 | AA62: 0 | AB62: 0 | AC62: 0 | AD62: 0 | AE62: 0 | AF62: 0 | AG62: 2 | AH62: 1 | AI62: 0 | AJ62: 0 | AK62: 0 | AL62: 0 | AM62: 0 | AN62: 0 | AO62: 0 | AP62: 0 | AQ62: 0 | AR62: 1 | AS62: 1 | AT62: 1 | AU62: 0 | AV62: 0 | AW62: 0 | AX62: 0 | AY62: 0
B63: 南投縣 | C63: 計 Total | D63: 1723 | E63: 1446 | F63: 245 | G63: 10 | H63: 7 | I63: 0 | J63: 15 | K63: 1723 | L63: 109 | M63: 132 | N63: 91 | O63: 90 | P63: 118 | Q63: 274 | R63: 332 | S63: 320 | T63: 254 | U63: 3 | V63: 1723 | W63: 1523 | X63: 38 | Y63: 7 | Z63: 43 | AA63: 3 | AB63: 16 | AC63: 40 | AD63: 4 | AE63: 19 | AF63: 27 | AG63: 3 | AH63: 1622 | AI63: 0 | AJ63: 8 | AK63: 33 | AL63: 79 | AM63: 150 | AN63: 365 | AO63: 438 | AP63: 351 | AQ63: 178 | AR63: 20 | AS63: 1622 | AT63: 1360 | AU63: 228 | AV63: 14 | AW63: 11 | AX63: 0 | AY63: 9
C64: 男 Male | D64: 683 | E64: 604 | F64: 73 | G64: 0 | H64: 0 | I64: 0 | J64: 6 | K64: 683 | L64: 59 | M64: 82 | N64: 30 | O64: 31 | P64: 36 | Q64: 95 | R64: 119 | S64: 130 | T64: 100 | U64: 1 | V64: 683 | W64: 589 | X64: 17 | Y64: 4 | Z64: 18 | AA64: 2 | AB64: 7 | AC64: 20 | AD64: 2 | AE64: 11 | AF64: 12 | AG64: 1 | AH64: 1133 | AI64: 0 | AJ64: 8 | AK64: 25 | AL64: 54 | AM64: 101 | AN64: 254 | AO64: 307 | AP64: 249 | AQ64: 118 | AR64: 17 | AS64: 1133 | AT64: 957 | AU64: 162 | AV64: 1 | AW64: 7 | AX64: 0 | AY64: 6
B65: Nantou County | C65: 女 Female | D65: 1040 | E65: 842 | F65: 172 | G65: 10 | H65: 7 | I65: 0 | J65: 9 | K65: 1040 | L65: 50 | M65: 50 | N65: 61 | O65: 59 | P65: 82 | Q65: 179 | R65: 213 | S65: 190 | T65: 154 | U65: 2 | V65: 1040 | W65: 934 | X65: 21 | Y65: 3 | Z65: 25 | AA65: 1 | AB65: 9 | AC65: 20 | AD65: 2 | AE65: 8 | AF65: 15 | AG65: 2 | AH65: 489 | AI65: 0 | AJ65: 0 | AK65: 8 | AL65: 25 | AM65: 49 | AN65: 111 | AO65: 131 | AP65: 102 | AQ65: 60 | AR65: 3 | AS65: 489 | AT65: 403 | AU65: 66 | AV65: 13 | AW65: 4 | AX65: 0 | AY65: 3
C66: 其他 Other | D66: 0 | E66: 0 | F66: 0 | G66: 0 | H66: 0 | I66: 0 | J66: 0 | K66: 0 | L66: 0 | M66: 0 | N66: 0 | O66: 0 | P66: 0 | Q66: 0 | R66: 0 | S66: 0 | T66: 0 | U66: 0 | V66: 0 | W66: 0 | X66: 0 | Y66: 0 | Z66: 0 | AA66: 0 | AB66: 0 | AC66: 0 | AD66: 0 | AE66: 0 | AF66: 0 | AG66: 0 | AH66: 0 | AI66: 0 | AJ66: 0 | AK66: 0 | AL66: 0 | AM66: 0 | AN66: 0 | AO66: 0 | AP66: 0 | AQ66: 0 | AR66: 0 | AS66: 0 | AT66: 0 | AU66: 0 | AV66: 0 | AW66: 0 | AX66: 0 | AY66: 0
C67: 不詳Unknown | D67: 0 | E67: 0 | F67: 0 | G67: 0 | H67: 0 | I67: 0 | J67: 0 | K67: 0 | L67: 0 | M67: 0 | N67: 0 | O67: 0 | P67: 0 | Q67: 0 | R67: 0 | S67: 0 | T67: 0 | U67: 0 | V67: 0 | W67: 0 | X67: 0 | Y67: 0 | Z67: 0 | AA67: 0 | AB67: 0 | AC67: 0 | AD67: 0 | AE67: 0 | AF67: 0 | AG67: 0 | AH67: 0 | AI67: 0 | AJ67: 0 | AK67: 0 | AL67: 0 | AM67: 0 | AN67: 0 | AO67: 0 | AP67: 0 | AQ67: 0 | AR67: 0 | AS67: 0 | AT67: 0 | AU67: 0 | AV67: 0 | AW67: 0 | AX67: 0 | AY67: 0
B68: 雲林縣 | C68: 計 Total | D68: 2195 | E68: 2133 | F68: 27 | G68: 5 | H68: 21 | I68: 0 | J68: 9 | K68: 2195 | L68: 83 | M68: 81 | N68: 91 | O68: 134 | P68: 198 | Q68: 391 | R68: 444 | S68: 430 | T68: 341 | U68: 2 | V68: 2195 | W68: 1927 | X68: 45 | Y68: 9 | Z68: 65 | AA68: 8 | AB68: 18 | AC68: 56 | AD68: 13 | AE68: 19 | AF68: 33 | AG68: 2 | AH68: 2058 | AI68: 0 | AJ68: 7 | AK68: 43 | AL68: 92 | AM68: 194 | AN68: 473 | AO68: 517 | AP68: 474 | AQ68: 223 | AR68: 35 | AS68: 2058 | AT68: 2012 | AU68: 18 | AV68: 6 | AW68: 17 | AX68: 0 | AY68: 5
C69: 男 Male | D69: 844 | E69: 830 | F69: 8 | G69: 0 | H69: 3 | I69: 0 | J69: 3 | K69: 844 | L69: 50 | M69: 47 | N69: 44 | O69: 52 | P69: 60 | Q69: 139 | R69: 138 | S69: 186 | T69: 127 | U69: 1 | V69: 844 | W69: 731 | X69: 13 | Y69: 6 | Z69: 17 | AA69: 6 | AB69: 10 | AC69: 26 | AD69: 4 | AE69: 10 | AF69: 19 | AG69: 2 | AH69: 1478 | AI69: 0 | AJ69: 5 | AK69: 30 | AL69: 61 | AM69: 130 | AN69: 343 | AO69: 372 | AP69: 356 | AQ69: 159 | AR69: 22 | AS69: 1478 | AT69: 1460 | AU69: 7 | AV69: 0 | AW69: 8 | AX69: 0 | AY69: 3
B70: Yunlin County | C70: 女 Female | D70: 1351 | E70: 1303 | F70: 19 | G70: 5 | H70: 18 | I70: 0 | J70: 6 | K70: 1351 | L70: 33 | M70: 34 | N70: 47 | O70: 82 | P70: 138 | Q70: 252 | R70: 306 | S70: 244 | T70: 214 | U70: 1 | V70: 1351 | W70: 1196 | X70: 32 | Y70: 3 | Z70: 48 | AA70: 2 | AB70: 8 | AC70: 30 | AD70: 9 | AE70: 9 | AF70: 14 | AG70: 0 | AH70: 580 | AI70: 0 | AJ70: 2 | AK70: 13 | AL70: 31 | AM70: 64 | AN70: 130 | AO70: 145 | AP70: 118 | AQ70: 64 | AR70: 13 | AS70: 580 | AT70: 552 | AU70: 11 | AV70: 6 | AW70: 9 | AX70: 0 | AY70: 2
C71: 其他 Other | D71: 0 | E71: 0 | F71: 0 | G71: 0 | H71: 0 | I71: 0 | J71: 0 | K71: 0 | L71: 0 | M71: 0 | N71: 0 | O71: 0 | P71: 0 | Q71: 0 | R71: 0 | S71: 0 | T71: 0 | U71: 0 | V71: 0 | W71: 0 | X71: 0 | Y71: 0 | Z71: 0 | AA71: 0 | AB71: 0 | AC71: 0 | AD71: 0 | AE71: 0 | AF71: 0 | AG71: 0 | AH71: 0 | AI71: 0 | AJ71: 0 | AK71: 0 | AL71: 0 | AM71: 0 | AN71: 0 | AO71: 0 | AP71: 0 | AQ71: 0 | AR71: 0 | AS71: 0 | AT71: 0 | AU71: 0 | AV71: 0 | AW71: 0 | AX71: 0 | AY71: 0
C72: 不詳Unknown | D72: 0 | E72: 0 | F72: 0 | G72: 0 | H72: 0 | I72: 0 | J72: 0 | K72: 0 | L72: 0 | M72: 0 | N72: 0 | O72: 0 | P72: 0 | Q72: 0 | R72: 0 | S72: 0 | T72: 0 | U72: 0 | V72: 0 | W72: 0 | X72: 0 | Y72: 0 | Z72: 0 | AA72: 0 | AB72: 0 | AC72: 0 | AD72: 0 | AE72: 0 | AF72: 0 | AG72: 0 | AH72: 0 | AI72: 0 | AJ72: 0 | AK72: 0 | AL72: 0 | AM72: 0 | AN72: 0 | AO72: 0 | AP72: 0 | AQ72: 0 | AR72: 0 | AS72: 0 | AT72: 0 | AU72: 0 | AV72: 0 | AW72: 0 | AX72: 0 | AY72: 0
B73: 嘉義縣 | C73: 計 Total | D73: 1331 | E73: 1260 | F73: 28 | G73: 13 | H73: 19 | I73: 0 | J73: 11 | K73: 1331 | L73: 67 | M73: 65 | N73: 56 | O73: 60 | P73: 89 | Q73: 214 | R73: 247 | S73: 287 | T73: 245 | U73: 1 | V73: 1331 | W73: 1143 | X73: 42 | Y73: 6 | Z73: 35 | AA73: 1 | AB73: 10 | AC73: 36 | AD73: 10 | AE73: 16 | AF73: 31 | AG73: 1 | AH73: 1246 | AI73: 0 | AJ73: 3 | AK73: 26 | AL73: 51 | AM73: 90 | AN73: 262 | AO73: 314 | AP73: 312 | AQ73: 175 | AR73: 13 | AS73: 1246 | AT73: 1207 | AU73: 16 | AV73: 6 | AW73: 13 | AX73: 0 | AY73: 4
C74: 男 Male | D74: 518 | E74: 503 | F74: 8 | G74: 0 | H74: 1 | I74: 0 | J74: 6 | K74: 518 | L74: 31 | M74: 38 | N74: 24 | O74: 28 | P74: 32 | Q74: 71 | R74: 84 | S74: 109 | T74: 101 | U74: 0 | V74: 518 | W74: 432 | X74: 24 | Y74: 1 | Z74: 11 | AA74: 1 | AB74: 7 | AC74: 14 | AD74: 4 | AE74: 7 | AF74: 16 | AG74: 1 | AH74: 906 | AI74: 0 | AJ74: 2 | AK74: 21 | AL74: 35 | AM74: 57 | AN74: 174 | AO74: 242 | AP74: 238 | AQ74: 126 | AR74: 11 | AS74: 906 | AT74: 888 | AU74: 9 | AV74: 0 | AW74: 5 | AX74: 0 | AY74: 4
B75: Chiayi County | C75: 女 Female | D75: 811 | E75: 755 | F75: 20 | G75: 13 | H75: 18 | I75: 0 | J75: 5 | K75: 811 | L75: 35 | M75: 27 | N75: 31 | O75: 32 | P75: 57 | Q75: 143 | R75: 163 | S75: 178 | T75: 144 | U75: 1 | V75: 811 | W75: 709 | X75: 18 | Y75: 5 | Z75: 24 | AA75: 0 | AB75: 3 | AC75: 22 | AD75: 6 | AE75: 9 | AF75: 15 | AG75: 0 | AH75: 339 | AI75: 0 | AJ75: 1 | AK75: 5 | AL75: 16 | AM75: 33 | AN75: 88 | AO75: 71 | AP75: 74 | AQ75: 49 | AR75: 2 | AS75: 339 | AT75: 318 | AU75: 7 | AV75: 6 | AW75: 8 | AX75: 0 | AY75: 0
C76: 其他 Other | D76: 0 | E76: 0 | F76: 0 | G76: 0 | H76: 0 | I76: 0 | J76: 0 | K76: 0 | L76: 0 | M76: 0 | N76: 0 | O76: 0 | P76: 0 | Q76: 0 | R76: 0 | S76: 0 | T76: 0 | U76: 0 | V76: 0 | W76: 0 | X76: 0 | Y76: 0 | Z76: 0 | AA76: 0 | AB76: 0 | AC76: 0 | AD76: 0 | AE76: 0 | AF76: 0 | AG76: 0 | AH76: 0 | AI76: 0 | AJ76: 0 | AK76: 0 | AL76: 0 | AM76: 0 | AN76: 0 | AO76: 0 | AP76: 0 | AQ76: 0 | AR76: 0 | AS76: 0 | AT76: 0 | AU76: 0 | AV76: 0 | AW76: 0 | AX76: 0 | AY76: 0
C77: 不詳Unknown | D77: 2 | E77: 2 | F77: 0 | G77: 0 | H77: 0 | I77: 0 | J77: 0 | K77: 2 | L77: 1 | M77: 0 | N77: 1 | O77: 0 | P77: 0 | Q77: 0 | R77: 0 | S77: 0 | T77: 0 | U77: 0 | V77: 2 | W77: 2 | X77: 0 | Y77: 0 | Z77: 0 | AA77: 0 | AB77: 0 | AC77: 0 | AD77: 0 | AE77: 0 | AF77: 0 | AG77: 0 | AH77: 1 | AI77: 0 | AJ77: 0 | AK77: 0 | AL77: 0 | AM77: 0 | AN77: 0 | AO77: 1 | AP77: 0 | AQ77: 0 | AR77: 0 | AS77: 1 | AT77: 1 | AU77: 0 | AV77: 0 | AW77: 0 | AX77: 0 | AY77: 0
B78: 屏東縣 | C78: 計 Total | D78: 2415 | E78: 2091 | F78: 233 | G78: 21 | H78: 32 | I78: 0 | J78: 38 | K78: 2415 | L78: 69 | M78: 146 | N78: 139 | O78: 158 | P78: 211 | Q78: 443 | R78: 471 | S78: 431 | T78: 346 | U78: 1 | V78: 2415 | W78: 2168 | X78: 40 | Y78: 5 | Z78: 61 | AA78: 6 | AB78: 6 | AC78: 58 | AD78: 15 | AE78: 19 | AF78: 35 | AG78: 2 | AH78: 2263 | AI78: 0 | AJ78: 8 | AK78: 47 | AL78: 103 | AM78: 217 | AN78: 501 | AO78: 606 | AP78: 508 | AQ78: 249 | AR78: 24 | AS78: 2263 | AT78: 2036 | AU78: 182 | AV78: 10 | AW78: 15 | AX78: 0 | AY78: 20
C79: 男 Male | D79: 854 | E79: 769 | F79: 58 | G79: 1 | H79: 6 | I79: 0 | J79: 20 | K79: 854 | L79: 35 | M79: 82 | N79: 62 | O79: 55 | P79: 63 | Q79: 116 | R79: 138 | S79: 167 | T79: 136 | U79: 0 | V79: 854 | W79: 742 | X79: 17 | Y79: 2 | Z79: 21 | AA79: 4 | AB79: 2 | AC79: 25 | AD79: 7 | AE79: 13 | AF79: 21 | AG79: 0 | AH79: 1618 | AI79: 0 | AJ79: 5 | AK79: 40 | AL79: 66 | AM79: 145 | AN79: 361 | AO79: 441 | AP79: 361 | AQ79: 183 | AR79: 16 | AS79: 1618 | AT79: 1476 | AU79: 125 | AV79: 2 | AW79: 5 | AX79: 0 | AY79: 10
B80: Pingtung County | C80: 女 Female | D80: 1558 | E80: 1321 | F80: 173 | G80: 20 | H80: 26 | I80: 0 | J80: 18 | K80: 1558 | L80: 31 | M80: 64 | N80: 77 | O80: 103 | P80: 148 | Q80: 327 | R80: 333 | S80: 264 | T80: 210 | U80: 1 | V80: 1558 | W80: 1423 | X80: 23 | Y80: 3 | Z80: 40 | AA80: 2 | AB80: 4 | AC80: 33 | AD80: 8 | AE80: 6 | AF80: 14 | AG80: 2 | AH80: 644 | AI80: 0 | AJ80: 3 | AK80: 7 | AL80: 37 | AM80: 72 | AN80: 140 | AO80: 165 | AP80: 147 | AQ80: 66 | AR80: 7 | AS80: 644 | AT80: 560 | AU80: 57 | AV80: 8 | AW80: 10 | AX80: 0 | AY80: 9
C81: 其他 Other | D81: 0 | E81: 0 | F81: 0 | G81: 0 | H81: 0 | I81: 0 | J81: 0 | K81: 0 | L81: 0 | M81: 0 | N81: 0 | O81: 0 | P81: 0 | Q81: 0 | R81: 0 | S81: 0 | T81: 0 | U81: 0 | V81: 0 | W81: 0 | X81: 0 | Y81: 0 | Z81: 0 | AA81: 0 | AB81: 0 | AC81: 0 | AD81: 0 | AE81: 0 | AF81: 0 | AG81: 0 | AH81: 0 | AI81: 0 | AJ81: 0 | AK81: 0 | AL81: 0 | AM81: 0 | AN81: 0 | AO81: 0 | AP81: 0 | AQ81: 0 | AR81: 0 | AS81: 0 | AT81: 0 | AU81: 0 | AV81: 0 | AW81: 0 | AX81: 0 | AY81: 0
C82: 不詳Unknown | D82: 3 | E82: 1 | F82: 2 | G82: 0 | H82: 0 | I82: 0 | J82: 0 | K82: 3 | L82: 3 | M82: 0 | N82: 0 | O82: 0 | P82: 0 | Q82: 0 | R82: 0 | S82: 0 | T82: 0 | U82: 0 | V82: 3 | W82: 3 | X82: 0 | Y82: 0 | Z82: 0 | AA82: 0 | AB82: 0 | AC82: 0 | AD82: 0 | AE82: 0 | AF82: 0 | AG82: 0 | AH82: 1 | AI82: 0 | AJ82: 0 | AK82: 0 | AL82: 0 | AM82: 0 | AN82: 0 | AO82: 0 | AP82: 0 | AQ82: 0 | AR82: 1 | AS82: 1 | AT82: 0 | AU82: 0 | AV82: 0 | AW82: 0 | AX82: 0 | AY82: 1
B83: 臺東縣 | C83: 計 Total | D83: 833 | E83: 387 | F83: 440 | G83: 1 | H83: 5 | I83: 0 | J83: 0 | K83: 833 | L83: 24 | M83: 56 | N83: 44 | O83: 43 | P83: 78 | Q83: 150 | R83: 142 | S83: 179 | T83: 116 | U83: 1 | V83: 833 | W83: 714 | X83: 26 | Y83: 1 | Z83: 22 | AA83: 1 | AB83: 5 | AC83: 30 | AD83: 6 | AE83: 18 | AF83: 10 | AG83: 0 | AH83: 788 | AI83: 0 | AJ83: 6 | AK83: 17 | AL83: 43 | AM83: 87 | AN83: 163 | AO83: 187 | AP83: 186 | AQ83: 75 | AR83: 24 | AS83: 788 | AT83: 374 | AU83: 395 | AV83: 1 | AW83: 2 | AX83: 0 | AY83: 16
C84: 男 Male | D84: 302 | E84: 162 | F84: 140 | G84: 0 | H84: 0 | I84: 0 | J84: 0 | K84: 302 | L84: 12 | M84: 31 | N84: 22 | O84: 12 | P84: 24 | Q84: 42 | R84: 47 | S84: 77 | T84: 35 | U84: 0 | V84: 302 | W84: 255 | X84: 11 | Y84: 0 | Z84: 5 | AA84: 1 | AB84: 2 | AC84: 9 | AD84: 4 | AE84: 11 | AF84: 4 | AG84: 0 | AH84: 586 | AI84: 0 | AJ84: 5 | AK84: 16 | AL84: 32 | AM84: 62 | AN84: 124 | AO84: 139 | AP84: 139 | AQ84: 51 | AR84: 18 | AS84: 586 | AT84: 281 | AU84: 293 | AV84: 0 | AW84: 0 | AX84: 0 | AY84: 12
B85: Taitung County | C85: 女 Female | D85: 531 | E85: 225 | F85: 300 | G85: 1 | H85: 5 | I85: 0 | J85: 0 | K85: 531 | L85: 12 | M85: 25 | N85: 22 | O85: 31 | P85: 54 | Q85: 108 | R85: 95 | S85: 102 | T85: 81 | U85: 1 | V85: 531 | W85: 459 | X85: 15 | Y85: 1 | Z85: 17 | AA85: 0 | AB85: 3 | AC85: 21 | AD85: 2 | AE85: 7 | AF85: 6 | AG85: 0 | AH85: 202 | AI85: 0 | AJ85: 1 | AK85: 1 | AL85: 11 | AM85: 25 | AN85: 39 | AO85: 48 | AP85: 47 | AQ85: 24 | AR85: 6 | AS85: 202 | AT85: 93 | AU85: 102 | AV85: 1 | AW85: 2 | AX85: 0 | AY85: 4
C86: 其他 Other | D86: 0 | E86: 0 | F86: 0 | G86: 0 | H86: 0 | I86: 0 | J86: 0 | K86: 0 | L86: 0 | M86: 0 | N86: 0 | O86: 0 | P86: 0 | Q86: 0 | R86: 0 | S86: 0 | T86: 0 | U86: 0 | V86: 0 | W86: 0 | X86: 0 | Y86: 0 | Z86: 0 | AA86: 0 | AB86: 0 | AC86: 0 | AD86: 0 | AE86: 0 | AF86: 0 | AG86: 0 | AH86: 0 | AI86: 0 | AJ86: 0 | AK86: 0 | AL86: 0 | AM86: 0 | AN86: 0 | AO86: 0 | AP86: 0 | AQ86: 0 | AR86: 0 | AS86: 0 | AT86: 0 | AU86: 0 | AV86: 0 | AW86: 0 | AX86: 0 | AY86: 0
C87: 不詳Unknown | D87: 0 | E87: 0 | F87: 0 | G87: 0 | H87: 0 | I87: 0 | J87: 0 | K87: 0 | L87: 0 | M87: 0 | N87: 0 | O87: 0 | P87: 0 | Q87: 0 | R87: 0 | S87: 0 | T87: 0 | U87: 0 | V87: 0 | W87: 0 | X87: 0 | Y87: 0 | Z87: 0 | AA87: 0 | AB87: 0 | AC87: 0 | AD87: 0 | AE87: 0 | AF87: 0 | AG87: 0 | AH87: 0 | AI87: 0 | AJ87: 0 | AK87: 0 | AL87: 0 | AM87: 0 | AN87: 0 | AO87: 0 | AP87: 0 | AQ87: 0 | AR87: 0 | AS87: 0 | AT87: 0 | AU87: 0 | AV87: 0 | AW87: 0 | AX87: 0 | AY87: 0
B88: 花蓮縣 | C88: 計 Total | D88: 1561 | E88: 804 | F88: 739 | G88: 5 | H88: 5 | I88: 0 | J88: 8 | K88: 1561 | L88: 129 | M88: 146 | N88: 125 | O88: 93 | P88: 162 | Q88: 242 | R88: 277 | S88: 221 | T88: 164 | U88: 2 | V88: 1561 | W88: 1372 | X88: 36 | Y88: 7 | Z88: 38 | AA88: 1 | AB88: 13 | AC88: 36 | AD88: 7 | AE88: 19 | AF88: 27 | AG88: 5 | AH88: 1545 | AI88: 2 | AJ88: 11 | AK88: 27 | AL88: 77 | AM88: 185 | AN88: 347 | AO88: 430 | AP88: 303 | AQ88: 108 | AR88: 55 | AS88: 1545 | AT88: 837 | AU88: 598 | AV88: 7 | AW88: 4 | AX88: 0 | AY88: 99
C89: 男 Male | D89: 575 | E89: 287 | F89: 283 | G89: 1 | H89: 2 | I89: 0 | J89: 2 | K89: 575 | L89: 69 | M89: 97 | N89: 63 | O89: 24 | P89: 36 | Q89: 73 | R89: 75 | S89: 80 | T89: 58 | U89: 0 | V89: 575 | W89: 501 | X89: 11 | Y89: 2 | Z89: 11 | AA89: 0 | AB89: 6 | AC89: 16 | AD89: 1 | AE89: 9 | AF89: 18 | AG89: 0 | AH89: 1073 | AI89: 2 | AJ89: 10 | AK89: 18 | AL89: 52 | AM89: 128 | AN89: 234 | AO89: 295 | AP89: 217 | AQ89: 75 | AR89: 42 | AS89: 1073 | AT89: 589 | AU89: 402 | AV89: 2 | AW89: 4 | AX89: 0 | AY89: 76
B90: Hualien County | C90: 女 Female | D90: 986 | E90: 517 | F90: 456 | G90: 4 | H90: 3 | I90: 0 | J90: 6 | K90: 986 | L90: 60 | M90: 49 | N90: 62 | O90: 69 | P90: 126 | Q90: 169 | R90: 202 | S90: 141 | T90: 106 | U90: 2 | V90: 986 | W90: 871 | X90: 25 | Y90: 5 | Z90: 27 | AA90: 1 | AB90: 7 | AC90: 20 | AD90: 6 | AE90: 10 | AF90: 9 | AG90: 5 | AH90: 471 | AI90: 0 | AJ90: 1 | AK90: 9 | AL90: 25 | AM90: 57 | AN90: 113 | AO90: 134 | AP90: 86 | AQ90: 33 | AR90: 13 | AS90: 471 | AT90: 247 | AU90: 196 | AV90: 5 | AW90: 0 | AX90: 0 | AY90: 23
C91: 其他 Other | D91: 0 | E91: 0 | F91: 0 | G91: 0 | H91: 0 | I91: 0 | J91: 0 | K91: 0 | L91: 0 | M91: 0 | N91: 0 | O91: 0 | P91: 0 | Q91: 0 | R91: 0 | S91: 0 | T91: 0 | U91: 0 | V91: 0 | W91: 0 | X91: 0 | Y91: 0 | Z91: 0 | AA91: 0 | AB91: 0 | AC91: 0 | AD91: 0 | AE91: 0 | AF91: 0 | AG91: 0 | AH91: 1 | AI91: 0 | AJ91: 0 | AK91: 0 | AL91: 0 | AM91: 0 | AN91: 0 | AO91: 1 | AP91: 0 | AQ91: 0 | AR91: 0 | AS91: 1 | AT91: 1 | AU91: 0 | AV91: 0 | AW91: 0 | AX91: 0 | AY91: 0
C92: 不詳Unknown | D92: 0 | E92: 0 | F92: 0 | G92: 0 | H92: 0 | I92: 0 | J92: 0 | K92: 0 | L92: 0 | M92: 0 | N92: 0 | O92: 0 | P92: 0 | Q92: 0 | R92: 0 | S92: 0 | T92: 0 | U92: 0 | V92: 0 | W92: 0 | X92: 0 | Y92: 0 | Z92: 0 | AA92: 0 | AB92: 0 | AC92: 0 | AD92: 0 | AE92: 0 | AF92: 0 | AG92: 0 | AH92: 0 | AI92: 0 | AJ92: 0 | AK92: 0 | AL92: 0 | AM92: 0 | AN92: 0 | AO92: 0 | AP92: 0 | AQ92: 0 | AR92: 0 | AS92: 0 | AT92: 0 | AU92: 0 | AV92: 0 | AW92: 0 | AX92: 0 | AY92: 0
A93: Penghu County | B93: 澎湖縣 | C93: 計 Total | D93: 226 | E93: 220 | F93: 1 | G93: 0 | H93: 3 | I93: 0 | J93: 2 | K93: 226 | L93: 0 | M93: 8 | N93: 4 | O93: 16 | P93: 13 | Q93: 42 | R93: 50 | S93: 57 | T93: 35 | U93: 1 | V93: 226 | W93: 197 | X93: 7 | Y93: 2 | Z93: 5 | AA93: 2 | AB93: 3 | AC93: 9 | AD93: 0 | AE93: 0 | AF93: 1 | AG93: 0 | AH93: 211 | AI93: 0 | AJ93: 2 | AK93: 2 | AL93: 8 | AM93: 14 | AN93: 34 | AO93: 55 | AP93: 65 | AQ93: 29 | AR93: 2 | AS93: 211 | AT93: 205 | AU93: 0 | AV93: 0 | AW93: 3 | AX93: 0 | AY93: 3
C94: 男 Male | D94: 101 | E94: 100 | F94: 0 | G94: 0 | H94: 0 | I94: 0 | J94: 1 | K94: 101 | L94: 0 | M94: 4 | N94: 3 | O94: 7 | P94: 4 | Q94: 19 | R94: 21 | S94: 27 | T94: 16 | U94: 0 | V94: 101 | W94: 82 | X94: 4 | Y94: 2 | Z94: 1 | AA94: 2 | AB94: 2 | AC94: 7 | AD94: 0 | AE94: 0 | AF94: 1 | AG94: 0 | AH94: 157 | AI94: 0 | AJ94: 2 | AK94: 1 | AL94: 4 | AM94: 9 | AN94: 27 | AO94: 43 | AP94: 51 | AQ94: 19 | AR94: 1 | AS94: 157 | AT94: 154 | AU94: 0 | AV94: 0 | AW94: 1 | AX94: 0 | AY94: 2
B95: Penghu County | C95: 女 Female | D95: 124 | E95: 119 | F95: 1 | G95: 0 | H95: 3 | I95: 0 | J95: 1 | K95: 124 | L95: 0 | M95: 3 | N95: 1 | O95: 9 | P95: 9 | Q95: 23 | R95: 29 | S95: 30 | T95: 19 | U95: 1 | V95: 124 | W95: 114 | X95: 3 | Y95: 0 | Z95: 4 | AA95: 0 | AB95: 1 | AC95: 2 | AD95: 0 | AE95: 0 | AF95: 0 | AG95: 0 | AH95: 54 | AI95: 0 | AJ95: 0 | AK95: 1 | AL95: 4 | AM95: 5 | AN95: 7 | AO95: 12 | AP95: 14 | AQ95: 10 | AR95: 1 | AS95: 54 | AT95: 51 | AU95: 0 | AV95: 0 | AW95: 2 | AX95: 0 | AY95: 1
C96: 其他 Other | D96: 0 | E96: 0 | F96: 0 | G96: 0 | H96: 0 | I96: 0 | J96: 0 | K96: 0 | L96: 0 | M96: 0 | N96: 0 | O96: 0 | P96: 0 | Q96: 0 | R96: 0 | S96: 0 | T96: 0 | U96: 0 | V96: 0 | W96: 0 | X96: 0 | Y96: 0 | Z96: 0 | AA96: 0 | AB96: 0 | AC96: 0 | AD96: 0 | AE96: 0 | AF96: 0 | AG96: 0 | AH96: 0 | AI96: 0 | AJ96: 0 | AK96: 0 | AL96: 0 | AM96: 0 | AN96: 0 | AO96: 0 | AP96: 0 | AQ96: 0 | AR96: 0 | AS96: 0 | AT96: 0 | AU96: 0 | AV96: 0 | AW96: 0 | AX96: 0 | AY96: 0
C97: 不詳Unknown | D97: 1 | E97: 1 | F97: 0 | G97: 0 | H97: 0 | I97: 0 | J97: 0 | K97: 1 | L97: 0 | M97: 1 | N97: 0 | O97: 0 | P97: 0 | Q97: 0 | R97: 0 | S97: 0 | T97: 0 | U97: 0 | V97: 1 | W97: 1 | X97: 0 | Y97: 0 | Z97: 0 | AA97: 0 | AB97: 0 | AC97: 0 | AD97: 0 | AE97: 0 | AF97: 0 | AG97: 0 | AH97: 0 | AI97: 0 | AJ97: 0 | AK97: 0 | AL97: 0 | AM97: 0 | AN97: 0 | AO97: 0 | AP97: 0 | AQ97: 0 | AR97: 0 | AS97: 0 | AT97: 0 | AU97: 0 | AV97: 0 | AW97: 0 | AX97: 0 | AY97: 0
B98: 基隆市 | C98: 計 Total | D98: 1301 | E98: 1225 | F98: 56 | G98: 2 | H98: 9 | I98: 0 | J98: 9 | K98: 1301 | L98: 56 | M98: 64 | N98: 68 | O98: 74 | P98: 107 | Q98: 244 | R98: 254 | S98: 268 | T98: 166 | U98: 0 | V98: 1301 | W98: 1166 | X98: 15 | Y98: 4 | Z98: 49 | AA98: 0 | AB98: 4 | AC98: 23 | AD98: 4 | AE98: 16 | AF98: 20 | AG98: 0 | AH98: 1242 | AI98: 0 | AJ98: 1 | AK98: 50 | AL98: 54 | AM98: 102 | AN98: 290 | AO98: 309 | AP98: 262 | AQ98: 150 | AR98: 24 | AS98: 1242 | AT98: 1161 | AU98: 51 | AV98: 3 | AW98: 11 | AX98: 1 | AY98: 15
C99: 男 Male | D99: 535 | E99: 503 | F99: 25 | G99: 0 | H99: 1 | I99: 0 | J99: 6 | K99: 535 | L99: 31 | M99: 39 | N99: 34 | O99: 31 | P99: 47 | Q99: 85 | R99: 98 | S99: 106 | T99: 64 | U99: 0 | V99: 535 | W99: 476 | X99: 6 | Y99: 3 | Z99: 15 | AA99: 0 | AB99: 2 | AC99: 13 | AD99: 1 | AE99: 8 | AF99: 11 | AG99: 0 | AH99: 834 | AI99: 0 | AJ99: 1 | AK99: 39 | AL99: 36 | AM99: 66 | AN99: 182 | AO99: 215 | AP99: 183 | AQ99: 95 | AR99: 17 | AS99: 834 | AT99: 790 | AU99: 31 | AV99: 1 | AW99: 3 | AX99: 1 | AY99: 8
B100: Keelung City | C100: 女 Female | D100: 766 | E100: 722 | F100: 31 | G100: 2 | H100: 8 | I100: 0 | J100: 3 | K100: 766 | L100: 25 | M100: 25 | N100: 34 | O100: 43 | P100: 60 | Q100: 159 | R100: 156 | S100: 162 | T100: 102 | U100: 0 | V100: 766 | W100: 690 | X100: 9 | Y100: 1 | Z100: 34 | AA100: 0 | AB100: 2 | AC100: 10 | AD100: 3 | AE100: 8 | AF100: 9 | AG100: 0 | AH100: 407 | AI100: 0 | AJ100: 0 | AK100: 11 | AL100: 18 | AM100: 36 | AN100: 108 | AO100: 94 | AP100: 79 | AQ100: 55 | AR100: 6 | AS100: 407 | AT100: 371 | AU100: 20 | AV100: 2 | AW100: 8 | AX100: 0 | AY100: 6
...

Sheet 2024
A1: 家庭暴力事件通報被害及相對人概況Overview of Victim and Offender Status in Reporting Cases of Domestic Violence
A2: 113年，2024
A3: 單位：人數 unit:Person
A4: 區域別 Locality | C4: 性別 | D4: 被害人數 Victims | AH4: 相對人人數
D5: 國籍、身分別 By Nationality and Identity | K5: 年齡別 By Age | V5: 身心障礙別 By Disability | AH5: 年齡別 By Age | AS5: 國籍、身分別 By Nationality and Identity
D6: 合計 | E6: 本國籍 非原住民 | F6: 本國籍 原住民 | G6: 大陸及 港澳籍 | H6: 外國籍 | I6: 無國籍 | J6: 資料 不明 | K6: 合計 | L6: 0-未滿6歲 | M6: 6-未滿12歲 | N6: 12-未滿18歲 | O6: 18-未滿24歲 | P6: 24-未滿30歲 | Q6: 30-未滿40歲 | R6: 40-未滿50歲 | S6: 50-未滿65歲 | T6: 65歲 以上 | U6: 不詳 | V6: 合計 | W6: 非身心 障礙 | X6: 智障 | Y6: 視障 | Z6: 精神 病患 | AA6: 聲(語)障 | AB6: 聽障 | AC6: 肢障 | AD6: 失智症 | AE6: 多重 障礙 | AF6: 其他 障礙 | AG6: 不詳 | AH6: 合計 | AI6: 0-未滿6歲 | AJ6: 6-未滿12歲 | AK6: 12-未滿18歲 | AL6: 18-未滿24歲 | AM6: 24-未滿30歲 | AN6: 30-未滿40歲 | AO6: 40-未滿50歲 | AP6: 50-未滿65歲 | AQ6: 65歲 以上 | AR6: 不詳 | AS6: 合計 | AT6: 本國籍非原住民 | AU6: 本國籍原住民 | AV6: 大陸及 港澳籍 | AW6: 外國籍 | AX6: 無國籍 | AY6: 資料 不明
C7: Gender | D7: Total | E7: Non-Indigenous Native | F7: Indigenous Native | G7: Mainland China and Hong Kong and Macau | H7: Foreign | I7: Stateless | J7: Unknown Information | K7: Total | L7: Under 6 Years | M7: 6-Under 12 Years | N7: 12-Under 18 Years | O7: 18-Under 2 Years | P7: 24-Under 30 Years | Q7: 30-Under 40 Years | R7: 40-Under 50 Years | S7: 50-Under 65 Years | T7: Above 65 Years | U7: Unknown | V7: Total | W7: Not Disability | X7: Intellectually Disabled | Y7: Vision | Z7: Mentally Illed | AA7: Voice | AB7: Hearing | AC7: Physically Impaired | AD7: Dementia | AE7: Multiple | AF7: Other | AG7: Unknown | AH7: Total | AI7: Under 6 Years | AJ7: 6-Under 12 Years | AK7: 12-Under 18 Years | AL7: 18-Under 2 Years | AM7: 24-Under 30 Years | AN7: 30-Under 40 Years | AO7: 40-Under 50 Years | AP7: 50-Under 65 Years | AQ7: Above 65 Years | AR7: Unknown | AS7: Total | AT7: Non-Indigenous Native | AU7: Indigenous Native | AV7: Mainland China and Hong Kong and Macau | AW7: Foreign | AX7: Stateless | AY7: Unknown Information
A8: 總計 | C8: 計 Total | D8: 138859 | E8: 126845 | F8: 7429 | G8: 913 | H8: 1464 | I8: 28 | J8: 2180 | K8: 138859 | L8: 6224 | M8: 9842 | N8: 8045 | O8: 8896 | P8: 12432 | Q8: 24757 | R8: 27308 | S8: 24160 | T8: 16866 | U8: 329 | V8: 138859 | W8: 125177 | X8: 2080 | Y8: 426 | Z8: 3484 | AA8: 144 | AB8: 695 | AC8: 2455 | AD8: 536 | AE8: 1323 | AF8: 1909 | AG8: 630 | AH8: 132792 | AI8: 49 | AJ8: 684 | AK8: 3596 | AL8: 6491 | AM8: 12508 | AN8: 29611 | AO8: 35981 | AP8: 27273 | AQ8: 12693 | AR8: 3906 | AS8: 132792 | AT8: 121611 | AU8: 6184 | AV8: 732 | AW8: 1356 | AX8: 27 | AY8: 2882
C9: 男 Male | D9: 52894 | E9: 49151 | F9: 2548 | G9: 55 | H9: 266 | I9: 15 | J9: 859 | K9: 52894 | L9: 3592 | M9: 5933 | N9: 3756 | O9: 3011 | P9: 4032 | Q9: 7768 | R9: 8940 | S9: 9390 | T9: 6386 | U9: 86 | V9: 52894 | W9: 47054 | X9: 874 | Y9: 221 | Z9: 1018 | AA9: 86 | AB9: 347 | AC9: 1242 | AD9: 151 | AE9: 667 | AF9: 1047 | AG9: 187 | AH9: 91211 | AI9: 37 | AJ9: 515 | AK9: 2600 | AL9: 4235 | AM9: 8262 | AN9: 19687 | AO9: 24907 | AP9: 19505 | AQ9: 8700 | AR9: 2763 | AS9: 91211 | AT9: 84050 | AU9: 4265 | AV9: 162 | AW9: 752 | AX9: 16 | AY9: 1966
A10: Total | C10: 女 Female | D10: 85864 | E10: 77620 | F10: 4874 | G10: 857 | H10: 1197 | I10: 13 | J10: 1303 | K10: 85864 | L10: 2613 | M10: 3875 | N10: 4265 | O10: 5884 | P10: 8397 | Q10: 16984 | R10: 18362 | S10: 14766 | T10: 10480 | U10: 238 | V10: 85864 | W10: 78038 | X10: 1203 | Y10: 205 | Z10: 2464 | AA10: 58 | AB10: 348 | AC10: 1212 | AD10: 385 | AE10: 656 | AF10: 861 | AG10: 434 | AH10: 41502 | AI10: 12 | AJ10: 169 | AK10: 995 | AL10: 2255 | AM10: 4239 | AN10: 9915 | AO10: 11069 | AP10: 7766 | AQ10: 3992 | AR10: 1090 | AS10: 41502 | AT10: 37534 | AU10: 1916 | AV10: 570 | AW10: 600 | AX10: 11 | AY10: 871
C11: 其他 Other | D11: 14 | E11: 10 | F11: 1 | G11: 1 | H11: 1 | I11: 0 | J11: 1 | K11: 14 | L11: 0 | M11: 0 | N11: 0 | O11: 1 | P11: 3 | Q11: 2 | R11: 4 | S11: 1 | T11: 0 | U11: 3 | V11: 14 | W11: 7 | X11: 2 | Y11: 0 | Z11: 1 | AA11: 0 | AB11: 0 | AC11: 0 | AD11: 0 | AE11: 0 | AF11: 0 | AG11: 4 | AH11: 13 | AI11: 0 | AJ11: 0 | AK11: 1 | AL11: 0 | AM11: 3 | AN11: 3 | AO11: 3 | AP11: 0 | AQ11: 0 | AR11: 3 | AS11: 13 | AT11: 10 | AU11: 0 | AV11: 0 | AW11: 1 | AX11: 0 | AY11: 2
C12: 不詳Unknown | D12: 87 | E12: 64 | F12: 6 | G12: 0 | H12: 0 | I12: 0 | J12: 17 | K12: 87 | L12: 19 | M12: 34 | N12: 24 | O12: 0 | P12: 0 | Q12: 3 | R12: 2 | S12: 3 | T12: 0 | U12: 2 | V12: 87 | W12: 78 | X12: 1 | Y12: 0 | Z12: 1 | AA12: 0 | AB12: 0 | AC12: 1 | AD12: 0 | AE12: 0 | AF12: 1 | AG12: 5 | AH12: 66 | AI12: 0 | AJ12: 0 | AK12: 0 | AL12: 1 | AM12: 4 | AN12: 6 | AO12: 2 | AP12: 2 | AQ12: 1 | AR12: 50 | AS12: 66 | AT12: 17 | AU12: 3 | AV12: 0 | AW12: 3 | AX12: 0 | AY12: 43
A13: 新北市 | C13: 計 Total | D13: 23113 | E13: 20908 | F13: 484 | G13: 182 | H13: 266 | I13: 11 | J13: 1262 | K13: 23113 | L13: 887 | M13: 1857 | N13: 1519 | O13: 1551 | P13: 2071 | Q13: 4167 | R13: 4528 | S13: 3784 | T13: 2578 | U13: 171 | V13: 23113 | W13: 20941 | X13: 256 | Y13: 54 | Z13: 515 | AA13: 10 | AB13: 93 | AC13: 321 | AD13: 67 | AE13: 204 | AF13: 328 | AG13: 324 | AH13: 21878 | AI13: 6 | AJ13: 98 | AK13: 569 | AL13: 1022 | AM13: 1921 | AN13: 4642 | AO13: 5949 | AP13: 4198 | AQ13: 1939 | AR13: 1534 | AS13: 21878 | AT13: 19566 | AU13: 356 | AV13: 161 | AW13: 238 | AX13: 9 | AY13: 1548
C14: 男 Male | D14: 8245 | E14: 7534 | F14: 165 | G14: 13 | H14: 37 | I14: 8 | J14: 488 | K14: 8245 | L14: 538 | M14: 1118 | N14: 668 | O14: 495 | P14: 579 | Q14: 1251 | R14: 1337 | S14: 1340 | T14: 866 | U14: 53 | V14: 8245 | W14: 7370 | X14: 114 | Y14: 33 | Z14: 140 | AA14: 4 | AB14: 34 | AC14: 151 | AD14: 18 | AE14: 105 | AF14: 180 | AG14: 96 | AH14: 15267 | AI14: 5 | AJ14: 70 | AK14: 400 | AL14: 732 | AM14: 1299 | AN14: 3124 | AO14: 4193 | AP14: 3016 | AQ14: 1354 | AR14: 1074 | AS14: 15267 | AT14: 13790 | AU14: 237 | AV14: 42 | AW14: 137 | AX14: 7 | AY14: 1054
A15: New Taipei City | C15: 女 Female | D15: 14831 | E15: 13348 | F15: 318 | G15: 168 | H15: 228 | I15: 3 | J15: 766 | K15: 14831 | L15: 344 | M15: 726 | N15: 839 | O15: 1056 | P15: 1490 | Q15: 2915 | R15: 3189 | S15: 2443 | T15: 1712 | U15: 117 | V15: 14831 | W15: 13539 | X15: 142 | Y15: 21 | Z15: 374 | AA15: 6 | AB15: 59 | AC15: 170 | AD15: 49 | AE15: 99 | AF15: 148 | AG15: 224 | AH15: 6590 | AI15: 1 | AJ15: 28 | AK15: 169 | AL15: 290 | AM15: 621 | AN15: 1515 | AO15: 1755 | AP15: 1182 | AQ15: 584 | AR15: 445 | AS15: 6590 | AT15: 5768 | AU15: 119 | AV15: 119 | AW15: 99 | AX15: 2 | AY15: 483
C16: 其他 Other | D16: 4 | E16: 2 | F16: 0 | G16: 1 | H16: 1 | I16: 0 | J16: 0 | K16: 4 | L16: 0 | M16: 0 | N16: 0 | O16: 0 | P16: 2 | Q16: 1 | R16: 1 | S16: 0 | T16: 0 | U16: 0 | V16: 4 | W16: 3 | X16: 0 | Y16: 0 | Z16: 0 | AA16: 0 | AB16: 0 | AC16: 0 | AD16: 0 | AE16: 0 | AF16: 0 | AG16: 1 | AH16: 1 | AI16: 0 | AJ16: 0 | AK16: 0 | AL16: 0 | AM16: 0 | AN16: 0 | AO16: 0 | AP16: 0 | AQ16: 0 | AR16: 1 | AS16: 1 | AT16: 1 | AU16: 0 | AV16: 0 | AW16: 0 | AX16: 0 | AY16: 0
C17: 不詳Unknown | D17: 33 | E17: 24 | F17: 1 | G17: 0 | H17: 0 | I17: 0 | J17: 8 | K17: 33 | L17: 5 | M17: 13 | N17: 12 | O17: 0 | P17: 0 | Q17: 0 | R17: 1 | S17: 1 | T17: 0 | U17: 1 | V17: 33 | W17: 29 | X17: 0 | Y17: 0 | Z17: 1 | AA17: 0 | AB17: 0 | AC17: 0 | AD17: 0 | AE17: 0 | AF17: 0 | AG17: 3 | AH17: 20 | AI17: 0 | AJ17: 0 | AK17: 0 | AL17: 0 | AM17: 1 | AN17: 3 | AO17: 1 | AP17: 0 | AQ17: 1 | AR17: 14 | AS17: 20 | AT17: 7 | AU17: 0 | AV17: 0 | AW17: 2 | AX17: 0 | AY17: 11
A18: 臺北市 | C18: 計 Total | D18: 13194 | E18: 12452 | F18: 128 | G18: 121 | H18: 179 | I18: 4 | J18: 310 | K18: 13194 | L18: 587 | M18: 1051 | N18: 983 | O18: 770 | P18: 1007 | Q18: 2148 | R18: 2434 | S18: 2387 | T18: 1783 | U18: 44 | V18: 13194 | W18: 11933 | X18: 138 | Y18: 44 | Z18: 368 | AA18: 11 | AB18: 65 | AC18: 158 | AD18: 68 | AE18: 121 | AF18: 207 | AG18: 81 | AH18: 12537 | AI18: 8 | AJ18: 136 | AK18: 537 | AL18: 526 | AM18: 945 | AN18: 2418 | AO18: 3176 | AP18: 2716 | AQ18: 1487 | AR18: 588 | AS18: 12537 | AT18: 11816 | AU18: 72 | AV18: 127 | AW18: 175 | AX18: 2 | AY18: 345
C19: 男 Male | D19: 5251 | E19: 4995 | F19: 45 | G19: 9 | H19: 68 | I19: 2 | J19: 132 | K19: 5251 | L19: 320 | M19: 630 | N19: 530 | O19: 264 | P19: 341 | Q19: 715 | R19: 846 | S19: 934 | T19: 664 | U19: 7 | V19: 5251 | W19: 4710 | X19: 57 | Y19: 26 | Z19: 123 | AA19: 4 | AB19: 31 | AC19: 81 | AD19: 15 | AE19: 55 | AF19: 124 | AG19: 25 | AH19: 7968 | AI19: 5 | AJ19: 101 | AK19: 400 | AL19: 317 | AM19: 563 | AN19: 1433 | AO19: 1984 | AP19: 1823 | AQ19: 955 | AR19: 387 | AS19: 7968 | AT19: 7565 | AU19: 44 | AV19: 31 | AW19: 104 | AX19: 1 | AY19: 223
A20: Taipei City | C20: 女 Female | D20: 7928 | E20: 7445 | F20: 83 | G20: 112 | H20: 111 | I20: 2 | J20: 175 | K20: 7928 | L20: 264 | M20: 412 | N20: 451 | O20: 506 | P20: 666 | Q20: 1433 | R20: 1588 | S20: 1453 | T20: 1119 | U20: 36 | V20: 7928 | W20: 7210 | X20: 81 | Y20: 18 | Z20: 245 | AA20: 7 | AB20: 34 | AC20: 77 | AD20: 53 | AE20: 66 | AF20: 82 | AG20: 55 | AH20: 4563 | AI20: 3 | AJ20: 35 | AK20: 136 | AL20: 208 | AM20: 382 | AN20: 983 | AO20: 1192 | AP20: 893 | AQ20: 532 | AR20: 199 | AS20: 4563 | AT20: 4246 | AU20: 28 | AV20: 96 | AW20: 71 | AX20: 1 | AY20: 121
C21: 其他 Other | D21: 1 | E21: 0 | F21: 0 | G21: 0 | H21: 0 | I21: 0 | J21: 1 | K21: 1 | L21: 0 | M21: 0 | N21: 0 | O21: 0 | P21: 0 | Q21: 0 | R21: 0 | S21: 0 | T21: 0 | U21: 1 | V21: 1 | W21: 0 | X21: 0 | Y21: 0 | Z21: 0 | AA21: 0 | AB21: 0 | AC21: 0 | AD21: 0 | AE21: 0 | AF21: 0 | AG21: 1 | AH21: 2 | AI21: 0 | AJ21: 0 | AK21: 1 | AL21: 0 | AM21: 0 | AN21: 0 | AO21: 0 | AP21: 0 | AQ21: 0 | AR21: 1 | AS21: 2 | AT21: 2 | AU21: 0 | AV21: 0 | AW21: 0 | AX21: 0 | AY21: 0
C22: 不詳Unknown | D22: 14 | E22: 12 | F22: 0 | G22: 0 | H22: 0 | I22: 0 | J22: 2 | K22: 14 | L22: 3 | M22: 9 | N22: 2 | O22: 0 | P22: 0 | Q22: 0 | R22: 0 | S22: 0 | T22: 0 | U22: 0 | V22: 14 | W22: 13 | X22: 0 | Y22: 0 | Z22: 0 | AA22: 0 | AB22: 0 | AC22: 0 | AD22: 0 | AE22: 0 | AF22: 1 | AG22: 0 | AH22: 4 | AI22: 0 | AJ22: 0 | AK22: 0 | AL22: 1 | AM22: 0 | AN22: 2 | AO22: 0 | AP22: 0 | AQ22: 0 | AR22: 1 | AS22: 4 | AT22: 3 | AU22: 0 | AV22: 0 | AW22: 0 | AX22: 0 | AY22: 1
A23: 桃園市 | C23: 計 Total | D23: 14574 | E23: 12747 | F23: 1504 | G23: 90 | H23: 198 | I23: 1 | J23: 34 | K23: 14574 | L23: 617 | M23: 1224 | N23: 939 | O23: 980 | P23: 1465 | Q23: 2754 | R23: 2909 | S23: 2258 | T23: 1408 | U23: 20 | V23: 14574 | W23: 13417 | X23: 178 | Y23: 31 | Z23: 299 | AA23: 12 | AB23: 68 | AC23: 200 | AD23: 30 | AE23: 140 | AF23: 154 | AG23: 45 | AH23: 14320 | AI23: 3 | AJ23: 54 | AK23: 406 | AL23: 740 | AM23: 1508 | AN23: 3532 | AO23: 4098 | AP23: 2679 | AQ23: 1032 | AR23: 268 | AS23: 14320 | AT23: 12665 | AU23: 1276 | AV23: 65 | AW23: 176 | AX23: 1 | AY23: 137
C24: 男 Male | D24: 5473 | E24: 4873 | F24: 556 | G24: 8 | H24: 28 | I24: 1 | J24: 7 | K24: 5473 | L24: 375 | M24: 769 | N24: 418 | O24: 328 | P24: 473 | Q24: 792 | R24: 883 | S24: 914 | T24: 517 | U24: 4 | V24: 5473 | W24: 4998 | X24: 74 | Y24: 14 | Z24: 80 | AA24: 6 | AB24: 29 | AC24: 97 | AD24: 9 | AE24: 71 | AF24: 81 | AG24: 14 | AH24: 9969 | AI24: 2 | AJ24: 38 | AK24: 283 | AL24: 500 | AM24: 1013 | AN24: 2368 | AO24: 2880 | AP24: 1995 | AQ24: 694 | AR24: 196 | AS24: 9969 | AT24: 8880 | AU24: 878 | AV24: 15 | AW24: 95 | AX24: 0 | AY24: 101
A25: Taoyuan City | C25: 女 Female | D25: 9100 | E25: 7873 | F25: 948 | G25: 82 | H25: 170 | I25: 0 | J25: 27 | K25: 9100 | L25: 242 | M25: 455 | N25: 521 | O25: 652 | P25: 992 | Q25: 1961 | R25: 2026 | S25: 1344 | T25: 891 | U25: 16 | V25: 9100 | W25: 8418 | X25: 104 | Y25: 17 | Z25: 219 | AA25: 6 | AB25: 39 | AC25: 103 | AD25: 21 | AE25: 69 | AF25: 73 | AG25: 31 | AH25: 4341 | AI25: 1 | AJ25: 16 | AK25: 123 | AL25: 240 | AM25: 495 | AN25: 1163 | AO25: 1217 | AP25: 684 | AQ25: 338 | AR25: 64 | AS25: 4341 | AT25: 3783 | AU25: 398 | AV25: 50 | AW25: 81 | AX25: 1 | AY25: 28
C26: 其他 Other | D26: 0 | E26: 0 | F26: 0 | G26: 0 | H26: 0 | I26: 0 | J26: 0 | K26: 0 | L26: 0 | M26: 0 | N26: 0 | O26: 0 | P26: 0 | Q26: 0 | R26: 0 | S26: 0 | T26: 0 | U26: 0 | V26: 0 | W26: 0 | X26: 0 | Y26: 0 | Z26: 0 | AA26: 0 | AB26: 0 | AC26: 0 | AD26: 0 | AE26: 0 | AF26: 0 | AG26: 0 | AH26: 0 | AI26: 0 | AJ26: 0 | AK26: 0 | AL26: 0 | AM26: 0 | AN26: 0 | AO26: 0 | AP26: 0 | AQ26: 0 | AR26: 0 | AS26: 0 | AT26: 0 | AU26: 0 | AV26: 0 | AW26: 0 | AX26: 0 | AY26: 0
C27: 不詳Unknown | D27: 1 | E27: 1 | F27: 0 | G27: 0 | H27: 0 | I27: 0 | J27: 0 | K27: 1 | L27: 0 | M27: 0 | N27: 0 | O27: 0 | P27: 0 | Q27: 1 | R27: 0 | S27: 0 | T27: 0 | U27: 0 | V27: 1 | W27: 1 | X27: 0 | Y27: 0 | Z27: 0 | AA27: 0 | AB27: 0 | AC27: 0 | AD27: 0 | AE27: 0 | AF27: 0 | AG27: 0 | AH27: 10 | AI27: 0 | AJ27: 0 | AK27: 0 | AL27: 0 | AM27: 0 | AN27: 1 | AO27: 1 | AP27: 0 | AQ27: 0 | AR27: 8 | AS27: 10 | AT27: 2 | AU27: 0 | AV27: 0 | AW27: 0 | AX27: 0 | AY27: 8
A28: 臺中市 | C28: 計 Total | D28: 18668 | E28: 17634 | F28: 526 | G28: 134 | H28: 189 | I28: 3 | J28: 182 | K28: 18668 | L28: 788 | M28: 1193 | N28: 954 | O28: 1281 | P28: 1827 | Q28: 3626 | R28: 3718 | S28: 3220 | T28: 2026 | U28: 35 | V28: 18668 | W28: 17062 | X28: 240 | Y28: 53 | Z28: 415 | AA28: 13 | AB28: 86 | AC28: 280 | AD28: 66 | AE28: 158 | AF28: 228 | AG28: 67 | AH28: 17985 | AI28: 6 | AJ28: 82 | AK28: 470 | AL28: 959 | AM28: 1835 | AN28: 4183 | AO28: 4883 | AP28: 3561 | AQ28: 1599 | AR28: 407 | AS28: 17985 | AT28: 17005 | AU28: 444 | AV28: 107 | AW28: 192 | AX28: 6 | AY28: 231
C29: 男 Male | D29: 7147 | E29: 6866 | F29: 183 | G29: 5 | H29: 31 | I29: 1 | J29: 61 | K29: 7147 | L29: 455 | M29: 723 | N29: 445 | O29: 440 | P29: 616 | Q29: 1154 | R29: 1291 | S29: 1240 | T29: 774 | U29: 9 | V29: 7147 | W29: 6458 | X29: 108 | Y29: 21 | Z29: 139 | AA29: 8 | AB29: 50 | AC29: 143 | AD29: 15 | AE29: 86 | AF29: 103 | AG29: 16 | AH29: 12219 | AI29: 4 | AJ29: 61 | AK29: 350 | AL29: 600 | AM29: 1207 | AN29: 2726 | AO29: 3357 | AP29: 2537 | AQ29: 1082 | AR29: 295 | AS29: 12219 | AT29: 11629 | AU29: 294 | AV29: 19 | AW29: 110 | AX29: 3 | AY29: 164
A30: Taichung City | C30: 女 Female | D30: 11512 | E30: 10763 | F30: 342 | G30: 129 | H30: 158 | I30: 2 | J30: 118 | K30: 11512 | L30: 330 | M30: 470 | N30: 507 | O30: 841 | P30: 1211 | Q30: 2470 | R30: 2426 | S30: 1980 | T30: 1252 | U30: 25 | V30: 11512 | W30: 10597 | X30: 132 | Y30: 32 | Z30: 276 | AA30: 5 | AB30: 36 | AC30: 137 | AD30: 51 | AE30: 72 | AF30: 125 | AG30: 49 | AH30: 5758 | AI30: 2 | AJ30: 21 | AK30: 120 | AL30: 359 | AM30: 625 | AN30: 1457 | AO30: 1526 | AP30: 1023 | AQ30: 517 | AR30: 108 | AS30: 5758 | AT30: 5373 | AU30: 149 | AV30: 88 | AW30: 81 | AX30: 3 | AY30: 64
C31: 其他 Other | D31: 2 | E31: 2 | F31: 0 | G31: 0 | H31: 0 | I31: 0 | J31: 0 | K31: 2 | L31: 0 | M31: 0 | N31: 0 | O31: 0 | P31: 0 | Q31: 0 | R31: 1 | S31: 0 | T31: 0 | U31: 1 | V31: 2 | W31: 1 | X31: 0 | Y31: 0 | Z31: 0 | AA31: 0 | AB31: 0 | AC31: 0 | AD31: 0 | AE31: 0 | AF31: 0 | AG31: 1 | AH31: 2 | AI31: 0 | AJ31: 0 | AK31: 0 | AL31: 0 | AM31: 2 | AN31: 0 | AO31: 0 | AP31: 0 | AQ31: 0 | AR31: 0 | AS31: 2 | AT31: 2 | AU31: 0 | AV31: 0 | AW31: 0 | AX31: 0 | AY31: 0
C32: 不詳Unknown | D32: 7 | E32: 3 | F32: 1 | G32: 0 | H32: 0 | I32: 0 | J32: 3 | K32: 7 | L32: 3 | M32: 0 | N32: 2 | O32: 0 | P32: 0 | Q32: 2 | R32: 0 | S32: 0 | T32: 0 | U32: 0 | V32: 7 | W32: 6 | X32: 0 | Y32: 0 | Z32: 0 | AA32: 0 | AB32: 0 | AC32: 0 | AD32: 0 | AE32: 0 | AF32: 0 | AG32: 1 | AH32: 6 | AI32: 0 | AJ32: 0 | AK32: 0 | AL32: 0 | AM32: 1 | AN32: 0 | AO32: 0 | AP32: 1 | AQ32: 0 | AR32: 4 | AS32: 6 | AT32: 1 | AU32: 1 | AV32: 0 | AW32: 1 | AX32: 0 | AY32: 3
A33: 臺南市 | C33: 計 Total | D33: 9273 | E33: 8995 | F33: 143 | G33: 39 | H33: 69 | I33: 2 | J33: 25 | K33: 9273 | L33: 492 | M33: 733 | N33: 503 | O33: 552 | P33: 736 | Q33: 1542 | R33: 1848 | S33: 1582 | T33: 1279 | U33: 6 | V33: 9273 | W33: 8271 | X33: 191 | Y33: 32 | Z33: 187 | AA33: 14 | AB33: 40 | AC33: 221 | AD33: 52 | AE33: 108 | AF33: 144 | AG33: 13 | AH33: 9039 | AI33: 4 | AJ33: 51 | AK33: 231 | AL33: 396 | AM33: 822 | AN33: 1980 | AO33: 2610 | AP33: 1874 | AQ33: 963 | AR33: 108 | AS33: 9039 | AT33: 8766 | AU33: 118 | AV33: 17 | AW33: 85 | AX33: 1 | AY33: 52
C34: 男 Male | D34: 3438 | E34: 3365 | F34: 42 | G34: 3 | H34: 15 | I34: 1 | J34: 12 | K34: 3438 | L34: 290 | M34: 427 | N34: 238 | O34: 166 | P34: 221 | Q34: 434 | R34: 595 | S34: 558 | T34: 509 | U34: 0 | V34: 3438 | W34: 3004 | X34: 79 | Y34: 20 | Z34: 54 | AA34: 8 | AB34: 22 | AC34: 102 | AD34: 14 | AE34: 49 | AF34: 81 | AG34: 5 | AH34: 6238 | AI34: 4 | AJ34: 44 | AK34: 158 | AL34: 258 | AM34: 556 | AN34: 1315 | AO34: 1805 | AP34: 1338 | AQ34: 670 | AR34: 90 | AS34: 6238 | AT34: 6068 | AU34: 75 | AV34: 6 | AW34: 53 | AX34: 1 | AY34: 35
A35: Tainan City | C35: 女 Female | D35: 5832 | E35: 5627 | F35: 101 | G35: 36 | H35: 54 | I35: 1 | J35: 13 | K35: 5832 | L35: 202 | M35: 305 | N35: 265 | O35: 385 | P35: 515 | Q35: 1108 | R35: 1252 | S35: 1024 | T35: 770 | U35: 6 | V35: 5832 | W35: 5264 | X35: 112 | Y35: 12 | Z35: 133 | AA35: 6 | AB35: 18 | AC35: 119 | AD35: 38 | AE35: 59 | AF35: 63 | AG35: 8 | AH35: 2796 | AI35: 0 | AJ35: 7 | AK35: 73 | AL35: 138 | AM35: 265 | AN35: 664 | AO35: 805 | AP35: 536 | AQ35: 293 | AR35: 15 | AS35: 2796 | AT35: 2695 | AU35: 43 | AV35: 11 | AW35: 32 | AX35: 0 | AY35: 15
C36: 其他 Other | D36: 2 | E36: 2 | F36: 0 | G36: 0 | H36: 0 | I36: 0 | J36: 0 | K36: 2 | L36: 0 | M36: 0 | N36: 0 | O36: 1 | P36: 0 | Q36: 0 | R36: 1 | S36: 0 | T36: 0 | U36: 0 | V36: 2 | W36: 2 | X36: 0 | Y36: 0 | Z36: 0 | AA36: 0 | AB36: 0 | AC36: 0 | AD36: 0 | AE36: 0 | AF36: 0 | AG36: 0 | AH36: 3 | AI36: 0 | AJ36: 0 | AK36: 0 | AL36: 0 | AM36: 1 | AN36: 1 | AO36: 0 | AP36: 0 | AQ36: 0 | AR36: 1 | AS36: 3 | AT36: 2 | AU36: 0 | AV36: 0 | AW36: 0 | AX36: 0 | AY36: 1
C37: 不詳Unknown | D37: 1 | E37: 1 | F37: 0 | G37: 0 | H37: 0 | I37: 0 | J37: 0 | K37: 1 | L37: 0 | M37: 1 | N37: 0 | O37: 0 | P37: 0 | Q37: 0 | R37: 0 | S37: 0 | T37: 0 | U37: 0 | V37: 1 | W37: 1 | X37: 0 | Y37: 0 | Z37: 0 | AA37: 0 | AB37: 0 | AC37: 0 | AD37: 0 | AE37: 0 | AF37: 0 | AG37: 0 | AH37: 2 | AI37: 0 | AJ37: 0 | AK37: 0 | AL37: 0 | AM37: 0 | AN37: 0 | AO37: 0 | AP37: 0 | AQ37: 0 | AR37: 2 | AS37: 2 | AT37: 1 | AU37: 0 | AV37: 0 | AW37: 0 | AX37: 0 | AY37: 1
A38: 高雄市 | C38: 計 Total | D38: 18612 | E38: 17806 | F38: 518 | G38: 114 | H38: 145 | I38: 2 | J38: 27 | K38: 18612 | L38: 762 | M38: 1181 | N38: 953 | O38: 1211 | P38: 1699 | Q38: 3259 | R38: 3681 | S38: 3458 | T38: 2403 | U38: 5 | V38: 18612 | W38: 16642 | X38: 268 | Y38: 64 | Z38: 596 | AA38: 26 | AB38: 80 | AC38: 374 | AD38: 92 | AE38: 180 | AF38: 283 | AG38: 7 | AH38: 17925 | AI38: 9 | AJ38: 111 | AK38: 505 | AL38: 977 | AM38: 1716 | AN38: 3961 | AO38: 4778 | AP38: 3930 | AQ38: 1870 | AR38: 68 | AS38: 17925 | AT38: 17178 | AU38: 437 | AV38: 81 | AW38: 143 | AX38: 2 | AY38: 84
C39: 男 Male | D39: 7507 | E39: 7279 | F39: 175 | G39: 7 | H39: 36 | I39: 0 | J39: 10 | K39: 7507 | L39: 423 | M39: 703 | N39: 440 | O39: 442 | P39: 612 | Q39: 1180 | R39: 1346 | S39: 1469 | T39: 892 | U39: 0 | V39: 7507 | W39: 6655 | X39: 118 | Y39: 36 | Z39: 175 | AA39: 17 | AB39: 42 | AC39: 199 | AD39: 26 | AE39: 88 | AF39: 150 | AG39: 1 | AH39: 11588 | AI39: 8 | AJ39: 85 | AK39: 358 | AL39: 575 | AM39: 1022 | AN39: 2505 | AO39: 3110 | AP39: 2645 | AQ39: 1225 | AR39: 55 | AS39: 11588 | AT39: 11178 | AU39: 267 | AV39: 13 | AW39: 77 | AX39: 1 | AY39: 52
A40: Kaohsiung City | C40: 女 Female | D40: 11101 | E40: 10524 | F40: 343 | G40: 107 | H40: 109 | I40: 2 | J40: 16 | K40: 11101 | L40: 337 | M40: 477 | N40: 513 | O40: 769 | P40: 1087 | Q40: 2079 | R40: 2335 | S40: 1989 | T40: 1511 | U40: 4 | V40: 11101 | W40: 9984 | X40: 150 | Y40: 28 | Z40: 421 | AA40: 9 | AB40: 38 | AC40: 175 | AD40: 66 | AE40: 92 | AF40: 133 | AG40: 5 | AH40: 6329 | AI40: 1 | AJ40: 26 | AK40: 147 | AL40: 402 | AM40: 694 | AN40: 1454 | AO40: 1666 | AP40: 1285 | AQ40: 645 | AR40: 9 | AS40: 6329 | AT40: 5996 | AU40: 170 | AV40: 68 | AW40: 65 | AX40: 1 | AY40: 29
C41: 其他 Other | D41: 0 | E41: 0 | F41: 0 | G41: 0 | H41: 0 | I41: 0 | J41: 0 | K41: 0 | L41: 0 | M41: 0 | N41: 0 | O41: 0 | P41: 0 | Q41: 0 | R41: 0 | S41: 0 | T41: 0 | U41: 0 | V41: 0 | W41: 0 | X41: 0 | Y41: 0 | Z41: 0 | AA41: 0 | AB41: 0 | AC41: 0 | AD41: 0 | AE41: 0 | AF41: 0 | AG41: 0 | AH41: 4 | AI41: 0 | AJ41: 0 | AK41: 0 | AL41: 0 | AM41: 0 | AN41: 2 | AO41: 2 | AP41: 0 | AQ41: 0 | AR41: 0 | AS41: 4 | AT41: 2 | AU41: 0 | AV41: 0 | AW41: 1 | AX41: 0 | AY41: 1
C42: 不詳Unknown | D42: 4 | E42: 3 | F42: 0 | G42: 0 | H42: 0 | I42: 0 | J42: 1 | K42: 4 | L42: 2 | M42: 1 | N42: 0 | O42: 0 | P42: 0 | Q42: 0 | R42: 0 | S42: 0 | T42: 0 | U42: 1 | V42: 4 | W42: 3 | X42: 0 | Y42: 0 | Z42: 0 | AA42: 0 | AB42: 0 | AC42: 0 | AD42: 0 | AE42: 0 | AF42: 0 | AG42: 1 | AH42: 4 | AI42: 0 | AJ42: 0 | AK42: 0 | AL42: 0 | AM42: 0 | AN42: 0 | AO42: 0 | AP42: 0 | AQ42: 0 | AR42: 4 | AS42: 4 | AT42: 2 | AU42: 0 | AV42: 0 | AW42: 0 | AX42: 0 | AY42: 2
