Workbook
Name pp: '2015'!$B$1:$U$38
Name pp: '2015~2018'!$B$1:$U$6
Name pp: '2016'!$B$1:$U$38
Name pp: '2017'!$B$1:$U$39
Name pp: '2018'!$B$1:$U$39
Name pp: '2019'!$B$1:$T$39
Name pp: '2019~2020'!$B$1:$T$10
Name pp: '2020'!$B$1:$T$39
Name pp: '2021'!$B$1:$T$46
Name pp: '2022'!$B$1:$T$46
Name pp: '2023'!$B$1:$T$46
Name pp: '2024'!$B$1:$T$46
Name pp: '2025'!$B$1:$T$46
Name pp: 'Jan.-June.,2024'!$B$1:$T$46
Name pp: 'Jan.-June.,2025'!$B$1:$T$46
Name pp: 'July-Dec., 2024'!$B$1:$T$46
Name pp: 'July-Dec., 2025'!$B$1:$T$46
Name pp: '歷年(2021~)'!$B$1:$T$6
Name pp: #REF!

Sheet 歷年(2021~)
A1: 家庭暴力事件通報被害及相對人概況Overview of Victim and Offender Status in Reporting Cases of Domestic Violence
A2: 單位：人數 unit:Person
A3: 年 別 Year | C3: 性別 | D3: 被害人數 Victims | AH3: 相對人人數
D4: 國籍、身分別 By Nationality and Identity | K4: 年齡別 By Age | V4: 身心障礙別 By Disability | AH4: 年齡別 By Age | AS4: 國籍、身分別 By Nationality and Identity
D5: 合計 | E5: 本國籍非原住民 | F5: 本國籍原住民 | G5: 大陸及 港澳籍 | H5: 外國籍 | I5: 無國籍 | J5: 資料 不明 | K5: 合計 | L5: 0-未滿6歲 | M5: 6-未滿12歲 | N5: 12-未滿18歲 | O5: 18-未滿24歲 | P5: 24-未滿30歲 | Q5: 30-未滿40歲 | R5: 40-未滿50歲 | S5: 50-未滿65歲 | T5: 65歲 以上 | U5: 不詳 | V5: 合計 | W5: 非身心 障礙 | X5: 智障 | Y5: 視障 | Z5: 精神 病患 | AA5: 聲(語)障 | AB5: 聽障 | AC5: 肢障 | AD5: 失智症 | AE5: 多重 障礙 | AF5: 其他 障礙 | AG5: 不詳 | AH5: 合計 | AI5: 0-未滿6歲 | AJ5: 6-未滿12歲 | AK5: 12-未滿18歲 | AL5: 18-未滿24歲 | AM5: 24-未滿30歲 | AN5: 30-未滿40歲 | AO5: 40-未滿50歲 | AP5: 50-未滿65歲 | AQ5: 65歲 以上 | AR5: 不詳 | AS5: 合計 | AT5: 本國籍非原住民 | AU5: 本國籍原住民 | AV5: 大陸及 港澳籍 | AW5: 外國籍 | AX5: 無國籍 | AY5: 資料 不明
C6: Gender | D6: Total | E6: Non-Indigenous Native | F6: Indigenous Native | G6: Mainland China and Hong Kong and Macau | H6: Foreign | I6: Stateless | J6: Unknown Information | K6: Total | L6: Under 6 Years | M6: 6-Under 12 Years | N6: 12-Under 18 Years | O6: 18-Under 2 Years | P6: 24-Under 30 Years | Q6: 30-Under 40 Years | R6: 40-Under 50 Years | S6: 50-Under 65 Years | T6: Above 65 Years | U6: Unknown | V6: Total | W6: Not Disability | X6: Intellectually Disabled | Y6: Vision | Z6: Mentally Illed | AA6: Voice | AB6: Hearing | AC6: Physically Impaired | AD6: Dementia | AE6: Multiple | AF6: Other | AG6: Unknown | AH6: Total | AI6: Under 6 Years | AJ6: 6-Under 12 Years | AK6: 12-Under 18 Years | AL6: 18-Under 2 Years | AM6: 24-Under 30 Years | AN6: 30-Under 40 Years | AO6: 40-Under 50 Years | AP6: 50-Under 65 Years | AQ6: Above 65 Years | AR6: Unknown | AS6: Total | AT6: Non-Indigenous Native | AU6: Indigenous Native | AV6: Mainland China and Hong Kong and Macau | AW6: Foreign | AX6: Stateless | AY6: Unknown Information
A7: 110年 2021 | C7: 計 Total | D7: 118532 | E7: 107596 | F7: 6278 | G7: 993 | H7: 1431 | I7: 27 | J7: 2207 | K7: 118532 | L7: 5577 | M7: 7679 | N7: 7579 | O7: 8504 | P7: 10231 | Q7: 22213 | R7: 22183 | S7: 20976 | T7: 13127 | U7: 463 | V7: 118532 | W7: 106938 | X7: 1717 | Y7: 458 | Z7: 2831 | AA7: 95 | AB7: 553 | AC7: 2071 | AD7: … | AE7: 957 | AF7: 1379 | AG7: 1533 | AH7: 114647 | AI7: 25 | AJ7: 391 | AK7: 2833 | AL7: 5981 | AM7: 10332 | AN7: 26949 | AO7: 30619 | AP7: 24621 | AQ7: 9390 | AR7: 3506 | AS7: 114647 | AT7: 104100 | AU7: 5247 | AV7: 714 | AW7: 1188 | AX7: 30 | AY7: 3368
C8: 男 Male | D8: 42274 | E8: 39200 | F8: 2062 | G8: 52 | H8: 202 | I8: 13 | J8: 745 | K8: 42274 | L8: 3198 | M8: 4561 | N8: 3505 | O8: 2780 | P8: 2998 | Q8: 5931 | R8: 6695 | S8: 7519 | T8: 4987 | U8: 100 | V8: 42274 | W8: 37529 | X8: 699 | Y8: 187 | Z8: 803 | AA8: 62 | AB8: 240 | AC8: 1025 | AD8: … | AE8: 472 | AF8: 717 | AG8: 540 | AH8: 82311 | AI8: 17 | AJ8: 304 | AK8: 2161 | AL8: 4119 | AM8: 7245 | AN8: 18495 | AO8: 22325 | AP8: 18406 | AQ8: 6669 | AR8: 2570 | AS8: 82311 | AT8: 75396 | AU8: 3709 | AV8: 101 | AW8: 676 | AX8: 25 | AY8: 2404
C9: 女 Female | D9: 76189 | E9: 68359 | F9: 4212 | G9: 941 | H9: 1228 | I9: 14 | J9: 1435 | K9: 76189 | L9: 2360 | M9: 3103 | N9: 4065 | O9: 5722 | P9: 7231 | Q9: 16280 | R9: 15486 | S9: 13454 | T9: 8139 | U9: 349 | V9: 76189 | W9: 69360 | X9: 1018 | Y9: 271 | Z9: 2028 | AA9: 33 | AB9: 313 | AC9: 1046 | AD9: … | AE9: 485 | AF9: 662 | AG9: 973 | AH9: 32233 | AI9: 8 | AJ9: 87 | AK9: 669 | AL9: 1862 | AM9: 3084 | AN9: 8449 | AO9: 8289 | AP9: 6212 | AQ9: 2721 | AR9: 852 | AS9: 32233 | AT9: 28678 | AU9: 1536 | AV9: 612 | AW9: 512 | AX9: 5 | AY9: 890
C10: 其他 Other | D10: 22 | E10: 15 | F10: 0 | G10: 0 | H10: 0 | I10: 0 | J10: 7 | K10: 22 | L10: 12 | M10: 1 | N10: 1 | O10: 1 | P10: 2 | Q10: 1 | R10: 1 | S10: 0 | T10: 1 | U10: 2 | V10: 22 | W10: 17 | X10: 0 | Y10: 0 | Z10: 0 | AA10: 0 | AB10: 0 | AC10: 0 | AD10: … | AE10: 0 | AF10: 0 | AG10: 5 | AH10: 9 | AI10: 0 | AJ10: 0 | AK10: 0 | AL10: 0 | AM10: 0 | AN10: 2 | AO10: 2 | AP10: 2 | AQ10: 0 | AR10: 3 | AS10: 9 | AT10: 5 | AU10: 2 | AV10: 0 | AW10: 0 | AX10: 0 | AY10: 2
C11: 不詳Unknown | D11: 47 | E11: 22 | F11: 4 | G11: 0 | H11: 1 | I11: 0 | J11: 20 | K11: 47 | L11: 7 | M11: 14 | N11: 8 | O11: 1 | P11: 0 | Q11: 1 | R11: 1 | S11: 3 | T11: 0 | U11: 12 | V11: 47 | W11: 32 | X11: 0 | Y11: 0 | Z11: 0 | AA11: 0 | AB11: 0 | AC11: 0 | AD11: … | AE11: 0 | AF11: 0 | AG11: 15 | AH11: 94 | AI11: 0 | AJ11: 0 | AK11: 3 | AL11: 0 | AM11: 3 | AN11: 3 | AO11: 3 | AP11: 1 | AQ11: 0 | AR11: 81 | AS11: 94 | AT11: 21 | AU11: 0 | AV11: 1 | AW11: 0 | AX11: 0 | AY11: 72
A12: 111年 2022 | C12: 計 Total | D12: 123741 | E12: 112769 | F12: 6548 | G12: 935 | H12: 1296 | I12: 25 | J12: 2168 | K12: 123741 | L12: 5733 | M12: 7939 | N12: 7603 | O12: 8464 | P12: 11284 | Q12: 22600 | R12: 24019 | S12: 21548 | T12: 14167 | U12: 384 | V12: 123741 | W12: 112228 | X12: 1780 | Y12: 482 | Z12: 2917 | AA12: 92 | AB12: 607 | AC12: 2108 | AD12: 336 | AE12: 1012 | AF12: 1367 | AG12: 812 | AH12: 118851 | AI12: 30 | AJ12: 384 | AK12: 3138 | AL12: 5958 | AM12: 11126 | AN12: 27479 | AO12: 32246 | AP12: 25157 | AQ12: 10157 | AR12: 3176 | AS12: 118851 | AT12: 108702 | AU12: 5477 | AV12: 643 | AW12: 1124 | AX12: 18 | AY12: 2887
C13: 男 Male | D13: 44773 | E13: 41625 | F13: 2184 | G13: 39 | H13: 199 | I13: 13 | J13: 713 | K13: 44773 | L13: 3210 | M13: 4720 | N13: 3422 | O13: 2740 | P13: 3399 | Q13: 6371 | R13: 7418 | S13: 8057 | T13: 5322 | U13: 114 | V13: 44773 | W13: 39946 | X13: 746 | Y13: 208 | Z13: 808 | AA13: 55 | AB13: 296 | AC13: 1057 | AD13: 113 | AE13: 503 | AF13: 794 | AG13: 247 | AH13: 84367 | AI13: 22 | AJ13: 298 | AK13: 2335 | AL13: 4034 | AM13: 7658 | AN13: 18890 | AO13: 23167 | AP13: 18615 | AQ13: 7059 | AR13: 2289 | AS13: 84367 | AT13: 77712 | AU13: 3826 | AV13: 117 | AW13: 613 | AX13: 16 | AY13: 2083
C14: 女 Female | D14: 78903 | E14: 71104 | F14: 4358 | G14: 895 | H14: 1097 | I14: 12 | J14: 1437 | K14: 78903 | L14: 2510 | M14: 3196 | N14: 4170 | O14: 5721 | P14: 7883 | Q14: 16227 | R14: 16598 | S14: 13488 | T14: 8843 | U14: 267 | V14: 78903 | W14: 72230 | X14: 1032 | Y14: 274 | Z14: 2108 | AA14: 37 | AB14: 311 | AC14: 1051 | AD14: 223 | AE14: 509 | AF14: 572 | AG14: 556 | AH14: 34422 | AI14: 8 | AJ14: 86 | AK14: 803 | AL14: 1923 | AM14: 3466 | AN14: 8584 | AO14: 9075 | AP14: 6537 | AQ14: 3098 | AR14: 842 | AS14: 34422 | AT14: 30967 | AU14: 1650 | AV14: 526 | AW14: 509 | AX14: 2 | AY14: 768
C15: 其他 Other | D15: 14 | E15: 9 | F15: 2 | G15: 0 | H15: 0 | I15: 0 | J15: 3 | K15: 14 | L15: 5 | M15: 1 | N15: 1 | O15: 2 | P15: 2 | Q15: 0 | R15: 1 | S15: 0 | T15: 1 | U15: 1 | V15: 14 | W15: 11 | X15: 1 | Y15: 0 | Z15: 0 | AA15: 0 | AB15: 0 | AC15: 0 | AD15: 0 | AE15: 0 | AF15: 0 | AG15: 2 | AH15: 10 | AI15: 0 | AJ15: 0 | AK15: 0 | AL15: 0 | AM15: 1 | AN15: 3 | AO15: 1 | AP15: 2 | AQ15: 0 | AR15: 3 | AS15: 10 | AT15: 6 | AU15: 0 | AV15: 0 | AW15: 1 | AX15: 0 | AY15: 3
C16: 不詳Unknown | D16: 51 | E16: 31 | F16: 4 | G16: 1 | H16: 0 | I16: 0 | J16: 15 | K16: 51 | L16: 8 | M16: 22 | N16: 10 | O16: 1 | P16: 0 | Q16: 2 | R16: 2 | S16: 3 | T16: 1 | U16: 2 | V16: 51 | W16: 41 | X16: 1 | Y16: 0 | Z16: 1 | AA16: 0 | AB16: 0 | AC16: 0 | AD16: 0 | AE16: 0 | AF16: 1 | AG16: 7 | AH16: 52 | AI16: 0 | AJ16: 0 | AK16: 0 | AL16: 1 | AM16: 1 | AN16: 2 | AO16: 3 | AP16: 3 | AQ16: 0 | AR16: 42 | AS16: 52 | AT16: 17 | AU16: 1 | AV16: 0 | AW16: 1 | AX16: 0 | AY16: 33
A17: 112年 2023 | C17: 計 Total | D17: 132147 | E17: 120607 | F17: 7006 | G17: 923 | H17: 1357 | I17: 33 | J17: 2221 | K17: 132147 | L17: 6003 | M17: 9076 | N17: 7755 | O17: 8658 | P17: 11839 | Q17: 23625 | R17: 26108 | S17: 23001 | T17: 15730 | U17: 352 | V17: 132147 | W17: 119789 | X17: 1964 | Y17: 397 | Z17: 3105 | AA17: 121 | AB17: 646 | AC17: 2303 | AD17: 386 | AE17: 1154 | AF17: 1585 | AG17: 697 | AH17: 126815 | AI17: 38 | AJ17: 504 | AK17: 3192 | AL17: 6339 | AM17: 11981 | AN17: 28653 | AO17: 34595 | AP17: 26138 | AQ17: 11583 | AR17: 3792 | AS17: 126815 | AT17: 115859 | AU17: 5930 | AV17: 670 | AW17: 1255 | AX17: 27 | AY17: 3074
C18: 男 Male | D18: 48891 | E18: 45489 | F18: 2315 | G18: 61 | H18: 220 | I18: 14 | J18: 792 | K18: 48891 | L18: 3465 | M18: 5361 | N18: 3512 | O18: 2888 | P18: 3731 | Q18: 6995 | R18: 8311 | S18: 8677 | T18: 5850 | U18: 101 | V18: 48891 | W18: 43705 | X18: 812 | Y18: 181 | Z18: 917 | AA18: 81 | AB18: 289 | AC18: 1114 | AD18: 117 | AE18: 563 | AF18: 909 | AG18: 203 | AH18: 88587 | AI18: 33 | AJ18: 389 | AK18: 2348 | AL18: 4208 | AM18: 8013 | AN18: 19364 | AO18: 24406 | AP18: 19128 | AQ18: 8001 | AR18: 2697 | AS18: 88587 | AT18: 81460 | AU18: 4125 | AV18: 129 | AW18: 690 | AX18: 19 | AY18: 2164
C19: 女 Female | D19: 83179 | E19: 75062 | F19: 4685 | G19: 862 | H19: 1137 | I19: 19 | J19: 1414 | K19: 83179 | L19: 2517 | M19: 3696 | N19: 4222 | O19: 5769 | P19: 8105 | Q19: 16627 | R19: 17795 | S19: 14321 | T19: 9879 | U19: 248 | V19: 83179 | W19: 76021 | X19: 1151 | Y19: 216 | Z19: 2188 | AA19: 40 | AB19: 357 | AC19: 1188 | AD19: 269 | AE19: 589 | AF19: 676 | AG19: 484 | AH19: 38146 | AI19: 5 | AJ19: 115 | AK19: 844 | AL19: 2129 | AM19: 3966 | AN19: 9283 | AO19: 10186 | AP19: 7005 | AQ19: 3579 | AR19: 1034 | AS19: 38146 | AT19: 34370 | AU19: 1805 | AV19: 541 | AW19: 564 | AX19: 8 | AY19: 858
C20: 其他 Other | D20: 13 | E20: 12 | F20: 0 | G20: 0 | H20: 0 | I20: 0 | J20: 1 | K20: 13 | L20: 0 | M20: 1 | N20: 2 | O20: 1 | P20: 3 | Q20: 2 | R20: 1 | S20: 1 | T20: 1 | U20: 1 | V20: 13 | W20: 11 | X20: 0 | Y20: 0 | Z20: 0 | AA20: 0 | AB20: 0 | AC20: 0 | AD20: 0 | AE20: 0 | AF20: 0 | AG20: 2 | AH20: 7 | AI20: 0 | AJ20: 0 | AK20: 0 | AL20: 1 | AM20: 0 | AN20: 3 | AO20: 0 | AP20: 2 | AQ20: 0 | AR20: 1 | AS20: 7 | AT20: 7 | AU20: 0 | AV20: 0 | AW20: 0 | AX20: 0 | AY20: 0
C21: 不詳Unknown | D21: 64 | E21: 44 | F21: 6 | G21: 0 | H21: 0 | I21: 0 | J21: 14 | K21: 64 | L21: 21 | M21: 18 | N21: 19 | O21: 0 | P21: 0 | Q21: 1 | R21: 1 | S21: 2 | T21: 0 | U21: 2 | V21: 64 | W21: 52 | X21: 1 | Y21: 0 | Z21: 0 | AA21: 0 | AB21: 0 | AC21: 1 | AD21: 0 | AE21: 2 | AF21: 0 | AG21: 8 | AH21: 75 | AI21: 0 | AJ21: 0 | AK21: 0 | AL21: 1 | AM21: 2 | AN21: 3 | AO21: 3 | AP21: 3 | AQ21: 3 | AR21: 60 | AS21: 75 | AT21: 22 | AU21: 0 | AV21: 0 | AW21: 1 | AX21: 0 | AY21: 52
A22: 113年 2024 | C22: 計 Total | D22: 138859 | E22: 126845 | F22: 7429 | G22: 913 | H22: 1464 | I22: 28 | J22: 2180 | K22: 138859 | L22: 6224 | M22: 9842 | N22: 8045 | O22: 8896 | P22: 12432 | Q22: 24757 | R22: 27308 | S22: 24160 | T22: 16866 | U22: 329 | V22: 138859 | W22: 125177 | X22: 2080 | Y22: 426 | Z22: 3484 | AA22: 144 | AB22: 695 | AC22: 2455 | AD22: 536 | AE22: 1323 | AF22: 1909 | AG22: 630 | AH22: 132792 | AI22: 49 | AJ22: 684 | AK22: 3596 | AL22: 6491 | AM22: 12508 | AN22: 29611 | AO22: 35981 | AP22: 27273 | AQ22: 12693 | AR22: 3906 | AS22: 132792 | AT22: 121611 | AU22: 6184 | AV22: 732 | AW22: 1356 | AX22: 27 | AY22: 2882
C23: 男 Male | D23: 52894 | E23: 49151 | F23: 2548 | G23: 55 | H23: 266 | I23: 15 | J23: 859 | K23: 52894 | L23: 3592 | M23: 5933 | N23: 3756 | O23: 3011 | P23: 4032 | Q23: 7768 | R23: 8940 | S23: 9390 | T23: 6386 | U23: 86 | V23: 52894 | W23: 47054 | X23: 874 | Y23: 221 | Z23: 1018 | AA23: 86 | AB23: 347 | AC23: 1242 | AD23: 151 | AE23: 667 | AF23: 1047 | AG23: 187 | AH23: 91211 | AI23: 37 | AJ23: 515 | AK23: 2600 | AL23: 4235 | AM23: 8262 | AN23: 19687 | AO23: 24907 | AP23: 19505 | AQ23: 8700 | AR23: 2763 | AS23: 91211 | AT23: 84050 | AU23: 4265 | AV23: 162 | AW23: 752 | AX23: 16 | AY23: 1966
C24: 女 Female | D24: 85864 | E24: 77620 | F24: 4874 | G24: 857 | H24: 1197 | I24: 13 | J24: 1303 | K24: 85864 | L24: 2613 | M24: 3875 | N24: 4265 | O24: 5884 | P24: 8397 | Q24: 16984 | R24: 18362 | S24: 14766 | T24: 10480 | U24: 238 | V24: 85864 | W24: 78038 | X24: 1203 | Y24: 205 | Z24: 2464 | AA24: 58 | AB24: 348 | AC24: 1212 | AD24: 385 | AE24: 656 | AF24: 861 | AG24: 434 | AH24: 41502 | AI24: 12 | AJ24: 169 | AK24: 995 | AL24: 2255 | AM24: 4239 | AN24: 9915 | AO24: 11069 | AP24: 7766 | AQ24: 3992 | AR24: 1090 | AS24: 41502 | AT24: 37534 | AU24: 1916 | AV24: 570 | AW24: 600 | AX24: 11 | AY24: 871
C25: 其他 Other | D25: 14 | E25: 10 | F25: 1 | G25: 1 | H25: 1 | I25: 0 | J25: 1 | K25: 14 | L25: 0 | M25: 0 | N25: 0 | O25: 1 | P25: 3 | Q25: 2 | R25: 4 | S25: 1 | T25: 0 | U25: 3 | V25: 14 | W25: 7 | X25: 2 | Y25: 0 | Z25: 1 | AA25: 0 | AB25: 0 | AC25: 0 | AD25: 0 | AE25: 0 | AF25: 0 | AG25: 4 | AH25: 13 | AI25: 0 | AJ25: 0 | AK25: 1 | AL25: 0 | AM25: 3 | AN25: 3 | AO25: 3 | AP25: 0 | AQ25: 0 | AR25: 3 | AS25: 13 | AT25: 10 | AU25: 0 | AV25: 0 | AW25: 1 | AX25: 0 | AY25: 2
C26: 不詳Unknown | D26: 87 | E26: 64 | F26: 6 | G26: 0 | H26: 0 | I26: 0 | J26: 17 | K26: 87 | L26: 19 | M26: 34 | N26: 24 | O26: 0 | P26: 0 | Q26: 3 | R26: 2 | S26: 3 | T26: 0 | U26: 2 | V26: 87 | W26: 78 | X26: 1 | Y26: 0 | Z26: 1 | AA26: 0 | AB26: 0 | AC26: 1 | AD26: 0 | AE26: 0 | AF26: 1 | AG26: 5 | AH26: 66 | AI26: 0 | AJ26: 0 | AK26: 0 | AL26: 1 | AM26: 4 | AN26: 6 | AO26: 2 | AP26: 2 | AQ26: 1 | AR26: 50 | AS26: 66 | AT26: 17 | AU26: 3 | AV26: 0 | AW26: 3 | AX26: 0 | AY26: 43
A27: 113年上半年 Jan.-June,2024 | C27: 計 Total | D27: 74057 | E27: 67809 | F27: 3909 | G27: 476 | H27: 752 | I27: 9 | J27: 1102 | K27: 74057 | L27: 3300 | M27: 5387 | N27: 4349 | O27: 4698 | P27: 6515 | Q27: 13250 | R27: 14611 | S27: 12852 | T27: 8922 | U27: 173 | V27: 74057 | W27: 66699 | X27: 1155 | Y27: 236 | Z27: 1900 | AA27: 79 | AB27: 373 | AC27: 1306 | AD27: 258 | AE27: 728 | AF27: 1006 | AG27: 317 | AH27: 70686 | AI27: 26 | AJ27: 338 | AK27: 1862 | AL27: 3450 | AM27: 6749 | AN27: 15959 | AO27: 19199 | AP27: 14522 | AQ27: 6614 | AR27: 1967 | AS27: 70686 | AT27: 64851 | AU27: 3291 | AV27: 373 | AW27: 662 | AX27: 11 | AY27: 1498
C28: 男 Male | D28: 27904 | E28: 25959 | F28: 1346 | G28: 30 | H28: 134 | I28: 5 | J28: 430 | K28: 27904 | L28: 1915 | M28: 3272 | N28: 1995 | O28: 1569 | P28: 2090 | Q28: 4092 | R28: 4664 | S28: 4915 | T28: 3342 | U28: 50 | V28: 27904 | W28: 24781 | X28: 483 | Y28: 125 | Z28: 524 | AA28: 47 | AB28: 199 | AC28: 656 | AD28: 67 | AE28: 369 | AF28: 562 | AG28: 91 | AH28: 49027 | AI28: 19 | AJ28: 259 | AK28: 1367 | AL28: 2286 | AM28: 4516 | AN28: 10681 | AO28: 13441 | AP28: 10490 | AQ28: 4567 | AR28: 1401 | AS28: 49027 | AT28: 45263 | AU28: 2295 | AV28: 79 | AW28: 358 | AX28: 6 | AY28: 1026
C29: 女 Female | D29: 46098 | E29: 41807 | F29: 2559 | G29: 445 | H29: 617 | I29: 4 | J29: 666 | K29: 46098 | L29: 1378 | M29: 2096 | N29: 2338 | O29: 3129 | P29: 4423 | Q29: 9154 | R29: 9944 | S29: 7934 | T29: 5580 | U29: 122 | V29: 46098 | W29: 41868 | X29: 670 | Y29: 111 | Z29: 1375 | AA29: 32 | AB29: 174 | AC29: 649 | AD29: 191 | AE29: 359 | AF29: 443 | AG29: 226 | AH29: 21627 | AI29: 7 | AJ29: 79 | AK29: 494 | AL29: 1164 | AM29: 2230 | AN29: 5276 | AO29: 5756 | AP29: 4031 | AQ29: 2047 | AR29: 543 | AS29: 21627 | AT29: 19581 | AU29: 995 | AV29: 294 | AW29: 303 | AX29: 5 | AY29: 449
C30: 其他 Other | D30: 7 | E30: 4 | F30: 1 | G30: 1 | H30: 1 | I30: 0 | J30: 0 | K30: 7 | L30: 0 | M30: 0 | N30: 0 | O30: 0 | P30: 2 | Q30: 2 | R30: 2 | S30: 1 | T30: 0 | U30: 0 | V30: 7 | W30: 4 | X30: 2 | Y30: 0 | Z30: 1 | AA30: 0 | AB30: 0 | AC30: 0 | AD30: 0 | AE30: 0 | AF30: 0 | AG30: 0 | AH30: 3 | AI30: 0 | AJ30: 0 | AK30: 1 | AL30: 0 | AM30: 1 | AN30: 0 | AO30: 1 | AP30: 0 | AQ30: 0 | AR30: 0 | AS30: 3 | AT30: 3 | AU30: 0 | AV30: 0 | AW30: 0 | AX30: 0 | AY30: 0
C31: 不詳Unknown | D31: 48 | E31: 39 | F31: 3 | G31: 0 | H31: 0 | I31: 0 | J31: 6 | K31: 48 | L31: 7 | M31: 19 | N31: 16 | O31: 0 | P31: 0 | Q31: 2 | R31: 1 | S31: 2 | T31: 0 | U31: 1 | V31: 48 | W31: 46 | X31: 0 | Y31: 0 | Z31: 0 | AA31: 0 | AB31: 0 | AC31: 1 | AD31: 0 | AE31: 0 | AF31: 1 | AG31: 0 | AH31: 29 | AI31: 0 | AJ31: 0 | AK31: 0 | AL31: 0 | AM31: 2 | AN31: 2 | AO31: 1 | AP31: 1 | AQ31: 0 | AR31: 23 | AS31: 29 | AT31: 4 | AU31: 1 | AV31: 0 | AW31: 1 | AX31: 0 | AY31: 23
A32: 113年下半年 July-Dec.,2024 | C32: 計 Total | D32: 64802 | E32: 59036 | F32: 3520 | G32: 437 | H32: 712 | I32: 19 | J32: 1078 | K32: 64802 | L32: 2924 | M32: 4455 | N32: 3696 | O32: 4198 | P32: 5917 | Q32: 11507 | R32: 12697 | S32: 11308 | T32: 7944 | U32: 156 | V32: 64802 | W32: 58478 | X32: 925 | Y32: 190 | Z32: 1584 | AA32: 65 | AB32: 322 | AC32: 1149 | AD32: 278 | AE32: 595 | AF32: 903 | AG32: 313 | AH32: 62106 | AI32: 23 | AJ32: 346 | AK32: 1734 | AL32: 3041 | AM32: 5759 | AN32: 13652 | AO32: 16782 | AP32: 12751 | AQ32: 6079 | AR32: 1939 | AS32: 62106 | AT32: 56760 | AU32: 2893 | AV32: 359 | AW32: 694 | AX32: 16 | AY32: 1384
C33: 男 Male | D33: 24990 | E33: 23192 | F33: 1202 | G33: 25 | H33: 132 | I33: 10 | J33: 429 | K33: 24990 | L33: 1677 | M33: 2661 | N33: 1761 | O33: 1442 | P33: 1942 | Q33: 3676 | R33: 4276 | S33: 4475 | T33: 3044 | U33: 36 | V33: 24990 | W33: 22273 | X33: 391 | Y33: 96 | Z33: 494 | AA33: 39 | AB33: 148 | AC33: 586 | AD33: 84 | AE33: 298 | AF33: 485 | AG33: 96 | AH33: 42184 | AI33: 18 | AJ33: 256 | AK33: 1233 | AL33: 1949 | AM33: 3746 | AN33: 9006 | AO33: 11466 | AP33: 9015 | AQ33: 4133 | AR33: 1362 | AS33: 42184 | AT33: 38787 | AU33: 1970 | AV33: 83 | AW33: 394 | AX33: 10 | AY33: 940
C34: 女 Female | D34: 39766 | E34: 35813 | F34: 2315 | G34: 412 | H34: 580 | I34: 9 | J34: 637 | K34: 39766 | L34: 1235 | M34: 1779 | N34: 1927 | O34: 2755 | P34: 3974 | Q34: 7830 | R34: 8418 | S34: 6832 | T34: 4900 | U34: 116 | V34: 39766 | W34: 36170 | X34: 533 | Y34: 94 | Z34: 1089 | AA34: 26 | AB34: 174 | AC34: 563 | AD34: 194 | AE34: 297 | AF34: 418 | AG34: 208 | AH34: 19875 | AI34: 5 | AJ34: 90 | AK34: 501 | AL34: 1091 | AM34: 2009 | AN34: 4639 | AO34: 5313 | AP34: 3735 | AQ34: 1945 | AR34: 547 | AS34: 19875 | AT34: 17953 | AU34: 921 | AV34: 276 | AW34: 297 | AX34: 6 | AY34: 422
C35: 其他 Other | D35: 7 | E35: 6 | F35: 0 | G35: 0 | H35: 0 | I35: 0 | J35: 1 | K35: 7 | L35: 0 | M35: 0 | N35: 0 | O35: 1 | P35: 1 | Q35: 0 | R35: 2 | S35: 0 | T35: 0 | U35: 3 | V35: 7 | W35: 3 | X35: 0 | Y35: 0 | Z35: 0 | AA35: 0 | AB35: 0 | AC35: 0 | AD35: 0 | AE35: 0 | AF35: 0 | AG35: 4 | AH35: 10 | AI35: 0 | AJ35: 0 | AK35: 0 | AL35: 0 | AM35: 2 | AN35: 3 | AO35: 2 | AP35: 0 | AQ35: 0 | AR35: 3 | AS35: 10 | AT35: 7 | AU35: 0 | AV35: 0 | AW35: 1 | AX35: 0 | AY35: 2
C36: 不詳Unknown | D36: 39 | E36: 25 | F36: 3 | G36: 0 | H36: 0 | I36: 0 | J36: 11 | K36: 39 | L36: 12 | M36: 15 | N36: 8 | O36: 0 | P36: 0 | Q36: 1 | R36: 1 | S36: 1 | T36: 0 | U36: 1 | V36: 39 | W36: 32 | X36: 1 | Y36: 0 | Z36: 1 | AA36: 0 | AB36: 0 | AC36: 0 | AD36: 0 | AE36: 0 | AF36: 0 | AG36: 5 | AH36: 37 | AI36: 0 | AJ36: 0 | AK36: 0 | AL36: 1 | AM36: 2 | AN36: 4 | AO36: 1 | AP36: 1 | AQ36: 1 | AR36: 27 | AS36: 37 | AT36: 13 | AU36: 2 | AV36: 0 | AW36: 2 | AX36: 0 | AY36: 20
A37: 114年 2025 | C37: 計 Total | D37: 146105 | E37: 132473 | F37: 8041 | G37: 900 | H37: 1679 | I37: 25 | J37: 2987 | K37: 146105 | L37: 6231 | M37: 10228 | N37: 8640 | O37: 8933 | P37: 12897 | Q37: 25709 | R37: 29292 | S37: 25552 | T37: 18298 | U37: 325 | V37: 146105 | W37: 131647 | X37: 2166 | Y37: 386 | Z37: 3635 | AA37: 163 | AB37: 768 | AC37: 2577 | AD37: 593 | AE37: 1387 | AF37: 2100 | AG37: 683 | AH37: 140334 | AI37: 29 | AJ37: 822 | AK37: 4414 | AL37: 6566 | AM37: 12659 | AN37: 30880 | AO37: 37688 | AP37: 28892 | AQ37: 13921 | AR37: 4463 | AS37: 140334 | AT37: 127161 | AU37: 6737 | AV37: 760 | AW37: 1599 | AX37: 28 | AY37: 4049
C38: 男 Male | D38: 56855 | E38: 52370 | F38: 2893 | G38: 75 | H38: 312 | I38: 12 | J38: 1193 | K38: 56855 | L38: 3616 | M38: 6224 | N38: 4078 | O38: 3138 | P38: 4251 | Q38: 8413 | R38: 10053 | S38: 10025 | T38: 6956 | U38: 101 | V38: 56855 | W38: 50587 | X38: 924 | Y38: 172 | Z38: 1086 | AA38: 99 | AB38: 356 | AC38: 1321 | AD38: 204 | AE38: 704 | AF38: 1175 | AG38: 227 | AH38: 94881 | AI38: 16 | AJ38: 626 | AK38: 3157 | AL38: 4226 | AM38: 8157 | AN38: 20378 | AO38: 25772 | AP38: 20306 | AQ38: 9216 | AR38: 3027 | AS38: 94881 | AT38: 86621 | AU38: 4498 | AV38: 170 | AW38: 886 | AX38: 18 | AY38: 2688
C39: 女 Female | D39: 89121 | E39: 80008 | F39: 5141 | G39: 824 | H39: 1366 | I39: 13 | J39: 1769 | K39: 89121 | L39: 2571 | M39: 3973 | N39: 4533 | O39: 5790 | P39: 8644 | Q39: 17293 | R39: 19233 | S39: 15523 | T39: 11339 | U39: 222 | V39: 89121 | W39: 80960 | X39: 1242 | Y39: 214 | Z39: 2547 | AA39: 64 | AB39: 412 | AC39: 1256 | AD39: 389 | AE39: 679 | AF39: 917 | AG39: 441 | AH39: 45315 | AI39: 13 | AJ39: 196 | AK39: 1255 | AL39: 2337 | AM39: 4498 | AN39: 10491 | AO39: 11908 | AP39: 8584 | AQ39: 4702 | AR39: 1331 | AS39: 45315 | AT39: 40505 | AU39: 2237 | AV39: 587 | AW39: 712 | AX39: 10 | AY39: 1264
C40: 其他 Other | D40: 13 | E40: 13 | F40: 0 | G40: 0 | H40: 0 | I40: 0 | J40: 0 | K40: 13 | L40: 0 | M40: 0 | N40: 0 | O40: 4 | P40: 1 | Q40: 3 | R40: 3 | S40: 2 | T40: 0 | U40: 0 | V40: 13 | W40: 9 | X40: 0 | Y40: 0 | Z40: 1 | AA40: 0 | AB40: 0 | AC40: 0 | AD40: 0 | AE40: 2 | AF40: 1 | AG40: 0 | AH40: 11 | AI40: 0 | AJ40: 0 | AK40: 0 | AL40: 2 | AM40: 1 | AN40: 2 | AO40: 3 | AP40: 1 | AQ40: 1 | AR40: 1 | AS40: 11 | AT40: 10 | AU40: 0 | AV40: 0 | AW40: 0 | AX40: 0 | AY40: 1
...

Sheet 2025
A1: 家庭暴力事件通報被害及相對人概況Overview of Victim and Offender Status in Reporting Cases of Domestic Violence
A2: 114年，2025
A3: 單位：人數 unit:Person
A4: 區域別 Locality | C4: 性別 | D4: 被害人數 Victims | AH4: 相對人人數
D5: 國籍、身分別 By Nationality and Identity | K5: 年齡別 By Age | V5: 身心障礙別 By Disability | AH5: 年齡別 By Age | AS5: 國籍、身分別 By Nationality and Identity
D6: 合計 | E6: 本國籍 非原住民 | F6: 本國籍 原住民 | G6: 大陸及 港澳籍 | H6: 外國籍 | I6: 無國籍 | J6: 資料 不明 | K6: 合計 | L6: 0-未滿6歲 | M6: 6-未滿12歲 | N6: 12-未滿18歲 | O6: 18-未滿24歲 | P6: 24-未滿30歲 | Q6: 30-未滿40歲 | R6: 40-未滿50歲 | S6: 50-未滿65歲 | T6: 65歲 以上 | U6: 不詳 | V6: 合計 | W6: 非身心 障礙 | X6: 智障 | Y6: 視障 | Z6: 精神 病患 | AA6: 聲(語)障 | AB6: 聽障 | AC6: 肢障 | AD6: 失智症 | AE6: 多重 障礙 | AF6: 其他 障礙 | AG6: 不詳 | AH6: 合計 | AI6: 0-未滿6歲 | AJ6: 6-未滿12歲 | AK6: 12-未滿18歲 | AL6: 18-未滿24歲 | AM6: 24-未滿30歲 | AN6: 30-未滿40歲 | AO6: 40-未滿50歲 | AP6: 50-未滿65歲 | AQ6: 65歲 以上 | AR6: 不詳 | AS6: 合計 | AT6: 本國籍非原住民 | AU6: 本國籍原住民 | AV6: 大陸及 港澳籍 | AW6: 外國籍 | AX6: 無國籍 | AY6: 資料 不明
C7: Gender | D7: Total | E7: Non-Indigenous Native | F7: Indigenous Native | G7: Mainland China and Hong Kong and Macau | H7: Foreign | I7: Stateless | J7: Unknown Information | K7: Total | L7: Under 6 Years | M7: 6-Under 12 Years | N7: 12-Under 18 Years | O7: 18-Under 2 Years | P7: 24-Under 30 Years | Q7: 30-Under 40 Years | R7: 40-Under 50 Years | S7: 50-Under 65 Years | T7: Above 65 Years | U7: Unknown | V7: Total | W7: Not Disability | X7: Intellectually Disabled | Y7: Vision | Z7: Mentally Illed | AA7: Voice | AB7: Hearing | AC7: Physically Impaired | AD7: Dementia | AE7: Multiple | AF7: Other | AG7: Unknown | AH7: Total | AI7: Under 6 Years | AJ7: 6-Under 12 Years | AK7: 12-Under 18 Years | AL7: 18-Under 2 Years | AM7: 24-Under 30 Years | AN7: 30-Under 40 Years | AO7: 40-Under 50 Years | AP7: 50-Under 65 Years | AQ7: Above 65 Years | AR7: Unknown | AS7: Total | AT7: Non-Indigenous Native | AU7: Indigenous Native | AV7: Mainland China and Hong Kong and Macau | AW7: Foreign | AX7: Stateless | AY7: Unknown Information
A8: 總計 | C8: 計 Total | D8: 146105 | E8: 132473 | F8: 8041 | G8: 900 | H8: 1679 | I8: 25 | J8: 2987 | K8: 146105 | L8: 6231 | M8: 10228 | N8: 8640 | O8: 8933 | P8: 12897 | Q8: 25709 | R8: 29292 | S8: 25552 | T8: 18298 | U8: 325 | V8: 146105 | W8: 131647 | X8: 2166 | Y8: 386 | Z8: 3635 | AA8: 163 | AB8: 768 | AC8: 2577 | AD8: 593 | AE8: 1387 | AF8: 2100 | AG8: 683 | AH8: 140334 | AI8: 29 | AJ8: 822 | AK8: 4414 | AL8: 6566 | AM8: 12659 | AN8: 30880 | AO8: 37688 | AP8: 28892 | AQ8: 13921 | AR8: 4463 | AS8: 140334 | AT8: 127161 | AU8: 6737 | AV8: 760 | AW8: 1599 | AX8: 28 | AY8: 4049
C9: 男 Male | D9: 56855 | E9: 52370 | F9: 2893 | G9: 75 | H9: 312 | I9: 12 | J9: 1193 | K9: 56855 | L9: 3616 | M9: 6224 | N9: 4078 | O9: 3138 | P9: 4251 | Q9: 8413 | R9: 10053 | S9: 10025 | T9: 6956 | U9: 101 | V9: 56855 | W9: 50587 | X9: 924 | Y9: 172 | Z9: 1086 | AA9: 99 | AB9: 356 | AC9: 1321 | AD9: 204 | AE9: 704 | AF9: 1175 | AG9: 227 | AH9: 94881 | AI9: 16 | AJ9: 626 | AK9: 3157 | AL9: 4226 | AM9: 8157 | AN9: 20378 | AO9: 25772 | AP9: 20306 | AQ9: 9216 | AR9: 3027 | AS9: 94881 | AT9: 86621 | AU9: 4498 | AV9: 170 | AW9: 886 | AX9: 18 | AY9: 2688
A10: Total | C10: 女 Female | D10: 89121 | E10: 80008 | F10: 5141 | G10: 824 | H10: 1366 | I10: 13 | J10: 1769 | K10: 89121 | L10: 2571 | M10: 3973 | N10: 4533 | O10: 5790 | P10: 8644 | Q10: 17293 | R10: 19233 | S10: 15523 | T10: 11339 | U10: 222 | V10: 89121 | W10: 80960 | X10: 1242 | Y10: 214 | Z10: 2547 | AA10: 64 | AB10: 412 | AC10: 1256 | AD10: 389 | AE10: 679 | AF10: 917 | AG10: 441 | AH10: 45315 | AI10: 13 | AJ10: 196 | AK10: 1255 | AL10: 2337 | AM10: 4498 | AN10: 10491 | AO10: 11908 | AP10: 8584 | AQ10: 4702 | AR10: 1331 | AS10: 45315 | AT10: 40505 | AU10: 2237 | AV10: 587 | AW10: 712 | AX10: 10 | AY10: 1264
C11: 其他 Other | D11: 13 | E11: 13 | F11: 0 | G11: 0 | H11: 0 | I11: 0 | J11: 0 | K11: 13 | L11: 0 | M11: 0 | N11: 0 | O11: 4 | P11: 1 | Q11: 3 | R11: 3 | S11: 2 | T11: 0 | U11: 0 | V11: 13 | W11: 9 | X11: 0 | Y11: 0 | Z11: 1 | AA11: 0 | AB11: 0 | AC11: 0 | AD11: 0 | AE11: 2 | AF11: 1 | AG11: 0 | AH11: 11 | AI11: 0 | AJ11: 0 | AK11: 0 | AL11: 2 | AM11: 1 | AN11: 2 | AO11: 3 | AP11: 1 | AQ11: 1 | AR11: 1 | AS11: 11 | AT11: 10 | AU11: 0 | AV11: 0 | AW11: 0 | AX11: 0 | AY11: 1
C12: 不詳Unknown | D12: 116 | E12: 82 | F12: 7 | G12: 1 | H12: 1 | I12: 0 | J12: 25 | K12: 116 | L12: 44 | M12: 31 | N12: 29 | O12: 1 | P12: 1 | Q12: 0 | R12: 3 | S12: 2 | T12: 3 | U12: 2 | V12: 116 | W12: 91 | X12: 0 | Y12: 0 | Z12: 1 | AA12: 0 | AB12: 0 | AC12: 0 | AD12: 0 | AE12: 2 | AF12: 7 | AG12: 15 | AH12: 127 | AI12: 0 | AJ12: 0 | AK12: 2 | AL12: 1 | AM12: 3 | AN12: 9 | AO12: 5 | AP12: 1 | AQ12: 2 | AR12: 104 | AS12: 127 | AT12: 25 | AU12: 2 | AV12: 3 | AW12: 1 | AX12: 0 | AY12: 96
A13: 新北市 | C13: 計 Total | D13: 24510 | E13: 21765 | F13: 552 | G13: 190 | H13: 320 | I13: 5 | J13: 1678 | K13: 24510 | L13: 906 | M13: 2024 | N13: 1592 | O13: 1606 | P13: 2149 | Q13: 4342 | R13: 4827 | S13: 4106 | T13: 2809 | U13: 149 | V13: 24510 | W13: 22165 | X13: 278 | Y13: 66 | Z13: 537 | AA13: 30 | AB13: 105 | AC13: 319 | AD13: 85 | AE13: 192 | AF13: 385 | AG13: 348 | AH13: 23123 | AI13: 0 | AJ13: 124 | AK13: 716 | AL13: 1041 | AM13: 1942 | AN13: 4845 | AO13: 5974 | AP13: 4433 | AQ13: 2158 | AR13: 1890 | AS13: 23123 | AT13: 20089 | AU13: 439 | AV13: 162 | AW13: 290 | AX13: 8 | AY13: 2135
C14: 男 Male | D14: 9014 | E14: 8051 | F14: 220 | G14: 13 | H14: 59 | I14: 2 | J14: 669 | K14: 9014 | L14: 509 | M14: 1209 | N14: 731 | O14: 532 | P14: 656 | Q14: 1263 | R14: 1579 | S14: 1511 | T14: 981 | U14: 43 | V14: 9014 | W14: 8026 | X14: 121 | Y14: 28 | Z14: 139 | AA14: 15 | AB14: 50 | AC14: 168 | AD14: 31 | AE14: 90 | AF14: 230 | AG14: 116 | AH14: 15829 | AI14: 0 | AJ14: 93 | AK14: 488 | AL14: 713 | AM14: 1248 | AN14: 3250 | AO14: 4110 | AP14: 3207 | AQ14: 1465 | AR14: 1255 | AS14: 15829 | AT14: 13925 | AU14: 279 | AV14: 45 | AW14: 150 | AX14: 4 | AY14: 1426
A15: New Taipei City | C15: 女 Female | D15: 15440 | E15: 13679 | F15: 329 | G15: 176 | H15: 261 | I15: 3 | J15: 992 | K15: 15440 | L15: 382 | M15: 797 | N15: 845 | O15: 1072 | P15: 1492 | Q15: 3079 | R15: 3246 | S15: 2595 | T15: 1826 | U15: 106 | V15: 15440 | W15: 14098 | X15: 157 | Y15: 38 | Z15: 397 | AA15: 15 | AB15: 55 | AC15: 151 | AD15: 54 | AE15: 101 | AF15: 151 | AG15: 223 | AH15: 7237 | AI15: 0 | AJ15: 31 | AK15: 227 | AL15: 328 | AM15: 692 | AN15: 1592 | AO15: 1863 | AP15: 1226 | AQ15: 692 | AR15: 586 | AS15: 7237 | AT15: 6156 | AU15: 160 | AV15: 116 | AW15: 140 | AX15: 4 | AY15: 661
C16: 其他 Other | D16: 2 | E16: 2 | F16: 0 | G16: 0 | H16: 0 | I16: 0 | J16: 0 | K16: 2 | L16: 0 | M16: 0 | N16: 0 | O16: 2 | P16: 0 | Q16: 0 | R16: 0 | S16: 0 | T16: 0 | U16: 0 | V16: 2 | W16: 0 | X16: 0 | Y16: 0 | Z16: 0 | AA16: 0 | AB16: 0 | AC16: 0 | AD16: 0 | AE16: 1 | AF16: 1 | AG16: 0 | AH16: 0 | AI16: 0 | AJ16: 0 | AK16: 0 | AL16: 0 | AM16: 0 | AN16: 0 | AO16: 0 | AP16: 0 | AQ16: 0 | AR16: 0 | AS16: 0 | AT16: 0 | AU16: 0 | AV16: 0 | AW16: 0 | AX16: 0 | AY16: 0
C17: 不詳Unknown | D17: 54 | E17: 33 | F17: 3 | G17: 1 | H17: 0 | I17: 0 | J17: 17 | K17: 54 | L17: 15 | M17: 18 | N17: 16 | O17: 0 | P17: 1 | Q17: 0 | R17: 2 | S17: 0 | T17: 2 | U17: 0 | V17: 54 | W17: 41 | X17: 0 | Y17: 0 | Z17: 1 | AA17: 0 | AB17: 0 | AC17: 0 | AD17: 0 | AE17: 0 | AF17: 3 | AG17: 9 | AH17: 57 | AI17: 0 | AJ17: 0 | AK17: 1 | AL17: 0 | AM17: 2 | AN17: 3 | AO17: 1 | AP17: 0 | AQ17: 1 | AR17: 49 | AS17: 57 | AT17: 8 | AU17: 0 | AV17: 1 | AW17: 0 | AX17: 0 | AY17: 48
A18: 臺北市 | C18: 計 Total | D18: 14075 | E18: 13184 | F18: 119 | G18: 134 | H18: 209 | I18: 7 | J18: 422 | K18: 14075 | L18: 562 | M18: 1078 | N18: 999 | O18: 779 | P18: 1059 | Q18: 2196 | R18: 2762 | S18: 2614 | T18: 1976 | U18: 50 | V18: 14075 | W18: 12785 | X18: 133 | Y18: 30 | Z18: 369 | AA18: 9 | AB18: 66 | AC18: 170 | AD18: 63 | AE18: 125 | AF18: 222 | AG18: 103 | AH18: 13329 | AI18: 4 | AJ18: 142 | AK18: 627 | AL18: 557 | AM18: 941 | AN18: 2457 | AO18: 3381 | AP18: 2939 | AQ18: 1577 | AR18: 704 | AS18: 13329 | AT18: 12417 | AU18: 77 | AV18: 120 | AW18: 234 | AX18: 6 | AY18: 475
C19: 男 Male | D19: 5628 | E19: 5322 | F19: 44 | G19: 16 | H19: 69 | I19: 5 | J19: 172 | K19: 5628 | L19: 321 | M19: 682 | N19: 520 | O19: 266 | P19: 367 | Q19: 770 | R19: 937 | S19: 1030 | T19: 718 | U19: 17 | V19: 5628 | W19: 5062 | X19: 56 | Y19: 14 | Z19: 113 | AA19: 5 | AB19: 27 | AC19: 84 | AD19: 27 | AE19: 62 | AF19: 144 | AG19: 34 | AH19: 8466 | AI19: 2 | AJ19: 101 | AK19: 454 | AL19: 324 | AM19: 555 | AN19: 1482 | AO19: 2136 | AP19: 1943 | AQ19: 1003 | AR19: 466 | AS19: 8466 | AT19: 7969 | AU19: 39 | AV19: 31 | AW19: 135 | AX19: 3 | AY19: 289
A20: Taipei City | C20: 女 Female | D20: 8426 | E20: 7845 | F20: 75 | G20: 118 | H20: 139 | I20: 2 | J20: 247 | K20: 8426 | L20: 233 | M20: 392 | N20: 475 | O20: 513 | P20: 691 | Q20: 1426 | R20: 1823 | S20: 1583 | T20: 1258 | U20: 32 | V20: 8426 | W20: 7708 | X20: 77 | Y20: 16 | Z20: 255 | AA20: 4 | AB20: 39 | AC20: 86 | AD20: 36 | AE20: 62 | AF20: 77 | AG20: 66 | AH20: 4843 | AI20: 2 | AJ20: 41 | AK20: 173 | AL20: 231 | AM20: 385 | AN20: 973 | AO20: 1245 | AP20: 996 | AQ20: 574 | AR20: 223 | AS20: 4843 | AT20: 4443 | AU20: 38 | AV20: 87 | AW20: 99 | AX20: 3 | AY20: 173
C21: 其他 Other | D21: 3 | E21: 3 | F21: 0 | G21: 0 | H21: 0 | I21: 0 | J21: 0 | K21: 3 | L21: 0 | M21: 0 | N21: 0 | O21: 0 | P21: 1 | Q21: 0 | R21: 2 | S21: 0 | T21: 0 | U21: 0 | V21: 3 | W21: 1 | X21: 0 | Y21: 0 | Z21: 1 | AA21: 0 | AB21: 0 | AC21: 0 | AD21: 0 | AE21: 1 | AF21: 0 | AG21: 0 | AH21: 1 | AI21: 0 | AJ21: 0 | AK21: 0 | AL21: 1 | AM21: 0 | AN21: 0 | AO21: 0 | AP21: 0 | AQ21: 0 | AR21: 0 | AS21: 1 | AT21: 1 | AU21: 0 | AV21: 0 | AW21: 0 | AX21: 0 | AY21: 0
C22: 不詳Unknown | D22: 18 | E22: 14 | F22: 0 | G22: 0 | H22: 1 | I22: 0 | J22: 3 | K22: 18 | L22: 8 | M22: 4 | N22: 4 | O22: 0 | P22: 0 | Q22: 0 | R22: 0 | S22: 1 | T22: 0 | U22: 1 | V22: 18 | W22: 14 | X22: 0 | Y22: 0 | Z22: 0 | AA22: 0 | AB22: 0 | AC22: 0 | AD22: 0 | AE22: 0 | AF22: 1 | AG22: 3 | AH22: 19 | AI22: 0 | AJ22: 0 | AK22: 0 | AL22: 1 | AM22: 1 | AN22: 2 | AO22: 0 | AP22: 0 | AQ22: 0 | AR22: 15 | AS22: 19 | AT22: 4 | AU22: 0 | AV22: 2 | AW22: 0 | AX22: 0 | AY22: 13
A23: 桃園市 | C23: 計 Total | D23: 15565 | E23: 13551 | F23: 1678 | G23: 83 | H23: 224 | I23: 1 | J23: 28 | K23: 15565 | L23: 652 | M23: 1228 | N23: 1042 | O23: 996 | P23: 1578 | Q23: 2991 | R23: 3190 | S23: 2400 | T23: 1472 | U23: 16 | V23: 15565 | W23: 14349 | X23: 207 | Y23: 29 | Z23: 316 | AA23: 6 | AB23: 64 | AC23: 192 | AD23: 35 | AE23: 162 | AF23: 173 | AG23: 32 | AH23: 15248 | AI23: 2 | AJ23: 64 | AK23: 406 | AL23: 807 | AM23: 1546 | AN23: 3843 | AO23: 4312 | AP23: 2870 | AQ23: 1148 | AR23: 250 | AS23: 15248 | AT23: 13348 | AU23: 1460 | AV23: 62 | AW23: 209 | AX23: 1 | AY23: 168
C24: 男 Male | D24: 6085 | E24: 5379 | F24: 655 | G24: 9 | H24: 32 | I24: 1 | J24: 9 | K24: 6085 | L24: 394 | M24: 748 | N24: 483 | O24: 373 | P24: 503 | Q24: 1001 | R24: 1084 | S24: 929 | T24: 565 | U24: 5 | V24: 6085 | W24: 5560 | X24: 86 | Y24: 7 | Z24: 99 | AA24: 5 | AB24: 21 | AC24: 93 | AD24: 8 | AE24: 93 | AF24: 101 | AG24: 12 | AH24: 10431 | AI24: 1 | AJ24: 52 | AK24: 291 | AL24: 531 | AM24: 1014 | AN24: 2546 | AO24: 2949 | AP24: 2106 | AQ24: 766 | AR24: 175 | AS24: 10431 | AT24: 9235 | AU24: 943 | AV24: 9 | AW24: 131 | AX24: 0 | AY24: 113
A25: Taoyuan City | C25: 女 Female | D25: 9477 | E25: 8169 | F25: 1023 | G25: 74 | H25: 192 | I25: 0 | J25: 19 | K25: 9477 | L25: 258 | M25: 480 | N25: 559 | O25: 623 | P25: 1075 | Q25: 1989 | R25: 2105 | S25: 1471 | T25: 906 | U25: 11 | V25: 9477 | W25: 8786 | X25: 121 | Y25: 22 | Z25: 217 | AA25: 1 | AB25: 43 | AC25: 99 | AD25: 27 | AE25: 69 | AF25: 72 | AG25: 20 | AH25: 4801 | AI25: 1 | AJ25: 12 | AK25: 115 | AL25: 276 | AM25: 532 | AN25: 1296 | AO25: 1361 | AP25: 764 | AQ25: 382 | AR25: 62 | AS25: 4801 | AT25: 4108 | AU25: 516 | AV25: 53 | AW25: 78 | AX25: 1 | AY25: 45
C26: 其他 Other | D26: 1 | E26: 1 | F26: 0 | G26: 0 | H26: 0 | I26: 0 | J26: 0 | K26: 1 | L26: 0 | M26: 0 | N26: 0 | O26: 0 | P26: 0 | Q26: 1 | R26: 0 | S26: 0 | T26: 0 | U26: 0 | V26: 1 | W26: 1 | X26: 0 | Y26: 0 | Z26: 0 | AA26: 0 | AB26: 0 | AC26: 0 | AD26: 0 | AE26: 0 | AF26: 0 | AG26: 0 | AH26: 1 | AI26: 0 | AJ26: 0 | AK26: 0 | AL26: 0 | AM26: 0 | AN26: 0 | AO26: 1 | AP26: 0 | AQ26: 0 | AR26: 0 | AS26: 1 | AT26: 1 | AU26: 0 | AV26: 0 | AW26: 0 | AX26: 0 | AY26: 0
C27: 不詳Unknown | D27: 2 | E27: 2 | F27: 0 | G27: 0 | H27: 0 | I27: 0 | J27: 0 | K27: 2 | L27: 0 | M27: 0 | N27: 0 | O27: 0 | P27: 0 | Q27: 0 | R27: 1 | S27: 0 | T27: 1 | U27: 0 | V27: 2 | W27: 2 | X27: 0 | Y27: 0 | Z27: 0 | AA27: 0 | AB27: 0 | AC27: 0 | AD27: 0 | AE27: 0 | AF27: 0 | AG27: 0 | AH27: 15 | AI27: 0 | AJ27: 0 | AK27: 0 | AL27: 0 | AM27: 0 | AN27: 1 | AO27: 1 | AP27: 0 | AQ27: 0 | AR27: 13 | AS27: 15 | AT27: 4 | AU27: 1 | AV27: 0 | AW27: 0 | AX27: 0 | AY27: 10
A28: 臺中市 | C28: 計 Total | D28: 19542 | E28: 18254 | F28: 587 | G28: 142 | H28: 239 | I28: 5 | J28: 315 | K28: 19542 | L28: 679 | M28: 1295 | N28: 1155 | O28: 1355 | P28: 1893 | Q28: 3659 | R28: 4016 | S28: 3266 | T28: 2188 | U28: 36 | V28: 19542 | W28: 17726 | X28: 248 | Y28: 52 | Z28: 472 | AA28: 17 | AB28: 115 | AC28: 317 | AD28: 67 | AE28: 185 | AF28: 276 | AG28: 67 | AH28: 19117 | AI28: 3 | AJ28: 109 | AK28: 612 | AL28: 1037 | AM28: 1885 | AN28: 4316 | AO28: 5286 | AP28: 3805 | AQ28: 1697 | AR28: 367 | AS28: 19117 | AT28: 17928 | AU28: 489 | AV28: 109 | AW28: 216 | AX28: 2 | AY28: 373
C29: 男 Male | D29: 7821 | E29: 7413 | F29: 222 | G29: 11 | H29: 39 | I29: 2 | J29: 134 | K29: 7821 | L29: 407 | M29: 806 | N29: 591 | O29: 477 | P29: 652 | Q29: 1261 | R29: 1459 | S29: 1289 | T29: 867 | U29: 12 | V29: 7821 | W29: 7044 | X29: 102 | Y29: 23 | Z29: 143 | AA29: 10 | AB29: 58 | AC29: 163 | AD29: 19 | AE29: 96 | AF29: 137 | AG29: 26 | AH29: 12729 | AI29: 2 | AJ29: 85 | AK29: 453 | AL29: 636 | AM29: 1204 | AN29: 2797 | AO29: 3592 | AP29: 2605 | AQ29: 1099 | AR29: 256 | AS29: 12729 | AT29: 12015 | AU29: 324 | AV29: 25 | AW29: 107 | AX29: 1 | AY29: 257
A30: Taichung City | C30: 女 Female | D30: 11718 | E30: 10838 | F30: 365 | G30: 131 | H30: 200 | I30: 3 | J30: 181 | K30: 11718 | L30: 272 | M30: 489 | N30: 563 | O30: 877 | P30: 1241 | Q30: 2398 | R30: 2557 | S30: 1976 | T30: 1321 | U30: 24 | V30: 11718 | W30: 10679 | X30: 146 | Y30: 29 | Z30: 329 | AA30: 7 | AB30: 57 | AC30: 154 | AD30: 48 | AE30: 89 | AF30: 139 | AG30: 41 | AH30: 6376 | AI30: 1 | AJ30: 24 | AK30: 159 | AL30: 400 | AM30: 681 | AN30: 1518 | AO30: 1693 | AP30: 1200 | AQ30: 597 | AR30: 103 | AS30: 6376 | AT30: 5910 | AU30: 165 | AV30: 84 | AW30: 108 | AX30: 1 | AY30: 108
C31: 其他 Other | D31: 2 | E31: 2 | F31: 0 | G31: 0 | H31: 0 | I31: 0 | J31: 0 | K31: 2 | L31: 0 | M31: 0 | N31: 0 | O31: 1 | P31: 0 | Q31: 0 | R31: 0 | S31: 1 | T31: 0 | U31: 0 | V31: 2 | W31: 2 | X31: 0 | Y31: 0 | Z31: 0 | AA31: 0 | AB31: 0 | AC31: 0 | AD31: 0 | AE31: 0 | AF31: 0 | AG31: 0 | AH31: 1 | AI31: 0 | AJ31: 0 | AK31: 0 | AL31: 1 | AM31: 0 | AN31: 0 | AO31: 0 | AP31: 0 | AQ31: 0 | AR31: 0 | AS31: 1 | AT31: 1 | AU31: 0 | AV31: 0 | AW31: 0 | AX31: 0 | AY31: 0
C32: 不詳Unknown | D32: 1 | E32: 1 | F32: 0 | G32: 0 | H32: 0 | I32: 0 | J32: 0 | K32: 1 | L32: 0 | M32: 0 | N32: 1 | O32: 0 | P32: 0 | Q32: 0 | R32: 0 | S32: 0 | T32: 0 | U32: 0 | V32: 1 | W32: 1 | X32: 0 | Y32: 0 | Z32: 0 | AA32: 0 | AB32: 0 | AC32: 0 | AD32: 0 | AE32: 0 | AF32: 0 | AG32: 0 | AH32: 11 | AI32: 0 | AJ32: 0 | AK32: 0 | AL32: 0 | AM32: 0 | AN32: 1 | AO32: 1 | AP32: 0 | AQ32: 1 | AR32: 8 | AS32: 11 | AT32: 2 | AU32: 0 | AV32: 0 | AW32: 1 | AX32: 0 | AY32: 8
A33: 臺南市 | C33: 計 Total | D33: 10228 | E33: 9929 | F33: 172 | G33: 33 | H33: 71 | I33: 0 | J33: 23 | K33: 10228 | L33: 538 | M33: 795 | N33: 594 | O33: 566 | P33: 856 | Q33: 1753 | R33: 1978 | S33: 1751 | T33: 1392 | U33: 5 | V33: 10228 | W33: 9173 | X33: 200 | Y33: 38 | Z33: 204 | AA33: 13 | AB33: 54 | AC33: 217 | AD33: 57 | AE33: 109 | AF33: 149 | AG33: 14 | AH33: 9918 | AI33: 9 | AJ33: 71 | AK33: 275 | AL33: 445 | AM33: 871 | AN33: 2217 | AO33: 2764 | AP33: 2066 | AQ33: 1070 | AR33: 130 | AS33: 9918 | AT33: 9586 | AU33: 144 | AV33: 37 | AW33: 95 | AX33: 2 | AY33: 54
C34: 男 Male | D34: 3799 | E34: 3712 | F34: 68 | G34: 3 | H34: 12 | I34: 0 | J34: 4 | K34: 3799 | L34: 314 | M34: 494 | N34: 248 | O34: 183 | P34: 277 | Q34: 539 | R34: 603 | S34: 642 | T34: 498 | U34: 1 | V34: 3799 | W34: 3364 | X34: 80 | Y34: 13 | Z34: 50 | AA34: 5 | AB34: 26 | AC34: 108 | AD34: 16 | AE34: 53 | AF34: 79 | AG34: 5 | AH34: 6753 | AI34: 4 | AJ34: 58 | AK34: 196 | AL34: 274 | AM34: 568 | AN34: 1486 | AO34: 1907 | AP34: 1439 | AQ34: 721 | AR34: 100 | AS34: 6753 | AT34: 6552 | AU34: 88 | AV34: 12 | AW34: 62 | AX34: 2 | AY34: 37
A35: Tainan City | C35: 女 Female | D35: 6426 | E35: 6214 | F35: 104 | G35: 30 | H35: 59 | I35: 0 | J35: 19 | K35: 6426 | L35: 223 | M35: 301 | N35: 344 | O35: 383 | P35: 579 | Q35: 1214 | R35: 1375 | S35: 1109 | T35: 894 | U35: 4 | V35: 6426 | W35: 5808 | X35: 120 | Y35: 25 | Z35: 154 | AA35: 8 | AB35: 28 | AC35: 109 | AD35: 41 | AE35: 55 | AF35: 69 | AG35: 9 | AH35: 3156 | AI35: 5 | AJ35: 13 | AK35: 79 | AL35: 171 | AM35: 303 | AN35: 731 | AO35: 856 | AP35: 626 | AQ35: 348 | AR35: 24 | AS35: 3156 | AT35: 3031 | AU35: 56 | AV35: 25 | AW35: 33 | AX35: 0 | AY35: 11
C36: 其他 Other | D36: 0 | E36: 0 | F36: 0 | G36: 0 | H36: 0 | I36: 0 | J36: 0 | K36: 0 | L36: 0 | M36: 0 | N36: 0 | O36: 0 | P36: 0 | Q36: 0 | R36: 0 | S36: 0 | T36: 0 | U36: 0 | V36: 0 | W36: 0 | X36: 0 | Y36: 0 | Z36: 0 | AA36: 0 | AB36: 0 | AC36: 0 | AD36: 0 | AE36: 0 | AF36: 0 | AG36: 0 | AH36: 3 | AI36: 0 | AJ36: 0 | AK36: 0 | AL36: 0 | AM36: 0 | AN36: 0 | AO36: 1 | AP36: 1 | AQ36: 1 | AR36: 0 | AS36: 3 | AT36: 3 | AU36: 0 | AV36: 0 | AW36: 0 | AX36: 0 | AY36: 0
C37: 不詳Unknown | D37: 3 | E37: 3 | F37: 0 | G37: 0 | H37: 0 | I37: 0 | J37: 0 | K37: 3 | L37: 1 | M37: 0 | N37: 2 | O37: 0 | P37: 0 | Q37: 0 | R37: 0 | S37: 0 | T37: 0 | U37: 0 | V37: 3 | W37: 1 | X37: 0 | Y37: 0 | Z37: 0 | AA37: 0 | AB37: 0 | AC37: 0 | AD37: 0 | AE37: 1 | AF37: 1 | AG37: 0 | AH37: 6 | AI37: 0 | AJ37: 0 | AK37: 0 | AL37: 0 | AM37: 0 | AN37: 0 | AO37: 0 | AP37: 0 | AQ37: 0 | AR37: 6 | AS37: 6 | AT37: 0 | AU37: 0 | AV37: 0 | AW37: 0 | AX37: 0 | AY37: 6
A38: 高雄市 | C38: 計 Total | D38: 19568 | E38: 18623 | F38: 632 | G38: 97 | H38: 166 | I38: 1 | J38: 49 | K38: 19568 | L38: 775 | M38: 1161 | N38: 1068 | O38: 1187 | P38: 1743 | Q38: 3433 | R38: 3973 | S38: 3576 | T38: 2641 | U38: 11 | V38: 19568 | W38: 17504 | X38: 280 | Y38: 56 | Z38: 599 | AA38: 27 | AB38: 78 | AC38: 414 | AD38: 108 | AE38: 188 | AF38: 302 | AG38: 12 | AH38: 19155 | AI38: 3 | AJ38: 129 | AK38: 636 | AL38: 891 | AM38: 1697 | AN38: 4233 | AO38: 5244 | AP38: 4085 | AQ38: 2139 | AR38: 98 | AS38: 19155 | AT38: 18280 | AU38: 514 | AV38: 87 | AW38: 167 | AX38: 0 | AY38: 107
C39: 男 Male | D39: 7891 | E39: 7608 | F39: 227 | G39: 9 | H39: 34 | I39: 0 | J39: 13 | K39: 7891 | L39: 470 | M39: 693 | N39: 500 | O39: 455 | P39: 595 | Q39: 1258 | R39: 1453 | S39: 1458 | T39: 1005 | U39: 4 | V39: 7891 | W39: 7001 | X39: 132 | Y39: 27 | Z39: 170 | AA39: 14 | AB39: 40 | AC39: 222 | AD39: 34 | AE39: 92 | AF39: 155 | AG39: 4 | AH39: 12219 | AI39: 1 | AJ39: 98 | AK39: 431 | AL39: 534 | AM39: 991 | AN39: 2699 | AO39: 3373 | AP39: 2684 | AQ39: 1336 | AR39: 72 | AS39: 12219 | AT39: 11735 | AU39: 308 | AV39: 15 | AW39: 84 | AX39: 0 | AY39: 77
A40: Kaohsiung City | C40: 女 Female | D40: 11676 | E40: 11014 | F40: 405 | G40: 88 | H40: 132 | I40: 1 | J40: 36 | K40: 11676 | L40: 305 | M40: 468 | N40: 568 | O40: 731 | P40: 1148 | Q40: 2175 | R40: 2520 | S40: 2118 | T40: 1636 | U40: 7 | V40: 11676 | W40: 10502 | X40: 148 | Y40: 29 | Z40: 429 | AA40: 13 | AB40: 38 | AC40: 192 | AD40: 74 | AE40: 96 | AF40: 147 | AG40: 8 | AH40: 6932 | AI40: 2 | AJ40: 31 | AK40: 205 | AL40: 357 | AM40: 705 | AN40: 1532 | AO40: 1871 | AP40: 1401 | AQ40: 803 | AR40: 25 | AS40: 6932 | AT40: 6542 | AU40: 206 | AV40: 72 | AW40: 83 | AX40: 0 | AY40: 29
...

Sheet July-Dec., 2025
A1: 家庭暴力事件通報被害及相對人概況Overview of Victim and Offender Status in Reporting Cases of Domestic Violence
A2: 114年下半年 July-Dec., 2025
A3: 單位：人數 unit:Person
A4: 區域別 Locality | C4: 性別 | D4: 被害人數 Victims | AH4: 相對人人數
D5: 國籍、身分別 By Nationality and Identity | K5: 年齡別 By Age | V5: 身心障礙別 By Disability | AH5: 年齡別 By Age | AS5: 國籍、身分別 By Nationality and Identity
D6: 合計 | E6: 本國籍 非原住民 | F6: 本國籍 原住民 | G6: 大陸及 港澳籍 | H6: 外國籍 | I6: 無國籍 | J6: 資料 不明 | K6: 合計 | L6: 0-未滿6歲 | M6: 6-未滿12歲 | N6: 12-未滿18歲 | O6: 18-未滿24歲 | P6: 24-未滿30歲 | Q6: 30-未滿40歲 | R6: 40-未滿50歲 | S6: 50-未滿65歲 | T6: 65歲 以上 | U6: 不詳 | V6: 合計 | W6: 非身心 障礙 | X6: 智障 | Y6: 視障 | Z6: 精神 病患 | AA6: 聲(語)障 | AB6: 聽障 | AC6: 肢障 | AD6: 失智症 | AE6: 多重 障礙 | AF6: 其他 障礙 | AG6: 不詳 | AH6: 合計 | AI6: 0-未滿6歲 | AJ6: 6-未滿12歲 | AK6: 12-未滿18歲 | AL6: 18-未滿24歲 | AM6: 24-未滿30歲 | AN6: 30-未滿40歲 | AO6: 40-未滿50歲 | AP6: 50-未滿65歲 | AQ6: 65歲 以上 | AR6: 不詳 | AS6: 合計 | AT6: 本國籍非原住民 | AU6: 本國籍原住民 | AV6: 大陸及 港澳籍 | AW6: 外國籍 | AX6: 無國籍 | AY6: 資料 不明
C7: Gender | D7: Total | E7: Non-aboriginal Native | F7: Aboriginal Native | G7: Mainland China and Hong Kong and Macau | H7: Foreign | I7: Stateless | J7: Unknown Information | K7: Total | L7: Under 6 Years | M7: 6-Under 12 Years | N7: 12-Under 18 Years | O7: 18-Under 2 Years | P7: 24-Under 30 Years | Q7: 30-Under 40 Years | R7: 40-Under 50 Years | S7: 50-Under 65 Years | T7: Above 65 Years | U7: Unknown | V7: Total | W7: Not Disability | X7: Intellectually Disabled | Y7: Vision | Z7: Mentally Illed | AA7: Voice | AB7: Hearing | AC7: Physically Impaired | AD7: Dementia | AE7: Multiple | AF7: Other | AG7: Unknown | AH7: Total | AI7: Under 6 Years | AJ7: 6-Under 12 Years | AK7: 12-Under 18 Years | AL7: 18-Under 2 Years | AM7: 24-Under 30 Years | AN7: 30-Under 40 Years | AO7: 40-Under 50 Years | AP7: 50-Under 65 Years | AQ7: Above 65 Years | AR7: Unknown | AS7: Total | AT7: Non-aboriginal Native | AU7: Aboriginal Native | AV7: Mainland China and Hong Kong and Macau | AW7: Foreign | AX7: Stateless | AY7: Unknown Information
A8: 總計 | C8: 計 Total | D8: 68698 | E8: 62202 | F8: 3752 | G8: 425 | H8: 825 | I8: 15 | J8: 1479 | K8: 68698 | L8: 3054 | M8: 4653 | N8: 3966 | O8: 4299 | P8: 6079 | Q8: 12015 | R8: 13664 | S8: 12164 | T8: 8656 | U8: 148 | V8: 68698 | W8: 62000 | X8: 1008 | Y8: 169 | Z8: 1645 | AA8: 69 | AB8: 388 | AC8: 1211 | AD8: 285 | AE8: 646 | AF8: 975 | AG8: 302 | AH8: 66225 | AI8: 17 | AJ8: 398 | AK8: 2108 | AL8: 3132 | AM8: 5964 | AN8: 14523 | AO8: 17463 | AP8: 13599 | AQ8: 6748 | AR8: 2273 | AS8: 66225 | AT8: 59762 | AU8: 3133 | AV8: 352 | AW8: 796 | AX8: 15 | AY8: 2167
C9: 男 Male | D9: 27182 | E9: 24994 | F9: 1373 | G9: 41 | H9: 154 | I9: 6 | J9: 614 | K9: 27182 | L9: 1796 | M9: 2812 | N9: 1882 | O9: 1528 | P9: 2098 | Q9: 4026 | R9: 4872 | S9: 4796 | T9: 3324 | U9: 48 | V9: 27182 | W9: 24217 | X9: 449 | Y9: 69 | Z9: 493 | AA9: 45 | AB9: 172 | AC9: 645 | AD9: 99 | AE9: 342 | AF9: 548 | AG9: 103 | AH9: 44222 | AI9: 9 | AJ9: 294 | AK9: 1484 | AL9: 1968 | AM9: 3774 | AN9: 9504 | AO9: 11762 | AP9: 9494 | AQ9: 4434 | AR9: 1499 | AS9: 44222 | AT9: 40233 | AU9: 2082 | AV9: 83 | AW9: 436 | AX9: 9 | AY9: 1379
A10: Total | C10: 女 Female | D10: 41451 | E10: 37158 | F10: 2376 | G10: 383 | H10: 670 | I10: 9 | J10: 855 | K10: 41451 | L10: 1234 | M10: 1829 | N10: 2070 | O10: 2768 | P10: 3980 | Q10: 7986 | R10: 8790 | S10: 7365 | T10: 5330 | U10: 99 | V10: 41451 | W10: 37727 | X10: 559 | Y10: 100 | Z10: 1151 | AA10: 24 | AB10: 216 | AC10: 566 | AD10: 186 | AE10: 303 | AF10: 423 | AG10: 196 | AH10: 21908 | AI10: 8 | AJ10: 104 | AK10: 623 | AL10: 1162 | AM10: 2188 | AN10: 5014 | AO10: 5697 | AP10: 4104 | AQ10: 2311 | AR10: 697 | AS10: 21908 | AT10: 19515 | AU10: 1050 | AV10: 268 | AW10: 359 | AX10: 6 | AY10: 710
C11: 其他 Other | D11: 7 | E11: 7 | F11: 0 | G11: 0 | H11: 0 | I11: 0 | J11: 0 | K11: 7 | L11: 0 | M11: 0 | N11: 0 | O11: 2 | P11: 0 | Q11: 3 | R11: 1 | S11: 1 | T11: 0 | U11: 0 | V11: 7 | W11: 7 | X11: 0 | Y11: 0 | Z11: 0 | AA11: 0 | AB11: 0 | AC11: 0 | AD11: 0 | AE11: 0 | AF11: 0 | AG11: 0 | AH11: 5 | AI11: 0 | AJ11: 0 | AK11: 0 | AL11: 2 | AM11: 1 | AN11: 0 | AO11: 1 | AP11: 0 | AQ11: 1 | AR11: 0 | AS11: 5 | AT11: 5 | AU11: 0 | AV11: 0 | AW11: 0 | AX11: 0 | AY11: 0
C12: 不詳Unknown | D12: 58 | E12: 43 | F12: 3 | G12: 1 | H12: 1 | I12: 0 | J12: 10 | K12: 58 | L12: 24 | M12: 12 | N12: 14 | O12: 1 | P12: 1 | Q12: 0 | R12: 1 | S12: 2 | T12: 2 | U12: 1 | V12: 58 | W12: 49 | X12: 0 | Y12: 0 | Z12: 1 | AA12: 0 | AB12: 0 | AC12: 0 | AD12: 0 | AE12: 1 | AF12: 4 | AG12: 3 | AH12: 90 | AI12: 0 | AJ12: 0 | AK12: 1 | AL12: 0 | AM12: 1 | AN12: 5 | AO12: 3 | AP12: 1 | AQ12: 2 | AR12: 77 | AS12: 90 | AT12: 9 | AU12: 1 | AV12: 1 | AW12: 1 | AX12: 0 | AY12: 78
A13: 新北市 | C13: 計 Total | D13: 11605 | E13: 10250 | F13: 263 | G13: 87 | H13: 169 | I13: 5 | J13: 831 | K13: 11605 | L13: 475 | M13: 885 | N13: 729 | O13: 786 | P13: 1034 | Q13: 2037 | R13: 2272 | S13: 1941 | T13: 1385 | U13: 61 | V13: 11605 | W13: 10486 | X13: 140 | Y13: 32 | Z13: 239 | AA13: 17 | AB13: 60 | AC13: 148 | AD13: 41 | AE13: 99 | AF13: 193 | AG13: 150 | AH13: 11028 | AI13: 0 | AJ13: 62 | AK13: 332 | AL13: 505 | AM13: 911 | AN13: 2335 | AO13: 2810 | AP13: 2041 | AQ13: 1067 | AR13: 965 | AS13: 11028 | AT13: 9427 | AU13: 222 | AV13: 87 | AW13: 153 | AX13: 5 | AY13: 1134
C14: 男 Male | D14: 4442 | E14: 3949 | F14: 103 | G14: 9 | H14: 33 | I14: 2 | J14: 346 | K14: 4442 | L14: 275 | M14: 529 | N14: 349 | O14: 277 | P14: 345 | Q14: 610 | R14: 798 | S14: 739 | T14: 506 | U14: 14 | V14: 4442 | W14: 3942 | X14: 70 | Y14: 12 | Z14: 58 | AA14: 9 | AB14: 28 | AC14: 90 | AD14: 16 | AE14: 49 | AF14: 117 | AG14: 51 | AH14: 7401 | AI14: 0 | AJ14: 42 | AK14: 223 | AL14: 333 | AM14: 587 | AN14: 1566 | AO14: 1894 | AP14: 1430 | AQ14: 716 | AR14: 610 | AS14: 7401 | AT14: 6445 | AU14: 141 | AV14: 28 | AW14: 75 | AX14: 3 | AY14: 709
A15: New Taipei City | C15: 女 Female | D15: 7136 | E15: 6284 | F15: 159 | G15: 77 | H15: 136 | I15: 3 | J15: 477 | K15: 7136 | L15: 193 | M15: 349 | N15: 371 | O15: 509 | P15: 688 | Q15: 1427 | R15: 1473 | S15: 1202 | T15: 877 | U15: 47 | V15: 7136 | W15: 6522 | X15: 70 | Y15: 20 | Z15: 180 | AA15: 8 | AB15: 32 | AC15: 58 | AD15: 25 | AE15: 50 | AF15: 74 | AG15: 97 | AH15: 3582 | AI15: 0 | AJ15: 20 | AK15: 108 | AL15: 172 | AM15: 323 | AN15: 767 | AO15: 916 | AP15: 611 | AQ15: 350 | AR15: 315 | AS15: 3582 | AT15: 2979 | AU15: 81 | AV15: 59 | AW15: 78 | AX15: 2 | AY15: 383
C16: 其他 Other | D16: 0 | E16: 0 | F16: 0 | G16: 0 | H16: 0 | I16: 0 | J16: 0 | K16: 0 | L16: 0 | M16: 0 | N16: 0 | O16: 0 | P16: 0 | Q16: 0 | R16: 0 | S16: 0 | T16: 0 | U16: 0 | V16: 0 | W16: 0 | X16: 0 | Y16: 0 | Z16: 0 | AA16: 0 | AB16: 0 | AC16: 0 | AD16: 0 | AE16: 0 | AF16: 0 | AG16: 0 | AH16: 0 | AI16: 0 | AJ16: 0 | AK16: 0 | AL16: 0 | AM16: 0 | AN16: 0 | AO16: 0 | AP16: 0 | AQ16: 0 | AR16: 0 | AS16: 0 | AT16: 0 | AU16: 0 | AV16: 0 | AW16: 0 | AX16: 0 | AY16: 0
C17: 不詳Unknown | D17: 27 | E17: 17 | F17: 1 | G17: 1 | H17: 0 | I17: 0 | J17: 8 | K17: 27 | L17: 7 | M17: 7 | N17: 9 | O17: 0 | P17: 1 | Q17: 0 | R17: 1 | S17: 0 | T17: 2 | U17: 0 | V17: 27 | W17: 22 | X17: 0 | Y17: 0 | Z17: 1 | AA17: 0 | AB17: 0 | AC17: 0 | AD17: 0 | AE17: 0 | AF17: 2 | AG17: 2 | AH17: 45 | AI17: 0 | AJ17: 0 | AK17: 1 | AL17: 0 | AM17: 1 | AN17: 2 | AO17: 0 | AP17: 0 | AQ17: 1 | AR17: 40 | AS17: 45 | AT17: 3 | AU17: 0 | AV17: 0 | AW17: 0 | AX17: 0 | AY17: 42
A18: 臺北市 | C18: 計 Total | D18: 6512 | E18: 6073 | F18: 48 | G18: 65 | H18: 115 | I18: 2 | J18: 209 | K18: 6512 | L18: 243 | M18: 489 | N18: 474 | O18: 368 | P18: 473 | Q18: 991 | R18: 1279 | S18: 1248 | T18: 925 | U18: 22 | V18: 6512 | W18: 5938 | X18: 69 | Y18: 13 | Z18: 167 | AA18: 4 | AB18: 33 | AC18: 71 | AD18: 28 | AE18: 50 | AF18: 94 | AG18: 45 | AH18: 6196 | AI18: 2 | AJ18: 71 | AK18: 292 | AL18: 251 | AM18: 439 | AN18: 1121 | AO18: 1523 | AP18: 1363 | AQ18: 751 | AR18: 383 | AS18: 6196 | AT18: 5724 | AU18: 32 | AV18: 49 | AW18: 115 | AX18: 3 | AY18: 273
C19: 男 Male | D19: 2612 | E19: 2456 | F19: 19 | G19: 7 | H19: 32 | I19: 1 | J19: 97 | K19: 2612 | L19: 136 | M19: 305 | N19: 239 | O19: 121 | P19: 151 | Q19: 351 | R19: 442 | S19: 512 | T19: 349 | U19: 6 | V19: 2612 | W19: 2354 | X19: 26 | Y19: 7 | Z19: 50 | AA19: 3 | AB19: 12 | AC19: 36 | AD19: 12 | AE19: 33 | AF19: 66 | AG19: 13 | AH19: 3897 | AI19: 1 | AJ19: 49 | AK19: 205 | AL19: 151 | AM19: 252 | AN19: 669 | AO19: 947 | AP19: 904 | AQ19: 478 | AR19: 241 | AS19: 3897 | AT19: 3638 | AU19: 17 | AV19: 10 | AW19: 63 | AX19: 2 | AY19: 167
A20: Taipei City | C20: 女 Female | D20: 3890 | E20: 3609 | F20: 29 | G20: 58 | H20: 82 | I20: 1 | J20: 111 | K20: 3890 | L20: 101 | M20: 183 | N20: 233 | O20: 247 | P20: 322 | Q20: 640 | R20: 837 | S20: 735 | T20: 576 | U20: 16 | V20: 3890 | W20: 3574 | X20: 43 | Y20: 6 | Z20: 117 | AA20: 1 | AB20: 21 | AC20: 35 | AD20: 16 | AE20: 17 | AF20: 28 | AG20: 32 | AH20: 2282 | AI20: 1 | AJ20: 22 | AK20: 87 | AL20: 99 | AM20: 187 | AN20: 450 | AO20: 576 | AP20: 459 | AQ20: 273 | AR20: 128 | AS20: 2282 | AT20: 2083 | AU20: 15 | AV20: 38 | AW20: 52 | AX20: 1 | AY20: 93
C21: 其他 Other | D21: 0 | E21: 0 | F21: 0 | G21: 0 | H21: 0 | I21: 0 | J21: 0 | K21: 0 | L21: 0 | M21: 0 | N21: 0 | O21: 0 | P21: 0 | Q21: 0 | R21: 0 | S21: 0 | T21: 0 | U21: 0 | V21: 0 | W21: 0 | X21: 0 | Y21: 0 | Z21: 0 | AA21: 0 | AB21: 0 | AC21: 0 | AD21: 0 | AE21: 0 | AF21: 0 | AG21: 0 | AH21: 1 | AI21: 0 | AJ21: 0 | AK21: 0 | AL21: 1 | AM21: 0 | AN21: 0 | AO21: 0 | AP21: 0 | AQ21: 0 | AR21: 0 | AS21: 1 | AT21: 1 | AU21: 0 | AV21: 0 | AW21: 0 | AX21: 0 | AY21: 0
C22: 不詳Unknown | D22: 10 | E22: 8 | F22: 0 | G22: 0 | H22: 1 | I22: 0 | J22: 1 | K22: 10 | L22: 6 | M22: 1 | N22: 2 | O22: 0 | P22: 0 | Q22: 0 | R22: 0 | S22: 1 | T22: 0 | U22: 0 | V22: 10 | W22: 10 | X22: 0 | Y22: 0 | Z22: 0 | AA22: 0 | AB22: 0 | AC22: 0 | AD22: 0 | AE22: 0 | AF22: 0 | AG22: 0 | AH22: 16 | AI22: 0 | AJ22: 0 | AK22: 0 | AL22: 0 | AM22: 0 | AN22: 2 | AO22: 0 | AP22: 0 | AQ22: 0 | AR22: 14 | AS22: 16 | AT22: 2 | AU22: 0 | AV22: 1 | AW22: 0 | AX22: 0 | AY22: 13
A23: 桃園市 | C23: 計 Total | D23: 7322 | E23: 6363 | F23: 796 | G23: 36 | H23: 112 | I23: 0 | J23: 15 | K23: 7322 | L23: 327 | M23: 543 | N23: 474 | O23: 448 | P23: 730 | Q23: 1443 | R23: 1485 | S23: 1161 | T23: 701 | U23: 10 | V23: 7322 | W23: 6772 | X23: 87 | Y23: 12 | Z23: 137 | AA23: 1 | AB23: 36 | AC23: 88 | AD23: 19 | AE23: 78 | AF23: 77 | AG23: 15 | AH23: 7171 | AI23: 0 | AJ23: 33 | AK23: 188 | AL23: 393 | AM23: 745 | AN23: 1816 | AO23: 1939 | AP23: 1373 | AQ23: 563 | AR23: 121 | AS23: 7171 | AT23: 6268 | AU23: 687 | AV23: 27 | AW23: 98 | AX23: 1 | AY23: 90
C24: 男 Male | D24: 2903 | E24: 2549 | F24: 332 | G24: 4 | H24: 13 | I24: 0 | J24: 5 | K24: 2903 | L24: 188 | M24: 339 | N24: 219 | O24: 189 | P24: 243 | Q24: 480 | R24: 530 | S24: 442 | T24: 269 | U24: 4 | V24: 2903 | W24: 2677 | X24: 40 | Y24: 3 | Z24: 34 | AA24: 1 | AB24: 12 | AC24: 44 | AD24: 3 | AE24: 45 | AF24: 38 | AG24: 6 | AH24: 4823 | AI24: 0 | AJ24: 25 | AK24: 138 | AL24: 247 | AM24: 470 | AN24: 1186 | AO24: 1298 | AP24: 1001 | AQ24: 371 | AR24: 87 | AS24: 4823 | AT24: 4265 | AU24: 434 | AV24: 3 | AW24: 60 | AX24: 0 | AY24: 61
A25: Taoyuan City | C25: 女 Female | D25: 4418 | E25: 3813 | F25: 464 | G25: 32 | H25: 99 | I25: 0 | J25: 10 | K25: 4418 | L25: 139 | M25: 204 | N25: 255 | O25: 259 | P25: 487 | Q25: 962 | R25: 955 | S25: 719 | T25: 432 | U25: 6 | V25: 4418 | W25: 4094 | X25: 47 | Y25: 9 | Z25: 103 | AA25: 0 | AB25: 24 | AC25: 44 | AD25: 16 | AE25: 33 | AF25: 39 | AG25: 9 | AH25: 2339 | AI25: 0 | AJ25: 8 | AK25: 50 | AL25: 146 | AM25: 275 | AN25: 629 | AO25: 639 | AP25: 372 | AQ25: 192 | AR25: 28 | AS25: 2339 | AT25: 2001 | AU25: 252 | AV25: 24 | AW25: 38 | AX25: 1 | AY25: 23
C26: 其他 Other | D26: 1 | E26: 1 | F26: 0 | G26: 0 | H26: 0 | I26: 0 | J26: 0 | K26: 1 | L26: 0 | M26: 0 | N26: 0 | O26: 0 | P26: 0 | Q26: 1 | R26: 0 | S26: 0 | T26: 0 | U26: 0 | V26: 1 | W26: 1 | X26: 0 | Y26: 0 | Z26: 0 | AA26: 0 | AB26: 0 | AC26: 0 | AD26: 0 | AE26: 0 | AF26: 0 | AG26: 0 | AH26: 1 | AI26: 0 | AJ26: 0 | AK26: 0 | AL26: 0 | AM26: 0 | AN26: 0 | AO26: 1 | AP26: 0 | AQ26: 0 | AR26: 0 | AS26: 1 | AT26: 1 | AU26: 0 | AV26: 0 | AW26: 0 | AX26: 0 | AY26: 0
C27: 不詳Unknown | D27: 0 | E27: 0 | F27: 0 | G27: 0 | H27: 0 | I27: 0 | J27: 0 | K27: 0 | L27: 0 | M27: 0 | N27: 0 | O27: 0 | P27: 0 | Q27: 0 | R27: 0 | S27: 0 | T27: 0 | U27: 0 | V27: 0 | W27: 0 | X27: 0 | Y27: 0 | Z27: 0 | AA27: 0 | AB27: 0 | AC27: 0 | AD27: 0 | AE27: 0 | AF27: 0 | AG27: 0 | AH27: 8 | AI27: 0 | AJ27: 0 | AK27: 0 | AL27: 0 | AM27: 0 | AN27: 1 | AO27: 1 | AP27: 0 | AQ27: 0 | AR27: 6 | AS27: 8 | AT27: 1 | AU27: 1 | AV27: 0 | AW27: 0 | AX27: 0 | AY27: 6
A28: 臺中市 | C28: 計 Total | D28: 9306 | E28: 8709 | F28: 269 | G28: 58 | H28: 116 | I28: 3 | J28: 151 | K28: 9306 | L28: 326 | M28: 603 | N28: 528 | O28: 685 | P28: 905 | Q28: 1741 | R28: 1868 | S28: 1582 | T28: 1053 | U28: 15 | V28: 9306 | W28: 8451 | X28: 125 | Y28: 20 | Z28: 214 | AA28: 7 | AB28: 56 | AC28: 145 | AD28: 30 | AE28: 87 | AF28: 142 | AG28: 29 | AH28: 9168 | AI28: 1 | AJ28: 57 | AK28: 296 | AL28: 497 | AM28: 895 | AN28: 2072 | AO28: 2537 | AP28: 1792 | AQ28: 833 | AR28: 188 | AS28: 9168 | AT28: 8602 | AU28: 212 | AV28: 42 | AW28: 122 | AX28: 1 | AY28: 189
C29: 男 Male | D29: 3798 | E29: 3606 | F29: 103 | G29: 3 | H29: 21 | I29: 1 | J29: 64 | K29: 3798 | L29: 200 | M29: 376 | N29: 280 | O29: 225 | P29: 330 | Q29: 632 | R29: 705 | S29: 626 | T29: 417 | U29: 7 | V29: 3798 | W29: 3429 | X29: 55 | Y29: 5 | Z29: 65 | AA29: 4 | AB29: 26 | AC29: 80 | AD29: 9 | AE29: 42 | AF29: 70 | AG29: 13 | AH29: 6024 | AI29: 1 | AJ29: 45 | AK29: 219 | AL29: 297 | AM29: 546 | AN29: 1348 | AO29: 1685 | AP29: 1221 | AQ29: 521 | AR29: 141 | AS29: 6024 | AT29: 5681 | AU29: 138 | AV29: 11 | AW29: 63 | AX29: 0 | AY29: 131
A30: Taichung City | C30: 女 Female | D30: 5505 | E30: 5100 | F30: 166 | G30: 55 | H30: 95 | I30: 2 | J30: 87 | K30: 5505 | L30: 126 | M30: 227 | N30: 247 | O30: 459 | P30: 575 | Q30: 1109 | R30: 1163 | S30: 955 | T30: 636 | U30: 8 | V30: 5505 | W30: 5019 | X30: 70 | Y30: 15 | Z30: 149 | AA30: 3 | AB30: 30 | AC30: 65 | AD30: 21 | AE30: 45 | AF30: 72 | AG30: 16 | AH30: 3137 | AI30: 0 | AJ30: 12 | AK30: 77 | AL30: 199 | AM30: 349 | AN30: 724 | AO30: 851 | AP30: 571 | AQ30: 311 | AR30: 43 | AS30: 3137 | AT30: 2920 | AU30: 74 | AV30: 31 | AW30: 58 | AX30: 1 | AY30: 53
C31: 其他 Other | D31: 2 | E31: 2 | F31: 0 | G31: 0 | H31: 0 | I31: 0 | J31: 0 | K31: 2 | L31: 0 | M31: 0 | N31: 0 | O31: 1 | P31: 0 | Q31: 0 | R31: 0 | S31: 1 | T31: 0 | U31: 0 | V31: 2 | W31: 2 | X31: 0 | Y31: 0 | Z31: 0 | AA31: 0 | AB31: 0 | AC31: 0 | AD31: 0 | AE31: 0 | AF31: 0 | AG31: 0 | AH31: 1 | AI31: 0 | AJ31: 0 | AK31: 0 | AL31: 1 | AM31: 0 | AN31: 0 | AO31: 0 | AP31: 0 | AQ31: 0 | AR31: 0 | AS31: 1 | AT31: 1 | AU31: 0 | AV31: 0 | AW31: 0 | AX31: 0 | AY31: 0
C32: 不詳Unknown | D32: 1 | E32: 1 | F32: 0 | G32: 0 | H32: 0 | I32: 0 | J32: 0 | K32: 1 | L32: 0 | M32: 0 | N32: 1 | O32: 0 | P32: 0 | Q32: 0 | R32: 0 | S32: 0 | T32: 0 | U32: 0 | V32: 1 | W32: 1 | X32: 0 | Y32: 0 | Z32: 0 | AA32: 0 | AB32: 0 | AC32: 0 | AD32: 0 | AE32: 0 | AF32: 0 | AG32: 0 | AH32: 6 | AI32: 0 | AJ32: 0 | AK32: 0 | AL32: 0 | AM32: 0 | AN32: 0 | AO32: 1 | AP32: 0 | AQ32: 1 | AR32: 4 | AS32: 6 | AT32: 0 | AU32: 0 | AV32: 0 | AW32: 1 | AX32: 0 | AY32: 5
A33: 臺南市 | C33: 計 Total | D33: 4773 | E33: 4639 | F33: 77 | G33: 15 | H33: 29 | I33: 0 | J33: 13 | K33: 4773 | L33: 250 | M33: 372 | N33: 289 | O33: 279 | P33: 399 | Q33: 815 | R33: 899 | S33: 831 | T33: 635 | U33: 4 | V33: 4773 | W33: 4261 | X33: 95 | Y33: 18 | Z33: 90 | AA33: 4 | AB33: 24 | AC33: 110 | AD33: 27 | AE33: 50 | AF33: 87 | AG33: 7 | AH33: 4596 | AI33: 6 | AJ33: 30 | AK33: 142 | AL33: 220 | AM33: 390 | AN33: 1016 | AO33: 1240 | AP33: 972 | AQ33: 509 | AR33: 71 | AS33: 4596 | AT33: 4435 | AU33: 64 | AV33: 19 | AW33: 47 | AX33: 1 | AY33: 30
C34: 男 Male | D34: 1796 | E34: 1763 | F34: 26 | G34: 2 | H34: 4 | I34: 0 | J34: 1 | K34: 1796 | L34: 142 | M34: 229 | N34: 123 | O34: 99 | P34: 126 | Q34: 267 | R34: 290 | S34: 305 | T34: 214 | U34: 1 | V34: 1796 | W34: 1584 | X34: 41 | Y34: 5 | Z34: 26 | AA34: 1 | AB34: 9 | AC34: 49 | AD34: 8 | AE34: 23 | AF34: 47 | AG34: 3 | AH34: 3114 | AI34: 3 | AJ34: 23 | AK34: 100 | AL34: 138 | AM34: 249 | AN34: 677 | AO34: 848 | AP34: 688 | AQ34: 337 | AR34: 51 | AS34: 3114 | AT34: 3012 | AU34: 36 | AV34: 9 | AW34: 36 | AX34: 1 | AY34: 20
A35: Tainan City | C35: 女 Female | D35: 2976 | E35: 2875 | F35: 51 | G35: 13 | H35: 25 | I35: 0 | J35: 12 | K35: 2976 | L35: 108 | M35: 143 | N35: 165 | O35: 180 | P35: 273 | Q35: 548 | R35: 609 | S35: 526 | T35: 421 | U35: 3 | V35: 2976 | W35: 2676 | X35: 54 | Y35: 13 | Z35: 64 | AA35: 3 | AB35: 15 | AC35: 61 | AD35: 19 | AE35: 27 | AF35: 40 | AG35: 4 | AH35: 1477 | AI35: 3 | AJ35: 7 | AK35: 42 | AL35: 82 | AM35: 141 | AN35: 339 | AO35: 392 | AP35: 284 | AQ35: 171 | AR35: 16 | AS35: 1477 | AT35: 1422 | AU35: 28 | AV35: 10 | AW35: 11 | AX35: 0 | AY35: 6
C36: 其他 Other | D36: 0 | E36: 0 | F36: 0 | G36: 0 | H36: 0 | I36: 0 | J36: 0 | K36: 0 | L36: 0 | M36: 0 | N36: 0 | O36: 0 | P36: 0 | Q36: 0 | R36: 0 | S36: 0 | T36: 0 | U36: 0 | V36: 0 | W36: 0 | X36: 0 | Y36: 0 | Z36: 0 | AA36: 0 | AB36: 0 | AC36: 0 | AD36: 0 | AE36: 0 | AF36: 0 | AG36: 0 | AH36: 1 | AI36: 0 | AJ36: 0 | AK36: 0 | AL36: 0 | AM36: 0 | AN36: 0 | AO36: 0 | AP36: 0 | AQ36: 1 | AR36: 0 | AS36: 1 | AT36: 1 | AU36: 0 | AV36: 0 | AW36: 0 | AX36: 0 | AY36: 0
C37: 不詳Unknown | D37: 1 | E37: 1 | F37: 0 | G37: 0 | H37: 0 | I37: 0 | J37: 0 | K37: 1 | L37: 0 | M37: 0 | N37: 1 | O37: 0 | P37: 0 | Q37: 0 | R37: 0 | S37: 0 | T37: 0 | U37: 0 | V37: 1 | W37: 1 | X37: 0 | Y37: 0 | Z37: 0 | AA37: 0 | AB37: 0 | AC37: 0 | AD37: 0 | AE37: 0 | AF37: 0 | AG37: 0 | AH37: 4 | AI37: 0 | AJ37: 0 | AK37: 0 | AL37: 0 | AM37: 0 | AN37: 0 | AO37: 0 | AP37: 0 | AQ37: 0 | AR37: 4 | AS37: 4 | AT37: 0 | AU37: 0 | AV37: 0 | AW37: 0 | AX37: 0 | AY37: 4
A38: 高雄市 | C38: 計 Total | D38: 9202 | E38: 8746 | F38: 318 | G38: 41 | H38: 77 | I38: 1 | J38: 19 | K38: 9202 | L38: 396 | M38: 543 | N38: 500 | O38: 559 | P38: 827 | Q38: 1578 | R38: 1817 | S38: 1705 | T38: 1272 | U38: 5 | V38: 9202 | W38: 8225 | X38: 132 | Y38: 23 | Z38: 278 | AA38: 13 | AB38: 40 | AC38: 202 | AD38: 57 | AE38: 95 | AF38: 131 | AG38: 6 | AH38: 9048 | AI38: 3 | AJ38: 56 | AK38: 307 | AL38: 423 | AM38: 809 | AN38: 1987 | AO38: 2416 | AP38: 1917 | AQ38: 1086 | AR38: 44 | AS38: 9048 | AT38: 8639 | AU38: 249 | AV38: 39 | AW38: 75 | AX38: 0 | AY38: 46
