Workbook

Sheet 歷年
A1: 中低收入老人補助裝置假牙 Denture Subsidies for Mid or Low-income Elders
A3: 年別 Year | B3: 中低收入老人補助裝置假牙 Denture Subsidies for Mid or Low-income Elders
B5: 人數(人) Persons | E5: 金額 (千元) Amount (NT.$1,000)
B7: 計 | C7: 男 | D7: 女
B8: Total | C8: Male | D8: Female
A9: 104年,2015 | B9: ='2015'!C9 -> 5147 | C9: ='2015'!D9 -> 2880 | D9: ='2015'!E9 -> 2267 | E9: ='2015'!F9 -> 162694.5
A10: 105年,2016 | B10: ='2016'!C9 -> 4449 | C10: ='2016'!D9 -> 2486 | D10: ='2016'!E9 -> 1963 | E10: ='2016'!F9 -> 132678.12
A11: 106年,2017 | B11: ='2017'!C9 -> 4400 | C11: ='2017'!D9 -> 2473 | D11: ='2017'!E9 -> 1927 | E11: ='2017'!F9 -> 131113.95
A12: 107年,2018 | B12: ='2018'!C9 -> 4734 | C12: ='2018'!D9 -> 2564 | D12: ='2018'!E9 -> 2170 | E12: ='2018'!F9 -> 142077.32
A13: 108年,2019 | B13: ='2019'!C9 -> 5113 | C13: ='2019'!D9 -> 2835 | D13: ='2019'!E9 -> 2278 | E13: ='2019'!F9 -> 154453.79
A14: 109年,2020 | B14: ='2020'!C9 -> 5037 | C14: ='2020'!D9 -> 2775 | D14: ='2020'!E9 -> 2262 | E14: ='2020'!F9 -> 151578.61
A15: 110年,2021 | B15: 4344 | C15: 2403 | D15: 1941 | E15: 141974.3
A16: 111年,2022 | B16: 4982 | C16: 2715 | D16: 2267 | E16: 151514.45
A17: 112年,2023 | B17: 5783 | C17: 3226 | D17: 2557 | E17: 189016.84
A18: 113年,2024 | B18: 5782 | C18: 3270 | D18: 2512 | E18: 178878.38
A19: 上半年，Jan.-June | B19: 2193 | C19: 1278 | D19: 915 | E19: 67059.548
A20: 下半年, July-Dec. | B20: 3589 | C20: 1992 | D20: 1597 | E20: 111818.83
A21: 114年,2025 | B21: 5389 | C21: 3006 | D21: 2383 | E21: 171146.51
A22: 上半年, Jan.-June | B22: 1460 | C22: 830 | D22: 630 | E22: 46176.18
A23: 下半年, July-Dec. | B23: 3960 | C23: 2197 | D23: 1763 | E23: 126018.03
A24: 115年,2026
A25: 上半年, Jan.-June | B25: 2581 | C25: 1299 | D25: 1282 | E25: 79109.69
A26: 資料來源：衛生福利部社會及家庭署及直轄市、縣(市)政府。
A27: Source : Social and Family Affairs Administration, MOHW and County and City Government.
A28: 更新日期：2026/09/30

Sheet Jan.-June., 2026
A1: 老人福利服務成果-中低收入老人補助裝置假牙 Denture Subsidies for Mid or Low-income Elders
A2: 民國115年1-6月 Jan.-June, 2026
A3: 區域別 Locality | C3: 中低收入老人補助裝置假牙 Denture Subsidies for Mid or Low-income elders
C5: 人數(人) Persons | F5: 金額 (千元) Amount (NT.$1,000)
C7: 計 | D7: 男 | E7: 女
C8: Total | D8: Male | E8: Female
A9: 總計 | B9: Total | C9: 2581 | D9: 1299 | E9: 1282 | F9: 79109.69
A10: 新北市 | B10: New Taipei City | C10: 431 | D10: 209 | E10: 222 | F10: 10145.9
A11: 臺北市 | B11: Taipei City | C11: 392 | D11: 174 | E11: 218 | F11: 11276.99
A12: 桃園市 | B12: Taoyuan City | C12: 113 | D12: 58 | E12: 55 | F12: 3883.5
A13: 臺中市 | B13: Taichung City | C13: 448 | D13: 199 | E13: 249 | F13: 15310.3
A14: 臺南市 | B14: Tainan City | C14: 37 | D14: 21 | E14: 16 | F14: 1278.2
A15: 高雄市 | B15: Kaohsiung City | C15: 158 | D15: 85 | E15: 73 | F15: 5914.6
A16: 宜蘭縣 | B16: Yilan County | C16: 72 | D16: 43 | E16: 29 | F16: 1594.72
A17: 新竹縣 | B17: Hsinchu County | C17: 0 | D17: 0 | E17: 0 | F17: 0
A18: 苗栗縣 | B18: Miaoli County | C18: 60 | D18: 32 | E18: 28 | F18: 1956.98
A19: 彰化縣 | B19: Changhua County | C19: 168 | D19: 80 | E19: 88 | F19: 4639.5
A20: 南投縣 | B20: Nantou County | C20: 34 | D20: 16 | E20: 18 | F20: 1061
... A31: 連江縣 | B31: Lienchiang County | C31: 0 | D31: 0 | E31: 0 | F31: 0
A32: 資料來源：衛生福利部社會及家庭署及直轄市、縣(市)政府。
A33: Source : Social and Family Affairs Administration, MOHW and County and City Government.
A35: 更新日期：2026/09/30
A36: 總計 | B36: Total | C36: 1995 | D36: 1126 | E36: 869 | F36: 60314.14
A37: 新北市 | B37: New Taipei City | C37: 219 | D37: 133 | E37: 86 | F37: 4984.5
A38: 臺北市 | B38: Taipei City | C38: 281 | D38: 170 | E38: 111 | F38: 8110.64
A39: 桃園市 | B39: Taoyuan City | C39: 155 | D39: 87 | E39: 68 | F39: 4411
A40: 臺中市 | B40: Taichung City | C40: 85 | D40: 54 | E40: 31 | F40: 2244
A41: 臺南市 | B41: Tainan City | C41: 29 | D41: 20 | E41: 9 | F41: 745
A42: 高雄市 | B42: Kaohsiung City | C42: 357 | D42: 204 | E42: 153 | F42: 12495
A43: 宜蘭縣 | B43: Yilan County | C43: 47 | D43: 26 | E43: 21 | F43: 1448
A44: 新竹縣 | B44: Hsinchu County | C44: 26 | D44: 13 | E44: 13 | F44: 910
A45: 苗栗縣 | B45: Miaoli County | C45: 17 | D45: 11 | E45: 6 | F45: 441
A46: 彰化縣 | B46: Changhua County | C46: 45 | D46: 26 | E46: 19 | F46: 1167
A47: 南投縣 | B47: Nantou County | C47: 172 | D47: 81 | E47: 91 | F47: 5402
... A58: 連江縣 | B58: Lienchiang County | C58: 0 | D58: 0 | E58: 0 | F58: 0
A60: 總計 | B60: Total | C60: =IF(C9=C36,"","*") -> * | D60: =IF(D9=D36,"","*") -> * | E60: =IF(E9=E36,"","*") -> * | F60: =IF(F9=F36,"","*") -> *
A61: 新北市 | B61: New Taipei City | C61: =IF(C10=C37,"","*") -> * | D61: =IF(D10=D37,"","*") -> * | E61: =IF(E10=E37,"","*") -> * | F61: =IF(F10=F37,"","*") -> *
A62: 臺北市 | B62: Taipei City | C62: =IF(C11=C38,"","*") -> * | D62: =IF(D11=D38,"","*") -> * | E62: =IF(E11=E38,"","*") -> * | F62: =IF(F11=F38,"","*") -> *
A63: 桃園市 | B63: Taoyuan City | C63: =IF(C12=C39,"","*") -> * | D63: =IF(D12=D39,"","*") -> * | E63: =IF(E12=E39,"","*") -> * | F63: =IF(F12=F39,"","*") -> *
A64: 臺中市 | B64: Taichung City | C64: =IF(C13=C40,"","*") -> * | D64: =IF(D13=D40,"","*") -> * | E64: =IF(E13=E40,"","*") -> * | F64: =IF(F13=F40,"","*") -> *
A65: 臺南市 | B65: Tainan City | C65: =IF(C14=C41,"","*") -> * | D65: =IF(D14=D41,"","*") -> * | E65: =IF(E14=E41,"","*") -> * | F65: =IF(F14=F41,"","*") -> *
A66: 高雄市 | B66: Kaohsiung City | C66: =IF(C15=C42,"","*") -> * | D66: =IF(D15=D42,"","*") -> * | E66: =IF(E15=E42,"","*") -> * | F66: =IF(F15=F42,"","*") -> *
A67: 宜蘭縣 | B67: Yilan County | C67: =IF(C16=C43,"","*") -> * | D67: =IF(D16=D43,"","*") -> * | E67: =IF(E16=E43,"","*") -> * | F67: =IF(F16=F43,"","*") -> *
A68: 新竹縣 | B68: Hsinchu County | C68: =IF(C17=C44,"","*") -> * | D68: =IF(D17=D44,"","*") -> * | E68: =IF(E17=E44,"","*") -> * | F68: =IF(F17=F44,"","*") -> *
A69: 苗栗縣 | B69: Miaoli County | C69: =IF(C18=C45,"","*") -> * | D69: =IF(D18=D45,"","*") -> * | E69: =IF(E18=E45,"","*") -> * | F69: =IF(F18=F45,"","*") -> *
A70: 彰化縣 | B70: Changhua County | C70: =IF(C19=C46,"","*") -> * | D70: =IF(D19=D46,"","*") -> * | E70: =IF(E19=E46,"","*") -> * | F70: =IF(F19=F46,"","*") -> *
A71: 南投縣 | B71: Nantou County | C71: =IF(C20=C47,"","*") -> * | D71: =IF(D20=D47,"","*") -> * | E71: =IF(E20=E47,"","*") -> * | F71: =IF(F20=F47,"","*") -> *
... A82: 連江縣 | B82: Lienchiang County | C82: =IF(C31=C58,"","*") | D82: =IF(D31=D58,"","*") | E82: =IF(E31=E58,"","*") | F82: =IF(F31=F58,"","*")

Sheet 2025 
A1: 中低收入老人補助裝置假牙 Denture Subsidies for Mid or Low-income Elders
A2: 民國114年, 2025
A3: 區域別 Locality | C3: 中低收入老人補助裝置假牙 Denture Subsidies for Mid or Low-income elders
C5: 人數(人) Persons | F5: 金額 (千元) Amount (NT.$1,000)
C7: 計 | D7: 男 | E7: 女
C8: Total | D8: Male | E8: Female
A9: 總計 | B9: Total | C9: 5389 | D9: 3006 | E9: 2383 | F9: 171146.51
A10: 新北市 | B10: New Taipei City | C10: 532 | D10: 289 | E10: 243 | F10: 13937.9
A11: 臺北市 | B11: Taipei City | C11: 624 | D11: 380 | E11: 244 | F11: 18988.843
A12: 桃園市 | B12: Taoyuan City | C12: 405 | D12: 238 | E12: 167 | F12: 13555.1
A13: 臺中市 | B13: Taichung City | C13: 531 | D13: 303 | E13: 228 | F13: 18098.3
A14: 臺南市 | B14: Tainan City | C14: 456 | D14: 251 | E14: 205 | F14: 15154.1
A15: 高雄市 | B15: Kaohsiung City | C15: 553 | D15: 288 | E15: 265 | F15: 20781.6
A16: 宜蘭縣 | B16: Yilan County | C16: 138 | D16: 92 | E16: 46 | F16: 3816.02
A17: 新竹縣 | B17: Hsinchu County | C17: 23 | D17: 11 | E17: 12 | F17: 734
A18: 苗栗縣 | B18: Miaoli County | C18: 138 | D18: 78 | E18: 60 | F18: 4013.1
A19: 彰化縣 | B19: Changhua County | C19: 372 | D19: 199 | E19: 173 | F19: 11740.8
A20: 南投縣 | B20: Nantou County | C20: 129 | D20: 72 | E20: 57 | F20: 4193.7
... A31: 連江縣 | B31: Lienchiang County | C31: 0 | D31: 0 | E31: 0 | F31: 0
A32: 資料來源：衛生福利部社會及家庭署及直轄市、縣(市)政府。
A33: Source : Social and Family Affairs Administration, MOHW and County and City Government.
A34: 更新日期：2026/09/30
A35: 總計 | B35: Total | C35: 1995 | D35: 1126 | E35: 869 | F35: 60314.14
A36: 新北市 | B36: New Taipei City | C36: 219 | D36: 133 | E36: 86 | F36: 4984.5
A37: 臺北市 | B37: Taipei City | C37: 281 | D37: 170 | E37: 111 | F37: 8110.64
A38: 桃園市 | B38: Taoyuan City | C38: 155 | D38: 87 | E38: 68 | F38: 4411
A39: 臺中市 | B39: Taichung City | C39: 85 | D39: 54 | E39: 31 | F39: 2244
A40: 臺南市 | B40: Tainan City | C40: 29 | D40: 20 | E40: 9 | F40: 745
A41: 高雄市 | B41: Kaohsiung City | C41: 357 | D41: 204 | E41: 153 | F41: 12495
A42: 宜蘭縣 | B42: Yilan County | C42: 47 | D42: 26 | E42: 21 | F42: 1448
A43: 新竹縣 | B43: Hsinchu County | C43: 26 | D43: 13 | E43: 13 | F43: 910
A44: 苗栗縣 | B44: Miaoli County | C44: 17 | D44: 11 | E44: 6 | F44: 441
A45: 彰化縣 | B45: Changhua County | C45: 45 | D45: 26 | E45: 19 | F45: 1167
A46: 南投縣 | B46: Nantou County | C46: 172 | D46: 81 | E46: 91 | F46: 5402
... A57: 連江縣 | B57: Lienchiang County | C57: 0 | D57: 0 | E57: 0 | F57: 0
A59: 總計 | B59: Total | C59: =IF(C9=C35,"","*") -> * | D59: =IF(D9=D35,"","*") -> * | E59: =IF(E9=E35,"","*") -> * | F59: =IF(F9=F35,"","*") -> *
A60: 新北市 | B60: New Taipei City | C60: =IF(C10=C36,"","*") -> * | D60: =IF(D10=D36,"","*") -> * | E60: =IF(E10=E36,"","*") -> * | F60: =IF(F10=F36,"","*") -> *
A61: 臺北市 | B61: Taipei City | C61: =IF(C11=C37,"","*") -> * | D61: =IF(D11=D37,"","*") -> * | E61: =IF(E11=E37,"","*") -> * | F61: =IF(F11=F37,"","*") -> *
A62: 桃園市 | B62: Taoyuan City | C62: =IF(C12=C38,"","*") -> * | D62: =IF(D12=D38,"","*") -> * | E62: =IF(E12=E38,"","*") -> * | F62: =IF(F12=F38,"","*") -> *
A63: 臺中市 | B63: Taichung City | C63: =IF(C13=C39,"","*") -> * | D63: =IF(D13=D39,"","*") -> * | E63: =IF(E13=E39,"","*") -> * | F63: =IF(F13=F39,"","*") -> *
A64: 臺南市 | B64: Tainan City | C64: =IF(C14=C40,"","*") -> * | D64: =IF(D14=D40,"","*") -> * | E64: =IF(E14=E40,"","*") -> * | F64: =IF(F14=F40,"","*") -> *
A65: 高雄市 | B65: Kaohsiung City | C65: =IF(C15=C41,"","*") -> * | D65: =IF(D15=D41,"","*") -> * | E65: =IF(E15=E41,"","*") -> * | F65: =IF(F15=F41,"","*") -> *
A66: 宜蘭縣 | B66: Yilan County | C66: =IF(C16=C42,"","*") -> * | D66: =IF(D16=D42,"","*") -> * | E66: =IF(E16=E42,"","*") -> * | F66: =IF(F16=F42,"","*") -> *
A67: 新竹縣 | B67: Hsinchu County | C67: =IF(C17=C43,"","*") -> * | D67: =IF(D17=D43,"","*") -> * | E67: =IF(E17=E43,"","*") -> * | F67: =IF(F17=F43,"","*") -> *
A68: 苗栗縣 | B68: Miaoli County | C68: =IF(C18=C44,"","*") -> * | D68: =IF(D18=D44,"","*") -> * | E68: =IF(E18=E44,"","*") -> * | F68: =IF(F18=F44,"","*") -> *
A69: 彰化縣 | B69: Changhua County | C69: =IF(C19=C45,"","*") -> * | D69: =IF(D19=D45,"","*") -> * | E69: =IF(E19=E45,"","*") -> * | F69: =IF(F19=F45,"","*") -> *
A70: 南投縣 | B70: Nantou County | C70: =IF(C20=C46,"","*") -> * | D70: =IF(D20=D46,"","*") -> * | E70: =IF(E20=E46,"","*") -> * | F70: =IF(F20=F46,"","*") -> *
... A81: 連江縣 | B81: Lienchiang County | C81: =IF(C31=C57,"","*") | D81: =IF(D31=D57,"","*") | E81: =IF(E31=E57,"","*") | F81: =IF(F31=F57,"","*")

Sheet July-Dec., 2025
A1: 中低收入老人補助裝置假牙 Denture Subsidies for Mid or Low-income Elders
A2: 民國114年7-12月 July-Dec., 2025
A3: 區域別 Locality | C3: 中低收入老人補助裝置假牙 Denture Subsidies for Mid or Low-income elders
C5: 人數(人) Persons | F5: 金額 (千元) Amount (NT.$1,000)
C7: 計 | D7: 男 | E7: 女
C8: Total | D8: Male | E8: Female
A9: 總計 | B9: Total | C9: 3960 | D9: 2197 | E9: 1763 | F9: 126018.03
A10: 新北市 | B10: New Taipei City | C10: 319 | D10: 179 | E10: 140 | F10: 8451.3
A11: 臺北市 | B11: Taipei City | C11: 321 | D11: 181 | E11: 140 | F11: 9564.263
A12: 桃園市 | B12: Taoyuan City | C12: 215 | D12: 132 | E12: 83 | F12: 6886.6
A13: 臺中市 | B13: Taichung City | C13: 531 | D13: 303 | E13: 228 | F13: 18098.3
A14: 臺南市 | B14: Tainan City | C14: 424 | D14: 232 | E14: 192 | F14: 14041.4
A15: 高雄市 | B15: Kaohsiung City | C15: 446 | D15: 236 | E15: 210 | F15: 16846.6
A16: 宜蘭縣 | B16: Yilan County | C16: 80 | D16: 51 | E16: 29 | F16: 2584.1
A17: 新竹縣 | B17: Hsinchu County | C17: 23 | D17: 11 | E17: 12 | F17: 734
A18: 苗栗縣 | B18: Miaoli County | C18: 101 | D18: 55 | E18: 46 | F18: 3169.1
A19: 彰化縣 | B19: Changhua County | C19: 259 | D19: 141 | E19: 118 | F19: 8236
A20: 南投縣 | B20: Nantou County | C20: 112 | D20: 63 | E20: 49 | F20: 3666.7
... A31: 連江縣 | B31: Lienchiang County | C31: 0 | D31: 0 | E31: 0 | F31: 0
A32: 資料來源：衛生福利部社會及家庭署及直轄市、縣(市)政府。
A33: Source : Social and Family Affairs Administration, MOHW and County and City Government.
A34: 更新日期：2026/09/30
A35: 總計 | B35: Total | C35: 1995 | D35: 1126 | E35: 869 | F35: 60314.14
A36: 新北市 | B36: New Taipei City | C36: 219 | D36: 133 | E36: 86 | F36: 4984.5
A37: 臺北市 | B37: Taipei City | C37: 281 | D37: 170 | E37: 111 | F37: 8110.64
A38: 桃園市 | B38: Taoyuan City | C38: 155 | D38: 87 | E38: 68 | F38: 4411
A39: 臺中市 | B39: Taichung City | C39: 85 | D39: 54 | E39: 31 | F39: 2244
A40: 臺南市 | B40: Tainan City | C40: 29 | D40: 20 | E40: 9 | F40: 745
A41: 高雄市 | B41: Kaohsiung City | C41: 357 | D41: 204 | E41: 153 | F41: 12495
A42: 宜蘭縣 | B42: Yilan County | C42: 47 | D42: 26 | E42: 21 | F42: 1448
A43: 新竹縣 | B43: Hsinchu County | C43: 26 | D43: 13 | E43: 13 | F43: 910
A44: 苗栗縣 | B44: Miaoli County | C44: 17 | D44: 11 | E44: 6 | F44: 441
A45: 彰化縣 | B45: Changhua County | C45: 45 | D45: 26 | E45: 19 | F45: 1167
A46: 南投縣 | B46: Nantou County | C46: 172 | D46: 81 | E46: 91 | F46: 5402
... A57: 連江縣 | B57: Lienchiang County | C57: 0 | D57: 0 | E57: 0 | F57: 0
A59: 總計 | B59: Total | C59: =IF(C9=C35,"","*") -> * | D59: =IF(D9=D35,"","*") -> * | E59: =IF(E9=E35,"","*") -> * | F59: =IF(F9=F35,"","*") -> *
A60: 新北市 | B60: New Taipei City | C60: =IF(C10=C36,"","*") -> * | D60: =IF(D10=D36,"","*") -> * | E60: =IF(E10=E36,"","*") -> * | F60: =IF(F10=F36,"","*") -> *
A61: 臺北市 | B61: Taipei City | C61: =IF(C11=C37,"","*") -> * | D61: =IF(D11=D37,"","*") -> * | E61: =IF(E11=E37,"","*") -> * | F61: =IF(F11=F37,"","*") -> *
A62: 桃園市 | B62: Taoyuan City | C62: =IF(C12=C38,"","*") -> * | D62: =IF(D12=D38,"","*") -> * | E62: =IF(E12=E38,"","*") -> * | F62: =IF(F12=F38,"","*") -> *
A63: 臺中市 | B63: Taichung City | C63: =IF(C13=C39,"","*") -> * | D63: =IF(D13=D39,"","*") -> * | E63: =IF(E13=E39,"","*") -> * | F63: =IF(F13=F39,"","*") -> *
A64: 臺南市 | B64: Tainan City | C64: =IF(C14=C40,"","*") -> * | D64: =IF(D14=D40,"","*") -> * | E64: =IF(E14=E40,"","*") -> * | F64: =IF(F14=F40,"","*") -> *
A65: 高雄市 | B65: Kaohsiung City | C65: =IF(C15=C41,"","*") -> * | D65: =IF(D15=D41,"","*") -> * | E65: =IF(E15=E41,"","*") -> * | F65: =IF(F15=F41,"","*") -> *
A66: 宜蘭縣 | B66: Yilan County | C66: =IF(C16=C42,"","*") -> * | D66: =IF(D16=D42,"","*") -> * | E66: =IF(E16=E42,"","*") -> * | F66: =IF(F16=F42,"","*") -> *
A67: 新竹縣 | B67: Hsinchu County | C67: =IF(C17=C43,"","*") -> * | D67: =IF(D17=D43,"","*") -> * | E67: =IF(E17=E43,"","*") -> * | F67: =IF(F17=F43,"","*") -> *
A68: 苗栗縣 | B68: Miaoli County | C68: =IF(C18=C44,"","*") -> * | D68: =IF(D18=D44,"","*") -> * | E68: =IF(E18=E44,"","*") -> * | F68: =IF(F18=F44,"","*") -> *
A69: 彰化縣 | B69: Changhua County | C69: =IF(C19=C45,"","*") -> * | D69: =IF(D19=D45,"","*") -> * | E69: =IF(E19=E45,"","*") -> * | F69: =IF(F19=F45,"","*") -> *
A70: 南投縣 | B70: Nantou County | C70: =IF(C20=C46,"","*") -> * | D70: =IF(D20=D46,"","*") -> * | E70: =IF(E20=E46,"","*") -> * | F70: =IF(F20=F46,"","*") -> *
... A81: 連江縣 | B81: Lienchiang County | C81: =IF(C31=C57,"","*") | D81: =IF(D31=D57,"","*") | E81: =IF(E31=E57,"","*") | F81: =IF(F31=F57,"","*")

Sheet Jan.-June., 2025
A1: 老人福利服務成果-中低收入老人補助裝置假牙 Denture Subsidies for Mid or Low-income Elders
A2: 民國114年1-6月 Jan.-June, 2025
A3: 區域別 Locality | C3: 中低收入老人補助裝置假牙 Denture Subsidies for Mid or Low-income elders
C5: 人數(人) Persons | F5: 金額 (千元) Amount (NT.$1,000)
C7: 計 | D7: 男 | E7: 女
C8: Total | D8: Male | E8: Female
A9: 總計 | B9: Total | C9: 1460 | D9: 830 | E9: 630 | F9: 46176.18
A10: 新北市 | B10: New Taipei City | C10: 213 | D10: 110 | E10: 103 | F10: 5486.6
A11: 臺北市 | B11: Taipei City | C11: 303 | D11: 199 | E11: 104 | F11: 9424.58
A12: 桃園市 | B12: Taoyuan City | C12: 190 | D12: 106 | E12: 84 | F12: 6668.5
A13: 臺中市 | B13: Taichung City | C13: 0 | D13: 0 | E13: 0 | F13: 0
A14: 臺南市 | B14: Tainan City | C14: 45 | D14: 27 | E14: 18 | F14: 1428.3
A15: 高雄市 | B15: Kaohsiung City | C15: 107 | D15: 52 | E15: 55 | F15: 3935
A16: 宜蘭縣 | B16: Yilan County | C16: 58 | D16: 41 | E16: 17 | F16: 1231.92
A17: 新竹縣 | B17: Hsinchu County | C17: 0 | D17: 0 | E17: 0 | F17: 0
A18: 苗栗縣 | B18: Miaoli County | C18: 37 | D18: 23 | E18: 14 | F18: 844
A19: 彰化縣 | B19: Changhua County | C19: 113 | D19: 58 | E19: 55 | F19: 3504.8
A20: 南投縣 | B20: Nantou County | C20: 17 | D20: 9 | E20: 8 | F20: 527
... A31: 連江縣 | B31: Lienchiang County | C31: 0 | D31: 0 | E31: 0 | F31: 0
A32: 資料來源：衛生福利部社會及家庭署及直轄市、縣(市)政府。
A33: Source : Social and Family Affairs Administration, MOHW and County and City Government.
A35: 更新日期：2025/09/30
A36: 總計 | B36: Total | C36: 1995 | D36: 1126 | E36: 869 | F36: 60314.14
A37: 新北市 | B37: New Taipei City | C37: 219 | D37: 133 | E37: 86 | F37: 4984.5
A38: 臺北市 | B38: Taipei City | C38: 281 | D38: 170 | E38: 111 | F38: 8110.64
A39: 桃園市 | B39: Taoyuan City | C39: 155 | D39: 87 | E39: 68 | F39: 4411
A40: 臺中市 | B40: Taichung City | C40: 85 | D40: 54 | E40: 31 | F40: 2244
A41: 臺南市 | B41: Tainan City | C41: 29 | D41: 20 | E41: 9 | F41: 745
A42: 高雄市 | B42: Kaohsiung City | C42: 357 | D42: 204 | E42: 153 | F42: 12495
A43: 宜蘭縣 | B43: Yilan County | C43: 47 | D43: 26 | E43: 21 | F43: 1448
A44: 新竹縣 | B44: Hsinchu County | C44: 26 | D44: 13 | E44: 13 | F44: 910
A45: 苗栗縣 | B45: Miaoli County | C45: 17 | D45: 11 | E45: 6 | F45: 441
A46: 彰化縣 | B46: Changhua County | C46: 45 | D46: 26 | E46: 19 | F46: 1167
A47: 南投縣 | B47: Nantou County | C47: 172 | D47: 81 | E47: 91 | F47: 5402
... A58: 連江縣 | B58: Lienchiang County | C58: 0 | D58: 0 | E58: 0 | F58: 0
A60: 總計 | B60: Total | C60: =IF(C9=C36,"","*") -> * | D60: =IF(D9=D36,"","*") -> * | E60: =IF(E9=E36,"","*") -> * | F60: =IF(F9=F36,"","*") -> *
A61: 新北市 | B61: New Taipei City | C61: =IF(C10=C37,"","*") -> * | D61: =IF(D10=D37,"","*") -> * | E61: =IF(E10=E37,"","*") -> * | F61: =IF(F10=F37,"","*") -> *
A62: 臺北市 | B62: Taipei City | C62: =IF(C11=C38,"","*") -> * | D62: =IF(D11=D38,"","*") -> * | E62: =IF(E11=E38,"","*") -> * | F62: =IF(F11=F38,"","*") -> *
A63: 桃園市 | B63: Taoyuan City | C63: =IF(C12=C39,"","*") -> * | D63: =IF(D12=D39,"","*") -> * | E63: =IF(E12=E39,"","*") -> * | F63: =IF(F12=F39,"","*") -> *
A64: 臺中市 | B64: Taichung City | C64: =IF(C13=C40,"","*") -> * | D64: =IF(D13=D40,"","*") -> * | E64: =IF(E13=E40,"","*") -> * | F64: =IF(F13=F40,"","*") -> *
A65: 臺南市 | B65: Tainan City | C65: =IF(C14=C41,"","*") -> * | D65: =IF(D14=D41,"","*") -> * | E65: =IF(E14=E41,"","*") -> * | F65: =IF(F14=F41,"","*") -> *
A66: 高雄市 | B66: Kaohsiung City | C66: =IF(C15=C42,"","*") -> * | D66: =IF(D15=D42,"","*") -> * | E66: =IF(E15=E42,"","*") -> * | F66: =IF(F15=F42,"","*") -> *
A67: 宜蘭縣 | B67: Yilan County | C67: =IF(C16=C43,"","*") -> * | D67: =IF(D16=D43,"","*") -> * | E67: =IF(E16=E43,"","*") -> * | F67: =IF(F16=F43,"","*") -> *
A68: 新竹縣 | B68: Hsinchu County | C68: =IF(C17=C44,"","*") -> * | D68: =IF(D17=D44,"","*") -> * | E68: =IF(E17=E44,"","*") -> * | F68: =IF(F17=F44,"","*") -> *
A69: 苗栗縣 | B69: Miaoli County | C69: =IF(C18=C45,"","*") -> * | D69: =IF(D18=D45,"","*") -> * | E69: =IF(E18=E45,"","*") -> * | F69: =IF(F18=F45,"","*") -> *
A70: 彰化縣 | B70: Changhua County | C70: =IF(C19=C46,"","*") -> * | D70: =IF(D19=D46,"","*") -> * | E70: =IF(E19=E46,"","*") -> * | F70: =IF(F19=F46,"","*") -> *
A71: 南投縣 | B71: Nantou County | C71: =IF(C20=C47,"","*") -> * | D71: =IF(D20=D47,"","*") -> * | E71: =IF(E20=E47,"","*") -> * | F71: =IF(F20=F47,"","*") -> *
... A82: 連江縣 | B82: Lienchiang County | C82: =IF(C31=C58,"","*") | D82: =IF(D31=D58,"","*") | E82: =IF(E31=E58,"","*") | F82: =IF(F31=F58,"","*")

Sheet 2024
A1: 中低收入老人補助裝置假牙 Denture Subsidies for Mid or Low-income Elders
A2: 民國113年, 2024
A3: 區域別 Locality | C3: 中低收入老人補助裝置假牙 Denture Subsidies for Mid or Low-income elders
C5: 人數(人) Persons | F5: 金額 (千元) Amount (NT.$1,000)
C7: 計 | D7: 男 | E7: 女
C8: Total | D8: Male | E8: Female
A9: 總計 | B9: Total | C9: 5782 | D9: 3270 | E9: 2512 | F9: 178878.38
A10: 新北市 | B10: New Taipei City | C10: 566 | D10: 317 | E10: 249 | F10: 14999.1
A11: 臺北市 | B11: Taipei City | C11: 804 | D11: 468 | E11: 336 | F11: 18174.57
A12: 桃園市 | B12: Taoyuan City | C12: 397 | D12: 225 | E12: 172 | F12: 13441.6
A13: 臺中市 | B13: Taichung City | C13: 683 | D13: 374 | E13: 309 | F13: 22826.9
A14: 臺南市 | B14: Tainan City | C14: 476 | D14: 267 | E14: 209 | F14: 16128.1
A15: 高雄市 | B15: Kaohsiung City | C15: 548 | D15: 291 | E15: 257 | F15: 20598.6
A16: 宜蘭縣 | B16: Yilan County | C16: 94 | D16: 57 | E16: 37 | F16: 1829.61
A17: 新竹縣 | B17: Hsinchu County | C17: 38 | D17: 27 | E17: 11 | F17: 1194.6
A18: 苗栗縣 | B18: Miaoli County | C18: 141 | D18: 70 | E18: 71 | F18: 4179.3
A19: 彰化縣 | B19: Changhua County | C19: 363 | D19: 213 | E19: 150 | F19: 11220.3
A20: 南投縣 | B20: Nantou County | C20: 202 | D20: 112 | E20: 90 | F20: 6276.4
... A31: 連江縣 | B31: Lienchiang County | C31: 0 | D31: 0 | E31: 0 | F31: 0
A32: 資料來源：衛生福利部社會及家庭署及直轄市、縣(市)政府。
A33: Source : Social and Family Affairs Administration, MOHW and County and City Government.
A34: 更新日期：2025/03/31
A35: 總計 | B35: Total | C35: 1995 | D35: 1126 | E35: 869 | F35: 60314.14
A36: 新北市 | B36: New Taipei City | C36: 219 | D36: 133 | E36: 86 | F36: 4984.5
A37: 臺北市 | B37: Taipei City | C37: 281 | D37: 170 | E37: 111 | F37: 8110.64
A38: 桃園市 | B38: Taoyuan City | C38: 155 | D38: 87 | E38: 68 | F38: 4411
A39: 臺中市 | B39: Taichung City | C39: 85 | D39: 54 | E39: 31 | F39: 2244
A40: 臺南市 | B40: Tainan City | C40: 29 | D40: 20 | E40: 9 | F40: 745
A41: 高雄市 | B41: Kaohsiung City | C41: 357 | D41: 204 | E41: 153 | F41: 12495
A42: 宜蘭縣 | B42: Yilan County | C42: 47 | D42: 26 | E42: 21 | F42: 1448
A43: 新竹縣 | B43: Hsinchu County | C43: 26 | D43: 13 | E43: 13 | F43: 910
A44: 苗栗縣 | B44: Miaoli County | C44: 17 | D44: 11 | E44: 6 | F44: 441
A45: 彰化縣 | B45: Changhua County | C45: 45 | D45: 26 | E45: 19 | F45: 1167
A46: 南投縣 | B46: Nantou County | C46: 172 | D46: 81 | E46: 91 | F46: 5402
... A57: 連江縣 | B57: Lienchiang County | C57: 0 | D57: 0 | E57: 0 | F57: 0
A59: 總計 | B59: Total | C59: =IF(C9=C35,"","*") -> * | D59: =IF(D9=D35,"","*") -> * | E59: =IF(E9=E35,"","*") -> * | F59: =IF(F9=F35,"","*") -> *
A60: 新北市 | B60: New Taipei City | C60: =IF(C10=C36,"","*") -> * | D60: =IF(D10=D36,"","*") -> * | E60: =IF(E10=E36,"","*") -> * | F60: =IF(F10=F36,"","*") -> *
A61: 臺北市 | B61: Taipei City | C61: =IF(C11=C37,"","*") -> * | D61: =IF(D11=D37,"","*") -> * | E61: =IF(E11=E37,"","*") -> * | F61: =IF(F11=F37,"","*") -> *
A62: 桃園市 | B62: Taoyuan City | C62: =IF(C12=C38,"","*") -> * | D62: =IF(D12=D38,"","*") -> * | E62: =IF(E12=E38,"","*") -> * | F62: =IF(F12=F38,"","*") -> *
A63: 臺中市 | B63: Taichung City | C63: =IF(C13=C39,"","*") -> * | D63: =IF(D13=D39,"","*") -> * | E63: =IF(E13=E39,"","*") -> * | F63: =IF(F13=F39,"","*") -> *
A64: 臺南市 | B64: Tainan City | C64: =IF(C14=C40,"","*") -> * | D64: =IF(D14=D40,"","*") -> * | E64: =IF(E14=E40,"","*") -> * | F64: =IF(F14=F40,"","*") -> *
A65: 高雄市 | B65: Kaohsiung City | C65: =IF(C15=C41,"","*") -> * | D65: =IF(D15=D41,"","*") -> * | E65: =IF(E15=E41,"","*") -> * | F65: =IF(F15=F41,"","*") -> *
A66: 宜蘭縣 | B66: Yilan County | C66: =IF(C16=C42,"","*") -> * | D66: =IF(D16=D42,"","*") -> * | E66: =IF(E16=E42,"","*") -> * | F66: =IF(F16=F42,"","*") -> *
A67: 新竹縣 | B67: Hsinchu County | C67: =IF(C17=C43,"","*") -> * | D67: =IF(D17=D43,"","*") -> * | E67: =IF(E17=E43,"","*") -> * | F67: =IF(F17=F43,"","*") -> *
A68: 苗栗縣 | B68: Miaoli County | C68: =IF(C18=C44,"","*") -> * | D68: =IF(D18=D44,"","*") -> * | E68: =IF(E18=E44,"","*") -> * | F68: =IF(F18=F44,"","*") -> *
A69: 彰化縣 | B69: Changhua County | C69: =IF(C19=C45,"","*") -> * | D69: =IF(D19=D45,"","*") -> * | E69: =IF(E19=E45,"","*") -> * | F69: =IF(F19=F45,"","*") -> *
A70: 南投縣 | B70: Nantou County | C70: =IF(C20=C46,"","*") -> * | D70: =IF(D20=D46,"","*") -> * | E70: =IF(E20=E46,"","*") -> * | F70: =IF(F20=F46,"","*") -> *
... A81: 連江縣 | B81: Lienchiang County | C81: =IF(C31=C57,"","*") | D81: =IF(D31=D57,"","*") | E81: =IF(E31=E57,"","*") | F81: =IF(F31=F57,"","*")

Sheet 2023
A1: 老人福利服務成果-中低收入老人補助裝置假牙 Denture Subsidies for Mid or Low-income Elders
A2: 民國112年, 2023
A3: 區域別 Locality | C3: 中低收入老人補助裝置假牙 Denture Subsidies for Mid or Low-income elders
C5: 人數(人) Persons | F5: 金額 (千元) Amount (NT.$1,000)
C7: 計 | D7: 男 | E7: 女
C8: Total | D8: Male | E8: Female
A9: 總計 | B9: Total | C9: 5783 | D9: 3226 | E9: 2557 | F9: 189016.84
A10: 新北市 | B10: New Taipei City | C10: 531 | D10: 301 | E10: 230 | F10: 14354.3
A11: 臺北市 | B11: Taipei City | C11: 733 | D11: 432 | E11: 301 | F11: 25257.165
A12: 桃園市 | B12: Taoyuan City | C12: 370 | D12: 203 | E12: 167 | F12: 12214
A13: 臺中市 | B13: Taichung City | C13: 608 | D13: 343 | E13: 265 | F13: 20035
A14: 臺南市 | B14: Tainan City | C14: 470 | D14: 255 | E14: 215 | F14: 16257.3
A15: 高雄市 | B15: Kaohsiung City | C15: 523 | D15: 298 | E15: 225 | F15: 19666.1
A16: 宜蘭縣 | B16: Yilan County | C16: 106 | D16: 55 | E16: 51 | F16: 3083.07
A17: 新竹縣 | B17: Hsinchu County | C17: 50 | D17: 33 | E17: 17 | F17: 1359.4
A18: 苗栗縣 | B18: Miaoli County | C18: 72 | D18: 38 | E18: 34 | F18: 1549
A19: 彰化縣 | B19: Changhua County | C19: 306 | D19: 175 | E19: 131 | F19: 9447
A20: 南投縣 | B20: Nantou County | C20: 397 | D20: 175 | E20: 222 | F20: 12831
... A31: 連江縣 | B31: Lienchiang County | C31: 0 | D31: 0 | E31: 0 | F31: 0
A32: 資料來源：衛生福利部社會及家庭署及直轄市、縣(市)政府。
A33: Source : Social and Family Affairs Administration, MOHW and County and City Government.
A34: 更新日期：2024/09/30
A35: 總計 | B35: Total | C35: 1995 | D35: 1126 | E35: 869 | F35: 60314.14
A36: 新北市 | B36: New Taipei City | C36: 219 | D36: 133 | E36: 86 | F36: 4984.5
A37: 臺北市 | B37: Taipei City | C37: 281 | D37: 170 | E37: 111 | F37: 8110.64
A38: 桃園市 | B38: Taoyuan City | C38: 155 | D38: 87 | E38: 68 | F38: 4411
A39: 臺中市 | B39: Taichung City | C39: 85 | D39: 54 | E39: 31 | F39: 2244
A40: 臺南市 | B40: Tainan City | C40: 29 | D40: 20 | E40: 9 | F40: 745
A41: 高雄市 | B41: Kaohsiung City | C41: 357 | D41: 204 | E41: 153 | F41: 12495
A42: 宜蘭縣 | B42: Yilan County | C42: 47 | D42: 26 | E42: 21 | F42: 1448
A43: 新竹縣 | B43: Hsinchu County | C43: 26 | D43: 13 | E43: 13 | F43: 910
A44: 苗栗縣 | B44: Miaoli County | C44: 17 | D44: 11 | E44: 6 | F44: 441
A45: 彰化縣 | B45: Changhua County | C45: 45 | D45: 26 | E45: 19 | F45: 1167
A46: 南投縣 | B46: Nantou County | C46: 172 | D46: 81 | E46: 91 | F46: 5402
... A57: 連江縣 | B57: Lienchiang County | C57: 0 | D57: 0 | E57: 0 | F57: 0
A59: 總計 | B59: Total | C59: =IF(C9=C35,"","*") -> * | D59: =IF(D9=D35,"","*") -> * | E59: =IF(E9=E35,"","*") -> * | F59: =IF(F9=F35,"","*") -> *
A60: 新北市 | B60: New Taipei City | C60: =IF(C10=C36,"","*") -> * | D60: =IF(D10=D36,"","*") -> * | E60: =IF(E10=E36,"","*") -> * | F60: =IF(F10=F36,"","*") -> *
A61: 臺北市 | B61: Taipei City | C61: =IF(C11=C37,"","*") -> * | D61: =IF(D11=D37,"","*") -> * | E61: =IF(E11=E37,"","*") -> * | F61: =IF(F11=F37,"","*") -> *
A62: 桃園市 | B62: Taoyuan City | C62: =IF(C12=C38,"","*") -> * | D62: =IF(D12=D38,"","*") -> * | E62: =IF(E12=E38,"","*") -> * | F62: =IF(F12=F38,"","*") -> *
A63: 臺中市 | B63: Taichung City | C63: =IF(C13=C39,"","*") -> * | D63: =IF(D13=D39,"","*") -> * | E63: =IF(E13=E39,"","*") -> * | F63: =IF(F13=F39,"","*") -> *
A64: 臺南市 | B64: Tainan City | C64: =IF(C14=C40,"","*") -> * | D64: =IF(D14=D40,"","*") -> * | E64: =IF(E14=E40,"","*") -> * | F64: =IF(F14=F40,"","*") -> *
A65: 高雄市 | B65: Kaohsiung City | C65: =IF(C15=C41,"","*") -> * | D65: =IF(D15=D41,"","*") -> * | E65: =IF(E15=E41,"","*") -> * | F65: =IF(F15=F41,"","*") -> *
A66: 宜蘭縣 | B66: Yilan County | C66: =IF(C16=C42,"","*") -> * | D66: =IF(D16=D42,"","*") -> * | E66: =IF(E16=E42,"","*") -> * | F66: =IF(F16=F42,"","*") -> *
A67: 新竹縣 | B67: Hsinchu County | C67: =IF(C17=C43,"","*") -> * | D67: =IF(D17=D43,"","*") -> * | E67: =IF(E17=E43,"","*") -> * | F67: =IF(F17=F43,"","*") -> *
A68: 苗栗縣 | B68: Miaoli County | C68: =IF(C18=C44,"","*") -> * | D68: =IF(D18=D44,"","*") -> * | E68: =IF(E18=E44,"","*") -> * | F68: =IF(F18=F44,"","*") -> *
A69: 彰化縣 | B69: Changhua County | C69: =IF(C19=C45,"","*") -> * | D69: =IF(D19=D45,"","*") -> * | E69: =IF(E19=E45,"","*") -> * | F69: =IF(F19=F45,"","*") -> *
A70: 南投縣 | B70: Nantou County | C70: =IF(C20=C46,"","*") -> * | D70: =IF(D20=D46,"","*") -> * | E70: =IF(E20=E46,"","*") -> * | F70: =IF(F20=F46,"","*") -> *
... A81: 連江縣 | B81: Lienchiang County | C81: =IF(C31=C57,"","*") | D81: =IF(D31=D57,"","*") | E81: =IF(E31=E57,"","*") | F81: =IF(F31=F57,"","*")

Sheet 2022
A1: 老人福利服務成果-中低收入老人補助裝置假牙 Denture Subsidies for Mid or Low-income Elders
A2: 民國111年, 2022
A3: 區域別 Locality | C3: 中低收入老人補助裝置假牙 Denture Subsidies for Mid or Low-income elders
C5: 人數(人) Persons | F5: 金額 (千元) Amount (NT.$1,000)
C7: 計 | D7: 男 | E7: 女
C8: Total | D8: Male | E8: Female
A9: 總計 | B9: Total | C9: 4982 | D9: 2715 | E9: 2267 | F9: 151514.45
A10: 新北市 | B10: New Taipei City | C10: 524 | D10: 284 | E10: 240 | F10: 13814.2
A11: 臺北市 | B11: Taipei City | C11: 644 | D11: 376 | E11: 268 | F11: 19728.25
A12: 桃園市 | B12: Taoyuan City | C12: 325 | D12: 185 | E12: 140 | F12: 10092
A13: 臺中市 | B13: Taichung City | C13: 253 | D13: 151 | E13: 102 | F13: 8709.6
A14: 臺南市 | B14: Tainan City | C14: 429 | D14: 237 | E14: 192 | F14: 14540.7
A15: 高雄市 | B15: Kaohsiung City | C15: 571 | D15: 298 | E15: 273 | F15: 21091.3
A16: 宜蘭縣 | B16: Yilan County | C16: 69 | D16: 30 | E16: 39 | F16: 1963.9
A17: 新竹縣 | B17: Hsinchu County | C17: 48 | D17: 28 | E17: 20 | F17: 1522.3
A18: 苗栗縣 | B18: Miaoli County | C18: 90 | D18: 59 | E18: 31 | F18: 2921
A19: 彰化縣 | B19: Changhua County | C19: 313 | D19: 169 | E19: 144 | F19: 9058.8
A20: 南投縣 | B20: Nantou County | C20: 255 | D20: 131 | E20: 124 | F20: 5787.9
... A31: 連江縣 | B31: Lienchiang County | C31: 0 | D31: 0 | E31: 0 | F31: 0
A32: 資料來源：衛生福利部社會及家庭署及直轄市、縣(市)政府。
A33: Source : Social and Family Affairs Administration, MOHW and County and City Government.
A34: 更新日期：2023/03/31
A35: 總計 | B35: Total | C35: 1995 | D35: 1126 | E35: 869 | F35: 60314.14
A36: 新北市 | B36: New Taipei City | C36: 219 | D36: 133 | E36: 86 | F36: 4984.5
A37: 臺北市 | B37: Taipei City | C37: 281 | D37: 170 | E37: 111 | F37: 8110.64
A38: 桃園市 | B38: Taoyuan City | C38: 155 | D38: 87 | E38: 68 | F38: 4411
A39: 臺中市 | B39: Taichung City | C39: 85 | D39: 54 | E39: 31 | F39: 2244
A40: 臺南市 | B40: Tainan City | C40: 29 | D40: 20 | E40: 9 | F40: 745
A41: 高雄市 | B41: Kaohsiung City | C41: 357 | D41: 204 | E41: 153 | F41: 12495
A42: 宜蘭縣 | B42: Yilan County | C42: 47 | D42: 26 | E42: 21 | F42: 1448
A43: 新竹縣 | B43: Hsinchu County | C43: 26 | D43: 13 | E43: 13 | F43: 910
A44: 苗栗縣 | B44: Miaoli County | C44: 17 | D44: 11 | E44: 6 | F44: 441
A45: 彰化縣 | B45: Changhua County | C45: 45 | D45: 26 | E45: 19 | F45: 1167
A46: 南投縣 | B46: Nantou County | C46: 172 | D46: 81 | E46: 91 | F46: 5402
... A57: 連江縣 | B57: Lienchiang County | C57: 0 | D57: 0 | E57: 0 | F57: 0
A59: 總計 | B59: Total | C59: =IF(C9=C35,"","*") -> * | D59: =IF(D9=D35,"","*") -> * | E59: =IF(E9=E35,"","*") -> * | F59: =IF(F9=F35,"","*") -> *
A60: 新北市 | B60: New Taipei City | C60: =IF(C10=C36,"","*") -> * | D60: =IF(D10=D36,"","*") -> * | E60: =IF(E10=E36,"","*") -> * | F60: =IF(F10=F36,"","*") -> *
A61: 臺北市 | B61: Taipei City | C61: =IF(C11=C37,"","*") -> * | D61: =IF(D11=D37,"","*") -> * | E61: =IF(E11=E37,"","*") -> * | F61: =IF(F11=F37,"","*") -> *
A62: 桃園市 | B62: Taoyuan City | C62: =IF(C12=C38,"","*") -> * | D62: =IF(D12=D38,"","*") -> * | E62: =IF(E12=E38,"","*") -> * | F62: =IF(F12=F38,"","*") -> *
A63: 臺中市 | B63: Taichung City | C63: =IF(C13=C39,"","*") -> * | D63: =IF(D13=D39,"","*") -> * | E63: =IF(E13=E39,"","*") -> * | F63: =IF(F13=F39,"","*") -> *
A64: 臺南市 | B64: Tainan City | C64: =IF(C14=C40,"","*") -> * | D64: =IF(D14=D40,"","*") -> * | E64: =IF(E14=E40,"","*") -> * | F64: =IF(F14=F40,"","*") -> *
A65: 高雄市 | B65: Kaohsiung City | C65: =IF(C15=C41,"","*") -> * | D65: =IF(D15=D41,"","*") -> * | E65: =IF(E15=E41,"","*") -> * | F65: =IF(F15=F41,"","*") -> *
A66: 宜蘭縣 | B66: Yilan County | C66: =IF(C16=C42,"","*") -> * | D66: =IF(D16=D42,"","*") -> * | E66: =IF(E16=E42,"","*") -> * | F66: =IF(F16=F42,"","*") -> *
A67: 新竹縣 | B67: Hsinchu County | C67: =IF(C17=C43,"","*") -> * | D67: =IF(D17=D43,"","*") -> * | E67: =IF(E17=E43,"","*") -> * | F67: =IF(F17=F43,"","*") -> *
A68: 苗栗縣 | B68: Miaoli County | C68: =IF(C18=C44,"","*") -> * | D68: =IF(D18=D44,"","*") -> * | E68: =IF(E18=E44,"","*") -> * | F68: =IF(F18=F44,"","*") -> *
A69: 彰化縣 | B69: Changhua County | C69: =IF(C19=C45,"","*") -> * | D69: =IF(D19=D45,"","*") -> * | E69: =IF(E19=E45,"","*") -> * | F69: =IF(F19=F45,"","*") -> *
A70: 南投縣 | B70: Nantou County | C70: =IF(C20=C46,"","*") -> * | D70: =IF(D20=D46,"","*") -> * | E70: =IF(E20=E46,"","*") -> * | F70: =IF(F20=F46,"","*") -> *
... A81: 連江縣 | B81: Lienchiang County | C81: =IF(C31=C57,"","*") | D81: =IF(D31=D57,"","*") | E81: =IF(E31=E57,"","*") | F81: =IF(F31=F57,"","*")

Sheet 2021
A1: 老人福利服務成果-中低收入老人補助裝置假牙 Denture Subsidies for Mid or Low-income Elders
A2: 民國110年, 2021
A3: 區域別 Locality | C3: 中低收入老人補助裝置假牙 Denture Subsidies for Mid or Low-income elders
C5: 人數(人) Persons | F5: 金額 (千元) Amount (NT.$1,000)
C7: 計 | D7: 男 | E7: 女
C8: Total | D8: Male | E8: Female
A9: 總計 | B9: Total | C9: 4344 | D9: 2403 | E9: 1941 | F9: 141974.3
A10: 新北市 | B10: New Taipei City | C10: 488 | D10: 267 | E10: 221 | F10: 13016.1
A11: 臺北市 | B11: Taipei City | C11: 470 | D11: 271 | E11: 199 | F11: 14244.47
A12: 桃園市 | B12: Taoyuan City | C12: 308 | D12: 180 | E12: 128 | F12: 9897
A13: 臺中市 | B13: Taichung City | C13: 166 | D13: 101 | E13: 65 | F13: 5548.1
A14: 臺南市 | B14: Tainan City | C14: 321 | D14: 164 | E14: 157 | F14: 10801
A15: 高雄市 | B15: Kaohsiung City | C15: 603 | D15: 335 | E15: 268 | F15: 21530.4
A16: 宜蘭縣 | B16: Yilan County | C16: 53 | D16: 26 | E16: 27 | F16: 1920.6
A17: 新竹縣 | B17: Hsinchu County | C17: 39 | D17: 32 | E17: 7 | F17: 1313.3
A18: 苗栗縣 | B18: Miaoli County | C18: 54 | D18: 35 | E18: 19 | F18: 1720
A19: 彰化縣 | B19: Changhua County | C19: 273 | D19: 143 | E19: 130 | F19: 8736.633
A20: 南投縣 | B20: Nantou County | C20: 168 | D20: 74 | E20: 94 | F20: 5354.8
... A31: 連江縣 | B31: Lienchiang County | C31: 0 | D31: 0 | E31: 0 | F31: 0
A32: 資料來源：衛生福利部社會及家庭署及直轄市、縣(市)政府。
A33: Source : Social and Family Affairs Administration, MOHW and County and City Government.
A34: 更新日期：2022/03/31
A35: 總計 | B35: Total | C35: 1995 | D35: 1126 | E35: 869 | F35: 60314.14
A36: 新北市 | B36: New Taipei City | C36: 219 | D36: 133 | E36: 86 | F36: 4984.5
A37: 臺北市 | B37: Taipei City | C37: 281 | D37: 170 | E37: 111 | F37: 8110.64
A38: 桃園市 | B38: Taoyuan City | C38: 155 | D38: 87 | E38: 68 | F38: 4411
A39: 臺中市 | B39: Taichung City | C39: 85 | D39: 54 | E39: 31 | F39: 2244
A40: 臺南市 | B40: Tainan City | C40: 29 | D40: 20 | E40: 9 | F40: 745
A41: 高雄市 | B41: Kaohsiung City | C41: 357 | D41: 204 | E41: 153 | F41: 12495
A42: 宜蘭縣 | B42: Yilan County | C42: 47 | D42: 26 | E42: 21 | F42: 1448
A43: 新竹縣 | B43: Hsinchu County | C43: 26 | D43: 13 | E43: 13 | F43: 910
A44: 苗栗縣 | B44: Miaoli County | C44: 17 | D44: 11 | E44: 6 | F44: 441
A45: 彰化縣 | B45: Changhua County | C45: 45 | D45: 26 | E45: 19 | F45: 1167
A46: 南投縣 | B46: Nantou County | C46: 172 | D46: 81 | E46: 91 | F46: 5402
... A57: 連江縣 | B57: Lienchiang County | C57: 0 | D57: 0 | E57: 0 | F57: 0
A59: 總計 | B59: Total | C59: =IF(C9=C35,"","*") -> * | D59: =IF(D9=D35,"","*") -> * | E59: =IF(E9=E35,"","*") -> * | F59: =IF(F9=F35,"","*") -> *
A60: 新北市 | B60: New Taipei City | C60: =IF(C10=C36,"","*") -> * | D60: =IF(D10=D36,"","*") -> * | E60: =IF(E10=E36,"","*") -> * | F60: =IF(F10=F36,"","*") -> *
A61: 臺北市 | B61: Taipei City | C61: =IF(C11=C37,"","*") -> * | D61: =IF(D11=D37,"","*") -> * | E61: =IF(E11=E37,"","*") -> * | F61: =IF(F11=F37,"","*") -> *
A62: 桃園市 | B62: Taoyuan City | C62: =IF(C12=C38,"","*") -> * | D62: =IF(D12=D38,"","*") -> * | E62: =IF(E12=E38,"","*") -> * | F62: =IF(F12=F38,"","*") -> *
A63: 臺中市 | B63: Taichung City | C63: =IF(C13=C39,"","*") -> * | D63: =IF(D13=D39,"","*") -> * | E63: =IF(E13=E39,"","*") -> * | F63: =IF(F13=F39,"","*") -> *
A64: 臺南市 | B64: Tainan City | C64: =IF(C14=C40,"","*") -> * | D64: =IF(D14=D40,"","*") -> * | E64: =IF(E14=E40,"","*") -> * | F64: =IF(F14=F40,"","*") -> *
A65: 高雄市 | B65: Kaohsiung City | C65: =IF(C15=C41,"","*") -> * | D65: =IF(D15=D41,"","*") -> * | E65: =IF(E15=E41,"","*") -> * | F65: =IF(F15=F41,"","*") -> *
A66: 宜蘭縣 | B66: Yilan County | C66: =IF(C16=C42,"","*") -> * | D66: =IF(D16=D42,"","*") | E66: =IF(E16=E42,"","*") -> * | F66: =IF(F16=F42,"","*") -> *
A67: 新竹縣 | B67: Hsinchu County | C67: =IF(C17=C43,"","*") -> * | D67: =IF(D17=D43,"","*") -> * | E67: =IF(E17=E43,"","*") -> * | F67: =IF(F17=F43,"","*") -> *
A68: 苗栗縣 | B68: Miaoli County | C68: =IF(C18=C44,"","*") -> * | D68: =IF(D18=D44,"","*") -> * | E68: =IF(E18=E44,"","*") -> * | F68: =IF(F18=F44,"","*") -> *
A69: 彰化縣 | B69: Changhua County | C69: =IF(C19=C45,"","*") -> * | D69: =IF(D19=D45,"","*") -> * | E69: =IF(E19=E45,"","*") -> * | F69: =IF(F19=F45,"","*") -> *
A70: 南投縣 | B70: Nantou County | C70: =IF(C20=C46,"","*") -> * | D70: =IF(D20=D46,"","*") -> * | E70: =IF(E20=E46,"","*") -> * | F70: =IF(F20=F46,"","*") -> *
... A81: 連江縣 | B81: Lienchiang County | C81: =IF(C31=C57,"","*") | D81: =IF(D31=D57,"","*") | E81: =IF(E31=E57,"","*") | F81: =IF(F31=F57,"","*")

Sheet 2020
A1: 老人福利服務成果-中低收入老人補助裝置假牙 Denture Subsidies for Mid or Low-income Elders
A2: 民國109年, 2020
A3: 區域別 Locality | C3: 中低收入老人補助裝置假牙 Denture Subsidies for Mid or Low-income elders
C5: 人數(人) Persons | F5: 金額 (千元) Amount (NT.$1,000)
C7: 計 | D7: 男 | E7: 女
C8: Total | D8: Male | E8: Female
A9: 總計 | B9: Total | C9: 5037 | D9: 2775 | E9: 2262 | F9: 151578.61
A10: 新北市 | B10: New Taipei City | C10: 538 | D10: 289 | E10: 249 | F10: 12753.3
A11: 臺北市 | B11: Taipei City | C11: 553 | D11: 367 | E11: 186 | F11: 16351.81
A12: 桃園市 | B12: Taoyuan City | C12: 338 | D12: 182 | E12: 156 | F12: 10063.5
A13: 臺中市 | B13: Taichung City | C13: 146 | D13: 94 | E13: 52 | F13: 4284
A14: 臺南市 | B14: Tainan City | C14: 404 | D14: 219 | E14: 185 | F14: 12227
A15: 高雄市 | B15: Kaohsiung City | C15: 667 | D15: 346 | E15: 321 | F15: 22190
A16: 宜蘭縣 | B16: Yilan County | C16: 63 | D16: 34 | E16: 29 | F16: 2025
A17: 新竹縣 | B17: Hsinchu County | C17: 45 | D17: 26 | E17: 19 | F17: 1429
A18: 苗栗縣 | B18: Miaoli County | C18: 39 | D18: 18 | E18: 21 | F18: 1059
A19: 彰化縣 | B19: Changhua County | C19: 274 | D19: 169 | E19: 105 | F19: 7745
A20: 南投縣 | B20: Nantou County | C20: 305 | D20: 146 | E20: 159 | F20: 8898
... A31: 連江縣 | B31: Lienchiang County | C31: 1 | D31: 1 | E31: 0 | F31: 20
A32: 資料來源：衛生福利部社會及家庭署及直轄市、縣(市)政府。
A33: Source : Social and Family Affairs Administration, MOHW and County and City Government.
A34: 更新日期：2021/03/31
A35: 總計 | B35: Total | C35: 1995 | D35: 1126 | E35: 869 | F35: 60314.14
A36: 新北市 | B36: New Taipei City | C36: 219 | D36: 133 | E36: 86 | F36: 4984.5
A37: 臺北市 | B37: Taipei City | C37: 281 | D37: 170 | E37: 111 | F37: 8110.64
A38: 桃園市 | B38: Taoyuan City | C38: 155 | D38: 87 | E38: 68 | F38: 4411
A39: 臺中市 | B39: Taichung City | C39: 85 | D39: 54 | E39: 31 | F39: 2244
A40: 臺南市 | B40: Tainan City | C40: 29 | D40: 20 | E40: 9 | F40: 745
A41: 高雄市 | B41: Kaohsiung City | C41: 357 | D41: 204 | E41: 153 | F41: 12495
A42: 宜蘭縣 | B42: Yilan County | C42: 47 | D42: 26 | E42: 21 | F42: 1448
A43: 新竹縣 | B43: Hsinchu County | C43: 26 | D43: 13 | E43: 13 | F43: 910
A44: 苗栗縣 | B44: Miaoli County | C44: 17 | D44: 11 | E44: 6 | F44: 441
A45: 彰化縣 | B45: Changhua County | C45: 45 | D45: 26 | E45: 19 | F45: 1167
A46: 南投縣 | B46: Nantou County | C46: 172 | D46: 81 | E46: 91 | F46: 5402
... A57: 連江縣 | B57: Lienchiang County | C57: 0 | D57: 0 | E57: 0 | F57: 0
A59: 總計 | B59: Total | C59: =IF(C9=C35,"","*") -> * | D59: =IF(D9=D35,"","*") -> * | E59: =IF(E9=E35,"","*") -> * | F59: =IF(F9=F35,"","*") -> *
A60: 新北市 | B60: New Taipei City | C60: =IF(C10=C36,"","*") -> * | D60: =IF(D10=D36,"","*") -> * | E60: =IF(E10=E36,"","*") -> * | F60: =IF(F10=F36,"","*") -> *
A61: 臺北市 | B61: Taipei City | C61: =IF(C11=C37,"","*") -> * | D61: =IF(D11=D37,"","*") -> * | E61: =IF(E11=E37,"","*") -> * | F61: =IF(F11=F37,"","*") -> *
A62: 桃園市 | B62: Taoyuan City | C62: =IF(C12=C38,"","*") -> * | D62: =IF(D12=D38,"","*") -> * | E62: =IF(E12=E38,"","*") -> * | F62: =IF(F12=F38,"","*") -> *
A63: 臺中市 | B63: Taichung City | C63: =IF(C13=C39,"","*") -> * | D63: =IF(D13=D39,"","*") -> * | E63: =IF(E13=E39,"","*") -> * | F63: =IF(F13=F39,"","*") -> *
A64: 臺南市 | B64: Tainan City | C64: =IF(C14=C40,"","*") -> * | D64: =IF(D14=D40,"","*") -> * | E64: =IF(E14=E40,"","*") -> * | F64: =IF(F14=F40,"","*") -> *
A65: 高雄市 | B65: Kaohsiung City | C65: =IF(C15=C41,"","*") -> * | D65: =IF(D15=D41,"","*") -> * | E65: =IF(E15=E41,"","*") -> * | F65: =IF(F15=F41,"","*") -> *
A66: 宜蘭縣 | B66: Yilan County | C66: =IF(C16=C42,"","*") -> * | D66: =IF(D16=D42,"","*") -> * | E66: =IF(E16=E42,"","*") -> * | F66: =IF(F16=F42,"","*") -> *
A67: 新竹縣 | B67: Hsinchu County | C67: =IF(C17=C43,"","*") -> * | D67: =IF(D17=D43,"","*") -> * | E67: =IF(E17=E43,"","*") -> * | F67: =IF(F17=F43,"","*") -> *
A68: 苗栗縣 | B68: Miaoli County | C68: =IF(C18=C44,"","*") -> * | D68: =IF(D18=D44,"","*") -> * | E68: =IF(E18=E44,"","*") -> * | F68: =IF(F18=F44,"","*") -> *
A69: 彰化縣 | B69: Changhua County | C69: =IF(C19=C45,"","*") -> * | D69: =IF(D19=D45,"","*") -> * | E69: =IF(E19=E45,"","*") -> * | F69: =IF(F19=F45,"","*") -> *
A70: 南投縣 | B70: Nantou County | C70: =IF(C20=C46,"","*") -> * | D70: =IF(D20=D46,"","*") -> * | E70: =IF(E20=E46,"","*") -> * | F70: =IF(F20=F46,"","*") -> *
... A81: 連江縣 | B81: Lienchiang County | C81: =IF(C31=C57,"","*") -> * | D81: =IF(D31=D57,"","*") -> * | E81: =IF(E31=E57,"","*") | F81: =IF(F31=F57,"","*") -> *

Sheet 2019
A1: 老人福利服務成果-中低收入老人補助裝置假牙 Denture Subsidies for Mid or Low-income Elders
A2: 民國108年, 2019
A3: 區域別 Locality | C3: 中低收入老人補助裝置假牙 Denture Subsidies for Mid or Low-income elders
C5: 人數(人) Persons | F5: 金額 (千元) Amount (NT.$1,000)
C7: 計 | D7: 男 | E7: 女
C8: Total | D8: Male | E8: Female
A9: 總計 | B9: Total | C9: 5113 | D9: 2835 | E9: 2278 | F9: 154453.79
A10: 新北市 | B10: New Taipei City | C10: 421 | D10: 260 | E10: 161 | F10: 9656
A11: 臺北市 | B11: Taipei City | C11: 585 | D11: 334 | E11: 251 | F11: 17610.776
A12: 桃園市 | B12: Taoyuan City | C12: 343 | D12: 205 | E12: 138 | F12: 9956
A13: 臺中市 | B13: Taichung City | C13: 146 | D13: 89 | E13: 57 | F13: 4019
A14: 臺南市 | B14: Tainan City | C14: 411 | D14: 222 | E14: 189 | F14: 11888
A15: 高雄市 | B15: Kaohsiung City | C15: 1030 | D15: 549 | E15: 481 | F15: 35310
A16: 宜蘭縣 | B16: Yilan County | C16: 79 | D16: 41 | E16: 38 | F16: 2435
A17: 新竹縣 | B17: Hsinchu County | C17: 42 | D17: 24 | E17: 18 | F17: 1525
A18: 苗栗縣 | B18: Miaoli County | C18: 64 | D18: 43 | E18: 21 | F18: 1777
A19: 彰化縣 | B19: Changhua County | C19: 205 | D19: 119 | E19: 86 | F19: 5492
A20: 南投縣 | B20: Nantou County | C20: 292 | D20: 147 | E20: 145 | F20: 8715
... A31: 連江縣 | B31: Lienchiang County | C31: 0 | D31: 0 | E31: 0 | F31: 0
A32: 資料來源：衛生福利部社會及家庭署及直轄市、縣(市)政府。
A33: Source : Social and Family Affairs Administration, MOHW and County and City Government.
A34: 更新日期：2019/04/01

Sheet 2018
A1: 老人福利服務成果-中低收入老人補助裝置假牙 Denture Subsidies for Mid or Low-income Elders
A2: 民國107年, 2018
A3: 區域別 Locality | C3: 中低收入老人補助裝置假牙 Denture Subsidies for Mid or Low-income elders
C5: 人數(人) Persons | F5: 金額 (千元) Amount (NT.$1,000)
C7: 計 | D7: 男 | E7: 女
C8: Total | D8: Male | E8: Female
A9: 總計 | B9: Total | C9: 4734 | D9: 2564 | E9: 2170 | F9: 142077.32
A10: 新北市 | B10: New Taipei City | C10: 451 | D10: 265 | E10: 186 | F10: 11434
A11: 臺北市 | B11: Taipei City | C11: 600 | D11: 353 | E11: 247 | F11: 17337.77
A12: 桃園市 | B12: Taoyuan City | C12: 333 | D12: 178 | E12: 155 | F12: 9289
A13: 臺中市 | B13: Taichung City | C13: 108 | D13: 62 | E13: 46 | F13: 3007
A14: 臺南市 | B14: Tainan City | C14: 354 | D14: 175 | E14: 179 | F14: 10196
A15: 高雄市 | B15: Kaohsiung City | C15: 1056 | D15: 531 | E15: 525 | F15: 35790
A16: 宜蘭縣 | B16: Yilan County | C16: 43 | D16: 22 | E16: 21 | F16: 1380
A17: 新竹縣 | B17: Hsinchu County | C17: 39 | D17: 19 | E17: 20 | F17: 1215
A18: 苗栗縣 | B18: Miaoli County | C18: 58 | D18: 31 | E18: 27 | F18: 1815
A19: 彰化縣 | B19: Changhua County | C19: 286 | D19: 154 | E19: 132 | F19: 8567
A20: 南投縣 | B20: Nantou County | C20: 229 | D20: 112 | E20: 117 | F20: 7122.499
... A31: 連江縣 | B31: Lienchiang County | C31: 2 | D31: 1 | E31: 1 | F31: 0
A32: 資料來源：衛生福利部社會及家庭署及直轄市、縣(市)政府。
A33: Source : Social and Family Affairs Administration, MOHW and County and City Government.
A34: 更新日期：2019/04/01

Sheet 2017
A1: 老人福利服務成果-中低收入老人補助裝置假牙 Denture Subsidies for Mid or Low-income Elders
A2: 民國106年 , 2017
A3: 區域別 Locality | C3: 中低收入老人補助裝置假牙 Denture Subsidies for Mid or Low-income elders
C5: 人數(人) Persons | F5: 金額 (千元) Amount (NT.$1,000)
C7: 計 | D7: 男 | E7: 女
C8: Total | D8: Male | E8: Female
A9: 總計 | B9: Total | C9: 4400 | D9: 2473 | E9: 1927 | F9: 131113.95
A10: 新北市 | B10: New Taipei City | C10: 403 | D10: 241 | E10: 162 | F10: 10475.9
A11: 臺北市 | B11: Taipei City | C11: 557 | D11: 324 | E11: 233 | F11: 17433.55
A12: 桃園市 | B12: Taoyuan City | C12: 326 | D12: 181 | E12: 145 | F12: 9626
A13: 臺中市 | B13: Taichung City | C13: 99 | D13: 54 | E13: 45 | F13: 2495
A14: 臺南市 | B14: Tainan City | C14: 254 | D14: 144 | E14: 110 | F14: 7386
A15: 高雄市 | B15: Kaohsiung City | C15: 1182 | D15: 640 | E15: 542 | F15: 37429
A16: 宜蘭縣 | B16: Yilan County | C16: 42 | D16: 22 | E16: 20 | F16: 1224
A17: 新竹縣 | B17: Hsinchu County | C17: 34 | D17: 19 | E17: 15 | F17: 1224
A18: 苗栗縣 | B18: Miaoli County | C18: 43 | D18: 22 | E18: 21 | F18: 1190
A19: 彰化縣 | B19: Changhua County | C19: 386 | D19: 229 | E19: 157 | F19: 9508
A20: 南投縣 | B20: Nantou County | C20: 192 | D20: 102 | E20: 90 | F20: 6070
... A31: 連江縣 | B31: Lienchiang County | C31: 0 | D31: 0 | E31: 0 | F31: 0
A32: 資料來源：衛生福利部社會及家庭署及直轄市、縣(市)政府。
A33: Source : Social and Family Affairs Administration, MOHW and County and City Government.
A34: 更新日期：2018/11/30
A35: 總計 | B35: Total | C35: 4400 | D35: 2473 | E35: 1927 | F35: 131113.95
A36: 新北市 | B36: New Taipei City | C36: 403 | D36: 241 | E36: 162 | F36: 10475.9
A37: 臺北市 | B37: Taipei City | C37: 557 | D37: 324 | E37: 233 | F37: 17433.55
A38: 桃園市 | B38: Taoyuan City | C38: 326 | D38: 181 | E38: 145 | F38: 9626
A39: 臺中市 | B39: Taichung City | C39: 99 | D39: 54 | E39: 45 | F39: 2495
A40: 臺南市 | B40: Tainan City | C40: 254 | D40: 144 | E40: 110 | F40: 7386
A41: 高雄市 | B41: Kaohsiung City | C41: 1182 | D41: 640 | E41: 542 | F41: 37429
A42: 宜蘭縣 | B42: Yilan County | C42: 42 | D42: 22 | E42: 20 | F42: 1224
A43: 新竹縣 | B43: Hsinchu County | C43: 34 | D43: 19 | E43: 15 | F43: 1224
A44: 苗栗縣 | B44: Miaoli County | C44: 43 | D44: 22 | E44: 21 | F44: 1190
A45: 彰化縣 | B45: Changhua County | C45: 386 | D45: 229 | E45: 157 | F45: 9508
A46: 南投縣 | B46: Nantou County | C46: 192 | D46: 102 | E46: 90 | F46: 6070
... A57: 連江縣 | B57: Lienchiang County | C57: 0 | D57: 0 | E57: 0 | F57: 0
A59: 總計 | B59: Total | C59: =IF(C35=C9,"","*") | D59: =IF(D35=D9,"","*") | E59: =IF(E35=E9,"","*") | F59: =IF(F35=F9,"","*")
A60: 新北市 | B60: New Taipei City | C60: =IF(C36=C10,"","*") | D60: =IF(D36=D10,"","*") | E60: =IF(E36=E10,"","*") | F60: =IF(F36=F10,"","*")
A61: 臺北市 | B61: Taipei City | C61: =IF(C37=C11,"","*") | D61: =IF(D37=D11,"","*") | E61: =IF(E37=E11,"","*") | F61: =IF(F37=F11,"","*")
A62: 桃園市 | B62: Taoyuan City | C62: =IF(C38=C12,"","*") | D62: =IF(D38=D12,"","*") | E62: =IF(E38=E12,"","*") | F62: =IF(F38=F12,"","*")
A63: 臺中市 | B63: Taichung City | C63: =IF(C39=C13,"","*") | D63: =IF(D39=D13,"","*") | E63: =IF(E39=E13,"","*") | F63: =IF(F39=F13,"","*")
A64: 臺南市 | B64: Tainan City | C64: =IF(C40=C14,"","*") | D64: =IF(D40=D14,"","*") | E64: =IF(E40=E14,"","*") | F64: =IF(F40=F14,"","*")
A65: 高雄市 | B65: Kaohsiung City | C65: =IF(C41=C15,"","*") | D65: =IF(D41=D15,"","*") | E65: =IF(E41=E15,"","*") | F65: =IF(F41=F15,"","*")
A66: 宜蘭縣 | B66: Yilan County | C66: =IF(C42=C16,"","*") | D66: =IF(D42=D16,"","*") | E66: =IF(E42=E16,"","*") | F66: =IF(F42=F16,"","*")
A67: 新竹縣 | B67: Hsinchu County | C67: =IF(C43=C17,"","*") | D67: =IF(D43=D17,"","*") | E67: =IF(E43=E17,"","*") | F67: =IF(F43=F17,"","*")
A68: 苗栗縣 | B68: Miaoli County | C68: =IF(C44=C18,"","*") | D68: =IF(D44=D18,"","*") | E68: =IF(E44=E18,"","*") | F68: =IF(F44=F18,"","*")
A69: 彰化縣 | B69: Changhua County | C69: =IF(C45=C19,"","*") | D69: =IF(D45=D19,"","*") | E69: =IF(E45=E19,"","*") | F69: =IF(F45=F19,"","*")
A70: 南投縣 | B70: Nantou County | C70: =IF(C46=C20,"","*") | D70: =IF(D46=D20,"","*") | E70: =IF(E46=E20,"","*") | F70: =IF(F46=F20,"","*")
... A81: 連江縣 | B81: Lienchiang County | C81: =IF(C57=C31,"","*") | D81: =IF(D57=D31,"","*") | E81: =IF(E57=E31,"","*") | F81: =IF(F57=F31,"","*")

Sheet 2016
A1: 老人福利服務成果-中低收入老人補助裝置假牙 Denture Subsidies for Mid or Low-income Elders
A2: 民國105年, 2016
A3: 區域別 Locality | C3: 中低收入老人補助裝置假牙 Denture Subsidies for Mid or Low-income elders
C5: 人數(人) Persons | F5: 金額 (千元) Amount (NT.$1,000)
C7: 計 | D7: 男 | E7: 女
C8: Total | D8: Male | E8: Female
A9: 總計 | B9: Total | C9: 4449 | D9: 2486 | E9: 1963 | F9: 132678.12
A10: 新北市 | B10: New Taipei City | C10: 415 | D10: 247 | E10: 168 | F10: 10119.1
A11: 臺北市 | B11: Taipei City | C11: 612 | D11: 403 | E11: 209 | F11: 20942.35
A12: 桃園市 | B12: Taoyuan City | C12: 586 | D12: 315 | E12: 271 | F12: 18072
A13: 臺中市 | B13: Taichung City | C13: 150 | D13: 79 | E13: 71 | F13: 3867
A14: 臺南市 | B14: Tainan City | C14: 310 | D14: 165 | E14: 145 | F14: 9182
A15: 高雄市 | B15: Kaohsiung City | C15: 736 | D15: 403 | E15: 333 | F15: 24645
A16: 宜蘭縣 | B16: Yilan County | C16: 63 | D16: 35 | E16: 28 | F16: 1838.5
A17: 新竹縣 | B17: Hsinchu County | C17: 64 | D17: 40 | E17: 24 | F17: 2002
A18: 苗栗縣 | B18: Miaoli County | C18: 67 | D18: 37 | E18: 30 | F18: 1990
A19: 彰化縣 | B19: Changhua County | C19: 315 | D19: 156 | E19: 159 | F19: 9506.666
A20: 南投縣 | B20: Nantou County | C20: 157 | D20: 84 | E20: 73 | F20: 4810.5
... A31: 連江縣 | B31: Lienchiang County | C31: 0 | D31: 0 | E31: 0 | F31: 0
A32: 資料來源：衛生福利部社會及家庭署及直轄市、縣(市)政府。
A33: Source : Social and Family Affairs Administration, MOHW and County and City Government.
A36: 更新日期：2016/9/30

Sheet 2015
A1: 老人福利服務成果-中低收入老人補助裝置假牙 Denture Subsidies for Mid or Low-income Elders
A2: 民國104年, 2015
A3: 區域別 Locality | C3: 中低收入老人補助裝置假牙 Denture Subsidies for Mid or Low-income elders
C5: 人數(人) Persons | F5: 金額 (千元) Amount (NT.$1,000)
C7: 計 | D7: 男 | E7: 女
C8: Total | D8: Male | E8: Female
A9: 總計 | B9: Total | C9: 5147 | D9: 2880 | E9: 2267 | F9: 162694.5
A10: 新北市 | B10: New Taipei City | C10: 469 | D10: 269 | E10: 200 | F10: 12413.5
A11: 臺北市 | B11: Taipei City | C11: 546 | D11: 357 | E11: 189 | F11: 19053.9
A12: 桃園市 | B12: Taoyuan City | C12: 431 | D12: 226 | E12: 205 | F12: 13572
A13: 臺中市 | B13: Taichung City | C13: 430 | D13: 248 | E13: 182 | F13: 12726
A14: 臺南市 | B14: Tainan City | C14: 284 | D14: 143 | E14: 141 | F14: 8539
A15: 高雄市 | B15: Kaohsiung City | C15: 1354 | D15: 734 | E15: 620 | F15: 45365
A16: 宜蘭縣 | B16: Yilan County | C16: 64 | D16: 42 | E16: 22 | F16: 1825
A17: 新竹縣 | B17: Hsinchu County | C17: 35 | D17: 22 | E17: 13 | F17: 1099
A18: 苗栗縣 | B18: Miaoli County | C18: 31 | D18: 16 | E18: 15 | F18: 1045
A19: 彰化縣 | B19: Changhua County | C19: 352 | D19: 204 | E19: 148 | F19: 10661
A20: 南投縣 | B20: Nantou County | C20: 163 | D20: 81 | E20: 82 | F20: 4894
... A31: 連江縣 | B31: Lienchiang County | C31: 0 | D31: 0 | E31: 0 | F31: 0
A32: 資料來源：衛生福利部社會及家庭署及直轄市、縣(市)政府。
A33: Source : Social and Family Affairs Administration, MOHW and County and City Government.
A35: 更新日期：2016/9/30
A37: 總計 | C37: 5295 | D37: 2958 | E37: 2337 | F37: 167872.5
A38: 新北市 | B38: New Taipei City | C38: 469 | D38: 269 | E38: 200 | F38: 12413.5
A39: 臺北市 | B39: Taipei City | C39: 546 | D39: 357 | E39: 189 | F39: 19053.9
A40: 桃園市 | B40: Taoyuan City | C40: 431 | D40: 226 | E40: 205 | F40: 13572
A41: 臺中市 | B41: Taichung City | C41: 430 | D41: 248 | E41: 182 | F41: 12726
A42: 臺南市 | B42: Tainan City | C42: 284 | D42: 143 | E42: 141 | F42: 8539
A43: 高雄市 | B43: Kaohsiung City | C43: 1354 | D43: 734 | E43: 620 | F43: 45365
A44: 臺灣省 | B44: Taiwan Prov. | C44: 1781 | D44: 981 | E44: 800 | F44: 56203.1
A45: 宜蘭縣 | B45: Yilan County | C45: 64 | D45: 42 | E45: 22 | F45: 1825
A46: 新竹縣 | B46: Hsinchu County | C46: 35 | D46: 22 | E46: 13 | F46: 1099
A47: 苗栗縣 | B47: Miaoli County | C47: 31 | D47: 16 | E47: 15 | F47: 1045
A48: 彰化縣 | B48: Changhua County | C48: 352 | D48: 204 | E48: 148 | F48: 10661
A49: 南投縣 | B49: Nantou County | C49: 163 | D49: 81 | E49: 82 | F49: 4894
... A61: 連江縣 | B61: Lienchiang County | C61: 0 | D61: 0 | E61: 0 | F61: 0
A63: 總計 | C63: =IF(C9=C37,"","*") -> * | D63: =IF(D9=D37,"","*") -> * | E63: =IF(E9=E37,"","*") -> * | F63: =IF(F9=F37,"","*") -> *
A64: 新北市 | B64: New Taipei City | C64: =IF(C10=C38,"","*") | D64: =IF(D10=D38,"","*") | E64: =IF(E10=E38,"","*") | F64: =IF(F10=F38,"","*")
A65: 臺北市 | B65: Taipei City | C65: =IF(C11=C39,"","*") | D65: =IF(D11=D39,"","*") | E65: =IF(E11=E39,"","*") | F65: =IF(F11=F39,"","*")
A66: 桃園市 | B66: Taoyuan City | C66: =IF(C12=C40,"","*") | D66: =IF(D12=D40,"","*") | E66: =IF(E12=E40,"","*") | F66: =IF(F12=F40,"","*")
A67: 臺中市 | B67: Taichung City | C67: =IF(C13=C41,"","*") | D67: =IF(D13=D41,"","*") | E67: =IF(E13=E41,"","*") | F67: =IF(F13=F41,"","*")
A68: 臺南市 | B68: Tainan City | C68: =IF(C14=C42,"","*") | D68: =IF(D14=D42,"","*") | E68: =IF(E14=E42,"","*") | F68: =IF(F14=F42,"","*")
A69: 高雄市 | B69: Kaohsiung City | C69: =IF(C15=C43,"","*") | D69: =IF(D15=D43,"","*") | E69: =IF(E15=E43,"","*") | F69: =IF(F15=F43,"","*")
A70: 臺灣省 | B70: Taiwan Prov. | C70: =IF(#REF!=C44,"","*") -> #REF! | D70: =IF(#REF!=D44,"","*") -> #REF! | E70: =IF(#REF!=E44,"","*") -> #REF! | F70: =IF(#REF!=F44,"","*") -> #REF!
A71: 宜蘭縣 | B71: Yilan County | C71: =IF(C16=C45,"","*") | D71: =IF(D16=D45,"","*") | E71: =IF(E16=E45,"","*") | F71: =IF(F16=F45,"","*")
A72: 新竹縣 | B72: Hsinchu County | C72: =IF(C17=C46,"","*") | D72: =IF(D17=D46,"","*") | E72: =IF(E17=E46,"","*") | F72: =IF(F17=F46,"","*")
A73: 苗栗縣 | B73: Miaoli County | C73: =IF(C18=C47,"","*") | D73: =IF(D18=D47,"","*") | E73: =IF(E18=E47,"","*") | F73: =IF(F18=F47,"","*")
A74: 彰化縣 | B74: Changhua County | C74: =IF(C19=C48,"","*") | D74: =IF(D19=D48,"","*") | E74: =IF(E19=E48,"","*") | F74: =IF(F19=F48,"","*")
A75: 南投縣 | B75: Nantou County | C75: =IF(C20=C49,"","*") | D75: =IF(D20=D49,"","*") | E75: =IF(E20=E49,"","*") | F75: =IF(F20=F49,"","*")
A76: 雲林縣 | B76: Yunlin County | C76: =IF(C21=C50,"","*") -> * | D76: =IF(D21=D50,"","*") -> * | E76: =IF(E21=E50,"","*") -> * | F76: =IF(F21=F50,"","*") -> *
A77: 嘉義縣 | B77: Chiayi County | C77: =IF(C22=C51,"","*") | D77: =IF(D22=D51,"","*") | E77: =IF(E22=E51,"","*") | F77: =IF(F22=F51,"","*")
A78: 屏東縣 | B78: Pingtung County | C78: =IF(C23=C52,"","*") | D78: =IF(D23=D52,"","*") | E78: =IF(E23=E52,"","*") | F78: =IF(F23=F52,"","*")
A79: 臺東縣 | B79: Taitung County | C79: =IF(C24=C53,"","*") | D79: =IF(D24=D53,"","*") | E79: =IF(E24=E53,"","*") | F79: =IF(F24=F53,"","*")
A80: 花蓮縣 | B80: Hualien County | C80: =IF(C25=C54,"","*") | D80: =IF(D25=D54,"","*") | E80: =IF(E25=E54,"","*") | F80: =IF(F25=F54,"","*")
A81: 澎湖縣 | B81: Penghu County | C81: =IF(C26=C55,"","*") | D81: =IF(D26=D55,"","*") | E81: =IF(E26=E55,"","*") | F81: =IF(F26=F55,"","*")
A82: 基隆市 | B82: Keelung City | C82: =IF(C27=C56,"","*") | D82: =IF(D27=D56,"","*") | E82: =IF(E27=E56,"","*") | F82: =IF(F27=F56,"","*")
... A84: 嘉義市 | B84: Chiayi City | C84: =IF(C29=C58,"","*") | D84: =IF(D29=D58,"","*") | E84: =IF(E29=E58,"","*") | F84: =IF(F29=F58,"","*")
A85: 福 建 省 | B85: Fuchien Prov. | C85: =IF(#REF!=C59,"","*") -> #REF! | D85: =IF(#REF!=D59,"","*") -> #REF! | E85: =IF(#REF!=E59,"","*") -> #REF! | F85: =IF(#REF!=F59,"","*") -> #REF!
A86: 金門縣 | B86: Kinmen County | C86: =IF(C30=C60,"","*") | D86: =IF(D30=D60,"","*") | E86: =IF(E30=E60,"","*") | F86: =IF(F30=F60,"","*")
A87: 連江縣 | B87: Lienchiang County | C87: =IF(C31=C61,"","*") | D87: =IF(D31=D61,"","*") | E87: =IF(E31=E61,"","*") | F87: =IF(F31=F61,"","*")
