Workbook

Sheet 歷年月monthly (2023~)
A1: 中低收入老人生活津貼 Living Allowance for Mid or Low Income Elders
A2: 單位：人 Unit : Persons
A3: 年(月)別 | B3: 總計 Total | F3: 低收入戶 Low-Income Households | O3: 中 低 收 入 戶 Middle-Low-Income Households | R3: 中低收入老人 Middle-Low-Income Elders | X3: 具原住民身分 Indigenous People
B4: 人數(年月底) Persons (End of Year/Month) | E4: 金額(元) | F4: 第1款(省、新北、臺中、臺南)、第0類(臺北)、第1類(高雄) Class 1 | I4: 第2款(省、新北、臺中、臺南)、第1、2類(臺北)、第2類(高雄) Class 2 | L4: 第3款(省、新北、臺中、臺南)、第3、4類(臺北、高雄) Class 3 | R4: 最低生活費1倍以上未滿1.5倍 above 1 Times and Under 1.5Times Minimum of Subsistence | U4: 最低生活費1.5倍以上未滿2.5倍 above 1.5 Times and Under 2.5Times Minimum of Subsistence
A5: Year (Month) & Locality | B5: 計 | C5: 男 | D5: 女 | F5: 人數 Persons | H5: 金額(元) | I5: 人數 Persons | K5: 金額(元) | L5: 人數 Persons | N5: 金額(元) | O5: 人數 Persons | Q5: 金額(元) | R5: 人數 Persons | T5: 金額(元) | U5: 人數 Persons | W5: 金額(元) | X5: 人數 Persons
B6: Total | C6: Male | D6: Female | E6: Amount (NT.$) | F6: 男 Male | G6: 女 Female | H6: Amount (NT.$) | I6: 男 Male | J6: 女 Female | K6: Amount (NT.$) | L6: 男 Male | M6: 女 Female | N6: Amount (NT.$) | O6: 男 Male | P6: 女 Female | Q6: Amount (NT.$) | R6: 男 Male | S6: 女 Female | T6: Amount (NT.$) | U6: 男 Male | V6: 女 Female | W6: Amount (NT.$) | X6: 男 Male | Y6: 女 Female
A7: 112年 2023 | B7: 208407 | C7: 98572 | D7: 109835 | E7: 16885865996 | F7: 459 | G7: 153 | H7: 59400939 | I7: 7184 | J7: 3351 | K7: 969571185 | L7: 10338 | M7: 6101 | N7: 1479111136 | O7: 4977 | P7: 4660 | Q7: 825368396 | R7: 54906 | S7: 70533 | T7: 11553496186 | U7: 20708 | V7: 25037 | W7: 1998918154 | X7: 1854 | Y7: 2166
A8: 113年 2024 | B8: 223705 | C8: 106162 | D8: 117543 | E8: 18982403224 | F8: 453 | G8: 147 | H8: 62005176 | I8: 7625 | J8: 3651 | K8: 1111444193 | L8: 10890 | M8: 6483 | N8: 1683743749 | O8: 6079 | P8: 5598 | Q8: 1075759397 | R8: 55197 | S8: 70015 | T8: 12377089215 | U8: 25918 | V8: 31649 | W8: 2672361494 | X8: 2004 | Y8: 2353
A9: 114年 2025 | B9: 235010 | C9: 111933 | D9: 123077 | E9: 20294518145 | F9: 423 | G9: 149 | H9: 58027028 | I9: 8045 | J9: 3884 | K9: 1188313706 | L9: 11549 | M9: 6857 | N9: 1797246686 | O9: 6381 | P9: 5943 | Q9: 1171029887 | R9: 61096 | S9: 76702 | T9: 13558076373 | U9: 24439 | V9: 29542 | W9: 2521824465 | X9: 2583 | Y9: 2632
A10: 1月 Jan. | B10: 211658 | C10: 100558 | D10: 111100 | E10: 1611591252 | F10: 439 | G10: 143 | H10: 4856531 | I10: 7664 | J10: 3664 | K10: 95688668 | L10: 10366 | M10: 6124 | N10: 139566078 | O10: 5362 | P10: 5008 | Q10: 89493391 | R10: 56791 | S10: 71420 | T10: 1087956576 | U10: 19936 | V10: 24741 | W10: 194030008 | X10: 1987 | Y10: 2362
A11: 2月 Feb. | B11: 214748 | C11: 101980 | D11: 112768 | E11: 1631258806 | F11: 440 | G11: 144 | H11: 4870297 | I11: 7739 | J11: 3721 | K11: 96860263 | L11: 10502 | M11: 6213 | N11: 141787930 | O11: 5393 | P11: 5050 | Q11: 89720405 | R11: 57698 | S11: 72662 | T11: 1104070759 | U11: 20208 | V11: 24978 | W11: 193949152 | X11: 2062 | Y11: 2424
A12: 3月 Mar. | B12: 218378 | C12: 103783 | D12: 114595 | E12: 1671034203 | F12: 442 | G12: 145 | H12: 4945258 | I12: 7821 | J12: 3774 | K12: 98472093 | L12: 10784 | M12: 6412 | N12: 147340276 | O12: 5559 | P12: 5176 | Q12: 93683198 | R12: 58364 | S12: 73478 | T12: 1124400348 | U12: 20813 | V12: 25610 | W12: 202193030 | X12: 2090 | Y12: 2475
A13: 4月 Apr. | B13: 220583 | C13: 104926 | D13: 115657 | E13: 1680620437 | F13: 436 | G13: 145 | H13: 4895284 | I13: 7852 | J13: 3775 | K13: 98255575 | L13: 10967 | M13: 6530 | N13: 149791785 | O13: 5625 | P13: 5327 | Q13: 94478597 | R13: 58810 | S13: 73889 | T13: 1128654226 | U13: 21236 | V13: 25991 | W13: 204544970 | X13: 2137 | Y13: 2528
A14: 5月 May | B14: 221994 | C14: 105521 | D14: 116473 | E14: 1682009092 | F14: 435 | G14: 146 | H14: 4892970 | I14: 7888 | J14: 3817 | K14: 99243171 | L14: 10997 | M14: 6535 | N14: 148576547 | O14: 5757 | P14: 5391 | Q14: 96387815 | R14: 59000 | S14: 74206 | T14: 1126925929 | U14: 21444 | V14: 26378 | W14: 205982660 | X14: 2181 | Y14: 2554
A15: 6月 June | B15: 223503 | C15: 106153 | D15: 117350 | E15: 1686077357 | F15: 430 | G15: 145 | H15: 4820323 | I15: 7926 | J15: 3847 | K15: 99281612 | L15: 11077 | M15: 6602 | N15: 150305947 | O15: 5804 | P15: 5495 | Q15: 96727862 | R15: 59185 | S15: 74506 | T15: 1127418110 | U15: 21731 | V15: 26755 | W15: 207523503 | X15: 2199 | Y15: 2586
A16: 7月 July | B16: 224878 | C16: 106765 | D16: 118113 | E16: 1693489630 | F16: 431 | G16: 144 | H16: 4803665 | I16: 7952 | J16: 3847 | K16: 99485501 | L16: 11106 | M16: 6659 | N16: 150515675 | O16: 5906 | P16: 5590 | Q16: 98817137 | R16: 59326 | S16: 74738 | T16: 1129928767 | U16: 22044 | V16: 27135 | W16: 209938885 | X16: 2224 | Y16: 2608
A17: 8月 Aug. | B17: 226176 | C17: 107386 | D17: 118790 | E17: 1699292085 | F17: 429 | G17: 146 | H17: 4864819 | I17: 7988 | J17: 3841 | K17: 99403232 | L17: 11200 | M17: 6677 | N17: 151180799 | O17: 5953 | P17: 5622 | Q17: 98661750 | R17: 59480 | S17: 74986 | T17: 1132546929 | U17: 22336 | V17: 27518 | W17: 212634556 | X17: 2236 | Y17: 2645
A18: 9月 Sept. | B18: 227747 | C18: 108192 | D18: 119555 | E18: 1711154650 | F18: 421 | G18: 145 | H18: 4720375 | I18: 8022 | J18: 3850 | K18: 100230448 | L18: 11293 | M18: 6746 | N18: 152941905 | O18: 6062 | P18: 5679 | Q18: 101258649 | R18: 59733 | S18: 75313 | T18: 1137012413 | U18: 22661 | V18: 27822 | W18: 214990860 | X18: 2252 | Y18: 2663
... A21: 12月 Dec. | B21: 235010 | C21: 111933 | D21: 123077 | E21: 1767861052 | F21: 423 | G21: 149 | H21: 4787007 | I21: 8045 | J21: 3884 | K21: 100468804 | L21: 11549 | M21: 6857 | N21: 155679231 | O21: 6381 | P21: 5943 | Q21: 105642454 | R21: 61096 | S21: 76702 | T21: 1167065654 | U21: 24439 | V21: 29542 | W21: 234217902 | X21: 2583 | Y21: 2632
A22: 115年 2026
A23: 1月 Jan. | B23: 230227 | C23: 110303 | D23: 119924 | E23: 1763228671 | F23: 405 | G23: 140 | H23: 4570453 | I23: 8110 | J23: 3896 | K23: 101619445 | L23: 11010 | M23: 6495 | N23: 149744038 | O23: 6037 | P23: 5571 | Q23: 100703273 | R23: 59889 | S23: 73831 | T23: 1158190418 | U23: 24852 | V23: 29991 | W23: 248401044 | X23: 2208 | Y23: 2669
A24: 2月 Feb. | B24: 237094 | C24: 113475 | D24: 123619 | E24: 1837536947 | F24: 412 | G24: 146 | H24: 4708112 | I24: 8220 | J24: 3998 | K24: 104176479 | L24: 11211 | M24: 6633 | N24: 154292305 | O24: 6091 | P24: 5669 | Q24: 103246356 | R24: 61581 | S24: 75952 | T24: 1205759341 | U24: 25960 | V24: 31221 | W24: 265354354 | X24: 2285 | Y24: 2778
A25: 3月 Mar. | B25: 245590 | C25: 117514 | D25: 128076 | E25: 1886760396 | F25: 422 | G25: 143 | H25: 4753691 | I25: 8330 | J25: 4068 | K25: 105494792 | L25: 11419 | M25: 6734 | N25: 155673169 | O25: 6250 | P25: 5800 | Q25: 105101089 | R25: 63499 | S25: 78262 | T25: 1239031391 | U25: 27594 | V25: 33069 | W25: 276706264 | X25: 2315 | Y25: 2841
A26: 4月 Apr. | B26: 250696 | C26: 120062 | D26: 130634 | E26: 1908389530 | F26: 423 | G26: 148 | H26: 4865691 | I26: 8408 | J26: 4098 | K26: 106070145 | L26: 11684 | M26: 6854 | N26: 159081533 | O26: 6375 | P26: 5935 | Q26: 107105134 | R26: 64542 | S26: 79402 | T26: 1247192220 | U26: 28630 | V26: 34197 | W26: 284074807 | X26: 2405 | Y26: 2927
A27: 5月 May | B27: 252854 | C27: 121070 | D27: 131784 | E27: 1895826848 | F27: 420 | G27: 147 | H27: 4770349 | I27: 8449 | J27: 4120 | K27: 106244360 | L27: 11831 | M27: 6895 | N27: 159752351 | O27: 6473 | P27: 6025 | Q27: 108155220 | R27: 64871 | S27: 79882 | T27: 1237293530 | U27: 29026 | V27: 34715 | W27: 279611038 | X27: 2437 | Y27: 2987
A28: 6月 June | B28: 255985 | C28: 122473 | D28: 133512 | E28: 1911329035 | F28: 427 | G28: 148 | H28: 4870297 | I28: 8476 | J28: 4140 | K28: 106452583 | L28: 11918 | M28: 6979 | N28: 161589329 | O28: 6610 | P28: 6128 | Q28: 109882964 | R28: 65331 | S28: 80565 | T28: 1243021671 | U28: 29711 | V28: 35552 | W28: 285512191 | X28: 2505 | Y28: 3049
A29: 7月 July
A30: 8月 Aug.
A31: 9月 Sept.
A32: 10月 Oct.
A33: 11月 Nov.
A34: 12月 Dec.
A35: 資料來源：直轄市、縣﹝市﹞政府。
A36: Source : County and City Government.
A37: 備註：112年起新增「中低收入戶」統計項，係指「最低生活費1倍以上～未滿1.5倍者」且符合社會救助法規定之中低收入戶者。
A40: 更新日期：2026/7/31

Sheet 2026
A1: 中低收入老人生活津貼 Living Allowance for Mid or Low Income Elders
A2: 中華民國115年1-6月 Jan.-June,2026
A3: 單位：人 Unit : Persons
A4: 區域別 | B4: 總計 Total | F4: 低收入戶 Low-Income Households | O4: 中 低 收 入 戶 Middle-Low-Income Households | R4: 中低收入老人 Middle-Low-Income Elders | X4: 具原住民身分 Indigenous People
B5: 人數(期底數) Persons (End of Year) | E5: 金額(元) | F5: 第1款(省、新北、臺中、臺南)、第0類(臺北)、第1類(高雄) Class 1 | I5: 第2款(省、新北、臺中、臺南)、第1、2類(臺北)、第2類(高雄) Class 2 | L5: 第3款(省、新北、臺中、臺南)、第3、4類(臺北、高雄) Class 3 | R5: 最低生活費1倍以上未滿1.5倍 above 1 Times and Under 1.5Times Minimum of Subsistence | U5: 最低生活費1.5倍以上未滿2.5倍 above 1.5 Times and Under 2.5Times Minimum of Subsistence
A6: Locality | B6: 計 | C6: 男 | D6: 女 | F6: 人數 Persons | H6: 金額(元) | I6: 人數 Persons | K6: 金額(元) | L6: 人數 Persons | N6: 金額(元) | O6: 人數 Persons | Q6: 金額(元) | R6: 人數 Persons | T6: 金額(元) | U6: 人數 Persons | W6: 金額(元) | X6: 人數 Persons
B7: Total | C7: Male | D7: Female | E7: Amount (NT.$) | F7: 男 Male | G7: 女 Female | H7: Amount (NT.$) | I7: 男 Male | J7: 女 Female | K7: Amount (NT.$) | L7: 男 Male | M7: 女 Female | N7: Amount (NT.$) | O7: 男 Male | P7: 女 Female | Q7: Amount (NT.$) | R7: 男 Male | S7: 女 Female | T7: Amount (NT.$) | U7: 男 Male | V7: 女 Female | W7: Amount (NT.$) | X7: 男 Male | Y7: 女 Female
A8: 總計 Total | B8: 255985 | C8: 122473 | D8: 133512 | E8: 11203071427 | F8: 427 | G8: 148 | H8: 28538593 | I8: 8476 | J8: 4140 | K8: 630057804 | L8: 11918 | M8: 6979 | N8: 940132725 | O8: 6610 | P8: 6128 | Q8: 634194036 | R8: 65331 | S8: 80565 | T8: 7330488571 | U8: 29711 | V8: 35552 | W8: 1639659698 | X8: 2505 | Y8: 3049
A9: 新北市 New Taipei City | B9: 31776 | C9: 15623 | D9: 16153 | E9: 1427668319 | F9: 22 | G9: 5 | H9: 1327961 | I9: 425 | J9: 202 | K9: 31142131 | L9: 1860 | M9: 1068 | N9: 145630161 | O9: 871 | P9: 733 | Q9: 80214292 | R9: 9169 | S9: 10658 | T9: 998582039 | U9: 3276 | V9: 3487 | W9: 170771735 | X9: 192 | Y9: 307
A10: 臺北市 Taipei City | B10: 16103 | C10: 7770 | D10: 8333 | E10: 773287572 | F10: 240 | G10: 83 | H10: 16195528 | I10: 1765 | J10: 1129 | K10: 145985184 | L10: 1406 | M10: 1487 | N10: 146752779 | O10: 890 | P10: 965 | Q10: 93772766 | R10: 2700 | S10: 3851 | T10: 329849270 | U10: 769 | V10: 818 | W10: 40732045 | X10: 32 | Y10: 79
A11: 桃園市 Taoyuan City | B11: 15460 | C11: 7370 | D11: 8090 | E11: 667393318 | F11: 25 | G11: 4 | H11: 1199376 | I11: 332 | J11: 134 | K11: 23013027 | L11: 958 | M11: 562 | N11: 74839748 | O11: 338 | P11: 307 | Q11: 31340061 | R11: 4107 | S11: 5267 | T11: 454694793 | U11: 1610 | V11: 1816 | W11: 82306313 | X11: 163 | Y11: 230
A12: 臺中市 Taichung City | B12: 33340 | C12: 15583 | D12: 17757 | E12: 1490405109 | F12: 96 | G12: 36 | H12: 6600734 | I12: 1597 | J12: 800 | K12: 120899920 | L12: 787 | M12: 633 | N12: 71334312 | O12: 946 | P12: 845 | Q12: 90601848 | R12: 8195 | S12: 10835 | T12: 977018511 | U12: 3962 | V12: 4608 | W12: 223949784 | X12: 74 | Y12: 111
A13: 臺南市 Tainan City | B13: 22778 | C13: 11243 | D13: 11535 | E13: 967238493 | F13: 18 | G13: 10 | H13: 1424259 | I13: 583 | J13: 205 | K13: 39633916 | L13: 1020 | M13: 424 | N13: 71786893 | O13: 243 | P13: 169 | Q13: 20522658 | R13: 6211 | S13: 7034 | T13: 663212440 | U13: 3168 | V13: 3693 | W13: 170658327 | X13: 8 | Y13: 31
A14: 高雄市 Kaohsiung City | B14: 48592 | C14: 21902 | D14: 26690 | E14: 2142890659 | F14: 6 | G14: 7 | H14: 616346 | I14: 1718 | J14: 874 | K14: 128741474 | L14: 942 | M14: 720 | N14: 81399774 | O14: 1303 | P14: 1506 | Q14: 138522875 | R14: 13062 | S14: 16984 | T14: 1503285113 | U14: 4871 | V14: 6599 | W14: 290325077 | X14: 129 | Y14: 280
A15: 宜蘭縣 Yilan County | B15: 4383 | C15: 2144 | D15: 2239 | E15: 182138028 | F15: 0 | G15: 0 | H15: 0 | I15: 62 | J15: 29 | K15: 4423046 | L15: 354 | M15: 155 | N15: 24302522 | O15: 224 | P15: 156 | Q15: 18326986 | R15: 919 | S15: 1213 | T15: 103781115 | U15: 585 | V15: 686 | W15: 31304359 | X15: 122 | Y15: 190
A16: 新竹縣 Hsinchu County | B16: 2732 | C16: 1455 | D16: 1277 | E16: 113260257 | F16: 0 | G16: 0 | H16: 0 | I16: 46 | J16: 12 | K16: 2831860 | L16: 223 | M16: 86 | N16: 14825620 | O16: 101 | P16: 70 | Q16: 8595528 | R16: 623 | S16: 672 | T16: 65021329 | U16: 462 | V16: 437 | W16: 21985920 | X16: 23 | Y16: 43
A17: 苗栗縣 Miaoli County | B17: 4545 | C17: 2312 | D17: 2233 | E17: 182946528 | F17: 0 | G17: 0 | H17: 0 | I17: 197 | J17: 66 | K17: 13243110 | L17: 259 | M17: 154 | N17: 20027081 | O17: 127 | P17: 101 | Q17: 10644463 | R17: 1024 | S17: 1136 | T17: 104329098 | U17: 705 | V17: 776 | W17: 34702776 | X17: 23 | Y17: 39
A18: 彰化縣 Changhua County | B18: 15441 | C18: 7510 | D18: 7931 | E18: 686331819 | F18: 1 | G18: 0 | H18: 49974 | I18: 11 | J18: 4 | K18: 699636 | L18: 912 | M18: 348 | N18: 62714487 | O18: 282 | P18: 182 | Q18: 23549436 | R18: 4452 | S18: 5213 | T18: 494171902 | U18: 1852 | V18: 2184 | W18: 105146384 | X18: 42 | Y18: 60
A19: 南投縣 Nantou County | B19: 8530 | C19: 4044 | D19: 4486 | E19: 355872811 | F19: 0 | G19: 0 | H19: 24987 | I19: 30 | J19: 8 | K19: 1849038 | L19: 326 | M19: 94 | N19: 20947666 | O19: 175 | P19: 139 | Q19: 15537519 | R19: 2183 | S19: 2592 | T19: 241754155 | U19: 1330 | V19: 1653 | W19: 75759446 | X19: 43 | Y19: 75
... A30: 連江縣 Lienchiang County | B30: 18 | C30: 14 | D30: 4 | E30: 774580 | F30: 2 | G30: 0 | H30: 99948 | I30: 1 | J30: 0 | K30: 49974 | L30: 4 | M30: 0 | N30: 199896 | O30: 3 | P30: 2 | Q30: 233212 | R30: 1 | S30: 0 | T30: 49974 | U30: 3 | V30: 2 | W30: 141576 | X30: 1 | Y30: 0
A31: 資料來源：直轄市、縣﹝市﹞政府。
A32: 總計 | B32: =B8-SUM(B9:B14)-#REF! -> #REF! | C32: =C8-SUM(C9:C14)-#REF! -> #REF! | D32: =D8-SUM(D9:D14)-#REF! -> #REF! | E32: =E8-SUM(E9:E14)-#REF! -> #REF! | F32: =F8-SUM(F9:F14)-#REF! -> #REF! | G32: =G8-SUM(G9:G14)-#REF! -> #REF! | H32: =H8-SUM(H9:H14)-#REF! -> #REF! | I32: =I8-SUM(I9:I14)-#REF! -> #REF! | ... N32: =N8-SUM(N9:N14)-#REF! -> #REF! | R32: =R8-SUM(R9:R14)-#REF! -> #REF! | S32: =S8-SUM(S9:S14)-#REF! -> #REF! | T32: =T8-SUM(T9:T14)-#REF! -> #REF! | U32: =U8-SUM(U9:U14)-#REF! -> #REF! | V32: =V8-SUM(V9:V14)-#REF! -> #REF! | W32: =W8-SUM(W9:W14)-#REF! -> #REF! | X32: =X8-SUM(X9:X14)-#REF! -> #REF! | Y32: =Y8-SUM(Y9:Y14)-#REF! -> #REF!
A33: 臺 灣 省 | B33: =#REF!-SUM(B15:B28) -> #REF! | C33: =#REF!-SUM(C15:C28) -> #REF! | D33: =#REF!-SUM(D15:D28) -> #REF! | E33: =#REF!-SUM(E15:E28) -> #REF! | F33: =#REF!-SUM(F15:F28) -> #REF! | G33: =#REF!-SUM(G15:G28) -> #REF! | H33: =#REF!-SUM(H15:H28) -> #REF! | I33: =#REF!-SUM(I15:I28) -> #REF! | ... N33: =#REF!-SUM(N15:N28) -> #REF! | R33: =#REF!-SUM(R15:R28) -> #REF! | S33: =#REF!-SUM(S15:S28) -> #REF! | T33: =#REF!-SUM(T15:T28) -> #REF! | U33: =#REF!-SUM(U15:U28) -> #REF! | V33: =#REF!-SUM(V15:V28) -> #REF! | W33: =#REF!-SUM(W15:W28) -> #REF! | X33: =#REF!-SUM(X15:X28) -> #REF! | Y33: =#REF!-SUM(Y15:Y28) -> #REF!
A34: 福建省 | B34: =#REF!-B29-B30 -> #REF! | C34: =#REF!-C29-C30 -> #REF! | D34: =#REF!-D29-D30 -> #REF! | E34: =#REF!-E29-E30 -> #REF! | F34: =#REF!-F29-F30 -> #REF! | G34: =#REF!-G29-G30 -> #REF! | H34: =#REF!-H29-H30 -> #REF! | I34: =#REF!-I29-I30 -> #REF! | ... N34: =#REF!-N29-N30 -> #REF! | R34: =#REF!-R29-R30 -> #REF! | S34: =#REF!-S29-S30 -> #REF! | T34: =#REF!-T29-T30 -> #REF! | U34: =#REF!-U29-U30 -> #REF! | V34: =#REF!-V29-V30 -> #REF! | W34: =#REF!-W29-W30 -> #REF! | X34: =#REF!-X29-X30 -> #REF! | Y34: =#REF!-Y29-Y30 -> #REF!
A35: 年月 | B35: -96631 | C35: -47215 | D35: -49416 | E35: -4819142206 | F35: 1062 | H35: 100040726 | I35: -5325 | K35: -329299516 | L35: -9706 | N35: -642840605 | R35: -40649 | T35: -2193051791 | U35: -31091 | W35: -972838498 | X35: -1057 | Y35: -1053
A36: Source : County and City Government.

Sheet 2025
A1: 中低收入老人生活津貼 Living Allowance for Mid or Low Income Elders
A2: 中華民國114年1-12月 Jan.-Dec.,2025
A3: 單位：人 Unit : Persons
A4: 區域別 | B4: 總計 Total | F4: 低收入戶 Low-Income Households | O4: 中 低 收 入 戶 Middle-Low-Income Households | R4: 中低收入老人 Middle-Low-Income Elders | X4: 具原住民身分 Indigenous People
B5: 人數(期底數) Persons (End of Year) | E5: 金額(元) | F5: 第1款(省、新北、臺中、臺南)、第0類(臺北)、第1類(高雄) Class 1 | I5: 第2款(省、新北、臺中、臺南)、第1、2類(臺北)、第2類(高雄) Class 2 | L5: 第3款(省、新北、臺中、臺南)、第3、4類(臺北、高雄) Class 3 | R5: 最低生活費1倍以上未滿1.5倍 above 1 Times and Under 1.5Times Minimum of Subsistence | U5: 最低生活費1.5倍以上未滿2.5倍 above 1.5 Times and Under 2.5Times Minimum of Subsistence
A6: Locality | B6: 計 | C6: 男 | D6: 女 | F6: 人數 Persons | H6: 金額(元) | I6: 人數 Persons | K6: 金額(元) | L6: 人數 Persons | N6: 金額(元) | O6: 人數 Persons | Q6: 金額(元) | R6: 人數 Persons | T6: 金額(元) | U6: 人數 Persons | W6: 金額(元) | X6: 人數 Persons
B7: Total | C7: Male | D7: Female | E7: Amount (NT.$) | F7: 男 Male | G7: 女 Female | H7: Amount (NT.$) | I7: 男 Male | J7: 女 Female | K7: Amount (NT.$) | L7: 男 Male | M7: 女 Female | N7: Amount (NT.$) | O7: 男 Male | P7: 女 Female | Q7: Amount (NT.$) | R7: 男 Male | S7: 女 Female | T7: Amount (NT.$) | U7: 男 Male | V7: 女 Female | W7: Amount (NT.$) | X7: 男 Male | Y7: 女 Female
A8: 總計 Total | B8: 235010 | C8: 111933 | D8: 123077 | E8: 20294518145 | F8: 423 | G8: 149 | H8: 58027028 | I8: 8045 | J8: 3884 | K8: 1188313706 | L8: 11549 | M8: 6857 | N8: 1797246686 | O8: 6381 | P8: 5943 | Q8: 1171029887 | R8: 61096 | S8: 76702 | T8: 13558076373 | U8: 24439 | V8: 29542 | W8: 2521824465 | X8: 2583 | Y8: 2632
A9: 新北市 New Taipei City | B9: 28445 | C9: 13947 | D9: 14498 | E9: 2459600379 | F9: 24 | G9: 7 | H9: 2947437 | I9: 422 | J9: 181 | K9: 58211382 | L9: 1724 | M9: 1015 | N9: 270034422 | O9: 833 | P9: 702 | Q9: 149340602 | R9: 8113 | S9: 9590 | T9: 1712915491 | U9: 2831 | V9: 3003 | W9: 266151045 | X9: 477 | Y9: 188
A10: 臺北市 Taipei City | B10: 15388 | C10: 7415 | D10: 7973 | E10: 1470788345 | F10: 241 | G10: 82 | H10: 32996289 | I10: 1735 | J10: 1109 | K10: 289315007 | L10: 1434 | M10: 1489 | N10: 292997757 | O10: 901 | P10: 969 | Q10: 188396574 | R10: 2502 | S10: 3649 | T10: 605911063 | U10: 602 | V10: 675 | W10: 61171655 | X10: 33 | Y10: 78
A11: 桃園市 Taoyuan City | B11: 13966 | C11: 6665 | D11: 7301 | E11: 1160427264 | F11: 20 | G11: 3 | H11: 2057263 | I11: 333 | J11: 130 | K11: 42594624 | L11: 884 | M11: 530 | N11: 135558224 | O11: 398 | P11: 327 | Q11: 61064426 | R11: 3651 | S11: 4811 | T11: 799276501 | U11: 1379 | V11: 1500 | W11: 119876226 | X11: 157 | Y11: 211
A12: 臺中市 Taichung City | B12: 29011 | C12: 13379 | D12: 15632 | E12: 2573227712 | F12: 93 | G12: 38 | H12: 13204588 | I12: 1404 | J12: 737 | K12: 216932761 | L12: 781 | M12: 610 | N12: 137243740 | O12: 912 | P12: 824 | Q12: 165298866 | R12: 7297 | S12: 9825 | T12: 1722136092 | U12: 2892 | V12: 3598 | W12: 318411665 | X12: 64 | Y12: 88
A13: 臺南市 Tainan City | B13: 21088 | C13: 10409 | D13: 10679 | E13: 1777144311 | F13: 20 | G13: 10 | H13: 3098388 | I13: 585 | J13: 204 | K13: 80308950 | L13: 981 | M13: 426 | N13: 135400617 | O13: 209 | P13: 160 | Q13: 34904298 | R13: 6118 | S13: 7143 | T13: 1288971136 | U13: 2496 | V13: 2736 | W13: 234460922 | X13: 9 | Y13: 30
A14: 高雄市 Kaohsiung City | B14: 46418 | C14: 20804 | D14: 25614 | E14: 3998595414 | F14: 5 | G14: 6 | H14: 1174389 | I14: 1674 | J14: 812 | K14: 243062706 | L14: 916 | M14: 689 | N14: 154024955 | O14: 1266 | P14: 1485 | Q14: 262774899 | R14: 12309 | S14: 16284 | T14: 2818084621 | U14: 4634 | V14: 6338 | W14: 519473844 | X14: 135 | Y14: 274
A15: 宜蘭縣 Yilan County | B15: 4022 | C15: 1978 | D15: 2044 | E15: 337854983 | F15: 0 | G15: 0 | H15: 83290 | I15: 59 | J15: 22 | K15: 8004169 | L15: 336 | M15: 153 | N15: 47143063 | O15: 206 | P15: 168 | Q15: 33780859 | R15: 930 | S15: 1166 | T15: 206044301 | U15: 447 | V15: 535 | W15: 42799301 | X15: 91 | Y15: 132
A16: 新竹縣 Hsinchu County | B16: 2583 | C16: 1357 | D16: 1226 | E16: 209592374 | F16: 0 | G16: 0 | H16: 0 | I16: 47 | J16: 14 | K16: 6296724 | L16: 215 | M16: 82 | N16: 28301942 | O16: 105 | P16: 75 | Q16: 17420104 | R16: 595 | S16: 682 | T16: 123661988 | U16: 395 | V16: 373 | W16: 33911616 | X16: 19 | Y16: 45
A17: 苗栗縣 Miaoli County | B17: 3813 | C17: 1902 | D17: 1911 | E17: 315192906 | F17: 0 | G17: 0 | H17: 0 | I17: 197 | J17: 69 | K17: 27560661 | L17: 231 | M17: 157 | N17: 36181178 | O17: 114 | P17: 94 | Q17: 19248323 | R17: 862 | S17: 1037 | T17: 185332760 | U17: 498 | V17: 554 | W17: 46869984 | X17: 24 | Y17: 33
A18: 彰化縣 Changhua County | B18: 14001 | C18: 6779 | D18: 7222 | E18: 1230745910 | F18: 1 | G18: 0 | H18: 116606 | I18: 9 | J18: 5 | K18: 1380416 | L18: 852 | M18: 344 | N18: 116342009 | O18: 271 | P18: 152 | Q18: 38981346 | R18: 4156 | S18: 4898 | T18: 911237516 | U18: 1490 | V18: 1823 | W18: 162688017 | X18: 43 | Y18: 58
A19: 南投縣 Nantou County | B19: 8086 | C19: 3829 | D19: 4257 | E19: 675249617 | F19: 1 | G19: 0 | H19: 108277 | I19: 30 | J19: 10 | K19: 3723063 | L19: 323 | M19: 88 | N19: 40309467 | O19: 170 | P19: 130 | Q19: 28035066 | R19: 2195 | S19: 2668 | T19: 483597731 | U19: 1110 | V19: 1361 | W19: 119476013 | X19: 40 | Y19: 72
... A30: 連江縣 Lienchiang County | B30: 18 | C30: 14 | D30: 4 | E30: 1370102 | F30: 2 | G30: 0 | H30: 199896 | I30: 1 | J30: 0 | K30: 99948 | L30: 3 | M30: 0 | N30: 216554 | O30: 3 | P30: 3 | Q30: 599688 | R30: 1 | S30: 0 | T30: 99948 | U30: 4 | V30: 1 | W30: 154068 | X30: 1 | Y30: 0
A31: 資料來源：直轄市、縣﹝市﹞政府。
A32: 總計 | B32: =B8-SUM(B9:B14)-#REF! -> #REF! | C32: =C8-SUM(C9:C14)-#REF! -> #REF! | D32: =D8-SUM(D9:D14)-#REF! -> #REF! | E32: =E8-SUM(E9:E14)-#REF! -> #REF! | F32: =F8-SUM(F9:F14)-#REF! -> #REF! | G32: =G8-SUM(G9:G14)-#REF! -> #REF! | H32: =H8-SUM(H9:H14)-#REF! -> #REF! | I32: =I8-SUM(I9:I14)-#REF! -> #REF! | ... N32: =N8-SUM(N9:N14)-#REF! -> #REF! | R32: =R8-SUM(R9:R14)-#REF! -> #REF! | S32: =S8-SUM(S9:S14)-#REF! -> #REF! | T32: =T8-SUM(T9:T14)-#REF! -> #REF! | U32: =U8-SUM(U9:U14)-#REF! -> #REF! | V32: =V8-SUM(V9:V14)-#REF! -> #REF! | W32: =W8-SUM(W9:W14)-#REF! -> #REF! | X32: =X8-SUM(X9:X14)-#REF! -> #REF! | Y32: =Y8-SUM(Y9:Y14)-#REF! -> #REF!
A33: 臺 灣 省 | B33: =#REF!-SUM(B15:B28) -> #REF! | C33: =#REF!-SUM(C15:C28) -> #REF! | D33: =#REF!-SUM(D15:D28) -> #REF! | E33: =#REF!-SUM(E15:E28) -> #REF! | F33: =#REF!-SUM(F15:F28) -> #REF! | G33: =#REF!-SUM(G15:G28) -> #REF! | H33: =#REF!-SUM(H15:H28) -> #REF! | I33: =#REF!-SUM(I15:I28) -> #REF! | ... N33: =#REF!-SUM(N15:N28) -> #REF! | R33: =#REF!-SUM(R15:R28) -> #REF! | S33: =#REF!-SUM(S15:S28) -> #REF! | T33: =#REF!-SUM(T15:T28) -> #REF! | U33: =#REF!-SUM(U15:U28) -> #REF! | V33: =#REF!-SUM(V15:V28) -> #REF! | W33: =#REF!-SUM(W15:W28) -> #REF! | X33: =#REF!-SUM(X15:X28) -> #REF! | Y33: =#REF!-SUM(Y15:Y28) -> #REF!
A34: 福建省 | B34: =#REF!-B29-B30 -> #REF! | C34: =#REF!-C29-C30 -> #REF! | D34: =#REF!-D29-D30 -> #REF! | E34: =#REF!-E29-E30 -> #REF! | F34: =#REF!-F29-F30 -> #REF! | G34: =#REF!-G29-G30 -> #REF! | H34: =#REF!-H29-H30 -> #REF! | I34: =#REF!-I29-I30 -> #REF! | ... N34: =#REF!-N29-N30 -> #REF! | R34: =#REF!-R29-R30 -> #REF! | S34: =#REF!-S29-S30 -> #REF! | T34: =#REF!-T29-T30 -> #REF! | U34: =#REF!-U29-U30 -> #REF! | V34: =#REF!-V29-V30 -> #REF! | W34: =#REF!-W29-W30 -> #REF! | X34: =#REF!-X29-X30 -> #REF! | Y34: =#REF!-Y29-Y30 -> #REF!
A35: 年月 | B35: -96631 | C35: -47215 | D35: -49416 | E35: -4819142206 | F35: 1062 | H35: 100040726 | I35: -5325 | K35: -329299516 | L35: -9706 | N35: -642840605 | R35: -40649 | T35: -2193051791 | U35: -31091 | W35: -972838498 | X35: -1057 | Y35: -1053
A36: Source : County and City Government.

Sheet 2024
A1: 中低收入老人生活津貼 Living Allowance for Mid or Low Income Elders
A2: 中華民國113年1-12月 Jan.-Dec., 2024
A3: 單位：人 Unit : Persons
A4: 區域別 | B4: 總計 Total | F4: 低收入戶 Low-Income Households | O4: 中 低 收 入 戶 Middle-Low-Income Households | R4: 中低收入老人 Middle-Low-Income Elders | X4: 具原住民身分 Indigenous People
B5: 人數(期底數) Persons (End of Year) | E5: 金額(元) | F5: 第1款(省、新北、臺中、臺南)、第0類(臺北)、第1類(高雄) Class 1 | I5: 第2款(省、新北、臺中、臺南)、第1、2類(臺北)、第2類(高雄) Class 2 | L5: 第3款(省、新北、臺中、臺南)、第3、4類(臺北、高雄) Class 3 | R5: 最低生活費1倍以上未滿1.5倍 above 1 Times and Under 1.5Times Minimum of Subsistence | U5: 最低生活費1.5倍以上未滿2.5倍 above 1.5 Times and Under 2.5Times Minimum of Subsistence
A6: Locality | B6: 計 | C6: 男 | D6: 女 | F6: 人數 Persons | H6: 金額(元) | I6: 人數 Persons | K6: 金額(元) | L6: 人數 Persons | N6: 金額(元) | O6: 人數 Persons | Q6: 金額(元) | R6: 人數 Persons | T6: 金額(元) | U6: 人數 Persons | W6: 金額(元) | X6: 人數 Persons
B7: Total | C7: Male | D7: Female | E7: Amount (NT.$) | F7: 男 Male | G7: 女 Female | H7: Amount (NT.$) | I7: 男 Male | J7: 女 Female | K7: Amount (NT.$) | L7: 男 Male | M7: 女 Female | N7: Amount (NT.$) | O7: 男 Male | P7: 女 Female | Q7: Amount (NT.$) | R7: 男 Male | S7: 女 Female | T7: Amount (NT.$) | U7: 男 Male | V7: 女 Female | W7: Amount (NT.$) | X7: 男 Male | Y7: 女 Female
A8: 總計 Total | B8: 223705 | C8: 106162 | D8: 117543 | E8: 18982403224 | F8: 453 | G8: 147 | H8: 62005176 | I8: 7625 | J8: 3651 | K8: 1111444193 | L8: 10890 | M8: 6483 | N8: 1683743749 | O8: 6079 | P8: 5598 | Q8: 1075759397 | R8: 55197 | S8: 70015 | T8: 12377089215 | U8: 25918 | V8: 31649 | W8: 2672361494 | X8: 2004 | Y8: 2353
A9: 新北市 New Taipei City | B9: 26016 | C9: 12799 | D9: 13217 | E9: 2290914770 | F9: 27 | G9: 5 | H9: 3114018 | I9: 366 | J9: 156 | K9: 47165028 | L9: 1671 | M9: 965 | N9: 262684138 | O9: 793 | P9: 630 | Q9: 134684006 | R9: 7458 | S9: 8908 | T9: 1609183523 | U9: 2484 | V9: 2553 | W9: 234084057 | X9: 171 | Y9: 253
A10: 臺北市 Taipei City | B10: 15010 | C10: 7258 | D10: 7752 | E10: 1423578137 | F10: 261 | G10: 83 | H10: 35575931 | I10: 1763 | J10: 1085 | K10: 281671288 | L10: 1399 | M10: 1465 | N10: 281824896 | O10: 911 | P10: 951 | Q10: 182284551 | R10: 2368 | S10: 3566 | T10: 586590550 | U10: 556 | V10: 602 | W10: 55630921 | X10: 31 | Y10: 70
A11: 桃園市 Taoyuan City | B11: 12554 | C11: 5891 | D11: 6663 | E11: 1090392759 | F11: 19 | G11: 2 | H11: 2232226 | I11: 293 | J11: 118 | K11: 38821388 | L11: 824 | M11: 462 | N11: 119908777 | O11: 336 | P11: 283 | Q11: 54424011 | R11: 3277 | S11: 4450 | T11: 759111191 | U11: 1142 | V11: 1348 | W11: 115895166 | X11: 104 | Y11: 141
A12: 臺中市 Taichung City | B12: 27482 | C12: 12666 | D12: 14816 | E12: 2424890889 | F12: 92 | G12: 34 | H12: 12754409 | I12: 1292 | J12: 637 | K12: 194093006 | L12: 743 | M12: 604 | N12: 133810590 | O12: 816 | P12: 727 | Q12: 144883656 | R12: 6958 | S12: 9506 | T12: 1646639306 | U12: 2765 | V12: 3308 | W12: 292709922 | X12: 60 | Y12: 74
A13: 臺南市 Tainan City | B13: 19185 | C13: 9360 | D13: 9825 | E13: 1615220565 | F13: 22 | G13: 12 | H13: 3764681 | I13: 600 | J13: 214 | K13: 81616711 | L13: 898 | M13: 375 | N13: 125074873 | O13: 180 | P13: 140 | Q13: 29509795 | R13: 5203 | S13: 6199 | T13: 1125233191 | U13: 2457 | V13: 2885 | W13: 250021314 | X13: 10 | Y13: 25
A14: 高雄市 Kaohsiung City | B14: 45206 | C14: 20081 | D14: 25125 | E14: 3807885964 | F14: 5 | G14: 8 | H14: 1324284 | I14: 1558 | J14: 776 | K14: 230774352 | L14: 840 | M14: 638 | N14: 143103930 | O14: 1194 | P14: 1447 | Q14: 251374169 | R14: 11060 | S14: 14754 | T14: 2558248548 | U14: 5424 | V14: 7502 | W14: 623060681 | X14: 140 | Y14: 267
A15: 宜蘭縣 Yilan County | B15: 3790 | C15: 1844 | D15: 1946 | E15: 316027109 | F15: 2 | G15: 0 | H15: 258199 | I15: 57 | J15: 20 | K15: 7907406 | L15: 324 | M15: 164 | N15: 43086208 | O15: 165 | P15: 127 | Q15: 26186068 | R15: 844 | S15: 1070 | T15: 190977299 | U15: 452 | V15: 565 | W15: 47611929 | X15: 86 | Y15: 114
A16: 新竹縣 Hsinchu County | B16: 2312 | C16: 1202 | D16: 1110 | E16: 188449976 | F16: 0 | G16: 0 | H16: 8302 | I16: 50 | J16: 14 | K16: 7087898 | L16: 184 | M16: 80 | N16: 25461834 | O16: 100 | P16: 63 | Q16: 14719911 | R16: 491 | S16: 564 | T16: 105095174 | U16: 377 | V16: 389 | W16: 36076857 | X16: 19 | Y16: 41
A17: 苗栗縣 Miaoli County | B17: 3499 | C17: 1727 | D17: 1772 | E17: 281096293 | F17: 0 | G17: 0 | H17: 0 | I17: 203 | J17: 78 | K17: 27002591 | L17: 189 | M17: 137 | N17: 30015383 | O17: 132 | P17: 108 | Q17: 20964135 | R17: 727 | S17: 875 | T17: 155154683 | U17: 476 | V17: 574 | W17: 47959501 | X17: 26 | Y17: 32
A18: 彰化縣 Changhua County | B18: 13085 | C18: 6317 | D18: 6768 | E18: 1115665622 | F18: 1 | G18: 0 | H18: 99948 | I18: 8 | J18: 7 | K18: 1640243 | L18: 783 | M18: 309 | N18: 109394167 | O18: 214 | P18: 115 | Q18: 31877213 | R18: 3665 | S18: 4286 | T18: 793406182 | U18: 1646 | V18: 2051 | W18: 179247869 | X18: 44 | Y18: 59
A19: 南投縣 Nantou County | B19: 7771 | C19: 3643 | D19: 4128 | E19: 631542891 | F19: 1 | G19: 0 | H19: 99378 | I19: 29 | J19: 10 | K19: 3611146 | L19: 289 | M19: 86 | N19: 37672734 | O19: 146 | P19: 105 | Q19: 22159646 | R19: 1982 | S19: 2426 | T19: 438364961 | U19: 1196 | V19: 1501 | W19: 129635026 | X19: 35 | Y19: 62
... A30: 連江縣 Lienchiang County | B30: 11 | C30: 8 | D30: 3 | E30: 1066095 | F30: 2 | G30: 0 | H30: 199896 | I30: 1 | J30: 0 | K30: 183238 | L30: 2 | M30: 0 | N30: 199896 | O30: 2 | P30: 1 | Q30: 241541 | R30: 1 | S30: 0 | T30: 99948 | U30: 0 | V30: 2 | W30: 141576 | X30: 0 | Y30: 0
A31: 資料來源：直轄市、縣﹝市﹞政府。
A32: 總計 | B32: =B8-SUM(B9:B14)-#REF! -> #REF! | C32: =C8-SUM(C9:C14)-#REF! -> #REF! | D32: =D8-SUM(D9:D14)-#REF! -> #REF! | E32: =E8-SUM(E9:E14)-#REF! -> #REF! | F32: =F8-SUM(F9:F14)-#REF! -> #REF! | G32: =G8-SUM(G9:G14)-#REF! -> #REF! | H32: =H8-SUM(H9:H14)-#REF! -> #REF! | I32: =I8-SUM(I9:I14)-#REF! -> #REF! | ... N32: =N8-SUM(N9:N14)-#REF! -> #REF! | R32: =R8-SUM(R9:R14)-#REF! -> #REF! | S32: =S8-SUM(S9:S14)-#REF! -> #REF! | T32: =T8-SUM(T9:T14)-#REF! -> #REF! | U32: =U8-SUM(U9:U14)-#REF! -> #REF! | V32: =V8-SUM(V9:V14)-#REF! -> #REF! | W32: =W8-SUM(W9:W14)-#REF! -> #REF! | X32: =X8-SUM(X9:X14)-#REF! -> #REF! | Y32: =Y8-SUM(Y9:Y14)-#REF! -> #REF!
A33: 臺 灣 省 | B33: =#REF!-SUM(B15:B28) -> #REF! | C33: =#REF!-SUM(C15:C28) -> #REF! | D33: =#REF!-SUM(D15:D28) -> #REF! | E33: =#REF!-SUM(E15:E28) -> #REF! | F33: =#REF!-SUM(F15:F28) -> #REF! | G33: =#REF!-SUM(G15:G28) -> #REF! | H33: =#REF!-SUM(H15:H28) -> #REF! | I33: =#REF!-SUM(I15:I28) -> #REF! | ... N33: =#REF!-SUM(N15:N28) -> #REF! | R33: =#REF!-SUM(R15:R28) -> #REF! | S33: =#REF!-SUM(S15:S28) -> #REF! | T33: =#REF!-SUM(T15:T28) -> #REF! | U33: =#REF!-SUM(U15:U28) -> #REF! | V33: =#REF!-SUM(V15:V28) -> #REF! | W33: =#REF!-SUM(W15:W28) -> #REF! | X33: =#REF!-SUM(X15:X28) -> #REF! | Y33: =#REF!-SUM(Y15:Y28) -> #REF!
A34: 福建省 | B34: =#REF!-B29-B30 -> #REF! | C34: =#REF!-C29-C30 -> #REF! | D34: =#REF!-D29-D30 -> #REF! | E34: =#REF!-E29-E30 -> #REF! | F34: =#REF!-F29-F30 -> #REF! | G34: =#REF!-G29-G30 -> #REF! | H34: =#REF!-H29-H30 -> #REF! | I34: =#REF!-I29-I30 -> #REF! | ... N34: =#REF!-N29-N30 -> #REF! | R34: =#REF!-R29-R30 -> #REF! | S34: =#REF!-S29-S30 -> #REF! | T34: =#REF!-T29-T30 -> #REF! | U34: =#REF!-U29-U30 -> #REF! | V34: =#REF!-V29-V30 -> #REF! | W34: =#REF!-W29-W30 -> #REF! | X34: =#REF!-X29-X30 -> #REF! | Y34: =#REF!-Y29-Y30 -> #REF!
A35: 年月 | B35: -96631 | C35: -47215 | D35: -49416 | E35: -4819142206 | F35: 1062 | H35: 100040726 | I35: -5325 | K35: -329299516 | L35: -9706 | N35: -642840605 | R35: -40649 | T35: -2193051791 | U35: -31091 | W35: -972838498 | X35: -1057 | Y35: -1053
A36: Source : County and City Government.

Sheet 2023
A1: 中低收入老人生活津貼 Living Allowance for Mid or Low Income Elders
A2: 中華民國112年1-12月 Jan.-Dec. , 2023
A3: 單位：人 Unit : Persons
A4: 區域別 | B4: 總計 Total | F4: 低收入戶 Low-Income Households | O4: 中 低 收 入 戶 Middle-Low-Income Households | R4: 中低收入老人 Middle-Low-Income Elders | X4: 具原住民身分 Indigenous People
B5: 人數(期底數) Persons (End of Year) | E5: 金額(元) | F5: 第1款(省、新北、臺中、臺南)、第0類(臺北)、第1類(高雄) Class 1 | I5: 第2款(省、新北、臺中、臺南)、第1、2類(臺北)、第2類(高雄) Class 2 | L5: 第3款(省、新北、臺中、臺南)、第3、4類(臺北、高雄) Class 3 | R5: 最低生活費1倍以上未滿1.5倍 above 1 Times and Under 1.5Times Minimum of Subsistence | U5: 最低生活費1.5倍以上未滿2.5倍 above 1.5 Times and Under 2.5Times Minimum of Subsistence
A6: Locality | B6: 計 | C6: 男 | D6: 女 | F6: 人數 Persons | H6: 金額(元) | I6: 人數 Persons | K6: 金額(元) | L6: 人數 Persons | N6: 金額(元) | O6: 人數 Persons | Q6: 金額(元) | R6: 人數 Persons | T6: 金額(元) | U6: 人數 Persons | W6: 金額(元) | X6: 人數 Persons
B7: Total | C7: Male | D7: Female | E7: Amount (NT.$) | F7: 男 Male | G7: 女 Female | H7: Amount (NT.$) | I7: 男 Male | J7: 女 Female | K7: Amount (NT.$) | L7: 男 Male | M7: 女 Female | N7: Amount (NT.$) | O7: 男 Male | P7: 女 Female | Q7: Amount (NT.$) | R7: 男 Male | S7: 女 Female | T7: Amount (NT.$) | U7: 男 Male | V7: 女 Female | W7: Amount (NT.$) | X7: 男 Male | Y7: 女 Female
A8: 總計 Total | B8: 208407 | C8: 98572 | D8: 109835 | E8: 16885865996 | F8: 459 | G8: 153 | H8: 59400939 | I8: 7184 | J8: 3351 | K8: 969571185 | L8: 10338 | M8: 6101 | N8: 1479111136 | O8: 4977 | P8: 4660 | Q8: 825368396 | R8: 54906 | S8: 70533 | T8: 11553496186 | U8: 20708 | V8: 25037 | W8: 1998918154 | X8: 1854 | Y8: 2166
A9: 新北市 New Taipei City | B9: 23701 | C9: 11610 | D9: 12091 | E9: 1973638927 | F9: 22 | G9: 5 | H9: 2557767 | I9: 325 | J9: 128 | K9: 39515508 | L9: 1635 | M9: 947 | N9: 239516034 | O9: 665 | P9: 530 | Q9: 103954003 | R9: 6948 | S9: 8403 | T9: 1409322462 | U9: 2015 | V9: 2078 | W9: 178773153 | X9: 130 | Y9: 213
A10: 臺北市 Taipei City | B10: 14237 | C10: 6953 | D10: 7284 | E10: 1265126251 | F10: 292 | G10: 94 | H10: 37069038 | I10: 1631 | J10: 997 | K10: 244264937 | L10: 1369 | M10: 1395 | N10: 251831331 | O10: 839 | P10: 863 | Q10: 152357381 | R10: 2332 | S10: 3450 | T10: 536080212 | U10: 490 | V10: 485 | W10: 43523352 | X10: 29 | Y10: 75
A11: 桃園市 Taoyuan City | B11: 11883 | C11: 5522 | D11: 6361 | E11: 971706000 | F11: 17 | G11: 4 | H11: 2063894 | I11: 265 | J11: 94 | K11: 32067947 | L11: 712 | M11: 416 | N11: 98891614 | O11: 256 | P11: 231 | Q11: 35510365 | R11: 3328 | S11: 4564 | T11: 718199995 | U11: 944 | V11: 1052 | W11: 84972185 | X11: 85 | Y11: 125
A12: 臺中市 Taichung City | B12: 25517 | C12: 11824 | D12: 13693 | E12: 2116046820 | F12: 63 | G12: 22 | H12: 8050285 | I12: 1216 | J12: 589 | K12: 166421937 | L12: 751 | M12: 614 | N12: 123979019 | O12: 632 | P12: 573 | Q12: 100524457 | R12: 6863 | S12: 9225 | T12: 1495049799 | U12: 2299 | V12: 2670 | W12: 222021323 | X12: 49 | Y12: 57
A13: 臺南市 Tainan City | B13: 17719 | C13: 8628 | D13: 9091 | E13: 1432715392 | F13: 27 | G13: 15 | H13: 4492461 | I13: 603 | J13: 221 | K13: 76747072 | L13: 860 | M13: 355 | N13: 108761571 | O13: 91 | P13: 64 | Q13: 13208836 | R13: 5165 | S13: 6269 | T13: 1052878759 | U13: 1882 | V13: 2167 | W13: 176626693 | X13: 10 | Y13: 24
A14: 高雄市 Kaohsiung City | B14: 44136 | C14: 19504 | D14: 24632 | E14: 3509963252 | F14: 6 | G14: 10 | H14: 1613872 | I14: 1489 | J14: 719 | K14: 201685994 | L14: 764 | M14: 653 | N14: 126764257 | O14: 1152 | P14: 1400 | Q14: 227815991 | R14: 11364 | S14: 15477 | T14: 2466460856 | U14: 4729 | V14: 6373 | W14: 485622282 | X14: 127 | Y14: 262
A15: 宜蘭縣 Yilan County | B15: 3555 | C15: 1734 | D15: 1821 | E15: 279668983 | F15: 3 | G15: 0 | H15: 333637 | I15: 62 | J15: 21 | K15: 7966122 | L15: 286 | M15: 117 | N15: 34890016 | O15: 117 | P15: 99 | Q15: 15804764 | R15: 891 | S15: 1096 | T15: 185150907 | U15: 375 | V15: 488 | W15: 35523537 | X15: 86 | Y15: 121
A16: 新竹縣 Hsinchu County | B16: 2194 | C16: 1143 | D16: 1051 | E16: 170138658 | F16: 0 | G16: 0 | H16: 15518 | I16: 58 | J16: 15 | K16: 7363291 | L16: 157 | M16: 64 | N16: 19113237 | O16: 95 | P16: 58 | Q16: 13007964 | R16: 525 | S16: 598 | T16: 103365399 | U16: 308 | V16: 316 | W16: 27273249 | X16: 76 | Y16: 70
A17: 苗栗縣 Miaoli County | B17: 3137 | C17: 1551 | D17: 1586 | E17: 242227343 | F17: 0 | G17: 0 | H17: 0 | I17: 203 | J17: 65 | K17: 24533958 | L17: 160 | M17: 133 | N17: 26046963 | O17: 111 | P17: 89 | Q17: 16076648 | R17: 677 | S17: 830 | T17: 138610662 | U17: 400 | V17: 469 | W17: 36959112 | X17: 24 | Y17: 28
A18: 彰化縣 Changhua County | B18: 12385 | C18: 6007 | D18: 6378 | E18: 990104764 | F18: 1 | G18: 0 | H18: 93108 | I18: 11 | J18: 4 | K18: 1326789 | L18: 766 | M18: 284 | N18: 93059072 | O18: 187 | P18: 102 | Q18: 23638446 | R18: 3680 | S18: 4375 | T18: 741128126 | U18: 1362 | V18: 1613 | W18: 130859223 | X18: 40 | Y18: 55
A19: 南投縣 Nantou County | B19: 7363 | C19: 3430 | D19: 3933 | E19: 566663978 | F19: 1 | G19: 0 | H19: 93108 | I19: 22 | J19: 9 | K19: 2816517 | L19: 293 | M19: 89 | N19: 35286209 | O19: 73 | P19: 54 | Q19: 8886749 | R19: 2012 | S19: 2484 | T19: 417283448 | U19: 1029 | V19: 1297 | W19: 102297947 | X19: 30 | Y19: 52
... A30: 連江縣 Lienchiang County | B30: 11 | C30: 10 | D30: 1 | E30: 931068 | F30: 2 | G30: 0 | H30: 186216 | I30: 2 | J30: 0 | K30: 186216 | L30: 2 | M30: 0 | N30: 186216 | O30: 2 | P30: 0 | Q30: 186216 | R30: 1 | S30: 0 | T30: 93108 | U30: 1 | V30: 1 | W30: 93096 | X30: 0 | Y30: 0
A31: 資料來源：直轄市、縣﹝市﹞政府。
A32: 總計 | B32: =B8-SUM(B9:B14)-#REF! -> #REF! | C32: =C8-SUM(C9:C14)-#REF! -> #REF! | D32: =D8-SUM(D9:D14)-#REF! -> #REF! | E32: =E8-SUM(E9:E14)-#REF! -> #REF! | F32: =F8-SUM(F9:F14)-#REF! -> #REF! | G32: =G8-SUM(G9:G14)-#REF! -> #REF! | H32: =H8-SUM(H9:H14)-#REF! -> #REF! | I32: =I8-SUM(I9:I14)-#REF! -> #REF! | ... N32: =N8-SUM(N9:N14)-#REF! -> #REF! | R32: =R8-SUM(R9:R14)-#REF! -> #REF! | S32: =S8-SUM(S9:S14)-#REF! -> #REF! | T32: =T8-SUM(T9:T14)-#REF! -> #REF! | U32: =U8-SUM(U9:U14)-#REF! -> #REF! | V32: =V8-SUM(V9:V14)-#REF! -> #REF! | W32: =W8-SUM(W9:W14)-#REF! -> #REF! | X32: =X8-SUM(X9:X14)-#REF! -> #REF! | Y32: =Y8-SUM(Y9:Y14)-#REF! -> #REF!
A33: 臺 灣 省 | B33: =#REF!-SUM(B15:B28) -> #REF! | C33: =#REF!-SUM(C15:C28) -> #REF! | D33: =#REF!-SUM(D15:D28) -> #REF! | E33: =#REF!-SUM(E15:E28) -> #REF! | F33: =#REF!-SUM(F15:F28) -> #REF! | G33: =#REF!-SUM(G15:G28) -> #REF! | H33: =#REF!-SUM(H15:H28) -> #REF! | I33: =#REF!-SUM(I15:I28) -> #REF! | ... N33: =#REF!-SUM(N15:N28) -> #REF! | R33: =#REF!-SUM(R15:R28) -> #REF! | S33: =#REF!-SUM(S15:S28) -> #REF! | T33: =#REF!-SUM(T15:T28) -> #REF! | U33: =#REF!-SUM(U15:U28) -> #REF! | V33: =#REF!-SUM(V15:V28) -> #REF! | W33: =#REF!-SUM(W15:W28) -> #REF! | X33: =#REF!-SUM(X15:X28) -> #REF! | Y33: =#REF!-SUM(Y15:Y28) -> #REF!
A34: 福建省 | B34: =#REF!-B29-B30 -> #REF! | C34: =#REF!-C29-C30 -> #REF! | D34: =#REF!-D29-D30 -> #REF! | E34: =#REF!-E29-E30 -> #REF! | F34: =#REF!-F29-F30 -> #REF! | G34: =#REF!-G29-G30 -> #REF! | H34: =#REF!-H29-H30 -> #REF! | I34: =#REF!-I29-I30 -> #REF! | ... N34: =#REF!-N29-N30 -> #REF! | R34: =#REF!-R29-R30 -> #REF! | S34: =#REF!-S29-S30 -> #REF! | T34: =#REF!-T29-T30 -> #REF! | U34: =#REF!-U29-U30 -> #REF! | V34: =#REF!-V29-V30 -> #REF! | W34: =#REF!-W29-W30 -> #REF! | X34: =#REF!-X29-X30 -> #REF! | Y34: =#REF!-Y29-Y30 -> #REF!
A35: 年月 | B35: -87538 | C35: -42654 | D35: -44884 | E35: -7637634356 | F35: 1057 | H35: 87492687 | I35: -4694 | K35: -470967025 | L35: -9235 | N35: -876484083 | R35: -42139 | T35: -4524464507 | U35: -22890 | W35: -1027843032 | X35: -944 | Y35: -927
A36: Source : County and City Government.

Sheet 歷年2022以前
A1: 中低收入老人生活津貼 Living Allowance for Mid or Low Income Elders
A2: 單位：人 Unit : Persons
A3: 年別 | B3: 總計 Total | F3: 低收入戶 Low-Income Households | L3: 中低收入 Middle-Low-Income | P3: 具原住民身分 Indigenous People
B4: 人數(年月底) Persons (End of Year/Month) | E4: 金額(元) | F4: 第1款(省、新北、臺中、臺南)、第0類(臺北)、第1類(高雄) Class 1 | H4: 第2款(省、新北、臺中、臺南)、第1、2類(臺北)、第2類(高雄) Class 2 | J4: 第3款(省、新北、臺中、臺南)、第3、4類(臺北、高雄) Class 3 | L4: 最低生活費1倍以上未滿1.5倍 above 1 Times and Under 1.5Times Minimum of Subsistence | N4: 最低生活費1.5倍以上未滿2.5倍 above 1.5 Times and Under 2.5Times Minimum of Subsistence
A5: Year (Month) & Locality | B5: 計 | C5: 男 | D5: 女 | F5: 人數 | G5: 金額(元) | H5: 人數 | I5: 金額(元) | J5: 人數 | K5: 金額(元) | L5: 人數 | M5: 金額(元) | N5: 人數 | O5: 金額(元) | P5: 人數 Persons
B6: Total | C6: Male | D6: Female | E6: Amount (NT.$) | F6: Persons | G6: Amount (NT.$) | H6: Persons | I6: Amount (NT.$) | J6: Persons | K6: Amount (NT.$) | L6: Persons | M6: Amount (NT.$) | N6: Persons | O6: Amount (NT.$) | P6: 男 Male | Q6: 女 Female
A7: 83年 1994 | B7: 84462 | C7: … | D7: … | E7: 1792000000 | F7: … | G7: … | H7: … | I7: … | J7: … | K7: … | L7: … | M7: … | N7: … | O7: … | P7: … | Q7: …
A8: 84年 1995 | B8: 314526 | C8: … | D8: … | E8: 10985000000 | F8: … | G8: … | H8: … | I8: … | J8: … | K8: … | L8: … | M8: … | N8: … | O8: … | P8: … | Q8: …
A9: 85年 1996 | B9: 272878 | C9: … | D9: … | E9: 15567711291 | F9: 5601 | G9: 443160955 | H9: 6907 | I9: 504403295 | J9: 7280 | K9: 544038770 | L9: 107242 | M9: 8029384784 | N9: 145848 | O9: 6046723487 | P9: … | Q9: …
A10: 86年 1997 | B10: 157077 | C10: … | D10: … | E10: 10590908076 | F10: 4922 | G10: 380048995 | H10: 7202 | I10: 498410348 | J10: 7034 | K10: 493437532 | L10: 53228 | M10: 5554313573 | N10: 84691 | O10: 3664697628 | P10: … | Q10: …
A11: 87年 1998 | B11: 191852 | C11: … | D11: … | E11: 8978115181 | F11: 4360 | G11: 335571763 | H11: 8110 | I11: 536951122 | J11: 7105 | K11: 495816724 | L11: 78487 | M11: 4648115823 | N11: 93790 | O11: 2961659749 | P11: … | Q11: …
A12: 88年 1999 | B12: 190583 | C12: ... | D12: ... | E12: 9994304668 | F12: 3878 | G12: 295223099 | H12: 8274 | I12: 578685254 | J12: 7214 | K12: 503223370 | L12: 79884 | M12: 5581127327 | N12: 91333 | O12: 3036045618 | P12: … | Q12: …
A13: 89年 2000 | B13: 204869 | C13: ... | D13: ... | E13: 10428691326 | F13: 3299 | G13: 253872656 | H13: 8592 | I13: 609015919 | J13: 7598 | K13: 520823912 | L13: 86269 | M13: 5866458747 | N13: 99111 | O13: 3178520092 | P13: … | Q13: …
A14: 90年 2001 | B14: 181211 | C14: ... | D14: ... | E14: 9823860567 | F14: 2895 | G14: 225116551 | H14: 8346 | I14: 603226096 | J14: 7458 | K14: 507612913 | L14: 84157 | M14: 5840441963 | N14: 78355 | O14: 2647463044 | P14: … | Q14: …
A15: 91年 2002 | B15: 182392 | C15: … | D15: … | E15: 9992655349 | F15: 2657 | G15: 195319750 | H15: 7734 | I15: 565848214 | J15: 7842 | K15: 538162941 | L15: 85091 | M15: 5933115780 | N15: 79068 | O15: 2760208664 | P15: … | Q15: …
A16: 92年 2003 | B16: 173951 | C16: 84609 | D16: 89342 | E16: 9879475809 | F16: 2506 | G16: 186922244 | H16: 7177 | I16: 521400434 | J16: 8115 | K16: 565002249 | L16: 89158 | M16: 6214803746 | N16: 66995 | O16: 2391347136 | P16: … | Q16: …
A17: 93年 2004 | B17: 156446 | C17: 75185 | D17: 81261 | E17: 9259999345 | F17: 2150 | G17: 159927299 | H17: 6044 | I17: 444893703 | J17: 7459 | K17: 522759023 | L17: 87064 | M17: 6151873130 | N17: 53729 | O17: 1980546190 | P17: … | Q17: …
A18: 94年 2005 | B18: 148118 | C18: 70972 | D18: 77146 | E18: 8929514079 | F18: 2235 | G18: 162400260 | H18: 5516 | I18: 399788006 | J18: 7621 | K18: 531451340 | L18: 89120 | M18: 6267915741 | N18: 43626 | O18: 1567958732 | P18: … | Q18: …
A19: 95年 2006 | B19: 140544 | C19: 65844 | D19: 74700 | E19: 8673015499 | F19: 2110 | G19: 155573970 | H19: 5309 | I19: 383941450 | J19: 7432 | K19: 515309863 | L19: 89415 | M19: 6277025453 | N19: 36278 | O19: 1341164763 | P19: … | Q19: …
A20: 96年 2007 | B20: 134644 | C20: 62634 | D20: 72010 | E20: 8466957511 | F20: 2085 | G20: 152743275 | H20: 4902 | I20: 353604106 | J20: 6911 | K20: 483101758 | L20: 88534 | M20: 6347244199 | N20: 32212 | O20: 1130264173 | P20: … | Q20: …
A21: 97年 2008 | B21: 125951 | C21: 58409 | D21: 67542 | E21: 7858750353 | F21: 1980 | G21: 144334275 | H21: 4723 | I21: 337148964 | J21: 6435 | K21: 438992253 | L21: 83132 | M21: 5892963191 | N21: 29681 | O21: 1045311670 | P21: … | Q21: …
A22: 98年 2009 | B22: 122523 | C22: 56887 | D22: 65636 | E22: 7688978071 | F22: 1929 | G22: 140182524 | H22: 4774 | I22: 341688464 | J22: 6473 | K22: 446054640 | L22: 81527 | M22: 5752077595 | N22: 27820 | O22: 1008974848 | P22: … | Q22: …
A23: 99年 2010 | B23: 119861 | C23: 55486 | D23: 64375 | E23: 7609079377 | F23: 1890 | G23: 135364659 | H23: 4833 | I23: 347858044 | J23: 6694 | K23: 462651496 | L23: 81725 | M23: 5788373002 | N23: 24719 | O23: 874832176 | P23: … | Q23: …
A24: 100年 2011 | B24: 120266 | C24: 55279 | D24: 64987 | E24: 7618135992 | F24: 1821 | G24: 130394343 | H24: 5177 | I24: 358499454 | J24: 6897 | K24: 478407765 | L24: 82639 | M24: 5817451776 | N24: 23732 | O24: 833382654 | P24: … | Q24: …
A25: 101年 2012 | B25: 120968 | C25: 56426 | D25: 64542 | E25: 9239675567 | F25: 1787 | G25: 155836818 | H25: 5634 | I25: 479904150 | J25: 7044 | K25: 578120920 | L25: 85115 | M25: 7112854345 | N25: 21388 | O25: 912959334 | P25: 788 | Q25: 1149
A26: 102年 2013 | B26: 120869 | C26: 55918 | D26: 64951 | E26: 9248231640 | F26: 1669 | G26: 146893626 | H26: 5841 | I26: 498604160 | J26: 7204 | K26: 602627053 | L26: 83300 | M26: 7029031679 | N26: 22855 | O26: 971075122 | P26: 910 | Q26: 1239
A27: 103年 2014 | B27: 122423 | C27: 56489 | D27: 65934 | E27: 9384590116 | F27: 1539 | G27: 133840033 | H27: 6090 | I27: 519864204 | J27: 7443 | K27: 624602129 | L27: 85195 | M27: 7173621308 | N27: 22156 | O27: 932662442 | P27: 947 | Q27: 1272
A28: 104年 2015 | B28: 124490 | C28: 57413 | D28: 67077 | E28: 9630905002 | F28: 1335 | G28: 118420163 | H28: 6508 | I28: 563709238 | J28: 7815 | K28: 656788640 | L28: 87597 | M28: 7396439769 | N28: 21235 | O28: 895547192 | P28: 990 | Q28: 1269
A29: 105年 2016 | B29: 128108 | C29: 59012 | D29: 69096 | E29: 10207097782 | F29: 1184 | G29: 109999314 | H29: 6788 | I29: 605040698 | J29: 8441 | K29: 723349513 | L29: 89969 | M29: 7837935469 | N29: 21726 | O29: 930772788 | P29: 1031 | Q29: 1348
A30: 106年 2017 | B30: 134365 | C30: 62250 | D30: 72115 | E30: 10626735343 | F30: 1108 | G30: 102750373 | H30: 7014 | I30: 633580867 | J30: 9290 | K30: 797219266 | L30: 92587 | M30: 8050449651 | N30: 24366 | O30: 1042735186 | P30: 1095 | Q30: 1428
A31: 107年 2018 | B31: 143610 | C31: 66834 | D31: 76776 | E31: 11319748012 | F31: 956 | G31: 90090733 | H31: 7556 | I31: 674030457 | J31: 10163 | K31: 876716027 | L31: 99162 | M31: 8601461163 | N31: 25773 | O31: 1077449632 | P31: 1166 | Q31: 1518
A32: 108年 2019 | B32: 156783 | C32: 73512 | D32: 83271 | E32: 12175723108 | F32: 891 | G32: 81438512 | H32: 8202 | I32: 721150102 | J32: 11405 | K32: 973458501 | L32: 105811 | M32: 9134087198 | N32: 30474 | O32: 1265588795 | P32: 1178 | Q32: 1491
A33: 109年 2020 | B33: 173011 | C33: 81345 | D33: 91666 | E33: 13783178546 | F33: 805 | G33: 78242459 | H33: 8716 | I33: 804642487 | J33: 12692 | K33: 1129108007 | L33: 113624 | M33: 10174161489 | N33: 37174 | O33: 1597024104 | P33: 1279 | Q33: 1632
A34: 110年 2021 | B34: 186225 | C34: 87565 | D34: 98660 | E34: 15010484375 | F34: 727 | G34: 71780779 | H34: 9260 | I34: 855339095 | J34: 13604 | K34: 1230946461 | L34: 122637 | M34: 11112820191 | N34: 39997 | O34: 1739597849 | P34: 1393 | Q34: 1771
A35: 111年 2022 | B35: 195902 | C35: 92360 | D35: 103542 | E35: 16134518577 | F35: 663 | G35: 64791372 | H35: 9918 | I35: 917254817 | J35: 14866 | K35: 1338315188 | L35: 131150 | M35: 12084048509 | N35: 39305 | O35: 1730108691 | P35: 1588 | Q35: 1954
A36: 資料來源：直轄市、縣﹝市﹞政府。
A37: Source : County and City Government.
A38: 說明：高雄市自民國100年起新增第4類。
A40: 更新日期：2023/2/10

Sheet 2022
A1: 中低收入老人生活津貼 Living Allowance for Mid or Low Income Elders
A2: 中華民國111年1-12月 Jan.-Dec. , 2022
A3: 單位：人 Unit : Persons
A4: 區域別 | B4: 總計 Total | F4: 低收入戶 Low-Income Households | O4: 中低收入 Middle-Low-Income | U4: 具原住民身分 Indigenous People
B5: 人數(期底數) Persons (End of Year) | E5: 金額(元) | F5: 第1款(省、新北、臺中、臺南)、第0類(臺北)、第1類(高雄) Class 1 | I5: 第2款(省、新北、臺中、臺南)、第1、2類(臺北)、第2類(高雄) Class 2 | L5: 第3款(省、新北、臺中、臺南)、第3、4類(臺北、高雄) Class 3 | O5: 最低生活費1倍以上未滿1.5倍 above 1 Times and Under 1.5Times Minimum of Subsistence | R5: 最低生活費1.5倍以上未滿2.5倍 above 1.5 Times and Under 2.5Times Minimum of Subsistence
A6: Locality | B6: 計 | C6: 男 | D6: 女 | F6: 人數 Persons | H6: 金額(元) | I6: 人數 Persons | K6: 金額(元) | L6: 人數 Persons | N6: 金額(元) | O6: 人數 Persons | Q6: 金額(元) | R6: 人數 Persons | T6: 金額(元) | U6: 人數 Persons
B7: Total | C7: Male | D7: Female | E7: Amount (NT.$) | F7: 男 Male | G7: 女 Female | H7: Amount (NT.$) | I7: 男 Male | J7: 女 Female | K7: Amount (NT.$) | L7: 男 Male | M7: 女 Female | N7: Amount (NT.$) | O7: 男 Male | P7: 女 Female | Q7: Amount (NT.$) | R7: 男 Male | S7: 女 Female | T7: Amount (NT.$) | U7: 男 Male | V7: 女 Female
A8: 總計 Total | B8: 195902 | C8: 92360 | D8: 103542 | E8: 16134518577 | F8: 497 | G8: 166 | H8: 64791372 | I8: 6814 | J8: 3104 | K8: 917254817 | L8: 9305 | M8: 5561 | N8: 1338315188 | O8: 57804 | P8: 73346 | Q8: 12084048509 | R8: 17940 | S8: 21365 | T8: 1730108691 | U8: 1588 | V8: 1954
A9: 新北市 New Taipei City | B9: 21712 | C9: 10602 | D9: 11110 | E9: 1842083816 | F9: 25 | G9: 4 | H9: 2806155 | I9: 297 | J9: 116 | K9: 37945833 | L9: 1528 | M9: 865 | N9: 219176447 | O9: 6968 | P9: 8327 | Q9: 1422609436 | R9: 1784 | S9: 1798 | T9: 159545945 | U9: 109 | V9: 183
A10: 臺北市 Taipei City | B10: 13603 | C10: 6704 | D10: 6899 | E10: 1208071559 | F10: 311 | G10: 99 | H10: 39394380 | I10: 1603 | J10: 939 | K10: 234368299 | L10: 1240 | M10: 1267 | N10: 230382784 | O10: 3074 | P10: 4161 | Q10: 660650107 | R10: 476 | S10: 433 | T10: 43275989 | U10: 27 | V10: 70
A11: 桃園市 Taoyuan City | B11: 10983 | C11: 5082 | D11: 5901 | E11: 906497532 | F11: 18 | G11: 5 | H11: 2025099 | I11: 248 | J11: 78 | K11: 29502627 | L11: 596 | M11: 350 | N11: 80789293 | O11: 3359 | P11: 4479 | Q11: 712845972 | R11: 861 | S11: 989 | T11: 81334541 | U11: 57 | V11: 100
A12: 臺中市 Taichung City | B12: 23369 | C12: 10903 | D12: 12466 | E12: 1991506927 | F12: 64 | G12: 24 | H12: 8571324 | I12: 1102 | J12: 514 | K12: 150054000 | L12: 651 | M12: 563 | N12: 111134489 | O12: 7224 | P12: 9195 | Q12: 1537343567 | R12: 1862 | S12: 2170 | T12: 184403547 | U12: 38 | V12: 49
A13: 臺南市 Tainan City | B13: 16652 | C13: 8030 | D13: 8622 | E13: 1358381416 | F13: 34 | G13: 17 | H13: 5213048 | I13: 589 | J13: 216 | K13: 75495070 | L13: 767 | M13: 345 | N13: 100299790 | O13: 5022 | P13: 6152 | Q13: 1026705288 | R13: 1618 | S13: 1892 | T13: 150668220 | U13: 10 | V13: 20
A14: 高雄市 Kaohsiung City | B14: 42582 | C14: 18752 | D14: 23830 | E14: 3446990132 | F14: 5 | G14: 12 | H14: 1869919 | I14: 1361 | J14: 688 | K14: 188092251 | L14: 733 | M14: 614 | N14: 118849338 | O14: 12575 | P14: 17173 | Q14: 2726032138 | R14: 4078 | S14: 5343 | T14: 412146486 | U14: 121 | V14: 269
A15: 宜蘭縣 Yilan County | B15: 3359 | C15: 1651 | D15: 1708 | E15: 265161334 | F15: 4 | G15: 0 | H15: 504335 | I15: 71 | J15: 18 | K15: 8630702 | L15: 249 | M15: 88 | N15: 29591106 | O15: 1019 | P15: 1196 | Q15: 197444747 | R15: 308 | S15: 406 | T15: 28990444 | U15: 82 | V15: 115
A16: 新竹縣 Hsinchu County | B16: 2104 | C16: 1096 | D16: 1008 | E16: 164145315 | F16: 1 | G16: 0 | H16: 124144 | I16: 73 | J16: 17 | K16: 8728875 | L16: 122 | M16: 64 | N16: 16431321 | O16: 600 | P16: 641 | Q16: 113403098 | R16: 300 | S16: 286 | T16: 25457877 | U16: 71 | V16: 67
A17: 苗栗縣 Miaoli County | B17: 2899 | C17: 1436 | D17: 1463 | E17: 225394862 | F17: 0 | G17: 0 | H17: 0 | I17: 203 | J17: 58 | K17: 25069329 | L17: 141 | M17: 130 | N17: 23897720 | O17: 754 | P17: 864 | Q17: 144464833 | R17: 338 | S17: 411 | T17: 31962980 | U17: 22 | V17: 25
A18: 彰化縣 Changhua County | B18: 11515 | C18: 5524 | D18: 5991 | E18: 942759354 | F18: 1 | G18: 0 | H18: 93108 | I18: 10 | J18: 4 | K18: 1489728 | L18: 676 | M18: 254 | N18: 84029755 | O18: 3743 | P18: 4431 | Q18: 753525794 | R18: 1094 | S18: 1302 | T18: 103620969 | U18: 27 | V18: 42
A19: 南投縣 Nantou County | B19: 7012 | C19: 3268 | D19: 3744 | E19: 547177768 | F19: 1 | G19: 0 | H19: 162939 | I19: 20 | J19: 9 | K19: 2863071 | L19: 283 | M19: 85 | N19: 33928062 | O19: 2005 | P19: 2472 | Q19: 414357975 | R19: 959 | S19: 1178 | T19: 95865721 | U19: 35 | V19: 55
... A30: 連江縣 Lienchiang County | B30: 11 | C30: 11 | D30: 0 | E30: 713817 | F30: 2 | G30: 0 | H30: 186216 | I30: 1 | J30: 0 | K30: 93108 | L30: 1 | M30: 0 | N30: 93108 | O30: 5 | P30: 0 | Q30: 256047 | R30: 2 | S30: 0 | T30: 85338 | U30: 0 | V30: 0
A31: 資料來源：直轄市、縣﹝市﹞政府。
A32: 總計 | B32: =B8-SUM(B9:B14)-#REF! -> #REF! | C32: =C8-SUM(C9:C14)-#REF! -> #REF! | D32: =D8-SUM(D9:D14)-#REF! -> #REF! | E32: =E8-SUM(E9:E14)-#REF! -> #REF! | F32: =F8-SUM(F9:F14)-#REF! -> #REF! | G32: =G8-SUM(G9:G14)-#REF! -> #REF! | H32: =H8-SUM(H9:H14)-#REF! -> #REF! | I32: =I8-SUM(I9:I14)-#REF! -> #REF! | ... V32: =V8-SUM(V9:V14)-#REF! -> #REF!
A33: 臺 灣 省 | B33: =#REF!-SUM(B15:B28) -> #REF! | C33: =#REF!-SUM(C15:C28) -> #REF! | D33: =#REF!-SUM(D15:D28) -> #REF! | E33: =#REF!-SUM(E15:E28) -> #REF! | F33: =#REF!-SUM(F15:F28) -> #REF! | G33: =#REF!-SUM(G15:G28) -> #REF! | H33: =#REF!-SUM(H15:H28) -> #REF! | I33: =#REF!-SUM(I15:I28) -> #REF! | ... V33: =#REF!-SUM(V15:V28) -> #REF!
A34: 福建省 | B34: =#REF!-B29-B30 -> #REF! | C34: =#REF!-C29-C30 -> #REF! | D34: =#REF!-D29-D30 -> #REF! | E34: =#REF!-E29-E30 -> #REF! | F34: =#REF!-F29-F30 -> #REF! | G34: =#REF!-G29-G30 -> #REF! | H34: =#REF!-H29-H30 -> #REF! | I34: =#REF!-I29-I30 -> #REF! | ... V34: =#REF!-V29-V30 -> #REF!
A35: 年月 | B35: -75033 | C35: -36442 | D35: -38591 | E35: -6886286937 | F35: 1006 | H35: 82102254 | I35: -4077 | K35: -418650657 | L35: -7662 | N35: -735688135 | O35: -47850 | Q35: -5055016830 | R35: -16450 | T35: -759033569 | U35: -678 | V35: -715
A36: Source : County and City Government.

Sheet 2021
A1: 中低收入老人生活津貼 Living Allowance for Mid or Low Income Elders
A2: 中華民國110年1-12月 Jan.-Dec. , 2021
A3: 單位：人 Unit : Persons
A4: 區域別 | B4: 總計 Total | F4: 低收入戶 Low-Income Households | O4: 中低收入 Middle-Low-Income | U4: 具原住民身分 Indigenous People
B5: 人數(期底數) Persons (End of Year) | E5: 金額(元) | F5: 第1款(省、新北、臺中、臺南)、第0類(臺北)、第1類(高雄) Class 1 | I5: 第2款(省、新北、臺中、臺南)、第1、2類(臺北)、第2類(高雄) Class 2 | L5: 第3款(省、新北、臺中、臺南)、第3、4類(臺北、高雄) Class 3 | O5: 最低生活費1倍以上未滿1.5倍 above 1 Times and Under 1.5Times Minimum of Subsistence | R5: 最低生活費1.5倍以上未滿2.5倍 above 1.5 Times and Under 2.5Times Minimum of Subsistence
A6: Locality | B6: 計 | C6: 男 | D6: 女 | F6: 人數 Persons | H6: 金額(元) | I6: 人數 Persons | K6: 金額(元) | L6: 人數 Persons | N6: 金額(元) | O6: 人數 Persons | Q6: 金額(元) | R6: 人數 Persons | T6: 金額(元) | U6: 人數 Persons
B7: Total | C7: Male | D7: Female | E7: Amount (NT.$) | F7: 男 Male | G7: 女 Female | H7: Amount (NT.$) | I7: 男 Male | J7: 女 Female | K7: Amount (NT.$) | L7: 男 Male | M7: 女 Female | N7: Amount (NT.$) | O7: 男 Male | P7: 女 Female | Q7: Amount (NT.$) | R7: 男 Male | S7: 女 Female | T7: Amount (NT.$) | U7: 男 Male | V7: 女 Female
A8: 總計 Total | B8: 186225 | C8: 87565 | D8: 98660 | E8: 15010484375 | F8: 562 | G8: 165 | H8: 71780779 | I8: 6424 | J8: 2836 | K8: 855339095 | L8: 8505 | M8: 5099 | N8: 1230946461 | O8: 53857 | P8: 68780 | Q8: 11112820191 | R8: 18217 | S8: 21780 | T8: 1739597849 | U8: 1393 | V8: 1771
A9: 新北市 New Taipei City | B9: 20396 | C9: 9914 | D9: 10482 | E9: 1712176215 | F9: 20 | G9: 4 | H9: 2348274 | I9: 257 | J9: 79 | K9: 32277763 | L9: 1466 | M9: 786 | N9: 204380897 | O9: 6561 | P9: 8004 | Q9: 1332436700 | R9: 1610 | S9: 1609 | T9: 140732581 | U9: 108 | V9: 185
A10: 臺北市 Taipei City | B10: 12771 | C10: 6348 | D10: 6423 | E10: 1121178879 | F10: 352 | G10: 103 | H10: 44909306 | I10: 1486 | J10: 829 | K10: 211581379 | L10: 1141 | M10: 1160 | N10: 213012668 | O10: 2809 | P10: 3792 | Q10: 602076096 | R10: 560 | S10: 539 | T10: 49599430 | U10: 26 | V10: 52
A11: 桃園市 Taoyuan City | B11: 10362 | C11: 4825 | D11: 5537 | E11: 843747515 | F11: 12 | G11: 2 | H11: 1264717 | I11: 227 | J11: 74 | K11: 26443026 | L11: 499 | M11: 289 | N11: 67702878 | O11: 3195 | P11: 4277 | Q11: 671319028 | R11: 892 | S11: 895 | T11: 77017866 | U11: 47 | V11: 92
A12: 臺中市 Taichung City | B12: 22254 | C12: 10410 | D12: 11844 | E12: 1844842606 | F12: 65 | G12: 19 | H12: 8123673 | I12: 1034 | J12: 462 | K12: 138678528 | L12: 606 | M12: 545 | N12: 104629794 | O12: 6696 | P12: 8567 | Q12: 1402414832 | R12: 2009 | S12: 2251 | T12: 190995779 | U12: 30 | V12: 41
A13: 臺南市 Tainan City | B13: 15530 | C13: 7466 | D13: 8064 | E13: 1256433476 | F13: 43 | G13: 19 | H13: 6265031 | I13: 567 | J13: 214 | K13: 71949207 | L13: 704 | M13: 338 | N13: 95757856 | O13: 4703 | P13: 5747 | Q13: 944400345 | R13: 1449 | S13: 1746 | T13: 138061037 | U13: 8 | V13: 22
A14: 高雄市 Kaohsiung City | B14: 41113 | C14: 18081 | D14: 23032 | E14: 3222612348 | F14: 12 | G14: 11 | H14: 2181520 | I14: 1302 | J14: 661 | K14: 179789646 | L14: 669 | M14: 574 | N14: 112866625 | O14: 11689 | P14: 15901 | Q14: 2479089873 | R14: 4409 | S14: 5885 | T14: 448684684 | U14: 108 | V14: 243
A15: 宜蘭縣 Yilan County | B15: 3168 | C15: 1550 | D15: 1618 | E15: 246748497 | F15: 7 | G15: 0 | H15: 651756 | I15: 80 | J15: 18 | K15: 9249051 | L15: 216 | M15: 77 | N15: 24354748 | O15: 921 | P15: 1107 | Q15: 181680451 | R15: 326 | S15: 416 | T15: 30812491 | U15: 69 | V15: 106
A16: 新竹縣 Hsinchu County | B16: 2017 | C16: 1046 | D16: 971 | E16: 153496970 | F16: 3 | G16: 0 | H16: 380191 | I16: 84 | J16: 20 | K16: 10009110 | L16: 116 | M16: 59 | N16: 14924437 | O16: 546 | P16: 607 | Q16: 103299447 | R16: 297 | S16: 285 | T16: 24883785 | U16: 61 | V16: 70
A17: 苗栗縣 Miaoli County | B17: 2594 | C17: 1288 | D17: 1306 | E17: 200263928 | F17: 0 | G17: 0 | H17: 0 | I17: 216 | J17: 58 | K17: 25271063 | L17: 116 | M17: 119 | N17: 20926023 | O17: 644 | P17: 759 | Q17: 125944092 | R17: 312 | S17: 370 | T17: 28122750 | U17: 15 | V17: 20
A18: 彰化縣 Changhua County | B18: 10729 | C18: 5130 | D18: 5599 | E18: 847901447 | F18: 1 | G18: 0 | H18: 93108 | I18: 12 | J18: 4 | K18: 1443174 | L18: 624 | M18: 226 | N18: 76934476 | O18: 3363 | P18: 4048 | Q18: 663535539 | R18: 1130 | S18: 1321 | T18: 105895150 | U18: 19 | V18: 25
A19: 南投縣 Nantou County | B19: 6889 | C19: 3215 | D19: 3674 | E19: 523318742 | F19: 3 | G19: 0 | H19: 279324 | I19: 23 | J19: 9 | K19: 3235503 | L19: 290 | M19: 83 | N19: 34558586 | O19: 1903 | P19: 2398 | Q19: 391861962 | R19: 996 | S19: 1184 | T19: 93383367 | U19: 40 | V19: 57
... A30: 連江縣 Lienchiang County | B30: 6 | C30: 5 | D30: 1 | E30: 589684 | F30: 2 | G30: 0 | H30: 186216 | I30: 1 | J30: 0 | K30: 93108 | L30: 0 | M30: 0 | N30: 38795 | O30: 2 | P30: 1 | Q30: 271565 | R30: 0 | S30: 0 | T30: 0 | U30: 0 | V30: 0
A31: 資料來源：直轄市、縣﹝市﹞政府。
A32: 總計 | B32: =B8-SUM(B9:B14)-#REF! -> #REF! | C32: =C8-SUM(C9:C14)-#REF! -> #REF! | D32: =D8-SUM(D9:D14)-#REF! -> #REF! | E32: =E8-SUM(E9:E14)-#REF! -> #REF! | F32: =F8-SUM(F9:F14)-#REF! -> #REF! | G32: =G8-SUM(G9:G14)-#REF! -> #REF! | H32: =H8-SUM(H9:H14)-#REF! -> #REF! | I32: =I8-SUM(I9:I14)-#REF! -> #REF! | ... V32: =V8-SUM(V9:V14)-#REF! -> #REF!
A33: 臺 灣 省 | B33: =#REF!-SUM(B15:B28) -> #REF! | C33: =#REF!-SUM(C15:C28) -> #REF! | D33: =#REF!-SUM(D15:D28) -> #REF! | E33: =#REF!-SUM(E15:E28) -> #REF! | F33: =#REF!-SUM(F15:F28) -> #REF! | G33: =#REF!-SUM(G15:G28) -> #REF! | H33: =#REF!-SUM(H15:H28) -> #REF! | I33: =#REF!-SUM(I15:I28) -> #REF! | ... V33: =#REF!-SUM(V15:V28) -> #REF!
A34: 福建省 | B34: =#REF!-B29-B30 -> #REF! | C34: =#REF!-C29-C30 -> #REF! | D34: =#REF!-D29-D30 -> #REF! | E34: =#REF!-E29-E30 -> #REF! | F34: =#REF!-F29-F30 -> #REF! | G34: =#REF!-G29-G30 -> #REF! | H34: =#REF!-H29-H30 -> #REF! | I34: =#REF!-I29-I30 -> #REF! | ... V34: =#REF!-V29-V30 -> #REF!
A35: 年月 | B35: -65356 | C35: -31647 | D35: -33709 | E35: -5762252735 | F35: 942 | H35: 75112847 | I35: -3419 | K35: -356734935 | L35: -6400 | N35: -628319408 | O35: -39337 | Q35: -4083788512 | R35: -17142 | T35: -768522727 | U35: -483 | V35: -532
A36: Source : County and City Government.
A38: 更新日期：2022/5/2

Sheet 2020
A1: 中低收入老人生活津貼 Living Allowance for Mid or Low Income Elders
A2: 中華民國109年1-12月 Jan.-Dec. , 2020
A3: 單位：人 Unit : Persons
A4: 區域別 | B4: 總計 Total | F4: 低收入戶 Low-Income Households | O4: 中低收入 Middle-Low-Income | U4: 具原住民身分 Indigenous People
B5: 人數(期底數) Persons (End of Year) | E5: 金額(元) | F5: 第1款(省、新北、臺中、臺南)、第0類(臺北)、第1類(高雄) Class 1 | I5: 第2款(省、新北、臺中、臺南)、第1、2類(臺北)、第2類(高雄) Class 2 | L5: 第3款(省、新北、臺中、臺南)、第3、4類(臺北、高雄) Class 3 | O5: 最低生活費1倍以上未滿1.5倍 above 1 Times and Under 1.5Times Minimum of Subsistence | R5: 最低生活費1.5倍以上未滿2.5倍 above 1.5 Times and Under 2.5Times Minimum of Subsistence
A6: Locality | B6: 計 | C6: 男 | D6: 女 | F6: 人數 Persons | H6: 金額(元) | I6: 人數 Persons | K6: 金額(元) | L6: 人數 Persons | N6: 金額(元) | O6: 人數 Persons | Q6: 金額(元) | R6: 人數 Persons | T6: 金額(元) | U6: 人數 Persons
B7: Total | C7: Male | D7: Female | E7: Amount (NT.$) | F7: 男 Male | G7: 女 Female | H7: Amount (NT.$) | I7: 男 Male | J7: 女 Female | K7: Amount (NT.$) | L7: 男 Male | M7: 女 Female | N7: Amount (NT.$) | O7: 男 Male | P7: 女 Female | Q7: Amount (NT.$) | R7: 男 Male | S7: 女 Female | T7: Amount (NT.$) | U7: 男 Male | V7: 女 Female
A8: 總計 Total | B8: 173011 | C8: 81345 | D8: 91666 | E8: 13783178546 | F8: 629 | G8: 176 | H8: 78242459 | I8: 6049 | J8: 2667 | K8: 804642487 | L8: 7954 | M8: 4738 | N8: 1129108007 | O8: 49741 | P8: 63883 | Q8: 10174161489 | R8: 16972 | S8: 20202 | T8: 1597024104 | U8: 1279 | V8: 1632
A9: 新北市 New Taipei City | B9: 18446 | C9: 8998 | D9: 9448 | E9: 1522910327 | F9: 22 | G9: 4 | H9: 2631710 | I9: 242 | J9: 67 | K9: 29573920 | L9: 1384 | M9: 759 | N9: 193455877 | O9: 6031 | P9: 7331 | Q9: 1188498594 | R9: 1319 | S9: 1287 | T9: 108750226 | U9: 102 | V9: 161
