Workbook

Sheet 歷年
A1: 兒童及少年福利服務 Child and Youth Welfare Services
A3: 單位：人、所、人次
A5: 年別 Year | B5: 兒童及少年(諮詢)代表人數 Number of child and youth representatives | E5: 兒童及少年代表為委員人數 | H5: 兒童及少年培力活動參與人次 Number of participants in child and youth empowerment activities | K5: 無依兒童及少年安置及處理人數 Number of helpless children and youth receiving placement and other services | T5: 諮詢服務 Counselling | W5: 親職教育 Parenting Education | Z5: 育樂活動 Recreation Activities | AC5: 工作人員在職訓練 Training on the Staff
K6: 尋獲父母或監護人者 Those whose parents or guardians are found | N6: 逾法定期限未尋獲父母或監護人者 Those whose parents or guardians are not found within the statutory period | Q6: 法定期限內尚在協尋父母或監護人者 Those whose parents or guardians are being searched for within the statutory period
B7: 計 | C7: 男 | D7: 女 | E7: 計 | F7: 男 | G7: 女 | H7: 計 | I7: 男 | J7: 女 | K7: 計 | L7: 男 | M7: 女 | N7: 計 | O7: 男 | P7: 女 | Q7: 計 | R7: 男 | S7: 女 | T7: 計 | U7: 男 | V7: 女 | W7: 計 | X7: 男 | Y7: 女 | Z7: 計 | AA7: 男 | AB7: 女 | AC7: 計 | AD7: 男 | AE7: 女
B8: Total | C8: Male | D8: Female | E8: Total | F8: Male | G8: Female | H8: Total | I8: Male | J8: Female | K8: Total | L8: Male | M8: Female | N8: Total | O8: Male | P8: Female | Q8: Total | R8: Male | S8: Female | T8: Total | U8: Male | V8: Female | W8: Total | X8: Male | Y8: Female | Z8: Total | AA8: Male | AB8: Female | AC8: Total | AD8: Male | AE8: Female
A9: 民國106年, 2017 | B9: ='106'!D8 -> 349 | C9: ='106'!E8 -> 162 | D9: ='106'!F8 -> 187 | E9: … | F9: … | G9: … | H9: ='106'!G8 -> 9735 | I9: ='106'!H8 -> 4757 | J9: ='106'!I8 -> 4978 | K9: ='106'!J8 -> 27 | L9: ='106'!K8 -> 18 | M9: ='106'!L8 -> 9 | N9: ='106'!M8 -> 43 | O9: ='106'!N8 -> 24 | ... AE9: ='106'!AD8 -> 27007
A10: 民國107年, 2018 | B10: ='107'!D8 -> 356 | C10: ='107'!E8 -> 183 | D10: ='107'!F8 -> 173 | E10: … | F10: … | G10: … | H10: ='107'!G8 -> 33250 | I10: ='107'!H8 -> 15875 | J10: ='107'!I8 -> 17375 | K10: ='107'!J8 -> 28 | L10: ='107'!K8 -> 8 | M10: ='107'!L8 -> 20 | N10: ='107'!M8 -> 66 | O10: ='107'!N8 -> 24 | ... AE10: ='107'!AD8 -> 40499
A11: 民國108年, 2019 | B11: ='108'!D8 -> 369 | C11: ='108'!E8 -> 178 | D11: ='108'!F8 -> 191 | E11: … | F11: … | G11: … | H11: ='108'!G8 -> 25302 | I11: ='108'!H8 -> 12106 | J11: ='108'!I8 -> 13196 | K11: ='108'!J8 -> 14 | L11: ='108'!K8 -> 9 | M11: ='108'!L8 -> 5 | N11: ='108'!M8 -> 18 | O11: ='108'!N8 -> 8 | ... AE11: ='108'!AD8 -> 33870
A12: 民國109年, 2020 | B12: ='109'!D8 -> 392 | C12: ='109'!E8 -> 186 | D12: ='109'!F8 -> 206 | E12: ='109'!G8 -> 67 | F12: ='109'!H8 -> 34 | G12: ='109'!I8 -> 33 | H12: ='109'!J8 -> 769727 | I12: ='109'!K8 -> 393071 | ... AE12: ='109'!AG8 -> 49970
A14: 年別 Year | B14: 兒童及少年代表人數 Number of child and youth representatives | E14: 兒童及少年代表為委員人數 | H14: 無依兒童及少年安置及處理人數 Number of helpless children and youth receiving placement and other services | Q14: 兒童及少年福利服務中心Welfare Service Centers
H15: 尋獲父母或監護人者 Those whose parents or guardians are found | K15: 逾法定期限未尋獲父母或監護人者 Those whose parents or guardians are not found within the statutory period | N15: 法定期限內尚在協尋父母或監護人者 Those whose parents or guardians are being searched for within the statutory period | Q15: 兒童及少年福利服務中心數 Welfare Service Centers | U15: 個案服務人次 Case Service | X15: 團體服務人次 Group Service | AA15: 社區服務人次 Community Service | AD15: 外展服務人次 Outreach Service | AG15: 轉介服務人次 Referral Service | AJ15: 親職教育人次 Parenting Education | AM15: 親子活動人次 Family Activities | AP15: 其他福利服務人次 other Service
B16: 計 | C16: 男 | D16: 女 | E16: 計 | F16: 男 | G16: 女 | H16: 計 | I16: 男 | J16: 女 | K16: 計 | L16: 男 | M16: 女 | N16: 計 | O16: 男 | P16: 女 | Q16: 計 | R16: 公立 | S16: 私立 | T16: 公設民營 | U16: 計 | V16: 男 | W16: 女 | X16: 計 | Y16: 男 | Z16: 女 | AA16: 計 | AB16: 男 | AC16: 女 | AD16: 計 | AE16: 男 | AF16: 女 | AG16: 計 | AH16: 男 | AI16: 女 | AJ16: 計 | AK16: 男 | AL16: 女 | AM16: 計 | AN16: 男 | AO16: 女 | AP16: 計 | AQ16: 男 | AR16: 女
B17: Total | C17: Male | D17: Female | E17: Total | F17: Male | G17: Female | H17: Total | I17: Male | J17: Female | K17: Total | L17: Male | M17: Female | N17: Total | O17: Male | P17: Female | Q17: Total | R17: Public | S17: Private | T17: Run by Private | U17: Total | V17: Male | W17: Female | X17: Total | Y17: Male | Z17: Female | AA17: Total | AB17: Male | AC17: Female | AD17: Total | AE17: Male | AF17: Female | AG17: Total | AH17: Male | AI17: Female | AJ17: Total | AK17: Male | AL17: Female | AM17: Total | AN17: Male | AO17: Female | AP17: Total | AQ17: Male | AR17: Female
A18: 民國110年, 2021 | B18: ='110'!D8 -> 412 | C18: ='110'!E8 -> 183 | D18: ='110'!F8 -> 229 | E18: ='110'!G8 -> 77 | F18: ='110'!H8 -> 43 | G18: ='110'!I8 -> 34 | H18: ='110'!M8 -> 17 | I18: ='110'!N8 -> 10 | J18: ='110'!O8 -> 7 | K18: ='110'!P8 -> 11 | L18: ='110'!Q8 -> 3 | M18: ='110'!R8 -> 8 | N18: ='110'!S8 -> 2 | O18: ='110'!T8 -> 1 | ... AO18: ='110'!AT8 -> 66424 | AP18: … | AQ18: … | AR18: …
A19: 民國111年, 2022 | B19: ='111'!D8 -> 418 | C19: ='111'!E8 -> 191 | D19: ='111'!F8 -> 227 | E19: ='111'!G8 -> 68 | F19: ='111'!H8 -> 35 | G19: ='111'!I8 -> 33 | H19: ='111'!J8 -> 14 | I19: ='111'!K8 -> 7 | ... AO19: ='111'!AQ8 -> 25161 | AP19: … | AQ19: … | AR19: …
A20: 民國112年, 2023 | B20: ='112'!D8 -> 414 | C20: ='112'!E8 -> 187 | D20: ='112'!F8 -> 227 | E20: ='112'!G8 -> 69 | F20: ='112'!H8 -> 33 | G20: ='112'!I8 -> 36 | H20: ='112'!J8 -> 10 | I20: ='112'!K8 -> 5 | ... AR20: ='112'!AT8 -> 247901
A21: 民國113年, 2024 | B21: ='113'!D8 -> 402 | C21: ='113'!E8 -> 173 | D21: ='113'!F8 -> 229 | E21: ='113'!G8 -> 67 | F21: ='113'!H8 -> 27 | G21: ='113'!I8 -> 40 | H21: ='113'!J8 -> 7 | I21: ='113'!K8 -> 3 | ... AR21: ='113'!AT8 -> 299231
A22: 民國114年, 2025 | B22: ='114'!D8 -> 405 | C22: ='114'!E8 -> 188 | D22: ='114'!F8 -> 217 | E22: ='114'!G8 -> 62 | F22: ='114'!H8 -> 29 | G22: ='114'!I8 -> 33 | H22: ='114'!J8 -> 2 | I22: ='114'!K8 -> 2 | ... AR22: ='114'!AT8 -> 324851
A23: 資料來源：直轄市、縣(市)政府。
A24: 註：1.「目睹家庭暴力服務人次」、「無戶籍兒童及少年輔導人數」、「緊急庇護人次」、「一般安置人次」、「個案輔導人次」、「陪同出庭次數」因業務調整由兒少保護相關報表另行詳細統計；「追蹤輔導人次」改由「兒童及少年結束家外安置後續追蹤輔導服務概況」表統計。
A25: 2.「兒童及少年參與培力活動人次」，除社會局(處)辦理之活動以外，自109年起增加教育局(處)、文化局(處)辦理之相關活動。
A26: Source: County and Government.
A27: 更新日期：2026/3/31

Sheet 114
A1: 兒童及少年福利服務 Child and Youth Welfare Services
A2: 民國114年, 2025 | D2: =IF(D9=SUM(D12,D15,D21,D24,D27,D30,D18,D33,D36,D39,D42,D45,D48,D51,D54,D57,D60,D63,D66,D69,D72,D75),"","*") | E2: =IF(E9=SUM(E12,E15,E21,E24,E27,E30,E18,E33,E36,E39,E42,E45,E48,E51,E54,E57,E60,E63,E66,E69,E72,E75),"","*") | F2: =IF(F9=SUM(F12,F15,F21,F24,F27,F30,F18,F33,F36,F39,F42,F45,F48,F51,F54,F57,F60,F63,F66,F69,F72,F75),"","*") | J2: =IF(J9=SUM(J12,J15,J21,J24,J27,J30,J18,J33,J36,J39,J42,J45,J48,J51,J54,J57,J60,J63,J66,J69,J72,J75),"","*") | K2: =IF(K9=SUM(K12,K15,K21,K24,K27,K30,K18,K33,K36,K39,K42,K45,K48,K51,K54,K57,K60,K63,K66,K69,K72,K75),"","*") | L2: =IF(L9=SUM(L12,L15,L21,L24,L27,L30,L18,L33,L36,L39,L42,L45,L48,L51,L54,L57,L60,L63,L66,L69,L72,L75),"","*") | M2: =IF(M9=SUM(M12,M15,M21,M24,M27,M30,M18,M33,M36,M39,M42,M45,M48,M51,M54,M57,M60,M63,M66,M69,M72,M75),"","*") | N2: =IF(N9=SUM(N12,N15,N21,N24,N27,N30,N18,N33,N36,N39,N42,N45,N48,N51,N54,N57,N60,N63,N66,N69,N72,N75),"","*") | O2: =IF(O9=SUM(O12,O15,O21,O24,O27,O30,O18,O33,O36,O39,O42,O45,O48,O51,O54,O57,O60,O63,O66,O69,O72,O75),"","*") | P2: =IF(P9=SUM(P12,P15,P21,P24,P27,P30,P18,P33,P36,P39,P42,P45,P48,P51,P54,P57,P60,P63,P66,P69,P72,P75),"","*") | Q2: =IF(Q9=SUM(Q12,Q15,Q21,Q24,Q27,Q30,Q18,Q33,Q36,Q39,Q42,Q45,Q48,Q51,Q54,Q57,Q60,Q63,Q66,Q69,Q72,Q75),"","*") | R2: =IF(R9=SUM(R12,R15,R21,R24,R27,R30,R18,R33,R36,R39,R42,R45,R48,R51,R54,R57,R60,R63,R66,R69,R72,R75),"","*")
A3: 單位：人、人次、所 | D3: =IF(D8=SUM(D11,D14,D17,D20,D23,D26,D29,D32,D35,D38,D41,D44,D47,D50,D53,D56,D59,D62,D65,D68,D71,D74),"","*") | E3: =IF(E8=SUM(E11,E14,E17,E20,E23,E26,E29,E32,E35,E38,E41,E44,E47,E50,E53,E56,E59,E62,E65,E68,E71,E74),"","*") | F3: =IF(F8=SUM(F11,F14,F17,F20,F23,F26,F29,F32,F35,F38,F41,F44,F47,F50,F53,F56,F59,F62,F65,F68,F71,F74),"","*") | G3: =IF(G8=SUM(G11,G14,G17,G20,G23,G26,G29,G32,G35,G38,G41,G44,G47,G50,G53,G56,G59,G62,G65,G68,G71,G74),"","*") | H3: =IF(H8=SUM(H11,H14,H17,H20,H23,H26,H29,H32,H35,H38,H41,H44,H47,H50,H53,H56,H59,H62,H65,H68,H71,H74),"","*") | I3: =IF(I8=SUM(I11,I14,I17,I20,I23,I26,I29,I32,I35,I38,I41,I44,I47,I50,I53,I56,I59,I62,I65,I68,I71,I74),"","*") | J3: =IF(J8=SUM(J11,J14,J17,J20,J23,J26,J29,J32,J35,J38,J41,J44,J47,J50,J53,J56,J59,J62,J65,J68,J71,J74),"","*") | K3: =IF(K8=SUM(K11,K14,K17,K20,K23,K26,K29,K32,K35,K38,K41,K44,K47,K50,K53,K56,K59,K62,K65,K68,K71,K74),"","*") | ... AT3: =IF(AT8=SUM(AT11,AT14,AT17,AT20,AT23,AT26,AT29,AT32,AT35,AT38,AT41,AT44,AT47,AT50,AT53,AT56,AT59,AT62,AT65,AT68,AT71,AT74),"","*")
A4: 區域及特殊族群別 Locality & Ethnos | D4: 兒童及少年代表人數 Number of child and youth representatives | G4: 兒童及少年代表為委員人數 | J4: 無依兒童及少年安置及處理人數 Number of helpless children and youth receiving placement and other services | S4: 兒童及少年福利服務中心Welfare Service Centers
J5: 尋獲父母或監護人者 Those whose parents or guardians are found | M5: 逾法定期限未尋獲父母或監護人者 Those whose parents or guardians are not found within the statutory period | P5: 法定期限內尚在協尋父母或監護人者 Those whose parents or guardians are being searched for within the statutory period | S5: 兒童及少年福利服務中心數 Welfare Service Centers | W5: 個案服務人次 Case Service | Z5: 團體服務人次 Group Service | AC5: 社區服務人次 Community Service | AF5: 外展服務人次 Outreach Service | AI5: 轉介服務人次 Referral Service | AL5: 親職教育人次 Parenting Education | AO5: 親子活動人次 Family Activities | AR5: 其他福利服務人次 other Service
D6: 計 | E6: 男 | F6: 女 | G6: 計 | H6: 男 | I6: 女 | J6: 計 | K6: 男 | L6: 女 | M6: 計 | N6: 男 | O6: 女 | P6: 計 | Q6: 男 | R6: 女 | S6: 計 | T6: 公立 | U6: 私立 | V6: 公設民營 | W6: 計 | X6: 男 | Y6: 女 | Z6: 計 | AA6: 男 | AB6: 女 | AC6: 計 | AD6: 男 | AE6: 女 | AF6: 計 | AG6: 男 | AH6: 女 | AI6: 計 | AJ6: 男 | AK6: 女 | AL6: 計 | AM6: 男 | AN6: 女 | AO6: 計 | AP6: 男 | AQ6: 女 | AR6: 計 | AS6: 男 | AT6: 女
D7: Total | E7: Male | F7: Female | G7: Total | H7: Male | I7: Female | J7: Total | K7: Male | L7: Female | M7: Total | N7: Male | O7: Female | P7: Total | Q7: Male | R7: Female | S7: Total | T7: Public | U7: Private | V7: Run by Private | W7: Total | X7: Male | Y7: Female | Z7: Total | AA7: Male | AB7: Female | AC7: Total | AD7: Male | AE7: Female | AF7: Total | AG7: Male | AH7: Female | AI7: Total | AJ7: Male | AK7: Female | AL7: Total | AM7: Male | AN7: Female | AO7: Total | AP7: Male | AQ7: Female | AR7: Total | AS7: Male | AT7: Female
A8: 總計 | B8: 計 | C8: Total | D8: 405 | E8: 188 | F8: 217 | G8: 62 | H8: 29 | I8: 33 | J8: 2 | K8: 2 | L8: 0 | M8: 3 | N8: 2 | O8: 1 | P8: 2 | Q8: 1 | R8: 1 | S8: 41 | T8: 12 | U8: 4 | V8: 25 | W8: 85583 | X8: 42053 | Y8: 43530 | Z8: 17977 | AA8: 8051 | AB8: 9926 | AC8: 255415 | AD8: 119177 | AE8: 136238 | AF8: 37023 | AG8: 17867 | AH8: 19156 | AI8: 3713 | AJ8: 1868 | AK8: 1845 | AL8: 17272 | AM8: 6623 | AN8: 10649 | AO8: 36297 | AP8: 14538 | AQ8: 21759 | AR8: 575440 | AS8: 250589 | AT8: 324851
A9: Total | B9: 一般 | C9: General | D9: 378 | E9: 172 | F9: 206 | G9: 60 | H9: 28 | I9: 32 | J9: 2 | K9: 2 | L9: 0 | M9: 3 | N9: 2 | O9: 1 | P9: 2 | Q9: 1 | R9: 1
B10: 原住民 | C10: Indigenous | D10: 27 | E10: 16 | F10: 11 | G10: 2 | H10: 1 | I10: 1 | J10: 0 | K10: 0 | L10: 0 | M10: 0 | N10: 0 | O10: 0 | P10: 0 | Q10: 0 | R10: 0
A11: 新北市 | B11: 計 | C11: Total | D11: 27 | E11: 11 | F11: 16 | G11: 4 | H11: 3 | I11: 1 | J11: 1 | K11: 1 | L11: 0 | M11: 1 | N11: 1 | O11: 0 | P11: 0 | Q11: 0 | R11: 0 | S11: 7 | T11: 0 | U11: 0 | V11: 7 | W11: 8674 | X11: 4045 | Y11: 4629 | Z11: 3663 | AA11: 1739 | AB11: 1924 | AC11: 16014 | AD11: 7176 | AE11: 8838 | AF11: 5085 | AG11: 2560 | AH11: 2525 | AI11: 3089 | AJ11: 1526 | AK11: 1563 | AL11: 8934 | AM11: 3499 | AN11: 5435 | AO11: 9415 | AP11: 4313 | AQ11: 5102 | AR11: 27847 | AS11: 10767 | AT11: 17080
A12: New Taipei City | B12: 一般 | C12: General | D12: 27 | E12: 11 | F12: 16 | G12: 4 | H12: 3 | I12: 1 | J12: 1 | K12: 1 | L12: 0 | M12: 1 | N12: 1 | O12: 0 | P12: 0 | Q12: 0 | R12: 0
B13: 原住民 | C13: Indigenous | D13: 0 | E13: 0 | F13: 0 | G13: 0 | H13: 0 | I13: 0 | J13: 0 | K13: 0 | L13: 0 | M13: 0 | N13: 0 | O13: 0 | P13: 0 | Q13: 0 | R13: 0
A14: 臺北市 | B14: 計 | C14: Total | D14: 21 | E14: 12 | F14: 9 | G14: 6 | H14: 2 | I14: 4 | J14: 0 | K14: 0 | L14: 0 | M14: 0 | N14: 0 | O14: 0 | P14: 0 | Q14: 0 | R14: 0 | S14: 10 | T14: 0 | U14: 0 | V14: 10 | W14: 24046 | X14: 12057 | Y14: 11989 | Z14: 2769 | AA14: 1238 | AB14: 1531 | AC14: 72143 | AD14: 33732 | AE14: 38411 | AF14: 2410 | AG14: 1399 | AH14: 1011 | AI14: 86 | AJ14: 46 | AK14: 40 | AL14: 1103 | AM14: 333 | AN14: 770 | AO14: 628 | AP14: 209 | AQ14: 419 | AR14: 56592 | AS14: 30725 | AT14: 25867
A15: Taipei City | B15: 一般 | C15: General | D15: 20 | E15: 11 | F15: 9 | G15: 6 | H15: 2 | I15: 4 | J15: 0 | K15: 0 | L15: 0 | M15: 0 | N15: 0 | O15: 0 | P15: 0 | Q15: 0 | R15: 0
B16: 原住民 | C16: Indigenous | D16: 1 | E16: 1 | F16: 0 | G16: 0 | H16: 0 | I16: 0 | J16: 0 | K16: 0 | L16: 0 | M16: 0 | N16: 0 | O16: 0 | P16: 0 | Q16: 0 | R16: 0
A17: 桃園市 | B17: 計 | C17: Total | D17: 27 | E17: 14 | F17: 13 | G17: 7 | H17: 3 | I17: 4 | J17: 0 | K17: 0 | L17: 0 | M17: 0 | N17: 0 | O17: 0 | P17: 1 | Q17: 0 | R17: 1 | S17: 3 | T17: 0 | U17: 0 | V17: 3 | W17: 5853 | X17: 4033 | Y17: 1820 | Z17: 415 | AA17: 233 | AB17: 182 | AC17: 11623 | AD17: 6078 | AE17: 5545 | AF17: 2629 | AG17: 1559 | AH17: 1070 | AI17: 10 | AJ17: 3 | AK17: 7 | AL17: 84 | AM17: 33 | AN17: 51 | AO17: 491 | AP17: 213 | AQ17: 278 | AR17: 2374 | AS17: 1050 | AT17: 1324
A18: Taoyuan City | B18: 一般 | C18: General | D18: 27 | E18: 14 | F18: 13 | G18: 7 | H18: 3 | I18: 4 | J18: 0 | K18: 0 | L18: 0 | M18: 0 | N18: 0 | O18: 0 | P18: 1 | Q18: 0 | R18: 1
B19: 原住民 | C19: Indigenous | D19: 0 | E19: 0 | F19: 0 | G19: 0 | H19: 0 | I19: 0 | J19: 0 | K19: 0 | L19: 0 | M19: 0 | N19: 0 | O19: 0 | P19: 0 | Q19: 0 | R19: 0
A20: 臺中市 | B20: 計 | C20: Indigenous | D20: 25 | E20: 13 | F20: 12 | G20: 4 | H20: 3 | I20: 1 | J20: 0 | K20: 0 | L20: 0 | M20: 1 | N20: 1 | O20: 0 | P20: 0 | Q20: 0 | R20: 0 | S20: 2 | T20: 2 | U20: 0 | V20: 0 | W20: 0 | X20: 0 | Y20: 0 | Z20: 0 | AA20: 0 | AB20: 0 | AC20: 0 | AD20: 0 | AE20: 0 | AF20: 0 | AG20: 0 | AH20: 0 | AI20: 0 | AJ20: 0 | AK20: 0 | AL20: 40 | AM20: 9 | AN20: 31 | AO20: 1343 | AP20: 498 | AQ20: 845 | AR20: 107273 | AS20: 45927 | AT20: 61346
A21: Taichung City | B21: 一般 | C21: General | D21: 21 | E21: 10 | F21: 11 | G21: 3 | H21: 2 | I21: 1 | J21: 0 | K21: 0 | L21: 0 | M21: 1 | N21: 1 | O21: 0 | P21: 0 | Q21: 0 | R21: 0
B22: 原住民 | C22: Indigenous | D22: 4 | E22: 3 | F22: 1 | G22: 1 | H22: 1 | I22: 0 | J22: 0 | K22: 0 | L22: 0 | M22: 0 | N22: 0 | O22: 0 | P22: 0 | Q22: 0 | R22: 0
A23: 臺南市 | B23: 計 | C23: Total | D23: 19 | E23: 11 | F23: 8 | G23: 5 | H23: 4 | I23: 1 | J23: 0 | K23: 0 | L23: 0 | M23: 0 | N23: 0 | O23: 0 | P23: 0 | Q23: 0 | R23: 0 | S23: 3 | T23: 0 | U23: 1 | V23: 2 | W23: 29213 | X23: 11413 | Y23: 17800 | Z23: 7913 | AA23: 3540 | AB23: 4373 | AC23: 3530 | AD23: 1664 | AE23: 1866 | AF23: 230 | AG23: 117 | AH23: 113 | AI23: 76 | AJ23: 47 | AK23: 29 | AL23: 565 | AM23: 197 | AN23: 368 | AO23: 7364 | AP23: 2274 | AQ23: 5090 | AR23: 8147 | AS23: 2252 | AT23: 5895
A24: Tainan City | B24: 一般 | C24: General | D24: 18 | E24: 11 | F24: 7 | G24: 4 | H24: 4 | I24: 0 | J24: 0 | K24: 0 | L24: 0 | M24: 0 | N24: 0 | O24: 0 | P24: 0 | Q24: 0 | R24: 0 | S24: 0 | T24: 0 | U24: 0 | V24: 0 | W24: 0 | X24: 0 | Y24: 0 | Z24: 0 | AA24: 0 | AB24: 0 | AC24: 0 | AD24: 0 | AE24: 0 | AF24: 0 | AG24: 0 | AH24: 0 | AI24: 0 | AJ24: 0 | AK24: 0 | AL24: 0 | AM24: 0 | AN24: 0 | AO24: 0 | AP24: 0 | AQ24: 0 | AR24: 0 | AS24: 0 | AT24: 0
B25: 原住民 | C25: Indigenous | D25: 1 | E25: 0 | F25: 1 | G25: 1 | H25: 0 | I25: 1 | J25: 0 | K25: 0 | L25: 0 | M25: 0 | N25: 0 | O25: 0 | P25: 0 | Q25: 0 | R25: 0 | S25: 0 | T25: 0 | U25: 0 | V25: 0 | W25: 0 | X25: 0 | Y25: 0 | Z25: 0 | AA25: 0 | AB25: 0 | AC25: 0 | AD25: 0 | AE25: 0 | AF25: 0 | AG25: 0 | AH25: 0 | AI25: 0 | AJ25: 0 | AK25: 0 | AL25: 0 | AM25: 0 | AN25: 0 | AO25: 0 | AP25: 0 | AQ25: 0 | AR25: 0 | AS25: 0 | AT25: 0
A26: 高雄市 | B26: 計 | C26: Total | D26: 33 | E26: 19 | F26: 14 | G26: 2 | H26: 1 | I26: 1 | J26: 0 | K26: 0 | L26: 0 | M26: 0 | N26: 0 | O26: 0 | P26: 0 | Q26: 0 | R26: 0 | S26: 2 | T26: 2 | U26: 0 | V26: 0 | W26: 10410 | X26: 7309 | Y26: 3101 | Z26: 360 | AA26: 233 | AB26: 127 | AC26: 8192 | AD26: 2766 | AE26: 5426 | AF26: 0 | AG26: 0 | AH26: 0 | AI26: 177 | AJ26: 99 | AK26: 78 | AL26: 4799 | AM26: 1771 | AN26: 3028 | AO26: 12866 | AP26: 5430 | AQ26: 7436 | AR26: 164805 | AS26: 71835 | AT26: 92970
A27: Kaohsiung City | B27: 一般 | C27: General | D27: 31 | E27: 18 | F27: 13 | G27: 2 | H27: 1 | I27: 1 | J27: 0 | K27: 0 | L27: 0 | M27: 0 | N27: 0 | O27: 0 | P27: 0 | Q27: 0 | R27: 0
B28: 原住民 | C28: Indigenous | D28: 2 | E28: 1 | F28: 1 | G28: 0 | H28: 0 | I28: 0 | J28: 0 | K28: 0 | L28: 0 | M28: 0 | N28: 0 | O28: 0 | P28: 0 | Q28: 0 | R28: 0
A29: 宜蘭縣 | B29: 計 | C29: Total | D29: 13 | E29: 5 | F29: 8 | G29: 2 | H29: 1 | I29: 1 | J29: 0 | K29: 0 | L29: 0 | M29: 0 | N29: 0 | O29: 0 | P29: 0 | Q29: 0 | R29: 0 | S29: 1 | T29: 0 | U29: 1 | V29: 0 | W29: 284 | X29: 48 | Y29: 236 | Z29: 384 | AA29: 80 | AB29: 304 | AC29: 93534 | AD29: 40324 | AE29: 53210 | AF29: 4880 | AG29: 1979 | AH29: 2901 | AI29: 153 | AJ29: 81 | AK29: 72 | AL29: 1222 | AM29: 597 | AN29: 625 | AO29: 1202 | AP29: 593 | AQ29: 609 | AR29: 582 | AS29: 249 | AT29: 333
A30: Yilan County | B30: 一般 | C30: General | D30: 12 | E30: 4 | F30: 8 | G30: 2 | H30: 1 | I30: 1 | J30: 0 | K30: 0 | L30: 0 | M30: 0 | N30: 0 | O30: 0 | P30: 0 | Q30: 0 | R30: 0
B31: 原住民 | C31: Indigenous | D31: 1 | E31: 1 | F31: 0 | G31: 0 | H31: 0 | I31: 0 | J31: 0 | K31: 0 | L31: 0 | M31: 0 | N31: 0 | O31: 0 | P31: 0 | Q31: 0 | R31: 0
A32: 新竹縣 | B32: 計 | C32: Total | D32: 12 | E32: 6 | F32: 6 | G32: 2 | H32: 2 | I32: 0 | J32: 0 | K32: 0 | L32: 0 | M32: 0 | N32: 0 | O32: 0 | P32: 1 | Q32: 1 | R32: 0 | S32: 1 | T32: 0 | U32: 0 | V32: 1 | W32: 0 | X32: 0 | Y32: 0 | Z32: 0 | AA32: 0 | AB32: 0 | AC32: 0 | AD32: 0 | AE32: 0 | AF32: 0 | AG32: 0 | AH32: 0 | AI32: 0 | AJ32: 0 | AK32: 0 | AL32: 0 | AM32: 0 | AN32: 0 | AO32: 841 | AP32: 271 | AQ32: 570 | AR32: 12326 | AS32: 5367 | AT32: 6959
A33: Hsinchu County | B33: 一般 | C33: General | D33: 8 | E33: 4 | F33: 4 | G33: 2 | H33: 2 | I33: 0 | J33: 0 | K33: 0 | L33: 0 | M33: 0 | N33: 0 | O33: 0 | P33: 1 | Q33: 1 | R33: 0
B34: 原住民 | C34: Indigenous | D34: 4 | E34: 2 | F34: 2 | G34: 0 | H34: 0 | I34: 0 | J34: 0 | K34: 0 | L34: 0 | M34: 0 | N34: 0 | O34: 0 | P34: 0 | Q34: 0 | R34: 0
A35: 苗栗縣 | B35: 計 | C35: Total | D35: 15 | E35: 8 | F35: 7 | G35: 2 | H35: 1 | I35: 1 | J35: 0 | K35: 0 | L35: 0 | M35: 0 | N35: 0 | O35: 0 | P35: 0 | Q35: 0 | R35: 0 | S35: 0 | T35: 0 | U35: 0 | V35: 0 | W35: 0 | X35: 0 | Y35: 0 | Z35: 0 | AA35: 0 | AB35: 0 | AC35: 0 | AD35: 0 | AE35: 0 | AF35: 0 | AG35: 0 | AH35: 0 | AI35: 0 | AJ35: 0 | AK35: 0 | AL35: 0 | AM35: 0 | AN35: 0 | AO35: 0 | AP35: 0 | AQ35: 0 | AR35: 0 | AS35: 0 | AT35: 0
A36: Miaoli County | B36: 一般 | C36: General | D36: 15 | E36: 8 | F36: 7 | G36: 2 | H36: 1 | I36: 1 | J36: 0 | K36: 0 | L36: 0 | M36: 0 | N36: 0 | O36: 0 | P36: 0 | Q36: 0 | R36: 0
B37: 原住民 | C37: Indigenous | D37: 0 | E37: 0 | F37: 0 | G37: 0 | H37: 0 | I37: 0 | J37: 0 | K37: 0 | L37: 0 | M37: 0 | N37: 0 | O37: 0 | P37: 0 | Q37: 0 | R37: 0
A38: 彰化縣 | B38: 計 | C38: Total | D38: 22 | E38: 10 | F38: 12 | G38: 2 | H38: 1 | I38: 1 | J38: 1 | K38: 1 | L38: 0 | M38: 1 | N38: 0 | O38: 1 | P38: 0 | Q38: 0 | R38: 0 | S38: 1 | T38: 1 | U38: 0 | V38: 0 | W38: 0 | X38: 0 | Y38: 0 | Z38: 897 | AA38: 274 | AB38: 623 | AC38: 3551 | AD38: 1722 | AE38: 1829 | AF38: 2387 | AG38: 1154 | AH38: 1233 | AI38: 0 | AJ38: 0 | AK38: 0 | AL38: 515 | AM38: 182 | AN38: 333 | AO38: 979 | AP38: 328 | AQ38: 651 | AR38: 1749 | AS38: 619 | AT38: 1130
A39: Changhua County | B39: 一般 | C39: General | D39: 21 | E39: 10 | F39: 11 | G39: 2 | H39: 1 | I39: 1 | J39: 1 | K39: 1 | L39: 0 | M39: 1 | N39: 0 | O39: 1 | P39: 0 | Q39: 0 | R39: 0
B40: 原住民 | C40: Indigenous | D40: 1 | E40: 0 | F40: 1 | G40: 0 | H40: 0 | I40: 0 | J40: 0 | K40: 0 | L40: 0 | M40: 0 | N40: 0 | O40: 0 | P40: 0 | Q40: 0 | R40: 0
A41: 南投縣 | B41: 計 | C41: Total | D41: 15 | E41: 7 | F41: 8 | G41: 2 | H41: 1 | I41: 1 | J41: 0 | K41: 0 | L41: 0 | M41: 0 | N41: 0 | O41: 0 | P41: 0 | Q41: 0 | R41: 0 | S41: 1 | T41: 0 | U41: 1 | V41: 0 | W41: 3435 | X41: 1787 | Y41: 1648 | Z41: 422 | AA41: 244 | AB41: 178 | AC41: 3766 | AD41: 1702 | AE41: 2064 | AF41: 78 | AG41: 32 | AH41: 46 | AI41: 92 | AJ41: 50 | AK41: 42 | AL41: 0 | AM41: 0 | AN41: 0 | AO41: 242 | AP41: 96 | AQ41: 146 | AR41: 0 | AS41: 0 | AT41: 0
A42: Nantou County | B42: 一般 | C42: General | D42: 11 | E42: 5 | F42: 6 | G42: 2 | H42: 1 | I42: 1 | J42: 0 | K42: 0 | L42: 0 | M42: 0 | N42: 0 | O42: 0 | P42: 0 | Q42: 0 | R42: 0
B43: 原住民 | C43: Indigenous | D43: 4 | E43: 2 | F43: 2 | G43: 0 | H43: 0 | I43: 0 | J43: 0 | K43: 0 | L43: 0 | M43: 0 | N43: 0 | O43: 0 | P43: 0 | Q43: 0 | R43: 0
A44: 雲林縣 | B44: 計 | C44: Total | D44: 15 | E44: 6 | F44: 9 | G44: 2 | H44: 1 | I44: 1 | J44: 0 | K44: 0 | L44: 0 | M44: 0 | N44: 0 | O44: 0 | P44: 0 | Q44: 0 | R44: 0 | S44: 1 | T44: 1 | U44: 0 | V44: 0 | W44: 0 | X44: 0 | Y44: 0 | Z44: 0 | AA44: 0 | AB44: 0 | AC44: 0 | AD44: 0 | AE44: 0 | AF44: 0 | AG44: 0 | AH44: 0 | AI44: 0 | AJ44: 0 | AK44: 0 | AL44: 0 | AM44: 0 | AN44: 0 | AO44: 0 | AP44: 0 | AQ44: 0 | AR44: 15933 | AS44: 6042 | AT44: 9891
A45: Yunlin County | B45: 一般 | C45: General | D45: 15 | E45: 6 | F45: 9 | G45: 2 | H45: 1 | I45: 1 | J45: 0 | K45: 0 | L45: 0 | M45: 0 | N45: 0 | O45: 0 | P45: 0 | Q45: 0 | R45: 0
B46: 原住民 | C46: Indigenous | D46: 0 | E46: 0 | F46: 0 | G46: 0 | H46: 0 | I46: 0 | J46: 0 | K46: 0 | L46: 0 | M46: 0 | N46: 0 | O46: 0 | P46: 0 | Q46: 0 | R46: 0
A47: 嘉義縣 | B47: 計 | C47: Total | D47: 20 | E47: 10 | F47: 10 | G47: 2 | H47: 1 | I47: 1 | J47: 0 | K47: 0 | L47: 0 | M47: 0 | N47: 0 | O47: 0 | P47: 0 | Q47: 0 | R47: 0 | S47: 0 | T47: 0 | U47: 0 | V47: 0 | W47: 0 | X47: 0 | Y47: 0 | Z47: 0 | AA47: 0 | AB47: 0 | AC47: 0 | AD47: 0 | AE47: 0 | AF47: 0 | AG47: 0 | AH47: 0 | AI47: 0 | AJ47: 0 | AK47: 0 | AL47: 0 | AM47: 0 | AN47: 0 | AO47: 0 | AP47: 0 | AQ47: 0 | AR47: 0 | AS47: 0 | AT47: 0
A48: Chiayi County | B48: 一般 | C48: General | D48: 18 | E48: 8 | F48: 10 | G48: 2 | H48: 1 | I48: 1 | J48: 0 | K48: 0 | L48: 0 | M48: 0 | N48: 0 | O48: 0 | P48: 0 | Q48: 0 | R48: 0
B49: 原住民 | C49: Indigenous | D49: 2 | E49: 2 | F49: 0 | G49: 0 | H49: 0 | I49: 0 | J49: 0 | K49: 0 | L49: 0 | M49: 0 | N49: 0 | O49: 0 | P49: 0 | Q49: 0 | R49: 0
A50: 屏東縣 | B50: 計 | C50: Total | D50: 10 | E50: 5 | F50: 5 | G50: 2 | H50: 1 | I50: 1 | J50: 0 | K50: 0 | L50: 0 | M50: 0 | N50: 0 | O50: 0 | P50: 0 | Q50: 0 | R50: 0 | S50: 2 | T50: 1 | U50: 1 | V50: 0 | W50: 3458 | X50: 1210 | Y50: 2248 | Z50: 0 | AA50: 0 | AB50: 0 | AC50: 2635 | AD50: 1844 | AE50: 791 | AF50: 0 | AG50: 0 | AH50: 0 | AI50: 0 | AJ50: 0 | AK50: 0 | AL50: 0 | AM50: 0 | AN50: 0 | AO50: 116 | AP50: 34 | AQ50: 82 | AR50: 75920 | AS50: 35436 | AT50: 40484
A51: Pingtung County | B51: 一般 | C51: General | D51: 9 | E51: 4 | F51: 5 | G51: 2 | H51: 1 | I51: 1 | J51: 0 | K51: 0 | L51: 0 | M51: 0 | N51: 0 | O51: 0 | P51: 0 | Q51: 0 | R51: 0
B52: 原住民 | C52: Indigenous | D52: 1 | E52: 1 | F52: 0 | G52: 0 | H52: 0 | I52: 0 | J52: 0 | K52: 0 | L52: 0 | M52: 0 | N52: 0 | O52: 0 | P52: 0 | Q52: 0 | R52: 0
A53: 臺東縣 | B53: 計 | C53: Total | D53: 14 | E53: 5 | F53: 9 | G53: 0 | H53: 0 | I53: 0 | J53: 0 | K53: 0 | L53: 0 | M53: 0 | N53: 0 | O53: 0 | P53: 0 | Q53: 0 | R53: 0 | S53: 1 | T53: 1 | U53: 0 | V53: 0 | W53: 0 | X53: 0 | Y53: 0 | Z53: 1015 | AA53: 411 | AB53: 604 | AC53: 0 | AD53: 0 | AE53: 0 | AF53: 18441 | AG53: 8650 | AH53: 9791 | AI53: 0 | AJ53: 0 | AK53: 0 | AL53: 10 | AM53: 2 | AN53: 8 | AO53: 40 | AP53: 12 | AQ53: 28 | AR53: 0 | AS53: 0 | AT53: 0
A54: Taitung County | B54: 一般 | C54: General | D54: 12 | E54: 4 | F54: 8 | G54: 0 | H54: 0 | I54: 0 | J54: 0 | K54: 0 | L54: 0 | M54: 0 | N54: 0 | O54: 0 | P54: 0 | Q54: 0 | R54: 0
B55: 原住民 | C55: Indigenous | D55: 2 | E55: 1 | F55: 1 | G55: 0 | H55: 0 | I55: 0 | J55: 0 | K55: 0 | L55: 0 | M55: 0 | N55: 0 | O55: 0 | P55: 0 | Q55: 0 | R55: 0
A56: 花蓮縣 | B56: 計 | C56: Total | D56: 9 | E56: 5 | F56: 4 | G56: 1 | H56: 1 | I56: 0 | J56: 0 | K56: 0 | L56: 0 | M56: 0 | N56: 0 | O56: 0 | P56: 0 | Q56: 0 | R56: 0 | S56: 1 | T56: 0 | U56: 0 | V56: 1 | W56: 36 | X56: 22 | Y56: 14 | Z56: 39 | AA56: 22 | AB56: 17 | AC56: 5132 | AD56: 2822 | AE56: 2310 | AF56: 824 | AG56: 398 | AH56: 426 | AI56: 26 | AJ56: 12 | AK56: 14 | AL56: 0 | AM56: 0 | AN56: 0 | AO56: 0 | AP56: 0 | AQ56: 0 | AR56: 7461 | AS56: 4103 | AT56: 3358
A57: Hualien County | B57: 一般 | C57: General | D57: 8 | E57: 5 | F57: 3 | G57: 1 | H57: 1 | I57: 0 | J57: 0 | K57: 0 | L57: 0 | M57: 0 | N57: 0 | O57: 0 | P57: 0 | Q57: 0 | R57: 0
B58: 原住民 | C58: Indigenous | D58: 1 | E58: 0 | F58: 1 | G58: 0 | H58: 0 | I58: 0 | J58: 0 | K58: 0 | L58: 0 | M58: 0 | N58: 0 | O58: 0 | P58: 0 | Q58: 0 | R58: 0
A59: 澎湖縣 | B59: 計 | C59: Total | D59: 7 | E59: 2 | F59: 5 | G59: 4 | H59: 1 | I59: 3 | J59: 0 | K59: 0 | L59: 0 | M59: 0 | N59: 0 | O59: 0 | P59: 0 | Q59: 0 | R59: 0 | S59: 1 | T59: 1 | U59: 0 | V59: 0 | W59: 0 | X59: 0 | Y59: 0 | Z59: 0 | AA59: 0 | AB59: 0 | AC59: 0 | AD59: 0 | AE59: 0 | AF59: 0 | AG59: 0 | AH59: 0 | AI59: 0 | AJ59: 0 | AK59: 0 | AL59: 0 | AM59: 0 | AN59: 0 | AO59: 353 | AP59: 135 | AQ59: 218 | AR59: 18864 | AS59: 9162 | AT59: 9702
A60: Penghu County | B60: 一般 | C60: General | D60: 7 | E60: 2 | F60: 5 | G60: 4 | H60: 1 | I60: 3 | J60: 0 | K60: 0 | L60: 0 | M60: 0 | N60: 0 | O60: 0 | P60: 0 | Q60: 0 | R60: 0
B61: 原住民 | C61: Indigenous | D61: 0 | E61: 0 | F61: 0 | G61: 0 | H61: 0 | I61: 0 | J61: 0 | K61: 0 | L61: 0 | M61: 0 | N61: 0 | O61: 0 | P61: 0 | Q61: 0 | R61: 0
A62: 基隆市 | B62: 計 | C62: Total | D62: 25 | E62: 10 | F62: 15 | G62: 3 | H62: 1 | I62: 2 | J62: 0 | K62: 0 | L62: 0 | M62: 0 | N62: 0 | O62: 0 | P62: 0 | Q62: 0 | R62: 0 | S62: 1 | T62: 1 | U62: 0 | V62: 0 | W62: 0 | X62: 0 | Y62: 0 | Z62: 0 | AA62: 0 | AB62: 0 | AC62: 0 | AD62: 0 | AE62: 0 | AF62: 0 | AG62: 0 | AH62: 0 | AI62: 0 | AJ62: 0 | AK62: 0 | AL62: 0 | AM62: 0 | AN62: 0 | AO62: 0 | AP62: 0 | AQ62: 0 | AR62: 0 | AS62: 0 | AT62: 0
A63: Keelung City | B63: 一般 | C63: General | D63: 24 | E63: 9 | F63: 15 | G63: 3 | H63: 1 | I63: 2 | J63: 0 | K63: 0 | L63: 0 | M63: 0 | N63: 0 | O63: 0 | P63: 0 | Q63: 0 | R63: 0
B64: 原住民 | C64: Indigenous | D64: 1 | E64: 1 | F64: 0 | G64: 0 | H64: 0 | I64: 0 | J64: 0 | K64: 0 | L64: 0 | M64: 0 | N64: 0 | O64: 0 | P64: 0 | Q64: 0 | R64: 0
A65: 新竹市 | B65: 計 | C65: Total | D65: 18 | E65: 7 | F65: 11 | G65: 2 | H65: 0 | I65: 2 | J65: 0 | K65: 0 | L65: 0 | M65: 0 | N65: 0 | O65: 0 | P65: 0 | Q65: 0 | R65: 0 | S65: 0 | T65: 0 | U65: 0 | V65: 0 | W65: 0 | X65: 0 | Y65: 0 | Z65: 0 | AA65: 0 | AB65: 0 | AC65: 0 | AD65: 0 | AE65: 0 | AF65: 0 | AG65: 0 | AH65: 0 | AI65: 0 | AJ65: 0 | AK65: 0 | AL65: 0 | AM65: 0 | AN65: 0 | AO65: 0 | AP65: 0 | AQ65: 0 | AR65: 0 | AS65: 0 | AT65: 0
A66: Hsinchu City | B66: 一般 | C66: General | D66: 17 | E66: 7 | F66: 10 | G66: 2 | H66: 0 | I66: 2 | J66: 0 | K66: 0 | L66: 0 | M66: 0 | N66: 0 | O66: 0 | P66: 0 | Q66: 0 | R66: 0
B67: 原住民 | C67: Indigenous | D67: 1 | E67: 0 | F67: 1 | G67: 0 | H67: 0 | I67: 0 | J67: 0 | K67: 0 | L67: 0 | M67: 0 | N67: 0 | O67: 0 | P67: 0 | Q67: 0 | R67: 0
A68: 嘉義市 | B68: 計 | C68: Total | D68: 30 | E68: 12 | F68: 18 | G68: 3 | H68: 1 | I68: 2 | J68: 0 | K68: 0 | L68: 0 | M68: 0 | N68: 0 | O68: 0 | P68: 0 | Q68: 0 | R68: 0 | S68: 2 | T68: 2 | U68: 0 | V68: 0 | W68: 0 | X68: 0 | Y68: 0 | Z68: 0 | AA68: 0 | AB68: 0 | AC68: 34920 | AD68: 19206 | AE68: 15714 | AF68: 0 | AG68: 0 | AH68: 0 | AI68: 0 | AJ68: 0 | AK68: 0 | AL68: 0 | AM68: 0 | AN68: 0 | AO68: 292 | AP68: 103 | AQ68: 189 | AR68: 71099 | AS68: 24822 | AT68: 46277
A69: Chiayi City | B69: 一般 | C69: General | D69: 29 | E69: 11 | F69: 18 | G69: 3 | H69: 1 | I69: 2 | J69: 0 | K69: 0 | L69: 0 | M69: 0 | N69: 0 | O69: 0 | P69: 0 | Q69: 0 | R69: 0
B70: 原住民 | C70: Indigenous | D70: 1 | E70: 1 | F70: 0 | G70: 0 | H70: 0 | I70: 0 | J70: 0 | K70: 0 | L70: 0 | M70: 0 | N70: 0 | O70: 0 | P70: 0 | Q70: 0 | R70: 0
A71: 金門縣 | B71: 計 | C71: Total | D71: 10 | E71: 4 | F71: 6 | G71: 3 | H71: 0 | I71: 3 | J71: 0 | K71: 0 | L71: 0 | M71: 0 | N71: 0 | O71: 0 | P71: 0 | Q71: 0 | R71: 0 | S71: 1 | T71: 0 | U71: 0 | V71: 1 | W71: 174 | X71: 129 | Y71: 45 | Z71: 100 | AA71: 37 | AB71: 63 | AC71: 375 | AD71: 141 | AE71: 234 | AF71: 59 | AG71: 19 | AH71: 40 | AI71: 4 | AJ71: 4 | AK71: 0 | AL71: 0 | AM71: 0 | AN71: 0 | AO71: 125 | AP71: 29 | AQ71: 96 | AR71: 4468 | AS71: 2233 | AT71: 2235
A72: Kinmen County | B72: 一般 | C72: General | D72: 10 | E72: 4 | F72: 6 | G72: 3 | H72: 0 | I72: 3 | J72: 0 | K72: 0 | L72: 0 | M72: 0 | N72: 0 | O72: 0 | P72: 0 | Q72: 0 | R72: 0
B73: 原住民 | C73: Indigenous | D73: 0 | E73: 0 | F73: 0 | G73: 0 | H73: 0 | I73: 0 | J73: 0 | K73: 0 | L73: 0 | M73: 0 | N73: 0 | O73: 0 | P73: 0 | Q73: 0 | R73: 0
A74: 連江縣 | B74: 計 | C74: Total | D74: 18 | E74: 6 | F74: 12 | G74: 2 | H74: 0 | I74: 2 | J74: 0 | K74: 0 | L74: 0 | M74: 0 | N74: 0 | O74: 0 | P74: 0 | Q74: 0 | R74: 0 | S74: 0 | T74: 0 | U74: 0 | V74: 0 | W74: 0 | X74: 0 | Y74: 0 | Z74: 0 | AA74: 0 | AB74: 0 | AC74: 0 | AD74: 0 | AE74: 0 | AF74: 0 | AG74: 0 | AH74: 0 | AI74: 0 | AJ74: 0 | AK74: 0 | AL74: 0 | AM74: 0 | AN74: 0 | AO74: 0 | AP74: 0 | AQ74: 0 | AR74: 0 | AS74: 0 | AT74: 0
A75: Lienchiang County | B75: 一般 | C75: General | D75: 18 | E75: 6 | F75: 12 | G75: 2 | H75: 0 | I75: 2 | J75: 0 | K75: 0 | L75: 0 | M75: 0 | N75: 0 | O75: 0 | P75: 0 | Q75: 0 | R75: 0
B76: 原住民 | C76: Indigenous | D76: 0 | E76: 0 | F76: 0 | G76: 0 | H76: 0 | I76: 0 | J76: 0 | K76: 0 | L76: 0 | M76: 0 | N76: 0 | O76: 0 | P76: 0 | Q76: 0 | R76: 0
A77: 資料來源：各直轄市、縣市政府。
A78: Source: County and Government.
A79: 更新日期：2026/3/31
A80: 總計 | B80: 計 | C80: Total | D80: 414 | E80: 187 | F80: 227 | G80: 69 | H80: 33 | I80: 36 | J80: 10 | K80: 5 | L80: 5 | M80: 11 | N80: 4 | O80: 7 | P80: 2 | Q80: 2 | R80: 0 | S80: 41 | T80: 12 | U80: 3 | V80: 26 | W80: 119241 | X80: 64084 | Y80: 55157 | Z80: 130335 | AA80: 55900 | AB80: 74435 | AC80: 275133 | AD80: 135498 | AE80: 139635 | AF80: 16877 | AG80: 8750 | AH80: 8127 | AI80: 1472 | AJ80: 844 | AK80: 628 | AL80: 61160 | AM80: 28169 | AN80: 32991 | AO80: 89798 | AP80: 35788 | AQ80: 54010 | AR80: 410621 | AS80: 160888 | AT80: 249733
A81: Total | B81: 一般 | C81: General | D81: 395 | E81: 178 | F81: 217 | G81: 68 | H81: 32 | I81: 36 | J81: 9 | K81: 5 | L81: 4 | M81: 11 | N81: 4 | O81: 7 | P81: 2 | Q81: 2 | R81: 0
B82: 原住民 | C82: Indigenous | D82: 19 | E82: 9 | F82: 10 | G82: 1 | H82: 1 | I82: 0 | J82: 1 | K82: 0 | L82: 1 | M82: 0 | N82: 0 | O82: 0 | P82: 0 | Q82: 0 | R82: 0
A83: 新北市 | B83: 計 | C83: Total | D83: 34 | E83: 17 | F83: 17 | G83: 6 | H83: 5 | I83: 1 | J83: 7 | K83: 3 | L83: 4 | M83: 8 | N83: 2 | O83: 6 | P83: 2 | Q83: 2 | R83: 0 | S83: 7 | T83: 0 | U83: 0 | V83: 7 | W83: 7804 | X83: 4152 | Y83: 3652 | Z83: 2502 | AA83: 1357 | AB83: 1145 | AC83: 19425 | AD83: 8999 | AE83: 10426 | AF83: 4903 | AG83: 2812 | AH83: 2091 | AI83: 197 | AJ83: 117 | AK83: 80 | AL83: 443 | AM83: 167 | AN83: 276 | AO83: 378 | AP83: 120 | AQ83: 258 | AR83: 28653 | AS83: 11782 | AT83: 16871
A84: New Taipei City | B84: 一般 | C84: General | D84: 33 | E84: 16 | F84: 17 | G84: 6 | H84: 5 | I84: 1 | J84: 6 | K84: 3 | L84: 3 | M84: 8 | N84: 2 | O84: 6 | P84: 2 | Q84: 2 | R84: 0
B85: 原住民 | C85: Indigenous | D85: 1 | E85: 1 | F85: 0 | G85: 0 | H85: 0 | I85: 0 | J85: 1 | K85: 0 | L85: 1 | M85: 0 | N85: 0 | O85: 0 | P85: 0 | Q85: 0 | R85: 0
A86: 臺北市 | B86: 計 | C86: Total | D86: 20 | E86: 7 | F86: 13 | G86: 6 | H86: 2 | I86: 4 | J86: 0 | K86: 0 | L86: 0 | M86: 2 | N86: 1 | O86: 1 | P86: 0 | Q86: 0 | R86: 0 | S86: 9 | T86: 0 | U86: 0 | V86: 9 | W86: 83214 | X86: 44759 | Y86: 38455 | Z86: 24094 | AA86: 12170 | AB86: 11924 | AC86: 59634 | AD86: 26667 | AE86: 32967 | AF86: 3994 | AG86: 2042 | AH86: 1952 | AI86: 108 | AJ86: 60 | AK86: 48 | AL86: 652 | AM86: 245 | AN86: 407 | AO86: 1101 | AP86: 447 | AQ86: 654 | AR86: 45733 | AS86: 24755 | AT86: 20978 | AU86: =SUM(W86,Z86,AC86,AF86,AI86,AL86,AO86,AR86) -> 218530
A87: Taipei City | B87: 一般 | C87: General | D87: 19 | E87: 7 | F87: 12 | G87: 6 | H87: 2 | I87: 4 | J87: 0 | K87: 0 | L87: 0 | M87: 2 | N87: 1 | O87: 1 | P87: 0 | Q87: 0 | R87: 0
B88: 原住民 | C88: Indigenous | D88: 1 | E88: 0 | F88: 1 | G88: 0 | H88: 0 | I88: 0 | J88: 0 | K88: 0 | L88: 0 | M88: 0 | N88: 0 | O88: 0 | P88: 0 | Q88: 0 | R88: 0
A89: 桃園市 | B89: 計 | C89: Total | D89: 25 | E89: 11 | F89: 14 | G89: 6 | H89: 3 | I89: 3 | J89: 0 | K89: 0 | L89: 0 | M89: 0 | N89: 0 | O89: 0 | P89: 0 | Q89: 0 | R89: 0 | S89: 3 | T89: 0 | U89: 0 | V89: 3 | W89: 967 | X89: 611 | Y89: 356 | Z89: 673 | AA89: 379 | AB89: 294 | AC89: 301 | AD89: 69 | AE89: 232 | AF89: 0 | AG89: 0 | AH89: 0 | AI89: 19 | AJ89: 11 | AK89: 8 | AL89: 57 | AM89: 11 | AN89: 46 | AO89: 748 | AP89: 265 | AQ89: 483 | AR89: 0 | AS89: 0 | AT89: 0
A90: Taoyuan City | B90: 一般 | C90: General | D90: 25 | E90: 11 | F90: 14 | G90: 6 | H90: 3 | I90: 3 | J90: 0 | K90: 0 | L90: 0 | M90: 0 | N90: 0 | O90: 0 | P90: 0 | Q90: 0 | R90: 0
B91: 原住民 | C91: Indigenous | D91: 0 | E91: 0 | F91: 0 | G91: 0 | H91: 0 | I91: 0 | J91: 0 | K91: 0 | L91: 0 | M91: 0 | N91: 0 | O91: 0 | P91: 0 | Q91: 0 | R91: 0
A92: 臺中市 | B92: 計 | C92: Total | D92: 21 | E92: 11 | F92: 10 | G92: 4 | H92: 2 | I92: 2 | J92: 0 | K92: 0 | L92: 0 | M92: 0 | N92: 0 | O92: 0 | P92: 0 | Q92: 0 | R92: 0 | S92: 2 | T92: 2 | U92: 0 | V92: 0 | W92: 0 | X92: 0 | Y92: 0 | Z92: 88523 | AA92: 35409 | AB92: 53114 | AC92: 0 | AD92: 0 | AE92: 0 | AF92: 0 | AG92: 0 | AH92: 0 | AI92: 0 | AJ92: 0 | AK92: 0 | AL92: 0 | AM92: 0 | AN92: 0 | AO92: 29382 | AP92: 12463 | AQ92: 16919 | AR92: 0 | AS92: 0 | AT92: 0
A93: Taichung City | B93: 一般 | C93: General | D93: 20 | E93: 11 | F93: 9 | G93: 4 | H93: 2 | I93: 2 | J93: 0 | K93: 0 | L93: 0 | M93: 0 | N93: 0 | O93: 0 | P93: 0 | Q93: 0 | R93: 0
B94: 原住民 | C94: Indigenous | D94: 1 | E94: 0 | F94: 1 | G94: 0 | H94: 0 | I94: 0 | J94: 0 | K94: 0 | L94: 0 | M94: 0 | N94: 0 | O94: 0 | P94: 0 | Q94: 0 | R94: 0
A95: 臺南市 | B95: 計 | C95: Total | D95: 18 | E95: 9 | F95: 9 | G95: 5 | H95: 3 | I95: 2 | J95: 0 | K95: 0 | L95: 0 | M95: 0 | N95: 0 | O95: 0 | P95: 0 | Q95: 0 | R95: 0 | S95: 3 | T95: 1 | U95: 1 | V95: 1 | W95: 53 | X95: 31 | Y95: 22 | Z95: 1259 | AA95: 276 | AB95: 983 | AC95: 2732 | AD95: 853 | AE95: 1879 | AF95: 740 | AG95: 329 | AH95: 411 | AI95: 78 | AJ95: 46 | AK95: 32 | AL95: 2383 | AM95: 391 | AN95: 1992 | AO95: 3321 | AP95: 1129 | AQ95: 2192 | AR95: 132514 | AS95: 50001 | AT95: 82513
A96: Tainan City | B96: 一般 | C96: General | D96: 17 | E96: 8 | F96: 9 | G96: 5 | H96: 3 | I96: 2 | J96: 0 | K96: 0 | L96: 0 | M96: 0 | N96: 0 | O96: 0 | P96: 0 | Q96: 0 | R96: 0
B97: 原住民 | C97: Indigenous | D97: 1 | E97: 1 | F97: 0 | G97: 0 | H97: 0 | I97: 0 | J97: 0 | K97: 0 | L97: 0 | M97: 0 | N97: 0 | O97: 0 | P97: 0 | Q97: 0 | R97: 0
A98: 高雄市 | B98: 計 | C98: Total | D98: 33 | E98: 17 | F98: 16 | G98: 2 | H98: 1 | I98: 1 | J98: 0 | K98: 0 | L98: 0 | M98: 0 | N98: 0 | O98: 0 | P98: 0 | Q98: 0 | R98: 0 | S98: 2 | T98: 2 | U98: 0 | V98: 0 | W98: 9200 | X98: 6196 | Y98: 3004 | Z98: 345 | AA98: 256 | AB98: 89 | AC98: 4126 | AD98: 1644 | AE98: 2482 | AF98: 0 | AG98: 0 | AH98: 0 | AI98: 291 | AJ98: 171 | AK98: 120 | AL98: 56204 | AM98: 26805 | AN98: 29399 | AO98: 15210 | AP98: 6009 | AQ98: 9201 | AR98: 29163 | AS98: 9578 | AT98: 19585
A99: Kaohsiung City | B99: 一般 | C99: General | D99: 32 | E99: 17 | F99: 15 | G99: 2 | H99: 1 | I99: 1 | J99: 0 | K99: 0 | L99: 0 | M99: 0 | N99: 0 | O99: 0 | P99: 0 | Q99: 0 | R99: 0
B100: 原住民 | C100: Indigenous | D100: 1 | E100: 0 | F100: 1 | G100: 0 | H100: 0 | I100: 0 | J100: 0 | K100: 0 | L100: 0 | M100: 0 | N100: 0 | O100: 0 | P100: 0 | Q100: 0 | R100: 0
...

Sheet 113
A1: 兒童及少年福利服務 Child and Youth Welfare Services
A2: 民國113年, 2024 | D2: =IF(D9=SUM(D12,D15,D21,D24,D27,D30,D18,D33,D36,D39,D42,D45,D48,D51,D54,D57,D60,D63,D66,D69,D72,D75),"","*") | E2: =IF(E9=SUM(E12,E15,E21,E24,E27,E30,E18,E33,E36,E39,E42,E45,E48,E51,E54,E57,E60,E63,E66,E69,E72,E75),"","*") | F2: =IF(F9=SUM(F12,F15,F21,F24,F27,F30,F18,F33,F36,F39,F42,F45,F48,F51,F54,F57,F60,F63,F66,F69,F72,F75),"","*") | J2: =IF(J9=SUM(J12,J15,J21,J24,J27,J30,J18,J33,J36,J39,J42,J45,J48,J51,J54,J57,J60,J63,J66,J69,J72,J75),"","*") | K2: =IF(K9=SUM(K12,K15,K21,K24,K27,K30,K18,K33,K36,K39,K42,K45,K48,K51,K54,K57,K60,K63,K66,K69,K72,K75),"","*") | L2: =IF(L9=SUM(L12,L15,L21,L24,L27,L30,L18,L33,L36,L39,L42,L45,L48,L51,L54,L57,L60,L63,L66,L69,L72,L75),"","*") | M2: =IF(M9=SUM(M12,M15,M21,M24,M27,M30,M18,M33,M36,M39,M42,M45,M48,M51,M54,M57,M60,M63,M66,M69,M72,M75),"","*") | N2: =IF(N9=SUM(N12,N15,N21,N24,N27,N30,N18,N33,N36,N39,N42,N45,N48,N51,N54,N57,N60,N63,N66,N69,N72,N75),"","*") | O2: =IF(O9=SUM(O12,O15,O21,O24,O27,O30,O18,O33,O36,O39,O42,O45,O48,O51,O54,O57,O60,O63,O66,O69,O72,O75),"","*") | P2: =IF(P9=SUM(P12,P15,P21,P24,P27,P30,P18,P33,P36,P39,P42,P45,P48,P51,P54,P57,P60,P63,P66,P69,P72,P75),"","*") | Q2: =IF(Q9=SUM(Q12,Q15,Q21,Q24,Q27,Q30,Q18,Q33,Q36,Q39,Q42,Q45,Q48,Q51,Q54,Q57,Q60,Q63,Q66,Q69,Q72,Q75),"","*") | R2: =IF(R9=SUM(R12,R15,R21,R24,R27,R30,R18,R33,R36,R39,R42,R45,R48,R51,R54,R57,R60,R63,R66,R69,R72,R75),"","*")
A3: 單位：人、人次、所 | D3: =IF(D8=SUM(D11,D14,D17,D20,D23,D26,D29,D32,D35,D38,D41,D44,D47,D50,D53,D56,D59,D62,D65,D68,D71,D74),"","*") | E3: =IF(E8=SUM(E11,E14,E17,E20,E23,E26,E29,E32,E35,E38,E41,E44,E47,E50,E53,E56,E59,E62,E65,E68,E71,E74),"","*") | F3: =IF(F8=SUM(F11,F14,F17,F20,F23,F26,F29,F32,F35,F38,F41,F44,F47,F50,F53,F56,F59,F62,F65,F68,F71,F74),"","*") | G3: =IF(G8=SUM(G11,G14,G17,G20,G23,G26,G29,G32,G35,G38,G41,G44,G47,G50,G53,G56,G59,G62,G65,G68,G71,G74),"","*") | H3: =IF(H8=SUM(H11,H14,H17,H20,H23,H26,H29,H32,H35,H38,H41,H44,H47,H50,H53,H56,H59,H62,H65,H68,H71,H74),"","*") | I3: =IF(I8=SUM(I11,I14,I17,I20,I23,I26,I29,I32,I35,I38,I41,I44,I47,I50,I53,I56,I59,I62,I65,I68,I71,I74),"","*") | J3: =IF(J8=SUM(J11,J14,J17,J20,J23,J26,J29,J32,J35,J38,J41,J44,J47,J50,J53,J56,J59,J62,J65,J68,J71,J74),"","*") | K3: =IF(K8=SUM(K11,K14,K17,K20,K23,K26,K29,K32,K35,K38,K41,K44,K47,K50,K53,K56,K59,K62,K65,K68,K71,K74),"","*") | ... AT3: =IF(AT8=SUM(AT11,AT14,AT17,AT20,AT23,AT26,AT29,AT32,AT35,AT38,AT41,AT44,AT47,AT50,AT53,AT56,AT59,AT62,AT65,AT68,AT71,AT74),"","*")
A4: 區域及特殊族群別 Locality & Ethnos | D4: 兒童及少年代表人數 Number of child and youth representatives | G4: 兒童及少年代表為委員人數 | J4: 無依兒童及少年安置及處理人數 Number of helpless children and youth receiving placement and other services | S4: 兒童及少年福利服務中心Welfare Service Centers
J5: 尋獲父母或監護人者 Those whose parents or guardians are found | M5: 逾法定期限未尋獲父母或監護人者 Those whose parents or guardians are not found within the statutory period | P5: 法定期限內尚在協尋父母或監護人者 Those whose parents or guardians are being searched for within the statutory period | S5: 兒童及少年福利服務中心數 Welfare Service Centers | W5: 個案服務人次 Case Service | Z5: 團體服務人次 Group Service | AC5: 社區服務人次 Community Service | AF5: 外展服務人次 Outreach Service | AI5: 轉介服務人次 Referral Service | AL5: 親職教育人次 Parenting Education | AO5: 親子活動人次 Family Activities | AR5: 其他福利服務人次 other Service
D6: 計 | E6: 男 | F6: 女 | G6: 計 | H6: 男 | I6: 女 | J6: 計 | K6: 男 | L6: 女 | M6: 計 | N6: 男 | O6: 女 | P6: 計 | Q6: 男 | R6: 女 | S6: 計 | T6: 公立 | U6: 私立 | V6: 公設民營 | W6: 計 | X6: 男 | Y6: 女 | Z6: 計 | AA6: 男 | AB6: 女 | AC6: 計 | AD6: 男 | AE6: 女 | AF6: 計 | AG6: 男 | AH6: 女 | AI6: 計 | AJ6: 男 | AK6: 女 | AL6: 計 | AM6: 男 | AN6: 女 | AO6: 計 | AP6: 男 | AQ6: 女 | AR6: 計 | AS6: 男 | AT6: 女
D7: Total | E7: Male | F7: Female | G7: Total | H7: Male | I7: Female | J7: Total | K7: Male | L7: Female | M7: Total | N7: Male | O7: Female | P7: Total | Q7: Male | R7: Female | S7: Total | T7: Public | U7: Private | V7: Run by Private | W7: Total | X7: Male | Y7: Female | Z7: Total | AA7: Male | AB7: Female | AC7: Total | AD7: Male | AE7: Female | AF7: Total | AG7: Male | AH7: Female | AI7: Total | AJ7: Male | AK7: Female | AL7: Total | AM7: Male | AN7: Female | AO7: Total | AP7: Male | AQ7: Female | AR7: Total | AS7: Male | AT7: Female
A8: 總計 | B8: 計 | C8: Total | D8: 402 | E8: 173 | F8: 229 | G8: 67 | H8: 27 | I8: 40 | J8: 7 | K8: 3 | L8: 4 | M8: 7 | N8: 4 | O8: 3 | P8: 2 | Q8: 1 | R8: 1 | S8: 40 | T8: 11 | U8: 4 | V8: 25 | W8: 91327 | X8: 42967 | Y8: 48360 | Z8: 47746 | AA8: 18991 | AB8: 28755 | AC8: 309048 | AD8: 142139 | AE8: 166909 | AF8: 19433 | AG8: 8774 | AH8: 10659 | AI8: 2283 | AJ8: 1279 | AK8: 1004 | AL8: 66536 | AM8: 31420 | AN8: 35116 | AO8: 196098 | AP8: 68884 | AQ8: 127214 | AR8: 507904 | AS8: 208673 | AT8: 299231
A9: Total | B9: 一般 | C9: General | D9: 374 | E9: 161 | F9: 213 | G9: 65 | H9: 27 | I9: 38 | J9: 6 | K9: 3 | L9: 3 | M9: 7 | N9: 4 | O9: 3 | P9: 2 | Q9: 1 | R9: 1
B10: 原住民 | C10: Indigenous | D10: 28 | E10: 12 | F10: 16 | G10: 2 | H10: 0 | I10: 2 | J10: 1 | K10: 0 | L10: 1 | M10: 0 | N10: 0 | O10: 0 | P10: 0 | Q10: 0 | R10: 0
A11: 新北市 | B11: 計 | C11: Total | D11: 22 | E11: 9 | F11: 13 | G11: 6 | H11: 5 | I11: 1 | J11: 6 | K11: 3 | L11: 3 | M11: 3 | N11: 1 | O11: 2 | P11: 0 | Q11: 0 | R11: 0 | S11: 7 | T11: 0 | U11: 0 | V11: 7 | W11: 6545 | X11: 2779 | Y11: 3766 | Z11: 2189 | AA11: 946 | AB11: 1243 | AC11: 18083 | AD11: 7941 | AE11: 10142 | AF11: 5008 | AG11: 2436 | AH11: 2572 | AI11: 178 | AJ11: 133 | AK11: 45 | AL11: 1837 | AM11: 745 | AN11: 1092 | AO11: 5348 | AP11: 2371 | AQ11: 2977 | AR11: 29400 | AS11: 11030 | AT11: 18370
A12: New Taipei City | B12: 一般 | C12: General | D12: 21 | E12: 8 | F12: 13 | G12: 6 | H12: 5 | I12: 1 | J12: 5 | K12: 3 | L12: 2 | M12: 3 | N12: 1 | O12: 2 | P12: 0 | Q12: 0 | R12: 0
B13: 原住民 | C13: Indigenous | D13: 1 | E13: 1 | F13: 0 | G13: 0 | H13: 0 | I13: 0 | J13: 1 | K13: 0 | L13: 1 | M13: 0 | N13: 0 | O13: 0 | P13: 0 | Q13: 0 | R13: 0
A14: 臺北市 | B14: 計 | C14: Total | D14: 20 | E14: 7 | F14: 13 | G14: 6 | H14: 2 | I14: 4 | J14: 0 | K14: 0 | L14: 0 | M14: 0 | N14: 0 | O14: 0 | P14: 1 | Q14: 0 | R14: 1 | S14: 9 | T14: 0 | U14: 0 | V14: 9 | W14: 24484 | X14: 12486 | Y14: 11998 | Z14: 4923 | AA14: 2306 | AB14: 2617 | AC14: 60913 | AD14: 26626 | AE14: 34287 | AF14: 3620 | AG14: 1968 | AH14: 1652 | AI14: 111 | AJ14: 57 | AK14: 54 | AL14: 1217 | AM14: 448 | AN14: 769 | AO14: 823 | AP14: 325 | AQ14: 498 | AR14: 50032 | AS14: 27111 | AT14: 22921
A15: Taipei City | B15: 一般 | C15: General | D15: 19 | E15: 7 | F15: 12 | G15: 6 | H15: 2 | I15: 4 | J15: 0 | K15: 0 | L15: 0 | M15: 0 | N15: 0 | O15: 0 | P15: 1 | Q15: 0 | R15: 1
B16: 原住民 | C16: Indigenous | D16: 1 | E16: 0 | F16: 1 | G16: 0 | H16: 0 | I16: 0 | J16: 0 | K16: 0 | L16: 0 | M16: 0 | N16: 0 | O16: 0 | P16: 0 | Q16: 0 | R16: 0
A17: 桃園市 | B17: 計 | C17: Total | D17: 29 | E17: 13 | F17: 16 | G17: 7 | H17: 4 | I17: 3 | J17: 0 | K17: 0 | L17: 0 | M17: 0 | N17: 0 | O17: 0 | P17: 0 | Q17: 0 | R17: 0 | S17: 3 | T17: 0 | U17: 0 | V17: 3 | W17: 5942 | X17: 4409 | Y17: 1533 | Z17: 7750 | AA17: 3176 | AB17: 4574 | AC17: 10387 | AD17: 2511 | AE17: 7876 | AF17: 1383 | AG17: 483 | AH17: 900 | AI17: 881 | AJ17: 610 | AK17: 271 | AL17: 199 | AM17: 36 | AN17: 163 | AO17: 959 | AP17: 408 | AQ17: 551 | AR17: 31 | AS17: 11 | AT17: 20
A18: Taoyuan City | B18: 一般 | C18: General | D18: 29 | E18: 13 | F18: 16 | G18: 7 | H18: 4 | I18: 3 | J18: 0 | K18: 0 | L18: 0 | M18: 0 | N18: 0 | O18: 0 | P18: 0 | Q18: 0 | R18: 0
B19: 原住民 | C19: Indigenous | D19: 0 | E19: 0 | F19: 0 | G19: 0 | H19: 0 | I19: 0 | J19: 0 | K19: 0 | L19: 0 | M19: 0 | N19: 0 | O19: 0 | P19: 0 | Q19: 0 | R19: 0
A20: 臺中市 | B20: 計 | C20: Indigenous | D20: 21 | E20: 11 | F20: 10 | G20: 4 | H20: 2 | I20: 2 | J20: 0 | K20: 0 | L20: 0 | M20: 0 | N20: 0 | O20: 0 | P20: 1 | Q20: 1 | R20: 0 | S20: 2 | T20: 2 | U20: 0 | V20: 0 | W20: 0 | X20: 0 | Y20: 0 | Z20: 0 | AA20: 0 | AB20: 0 | AC20: 0 | AD20: 0 | AE20: 0 | AF20: 0 | AG20: 0 | AH20: 0 | AI20: 0 | AJ20: 0 | AK20: 0 | AL20: 0 | AM20: 0 | AN20: 0 | AO20: 28222 | AP20: 11866 | AQ20: 16356 | AR20: 80932 | AS20: 33690 | AT20: 47242
A21: Taichung City | B21: 一般 | C21: General | D21: 20 | E21: 11 | F21: 9 | G21: 4 | H21: 2 | I21: 2 | J21: 0 | K21: 0 | L21: 0 | M21: 0 | N21: 0 | O21: 0 | P21: 1 | Q21: 1 | R21: 0
B22: 原住民 | C22: Indigenous | D22: 1 | E22: 0 | F22: 1 | G22: 0 | H22: 0 | I22: 0 | J22: 0 | K22: 0 | L22: 0 | M22: 0 | N22: 0 | O22: 0 | P22: 0 | Q22: 0 | R22: 0
A23: 臺南市 | B23: 計 | C23: Total | D23: 20 | E23: 12 | F23: 8 | G23: 5 | H23: 2 | I23: 3 | J23: 0 | K23: 0 | L23: 0 | M23: 0 | N23: 0 | O23: 0 | P23: 0 | Q23: 0 | R23: 0 | S23: 3 | T23: 1 | U23: 1 | V23: 1 | W23: 35799 | X23: 12803 | Y23: 22996 | Z23: 17427 | AA23: 6036 | AB23: 11391 | AC23: 2044 | AD23: 879 | AE23: 1165 | AF23: 1885 | AG23: 869 | AH23: 1016 | AI23: 83 | AJ23: 52 | AK23: 31 | AL23: 381 | AM23: 148 | AN23: 233 | AO23: 43180 | AP23: 11896 | AQ23: 31284 | AR23: 113004 | AS23: 37504 | AT23: 75500
A24: Tainan City | B24: 一般 | C24: General | D24: 19 | E24: 12 | F24: 7 | G24: 5 | H24: 2 | I24: 3 | J24: 0 | K24: 0 | L24: 0 | M24: 0 | N24: 0 | O24: 0 | P24: 0 | Q24: 0 | R24: 0
B25: 原住民 | C25: Indigenous | D25: 1 | E25: 0 | F25: 1 | G25: 0 | H25: 0 | I25: 0 | J25: 0 | K25: 0 | L25: 0 | M25: 0 | N25: 0 | O25: 0 | P25: 0 | Q25: 0 | R25: 0
A26: 高雄市 | B26: 計 | C26: Total | D26: 26 | E26: 13 | F26: 13 | G26: 2 | H26: 1 | I26: 1 | J26: 0 | K26: 0 | L26: 0 | M26: 0 | N26: 0 | O26: 0 | P26: 0 | Q26: 0 | R26: 0 | S26: 2 | T26: 2 | U26: 0 | V26: 0 | W26: 9833 | X26: 6768 | Y26: 3065 | Z26: 360 | AA26: 262 | AB26: 98 | AC26: 3370 | AD26: 1181 | AE26: 2189 | AF26: 0 | AG26: 0 | AH26: 0 | AI26: 194 | AJ26: 121 | AK26: 73 | AL26: 57226 | AM26: 27905 | AN26: 29321 | AO26: 7800 | AP26: 3017 | AQ26: 4783 | AR26: 107423 | AS26: 40593 | AT26: 66830
A27: Kaohsiung City | B27: 一般 | C27: General | D27: 25 | E27: 13 | F27: 12 | G27: 2 | H27: 1 | I27: 1 | J27: 0 | K27: 0 | L27: 0 | M27: 0 | N27: 0 | O27: 0 | P27: 0 | Q27: 0 | R27: 0
B28: 原住民 | C28: Indigenous | D28: 1 | E28: 0 | F28: 1 | G28: 0 | H28: 0 | I28: 0 | J28: 0 | K28: 0 | L28: 0 | M28: 0 | N28: 0 | O28: 0 | P28: 0 | Q28: 0 | R28: 0
A29: 宜蘭縣 | B29: 計 | C29: Total | D29: 15 | E29: 5 | F29: 10 | G29: 2 | H29: 1 | I29: 1 | J29: 0 | K29: 0 | L29: 0 | M29: 0 | N29: 0 | O29: 0 | P29: 0 | Q29: 0 | R29: 0 | S29: 1 | T29: 0 | U29: 1 | V29: 0 | W29: 710 | X29: 303 | Y29: 407 | Z29: 286 | AA29: 51 | AB29: 235 | AC29: 154609 | AD29: 72858 | AE29: 81751 | AF29: 4199 | AG29: 1534 | AH29: 2665 | AI29: 179 | AJ29: 95 | AK29: 84 | AL29: 1233 | AM29: 566 | AN29: 667 | AO29: 1021 | AP29: 518 | AQ29: 503 | AR29: 170 | AS29: 91 | AT29: 79
A30: Yilan County | B30: 一般 | C30: General | D30: 15 | E30: 5 | F30: 10 | G30: 2 | H30: 1 | I30: 1 | J30: 0 | K30: 0 | L30: 0 | M30: 0 | N30: 0 | O30: 0 | P30: 0 | Q30: 0 | R30: 0
B31: 原住民 | C31: Indigenous | D31: 0 | E31: 0 | F31: 0 | G31: 0 | H31: 0 | I31: 0 | J31: 0 | K31: 0 | L31: 0 | M31: 0 | N31: 0 | O31: 0 | P31: 0 | Q31: 0 | R31: 0
A32: 新竹縣 | B32: 計 | C32: Total | D32: 11 | E32: 6 | F32: 5 | G32: 2 | H32: 2 | I32: 0 | J32: 0 | K32: 0 | L32: 0 | M32: 0 | N32: 0 | O32: 0 | P32: 0 | Q32: 0 | R32: 0 | S32: 1 | T32: 0 | U32: 0 | V32: 1 | W32: 0 | X32: 0 | Y32: 0 | Z32: 10358 | AA32: 4162 | AB32: 6196 | AC32: 0 | AD32: 0 | AE32: 0 | AF32: 0 | AG32: 0 | AH32: 0 | AI32: 0 | AJ32: 0 | AK32: 0 | AL32: 0 | AM32: 0 | AN32: 0 | AO32: 761 | AP32: 198 | AQ32: 563 | AR32: 0 | AS32: 0 | AT32: 0
A33: Hsinchu County | B33: 一般 | C33: General | D33: 8 | E33: 4 | F33: 4 | G33: 2 | H33: 2 | I33: 0 | J33: 0 | K33: 0 | L33: 0 | M33: 0 | N33: 0 | O33: 0 | P33: 0 | Q33: 0 | R33: 0
B34: 原住民 | C34: Indigenous | D34: 3 | E34: 2 | F34: 1 | G34: 0 | H34: 0 | I34: 0 | J34: 0 | K34: 0 | L34: 0 | M34: 0 | N34: 0 | O34: 0 | P34: 0 | Q34: 0 | R34: 0
A35: 苗栗縣 | B35: 計 | C35: Total | D35: 15 | E35: 6 | F35: 9 | G35: 2 | H35: 1 | I35: 1 | J35: 0 | K35: 0 | L35: 0 | M35: 0 | N35: 0 | O35: 0 | P35: 0 | Q35: 0 | R35: 0 | S35: 0 | T35: 0 | U35: 0 | V35: 0 | W35: 0 | X35: 0 | Y35: 0 | Z35: 0 | AA35: 0 | AB35: 0 | AC35: 0 | AD35: 0 | AE35: 0 | AF35: 0 | AG35: 0 | AH35: 0 | AI35: 0 | AJ35: 0 | AK35: 0 | AL35: 0 | AM35: 0 | AN35: 0 | AO35: 0 | AP35: 0 | AQ35: 0 | AR35: 0 | AS35: 0 | AT35: 0
A36: Miaoli County | B36: 一般 | C36: General | D36: 15 | E36: 6 | F36: 9 | G36: 2 | H36: 1 | I36: 1 | J36: 0 | K36: 0 | L36: 0 | M36: 0 | N36: 0 | O36: 0 | P36: 0 | Q36: 0 | R36: 0
B37: 原住民 | C37: Indigenous | D37: 0 | E37: 0 | F37: 0 | G37: 0 | H37: 0 | I37: 0 | J37: 0 | K37: 0 | L37: 0 | M37: 0 | N37: 0 | O37: 0 | P37: 0 | Q37: 0 | R37: 0
A38: 彰化縣 | B38: 計 | C38: Total | D38: 20 | E38: 12 | F38: 8 | G38: 2 | H38: 0 | I38: 2 | J38: 0 | K38: 0 | L38: 0 | M38: 1 | N38: 1 | O38: 0 | P38: 0 | Q38: 0 | R38: 0 | S38: 1 | T38: 1 | U38: 0 | V38: 0 | W38: 0 | X38: 0 | Y38: 0 | Z38: 1195 | AA38: 484 | AB38: 711 | AC38: 2745 | AD38: 1217 | AE38: 1528 | AF38: 2415 | AG38: 1031 | AH38: 1384 | AI38: 0 | AJ38: 0 | AK38: 0 | AL38: 893 | AM38: 316 | AN38: 577 | AO38: 3249 | AP38: 1239 | AQ38: 2010 | AR38: 375 | AS38: 107 | AT38: 268
A39: Changhua County | B39: 一般 | C39: General | D39: 20 | E39: 12 | F39: 8 | G39: 2 | H39: 0 | I39: 2 | J39: 0 | K39: 0 | L39: 0 | M39: 1 | N39: 1 | O39: 0 | P39: 0 | Q39: 0 | R39: 0
B40: 原住民 | C40: Indigenous | D40: 0 | E40: 0 | F40: 0 | G40: 0 | H40: 0 | I40: 0 | J40: 0 | K40: 0 | L40: 0 | M40: 0 | N40: 0 | O40: 0 | P40: 0 | Q40: 0 | R40: 0
A41: 南投縣 | B41: 計 | C41: Total | D41: 15 | E41: 7 | F41: 8 | G41: 2 | H41: 1 | I41: 1 | J41: 0 | K41: 0 | L41: 0 | M41: 0 | N41: 0 | O41: 0 | P41: 0 | Q41: 0 | R41: 0 | S41: 1 | T41: 0 | U41: 1 | V41: 0 | W41: 1905 | X41: 760 | Y41: 1145 | Z41: 1128 | AA41: 525 | AB41: 603 | AC41: 4164 | AD41: 1501 | AE41: 2663 | AF41: 14 | AG41: 10 | AH41: 4 | AI41: 594 | AJ41: 178 | AK41: 416 | AL41: 0 | AM41: 0 | AN41: 0 | AO41: 870 | AP41: 149 | AQ41: 721 | AR41: 0 | AS41: 0 | AT41: 0
A42: Nantou County | B42: 一般 | C42: General | D42: 13 | E42: 7 | F42: 6 | G42: 2 | H42: 1 | I42: 1 | J42: 0 | K42: 0 | L42: 0 | M42: 0 | N42: 0 | O42: 0 | P42: 0 | Q42: 0 | R42: 0
B43: 原住民 | C43: Indigenous | D43: 2 | E43: 0 | F43: 2 | G43: 0 | H43: 0 | I43: 0 | J43: 0 | K43: 0 | L43: 0 | M43: 0 | N43: 0 | O43: 0 | P43: 0 | Q43: 0 | R43: 0
A44: 雲林縣 | B44: 計 | C44: Total | D44: 15 | E44: 6 | F44: 9 | G44: 2 | H44: 1 | I44: 1 | J44: 0 | K44: 0 | L44: 0 | M44: 0 | N44: 0 | O44: 0 | P44: 0 | Q44: 0 | R44: 0 | S44: 1 | T44: 1 | U44: 0 | V44: 0 | W44: 0 | X44: 0 | Y44: 0 | Z44: 0 | AA44: 0 | AB44: 0 | AC44: 0 | AD44: 0 | AE44: 0 | AF44: 0 | AG44: 0 | AH44: 0 | AI44: 0 | AJ44: 0 | AK44: 0 | AL44: 0 | AM44: 0 | AN44: 0 | AO44: 0 | AP44: 0 | AQ44: 0 | AR44: 45905 | AS44: 20549 | AT44: 25356
A45: Yunlin County | B45: 一般 | C45: General | D45: 13 | E45: 4 | F45: 9 | G45: 2 | H45: 1 | I45: 1 | J45: 0 | K45: 0 | L45: 0 | M45: 0 | N45: 0 | O45: 0 | P45: 0 | Q45: 0 | R45: 0
B46: 原住民 | C46: Indigenous | D46: 2 | E46: 2 | F46: 0 | G46: 0 | H46: 0 | I46: 0 | J46: 0 | K46: 0 | L46: 0 | M46: 0 | N46: 0 | O46: 0 | P46: 0 | Q46: 0 | R46: 0
A47: 嘉義縣 | B47: 計 | C47: Total | D47: 20 | E47: 10 | F47: 10 | G47: 2 | H47: 1 | I47: 1 | J47: 0 | K47: 0 | L47: 0 | M47: 0 | N47: 0 | O47: 0 | P47: 0 | Q47: 0 | R47: 0 | S47: 0 | T47: 0 | U47: 0 | V47: 0 | W47: 0 | X47: 0 | Y47: 0 | Z47: 0 | AA47: 0 | AB47: 0 | AC47: 0 | AD47: 0 | AE47: 0 | AF47: 0 | AG47: 0 | AH47: 0 | AI47: 0 | AJ47: 0 | AK47: 0 | AL47: 0 | AM47: 0 | AN47: 0 | AO47: 0 | AP47: 0 | AQ47: 0 | AR47: 0 | AS47: 0 | AT47: 0
A48: Chiayi County | B48: 一般 | C48: General | D48: 18 | E48: 8 | F48: 10 | G48: 2 | H48: 1 | I48: 1 | J48: 0 | K48: 0 | L48: 0 | M48: 0 | N48: 0 | O48: 0 | P48: 0 | Q48: 0 | R48: 0
B49: 原住民 | C49: Indigenous | D49: 2 | E49: 2 | F49: 0 | G49: 0 | H49: 0 | I49: 0 | J49: 0 | K49: 0 | L49: 0 | M49: 0 | N49: 0 | O49: 0 | P49: 0 | Q49: 0 | R49: 0
A50: 屏東縣 | B50: 計 | C50: Total | D50: 14 | E50: 6 | F50: 8 | G50: 2 | H50: 1 | I50: 1 | J50: 0 | K50: 0 | L50: 0 | M50: 0 | N50: 0 | O50: 0 | P50: 0 | Q50: 0 | R50: 0 | S50: 2 | T50: 1 | U50: 1 | V50: 0 | W50: 3501 | X50: 1675 | Y50: 1826 | Z50: 0 | AA50: 0 | AB50: 0 | AC50: 932 | AD50: 509 | AE50: 423 | AF50: 0 | AG50: 0 | AH50: 0 | AI50: 0 | AJ50: 0 | AK50: 0 | AL50: 3550 | AM50: 1256 | AN50: 2294 | AO50: 0 | AP50: 0 | AQ50: 0 | AR50: 51363 | AS50: 25161 | AT50: 26202
A51: Pingtung County | B51: 一般 | C51: General | D51: 13 | E51: 6 | F51: 7 | G51: 2 | H51: 1 | I51: 1 | J51: 0 | K51: 0 | L51: 0 | M51: 0 | N51: 0 | O51: 0 | P51: 0 | Q51: 0 | R51: 0
B52: 原住民 | C52: Indigenous | D52: 1 | E52: 0 | F52: 1 | G52: 0 | H52: 0 | I52: 0 | J52: 0 | K52: 0 | L52: 0 | M52: 0 | N52: 0 | O52: 0 | P52: 0 | Q52: 0 | R52: 0
A53: 臺東縣 | B53: 計 | C53: Total | D53: 15 | E53: 6 | F53: 9 | G53: 2 | H53: 0 | I53: 2 | J53: 0 | K53: 0 | L53: 0 | M53: 0 | N53: 0 | O53: 0 | P53: 0 | Q53: 0 | R53: 0 | S53: 1 | T53: 0 | U53: 0 | V53: 1 | W53: 0 | X53: 0 | Y53: 0 | Z53: 1814 | AA53: 943 | AB53: 871 | AC53: 0 | AD53: 0 | AE53: 0 | AF53: 263 | AG53: 124 | AH53: 139 | AI53: 0 | AJ53: 0 | AK53: 0 | AL53: 0 | AM53: 0 | AN53: 0 | AO53: 190 | AP53: 113 | AQ53: 77 | AR53: 0 | AS53: 0 | AT53: 0
A54: Taitung County | B54: 一般 | C54: General | D54: 11 | E54: 4 | F54: 7 | G54: 1 | H54: 0 | I54: 1 | J54: 0 | K54: 0 | L54: 0 | M54: 0 | N54: 0 | O54: 0 | P54: 0 | Q54: 0 | R54: 0
B55: 原住民 | C55: Indigenous | D55: 4 | E55: 2 | F55: 2 | G55: 1 | H55: 0 | I55: 1 | J55: 0 | K55: 0 | L55: 0 | M55: 0 | N55: 0 | O55: 0 | P55: 0 | Q55: 0 | R55: 0
A56: 花蓮縣 | B56: 計 | C56: Total | D56: 8 | E56: 1 | F56: 7 | G56: 1 | H56: 0 | I56: 1 | J56: 0 | K56: 0 | L56: 0 | M56: 0 | N56: 0 | O56: 0 | P56: 0 | Q56: 0 | R56: 0 | S56: 1 | T56: 0 | U56: 0 | V56: 1 | W56: 417 | X56: 213 | Y56: 204 | Z56: 189 | AA56: 58 | AB56: 131 | AC56: 469 | AD56: 239 | AE56: 230 | AF56: 384 | AG56: 196 | AH56: 188 | AI56: 48 | AJ56: 21 | AK56: 27 | AL56: 0 | AM56: 0 | AN56: 0 | AO56: 0 | AP56: 0 | AQ56: 0 | AR56: 7706 | AS56: 3930 | AT56: 3776
A57: Hualien County | B57: 一般 | C57: General | D57: 3 | E57: 1 | F57: 2 | G57: 0 | H57: 0 | I57: 0 | J57: 0 | K57: 0 | L57: 0 | M57: 0 | N57: 0 | O57: 0 | P57: 0 | Q57: 0 | R57: 0
B58: 原住民 | C58: Indigenous | D58: 5 | E58: 0 | F58: 5 | G58: 1 | H58: 0 | I58: 1 | J58: 0 | K58: 0 | L58: 0 | M58: 0 | N58: 0 | O58: 0 | P58: 0 | Q58: 0 | R58: 0
A59: 澎湖縣 | B59: 計 | C59: Total | D59: 7 | E59: 2 | F59: 5 | G59: 4 | H59: 0 | I59: 4 | J59: 0 | K59: 0 | L59: 0 | M59: 0 | N59: 0 | O59: 0 | P59: 0 | Q59: 0 | R59: 0 | S59: 1 | T59: 1 | U59: 0 | V59: 0 | W59: 0 | X59: 0 | Y59: 0 | Z59: 0 | AA59: 0 | AB59: 0 | AC59: 0 | AD59: 0 | AE59: 0 | AF59: 0 | AG59: 0 | AH59: 0 | AI59: 0 | AJ59: 0 | AK59: 0 | AL59: 0 | AM59: 0 | AN59: 0 | AO59: 646 | AP59: 199 | AQ59: 447 | AR59: 21563 | AS59: 8896 | AT59: 12667
A60: Penghu County | B60: 一般 | C60: General | D60: 7 | E60: 2 | F60: 5 | G60: 4 | H60: 0 | I60: 4 | J60: 0 | K60: 0 | L60: 0 | M60: 0 | N60: 0 | O60: 0 | P60: 0 | Q60: 0 | R60: 0
B61: 原住民 | C61: Indigenous | D61: 0 | E61: 0 | F61: 0 | G61: 0 | H61: 0 | I61: 0 | J61: 0 | K61: 0 | L61: 0 | M61: 0 | N61: 0 | O61: 0 | P61: 0 | Q61: 0 | R61: 0
A62: 基隆市 | B62: 計 | C62: Total | D62: 36 | E62: 16 | F62: 20 | G62: 3 | H62: 1 | I62: 2 | J62: 1 | K62: 0 | L62: 1 | M62: 3 | N62: 2 | O62: 1 | P62: 0 | Q62: 0 | R62: 0 | S62: 1 | T62: 0 | U62: 0 | V62: 1 | W62: 522 | X62: 307 | Y62: 215 | Z62: 45 | AA62: 18 | AB62: 27 | AC62: 0 | AD62: 0 | AE62: 0 | AF62: 134 | AG62: 70 | AH62: 64 | AI62: 0 | AJ62: 0 | AK62: 0 | AL62: 0 | AM62: 0 | AN62: 0 | AO62: 0 | AP62: 0 | AQ62: 0 | AR62: 0 | AS62: 0 | AT62: 0
A63: Keelung City | B63: 一般 | C63: General | D63: 34 | E63: 14 | F63: 20 | G63: 3 | H63: 1 | I63: 2 | J63: 1 | K63: 0 | L63: 1 | M63: 3 | N63: 2 | O63: 1 | P63: 0 | Q63: 0 | R63: 0
B64: 原住民 | C64: Indigenous | D64: 2 | E64: 2 | F64: 0 | G64: 0 | H64: 0 | I64: 0 | J64: 0 | K64: 0 | L64: 0 | M64: 0 | N64: 0 | O64: 0 | P64: 0 | Q64: 0 | R64: 0
A65: 新竹市 | B65: 計 | C65: Total | D65: 18 | E65: 5 | F65: 13 | G65: 3 | H65: 0 | I65: 3 | J65: 0 | K65: 0 | L65: 0 | M65: 0 | N65: 0 | O65: 0 | P65: 0 | Q65: 0 | R65: 0 | S65: 0 | T65: 0 | U65: 0 | V65: 0 | W65: 0 | X65: 0 | Y65: 0 | Z65: 0 | AA65: 0 | AB65: 0 | AC65: 0 | AD65: 0 | AE65: 0 | AF65: 0 | AG65: 0 | AH65: 0 | AI65: 0 | AJ65: 0 | AK65: 0 | AL65: 0 | AM65: 0 | AN65: 0 | AO65: 0 | AP65: 0 | AQ65: 0 | AR65: 0 | AS65: 0 | AT65: 0
A66: Hsinchu City | B66: 一般 | C66: General | D66: 18 | E66: 5 | F66: 13 | G66: 3 | H66: 0 | I66: 3 | J66: 0 | K66: 0 | L66: 0 | M66: 0 | N66: 0 | O66: 0 | P66: 0 | Q66: 0 | R66: 0
B67: 原住民 | C67: Indigenous | D67: 0 | E67: 0 | F67: 0 | G67: 0 | H67: 0 | I67: 0 | J67: 0 | K67: 0 | L67: 0 | M67: 0 | N67: 0 | O67: 0 | P67: 0 | Q67: 0 | R67: 0
A68: 嘉義市 | B68: 計 | C68: Total | D68: 30 | E68: 12 | F68: 18 | G68: 3 | H68: 1 | I68: 2 | J68: 0 | K68: 0 | L68: 0 | M68: 0 | N68: 0 | O68: 0 | P68: 0 | Q68: 0 | R68: 0 | S68: 2 | T68: 2 | U68: 0 | V68: 0 | W68: 1509 | X68: 352 | Y68: 1157 | Z68: 0 | AA68: 0 | AB68: 0 | AC68: 51058 | AD68: 26551 | AE68: 24507 | AF68: 0 | AG68: 0 | AH68: 0 | AI68: 0 | AJ68: 0 | AK68: 0 | AL68: 0 | AM68: 0 | AN68: 0 | AO68: 103029 | AP68: 36585 | AQ68: 66444 | AR68: 0 | AS68: 0 | AT68: 0
A69: Chiayi City | B69: 一般 | C69: General | D69: 29 | E69: 11 | F69: 18 | G69: 3 | H69: 1 | I69: 2 | J69: 0 | K69: 0 | L69: 0 | M69: 0 | N69: 0 | O69: 0 | P69: 0 | Q69: 0 | R69: 0
B70: 原住民 | C70: Indigenous | D70: 1 | E70: 1 | F70: 0 | G70: 0 | H70: 0 | I70: 0 | J70: 0 | K70: 0 | L70: 0 | M70: 0 | N70: 0 | O70: 0 | P70: 0 | Q70: 0 | R70: 0
A71: 金門縣 | B71: 計 | C71: Total | D71: 12 | E71: 3 | F71: 9 | G71: 3 | H71: 0 | I71: 3 | J71: 0 | K71: 0 | L71: 0 | M71: 0 | N71: 0 | O71: 0 | P71: 0 | Q71: 0 | R71: 0 | S71: 1 | T71: 0 | U71: 0 | V71: 1 | W71: 160 | X71: 112 | Y71: 48 | Z71: 82 | AA71: 24 | AB71: 58 | AC71: 274 | AD71: 126 | AE71: 148 | AF71: 128 | AG71: 53 | AH71: 75 | AI71: 15 | AJ71: 12 | AK71: 3 | AL71: 0 | AM71: 0 | AN71: 0 | AO71: 0 | AP71: 0 | AQ71: 0 | AR71: 0 | AS71: 0 | AT71: 0
A72: Kinmen County | B72: 一般 | C72: General | D72: 11 | E72: 3 | F72: 8 | G72: 3 | H72: 0 | I72: 3 | J72: 0 | K72: 0 | L72: 0 | M72: 0 | N72: 0 | O72: 0 | P72: 0 | Q72: 0 | R72: 0
B73: 原住民 | C73: Indigenous | D73: 1 | E73: 0 | F73: 1 | G73: 0 | H73: 0 | I73: 0 | J73: 0 | K73: 0 | L73: 0 | M73: 0 | N73: 0 | O73: 0 | P73: 0 | Q73: 0 | R73: 0
A74: 連江縣 | B74: 計 | C74: Total | D74: 13 | E74: 5 | F74: 8 | G74: 2 | H74: 1 | I74: 1 | J74: 0 | K74: 0 | L74: 0 | M74: 0 | N74: 0 | O74: 0 | P74: 0 | Q74: 0 | R74: 0 | S74: 0 | T74: 0 | U74: 0 | V74: 0 | W74: 0 | X74: 0 | Y74: 0 | Z74: 0 | AA74: 0 | AB74: 0 | AC74: 0 | AD74: 0 | AE74: 0 | AF74: 0 | AG74: 0 | AH74: 0 | AI74: 0 | AJ74: 0 | AK74: 0 | AL74: 0 | AM74: 0 | AN74: 0 | AO74: 0 | AP74: 0 | AQ74: 0 | AR74: 0 | AS74: 0 | AT74: 0
A75: Lienchiang County | B75: 一般 | C75: General | D75: 13 | E75: 5 | F75: 8 | G75: 2 | H75: 1 | I75: 1 | J75: 0 | K75: 0 | L75: 0 | M75: 0 | N75: 0 | O75: 0 | P75: 0 | Q75: 0 | R75: 0
B76: 原住民 | C76: Indigenous | D76: 0 | E76: 0 | F76: 0 | G76: 0 | H76: 0 | I76: 0 | J76: 0 | K76: 0 | L76: 0 | M76: 0 | N76: 0 | O76: 0 | P76: 0 | Q76: 0 | R76: 0
A77: 資料來源：各直轄市、縣市政府。
A78: Source: County and Government.
A79: 更新日期：2025/3/31
A80: 總計 | B80: 計 | C80: Total | D80: 414 | E80: 187 | F80: 227 | G80: 69 | H80: 33 | I80: 36 | J80: 10 | K80: 5 | L80: 5 | M80: 11 | N80: 4 | O80: 7 | P80: 2 | Q80: 2 | R80: 0 | S80: 41 | T80: 12 | U80: 3 | V80: 26 | W80: 119241 | X80: 64084 | Y80: 55157 | Z80: 130335 | AA80: 55900 | AB80: 74435 | AC80: 275133 | AD80: 135498 | AE80: 139635 | AF80: 16877 | AG80: 8750 | AH80: 8127 | AI80: 1472 | AJ80: 844 | AK80: 628 | AL80: 61160 | AM80: 28169 | AN80: 32991 | AO80: 89798 | AP80: 35788 | AQ80: 54010 | AR80: 410621 | AS80: 160888 | AT80: 249733
A81: Total | B81: 一般 | C81: General | D81: 395 | E81: 178 | F81: 217 | G81: 68 | H81: 32 | I81: 36 | J81: 9 | K81: 5 | L81: 4 | M81: 11 | N81: 4 | O81: 7 | P81: 2 | Q81: 2 | R81: 0
B82: 原住民 | C82: Indigenous | D82: 19 | E82: 9 | F82: 10 | G82: 1 | H82: 1 | I82: 0 | J82: 1 | K82: 0 | L82: 1 | M82: 0 | N82: 0 | O82: 0 | P82: 0 | Q82: 0 | R82: 0
A83: 新北市 | B83: 計 | C83: Total | D83: 34 | E83: 17 | F83: 17 | G83: 6 | H83: 5 | I83: 1 | J83: 7 | K83: 3 | L83: 4 | M83: 8 | N83: 2 | O83: 6 | P83: 2 | Q83: 2 | R83: 0 | S83: 7 | T83: 0 | U83: 0 | V83: 7 | W83: 7804 | X83: 4152 | Y83: 3652 | Z83: 2502 | AA83: 1357 | AB83: 1145 | AC83: 19425 | AD83: 8999 | AE83: 10426 | AF83: 4903 | AG83: 2812 | AH83: 2091 | AI83: 197 | AJ83: 117 | AK83: 80 | AL83: 443 | AM83: 167 | AN83: 276 | AO83: 378 | AP83: 120 | AQ83: 258 | AR83: 28653 | AS83: 11782 | AT83: 16871
A84: New Taipei City | B84: 一般 | C84: General | D84: 33 | E84: 16 | F84: 17 | G84: 6 | H84: 5 | I84: 1 | J84: 6 | K84: 3 | L84: 3 | M84: 8 | N84: 2 | O84: 6 | P84: 2 | Q84: 2 | R84: 0
B85: 原住民 | C85: Indigenous | D85: 1 | E85: 1 | F85: 0 | G85: 0 | H85: 0 | I85: 0 | J85: 1 | K85: 0 | L85: 1 | M85: 0 | N85: 0 | O85: 0 | P85: 0 | Q85: 0 | R85: 0
A86: 臺北市 | B86: 計 | C86: Total | D86: 20 | E86: 7 | F86: 13 | G86: 6 | H86: 2 | I86: 4 | J86: 0 | K86: 0 | L86: 0 | M86: 2 | N86: 1 | O86: 1 | P86: 0 | Q86: 0 | R86: 0 | S86: 9 | T86: 0 | U86: 0 | V86: 9 | W86: 83214 | X86: 44759 | Y86: 38455 | Z86: 24094 | AA86: 12170 | AB86: 11924 | AC86: 59634 | AD86: 26667 | AE86: 32967 | AF86: 3994 | AG86: 2042 | AH86: 1952 | AI86: 108 | AJ86: 60 | AK86: 48 | AL86: 652 | AM86: 245 | AN86: 407 | AO86: 1101 | AP86: 447 | AQ86: 654 | AR86: 45733 | AS86: 24755 | AT86: 20978 | AU86: =SUM(W86,Z86,AC86,AF86,AI86,AL86,AO86,AR86) -> 218530
A87: Taipei City | B87: 一般 | C87: General | D87: 19 | E87: 7 | F87: 12 | G87: 6 | H87: 2 | I87: 4 | J87: 0 | K87: 0 | L87: 0 | M87: 2 | N87: 1 | O87: 1 | P87: 0 | Q87: 0 | R87: 0
B88: 原住民 | C88: Indigenous | D88: 1 | E88: 0 | F88: 1 | G88: 0 | H88: 0 | I88: 0 | J88: 0 | K88: 0 | L88: 0 | M88: 0 | N88: 0 | O88: 0 | P88: 0 | Q88: 0 | R88: 0
A89: 桃園市 | B89: 計 | C89: Total | D89: 25 | E89: 11 | F89: 14 | G89: 6 | H89: 3 | I89: 3 | J89: 0 | K89: 0 | L89: 0 | M89: 0 | N89: 0 | O89: 0 | P89: 0 | Q89: 0 | R89: 0 | S89: 3 | T89: 0 | U89: 0 | V89: 3 | W89: 967 | X89: 611 | Y89: 356 | Z89: 673 | AA89: 379 | AB89: 294 | AC89: 301 | AD89: 69 | AE89: 232 | AF89: 0 | AG89: 0 | AH89: 0 | AI89: 19 | AJ89: 11 | AK89: 8 | AL89: 57 | AM89: 11 | AN89: 46 | AO89: 748 | AP89: 265 | AQ89: 483 | AR89: 0 | AS89: 0 | AT89: 0
A90: Taoyuan City | B90: 一般 | C90: General | D90: 25 | E90: 11 | F90: 14 | G90: 6 | H90: 3 | I90: 3 | J90: 0 | K90: 0 | L90: 0 | M90: 0 | N90: 0 | O90: 0 | P90: 0 | Q90: 0 | R90: 0
B91: 原住民 | C91: Indigenous | D91: 0 | E91: 0 | F91: 0 | G91: 0 | H91: 0 | I91: 0 | J91: 0 | K91: 0 | L91: 0 | M91: 0 | N91: 0 | O91: 0 | P91: 0 | Q91: 0 | R91: 0
A92: 臺中市 | B92: 計 | C92: Total | D92: 21 | E92: 11 | F92: 10 | G92: 4 | H92: 2 | I92: 2 | J92: 0 | K92: 0 | L92: 0 | M92: 0 | N92: 0 | O92: 0 | P92: 0 | Q92: 0 | R92: 0 | S92: 2 | T92: 2 | U92: 0 | V92: 0 | W92: 0 | X92: 0 | Y92: 0 | Z92: 88523 | AA92: 35409 | AB92: 53114 | AC92: 0 | AD92: 0 | AE92: 0 | AF92: 0 | AG92: 0 | AH92: 0 | AI92: 0 | AJ92: 0 | AK92: 0 | AL92: 0 | AM92: 0 | AN92: 0 | AO92: 29382 | AP92: 12463 | AQ92: 16919 | AR92: 0 | AS92: 0 | AT92: 0
A93: Taichung City | B93: 一般 | C93: General | D93: 20 | E93: 11 | F93: 9 | G93: 4 | H93: 2 | I93: 2 | J93: 0 | K93: 0 | L93: 0 | M93: 0 | N93: 0 | O93: 0 | P93: 0 | Q93: 0 | R93: 0
B94: 原住民 | C94: Indigenous | D94: 1 | E94: 0 | F94: 1 | G94: 0 | H94: 0 | I94: 0 | J94: 0 | K94: 0 | L94: 0 | M94: 0 | N94: 0 | O94: 0 | P94: 0 | Q94: 0 | R94: 0
A95: 臺南市 | B95: 計 | C95: Total | D95: 18 | E95: 9 | F95: 9 | G95: 5 | H95: 3 | I95: 2 | J95: 0 | K95: 0 | L95: 0 | M95: 0 | N95: 0 | O95: 0 | P95: 0 | Q95: 0 | R95: 0 | S95: 3 | T95: 1 | U95: 1 | V95: 1 | W95: 53 | X95: 31 | Y95: 22 | Z95: 1259 | AA95: 276 | AB95: 983 | AC95: 2732 | AD95: 853 | AE95: 1879 | AF95: 740 | AG95: 329 | AH95: 411 | AI95: 78 | AJ95: 46 | AK95: 32 | AL95: 2383 | AM95: 391 | AN95: 1992 | AO95: 3321 | AP95: 1129 | AQ95: 2192 | AR95: 132514 | AS95: 50001 | AT95: 82513
A96: Tainan City | B96: 一般 | C96: General | D96: 17 | E96: 8 | F96: 9 | G96: 5 | H96: 3 | I96: 2 | J96: 0 | K96: 0 | L96: 0 | M96: 0 | N96: 0 | O96: 0 | P96: 0 | Q96: 0 | R96: 0
B97: 原住民 | C97: Indigenous | D97: 1 | E97: 1 | F97: 0 | G97: 0 | H97: 0 | I97: 0 | J97: 0 | K97: 0 | L97: 0 | M97: 0 | N97: 0 | O97: 0 | P97: 0 | Q97: 0 | R97: 0
A98: 高雄市 | B98: 計 | C98: Total | D98: 33 | E98: 17 | F98: 16 | G98: 2 | H98: 1 | I98: 1 | J98: 0 | K98: 0 | L98: 0 | M98: 0 | N98: 0 | O98: 0 | P98: 0 | Q98: 0 | R98: 0 | S98: 2 | T98: 2 | U98: 0 | V98: 0 | W98: 9200 | X98: 6196 | Y98: 3004 | Z98: 345 | AA98: 256 | AB98: 89 | AC98: 4126 | AD98: 1644 | AE98: 2482 | AF98: 0 | AG98: 0 | AH98: 0 | AI98: 291 | AJ98: 171 | AK98: 120 | AL98: 56204 | AM98: 26805 | AN98: 29399 | AO98: 15210 | AP98: 6009 | AQ98: 9201 | AR98: 29163 | AS98: 9578 | AT98: 19585
A99: Kaohsiung City | B99: 一般 | C99: General | D99: 32 | E99: 17 | F99: 15 | G99: 2 | H99: 1 | I99: 1 | J99: 0 | K99: 0 | L99: 0 | M99: 0 | N99: 0 | O99: 0 | P99: 0 | Q99: 0 | R99: 0
B100: 原住民 | C100: Indigenous | D100: 1 | E100: 0 | F100: 1 | G100: 0 | H100: 0 | I100: 0 | J100: 0 | K100: 0 | L100: 0 | M100: 0 | N100: 0 | O100: 0 | P100: 0 | Q100: 0 | R100: 0
...

Sheet 112
A1: 兒童及少年福利服務 Child and Youth Welfare Services
A2: 民國112年, 2023 | D2: =IF(D9=SUM(D12,D15,D21,D24,D27,D30,D18,D33,D36,D39,D42,D45,D48,D51,D54,D57,D60,D63,D66,D69,D72,D75),"","*") | E2: =IF(E9=SUM(E12,E15,E21,E24,E27,E30,E18,E33,E36,E39,E42,E45,E48,E51,E54,E57,E60,E63,E66,E69,E72,E75),"","*") | F2: =IF(F9=SUM(F12,F15,F21,F24,F27,F30,F18,F33,F36,F39,F42,F45,F48,F51,F54,F57,F60,F63,F66,F69,F72,F75),"","*") | J2: =IF(J9=SUM(J12,J15,J21,J24,J27,J30,J18,J33,J36,J39,J42,J45,J48,J51,J54,J57,J60,J63,J66,J69,J72,J75),"","*") | K2: =IF(K9=SUM(K12,K15,K21,K24,K27,K30,K18,K33,K36,K39,K42,K45,K48,K51,K54,K57,K60,K63,K66,K69,K72,K75),"","*") | L2: =IF(L9=SUM(L12,L15,L21,L24,L27,L30,L18,L33,L36,L39,L42,L45,L48,L51,L54,L57,L60,L63,L66,L69,L72,L75),"","*") | M2: =IF(M9=SUM(M12,M15,M21,M24,M27,M30,M18,M33,M36,M39,M42,M45,M48,M51,M54,M57,M60,M63,M66,M69,M72,M75),"","*") | N2: =IF(N9=SUM(N12,N15,N21,N24,N27,N30,N18,N33,N36,N39,N42,N45,N48,N51,N54,N57,N60,N63,N66,N69,N72,N75),"","*") | O2: =IF(O9=SUM(O12,O15,O21,O24,O27,O30,O18,O33,O36,O39,O42,O45,O48,O51,O54,O57,O60,O63,O66,O69,O72,O75),"","*") | P2: =IF(P9=SUM(P12,P15,P21,P24,P27,P30,P18,P33,P36,P39,P42,P45,P48,P51,P54,P57,P60,P63,P66,P69,P72,P75),"","*") | Q2: =IF(Q9=SUM(Q12,Q15,Q21,Q24,Q27,Q30,Q18,Q33,Q36,Q39,Q42,Q45,Q48,Q51,Q54,Q57,Q60,Q63,Q66,Q69,Q72,Q75),"","*") | R2: =IF(R9=SUM(R12,R15,R21,R24,R27,R30,R18,R33,R36,R39,R42,R45,R48,R51,R54,R57,R60,R63,R66,R69,R72,R75),"","*")
A3: 單位：人、人次、所 | D3: =IF(D8=SUM(D11,D14,D17,D20,D23,D26,D29,D32,D35,D38,D41,D44,D47,D50,D53,D56,D59,D62,D65,D68,D71,D74),"","*") | E3: =IF(E8=SUM(E11,E14,E17,E20,E23,E26,E29,E32,E35,E38,E41,E44,E47,E50,E53,E56,E59,E62,E65,E68,E71,E74),"","*") | F3: =IF(F8=SUM(F11,F14,F17,F20,F23,F26,F29,F32,F35,F38,F41,F44,F47,F50,F53,F56,F59,F62,F65,F68,F71,F74),"","*") | G3: =IF(G8=SUM(G11,G14,G17,G20,G23,G26,G29,G32,G35,G38,G41,G44,G47,G50,G53,G56,G59,G62,G65,G68,G71,G74),"","*") | H3: =IF(H8=SUM(H11,H14,H17,H20,H23,H26,H29,H32,H35,H38,H41,H44,H47,H50,H53,H56,H59,H62,H65,H68,H71,H74),"","*") | I3: =IF(I8=SUM(I11,I14,I17,I20,I23,I26,I29,I32,I35,I38,I41,I44,I47,I50,I53,I56,I59,I62,I65,I68,I71,I74),"","*") | J3: =IF(J8=SUM(J11,J14,J17,J20,J23,J26,J29,J32,J35,J38,J41,J44,J47,J50,J53,J56,J59,J62,J65,J68,J71,J74),"","*") | K3: =IF(K8=SUM(K11,K14,K17,K20,K23,K26,K29,K32,K35,K38,K41,K44,K47,K50,K53,K56,K59,K62,K65,K68,K71,K74),"","*") | ... AT3: =IF(AT8=SUM(AT11,AT14,AT17,AT20,AT23,AT26,AT29,AT32,AT35,AT38,AT41,AT44,AT47,AT50,AT53,AT56,AT59,AT62,AT65,AT68,AT71,AT74),"","*")
A4: 區域及特殊族群別 Locality & Ethnos | D4: 兒童及少年代表人數 Number of child and youth representatives | G4: 兒童及少年代表為委員人數 | J4: 無依兒童及少年安置及處理人數 Number of helpless children and youth receiving placement and other services | S4: 兒童及少年福利服務中心Welfare Service Centers
J5: 尋獲父母或監護人者 Those whose parents or guardians are found | M5: 逾法定期限未尋獲父母或監護人者 Those whose parents or guardians are not found within the statutory period | P5: 法定期限內尚在協尋父母或監護人者 Those whose parents or guardians are being searched for within the statutory period | S5: 兒童及少年福利服務中心數 Welfare Service Centers | W5: 個案服務人次 Case Service | Z5: 團體服務人次 Group Service | AC5: 社區服務人次 Community Service | AF5: 外展服務人次 Outreach Service | AI5: 轉介服務人次 Referral Service | AL5: 親職教育人次 Parenting Education | AO5: 親子活動人次 Family Activities | AR5: 其他福利服務人次 other Service
D6: 計 | E6: 男 | F6: 女 | G6: 計 | H6: 男 | I6: 女 | J6: 計 | K6: 男 | L6: 女 | M6: 計 | N6: 男 | O6: 女 | P6: 計 | Q6: 男 | R6: 女 | S6: 計 | T6: 公立 | U6: 私立 | V6: 公設民營 | W6: 計 | X6: 男 | Y6: 女 | Z6: 計 | AA6: 男 | AB6: 女 | AC6: 計 | AD6: 男 | AE6: 女 | AF6: 計 | AG6: 男 | AH6: 女 | AI6: 計 | AJ6: 男 | AK6: 女 | AL6: 計 | AM6: 男 | AN6: 女 | AO6: 計 | AP6: 男 | AQ6: 女 | AR6: 計 | AS6: 男 | AT6: 女
D7: Total | E7: Male | F7: Female | G7: Total | H7: Male | I7: Female | J7: Total | K7: Male | L7: Female | M7: Total | N7: Male | O7: Female | P7: Total | Q7: Male | R7: Female | S7: Total | T7: Public | U7: Private | V7: Run by Private | W7: Total | X7: Male | Y7: Female | Z7: Total | AA7: Male | AB7: Female | AC7: Total | AD7: Male | AE7: Female | AF7: Total | AG7: Male | AH7: Female | AI7: Total | AJ7: Male | AK7: Female | AL7: Total | AM7: Male | AN7: Female | AO7: Total | AP7: Male | AQ7: Female | AR7: Total | AS7: Male | AT7: Female
A8: 總計 | B8: 計 | C8: Total | D8: 414 | E8: 187 | F8: 227 | G8: 69 | H8: 33 | I8: 36 | J8: 10 | K8: 5 | L8: 5 | M8: 11 | N8: 4 | O8: 7 | P8: 2 | Q8: 2 | R8: 0 | S8: 41 | T8: 12 | U8: 3 | V8: 26 | W8: 61861 | X8: 32727 | Y8: 29134 | Z8: 110663 | AA8: 45691 | AB8: 64972 | AC8: 275735 | AD8: 136671 | AE8: 139064 | AF8: 16877 | AG8: 8750 | AH8: 8127 | AI8: 1472 | AJ8: 844 | AK8: 628 | AL8: 61940 | AM8: 28381 | AN8: 33559 | AO8: 89633 | AP8: 35725 | AQ8: 53908 | AR8: 406300 | AS8: 158399 | AT8: 247901
A9: Total | B9: 一般 | C9: General | D9: 395 | E9: 178 | F9: 217 | G9: 68 | H9: 32 | I9: 36 | J9: 9 | K9: 5 | L9: 4 | M9: 11 | N9: 4 | O9: 7 | P9: 2 | Q9: 2 | R9: 0
B10: 原住民 | C10: Indigenous | D10: 19 | E10: 9 | F10: 10 | G10: 1 | H10: 1 | I10: 0 | J10: 1 | K10: 0 | L10: 1 | M10: 0 | N10: 0 | O10: 0 | P10: 0 | Q10: 0 | R10: 0
A11: 新北市 | B11: 計 | C11: Total | D11: 34 | E11: 17 | F11: 17 | G11: 6 | H11: 5 | I11: 1 | J11: 7 | K11: 3 | L11: 4 | M11: 8 | N11: 2 | O11: 6 | P11: 2 | Q11: 2 | R11: 0 | S11: 7 | T11: 0 | U11: 0 | V11: 7 | W11: 7804 | X11: 4152 | Y11: 3652 | Z11: 2502 | AA11: 1357 | AB11: 1145 | AC11: 19425 | AD11: 8999 | AE11: 10426 | AF11: 4903 | AG11: 2812 | AH11: 2091 | AI11: 197 | AJ11: 117 | AK11: 80 | AL11: 443 | AM11: 167 | AN11: 276 | AO11: 378 | AP11: 120 | AQ11: 258 | AR11: 28653 | AS11: 11782 | AT11: 16871
A12: New Taipei City | B12: 一般 | C12: General | D12: 33 | E12: 16 | F12: 17 | G12: 6 | H12: 5 | I12: 1 | J12: 6 | K12: 3 | L12: 3 | M12: 8 | N12: 2 | O12: 6 | P12: 2 | Q12: 2 | R12: 0
B13: 原住民 | C13: Indigenous | D13: 1 | E13: 1 | F13: 0 | G13: 0 | H13: 0 | I13: 0 | J13: 1 | K13: 0 | L13: 1 | M13: 0 | N13: 0 | O13: 0 | P13: 0 | Q13: 0 | R13: 0
A14: 臺北市 | B14: 計 | C14: Total | D14: 20 | E14: 7 | F14: 13 | G14: 6 | H14: 2 | I14: 4 | J14: 0 | K14: 0 | L14: 0 | M14: 2 | N14: 1 | O14: 1 | P14: 0 | Q14: 0 | R14: 0 | S14: 9 | T14: 0 | U14: 0 | V14: 9 | W14: 25834 | X14: 13402 | Y14: 12432 | Z14: 4422 | AA14: 1961 | AB14: 2461 | AC14: 60236 | AD14: 27840 | AE14: 32396 | AF14: 3994 | AG14: 2042 | AH14: 1952 | AI14: 108 | AJ14: 60 | AK14: 48 | AL14: 1432 | AM14: 457 | AN14: 975 | AO14: 936 | AP14: 384 | AQ14: 552 | AR14: 41412 | AS14: 22266 | AT14: 19146
A15: Taipei City | B15: 一般 | C15: General | D15: 19 | E15: 7 | F15: 12 | G15: 6 | H15: 2 | I15: 4 | J15: 0 | K15: 0 | L15: 0 | M15: 2 | N15: 1 | O15: 1 | P15: 0 | Q15: 0 | R15: 0
B16: 原住民 | C16: Indigenous | D16: 1 | E16: 0 | F16: 1 | G16: 0 | H16: 0 | I16: 0 | J16: 0 | K16: 0 | L16: 0 | M16: 0 | N16: 0 | O16: 0 | P16: 0 | Q16: 0 | R16: 0
A17: 桃園市 | B17: 計 | C17: Total | D17: 25 | E17: 11 | F17: 14 | G17: 6 | H17: 3 | I17: 3 | J17: 0 | K17: 0 | L17: 0 | M17: 0 | N17: 0 | O17: 0 | P17: 0 | Q17: 0 | R17: 0 | S17: 3 | T17: 0 | U17: 0 | V17: 3 | W17: 967 | X17: 611 | Y17: 356 | Z17: 673 | AA17: 379 | AB17: 294 | AC17: 301 | AD17: 69 | AE17: 232 | AF17: 0 | AG17: 0 | AH17: 0 | AI17: 19 | AJ17: 11 | AK17: 8 | AL17: 57 | AM17: 11 | AN17: 46 | AO17: 748 | AP17: 265 | AQ17: 483 | AR17: 0 | AS17: 0 | AT17: 0
A18: Taoyuan City | B18: 一般 | C18: General | D18: 25 | E18: 11 | F18: 14 | G18: 6 | H18: 3 | I18: 3 | J18: 0 | K18: 0 | L18: 0 | M18: 0 | N18: 0 | O18: 0 | P18: 0 | Q18: 0 | R18: 0
B19: 原住民 | C19: Indigenous | D19: 0 | E19: 0 | F19: 0 | G19: 0 | H19: 0 | I19: 0 | J19: 0 | K19: 0 | L19: 0 | M19: 0 | N19: 0 | O19: 0 | P19: 0 | Q19: 0 | R19: 0
A20: 臺中市 | B20: 計 | C20: Indigenous | D20: 21 | E20: 11 | F20: 10 | G20: 4 | H20: 2 | I20: 2 | J20: 0 | K20: 0 | L20: 0 | M20: 0 | N20: 0 | O20: 0 | P20: 0 | Q20: 0 | R20: 0 | S20: 2 | T20: 2 | U20: 0 | V20: 0 | W20: 0 | X20: 0 | Y20: 0 | Z20: 88523 | AA20: 35409 | AB20: 53114 | AC20: 0 | AD20: 0 | AE20: 0 | AF20: 0 | AG20: 0 | AH20: 0 | AI20: 0 | AJ20: 0 | AK20: 0 | AL20: 0 | AM20: 0 | AN20: 0 | AO20: 29382 | AP20: 12463 | AQ20: 16919 | AR20: 0 | AS20: 0 | AT20: 0
A21: Taichung City | B21: 一般 | C21: General | D21: 20 | E21: 11 | F21: 9 | G21: 4 | H21: 2 | I21: 2 | J21: 0 | K21: 0 | L21: 0 | M21: 0 | N21: 0 | O21: 0 | P21: 0 | Q21: 0 | R21: 0
B22: 原住民 | C22: Indigenous | D22: 1 | E22: 0 | F22: 1 | G22: 0 | H22: 0 | I22: 0 | J22: 0 | K22: 0 | L22: 0 | M22: 0 | N22: 0 | O22: 0 | P22: 0 | Q22: 0 | R22: 0
A23: 臺南市 | B23: 計 | C23: Total | D23: 18 | E23: 9 | F23: 9 | G23: 5 | H23: 3 | I23: 2 | J23: 0 | K23: 0 | L23: 0 | M23: 0 | N23: 0 | O23: 0 | P23: 0 | Q23: 0 | R23: 0 | S23: 3 | T23: 1 | U23: 1 | V23: 1 | W23: 53 | X23: 31 | Y23: 22 | Z23: 1259 | AA23: 276 | AB23: 983 | AC23: 2732 | AD23: 853 | AE23: 1879 | AF23: 740 | AG23: 329 | AH23: 411 | AI23: 78 | AJ23: 46 | AK23: 32 | AL23: 2383 | AM23: 391 | AN23: 1992 | AO23: 3321 | AP23: 1129 | AQ23: 2192 | AR23: 132514 | AS23: 50001 | AT23: 82513
A24: Tainan City | B24: 一般 | C24: General | D24: 17 | E24: 8 | F24: 9 | G24: 5 | H24: 3 | I24: 2 | J24: 0 | K24: 0 | L24: 0 | M24: 0 | N24: 0 | O24: 0 | P24: 0 | Q24: 0 | R24: 0
B25: 原住民 | C25: Indigenous | D25: 1 | E25: 1 | F25: 0 | G25: 0 | H25: 0 | I25: 0 | J25: 0 | K25: 0 | L25: 0 | M25: 0 | N25: 0 | O25: 0 | P25: 0 | Q25: 0 | R25: 0
A26: 高雄市 | B26: 計 | C26: Total | D26: 33 | E26: 17 | F26: 16 | G26: 2 | H26: 1 | I26: 1 | J26: 0 | K26: 0 | L26: 0 | M26: 0 | N26: 0 | O26: 0 | P26: 0 | Q26: 0 | R26: 0 | S26: 2 | T26: 2 | U26: 0 | V26: 0 | W26: 9200 | X26: 6196 | Y26: 3004 | Z26: 345 | AA26: 256 | AB26: 89 | AC26: 4126 | AD26: 1644 | AE26: 2482 | AF26: 0 | AG26: 0 | AH26: 0 | AI26: 291 | AJ26: 171 | AK26: 120 | AL26: 56204 | AM26: 26805 | AN26: 29399 | AO26: 15210 | AP26: 6009 | AQ26: 9201 | AR26: 29163 | AS26: 9578 | AT26: 19585
A27: Kaohsiung City | B27: 一般 | C27: General | D27: 32 | E27: 17 | F27: 15 | G27: 2 | H27: 1 | I27: 1 | J27: 0 | K27: 0 | L27: 0 | M27: 0 | N27: 0 | O27: 0 | P27: 0 | Q27: 0 | R27: 0
B28: 原住民 | C28: Indigenous | D28: 1 | E28: 0 | F28: 1 | G28: 0 | H28: 0 | I28: 0 | J28: 0 | K28: 0 | L28: 0 | M28: 0 | N28: 0 | O28: 0 | P28: 0 | Q28: 0 | R28: 0
A29: 宜蘭縣 | B29: 計 | C29: Total | D29: 11 | E29: 3 | F29: 8 | G29: 2 | H29: 1 | I29: 1 | J29: 1 | K29: 1 | L29: 0 | M29: 0 | N29: 0 | O29: 0 | P29: 0 | Q29: 0 | R29: 0 | S29: 1 | T29: 0 | U29: 1 | V29: 0 | W29: 5903 | X29: 2328 | Y29: 3575 | Z29: 74 | AA29: 21 | AB29: 53 | AC29: 130624 | AD29: 65311 | AE29: 65313 | AF29: 1419 | AG29: 647 | AH29: 772 | AI29: 98 | AJ29: 47 | AK29: 51 | AL29: 731 | AM29: 345 | AN29: 386 | AO29: 266 | AP29: 112 | AQ29: 154 | AR29: 0 | AS29: 0 | AT29: 0
A30: Yilan County | B30: 一般 | C30: General | D30: 11 | E30: 3 | F30: 8 | G30: 2 | H30: 1 | I30: 1 | J30: 1 | K30: 1 | L30: 0 | M30: 0 | N30: 0 | O30: 0 | P30: 0 | Q30: 0 | R30: 0
B31: 原住民 | C31: Indigenous | D31: 0 | E31: 0 | F31: 0 | G31: 0 | H31: 0 | I31: 0 | J31: 0 | K31: 0 | L31: 0 | M31: 0 | N31: 0 | O31: 0 | P31: 0 | Q31: 0 | R31: 0
A32: 新竹縣 | B32: 計 | C32: Total | D32: 5 | E32: 3 | F32: 2 | G32: 2 | H32: 0 | I32: 2 | J32: 2 | K32: 1 | L32: 1 | M32: 0 | N32: 0 | O32: 0 | P32: 0 | Q32: 0 | R32: 0 | S32: 1 | T32: 0 | U32: 0 | V32: 1 | W32: 0 | X32: 0 | Y32: 0 | Z32: 2971 | AA32: 1180 | AB32: 1791 | AC32: 0 | AD32: 0 | AE32: 0 | AF32: 0 | AG32: 0 | AH32: 0 | AI32: 0 | AJ32: 0 | AK32: 0 | AL32: 0 | AM32: 0 | AN32: 0 | AO32: 0 | AP32: 0 | AQ32: 0 | AR32: 0 | AS32: 0 | AT32: 0
A33: Hsinchu County | B33: 一般 | C33: General | D33: 4 | E33: 2 | F33: 2 | G33: 2 | H33: 0 | I33: 2 | J33: 2 | K33: 1 | L33: 1 | M33: 0 | N33: 0 | O33: 0 | P33: 0 | Q33: 0 | R33: 0
B34: 原住民 | C34: Indigenous | D34: 1 | E34: 1 | F34: 0 | G34: 0 | H34: 0 | I34: 0 | J34: 0 | K34: 0 | L34: 0 | M34: 0 | N34: 0 | O34: 0 | P34: 0 | Q34: 0 | R34: 0
A35: 苗栗縣 | B35: 計 | C35: Total | D35: 15 | E35: 7 | F35: 8 | G35: 5 | H35: 3 | I35: 2 | J35: 0 | K35: 0 | L35: 0 | M35: 0 | N35: 0 | O35: 0 | P35: 0 | Q35: 0 | R35: 0 | S35: 1 | T35: 1 | U35: 0 | V35: 0 | W35: 158 | X35: 71 | Y35: 87 | Z35: 297 | AA35: 136 | AB35: 161 | AC35: 0 | AD35: 0 | AE35: 0 | AF35: 0 | AG35: 0 | AH35: 0 | AI35: 241 | AJ35: 123 | AK35: 118 | AL35: 386 | AM35: 133 | AN35: 253 | AO35: 1080 | AP35: 378 | AQ35: 702 | AR35: 781 | AS35: 343 | AT35: 438
A36: Miaoli County | B36: 一般 | C36: General | D36: 15 | E36: 7 | F36: 8 | G36: 5 | H36: 3 | I36: 2 | J36: 0 | K36: 0 | L36: 0 | M36: 0 | N36: 0 | O36: 0 | P36: 0 | Q36: 0 | R36: 0
B37: 原住民 | C37: Indigenous | D37: 0 | E37: 0 | F37: 0 | G37: 0 | H37: 0 | I37: 0 | J37: 0 | K37: 0 | L37: 0 | M37: 0 | N37: 0 | O37: 0 | P37: 0 | Q37: 0 | R37: 0
A38: 彰化縣 | B38: 計 | C38: Total | D38: 22 | E38: 12 | F38: 10 | G38: 2 | H38: 1 | I38: 1 | J38: 0 | K38: 0 | L38: 0 | M38: 1 | N38: 1 | O38: 0 | P38: 0 | Q38: 0 | R38: 0 | S38: 1 | T38: 1 | U38: 0 | V38: 0 | W38: 86 | X38: 54 | Y38: 32 | Z38: 6500 | AA38: 3000 | AB38: 3500 | AC38: 1640 | AD38: 800 | AE38: 840 | AF38: 2800 | AG38: 1200 | AH38: 1600 | AI38: 4 | AJ38: 2 | AK38: 2 | AL38: 50 | AM38: 20 | AN38: 30 | AO38: 3400 | AP38: 1400 | AQ38: 2000 | AR38: 0 | AS38: 0 | AT38: 0
A39: Changhua County | B39: 一般 | C39: General | D39: 21 | E39: 12 | F39: 9 | G39: 2 | H39: 1 | I39: 1 | J39: 0 | K39: 0 | L39: 0 | M39: 1 | N39: 1 | O39: 0 | P39: 0 | Q39: 0 | R39: 0
B40: 原住民 | C40: Indigenous | D40: 1 | E40: 0 | F40: 1 | G40: 0 | H40: 0 | I40: 0 | J40: 0 | K40: 0 | L40: 0 | M40: 0 | N40: 0 | O40: 0 | P40: 0 | Q40: 0 | R40: 0
A41: 南投縣 | B41: 計 | C41: Total | D41: 19 | E41: 11 | F41: 8 | G41: 2 | H41: 1 | I41: 1 | J41: 0 | K41: 0 | L41: 0 | M41: 0 | N41: 0 | O41: 0 | P41: 0 | Q41: 0 | R41: 0 | S41: 1 | T41: 0 | U41: 0 | V41: 1 | W41: 4023 | X41: 1824 | Y41: 2199 | Z41: 2256 | AA41: 1332 | AB41: 924 | AC41: 1334 | AD41: 764 | AE41: 570 | AF41: 360 | AG41: 280 | AH41: 80 | AI41: 30 | AJ41: 16 | AK41: 14 | AL41: 180 | AM41: 24 | AN41: 156 | AO41: 240 | AP41: 32 | AQ41: 208 | AR41: 519 | AS41: 380 | AT41: 139
A42: Nantou County | B42: 一般 | C42: General | D42: 19 | E42: 11 | F42: 8 | G42: 2 | H42: 1 | I42: 1 | J42: 0 | K42: 0 | L42: 0 | M42: 0 | N42: 0 | O42: 0 | P42: 0 | Q42: 0 | R42: 0
B43: 原住民 | C43: Indigenous | D43: 0 | E43: 0 | F43: 0 | G43: 0 | H43: 0 | I43: 0 | J43: 0 | K43: 0 | L43: 0 | M43: 0 | N43: 0 | O43: 0 | P43: 0 | Q43: 0 | R43: 0
A44: 雲林縣 | B44: 計 | C44: Total | D44: 15 | E44: 7 | F44: 8 | G44: 2 | H44: 1 | I44: 1 | J44: 0 | K44: 0 | L44: 0 | M44: 0 | N44: 0 | O44: 0 | P44: 0 | Q44: 0 | R44: 0 | S44: 1 | T44: 1 | U44: 0 | V44: 0 | W44: 0 | X44: 0 | Y44: 0 | Z44: 0 | AA44: 0 | AB44: 0 | AC44: 0 | AD44: 0 | AE44: 0 | AF44: 0 | AG44: 0 | AH44: 0 | AI44: 0 | AJ44: 0 | AK44: 0 | AL44: 0 | AM44: 0 | AN44: 0 | AO44: 3887 | AP44: 1315 | AQ44: 2572 | AR44: 41535 | AS44: 18027 | AT44: 23508
A45: Yunlin County | B45: 一般 | C45: General | D45: 14 | E45: 7 | F45: 7 | G45: 2 | H45: 1 | I45: 1 | J45: 0 | K45: 0 | L45: 0 | M45: 0 | N45: 0 | O45: 0 | P45: 0 | Q45: 0 | R45: 0
B46: 原住民 | C46: Indigenous | D46: 1 | E46: 0 | F46: 1 | G46: 0 | H46: 0 | I46: 0 | J46: 0 | K46: 0 | L46: 0 | M46: 0 | N46: 0 | O46: 0 | P46: 0 | Q46: 0 | R46: 0
A47: 嘉義縣 | B47: 計 | C47: Total | D47: 19 | E47: 7 | F47: 12 | G47: 2 | H47: 1 | I47: 1 | J47: 0 | K47: 0 | L47: 0 | M47: 0 | N47: 0 | O47: 0 | P47: 0 | Q47: 0 | R47: 0 | S47: 0 | T47: 0 | U47: 0 | V47: 0 | W47: 0 | X47: 0 | Y47: 0 | Z47: 0 | AA47: 0 | AB47: 0 | AC47: 0 | AD47: 0 | AE47: 0 | AF47: 0 | AG47: 0 | AH47: 0 | AI47: 0 | AJ47: 0 | AK47: 0 | AL47: 0 | AM47: 0 | AN47: 0 | AO47: 0 | AP47: 0 | AQ47: 0 | AR47: 0 | AS47: 0 | AT47: 0
A48: Chiayi County | B48: 一般 | C48: General | D48: 19 | E48: 7 | F48: 12 | G48: 2 | H48: 1 | I48: 1 | J48: 0 | K48: 0 | L48: 0 | M48: 0 | N48: 0 | O48: 0 | P48: 0 | Q48: 0 | R48: 0
B49: 原住民 | C49: Indigenous | D49: 0 | E49: 0 | F49: 0 | G49: 0 | H49: 0 | I49: 0 | J49: 0 | K49: 0 | L49: 0 | M49: 0 | N49: 0 | O49: 0 | P49: 0 | Q49: 0 | R49: 0
A50: 屏東縣 | B50: 計 | C50: Total | D50: 15 | E50: 5 | F50: 10 | G50: 2 | H50: 0 | I50: 2 | J50: 0 | K50: 0 | L50: 0 | M50: 0 | N50: 0 | O50: 0 | P50: 0 | Q50: 0 | R50: 0 | S50: 2 | T50: 1 | U50: 1 | V50: 0 | W50: 3450 | X50: 1650 | Y50: 1800 | Z50: 0 | AA50: 0 | AB50: 0 | AC50: 880 | AD50: 484 | AE50: 396 | AF50: 0 | AG50: 0 | AH50: 0 | AI50: 0 | AJ50: 0 | AK50: 0 | AL50: 0 | AM50: 0 | AN50: 0 | AO50: 3488 | AP50: 1223 | AQ50: 2265 | AR50: 49999 | AS50: 23585 | AT50: 26414
A51: Pingtung County | B51: 一般 | C51: General | D51: 14 | E51: 5 | F51: 9 | G51: 2 | H51: 0 | I51: 2 | J51: 0 | K51: 0 | L51: 0 | M51: 0 | N51: 0 | O51: 0 | P51: 0 | Q51: 0 | R51: 0
B52: 原住民 | C52: Indigenous | D52: 1 | E52: 0 | F52: 1 | G52: 0 | H52: 0 | I52: 0 | J52: 0 | K52: 0 | L52: 0 | M52: 0 | N52: 0 | O52: 0 | P52: 0 | Q52: 0 | R52: 0
A53: 臺東縣 | B53: 計 | C53: Total | D53: 14 | E53: 7 | F53: 7 | G53: 2 | H53: 0 | I53: 2 | J53: 0 | K53: 0 | L53: 0 | M53: 0 | N53: 0 | O53: 0 | P53: 0 | Q53: 0 | R53: 0 | S53: 1 | T53: 0 | U53: 0 | V53: 1 | W53: 943 | X53: 658 | Y53: 285 | Z53: 717 | AA53: 332 | AB53: 385 | AC53: 172 | AD53: 122 | AE53: 50 | AF53: 1415 | AG53: 843 | AH53: 572 | AI53: 354 | AJ53: 220 | AK53: 134 | AL53: 43 | AM53: 25 | AN53: 18 | AO53: 19 | AP53: 4 | AQ53: 15 | AR53: 0 | AS53: 0 | AT53: 0
A54: Taitung County | B54: 一般 | C54: General | D54: 12 | E54: 5 | F54: 7 | G54: 2 | H54: 0 | I54: 2 | J54: 0 | K54: 0 | L54: 0 | M54: 0 | N54: 0 | O54: 0 | P54: 0 | Q54: 0 | R54: 0
B55: 原住民 | C55: Indigenous | D55: 2 | E55: 2 | F55: 0 | G55: 0 | H55: 0 | I55: 0 | J55: 0 | K55: 0 | L55: 0 | M55: 0 | N55: 0 | O55: 0 | P55: 0 | Q55: 0 | R55: 0
A56: 花蓮縣 | B56: 計 | C56: Total | D56: 8 | E56: 2 | F56: 6 | G56: 1 | H56: 1 | I56: 0 | J56: 0 | K56: 0 | L56: 0 | M56: 0 | N56: 0 | O56: 0 | P56: 0 | Q56: 0 | R56: 0 | S56: 1 | T56: 0 | U56: 0 | V56: 1 | W56: 70 | X56: 41 | Y56: 29 | Z56: 112 | AA56: 47 | AB56: 65 | AC56: 74 | AD56: 28 | AE56: 46 | AF56: 345 | AG56: 176 | AH56: 169 | AI56: 49 | AJ56: 28 | AK56: 21 | AL56: 0 | AM56: 0 | AN56: 0 | AO56: 0 | AP56: 0 | AQ56: 0 | AR56: 7712 | AS56: 3934 | AT56: 3778
A57: Hualien County | B57: 一般 | C57: General | D57: 4 | E57: 0 | F57: 4 | G57: 0 | H57: 0 | I57: 0 | J57: 0 | K57: 0 | L57: 0 | M57: 0 | N57: 0 | O57: 0 | P57: 0 | Q57: 0 | R57: 0
B58: 原住民 | C58: Indigenous | D58: 4 | E58: 2 | F58: 2 | G58: 1 | H58: 1 | I58: 0 | J58: 0 | K58: 0 | L58: 0 | M58: 0 | N58: 0 | O58: 0 | P58: 0 | Q58: 0 | R58: 0
A59: 澎湖縣 | B59: 計 | C59: Total | D59: 12 | E59: 7 | F59: 5 | G59: 4 | H59: 3 | I59: 1 | J59: 0 | K59: 0 | L59: 0 | M59: 0 | N59: 0 | O59: 0 | P59: 0 | Q59: 0 | R59: 0 | S59: 1 | T59: 1 | U59: 0 | V59: 0 | W59: 0 | X59: 0 | Y59: 0 | Z59: 0 | AA59: 0 | AB59: 0 | AC59: 0 | AD59: 0 | AE59: 0 | AF59: 0 | AG59: 0 | AH59: 0 | AI59: 0 | AJ59: 0 | AK59: 0 | AL59: 0 | AM59: 0 | AN59: 0 | AO59: 21872 | AP59: 7824 | AQ59: 14048 | AR59: 0 | AS59: 0 | AT59: 0
A60: Penghu County | B60: 一般 | C60: General | D60: 12 | E60: 7 | F60: 5 | G60: 4 | H60: 3 | I60: 1 | J60: 0 | K60: 0 | L60: 0 | M60: 0 | N60: 0 | O60: 0 | P60: 0 | Q60: 0 | R60: 0
B61: 原住民 | C61: Indigenous | D61: 0 | E61: 0 | F61: 0 | G61: 0 | H61: 0 | I61: 0 | J61: 0 | K61: 0 | L61: 0 | M61: 0 | N61: 0 | O61: 0 | P61: 0 | Q61: 0 | R61: 0
A62: 基隆市 | B62: 計 | C62: Total | D62: 40 | E62: 16 | F62: 24 | G62: 3 | H62: 1 | I62: 2 | J62: 0 | K62: 0 | L62: 0 | M62: 0 | N62: 0 | O62: 0 | P62: 0 | Q62: 0 | R62: 0 | S62: 1 | T62: 0 | U62: 0 | V62: 1 | W62: 3020 | X62: 1540 | Y62: 1480 | Z62: 0 | AA62: 0 | AB62: 0 | AC62: 0 | AD62: 0 | AE62: 0 | AF62: 730 | AG62: 348 | AH62: 382 | AI62: 0 | AJ62: 0 | AK62: 0 | AL62: 0 | AM62: 0 | AN62: 0 | AO62: 0 | AP62: 0 | AQ62: 0 | AR62: 0 | AS62: 0 | AT62: 0
A63: Keelung City | B63: 一般 | C63: General | D63: 39 | E63: 15 | F63: 24 | G63: 3 | H63: 1 | I63: 2 | J63: 0 | K63: 0 | L63: 0 | M63: 0 | N63: 0 | O63: 0 | P63: 0 | Q63: 0 | R63: 0
B64: 原住民 | C64: Indigenous | D64: 1 | E64: 1 | F64: 0 | G64: 0 | H64: 0 | I64: 0 | J64: 0 | K64: 0 | L64: 0 | M64: 0 | N64: 0 | O64: 0 | P64: 0 | Q64: 0 | R64: 0
A65: 新竹市 | B65: 計 | C65: Total | D65: 18 | E65: 5 | F65: 13 | G65: 3 | H65: 2 | I65: 1 | J65: 0 | K65: 0 | L65: 0 | M65: 0 | N65: 0 | O65: 0 | P65: 0 | Q65: 0 | R65: 0 | S65: 0 | T65: 0 | U65: 0 | V65: 0 | W65: 0 | X65: 0 | Y65: 0 | Z65: 0 | AA65: 0 | AB65: 0 | AC65: 0 | AD65: 0 | AE65: 0 | AF65: 0 | AG65: 0 | AH65: 0 | AI65: 0 | AJ65: 0 | AK65: 0 | AL65: 0 | AM65: 0 | AN65: 0 | AO65: 0 | AP65: 0 | AQ65: 0 | AR65: 0 | AS65: 0 | AT65: 0
A66: Hsinchu City | B66: 一般 | C66: General | D66: 17 | E66: 5 | F66: 12 | G66: 3 | H66: 2 | I66: 1 | J66: 0 | K66: 0 | L66: 0 | M66: 0 | N66: 0 | O66: 0 | P66: 0 | Q66: 0 | R66: 0
B67: 原住民 | C67: Indigenous | D67: 1 | E67: 0 | F67: 1 | G67: 0 | H67: 0 | I67: 0 | J67: 0 | K67: 0 | L67: 0 | M67: 0 | N67: 0 | O67: 0 | P67: 0 | Q67: 0 | R67: 0
A68: 嘉義市 | B68: 計 | C68: Total | D68: 30 | E68: 12 | F68: 18 | G68: 3 | H68: 1 | I68: 2 | J68: 0 | K68: 0 | L68: 0 | M68: 0 | N68: 0 | O68: 0 | P68: 0 | Q68: 0 | R68: 0 | S68: 2 | T68: 2 | U68: 0 | V68: 0 | W68: 89 | X68: 29 | Y68: 60 | Z68: 0 | AA68: 0 | AB68: 0 | AC68: 53436 | AD68: 29424 | AE68: 24012 | AF68: 29 | AG68: 13 | AH68: 16 | AI68: 0 | AJ68: 0 | AK68: 0 | AL68: 31 | AM68: 3 | AN68: 28 | AO68: 5406 | AP68: 3067 | AQ68: 2339 | AR68: 74012 | AS68: 18503 | AT68: 55509
A69: Chiayi City | B69: 一般 | C69: General | D69: 29 | E69: 11 | F69: 18 | G69: 3 | H69: 1 | I69: 2 | J69: 0 | K69: 0 | L69: 0 | M69: 0 | N69: 0 | O69: 0 | P69: 0 | Q69: 0 | R69: 0
B70: 原住民 | C70: Indigenous | D70: 1 | E70: 1 | F70: 0 | G70: 0 | H70: 0 | I70: 0 | J70: 0 | K70: 0 | L70: 0 | M70: 0 | N70: 0 | O70: 0 | P70: 0 | Q70: 0 | R70: 0
A71: 金門縣 | B71: 計 | C71: Total | D71: 10 | E71: 5 | F71: 5 | G71: 3 | H71: 1 | I71: 2 | J71: 0 | K71: 0 | L71: 0 | M71: 0 | N71: 0 | O71: 0 | P71: 0 | Q71: 0 | R71: 0 | S71: 1 | T71: 0 | U71: 0 | V71: 1 | W71: 261 | X71: 140 | Y71: 121 | Z71: 12 | AA71: 5 | AB71: 7 | AC71: 755 | AD71: 333 | AE71: 422 | AF71: 142 | AG71: 60 | AH71: 82 | AI71: 3 | AJ71: 3 | AK71: 0 | AL71: 0 | AM71: 0 | AN71: 0 | AO71: 0 | AP71: 0 | AQ71: 0 | AR71: 0 | AS71: 0 | AT71: 0
A72: Kinmen County | B72: 一般 | C72: General | D72: 9 | E72: 5 | F72: 4 | G72: 3 | H72: 1 | I72: 2 | J72: 0 | K72: 0 | L72: 0 | M72: 0 | N72: 0 | O72: 0 | P72: 0 | Q72: 0 | R72: 0
B73: 原住民 | C73: Indigenous | D73: 1 | E73: 0 | F73: 1 | G73: 0 | H73: 0 | I73: 0 | J73: 0 | K73: 0 | L73: 0 | M73: 0 | N73: 0 | O73: 0 | P73: 0 | Q73: 0 | R73: 0
A74: 連江縣 | B74: 計 | C74: Total | D74: 10 | E74: 6 | F74: 4 | G74: 2 | H74: 0 | I74: 2 | J74: 0 | K74: 0 | L74: 0 | M74: 0 | N74: 0 | O74: 0 | P74: 0 | Q74: 0 | R74: 0 | S74: 0 | T74: 0 | U74: 0 | V74: 0 | W74: 0 | X74: 0 | Y74: 0 | Z74: 0 | AA74: 0 | AB74: 0 | AC74: 0 | AD74: 0 | AE74: 0 | AF74: 0 | AG74: 0 | AH74: 0 | AI74: 0 | AJ74: 0 | AK74: 0 | AL74: 0 | AM74: 0 | AN74: 0 | AO74: 0 | AP74: 0 | AQ74: 0 | AR74: 0 | AS74: 0 | AT74: 0
A75: Lienchiang County | B75: 一般 | C75: General | D75: 10 | E75: 6 | F75: 4 | G75: 2 | H75: 0 | I75: 2 | J75: 0 | K75: 0 | L75: 0 | M75: 0 | N75: 0 | O75: 0 | P75: 0 | Q75: 0 | R75: 0
B76: 原住民 | C76: Indigenous | D76: 0 | E76: 0 | F76: 0 | G76: 0 | H76: 0 | I76: 0 | J76: 0 | K76: 0 | L76: 0 | M76: 0 | N76: 0 | O76: 0 | P76: 0 | Q76: 0 | R76: 0
A77: 資料來源：各直轄市、縣市政府。
A78: Source: County and Government.
A79: 更新日期：2024/07/22
A80: 總計 | B80: 計 | C80: Total | D80: 414 | E80: 187 | F80: 227 | G80: 69 | H80: 33 | I80: 36 | J80: 10 | K80: 5 | L80: 5 | M80: 11 | N80: 4 | O80: 7 | P80: 2 | Q80: 2 | R80: 0 | S80: 41 | T80: 12 | U80: 3 | V80: 26 | W80: 119241 | X80: 64084 | Y80: 55157 | Z80: 130335 | AA80: 55900 | AB80: 74435 | AC80: 275133 | AD80: 135498 | AE80: 139635 | AF80: 16877 | AG80: 8750 | AH80: 8127 | AI80: 1472 | AJ80: 844 | AK80: 628 | AL80: 61160 | AM80: 28169 | AN80: 32991 | AO80: 89798 | AP80: 35788 | AQ80: 54010 | AR80: 410621 | AS80: 160888 | AT80: 249733
A81: Total | B81: 一般 | C81: General | D81: 395 | E81: 178 | F81: 217 | G81: 68 | H81: 32 | I81: 36 | J81: 9 | K81: 5 | L81: 4 | M81: 11 | N81: 4 | O81: 7 | P81: 2 | Q81: 2 | R81: 0
B82: 原住民 | C82: Indigenous | D82: 19 | E82: 9 | F82: 10 | G82: 1 | H82: 1 | I82: 0 | J82: 1 | K82: 0 | L82: 1 | M82: 0 | N82: 0 | O82: 0 | P82: 0 | Q82: 0 | R82: 0
A83: 新北市 | B83: 計 | C83: Total | D83: 34 | E83: 17 | F83: 17 | G83: 6 | H83: 5 | I83: 1 | J83: 7 | K83: 3 | L83: 4 | M83: 8 | N83: 2 | O83: 6 | P83: 2 | Q83: 2 | R83: 0 | S83: 7 | T83: 0 | U83: 0 | V83: 7 | W83: 7804 | X83: 4152 | Y83: 3652 | Z83: 2502 | AA83: 1357 | AB83: 1145 | AC83: 19425 | AD83: 8999 | AE83: 10426 | AF83: 4903 | AG83: 2812 | AH83: 2091 | AI83: 197 | AJ83: 117 | AK83: 80 | AL83: 443 | AM83: 167 | AN83: 276 | AO83: 378 | AP83: 120 | AQ83: 258 | AR83: 28653 | AS83: 11782 | AT83: 16871
A84: New Taipei City | B84: 一般 | C84: General | D84: 33 | E84: 16 | F84: 17 | G84: 6 | H84: 5 | I84: 1 | J84: 6 | K84: 3 | L84: 3 | M84: 8 | N84: 2 | O84: 6 | P84: 2 | Q84: 2 | R84: 0
B85: 原住民 | C85: Indigenous | D85: 1 | E85: 1 | F85: 0 | G85: 0 | H85: 0 | I85: 0 | J85: 1 | K85: 0 | L85: 1 | M85: 0 | N85: 0 | O85: 0 | P85: 0 | Q85: 0 | R85: 0
A86: 臺北市 | B86: 計 | C86: Total | D86: 20 | E86: 7 | F86: 13 | G86: 6 | H86: 2 | I86: 4 | J86: 0 | K86: 0 | L86: 0 | M86: 2 | N86: 1 | O86: 1 | P86: 0 | Q86: 0 | R86: 0 | S86: 9 | T86: 0 | U86: 0 | V86: 9 | W86: 83214 | X86: 44759 | Y86: 38455 | Z86: 24094 | AA86: 12170 | AB86: 11924 | AC86: 59634 | AD86: 26667 | AE86: 32967 | AF86: 3994 | AG86: 2042 | AH86: 1952 | AI86: 108 | AJ86: 60 | AK86: 48 | AL86: 652 | AM86: 245 | AN86: 407 | AO86: 1101 | AP86: 447 | AQ86: 654 | AR86: 45733 | AS86: 24755 | AT86: 20978 | AU86: =SUM(W86,Z86,AC86,AF86,AI86,AL86,AO86,AR86) -> 218530
A87: Taipei City | B87: 一般 | C87: General | D87: 19 | E87: 7 | F87: 12 | G87: 6 | H87: 2 | I87: 4 | J87: 0 | K87: 0 | L87: 0 | M87: 2 | N87: 1 | O87: 1 | P87: 0 | Q87: 0 | R87: 0
B88: 原住民 | C88: Indigenous | D88: 1 | E88: 0 | F88: 1 | G88: 0 | H88: 0 | I88: 0 | J88: 0 | K88: 0 | L88: 0 | M88: 0 | N88: 0 | O88: 0 | P88: 0 | Q88: 0 | R88: 0
A89: 桃園市 | B89: 計 | C89: Total | D89: 25 | E89: 11 | F89: 14 | G89: 6 | H89: 3 | I89: 3 | J89: 0 | K89: 0 | L89: 0 | M89: 0 | N89: 0 | O89: 0 | P89: 0 | Q89: 0 | R89: 0 | S89: 3 | T89: 0 | U89: 0 | V89: 3 | W89: 967 | X89: 611 | Y89: 356 | Z89: 673 | AA89: 379 | AB89: 294 | AC89: 301 | AD89: 69 | AE89: 232 | AF89: 0 | AG89: 0 | AH89: 0 | AI89: 19 | AJ89: 11 | AK89: 8 | AL89: 57 | AM89: 11 | AN89: 46 | AO89: 748 | AP89: 265 | AQ89: 483 | AR89: 0 | AS89: 0 | AT89: 0
A90: Taoyuan City | B90: 一般 | C90: General | D90: 25 | E90: 11 | F90: 14 | G90: 6 | H90: 3 | I90: 3 | J90: 0 | K90: 0 | L90: 0 | M90: 0 | N90: 0 | O90: 0 | P90: 0 | Q90: 0 | R90: 0
B91: 原住民 | C91: Indigenous | D91: 0 | E91: 0 | F91: 0 | G91: 0 | H91: 0 | I91: 0 | J91: 0 | K91: 0 | L91: 0 | M91: 0 | N91: 0 | O91: 0 | P91: 0 | Q91: 0 | R91: 0
A92: 臺中市 | B92: 計 | C92: Total | D92: 21 | E92: 11 | F92: 10 | G92: 4 | H92: 2 | I92: 2 | J92: 0 | K92: 0 | L92: 0 | M92: 0 | N92: 0 | O92: 0 | P92: 0 | Q92: 0 | R92: 0 | S92: 2 | T92: 2 | U92: 0 | V92: 0 | W92: 0 | X92: 0 | Y92: 0 | Z92: 88523 | AA92: 35409 | AB92: 53114 | AC92: 0 | AD92: 0 | AE92: 0 | AF92: 0 | AG92: 0 | AH92: 0 | AI92: 0 | AJ92: 0 | AK92: 0 | AL92: 0 | AM92: 0 | AN92: 0 | AO92: 29382 | AP92: 12463 | AQ92: 16919 | AR92: 0 | AS92: 0 | AT92: 0
A93: Taichung City | B93: 一般 | C93: General | D93: 20 | E93: 11 | F93: 9 | G93: 4 | H93: 2 | I93: 2 | J93: 0 | K93: 0 | L93: 0 | M93: 0 | N93: 0 | O93: 0 | P93: 0 | Q93: 0 | R93: 0
B94: 原住民 | C94: Indigenous | D94: 1 | E94: 0 | F94: 1 | G94: 0 | H94: 0 | I94: 0 | J94: 0 | K94: 0 | L94: 0 | M94: 0 | N94: 0 | O94: 0 | P94: 0 | Q94: 0 | R94: 0
A95: 臺南市 | B95: 計 | C95: Total | D95: 18 | E95: 9 | F95: 9 | G95: 5 | H95: 3 | I95: 2 | J95: 0 | K95: 0 | L95: 0 | M95: 0 | N95: 0 | O95: 0 | P95: 0 | Q95: 0 | R95: 0 | S95: 3 | T95: 1 | U95: 1 | V95: 1 | W95: 53 | X95: 31 | Y95: 22 | Z95: 1259 | AA95: 276 | AB95: 983 | AC95: 2732 | AD95: 853 | AE95: 1879 | AF95: 740 | AG95: 329 | AH95: 411 | AI95: 78 | AJ95: 46 | AK95: 32 | AL95: 2383 | AM95: 391 | AN95: 1992 | AO95: 3321 | AP95: 1129 | AQ95: 2192 | AR95: 132514 | AS95: 50001 | AT95: 82513
A96: Tainan City | B96: 一般 | C96: General | D96: 17 | E96: 8 | F96: 9 | G96: 5 | H96: 3 | I96: 2 | J96: 0 | K96: 0 | L96: 0 | M96: 0 | N96: 0 | O96: 0 | P96: 0 | Q96: 0 | R96: 0
B97: 原住民 | C97: Indigenous | D97: 1 | E97: 1 | F97: 0 | G97: 0 | H97: 0 | I97: 0 | J97: 0 | K97: 0 | L97: 0 | M97: 0 | N97: 0 | O97: 0 | P97: 0 | Q97: 0 | R97: 0
A98: 高雄市 | B98: 計 | C98: Total | D98: 33 | E98: 17 | F98: 16 | G98: 2 | H98: 1 | I98: 1 | J98: 0 | K98: 0 | L98: 0 | M98: 0 | N98: 0 | O98: 0 | P98: 0 | Q98: 0 | R98: 0 | S98: 2 | T98: 2 | U98: 0 | V98: 0 | W98: 9200 | X98: 6196 | Y98: 3004 | Z98: 345 | AA98: 256 | AB98: 89 | AC98: 4126 | AD98: 1644 | AE98: 2482 | AF98: 0 | AG98: 0 | AH98: 0 | AI98: 291 | AJ98: 171 | AK98: 120 | AL98: 56204 | AM98: 26805 | AN98: 29399 | AO98: 15210 | AP98: 6009 | AQ98: 9201 | AR98: 29163 | AS98: 9578 | AT98: 19585
A99: Kaohsiung City | B99: 一般 | C99: General | D99: 32 | E99: 17 | F99: 15 | G99: 2 | H99: 1 | I99: 1 | J99: 0 | K99: 0 | L99: 0 | M99: 0 | N99: 0 | O99: 0 | P99: 0 | Q99: 0 | R99: 0
B100: 原住民 | C100: Indigenous | D100: 1 | E100: 0 | F100: 1 | G100: 0 | H100: 0 | I100: 0 | J100: 0 | K100: 0 | L100: 0 | M100: 0 | N100: 0 | O100: 0 | P100: 0 | Q100: 0 | R100: 0
...

Sheet 111
A1: 兒童及少年福利服務 Child and Youth Welfare Services
A2: 民國111年, 2022 | D2: =IF(D9=SUM(D12,D15,D21,D24,D27,D30,D18,D33,D36,D39,D42,D45,D48,D51,D54,D57,D60,D63,D66,D69,D72,D75),"","*") | E2: =IF(E9=SUM(E12,E15,E21,E24,E27,E30,E18,E33,E36,E39,E42,E45,E48,E51,E54,E57,E60,E63,E66,E69,E72,E75),"","*") | F2: =IF(F9=SUM(F12,F15,F21,F24,F27,F30,F18,F33,F36,F39,F42,F45,F48,F51,F54,F57,F60,F63,F66,F69,F72,F75),"","*") | J2: =IF(J9=SUM(J12,J15,J21,J24,J27,J30,J18,J33,J36,J39,J42,J45,J48,J51,J54,J57,J60,J63,J66,J69,J72,J75),"","*") | K2: =IF(K9=SUM(K12,K15,K21,K24,K27,K30,K18,K33,K36,K39,K42,K45,K48,K51,K54,K57,K60,K63,K66,K69,K72,K75),"","*") | L2: =IF(L9=SUM(L12,L15,L21,L24,L27,L30,L18,L33,L36,L39,L42,L45,L48,L51,L54,L57,L60,L63,L66,L69,L72,L75),"","*") | M2: =IF(M9=SUM(M12,M15,M21,M24,M27,M30,M18,M33,M36,M39,M42,M45,M48,M51,M54,M57,M60,M63,M66,M69,M72,M75),"","*") | N2: =IF(N9=SUM(N12,N15,N21,N24,N27,N30,N18,N33,N36,N39,N42,N45,N48,N51,N54,N57,N60,N63,N66,N69,N72,N75),"","*") | O2: =IF(O9=SUM(O12,O15,O21,O24,O27,O30,O18,O33,O36,O39,O42,O45,O48,O51,O54,O57,O60,O63,O66,O69,O72,O75),"","*") | P2: =IF(P9=SUM(P12,P15,P21,P24,P27,P30,P18,P33,P36,P39,P42,P45,P48,P51,P54,P57,P60,P63,P66,P69,P72,P75),"","*") | Q2: =IF(Q9=SUM(Q12,Q15,Q21,Q24,Q27,Q30,Q18,Q33,Q36,Q39,Q42,Q45,Q48,Q51,Q54,Q57,Q60,Q63,Q66,Q69,Q72,Q75),"","*") | R2: =IF(R9=SUM(R12,R15,R21,R24,R27,R30,R18,R33,R36,R39,R42,R45,R48,R51,R54,R57,R60,R63,R66,R69,R72,R75),"","*")
A3: 單位：人、人次、所 | D3: =IF(D8=SUM(D11,D14,D17,D20,D23,D26,D29,D32,D35,D38,D41,D44,D47,D50,D53,D56,D59,D62,D65,D68,D71,D74),"","*") | E3: =IF(E8=SUM(E11,E14,E17,E20,E23,E26,E29,E32,E35,E38,E41,E44,E47,E50,E53,E56,E59,E62,E65,E68,E71,E74),"","*") | F3: =IF(F8=SUM(F11,F14,F17,F20,F23,F26,F29,F32,F35,F38,F41,F44,F47,F50,F53,F56,F59,F62,F65,F68,F71,F74),"","*") | G3: =IF(G8=SUM(G11,G14,G17,G20,G23,G26,G29,G32,G35,G38,G41,G44,G47,G50,G53,G56,G59,G62,G65,G68,G71,G74),"","*") | H3: =IF(H8=SUM(H11,H14,H17,H20,H23,H26,H29,H32,H35,H38,H41,H44,H47,H50,H53,H56,H59,H62,H65,H68,H71,H74),"","*") | I3: =IF(I8=SUM(I11,I14,I17,I20,I23,I26,I29,I32,I35,I38,I41,I44,I47,I50,I53,I56,I59,I62,I65,I68,I71,I74),"","*") | J3: =IF(J8=SUM(J11,J14,J17,J20,J23,J26,J29,J32,J35,J38,J41,J44,J47,J50,J53,J56,J59,J62,J65,J68,J71,J74),"","*") | K3: =IF(K8=SUM(K11,K14,K17,K20,K23,K26,K29,K32,K35,K38,K41,K44,K47,K50,K53,K56,K59,K62,K65,K68,K71,K74),"","*") | ... AT3: =IF(AT8=SUM(AT11,AT14,AT17,AT20,AT23,AT26,AT29,AT32,AT35,AT38,AT41,AT44,AT47,AT50,AT53,AT56,AT59,AT62,AT65,AT68,AT71,AT74),"","*")
A4: 區域及特殊族群別 Locality & Ethnos | D4: 兒童及少年代表人數 Number of child and youth representatives | G4: 兒童及少年代表為委員人數 | J4: 無依兒童及少年安置及處理人數 Number of helpless children and youth receiving placement and other services | S4: 兒童及少年福利服務中心Welfare Service Centers
J5: 尋獲父母或監護人者 Those whose parents or guardians are found | M5: 逾法定期限未尋獲父母或監護人者 Those whose parents or guardians are not found within the statutory period | P5: 法定期限內尚在協尋父母或監護人者 Those whose parents or guardians are being searched for within the statutory period | S5: 兒童及少年福利服務中心數 Welfare Service Centers | W5: 個案服務人次 Case Service | Z5: 團體服務人次 Group Service | AC5: 社區服務人次 Community Service | AF5: 外展服務人次 Outreach Service | AI5: 轉介服務人次 Referral Service | AL5: 親職教育人次 Parenting Education | AO5: 親子活動人次 Family Activities
D6: 計 | E6: 男 | F6: 女 | G6: 計 | H6: 男 | I6: 女 | J6: 計 | K6: 男 | L6: 女 | M6: 計 | N6: 男 | O6: 女 | P6: 計 | Q6: 男 | R6: 女 | S6: 計 | T6: 公立 | U6: 私立 | V6: 公設民營 | W6: 計 | X6: 男 | Y6: 女 | Z6: 計 | AA6: 男 | AB6: 女 | AC6: 計 | AD6: 男 | AE6: 女 | AF6: 計 | AG6: 男 | AH6: 女 | AI6: 計 | AJ6: 男 | AK6: 女 | AL6: 計 | AM6: 男 | AN6: 女 | AO6: 計 | AP6: 男 | AQ6: 女
D7: Total | E7: Male | F7: Female | G7: Total | H7: Male | I7: Female | J7: Total | K7: Male | L7: Female | M7: Total | N7: Male | O7: Female | P7: Total | Q7: Male | R7: Female | S7: Total | T7: Public | U7: Private | V7: Run by Private | W7: Total | X7: Male | Y7: Female | Z7: Total | AA7: Male | AB7: Female | AC7: Total | AD7: Male | AE7: Female | AF7: Total | AG7: Male | AH7: Female | AI7: Total | AJ7: Male | AK7: Female | AL7: Total | AM7: Male | AN7: Female | AO7: Total | AP7: Male | AQ7: Female
A8: 總計 | B8: 計 | C8: Total | D8: 418 | E8: 191 | F8: 227 | G8: 68 | H8: 35 | I8: 33 | J8: 14 | K8: 7 | L8: 7 | M8: 13 | N8: 5 | O8: 8 | P8: 0 | Q8: 0 | R8: 0 | S8: 35 | T8: 10 | U8: 4 | V8: 21 | W8: 78595 | X8: 36801 | Y8: 41794 | Z8: 14859 | AA8: 6416 | AB8: 8443 | AC8: 412992 | AD8: 201543 | AE8: 211449 | AF8: 14371 | AG8: 7042 | AH8: 7329 | AI8: 4394 | AJ8: 2459 | AK8: 1935 | AL8: 79487 | AM8: 29911 | AN8: 49576 | AO8: 40112 | AP8: 14951 | AQ8: 25161
A9: Total | B9: 一般 | C9: General | D9: 408 | E9: 186 | F9: 222 | G9: 67 | H9: 34 | I9: 33 | J9: 13 | K9: 7 | L9: 6 | M9: 13 | N9: 5 | O9: 8 | P9: 0 | Q9: 0 | R9: 0
B10: 原住民 | C10: Indigenous | D10: 10 | E10: 5 | F10: 5 | G10: 1 | H10: 1 | I10: 0 | J10: 1 | K10: 0 | L10: 1 | M10: 0 | N10: 0 | O10: 0 | P10: 0 | Q10: 0 | R10: 0
A11: 新北市 | B11: 計 | C11: Total | D11: 30 | E11: 14 | F11: 16 | G11: 6 | H11: 6 | I11: 0 | J11: 9 | K11: 4 | L11: 5 | M11: 9 | N11: 3 | O11: 6 | P11: 0 | Q11: 0 | R11: 0 | S11: 7 | T11: 0 | U11: 0 | V11: 7 | W11: 12839 | X11: 6080 | Y11: 6759 | Z11: 3336 | AA11: 1526 | AB11: 1810 | AC11: 20848 | AD11: 8426 | AE11: 12422 | AF11: 3383 | AG11: 1645 | AH11: 1738 | AI11: 842 | AJ11: 425 | AK11: 417 | AL11: 1635 | AM11: 633 | AN11: 1002 | AO11: 517 | AP11: 166 | AQ11: 351
A12: New Taipei City | B12: 一般 | C12: General | D12: 30 | E12: 14 | F12: 16 | G12: 6 | H12: 6 | I12: 0 | J12: 8 | K12: 4 | L12: 4 | M12: 9 | N12: 3 | O12: 6 | P12: 0 | Q12: 0 | R12: 0
B13: 原住民 | C13: Indigenous | D13: 0 | E13: 0 | F13: 0 | G13: 0 | H13: 0 | I13: 0 | J13: 1 | K13: 0 | L13: 1 | M13: 0 | N13: 0 | O13: 0 | P13: 0 | Q13: 0 | R13: 0
A14: 臺北市 | B14: 計 | C14: Total | D14: 21 | E14: 12 | F14: 9 | G14: 6 | H14: 3 | I14: 3 | J14: 0 | K14: 0 | L14: 0 | M14: 0 | N14: 0 | O14: 0 | P14: 0 | Q14: 0 | R14: 0 | S14: 8 | T14: 0 | U14: 0 | V14: 8 | W14: 35503 | X14: 18584 | Y14: 16919 | Z14: 5535 | AA14: 2178 | AB14: 3357 | AC14: 72156 | AD14: 34495 | AE14: 37661 | AF14: 4052 | AG14: 2366 | AH14: 1686 | AI14: 135 | AJ14: 74 | AK14: 61 | AL14: 1376 | AM14: 407 | AN14: 969 | AO14: 673 | AP14: 251 | AQ14: 422
A15: Taipei City | B15: 一般 | C15: General | D15: 21 | E15: 12 | F15: 9 | G15: 6 | H15: 3 | I15: 3 | J15: 0 | K15: 0 | L15: 0 | M15: 0 | N15: 0 | O15: 0 | P15: 0 | Q15: 0 | R15: 0
B16: 原住民 | C16: Indigenous | D16: 0 | E16: 0 | F16: 0 | G16: 0 | H16: 0 | I16: 0 | J16: 0 | K16: 0 | L16: 0 | M16: 0 | N16: 0 | O16: 0 | P16: 0 | Q16: 0 | R16: 0
A17: 桃園市 | B17: 計 | C17: Total | D17: 25 | E17: 11 | F17: 14 | G17: 6 | H17: 2 | I17: 4 | J17: 0 | K17: 0 | L17: 0 | M17: 0 | N17: 0 | O17: 0 | P17: 0 | Q17: 0 | R17: 0 | S17: 1 | T17: 0 | U17: 0 | V17: 1 | W17: 258 | X17: 173 | Y17: 85 | Z17: 49 | AA17: 18 | AB17: 31 | AC17: 23 | AD17: 8 | AE17: 15 | AF17: 0 | AG17: 0 | AH17: 0 | AI17: 0 | AJ17: 0 | AK17: 0 | AL17: 0 | AM17: 0 | AN17: 0 | AO17: 42 | AP17: 7 | AQ17: 35
A18: Taoyuan City | B18: 一般 | C18: General | D18: 25 | E18: 11 | F18: 14 | G18: 6 | H18: 2 | I18: 4 | J18: 0 | K18: 0 | L18: 0 | M18: 0 | N18: 0 | O18: 0 | P18: 0 | Q18: 0 | R18: 0
B19: 原住民 | C19: Indigenous | D19: 0 | E19: 0 | F19: 0 | G19: 0 | H19: 0 | I19: 0 | J19: 0 | K19: 0 | L19: 0 | M19: 0 | N19: 0 | O19: 0 | P19: 0 | Q19: 0 | R19: 0
A20: 臺中市 | B20: 計 | C20: Indigenous | D20: 21 | E20: 10 | F20: 11 | G20: 4 | H20: 2 | I20: 2 | J20: 0 | K20: 0 | L20: 0 | M20: 0 | N20: 0 | O20: 0 | P20: 0 | Q20: 0 | R20: 0 | S20: 0 | T20: 0 | U20: 0 | V20: 0 | W20: 0 | X20: 0 | Y20: 0 | Z20: 0 | AA20: 0 | AB20: 0 | AC20: 0 | AD20: 0 | AE20: 0 | AF20: 0 | AG20: 0 | AH20: 0 | AI20: 0 | AJ20: 0 | AK20: 0 | AL20: 0 | AM20: 0 | AN20: 0 | AO20: 0 | AP20: 0 | AQ20: 0
A21: Taichung City | B21: 一般 | C21: General | D21: 20 | E21: 10 | F21: 10 | G21: 4 | H21: 2 | I21: 2 | J21: 0 | K21: 0 | L21: 0 | M21: 0 | N21: 0 | O21: 0 | P21: 0 | Q21: 0 | R21: 0
B22: 原住民 | C22: Indigenous | D22: 1 | E22: 0 | F22: 1 | G22: 0 | H22: 0 | I22: 0 | J22: 0 | K22: 0 | L22: 0 | M22: 0 | N22: 0 | O22: 0 | P22: 0 | Q22: 0 | R22: 0
A23: 臺南市 | B23: 計 | C23: Total | D23: 20 | E23: 12 | F23: 8 | G23: 5 | H23: 4 | I23: 1 | J23: 3 | K23: 2 | L23: 1 | M23: 0 | N23: 0 | O23: 0 | P23: 0 | Q23: 0 | R23: 0 | S23: 3 | T23: 1 | U23: 1 | V23: 1 | W23: 48 | X23: 27 | Y23: 21 | Z23: 722 | AA23: 443 | AB23: 279 | AC23: 3647 | AD23: 1443 | AE23: 2204 | AF23: 448 | AG23: 176 | AH23: 272 | AI23: 99 | AJ23: 61 | AK23: 38 | AL23: 805 | AM23: 298 | AN23: 507 | AO23: 1030 | AP23: 397 | AQ23: 633
A24: Tainan City | B24: 一般 | C24: General | D24: 19 | E24: 11 | F24: 8 | G24: 5 | H24: 4 | I24: 1 | J24: 3 | K24: 2 | L24: 1 | M24: 0 | N24: 0 | O24: 0 | P24: 0 | Q24: 0 | R24: 0
B25: 原住民 | C25: Indigenous | D25: 1 | E25: 1 | F25: 0 | G25: 0 | H25: 0 | I25: 0 | J25: 0 | K25: 0 | L25: 0 | M25: 0 | N25: 0 | O25: 0 | P25: 0 | Q25: 0 | R25: 0
A26: 高雄市 | B26: 計 | C26: Total | D26: 32 | E26: 16 | F26: 16 | G26: 2 | H26: 0 | I26: 2 | J26: 0 | K26: 0 | L26: 0 | M26: 0 | N26: 0 | O26: 0 | P26: 0 | Q26: 0 | R26: 0 | S26: 2 | T26: 2 | U26: 0 | V26: 0 | W26: 8872 | X26: 2716 | Y26: 6156 | Z26: 300 | AA26: 239 | AB26: 61 | AC26: 5027 | AD26: 2307 | AE26: 2720 | AF26: 427 | AG26: 182 | AH26: 245 | AI26: 172 | AJ26: 121 | AK26: 51 | AL26: 73494 | AM26: 27844 | AN26: 45650 | AO26: 11032 | AP26: 3788 | AQ26: 7244
A27: Kaohsiung City | B27: 一般 | C27: General | D27: 31 | E27: 16 | F27: 15 | G27: 2 | H27: 0 | I27: 2 | J27: 0 | K27: 0 | L27: 0 | M27: 0 | N27: 0 | O27: 0 | P27: 0 | Q27: 0 | R27: 0
B28: 原住民 | C28: Indigenous | D28: 1 | E28: 0 | F28: 1 | G28: 0 | H28: 0 | I28: 0 | J28: 0 | K28: 0 | L28: 0 | M28: 0 | N28: 0 | O28: 0 | P28: 0 | Q28: 0 | R28: 0
A29: 宜蘭縣 | B29: 計 | C29: Total | D29: 17 | E29: 6 | F29: 11 | G29: 2 | H29: 1 | I29: 1 | J29: 1 | K29: 1 | L29: 0 | M29: 2 | N29: 1 | O29: 1 | P29: 0 | Q29: 0 | R29: 0 | S29: 1 | T29: 0 | U29: 1 | V29: 0 | W29: 7096 | X29: 2385 | Y29: 4711 | Z29: 732 | AA29: 44 | AB29: 688 | AC29: 180403 | AD29: 90201 | AE29: 90202 | AF29: 2054 | AG29: 608 | AH29: 1446 | AI29: 311 | AJ29: 92 | AK29: 219 | AL29: 633 | AM29: 247 | AN29: 386 | AO29: 1094 | AP29: 397 | AQ29: 697
A30: Yilan County | B30: 一般 | C30: General | D30: 17 | E30: 6 | F30: 11 | G30: 2 | H30: 1 | I30: 1 | J30: 1 | K30: 1 | L30: 0 | M30: 2 | N30: 1 | O30: 1 | P30: 0 | Q30: 0 | R30: 0
B31: 原住民 | C31: Indigenous | D31: 0 | E31: 0 | F31: 0 | G31: 0 | H31: 0 | I31: 0 | J31: 0 | K31: 0 | L31: 0 | M31: 0 | N31: 0 | O31: 0 | P31: 0 | Q31: 0 | R31: 0
A32: 新竹縣 | B32: 計 | C32: Total | D32: 5 | E32: 3 | F32: 2 | G32: 2 | H32: 0 | I32: 2 | J32: 0 | K32: 0 | L32: 0 | M32: 0 | N32: 0 | O32: 0 | P32: 0 | Q32: 0 | R32: 0 | S32: 0 | T32: 0 | U32: 0 | V32: 0 | W32: 0 | X32: 0 | Y32: 0 | Z32: 0 | AA32: 0 | AB32: 0 | AC32: 0 | AD32: 0 | AE32: 0 | AF32: 0 | AG32: 0 | AH32: 0 | AI32: 0 | AJ32: 0 | AK32: 0 | AL32: 0 | AM32: 0 | AN32: 0 | AO32: 0 | AP32: 0 | AQ32: 0
A33: Hsinchu County | B33: 一般 | C33: General | D33: 4 | E33: 2 | F33: 2 | G33: 2 | H33: 0 | I33: 2 | J33: 0 | K33: 0 | L33: 0 | M33: 0 | N33: 0 | O33: 0 | P33: 0 | Q33: 0 | R33: 0
B34: 原住民 | C34: Indigenous | D34: 1 | E34: 1 | F34: 0 | G34: 0 | H34: 0 | I34: 0 | J34: 0 | K34: 0 | L34: 0 | M34: 0 | N34: 0 | O34: 0 | P34: 0 | Q34: 0 | R34: 0
A35: 苗栗縣 | B35: 計 | C35: Total | D35: 15 | E35: 7 | F35: 8 | G35: 5 | H35: 3 | I35: 2 | J35: 0 | K35: 0 | L35: 0 | M35: 0 | N35: 0 | O35: 0 | P35: 0 | Q35: 0 | R35: 0 | S35: 1 | T35: 1 | U35: 0 | V35: 0 | W35: 2499 | X35: 1015 | Y35: 1484 | Z35: 603 | AA35: 251 | AB35: 352 | AC35: 0 | AD35: 0 | AE35: 0 | AF35: 0 | AG35: 0 | AH35: 0 | AI35: 2643 | AJ35: 1598 | AK35: 1045 | AL35: 0 | AM35: 0 | AN35: 0 | AO35: 2120 | AP35: 869 | AQ35: 1251
A36: Miaoli County | B36: 一般 | C36: General | D36: 15 | E36: 7 | F36: 8 | G36: 5 | H36: 3 | I36: 2 | J36: 0 | K36: 0 | L36: 0 | M36: 0 | N36: 0 | O36: 0 | P36: 0 | Q36: 0 | R36: 0
B37: 原住民 | C37: Indigenous | D37: 0 | E37: 0 | F37: 0 | G37: 0 | H37: 0 | I37: 0 | J37: 0 | K37: 0 | L37: 0 | M37: 0 | N37: 0 | O37: 0 | P37: 0 | Q37: 0 | R37: 0
A38: 彰化縣 | B38: 計 | C38: Total | D38: 20 | E38: 6 | F38: 14 | G38: 2 | H38: 1 | I38: 1 | J38: 0 | K38: 0 | L38: 0 | M38: 1 | N38: 1 | O38: 0 | P38: 0 | Q38: 0 | R38: 0 | S38: 1 | T38: 1 | U38: 0 | V38: 0 | W38: 86 | X38: 54 | Y38: 32 | Z38: 1232 | AA38: 462 | AB38: 770 | AC38: 183 | AD38: 69 | AE38: 114 | AF38: 3548 | AG38: 1781 | AH38: 1767 | AI38: 12 | AJ38: 6 | AK38: 6 | AL38: 151 | AM38: 20 | AN38: 131 | AO38: 3411 | AP38: 1381 | AQ38: 2030
A39: Changhua County | B39: 一般 | C39: General | D39: 20 | E39: 6 | F39: 14 | G39: 2 | H39: 1 | I39: 1 | J39: 0 | K39: 0 | L39: 0 | M39: 1 | N39: 1 | O39: 0 | P39: 0 | Q39: 0 | R39: 0
B40: 原住民 | C40: Indigenous | D40: 0 | E40: 0 | F40: 0 | G40: 0 | H40: 0 | I40: 0 | J40: 0 | K40: 0 | L40: 0 | M40: 0 | N40: 0 | O40: 0 | P40: 0 | Q40: 0 | R40: 0
A41: 南投縣 | B41: 計 | C41: Total | D41: 19 | E41: 11 | F41: 8 | G41: 2 | H41: 1 | I41: 1 | J41: 0 | K41: 0 | L41: 0 | M41: 0 | N41: 0 | O41: 0 | P41: 0 | Q41: 0 | R41: 0 | S41: 1 | T41: 0 | U41: 1 | V41: 0 | W41: 1926 | X41: 784 | Y41: 1142 | Z41: 1168 | AA41: 651 | AB41: 517 | AC41: 1146 | AD41: 522 | AE41: 624 | AF41: 37 | AG41: 24 | AH41: 13 | AI41: 120 | AJ41: 48 | AK41: 72 | AL41: 88 | AM41: 34 | AN41: 54 | AO41: 428 | AP41: 112 | AQ41: 316
A42: Nantou County | B42: 一般 | C42: General | D42: 19 | E42: 11 | F42: 8 | G42: 2 | H42: 1 | I42: 1 | J42: 0 | K42: 0 | L42: 0 | M42: 0 | N42: 0 | O42: 0 | P42: 0 | Q42: 0 | R42: 0
B43: 原住民 | C43: Indigenous | D43: 0 | E43: 0 | F43: 0 | G43: 0 | H43: 0 | I43: 0 | J43: 0 | K43: 0 | L43: 0 | M43: 0 | N43: 0 | O43: 0 | P43: 0 | Q43: 0 | R43: 0
A44: 雲林縣 | B44: 計 | C44: Total | D44: 11 | E44: 5 | F44: 6 | G44: 2 | H44: 2 | I44: 0 | J44: 1 | K44: 0 | L44: 1 | M44: 1 | N44: 0 | O44: 1 | P44: 0 | Q44: 0 | R44: 0 | S44: 1 | T44: 1 | U44: 0 | V44: 0 | W44: 4741 | X44: 2054 | Y44: 2687 | Z44: 83 | AA44: 40 | AB44: 43 | AC44: 167 | AD44: 30 | AE44: 137 | AF44: 0 | AG44: 0 | AH44: 0 | AI44: 0 | AJ44: 0 | AK44: 0 | AL44: 1267 | AM44: 427 | AN44: 840 | AO44: 2143 | AP44: 653 | AQ44: 1490
A45: Yunlin County | B45: 一般 | C45: General | D45: 11 | E45: 5 | F45: 6 | G45: 2 | H45: 2 | I45: 0 | J45: 1 | K45: 0 | L45: 1 | M45: 1 | N45: 0 | O45: 1 | P45: 0 | Q45: 0 | R45: 0
B46: 原住民 | C46: Indigenous | D46: 0 | E46: 0 | F46: 0 | G46: 0 | H46: 0 | I46: 0 | J46: 0 | K46: 0 | L46: 0 | M46: 0 | N46: 0 | O46: 0 | P46: 0 | Q46: 0 | R46: 0
A47: 嘉義縣 | B47: 計 | C47: Total | D47: 19 | E47: 7 | F47: 12 | G47: 2 | H47: 0 | I47: 2 | J47: 0 | K47: 0 | L47: 0 | M47: 0 | N47: 0 | O47: 0 | P47: 0 | Q47: 0 | R47: 0 | S47: 0 | T47: 0 | U47: 0 | V47: 0 | W47: 0 | X47: 0 | Y47: 0 | Z47: 0 | AA47: 0 | AB47: 0 | AC47: 0 | AD47: 0 | AE47: 0 | AF47: 0 | AG47: 0 | AH47: 0 | AI47: 0 | AJ47: 0 | AK47: 0 | AL47: 0 | AM47: 0 | AN47: 0 | AO47: 0 | AP47: 0 | AQ47: 0
A48: Chiayi County | B48: 一般 | C48: General | D48: 19 | E48: 7 | F48: 12 | G48: 2 | H48: 0 | I48: 2 | J48: 0 | K48: 0 | L48: 0 | M48: 0 | N48: 0 | O48: 0 | P48: 0 | Q48: 0 | R48: 0
B49: 原住民 | C49: Indigenous | D49: 0 | E49: 0 | F49: 0 | G49: 0 | H49: 0 | I49: 0 | J49: 0 | K49: 0 | L49: 0 | M49: 0 | N49: 0 | O49: 0 | P49: 0 | Q49: 0 | R49: 0
A50: 屏東縣 | B50: 計 | C50: Total | D50: 18 | E50: 9 | F50: 9 | G50: 2 | H50: 1 | I50: 1 | J50: 0 | K50: 0 | L50: 0 | M50: 0 | N50: 0 | O50: 0 | P50: 0 | Q50: 0 | R50: 0 | S50: 2 | T50: 1 | U50: 1 | V50: 0 | W50: 2765 | X50: 1250 | Y50: 1515 | Z50: 0 | AA50: 0 | AB50: 0 | AC50: 59222 | AD50: 27384 | AE50: 31838 | AF50: 0 | AG50: 0 | AH50: 0 | AI50: 1 | AJ50: 0 | AK50: 1 | AL50: 0 | AM50: 0 | AN50: 0 | AO50: 178 | AP50: 63 | AQ50: 115
A51: Pingtung County | B51: 一般 | C51: General | D51: 17 | E51: 9 | F51: 8 | G51: 2 | H51: 1 | I51: 1 | J51: 0 | K51: 0 | L51: 0 | M51: 0 | N51: 0 | O51: 0 | P51: 0 | Q51: 0 | R51: 0
B52: 原住民 | C52: Indigenous | D52: 1 | E52: 0 | F52: 1 | G52: 0 | H52: 0 | I52: 0 | J52: 0 | K52: 0 | L52: 0 | M52: 0 | N52: 0 | O52: 0 | P52: 0 | Q52: 0 | R52: 0
A53: 臺東縣 | B53: 計 | C53: Total | D53: 12 | E53: 5 | F53: 7 | G53: 2 | H53: 0 | I53: 2 | J53: 0 | K53: 0 | L53: 0 | M53: 0 | N53: 0 | O53: 0 | P53: 0 | Q53: 0 | R53: 0 | S53: 1 | T53: 0 | U53: 0 | V53: 1 | W53: 0 | X53: 0 | Y53: 0 | Z53: 980 | AA53: 492 | AB53: 488 | AC53: 13393 | AD53: 6604 | AE53: 6789 | AF53: 0 | AG53: 0 | AH53: 0 | AI53: 0 | AJ53: 0 | AK53: 0 | AL53: 0 | AM53: 0 | AN53: 0 | AO53: 0 | AP53: 0 | AQ53: 0
A54: Taitung County | B54: 一般 | C54: General | D54: 12 | E54: 5 | F54: 7 | G54: 2 | H54: 0 | I54: 2 | J54: 0 | K54: 0 | L54: 0 | M54: 0 | N54: 0 | O54: 0 | P54: 0 | Q54: 0 | R54: 0
B55: 原住民 | C55: Indigenous | D55: 0 | E55: 0 | F55: 0 | G55: 0 | H55: 0 | I55: 0 | J55: 0 | K55: 0 | L55: 0 | M55: 0 | N55: 0 | O55: 0 | P55: 0 | Q55: 0 | R55: 0
A56: 花蓮縣 | B56: 計 | C56: Total | D56: 10 | E56: 2 | F56: 8 | G56: 1 | H56: 1 | I56: 0 | J56: 0 | K56: 0 | L56: 0 | M56: 0 | N56: 0 | O56: 0 | P56: 0 | Q56: 0 | R56: 0 | S56: 1 | T56: 0 | U56: 0 | V56: 1 | W56: 70 | X56: 38 | Y56: 32 | Z56: 45 | AA56: 45 | AB56: 0 | AC56: 112 | AD56: 45 | AE56: 67 | AF56: 171 | AG56: 68 | AH56: 103 | AI56: 45 | AJ56: 24 | AK56: 21 | AL56: 0 | AM56: 0 | AN56: 0 | AO56: 0 | AP56: 0 | AQ56: 0
A57: Hualien County | B57: 一般 | C57: General | D57: 6 | E57: 0 | F57: 6 | G57: 0 | H57: 0 | I57: 0 | J57: 0 | K57: 0 | L57: 0 | M57: 0 | N57: 0 | O57: 0 | P57: 0 | Q57: 0 | R57: 0
B58: 原住民 | C58: Indigenous | D58: 4 | E58: 2 | F58: 2 | G58: 1 | H58: 1 | I58: 0 | J58: 0 | K58: 0 | L58: 0 | M58: 0 | N58: 0 | O58: 0 | P58: 0 | Q58: 0 | R58: 0
A59: 澎湖縣 | B59: 計 | C59: Total | D59: 13 | E59: 7 | F59: 6 | G59: 4 | H59: 1 | I59: 3 | J59: 0 | K59: 0 | L59: 0 | M59: 0 | N59: 0 | O59: 0 | P59: 0 | Q59: 0 | R59: 0 | S59: 1 | T59: 1 | U59: 0 | V59: 0 | W59: 0 | X59: 0 | Y59: 0 | Z59: 0 | AA59: 0 | AB59: 0 | AC59: 0 | AD59: 0 | AE59: 0 | AF59: 0 | AG59: 0 | AH59: 0 | AI59: 0 | AJ59: 0 | AK59: 0 | AL59: 0 | AM59: 0 | AN59: 0 | AO59: 13453 | AP59: 4810 | AQ59: 8643
A60: Penghu County | B60: 一般 | C60: General | D60: 13 | E60: 7 | F60: 6 | G60: 4 | H60: 1 | I60: 3 | J60: 0 | K60: 0 | L60: 0 | M60: 0 | N60: 0 | O60: 0 | P60: 0 | Q60: 0 | R60: 0
B61: 原住民 | C61: Indigenous | D61: 0 | E61: 0 | F61: 0 | G61: 0 | H61: 0 | I61: 0 | J61: 0 | K61: 0 | L61: 0 | M61: 0 | N61: 0 | O61: 0 | P61: 0 | Q61: 0 | R61: 0
A62: 基隆市 | B62: 計 | C62: Total | D62: 36 | E62: 17 | F62: 19 | G62: 2 | H62: 1 | I62: 1 | J62: 0 | K62: 0 | L62: 0 | M62: 0 | N62: 0 | O62: 0 | P62: 0 | Q62: 0 | R62: 0 | S62: 1 | T62: 0 | U62: 0 | V62: 1 | W62: 1565 | X62: 1464 | Y62: 101 | Z62: 0 | AA62: 0 | AB62: 0 | AC62: 0 | AD62: 0 | AE62: 0 | AF62: 147 | AG62: 138 | AH62: 9 | AI62: 0 | AJ62: 0 | AK62: 0 | AL62: 0 | AM62: 0 | AN62: 0 | AO62: 0 | AP62: 0 | AQ62: 0
A63: Keelung City | B63: 一般 | C63: General | D63: 35 | E63: 16 | F63: 19 | G63: 2 | H63: 1 | I63: 1 | J63: 0 | K63: 0 | L63: 0 | M63: 0 | N63: 0 | O63: 0 | P63: 0 | Q63: 0 | R63: 0
B64: 原住民 | C64: Indigenous | D64: 1 | E64: 1 | F64: 0 | G64: 0 | H64: 0 | I64: 0 | J64: 0 | K64: 0 | L64: 0 | M64: 0 | N64: 0 | O64: 0 | P64: 0 | Q64: 0 | R64: 0
A65: 新竹市 | B65: 計 | C65: Total | D65: 24 | E65: 10 | F65: 14 | G65: 3 | H65: 2 | I65: 1 | J65: 0 | K65: 0 | L65: 0 | M65: 0 | N65: 0 | O65: 0 | P65: 0 | Q65: 0 | R65: 0 | S65: 0 | T65: 0 | U65: 0 | V65: 0 | W65: 0 | X65: 0 | Y65: 0 | Z65: 0 | AA65: 0 | AB65: 0 | AC65: 0 | AD65: 0 | AE65: 0 | AF65: 0 | AG65: 0 | AH65: 0 | AI65: 0 | AJ65: 0 | AK65: 0 | AL65: 0 | AM65: 0 | AN65: 0 | AO65: 0 | AP65: 0 | AQ65: 0
A66: Hsinchu City | B66: 一般 | C66: General | D66: 24 | E66: 10 | F66: 14 | G66: 3 | H66: 2 | I66: 1 | J66: 0 | K66: 0 | L66: 0 | M66: 0 | N66: 0 | O66: 0 | P66: 0 | Q66: 0 | R66: 0
B67: 原住民 | C67: Indigenous | D67: 0 | E67: 0 | F67: 0 | G67: 0 | H67: 0 | I67: 0 | J67: 0 | K67: 0 | L67: 0 | M67: 0 | N67: 0 | O67: 0 | P67: 0 | Q67: 0 | R67: 0
A68: 嘉義市 | B68: 計 | C68: Total | D68: 30 | E68: 13 | F68: 17 | G68: 3 | H68: 2 | I68: 1 | J68: 0 | K68: 0 | L68: 0 | M68: 0 | N68: 0 | O68: 0 | P68: 0 | Q68: 0 | R68: 0 | S68: 2 | T68: 2 | U68: 0 | V68: 0 | W68: 0 | X68: 0 | Y68: 0 | Z68: 0 | AA68: 0 | AB68: 0 | AC68: 55092 | AD68: 29504 | AE68: 25588 | AF68: 0 | AG68: 0 | AH68: 0 | AI68: 0 | AJ68: 0 | AK68: 0 | AL68: 0 | AM68: 0 | AN68: 0 | AO68: 3991 | AP68: 2057 | AQ68: 1934
A69: Chiayi City | B69: 一般 | C69: General | D69: 30 | E69: 13 | F69: 17 | G69: 3 | H69: 2 | I69: 1 | J69: 0 | K69: 0 | L69: 0 | M69: 0 | N69: 0 | O69: 0 | P69: 0 | Q69: 0 | R69: 0
B70: 原住民 | C70: Indigenous | D70: 0 | E70: 0 | F70: 0 | G70: 0 | H70: 0 | I70: 0 | J70: 0 | K70: 0 | L70: 0 | M70: 0 | N70: 0 | O70: 0 | P70: 0 | Q70: 0 | R70: 0
A71: 金門縣 | B71: 計 | C71: Total | D71: 12 | E71: 5 | F71: 7 | G71: 3 | H71: 2 | I71: 1 | J71: 0 | K71: 0 | L71: 0 | M71: 0 | N71: 0 | O71: 0 | P71: 0 | Q71: 0 | R71: 0 | S71: 1 | T71: 0 | U71: 0 | V71: 1 | W71: 327 | X71: 177 | Y71: 150 | Z71: 74 | AA71: 27 | AB71: 47 | AC71: 1573 | AD71: 505 | AE71: 1068 | AF71: 104 | AG71: 54 | AH71: 50 | AI71: 14 | AJ71: 10 | AK71: 4 | AL71: 38 | AM71: 1 | AN71: 37 | AO71: 0 | AP71: 0 | AQ71: 0
A72: Kinmen County | B72: 一般 | C72: General | D72: 12 | E72: 5 | F72: 7 | G72: 3 | H72: 2 | I72: 1 | J72: 0 | K72: 0 | L72: 0 | M72: 0 | N72: 0 | O72: 0 | P72: 0 | Q72: 0 | R72: 0
B73: 原住民 | C73: Indigenous | D73: 0 | E73: 0 | F73: 0 | G73: 0 | H73: 0 | I73: 0 | J73: 0 | K73: 0 | L73: 0 | M73: 0 | N73: 0 | O73: 0 | P73: 0 | Q73: 0 | R73: 0
A74: 連江縣 | B74: 計 | C74: Total | D74: 8 | E74: 3 | F74: 5 | G74: 2 | H74: 0 | I74: 2 | J74: 0 | K74: 0 | L74: 0 | M74: 0 | N74: 0 | O74: 0 | P74: 0 | Q74: 0 | R74: 0 | S74: 0 | T74: 0 | U74: 0 | V74: 0 | W74: 0 | X74: 0 | Y74: 0 | Z74: 0 | AA74: 0 | AB74: 0 | AC74: 0 | AD74: 0 | AE74: 0 | AF74: 0 | AG74: 0 | AH74: 0 | AI74: 0 | AJ74: 0 | AK74: 0 | AL74: 0 | AM74: 0 | AN74: 0 | AO74: 0 | AP74: 0 | AQ74: 0
A75: Lienchiang County | B75: 一般 | C75: General | D75: 8 | E75: 3 | F75: 5 | G75: 2 | H75: 0 | I75: 2 | J75: 0 | K75: 0 | L75: 0 | M75: 0 | N75: 0 | O75: 0 | P75: 0 | Q75: 0 | R75: 0
B76: 原住民 | C76: Indigenous | D76: 0 | E76: 0 | F76: 0 | G76: 0 | H76: 0 | I76: 0 | J76: 0 | K76: 0 | L76: 0 | M76: 0 | N76: 0 | O76: 0 | P76: 0 | Q76: 0 | R76: 0
A77: 資料來源：各直轄市、縣市政府。
A78: Source: County and Government.
A79: 更新日期：2023/03/31

Sheet 110
A1: 兒童及少年福利服務 Child and Youth Welfare Services
A2: 民國110年, 2021 | D2: =IF(D9=SUM(D12,D15,D21,D24,D27,D30,D18,D33,D36,D39,D42,D45,D48,D51,D54,D57,D60,D63,D66,D69,D72,D75),"","*") | E2: =IF(E9=SUM(E12,E15,E21,E24,E27,E30,E18,E33,E36,E39,E42,E45,E48,E51,E54,E57,E60,E63,E66,E69,E72,E75),"","*") | F2: =IF(F9=SUM(F12,F15,F21,F24,F27,F30,F18,F33,F36,F39,F42,F45,F48,F51,F54,F57,F60,F63,F66,F69,F72,F75),"","*") | J2: =IF(J9=SUM(J12,J15,J21,J24,J27,J30,J18,J33,J36,J39,J42,J45,J48,J51,J54,J57,J60,J63,J66,J69,J72,J75),"","*") | K2: =IF(K9=SUM(K12,K15,K21,K24,K27,K30,K18,K33,K36,K39,K42,K45,K48,K51,K54,K57,K60,K63,K66,K69,K72,K75),"","*") | L2: =IF(L9=SUM(L12,L15,L21,L24,L27,L30,L18,L33,L36,L39,L42,L45,L48,L51,L54,L57,L60,L63,L66,L69,L72,L75),"","*") | M2: =IF(M9=SUM(M12,M15,M21,M24,M27,M30,M18,M33,M36,M39,M42,M45,M48,M51,M54,M57,M60,M63,M66,M69,M72,M75),"","*") | N2: =IF(N9=SUM(N12,N15,N21,N24,N27,N30,N18,N33,N36,N39,N42,N45,N48,N51,N54,N57,N60,N63,N66,N69,N72,N75),"","*") | O2: =IF(O9=SUM(O12,O15,O21,O24,O27,O30,O18,O33,O36,O39,O42,O45,O48,O51,O54,O57,O60,O63,O66,O69,O72,O75),"","*") | P2: =IF(P9=SUM(P12,P15,P21,P24,P27,P30,P18,P33,P36,P39,P42,P45,P48,P51,P54,P57,P60,P63,P66,P69,P72,P75),"","*") | Q2: =IF(Q9=SUM(Q12,Q15,Q21,Q24,Q27,Q30,Q18,Q33,Q36,Q39,Q42,Q45,Q48,Q51,Q54,Q57,Q60,Q63,Q66,Q69,Q72,Q75),"","*") | ... U2: =IF(U9=SUM(U12,U15,U21,U24,U27,U30,U18,U33,U36,U39,U42,U45,U48,U51,U54,U57,U60,U63,U66,U69,U72,U75),"","*")
A3: 單位：人、人次、所 | D3: =IF(D8=SUM(D11,D14,D17,D20,D23,D26,D29,D32,D35,D38,D41,D44,D47,D50,D53,D56,D59,D62,D65,D68,D71,D74),"","*") | E3: =IF(E8=SUM(E11,E14,E17,E20,E23,E26,E29,E32,E35,E38,E41,E44,E47,E50,E53,E56,E59,E62,E65,E68,E71,E74),"","*") | F3: =IF(F8=SUM(F11,F14,F17,F20,F23,F26,F29,F32,F35,F38,F41,F44,F47,F50,F53,F56,F59,F62,F65,F68,F71,F74),"","*") | G3: =IF(G8=SUM(G11,G14,G17,G20,G23,G26,G29,G32,G35,G38,G41,G44,G47,G50,G53,G56,G59,G62,G65,G68,G71,G74),"","*") | H3: =IF(H8=SUM(H11,H14,H17,H20,H23,H26,H29,H32,H35,H38,H41,H44,H47,H50,H53,H56,H59,H62,H65,H68,H71,H74),"","*") | I3: =IF(I8=SUM(I11,I14,I17,I20,I23,I26,I29,I32,I35,I38,I41,I44,I47,I50,I53,I56,I59,I62,I65,I68,I71,I74),"","*") | J3: =IF(J8=SUM(J11,J14,J17,J20,J23,J26,J29,J32,J35,J38,J41,J44,J47,J50,J53,J56,J59,J62,J65,J68,J71,J74),"","*") | K3: =IF(K8=SUM(K11,K14,K17,K20,K23,K26,K29,K32,K35,K38,K41,K44,K47,K50,K53,K56,K59,K62,K65,K68,K71,K74),"","*") | ... AT3: =IF(AT8=SUM(AT11,AT14,AT17,AT20,AT23,AT26,AT29,AT32,AT35,AT38,AT41,AT44,AT47,AT50,AT53,AT56,AT59,AT62,AT65,AT68,AT71,AT74),"","*")
A4: 區域及特殊族群別 Locality & Ethnos | D4: 兒童及少年代表人數 Number of child and youth representatives | G4: 兒童及少年代表為委員人數 | J4: 兒童及少年培力活動參與人次 Number of participants in child and youth empowerment activities | M4: 無依兒童及少年安置及處理人數 Number of helpless children and youth receiving placement and other services | V4: 兒童及少年福利服務中心Welfare Service Centers
M5: 尋獲父母或監護人者 Those whose parents or guardians are found | P5: 逾法定期限未尋獲父母或監護人者 Those whose parents or guardians are not found within the statutory period | S5: 法定期限內尚在協尋父母或監護人者 Those whose parents or guardians are being searched for within the statutory period | V5: 兒童及少年福利服務中心數 Welfare Service Centers | Z5: 個案服務人次 Case Service | AC5: 團體服務人次 Group Service | AF5: 社區服務人次 Community Service | AI5: 外展服務人次 Outreach Service | AL5: 轉介服務人次 Referral Service | AO5: 親職教育人次 Parenting Education | AR5: 親子活動人次 Family Activities
D6: 計 | E6: 男 | F6: 女 | G6: 計 | H6: 男 | I6: 女 | J6: 計 | K6: 男 | L6: 女 | M6: 計 | N6: 男 | O6: 女 | P6: 計 | Q6: 男 | R6: 女 | S6: 計 | T6: 男 | U6: 女 | V6: 計 | W6: 公立 | X6: 私立 | Y6: 公設民營 | Z6: 計 | AA6: 男 | AB6: 女 | AC6: 計 | AD6: 男 | AE6: 女 | AF6: 計 | AG6: 男 | AH6: 女 | AI6: 計 | AJ6: 男 | AK6: 女 | AL6: 計 | AM6: 男 | AN6: 女 | AO6: 計 | AP6: 男 | AQ6: 女 | AR6: 計 | AS6: 男 | AT6: 女
D7: Total | E7: Male | F7: Female | G7: Total | H7: Male | I7: Female | J7: Total | K7: Male | L7: Female | M7: Total | N7: Male | O7: Female | P7: Total | Q7: Male | R7: Female | S7: Total | T7: Male | U7: Female | V7: Total | W7: Public | X7: Private | Y7: Run by Private | Z7: Total | AA7: Male | AB7: Female | AC7: Total | AD7: Male | AE7: Female | AF7: Total | AG7: Male | AH7: Female | AI7: Total | AJ7: Male | AK7: Female | AL7: Total | AM7: Male | AN7: Female | AO7: Total | AP7: Male | AQ7: Female | AR7: Total | AS7: Male | AT7: Female
A8: 總計 | B8: 計 | C8: Total | D8: 412 | E8: 183 | F8: 229 | G8: 77 | H8: 43 | I8: 34 | J8: 783793 | K8: 390533 | L8: 393260 | M8: 17 | N8: 10 | O8: 7 | P8: 11 | Q8: 3 | R8: 8 | S8: 2 | T8: 1 | U8: 1 | V8: 35 | W8: 10 | X8: 4 | Y8: 21 | Z8: 94353 | AA8: 49641 | AB8: 44712 | AC8: 8382 | AD8: 3634 | AE8: 4748 | AF8: 256798 | AG8: 128194 | AH8: 128604 | AI8: 15396 | AJ8: 6977 | AK8: 8419 | AL8: 2772 | AM8: 1359 | AN8: 1413 | AO8: 56400 | AP8: 22870 | AQ8: 33530 | AR8: 105026 | AS8: 38602 | AT8: 66424
A9: Total | B9: 一般 | C9: General | D9: 397 | E9: 173 | F9: 224 | G9: 75 | H9: 42 | I9: 33 | J9: 780241 | K9: 388826 | L9: 391415 | M9: 17 | N9: 10 | O9: 7 | P9: 11 | Q9: 3 | R9: 8 | S9: 2 | T9: 1 | U9: 1
B10: 原住民 | C10: Indigenous | D10: 15 | E10: 10 | F10: 5 | G10: 2 | H10: 1 | I10: 1 | J10: 3552 | K10: 1707 | L10: 1845 | M10: 0 | N10: 0 | O10: 0 | P10: 0 | Q10: 0 | R10: 0 | S10: 0 | T10: 0 | U10: 0
A11: 新北市 | B11: 計 | C11: Total | D11: 28 | E11: 13 | F11: 15 | G11: 6 | H11: 6 | I11: 0 | J11: 28636 | K11: 15140 | L11: 13496 | M11: 15 | N11: 9 | O11: 6 | P11: 6 | Q11: 1 | R11: 5 | S11: 1 | T11: 0 | U11: 1 | V11: 7 | W11: 0 | X11: 0 | Y11: 7 | Z11: 13664 | AA11: 7032 | AB11: 6632 | AC11: 2103 | AD11: 1086 | AE11: 1017 | AF11: 15513 | AG11: 7501 | AH11: 8012 | AI11: 1103 | AJ11: 636 | AK11: 467 | AL11: 1399 | AM11: 714 | AN11: 685 | AO11: 1334 | AP11: 527 | AQ11: 807 | AR11: 11601 | AS11: 6150 | AT11: 5451
A12: New Taipei City | B12: 一般 | C12: General | D12: 28 | E12: 13 | F12: 15 | G12: 6 | H12: 6 | I12: 0 | J12: 28636 | K12: 15140 | L12: 13496 | M12: 15 | N12: 9 | O12: 6 | P12: 6 | Q12: 1 | R12: 5 | S12: 1 | T12: 0 | U12: 1
B13: 原住民 | C13: Indigenous | D13: 0 | E13: 0 | F13: 0 | G13: 0 | H13: 0 | I13: 0 | J13: 0 | K13: 0 | L13: 0 | M13: 0 | N13: 0 | O13: 0 | P13: 0 | Q13: 0 | R13: 0 | S13: 0 | T13: 0 | U13: 0
A14: 臺北市 | B14: 計 | C14: Total | D14: 21 | E14: 12 | F14: 9 | G14: 6 | H14: 3 | I14: 3 | J14: 473 | K14: 268 | L14: 205 | M14: 0 | N14: 0 | O14: 0 | P14: 0 | Q14: 0 | R14: 0 | S14: 0 | T14: 0 | U14: 0 | V14: 8 | W14: 0 | X14: 0 | Y14: 8 | Z14: 31360 | AA14: 16438 | AB14: 14922 | AC14: 3245 | AD14: 1465 | AE14: 1780 | AF14: 29010 | AG14: 12990 | AH14: 16020 | AI14: 4369 | AJ14: 2627 | AK14: 1742 | AL14: 0 | AM14: 0 | AN14: 0 | AO14: 1367 | AP14: 427 | AQ14: 940 | AR14: 257 | AS14: 51 | AT14: 206
A15: Taipei City | B15: 一般 | C15: General | D15: 21 | E15: 12 | F15: 9 | G15: 6 | H15: 3 | I15: 3 | J15: 473 | K15: 268 | L15: 205 | M15: 0 | N15: 0 | O15: 0 | P15: 0 | Q15: 0 | R15: 0 | S15: 0 | T15: 0 | U15: 0
B16: 原住民 | C16: Indigenous | D16: 0 | E16: 0 | F16: 0 | G16: 0 | H16: 0 | I16: 0 | J16: 0 | K16: 0 | L16: 0 | M16: 0 | N16: 0 | O16: 0 | P16: 0 | Q16: 0 | R16: 0 | S16: 0 | T16: 0 | U16: 0
A17: 桃園市 | B17: 計 | C17: Total | D17: 30 | E17: 14 | F17: 16 | G17: 6 | H17: 2 | I17: 4 | J17: 121316 | K17: 62401 | L17: 58915 | M17: 2 | N17: 1 | O17: 1 | P17: 0 | Q17: 0 | R17: 0 | S17: 0 | T17: 0 | U17: 0 | V17: 1 | W17: 0 | X17: 0 | Y17: 1 | Z17: 16382 | AA17: 8685 | AB17: 7697 | AC17: 317 | AD17: 163 | AE17: 154 | AF17: 2162 | AG17: 1232 | AH17: 930 | AI17: 1424 | AJ17: 712 | AK17: 712 | AL17: 524 | AM17: 262 | AN17: 262 | AO17: 537 | AP17: 261 | AQ17: 276 | AR17: 1162 | AS17: 581 | AT17: 581
A18: Taoyuan City | B18: 一般 | C18: General | D18: 29 | E18: 13 | F18: 16 | G18: 6 | H18: 2 | I18: 4 | J18: 120891 | K18: 62209 | L18: 58682 | M18: 2 | N18: 1 | O18: 1 | P18: 0 | Q18: 0 | R18: 0 | S18: 0 | T18: 0 | U18: 0
B19: 原住民 | C19: Indigenous | D19: 1 | E19: 1 | F19: 0 | G19: 0 | H19: 0 | I19: 0 | J19: 425 | K19: 192 | L19: 233 | M19: 0 | N19: 0 | O19: 0 | P19: 0 | Q19: 0 | R19: 0 | S19: 0 | T19: 0 | U19: 0
A20: 臺中市 | B20: 計 | C20: Indigenous | D20: 21 | E20: 10 | F20: 11 | G20: 4 | H20: 2 | I20: 2 | J20: 216117 | K20: 103541 | L20: 112576 | M20: 0 | N20: 0 | O20: 0 | P20: 0 | Q20: 0 | R20: 0 | S20: 0 | T20: 0 | U20: 0 | V20: 0 | W20: 0 | X20: 0 | Y20: 0 | Z20: 0 | AA20: 0 | AB20: 0 | AC20: 0 | AD20: 0 | AE20: 0 | AF20: 0 | AG20: 0 | AH20: 0 | AI20: 0 | AJ20: 0 | AK20: 0 | AL20: 0 | AM20: 0 | AN20: 0 | AO20: 0 | AP20: 0 | AQ20: 0 | AR20: 0 | AS20: 0 | AT20: 0
A21: Taichung City | B21: 一般 | C21: General | D21: 20 | E21: 10 | F21: 10 | G21: 4 | H21: 2 | I21: 2 | J21: 216117 | K21: 103541 | L21: 112576 | M21: 0 | N21: 0 | O21: 0 | P21: 0 | Q21: 0 | R21: 0 | S21: 0 | T21: 0 | U21: 0
B22: 原住民 | C22: Indigenous | D22: 1 | E22: 0 | F22: 1 | G22: 0 | H22: 0 | I22: 0 | J22: 0 | K22: 0 | L22: 0 | M22: 0 | N22: 0 | O22: 0 | P22: 0 | Q22: 0 | R22: 0 | S22: 0 | T22: 0 | U22: 0
A23: 臺南市 | B23: 計 | C23: Total | D23: 20 | E23: 6 | F23: 14 | G23: 5 | H23: 4 | I23: 1 | J23: 54037 | K23: 27296 | L23: 26741 | M23: 0 | N23: 0 | O23: 0 | P23: 0 | Q23: 0 | R23: 0 | S23: 0 | T23: 0 | U23: 0 | V23: 3 | W23: 1 | X23: 1 | Y23: 1 | Z23: 41 | AA23: 23 | AB23: 18 | AC23: 256 | AD23: 125 | AE23: 131 | AF23: 657 | AG23: 288 | AH23: 369 | AI23: 197 | AJ23: 85 | AK23: 112 | AL23: 88 | AM23: 56 | AN23: 32 | AO23: 656 | AP23: 200 | AQ23: 456 | AR23: 1845 | AS23: 898 | AT23: 947
A24: Tainan City | B24: 一般 | C24: General | D24: 20 | E24: 6 | F24: 14 | G24: 5 | H24: 4 | I24: 1 | J24: 54037 | K24: 27296 | L24: 26741 | M24: 0 | N24: 0 | O24: 0 | P24: 0 | Q24: 0 | R24: 0 | S24: 0 | T24: 0 | U24: 0
B25: 原住民 | C25: Indigenous | D25: 0 | E25: 0 | F25: 0 | G25: 0 | H25: 0 | I25: 0 | J25: 0 | K25: 0 | L25: 0 | M25: 0 | N25: 0 | O25: 0 | P25: 0 | Q25: 0 | R25: 0 | S25: 0 | T25: 0 | U25: 0
A26: 高雄市 | B26: 計 | C26: Total | D26: 38 | E26: 16 | F26: 22 | G26: 2 | H26: 0 | I26: 2 | J26: 4890 | K26: 1956 | L26: 2934 | M26: 0 | N26: 0 | O26: 0 | P26: 0 | Q26: 0 | R26: 0 | S26: 0 | T26: 0 | U26: 0 | V26: 2 | W26: 2 | X26: 0 | Y26: 0 | Z26: 10693 | AA26: 7344 | AB26: 3349 | AC26: 270 | AD26: 215 | AE26: 55 | AF26: 2287 | AG26: 695 | AH26: 1592 | AI26: 0 | AJ26: 0 | AK26: 0 | AL26: 152 | AM26: 97 | AN26: 55 | AO26: 48062 | AP26: 19835 | AQ26: 28227 | AR26: 60500 | AS26: 17107 | AT26: 43393
A27: Kaohsiung City | B27: 一般 | C27: General | D27: 38 | E27: 16 | F27: 22 | G27: 2 | H27: 0 | I27: 2 | J27: 4797 | K27: 1920 | L27: 2877 | M27: 0 | N27: 0 | O27: 0 | P27: 0 | Q27: 0 | R27: 0 | S27: 0 | T27: 0 | U27: 0
B28: 原住民 | C28: Indigenous | D28: 0 | E28: 0 | F28: 0 | G28: 0 | H28: 0 | I28: 0 | J28: 93 | K28: 36 | L28: 57 | M28: 0 | N28: 0 | O28: 0 | P28: 0 | Q28: 0 | R28: 0 | S28: 0 | T28: 0 | U28: 0
A29: 宜蘭縣 | B29: 計 | C29: Total | D29: 18 | E29: 7 | F29: 11 | G29: 2 | H29: 1 | I29: 1 | J29: 280 | K29: 134 | L29: 146 | M29: 0 | N29: 0 | O29: 0 | P29: 2 | Q29: 1 | R29: 1 | S29: 0 | T29: 0 | U29: 0 | V29: 1 | W29: 0 | X29: 1 | Y29: 0 | Z29: 4837 | AA29: 1707 | AB29: 3130 | AC29: 817 | AD29: 14 | AE29: 803 | AF29: 158283 | AG29: 79140 | AH29: 79143 | AI29: 2092 | AJ29: 166 | AK29: 1926 | AL29: 271 | AM29: 99 | AN29: 172 | AO29: 644 | AP29: 323 | AQ29: 321 | AR29: 2092 | AS29: 1027 | AT29: 1065
A30: Yilan County | B30: 一般 | C30: General | D30: 17 | E30: 7 | F30: 10 | G30: 2 | H30: 1 | I30: 1 | J30: 261 | K30: 134 | L30: 127 | M30: 0 | N30: 0 | O30: 0 | P30: 2 | Q30: 1 | R30: 1 | S30: 0 | T30: 0 | U30: 0
B31: 原住民 | C31: Indigenous | D31: 1 | E31: 0 | F31: 1 | G31: 0 | H31: 0 | I31: 0 | J31: 19 | K31: 0 | L31: 19 | M31: 0 | N31: 0 | O31: 0 | P31: 0 | Q31: 0 | R31: 0 | S31: 0 | T31: 0 | U31: 0
A32: 新竹縣 | B32: 計 | C32: Total | D32: 5 | E32: 3 | F32: 2 | G32: 2 | H32: 2 | I32: 0 | J32: 104531 | K32: 51859 | L32: 52672 | M32: 0 | N32: 0 | O32: 0 | P32: 0 | Q32: 0 | R32: 0 | S32: 0 | T32: 0 | U32: 0 | V32: 0 | W32: 0 | X32: 0 | Y32: 0 | Z32: 0 | AA32: 0 | AB32: 0 | AC32: 0 | AD32: 0 | AE32: 0 | AF32: 0 | AG32: 0 | AH32: 0 | AI32: 0 | AJ32: 0 | AK32: 0 | AL32: 0 | AM32: 0 | AN32: 0 | AO32: 0 | AP32: 0 | AQ32: 0 | AR32: 0 | AS32: 0 | AT32: 0
A33: Hsinchu County | B33: 一般 | C33: General | D33: 5 | E33: 3 | F33: 2 | G33: 2 | H33: 2 | I33: 0 | J33: 104531 | K33: 51859 | L33: 52672 | M33: 0 | N33: 0 | O33: 0 | P33: 0 | Q33: 0 | R33: 0 | S33: 0 | T33: 0 | U33: 0
B34: 原住民 | C34: Indigenous | D34: 0 | E34: 0 | F34: 0 | G34: 0 | H34: 0 | I34: 0 | J34: 0 | K34: 0 | L34: 0 | M34: 0 | N34: 0 | O34: 0 | P34: 0 | Q34: 0 | R34: 0 | S34: 0 | T34: 0 | U34: 0
A35: 苗栗縣 | B35: 計 | C35: Total | D35: 12 | E35: 6 | F35: 6 | G35: 12 | H35: 6 | I35: 6 | J35: 153 | K35: 47 | L35: 106 | M35: 0 | N35: 0 | O35: 0 | P35: 0 | Q35: 0 | R35: 0 | S35: 0 | T35: 0 | U35: 0 | V35: 1 | W35: 1 | X35: 0 | Y35: 0 | Z35: 5964 | AA35: 2815 | AB35: 3149 | AC35: 0 | AD35: 0 | AE35: 0 | AF35: 306 | AG35: 148 | AH35: 158 | AI35: 0 | AJ35: 0 | AK35: 0 | AL35: 18 | AM35: 9 | AN35: 9 | AO35: 0 | AP35: 0 | AQ35: 0 | AR35: 72 | AS35: 29 | AT35: 43
A36: Miaoli County | B36: 一般 | C36: General | D36: 11 | E36: 6 | F36: 5 | G36: 11 | H36: 6 | I36: 5 | J36: 151 | K36: 47 | L36: 104 | M36: 0 | N36: 0 | O36: 0 | P36: 0 | Q36: 0 | R36: 0 | S36: 0 | T36: 0 | U36: 0
B37: 原住民 | C37: Indigenous | D37: 1 | E37: 0 | F37: 1 | G37: 1 | H37: 0 | I37: 1 | J37: 2 | K37: 0 | L37: 2 | M37: 0 | N37: 0 | O37: 0 | P37: 0 | Q37: 0 | R37: 0 | S37: 0 | T37: 0 | U37: 0
A38: 彰化縣 | B38: 計 | C38: Total | D38: 20 | E38: 6 | F38: 14 | G38: 2 | H38: 1 | I38: 1 | J38: 935 | K38: 376 | L38: 559 | M38: 0 | N38: 0 | O38: 0 | P38: 0 | Q38: 0 | R38: 0 | S38: 1 | T38: 1 | U38: 0 | V38: 1 | W38: 1 | X38: 0 | Y38: 0 | Z38: 869 | AA38: 848 | AB38: 21 | AC38: 315 | AD38: 163 | AE38: 152 | AF38: 1553 | AG38: 786 | AH38: 767 | AI38: 216 | AJ38: 132 | AK38: 84 | AL38: 15 | AM38: 14 | AN38: 1 | AO38: 1362 | AP38: 674 | AQ38: 688 | AR38: 2166 | AS38: 1072 | AT38: 1094
A39: Changhua County | B39: 一般 | C39: General | D39: 20 | E39: 6 | F39: 14 | G39: 2 | H39: 1 | I39: 1 | J39: 935 | K39: 376 | L39: 559 | M39: 0 | N39: 0 | O39: 0 | P39: 0 | Q39: 0 | R39: 0 | S39: 1 | T39: 1 | U39: 0
B40: 原住民 | C40: Indigenous | D40: 0 | E40: 0 | F40: 0 | G40: 0 | H40: 0 | I40: 0 | J40: 0 | K40: 0 | L40: 0 | M40: 0 | N40: 0 | O40: 0 | P40: 0 | Q40: 0 | R40: 0 | S40: 0 | T40: 0 | U40: 0
A41: 南投縣 | B41: 計 | C41: Total | D41: 15 | E41: 6 | F41: 9 | G41: 2 | H41: 1 | I41: 1 | J41: 61 | K41: 23 | L41: 38 | M41: 0 | N41: 0 | O41: 0 | P41: 0 | Q41: 0 | R41: 0 | S41: 0 | T41: 0 | U41: 0 | V41: 1 | W41: 0 | X41: 1 | Y41: 0 | Z41: 1674 | AA41: 1053 | AB41: 621 | AC41: 426 | AD41: 209 | AE41: 217 | AF41: 4219 | AG41: 2377 | AH41: 1842 | AI41: 188 | AJ41: 62 | AK41: 126 | AL41: 93 | AM41: 19 | AN41: 74 | AO41: 147 | AP41: 61 | AQ41: 86 | AR41: 146 | AS41: 48 | AT41: 98
A42: Nantou County | B42: 一般 | C42: General | D42: 15 | E42: 6 | F42: 9 | G42: 2 | H42: 1 | I42: 1 | J42: 61 | K42: 23 | L42: 38 | M42: 0 | N42: 0 | O42: 0 | P42: 0 | Q42: 0 | R42: 0 | S42: 0 | T42: 0 | U42: 0
B43: 原住民 | C43: Indigenous | D43: 0 | E43: 0 | F43: 0 | G43: 0 | H43: 0 | I43: 0 | J43: 0 | K43: 0 | L43: 0 | M43: 0 | N43: 0 | O43: 0 | P43: 0 | Q43: 0 | R43: 0 | S43: 0 | T43: 0 | U43: 0
A44: 雲林縣 | B44: 計 | C44: Total | D44: 8 | E44: 4 | F44: 4 | G44: 2 | H44: 2 | I44: 0 | J44: 147 | K44: 77 | L44: 70 | M44: 0 | N44: 0 | O44: 0 | P44: 2 | Q44: 0 | R44: 2 | S44: 0 | T44: 0 | U44: 0 | V44: 1 | W44: 1 | X44: 0 | Y44: 0 | Z44: 3791 | AA44: 1580 | AB44: 2211 | AC44: 0 | AD44: 0 | AE44: 0 | AF44: 2894 | AG44: 1261 | AH44: 1633 | AI44: 3704 | AJ44: 1548 | AK44: 2156 | AL44: 87 | AM44: 32 | AN44: 55 | AO44: 1315 | AP44: 287 | AQ44: 1028 | AR44: 2977 | AS44: 1072 | AT44: 1905
A45: Yunlin County | B45: 一般 | C45: General | D45: 8 | E45: 4 | F45: 4 | G45: 2 | H45: 2 | I45: 0 | J45: 147 | K45: 77 | L45: 70 | M45: 0 | N45: 0 | O45: 0 | P45: 2 | Q45: 0 | R45: 2 | S45: 0 | T45: 0 | U45: 0
B46: 原住民 | C46: Indigenous | D46: 0 | E46: 0 | F46: 0 | G46: 0 | H46: 0 | I46: 0 | J46: 0 | K46: 0 | L46: 0 | M46: 0 | N46: 0 | O46: 0 | P46: 0 | Q46: 0 | R46: 0 | S46: 0 | T46: 0 | U46: 0
A47: 嘉義縣 | B47: 計 | C47: Total | D47: 20 | E47: 8 | F47: 12 | G47: 2 | H47: 0 | I47: 2 | J47: 3658 | K47: 1994 | L47: 1664 | M47: 0 | N47: 0 | O47: 0 | P47: 0 | Q47: 0 | R47: 0 | S47: 0 | T47: 0 | U47: 0 | V47: 0 | W47: 0 | X47: 0 | Y47: 0 | Z47: 0 | AA47: 0 | AB47: 0 | AC47: 0 | AD47: 0 | AE47: 0 | AF47: 0 | AG47: 0 | AH47: 0 | AI47: 0 | AJ47: 0 | AK47: 0 | AL47: 0 | AM47: 0 | AN47: 0 | AO47: 0 | AP47: 0 | AQ47: 0 | AR47: 0 | AS47: 0 | AT47: 0
A48: Chiayi County | B48: 一般 | C48: General | D48: 20 | E48: 8 | F48: 12 | G48: 2 | H48: 0 | I48: 2 | J48: 3657 | K48: 1994 | L48: 1663 | M48: 0 | N48: 0 | O48: 0 | P48: 0 | Q48: 0 | R48: 0 | S48: 0 | T48: 0 | U48: 0
B49: 原住民 | C49: Indigenous | D49: 0 | E49: 0 | F49: 0 | G49: 0 | H49: 0 | I49: 0 | J49: 1 | K49: 0 | L49: 1 | M49: 0 | N49: 0 | O49: 0 | P49: 0 | Q49: 0 | R49: 0 | S49: 0 | T49: 0 | U49: 0
A50: 屏東縣 | B50: 計 | C50: Total | D50: 19 | E50: 11 | F50: 8 | G50: 2 | H50: 1 | I50: 1 | J50: 2790 | K50: 1310 | L50: 1480 | M50: 0 | N50: 0 | O50: 0 | P50: 1 | Q50: 1 | R50: 0 | S50: 0 | T50: 0 | U50: 0 | V50: 2 | W50: 1 | X50: 1 | Y50: 0 | Z50: 2555 | AA50: 1150 | AB50: 1405 | AC50: 0 | AD50: 0 | AE50: 0 | AF50: 15378 | AG50: 7644 | AH50: 7734 | AI50: 1405 | AJ50: 633 | AK50: 772 | AL50: 3 | AM50: 2 | AN50: 1 | AO50: 125 | AP50: 39 | AQ50: 86 | AR50: 106 | AS50: 34 | AT50: 72
A51: Pingtung County | B51: 一般 | C51: General | D51: 19 | E51: 11 | F51: 8 | G51: 2 | H51: 1 | I51: 1 | J51: 2790 | K51: 1310 | L51: 1480 | M51: 0 | N51: 0 | O51: 0 | P51: 1 | Q51: 1 | R51: 0 | S51: 0 | T51: 0 | U51: 0
B52: 原住民 | C52: Indigenous | D52: 0 | E52: 0 | F52: 0 | G52: 0 | H52: 0 | I52: 0 | J52: 0 | K52: 0 | L52: 0 | M52: 0 | N52: 0 | O52: 0 | P52: 0 | Q52: 0 | R52: 0 | S52: 0 | T52: 0 | U52: 0
A53: 臺東縣 | B53: 計 | C53: Total | D53: 20 | E53: 5 | F53: 15 | G53: 2 | H53: 0 | I53: 2 | J53: 72 | K53: 30 | L53: 42 | M53: 0 | N53: 0 | O53: 0 | P53: 0 | Q53: 0 | R53: 0 | S53: 0 | T53: 0 | U53: 0 | V53: 1 | W53: 0 | X53: 0 | Y53: 1 | Z53: 0 | AA53: 0 | AB53: 0 | AC53: 212 | AD53: 79 | AE53: 133 | AF53: 17677 | AG53: 9423 | AH53: 8254 | AI53: 0 | AJ53: 0 | AK53: 0 | AL53: 0 | AM53: 0 | AN53: 0 | AO53: 0 | AP53: 0 | AQ53: 0 | AR53: 0 | AS53: 0 | AT53: 0
A54: Taitung County | B54: 一般 | C54: General | D54: 15 | E54: 2 | F54: 13 | G54: 2 | H54: 0 | I54: 2 | J54: 50 | K54: 16 | L54: 34 | M54: 0 | N54: 0 | O54: 0 | P54: 0 | Q54: 0 | R54: 0 | S54: 0 | T54: 0 | U54: 0
B55: 原住民 | C55: Indigenous | D55: 5 | E55: 3 | F55: 2 | G55: 0 | H55: 0 | I55: 0 | J55: 22 | K55: 14 | L55: 8 | M55: 0 | N55: 0 | O55: 0 | P55: 0 | Q55: 0 | R55: 0 | S55: 0 | T55: 0 | U55: 0
A56: 花蓮縣 | B56: 計 | C56: Total | D56: 10 | E56: 7 | F56: 3 | G56: 1 | H56: 1 | I56: 0 | J56: 10283 | K56: 5035 | L56: 5248 | M56: 0 | N56: 0 | O56: 0 | P56: 0 | Q56: 0 | R56: 0 | S56: 0 | T56: 0 | U56: 0 | V56: 1 | W56: 0 | X56: 0 | Y56: 1 | Z56: 70 | AA56: 43 | AB56: 27 | AC56: 0 | AD56: 0 | AE56: 0 | AF56: 96 | AG56: 96 | AH56: 0 | AI56: 512 | AJ56: 259 | AK56: 253 | AL56: 41 | AM56: 25 | AN56: 16 | AO56: 0 | AP56: 0 | AQ56: 0 | AR56: 0 | AS56: 0 | AT56: 0
A57: Hualien County | B57: 一般 | C57: General | D57: 5 | E57: 2 | F57: 3 | G57: 0 | H57: 0 | I57: 0 | J57: 7293 | K57: 3570 | L57: 3723 | M57: 0 | N57: 0 | O57: 0 | P57: 0 | Q57: 0 | R57: 0 | S57: 0 | T57: 0 | U57: 0
B58: 原住民 | C58: Indigenous | D58: 5 | E58: 5 | F58: 0 | G58: 1 | H58: 1 | I58: 0 | J58: 2990 | K58: 1465 | L58: 1525 | M58: 0 | N58: 0 | O58: 0 | P58: 0 | Q58: 0 | R58: 0 | S58: 0 | T58: 0 | U58: 0
A59: 澎湖縣 | B59: 計 | C59: Total | D59: 9 | E59: 6 | F59: 3 | G59: 9 | H59: 6 | I59: 3 | J59: 733 | K59: 268 | L59: 465 | M59: 0 | N59: 0 | O59: 0 | P59: 0 | Q59: 0 | R59: 0 | S59: 0 | T59: 0 | U59: 0 | V59: 1 | W59: 1 | X59: 0 | Y59: 0 | Z59: 0 | AA59: 0 | AB59: 0 | AC59: 0 | AD59: 0 | AE59: 0 | AF59: 0 | AG59: 0 | AH59: 0 | AI59: 0 | AJ59: 0 | AK59: 0 | AL59: 0 | AM59: 0 | AN59: 0 | AO59: 0 | AP59: 0 | AQ59: 0 | AR59: 20438 | AS59: 9847 | AT59: 10591
A60: Penghu County | B60: 一般 | C60: General | D60: 9 | E60: 6 | F60: 3 | G60: 9 | H60: 6 | I60: 3 | J60: 733 | K60: 268 | L60: 465 | M60: 0 | N60: 0 | O60: 0 | P60: 0 | Q60: 0 | R60: 0 | S60: 0 | T60: 0 | U60: 0
B61: 原住民 | C61: Indigenous | D61: 0 | E61: 0 | F61: 0 | G61: 0 | H61: 0 | I61: 0 | J61: 0 | K61: 0 | L61: 0 | M61: 0 | N61: 0 | O61: 0 | P61: 0 | Q61: 0 | R61: 0 | S61: 0 | T61: 0 | U61: 0
A62: 基隆市 | B62: 計 | C62: Total | D62: 29 | E62: 14 | F62: 15 | G62: 0 | H62: 0 | I62: 0 | J62: 773 | K62: 334 | L62: 439 | M62: 0 | N62: 0 | O62: 0 | P62: 0 | Q62: 0 | R62: 0 | S62: 0 | T62: 0 | U62: 0 | V62: 1 | W62: 0 | X62: 0 | Y62: 1 | Z62: 317 | AA62: 150 | AB62: 167 | AC62: 143 | AD62: 66 | AE62: 77 | AF62: 0 | AG62: 0 | AH62: 0 | AI62: 112 | AJ62: 88 | AK62: 24 | AL62: 41 | AM62: 21 | AN62: 20 | AO62: 0 | AP62: 0 | AQ62: 0 | AR62: 117 | AS62: 39 | AT62: 78
A63: Keelung City | B63: 一般 | C63: General | D63: 28 | E63: 13 | F63: 15 | G63: 0 | H63: 0 | I63: 0 | J63: 773 | K63: 334 | L63: 439 | M63: 0 | N63: 0 | O63: 0 | P63: 0 | Q63: 0 | R63: 0 | S63: 0 | T63: 0 | U63: 0
B64: 原住民 | C64: Indigenous | D64: 1 | E64: 1 | F64: 0 | G64: 0 | H64: 0 | I64: 0 | J64: 0 | K64: 0 | L64: 0 | M64: 0 | N64: 0 | O64: 0 | P64: 0 | Q64: 0 | R64: 0 | S64: 0 | T64: 0 | U64: 0
A65: 新竹市 | B65: 計 | C65: Total | D65: 19 | E65: 8 | F65: 11 | G65: 2 | H65: 2 | I65: 0 | J65: 232765 | K65: 117911 | L65: 114854 | M65: 0 | N65: 0 | O65: 0 | P65: 0 | Q65: 0 | R65: 0 | S65: 0 | T65: 0 | U65: 0 | V65: 0 | W65: 0 | X65: 0 | Y65: 0 | Z65: 0 | AA65: 0 | AB65: 0 | AC65: 0 | AD65: 0 | AE65: 0 | AF65: 0 | AG65: 0 | AH65: 0 | AI65: 0 | AJ65: 0 | AK65: 0 | AL65: 0 | AM65: 0 | AN65: 0 | AO65: 0 | AP65: 0 | AQ65: 0 | AR65: 0 | AS65: 0 | AT65: 0
A66: Hsinchu City | B66: 一般 | C66: General | D66: 19 | E66: 8 | F66: 11 | G66: 2 | H66: 2 | I66: 0 | J66: 232765 | K66: 117911 | L66: 114854 | M66: 0 | N66: 0 | O66: 0 | P66: 0 | Q66: 0 | R66: 0 | S66: 0 | T66: 0 | U66: 0
B67: 原住民 | C67: Indigenous | D67: 0 | E67: 0 | F67: 0 | G67: 0 | H67: 0 | I67: 0 | J67: 0 | K67: 0 | L67: 0 | M67: 0 | N67: 0 | O67: 0 | P67: 0 | Q67: 0 | R67: 0 | S67: 0 | T67: 0 | U67: 0
A68: 嘉義市 | B68: 計 | C68: Total | D68: 30 | E68: 13 | F68: 17 | G68: 3 | H68: 2 | I68: 1 | J68: 251 | K68: 109 | L68: 142 | M68: 0 | N68: 0 | O68: 0 | P68: 0 | Q68: 0 | R68: 0 | S68: 0 | T68: 0 | U68: 0 | V68: 2 | W68: 2 | X68: 0 | Y68: 0 | Z68: 1898 | AA68: 652 | AB68: 1246 | AC68: 211 | AD68: 35 | AE68: 176 | AF68: 6239 | AG68: 4368 | AH68: 1871 | AI68: 0 | AJ68: 0 | AK68: 0 | AL68: 40 | AM68: 9 | AN68: 31 | AO68: 813 | AP68: 227 | AQ68: 586 | AR68: 1547 | AS68: 647 | AT68: 900
A69: Chiayi City | B69: 一般 | C69: General | D69: 30 | E69: 13 | F69: 17 | G69: 3 | H69: 2 | I69: 1 | J69: 251 | K69: 109 | L69: 142 | M69: 0 | N69: 0 | O69: 0 | P69: 0 | Q69: 0 | R69: 0 | S69: 0 | T69: 0 | U69: 0
B70: 原住民 | C70: Indigenous | D70: 0 | E70: 0 | F70: 0 | G70: 0 | H70: 0 | I70: 0 | J70: 0 | K70: 0 | L70: 0 | M70: 0 | N70: 0 | O70: 0 | P70: 0 | Q70: 0 | R70: 0 | S70: 0 | T70: 0 | U70: 0
A71: 金門縣 | B71: 計 | C71: Total | D71: 12 | E71: 5 | F71: 7 | G71: 3 | H71: 1 | I71: 2 | J71: 214 | K71: 104 | L71: 110 | M71: 0 | N71: 0 | O71: 0 | P71: 0 | Q71: 0 | R71: 0 | S71: 0 | T71: 0 | U71: 0 | V71: 1 | W71: 0 | X71: 0 | Y71: 1 | Z71: 238 | AA71: 121 | AB71: 117 | AC71: 67 | AD71: 14 | AE71: 53 | AF71: 524 | AG71: 245 | AH71: 279 | AI71: 74 | AJ71: 29 | AK71: 45 | AL71: 0 | AM71: 0 | AN71: 0 | AO71: 38 | AP71: 9 | AQ71: 29 | AR71: 0 | AS71: 0 | AT71: 0
A72: Kinmen County | B72: 一般 | C72: General | D72: 12 | E72: 5 | F72: 7 | G72: 3 | H72: 1 | I72: 2 | J72: 214 | K72: 104 | L72: 110 | M72: 0 | N72: 0 | O72: 0 | P72: 0 | Q72: 0 | R72: 0 | S72: 0 | T72: 0 | U72: 0
B73: 原住民 | C73: Indigenous | D73: 0 | E73: 0 | F73: 0 | G73: 0 | H73: 0 | I73: 0 | J73: 0 | K73: 0 | L73: 0 | M73: 0 | N73: 0 | O73: 0 | P73: 0 | Q73: 0 | R73: 0 | S73: 0 | T73: 0 | U73: 0
A74: 連江縣 | B74: 計 | C74: Total | D74: 8 | E74: 3 | F74: 5 | G74: 2 | H74: 0 | I74: 2 | J74: 678 | K74: 320 | L74: 358 | M74: 0 | N74: 0 | O74: 0 | P74: 0 | Q74: 0 | R74: 0 | S74: 0 | T74: 0 | U74: 0 | V74: 0 | W74: 0 | X74: 0 | Y74: 0 | Z74: 0 | AA74: 0 | AB74: 0 | AC74: 0 | AD74: 0 | AE74: 0 | AF74: 0 | AG74: 0 | AH74: 0 | AI74: 0 | AJ74: 0 | AK74: 0 | AL74: 0 | AM74: 0 | AN74: 0 | AO74: 0 | AP74: 0 | AQ74: 0 | AR74: 0 | AS74: 0 | AT74: 0
A75: Lienchiang County | B75: 一般 | C75: General | D75: 8 | E75: 3 | F75: 5 | G75: 2 | H75: 0 | I75: 2 | J75: 678 | K75: 320 | L75: 358 | M75: 0 | N75: 0 | O75: 0 | P75: 0 | Q75: 0 | R75: 0 | S75: 0 | T75: 0 | U75: 0
B76: 原住民 | C76: Indigenous | D76: 0 | E76: 0 | F76: 0 | G76: 0 | H76: 0 | I76: 0 | J76: 0 | K76: 0 | L76: 0 | M76: 0 | N76: 0 | O76: 0 | P76: 0 | Q76: 0 | R76: 0 | S76: 0 | T76: 0 | U76: 0
A77: 資料來源：各直轄市、縣市政府。
A78: Source: County and Government.
A79: 更新日期：2023/03/31
A80: 總計 | B80: 計 | C80: Total | D80: 412 | E80: 183 | F80: 229 | G80: 77 | H80: 43 | I80: 34 | J80: 783793 | K80: 390533 | L80: 393260 | M80: 17 | N80: 10 | O80: 7 | P80: 11 | Q80: 3 | R80: 8 | S80: 2 | T80: 1 | U80: 1 | V80: 35 | W80: 10 | X80: 4 | Y80: 21 | Z80: 94353 | AA80: 49641 | AB80: 44712 | AC80: 8382 | AD80: 3634 | AE80: 4748 | AF80: 239385 | AG80: 118821 | AH80: 120564 | AI80: 32809 | AJ80: 16350 | AK80: 16459 | AL80: 2772 | AM80: 1359 | AN80: 1413 | AO80: 56400 | AP80: 22870 | AQ80: 33530 | AR80: 105026 | AS80: 38602 | AT80: 66424
A81: Total | B81: 一般 | C81: General | D81: 397 | E81: 173 | F81: 224 | G81: 75 | H81: 42 | I81: 33 | J81: 780241 | K81: 388826 | L81: 391415 | M81: 17 | N81: 10 | O81: 7 | P81: 11 | Q81: 3 | R81: 8 | S81: 2 | T81: 1 | U81: 1
B82: 原住民 | C82: Indigenous | D82: 15 | E82: 10 | F82: 5 | G82: 2 | H82: 1 | I82: 1 | J82: 3552 | K82: 1707 | L82: 1845 | M82: 0 | N82: 0 | O82: 0 | P82: 0 | Q82: 0 | R82: 0 | S82: 0 | T82: 0 | U82: 0
A83: 新 北 市 | B83: 計 | C83: Total | D83: 28 | E83: 13 | F83: 15 | G83: 6 | H83: 6 | I83: 0 | J83: 28636 | K83: 15140 | L83: 13496 | M83: 15 | N83: 9 | O83: 6 | P83: 6 | Q83: 1 | R83: 5 | S83: 1 | T83: 0 | U83: 1 | V83: 7 | W83: 0 | X83: 0 | Y83: 7 | Z83: 13664 | AA83: 7032 | AB83: 6632 | AC83: 2103 | AD83: 1086 | AE83: 1017 | AF83: 15513 | AG83: 7501 | AH83: 8012 | AI83: 1103 | AJ83: 636 | AK83: 467 | AL83: 1399 | AM83: 714 | AN83: 685 | AO83: 1334 | AP83: 527 | AQ83: 807 | AR83: 11601 | AS83: 6150 | AT83: 5451
A84: New Taipei City | B84: 一般 | C84: General | D84: 28 | E84: 13 | F84: 15 | G84: 6 | H84: 6 | I84: 0 | J84: 28636 | K84: 15140 | L84: 13496 | M84: 15 | N84: 9 | O84: 6 | P84: 6 | Q84: 1 | R84: 5 | S84: 1 | T84: 0 | U84: 1
B85: 原住民 | C85: Indigenous | D85: 0 | E85: 0 | F85: 0 | G85: 0 | H85: 0 | I85: 0 | J85: 0 | K85: 0 | L85: 0 | M85: 0 | N85: 0 | O85: 0 | P85: 0 | Q85: 0 | R85: 0 | S85: 0 | T85: 0 | U85: 0
A86: 臺 北 市 | B86: 計 | C86: Total | D86: 21 | E86: 12 | F86: 9 | G86: 6 | H86: 3 | I86: 3 | J86: 473 | K86: 268 | L86: 205 | M86: 0 | N86: 0 | O86: 0 | P86: 0 | Q86: 0 | R86: 0 | S86: 0 | T86: 0 | U86: 0 | V86: 8 | W86: 0 | X86: 0 | Y86: 8 | Z86: 31360 | AA86: 16438 | AB86: 14922 | AC86: 3245 | AD86: 1465 | AE86: 1780 | AF86: 29010 | AG86: 12990 | AH86: 16020 | AI86: 4369 | AJ86: 2627 | AK86: 1742 | AL86: 0 | AM86: 0 | AN86: 0 | AO86: 1367 | AP86: 427 | AQ86: 940 | AR86: 257 | AS86: 51 | AT86: 206
A87: Taipei City | B87: 一般 | C87: General | D87: 21 | E87: 12 | F87: 9 | G87: 6 | H87: 3 | I87: 3 | J87: 473 | K87: 268 | L87: 205 | M87: 0 | N87: 0 | O87: 0 | P87: 0 | Q87: 0 | R87: 0 | S87: 0 | T87: 0 | U87: 0
B88: 原住民 | C88: Indigenous | D88: 0 | E88: 0 | F88: 0 | G88: 0 | H88: 0 | I88: 0 | J88: 0 | K88: 0 | L88: 0 | M88: 0 | N88: 0 | O88: 0 | P88: 0 | Q88: 0 | R88: 0 | S88: 0 | T88: 0 | U88: 0
A89: 桃 園 市 | B89: 計 | C89: Total | D89: 30 | E89: 14 | F89: 16 | G89: 6 | H89: 2 | I89: 4 | J89: 121316 | K89: 62401 | L89: 58915 | M89: 2 | N89: 1 | O89: 1 | P89: 0 | Q89: 0 | R89: 0 | S89: 0 | T89: 0 | U89: 0 | V89: 1 | W89: 0 | X89: 0 | Y89: 1 | Z89: 16382 | AA89: 8685 | AB89: 7697 | AC89: 317 | AD89: 163 | AE89: 154 | AF89: 2162 | AG89: 1232 | AH89: 930 | AI89: 1424 | AJ89: 712 | AK89: 712 | AL89: 524 | AM89: 262 | AN89: 262 | AO89: 537 | AP89: 261 | AQ89: 276 | AR89: 1162 | AS89: 581 | AT89: 581
A90: Taoyuan City | B90: 一般 | C90: General | D90: 29 | E90: 13 | F90: 16 | G90: 6 | H90: 2 | I90: 4 | J90: 120891 | K90: 62209 | L90: 58682 | M90: 2 | N90: 1 | O90: 1 | P90: 0 | Q90: 0 | R90: 0 | S90: 0 | T90: 0 | U90: 0
B91: 原住民 | C91: Indigenous | D91: 1 | E91: 1 | F91: 0 | G91: 0 | H91: 0 | I91: 0 | J91: 425 | K91: 192 | L91: 233 | M91: 0 | N91: 0 | O91: 0 | P91: 0 | Q91: 0 | R91: 0 | S91: 0 | T91: 0 | U91: 0
A92: 臺 中 市 | B92: 計 | C92: Total | D92: 21 | E92: 10 | F92: 11 | G92: 4 | H92: 2 | I92: 2 | J92: 216117 | K92: 103541 | L92: 112576 | M92: 0 | N92: 0 | O92: 0 | P92: 0 | Q92: 0 | R92: 0 | S92: 0 | T92: 0 | U92: 0 | V92: 0 | W92: 0 | X92: 0 | Y92: 0 | Z92: 0 | AA92: 0 | AB92: 0 | AC92: 0 | AD92: 0 | AE92: 0 | AF92: 0 | AG92: 0 | AH92: 0 | AI92: 0 | AJ92: 0 | AK92: 0 | AL92: 0 | AM92: 0 | AN92: 0 | AO92: 0 | AP92: 0 | AQ92: 0 | AR92: 0 | AS92: 0 | AT92: 0
A93: Taichung City | B93: 一般 | C93: General | D93: 20 | E93: 10 | F93: 10 | G93: 4 | H93: 2 | I93: 2 | J93: 216117 | K93: 103541 | L93: 112576 | M93: 0 | N93: 0 | O93: 0 | P93: 0 | Q93: 0 | R93: 0 | S93: 0 | T93: 0 | U93: 0
B94: 原住民 | C94: Indigenous | D94: 1 | E94: 0 | F94: 1 | G94: 0 | H94: 0 | I94: 0 | J94: 0 | K94: 0 | L94: 0 | M94: 0 | N94: 0 | O94: 0 | P94: 0 | Q94: 0 | R94: 0 | S94: 0 | T94: 0 | U94: 0
A95: 臺 南 市 | B95: 計 | C95: Total | D95: 20 | E95: 6 | F95: 14 | G95: 5 | H95: 4 | I95: 1 | J95: 54037 | K95: 27296 | L95: 26741 | M95: 0 | N95: 0 | O95: 0 | P95: 0 | Q95: 0 | R95: 0 | S95: 0 | T95: 0 | U95: 0 | V95: 3 | W95: 1 | X95: 1 | Y95: 1 | Z95: 41 | AA95: 23 | AB95: 18 | AC95: 256 | AD95: 125 | AE95: 131 | AF95: 657 | AG95: 288 | AH95: 369 | AI95: 197 | AJ95: 85 | AK95: 112 | AL95: 88 | AM95: 56 | AN95: 32 | AO95: 656 | AP95: 200 | AQ95: 456 | AR95: 1845 | AS95: 898 | AT95: 947
A96: Tainan City | B96: 一般 | C96: General | D96: 20 | E96: 6 | F96: 14 | G96: 5 | H96: 4 | I96: 1 | J96: 54037 | K96: 27296 | L96: 26741 | M96: 0 | N96: 0 | O96: 0 | P96: 0 | Q96: 0 | R96: 0 | S96: 0 | T96: 0 | U96: 0
B97: 原住民 | C97: Indigenous | D97: 0 | E97: 0 | F97: 0 | G97: 0 | H97: 0 | I97: 0 | J97: 0 | K97: 0 | L97: 0 | M97: 0 | N97: 0 | O97: 0 | P97: 0 | Q97: 0 | R97: 0 | S97: 0 | T97: 0 | U97: 0
A98: 高 雄 市 | B98: 計 | C98: Total | D98: 38 | E98: 16 | F98: 22 | G98: 2 | H98: 0 | I98: 2 | J98: 4890 | K98: 1956 | L98: 2934 | M98: 0 | N98: 0 | O98: 0 | P98: 0 | Q98: 0 | R98: 0 | S98: 0 | T98: 0 | U98: 0 | V98: 2 | W98: 2 | X98: 0 | Y98: 0 | Z98: 10693 | AA98: 7344 | AB98: 3349 | AC98: 270 | AD98: 215 | AE98: 55 | AF98: 2287 | AG98: 695 | AH98: 1592 | AI98: 0 | AJ98: 0 | AK98: 0 | AL98: 152 | AM98: 97 | AN98: 55 | AO98: 48062 | AP98: 19835 | AQ98: 28227 | AR98: 60500 | AS98: 17107 | AT98: 43393
A99: Kaohsiung City | B99: 一般 | C99: General | D99: 38 | E99: 16 | F99: 22 | G99: 2 | H99: 0 | I99: 2 | J99: 4797 | K99: 1920 | L99: 2877 | M99: 0 | N99: 0 | O99: 0 | P99: 0 | Q99: 0 | R99: 0 | S99: 0 | T99: 0 | U99: 0
B100: 原住民 | C100: Indigenous | D100: 0 | E100: 0 | F100: 0 | G100: 0 | H100: 0 | I100: 0 | J100: 93 | K100: 36 | L100: 57 | M100: 0 | N100: 0 | O100: 0 | P100: 0 | Q100: 0 | R100: 0 | S100: 0 | T100: 0 | U100: 0
...

Sheet 109
A1: 兒童及少年福利服務 Child and Youth Welfare Services
D2: =IF(D9=SUM(D12,D15,D21,D24,D27,D30,D18,D33,D36,D39,D42,D45,D48,D51,D54,D57,D60,D63,D66,D69,D72,D75),"","*") | E2: =IF(E9=SUM(E12,E15,E21,E24,E27,E30,E18,E33,E36,E39,E42,E45,E48,E51,E54,E57,E60,E63,E66,E69,E72,E75),"","*") | F2: =IF(F9=SUM(F12,F15,F21,F24,F27,F30,F18,F33,F36,F39,F42,F45,F48,F51,F54,F57,F60,F63,F66,F69,F72,F75),"","*") | J2: =IF(J9=SUM(J12,J15,J21,J24,J27,J30,J18,J33,J36,J39,J42,J45,J48,J51,J54,J57,J60,J63,J66,J69,J72,J75),"","*") | K2: =IF(K9=SUM(K12,K15,K21,K24,K27,K30,K18,K33,K36,K39,K42,K45,K48,K51,K54,K57,K60,K63,K66,K69,K72,K75),"","*") | L2: =IF(L9=SUM(L12,L15,L21,L24,L27,L30,L18,L33,L36,L39,L42,L45,L48,L51,L54,L57,L60,L63,L66,L69,L72,L75),"","*") | M2: =IF(M9=SUM(M12,M15,M21,M24,M27,M30,M18,M33,M36,M39,M42,M45,M48,M51,M54,M57,M60,M63,M66,M69,M72,M75),"","*") | N2: =IF(N9=SUM(N12,N15,N21,N24,N27,N30,N18,N33,N36,N39,N42,N45,N48,N51,N54,N57,N60,N63,N66,N69,N72,N75),"","*") | O2: =IF(O9=SUM(O12,O15,O21,O24,O27,O30,O18,O33,O36,O39,O42,O45,O48,O51,O54,O57,O60,O63,O66,O69,O72,O75),"","*") | P2: =IF(P9=SUM(P12,P15,P21,P24,P27,P30,P18,P33,P36,P39,P42,P45,P48,P51,P54,P57,P60,P63,P66,P69,P72,P75),"","*") | Q2: =IF(Q9=SUM(Q12,Q15,Q21,Q24,Q27,Q30,Q18,Q33,Q36,Q39,Q42,Q45,Q48,Q51,Q54,Q57,Q60,Q63,Q66,Q69,Q72,Q75),"","*") | ... AG2: =IF(AG9=SUM(AG12,AG15,AG21,AG24,AG27,AG30,AG18,AG33,AG36,AG39,AG42,AG45,AG48,AG51,AG54,AG57,AG60,AG63,AG66,AG69,AG72,AG75),"","*")
A3: 民國109年, 2020 | D3: =IF(D10=SUM(D13,D16,D22,D25,D28,D31,D19,D34,D37,D40,D43,D46,D49,D52,D55,D58,D61,D64,D67,D70,D73,D76),"","*") | E3: =IF(E10=SUM(E13,E16,E22,E25,E28,E31,E19,E34,E37,E40,E43,E46,E49,E52,E55,E58,E61,E64,E67,E70,E73,E76),"","*") | F3: =IF(F10=SUM(F13,F16,F22,F25,F28,F31,F19,F34,F37,F40,F43,F46,F49,F52,F55,F58,F61,F64,F67,F70,F73,F76),"","*") | J3: =IF(J10=SUM(J13,J16,J22,J25,J28,J31,J19,J34,J37,J40,J43,J46,J49,J52,J55,J58,J61,J64,J67,J70,J73,J76),"","*") | K3: =IF(K10=SUM(K13,K16,K22,K25,K28,K31,K19,K34,K37,K40,K43,K46,K49,K52,K55,K58,K61,K64,K67,K70,K73,K76),"","*") | L3: =IF(L10=SUM(L13,L16,L22,L25,L28,L31,L19,L34,L37,L40,L43,L46,L49,L52,L55,L58,L61,L64,L67,L70,L73,L76),"","*") | M3: =IF(M10=SUM(M13,M16,M22,M25,M28,M31,M19,M34,M37,M40,M43,M46,M49,M52,M55,M58,M61,M64,M67,M70,M73,M76),"","*") | N3: =IF(N10=SUM(N13,N16,N22,N25,N28,N31,N19,N34,N37,N40,N43,N46,N49,N52,N55,N58,N61,N64,N67,N70,N73,N76),"","*") | O3: =IF(O10=SUM(O13,O16,O22,O25,O28,O31,O19,O34,O37,O40,O43,O46,O49,O52,O55,O58,O61,O64,O67,O70,O73,O76),"","*") | P3: =IF(P10=SUM(P13,P16,P22,P25,P28,P31,P19,P34,P37,P40,P43,P46,P49,P52,P55,P58,P61,P64,P67,P70,P73,P76),"","*") | Q3: =IF(Q10=SUM(Q13,Q16,Q22,Q25,Q28,Q31,Q19,Q34,Q37,Q40,Q43,Q46,Q49,Q52,Q55,Q58,Q61,Q64,Q67,Q70,Q73,Q76),"","*") | ... AG3: =IF(AG10=SUM(AG13,AG16,AG22,AG25,AG28,AG31,AG19,AG34,AG37,AG40,AG43,AG46,AG49,AG52,AG55,AG58,AG61,AG64,AG67,AG70,AG73,AG76),"","*")
A4: 區域及特殊族群別 Locality & Ethnos | D4: 兒童及少年代表人數 Number of child and youth representatives | G4: 兒童及少年代表為委員人數 | J4: 兒童及少年培力活動參與人次 Number of participants in child and youth empowerment activities | M4: 無依兒童及少年安置及處理人數 Number of helpless children and youth receiving placement and other services | V4: 諮詢服務 Counselling | Y4: 親職教育活動 Parenting Education | AB4: 育樂活動 Recreation Activities | AE4: 工作人員在職訓練 Training on the Staff
M5: 尋獲父母或監護人者 Those whose parents or guardians are found | P5: 逾法定期限未尋獲父母或監護人者 Those whose parents or guardians are not found within the statutory period | S5: 法定期限內尚在協尋父母或監護人者 Those whose parents or guardians are being searched for within the statutory period
D6: 計 | E6: 男 | F6: 女 | G6: 計 | H6: 男 | I6: 女 | J6: 計 | K6: 男 | L6: 女 | M6: 計 | N6: 男 | O6: 女 | P6: 計 | Q6: 男 | R6: 女 | S6: 計 | T6: 男 | U6: 女 | V6: 計 | W6: 男 | X6: 女 | Y6: 計 | Z6: 男 | AA6: 女 | AB6: 計 | AC6: 男 | AD6: 女 | AE6: 計 | AF6: 男 | AG6: 女
D7: Total | E7: Male | F7: Female | G7: Total | H7: Male | I7: Female | J7: Total | K7: Male | L7: Female | M7: Total | N7: Male | O7: Female | P7: Total | Q7: Male | R7: Female | S7: Total | T7: Male | U7: Female | V7: Total | W7: Male | X7: Female | Y7: Total | Z7: Male | AA7: Female | AB7: Total | AC7: Male | AD7: Female | AE7: Total | AF7: Male | AG7: Female
A8: 總計 | B8: 計 | C8: Total | D8: 392 | E8: 186 | F8: 206 | G8: 67 | H8: 34 | I8: 33 | J8: 769727 | K8: 393071 | L8: 376656 | M8: 8 | N8: 3 | O8: 5 | P8: 18 | Q8: 6 | R8: 12 | S8: 2 | T8: 1 | U8: 1 | V8: 820951 | W8: 293713 | X8: 527238 | Y8: 854077 | Z8: 266862 | AA8: 587215 | AB8: 1750848 | AC8: 686969 | AD8: 1063879 | AE8: 57087 | AF8: 7117 | AG8: 49970
A9: Total | B9: 一般 | C9: General | D9: 377 | E9: 175 | F9: 202 | G9: 65 | H9: 33 | I9: 32 | J9: 746205 | K9: 381208 | L9: 364997 | M9: 7 | N9: 2 | O9: 5 | P9: 18 | Q9: 6 | R9: 12 | S9: 2 | T9: 1 | U9: 1 | V9: 787907 | W9: 280911 | X9: 506996 | Y9: 850176 | Z9: 265508 | AA9: 584668 | AB9: 1728238 | AC9: 676666 | AD9: 1051572 | AE9: 56791 | AF9: 7005 | AG9: 49786
B10: 原住民 | C10: Indigenous | D10: 15 | E10: 11 | F10: 4 | G10: 2 | H10: 1 | I10: 1 | J10: 23522 | K10: 11863 | L10: 11659 | M10: 1 | N10: 1 | O10: 0 | P10: 0 | Q10: 0 | R10: 0 | S10: 0 | T10: 0 | U10: 0 | V10: 33044 | W10: 12802 | X10: 20242 | Y10: 3901 | Z10: 1354 | AA10: 2547 | AB10: 22610 | AC10: 10303 | AD10: 12307 | AE10: 296 | AF10: 112 | AG10: 184
A11: 新北市 | B11: 計 | C11: Total | D11: 28 | E11: 13 | F11: 15 | G11: 5 | H11: 2 | I11: 3 | J11: 22708 | K11: 11873 | L11: 10835 | M11: 4 | N11: 1 | O11: 3 | P11: 4 | Q11: 1 | R11: 3 | S11: 0 | T11: 0 | U11: 0 | V11: 519352 | W11: 176906 | X11: 342446 | Y11: 751354 | Z11: 232821 | AA11: 518533 | AB11: 841086 | AC11: 285874 | AD11: 555212 | AE11: 30418 | AF11: 2803 | AG11: 27615
A12: New Taipei City | B12: 一般 | C12: General | D12: 28 | E12: 13 | F12: 15 | G12: 5 | H12: 2 | I12: 3 | J12: 22708 | K12: 11873 | L12: 10835 | M12: 4 | N12: 1 | O12: 3 | P12: 4 | Q12: 1 | R12: 3 | S12: 0 | T12: 0 | U12: 0 | V12: 506601 | W12: 172847 | X12: 333754 | Y12: 750211 | Z12: 232556 | AA12: 517655 | AB12: 836870 | AC12: 283801 | AD12: 553069 | AE12: 30418 | AF12: 2803 | AG12: 27615
B13: 原住民 | C13: Indigenous | D13: 0 | E13: 0 | F13: 0 | G13: 0 | H13: 0 | I13: 0 | J13: 0 | K13: 0 | L13: 0 | M13: 0 | N13: 0 | O13: 0 | P13: 0 | Q13: 0 | R13: 0 | S13: 0 | T13: 0 | U13: 0 | V13: 12751 | W13: 4059 | X13: 8692 | Y13: 1143 | Z13: 265 | AA13: 878 | AB13: 4216 | AC13: 2073 | AD13: 2143 | AE13: 0 | AF13: 0 | AG13: 0
A14: 臺北市 | B14: 計 | C14: Total | D14: 18 | E14: 9 | F14: 9 | G14: 6 | H14: 4 | I14: 2 | J14: 544 | K14: 263 | L14: 281 | M14: 0 | N14: 0 | O14: 0 | P14: 0 | Q14: 0 | R14: 0 | S14: 0 | T14: 0 | U14: 0 | V14: 13797 | W14: 7247 | X14: 6550 | Y14: 4198 | Z14: 2458 | AA14: 1740 | AB14: 5616 | AC14: 3715 | AD14: 1901 | AE14: 2264 | AF14: 639 | AG14: 1625
A15: Taipei City | B15: 一般 | C15: General | D15: 18 | E15: 9 | F15: 9 | G15: 6 | H15: 4 | I15: 2 | J15: 544 | K15: 263 | L15: 281 | M15: 0 | N15: 0 | O15: 0 | P15: 0 | Q15: 0 | R15: 0 | S15: 0 | T15: 0 | U15: 0 | V15: 13577 | W15: 7172 | X15: 6405 | Y15: 4096 | Z15: 2388 | AA15: 1708 | AB15: 5562 | AC15: 3680 | AD15: 1882 | AE15: 2237 | AF15: 628 | AG15: 1609
B16: 原住民 | C16: Indigenous | D16: 0 | E16: 0 | F16: 0 | G16: 0 | H16: 0 | I16: 0 | J16: 0 | K16: 0 | L16: 0 | M16: 0 | N16: 0 | O16: 0 | P16: 0 | Q16: 0 | R16: 0 | S16: 0 | T16: 0 | U16: 0 | V16: 220 | W16: 75 | X16: 145 | Y16: 102 | Z16: 70 | AA16: 32 | AB16: 54 | AC16: 35 | AD16: 19 | AE16: 27 | AF16: 11 | AG16: 16
A17: 桃園市 | B17: 計 | C17: Total | D17: 30 | E17: 14 | F17: 16 | G17: 4 | H17: 0 | I17: 4 | J17: 10535 | K17: 5133 | L17: 5402 | M17: 0 | N17: 0 | O17: 0 | P17: 1 | Q17: 0 | R17: 1 | S17: 0 | T17: 0 | U17: 0 | V17: 6708 | W17: 4484 | X17: 2224 | Y17: 3594 | Z17: 624 | AA17: 2970 | AB17: 48145 | AC17: 23592 | AD17: 24553 | AE17: 2509 | AF17: 381 | AG17: 2128
A18: Taoyuan City | B18: 一般 | C18: General | D18: 29 | E18: 13 | F18: 16 | G18: 4 | H18: 0 | I18: 4 | J18: 10335 | K18: 5028 | L18: 5307 | M18: 0 | N18: 0 | O18: 0 | P18: 1 | Q18: 0 | R18: 1 | S18: 0 | T18: 0 | U18: 0 | V18: 6174 | W18: 4116 | X18: 2058 | Y18: 3594 | Z18: 624 | AA18: 2970 | AB18: 48145 | AC18: 23592 | AD18: 24553 | AE18: 2483 | AF18: 367 | AG18: 2116
B19: 原住民 | C19: Indigenous | D19: 1 | E19: 1 | F19: 0 | G19: 0 | H19: 0 | I19: 0 | J19: 200 | K19: 105 | L19: 95 | M19: 0 | N19: 0 | O19: 0 | P19: 0 | Q19: 0 | R19: 0 | S19: 0 | T19: 0 | U19: 0 | V19: 534 | W19: 368 | X19: 166 | Y19: 0 | Z19: 0 | AA19: 0 | AB19: 0 | AC19: 0 | AD19: 0 | AE19: 26 | AF19: 14 | AG19: 12
A20: 臺中市 | B20: 計 | C20: Indigenous | D20: 21 | E20: 11 | F20: 10 | G20: 4 | H20: 2 | I20: 2 | J20: 11127 | K20: 6676 | L20: 4451 | M20: 0 | N20: 0 | O20: 0 | P20: 1 | Q20: 0 | R20: 1 | S20: 0 | T20: 0 | U20: 0 | V20: 32167 | W20: 13339 | X20: 18828 | Y20: 7283 | Z20: 1835 | AA20: 5448 | AB20: 126336 | AC20: 44763 | AD20: 81573 | AE20: 6561 | AF20: 1052 | AG20: 5509
A21: Taichung City | B21: 一般 | C21: General | D21: 20 | E21: 11 | F21: 9 | G21: 4 | H21: 2 | I21: 2 | J21: 11127 | K21: 6676 | L21: 4451 | M21: 0 | N21: 0 | O21: 0 | P21: 1 | Q21: 0 | R21: 1 | S21: 0 | T21: 0 | U21: 0 | V21: 32167 | W21: 13339 | X21: 18828 | Y21: 7249 | Z21: 1825 | AA21: 5424 | AB21: 126250 | AC21: 44725 | AD21: 81525 | AE21: 6561 | AF21: 1052 | AG21: 5509
B22: 原住民 | C22: Indigenous | D22: 1 | E22: 0 | F22: 1 | G22: 0 | H22: 0 | I22: 0 | J22: 0 | K22: 0 | L22: 0 | M22: 0 | N22: 0 | O22: 0 | P22: 0 | Q22: 0 | R22: 0 | S22: 0 | T22: 0 | U22: 0 | V22: 0 | W22: 0 | X22: 0 | Y22: 34 | Z22: 10 | AA22: 24 | AB22: 86 | AC22: 38 | AD22: 48 | AE22: 0 | AF22: 0 | AG22: 0
A23: 臺南市 | B23: 計 | C23: Total | D23: 20 | E23: 8 | F23: 12 | G23: 5 | H23: 2 | I23: 3 | J23: 70839 | K23: 35360 | L23: 35479 | M23: 2 | N23: 1 | O23: 1 | P23: 0 | Q23: 0 | R23: 0 | S23: 2 | T23: 1 | U23: 1 | V23: 40218 | W23: 18740 | X23: 21478 | Y23: 26320 | Z23: 7642 | AA23: 18678 | AB23: 151920 | AC23: 86977 | AD23: 64943 | AE23: 3279 | AF23: 321 | AG23: 2958
A24: Tainan City | B24: 一般 | C24: General | D24: 20 | E24: 8 | F24: 12 | G24: 5 | H24: 2 | I24: 3 | J24: 70839 | K24: 35360 | L24: 35479 | M24: 2 | N24: 1 | O24: 1 | P24: 0 | Q24: 0 | R24: 0 | S24: 2 | T24: 1 | U24: 1 | V24: 39205 | W24: 18288 | X24: 20917 | Y24: 26243 | Z24: 7607 | AA24: 18636 | AB24: 151032 | AC24: 86444 | AD24: 64588 | AE24: 3279 | AF24: 321 | AG24: 2958
B25: 原住民 | C25: Indigenous | D25: 0 | E25: 0 | F25: 0 | G25: 0 | H25: 0 | I25: 0 | J25: 0 | K25: 0 | L25: 0 | M25: 0 | N25: 0 | O25: 0 | P25: 0 | Q25: 0 | R25: 0 | S25: 0 | T25: 0 | U25: 0 | V25: 1013 | W25: 452 | X25: 561 | Y25: 77 | Z25: 35 | AA25: 42 | AB25: 888 | AC25: 533 | AD25: 355 | AE25: 0 | AF25: 0 | AG25: 0
A26: 高雄市 | B26: 計 | C26: Total | D26: 30 | E26: 17 | F26: 13 | G26: 2 | H26: 2 | I26: 0 | J26: 5621 | K26: 2779 | L26: 2842 | M26: 1 | N26: 0 | O26: 1 | P26: 5 | Q26: 3 | R26: 2 | S26: 0 | T26: 0 | U26: 0 | V26: 75561 | W26: 27656 | X26: 47905 | Y26: 22356 | Z26: 7703 | AA26: 14653 | AB26: 176014 | AC26: 78349 | AD26: 97665 | AE26: 4930 | AF26: 816 | AG26: 4114
A27: Kaohsiung City | B27: 一般 | C27: General | D27: 30 | E27: 17 | F27: 13 | G27: 2 | H27: 2 | I27: 0 | J27: 5583 | K27: 2767 | L27: 2816 | M27: 1 | N27: 0 | O27: 1 | P27: 5 | Q27: 3 | R27: 2 | S27: 0 | T27: 0 | U27: 0 | V27: 74023 | W27: 27185 | X27: 46838 | Y27: 22002 | Z27: 7585 | AA27: 14417 | AB27: 171868 | AC27: 76273 | AD27: 95595 | AE27: 4893 | AF27: 797 | AG27: 4096
B28: 原住民 | C28: Indigenous | D28: 0 | E28: 0 | F28: 0 | G28: 0 | H28: 0 | I28: 0 | J28: 38 | K28: 12 | L28: 26 | M28: 0 | N28: 0 | O28: 0 | P28: 0 | Q28: 0 | R28: 0 | S28: 0 | T28: 0 | U28: 0 | V28: 1538 | W28: 471 | X28: 1067 | Y28: 354 | Z28: 118 | AA28: 236 | AB28: 4146 | AC28: 2076 | AD28: 2070 | AE28: 37 | AF28: 19 | AG28: 18
A29: 宜蘭縣 | B29: 計 | C29: Total | D29: 16 | E29: 4 | F29: 12 | G29: 0 | H29: 0 | I29: 0 | J29: 89 | K29: 25 | L29: 64 | M29: 0 | N29: 0 | O29: 0 | P29: 0 | Q29: 0 | R29: 0 | S29: 0 | T29: 0 | U29: 0 | V29: 12467 | W29: 6068 | X29: 6399 | Y29: 2651 | Z29: 1078 | AA29: 1573 | AB29: 165 | AC29: 77 | AD29: 88 | AE29: 215 | AF29: 55 | AG29: 160
A30: Yilan County | B30: 一般 | C30: General | D30: 16 | E30: 4 | F30: 12 | G30: 0 | H30: 0 | I30: 0 | J30: 89 | K30: 25 | L30: 64 | M30: 0 | N30: 0 | O30: 0 | P30: 0 | Q30: 0 | R30: 0 | S30: 0 | T30: 0 | U30: 0 | V30: 10174 | W30: 4952 | X30: 5222 | Y30: 2651 | Z30: 1078 | AA30: 1573 | AB30: 165 | AC30: 77 | AD30: 88 | AE30: 215 | AF30: 55 | AG30: 160
B31: 原住民 | C31: Indigenous | D31: 0 | E31: 0 | F31: 0 | G31: 0 | H31: 0 | I31: 0 | J31: 0 | K31: 0 | L31: 0 | M31: 0 | N31: 0 | O31: 0 | P31: 0 | Q31: 0 | R31: 0 | S31: 0 | T31: 0 | U31: 0 | V31: 2293 | W31: 1116 | X31: 1177 | Y31: 0 | Z31: 0 | AA31: 0 | AB31: 0 | AC31: 0 | AD31: 0 | AE31: 0 | AF31: 0 | AG31: 0
A32: 新竹縣 | B32: 計 | C32: Total | D32: 5 | E32: 3 | F32: 2 | G32: 2 | H32: 2 | I32: 0 | J32: 140531 | K32: 70265 | L32: 70266 | M32: 0 | N32: 0 | O32: 0 | P32: 0 | Q32: 0 | R32: 0 | S32: 0 | T32: 0 | U32: 0 | V32: 11757 | W32: 5113 | X32: 6644 | Y32: 130 | Z32: 80 | AA32: 50 | AB32: 6685 | AC32: 3279 | AD32: 3406 | AE32: 249 | AF32: 71 | AG32: 178
A33: Hsinchu County | B33: 一般 | C33: General | D33: 5 | E33: 3 | F33: 2 | G33: 2 | H33: 2 | I33: 0 | J33: 119453 | K33: 59726 | L33: 59727 | M33: 0 | N33: 0 | O33: 0 | P33: 0 | Q33: 0 | R33: 0 | S33: 0 | T33: 0 | U33: 0 | V33: 9025 | W33: 4038 | X33: 4987 | Y33: 111 | Z33: 68 | AA33: 43 | AB33: 5472 | AC33: 2683 | AD33: 2789 | AE33: 239 | AF33: 61 | AG33: 178
B34: 原住民 | C34: Indigenous | D34: 0 | E34: 0 | F34: 0 | G34: 0 | H34: 0 | I34: 0 | J34: 21078 | K34: 10539 | L34: 10539 | M34: 0 | N34: 0 | O34: 0 | P34: 0 | Q34: 0 | R34: 0 | S34: 0 | T34: 0 | U34: 0 | V34: 2732 | W34: 1075 | X34: 1657 | Y34: 19 | Z34: 12 | AA34: 7 | AB34: 1213 | AC34: 596 | AD34: 617 | AE34: 10 | AF34: 10 | AG34: 0
A35: 苗栗縣 | B35: 計 | C35: Total | D35: 12 | E35: 6 | F35: 6 | G35: 12 | H35: 6 | I35: 6 | J35: 337 | K35: 152 | L35: 185 | M35: 0 | N35: 0 | O35: 0 | P35: 0 | Q35: 0 | R35: 0 | S35: 0 | T35: 0 | U35: 0 | V35: 14654 | W35: 4965 | X35: 9689 | Y35: 4581 | Z35: 1860 | AA35: 2721 | AB35: 5655 | AC35: 2827 | AD35: 2828 | AE35: 982 | AF35: 47 | AG35: 935
A36: Miaoli County | B36: 一般 | C36: General | D36: 11 | E36: 6 | F36: 5 | G36: 11 | H36: 6 | I36: 5 | J36: 337 | K36: 152 | L36: 185 | M36: 0 | N36: 0 | O36: 0 | P36: 0 | Q36: 0 | R36: 0 | S36: 0 | T36: 0 | U36: 0 | V36: 13758 | W36: 4727 | X36: 9031 | Y36: 4357 | Z36: 1756 | AA36: 2601 | AB36: 5490 | AC36: 2745 | AD36: 2745 | AE36: 962 | AF36: 47 | AG36: 915
B37: 原住民 | C37: Indigenous | D37: 1 | E37: 0 | F37: 1 | G37: 1 | H37: 0 | I37: 1 | J37: 0 | K37: 0 | L37: 0 | M37: 0 | N37: 0 | O37: 0 | P37: 0 | Q37: 0 | R37: 0 | S37: 0 | T37: 0 | U37: 0 | V37: 896 | W37: 238 | X37: 658 | Y37: 224 | Z37: 104 | AA37: 120 | AB37: 165 | AC37: 82 | AD37: 83 | AE37: 20 | AF37: 0 | AG37: 20
A38: 彰化縣 | B38: 計 | C38: Total | D38: 17 | E38: 7 | F38: 10 | G38: 2 | H38: 1 | I38: 1 | J38: 1560 | K38: 740 | L38: 820 | M38: 0 | N38: 0 | O38: 0 | P38: 0 | Q38: 0 | R38: 0 | S38: 0 | T38: 0 | U38: 0 | V38: 42036 | W38: 10457 | X38: 31579 | Y38: 14869 | Z38: 5020 | AA38: 9849 | AB38: 114692 | AC38: 50040 | AD38: 64652 | AE38: 2311 | AF38: 185 | AG38: 2126
A39: Changhua County | B39: 一般 | C39: General | D39: 17 | E39: 7 | F39: 10 | G39: 2 | H39: 1 | I39: 1 | J39: 1560 | K39: 740 | L39: 820 | M39: 0 | N39: 0 | O39: 0 | P39: 0 | Q39: 0 | R39: 0 | S39: 0 | T39: 0 | U39: 0 | V39: 41855 | W39: 10302 | X39: 31553 | Y39: 14853 | Z39: 5012 | AA39: 9841 | AB39: 114328 | AC39: 49856 | AD39: 64472 | AE39: 2288 | AF39: 180 | AG39: 2108
B40: 原住民 | C40: Indigenous | D40: 0 | E40: 0 | F40: 0 | G40: 0 | H40: 0 | I40: 0 | J40: 0 | K40: 0 | L40: 0 | M40: 0 | N40: 0 | O40: 0 | P40: 0 | Q40: 0 | R40: 0 | S40: 0 | T40: 0 | U40: 0 | V40: 181 | W40: 155 | X40: 26 | Y40: 16 | Z40: 8 | AA40: 8 | AB40: 364 | AC40: 184 | AD40: 180 | AE40: 23 | AF40: 5 | AG40: 18
A41: 南投縣 | B41: 計 | C41: Total | D41: 20 | E41: 8 | F41: 12 | G41: 2 | H41: 1 | I41: 1 | J41: 131 | K41: 51 | L41: 80 | M41: 0 | N41: 0 | O41: 0 | P41: 0 | Q41: 0 | R41: 0 | S41: 0 | T41: 0 | U41: 0 | V41: 8581 | W41: 3209 | X41: 5372 | Y41: 1568 | Z41: 573 | AA41: 995 | AB41: 5620 | AC41: 1114 | AD41: 4506 | AE41: 1119 | AF41: 277 | AG41: 842
A42: Nantou County | B42: 一般 | C42: General | D42: 20 | E42: 8 | F42: 12 | G42: 2 | H42: 1 | I42: 1 | J42: 131 | K42: 51 | L42: 80 | M42: 0 | N42: 0 | O42: 0 | P42: 0 | Q42: 0 | R42: 0 | S42: 0 | T42: 0 | U42: 0 | V42: 5941 | W42: 2240 | X42: 3701 | Y42: 1415 | Z42: 522 | AA42: 893 | AB42: 5188 | AC42: 997 | AD42: 4191 | AE42: 1069 | AF42: 251 | AG42: 818
B43: 原住民 | C43: Indigenous | D43: 0 | E43: 0 | F43: 0 | G43: 0 | H43: 0 | I43: 0 | J43: 0 | K43: 0 | L43: 0 | M43: 0 | N43: 0 | O43: 0 | P43: 0 | Q43: 0 | R43: 0 | S43: 0 | T43: 0 | U43: 0 | V43: 2640 | W43: 969 | X43: 1671 | Y43: 153 | Z43: 51 | AA43: 102 | AB43: 432 | AC43: 117 | AD43: 315 | AE43: 50 | AF43: 26 | AG43: 24
A44: 雲林縣 | B44: 計 | C44: Total | D44: 8 | E44: 4 | F44: 4 | G44: 2 | H44: 0 | I44: 2 | J44: 345 | K44: 173 | L44: 172 | M44: 0 | N44: 0 | O44: 0 | P44: 5 | Q44: 1 | R44: 4 | S44: 0 | T44: 0 | U44: 0 | V44: 2287 | W44: 894 | X44: 1393 | Y44: 781 | Z44: 199 | AA44: 582 | AB44: 38058 | AC44: 14046 | AD44: 24012 | AE44: 330 | AF44: 59 | AG44: 271
A45: Yunlin County | B45: 一般 | C45: General | D45: 8 | E45: 4 | F45: 4 | G45: 2 | H45: 0 | I45: 2 | J45: 345 | K45: 173 | L45: 172 | M45: 0 | N45: 0 | O45: 0 | P45: 5 | Q45: 1 | R45: 4 | S45: 0 | T45: 0 | U45: 0 | V45: 2287 | W45: 894 | X45: 1393 | Y45: 781 | Z45: 199 | AA45: 582 | AB45: 38058 | AC45: 14046 | AD45: 24012 | AE45: 330 | AF45: 59 | AG45: 271
B46: 原住民 | C46: Indigenous | D46: 0 | E46: 0 | F46: 0 | G46: 0 | H46: 0 | I46: 0 | J46: 0 | K46: 0 | L46: 0 | M46: 0 | N46: 0 | O46: 0 | P46: 0 | Q46: 0 | R46: 0 | S46: 0 | T46: 0 | U46: 0 | V46: 0 | W46: 0 | X46: 0 | Y46: 0 | Z46: 0 | AA46: 0 | AB46: 0 | AC46: 0 | AD46: 0 | AE46: 0 | AF46: 0 | AG46: 0
A47: 嘉義縣 | B47: 計 | C47: Total | D47: 24 | E47: 10 | F47: 14 | G47: 2 | H47: 1 | I47: 1 | J47: 482 | K47: 225 | L47: 257 | M47: 0 | N47: 0 | O47: 0 | P47: 2 | Q47: 1 | R47: 1 | S47: 0 | T47: 0 | U47: 0 | V47: 13059 | W47: 4728 | X47: 8331 | Y47: 498 | Z47: 138 | AA47: 360 | AB47: 3060 | AC47: 1377 | AD47: 1683 | AE47: 689 | AF47: 128 | AG47: 561
A48: Chiayi County | B48: 一般 | C48: General | D48: 24 | E48: 10 | F48: 14 | G48: 2 | H48: 1 | I48: 1 | J48: 482 | K48: 225 | L48: 257 | M48: 0 | N48: 0 | O48: 0 | P48: 2 | Q48: 1 | R48: 1 | S48: 0 | T48: 0 | U48: 0 | V48: 12317 | W48: 4474 | X48: 7843 | Y48: 465 | Z48: 127 | AA48: 338 | AB48: 2869 | AC48: 1278 | AD48: 1591 | AE48: 683 | AF48: 122 | AG48: 561
B49: 原住民 | C49: Indigenous | D49: 0 | E49: 0 | F49: 0 | G49: 0 | H49: 0 | I49: 0 | J49: 0 | K49: 0 | L49: 0 | M49: 0 | N49: 0 | O49: 0 | P49: 0 | Q49: 0 | R49: 0 | S49: 0 | T49: 0 | U49: 0 | V49: 742 | W49: 254 | X49: 488 | Y49: 33 | Z49: 11 | AA49: 22 | AB49: 191 | AC49: 99 | AD49: 92 | AE49: 6 | AF49: 6 | AG49: 0
A50: 屏東縣 | B50: 計 | C50: Total | D50: 19 | E50: 11 | F50: 8 | G50: 2 | H50: 0 | I50: 2 | J50: 623 | K50: 246 | L50: 377 | M50: 0 | N50: 0 | O50: 0 | P50: 0 | Q50: 0 | R50: 0 | S50: 0 | T50: 0 | U50: 0 | V50: 6926 | W50: 2000 | X50: 4926 | Y50: 7472 | Z50: 2516 | AA50: 4956 | AB50: 74259 | AC50: 29500 | AD50: 44759 | AE50: 184 | AF50: 46 | AG50: 138
A51: Pingtung County | B51: 一般 | C51: General | D51: 19 | E51: 11 | F51: 8 | G51: 2 | H51: 0 | I51: 2 | J51: 623 | K51: 246 | L51: 377 | M51: 0 | N51: 0 | O51: 0 | P51: 0 | Q51: 0 | R51: 0 | S51: 0 | T51: 0 | U51: 0 | V51: 5941 | W51: 1687 | X51: 4254 | Y51: 6494 | Z51: 2221 | AA51: 4273 | AB51: 65032 | AC51: 25878 | AD51: 39154 | AE51: 160 | AF51: 34 | AG51: 126
B52: 原住民 | C52: Indigenous | D52: 0 | E52: 0 | F52: 0 | G52: 0 | H52: 0 | I52: 0 | J52: 0 | K52: 0 | L52: 0 | M52: 0 | N52: 0 | O52: 0 | P52: 0 | Q52: 0 | R52: 0 | S52: 0 | T52: 0 | U52: 0 | V52: 985 | W52: 313 | X52: 672 | Y52: 978 | Z52: 295 | AA52: 683 | AB52: 9227 | AC52: 3622 | AD52: 5605 | AE52: 24 | AF52: 12 | AG52: 12
A53: 臺東縣 | B53: 計 | C53: Total | D53: 20 | E53: 5 | F53: 15 | G53: 2 | H53: 0 | I53: 2 | J53: 74 | K53: 26 | L53: 48 | M53: 0 | N53: 0 | O53: 0 | P53: 0 | Q53: 0 | R53: 0 | S53: 0 | T53: 0 | U53: 0 | V53: 9016 | W53: 4501 | X53: 4515 | Y53: 596 | Z53: 251 | AA53: 345 | AB53: 3116 | AC53: 1593 | AD53: 1523 | AE53: 143 | AF53: 27 | AG53: 116
A54: Taitung County | B54: 一般 | C54: General | D54: 15 | E54: 2 | F54: 13 | G54: 2 | H54: 0 | I54: 2 | J54: 47 | K54: 11 | L54: 36 | M54: 0 | N54: 0 | O54: 0 | P54: 0 | Q54: 0 | R54: 0 | S54: 0 | T54: 0 | U54: 0 | V54: 2555 | W54: 1274 | X54: 1281 | Y54: 388 | Z54: 160 | AA54: 228 | AB54: 2036 | AC54: 1025 | AD54: 1011 | AE54: 87 | AF54: 23 | AG54: 64
B55: 原住民 | C55: Indigenous | D55: 5 | E55: 3 | F55: 2 | G55: 0 | H55: 0 | I55: 0 | J55: 27 | K55: 15 | L55: 12 | M55: 0 | N55: 0 | O55: 0 | P55: 0 | Q55: 0 | R55: 0 | S55: 0 | T55: 0 | U55: 0 | V55: 6461 | W55: 3227 | X55: 3234 | Y55: 208 | Z55: 91 | AA55: 117 | AB55: 1080 | AC55: 568 | AD55: 512 | AE55: 56 | AF55: 4 | AG55: 52
A56: 花蓮縣 | B56: 計 | C56: Total | D56: 10 | E56: 7 | F56: 3 | G56: 1 | H56: 1 | I56: 0 | J56: 7029 | K56: 3844 | L56: 3185 | M56: 1 | N56: 1 | O56: 0 | P56: 0 | Q56: 0 | R56: 0 | S56: 0 | T56: 0 | U56: 0 | V56: 201 | W56: 102 | X56: 99 | Y56: 1867 | Z56: 947 | AA56: 920 | AB56: 1825 | AC56: 934 | AD56: 891 | AE56: 53 | AF56: 14 | AG56: 39
A57: Hualien County | B57: 一般 | C57: General | D57: 5 | E57: 2 | F57: 3 | G57: 0 | H57: 0 | I57: 0 | J57: 4850 | K57: 2652 | L57: 2198 | M57: 0 | N57: 0 | O57: 0 | P57: 0 | Q57: 0 | R57: 0 | S57: 0 | T57: 0 | U57: 0 | V57: 143 | W57: 72 | X57: 71 | Y57: 1307 | Z57: 663 | AA57: 644 | AB57: 1277 | AC57: 654 | AD57: 623 | AE57: 36 | AF57: 9 | AG57: 27
B58: 原住民 | C58: Indigenous | D58: 5 | E58: 5 | F58: 0 | G58: 1 | H58: 1 | I58: 0 | J58: 2179 | K58: 1192 | L58: 987 | M58: 1 | N58: 1 | O58: 0 | P58: 0 | Q58: 0 | R58: 0 | S58: 0 | T58: 0 | U58: 0 | V58: 58 | W58: 30 | X58: 28 | Y58: 560 | Z58: 284 | AA58: 276 | AB58: 548 | AC58: 280 | AD58: 268 | AE58: 17 | AF58: 5 | AG58: 12
A59: 澎湖縣 | B59: 計 | C59: Total | D59: 9 | E59: 6 | F59: 3 | G59: 9 | H59: 6 | I59: 3 | J59: 879 | K59: 495 | L59: 384 | M59: 0 | N59: 0 | O59: 0 | P59: 0 | Q59: 0 | R59: 0 | S59: 0 | T59: 0 | U59: 0 | V59: 220 | W59: 119 | X59: 101 | Y59: 1890 | Z59: 639 | AA59: 1251 | AB59: 692 | AC59: 363 | AD59: 329 | AE59: 47 | AF59: 15 | AG59: 32
A60: Penghu County | B60: 一般 | C60: General | D60: 9 | E60: 6 | F60: 3 | G60: 9 | H60: 6 | I60: 3 | J60: 879 | K60: 495 | L60: 384 | M60: 0 | N60: 0 | O60: 0 | P60: 0 | Q60: 0 | R60: 0 | S60: 0 | T60: 0 | U60: 0 | V60: 220 | W60: 119 | X60: 101 | Y60: 1890 | Z60: 639 | AA60: 1251 | AB60: 692 | AC60: 363 | AD60: 329 | AE60: 47 | AF60: 15 | AG60: 32
B61: 原住民 | C61: Indigenous | D61: 0 | E61: 0 | F61: 0 | G61: 0 | H61: 0 | I61: 0 | J61: 0 | K61: 0 | L61: 0 | M61: 0 | N61: 0 | O61: 0 | P61: 0 | Q61: 0 | R61: 0 | S61: 0 | T61: 0 | U61: 0 | V61: 0 | W61: 0 | X61: 0 | Y61: 0 | Z61: 0 | AA61: 0 | AB61: 0 | AC61: 0 | AD61: 0 | AE61: 0 | AF61: 0 | AG61: 0
A62: 基隆市 | B62: 計 | C62: Total | D62: 19 | E62: 13 | F62: 6 | G62: 0 | H62: 0 | I62: 0 | J62: 972 | K62: 491 | L62: 481 | M62: 0 | N62: 0 | O62: 0 | P62: 0 | Q62: 0 | R62: 0 | S62: 0 | T62: 0 | U62: 0 | V62: 14 | W62: 7 | X62: 7 | Y62: 25 | Z62: 13 | AA62: 12 | AB62: 455 | AC62: 262 | AD62: 193 | AE62: 31 | AF62: 21 | AG62: 10
A63: Keelung City | B63: 一般 | C63: General | D63: 18 | E63: 12 | F63: 6 | G63: 0 | H63: 0 | I63: 0 | J63: 972 | K63: 491 | L63: 481 | M63: 0 | N63: 0 | O63: 0 | P63: 0 | Q63: 0 | R63: 0 | S63: 0 | T63: 0 | U63: 0 | V63: 14 | W63: 7 | X63: 7 | Y63: 25 | Z63: 13 | AA63: 12 | AB63: 455 | AC63: 262 | AD63: 193 | AE63: 31 | AF63: 21 | AG63: 10
B64: 原住民 | C64: Indigenous | D64: 1 | E64: 1 | F64: 0 | G64: 0 | H64: 0 | I64: 0 | J64: 0 | K64: 0 | L64: 0 | M64: 0 | N64: 0 | O64: 0 | P64: 0 | Q64: 0 | R64: 0 | S64: 0 | T64: 0 | U64: 0 | V64: 0 | W64: 0 | X64: 0 | Y64: 0 | Z64: 0 | AA64: 0 | AB64: 0 | AC64: 0 | AD64: 0 | AE64: 0 | AF64: 0 | AG64: 0
A65: 新竹市 | B65: 計 | C65: Total | D65: 22 | E65: 12 | F65: 10 | G65: 2 | H65: 2 | I65: 0 | J65: 494207 | K65: 253868 | L65: 240339 | M65: 0 | N65: 0 | O65: 0 | P65: 0 | Q65: 0 | R65: 0 | S65: 0 | T65: 0 | U65: 0 | V65: 8459 | W65: 1901 | X65: 6558 | Y65: 1332 | Z65: 256 | AA65: 1076 | AB65: 131441 | AC65: 50073 | AD65: 81368 | AE65: 629 | AF65: 129 | AG65: 500
A66: Hsinchu City | B66: 一般 | C66: General | D66: 22 | E66: 12 | F66: 10 | G66: 2 | H66: 2 | I66: 0 | J66: 494207 | K66: 253868 | L66: 240339 | M66: 0 | N66: 0 | O66: 0 | P66: 0 | Q66: 0 | R66: 0 | S66: 0 | T66: 0 | U66: 0 | V66: 8459 | W66: 1901 | X66: 6558 | Y66: 1332 | Z66: 256 | AA66: 1076 | AB66: 131441 | AC66: 50073 | AD66: 81368 | AE66: 629 | AF66: 129 | AG66: 500
B67: 原住民 | C67: Indigenous | D67: 0 | E67: 0 | F67: 0 | G67: 0 | H67: 0 | I67: 0 | J67: 0 | K67: 0 | L67: 0 | M67: 0 | N67: 0 | O67: 0 | P67: 0 | Q67: 0 | R67: 0 | S67: 0 | T67: 0 | U67: 0 | V67: 0 | W67: 0 | X67: 0 | Y67: 0 | Z67: 0 | AA67: 0 | AB67: 0 | AC67: 0 | AD67: 0 | AE67: 0 | AF67: 0 | AG67: 0
A68: 嘉義市 | B68: 計 | C68: Total | D68: 30 | E68: 12 | F68: 18 | G68: 0 | H68: 0 | I68: 0 | J68: 664 | K68: 202 | L68: 462 | M68: 0 | N68: 0 | O68: 0 | P68: 0 | Q68: 0 | R68: 0 | S68: 0 | T68: 0 | U68: 0 | V68: 3300 | W68: 1201 | X68: 2099 | Y68: 552 | Z68: 170 | AA68: 382 | AB68: 14008 | AC68: 7215 | AD68: 6793 | AE68: 94 | AF68: 23 | AG68: 71
A69: Chiayi City | B69: 一般 | C69: General | D69: 29 | E69: 11 | F69: 18 | G69: 0 | H69: 0 | I69: 0 | J69: 664 | K69: 202 | L69: 462 | M69: 0 | N69: 0 | O69: 0 | P69: 0 | Q69: 0 | R69: 0 | S69: 0 | T69: 0 | U69: 0 | V69: 3300 | W69: 1201 | X69: 2099 | Y69: 552 | Z69: 170 | AA69: 382 | AB69: 14008 | AC69: 7215 | AD69: 6793 | AE69: 94 | AF69: 23 | AG69: 71
B70: 原住民 | C70: Indigenous | D70: 1 | E70: 1 | F70: 0 | G70: 0 | H70: 0 | I70: 0 | J70: 0 | K70: 0 | L70: 0 | M70: 0 | N70: 0 | O70: 0 | P70: 0 | Q70: 0 | R70: 0 | S70: 0 | T70: 0 | U70: 0 | V70: 0 | W70: 0 | X70: 0 | Y70: 0 | Z70: 0 | AA70: 0 | AB70: 0 | AC70: 0 | AD70: 0 | AE70: 0 | AF70: 0 | AG70: 0
A71: 金門縣 | B71: 計 | C71: Total | D71: 5 | E71: 3 | F71: 2 | G71: 3 | H71: 2 | I71: 1 | J71: 288 | K71: 131 | L71: 157 | M71: 0 | N71: 0 | O71: 0 | P71: 0 | Q71: 0 | R71: 0 | S71: 0 | T71: 0 | U71: 0 | V71: 171 | W71: 76 | X71: 95 | Y71: 160 | Z71: 39 | AA71: 121 | AB71: 2000 | AC71: 999 | AD71: 1001 | AE71: 20 | AF71: 5 | AG71: 15
A72: Kinmen County | B72: 一般 | C72: General | D72: 5 | E72: 3 | F72: 2 | G72: 3 | H72: 2 | I72: 1 | J72: 288 | K72: 131 | L72: 157 | M72: 0 | N72: 0 | O72: 0 | P72: 0 | Q72: 0 | R72: 0 | S72: 0 | T72: 0 | U72: 0 | V72: 171 | W72: 76 | X72: 95 | Y72: 160 | Z72: 39 | AA72: 121 | AB72: 2000 | AC72: 999 | AD72: 1001 | AE72: 20 | AF72: 5 | AG72: 15
B73: 原住民 | C73: Indigenous | D73: 0 | E73: 0 | F73: 0 | G73: 0 | H73: 0 | I73: 0 | J73: 0 | K73: 0 | L73: 0 | M73: 0 | N73: 0 | O73: 0 | P73: 0 | Q73: 0 | R73: 0 | S73: 0 | T73: 0 | U73: 0 | V73: 0 | W73: 0 | X73: 0 | Y73: 0 | Z73: 0 | AA73: 0 | AB73: 0 | AC73: 0 | AD73: 0 | AE73: 0 | AF73: 0 | AG73: 0
A74: 連江縣 | B74: 計 | C74: Total | D74: 9 | E74: 3 | F74: 6 | G74: 0 | H74: 0 | I74: 0 | J74: 142 | K74: 53 | L74: 89 | M74: 0 | N74: 0 | O74: 0 | P74: 0 | Q74: 0 | R74: 0 | S74: 0 | T74: 0 | U74: 0 | V74: 0 | W74: 0 | X74: 0 | Y74: 0 | Z74: 0 | AA74: 0 | AB74: 0 | AC74: 0 | AD74: 0 | AE74: 30 | AF74: 3 | AG74: 27
A75: Lienchiang County | B75: 一般 | C75: General | D75: 9 | E75: 3 | F75: 6 | G75: 0 | H75: 0 | I75: 0 | J75: 142 | K75: 53 | L75: 89 | M75: 0 | N75: 0 | O75: 0 | P75: 0 | Q75: 0 | R75: 0 | S75: 0 | T75: 0 | U75: 0 | V75: 0 | W75: 0 | X75: 0 | Y75: 0 | Z75: 0 | AA75: 0 | AB75: 0 | AC75: 0 | AD75: 0 | AE75: 30 | AF75: 3 | AG75: 27
B76: 原住民 | C76: Indigenous | D76: 0 | E76: 0 | F76: 0 | G76: 0 | H76: 0 | I76: 0 | J76: 0 | K76: 0 | L76: 0 | M76: 0 | N76: 0 | O76: 0 | P76: 0 | Q76: 0 | R76: 0 | S76: 0 | T76: 0 | U76: 0 | V76: 0 | W76: 0 | X76: 0 | Y76: 0 | Z76: 0 | AA76: 0 | AB76: 0 | AC76: 0 | AD76: 0 | AE76: 0 | AF76: 0 | AG76: 0
A77: 資料來源：各直轄市、縣市政府。
A78: 註:「兒童及少年參與培力活動人次」，除社會局(處)辦理之活動以外，自109年起增加教育局(處)、文化局(處)辦理之相關活動。
A79: Source: County and Government.
A80: 更新日期：2022/3/31
A81: 總計 | B81: 計 | C81: Total | D81: 426 | E81: 203 | F81: 223 | G81: 59 | H81: 29 | I81: 30 | J81: 159264 | K81: 79607 | L81: 79657 | M81: 8 | N81: 3 | O81: 5 | P81: 18 | Q81: 6 | R81: 12 | S81: 2 | T81: 1 | U81: 1 | V81: 820951 | W81: 293713 | X81: 527238 | Y81: 854077 | Z81: 266862 | AA81: 587215 | AB81: 1750848 | AC81: 686969 | AD81: 1063879 | AE81: 57057 | AF81: 7114 | AG81: 49943
A82: Total | B82: 一般 | C82: General | D82: 411 | E82: 192 | F82: 219 | G82: 57 | H82: 28 | I82: 29 | J82: 155982 | K82: 77872 | L82: 78110 | M82: 7 | N82: 2 | O82: 5 | P82: 18 | Q82: 6 | R82: 12 | S82: 2 | T82: 1 | U82: 1 | V82: 787907 | W82: 280911 | X82: 506996 | Y82: 850176 | Z82: 265508 | AA82: 584668 | AB82: 1728238 | AC82: 676666 | AD82: 1051572 | AE82: 56761 | AF82: 7002 | AG82: 49759
B83: 原住民 | C83: Indigenous | D83: 15 | E83: 11 | F83: 4 | G83: 2 | H83: 1 | I83: 1 | J83: 3282 | K83: 1735 | L83: 1547 | M83: 1 | N83: 1 | O83: 0 | P83: 0 | Q83: 0 | R83: 0 | S83: 0 | T83: 0 | U83: 0 | V83: 33044 | W83: 12802 | X83: 20242 | Y83: 3901 | Z83: 1354 | AA83: 2547 | AB83: 22610 | AC83: 10303 | AD83: 12307 | AE83: 296 | AF83: 112 | AG83: 184
A84: 新 北 市 | B84: 計 | C84: Total | D84: 28 | E84: 13 | F84: 15 | G84: 5 | H84: 2 | I84: 3 | J84: 40570 | K84: 20888 | L84: 19682 | M84: 4 | N84: 1 | O84: 3 | P84: 4 | Q84: 1 | R84: 3 | S84: 0 | T84: 0 | U84: 0 | V84: 519352 | W84: 176906 | X84: 342446 | Y84: 751354 | Z84: 232821 | AA84: 518533 | AB84: 841086 | AC84: 285874 | AD84: 555212 | AE84: 30418 | AF84: 2803 | AG84: 27615
A85: New Taipei City | B85: 一般 | C85: General | D85: 28 | E85: 13 | F85: 15 | G85: 5 | H85: 2 | I85: 3 | J85: 40570 | K85: 20888 | L85: 19682 | M85: 4 | N85: 1 | O85: 3 | P85: 4 | Q85: 1 | R85: 3 | S85: 0 | T85: 0 | U85: 0 | V85: 506601 | W85: 172847 | X85: 333754 | Y85: 750211 | Z85: 232556 | AA85: 517655 | AB85: 836870 | AC85: 283801 | AD85: 553069 | AE85: 30418 | AF85: 2803 | AG85: 27615
B86: 原住民 | C86: Indigenous | D86: 0 | E86: 0 | F86: 0 | G86: 0 | H86: 0 | I86: 0 | J86: 0 | K86: 0 | L86: 0 | M86: 0 | N86: 0 | O86: 0 | P86: 0 | Q86: 0 | R86: 0 | S86: 0 | T86: 0 | U86: 0 | V86: 12751 | W86: 4059 | X86: 8692 | Y86: 1143 | Z86: 265 | AA86: 878 | AB86: 4216 | AC86: 2073 | AD86: 2143 | AE86: 0 | AF86: 0 | AG86: 0
A87: 臺 北 市 | B87: 計 | C87: Total | D87: 18 | E87: 9 | F87: 9 | G87: 6 | H87: 4 | I87: 2 | J87: 544 | K87: 263 | L87: 281 | M87: 0 | N87: 0 | O87: 0 | P87: 0 | Q87: 0 | R87: 0 | S87: 0 | T87: 0 | U87: 0 | V87: 13797 | W87: 7247 | X87: 6550 | Y87: 4198 | Z87: 2458 | AA87: 1740 | AB87: 5616 | AC87: 3715 | AD87: 1901 | AE87: 2264 | AF87: 639 | AG87: 1625
A88: Taipei City | B88: 一般 | C88: General | D88: 18 | E88: 9 | F88: 9 | G88: 6 | H88: 4 | I88: 2 | J88: 544 | K88: 263 | L88: 281 | M88: 0 | N88: 0 | O88: 0 | P88: 0 | Q88: 0 | R88: 0 | S88: 0 | T88: 0 | U88: 0 | V88: 13577 | W88: 7172 | X88: 6405 | Y88: 4096 | Z88: 2388 | AA88: 1708 | AB88: 5562 | AC88: 3680 | AD88: 1882 | AE88: 2237 | AF88: 628 | AG88: 1609
B89: 原住民 | C89: Indigenous | D89: 0 | E89: 0 | F89: 0 | G89: 0 | H89: 0 | I89: 0 | J89: 0 | K89: 0 | L89: 0 | M89: 0 | N89: 0 | O89: 0 | P89: 0 | Q89: 0 | R89: 0 | S89: 0 | T89: 0 | U89: 0 | V89: 220 | W89: 75 | X89: 145 | Y89: 102 | Z89: 70 | AA89: 32 | AB89: 54 | AC89: 35 | AD89: 19 | AE89: 27 | AF89: 11 | AG89: 16
A90: 桃 園 市 | B90: 計 | C90: Total | D90: 30 | E90: 14 | F90: 16 | G90: 4 | H90: 0 | I90: 4 | J90: 10535 | K90: 5133 | L90: 5402 | M90: 0 | N90: 0 | O90: 0 | P90: 1 | Q90: 0 | R90: 1 | S90: 0 | T90: 0 | U90: 0 | V90: 6708 | W90: 4484 | X90: 2224 | Y90: 3594 | Z90: 624 | AA90: 2970 | AB90: 48145 | AC90: 23592 | AD90: 24553 | AE90: 2509 | AF90: 381 | AG90: 2128
A91: Taoyuan City | B91: 一般 | C91: General | D91: 29 | E91: 13 | F91: 16 | G91: 4 | H91: 0 | I91: 4 | J91: 10335 | K91: 5028 | L91: 5307 | M91: 0 | N91: 0 | O91: 0 | P91: 1 | Q91: 0 | R91: 1 | S91: 0 | T91: 0 | U91: 0 | V91: 6174 | W91: 4116 | X91: 2058 | Y91: 3594 | Z91: 624 | AA91: 2970 | AB91: 48145 | AC91: 23592 | AD91: 24553 | AE91: 2483 | AF91: 367 | AG91: 2116
B92: 原住民 | C92: Indigenous | D92: 1 | E92: 1 | F92: 0 | G92: 0 | H92: 0 | I92: 0 | J92: 200 | K92: 105 | L92: 95 | M92: 0 | N92: 0 | O92: 0 | P92: 0 | Q92: 0 | R92: 0 | S92: 0 | T92: 0 | U92: 0 | V92: 534 | W92: 368 | X92: 166 | Y92: 0 | Z92: 0 | AA92: 0 | AB92: 0 | AC92: 0 | AD92: 0 | AE92: 26 | AF92: 14 | AG92: 12
A93: 臺 中 市 | B93: 計 | C93: Total | D93: 21 | E93: 10 | F93: 11 | G93: 9 | H93: 5 | I93: 4 | J93: 176 | K93: 103 | L93: 73 | M93: 0 | N93: 0 | O93: 0 | P93: 1 | Q93: 0 | R93: 1 | S93: 0 | T93: 0 | U93: 0 | V93: 32167 | W93: 13339 | X93: 18828 | Y93: 7283 | Z93: 1835 | AA93: 5448 | AB93: 126336 | AC93: 44763 | AD93: 81573 | AE93: 6561 | AF93: 1052 | AG93: 5509
A94: Taichung City | B94: 一般 | C94: General | D94: 20 | E94: 10 | F94: 10 | G94: 9 | H94: 5 | I94: 4 | J94: 165 | K94: 97 | L94: 68 | M94: 0 | N94: 0 | O94: 0 | P94: 1 | Q94: 0 | R94: 1 | S94: 0 | T94: 0 | U94: 0 | V94: 32167 | W94: 13339 | X94: 18828 | Y94: 7249 | Z94: 1825 | AA94: 5424 | AB94: 126250 | AC94: 44725 | AD94: 81525 | AE94: 6561 | AF94: 1052 | AG94: 5509
B95: 原住民 | C95: Indigenous | D95: 1 | E95: 0 | F95: 1 | G95: 0 | H95: 0 | I95: 0 | J95: 11 | K95: 6 | L95: 5 | M95: 0 | N95: 0 | O95: 0 | P95: 0 | Q95: 0 | R95: 0 | S95: 0 | T95: 0 | U95: 0 | V95: 0 | W95: 0 | X95: 0 | Y95: 34 | Z95: 10 | AA95: 24 | AB95: 86 | AC95: 38 | AD95: 48 | AE95: 0 | AF95: 0 | AG95: 0
A96: 臺 南 市 | B96: 計 | C96: Total | D96: 20 | E96: 8 | F96: 12 | G96: 5 | H96: 2 | I96: 3 | J96: 70839 | K96: 35360 | L96: 35479 | M96: 2 | N96: 1 | O96: 1 | P96: 0 | Q96: 0 | R96: 0 | S96: 2 | T96: 1 | U96: 1 | V96: 40218 | W96: 18740 | X96: 21478 | Y96: 26320 | Z96: 7642 | AA96: 18678 | AB96: 151920 | AC96: 86977 | AD96: 64943 | AE96: 3279 | AF96: 321 | AG96: 2958
A97: Tainan City | B97: 一般 | C97: General | D97: 20 | E97: 8 | F97: 12 | G97: 5 | H97: 2 | I97: 3 | J97: 70839 | K97: 35360 | L97: 35479 | M97: 2 | N97: 1 | O97: 1 | P97: 0 | Q97: 0 | R97: 0 | S97: 2 | T97: 1 | U97: 1 | V97: 39205 | W97: 18288 | X97: 20917 | Y97: 26243 | Z97: 7607 | AA97: 18636 | AB97: 151032 | AC97: 86444 | AD97: 64588 | AE97: 3279 | AF97: 321 | AG97: 2958
B98: 原住民 | C98: Indigenous | D98: 0 | E98: 0 | F98: 0 | G98: 0 | H98: 0 | I98: 0 | J98: 0 | K98: 0 | L98: 0 | M98: 0 | N98: 0 | O98: 0 | P98: 0 | Q98: 0 | R98: 0 | S98: 0 | T98: 0 | U98: 0 | V98: 1013 | W98: 452 | X98: 561 | Y98: 77 | Z98: 35 | AA98: 42 | AB98: 888 | AC98: 533 | AD98: 355 | AE98: 0 | AF98: 0 | AG98: 0
A99: 高 雄 市 | B99: 計 | C99: Total | D99: 30 | E99: 17 | F99: 13 | G99: 2 | H99: 2 | I99: 0 | J99: 5621 | K99: 2779 | L99: 2842 | M99: 1 | N99: 0 | O99: 1 | P99: 5 | Q99: 3 | R99: 2 | S99: 0 | T99: 0 | U99: 0 | V99: 75561 | W99: 27656 | X99: 47905 | Y99: 22356 | Z99: 7703 | AA99: 14653 | AB99: 176014 | AC99: 78349 | AD99: 97665 | AE99: 4930 | AF99: 816 | AG99: 4114
A100: Kaohsiung City | B100: 一般 | C100: General | D100: 30 | E100: 17 | F100: 13 | G100: 2 | H100: 2 | I100: 0 | J100: 5583 | K100: 2767 | L100: 2816 | M100: 1 | N100: 0 | O100: 1 | P100: 5 | Q100: 3 | R100: 2 | S100: 0 | T100: 0 | U100: 0 | V100: 74023 | W100: 27185 | X100: 46838 | Y100: 22002 | Z100: 7585 | AA100: 14417 | AB100: 171868 | AC100: 76273 | AD100: 95595 | AE100: 4893 | AF100: 797 | AG100: 4096
...

Sheet 108
A1: 兒童及少年福利服務 Child and Youth Welfare Services
D2: =IF(D9=SUM(D12,D15,D21,D24,D27,D30,D18,D33,D36,D39,D42,D45,D48,D51,D54,D57,D60,D63,D66,D69,D72,D75),"","*") | E2: =IF(E9=SUM(E12,E15,E21,E24,E27,E30,E18,E33,E36,E39,E42,E45,E48,E51,E54,E57,E60,E63,E66,E69,E72,E75),"","*") | F2: =IF(F9=SUM(F12,F15,F21,F24,F27,F30,F18,F33,F36,F39,F42,F45,F48,F51,F54,F57,F60,F63,F66,F69,F72,F75),"","*") | G2: =IF(G9=SUM(G12,G15,G21,G24,G27,G30,G18,G33,G36,G39,G42,G45,G48,G51,G54,G57,G60,G63,G66,G69,G72,G75),"","*") | H2: =IF(H9=SUM(H12,H15,H21,H24,H27,H30,H18,H33,H36,H39,H42,H45,H48,H51,H54,H57,H60,H63,H66,H69,H72,H75),"","*") | I2: =IF(I9=SUM(I12,I15,I21,I24,I27,I30,I18,I33,I36,I39,I42,I45,I48,I51,I54,I57,I60,I63,I66,I69,I72,I75),"","*") | J2: =IF(J9=SUM(J12,J15,J21,J24,J27,J30,J18,J33,J36,J39,J42,J45,J48,J51,J54,J57,J60,J63,J66,J69,J72,J75),"","*") | K2: =IF(K9=SUM(K12,K15,K21,K24,K27,K30,K18,K33,K36,K39,K42,K45,K48,K51,K54,K57,K60,K63,K66,K69,K72,K75),"","*") | ... AD2: =IF(AD9=SUM(AD12,AD15,AD21,AD24,AD27,AD30,AD18,AD33,AD36,AD39,AD42,AD45,AD48,AD51,AD54,AD57,AD60,AD63,AD66,AD69,AD72,AD75),"","*")
A3: 民國108年, 2019 | D3: =IF(D10=SUM(D13,D16,D22,D25,D28,D31,D19,D34,D37,D40,D43,D46,D49,D52,D55,D58,D61,D64,D67,D70,D73,D76),"","*") | E3: =IF(E10=SUM(E13,E16,E22,E25,E28,E31,E19,E34,E37,E40,E43,E46,E49,E52,E55,E58,E61,E64,E67,E70,E73,E76),"","*") | F3: =IF(F10=SUM(F13,F16,F22,F25,F28,F31,F19,F34,F37,F40,F43,F46,F49,F52,F55,F58,F61,F64,F67,F70,F73,F76),"","*") | G3: =IF(G10=SUM(G13,G16,G22,G25,G28,G31,G19,G34,G37,G40,G43,G46,G49,G52,G55,G58,G61,G64,G67,G70,G73,G76),"","*") | H3: =IF(H10=SUM(H13,H16,H22,H25,H28,H31,H19,H34,H37,H40,H43,H46,H49,H52,H55,H58,H61,H64,H67,H70,H73,H76),"","*") | I3: =IF(I10=SUM(I13,I16,I22,I25,I28,I31,I19,I34,I37,I40,I43,I46,I49,I52,I55,I58,I61,I64,I67,I70,I73,I76),"","*") | J3: =IF(J10=SUM(J13,J16,J22,J25,J28,J31,J19,J34,J37,J40,J43,J46,J49,J52,J55,J58,J61,J64,J67,J70,J73,J76),"","*") | K3: =IF(K10=SUM(K13,K16,K22,K25,K28,K31,K19,K34,K37,K40,K43,K46,K49,K52,K55,K58,K61,K64,K67,K70,K73,K76),"","*") | ... AD3: =IF(AD10=SUM(AD13,AD16,AD22,AD25,AD28,AD31,AD19,AD34,AD37,AD40,AD43,AD46,AD49,AD52,AD55,AD58,AD61,AD64,AD67,AD70,AD73,AD76),"","*")
A4: 區域及特殊族群別 Locality & Ethnos | D4: 兒童及少年諮詢代表人數 Number of child and youth counseling representatives | G4: 兒童及少年培力活動參與人次 Number of participants in child and youth empowerment activities | J4: 無依兒童及少年安置及處理人數 Number of helpless children and youth receiving placement and other services | S4: 諮詢服務 Counselling | V4: 親職教育活動 Parenting Education | Y4: 育樂活動 Recreation Activities | AB4: 工作人員在職訓練 Training on the Staff
J5: 尋獲父母或監護人者 Those whose parents or guardians are found | M5: 逾法定期限未尋獲父母或監護人者 Those whose parents or guardians are not found within the statutory period | P5: 法定期限內尚在協尋父母或監護人者 Those whose parents or guardians are being searched for within the statutory period
D6: 計 | E6: 男 | F6: 女 | G6: 計 | H6: 男 | I6: 女 | J6: 計 | K6: 男 | L6: 女 | M6: 計 | N6: 男 | O6: 女 | P6: 計 | Q6: 男 | R6: 女 | S6: 計 | T6: 男 | U6: 女 | V6: 計 | W6: 男 | X6: 女 | Y6: 計 | Z6: 男 | AA6: 女 | AB6: 計 | AC6: 男 | AD6: 女
D7: Total | E7: Male | F7: Female | G7: Total | H7: Male | I7: Female | J7: Total | K7: Male | L7: Female | M7: Total | N7: Male | O7: Female | P7: Total | Q7: Male | R7: Female | S7: Total | T7: Male | U7: Female | V7: Total | W7: Male | X7: Female | Y7: Total | Z7: Male | AA7: Female | AB7: Total | AC7: Male | AD7: Female
A8: 總計 | B8: 計 | C8: Total | D8: 369 | E8: 178 | F8: 191 | G8: 25302 | H8: 12106 | I8: 13196 | J8: 14 | K8: 9 | L8: 5 | M8: 18 | N8: 8 | O8: 10 | P8: 5 | Q8: 3 | R8: 2 | S8: 941900 | T8: 272585 | U8: 669315 | V8: 134813 | W8: 47616 | X8: 87197 | Y8: 1674980 | Z8: 728693 | AA8: 946287 | AB8: 40381 | AC8: 6511 | AD8: 33870
A9: Total | B9: 一般 | C9: General | D9: 359 | E9: 175 | F9: 184 | G9: 24705 | H9: 11843 | I9: 12862 | J9: 9 | K9: 5 | L9: 4 | M9: 18 | N9: 8 | O9: 10 | P9: 3 | Q9: 1 | R9: 2 | S9: 880437 | T9: 250452 | U9: 629985 | V9: 129550 | W9: 45452 | X9: 84098 | Y9: 1617196 | Z9: 702808 | AA9: 914388 | AB9: 39543 | AC9: 6351 | AD9: 33192
B10: 原住民 | C10: Indigenous | D10: 10 | E10: 3 | F10: 7 | G10: 597 | H10: 263 | I10: 334 | J10: 5 | K10: 4 | L10: 1 | M10: 0 | N10: 0 | O10: 0 | P10: 2 | Q10: 2 | R10: 0 | S10: 61463 | T10: 22133 | U10: 39330 | V10: 5263 | W10: 2164 | X10: 3099 | Y10: 57784 | Z10: 25885 | AA10: 31899 | AB10: 838 | AC10: 160 | AD10: 678
A11: 新北市 | B11: 計 | C11: Total | D11: 25 | E11: 11 | F11: 14 | G11: 3060 | H11: 1652 | I11: 1408 | J11: 4 | K11: 1 | L11: 3 | M11: 5 | N11: 1 | O11: 4 | P11: 0 | Q11: 0 | R11: 0 | S11: 267991 | T11: 67777 | U11: 200214 | V11: 16243 | W11: 5811 | X11: 10432 | Y11: 184169 | Z11: 97326 | AA11: 86843 | AB11: 5822 | AC11: 1559 | AD11: 4263
A12: New Taipei City | B12: 一般 | C12: General | D12: 25 | E12: 11 | F12: 14 | G12: 3060 | H12: 1652 | I12: 1408 | J12: 4 | K12: 1 | L12: 3 | M12: 5 | N12: 1 | O12: 4 | P12: 0 | Q12: 0 | R12: 0 | S12: 256849 | T12: 64505 | U12: 192344 | V12: 15507 | W12: 5536 | X12: 9971 | Y12: 158487 | Z12: 84558 | AA12: 73929 | AB12: 5431 | AC12: 1442 | AD12: 3989
B13: 原住民 | C13: Indigenous | D13: 0 | E13: 0 | F13: 0 | G13: 0 | H13: 0 | I13: 0 | J13: 0 | K13: 0 | L13: 0 | M13: 0 | N13: 0 | O13: 0 | P13: 0 | Q13: 0 | R13: 0 | S13: 11142 | T13: 3272 | U13: 7870 | V13: 736 | W13: 275 | X13: 461 | Y13: 25682 | Z13: 12768 | AA13: 12914 | AB13: 391 | AC13: 117 | AD13: 274
A14: 臺北市 | B14: 計 | C14: Total | D14: 20 | E14: 10 | F14: 10 | G14: 488 | H14: 244 | I14: 244 | J14: 0 | K14: 0 | L14: 0 | M14: 0 | N14: 0 | O14: 0 | P14: 0 | Q14: 0 | R14: 0 | S14: 14965 | T14: 7592 | U14: 7373 | V14: 4347 | W14: 2340 | X14: 2007 | Y14: 11993 | Z14: 7503 | AA14: 4490 | AB14: 2068 | AC14: 602 | AD14: 1466
A15: Taipei City | B15: 一般 | C15: General | D15: 19 | E15: 10 | F15: 9 | G15: 463 | H15: 244 | I15: 219 | J15: 0 | K15: 0 | L15: 0 | M15: 0 | N15: 0 | O15: 0 | P15: 0 | Q15: 0 | R15: 0 | S15: 14639 | T15: 7474 | U15: 7165 | V15: 4295 | W15: 2306 | X15: 1989 | Y15: 11976 | Z15: 7493 | AA15: 4483 | AB15: 1956 | AC15: 590 | AD15: 1366
B16: 原住民 | C16: Indigenous | D16: 1 | E16: 0 | F16: 1 | G16: 25 | H16: 0 | I16: 25 | J16: 0 | K16: 0 | L16: 0 | M16: 0 | N16: 0 | O16: 0 | P16: 0 | Q16: 0 | R16: 0 | S16: 326 | T16: 118 | U16: 208 | V16: 52 | W16: 34 | X16: 18 | Y16: 17 | Z16: 10 | AA16: 7 | AB16: 112 | AC16: 12 | AD16: 100
A17: 桃園市 | B17: 計 | C17: Total | D17: 20 | E17: 10 | F17: 10 | G17: 190 | H17: 90 | I17: 100 | J17: 1 | K17: 0 | L17: 1 | M17: 3 | N17: 2 | O17: 1 | P17: 1 | Q17: 0 | R17: 1 | S17: 6567 | T17: 4562 | U17: 2005 | V17: 2809 | W17: 538 | X17: 2271 | Y17: 80261 | Z17: 40387 | AA17: 39874 | AB17: 796 | AC17: 117 | AD17: 679
A18: Taoyuan City | B18: 一般 | C18: General | D18: 18 | E18: 9 | F18: 9 | G18: 176 | H18: 81 | I18: 95 | J18: 1 | K18: 0 | L18: 1 | M18: 3 | N18: 2 | O18: 1 | P18: 1 | Q18: 0 | R18: 1 | S18: 6364 | T18: 4424 | U18: 1940 | V18: 2809 | W18: 538 | X18: 2271 | Y18: 80261 | Z18: 40387 | AA18: 39874 | AB18: 793 | AC18: 115 | AD18: 678
B19: 原住民 | C19: Indigenous | D19: 2 | E19: 1 | F19: 1 | G19: 14 | H19: 9 | I19: 5 | J19: 0 | K19: 0 | L19: 0 | M19: 0 | N19: 0 | O19: 0 | P19: 0 | Q19: 0 | R19: 0 | S19: 203 | T19: 138 | U19: 65 | V19: 0 | W19: 0 | X19: 0 | Y19: 0 | Z19: 0 | AA19: 0 | AB19: 3 | AC19: 2 | AD19: 1
A20: 臺中市 | B20: 計 | C20: Indigenous | D20: 21 | E20: 11 | F20: 10 | G20: 448 | H20: 230 | I20: 218 | J20: 0 | K20: 0 | L20: 0 | M20: 1 | N20: 1 | O20: 0 | P20: 0 | Q20: 0 | R20: 0 | S20: 432185 | T20: 115161 | U20: 317024 | V20: 18876 | W20: 6781 | X20: 12095 | Y20: 185696 | Z20: 56888 | AA20: 128808 | AB20: 6186 | AC20: 960 | AD20: 5226
A21: Taichung City | B21: 一般 | C21: General | D21: 21 | E21: 11 | F21: 10 | G21: 448 | H21: 230 | I21: 218 | J21: 0 | K21: 0 | L21: 0 | M21: 1 | N21: 1 | O21: 0 | P21: 0 | Q21: 0 | R21: 0 | S21: 400092 | T21: 104465 | U21: 295627 | V21: 17945 | W21: 6231 | X21: 11714 | Y21: 169881 | Z21: 51540 | AA21: 118341 | AB21: 6092 | AC21: 960 | AD21: 5132
B22: 原住民 | C22: Indigenous | D22: 0 | E22: 0 | F22: 0 | G22: 0 | H22: 0 | I22: 0 | J22: 0 | K22: 0 | L22: 0 | M22: 0 | N22: 0 | O22: 0 | P22: 0 | Q22: 0 | R22: 0 | S22: 32093 | T22: 10696 | U22: 21397 | V22: 931 | W22: 550 | X22: 381 | Y22: 15815 | Z22: 5348 | AA22: 10467 | AB22: 94 | AC22: 0 | AD22: 94
A23: 臺南市 | B23: 計 | C23: Total | D23: 20 | E23: 8 | F23: 12 | G23: 2516 | H23: 1135 | I23: 1381 | J23: 0 | K23: 0 | L23: 0 | M23: 0 | N23: 0 | O23: 0 | P23: 1 | Q23: 0 | R23: 1 | S23: 30949 | T23: 13844 | U23: 17105 | V23: 27350 | W23: 9161 | X23: 18189 | Y23: 153789 | Z23: 84200 | AA23: 69589 | AB23: 13919 | AC23: 1711 | AD23: 12208
A24: Tainan City | B24: 一般 | C24: General | D24: 20 | E24: 8 | F24: 12 | G24: 2498 | H24: 1124 | I24: 1374 | J24: 0 | K24: 0 | L24: 0 | M24: 0 | N24: 0 | O24: 0 | P24: 1 | Q24: 0 | R24: 1 | S24: 30773 | T24: 13788 | U24: 16985 | V24: 27250 | W24: 9120 | X24: 18130 | Y24: 153651 | Z24: 84143 | AA24: 69508 | AB24: 13916 | AC24: 1711 | AD24: 12205
B25: 原住民 | C25: Indigenous | D25: 0 | E25: 0 | F25: 0 | G25: 18 | H25: 11 | I25: 7 | J25: 0 | K25: 0 | L25: 0 | M25: 0 | N25: 0 | O25: 0 | P25: 0 | Q25: 0 | R25: 0 | S25: 176 | T25: 56 | U25: 120 | V25: 100 | W25: 41 | X25: 59 | Y25: 138 | Z25: 57 | AA25: 81 | AB25: 3 | AC25: 0 | AD25: 3
A26: 高雄市 | B26: 計 | C26: Total | D26: 30 | E26: 17 | F26: 13 | G26: 11296 | H26: 5715 | I26: 5581 | J26: 2 | K26: 2 | L26: 0 | M26: 2 | N26: 1 | O26: 1 | P26: 1 | Q26: 1 | R26: 0 | S26: 72400 | T26: 25872 | U26: 46528 | V26: 27902 | W26: 10235 | X26: 17667 | Y26: 588748 | Z26: 236439 | AA26: 352309 | AB26: 3066 | AC26: 506 | AD26: 2560
A27: Kaohsiung City | B27: 一般 | C27: General | D27: 30 | E27: 17 | F27: 13 | G27: 11058 | H27: 5632 | I27: 5426 | J27: 0 | K27: 0 | L27: 0 | M27: 2 | N27: 1 | O27: 1 | P27: 1 | Q27: 1 | R27: 0 | S27: 71553 | T27: 25530 | U27: 46023 | V27: 27459 | W27: 10052 | X27: 17407 | Y27: 585526 | Z27: 234802 | AA27: 350724 | AB27: 3059 | AC27: 506 | AD27: 2553
B28: 原住民 | C28: Indigenous | D28: 0 | E28: 0 | F28: 0 | G28: 238 | H28: 83 | I28: 155 | J28: 2 | K28: 2 | L28: 0 | M28: 0 | N28: 0 | O28: 0 | P28: 0 | Q28: 0 | R28: 0 | S28: 847 | T28: 342 | U28: 505 | V28: 443 | W28: 183 | X28: 260 | Y28: 3222 | Z28: 1637 | AA28: 1585 | AB28: 7 | AC28: 0 | AD28: 7
A29: 宜蘭縣 | B29: 計 | C29: Total | D29: 14 | E29: 5 | F29: 9 | G29: 84 | H29: 30 | I29: 54 | J29: 0 | K29: 0 | L29: 0 | M29: 2 | N29: 1 | O29: 1 | P29: 0 | Q29: 0 | R29: 0 | S29: 9344 | T29: 4613 | U29: 4731 | V29: 1849 | W29: 618 | X29: 1231 | Y29: 60 | Z29: 30 | AA29: 30 | AB29: 0 | AC29: 0 | AD29: 0
A30: Yilan County | B30: 一般 | C30: General | D30: 14 | E30: 5 | F30: 9 | G30: 84 | H30: 30 | I30: 54 | J30: 0 | K30: 0 | L30: 0 | M30: 2 | N30: 1 | O30: 1 | P30: 0 | Q30: 0 | R30: 0 | S30: 8231 | T30: 4050 | U30: 4181 | V30: 1849 | W30: 618 | X30: 1231 | Y30: 57 | Z30: 29 | AA30: 28 | AB30: 0 | AC30: 0 | AD30: 0
B31: 原住民 | C31: Indigenous | D31: 0 | E31: 0 | F31: 0 | G31: 0 | H31: 0 | I31: 0 | J31: 0 | K31: 0 | L31: 0 | M31: 0 | N31: 0 | O31: 0 | P31: 0 | Q31: 0 | R31: 0 | S31: 1113 | T31: 563 | U31: 550 | V31: 0 | W31: 0 | X31: 0 | Y31: 3 | Z31: 1 | AA31: 2 | AB31: 0 | AC31: 0 | AD31: 0
A32: 新竹縣 | B32: 計 | C32: Total | D32: 5 | E32: 2 | F32: 3 | G32: 2 | H32: 1 | I32: 1 | J32: 0 | K32: 0 | L32: 0 | M32: 0 | N32: 0 | O32: 0 | P32: 0 | Q32: 0 | R32: 0 | S32: 2224 | T32: 1165 | U32: 1059 | V32: 67 | W32: 41 | X32: 26 | Y32: 1734 | Z32: 747 | AA32: 987 | AB32: 521 | AC32: 109 | AD32: 412
A33: Hsinchu County | B33: 一般 | C33: General | D33: 5 | E33: 2 | F33: 3 | G33: 2 | H33: 1 | I33: 1 | J33: 0 | K33: 0 | L33: 0 | M33: 0 | N33: 0 | O33: 0 | P33: 0 | Q33: 0 | R33: 0 | S33: 1913 | T33: 1014 | U33: 899 | V33: 51 | W33: 31 | X33: 20 | Y33: 1547 | Z33: 658 | AA33: 889 | AB33: 503 | AC33: 109 | AD33: 394
B34: 原住民 | C34: Indigenous | D34: 0 | E34: 0 | F34: 0 | G34: 0 | H34: 0 | I34: 0 | J34: 0 | K34: 0 | L34: 0 | M34: 0 | N34: 0 | O34: 0 | P34: 0 | Q34: 0 | R34: 0 | S34: 311 | T34: 151 | U34: 160 | V34: 16 | W34: 10 | X34: 6 | Y34: 187 | Z34: 89 | AA34: 98 | AB34: 18 | AC34: 0 | AD34: 18
A35: 苗栗縣 | B35: 計 | C35: Total | D35: 12 | E35: 6 | F35: 6 | G35: 194 | H35: 62 | I35: 132 | J35: 0 | K35: 0 | L35: 0 | M35: 0 | N35: 0 | O35: 0 | P35: 0 | Q35: 0 | R35: 0 | S35: 16621 | T35: 6307 | U35: 10314 | V35: 2532 | W35: 985 | X35: 1547 | Y35: 2201 | Z35: 1797 | AA35: 404 | AB35: 864 | AC35: 40 | AD35: 824
A36: Miaoli County | B36: 一般 | C36: General | D36: 11 | E36: 6 | F36: 5 | G36: 194 | H36: 62 | I36: 132 | J36: 0 | K36: 0 | L36: 0 | M36: 0 | N36: 0 | O36: 0 | P36: 0 | Q36: 0 | R36: 0 | S36: 14074 | T36: 5183 | U36: 8891 | V36: 2311 | W36: 914 | X36: 1397 | Y36: 2034 | Z36: 1658 | AA36: 376 | AB36: 812 | AC36: 40 | AD36: 772
B37: 原住民 | C37: Indigenous | D37: 1 | E37: 0 | F37: 1 | G37: 0 | H37: 0 | I37: 0 | J37: 0 | K37: 0 | L37: 0 | M37: 0 | N37: 0 | O37: 0 | P37: 0 | Q37: 0 | R37: 0 | S37: 2547 | T37: 1124 | U37: 1423 | V37: 221 | W37: 71 | X37: 150 | Y37: 167 | Z37: 139 | AA37: 28 | AB37: 52 | AC37: 0 | AD37: 52
A38: 彰化縣 | B38: 計 | C38: Total | D38: 15 | E38: 9 | F38: 6 | G38: 2445 | H38: 957 | I38: 1488 | J38: 0 | K38: 0 | L38: 0 | M38: 0 | N38: 0 | O38: 0 | P38: 0 | Q38: 0 | R38: 0 | S38: 43664 | T38: 7795 | U38: 35869 | V38: 15976 | W38: 4789 | X38: 11187 | Y38: 173853 | Z38: 82284 | AA38: 91569 | AB38: 3262 | AC38: 320 | AD38: 2942
A39: Changhua County | B39: 一般 | C39: General | D39: 15 | E39: 9 | F39: 6 | G39: 2445 | H39: 957 | I39: 1488 | J39: 0 | K39: 0 | L39: 0 | M39: 0 | N39: 0 | O39: 0 | P39: 0 | Q39: 0 | R39: 0 | S39: 43164 | T39: 7591 | U39: 35573 | V39: 15929 | W39: 4771 | X39: 11158 | Y39: 173617 | Z39: 82162 | AA39: 91455 | AB39: 3248 | AC39: 320 | AD39: 2928
B40: 原住民 | C40: Indigenous | D40: 0 | E40: 0 | F40: 0 | G40: 0 | H40: 0 | I40: 0 | J40: 0 | K40: 0 | L40: 0 | M40: 0 | N40: 0 | O40: 0 | P40: 0 | Q40: 0 | R40: 0 | S40: 500 | T40: 204 | U40: 296 | V40: 47 | W40: 18 | X40: 29 | Y40: 236 | Z40: 122 | AA40: 114 | AB40: 14 | AC40: 0 | AD40: 14
A41: 南投縣 | B41: 計 | C41: Total | D41: 5 | E41: 1 | F41: 4 | G41: 1592 | H41: 598 | I41: 994 | J41: 0 | K41: 0 | L41: 0 | M41: 0 | N41: 0 | O41: 0 | P41: 0 | Q41: 0 | R41: 0 | S41: 10533 | T41: 4002 | U41: 6531 | V41: 794 | W41: 265 | X41: 529 | Y41: 4866 | Z41: 1955 | AA41: 2911 | AB41: 504 | AC41: 154 | AD41: 350
A42: Nantou County | B42: 一般 | C42: General | D42: 5 | E42: 1 | F42: 4 | G42: 1479 | H42: 558 | I42: 921 | J42: 0 | K42: 0 | L42: 0 | M42: 0 | N42: 0 | O42: 0 | P42: 0 | Q42: 0 | R42: 0 | S42: 6741 | T42: 2696 | U42: 4045 | V42: 684 | W42: 247 | X42: 437 | Y42: 4732 | Z42: 1897 | AA42: 2835 | AB42: 494 | AC42: 151 | AD42: 343
B43: 原住民 | C43: Indigenous | D43: 0 | E43: 0 | F43: 0 | G43: 113 | H43: 40 | I43: 73 | J43: 0 | K43: 0 | L43: 0 | M43: 0 | N43: 0 | O43: 0 | P43: 0 | Q43: 0 | R43: 0 | S43: 3792 | T43: 1306 | U43: 2486 | V43: 110 | W43: 18 | X43: 92 | Y43: 134 | Z43: 58 | AA43: 76 | AB43: 10 | AC43: 3 | AD43: 7
A44: 雲林縣 | B44: 計 | C44: Total | D44: 7 | E44: 3 | F44: 4 | G44: 53 | H44: 24 | I44: 29 | J44: 0 | K44: 0 | L44: 0 | M44: 0 | N44: 0 | O44: 0 | P44: 0 | Q44: 0 | R44: 0 | S44: 2026 | T44: 866 | U44: 1160 | V44: 1115 | W44: 377 | X44: 738 | Y44: 2269 | Z44: 111 | AA44: 2158 | AB44: 352 | AC44: 71 | AD44: 281
A45: Yunlin County | B45: 一般 | C45: General | D45: 7 | E45: 3 | F45: 4 | G45: 53 | H45: 24 | I45: 29 | J45: 0 | K45: 0 | L45: 0 | M45: 0 | N45: 0 | O45: 0 | P45: 0 | Q45: 0 | R45: 0 | S45: 2026 | T45: 866 | U45: 1160 | V45: 1115 | W45: 377 | X45: 738 | Y45: 2269 | Z45: 111 | AA45: 2158 | AB45: 352 | AC45: 71 | AD45: 281
B46: 原住民 | C46: Indigenous | D46: 0 | E46: 0 | F46: 0 | G46: 0 | H46: 0 | I46: 0 | J46: 0 | K46: 0 | L46: 0 | M46: 0 | N46: 0 | O46: 0 | P46: 0 | Q46: 0 | R46: 0 | S46: 0 | T46: 0 | U46: 0 | V46: 0 | W46: 0 | X46: 0 | Y46: 0 | Z46: 0 | AA46: 0 | AB46: 0 | AC46: 0 | AD46: 0
A47: 嘉義縣 | B47: 計 | C47: Total | D47: 11 | E47: 4 | F47: 7 | G47: 118 | H47: 46 | I47: 72 | J47: 0 | K47: 0 | L47: 0 | M47: 0 | N47: 0 | O47: 0 | P47: 0 | Q47: 0 | R47: 0 | S47: 2872 | T47: 1333 | U47: 1539 | V47: 1965 | W47: 779 | X47: 1186 | Y47: 16457 | Z47: 8362 | AA47: 8095 | AB47: 447 | AC47: 39 | AD47: 408
A48: Chiayi County | B48: 一般 | C48: General | D48: 11 | E48: 4 | F48: 7 | G48: 118 | H48: 46 | I48: 72 | J48: 0 | K48: 0 | L48: 0 | M48: 0 | N48: 0 | O48: 0 | P48: 0 | Q48: 0 | R48: 0 | S48: 2849 | T48: 1318 | U48: 1531 | V48: 1922 | W48: 768 | X48: 1154 | Y48: 16368 | Z48: 8315 | AA48: 8053 | AB48: 442 | AC48: 34 | AD48: 408
B49: 原住民 | C49: Indigenous | D49: 0 | E49: 0 | F49: 0 | G49: 0 | H49: 0 | I49: 0 | J49: 0 | K49: 0 | L49: 0 | M49: 0 | N49: 0 | O49: 0 | P49: 0 | Q49: 0 | R49: 0 | S49: 23 | T49: 15 | U49: 8 | V49: 43 | W49: 11 | X49: 32 | Y49: 89 | Z49: 47 | AA49: 42 | AB49: 5 | AC49: 5 | AD49: 0
A50: 屏東縣 | B50: 計 | C50: Total | D50: 35 | E50: 15 | F50: 20 | G50: 379 | H50: 205 | I50: 174 | J50: 3 | K50: 3 | L50: 0 | M50: 2 | N50: 0 | O50: 2 | P50: 0 | Q50: 0 | R50: 0 | S50: 7618 | T50: 2874 | U50: 4744 | V50: 7451 | W50: 2957 | X50: 4494 | Y50: 70225 | Z50: 32411 | AA50: 37814 | AB50: 1136 | AC50: 211 | AD50: 925
A51: Pingtung County | B51: 一般 | C51: General | D51: 35 | E51: 15 | F51: 20 | G51: 379 | H51: 205 | I51: 174 | J51: 2 | K51: 2 | L51: 0 | M51: 2 | N51: 0 | O51: 2 | P51: 0 | Q51: 0 | R51: 0 | S51: 6084 | T51: 2260 | U51: 3824 | V51: 5152 | W51: 2107 | X51: 3045 | Y51: 61773 | Z51: 28446 | AA51: 33327 | AB51: 1076 | AC51: 193 | AD51: 883
B52: 原住民 | C52: Indigenous | D52: 0 | E52: 0 | F52: 0 | G52: 0 | H52: 0 | I52: 0 | J52: 1 | K52: 1 | L52: 0 | M52: 0 | N52: 0 | O52: 0 | P52: 0 | Q52: 0 | R52: 0 | S52: 1534 | T52: 614 | U52: 920 | V52: 2299 | W52: 850 | X52: 1449 | Y52: 8452 | Z52: 3965 | AA52: 4487 | AB52: 60 | AC52: 18 | AD52: 42
