Workbook

Sheet 歷年
A1: 兒童及少年福利服務 Child and Youth Welfare Services
A3: 單位：人、所、人次
A5: 年別 Year | B5: 兒童及少年(諮詢)代表人數 Number of child and youth representatives | E5: 兒童及少年代表為委員人數 | H5: 兒童及少年培力活動參與人次 Number of participants in child and youth empowerment activities | K5: 無依兒童及少年安置及處理人數 Number of helpless children and youth receiving placement and other services | T5: 諮詢服務 Counselling | W5: 親職教育 Parenting Education | Z5: 育樂活動 Recreation Activities | AC5: 工作人員在職訓練 Training on the Staff
K6: 尋獲父母或監護人者 Those whose parents or guardians are found | N6: 逾法定期限未尋獲父母或監護人者 Those whose parents or guardians are not found within the statutory period | Q6: 法定期限內尚在協尋父母或監護人者 Those whose parents or guardians are being searched for within the statutory period
B7: 計 | C7: 男 | D7: 女 | E7: 計 | F7: 男 | G7: 女 | H7: 計 | I7: 男 | J7: 女 | K7: 計 | L7: 男 | M7: 女 | N7: 計 | O7: 男 | P7: 女 | Q7: 計 | R7: 男 | S7: 女 | T7: 計 | U7: 男 | V7: 女 | W7: 計 | X7: 男 | Y7: 女 | Z7: 計 | AA7: 男 | AB7: 女 | AC7: 計 | AD7: 男 | AE7: 女
B8: Total | C8: Male | D8: Female | E8: Total | F8: Male | G8: Female | H8: Total | I8: Male | J8: Female | K8: Total | L8: Male | M8: Female | N8: Total | O8: Male | P8: Female | Q8: Total | R8: Male | S8: Female | T8: Total | U8: Male | V8: Female | W8: Total | X8: Male | Y8: Female | Z8: Total | AA8: Male | AB8: Female | AC8: Total | AD8: Male | AE8: Female
A9: 民國106年, 2017 | B9: ='106'!D8 -> 349 | C9: ='106'!E8 -> 162 | D9: ='106'!F8 -> 187 | E9: … | F9: … | G9: … | H9: ='106'!G8 -> 9735 | I9: ='106'!H8 -> 4757 | J9: ='106'!I8 -> 4978 | K9: ='106'!J8 -> 27 | L9: ='106'!K8 -> 18 | M9: ='106'!L8 -> 9 | N9: ='106'!M8 -> 43 | O9: ='106'!N8 -> 24 | ... AE9: ='106'!AD8 -> 27007
A10: 民國107年, 2018 | B10: ='107'!D8 -> 356 | C10: ='107'!E8 -> 183 | D10: ='107'!F8 -> 173 | E10: … | F10: … | G10: … | H10: ='107'!G8 -> 33250 | I10: ='107'!H8 -> 15875 | J10: ='107'!I8 -> 17375 | K10: ='107'!J8 -> 28 | L10: ='107'!K8 -> 8 | M10: ='107'!L8 -> 20 | N10: ='107'!M8 -> 66 | O10: ='107'!N8 -> 24 | ... AE10: ='107'!AD8 -> 40499
A11: 民國108年, 2019 | B11: ='108'!D8 -> 369 | C11: ='108'!E8 -> 178 | D11: ='108'!F8 -> 191 | E11: … | F11: … | G11: … | H11: ='108'!G8 -> 25302 | I11: ='108'!H8 -> 12106 | J11: ='108'!I8 -> 13196 | K11: ='108'!J8 -> 14 | L11: ='108'!K8 -> 9 | M11: ='108'!L8 -> 5 | N11: ='108'!M8 -> 18 | O11: ='108'!N8 -> 8 | ... AE11: ='108'!AD8 -> 33870
A12: 民國109年, 2020 | B12: ='109'!D8 -> 392 | C12: ='109'!E8 -> 186 | D12: ='109'!F8 -> 206 | E12: ='109'!G8 -> 67 | F12: ='109'!H8 -> 34 | G12: ='109'!I8 -> 33 | H12: ='109'!J8 -> 769727 | I12: ='109'!K8 -> 393071 | ... AE12: ='109'!AG8 -> 49970
A14: 年別 Year | B14: 兒童及少年代表人數 Number of child and youth representatives | E14: 兒童及少年代表為委員人數 | H14: 無依兒童及少年安置及處理人數 Number of helpless children and youth receiving placement and other services | Q14: 兒童及少年福利服務中心Welfare Service Centers
H15: 尋獲父母或監護人者 Those whose parents or guardians are found | K15: 逾法定期限未尋獲父母或監護人者 Those whose parents or guardians are not found within the statutory period | N15: 法定期限內尚在協尋父母或監護人者 Those whose parents or guardians are being searched for within the statutory period | Q15: 兒童及少年福利服務中心數 Welfare Service Centers | U15: 個案服務人次 Case Service | X15: 團體服務人次 Group Service | AA15: 社區服務人次 Community Service | AD15: 外展服務人次 Outreach Service | AG15: 轉介服務人次 Referral Service | AJ15: 親職教育人次 Parenting Education | AM15: 親子活動人次 Family Activities | AP15: 其他福利服務人次 other Service
B16: 計 | C16: 男 | D16: 女 | E16: 計 | F16: 男 | G16: 女 | H16: 計 | I16: 男 | J16: 女 | K16: 計 | L16: 男 | M16: 女 | N16: 計 | O16: 男 | P16: 女 | Q16: 計 | R16: 公立 | S16: 私立 | T16: 公設民營 | U16: 計 | V16: 男 | W16: 女 | X16: 計 | Y16: 男 | Z16: 女 | AA16: 計 | AB16: 男 | AC16: 女 | AD16: 計 | AE16: 男 | AF16: 女 | AG16: 計 | AH16: 男 | AI16: 女 | AJ16: 計 | AK16: 男 | AL16: 女 | AM16: 計 | AN16: 男 | AO16: 女 | AP16: 計 | AQ16: 男 | AR16: 女
B17: Total | C17: Male | D17: Female | E17: Total | F17: Male | G17: Female | H17: Total | I17: Male | J17: Female | K17: Total | L17: Male | M17: Female | N17: Total | O17: Male | P17: Female | Q17: Total | R17: Public | S17: Private | T17: Run by Private | U17: Total | V17: Male | W17: Female | X17: Total | Y17: Male | Z17: Female | AA17: Total | AB17: Male | AC17: Female | AD17: Total | AE17: Male | AF17: Female | AG17: Total | AH17: Male | AI17: Female | AJ17: Total | AK17: Male | AL17: Female | AM17: Total | AN17: Male | AO17: Female | AP17: Total | AQ17: Male | AR17: Female
A18: 民國110年, 2021 | B18: ='110'!D8 -> 412 | C18: ='110'!E8 -> 183 | D18: ='110'!F8 -> 229 | E18: ='110'!G8 -> 77 | F18: ='110'!H8 -> 43 | G18: ='110'!I8 -> 34 | H18: ='110'!M8 -> 17 | I18: ='110'!N8 -> 10 | J18: ='110'!O8 -> 7 | K18: ='110'!P8 -> 11 | L18: ='110'!Q8 -> 3 | M18: ='110'!R8 -> 8 | N18: ='110'!S8 -> 2 | O18: ='110'!T8 -> 1 | ... AO18: ='110'!AT8 -> 66424 | AP18: … | AQ18: … | AR18: …
A19: 民國111年, 2022 | B19: ='111'!D8 -> 418 | C19: ='111'!E8 -> 191 | D19: ='111'!F8 -> 227 | E19: ='111'!G8 -> 68 | F19: ='111'!H8 -> 35 | G19: ='111'!I8 -> 33 | H19: ='111'!J8 -> 14 | I19: ='111'!K8 -> 7 | ... AO19: ='111'!AQ8 -> 25161 | AP19: … | AQ19: … | AR19: …
A20: 民國112年, 2023 | B20: ='112'!D8 -> 414 | C20: ='112'!E8 -> 187 | D20: ='112'!F8 -> 227 | E20: ='112'!G8 -> 69 | F20: ='112'!H8 -> 33 | G20: ='112'!I8 -> 36 | H20: ='112'!J8 -> 10 | I20: ='112'!K8 -> 5 | ... AR20: ='112'!AT8 -> 247901
A21: 民國113年, 2024 | B21: ='113'!D8 -> 402 | C21: ='113'!E8 -> 173 | D21: ='113'!F8 -> 229 | E21: ='113'!G8 -> 67 | F21: ='113'!H8 -> 27 | G21: ='113'!I8 -> 40 | H21: ='113'!J8 -> 7 | I21: ='113'!K8 -> 3 | ... AR21: ='113'!AT8 -> 299231
A22: 民國114年, 2025 | B22: ='114'!D8 -> 405 | C22: ='114'!E8 -> 188 | D22: ='114'!F8 -> 217 | E22: ='114'!G8 -> 62 | F22: ='114'!H8 -> 29 | G22: ='114'!I8 -> 33 | H22: ='114'!J8 -> 2 | I22: ='114'!K8 -> 2 | ... AR22: ='114'!AT8 -> 324851
A23: 資料來源：直轄市、縣(市)政府。
A24: 註：1.「目睹家庭暴力服務人次」、「無戶籍兒童及少年輔導人數」、「緊急庇護人次」、「一般安置人次」、「個案輔導人次」、「陪同出庭次數」因業務調整由兒少保護相關報表另行詳細統計；「追蹤輔導人次」改由「兒童及少年結束家外安置後續追蹤輔導服務概況」表統計。
A25: 2.「兒童及少年參與培力活動人次」，除社會局(處)辦理之活動以外，自109年起增加教育局(處)、文化局(處)辦理之相關活動。
A26: Source: County and Government.
A27: 更新日期：2026/3/31

Sheet 114
A1: 兒童及少年福利服務 Child and Youth Welfare Services
A2: 民國114年, 2025 | D2: =IF(D9=SUM(D12,D15,D21,D24,D27,D30,D18,D33,D36,D39,D42,D45,D48,D51,D54,D57,D60,D63,D66,D69,D72,D75),"","*") | E2: =IF(E9=SUM(E12,E15,E21,E24,E27,E30,E18,E33,E36,E39,E42,E45,E48,E51,E54,E57,E60,E63,E66,E69,E72,E75),"","*") | F2: =IF(F9=SUM(F12,F15,F21,F24,F27,F30,F18,F33,F36,F39,F42,F45,F48,F51,F54,F57,F60,F63,F66,F69,F72,F75),"","*") | J2: =IF(J9=SUM(J12,J15,J21,J24,J27,J30,J18,J33,J36,J39,J42,J45,J48,J51,J54,J57,J60,J63,J66,J69,J72,J75),"","*") | K2: =IF(K9=SUM(K12,K15,K21,K24,K27,K30,K18,K33,K36,K39,K42,K45,K48,K51,K54,K57,K60,K63,K66,K69,K72,K75),"","*") | L2: =IF(L9=SUM(L12,L15,L21,L24,L27,L30,L18,L33,L36,L39,L42,L45,L48,L51,L54,L57,L60,L63,L66,L69,L72,L75),"","*") | M2: =IF(M9=SUM(M12,M15,M21,M24,M27,M30,M18,M33,M36,M39,M42,M45,M48,M51,M54,M57,M60,M63,M66,M69,M72,M75),"","*") | N2: =IF(N9=SUM(N12,N15,N21,N24,N27,N30,N18,N33,N36,N39,N42,N45,N48,N51,N54,N57,N60,N63,N66,N69,N72,N75),"","*") | O2: =IF(O9=SUM(O12,O15,O21,O24,O27,O30,O18,O33,O36,O39,O42,O45,O48,O51,O54,O57,O60,O63,O66,O69,O72,O75),"","*") | P2: =IF(P9=SUM(P12,P15,P21,P24,P27,P30,P18,P33,P36,P39,P42,P45,P48,P51,P54,P57,P60,P63,P66,P69,P72,P75),"","*") | Q2: =IF(Q9=SUM(Q12,Q15,Q21,Q24,Q27,Q30,Q18,Q33,Q36,Q39,Q42,Q45,Q48,Q51,Q54,Q57,Q60,Q63,Q66,Q69,Q72,Q75),"","*") | R2: =IF(R9=SUM(R12,R15,R21,R24,R27,R30,R18,R33,R36,R39,R42,R45,R48,R51,R54,R57,R60,R63,R66,R69,R72,R75),"","*")
A3: 單位：人、人次、所 | D3: =IF(D8=SUM(D11,D14,D17,D20,D23,D26,D29,D32,D35,D38,D41,D44,D47,D50,D53,D56,D59,D62,D65,D68,D71,D74),"","*") | E3: =IF(E8=SUM(E11,E14,E17,E20,E23,E26,E29,E32,E35,E38,E41,E44,E47,E50,E53,E56,E59,E62,E65,E68,E71,E74),"","*") | F3: =IF(F8=SUM(F11,F14,F17,F20,F23,F26,F29,F32,F35,F38,F41,F44,F47,F50,F53,F56,F59,F62,F65,F68,F71,F74),"","*") | G3: =IF(G8=SUM(G11,G14,G17,G20,G23,G26,G29,G32,G35,G38,G41,G44,G47,G50,G53,G56,G59,G62,G65,G68,G71,G74),"","*") | H3: =IF(H8=SUM(H11,H14,H17,H20,H23,H26,H29,H32,H35,H38,H41,H44,H47,H50,H53,H56,H59,H62,H65,H68,H71,H74),"","*") | I3: =IF(I8=SUM(I11,I14,I17,I20,I23,I26,I29,I32,I35,I38,I41,I44,I47,I50,I53,I56,I59,I62,I65,I68,I71,I74),"","*") | J3: =IF(J8=SUM(J11,J14,J17,J20,J23,J26,J29,J32,J35,J38,J41,J44,J47,J50,J53,J56,J59,J62,J65,J68,J71,J74),"","*") | K3: =IF(K8=SUM(K11,K14,K17,K20,K23,K26,K29,K32,K35,K38,K41,K44,K47,K50,K53,K56,K59,K62,K65,K68,K71,K74),"","*") | ... AT3: =IF(AT8=SUM(AT11,AT14,AT17,AT20,AT23,AT26,AT29,AT32,AT35,AT38,AT41,AT44,AT47,AT50,AT53,AT56,AT59,AT62,AT65,AT68,AT71,AT74),"","*")
A4: 區域及特殊族群別 Locality & Ethnos | D4: 兒童及少年代表人數 Number of child and youth representatives | G4: 兒童及少年代表為委員人數 | J4: 無依兒童及少年安置及處理人數 Number of helpless children and youth receiving placement and other services | S4: 兒童及少年福利服務中心Welfare Service Centers
J5: 尋獲父母或監護人者 Those whose parents or guardians are found | M5: 逾法定期限未尋獲父母或監護人者 Those whose parents or guardians are not found within the statutory period | P5: 法定期限內尚在協尋父母或監護人者 Those whose parents or guardians are being searched for within the statutory period | S5: 兒童及少年福利服務中心數 Welfare Service Centers | W5: 個案服務人次 Case Service | Z5: 團體服務人次 Group Service | AC5: 社區服務人次 Community Service | AF5: 外展服務人次 Outreach Service | AI5: 轉介服務人次 Referral Service | AL5: 親職教育人次 Parenting Education | AO5: 親子活動人次 Family Activities | AR5: 其他福利服務人次 other Service
D6: 計 | E6: 男 | F6: 女 | G6: 計 | H6: 男 | I6: 女 | J6: 計 | K6: 男 | L6: 女 | M6: 計 | N6: 男 | O6: 女 | P6: 計 | Q6: 男 | R6: 女 | S6: 計 | T6: 公立 | U6: 私立 | V6: 公設民營 | W6: 計 | X6: 男 | Y6: 女 | Z6: 計 | AA6: 男 | AB6: 女 | AC6: 計 | AD6: 男 | AE6: 女 | AF6: 計 | AG6: 男 | AH6: 女 | AI6: 計 | AJ6: 男 | AK6: 女 | AL6: 計 | AM6: 男 | AN6: 女 | AO6: 計 | AP6: 男 | AQ6: 女 | AR6: 計 | AS6: 男 | AT6: 女
D7: Total | E7: Male | F7: Female | G7: Total | H7: Male | I7: Female | J7: Total | K7: Male | L7: Female | M7: Total | N7: Male | O7: Female | P7: Total | Q7: Male | R7: Female | S7: Total | T7: Public | U7: Private | V7: Run by Private | W7: Total | X7: Male | Y7: Female | Z7: Total | AA7: Male | AB7: Female | AC7: Total | AD7: Male | AE7: Female | AF7: Total | AG7: Male | AH7: Female | AI7: Total | AJ7: Male | AK7: Female | AL7: Total | AM7: Male | AN7: Female | AO7: Total | AP7: Male | AQ7: Female | AR7: Total | AS7: Male | AT7: Female
A8: 總計 | B8: 計 | C8: Total | D8: 405 | E8: 188 | F8: 217 | G8: 62 | H8: 29 | I8: 33 | J8: 2 | K8: 2 | L8: 0 | M8: 3 | N8: 2 | O8: 1 | P8: 2 | Q8: 1 | R8: 1 | S8: 41 | T8: 12 | U8: 4 | V8: 25 | W8: 85583 | X8: 42053 | Y8: 43530 | Z8: 17977 | AA8: 8051 | AB8: 9926 | AC8: 255415 | AD8: 119177 | AE8: 136238 | AF8: 37023 | AG8: 17867 | AH8: 19156 | AI8: 3713 | AJ8: 1868 | AK8: 1845 | AL8: 17272 | AM8: 6623 | AN8: 10649 | AO8: 36297 | AP8: 14538 | AQ8: 21759 | AR8: 575440 | AS8: 250589 | AT8: 324851
A9: Total | B9: 一般 | C9: General | D9: 378 | E9: 172 | F9: 206 | G9: 60 | H9: 28 | I9: 32 | J9: 2 | K9: 2 | L9: 0 | M9: 3 | N9: 2 | O9: 1 | P9: 2 | Q9: 1 | R9: 1
B10: 原住民 | C10: Indigenous | D10: 27 | E10: 16 | F10: 11 | G10: 2 | H10: 1 | I10: 1 | J10: 0 | K10: 0 | L10: 0 | M10: 0 | N10: 0 | O10: 0 | P10: 0 | Q10: 0 | R10: 0
A11: 新北市 | B11: 計 | C11: Total | D11: 27 | E11: 11 | F11: 16 | G11: 4 | H11: 3 | I11: 1 | J11: 1 | K11: 1 | L11: 0 | M11: 1 | N11: 1 | O11: 0 | P11: 0 | Q11: 0 | R11: 0 | S11: 7 | T11: 0 | U11: 0 | V11: 7 | W11: 8674 | X11: 4045 | Y11: 4629 | Z11: 3663 | AA11: 1739 | AB11: 1924 | AC11: 16014 | AD11: 7176 | AE11: 8838 | AF11: 5085 | AG11: 2560 | AH11: 2525 | AI11: 3089 | AJ11: 1526 | AK11: 1563 | AL11: 8934 | AM11: 3499 | AN11: 5435 | AO11: 9415 | AP11: 4313 | AQ11: 5102 | AR11: 27847 | AS11: 10767 | AT11: 17080
A12: New Taipei City | B12: 一般 | C12: General | D12: 27 | E12: 11 | F12: 16 | G12: 4 | H12: 3 | I12: 1 | J12: 1 | K12: 1 | L12: 0 | M12: 1 | N12: 1 | O12: 0 | P12: 0 | Q12: 0 | R12: 0
B13: 原住民 | C13: Indigenous | D13: 0 | E13: 0 | F13: 0 | G13: 0 | H13: 0 | I13: 0 | J13: 0 | K13: 0 | L13: 0 | M13: 0 | N13: 0 | O13: 0 | P13: 0 | Q13: 0 | R13: 0
A14: 臺北市 | B14: 計 | C14: Total | D14: 21 | E14: 12 | F14: 9 | G14: 6 | H14: 2 | I14: 4 | J14: 0 | K14: 0 | L14: 0 | M14: 0 | N14: 0 | O14: 0 | P14: 0 | Q14: 0 | R14: 0 | S14: 10 | T14: 0 | U14: 0 | V14: 10 | W14: 24046 | X14: 12057 | Y14: 11989 | Z14: 2769 | AA14: 1238 | AB14: 1531 | AC14: 72143 | AD14: 33732 | AE14: 38411 | AF14: 2410 | AG14: 1399 | AH14: 1011 | AI14: 86 | AJ14: 46 | AK14: 40 | AL14: 1103 | AM14: 333 | AN14: 770 | AO14: 628 | AP14: 209 | AQ14: 419 | AR14: 56592 | AS14: 30725 | AT14: 25867
A15: Taipei City | B15: 一般 | C15: General | D15: 20 | E15: 11 | F15: 9 | G15: 6 | H15: 2 | I15: 4 | J15: 0 | K15: 0 | L15: 0 | M15: 0 | N15: 0 | O15: 0 | P15: 0 | Q15: 0 | R15: 0
B16: 原住民 | C16: Indigenous | D16: 1 | E16: 1 | F16: 0 | G16: 0 | H16: 0 | I16: 0 | J16: 0 | K16: 0 | L16: 0 | M16: 0 | N16: 0 | O16: 0 | P16: 0 | Q16: 0 | R16: 0
A17: 桃園市 | B17: 計 | C17: Total | D17: 27 | E17: 14 | F17: 13 | G17: 7 | H17: 3 | I17: 4 | J17: 0 | K17: 0 | L17: 0 | M17: 0 | N17: 0 | O17: 0 | P17: 1 | Q17: 0 | R17: 1 | S17: 3 | T17: 0 | U17: 0 | V17: 3 | W17: 5853 | X17: 4033 | Y17: 1820 | Z17: 415 | AA17: 233 | AB17: 182 | AC17: 11623 | AD17: 6078 | AE17: 5545 | AF17: 2629 | AG17: 1559 | AH17: 1070 | AI17: 10 | AJ17: 3 | AK17: 7 | AL17: 84 | AM17: 33 | AN17: 51 | AO17: 491 | AP17: 213 | AQ17: 278 | AR17: 2374 | AS17: 1050 | AT17: 1324
A18: Taoyuan City | B18: 一般 | C18: General | D18: 27 | E18: 14 | F18: 13 | G18: 7 | H18: 3 | I18: 4 | J18: 0 | K18: 0 | L18: 0 | M18: 0 | N18: 0 | O18: 0 | P18: 1 | Q18: 0 | R18: 1
B19: 原住民 | C19: Indigenous | D19: 0 | E19: 0 | F19: 0 | G19: 0 | H19: 0 | I19: 0 | J19: 0 | K19: 0 | L19: 0 | M19: 0 | N19: 0 | O19: 0 | P19: 0 | Q19: 0 | R19: 0
A20: 臺中市 | B20: 計 | C20: Indigenous | D20: 25 | E20: 13 | F20: 12 | G20: 4 | H20: 3 | I20: 1 | J20: 0 | K20: 0 | L20: 0 | M20: 1 | N20: 1 | O20: 0 | P20: 0 | Q20: 0 | R20: 0 | S20: 2 | T20: 2 | U20: 0 | V20: 0 | W20: 0 | X20: 0 | Y20: 0 | Z20: 0 | AA20: 0 | AB20: 0 | AC20: 0 | AD20: 0 | AE20: 0 | AF20: 0 | AG20: 0 | AH20: 0 | AI20: 0 | AJ20: 0 | AK20: 0 | AL20: 40 | AM20: 9 | AN20: 31 | AO20: 1343 | AP20: 498 | AQ20: 845 | AR20: 107273 | AS20: 45927 | AT20: 61346
A21: Taichung City | B21: 一般 | C21: General | D21: 21 | E21: 10 | F21: 11 | G21: 3 | H21: 2 | I21: 1 | J21: 0 | K21: 0 | L21: 0 | M21: 1 | N21: 1 | O21: 0 | P21: 0 | Q21: 0 | R21: 0
B22: 原住民 | C22: Indigenous | D22: 4 | E22: 3 | F22: 1 | G22: 1 | H22: 1 | I22: 0 | J22: 0 | K22: 0 | L22: 0 | M22: 0 | N22: 0 | O22: 0 | P22: 0 | Q22: 0 | R22: 0
A23: 臺南市 | B23: 計 | C23: Total | D23: 19 | E23: 11 | F23: 8 | G23: 5 | H23: 4 | I23: 1 | J23: 0 | K23: 0 | L23: 0 | M23: 0 | N23: 0 | O23: 0 | P23: 0 | Q23: 0 | R23: 0 | S23: 3 | T23: 0 | U23: 1 | V23: 2 | W23: 29213 | X23: 11413 | Y23: 17800 | Z23: 7913 | AA23: 3540 | AB23: 4373 | AC23: 3530 | AD23: 1664 | AE23: 1866 | AF23: 230 | AG23: 117 | AH23: 113 | AI23: 76 | AJ23: 47 | AK23: 29 | AL23: 565 | AM23: 197 | AN23: 368 | AO23: 7364 | AP23: 2274 | AQ23: 5090 | AR23: 8147 | AS23: 2252 | AT23: 5895
A24: Tainan City | B24: 一般 | C24: General | D24: 18 | E24: 11 | F24: 7 | G24: 4 | H24: 4 | I24: 0 | J24: 0 | K24: 0 | L24: 0 | M24: 0 | N24: 0 | O24: 0 | P24: 0 | Q24: 0 | R24: 0 | S24: 0 | T24: 0 | U24: 0 | V24: 0 | W24: 0 | X24: 0 | Y24: 0 | Z24: 0 | AA24: 0 | AB24: 0 | AC24: 0 | AD24: 0 | AE24: 0 | AF24: 0 | AG24: 0 | AH24: 0 | AI24: 0 | AJ24: 0 | AK24: 0 | AL24: 0 | AM24: 0 | AN24: 0 | AO24: 0 | AP24: 0 | AQ24: 0 | AR24: 0 | AS24: 0 | AT24: 0
B25: 原住民 | C25: Indigenous | D25: 1 | E25: 0 | F25: 1 | G25: 1 | H25: 0 | I25: 1 | J25: 0 | K25: 0 | L25: 0 | M25: 0 | N25: 0 | O25: 0 | P25: 0 | Q25: 0 | R25: 0 | S25: 0 | T25: 0 | U25: 0 | V25: 0 | W25: 0 | X25: 0 | Y25: 0 | Z25: 0 | AA25: 0 | AB25: 0 | AC25: 0 | AD25: 0 | AE25: 0 | AF25: 0 | AG25: 0 | AH25: 0 | AI25: 0 | AJ25: 0 | AK25: 0 | AL25: 0 | AM25: 0 | AN25: 0 | AO25: 0 | AP25: 0 | AQ25: 0 | AR25: 0 | AS25: 0 | AT25: 0
A26: 高雄市 | B26: 計 | C26: Total | D26: 33 | E26: 19 | F26: 14 | G26: 2 | H26: 1 | I26: 1 | J26: 0 | K26: 0 | L26: 0 | M26: 0 | N26: 0 | O26: 0 | P26: 0 | Q26: 0 | R26: 0 | S26: 2 | T26: 2 | U26: 0 | V26: 0 | W26: 10410 | X26: 7309 | Y26: 3101 | Z26: 360 | AA26: 233 | AB26: 127 | AC26: 8192 | AD26: 2766 | AE26: 5426 | AF26: 0 | AG26: 0 | AH26: 0 | AI26: 177 | AJ26: 99 | AK26: 78 | AL26: 4799 | AM26: 1771 | AN26: 3028 | AO26: 12866 | AP26: 5430 | AQ26: 7436 | AR26: 164805 | AS26: 71835 | AT26: 92970
A27: Kaohsiung City | B27: 一般 | C27: General | D27: 31 | E27: 18 | F27: 13 | G27: 2 | H27: 1 | I27: 1 | J27: 0 | K27: 0 | L27: 0 | M27: 0 | N27: 0 | O27: 0 | P27: 0 | Q27: 0 | R27: 0
B28: 原住民 | C28: Indigenous | D28: 2 | E28: 1 | F28: 1 | G28: 0 | H28: 0 | I28: 0 | J28: 0 | K28: 0 | L28: 0 | M28: 0 | N28: 0 | O28: 0 | P28: 0 | Q28: 0 | R28: 0
A29: 宜蘭縣 | B29: 計 | C29: Total | D29: 13 | E29: 5 | F29: 8 | G29: 2 | H29: 1 | I29: 1 | J29: 0 | K29: 0 | L29: 0 | M29: 0 | N29: 0 | O29: 0 | P29: 0 | Q29: 0 | R29: 0 | S29: 1 | T29: 0 | U29: 1 | V29: 0 | W29: 284 | X29: 48 | Y29: 236 | Z29: 384 | AA29: 80 | AB29: 304 | AC29: 93534 | AD29: 40324 | AE29: 53210 | AF29: 4880 | AG29: 1979 | AH29: 2901 | AI29: 153 | AJ29: 81 | AK29: 72 | AL29: 1222 | AM29: 597 | AN29: 625 | AO29: 1202 | AP29: 593 | AQ29: 609 | AR29: 582 | AS29: 249 | AT29: 333
A30: Yilan County | B30: 一般 | C30: General | D30: 12 | E30: 4 | F30: 8 | G30: 2 | H30: 1 | I30: 1 | J30: 0 | K30: 0 | L30: 0 | M30: 0 | N30: 0 | O30: 0 | P30: 0 | Q30: 0 | R30: 0
B31: 原住民 | C31: Indigenous | D31: 1 | E31: 1 | F31: 0 | G31: 0 | H31: 0 | I31: 0 | J31: 0 | K31: 0 | L31: 0 | M31: 0 | N31: 0 | O31: 0 | P31: 0 | Q31: 0 | R31: 0
A32: 新竹縣 | B32: 計 | C32: Total | D32: 12 | E32: 6 | F32: 6 | G32: 2 | H32: 2 | I32: 0 | J32: 0 | K32: 0 | L32: 0 | M32: 0 | N32: 0 | O32: 0 | P32: 1 | Q32: 1 | R32: 0 | S32: 1 | T32: 0 | U32: 0 | V32: 1 | W32: 0 | X32: 0 | Y32: 0 | Z32: 0 | AA32: 0 | AB32: 0 | AC32: 0 | AD32: 0 | AE32: 0 | AF32: 0 | AG32: 0 | AH32: 0 | AI32: 0 | AJ32: 0 | AK32: 0 | AL32: 0 | AM32: 0 | AN32: 0 | AO32: 841 | AP32: 271 | AQ32: 570 | AR32: 12326 | AS32: 5367 | AT32: 6959
A33: Hsinchu County | B33: 一般 | C33: General | D33: 8 | E33: 4 | F33: 4 | G33: 2 | H33: 2 | I33: 0 | J33: 0 | K33: 0 | L33: 0 | M33: 0 | N33: 0 | O33: 0 | P33: 1 | Q33: 1 | R33: 0
B34: 原住民 | C34: Indigenous | D34: 4 | E34: 2 | F34: 2 | G34: 0 | H34: 0 | I34: 0 | J34: 0 | K34: 0 | L34: 0 | M34: 0 | N34: 0 | O34: 0 | P34: 0 | Q34: 0 | R34: 0
A35: 苗栗縣 | B35: 計 | C35: Total | D35: 15 | E35: 8 | F35: 7 | G35: 2 | H35: 1 | I35: 1 | J35: 0 | K35: 0 | L35: 0 | M35: 0 | N35: 0 | O35: 0 | P35: 0 | Q35: 0 | R35: 0 | S35: 0 | T35: 0 | U35: 0 | V35: 0 | W35: 0 | X35: 0 | Y35: 0 | Z35: 0 | AA35: 0 | AB35: 0 | AC35: 0 | AD35: 0 | AE35: 0 | AF35: 0 | AG35: 0 | AH35: 0 | AI35: 0 | AJ35: 0 | AK35: 0 | AL35: 0 | AM35: 0 | AN35: 0 | AO35: 0 | AP35: 0 | AQ35: 0 | AR35: 0 | AS35: 0 | AT35: 0
A36: Miaoli County | B36: 一般 | C36: General | D36: 15 | E36: 8 | F36: 7 | G36: 2 | H36: 1 | I36: 1 | J36: 0 | K36: 0 | L36: 0 | M36: 0 | N36: 0 | O36: 0 | P36: 0 | Q36: 0 | R36: 0
B37: 原住民 | C37: Indigenous | D37: 0 | E37: 0 | F37: 0 | G37: 0 | H37: 0 | I37: 0 | J37: 0 | K37: 0 | L37: 0 | M37: 0 | N37: 0 | O37: 0 | P37: 0 | Q37: 0 | R37: 0
A38: 彰化縣 | B38: 計 | C38: Total | D38: 22 | E38: 10 | F38: 12 | G38: 2 | H38: 1 | I38: 1 | J38: 1 | K38: 1 | L38: 0 | M38: 1 | N38: 0 | O38: 1 | P38: 0 | Q38: 0 | R38: 0 | S38: 1 | T38: 1 | U38: 0 | V38: 0 | W38: 0 | X38: 0 | Y38: 0 | Z38: 897 | AA38: 274 | AB38: 623 | AC38: 3551 | AD38: 1722 | AE38: 1829 | AF38: 2387 | AG38: 1154 | AH38: 1233 | AI38: 0 | AJ38: 0 | AK38: 0 | AL38: 515 | AM38: 182 | AN38: 333 | AO38: 979 | AP38: 328 | AQ38: 651 | AR38: 1749 | AS38: 619 | AT38: 1130
A39: Changhua County | B39: 一般 | C39: General | D39: 21 | E39: 10 | F39: 11 | G39: 2 | H39: 1 | I39: 1 | J39: 1 | K39: 1 | L39: 0 | M39: 1 | N39: 0 | O39: 1 | P39: 0 | Q39: 0 | R39: 0
B40: 原住民 | C40: Indigenous | D40: 1 | E40: 0 | F40: 1 | G40: 0 | H40: 0 | I40: 0 | J40: 0 | K40: 0 | L40: 0 | M40: 0 | N40: 0 | O40: 0 | P40: 0 | Q40: 0 | R40: 0
...

Sheet 113
A1: 兒童及少年福利服務 Child and Youth Welfare Services
A2: 民國113年, 2024 | D2: =IF(D9=SUM(D12,D15,D21,D24,D27,D30,D18,D33,D36,D39,D42,D45,D48,D51,D54,D57,D60,D63,D66,D69,D72,D75),"","*") | E2: =IF(E9=SUM(E12,E15,E21,E24,E27,E30,E18,E33,E36,E39,E42,E45,E48,E51,E54,E57,E60,E63,E66,E69,E72,E75),"","*") | F2: =IF(F9=SUM(F12,F15,F21,F24,F27,F30,F18,F33,F36,F39,F42,F45,F48,F51,F54,F57,F60,F63,F66,F69,F72,F75),"","*") | J2: =IF(J9=SUM(J12,J15,J21,J24,J27,J30,J18,J33,J36,J39,J42,J45,J48,J51,J54,J57,J60,J63,J66,J69,J72,J75),"","*") | K2: =IF(K9=SUM(K12,K15,K21,K24,K27,K30,K18,K33,K36,K39,K42,K45,K48,K51,K54,K57,K60,K63,K66,K69,K72,K75),"","*") | L2: =IF(L9=SUM(L12,L15,L21,L24,L27,L30,L18,L33,L36,L39,L42,L45,L48,L51,L54,L57,L60,L63,L66,L69,L72,L75),"","*") | M2: =IF(M9=SUM(M12,M15,M21,M24,M27,M30,M18,M33,M36,M39,M42,M45,M48,M51,M54,M57,M60,M63,M66,M69,M72,M75),"","*") | N2: =IF(N9=SUM(N12,N15,N21,N24,N27,N30,N18,N33,N36,N39,N42,N45,N48,N51,N54,N57,N60,N63,N66,N69,N72,N75),"","*") | O2: =IF(O9=SUM(O12,O15,O21,O24,O27,O30,O18,O33,O36,O39,O42,O45,O48,O51,O54,O57,O60,O63,O66,O69,O72,O75),"","*") | P2: =IF(P9=SUM(P12,P15,P21,P24,P27,P30,P18,P33,P36,P39,P42,P45,P48,P51,P54,P57,P60,P63,P66,P69,P72,P75),"","*") | Q2: =IF(Q9=SUM(Q12,Q15,Q21,Q24,Q27,Q30,Q18,Q33,Q36,Q39,Q42,Q45,Q48,Q51,Q54,Q57,Q60,Q63,Q66,Q69,Q72,Q75),"","*") | R2: =IF(R9=SUM(R12,R15,R21,R24,R27,R30,R18,R33,R36,R39,R42,R45,R48,R51,R54,R57,R60,R63,R66,R69,R72,R75),"","*")
A3: 單位：人、人次、所 | D3: =IF(D8=SUM(D11,D14,D17,D20,D23,D26,D29,D32,D35,D38,D41,D44,D47,D50,D53,D56,D59,D62,D65,D68,D71,D74),"","*") | E3: =IF(E8=SUM(E11,E14,E17,E20,E23,E26,E29,E32,E35,E38,E41,E44,E47,E50,E53,E56,E59,E62,E65,E68,E71,E74),"","*") | F3: =IF(F8=SUM(F11,F14,F17,F20,F23,F26,F29,F32,F35,F38,F41,F44,F47,F50,F53,F56,F59,F62,F65,F68,F71,F74),"","*") | G3: =IF(G8=SUM(G11,G14,G17,G20,G23,G26,G29,G32,G35,G38,G41,G44,G47,G50,G53,G56,G59,G62,G65,G68,G71,G74),"","*") | H3: =IF(H8=SUM(H11,H14,H17,H20,H23,H26,H29,H32,H35,H38,H41,H44,H47,H50,H53,H56,H59,H62,H65,H68,H71,H74),"","*") | I3: =IF(I8=SUM(I11,I14,I17,I20,I23,I26,I29,I32,I35,I38,I41,I44,I47,I50,I53,I56,I59,I62,I65,I68,I71,I74),"","*") | J3: =IF(J8=SUM(J11,J14,J17,J20,J23,J26,J29,J32,J35,J38,J41,J44,J47,J50,J53,J56,J59,J62,J65,J68,J71,J74),"","*") | K3: =IF(K8=SUM(K11,K14,K17,K20,K23,K26,K29,K32,K35,K38,K41,K44,K47,K50,K53,K56,K59,K62,K65,K68,K71,K74),"","*") | ... AT3: =IF(AT8=SUM(AT11,AT14,AT17,AT20,AT23,AT26,AT29,AT32,AT35,AT38,AT41,AT44,AT47,AT50,AT53,AT56,AT59,AT62,AT65,AT68,AT71,AT74),"","*")
A4: 區域及特殊族群別 Locality & Ethnos | D4: 兒童及少年代表人數 Number of child and youth representatives | G4: 兒童及少年代表為委員人數 | J4: 無依兒童及少年安置及處理人數 Number of helpless children and youth receiving placement and other services | S4: 兒童及少年福利服務中心Welfare Service Centers
J5: 尋獲父母或監護人者 Those whose parents or guardians are found | M5: 逾法定期限未尋獲父母或監護人者 Those whose parents or guardians are not found within the statutory period | P5: 法定期限內尚在協尋父母或監護人者 Those whose parents or guardians are being searched for within the statutory period | S5: 兒童及少年福利服務中心數 Welfare Service Centers | W5: 個案服務人次 Case Service | Z5: 團體服務人次 Group Service | AC5: 社區服務人次 Community Service | AF5: 外展服務人次 Outreach Service | AI5: 轉介服務人次 Referral Service | AL5: 親職教育人次 Parenting Education | AO5: 親子活動人次 Family Activities | AR5: 其他福利服務人次 other Service
D6: 計 | E6: 男 | F6: 女 | G6: 計 | H6: 男 | I6: 女 | J6: 計 | K6: 男 | L6: 女 | M6: 計 | N6: 男 | O6: 女 | P6: 計 | Q6: 男 | R6: 女 | S6: 計 | T6: 公立 | U6: 私立 | V6: 公設民營 | W6: 計 | X6: 男 | Y6: 女 | Z6: 計 | AA6: 男 | AB6: 女 | AC6: 計 | AD6: 男 | AE6: 女 | AF6: 計 | AG6: 男 | AH6: 女 | AI6: 計 | AJ6: 男 | AK6: 女 | AL6: 計 | AM6: 男 | AN6: 女 | AO6: 計 | AP6: 男 | AQ6: 女 | AR6: 計 | AS6: 男 | AT6: 女
D7: Total | E7: Male | F7: Female | G7: Total | H7: Male | I7: Female | J7: Total | K7: Male | L7: Female | M7: Total | N7: Male | O7: Female | P7: Total | Q7: Male | R7: Female | S7: Total | T7: Public | U7: Private | V7: Run by Private | W7: Total | X7: Male | Y7: Female | Z7: Total | AA7: Male | AB7: Female | AC7: Total | AD7: Male | AE7: Female | AF7: Total | AG7: Male | AH7: Female | AI7: Total | AJ7: Male | AK7: Female | AL7: Total | AM7: Male | AN7: Female | AO7: Total | AP7: Male | AQ7: Female | AR7: Total | AS7: Male | AT7: Female
A8: 總計 | B8: 計 | C8: Total | D8: 402 | E8: 173 | F8: 229 | G8: 67 | H8: 27 | I8: 40 | J8: 7 | K8: 3 | L8: 4 | M8: 7 | N8: 4 | O8: 3 | P8: 2 | Q8: 1 | R8: 1 | S8: 40 | T8: 11 | U8: 4 | V8: 25 | W8: 91327 | X8: 42967 | Y8: 48360 | Z8: 47746 | AA8: 18991 | AB8: 28755 | AC8: 309048 | AD8: 142139 | AE8: 166909 | AF8: 19433 | AG8: 8774 | AH8: 10659 | AI8: 2283 | AJ8: 1279 | AK8: 1004 | AL8: 66536 | AM8: 31420 | AN8: 35116 | AO8: 196098 | AP8: 68884 | AQ8: 127214 | AR8: 507904 | AS8: 208673 | AT8: 299231
A9: Total | B9: 一般 | C9: General | D9: 374 | E9: 161 | F9: 213 | G9: 65 | H9: 27 | I9: 38 | J9: 6 | K9: 3 | L9: 3 | M9: 7 | N9: 4 | O9: 3 | P9: 2 | Q9: 1 | R9: 1
B10: 原住民 | C10: Indigenous | D10: 28 | E10: 12 | F10: 16 | G10: 2 | H10: 0 | I10: 2 | J10: 1 | K10: 0 | L10: 1 | M10: 0 | N10: 0 | O10: 0 | P10: 0 | Q10: 0 | R10: 0
A11: 新北市 | B11: 計 | C11: Total | D11: 22 | E11: 9 | F11: 13 | G11: 6 | H11: 5 | I11: 1 | J11: 6 | K11: 3 | L11: 3 | M11: 3 | N11: 1 | O11: 2 | P11: 0 | Q11: 0 | R11: 0 | S11: 7 | T11: 0 | U11: 0 | V11: 7 | W11: 6545 | X11: 2779 | Y11: 3766 | Z11: 2189 | AA11: 946 | AB11: 1243 | AC11: 18083 | AD11: 7941 | AE11: 10142 | AF11: 5008 | AG11: 2436 | AH11: 2572 | AI11: 178 | AJ11: 133 | AK11: 45 | AL11: 1837 | AM11: 745 | AN11: 1092 | AO11: 5348 | AP11: 2371 | AQ11: 2977 | AR11: 29400 | AS11: 11030 | AT11: 18370
A12: New Taipei City | B12: 一般 | C12: General | D12: 21 | E12: 8 | F12: 13 | G12: 6 | H12: 5 | I12: 1 | J12: 5 | K12: 3 | L12: 2 | M12: 3 | N12: 1 | O12: 2 | P12: 0 | Q12: 0 | R12: 0
B13: 原住民 | C13: Indigenous | D13: 1 | E13: 1 | F13: 0 | G13: 0 | H13: 0 | I13: 0 | J13: 1 | K13: 0 | L13: 1 | M13: 0 | N13: 0 | O13: 0 | P13: 0 | Q13: 0 | R13: 0
A14: 臺北市 | B14: 計 | C14: Total | D14: 20 | E14: 7 | F14: 13 | G14: 6 | H14: 2 | I14: 4 | J14: 0 | K14: 0 | L14: 0 | M14: 0 | N14: 0 | O14: 0 | P14: 1 | Q14: 0 | R14: 1 | S14: 9 | T14: 0 | U14: 0 | V14: 9 | W14: 24484 | X14: 12486 | Y14: 11998 | Z14: 4923 | AA14: 2306 | AB14: 2617 | AC14: 60913 | AD14: 26626 | AE14: 34287 | AF14: 3620 | AG14: 1968 | AH14: 1652 | AI14: 111 | AJ14: 57 | AK14: 54 | AL14: 1217 | AM14: 448 | AN14: 769 | AO14: 823 | AP14: 325 | AQ14: 498 | AR14: 50032 | AS14: 27111 | AT14: 22921
A15: Taipei City | B15: 一般 | C15: General | D15: 19 | E15: 7 | F15: 12 | G15: 6 | H15: 2 | I15: 4 | J15: 0 | K15: 0 | L15: 0 | M15: 0 | N15: 0 | O15: 0 | P15: 1 | Q15: 0 | R15: 1
B16: 原住民 | C16: Indigenous | D16: 1 | E16: 0 | F16: 1 | G16: 0 | H16: 0 | I16: 0 | J16: 0 | K16: 0 | L16: 0 | M16: 0 | N16: 0 | O16: 0 | P16: 0 | Q16: 0 | R16: 0
A17: 桃園市 | B17: 計 | C17: Total | D17: 29 | E17: 13 | F17: 16 | G17: 7 | H17: 4 | I17: 3 | J17: 0 | K17: 0 | L17: 0 | M17: 0 | N17: 0 | O17: 0 | P17: 0 | Q17: 0 | R17: 0 | S17: 3 | T17: 0 | U17: 0 | V17: 3 | W17: 5942 | X17: 4409 | Y17: 1533 | Z17: 7750 | AA17: 3176 | AB17: 4574 | AC17: 10387 | AD17: 2511 | AE17: 7876 | AF17: 1383 | AG17: 483 | AH17: 900 | AI17: 881 | AJ17: 610 | AK17: 271 | AL17: 199 | AM17: 36 | AN17: 163 | AO17: 959 | AP17: 408 | AQ17: 551 | AR17: 31 | AS17: 11 | AT17: 20
A18: Taoyuan City | B18: 一般 | C18: General | D18: 29 | E18: 13 | F18: 16 | G18: 7 | H18: 4 | I18: 3 | J18: 0 | K18: 0 | L18: 0 | M18: 0 | N18: 0 | O18: 0 | P18: 0 | Q18: 0 | R18: 0
B19: 原住民 | C19: Indigenous | D19: 0 | E19: 0 | F19: 0 | G19: 0 | H19: 0 | I19: 0 | J19: 0 | K19: 0 | L19: 0 | M19: 0 | N19: 0 | O19: 0 | P19: 0 | Q19: 0 | R19: 0
A20: 臺中市 | B20: 計 | C20: Indigenous | D20: 21 | E20: 11 | F20: 10 | G20: 4 | H20: 2 | I20: 2 | J20: 0 | K20: 0 | L20: 0 | M20: 0 | N20: 0 | O20: 0 | P20: 1 | Q20: 1 | R20: 0 | S20: 2 | T20: 2 | U20: 0 | V20: 0 | W20: 0 | X20: 0 | Y20: 0 | Z20: 0 | AA20: 0 | AB20: 0 | AC20: 0 | AD20: 0 | AE20: 0 | AF20: 0 | AG20: 0 | AH20: 0 | AI20: 0 | AJ20: 0 | AK20: 0 | AL20: 0 | AM20: 0 | AN20: 0 | AO20: 28222 | AP20: 11866 | AQ20: 16356 | AR20: 80932 | AS20: 33690 | AT20: 47242
A21: Taichung City | B21: 一般 | C21: General | D21: 20 | E21: 11 | F21: 9 | G21: 4 | H21: 2 | I21: 2 | J21: 0 | K21: 0 | L21: 0 | M21: 0 | N21: 0 | O21: 0 | P21: 1 | Q21: 1 | R21: 0
B22: 原住民 | C22: Indigenous | D22: 1 | E22: 0 | F22: 1 | G22: 0 | H22: 0 | I22: 0 | J22: 0 | K22: 0 | L22: 0 | M22: 0 | N22: 0 | O22: 0 | P22: 0 | Q22: 0 | R22: 0
A23: 臺南市 | B23: 計 | C23: Total | D23: 20 | E23: 12 | F23: 8 | G23: 5 | H23: 2 | I23: 3 | J23: 0 | K23: 0 | L23: 0 | M23: 0 | N23: 0 | O23: 0 | P23: 0 | Q23: 0 | R23: 0 | S23: 3 | T23: 1 | U23: 1 | V23: 1 | W23: 35799 | X23: 12803 | Y23: 22996 | Z23: 17427 | AA23: 6036 | AB23: 11391 | AC23: 2044 | AD23: 879 | AE23: 1165 | AF23: 1885 | AG23: 869 | AH23: 1016 | AI23: 83 | AJ23: 52 | AK23: 31 | AL23: 381 | AM23: 148 | AN23: 233 | AO23: 43180 | AP23: 11896 | AQ23: 31284 | AR23: 113004 | AS23: 37504 | AT23: 75500
A24: Tainan City | B24: 一般 | C24: General | D24: 19 | E24: 12 | F24: 7 | G24: 5 | H24: 2 | I24: 3 | J24: 0 | K24: 0 | L24: 0 | M24: 0 | N24: 0 | O24: 0 | P24: 0 | Q24: 0 | R24: 0
B25: 原住民 | C25: Indigenous | D25: 1 | E25: 0 | F25: 1 | G25: 0 | H25: 0 | I25: 0 | J25: 0 | K25: 0 | L25: 0 | M25: 0 | N25: 0 | O25: 0 | P25: 0 | Q25: 0 | R25: 0
A26: 高雄市 | B26: 計 | C26: Total | D26: 26 | E26: 13 | F26: 13 | G26: 2 | H26: 1 | I26: 1 | J26: 0 | K26: 0 | L26: 0 | M26: 0 | N26: 0 | O26: 0 | P26: 0 | Q26: 0 | R26: 0 | S26: 2 | T26: 2 | U26: 0 | V26: 0 | W26: 9833 | X26: 6768 | Y26: 3065 | Z26: 360 | AA26: 262 | AB26: 98 | AC26: 3370 | AD26: 1181 | AE26: 2189 | AF26: 0 | AG26: 0 | AH26: 0 | AI26: 194 | AJ26: 121 | AK26: 73 | AL26: 57226 | AM26: 27905 | AN26: 29321 | AO26: 7800 | AP26: 3017 | AQ26: 4783 | AR26: 107423 | AS26: 40593 | AT26: 66830
A27: Kaohsiung City | B27: 一般 | C27: General | D27: 25 | E27: 13 | F27: 12 | G27: 2 | H27: 1 | I27: 1 | J27: 0 | K27: 0 | L27: 0 | M27: 0 | N27: 0 | O27: 0 | P27: 0 | Q27: 0 | R27: 0
B28: 原住民 | C28: Indigenous | D28: 1 | E28: 0 | F28: 1 | G28: 0 | H28: 0 | I28: 0 | J28: 0 | K28: 0 | L28: 0 | M28: 0 | N28: 0 | O28: 0 | P28: 0 | Q28: 0 | R28: 0
A29: 宜蘭縣 | B29: 計 | C29: Total | D29: 15 | E29: 5 | F29: 10 | G29: 2 | H29: 1 | I29: 1 | J29: 0 | K29: 0 | L29: 0 | M29: 0 | N29: 0 | O29: 0 | P29: 0 | Q29: 0 | R29: 0 | S29: 1 | T29: 0 | U29: 1 | V29: 0 | W29: 710 | X29: 303 | Y29: 407 | Z29: 286 | AA29: 51 | AB29: 235 | AC29: 154609 | AD29: 72858 | AE29: 81751 | AF29: 4199 | AG29: 1534 | AH29: 2665 | AI29: 179 | AJ29: 95 | AK29: 84 | AL29: 1233 | AM29: 566 | AN29: 667 | AO29: 1021 | AP29: 518 | AQ29: 503 | AR29: 170 | AS29: 91 | AT29: 79
A30: Yilan County | B30: 一般 | C30: General | D30: 15 | E30: 5 | F30: 10 | G30: 2 | H30: 1 | I30: 1 | J30: 0 | K30: 0 | L30: 0 | M30: 0 | N30: 0 | O30: 0 | P30: 0 | Q30: 0 | R30: 0
B31: 原住民 | C31: Indigenous | D31: 0 | E31: 0 | F31: 0 | G31: 0 | H31: 0 | I31: 0 | J31: 0 | K31: 0 | L31: 0 | M31: 0 | N31: 0 | O31: 0 | P31: 0 | Q31: 0 | R31: 0
A32: 新竹縣 | B32: 計 | C32: Total | D32: 11 | E32: 6 | F32: 5 | G32: 2 | H32: 2 | I32: 0 | J32: 0 | K32: 0 | L32: 0 | M32: 0 | N32: 0 | O32: 0 | P32: 0 | Q32: 0 | R32: 0 | S32: 1 | T32: 0 | U32: 0 | V32: 1 | W32: 0 | X32: 0 | Y32: 0 | Z32: 10358 | AA32: 4162 | AB32: 6196 | AC32: 0 | AD32: 0 | AE32: 0 | AF32: 0 | AG32: 0 | AH32: 0 | AI32: 0 | AJ32: 0 | AK32: 0 | AL32: 0 | AM32: 0 | AN32: 0 | AO32: 761 | AP32: 198 | AQ32: 563 | AR32: 0 | AS32: 0 | AT32: 0
A33: Hsinchu County | B33: 一般 | C33: General | D33: 8 | E33: 4 | F33: 4 | G33: 2 | H33: 2 | I33: 0 | J33: 0 | K33: 0 | L33: 0 | M33: 0 | N33: 0 | O33: 0 | P33: 0 | Q33: 0 | R33: 0
B34: 原住民 | C34: Indigenous | D34: 3 | E34: 2 | F34: 1 | G34: 0 | H34: 0 | I34: 0 | J34: 0 | K34: 0 | L34: 0 | M34: 0 | N34: 0 | O34: 0 | P34: 0 | Q34: 0 | R34: 0
A35: 苗栗縣 | B35: 計 | C35: Total | D35: 15 | E35: 6 | F35: 9 | G35: 2 | H35: 1 | I35: 1 | J35: 0 | K35: 0 | L35: 0 | M35: 0 | N35: 0 | O35: 0 | P35: 0 | Q35: 0 | R35: 0 | S35: 0 | T35: 0 | U35: 0 | V35: 0 | W35: 0 | X35: 0 | Y35: 0 | Z35: 0 | AA35: 0 | AB35: 0 | AC35: 0 | AD35: 0 | AE35: 0 | AF35: 0 | AG35: 0 | AH35: 0 | AI35: 0 | AJ35: 0 | AK35: 0 | AL35: 0 | AM35: 0 | AN35: 0 | AO35: 0 | AP35: 0 | AQ35: 0 | AR35: 0 | AS35: 0 | AT35: 0
A36: Miaoli County | B36: 一般 | C36: General | D36: 15 | E36: 6 | F36: 9 | G36: 2 | H36: 1 | I36: 1 | J36: 0 | K36: 0 | L36: 0 | M36: 0 | N36: 0 | O36: 0 | P36: 0 | Q36: 0 | R36: 0
B37: 原住民 | C37: Indigenous | D37: 0 | E37: 0 | F37: 0 | G37: 0 | H37: 0 | I37: 0 | J37: 0 | K37: 0 | L37: 0 | M37: 0 | N37: 0 | O37: 0 | P37: 0 | Q37: 0 | R37: 0
A38: 彰化縣 | B38: 計 | C38: Total | D38: 20 | E38: 12 | F38: 8 | G38: 2 | H38: 0 | I38: 2 | J38: 0 | K38: 0 | L38: 0 | M38: 1 | N38: 1 | O38: 0 | P38: 0 | Q38: 0 | R38: 0 | S38: 1 | T38: 1 | U38: 0 | V38: 0 | W38: 0 | X38: 0 | Y38: 0 | Z38: 1195 | AA38: 484 | AB38: 711 | AC38: 2745 | AD38: 1217 | AE38: 1528 | AF38: 2415 | AG38: 1031 | AH38: 1384 | AI38: 0 | AJ38: 0 | AK38: 0 | AL38: 893 | AM38: 316 | AN38: 577 | AO38: 3249 | AP38: 1239 | AQ38: 2010 | AR38: 375 | AS38: 107 | AT38: 268
A39: Changhua County | B39: 一般 | C39: General | D39: 20 | E39: 12 | F39: 8 | G39: 2 | H39: 0 | I39: 2 | J39: 0 | K39: 0 | L39: 0 | M39: 1 | N39: 1 | O39: 0 | P39: 0 | Q39: 0 | R39: 0
B40: 原住民 | C40: Indigenous | D40: 0 | E40: 0 | F40: 0 | G40: 0 | H40: 0 | I40: 0 | J40: 0 | K40: 0 | L40: 0 | M40: 0 | N40: 0 | O40: 0 | P40: 0 | Q40: 0 | R40: 0
...

Sheet 112
A1: 兒童及少年福利服務 Child and Youth Welfare Services
A2: 民國112年, 2023 | D2: =IF(D9=SUM(D12,D15,D21,D24,D27,D30,D18,D33,D36,D39,D42,D45,D48,D51,D54,D57,D60,D63,D66,D69,D72,D75),"","*") | E2: =IF(E9=SUM(E12,E15,E21,E24,E27,E30,E18,E33,E36,E39,E42,E45,E48,E51,E54,E57,E60,E63,E66,E69,E72,E75),"","*") | F2: =IF(F9=SUM(F12,F15,F21,F24,F27,F30,F18,F33,F36,F39,F42,F45,F48,F51,F54,F57,F60,F63,F66,F69,F72,F75),"","*") | J2: =IF(J9=SUM(J12,J15,J21,J24,J27,J30,J18,J33,J36,J39,J42,J45,J48,J51,J54,J57,J60,J63,J66,J69,J72,J75),"","*") | K2: =IF(K9=SUM(K12,K15,K21,K24,K27,K30,K18,K33,K36,K39,K42,K45,K48,K51,K54,K57,K60,K63,K66,K69,K72,K75),"","*") | L2: =IF(L9=SUM(L12,L15,L21,L24,L27,L30,L18,L33,L36,L39,L42,L45,L48,L51,L54,L57,L60,L63,L66,L69,L72,L75),"","*") | M2: =IF(M9=SUM(M12,M15,M21,M24,M27,M30,M18,M33,M36,M39,M42,M45,M48,M51,M54,M57,M60,M63,M66,M69,M72,M75),"","*") | N2: =IF(N9=SUM(N12,N15,N21,N24,N27,N30,N18,N33,N36,N39,N42,N45,N48,N51,N54,N57,N60,N63,N66,N69,N72,N75),"","*") | O2: =IF(O9=SUM(O12,O15,O21,O24,O27,O30,O18,O33,O36,O39,O42,O45,O48,O51,O54,O57,O60,O63,O66,O69,O72,O75),"","*") | P2: =IF(P9=SUM(P12,P15,P21,P24,P27,P30,P18,P33,P36,P39,P42,P45,P48,P51,P54,P57,P60,P63,P66,P69,P72,P75),"","*") | Q2: =IF(Q9=SUM(Q12,Q15,Q21,Q24,Q27,Q30,Q18,Q33,Q36,Q39,Q42,Q45,Q48,Q51,Q54,Q57,Q60,Q63,Q66,Q69,Q72,Q75),"","*") | R2: =IF(R9=SUM(R12,R15,R21,R24,R27,R30,R18,R33,R36,R39,R42,R45,R48,R51,R54,R57,R60,R63,R66,R69,R72,R75),"","*")
A3: 單位：人、人次、所 | D3: =IF(D8=SUM(D11,D14,D17,D20,D23,D26,D29,D32,D35,D38,D41,D44,D47,D50,D53,D56,D59,D62,D65,D68,D71,D74),"","*") | E3: =IF(E8=SUM(E11,E14,E17,E20,E23,E26,E29,E32,E35,E38,E41,E44,E47,E50,E53,E56,E59,E62,E65,E68,E71,E74),"","*") | F3: =IF(F8=SUM(F11,F14,F17,F20,F23,F26,F29,F32,F35,F38,F41,F44,F47,F50,F53,F56,F59,F62,F65,F68,F71,F74),"","*") | G3: =IF(G8=SUM(G11,G14,G17,G20,G23,G26,G29,G32,G35,G38,G41,G44,G47,G50,G53,G56,G59,G62,G65,G68,G71,G74),"","*") | H3: =IF(H8=SUM(H11,H14,H17,H20,H23,H26,H29,H32,H35,H38,H41,H44,H47,H50,H53,H56,H59,H62,H65,H68,H71,H74),"","*") | I3: =IF(I8=SUM(I11,I14,I17,I20,I23,I26,I29,I32,I35,I38,I41,I44,I47,I50,I53,I56,I59,I62,I65,I68,I71,I74),"","*") | J3: =IF(J8=SUM(J11,J14,J17,J20,J23,J26,J29,J32,J35,J38,J41,J44,J47,J50,J53,J56,J59,J62,J65,J68,J71,J74),"","*") | K3: =IF(K8=SUM(K11,K14,K17,K20,K23,K26,K29,K32,K35,K38,K41,K44,K47,K50,K53,K56,K59,K62,K65,K68,K71,K74),"","*") | ... AT3: =IF(AT8=SUM(AT11,AT14,AT17,AT20,AT23,AT26,AT29,AT32,AT35,AT38,AT41,AT44,AT47,AT50,AT53,AT56,AT59,AT62,AT65,AT68,AT71,AT74),"","*")
A4: 區域及特殊族群別 Locality & Ethnos | D4: 兒童及少年代表人數 Number of child and youth representatives | G4: 兒童及少年代表為委員人數 | J4: 無依兒童及少年安置及處理人數 Number of helpless children and youth receiving placement and other services | S4: 兒童及少年福利服務中心Welfare Service Centers
J5: 尋獲父母或監護人者 Those whose parents or guardians are found | M5: 逾法定期限未尋獲父母或監護人者 Those whose parents or guardians are not found within the statutory period | P5: 法定期限內尚在協尋父母或監護人者 Those whose parents or guardians are being searched for within the statutory period | S5: 兒童及少年福利服務中心數 Welfare Service Centers | W5: 個案服務人次 Case Service | Z5: 團體服務人次 Group Service | AC5: 社區服務人次 Community Service | AF5: 外展服務人次 Outreach Service | AI5: 轉介服務人次 Referral Service | AL5: 親職教育人次 Parenting Education | AO5: 親子活動人次 Family Activities | AR5: 其他福利服務人次 other Service
D6: 計 | E6: 男 | F6: 女 | G6: 計 | H6: 男 | I6: 女 | J6: 計 | K6: 男 | L6: 女 | M6: 計 | N6: 男 | O6: 女 | P6: 計 | Q6: 男 | R6: 女 | S6: 計 | T6: 公立 | U6: 私立 | V6: 公設民營 | W6: 計 | X6: 男 | Y6: 女 | Z6: 計 | AA6: 男 | AB6: 女 | AC6: 計 | AD6: 男 | AE6: 女 | AF6: 計 | AG6: 男 | AH6: 女 | AI6: 計 | AJ6: 男 | AK6: 女 | AL6: 計 | AM6: 男 | AN6: 女 | AO6: 計 | AP6: 男 | AQ6: 女 | AR6: 計 | AS6: 男 | AT6: 女
D7: Total | E7: Male | F7: Female | G7: Total | H7: Male | I7: Female | J7: Total | K7: Male | L7: Female | M7: Total | N7: Male | O7: Female | P7: Total | Q7: Male | R7: Female | S7: Total | T7: Public | U7: Private | V7: Run by Private | W7: Total | X7: Male | Y7: Female | Z7: Total | AA7: Male | AB7: Female | AC7: Total | AD7: Male | AE7: Female | AF7: Total | AG7: Male | AH7: Female | AI7: Total | AJ7: Male | AK7: Female | AL7: Total | AM7: Male | AN7: Female | AO7: Total | AP7: Male | AQ7: Female | AR7: Total | AS7: Male | AT7: Female
A8: 總計 | B8: 計 | C8: Total | D8: 414 | E8: 187 | F8: 227 | G8: 69 | H8: 33 | I8: 36 | J8: 10 | K8: 5 | L8: 5 | M8: 11 | N8: 4 | O8: 7 | P8: 2 | Q8: 2 | R8: 0 | S8: 41 | T8: 12 | U8: 3 | V8: 26 | W8: 61861 | X8: 32727 | Y8: 29134 | Z8: 110663 | AA8: 45691 | AB8: 64972 | AC8: 275735 | AD8: 136671 | AE8: 139064 | AF8: 16877 | AG8: 8750 | AH8: 8127 | AI8: 1472 | AJ8: 844 | AK8: 628 | AL8: 61940 | AM8: 28381 | AN8: 33559 | AO8: 89633 | AP8: 35725 | AQ8: 53908 | AR8: 406300 | AS8: 158399 | AT8: 247901
A9: Total | B9: 一般 | C9: General | D9: 395 | E9: 178 | F9: 217 | G9: 68 | H9: 32 | I9: 36 | J9: 9 | K9: 5 | L9: 4 | M9: 11 | N9: 4 | O9: 7 | P9: 2 | Q9: 2 | R9: 0
B10: 原住民 | C10: Indigenous | D10: 19 | E10: 9 | F10: 10 | G10: 1 | H10: 1 | I10: 0 | J10: 1 | K10: 0 | L10: 1 | M10: 0 | N10: 0 | O10: 0 | P10: 0 | Q10: 0 | R10: 0
A11: 新北市 | B11: 計 | C11: Total | D11: 34 | E11: 17 | F11: 17 | G11: 6 | H11: 5 | I11: 1 | J11: 7 | K11: 3 | L11: 4 | M11: 8 | N11: 2 | O11: 6 | P11: 2 | Q11: 2 | R11: 0 | S11: 7 | T11: 0 | U11: 0 | V11: 7 | W11: 7804 | X11: 4152 | Y11: 3652 | Z11: 2502 | AA11: 1357 | AB11: 1145 | AC11: 19425 | AD11: 8999 | AE11: 10426 | AF11: 4903 | AG11: 2812 | AH11: 2091 | AI11: 197 | AJ11: 117 | AK11: 80 | AL11: 443 | AM11: 167 | AN11: 276 | AO11: 378 | AP11: 120 | AQ11: 258 | AR11: 28653 | AS11: 11782 | AT11: 16871
A12: New Taipei City | B12: 一般 | C12: General | D12: 33 | E12: 16 | F12: 17 | G12: 6 | H12: 5 | I12: 1 | J12: 6 | K12: 3 | L12: 3 | M12: 8 | N12: 2 | O12: 6 | P12: 2 | Q12: 2 | R12: 0
B13: 原住民 | C13: Indigenous | D13: 1 | E13: 1 | F13: 0 | G13: 0 | H13: 0 | I13: 0 | J13: 1 | K13: 0 | L13: 1 | M13: 0 | N13: 0 | O13: 0 | P13: 0 | Q13: 0 | R13: 0
A14: 臺北市 | B14: 計 | C14: Total | D14: 20 | E14: 7 | F14: 13 | G14: 6 | H14: 2 | I14: 4 | J14: 0 | K14: 0 | L14: 0 | M14: 2 | N14: 1 | O14: 1 | P14: 0 | Q14: 0 | R14: 0 | S14: 9 | T14: 0 | U14: 0 | V14: 9 | W14: 25834 | X14: 13402 | Y14: 12432 | Z14: 4422 | AA14: 1961 | AB14: 2461 | AC14: 60236 | AD14: 27840 | AE14: 32396 | AF14: 3994 | AG14: 2042 | AH14: 1952 | AI14: 108 | AJ14: 60 | AK14: 48 | AL14: 1432 | AM14: 457 | AN14: 975 | AO14: 936 | AP14: 384 | AQ14: 552 | AR14: 41412 | AS14: 22266 | AT14: 19146
A15: Taipei City | B15: 一般 | C15: General | D15: 19 | E15: 7 | F15: 12 | G15: 6 | H15: 2 | I15: 4 | J15: 0 | K15: 0 | L15: 0 | M15: 2 | N15: 1 | O15: 1 | P15: 0 | Q15: 0 | R15: 0
B16: 原住民 | C16: Indigenous | D16: 1 | E16: 0 | F16: 1 | G16: 0 | H16: 0 | I16: 0 | J16: 0 | K16: 0 | L16: 0 | M16: 0 | N16: 0 | O16: 0 | P16: 0 | Q16: 0 | R16: 0
A17: 桃園市 | B17: 計 | C17: Total | D17: 25 | E17: 11 | F17: 14 | G17: 6 | H17: 3 | I17: 3 | J17: 0 | K17: 0 | L17: 0 | M17: 0 | N17: 0 | O17: 0 | P17: 0 | Q17: 0 | R17: 0 | S17: 3 | T17: 0 | U17: 0 | V17: 3 | W17: 967 | X17: 611 | Y17: 356 | Z17: 673 | AA17: 379 | AB17: 294 | AC17: 301 | AD17: 69 | AE17: 232 | AF17: 0 | AG17: 0 | AH17: 0 | AI17: 19 | AJ17: 11 | AK17: 8 | AL17: 57 | AM17: 11 | AN17: 46 | AO17: 748 | AP17: 265 | AQ17: 483 | AR17: 0 | AS17: 0 | AT17: 0
A18: Taoyuan City | B18: 一般 | C18: General | D18: 25 | E18: 11 | F18: 14 | G18: 6 | H18: 3 | I18: 3 | J18: 0 | K18: 0 | L18: 0 | M18: 0 | N18: 0 | O18: 0 | P18: 0 | Q18: 0 | R18: 0
B19: 原住民 | C19: Indigenous | D19: 0 | E19: 0 | F19: 0 | G19: 0 | H19: 0 | I19: 0 | J19: 0 | K19: 0 | L19: 0 | M19: 0 | N19: 0 | O19: 0 | P19: 0 | Q19: 0 | R19: 0
A20: 臺中市 | B20: 計 | C20: Indigenous | D20: 21 | E20: 11 | F20: 10 | G20: 4 | H20: 2 | I20: 2 | J20: 0 | K20: 0 | L20: 0 | M20: 0 | N20: 0 | O20: 0 | P20: 0 | Q20: 0 | R20: 0 | S20: 2 | T20: 2 | U20: 0 | V20: 0 | W20: 0 | X20: 0 | Y20: 0 | Z20: 88523 | AA20: 35409 | AB20: 53114 | AC20: 0 | AD20: 0 | AE20: 0 | AF20: 0 | AG20: 0 | AH20: 0 | AI20: 0 | AJ20: 0 | AK20: 0 | AL20: 0 | AM20: 0 | AN20: 0 | AO20: 29382 | AP20: 12463 | AQ20: 16919 | AR20: 0 | AS20: 0 | AT20: 0
A21: Taichung City | B21: 一般 | C21: General | D21: 20 | E21: 11 | F21: 9 | G21: 4 | H21: 2 | I21: 2 | J21: 0 | K21: 0 | L21: 0 | M21: 0 | N21: 0 | O21: 0 | P21: 0 | Q21: 0 | R21: 0
B22: 原住民 | C22: Indigenous | D22: 1 | E22: 0 | F22: 1 | G22: 0 | H22: 0 | I22: 0 | J22: 0 | K22: 0 | L22: 0 | M22: 0 | N22: 0 | O22: 0 | P22: 0 | Q22: 0 | R22: 0
A23: 臺南市 | B23: 計 | C23: Total | D23: 18 | E23: 9 | F23: 9 | G23: 5 | H23: 3 | I23: 2 | J23: 0 | K23: 0 | L23: 0 | M23: 0 | N23: 0 | O23: 0 | P23: 0 | Q23: 0 | R23: 0 | S23: 3 | T23: 1 | U23: 1 | V23: 1 | W23: 53 | X23: 31 | Y23: 22 | Z23: 1259 | AA23: 276 | AB23: 983 | AC23: 2732 | AD23: 853 | AE23: 1879 | AF23: 740 | AG23: 329 | AH23: 411 | AI23: 78 | AJ23: 46 | AK23: 32 | AL23: 2383 | AM23: 391 | AN23: 1992 | AO23: 3321 | AP23: 1129 | AQ23: 2192 | AR23: 132514 | AS23: 50001 | AT23: 82513
A24: Tainan City | B24: 一般 | C24: General | D24: 17 | E24: 8 | F24: 9 | G24: 5 | H24: 3 | I24: 2 | J24: 0 | K24: 0 | L24: 0 | M24: 0 | N24: 0 | O24: 0 | P24: 0 | Q24: 0 | R24: 0
B25: 原住民 | C25: Indigenous | D25: 1 | E25: 1 | F25: 0 | G25: 0 | H25: 0 | I25: 0 | J25: 0 | K25: 0 | L25: 0 | M25: 0 | N25: 0 | O25: 0 | P25: 0 | Q25: 0 | R25: 0
A26: 高雄市 | B26: 計 | C26: Total | D26: 33 | E26: 17 | F26: 16 | G26: 2 | H26: 1 | I26: 1 | J26: 0 | K26: 0 | L26: 0 | M26: 0 | N26: 0 | O26: 0 | P26: 0 | Q26: 0 | R26: 0 | S26: 2 | T26: 2 | U26: 0 | V26: 0 | W26: 9200 | X26: 6196 | Y26: 3004 | Z26: 345 | AA26: 256 | AB26: 89 | AC26: 4126 | AD26: 1644 | AE26: 2482 | AF26: 0 | AG26: 0 | AH26: 0 | AI26: 291 | AJ26: 171 | AK26: 120 | AL26: 56204 | AM26: 26805 | AN26: 29399 | AO26: 15210 | AP26: 6009 | AQ26: 9201 | AR26: 29163 | AS26: 9578 | AT26: 19585
A27: Kaohsiung City | B27: 一般 | C27: General | D27: 32 | E27: 17 | F27: 15 | G27: 2 | H27: 1 | I27: 1 | J27: 0 | K27: 0 | L27: 0 | M27: 0 | N27: 0 | O27: 0 | P27: 0 | Q27: 0 | R27: 0
B28: 原住民 | C28: Indigenous | D28: 1 | E28: 0 | F28: 1 | G28: 0 | H28: 0 | I28: 0 | J28: 0 | K28: 0 | L28: 0 | M28: 0 | N28: 0 | O28: 0 | P28: 0 | Q28: 0 | R28: 0
A29: 宜蘭縣 | B29: 計 | C29: Total | D29: 11 | E29: 3 | F29: 8 | G29: 2 | H29: 1 | I29: 1 | J29: 1 | K29: 1 | L29: 0 | M29: 0 | N29: 0 | O29: 0 | P29: 0 | Q29: 0 | R29: 0 | S29: 1 | T29: 0 | U29: 1 | V29: 0 | W29: 5903 | X29: 2328 | Y29: 3575 | Z29: 74 | AA29: 21 | AB29: 53 | AC29: 130624 | AD29: 65311 | AE29: 65313 | AF29: 1419 | AG29: 647 | AH29: 772 | AI29: 98 | AJ29: 47 | AK29: 51 | AL29: 731 | AM29: 345 | AN29: 386 | AO29: 266 | AP29: 112 | AQ29: 154 | AR29: 0 | AS29: 0 | AT29: 0
A30: Yilan County | B30: 一般 | C30: General | D30: 11 | E30: 3 | F30: 8 | G30: 2 | H30: 1 | I30: 1 | J30: 1 | K30: 1 | L30: 0 | M30: 0 | N30: 0 | O30: 0 | P30: 0 | Q30: 0 | R30: 0
B31: 原住民 | C31: Indigenous | D31: 0 | E31: 0 | F31: 0 | G31: 0 | H31: 0 | I31: 0 | J31: 0 | K31: 0 | L31: 0 | M31: 0 | N31: 0 | O31: 0 | P31: 0 | Q31: 0 | R31: 0
A32: 新竹縣 | B32: 計 | C32: Total | D32: 5 | E32: 3 | F32: 2 | G32: 2 | H32: 0 | I32: 2 | J32: 2 | K32: 1 | L32: 1 | M32: 0 | N32: 0 | O32: 0 | P32: 0 | Q32: 0 | R32: 0 | S32: 1 | T32: 0 | U32: 0 | V32: 1 | W32: 0 | X32: 0 | Y32: 0 | Z32: 2971 | AA32: 1180 | AB32: 1791 | AC32: 0 | AD32: 0 | AE32: 0 | AF32: 0 | AG32: 0 | AH32: 0 | AI32: 0 | AJ32: 0 | AK32: 0 | AL32: 0 | AM32: 0 | AN32: 0 | AO32: 0 | AP32: 0 | AQ32: 0 | AR32: 0 | AS32: 0 | AT32: 0
A33: Hsinchu County | B33: 一般 | C33: General | D33: 4 | E33: 2 | F33: 2 | G33: 2 | H33: 0 | I33: 2 | J33: 2 | K33: 1 | L33: 1 | M33: 0 | N33: 0 | O33: 0 | P33: 0 | Q33: 0 | R33: 0
B34: 原住民 | C34: Indigenous | D34: 1 | E34: 1 | F34: 0 | G34: 0 | H34: 0 | I34: 0 | J34: 0 | K34: 0 | L34: 0 | M34: 0 | N34: 0 | O34: 0 | P34: 0 | Q34: 0 | R34: 0
A35: 苗栗縣 | B35: 計 | C35: Total | D35: 15 | E35: 7 | F35: 8 | G35: 5 | H35: 3 | I35: 2 | J35: 0 | K35: 0 | L35: 0 | M35: 0 | N35: 0 | O35: 0 | P35: 0 | Q35: 0 | R35: 0 | S35: 1 | T35: 1 | U35: 0 | V35: 0 | W35: 158 | X35: 71 | Y35: 87 | Z35: 297 | AA35: 136 | AB35: 161 | AC35: 0 | AD35: 0 | AE35: 0 | AF35: 0 | AG35: 0 | AH35: 0 | AI35: 241 | AJ35: 123 | AK35: 118 | AL35: 386 | AM35: 133 | AN35: 253 | AO35: 1080 | AP35: 378 | AQ35: 702 | AR35: 781 | AS35: 343 | AT35: 438
A36: Miaoli County | B36: 一般 | C36: General | D36: 15 | E36: 7 | F36: 8 | G36: 5 | H36: 3 | I36: 2 | J36: 0 | K36: 0 | L36: 0 | M36: 0 | N36: 0 | O36: 0 | P36: 0 | Q36: 0 | R36: 0
B37: 原住民 | C37: Indigenous | D37: 0 | E37: 0 | F37: 0 | G37: 0 | H37: 0 | I37: 0 | J37: 0 | K37: 0 | L37: 0 | M37: 0 | N37: 0 | O37: 0 | P37: 0 | Q37: 0 | R37: 0
A38: 彰化縣 | B38: 計 | C38: Total | D38: 22 | E38: 12 | F38: 10 | G38: 2 | H38: 1 | I38: 1 | J38: 0 | K38: 0 | L38: 0 | M38: 1 | N38: 1 | O38: 0 | P38: 0 | Q38: 0 | R38: 0 | S38: 1 | T38: 1 | U38: 0 | V38: 0 | W38: 86 | X38: 54 | Y38: 32 | Z38: 6500 | AA38: 3000 | AB38: 3500 | AC38: 1640 | AD38: 800 | AE38: 840 | AF38: 2800 | AG38: 1200 | AH38: 1600 | AI38: 4 | AJ38: 2 | AK38: 2 | AL38: 50 | AM38: 20 | AN38: 30 | AO38: 3400 | AP38: 1400 | AQ38: 2000 | AR38: 0 | AS38: 0 | AT38: 0
A39: Changhua County | B39: 一般 | C39: General | D39: 21 | E39: 12 | F39: 9 | G39: 2 | H39: 1 | I39: 1 | J39: 0 | K39: 0 | L39: 0 | M39: 1 | N39: 1 | O39: 0 | P39: 0 | Q39: 0 | R39: 0
B40: 原住民 | C40: Indigenous | D40: 1 | E40: 0 | F40: 1 | G40: 0 | H40: 0 | I40: 0 | J40: 0 | K40: 0 | L40: 0 | M40: 0 | N40: 0 | O40: 0 | P40: 0 | Q40: 0 | R40: 0
...

Sheet 111
A1: 兒童及少年福利服務 Child and Youth Welfare Services
A2: 民國111年, 2022 | D2: =IF(D9=SUM(D12,D15,D21,D24,D27,D30,D18,D33,D36,D39,D42,D45,D48,D51,D54,D57,D60,D63,D66,D69,D72,D75),"","*") | E2: =IF(E9=SUM(E12,E15,E21,E24,E27,E30,E18,E33,E36,E39,E42,E45,E48,E51,E54,E57,E60,E63,E66,E69,E72,E75),"","*") | F2: =IF(F9=SUM(F12,F15,F21,F24,F27,F30,F18,F33,F36,F39,F42,F45,F48,F51,F54,F57,F60,F63,F66,F69,F72,F75),"","*") | J2: =IF(J9=SUM(J12,J15,J21,J24,J27,J30,J18,J33,J36,J39,J42,J45,J48,J51,J54,J57,J60,J63,J66,J69,J72,J75),"","*") | K2: =IF(K9=SUM(K12,K15,K21,K24,K27,K30,K18,K33,K36,K39,K42,K45,K48,K51,K54,K57,K60,K63,K66,K69,K72,K75),"","*") | L2: =IF(L9=SUM(L12,L15,L21,L24,L27,L30,L18,L33,L36,L39,L42,L45,L48,L51,L54,L57,L60,L63,L66,L69,L72,L75),"","*") | M2: =IF(M9=SUM(M12,M15,M21,M24,M27,M30,M18,M33,M36,M39,M42,M45,M48,M51,M54,M57,M60,M63,M66,M69,M72,M75),"","*") | N2: =IF(N9=SUM(N12,N15,N21,N24,N27,N30,N18,N33,N36,N39,N42,N45,N48,N51,N54,N57,N60,N63,N66,N69,N72,N75),"","*") | O2: =IF(O9=SUM(O12,O15,O21,O24,O27,O30,O18,O33,O36,O39,O42,O45,O48,O51,O54,O57,O60,O63,O66,O69,O72,O75),"","*") | P2: =IF(P9=SUM(P12,P15,P21,P24,P27,P30,P18,P33,P36,P39,P42,P45,P48,P51,P54,P57,P60,P63,P66,P69,P72,P75),"","*") | Q2: =IF(Q9=SUM(Q12,Q15,Q21,Q24,Q27,Q30,Q18,Q33,Q36,Q39,Q42,Q45,Q48,Q51,Q54,Q57,Q60,Q63,Q66,Q69,Q72,Q75),"","*") | R2: =IF(R9=SUM(R12,R15,R21,R24,R27,R30,R18,R33,R36,R39,R42,R45,R48,R51,R54,R57,R60,R63,R66,R69,R72,R75),"","*")
A3: 單位：人、人次、所 | D3: =IF(D8=SUM(D11,D14,D17,D20,D23,D26,D29,D32,D35,D38,D41,D44,D47,D50,D53,D56,D59,D62,D65,D68,D71,D74),"","*") | E3: =IF(E8=SUM(E11,E14,E17,E20,E23,E26,E29,E32,E35,E38,E41,E44,E47,E50,E53,E56,E59,E62,E65,E68,E71,E74),"","*") | F3: =IF(F8=SUM(F11,F14,F17,F20,F23,F26,F29,F32,F35,F38,F41,F44,F47,F50,F53,F56,F59,F62,F65,F68,F71,F74),"","*") | G3: =IF(G8=SUM(G11,G14,G17,G20,G23,G26,G29,G32,G35,G38,G41,G44,G47,G50,G53,G56,G59,G62,G65,G68,G71,G74),"","*") | H3: =IF(H8=SUM(H11,H14,H17,H20,H23,H26,H29,H32,H35,H38,H41,H44,H47,H50,H53,H56,H59,H62,H65,H68,H71,H74),"","*") | I3: =IF(I8=SUM(I11,I14,I17,I20,I23,I26,I29,I32,I35,I38,I41,I44,I47,I50,I53,I56,I59,I62,I65,I68,I71,I74),"","*") | J3: =IF(J8=SUM(J11,J14,J17,J20,J23,J26,J29,J32,J35,J38,J41,J44,J47,J50,J53,J56,J59,J62,J65,J68,J71,J74),"","*") | K3: =IF(K8=SUM(K11,K14,K17,K20,K23,K26,K29,K32,K35,K38,K41,K44,K47,K50,K53,K56,K59,K62,K65,K68,K71,K74),"","*") | ... AT3: =IF(AT8=SUM(AT11,AT14,AT17,AT20,AT23,AT26,AT29,AT32,AT35,AT38,AT41,AT44,AT47,AT50,AT53,AT56,AT59,AT62,AT65,AT68,AT71,AT74),"","*")
A4: 區域及特殊族群別 Locality & Ethnos | D4: 兒童及少年代表人數 Number of child and youth representatives | G4: 兒童及少年代表為委員人數 | J4: 無依兒童及少年安置及處理人數 Number of helpless children and youth receiving placement and other services | S4: 兒童及少年福利服務中心Welfare Service Centers
J5: 尋獲父母或監護人者 Those whose parents or guardians are found | M5: 逾法定期限未尋獲父母或監護人者 Those whose parents or guardians are not found within the statutory period | P5: 法定期限內尚在協尋父母或監護人者 Those whose parents or guardians are being searched for within the statutory period | S5: 兒童及少年福利服務中心數 Welfare Service Centers | W5: 個案服務人次 Case Service | Z5: 團體服務人次 Group Service | AC5: 社區服務人次 Community Service | AF5: 外展服務人次 Outreach Service | AI5: 轉介服務人次 Referral Service | AL5: 親職教育人次 Parenting Education | AO5: 親子活動人次 Family Activities
D6: 計 | E6: 男 | F6: 女 | G6: 計 | H6: 男 | I6: 女 | J6: 計 | K6: 男 | L6: 女 | M6: 計 | N6: 男 | O6: 女 | P6: 計 | Q6: 男 | R6: 女 | S6: 計 | T6: 公立 | U6: 私立 | V6: 公設民營 | W6: 計 | X6: 男 | Y6: 女 | Z6: 計 | AA6: 男 | AB6: 女 | AC6: 計 | AD6: 男 | AE6: 女 | AF6: 計 | AG6: 男 | AH6: 女 | AI6: 計 | AJ6: 男 | AK6: 女 | AL6: 計 | AM6: 男 | AN6: 女 | AO6: 計 | AP6: 男 | AQ6: 女
D7: Total | E7: Male | F7: Female | G7: Total | H7: Male | I7: Female | J7: Total | K7: Male | L7: Female | M7: Total | N7: Male | O7: Female | P7: Total | Q7: Male | R7: Female | S7: Total | T7: Public | U7: Private | V7: Run by Private | W7: Total | X7: Male | Y7: Female | Z7: Total | AA7: Male | AB7: Female | AC7: Total | AD7: Male | AE7: Female | AF7: Total | AG7: Male | AH7: Female | AI7: Total | AJ7: Male | AK7: Female | AL7: Total | AM7: Male | AN7: Female | AO7: Total | AP7: Male | AQ7: Female
A8: 總計 | B8: 計 | C8: Total | D8: 418 | E8: 191 | F8: 227 | G8: 68 | H8: 35 | I8: 33 | J8: 14 | K8: 7 | L8: 7 | M8: 13 | N8: 5 | O8: 8 | P8: 0 | Q8: 0 | R8: 0 | S8: 35 | T8: 10 | U8: 4 | V8: 21 | W8: 78595 | X8: 36801 | Y8: 41794 | Z8: 14859 | AA8: 6416 | AB8: 8443 | AC8: 412992 | AD8: 201543 | AE8: 211449 | AF8: 14371 | AG8: 7042 | AH8: 7329 | AI8: 4394 | AJ8: 2459 | AK8: 1935 | AL8: 79487 | AM8: 29911 | AN8: 49576 | AO8: 40112 | AP8: 14951 | AQ8: 25161
A9: Total | B9: 一般 | C9: General | D9: 408 | E9: 186 | F9: 222 | G9: 67 | H9: 34 | I9: 33 | J9: 13 | K9: 7 | L9: 6 | M9: 13 | N9: 5 | O9: 8 | P9: 0 | Q9: 0 | R9: 0
B10: 原住民 | C10: Indigenous | D10: 10 | E10: 5 | F10: 5 | G10: 1 | H10: 1 | I10: 0 | J10: 1 | K10: 0 | L10: 1 | M10: 0 | N10: 0 | O10: 0 | P10: 0 | Q10: 0 | R10: 0
A11: 新北市 | B11: 計 | C11: Total | D11: 30 | E11: 14 | F11: 16 | G11: 6 | H11: 6 | I11: 0 | J11: 9 | K11: 4 | L11: 5 | M11: 9 | N11: 3 | O11: 6 | P11: 0 | Q11: 0 | R11: 0 | S11: 7 | T11: 0 | U11: 0 | V11: 7 | W11: 12839 | X11: 6080 | Y11: 6759 | Z11: 3336 | AA11: 1526 | AB11: 1810 | AC11: 20848 | AD11: 8426 | AE11: 12422 | AF11: 3383 | AG11: 1645 | AH11: 1738 | AI11: 842 | AJ11: 425 | AK11: 417 | AL11: 1635 | AM11: 633 | AN11: 1002 | AO11: 517 | AP11: 166 | AQ11: 351
A12: New Taipei City | B12: 一般 | C12: General | D12: 30 | E12: 14 | F12: 16 | G12: 6 | H12: 6 | I12: 0 | J12: 8 | K12: 4 | L12: 4 | M12: 9 | N12: 3 | O12: 6 | P12: 0 | Q12: 0 | R12: 0
B13: 原住民 | C13: Indigenous | D13: 0 | E13: 0 | F13: 0 | G13: 0 | H13: 0 | I13: 0 | J13: 1 | K13: 0 | L13: 1 | M13: 0 | N13: 0 | O13: 0 | P13: 0 | Q13: 0 | R13: 0
A14: 臺北市 | B14: 計 | C14: Total | D14: 21 | E14: 12 | F14: 9 | G14: 6 | H14: 3 | I14: 3 | J14: 0 | K14: 0 | L14: 0 | M14: 0 | N14: 0 | O14: 0 | P14: 0 | Q14: 0 | R14: 0 | S14: 8 | T14: 0 | U14: 0 | V14: 8 | W14: 35503 | X14: 18584 | Y14: 16919 | Z14: 5535 | AA14: 2178 | AB14: 3357 | AC14: 72156 | AD14: 34495 | AE14: 37661 | AF14: 4052 | AG14: 2366 | AH14: 1686 | AI14: 135 | AJ14: 74 | AK14: 61 | AL14: 1376 | AM14: 407 | AN14: 969 | AO14: 673 | AP14: 251 | AQ14: 422
A15: Taipei City | B15: 一般 | C15: General | D15: 21 | E15: 12 | F15: 9 | G15: 6 | H15: 3 | I15: 3 | J15: 0 | K15: 0 | L15: 0 | M15: 0 | N15: 0 | O15: 0 | P15: 0 | Q15: 0 | R15: 0
B16: 原住民 | C16: Indigenous | D16: 0 | E16: 0 | F16: 0 | G16: 0 | H16: 0 | I16: 0 | J16: 0 | K16: 0 | L16: 0 | M16: 0 | N16: 0 | O16: 0 | P16: 0 | Q16: 0 | R16: 0
A17: 桃園市 | B17: 計 | C17: Total | D17: 25 | E17: 11 | F17: 14 | G17: 6 | H17: 2 | I17: 4 | J17: 0 | K17: 0 | L17: 0 | M17: 0 | N17: 0 | O17: 0 | P17: 0 | Q17: 0 | R17: 0 | S17: 1 | T17: 0 | U17: 0 | V17: 1 | W17: 258 | X17: 173 | Y17: 85 | Z17: 49 | AA17: 18 | AB17: 31 | AC17: 23 | AD17: 8 | AE17: 15 | AF17: 0 | AG17: 0 | AH17: 0 | AI17: 0 | AJ17: 0 | AK17: 0 | AL17: 0 | AM17: 0 | AN17: 0 | AO17: 42 | AP17: 7 | AQ17: 35
A18: Taoyuan City | B18: 一般 | C18: General | D18: 25 | E18: 11 | F18: 14 | G18: 6 | H18: 2 | I18: 4 | J18: 0 | K18: 0 | L18: 0 | M18: 0 | N18: 0 | O18: 0 | P18: 0 | Q18: 0 | R18: 0
B19: 原住民 | C19: Indigenous | D19: 0 | E19: 0 | F19: 0 | G19: 0 | H19: 0 | I19: 0 | J19: 0 | K19: 0 | L19: 0 | M19: 0 | N19: 0 | O19: 0 | P19: 0 | Q19: 0 | R19: 0
A20: 臺中市 | B20: 計 | C20: Indigenous | D20: 21 | E20: 10 | F20: 11 | G20: 4 | H20: 2 | I20: 2 | J20: 0 | K20: 0 | L20: 0 | M20: 0 | N20: 0 | O20: 0 | P20: 0 | Q20: 0 | R20: 0 | S20: 0 | T20: 0 | U20: 0 | V20: 0 | W20: 0 | X20: 0 | Y20: 0 | Z20: 0 | AA20: 0 | AB20: 0 | AC20: 0 | AD20: 0 | AE20: 0 | AF20: 0 | AG20: 0 | AH20: 0 | AI20: 0 | AJ20: 0 | AK20: 0 | AL20: 0 | AM20: 0 | AN20: 0 | AO20: 0 | AP20: 0 | AQ20: 0
A21: Taichung City | B21: 一般 | C21: General | D21: 20 | E21: 10 | F21: 10 | G21: 4 | H21: 2 | I21: 2 | J21: 0 | K21: 0 | L21: 0 | M21: 0 | N21: 0 | O21: 0 | P21: 0 | Q21: 0 | R21: 0
B22: 原住民 | C22: Indigenous | D22: 1 | E22: 0 | F22: 1 | G22: 0 | H22: 0 | I22: 0 | J22: 0 | K22: 0 | L22: 0 | M22: 0 | N22: 0 | O22: 0 | P22: 0 | Q22: 0 | R22: 0
A23: 臺南市 | B23: 計 | C23: Total | D23: 20 | E23: 12 | F23: 8 | G23: 5 | H23: 4 | I23: 1 | J23: 3 | K23: 2 | L23: 1 | M23: 0 | N23: 0 | O23: 0 | P23: 0 | Q23: 0 | R23: 0 | S23: 3 | T23: 1 | U23: 1 | V23: 1 | W23: 48 | X23: 27 | Y23: 21 | Z23: 722 | AA23: 443 | AB23: 279 | AC23: 3647 | AD23: 1443 | AE23: 2204 | AF23: 448 | AG23: 176 | AH23: 272 | AI23: 99 | AJ23: 61 | AK23: 38 | AL23: 805 | AM23: 298 | AN23: 507 | AO23: 1030 | AP23: 397 | AQ23: 633
A24: Tainan City | B24: 一般 | C24: General | D24: 19 | E24: 11 | F24: 8 | G24: 5 | H24: 4 | I24: 1 | J24: 3 | K24: 2 | L24: 1 | M24: 0 | N24: 0 | O24: 0 | P24: 0 | Q24: 0 | R24: 0
B25: 原住民 | C25: Indigenous | D25: 1 | E25: 1 | F25: 0 | G25: 0 | H25: 0 | I25: 0 | J25: 0 | K25: 0 | L25: 0 | M25: 0 | N25: 0 | O25: 0 | P25: 0 | Q25: 0 | R25: 0
A26: 高雄市 | B26: 計 | C26: Total | D26: 32 | E26: 16 | F26: 16 | G26: 2 | H26: 0 | I26: 2 | J26: 0 | K26: 0 | L26: 0 | M26: 0 | N26: 0 | O26: 0 | P26: 0 | Q26: 0 | R26: 0 | S26: 2 | T26: 2 | U26: 0 | V26: 0 | W26: 8872 | X26: 2716 | Y26: 6156 | Z26: 300 | AA26: 239 | AB26: 61 | AC26: 5027 | AD26: 2307 | AE26: 2720 | AF26: 427 | AG26: 182 | AH26: 245 | AI26: 172 | AJ26: 121 | AK26: 51 | AL26: 73494 | AM26: 27844 | AN26: 45650 | AO26: 11032 | AP26: 3788 | AQ26: 7244
A27: Kaohsiung City | B27: 一般 | C27: General | D27: 31 | E27: 16 | F27: 15 | G27: 2 | H27: 0 | I27: 2 | J27: 0 | K27: 0 | L27: 0 | M27: 0 | N27: 0 | O27: 0 | P27: 0 | Q27: 0 | R27: 0
B28: 原住民 | C28: Indigenous | D28: 1 | E28: 0 | F28: 1 | G28: 0 | H28: 0 | I28: 0 | J28: 0 | K28: 0 | L28: 0 | M28: 0 | N28: 0 | O28: 0 | P28: 0 | Q28: 0 | R28: 0
A29: 宜蘭縣 | B29: 計 | C29: Total | D29: 17 | E29: 6 | F29: 11 | G29: 2 | H29: 1 | I29: 1 | J29: 1 | K29: 1 | L29: 0 | M29: 2 | N29: 1 | O29: 1 | P29: 0 | Q29: 0 | R29: 0 | S29: 1 | T29: 0 | U29: 1 | V29: 0 | W29: 7096 | X29: 2385 | Y29: 4711 | Z29: 732 | AA29: 44 | AB29: 688 | AC29: 180403 | AD29: 90201 | AE29: 90202 | AF29: 2054 | AG29: 608 | AH29: 1446 | AI29: 311 | AJ29: 92 | AK29: 219 | AL29: 633 | AM29: 247 | AN29: 386 | AO29: 1094 | AP29: 397 | AQ29: 697
A30: Yilan County | B30: 一般 | C30: General | D30: 17 | E30: 6 | F30: 11 | G30: 2 | H30: 1 | I30: 1 | J30: 1 | K30: 1 | L30: 0 | M30: 2 | N30: 1 | O30: 1 | P30: 0 | Q30: 0 | R30: 0
B31: 原住民 | C31: Indigenous | D31: 0 | E31: 0 | F31: 0 | G31: 0 | H31: 0 | I31: 0 | J31: 0 | K31: 0 | L31: 0 | M31: 0 | N31: 0 | O31: 0 | P31: 0 | Q31: 0 | R31: 0
A32: 新竹縣 | B32: 計 | C32: Total | D32: 5 | E32: 3 | F32: 2 | G32: 2 | H32: 0 | I32: 2 | J32: 0 | K32: 0 | L32: 0 | M32: 0 | N32: 0 | O32: 0 | P32: 0 | Q32: 0 | R32: 0 | S32: 0 | T32: 0 | U32: 0 | V32: 0 | W32: 0 | X32: 0 | Y32: 0 | Z32: 0 | AA32: 0 | AB32: 0 | AC32: 0 | AD32: 0 | AE32: 0 | AF32: 0 | AG32: 0 | AH32: 0 | AI32: 0 | AJ32: 0 | AK32: 0 | AL32: 0 | AM32: 0 | AN32: 0 | AO32: 0 | AP32: 0 | AQ32: 0
A33: Hsinchu County | B33: 一般 | C33: General | D33: 4 | E33: 2 | F33: 2 | G33: 2 | H33: 0 | I33: 2 | J33: 0 | K33: 0 | L33: 0 | M33: 0 | N33: 0 | O33: 0 | P33: 0 | Q33: 0 | R33: 0
B34: 原住民 | C34: Indigenous | D34: 1 | E34: 1 | F34: 0 | G34: 0 | H34: 0 | I34: 0 | J34: 0 | K34: 0 | L34: 0 | M34: 0 | N34: 0 | O34: 0 | P34: 0 | Q34: 0 | R34: 0
A35: 苗栗縣 | B35: 計 | C35: Total | D35: 15 | E35: 7 | F35: 8 | G35: 5 | H35: 3 | I35: 2 | J35: 0 | K35: 0 | L35: 0 | M35: 0 | N35: 0 | O35: 0 | P35: 0 | Q35: 0 | R35: 0 | S35: 1 | T35: 1 | U35: 0 | V35: 0 | W35: 2499 | X35: 1015 | Y35: 1484 | Z35: 603 | AA35: 251 | AB35: 352 | AC35: 0 | AD35: 0 | AE35: 0 | AF35: 0 | AG35: 0 | AH35: 0 | AI35: 2643 | AJ35: 1598 | AK35: 1045 | AL35: 0 | AM35: 0 | AN35: 0 | AO35: 2120 | AP35: 869 | AQ35: 1251
A36: Miaoli County | B36: 一般 | C36: General | D36: 15 | E36: 7 | F36: 8 | G36: 5 | H36: 3 | I36: 2 | J36: 0 | K36: 0 | L36: 0 | M36: 0 | N36: 0 | O36: 0 | P36: 0 | Q36: 0 | R36: 0
B37: 原住民 | C37: Indigenous | D37: 0 | E37: 0 | F37: 0 | G37: 0 | H37: 0 | I37: 0 | J37: 0 | K37: 0 | L37: 0 | M37: 0 | N37: 0 | O37: 0 | P37: 0 | Q37: 0 | R37: 0
A38: 彰化縣 | B38: 計 | C38: Total | D38: 20 | E38: 6 | F38: 14 | G38: 2 | H38: 1 | I38: 1 | J38: 0 | K38: 0 | L38: 0 | M38: 1 | N38: 1 | O38: 0 | P38: 0 | Q38: 0 | R38: 0 | S38: 1 | T38: 1 | U38: 0 | V38: 0 | W38: 86 | X38: 54 | Y38: 32 | Z38: 1232 | AA38: 462 | AB38: 770 | AC38: 183 | AD38: 69 | AE38: 114 | AF38: 3548 | AG38: 1781 | AH38: 1767 | AI38: 12 | AJ38: 6 | AK38: 6 | AL38: 151 | AM38: 20 | AN38: 131 | AO38: 3411 | AP38: 1381 | AQ38: 2030
A39: Changhua County | B39: 一般 | C39: General | D39: 20 | E39: 6 | F39: 14 | G39: 2 | H39: 1 | I39: 1 | J39: 0 | K39: 0 | L39: 0 | M39: 1 | N39: 1 | O39: 0 | P39: 0 | Q39: 0 | R39: 0
B40: 原住民 | C40: Indigenous | D40: 0 | E40: 0 | F40: 0 | G40: 0 | H40: 0 | I40: 0 | J40: 0 | K40: 0 | L40: 0 | M40: 0 | N40: 0 | O40: 0 | P40: 0 | Q40: 0 | R40: 0
...

Sheet 110
A1: 兒童及少年福利服務 Child and Youth Welfare Services
