Workbook

Sheet 歷年Yearly
A1: 社會救助醫療及看護補助 Medical Subsidies, Nursing Care Assistance of Caretakers
A3: 年(季)別 Year (Quarter) | B3: 醫療補助 Medical Subsidies | F3: 中低收入住院看護補助 Nursing Care Assistance for Mid or Low-Income Households
B4: 受益人次 Times of Persons | E4: 金額(元) | F4: 補助人次 Times of Persons | I4: 金額(元)
B5: 計 | C5: 男 | D5: 女 | E5: Amount (NT.$) | F5: 計 | G5: 男 | H5: 女 | I5: Amount (NT.$)
B6: Total | C6: Male | D6: Female | F6: Total | G6: Male | H6: Female
A7: 104年 2015 | B7: 4499 | C7: 3108 | D7: 1391 | E7: 102559166 | F7: 10923 | G7: 8079 | H7: 2844 | I7: 178372595
A8: 105年 2016 | B8: 4779 | C8: 3243 | D8: 1536 | E8: 122614776 | F8: 11345 | G8: 8166 | H8: 3179 | I8: 202352386
A9: 106年 2017 | B9: 5250 | C9: 3734 | D9: 1516 | E9: 135656212 | F9: 12156 | G9: 8940 | H9: 3216 | I9: 201847652
A10: 107年 2018 | B10: 5062 | C10: 3329 | D10: 1733 | E10: 156597994 | F10: 12553 | G10: 9250 | H10: 3303 | I10: 211655435
A11: 108年 2019 | B11: 5792 | C11: 3738 | D11: 2054 | E11: 192439514 | F11: 13985 | G11: 10329 | H11: 3656 | I11: 240951309
A12: 109年 2020 | B12: 6166 | C12: 4093 | D12: 2073 | E12: 195085309 | F12: 13480 | G12: 9955 | H12: 3525 | I12: 244596309
A13: 110年 2021 | B13: 6107 | C13: 3978 | D13: 2129 | E13: 210483665 | F13: 13145 | G13: 9395 | H13: 3750 | I13: 250807008
A14: 111年 2022 | B14: 7114 | C14: 4895 | D14: 2219 | E14: 226520809 | F14: 11280 | G14: 8149 | H14: 3131 | I14: 213728907
A15: 112年 2023 | B15: 7506 | C15: 4987 | D15: 2519 | E15: 243942480 | F15: 12154 | G15: 8758 | H15: 3396 | I15: 234155434
A16: 113年 2024 | B16: =B17+B18+B19+B20 -> 8321 | C16: =C17+C18+C19+C20 -> 5507 | D16: =D17+D18+D19+D20 -> 2814 | E16: =E17+E18+E19+E20 -> 294914625 | F16: =F17+F18+F19+F20 -> 13595 | G16: =G17+G18+G19+G20 -> 9822 | H16: =H17+H18+H19+H20 -> 3773 | I16: =I17+I18+I19+I20 -> 250504625
A17: 第一季 Q1 | B17: 1771 | C17: 1140 | D17: 631 | E17: 62290468 | F17: 3112 | G17: 2211 | H17: 901 | I17: 55053836
A18: 第二季 Q2 | B18: 2037 | C18: 1360 | D18: 677 | E18: 72144311 | F18: 3473 | G18: 2498 | H18: 975 | I18: 63321286
A19: 第三季 Q3 | B19: 1933 | C19: 1279 | D19: 654 | E19: 73574928 | F19: 3322 | G19: 2402 | H19: 920 | I19: 65496020
A20: 第四季 Q4 | B20: 2580 | C20: 1728 | D20: 852 | E20: 86904918 | F20: 3688 | G20: 2711 | H20: 977 | I20: 66633483
A21: 114年 2025 | B21: 9576 | C21: 6445 | D21: 3131 | E21: 323540098 | F21: 14253 | G21: 10283 | H21: 3970 | I21: 270049845
A22: 第一季 Q1 | B22: 2172 | C22: 1458 | D22: 714 | E22: 64964376 | F22: 3452 | G22: 2525 | H22: 927 | I22: 60645033
A23: 第二季 Q2 | B23: 2354 | C23: 1601 | D23: 753 | E23: 82474977 | F23: 3447 | G23: 2491 | H23: 956 | I23: 68597684
A24: 第三季 Q3 | B24: 2445 | C24: 1659 | D24: 786 | E24: 83859581 | F24: 3682 | G24: 2605 | H24: 1077 | I24: 71192892
A25: 第四季 Q4 | B25: 2605 | C25: 1727 | D25: 878 | E25: 92241164 | F25: 3672 | G25: 2662 | H25: 1010 | I25: 69614236
A26: 115年 2026
A27: 第一季 Q1 | B27: 2174 | C27: 1475 | D27: 699 | E27: 78756540 | F27: 3148 | G27: 2223 | H27: 925 | I27: 56004217
A28: 第二季 Q2
A29: 第三季 Q3
A30: 第四季 Q4
A32: 資料來源：直轄市、縣﹝市﹞政府。
A33: Source : County and City Government.
A35: 更新日期：2026/05/15

Sheet 2026
A1: 社會救助醫療及看護補助 Medical Subsidies, Nursing Care Assistance of Caretakers
A2: 中華民國115年第1~4季 , 2026 Q1~4
A3: 地區別 Locality | C3: 醫療補助 Medical Subsidies | G3: 中低收入住院看護補助 Nursing Care Assistance for Mid or Low-Income Households
C4: 受益人次 Times of Persons | F4: 金額(元) | G4: 補助人次 Times of Persons | J4: 金額(元)
C5: 計 | D5: 男 | E5: 女 | F5: Amount (NT.$) | G5: 計 | H5: 男 | I5: 女 | J5: Amount (NT.$)
C6: Total | D6: Male | E6: Female | G6: Total | H6: Male | I6: Female
A7: 總 計 | B7: Total
A8: 新北市 | B8: New Taipei City
A9: 臺北市 | B9: Taipei City
A10: 桃園市 | B10: Taoyuan City
A11: 臺中市 | B11: Taichung City
A12: 臺南市 | B12: Tainan City
A13: 高雄市 | B13: Kaohsiung City
A14: 宜蘭縣 | B14: Yilan County
A15: 新竹縣 | B15: Hsinchu County
A16: 苗栗縣 | B16: Miaoli County
A17: 彰化縣 | B17: Changhua County
A18: 南投縣 | B18: Nantou County
... A29: 連江縣 | B29: Lienchiang County
A30: 資料來源：直轄市、縣﹝市﹞政府。
A31: Source : County and City Government.
B32: 核總計 | C32: =C7-SUM(C8:C13)-#REF! -> #REF! | D32: =D7-SUM(D8:D13)-#REF! -> #REF! | E32: =E7-SUM(E8:E13)-#REF! -> #REF! | F32: =F7-SUM(F8:F13)-#REF! -> #REF! | G32: =G7-SUM(G8:G13)-#REF! -> #REF! | H32: =H7-SUM(H8:H13)-#REF! -> #REF! | I32: =I7-SUM(I9:I13)-#REF! -> #REF! | J32: =J7-SUM(J8:J13)-#REF! -> #REF!
B33: 核台灣 | C33: =#REF!-SUM(C14:C27) -> #REF! | D33: =#REF!-SUM(D14:D27) -> #REF! | E33: =#REF!-SUM(E14:E27) -> #REF! | F33: =#REF!-SUM(F14:F27) -> #REF! | G33: =#REF!-SUM(G14:G27) -> #REF! | H33: =#REF!-SUM(H14:H27) -> #REF! | I33: =#REF!-SUM(I14:I27) -> #REF! | J33: =#REF!-SUM(J14:J27) -> #REF!
B34: 核福建 | C34: =#REF!-C28-C29 -> #REF! | D34: =#REF!-D28-D29 -> #REF! | E34: =#REF!-E28-E29 -> #REF! | F34: =#REF!-F28-F29 -> #REF! | G34: =#REF!-G28-G29 -> #REF! | H34: =#REF!-H28-H29 -> #REF! | I34: =#REF!-I28-I29 -> #REF! | J34: =#REF!-J28-J29 -> #REF!
B35: 核年季 | C35: -2145 | D35: -1507 | E35: -638 | F35: -20084189 | G35: -7476 | H35: -5588 | I35: -1888 | J35: -109774911

Sheet Q4,2026 
A1: 社會救助醫療及看護補助 Medical Subsidies, Nursing Care Assistance of Caretakers
A2: 中華民國115年第4季 , 2026 Q4
A3: 地區別 Locality | C3: 醫療補助 Medical Subsidies | G3: 中低收入住院看護補助 Nursing Care Assistance for Mid or Low-Income Households
C4: 受益人次 Times of Persons | F4: 金額(元) | G4: 補助人次 Times of Persons | J4: 金額(元)
C5: 計 | D5: 男 | E5: 女 | F5: Amount (NT.$) | G5: 計 | H5: 男 | I5: 女 | J5: Amount (NT.$)
C6: Total | D6: Male | E6: Female | G6: Total | H6: Male | I6: Female
A7: 總 計 | B7: Total
A8: 新北市 | B8: New Taipei City
A9: 臺北市 | B9: Taipei City
A10: 桃園市 | B10: Taoyuan City
A11: 臺中市 | B11: Taichung City
A12: 臺南市 | B12: Tainan City
A13: 高雄市 | B13: Kaohsiung City
A14: 宜蘭縣 | B14: Yilan County
A15: 新竹縣 | B15: Hsinchu County
A16: 苗栗縣 | B16: Miaoli County
A17: 彰化縣 | B17: Changhua County
A18: 南投縣 | B18: Nantou County
... A29: 連江縣 | B29: Lienchiang County
A30: 資料來源：直轄市、縣﹝市﹞政府。
A31: Source : County and City Government.
B32: 核總計 | C32: =C7-SUM(C8:C13)-#REF! -> #REF! | D32: =D7-SUM(D8:D13)-#REF! -> #REF! | E32: =E7-SUM(E8:E13)-#REF! -> #REF! | F32: =F7-SUM(F8:F13)-#REF! -> #REF! | G32: =G7-SUM(G8:G13)-#REF! -> #REF! | H32: =H7-SUM(H8:H13)-#REF! -> #REF! | I32: =I7-SUM(I8:I13)-#REF! -> #REF! | J32: =J7-SUM(J8:J13)-#REF! -> #REF!
B33: 核台灣 | C33: =#REF!-SUM(C14:C27) -> #REF! | D33: =#REF!-SUM(D14:D27) -> #REF! | E33: =#REF!-SUM(E14:E27) -> #REF! | F33: =#REF!-SUM(F14:F27) -> #REF! | G33: =#REF!-SUM(G14:G27) -> #REF! | H33: =#REF!-SUM(H14:H27) -> #REF! | I33: =#REF!-SUM(I14:I27) -> #REF! | J33: =#REF!-SUM(J14:J27) -> #REF!
B34: 核福建 | C34: =#REF!-C28-C29 -> #REF! | D34: =#REF!-D28-D29 -> #REF! | E34: =#REF!-E28-E29 -> #REF! | F34: =#REF!-F28-F29 -> #REF! | G34: =#REF!-G28-G29 -> #REF! | H34: =#REF!-H28-H29 -> #REF! | I34: =#REF!-I28-I29 -> #REF! | J34: =#REF!-J28-J29 -> #REF!
B35: 核年季 | C35: -2327 | D35: -1650 | E35: -677 | F35: -37594790 | G35: -7471 | H35: -5554 | I35: -1917 | J35: -117727562

Sheet Q3,2026
A1: 社會救助醫療及看護補助 Medical Subsidies, Nursing Care Assistance of Caretakers
A2: 中華民國115年第3季 , 2026 Q3
A3: 地區別 Locality | C3: 醫療補助 Medical Subsidies | G3: 中低收入住院看護補助 Nursing Care Assistance for Mid or Low-Income Households
C4: 受益人次 Times of Persons | F4: 金額(元) | G4: 補助人次 Times of Persons | J4: 金額(元)
C5: 計 | D5: 男 | E5: 女 | F5: Amount (NT.$) | G5: 計 | H5: 男 | I5: 女 | J5: Amount (NT.$)
C6: Total | D6: Male | E6: Female | G6: Total | H6: Male | I6: Female
A7: 總 計 | B7: Total
A8: 新北市 | B8: New Taipei City
A9: 臺北市 | B9: Taipei City
A10: 桃園市 | B10: Taoyuan City
A11: 臺中市 | B11: Taichung City
A12: 臺南市 | B12: Tainan City
A13: 高雄市 | B13: Kaohsiung City
A14: 宜蘭縣 | B14: Yilan County
A15: 新竹縣 | B15: Hsinchu County
A16: 苗栗縣 | B16: Miaoli County
A17: 彰化縣 | B17: Changhua County
A18: 南投縣 | B18: Nantou County
... A29: 連江縣 | B29: Lienchiang County
A30: 資料來源：直轄市、縣﹝市﹞政府。
A31: Source : County and City Government.
B32: 核總計 | C32: =C7-SUM(C8:C13)-#REF! -> #REF! | D32: =D7-SUM(D8:D13)-#REF! -> #REF! | E32: =E7-SUM(E8:E13)-#REF! -> #REF! | F32: =F7-SUM(F8:F13)-#REF! -> #REF! | G32: =G7-SUM(G8:G13)-#REF! -> #REF! | H32: =H7-SUM(H8:H13)-#REF! -> #REF! | I32: =I7-SUM(I8:I13)-#REF! -> #REF! | J32: =J7-SUM(J8:J13)-#REF! -> #REF!
B33: 核台灣 | C33: =#REF!-SUM(C14:C27) -> #REF! | D33: =#REF!-SUM(D14:D27) -> #REF! | E33: =#REF!-SUM(E14:E27) -> #REF! | F33: =#REF!-SUM(F14:F27) -> #REF! | G33: =#REF!-SUM(G14:G27) -> #REF! | H33: =#REF!-SUM(H14:H27) -> #REF! | I33: =#REF!-SUM(I14:I27) -> #REF! | J33: =#REF!-SUM(J14:J27) -> #REF!
B34: 核福建 | C34: =#REF!-C28-C29 -> #REF! | D34: =#REF!-D28-D29 -> #REF! | E34: =#REF!-E28-E29 -> #REF! | F34: =#REF!-F28-F29 -> #REF! | G34: =#REF!-G28-G29 -> #REF! | H34: =#REF!-H28-H29 -> #REF! | I34: =#REF!-I28-I29 -> #REF! | J34: =#REF!-J28-J29 -> #REF!
B35: 核年季 | C35: -2327 | D35: -1650 | E35: -677 | F35: -37594790 | G35: -7471 | H35: -5554 | I35: -1917 | J35: -117727562

Sheet Q2,2026
A1: 社會救助醫療及看護補助 Medical Subsidies, Nursing Care Assistance of Caretakers
A2: 中華民國115年第2季 , 2026 Q2
A3: 地區別 Locality | C3: 醫療補助 Medical Subsidies | G3: 中低收入住院看護補助 Nursing Care Assistance for Mid or Low-Income Households
C4: 受益人次 Times of Persons | F4: 金額(元) | G4: 補助人次 Times of Persons | J4: 金額(元)
C5: 計 | D5: 男 | E5: 女 | F5: Amount (NT.$) | G5: 計 | H5: 男 | I5: 女 | J5: Amount (NT.$)
C6: Total | D6: Male | E6: Female | G6: Total | H6: Male | I6: Female
A7: 總 計 | B7: Total | C7: 2174 | D7: 1475 | E7: 699 | F7: 78756540 | G7: 3148 | H7: 2223 | I7: 925 | J7: 56004217
A8: 新北市 | B8: New Taipei City | C8: 277 | D8: 176 | E8: 101 | F8: 13152137 | G8: 337 | H8: 240 | I8: 97 | J8: 6905416
A9: 臺北市 | B9: Taipei City | C9: 463 | D9: 335 | E9: 128 | F9: 15033455 | G9: 198 | H9: 118 | I9: 80 | J9: 4506428
A10: 桃園市 | B10: Taoyuan City | C10: 420 | D10: 351 | E10: 69 | F10: 8219585 | G10: 308 | H10: 201 | I10: 107 | J10: 6838578
A11: 臺中市 | B11: Taichung City | C11: 252 | D11: 128 | E11: 124 | F11: 12794777 | G11: 138 | H11: 96 | I11: 42 | J11: 2870255
A12: 臺南市 | B12: Tainan City | C12: 82 | D12: 56 | E12: 26 | F12: 800917 | G12: 224 | H12: 168 | I12: 56 | J12: 3993376
A13: 高雄市 | B13: Kaohsiung City | C13: 63 | D13: 38 | E13: 25 | F13: 2480132 | G13: 263 | H13: 166 | I13: 97 | J13: 3180771
A14: 宜蘭縣 | B14: Yilan County | C14: 3 | D14: 2 | E14: 1 | F14: 218214 | G14: 167 | H14: 127 | I14: 40 | J14: 3062450
A15: 新竹縣 | B15: Hsinchu County | C15: 21 | D15: 13 | E15: 8 | F15: 536906 | G15: 19 | H15: 12 | I15: 7 | J15: 306175
A16: 苗栗縣 | B16: Miaoli County | C16: 69 | D16: 47 | E16: 22 | F16: 3292718 | G16: 114 | H16: 83 | I16: 31 | J16: 2215100
A17: 彰化縣 | B17: Changhua County | C17: 76 | D17: 42 | E17: 34 | F17: 2997643 | G17: 223 | H17: 161 | I17: 62 | J17: 3763872
A18: 南投縣 | B18: Nantou County | C18: 23 | D18: 13 | E18: 10 | F18: 1349510 | G18: 142 | H18: 93 | I18: 49 | J18: 1956197
... A29: 連江縣 | B29: Lienchiang County | C29: 1 | D29: 0 | E29: 1 | F29: 5301 | G29: 0 | H29: 0 | I29: 0 | J29: 0
A30: 資料來源：直轄市、縣﹝市﹞政府。
A31: Source : County and City Government.
B32: 核總計 | C32: =C7-SUM(C8:C13)-#REF! -> #REF! | D32: =D7-SUM(D8:D13)-#REF! -> #REF! | E32: =E7-SUM(E8:E13)-#REF! -> #REF! | F32: =F7-SUM(F8:F13)-#REF! -> #REF! | G32: =G7-SUM(G8:G13)-#REF! -> #REF! | H32: =H7-SUM(H8:H13)-#REF! -> #REF! | I32: =I7-SUM(I8:I13)-#REF! -> #REF! | J32: =J7-SUM(J8:J13)-#REF! -> #REF!
B33: 核台灣 | C33: =#REF!-SUM(C14:C27) -> #REF! | D33: =#REF!-SUM(D14:D27) -> #REF! | E33: =#REF!-SUM(E14:E27) -> #REF! | F33: =#REF!-SUM(F14:F27) -> #REF! | G33: =#REF!-SUM(G14:G27) -> #REF! | H33: =#REF!-SUM(H14:H27) -> #REF! | I33: =#REF!-SUM(I14:I27) -> #REF! | J33: =#REF!-SUM(J14:J27) -> #REF!
B34: 核福建 | C34: =#REF!-C28-C29 -> #REF! | D34: =#REF!-D28-D29 -> #REF! | E34: =#REF!-E28-E29 -> #REF! | F34: =#REF!-F28-F29 -> #REF! | G34: =#REF!-G28-G29 -> #REF! | H34: =#REF!-H28-H29 -> #REF! | I34: =#REF!-I28-I29 -> #REF! | J34: =#REF!-J28-J29 -> #REF!
B35: 核年季 | C35: -2327 | D35: -1650 | E35: -677 | F35: -37594790 | G35: -7471 | H35: -5554 | I35: -1917 | J35: -117727562

Sheet Q1,2026
A1: 社會救助醫療及看護補助 Medical Subsidies, Nursing Care Assistance of Caretakers
A2: 中華民國115年第1季 , 2026 Q1
A3: 地區別 Locality | C3: 醫療補助 Medical Subsidies | G3: 中低收入住院看護補助 Nursing Care Assistance for Mid or Low-Income Households
C4: 受益人次 Times of Persons | F4: 金額(元) | G4: 補助人次 Times of Persons | J4: 金額(元)
C5: 計 | D5: 男 | E5: 女 | F5: Amount (NT.$) | G5: 計 | H5: 男 | I5: 女 | J5: Amount (NT.$)
C6: Total | D6: Male | E6: Female | G6: Total | H6: Male | I6: Female
A7: 總 計 | B7: Total | C7: 2174 | D7: 1475 | E7: 699 | F7: 78756540 | G7: 3148 | H7: 2223 | I7: 925 | J7: 56004217
A8: 新北市 | B8: New Taipei City | C8: 277 | D8: 176 | E8: 101 | F8: 13152137 | G8: 337 | H8: 240 | I8: 97 | J8: 6905416
A9: 臺北市 | B9: Taipei City | C9: 463 | D9: 335 | E9: 128 | F9: 15033455 | G9: 198 | H9: 118 | I9: 80 | J9: 4506428
A10: 桃園市 | B10: Taoyuan City | C10: 420 | D10: 351 | E10: 69 | F10: 8219585 | G10: 308 | H10: 201 | I10: 107 | J10: 6838578
A11: 臺中市 | B11: Taichung City | C11: 252 | D11: 128 | E11: 124 | F11: 12794777 | G11: 138 | H11: 96 | I11: 42 | J11: 2870255
A12: 臺南市 | B12: Tainan City | C12: 82 | D12: 56 | E12: 26 | F12: 800917 | G12: 224 | H12: 168 | I12: 56 | J12: 3993376
A13: 高雄市 | B13: Kaohsiung City | C13: 63 | D13: 38 | E13: 25 | F13: 2480132 | G13: 263 | H13: 166 | I13: 97 | J13: 3180771
A14: 宜蘭縣 | B14: Yilan County | C14: 3 | D14: 2 | E14: 1 | F14: 218214 | G14: 167 | H14: 127 | I14: 40 | J14: 3062450
A15: 新竹縣 | B15: Hsinchu County | C15: 21 | D15: 13 | E15: 8 | F15: 536906 | G15: 19 | H15: 12 | I15: 7 | J15: 306175
A16: 苗栗縣 | B16: Miaoli County | C16: 69 | D16: 47 | E16: 22 | F16: 3292718 | G16: 114 | H16: 83 | I16: 31 | J16: 2215100
A17: 彰化縣 | B17: Changhua County | C17: 76 | D17: 42 | E17: 34 | F17: 2997643 | G17: 223 | H17: 161 | I17: 62 | J17: 3763872
A18: 南投縣 | B18: Nantou County | C18: 23 | D18: 13 | E18: 10 | F18: 1349510 | G18: 142 | H18: 93 | I18: 49 | J18: 1956197
... A29: 連江縣 | B29: Lienchiang County | C29: 1 | D29: 0 | E29: 1 | F29: 5301 | G29: 0 | H29: 0 | I29: 0 | J29: 0
A30: 資料來源：直轄市、縣﹝市﹞政府。
A31: Source : County and City Government.
B32: 核總計 | C32: =C7-SUM(C8:C13)-#REF! -> #REF! | D32: =D7-SUM(D8:D13)-#REF! -> #REF! | E32: =E7-SUM(E8:E13)-#REF! -> #REF! | F32: =F7-SUM(F8:F13)-#REF! -> #REF! | G32: =G7-SUM(G8:G13)-#REF! -> #REF! | H32: =H7-SUM(H8:H13)-#REF! -> #REF! | I32: =I7-SUM(I8:I13)-#REF! -> #REF! | J32: =J7-SUM(J8:J13)-#REF! -> #REF!
B33: 核台灣 | C33: =#REF!-SUM(C14:C27) -> #REF! | D33: =#REF!-SUM(D14:D27) -> #REF! | E33: =#REF!-SUM(E14:E27) -> #REF! | F33: =#REF!-SUM(F14:F27) -> #REF! | G33: =#REF!-SUM(G14:G27) -> #REF! | H33: =#REF!-SUM(H14:H27) -> #REF! | I33: =#REF!-SUM(I14:I27) -> #REF! | J33: =#REF!-SUM(J14:J27) -> #REF!
B34: 核福建 | C34: =#REF!-C28-C29 -> #REF! | D34: =#REF!-D28-D29 -> #REF! | E34: =#REF!-E28-E29 -> #REF! | F34: =#REF!-F28-F29 -> #REF! | G34: =#REF!-G28-G29 -> #REF! | H34: =#REF!-H28-H29 -> #REF! | I34: =#REF!-I28-I29 -> #REF! | J34: =#REF!-J28-J29 -> #REF!
B35: 核年季 | C35: -2327 | D35: -1650 | E35: -677 | F35: -37594790 | G35: -7471 | H35: -5554 | I35: -1917 | J35: -117727562

Sheet 2025
A1: 社會救助醫療及看護補助 Medical Subsidies, Nursing Care Assistance of Caretakers
A2: 中華民國114年第1~4季 , 2025 Q1~4
A3: 地區別 Locality | C3: 醫療補助 Medical Subsidies | G3: 中低收入住院看護補助 Nursing Care Assistance for Mid or Low-Income Households
C4: 受益人次 Times of Persons | F4: 金額(元) | G4: 補助人次 Times of Persons | J4: 金額(元)
C5: 計 | D5: 男 | E5: 女 | F5: Amount (NT.$) | G5: 計 | H5: 男 | I5: 女 | J5: Amount (NT.$)
C6: Total | D6: Male | E6: Female | G6: Total | H6: Male | I6: Female
A7: 總 計 | B7: Total | C7: 9576 | D7: 6445 | E7: 3131 | F7: 323540098 | G7: 14253 | H7: 10283 | I7: 3970 | J7: 270049845
A8: 新北市 | B8: New Taipei City | C8: 1277 | D8: 746 | E8: 531 | F8: 55495087 | G8: 1431 | H8: 1004 | I8: 427 | J8: 33247465
A9: 臺北市 | B9: Taipei City | C9: 1663 | D9: 1161 | E9: 502 | F9: 56639126 | G9: 1690 | H9: 1121 | I9: 569 | J9: 34621698
A10: 桃園市 | B10: Taoyuan City | C10: 2030 | D10: 1712 | E10: 318 | F10: 29365398 | G10: 1123 | H10: 748 | I10: 375 | J10: 24675358
A11: 臺中市 | B11: Taichung City | C11: 1303 | D11: 685 | E11: 618 | F11: 60865441 | G11: 681 | H11: 463 | I11: 218 | J11: 13595503
A12: 臺南市 | B12: Tainan City | C12: 283 | D12: 201 | E12: 82 | F12: 3955780 | G12: 1229 | H12: 942 | I12: 287 | J12: 20967289
A13: 高雄市 | B13: Kaohsiung City | C13: 320 | D13: 190 | E13: 130 | F13: 12268962 | G13: 953 | H13: 669 | I13: 284 | J13: 12587847
A14: 宜蘭縣 | B14: Yilan County | C14: 29 | D14: 16 | E14: 13 | F14: 1142907 | G14: 606 | H14: 419 | I14: 187 | J14: 11438145
A15: 新竹縣 | B15: Hsinchu County | C15: 104 | D15: 66 | E15: 38 | F15: 4421477 | G15: 124 | H15: 102 | I15: 22 | J15: 2485805
A16: 苗栗縣 | B16: Miaoli County | C16: 131 | D16: 81 | E16: 50 | F16: 4893122 | G16: 389 | H16: 291 | I16: 98 | J16: 7793600
A17: 彰化縣 | B17: Changhua County | C17: 306 | D17: 169 | E17: 137 | F17: 11710705 | G17: 867 | H17: 655 | I17: 212 | J17: 16425597
A18: 南投縣 | B18: Nantou County | C18: 142 | D18: 105 | E18: 37 | F18: 4582577 | G18: 879 | H18: 622 | I18: 257 | J18: 12886515
... A29: 連江縣 | B29: Lienchiang County | C29: 9 | D29: 5 | E29: 4 | F29: 338851 | G29: 4 | H29: 4 | I29: 0 | J29: 96000
A30: 資料來源：直轄市、縣﹝市﹞政府。
A31: Source : County and City Government.
B32: 核總計 | C32: =C7-SUM(C8:C13)-#REF! -> #REF! | D32: =D7-SUM(D8:D13)-#REF! -> #REF! | E32: =E7-SUM(E8:E13)-#REF! -> #REF! | F32: =F7-SUM(F8:F13)-#REF! -> #REF! | G32: =G7-SUM(G8:G13)-#REF! -> #REF! | H32: =H7-SUM(H8:H13)-#REF! -> #REF! | I32: =I7-SUM(I9:I13)-#REF! -> #REF! | J32: =J7-SUM(J8:J13)-#REF! -> #REF!
B33: 核台灣 | C33: =#REF!-SUM(C14:C27) -> #REF! | D33: =#REF!-SUM(D14:D27) -> #REF! | E33: =#REF!-SUM(E14:E27) -> #REF! | F33: =#REF!-SUM(F14:F27) -> #REF! | G33: =#REF!-SUM(G14:G27) -> #REF! | H33: =#REF!-SUM(H14:H27) -> #REF! | I33: =#REF!-SUM(I14:I27) -> #REF! | J33: =#REF!-SUM(J14:J27) -> #REF!
B34: 核福建 | C34: =#REF!-C28-C29 -> #REF! | D34: =#REF!-D28-D29 -> #REF! | E34: =#REF!-E28-E29 -> #REF! | F34: =#REF!-F28-F29 -> #REF! | G34: =#REF!-G28-G29 -> #REF! | H34: =#REF!-H28-H29 -> #REF! | I34: =#REF!-I28-I29 -> #REF! | J34: =#REF!-J28-J29 -> #REF!
B35: 核年季 | C35: -2145 | D35: -1507 | E35: -638 | F35: -20084189 | G35: -7476 | H35: -5588 | I35: -1888 | J35: -109774911

Sheet Q3,2025
A1: 社會救助醫療及看護補助 Medical Subsidies, Nursing Care Assistance of Caretakers
A2: 中華民國114年第3季 , 2025 Q3
A3: 地區別 Locality | C3: 醫療補助 Medical Subsidies | G3: 中低收入住院看護補助 Nursing Care Assistance for Mid or Low-Income Households
C4: 受益人次 Times of Persons | F4: 金額(元) | G4: 補助人次 Times of Persons | J4: 金額(元)
C5: 計 | D5: 男 | E5: 女 | F5: Amount (NT.$) | G5: 計 | H5: 男 | I5: 女 | J5: Amount (NT.$)
C6: Total | D6: Male | E6: Female | G6: Total | H6: Male | I6: Female
A7: 總 計 | B7: Total | C7: 2445 | D7: 1659 | E7: 786 | F7: 83859581 | G7: 3682 | H7: 2605 | I7: 1077 | J7: 71192892
A8: 新北市 | B8: New Taipei City | C8: 316 | D8: 205 | E8: 111 | F8: 14274185 | G8: 372 | H8: 247 | I8: 125 | J8: 8324521
A9: 臺北市 | B9: Taipei City | C9: 382 | D9: 265 | E9: 117 | F9: 13191167 | G9: 599 | H9: 384 | I9: 215 | J9: 12703524
A10: 桃園市 | B10: Taoyuan City | C10: 561 | D10: 472 | E10: 89 | F10: 7721961 | G10: 296 | H10: 180 | I10: 116 | J10: 6085900
A11: 臺中市 | B11: Taichung City | C11: 334 | D11: 173 | E11: 161 | F11: 16611169 | G11: 170 | H11: 111 | I11: 59 | J11: 3393655
A12: 臺南市 | B12: Tainan City | C12: 67 | D12: 42 | E12: 25 | F12: 1024491 | G12: 324 | H12: 248 | I12: 76 | J12: 5902842
A13: 高雄市 | B13: Kaohsiung City | C13: 87 | D13: 48 | E13: 39 | F13: 3258463 | G13: 198 | H13: 143 | I13: 55 | J13: 2768430
A14: 宜蘭縣 | B14: Yilan County | C14: 8 | D14: 8 | E14: 0 | F14: 428722 | G14: 127 | H14: 90 | I14: 37 | J14: 2603250
A15: 新竹縣 | B15: Hsinchu County | C15: 27 | D15: 17 | E15: 10 | F15: 736861 | G15: 29 | H15: 21 | I15: 8 | J15: 625500
A16: 苗栗縣 | B16: Miaoli County | C16: 47 | D16: 29 | E16: 18 | F16: 2156634 | G16: 104 | H16: 78 | I16: 26 | J16: 2238650
A17: 彰化縣 | B17: Changhua County | C17: 51 | D17: 23 | E17: 28 | F17: 2010532 | G17: 84 | H17: 57 | I17: 27 | J17: 2817032
A18: 南投縣 | B18: Nantou County | C18: 33 | D18: 23 | E18: 10 | F18: 1611447 | G18: 249 | H18: 175 | I18: 74 | J18: 3457416
... A29: 連江縣 | B29: Lienchiang County | C29: 1 | D29: 0 | E29: 1 | F29: 2963 | G29: 0 | H29: 0 | I29: 0 | J29: 0
A30: 資料來源：直轄市、縣﹝市﹞政府。
A31: Source : County and City Government.
B32: 核總計 | C32: =C7-SUM(C8:C13)-#REF! -> #REF! | D32: =D7-SUM(D8:D13)-#REF! -> #REF! | E32: =E7-SUM(E8:E13)-#REF! -> #REF! | F32: =F7-SUM(F8:F13)-#REF! -> #REF! | G32: =G7-SUM(G8:G13)-#REF! -> #REF! | H32: =H7-SUM(H8:H13)-#REF! -> #REF! | I32: =I7-SUM(I9:I13)-#REF! -> #REF! | J32: =J7-SUM(J8:J13)-#REF! -> #REF!
B33: 核台灣 | C33: =#REF!-SUM(C14:C27) -> #REF! | D33: =#REF!-SUM(D14:D27) -> #REF! | E33: =#REF!-SUM(E14:E27) -> #REF! | F33: =#REF!-SUM(F14:F27) -> #REF! | G33: =#REF!-SUM(G14:G27) -> #REF! | H33: =#REF!-SUM(H14:H27) -> #REF! | I33: =#REF!-SUM(I14:I27) -> #REF! | J33: =#REF!-SUM(J14:J27) -> #REF!
B34: 核福建 | C34: =#REF!-C28-C29 -> #REF! | D34: =#REF!-D28-D29 -> #REF! | E34: =#REF!-E28-E29 -> #REF! | F34: =#REF!-F28-F29 -> #REF! | G34: =#REF!-G28-G29 -> #REF! | H34: =#REF!-H28-H29 -> #REF! | I34: =#REF!-I28-I29 -> #REF! | J34: =#REF!-J28-J29 -> #REF!
B35: 核年季 | C35: -2145 | D35: -1507 | E35: -638 | F35: -20084189 | G35: -7476 | H35: -5588 | I35: -1888 | J35: -109774911

Sheet Q2,2025
A1: 社會救助醫療及看護補助 Medical Subsidies, Nursing Care Assistance of Caretakers
A2: 中華民國114年第2季 , 2025 Q2
A3: 地區別 Locality | C3: 醫療補助 Medical Subsidies | G3: 中低收入住院看護補助 Nursing Care Assistance for Mid or Low-Income Households
C4: 受益人次 Times of Persons | F4: 金額(元) | G4: 補助人次 Times of Persons | J4: 金額(元)
C5: 計 | D5: 男 | E5: 女 | F5: Amount (NT.$) | G5: 計 | H5: 男 | I5: 女 | J5: Amount (NT.$)
C6: Total | D6: Male | E6: Female | G6: Total | H6: Male | I6: Female
A7: 總 計 | B7: Total | C7: 2354 | D7: 1601 | E7: 753 | F7: 82474977 | G7: 3447 | H7: 2491 | I7: 956 | J7: 68597684
A8: 新北市 | B8: New Taipei City | C8: 317 | D8: 182 | E8: 135 | F8: 12821083 | G8: 369 | H8: 265 | I8: 104 | J8: 8483544
A9: 臺北市 | B9: Taipei City | C9: 418 | D9: 290 | E9: 128 | F9: 16481599 | G9: 337 | H9: 229 | I9: 108 | J9: 6682394
A10: 桃園市 | B10: Taoyuan City | C10: 497 | D10: 418 | E10: 79 | F10: 8164850 | G10: 259 | H10: 181 | I10: 78 | J10: 6216100
A11: 臺中市 | B11: Taichung City | C11: 285 | D11: 142 | E11: 143 | F11: 15732438 | G11: 155 | H11: 108 | I11: 47 | J11: 3457048
A12: 臺南市 | B12: Tainan City | C12: 64 | D12: 45 | E12: 19 | F12: 671338 | G12: 354 | H12: 268 | I12: 86 | J12: 6132821
A13: 高雄市 | B13: Kaohsiung City | C13: 77 | D13: 49 | E13: 28 | F13: 3302234 | G13: 277 | H13: 193 | I13: 84 | J13: 3886867
A14: 宜蘭縣 | B14: Yilan County | C14: 6 | D14: 4 | E14: 2 | F14: 243204 | G14: 158 | H14: 106 | I14: 52 | J14: 2910775
A15: 新竹縣 | B15: Hsinchu County | C15: 32 | D15: 24 | E15: 8 | F15: 1025006 | G15: 45 | H15: 41 | I15: 4 | J15: 865610
A16: 苗栗縣 | B16: Miaoli County | C16: 26 | D16: 20 | E16: 6 | F16: 1129246 | G16: 89 | H16: 68 | I16: 21 | J16: 2149850
A17: 彰化縣 | B17: Changhua County | C17: 60 | D17: 34 | E17: 26 | F17: 2393629 | G17: 236 | H17: 182 | I17: 54 | J17: 4155222
A18: 南投縣 | B18: Nantou County | C18: 62 | D18: 49 | E18: 13 | F18: 865106 | G18: 144 | H18: 100 | I18: 44 | J18: 2832258
... A29: 連江縣 | B29: Lienchiang County | C29: 0 | D29: 0 | E29: 0 | F29: 0 | G29: 1 | H29: 1 | I29: 0 | J29: 21000
A30: 資料來源：直轄市、縣﹝市﹞政府。
A31: Source : County and City Government.
B32: 核總計 | C32: =C7-SUM(C8:C13)-#REF! -> #REF! | D32: =D7-SUM(D8:D13)-#REF! -> #REF! | E32: =E7-SUM(E8:E13)-#REF! -> #REF! | F32: =F7-SUM(F8:F13)-#REF! -> #REF! | G32: =G7-SUM(G8:G13)-#REF! -> #REF! | H32: =H7-SUM(H8:H13)-#REF! -> #REF! | I32: =I7-SUM(I8:I13)-#REF! -> #REF! | J32: =J7-SUM(J8:J13)-#REF! -> #REF!
B33: 核台灣 | C33: =#REF!-SUM(C14:C27) -> #REF! | D33: =#REF!-SUM(D14:D27) -> #REF! | E33: =#REF!-SUM(E14:E27) -> #REF! | F33: =#REF!-SUM(F14:F27) -> #REF! | G33: =#REF!-SUM(G14:G27) -> #REF! | H33: =#REF!-SUM(H14:H27) -> #REF! | I33: =#REF!-SUM(I14:I27) -> #REF! | J33: =#REF!-SUM(J14:J27) -> #REF!
B34: 核福建 | C34: =#REF!-C28-C29 -> #REF! | D34: =#REF!-D28-D29 -> #REF! | E34: =#REF!-E28-E29 -> #REF! | F34: =#REF!-F28-F29 -> #REF! | G34: =#REF!-G28-G29 -> #REF! | H34: =#REF!-H28-H29 -> #REF! | I34: =#REF!-I28-I29 -> #REF! | J34: =#REF!-J28-J29 -> #REF!
B35: 核年季 | C35: -2145 | D35: -1507 | E35: -638 | F35: -20084189 | G35: -7476 | H35: -5588 | I35: -1888 | J35: -109774911

Sheet Q1,2025
A1: 社會救助醫療及看護補助 Medical Subsidies, Nursing Care Assistance of Caretakers
A2: 中華民國114年第1季 , 2025 Q1
A3: 地區別 Locality | C3: 醫療補助 Medical Subsidies | G3: 中低收入住院看護補助 Nursing Care Assistance for Mid or Low-Income Households
C4: 受益人次 Times of Persons | F4: 金額(元) | G4: 補助人次 Times of Persons | J4: 金額(元)
C5: 計 | D5: 男 | E5: 女 | F5: Amount (NT.$) | G5: 計 | H5: 男 | I5: 女 | J5: Amount (NT.$)
C6: Total | D6: Male | E6: Female | G6: Total | H6: Male | I6: Female
A7: 總 計 | B7: Total | C7: 2172 | D7: 1458 | E7: 714 | F7: 64964376 | G7: 3452 | H7: 2525 | I7: 927 | J7: 60645033
A8: 新北市 | B8: New Taipei City | C8: 273 | D8: 161 | E8: 112 | F8: 12170708 | G8: 333 | H8: 235 | I8: 98 | J8: 8034969
A9: 臺北市 | B9: Taipei City | C9: 380 | D9: 270 | E9: 110 | F9: 12011721 | G9: 386 | H9: 262 | I9: 124 | J9: 7134050
A10: 桃園市 | B10: Taoyuan City | C10: 497 | D10: 407 | E10: 90 | F10: 6263672 | G10: 297 | H10: 199 | I10: 98 | J10: 6257474
A11: 臺中市 | B11: Taichung City | C11: 311 | D11: 171 | E11: 140 | F11: 10055804 | G11: 149 | H11: 94 | I11: 55 | J11: 2577375
A12: 臺南市 | B12: Tainan City | C12: 68 | D12: 49 | E12: 19 | F12: 868320 | G12: 288 | H12: 217 | I12: 71 | J12: 4995573
A13: 高雄市 | B13: Kaohsiung City | C13: 78 | D13: 43 | E13: 35 | F13: 2712037 | G13: 194 | H13: 138 | I13: 56 | J13: 2269741
A14: 宜蘭縣 | B14: Yilan County | C14: 9 | D14: 4 | E14: 5 | F14: 167409 | G14: 168 | H14: 124 | I14: 44 | J14: 2985620
A15: 新竹縣 | B15: Hsinchu County | C15: 14 | D15: 10 | E15: 4 | F15: 889167 | G15: 31 | H15: 26 | I15: 5 | J15: 557295
A16: 苗栗縣 | B16: Miaoli County | C16: 23 | D16: 11 | E16: 12 | F16: 1150688 | G16: 93 | H16: 64 | I16: 29 | J16: 1749050
A17: 彰化縣 | B17: Changhua County | C17: 81 | D17: 42 | E17: 39 | F17: 2440541 | G17: 251 | H17: 194 | I17: 57 | J17: 4305794
A18: 南投縣 | B18: Nantou County | C18: 20 | D18: 12 | E18: 8 | F18: 1069294 | G18: 176 | H18: 126 | I18: 50 | J18: 2340204
... A29: 連江縣 | B29: Lienchiang County | C29: 2 | D29: 1 | E29: 1 | F29: 59798 | G29: 1 | H29: 1 | I29: 0 | J29: 25000
A30: 資料來源：直轄市、縣﹝市﹞政府。
A31: Source : County and City Government.
B32: 核總計 | C32: =C7-SUM(C8:C13)-#REF! -> #REF! | D32: =D7-SUM(D8:D13)-#REF! -> #REF! | E32: =E7-SUM(E8:E13)-#REF! -> #REF! | F32: =F7-SUM(F8:F13)-#REF! -> #REF! | G32: =G7-SUM(G8:G13)-#REF! -> #REF! | H32: =H7-SUM(H8:H13)-#REF! -> #REF! | I32: =I7-SUM(I8:I13)-#REF! -> #REF! | J32: =J7-SUM(J8:J13)-#REF! -> #REF!
B33: 核台灣 | C33: =#REF!-SUM(C14:C27) -> #REF! | D33: =#REF!-SUM(D14:D27) -> #REF! | E33: =#REF!-SUM(E14:E27) -> #REF! | F33: =#REF!-SUM(F14:F27) -> #REF! | G33: =#REF!-SUM(G14:G27) -> #REF! | H33: =#REF!-SUM(H14:H27) -> #REF! | I33: =#REF!-SUM(I14:I27) -> #REF! | J33: =#REF!-SUM(J14:J27) -> #REF!
B34: 核福建 | C34: =#REF!-C28-C29 -> #REF! | D34: =#REF!-D28-D29 -> #REF! | E34: =#REF!-E28-E29 -> #REF! | F34: =#REF!-F28-F29 -> #REF! | G34: =#REF!-G28-G29 -> #REF! | H34: =#REF!-H28-H29 -> #REF! | I34: =#REF!-I28-I29 -> #REF! | J34: =#REF!-J28-J29 -> #REF!
B35: 核年季 | C35: -2327 | D35: -1650 | E35: -677 | F35: -37594790 | G35: -7471 | H35: -5554 | I35: -1917 | J35: -117727562

Sheet 2024
A1: 社會救助醫療及看護補助 Medical Subsidies, Nursing Care Assistance of Caretakers
A2: 中華民國113年第1~4季 , 2024 Q1~4
A3: 地區別 Locality | C3: 醫療補助 Medical Subsidies | G3: 中低收入住院看護補助 Nursing Care Assistance for Mid or Low-Income Households
C4: 受益人次 Times of Persons | F4: 金額(元) | G4: 補助人次 Times of Persons | J4: 金額(元)
C5: 計 | D5: 男 | E5: 女 | F5: Amount (NT.$) | G5: 計 | H5: 男 | I5: 女 | J5: Amount (NT.$)
C6: Total | D6: Male | E6: Female | G6: Total | H6: Male | I6: Female
A7: 總 計 | B7: Total | C7: 8321 | D7: 5507 | E7: 2814 | F7: 294914625 | G7: 13595 | H7: 9822 | I7: 3773 | J7: 250504625
A8: 新北市 | B8: New Taipei City | C8: 1300 | D8: 780 | E8: 520 | F8: 56454788 | G8: 1441 | H8: 1016 | I8: 425 | J8: 34109380
A9: 臺北市 | B9: Taipei City | C9: 1110 | D9: 793 | E9: 317 | F9: 35551324 | G9: 1333 | H9: 897 | I9: 436 | J9: 23910983
A10: 桃園市 | B10: Taoyuan City | C10: 1427 | D10: 1127 | E10: 300 | F10: 28608687 | G10: 1115 | H10: 749 | I10: 366 | J10: 25097574
A11: 臺中市 | B11: Taichung City | C11: 1319 | D11: 730 | E11: 589 | F11: 62516346 | G11: 653 | H11: 453 | I11: 200 | J11: 13294540
A12: 臺南市 | B12: Tainan City | C12: 349 | D12: 228 | E12: 121 | F12: 5099633 | G12: 1140 | H12: 843 | I12: 297 | J12: 19698187
A13: 高雄市 | B13: Kaohsiung City | C13: 296 | D13: 182 | E13: 114 | F13: 10844372 | G13: 943 | H13: 645 | I13: 298 | J13: 11729954
A14: 宜蘭縣 | B14: Yilan County | C14: 38 | D14: 19 | E14: 19 | F14: 2032166 | G14: 670 | H14: 461 | I14: 209 | J14: 11991675
A15: 新竹縣 | B15: Hsinchu County | C15: 94 | D15: 61 | E15: 33 | F15: 2170982 | G15: 127 | H15: 103 | I15: 24 | J15: 2406641
A16: 苗栗縣 | B16: Miaoli County | C16: 90 | D16: 59 | E16: 31 | F16: 5109662 | G16: 266 | H16: 197 | I16: 69 | J16: 5130700
A17: 彰化縣 | B17: Changhua County | C17: 380 | D17: 239 | E17: 141 | F17: 16612804 | G17: 1054 | H17: 803 | I17: 251 | J17: 19472803
A18: 南投縣 | B18: Nantou County | C18: 206 | D18: 163 | E18: 43 | F18: 3967549 | G18: 895 | H18: 655 | I18: 240 | J18: 12059939
... A29: 連江縣 | B29: Lienchiang County | C29: 1 | D29: 1 | E29: 0 | F29: 44688 | G29: 1 | H29: 1 | I29: 0 | J29: 28800
A30: 資料來源：直轄市、縣﹝市﹞政府。
A31: Source : County and City Government.
B32: 核總計 | C32: =C7-SUM(C8:C13)-#REF! -> #REF! | D32: =D7-SUM(D8:D13)-#REF! -> #REF! | E32: =E7-SUM(E8:E13)-#REF! -> #REF! | F32: =F7-SUM(F8:F13)-#REF! -> #REF! | G32: =G7-SUM(G8:G13)-#REF! -> #REF! | H32: =H7-SUM(H8:H13)-#REF! -> #REF! | I32: =I7-SUM(I8:I13)-#REF! -> #REF! | J32: =J7-SUM(J8:J13)-#REF! -> #REF!
B33: 核台灣 | C33: =#REF!-SUM(C14:C27) -> #REF! | D33: =#REF!-SUM(D14:D27) -> #REF! | E33: =#REF!-SUM(E14:E27) -> #REF! | F33: =#REF!-SUM(F14:F27) -> #REF! | G33: =#REF!-SUM(G14:G27) -> #REF! | H33: =#REF!-SUM(H14:H27) -> #REF! | I33: =#REF!-SUM(I14:I27) -> #REF! | J33: =#REF!-SUM(J14:J27) -> #REF!
B34: 核福建 | C34: =#REF!-C28-C29 -> #REF! | D34: =#REF!-D28-D29 -> #REF! | E34: =#REF!-E28-E29 -> #REF! | F34: =#REF!-F28-F29 -> #REF! | G34: =#REF!-G28-G29 -> #REF! | H34: =#REF!-H28-H29 -> #REF! | I34: =#REF!-I28-I29 -> #REF! | J34: =#REF!-J28-J29 -> #REF!
B35: 核年季 | C35: =C7-歷年Yearly!B7 -> 3822 | D35: =D7-歷年Yearly!C7 -> 2399 | E35: =E7-歷年Yearly!D7 -> 1423 | F35: =F7-歷年Yearly!E7 -> 192355459 | G35: =G7-歷年Yearly!F7 -> 2672 | H35: =H7-歷年Yearly!G7 -> 1743 | I35: =I7-歷年Yearly!H7 -> 929 | J35: =J7-歷年Yearly!I7 -> 72132030

Sheet 2023
A1: 社會救助醫療及看護補助 Medical Subsidies, Nursing Care Assistance of Caretakers
A2: 中華民國112年第1~4季 , 2023 Q1~4
A3: 地區別 Locality | C3: 醫療補助 Medical Subsidies | G3: 中低收入住院看護補助 Nursing Care Assistance for Mid or Low-Income Households
C4: 受益人次 Times of Persons | F4: 金額(元) | G4: 補助人次 Times of Persons | J4: 金額(元)
C5: 計 | D5: 男 | E5: 女 | F5: Amount (NT.$) | G5: 計 | H5: 男 | I5: 女 | J5: Amount (NT.$)
C6: Total | D6: Male | E6: Female | G6: Total | H6: Male | I6: Female
A7: 總 計 | B7: Total | C7: =#REF!+#REF!+#REF!+#REF! -> #REF! | D7: 4987 | E7: 2519 | F7: 243942480 | G7: 12154 | H7: 8758 | I7: 3396 | J7: 234155434
A8: 新北市 | B8: New Taipei City | C8: 1204 | D8: 675 | E8: 529 | F8: 52999639 | G8: 1122 | H8: 765 | I8: 357 | J8: 26768933
A9: 臺北市 | B9: Taipei City | C9: 771 | D9: 555 | E9: 216 | F9: 26140386 | G9: 1381 | H9: 900 | I9: 481 | J9: 26415299
A10: 桃園市 | B10: Taoyuan City | C10: 1754 | D10: 1400 | E10: 354 | F10: 25303246 | G10: 990 | H10: 640 | I10: 350 | J10: 23551401
A11: 臺中市 | B11: Taichung City | C11: 1153 | D11: 631 | E11: 522 | F11: 55031034 | G11: 592 | H11: 434 | I11: 158 | J11: 11182085
A12: 臺南市 | B12: Tainan City | C12: 350 | D12: 225 | E12: 125 | F12: 5625410 | G12: 1383 | H12: 997 | I12: 386 | J12: 25101267
A13: 高雄市 | B13: Kaohsiung City | C13: 305 | D13: 197 | E13: 108 | F13: 10398536 | G13: 895 | H13: 626 | I13: 269 | J13: 10970755
A14: 宜蘭縣 | B14: Yilan County | C14: 38 | D14: 16 | E14: 22 | F14: 1558749 | G14: 531 | H14: 400 | I14: 131 | J14: 11575050
A15: 新竹縣 | B15: Hsinchu County | C15: 73 | D15: 50 | E15: 23 | F15: 2135905 | G15: 124 | H15: 102 | I15: 22 | J15: 2275521
A16: 苗栗縣 | B16: Miaoli County | C16: 74 | D16: 38 | E16: 36 | F16: 3671826 | G16: 227 | H16: 173 | I16: 54 | J16: 3442500
A17: 彰化縣 | B17: Changhua County | C17: 274 | D17: 184 | E17: 90 | F17: 10653558 | G17: 788 | H17: 594 | I17: 194 | J17: 15282901
A18: 南投縣 | B18: Nantou County | C18: 206 | D18: 165 | E18: 41 | F18: 3196489 | G18: 752 | H18: 546 | I18: 206 | J18: 12043374
A19: 雲林縣 | B19: Yunlin County | C19: 338 | D19: 243 | E19: 95 | F19: 15208204 | G19: 1160 | H19: 901 | I19: 259 | J19: 24356280
... A29: 連江縣 | B29: Lienchiang County | C29: 2 | D29: 1 | E29: 1 | F29: 149641 | G29: 0 | H29: 0 | I29: 0 | J29: 0
A30: 資料來源：直轄市、縣﹝市﹞政府。
A31: Source : County and City Government.
B32: 核總計 | C32: =C7-SUM(C8:C13)-#REF! -> #REF! | D32: =D7-SUM(D8:D13)-#REF! -> #REF! | E32: =E7-SUM(E8:E13)-#REF! -> #REF! | F32: =F7-SUM(F8:F13)-#REF! -> #REF! | G32: =G7-SUM(G8:G13)-#REF! -> #REF! | H32: =H7-SUM(H8:H13)-#REF! -> #REF! | I32: =I7-SUM(I8:I13)-#REF! -> #REF! | J32: =J7-SUM(J8:J13)-#REF! -> #REF!
B33: 核台灣 | C33: =#REF!-SUM(C14:C27) -> #REF! | D33: =#REF!-SUM(D14:D27) -> #REF! | E33: =#REF!-SUM(E14:E27) -> #REF! | F33: =#REF!-SUM(F14:F27) -> #REF! | G33: =#REF!-SUM(G14:G27) -> #REF! | H33: =#REF!-SUM(H14:H27) -> #REF! | I33: =#REF!-SUM(I14:I27) -> #REF! | J33: =#REF!-SUM(J14:J27) -> #REF!
B34: 核福建 | C34: =#REF!-C28-C29 -> #REF! | D34: =#REF!-D28-D29 -> #REF! | E34: =#REF!-E28-E29 -> #REF! | F34: =#REF!-F28-F29 -> #REF! | G34: =#REF!-G28-G29 -> #REF! | H34: =#REF!-H28-H29 -> #REF! | I34: =#REF!-I28-I29 -> #REF! | J34: =#REF!-J28-J29 -> #REF!
B35: 核年季 | C35: =C7-歷年Yearly!B7 -> #REF! | D35: =D7-歷年Yearly!C7 -> 1879 | E35: =E7-歷年Yearly!D7 -> 1128 | F35: =F7-歷年Yearly!E7 -> 141383314 | G35: =G7-歷年Yearly!F7 -> 1231 | H35: =H7-歷年Yearly!G7 -> 679 | I35: =I7-歷年Yearly!H7 -> 552 | J35: =J7-歷年Yearly!I7 -> 55782839

Sheet 2022
A1: 社會救助醫療及看護補助 Medical Subsidies, Nursing Care Assistance of Caretakers
A2: 中華民國111年第1~4季 , 2022 Q1~4
A3: 地區別 Locality | C3: 醫療補助 Medical Subsidies | G3: 中低收入住院看護補助 Nursing Care Assistance for Mid or Low-Income Households
C4: 受益人次 Times of Persons | F4: 金額(元) | G4: 補助人次 Times of Persons | J4: 金額(元)
C5: 計 | D5: 男 | E5: 女 | F5: Amount (NT.$) | G5: 計 | H5: 男 | I5: 女 | J5: Amount (NT.$)
C6: Total | D6: Male | E6: Female | G6: Total | H6: Male | I6: Female
A7: 總 計 | B7: Total | C7: 7114 | D7: 4895 | E7: 2219 | F7: 226520809 | G7: 11280 | H7: 8149 | I7: 3131 | J7: 213728907
A8: 新北市 | B8: New Taipei City | C8: 1174 | D8: 713 | E8: 461 | F8: 47793553 | G8: 943 | H8: 672 | I8: 271 | J8: 23940750
A9: 臺北市 | B9: Taipei City | C9: 722 | D9: 520 | E9: 202 | F9: 20808713 | G9: 1526 | H9: 1056 | I9: 470 | J9: 28923932
A10: 桃園市 | B10: Taoyuan City | C10: 1562 | D10: 1347 | E10: 215 | F10: 12148767 | G10: 852 | H10: 565 | I10: 287 | J10: 18764276
A11: 臺中市 | B11: Taichung City | C11: 946 | D11: 506 | E11: 440 | F11: 46872221 | G11: 417 | H11: 305 | I11: 112 | J11: 8496700
A12: 臺南市 | B12: Tainan City | C12: 393 | D12: 260 | E12: 133 | F12: 12394899 | G12: 1215 | H12: 895 | I12: 320 | J12: 21857291
A13: 高雄市 | B13: Kaohsiung City | C13: 314 | D13: 206 | E13: 108 | F13: 10345492 | G13: 858 | H13: 574 | I13: 284 | J13: 11205099
A14: 宜蘭縣 | B14: Yilan County | C14: 34 | D14: 23 | E14: 11 | F14: 1564535 | G14: 538 | H14: 400 | I14: 138 | J14: 12668550
A15: 新竹縣 | B15: Hsinchu County | C15: 78 | D15: 62 | E15: 16 | F15: 2000467 | G15: 156 | H15: 126 | I15: 30 | J15: 2826732
A16: 苗栗縣 | B16: Miaoli County | C16: 93 | D16: 57 | E16: 36 | F16: 2607435 | G16: 208 | H16: 176 | I16: 32 | J16: 3456000
A17: 彰化縣 | B17: Changhua County | C17: 311 | D17: 198 | E17: 113 | F17: 22866927 | G17: 709 | H17: 524 | I17: 185 | J17: 13943333
A18: 南投縣 | B18: Nantou County | C18: 165 | D18: 131 | E18: 34 | F18: 2581368 | G18: 806 | H18: 585 | I18: 221 | J18: 12342829
... A29: 連江縣 | B29: Lienchiang County | C29: 2 | D29: 0 | E29: 2 | F29: 57785 | G29: 1 | H29: 1 | I29: 0 | J29: 22000
A30: 資料來源：直轄市、縣﹝市﹞政府。
A31: Source : County and City Government.
B32: 核總計 | C32: =C7-SUM(C8:C13)-#REF! -> #REF! | D32: =D7-SUM(D8:D13)-#REF! -> #REF! | E32: =E7-SUM(E8:E13)-#REF! -> #REF! | F32: =F7-SUM(F8:F13)-#REF! -> #REF! | G32: =G7-SUM(G8:G13)-#REF! -> #REF! | H32: =H7-SUM(H8:H13)-#REF! -> #REF! | I32: =I7-SUM(I8:I13)-#REF! -> #REF! | J32: =J7-SUM(J8:J13)-#REF! -> #REF!
B33: 核台灣 | C33: =#REF!-SUM(C14:C27) -> #REF! | D33: =#REF!-SUM(D14:D27) -> #REF! | E33: =#REF!-SUM(E14:E27) -> #REF! | F33: =#REF!-SUM(F14:F27) -> #REF! | G33: =#REF!-SUM(G14:G27) -> #REF! | H33: =#REF!-SUM(H14:H27) -> #REF! | I33: =#REF!-SUM(I14:I27) -> #REF! | J33: =#REF!-SUM(J14:J27) -> #REF!
B34: 核福建 | C34: =#REF!-C28-C29 -> #REF! | D34: =#REF!-D28-D29 -> #REF! | E34: =#REF!-E28-E29 -> #REF! | F34: =#REF!-F28-F29 -> #REF! | G34: =#REF!-G28-G29 -> #REF! | H34: =#REF!-H28-H29 -> #REF! | I34: =#REF!-I28-I29 -> #REF! | J34: =#REF!-J28-J29 -> #REF!
B35: 核年季 | C35: =C7-歷年Yearly!B7 -> 2615 | D35: =D7-歷年Yearly!C7 -> 1787 | E35: =E7-歷年Yearly!D7 -> 828 | F35: =F7-歷年Yearly!E7 -> 123961643 | G35: =G7-歷年Yearly!F7 -> 357 | H35: =H7-歷年Yearly!G7 -> 70 | I35: =I7-歷年Yearly!H7 -> 287 | J35: =J7-歷年Yearly!I7 -> 35356312

Sheet 2021
A1: 社會救助醫療及看護補助 Medical Subsidies, Nursing Care Assistance of Caretakers
A2: 中華民國110年第1~4季 , 2021 Q1~4
A3: 地區別 Locality | C3: 醫療補助 Medical Subsidies | G3: 中低收入住院看護補助 Nursing Care Assistance for Mid or Low-Income Households
C4: 受益人次 Times of Persons | F4: 金額(元) | G4: 補助人次 Times of Persons | J4: 金額(元)
C5: 計 | D5: 男 | E5: 女 | F5: Amount (NT.$) | G5: 計 | H5: 男 | I5: 女 | J5: Amount (NT.$)
C6: Total | D6: Male | E6: Female | G6: Total | H6: Male | I6: Female
A7: 總 計 | B7: Total | C7: 6107 | D7: 3978 | E7: 2129 | F7: 210483665 | G7: 13145 | H7: 9395 | I7: 3750 | J7: 250807008
A8: 新北市 | B8: New Taipei City | C8: 1104 | D8: 652 | E8: 452 | F8: 53205314 | G8: 1225 | H8: 857 | I8: 368 | J8: 32204789
A9: 臺北市 | B9: Taipei City | C9: 630 | D9: 423 | E9: 207 | F9: 18646460 | G9: 1954 | H9: 1252 | I9: 702 | J9: 34148765
A10: 桃園市 | B10: Taoyuan City | C10: 1064 | D10: 831 | E10: 233 | F10: 11688720 | G10: 1449 | H10: 941 | I10: 508 | J10: 31938411
A11: 臺中市 | B11: Taichung City | C11: 833 | D11: 446 | E11: 387 | F11: 44022429 | G11: 498 | H11: 308 | I11: 190 | J11: 8619845
A12: 臺南市 | B12: Tainan City | C12: 323 | D12: 222 | E12: 101 | F12: 6410233 | G12: 1215 | H12: 933 | I12: 282 | J12: 20447115
A13: 高雄市 | B13: Kaohsiung City | C13: 326 | D13: 188 | E13: 138 | F13: 9902939 | G13: 979 | H13: 676 | I13: 303 | J13: 13325702
A14: 宜蘭縣 | B14: Yilan County | C14: 29 | D14: 17 | E14: 12 | F14: 1738699 | G14: 597 | H14: 435 | I14: 162 | J14: 12919350
A15: 新竹縣 | B15: Hsinchu County | C15: 78 | D15: 60 | E15: 18 | F15: 2289973 | G15: 118 | H15: 85 | I15: 33 | J15: 2457000
A16: 苗栗縣 | B16: Miaoli County | C16: 71 | D16: 38 | E16: 33 | F16: 2083796 | G16: 233 | H16: 186 | I16: 47 | J16: 4167750
A17: 彰化縣 | B17: Changhua County | C17: 272 | D17: 155 | E17: 117 | F17: 14208765 | G17: 853 | H17: 640 | I17: 213 | J17: 15617356
A18: 南投縣 | B18: Nantou County | C18: 199 | D18: 164 | E18: 35 | F18: 1953439 | G18: 834 | H18: 658 | I18: 176 | J18: 13635003
... A29: 連江縣 | B29: Lienchiang County | C29: 16 | D29: 1 | E29: 15 | F29: 318405 | G29: 2 | H29: 0 | I29: 2 | J29: 15100
A30: 資料來源：直轄市、縣﹝市﹞政府。
A31: Source : County and City Government.
B32: 核總計 | C32: =C7-SUM(C8:C13)-#REF! -> #REF! | D32: =D7-SUM(D8:D13)-#REF! -> #REF! | E32: =E7-SUM(E8:E13)-#REF! -> #REF! | F32: =F7-SUM(F8:F13)-#REF! -> #REF! | G32: =G7-SUM(G8:G13)-#REF! -> #REF! | H32: =H7-SUM(H8:H13)-#REF! -> #REF! | I32: =I7-SUM(I8:I13)-#REF! -> #REF! | J32: =J7-SUM(J8:J13)-#REF! -> #REF!
B33: 核台灣 | C33: =#REF!-SUM(C14:C27) -> #REF! | D33: =#REF!-SUM(D14:D27) -> #REF! | E33: =#REF!-SUM(E14:E27) -> #REF! | F33: =#REF!-SUM(F14:F27) -> #REF! | G33: =#REF!-SUM(G14:G27) -> #REF! | H33: =#REF!-SUM(H14:H27) -> #REF! | I33: =#REF!-SUM(I14:I27) -> #REF! | J33: =#REF!-SUM(J14:J27) -> #REF!
B34: 核福建 | C34: =#REF!-C28-C29 -> #REF! | D34: =#REF!-D28-D29 -> #REF! | E34: =#REF!-E28-E29 -> #REF! | F34: =#REF!-F28-F29 -> #REF! | G34: =#REF!-G28-G29 -> #REF! | H34: =#REF!-H28-H29 -> #REF! | I34: =#REF!-I28-I29 -> #REF! | J34: =#REF!-J28-J29 -> #REF!
B35: 核年季 | C35: =C7-歷年Yearly!B7 -> 1608 | D35: =D7-歷年Yearly!C7 -> 870 | E35: =E7-歷年Yearly!D7 -> 738 | F35: =F7-歷年Yearly!E7 -> 107924499 | G35: =G7-歷年Yearly!F7 -> 2222 | H35: =H7-歷年Yearly!G7 -> 1316 | I35: =I7-歷年Yearly!H7 -> 906 | J35: =J7-歷年Yearly!I7 -> 72434413

Sheet 2020
A1: 社會救助醫療及看護補助 Medical Subsidies, Nursing Care Assistance of Caretakers
A2: 中華民國109年第1~4季 , 2020 Q1~4
A3: 地區別 Locality | C3: 醫療補助 Medical Subsidies | G3: 中低收入住院看護補助 Nursing Care Assistance for Mid or Low-Income Households
C4: 受益人次 Times of Persons | F4: 金額(元) | G4: 補助人次 Times of Persons | J4: 金額(元)
C5: 計 | D5: 男 | E5: 女 | F5: Amount (NT.$) | G5: 計 | H5: 男 | I5: 女 | J5: Amount (NT.$)
C6: Total | D6: Male | E6: Female | G6: Total | H6: Male | I6: Female
A7: 總 計 | B7: Total | C7: 6166 | D7: 4093 | E7: 2073 | F7: 195085309 | G7: 13480 | H7: 9955 | I7: 3525 | J7: 244596309
A8: 新北市 | B8: New Taipei City | C8: 993 | D8: 623 | E8: 370 | F8: 52564369 | G8: 1595 | H8: 1177 | I8: 418 | J8: 37835874
A9: 臺北市 | B9: Taipei City | C9: 842 | D9: 587 | E9: 255 | F9: 23935457 | G9: 2170 | H9: 1538 | I9: 632 | J9: 35726105
A10: 桃園市 | B10: Taoyuan City | C10: 798 | D10: 618 | E10: 180 | F10: 7820500 | G10: 923 | H10: 618 | I10: 305 | J10: 20880407
A11: 臺中市 | B11: Taichung City | C11: 807 | D11: 452 | E11: 355 | F11: 38330810 | G11: 502 | H11: 371 | I11: 131 | J11: 9409575
A12: 臺南市 | B12: Tainan City | C12: 385 | D12: 260 | E12: 125 | F12: 5445263 | G12: 1321 | H12: 1002 | I12: 319 | J12: 22079025
A13: 高雄市 | B13: Kaohsiung City | C13: 302 | D13: 176 | E13: 126 | F13: 8113273 | G13: 1026 | H13: 751 | I13: 275 | J13: 13093558
A14: 宜蘭縣 | B14: Yilan County | C14: 56 | D14: 48 | E14: 8 | F14: 2199318 | G14: 585 | H14: 441 | I14: 144 | J14: 12239938
A15: 新竹縣 | B15: Hsinchu County | C15: 102 | D15: 77 | E15: 25 | F15: 2929839 | G15: 100 | H15: 82 | I15: 18 | J15: 1674525
A16: 苗栗縣 | B16: Miaoli County | C16: 61 | D16: 37 | E16: 24 | F16: 1318988 | G16: 258 | H16: 201 | I16: 57 | J16: 4281625
A17: 彰化縣 | B17: Changhua County | C17: 236 | D17: 159 | E17: 77 | F17: 11871846 | G17: 905 | H17: 692 | I17: 213 | J17: 16007880
A18: 南投縣 | B18: Nantou County | C18: 206 | D18: 171 | E18: 35 | F18: 1888835 | G18: 818 | H18: 651 | I18: 167 | J18: 12342071
... A29: 連江縣 | B29: Lienchiang County | C29: 1 | D29: 0 | E29: 1 | F29: 5011 | G29: 5 | H29: 3 | I29: 2 | J29: 65500
A30: 資料來源：直轄市、縣﹝市﹞政府。
A31: Source : County and City Government.
B32: 核總計 | C32: =C7-SUM(C8:C13)-#REF! -> #REF! | D32: =D7-SUM(D8:D13)-#REF! -> #REF! | E32: =E7-SUM(E8:E13)-#REF! -> #REF! | F32: =F7-SUM(F8:F13)-#REF! -> #REF! | G32: =G7-SUM(G8:G13)-#REF! -> #REF! | H32: =H7-SUM(H8:H13)-#REF! -> #REF! | I32: =I7-SUM(I8:I13)-#REF! -> #REF! | J32: =J7-SUM(J8:J13)-#REF! -> #REF!
B33: 核台灣 | C33: =#REF!-SUM(C14:C27) -> #REF! | D33: =#REF!-SUM(D14:D27) -> #REF! | E33: =#REF!-SUM(E14:E27) -> #REF! | F33: =#REF!-SUM(F14:F27) -> #REF! | G33: =#REF!-SUM(G14:G27) -> #REF! | H33: =#REF!-SUM(H14:H27) -> #REF! | I33: =#REF!-SUM(I14:I27) -> #REF! | J33: =#REF!-SUM(J14:J27) -> #REF!
B34: 核福建 | C34: =#REF!-C28-C29 -> #REF! | D34: =#REF!-D28-D29 -> #REF! | E34: =#REF!-E28-E29 -> #REF! | F34: =#REF!-F28-F29 -> #REF! | G34: =#REF!-G28-G29 -> #REF! | H34: =#REF!-H28-H29 -> #REF! | I34: =#REF!-I28-I29 -> #REF! | J34: =#REF!-J28-J29 -> #REF!
B35: 核年季 | C35: =C7-歷年Yearly!B7 -> 1667 | D35: =D7-歷年Yearly!C7 -> 985 | E35: =E7-歷年Yearly!D7 -> 682 | F35: =F7-歷年Yearly!E7 -> 92526143 | G35: =G7-歷年Yearly!F7 -> 2557 | H35: =H7-歷年Yearly!G7 -> 1876 | I35: =I7-歷年Yearly!H7 -> 681 | J35: =J7-歷年Yearly!I7 -> 66223714

Sheet 2019
A1: 社會救助醫療及看護補助 Medical Subsidies, Nursing Care Assistance of Caretakers
A2: 中華民國108年第1~4季 , 2019 Q1~4
A3: 地區別 Locality | C3: 醫療補助 Medical Subsidies | G3: 中低收入住院看護補助 Nursing Care Assistance for Mid or Low-Income Households
C4: 受益人次 Times of Persons | F4: 金額(元) | G4: 補助人次 Times of Persons | J4: 金額(元)
C5: 計 | D5: 男 | E5: 女 | F5: Amount (NT.$) | G5: 計 | H5: 男 | I5: 女 | J5: Amount (NT.$)
C6: Total | D6: Male | E6: Female | G6: Total | H6: Male | I6: Female
A7: 總 計 | B7: Total | C7: 5792 | D7: 3738 | E7: 2054 | F7: 192439514 | G7: 13985 | H7: 10329 | I7: 3656 | J7: 240951309
A8: 新北市 | B8: New Taipei City | C8: 481 | D8: 323 | E8: 158 | F8: 21521035 | G8: 1613 | H8: 1193 | I8: 420 | J8: 38183738
A9: 臺北市 | B9: Taipei City | C9: 830 | D9: 490 | E9: 340 | F9: 26429405 | G9: 2255 | H9: 1694 | I9: 561 | J9: 39171367
A10: 桃園市 | B10: Taoyuan City | C10: 827 | D10: 670 | E10: 157 | F10: 10959550 | G10: 974 | H10: 599 | I10: 375 | J10: 18782981
A11: 臺中市 | B11: Taichung City | C11: 1266 | D11: 687 | E11: 579 | F11: 65979536 | G11: 548 | H11: 390 | I11: 158 | J11: 9923314
A12: 臺南市 | B12: Tainan City | C12: 458 | D12: 290 | E12: 168 | F12: 7711417 | G12: 1436 | H12: 1106 | I12: 330 | J12: 22322022
A13: 高雄市 | B13: Kaohsiung City | C13: 261 | D13: 151 | E13: 110 | F13: 8206910 | G13: 1250 | H13: 881 | I13: 369 | J13: 14518048
A14: 宜蘭縣 | B14: Yilan County | C14: 54 | D14: 39 | E14: 15 | F14: 2432494 | G14: 574 | H14: 408 | I14: 166 | J14: 10616185
A15: 新竹縣 | B15: Hsinchu County | C15: 61 | D15: 48 | E15: 13 | F15: 1456714 | G15: 91 | H15: 75 | I15: 16 | J15: 1413100
A16: 苗栗縣 | B16: Miaoli County | C16: 27 | D16: 17 | E16: 10 | F16: 1286137 | G16: 298 | H16: 236 | I16: 62 | J16: 5026655
A17: 彰化縣 | B17: Changhua County | C17: 216 | D17: 130 | E17: 86 | F17: 9186916 | G17: 866 | H17: 630 | I17: 236 | J17: 13714945
A18: 南投縣 | B18: Nantou County | C18: 202 | D18: 172 | E18: 30 | F18: 2264615 | G18: 746 | H18: 584 | I18: 162 | J18: 10577429
... A29: 連江縣 | B29: Lienchiang County | C29: 2 | D29: 2 | E29: 0 | F29: 72474 | G29: 1 | H29: 1 | I29: 0 | J29: 12000
A30: 資料來源：直轄市、縣﹝市﹞政府。
A31: Source : County and City Government.
B32: 核總計 | C32: =C7-SUM(C8:C13)-#REF! -> #REF! | D32: =D7-SUM(D8:D13)-#REF! -> #REF! | E32: =E7-SUM(E8:E13)-#REF! -> #REF! | F32: =F7-SUM(F8:F13)-#REF! -> #REF! | G32: =G7-SUM(G8:G13)-#REF! -> #REF! | H32: =H7-SUM(H8:H13)-#REF! -> #REF! | I32: =I7-SUM(I8:I13)-#REF! -> #REF! | J32: =J7-SUM(J8:J13)-#REF! -> #REF!
B33: 核台灣 | C33: =#REF!-SUM(C14:C27) -> #REF! | D33: =#REF!-SUM(D14:D27) -> #REF! | E33: =#REF!-SUM(E14:E27) -> #REF! | F33: =#REF!-SUM(F14:F27) -> #REF! | G33: =#REF!-SUM(G14:G27) -> #REF! | H33: =#REF!-SUM(H14:H27) -> #REF! | I33: =#REF!-SUM(I14:I27) -> #REF! | J33: =#REF!-SUM(J14:J27) -> #REF!
B34: 核福建 | C34: =#REF!-C28-C29 -> #REF! | D34: =#REF!-D28-D29 -> #REF! | E34: =#REF!-E28-E29 -> #REF! | F34: =#REF!-F28-F29 -> #REF! | G34: =#REF!-G28-G29 -> #REF! | H34: =#REF!-H28-H29 -> #REF! | I34: =#REF!-I28-I29 -> #REF! | J34: =#REF!-J28-J29 -> #REF!
B35: 核年季 | C35: =C7-歷年Yearly!B7 -> 1293 | D35: =D7-歷年Yearly!C7 -> 630 | E35: =E7-歷年Yearly!D7 -> 663 | F35: =F7-歷年Yearly!E7 -> 89880348 | G35: =G7-歷年Yearly!F7 -> 3062 | H35: =H7-歷年Yearly!G7 -> 2250 | I35: =I7-歷年Yearly!H7 -> 812 | J35: =J7-歷年Yearly!I7 -> 62578714

Sheet 2018
A1: 社會救助醫療及看護補助 Medical Subsidies, Nursing Care Assistance of Caretakers
A2: 中華民國107年第1~4季 , 2018 Q1~4
A3: 地區別 Locality | C3: 醫療補助 Medical Subsidies | G3: 中低收入住院看護補助 Nursing Care Assistance for Mid or Low-Income Households
C4: 受益人次 Times of Persons | F4: 金額(元) | G4: 補助人次 Times of Persons | J4: 金額(元)
C5: 計 | D5: 男 | E5: 女 | F5: Amount (NT.$) | G5: 計 | H5: 男 | I5: 女 | J5: Amount (NT.$)
C6: Total | D6: Male | E6: Female | G6: Total | H6: Male | I6: Female
A7: 總 計 | B7: Total | C7: 5062 | D7: 3329 | E7: 1733 | F7: 156597994 | G7: 12553 | H7: 9250 | I7: 3303 | J7: 211655435
A8: 新北市 | B8: New Taipei City | C8: 311 | D8: 213 | E8: 98 | F8: 12754644 | G8: 1575 | H8: 1193 | I8: 382 | J8: 31194984
A9: 臺北市 | B9: Taipei City | C9: 854 | D9: 568 | E9: 286 | F9: 21844132 | G9: 1853 | H9: 1299 | I9: 554 | J9: 29338775
A10: 桃園市 | B10: Taoyuan City | C10: 745 | D10: 624 | E10: 121 | F10: 7364164 | G10: 920 | H10: 587 | I10: 333 | J10: 16467045
A11: 臺中市 | B11: Taichung City | C11: 920 | D11: 502 | E11: 418 | F11: 47818900 | G11: 444 | H11: 307 | I11: 137 | J11: 8160505
A12: 臺南市 | B12: Tainan City | C12: 501 | D12: 295 | E12: 206 | F12: 11714904 | G12: 1231 | H12: 955 | I12: 276 | J12: 19131843
A13: 高雄市 | B13: Kaohsiung City | C13: 212 | D13: 117 | E13: 95 | F13: 6528353 | G13: 1107 | H13: 856 | I13: 251 | J13: 15330009
A14: 宜蘭縣 | B14: Yilan County | C14: 56 | D14: 38 | E14: 18 | F14: 2614868 | G14: 565 | H14: 385 | I14: 180 | J14: 10845712
A15: 新竹縣 | B15: Hsinchu County | C15: 30 | D15: 24 | E15: 6 | F15: 895085 | G15: 60 | H15: 41 | I15: 19 | J15: 1063644
A16: 苗栗縣 | B16: Miaoli County | C16: 30 | D16: 21 | E16: 9 | F16: 962968 | G16: 284 | H16: 234 | I16: 50 | J16: 5003037
A17: 彰化縣 | B17: Changhua County | C17: 237 | D17: 155 | E17: 82 | F17: 12146172 | G17: 816 | H17: 609 | I17: 207 | J17: 13529334
A18: 南投縣 | B18: Nantou County | C18: 241 | D18: 194 | E18: 47 | F18: 2864126 | G18: 712 | H18: 532 | I18: 180 | J18: 9910526
... A29: 連江縣 | B29: Lienchiang County | C29: 2 | D29: 1 | E29: 1 | F29: 40132 | G29: 3 | H29: 2 | I29: 1 | J29: 112200
A30: 資料來源：直轄市、縣﹝市﹞政府。
A31: Source : County and City Government.
B32: 核總計 | C32: =C7-SUM(C8:C13)-#REF! -> #REF! | D32: =D7-SUM(D8:D13)-#REF! -> #REF! | E32: =E7-SUM(E8:E13)-#REF! -> #REF! | F32: =F7-SUM(F8:F13)-#REF! -> #REF! | G32: =G7-SUM(G8:G13)-#REF! -> #REF! | H32: =H7-SUM(H8:H13)-#REF! -> #REF! | I32: =I7-SUM(I8:I13)-#REF! -> #REF! | J32: =J7-SUM(J8:J13)-#REF! -> #REF!
B33: 核台灣 | C33: =#REF!-SUM(C14:C27) -> #REF! | D33: =#REF!-SUM(D14:D27) -> #REF! | E33: =#REF!-SUM(E14:E27) -> #REF! | F33: =#REF!-SUM(F14:F27) -> #REF! | G33: =#REF!-SUM(G14:G27) -> #REF! | H33: =#REF!-SUM(H14:H27) -> #REF! | I33: =#REF!-SUM(I14:I27) -> #REF! | J33: =#REF!-SUM(J14:J27) -> #REF!
B34: 核福建 | C34: =#REF!-C28-C29 -> #REF! | D34: =#REF!-D28-D29 -> #REF! | E34: =#REF!-E28-E29 -> #REF! | F34: =#REF!-F28-F29 -> #REF! | G34: =#REF!-G28-G29 -> #REF! | H34: =#REF!-H28-H29 -> #REF! | I34: =#REF!-I28-I29 -> #REF! | J34: =#REF!-J28-J29 -> #REF!
B35: 核年季 | C35: =C7-歷年Yearly!B7 -> 563 | D35: =D7-歷年Yearly!C7 -> 221 | E35: =E7-歷年Yearly!D7 -> 342 | F35: =F7-歷年Yearly!E7 -> 54038828 | G35: =G7-歷年Yearly!F7 -> 1630 | H35: =H7-歷年Yearly!G7 -> 1171 | I35: =I7-歷年Yearly!H7 -> 459 | J35: =J7-歷年Yearly!I7 -> 33282840

Sheet 2017
A1: 社會救助醫療及看護補助 Medical Subsidies, Nursing Care Assistance of Caretakers
A2: 中華民國106年第1季~第4季 , 2017 Q1~Q4
A3: 地區別 Locality | C3: 醫療補助 Medical Subsidies | G3: 中低收入住院看護補助 Nursing Care Assistance for Mid or Low-Income Households
C4: 受益人次 Times of Persons | F4: 金額(元) | G4: 補助人次 Times of Persons | J4: 金額(元)
C5: 計 | D5: 男 | E5: 女 | F5: Amount (NT.$) | G5: 計 | H5: 男 | I5: 女 | J5: Amount (NT.$)
C6: Total | D6: Male | E6: Female | G6: Total | H6: Male | I6: Female
A7: 總 計 | B7: Total | C7: 5250 | D7: 3734 | E7: 1516 | F7: 135656212 | G7: 12156 | H7: 8940 | I7: 3216 | J7: 201847652
A8: 新北市 | B8: New Taipei City | C8: 359 | D8: 241 | E8: 118 | F8: 12991539 | G8: 1393 | H8: 1042 | I8: 351 | J8: 27170334
A9: 臺北市 | B9: Taipei City | C9: 925 | D9: 654 | E9: 271 | F9: 19960869 | G9: 1826 | H9: 1247 | I9: 579 | J9: 28415580
A10: 桃園市 | B10: Taoyuan City | C10: 830 | D10: 693 | E10: 137 | F10: 10510537 | G10: 671 | H10: 452 | I10: 219 | J10: 15367896
A11: 臺中市 | B11: Taichung City | C11: 716 | D11: 422 | E11: 294 | F11: 36198471 | G11: 241 | H11: 175 | I11: 66 | J11: 5038073
A12: 臺南市 | B12: Tainan City | C12: 470 | D12: 304 | E12: 166 | F12: 10292905 | G12: 1259 | H12: 965 | I12: 294 | J12: 19424983
A13: 高雄市 | B13: Kaohsiung City | C13: 192 | D13: 118 | E13: 74 | F13: 4954772 | G13: 1146 | H13: 805 | I13: 341 | J13: 16192966
A14: 宜蘭縣 | B14: Yilan County | C14: 47 | D14: 29 | E14: 18 | F14: 1699758 | G14: 596 | H14: 439 | I14: 157 | J14: 10255250
A15: 新竹縣 | B15: Hsinchu County | C15: 21 | D15: 13 | E15: 8 | F15: 233344 | G15: 83 | H15: 69 | I15: 14 | J15: 1320682
A16: 苗栗縣 | B16: Miaoli County | C16: 27 | D16: 21 | E16: 6 | F16: 639390 | G16: 339 | H16: 243 | I16: 96 | J16: 5372657
A17: 彰化縣 | B17: Changhua County | C17: 163 | D17: 105 | E17: 58 | F17: 9393150 | G17: 739 | H17: 553 | I17: 186 | J17: 10889147
A18: 南投縣 | B18: Nantou County | C18: 291 | D18: 231 | E18: 60 | F18: 3414648 | G18: 769 | H18: 605 | I18: 164 | J18: 10725732
... A29: 連江縣 | B29: Lienchiang County | C29: 2 | D29: 2 | E29: 0 | F29: 23047 | G29: 1 | H29: 1 | I29: 0 | J29: 7000
A30: 資料來源：直轄市、縣﹝市﹞政府。
A31: Source : County and City Government.
B32: 核總計 | C32: =C7-SUM(C8:C13)-#REF! -> #REF! | D32: =D7-SUM(D8:D13)-#REF! -> #REF! | E32: =E7-SUM(E8:E13)-#REF! -> #REF! | F32: =F7-SUM(F8:F13)-#REF! -> #REF! | G32: =G7-SUM(G8:G13)-#REF! -> #REF! | H32: =H7-SUM(H8:H13)-#REF! -> #REF! | I32: =I7-SUM(I8:I13)-#REF! -> #REF! | J32: =J7-SUM(J8:J13)-#REF! -> #REF!
B33: 核台灣 | C33: =#REF!-SUM(C14:C27) -> #REF! | D33: =#REF!-SUM(D14:D27) -> #REF! | E33: =#REF!-SUM(E14:E27) -> #REF! | F33: =#REF!-SUM(F14:F27) -> #REF! | G33: =#REF!-SUM(G14:G27) -> #REF! | H33: =#REF!-SUM(H14:H27) -> #REF! | I33: =#REF!-SUM(I14:I27) -> #REF! | J33: =#REF!-SUM(J14:J27) -> #REF!
B34: 核福建 | C34: =#REF!-C28-C29 -> #REF! | D34: =#REF!-D28-D29 -> #REF! | E34: =#REF!-E28-E29 -> #REF! | F34: =#REF!-F28-F29 -> #REF! | G34: =#REF!-G28-G29 -> #REF! | H34: =#REF!-H28-H29 -> #REF! | I34: =#REF!-I28-I29 -> #REF! | J34: =#REF!-J28-J29 -> #REF!
B35: 核年季 | C35: =C7-歷年Yearly!B7 -> 751 | D35: =D7-歷年Yearly!C7 -> 626 | E35: =E7-歷年Yearly!D7 -> 125 | F35: =F7-歷年Yearly!E7 -> 33097046 | G35: =G7-歷年Yearly!F7 -> 1233 | H35: =H7-歷年Yearly!G7 -> 861 | I35: =I7-歷年Yearly!H7 -> 372 | J35: =J7-歷年Yearly!I7 -> 23475057

Sheet 2016
A1: 社會救助醫療及看護補助 Medical Subsidies, Nursing Care Assistance of Caretakers
A2: 中華民國105年第1季~第4季 , 2016 Q1~Q4
A3: 地區別 Locality | C3: 醫療補助 Medical Subsidies | G3: 中低收入住院看護補助 Nursing Care Assistance for Mid or Low-Income Households
C4: 受益人次 Times of Persons | F4: 金額(元) | G4: 補助人次 Times of Persons | J4: 金額(元)
C5: 計 | D5: 男 | E5: 女 | F5: Amount (NT.$) | G5: 計 | H5: 男 | I5: 女 | J5: Amount (NT.$)
C6: Total | D6: Male | E6: Female | G6: Total | H6: Male | I6: Female
A7: 總 計 | B7: Total | C7: 4779 | D7: 3243 | E7: 1536 | F7: 122614776 | G7: 11345 | H7: 8166 | I7: 3179 | J7: 202352386
A8: 新北市 | B8: New Taipei City | C8: 349 | D8: 233 | E8: 116 | F8: 12664887 | G8: 1509 | H8: 1099 | I8: 410 | J8: 28084885
A9: 臺北市 | B9: Taipei City | C9: 981 | D9: 670 | E9: 311 | F9: 20678397 | G9: 1882 | H9: 1290 | I9: 592 | J9: 28604524
A10: 桃園市 | B10: Taoyuan City | C10: 864 | D10: 653 | E10: 211 | F10: 13454100 | G10: 560 | H10: 378 | I10: 182 | J10: 29660074
A11: 臺中市 | B11: Taichung City | C11: 667 | D11: 377 | E11: 290 | F11: 33585572 | G11: 96 | H11: 63 | I11: 33 | J11: 1704750
A12: 臺南市 | B12: Tainan City | C12: 433 | D12: 304 | E12: 129 | F12: 8573861 | G12: 1169 | H12: 882 | I12: 287 | J12: 18734722
A13: 高雄市 | B13: Kaohsiung City | C13: 182 | D13: 111 | E13: 71 | F13: 3959978 | G13: 1184 | H13: 824 | I13: 360 | J13: 16415137
A14: 宜蘭縣 | B14: Yilan County | C14: 56 | D14: 32 | E14: 24 | F14: 1641437 | G14: 562 | H14: 414 | I14: 148 | J14: 9677801
A15: 新竹縣 | B15: Hsinchu County | C15: 41 | D15: 34 | E15: 7 | F15: 487043 | G15: 87 | H15: 70 | I15: 17 | J15: 1449723
A16: 苗栗縣 | B16: Miaoli County | C16: 34 | D16: 13 | E16: 21 | F16: 1138275 | G16: 247 | H16: 183 | I16: 64 | J16: 4257225
A17: 彰化縣 | B17: Changhua County | C17: 134 | D17: 93 | E17: 41 | F17: 6828867 | G17: 644 | H17: 488 | I17: 156 | J17: 10173290
A18: 南投縣 | B18: Nantou County | C18: 286 | D18: 236 | E18: 50 | F18: 2513015 | G18: 650 | H18: 409 | I18: 241 | J18: 8896284
... A29: 連江縣 | B29: Lienchiang County | C29: 15 | D29: 15 | E29: 0 | F29: 152172 | G29: 1 | H29: 1 | I29: 0 | J29: 93000
A30: 資料來源：直轄市、縣﹝市﹞政府。
A31: Source : County and City Government.
B32: 核總計 | C32: =C7-SUM(C8:C13)-#REF! -> #REF! | D32: =D7-SUM(D8:D13)-#REF! -> #REF! | E32: =E7-SUM(E8:E13)-#REF! -> #REF! | F32: =F7-SUM(F8:F13)-#REF! -> #REF! | G32: =G7-SUM(G8:G13)-#REF! -> #REF! | H32: =H7-SUM(H8:H13)-#REF! -> #REF! | I32: =I7-SUM(I8:I13)-#REF! -> #REF! | J32: =J7-SUM(J8:J13)-#REF! -> #REF!
B33: 核台灣 | C33: =#REF!-SUM(C14:C27) -> #REF! | D33: =#REF!-SUM(D14:D27) -> #REF! | E33: =#REF!-SUM(E14:E27) -> #REF! | F33: =#REF!-SUM(F14:F27) -> #REF! | G33: =#REF!-SUM(G14:G27) -> #REF! | H33: =#REF!-SUM(H14:H27) -> #REF! | I33: =#REF!-SUM(I14:I27) -> #REF! | J33: =#REF!-SUM(J14:J27) -> #REF!
B34: 核福建 | C34: =#REF!-C28-C29 -> #REF! | D34: =#REF!-D28-D29 -> #REF! | E34: =#REF!-E28-E29 -> #REF! | F34: =#REF!-F28-F29 -> #REF! | G34: =#REF!-G28-G29 -> #REF! | H34: =#REF!-H28-H29 -> #REF! | I34: =#REF!-I28-I29 -> #REF! | J34: =#REF!-J28-J29 -> #REF!
B35: 核年季 | C35: =C7-歷年Yearly!B7 -> 280 | D35: =D7-歷年Yearly!C7 -> 135 | E35: =E7-歷年Yearly!D7 -> 145 | F35: =F7-歷年Yearly!E7 -> 20055610 | G35: =G7-歷年Yearly!F7 -> 422 | H35: =H7-歷年Yearly!G7 -> 87 | I35: =I7-歷年Yearly!H7 -> 335 | J35: =J7-歷年Yearly!I7 -> 23979791

Sheet 2015
A1: 社會救助醫療及看護補助 Medical Subsidies, Nursing Care Assistance of Caretakers
A2: 中華民國104年第1~4季 , 2015 Q1~Q4
A3: 地區別 Locality | C3: 醫療補助 Medical Subsidies | G3: 中低收入住院看護補助 Nursing Care Assistance for Mid or Low-Income Households
C4: 受益人次 Times of Persons | F4: 金額(元) | G4: 補助人次 Times of Persons | J4: 金額(元)
C5: 計 | D5: 男 | E5: 女 | F5: Amount (NT.$) | G5: 計 | H5: 男 | I5: 女 | J5: Amount (NT.$)
C6: Total | D6: Male | E6: Female | G6: Total | H6: Male | I6: Female
A7: 總 計 | B7: Total | C7: 4499 | D7: 3108 | E7: 1391 | F7: 102559166 | G7: 10923 | H7: 8079 | I7: 2844 | J7: 178372595
A8: 新北市 | B8: New Taipei City | C8: 488 | D8: 327 | E8: 161 | F8: 15376643 | G8: 1355 | H8: 1037 | I8: 318 | J8: 25979435
A9: 臺北市 | B9: Taipei City | C9: 977 | D9: 657 | E9: 320 | F9: 20055181 | G9: 1735 | H9: 1186 | I9: 549 | J9: 26281905
A10: 桃園市 | B10: Taoyuan City | C10: 575 | D10: 495 | E10: 80 | F10: 4717229 | G10: 437 | H10: 288 | I10: 149 | J10: 8966068
A11: 臺中市 | B11: Taichung City | C11: 447 | D11: 270 | E11: 177 | F11: 20937225 | G11: 91 | H11: 62 | I11: 29 | J11: 1891900
A12: 臺南市 | B12: Tainan City | C12: 456 | D12: 296 | E12: 160 | F12: 7895126 | G12: 1194 | H12: 931 | I12: 263 | J12: 18495991
A13: 高雄市 | B13: Kaohsiung City | C13: 235 | D13: 155 | E13: 80 | F13: 5359211 | G13: 1133 | H13: 785 | I13: 348 | J13: 15995235
A14: 宜蘭縣 | B14: Yilan County | C14: 70 | D14: 50 | E14: 20 | F14: 2141897 | G14: 593 | H14: 457 | I14: 136 | J14: 9849000
A15: 新竹縣 | B15: Hsinchu County | C15: 21 | D15: 19 | E15: 2 | F15: 122386 | G15: 50 | H15: 39 | I15: 11 | J15: 825850
A16: 苗栗縣 | B16: Miaoli County | C16: 23 | D16: 7 | E16: 16 | F16: 497236 | G16: 389 | H16: 300 | I16: 89 | J16: 5488900
A17: 彰化縣 | B17: Changhua County | C17: 113 | D17: 70 | E17: 43 | F17: 4876170 | G17: 530 | H17: 399 | I17: 131 | J17: 9152168
A18: 南投縣 | B18: Nantou County | C18: 272 | D18: 230 | E18: 42 | F18: 2413052 | G18: 707 | H18: 520 | I18: 187 | J18: 10697221
... A29: 連江縣 | B29: Lienchiang County | C29: 4 | D29: 0 | E29: 4 | F29: 38465 | G29: 2 | H29: 1 | I29: 1 | J29: 8900
A30: 資料來源：直轄市、縣﹝市﹞政府。
A31: Source : County and City Government.
B32: 核總計 | C32: =C7-SUM(C8:C13)-#REF! -> #REF! | D32: =D7-SUM(D8:D13)-#REF! -> #REF! | E32: =E7-SUM(E8:E13)-#REF! -> #REF! | F32: =F7-SUM(F8:F13)-#REF! -> #REF! | G32: =G7-SUM(G8:G13)-#REF! -> #REF! | H32: =H7-SUM(H8:H13)-#REF! -> #REF! | I32: =I7-SUM(I8:I13)-#REF! -> #REF! | J32: =J7-SUM(J8:J13)-#REF! -> #REF!
B33: 核台灣 | C33: =#REF!-SUM(C14:C27) -> #REF! | D33: =#REF!-SUM(D14:D27) -> #REF! | E33: =#REF!-SUM(E14:E27) -> #REF! | F33: =#REF!-SUM(F14:F27) -> #REF! | G33: =#REF!-SUM(G14:G27) -> #REF! | H33: =#REF!-SUM(H14:H27) -> #REF! | I33: =#REF!-SUM(I14:I27) -> #REF! | J33: =#REF!-SUM(J14:J27) -> #REF!
B34: 核福建 | C34: =#REF!-C28-C29 -> #REF! | D34: =#REF!-D28-D29 -> #REF! | E34: =#REF!-E28-E29 -> #REF! | F34: =#REF!-F28-F29 -> #REF! | G34: =#REF!-G28-G29 -> #REF! | H34: =#REF!-H28-H29 -> #REF! | I34: =#REF!-I28-I29 -> #REF! | J34: =#REF!-J28-J29 -> #REF!
