Workbook

Sheet 歷年Yearly
A1: 急難救助 Aid for Emergency
A3: 年(季)別 Year (Quarter) | B3: 總人次 Times of Persons | E3: 總救助金額(元) | F3: 具原住民身份 (人次)
B4: 計 | C4: 男 | D4: 女
B5: Total | C5: Male | D5: Female | E5: Amount (NT.$) | F5: Indigenous (Times of Persons)
A6: 104年 2015 | B6: 37897 | C6: 22356 | D6: 15541 | E6: 232605929 | F6: 543
A7: 105年 2016 | B7: 35900 | C7: 21512 | D7: 14388 | E7: 223191601 | F7: 457
A8: 106年 2017 | B8: 34177 | C8: 20388 | D8: 13789 | E8: 217484914 | F8: 512
A9: 107年 2018 | B9: 34445 | C9: 20220 | D9: 14225 | E9: 221302550 | F9: 951
A10: 108年 2019 | B10: 32492 | C10: 18976 | D10: 13516 | E10: 219487304 | F10: 1587
A11: 109年 2020 | B11: 32041 | C11: 19154 | D11: 12887 | E11: 222784325 | F11: 1454
A12: 110年 2021 | B12: 60446 | C12: 31059 | D12: 29387 | E12: 369812692 | F12: 1397
A13: 111年 2022 | B13: 28037 | C13: 16180 | D13: 11857 | E13: 201572543 | F13: 1460
A14: 112年 2023 | B14: 28505 | C14: 16764 | D14: 11741 | E14: 202563402 | F14: 1514
A15: 113年 2024 | B15: 27121 | C15: 15891 | D15: 11230 | E15: 194716133 | F15: 1466
A16: 第一季 Q1 | B16: 7102 | C16: 4182 | D16: 2920 | E16: 50675615 | F16: 268
A17: 第二季 Q2 | B17: 7080 | C17: 4124 | D17: 2956 | E17: 51111708 | F17: 465
... A24: 第四季 Q4 | B24: 6330 | C24: 3851 | D24: 2479 | E24: 44014777 | F24: 331
A25: 115年 2026
A26: 第一季 Q1 | B26: 6714 | C26: 3929 | D26: 2785 | E26: 46730367 | F26: 421
A27: 第二季 Q2 | B27: 6140 | C27: 3445 | D27: 2695 | E27: 46001208 | F27: 540
A28: 第二季 Q2
A29: 第三季 Q3
A30: 第四季 Q4
A32: 資料來源：直轄市、縣﹝市﹞政府。
A33: Source : County and City Government.
A35: 更新日期：2026/08/17

Sheet Q2,2026
A1: 急難救助 Aid for Emergency
A2: 中華民國115年第2季 , 2026 Q2
A4: 地區別 Locality | C4: 總人次 Times of Persons | F4: 總救助金額(元) | G4: 具原住民身份 (人次)
C5: 計 | D5: 男 | E5: 女
C6: Total | D6: Male | E6: Female | F6: Amount (NT.$) | G6: Indigenous (Times of Persons)
A7: 總 計 | B7: Total | C7: 6140 | D7: 3445 | E7: 2695 | F7: 46001208 | G7: 540
A8: 新北市 | B8: New Taipei City | C8: 515 | D8: 250 | E8: 265 | F8: 5262981 | G8: 11
A9: 臺北市 | B9: Taipei City | C9: 450 | D9: 237 | E9: 213 | F9: 2693494 | G9: 4
A10: 桃園市 | B10: Taoyuan City | C10: 331 | D10: 191 | E10: 140 | F10: 3682984 | G10: 60
A11: 臺中市 | B11: Taichung City | C11: 363 | D11: 215 | E11: 148 | F11: 3464654 | G11: 2
A12: 臺南市 | B12: Tainan City | C12: 478 | D12: 290 | E12: 188 | F12: 2979271 | G12: 1
A13: 高雄市 | B13: Kaohsiung City | C13: 763 | D13: 420 | E13: 343 | F13: 4493400 | G13: 17
A14: 宜蘭縣 | B14: Yilan County | C14: 232 | D14: 121 | E14: 111 | F14: 1499000 | G14: 91
A15: 新竹縣 | B15: Hsinchu County | C15: 100 | D15: 63 | E15: 37 | F15: 1205000 | G15: 46
A16: 苗栗縣 | B16: Miaoli County | C16: 456 | D16: 248 | E16: 208 | F16: 3325868 | G16: 103
A17: 彰化縣 | B17: Changhua County | C17: 658 | D17: 390 | E17: 268 | F17: 5410925 | G17: 0
A18: 南投縣 | B18: Nantou County | C18: 557 | D18: 292 | E18: 265 | F18: 2843586 | G18: 178
... A29: 連江縣 | B29: Lienchiang County | C29: 1 | D29: 1 | E29: 0 | F29: 60000 | G29: 0
A30: 資料來源：直轄市、縣﹝市﹞政府。
A31: Source : County and City Government.

Sheet Q1,2026
A1: 急難救助 Aid for Emergency
A2: 中華民國115年第1季 , 2026 Q1
A4: 地區別 Locality | C4: 總人次 Times of Persons | F4: 總救助金額(元) | G4: 具原住民身份 (人次)
C5: 計 | D5: 男 | E5: 女
C6: Total | D6: Male | E6: Female | F6: Amount (NT.$) | G6: Indigenous (Times of Persons)
A7: 總 計 | B7: Total | C7: 6714 | D7: 3929 | E7: 2785 | F7: 46730367 | G7: 421
A8: 新北市 | B8: New Taipei City | C8: 490 | D8: 273 | E8: 217 | F8: 5435962 | G8: 13
A9: 臺北市 | B9: Taipei City | C9: 527 | D9: 303 | E9: 224 | F9: 2571357 | G9: 1
A10: 桃園市 | B10: Taoyuan City | C10: 345 | D10: 186 | E10: 159 | F10: 3830000 | G10: 72
A11: 臺中市 | B11: Taichung City | C11: 303 | D11: 202 | E11: 101 | F11: 2806195 | G11: 0
A12: 臺南市 | B12: Tainan City | C12: 548 | D12: 347 | E12: 201 | F12: 3483229 | G12: 2
A13: 高雄市 | B13: Kaohsiung City | C13: 1009 | D13: 557 | E13: 452 | F13: 6006196 | G13: 8
A14: 宜蘭縣 | B14: Yilan County | C14: 258 | D14: 155 | E14: 103 | F14: 1647500 | G14: 108
A15: 新竹縣 | B15: Hsinchu County | C15: 86 | D15: 56 | E15: 30 | F15: 988663 | G15: 0
A16: 苗栗縣 | B16: Miaoli County | C16: 401 | D16: 215 | E16: 186 | F16: 3009478 | G16: 76
A17: 彰化縣 | B17: Changhua County | C17: 1034 | D17: 603 | E17: 431 | F17: 5809463 | G17: 2
A18: 南投縣 | B18: Nantou County | C18: 428 | D18: 251 | E18: 177 | F18: 3254390 | G18: 118
... A29: 連江縣 | B29: Lienchiang County | C29: 1 | D29: 1 | E29: 0 | F29: 50000 | G29: 0
A30: 資料來源：直轄市、縣﹝市﹞政府。
A31: Source : County and City Government.

Sheet 2025
A1: 急難救助 Aid for Emergency
A2: 中華民國114年第1~4季 , 2025 Q1~4
A4: 地區別 Locality | C4: 總人次 Times of Persons | F4: 總救助金額(元) | G4: 具原住民身份 (人次)
C5: 計 | D5: 男 | E5: 女
C6: Total | D6: Male | E6: Female | F6: Amount (NT.$) | G6: Indigenous (Times of Persons)
A7: 總 計 | B7: Total | C7: 25671 | D7: 15143 | E7: 10528 | F7: 184189276 | G7: 1463
A8: 新北市 | B8: New Taipei City | C8: 1928 | D8: 1060 | E8: 868 | F8: 23019122 | G8: 55
A9: 臺北市 | B9: Taipei City | C9: 1926 | D9: 1172 | E9: 754 | F9: 10256789 | G9: 19
A10: 桃園市 | B10: Taoyuan City | C10: 1506 | D10: 842 | E10: 664 | F10: 16314580 | G10: 198
A11: 臺中市 | B11: Taichung City | C11: 1208 | D11: 776 | E11: 432 | F11: 8604069 | G11: 8
A12: 臺南市 | B12: Tainan City | C12: 2124 | D12: 1316 | E12: 808 | F12: 13509285 | G12: 9
A13: 高雄市 | B13: Kaohsiung City | C13: 3723 | D13: 2144 | E13: 1579 | F13: 21995544 | G13: 67
A14: 宜蘭縣 | B14: Yilan County | C14: 681 | D14: 401 | E14: 280 | F14: 3396000 | G14: 176
A15: 新竹縣 | B15: Hsinchu County | C15: 371 | D15: 222 | E15: 149 | F15: 4557674 | G15: 0
A16: 苗栗縣 | B16: Miaoli County | C16: 1646 | D16: 937 | E16: 709 | F16: 12638738 | G16: 328
A17: 彰化縣 | B17: Changhua County | C17: 3546 | D17: 2144 | E17: 1402 | F17: 22243551 | G17: 42
A18: 南投縣 | B18: Nantou County | C18: 1584 | D18: 934 | E18: 650 | F18: 12669125 | G18: 512
... A29: 連江縣 | B29: Lienchiang County | C29: 8 | D29: 7 | E29: 1 | F29: 195865 | G29: 0
A30: 資料來源：直轄市、縣﹝市﹞政府。
A31: Source : County and City Government.

Sheet Q4,2025
A1: 急難救助 Aid for Emergency
A2: 中華民國114年第4季 , 2025 Q4
A4: 地區別 Locality | C4: 總人次 Times of Persons | F4: 總救助金額(元) | G4: 具原住民身份 (人次)
C5: 計 | D5: 男 | E5: 女
C6: Total | D6: Male | E6: Female | F6: Amount (NT.$) | G6: Indigenous (Times of Persons)
A7: 總 計 | B7: Total | C7: 6024 | D7: 3544 | E7: 2480 | F7: 44009777 | G7: 331
A8: 新北市 | B8: New Taipei City | C8: 421 | D8: 223 | E8: 198 | F8: 5050573 | G8: 28
A9: 臺北市 | B9: Taipei City | C9: 476 | D9: 295 | E9: 181 | F9: 2714557 | G9: 2
A10: 桃園市 | B10: Taoyuan City | C10: 288 | D10: 162 | E10: 126 | F10: 2907857 | G10: 38
A11: 臺中市 | B11: Taichung City | C11: 322 | D11: 212 | E11: 110 | F11: 2612978 | G11: 0
A12: 臺南市 | B12: Tainan City | C12: 492 | D12: 305 | E12: 187 | F12: 3017035 | G12: 1
A13: 高雄市 | B13: Kaohsiung City | C13: 782 | D13: 428 | E13: 354 | F13: 4693628 | G13: 11
A14: 宜蘭縣 | B14: Yilan County | C14: 166 | D14: 99 | E14: 67 | F14: 766000 | G14: 49
A15: 新竹縣 | B15: Hsinchu County | C15: 68 | D15: 45 | E15: 23 | F15: 709978 | G15: 0
A16: 苗栗縣 | B16: Miaoli County | C16: 408 | D16: 232 | E16: 176 | F16: 3109771 | G16: 62
A17: 彰化縣 | B17: Changhua County | C17: 889 | D17: 553 | E17: 336 | F17: 6068262 | G17: 8
A18: 南投縣 | B18: Nantou County | C18: 387 | D18: 226 | E18: 161 | F18: 3001280 | G18: 124
... A29: 連江縣 | B29: Lienchiang County | C29: 3 | D29: 2 | E29: 1 | F29: 86865 | G29: 0
A30: 資料來源：直轄市、縣﹝市﹞政府。
A31: Source : County and City Government.

Sheet Q3,2025
A1: 急難救助 Aid for Emergency
A2: 中華民國114年第3季 , 2025 Q3
A4: 地區別 Locality | C4: 總人次 Times of Persons | F4: 總救助金額(元) | G4: 具原住民身份 (人次)
C5: 計 | D5: 男 | E5: 女
C6: Total | D6: Male | E6: Female | F6: Amount (NT.$) | G6: Indigenous (Times of Persons)
A7: 總 計 | B7: Total | C7: 6795 | D7: 3942 | E7: 2853 | F7: 48442309 | G7: 382
A8: 新北市 | B8: New Taipei City | C8: 475 | D8: 252 | E8: 223 | F8: 5834931 | G8: 7
A9: 臺北市 | B9: Taipei City | C9: 533 | D9: 319 | E9: 214 | F9: 2830185 | G9: 4
A10: 桃園市 | B10: Taoyuan City | C10: 406 | D10: 221 | E10: 185 | F10: 4421528 | G10: 61
A11: 臺中市 | B11: Taichung City | C11: 292 | D11: 182 | E11: 110 | F11: 1952922 | G11: 3
A12: 臺南市 | B12: Tainan City | C12: 538 | D12: 336 | E12: 202 | F12: 3506701 | G12: 2
A13: 高雄市 | B13: Kaohsiung City | C13: 1035 | D13: 614 | E13: 421 | F13: 6110717 | G13: 30
A14: 宜蘭縣 | B14: Yilan County | C14: 137 | D14: 82 | E14: 55 | F14: 704000 | G14: 21
A15: 新竹縣 | B15: Hsinchu County | C15: 90 | D15: 57 | E15: 33 | F15: 1084585 | G15: 0
A16: 苗栗縣 | B16: Miaoli County | C16: 454 | D16: 250 | E16: 204 | F16: 3256968 | G16: 108
A17: 彰化縣 | B17: Changhua County | C17: 937 | D17: 515 | E17: 422 | F17: 5837896 | G17: 14
A18: 南投縣 | B18: Nantou County | C18: 363 | D18: 207 | E18: 156 | F18: 2847600 | G18: 121
... A29: 連江縣 | B29: Lienchiang County | C29: 2 | D29: 2 | E29: 0 | F29: 24000 | G29: 0
A30: 資料來源：直轄市、縣﹝市﹞政府。
A31: Source : County and City Government.

Sheet Q2,2025
A1: 急難救助 Aid for Emergency
A2: 中華民國114年第2季 , 2025 Q2
A4: 地區別 Locality | C4: 總人次 Times of Persons | F4: 總救助金額(元) | G4: 具原住民身份 (人次)
C5: 計 | D5: 男 | E5: 女
C6: Total | D6: Male | E6: Female | F6: Amount (NT.$) | G6: Indigenous (Times of Persons)
A7: 總 計 | B7: Total | C7: 6324 | D7: 3784 | E7: 2540 | F7: 43724585 | G7: 400
A8: 新北市 | B8: New Taipei City | C8: 460 | D8: 257 | E8: 203 | F8: 5384166 | G8: 17
A9: 臺北市 | B9: Taipei City | C9: 462 | D9: 277 | E9: 185 | F9: 2347128 | G9: 8
A10: 桃園市 | B10: Taoyuan City | C10: 378 | D10: 216 | E10: 162 | F10: 3980843 | G10: 38
A11: 臺中市 | B11: Taichung City | C11: 282 | D11: 183 | E11: 99 | F11: 1819734 | G11: 4
A12: 臺南市 | B12: Tainan City | C12: 565 | D12: 364 | E12: 201 | F12: 3469042 | G12: 3
A13: 高雄市 | B13: Kaohsiung City | C13: 934 | D13: 534 | E13: 400 | F13: 5402354 | G13: 16
A14: 宜蘭縣 | B14: Yilan County | C14: 202 | D14: 121 | E14: 81 | F14: 979000 | G14: 70
A15: 新竹縣 | B15: Hsinchu County | C15: 95 | D15: 58 | E15: 37 | F15: 1205111 | G15: 0
A16: 苗栗縣 | B16: Miaoli County | C16: 376 | D16: 229 | E16: 147 | F16: 2843725 | G16: 72
A17: 彰化縣 | B17: Changhua County | C17: 831 | D17: 518 | E17: 313 | F17: 4880226 | G17: 10
A18: 南投縣 | B18: Nantou County | C18: 423 | D18: 244 | E18: 179 | F18: 3437250 | G18: 153
... A29: 連江縣 | B29: Lienchiang County | C29: 1 | D29: 1 | E29: 0 | F29: 20000 | G29: 0
A30: 資料來源：直轄市、縣﹝市﹞政府。
A31: Source : County and City Government.

Sheet Q1,2025
A1: 急難救助 Aid for Emergency
A2: 中華民國114年第1季 , 2025 Q1
A4: 地區別 Locality | C4: 總人次 Times of Persons | F4: 總救助金額(元) | G4: 具原住民身份 (人次)
C5: 計 | D5: 男 | E5: 女
C6: Total | D6: Male | E6: Female | F6: Amount (NT.$) | G6: Indigenous (Times of Persons)
A7: 總 計 | B7: Total | C7: 6528 | D7: 3873 | E7: 2655 | F7: 48012605 | G7: 350
A8: 新北市 | B8: New Taipei City | C8: 572 | D8: 328 | E8: 244 | F8: 6749452 | G8: 3
A9: 臺北市 | B9: Taipei City | C9: 455 | D9: 281 | E9: 174 | F9: 2364919 | G9: 5
A10: 桃園市 | B10: Taoyuan City | C10: 434 | D10: 243 | E10: 191 | F10: 5004352 | G10: 61
A11: 臺中市 | B11: Taichung City | C11: 312 | D11: 199 | E11: 113 | F11: 2218435 | G11: 1
A12: 臺南市 | B12: Tainan City | C12: 529 | D12: 311 | E12: 218 | F12: 3516507 | G12: 3
A13: 高雄市 | B13: Kaohsiung City | C13: 972 | D13: 568 | E13: 404 | F13: 5788845 | G13: 10
A14: 宜蘭縣 | B14: Yilan County | C14: 176 | D14: 99 | E14: 77 | F14: 947000 | G14: 36
A15: 新竹縣 | B15: Hsinchu County | C15: 118 | D15: 62 | E15: 56 | F15: 1558000 | G15: 0
A16: 苗栗縣 | B16: Miaoli County | C16: 408 | D16: 226 | E16: 182 | F16: 3428274 | G16: 86
A17: 彰化縣 | B17: Changhua County | C17: 889 | D17: 558 | E17: 331 | F17: 5457167 | G17: 10
A18: 南投縣 | B18: Nantou County | C18: 411 | D18: 257 | E18: 154 | F18: 3382995 | G18: 114
... A29: 連江縣 | B29: Lienchiang County | C29: 2 | D29: 2 | E29: 0 | F29: 65000 | G29: 0
A30: 資料來源：直轄市、縣﹝市﹞政府。
A31: Source : County and City Government.

Sheet 2024
A1: 急難救助 Aid for Emergency
A2: 中華民國113年第1~4季 , 2024 Q1~4
A4: 地區別 Locality | C4: 總人次 Times of Persons | F4: 總救助金額(元) | G4: 具原住民身份 (人次)
C5: 計 | D5: 男 | E5: 女
C6: Total | D6: Male | E6: Female | F6: Amount (NT.$) | G6: Indigenous (Times of Persons)
A7: 總 計 | B7: Total | C7: 27121 | D7: 15891 | E7: 11230 | F7: 194716133 | G7: 1466
A8: 新北市 | B8: New Taipei City | C8: 2125 | D8: 1252 | E8: 873 | F8: 24028122 | G8: 60
A9: 臺北市 | B9: Taipei City | C9: 2016 | D9: 1231 | E9: 785 | F9: 10269839 | G9: 13
A10: 桃園市 | B10: Taoyuan City | C10: 2206 | D10: 1241 | E10: 965 | F10: 24462197 | G10: 245
A11: 臺中市 | B11: Taichung City | C11: 1349 | D11: 884 | E11: 465 | F11: 8455826 | G11: 2
A12: 臺南市 | B12: Tainan City | C12: 2160 | D12: 1318 | E12: 842 | F12: 13480863 | G12: 10
A13: 高雄市 | B13: Kaohsiung City | C13: 3961 | D13: 2192 | E13: 1769 | F13: 24449327 | G13: 71
A14: 宜蘭縣 | B14: Yilan County | C14: 678 | D14: 352 | E14: 326 | F14: 3003000 | G14: 182
A15: 新竹縣 | B15: Hsinchu County | C15: 423 | D15: 235 | E15: 188 | F15: 4655915 | G15: 39
A16: 苗栗縣 | B16: Miaoli County | C16: 1555 | D16: 831 | E16: 724 | F16: 11229091 | G16: 313
A17: 彰化縣 | B17: Changhua County | C17: 3430 | D17: 2100 | E17: 1330 | F17: 22447519 | G17: 26
A18: 南投縣 | B18: Nantou County | C18: 1634 | D18: 955 | E18: 679 | F18: 12634330 | G18: 386
... A29: 連江縣 | B29: Lienchiang County | C29: 13 | D29: 11 | E29: 2 | F29: 522792 | G29: 0
A30: 資料來源：直轄市、縣﹝市﹞政府。
A31: Source : County and City Government.

Sheet 2023
A1: 急難救助 Aid for Emergency
A2: 中華民國112年第1~4季 , 2023 Q1~4
A4: 地區別 Locality | C4: 總人次 Times of Persons | F4: 總救助金額(元) | G4: 具原住民身份 (人次)
C5: 計 | D5: 男 | E5: 女
C6: Total | D6: Male | E6: Female | F6: Amount (NT.$) | G6: Indigenous (Times of Persons)
A7: 總 計 | B7: Total | C7: 28505 | D7: 16764 | E7: 11741 | F7: 202563402 | G7: 1514
A8: 新北市 | B8: New Taipei City | C8: 2353 | D8: 1399 | E8: 954 | F8: 26177104 | G8: 35
A9: 臺北市 | B9: Taipei City | C9: 2453 | D9: 1452 | E9: 1001 | F9: 12676252 | G9: 14
A10: 桃園市 | B10: Taoyuan City | C10: 2228 | D10: 1284 | E10: 944 | F10: 25209575 | G10: 298
A11: 臺中市 | B11: Taichung City | C11: 1415 | D11: 899 | E11: 516 | F11: 9742185 | G11: 10
A12: 臺南市 | B12: Tainan City | C12: 2014 | D12: 1247 | E12: 767 | F12: 13167556 | G12: 15
A13: 高雄市 | B13: Kaohsiung City | C13: 3800 | D13: 2075 | E13: 1725 | F13: 24258035 | G13: 86
A14: 宜蘭縣 | B14: Yilan County | C14: 705 | D14: 411 | E14: 294 | F14: 3159000 | G14: 128
A15: 新竹縣 | B15: Hsinchu County | C15: 265 | D15: 139 | E15: 126 | F15: 2006095 | G15: 32
A16: 苗栗縣 | B16: Miaoli County | C16: 1758 | D16: 976 | E16: 782 | F16: 11324359 | G16: 335
A17: 彰化縣 | B17: Changhua County | C17: 4028 | D17: 2459 | E17: 1569 | F17: 26123822 | G17: 31
A18: 南投縣 | B18: Nantou County | C18: 1566 | D18: 898 | E18: 668 | F18: 12202025 | G18: 408
... A29: 連江縣 | B29: Lienchiang County | C29: 9 | D29: 7 | E29: 2 | F29: 287200 | G29: 0
A30: 資料來源：直轄市、縣﹝市﹞政府。
A31: Source : County and City Government.

Sheet 2022
A1: 急難救助 Aid for Emergency
A2: 中華民國111年第1~4季 , 2022 Q1~4
A4: 地區別 Locality | C4: 總人次 Times of Persons | F4: 總救助金額(元) | G4: 具原住民身份 (人次)
C5: 計 | D5: 男 | E5: 女
C6: Total | D6: Male | E6: Female | F6: Amount (NT.$) | G6: Indigenous (Times of Persons)
A7: 總 計 | B7: Total | C7: 28037 | D7: 16180 | E7: 11857 | F7: 201572543 | G7: 1460
A8: 新北市 | B8: New Taipei City | C8: 2038 | D8: 1160 | E8: 878 | F8: 21992819 | G8: 11
A9: 臺北市 | B9: Taipei City | C9: 3483 | D9: 1881 | E9: 1602 | F9: 15269261 | G9: 22
A10: 桃園市 | B10: Taoyuan City | C10: 2537 | D10: 1386 | E10: 1151 | F10: 28389084 | G10: 214
A11: 臺中市 | B11: Taichung City | C11: 1267 | D11: 819 | E11: 448 | F11: 8648313 | G11: 5
A12: 臺南市 | B12: Tainan City | C12: 2126 | D12: 1313 | E12: 813 | F12: 13699404 | G12: 18
A13: 高雄市 | B13: Kaohsiung City | C13: 3497 | D13: 1947 | E13: 1550 | F13: 23063384 | G13: 62
A14: 宜蘭縣 | B14: Yilan County | C14: 797 | D14: 462 | E14: 335 | F14: 3678500 | G14: 134
A15: 新竹縣 | B15: Hsinchu County | C15: 179 | D15: 102 | E15: 77 | F15: 1716052 | G15: 93
A16: 苗栗縣 | B16: Miaoli County | C16: 1875 | D16: 987 | E16: 888 | F16: 12057722 | G16: 301
A17: 彰化縣 | B17: Changhua County | C17: 3254 | D17: 1983 | E17: 1271 | F17: 25390470 | G17: 8
A18: 南投縣 | B18: Nantou County | C18: 1668 | D18: 994 | E18: 674 | F18: 12787754 | G18: 479
... A29: 連江縣 | B29: Lienchiang County | C29: 9 | D29: 5 | E29: 4 | F29: 206892 | G29: 0
A30: 資料來源：直轄市、縣﹝市﹞政府。
A31: Source : County and City Government.

Sheet 2021
A1: 急難救助 Aid for Emergency
A2: 中華民國110年第1~4季 , 2021 Q1~4
A4: 地區別 Locality | C4: 總人次 Times of Persons | F4: 總救助金額(元) | G4: 具原住民身份 (人次)
C5: 計 | D5: 男 | E5: 女
C6: Total | D6: Male | E6: Female | F6: Amount (NT.$) | G6: Indigenous (Times of Persons)
A7: 總 計 | B7: Total | C7: 60446 | D7: 31059 | E7: 29387 | F7: 369812692 | G7: 1397
A8: 新北市 | B8: New Taipei City | C8: 2390 | D8: 1466 | E8: 924 | F8: 23490637 | G8: 27
A9: 臺北市 | B9: Taipei City | C9: 34022 | D9: 15380 | E9: 18642 | F9: 178157683 | G9: 101
A10: 桃園市 | B10: Taoyuan City | C10: 3201 | D10: 1776 | E10: 1425 | F10: 30967899 | G10: 179
A11: 臺中市 | B11: Taichung City | C11: 1571 | D11: 987 | E11: 584 | F11: 10285118 | G11: 3
A12: 臺南市 | B12: Tainan City | C12: 2443 | D12: 1564 | E12: 879 | F12: 15912934 | G12: 14
A13: 高雄市 | B13: Kaohsiung City | C13: 3631 | D13: 2042 | E13: 1589 | F13: 23252592 | G13: 71
A14: 宜蘭縣 | B14: Yilan County | C14: 883 | D14: 489 | E14: 394 | F14: 4081500 | G14: 146
A15: 新竹縣 | B15: Hsinchu County | C15: 223 | D15: 142 | E15: 81 | F15: 2057183 | G15: 113
A16: 苗栗縣 | B16: Miaoli County | C16: 1855 | D16: 1015 | E16: 840 | F16: 11306749 | G16: 308
A17: 彰化縣 | B17: Changhua County | C17: 3251 | D17: 2040 | E17: 1211 | F17: 23901970 | G17: 1
A18: 南投縣 | B18: Nantou County | C18: 1643 | D18: 941 | E18: 702 | F18: 12247547 | G18: 380
... A29: 連江縣 | B29: Lienchiang County | C29: 8 | D29: 6 | E29: 2 | F29: 189910 | G29: 0
A30: 資料來源：直轄市、縣﹝市﹞政府。
A31: Source : County and City Government.
A32: 附 註：110年臺北市大幅增加，係因提供線上申請，以快速協助因疫情失業、部分工時或遭無薪休假 致收入減少而生活陷困者。

Sheet 2020
A1: 急難救助 Aid for Emergency
A2: 中華民國109年第1~4季 , 2020 Q1~4
A4: 地區別 Locality | C4: 總人次 Times of Persons | F4: 總救助金額(元) | G4: 具原住民身份 (人次)
C5: 計 | D5: 男 | E5: 女
C6: Total | D6: Male | E6: Female | F6: Amount (NT.$) | G6: Indigenous (Times of Persons)
A7: 總 計 | B7: Total | C7: 32041 | D7: 19154 | E7: 12887 | F7: 222784325 | G7: 1454
A8: 新北市 | B8: New Taipei City | C8: 2738 | D8: 1672 | E8: 1066 | F8: 25507883 | G8: 27
A9: 臺北市 | B9: Taipei City | C9: 2622 | D9: 1675 | E9: 947 | F9: 11648318 | G9: 20
A10: 桃園市 | B10: Taoyuan City | C10: 4345 | D10: 2401 | E10: 1944 | F10: 39957316 | G10: 308
A11: 臺中市 | B11: Taichung City | C11: 1999 | D11: 1235 | E11: 764 | F11: 12496049 | G11: 2
A12: 臺南市 | B12: Tainan City | C12: 3062 | D12: 1938 | E12: 1124 | F12: 19381401 | G12: 3
A13: 高雄市 | B13: Kaohsiung City | C13: 3591 | D13: 2049 | E13: 1542 | F13: 22346974 | G13: 55
A14: 宜蘭縣 | B14: Yilan County | C14: 958 | D14: 533 | E14: 425 | F14: 4667500 | G14: 116
A15: 新竹縣 | B15: Hsinchu County | C15: 331 | D15: 190 | E15: 141 | F15: 3110117 | G15: 173
A16: 苗栗縣 | B16: Miaoli County | C16: 2182 | D16: 1234 | E16: 948 | F16: 14035358 | G16: 324
A17: 彰化縣 | B17: Changhua County | C17: 2553 | D17: 1565 | E17: 988 | F17: 19708186 | G17: 10
A18: 南投縣 | B18: Nantou County | C18: 1627 | D18: 978 | E18: 649 | F18: 11699030 | G18: 388
... A29: 連江縣 | B29: Lienchiang County | C29: 17 | D29: 11 | E29: 6 | F29: 498820 | G29: 0
A30: 資料來源：直轄市、縣﹝市﹞政府。
A31: Source : County and City Government.
B32: 核總計 | C32: =C7-SUM(C8:C13)-#REF! -> #REF! | D32: =D7-SUM(D8:D13)-#REF! -> #REF! | E32: =E7-SUM(E8:E13)-#REF! -> #REF! | F32: =F7-SUM(F8:F13)-#REF! -> #REF! | G32: =G7-SUM(G8:G13)-#REF! -> #REF!
B33: 核台灣 | C33: =#REF!-SUM(C14:C27) -> #REF! | D33: =#REF!-SUM(D14:D27) -> #REF! | E33: =#REF!-SUM(E14:E27) -> #REF! | F33: =#REF!-SUM(F14:F27) -> #REF! | G33: =#REF!-SUM(G14:G27) -> #REF!
B34: 核福建 | C34: =#REF!-C28-C29 -> #REF! | D34: =#REF!-D28-D29 -> #REF! | E34: =#REF!-E28-E29 -> #REF! | F34: =#REF!-F28-F29 -> #REF! | G34: =#REF!-G28-G29 -> #REF!
B35: 核年季 | C35: =C7-歷年Yearly!B6 -> -5856 | D35: =D7-歷年Yearly!C6 -> -3202 | E35: =E7-歷年Yearly!D6 -> -2654 | F35: =F7-歷年Yearly!E6 -> -9821604 | G35: =G7-歷年Yearly!F6 -> 911

Sheet 2019
A1: 急難救助 Aid for Emergency
A2: 中華民國108年第1~4季 , 2019 Q1~4
A4: 地區別 Locality | C4: 總人次 Times of Persons | F4: 總救助金額(元) | G4: 具原住民身份 (人次)
C5: 計 | D5: 男 | E5: 女
C6: Total | D6: Male | E6: Female | F6: Amount (NT.$) | G6: Indigenous (Times of Persons)
A7: 總 計 | B7: Total | C7: 32492 | D7: 18976 | E7: 13516 | F7: 219487304 | G7: 1587
A8: 新北市 | B8: New Taipei City | C8: 2383 | D8: 1441 | E8: 942 | F8: 21203811 | G8: 46
A9: 臺北市 | B9: Taipei City | C9: 2478 | D9: 1623 | E9: 855 | F9: 10418575 | G9: 21
A10: 桃園市 | B10: Taoyuan City | C10: 4197 | D10: 2230 | E10: 1967 | F10: 36829913 | G10: 245
A11: 臺中市 | B11: Taichung City | C11: 2007 | D11: 1276 | E11: 731 | F11: 12851269 | G11: 8
A12: 臺南市 | B12: Tainan City | C12: 3519 | D12: 2152 | E12: 1367 | F12: 22267683 | G12: 4
A13: 高雄市 | B13: Kaohsiung City | C13: 3734 | D13: 1941 | E13: 1793 | F13: 23899107 | G13: 157
A14: 宜蘭縣 | B14: Yilan County | C14: 983 | D14: 558 | E14: 425 | F14: 4540600 | G14: 155
A15: 新竹縣 | B15: Hsinchu County | C15: 390 | D15: 203 | E15: 187 | F15: 3415786 | G15: 210
A16: 苗栗縣 | B16: Miaoli County | C16: 2253 | D16: 1250 | E16: 1003 | F16: 12719838 | G16: 299
A17: 彰化縣 | B17: Changhua County | C17: 2099 | D17: 1274 | E17: 825 | F17: 18707588 | G17: 12
A18: 南投縣 | B18: Nantou County | C18: 1694 | D18: 1011 | E18: 683 | F18: 12073238 | G18: 391
... A29: 連江縣 | B29: Lienchiang County | C29: 10 | D29: 7 | E29: 3 | F29: 211419 | G29: 0
A30: 資料來源：直轄市、縣﹝市﹞政府。
A31: Source : County and City Government.
B32: 核總計 | C32: =C7-SUM(C8:C13)-#REF! -> #REF! | D32: =D7-SUM(D8:D13)-#REF! -> #REF! | E32: =E7-SUM(E8:E13)-#REF! -> #REF! | F32: =F7-SUM(F8:F13)-#REF! -> #REF! | G32: =G7-SUM(G8:G13)-#REF! -> #REF!
B33: 核台灣 | C33: =#REF!-SUM(C14:C27) -> #REF! | D33: =#REF!-SUM(D14:D27) -> #REF! | E33: =#REF!-SUM(E14:E27) -> #REF! | F33: =#REF!-SUM(F14:F27) -> #REF! | G33: =#REF!-SUM(G14:G27) -> #REF!
B34: 核福建 | C34: =#REF!-C28-C29 -> #REF! | D34: =#REF!-D28-D29 -> #REF! | E34: =#REF!-E28-E29 -> #REF! | F34: =#REF!-F28-F29 -> #REF! | G34: =#REF!-G28-G29 -> #REF!
B35: 核年季 | C35: =C7-歷年Yearly!B6 -> -5405 | D35: =D7-歷年Yearly!C6 -> -3380 | E35: =E7-歷年Yearly!D6 -> -2025 | F35: =F7-歷年Yearly!E6 -> -13118625 | G35: =G7-歷年Yearly!F6 -> 1044

Sheet 2018
A1: 急難救助 Aid for Emergency
A2: 中華民國107年第1~4季 , 2018 Q1~4
A4: 地區別 Locality | C4: 總人次 Times of Persons | F4: 總救助金額(元) | G4: 具原住民身份 (人次)
C5: 計 | D5: 男 | E5: 女
C6: Total | D6: Male | E6: Female | F6: Amount (NT.$) | G6: Indigenous (Times of Persons)
A7: 總 計 | B7: Total | C7: 34445 | D7: 20220 | E7: 14225 | F7: 221302550 | G7: 951
A8: 新北市 | B8: New Taipei City | C8: 2684 | D8: 1570 | E8: 1114 | F8: 22747872 | G8: 31
A9: 臺北市 | B9: Taipei City | C9: 2863 | D9: 1852 | E9: 1011 | F9: 11842078 | G9: 25
A10: 桃園市 | B10: Taoyuan City | C10: 3827 | D10: 2033 | E10: 1794 | F10: 34223216 | G10: 0
A11: 臺中市 | B11: Taichung City | C11: 2355 | D11: 1456 | E11: 899 | F11: 14437046 | G11: 24
A12: 臺南市 | B12: Tainan City | C12: 3597 | D12: 2274 | E12: 1323 | F12: 23080359 | G12: 5
A13: 高雄市 | B13: Kaohsiung City | C13: 3704 | D13: 2051 | E13: 1653 | F13: 18943169 | G13: 238
A14: 宜蘭縣 | B14: Yilan County | C14: 1000 | D14: 570 | E14: 430 | F14: 4518000 | G14: 0
A15: 新竹縣 | B15: Hsinchu County | C15: 283 | D15: 166 | E15: 117 | F15: 2809602 | G15: 127
A16: 苗栗縣 | B16: Miaoli County | C16: 2325 | D16: 1357 | E16: 968 | F16: 13526368 | G16: 224
A17: 彰化縣 | B17: Changhua County | C17: 2302 | D17: 1359 | E17: 943 | F17: 20469290 | G17: 5
A18: 南投縣 | B18: Nantou County | C18: 1605 | D18: 963 | E18: 642 | F18: 11529409 | G18: 243
... A29: 連江縣 | B29: Lienchiang County | C29: 16 | D29: 12 | E29: 4 | F29: 518950 | G29: 0
A30: 資料來源：直轄市、縣﹝市﹞政府。
A31: Source : County and City Government.
B32: 核總計 | C32: =C7-SUM(C8:C13)-#REF! -> #REF! | D32: =D7-SUM(D8:D13)-#REF! -> #REF! | E32: =E7-SUM(E8:E13)-#REF! -> #REF! | F32: =F7-SUM(F8:F13)-#REF! -> #REF! | G32: =G7-SUM(G8:G13)-#REF! -> #REF!
B33: 核台灣 | C33: =#REF!-SUM(C14:C27) -> #REF! | D33: =#REF!-SUM(D14:D27) -> #REF! | E33: =#REF!-SUM(E14:E27) -> #REF! | F33: =#REF!-SUM(F14:F27) -> #REF! | G33: =#REF!-SUM(G14:G27) -> #REF!
B34: 核福建 | C34: =#REF!-C28-C29 -> #REF! | D34: =#REF!-D28-D29 -> #REF! | E34: =#REF!-E28-E29 -> #REF! | F34: =#REF!-F28-F29 -> #REF! | G34: =#REF!-G28-G29 -> #REF!
B35: 核年季 | C35: =C7-歷年Yearly!B6 -> -3452 | D35: =D7-歷年Yearly!C6 -> -2136 | E35: =E7-歷年Yearly!D6 -> -1316 | F35: =F7-歷年Yearly!E6 -> -11303379 | G35: =G7-歷年Yearly!F6 -> 408

Sheet 2017
A1: 急難救助 Aid for Emergency
A2: 中華民國106年第1季~第4季 , 2017 Q1~Q4
A4: 地區別 Locality | C4: 總人次 Times of Persons | F4: 總救助金額(元) | G4: 具原住民身份 (人次)
C5: 計 | D5: 男 | E5: 女
C6: Total | D6: Male | E6: Female | F6: Amount (NT.$) | G6: Indigenous (Times of Persons)
A7: 總 計 | B7: Total | C7: 34177 | D7: 20388 | E7: 13789 | F7: 217484914 | G7: 512
A8: 新北市 | B8: New Taipei City | C8: 2842 | D8: 1673 | E8: 1169 | F8: 22273609 | G8: 6
A9: 臺北市 | B9: Taipei City | C9: 3099 | D9: 2135 | E9: 964 | F9: 12213841 | G9: 34
A10: 桃園市 | B10: Taoyuan City | C10: 4020 | D10: 2104 | E10: 1916 | F10: 35700253 | G10: 0
A11: 臺中市 | B11: Taichung City | C11: 2648 | D11: 1649 | E11: 999 | F11: 15612314 | G11: 5
A12: 臺南市 | B12: Tainan City | C12: 3587 | D12: 2301 | E12: 1286 | F12: 22634342 | G12: 1
A13: 高雄市 | B13: Kaohsiung City | C13: 3387 | D13: 1937 | E13: 1450 | F13: 16639744 | G13: 49
A14: 宜蘭縣 | B14: Yilan County | C14: 868 | D14: 500 | E14: 368 | F14: 4385600 | G14: 0
A15: 新竹縣 | B15: Hsinchu County | C15: 308 | D15: 167 | E15: 141 | F15: 3200968 | G15: 115
A16: 苗栗縣 | B16: Miaoli County | C16: 2058 | D16: 1218 | E16: 840 | F16: 12122865 | G16: 287
A17: 彰化縣 | B17: Changhua County | C17: 2326 | D17: 1437 | E17: 889 | F17: 19922727 | G17: 0
A18: 南投縣 | B18: Nantou County | C18: 1091 | D18: 653 | E18: 438 | F18: 8158155 | G18: 0
... A29: 連江縣 | B29: Lienchiang County | C29: 14 | D29: 12 | E29: 2 | F29: 427000 | G29: 0
A30: 資料來源：直轄市、縣﹝市﹞政府。
A31: Source : County and City Government.
B32: 核總計 | C32: =#REF!-SUM(#REF!)-#REF! -> #REF! | D32: =#REF!-SUM(#REF!)-#REF! -> #REF! | E32: =#REF!-SUM(#REF!)-#REF! -> #REF! | F32: =#REF!-SUM(#REF!)-#REF! -> #REF! | G32: =#REF!-SUM(#REF!)-#REF! -> #REF!
B33: 核台灣 | C33: =#REF!-SUM(#REF!) -> #REF! | D33: =#REF!-SUM(#REF!) -> #REF! | E33: =#REF!-SUM(#REF!) -> #REF! | F33: =#REF!-SUM(#REF!) -> #REF! | G33: =#REF!-SUM(#REF!) -> #REF!
B34: 核福建 | C34: =#REF!-#REF!-#REF! -> #REF! | D34: =#REF!-#REF!-#REF! -> #REF! | E34: =#REF!-#REF!-#REF! -> #REF! | F34: =#REF!-#REF!-#REF! -> #REF! | G34: =#REF!-#REF!-#REF! -> #REF!
B35: 核年季 | C35: =#REF!-歷年Yearly!B6 -> #REF! | D35: =#REF!-歷年Yearly!C6 -> #REF! | E35: =#REF!-歷年Yearly!D6 -> #REF! | F35: =#REF!-歷年Yearly!E6 -> #REF! | G35: =#REF!-歷年Yearly!F6 -> #REF!

Sheet 2016
A1: 急難救助 Aid for Emergency
A2: 中華民國105年第1季~第4季 , 2016 Q1~Q4
A3: 地區別 Locality | C3: 總人次 Times of Persons | F3: 總救助金額(元) | G3: 具原住民身份 (人次)
C4: 計 | D4: 男 | E4: 女
C5: Total | D5: Male | E5: Female | F5: Amount (NT.$) | G5: Indigenous (Times of Persons)
A6: 總 計 | B6: Total | C6: 35900 | D6: 21512 | E6: 14388 | F6: 223191601 | G6: 457
A7: 新北市 | B7: New Taipei City | C7: 3062 | D7: 1812 | E7: 1250 | F7: 23522798 | G7: 0
A8: 臺北市 | B8: Taipei City | C8: 3671 | D8: 2458 | E8: 1213 | F8: 13304635 | G8: 68
A9: 桃園市 | B9: Taoyuan City | C9: 4337 | D9: 2282 | E9: 2055 | F9: 33962418 | G9: 0
A10: 臺中市 | B10: Taichung City | C10: 2955 | D10: 1812 | E10: 1143 | F10: 16309465 | G10: 7
A11: 臺南市 | B11: Tainan City | C11: 3820 | D11: 2392 | E11: 1428 | F11: 25576606 | G11: 15
A12: 高雄市 | B12: Kaohsiung City | C12: 3522 | D12: 2051 | E12: 1471 | F12: 17881468 | G12: 30
A13: 宜蘭縣 | B13: Yilan County | C13: 962 | D13: 538 | E13: 424 | F13: 4723150 | G13: 0
A14: 新竹縣 | B14: Hsinchu County | C14: 334 | D14: 180 | E14: 154 | F14: 3116853 | G14: 101
A15: 苗栗縣 | B15: Miaoli County | C15: 2097 | D15: 1350 | E15: 747 | F15: 14025796 | G15: 101
A16: 彰化縣 | B16: Changhua County | C16: 2143 | D16: 1314 | E16: 829 | F16: 17557270 | G16: 1
A17: 南投縣 | B17: Nantou County | C17: 1231 | D17: 748 | E17: 483 | F17: 9214028 | G17: 127
... A28: 連江縣 | B28: Lienchiang County | C28: 16 | D28: 12 | E28: 4 | F28: 324900 | G28: 0
A29: 資料來源：直轄市、縣﹝市﹞政府。
A30: Source : County and City Government.
B31: 核總計 | C31: =C6-SUM(C7:C12)-#REF! -> #REF! | D31: =D6-SUM(D7:D12)-#REF! -> #REF! | E31: =E6-SUM(E7:E12)-#REF! -> #REF! | F31: =F6-SUM(F7:F12)-#REF! -> #REF! | G31: =G6-SUM(G7:G12)-#REF! -> #REF!
B32: 核台灣 | C32: =#REF!-SUM(C13:C26) -> #REF! | D32: =#REF!-SUM(D13:D26) -> #REF! | E32: =#REF!-SUM(E13:E26) -> #REF! | F32: =#REF!-SUM(F13:F26) -> #REF! | G32: =#REF!-SUM(G13:G26) -> #REF!
B33: 核福建 | C33: =#REF!-C27-C28 -> #REF! | D33: =#REF!-D27-D28 -> #REF! | E33: =#REF!-E27-E28 -> #REF! | F33: =#REF!-F27-F28 -> #REF! | G33: =#REF!-G27-G28 -> #REF!
B34: 核年季 | C34: =C6-歷年Yearly!B6 -> -1997 | D34: =D6-歷年Yearly!C6 -> -844 | E34: =E6-歷年Yearly!D6 -> -1153 | F34: =F6-歷年Yearly!E6 -> -9414328 | G34: =G6-歷年Yearly!F6 -> -86

Sheet 2015
A1: 急難救助 Aid for Emergency
A2: 中華民國104年第1~4季 , 2015 Q1~Q4
A3: 地區別 Locality | C3: 急難現金救助 Aid forEmergency-By Cash
C4: 總人次 Times of Persons | F4: 總救助金額(元) | G4: 具原住民身份 (人次)
C5: 計 | D5: 男 | E5: 女
C6: Total | D6: Male | E6: Female | F6: Amount (NT.$) | G6: Indigenous (Times of persons)
A7: 總 計 | B7: Total | C7: 37897 | D7: 22356 | E7: 15541 | F7: 232605929 | G7: 543
A8: 新北市 | B8: New Taipei City | C8: 2632 | D8: 1534 | E8: 1098 | F8: 22325759 | G8: 0
A9: 臺北市 | B9: Taipei City | C9: 4325 | D9: 2912 | E9: 1413 | F9: 17458692 | G9: 40
A10: 桃園市 | B10: Taoyuan City | C10: 4686 | D10: 2345 | E10: 2341 | F10: 33828306 | G10: 0
A11: 臺中市 | B11: Taichung City | C11: 3131 | D11: 1916 | E11: 1215 | F11: 18674964 | G11: 0
A12: 臺南市 | B12: Tainan City | C12: 3873 | D12: 2341 | E12: 1532 | F12: 24732072 | G12: 3
A13: 高雄市 | B13: Kaohsiung City | C13: 3922 | D13: 2301 | E13: 1621 | F13: 19667539 | G13: 0
A14: 宜蘭縣 | B14: Yilan County | C14: 919 | D14: 498 | E14: 421 | F14: 4522270 | G14: 0
A15: 新竹縣 | B15: Hsinchu County | C15: 325 | D15: 219 | E15: 106 | F15: 2824261 | G15: 99
A16: 苗栗縣 | B16: Miaoli County | C16: 2076 | D16: 1249 | E16: 827 | F16: 13513617 | G16: 165
A17: 彰化縣 | B17: Changhua County | C17: 2077 | D17: 1269 | E17: 808 | F17: 16768780 | G17: 11
A18: 南投縣 | B18: Nantou County | C18: 1244 | D18: 769 | E18: 475 | F18: 9449190 | G18: 211
... A29: 連江縣 | B29: Lienchiang County | C29: 16 | D29: 12 | E29: 4 | F29: 562500 | G29: 0
A30: 資料來源：直轄市、縣﹝市﹞政府。
A31: Source : County and City Government.
B32: 核總計 | C32: =C7-SUM(C8:C13)-#REF! -> #REF! | D32: =D7-SUM(D8:D13)-#REF! -> #REF! | E32: =E7-SUM(E8:E13)-#REF! -> #REF! | F32: =F7-SUM(F8:F13)-#REF! -> #REF! | G32: =G7-SUM(G8:G13)-#REF! -> #REF!
B33: 核台灣 | C33: =#REF!-SUM(C14:C27) -> #REF! | D33: =#REF!-SUM(D14:D27) -> #REF! | E33: =#REF!-SUM(E14:E27) -> #REF! | F33: =#REF!-SUM(F14:F27) -> #REF! | G33: =#REF!-SUM(G14:G27) -> #REF!
B34: 核福建 | C34: =#REF!-C28-C29 -> #REF! | D34: =#REF!-D28-D29 -> #REF! | E34: =#REF!-E28-E29 -> #REF! | F34: =#REF!-F28-F29 -> #REF! | G34: =#REF!-G28-G29 -> #REF!
B35: 核年季 | C35: =C7-歷年Yearly!B6 -> 0 | D35: =D7-歷年Yearly!C6 -> 0 | E35: =E7-歷年Yearly!D6 -> 0 | F35: =F7-歷年Yearly!E6 -> 0 | G35: =G7-歷年Yearly!F6 -> 0
