Workbook
Name 民國100年第2季: #REF!
Name 民國100年第2季: #REF!
Name 民國100年第2季: #REF!
Name 民國100年第2季: #REF!
Name 民國100年第2季: #REF!
Name 民國100年第2季: #REF!
Name 民國100年第2季: #REF!
Name 民國100年第2季: #REF!

Sheet 歷年
A1: 原住民低收入戶戶數及人數 Number and Population of Indigenous Low-Income Households
A2: 年底別 End of Year | B2: 原住民戶數(戶長性別) Indigenous Households | H2: 原住民人數 Indigenous Persons
B3: 合計(按戶長性別分) Total | E3: 第1款(省、新北、桃園、臺中、臺南)、第0類(臺北)、第1類(高雄) | F3: 第2款(省、新北、桃園、臺中、臺南)、第1、2類(臺北)、第2類(高雄) | G3: 第3款(省、新北、桃園、臺中、臺南)、第3、4類(臺北、高雄) | H3: 合計 Total | K3: 第1款(省、新北、桃園、臺中、臺南)、第0類(臺北)、第1類(高雄) | L3: 第2款(省、新北、桃園、臺中、臺南)、第1、2類(臺北)、第2類(高雄) | M3: 第3款(省、新北、桃園、臺中、臺南)、第3、4類(臺北、高雄)
B4: 計 | C4: 男 | D4: 女 | H4: 計 | I4: 男 | J4: 女
B5: Sub-Total | C5: Male | D5: Female | E5: Class 1 | F5: Class 2 | G5: Class 3 | H5: Sub-Total | I5: Male | J5: Female | K5: Class 1 | L5: Class 2 | M5: Class 3
A6: 104年 2015 | B6: 10878 | C6: 6122 | D6: 4756 | E6: 281 | F6: 1707 | G6: 8890 | H6: 31940 | I6: 16249 | J6: 15691 | K6: 286 | L6: 4260 | M6: 27394 | N6: =SUM(#REF!) -> #REF! | O6: =SUM(#REF!) -> #REF!
A7: 105年 2016 | B7: 10888 | C7: 6173 | D7: 4715 | E7: 239 | F7: 1649 | G7: 9000 | H7: 31789 | I7: 16225 | J7: 15564 | K7: 241 | L7: 4017 | M7: 27531 | N7: =SUM(N8:N23) -> #REF! | O7: =SUM(O8:O23) -> #REF!
A8: 106年 2017 | B8: 10925 | C8: 6221 | D8: 4704 | E8: 210 | F8: 1510 | G8: 9205 | H8: 31253 | I8: 15980 | J8: 15273 | K8: 213 | L8: 3526 | M8: 27514 | N8: =SUM(N9:N32) -> #REF! | O8: =SUM(O9:O32) -> #REF!
A9: 107年 2018 | B9: 11292 | C9: 6422 | D9: 4870 | E9: 181 | F9: 1467 | G9: 9644 | H9: 32069 | I9: 16425 | J9: 15644 | K9: 184 | L9: 3346 | M9: 28539 | N9: =SUM(N10:N38) -> #REF! | O9: =SUM(O10:O38) -> #REF!
A10: 108年 2019 | B10: 10720 | C10: 6062 | D10: 4658 | E10: 40 | F10: 1324 | G10: 9356 | H10: 30810 | I10: 15711 | J10: 15099 | K10: 43 | L10: 3067 | M10: 27700 | N10: =SUM(N11:N38) -> #REF! | O10: =SUM(O11:O38) -> #REF!
A11: 109年 2020 | B11: 10693 | C11: 6139 | D11: 4554 | E11: 32 | F11: 1216 | G11: 9445 | H11: 30277 | I11: 15557 | J11: 14720 | K11: 33 | L11: 2758 | M11: 27486 | N11: =SUM(N12:N42) -> #REF! | O11: =SUM(O12:O42) -> #REF!
A12: 110年 2021 | B12: 10949 | C12: 6276 | D12: 4673 | E12: 26 | F12: 1214 | G12: 9709 | H12: 30415 | I12: 15610 | J12: 14805 | K12: 26 | L12: 2684 | M12: 27705 | N12: =SUM(N13:N47) -> #REF! | O12: =SUM(O13:O47) -> #REF!
A13: 111年 2022 | B13: 11160 | C13: 6320 | D13: 4840 | E13: 30 | F13: 1157 | G13: 9973 | H13: 30799 | I13: 15760 | J13: 15039 | K13: 31 | L13: 2588 | M13: 28180 | N13: =SUM(N14:N52) -> #REF! | O13: =SUM(O14:O52) -> #REF!
A14: 112年 2023 | B14: 10935 | C14: 6218 | D14: 4717 | E14: 28 | F14: 1130 | G14: 9777 | H14: 29492 | I14: 15166 | J14: 14326 | K14: 28 | L14: 2441 | M14: 27023
A15: 113年 2024 | B15: 10800 | C15: 6100 | D15: 4700 | E15: 30 | F15: 1070 | G15: 9700 | H15: 28423 | I15: 14633 | J15: 13790 | K15: 30 | L15: 2256 | M15: 26137
A16: 第一季 Q1 | B16: 10439 | C16: 5948 | D16: 4491 | E16: 33 | F16: 1087 | G16: 9319 | H16: 27721 | I16: 14286 | J16: 13435 | K16: 34 | L16: 2281 | M16: 25406
A17: 第二季 Q2 | B17: 10632 | C17: 6030 | D17: 4602 | E17: 30 | F17: 1080 | G17: 9522 | H17: 28195 | I17: 14542 | J17: 13653 | K17: 30 | L17: 2286 | M17: 25879
A18: 第三季 Q3 | B18: 10634 | C18: 6038 | D18: 4596 | E18: 30 | F18: 1069 | G18: 9535 | H18: 27998 | I18: 14438 | J18: 13560 | K18: 30 | L18: 2257 | M18: 25711
A19: 第四季 Q4 | B19: 10800 | C19: 6100 | D19: 4700 | E19: 30 | F19: 1070 | G19: 9700 | H19: 28423 | I19: 14633 | J19: 13790 | K19: 30 | L19: 2256 | M19: 26137
A20: 114年 2025 | B20: 11100 | C20: 6193 | D20: 4907 | E20: 34 | F20: 1062 | G20: 10004 | H20: 28854 | I20: 14845 | J20: 14009 | K20: 35 | L20: 2135 | M20: 26684
A21: 第一季 Q1 | B21: 10676 | C21: 6022 | D21: 4654 | E21: 36 | F21: 1065 | G21: 9575 | H21: 27991 | I21: 14457 | J21: 13534 | K21: 37 | L21: 2167 | M21: 25787
A22: 第二季 Q2 | B22: 10898 | C22: 6120 | D22: 4778 | E22: 35 | F22: 1068 | G22: 9795 | H22: 28561 | I22: 14752 | J22: 13809 | K22: 36 | L22: 2164 | M22: 26361
A23: 第三季 Q3 | B23: 10905 | C23: 6129 | D23: 4776 | E23: 34 | F23: 1062 | G23: 9809 | H23: 28398 | I23: 14679 | J23: 13719 | K23: 35 | L23: 2149 | M23: 26214
A24: 第四季 Q4 | B24: 11100 | C24: 6193 | D24: 4907 | E24: 34 | F24: 1062 | G24: 10004 | H24: 28854 | I24: 14845 | J24: 14009 | K24: 35 | L24: 2135 | M24: 26684
A25: 115年 2026
A26: 第一季 Q1 | B26: 10591 | C26: 5940 | D26: 4651 | E26: 35 | F26: 1079 | G26: 9477 | H26: 27312 | I26: 14079 | J26: 13233 | K26: 36 | L26: 2151 | M26: 25125
A27: 第二季 Q2
A28: 第三季 Q3
A29: 第四季 Q4
A31: 資料來源：直轄市、縣﹝市﹞政府。
A32: Source : County and City Government. | N32: =N31-#REF! -> #REF! | O32: =O31-#REF! -> #REF!
A33: 說明：1. 高雄市自民國100年起新增第4類。 | N33: =N32-#REF! -> #REF! | O33: =O32-#REF! -> #REF!
A34: 2. 民國100年7月1日起實施新制社會救助法，除最低生活費調高外，應計算人口範圍亦將兄弟姊妹排除列計。
A35: 說明：1.原住民戶定義為：(1)戶長為原住民者視為原住民戶，以戶長性別統計。(2)戶長非原住民，如戶內原住民人口數較多時則判定為原住民戶。如原住民與非原住民之
A36: 人口數相等時，則以年齡較長者是否具原住民身分判定為原住民戶或非原住民戶。
A37: 2.原住民人數定義為：依原住民身分法，具原住民身分者即予以統計，而不論其是否隸屬於原住民戶。
A39: Explanation :
A40: 1.As of the beginning of 2011, Category 4 is added to Kaohsiung City. | N40: =#REF!-#REF! -> #REF! | O40: =#REF!-#REF! -> #REF!
A41: 2.The new “Public Assistance Act” shall take effect on the 1st of July 2011. In addition to the upward revision of minimum monthly income, brothers and sisters are excluded from the scope of number of members living in the household.
A42: 3. Indigenous Household Definition : (1) Head of the household is deemed an indigenous resident (statistics are calculated by gender of head of household); (2) Head of household is a non-indigenous resident, but the majority of household members are indigenous residents. In the instance where the number of indigenous and non-indigenous residents in a household is equal, the identity of the oldest member of the household is used to determine the identity of the household.
A43: 4.Population of Indigenous Residents Definition : Statistics are calculated based on the identity of individual indigenous residents regardless of whether they are members of an indigenous household.
A44: 更新日期：2026/06/01

Sheet 2026
A2: 原住民低收入戶戶數及人數 Number and Population of Indigenous Low-Income Households
A3: 中華民國115年第1季底, 2026 Q1
A4: 地區別 | B4: 原住民戶數-按戶長性別分(戶) Indigenous Households | N4: 原住民人數(人) Indigenous Persons
B5: 總計 Grand Total | E5: 第1款(省、新北、臺中、臺南)、第0類(臺北)、第1類(高雄) Class 1 | H5: 第2款(省、新北、臺中、臺南)、第1、2類(臺北)、第2類(高雄) Class 2 | K5: 第3款(省、新北、臺中、臺南)、第3、4類(臺北、高雄) Class 3 | N5: 總計 Grand Total | Q5: 第1款(省、新北、臺中、臺南)、第0類(臺北)、第1類(高雄) Class 1 | T5: 第2款(省、新北、臺中、臺南)、第1、2類(臺北)、第2類(高雄) Class 2 | W5: 第3款(省、新北、臺中、臺南)、第3、4類(臺北、高雄) Class 3
B6: 計 | C6: 男 | D6: 女 | E6: 計 | F6: 男 | G6: 女 | H6: 計 | I6: 男 | J6: 女 | K6: 計 | L6: 男 | M6: 女 | N6: 計 | O6: 男 | P6: 女 | Q6: 計 | R6: 男 | S6: 女 | T6: 計 | U6: 男 | V6: 女 | W6: 計 | X6: 男 | Y6: 女
A7: Locality | B7: Sub-Total | C7: Male | D7: Female | E7: Sub-Total | F7: Male | G7: Female | H7: Sub-Total | I7: Male | J7: Female | K7: Sub-Total | L7: Male | M7: Female | N7: Sub-Total | O7: Male | P7: Female | Q7: Sub-Total | R7: Male | S7: Female | T7: Sub-Total | U7: Male | V7: Female | W7: Sub-Total | X7: Male | Y7: Female
A8: 總計 Total | B8: 10591 | C8: 5940 | D8: 4651 | E8: 35 | F8: 29 | G8: 6 | H8: 1079 | I8: 671 | J8: 408 | K8: 9477 | L8: 5240 | M8: 4237 | N8: 27312 | O8: 14079 | P8: 13233 | Q8: 36 | R8: 30 | S8: 6 | T8: 2151 | U8: 1187 | V8: 964 | W8: 25125 | X8: 12862 | Y8: 12263
A9: 新北市 New Taipei City | B9: 516 | C9: 243 | D9: 273 | E9: 0 | F9: 0 | G9: 0 | H9: 27 | I9: 12 | J9: 15 | K9: 489 | L9: 231 | M9: 258 | N9: 1421 | O9: 666 | P9: 755 | Q9: 0 | R9: 0 | S9: 0 | T9: 63 | U9: 24 | V9: 39 | W9: 1358 | X9: 642 | Y9: 716
A10: 臺北市 Taipei City | B10: 365 | C10: 158 | D10: 207 | E10: 5 | F10: 3 | G10: 2 | H10: 52 | I10: 29 | J10: 23 | K10: 308 | L10: 126 | M10: 182 | N10: 1145 | O10: 536 | P10: 609 | Q10: 5 | R10: 3 | S10: 2 | T10: 94 | U10: 49 | V10: 45 | W10: 1046 | X10: 484 | Y10: 562
A11: 桃園市 Taoyuan City | B11: 1544 | C11: 889 | D11: 655 | E11: 11 | F11: 10 | G11: 1 | H11: 81 | I11: 55 | J11: 26 | K11: 1452 | L11: 824 | M11: 628 | N11: 4920 | O11: 2466 | P11: 2454 | Q11: 11 | R11: 10 | S11: 1 | T11: 205 | U11: 124 | V11: 81 | W11: 4704 | X11: 2332 | Y11: 2372
A12: 臺中市 Taichung City | B12: 763 | C12: 334 | D12: 429 | E12: 4 | F12: 4 | G12: 0 | H12: 200 | I12: 101 | J12: 99 | K12: 559 | L12: 229 | M12: 330 | N12: 2369 | O12: 1146 | P12: 1223 | Q12: 4 | R12: 4 | S12: 0 | T12: 491 | U12: 249 | V12: 242 | W12: 1874 | X12: 893 | Y12: 981
A13: 臺南市 Tainan City | B13: 78 | C13: 34 | D13: 44 | E13: 0 | F13: 0 | G13: 0 | H13: 6 | I13: 2 | J13: 4 | K13: 72 | L13: 32 | M13: 40 | N13: 212 | O13: 98 | P13: 114 | Q13: 0 | R13: 0 | S13: 0 | T13: 14 | U13: 4 | V13: 10 | W13: 198 | X13: 94 | Y13: 104
A14: 高雄市 Kaohsiung City | B14: 527 | C14: 276 | D14: 251 | E14: 1 | F14: 1 | G14: 0 | H14: 181 | I14: 104 | J14: 77 | K14: 345 | L14: 171 | M14: 174 | N14: 1663 | O14: 802 | P14: 861 | Q14: 1 | R14: 1 | S14: 0 | T14: 421 | U14: 204 | V14: 217 | W14: 1241 | X14: 597 | Y14: 644
A15: 宜蘭縣 Yilan County | B15: 443 | C15: 262 | D15: 181 | E15: 0 | F15: 0 | G15: 0 | H15: 23 | I15: 15 | J15: 8 | K15: 420 | L15: 247 | M15: 173 | N15: 1232 | O15: 643 | P15: 589 | Q15: 0 | R15: 0 | S15: 0 | T15: 40 | U15: 23 | V15: 17 | W15: 1192 | X15: 620 | Y15: 572
A16: 新竹縣 Hsinchu County | B16: 356 | C16: 223 | D16: 133 | E16: 1 | F16: 1 | G16: 0 | H16: 30 | I16: 17 | J16: 13 | K16: 325 | L16: 205 | M16: 120 | N16: 1120 | O16: 555 | P16: 565 | Q16: 1 | R16: 1 | S16: 0 | T16: 73 | U16: 36 | V16: 37 | W16: 1046 | X16: 518 | Y16: 528
A17: 苗栗縣 Miaoli County | B17: 176 | C17: 102 | D17: 74 | E17: 0 | F17: 0 | G17: 0 | H17: 49 | I17: 31 | J17: 18 | K17: 127 | L17: 71 | M17: 56 | N17: 499 | O17: 246 | P17: 253 | Q17: 0 | R17: 0 | S17: 0 | T17: 114 | U17: 62 | V17: 52 | W17: 385 | X17: 184 | Y17: 201
A18: 彰化縣 Changhua County | B18: 87 | C18: 42 | D18: 45 | E18: 0 | F18: 0 | G18: 0 | H18: 0 | I18: 0 | J18: 0 | K18: 87 | L18: 42 | M18: 45 | N18: 220 | O18: 105 | P18: 115 | Q18: 0 | R18: 0 | S18: 0 | T18: 0 | U18: 0 | V18: 0 | W18: 220 | X18: 105 | Y18: 115
A19: 南投縣 Nantou County | B19: 277 | C19: 174 | D19: 103 | E19: 0 | F19: 0 | G19: 0 | H19: 4 | I19: 1 | J19: 3 | K19: 273 | L19: 173 | M19: 100 | N19: 786 | O19: 403 | P19: 383 | Q19: 0 | R19: 0 | S19: 0 | T19: 12 | U19: 5 | V19: 7 | W19: 774 | X19: 398 | Y19: 376
... A30: 連江縣 Lienchiang County | B30: 4 | C30: 3 | D30: 1 | E30: 0 | F30: 0 | G30: 0 | H30: 0 | I30: 0 | J30: 0 | K30: 4 | L30: 3 | M30: 1 | N30: 7 | O30: 3 | P30: 4 | Q30: 0 | R30: 0 | S30: 0 | T30: 0 | U30: 0 | V30: 0 | W30: 7 | X30: 3 | Y30: 4
A31: 資料來源：直轄市、縣﹝市﹞政府。
A32: Source : County and City Government.
A35: 中華民國115年第2季底, 2026 Q2
A36: 地區別 | B36: 原住民戶數(戶長性別) Indigenous Households | N36: 原住民人數 Indigenous Persons
B37: 總計 Grand Total | E37: 第1款(省、新北、臺中、臺南)、第0類(臺北)、第1類(高雄) Class 1 | H37: 第2款(省、新北、臺中、臺南)、第1、2類(臺北)、第2類(高雄) Class 2 | K37: 第3款(省、新北、臺中、臺南)、第3、4類(臺北、高雄) Class 3 | N37: 總計 Grand Total | Q37: 第1款(省、新北、臺中、臺南)、第0類(臺北)、第1類(高雄) Class 1 | T37: 第2款(省、新北、臺中、臺南)、第1、2類(臺北)、第2類(高雄) Class 2 | W37: 第3款(省、新北、臺中、臺南)、第3、4類(臺北、高雄) Class 3
B38: 計 | C38: 男 | D38: 女 | E38: 計 | F38: 男 | G38: 女 | H38: 計 | I38: 男 | J38: 女 | K38: 計 | L38: 男 | M38: 女 | N38: 計 | O38: 男 | P38: 女 | Q38: 計 | R38: 男 | S38: 女 | T38: 計 | U38: 男 | V38: 女 | W38: 計 | X38: 男 | Y38: 女
A39: Locality | B39: Sub-Total | C39: Male | D39: Female | E39: Sub-Total | F39: Male | G39: Female | H39: Sub-Total | I39: Male | J39: Female | K39: Sub-Total | L39: Male | M39: Female | N39: Sub-Total | O39: Male | P39: Female | Q39: Sub-Total | R39: Male | S39: Female | T39: Sub-Total | U39: Male | V39: Female | W39: Sub-Total | X39: Male | Y39: Female
A40: 總計 Total
A41: 新北市 New Taipei City
A42: 臺北市 Taipei City
A43: 桃園市 Taoyuan City
A44: 臺中市 Taichung City
A45: 臺南市 Tainan City
A46: 高雄市 Kaohsiung City
A47: 宜蘭縣 Yilan County
A48: 新竹縣 Hsinchu County
A49: 苗栗縣 Miaoli County
A50: 彰化縣 Changhua County
A51: 南投縣 Nantou County
... A67: 中華民國115年第3季底, 2026 Q3
A68: 地區別 | B68: 原住民戶數(戶長性別) Indigenous Households | N68: 原住民人數 Indigenous Persons
B69: 總計 Grand Total | E69: 第1款(省、新北、臺中、臺南)、第0類(臺北)、第1類(高雄) Class 1 | H69: 第2款(省、新北、臺中、臺南)、第1、2類(臺北)、第2類(高雄) Class 2 | K69: 第3款(省、新北、臺中、臺南)、第3、4類(臺北、高雄) Class 3 | N69: 總計 Grand Total | Q69: 第1款(省、新北、臺中、臺南)、第0類(臺北)、第1類(高雄) Class 1 | T69: 第2款(省、新北、臺中、臺南)、第1、2類(臺北)、第2類(高雄) Class 2 | W69: 第3款(省、新北、臺中、臺南)、第3、4類(臺北、高雄) Class 3
B70: 計 | C70: 男 | D70: 女 | E70: 計 | F70: 男 | G70: 女 | H70: 計 | I70: 男 | J70: 女 | K70: 計 | L70: 男 | M70: 女 | N70: 計 | O70: 男 | P70: 女 | Q70: 計 | R70: 男 | S70: 女 | T70: 計 | U70: 男 | V70: 女 | W70: 計 | X70: 男 | Y70: 女
A71: Locality | B71: Sub-Total | C71: Male | D71: Female | E71: Sub-Total | F71: Male | G71: Female | H71: Sub-Total | I71: Male | J71: Female | K71: Sub-Total | L71: Male | M71: Female | N71: Sub-Total | O71: Male | P71: Female | Q71: Sub-Total | R71: Male | S71: Female | T71: Sub-Total | U71: Male | V71: Female | W71: Sub-Total | X71: Male | Y71: Female
A72: 總計 Total
A73: 新北市 New Taipei City
A74: 臺北市 Taipei City
A75: 桃園市 Taoyuan City
A76: 臺中市 Taichung City
A77: 臺南市 Tainan City
A78: 高雄市 Kaohsiung City
A79: 宜蘭縣 Yilan County
A80: 新竹縣 Hsinchu County
A81: 苗栗縣 Miaoli County
A82: 彰化縣 Changhua County
A83: 南投縣 Nantou County
... A99: 中華民國115年第4季底, 2026 Q4
A100: 地區別 | B100: 原住民戶數(戶長性別) Indigenous Households | N100: 原住民人數 Indigenous Persons
B101: 總計 Grand Total | E101: 第1款(省、新北、臺中、臺南)、第0類(臺北)、第1類(高雄) Class 1 | H101: 第2款(省、新北、臺中、臺南)、第1、2類(臺北)、第2類(高雄) Class 2 | K101: 第3款(省、新北、臺中、臺南)、第3、4類(臺北、高雄) Class 3 | N101: 總計 Grand Total | Q101: 第1款(省、新北、臺中、臺南)、第0類(臺北)、第1類(高雄) Class 1 | T101: 第2款(省、新北、臺中、臺南)、第1、2類(臺北)、第2類(高雄) Class 2 | W101: 第3款(省、新北、臺中、臺南)、第3、4類(臺北、高雄) Class 3
B102: 計 | C102: 男 | D102: 女 | E102: 計 | F102: 男 | G102: 女 | H102: 計 | I102: 男 | J102: 女 | K102: 計 | L102: 男 | M102: 女 | N102: 計 | O102: 男 | P102: 女 | Q102: 計 | R102: 男 | S102: 女 | T102: 計 | U102: 男 | V102: 女 | W102: 計 | X102: 男 | Y102: 女
A103: Locality | B103: Sub-Total | C103: Male | D103: Female | E103: Sub-Total | F103: Male | G103: Female | H103: Sub-Total | I103: Male | J103: Female | K103: Sub-Total | L103: Male | M103: Female | N103: Sub-Total | O103: Male | P103: Female | Q103: Sub-Total | R103: Male | S103: Female | T103: Sub-Total | U103: Male | V103: Female | W103: Sub-Total | X103: Male | Y103: Female
A104: 總計 Total
A105: 新北市 New Taipei City
A106: 臺北市 Taipei City
A107: 桃園市 Taoyuan City
A108: 臺中市 Taichung City
A109: 臺南市 Tainan City
A110: 高雄市 Kaohsiung City
A111: 宜蘭縣 Yilan County
A112: 新竹縣 Hsinchu County
A113: 苗栗縣 Miaoli County
A114: 彰化縣 Changhua County
A115: 南投縣 Nantou County
... A128: Source : County and City Government.

Sheet 2025
A2: 原住民低收入戶戶數及人數 Number and Population of Indigenous Low-Income Households
A3: 中華民國114年第1季底, 2025 Q1
A4: 地區別 | B4: 原住民戶數-按戶長性別分(戶) Indigenous Households | N4: 原住民人數(人) Indigenous Persons
B5: 總計 Grand Total | E5: 第1款(省、新北、臺中、臺南)、第0類(臺北)、第1類(高雄) Class 1 | H5: 第2款(省、新北、臺中、臺南)、第1、2類(臺北)、第2類(高雄) Class 2 | K5: 第3款(省、新北、臺中、臺南)、第3、4類(臺北、高雄) Class 3 | N5: 總計 Grand Total | Q5: 第1款(省、新北、臺中、臺南)、第0類(臺北)、第1類(高雄) Class 1 | T5: 第2款(省、新北、臺中、臺南)、第1、2類(臺北)、第2類(高雄) Class 2 | W5: 第3款(省、新北、臺中、臺南)、第3、4類(臺北、高雄) Class 3
B6: 計 | C6: 男 | D6: 女 | E6: 計 | F6: 男 | G6: 女 | H6: 計 | I6: 男 | J6: 女 | K6: 計 | L6: 男 | M6: 女 | N6: 計 | O6: 男 | P6: 女 | Q6: 計 | R6: 男 | S6: 女 | T6: 計 | U6: 男 | V6: 女 | W6: 計 | X6: 男 | Y6: 女
A7: Locality | B7: Sub-Total | C7: Male | D7: Female | E7: Sub-Total | F7: Male | G7: Female | H7: Sub-Total | I7: Male | J7: Female | K7: Sub-Total | L7: Male | M7: Female | N7: Sub-Total | O7: Male | P7: Female | Q7: Sub-Total | R7: Male | S7: Female | T7: Sub-Total | U7: Male | V7: Female | W7: Sub-Total | X7: Male | Y7: Female
A8: 總計 Total | B8: 10676 | C8: 6022 | D8: 4654 | E8: 36 | F8: 28 | G8: 8 | H8: 1065 | I8: 658 | J8: 407 | K8: 9575 | L8: 5336 | M8: 4239 | N8: 27991 | O8: 14457 | P8: 13534 | Q8: 37 | R8: 30 | S8: 7 | T8: 2167 | U8: 1202 | V8: 965 | W8: 25787 | X8: 13225 | Y8: 12562
A9: 新北市 New Taipei City | B9: 475 | C9: 224 | D9: 251 | E9: 0 | F9: 0 | G9: 0 | H9: 27 | I9: 11 | J9: 16 | K9: 448 | L9: 213 | M9: 235 | N9: 1334 | O9: 628 | P9: 706 | Q9: 0 | R9: 0 | S9: 0 | T9: 63 | U9: 25 | V9: 38 | W9: 1271 | X9: 603 | Y9: 668
A10: 臺北市 Taipei City | B10: 394 | C10: 182 | D10: 212 | E10: 5 | F10: 3 | G10: 2 | H10: 54 | I10: 28 | J10: 26 | K10: 335 | L10: 151 | M10: 184 | N10: 1238 | O10: 591 | P10: 647 | Q10: 5 | R10: 3 | S10: 2 | T10: 109 | U10: 55 | V10: 54 | W10: 1124 | X10: 533 | Y10: 591
A11: 桃園市 Taoyuan City | B11: 1537 | C11: 892 | D11: 645 | E11: 12 | F11: 10 | G11: 2 | H11: 80 | I11: 50 | J11: 30 | K11: 1445 | L11: 832 | M11: 613 | N11: 4962 | O11: 2507 | P11: 2455 | Q11: 12 | R11: 11 | S11: 1 | T11: 208 | U11: 114 | V11: 94 | W11: 4742 | X11: 2382 | Y11: 2360
A12: 臺中市 Taichung City | B12: 771 | C12: 342 | D12: 429 | E12: 5 | F12: 4 | G12: 1 | H12: 199 | I12: 105 | J12: 94 | K12: 567 | L12: 233 | M12: 334 | N12: 2424 | O12: 1171 | P12: 1253 | Q12: 5 | R12: 4 | S12: 1 | T12: 511 | U12: 268 | V12: 243 | W12: 1908 | X12: 899 | Y12: 1009
A13: 臺南市 Tainan City | B13: 76 | C13: 32 | D13: 44 | E13: 0 | F13: 0 | G13: 0 | H13: 9 | I13: 3 | J13: 6 | K13: 67 | L13: 29 | M13: 38 | N13: 229 | O13: 109 | P13: 120 | Q13: 0 | R13: 0 | S13: 0 | T13: 24 | U13: 9 | V13: 15 | W13: 205 | X13: 100 | Y13: 105
A14: 高雄市 Kaohsiung City | B14: 473 | C14: 243 | D14: 230 | E14: 1 | F14: 1 | G14: 0 | H14: 135 | I14: 80 | J14: 55 | K14: 337 | L14: 162 | M14: 175 | N14: 1531 | O14: 740 | P14: 791 | Q14: 1 | R14: 1 | S14: 0 | T14: 306 | U14: 163 | V14: 143 | W14: 1224 | X14: 576 | Y14: 648
A15: 宜蘭縣 Yilan County | B15: 469 | C15: 275 | D15: 194 | E15: 0 | F15: 0 | G15: 0 | H15: 22 | I15: 13 | J15: 9 | K15: 447 | L15: 262 | M15: 185 | N15: 1278 | O15: 654 | P15: 624 | Q15: 0 | R15: 0 | S15: 0 | T15: 36 | U15: 21 | V15: 15 | W15: 1242 | X15: 633 | Y15: 609
A16: 新竹縣 Hsinchu County | B16: 358 | C16: 224 | D16: 134 | E16: 1 | F16: 1 | G16: 0 | H16: 33 | I16: 21 | J16: 12 | K16: 324 | L16: 202 | M16: 122 | N16: 1146 | O16: 567 | P16: 579 | Q16: 1 | R16: 1 | S16: 0 | T16: 86 | U16: 44 | V16: 42 | W16: 1059 | X16: 522 | Y16: 537
A17: 苗栗縣 Miaoli County | B17: 201 | C17: 122 | D17: 79 | E17: 0 | F17: 0 | G17: 0 | H17: 61 | I17: 34 | J17: 27 | K17: 140 | L17: 88 | M17: 52 | N17: 573 | O17: 277 | P17: 296 | Q17: 0 | R17: 0 | S17: 0 | T17: 144 | U17: 71 | V17: 73 | W17: 429 | X17: 206 | Y17: 223
A18: 彰化縣 Changhua County | B18: 77 | C18: 30 | D18: 47 | E18: 0 | F18: 0 | G18: 0 | H18: 0 | I18: 0 | J18: 0 | K18: 77 | L18: 30 | M18: 47 | N18: 204 | O18: 95 | P18: 109 | Q18: 0 | R18: 0 | S18: 0 | T18: 0 | U18: 0 | V18: 0 | W18: 204 | X18: 95 | Y18: 109
A19: 南投縣 Nantou County | B19: 276 | C19: 171 | D19: 105 | E19: 0 | F19: 0 | G19: 0 | H19: 5 | I19: 1 | J19: 4 | K19: 271 | L19: 170 | M19: 101 | N19: 778 | O19: 391 | P19: 387 | Q19: 0 | R19: 0 | S19: 0 | T19: 13 | U19: 5 | V19: 8 | W19: 765 | X19: 386 | Y19: 379
... A30: 連江縣 Lienchiang County | B30: 7 | C30: 4 | D30: 3 | E30: 0 | F30: 0 | G30: 0 | H30: 0 | I30: 0 | J30: 0 | K30: 7 | L30: 4 | M30: 3 | N30: 22 | O30: 6 | P30: 16 | Q30: 0 | R30: 0 | S30: 0 | T30: 0 | U30: 0 | V30: 0 | W30: 22 | X30: 6 | Y30: 16
A31: 資料來源：直轄市、縣﹝市﹞政府。
A32: Source : County and City Government.
A35: 中華民國114年第2季底, 2025 Q2
A36: 地區別 | B36: 原住民戶數(戶長性別) Indigenous Households | N36: 原住民人數 Indigenous Persons
B37: 總計 Grand Total | E37: 第1款(省、新北、臺中、臺南)、第0類(臺北)、第1類(高雄) Class 1 | H37: 第2款(省、新北、臺中、臺南)、第1、2類(臺北)、第2類(高雄) Class 2 | K37: 第3款(省、新北、臺中、臺南)、第3、4類(臺北、高雄) Class 3 | N37: 總計 Grand Total | Q37: 第1款(省、新北、臺中、臺南)、第0類(臺北)、第1類(高雄) Class 1 | T37: 第2款(省、新北、臺中、臺南)、第1、2類(臺北)、第2類(高雄) Class 2 | W37: 第3款(省、新北、臺中、臺南)、第3、4類(臺北、高雄) Class 3
B38: 計 | C38: 男 | D38: 女 | E38: 計 | F38: 男 | G38: 女 | H38: 計 | I38: 男 | J38: 女 | K38: 計 | L38: 男 | M38: 女 | N38: 計 | O38: 男 | P38: 女 | Q38: 計 | R38: 男 | S38: 女 | T38: 計 | U38: 男 | V38: 女 | W38: 計 | X38: 男 | Y38: 女
A39: Locality | B39: Sub-Total | C39: Male | D39: Female | E39: Sub-Total | F39: Male | G39: Female | H39: Sub-Total | I39: Male | J39: Female | K39: Sub-Total | L39: Male | M39: Female | N39: Sub-Total | O39: Male | P39: Female | Q39: Sub-Total | R39: Male | S39: Female | T39: Sub-Total | U39: Male | V39: Female | W39: Sub-Total | X39: Male | Y39: Female
A40: 總計 Total | B40: 10898 | C40: 6120 | D40: 4778 | E40: 35 | F40: 28 | G40: 7 | H40: 1068 | I40: 656 | J40: 412 | K40: 9795 | L40: 5436 | M40: 4359 | N40: 28561 | O40: 14752 | P40: 13809 | Q40: 36 | R40: 29 | S40: 7 | T40: 2164 | U40: 1197 | V40: 967 | W40: 26361 | X40: 13526 | Y40: 12835
A41: 新北市 New Taipei City | B41: 487 | C41: 228 | D41: 259 | E41: 0 | F41: 0 | G41: 0 | H41: 25 | I41: 10 | J41: 15 | K41: 462 | L41: 218 | M41: 244 | N41: 1358 | O41: 635 | P41: 723 | Q41: 0 | R41: 0 | S41: 0 | T41: 61 | U41: 24 | V41: 37 | W41: 1297 | X41: 611 | Y41: 686
A42: 臺北市 Taipei City | B42: 402 | C42: 186 | D42: 216 | E42: 5 | F42: 3 | G42: 2 | H42: 58 | I42: 32 | J42: 26 | K42: 339 | L42: 151 | M42: 188 | N42: 1264 | O42: 610 | P42: 654 | Q42: 5 | R42: 3 | S42: 2 | T42: 118 | U42: 60 | V42: 58 | W42: 1141 | X42: 547 | Y42: 594
A43: 桃園市 Taoyuan City | B43: 1571 | C43: 911 | D43: 660 | E43: 11 | F43: 10 | G43: 1 | H43: 84 | I43: 52 | J43: 32 | K43: 1476 | L43: 849 | M43: 627 | N43: 5072 | O43: 2560 | P43: 2512 | Q43: 11 | R43: 10 | S43: 1 | T43: 209 | U43: 117 | V43: 92 | W43: 4852 | X43: 2433 | Y43: 2419
A44: 臺中市 Taichung City | B44: 778 | C44: 345 | D44: 433 | E44: 5 | F44: 4 | G44: 1 | H44: 196 | I44: 103 | J44: 93 | K44: 577 | L44: 238 | M44: 339 | N44: 2452 | O44: 1192 | P44: 1260 | Q44: 5 | R44: 4 | S44: 1 | T44: 502 | U44: 261 | V44: 241 | W44: 1945 | X44: 927 | Y44: 1018
A45: 臺南市 Tainan City | B45: 79 | C45: 34 | D45: 45 | E45: 0 | F45: 0 | G45: 0 | H45: 8 | I45: 2 | J45: 6 | K45: 71 | L45: 32 | M45: 39 | N45: 236 | O45: 111 | P45: 125 | Q45: 0 | R45: 0 | S45: 0 | T45: 17 | U45: 5 | V45: 12 | W45: 219 | X45: 106 | Y45: 113
A46: 高雄市 Kaohsiung City | B46: 492 | C46: 251 | D46: 241 | E46: 1 | F46: 1 | G46: 0 | H46: 137 | I46: 82 | J46: 55 | K46: 354 | L46: 168 | M46: 186 | N46: 1586 | O46: 776 | P46: 810 | Q46: 1 | R46: 1 | S46: 0 | T46: 313 | U46: 169 | V46: 144 | W46: 1272 | X46: 606 | Y46: 666
A47: 宜蘭縣 Yilan County | B47: 472 | C47: 278 | D47: 194 | E47: 0 | F47: 0 | G47: 0 | H47: 23 | I47: 14 | J47: 9 | K47: 449 | L47: 264 | M47: 185 | N47: 1292 | O47: 661 | P47: 631 | Q47: 0 | R47: 0 | S47: 0 | T47: 37 | U47: 22 | V47: 15 | W47: 1255 | X47: 639 | Y47: 616
A48: 新竹縣 Hsinchu County | B48: 367 | C48: 225 | D48: 142 | E48: 1 | F48: 1 | G48: 0 | H48: 35 | I48: 20 | J48: 15 | K48: 331 | L48: 204 | M48: 127 | N48: 1168 | O48: 574 | P48: 594 | Q48: 1 | R48: 1 | S48: 0 | T48: 88 | U48: 43 | V48: 45 | W48: 1079 | X48: 530 | Y48: 549
A49: 苗栗縣 Miaoli County | B49: 201 | C49: 118 | D49: 83 | E49: 0 | F49: 0 | G49: 0 | H49: 59 | I49: 33 | J49: 26 | K49: 142 | L49: 85 | M49: 57 | N49: 571 | O49: 279 | P49: 292 | Q49: 0 | R49: 0 | S49: 0 | T49: 143 | U49: 71 | V49: 72 | W49: 428 | X49: 208 | Y49: 220
A50: 彰化縣 Changhua County | B50: 77 | C50: 33 | D50: 44 | E50: 0 | F50: 0 | G50: 0 | H50: 1 | I50: 0 | J50: 1 | K50: 76 | L50: 33 | M50: 43 | N50: 199 | O50: 94 | P50: 105 | Q50: 0 | R50: 0 | S50: 0 | T50: 1 | U50: 0 | V50: 1 | W50: 198 | X50: 94 | Y50: 104
A51: 南投縣 Nantou County | B51: 279 | C51: 175 | D51: 104 | E51: 0 | F51: 0 | G51: 0 | H51: 5 | I51: 1 | J51: 4 | K51: 274 | L51: 174 | M51: 100 | N51: 796 | O51: 405 | P51: 391 | Q51: 0 | R51: 0 | S51: 0 | T51: 13 | U51: 5 | V51: 8 | W51: 783 | X51: 400 | Y51: 383
... A62: 連江縣 Lienchiang County | B62: 7 | C62: 4 | D62: 3 | E62: 0 | F62: 0 | G62: 0 | H62: 0 | I62: 0 | J62: 0 | K62: 7 | L62: 4 | M62: 3 | N62: 23 | O62: 6 | P62: 17 | Q62: 0 | R62: 0 | S62: 0 | T62: 0 | U62: 0 | V62: 0 | W62: 23 | X62: 6 | Y62: 17
A63: 資料來源：直轄市、縣﹝市﹞政府。
A64: Source : County and City Government.
A67: 中華民國114年第3季底, 2025 Q3
A68: 地區別 | B68: 原住民戶數(戶長性別) Indigenous Households | N68: 原住民人數 Indigenous Persons
B69: 總計 Grand Total | E69: 第1款(省、新北、臺中、臺南)、第0類(臺北)、第1類(高雄) Class 1 | H69: 第2款(省、新北、臺中、臺南)、第1、2類(臺北)、第2類(高雄) Class 2 | K69: 第3款(省、新北、臺中、臺南)、第3、4類(臺北、高雄) Class 3 | N69: 總計 Grand Total | Q69: 第1款(省、新北、臺中、臺南)、第0類(臺北)、第1類(高雄) Class 1 | T69: 第2款(省、新北、臺中、臺南)、第1、2類(臺北)、第2類(高雄) Class 2 | W69: 第3款(省、新北、臺中、臺南)、第3、4類(臺北、高雄) Class 3
B70: 計 | C70: 男 | D70: 女 | E70: 計 | F70: 男 | G70: 女 | H70: 計 | I70: 男 | J70: 女 | K70: 計 | L70: 男 | M70: 女 | N70: 計 | O70: 男 | P70: 女 | Q70: 計 | R70: 男 | S70: 女 | T70: 計 | U70: 男 | V70: 女 | W70: 計 | X70: 男 | Y70: 女
A71: Locality | B71: Sub-Total | C71: Male | D71: Female | E71: Sub-Total | F71: Male | G71: Female | H71: Sub-Total | I71: Male | J71: Female | K71: Sub-Total | L71: Male | M71: Female | N71: Sub-Total | O71: Male | P71: Female | Q71: Sub-Total | R71: Male | S71: Female | T71: Sub-Total | U71: Male | V71: Female | W71: Sub-Total | X71: Male | Y71: Female
A72: 總計 Total | B72: 10905 | C72: 6129 | D72: 4776 | E72: 34 | F72: 27 | G72: 7 | H72: 1062 | I72: 655 | J72: 407 | K72: 9809 | L72: 5447 | M72: 4362 | N72: 28398 | O72: 14679 | P72: 13719 | Q72: 35 | R72: 28 | S72: 7 | T72: 2149 | U72: 1186 | V72: 963 | W72: 26214 | X72: 13465 | Y72: 12749
A73: 新北市 New Taipei City | B73: 495 | C73: 223 | D73: 272 | E73: 0 | F73: 0 | G73: 0 | H73: 27 | I73: 11 | J73: 16 | K73: 468 | L73: 212 | M73: 256 | N73: 1398 | O73: 651 | P73: 747 | Q73: 0 | R73: 0 | S73: 0 | T73: 66 | U73: 25 | V73: 41 | W73: 1332 | X73: 626 | Y73: 706
A74: 臺北市 Taipei City | B74: 391 | C74: 179 | D74: 212 | E74: 5 | F74: 3 | G74: 2 | H74: 56 | I74: 30 | J74: 26 | K74: 330 | L74: 146 | M74: 184 | N74: 1234 | O74: 595 | P74: 639 | Q74: 5 | R74: 3 | S74: 2 | T74: 116 | U74: 58 | V74: 58 | W74: 1113 | X74: 534 | Y74: 579
A75: 桃園市 Taoyuan City | B75: 1572 | C75: 911 | D75: 661 | E75: 10 | F75: 9 | G75: 1 | H75: 83 | I75: 52 | J75: 31 | K75: 1479 | L75: 850 | M75: 629 | N75: 5036 | O75: 2544 | P75: 2492 | Q75: 10 | R75: 9 | S75: 1 | T75: 208 | U75: 117 | V75: 91 | W75: 4818 | X75: 2418 | Y75: 2400
A76: 臺中市 Taichung City | B76: 771 | C76: 347 | D76: 424 | E76: 5 | F76: 4 | G76: 1 | H76: 193 | I76: 103 | J76: 90 | K76: 573 | L76: 240 | M76: 333 | N76: 2411 | O76: 1172 | P76: 1239 | Q76: 5 | R76: 4 | S76: 1 | T76: 494 | U76: 256 | V76: 238 | W76: 1912 | X76: 912 | Y76: 1000
A77: 臺南市 Tainan City | B77: 77 | C77: 33 | D77: 44 | E77: 0 | F77: 0 | G77: 0 | H77: 7 | I77: 2 | J77: 5 | K77: 70 | L77: 31 | M77: 39 | N77: 228 | O77: 110 | P77: 118 | Q77: 0 | R77: 0 | S77: 0 | T77: 17 | U77: 5 | V77: 12 | W77: 211 | X77: 105 | Y77: 106
A78: 高雄市 Kaohsiung City | B78: 507 | C78: 262 | D78: 245 | E78: 1 | F78: 1 | G78: 0 | H78: 144 | I78: 86 | J78: 58 | K78: 362 | L78: 175 | M78: 187 | N78: 1635 | O78: 801 | P78: 834 | Q78: 1 | R78: 1 | S78: 0 | T78: 321 | U78: 171 | V78: 150 | W78: 1313 | X78: 629 | Y78: 684
A79: 宜蘭縣 Yilan County | B79: 462 | C79: 275 | D79: 187 | E79: 0 | F79: 0 | G79: 0 | H79: 23 | I79: 14 | J79: 9 | K79: 439 | L79: 261 | M79: 178 | N79: 1235 | O79: 642 | P79: 593 | Q79: 0 | R79: 0 | S79: 0 | T79: 37 | U79: 22 | V79: 15 | W79: 1198 | X79: 620 | Y79: 578
A80: 新竹縣 Hsinchu County | B80: 378 | C80: 233 | D80: 145 | E80: 1 | F80: 1 | G80: 0 | H80: 34 | I80: 20 | J80: 14 | K80: 343 | L80: 212 | M80: 131 | N80: 1196 | O80: 588 | P80: 608 | Q80: 1 | R80: 1 | S80: 0 | T80: 85 | U80: 42 | V80: 43 | W80: 1110 | X80: 545 | Y80: 565
A81: 苗栗縣 Miaoli County | B81: 201 | C81: 120 | D81: 81 | E81: 0 | F81: 0 | G81: 0 | H81: 56 | I81: 30 | J81: 26 | K81: 145 | L81: 90 | M81: 55 | N81: 571 | O81: 278 | P81: 293 | Q81: 0 | R81: 0 | S81: 0 | T81: 136 | U81: 66 | V81: 70 | W81: 435 | X81: 212 | Y81: 223
A82: 彰化縣 Changhua County | B82: 79 | C82: 32 | D82: 47 | E82: 0 | F82: 0 | G82: 0 | H82: 1 | I82: 0 | J82: 1 | K82: 78 | L82: 32 | M82: 46 | N82: 201 | O82: 93 | P82: 108 | Q82: 0 | R82: 0 | S82: 0 | T82: 1 | U82: 0 | V82: 1 | W82: 200 | X82: 93 | Y82: 107
A83: 南投縣 Nantou County | B83: 278 | C83: 171 | D83: 107 | E83: 0 | F83: 0 | G83: 0 | H83: 5 | I83: 1 | J83: 4 | K83: 273 | L83: 170 | M83: 103 | N83: 782 | O83: 401 | P83: 381 | Q83: 0 | R83: 0 | S83: 0 | T83: 13 | U83: 5 | V83: 8 | W83: 769 | X83: 396 | Y83: 373
... A94: 連江縣 Lienchiang County | B94: 5 | C94: 3 | D94: 2 | E94: 0 | F94: 0 | G94: 0 | H94: 0 | I94: 0 | J94: 0 | K94: 5 | L94: 3 | M94: 2 | N94: 13 | O94: 5 | P94: 8 | Q94: 0 | R94: 0 | S94: 0 | T94: 0 | U94: 0 | V94: 0 | W94: 13 | X94: 5 | Y94: 8
A95: 資料來源：直轄市、縣﹝市﹞政府。
A96: Source : County and City Government.
A99: 中華民國114年第4季底, 2025 Q4
A100: 地區別 | B100: 原住民戶數(戶長性別) Indigenous Households | N100: 原住民人數 Indigenous Persons
B101: 總計 Grand Total | E101: 第1款(省、新北、臺中、臺南)、第0類(臺北)、第1類(高雄) Class 1 | H101: 第2款(省、新北、臺中、臺南)、第1、2類(臺北)、第2類(高雄) Class 2 | K101: 第3款(省、新北、臺中、臺南)、第3、4類(臺北、高雄) Class 3 | N101: 總計 Grand Total | Q101: 第1款(省、新北、臺中、臺南)、第0類(臺北)、第1類(高雄) Class 1 | T101: 第2款(省、新北、臺中、臺南)、第1、2類(臺北)、第2類(高雄) Class 2 | W101: 第3款(省、新北、臺中、臺南)、第3、4類(臺北、高雄) Class 3
B102: 計 | C102: 男 | D102: 女 | E102: 計 | F102: 男 | G102: 女 | H102: 計 | I102: 男 | J102: 女 | K102: 計 | L102: 男 | M102: 女 | N102: 計 | O102: 男 | P102: 女 | Q102: 計 | R102: 男 | S102: 女 | T102: 計 | U102: 男 | V102: 女 | W102: 計 | X102: 男 | Y102: 女
A103: Locality | B103: Sub-Total | C103: Male | D103: Female | E103: Sub-Total | F103: Male | G103: Female | H103: Sub-Total | I103: Male | J103: Female | K103: Sub-Total | L103: Male | M103: Female | N103: Sub-Total | O103: Male | P103: Female | Q103: Sub-Total | R103: Male | S103: Female | T103: Sub-Total | U103: Male | V103: Female | W103: Sub-Total | X103: Male | Y103: Female
A104: 總計 Total | B104: 11100 | C104: 6193 | D104: 4907 | E104: 34 | F104: 27 | G104: 7 | H104: 1062 | I104: 660 | J104: 402 | K104: 10004 | L104: 5506 | M104: 4498 | N104: 28854 | O104: 14845 | P104: 14009 | Q104: 35 | R104: 28 | S104: 7 | T104: 2135 | U104: 1174 | V104: 961 | W104: 26684 | X104: 13643 | Y104: 13041
A105: 新北市 New Taipei City | B105: 514 | C105: 232 | D105: 282 | E105: 0 | F105: 0 | G105: 0 | H105: 29 | I105: 12 | J105: 17 | K105: 485 | L105: 220 | M105: 265 | N105: 1433 | O105: 669 | P105: 764 | Q105: 0 | R105: 0 | S105: 0 | T105: 74 | U105: 29 | V105: 45 | W105: 1359 | X105: 640 | Y105: 719
A106: 臺北市 Taipei City | B106: 394 | C106: 174 | D106: 220 | E106: 5 | F106: 3 | G106: 2 | H106: 56 | I106: 29 | J106: 27 | K106: 333 | L106: 142 | M106: 191 | N106: 1240 | O106: 587 | P106: 653 | Q106: 5 | R106: 3 | S106: 2 | T106: 116 | U106: 57 | V106: 59 | W106: 1119 | X106: 527 | Y106: 592
A107: 桃園市 Taoyuan City | B107: 1598 | C107: 918 | D107: 680 | E107: 10 | F107: 9 | G107: 1 | H107: 84 | I107: 53 | J107: 31 | K107: 1504 | L107: 856 | M107: 648 | N107: 5111 | O107: 2566 | P107: 2545 | Q107: 10 | R107: 9 | S107: 1 | T107: 204 | U107: 117 | V107: 87 | W107: 4897 | X107: 2440 | Y107: 2457
A108: 臺中市 Taichung City | B108: 777 | C108: 350 | D108: 427 | E108: 5 | F108: 4 | G108: 1 | H108: 190 | I108: 101 | J108: 89 | K108: 582 | L108: 245 | M108: 337 | N108: 2412 | O108: 1168 | P108: 1244 | Q108: 5 | R108: 4 | S108: 1 | T108: 481 | U108: 253 | V108: 228 | W108: 1926 | X108: 911 | Y108: 1015
A109: 臺南市 Tainan City | B109: 71 | C109: 31 | D109: 40 | E109: 0 | F109: 0 | G109: 0 | H109: 7 | I109: 2 | J109: 5 | K109: 64 | L109: 29 | M109: 35 | N109: 196 | O109: 93 | P109: 103 | Q109: 0 | R109: 0 | S109: 0 | T109: 17 | U109: 5 | V109: 12 | W109: 179 | X109: 88 | Y109: 91
A110: 高雄市 Kaohsiung City | B110: 529 | C110: 273 | D110: 256 | E110: 1 | F110: 1 | G110: 0 | H110: 154 | I110: 92 | J110: 62 | K110: 374 | L110: 180 | M110: 194 | N110: 1687 | O110: 819 | P110: 868 | Q110: 1 | R110: 1 | S110: 0 | T110: 344 | U110: 173 | V110: 171 | W110: 1342 | X110: 645 | Y110: 697
A111: 宜蘭縣 Yilan County | B111: 476 | C111: 283 | D111: 193 | E111: 0 | F111: 0 | G111: 0 | H111: 22 | I111: 13 | J111: 9 | K111: 454 | L111: 270 | M111: 184 | N111: 1275 | O111: 661 | P111: 614 | Q111: 0 | R111: 0 | S111: 0 | T111: 36 | U111: 21 | V111: 15 | W111: 1239 | X111: 640 | Y111: 599
A112: 新竹縣 Hsinchu County | B112: 386 | C112: 237 | D112: 149 | E112: 1 | F112: 1 | G112: 0 | H112: 35 | I112: 20 | J112: 15 | K112: 350 | L112: 216 | M112: 134 | N112: 1196 | O112: 587 | P112: 609 | Q112: 1 | R112: 1 | S112: 0 | T112: 86 | U112: 41 | V112: 45 | W112: 1109 | X112: 545 | Y112: 564
A113: 苗栗縣 Miaoli County | B113: 204 | C113: 122 | D113: 82 | E113: 0 | F113: 0 | G113: 0 | H113: 56 | I113: 30 | J113: 26 | K113: 148 | L113: 92 | M113: 56 | N113: 577 | O113: 284 | P113: 293 | Q113: 0 | R113: 0 | S113: 0 | T113: 136 | U113: 66 | V113: 70 | W113: 441 | X113: 218 | Y113: 223
A114: 彰化縣 Changhua County | B114: 83 | C114: 35 | D114: 48 | E114: 0 | F114: 0 | G114: 0 | H114: 1 | I114: 0 | J114: 1 | K114: 82 | L114: 35 | M114: 47 | N114: 213 | O114: 98 | P114: 115 | Q114: 0 | R114: 0 | S114: 0 | T114: 1 | U114: 0 | V114: 1 | W114: 212 | X114: 98 | Y114: 114
A115: 南投縣 Nantou County | B115: 280 | C115: 170 | D115: 110 | E115: 0 | F115: 0 | G115: 0 | H115: 5 | I115: 1 | J115: 4 | K115: 275 | L115: 169 | M115: 106 | N115: 776 | O115: 394 | P115: 382 | Q115: 0 | R115: 0 | S115: 0 | T115: 13 | U115: 5 | V115: 8 | W115: 763 | X115: 389 | Y115: 374
... A126: 連江縣 Lienchiang County | B126: 5 | C126: 3 | D126: 2 | E126: 0 | F126: 0 | G126: 0 | H126: 0 | I126: 0 | J126: 0 | K126: 5 | L126: 3 | M126: 2 | N126: 13 | O126: 5 | P126: 8 | Q126: 0 | R126: 0 | S126: 0 | T126: 0 | U126: 0 | V126: 0 | W126: 13 | X126: 5 | Y126: 8
A127: 資料來源：直轄市、縣﹝市﹞政府。
A128: Source : County and City Government.

Sheet 2024
A2: 原住民低收入戶戶數及人數 Number and Population of Indigenous Low-Income Households
A3: 中華民國113年第1季底, 2024 Q1
A4: 地區別 | B4: 原住民戶數-按戶長性別分(戶) Indigenous Households | N4: 原住民人數(人) Indigenous Persons
B5: 總計 Grand Total | E5: 第1款(省、新北、臺中、臺南)、第0類(臺北)、第1類(高雄) Class 1 | H5: 第2款(省、新北、臺中、臺南)、第1、2類(臺北)、第2類(高雄) Class 2 | K5: 第3款(省、新北、臺中、臺南)、第3、4類(臺北、高雄) Class 3 | N5: 總計 Grand Total | Q5: 第1款(省、新北、臺中、臺南)、第0類(臺北)、第1類(高雄) Class 1 | T5: 第2款(省、新北、臺中、臺南)、第1、2類(臺北)、第2類(高雄) Class 2 | W5: 第3款(省、新北、臺中、臺南)、第3、4類(臺北、高雄) Class 3
B6: 計 | C6: 男 | D6: 女 | E6: 計 | F6: 男 | G6: 女 | H6: 計 | I6: 男 | J6: 女 | K6: 計 | L6: 男 | M6: 女 | N6: 計 | O6: 男 | P6: 女 | Q6: 計 | R6: 男 | S6: 女 | T6: 計 | U6: 男 | V6: 女 | W6: 計 | X6: 男 | Y6: 女
A7: Locality | B7: Sub-Total | C7: Male | D7: Female | E7: Sub-Total | F7: Male | G7: Female | H7: Sub-Total | I7: Male | J7: Female | K7: Sub-Total | L7: Male | M7: Female | N7: Sub-Total | O7: Male | P7: Female | Q7: Sub-Total | R7: Male | S7: Female | T7: Sub-Total | U7: Male | V7: Female | W7: Sub-Total | X7: Male | Y7: Female
A8: 總計 Total | B8: 10439 | C8: 5948 | D8: 4491 | E8: 33 | F8: 28 | G8: 5 | H8: 1087 | I8: 689 | J8: 398 | K8: 9319 | L8: 5231 | M8: 4088 | N8: 27721 | O8: 14286 | P8: 13435 | Q8: 34 | R8: 28 | S8: 6 | T8: 2281 | U8: 1265 | V8: 1016 | W8: 25406 | X8: 12993 | Y8: 12413
A9: 新北市 New Taipei City | B9: 458 | C9: 214 | D9: 244 | E9: 0 | F9: 0 | G9: 0 | H9: 23 | I9: 10 | J9: 13 | K9: 435 | L9: 204 | M9: 231 | N9: 1348 | O9: 627 | P9: 721 | Q9: 0 | R9: 0 | S9: 0 | T9: 60 | U9: 24 | V9: 36 | W9: 1288 | X9: 603 | Y9: 685
A10: 臺北市 Taipei City | B10: 474 | C10: 212 | D10: 262 | E10: 7 | F10: 5 | G10: 2 | H10: 67 | I10: 28 | J10: 39 | K10: 400 | L10: 179 | M10: 221 | N10: 1273 | O10: 594 | P10: 679 | Q10: 8 | R10: 5 | S10: 3 | T10: 126 | U10: 57 | V10: 69 | W10: 1139 | X10: 532 | Y10: 607
A11: 桃園市 Taoyuan City | B11: 1550 | C11: 899 | D11: 651 | E11: 7 | F11: 7 | G11: 0 | H11: 103 | I11: 64 | J11: 39 | K11: 1440 | L11: 828 | M11: 612 | N11: 5104 | O11: 2579 | P11: 2525 | Q11: 7 | R11: 7 | S11: 0 | T11: 296 | U11: 163 | V11: 133 | W11: 4801 | X11: 2409 | Y11: 2392
A12: 臺中市 Taichung City | B12: 738 | C12: 318 | D12: 420 | E12: 4 | F12: 4 | G12: 0 | H12: 168 | I12: 90 | J12: 78 | K12: 566 | L12: 224 | M12: 342 | N12: 2380 | O12: 1134 | P12: 1246 | Q12: 4 | R12: 4 | S12: 0 | T12: 485 | U12: 244 | V12: 241 | W12: 1891 | X12: 886 | Y12: 1005
A13: 臺南市 Tainan City | B13: 66 | C13: 30 | D13: 36 | E13: 0 | F13: 0 | G13: 0 | H13: 10 | I13: 4 | J13: 6 | K13: 56 | L13: 26 | M13: 30 | N13: 178 | O13: 79 | P13: 99 | Q13: 0 | R13: 0 | S13: 0 | T13: 25 | U13: 10 | V13: 15 | W13: 153 | X13: 69 | Y13: 84
A14: 高雄市 Kaohsiung City | B14: 449 | C14: 231 | D14: 218 | E14: 2 | F14: 1 | G14: 1 | H14: 136 | I14: 80 | J14: 56 | K14: 311 | L14: 150 | M14: 161 | N14: 1477 | O14: 717 | P14: 760 | Q14: 2 | R14: 1 | S14: 1 | T14: 360 | U14: 188 | V14: 172 | W14: 1115 | X14: 528 | Y14: 587
A15: 宜蘭縣 Yilan County | B15: 459 | C15: 279 | D15: 180 | E15: 0 | F15: 0 | G15: 0 | H15: 18 | I15: 14 | J15: 4 | K15: 441 | L15: 265 | M15: 176 | N15: 1252 | O15: 643 | P15: 609 | Q15: 0 | R15: 0 | S15: 0 | T15: 25 | U15: 17 | V15: 8 | W15: 1227 | X15: 626 | Y15: 601
A16: 新竹縣 Hsinchu County | B16: 359 | C16: 220 | D16: 139 | E16: 1 | F16: 1 | G16: 0 | H16: 33 | I16: 21 | J16: 12 | K16: 325 | L16: 198 | M16: 127 | N16: 1168 | O16: 580 | P16: 588 | Q16: 1 | R16: 1 | S16: 0 | T16: 71 | U16: 37 | V16: 34 | W16: 1096 | X16: 542 | Y16: 554
A17: 苗栗縣 Miaoli County | B17: 186 | C17: 117 | D17: 69 | E17: 0 | F17: 0 | G17: 0 | H17: 66 | I17: 43 | J17: 23 | K17: 120 | L17: 74 | M17: 46 | N17: 543 | O17: 258 | P17: 285 | Q17: 0 | R17: 0 | S17: 0 | T17: 158 | U17: 88 | V17: 70 | W17: 385 | X17: 170 | Y17: 215
A18: 彰化縣 Changhua County | B18: 70 | C18: 30 | D18: 40 | E18: 0 | F18: 0 | G18: 0 | H18: 0 | I18: 0 | J18: 0 | K18: 70 | L18: 30 | M18: 40 | N18: 190 | O18: 88 | P18: 102 | Q18: 0 | R18: 0 | S18: 0 | T18: 0 | U18: 0 | V18: 0 | W18: 190 | X18: 88 | Y18: 102
A19: 南投縣 Nantou County | B19: 298 | C19: 186 | D19: 112 | E19: 0 | F19: 0 | G19: 0 | H19: 6 | I19: 2 | J19: 4 | K19: 292 | L19: 184 | M19: 108 | N19: 879 | O19: 437 | P19: 442 | Q19: 0 | R19: 0 | S19: 0 | T19: 14 | U19: 6 | V19: 8 | W19: 865 | X19: 431 | Y19: 434
... A30: 連江縣 Lienchiang County | B30: 7 | C30: 4 | D30: 3 | E30: 0 | F30: 0 | G30: 0 | H30: 0 | I30: 0 | J30: 0 | K30: 7 | L30: 4 | M30: 3 | N30: 19 | O30: 5 | P30: 14 | Q30: 0 | R30: 0 | S30: 0 | T30: 0 | U30: 0 | V30: 0 | W30: 19 | X30: 5 | Y30: 14
A31: 資料來源：直轄市、縣﹝市﹞政府。
A32: Source : County and City Government.
A35: 中華民國113年第2季底, 2024 Q2
A36: 地區別 | B36: 原住民戶數(戶長性別) Indigenous Households | N36: 原住民人數 Indigenous Persons
B37: 總計 Grand Total | E37: 第1款(省、新北、臺中、臺南)、第0類(臺北)、第1類(高雄) Class 1 | H37: 第2款(省、新北、臺中、臺南)、第1、2類(臺北)、第2類(高雄) Class 2 | K37: 第3款(省、新北、臺中、臺南)、第3、4類(臺北、高雄) Class 3 | N37: 總計 Grand Total | Q37: 第1款(省、新北、臺中、臺南)、第0類(臺北)、第1類(高雄) Class 1 | T37: 第2款(省、新北、臺中、臺南)、第1、2類(臺北)、第2類(高雄) Class 2 | W37: 第3款(省、新北、臺中、臺南)、第3、4類(臺北、高雄) Class 3
B38: 計 | C38: 男 | D38: 女 | E38: 計 | F38: 男 | G38: 女 | H38: 計 | I38: 男 | J38: 女 | K38: 計 | L38: 男 | M38: 女 | N38: 計 | O38: 男 | P38: 女 | Q38: 計 | R38: 男 | S38: 女 | T38: 計 | U38: 男 | V38: 女 | W38: 計 | X38: 男 | Y38: 女
A39: Locality | B39: Sub-Total | C39: Male | D39: Female | E39: Sub-Total | F39: Male | G39: Female | H39: Sub-Total | I39: Male | J39: Female | K39: Sub-Total | L39: Male | M39: Female | N39: Sub-Total | O39: Male | P39: Female | Q39: Sub-Total | R39: Male | S39: Female | T39: Sub-Total | U39: Male | V39: Female | W39: Sub-Total | X39: Male | Y39: Female
A40: 總計 Total | B40: 10632 | C40: 6030 | D40: 4602 | E40: 30 | F40: 25 | G40: 5 | H40: 1080 | I40: 685 | J40: 395 | K40: 9522 | L40: 5320 | M40: 4202 | N40: 28195 | O40: 14542 | P40: 13653 | Q40: 30 | R40: 25 | S40: 5 | T40: 2286 | U40: 1268 | V40: 1018 | W40: 25879 | X40: 13249 | Y40: 12630
A41: 新北市 New Taipei City | B41: 477 | C41: 218 | D41: 259 | E41: 0 | F41: 0 | G41: 0 | H41: 25 | I41: 10 | J41: 15 | K41: 452 | L41: 208 | M41: 244 | N41: 1388 | O41: 646 | P41: 742 | Q41: 0 | R41: 0 | S41: 0 | T41: 62 | U41: 24 | V41: 38 | W41: 1326 | X41: 622 | Y41: 704
A42: 臺北市 Taipei City | B42: 479 | C42: 213 | D42: 266 | E42: 6 | F42: 4 | G42: 2 | H42: 65 | I42: 28 | J42: 37 | K42: 408 | L42: 181 | M42: 227 | N42: 1289 | O42: 603 | P42: 686 | Q42: 6 | R42: 4 | S42: 2 | T42: 122 | U42: 56 | V42: 66 | W42: 1161 | X42: 543 | Y42: 618
A43: 桃園市 Taoyuan City | B43: 1589 | C43: 921 | D43: 668 | E43: 7 | F43: 7 | G43: 0 | H43: 99 | I43: 61 | J43: 38 | K43: 1483 | L43: 853 | M43: 630 | N43: 5209 | O43: 2633 | P43: 2576 | Q43: 7 | R43: 7 | S43: 0 | T43: 287 | U43: 159 | V43: 128 | W43: 4915 | X43: 2467 | Y43: 2448
A44: 臺中市 Taichung City | B44: 749 | C44: 320 | D44: 429 | E44: 4 | F44: 4 | G44: 0 | H44: 179 | I44: 96 | J44: 83 | K44: 566 | L44: 220 | M44: 346 | N44: 2406 | O44: 1143 | P44: 1263 | Q44: 4 | R44: 4 | S44: 0 | T44: 503 | U44: 253 | V44: 250 | W44: 1899 | X44: 886 | Y44: 1013
A45: 臺南市 Tainan City | B45: 67 | C45: 30 | D45: 37 | E45: 0 | F45: 0 | G45: 0 | H45: 10 | I45: 4 | J45: 6 | K45: 57 | L45: 26 | M45: 31 | N45: 187 | O45: 83 | P45: 104 | Q45: 0 | R45: 0 | S45: 0 | T45: 25 | U45: 10 | V45: 15 | W45: 162 | X45: 73 | Y45: 89
A46: 高雄市 Kaohsiung City | B46: 460 | C46: 234 | D46: 226 | E46: 2 | F46: 1 | G46: 1 | H46: 134 | I46: 78 | J46: 56 | K46: 324 | L46: 155 | M46: 169 | N46: 1515 | O46: 729 | P46: 786 | Q46: 2 | R46: 1 | S46: 1 | T46: 368 | U46: 191 | V46: 177 | W46: 1145 | X46: 537 | Y46: 608
A47: 宜蘭縣 Yilan County | B47: 467 | C47: 285 | D47: 182 | E47: 0 | F47: 0 | G47: 0 | H47: 18 | I47: 13 | J47: 5 | K47: 449 | L47: 272 | M47: 177 | N47: 1265 | O47: 656 | P47: 609 | Q47: 0 | R47: 0 | S47: 0 | T47: 31 | U47: 20 | V47: 11 | W47: 1234 | X47: 636 | Y47: 598
A48: 新竹縣 Hsinchu County | B48: 367 | C48: 228 | D48: 139 | E48: 1 | F48: 1 | G48: 0 | H48: 31 | I48: 21 | J48: 10 | K48: 335 | L48: 206 | M48: 129 | N48: 1194 | O48: 599 | P48: 595 | Q48: 1 | R48: 1 | S48: 0 | T48: 68 | U48: 36 | V48: 32 | W48: 1125 | X48: 562 | Y48: 563
A49: 苗栗縣 Miaoli County | B49: 189 | C49: 118 | D49: 71 | E49: 0 | F49: 0 | G49: 0 | H49: 66 | I49: 44 | J49: 22 | K49: 123 | L49: 74 | M49: 49 | N49: 561 | O49: 269 | P49: 292 | Q49: 0 | R49: 0 | S49: 0 | T49: 156 | U49: 88 | V49: 68 | W49: 405 | X49: 181 | Y49: 224
A50: 彰化縣 Changhua County | B50: 70 | C50: 30 | D50: 40 | E50: 0 | F50: 0 | G50: 0 | H50: 0 | I50: 0 | J50: 0 | K50: 70 | L50: 30 | M50: 40 | N50: 196 | O50: 92 | P50: 104 | Q50: 0 | R50: 0 | S50: 0 | T50: 0 | U50: 0 | V50: 0 | W50: 196 | X50: 92 | Y50: 104
A51: 南投縣 Nantou County | B51: 302 | C51: 185 | D51: 117 | E51: 0 | F51: 0 | G51: 0 | H51: 6 | I51: 2 | J51: 4 | K51: 296 | L51: 183 | M51: 113 | N51: 893 | O51: 444 | P51: 449 | Q51: 0 | R51: 0 | S51: 0 | T51: 14 | U51: 6 | V51: 8 | W51: 879 | X51: 438 | Y51: 441
... A62: 連江縣 Lienchiang County | B62: 7 | C62: 4 | D62: 3 | E62: 0 | F62: 0 | G62: 0 | H62: 0 | I62: 0 | J62: 0 | K62: 7 | L62: 4 | M62: 3 | N62: 19 | O62: 5 | P62: 14 | Q62: 0 | R62: 0 | S62: 0 | T62: 0 | U62: 0 | V62: 0 | W62: 19 | X62: 5 | Y62: 14
A63: 資料來源：直轄市、縣﹝市﹞政府。
A64: Source : County and City Government.
A67: 中華民國113年第3季底, 2024 Q3
A68: 地區別 | B68: 原住民戶數(戶長性別) Indigenous Households | N68: 原住民人數 Indigenous Persons
B69: 總計 Grand Total | E69: 第1款(省、新北、臺中、臺南)、第0類(臺北)、第1類(高雄) Class 1 | H69: 第2款(省、新北、臺中、臺南)、第1、2類(臺北)、第2類(高雄) Class 2 | K69: 第3款(省、新北、臺中、臺南)、第3、4類(臺北、高雄) Class 3 | N69: 總計 Grand Total | Q69: 第1款(省、新北、臺中、臺南)、第0類(臺北)、第1類(高雄) Class 1 | T69: 第2款(省、新北、臺中、臺南)、第1、2類(臺北)、第2類(高雄) Class 2 | W69: 第3款(省、新北、臺中、臺南)、第3、4類(臺北、高雄) Class 3
B70: 計 | C70: 男 | D70: 女 | E70: 計 | F70: 男 | G70: 女 | H70: 計 | I70: 男 | J70: 女 | K70: 計 | L70: 男 | M70: 女 | N70: 計 | O70: 男 | P70: 女 | Q70: 計 | R70: 男 | S70: 女 | T70: 計 | U70: 男 | V70: 女 | W70: 計 | X70: 男 | Y70: 女
A71: Locality | B71: Sub-Total | C71: Male | D71: Female | E71: Sub-Total | F71: Male | G71: Female | H71: Sub-Total | I71: Male | J71: Female | K71: Sub-Total | L71: Male | M71: Female | N71: Sub-Total | O71: Male | P71: Female | Q71: Sub-Total | R71: Male | S71: Female | T71: Sub-Total | U71: Male | V71: Female | W71: Sub-Total | X71: Male | Y71: Female
A72: 總計 Total | B72: 10634 | C72: 6038 | D72: 4596 | E72: 30 | F72: 25 | G72: 5 | H72: 1069 | I72: 674 | J72: 395 | K72: 9535 | L72: 5339 | M72: 4196 | N72: 27998 | O72: 14438 | P72: 13560 | Q72: 30 | R72: 25 | S72: 5 | T72: 2257 | U72: 1247 | V72: 1010 | W72: 25711 | X72: 13166 | Y72: 12545
A73: 新北市 New Taipei City | B73: 490 | C73: 224 | D73: 266 | E73: 0 | F73: 0 | G73: 0 | H73: 25 | I73: 9 | J73: 16 | K73: 465 | L73: 215 | M73: 250 | N73: 1422 | O73: 665 | P73: 757 | Q73: 0 | R73: 0 | S73: 0 | T73: 66 | U73: 26 | V73: 40 | W73: 1356 | X73: 639 | Y73: 717
A74: 臺北市 Taipei City | B74: 487 | C74: 219 | D74: 268 | E74: 6 | F74: 4 | G74: 2 | H74: 64 | I74: 26 | J74: 38 | K74: 417 | L74: 189 | M74: 228 | N74: 1302 | O74: 607 | P74: 695 | Q74: 6 | R74: 4 | S74: 2 | T74: 120 | U74: 53 | V74: 67 | W74: 1176 | X74: 550 | Y74: 626
A75: 桃園市 Taoyuan City | B75: 1594 | C75: 933 | D75: 661 | E75: 7 | F75: 7 | G75: 0 | H75: 96 | I75: 60 | J75: 36 | K75: 1491 | L75: 866 | M75: 625 | N75: 5192 | O75: 2628 | P75: 2564 | Q75: 7 | R75: 7 | S75: 0 | T75: 264 | U75: 146 | V75: 118 | W75: 4921 | X75: 2475 | Y75: 2446
A76: 臺中市 Taichung City | B76: 748 | C76: 327 | D76: 421 | E76: 4 | F76: 4 | G76: 0 | H76: 178 | I76: 97 | J76: 81 | K76: 566 | L76: 226 | M76: 340 | N76: 2370 | O76: 1127 | P76: 1243 | Q76: 4 | R76: 4 | S76: 0 | T76: 499 | U76: 254 | V76: 245 | W76: 1867 | X76: 869 | Y76: 998
A77: 臺南市 Tainan City | B77: 67 | C77: 30 | D77: 37 | E77: 0 | F77: 0 | G77: 0 | H77: 10 | I77: 4 | J77: 6 | K77: 57 | L77: 26 | M77: 31 | N77: 187 | O77: 83 | P77: 104 | Q77: 0 | R77: 0 | S77: 0 | T77: 25 | U77: 10 | V77: 15 | W77: 162 | X77: 73 | Y77: 89
A78: 高雄市 Kaohsiung City | B78: 458 | C78: 234 | D78: 224 | E78: 2 | F78: 1 | G78: 1 | H78: 129 | I78: 75 | J78: 54 | K78: 327 | L78: 158 | M78: 169 | N78: 1478 | O78: 708 | P78: 770 | Q78: 2 | R78: 1 | S78: 1 | T78: 336 | U78: 175 | V78: 161 | W78: 1140 | X78: 532 | Y78: 608
A79: 宜蘭縣 Yilan County | B79: 459 | C79: 279 | D79: 180 | E79: 0 | F79: 0 | G79: 0 | H79: 19 | I79: 12 | J79: 7 | K79: 440 | L79: 267 | M79: 173 | N79: 1229 | O79: 637 | P79: 592 | Q79: 0 | R79: 0 | S79: 0 | T79: 32 | U79: 19 | V79: 13 | W79: 1197 | X79: 618 | Y79: 579
A80: 新竹縣 Hsinchu County | B80: 377 | C80: 236 | D80: 141 | E80: 1 | F80: 1 | G80: 0 | H80: 32 | I80: 20 | J80: 12 | K80: 344 | L80: 215 | M80: 129 | N80: 1217 | O80: 606 | P80: 611 | Q80: 1 | R80: 1 | S80: 0 | T80: 74 | U80: 39 | V80: 35 | W80: 1142 | X80: 566 | Y80: 576
A81: 苗栗縣 Miaoli County | B81: 193 | C81: 118 | D81: 75 | E81: 0 | F81: 0 | G81: 0 | H81: 67 | I81: 44 | J81: 23 | K81: 126 | L81: 74 | M81: 52 | N81: 563 | O81: 265 | P81: 298 | Q81: 0 | R81: 0 | S81: 0 | T81: 156 | U81: 86 | V81: 70 | W81: 407 | X81: 179 | Y81: 228
A82: 彰化縣 Changhua County | B82: 71 | C82: 30 | D82: 41 | E82: 0 | F82: 0 | G82: 0 | H82: 0 | I82: 0 | J82: 0 | K82: 71 | L82: 30 | M82: 41 | N82: 199 | O82: 93 | P82: 106 | Q82: 0 | R82: 0 | S82: 0 | T82: 0 | U82: 0 | V82: 0 | W82: 199 | X82: 93 | Y82: 106
A83: 南投縣 Nantou County | B83: 302 | C83: 185 | D83: 117 | E83: 0 | F83: 0 | G83: 0 | H83: 5 | I83: 1 | J83: 4 | K83: 297 | L83: 184 | M83: 113 | N83: 899 | O83: 450 | P83: 449 | Q83: 0 | R83: 0 | S83: 0 | T83: 13 | U83: 5 | V83: 8 | W83: 886 | X83: 445 | Y83: 441
... A94: 連江縣 Lienchiang County | B94: 7 | C94: 4 | D94: 3 | E94: 0 | F94: 0 | G94: 0 | H94: 0 | I94: 0 | J94: 0 | K94: 7 | L94: 4 | M94: 3 | N94: 19 | O94: 5 | P94: 14 | Q94: 0 | R94: 0 | S94: 0 | T94: 0 | U94: 0 | V94: 0 | W94: 19 | X94: 5 | Y94: 14
A95: 資料來源：直轄市、縣﹝市﹞政府。
A96: Source : County and City Government.
A99: 中華民國113年第4季底, 2024 Q4
A100: 地區別 | B100: 原住民戶數(戶長性別) Indigenous Households | N100: 原住民人數 Indigenous Persons
B101: 總計 Grand Total | E101: 第1款(省、新北、臺中、臺南)、第0類(臺北)、第1類(高雄) Class 1 | H101: 第2款(省、新北、臺中、臺南)、第1、2類(臺北)、第2類(高雄) Class 2 | K101: 第3款(省、新北、臺中、臺南)、第3、4類(臺北、高雄) Class 3 | N101: 總計 Grand Total | Q101: 第1款(省、新北、臺中、臺南)、第0類(臺北)、第1類(高雄) Class 1 | T101: 第2款(省、新北、臺中、臺南)、第1、2類(臺北)、第2類(高雄) Class 2 | W101: 第3款(省、新北、臺中、臺南)、第3、4類(臺北、高雄) Class 3
B102: 計 | C102: 男 | D102: 女 | E102: 計 | F102: 男 | G102: 女 | H102: 計 | I102: 男 | J102: 女 | K102: 計 | L102: 男 | M102: 女 | N102: 計 | O102: 男 | P102: 女 | Q102: 計 | R102: 男 | S102: 女 | T102: 計 | U102: 男 | V102: 女 | W102: 計 | X102: 男 | Y102: 女
A103: Locality | B103: Sub-Total | C103: Male | D103: Female | E103: Sub-Total | F103: Male | G103: Female | H103: Sub-Total | I103: Male | J103: Female | K103: Sub-Total | L103: Male | M103: Female | N103: Sub-Total | O103: Male | P103: Female | Q103: Sub-Total | R103: Male | S103: Female | T103: Sub-Total | U103: Male | V103: Female | W103: Sub-Total | X103: Male | Y103: Female
A104: 總計 Total | B104: 10800 | C104: 6100 | D104: 4700 | E104: 30 | F104: 25 | G104: 5 | H104: 1070 | I104: 670 | J104: 400 | K104: 9700 | L104: 5405 | M104: 4295 | N104: 28423 | O104: 14633 | P104: 13790 | Q104: 30 | R104: 25 | S104: 5 | T104: 2256 | U104: 1246 | V104: 1010 | W104: 26137 | X104: 13362 | Y104: 12775
A105: 新北市 New Taipei City | B105: 511 | C105: 235 | D105: 276 | E105: 0 | F105: 0 | G105: 0 | H105: 27 | I105: 10 | J105: 17 | K105: 484 | L105: 225 | M105: 259 | N105: 1485 | O105: 684 | P105: 801 | Q105: 0 | R105: 0 | S105: 0 | T105: 69 | U105: 27 | V105: 42 | W105: 1416 | X105: 657 | Y105: 759
A106: 臺北市 Taipei City | B106: 491 | C106: 223 | D106: 268 | E106: 6 | F106: 4 | G106: 2 | H106: 63 | I106: 28 | J106: 35 | K106: 422 | L106: 191 | M106: 231 | N106: 1314 | O106: 617 | P106: 697 | Q106: 6 | R106: 4 | S106: 2 | T106: 109 | U106: 51 | V106: 58 | W106: 1199 | X106: 562 | Y106: 637
A107: 桃園市 Taoyuan City | B107: 1590 | C107: 927 | D107: 663 | E107: 7 | F107: 7 | G107: 0 | H107: 96 | I107: 60 | J107: 36 | K107: 1487 | L107: 860 | M107: 627 | N107: 5170 | O107: 2607 | P107: 2563 | Q107: 7 | R107: 7 | S107: 0 | T107: 267 | U107: 148 | V107: 119 | W107: 4896 | X107: 2452 | Y107: 2444
A108: 臺中市 Taichung City | B108: 749 | C108: 329 | D108: 420 | E108: 4 | F108: 4 | G108: 0 | H108: 175 | I108: 97 | J108: 78 | K108: 570 | L108: 228 | M108: 342 | N108: 2379 | O108: 1138 | P108: 1241 | Q108: 4 | R108: 4 | S108: 0 | T108: 479 | U108: 247 | V108: 232 | W108: 1896 | X108: 887 | Y108: 1009
A109: 臺南市 Tainan City | B109: 73 | C109: 30 | D109: 43 | E109: 0 | F109: 0 | G109: 0 | H109: 9 | I109: 3 | J109: 6 | K109: 64 | L109: 27 | M109: 37 | N109: 219 | O109: 101 | P109: 118 | Q109: 0 | R109: 0 | S109: 0 | T109: 24 | U109: 9 | V109: 15 | W109: 195 | X109: 92 | Y109: 103
A110: 高雄市 Kaohsiung City | B110: 473 | C110: 245 | D110: 228 | E110: 2 | F110: 1 | G110: 1 | H110: 134 | I110: 77 | J110: 57 | K110: 337 | L110: 167 | M110: 170 | N110: 1533 | O110: 738 | P110: 795 | Q110: 2 | R110: 1 | S110: 1 | T110: 349 | U110: 180 | V110: 169 | W110: 1182 | X110: 557 | Y110: 625
A111: 宜蘭縣 Yilan County | B111: 476 | C111: 285 | D111: 191 | E111: 0 | F111: 0 | G111: 0 | H111: 21 | I111: 13 | J111: 8 | K111: 455 | L111: 272 | M111: 183 | N111: 1264 | O111: 663 | P111: 601 | Q111: 0 | R111: 0 | S111: 0 | T111: 36 | U111: 22 | V111: 14 | W111: 1228 | X111: 641 | Y111: 587
A112: 新竹縣 Hsinchu County | B112: 388 | C112: 240 | D112: 148 | E112: 1 | F112: 1 | G112: 0 | H112: 32 | I112: 20 | J112: 12 | K112: 355 | L112: 219 | M112: 136 | N112: 1243 | O112: 617 | P112: 626 | Q112: 1 | R112: 1 | S112: 0 | T112: 76 | U112: 40 | V112: 36 | W112: 1166 | X112: 576 | Y112: 590
A113: 苗栗縣 Miaoli County | B113: 195 | C113: 119 | D113: 76 | E113: 0 | F113: 0 | G113: 0 | H113: 67 | I113: 43 | J113: 24 | K113: 128 | L113: 76 | M113: 52 | N113: 566 | O113: 263 | P113: 303 | Q113: 0 | R113: 0 | S113: 0 | T113: 158 | U113: 85 | V113: 73 | W113: 408 | X113: 178 | Y113: 230
A114: 彰化縣 Changhua County | B114: 72 | C114: 30 | D114: 42 | E114: 0 | F114: 0 | G114: 0 | H114: 0 | I114: 0 | J114: 0 | K114: 72 | L114: 30 | M114: 42 | N114: 204 | O114: 94 | P114: 110 | Q114: 0 | R114: 0 | S114: 0 | T114: 0 | U114: 0 | V114: 0 | W114: 204 | X114: 94 | Y114: 110
A115: 南投縣 Nantou County | B115: 297 | C115: 181 | D115: 116 | E115: 0 | F115: 0 | G115: 0 | H115: 5 | I115: 1 | J115: 4 | K115: 292 | L115: 180 | M115: 112 | N115: 882 | O115: 444 | P115: 438 | Q115: 0 | R115: 0 | S115: 0 | T115: 13 | U115: 5 | V115: 8 | W115: 869 | X115: 439 | Y115: 430
... A126: 連江縣 Lienchiang County | B126: 7 | C126: 4 | D126: 3 | E126: 0 | F126: 0 | G126: 0 | H126: 0 | I126: 0 | J126: 0 | K126: 7 | L126: 4 | M126: 3 | N126: 19 | O126: 5 | P126: 14 | Q126: 0 | R126: 0 | S126: 0 | T126: 0 | U126: 0 | V126: 0 | W126: 19 | X126: 5 | Y126: 14
A127: 資料來源：直轄市、縣﹝市﹞政府。
A128: Source : County and City Government.

Sheet 2023
A2: 原住民低收入戶戶數及人數 Number and Population of Indigenous Low-Income Households
A3: 中華民國112年第1季底, 2023 Q1
A4: 地區別 | B4: 原住民戶數-按戶長性別分(戶) Indigenous Households | N4: 原住民人數(人) Indigenous Persons
B5: 總計 Grand Total | E5: 第1款(省、新北、臺中、臺南)、第0類(臺北)、第1類(高雄) Class 1 | H5: 第2款(省、新北、臺中、臺南)、第1、2類(臺北)、第2類(高雄) Class 2 | K5: 第3款(省、新北、臺中、臺南)、第3、4類(臺北、高雄) Class 3 | N5: 總計 Grand Total | Q5: 第1款(省、新北、臺中、臺南)、第0類(臺北)、第1類(高雄) Class 1 | T5: 第2款(省、新北、臺中、臺南)、第1、2類(臺北)、第2類(高雄) Class 2 | W5: 第3款(省、新北、臺中、臺南)、第3、4類(臺北、高雄) Class 3
B6: 計 | C6: 男 | D6: 女 | E6: 計 | F6: 男 | G6: 女 | H6: 計 | I6: 男 | J6: 女 | K6: 計 | L6: 男 | M6: 女 | N6: 計 | O6: 男 | P6: 女 | Q6: 計 | R6: 男 | S6: 女 | T6: 計 | U6: 男 | V6: 女 | W6: 計 | X6: 男 | Y6: 女
A7: Locality | B7: Sub-Total | C7: Male | D7: Female | E7: Sub-Total | F7: Male | G7: Female | H7: Sub-Total | I7: Male | J7: Female | K7: Sub-Total | L7: Male | M7: Female | N7: Sub-Total | O7: Male | P7: Female | Q7: Sub-Total | R7: Male | S7: Female | T7: Sub-Total | U7: Male | V7: Female | W7: Sub-Total | X7: Male | Y7: Female
A8: 總計 Total | B8: 10702 | C8: 6060 | D8: 4642 | E8: 30 | F8: 26 | G8: 4 | H8: 1123 | I8: 723 | J8: 400 | K8: 9549 | L8: 5311 | M8: 4238 | N8: 29189 | O8: 14970 | P8: 14219 | Q8: 30 | R8: 26 | S8: 4 | T8: 2485 | U8: 1379 | V8: 1106 | W8: 26674 | X8: 13565 | Y8: 13109
A9: 新北市 New Taipei City | B9: 482 | C9: 229 | D9: 253 | E9: 0 | F9: 0 | G9: 0 | H9: 24 | I9: 12 | J9: 12 | K9: 458 | L9: 217 | M9: 241 | N9: 1486 | O9: 704 | P9: 782 | Q9: 0 | R9: 0 | S9: 0 | T9: 60 | U9: 26 | V9: 34 | W9: 1426 | X9: 678 | Y9: 748
A10: 臺北市 Taipei City | B10: 487 | C10: 204 | D10: 283 | E10: 7 | F10: 5 | G10: 2 | H10: 56 | I10: 23 | J10: 33 | K10: 424 | L10: 176 | M10: 248 | N10: 1339 | O10: 608 | P10: 731 | Q10: 7 | R10: 5 | S10: 2 | T10: 104 | U10: 46 | V10: 58 | W10: 1228 | X10: 557 | Y10: 671
A11: 桃園市 Taoyuan City | B11: 1569 | C11: 894 | D11: 675 | E11: 6 | F11: 6 | G11: 0 | H11: 110 | I11: 67 | J11: 43 | K11: 1453 | L11: 821 | M11: 632 | N11: 5295 | O11: 2673 | P11: 2622 | Q11: 6 | R11: 6 | S11: 0 | T11: 340 | U11: 183 | V11: 157 | W11: 4949 | X11: 2484 | Y11: 2465
A12: 臺中市 Taichung City | B12: 768 | C12: 339 | D12: 429 | E12: 3 | F12: 3 | G12: 0 | H12: 159 | I12: 83 | J12: 76 | K12: 606 | L12: 253 | M12: 353 | N12: 2513 | O12: 1201 | P12: 1312 | Q12: 3 | R12: 3 | S12: 0 | T12: 491 | U12: 255 | V12: 236 | W12: 2019 | X12: 943 | Y12: 1076
A13: 臺南市 Tainan City | B13: 76 | C13: 38 | D13: 38 | E13: 0 | F13: 0 | G13: 0 | H13: 13 | I13: 4 | J13: 9 | K13: 63 | L13: 34 | M13: 29 | N13: 236 | O13: 103 | P13: 133 | Q13: 0 | R13: 0 | S13: 0 | T13: 30 | U13: 11 | V13: 19 | W13: 206 | X13: 92 | Y13: 114
A14: 高雄市 Kaohsiung City | B14: 459 | C14: 241 | D14: 218 | E14: 2 | F14: 1 | G14: 1 | H14: 132 | I14: 81 | J14: 51 | K14: 325 | L14: 159 | M14: 166 | N14: 1520 | O14: 737 | P14: 783 | Q14: 2 | R14: 1 | S14: 1 | T14: 361 | U14: 191 | V14: 170 | W14: 1157 | X14: 545 | Y14: 612
A15: 宜蘭縣 Yilan County | B15: 444 | C15: 269 | D15: 175 | E15: 0 | F15: 0 | G15: 0 | H15: 22 | I15: 16 | J15: 6 | K15: 422 | L15: 253 | M15: 169 | N15: 1259 | O15: 643 | P15: 616 | Q15: 0 | R15: 0 | S15: 0 | T15: 40 | U15: 25 | V15: 15 | W15: 1219 | X15: 618 | Y15: 601
A16: 新竹縣 Hsinchu County | B16: 352 | C16: 211 | D16: 141 | E16: 1 | F16: 1 | G16: 0 | H16: 31 | I16: 20 | J16: 11 | K16: 320 | L16: 190 | M16: 130 | N16: 1157 | O16: 566 | P16: 591 | Q16: 1 | R16: 1 | S16: 0 | T16: 76 | U16: 36 | V16: 40 | W16: 1080 | X16: 529 | Y16: 551
A17: 苗栗縣 Miaoli County | B17: 201 | C17: 123 | D17: 78 | E17: 0 | F17: 0 | G17: 0 | H17: 72 | I17: 47 | J17: 25 | K17: 129 | L17: 76 | M17: 53 | N17: 602 | O17: 291 | P17: 311 | Q17: 0 | R17: 0 | S17: 0 | T17: 190 | U17: 104 | V17: 86 | W17: 412 | X17: 187 | Y17: 225
A18: 彰化縣 Changhua County | B18: 65 | C18: 29 | D18: 36 | E18: 0 | F18: 0 | G18: 0 | H18: 0 | I18: 0 | J18: 0 | K18: 65 | L18: 29 | M18: 36 | N18: 182 | O18: 82 | P18: 100 | Q18: 0 | R18: 0 | S18: 0 | T18: 0 | U18: 0 | V18: 0 | W18: 182 | X18: 82 | Y18: 100
A19: 南投縣 Nantou County | B19: 311 | C19: 187 | D19: 124 | E19: 0 | F19: 0 | G19: 0 | H19: 5 | I19: 2 | J19: 3 | K19: 306 | L19: 185 | M19: 121 | N19: 897 | O19: 440 | P19: 457 | Q19: 0 | R19: 0 | S19: 0 | T19: 16 | U19: 6 | V19: 10 | W19: 881 | X19: 434 | Y19: 447
... A30: 連江縣 Lienchiang County | B30: 5 | C30: 4 | D30: 1 | E30: 0 | F30: 0 | G30: 0 | H30: 0 | I30: 0 | J30: 0 | K30: 5 | L30: 4 | M30: 1 | N30: 10 | O30: 5 | P30: 5 | Q30: 0 | R30: 0 | S30: 0 | T30: 0 | U30: 0 | V30: 0 | W30: 10 | X30: 5 | Y30: 5
A31: 資料來源：直轄市、縣﹝市﹞政府。
A32: Source : County and City Government.
A35: 中華民國112年第2季底, 2023 Q2
A36: 地區別 | B36: 原住民戶數(戶長性別) Indigenous Households | N36: 原住民人數 Indigenous Persons
B37: 總計 Grand Total | E37: 第1款(省、新北、臺中、臺南)、第0類(臺北)、第1類(高雄) Class 1 | H37: 第2款(省、新北、臺中、臺南)、第1、2類(臺北)、第2類(高雄) Class 2 | K37: 第3款(省、新北、臺中、臺南)、第3、4類(臺北、高雄) Class 3 | N37: 總計 Grand Total | Q37: 第1款(省、新北、臺中、臺南)、第0類(臺北)、第1類(高雄) Class 1 | T37: 第2款(省、新北、臺中、臺南)、第1、2類(臺北)、第2類(高雄) Class 2 | W37: 第3款(省、新北、臺中、臺南)、第3、4類(臺北、高雄) Class 3
B38: 計 | C38: 男 | D38: 女 | E38: 計 | F38: 男 | G38: 女 | H38: 計 | I38: 男 | J38: 女 | K38: 計 | L38: 男 | M38: 女 | N38: 計 | O38: 男 | P38: 女 | Q38: 計 | R38: 男 | S38: 女 | T38: 計 | U38: 男 | V38: 女 | W38: 計 | X38: 男 | Y38: 女
A39: Locality | B39: Sub-Total | C39: Male | D39: Female | E39: Sub-Total | F39: Male | G39: Female | H39: Sub-Total | I39: Male | J39: Female | K39: Sub-Total | L39: Male | M39: Female | N39: Sub-Total | O39: Male | P39: Female | Q39: Sub-Total | R39: Male | S39: Female | T39: Sub-Total | U39: Male | V39: Female | W39: Sub-Total | X39: Male | Y39: Female
A40: 總計 Total | B40: 10911 | C40: 6187 | D40: 4724 | E40: 30 | F40: 26 | G40: 4 | H40: 1142 | I40: 727 | J40: 415 | K40: 9739 | L40: 5434 | M40: 4305 | N40: 29635 | O40: 15202 | P40: 14433 | Q40: 30 | R40: 26 | S40: 4 | T40: 2491 | U40: 1379 | V40: 1112 | W40: 27114 | X40: 13797 | Y40: 13317
A41: 新北市 New Taipei City | B41: 495 | C41: 237 | D41: 258 | E41: 0 | F41: 0 | G41: 0 | H41: 25 | I41: 12 | J41: 13 | K41: 470 | L41: 225 | M41: 245 | N41: 1516 | O41: 714 | P41: 802 | Q41: 0 | R41: 0 | S41: 0 | T41: 60 | U41: 25 | V41: 35 | W41: 1456 | X41: 689 | Y41: 767
A42: 臺北市 Taipei City | B42: 489 | C42: 205 | D42: 284 | E42: 7 | F42: 5 | G42: 2 | H42: 58 | I42: 24 | J42: 34 | K42: 424 | L42: 176 | M42: 248 | N42: 1343 | O42: 609 | P42: 734 | Q42: 7 | R42: 5 | S42: 2 | T42: 105 | U42: 47 | V42: 58 | W42: 1231 | X42: 557 | Y42: 674
A43: 桃園市 Taoyuan City | B43: 1593 | C43: 913 | D43: 680 | E43: 6 | F43: 6 | G43: 0 | H43: 109 | I43: 66 | J43: 43 | K43: 1478 | L43: 841 | M43: 637 | N43: 5335 | O43: 2692 | P43: 2643 | Q43: 6 | R43: 6 | S43: 0 | T43: 331 | U43: 181 | V43: 150 | W43: 4998 | X43: 2505 | Y43: 2493
A44: 臺中市 Taichung City | B44: 774 | C44: 341 | D44: 433 | E44: 3 | F44: 3 | G44: 0 | H44: 164 | I44: 86 | J44: 78 | K44: 607 | L44: 252 | M44: 355 | N44: 2514 | O44: 1201 | P44: 1313 | Q44: 3 | R44: 3 | S44: 0 | T44: 492 | U44: 259 | V44: 233 | W44: 2019 | X44: 939 | Y44: 1080
A45: 臺南市 Tainan City | B45: 76 | C45: 38 | D45: 38 | E45: 0 | F45: 0 | G45: 0 | H45: 13 | I45: 4 | J45: 9 | K45: 63 | L45: 34 | M45: 29 | N45: 231 | O45: 101 | P45: 130 | Q45: 0 | R45: 0 | S45: 0 | T45: 30 | U45: 11 | V45: 19 | W45: 201 | X45: 90 | Y45: 111
A46: 高雄市 Kaohsiung City | B46: 471 | C46: 245 | D46: 226 | E46: 2 | F46: 1 | G46: 1 | H46: 138 | I46: 82 | J46: 56 | K46: 331 | L46: 162 | M46: 169 | N46: 1547 | O46: 748 | P46: 799 | Q46: 2 | R46: 1 | S46: 1 | T46: 369 | U46: 190 | V46: 179 | W46: 1176 | X46: 557 | Y46: 619
A47: 宜蘭縣 Yilan County | B47: 455 | C47: 274 | D47: 181 | E47: 0 | F47: 0 | G47: 0 | H47: 22 | I47: 16 | J47: 6 | K47: 433 | L47: 258 | M47: 175 | N47: 1270 | O47: 653 | P47: 617 | Q47: 0 | R47: 0 | S47: 0 | T47: 41 | U47: 25 | V47: 16 | W47: 1229 | X47: 628 | Y47: 601
A48: 新竹縣 Hsinchu County | B48: 365 | C48: 220 | D48: 145 | E48: 1 | F48: 1 | G48: 0 | H48: 33 | I48: 21 | J48: 12 | K48: 331 | L48: 198 | M48: 133 | N48: 1203 | O48: 590 | P48: 613 | Q48: 1 | R48: 1 | S48: 0 | T48: 78 | U48: 37 | V48: 41 | W48: 1124 | X48: 552 | Y48: 572
A49: 苗栗縣 Miaoli County | B49: 204 | C49: 126 | D49: 78 | E49: 0 | F49: 0 | G49: 0 | H49: 73 | I49: 47 | J49: 26 | K49: 131 | L49: 79 | M49: 52 | N49: 608 | O49: 294 | P49: 314 | Q49: 0 | R49: 0 | S49: 0 | T49: 196 | U49: 106 | V49: 90 | W49: 412 | X49: 188 | Y49: 224
A50: 彰化縣 Changhua County | B50: 68 | C50: 30 | D50: 38 | E50: 0 | F50: 0 | G50: 0 | H50: 0 | I50: 0 | J50: 0 | K50: 68 | L50: 30 | M50: 38 | N50: 186 | O50: 85 | P50: 101 | Q50: 0 | R50: 0 | S50: 0 | T50: 0 | U50: 0 | V50: 0 | W50: 186 | X50: 85 | Y50: 101
A51: 南投縣 Nantou County | B51: 324 | C51: 195 | D51: 129 | E51: 0 | F51: 0 | G51: 0 | H51: 5 | I51: 2 | J51: 3 | K51: 319 | L51: 193 | M51: 126 | N51: 944 | O51: 466 | P51: 478 | Q51: 0 | R51: 0 | S51: 0 | T51: 16 | U51: 6 | V51: 10 | W51: 928 | X51: 460 | Y51: 468
... A62: 連江縣 Lienchiang County | B62: 5 | C62: 4 | D62: 1 | E62: 0 | F62: 0 | G62: 0 | H62: 0 | I62: 0 | J62: 0 | K62: 5 | L62: 4 | M62: 1 | N62: 10 | O62: 5 | P62: 5 | Q62: 0 | R62: 0 | S62: 0 | T62: 0 | U62: 0 | V62: 0 | W62: 10 | X62: 5 | Y62: 5
A63: 資料來源：直轄市、縣﹝市﹞政府。
A64: Source : County and City Government.
A67: 中華民國112年第3季底, 2023 Q3
A68: 地區別 | B68: 原住民戶數(戶長性別) Indigenous Households | N68: 原住民人數 Indigenous Persons
B69: 總計 Grand Total | E69: 第1款(省、新北、臺中、臺南)、第0類(臺北)、第1類(高雄) Class 1 | H69: 第2款(省、新北、臺中、臺南)、第1、2類(臺北)、第2類(高雄) Class 2 | K69: 第3款(省、新北、臺中、臺南)、第3、4類(臺北、高雄) Class 3 | N69: 總計 Grand Total | Q69: 第1款(省、新北、臺中、臺南)、第0類(臺北)、第1類(高雄) Class 1 | T69: 第2款(省、新北、臺中、臺南)、第1、2類(臺北)、第2類(高雄) Class 2 | W69: 第3款(省、新北、臺中、臺南)、第3、4類(臺北、高雄) Class 3
B70: 計 | C70: 男 | D70: 女 | E70: 計 | F70: 男 | G70: 女 | H70: 計 | I70: 男 | J70: 女 | K70: 計 | L70: 男 | M70: 女 | N70: 計 | O70: 男 | P70: 女 | Q70: 計 | R70: 男 | S70: 女 | T70: 計 | U70: 男 | V70: 女 | W70: 計 | X70: 男 | Y70: 女
A71: Locality | B71: Sub-Total | C71: Male | D71: Female | E71: Sub-Total | F71: Male | G71: Female | H71: Sub-Total | I71: Male | J71: Female | K71: Sub-Total | L71: Male | M71: Female | N71: Sub-Total | O71: Male | P71: Female | Q71: Sub-Total | R71: Male | S71: Female | T71: Sub-Total | U71: Male | V71: Female | W71: Sub-Total | X71: Male | Y71: Female
A72: 總計 Total | B72: 10866 | C72: 6177 | D72: 4689 | E72: 29 | F72: 25 | G72: 4 | H72: 1142 | I72: 723 | J72: 419 | K72: 9695 | L72: 5429 | M72: 4266 | N72: 29332 | O72: 15059 | P72: 14273 | Q72: 29 | R72: 25 | S72: 4 | T72: 2474 | U72: 1365 | V72: 1109 | W72: 26829 | X72: 13669 | Y72: 13160
A73: 新北市 New Taipei City | B73: 503 | C73: 235 | D73: 268 | E73: 0 | F73: 0 | G73: 0 | H73: 25 | I73: 11 | J73: 14 | K73: 478 | L73: 224 | M73: 254 | N73: 1532 | O73: 715 | P73: 817 | Q73: 0 | R73: 0 | S73: 0 | T73: 60 | U73: 25 | V73: 35 | W73: 1472 | X73: 690 | Y73: 782
A74: 臺北市 Taipei City | B74: 494 | C74: 210 | D74: 284 | E74: 7 | F74: 5 | G74: 2 | H74: 64 | I74: 26 | J74: 38 | K74: 423 | L74: 179 | M74: 244 | N74: 1339 | O74: 616 | P74: 723 | Q74: 7 | R74: 5 | S74: 2 | T74: 121 | U74: 54 | V74: 67 | W74: 1211 | X74: 557 | Y74: 654
A75: 桃園市 Taoyuan City | B75: 1591 | C75: 919 | D75: 672 | E75: 6 | F75: 6 | G75: 0 | H75: 108 | I75: 67 | J75: 41 | K75: 1477 | L75: 846 | M75: 631 | N75: 5329 | O75: 2694 | P75: 2635 | Q75: 6 | R75: 6 | S75: 0 | T75: 316 | U75: 174 | V75: 142 | W75: 5007 | X75: 2514 | Y75: 2493
A76: 臺中市 Taichung City | B76: 770 | C76: 336 | D76: 434 | E76: 3 | F76: 3 | G76: 0 | H76: 160 | I76: 82 | J76: 78 | K76: 607 | L76: 251 | M76: 356 | N76: 2515 | O76: 1199 | P76: 1316 | Q76: 3 | R76: 3 | S76: 0 | T76: 472 | U76: 244 | V76: 228 | W76: 2040 | X76: 952 | Y76: 1088
A77: 臺南市 Tainan City | B77: 71 | C77: 36 | D77: 35 | E77: 0 | F77: 0 | G77: 0 | H77: 11 | I77: 4 | J77: 7 | K77: 60 | L77: 32 | M77: 28 | N77: 209 | O77: 94 | P77: 115 | Q77: 0 | R77: 0 | S77: 0 | T77: 26 | U77: 10 | V77: 16 | W77: 183 | X77: 84 | Y77: 99
A78: 高雄市 Kaohsiung City | B78: 479 | C78: 247 | D78: 232 | E78: 2 | F78: 1 | G78: 1 | H78: 143 | I78: 83 | J78: 60 | K78: 334 | L78: 163 | M78: 171 | N78: 1556 | O78: 750 | P78: 806 | Q78: 2 | R78: 1 | S78: 1 | T78: 383 | U78: 199 | V78: 184 | W78: 1171 | X78: 550 | Y78: 621
A79: 宜蘭縣 Yilan County | B79: 442 | C79: 265 | D79: 177 | E79: 0 | F79: 0 | G79: 0 | H79: 23 | I79: 17 | J79: 6 | K79: 419 | L79: 248 | M79: 171 | N79: 1220 | O79: 621 | P79: 599 | Q79: 0 | R79: 0 | S79: 0 | T79: 38 | U79: 22 | V79: 16 | W79: 1182 | X79: 599 | Y79: 583
A80: 新竹縣 Hsinchu County | B80: 356 | C80: 215 | D80: 141 | E80: 1 | F80: 1 | G80: 0 | H80: 33 | I80: 21 | J80: 12 | K80: 322 | L80: 193 | M80: 129 | N80: 1184 | O80: 583 | P80: 601 | Q80: 1 | R80: 1 | S80: 0 | T80: 77 | U80: 38 | V80: 39 | W80: 1106 | X80: 544 | Y80: 562
A81: 苗栗縣 Miaoli County | B81: 207 | C81: 128 | D81: 79 | E81: 0 | F81: 0 | G81: 0 | H81: 72 | I81: 47 | J81: 25 | K81: 135 | L81: 81 | M81: 54 | N81: 624 | O81: 299 | P81: 325 | Q81: 0 | R81: 0 | S81: 0 | T81: 198 | U81: 107 | V81: 91 | W81: 426 | X81: 192 | Y81: 234
A82: 彰化縣 Changhua County | B82: 69 | C82: 30 | D82: 39 | E82: 0 | F82: 0 | G82: 0 | H82: 0 | I82: 0 | J82: 0 | K82: 69 | L82: 30 | M82: 39 | N82: 193 | O82: 88 | P82: 105 | Q82: 0 | R82: 0 | S82: 0 | T82: 0 | U82: 0 | V82: 0 | W82: 193 | X82: 88 | Y82: 105
A83: 南投縣 Nantou County | B83: 312 | C83: 189 | D83: 123 | E83: 0 | F83: 0 | G83: 0 | H83: 5 | I83: 2 | J83: 3 | K83: 307 | L83: 187 | M83: 120 | N83: 914 | O83: 453 | P83: 461 | Q83: 0 | R83: 0 | S83: 0 | T83: 16 | U83: 6 | V83: 10 | W83: 898 | X83: 447 | Y83: 451
... A94: 連江縣 Lienchiang County | B94: 6 | C94: 5 | D94: 1 | E94: 0 | F94: 0 | G94: 0 | H94: 0 | I94: 0 | J94: 0 | K94: 6 | L94: 5 | M94: 1 | N94: 12 | O94: 6 | P94: 6 | Q94: 0 | R94: 0 | S94: 0 | T94: 0 | U94: 0 | V94: 0 | W94: 12 | X94: 6 | Y94: 6
A95: 資料來源：直轄市、縣﹝市﹞政府。
A96: Source : County and City Government.
A99: 中華民國112年第4季底, 2023 Q4
A100: 地區別 | B100: 原住民戶數(戶長性別) Indigenous Households | N100: 原住民人數 Indigenous Persons
B101: 總計 Grand Total | E101: 第1款(省、新北、臺中、臺南)、第0類(臺北)、第1類(高雄) Class 1 | H101: 第2款(省、新北、臺中、臺南)、第1、2類(臺北)、第2類(高雄) Class 2 | K101: 第3款(省、新北、臺中、臺南)、第3、4類(臺北、高雄) Class 3 | N101: 總計 Grand Total | Q101: 第1款(省、新北、臺中、臺南)、第0類(臺北)、第1類(高雄) Class 1 | T101: 第2款(省、新北、臺中、臺南)、第1、2類(臺北)、第2類(高雄) Class 2 | W101: 第3款(省、新北、臺中、臺南)、第3、4類(臺北、高雄) Class 3
B102: 計 | C102: 男 | D102: 女 | E102: 計 | F102: 男 | G102: 女 | H102: 計 | I102: 男 | J102: 女 | K102: 計 | L102: 男 | M102: 女 | N102: 計 | O102: 男 | P102: 女 | Q102: 計 | R102: 男 | S102: 女 | T102: 計 | U102: 男 | V102: 女 | W102: 計 | X102: 男 | Y102: 女
A103: Locality | B103: Sub-Total | C103: Male | D103: Female | E103: Sub-Total | F103: Male | G103: Female | H103: Sub-Total | I103: Male | J103: Female | K103: Sub-Total | L103: Male | M103: Female | N103: Sub-Total | O103: Male | P103: Female | Q103: Sub-Total | R103: Male | S103: Female | T103: Sub-Total | U103: Male | V103: Female | W103: Sub-Total | X103: Male | Y103: Female
A104: 總計 Total | B104: 10935 | C104: 6218 | D104: 4717 | E104: 28 | F104: 24 | G104: 4 | H104: 1130 | I104: 711 | J104: 419 | K104: 9777 | L104: 5483 | M104: 4294 | N104: 29492 | O104: 15158 | P104: 14334 | Q104: 28 | R104: 24 | S104: 4 | T104: 2441 | U104: 1342 | V104: 1099 | W104: 27023 | X104: 13792 | Y104: 13231
A105: 新北市 New Taipei City | B105: 518 | C105: 244 | D105: 274 | E105: 0 | F105: 0 | G105: 0 | H105: 25 | I105: 10 | J105: 15 | K105: 493 | L105: 234 | M105: 259 | N105: 1562 | O105: 735 | P105: 827 | Q105: 0 | R105: 0 | S105: 0 | T105: 66 | U105: 26 | V105: 40 | W105: 1496 | X105: 709 | Y105: 787
A106: 臺北市 Taipei City | B106: 494 | C106: 212 | D106: 282 | E106: 7 | F106: 5 | G106: 2 | H106: 62 | I106: 26 | J106: 36 | K106: 425 | L106: 181 | M106: 244 | N106: 1329 | O106: 610 | P106: 719 | Q106: 7 | R106: 5 | S106: 2 | T106: 114 | U106: 50 | V106: 64 | W106: 1208 | X106: 555 | Y106: 653
A107: 桃園市 Taoyuan City | B107: 1613 | C107: 937 | D107: 676 | E107: 6 | F107: 6 | G107: 0 | H107: 108 | I107: 65 | J107: 43 | K107: 1499 | L107: 866 | M107: 633 | N107: 5397 | O107: 2727 | P107: 2670 | Q107: 6 | R107: 6 | S107: 0 | T107: 323 | U107: 175 | V107: 148 | W107: 5068 | X107: 2546 | Y107: 2522
A108: 臺中市 Taichung City | B108: 777 | C108: 343 | D108: 434 | E108: 3 | F108: 3 | G108: 0 | H108: 162 | I108: 84 | J108: 78 | K108: 612 | L108: 256 | M108: 356 | N108: 2536 | O108: 1220 | P108: 1316 | Q108: 3 | R108: 3 | S108: 0 | T108: 463 | U108: 240 | V108: 223 | W108: 2070 | X108: 977 | Y108: 1093
A109: 臺南市 Tainan City | B109: 61 | C109: 28 | D109: 33 | E109: 0 | F109: 0 | G109: 0 | H109: 9 | I109: 4 | J109: 5 | K109: 52 | L109: 24 | M109: 28 | N109: 174 | O109: 77 | P109: 97 | Q109: 0 | R109: 0 | S109: 0 | T109: 22 | U109: 9 | V109: 13 | W109: 152 | X109: 68 | Y109: 84
A110: 高雄市 Kaohsiung City | B110: 485 | C110: 251 | D110: 234 | E110: 2 | F110: 1 | G110: 1 | H110: 140 | I110: 81 | J110: 59 | K110: 343 | L110: 169 | M110: 174 | N110: 1580 | O110: 763 | P110: 817 | Q110: 2 | R110: 1 | S110: 1 | T110: 378 | U110: 197 | V110: 181 | W110: 1200 | X110: 565 | Y110: 635
A111: 宜蘭縣 Yilan County | B111: 412 | C111: 249 | D111: 163 | E111: 0 | F111: 0 | G111: 0 | H111: 20 | I111: 16 | J111: 4 | K111: 392 | L111: 233 | M111: 159 | N111: 1105 | O111: 583 | P111: 522 | Q111: 0 | R111: 0 | S111: 0 | T111: 27 | U111: 19 | V111: 8 | W111: 1078 | X111: 564 | Y111: 514
A112: 新竹縣 Hsinchu County | B112: 366 | C112: 221 | D112: 145 | E112: 1 | F112: 1 | G112: 0 | H112: 35 | I112: 21 | J112: 14 | K112: 330 | L112: 199 | M112: 131 | N112: 1212 | O112: 601 | P112: 611 | Q112: 1 | R112: 1 | S112: 0 | T112: 82 | U112: 40 | V112: 42 | W112: 1129 | X112: 560 | Y112: 569
A113: 苗栗縣 Miaoli County | B113: 207 | C113: 126 | D113: 81 | E113: 0 | F113: 0 | G113: 0 | H113: 71 | I113: 46 | J113: 25 | K113: 136 | L113: 80 | M113: 56 | N113: 633 | O113: 300 | P113: 333 | Q113: 0 | R113: 0 | S113: 0 | T113: 197 | U113: 106 | V113: 91 | W113: 436 | X113: 194 | Y113: 242
A114: 彰化縣 Changhua County | B114: 68 | C114: 29 | D114: 39 | E114: 0 | F114: 0 | G114: 0 | H114: 0 | I114: 0 | J114: 0 | K114: 68 | L114: 29 | M114: 39 | N114: 184 | O114: 82 | P114: 102 | Q114: 0 | R114: 0 | S114: 0 | T114: 0 | U114: 0 | V114: 0 | W114: 184 | X114: 82 | Y114: 102
A115: 南投縣 Nantou County | B115: 308 | C115: 187 | D115: 121 | E115: 0 | F115: 0 | G115: 0 | H115: 4 | I115: 1 | J115: 3 | K115: 304 | L115: 186 | M115: 118 | N115: 908 | O115: 449 | P115: 459 | Q115: 0 | R115: 0 | S115: 0 | T115: 15 | U115: 5 | V115: 10 | W115: 893 | X115: 444 | Y115: 449
... A126: 連江縣 Lienchiang County | B126: 6 | C126: 5 | D126: 1 | E126: 0 | F126: 0 | G126: 0 | H126: 0 | I126: 0 | J126: 0 | K126: 6 | L126: 5 | M126: 1 | N126: 10 | O126: 5 | P126: 5 | Q126: 0 | R126: 0 | S126: 0 | T126: 0 | U126: 0 | V126: 0 | W126: 10 | X126: 5 | Y126: 5
A127: 資料來源：直轄市、縣﹝市﹞政府。
A128: Source : County and City Government.

Sheet 2022
A2: 原住民低收入戶戶數及人數 Number and Population of Indigenous Low-Income Households
A3: 中華民國111年第1季底, 2022 Q1
A4: 地區別 | B4: 原住民戶數-按戶長性別分(戶) Indigenous Households | N4: 原住民人數(人) Indigenous Persons
B5: 總計 Grand Total | E5: 第1款(省、新北、臺中、臺南)、第0類(臺北)、第1類(高雄) Class 1 | H5: 第2款(省、新北、臺中、臺南)、第1、2類(臺北)、第2類(高雄) Class 2 | K5: 第3款(省、新北、臺中、臺南)、第3、4類(臺北、高雄) Class 3 | N5: 總計 Grand Total | Q5: 第1款(省、新北、臺中、臺南)、第0類(臺北)、第1類(高雄) Class 1 | T5: 第2款(省、新北、臺中、臺南)、第1、2類(臺北)、第2類(高雄) Class 2 | W5: 第3款(省、新北、臺中、臺南)、第3、4類(臺北、高雄) Class 3
B6: 計 | C6: 男 | D6: 女 | E6: 計 | F6: 男 | G6: 女 | H6: 計 | I6: 男 | J6: 女 | K6: 計 | L6: 男 | M6: 女 | N6: 計 | O6: 男 | P6: 女 | Q6: 計 | R6: 男 | S6: 女 | T6: 計 | U6: 男 | V6: 女 | W6: 計 | X6: 男 | Y6: 女
A7: Locality | B7: Sub-Total | C7: Male | D7: Female | E7: Sub-Total | F7: Male | G7: Female | H7: Sub-Total | I7: Male | J7: Female | K7: Sub-Total | L7: Male | M7: Female | N7: Sub-Total | O7: Male | P7: Female | Q7: Sub-Total | R7: Male | S7: Female | T7: Sub-Total | U7: Male | V7: Female | W7: Sub-Total | X7: Male | Y7: Female
A8: 總計 Total | B8: 10844 | C8: 6182 | D8: 4662 | E8: 29 | F8: 23 | G8: 6 | H8: 1176 | I8: 762 | J8: 414 | K8: 9639 | L8: 5397 | M8: 4242 | N8: 29957 | O8: 15387 | P8: 14570 | Q8: 31 | R8: 23 | S8: 8 | T8: 2597 | U8: 1448 | V8: 1149 | W8: 27329 | X8: 13916 | Y8: 13413
A9: 新北市 New Taipei City | B9: 557 | C9: 265 | D9: 292 | E9: 0 | F9: 0 | G9: 0 | H9: 27 | I9: 12 | J9: 15 | K9: 530 | L9: 253 | M9: 277 | N9: 1483 | O9: 710 | P9: 773 | Q9: 0 | R9: 0 | S9: 0 | T9: 61 | U9: 26 | V9: 35 | W9: 1422 | X9: 684 | Y9: 738
A10: 臺北市 Taipei City | B10: 488 | C10: 198 | D10: 290 | E10: 7 | F10: 5 | G10: 2 | H10: 60 | I10: 19 | J10: 41 | K10: 421 | L10: 174 | M10: 247 | N10: 1365 | O10: 611 | P10: 754 | Q10: 7 | R10: 5 | S10: 2 | T10: 128 | U10: 54 | V10: 74 | W10: 1230 | X10: 552 | Y10: 678
A11: 桃園市 Taoyuan City | B11: 1518 | C11: 867 | D11: 651 | E11: 5 | F11: 4 | G11: 1 | H11: 115 | I11: 73 | J11: 42 | K11: 1398 | L11: 790 | M11: 608 | N11: 5221 | O11: 2615 | P11: 2606 | Q11: 6 | R11: 4 | S11: 2 | T11: 382 | U11: 201 | V11: 181 | W11: 4833 | X11: 2410 | Y11: 2423
A12: 臺中市 Taichung City | B12: 764 | C12: 342 | D12: 422 | E12: 3 | F12: 3 | G12: 0 | H12: 158 | I12: 83 | J12: 75 | K12: 603 | L12: 256 | M12: 347 | N12: 2550 | O12: 1212 | P12: 1338 | Q12: 3 | R12: 3 | S12: 0 | T12: 494 | U12: 263 | V12: 231 | W12: 2053 | X12: 946 | Y12: 1107
A13: 臺南市 Tainan City | B13: 83 | C13: 40 | D13: 43 | E13: 0 | F13: 0 | G13: 0 | H13: 10 | I13: 3 | J13: 7 | K13: 73 | L13: 37 | M13: 36 | N13: 274 | O13: 112 | P13: 162 | Q13: 0 | R13: 0 | S13: 0 | T13: 23 | U13: 7 | V13: 16 | W13: 251 | X13: 105 | Y13: 146
A14: 高雄市 Kaohsiung City | B14: 389 | C14: 216 | D14: 173 | E14: 3 | F14: 1 | G14: 2 | H14: 133 | I14: 83 | J14: 50 | K14: 253 | L14: 132 | M14: 121 | N14: 1321 | O14: 657 | P14: 664 | Q14: 4 | R14: 1 | S14: 3 | T14: 338 | U14: 175 | V14: 163 | W14: 979 | X14: 481 | Y14: 498
A15: 宜蘭縣 Yilan County | B15: 418 | C15: 252 | D15: 166 | E15: 0 | F15: 0 | G15: 0 | H15: 23 | I15: 17 | J15: 6 | K15: 395 | L15: 235 | M15: 160 | N15: 1199 | O15: 622 | P15: 577 | Q15: 0 | R15: 0 | S15: 0 | T15: 42 | U15: 29 | V15: 13 | W15: 1157 | X15: 593 | Y15: 564
A16: 新竹縣 Hsinchu County | B16: 376 | C16: 240 | D16: 136 | E16: 1 | F16: 1 | G16: 0 | H16: 28 | I16: 18 | J16: 10 | K16: 347 | L16: 221 | M16: 126 | N16: 1337 | O16: 660 | P16: 677 | Q16: 1 | R16: 1 | S16: 0 | T16: 51 | U16: 25 | V16: 26 | W16: 1285 | X16: 634 | Y16: 651
A17: 苗栗縣 Miaoli County | B17: 211 | C17: 132 | D17: 79 | E17: 0 | F17: 0 | G17: 0 | H17: 75 | I17: 52 | J17: 23 | K17: 136 | L17: 80 | M17: 56 | N17: 616 | O17: 308 | P17: 308 | Q17: 0 | R17: 0 | S17: 0 | T17: 196 | U17: 109 | V17: 87 | W17: 420 | X17: 199 | Y17: 221
A18: 彰化縣 Changhua County | B18: 67 | C18: 31 | D18: 36 | E18: 0 | F18: 0 | G18: 0 | H18: 0 | I18: 0 | J18: 0 | K18: 67 | L18: 31 | M18: 36 | N18: 183 | O18: 82 | P18: 101 | Q18: 0 | R18: 0 | S18: 0 | T18: 0 | U18: 0 | V18: 0 | W18: 183 | X18: 82 | Y18: 101
A19: 南投縣 Nantou County | B19: 326 | C19: 202 | D19: 124 | E19: 0 | F19: 0 | G19: 0 | H19: 8 | I19: 4 | J19: 4 | K19: 318 | L19: 198 | M19: 120 | N19: 953 | O19: 473 | P19: 480 | Q19: 0 | R19: 0 | S19: 0 | T19: 32 | U19: 13 | V19: 19 | W19: 921 | X19: 460 | Y19: 461
... A30: 連江縣 Lienchiang County | B30: 5 | C30: 4 | D30: 1 | E30: 0 | F30: 0 | G30: 0 | H30: 0 | I30: 0 | J30: 0 | K30: 5 | L30: 4 | M30: 1 | N30: 10 | O30: 5 | P30: 5 | Q30: 0 | R30: 0 | S30: 0 | T30: 0 | U30: 0 | V30: 0 | W30: 10 | X30: 5 | Y30: 5
A31: 資料來源：直轄市、縣﹝市﹞政府。
A32: Source : County and City Government.
A35: 中華民國111年第2季底, 2022 Q2
A36: 地區別 | B36: 原住民戶數(戶長性別) Indigenous Households | N36: 原住民人數 Indigenous Persons
B37: 總計 Grand Total | E37: 第1款(省、新北、臺中、臺南)、第0類(臺北)、第1類(高雄) Class 1 | H37: 第2款(省、新北、臺中、臺南)、第1、2類(臺北)、第2類(高雄) Class 2 | K37: 第3款(省、新北、臺中、臺南)、第3、4類(臺北、高雄) Class 3 | N37: 總計 Grand Total | Q37: 第1款(省、新北、臺中、臺南)、第0類(臺北)、第1類(高雄) Class 1 | T37: 第2款(省、新北、臺中、臺南)、第1、2類(臺北)、第2類(高雄) Class 2 | W37: 第3款(省、新北、臺中、臺南)、第3、4類(臺北、高雄) Class 3
B38: 計 | C38: 男 | D38: 女 | E38: 計 | F38: 男 | G38: 女 | H38: 計 | I38: 男 | J38: 女 | K38: 計 | L38: 男 | M38: 女 | N38: 計 | O38: 男 | P38: 女 | Q38: 計 | R38: 男 | S38: 女 | T38: 計 | U38: 男 | V38: 女 | W38: 計 | X38: 男 | Y38: 女
A39: Locality | B39: Sub-Total | C39: Male | D39: Female | E39: Sub-Total | F39: Male | G39: Female | H39: Sub-Total | I39: Male | J39: Female | K39: Sub-Total | L39: Male | M39: Female | N39: Sub-Total | O39: Male | P39: Female | Q39: Sub-Total | R39: Male | S39: Female | T39: Sub-Total | U39: Male | V39: Female | W39: Sub-Total | X39: Male | Y39: Female
A40: 總計 Total | B40: 10823 | C40: 6161 | D40: 4662 | E40: 31 | F40: 24 | G40: 7 | H40: 1168 | I40: 765 | J40: 403 | K40: 9624 | L40: 5372 | M40: 4252 | N40: 30346 | O40: 15591 | P40: 14755 | Q40: 32 | R40: 24 | S40: 8 | T40: 2569 | U40: 1438 | V40: 1131 | W40: 27745 | X40: 14129 | Y40: 13616
A41: 新北市 New Taipei City | B41: 411 | C41: 195 | D41: 216 | E41: 0 | F41: 0 | G41: 0 | H41: 23 | I41: 13 | J41: 10 | K41: 388 | L41: 182 | M41: 206 | N41: 1516 | O41: 721 | P41: 795 | Q41: 0 | R41: 0 | S41: 0 | T41: 63 | U41: 27 | V41: 36 | W41: 1453 | X41: 694 | Y41: 759
A42: 臺北市 Taipei City | B42: 499 | C42: 204 | D42: 295 | E42: 7 | F42: 5 | G42: 2 | H42: 61 | I42: 20 | J42: 41 | K42: 431 | L42: 179 | M42: 252 | N42: 1390 | O42: 630 | P42: 760 | Q42: 7 | R42: 5 | S42: 2 | T42: 129 | U42: 55 | V42: 74 | W42: 1254 | X42: 570 | Y42: 684
A43: 桃園市 Taoyuan City | B43: 1535 | C43: 876 | D43: 659 | E43: 7 | F43: 5 | G43: 2 | H43: 115 | I43: 73 | J43: 42 | K43: 1413 | L43: 798 | M43: 615 | N43: 5279 | O43: 2646 | P43: 2633 | Q43: 7 | R43: 5 | S43: 2 | T43: 379 | U43: 199 | V43: 180 | W43: 4893 | X43: 2442 | Y43: 2451
A44: 臺中市 Taichung City | B44: 777 | C44: 343 | D44: 434 | E44: 3 | F44: 3 | G44: 0 | H44: 155 | I44: 83 | J44: 72 | K44: 619 | L44: 257 | M44: 362 | N44: 2580 | O44: 1226 | P44: 1354 | Q44: 3 | R44: 3 | S44: 0 | T44: 477 | U44: 253 | V44: 224 | W44: 2100 | X44: 970 | Y44: 1130
A45: 臺南市 Tainan City | B45: 82 | C45: 42 | D45: 40 | E45: 0 | F45: 0 | G45: 0 | H45: 11 | I45: 4 | J45: 7 | K45: 71 | L45: 38 | M45: 33 | N45: 265 | O45: 112 | P45: 153 | Q45: 0 | R45: 0 | S45: 0 | T45: 24 | U45: 8 | V45: 16 | W45: 241 | X45: 104 | Y45: 137
A46: 高雄市 Kaohsiung City | B46: 398 | C46: 222 | D46: 176 | E46: 3 | F46: 1 | G46: 2 | H46: 138 | I46: 87 | J46: 51 | K46: 257 | L46: 134 | M46: 123 | N46: 1339 | O46: 668 | P46: 671 | Q46: 4 | R46: 1 | S46: 3 | T46: 340 | U46: 179 | V46: 161 | W46: 995 | X46: 488 | Y46: 507
A47: 宜蘭縣 Yilan County | B47: 428 | C47: 256 | D47: 172 | E47: 0 | F47: 0 | G47: 0 | H47: 24 | I47: 18 | J47: 6 | K47: 404 | L47: 238 | M47: 166 | N47: 1233 | O47: 641 | P47: 592 | Q47: 0 | R47: 0 | S47: 0 | T47: 43 | U47: 30 | V47: 13 | W47: 1190 | X47: 611 | Y47: 579
A48: 新竹縣 Hsinchu County | B48: 385 | C48: 245 | D48: 140 | E48: 1 | F48: 1 | G48: 0 | H48: 31 | I48: 20 | J48: 11 | K48: 353 | L48: 224 | M48: 129 | N48: 1375 | O48: 675 | P48: 700 | Q48: 1 | R48: 1 | S48: 0 | T48: 61 | U48: 29 | V48: 32 | W48: 1313 | X48: 645 | Y48: 668
A49: 苗栗縣 Miaoli County | B49: 215 | C49: 134 | D49: 81 | E49: 0 | F49: 0 | G49: 0 | H49: 74 | I49: 52 | J49: 22 | K49: 141 | L49: 82 | M49: 59 | N49: 638 | O49: 317 | P49: 321 | Q49: 0 | R49: 0 | S49: 0 | T49: 195 | U49: 110 | V49: 85 | W49: 443 | X49: 207 | Y49: 236
A50: 彰化縣 Changhua County | B50: 70 | C50: 32 | D50: 38 | E50: 0 | F50: 0 | G50: 0 | H50: 0 | I50: 0 | J50: 0 | K50: 70 | L50: 32 | M50: 38 | N50: 195 | O50: 88 | P50: 107 | Q50: 0 | R50: 0 | S50: 0 | T50: 0 | U50: 0 | V50: 0 | W50: 195 | X50: 88 | Y50: 107
A51: 南投縣 Nantou County | B51: 331 | C51: 203 | D51: 128 | E51: 0 | F51: 0 | G51: 0 | H51: 7 | I51: 3 | J51: 4 | K51: 324 | L51: 200 | M51: 124 | N51: 956 | O51: 473 | P51: 483 | Q51: 0 | R51: 0 | S51: 0 | T51: 28 | U51: 13 | V51: 15 | W51: 928 | X51: 460 | Y51: 468
... A62: 連江縣 Lienchiang County | B62: 5 | C62: 4 | D62: 1 | E62: 0 | F62: 0 | G62: 0 | H62: 0 | I62: 0 | J62: 0 | K62: 5 | L62: 4 | M62: 1 | N62: 10 | O62: 5 | P62: 5 | Q62: 0 | R62: 0 | S62: 0 | T62: 0 | U62: 0 | V62: 0 | W62: 10 | X62: 5 | Y62: 5
A63: 資料來源：直轄市、縣﹝市﹞政府。
A64: Source : County and City Government.
A67: 中華民國111年第3季底, 2022 Q3
A68: 地區別 | B68: 原住民戶數(戶長性別) Indigenous Households | N68: 原住民人數 Indigenous Persons
B69: 總計 Grand Total | E69: 第1款(省、新北、臺中、臺南)、第0類(臺北)、第1類(高雄) Class 1 | H69: 第2款(省、新北、臺中、臺南)、第1、2類(臺北)、第2類(高雄) Class 2 | K69: 第3款(省、新北、臺中、臺南)、第3、4類(臺北、高雄) Class 3 | N69: 總計 Grand Total | Q69: 第1款(省、新北、臺中、臺南)、第0類(臺北)、第1類(高雄) Class 1 | T69: 第2款(省、新北、臺中、臺南)、第1、2類(臺北)、第2類(高雄) Class 2 | W69: 第3款(省、新北、臺中、臺南)、第3、4類(臺北、高雄) Class 3
B70: 計 | C70: 男 | D70: 女 | E70: 計 | F70: 男 | G70: 女 | H70: 計 | I70: 男 | J70: 女 | K70: 計 | L70: 男 | M70: 女 | N70: 計 | O70: 男 | P70: 女 | Q70: 計 | R70: 男 | S70: 女 | T70: 計 | U70: 男 | V70: 女 | W70: 計 | X70: 男 | Y70: 女
A71: Locality | B71: Sub-Total | C71: Male | D71: Female | E71: Sub-Total | F71: Male | G71: Female | H71: Sub-Total | I71: Male | J71: Female | K71: Sub-Total | L71: Male | M71: Female | N71: Sub-Total | O71: Male | P71: Female | Q71: Sub-Total | R71: Male | S71: Female | T71: Sub-Total | U71: Male | V71: Female | W71: Sub-Total | X71: Male | Y71: Female
A72: 總計 Total | B72: 10919 | C72: 6200 | D72: 4719 | E72: 32 | F72: 25 | G72: 7 | H72: 1164 | I72: 760 | J72: 404 | K72: 9723 | L72: 5415 | M72: 4308 | N72: 30136 | O72: 15439 | P72: 14697 | Q72: 33 | R72: 25 | S72: 8 | T72: 2548 | U72: 1423 | V72: 1125 | W72: 27555 | X72: 13991 | Y72: 13564
A73: 新北市 New Taipei City | B73: 489 | C73: 226 | D73: 263 | E73: 0 | F73: 0 | G73: 0 | H73: 26 | I73: 12 | J73: 14 | K73: 463 | L73: 214 | M73: 249 | N73: 1503 | O73: 717 | P73: 786 | Q73: 0 | R73: 0 | S73: 0 | T73: 62 | U73: 26 | V73: 36 | W73: 1441 | X73: 691 | Y73: 750
A74: 臺北市 Taipei City | B74: 504 | C74: 206 | D74: 298 | E74: 7 | F74: 5 | G74: 2 | H74: 63 | I74: 20 | J74: 43 | K74: 434 | L74: 181 | M74: 253 | N74: 1395 | O74: 628 | P74: 767 | Q74: 7 | R74: 5 | S74: 2 | T74: 130 | U74: 54 | V74: 76 | W74: 1258 | X74: 569 | Y74: 689
A75: 桃園市 Taoyuan City | B75: 1538 | C75: 878 | D75: 660 | E75: 8 | F75: 6 | G75: 2 | H75: 120 | I75: 75 | J75: 45 | K75: 1410 | L75: 797 | M75: 613 | N75: 5237 | O75: 2623 | P75: 2614 | Q75: 8 | R75: 6 | S75: 2 | T75: 389 | U75: 203 | V75: 186 | W75: 4840 | X75: 2414 | Y75: 2426
A76: 臺中市 Taichung City | B76: 786 | C76: 345 | D76: 441 | E76: 3 | F76: 3 | G76: 0 | H76: 153 | I76: 80 | J76: 73 | K76: 630 | L76: 262 | M76: 368 | N76: 2608 | O76: 1237 | P76: 1371 | Q76: 3 | R76: 3 | S76: 0 | T76: 474 | U76: 251 | V76: 223 | W76: 2131 | X76: 983 | Y76: 1148
A77: 臺南市 Tainan City | B77: 82 | C77: 41 | D77: 41 | E77: 0 | F77: 0 | G77: 0 | H77: 12 | I77: 4 | J77: 8 | K77: 70 | L77: 37 | M77: 33 | N77: 264 | O77: 114 | P77: 150 | Q77: 0 | R77: 0 | S77: 0 | T77: 26 | U77: 9 | V77: 17 | W77: 238 | X77: 105 | Y77: 133
A78: 高雄市 Kaohsiung City | B78: 398 | C78: 221 | D78: 177 | E78: 3 | F78: 1 | G78: 2 | H78: 138 | I78: 87 | J78: 51 | K78: 257 | L78: 133 | M78: 124 | N78: 1318 | O78: 654 | P78: 664 | Q78: 4 | R78: 1 | S78: 3 | T78: 338 | U78: 177 | V78: 161 | W78: 976 | X78: 476 | Y78: 500
A79: 宜蘭縣 Yilan County | B79: 428 | C79: 254 | D79: 174 | E79: 0 | F79: 0 | G79: 0 | H79: 23 | I79: 18 | J79: 5 | K79: 405 | L79: 236 | M79: 169 | N79: 1225 | O79: 628 | P79: 597 | Q79: 0 | R79: 0 | S79: 0 | T79: 38 | U79: 28 | V79: 10 | W79: 1187 | X79: 600 | Y79: 587
A80: 新竹縣 Hsinchu County | B80: 396 | C80: 248 | D80: 148 | E80: 1 | F80: 1 | G80: 0 | H80: 33 | I80: 21 | J80: 12 | K80: 362 | L80: 226 | M80: 136 | N80: 1394 | O80: 689 | P80: 705 | Q80: 1 | R80: 1 | S80: 0 | T80: 69 | U80: 32 | V80: 37 | W80: 1324 | X80: 656 | Y80: 668
A81: 苗栗縣 Miaoli County | B81: 217 | C81: 134 | D81: 83 | E81: 0 | F81: 0 | G81: 0 | H81: 76 | I81: 54 | J81: 22 | K81: 141 | L81: 80 | M81: 61 | N81: 648 | O81: 319 | P81: 329 | Q81: 0 | R81: 0 | S81: 0 | T81: 199 | U81: 113 | V81: 86 | W81: 449 | X81: 206 | Y81: 243
A82: 彰化縣 Changhua County | B82: 70 | C82: 31 | D82: 39 | E82: 0 | F82: 0 | G82: 0 | H82: 0 | I82: 0 | J82: 0 | K82: 70 | L82: 31 | M82: 39 | N82: 194 | O82: 87 | P82: 107 | Q82: 0 | R82: 0 | S82: 0 | T82: 0 | U82: 0 | V82: 0 | W82: 194 | X82: 87 | Y82: 107
A83: 南投縣 Nantou County | B83: 329 | C83: 201 | D83: 128 | E83: 0 | F83: 0 | G83: 0 | H83: 6 | I83: 2 | J83: 4 | K83: 323 | L83: 199 | M83: 124 | N83: 969 | O83: 475 | P83: 494 | Q83: 0 | R83: 0 | S83: 0 | T83: 20 | U83: 10 | V83: 10 | W83: 949 | X83: 465 | Y83: 484
... A94: 連江縣 Lienchiang County | B94: 5 | C94: 4 | D94: 1 | E94: 0 | F94: 0 | G94: 0 | H94: 0 | I94: 0 | J94: 0 | K94: 5 | L94: 4 | M94: 1 | N94: 10 | O94: 5 | P94: 5 | Q94: 0 | R94: 0 | S94: 0 | T94: 0 | U94: 0 | V94: 0 | W94: 10 | X94: 5 | Y94: 5
A95: 資料來源：直轄市、縣﹝市﹞政府。
A96: Source : County and City Government.
A99: 中華民國111年第4季底, 2022 Q4
A100: 地區別 | B100: 原住民戶數(戶長性別) Indigenous Households | N100: 原住民人數 Indigenous Persons
B101: 總計 Grand Total | E101: 第1款(省、新北、臺中、臺南)、第0類(臺北)、第1類(高雄) Class 1 | H101: 第2款(省、新北、臺中、臺南)、第1、2類(臺北)、第2類(高雄) Class 2 | K101: 第3款(省、新北、臺中、臺南)、第3、4類(臺北、高雄) Class 3 | N101: 總計 Grand Total | Q101: 第1款(省、新北、臺中、臺南)、第0類(臺北)、第1類(高雄) Class 1 | T101: 第2款(省、新北、臺中、臺南)、第1、2類(臺北)、第2類(高雄) Class 2 | W101: 第3款(省、新北、臺中、臺南)、第3、4類(臺北、高雄) Class 3
B102: 計 | C102: 男 | D102: 女 | E102: 計 | F102: 男 | G102: 女 | H102: 計 | I102: 男 | J102: 女 | K102: 計 | L102: 男 | M102: 女 | N102: 計 | O102: 男 | P102: 女 | Q102: 計 | R102: 男 | S102: 女 | T102: 計 | U102: 男 | V102: 女 | W102: 計 | X102: 男 | Y102: 女
A103: Locality | B103: Sub-Total | C103: Male | D103: Female | E103: Sub-Total | F103: Male | G103: Female | H103: Sub-Total | I103: Male | J103: Female | K103: Sub-Total | L103: Male | M103: Female | N103: Sub-Total | O103: Male | P103: Female | Q103: Sub-Total | R103: Male | S103: Female | T103: Sub-Total | U103: Male | V103: Female | W103: Sub-Total | X103: Male | Y103: Female
A104: 總計 Total | B104: 11160 | C104: 6320 | D104: 4840 | E104: 30 | F104: 23 | G104: 7 | H104: 1157 | I104: 745 | J104: 412 | K104: 9973 | L104: 5552 | M104: 4421 | N104: 30799 | O104: 15760 | P104: 15039 | Q104: 31 | R104: 23 | S104: 8 | T104: 2588 | U104: 1444 | V104: 1144 | W104: 28180 | X104: 14293 | Y104: 13887
A105: 新北市 New Taipei City | B105: 500 | C105: 230 | D105: 270 | E105: 0 | F105: 0 | G105: 0 | H105: 26 | I105: 12 | J105: 14 | K105: 474 | L105: 218 | M105: 256 | N105: 1525 | O105: 722 | P105: 803 | Q105: 0 | R105: 0 | S105: 0 | T105: 61 | U105: 26 | V105: 35 | W105: 1464 | X105: 696 | Y105: 768
A106: 臺北市 Taipei City | B106: 505 | C106: 207 | D106: 298 | E106: 7 | F106: 5 | G106: 2 | H106: 62 | I106: 19 | J106: 43 | K106: 436 | L106: 183 | M106: 253 | N106: 1403 | O106: 631 | P106: 772 | Q106: 7 | R106: 5 | S106: 2 | T106: 130 | U106: 54 | V106: 76 | W106: 1266 | X106: 572 | Y106: 694
A107: 桃園市 Taoyuan City | B107: 1556 | C107: 892 | D107: 664 | E107: 7 | F107: 5 | G107: 2 | H107: 121 | I107: 76 | J107: 45 | K107: 1428 | L107: 811 | M107: 617 | N107: 5304 | O107: 2664 | P107: 2640 | Q107: 7 | R107: 5 | S107: 2 | T107: 388 | U107: 205 | V107: 183 | W107: 4909 | X107: 2454 | Y107: 2455
A108: 臺中市 Taichung City | B108: 805 | C108: 358 | D108: 447 | E108: 3 | F108: 3 | G108: 0 | H108: 158 | I108: 82 | J108: 76 | K108: 644 | L108: 273 | M108: 371 | N108: 2675 | O108: 1273 | P108: 1402 | Q108: 3 | R108: 3 | S108: 0 | T108: 490 | U108: 260 | V108: 230 | W108: 2182 | X108: 1010 | Y108: 1172
A109: 臺南市 Tainan City | B109: 70 | C109: 34 | D109: 36 | E109: 0 | F109: 0 | G109: 0 | H109: 12 | I109: 4 | J109: 8 | K109: 58 | L109: 30 | M109: 28 | N109: 226 | O109: 99 | P109: 127 | Q109: 0 | R109: 0 | S109: 0 | T109: 27 | U109: 10 | V109: 17 | W109: 199 | X109: 89 | Y109: 110
A110: 高雄市 Kaohsiung City | B110: 471 | C110: 253 | D110: 218 | E110: 3 | F110: 1 | G110: 2 | H110: 148 | I110: 92 | J110: 56 | K110: 320 | L110: 160 | M110: 160 | N110: 1544 | O110: 748 | P110: 796 | Q110: 4 | R110: 1 | S110: 3 | T110: 388 | U110: 206 | V110: 182 | W110: 1152 | X110: 541 | Y110: 611
A111: 宜蘭縣 Yilan County | B111: 449 | C111: 273 | D111: 176 | E111: 0 | F111: 0 | G111: 0 | H111: 21 | I111: 16 | J111: 5 | K111: 428 | L111: 257 | M111: 171 | N111: 1270 | O111: 661 | P111: 609 | Q111: 0 | R111: 0 | S111: 0 | T111: 33 | U111: 25 | V111: 8 | W111: 1237 | X111: 636 | Y111: 601
A112: 新竹縣 Hsinchu County | B112: 406 | C112: 250 | D112: 156 | E112: 1 | F112: 1 | G112: 0 | H112: 30 | I112: 19 | J112: 11 | K112: 375 | L112: 230 | M112: 145 | N112: 1411 | O112: 692 | P112: 719 | Q112: 1 | R112: 1 | S112: 0 | T112: 62 | U112: 28 | V112: 34 | W112: 1348 | X112: 663 | Y112: 685
A113: 苗栗縣 Miaoli County | B113: 216 | C113: 133 | D113: 83 | E113: 0 | F113: 0 | G113: 0 | H113: 73 | I113: 52 | J113: 21 | K113: 143 | L113: 81 | M113: 62 | N113: 656 | O113: 317 | P113: 339 | Q113: 0 | R113: 0 | S113: 0 | T113: 197 | U113: 112 | V113: 85 | W113: 459 | X113: 205 | Y113: 254
A114: 彰化縣 Changhua County | B114: 70 | C114: 32 | D114: 38 | E114: 0 | F114: 0 | G114: 0 | H114: 0 | I114: 0 | J114: 0 | K114: 70 | L114: 32 | M114: 38 | N114: 195 | O114: 90 | P114: 105 | Q114: 0 | R114: 0 | S114: 0 | T114: 0 | U114: 0 | V114: 0 | W114: 195 | X114: 90 | Y114: 105
A115: 南投縣 Nantou County | B115: 335 | C115: 202 | D115: 133 | E115: 0 | F115: 0 | G115: 0 | H115: 6 | I115: 2 | J115: 4 | K115: 329 | L115: 200 | M115: 129 | N115: 978 | O115: 481 | P115: 497 | Q115: 0 | R115: 0 | S115: 0 | T115: 20 | U115: 10 | V115: 10 | W115: 958 | X115: 471 | Y115: 487
... A126: 連江縣 Lienchiang County | B126: 5 | C126: 4 | D126: 1 | E126: 0 | F126: 0 | G126: 0 | H126: 0 | I126: 0 | J126: 0 | K126: 5 | L126: 4 | M126: 1 | N126: 10 | O126: 5 | P126: 5 | Q126: 0 | R126: 0 | S126: 0 | T126: 0 | U126: 0 | V126: 0 | W126: 10 | X126: 5 | Y126: 5
A127: 資料來源：直轄市、縣﹝市﹞政府。
A128: Source : County and City Government.

Sheet 2021
A2: 原住民低收入戶戶數及人數 Number and Population of Indigenous Low-Income Households
A3: 中華民國110年第1季底, 2021 Q1
A4: 地區別 | B4: 原住民戶數-按戶長性別分(戶) Indigenous Households | N4: 原住民人數(人) Indigenous Persons
B5: 總計 Grand Total | E5: 第1款(省、新北、臺中、臺南)、第0類(臺北)、第1類(高雄) Class 1 | H5: 第2款(省、新北、臺中、臺南)、第1、2類(臺北)、第2類(高雄) Class 2 | K5: 第3款(省、新北、臺中、臺南)、第3、4類(臺北、高雄) Class 3 | N5: 總計 Grand Total | Q5: 第1款(省、新北、臺中、臺南)、第0類(臺北)、第1類(高雄) Class 1 | T5: 第2款(省、新北、臺中、臺南)、第1、2類(臺北)、第2類(高雄) Class 2 | W5: 第3款(省、新北、臺中、臺南)、第3、4類(臺北、高雄) Class 3
B6: 計 | C6: 男 | D6: 女 | E6: 計 | F6: 男 | G6: 女 | H6: 計 | I6: 男 | J6: 女 | K6: 計 | L6: 男 | M6: 女 | N6: 計 | O6: 男 | P6: 女 | Q6: 計 | R6: 男 | S6: 女 | T6: 計 | U6: 男 | V6: 女 | W6: 計 | X6: 男 | Y6: 女
A7: Locality | B7: Sub-Total | C7: Male | D7: Female | E7: Sub-Total | F7: Male | G7: Female | H7: Sub-Total | I7: Male | J7: Female | K7: Sub-Total | L7: Male | M7: Female | N7: Sub-Total | O7: Male | P7: Female | Q7: Sub-Total | R7: Male | S7: Female | T7: Sub-Total | U7: Male | V7: Female | W7: Sub-Total | X7: Male | Y7: Female
A8: 總計 Total | B8: 10427 | C8: 6000 | D8: 4427 | E8: 28 | F8: 25 | G8: 3 | H8: 1188 | I8: 777 | J8: 411 | K8: 9211 | L8: 5198 | M8: 4013 | N8: 29178 | O8: 14977 | P8: 14201 | Q8: 28 | R8: 25 | S8: 3 | T8: 2626 | U8: 1438 | V8: 1188 | W8: 26524 | X8: 13514 | Y8: 13010
A9: 新北市 New Taipei City | B9: 557 | C9: 273 | D9: 284 | E9: 0 | F9: 0 | G9: 0 | H9: 28 | I9: 15 | J9: 13 | K9: 529 | L9: 258 | M9: 271 | N9: 1557 | O9: 740 | P9: 817 | Q9: 0 | R9: 0 | S9: 0 | T9: 53 | U9: 27 | V9: 26 | W9: 1504 | X9: 713 | Y9: 791
A10: 臺北市 Taipei City | B10: 437 | C10: 187 | D10: 250 | E10: 4 | F10: 3 | G10: 1 | H10: 58 | I10: 22 | J10: 36 | K10: 375 | L10: 162 | M10: 213 | N10: 1232 | O10: 549 | P10: 683 | Q10: 4 | R10: 3 | S10: 1 | T10: 121 | U10: 49 | V10: 72 | W10: 1107 | X10: 497 | Y10: 610
A11: 桃園市 Taoyuan City | B11: 1426 | C11: 825 | D11: 601 | E11: 4 | F11: 4 | G11: 0 | H11: 104 | I11: 65 | J11: 39 | K11: 1318 | L11: 756 | M11: 562 | N11: 5009 | O11: 2498 | P11: 2511 | Q11: 4 | R11: 4 | S11: 0 | T11: 345 | U11: 174 | V11: 171 | W11: 4660 | X11: 2320 | Y11: 2340
A12: 臺中市 Taichung City | B12: 743 | C12: 352 | D12: 391 | E12: 4 | F12: 4 | G12: 0 | H12: 151 | I12: 76 | J12: 75 | K12: 588 | L12: 272 | M12: 316 | N12: 2474 | O12: 1173 | P12: 1301 | Q12: 4 | R12: 4 | S12: 0 | T12: 489 | U12: 234 | V12: 255 | W12: 1981 | X12: 935 | Y12: 1046
A13: 臺南市 Tainan City | B13: 89 | C13: 40 | D13: 49 | E13: 0 | F13: 0 | G13: 0 | H13: 8 | I13: 4 | J13: 4 | K13: 81 | L13: 36 | M13: 45 | N13: 290 | O13: 114 | P13: 176 | Q13: 0 | R13: 0 | S13: 0 | T13: 19 | U13: 8 | V13: 11 | W13: 271 | X13: 106 | Y13: 165
A14: 高雄市 Kaohsiung City | B14: 414 | C14: 226 | D14: 188 | E14: 2 | F14: 2 | G14: 0 | H14: 129 | I14: 76 | J14: 53 | K14: 283 | L14: 148 | M14: 135 | N14: 1497 | O14: 737 | P14: 760 | Q14: 2 | R14: 2 | S14: 0 | T14: 326 | U14: 169 | V14: 157 | W14: 1169 | X14: 566 | Y14: 603
A15: 宜蘭縣 Yilan County | B15: 346 | C15: 224 | D15: 122 | E15: 0 | F15: 0 | G15: 0 | H15: 24 | I15: 18 | J15: 6 | K15: 322 | L15: 206 | M15: 116 | N15: 988 | O15: 513 | P15: 475 | Q15: 0 | R15: 0 | S15: 0 | T15: 54 | U15: 33 | V15: 21 | W15: 934 | X15: 480 | Y15: 454
A16: 新竹縣 Hsinchu County | B16: 385 | C16: 242 | D16: 143 | E16: 1 | F16: 1 | G16: 0 | H16: 35 | I16: 25 | J16: 10 | K16: 349 | L16: 216 | M16: 133 | N16: 1338 | O16: 677 | P16: 661 | Q16: 1 | R16: 1 | S16: 0 | T16: 72 | U16: 33 | V16: 39 | W16: 1265 | X16: 643 | Y16: 622
A17: 苗栗縣 Miaoli County | B17: 205 | C17: 121 | D17: 84 | E17: 0 | F17: 0 | G17: 0 | H17: 80 | I17: 52 | J17: 28 | K17: 125 | L17: 69 | M17: 56 | N17: 620 | O17: 298 | P17: 322 | Q17: 0 | R17: 0 | S17: 0 | T17: 213 | U17: 114 | V17: 99 | W17: 407 | X17: 184 | Y17: 223
A18: 彰化縣 Changhua County | B18: 67 | C18: 34 | D18: 33 | E18: 0 | F18: 0 | G18: 0 | H18: 0 | I18: 0 | J18: 0 | K18: 67 | L18: 34 | M18: 33 | N18: 164 | O18: 78 | P18: 86 | Q18: 0 | R18: 0 | S18: 0 | T18: 0 | U18: 0 | V18: 0 | W18: 164 | X18: 78 | Y18: 86
A19: 南投縣 Nantou County | B19: 350 | C19: 223 | D19: 127 | E19: 0 | F19: 0 | G19: 0 | H19: 10 | I19: 4 | J19: 6 | K19: 340 | L19: 219 | M19: 121 | N19: 1021 | O19: 516 | P19: 505 | Q19: 0 | R19: 0 | S19: 0 | T19: 38 | U19: 18 | V19: 20 | W19: 983 | X19: 498 | Y19: 485
... A30: 連江縣 Lienchiang County | B30: 2 | C30: 1 | D30: 1 | E30: 0 | F30: 0 | G30: 0 | H30: 0 | I30: 0 | J30: 0 | K30: 2 | L30: 1 | M30: 1 | N30: 4 | O30: 3 | P30: 1 | Q30: 0 | R30: 0 | S30: 0 | T30: 0 | U30: 0 | V30: 0 | W30: 4 | X30: 3 | Y30: 1
A31: 資料來源：直轄市、縣﹝市﹞政府。
A32: Source : County and City Government.
A33: 總計 | B33: =B8-SUM(B9:B14)-#REF! -> #REF! | C33: =C8-SUM(C9:C14)-#REF! -> #REF! | D33: =D8-SUM(D9:D14)-#REF! -> #REF! | E33: =E8-SUM(E9:E14)-#REF! -> #REF! | F33: =F8-SUM(F9:F14)-#REF! -> #REF! | G33: =G8-SUM(G9:G14)-#REF! -> #REF! | H33: =H8-SUM(H9:H14)-#REF! -> #REF! | I33: =I8-SUM(I9:I14)-#REF! -> #REF! | ... Y33: =Y8-SUM(Y9:Y14)-#REF! -> #REF!
A34: 台灣省 | B34: =#REF!-SUM(B15:B28) -> #REF! | C34: =#REF!-SUM(C15:C28) -> #REF! | D34: =#REF!-SUM(D15:D28) -> #REF! | E34: =#REF!-SUM(E15:E28) -> #REF! | F34: =#REF!-SUM(F15:F28) -> #REF! | G34: =#REF!-SUM(G15:G28) -> #REF! | H34: =#REF!-SUM(H15:H28) -> #REF! | I34: =#REF!-SUM(I15:I28) -> #REF! | ... Y34: =#REF!-SUM(Y15:Y28) -> #REF!
A35: 福建省 | B35: =#REF!-B29-B30 -> #REF! | C35: =#REF!-C29-C30 -> #REF! | D35: =#REF!-D29-D30 -> #REF! | E35: =#REF!-E29-E30 -> #REF! | F35: =#REF!-F29-F30 -> #REF! | G35: =#REF!-G29-G30 -> #REF! | H35: =#REF!-H29-H30 -> #REF! | I35: =#REF!-I29-I30 -> #REF! | ... Y35: =#REF!-Y29-Y30 -> #REF!
A36: 核年季 | B36: =B8-歷年!#REF! -> #REF! | C36: =C8-歷年!#REF! -> #REF! | D36: =D8-歷年!#REF! -> #REF! | E36: =E8-歷年!#REF! -> #REF! | H36: =H8-歷年!#REF! -> #REF! | K36: =K8-歷年!#REF! -> #REF! | N36: =N8-歷年!#REF! -> #REF! | O36: =O8-歷年!#REF! -> #REF! | P36: =P8-歷年!#REF! -> #REF! | Q36: =Q8-歷年!#REF! -> #REF! | T36: =T8-歷年!#REF! -> #REF! | W36: =W8-歷年!#REF! -> #REF!
A39: 中華民國110年第2季底, 2021 Q2
A40: 地區別 | B40: 原住民戶數(戶長性別) Indigenous Households | N40: 原住民人數 Indigenous Persons
B41: 總計 Grand Total | E41: 第1款(省、新北、臺中、臺南)、第0類(臺北)、第1類(高雄) Class 1 | H41: 第2款(省、新北、臺中、臺南)、第1、2類(臺北)、第2類(高雄) Class 2 | K41: 第3款(省、新北、臺中、臺南)、第3、4類(臺北、高雄) Class 3 | N41: 總計 Grand Total | Q41: 第1款(省、新北、臺中、臺南)、第0類(臺北)、第1類(高雄) Class 1 | T41: 第2款(省、新北、臺中、臺南)、第1、2類(臺北)、第2類(高雄) Class 2 | W41: 第3款(省、新北、臺中、臺南)、第3、4類(臺北、高雄) Class 3
B42: 計 | C42: 男 | D42: 女 | E42: 計 | F42: 男 | G42: 女 | H42: 計 | I42: 男 | J42: 女 | K42: 計 | L42: 男 | M42: 女 | N42: 計 | O42: 男 | P42: 女 | Q42: 計 | R42: 男 | S42: 女 | T42: 計 | U42: 男 | V42: 女 | W42: 計 | X42: 男 | Y42: 女
A43: Locality | B43: Sub-Total | C43: Male | D43: Female | E43: Sub-Total | F43: Male | G43: Female | H43: Sub-Total | I43: Male | J43: Female | K43: Sub-Total | L43: Male | M43: Female | N43: Sub-Total | O43: Male | P43: Female | Q43: Sub-Total | R43: Male | S43: Female | T43: Sub-Total | U43: Male | V43: Female | W43: Sub-Total | X43: Male | Y43: Female
A44: 總計 Total | B44: 10742 | C44: 6173 | D44: 4569 | E44: 28 | F44: 24 | G44: 4 | H44: 1199 | I44: 781 | J44: 418 | K44: 9515 | L44: 5368 | M44: 4147 | N44: 30077 | O44: 15442 | P44: 14635 | Q44: 28 | R44: 24 | S44: 4 | T44: 2655 | U44: 1450 | V44: 1205 | W44: 27394 | X44: 13968 | Y44: 13426
A45: 新北市 New Taipei City | B45: 581 | C45: 286 | D45: 295 | E45: 0 | F45: 0 | G45: 0 | H45: 28 | I45: 15 | J45: 13 | K45: 553 | L45: 271 | M45: 282 | N45: 1606 | O45: 764 | P45: 842 | Q45: 0 | R45: 0 | S45: 0 | T45: 54 | U45: 28 | V45: 26 | W45: 1552 | X45: 736 | Y45: 816
A46: 臺北市 Taipei City | B46: 486 | C46: 201 | D46: 285 | E46: 4 | F46: 3 | G46: 1 | H46: 62 | I46: 22 | J46: 40 | K46: 420 | L46: 176 | M46: 244 | N46: 1388 | O46: 616 | P46: 772 | Q46: 4 | R46: 3 | S46: 1 | T46: 138 | U46: 55 | V46: 83 | W46: 1246 | X46: 558 | Y46: 688
A47: 桃園市 Taoyuan City | B47: 1473 | C47: 856 | D47: 617 | E47: 4 | F47: 4 | G47: 0 | H47: 105 | I47: 65 | J47: 40 | K47: 1364 | L47: 787 | M47: 577 | N47: 5141 | O47: 2565 | P47: 2576 | Q47: 4 | R47: 4 | S47: 0 | T47: 345 | U47: 172 | V47: 173 | W47: 4792 | X47: 2389 | Y47: 2403
A48: 臺中市 Taichung City | B48: 764 | C48: 363 | D48: 401 | E48: 4 | F48: 4 | G48: 0 | H48: 151 | I48: 77 | J48: 74 | K48: 609 | L48: 282 | M48: 327 | N48: 2529 | O48: 1202 | P48: 1327 | Q48: 4 | R48: 4 | S48: 0 | T48: 487 | U48: 234 | V48: 253 | W48: 2038 | X48: 964 | Y48: 1074
A49: 臺南市 Tainan City | B49: 92 | C49: 42 | D49: 50 | E49: 0 | F49: 0 | G49: 0 | H49: 9 | I49: 4 | J49: 5 | K49: 83 | L49: 38 | M49: 45 | N49: 289 | O49: 113 | P49: 176 | Q49: 0 | R49: 0 | S49: 0 | T49: 20 | U49: 8 | V49: 12 | W49: 269 | X49: 105 | Y49: 164
A50: 高雄市 Kaohsiung City | B50: 416 | C50: 229 | D50: 187 | E50: 1 | F50: 1 | G50: 0 | H50: 132 | I50: 79 | J50: 53 | K50: 283 | L50: 149 | M50: 134 | N50: 1500 | O50: 748 | P50: 752 | Q50: 1 | R50: 1 | S50: 0 | T50: 332 | U50: 173 | V50: 159 | W50: 1167 | X50: 574 | Y50: 593
A51: 宜蘭縣 Yilan County | B51: 354 | C51: 222 | D51: 132 | E51: 0 | F51: 0 | G51: 0 | H51: 22 | I51: 17 | J51: 5 | K51: 332 | L51: 205 | M51: 127 | N51: 1024 | O51: 529 | P51: 495 | Q51: 0 | R51: 0 | S51: 0 | T51: 47 | U51: 29 | V51: 18 | W51: 977 | X51: 500 | Y51: 477
A52: 新竹縣 Hsinchu County | B52: 391 | C52: 246 | D52: 145 | E52: 1 | F52: 1 | G52: 0 | H52: 34 | I52: 23 | J52: 11 | K52: 356 | L52: 222 | M52: 134 | N52: 1356 | O52: 685 | P52: 671 | Q52: 1 | R52: 1 | S52: 0 | T52: 71 | U52: 31 | V52: 40 | W52: 1284 | X52: 653 | Y52: 631
A53: 苗栗縣 Miaoli County | B53: 206 | C53: 121 | D53: 85 | E53: 0 | F53: 0 | G53: 0 | H53: 80 | I53: 52 | J53: 28 | K53: 126 | L53: 69 | M53: 57 | N53: 622 | O53: 301 | P53: 321 | Q53: 0 | R53: 0 | S53: 0 | T53: 215 | U53: 115 | V53: 100 | W53: 407 | X53: 186 | Y53: 221
A54: 彰化縣 Changhua County | B54: 70 | C54: 34 | D54: 36 | E54: 0 | F54: 0 | G54: 0 | H54: 1 | I54: 0 | J54: 1 | K54: 69 | L54: 34 | M54: 35 | N54: 181 | O54: 84 | P54: 97 | Q54: 0 | R54: 0 | S54: 0 | T54: 5 | U54: 3 | V54: 2 | W54: 176 | X54: 81 | Y54: 95
A55: 南投縣 Nantou County | B55: 353 | C55: 226 | D55: 127 | E55: 0 | F55: 0 | G55: 0 | H55: 10 | I55: 4 | J55: 6 | K55: 343 | L55: 222 | M55: 121 | N55: 1034 | O55: 521 | P55: 513 | Q55: 0 | R55: 0 | S55: 0 | T55: 38 | U55: 18 | V55: 20 | W55: 996 | X55: 503 | Y55: 493
... A66: 連江縣 Lienchiang County | B66: 4 | C66: 3 | D66: 1 | E66: 0 | F66: 0 | G66: 0 | H66: 0 | I66: 0 | J66: 0 | K66: 4 | L66: 3 | M66: 1 | N66: 8 | O66: 4 | P66: 4 | Q66: 0 | R66: 0 | S66: 0 | T66: 0 | U66: 0 | V66: 0 | W66: 8 | X66: 4 | Y66: 4
A67: 資料來源：直轄市、縣﹝市﹞政府。
A68: Source : County and City Government.
A69: 總計 | B69: =B44-SUM(B45:B50)-#REF! -> #REF! | C69: =C44-SUM(C45:C50)-#REF! -> #REF! | D69: =D44-SUM(D45:D50)-#REF! -> #REF! | E69: =E44-SUM(E45:E50)-#REF! -> #REF! | F69: =F44-SUM(F45:F50)-#REF! -> #REF! | G69: =G44-SUM(G45:G50)-#REF! -> #REF! | H69: =H44-SUM(H45:H50)-#REF! -> #REF! | I69: =I44-SUM(I45:I50)-#REF! -> #REF! | ... Y69: =Y44-SUM(Y45:Y50)-#REF! -> #REF!
A70: 台灣省 | B70: =#REF!-SUM(B51:B64) -> #REF! | C70: =#REF!-SUM(C51:C64) -> #REF! | D70: =#REF!-SUM(D51:D64) -> #REF! | E70: =#REF!-SUM(E51:E64) -> #REF! | F70: =#REF!-SUM(F51:F64) -> #REF! | G70: =#REF!-SUM(G51:G64) -> #REF! | H70: =#REF!-SUM(H51:H64) -> #REF! | I70: =#REF!-SUM(I51:I64) -> #REF! | ... Y70: =#REF!-SUM(Y51:Y64) -> #REF!
A71: 福建省 | B71: =#REF!-B65-B66 -> #REF! | C71: =#REF!-C65-C66 -> #REF! | D71: =#REF!-D65-D66 -> #REF! | E71: =#REF!-E65-E66 -> #REF! | F71: =#REF!-F65-F66 -> #REF! | G71: =#REF!-G65-G66 -> #REF! | H71: =#REF!-H65-H66 -> #REF! | I71: =#REF!-I65-I66 -> #REF! | ... Y71: =#REF!-Y65-Y66 -> #REF!
A72: 核年季 | B72: =B44-歷年!B69 -> 10742 | C72: =C44-歷年!C69 -> 6173 | D72: =D44-歷年!D69 -> 4569 | E72: =E44-歷年!E69 -> 28 | H72: =H44-歷年!F69 -> 1199 | K72: =K44-歷年!G69 -> 9515 | N72: =N44-歷年!H69 -> 30077 | O72: =O44-歷年!I69 -> 15442 | P72: =P44-歷年!J69 -> 14635 | Q72: =Q44-歷年!K69 -> 28 | T72: =T44-歷年!L69 -> 2655 | W72: =W44-歷年!M69 -> 27394
A75: 中華民國110年第3季底, 2021 Q3
A76: 地區別 | B76: 原住民戶數(戶長性別) Indigenous Households | N76: 原住民人數 Indigenous Persons
B77: 總計 Grand Total | E77: 第1款(省、新北、臺中、臺南)、第0類(臺北)、第1類(高雄) Class 1 | H77: 第2款(省、新北、臺中、臺南)、第1、2類(臺北)、第2類(高雄) Class 2 | K77: 第3款(省、新北、臺中、臺南)、第3、4類(臺北、高雄) Class 3 | N77: 總計 Grand Total | Q77: 第1款(省、新北、臺中、臺南)、第0類(臺北)、第1類(高雄) Class 1 | T77: 第2款(省、新北、臺中、臺南)、第1、2類(臺北)、第2類(高雄) Class 2 | W77: 第3款(省、新北、臺中、臺南)、第3、4類(臺北、高雄) Class 3
B78: 計 | C78: 男 | D78: 女 | E78: 計 | F78: 男 | G78: 女 | H78: 計 | I78: 男 | J78: 女 | K78: 計 | L78: 男 | M78: 女 | N78: 計 | O78: 男 | P78: 女 | Q78: 計 | R78: 男 | S78: 女 | T78: 計 | U78: 男 | V78: 女 | W78: 計 | X78: 男 | Y78: 女
A79: Locality | B79: Sub-Total | C79: Male | D79: Female | E79: Sub-Total | F79: Male | G79: Female | H79: Sub-Total | I79: Male | J79: Female | K79: Sub-Total | L79: Male | M79: Female | N79: Sub-Total | O79: Male | P79: Female | Q79: Sub-Total | R79: Male | S79: Female | T79: Sub-Total | U79: Male | V79: Female | W79: Sub-Total | X79: Male | Y79: Female
A80: 總計 Total | B80: 10758 | C80: 6174 | D80: 4584 | E80: 26 | F80: 22 | G80: 4 | H80: 1202 | I80: 784 | J80: 418 | K80: 9530 | L80: 5368 | M80: 4162 | N80: 30067 | O80: 15441 | P80: 14626 | Q80: 26 | R80: 22 | S80: 4 | T80: 2677 | U80: 1460 | V80: 1217 | W80: 27364 | X80: 13959 | Y80: 13405
A81: 新北市 New Taipei City | B81: 598 | C81: 295 | D81: 303 | E81: 0 | F81: 0 | G81: 0 | H81: 28 | I81: 15 | J81: 13 | K81: 570 | L81: 280 | M81: 290 | N81: 1649 | O81: 789 | P81: 860 | Q81: 0 | R81: 0 | S81: 0 | T81: 54 | U81: 28 | V81: 26 | W81: 1595 | X81: 761 | Y81: 834
A82: 臺北市 Taipei City | B82: 485 | C82: 203 | D82: 282 | E82: 3 | F82: 2 | G82: 1 | H82: 61 | I82: 21 | J82: 40 | K82: 421 | L82: 180 | M82: 241 | N82: 1375 | O82: 619 | P82: 756 | Q82: 3 | R82: 2 | S82: 1 | T82: 134 | U82: 52 | V82: 82 | W82: 1238 | X82: 565 | Y82: 673
A83: 桃園市 Taoyuan City | B83: 1487 | C83: 864 | D83: 623 | E83: 4 | F83: 4 | G83: 0 | H83: 104 | I83: 64 | J83: 40 | K83: 1379 | L83: 796 | M83: 583 | N83: 5220 | O83: 2609 | P83: 2611 | Q83: 4 | R83: 4 | S83: 0 | T83: 353 | U83: 180 | V83: 173 | W83: 4863 | X83: 2425 | Y83: 2438
A84: 臺中市 Taichung City | B84: 769 | C84: 360 | D84: 409 | E84: 4 | F84: 4 | G84: 0 | H84: 153 | I84: 79 | J84: 74 | K84: 612 | L84: 277 | M84: 335 | N84: 2546 | O84: 1217 | P84: 1329 | Q84: 4 | R84: 4 | S84: 0 | T84: 488 | U84: 237 | V84: 251 | W84: 2054 | X84: 976 | Y84: 1078
A85: 臺南市 Tainan City | B85: 89 | C85: 40 | D85: 49 | E85: 0 | F85: 0 | G85: 0 | H85: 9 | I85: 3 | J85: 6 | K85: 80 | L85: 37 | M85: 43 | N85: 280 | O85: 108 | P85: 172 | Q85: 0 | R85: 0 | S85: 0 | T85: 21 | U85: 7 | V85: 14 | W85: 259 | X85: 101 | Y85: 158
A86: 高雄市 Kaohsiung City | B86: 408 | C86: 224 | D86: 184 | E86: 1 | F86: 1 | G86: 0 | H86: 135 | I86: 81 | J86: 54 | K86: 272 | L86: 142 | M86: 130 | N86: 1467 | O86: 735 | P86: 732 | Q86: 1 | R86: 1 | S86: 0 | T86: 351 | U86: 176 | V86: 175 | W86: 1115 | X86: 558 | Y86: 557
A87: 宜蘭縣 Yilan County | B87: 363 | C87: 222 | D87: 141 | E87: 0 | F87: 0 | G87: 0 | H87: 23 | I87: 18 | J87: 5 | K87: 340 | L87: 204 | M87: 136 | N87: 1048 | O87: 541 | P87: 507 | Q87: 0 | R87: 0 | S87: 0 | T87: 47 | U87: 29 | V87: 18 | W87: 1001 | X87: 512 | Y87: 489
A88: 新竹縣 Hsinchu County | B88: 388 | C88: 244 | D88: 144 | E88: 1 | F88: 1 | G88: 0 | H88: 32 | I88: 22 | J88: 10 | K88: 355 | L88: 221 | M88: 134 | N88: 1355 | O88: 680 | P88: 675 | Q88: 1 | R88: 1 | S88: 0 | T88: 61 | U88: 29 | V88: 32 | W88: 1293 | X88: 650 | Y88: 643
A89: 苗栗縣 Miaoli County | B89: 210 | C89: 123 | D89: 87 | E89: 0 | F89: 0 | G89: 0 | H89: 82 | I89: 54 | J89: 28 | K89: 128 | L89: 69 | M89: 59 | N89: 630 | O89: 306 | P89: 324 | Q89: 0 | R89: 0 | S89: 0 | T89: 212 | U89: 114 | V89: 98 | W89: 418 | X89: 192 | Y89: 226
A90: 彰化縣 Changhua County | B90: 70 | C90: 33 | D90: 37 | E90: 0 | F90: 0 | G90: 0 | H90: 1 | I90: 0 | J90: 1 | K90: 69 | L90: 33 | M90: 36 | N90: 179 | O90: 83 | P90: 96 | Q90: 0 | R90: 0 | S90: 0 | T90: 5 | U90: 3 | V90: 2 | W90: 174 | X90: 80 | Y90: 94
A91: 南投縣 Nantou County | B91: 352 | C91: 223 | D91: 129 | E91: 0 | F91: 0 | G91: 0 | H91: 10 | I91: 4 | J91: 6 | K91: 342 | L91: 219 | M91: 123 | N91: 1039 | O91: 519 | P91: 520 | Q91: 0 | R91: 0 | S91: 0 | T91: 38 | U91: 18 | V91: 20 | W91: 1001 | X91: 501 | Y91: 500
... A102: 連江縣 Lienchiang County | B102: 4 | C102: 3 | D102: 1 | E102: 0 | F102: 0 | G102: 0 | H102: 0 | I102: 0 | J102: 0 | K102: 4 | L102: 3 | M102: 1 | N102: 8 | O102: 4 | P102: 4 | Q102: 0 | R102: 0 | S102: 0 | T102: 0 | U102: 0 | V102: 0 | W102: 8 | X102: 4 | Y102: 4
A103: 資料來源：直轄市、縣﹝市﹞政府。
A104: Source : County and City Government.
A105: 總計 | B105: =B80-SUM(B81:B86)-#REF! -> #REF! | C105: =C80-SUM(C81:C86)-#REF! -> #REF! | D105: =D80-SUM(D81:D86)-#REF! -> #REF! | E105: =E80-SUM(E81:E86)-#REF! -> #REF! | F105: =F80-SUM(F81:F86)-#REF! -> #REF! | G105: =G80-SUM(G81:G86)-#REF! -> #REF! | H105: =H80-SUM(H81:H86)-#REF! -> #REF! | I105: =I80-SUM(I81:I86)-#REF! -> #REF! | ... Y105: =Y80-SUM(Y81:Y86)-#REF! -> #REF!
A106: 台灣省 | B106: =#REF!-SUM(B87:B100) -> #REF! | C106: =#REF!-SUM(C87:C100) -> #REF! | D106: =#REF!-SUM(D87:D100) -> #REF! | E106: =#REF!-SUM(E87:E100) -> #REF! | F106: =#REF!-SUM(F87:F100) -> #REF! | G106: =#REF!-SUM(G87:G100) -> #REF! | H106: =#REF!-SUM(H87:H100) -> #REF! | I106: =#REF!-SUM(I87:I100) -> #REF! | ... Y106: =#REF!-SUM(Y87:Y100) -> #REF!
A107: 福建省 | B107: =#REF!-B101-B102 -> #REF! | C107: =#REF!-C101-C102 -> #REF! | D107: =#REF!-D101-D102 -> #REF! | E107: =#REF!-E101-E102 -> #REF! | F107: =#REF!-F101-F102 -> #REF! | G107: =#REF!-G101-G102 -> #REF! | H107: =#REF!-H101-H102 -> #REF! | I107: =#REF!-I101-I102 -> #REF! | ... Y107: =#REF!-Y101-Y102 -> #REF!
A108: 核年季 | B108: =B80-歷年!B108 -> 10758 | C108: =C80-歷年!C108 -> 6174 | D108: =D80-歷年!D108 -> 4584 | E108: =E80-歷年!E108 -> 26 | H108: =H80-歷年!F108 -> 1202 | K108: =K80-歷年!G108 -> 9530 | N108: =N80-歷年!H108 -> 30067 | O108: =O80-歷年!I108 -> 15441 | P108: =P80-歷年!J108 -> 14626 | Q108: =Q80-歷年!K108 -> 26 | T108: =T80-歷年!L108 -> 2677 | W108: =W80-歷年!M108 -> 27364
A111: 中華民國110年第4季底, 2021 Q4
A112: 地區別 | B112: 原住民戶數(戶長性別) Indigenous Households | N112: 原住民人數 Indigenous Persons
B113: 總計 Grand Total | E113: 第1款(省、新北、臺中、臺南)、第0類(臺北)、第1類(高雄) Class 1 | H113: 第2款(省、新北、臺中、臺南)、第1、2類(臺北)、第2類(高雄) Class 2 | K113: 第3款(省、新北、臺中、臺南)、第3、4類(臺北、高雄) Class 3 | N113: 總計 Grand Total | Q113: 第1款(省、新北、臺中、臺南)、第0類(臺北)、第1類(高雄) Class 1 | T113: 第2款(省、新北、臺中、臺南)、第1、2類(臺北)、第2類(高雄) Class 2 | W113: 第3款(省、新北、臺中、臺南)、第3、4類(臺北、高雄) Class 3
B114: 計 | C114: 男 | D114: 女 | E114: 計 | F114: 男 | G114: 女 | H114: 計 | I114: 男 | J114: 女 | K114: 計 | L114: 男 | M114: 女 | N114: 計 | O114: 男 | P114: 女 | Q114: 計 | R114: 男 | S114: 女 | T114: 計 | U114: 男 | V114: 女 | W114: 計 | X114: 男 | Y114: 女
A115: Locality | B115: Sub-Total | C115: Male | D115: Female | E115: Sub-Total | F115: Male | G115: Female | H115: Sub-Total | I115: Male | J115: Female | K115: Sub-Total | L115: Male | M115: Female | N115: Sub-Total | O115: Male | P115: Female | Q115: Sub-Total | R115: Male | S115: Female | T115: Sub-Total | U115: Male | V115: Female | W115: Sub-Total | X115: Male | Y115: Female
A116: 總計 Total | B116: 10949 | C116: 6276 | D116: 4673 | E116: 26 | F116: 22 | G116: 4 | H116: 1214 | I116: 796 | J116: 418 | K116: 9709 | L116: 5458 | M116: 4251 | N116: 30415 | O116: 15610 | P116: 14805 | Q116: 26 | R116: 22 | S116: 4 | T116: 2684 | U116: 1468 | V116: 1216 | W116: 27705 | X116: 14120 | Y116: 13585
A117: 新北市 New Taipei City | B117: 619 | C117: 302 | D117: 317 | E117: 0 | F117: 0 | G117: 0 | H117: 27 | I117: 15 | J117: 12 | K117: 592 | L117: 287 | M117: 305 | N117: 1677 | O117: 812 | P117: 865 | Q117: 0 | R117: 0 | S117: 0 | T117: 53 | U117: 28 | V117: 25 | W117: 1624 | X117: 784 | Y117: 840
A118: 臺北市 Taipei City | B118: 493 | C118: 203 | D118: 290 | E118: 4 | F118: 3 | G118: 1 | H118: 62 | I118: 21 | J118: 41 | K118: 427 | L118: 179 | M118: 248 | N118: 1390 | O118: 620 | P118: 770 | Q118: 4 | R118: 3 | S118: 1 | T118: 137 | U118: 53 | V118: 84 | W118: 1249 | X118: 564 | Y118: 685
A119: 桃園市 Taoyuan City | B119: 1515 | C119: 883 | D119: 632 | E119: 4 | F119: 4 | G119: 0 | H119: 108 | I119: 70 | J119: 38 | K119: 1403 | L119: 809 | M119: 594 | N119: 5257 | O119: 2617 | P119: 2640 | Q119: 4 | R119: 4 | S119: 0 | T119: 355 | U119: 183 | V119: 172 | W119: 4898 | X119: 2430 | Y119: 2468
A120: 臺中市 Taichung City | B120: 780 | C120: 358 | D120: 422 | E120: 3 | F120: 3 | G120: 0 | H120: 153 | I120: 80 | J120: 73 | K120: 624 | L120: 275 | M120: 349 | N120: 2575 | O120: 1228 | P120: 1347 | Q120: 3 | R120: 3 | S120: 0 | T120: 490 | U120: 240 | V120: 250 | W120: 2082 | X120: 985 | Y120: 1097
A121: 臺南市 Tainan City | B121: 85 | C121: 38 | D121: 47 | E121: 0 | F121: 0 | G121: 0 | H121: 9 | I121: 3 | J121: 6 | K121: 76 | L121: 35 | M121: 41 | N121: 274 | O121: 107 | P121: 167 | Q121: 0 | R121: 0 | S121: 0 | T121: 21 | U121: 7 | V121: 14 | W121: 253 | X121: 100 | Y121: 153
A122: 高雄市 Kaohsiung City | B122: 425 | C122: 234 | D122: 191 | E122: 1 | F122: 1 | G122: 0 | H122: 142 | I122: 85 | J122: 57 | K122: 282 | L122: 148 | M122: 134 | N122: 1466 | O122: 736 | P122: 730 | Q122: 1 | R122: 1 | S122: 0 | T122: 366 | U122: 182 | V122: 184 | W122: 1099 | X122: 553 | Y122: 546
A123: 宜蘭縣 Yilan County | B123: 382 | C123: 236 | D123: 146 | E123: 0 | F123: 0 | G123: 0 | H123: 23 | I123: 18 | J123: 5 | K123: 359 | L123: 218 | M123: 141 | N123: 1093 | O123: 563 | P123: 530 | Q123: 0 | R123: 0 | S123: 0 | T123: 47 | U123: 29 | V123: 18 | W123: 1046 | X123: 534 | Y123: 512
A124: 新竹縣 Hsinchu County | B124: 390 | C124: 249 | D124: 141 | E124: 1 | F124: 1 | G124: 0 | H124: 34 | I124: 24 | J124: 10 | K124: 355 | L124: 224 | M124: 131 | N124: 1369 | O124: 688 | P124: 681 | Q124: 1 | R124: 1 | S124: 0 | T124: 59 | U124: 31 | V124: 28 | W124: 1309 | X124: 656 | Y124: 653
A125: 苗栗縣 Miaoli County | B125: 210 | C125: 123 | D125: 87 | E125: 0 | F125: 0 | G125: 0 | H125: 81 | I125: 53 | J125: 28 | K125: 129 | L125: 70 | M125: 59 | N125: 627 | O125: 307 | P125: 320 | Q125: 0 | R125: 0 | S125: 0 | T125: 211 | U125: 113 | V125: 98 | W125: 416 | X125: 194 | Y125: 222
A126: 彰化縣 Changhua County | B126: 69 | C126: 33 | D126: 36 | E126: 0 | F126: 0 | G126: 0 | H126: 0 | I126: 0 | J126: 0 | K126: 69 | L126: 33 | M126: 36 | N126: 175 | O126: 81 | P126: 94 | Q126: 0 | R126: 0 | S126: 0 | T126: 0 | U126: 0 | V126: 0 | W126: 175 | X126: 81 | Y126: 94
A127: 南投縣 Nantou County | B127: 360 | C127: 231 | D127: 129 | E127: 0 | F127: 0 | G127: 0 | H127: 10 | I127: 4 | J127: 6 | K127: 350 | L127: 227 | M127: 123 | N127: 1062 | O127: 535 | P127: 527 | Q127: 0 | R127: 0 | S127: 0 | T127: 38 | U127: 18 | V127: 20 | W127: 1024 | X127: 517 | Y127: 507
... A138: 連江縣 Lienchiang County | B138: 4 | C138: 3 | D138: 1 | E138: 0 | F138: 0 | G138: 0 | H138: 0 | I138: 0 | J138: 0 | K138: 4 | L138: 3 | M138: 1 | N138: 9 | O138: 4 | P138: 5 | Q138: 0 | R138: 0 | S138: 0 | T138: 0 | U138: 0 | V138: 0 | W138: 9 | X138: 4 | Y138: 5
A139: 資料來源：直轄市、縣﹝市﹞政府。
A140: Source : County and City Government.
A141: 總計 | B141: =B116-SUM(B117:B122)-#REF! -> #REF! | C141: =C116-SUM(C117:C122)-#REF! -> #REF! | D141: =D116-SUM(D117:D122)-#REF! -> #REF! | E141: =E116-SUM(E117:E122)-#REF! -> #REF! | F141: =F116-SUM(F117:F122)-#REF! -> #REF! | G141: =G116-SUM(G117:G122)-#REF! -> #REF! | H141: =H116-SUM(H117:H122)-#REF! -> #REF! | I141: =I116-SUM(I117:I122)-#REF! -> #REF! | ... Y141: =Y116-SUM(Y117:Y122)-#REF! -> #REF!
A142: 台灣省 | B142: =#REF!-SUM(B123:B136) -> #REF! | C142: =#REF!-SUM(C123:C136) -> #REF! | D142: =#REF!-SUM(D123:D136) -> #REF! | E142: =#REF!-SUM(E123:E136) -> #REF! | F142: =#REF!-SUM(F123:F136) -> #REF! | G142: =#REF!-SUM(G123:G136) -> #REF! | H142: =#REF!-SUM(H123:H136) -> #REF! | I142: =#REF!-SUM(I123:I136) -> #REF! | ... Y142: =#REF!-SUM(Y123:Y136) -> #REF!
A143: 福建省 | B143: =#REF!-B137-B138 -> #REF! | C143: =#REF!-C137-C138 -> #REF! | D143: =#REF!-D137-D138 -> #REF! | E143: =#REF!-E137-E138 -> #REF! | F143: =#REF!-F137-F138 -> #REF! | G143: =#REF!-G137-G138 -> #REF! | H143: =#REF!-H137-H138 -> #REF! | I143: =#REF!-I137-I138 -> #REF! | ... Y143: =#REF!-Y137-Y138 -> #REF!
A144: 核年季 | B144: =B116-歷年!B147 -> 10949 | C144: =C116-歷年!C147 -> 6276 | D144: =D116-歷年!D147 -> 4673 | E144: =E116-歷年!E147 -> 26 | H144: =H116-歷年!F147 -> 1214 | K144: =K116-歷年!G147 -> 9709 | N144: =N116-歷年!H147 -> 30415 | O144: =O116-歷年!I147 -> 15610 | P144: =P116-歷年!J147 -> 14805 | Q144: =Q116-歷年!K147 -> 26 | T144: =T116-歷年!L147 -> 2684 | W144: =W116-歷年!M147 -> 27705

Sheet 2020
A2: 原住民低收入戶戶數及人數 Number and Population of Indigenous Low-Income Households
A3: 中華民國109年第1季底, 2020 Q1
A4: 地區別 | B4: 原住民戶數-按戶長性別分(戶) Indigenous Households | N4: 原住民人數(人) Indigenous Persons
B5: 總計 Grand Total | E5: 第1款(省、新北、臺中、臺南)、第0類(臺北)、第1類(高雄) Class 1 | H5: 第2款(省、新北、臺中、臺南)、第1、2類(臺北)、第2類(高雄) Class 2 | K5: 第3款(省、新北、臺中、臺南)、第3、4類(臺北、高雄) Class 3 | N5: 總計 Grand Total | Q5: 第1款(省、新北、臺中、臺南)、第0類(臺北)、第1類(高雄) Class 1 | T5: 第2款(省、新北、臺中、臺南)、第1、2類(臺北)、第2類(高雄) Class 2 | W5: 第3款(省、新北、臺中、臺南)、第3、4類(臺北、高雄) Class 3
B6: 計 | C6: 男 | D6: 女 | E6: 計 | F6: 男 | G6: 女 | H6: 計 | I6: 男 | J6: 女 | K6: 計 | L6: 男 | M6: 女 | N6: 計 | O6: 男 | P6: 女 | Q6: 計 | R6: 男 | S6: 女 | T6: 計 | U6: 男 | V6: 女 | W6: 計 | X6: 男 | Y6: 女
A7: Locality | B7: Sub-Total | C7: Male | D7: Female | E7: Sub-Total | F7: Male | G7: Female | H7: Sub-Total | I7: Male | J7: Female | K7: Sub-Total | L7: Male | M7: Female | N7: Sub-Total | O7: Male | P7: Female | Q7: Sub-Total | R7: Male | S7: Female | T7: Sub-Total | U7: Male | V7: Female | W7: Sub-Total | X7: Male | Y7: Female
A8: 總計 Total | B8: 10101 | C8: 5769 | D8: 4332 | E8: 34 | F8: 30 | G8: 4 | H8: 1224 | I8: 789 | J8: 435 | K8: 8843 | L8: 4950 | M8: 3893 | N8: 28795 | O8: 14815 | P8: 13980 | Q8: 35 | R8: 31 | S8: 4 | T8: 2769 | U8: 1514 | V8: 1255 | W8: 25991 | X8: 13270 | Y8: 12721
A9: 新北市 New Taipei City | B9: 573 | C9: 271 | D9: 302 | E9: 0 | F9: 0 | G9: 0 | H9: 28 | I9: 16 | J9: 12 | K9: 545 | L9: 255 | M9: 290 | N9: 1641 | O9: 777 | P9: 864 | Q9: 0 | R9: 0 | S9: 0 | T9: 51 | U9: 27 | V9: 24 | W9: 1590 | X9: 750 | Y9: 840
A10: 臺北市 Taipei City | B10: 404 | C10: 153 | D10: 251 | E10: 4 | F10: 3 | G10: 1 | H10: 55 | I10: 21 | J10: 34 | K10: 345 | L10: 129 | M10: 216 | N10: 1323 | O10: 582 | P10: 741 | Q10: 4 | R10: 3 | S10: 1 | T10: 151 | U10: 61 | V10: 90 | W10: 1168 | X10: 518 | Y10: 650
A11: 桃園市 Taoyuan City | B11: 1323 | C11: 724 | D11: 599 | E11: 4 | F11: 4 | G11: 0 | H11: 111 | I11: 68 | J11: 43 | K11: 1208 | L11: 652 | M11: 556 | N11: 4636 | O11: 2315 | P11: 2321 | Q11: 4 | R11: 4 | S11: 0 | T11: 352 | U11: 182 | V11: 170 | W11: 4280 | X11: 2129 | Y11: 2151
A12: 臺中市 Taichung City | B12: 769 | C12: 361 | D12: 408 | E12: 4 | F12: 4 | G12: 0 | H12: 157 | I12: 76 | J12: 81 | K12: 608 | L12: 281 | M12: 327 | N12: 2607 | O12: 1237 | P12: 1370 | Q12: 4 | R12: 4 | S12: 0 | T12: 506 | U12: 242 | V12: 264 | W12: 2097 | X12: 991 | Y12: 1106
A13: 臺南市 Tainan City | B13: 85 | C13: 37 | D13: 48 | E13: 0 | F13: 0 | G13: 0 | H13: 10 | I13: 6 | J13: 4 | K13: 75 | L13: 31 | M13: 44 | N13: 285 | O13: 118 | P13: 167 | Q13: 0 | R13: 0 | S13: 0 | T13: 24 | U13: 11 | V13: 13 | W13: 261 | X13: 107 | Y13: 154
A14: 高雄市 Kaohsiung City | B14: 442 | C14: 222 | D14: 220 | E14: 2 | F14: 2 | G14: 0 | H14: 135 | I14: 78 | J14: 57 | K14: 305 | L14: 142 | M14: 163 | N14: 1618 | O14: 795 | P14: 823 | Q14: 2 | R14: 2 | S14: 0 | T14: 374 | U14: 199 | V14: 175 | W14: 1242 | X14: 594 | Y14: 648
A15: 宜蘭縣 Yilan County | B15: 328 | C15: 225 | D15: 103 | E15: 0 | F15: 0 | G15: 0 | H15: 25 | I15: 18 | J15: 7 | K15: 303 | L15: 207 | M15: 96 | N15: 950 | O15: 508 | P15: 442 | Q15: 0 | R15: 0 | S15: 0 | T15: 62 | U15: 36 | V15: 26 | W15: 888 | X15: 472 | Y15: 416
A16: 新竹縣 Hsinchu County | B16: 378 | C16: 235 | D16: 143 | E16: 1 | F16: 1 | G16: 0 | H16: 34 | I16: 24 | J16: 10 | K16: 343 | L16: 210 | M16: 133 | N16: 1348 | O16: 666 | P16: 682 | Q16: 1 | R16: 1 | S16: 0 | T16: 73 | U16: 39 | V16: 34 | W16: 1274 | X16: 626 | Y16: 648
A17: 苗栗縣 Miaoli County | B17: 195 | C17: 121 | D17: 74 | E17: 0 | F17: 0 | G17: 0 | H17: 71 | I17: 47 | J17: 24 | K17: 124 | L17: 74 | M17: 50 | N17: 615 | O17: 311 | P17: 304 | Q17: 0 | R17: 0 | S17: 0 | T17: 186 | U17: 102 | V17: 84 | W17: 429 | X17: 209 | Y17: 220
A18: 彰化縣 Changhua County | B18: 62 | C18: 28 | D18: 34 | E18: 0 | F18: 0 | G18: 0 | H18: 0 | I18: 0 | J18: 0 | K18: 62 | L18: 28 | M18: 34 | N18: 163 | O18: 78 | P18: 85 | Q18: 0 | R18: 0 | S18: 0 | T18: 0 | U18: 0 | V18: 0 | W18: 163 | X18: 78 | Y18: 85
A19: 南投縣 Nantou County | B19: 365 | C19: 232 | D19: 133 | E19: 1 | F19: 1 | G19: 0 | H19: 13 | I19: 6 | J19: 7 | K19: 351 | L19: 225 | M19: 126 | N19: 1063 | O19: 545 | P19: 518 | Q19: 2 | R19: 2 | S19: 0 | T19: 44 | U19: 20 | V19: 24 | W19: 1017 | X19: 523 | Y19: 494
... A30: 連江縣 Lienchiang County | B30: 4 | C30: 3 | D30: 1 | E30: 0 | F30: 0 | G30: 0 | H30: 0 | I30: 0 | J30: 0 | K30: 4 | L30: 3 | M30: 1 | N30: 8 | O30: 6 | P30: 2 | Q30: 0 | R30: 0 | S30: 0 | T30: 0 | U30: 0 | V30: 0 | W30: 8 | X30: 6 | Y30: 2
A31: 資料來源：直轄市、縣﹝市﹞政府。
A32: Source : County and City Government.
A33: 總計 | B33: =B8-SUM(B9:B14)-#REF! -> #REF! | C33: =C8-SUM(C9:C14)-#REF! -> #REF! | D33: =D8-SUM(D9:D14)-#REF! -> #REF! | E33: =E8-SUM(E9:E14)-#REF! -> #REF! | F33: =F8-SUM(F9:F14)-#REF! -> #REF! | G33: =G8-SUM(G9:G14)-#REF! -> #REF! | H33: =H8-SUM(H9:H14)-#REF! -> #REF! | I33: =I8-SUM(I9:I14)-#REF! -> #REF! | ... Y33: =Y8-SUM(Y9:Y14)-#REF! -> #REF!
A34: 台灣省 | B34: =#REF!-SUM(B15:B28) -> #REF! | C34: =#REF!-SUM(C15:C28) -> #REF! | D34: =#REF!-SUM(D15:D28) -> #REF! | E34: =#REF!-SUM(E15:E28) -> #REF! | F34: =#REF!-SUM(F15:F28) -> #REF! | G34: =#REF!-SUM(G15:G28) -> #REF! | H34: =#REF!-SUM(H15:H28) -> #REF! | I34: =#REF!-SUM(I15:I28) -> #REF! | ... Y34: =#REF!-SUM(Y15:Y28) -> #REF!
A35: 福建省 | B35: =#REF!-B29-B30 -> #REF! | C35: =#REF!-C29-C30 -> #REF! | D35: =#REF!-D29-D30 -> #REF! | E35: =#REF!-E29-E30 -> #REF! | F35: =#REF!-F29-F30 -> #REF! | G35: =#REF!-G29-G30 -> #REF! | H35: =#REF!-H29-H30 -> #REF! | I35: =#REF!-I29-I30 -> #REF! | ... Y35: =#REF!-Y29-Y30 -> #REF!
A36: 核年季 | B36: =B8-歷年!#REF! -> #REF! | C36: =C8-歷年!#REF! -> #REF! | D36: =D8-歷年!#REF! -> #REF! | E36: =E8-歷年!#REF! -> #REF! | H36: =H8-歷年!#REF! -> #REF! | K36: =K8-歷年!#REF! -> #REF! | N36: =N8-歷年!#REF! -> #REF! | O36: =O8-歷年!#REF! -> #REF! | P36: =P8-歷年!#REF! -> #REF! | Q36: =Q8-歷年!#REF! -> #REF! | T36: =T8-歷年!#REF! -> #REF! | W36: =W8-歷年!#REF! -> #REF!
A39: 中華民國109年第2季底, 2020 Q2
A40: 地區別 | B40: 原住民戶數(戶長性別) Indigenous Households | N40: 原住民人數 Indigenous Persons
B41: 總計 Grand Total | E41: 第1款(省、新北、臺中、臺南)、第0類(臺北)、第1類(高雄) Class 1 | H41: 第2款(省、新北、臺中、臺南)、第1、2類(臺北)、第2類(高雄) Class 2 | K41: 第3款(省、新北、臺中、臺南)、第3、4類(臺北、高雄) Class 3 | N41: 總計 Grand Total | Q41: 第1款(省、新北、臺中、臺南)、第0類(臺北)、第1類(高雄) Class 1 | T41: 第2款(省、新北、臺中、臺南)、第1、2類(臺北)、第2類(高雄) Class 2 | W41: 第3款(省、新北、臺中、臺南)、第3、4類(臺北、高雄) Class 3
B42: 計 | C42: 男 | D42: 女 | E42: 計 | F42: 男 | G42: 女 | H42: 計 | I42: 男 | J42: 女 | K42: 計 | L42: 男 | M42: 女 | N42: 計 | O42: 男 | P42: 女 | Q42: 計 | R42: 男 | S42: 女 | T42: 計 | U42: 男 | V42: 女 | W42: 計 | X42: 男 | Y42: 女
A43: Locality | B43: Sub-Total | C43: Male | D43: Female | E43: Sub-Total | F43: Male | G43: Female | H43: Sub-Total | I43: Male | J43: Female | K43: Sub-Total | L43: Male | M43: Female | N43: Sub-Total | O43: Male | P43: Female | Q43: Sub-Total | R43: Male | S43: Female | T43: Sub-Total | U43: Male | V43: Female | W43: Sub-Total | X43: Male | Y43: Female
A44: 總計 Total | B44: 10449 | C44: 5970 | D44: 4479 | E44: 37 | F44: 32 | G44: 5 | H44: 1227 | I44: 786 | J44: 441 | K44: 9185 | L44: 5152 | M44: 4033 | N44: 29735 | O44: 15291 | P44: 14444 | Q44: 63 | R44: 48 | S44: 15 | T44: 2791 | U44: 1519 | V44: 1272 | W44: 26881 | X44: 13724 | Y44: 13157
A45: 新北市 New Taipei City | B45: 612 | C45: 288 | D45: 324 | E45: 0 | F45: 0 | G45: 0 | H45: 28 | I45: 16 | J45: 12 | K45: 584 | L45: 272 | M45: 312 | N45: 1742 | O45: 828 | P45: 914 | Q45: 0 | R45: 0 | S45: 0 | T45: 51 | U45: 27 | V45: 24 | W45: 1691 | X45: 801 | Y45: 890
A46: 臺北市 Taipei City | B46: 404 | C46: 153 | D46: 251 | E46: 4 | F46: 3 | G46: 1 | H46: 55 | I46: 21 | J46: 34 | K46: 345 | L46: 129 | M46: 216 | N46: 1323 | O46: 582 | P46: 741 | Q46: 4 | R46: 3 | S46: 1 | T46: 151 | U46: 61 | V46: 90 | W46: 1168 | X46: 518 | Y46: 650
A47: 桃園市 Taoyuan City | B47: 1388 | C47: 771 | D47: 617 | E47: 5 | F47: 5 | G47: 0 | H47: 116 | I47: 70 | J47: 46 | K47: 1267 | L47: 696 | M47: 571 | N47: 4868 | O47: 2424 | P47: 2444 | Q47: 5 | R47: 5 | S47: 0 | T47: 373 | U47: 193 | V47: 180 | W47: 4490 | X47: 2226 | Y47: 2264
A48: 臺中市 Taichung City | B48: 784 | C48: 374 | D48: 410 | E48: 4 | F48: 4 | G48: 0 | H48: 156 | I48: 74 | J48: 82 | K48: 624 | L48: 296 | M48: 328 | N48: 2646 | O48: 1265 | P48: 1381 | Q48: 4 | R48: 4 | S48: 0 | T48: 510 | U48: 242 | V48: 268 | W48: 2132 | X48: 1019 | Y48: 1113
A49: 臺南市 Tainan City | B49: 89 | C49: 40 | D49: 49 | E49: 0 | F49: 0 | G49: 0 | H49: 10 | I49: 6 | J49: 4 | K49: 79 | L49: 34 | M49: 45 | N49: 287 | O49: 120 | P49: 167 | Q49: 0 | R49: 0 | S49: 0 | T49: 24 | U49: 11 | V49: 13 | W49: 263 | X49: 109 | Y49: 154
A50: 高雄市 Kaohsiung City | B50: 451 | C50: 231 | D50: 220 | E50: 2 | F50: 2 | G50: 0 | H50: 133 | I50: 78 | J50: 55 | K50: 316 | L50: 151 | M50: 165 | N50: 1640 | O50: 805 | P50: 835 | Q50: 2 | R50: 2 | S50: 0 | T50: 361 | U50: 194 | V50: 167 | W50: 1277 | X50: 609 | Y50: 668
A51: 宜蘭縣 Yilan County | B51: 334 | C51: 228 | D51: 106 | E51: 0 | F51: 0 | G51: 0 | H51: 24 | I51: 17 | J51: 7 | K51: 310 | L51: 211 | M51: 99 | N51: 975 | O51: 519 | P51: 456 | Q51: 0 | R51: 0 | S51: 0 | T51: 61 | U51: 35 | V51: 26 | W51: 914 | X51: 484 | Y51: 430
A52: 新竹縣 Hsinchu County | B52: 400 | C52: 245 | D52: 155 | E52: 1 | F52: 1 | G52: 0 | H52: 33 | I52: 23 | J52: 10 | K52: 366 | L52: 221 | M52: 145 | N52: 1428 | O52: 707 | P52: 721 | Q52: 1 | R52: 1 | S52: 0 | T52: 72 | U52: 38 | V52: 34 | W52: 1355 | X52: 668 | Y52: 687
A53: 苗栗縣 Miaoli County | B53: 197 | C53: 120 | D53: 77 | E53: 0 | F53: 0 | G53: 0 | H53: 72 | I53: 48 | J53: 24 | K53: 125 | L53: 72 | M53: 53 | N53: 620 | O53: 312 | P53: 308 | Q53: 0 | R53: 0 | S53: 0 | T53: 187 | U53: 100 | V53: 87 | W53: 433 | X53: 212 | Y53: 221
A54: 彰化縣 Changhua County | B54: 65 | C54: 29 | D54: 36 | E54: 0 | F54: 0 | G54: 0 | H54: 0 | I54: 0 | J54: 0 | K54: 65 | L54: 29 | M54: 36 | N54: 167 | O54: 82 | P54: 85 | Q54: 0 | R54: 0 | S54: 0 | T54: 0 | U54: 0 | V54: 0 | W54: 167 | X54: 82 | Y54: 85
A55: 南投縣 Nantou County | B55: 378 | C55: 241 | D55: 137 | E55: 1 | F55: 1 | G55: 0 | H55: 12 | I55: 5 | J55: 7 | K55: 365 | L55: 235 | M55: 130 | N55: 1111 | O55: 570 | P55: 541 | Q55: 2 | R55: 2 | S55: 0 | T55: 43 | U55: 19 | V55: 24 | W55: 1066 | X55: 549 | Y55: 517
... A66: 連江縣 Lienchiang County | B66: 4 | C66: 3 | D66: 1 | E66: 0 | F66: 0 | G66: 0 | H66: 0 | I66: 0 | J66: 0 | K66: 4 | L66: 3 | M66: 1 | N66: 8 | O66: 6 | P66: 2 | Q66: 0 | R66: 0 | S66: 0 | T66: 0 | U66: 0 | V66: 0 | W66: 8 | X66: 6 | Y66: 2
A67: 資料來源：直轄市、縣﹝市﹞政府。
A68: Source : County and City Government.
A69: 總計 | B69: =B44-SUM(B45:B50)-#REF! -> #REF! | C69: =C44-SUM(C45:C50)-#REF! -> #REF! | D69: =D44-SUM(D45:D50)-#REF! -> #REF! | E69: =E44-SUM(E45:E50)-#REF! -> #REF! | F69: =F44-SUM(F45:F50)-#REF! -> #REF! | G69: =G44-SUM(G45:G50)-#REF! -> #REF! | H69: =H44-SUM(H45:H50)-#REF! -> #REF! | I69: =I44-SUM(I45:I50)-#REF! -> #REF! | ... Y69: =Y44-SUM(Y45:Y50)-#REF! -> #REF!
A70: 台灣省 | B70: =#REF!-SUM(B51:B64) -> #REF! | C70: =#REF!-SUM(C51:C64) -> #REF! | D70: =#REF!-SUM(D51:D64) -> #REF! | E70: =#REF!-SUM(E51:E64) -> #REF! | F70: =#REF!-SUM(F51:F64) -> #REF! | G70: =#REF!-SUM(G51:G64) -> #REF! | H70: =#REF!-SUM(H51:H64) -> #REF! | I70: =#REF!-SUM(I51:I64) -> #REF! | ... Y70: =#REF!-SUM(Y51:Y64) -> #REF!
A71: 福建省 | B71: =#REF!-B65-B66 -> #REF! | C71: =#REF!-C65-C66 -> #REF! | D71: =#REF!-D65-D66 -> #REF! | E71: =#REF!-E65-E66 -> #REF! | F71: =#REF!-F65-F66 -> #REF! | G71: =#REF!-G65-G66 -> #REF! | H71: =#REF!-H65-H66 -> #REF! | I71: =#REF!-I65-I66 -> #REF! | ... Y71: =#REF!-Y65-Y66 -> #REF!
A72: 核年季 | B72: =B44-歷年!B69 -> 10449 | C72: =C44-歷年!C69 -> 5970 | D72: =D44-歷年!D69 -> 4479 | E72: =E44-歷年!E69 -> 37 | H72: =H44-歷年!F69 -> 1227 | K72: =K44-歷年!G69 -> 9185 | N72: =N44-歷年!H69 -> 29735 | O72: =O44-歷年!I69 -> 15291 | P72: =P44-歷年!J69 -> 14444 | Q72: =Q44-歷年!K69 -> 63 | T72: =T44-歷年!L69 -> 2791 | W72: =W44-歷年!M69 -> 26881
A75: 中華民國109年第3季底, 2020 Q3
A76: 地區別 | B76: 原住民戶數(戶長性別) Indigenous Households | N76: 原住民人數 Indigenous Persons
B77: 總計 Grand Total | E77: 第1款(省、新北、臺中、臺南)、第0類(臺北)、第1類(高雄) Class 1 | H77: 第2款(省、新北、臺中、臺南)、第1、2類(臺北)、第2類(高雄) Class 2 | K77: 第3款(省、新北、臺中、臺南)、第3、4類(臺北、高雄) Class 3 | N77: 總計 Grand Total | Q77: 第1款(省、新北、臺中、臺南)、第0類(臺北)、第1類(高雄) Class 1 | T77: 第2款(省、新北、臺中、臺南)、第1、2類(臺北)、第2類(高雄) Class 2 | W77: 第3款(省、新北、臺中、臺南)、第3、4類(臺北、高雄) Class 3
B78: 計 | C78: 男 | D78: 女 | E78: 計 | F78: 男 | G78: 女 | H78: 計 | I78: 男 | J78: 女 | K78: 計 | L78: 男 | M78: 女 | N78: 計 | O78: 男 | P78: 女 | Q78: 計 | R78: 男 | S78: 女 | T78: 計 | U78: 男 | V78: 女 | W78: 計 | X78: 男 | Y78: 女
A79: Locality | B79: Sub-Total | C79: Male | D79: Female | E79: Sub-Total | F79: Male | G79: Female | H79: Sub-Total | I79: Male | J79: Female | K79: Sub-Total | L79: Male | M79: Female | N79: Sub-Total | O79: Male | P79: Female | Q79: Sub-Total | R79: Male | S79: Female | T79: Sub-Total | U79: Male | V79: Female | W79: Sub-Total | X79: Male | Y79: Female
A80: 總計 Total | B80: 10547 | C80: 6035 | D80: 4512 | E80: 34 | F80: 29 | G80: 5 | H80: 1213 | I80: 780 | J80: 433 | K80: 9300 | L80: 5226 | M80: 4074 | N80: 29771 | O80: 15297 | P80: 14474 | Q80: 35 | R80: 30 | S80: 5 | T80: 2723 | U80: 1483 | V80: 1240 | W80: 27013 | X80: 13784 | Y80: 13229
A81: 新北市 New Taipei City | B81: 646 | C81: 304 | D81: 342 | E81: 0 | F81: 0 | G81: 0 | H81: 28 | I81: 16 | J81: 12 | K81: 618 | L81: 288 | M81: 330 | N81: 1831 | O81: 866 | P81: 965 | Q81: 0 | R81: 0 | S81: 0 | T81: 50 | U81: 26 | V81: 24 | W81: 1781 | X81: 840 | Y81: 941
A82: 臺北市 Taipei City | B82: 404 | C82: 153 | D82: 251 | E82: 4 | F82: 3 | G82: 1 | H82: 55 | I82: 21 | J82: 34 | K82: 345 | L82: 129 | M82: 216 | N82: 1323 | O82: 582 | P82: 741 | Q82: 4 | R82: 3 | S82: 1 | T82: 151 | U82: 61 | V82: 90 | W82: 1168 | X82: 518 | Y82: 650
A83: 桃園市 Taoyuan City | B83: 1419 | C83: 799 | D83: 620 | E83: 4 | F83: 4 | G83: 0 | H83: 115 | I83: 70 | J83: 45 | K83: 1300 | L83: 725 | M83: 575 | N83: 4982 | O83: 2487 | P83: 2495 | Q83: 4 | R83: 4 | S83: 0 | T83: 368 | U83: 191 | V83: 177 | W83: 4610 | X83: 2292 | Y83: 2318
A84: 臺中市 Taichung City | B84: 789 | C84: 372 | D84: 417 | E84: 4 | F84: 4 | G84: 0 | H84: 154 | I84: 74 | J84: 80 | K84: 631 | L84: 294 | M84: 337 | N84: 2672 | O84: 1273 | P84: 1399 | Q84: 4 | R84: 4 | S84: 0 | T84: 507 | U84: 239 | V84: 268 | W84: 2161 | X84: 1030 | Y84: 1131
A85: 臺南市 Tainan City | B85: 82 | C85: 36 | D85: 46 | E85: 0 | F85: 0 | G85: 0 | H85: 9 | I85: 5 | J85: 4 | K85: 73 | L85: 31 | M85: 42 | N85: 267 | O85: 108 | P85: 159 | Q85: 0 | R85: 0 | S85: 0 | T85: 21 | U85: 10 | V85: 11 | W85: 246 | X85: 98 | Y85: 148
A86: 高雄市 Kaohsiung City | B86: 454 | C86: 233 | D86: 221 | E86: 2 | F86: 2 | G86: 0 | H86: 136 | I86: 80 | J86: 56 | K86: 316 | L86: 151 | M86: 165 | N86: 1616 | O86: 789 | P86: 827 | Q86: 2 | R86: 2 | S86: 0 | T86: 362 | U86: 193 | V86: 169 | W86: 1252 | X86: 594 | Y86: 658
A87: 宜蘭縣 Yilan County | B87: 327 | C87: 223 | D87: 104 | E87: 0 | F87: 0 | G87: 0 | H87: 23 | I87: 17 | J87: 6 | K87: 304 | L87: 206 | M87: 98 | N87: 938 | O87: 494 | P87: 444 | Q87: 0 | R87: 0 | S87: 0 | T87: 57 | U87: 36 | V87: 21 | W87: 881 | X87: 458 | Y87: 423
A88: 新竹縣 Hsinchu County | B88: 399 | C88: 246 | D88: 153 | E88: 1 | F88: 1 | G88: 0 | H88: 35 | I88: 26 | J88: 9 | K88: 363 | L88: 219 | M88: 144 | N88: 1385 | O88: 693 | P88: 692 | Q88: 1 | R88: 1 | S88: 0 | T88: 65 | U88: 37 | V88: 28 | W88: 1319 | X88: 655 | Y88: 664
A89: 苗栗縣 Miaoli County | B89: 198 | C89: 120 | D89: 78 | E89: 0 | F89: 0 | G89: 0 | H89: 74 | I89: 49 | J89: 25 | K89: 124 | L89: 71 | M89: 53 | N89: 607 | O89: 302 | P89: 305 | Q89: 0 | R89: 0 | S89: 0 | T89: 188 | U89: 98 | V89: 90 | W89: 419 | X89: 204 | Y89: 215
A90: 彰化縣 Changhua County | B90: 68 | C90: 31 | D90: 37 | E90: 0 | F90: 0 | G90: 0 | H90: 0 | I90: 0 | J90: 0 | K90: 68 | L90: 31 | M90: 37 | N90: 175 | O90: 86 | P90: 89 | Q90: 0 | R90: 0 | S90: 0 | T90: 0 | U90: 0 | V90: 0 | W90: 175 | X90: 86 | Y90: 89
A91: 南投縣 Nantou County | B91: 381 | C91: 242 | D91: 139 | E91: 1 | F91: 1 | G91: 0 | H91: 12 | I91: 5 | J91: 7 | K91: 368 | L91: 236 | M91: 132 | N91: 1121 | O91: 570 | P91: 551 | Q91: 2 | R91: 2 | S91: 0 | T91: 43 | U91: 19 | V91: 24 | W91: 1076 | X91: 549 | Y91: 527
... A102: 連江縣 Lienchiang County | B102: 4 | C102: 3 | D102: 1 | E102: 0 | F102: 0 | G102: 0 | H102: 0 | I102: 0 | J102: 0 | K102: 4 | L102: 3 | M102: 1 | N102: 8 | O102: 6 | P102: 2 | Q102: 0 | R102: 0 | S102: 0 | T102: 0 | U102: 0 | V102: 0 | W102: 8 | X102: 6 | Y102: 2
A103: 資料來源：直轄市、縣﹝市﹞政府。
A104: Source : County and City Government.
A105: 總計 | B105: =B80-SUM(B81:B86)-#REF! -> #REF! | C105: =C80-SUM(C81:C86)-#REF! -> #REF! | D105: =D80-SUM(D81:D86)-#REF! -> #REF! | E105: =E80-SUM(E81:E86)-#REF! -> #REF! | F105: =F80-SUM(F81:F86)-#REF! -> #REF! | G105: =G80-SUM(G81:G86)-#REF! -> #REF! | H105: =H80-SUM(H81:H86)-#REF! -> #REF! | I105: =I80-SUM(I81:I86)-#REF! -> #REF! | ... Y105: =Y80-SUM(Y81:Y86)-#REF! -> #REF!
A106: 台灣省 | B106: =#REF!-SUM(B87:B100) -> #REF! | C106: =#REF!-SUM(C87:C100) -> #REF! | D106: =#REF!-SUM(D87:D100) -> #REF! | E106: =#REF!-SUM(E87:E100) -> #REF! | F106: =#REF!-SUM(F87:F100) -> #REF! | G106: =#REF!-SUM(G87:G100) -> #REF! | H106: =#REF!-SUM(H87:H100) -> #REF! | I106: =#REF!-SUM(I87:I100) -> #REF! | ... Y106: =#REF!-SUM(Y87:Y100) -> #REF!
A107: 福建省 | B107: =#REF!-B101-B102 -> #REF! | C107: =#REF!-C101-C102 -> #REF! | D107: =#REF!-D101-D102 -> #REF! | E107: =#REF!-E101-E102 -> #REF! | F107: =#REF!-F101-F102 -> #REF! | G107: =#REF!-G101-G102 -> #REF! | H107: =#REF!-H101-H102 -> #REF! | I107: =#REF!-I101-I102 -> #REF! | ... Y107: =#REF!-Y101-Y102 -> #REF!
A108: 核年季 | B108: =B80-歷年!B108 -> 10547 | C108: =C80-歷年!C108 -> 6035 | D108: =D80-歷年!D108 -> 4512 | E108: =E80-歷年!E108 -> 34 | H108: =H80-歷年!F108 -> 1213 | K108: =K80-歷年!G108 -> 9300 | N108: =N80-歷年!H108 -> 29771 | O108: =O80-歷年!I108 -> 15297 | P108: =P80-歷年!J108 -> 14474 | Q108: =Q80-歷年!K108 -> 35 | T108: =T80-歷年!L108 -> 2723 | W108: =W80-歷年!M108 -> 27013
A111: 中華民國109年第4季底, 2020 Q4
A112: 地區別 | B112: 原住民戶數(戶長性別) Indigenous Households | N112: 原住民人數 Indigenous Persons
B113: 總計 Grand Total | E113: 第1款(省、新北、臺中、臺南)、第0類(臺北)、第1類(高雄) Class 1 | H113: 第2款(省、新北、臺中、臺南)、第1、2類(臺北)、第2類(高雄) Class 2 | K113: 第3款(省、新北、臺中、臺南)、第3、4類(臺北、高雄) Class 3 | N113: 總計 Grand Total | Q113: 第1款(省、新北、臺中、臺南)、第0類(臺北)、第1類(高雄) Class 1 | T113: 第2款(省、新北、臺中、臺南)、第1、2類(臺北)、第2類(高雄) Class 2 | W113: 第3款(省、新北、臺中、臺南)、第3、4類(臺北、高雄) Class 3
B114: 計 | C114: 男 | D114: 女 | E114: 計 | F114: 男 | G114: 女 | H114: 計 | I114: 男 | J114: 女 | K114: 計 | L114: 男 | M114: 女 | N114: 計 | O114: 男 | P114: 女 | Q114: 計 | R114: 男 | S114: 女 | T114: 計 | U114: 男 | V114: 女 | W114: 計 | X114: 男 | Y114: 女
A115: Locality | B115: Sub-Total | C115: Male | D115: Female | E115: Sub-Total | F115: Male | G115: Female | H115: Sub-Total | I115: Male | J115: Female | K115: Sub-Total | L115: Male | M115: Female | N115: Sub-Total | O115: Male | P115: Female | Q115: Sub-Total | R115: Male | S115: Female | T115: Sub-Total | U115: Male | V115: Female | W115: Sub-Total | X115: Male | Y115: Female
A116: 總計 Total | B116: 10693 | C116: 6139 | D116: 4554 | E116: 32 | F116: 28 | G116: 4 | H116: 1216 | I116: 782 | J116: 434 | K116: 9445 | L116: 5329 | M116: 4116 | N116: 30277 | O116: 15557 | P116: 14720 | Q116: 33 | R116: 29 | S116: 4 | T116: 2758 | U116: 1497 | V116: 1261 | W116: 27486 | X116: 14031 | Y116: 13455
A117: 新北市 New Taipei City | B117: 658 | C117: 314 | D117: 344 | E117: 0 | F117: 0 | G117: 0 | H117: 30 | I117: 17 | J117: 13 | K117: 628 | L117: 297 | M117: 331 | N117: 1847 | O117: 871 | P117: 976 | Q117: 0 | R117: 0 | S117: 0 | T117: 53 | U117: 27 | V117: 26 | W117: 1794 | X117: 844 | Y117: 950
A118: 臺北市 Taipei City | B118: 404 | C118: 153 | D118: 251 | E118: 4 | F118: 3 | G118: 1 | H118: 55 | I118: 21 | J118: 34 | K118: 345 | L118: 129 | M118: 216 | N118: 1323 | O118: 582 | P118: 741 | Q118: 4 | R118: 3 | S118: 1 | T118: 151 | U118: 61 | V118: 90 | W118: 1168 | X118: 518 | Y118: 650
A119: 桃園市 Taoyuan City | B119: 1439 | C119: 816 | D119: 623 | E119: 4 | F119: 4 | G119: 0 | H119: 107 | I119: 64 | J119: 43 | K119: 1328 | L119: 748 | M119: 580 | N119: 5076 | O119: 2535 | P119: 2541 | Q119: 4 | R119: 4 | S119: 0 | T119: 351 | U119: 178 | V119: 173 | W119: 4721 | X119: 2353 | Y119: 2368
A120: 臺中市 Taichung City | B120: 801 | C120: 379 | D120: 422 | E120: 4 | F120: 4 | G120: 0 | H120: 155 | I120: 75 | J120: 80 | K120: 642 | L120: 300 | M120: 342 | N120: 2713 | O120: 1298 | P120: 1415 | Q120: 4 | R120: 4 | S120: 0 | T120: 508 | U120: 241 | V120: 267 | W120: 2201 | X120: 1053 | Y120: 1148
A121: 臺南市 Tainan City | B121: 81 | C121: 36 | D121: 45 | E121: 0 | F121: 0 | G121: 0 | H121: 8 | I121: 5 | J121: 3 | K121: 73 | L121: 31 | M121: 42 | N121: 259 | O121: 100 | P121: 159 | Q121: 0 | R121: 0 | S121: 0 | T121: 18 | U121: 9 | V121: 9 | W121: 241 | X121: 91 | Y121: 150
A122: 高雄市 Kaohsiung City | B122: 450 | C122: 236 | D122: 214 | E122: 2 | F122: 2 | G122: 0 | H122: 134 | I122: 78 | J122: 56 | K122: 314 | L122: 156 | M122: 158 | N122: 1684 | O122: 818 | P122: 866 | Q122: 2 | R122: 2 | S122: 0 | T122: 369 | U122: 195 | V122: 174 | W122: 1313 | X122: 621 | Y122: 692
A123: 宜蘭縣 Yilan County | B123: 341 | C123: 230 | D123: 111 | E123: 0 | F123: 0 | G123: 0 | H123: 22 | I123: 16 | J123: 6 | K123: 319 | L123: 214 | M123: 105 | N123: 970 | O123: 511 | P123: 459 | Q123: 0 | R123: 0 | S123: 0 | T123: 50 | U123: 30 | V123: 20 | W123: 920 | X123: 481 | Y123: 439
A124: 新竹縣 Hsinchu County | B124: 403 | C124: 251 | D124: 152 | E124: 1 | F124: 1 | G124: 0 | H124: 38 | I124: 29 | J124: 9 | K124: 364 | L124: 221 | M124: 143 | N124: 1377 | O124: 691 | P124: 686 | Q124: 1 | R124: 1 | S124: 0 | T124: 70 | U124: 38 | V124: 32 | W124: 1306 | X124: 652 | Y124: 654
A125: 苗栗縣 Miaoli County | B125: 200 | C125: 127 | D125: 73 | E125: 0 | F125: 0 | G125: 0 | H125: 79 | I125: 55 | J125: 24 | K125: 121 | L125: 72 | M125: 49 | N125: 635 | O125: 318 | P125: 317 | Q125: 0 | R125: 0 | S125: 0 | T125: 211 | U125: 116 | V125: 95 | W125: 424 | X125: 202 | Y125: 222
A126: 彰化縣 Changhua County | B126: 71 | C126: 32 | D126: 39 | E126: 0 | F126: 0 | G126: 0 | H126: 0 | I126: 0 | J126: 0 | K126: 71 | L126: 32 | M126: 39 | N126: 178 | O126: 88 | P126: 90 | Q126: 0 | R126: 0 | S126: 0 | T126: 0 | U126: 0 | V126: 0 | W126: 178 | X126: 88 | Y126: 90
A127: 南投縣 Nantou County | B127: 391 | C127: 247 | D127: 144 | E127: 1 | F127: 1 | G127: 0 | H127: 12 | I127: 5 | J127: 7 | K127: 378 | L127: 241 | M127: 137 | N127: 1149 | O127: 585 | P127: 564 | Q127: 2 | R127: 2 | S127: 0 | T127: 43 | U127: 19 | V127: 24 | W127: 1104 | X127: 564 | Y127: 540
... A138: 連江縣 Lienchiang County | B138: 4 | C138: 3 | D138: 1 | E138: 0 | F138: 0 | G138: 0 | H138: 0 | I138: 0 | J138: 0 | K138: 4 | L138: 3 | M138: 1 | N138: 8 | O138: 6 | P138: 2 | Q138: 0 | R138: 0 | S138: 0 | T138: 0 | U138: 0 | V138: 0 | W138: 8 | X138: 6 | Y138: 2
A139: 資料來源：直轄市、縣﹝市﹞政府。
A140: Source : County and City Government.
A141: 總計 | B141: =B116-SUM(B117:B122)-#REF! -> #REF! | C141: =C116-SUM(C117:C122)-#REF! -> #REF! | D141: =D116-SUM(D117:D122)-#REF! -> #REF! | E141: =E116-SUM(E117:E122)-#REF! -> #REF! | F141: =F116-SUM(F117:F122)-#REF! -> #REF! | G141: =G116-SUM(G117:G122)-#REF! -> #REF! | H141: =H116-SUM(H117:H122)-#REF! -> #REF! | I141: =I116-SUM(I117:I122)-#REF! -> #REF! | ... Y141: =Y116-SUM(Y117:Y122)-#REF! -> #REF!
A142: 台灣省 | B142: =#REF!-SUM(B123:B136) -> #REF! | C142: =#REF!-SUM(C123:C136) -> #REF! | D142: =#REF!-SUM(D123:D136) -> #REF! | E142: =#REF!-SUM(E123:E136) -> #REF! | F142: =#REF!-SUM(F123:F136) -> #REF! | G142: =#REF!-SUM(G123:G136) -> #REF! | H142: =#REF!-SUM(H123:H136) -> #REF! | I142: =#REF!-SUM(I123:I136) -> #REF! | ... Y142: =#REF!-SUM(Y123:Y136) -> #REF!
A143: 福建省 | B143: =#REF!-B137-B138 -> #REF! | C143: =#REF!-C137-C138 -> #REF! | D143: =#REF!-D137-D138 -> #REF! | E143: =#REF!-E137-E138 -> #REF! | F143: =#REF!-F137-F138 -> #REF! | G143: =#REF!-G137-G138 -> #REF! | H143: =#REF!-H137-H138 -> #REF! | I143: =#REF!-I137-I138 -> #REF! | ... Y143: =#REF!-Y137-Y138 -> #REF!
A144: 核年季 | B144: =B116-歷年!B147 -> 10693 | C144: =C116-歷年!C147 -> 6139 | D144: =D116-歷年!D147 -> 4554 | E144: =E116-歷年!E147 -> 32 | H144: =H116-歷年!F147 -> 1216 | K144: =K116-歷年!G147 -> 9445 | N144: =N116-歷年!H147 -> 30277 | O144: =O116-歷年!I147 -> 15557 | P144: =P116-歷年!J147 -> 14720 | Q144: =Q116-歷年!K147 -> 33 | T144: =T116-歷年!L147 -> 2758 | W144: =W116-歷年!M147 -> 27486

Sheet 2019
A2: 原住民低收入戶戶數及人數 Number and Population of Indigenous Low-Income Households
A3: 中華民國108年第1季底, 2019 Q1
A4: 地區別 | B4: 原住民戶數-按戶長性別分(戶) Indigenous Households | N4: 原住民人數(人) Indigenous Persons
B5: 總計 Grand Total | E5: 第1款(省、新北、臺中、臺南)、第0類(臺北)、第1類(高雄) Class 1 | H5: 第2款(省、新北、臺中、臺南)、第1、2類(臺北)、第2類(高雄) Class 2 | K5: 第3款(省、新北、臺中、臺南)、第3、4類(臺北、高雄) Class 3 | N5: 總計 Grand Total | Q5: 第1款(省、新北、臺中、臺南)、第0類(臺北)、第1類(高雄) Class 1 | T5: 第2款(省、新北、臺中、臺南)、第1、2類(臺北)、第2類(高雄) Class 2 | W5: 第3款(省、新北、臺中、臺南)、第3、4類(臺北、高雄) Class 3
B6: 計 | C6: 男 | D6: 女 | E6: 計 | F6: 男 | G6: 女 | H6: 計 | I6: 男 | J6: 女 | K6: 計 | L6: 男 | M6: 女 | N6: 計 | O6: 男 | P6: 女 | Q6: 計 | R6: 男 | S6: 女 | T6: 計 | U6: 男 | V6: 女 | W6: 計 | X6: 男 | Y6: 女
A7: Locality | B7: Sub-Total | C7: Male | D7: Female | E7: Sub-Total | F7: Male | G7: Female | H7: Sub-Total | I7: Male | J7: Female | K7: Sub-Total | L7: Male | M7: Female | N7: Sub-Total | O7: Male | P7: Female | Q7: Sub-Total | R7: Male | S7: Female | T7: Sub-Total | U7: Male | V7: Female | W7: Sub-Total | X7: Male | Y7: Female
A8: 總計 Total | B8: 10941 | C8: 6287 | D8: 4654 | E8: 167 | F8: 133 | G8: 34 | H8: 1404 | I8: 906 | J8: 498 | K8: 9370 | L8: 5248 | M8: 4122 | N8: 30641 | O8: 15719 | P8: 14922 | Q8: 170 | R8: 135 | S8: 35 | T8: 3144 | U8: 1733 | V8: 1411 | W8: 27327 | X8: 13851 | Y8: 13476
A9: 新北市 New Taipei City | B9: 919 | C9: 479 | D9: 440 | E9: 0 | F9: 0 | G9: 0 | H9: 43 | I9: 26 | J9: 17 | K9: 876 | L9: 453 | M9: 423 | N9: 2277 | O9: 1118 | P9: 1159 | Q9: 0 | R9: 0 | S9: 0 | T9: 72 | U9: 39 | V9: 33 | W9: 2205 | X9: 1079 | Y9: 1126
A10: 臺北市 Taipei City | B10: 771 | C10: 373 | D10: 398 | E10: 132 | F10: 101 | G10: 31 | H10: 128 | I10: 55 | J10: 73 | K10: 511 | L10: 217 | M10: 294 | N10: 1770 | O10: 845 | P10: 925 | Q10: 132 | R10: 101 | S10: 31 | T10: 236 | U10: 107 | V10: 129 | W10: 1402 | X10: 637 | Y10: 765
A11: 桃園市 Taoyuan City | B11: 1203 | C11: 663 | D11: 540 | E11: 4 | F11: 4 | G11: 0 | H11: 105 | I11: 65 | J11: 40 | K11: 1094 | L11: 594 | M11: 500 | N11: 4272 | O11: 2142 | P11: 2130 | Q11: 4 | R11: 4 | S11: 0 | T11: 327 | U11: 176 | V11: 151 | W11: 3941 | X11: 1962 | Y11: 1979
A12: 臺中市 Taichung City | B12: 759 | C12: 360 | D12: 399 | E12: 5 | F12: 5 | G12: 0 | H12: 167 | I12: 90 | J12: 77 | K12: 587 | L12: 265 | M12: 322 | N12: 2567 | O12: 1220 | P12: 1347 | Q12: 7 | R12: 6 | S12: 1 | T12: 526 | U12: 259 | V12: 267 | W12: 2034 | X12: 955 | Y12: 1079
A13: 臺南市 Tainan City | B13: 95 | C13: 40 | D13: 55 | E13: 0 | F13: 0 | G13: 0 | H13: 11 | I13: 6 | J13: 5 | K13: 84 | L13: 34 | M13: 50 | N13: 306 | O13: 131 | P13: 175 | Q13: 0 | R13: 0 | S13: 0 | T13: 31 | U13: 15 | V13: 16 | W13: 275 | X13: 116 | Y13: 159
A14: 高雄市 Kaohsiung City | B14: 437 | C14: 244 | D14: 193 | E14: 1 | F14: 1 | G14: 0 | H14: 120 | I14: 73 | J14: 47 | K14: 316 | L14: 170 | M14: 146 | N14: 1686 | O14: 826 | P14: 860 | Q14: 1 | R14: 1 | S14: 0 | T14: 361 | U14: 188 | V14: 173 | W14: 1324 | X14: 637 | Y14: 687
A15: 宜蘭縣 Yilan County | B15: 328 | C15: 215 | D15: 113 | E15: 0 | F15: 0 | G15: 0 | H15: 21 | I15: 15 | J15: 6 | K15: 307 | L15: 200 | M15: 107 | N15: 840 | O15: 419 | P15: 421 | Q15: 0 | R15: 0 | S15: 0 | T15: 51 | U15: 30 | V15: 21 | W15: 789 | X15: 389 | Y15: 400
A16: 新竹縣 Hsinchu County | B16: 391 | C16: 238 | D16: 153 | E16: 1 | F16: 1 | G16: 0 | H16: 32 | I16: 26 | J16: 6 | K16: 358 | L16: 211 | M16: 147 | N16: 1466 | O16: 721 | P16: 745 | Q16: 1 | R16: 1 | S16: 0 | T16: 86 | U16: 44 | V16: 42 | W16: 1379 | X16: 676 | Y16: 703
A17: 苗栗縣 Miaoli County | B17: 208 | C17: 137 | D17: 71 | E17: 0 | F17: 0 | G17: 0 | H17: 75 | I17: 51 | J17: 24 | K17: 133 | L17: 86 | M17: 47 | N17: 665 | O17: 341 | P17: 324 | Q17: 0 | R17: 0 | S17: 0 | T17: 219 | U17: 122 | V17: 97 | W17: 446 | X17: 219 | Y17: 227
A18: 彰化縣 Changhua County | B18: 55 | C18: 25 | D18: 30 | E18: 0 | F18: 0 | G18: 0 | H18: 0 | I18: 0 | J18: 0 | K18: 55 | L18: 25 | M18: 30 | N18: 141 | O18: 64 | P18: 77 | Q18: 0 | R18: 0 | S18: 0 | T18: 0 | U18: 0 | V18: 0 | W18: 141 | X18: 64 | Y18: 77
A19: 南投縣 Nantou County | B19: 388 | C19: 244 | D19: 144 | E19: 2 | F19: 2 | G19: 0 | H19: 23 | I19: 11 | J19: 12 | K19: 363 | L19: 231 | M19: 132 | N19: 1160 | O19: 600 | P19: 560 | Q19: 3 | R19: 3 | S19: 0 | T19: 84 | U19: 41 | V19: 43 | W19: 1073 | X19: 556 | Y19: 517
... A30: 連江縣 Lienchiang County | B30: 5 | C30: 3 | D30: 2 | E30: 0 | F30: 0 | G30: 0 | H30: 1 | I30: 0 | J30: 1 | K30: 4 | L30: 3 | M30: 1 | N30: 8 | O30: 5 | P30: 3 | Q30: 0 | R30: 0 | S30: 0 | T30: 1 | U30: 0 | V30: 1 | W30: 7 | X30: 5 | Y30: 2
A31: 資料來源：直轄市、縣﹝市﹞政府。
A32: Source : County and City Government.
A33: 總計 | B33: =B8-SUM(B9:B14)-#REF! -> #REF! | C33: =C8-SUM(C9:C14)-#REF! -> #REF! | D33: =D8-SUM(D9:D14)-#REF! -> #REF! | E33: =E8-SUM(E9:E14)-#REF! -> #REF! | F33: =F8-SUM(F9:F14)-#REF! -> #REF! | G33: =G8-SUM(G9:G14)-#REF! -> #REF! | H33: =H8-SUM(H9:H14)-#REF! -> #REF! | I33: =I8-SUM(I9:I14)-#REF! -> #REF! | ... Y33: =Y8-SUM(Y9:Y14)-#REF! -> #REF!
A34: 台灣省 | B34: =#REF!-SUM(B15:B28) -> #REF! | C34: =#REF!-SUM(C15:C28) -> #REF! | D34: =#REF!-SUM(D15:D28) -> #REF! | E34: =#REF!-SUM(E15:E28) -> #REF! | F34: =#REF!-SUM(F15:F28) -> #REF! | G34: =#REF!-SUM(G15:G28) -> #REF! | H34: =#REF!-SUM(H15:H28) -> #REF! | I34: =#REF!-SUM(I15:I28) -> #REF! | ... Y34: =#REF!-SUM(Y15:Y28) -> #REF!
A35: 福建省 | B35: =#REF!-B29-B30 -> #REF! | C35: =#REF!-C29-C30 -> #REF! | D35: =#REF!-D29-D30 -> #REF! | E35: =#REF!-E29-E30 -> #REF! | F35: =#REF!-F29-F30 -> #REF! | G35: =#REF!-G29-G30 -> #REF! | H35: =#REF!-H29-H30 -> #REF! | I35: =#REF!-I29-I30 -> #REF! | ... Y35: =#REF!-Y29-Y30 -> #REF!
A36: 核年季 | B36: =B8-歷年!#REF! -> #REF! | C36: =C8-歷年!#REF! -> #REF! | D36: =D8-歷年!#REF! -> #REF! | E36: =E8-歷年!#REF! -> #REF! | H36: =H8-歷年!#REF! -> #REF! | K36: =K8-歷年!#REF! -> #REF! | N36: =N8-歷年!#REF! -> #REF! | O36: =O8-歷年!#REF! -> #REF! | P36: =P8-歷年!#REF! -> #REF! | Q36: =Q8-歷年!#REF! -> #REF! | T36: =T8-歷年!#REF! -> #REF! | W36: =W8-歷年!#REF! -> #REF!
A39: 中華民國108年第2季底, 2019 Q2
A40: 地區別 | B40: 原住民戶數(戶長性別) Indigenous Households | N40: 原住民人數 Indigenous Persons
B41: 總計 Grand Total | E41: 第1款(省、新北、臺中、臺南)、第0類(臺北)、第1類(高雄) Class 1 | H41: 第2款(省、新北、臺中、臺南)、第1、2類(臺北)、第2類(高雄) Class 2 | K41: 第3款(省、新北、臺中、臺南)、第3、4類(臺北、高雄) Class 3 | N41: 總計 Grand Total | Q41: 第1款(省、新北、臺中、臺南)、第0類(臺北)、第1類(高雄) Class 1 | T41: 第2款(省、新北、臺中、臺南)、第1、2類(臺北)、第2類(高雄) Class 2 | W41: 第3款(省、新北、臺中、臺南)、第3、4類(臺北、高雄) Class 3
B42: 計 | C42: 男 | D42: 女 | E42: 計 | F42: 男 | G42: 女 | H42: 計 | I42: 男 | J42: 女 | K42: 計 | L42: 男 | M42: 女 | N42: 計 | O42: 男 | P42: 女 | Q42: 計 | R42: 男 | S42: 女 | T42: 計 | U42: 男 | V42: 女 | W42: 計 | X42: 男 | Y42: 女
A43: Locality | B43: Sub-Total | C43: Male | D43: Female | E43: Sub-Total | F43: Male | G43: Female | H43: Sub-Total | I43: Male | J43: Female | K43: Sub-Total | L43: Male | M43: Female | N43: Sub-Total | O43: Male | P43: Female | Q43: Sub-Total | R43: Male | S43: Female | T43: Sub-Total | U43: Male | V43: Female | W43: Sub-Total | X43: Male | Y43: Female
A44: 總計 Total | B44: 10880 | C44: 6196 | D44: 4684 | E44: 162 | F44: 129 | G44: 33 | H44: 1405 | I44: 893 | J44: 512 | K44: 9313 | L44: 5174 | M44: 4139 | N44: 30901 | O44: 15776 | P44: 15125 | Q44: 165 | R44: 131 | S44: 34 | T44: 3206 | U44: 1757 | V44: 1449 | W44: 27530 | X44: 13888 | Y44: 13642
A45: 新北市 New Taipei City | B45: 642 | C45: 306 | D45: 336 | E45: 0 | F45: 0 | G45: 0 | H45: 31 | I45: 17 | J45: 14 | K45: 611 | L45: 289 | M45: 322 | N45: 1899 | O45: 897 | P45: 1002 | Q45: 0 | R45: 0 | S45: 0 | T45: 60 | U45: 30 | V45: 30 | W45: 1839 | X45: 867 | Y45: 972
A46: 臺北市 Taipei City | B46: 774 | C46: 369 | D46: 405 | E46: 127 | F46: 97 | G46: 30 | H46: 131 | I46: 55 | J46: 76 | K46: 516 | L46: 217 | M46: 299 | N46: 1783 | O46: 841 | P46: 942 | Q46: 127 | R46: 97 | S46: 30 | T46: 247 | U46: 113 | V46: 134 | W46: 1409 | X46: 631 | Y46: 778
A47: 桃園市 Taoyuan City | B47: 1240 | C47: 677 | D47: 563 | E47: 4 | F47: 4 | G47: 0 | H47: 108 | I47: 65 | J47: 43 | K47: 1128 | L47: 608 | M47: 520 | N47: 4404 | O47: 2200 | P47: 2204 | Q47: 4 | R47: 4 | S47: 0 | T47: 337 | U47: 181 | V47: 156 | W47: 4063 | X47: 2015 | Y47: 2048
A48: 臺中市 Taichung City | B48: 769 | C48: 367 | D48: 402 | E48: 5 | F48: 5 | G48: 0 | H48: 170 | I48: 90 | J48: 80 | K48: 594 | L48: 272 | M48: 322 | N48: 2607 | O48: 1241 | P48: 1366 | Q48: 7 | R48: 6 | S48: 1 | T48: 539 | U48: 266 | V48: 273 | W48: 2061 | X48: 969 | Y48: 1092
A49: 臺南市 Tainan City | B49: 95 | C49: 40 | D49: 55 | E49: 0 | F49: 0 | G49: 0 | H49: 12 | I49: 6 | J49: 6 | K49: 83 | L49: 34 | M49: 49 | N49: 307 | O49: 131 | P49: 176 | Q49: 0 | R49: 0 | S49: 0 | T49: 32 | U49: 15 | V49: 17 | W49: 275 | X49: 116 | Y49: 159
A50: 高雄市 Kaohsiung City | B50: 454 | C50: 247 | D50: 207 | E50: 1 | F50: 1 | G50: 0 | H50: 124 | I50: 73 | J50: 51 | K50: 329 | L50: 173 | M50: 156 | N50: 1754 | O50: 855 | P50: 899 | Q50: 1 | R50: 1 | S50: 0 | T50: 383 | U50: 195 | V50: 188 | W50: 1370 | X50: 659 | Y50: 711
A51: 宜蘭縣 Yilan County | B51: 337 | C51: 223 | D51: 114 | E51: 0 | F51: 0 | G51: 0 | H51: 22 | I51: 17 | J51: 5 | K51: 315 | L51: 206 | M51: 109 | N51: 863 | O51: 440 | P51: 423 | Q51: 0 | R51: 0 | S51: 0 | T51: 53 | U51: 32 | V51: 21 | W51: 810 | X51: 408 | Y51: 402
A52: 新竹縣 Hsinchu County | B52: 402 | C52: 241 | D52: 161 | E52: 1 | F52: 1 | G52: 0 | H52: 31 | I52: 24 | J52: 7 | K52: 370 | L52: 216 | M52: 154 | N52: 1508 | O52: 734 | P52: 774 | Q52: 1 | R52: 1 | S52: 0 | T52: 84 | U52: 42 | V52: 42 | W52: 1423 | X52: 691 | Y52: 732
A53: 苗栗縣 Miaoli County | B53: 214 | C53: 139 | D53: 75 | E53: 0 | F53: 0 | G53: 0 | H53: 81 | I53: 55 | J53: 26 | K53: 133 | L53: 84 | M53: 49 | N53: 679 | O53: 349 | P53: 330 | Q53: 0 | R53: 0 | S53: 0 | T53: 233 | U53: 129 | V53: 104 | W53: 446 | X53: 220 | Y53: 226
A54: 彰化縣 Changhua County | B54: 59 | C54: 28 | D54: 31 | E54: 0 | F54: 0 | G54: 0 | H54: 0 | I54: 0 | J54: 0 | K54: 59 | L54: 28 | M54: 31 | N54: 152 | O54: 70 | P54: 82 | Q54: 0 | R54: 0 | S54: 0 | T54: 0 | U54: 0 | V54: 0 | W54: 152 | X54: 70 | Y54: 82
A55: 南投縣 Nantou County | B55: 402 | C55: 255 | D55: 147 | E55: 2 | F55: 2 | G55: 0 | H55: 22 | I55: 10 | J55: 12 | K55: 378 | L55: 243 | M55: 135 | N55: 1218 | O55: 624 | P55: 594 | Q55: 3 | R55: 3 | S55: 0 | T55: 83 | U55: 40 | V55: 43 | W55: 1132 | X55: 581 | Y55: 551
... A66: 連江縣 Lienchiang County | B66: 4 | C66: 3 | D66: 1 | E66: 0 | F66: 0 | G66: 0 | H66: 0 | I66: 0 | J66: 0 | K66: 4 | L66: 3 | M66: 1 | N66: 7 | O66: 5 | P66: 2 | Q66: 0 | R66: 0 | S66: 0 | T66: 0 | U66: 0 | V66: 0 | W66: 7 | X66: 5 | Y66: 2
A67: 資料來源：直轄市、縣﹝市﹞政府。
A68: Source : County and City Government.
A69: 總計 | B69: =B44-SUM(B45:B50)-#REF! -> #REF! | C69: =C44-SUM(C45:C50)-#REF! -> #REF! | D69: =D44-SUM(D45:D50)-#REF! -> #REF! | E69: =E44-SUM(E45:E50)-#REF! -> #REF! | F69: =F44-SUM(F45:F50)-#REF! -> #REF! | G69: =G44-SUM(G45:G50)-#REF! -> #REF! | H69: =H44-SUM(H45:H50)-#REF! -> #REF! | I69: =I44-SUM(I45:I50)-#REF! -> #REF! | ... Y69: =Y44-SUM(Y45:Y50)-#REF! -> #REF!
A70: 台灣省 | B70: =#REF!-SUM(B51:B64) -> #REF! | C70: =#REF!-SUM(C51:C64) -> #REF! | D70: =#REF!-SUM(D51:D64) -> #REF! | E70: =#REF!-SUM(E51:E64) -> #REF! | F70: =#REF!-SUM(F51:F64) -> #REF! | G70: =#REF!-SUM(G51:G64) -> #REF! | H70: =#REF!-SUM(H51:H64) -> #REF! | I70: =#REF!-SUM(I51:I64) -> #REF! | ... Y70: =#REF!-SUM(Y51:Y64) -> #REF!
A71: 福建省 | B71: =#REF!-B65-B66 -> #REF! | C71: =#REF!-C65-C66 -> #REF! | D71: =#REF!-D65-D66 -> #REF! | E71: =#REF!-E65-E66 -> #REF! | F71: =#REF!-F65-F66 -> #REF! | G71: =#REF!-G65-G66 -> #REF! | H71: =#REF!-H65-H66 -> #REF! | I71: =#REF!-I65-I66 -> #REF! | ... Y71: =#REF!-Y65-Y66 -> #REF!
A72: 核年季 | B72: =B44-歷年!B69 -> 10880 | C72: =C44-歷年!C69 -> 6196 | D72: =D44-歷年!D69 -> 4684 | E72: =E44-歷年!E69 -> 162 | H72: =H44-歷年!F69 -> 1405 | K72: =K44-歷年!G69 -> 9313 | N72: =N44-歷年!H69 -> 30901 | O72: =O44-歷年!I69 -> 15776 | P72: =P44-歷年!J69 -> 15125 | Q72: =Q44-歷年!K69 -> 165 | T72: =T44-歷年!L69 -> 3206 | W72: =W44-歷年!M69 -> 27530
A75: 中華民國108年第3季底, 2019 Q3
A76: 地區別 | B76: 原住民戶數(戶長性別) Indigenous Households | N76: 原住民人數 Indigenous Persons
B77: 總計 Grand Total | E77: 第1款(省、新北、臺中、臺南)、第0類(臺北)、第1類(高雄) Class 1 | H77: 第2款(省、新北、臺中、臺南)、第1、2類(臺北)、第2類(高雄) Class 2 | K77: 第3款(省、新北、臺中、臺南)、第3、4類(臺北、高雄) Class 3 | N77: 總計 Grand Total | Q77: 第1款(省、新北、臺中、臺南)、第0類(臺北)、第1類(高雄) Class 1 | T77: 第2款(省、新北、臺中、臺南)、第1、2類(臺北)、第2類(高雄) Class 2 | W77: 第3款(省、新北、臺中、臺南)、第3、4類(臺北、高雄) Class 3
B78: 計 | C78: 男 | D78: 女 | E78: 計 | F78: 男 | G78: 女 | H78: 計 | I78: 男 | J78: 女 | K78: 計 | L78: 男 | M78: 女 | N78: 計 | O78: 男 | P78: 女 | Q78: 計 | R78: 男 | S78: 女 | T78: 計 | U78: 男 | V78: 女 | W78: 計 | X78: 男 | Y78: 女
A79: Locality | B79: Sub-Total | C79: Male | D79: Female | E79: Sub-Total | F79: Male | G79: Female | H79: Sub-Total | I79: Male | J79: Female | K79: Sub-Total | L79: Male | M79: Female | N79: Sub-Total | O79: Male | P79: Female | Q79: Sub-Total | R79: Male | S79: Female | T79: Sub-Total | U79: Male | V79: Female | W79: Sub-Total | X79: Male | Y79: Female
A80: 總計 Total | B80: 10895 | C80: 6192 | D80: 4703 | E80: 162 | F80: 128 | G80: 34 | H80: 1390 | I80: 878 | J80: 512 | K80: 9343 | L80: 5186 | M80: 4157 | N80: 30653 | O80: 15663 | P80: 14990 | Q80: 165 | R80: 130 | S80: 35 | T80: 3130 | U80: 1720 | V80: 1410 | W80: 27358 | X80: 13813 | Y80: 13545
A81: 新北市 New Taipei City | B81: 665 | C81: 309 | D81: 356 | E81: 0 | F81: 0 | G81: 0 | H81: 35 | I81: 18 | J81: 17 | K81: 630 | L81: 291 | M81: 339 | N81: 1953 | O81: 919 | P81: 1034 | Q81: 0 | R81: 0 | S81: 0 | T81: 64 | U81: 31 | V81: 33 | W81: 1889 | X81: 888 | Y81: 1001
A82: 臺北市 Taipei City | B82: 774 | C82: 364 | D82: 410 | E82: 127 | F82: 97 | G82: 30 | H82: 130 | I82: 53 | J82: 77 | K82: 517 | L82: 214 | M82: 303 | N82: 1777 | O82: 835 | P82: 942 | Q82: 127 | R82: 97 | S82: 30 | T82: 247 | U82: 112 | V82: 135 | W82: 1403 | X82: 626 | Y82: 777
A83: 桃園市 Taoyuan City | B83: 1274 | C83: 689 | D83: 585 | E83: 4 | F83: 4 | G83: 0 | H83: 108 | I83: 63 | J83: 45 | K83: 1162 | L83: 622 | M83: 540 | N83: 4502 | O83: 2233 | P83: 2269 | Q83: 4 | R83: 4 | S83: 0 | T83: 330 | U83: 177 | V83: 153 | W83: 4168 | X83: 2052 | Y83: 2116
A84: 臺中市 Taichung City | B84: 780 | C84: 373 | D84: 407 | E84: 6 | F84: 5 | G84: 1 | H84: 159 | I84: 81 | J84: 78 | K84: 615 | L84: 287 | M84: 328 | N84: 2653 | O84: 1263 | P84: 1390 | Q84: 8 | R84: 6 | S84: 2 | T84: 517 | U84: 248 | V84: 269 | W84: 2128 | X84: 1009 | Y84: 1119
A85: 臺南市 Tainan City | B85: 87 | C85: 36 | D85: 51 | E85: 0 | F85: 0 | G85: 0 | H85: 12 | I85: 6 | J85: 6 | K85: 75 | L85: 30 | M85: 45 | N85: 276 | O85: 114 | P85: 162 | Q85: 0 | R85: 0 | S85: 0 | T85: 30 | U85: 14 | V85: 16 | W85: 246 | X85: 100 | Y85: 146
A86: 高雄市 Kaohsiung City | B86: 454 | C86: 246 | D86: 208 | E86: 1 | F86: 1 | G86: 0 | H86: 127 | I86: 74 | J86: 53 | K86: 326 | L86: 171 | M86: 155 | N86: 1733 | O86: 847 | P86: 886 | Q86: 1 | R86: 1 | S86: 0 | T86: 391 | U86: 201 | V86: 190 | W86: 1341 | X86: 645 | Y86: 696
A87: 宜蘭縣 Yilan County | B87: 331 | C87: 222 | D87: 109 | E87: 0 | F87: 0 | G87: 0 | H87: 21 | I87: 16 | J87: 5 | K87: 310 | L87: 206 | M87: 104 | N87: 837 | O87: 439 | P87: 398 | Q87: 0 | R87: 0 | S87: 0 | T87: 53 | U87: 31 | V87: 22 | W87: 784 | X87: 408 | Y87: 376
A88: 新竹縣 Hsinchu County | B88: 404 | C88: 245 | D88: 159 | E88: 1 | F88: 1 | G88: 0 | H88: 38 | I88: 29 | J88: 9 | K88: 365 | L88: 215 | M88: 150 | N88: 1476 | O88: 730 | P88: 746 | Q88: 1 | R88: 1 | S88: 0 | T88: 92 | U88: 51 | V88: 41 | W88: 1383 | X88: 678 | Y88: 705
A89: 苗栗縣 Miaoli County | B89: 214 | C89: 138 | D89: 76 | E89: 0 | F89: 0 | G89: 0 | H89: 82 | I89: 54 | J89: 28 | K89: 132 | L89: 84 | M89: 48 | N89: 682 | O89: 350 | P89: 332 | Q89: 0 | R89: 0 | S89: 0 | T89: 239 | U89: 133 | V89: 106 | W89: 443 | X89: 217 | Y89: 226
A90: 彰化縣 Changhua County | B90: 61 | C90: 30 | D90: 31 | E90: 0 | F90: 0 | G90: 0 | H90: 0 | I90: 0 | J90: 0 | K90: 61 | L90: 30 | M90: 31 | N90: 154 | O90: 73 | P90: 81 | Q90: 0 | R90: 0 | S90: 0 | T90: 0 | U90: 0 | V90: 0 | W90: 154 | X90: 73 | Y90: 81
A91: 南投縣 Nantou County | B91: 412 | C91: 259 | D91: 153 | E91: 2 | F91: 2 | G91: 0 | H91: 22 | I91: 10 | J91: 12 | K91: 388 | L91: 247 | M91: 141 | N91: 1244 | O91: 638 | P91: 606 | Q91: 3 | R91: 3 | S91: 0 | T91: 82 | U91: 40 | V91: 42 | W91: 1159 | X91: 595 | Y91: 564
... A102: 連江縣 Lienchiang County | B102: 4 | C102: 3 | D102: 1 | E102: 0 | F102: 0 | G102: 0 | H102: 0 | I102: 0 | J102: 0 | K102: 4 | L102: 3 | M102: 1 | N102: 8 | O102: 6 | P102: 2 | Q102: 0 | R102: 0 | S102: 0 | T102: 0 | U102: 0 | V102: 0 | W102: 8 | X102: 6 | Y102: 2
A103: 資料來源：直轄市、縣﹝市﹞政府。
A104: Source : County and City Government.
A105: 總計 | B105: =B80-SUM(B81:B86)-#REF! -> #REF! | C105: =C80-SUM(C81:C86)-#REF! -> #REF! | D105: =D80-SUM(D81:D86)-#REF! -> #REF! | E105: =E80-SUM(E81:E86)-#REF! -> #REF! | F105: =F80-SUM(F81:F86)-#REF! -> #REF! | G105: =G80-SUM(G81:G86)-#REF! -> #REF! | H105: =H80-SUM(H81:H86)-#REF! -> #REF! | I105: =I80-SUM(I81:I86)-#REF! -> #REF! | ... Y105: =Y80-SUM(Y81:Y86)-#REF! -> #REF!
A106: 台灣省 | B106: =#REF!-SUM(B87:B100) -> #REF! | C106: =#REF!-SUM(C87:C100) -> #REF! | D106: =#REF!-SUM(D87:D100) -> #REF! | E106: =#REF!-SUM(E87:E100) -> #REF! | F106: =#REF!-SUM(F87:F100) -> #REF! | G106: =#REF!-SUM(G87:G100) -> #REF! | H106: =#REF!-SUM(H87:H100) -> #REF! | I106: =#REF!-SUM(I87:I100) -> #REF! | ... Y106: =#REF!-SUM(Y87:Y100) -> #REF!
A107: 福建省 | B107: =#REF!-B101-B102 -> #REF! | C107: =#REF!-C101-C102 -> #REF! | D107: =#REF!-D101-D102 -> #REF! | E107: =#REF!-E101-E102 -> #REF! | F107: =#REF!-F101-F102 -> #REF! | G107: =#REF!-G101-G102 -> #REF! | H107: =#REF!-H101-H102 -> #REF! | I107: =#REF!-I101-I102 -> #REF! | ... Y107: =#REF!-Y101-Y102 -> #REF!
A108: 核年季 | B108: =B80-歷年!B108 -> 10895 | C108: =C80-歷年!C108 -> 6192 | D108: =D80-歷年!D108 -> 4703 | E108: =E80-歷年!E108 -> 162 | H108: =H80-歷年!F108 -> 1390 | K108: =K80-歷年!G108 -> 9343 | N108: =N80-歷年!H108 -> 30653 | O108: =O80-歷年!I108 -> 15663 | P108: =P80-歷年!J108 -> 14990 | Q108: =Q80-歷年!K108 -> 165 | T108: =T80-歷年!L108 -> 3130 | W108: =W80-歷年!M108 -> 27358
A111: 中華民國108年第4季底, 2019 Q4
A112: 地區別 | B112: 原住民戶數(戶長性別) Indigenous Households | N112: 原住民人數 Indigenous Persons
B113: 總計 Grand Total | E113: 第1款(省、新北、臺中、臺南)、第0類(臺北)、第1類(高雄) Class 1 | H113: 第2款(省、新北、臺中、臺南)、第1、2類(臺北)、第2類(高雄) Class 2 | K113: 第3款(省、新北、臺中、臺南)、第3、4類(臺北、高雄) Class 3 | N113: 總計 Grand Total | Q113: 第1款(省、新北、臺中、臺南)、第0類(臺北)、第1類(高雄) Class 1 | T113: 第2款(省、新北、臺中、臺南)、第1、2類(臺北)、第2類(高雄) Class 2 | W113: 第3款(省、新北、臺中、臺南)、第3、4類(臺北、高雄) Class 3
B114: 計 | C114: 男 | D114: 女 | E114: 計 | F114: 男 | G114: 女 | H114: 計 | I114: 男 | J114: 女 | K114: 計 | L114: 男 | M114: 女 | N114: 計 | O114: 男 | P114: 女 | Q114: 計 | R114: 男 | S114: 女 | T114: 計 | U114: 男 | V114: 女 | W114: 計 | X114: 男 | Y114: 女
A115: Locality | B115: Sub-Total | C115: Male | D115: Female | E115: Sub-Total | F115: Male | G115: Female | H115: Sub-Total | I115: Male | J115: Female | K115: Sub-Total | L115: Male | M115: Female | N115: Sub-Total | O115: Male | P115: Female | Q115: Sub-Total | R115: Male | S115: Female | T115: Sub-Total | U115: Male | V115: Female | W115: Sub-Total | X115: Male | Y115: Female
A116: 總計 Total | B116: 10720 | C116: 6062 | D116: 4658 | E116: 40 | F116: 34 | G116: 6 | H116: 1324 | I116: 850 | J116: 474 | K116: 9356 | L116: 5178 | M116: 4178 | N116: 30810 | O116: 15711 | P116: 15099 | Q116: 43 | R116: 36 | S116: 7 | T116: 3067 | U116: 1697 | V116: 1370 | W116: 27700 | X116: 13978 | Y116: 13722
A117: 新北市 New Taipei City | B117: 632 | C117: 289 | D117: 343 | E117: 0 | F117: 0 | G117: 0 | H117: 29 | I117: 17 | J117: 12 | K117: 603 | L117: 272 | M117: 331 | N117: 1846 | O117: 856 | P117: 990 | Q117: 0 | R117: 0 | S117: 0 | T117: 52 | U117: 27 | V117: 25 | W117: 1794 | X117: 829 | Y117: 965
A118: 臺北市 Taipei City | B118: 414 | C118: 152 | D118: 262 | E118: 5 | F118: 3 | G118: 2 | H118: 57 | I118: 22 | J118: 35 | K118: 352 | L118: 127 | M118: 225 | N118: 1368 | O118: 609 | P118: 759 | Q118: 5 | R118: 3 | S118: 2 | T118: 168 | U118: 72 | V118: 96 | W118: 1195 | X118: 534 | Y118: 661
A119: 桃園市 Taoyuan City | B119: 1296 | C119: 701 | D119: 595 | E119: 4 | F119: 4 | G119: 0 | H119: 113 | I119: 65 | J119: 48 | K119: 1179 | L119: 632 | M119: 547 | N119: 4603 | O119: 2288 | P119: 2315 | Q119: 4 | R119: 4 | S119: 0 | T119: 356 | U119: 191 | V119: 165 | W119: 4243 | X119: 2093 | Y119: 2150
A120: 臺中市 Taichung City | B120: 785 | C120: 375 | D120: 410 | E120: 7 | F120: 6 | G120: 1 | H120: 161 | I120: 80 | J120: 81 | K120: 617 | L120: 289 | M120: 328 | N120: 2664 | O120: 1275 | P120: 1389 | Q120: 9 | R120: 7 | S120: 2 | T120: 528 | U120: 253 | V120: 275 | W120: 2127 | X120: 1015 | Y120: 1112
A121: 臺南市 Tainan City | B121: 85 | C121: 36 | D121: 49 | E121: 0 | F121: 0 | G121: 0 | H121: 12 | I121: 6 | J121: 6 | K121: 73 | L121: 30 | M121: 43 | N121: 274 | O121: 114 | P121: 160 | Q121: 0 | R121: 0 | S121: 0 | T121: 30 | U121: 14 | V121: 16 | W121: 244 | X121: 100 | Y121: 144
A122: 高雄市 Kaohsiung City | B122: 496 | C122: 260 | D122: 236 | E122: 1 | F122: 1 | G122: 0 | H122: 137 | I122: 79 | J122: 58 | K122: 358 | L122: 180 | M122: 178 | N122: 1822 | O122: 890 | P122: 932 | Q122: 1 | R122: 1 | S122: 0 | T122: 393 | U122: 208 | V122: 185 | W122: 1428 | X122: 681 | Y122: 747
A123: 宜蘭縣 Yilan County | B123: 334 | C123: 229 | D123: 105 | E123: 0 | F123: 0 | G123: 0 | H123: 24 | I123: 19 | J123: 5 | K123: 310 | L123: 210 | M123: 100 | N123: 844 | O123: 441 | P123: 403 | Q123: 0 | R123: 0 | S123: 0 | T123: 56 | U123: 34 | V123: 22 | W123: 788 | X123: 407 | Y123: 381
A124: 新竹縣 Hsinchu County | B124: 409 | C124: 249 | D124: 160 | E124: 1 | F124: 1 | G124: 0 | H124: 38 | I124: 29 | J124: 9 | K124: 370 | L124: 219 | M124: 151 | N124: 1519 | O124: 751 | P124: 768 | Q124: 1 | R124: 1 | S124: 0 | T124: 91 | U124: 50 | V124: 41 | W124: 1427 | X124: 700 | Y124: 727
A125: 苗栗縣 Miaoli County | B125: 222 | C125: 140 | D125: 82 | E125: 0 | F125: 0 | G125: 0 | H125: 81 | I125: 53 | J125: 28 | K125: 141 | L125: 87 | M125: 54 | N125: 720 | O125: 365 | P125: 355 | Q125: 0 | R125: 0 | S125: 0 | T125: 239 | U125: 131 | V125: 108 | W125: 481 | X125: 234 | Y125: 247
A126: 彰化縣 Changhua County | B126: 63 | C126: 31 | D126: 32 | E126: 0 | F126: 0 | G126: 0 | H126: 0 | I126: 0 | J126: 0 | K126: 63 | L126: 31 | M126: 32 | N126: 158 | O126: 75 | P126: 83 | Q126: 0 | R126: 0 | S126: 0 | T126: 0 | U126: 0 | V126: 0 | W126: 158 | X126: 75 | Y126: 83
A127: 南投縣 Nantou County | B127: 420 | C127: 262 | D127: 158 | E127: 1 | F127: 1 | G127: 0 | H127: 22 | I127: 10 | J127: 12 | K127: 397 | L127: 251 | M127: 146 | N127: 1275 | O127: 649 | P127: 626 | Q127: 2 | R127: 2 | S127: 0 | T127: 81 | U127: 39 | V127: 42 | W127: 1192 | X127: 608 | Y127: 584
... A138: 連江縣 Lienchiang County | B138: 4 | C138: 3 | D138: 1 | E138: 0 | F138: 0 | G138: 0 | H138: 0 | I138: 0 | J138: 0 | K138: 4 | L138: 3 | M138: 1 | N138: 8 | O138: 6 | P138: 2 | Q138: 0 | R138: 0 | S138: 0 | T138: 0 | U138: 0 | V138: 0 | W138: 8 | X138: 6 | Y138: 2
A139: 資料來源：直轄市、縣﹝市﹞政府。
A140: Source : County and City Government.
A141: 總計 | B141: =B116-SUM(B117:B122)-#REF! -> #REF! | C141: =C116-SUM(C117:C122)-#REF! -> #REF! | D141: =D116-SUM(D117:D122)-#REF! -> #REF! | E141: =E116-SUM(E117:E122)-#REF! -> #REF! | F141: =F116-SUM(F117:F122)-#REF! -> #REF! | G141: =G116-SUM(G117:G122)-#REF! -> #REF! | H141: =H116-SUM(H117:H122)-#REF! -> #REF! | I141: =I116-SUM(I117:I122)-#REF! -> #REF! | ... Y141: =Y116-SUM(Y117:Y122)-#REF! -> #REF!
A142: 台灣省 | B142: =#REF!-SUM(B123:B136) -> #REF! | C142: =#REF!-SUM(C123:C136) -> #REF! | D142: =#REF!-SUM(D123:D136) -> #REF! | E142: =#REF!-SUM(E123:E136) -> #REF! | F142: =#REF!-SUM(F123:F136) -> #REF! | G142: =#REF!-SUM(G123:G136) -> #REF! | H142: =#REF!-SUM(H123:H136) -> #REF! | I142: =#REF!-SUM(I123:I136) -> #REF! | ... Y142: =#REF!-SUM(Y123:Y136) -> #REF!
A143: 福建省 | B143: =#REF!-B137-B138 -> #REF! | C143: =#REF!-C137-C138 -> #REF! | D143: =#REF!-D137-D138 -> #REF! | E143: =#REF!-E137-E138 -> #REF! | F143: =#REF!-F137-F138 -> #REF! | G143: =#REF!-G137-G138 -> #REF! | H143: =#REF!-H137-H138 -> #REF! | I143: =#REF!-I137-I138 -> #REF! | ... Y143: =#REF!-Y137-Y138 -> #REF!
A144: 核年季 | B144: =B116-歷年!B147 -> 10720 | C144: =C116-歷年!C147 -> 6062 | D144: =D116-歷年!D147 -> 4658 | E144: =E116-歷年!E147 -> 40 | H144: =H116-歷年!F147 -> 1324 | K144: =K116-歷年!G147 -> 9356 | N144: =N116-歷年!H147 -> 30810 | O144: =O116-歷年!I147 -> 15711 | P144: =P116-歷年!J147 -> 15099 | Q144: =Q116-歷年!K147 -> 43 | T144: =T116-歷年!L147 -> 3067 | W144: =W116-歷年!M147 -> 27700

Sheet 2018
A2: 原住民低收入戶戶數及人數 Number and Population of Indigenous Low-Income Households
A3: 中華民國107年第1季底, 2018 Q1
A4: 地區別 | B4: 原住民戶數-按戶長性別分(戶) Indigenous Households | N4: 原住民人數(人) Indigenous Persons
B5: 總計 Grand Total | E5: 第1款(省、新北、臺中、臺南)、第0類(臺北)、第1類(高雄) Class 1 | H5: 第2款(省、新北、臺中、臺南)、第1、2類(臺北)、第2類(高雄) Class 2 | K5: 第3款(省、新北、臺中、臺南)、第3、4類(臺北、高雄) Class 3 | N5: 總計 Grand Total | Q5: 第1款(省、新北、臺中、臺南)、第0類(臺北)、第1類(高雄) Class 1 | T5: 第2款(省、新北、臺中、臺南)、第1、2類(臺北)、第2類(高雄) Class 2 | W5: 第3款(省、新北、臺中、臺南)、第3、4類(臺北、高雄) Class 3
B6: 計 | C6: 男 | D6: 女 | E6: 計 | F6: 男 | G6: 女 | H6: 計 | I6: 男 | J6: 女 | K6: 計 | L6: 男 | M6: 女 | N6: 計 | O6: 男 | P6: 女 | Q6: 計 | R6: 男 | S6: 女 | T6: 計 | U6: 男 | V6: 女 | W6: 計 | X6: 男 | Y6: 女
A7: Locality | B7: Sub-Total | C7: Male | D7: Female | E7: Sub-Total | F7: Male | G7: Female | H7: Sub-Total | I7: Male | J7: Female | K7: Sub-Total | L7: Male | M7: Female | N7: Sub-Total | O7: Male | P7: Female | Q7: Sub-Total | R7: Male | S7: Female | T7: Sub-Total | U7: Male | V7: Female | W7: Sub-Total | X7: Male | Y7: Female
A8: 總計 Total | B8: 10711 | C8: 6133 | D8: 4578 | E8: 198 | F8: 160 | G8: 38 | H8: 1452 | I8: 928 | J8: 524 | K8: 9061 | L8: 5045 | M8: 4016 | N8: 30486 | O8: 15678 | P8: 14808 | Q8: 201 | R8: 162 | S8: 39 | T8: 3296 | U8: 1804 | V8: 1492 | W8: 26989 | X8: 13712 | Y8: 13277
A9: 新北市 New Taipei City | B9: 670 | C9: 322 | D9: 348 | E9: 0 | F9: 0 | G9: 0 | H9: 31 | I9: 18 | J9: 13 | K9: 639 | L9: 304 | M9: 335 | N9: 1987 | O9: 969 | P9: 1018 | Q9: 0 | R9: 0 | S9: 0 | T9: 70 | U9: 39 | V9: 31 | W9: 1917 | X9: 930 | Y9: 987
A10: 臺北市 Taipei City | B10: 803 | C10: 398 | D10: 405 | E10: 158 | F10: 125 | G10: 33 | H10: 138 | I10: 62 | J10: 76 | K10: 507 | L10: 211 | M10: 296 | N10: 1848 | O10: 893 | P10: 955 | Q10: 158 | R10: 125 | S10: 33 | T10: 256 | U10: 115 | V10: 141 | W10: 1434 | X10: 653 | Y10: 781
A11: 桃園市 Taoyuan City | B11: 1055 | C11: 584 | D11: 471 | E11: 4 | F11: 4 | G11: 0 | H11: 113 | I11: 65 | J11: 48 | K11: 938 | L11: 515 | M11: 423 | N11: 3744 | O11: 1873 | P11: 1871 | Q11: 4 | R11: 4 | S11: 0 | T11: 364 | U11: 190 | V11: 174 | W11: 3376 | X11: 1679 | Y11: 1697
A12: 臺中市 Taichung City | B12: 740 | C12: 344 | D12: 396 | E12: 5 | F12: 5 | G12: 0 | H12: 139 | I12: 69 | J12: 70 | K12: 596 | L12: 270 | M12: 326 | N12: 2482 | O12: 1189 | P12: 1293 | Q12: 7 | R12: 6 | S12: 1 | T12: 428 | U12: 214 | V12: 214 | W12: 2047 | X12: 969 | Y12: 1078
A13: 臺南市 Tainan City | B13: 101 | C13: 42 | D13: 59 | E13: 0 | F13: 0 | G13: 0 | H13: 13 | I13: 6 | J13: 7 | K13: 88 | L13: 36 | M13: 52 | N13: 330 | O13: 153 | P13: 177 | Q13: 0 | R13: 0 | S13: 0 | T13: 38 | U13: 15 | V13: 23 | W13: 292 | X13: 138 | Y13: 154
A14: 高雄市 Kaohsiung City | B14: 456 | C14: 250 | D14: 206 | E14: 2 | F14: 1 | G14: 1 | H14: 132 | I14: 86 | J14: 46 | K14: 322 | L14: 163 | M14: 159 | N14: 1536 | O14: 748 | P14: 788 | Q14: 2 | R14: 1 | S14: 1 | T14: 370 | U14: 200 | V14: 170 | W14: 1164 | X14: 547 | Y14: 617
A15: 宜蘭縣 Yilan County | B15: 320 | C15: 211 | D15: 109 | E15: 0 | F15: 0 | G15: 0 | H15: 14 | I15: 10 | J15: 4 | K15: 306 | L15: 201 | M15: 105 | N15: 822 | O15: 405 | P15: 417 | Q15: 0 | R15: 0 | S15: 0 | T15: 39 | U15: 23 | V15: 16 | W15: 783 | X15: 382 | Y15: 401
A16: 新竹縣 Hsinchu County | B16: 391 | C16: 241 | D16: 150 | E16: 1 | F16: 1 | G16: 0 | H16: 29 | I16: 24 | J16: 5 | K16: 361 | L16: 216 | M16: 145 | N16: 1459 | O16: 730 | P16: 729 | Q16: 1 | R16: 1 | S16: 0 | T16: 58 | U16: 34 | V16: 24 | W16: 1400 | X16: 695 | Y16: 705
A17: 苗栗縣 Miaoli County | B17: 195 | C17: 125 | D17: 70 | E17: 0 | F17: 0 | G17: 0 | H17: 70 | I17: 46 | J17: 24 | K17: 125 | L17: 79 | M17: 46 | N17: 617 | O17: 314 | P17: 303 | Q17: 0 | R17: 0 | S17: 0 | T17: 208 | U17: 107 | V17: 101 | W17: 409 | X17: 207 | Y17: 202
A18: 彰化縣 Changhua County | B18: 58 | C18: 28 | D18: 30 | E18: 0 | F18: 0 | G18: 0 | H18: 1 | I18: 1 | J18: 0 | K18: 57 | L18: 27 | M18: 30 | N18: 145 | O18: 69 | P18: 76 | Q18: 0 | R18: 0 | S18: 0 | T18: 1 | U18: 1 | V18: 0 | W18: 144 | X18: 68 | Y18: 76
A19: 南投縣 Nantou County | B19: 385 | C19: 245 | D19: 140 | E19: 3 | F19: 3 | G19: 0 | H19: 30 | I19: 15 | J19: 15 | K19: 352 | L19: 227 | M19: 125 | N19: 1189 | O19: 609 | P19: 580 | Q19: 4 | R19: 4 | S19: 0 | T19: 102 | U19: 48 | V19: 54 | W19: 1083 | X19: 557 | Y19: 526
... A30: 連江縣 Lienchiang County | B30: 4 | C30: 2 | D30: 2 | E30: 0 | F30: 0 | G30: 0 | H30: 0 | I30: 0 | J30: 0 | K30: 4 | L30: 2 | M30: 2 | N30: 7 | O30: 4 | P30: 3 | Q30: 0 | R30: 0 | S30: 0 | T30: 0 | U30: 0 | V30: 0 | W30: 7 | X30: 4 | Y30: 3
A31: 資料來源：直轄市、縣﹝市﹞政府。
A32: Source : County and City Government.
A33: 總計 | B33: =B8-SUM(B9:B14)-#REF! -> #REF! | C33: =C8-SUM(C9:C14)-#REF! -> #REF! | D33: =D8-SUM(D9:D14)-#REF! -> #REF! | E33: =E8-SUM(E9:E14)-#REF! -> #REF! | F33: =F8-SUM(F9:F14)-#REF! -> #REF! | G33: =G8-SUM(G9:G14)-#REF! -> #REF! | H33: =H8-SUM(H9:H14)-#REF! -> #REF! | I33: =I8-SUM(I9:I14)-#REF! -> #REF! | ... Y33: =Y8-SUM(Y9:Y14)-#REF! -> #REF!
A34: 台灣省 | B34: =#REF!-SUM(B15:B28) -> #REF! | C34: =#REF!-SUM(C15:C28) -> #REF! | D34: =#REF!-SUM(D15:D28) -> #REF! | E34: =#REF!-SUM(E15:E28) -> #REF! | F34: =#REF!-SUM(F15:F28) -> #REF! | G34: =#REF!-SUM(G15:G28) -> #REF! | H34: =#REF!-SUM(H15:H28) -> #REF! | I34: =#REF!-SUM(I15:I28) -> #REF! | ... Y34: =#REF!-SUM(Y15:Y28) -> #REF!
A35: 福建省 | B35: =#REF!-B29-B30 -> #REF! | C35: =#REF!-C29-C30 -> #REF! | D35: =#REF!-D29-D30 -> #REF! | E35: =#REF!-E29-E30 -> #REF! | F35: =#REF!-F29-F30 -> #REF! | G35: =#REF!-G29-G30 -> #REF! | H35: =#REF!-H29-H30 -> #REF! | I35: =#REF!-I29-I30 -> #REF! | ... Y35: =#REF!-Y29-Y30 -> #REF!
A36: 核年季 | B36: =B8-歷年!#REF! -> #REF! | C36: =C8-歷年!#REF! -> #REF! | D36: =D8-歷年!#REF! -> #REF! | E36: =E8-歷年!#REF! -> #REF! | H36: =H8-歷年!#REF! -> #REF! | K36: =K8-歷年!#REF! -> #REF! | N36: =N8-歷年!#REF! -> #REF! | O36: =O8-歷年!#REF! -> #REF! | P36: =P8-歷年!#REF! -> #REF! | Q36: =Q8-歷年!#REF! -> #REF! | T36: =T8-歷年!#REF! -> #REF! | W36: =W8-歷年!#REF! -> #REF!
A39: 中華民國107年第2季底, 2018 Q2
A40: 地區別 | B40: 原住民戶數(戶長性別) Indigenous Households | N40: 原住民人數 Indigenous Persons
B41: 總計 Grand Total | E41: 第1款(省、新北、臺中、臺南)、第0類(臺北)、第1類(高雄) Class 1 | H41: 第2款(省、新北、臺中、臺南)、第1、2類(臺北)、第2類(高雄) Class 2 | K41: 第3款(省、新北、臺中、臺南)、第3、4類(臺北、高雄) Class 3 | N41: 總計 Grand Total | Q41: 第1款(省、新北、臺中、臺南)、第0類(臺北)、第1類(高雄) Class 1 | T41: 第2款(省、新北、臺中、臺南)、第1、2類(臺北)、第2類(高雄) Class 2 | W41: 第3款(省、新北、臺中、臺南)、第3、4類(臺北、高雄) Class 3
B42: 計 | C42: 男 | D42: 女 | E42: 計 | F42: 男 | G42: 女 | H42: 計 | I42: 男 | J42: 女 | K42: 計 | L42: 男 | M42: 女 | N42: 計 | O42: 男 | P42: 女 | Q42: 計 | R42: 男 | S42: 女 | T42: 計 | U42: 男 | V42: 女 | W42: 計 | X42: 男 | Y42: 女
A43: Locality | B43: Sub-Total | C43: Male | D43: Female | E43: Sub-Total | F43: Male | G43: Female | H43: Sub-Total | I43: Male | J43: Female | K43: Sub-Total | L43: Male | M43: Female | N43: Sub-Total | O43: Male | P43: Female | Q43: Sub-Total | R43: Male | S43: Female | T43: Sub-Total | U43: Male | V43: Female | W43: Sub-Total | X43: Male | Y43: Female
A44: 總計 Total | B44: 10994 | C44: 6267 | D44: 4727 | E44: 193 | F44: 153 | G44: 40 | H44: 1447 | I44: 916 | J44: 531 | K44: 9354 | L44: 5198 | M44: 4156 | N44: 31199 | O44: 16005 | P44: 15194 | Q44: 196 | R44: 155 | S44: 41 | T44: 3294 | U44: 1796 | V44: 1498 | W44: 27709 | X44: 14054 | Y44: 13655
A45: 新北市 New Taipei City | B45: 692 | C45: 332 | D45: 360 | E45: 0 | F45: 0 | G45: 0 | H45: 36 | I45: 19 | J45: 17 | K45: 656 | L45: 313 | M45: 343 | N45: 2042 | O45: 991 | P45: 1051 | Q45: 0 | R45: 0 | S45: 0 | T45: 78 | U45: 41 | V45: 37 | W45: 1964 | X45: 950 | Y45: 1014
A46: 臺北市 Taipei City | B46: 804 | C46: 393 | D46: 411 | E46: 153 | F46: 118 | G46: 35 | H46: 135 | I46: 59 | J46: 76 | K46: 516 | L46: 216 | M46: 300 | N46: 1853 | O46: 890 | P46: 963 | Q46: 153 | R46: 118 | S46: 35 | T46: 255 | U46: 112 | V46: 143 | W46: 1445 | X46: 660 | Y46: 785
A47: 桃園市 Taoyuan City | B47: 1115 | C47: 613 | D47: 502 | E47: 4 | F47: 4 | G47: 0 | H47: 114 | I47: 64 | J47: 50 | K47: 997 | L47: 545 | M47: 452 | N47: 3894 | O47: 1950 | P47: 1944 | Q47: 4 | R47: 4 | S47: 0 | T47: 359 | U47: 187 | V47: 172 | W47: 3531 | X47: 1759 | Y47: 1772
A48: 臺中市 Taichung City | B48: 762 | C48: 356 | D48: 406 | E48: 5 | F48: 5 | G48: 0 | H48: 140 | I48: 68 | J48: 72 | K48: 617 | L48: 283 | M48: 334 | N48: 2553 | O48: 1225 | P48: 1328 | Q48: 7 | R48: 6 | S48: 1 | T48: 426 | U48: 214 | V48: 212 | W48: 2120 | X48: 1005 | Y48: 1115
A49: 臺南市 Tainan City | B49: 102 | C49: 41 | D49: 61 | E49: 0 | F49: 0 | G49: 0 | H49: 13 | I49: 6 | J49: 7 | K49: 89 | L49: 35 | M49: 54 | N49: 334 | O49: 151 | P49: 183 | Q49: 0 | R49: 0 | S49: 0 | T49: 38 | U49: 15 | V49: 23 | W49: 296 | X49: 136 | Y49: 160
A50: 高雄市 Kaohsiung City | B50: 456 | C50: 248 | D50: 208 | E50: 2 | F50: 1 | G50: 1 | H50: 130 | I50: 82 | J50: 48 | K50: 324 | L50: 165 | M50: 159 | N50: 1550 | O50: 751 | P50: 799 | Q50: 2 | R50: 1 | S50: 1 | T50: 373 | U50: 202 | V50: 171 | W50: 1175 | X50: 548 | Y50: 627
A51: 宜蘭縣 Yilan County | B51: 322 | C51: 214 | D51: 108 | E51: 0 | F51: 0 | G51: 0 | H51: 13 | I51: 11 | J51: 2 | K51: 309 | L51: 203 | M51: 106 | N51: 823 | O51: 409 | P51: 414 | Q51: 0 | R51: 0 | S51: 0 | T51: 33 | U51: 22 | V51: 11 | W51: 790 | X51: 387 | Y51: 403
A52: 新竹縣 Hsinchu County | B52: 401 | C52: 247 | D52: 154 | E52: 1 | F52: 1 | G52: 0 | H52: 25 | I52: 20 | J52: 5 | K52: 375 | L52: 226 | M52: 149 | N52: 1491 | O52: 739 | P52: 752 | Q52: 1 | R52: 1 | S52: 0 | T52: 54 | U52: 30 | V52: 24 | W52: 1436 | X52: 708 | Y52: 728
A53: 苗栗縣 Miaoli County | B53: 202 | C53: 130 | D53: 72 | E53: 0 | F53: 0 | G53: 0 | H53: 73 | I53: 49 | J53: 24 | K53: 129 | L53: 81 | M53: 48 | N53: 644 | O53: 325 | P53: 319 | Q53: 0 | R53: 0 | S53: 0 | T53: 217 | U53: 114 | V53: 103 | W53: 427 | X53: 211 | Y53: 216
A54: 彰化縣 Changhua County | B54: 57 | C54: 27 | D54: 30 | E54: 0 | F54: 0 | G54: 0 | H54: 0 | I54: 0 | J54: 0 | K54: 57 | L54: 27 | M54: 30 | N54: 144 | O54: 69 | P54: 75 | Q54: 0 | R54: 0 | S54: 0 | T54: 0 | U54: 0 | V54: 0 | W54: 144 | X54: 69 | Y54: 75
A55: 南投縣 Nantou County | B55: 405 | C55: 259 | D55: 146 | E55: 3 | F55: 3 | G55: 0 | H55: 30 | I55: 15 | J55: 15 | K55: 372 | L55: 241 | M55: 131 | N55: 1244 | O55: 639 | P55: 605 | Q55: 4 | R55: 4 | S55: 0 | T55: 102 | U55: 48 | V55: 54 | W55: 1138 | X55: 587 | Y55: 551
... A66: 連江縣 Lienchiang County | B66: 4 | C66: 2 | D66: 2 | E66: 0 | F66: 0 | G66: 0 | H66: 0 | I66: 0 | J66: 0 | K66: 4 | L66: 2 | M66: 2 | N66: 7 | O66: 4 | P66: 3 | Q66: 0 | R66: 0 | S66: 0 | T66: 0 | U66: 0 | V66: 0 | W66: 7 | X66: 4 | Y66: 3
A67: 資料來源：直轄市、縣﹝市﹞政府。
A68: Source : County and City Government.
A69: 總計 | B69: =B44-SUM(B45:B50)-#REF! -> #REF! | C69: =C44-SUM(C45:C50)-#REF! -> #REF! | D69: =D44-SUM(D45:D50)-#REF! -> #REF! | E69: =E44-SUM(E45:E50)-#REF! -> #REF! | F69: =F44-SUM(F45:F50)-#REF! -> #REF! | G69: =G44-SUM(G45:G50)-#REF! -> #REF! | H69: =H44-SUM(H45:H50)-#REF! -> #REF! | I69: =I44-SUM(I45:I50)-#REF! -> #REF! | ... Y69: =Y44-SUM(Y45:Y50)-#REF! -> #REF!
A70: 台灣省 | B70: =#REF!-SUM(B51:B64) -> #REF! | C70: =#REF!-SUM(C51:C64) -> #REF! | D70: =#REF!-SUM(D51:D64) -> #REF! | E70: =#REF!-SUM(E51:E64) -> #REF! | F70: =#REF!-SUM(F51:F64) -> #REF! | G70: =#REF!-SUM(G51:G64) -> #REF! | H70: =#REF!-SUM(H51:H64) -> #REF! | I70: =#REF!-SUM(I51:I64) -> #REF! | ... Y70: =#REF!-SUM(Y51:Y64) -> #REF!
A71: 福建省 | B71: =#REF!-B65-B66 -> #REF! | C71: =#REF!-C65-C66 -> #REF! | D71: =#REF!-D65-D66 -> #REF! | E71: =#REF!-E65-E66 -> #REF! | F71: =#REF!-F65-F66 -> #REF! | G71: =#REF!-G65-G66 -> #REF! | H71: =#REF!-H65-H66 -> #REF! | I71: =#REF!-I65-I66 -> #REF! | ... Y71: =#REF!-Y65-Y66 -> #REF!
A72: 核年季 | B72: =B44-歷年!B69 -> 10994 | C72: =C44-歷年!C69 -> 6267 | D72: =D44-歷年!D69 -> 4727 | E72: =E44-歷年!E69 -> 193 | H72: =H44-歷年!F69 -> 1447 | K72: =K44-歷年!G69 -> 9354 | N72: =N44-歷年!H69 -> 31199 | O72: =O44-歷年!I69 -> 16005 | P72: =P44-歷年!J69 -> 15194 | Q72: =Q44-歷年!K69 -> 196 | T72: =T44-歷年!L69 -> 3294 | W72: =W44-歷年!M69 -> 27709
A75: 中華民國107年第3季底, 2018 Q3
A76: 地區別 | B76: 原住民戶數(戶長性別) Indigenous Households | N76: 原住民人數 Indigenous Persons
B77: 總計 Grand Total | E77: 第1款(省、新北、臺中、臺南)、第0類(臺北)、第1類(高雄) Class 1 | H77: 第2款(省、新北、臺中、臺南)、第1、2類(臺北)、第2類(高雄) Class 2 | K77: 第3款(省、新北、臺中、臺南)、第3、4類(臺北、高雄) Class 3 | N77: 總計 Grand Total | Q77: 第1款(省、新北、臺中、臺南)、第0類(臺北)、第1類(高雄) Class 1 | T77: 第2款(省、新北、臺中、臺南)、第1、2類(臺北)、第2類(高雄) Class 2 | W77: 第3款(省、新北、臺中、臺南)、第3、4類(臺北、高雄) Class 3
B78: 計 | C78: 男 | D78: 女 | E78: 計 | F78: 男 | G78: 女 | H78: 計 | I78: 男 | J78: 女 | K78: 計 | L78: 男 | M78: 女 | N78: 計 | O78: 男 | P78: 女 | Q78: 計 | R78: 男 | S78: 女 | T78: 計 | U78: 男 | V78: 女 | W78: 計 | X78: 男 | Y78: 女
A79: Locality | B79: Sub-Total | C79: Male | D79: Female | E79: Sub-Total | F79: Male | G79: Female | H79: Sub-Total | I79: Male | J79: Female | K79: Sub-Total | L79: Male | M79: Female | N79: Sub-Total | O79: Male | P79: Female | Q79: Sub-Total | R79: Male | S79: Female | T79: Sub-Total | U79: Male | V79: Female | W79: Sub-Total | X79: Male | Y79: Female
A80: 總計 Total | B80: 11098 | C80: 6332 | D80: 4766 | E80: 190 | F80: 151 | G80: 39 | H80: 1459 | I80: 923 | J80: 536 | K80: 9449 | L80: 5258 | M80: 4191 | N80: 31258 | O80: 16037 | P80: 15221 | Q80: 193 | R80: 153 | S80: 40 | T80: 3297 | U80: 1798 | V80: 1499 | W80: 27768 | X80: 14086 | Y80: 13682
A81: 新北市 New Taipei City | B81: 712 | C81: 340 | D81: 372 | E81: 0 | F81: 0 | G81: 0 | H81: 38 | I81: 20 | J81: 18 | K81: 674 | L81: 320 | M81: 354 | N81: 2089 | O81: 1011 | P81: 1078 | Q81: 0 | R81: 0 | S81: 0 | T81: 83 | U81: 44 | V81: 39 | W81: 2006 | X81: 967 | Y81: 1039
A82: 臺北市 Taipei City | B82: 800 | C82: 394 | D82: 406 | E82: 150 | F82: 116 | G82: 34 | H82: 138 | I82: 60 | J82: 78 | K82: 512 | L82: 218 | M82: 294 | N82: 1844 | O82: 890 | P82: 954 | Q82: 150 | R82: 116 | S82: 34 | T82: 259 | U82: 115 | V82: 144 | W82: 1435 | X82: 659 | Y82: 776
A83: 桃園市 Taoyuan City | B83: 1121 | C83: 619 | D83: 502 | E83: 4 | F83: 4 | G83: 0 | H83: 109 | I83: 63 | J83: 46 | K83: 1008 | L83: 552 | M83: 456 | N83: 3882 | O83: 1959 | P83: 1923 | Q83: 4 | R83: 4 | S83: 0 | T83: 354 | U83: 180 | V83: 174 | W83: 3524 | X83: 1775 | Y83: 1749
A84: 臺中市 Taichung City | B84: 781 | C84: 363 | D84: 418 | E84: 5 | F84: 5 | G84: 0 | H84: 147 | I84: 72 | J84: 75 | K84: 629 | L84: 286 | M84: 343 | N84: 2599 | O84: 1238 | P84: 1361 | Q84: 7 | R84: 6 | S84: 1 | T84: 444 | U84: 217 | V84: 227 | W84: 2148 | X84: 1015 | Y84: 1133
A85: 臺南市 Tainan City | B85: 98 | C85: 38 | D85: 60 | E85: 0 | F85: 0 | G85: 0 | H85: 12 | I85: 5 | J85: 7 | K85: 86 | L85: 33 | M85: 53 | N85: 315 | O85: 136 | P85: 179 | Q85: 0 | R85: 0 | S85: 0 | T85: 30 | U85: 13 | V85: 17 | W85: 285 | X85: 123 | Y85: 162
A86: 高雄市 Kaohsiung City | B86: 463 | C86: 251 | D86: 212 | E86: 1 | F86: 1 | G86: 0 | H86: 130 | I86: 81 | J86: 49 | K86: 332 | L86: 169 | M86: 163 | N86: 1559 | O86: 755 | P86: 804 | Q86: 1 | R86: 1 | S86: 0 | T86: 365 | U86: 199 | V86: 166 | W86: 1193 | X86: 555 | Y86: 638
A87: 宜蘭縣 Yilan County | B87: 328 | C87: 217 | D87: 111 | E87: 0 | F87: 0 | G87: 0 | H87: 16 | I87: 11 | J87: 5 | K87: 312 | L87: 206 | M87: 106 | N87: 840 | O87: 417 | P87: 423 | Q87: 0 | R87: 0 | S87: 0 | T87: 40 | U87: 23 | V87: 17 | W87: 800 | X87: 394 | Y87: 406
A88: 新竹縣 Hsinchu County | B88: 402 | C88: 249 | D88: 153 | E88: 1 | F88: 1 | G88: 0 | H88: 25 | I88: 20 | J88: 5 | K88: 376 | L88: 228 | M88: 148 | N88: 1506 | O88: 747 | P88: 759 | Q88: 1 | R88: 1 | S88: 0 | T88: 70 | U88: 36 | V88: 34 | W88: 1435 | X88: 710 | Y88: 725
A89: 苗栗縣 Miaoli County | B89: 204 | C89: 132 | D89: 72 | E89: 0 | F89: 0 | G89: 0 | H89: 75 | I89: 51 | J89: 24 | K89: 129 | L89: 81 | M89: 48 | N89: 664 | O89: 339 | P89: 325 | Q89: 0 | R89: 0 | S89: 0 | T89: 227 | U89: 123 | V89: 104 | W89: 437 | X89: 216 | Y89: 221
A90: 彰化縣 Changhua County | B90: 58 | C90: 29 | D90: 29 | E90: 0 | F90: 0 | G90: 0 | H90: 0 | I90: 0 | J90: 0 | K90: 58 | L90: 29 | M90: 29 | N90: 146 | O90: 69 | P90: 77 | Q90: 0 | R90: 0 | S90: 0 | T90: 0 | U90: 0 | V90: 0 | W90: 146 | X90: 69 | Y90: 77
A91: 南投縣 Nantou County | B91: 421 | C91: 264 | D91: 157 | E91: 3 | F91: 3 | G91: 0 | H91: 29 | I91: 14 | J91: 15 | K91: 389 | L91: 247 | M91: 142 | N91: 1298 | O91: 662 | P91: 636 | Q91: 4 | R91: 4 | S91: 0 | T91: 101 | U91: 47 | V91: 54 | W91: 1193 | X91: 611 | Y91: 582
... A102: 連江縣 Lienchiang County | B102: 5 | C102: 2 | D102: 3 | E102: 0 | F102: 0 | G102: 0 | H102: 1 | I102: 0 | J102: 1 | K102: 4 | L102: 2 | M102: 2 | N102: 8 | O102: 4 | P102: 4 | Q102: 0 | R102: 0 | S102: 0 | T102: 1 | U102: 0 | V102: 1 | W102: 7 | X102: 4 | Y102: 3
A103: 資料來源：直轄市、縣﹝市﹞政府。
A104: Source : County and City Government.
A105: 總計 | B105: =B80-SUM(B81:B86)-#REF! -> #REF! | C105: =C80-SUM(C81:C86)-#REF! -> #REF! | D105: =D80-SUM(D81:D86)-#REF! -> #REF! | E105: =E80-SUM(E81:E86)-#REF! -> #REF! | F105: =F80-SUM(F81:F86)-#REF! -> #REF! | G105: =G80-SUM(G81:G86)-#REF! -> #REF! | H105: =H80-SUM(H81:H86)-#REF! -> #REF! | I105: =I80-SUM(I81:I86)-#REF! -> #REF! | ... Y105: =Y80-SUM(Y81:Y86)-#REF! -> #REF!
A106: 台灣省 | B106: =#REF!-SUM(B87:B100) -> #REF! | C106: =#REF!-SUM(C87:C100) -> #REF! | D106: =#REF!-SUM(D87:D100) -> #REF! | E106: =#REF!-SUM(E87:E100) -> #REF! | F106: =#REF!-SUM(F87:F100) -> #REF! | G106: =#REF!-SUM(G87:G100) -> #REF! | H106: =#REF!-SUM(H87:H100) -> #REF! | I106: =#REF!-SUM(I87:I100) -> #REF! | ... Y106: =#REF!-SUM(Y87:Y100) -> #REF!
A107: 福建省 | B107: =#REF!-B101-B102 -> #REF! | C107: =#REF!-C101-C102 -> #REF! | D107: =#REF!-D101-D102 -> #REF! | E107: =#REF!-E101-E102 -> #REF! | F107: =#REF!-F101-F102 -> #REF! | G107: =#REF!-G101-G102 -> #REF! | H107: =#REF!-H101-H102 -> #REF! | I107: =#REF!-I101-I102 -> #REF! | ... Y107: =#REF!-Y101-Y102 -> #REF!
A108: 核年季 | B108: =B80-歷年!B108 -> 11098 | C108: =C80-歷年!C108 -> 6332 | D108: =D80-歷年!D108 -> 4766 | E108: =E80-歷年!E108 -> 190 | H108: =H80-歷年!F108 -> 1459 | K108: =K80-歷年!G108 -> 9449 | N108: =N80-歷年!H108 -> 31258 | O108: =O80-歷年!I108 -> 16037 | P108: =P80-歷年!J108 -> 15221 | Q108: =Q80-歷年!K108 -> 193 | T108: =T80-歷年!L108 -> 3297 | W108: =W80-歷年!M108 -> 27768
A111: 中華民國107年第4季底, 2018 Q4
A112: 地區別 | B112: 原住民戶數(戶長性別) Indigenous Households | N112: 原住民人數 Indigenous Persons
B113: 總計 Grand Total | E113: 第1款(省、新北、臺中、臺南)、第0類(臺北)、第1類(高雄) Class 1 | H113: 第2款(省、新北、臺中、臺南)、第1、2類(臺北)、第2類(高雄) Class 2 | K113: 第3款(省、新北、臺中、臺南)、第3、4類(臺北、高雄) Class 3 | N113: 總計 Grand Total | Q113: 第1款(省、新北、臺中、臺南)、第0類(臺北)、第1類(高雄) Class 1 | T113: 第2款(省、新北、臺中、臺南)、第1、2類(臺北)、第2類(高雄) Class 2 | W113: 第3款(省、新北、臺中、臺南)、第3、4類(臺北、高雄) Class 3
B114: 計 | C114: 男 | D114: 女 | E114: 計 | F114: 男 | G114: 女 | H114: 計 | I114: 男 | J114: 女 | K114: 計 | L114: 男 | M114: 女 | N114: 計 | O114: 男 | P114: 女 | Q114: 計 | R114: 男 | S114: 女 | T114: 計 | U114: 男 | V114: 女 | W114: 計 | X114: 男 | Y114: 女
A115: Locality | B115: Sub-Total | C115: Male | D115: Female | E115: Sub-Total | F115: Male | G115: Female | H115: Sub-Total | I115: Male | J115: Female | K115: Sub-Total | L115: Male | M115: Female | N115: Sub-Total | O115: Male | P115: Female | Q115: Sub-Total | R115: Male | S115: Female | T115: Sub-Total | U115: Male | V115: Female | W115: Sub-Total | X115: Male | Y115: Female
A116: 總計 Total | B116: 11292 | C116: 6422 | D116: 4870 | E116: 181 | F116: 142 | G116: 39 | H116: 1467 | I116: 929 | J116: 538 | K116: 9644 | L116: 5351 | M116: 4293 | N116: 32069 | O116: 16425 | P116: 15644 | Q116: 184 | R116: 144 | S116: 40 | T116: 3346 | U116: 1827 | V116: 1519 | W116: 28539 | X116: 14454 | Y116: 14085
A117: 新北市 New Taipei City | B117: 733 | C117: 353 | D117: 380 | E117: 0 | F117: 0 | G117: 0 | H117: 41 | I117: 21 | J117: 20 | K117: 692 | L117: 332 | M117: 360 | N117: 2134 | O117: 1038 | P117: 1096 | Q117: 0 | R117: 0 | S117: 0 | T117: 88 | U117: 46 | V117: 42 | W117: 2046 | X117: 992 | Y117: 1054
A118: 臺北市 Taipei City | B118: 745 | C118: 364 | D118: 381 | E118: 141 | F118: 107 | G118: 34 | H118: 129 | I118: 54 | J118: 75 | K118: 475 | L118: 203 | M118: 272 | N118: 1680 | O118: 811 | P118: 869 | Q118: 141 | R118: 107 | S118: 34 | T118: 237 | U118: 105 | V118: 132 | W118: 1302 | X118: 599 | Y118: 703
A119: 桃園市 Taoyuan City | B119: 1163 | C119: 632 | D119: 531 | E119: 4 | F119: 4 | G119: 0 | H119: 109 | I119: 63 | J119: 46 | K119: 1050 | L119: 565 | M119: 485 | N119: 4026 | O119: 2026 | P119: 2000 | Q119: 4 | R119: 4 | S119: 0 | T119: 352 | U119: 181 | V119: 171 | W119: 3670 | X119: 1841 | Y119: 1829
A120: 臺中市 Taichung City | B120: 809 | C120: 376 | D120: 433 | E120: 5 | F120: 5 | G120: 0 | H120: 154 | I120: 79 | J120: 75 | K120: 650 | L120: 292 | M120: 358 | N120: 2683 | O120: 1272 | P120: 1411 | Q120: 7 | R120: 6 | S120: 1 | T120: 471 | U120: 228 | V120: 243 | W120: 2205 | X120: 1038 | Y120: 1167
A121: 臺南市 Tainan City | B121: 97 | C121: 37 | D121: 60 | E121: 0 | F121: 0 | G121: 0 | H121: 12 | I121: 5 | J121: 7 | K121: 85 | L121: 32 | M121: 53 | N121: 317 | O121: 132 | P121: 185 | Q121: 0 | R121: 0 | S121: 0 | T121: 30 | U121: 13 | V121: 17 | W121: 287 | X121: 119 | Y121: 168
A122: 高雄市 Kaohsiung City | B122: 470 | C122: 257 | D122: 213 | E122: 1 | F122: 1 | G122: 0 | H122: 131 | I122: 81 | J122: 50 | K122: 338 | L122: 175 | M122: 163 | N122: 1844 | O122: 888 | P122: 956 | Q122: 1 | R122: 1 | S122: 0 | T122: 393 | U122: 214 | V122: 179 | W122: 1450 | X122: 673 | Y122: 777
A123: 宜蘭縣 Yilan County | B123: 341 | C123: 226 | D123: 115 | E123: 0 | F123: 0 | G123: 0 | H123: 16 | I123: 10 | J123: 6 | K123: 325 | L123: 216 | M123: 109 | N123: 866 | O123: 435 | P123: 431 | Q123: 0 | R123: 0 | S123: 0 | T123: 42 | U123: 24 | V123: 18 | W123: 824 | X123: 411 | Y123: 413
A124: 新竹縣 Hsinchu County | B124: 418 | C124: 255 | D124: 163 | E124: 1 | F124: 1 | G124: 0 | H124: 27 | I124: 22 | J124: 5 | K124: 390 | L124: 232 | M124: 158 | N124: 1548 | O124: 765 | P124: 783 | Q124: 1 | R124: 1 | S124: 0 | T124: 72 | U124: 38 | V124: 34 | W124: 1475 | X124: 726 | Y124: 749
A125: 苗栗縣 Miaoli County | B125: 215 | C125: 136 | D125: 79 | E125: 0 | F125: 0 | G125: 0 | H125: 79 | I125: 54 | J125: 25 | K125: 136 | L125: 82 | M125: 54 | N125: 695 | O125: 354 | P125: 341 | Q125: 0 | R125: 0 | S125: 0 | T125: 232 | U125: 127 | V125: 105 | W125: 463 | X125: 227 | Y125: 236
A126: 彰化縣 Changhua County | B126: 59 | C126: 29 | D126: 30 | E126: 0 | F126: 0 | G126: 0 | H126: 0 | I126: 0 | J126: 0 | K126: 59 | L126: 29 | M126: 30 | N126: 146 | O126: 69 | P126: 77 | Q126: 0 | R126: 0 | S126: 0 | T126: 0 | U126: 0 | V126: 0 | W126: 146 | X126: 69 | Y126: 77
A127: 南投縣 Nantou County | B127: 437 | C127: 274 | D127: 163 | E127: 3 | F127: 3 | G127: 0 | H127: 29 | I127: 14 | J127: 15 | K127: 405 | L127: 257 | M127: 148 | N127: 1359 | O127: 689 | P127: 670 | Q127: 4 | R127: 4 | S127: 0 | T127: 101 | U127: 47 | V127: 54 | W127: 1254 | X127: 638 | Y127: 616
... A138: 連江縣 Lienchiang County | B138: 5 | C138: 2 | D138: 3 | E138: 0 | F138: 0 | G138: 0 | H138: 1 | I138: 0 | J138: 1 | K138: 4 | L138: 2 | M138: 2 | N138: 8 | O138: 4 | P138: 4 | Q138: 0 | R138: 0 | S138: 0 | T138: 1 | U138: 0 | V138: 1 | W138: 7 | X138: 4 | Y138: 3
A139: 資料來源：直轄市、縣﹝市﹞政府。
A140: Source : County and City Government.
A141: 總計 | B141: =B116-SUM(B117:B122)-#REF! -> #REF! | C141: =C116-SUM(C117:C122)-#REF! -> #REF! | D141: =D116-SUM(D117:D122)-#REF! -> #REF! | E141: =E116-SUM(E117:E122)-#REF! -> #REF! | F141: =F116-SUM(F117:F122)-#REF! -> #REF! | G141: =G116-SUM(G117:G122)-#REF! -> #REF! | H141: =H116-SUM(H117:H122)-#REF! -> #REF! | I141: =I116-SUM(I117:I122)-#REF! -> #REF! | ... Y141: =Y116-SUM(Y117:Y122)-#REF! -> #REF!
A142: 台灣省 | B142: =#REF!-SUM(B123:B136) -> #REF! | C142: =#REF!-SUM(C123:C136) -> #REF! | D142: =#REF!-SUM(D123:D136) -> #REF! | E142: =#REF!-SUM(E123:E136) -> #REF! | F142: =#REF!-SUM(F123:F136) -> #REF! | G142: =#REF!-SUM(G123:G136) -> #REF! | H142: =#REF!-SUM(H123:H136) -> #REF! | I142: =#REF!-SUM(I123:I136) -> #REF! | ... Y142: =#REF!-SUM(Y123:Y136) -> #REF!
A143: 福建省 | B143: =#REF!-B137-B138 -> #REF! | C143: =#REF!-C137-C138 -> #REF! | D143: =#REF!-D137-D138 -> #REF! | E143: =#REF!-E137-E138 -> #REF! | F143: =#REF!-F137-F138 -> #REF! | G143: =#REF!-G137-G138 -> #REF! | H143: =#REF!-H137-H138 -> #REF! | I143: =#REF!-I137-I138 -> #REF! | ... Y143: =#REF!-Y137-Y138 -> #REF!
A144: 核年季 | B144: =B116-歷年!B147 -> 11292 | C144: =C116-歷年!C147 -> 6422 | D144: =D116-歷年!D147 -> 4870 | E144: =E116-歷年!E147 -> 181 | H144: =H116-歷年!F147 -> 1467 | K144: =K116-歷年!G147 -> 9644 | N144: =N116-歷年!H147 -> 32069 | O144: =O116-歷年!I147 -> 16425 | P144: =P116-歷年!J147 -> 15644 | Q144: =Q116-歷年!K147 -> 184 | T144: =T116-歷年!L147 -> 3346 | W144: =W116-歷年!M147 -> 28539

Sheet 2017
A2: 原住民低收入戶戶數及人數 Number and Population of Indigenous Low-Income Households
A3: 中華民國106年第1季底, 2017 Q1
A4: 地區別 | B4: 原住民戶數-按戶長性別分(戶) Indigenous Households | N4: 原住民人數(人) Indigenous Persons
B5: 總計 Grand Total | E5: 第1款(省、新北、臺中、臺南)、第0類(臺北)、第1類(高雄) Class 1 | H5: 第2款(省、新北、臺中、臺南)、第1、2類(臺北)、第2類(高雄) Class 2 | K5: 第3款(省、新北、臺中、臺南)、第3、4類(臺北、高雄) Class 3 | N5: 總計 Grand Total | Q5: 第1款(省、新北、臺中、臺南)、第0類(臺北)、第1類(高雄) Class 1 | T5: 第2款(省、新北、臺中、臺南)、第1、2類(臺北)、第2類(高雄) Class 2 | W5: 第3款(省、新北、臺中、臺南)、第3、4類(臺北、高雄) Class 3
B6: 計 | C6: 男 | D6: 女 | E6: 計 | F6: 男 | G6: 女 | H6: 計 | I6: 男 | J6: 女 | K6: 計 | L6: 男 | M6: 女 | N6: 計 | O6: 男 | P6: 女 | Q6: 計 | R6: 男 | S6: 女 | T6: 計 | U6: 男 | V6: 女 | W6: 計 | X6: 男 | Y6: 女
A7: Locality | B7: Sub-Total | C7: Male | D7: Female | E7: Sub-Total | F7: Male | G7: Female | H7: Sub-Total | I7: Male | J7: Female | K7: Sub-Total | L7: Male | M7: Female | N7: Sub-Total | O7: Male | P7: Female | Q7: Sub-Total | R7: Male | S7: Female | T7: Sub-Total | U7: Male | V7: Female | W7: Sub-Total | X7: Male | Y7: Female
A8: 總計 Total | B8: 10451 | C8: 6005 | D8: 4446 | E8: 230 | F8: 189 | G8: 41 | H8: 1524 | I8: 983 | J8: 541 | K8: 8697 | L8: 4833 | M8: 3864 | N8: 30200 | O8: 15519 | P8: 14681 | Q8: 234 | R8: 192 | S8: 42 | T8: 3569 | U8: 1972 | V8: 1597 | W8: 26397 | X8: 13355 | Y8: 13042
A9: 新北市 New Taipei City | B9: 720 | C9: 340 | D9: 380 | E9: 0 | F9: 0 | G9: 0 | H9: 36 | I9: 21 | J9: 15 | K9: 684 | L9: 319 | M9: 365 | N9: 2251 | O9: 1130 | P9: 1121 | Q9: 0 | R9: 0 | S9: 0 | T9: 87 | U9: 45 | V9: 42 | W9: 2164 | X9: 1085 | Y9: 1079
A10: 臺北市 Taipei City | B10: 831 | C10: 422 | D10: 409 | E10: 179 | F10: 143 | G10: 36 | H10: 148 | I10: 75 | J10: 73 | K10: 504 | L10: 204 | M10: 300 | N10: 1900 | O10: 918 | P10: 982 | Q10: 179 | R10: 143 | S10: 36 | T10: 275 | U10: 138 | V10: 137 | W10: 1446 | X10: 637 | Y10: 809
A11: 桃園市 Taoyuan City | B11: 1024 | C11: 574 | D11: 450 | E11: 5 | F11: 5 | G11: 0 | H11: 133 | I11: 75 | J11: 58 | K11: 886 | L11: 494 | M11: 392 | N11: 3627 | O11: 1811 | P11: 1816 | Q11: 5 | R11: 5 | S11: 0 | T11: 438 | U11: 223 | V11: 215 | W11: 3184 | X11: 1583 | Y11: 1601
A12: 臺中市 Taichung City | B12: 697 | C12: 317 | D12: 380 | E12: 6 | F12: 5 | G12: 1 | H12: 129 | I12: 70 | J12: 59 | K12: 562 | L12: 242 | M12: 320 | N12: 2374 | O12: 1141 | P12: 1233 | Q12: 8 | R12: 6 | S12: 2 | T12: 397 | U12: 207 | V12: 190 | W12: 1969 | X12: 928 | Y12: 1041
A13: 臺南市 Tainan City | B13: 106 | C13: 42 | D13: 64 | E13: 0 | F13: 0 | G13: 0 | H13: 14 | I13: 6 | J13: 8 | K13: 92 | L13: 36 | M13: 56 | N13: 358 | O13: 163 | P13: 195 | Q13: 0 | R13: 0 | S13: 0 | T13: 41 | U13: 19 | V13: 22 | W13: 317 | X13: 144 | Y13: 173
A14: 高雄市 Kaohsiung City | B14: 463 | C14: 255 | D14: 208 | E14: 2 | F14: 1 | G14: 1 | H14: 144 | I14: 89 | J14: 55 | K14: 317 | L14: 165 | M14: 152 | N14: 1629 | O14: 805 | P14: 824 | Q14: 2 | R14: 1 | S14: 1 | T14: 433 | U14: 219 | V14: 214 | W14: 1194 | X14: 585 | Y14: 609
A15: 宜蘭縣 Yilan County | B15: 337 | C15: 227 | D15: 110 | E15: 0 | F15: 0 | G15: 0 | H15: 15 | I15: 10 | J15: 5 | K15: 322 | L15: 217 | M15: 105 | N15: 871 | O15: 430 | P15: 441 | Q15: 0 | R15: 0 | S15: 0 | T15: 41 | U15: 22 | V15: 19 | W15: 830 | X15: 408 | Y15: 422
A16: 新竹縣 Hsinchu County | B16: 381 | C16: 246 | D16: 135 | E16: 2 | F16: 2 | G16: 0 | H16: 32 | I16: 26 | J16: 6 | K16: 347 | L16: 218 | M16: 129 | N16: 1435 | O16: 733 | P16: 702 | Q16: 2 | R16: 2 | S16: 0 | T16: 65 | U16: 40 | V16: 25 | W16: 1368 | X16: 691 | Y16: 677
A17: 苗栗縣 Miaoli County | B17: 186 | C17: 124 | D17: 62 | E17: 0 | F17: 0 | G17: 0 | H17: 71 | I17: 52 | J17: 19 | K17: 115 | L17: 72 | M17: 43 | N17: 580 | O17: 300 | P17: 280 | Q17: 0 | R17: 0 | S17: 0 | T17: 199 | U17: 110 | V17: 89 | W17: 381 | X17: 190 | Y17: 191
A18: 彰化縣 Changhua County | B18: 53 | C18: 24 | D18: 29 | E18: 0 | F18: 0 | G18: 0 | H18: 1 | I18: 1 | J18: 0 | K18: 52 | L18: 23 | M18: 29 | N18: 121 | O18: 52 | P18: 69 | Q18: 0 | R18: 0 | S18: 0 | T18: 1 | U18: 1 | V18: 0 | W18: 120 | X18: 51 | Y18: 69
A19: 南投縣 Nantou County | B19: 378 | C19: 237 | D19: 141 | E19: 3 | F19: 3 | G19: 0 | H19: 32 | I19: 14 | J19: 18 | K19: 343 | L19: 220 | M19: 123 | N19: 1157 | O19: 589 | P19: 568 | Q19: 5 | R19: 5 | S19: 0 | T19: 103 | U19: 53 | V19: 50 | W19: 1049 | X19: 531 | Y19: 518
... A30: 連江縣 Lienchiang County | B30: 3 | C30: 2 | D30: 1 | E30: 0 | F30: 0 | G30: 0 | H30: 0 | I30: 0 | J30: 0 | K30: 3 | L30: 2 | M30: 1 | N30: 6 | O30: 4 | P30: 2 | Q30: 0 | R30: 0 | S30: 0 | T30: 0 | U30: 0 | V30: 0 | W30: 6 | X30: 4 | Y30: 2
A31: 資料來源：直轄市、縣﹝市﹞政府。
A32: Source : County and City Government.
A33: 總計 | B33: =B8-SUM(B9:B14)-#REF! -> #REF! | C33: =C8-SUM(C9:C14)-#REF! -> #REF! | D33: =D8-SUM(D9:D14)-#REF! -> #REF! | E33: =E8-SUM(E9:E14)-#REF! -> #REF! | F33: =F8-SUM(F9:F14)-#REF! -> #REF! | G33: =G8-SUM(G9:G14)-#REF! -> #REF! | H33: =H8-SUM(H9:H14)-#REF! -> #REF! | I33: =I8-SUM(I9:I14)-#REF! -> #REF! | ... Y33: =Y8-SUM(Y9:Y14)-#REF! -> #REF!
A34: 台灣省 | B34: =#REF!-SUM(B15:B28) -> #REF! | C34: =#REF!-SUM(C15:C28) -> #REF! | D34: =#REF!-SUM(D15:D28) -> #REF! | E34: =#REF!-SUM(E15:E28) -> #REF! | F34: =#REF!-SUM(F15:F28) -> #REF! | G34: =#REF!-SUM(G15:G28) -> #REF! | H34: =#REF!-SUM(H15:H28) -> #REF! | I34: =#REF!-SUM(I15:I28) -> #REF! | ... Y34: =#REF!-SUM(Y15:Y28) -> #REF!
A35: 福建省 | B35: =#REF!-B29-B30 -> #REF! | C35: =#REF!-C29-C30 -> #REF! | D35: =#REF!-D29-D30 -> #REF! | E35: =#REF!-E29-E30 -> #REF! | F35: =#REF!-F29-F30 -> #REF! | G35: =#REF!-G29-G30 -> #REF! | H35: =#REF!-H29-H30 -> #REF! | I35: =#REF!-I29-I30 -> #REF! | ... Y35: =#REF!-Y29-Y30 -> #REF!
A36: 核年季 | B36: =B8-歷年!#REF! -> #REF! | C36: =C8-歷年!#REF! -> #REF! | D36: =D8-歷年!#REF! -> #REF! | E36: =E8-歷年!#REF! -> #REF! | H36: =H8-歷年!#REF! -> #REF! | K36: =K8-歷年!#REF! -> #REF! | N36: =N8-歷年!#REF! -> #REF! | O36: =O8-歷年!#REF! -> #REF! | P36: =P8-歷年!#REF! -> #REF! | Q36: =Q8-歷年!#REF! -> #REF! | T36: =T8-歷年!#REF! -> #REF! | W36: =W8-歷年!#REF! -> #REF!
A39: 中華民國106年第2季底, 2017 Q2
A40: 地區別 | B40: 原住民戶數(戶長性別) Indigenous Households | N40: 原住民人數 Indigenous Persons
B41: 總計 Grand Total | E41: 第1款(省、新北、臺中、臺南)、第0類(臺北)、第1類(高雄) Class 1 | H41: 第2款(省、新北、臺中、臺南)、第1、2類(臺北)、第2類(高雄) Class 2 | K41: 第3款(省、新北、臺中、臺南)、第3、4類(臺北、高雄) Class 3 | N41: 總計 Grand Total | Q41: 第1款(省、新北、臺中、臺南)、第0類(臺北)、第1類(高雄) Class 1 | T41: 第2款(省、新北、臺中、臺南)、第1、2類(臺北)、第2類(高雄) Class 2 | W41: 第3款(省、新北、臺中、臺南)、第3、4類(臺北、高雄) Class 3
B42: 計 | C42: 男 | D42: 女 | E42: 計 | F42: 男 | G42: 女 | H42: 計 | I42: 男 | J42: 女 | K42: 計 | L42: 男 | M42: 女 | N42: 計 | O42: 男 | P42: 女 | Q42: 計 | R42: 男 | S42: 女 | T42: 計 | U42: 男 | V42: 女 | W42: 計 | X42: 男 | Y42: 女
A43: Locality | B43: Sub-Total | C43: Male | D43: Female | E43: Sub-Total | F43: Male | G43: Female | H43: Sub-Total | I43: Male | J43: Female | K43: Sub-Total | L43: Male | M43: Female | N43: Sub-Total | O43: Male | P43: Female | Q43: Sub-Total | R43: Male | S43: Female | T43: Sub-Total | U43: Male | V43: Female | W43: Sub-Total | X43: Male | Y43: Female
A44: 總計 Total | B44: 10685 | C44: 6118 | D44: 4567 | E44: 222 | F44: 181 | G44: 41 | H44: 1538 | I44: 988 | J44: 550 | K44: 8925 | L44: 4949 | M44: 3976 | N44: 30779 | O44: 15761 | P44: 15018 | Q44: 225 | R44: 183 | S44: 42 | T44: 3600 | U44: 1981 | V44: 1619 | W44: 26954 | X44: 13597 | Y44: 13357
A45: 新北市 New Taipei City | B45: 749 | C45: 352 | D45: 397 | E45: 0 | F45: 0 | G45: 0 | H45: 37 | I45: 22 | J45: 15 | K45: 712 | L45: 330 | M45: 382 | N45: 2268 | O45: 1121 | P45: 1147 | Q45: 0 | R45: 0 | S45: 0 | T45: 89 | U45: 47 | V45: 42 | W45: 2179 | X45: 1074 | Y45: 1105
A46: 臺北市 Taipei City | B46: 815 | C46: 408 | D46: 407 | E46: 173 | F46: 137 | G46: 36 | H46: 145 | I46: 71 | J46: 74 | K46: 497 | L46: 200 | M46: 297 | N46: 1871 | O46: 897 | P46: 974 | Q46: 173 | R46: 137 | S46: 36 | T46: 271 | U46: 134 | V46: 137 | W46: 1427 | X46: 626 | Y46: 801
A47: 桃園市 Taoyuan City | B47: 1034 | C47: 571 | D47: 463 | E47: 5 | F47: 5 | G47: 0 | H47: 129 | I47: 73 | J47: 56 | K47: 900 | L47: 493 | M47: 407 | N47: 3696 | O47: 1835 | P47: 1861 | Q47: 5 | R47: 5 | S47: 0 | T47: 433 | U47: 217 | V47: 216 | W47: 3258 | X47: 1613 | Y47: 1645
A48: 臺中市 Taichung City | B48: 726 | C48: 330 | D48: 396 | E48: 6 | F48: 5 | G48: 1 | H48: 136 | I48: 73 | J48: 63 | K48: 584 | L48: 252 | M48: 332 | N48: 2426 | O48: 1166 | P48: 1260 | Q48: 8 | R48: 6 | S48: 2 | T48: 412 | U48: 216 | V48: 196 | W48: 2006 | X48: 944 | Y48: 1062
A49: 臺南市 Tainan City | B49: 106 | C49: 43 | D49: 63 | E49: 0 | F49: 0 | G49: 0 | H49: 13 | I49: 6 | J49: 7 | K49: 93 | L49: 37 | M49: 56 | N49: 352 | O49: 159 | P49: 193 | Q49: 0 | R49: 0 | S49: 0 | T49: 37 | U49: 17 | V49: 20 | W49: 315 | X49: 142 | Y49: 173
A50: 高雄市 Kaohsiung City | B50: 481 | C50: 260 | D50: 221 | E50: 2 | F50: 1 | G50: 1 | H50: 144 | I50: 88 | J50: 56 | K50: 335 | L50: 171 | M50: 164 | N50: 1683 | O50: 826 | P50: 857 | Q50: 2 | R50: 1 | S50: 1 | T50: 427 | U50: 217 | V50: 210 | W50: 1254 | X50: 608 | Y50: 646
A51: 宜蘭縣 Yilan County | B51: 334 | C51: 225 | D51: 109 | E51: 0 | F51: 0 | G51: 0 | H51: 13 | I51: 9 | J51: 4 | K51: 321 | L51: 216 | M51: 105 | N51: 876 | O51: 433 | P51: 443 | Q51: 0 | R51: 0 | S51: 0 | T51: 37 | U51: 21 | V51: 16 | W51: 839 | X51: 412 | Y51: 427
A52: 新竹縣 Hsinchu County | B52: 393 | C52: 253 | D52: 140 | E52: 2 | F52: 2 | G52: 0 | H52: 33 | I52: 26 | J52: 7 | K52: 358 | L52: 225 | M52: 133 | N52: 1482 | O52: 758 | P52: 724 | Q52: 2 | R52: 2 | S52: 0 | T52: 66 | U52: 40 | V52: 26 | W52: 1414 | X52: 716 | Y52: 698
A53: 苗栗縣 Miaoli County | B53: 185 | C53: 124 | D53: 61 | E53: 0 | F53: 0 | G53: 0 | H53: 71 | I53: 52 | J53: 19 | K53: 114 | L53: 72 | M53: 42 | N53: 589 | O53: 303 | P53: 286 | Q53: 0 | R53: 0 | S53: 0 | T53: 202 | U53: 111 | V53: 91 | W53: 387 | X53: 192 | Y53: 195
A54: 彰化縣 Changhua County | B54: 54 | C54: 25 | D54: 29 | E54: 0 | F54: 0 | G54: 0 | H54: 1 | I54: 1 | J54: 0 | K54: 53 | L54: 24 | M54: 29 | N54: 124 | O54: 54 | P54: 70 | Q54: 0 | R54: 0 | S54: 0 | T54: 1 | U54: 1 | V54: 0 | W54: 123 | X54: 53 | Y54: 70
A55: 南投縣 Nantou County | B55: 394 | C55: 247 | D55: 147 | E55: 3 | F55: 3 | G55: 0 | H55: 33 | I55: 14 | J55: 19 | K55: 358 | L55: 230 | M55: 128 | N55: 1196 | O55: 604 | P55: 592 | Q55: 4 | R55: 4 | S55: 0 | T55: 114 | U55: 56 | V55: 58 | W55: 1078 | X55: 544 | Y55: 534
... A66: 連江縣 Lienchiang County | B66: 3 | C66: 2 | D66: 1 | E66: 0 | F66: 0 | G66: 0 | H66: 0 | I66: 0 | J66: 0 | K66: 3 | L66: 2 | M66: 1 | N66: 6 | O66: 4 | P66: 2 | Q66: 0 | R66: 0 | S66: 0 | T66: 0 | U66: 0 | V66: 0 | W66: 6 | X66: 4 | Y66: 2
A67: 資料來源：直轄市、縣﹝市﹞政府。
A68: Source : County and City Government.
A69: 總計 | B69: =B44-SUM(B45:B50)-#REF! -> #REF! | C69: =C44-SUM(C45:C50)-#REF! -> #REF! | D69: =D44-SUM(D45:D50)-#REF! -> #REF! | E69: =E44-SUM(E45:E50)-#REF! -> #REF! | F69: =F44-SUM(F45:F50)-#REF! -> #REF! | G69: =G44-SUM(G45:G50)-#REF! -> #REF! | H69: =H44-SUM(H45:H50)-#REF! -> #REF! | I69: =I44-SUM(I45:I50)-#REF! -> #REF! | ... Y69: =Y44-SUM(Y45:Y50)-#REF! -> #REF!
A70: 台灣省 | B70: =#REF!-SUM(B51:B64) -> #REF! | C70: =#REF!-SUM(C51:C64) -> #REF! | D70: =#REF!-SUM(D51:D64) -> #REF! | E70: =#REF!-SUM(E51:E64) -> #REF! | F70: =#REF!-SUM(F51:F64) -> #REF! | G70: =#REF!-SUM(G51:G64) -> #REF! | H70: =#REF!-SUM(H51:H64) -> #REF! | I70: =#REF!-SUM(I51:I64) -> #REF! | ... Y70: =#REF!-SUM(Y51:Y64) -> #REF!
A71: 福建省 | B71: =#REF!-B65-B66 -> #REF! | C71: =#REF!-C65-C66 -> #REF! | D71: =#REF!-D65-D66 -> #REF! | E71: =#REF!-E65-E66 -> #REF! | F71: =#REF!-F65-F66 -> #REF! | G71: =#REF!-G65-G66 -> #REF! | H71: =#REF!-H65-H66 -> #REF! | I71: =#REF!-I65-I66 -> #REF! | ... Y71: =#REF!-Y65-Y66 -> #REF!
A72: 核年季 | B72: =B44-歷年!B69 -> 10685 | C72: =C44-歷年!C69 -> 6118 | D72: =D44-歷年!D69 -> 4567 | E72: =E44-歷年!E69 -> 222 | H72: =H44-歷年!F69 -> 1538 | K72: =K44-歷年!G69 -> 8925 | N72: =N44-歷年!H69 -> 30779 | O72: =O44-歷年!I69 -> 15761 | P72: =P44-歷年!J69 -> 15018 | Q72: =Q44-歷年!K69 -> 225 | T72: =T44-歷年!L69 -> 3600 | W72: =W44-歷年!M69 -> 26954
A75: 中華民國106年第3季底, 2017 Q3
A76: 地區別 | B76: 原住民戶數(戶長性別) Indigenous Households | N76: 原住民人數 Indigenous Persons
B77: 總計 Grand Total | E77: 第1款(省、新北、臺中、臺南)、第0類(臺北)、第1類(高雄) Class 1 | H77: 第2款(省、新北、臺中、臺南)、第1、2類(臺北)、第2類(高雄) Class 2 | K77: 第3款(省、新北、臺中、臺南)、第3、4類(臺北、高雄) Class 3 | N77: 總計 Grand Total | Q77: 第1款(省、新北、臺中、臺南)、第0類(臺北)、第1類(高雄) Class 1 | T77: 第2款(省、新北、臺中、臺南)、第1、2類(臺北)、第2類(高雄) Class 2 | W77: 第3款(省、新北、臺中、臺南)、第3、4類(臺北、高雄) Class 3
B78: 計 | C78: 男 | D78: 女 | E78: 計 | F78: 男 | G78: 女 | H78: 計 | I78: 男 | J78: 女 | K78: 計 | L78: 男 | M78: 女 | N78: 計 | O78: 男 | P78: 女 | Q78: 計 | R78: 男 | S78: 女 | T78: 計 | U78: 男 | V78: 女 | W78: 計 | X78: 男 | Y78: 女
A79: Locality | B79: Sub-Total | C79: Male | D79: Female | E79: Sub-Total | F79: Male | G79: Female | H79: Sub-Total | I79: Male | J79: Female | K79: Sub-Total | L79: Male | M79: Female | N79: Sub-Total | O79: Male | P79: Female | Q79: Sub-Total | R79: Male | S79: Female | T79: Sub-Total | U79: Male | V79: Female | W79: Sub-Total | X79: Male | Y79: Female
A80: 總計 Total | B80: 10782 | C80: 6159 | D80: 4623 | E80: 218 | F80: 177 | G80: 41 | H80: 1523 | I80: 977 | J80: 546 | K80: 9041 | L80: 5005 | M80: 4036 | N80: 30883 | O80: 15792 | P80: 15091 | Q80: 221 | R80: 179 | S80: 42 | T80: 3564 | U80: 1968 | V80: 1596 | W80: 27098 | X80: 13645 | Y80: 13453
A81: 新北市 New Taipei City | B81: 764 | C81: 358 | D81: 406 | E81: 0 | F81: 0 | G81: 0 | H81: 38 | I81: 22 | J81: 16 | K81: 726 | L81: 336 | M81: 390 | N81: 2305 | O81: 1132 | P81: 1173 | Q81: 0 | R81: 0 | S81: 0 | T81: 93 | U81: 49 | V81: 44 | W81: 2212 | X81: 1083 | Y81: 1129
