Workbook
Name 民國100年第2季: #REF!
Name 民國100年第2季: #REF!
Name 民國100年第2季: #REF!
Name 民國100年第2季: #REF!
Name 民國100年第2季: #REF!
Name 民國100年第2季: #REF!
Name 民國100年第2季: #REF!
Name 民國100年第2季: #REF!

Sheet 歷年
A1: 原住民低收入戶戶數及人數 Number and Population of Indigenous Low-Income Households
A2: 年底別 End of Year | B2: 原住民戶數(戶長性別) Indigenous Households | H2: 原住民人數 Indigenous Persons
B3: 合計(按戶長性別分) Total | E3: 第1款(省、新北、桃園、臺中、臺南)、第0類(臺北)、第1類(高雄) | F3: 第2款(省、新北、桃園、臺中、臺南)、第1、2類(臺北)、第2類(高雄) | G3: 第3款(省、新北、桃園、臺中、臺南)、第3、4類(臺北、高雄) | H3: 合計 Total | K3: 第1款(省、新北、桃園、臺中、臺南)、第0類(臺北)、第1類(高雄) | L3: 第2款(省、新北、桃園、臺中、臺南)、第1、2類(臺北)、第2類(高雄) | M3: 第3款(省、新北、桃園、臺中、臺南)、第3、4類(臺北、高雄)
B4: 計 | C4: 男 | D4: 女 | H4: 計 | I4: 男 | J4: 女
B5: Sub-Total | C5: Male | D5: Female | E5: Class 1 | F5: Class 2 | G5: Class 3 | H5: Sub-Total | I5: Male | J5: Female | K5: Class 1 | L5: Class 2 | M5: Class 3
A6: 104年 2015 | B6: 10878 | C6: 6122 | D6: 4756 | E6: 281 | F6: 1707 | G6: 8890 | H6: 31940 | I6: 16249 | J6: 15691 | K6: 286 | L6: 4260 | M6: 27394 | N6: =SUM(#REF!) -> #REF! | O6: =SUM(#REF!) -> #REF!
A7: 105年 2016 | B7: 10888 | C7: 6173 | D7: 4715 | E7: 239 | F7: 1649 | G7: 9000 | H7: 31789 | I7: 16225 | J7: 15564 | K7: 241 | L7: 4017 | M7: 27531 | N7: =SUM(N8:N23) -> #REF! | O7: =SUM(O8:O23) -> #REF!
A8: 106年 2017 | B8: 10925 | C8: 6221 | D8: 4704 | E8: 210 | F8: 1510 | G8: 9205 | H8: 31253 | I8: 15980 | J8: 15273 | K8: 213 | L8: 3526 | M8: 27514 | N8: =SUM(N9:N32) -> #REF! | O8: =SUM(O9:O32) -> #REF!
A9: 107年 2018 | B9: 11292 | C9: 6422 | D9: 4870 | E9: 181 | F9: 1467 | G9: 9644 | H9: 32069 | I9: 16425 | J9: 15644 | K9: 184 | L9: 3346 | M9: 28539 | N9: =SUM(N10:N38) -> #REF! | O9: =SUM(O10:O38) -> #REF!
A10: 108年 2019 | B10: 10720 | C10: 6062 | D10: 4658 | E10: 40 | F10: 1324 | G10: 9356 | H10: 30810 | I10: 15711 | J10: 15099 | K10: 43 | L10: 3067 | M10: 27700 | N10: =SUM(N11:N38) -> #REF! | O10: =SUM(O11:O38) -> #REF!
A11: 109年 2020 | B11: 10693 | C11: 6139 | D11: 4554 | E11: 32 | F11: 1216 | G11: 9445 | H11: 30277 | I11: 15557 | J11: 14720 | K11: 33 | L11: 2758 | M11: 27486 | N11: =SUM(N12:N42) -> #REF! | O11: =SUM(O12:O42) -> #REF!
A12: 110年 2021 | B12: 10949 | C12: 6276 | D12: 4673 | E12: 26 | F12: 1214 | G12: 9709 | H12: 30415 | I12: 15610 | J12: 14805 | K12: 26 | L12: 2684 | M12: 27705 | N12: =SUM(N13:N47) -> #REF! | O12: =SUM(O13:O47) -> #REF!
A13: 111年 2022 | B13: 11160 | C13: 6320 | D13: 4840 | E13: 30 | F13: 1157 | G13: 9973 | H13: 30799 | I13: 15760 | J13: 15039 | K13: 31 | L13: 2588 | M13: 28180 | N13: =SUM(N14:N52) -> #REF! | O13: =SUM(O14:O52) -> #REF!
A14: 112年 2023 | B14: 10935 | C14: 6218 | D14: 4717 | E14: 28 | F14: 1130 | G14: 9777 | H14: 29492 | I14: 15166 | J14: 14326 | K14: 28 | L14: 2441 | M14: 27023
A15: 113年 2024 | B15: 10800 | C15: 6100 | D15: 4700 | E15: 30 | F15: 1070 | G15: 9700 | H15: 28423 | I15: 14633 | J15: 13790 | K15: 30 | L15: 2256 | M15: 26137
A16: 第一季 Q1 | B16: 10439 | C16: 5948 | D16: 4491 | E16: 33 | F16: 1087 | G16: 9319 | H16: 27721 | I16: 14286 | J16: 13435 | K16: 34 | L16: 2281 | M16: 25406
A17: 第二季 Q2 | B17: 10632 | C17: 6030 | D17: 4602 | E17: 30 | F17: 1080 | G17: 9522 | H17: 28195 | I17: 14542 | J17: 13653 | K17: 30 | L17: 2286 | M17: 25879
A18: 第三季 Q3 | B18: 10634 | C18: 6038 | D18: 4596 | E18: 30 | F18: 1069 | G18: 9535 | H18: 27998 | I18: 14438 | J18: 13560 | K18: 30 | L18: 2257 | M18: 25711
A19: 第四季 Q4 | B19: 10800 | C19: 6100 | D19: 4700 | E19: 30 | F19: 1070 | G19: 9700 | H19: 28423 | I19: 14633 | J19: 13790 | K19: 30 | L19: 2256 | M19: 26137
A20: 114年 2025 | B20: 11100 | C20: 6193 | D20: 4907 | E20: 34 | F20: 1062 | G20: 10004 | H20: 28854 | I20: 14845 | J20: 14009 | K20: 35 | L20: 2135 | M20: 26684
A21: 第一季 Q1 | B21: 10676 | C21: 6022 | D21: 4654 | E21: 36 | F21: 1065 | G21: 9575 | H21: 27991 | I21: 14457 | J21: 13534 | K21: 37 | L21: 2167 | M21: 25787
A22: 第二季 Q2 | B22: 10898 | C22: 6120 | D22: 4778 | E22: 35 | F22: 1068 | G22: 9795 | H22: 28561 | I22: 14752 | J22: 13809 | K22: 36 | L22: 2164 | M22: 26361
A23: 第三季 Q3 | B23: 10905 | C23: 6129 | D23: 4776 | E23: 34 | F23: 1062 | G23: 9809 | H23: 28398 | I23: 14679 | J23: 13719 | K23: 35 | L23: 2149 | M23: 26214
A24: 第四季 Q4 | B24: 11100 | C24: 6193 | D24: 4907 | E24: 34 | F24: 1062 | G24: 10004 | H24: 28854 | I24: 14845 | J24: 14009 | K24: 35 | L24: 2135 | M24: 26684
A25: 115年 2026
A26: 第一季 Q1 | B26: 10591 | C26: 5940 | D26: 4651 | E26: 35 | F26: 1079 | G26: 9477 | H26: 27312 | I26: 14079 | J26: 13233 | K26: 36 | L26: 2151 | M26: 25125
A27: 第二季 Q2
A28: 第三季 Q3
A29: 第四季 Q4
A31: 資料來源：直轄市、縣﹝市﹞政府。
A32: Source : County and City Government. | N32: =N31-#REF! -> #REF! | O32: =O31-#REF! -> #REF!
A33: 說明：1. 高雄市自民國100年起新增第4類。 | N33: =N32-#REF! -> #REF! | O33: =O32-#REF! -> #REF!
A34: 2. 民國100年7月1日起實施新制社會救助法，除最低生活費調高外，應計算人口範圍亦將兄弟姊妹排除列計。
A35: 說明：1.原住民戶定義為：(1)戶長為原住民者視為原住民戶，以戶長性別統計。(2)戶長非原住民，如戶內原住民人口數較多時則判定為原住民戶。如原住民與非原住民之
A36: 人口數相等時，則以年齡較長者是否具原住民身分判定為原住民戶或非原住民戶。
A37: 2.原住民人數定義為：依原住民身分法，具原住民身分者即予以統計，而不論其是否隸屬於原住民戶。
A39: Explanation :
A40: 1.As of the beginning of 2011, Category 4 is added to Kaohsiung City. | N40: =#REF!-#REF! -> #REF! | O40: =#REF!-#REF! -> #REF!
A41: 2.The new “Public Assistance Act” shall take effect on the 1st of July 2011. In addition to the upward revision of minimum monthly income, brothers and sisters are excluded from the scope of number of members living in the household.
A42: 3. Indigenous Household Definition : (1) Head of the household is deemed an indigenous resident (statistics are calculated by gender of head of household); (2) Head of household is a non-indigenous resident, but the majority of household members are indigenous residents. In the instance where the number of indigenous and non-indigenous residents in a household is equal, the identity of the oldest member of the household is used to determine the identity of the household.
...

Sheet 2026
A2: 原住民低收入戶戶數及人數 Number and Population of Indigenous Low-Income Households
A3: 中華民國115年第1季底, 2026 Q1
A4: 地區別 | B4: 原住民戶數-按戶長性別分(戶) Indigenous Households | N4: 原住民人數(人) Indigenous Persons
B5: 總計 Grand Total | E5: 第1款(省、新北、臺中、臺南)、第0類(臺北)、第1類(高雄) Class 1 | H5: 第2款(省、新北、臺中、臺南)、第1、2類(臺北)、第2類(高雄) Class 2 | K5: 第3款(省、新北、臺中、臺南)、第3、4類(臺北、高雄) Class 3 | N5: 總計 Grand Total | Q5: 第1款(省、新北、臺中、臺南)、第0類(臺北)、第1類(高雄) Class 1 | T5: 第2款(省、新北、臺中、臺南)、第1、2類(臺北)、第2類(高雄) Class 2 | W5: 第3款(省、新北、臺中、臺南)、第3、4類(臺北、高雄) Class 3
B6: 計 | C6: 男 | D6: 女 | E6: 計 | F6: 男 | G6: 女 | H6: 計 | I6: 男 | J6: 女 | K6: 計 | L6: 男 | M6: 女 | N6: 計 | O6: 男 | P6: 女 | Q6: 計 | R6: 男 | S6: 女 | T6: 計 | U6: 男 | V6: 女 | W6: 計 | X6: 男 | Y6: 女
A7: Locality | B7: Sub-Total | C7: Male | D7: Female | E7: Sub-Total | F7: Male | G7: Female | H7: Sub-Total | I7: Male | J7: Female | K7: Sub-Total | L7: Male | M7: Female | N7: Sub-Total | O7: Male | P7: Female | Q7: Sub-Total | R7: Male | S7: Female | T7: Sub-Total | U7: Male | V7: Female | W7: Sub-Total | X7: Male | Y7: Female
A8: 總計 Total | B8: 10591 | C8: 5940 | D8: 4651 | E8: 35 | F8: 29 | G8: 6 | H8: 1079 | I8: 671 | J8: 408 | K8: 9477 | L8: 5240 | M8: 4237 | N8: 27312 | O8: 14079 | P8: 13233 | Q8: 36 | R8: 30 | S8: 6 | T8: 2151 | U8: 1187 | V8: 964 | W8: 25125 | X8: 12862 | Y8: 12263
A9: 新北市 New Taipei City | B9: 516 | C9: 243 | D9: 273 | E9: 0 | F9: 0 | G9: 0 | H9: 27 | I9: 12 | J9: 15 | K9: 489 | L9: 231 | M9: 258 | N9: 1421 | O9: 666 | P9: 755 | Q9: 0 | R9: 0 | S9: 0 | T9: 63 | U9: 24 | V9: 39 | W9: 1358 | X9: 642 | Y9: 716
A10: 臺北市 Taipei City | B10: 365 | C10: 158 | D10: 207 | E10: 5 | F10: 3 | G10: 2 | H10: 52 | I10: 29 | J10: 23 | K10: 308 | L10: 126 | M10: 182 | N10: 1145 | O10: 536 | P10: 609 | Q10: 5 | R10: 3 | S10: 2 | T10: 94 | U10: 49 | V10: 45 | W10: 1046 | X10: 484 | Y10: 562
A11: 桃園市 Taoyuan City | B11: 1544 | C11: 889 | D11: 655 | E11: 11 | F11: 10 | G11: 1 | H11: 81 | I11: 55 | J11: 26 | K11: 1452 | L11: 824 | M11: 628 | N11: 4920 | O11: 2466 | P11: 2454 | Q11: 11 | R11: 10 | S11: 1 | T11: 205 | U11: 124 | V11: 81 | W11: 4704 | X11: 2332 | Y11: 2372
A12: 臺中市 Taichung City | B12: 763 | C12: 334 | D12: 429 | E12: 4 | F12: 4 | G12: 0 | H12: 200 | I12: 101 | J12: 99 | K12: 559 | L12: 229 | M12: 330 | N12: 2369 | O12: 1146 | P12: 1223 | Q12: 4 | R12: 4 | S12: 0 | T12: 491 | U12: 249 | V12: 242 | W12: 1874 | X12: 893 | Y12: 981
A13: 臺南市 Tainan City | B13: 78 | C13: 34 | D13: 44 | E13: 0 | F13: 0 | G13: 0 | H13: 6 | I13: 2 | J13: 4 | K13: 72 | L13: 32 | M13: 40 | N13: 212 | O13: 98 | P13: 114 | Q13: 0 | R13: 0 | S13: 0 | T13: 14 | U13: 4 | V13: 10 | W13: 198 | X13: 94 | Y13: 104
A14: 高雄市 Kaohsiung City | B14: 527 | C14: 276 | D14: 251 | E14: 1 | F14: 1 | G14: 0 | H14: 181 | I14: 104 | J14: 77 | K14: 345 | L14: 171 | M14: 174 | N14: 1663 | O14: 802 | P14: 861 | Q14: 1 | R14: 1 | S14: 0 | T14: 421 | U14: 204 | V14: 217 | W14: 1241 | X14: 597 | Y14: 644
A15: 宜蘭縣 Yilan County | B15: 443 | C15: 262 | D15: 181 | E15: 0 | F15: 0 | G15: 0 | H15: 23 | I15: 15 | J15: 8 | K15: 420 | L15: 247 | M15: 173 | N15: 1232 | O15: 643 | P15: 589 | Q15: 0 | R15: 0 | S15: 0 | T15: 40 | U15: 23 | V15: 17 | W15: 1192 | X15: 620 | Y15: 572
A16: 新竹縣 Hsinchu County | B16: 356 | C16: 223 | D16: 133 | E16: 1 | F16: 1 | G16: 0 | H16: 30 | I16: 17 | J16: 13 | K16: 325 | L16: 205 | M16: 120 | N16: 1120 | O16: 555 | P16: 565 | Q16: 1 | R16: 1 | S16: 0 | T16: 73 | U16: 36 | V16: 37 | W16: 1046 | X16: 518 | Y16: 528
A17: 苗栗縣 Miaoli County | B17: 176 | C17: 102 | D17: 74 | E17: 0 | F17: 0 | G17: 0 | H17: 49 | I17: 31 | J17: 18 | K17: 127 | L17: 71 | M17: 56 | N17: 499 | O17: 246 | P17: 253 | Q17: 0 | R17: 0 | S17: 0 | T17: 114 | U17: 62 | V17: 52 | W17: 385 | X17: 184 | Y17: 201
A18: 彰化縣 Changhua County | B18: 87 | C18: 42 | D18: 45 | E18: 0 | F18: 0 | G18: 0 | H18: 0 | I18: 0 | J18: 0 | K18: 87 | L18: 42 | M18: 45 | N18: 220 | O18: 105 | P18: 115 | Q18: 0 | R18: 0 | S18: 0 | T18: 0 | U18: 0 | V18: 0 | W18: 220 | X18: 105 | Y18: 115
A19: 南投縣 Nantou County | B19: 277 | C19: 174 | D19: 103 | E19: 0 | F19: 0 | G19: 0 | H19: 4 | I19: 1 | J19: 3 | K19: 273 | L19: 173 | M19: 100 | N19: 786 | O19: 403 | P19: 383 | Q19: 0 | R19: 0 | S19: 0 | T19: 12 | U19: 5 | V19: 7 | W19: 774 | X19: 398 | Y19: 376
... A30: 連江縣 Lienchiang County | B30: 4 | C30: 3 | D30: 1 | E30: 0 | F30: 0 | G30: 0 | H30: 0 | I30: 0 | J30: 0 | K30: 4 | L30: 3 | M30: 1 | N30: 7 | O30: 3 | P30: 4 | Q30: 0 | R30: 0 | S30: 0 | T30: 0 | U30: 0 | V30: 0 | W30: 7 | X30: 3 | Y30: 4
A31: 資料來源：直轄市、縣﹝市﹞政府。
A32: Source : County and City Government.
A35: 中華民國115年第2季底, 2026 Q2
A36: 地區別 | B36: 原住民戶數(戶長性別) Indigenous Households | N36: 原住民人數 Indigenous Persons
B37: 總計 Grand Total | E37: 第1款(省、新北、臺中、臺南)、第0類(臺北)、第1類(高雄) Class 1 | H37: 第2款(省、新北、臺中、臺南)、第1、2類(臺北)、第2類(高雄) Class 2 | K37: 第3款(省、新北、臺中、臺南)、第3、4類(臺北、高雄) Class 3 | N37: 總計 Grand Total | Q37: 第1款(省、新北、臺中、臺南)、第0類(臺北)、第1類(高雄) Class 1 | T37: 第2款(省、新北、臺中、臺南)、第1、2類(臺北)、第2類(高雄) Class 2 | W37: 第3款(省、新北、臺中、臺南)、第3、4類(臺北、高雄) Class 3
B38: 計 | C38: 男 | D38: 女 | E38: 計 | F38: 男 | G38: 女 | H38: 計 | I38: 男 | J38: 女 | K38: 計 | L38: 男 | M38: 女 | N38: 計 | O38: 男 | P38: 女 | Q38: 計 | R38: 男 | S38: 女 | T38: 計 | U38: 男 | V38: 女 | W38: 計 | X38: 男 | Y38: 女
A39: Locality | B39: Sub-Total | C39: Male | D39: Female | E39: Sub-Total | F39: Male | G39: Female | H39: Sub-Total | I39: Male | J39: Female | K39: Sub-Total | L39: Male | M39: Female | N39: Sub-Total | O39: Male | P39: Female | Q39: Sub-Total | R39: Male | S39: Female | T39: Sub-Total | U39: Male | V39: Female | W39: Sub-Total | X39: Male | Y39: Female
A40: 總計 Total
A41: 新北市 New Taipei City
A42: 臺北市 Taipei City
A43: 桃園市 Taoyuan City
A44: 臺中市 Taichung City
A45: 臺南市 Tainan City
A46: 高雄市 Kaohsiung City
A47: 宜蘭縣 Yilan County
A48: 新竹縣 Hsinchu County
A49: 苗栗縣 Miaoli County
A50: 彰化縣 Changhua County
A51: 南投縣 Nantou County
... A67: 中華民國115年第3季底, 2026 Q3
A68: 地區別 | B68: 原住民戶數(戶長性別) Indigenous Households | N68: 原住民人數 Indigenous Persons
...

Sheet 2025
A2: 原住民低收入戶戶數及人數 Number and Population of Indigenous Low-Income Households
A3: 中華民國114年第1季底, 2025 Q1
A4: 地區別 | B4: 原住民戶數-按戶長性別分(戶) Indigenous Households | N4: 原住民人數(人) Indigenous Persons
B5: 總計 Grand Total | E5: 第1款(省、新北、臺中、臺南)、第0類(臺北)、第1類(高雄) Class 1 | H5: 第2款(省、新北、臺中、臺南)、第1、2類(臺北)、第2類(高雄) Class 2 | K5: 第3款(省、新北、臺中、臺南)、第3、4類(臺北、高雄) Class 3 | N5: 總計 Grand Total | Q5: 第1款(省、新北、臺中、臺南)、第0類(臺北)、第1類(高雄) Class 1 | T5: 第2款(省、新北、臺中、臺南)、第1、2類(臺北)、第2類(高雄) Class 2 | W5: 第3款(省、新北、臺中、臺南)、第3、4類(臺北、高雄) Class 3
B6: 計 | C6: 男 | D6: 女 | E6: 計 | F6: 男 | G6: 女 | H6: 計 | I6: 男 | J6: 女 | K6: 計 | L6: 男 | M6: 女 | N6: 計 | O6: 男 | P6: 女 | Q6: 計 | R6: 男 | S6: 女 | T6: 計 | U6: 男 | V6: 女 | W6: 計 | X6: 男 | Y6: 女
A7: Locality | B7: Sub-Total | C7: Male | D7: Female | E7: Sub-Total | F7: Male | G7: Female | H7: Sub-Total | I7: Male | J7: Female | K7: Sub-Total | L7: Male | M7: Female | N7: Sub-Total | O7: Male | P7: Female | Q7: Sub-Total | R7: Male | S7: Female | T7: Sub-Total | U7: Male | V7: Female | W7: Sub-Total | X7: Male | Y7: Female
A8: 總計 Total | B8: 10676 | C8: 6022 | D8: 4654 | E8: 36 | F8: 28 | G8: 8 | H8: 1065 | I8: 658 | J8: 407 | K8: 9575 | L8: 5336 | M8: 4239 | N8: 27991 | O8: 14457 | P8: 13534 | Q8: 37 | R8: 30 | S8: 7 | T8: 2167 | U8: 1202 | V8: 965 | W8: 25787 | X8: 13225 | Y8: 12562
A9: 新北市 New Taipei City | B9: 475 | C9: 224 | D9: 251 | E9: 0 | F9: 0 | G9: 0 | H9: 27 | I9: 11 | J9: 16 | K9: 448 | L9: 213 | M9: 235 | N9: 1334 | O9: 628 | P9: 706 | Q9: 0 | R9: 0 | S9: 0 | T9: 63 | U9: 25 | V9: 38 | W9: 1271 | X9: 603 | Y9: 668
A10: 臺北市 Taipei City | B10: 394 | C10: 182 | D10: 212 | E10: 5 | F10: 3 | G10: 2 | H10: 54 | I10: 28 | J10: 26 | K10: 335 | L10: 151 | M10: 184 | N10: 1238 | O10: 591 | P10: 647 | Q10: 5 | R10: 3 | S10: 2 | T10: 109 | U10: 55 | V10: 54 | W10: 1124 | X10: 533 | Y10: 591
A11: 桃園市 Taoyuan City | B11: 1537 | C11: 892 | D11: 645 | E11: 12 | F11: 10 | G11: 2 | H11: 80 | I11: 50 | J11: 30 | K11: 1445 | L11: 832 | M11: 613 | N11: 4962 | O11: 2507 | P11: 2455 | Q11: 12 | R11: 11 | S11: 1 | T11: 208 | U11: 114 | V11: 94 | W11: 4742 | X11: 2382 | Y11: 2360
A12: 臺中市 Taichung City | B12: 771 | C12: 342 | D12: 429 | E12: 5 | F12: 4 | G12: 1 | H12: 199 | I12: 105 | J12: 94 | K12: 567 | L12: 233 | M12: 334 | N12: 2424 | O12: 1171 | P12: 1253 | Q12: 5 | R12: 4 | S12: 1 | T12: 511 | U12: 268 | V12: 243 | W12: 1908 | X12: 899 | Y12: 1009
A13: 臺南市 Tainan City | B13: 76 | C13: 32 | D13: 44 | E13: 0 | F13: 0 | G13: 0 | H13: 9 | I13: 3 | J13: 6 | K13: 67 | L13: 29 | M13: 38 | N13: 229 | O13: 109 | P13: 120 | Q13: 0 | R13: 0 | S13: 0 | T13: 24 | U13: 9 | V13: 15 | W13: 205 | X13: 100 | Y13: 105
A14: 高雄市 Kaohsiung City | B14: 473 | C14: 243 | D14: 230 | E14: 1 | F14: 1 | G14: 0 | H14: 135 | I14: 80 | J14: 55 | K14: 337 | L14: 162 | M14: 175 | N14: 1531 | O14: 740 | P14: 791 | Q14: 1 | R14: 1 | S14: 0 | T14: 306 | U14: 163 | V14: 143 | W14: 1224 | X14: 576 | Y14: 648
A15: 宜蘭縣 Yilan County | B15: 469 | C15: 275 | D15: 194 | E15: 0 | F15: 0 | G15: 0 | H15: 22 | I15: 13 | J15: 9 | K15: 447 | L15: 262 | M15: 185 | N15: 1278 | O15: 654 | P15: 624 | Q15: 0 | R15: 0 | S15: 0 | T15: 36 | U15: 21 | V15: 15 | W15: 1242 | X15: 633 | Y15: 609
A16: 新竹縣 Hsinchu County | B16: 358 | C16: 224 | D16: 134 | E16: 1 | F16: 1 | G16: 0 | H16: 33 | I16: 21 | J16: 12 | K16: 324 | L16: 202 | M16: 122 | N16: 1146 | O16: 567 | P16: 579 | Q16: 1 | R16: 1 | S16: 0 | T16: 86 | U16: 44 | V16: 42 | W16: 1059 | X16: 522 | Y16: 537
A17: 苗栗縣 Miaoli County | B17: 201 | C17: 122 | D17: 79 | E17: 0 | F17: 0 | G17: 0 | H17: 61 | I17: 34 | J17: 27 | K17: 140 | L17: 88 | M17: 52 | N17: 573 | O17: 277 | P17: 296 | Q17: 0 | R17: 0 | S17: 0 | T17: 144 | U17: 71 | V17: 73 | W17: 429 | X17: 206 | Y17: 223
A18: 彰化縣 Changhua County | B18: 77 | C18: 30 | D18: 47 | E18: 0 | F18: 0 | G18: 0 | H18: 0 | I18: 0 | J18: 0 | K18: 77 | L18: 30 | M18: 47 | N18: 204 | O18: 95 | P18: 109 | Q18: 0 | R18: 0 | S18: 0 | T18: 0 | U18: 0 | V18: 0 | W18: 204 | X18: 95 | Y18: 109
A19: 南投縣 Nantou County | B19: 276 | C19: 171 | D19: 105 | E19: 0 | F19: 0 | G19: 0 | H19: 5 | I19: 1 | J19: 4 | K19: 271 | L19: 170 | M19: 101 | N19: 778 | O19: 391 | P19: 387 | Q19: 0 | R19: 0 | S19: 0 | T19: 13 | U19: 5 | V19: 8 | W19: 765 | X19: 386 | Y19: 379
... A30: 連江縣 Lienchiang County | B30: 7 | C30: 4 | D30: 3 | E30: 0 | F30: 0 | G30: 0 | H30: 0 | I30: 0 | J30: 0 | K30: 7 | L30: 4 | M30: 3 | N30: 22 | O30: 6 | P30: 16 | Q30: 0 | R30: 0 | S30: 0 | T30: 0 | U30: 0 | V30: 0 | W30: 22 | X30: 6 | Y30: 16
A31: 資料來源：直轄市、縣﹝市﹞政府。
A32: Source : County and City Government.
A35: 中華民國114年第2季底, 2025 Q2
A36: 地區別 | B36: 原住民戶數(戶長性別) Indigenous Households | N36: 原住民人數 Indigenous Persons
B37: 總計 Grand Total | E37: 第1款(省、新北、臺中、臺南)、第0類(臺北)、第1類(高雄) Class 1 | H37: 第2款(省、新北、臺中、臺南)、第1、2類(臺北)、第2類(高雄) Class 2 | K37: 第3款(省、新北、臺中、臺南)、第3、4類(臺北、高雄) Class 3 | N37: 總計 Grand Total | Q37: 第1款(省、新北、臺中、臺南)、第0類(臺北)、第1類(高雄) Class 1 | T37: 第2款(省、新北、臺中、臺南)、第1、2類(臺北)、第2類(高雄) Class 2 | W37: 第3款(省、新北、臺中、臺南)、第3、4類(臺北、高雄) Class 3
B38: 計 | C38: 男 | D38: 女 | E38: 計 | F38: 男 | G38: 女 | H38: 計 | I38: 男 | J38: 女 | K38: 計 | L38: 男 | M38: 女 | N38: 計 | O38: 男 | P38: 女 | Q38: 計 | R38: 男 | S38: 女 | T38: 計 | U38: 男 | V38: 女 | W38: 計 | X38: 男 | Y38: 女
A39: Locality | B39: Sub-Total | C39: Male | D39: Female | E39: Sub-Total | F39: Male | G39: Female | H39: Sub-Total | I39: Male | J39: Female | K39: Sub-Total | L39: Male | M39: Female | N39: Sub-Total | O39: Male | P39: Female | Q39: Sub-Total | R39: Male | S39: Female | T39: Sub-Total | U39: Male | V39: Female | W39: Sub-Total | X39: Male | Y39: Female
A40: 總計 Total | B40: 10898 | C40: 6120 | D40: 4778 | E40: 35 | F40: 28 | G40: 7 | H40: 1068 | I40: 656 | J40: 412 | K40: 9795 | L40: 5436 | M40: 4359 | N40: 28561 | O40: 14752 | P40: 13809 | Q40: 36 | R40: 29 | S40: 7 | T40: 2164 | U40: 1197 | V40: 967 | W40: 26361 | X40: 13526 | Y40: 12835
A41: 新北市 New Taipei City | B41: 487 | C41: 228 | D41: 259 | E41: 0 | F41: 0 | G41: 0 | H41: 25 | I41: 10 | J41: 15 | K41: 462 | L41: 218 | M41: 244 | N41: 1358 | O41: 635 | P41: 723 | Q41: 0 | R41: 0 | S41: 0 | T41: 61 | U41: 24 | V41: 37 | W41: 1297 | X41: 611 | Y41: 686
A42: 臺北市 Taipei City | B42: 402 | C42: 186 | D42: 216 | E42: 5 | F42: 3 | G42: 2 | H42: 58 | I42: 32 | J42: 26 | K42: 339 | L42: 151 | M42: 188 | N42: 1264 | O42: 610 | P42: 654 | Q42: 5 | R42: 3 | S42: 2 | T42: 118 | U42: 60 | V42: 58 | W42: 1141 | X42: 547 | Y42: 594
A43: 桃園市 Taoyuan City | B43: 1571 | C43: 911 | D43: 660 | E43: 11 | F43: 10 | G43: 1 | H43: 84 | I43: 52 | J43: 32 | K43: 1476 | L43: 849 | M43: 627 | N43: 5072 | O43: 2560 | P43: 2512 | Q43: 11 | R43: 10 | S43: 1 | T43: 209 | U43: 117 | V43: 92 | W43: 4852 | X43: 2433 | Y43: 2419
A44: 臺中市 Taichung City | B44: 778 | C44: 345 | D44: 433 | E44: 5 | F44: 4 | G44: 1 | H44: 196 | I44: 103 | J44: 93 | K44: 577 | L44: 238 | M44: 339 | N44: 2452 | O44: 1192 | P44: 1260 | Q44: 5 | R44: 4 | S44: 1 | T44: 502 | U44: 261 | V44: 241 | W44: 1945 | X44: 927 | Y44: 1018
A45: 臺南市 Tainan City | B45: 79 | C45: 34 | D45: 45 | E45: 0 | F45: 0 | G45: 0 | H45: 8 | I45: 2 | J45: 6 | K45: 71 | L45: 32 | M45: 39 | N45: 236 | O45: 111 | P45: 125 | Q45: 0 | R45: 0 | S45: 0 | T45: 17 | U45: 5 | V45: 12 | W45: 219 | X45: 106 | Y45: 113
A46: 高雄市 Kaohsiung City | B46: 492 | C46: 251 | D46: 241 | E46: 1 | F46: 1 | G46: 0 | H46: 137 | I46: 82 | J46: 55 | K46: 354 | L46: 168 | M46: 186 | N46: 1586 | O46: 776 | P46: 810 | Q46: 1 | R46: 1 | S46: 0 | T46: 313 | U46: 169 | V46: 144 | W46: 1272 | X46: 606 | Y46: 666
A47: 宜蘭縣 Yilan County | B47: 472 | C47: 278 | D47: 194 | E47: 0 | F47: 0 | G47: 0 | H47: 23 | I47: 14 | J47: 9 | K47: 449 | L47: 264 | M47: 185 | N47: 1292 | O47: 661 | P47: 631 | Q47: 0 | R47: 0 | S47: 0 | T47: 37 | U47: 22 | V47: 15 | W47: 1255 | X47: 639 | Y47: 616
A48: 新竹縣 Hsinchu County | B48: 367 | C48: 225 | D48: 142 | E48: 1 | F48: 1 | G48: 0 | H48: 35 | I48: 20 | J48: 15 | K48: 331 | L48: 204 | M48: 127 | N48: 1168 | O48: 574 | P48: 594 | Q48: 1 | R48: 1 | S48: 0 | T48: 88 | U48: 43 | V48: 45 | W48: 1079 | X48: 530 | Y48: 549
A49: 苗栗縣 Miaoli County | B49: 201 | C49: 118 | D49: 83 | E49: 0 | F49: 0 | G49: 0 | H49: 59 | I49: 33 | J49: 26 | K49: 142 | L49: 85 | M49: 57 | N49: 571 | O49: 279 | P49: 292 | Q49: 0 | R49: 0 | S49: 0 | T49: 143 | U49: 71 | V49: 72 | W49: 428 | X49: 208 | Y49: 220
A50: 彰化縣 Changhua County | B50: 77 | C50: 33 | D50: 44 | E50: 0 | F50: 0 | G50: 0 | H50: 1 | I50: 0 | J50: 1 | K50: 76 | L50: 33 | M50: 43 | N50: 199 | O50: 94 | P50: 105 | Q50: 0 | R50: 0 | S50: 0 | T50: 1 | U50: 0 | V50: 1 | W50: 198 | X50: 94 | Y50: 104
A51: 南投縣 Nantou County | B51: 279 | C51: 175 | D51: 104 | E51: 0 | F51: 0 | G51: 0 | H51: 5 | I51: 1 | J51: 4 | K51: 274 | L51: 174 | M51: 100 | N51: 796 | O51: 405 | P51: 391 | Q51: 0 | R51: 0 | S51: 0 | T51: 13 | U51: 5 | V51: 8 | W51: 783 | X51: 400 | Y51: 383
... A62: 連江縣 Lienchiang County | B62: 7 | C62: 4 | D62: 3 | E62: 0 | F62: 0 | G62: 0 | H62: 0 | I62: 0 | J62: 0 | K62: 7 | L62: 4 | M62: 3 | N62: 23 | O62: 6 | P62: 17 | Q62: 0 | R62: 0 | S62: 0 | T62: 0 | U62: 0 | V62: 0 | W62: 23 | X62: 6 | Y62: 17
A63: 資料來源：直轄市、縣﹝市﹞政府。
...

Sheet 2024
A2: 原住民低收入戶戶數及人數 Number and Population of Indigenous Low-Income Households
A3: 中華民國113年第1季底, 2024 Q1
A4: 地區別 | B4: 原住民戶數-按戶長性別分(戶) Indigenous Households | N4: 原住民人數(人) Indigenous Persons
B5: 總計 Grand Total | E5: 第1款(省、新北、臺中、臺南)、第0類(臺北)、第1類(高雄) Class 1 | H5: 第2款(省、新北、臺中、臺南)、第1、2類(臺北)、第2類(高雄) Class 2 | K5: 第3款(省、新北、臺中、臺南)、第3、4類(臺北、高雄) Class 3 | N5: 總計 Grand Total | Q5: 第1款(省、新北、臺中、臺南)、第0類(臺北)、第1類(高雄) Class 1 | T5: 第2款(省、新北、臺中、臺南)、第1、2類(臺北)、第2類(高雄) Class 2 | W5: 第3款(省、新北、臺中、臺南)、第3、4類(臺北、高雄) Class 3
B6: 計 | C6: 男 | D6: 女 | E6: 計 | F6: 男 | G6: 女 | H6: 計 | I6: 男 | J6: 女 | K6: 計 | L6: 男 | M6: 女 | N6: 計 | O6: 男 | P6: 女 | Q6: 計 | R6: 男 | S6: 女 | T6: 計 | U6: 男 | V6: 女 | W6: 計 | X6: 男 | Y6: 女
A7: Locality | B7: Sub-Total | C7: Male | D7: Female | E7: Sub-Total | F7: Male | G7: Female | H7: Sub-Total | I7: Male | J7: Female | K7: Sub-Total | L7: Male | M7: Female | N7: Sub-Total | O7: Male | P7: Female | Q7: Sub-Total | R7: Male | S7: Female | T7: Sub-Total | U7: Male | V7: Female | W7: Sub-Total | X7: Male | Y7: Female
A8: 總計 Total | B8: 10439 | C8: 5948 | D8: 4491 | E8: 33 | F8: 28 | G8: 5 | H8: 1087 | I8: 689 | J8: 398 | K8: 9319 | L8: 5231 | M8: 4088 | N8: 27721 | O8: 14286 | P8: 13435 | Q8: 34 | R8: 28 | S8: 6 | T8: 2281 | U8: 1265 | V8: 1016 | W8: 25406 | X8: 12993 | Y8: 12413
A9: 新北市 New Taipei City | B9: 458 | C9: 214 | D9: 244 | E9: 0 | F9: 0 | G9: 0 | H9: 23 | I9: 10 | J9: 13 | K9: 435 | L9: 204 | M9: 231 | N9: 1348 | O9: 627 | P9: 721 | Q9: 0 | R9: 0 | S9: 0 | T9: 60 | U9: 24 | V9: 36 | W9: 1288 | X9: 603 | Y9: 685
A10: 臺北市 Taipei City | B10: 474 | C10: 212 | D10: 262 | E10: 7 | F10: 5 | G10: 2 | H10: 67 | I10: 28 | J10: 39 | K10: 400 | L10: 179 | M10: 221 | N10: 1273 | O10: 594 | P10: 679 | Q10: 8 | R10: 5 | S10: 3 | T10: 126 | U10: 57 | V10: 69 | W10: 1139 | X10: 532 | Y10: 607
A11: 桃園市 Taoyuan City | B11: 1550 | C11: 899 | D11: 651 | E11: 7 | F11: 7 | G11: 0 | H11: 103 | I11: 64 | J11: 39 | K11: 1440 | L11: 828 | M11: 612 | N11: 5104 | O11: 2579 | P11: 2525 | Q11: 7 | R11: 7 | S11: 0 | T11: 296 | U11: 163 | V11: 133 | W11: 4801 | X11: 2409 | Y11: 2392
A12: 臺中市 Taichung City | B12: 738 | C12: 318 | D12: 420 | E12: 4 | F12: 4 | G12: 0 | H12: 168 | I12: 90 | J12: 78 | K12: 566 | L12: 224 | M12: 342 | N12: 2380 | O12: 1134 | P12: 1246 | Q12: 4 | R12: 4 | S12: 0 | T12: 485 | U12: 244 | V12: 241 | W12: 1891 | X12: 886 | Y12: 1005
A13: 臺南市 Tainan City | B13: 66 | C13: 30 | D13: 36 | E13: 0 | F13: 0 | G13: 0 | H13: 10 | I13: 4 | J13: 6 | K13: 56 | L13: 26 | M13: 30 | N13: 178 | O13: 79 | P13: 99 | Q13: 0 | R13: 0 | S13: 0 | T13: 25 | U13: 10 | V13: 15 | W13: 153 | X13: 69 | Y13: 84
A14: 高雄市 Kaohsiung City | B14: 449 | C14: 231 | D14: 218 | E14: 2 | F14: 1 | G14: 1 | H14: 136 | I14: 80 | J14: 56 | K14: 311 | L14: 150 | M14: 161 | N14: 1477 | O14: 717 | P14: 760 | Q14: 2 | R14: 1 | S14: 1 | T14: 360 | U14: 188 | V14: 172 | W14: 1115 | X14: 528 | Y14: 587
A15: 宜蘭縣 Yilan County | B15: 459 | C15: 279 | D15: 180 | E15: 0 | F15: 0 | G15: 0 | H15: 18 | I15: 14 | J15: 4 | K15: 441 | L15: 265 | M15: 176 | N15: 1252 | O15: 643 | P15: 609 | Q15: 0 | R15: 0 | S15: 0 | T15: 25 | U15: 17 | V15: 8 | W15: 1227 | X15: 626 | Y15: 601
A16: 新竹縣 Hsinchu County | B16: 359 | C16: 220 | D16: 139 | E16: 1 | F16: 1 | G16: 0 | H16: 33 | I16: 21 | J16: 12 | K16: 325 | L16: 198 | M16: 127 | N16: 1168 | O16: 580 | P16: 588 | Q16: 1 | R16: 1 | S16: 0 | T16: 71 | U16: 37 | V16: 34 | W16: 1096 | X16: 542 | Y16: 554
A17: 苗栗縣 Miaoli County | B17: 186 | C17: 117 | D17: 69 | E17: 0 | F17: 0 | G17: 0 | H17: 66 | I17: 43 | J17: 23 | K17: 120 | L17: 74 | M17: 46 | N17: 543 | O17: 258 | P17: 285 | Q17: 0 | R17: 0 | S17: 0 | T17: 158 | U17: 88 | V17: 70 | W17: 385 | X17: 170 | Y17: 215
A18: 彰化縣 Changhua County | B18: 70 | C18: 30 | D18: 40 | E18: 0 | F18: 0 | G18: 0 | H18: 0 | I18: 0 | J18: 0 | K18: 70 | L18: 30 | M18: 40 | N18: 190 | O18: 88 | P18: 102 | Q18: 0 | R18: 0 | S18: 0 | T18: 0 | U18: 0 | V18: 0 | W18: 190 | X18: 88 | Y18: 102
A19: 南投縣 Nantou County | B19: 298 | C19: 186 | D19: 112 | E19: 0 | F19: 0 | G19: 0 | H19: 6 | I19: 2 | J19: 4 | K19: 292 | L19: 184 | M19: 108 | N19: 879 | O19: 437 | P19: 442 | Q19: 0 | R19: 0 | S19: 0 | T19: 14 | U19: 6 | V19: 8 | W19: 865 | X19: 431 | Y19: 434
... A30: 連江縣 Lienchiang County | B30: 7 | C30: 4 | D30: 3 | E30: 0 | F30: 0 | G30: 0 | H30: 0 | I30: 0 | J30: 0 | K30: 7 | L30: 4 | M30: 3 | N30: 19 | O30: 5 | P30: 14 | Q30: 0 | R30: 0 | S30: 0 | T30: 0 | U30: 0 | V30: 0 | W30: 19 | X30: 5 | Y30: 14
A31: 資料來源：直轄市、縣﹝市﹞政府。
A32: Source : County and City Government.
A35: 中華民國113年第2季底, 2024 Q2
A36: 地區別 | B36: 原住民戶數(戶長性別) Indigenous Households | N36: 原住民人數 Indigenous Persons
B37: 總計 Grand Total | E37: 第1款(省、新北、臺中、臺南)、第0類(臺北)、第1類(高雄) Class 1 | H37: 第2款(省、新北、臺中、臺南)、第1、2類(臺北)、第2類(高雄) Class 2 | K37: 第3款(省、新北、臺中、臺南)、第3、4類(臺北、高雄) Class 3 | N37: 總計 Grand Total | Q37: 第1款(省、新北、臺中、臺南)、第0類(臺北)、第1類(高雄) Class 1 | T37: 第2款(省、新北、臺中、臺南)、第1、2類(臺北)、第2類(高雄) Class 2 | W37: 第3款(省、新北、臺中、臺南)、第3、4類(臺北、高雄) Class 3
B38: 計 | C38: 男 | D38: 女 | E38: 計 | F38: 男 | G38: 女 | H38: 計 | I38: 男 | J38: 女 | K38: 計 | L38: 男 | M38: 女 | N38: 計 | O38: 男 | P38: 女 | Q38: 計 | R38: 男 | S38: 女 | T38: 計 | U38: 男 | V38: 女 | W38: 計 | X38: 男 | Y38: 女
A39: Locality | B39: Sub-Total | C39: Male | D39: Female | E39: Sub-Total | F39: Male | G39: Female | H39: Sub-Total | I39: Male | J39: Female | K39: Sub-Total | L39: Male | M39: Female | N39: Sub-Total | O39: Male | P39: Female | Q39: Sub-Total | R39: Male | S39: Female | T39: Sub-Total | U39: Male | V39: Female | W39: Sub-Total | X39: Male | Y39: Female
A40: 總計 Total | B40: 10632 | C40: 6030 | D40: 4602 | E40: 30 | F40: 25 | G40: 5 | H40: 1080 | I40: 685 | J40: 395 | K40: 9522 | L40: 5320 | M40: 4202 | N40: 28195 | O40: 14542 | P40: 13653 | Q40: 30 | R40: 25 | S40: 5 | T40: 2286 | U40: 1268 | V40: 1018 | W40: 25879 | X40: 13249 | Y40: 12630
A41: 新北市 New Taipei City | B41: 477 | C41: 218 | D41: 259 | E41: 0 | F41: 0 | G41: 0 | H41: 25 | I41: 10 | J41: 15 | K41: 452 | L41: 208 | M41: 244 | N41: 1388 | O41: 646 | P41: 742 | Q41: 0 | R41: 0 | S41: 0 | T41: 62 | U41: 24 | V41: 38 | W41: 1326 | X41: 622 | Y41: 704
A42: 臺北市 Taipei City | B42: 479 | C42: 213 | D42: 266 | E42: 6 | F42: 4 | G42: 2 | H42: 65 | I42: 28 | J42: 37 | K42: 408 | L42: 181 | M42: 227 | N42: 1289 | O42: 603 | P42: 686 | Q42: 6 | R42: 4 | S42: 2 | T42: 122 | U42: 56 | V42: 66 | W42: 1161 | X42: 543 | Y42: 618
A43: 桃園市 Taoyuan City | B43: 1589 | C43: 921 | D43: 668 | E43: 7 | F43: 7 | G43: 0 | H43: 99 | I43: 61 | J43: 38 | K43: 1483 | L43: 853 | M43: 630 | N43: 5209 | O43: 2633 | P43: 2576 | Q43: 7 | R43: 7 | S43: 0 | T43: 287 | U43: 159 | V43: 128 | W43: 4915 | X43: 2467 | Y43: 2448
A44: 臺中市 Taichung City | B44: 749 | C44: 320 | D44: 429 | E44: 4 | F44: 4 | G44: 0 | H44: 179 | I44: 96 | J44: 83 | K44: 566 | L44: 220 | M44: 346 | N44: 2406 | O44: 1143 | P44: 1263 | Q44: 4 | R44: 4 | S44: 0 | T44: 503 | U44: 253 | V44: 250 | W44: 1899 | X44: 886 | Y44: 1013
A45: 臺南市 Tainan City | B45: 67 | C45: 30 | D45: 37 | E45: 0 | F45: 0 | G45: 0 | H45: 10 | I45: 4 | J45: 6 | K45: 57 | L45: 26 | M45: 31 | N45: 187 | O45: 83 | P45: 104 | Q45: 0 | R45: 0 | S45: 0 | T45: 25 | U45: 10 | V45: 15 | W45: 162 | X45: 73 | Y45: 89
A46: 高雄市 Kaohsiung City | B46: 460 | C46: 234 | D46: 226 | E46: 2 | F46: 1 | G46: 1 | H46: 134 | I46: 78 | J46: 56 | K46: 324 | L46: 155 | M46: 169 | N46: 1515 | O46: 729 | P46: 786 | Q46: 2 | R46: 1 | S46: 1 | T46: 368 | U46: 191 | V46: 177 | W46: 1145 | X46: 537 | Y46: 608
A47: 宜蘭縣 Yilan County | B47: 467 | C47: 285 | D47: 182 | E47: 0 | F47: 0 | G47: 0 | H47: 18 | I47: 13 | J47: 5 | K47: 449 | L47: 272 | M47: 177 | N47: 1265 | O47: 656 | P47: 609 | Q47: 0 | R47: 0 | S47: 0 | T47: 31 | U47: 20 | V47: 11 | W47: 1234 | X47: 636 | Y47: 598
A48: 新竹縣 Hsinchu County | B48: 367 | C48: 228 | D48: 139 | E48: 1 | F48: 1 | G48: 0 | H48: 31 | I48: 21 | J48: 10 | K48: 335 | L48: 206 | M48: 129 | N48: 1194 | O48: 599 | P48: 595 | Q48: 1 | R48: 1 | S48: 0 | T48: 68 | U48: 36 | V48: 32 | W48: 1125 | X48: 562 | Y48: 563
A49: 苗栗縣 Miaoli County | B49: 189 | C49: 118 | D49: 71 | E49: 0 | F49: 0 | G49: 0 | H49: 66 | I49: 44 | J49: 22 | K49: 123 | L49: 74 | M49: 49 | N49: 561 | O49: 269 | P49: 292 | Q49: 0 | R49: 0 | S49: 0 | T49: 156 | U49: 88 | V49: 68 | W49: 405 | X49: 181 | Y49: 224
A50: 彰化縣 Changhua County | B50: 70 | C50: 30 | D50: 40 | E50: 0 | F50: 0 | G50: 0 | H50: 0 | I50: 0 | J50: 0 | K50: 70 | L50: 30 | M50: 40 | N50: 196 | O50: 92 | P50: 104 | Q50: 0 | R50: 0 | S50: 0 | T50: 0 | U50: 0 | V50: 0 | W50: 196 | X50: 92 | Y50: 104
A51: 南投縣 Nantou County | B51: 302 | C51: 185 | D51: 117 | E51: 0 | F51: 0 | G51: 0 | H51: 6 | I51: 2 | J51: 4 | K51: 296 | L51: 183 | M51: 113 | N51: 893 | O51: 444 | P51: 449 | Q51: 0 | R51: 0 | S51: 0 | T51: 14 | U51: 6 | V51: 8 | W51: 879 | X51: 438 | Y51: 441
... A62: 連江縣 Lienchiang County | B62: 7 | C62: 4 | D62: 3 | E62: 0 | F62: 0 | G62: 0 | H62: 0 | I62: 0 | J62: 0 | K62: 7 | L62: 4 | M62: 3 | N62: 19 | O62: 5 | P62: 14 | Q62: 0 | R62: 0 | S62: 0 | T62: 0 | U62: 0 | V62: 0 | W62: 19 | X62: 5 | Y62: 14
A63: 資料來源：直轄市、縣﹝市﹞政府。
...

Sheet 2023
A2: 原住民低收入戶戶數及人數 Number and Population of Indigenous Low-Income Households
A3: 中華民國112年第1季底, 2023 Q1
A4: 地區別 | B4: 原住民戶數-按戶長性別分(戶) Indigenous Households | N4: 原住民人數(人) Indigenous Persons
B5: 總計 Grand Total | E5: 第1款(省、新北、臺中、臺南)、第0類(臺北)、第1類(高雄) Class 1 | H5: 第2款(省、新北、臺中、臺南)、第1、2類(臺北)、第2類(高雄) Class 2 | K5: 第3款(省、新北、臺中、臺南)、第3、4類(臺北、高雄) Class 3 | N5: 總計 Grand Total | Q5: 第1款(省、新北、臺中、臺南)、第0類(臺北)、第1類(高雄) Class 1 | T5: 第2款(省、新北、臺中、臺南)、第1、2類(臺北)、第2類(高雄) Class 2 | W5: 第3款(省、新北、臺中、臺南)、第3、4類(臺北、高雄) Class 3
B6: 計 | C6: 男 | D6: 女 | E6: 計 | F6: 男 | G6: 女 | H6: 計 | I6: 男 | J6: 女 | K6: 計 | L6: 男 | M6: 女 | N6: 計 | O6: 男 | P6: 女 | Q6: 計 | R6: 男 | S6: 女 | T6: 計 | U6: 男 | V6: 女 | W6: 計 | X6: 男 | Y6: 女
A7: Locality | B7: Sub-Total | C7: Male | D7: Female | E7: Sub-Total | F7: Male | G7: Female | H7: Sub-Total | I7: Male | J7: Female | K7: Sub-Total | L7: Male | M7: Female | N7: Sub-Total | O7: Male | P7: Female | Q7: Sub-Total | R7: Male | S7: Female | T7: Sub-Total | U7: Male | V7: Female | W7: Sub-Total | X7: Male | Y7: Female
A8: 總計 Total | B8: 10702 | C8: 6060 | D8: 4642 | E8: 30 | F8: 26 | G8: 4 | H8: 1123 | I8: 723 | J8: 400 | K8: 9549 | L8: 5311 | M8: 4238 | N8: 29189 | O8: 14970 | P8: 14219 | Q8: 30 | R8: 26 | S8: 4 | T8: 2485 | U8: 1379 | V8: 1106 | W8: 26674 | X8: 13565 | Y8: 13109
A9: 新北市 New Taipei City | B9: 482 | C9: 229 | D9: 253 | E9: 0 | F9: 0 | G9: 0 | H9: 24 | I9: 12 | J9: 12 | K9: 458 | L9: 217 | M9: 241 | N9: 1486 | O9: 704 | P9: 782 | Q9: 0 | R9: 0 | S9: 0 | T9: 60 | U9: 26 | V9: 34 | W9: 1426 | X9: 678 | Y9: 748
A10: 臺北市 Taipei City | B10: 487 | C10: 204 | D10: 283 | E10: 7 | F10: 5 | G10: 2 | H10: 56 | I10: 23 | J10: 33 | K10: 424 | L10: 176 | M10: 248 | N10: 1339 | O10: 608 | P10: 731 | Q10: 7 | R10: 5 | S10: 2 | T10: 104 | U10: 46 | V10: 58 | W10: 1228 | X10: 557 | Y10: 671
A11: 桃園市 Taoyuan City | B11: 1569 | C11: 894 | D11: 675 | E11: 6 | F11: 6 | G11: 0 | H11: 110 | I11: 67 | J11: 43 | K11: 1453 | L11: 821 | M11: 632 | N11: 5295 | O11: 2673 | P11: 2622 | Q11: 6 | R11: 6 | S11: 0 | T11: 340 | U11: 183 | V11: 157 | W11: 4949 | X11: 2484 | Y11: 2465
A12: 臺中市 Taichung City | B12: 768 | C12: 339 | D12: 429 | E12: 3 | F12: 3 | G12: 0 | H12: 159 | I12: 83 | J12: 76 | K12: 606 | L12: 253 | M12: 353 | N12: 2513 | O12: 1201 | P12: 1312 | Q12: 3 | R12: 3 | S12: 0 | T12: 491 | U12: 255 | V12: 236 | W12: 2019 | X12: 943 | Y12: 1076
A13: 臺南市 Tainan City | B13: 76 | C13: 38 | D13: 38 | E13: 0 | F13: 0 | G13: 0 | H13: 13 | I13: 4 | J13: 9 | K13: 63 | L13: 34 | M13: 29 | N13: 236 | O13: 103 | P13: 133 | Q13: 0 | R13: 0 | S13: 0 | T13: 30 | U13: 11 | V13: 19 | W13: 206 | X13: 92 | Y13: 114
A14: 高雄市 Kaohsiung City | B14: 459 | C14: 241 | D14: 218 | E14: 2 | F14: 1 | G14: 1 | H14: 132 | I14: 81 | J14: 51 | K14: 325 | L14: 159 | M14: 166 | N14: 1520 | O14: 737 | P14: 783 | Q14: 2 | R14: 1 | S14: 1 | T14: 361 | U14: 191 | V14: 170 | W14: 1157 | X14: 545 | Y14: 612
A15: 宜蘭縣 Yilan County | B15: 444 | C15: 269 | D15: 175 | E15: 0 | F15: 0 | G15: 0 | H15: 22 | I15: 16 | J15: 6 | K15: 422 | L15: 253 | M15: 169 | N15: 1259 | O15: 643 | P15: 616 | Q15: 0 | R15: 0 | S15: 0 | T15: 40 | U15: 25 | V15: 15 | W15: 1219 | X15: 618 | Y15: 601
A16: 新竹縣 Hsinchu County | B16: 352 | C16: 211 | D16: 141 | E16: 1 | F16: 1 | G16: 0 | H16: 31 | I16: 20 | J16: 11 | K16: 320 | L16: 190 | M16: 130 | N16: 1157 | O16: 566 | P16: 591 | Q16: 1 | R16: 1 | S16: 0 | T16: 76 | U16: 36 | V16: 40 | W16: 1080 | X16: 529 | Y16: 551
A17: 苗栗縣 Miaoli County | B17: 201 | C17: 123 | D17: 78 | E17: 0 | F17: 0 | G17: 0 | H17: 72 | I17: 47 | J17: 25 | K17: 129 | L17: 76 | M17: 53 | N17: 602 | O17: 291 | P17: 311 | Q17: 0 | R17: 0 | S17: 0 | T17: 190 | U17: 104 | V17: 86 | W17: 412 | X17: 187 | Y17: 225
A18: 彰化縣 Changhua County | B18: 65 | C18: 29 | D18: 36 | E18: 0 | F18: 0 | G18: 0 | H18: 0 | I18: 0 | J18: 0 | K18: 65 | L18: 29 | M18: 36 | N18: 182 | O18: 82 | P18: 100 | Q18: 0 | R18: 0 | S18: 0 | T18: 0 | U18: 0 | V18: 0 | W18: 182 | X18: 82 | Y18: 100
A19: 南投縣 Nantou County | B19: 311 | C19: 187 | D19: 124 | E19: 0 | F19: 0 | G19: 0 | H19: 5 | I19: 2 | J19: 3 | K19: 306 | L19: 185 | M19: 121 | N19: 897 | O19: 440 | P19: 457 | Q19: 0 | R19: 0 | S19: 0 | T19: 16 | U19: 6 | V19: 10 | W19: 881 | X19: 434 | Y19: 447
... A30: 連江縣 Lienchiang County | B30: 5 | C30: 4 | D30: 1 | E30: 0 | F30: 0 | G30: 0 | H30: 0 | I30: 0 | J30: 0 | K30: 5 | L30: 4 | M30: 1 | N30: 10 | O30: 5 | P30: 5 | Q30: 0 | R30: 0 | S30: 0 | T30: 0 | U30: 0 | V30: 0 | W30: 10 | X30: 5 | Y30: 5
A31: 資料來源：直轄市、縣﹝市﹞政府。
A32: Source : County and City Government.
A35: 中華民國112年第2季底, 2023 Q2
A36: 地區別 | B36: 原住民戶數(戶長性別) Indigenous Households | N36: 原住民人數 Indigenous Persons
B37: 總計 Grand Total | E37: 第1款(省、新北、臺中、臺南)、第0類(臺北)、第1類(高雄) Class 1 | H37: 第2款(省、新北、臺中、臺南)、第1、2類(臺北)、第2類(高雄) Class 2 | K37: 第3款(省、新北、臺中、臺南)、第3、4類(臺北、高雄) Class 3 | N37: 總計 Grand Total | Q37: 第1款(省、新北、臺中、臺南)、第0類(臺北)、第1類(高雄) Class 1 | T37: 第2款(省、新北、臺中、臺南)、第1、2類(臺北)、第2類(高雄) Class 2 | W37: 第3款(省、新北、臺中、臺南)、第3、4類(臺北、高雄) Class 3
B38: 計 | C38: 男 | D38: 女 | E38: 計 | F38: 男 | G38: 女 | H38: 計 | I38: 男 | J38: 女 | K38: 計 | L38: 男 | M38: 女 | N38: 計 | O38: 男 | P38: 女 | Q38: 計 | R38: 男 | S38: 女 | T38: 計 | U38: 男 | V38: 女 | W38: 計 | X38: 男 | Y38: 女
A39: Locality | B39: Sub-Total | C39: Male | D39: Female | E39: Sub-Total | F39: Male | G39: Female | H39: Sub-Total | I39: Male | J39: Female | K39: Sub-Total | L39: Male | M39: Female | N39: Sub-Total | O39: Male | P39: Female | Q39: Sub-Total | R39: Male | S39: Female | T39: Sub-Total | U39: Male | V39: Female | W39: Sub-Total | X39: Male | Y39: Female
A40: 總計 Total | B40: 10911 | C40: 6187 | D40: 4724 | E40: 30 | F40: 26 | G40: 4 | H40: 1142 | I40: 727 | J40: 415 | K40: 9739 | L40: 5434 | M40: 4305 | N40: 29635 | O40: 15202 | P40: 14433 | Q40: 30 | R40: 26 | S40: 4 | T40: 2491 | U40: 1379 | V40: 1112 | W40: 27114 | X40: 13797 | Y40: 13317
A41: 新北市 New Taipei City | B41: 495 | C41: 237 | D41: 258 | E41: 0 | F41: 0 | G41: 0 | H41: 25 | I41: 12 | J41: 13 | K41: 470 | L41: 225 | M41: 245 | N41: 1516 | O41: 714 | P41: 802 | Q41: 0 | R41: 0 | S41: 0 | T41: 60 | U41: 25 | V41: 35 | W41: 1456 | X41: 689 | Y41: 767
A42: 臺北市 Taipei City | B42: 489 | C42: 205 | D42: 284 | E42: 7 | F42: 5 | G42: 2 | H42: 58 | I42: 24 | J42: 34 | K42: 424 | L42: 176 | M42: 248 | N42: 1343 | O42: 609 | P42: 734 | Q42: 7 | R42: 5 | S42: 2 | T42: 105 | U42: 47 | V42: 58 | W42: 1231 | X42: 557 | Y42: 674
A43: 桃園市 Taoyuan City | B43: 1593 | C43: 913 | D43: 680 | E43: 6 | F43: 6 | G43: 0 | H43: 109 | I43: 66 | J43: 43 | K43: 1478 | L43: 841 | M43: 637 | N43: 5335 | O43: 2692 | P43: 2643 | Q43: 6 | R43: 6 | S43: 0 | T43: 331 | U43: 181 | V43: 150 | W43: 4998 | X43: 2505 | Y43: 2493
A44: 臺中市 Taichung City | B44: 774 | C44: 341 | D44: 433 | E44: 3 | F44: 3 | G44: 0 | H44: 164 | I44: 86 | J44: 78 | K44: 607 | L44: 252 | M44: 355 | N44: 2514 | O44: 1201 | P44: 1313 | Q44: 3 | R44: 3 | S44: 0 | T44: 492 | U44: 259 | V44: 233 | W44: 2019 | X44: 939 | Y44: 1080
A45: 臺南市 Tainan City | B45: 76 | C45: 38 | D45: 38 | E45: 0 | F45: 0 | G45: 0 | H45: 13 | I45: 4 | J45: 9 | K45: 63 | L45: 34 | M45: 29 | N45: 231 | O45: 101 | P45: 130 | Q45: 0 | R45: 0 | S45: 0 | T45: 30 | U45: 11 | V45: 19 | W45: 201 | X45: 90 | Y45: 111
A46: 高雄市 Kaohsiung City | B46: 471 | C46: 245 | D46: 226 | E46: 2 | F46: 1 | G46: 1 | H46: 138 | I46: 82 | J46: 56 | K46: 331 | L46: 162 | M46: 169 | N46: 1547 | O46: 748 | P46: 799 | Q46: 2 | R46: 1 | S46: 1 | T46: 369 | U46: 190 | V46: 179 | W46: 1176 | X46: 557 | Y46: 619
A47: 宜蘭縣 Yilan County | B47: 455 | C47: 274 | D47: 181 | E47: 0 | F47: 0 | G47: 0 | H47: 22 | I47: 16 | J47: 6 | K47: 433 | L47: 258 | M47: 175 | N47: 1270 | O47: 653 | P47: 617 | Q47: 0 | R47: 0 | S47: 0 | T47: 41 | U47: 25 | V47: 16 | W47: 1229 | X47: 628 | Y47: 601
A48: 新竹縣 Hsinchu County | B48: 365 | C48: 220 | D48: 145 | E48: 1 | F48: 1 | G48: 0 | H48: 33 | I48: 21 | J48: 12 | K48: 331 | L48: 198 | M48: 133 | N48: 1203 | O48: 590 | P48: 613 | Q48: 1 | R48: 1 | S48: 0 | T48: 78 | U48: 37 | V48: 41 | W48: 1124 | X48: 552 | Y48: 572
A49: 苗栗縣 Miaoli County | B49: 204 | C49: 126 | D49: 78 | E49: 0 | F49: 0 | G49: 0 | H49: 73 | I49: 47 | J49: 26 | K49: 131 | L49: 79 | M49: 52 | N49: 608 | O49: 294 | P49: 314 | Q49: 0 | R49: 0 | S49: 0 | T49: 196 | U49: 106 | V49: 90 | W49: 412 | X49: 188 | Y49: 224
A50: 彰化縣 Changhua County | B50: 68 | C50: 30 | D50: 38 | E50: 0 | F50: 0 | G50: 0 | H50: 0 | I50: 0 | J50: 0 | K50: 68 | L50: 30 | M50: 38 | N50: 186 | O50: 85 | P50: 101 | Q50: 0 | R50: 0 | S50: 0 | T50: 0 | U50: 0 | V50: 0 | W50: 186 | X50: 85 | Y50: 101
A51: 南投縣 Nantou County | B51: 324 | C51: 195 | D51: 129 | E51: 0 | F51: 0 | G51: 0 | H51: 5 | I51: 2 | J51: 3 | K51: 319 | L51: 193 | M51: 126 | N51: 944 | O51: 466 | P51: 478 | Q51: 0 | R51: 0 | S51: 0 | T51: 16 | U51: 6 | V51: 10 | W51: 928 | X51: 460 | Y51: 468
... A62: 連江縣 Lienchiang County | B62: 5 | C62: 4 | D62: 1 | E62: 0 | F62: 0 | G62: 0 | H62: 0 | I62: 0 | J62: 0 | K62: 5 | L62: 4 | M62: 1 | N62: 10 | O62: 5 | P62: 5 | Q62: 0 | R62: 0 | S62: 0 | T62: 0 | U62: 0 | V62: 0 | W62: 10 | X62: 5 | Y62: 5
A63: 資料來源：直轄市、縣﹝市﹞政府。
...

Sheet 2022
A2: 原住民低收入戶戶數及人數 Number and Population of Indigenous Low-Income Households
A3: 中華民國111年第1季底, 2022 Q1
A4: 地區別 | B4: 原住民戶數-按戶長性別分(戶) Indigenous Households | N4: 原住民人數(人) Indigenous Persons
B5: 總計 Grand Total | E5: 第1款(省、新北、臺中、臺南)、第0類(臺北)、第1類(高雄) Class 1 | H5: 第2款(省、新北、臺中、臺南)、第1、2類(臺北)、第2類(高雄) Class 2 | K5: 第3款(省、新北、臺中、臺南)、第3、4類(臺北、高雄) Class 3 | N5: 總計 Grand Total | Q5: 第1款(省、新北、臺中、臺南)、第0類(臺北)、第1類(高雄) Class 1 | T5: 第2款(省、新北、臺中、臺南)、第1、2類(臺北)、第2類(高雄) Class 2 | W5: 第3款(省、新北、臺中、臺南)、第3、4類(臺北、高雄) Class 3
B6: 計 | C6: 男 | D6: 女 | E6: 計 | F6: 男 | G6: 女 | H6: 計 | I6: 男 | J6: 女 | K6: 計 | L6: 男 | M6: 女 | N6: 計 | O6: 男 | P6: 女 | Q6: 計 | R6: 男 | S6: 女 | T6: 計 | U6: 男 | V6: 女 | W6: 計 | X6: 男 | Y6: 女
A7: Locality | B7: Sub-Total | C7: Male | D7: Female | E7: Sub-Total | F7: Male | G7: Female | H7: Sub-Total | I7: Male | J7: Female | K7: Sub-Total | L7: Male | M7: Female | N7: Sub-Total | O7: Male | P7: Female | Q7: Sub-Total | R7: Male | S7: Female | T7: Sub-Total | U7: Male | V7: Female | W7: Sub-Total | X7: Male | Y7: Female
A8: 總計 Total | B8: 10844 | C8: 6182 | D8: 4662 | E8: 29 | F8: 23 | G8: 6 | H8: 1176 | I8: 762 | J8: 414 | K8: 9639 | L8: 5397 | M8: 4242 | N8: 29957 | O8: 15387 | P8: 14570 | Q8: 31 | R8: 23 | S8: 8 | T8: 2597 | U8: 1448 | V8: 1149 | W8: 27329 | X8: 13916 | Y8: 13413
A9: 新北市 New Taipei City | B9: 557 | C9: 265 | D9: 292 | E9: 0 | F9: 0 | G9: 0 | H9: 27 | I9: 12 | J9: 15 | K9: 530 | L9: 253 | M9: 277 | N9: 1483 | O9: 710 | P9: 773 | Q9: 0 | R9: 0 | S9: 0 | T9: 61 | U9: 26 | V9: 35 | W9: 1422 | X9: 684 | Y9: 738
A10: 臺北市 Taipei City | B10: 488 | C10: 198 | D10: 290 | E10: 7 | F10: 5 | G10: 2 | H10: 60 | I10: 19 | J10: 41 | K10: 421 | L10: 174 | M10: 247 | N10: 1365 | O10: 611 | P10: 754 | Q10: 7 | R10: 5 | S10: 2 | T10: 128 | U10: 54 | V10: 74 | W10: 1230 | X10: 552 | Y10: 678
A11: 桃園市 Taoyuan City | B11: 1518 | C11: 867 | D11: 651 | E11: 5 | F11: 4 | G11: 1 | H11: 115 | I11: 73 | J11: 42 | K11: 1398 | L11: 790 | M11: 608 | N11: 5221 | O11: 2615 | P11: 2606 | Q11: 6 | R11: 4 | S11: 2 | T11: 382 | U11: 201 | V11: 181 | W11: 4833 | X11: 2410 | Y11: 2423
A12: 臺中市 Taichung City | B12: 764 | C12: 342 | D12: 422 | E12: 3 | F12: 3 | G12: 0 | H12: 158 | I12: 83 | J12: 75 | K12: 603 | L12: 256 | M12: 347 | N12: 2550 | O12: 1212 | P12: 1338 | Q12: 3 | R12: 3 | S12: 0 | T12: 494 | U12: 263 | V12: 231 | W12: 2053 | X12: 946 | Y12: 1107
A13: 臺南市 Tainan City | B13: 83 | C13: 40 | D13: 43 | E13: 0 | F13: 0 | G13: 0 | H13: 10 | I13: 3 | J13: 7 | K13: 73 | L13: 37 | M13: 36 | N13: 274 | O13: 112 | P13: 162 | Q13: 0 | R13: 0 | S13: 0 | T13: 23 | U13: 7 | V13: 16 | W13: 251 | X13: 105 | Y13: 146
A14: 高雄市 Kaohsiung City | B14: 389 | C14: 216 | D14: 173 | E14: 3 | F14: 1 | G14: 2 | H14: 133 | I14: 83 | J14: 50 | K14: 253 | L14: 132 | M14: 121 | N14: 1321 | O14: 657 | P14: 664 | Q14: 4 | R14: 1 | S14: 3 | T14: 338 | U14: 175 | V14: 163 | W14: 979 | X14: 481 | Y14: 498
A15: 宜蘭縣 Yilan County | B15: 418 | C15: 252 | D15: 166 | E15: 0 | F15: 0 | G15: 0 | H15: 23 | I15: 17 | J15: 6 | K15: 395 | L15: 235 | M15: 160 | N15: 1199 | O15: 622 | P15: 577 | Q15: 0 | R15: 0 | S15: 0 | T15: 42 | U15: 29 | V15: 13 | W15: 1157 | X15: 593 | Y15: 564
A16: 新竹縣 Hsinchu County | B16: 376 | C16: 240 | D16: 136 | E16: 1 | F16: 1 | G16: 0 | H16: 28 | I16: 18 | J16: 10 | K16: 347 | L16: 221 | M16: 126 | N16: 1337 | O16: 660 | P16: 677 | Q16: 1 | R16: 1 | S16: 0 | T16: 51 | U16: 25 | V16: 26 | W16: 1285 | X16: 634 | Y16: 651
A17: 苗栗縣 Miaoli County | B17: 211 | C17: 132 | D17: 79 | E17: 0 | F17: 0 | G17: 0 | H17: 75 | I17: 52 | J17: 23 | K17: 136 | L17: 80 | M17: 56 | N17: 616 | O17: 308 | P17: 308 | Q17: 0 | R17: 0 | S17: 0 | T17: 196 | U17: 109 | V17: 87 | W17: 420 | X17: 199 | Y17: 221
A18: 彰化縣 Changhua County | B18: 67 | C18: 31 | D18: 36 | E18: 0 | F18: 0 | G18: 0 | H18: 0 | I18: 0 | J18: 0 | K18: 67 | L18: 31 | M18: 36 | N18: 183 | O18: 82 | P18: 101 | Q18: 0 | R18: 0 | S18: 0 | T18: 0 | U18: 0 | V18: 0 | W18: 183 | X18: 82 | Y18: 101
A19: 南投縣 Nantou County | B19: 326 | C19: 202 | D19: 124 | E19: 0 | F19: 0 | G19: 0 | H19: 8 | I19: 4 | J19: 4 | K19: 318 | L19: 198 | M19: 120 | N19: 953 | O19: 473 | P19: 480 | Q19: 0 | R19: 0 | S19: 0 | T19: 32 | U19: 13 | V19: 19 | W19: 921 | X19: 460 | Y19: 461
... A30: 連江縣 Lienchiang County | B30: 5 | C30: 4 | D30: 1 | E30: 0 | F30: 0 | G30: 0 | H30: 0 | I30: 0 | J30: 0 | K30: 5 | L30: 4 | M30: 1 | N30: 10 | O30: 5 | P30: 5 | Q30: 0 | R30: 0 | S30: 0 | T30: 0 | U30: 0 | V30: 0 | W30: 10 | X30: 5 | Y30: 5
A31: 資料來源：直轄市、縣﹝市﹞政府。
A32: Source : County and City Government.
A35: 中華民國111年第2季底, 2022 Q2
A36: 地區別 | B36: 原住民戶數(戶長性別) Indigenous Households | N36: 原住民人數 Indigenous Persons
B37: 總計 Grand Total | E37: 第1款(省、新北、臺中、臺南)、第0類(臺北)、第1類(高雄) Class 1 | H37: 第2款(省、新北、臺中、臺南)、第1、2類(臺北)、第2類(高雄) Class 2 | K37: 第3款(省、新北、臺中、臺南)、第3、4類(臺北、高雄) Class 3 | N37: 總計 Grand Total | Q37: 第1款(省、新北、臺中、臺南)、第0類(臺北)、第1類(高雄) Class 1 | T37: 第2款(省、新北、臺中、臺南)、第1、2類(臺北)、第2類(高雄) Class 2 | W37: 第3款(省、新北、臺中、臺南)、第3、4類(臺北、高雄) Class 3
B38: 計 | C38: 男 | D38: 女 | E38: 計 | F38: 男 | G38: 女 | H38: 計 | I38: 男 | J38: 女 | K38: 計 | L38: 男 | M38: 女 | N38: 計 | O38: 男 | P38: 女 | Q38: 計 | R38: 男 | S38: 女 | T38: 計 | U38: 男 | V38: 女 | W38: 計 | X38: 男 | Y38: 女
A39: Locality | B39: Sub-Total | C39: Male | D39: Female | E39: Sub-Total | F39: Male | G39: Female | H39: Sub-Total | I39: Male | J39: Female | K39: Sub-Total | L39: Male | M39: Female | N39: Sub-Total | O39: Male | P39: Female | Q39: Sub-Total | R39: Male | S39: Female | T39: Sub-Total | U39: Male | V39: Female | W39: Sub-Total | X39: Male | Y39: Female
A40: 總計 Total | B40: 10823 | C40: 6161 | D40: 4662 | E40: 31 | F40: 24 | G40: 7 | H40: 1168 | I40: 765 | J40: 403 | K40: 9624 | L40: 5372 | M40: 4252 | N40: 30346 | O40: 15591 | P40: 14755 | Q40: 32 | R40: 24 | S40: 8 | T40: 2569 | U40: 1438 | V40: 1131 | W40: 27745 | X40: 14129 | Y40: 13616
A41: 新北市 New Taipei City | B41: 411 | C41: 195 | D41: 216 | E41: 0 | F41: 0 | G41: 0 | H41: 23 | I41: 13 | J41: 10 | K41: 388 | L41: 182 | M41: 206 | N41: 1516 | O41: 721 | P41: 795 | Q41: 0 | R41: 0 | S41: 0 | T41: 63 | U41: 27 | V41: 36 | W41: 1453 | X41: 694 | Y41: 759
A42: 臺北市 Taipei City | B42: 499 | C42: 204 | D42: 295 | E42: 7 | F42: 5 | G42: 2 | H42: 61 | I42: 20 | J42: 41 | K42: 431 | L42: 179 | M42: 252 | N42: 1390 | O42: 630 | P42: 760 | Q42: 7 | R42: 5 | S42: 2 | T42: 129 | U42: 55 | V42: 74 | W42: 1254 | X42: 570 | Y42: 684
A43: 桃園市 Taoyuan City | B43: 1535 | C43: 876 | D43: 659 | E43: 7 | F43: 5 | G43: 2 | H43: 115 | I43: 73 | J43: 42 | K43: 1413 | L43: 798 | M43: 615 | N43: 5279 | O43: 2646 | P43: 2633 | Q43: 7 | R43: 5 | S43: 2 | T43: 379 | U43: 199 | V43: 180 | W43: 4893 | X43: 2442 | Y43: 2451
A44: 臺中市 Taichung City | B44: 777 | C44: 343 | D44: 434 | E44: 3 | F44: 3 | G44: 0 | H44: 155 | I44: 83 | J44: 72 | K44: 619 | L44: 257 | M44: 362 | N44: 2580 | O44: 1226 | P44: 1354 | Q44: 3 | R44: 3 | S44: 0 | T44: 477 | U44: 253 | V44: 224 | W44: 2100 | X44: 970 | Y44: 1130
A45: 臺南市 Tainan City | B45: 82 | C45: 42 | D45: 40 | E45: 0 | F45: 0 | G45: 0 | H45: 11 | I45: 4 | J45: 7 | K45: 71 | L45: 38 | M45: 33 | N45: 265 | O45: 112 | P45: 153 | Q45: 0 | R45: 0 | S45: 0 | T45: 24 | U45: 8 | V45: 16 | W45: 241 | X45: 104 | Y45: 137
A46: 高雄市 Kaohsiung City | B46: 398 | C46: 222 | D46: 176 | E46: 3 | F46: 1 | G46: 2 | H46: 138 | I46: 87 | J46: 51 | K46: 257 | L46: 134 | M46: 123 | N46: 1339 | O46: 668 | P46: 671 | Q46: 4 | R46: 1 | S46: 3 | T46: 340 | U46: 179 | V46: 161 | W46: 995 | X46: 488 | Y46: 507
A47: 宜蘭縣 Yilan County | B47: 428 | C47: 256 | D47: 172 | E47: 0 | F47: 0 | G47: 0 | H47: 24 | I47: 18 | J47: 6 | K47: 404 | L47: 238 | M47: 166 | N47: 1233 | O47: 641 | P47: 592 | Q47: 0 | R47: 0 | S47: 0 | T47: 43 | U47: 30 | V47: 13 | W47: 1190 | X47: 611 | Y47: 579
A48: 新竹縣 Hsinchu County | B48: 385 | C48: 245 | D48: 140 | E48: 1 | F48: 1 | G48: 0 | H48: 31 | I48: 20 | J48: 11 | K48: 353 | L48: 224 | M48: 129 | N48: 1375 | O48: 675 | P48: 700 | Q48: 1 | R48: 1 | S48: 0 | T48: 61 | U48: 29 | V48: 32 | W48: 1313 | X48: 645 | Y48: 668
A49: 苗栗縣 Miaoli County | B49: 215 | C49: 134 | D49: 81 | E49: 0 | F49: 0 | G49: 0 | H49: 74 | I49: 52 | J49: 22 | K49: 141 | L49: 82 | M49: 59 | N49: 638 | O49: 317 | P49: 321 | Q49: 0 | R49: 0 | S49: 0 | T49: 195 | U49: 110 | V49: 85 | W49: 443 | X49: 207 | Y49: 236
A50: 彰化縣 Changhua County | B50: 70 | C50: 32 | D50: 38 | E50: 0 | F50: 0 | G50: 0 | H50: 0 | I50: 0 | J50: 0 | K50: 70 | L50: 32 | M50: 38 | N50: 195 | O50: 88 | P50: 107 | Q50: 0 | R50: 0 | S50: 0 | T50: 0 | U50: 0 | V50: 0 | W50: 195 | X50: 88 | Y50: 107
A51: 南投縣 Nantou County | B51: 331 | C51: 203 | D51: 128 | E51: 0 | F51: 0 | G51: 0 | H51: 7 | I51: 3 | J51: 4 | K51: 324 | L51: 200 | M51: 124 | N51: 956 | O51: 473 | P51: 483 | Q51: 0 | R51: 0 | S51: 0 | T51: 28 | U51: 13 | V51: 15 | W51: 928 | X51: 460 | Y51: 468
... A62: 連江縣 Lienchiang County | B62: 5 | C62: 4 | D62: 1 | E62: 0 | F62: 0 | G62: 0 | H62: 0 | I62: 0 | J62: 0 | K62: 5 | L62: 4 | M62: 1 | N62: 10 | O62: 5 | P62: 5 | Q62: 0 | R62: 0 | S62: 0 | T62: 0 | U62: 0 | V62: 0 | W62: 10 | X62: 5 | Y62: 5
A63: 資料來源：直轄市、縣﹝市﹞政府。
...

Sheet 2021
A2: 原住民低收入戶戶數及人數 Number and Population of Indigenous Low-Income Households
A3: 中華民國110年第1季底, 2021 Q1
A4: 地區別 | B4: 原住民戶數-按戶長性別分(戶) Indigenous Households | N4: 原住民人數(人) Indigenous Persons
B5: 總計 Grand Total | E5: 第1款(省、新北、臺中、臺南)、第0類(臺北)、第1類(高雄) Class 1 | H5: 第2款(省、新北、臺中、臺南)、第1、2類(臺北)、第2類(高雄) Class 2 | K5: 第3款(省、新北、臺中、臺南)、第3、4類(臺北、高雄) Class 3 | N5: 總計 Grand Total | Q5: 第1款(省、新北、臺中、臺南)、第0類(臺北)、第1類(高雄) Class 1 | T5: 第2款(省、新北、臺中、臺南)、第1、2類(臺北)、第2類(高雄) Class 2 | W5: 第3款(省、新北、臺中、臺南)、第3、4類(臺北、高雄) Class 3
B6: 計 | C6: 男 | D6: 女 | E6: 計 | F6: 男 | G6: 女 | H6: 計 | I6: 男 | J6: 女 | K6: 計 | L6: 男 | M6: 女 | N6: 計 | O6: 男 | P6: 女 | Q6: 計 | R6: 男 | S6: 女 | T6: 計 | U6: 男 | V6: 女 | W6: 計 | X6: 男 | Y6: 女
A7: Locality | B7: Sub-Total | C7: Male | D7: Female | E7: Sub-Total | F7: Male | G7: Female | H7: Sub-Total | I7: Male | J7: Female | K7: Sub-Total | L7: Male | M7: Female | N7: Sub-Total | O7: Male | P7: Female | Q7: Sub-Total | R7: Male | S7: Female | T7: Sub-Total | U7: Male | V7: Female | W7: Sub-Total | X7: Male | Y7: Female
A8: 總計 Total | B8: 10427 | C8: 6000 | D8: 4427 | E8: 28 | F8: 25 | G8: 3 | H8: 1188 | I8: 777 | J8: 411 | K8: 9211 | L8: 5198 | M8: 4013 | N8: 29178 | O8: 14977 | P8: 14201 | Q8: 28 | R8: 25 | S8: 3 | T8: 2626 | U8: 1438 | V8: 1188 | W8: 26524 | X8: 13514 | Y8: 13010
A9: 新北市 New Taipei City | B9: 557 | C9: 273 | D9: 284 | E9: 0 | F9: 0 | G9: 0 | H9: 28 | I9: 15 | J9: 13 | K9: 529 | L9: 258 | M9: 271 | N9: 1557 | O9: 740 | P9: 817 | Q9: 0 | R9: 0 | S9: 0 | T9: 53 | U9: 27 | V9: 26 | W9: 1504 | X9: 713 | Y9: 791
A10: 臺北市 Taipei City | B10: 437 | C10: 187 | D10: 250 | E10: 4 | F10: 3 | G10: 1 | H10: 58 | I10: 22 | J10: 36 | K10: 375 | L10: 162 | M10: 213 | N10: 1232 | O10: 549 | P10: 683 | Q10: 4 | R10: 3 | S10: 1 | T10: 121 | U10: 49 | V10: 72 | W10: 1107 | X10: 497 | Y10: 610
A11: 桃園市 Taoyuan City | B11: 1426 | C11: 825 | D11: 601 | E11: 4 | F11: 4 | G11: 0 | H11: 104 | I11: 65 | J11: 39 | K11: 1318 | L11: 756 | M11: 562 | N11: 5009 | O11: 2498 | P11: 2511 | Q11: 4 | R11: 4 | S11: 0 | T11: 345 | U11: 174 | V11: 171 | W11: 4660 | X11: 2320 | Y11: 2340
A12: 臺中市 Taichung City | B12: 743 | C12: 352 | D12: 391 | E12: 4 | F12: 4 | G12: 0 | H12: 151 | I12: 76 | J12: 75 | K12: 588 | L12: 272 | M12: 316 | N12: 2474 | O12: 1173 | P12: 1301 | Q12: 4 | R12: 4 | S12: 0 | T12: 489 | U12: 234 | V12: 255 | W12: 1981 | X12: 935 | Y12: 1046
A13: 臺南市 Tainan City | B13: 89 | C13: 40 | D13: 49 | E13: 0 | F13: 0 | G13: 0 | H13: 8 | I13: 4 | J13: 4 | K13: 81 | L13: 36 | M13: 45 | N13: 290 | O13: 114 | P13: 176 | Q13: 0 | R13: 0 | S13: 0 | T13: 19 | U13: 8 | V13: 11 | W13: 271 | X13: 106 | Y13: 165
A14: 高雄市 Kaohsiung City | B14: 414 | C14: 226 | D14: 188 | E14: 2 | F14: 2 | G14: 0 | H14: 129 | I14: 76 | J14: 53 | K14: 283 | L14: 148 | M14: 135 | N14: 1497 | O14: 737 | P14: 760 | Q14: 2 | R14: 2 | S14: 0 | T14: 326 | U14: 169 | V14: 157 | W14: 1169 | X14: 566 | Y14: 603
A15: 宜蘭縣 Yilan County | B15: 346 | C15: 224 | D15: 122 | E15: 0 | F15: 0 | G15: 0 | H15: 24 | I15: 18 | J15: 6 | K15: 322 | L15: 206 | M15: 116 | N15: 988 | O15: 513 | P15: 475 | Q15: 0 | R15: 0 | S15: 0 | T15: 54 | U15: 33 | V15: 21 | W15: 934 | X15: 480 | Y15: 454
A16: 新竹縣 Hsinchu County | B16: 385 | C16: 242 | D16: 143 | E16: 1 | F16: 1 | G16: 0 | H16: 35 | I16: 25 | J16: 10 | K16: 349 | L16: 216 | M16: 133 | N16: 1338 | O16: 677 | P16: 661 | Q16: 1 | R16: 1 | S16: 0 | T16: 72 | U16: 33 | V16: 39 | W16: 1265 | X16: 643 | Y16: 622
A17: 苗栗縣 Miaoli County | B17: 205 | C17: 121 | D17: 84 | E17: 0 | F17: 0 | G17: 0 | H17: 80 | I17: 52 | J17: 28 | K17: 125 | L17: 69 | M17: 56 | N17: 620 | O17: 298 | P17: 322 | Q17: 0 | R17: 0 | S17: 0 | T17: 213 | U17: 114 | V17: 99 | W17: 407 | X17: 184 | Y17: 223
A18: 彰化縣 Changhua County | B18: 67 | C18: 34 | D18: 33 | E18: 0 | F18: 0 | G18: 0 | H18: 0 | I18: 0 | J18: 0 | K18: 67 | L18: 34 | M18: 33 | N18: 164 | O18: 78 | P18: 86 | Q18: 0 | R18: 0 | S18: 0 | T18: 0 | U18: 0 | V18: 0 | W18: 164 | X18: 78 | Y18: 86
A19: 南投縣 Nantou County | B19: 350 | C19: 223 | D19: 127 | E19: 0 | F19: 0 | G19: 0 | H19: 10 | I19: 4 | J19: 6 | K19: 340 | L19: 219 | M19: 121 | N19: 1021 | O19: 516 | P19: 505 | Q19: 0 | R19: 0 | S19: 0 | T19: 38 | U19: 18 | V19: 20 | W19: 983 | X19: 498 | Y19: 485
... A30: 連江縣 Lienchiang County | B30: 2 | C30: 1 | D30: 1 | E30: 0 | F30: 0 | G30: 0 | H30: 0 | I30: 0 | J30: 0 | K30: 2 | L30: 1 | M30: 1 | N30: 4 | O30: 3 | P30: 1 | Q30: 0 | R30: 0 | S30: 0 | T30: 0 | U30: 0 | V30: 0 | W30: 4 | X30: 3 | Y30: 1
A31: 資料來源：直轄市、縣﹝市﹞政府。
A32: Source : County and City Government.
A33: 總計 | B33: =B8-SUM(B9:B14)-#REF! -> #REF! | C33: =C8-SUM(C9:C14)-#REF! -> #REF! | D33: =D8-SUM(D9:D14)-#REF! -> #REF! | E33: =E8-SUM(E9:E14)-#REF! -> #REF! | F33: =F8-SUM(F9:F14)-#REF! -> #REF! | G33: =G8-SUM(G9:G14)-#REF! -> #REF! | H33: =H8-SUM(H9:H14)-#REF! -> #REF! | I33: =I8-SUM(I9:I14)-#REF! -> #REF! | ... Y33: =Y8-SUM(Y9:Y14)-#REF! -> #REF!
A34: 台灣省 | B34: =#REF!-SUM(B15:B28) -> #REF! | C34: =#REF!-SUM(C15:C28) -> #REF! | D34: =#REF!-SUM(D15:D28) -> #REF! | E34: =#REF!-SUM(E15:E28) -> #REF! | F34: =#REF!-SUM(F15:F28) -> #REF! | G34: =#REF!-SUM(G15:G28) -> #REF! | H34: =#REF!-SUM(H15:H28) -> #REF! | I34: =#REF!-SUM(I15:I28) -> #REF! | ... Y34: =#REF!-SUM(Y15:Y28) -> #REF!
A35: 福建省 | B35: =#REF!-B29-B30 -> #REF! | C35: =#REF!-C29-C30 -> #REF! | D35: =#REF!-D29-D30 -> #REF! | E35: =#REF!-E29-E30 -> #REF! | F35: =#REF!-F29-F30 -> #REF! | G35: =#REF!-G29-G30 -> #REF! | H35: =#REF!-H29-H30 -> #REF! | I35: =#REF!-I29-I30 -> #REF! | ... Y35: =#REF!-Y29-Y30 -> #REF!
A36: 核年季 | B36: =B8-歷年!#REF! -> #REF! | C36: =C8-歷年!#REF! -> #REF! | D36: =D8-歷年!#REF! -> #REF! | E36: =E8-歷年!#REF! -> #REF! | H36: =H8-歷年!#REF! -> #REF! | K36: =K8-歷年!#REF! -> #REF! | N36: =N8-歷年!#REF! -> #REF! | O36: =O8-歷年!#REF! -> #REF! | P36: =P8-歷年!#REF! -> #REF! | Q36: =Q8-歷年!#REF! -> #REF! | T36: =T8-歷年!#REF! -> #REF! | W36: =W8-歷年!#REF! -> #REF!
A39: 中華民國110年第2季底, 2021 Q2
A40: 地區別 | B40: 原住民戶數(戶長性別) Indigenous Households | N40: 原住民人數 Indigenous Persons
B41: 總計 Grand Total | E41: 第1款(省、新北、臺中、臺南)、第0類(臺北)、第1類(高雄) Class 1 | H41: 第2款(省、新北、臺中、臺南)、第1、2類(臺北)、第2類(高雄) Class 2 | K41: 第3款(省、新北、臺中、臺南)、第3、4類(臺北、高雄) Class 3 | N41: 總計 Grand Total | Q41: 第1款(省、新北、臺中、臺南)、第0類(臺北)、第1類(高雄) Class 1 | T41: 第2款(省、新北、臺中、臺南)、第1、2類(臺北)、第2類(高雄) Class 2 | W41: 第3款(省、新北、臺中、臺南)、第3、4類(臺北、高雄) Class 3
B42: 計 | C42: 男 | D42: 女 | E42: 計 | F42: 男 | G42: 女 | H42: 計 | I42: 男 | J42: 女 | K42: 計 | L42: 男 | M42: 女 | N42: 計 | O42: 男 | P42: 女 | Q42: 計 | R42: 男 | S42: 女 | T42: 計 | U42: 男 | V42: 女 | W42: 計 | X42: 男 | Y42: 女
A43: Locality | B43: Sub-Total | C43: Male | D43: Female | E43: Sub-Total | F43: Male | G43: Female | H43: Sub-Total | I43: Male | J43: Female | K43: Sub-Total | L43: Male | M43: Female | N43: Sub-Total | O43: Male | P43: Female | Q43: Sub-Total | R43: Male | S43: Female | T43: Sub-Total | U43: Male | V43: Female | W43: Sub-Total | X43: Male | Y43: Female
A44: 總計 Total | B44: 10742 | C44: 6173 | D44: 4569 | E44: 28 | F44: 24 | G44: 4 | H44: 1199 | I44: 781 | J44: 418 | K44: 9515 | L44: 5368 | M44: 4147 | N44: 30077 | O44: 15442 | P44: 14635 | Q44: 28 | R44: 24 | S44: 4 | T44: 2655 | U44: 1450 | V44: 1205 | W44: 27394 | X44: 13968 | Y44: 13426
A45: 新北市 New Taipei City | B45: 581 | C45: 286 | D45: 295 | E45: 0 | F45: 0 | G45: 0 | H45: 28 | I45: 15 | J45: 13 | K45: 553 | L45: 271 | M45: 282 | N45: 1606 | O45: 764 | P45: 842 | Q45: 0 | R45: 0 | S45: 0 | T45: 54 | U45: 28 | V45: 26 | W45: 1552 | X45: 736 | Y45: 816
A46: 臺北市 Taipei City | B46: 486 | C46: 201 | D46: 285 | E46: 4 | F46: 3 | G46: 1 | H46: 62 | I46: 22 | J46: 40 | K46: 420 | L46: 176 | M46: 244 | N46: 1388 | O46: 616 | P46: 772 | Q46: 4 | R46: 3 | S46: 1 | T46: 138 | U46: 55 | V46: 83 | W46: 1246 | X46: 558 | Y46: 688
A47: 桃園市 Taoyuan City | B47: 1473 | C47: 856 | D47: 617 | E47: 4 | F47: 4 | G47: 0 | H47: 105 | I47: 65 | J47: 40 | K47: 1364 | L47: 787 | M47: 577 | N47: 5141 | O47: 2565 | P47: 2576 | Q47: 4 | R47: 4 | S47: 0 | T47: 345 | U47: 172 | V47: 173 | W47: 4792 | X47: 2389 | Y47: 2403
A48: 臺中市 Taichung City | B48: 764 | C48: 363 | D48: 401 | E48: 4 | F48: 4 | G48: 0 | H48: 151 | I48: 77 | J48: 74 | K48: 609 | L48: 282 | M48: 327 | N48: 2529 | O48: 1202 | P48: 1327 | Q48: 4 | R48: 4 | S48: 0 | T48: 487 | U48: 234 | V48: 253 | W48: 2038 | X48: 964 | Y48: 1074
A49: 臺南市 Tainan City | B49: 92 | C49: 42 | D49: 50 | E49: 0 | F49: 0 | G49: 0 | H49: 9 | I49: 4 | J49: 5 | K49: 83 | L49: 38 | M49: 45 | N49: 289 | O49: 113 | P49: 176 | Q49: 0 | R49: 0 | S49: 0 | T49: 20 | U49: 8 | V49: 12 | W49: 269 | X49: 105 | Y49: 164
A50: 高雄市 Kaohsiung City | B50: 416 | C50: 229 | D50: 187 | E50: 1 | F50: 1 | G50: 0 | H50: 132 | I50: 79 | J50: 53 | K50: 283 | L50: 149 | M50: 134 | N50: 1500 | O50: 748 | P50: 752 | Q50: 1 | R50: 1 | S50: 0 | T50: 332 | U50: 173 | V50: 159 | W50: 1167 | X50: 574 | Y50: 593
A51: 宜蘭縣 Yilan County | B51: 354 | C51: 222 | D51: 132 | E51: 0 | F51: 0 | G51: 0 | H51: 22 | I51: 17 | J51: 5 | K51: 332 | L51: 205 | M51: 127 | N51: 1024 | O51: 529 | P51: 495 | Q51: 0 | R51: 0 | S51: 0 | T51: 47 | U51: 29 | V51: 18 | W51: 977 | X51: 500 | Y51: 477
A52: 新竹縣 Hsinchu County | B52: 391 | C52: 246 | D52: 145 | E52: 1 | F52: 1 | G52: 0 | H52: 34 | I52: 23 | J52: 11 | K52: 356 | L52: 222 | M52: 134 | N52: 1356 | O52: 685 | P52: 671 | Q52: 1 | R52: 1 | S52: 0 | T52: 71 | U52: 31 | V52: 40 | W52: 1284 | X52: 653 | Y52: 631
A53: 苗栗縣 Miaoli County | B53: 206 | C53: 121 | D53: 85 | E53: 0 | F53: 0 | G53: 0 | H53: 80 | I53: 52 | J53: 28 | K53: 126 | L53: 69 | M53: 57 | N53: 622 | O53: 301 | P53: 321 | Q53: 0 | R53: 0 | S53: 0 | T53: 215 | U53: 115 | V53: 100 | W53: 407 | X53: 186 | Y53: 221
...

Sheet 2020
A2: 原住民低收入戶戶數及人數 Number and Population of Indigenous Low-Income Households
A3: 中華民國109年第1季底, 2020 Q1
A4: 地區別 | B4: 原住民戶數-按戶長性別分(戶) Indigenous Households | N4: 原住民人數(人) Indigenous Persons
B5: 總計 Grand Total | E5: 第1款(省、新北、臺中、臺南)、第0類(臺北)、第1類(高雄) Class 1 | H5: 第2款(省、新北、臺中、臺南)、第1、2類(臺北)、第2類(高雄) Class 2 | K5: 第3款(省、新北、臺中、臺南)、第3、4類(臺北、高雄) Class 3 | N5: 總計 Grand Total | Q5: 第1款(省、新北、臺中、臺南)、第0類(臺北)、第1類(高雄) Class 1 | T5: 第2款(省、新北、臺中、臺南)、第1、2類(臺北)、第2類(高雄) Class 2 | W5: 第3款(省、新北、臺中、臺南)、第3、4類(臺北、高雄) Class 3
B6: 計 | C6: 男 | D6: 女 | E6: 計 | F6: 男 | G6: 女 | H6: 計 | I6: 男 | J6: 女 | K6: 計 | L6: 男 | M6: 女 | N6: 計 | O6: 男 | P6: 女 | Q6: 計 | R6: 男 | S6: 女 | T6: 計 | U6: 男 | V6: 女 | W6: 計 | X6: 男 | Y6: 女
A7: Locality | B7: Sub-Total | C7: Male | D7: Female | E7: Sub-Total | F7: Male | G7: Female | H7: Sub-Total | I7: Male | J7: Female | K7: Sub-Total | L7: Male | M7: Female | N7: Sub-Total | O7: Male | P7: Female | Q7: Sub-Total | R7: Male | S7: Female | T7: Sub-Total | U7: Male | V7: Female | W7: Sub-Total | X7: Male | Y7: Female
A8: 總計 Total | B8: 10101 | C8: 5769 | D8: 4332 | E8: 34 | F8: 30 | G8: 4 | H8: 1224 | I8: 789 | J8: 435 | K8: 8843 | L8: 4950 | M8: 3893 | N8: 28795 | O8: 14815 | P8: 13980 | Q8: 35 | R8: 31 | S8: 4 | T8: 2769 | U8: 1514 | V8: 1255 | W8: 25991 | X8: 13270 | Y8: 12721
A9: 新北市 New Taipei City | B9: 573 | C9: 271 | D9: 302 | E9: 0 | F9: 0 | G9: 0 | H9: 28 | I9: 16 | J9: 12 | K9: 545 | L9: 255 | M9: 290 | N9: 1641 | O9: 777 | P9: 864 | Q9: 0 | R9: 0 | S9: 0 | T9: 51 | U9: 27 | V9: 24 | W9: 1590 | X9: 750 | Y9: 840
A10: 臺北市 Taipei City | B10: 404 | C10: 153 | D10: 251 | E10: 4 | F10: 3 | G10: 1 | H10: 55 | I10: 21 | J10: 34 | K10: 345 | L10: 129 | M10: 216 | N10: 1323 | O10: 582 | P10: 741 | Q10: 4 | R10: 3 | S10: 1 | T10: 151 | U10: 61 | V10: 90 | W10: 1168 | X10: 518 | Y10: 650
A11: 桃園市 Taoyuan City | B11: 1323 | C11: 724 | D11: 599 | E11: 4 | F11: 4 | G11: 0 | H11: 111 | I11: 68 | J11: 43 | K11: 1208 | L11: 652 | M11: 556 | N11: 4636 | O11: 2315 | P11: 2321 | Q11: 4 | R11: 4 | S11: 0 | T11: 352 | U11: 182 | V11: 170 | W11: 4280 | X11: 2129 | Y11: 2151
