Workbook

Sheet 歷年
A1: 兒童及少年性剝削案件安置情形
A4: 年別 Year | C4: 受理通報(報告)人數(人) | T4: 派員陪同偵訊個案數(人) | W4: 被害人24小時評估處理(人) | Z4: 緊急安置數(人) | AC4: 緊急安置個案向法院聲請第一次裁定數(人) | AF4: 入住人數(人次) Number of Persons Being Admitted (Person-times)
C5: 合計 | F5: 本國籍 Nationals | J5: 大陸籍 | L5: 外國籍 | N5: 其他 | P5: 按年齡分 By Age | AF5: 總計Total | AU5: 依第一次裁定結果繼續安置Continued Placement According to the Results of First Ruling | BD5: 依第二次裁定結果安置Placement According to the Results of Second Ruling
F6: 一般 | H6: 原住民 | T6: Cases Of Accompanying For Court | W6: Status Of Victim Evaluation Within 24 Hours | Z6: Number Of Victims Under Emergency Placement | AC6: Number of Victims under Emergency Placement Who Apply to the Court for First Ruling | AF6: 合計Total | AI6: 兒童及少年福利機構 | AL6: 寄養家庭 | AO6: 中途學校 | AR6: 其他適當之醫療、教育機構 | AU6: 兒童及少年福利機構 | AX6: 寄養家庭 | BA6: 其他適當之醫療、教育機構 | BD6: 兒童及少年福利機構 | BG6: 寄養家庭 | BJ6: 中途學校 | BM6: 其他適當之醫療、教育機構
C7: Total | F7: General | H7: Aborigines | J7: Mainlanders | L7: Foreigners | N7: Others | AI7: Child and Youth Welfare Institutions | AL7: Fostering Families | AO7: Midway School | AR7: Other Appropriate Medical and Educational Institutions | AU7: Child and Youth Welfare Institutions | AX7: Fostering Families | BA7: Other Appropriate Medical and Educational Institutions | BD7: Child and Youth Welfare Institutions | BG7: Fostering Families | BJ7: Midway School | BM7: Other Appropriate Medical and Educational Institutions
C8: 計 | D8: 男 | E8: 女 | F8: 男 | G8: 女 | H8: 男 | I8: 女 | J8: 男 | K8: 女 | L8: 男 | M8: 女 | N8: 男 | O8: 女 | P8: 合計 | Q8: 未滿12歲 | R8: 12-未滿15歲 | S8: 15-未滿18歲 | T8: 計 | U8: 男 | V8: 女 | W8: 計 | X8: 男 | Y8: 女 | Z8: 計 | AA8: 男 | AB8: 女 | AC8: 計 | AD8: 男 | AE8: 女 | AF8: 計 | AG8: 男 | AH8: 女 | AI8: 計 | AJ8: 男 | AK8: 女 | AL8: 計 | AM8: 男 | AN8: 女 | AO8: 計 | AP8: 男 | AQ8: 女 | AR8: 計 | AS8: 男 | AT8: 女 | AU8: 計 | AV8: 男 | AW8: 女 | AX8: 計 | AY8: 男 | AZ8: 女 | BA8: 計 | BB8: 男 | BC8: 女 | BD8: 計 | BE8: 男 | BF8: 女 | BG8: 計 | BH8: 男 | BI8: 女 | BJ8: 計 | BK8: 男 | BL8: 女 | BM8: 計 | BN8: 男 | BO8: 女
C9: Sub-Total | D9: Male | E9: Female | F9: Male | G9: Female | H9: Male | I9: Female | J9: Male | K9: Female | L9: Male | M9: Female | N9: Male | O9: Female | P9: Total | Q9: Under 12 Years | R9: 12-Under 15 Years | S9: 15-Under 18 Years | T9: Sub-Total | U9: Male | V9: Female | W9: Sub-Total | X9: Male | Y9: Female | Z9: Sub-Total | AA9: Male | AB9: Female | AC9: Sub-Total | AD9: Male | AE9: Female | AF9: Sub-Total | AG9: Male | AH9: Female | AI9: Sub-Total | AJ9: Male | AK9: Female | AL9: Sub-Total | AM9: Male | AN9: Female | AO9: Sub-Total | AP9: Male | AQ9: Female | AR9: Sub-Total | AS9: Male | AT9: Female | AU9: Sub-Total | AV9: Male | AW9: Female | AX9: Sub-Total | AY9: Male | AZ9: Female | BA9: Sub-Total | BB9: Male | BC9: Female | BD9: Sub-Total | BE9: Male | BF9: Female | BG9: Sub-Total | BH9: Male | BI9: Female | BJ9: Sub-Total | BK9: Male | BL9: Female | BM9: Sub-Total | BN9: Male | BO9: Female
A10: 106年 2017 | C10: 1060 | D10: 139 | E10: 921 | F10: 130 | G10: 854 | H10: 8 | I10: 55 | J10: 0 | K10: 0 | L10: 0 | M10: 2 | N10: 1 | O10: 10 | P10: 1060 | Q10: 59 | R10: 444 | S10: 557 | T10: 533 | U10: 69 | V10: 464 | W10: 798 | X10: 108 | Y10: 690 | Z10: 158 | AA10: 7 | AB10: 151 | AC10: 154 | AD10: 7 | AE10: 147 | AF10: 245 | AG10: 10 | AH10: 235 | AI10: 164 | AJ10: 8 | AK10: 156 | AL10: 0 | AM10: 0 | AN10: 0 | AO10: 50 | AP10: 0 | AQ10: 50 | AR10: 31 | AS10: 2 | AT10: 29 | AU10: 126 | AV10: 5 | AW10: 121 | AX10: 0 | AY10: 0 | AZ10: 0 | BA10: 27 | BB10: 2 | BC10: 25 | BD10: 38 | BE10: 3 | BF10: 35 | BG10: 0 | BH10: 0 | BI10: 0 | BJ10: 50 | BK10: 0 | BL10: 50 | BM10: 4 | BN10: 0 | BO10: 4
A11: 107年 2018 | C11: 1060 | D11: 109 | E11: 951 | F11: 101 | G11: 870 | H11: 4 | I11: 62 | J11: 0 | K11: 0 | L11: 0 | M11: 7 | N11: 4 | O11: 12 | P11: 1060 | Q11: 74 | R11: 378 | S11: 608 | T11: 456 | U11: 27 | V11: 429 | W11: 729 | X11: 75 | Y11: 654 | Z11: 138 | AA11: 3 | AB11: 135 | AC11: 136 | AD11: 3 | AE11: 133 | AF11: 224 | AG11: 3 | AH11: 221 | AI11: 152 | AJ11: 3 | AK11: 149 | AL11: 0 | AM11: 0 | AN11: 0 | AO11: 53 | AP11: 0 | AQ11: 53 | AR11: 19 | AS11: 0 | AT11: 19 | AU11: 106 | AV11: 2 | AW11: 104 | AX11: 0 | AY11: 0 | AZ11: 0 | BA11: 19 | BB11: 0 | BC11: 19 | BD11: 46 | BE11: 1 | BF11: 45 | BG11: 0 | BH11: 0 | BI11: 0 | BJ11: 53 | BK11: 0 | BL11: 53 | BM11: 0 | BN11: 0 | BO11: 0
A12: 108年 2019 | C12: 1211 | D12: 187 | E12: 1024 | F12: 172 | G12: 962 | H12: 15 | I12: 51 | J12: 0 | K12: 0 | L12: 0 | M12: 9 | N12: 0 | O12: 2 | P12: 1211 | Q12: 78 | R12: 510 | S12: 623 | T12: 714 | U12: 73 | V12: 641 | W12: 1134 | X12: 171 | Y12: 963 | Z12: 118 | AA12: 2 | AB12: 116 | AC12: 119 | AD12: 2 | AE12: 117 | AF12: 234 | AG12: 3 | AH12: 231 | AI12: 160 | AJ12: 2 | AK12: 158 | AL12: 1 | AM12: 0 | AN12: 1 | AO12: 59 | AP12: 0 | AQ12: 59 | AR12: 14 | AS12: 1 | AT12: 13 | AU12: 104 | AV12: 1 | AW12: 103 | AX12: 1 | AY12: 0 | AZ12: 1 | BA12: 14 | BB12: 1 | BC12: 13 | BD12: 56 | BE12: 1 | BF12: 55 | BG12: 0 | BH12: 0 | BI12: 0 | BJ12: 59 | BK12: 0 | BL12: 59 | BM12: 0 | BN12: 0 | BO12: 0
A14: 年別 Year | C14: 受理通報(報告)人數(人) | T14: 派員陪同偵訊個案數(件) | W14: 評估處理情形(件) | Z14: 緊急安置數(人) | AC14: 緊急安置個案向法院聲請第一次裁定數(人) | AF14: 入住人數(人次) Number of Persons Being Admitted
C15: 合計 | F15: 本國籍 Nationals | J15: 大陸籍 | L15: 外國籍 | N15: 其他 | P15: 按年齡分 By Age | AF15: 總計Total | AU15: 依第一次裁定結果繼續安置Continued Placement According to the Results of First Ruling | BD15: 依第二次裁定結果安置Placement According to the Results of Second Ruling
F16: 一般 | H16: 原住民 | T16: Cases Of Accompanying For Court | W16: Status Of Victim Evaluation | Z16: Number Of Victims Under Emergency Placement | AC16: Number of Victims under Emergency Placement Who Apply to the Court for First Ruling | AF16: 合計Total | AI16: 兒童及少年福利機構 | AL16: 寄養家庭 | AO16: 中途學校 | AR16: 其他適當之醫療、教育機構 | AU16: 兒童及少年福利機構 | AX16: 寄養家庭 | BA16: 其他適當之醫療、教育機構 | BD16: 兒童及少年福利機構 | BG16: 寄養家庭 | BJ16: 中途學校 | BM16: 其他適當之醫療、教育機構
C17: Total | F17: General | H17: Aborigines | J17: Mainlanders | L17: Foreigners | N17: Others | AI17: Child and Youth Welfare Institutions | AL17: Fostering Families | AO17: Midway School | AR17: Other Appropriate Medical and Educational Institutions | AU17: Child and Youth Welfare Institutions | AX17: Fostering Families | BA17: Other Appropriate Medical and Educational Institutions | BD17: Child and Youth Welfare Institutions | BG17: Fostering Families | BJ17: Midway School | BM17: Other Appropriate Medical and Educational Institutions
C18: 計 | D18: 男 | E18: 女 | F18: 男 | G18: 女 | H18: 男 | I18: 女 | J18: 男 | K18: 女 | L18: 男 | M18: 女 | N18: 男 | O18: 女 | P18: 合計 | Q18: 未滿12歲 | R18: 12-未滿15歲 | S18: 15-未滿18歲 | T18: 計 | U18: 男 | V18: 女 | W18: 計 | X18: 男 | Y18: 女 | Z18: 計 | AA18: 男 | AB18: 女 | AC18: 計 | AD18: 男 | AE18: 女 | AF18: 計 | AG18: 男 | AH18: 女 | AI18: 計 | AJ18: 男 | AK18: 女 | AL18: 計 | AM18: 男 | AN18: 女 | AO18: 計 | AP18: 男 | AQ18: 女 | AR18: 計 | AS18: 男 | AT18: 女 | AU18: 計 | AV18: 男 | AW18: 女 | AX18: 計 | AY18: 男 | AZ18: 女 | BA18: 計 | BB18: 男 | BC18: 女 | BD18: 計 | BE18: 男 | BF18: 女 | BG18: 計 | BH18: 男 | BI18: 女 | BJ18: 計 | BK18: 男 | BL18: 女 | BM18: 計 | BN18: 男 | BO18: 女
C19: Sub-Total | D19: Male | E19: Female | F19: Male | G19: Female | H19: Male | I19: Female | J19: Male | K19: Female | L19: Male | M19: Female | N19: Male | O19: Female | P19: Total | Q19: Under 12 Years | R19: 12-Under 15 Years | S19: 15-Under 18 Years | T19: Sub-Total | U19: Male | V19: Female | W19: Sub-Total | X19: Male | Y19: Female | Z19: Sub-Total | AA19: Male | AB19: Female | AC19: Sub-Total | AD19: Male | AE19: Female | AF19: Sub-Total | AG19: Male | AH19: Female | AI19: Sub-Total | AJ19: Male | AK19: Female | AL19: Sub-Total | AM19: Male | AN19: Female | AO19: Sub-Total | AP19: Male | AQ19: Female | AR19: Sub-Total | AS19: Male | AT19: Female | AU19: Sub-Total | AV19: Male | AW19: Female | AX19: Sub-Total | AY19: Male | AZ19: Female | BA19: Sub-Total | BB19: Male | BC19: Female | BD19: Sub-Total | BE19: Male | BF19: Female | BG19: Sub-Total | BH19: Male | BI19: Female | BJ19: Sub-Total | BK19: Male | BL19: Female | BM19: Sub-Total | BN19: Male | BO19: Female
A20: 109年 2020 | C20: 1691 | D20: 475 | E20: 1216 | F20: 440 | G20: 1131 | H20: 31 | I20: 78 | J20: 2 | K20: 1 | L20: 0 | M20: 4 | N20: 2 | O20: 2 | P20: 1691 | Q20: 153 | R20: 757 | S20: 781 | T20: 970 | U20: 242 | V20: 728 | W20: 1696 | X20: 478 | Y20: 1218 | Z20: 112 | AA20: 3 | AB20: 109 | AC20: 100 | AD20: 2 | AE20: 98 | AF20: 178 | AG20: 2 | AH20: 176 | AI20: 127 | AJ20: 2 | AK20: 125 | AL20: 0 | AM20: 0 | AN20: 0 | AO20: 34 | AP20: 0 | AQ20: 34 | AR20: 17 | AS20: 0 | AT20: 17 | AU20: 79 | AV20: 2 | AW20: 77 | AX20: 0 | AY20: 0 | AZ20: 0 | BA20: 17 | BB20: 0 | BC20: 17 | BD20: 48 | BE20: 0 | BF20: 48 | BG20: 0 | BH20: 0 | BI20: 0 | BJ20: 34 | BK20: 0 | BL20: 34 | BM20: 0 | BN20: 0 | BO20: 0
A22: 年別 Year | C22: 受理通報(報告)人數(人) | AF22: 派員陪同偵訊個案數(件) | AK22: 評估處理情形(件) | AP22: 緊急安置數(人) | AT22: 緊急安置個案向法院聲請第一次裁定數(人) | AX22: 入住人數(人次) Number of Persons Being Admitted
C23: 合計 | H23: 本國籍 Nationals | P23: 大陸籍 | T23: 外國籍 | X23: 其他 | AB23: 按年齡分 By Age | AX23: 總計Total | BR23: 依第一次裁定結果繼續安置Continued Placement According to the Results of First Ruling | CD23: 依第二次裁定結果安置Placement According to the Results of Second Ruling
H24: 一般 | L24: 原住民 | AF24: Cases Of Accompanying For Court | AK24: Status Of Victim Evaluation | AP24: Number Of Victims Under Emergency Placement | AT24: Number of Victims under Emergency Placement Who Apply to the Court for First Ruling | AX24: 合計Total | BB24: 兒童及少年福利機構 | BF24: 寄養家庭 | BJ24: 中途學校 | BN24: 其他適當之醫療、教育機構 | BR24: 兒童及少年福利機構 | BV24: 寄養家庭 | BZ24: 其他適當之醫療、教育機構 | CD24: 兒童及少年福利機構 | CH24: 寄養家庭 | CL24: 中途學校 | CP24: 其他適當之醫療、教育機構
C25: Total | H25: General | L25: Aborigines | P25: Mainlanders | T25: Foreigners | X25: Others | BB25: Child and Youth Welfare Institutions | BF25: Fostering Families | BJ25: Midway School | BN25: Other Appropriate Medical and Educational Institutions | BR25: Child and Youth Welfare Institutions | BV25: Fostering Families | BZ25: Other Appropriate Medical and Educational Institutions | CD25: Child and Youth Welfare Institutions | CH25: Fostering Families | CL25: Midway School | CP25: Other Appropriate Medical and Educational Institutions
C26: 計 | D26: 男 | E26: 女 | F26: 其他 | G26: 不詳 | H26: 男 | I26: 女 | J26: 其他 | K26: 不詳 | L26: 男 | M26: 女 | N26: 其他 | O26: 不詳 | P26: 男 | Q26: 女 | R26: 其他 | S26: 不詳 | T26: 男 | U26: 女 | V26: 其他 | W26: 不詳 | X26: 男 | Y26: 女 | Z26: 其他 | AA26: 不詳 | AB26: 合計 | AC26: 未滿12歲 | AD26: 12-未滿15歲 | AE26: 15-未滿18歲 | AF26: 計 | AG26: 男 | AH26: 女 | AI26: 其他 | AJ26: 不詳 | AK26: 計 | AL26: 男 | AM26: 女 | AN26: 其他 | AO26: 不詳 | AP26: 計 | AQ26: 男 | AR26: 女 | AS26: 其他 | AT26: 計 | AU26: 男 | AV26: 女 | AW26: 其他 | AX26: 計 | AY26: 男 | AZ26: 女 | BA26: 其他 | BB26: 計 | BC26: 男 | BD26: 女 | BE26: 其他 | BF26: 計 | BG26: 男 | BH26: 女 | BI26: 其他 | BJ26: 計 | BK26: 男 | BL26: 女 | BM26: 其他 | BN26: 計 | BO26: 男 | BP26: 女 | BQ26: 其他 | BR26: 計 | BS26: 男 | BT26: 女 | BU26: 其他 | BV26: 計 | BW26: 男 | BX26: 女 | BY26: 其他 | BZ26: 計 | CA26: 男 | CB26: 女 | CC26: 其他 | CD26: 計 | CE26: 男 | CF26: 女 | CG26: 其他 | CH26: 計 | CI26: 男 | CJ26: 女 | CK26: 其他 | CL26: 計 | CM26: 男 | CN26: 女 | CO26: 其他 | CP26: 計 | CQ26: 男 | CR26: 女 | CS26: 其他
C27: Sub-Total | D27: Male | E27: Female | F27: Other | G27: Unknown | H27: Male | I27: Female | J27: Other | K27: Unknown | L27: Male | M27: Female | N27: Other | O27: Unknown | P27: Male | Q27: Female | R27: Other | S27: Unknown | T27: Male | U27: Female | V27: Other | W27: Unknown | X27: Male | Y27: Female | Z27: Other | AA27: Unknown | AB27: Total | AC27: Under 12 Years | AD27: 12-Under 15 Years | AE27: 15-Under 18 Years | AF27: Sub-Total | AG27: Male | AH27: Female | AI27: Other | AJ27: Unknown | AK27: Sub-Total | AL27: Male | AM27: Female | AN27: Other | AO27: Unknown | AP27: Sub-Total | AQ27: Male | AR27: Female | AS27: Other | AT27: Sub-Total | AU27: Male | AV27: Female | AW27: Other | AX27: Sub-Total | AY27: Male | AZ27: Female | BA27: Other | BB27: Sub-Total | BC27: Male | BD27: Female | BE27: Other | BF27: Sub-Total | BG27: Male | BH27: Female | BI27: Other | BJ27: Sub-Total | BK27: Male | BL27: Female | BM27: Other | BN27: Sub-Total | BO27: Male | BP27: Female | BQ27: Other | BR27: Sub-Total | BS27: Male | BT27: Female | BU27: Other | BV27: Sub-Total | BW27: Male | BX27: Female | BY27: Other | BZ27: Sub-Total | CA27: Male | CB27: Female | CC27: Other | CD27: Sub-Total | CE27: Male | CF27: Female | CG27: Other | CH27: Sub-Total | CI27: Male | CJ27: Female | CK27: Other | CL27: Sub-Total | CM27: Male | CN27: Female | CO27: Other | CP27: Sub-Total | CQ27: Male | CR27: Female | CS27: Other
A28: 110年 2021 | C28: 1879 | D28: 590 | E28: 1289 | F28: 0 | G28: 0 | H28: 556 | I28: 1201 | J28: 0 | K28: 0 | L28: 33 | M28: 79 | N28: 0 | O28: 0 | P28: 0 | Q28: 0 | R28: 0 | S28: 0 | T28: 1 | U28: 2 | V28: 0 | W28: 0 | X28: 0 | Y28: 7 | Z28: 0 | AA28: 0 | AB28: 1879 | AC28: 200 | AD28: 857 | AE28: 822 | AF28: 1087 | AG28: 316 | AH28: 771 | AI28: 0 | AJ28: 0 | AK28: 1879 | AL28: 590 | AM28: 1289 | AN28: 0 | AO28: 0 | AP28: 80 | AQ28: 1 | AR28: 79 | AS28: 0 | AT28: 76 | AU28: 1 | AV28: 75 | AW28: 0 | AX28: 142 | AY28: 3 | AZ28: 133 | BA28: 6 | BB28: 99 | BC28: 3 | BD28: 90 | BE28: 6 | BF28: 2 | BG28: 0 | BH28: 2 | BI28: 0 | BJ28: 35 | BK28: 0 | BL28: 35 | BM28: 0 | BN28: 6 | BO28: 0 | BP28: 6 | BQ28: 0 | BR28: 68 | BS28: 1 | BT28: 67 | BU28: 0 | BV28: 1 | BW28: 0 | BX28: 1 | BY28: 0 | BZ28: 6 | CA28: 0 | CB28: 6 | CC28: 0 | CD28: 31 | CE28: 2 | CF28: 23 | CG28: 6 | CH28: 1 | CI28: 0 | CJ28: 1 | CK28: 0 | CL28: 35 | CM28: 0 | CN28: 35 | CO28: 0 | CP28: 0 | CQ28: 0 | CR28: 0 | CS28: 0
A29: 111年 2022 | C29: 2280 | D29: 713 | E29: 1567 | F29: 0 | G29: 0 | H29: 664 | I29: 1457 | J29: 0 | K29: 0 | L29: 46 | M29: 104 | N29: 0 | O29: 0 | P29: 1 | Q29: 0 | R29: 0 | S29: 0 | T29: 0 | U29: 4 | V29: 0 | W29: 0 | X29: 2 | Y29: 2 | Z29: 0 | AA29: 0 | AB29: 2280 | AC29: 224 | AD29: 993 | AE29: 1063 | AF29: 1319 | AG29: 386 | AH29: 933 | AI29: 0 | AJ29: 0 | AK29: 2282 | AL29: 719 | AM29: 1563 | AN29: 0 | AO29: 0 | AP29: 84 | AQ29: 4 | AR29: 80 | AS29: 0 | AT29: 60 | AU29: 1 | AV29: 59 | AW29: 0 | AX29: 103 | AY29: 4 | AZ29: 99 | BA29: 0 | BB29: 82 | BC29: 3 | BD29: 79 | BE29: 0 | BF29: 2 | BG29: 0 | BH29: 2 | BI29: 0 | BJ29: 8 | BK29: 0 | BL29: 8 | BM29: 0 | BN29: 11 | BO29: 1 | BP29: 10 | BQ29: 0 | BR29: 51 | BS29: 2 | BT29: 49 | BU29: 0 | BV29: 0 | BW29: 0 | BX29: 0 | BY29: 0 | BZ29: 9 | CA29: 1 | CB29: 8 | CC29: 0 | CD29: 31 | CE29: 1 | CF29: 30 | CG29: 0 | CH29: 2 | CI29: 0 | CJ29: 2 | CK29: 0 | CL29: 8 | CM29: 0 | CN29: 8 | CO29: 0 | CP29: 2 | CQ29: 0 | CR29: 2 | CS29: 0
A30: 112年 2023 | C30: 3354 | D30: 1027 | E30: 2327 | F30: 0 | G30: 0 | H30: 956 | I30: 2134 | J30: 0 | K30: 0 | L30: 70 | M30: 182 | N30: 0 | O30: 0 | P30: 0 | Q30: 5 | R30: 0 | S30: 0 | T30: 0 | U30: 5 | V30: 0 | W30: 0 | X30: 1 | Y30: 1 | Z30: 0 | AA30: 0 | AB30: 3354 | AC30: 352 | AD30: 1328 | AE30: 1674 | AF30: 1982 | AG30: 635 | AH30: 1340 | AI30: 7 | AJ30: 0 | AK30: 3354 | AL30: 1027 | AM30: 2327 | AN30: 0 | AO30: 0 | AP30: 106 | AQ30: 2 | AR30: 104 | AS30: 0 | AT30: 80 | AU30: 0 | AV30: 80 | AW30: 0 | AX30: 141 | AY30: 0 | AZ30: 141 | BA30: 0 | BB30: 95 | BC30: 0 | BD30: 95 | BE30: 0 | BF30: 2 | BG30: 0 | BH30: 2 | BI30: 0 | BJ30: 26 | BK30: 0 | BL30: 26 | BM30: 0 | BN30: 18 | BO30: 0 | BP30: 18 | BQ30: 0 | BR30: 58 | BS30: 0 | BT30: 58 | BU30: 0 | BV30: 1 | BW30: 0 | BX30: 1 | BY30: 0 | BZ30: 16 | CA30: 0 | CB30: 16 | CC30: 0 | CD30: 37 | CE30: 0 | CF30: 37 | CG30: 0 | CH30: 1 | CI30: 0 | CJ30: 1 | CK30: 0 | CL30: 26 | CM30: 0 | CN30: 26 | CO30: 0 | CP30: 2 | CQ30: 0 | CR30: 2 | CS30: 0
A31: 113年 2024 | C31: 3582 | D31: 1172 | E31: 2410 | F31: 0 | G31: 0 | H31: 1111 | I31: 2261 | J31: 0 | K31: 0 | L31: 57 | M31: 142 | N31: 0 | O31: 0 | P31: 0 | Q31: 1 | R31: 0 | S31: 0 | T31: 1 | U31: 5 | V31: 0 | W31: 0 | X31: 3 | Y31: 1 | Z31: 0 | AA31: 0 | AB31: 3582 | AC31: 397 | AD31: 1465 | AE31: 1720 | AF31: 2226 | AG31: 736 | AH31: 1490 | AI31: 0 | AJ31: 0 | AK31: 3582 | AL31: 1170 | AM31: 2412 | AN31: 0 | AO31: 0 | AP31: 87 | AQ31: 0 | AR31: 87 | AS31: 0 | AT31: 74 | AU31: 0 | AV31: 74 | AW31: 0 | AX31: 123 | AY31: 0 | AZ31: 123 | BA31: 0 | BB31: 83 | BC31: 0 | BD31: 83 | BE31: 0 | BF31: 4 | BG31: 0 | BH31: 4 | BI31: 0 | BJ31: 17 | BK31: 0 | BL31: 17 | BM31: 0 | BN31: 19 | BO31: 0 | BP31: 19 | BQ31: 0 | BR31: 52 | BS31: 0 | BT31: 52 | BU31: 0 | BV31: 3 | BW31: 0 | BX31: 3 | BY31: 0 | BZ31: 15 | CA31: 0 | CB31: 15 | CC31: 0 | CD31: 31 | CE31: 0 | CF31: 31 | CG31: 0 | CH31: 1 | CI31: 0 | CJ31: 1 | CK31: 0 | CL31: 17 | CM31: 0 | CN31: 17 | CO31: 0 | CP31: 4 | CQ31: 0 | CR31: 4 | CS31: 0
A32: 114年 2025 | C32: 3430 | D32: 1117 | E32: 2311 | F32: 0 | G32: 2 | H32: 1052 | I32: 2141 | J32: 0 | K32: 0 | L32: 59 | M32: 154 | N32: 0 | O32: 0 | P32: 0 | Q32: 1 | R32: 0 | S32: 0 | T32: 3 | U32: 9 | V32: 0 | W32: 0 | X32: 3 | Y32: 6 | Z32: 0 | AA32: 2 | AB32: 3430 | AC32: 363 | AD32: 1329 | AE32: 1738 | AF32: 1992 | AG32: 628 | AH32: 1354 | AI32: 10 | AJ32: 0 | AK32: 3436 | AL32: 1119 | AM32: 2317 | AN32: 0 | AO32: 0 | AP32: 61 | AQ32: 2 | AR32: 59 | AS32: 0 | AT32: 45 | AU32: 1 | AV32: 44 | AW32: 0 | AX32: 60 | AY32: 1 | AZ32: 59 | BA32: 0 | BB32: 37 | BC32: 1 | BD32: 36 | BE32: 0 | BF32: 0 | BG32: 0 | BH32: 0 | BI32: 0 | BJ32: 10 | BK32: 0 | BL32: 10 | BM32: 0 | BN32: 13 | BO32: 0 | BP32: 13 | BQ32: 0 | BR32: 24 | BS32: 1 | BT32: 23 | BU32: 0 | BV32: 0 | BW32: 0 | BX32: 0 | BY32: 0 | BZ32: 13 | CA32: 0 | CB32: 13 | CC32: 0 | CD32: 13 | CE32: 0 | CF32: 13 | CG32: 0 | CH32: 0 | CI32: 0 | CJ32: 0 | CK32: 0 | CL32: 10 | CM32: 0 | CN32: 10 | CO32: 0 | CP32: 0 | CQ32: 0 | CR32: 0 | CS32: 0
A34: 資料來源：直轄市、縣﹝市﹞政府。
A35: Source : County and City Government.

Sheet 114
A1: 兒童及少年性剝削案件安置情形
A3: 民國114年, 2025
A4: 區域別 Locality | C4: 受理通報(報告)人數(人) | AF4: 派員陪同偵訊個案數(件) | AK4: 評估處理情形(件) | AP4: 緊急安置數(人) | AT4: 緊急安置個案向法院聲請第一次裁定數(人) | AX4: 入住人數(人次) Number of Persons Being Admitted
C5: 合計 | H5: 本國籍 Nationals | P5: 大陸籍 | T5: 外國籍 | X5: 其他 | AB5: 按年齡分 By Age | AX5: 總計Total | BR5: 依第一次裁定結果繼續安置Continued Placement According to the Results of First Ruling | CD5: 依第二次裁定結果安置Placement According to the Results of Second Ruling
H6: 一般 | L6: 原住民 | AF6: Cases Of Accompanying For Court | AK6: Status Of Victim Evaluation | AP6: Number Of Victims Under Emergency Placement | AT6: Number of Victims under Emergency Placement Who Apply to the Court for First Ruling | AX6: 合計Total | BB6: 兒童及少年福利機構 | BF6: 寄養家庭 | BJ6: 中途學校 | BN6: 其他適當之醫療、教育機構 | BR6: 兒童及少年福利機構 | BV6: 寄養家庭 | BZ6: 其他適當之醫療、教育機構 | CD6: 兒童及少年福利機構 | CH6: 寄養家庭 | CL6: 中途學校 | CP6: 其他適當之醫療、教育機構
C7: Total | H7: General | L7: Aborigines | P7: Mainlanders | T7: Foreigners | X7: Others | BB7: Child and Youth Welfare Institutions | BF7: Fostering Families | BJ7: Midway School | BN7: Other Appropriate Medical and Educational Institutions | BR7: Child and Youth Welfare Institutions | BV7: Fostering Families | BZ7: Other Appropriate Medical and Educational Institutions | CD7: Child and Youth Welfare Institutions | CH7: Fostering Families | CL7: Midway School | CP7: Other Appropriate Medical and Educational Institutions
C8: 計 | D8: 男 | E8: 女 | F8: 其他 | G8: 不詳 | H8: 男 | I8: 女 | J8: 其他 | K8: 不詳 | L8: 男 | M8: 女 | N8: 其他 | O8: 不詳 | P8: 男 | Q8: 女 | R8: 其他 | S8: 不詳 | T8: 男 | U8: 女 | V8: 其他 | W8: 不詳 | X8: 男 | Y8: 女 | Z8: 其他 | AA8: 不詳 | AB8: 合計 | AC8: 未滿12歲 | AD8: 12-未滿15歲 | AE8: 15-未滿18歲 | AF8: 計 | AG8: 男 | AH8: 女 | AI8: 其他 | AJ8: 不詳 | AK8: 計 | AL8: 男 | AM8: 女 | AN8: 其他 | AO8: 不詳 | AP8: 計 | AQ8: 男 | AR8: 女 | AS8: 其他 | AT8: 計 | AU8: 男 | AV8: 女 | AW8: 其他 | AX8: 計 | AY8: 男 | AZ8: 女 | BA8: 其他 | BB8: 計 | BC8: 男 | BD8: 女 | BE8: 其他 | BF8: 計 | BG8: 男 | BH8: 女 | BI8: 其他 | BJ8: 計 | BK8: 男 | BL8: 女 | BM8: 其他 | BN8: 計 | BO8: 男 | BP8: 女 | BQ8: 其他 | BR8: 計 | BS8: 男 | BT8: 女 | BU8: 其他 | BV8: 計 | BW8: 男 | BX8: 女 | BY8: 其他 | BZ8: 計 | CA8: 男 | CB8: 女 | CC8: 其他 | CD8: 計 | CE8: 男 | CF8: 女 | CG8: 其他 | CH8: 計 | CI8: 男 | CJ8: 女 | CK8: 其他 | CL8: 計 | CM8: 男 | CN8: 女 | CO8: 其他 | CP8: 計 | CQ8: 男 | CR8: 女 | CS8: 其他
C9: Sub-Total | D9: Male | E9: Female | F9: Other | G9: Unknown | H9: Male | I9: Female | J9: Other | K9: Unknown | L9: Male | M9: Female | N9: Other | O9: Unknown | P9: Male | Q9: Female | R9: Other | S9: Unknown | T9: Male | U9: Female | V9: Other | W9: Unknown | X9: Male | Y9: Female | Z9: Other | AA9: Unknown | AB9: Total | AC9: Under 12 Years | AD9: 12-Under 15 Years | AE9: 15-Under 18 Years | AF9: Sub-Total | AG9: Male | AH9: Female | AI9: Other | AJ9: Unknown | AK9: Sub-Total | AL9: Male | AM9: Female | AN9: Other | AO9: Unknown | AP9: Sub-Total | AQ9: Male | AR9: Female | AS9: Other | AT9: Sub-Total | AU9: Male | AV9: Female | AW9: Other | AX9: Sub-Total | AY9: Male | AZ9: Female | BA9: Other | BB9: Sub-Total | BC9: Male | BD9: Female | BE9: Other | BF9: Sub-Total | BG9: Male | BH9: Female | BI9: Other | BJ9: Sub-Total | BK9: Male | BL9: Female | BM9: Other | BN9: Sub-Total | BO9: Male | BP9: Female | BQ9: Other | BR9: Sub-Total | BS9: Male | BT9: Female | BU9: Other | BV9: Sub-Total | BW9: Male | BX9: Female | BY9: Other | BZ9: Sub-Total | CA9: Male | CB9: Female | CC9: Other | CD9: Sub-Total | CE9: Male | CF9: Female | CG9: Other | CH9: Sub-Total | CI9: Male | CJ9: Female | CK9: Other | CL9: Sub-Total | CM9: Male | CN9: Female | CO9: Other | CP9: Sub-Total | CQ9: Male | CR9: Female | CS9: Other
A10: 總計 Total | C10: 3430 | D10: 1117 | E10: 2311 | F10: 0 | G10: 2 | H10: 1052 | I10: 2141 | J10: 0 | K10: 0 | L10: 59 | M10: 154 | N10: 0 | O10: 0 | P10: 0 | Q10: 1 | R10: 0 | S10: 0 | T10: 3 | U10: 9 | V10: 0 | W10: 0 | X10: 3 | Y10: 6 | Z10: 0 | AA10: 2 | AB10: 3430 | AC10: 363 | AD10: 1329 | AE10: 1738 | AF10: 1992 | AG10: 628 | AH10: 1354 | AI10: 10 | AJ10: 0 | AK10: 3436 | AL10: 1119 | AM10: 2317 | AN10: 0 | AO10: 0 | AP10: 61 | AQ10: 2 | AR10: 59 | AS10: 0 | AT10: 45 | AU10: 1 | AV10: 44 | AW10: 0 | AX10: 60 | AY10: 1 | AZ10: 59 | BA10: 0 | BB10: 37 | BC10: 1 | BD10: 36 | BE10: 0 | BF10: 0 | BG10: 0 | BH10: 0 | BI10: 0 | BJ10: 10 | BK10: 0 | BL10: 10 | BM10: 0 | BN10: 13 | BO10: 0 | BP10: 13 | BQ10: 0 | BR10: 24 | BS10: 1 | BT10: 23 | BU10: 0 | BV10: 0 | BW10: 0 | BX10: 0 | BY10: 0 | BZ10: 13 | CA10: 0 | CB10: 13 | CC10: 0 | CD10: 13 | CE10: 0 | CF10: 13 | CG10: 0 | CH10: 0 | CI10: 0 | CJ10: 0 | CK10: 0 | CL10: 10 | CM10: 0 | CN10: 10 | CO10: 0 | CP10: 0 | CQ10: 0 | CR10: 0 | CS10: 0
A11: 新北市 | B11: New Taipei City | C11: 620 | D11: 174 | E11: 446 | F11: 0 | G11: 0 | H11: 168 | I11: 427 | J11: 0 | K11: 0 | L11: 5 | M11: 17 | N11: 0 | O11: 0 | P11: 0 | Q11: 1 | R11: 0 | S11: 0 | T11: 1 | U11: 1 | V11: 0 | W11: 0 | X11: 0 | Y11: 0 | Z11: 0 | AA11: 0 | AB11: 620 | AC11: 74 | AD11: 227 | AE11: 319 | AF11: 178 | AG11: 36 | AH11: 142 | AI11: 0 | AJ11: 0 | AK11: 620 | AL11: 174 | AM11: 446 | AN11: 0 | AO11: 0 | AP11: 4 | AQ11: 0 | AR11: 4 | AS11: 0 | AT11: 1 | AU11: 0 | AV11: 1 | AW11: 0 | AX11: 7 | AY11: 0 | AZ11: 7 | BA11: 0 | BB11: 4 | BC11: 0 | BD11: 4 | BE11: 0 | BF11: 0 | BG11: 0 | BH11: 0 | BI11: 0 | BJ11: 3 | BK11: 0 | BL11: 3 | BM11: 0 | BN11: 0 | BO11: 0 | BP11: 0 | BQ11: 0 | BR11: 4 | BS11: 0 | BT11: 4 | BU11: 0 | BV11: 0 | BW11: 0 | BX11: 0 | BY11: 0 | BZ11: 0 | CA11: 0 | CB11: 0 | CC11: 0 | CD11: 0 | CE11: 0 | CF11: 0 | CG11: 0 | CH11: 0 | CI11: 0 | CJ11: 0 | CK11: 0 | CL11: 3 | CM11: 0 | CN11: 3 | CO11: 0 | CP11: 0 | CQ11: 0 | CR11: 0 | CS11: 0
A12: 臺北市 | B12: Taipei City | C12: 310 | D12: 108 | E12: 202 | F12: 0 | G12: 0 | H12: 106 | I12: 193 | J12: 0 | K12: 0 | L12: 1 | M12: 4 | N12: 0 | O12: 0 | P12: 0 | Q12: 0 | R12: 0 | S12: 0 | T12: 1 | U12: 5 | V12: 0 | W12: 0 | X12: 0 | Y12: 0 | Z12: 0 | AA12: 0 | AB12: 310 | AC12: 36 | AD12: 110 | AE12: 164 | AF12: 149 | AG12: 41 | AH12: 108 | AI12: 0 | AJ12: 0 | AK12: 310 | AL12: 108 | AM12: 202 | AN12: 0 | AO12: 0 | AP12: 5 | AQ12: 1 | AR12: 4 | AS12: 0 | AT12: 4 | AU12: 1 | AV12: 3 | AW12: 0 | AX12: 6 | AY12: 1 | AZ12: 5 | BA12: 0 | BB12: 6 | BC12: 1 | BD12: 5 | BE12: 0 | BF12: 0 | BG12: 0 | BH12: 0 | BI12: 0 | BJ12: 0 | BK12: 0 | BL12: 0 | BM12: 0 | BN12: 0 | BO12: 0 | BP12: 0 | BQ12: 0 | BR12: 4 | BS12: 1 | BT12: 3 | BU12: 0 | BV12: 0 | BW12: 0 | BX12: 0 | BY12: 0 | BZ12: 0 | CA12: 0 | CB12: 0 | CC12: 0 | CD12: 2 | CE12: 0 | CF12: 2 | CG12: 0 | CH12: 0 | CI12: 0 | CJ12: 0 | CK12: 0 | CL12: 0 | CM12: 0 | CN12: 0 | CO12: 0 | CP12: 0 | CQ12: 0 | CR12: 0 | CS12: 0
A13: 桃園市 | B13: Taoyuan City | C13: 347 | D13: 92 | E13: 255 | F13: 0 | G13: 0 | H13: 82 | I13: 226 | J13: 0 | K13: 0 | L13: 9 | M13: 28 | N13: 0 | O13: 0 | P13: 0 | Q13: 0 | R13: 0 | S13: 0 | T13: 0 | U13: 0 | V13: 0 | W13: 0 | X13: 1 | Y13: 1 | Z13: 0 | AA13: 0 | AB13: 347 | AC13: 37 | AD13: 130 | AE13: 180 | AF13: 228 | AG13: 57 | AH13: 171 | AI13: 0 | AJ13: 0 | AK13: 347 | AL13: 92 | AM13: 255 | AN13: 0 | AO13: 0 | AP13: 22 | AQ13: 0 | AR13: 22 | AS13: 0 | AT13: 22 | AU13: 0 | AV13: 22 | AW13: 0 | AX13: 18 | AY13: 0 | AZ13: 18 | BA13: 0 | BB13: 17 | BC13: 0 | BD13: 17 | BE13: 0 | BF13: 0 | BG13: 0 | BH13: 0 | BI13: 0 | BJ13: 1 | BK13: 0 | BL13: 1 | BM13: 0 | BN13: 0 | BO13: 0 | BP13: 0 | BQ13: 0 | BR13: 11 | BS13: 0 | BT13: 11 | BU13: 0 | BV13: 0 | BW13: 0 | BX13: 0 | BY13: 0 | BZ13: 0 | CA13: 0 | CB13: 0 | CC13: 0 | CD13: 6 | CE13: 0 | CF13: 6 | CG13: 0 | CH13: 0 | CI13: 0 | CJ13: 0 | CK13: 0 | CL13: 1 | CM13: 0 | CN13: 1 | CO13: 0 | CP13: 0 | CQ13: 0 | CR13: 0 | CS13: 0
A14: 臺中市 | B14: Taichung City | C14: 517 | D14: 187 | E14: 330 | F14: 0 | G14: 0 | H14: 179 | I14: 317 | J14: 0 | K14: 0 | L14: 7 | M14: 13 | N14: 0 | O14: 0 | P14: 0 | Q14: 0 | R14: 0 | S14: 0 | T14: 1 | U14: 0 | V14: 0 | W14: 0 | X14: 0 | Y14: 0 | Z14: 0 | AA14: 0 | AB14: 517 | AC14: 61 | AD14: 196 | AE14: 260 | AF14: 378 | AG14: 141 | AH14: 237 | AI14: 0 | AJ14: 0 | AK14: 517 | AL14: 187 | AM14: 330 | AN14: 0 | AO14: 0 | AP14: 1 | AQ14: 0 | AR14: 1 | AS14: 0 | AT14: 0 | AU14: 0 | AV14: 0 | AW14: 0 | AX14: 1 | AY14: 0 | AZ14: 1 | BA14: 0 | BB14: 1 | BC14: 0 | BD14: 1 | BE14: 0 | BF14: 0 | BG14: 0 | BH14: 0 | BI14: 0 | BJ14: 0 | BK14: 0 | BL14: 0 | BM14: 0 | BN14: 0 | BO14: 0 | BP14: 0 | BQ14: 0 | BR14: 1 | BS14: 0 | BT14: 1 | BU14: 0 | BV14: 0 | BW14: 0 | BX14: 0 | BY14: 0 | BZ14: 0 | CA14: 0 | CB14: 0 | CC14: 0 | CD14: 0 | CE14: 0 | CF14: 0 | CG14: 0 | CH14: 0 | CI14: 0 | CJ14: 0 | CK14: 0 | CL14: 0 | CM14: 0 | CN14: 0 | CO14: 0 | CP14: 0 | CQ14: 0 | CR14: 0 | CS14: 0
A15: 臺南市 | B15: Tainan City | C15: 288 | D15: 107 | E15: 181 | F15: 0 | G15: 0 | H15: 106 | I15: 175 | J15: 0 | K15: 0 | L15: 1 | M15: 6 | N15: 0 | O15: 0 | P15: 0 | Q15: 0 | R15: 0 | S15: 0 | T15: 0 | U15: 0 | V15: 0 | W15: 0 | X15: 0 | Y15: 0 | Z15: 0 | AA15: 0 | AB15: 288 | AC15: 29 | AD15: 132 | AE15: 127 | AF15: 221 | AG15: 81 | AH15: 140 | AI15: 0 | AJ15: 0 | AK15: 288 | AL15: 107 | AM15: 181 | AN15: 0 | AO15: 0 | AP15: 0 | AQ15: 0 | AR15: 0 | AS15: 0 | AT15: 0 | AU15: 0 | AV15: 0 | AW15: 0 | AX15: 0 | AY15: 0 | AZ15: 0 | BA15: 0 | BB15: 0 | BC15: 0 | BD15: 0 | BE15: 0 | BF15: 0 | BG15: 0 | BH15: 0 | BI15: 0 | BJ15: 0 | BK15: 0 | BL15: 0 | BM15: 0 | BN15: 0 | BO15: 0 | BP15: 0 | BQ15: 0 | BR15: 0 | BS15: 0 | BT15: 0 | BU15: 0 | BV15: 0 | BW15: 0 | BX15: 0 | BY15: 0 | BZ15: 0 | CA15: 0 | CB15: 0 | CC15: 0 | CD15: 0 | CE15: 0 | CF15: 0 | CG15: 0 | CH15: 0 | CI15: 0 | CJ15: 0 | CK15: 0 | CL15: 0 | CM15: 0 | CN15: 0 | CO15: 0 | CP15: 0 | CQ15: 0 | CR15: 0 | CS15: 0
A16: 高雄市 | B16: Kaohsiung City | C16: 360 | D16: 118 | E16: 242 | F16: 0 | G16: 0 | H16: 114 | I16: 231 | J16: 0 | K16: 0 | L16: 4 | M16: 10 | N16: 0 | O16: 0 | P16: 0 | Q16: 0 | R16: 0 | S16: 0 | T16: 0 | U16: 0 | V16: 0 | W16: 0 | X16: 0 | Y16: 1 | Z16: 0 | AA16: 0 | AB16: 360 | AC16: 30 | AD16: 141 | AE16: 189 | AF16: 214 | AG16: 62 | AH16: 152 | AI16: 0 | AJ16: 0 | AK16: 360 | AL16: 118 | AM16: 242 | AN16: 0 | AO16: 0 | AP16: 11 | AQ16: 0 | AR16: 11 | AS16: 0 | AT16: 11 | AU16: 0 | AV16: 11 | AW16: 0 | AX16: 16 | AY16: 0 | AZ16: 16 | BA16: 0 | BB16: 0 | BC16: 0 | BD16: 0 | BE16: 0 | BF16: 0 | BG16: 0 | BH16: 0 | BI16: 0 | BJ16: 5 | BK16: 0 | BL16: 5 | BM16: 0 | BN16: 11 | BO16: 0 | BP16: 11 | BQ16: 0 | BR16: 0 | BS16: 0 | BT16: 0 | BU16: 0 | BV16: 0 | BW16: 0 | BX16: 0 | BY16: 0 | BZ16: 11 | CA16: 0 | CB16: 11 | CC16: 0 | CD16: 0 | CE16: 0 | CF16: 0 | CG16: 0 | CH16: 0 | CI16: 0 | CJ16: 0 | CK16: 0 | CL16: 5 | CM16: 0 | CN16: 5 | CO16: 0 | CP16: 0 | CQ16: 0 | CR16: 0 | CS16: 0
A17: 宜蘭縣 | B17: Yilan County | C17: 57 | D17: 17 | E17: 40 | F17: 0 | G17: 0 | H17: 17 | I17: 31 | J17: 0 | K17: 0 | L17: 0 | M17: 7 | N17: 0 | O17: 0 | P17: 0 | Q17: 0 | R17: 0 | S17: 0 | T17: 0 | U17: 0 | V17: 0 | W17: 0 | X17: 0 | Y17: 2 | Z17: 0 | AA17: 0 | AB17: 57 | AC17: 9 | AD17: 20 | AE17: 28 | AF17: 41 | AG17: 11 | AH17: 30 | AI17: 0 | AJ17: 0 | AK17: 57 | AL17: 17 | AM17: 40 | AN17: 0 | AO17: 0 | AP17: 0 | AQ17: 0 | AR17: 0 | AS17: 0 | AT17: 0 | AU17: 0 | AV17: 0 | AW17: 0 | AX17: 0 | AY17: 0 | AZ17: 0 | BA17: 0 | BB17: 0 | BC17: 0 | BD17: 0 | BE17: 0 | BF17: 0 | BG17: 0 | BH17: 0 | BI17: 0 | BJ17: 0 | BK17: 0 | BL17: 0 | BM17: 0 | BN17: 0 | BO17: 0 | BP17: 0 | BQ17: 0 | BR17: 0 | BS17: 0 | BT17: 0 | BU17: 0 | BV17: 0 | BW17: 0 | BX17: 0 | BY17: 0 | BZ17: 0 | CA17: 0 | CB17: 0 | CC17: 0 | CD17: 0 | CE17: 0 | CF17: 0 | CG17: 0 | CH17: 0 | CI17: 0 | CJ17: 0 | CK17: 0 | CL17: 0 | CM17: 0 | CN17: 0 | CO17: 0 | CP17: 0 | CQ17: 0 | CR17: 0 | CS17: 0
A18: 新竹縣 | B18: Hsinchu County | C18: 94 | D18: 28 | E18: 66 | F18: 0 | G18: 0 | H18: 26 | I18: 55 | J18: 0 | K18: 0 | L18: 2 | M18: 10 | N18: 0 | O18: 0 | P18: 0 | Q18: 0 | R18: 0 | S18: 0 | T18: 0 | U18: 1 | V18: 0 | W18: 0 | X18: 0 | Y18: 0 | Z18: 0 | AA18: 0 | AB18: 94 | AC18: 8 | AD18: 47 | AE18: 39 | AF18: 44 | AG18: 16 | AH18: 28 | AI18: 0 | AJ18: 0 | AK18: 94 | AL18: 28 | AM18: 66 | AN18: 0 | AO18: 0 | AP18: 0 | AQ18: 0 | AR18: 0 | AS18: 0 | AT18: 0 | AU18: 0 | AV18: 0 | AW18: 0 | AX18: 0 | AY18: 0 | AZ18: 0 | BA18: 0 | BB18: 0 | BC18: 0 | BD18: 0 | BE18: 0 | BF18: 0 | BG18: 0 | BH18: 0 | BI18: 0 | BJ18: 0 | BK18: 0 | BL18: 0 | BM18: 0 | BN18: 0 | BO18: 0 | BP18: 0 | BQ18: 0 | BR18: 0 | BS18: 0 | BT18: 0 | BU18: 0 | BV18: 0 | BW18: 0 | BX18: 0 | BY18: 0 | BZ18: 0 | CA18: 0 | CB18: 0 | CC18: 0 | CD18: 0 | CE18: 0 | CF18: 0 | CG18: 0 | CH18: 0 | CI18: 0 | CJ18: 0 | CK18: 0 | CL18: 0 | CM18: 0 | CN18: 0 | CO18: 0 | CP18: 0 | CQ18: 0 | CR18: 0 | CS18: 0
A19: 苗栗縣 | B19: Miaoli County | C19: 80 | D19: 28 | E19: 52 | F19: 0 | G19: 0 | H19: 27 | I19: 52 | J19: 0 | K19: 0 | L19: 0 | M19: 0 | N19: 0 | O19: 0 | P19: 0 | Q19: 0 | R19: 0 | S19: 0 | T19: 0 | U19: 0 | V19: 0 | W19: 0 | X19: 1 | Y19: 0 | Z19: 0 | AA19: 0 | AB19: 80 | AC19: 4 | AD19: 29 | AE19: 47 | AF19: 54 | AG19: 16 | AH19: 38 | AI19: 0 | AJ19: 0 | AK19: 80 | AL19: 28 | AM19: 52 | AN19: 0 | AO19: 0 | AP19: 1 | AQ19: 0 | AR19: 1 | AS19: 0 | AT19: 0 | AU19: 0 | AV19: 0 | AW19: 0 | AX19: 0 | AY19: 0 | AZ19: 0 | BA19: 0 | BB19: 0 | BC19: 0 | BD19: 0 | BE19: 0 | BF19: 0 | BG19: 0 | BH19: 0 | BI19: 0 | BJ19: 0 | BK19: 0 | BL19: 0 | BM19: 0 | BN19: 0 | BO19: 0 | BP19: 0 | BQ19: 0 | BR19: 0 | BS19: 0 | BT19: 0 | BU19: 0 | BV19: 0 | BW19: 0 | BX19: 0 | BY19: 0 | BZ19: 0 | CA19: 0 | CB19: 0 | CC19: 0 | CD19: 0 | CE19: 0 | CF19: 0 | CG19: 0 | CH19: 0 | CI19: 0 | CJ19: 0 | CK19: 0 | CL19: 0 | CM19: 0 | CN19: 0 | CO19: 0 | CP19: 0 | CQ19: 0 | CR19: 0 | CS19: 0
A20: 彰化縣 | B20: Changhua County | C20: 152 | D20: 62 | E20: 90 | F20: 0 | G20: 0 | H20: 62 | I20: 87 | J20: 0 | K20: 0 | L20: 0 | M20: 3 | N20: 0 | O20: 0 | P20: 0 | Q20: 0 | R20: 0 | S20: 0 | T20: 0 | U20: 0 | V20: 0 | W20: 0 | X20: 0 | Y20: 0 | Z20: 0 | AA20: 0 | AB20: 152 | AC20: 17 | AD20: 60 | AE20: 75 | AF20: 107 | AG20: 46 | AH20: 61 | AI20: 0 | AJ20: 0 | AK20: 152 | AL20: 62 | AM20: 90 | AN20: 0 | AO20: 0 | AP20: 1 | AQ20: 0 | AR20: 1 | AS20: 0 | AT20: 1 | AU20: 0 | AV20: 1 | AW20: 0 | AX20: 3 | AY20: 0 | AZ20: 3 | BA20: 0 | BB20: 3 | BC20: 0 | BD20: 3 | BE20: 0 | BF20: 0 | BG20: 0 | BH20: 0 | BI20: 0 | BJ20: 0 | BK20: 0 | BL20: 0 | BM20: 0 | BN20: 0 | BO20: 0 | BP20: 0 | BQ20: 0 | BR20: 1 | BS20: 0 | BT20: 1 | BU20: 0 | BV20: 0 | BW20: 0 | BX20: 0 | BY20: 0 | BZ20: 0 | CA20: 0 | CB20: 0 | CC20: 0 | CD20: 2 | CE20: 0 | CF20: 2 | CG20: 0 | CH20: 0 | CI20: 0 | CJ20: 0 | CK20: 0 | CL20: 0 | CM20: 0 | CN20: 0 | CO20: 0 | CP20: 0 | CQ20: 0 | CR20: 0 | CS20: 0
A21: 南投縣 | B21: Nantou County | C21: 48 | D21: 18 | E21: 30 | F21: 0 | G21: 0 | H21: 14 | I21: 23 | J21: 0 | K21: 0 | L21: 4 | M21: 7 | N21: 0 | O21: 0 | P21: 0 | Q21: 0 | R21: 0 | S21: 0 | T21: 0 | U21: 0 | V21: 0 | W21: 0 | X21: 0 | Y21: 0 | Z21: 0 | AA21: 0 | AB21: 48 | AC21: 8 | AD21: 14 | AE21: 26 | AF21: 28 | AG21: 11 | AH21: 17 | AI21: 0 | AJ21: 0 | AK21: 51 | AL21: 19 | AM21: 32 | AN21: 0 | AO21: 0 | AP21: 0 | AQ21: 0 | AR21: 0 | AS21: 0 | AT21: 0 | AU21: 0 | AV21: 0 | AW21: 0 | AX21: 0 | AY21: 0 | AZ21: 0 | BA21: 0 | BB21: 0 | BC21: 0 | BD21: 0 | BE21: 0 | BF21: 0 | BG21: 0 | BH21: 0 | BI21: 0 | BJ21: 0 | BK21: 0 | BL21: 0 | BM21: 0 | BN21: 0 | BO21: 0 | BP21: 0 | BQ21: 0 | BR21: 0 | BS21: 0 | BT21: 0 | BU21: 0 | BV21: 0 | BW21: 0 | BX21: 0 | BY21: 0 | BZ21: 0 | CA21: 0 | CB21: 0 | CC21: 0 | CD21: 0 | CE21: 0 | CF21: 0 | CG21: 0 | CH21: 0 | CI21: 0 | CJ21: 0 | CK21: 0 | CL21: 0 | CM21: 0 | CN21: 0 | CO21: 0 | CP21: 0 | CQ21: 0 | CR21: 0 | CS21: 0
A22: 雲林縣 | B22: Yunlin County | C22: 87 | D22: 24 | E22: 63 | F22: 0 | G22: 0 | H22: 23 | I22: 62 | J22: 0 | K22: 0 | L22: 1 | M22: 1 | N22: 0 | O22: 0 | P22: 0 | Q22: 0 | R22: 0 | S22: 0 | T22: 0 | U22: 0 | V22: 0 | W22: 0 | X22: 0 | Y22: 0 | Z22: 0 | AA22: 0 | AB22: 87 | AC22: 10 | AD22: 27 | AE22: 50 | AF22: 63 | AG22: 16 | AH22: 47 | AI22: 0 | AJ22: 0 | AK22: 87 | AL22: 24 | AM22: 63 | AN22: 0 | AO22: 0 | AP22: 1 | AQ22: 0 | AR22: 1 | AS22: 0 | AT22: 0 | AU22: 0 | AV22: 0 | AW22: 0 | AX22: 0 | AY22: 0 | AZ22: 0 | BA22: 0 | BB22: 0 | BC22: 0 | BD22: 0 | BE22: 0 | BF22: 0 | BG22: 0 | BH22: 0 | BI22: 0 | BJ22: 0 | BK22: 0 | BL22: 0 | BM22: 0 | BN22: 0 | BO22: 0 | BP22: 0 | BQ22: 0 | BR22: 0 | BS22: 0 | BT22: 0 | BU22: 0 | BV22: 0 | BW22: 0 | BX22: 0 | BY22: 0 | BZ22: 0 | CA22: 0 | CB22: 0 | CC22: 0 | CD22: 0 | CE22: 0 | CF22: 0 | CG22: 0 | CH22: 0 | CI22: 0 | CJ22: 0 | CK22: 0 | CL22: 0 | CM22: 0 | CN22: 0 | CO22: 0 | CP22: 0 | CQ22: 0 | CR22: 0 | CS22: 0
... A32: 連江縣 | B32: Lienchiang County | C32: 0 | D32: 0 | E32: 0 | F32: 0 | G32: 0 | H32: 0 | I32: 0 | J32: 0 | K32: 0 | L32: 0 | M32: 0 | N32: 0 | O32: 0 | P32: 0 | Q32: 0 | R32: 0 | S32: 0 | T32: 0 | U32: 0 | V32: 0 | W32: 0 | X32: 0 | Y32: 0 | Z32: 0 | AA32: 0 | AB32: 0 | AC32: 0 | AD32: 0 | AE32: 0 | AF32: 0 | AG32: 0 | AH32: 0 | AI32: 0 | AJ32: 0 | AK32: 0 | AL32: 0 | AM32: 0 | AN32: 0 | AO32: 0 | AP32: 0 | AQ32: 0 | AR32: 0 | AS32: 0 | AT32: 0 | AU32: 0 | AV32: 0 | AW32: 0 | AX32: 0 | AY32: 0 | AZ32: 0 | BA32: 0 | BB32: 0 | BC32: 0 | BD32: 0 | BE32: 0 | BF32: 0 | BG32: 0 | BH32: 0 | BI32: 0 | BJ32: 0 | BK32: 0 | BL32: 0 | BM32: 0 | BN32: 0 | BO32: 0 | BP32: 0 | BQ32: 0 | BR32: 0 | BS32: 0 | BT32: 0 | BU32: 0 | BV32: 0 | BW32: 0 | BX32: 0 | BY32: 0 | BZ32: 0 | CA32: 0 | CB32: 0 | CC32: 0 | CD32: 0 | CE32: 0 | CF32: 0 | CG32: 0 | CH32: 0 | CI32: 0 | CJ32: 0 | CK32: 0 | CL32: 0 | CM32: 0 | CN32: 0 | CO32: 0 | CP32: 0 | CQ32: 0 | CR32: 0 | CS32: 0
A33: 資料來源：直轄市、縣﹝市﹞政府。
A34: Source : County and City Government.

Sheet 113
A1: 兒童及少年性剝削案件安置情形
A3: 民國113年, 2024
A4: 區域別 Locality | C4: 受理通報(報告)人數(人) | AF4: 派員陪同偵訊個案數(件) | AK4: 評估處理情形(件) | AP4: 緊急安置數(人) | AT4: 緊急安置個案向法院聲請第一次裁定數(人) | AX4: 入住人數(人次) Number of Persons Being Admitted
C5: 合計 | H5: 本國籍 Nationals | P5: 大陸籍 | T5: 外國籍 | X5: 其他 | AB5: 按年齡分 By Age | AX5: 總計Total | BR5: 依第一次裁定結果繼續安置Continued Placement According to the Results of First Ruling | CD5: 依第二次裁定結果安置Placement According to the Results of Second Ruling
H6: 一般 | L6: 原住民 | AF6: Cases Of Accompanying For Court | AK6: Status Of Victim Evaluation | AP6: Number Of Victims Under Emergency Placement | AT6: Number of Victims under Emergency Placement Who Apply to the Court for First Ruling | AX6: 合計Total | BB6: 兒童及少年福利機構 | BF6: 寄養家庭 | BJ6: 中途學校 | BN6: 其他適當之醫療、教育機構 | BR6: 兒童及少年福利機構 | BV6: 寄養家庭 | BZ6: 其他適當之醫療、教育機構 | CD6: 兒童及少年福利機構 | CH6: 寄養家庭 | CL6: 中途學校 | CP6: 其他適當之醫療、教育機構
C7: Total | H7: General | L7: Aborigines | P7: Mainlanders | T7: Foreigners | X7: Others | BB7: Child and Youth Welfare Institutions | BF7: Fostering Families | BJ7: Midway School | BN7: Other Appropriate Medical and Educational Institutions | BR7: Child and Youth Welfare Institutions | BV7: Fostering Families | BZ7: Other Appropriate Medical and Educational Institutions | CD7: Child and Youth Welfare Institutions | CH7: Fostering Families | CL7: Midway School | CP7: Other Appropriate Medical and Educational Institutions
C8: 計 | D8: 男 | E8: 女 | F8: 其他 | G8: 不詳 | H8: 男 | I8: 女 | J8: 其他 | K8: 不詳 | L8: 男 | M8: 女 | N8: 其他 | O8: 不詳 | P8: 男 | Q8: 女 | R8: 其他 | S8: 不詳 | T8: 男 | U8: 女 | V8: 其他 | W8: 不詳 | X8: 男 | Y8: 女 | Z8: 其他 | AA8: 不詳 | AB8: 合計 | AC8: 未滿12歲 | AD8: 12-未滿15歲 | AE8: 15-未滿18歲 | AF8: 計 | AG8: 男 | AH8: 女 | AI8: 其他 | AJ8: 不詳 | AK8: 計 | AL8: 男 | AM8: 女 | AN8: 其他 | AO8: 不詳 | AP8: 計 | AQ8: 男 | AR8: 女 | AS8: 其他 | AT8: 計 | AU8: 男 | AV8: 女 | AW8: 其他 | AX8: 計 | AY8: 男 | AZ8: 女 | BA8: 其他 | BB8: 計 | BC8: 男 | BD8: 女 | BE8: 其他 | BF8: 計 | BG8: 男 | BH8: 女 | BI8: 其他 | BJ8: 計 | BK8: 男 | BL8: 女 | BM8: 其他 | BN8: 計 | BO8: 男 | BP8: 女 | BQ8: 其他 | BR8: 計 | BS8: 男 | BT8: 女 | BU8: 其他 | BV8: 計 | BW8: 男 | BX8: 女 | BY8: 其他 | BZ8: 計 | CA8: 男 | CB8: 女 | CC8: 其他 | CD8: 計 | CE8: 男 | CF8: 女 | CG8: 其他 | CH8: 計 | CI8: 男 | CJ8: 女 | CK8: 其他 | CL8: 計 | CM8: 男 | CN8: 女 | CO8: 其他 | CP8: 計 | CQ8: 男 | CR8: 女 | CS8: 其他
C9: Sub-Total | D9: Male | E9: Female | F9: Other | G9: Unknown | H9: Male | I9: Female | J9: Other | K9: Unknown | L9: Male | M9: Female | N9: Other | O9: Unknown | P9: Male | Q9: Female | R9: Other | S9: Unknown | T9: Male | U9: Female | V9: Other | W9: Unknown | X9: Male | Y9: Female | Z9: Other | AA9: Unknown | AB9: Total | AC9: Under 12 Years | AD9: 12-Under 15 Years | AE9: 15-Under 18 Years | AF9: Sub-Total | AG9: Male | AH9: Female | AI9: Other | AJ9: Unknown | AK9: Sub-Total | AL9: Male | AM9: Female | AN9: Other | AO9: Unknown | AP9: Sub-Total | AQ9: Male | AR9: Female | AS9: Other | AT9: Sub-Total | AU9: Male | AV9: Female | AW9: Other | AX9: Sub-Total | AY9: Male | AZ9: Female | BA9: Other | BB9: Sub-Total | BC9: Male | BD9: Female | BE9: Other | BF9: Sub-Total | BG9: Male | BH9: Female | BI9: Other | BJ9: Sub-Total | BK9: Male | BL9: Female | BM9: Other | BN9: Sub-Total | BO9: Male | BP9: Female | BQ9: Other | BR9: Sub-Total | BS9: Male | BT9: Female | BU9: Other | BV9: Sub-Total | BW9: Male | BX9: Female | BY9: Other | BZ9: Sub-Total | CA9: Male | CB9: Female | CC9: Other | CD9: Sub-Total | CE9: Male | CF9: Female | CG9: Other | CH9: Sub-Total | CI9: Male | CJ9: Female | CK9: Other | CL9: Sub-Total | CM9: Male | CN9: Female | CO9: Other | CP9: Sub-Total | CQ9: Male | CR9: Female | CS9: Other
A10: 總計 Total | C10: 3582 | D10: 1172 | E10: 2410 | F10: 0 | G10: 0 | H10: 1111 | I10: 2261 | J10: 0 | K10: 0 | L10: 57 | M10: 142 | N10: 0 | O10: 0 | P10: 0 | Q10: 1 | R10: 0 | S10: 0 | T10: 1 | U10: 5 | V10: 0 | W10: 0 | X10: 3 | Y10: 1 | Z10: 0 | AA10: 0 | AB10: 3582 | AC10: 397 | AD10: 1465 | AE10: 1720 | AF10: 2226 | AG10: 736 | AH10: 1490 | AI10: 0 | AJ10: 0 | AK10: 3582 | AL10: 1170 | AM10: 2412 | AN10: 0 | AO10: 0 | AP10: 87 | AQ10: 0 | AR10: 87 | AS10: 0 | AT10: 74 | AU10: 0 | AV10: 74 | AW10: 0 | AX10: 123 | AY10: 0 | AZ10: 123 | BA10: 0 | BB10: 83 | BC10: 0 | BD10: 83 | BE10: 0 | BF10: 4 | BG10: 0 | BH10: 4 | BI10: 0 | BJ10: 17 | BK10: 0 | BL10: 17 | BM10: 0 | BN10: 19 | BO10: 0 | BP10: 19 | BQ10: 0 | BR10: 52 | BS10: 0 | BT10: 52 | BU10: 0 | BV10: 3 | BW10: 0 | BX10: 3 | BY10: 0 | BZ10: 15 | CA10: 0 | CB10: 15 | CC10: 0 | CD10: 31 | CE10: 0 | CF10: 31 | CG10: 0 | CH10: 1 | CI10: 0 | CJ10: 1 | CK10: 0 | CL10: 17 | CM10: 0 | CN10: 17 | CO10: 0 | CP10: 4 | CQ10: 0 | CR10: 4 | CS10: 0
A11: 新北市 | B11: New Taipei City | C11: 654 | D11: 207 | E11: 447 | F11: 0 | G11: 0 | H11: 204 | I11: 438 | J11: 0 | K11: 0 | L11: 3 | M11: 9 | N11: 0 | O11: 0 | P11: 0 | Q11: 0 | R11: 0 | S11: 0 | T11: 0 | U11: 0 | V11: 0 | W11: 0 | X11: 0 | Y11: 0 | Z11: 0 | AA11: 0 | AB11: 654 | AC11: 61 | AD11: 292 | AE11: 301 | AF11: 345 | AG11: 112 | AH11: 233 | AI11: 0 | AJ11: 0 | AK11: 654 | AL11: 207 | AM11: 447 | AN11: 0 | AO11: 0 | AP11: 13 | AQ11: 0 | AR11: 13 | AS11: 0 | AT11: 13 | AU11: 0 | AV11: 13 | AW11: 0 | AX11: 19 | AY11: 0 | AZ11: 19 | BA11: 0 | BB11: 15 | BC11: 0 | BD11: 15 | BE11: 0 | BF11: 0 | BG11: 0 | BH11: 0 | BI11: 0 | BJ11: 2 | BK11: 0 | BL11: 2 | BM11: 0 | BN11: 2 | BO11: 0 | BP11: 2 | BQ11: 0 | BR11: 13 | BS11: 0 | BT11: 13 | BU11: 0 | BV11: 0 | BW11: 0 | BX11: 0 | BY11: 0 | BZ11: 0 | CA11: 0 | CB11: 0 | CC11: 0 | CD11: 2 | CE11: 0 | CF11: 2 | CG11: 0 | CH11: 0 | CI11: 0 | CJ11: 0 | CK11: 0 | CL11: 2 | CM11: 0 | CN11: 2 | CO11: 0 | CP11: 2 | CQ11: 0 | CR11: 2 | CS11: 0
A12: 臺北市 | B12: Taipei City | C12: 371 | D12: 97 | E12: 274 | F12: 0 | G12: 0 | H12: 97 | I12: 272 | J12: 0 | K12: 0 | L12: 0 | M12: 0 | N12: 0 | O12: 0 | P12: 0 | Q12: 1 | R12: 0 | S12: 0 | T12: 0 | U12: 1 | V12: 0 | W12: 0 | X12: 0 | Y12: 0 | Z12: 0 | AA12: 0 | AB12: 371 | AC12: 62 | AD12: 116 | AE12: 193 | AF12: 147 | AG12: 34 | AH12: 113 | AI12: 0 | AJ12: 0 | AK12: 371 | AL12: 97 | AM12: 274 | AN12: 0 | AO12: 0 | AP12: 6 | AQ12: 0 | AR12: 6 | AS12: 0 | AT12: 6 | AU12: 0 | AV12: 6 | AW12: 0 | AX12: 6 | AY12: 0 | AZ12: 6 | BA12: 0 | BB12: 5 | BC12: 0 | BD12: 5 | BE12: 0 | BF12: 0 | BG12: 0 | BH12: 0 | BI12: 0 | BJ12: 1 | BK12: 0 | BL12: 1 | BM12: 0 | BN12: 0 | BO12: 0 | BP12: 0 | BQ12: 0 | BR12: 4 | BS12: 0 | BT12: 4 | BU12: 0 | BV12: 0 | BW12: 0 | BX12: 0 | BY12: 0 | BZ12: 0 | CA12: 0 | CB12: 0 | CC12: 0 | CD12: 1 | CE12: 0 | CF12: 1 | CG12: 0 | CH12: 0 | CI12: 0 | CJ12: 0 | CK12: 0 | CL12: 1 | CM12: 0 | CN12: 1 | CO12: 0 | CP12: 0 | CQ12: 0 | CR12: 0 | CS12: 0
A13: 桃園市 | B13: Taoyuan City | C13: 395 | D13: 107 | E13: 288 | F13: 0 | G13: 0 | H13: 100 | I13: 258 | J13: 0 | K13: 0 | L13: 7 | M13: 28 | N13: 0 | O13: 0 | P13: 0 | Q13: 0 | R13: 0 | S13: 0 | T13: 0 | U13: 2 | V13: 0 | W13: 0 | X13: 0 | Y13: 0 | Z13: 0 | AA13: 0 | AB13: 395 | AC13: 36 | AD13: 165 | AE13: 194 | AF13: 242 | AG13: 59 | AH13: 183 | AI13: 0 | AJ13: 0 | AK13: 395 | AL13: 107 | AM13: 288 | AN13: 0 | AO13: 0 | AP13: 17 | AQ13: 0 | AR13: 17 | AS13: 0 | AT13: 17 | AU13: 0 | AV13: 17 | AW13: 0 | AX13: 31 | AY13: 0 | AZ13: 31 | BA13: 0 | BB13: 28 | BC13: 0 | BD13: 28 | BE13: 0 | BF13: 0 | BG13: 0 | BH13: 0 | BI13: 0 | BJ13: 3 | BK13: 0 | BL13: 3 | BM13: 0 | BN13: 0 | BO13: 0 | BP13: 0 | BQ13: 0 | BR13: 16 | BS13: 0 | BT13: 16 | BU13: 0 | BV13: 0 | BW13: 0 | BX13: 0 | BY13: 0 | BZ13: 0 | CA13: 0 | CB13: 0 | CC13: 0 | CD13: 12 | CE13: 0 | CF13: 12 | CG13: 0 | CH13: 0 | CI13: 0 | CJ13: 0 | CK13: 0 | CL13: 3 | CM13: 0 | CN13: 3 | CO13: 0 | CP13: 0 | CQ13: 0 | CR13: 0 | CS13: 0
A14: 臺中市 | B14: Taichung City | C14: 455 | D14: 155 | E14: 300 | F14: 0 | G14: 0 | H14: 150 | I14: 285 | J14: 0 | K14: 0 | L14: 5 | M14: 14 | N14: 0 | O14: 0 | P14: 0 | Q14: 0 | R14: 0 | S14: 0 | T14: 0 | U14: 1 | V14: 0 | W14: 0 | X14: 0 | Y14: 0 | Z14: 0 | AA14: 0 | AB14: 455 | AC14: 51 | AD14: 188 | AE14: 216 | AF14: 360 | AG14: 120 | AH14: 240 | AI14: 0 | AJ14: 0 | AK14: 455 | AL14: 155 | AM14: 300 | AN14: 0 | AO14: 0 | AP14: 7 | AQ14: 0 | AR14: 7 | AS14: 0 | AT14: 5 | AU14: 0 | AV14: 5 | AW14: 0 | AX14: 7 | AY14: 0 | AZ14: 7 | BA14: 0 | BB14: 7 | BC14: 0 | BD14: 7 | BE14: 0 | BF14: 0 | BG14: 0 | BH14: 0 | BI14: 0 | BJ14: 0 | BK14: 0 | BL14: 0 | BM14: 0 | BN14: 0 | BO14: 0 | BP14: 0 | BQ14: 0 | BR14: 5 | BS14: 0 | BT14: 5 | BU14: 0 | BV14: 0 | BW14: 0 | BX14: 0 | BY14: 0 | BZ14: 0 | CA14: 0 | CB14: 0 | CC14: 0 | CD14: 2 | CE14: 0 | CF14: 2 | CG14: 0 | CH14: 0 | CI14: 0 | CJ14: 0 | CK14: 0 | CL14: 0 | CM14: 0 | CN14: 0 | CO14: 0 | CP14: 0 | CQ14: 0 | CR14: 0 | CS14: 0
A15: 臺南市 | B15: Tainan City | C15: 272 | D15: 89 | E15: 183 | F15: 0 | G15: 0 | H15: 83 | I15: 177 | J15: 0 | K15: 0 | L15: 5 | M15: 6 | N15: 0 | O15: 0 | P15: 0 | Q15: 0 | R15: 0 | S15: 0 | T15: 0 | U15: 0 | V15: 0 | W15: 0 | X15: 1 | Y15: 0 | Z15: 0 | AA15: 0 | AB15: 272 | AC15: 36 | AD15: 100 | AE15: 136 | AF15: 179 | AG15: 57 | AH15: 122 | AI15: 0 | AJ15: 0 | AK15: 272 | AL15: 89 | AM15: 183 | AN15: 0 | AO15: 0 | AP15: 4 | AQ15: 0 | AR15: 4 | AS15: 0 | AT15: 3 | AU15: 0 | AV15: 3 | AW15: 0 | AX15: 4 | AY15: 0 | AZ15: 4 | BA15: 0 | BB15: 2 | BC15: 0 | BD15: 2 | BE15: 0 | BF15: 0 | BG15: 0 | BH15: 0 | BI15: 0 | BJ15: 1 | BK15: 0 | BL15: 1 | BM15: 0 | BN15: 1 | BO15: 0 | BP15: 1 | BQ15: 0 | BR15: 2 | BS15: 0 | BT15: 2 | BU15: 0 | BV15: 0 | BW15: 0 | BX15: 0 | BY15: 0 | BZ15: 1 | CA15: 0 | CB15: 1 | CC15: 0 | CD15: 0 | CE15: 0 | CF15: 0 | CG15: 0 | CH15: 0 | CI15: 0 | CJ15: 0 | CK15: 0 | CL15: 1 | CM15: 0 | CN15: 1 | CO15: 0 | CP15: 0 | CQ15: 0 | CR15: 0 | CS15: 0
A16: 高雄市 | B16: Kaohsiung City | C16: 405 | D16: 142 | E16: 263 | F16: 0 | G16: 0 | H16: 138 | I16: 254 | J16: 0 | K16: 0 | L16: 3 | M16: 8 | N16: 0 | O16: 0 | P16: 0 | Q16: 0 | R16: 0 | S16: 0 | T16: 0 | U16: 1 | V16: 0 | W16: 0 | X16: 1 | Y16: 0 | Z16: 0 | AA16: 0 | AB16: 405 | AC16: 37 | AD16: 181 | AE16: 187 | AF16: 241 | AG16: 87 | AH16: 154 | AI16: 0 | AJ16: 0 | AK16: 405 | AL16: 142 | AM16: 263 | AN16: 0 | AO16: 0 | AP16: 11 | AQ16: 0 | AR16: 11 | AS16: 0 | AT16: 11 | AU16: 0 | AV16: 11 | AW16: 0 | AX16: 17 | AY16: 0 | AZ16: 17 | BA16: 0 | BB16: 0 | BC16: 0 | BD16: 0 | BE16: 0 | BF16: 0 | BG16: 0 | BH16: 0 | BI16: 0 | BJ16: 6 | BK16: 0 | BL16: 6 | BM16: 0 | BN16: 11 | BO16: 0 | BP16: 11 | BQ16: 0 | BR16: 0 | BS16: 0 | BT16: 0 | BU16: 0 | BV16: 0 | BW16: 0 | BX16: 0 | BY16: 0 | BZ16: 11 | CA16: 0 | CB16: 11 | CC16: 0 | CD16: 0 | CE16: 0 | CF16: 0 | CG16: 0 | CH16: 0 | CI16: 0 | CJ16: 0 | CK16: 0 | CL16: 6 | CM16: 0 | CN16: 6 | CO16: 0 | CP16: 0 | CQ16: 0 | CR16: 0 | CS16: 0
A17: 宜蘭縣 | B17: Yilan County | C17: 69 | D17: 17 | E17: 52 | F17: 0 | G17: 0 | H17: 17 | I17: 47 | J17: 0 | K17: 0 | L17: 0 | M17: 5 | N17: 0 | O17: 0 | P17: 0 | Q17: 0 | R17: 0 | S17: 0 | T17: 0 | U17: 0 | V17: 0 | W17: 0 | X17: 0 | Y17: 0 | Z17: 0 | AA17: 0 | AB17: 69 | AC17: 10 | AD17: 25 | AE17: 34 | AF17: 13 | AG17: 3 | AH17: 10 | AI17: 0 | AJ17: 0 | AK17: 69 | AL17: 17 | AM17: 52 | AN17: 0 | AO17: 0 | AP17: 0 | AQ17: 0 | AR17: 0 | AS17: 0 | AT17: 0 | AU17: 0 | AV17: 0 | AW17: 0 | AX17: 0 | AY17: 0 | AZ17: 0 | BA17: 0 | BB17: 0 | BC17: 0 | BD17: 0 | BE17: 0 | BF17: 0 | BG17: 0 | BH17: 0 | BI17: 0 | BJ17: 0 | BK17: 0 | BL17: 0 | BM17: 0 | BN17: 0 | BO17: 0 | BP17: 0 | BQ17: 0 | BR17: 0 | BS17: 0 | BT17: 0 | BU17: 0 | BV17: 0 | BW17: 0 | BX17: 0 | BY17: 0 | BZ17: 0 | CA17: 0 | CB17: 0 | CC17: 0 | CD17: 0 | CE17: 0 | CF17: 0 | CG17: 0 | CH17: 0 | CI17: 0 | CJ17: 0 | CK17: 0 | CL17: 0 | CM17: 0 | CN17: 0 | CO17: 0 | CP17: 0 | CQ17: 0 | CR17: 0 | CS17: 0
A18: 新竹縣 | B18: Hsinchu County | C18: 106 | D18: 44 | E18: 62 | F18: 0 | G18: 0 | H18: 33 | I18: 59 | J18: 0 | K18: 0 | L18: 10 | M18: 3 | N18: 0 | O18: 0 | P18: 0 | Q18: 0 | R18: 0 | S18: 0 | T18: 1 | U18: 0 | V18: 0 | W18: 0 | X18: 0 | Y18: 0 | Z18: 0 | AA18: 0 | AB18: 106 | AC18: 12 | AD18: 52 | AE18: 42 | AF18: 98 | AG18: 40 | AH18: 58 | AI18: 0 | AJ18: 0 | AK18: 106 | AL18: 44 | AM18: 62 | AN18: 0 | AO18: 0 | AP18: 4 | AQ18: 0 | AR18: 4 | AS18: 0 | AT18: 1 | AU18: 0 | AV18: 1 | AW18: 0 | AX18: 2 | AY18: 0 | AZ18: 2 | BA18: 0 | BB18: 1 | BC18: 0 | BD18: 1 | BE18: 0 | BF18: 0 | BG18: 0 | BH18: 0 | BI18: 0 | BJ18: 1 | BK18: 0 | BL18: 1 | BM18: 0 | BN18: 0 | BO18: 0 | BP18: 0 | BQ18: 0 | BR18: 1 | BS18: 0 | BT18: 1 | BU18: 0 | BV18: 0 | BW18: 0 | BX18: 0 | BY18: 0 | BZ18: 0 | CA18: 0 | CB18: 0 | CC18: 0 | CD18: 0 | CE18: 0 | CF18: 0 | CG18: 0 | CH18: 0 | CI18: 0 | CJ18: 0 | CK18: 0 | CL18: 1 | CM18: 0 | CN18: 1 | CO18: 0 | CP18: 0 | CQ18: 0 | CR18: 0 | CS18: 0
A19: 苗栗縣 | B19: Miaoli County | C19: 69 | D19: 20 | E19: 49 | F19: 0 | G19: 0 | H19: 19 | I19: 48 | J19: 0 | K19: 0 | L19: 1 | M19: 1 | N19: 0 | O19: 0 | P19: 0 | Q19: 0 | R19: 0 | S19: 0 | T19: 0 | U19: 0 | V19: 0 | W19: 0 | X19: 0 | Y19: 0 | Z19: 0 | AA19: 0 | AB19: 69 | AC19: 4 | AD19: 32 | AE19: 33 | AF19: 51 | AG19: 14 | AH19: 37 | AI19: 0 | AJ19: 0 | AK19: 69 | AL19: 20 | AM19: 49 | AN19: 0 | AO19: 0 | AP19: 1 | AQ19: 0 | AR19: 1 | AS19: 0 | AT19: 1 | AU19: 0 | AV19: 1 | AW19: 0 | AX19: 1 | AY19: 0 | AZ19: 1 | BA19: 0 | BB19: 0 | BC19: 0 | BD19: 0 | BE19: 0 | BF19: 0 | BG19: 0 | BH19: 0 | BI19: 0 | BJ19: 0 | BK19: 0 | BL19: 0 | BM19: 0 | BN19: 1 | BO19: 0 | BP19: 1 | BQ19: 0 | BR19: 0 | BS19: 0 | BT19: 0 | BU19: 0 | BV19: 0 | BW19: 0 | BX19: 0 | BY19: 0 | BZ19: 1 | CA19: 0 | CB19: 1 | CC19: 0 | CD19: 0 | CE19: 0 | CF19: 0 | CG19: 0 | CH19: 0 | CI19: 0 | CJ19: 0 | CK19: 0 | CL19: 0 | CM19: 0 | CN19: 0 | CO19: 0 | CP19: 0 | CQ19: 0 | CR19: 0 | CS19: 0
A20: 彰化縣 | B20: Changhua County | C20: 201 | D20: 77 | E20: 124 | F20: 0 | G20: 0 | H20: 75 | I20: 119 | J20: 0 | K20: 0 | L20: 1 | M20: 4 | N20: 0 | O20: 0 | P20: 0 | Q20: 0 | R20: 0 | S20: 0 | T20: 0 | U20: 0 | V20: 0 | W20: 0 | X20: 1 | Y20: 1 | Z20: 0 | AA20: 0 | AB20: 201 | AC20: 19 | AD20: 75 | AE20: 107 | AF20: 176 | AG20: 74 | AH20: 102 | AI20: 0 | AJ20: 0 | AK20: 201 | AL20: 76 | AM20: 125 | AN20: 0 | AO20: 0 | AP20: 4 | AQ20: 0 | AR20: 4 | AS20: 0 | AT20: 4 | AU20: 0 | AV20: 4 | AW20: 0 | AX20: 7 | AY20: 0 | AZ20: 7 | BA20: 0 | BB20: 4 | BC20: 0 | BD20: 4 | BE20: 0 | BF20: 2 | BG20: 0 | BH20: 2 | BI20: 0 | BJ20: 0 | BK20: 0 | BL20: 0 | BM20: 0 | BN20: 1 | BO20: 0 | BP20: 1 | BQ20: 0 | BR20: 3 | BS20: 0 | BT20: 3 | BU20: 0 | BV20: 1 | BW20: 0 | BX20: 1 | BY20: 0 | BZ20: 0 | CA20: 0 | CB20: 0 | CC20: 0 | CD20: 1 | CE20: 0 | CF20: 1 | CG20: 0 | CH20: 1 | CI20: 0 | CJ20: 1 | CK20: 0 | CL20: 0 | CM20: 0 | CN20: 0 | CO20: 0 | CP20: 1 | CQ20: 0 | CR20: 1 | CS20: 0
A21: 南投縣 | B21: Nantou County | C21: 78 | D21: 31 | E21: 47 | F21: 0 | G21: 0 | H21: 26 | I21: 40 | J21: 0 | K21: 0 | L21: 5 | M21: 7 | N21: 0 | O21: 0 | P21: 0 | Q21: 0 | R21: 0 | S21: 0 | T21: 0 | U21: 0 | V21: 0 | W21: 0 | X21: 0 | Y21: 0 | Z21: 0 | AA21: 0 | AB21: 78 | AC21: 10 | AD21: 35 | AE21: 33 | AF21: 37 | AG21: 15 | AH21: 22 | AI21: 0 | AJ21: 0 | AK21: 78 | AL21: 31 | AM21: 47 | AN21: 0 | AO21: 0 | AP21: 0 | AQ21: 0 | AR21: 0 | AS21: 0 | AT21: 0 | AU21: 0 | AV21: 0 | AW21: 0 | AX21: 0 | AY21: 0 | AZ21: 0 | BA21: 0 | BB21: 0 | BC21: 0 | BD21: 0 | BE21: 0 | BF21: 0 | BG21: 0 | BH21: 0 | BI21: 0 | BJ21: 0 | BK21: 0 | BL21: 0 | BM21: 0 | BN21: 0 | BO21: 0 | BP21: 0 | BQ21: 0 | BR21: 0 | BS21: 0 | BT21: 0 | BU21: 0 | BV21: 0 | BW21: 0 | BX21: 0 | BY21: 0 | BZ21: 0 | CA21: 0 | CB21: 0 | CC21: 0 | CD21: 0 | CE21: 0 | CF21: 0 | CG21: 0 | CH21: 0 | CI21: 0 | CJ21: 0 | CK21: 0 | CL21: 0 | CM21: 0 | CN21: 0 | CO21: 0 | CP21: 0 | CQ21: 0 | CR21: 0 | CS21: 0
A22: 雲林縣 | B22: Yunlin County | C22: 57 | D22: 25 | E22: 32 | F22: 0 | G22: 0 | H22: 25 | I22: 32 | J22: 0 | K22: 0 | L22: 0 | M22: 0 | N22: 0 | O22: 0 | P22: 0 | Q22: 0 | R22: 0 | S22: 0 | T22: 0 | U22: 0 | V22: 0 | W22: 0 | X22: 0 | Y22: 0 | Z22: 0 | AA22: 0 | AB22: 57 | AC22: 7 | AD22: 22 | AE22: 28 | AF22: 46 | AG22: 20 | AH22: 26 | AI22: 0 | AJ22: 0 | AK22: 57 | AL22: 25 | AM22: 32 | AN22: 0 | AO22: 0 | AP22: 0 | AQ22: 0 | AR22: 0 | AS22: 0 | AT22: 0 | AU22: 0 | AV22: 0 | AW22: 0 | AX22: 0 | AY22: 0 | AZ22: 0 | BA22: 0 | BB22: 0 | BC22: 0 | BD22: 0 | BE22: 0 | BF22: 0 | BG22: 0 | BH22: 0 | BI22: 0 | BJ22: 0 | BK22: 0 | BL22: 0 | BM22: 0 | BN22: 0 | BO22: 0 | BP22: 0 | BQ22: 0 | BR22: 0 | BS22: 0 | BT22: 0 | BU22: 0 | BV22: 0 | BW22: 0 | BX22: 0 | BY22: 0 | BZ22: 0 | CA22: 0 | CB22: 0 | CC22: 0 | CD22: 0 | CE22: 0 | CF22: 0 | CG22: 0 | CH22: 0 | CI22: 0 | CJ22: 0 | CK22: 0 | CL22: 0 | CM22: 0 | CN22: 0 | CO22: 0 | CP22: 0 | CQ22: 0 | CR22: 0 | CS22: 0
... A32: 連江縣 | B32: Lienchiang County | C32: 1 | D32: 0 | E32: 1 | F32: 0 | G32: 0 | H32: 0 | I32: 1 | J32: 0 | K32: 0 | L32: 0 | M32: 0 | N32: 0 | O32: 0 | P32: 0 | Q32: 0 | R32: 0 | S32: 0 | T32: 0 | U32: 0 | V32: 0 | W32: 0 | X32: 0 | Y32: 0 | Z32: 0 | AA32: 0 | AB32: 1 | AC32: 0 | AD32: 0 | AE32: 1 | AF32: 1 | AG32: 0 | AH32: 1 | AI32: 0 | AJ32: 0 | AK32: 1 | AL32: 0 | AM32: 1 | AN32: 0 | AO32: 0 | AP32: 0 | AQ32: 0 | AR32: 0 | AS32: 0 | AT32: 0 | AU32: 0 | AV32: 0 | AW32: 0 | AX32: 1 | AY32: 0 | AZ32: 1 | BA32: 0 | BB32: 0 | BC32: 0 | BD32: 0 | BE32: 0 | BF32: 0 | BG32: 0 | BH32: 0 | BI32: 0 | BJ32: 1 | BK32: 0 | BL32: 1 | BM32: 0 | BN32: 0 | BO32: 0 | BP32: 0 | BQ32: 0 | BR32: 0 | BS32: 0 | BT32: 0 | BU32: 0 | BV32: 0 | BW32: 0 | BX32: 0 | BY32: 0 | BZ32: 0 | CA32: 0 | CB32: 0 | CC32: 0 | CD32: 0 | CE32: 0 | CF32: 0 | CG32: 0 | CH32: 0 | CI32: 0 | CJ32: 0 | CK32: 0 | CL32: 1 | CM32: 0 | CN32: 1 | CO32: 0 | CP32: 0 | CQ32: 0 | CR32: 0 | CS32: 0
A33: 資料來源：直轄市、縣﹝市﹞政府。
A34: Source : County and City Government.

Sheet 112
A1: 兒童及少年性剝削案件安置情形
A3: 民國112年, 2023
A4: 區域別 Locality | C4: 受理通報(報告)人數(人) | AF4: 派員陪同偵訊個案數(件) | AK4: 評估處理情形(件) | AP4: 緊急安置數(人) | AT4: 緊急安置個案向法院聲請第一次裁定數(人) | AX4: 入住人數(人次) Number of Persons Being Admitted
C5: 合計 | H5: 本國籍 Nationals | P5: 大陸籍 | T5: 外國籍 | X5: 其他 | AB5: 按年齡分 By Age | AX5: 總計Total | BR5: 依第一次裁定結果繼續安置Continued Placement According to the Results of First Ruling | CD5: 依第二次裁定結果安置Placement According to the Results of Second Ruling
H6: 一般 | L6: 原住民 | AF6: Cases Of Accompanying For Court | AK6: Status Of Victim Evaluation | AP6: Number Of Victims Under Emergency Placement | AT6: Number of Victims under Emergency Placement Who Apply to the Court for First Ruling | AX6: 合計Total | BB6: 兒童及少年福利機構 | BF6: 寄養家庭 | BJ6: 中途學校 | BN6: 其他適當之醫療、教育機構 | BR6: 兒童及少年福利機構 | BV6: 寄養家庭 | BZ6: 其他適當之醫療、教育機構 | CD6: 兒童及少年福利機構 | CH6: 寄養家庭 | CL6: 中途學校 | CP6: 其他適當之醫療、教育機構
C7: Total | H7: General | L7: Aborigines | P7: Mainlanders | T7: Foreigners | X7: Others | BB7: Child and Youth Welfare Institutions | BF7: Fostering Families | BJ7: Midway School | BN7: Other Appropriate Medical and Educational Institutions | BR7: Child and Youth Welfare Institutions | BV7: Fostering Families | BZ7: Other Appropriate Medical and Educational Institutions | CD7: Child and Youth Welfare Institutions | CH7: Fostering Families | CL7: Midway School | CP7: Other Appropriate Medical and Educational Institutions
C8: 計 | D8: 男 | E8: 女 | F8: 其他 | G8: 不詳 | H8: 男 | I8: 女 | J8: 其他 | K8: 不詳 | L8: 男 | M8: 女 | N8: 其他 | O8: 不詳 | P8: 男 | Q8: 女 | R8: 其他 | S8: 不詳 | T8: 男 | U8: 女 | V8: 其他 | W8: 不詳 | X8: 男 | Y8: 女 | Z8: 其他 | AA8: 不詳 | AB8: 合計 | AC8: 未滿12歲 | AD8: 12-未滿15歲 | AE8: 15-未滿18歲 | AF8: 計 | AG8: 男 | AH8: 女 | AI8: 其他 | AJ8: 不詳 | AK8: 計 | AL8: 男 | AM8: 女 | AN8: 其他 | AO8: 不詳 | AP8: 計 | AQ8: 男 | AR8: 女 | AS8: 其他 | AT8: 計 | AU8: 男 | AV8: 女 | AW8: 其他 | AX8: 計 | AY8: 男 | AZ8: 女 | BA8: 其他 | BB8: 計 | BC8: 男 | BD8: 女 | BE8: 其他 | BF8: 計 | BG8: 男 | BH8: 女 | BI8: 其他 | BJ8: 計 | BK8: 男 | BL8: 女 | BM8: 其他 | BN8: 計 | BO8: 男 | BP8: 女 | BQ8: 其他 | BR8: 計 | BS8: 男 | BT8: 女 | BU8: 其他 | BV8: 計 | BW8: 男 | BX8: 女 | BY8: 其他 | BZ8: 計 | CA8: 男 | CB8: 女 | CC8: 其他 | CD8: 計 | CE8: 男 | CF8: 女 | CG8: 其他 | CH8: 計 | CI8: 男 | CJ8: 女 | CK8: 其他 | CL8: 計 | CM8: 男 | CN8: 女 | CO8: 其他 | CP8: 計 | CQ8: 男 | CR8: 女 | CS8: 其他
C9: Sub-Total | D9: Male | E9: Female | F9: Other | G9: Unknown | H9: Male | I9: Female | J9: Other | K9: Unknown | L9: Male | M9: Female | N9: Other | O9: Unknown | P9: Male | Q9: Female | R9: Other | S9: Unknown | T9: Male | U9: Female | V9: Other | W9: Unknown | X9: Male | Y9: Female | Z9: Other | AA9: Unknown | AB9: Total | AC9: Under 12 Years | AD9: 12-Under 15 Years | AE9: 15-Under 18 Years | AF9: Sub-Total | AG9: Male | AH9: Female | AI9: Other | AJ9: Unknown | AK9: Sub-Total | AL9: Male | AM9: Female | AN9: Other | AO9: Unknown | AP9: Sub-Total | AQ9: Male | AR9: Female | AS9: Other | AT9: Sub-Total | AU9: Male | AV9: Female | AW9: Other | AX9: Sub-Total | AY9: Male | AZ9: Female | BA9: Other | BB9: Sub-Total | BC9: Male | BD9: Female | BE9: Other | BF9: Sub-Total | BG9: Male | BH9: Female | BI9: Other | BJ9: Sub-Total | BK9: Male | BL9: Female | BM9: Other | BN9: Sub-Total | BO9: Male | BP9: Female | BQ9: Other | BR9: Sub-Total | BS9: Male | BT9: Female | BU9: Other | BV9: Sub-Total | BW9: Male | BX9: Female | BY9: Other | BZ9: Sub-Total | CA9: Male | CB9: Female | CC9: Other | CD9: Sub-Total | CE9: Male | CF9: Female | CG9: Other | CH9: Sub-Total | CI9: Male | CJ9: Female | CK9: Other | CL9: Sub-Total | CM9: Male | CN9: Female | CO9: Other | CP9: Sub-Total | CQ9: Male | CR9: Female | CS9: Other
A10: 總計 Total | C10: 3354 | D10: 1027 | E10: 2327 | F10: 0 | G10: 0 | H10: 956 | I10: 2134 | J10: 0 | K10: 0 | L10: 70 | M10: 182 | N10: 0 | O10: 0 | P10: 0 | Q10: 5 | R10: 0 | S10: 0 | T10: 0 | U10: 5 | V10: 0 | W10: 0 | X10: 1 | Y10: 1 | Z10: 0 | AA10: 0 | AB10: 3354 | AC10: 352 | AD10: 1328 | AE10: 1674 | AF10: 1982 | AG10: 635 | AH10: 1340 | AI10: 7 | AJ10: 0 | AK10: 3354 | AL10: 1027 | AM10: 2327 | AN10: 0 | AO10: 0 | AP10: 106 | AQ10: 2 | AR10: 104 | AS10: 0 | AT10: 80 | AU10: 0 | AV10: 80 | AW10: 0 | AX10: 141 | AY10: 0 | AZ10: 141 | BA10: 0 | BB10: 95 | BC10: 0 | BD10: 95 | BE10: 0 | BF10: 2 | BG10: 0 | BH10: 2 | BI10: 0 | BJ10: 26 | BK10: 0 | BL10: 26 | BM10: 0 | BN10: 18 | BO10: 0 | BP10: 18 | BQ10: 0 | BR10: 58 | BS10: 0 | BT10: 58 | BU10: 0 | BV10: 1 | BW10: 0 | BX10: 1 | BY10: 0 | BZ10: 16 | CA10: 0 | CB10: 16 | CC10: 0 | CD10: 37 | CE10: 0 | CF10: 37 | CG10: 0 | CH10: 1 | CI10: 0 | CJ10: 1 | CK10: 0 | CL10: 26 | CM10: 0 | CN10: 26 | CO10: 0 | CP10: 2 | CQ10: 0 | CR10: 2 | CS10: 0
A11: 新北市 | B11: New Taipei City | C11: 583 | D11: 149 | E11: 434 | F11: 0 | G11: 0 | H11: 141 | I11: 411 | J11: 0 | K11: 0 | L11: 8 | M11: 19 | N11: 0 | O11: 0 | P11: 0 | Q11: 1 | R11: 0 | S11: 0 | T11: 0 | U11: 2 | V11: 0 | W11: 0 | X11: 0 | Y11: 1 | Z11: 0 | AA11: 0 | AB11: 583 | AC11: 62 | AD11: 238 | AE11: 283 | AF11: 331 | AG11: 84 | AH11: 247 | AI11: 0 | AJ11: 0 | AK11: 583 | AL11: 149 | AM11: 434 | AN11: 0 | AO11: 0 | AP11: 9 | AQ11: 0 | AR11: 9 | AS11: 0 | AT11: 7 | AU11: 0 | AV11: 7 | AW11: 0 | AX11: 12 | AY11: 0 | AZ11: 12 | BA11: 0 | BB11: 8 | BC11: 0 | BD11: 8 | BE11: 0 | BF11: 0 | BG11: 0 | BH11: 0 | BI11: 0 | BJ11: 3 | BK11: 0 | BL11: 3 | BM11: 0 | BN11: 1 | BO11: 0 | BP11: 1 | BQ11: 0 | BR11: 7 | BS11: 0 | BT11: 7 | BU11: 0 | BV11: 0 | BW11: 0 | BX11: 0 | BY11: 0 | BZ11: 0 | CA11: 0 | CB11: 0 | CC11: 0 | CD11: 1 | CE11: 0 | CF11: 1 | CG11: 0 | CH11: 0 | CI11: 0 | CJ11: 0 | CK11: 0 | CL11: 3 | CM11: 0 | CN11: 3 | CO11: 0 | CP11: 1 | CQ11: 0 | CR11: 1 | CS11: 0
A12: 臺北市 | B12: Taipei City | C12: 255 | D12: 79 | E12: 176 | F12: 0 | G12: 0 | H12: 79 | I12: 169 | J12: 0 | K12: 0 | L12: 0 | M12: 7 | N12: 0 | O12: 0 | P12: 0 | Q12: 0 | R12: 0 | S12: 0 | T12: 0 | U12: 0 | V12: 0 | W12: 0 | X12: 0 | Y12: 0 | Z12: 0 | AA12: 0 | AB12: 255 | AC12: 15 | AD12: 82 | AE12: 158 | AF12: 178 | AG12: 50 | AH12: 128 | AI12: 0 | AJ12: 0 | AK12: 255 | AL12: 79 | AM12: 176 | AN12: 0 | AO12: 0 | AP12: 6 | AQ12: 0 | AR12: 6 | AS12: 0 | AT12: 4 | AU12: 0 | AV12: 4 | AW12: 0 | AX12: 7 | AY12: 0 | AZ12: 7 | BA12: 0 | BB12: 7 | BC12: 0 | BD12: 7 | BE12: 0 | BF12: 0 | BG12: 0 | BH12: 0 | BI12: 0 | BJ12: 0 | BK12: 0 | BL12: 0 | BM12: 0 | BN12: 0 | BO12: 0 | BP12: 0 | BQ12: 0 | BR12: 4 | BS12: 0 | BT12: 4 | BU12: 0 | BV12: 0 | BW12: 0 | BX12: 0 | BY12: 0 | BZ12: 0 | CA12: 0 | CB12: 0 | CC12: 0 | CD12: 3 | CE12: 0 | CF12: 3 | CG12: 0 | CH12: 0 | CI12: 0 | CJ12: 0 | CK12: 0 | CL12: 0 | CM12: 0 | CN12: 0 | CO12: 0 | CP12: 0 | CQ12: 0 | CR12: 0 | CS12: 0
A13: 桃園市 | B13: Taoyuan City | C13: 289 | D13: 77 | E13: 212 | F13: 0 | G13: 0 | H13: 69 | I13: 194 | J13: 0 | K13: 0 | L13: 8 | M13: 17 | N13: 0 | O13: 0 | P13: 0 | Q13: 1 | R13: 0 | S13: 0 | T13: 0 | U13: 0 | V13: 0 | W13: 0 | X13: 0 | Y13: 0 | Z13: 0 | AA13: 0 | AB13: 289 | AC13: 24 | AD13: 121 | AE13: 144 | AF13: 198 | AG13: 48 | AH13: 150 | AI13: 0 | AJ13: 0 | AK13: 289 | AL13: 77 | AM13: 212 | AN13: 0 | AO13: 0 | AP13: 18 | AQ13: 0 | AR13: 18 | AS13: 0 | AT13: 18 | AU13: 0 | AV13: 18 | AW13: 0 | AX13: 35 | AY13: 0 | AZ13: 35 | BA13: 0 | BB13: 27 | BC13: 0 | BD13: 27 | BE13: 0 | BF13: 0 | BG13: 0 | BH13: 0 | BI13: 0 | BJ13: 7 | BK13: 0 | BL13: 7 | BM13: 0 | BN13: 1 | BO13: 0 | BP13: 1 | BQ13: 0 | BR13: 16 | BS13: 0 | BT13: 16 | BU13: 0 | BV13: 0 | BW13: 0 | BX13: 0 | BY13: 0 | BZ13: 0 | CA13: 0 | CB13: 0 | CC13: 0 | CD13: 11 | CE13: 0 | CF13: 11 | CG13: 0 | CH13: 0 | CI13: 0 | CJ13: 0 | CK13: 0 | CL13: 7 | CM13: 0 | CN13: 7 | CO13: 0 | CP13: 1 | CQ13: 0 | CR13: 1 | CS13: 0
