Workbook

Sheet 歷年
A1: 兒童及少年性剝削案件安置情形
A4: 年別 Year | C4: 受理通報(報告)人數(人) | T4: 派員陪同偵訊個案數(人) | W4: 被害人24小時評估處理(人) | Z4: 緊急安置數(人) | AC4: 緊急安置個案向法院聲請第一次裁定數(人) | AF4: 入住人數(人次) Number of Persons Being Admitted (Person-times)
C5: 合計 | F5: 本國籍 Nationals | J5: 大陸籍 | L5: 外國籍 | N5: 其他 | P5: 按年齡分 By Age | AF5: 總計Total | AU5: 依第一次裁定結果繼續安置Continued Placement According to the Results of First Ruling | BD5: 依第二次裁定結果安置Placement According to the Results of Second Ruling
F6: 一般 | H6: 原住民 | T6: Cases Of Accompanying For Court | W6: Status Of Victim Evaluation Within 24 Hours | Z6: Number Of Victims Under Emergency Placement | AC6: Number of Victims under Emergency Placement Who Apply to the Court for First Ruling | AF6: 合計Total | AI6: 兒童及少年福利機構 | AL6: 寄養家庭 | AO6: 中途學校 | AR6: 其他適當之醫療、教育機構 | AU6: 兒童及少年福利機構 | AX6: 寄養家庭 | BA6: 其他適當之醫療、教育機構 | BD6: 兒童及少年福利機構 | BG6: 寄養家庭 | BJ6: 中途學校 | BM6: 其他適當之醫療、教育機構
C7: Total | F7: General | H7: Aborigines | J7: Mainlanders | L7: Foreigners | N7: Others | AI7: Child and Youth Welfare Institutions | AL7: Fostering Families | AO7: Midway School | AR7: Other Appropriate Medical and Educational Institutions | AU7: Child and Youth Welfare Institutions | AX7: Fostering Families | BA7: Other Appropriate Medical and Educational Institutions | BD7: Child and Youth Welfare Institutions | BG7: Fostering Families | BJ7: Midway School | BM7: Other Appropriate Medical and Educational Institutions
C8: 計 | D8: 男 | E8: 女 | F8: 男 | G8: 女 | H8: 男 | I8: 女 | J8: 男 | K8: 女 | L8: 男 | M8: 女 | N8: 男 | O8: 女 | P8: 合計 | Q8: 未滿12歲 | R8: 12-未滿15歲 | S8: 15-未滿18歲 | T8: 計 | U8: 男 | V8: 女 | W8: 計 | X8: 男 | Y8: 女 | Z8: 計 | AA8: 男 | AB8: 女 | AC8: 計 | AD8: 男 | AE8: 女 | AF8: 計 | AG8: 男 | AH8: 女 | AI8: 計 | AJ8: 男 | AK8: 女 | AL8: 計 | AM8: 男 | AN8: 女 | AO8: 計 | AP8: 男 | AQ8: 女 | AR8: 計 | AS8: 男 | AT8: 女 | AU8: 計 | AV8: 男 | AW8: 女 | AX8: 計 | AY8: 男 | AZ8: 女 | BA8: 計 | BB8: 男 | BC8: 女 | BD8: 計 | BE8: 男 | BF8: 女 | BG8: 計 | BH8: 男 | BI8: 女 | BJ8: 計 | BK8: 男 | BL8: 女 | BM8: 計 | BN8: 男 | BO8: 女
C9: Sub-Total | D9: Male | E9: Female | F9: Male | G9: Female | H9: Male | I9: Female | J9: Male | K9: Female | L9: Male | M9: Female | N9: Male | O9: Female | P9: Total | Q9: Under 12 Years | R9: 12-Under 15 Years | S9: 15-Under 18 Years | T9: Sub-Total | U9: Male | V9: Female | W9: Sub-Total | X9: Male | Y9: Female | Z9: Sub-Total | AA9: Male | AB9: Female | AC9: Sub-Total | AD9: Male | AE9: Female | AF9: Sub-Total | AG9: Male | AH9: Female | AI9: Sub-Total | AJ9: Male | AK9: Female | AL9: Sub-Total | AM9: Male | AN9: Female | AO9: Sub-Total | AP9: Male | AQ9: Female | AR9: Sub-Total | AS9: Male | AT9: Female | AU9: Sub-Total | AV9: Male | AW9: Female | AX9: Sub-Total | AY9: Male | AZ9: Female | BA9: Sub-Total | BB9: Male | BC9: Female | BD9: Sub-Total | BE9: Male | BF9: Female | BG9: Sub-Total | BH9: Male | BI9: Female | BJ9: Sub-Total | BK9: Male | BL9: Female | BM9: Sub-Total | BN9: Male | BO9: Female
A10: 106年 2017 | C10: 1060 | D10: 139 | E10: 921 | F10: 130 | G10: 854 | H10: 8 | I10: 55 | J10: 0 | K10: 0 | L10: 0 | M10: 2 | N10: 1 | O10: 10 | P10: 1060 | Q10: 59 | R10: 444 | S10: 557 | T10: 533 | U10: 69 | V10: 464 | W10: 798 | X10: 108 | Y10: 690 | Z10: 158 | AA10: 7 | AB10: 151 | AC10: 154 | AD10: 7 | AE10: 147 | AF10: 245 | AG10: 10 | AH10: 235 | AI10: 164 | AJ10: 8 | AK10: 156 | AL10: 0 | AM10: 0 | AN10: 0 | AO10: 50 | AP10: 0 | AQ10: 50 | AR10: 31 | AS10: 2 | AT10: 29 | AU10: 126 | AV10: 5 | AW10: 121 | AX10: 0 | AY10: 0 | AZ10: 0 | BA10: 27 | BB10: 2 | BC10: 25 | BD10: 38 | BE10: 3 | BF10: 35 | BG10: 0 | BH10: 0 | BI10: 0 | BJ10: 50 | BK10: 0 | BL10: 50 | BM10: 4 | BN10: 0 | BO10: 4
A11: 107年 2018 | C11: 1060 | D11: 109 | E11: 951 | F11: 101 | G11: 870 | H11: 4 | I11: 62 | J11: 0 | K11: 0 | L11: 0 | M11: 7 | N11: 4 | O11: 12 | P11: 1060 | Q11: 74 | R11: 378 | S11: 608 | T11: 456 | U11: 27 | V11: 429 | W11: 729 | X11: 75 | Y11: 654 | Z11: 138 | AA11: 3 | AB11: 135 | AC11: 136 | AD11: 3 | AE11: 133 | AF11: 224 | AG11: 3 | AH11: 221 | AI11: 152 | AJ11: 3 | AK11: 149 | AL11: 0 | AM11: 0 | AN11: 0 | AO11: 53 | AP11: 0 | AQ11: 53 | AR11: 19 | AS11: 0 | AT11: 19 | AU11: 106 | AV11: 2 | AW11: 104 | AX11: 0 | AY11: 0 | AZ11: 0 | BA11: 19 | BB11: 0 | BC11: 19 | BD11: 46 | BE11: 1 | BF11: 45 | BG11: 0 | BH11: 0 | BI11: 0 | BJ11: 53 | BK11: 0 | BL11: 53 | BM11: 0 | BN11: 0 | BO11: 0
A12: 108年 2019 | C12: 1211 | D12: 187 | E12: 1024 | F12: 172 | G12: 962 | H12: 15 | I12: 51 | J12: 0 | K12: 0 | L12: 0 | M12: 9 | N12: 0 | O12: 2 | P12: 1211 | Q12: 78 | R12: 510 | S12: 623 | T12: 714 | U12: 73 | V12: 641 | W12: 1134 | X12: 171 | Y12: 963 | Z12: 118 | AA12: 2 | AB12: 116 | AC12: 119 | AD12: 2 | AE12: 117 | AF12: 234 | AG12: 3 | AH12: 231 | AI12: 160 | AJ12: 2 | AK12: 158 | AL12: 1 | AM12: 0 | AN12: 1 | AO12: 59 | AP12: 0 | AQ12: 59 | AR12: 14 | AS12: 1 | AT12: 13 | AU12: 104 | AV12: 1 | AW12: 103 | AX12: 1 | AY12: 0 | AZ12: 1 | BA12: 14 | BB12: 1 | BC12: 13 | BD12: 56 | BE12: 1 | BF12: 55 | BG12: 0 | BH12: 0 | BI12: 0 | BJ12: 59 | BK12: 0 | BL12: 59 | BM12: 0 | BN12: 0 | BO12: 0
A14: 年別 Year | C14: 受理通報(報告)人數(人) | T14: 派員陪同偵訊個案數(件) | W14: 評估處理情形(件) | Z14: 緊急安置數(人) | AC14: 緊急安置個案向法院聲請第一次裁定數(人) | AF14: 入住人數(人次) Number of Persons Being Admitted
C15: 合計 | F15: 本國籍 Nationals | J15: 大陸籍 | L15: 外國籍 | N15: 其他 | P15: 按年齡分 By Age | AF15: 總計Total | AU15: 依第一次裁定結果繼續安置Continued Placement According to the Results of First Ruling | BD15: 依第二次裁定結果安置Placement According to the Results of Second Ruling
F16: 一般 | H16: 原住民 | T16: Cases Of Accompanying For Court | W16: Status Of Victim Evaluation | Z16: Number Of Victims Under Emergency Placement | AC16: Number of Victims under Emergency Placement Who Apply to the Court for First Ruling | AF16: 合計Total | AI16: 兒童及少年福利機構 | AL16: 寄養家庭 | AO16: 中途學校 | AR16: 其他適當之醫療、教育機構 | AU16: 兒童及少年福利機構 | AX16: 寄養家庭 | BA16: 其他適當之醫療、教育機構 | BD16: 兒童及少年福利機構 | BG16: 寄養家庭 | BJ16: 中途學校 | BM16: 其他適當之醫療、教育機構
C17: Total | F17: General | H17: Aborigines | J17: Mainlanders | L17: Foreigners | N17: Others | AI17: Child and Youth Welfare Institutions | AL17: Fostering Families | AO17: Midway School | AR17: Other Appropriate Medical and Educational Institutions | AU17: Child and Youth Welfare Institutions | AX17: Fostering Families | BA17: Other Appropriate Medical and Educational Institutions | BD17: Child and Youth Welfare Institutions | BG17: Fostering Families | BJ17: Midway School | BM17: Other Appropriate Medical and Educational Institutions
C18: 計 | D18: 男 | E18: 女 | F18: 男 | G18: 女 | H18: 男 | I18: 女 | J18: 男 | K18: 女 | L18: 男 | M18: 女 | N18: 男 | O18: 女 | P18: 合計 | Q18: 未滿12歲 | R18: 12-未滿15歲 | S18: 15-未滿18歲 | T18: 計 | U18: 男 | V18: 女 | W18: 計 | X18: 男 | Y18: 女 | Z18: 計 | AA18: 男 | AB18: 女 | AC18: 計 | AD18: 男 | AE18: 女 | AF18: 計 | AG18: 男 | AH18: 女 | AI18: 計 | AJ18: 男 | AK18: 女 | AL18: 計 | AM18: 男 | AN18: 女 | AO18: 計 | AP18: 男 | AQ18: 女 | AR18: 計 | AS18: 男 | AT18: 女 | AU18: 計 | AV18: 男 | AW18: 女 | AX18: 計 | AY18: 男 | AZ18: 女 | BA18: 計 | BB18: 男 | BC18: 女 | BD18: 計 | BE18: 男 | BF18: 女 | BG18: 計 | BH18: 男 | BI18: 女 | BJ18: 計 | BK18: 男 | BL18: 女 | BM18: 計 | BN18: 男 | BO18: 女
C19: Sub-Total | D19: Male | E19: Female | F19: Male | G19: Female | H19: Male | I19: Female | J19: Male | K19: Female | L19: Male | M19: Female | N19: Male | O19: Female | P19: Total | Q19: Under 12 Years | R19: 12-Under 15 Years | S19: 15-Under 18 Years | T19: Sub-Total | U19: Male | V19: Female | W19: Sub-Total | X19: Male | Y19: Female | Z19: Sub-Total | AA19: Male | AB19: Female | AC19: Sub-Total | AD19: Male | AE19: Female | AF19: Sub-Total | AG19: Male | AH19: Female | AI19: Sub-Total | AJ19: Male | AK19: Female | AL19: Sub-Total | AM19: Male | AN19: Female | AO19: Sub-Total | AP19: Male | AQ19: Female | AR19: Sub-Total | AS19: Male | AT19: Female | AU19: Sub-Total | AV19: Male | AW19: Female | AX19: Sub-Total | AY19: Male | AZ19: Female | BA19: Sub-Total | BB19: Male | BC19: Female | BD19: Sub-Total | BE19: Male | BF19: Female | BG19: Sub-Total | BH19: Male | BI19: Female | BJ19: Sub-Total | BK19: Male | BL19: Female | BM19: Sub-Total | BN19: Male | BO19: Female
A20: 109年 2020 | C20: 1691 | D20: 475 | E20: 1216 | F20: 440 | G20: 1131 | H20: 31 | I20: 78 | J20: 2 | K20: 1 | L20: 0 | M20: 4 | N20: 2 | O20: 2 | P20: 1691 | Q20: 153 | R20: 757 | S20: 781 | T20: 970 | U20: 242 | V20: 728 | W20: 1696 | X20: 478 | Y20: 1218 | Z20: 112 | AA20: 3 | AB20: 109 | AC20: 100 | AD20: 2 | AE20: 98 | AF20: 178 | AG20: 2 | AH20: 176 | AI20: 127 | AJ20: 2 | AK20: 125 | AL20: 0 | AM20: 0 | AN20: 0 | AO20: 34 | AP20: 0 | AQ20: 34 | AR20: 17 | AS20: 0 | AT20: 17 | AU20: 79 | AV20: 2 | AW20: 77 | AX20: 0 | AY20: 0 | AZ20: 0 | BA20: 17 | BB20: 0 | BC20: 17 | BD20: 48 | BE20: 0 | BF20: 48 | BG20: 0 | BH20: 0 | BI20: 0 | BJ20: 34 | BK20: 0 | BL20: 34 | BM20: 0 | BN20: 0 | BO20: 0
A22: 年別 Year | C22: 受理通報(報告)人數(人) | AF22: 派員陪同偵訊個案數(件) | AK22: 評估處理情形(件) | AP22: 緊急安置數(人) | AT22: 緊急安置個案向法院聲請第一次裁定數(人) | AX22: 入住人數(人次) Number of Persons Being Admitted
C23: 合計 | H23: 本國籍 Nationals | P23: 大陸籍 | T23: 外國籍 | X23: 其他 | AB23: 按年齡分 By Age | AX23: 總計Total | BR23: 依第一次裁定結果繼續安置Continued Placement According to the Results of First Ruling | CD23: 依第二次裁定結果安置Placement According to the Results of Second Ruling
H24: 一般 | L24: 原住民 | AF24: Cases Of Accompanying For Court | AK24: Status Of Victim Evaluation | AP24: Number Of Victims Under Emergency Placement | AT24: Number of Victims under Emergency Placement Who Apply to the Court for First Ruling | AX24: 合計Total | BB24: 兒童及少年福利機構 | BF24: 寄養家庭 | BJ24: 中途學校 | BN24: 其他適當之醫療、教育機構 | BR24: 兒童及少年福利機構 | BV24: 寄養家庭 | BZ24: 其他適當之醫療、教育機構 | CD24: 兒童及少年福利機構 | CH24: 寄養家庭 | CL24: 中途學校 | CP24: 其他適當之醫療、教育機構
C25: Total | H25: General | L25: Aborigines | P25: Mainlanders | T25: Foreigners | X25: Others | BB25: Child and Youth Welfare Institutions | BF25: Fostering Families | BJ25: Midway School | BN25: Other Appropriate Medical and Educational Institutions | BR25: Child and Youth Welfare Institutions | BV25: Fostering Families | BZ25: Other Appropriate Medical and Educational Institutions | CD25: Child and Youth Welfare Institutions | CH25: Fostering Families | CL25: Midway School | CP25: Other Appropriate Medical and Educational Institutions
C26: 計 | D26: 男 | E26: 女 | F26: 其他 | G26: 不詳 | H26: 男 | I26: 女 | J26: 其他 | K26: 不詳 | L26: 男 | M26: 女 | N26: 其他 | O26: 不詳 | P26: 男 | Q26: 女 | R26: 其他 | S26: 不詳 | T26: 男 | U26: 女 | V26: 其他 | W26: 不詳 | X26: 男 | Y26: 女 | Z26: 其他 | AA26: 不詳 | AB26: 合計 | AC26: 未滿12歲 | AD26: 12-未滿15歲 | AE26: 15-未滿18歲 | AF26: 計 | AG26: 男 | AH26: 女 | AI26: 其他 | AJ26: 不詳 | AK26: 計 | AL26: 男 | AM26: 女 | AN26: 其他 | AO26: 不詳 | AP26: 計 | AQ26: 男 | AR26: 女 | AS26: 其他 | AT26: 計 | AU26: 男 | AV26: 女 | AW26: 其他 | AX26: 計 | AY26: 男 | AZ26: 女 | BA26: 其他 | BB26: 計 | BC26: 男 | BD26: 女 | BE26: 其他 | BF26: 計 | BG26: 男 | BH26: 女 | BI26: 其他 | BJ26: 計 | BK26: 男 | BL26: 女 | BM26: 其他 | BN26: 計 | BO26: 男 | BP26: 女 | BQ26: 其他 | BR26: 計 | BS26: 男 | BT26: 女 | BU26: 其他 | BV26: 計 | BW26: 男 | BX26: 女 | BY26: 其他 | BZ26: 計 | CA26: 男 | CB26: 女 | CC26: 其他 | CD26: 計 | CE26: 男 | CF26: 女 | CG26: 其他 | CH26: 計 | CI26: 男 | CJ26: 女 | CK26: 其他 | CL26: 計 | CM26: 男 | CN26: 女 | CO26: 其他 | CP26: 計 | CQ26: 男 | CR26: 女 | CS26: 其他
C27: Sub-Total | D27: Male | E27: Female | F27: Other | G27: Unknown | H27: Male | I27: Female | J27: Other | K27: Unknown | L27: Male | M27: Female | N27: Other | O27: Unknown | P27: Male | Q27: Female | R27: Other | S27: Unknown | T27: Male | U27: Female | V27: Other | W27: Unknown | X27: Male | Y27: Female | Z27: Other | AA27: Unknown | AB27: Total | AC27: Under 12 Years | AD27: 12-Under 15 Years | AE27: 15-Under 18 Years | AF27: Sub-Total | AG27: Male | AH27: Female | AI27: Other | AJ27: Unknown | AK27: Sub-Total | AL27: Male | AM27: Female | AN27: Other | AO27: Unknown | AP27: Sub-Total | AQ27: Male | AR27: Female | AS27: Other | AT27: Sub-Total | AU27: Male | AV27: Female | AW27: Other | AX27: Sub-Total | AY27: Male | AZ27: Female | BA27: Other | BB27: Sub-Total | BC27: Male | BD27: Female | BE27: Other | BF27: Sub-Total | BG27: Male | BH27: Female | BI27: Other | BJ27: Sub-Total | BK27: Male | BL27: Female | BM27: Other | BN27: Sub-Total | BO27: Male | BP27: Female | BQ27: Other | BR27: Sub-Total | BS27: Male | BT27: Female | BU27: Other | BV27: Sub-Total | BW27: Male | BX27: Female | BY27: Other | BZ27: Sub-Total | CA27: Male | CB27: Female | CC27: Other | CD27: Sub-Total | CE27: Male | CF27: Female | CG27: Other | CH27: Sub-Total | CI27: Male | CJ27: Female | CK27: Other | CL27: Sub-Total | CM27: Male | CN27: Female | CO27: Other | CP27: Sub-Total | CQ27: Male | CR27: Female | CS27: Other
A28: 110年 2021 | C28: 1879 | D28: 590 | E28: 1289 | F28: 0 | G28: 0 | H28: 556 | I28: 1201 | J28: 0 | K28: 0 | L28: 33 | M28: 79 | N28: 0 | O28: 0 | P28: 0 | Q28: 0 | R28: 0 | S28: 0 | T28: 1 | U28: 2 | V28: 0 | W28: 0 | X28: 0 | Y28: 7 | Z28: 0 | AA28: 0 | AB28: 1879 | AC28: 200 | AD28: 857 | AE28: 822 | AF28: 1087 | AG28: 316 | AH28: 771 | AI28: 0 | AJ28: 0 | AK28: 1879 | AL28: 590 | AM28: 1289 | AN28: 0 | AO28: 0 | AP28: 80 | AQ28: 1 | AR28: 79 | AS28: 0 | AT28: 76 | AU28: 1 | AV28: 75 | AW28: 0 | AX28: 142 | AY28: 3 | AZ28: 133 | BA28: 6 | BB28: 99 | BC28: 3 | BD28: 90 | BE28: 6 | BF28: 2 | BG28: 0 | BH28: 2 | BI28: 0 | BJ28: 35 | BK28: 0 | BL28: 35 | BM28: 0 | BN28: 6 | BO28: 0 | BP28: 6 | BQ28: 0 | BR28: 68 | BS28: 1 | BT28: 67 | BU28: 0 | BV28: 1 | BW28: 0 | BX28: 1 | BY28: 0 | BZ28: 6 | CA28: 0 | CB28: 6 | CC28: 0 | CD28: 31 | CE28: 2 | CF28: 23 | CG28: 6 | CH28: 1 | CI28: 0 | CJ28: 1 | CK28: 0 | CL28: 35 | CM28: 0 | CN28: 35 | CO28: 0 | CP28: 0 | CQ28: 0 | CR28: 0 | CS28: 0
A29: 111年 2022 | C29: 2280 | D29: 713 | E29: 1567 | F29: 0 | G29: 0 | H29: 664 | I29: 1457 | J29: 0 | K29: 0 | L29: 46 | M29: 104 | N29: 0 | O29: 0 | P29: 1 | Q29: 0 | R29: 0 | S29: 0 | T29: 0 | U29: 4 | V29: 0 | W29: 0 | X29: 2 | Y29: 2 | Z29: 0 | AA29: 0 | AB29: 2280 | AC29: 224 | AD29: 993 | AE29: 1063 | AF29: 1319 | AG29: 386 | AH29: 933 | AI29: 0 | AJ29: 0 | AK29: 2282 | AL29: 719 | AM29: 1563 | AN29: 0 | AO29: 0 | AP29: 84 | AQ29: 4 | AR29: 80 | AS29: 0 | AT29: 60 | AU29: 1 | AV29: 59 | AW29: 0 | AX29: 103 | AY29: 4 | AZ29: 99 | BA29: 0 | BB29: 82 | BC29: 3 | BD29: 79 | BE29: 0 | BF29: 2 | BG29: 0 | BH29: 2 | BI29: 0 | BJ29: 8 | BK29: 0 | BL29: 8 | BM29: 0 | BN29: 11 | BO29: 1 | BP29: 10 | BQ29: 0 | BR29: 51 | BS29: 2 | BT29: 49 | BU29: 0 | BV29: 0 | BW29: 0 | BX29: 0 | BY29: 0 | BZ29: 9 | CA29: 1 | CB29: 8 | CC29: 0 | CD29: 31 | CE29: 1 | CF29: 30 | CG29: 0 | CH29: 2 | CI29: 0 | CJ29: 2 | CK29: 0 | CL29: 8 | CM29: 0 | CN29: 8 | CO29: 0 | CP29: 2 | CQ29: 0 | CR29: 2 | CS29: 0
A30: 112年 2023 | C30: 3354 | D30: 1027 | E30: 2327 | F30: 0 | G30: 0 | H30: 956 | I30: 2134 | J30: 0 | K30: 0 | L30: 70 | M30: 182 | N30: 0 | O30: 0 | P30: 0 | Q30: 5 | R30: 0 | S30: 0 | T30: 0 | U30: 5 | V30: 0 | W30: 0 | X30: 1 | Y30: 1 | Z30: 0 | AA30: 0 | AB30: 3354 | AC30: 352 | AD30: 1328 | AE30: 1674 | AF30: 1982 | AG30: 635 | AH30: 1340 | AI30: 7 | AJ30: 0 | AK30: 3354 | AL30: 1027 | AM30: 2327 | AN30: 0 | AO30: 0 | AP30: 106 | AQ30: 2 | AR30: 104 | AS30: 0 | AT30: 80 | AU30: 0 | AV30: 80 | AW30: 0 | AX30: 141 | AY30: 0 | AZ30: 141 | BA30: 0 | BB30: 95 | BC30: 0 | BD30: 95 | BE30: 0 | BF30: 2 | BG30: 0 | BH30: 2 | BI30: 0 | BJ30: 26 | BK30: 0 | BL30: 26 | BM30: 0 | BN30: 18 | BO30: 0 | BP30: 18 | BQ30: 0 | BR30: 58 | BS30: 0 | BT30: 58 | BU30: 0 | BV30: 1 | BW30: 0 | BX30: 1 | BY30: 0 | BZ30: 16 | CA30: 0 | CB30: 16 | CC30: 0 | CD30: 37 | CE30: 0 | CF30: 37 | CG30: 0 | CH30: 1 | CI30: 0 | CJ30: 1 | CK30: 0 | CL30: 26 | CM30: 0 | CN30: 26 | CO30: 0 | CP30: 2 | CQ30: 0 | CR30: 2 | CS30: 0
A31: 113年 2024 | C31: 3582 | D31: 1172 | E31: 2410 | F31: 0 | G31: 0 | H31: 1111 | I31: 2261 | J31: 0 | K31: 0 | L31: 57 | M31: 142 | N31: 0 | O31: 0 | P31: 0 | Q31: 1 | R31: 0 | S31: 0 | T31: 1 | U31: 5 | V31: 0 | W31: 0 | X31: 3 | Y31: 1 | Z31: 0 | AA31: 0 | AB31: 3582 | AC31: 397 | AD31: 1465 | AE31: 1720 | AF31: 2226 | AG31: 736 | AH31: 1490 | AI31: 0 | AJ31: 0 | AK31: 3582 | AL31: 1170 | AM31: 2412 | AN31: 0 | AO31: 0 | AP31: 87 | AQ31: 0 | AR31: 87 | AS31: 0 | AT31: 74 | AU31: 0 | AV31: 74 | AW31: 0 | AX31: 123 | AY31: 0 | AZ31: 123 | BA31: 0 | BB31: 83 | BC31: 0 | BD31: 83 | BE31: 0 | BF31: 4 | BG31: 0 | BH31: 4 | BI31: 0 | BJ31: 17 | BK31: 0 | BL31: 17 | BM31: 0 | BN31: 19 | BO31: 0 | BP31: 19 | BQ31: 0 | BR31: 52 | BS31: 0 | BT31: 52 | BU31: 0 | BV31: 3 | BW31: 0 | BX31: 3 | BY31: 0 | BZ31: 15 | CA31: 0 | CB31: 15 | CC31: 0 | CD31: 31 | CE31: 0 | CF31: 31 | CG31: 0 | CH31: 1 | CI31: 0 | CJ31: 1 | CK31: 0 | CL31: 17 | CM31: 0 | CN31: 17 | CO31: 0 | CP31: 4 | CQ31: 0 | CR31: 4 | CS31: 0
A32: 114年 2025 | C32: 3430 | D32: 1117 | E32: 2311 | F32: 0 | G32: 2 | H32: 1052 | I32: 2141 | J32: 0 | K32: 0 | L32: 59 | M32: 154 | N32: 0 | O32: 0 | P32: 0 | Q32: 1 | R32: 0 | S32: 0 | T32: 3 | U32: 9 | V32: 0 | W32: 0 | X32: 3 | Y32: 6 | Z32: 0 | AA32: 2 | AB32: 3430 | AC32: 363 | AD32: 1329 | AE32: 1738 | AF32: 1992 | AG32: 628 | AH32: 1354 | AI32: 10 | AJ32: 0 | AK32: 3436 | AL32: 1119 | AM32: 2317 | AN32: 0 | AO32: 0 | AP32: 61 | AQ32: 2 | AR32: 59 | AS32: 0 | AT32: 45 | AU32: 1 | AV32: 44 | AW32: 0 | AX32: 60 | AY32: 1 | AZ32: 59 | BA32: 0 | BB32: 37 | BC32: 1 | BD32: 36 | BE32: 0 | BF32: 0 | BG32: 0 | BH32: 0 | BI32: 0 | BJ32: 10 | BK32: 0 | BL32: 10 | BM32: 0 | BN32: 13 | BO32: 0 | BP32: 13 | BQ32: 0 | BR32: 24 | BS32: 1 | BT32: 23 | BU32: 0 | BV32: 0 | BW32: 0 | BX32: 0 | BY32: 0 | BZ32: 13 | CA32: 0 | CB32: 13 | CC32: 0 | CD32: 13 | CE32: 0 | CF32: 13 | CG32: 0 | CH32: 0 | CI32: 0 | CJ32: 0 | CK32: 0 | CL32: 10 | CM32: 0 | CN32: 10 | CO32: 0 | CP32: 0 | CQ32: 0 | CR32: 0 | CS32: 0
A34: 資料來源：直轄市、縣﹝市﹞政府。
A35: Source : County and City Government.

Sheet 114
A1: 兒童及少年性剝削案件安置情形
A3: 民國114年, 2025
A4: 區域別 Locality | C4: 受理通報(報告)人數(人) | AF4: 派員陪同偵訊個案數(件) | AK4: 評估處理情形(件) | AP4: 緊急安置數(人) | AT4: 緊急安置個案向法院聲請第一次裁定數(人) | AX4: 入住人數(人次) Number of Persons Being Admitted
C5: 合計 | H5: 本國籍 Nationals | P5: 大陸籍 | T5: 外國籍 | X5: 其他 | AB5: 按年齡分 By Age | AX5: 總計Total | BR5: 依第一次裁定結果繼續安置Continued Placement According to the Results of First Ruling | CD5: 依第二次裁定結果安置Placement According to the Results of Second Ruling
H6: 一般 | L6: 原住民 | AF6: Cases Of Accompanying For Court | AK6: Status Of Victim Evaluation | AP6: Number Of Victims Under Emergency Placement | AT6: Number of Victims under Emergency Placement Who Apply to the Court for First Ruling | AX6: 合計Total | BB6: 兒童及少年福利機構 | BF6: 寄養家庭 | BJ6: 中途學校 | BN6: 其他適當之醫療、教育機構 | BR6: 兒童及少年福利機構 | BV6: 寄養家庭 | BZ6: 其他適當之醫療、教育機構 | CD6: 兒童及少年福利機構 | CH6: 寄養家庭 | CL6: 中途學校 | CP6: 其他適當之醫療、教育機構
C7: Total | H7: General | L7: Aborigines | P7: Mainlanders | T7: Foreigners | X7: Others | BB7: Child and Youth Welfare Institutions | BF7: Fostering Families | BJ7: Midway School | BN7: Other Appropriate Medical and Educational Institutions | BR7: Child and Youth Welfare Institutions | BV7: Fostering Families | BZ7: Other Appropriate Medical and Educational Institutions | CD7: Child and Youth Welfare Institutions | CH7: Fostering Families | CL7: Midway School | CP7: Other Appropriate Medical and Educational Institutions
C8: 計 | D8: 男 | E8: 女 | F8: 其他 | G8: 不詳 | H8: 男 | I8: 女 | J8: 其他 | K8: 不詳 | L8: 男 | M8: 女 | N8: 其他 | O8: 不詳 | P8: 男 | Q8: 女 | R8: 其他 | S8: 不詳 | T8: 男 | U8: 女 | V8: 其他 | W8: 不詳 | X8: 男 | Y8: 女 | Z8: 其他 | AA8: 不詳 | AB8: 合計 | AC8: 未滿12歲 | AD8: 12-未滿15歲 | AE8: 15-未滿18歲 | AF8: 計 | AG8: 男 | AH8: 女 | AI8: 其他 | AJ8: 不詳 | AK8: 計 | AL8: 男 | AM8: 女 | AN8: 其他 | AO8: 不詳 | AP8: 計 | AQ8: 男 | AR8: 女 | AS8: 其他 | AT8: 計 | AU8: 男 | AV8: 女 | AW8: 其他 | AX8: 計 | AY8: 男 | AZ8: 女 | BA8: 其他 | BB8: 計 | BC8: 男 | BD8: 女 | BE8: 其他 | BF8: 計 | BG8: 男 | BH8: 女 | BI8: 其他 | BJ8: 計 | BK8: 男 | BL8: 女 | BM8: 其他 | BN8: 計 | BO8: 男 | BP8: 女 | BQ8: 其他 | BR8: 計 | BS8: 男 | BT8: 女 | BU8: 其他 | BV8: 計 | BW8: 男 | BX8: 女 | BY8: 其他 | BZ8: 計 | CA8: 男 | CB8: 女 | CC8: 其他 | CD8: 計 | CE8: 男 | CF8: 女 | CG8: 其他 | CH8: 計 | CI8: 男 | CJ8: 女 | CK8: 其他 | CL8: 計 | CM8: 男 | CN8: 女 | CO8: 其他 | CP8: 計 | CQ8: 男 | CR8: 女 | CS8: 其他
C9: Sub-Total | D9: Male | E9: Female | F9: Other | G9: Unknown | H9: Male | I9: Female | J9: Other | K9: Unknown | L9: Male | M9: Female | N9: Other | O9: Unknown | P9: Male | Q9: Female | R9: Other | S9: Unknown | T9: Male | U9: Female | V9: Other | W9: Unknown | X9: Male | Y9: Female | Z9: Other | AA9: Unknown | AB9: Total | AC9: Under 12 Years | AD9: 12-Under 15 Years | AE9: 15-Under 18 Years | AF9: Sub-Total | AG9: Male | AH9: Female | AI9: Other | AJ9: Unknown | AK9: Sub-Total | AL9: Male | AM9: Female | AN9: Other | AO9: Unknown | AP9: Sub-Total | AQ9: Male | AR9: Female | AS9: Other | AT9: Sub-Total | AU9: Male | AV9: Female | AW9: Other | AX9: Sub-Total | AY9: Male | AZ9: Female | BA9: Other | BB9: Sub-Total | BC9: Male | BD9: Female | BE9: Other | BF9: Sub-Total | BG9: Male | BH9: Female | BI9: Other | BJ9: Sub-Total | BK9: Male | BL9: Female | BM9: Other | BN9: Sub-Total | BO9: Male | BP9: Female | BQ9: Other | BR9: Sub-Total | BS9: Male | BT9: Female | BU9: Other | BV9: Sub-Total | BW9: Male | BX9: Female | BY9: Other | BZ9: Sub-Total | CA9: Male | CB9: Female | CC9: Other | CD9: Sub-Total | CE9: Male | CF9: Female | CG9: Other | CH9: Sub-Total | CI9: Male | CJ9: Female | CK9: Other | CL9: Sub-Total | CM9: Male | CN9: Female | CO9: Other | CP9: Sub-Total | CQ9: Male | CR9: Female | CS9: Other
A10: 總計 Total | C10: 3430 | D10: 1117 | E10: 2311 | F10: 0 | G10: 2 | H10: 1052 | I10: 2141 | J10: 0 | K10: 0 | L10: 59 | M10: 154 | N10: 0 | O10: 0 | P10: 0 | Q10: 1 | R10: 0 | S10: 0 | T10: 3 | U10: 9 | V10: 0 | W10: 0 | X10: 3 | Y10: 6 | Z10: 0 | AA10: 2 | AB10: 3430 | AC10: 363 | AD10: 1329 | AE10: 1738 | AF10: 1992 | AG10: 628 | AH10: 1354 | AI10: 10 | AJ10: 0 | AK10: 3436 | AL10: 1119 | AM10: 2317 | AN10: 0 | AO10: 0 | AP10: 61 | AQ10: 2 | AR10: 59 | AS10: 0 | AT10: 45 | AU10: 1 | AV10: 44 | AW10: 0 | AX10: 60 | AY10: 1 | AZ10: 59 | BA10: 0 | BB10: 37 | BC10: 1 | BD10: 36 | BE10: 0 | BF10: 0 | BG10: 0 | BH10: 0 | BI10: 0 | BJ10: 10 | BK10: 0 | BL10: 10 | BM10: 0 | BN10: 13 | BO10: 0 | BP10: 13 | BQ10: 0 | BR10: 24 | BS10: 1 | BT10: 23 | BU10: 0 | BV10: 0 | BW10: 0 | BX10: 0 | BY10: 0 | BZ10: 13 | CA10: 0 | CB10: 13 | CC10: 0 | CD10: 13 | CE10: 0 | CF10: 13 | CG10: 0 | CH10: 0 | CI10: 0 | CJ10: 0 | CK10: 0 | CL10: 10 | CM10: 0 | CN10: 10 | CO10: 0 | CP10: 0 | CQ10: 0 | CR10: 0 | CS10: 0
A11: 新北市 | B11: New Taipei City | C11: 620 | D11: 174 | E11: 446 | F11: 0 | G11: 0 | H11: 168 | I11: 427 | J11: 0 | K11: 0 | L11: 5 | M11: 17 | N11: 0 | O11: 0 | P11: 0 | Q11: 1 | R11: 0 | S11: 0 | T11: 1 | U11: 1 | V11: 0 | W11: 0 | X11: 0 | Y11: 0 | Z11: 0 | AA11: 0 | AB11: 620 | AC11: 74 | AD11: 227 | AE11: 319 | AF11: 178 | AG11: 36 | AH11: 142 | AI11: 0 | AJ11: 0 | AK11: 620 | AL11: 174 | AM11: 446 | AN11: 0 | AO11: 0 | AP11: 4 | AQ11: 0 | AR11: 4 | AS11: 0 | AT11: 1 | AU11: 0 | AV11: 1 | AW11: 0 | AX11: 7 | AY11: 0 | AZ11: 7 | BA11: 0 | BB11: 4 | BC11: 0 | BD11: 4 | BE11: 0 | BF11: 0 | BG11: 0 | BH11: 0 | BI11: 0 | BJ11: 3 | BK11: 0 | BL11: 3 | BM11: 0 | BN11: 0 | BO11: 0 | BP11: 0 | BQ11: 0 | BR11: 4 | BS11: 0 | BT11: 4 | BU11: 0 | BV11: 0 | BW11: 0 | BX11: 0 | BY11: 0 | BZ11: 0 | CA11: 0 | CB11: 0 | CC11: 0 | CD11: 0 | CE11: 0 | CF11: 0 | CG11: 0 | CH11: 0 | CI11: 0 | CJ11: 0 | CK11: 0 | CL11: 3 | CM11: 0 | CN11: 3 | CO11: 0 | CP11: 0 | CQ11: 0 | CR11: 0 | CS11: 0
A12: 臺北市 | B12: Taipei City | C12: 310 | D12: 108 | E12: 202 | F12: 0 | G12: 0 | H12: 106 | I12: 193 | J12: 0 | K12: 0 | L12: 1 | M12: 4 | N12: 0 | O12: 0 | P12: 0 | Q12: 0 | R12: 0 | S12: 0 | T12: 1 | U12: 5 | V12: 0 | W12: 0 | X12: 0 | Y12: 0 | Z12: 0 | AA12: 0 | AB12: 310 | AC12: 36 | AD12: 110 | AE12: 164 | AF12: 149 | AG12: 41 | AH12: 108 | AI12: 0 | AJ12: 0 | AK12: 310 | AL12: 108 | AM12: 202 | AN12: 0 | AO12: 0 | AP12: 5 | AQ12: 1 | AR12: 4 | AS12: 0 | AT12: 4 | AU12: 1 | AV12: 3 | AW12: 0 | AX12: 6 | AY12: 1 | AZ12: 5 | BA12: 0 | BB12: 6 | BC12: 1 | BD12: 5 | BE12: 0 | BF12: 0 | BG12: 0 | BH12: 0 | BI12: 0 | BJ12: 0 | BK12: 0 | BL12: 0 | BM12: 0 | BN12: 0 | BO12: 0 | BP12: 0 | BQ12: 0 | BR12: 4 | BS12: 1 | BT12: 3 | BU12: 0 | BV12: 0 | BW12: 0 | BX12: 0 | BY12: 0 | BZ12: 0 | CA12: 0 | CB12: 0 | CC12: 0 | CD12: 2 | CE12: 0 | CF12: 2 | CG12: 0 | CH12: 0 | CI12: 0 | CJ12: 0 | CK12: 0 | CL12: 0 | CM12: 0 | CN12: 0 | CO12: 0 | CP12: 0 | CQ12: 0 | CR12: 0 | CS12: 0
A13: 桃園市 | B13: Taoyuan City | C13: 347 | D13: 92 | E13: 255 | F13: 0 | G13: 0 | H13: 82 | I13: 226 | J13: 0 | K13: 0 | L13: 9 | M13: 28 | N13: 0 | O13: 0 | P13: 0 | Q13: 0 | R13: 0 | S13: 0 | T13: 0 | U13: 0 | V13: 0 | W13: 0 | X13: 1 | Y13: 1 | Z13: 0 | AA13: 0 | AB13: 347 | AC13: 37 | AD13: 130 | AE13: 180 | AF13: 228 | AG13: 57 | AH13: 171 | AI13: 0 | AJ13: 0 | AK13: 347 | AL13: 92 | AM13: 255 | AN13: 0 | AO13: 0 | AP13: 22 | AQ13: 0 | AR13: 22 | AS13: 0 | AT13: 22 | AU13: 0 | AV13: 22 | AW13: 0 | AX13: 18 | AY13: 0 | AZ13: 18 | BA13: 0 | BB13: 17 | BC13: 0 | BD13: 17 | BE13: 0 | BF13: 0 | BG13: 0 | BH13: 0 | BI13: 0 | BJ13: 1 | BK13: 0 | BL13: 1 | BM13: 0 | BN13: 0 | BO13: 0 | BP13: 0 | BQ13: 0 | BR13: 11 | BS13: 0 | BT13: 11 | BU13: 0 | BV13: 0 | BW13: 0 | BX13: 0 | BY13: 0 | BZ13: 0 | CA13: 0 | CB13: 0 | CC13: 0 | CD13: 6 | CE13: 0 | CF13: 6 | CG13: 0 | CH13: 0 | CI13: 0 | CJ13: 0 | CK13: 0 | CL13: 1 | CM13: 0 | CN13: 1 | CO13: 0 | CP13: 0 | CQ13: 0 | CR13: 0 | CS13: 0
A14: 臺中市 | B14: Taichung City | C14: 517 | D14: 187 | E14: 330 | F14: 0 | G14: 0 | H14: 179 | I14: 317 | J14: 0 | K14: 0 | L14: 7 | M14: 13 | N14: 0 | O14: 0 | P14: 0 | Q14: 0 | R14: 0 | S14: 0 | T14: 1 | U14: 0 | V14: 0 | W14: 0 | X14: 0 | Y14: 0 | Z14: 0 | AA14: 0 | AB14: 517 | AC14: 61 | AD14: 196 | AE14: 260 | AF14: 378 | AG14: 141 | AH14: 237 | AI14: 0 | AJ14: 0 | AK14: 517 | AL14: 187 | AM14: 330 | AN14: 0 | AO14: 0 | AP14: 1 | AQ14: 0 | AR14: 1 | AS14: 0 | AT14: 0 | AU14: 0 | AV14: 0 | AW14: 0 | AX14: 1 | AY14: 0 | AZ14: 1 | BA14: 0 | BB14: 1 | BC14: 0 | BD14: 1 | BE14: 0 | BF14: 0 | BG14: 0 | BH14: 0 | BI14: 0 | BJ14: 0 | BK14: 0 | BL14: 0 | BM14: 0 | BN14: 0 | BO14: 0 | BP14: 0 | BQ14: 0 | BR14: 1 | BS14: 0 | BT14: 1 | BU14: 0 | BV14: 0 | BW14: 0 | BX14: 0 | BY14: 0 | BZ14: 0 | CA14: 0 | CB14: 0 | CC14: 0 | CD14: 0 | CE14: 0 | CF14: 0 | CG14: 0 | CH14: 0 | CI14: 0 | CJ14: 0 | CK14: 0 | CL14: 0 | CM14: 0 | CN14: 0 | CO14: 0 | CP14: 0 | CQ14: 0 | CR14: 0 | CS14: 0
A15: 臺南市 | B15: Tainan City | C15: 288 | D15: 107 | E15: 181 | F15: 0 | G15: 0 | H15: 106 | I15: 175 | J15: 0 | K15: 0 | L15: 1 | M15: 6 | N15: 0 | O15: 0 | P15: 0 | Q15: 0 | R15: 0 | S15: 0 | T15: 0 | U15: 0 | V15: 0 | W15: 0 | X15: 0 | Y15: 0 | Z15: 0 | AA15: 0 | AB15: 288 | AC15: 29 | AD15: 132 | AE15: 127 | AF15: 221 | AG15: 81 | AH15: 140 | AI15: 0 | AJ15: 0 | AK15: 288 | AL15: 107 | AM15: 181 | AN15: 0 | AO15: 0 | AP15: 0 | AQ15: 0 | AR15: 0 | AS15: 0 | AT15: 0 | AU15: 0 | AV15: 0 | AW15: 0 | AX15: 0 | AY15: 0 | AZ15: 0 | BA15: 0 | BB15: 0 | BC15: 0 | BD15: 0 | BE15: 0 | BF15: 0 | BG15: 0 | BH15: 0 | BI15: 0 | BJ15: 0 | BK15: 0 | BL15: 0 | BM15: 0 | BN15: 0 | BO15: 0 | BP15: 0 | BQ15: 0 | BR15: 0 | BS15: 0 | BT15: 0 | BU15: 0 | BV15: 0 | BW15: 0 | BX15: 0 | BY15: 0 | BZ15: 0 | CA15: 0 | CB15: 0 | CC15: 0 | CD15: 0 | CE15: 0 | CF15: 0 | CG15: 0 | CH15: 0 | CI15: 0 | CJ15: 0 | CK15: 0 | CL15: 0 | CM15: 0 | CN15: 0 | CO15: 0 | CP15: 0 | CQ15: 0 | CR15: 0 | CS15: 0
A16: 高雄市 | B16: Kaohsiung City | C16: 360 | D16: 118 | E16: 242 | F16: 0 | G16: 0 | H16: 114 | I16: 231 | J16: 0 | K16: 0 | L16: 4 | M16: 10 | N16: 0 | O16: 0 | P16: 0 | Q16: 0 | R16: 0 | S16: 0 | T16: 0 | U16: 0 | V16: 0 | W16: 0 | X16: 0 | Y16: 1 | Z16: 0 | AA16: 0 | AB16: 360 | AC16: 30 | AD16: 141 | AE16: 189 | AF16: 214 | AG16: 62 | AH16: 152 | AI16: 0 | AJ16: 0 | AK16: 360 | AL16: 118 | AM16: 242 | AN16: 0 | AO16: 0 | AP16: 11 | AQ16: 0 | AR16: 11 | AS16: 0 | AT16: 11 | AU16: 0 | AV16: 11 | AW16: 0 | AX16: 16 | AY16: 0 | AZ16: 16 | BA16: 0 | BB16: 0 | BC16: 0 | BD16: 0 | BE16: 0 | BF16: 0 | BG16: 0 | BH16: 0 | BI16: 0 | BJ16: 5 | BK16: 0 | BL16: 5 | BM16: 0 | BN16: 11 | BO16: 0 | BP16: 11 | BQ16: 0 | BR16: 0 | BS16: 0 | BT16: 0 | BU16: 0 | BV16: 0 | BW16: 0 | BX16: 0 | BY16: 0 | BZ16: 11 | CA16: 0 | CB16: 11 | CC16: 0 | CD16: 0 | CE16: 0 | CF16: 0 | CG16: 0 | CH16: 0 | CI16: 0 | CJ16: 0 | CK16: 0 | CL16: 5 | CM16: 0 | CN16: 5 | CO16: 0 | CP16: 0 | CQ16: 0 | CR16: 0 | CS16: 0
A17: 宜蘭縣 | B17: Yilan County | C17: 57 | D17: 17 | E17: 40 | F17: 0 | G17: 0 | H17: 17 | I17: 31 | J17: 0 | K17: 0 | L17: 0 | M17: 7 | N17: 0 | O17: 0 | P17: 0 | Q17: 0 | R17: 0 | S17: 0 | T17: 0 | U17: 0 | V17: 0 | W17: 0 | X17: 0 | Y17: 2 | Z17: 0 | AA17: 0 | AB17: 57 | AC17: 9 | AD17: 20 | AE17: 28 | AF17: 41 | AG17: 11 | AH17: 30 | AI17: 0 | AJ17: 0 | AK17: 57 | AL17: 17 | AM17: 40 | AN17: 0 | AO17: 0 | AP17: 0 | AQ17: 0 | AR17: 0 | AS17: 0 | AT17: 0 | AU17: 0 | AV17: 0 | AW17: 0 | AX17: 0 | AY17: 0 | AZ17: 0 | BA17: 0 | BB17: 0 | BC17: 0 | BD17: 0 | BE17: 0 | BF17: 0 | BG17: 0 | BH17: 0 | BI17: 0 | BJ17: 0 | BK17: 0 | BL17: 0 | BM17: 0 | BN17: 0 | BO17: 0 | BP17: 0 | BQ17: 0 | BR17: 0 | BS17: 0 | BT17: 0 | BU17: 0 | BV17: 0 | BW17: 0 | BX17: 0 | BY17: 0 | BZ17: 0 | CA17: 0 | CB17: 0 | CC17: 0 | CD17: 0 | CE17: 0 | CF17: 0 | CG17: 0 | CH17: 0 | CI17: 0 | CJ17: 0 | CK17: 0 | CL17: 0 | CM17: 0 | CN17: 0 | CO17: 0 | CP17: 0 | CQ17: 0 | CR17: 0 | CS17: 0
A18: 新竹縣 | B18: Hsinchu County | C18: 94 | D18: 28 | E18: 66 | F18: 0 | G18: 0 | H18: 26 | I18: 55 | J18: 0 | K18: 0 | L18: 2 | M18: 10 | N18: 0 | O18: 0 | P18: 0 | Q18: 0 | R18: 0 | S18: 0 | T18: 0 | U18: 1 | V18: 0 | W18: 0 | X18: 0 | Y18: 0 | Z18: 0 | AA18: 0 | AB18: 94 | AC18: 8 | AD18: 47 | AE18: 39 | AF18: 44 | AG18: 16 | AH18: 28 | AI18: 0 | AJ18: 0 | AK18: 94 | AL18: 28 | AM18: 66 | AN18: 0 | AO18: 0 | AP18: 0 | AQ18: 0 | AR18: 0 | AS18: 0 | AT18: 0 | AU18: 0 | AV18: 0 | AW18: 0 | AX18: 0 | AY18: 0 | AZ18: 0 | BA18: 0 | BB18: 0 | BC18: 0 | BD18: 0 | BE18: 0 | BF18: 0 | BG18: 0 | BH18: 0 | BI18: 0 | BJ18: 0 | BK18: 0 | BL18: 0 | BM18: 0 | BN18: 0 | BO18: 0 | BP18: 0 | BQ18: 0 | BR18: 0 | BS18: 0 | BT18: 0 | BU18: 0 | BV18: 0 | BW18: 0 | BX18: 0 | BY18: 0 | BZ18: 0 | CA18: 0 | CB18: 0 | CC18: 0 | CD18: 0 | CE18: 0 | CF18: 0 | CG18: 0 | CH18: 0 | CI18: 0 | CJ18: 0 | CK18: 0 | CL18: 0 | CM18: 0 | CN18: 0 | CO18: 0 | CP18: 0 | CQ18: 0 | CR18: 0 | CS18: 0
A19: 苗栗縣 | B19: Miaoli County | C19: 80 | D19: 28 | E19: 52 | F19: 0 | G19: 0 | H19: 27 | I19: 52 | J19: 0 | K19: 0 | L19: 0 | M19: 0 | N19: 0 | O19: 0 | P19: 0 | Q19: 0 | R19: 0 | S19: 0 | T19: 0 | U19: 0 | V19: 0 | W19: 0 | X19: 1 | Y19: 0 | Z19: 0 | AA19: 0 | AB19: 80 | AC19: 4 | AD19: 29 | AE19: 47 | AF19: 54 | AG19: 16 | AH19: 38 | AI19: 0 | AJ19: 0 | AK19: 80 | AL19: 28 | AM19: 52 | AN19: 0 | AO19: 0 | AP19: 1 | AQ19: 0 | AR19: 1 | AS19: 0 | AT19: 0 | AU19: 0 | AV19: 0 | AW19: 0 | AX19: 0 | AY19: 0 | AZ19: 0 | BA19: 0 | BB19: 0 | BC19: 0 | BD19: 0 | BE19: 0 | BF19: 0 | BG19: 0 | BH19: 0 | BI19: 0 | BJ19: 0 | BK19: 0 | BL19: 0 | BM19: 0 | BN19: 0 | BO19: 0 | BP19: 0 | BQ19: 0 | BR19: 0 | BS19: 0 | BT19: 0 | BU19: 0 | BV19: 0 | BW19: 0 | BX19: 0 | BY19: 0 | BZ19: 0 | CA19: 0 | CB19: 0 | CC19: 0 | CD19: 0 | CE19: 0 | CF19: 0 | CG19: 0 | CH19: 0 | CI19: 0 | CJ19: 0 | CK19: 0 | CL19: 0 | CM19: 0 | CN19: 0 | CO19: 0 | CP19: 0 | CQ19: 0 | CR19: 0 | CS19: 0
A20: 彰化縣 | B20: Changhua County | C20: 152 | D20: 62 | E20: 90 | F20: 0 | G20: 0 | H20: 62 | I20: 87 | J20: 0 | K20: 0 | L20: 0 | M20: 3 | N20: 0 | O20: 0 | P20: 0 | Q20: 0 | R20: 0 | S20: 0 | T20: 0 | U20: 0 | V20: 0 | W20: 0 | X20: 0 | Y20: 0 | Z20: 0 | AA20: 0 | AB20: 152 | AC20: 17 | AD20: 60 | AE20: 75 | AF20: 107 | AG20: 46 | AH20: 61 | AI20: 0 | AJ20: 0 | AK20: 152 | AL20: 62 | AM20: 90 | AN20: 0 | AO20: 0 | AP20: 1 | AQ20: 0 | AR20: 1 | AS20: 0 | AT20: 1 | AU20: 0 | AV20: 1 | AW20: 0 | AX20: 3 | AY20: 0 | AZ20: 3 | BA20: 0 | BB20: 3 | BC20: 0 | BD20: 3 | BE20: 0 | BF20: 0 | BG20: 0 | BH20: 0 | BI20: 0 | BJ20: 0 | BK20: 0 | BL20: 0 | BM20: 0 | BN20: 0 | BO20: 0 | BP20: 0 | BQ20: 0 | BR20: 1 | BS20: 0 | BT20: 1 | BU20: 0 | BV20: 0 | BW20: 0 | BX20: 0 | BY20: 0 | BZ20: 0 | CA20: 0 | CB20: 0 | CC20: 0 | CD20: 2 | CE20: 0 | CF20: 2 | CG20: 0 | CH20: 0 | CI20: 0 | CJ20: 0 | CK20: 0 | CL20: 0 | CM20: 0 | CN20: 0 | CO20: 0 | CP20: 0 | CQ20: 0 | CR20: 0 | CS20: 0
A21: 南投縣 | B21: Nantou County | C21: 48 | D21: 18 | E21: 30 | F21: 0 | G21: 0 | H21: 14 | I21: 23 | J21: 0 | K21: 0 | L21: 4 | M21: 7 | N21: 0 | O21: 0 | P21: 0 | Q21: 0 | R21: 0 | S21: 0 | T21: 0 | U21: 0 | V21: 0 | W21: 0 | X21: 0 | Y21: 0 | Z21: 0 | AA21: 0 | AB21: 48 | AC21: 8 | AD21: 14 | AE21: 26 | AF21: 28 | AG21: 11 | AH21: 17 | AI21: 0 | AJ21: 0 | AK21: 51 | AL21: 19 | AM21: 32 | AN21: 0 | AO21: 0 | AP21: 0 | AQ21: 0 | AR21: 0 | AS21: 0 | AT21: 0 | AU21: 0 | AV21: 0 | AW21: 0 | AX21: 0 | AY21: 0 | AZ21: 0 | BA21: 0 | BB21: 0 | BC21: 0 | BD21: 0 | BE21: 0 | BF21: 0 | BG21: 0 | BH21: 0 | BI21: 0 | BJ21: 0 | BK21: 0 | BL21: 0 | BM21: 0 | BN21: 0 | BO21: 0 | BP21: 0 | BQ21: 0 | BR21: 0 | BS21: 0 | BT21: 0 | BU21: 0 | BV21: 0 | BW21: 0 | BX21: 0 | BY21: 0 | BZ21: 0 | CA21: 0 | CB21: 0 | CC21: 0 | CD21: 0 | CE21: 0 | CF21: 0 | CG21: 0 | CH21: 0 | CI21: 0 | CJ21: 0 | CK21: 0 | CL21: 0 | CM21: 0 | CN21: 0 | CO21: 0 | CP21: 0 | CQ21: 0 | CR21: 0 | CS21: 0
A22: 雲林縣 | B22: Yunlin County | C22: 87 | D22: 24 | E22: 63 | F22: 0 | G22: 0 | H22: 23 | I22: 62 | J22: 0 | K22: 0 | L22: 1 | M22: 1 | N22: 0 | O22: 0 | P22: 0 | Q22: 0 | R22: 0 | S22: 0 | T22: 0 | U22: 0 | V22: 0 | W22: 0 | X22: 0 | Y22: 0 | Z22: 0 | AA22: 0 | AB22: 87 | AC22: 10 | AD22: 27 | AE22: 50 | AF22: 63 | AG22: 16 | AH22: 47 | AI22: 0 | AJ22: 0 | AK22: 87 | AL22: 24 | AM22: 63 | AN22: 0 | AO22: 0 | AP22: 1 | AQ22: 0 | AR22: 1 | AS22: 0 | AT22: 0 | AU22: 0 | AV22: 0 | AW22: 0 | AX22: 0 | AY22: 0 | AZ22: 0 | BA22: 0 | BB22: 0 | BC22: 0 | BD22: 0 | BE22: 0 | BF22: 0 | BG22: 0 | BH22: 0 | BI22: 0 | BJ22: 0 | BK22: 0 | BL22: 0 | BM22: 0 | BN22: 0 | BO22: 0 | BP22: 0 | BQ22: 0 | BR22: 0 | BS22: 0 | BT22: 0 | BU22: 0 | BV22: 0 | BW22: 0 | BX22: 0 | BY22: 0 | BZ22: 0 | CA22: 0 | CB22: 0 | CC22: 0 | CD22: 0 | CE22: 0 | CF22: 0 | CG22: 0 | CH22: 0 | CI22: 0 | CJ22: 0 | CK22: 0 | CL22: 0 | CM22: 0 | CN22: 0 | CO22: 0 | CP22: 0 | CQ22: 0 | CR22: 0 | CS22: 0
... A32: 連江縣 | B32: Lienchiang County | C32: 0 | D32: 0 | E32: 0 | F32: 0 | G32: 0 | H32: 0 | I32: 0 | J32: 0 | K32: 0 | L32: 0 | M32: 0 | N32: 0 | O32: 0 | P32: 0 | Q32: 0 | R32: 0 | S32: 0 | T32: 0 | U32: 0 | V32: 0 | W32: 0 | X32: 0 | Y32: 0 | Z32: 0 | AA32: 0 | AB32: 0 | AC32: 0 | AD32: 0 | AE32: 0 | AF32: 0 | AG32: 0 | AH32: 0 | AI32: 0 | AJ32: 0 | AK32: 0 | AL32: 0 | AM32: 0 | AN32: 0 | AO32: 0 | AP32: 0 | AQ32: 0 | AR32: 0 | AS32: 0 | AT32: 0 | AU32: 0 | AV32: 0 | AW32: 0 | AX32: 0 | AY32: 0 | AZ32: 0 | BA32: 0 | BB32: 0 | BC32: 0 | BD32: 0 | BE32: 0 | BF32: 0 | BG32: 0 | BH32: 0 | BI32: 0 | BJ32: 0 | BK32: 0 | BL32: 0 | BM32: 0 | BN32: 0 | BO32: 0 | BP32: 0 | BQ32: 0 | BR32: 0 | BS32: 0 | BT32: 0 | BU32: 0 | BV32: 0 | BW32: 0 | BX32: 0 | BY32: 0 | BZ32: 0 | CA32: 0 | CB32: 0 | CC32: 0 | CD32: 0 | CE32: 0 | CF32: 0 | CG32: 0 | CH32: 0 | CI32: 0 | CJ32: 0 | CK32: 0 | CL32: 0 | CM32: 0 | CN32: 0 | CO32: 0 | CP32: 0 | CQ32: 0 | CR32: 0 | CS32: 0
A33: 資料來源：直轄市、縣﹝市﹞政府。
A34: Source : County and City Government.

Sheet 113
A1: 兒童及少年性剝削案件安置情形
A3: 民國113年, 2024
A4: 區域別 Locality | C4: 受理通報(報告)人數(人) | AF4: 派員陪同偵訊個案數(件) | AK4: 評估處理情形(件) | AP4: 緊急安置數(人) | AT4: 緊急安置個案向法院聲請第一次裁定數(人) | AX4: 入住人數(人次) Number of Persons Being Admitted
C5: 合計 | H5: 本國籍 Nationals | P5: 大陸籍 | T5: 外國籍 | X5: 其他 | AB5: 按年齡分 By Age | AX5: 總計Total | BR5: 依第一次裁定結果繼續安置Continued Placement According to the Results of First Ruling | CD5: 依第二次裁定結果安置Placement According to the Results of Second Ruling
H6: 一般 | L6: 原住民 | AF6: Cases Of Accompanying For Court | AK6: Status Of Victim Evaluation | AP6: Number Of Victims Under Emergency Placement | AT6: Number of Victims under Emergency Placement Who Apply to the Court for First Ruling | AX6: 合計Total | BB6: 兒童及少年福利機構 | BF6: 寄養家庭 | BJ6: 中途學校 | BN6: 其他適當之醫療、教育機構 | BR6: 兒童及少年福利機構 | BV6: 寄養家庭 | BZ6: 其他適當之醫療、教育機構 | CD6: 兒童及少年福利機構 | CH6: 寄養家庭 | CL6: 中途學校 | CP6: 其他適當之醫療、教育機構
C7: Total | H7: General | L7: Aborigines | P7: Mainlanders | T7: Foreigners | X7: Others | BB7: Child and Youth Welfare Institutions | BF7: Fostering Families | BJ7: Midway School | BN7: Other Appropriate Medical and Educational Institutions | BR7: Child and Youth Welfare Institutions | BV7: Fostering Families | BZ7: Other Appropriate Medical and Educational Institutions | CD7: Child and Youth Welfare Institutions | CH7: Fostering Families | CL7: Midway School | CP7: Other Appropriate Medical and Educational Institutions
C8: 計 | D8: 男 | E8: 女 | F8: 其他 | G8: 不詳 | H8: 男 | I8: 女 | J8: 其他 | K8: 不詳 | L8: 男 | M8: 女 | N8: 其他 | O8: 不詳 | P8: 男 | Q8: 女 | R8: 其他 | S8: 不詳 | T8: 男 | U8: 女 | V8: 其他 | W8: 不詳 | X8: 男 | Y8: 女 | Z8: 其他 | AA8: 不詳 | AB8: 合計 | AC8: 未滿12歲 | AD8: 12-未滿15歲 | AE8: 15-未滿18歲 | AF8: 計 | AG8: 男 | AH8: 女 | AI8: 其他 | AJ8: 不詳 | AK8: 計 | AL8: 男 | AM8: 女 | AN8: 其他 | AO8: 不詳 | AP8: 計 | AQ8: 男 | AR8: 女 | AS8: 其他 | AT8: 計 | AU8: 男 | AV8: 女 | AW8: 其他 | AX8: 計 | AY8: 男 | AZ8: 女 | BA8: 其他 | BB8: 計 | BC8: 男 | BD8: 女 | BE8: 其他 | BF8: 計 | BG8: 男 | BH8: 女 | BI8: 其他 | BJ8: 計 | BK8: 男 | BL8: 女 | BM8: 其他 | BN8: 計 | BO8: 男 | BP8: 女 | BQ8: 其他 | BR8: 計 | BS8: 男 | BT8: 女 | BU8: 其他 | BV8: 計 | BW8: 男 | BX8: 女 | BY8: 其他 | BZ8: 計 | CA8: 男 | CB8: 女 | CC8: 其他 | CD8: 計 | CE8: 男 | CF8: 女 | CG8: 其他 | CH8: 計 | CI8: 男 | CJ8: 女 | CK8: 其他 | CL8: 計 | CM8: 男 | CN8: 女 | CO8: 其他 | CP8: 計 | CQ8: 男 | CR8: 女 | CS8: 其他
C9: Sub-Total | D9: Male | E9: Female | F9: Other | G9: Unknown | H9: Male | I9: Female | J9: Other | K9: Unknown | L9: Male | M9: Female | N9: Other | O9: Unknown | P9: Male | Q9: Female | R9: Other | S9: Unknown | T9: Male | U9: Female | V9: Other | W9: Unknown | X9: Male | Y9: Female | Z9: Other | AA9: Unknown | AB9: Total | AC9: Under 12 Years | AD9: 12-Under 15 Years | AE9: 15-Under 18 Years | AF9: Sub-Total | AG9: Male | AH9: Female | AI9: Other | AJ9: Unknown | AK9: Sub-Total | AL9: Male | AM9: Female | AN9: Other | AO9: Unknown | AP9: Sub-Total | AQ9: Male | AR9: Female | AS9: Other | AT9: Sub-Total | AU9: Male | AV9: Female | AW9: Other | AX9: Sub-Total | AY9: Male | AZ9: Female | BA9: Other | BB9: Sub-Total | BC9: Male | BD9: Female | BE9: Other | BF9: Sub-Total | BG9: Male | BH9: Female | BI9: Other | BJ9: Sub-Total | BK9: Male | BL9: Female | BM9: Other | BN9: Sub-Total | BO9: Male | BP9: Female | BQ9: Other | BR9: Sub-Total | BS9: Male | BT9: Female | BU9: Other | BV9: Sub-Total | BW9: Male | BX9: Female | BY9: Other | BZ9: Sub-Total | CA9: Male | CB9: Female | CC9: Other | CD9: Sub-Total | CE9: Male | CF9: Female | CG9: Other | CH9: Sub-Total | CI9: Male | CJ9: Female | CK9: Other | CL9: Sub-Total | CM9: Male | CN9: Female | CO9: Other | CP9: Sub-Total | CQ9: Male | CR9: Female | CS9: Other
A10: 總計 Total | C10: 3582 | D10: 1172 | E10: 2410 | F10: 0 | G10: 0 | H10: 1111 | I10: 2261 | J10: 0 | K10: 0 | L10: 57 | M10: 142 | N10: 0 | O10: 0 | P10: 0 | Q10: 1 | R10: 0 | S10: 0 | T10: 1 | U10: 5 | V10: 0 | W10: 0 | X10: 3 | Y10: 1 | Z10: 0 | AA10: 0 | AB10: 3582 | AC10: 397 | AD10: 1465 | AE10: 1720 | AF10: 2226 | AG10: 736 | AH10: 1490 | AI10: 0 | AJ10: 0 | AK10: 3582 | AL10: 1170 | AM10: 2412 | AN10: 0 | AO10: 0 | AP10: 87 | AQ10: 0 | AR10: 87 | AS10: 0 | AT10: 74 | AU10: 0 | AV10: 74 | AW10: 0 | AX10: 123 | AY10: 0 | AZ10: 123 | BA10: 0 | BB10: 83 | BC10: 0 | BD10: 83 | BE10: 0 | BF10: 4 | BG10: 0 | BH10: 4 | BI10: 0 | BJ10: 17 | BK10: 0 | BL10: 17 | BM10: 0 | BN10: 19 | BO10: 0 | BP10: 19 | BQ10: 0 | BR10: 52 | BS10: 0 | BT10: 52 | BU10: 0 | BV10: 3 | BW10: 0 | BX10: 3 | BY10: 0 | BZ10: 15 | CA10: 0 | CB10: 15 | CC10: 0 | CD10: 31 | CE10: 0 | CF10: 31 | CG10: 0 | CH10: 1 | CI10: 0 | CJ10: 1 | CK10: 0 | CL10: 17 | CM10: 0 | CN10: 17 | CO10: 0 | CP10: 4 | CQ10: 0 | CR10: 4 | CS10: 0
A11: 新北市 | B11: New Taipei City | C11: 654 | D11: 207 | E11: 447 | F11: 0 | G11: 0 | H11: 204 | I11: 438 | J11: 0 | K11: 0 | L11: 3 | M11: 9 | N11: 0 | O11: 0 | P11: 0 | Q11: 0 | R11: 0 | S11: 0 | T11: 0 | U11: 0 | V11: 0 | W11: 0 | X11: 0 | Y11: 0 | Z11: 0 | AA11: 0 | AB11: 654 | AC11: 61 | AD11: 292 | AE11: 301 | AF11: 345 | AG11: 112 | AH11: 233 | AI11: 0 | AJ11: 0 | AK11: 654 | AL11: 207 | AM11: 447 | AN11: 0 | AO11: 0 | AP11: 13 | AQ11: 0 | AR11: 13 | AS11: 0 | AT11: 13 | AU11: 0 | AV11: 13 | AW11: 0 | AX11: 19 | AY11: 0 | AZ11: 19 | BA11: 0 | BB11: 15 | BC11: 0 | BD11: 15 | BE11: 0 | BF11: 0 | BG11: 0 | BH11: 0 | BI11: 0 | BJ11: 2 | BK11: 0 | BL11: 2 | BM11: 0 | BN11: 2 | BO11: 0 | BP11: 2 | BQ11: 0 | BR11: 13 | BS11: 0 | BT11: 13 | BU11: 0 | BV11: 0 | BW11: 0 | BX11: 0 | BY11: 0 | BZ11: 0 | CA11: 0 | CB11: 0 | CC11: 0 | CD11: 2 | CE11: 0 | CF11: 2 | CG11: 0 | CH11: 0 | CI11: 0 | CJ11: 0 | CK11: 0 | CL11: 2 | CM11: 0 | CN11: 2 | CO11: 0 | CP11: 2 | CQ11: 0 | CR11: 2 | CS11: 0
A12: 臺北市 | B12: Taipei City | C12: 371 | D12: 97 | E12: 274 | F12: 0 | G12: 0 | H12: 97 | I12: 272 | J12: 0 | K12: 0 | L12: 0 | M12: 0 | N12: 0 | O12: 0 | P12: 0 | Q12: 1 | R12: 0 | S12: 0 | T12: 0 | U12: 1 | V12: 0 | W12: 0 | X12: 0 | Y12: 0 | Z12: 0 | AA12: 0 | AB12: 371 | AC12: 62 | AD12: 116 | AE12: 193 | AF12: 147 | AG12: 34 | AH12: 113 | AI12: 0 | AJ12: 0 | AK12: 371 | AL12: 97 | AM12: 274 | AN12: 0 | AO12: 0 | AP12: 6 | AQ12: 0 | AR12: 6 | AS12: 0 | AT12: 6 | AU12: 0 | AV12: 6 | AW12: 0 | AX12: 6 | AY12: 0 | AZ12: 6 | BA12: 0 | BB12: 5 | BC12: 0 | BD12: 5 | BE12: 0 | BF12: 0 | BG12: 0 | BH12: 0 | BI12: 0 | BJ12: 1 | BK12: 0 | BL12: 1 | BM12: 0 | BN12: 0 | BO12: 0 | BP12: 0 | BQ12: 0 | BR12: 4 | BS12: 0 | BT12: 4 | BU12: 0 | BV12: 0 | BW12: 0 | BX12: 0 | BY12: 0 | BZ12: 0 | CA12: 0 | CB12: 0 | CC12: 0 | CD12: 1 | CE12: 0 | CF12: 1 | CG12: 0 | CH12: 0 | CI12: 0 | CJ12: 0 | CK12: 0 | CL12: 1 | CM12: 0 | CN12: 1 | CO12: 0 | CP12: 0 | CQ12: 0 | CR12: 0 | CS12: 0
A13: 桃園市 | B13: Taoyuan City | C13: 395 | D13: 107 | E13: 288 | F13: 0 | G13: 0 | H13: 100 | I13: 258 | J13: 0 | K13: 0 | L13: 7 | M13: 28 | N13: 0 | O13: 0 | P13: 0 | Q13: 0 | R13: 0 | S13: 0 | T13: 0 | U13: 2 | V13: 0 | W13: 0 | X13: 0 | Y13: 0 | Z13: 0 | AA13: 0 | AB13: 395 | AC13: 36 | AD13: 165 | AE13: 194 | AF13: 242 | AG13: 59 | AH13: 183 | AI13: 0 | AJ13: 0 | AK13: 395 | AL13: 107 | AM13: 288 | AN13: 0 | AO13: 0 | AP13: 17 | AQ13: 0 | AR13: 17 | AS13: 0 | AT13: 17 | AU13: 0 | AV13: 17 | AW13: 0 | AX13: 31 | AY13: 0 | AZ13: 31 | BA13: 0 | BB13: 28 | BC13: 0 | BD13: 28 | BE13: 0 | BF13: 0 | BG13: 0 | BH13: 0 | BI13: 0 | BJ13: 3 | BK13: 0 | BL13: 3 | BM13: 0 | BN13: 0 | BO13: 0 | BP13: 0 | BQ13: 0 | BR13: 16 | BS13: 0 | BT13: 16 | BU13: 0 | BV13: 0 | BW13: 0 | BX13: 0 | BY13: 0 | BZ13: 0 | CA13: 0 | CB13: 0 | CC13: 0 | CD13: 12 | CE13: 0 | CF13: 12 | CG13: 0 | CH13: 0 | CI13: 0 | CJ13: 0 | CK13: 0 | CL13: 3 | CM13: 0 | CN13: 3 | CO13: 0 | CP13: 0 | CQ13: 0 | CR13: 0 | CS13: 0
A14: 臺中市 | B14: Taichung City | C14: 455 | D14: 155 | E14: 300 | F14: 0 | G14: 0 | H14: 150 | I14: 285 | J14: 0 | K14: 0 | L14: 5 | M14: 14 | N14: 0 | O14: 0 | P14: 0 | Q14: 0 | R14: 0 | S14: 0 | T14: 0 | U14: 1 | V14: 0 | W14: 0 | X14: 0 | Y14: 0 | Z14: 0 | AA14: 0 | AB14: 455 | AC14: 51 | AD14: 188 | AE14: 216 | AF14: 360 | AG14: 120 | AH14: 240 | AI14: 0 | AJ14: 0 | AK14: 455 | AL14: 155 | AM14: 300 | AN14: 0 | AO14: 0 | AP14: 7 | AQ14: 0 | AR14: 7 | AS14: 0 | AT14: 5 | AU14: 0 | AV14: 5 | AW14: 0 | AX14: 7 | AY14: 0 | AZ14: 7 | BA14: 0 | BB14: 7 | BC14: 0 | BD14: 7 | BE14: 0 | BF14: 0 | BG14: 0 | BH14: 0 | BI14: 0 | BJ14: 0 | BK14: 0 | BL14: 0 | BM14: 0 | BN14: 0 | BO14: 0 | BP14: 0 | BQ14: 0 | BR14: 5 | BS14: 0 | BT14: 5 | BU14: 0 | BV14: 0 | BW14: 0 | BX14: 0 | BY14: 0 | BZ14: 0 | CA14: 0 | CB14: 0 | CC14: 0 | CD14: 2 | CE14: 0 | CF14: 2 | CG14: 0 | CH14: 0 | CI14: 0 | CJ14: 0 | CK14: 0 | CL14: 0 | CM14: 0 | CN14: 0 | CO14: 0 | CP14: 0 | CQ14: 0 | CR14: 0 | CS14: 0
A15: 臺南市 | B15: Tainan City | C15: 272 | D15: 89 | E15: 183 | F15: 0 | G15: 0 | H15: 83 | I15: 177 | J15: 0 | K15: 0 | L15: 5 | M15: 6 | N15: 0 | O15: 0 | P15: 0 | Q15: 0 | R15: 0 | S15: 0 | T15: 0 | U15: 0 | V15: 0 | W15: 0 | X15: 1 | Y15: 0 | Z15: 0 | AA15: 0 | AB15: 272 | AC15: 36 | AD15: 100 | AE15: 136 | AF15: 179 | AG15: 57 | AH15: 122 | AI15: 0 | AJ15: 0 | AK15: 272 | AL15: 89 | AM15: 183 | AN15: 0 | AO15: 0 | AP15: 4 | AQ15: 0 | AR15: 4 | AS15: 0 | AT15: 3 | AU15: 0 | AV15: 3 | AW15: 0 | AX15: 4 | AY15: 0 | AZ15: 4 | BA15: 0 | BB15: 2 | BC15: 0 | BD15: 2 | BE15: 0 | BF15: 0 | BG15: 0 | BH15: 0 | BI15: 0 | BJ15: 1 | BK15: 0 | BL15: 1 | BM15: 0 | BN15: 1 | BO15: 0 | BP15: 1 | BQ15: 0 | BR15: 2 | BS15: 0 | BT15: 2 | BU15: 0 | BV15: 0 | BW15: 0 | BX15: 0 | BY15: 0 | BZ15: 1 | CA15: 0 | CB15: 1 | CC15: 0 | CD15: 0 | CE15: 0 | CF15: 0 | CG15: 0 | CH15: 0 | CI15: 0 | CJ15: 0 | CK15: 0 | CL15: 1 | CM15: 0 | CN15: 1 | CO15: 0 | CP15: 0 | CQ15: 0 | CR15: 0 | CS15: 0
A16: 高雄市 | B16: Kaohsiung City | C16: 405 | D16: 142 | E16: 263 | F16: 0 | G16: 0 | H16: 138 | I16: 254 | J16: 0 | K16: 0 | L16: 3 | M16: 8 | N16: 0 | O16: 0 | P16: 0 | Q16: 0 | R16: 0 | S16: 0 | T16: 0 | U16: 1 | V16: 0 | W16: 0 | X16: 1 | Y16: 0 | Z16: 0 | AA16: 0 | AB16: 405 | AC16: 37 | AD16: 181 | AE16: 187 | AF16: 241 | AG16: 87 | AH16: 154 | AI16: 0 | AJ16: 0 | AK16: 405 | AL16: 142 | AM16: 263 | AN16: 0 | AO16: 0 | AP16: 11 | AQ16: 0 | AR16: 11 | AS16: 0 | AT16: 11 | AU16: 0 | AV16: 11 | AW16: 0 | AX16: 17 | AY16: 0 | AZ16: 17 | BA16: 0 | BB16: 0 | BC16: 0 | BD16: 0 | BE16: 0 | BF16: 0 | BG16: 0 | BH16: 0 | BI16: 0 | BJ16: 6 | BK16: 0 | BL16: 6 | BM16: 0 | BN16: 11 | BO16: 0 | BP16: 11 | BQ16: 0 | BR16: 0 | BS16: 0 | BT16: 0 | BU16: 0 | BV16: 0 | BW16: 0 | BX16: 0 | BY16: 0 | BZ16: 11 | CA16: 0 | CB16: 11 | CC16: 0 | CD16: 0 | CE16: 0 | CF16: 0 | CG16: 0 | CH16: 0 | CI16: 0 | CJ16: 0 | CK16: 0 | CL16: 6 | CM16: 0 | CN16: 6 | CO16: 0 | CP16: 0 | CQ16: 0 | CR16: 0 | CS16: 0
A17: 宜蘭縣 | B17: Yilan County | C17: 69 | D17: 17 | E17: 52 | F17: 0 | G17: 0 | H17: 17 | I17: 47 | J17: 0 | K17: 0 | L17: 0 | M17: 5 | N17: 0 | O17: 0 | P17: 0 | Q17: 0 | R17: 0 | S17: 0 | T17: 0 | U17: 0 | V17: 0 | W17: 0 | X17: 0 | Y17: 0 | Z17: 0 | AA17: 0 | AB17: 69 | AC17: 10 | AD17: 25 | AE17: 34 | AF17: 13 | AG17: 3 | AH17: 10 | AI17: 0 | AJ17: 0 | AK17: 69 | AL17: 17 | AM17: 52 | AN17: 0 | AO17: 0 | AP17: 0 | AQ17: 0 | AR17: 0 | AS17: 0 | AT17: 0 | AU17: 0 | AV17: 0 | AW17: 0 | AX17: 0 | AY17: 0 | AZ17: 0 | BA17: 0 | BB17: 0 | BC17: 0 | BD17: 0 | BE17: 0 | BF17: 0 | BG17: 0 | BH17: 0 | BI17: 0 | BJ17: 0 | BK17: 0 | BL17: 0 | BM17: 0 | BN17: 0 | BO17: 0 | BP17: 0 | BQ17: 0 | BR17: 0 | BS17: 0 | BT17: 0 | BU17: 0 | BV17: 0 | BW17: 0 | BX17: 0 | BY17: 0 | BZ17: 0 | CA17: 0 | CB17: 0 | CC17: 0 | CD17: 0 | CE17: 0 | CF17: 0 | CG17: 0 | CH17: 0 | CI17: 0 | CJ17: 0 | CK17: 0 | CL17: 0 | CM17: 0 | CN17: 0 | CO17: 0 | CP17: 0 | CQ17: 0 | CR17: 0 | CS17: 0
A18: 新竹縣 | B18: Hsinchu County | C18: 106 | D18: 44 | E18: 62 | F18: 0 | G18: 0 | H18: 33 | I18: 59 | J18: 0 | K18: 0 | L18: 10 | M18: 3 | N18: 0 | O18: 0 | P18: 0 | Q18: 0 | R18: 0 | S18: 0 | T18: 1 | U18: 0 | V18: 0 | W18: 0 | X18: 0 | Y18: 0 | Z18: 0 | AA18: 0 | AB18: 106 | AC18: 12 | AD18: 52 | AE18: 42 | AF18: 98 | AG18: 40 | AH18: 58 | AI18: 0 | AJ18: 0 | AK18: 106 | AL18: 44 | AM18: 62 | AN18: 0 | AO18: 0 | AP18: 4 | AQ18: 0 | AR18: 4 | AS18: 0 | AT18: 1 | AU18: 0 | AV18: 1 | AW18: 0 | AX18: 2 | AY18: 0 | AZ18: 2 | BA18: 0 | BB18: 1 | BC18: 0 | BD18: 1 | BE18: 0 | BF18: 0 | BG18: 0 | BH18: 0 | BI18: 0 | BJ18: 1 | BK18: 0 | BL18: 1 | BM18: 0 | BN18: 0 | BO18: 0 | BP18: 0 | BQ18: 0 | BR18: 1 | BS18: 0 | BT18: 1 | BU18: 0 | BV18: 0 | BW18: 0 | BX18: 0 | BY18: 0 | BZ18: 0 | CA18: 0 | CB18: 0 | CC18: 0 | CD18: 0 | CE18: 0 | CF18: 0 | CG18: 0 | CH18: 0 | CI18: 0 | CJ18: 0 | CK18: 0 | CL18: 1 | CM18: 0 | CN18: 1 | CO18: 0 | CP18: 0 | CQ18: 0 | CR18: 0 | CS18: 0
A19: 苗栗縣 | B19: Miaoli County | C19: 69 | D19: 20 | E19: 49 | F19: 0 | G19: 0 | H19: 19 | I19: 48 | J19: 0 | K19: 0 | L19: 1 | M19: 1 | N19: 0 | O19: 0 | P19: 0 | Q19: 0 | R19: 0 | S19: 0 | T19: 0 | U19: 0 | V19: 0 | W19: 0 | X19: 0 | Y19: 0 | Z19: 0 | AA19: 0 | AB19: 69 | AC19: 4 | AD19: 32 | AE19: 33 | AF19: 51 | AG19: 14 | AH19: 37 | AI19: 0 | AJ19: 0 | AK19: 69 | AL19: 20 | AM19: 49 | AN19: 0 | AO19: 0 | AP19: 1 | AQ19: 0 | AR19: 1 | AS19: 0 | AT19: 1 | AU19: 0 | AV19: 1 | AW19: 0 | AX19: 1 | AY19: 0 | AZ19: 1 | BA19: 0 | BB19: 0 | BC19: 0 | BD19: 0 | BE19: 0 | BF19: 0 | BG19: 0 | BH19: 0 | BI19: 0 | BJ19: 0 | BK19: 0 | BL19: 0 | BM19: 0 | BN19: 1 | BO19: 0 | BP19: 1 | BQ19: 0 | BR19: 0 | BS19: 0 | BT19: 0 | BU19: 0 | BV19: 0 | BW19: 0 | BX19: 0 | BY19: 0 | BZ19: 1 | CA19: 0 | CB19: 1 | CC19: 0 | CD19: 0 | CE19: 0 | CF19: 0 | CG19: 0 | CH19: 0 | CI19: 0 | CJ19: 0 | CK19: 0 | CL19: 0 | CM19: 0 | CN19: 0 | CO19: 0 | CP19: 0 | CQ19: 0 | CR19: 0 | CS19: 0
A20: 彰化縣 | B20: Changhua County | C20: 201 | D20: 77 | E20: 124 | F20: 0 | G20: 0 | H20: 75 | I20: 119 | J20: 0 | K20: 0 | L20: 1 | M20: 4 | N20: 0 | O20: 0 | P20: 0 | Q20: 0 | R20: 0 | S20: 0 | T20: 0 | U20: 0 | V20: 0 | W20: 0 | X20: 1 | Y20: 1 | Z20: 0 | AA20: 0 | AB20: 201 | AC20: 19 | AD20: 75 | AE20: 107 | AF20: 176 | AG20: 74 | AH20: 102 | AI20: 0 | AJ20: 0 | AK20: 201 | AL20: 76 | AM20: 125 | AN20: 0 | AO20: 0 | AP20: 4 | AQ20: 0 | AR20: 4 | AS20: 0 | AT20: 4 | AU20: 0 | AV20: 4 | AW20: 0 | AX20: 7 | AY20: 0 | AZ20: 7 | BA20: 0 | BB20: 4 | BC20: 0 | BD20: 4 | BE20: 0 | BF20: 2 | BG20: 0 | BH20: 2 | BI20: 0 | BJ20: 0 | BK20: 0 | BL20: 0 | BM20: 0 | BN20: 1 | BO20: 0 | BP20: 1 | BQ20: 0 | BR20: 3 | BS20: 0 | BT20: 3 | BU20: 0 | BV20: 1 | BW20: 0 | BX20: 1 | BY20: 0 | BZ20: 0 | CA20: 0 | CB20: 0 | CC20: 0 | CD20: 1 | CE20: 0 | CF20: 1 | CG20: 0 | CH20: 1 | CI20: 0 | CJ20: 1 | CK20: 0 | CL20: 0 | CM20: 0 | CN20: 0 | CO20: 0 | CP20: 1 | CQ20: 0 | CR20: 1 | CS20: 0
A21: 南投縣 | B21: Nantou County | C21: 78 | D21: 31 | E21: 47 | F21: 0 | G21: 0 | H21: 26 | I21: 40 | J21: 0 | K21: 0 | L21: 5 | M21: 7 | N21: 0 | O21: 0 | P21: 0 | Q21: 0 | R21: 0 | S21: 0 | T21: 0 | U21: 0 | V21: 0 | W21: 0 | X21: 0 | Y21: 0 | Z21: 0 | AA21: 0 | AB21: 78 | AC21: 10 | AD21: 35 | AE21: 33 | AF21: 37 | AG21: 15 | AH21: 22 | AI21: 0 | AJ21: 0 | AK21: 78 | AL21: 31 | AM21: 47 | AN21: 0 | AO21: 0 | AP21: 0 | AQ21: 0 | AR21: 0 | AS21: 0 | AT21: 0 | AU21: 0 | AV21: 0 | AW21: 0 | AX21: 0 | AY21: 0 | AZ21: 0 | BA21: 0 | BB21: 0 | BC21: 0 | BD21: 0 | BE21: 0 | BF21: 0 | BG21: 0 | BH21: 0 | BI21: 0 | BJ21: 0 | BK21: 0 | BL21: 0 | BM21: 0 | BN21: 0 | BO21: 0 | BP21: 0 | BQ21: 0 | BR21: 0 | BS21: 0 | BT21: 0 | BU21: 0 | BV21: 0 | BW21: 0 | BX21: 0 | BY21: 0 | BZ21: 0 | CA21: 0 | CB21: 0 | CC21: 0 | CD21: 0 | CE21: 0 | CF21: 0 | CG21: 0 | CH21: 0 | CI21: 0 | CJ21: 0 | CK21: 0 | CL21: 0 | CM21: 0 | CN21: 0 | CO21: 0 | CP21: 0 | CQ21: 0 | CR21: 0 | CS21: 0
A22: 雲林縣 | B22: Yunlin County | C22: 57 | D22: 25 | E22: 32 | F22: 0 | G22: 0 | H22: 25 | I22: 32 | J22: 0 | K22: 0 | L22: 0 | M22: 0 | N22: 0 | O22: 0 | P22: 0 | Q22: 0 | R22: 0 | S22: 0 | T22: 0 | U22: 0 | V22: 0 | W22: 0 | X22: 0 | Y22: 0 | Z22: 0 | AA22: 0 | AB22: 57 | AC22: 7 | AD22: 22 | AE22: 28 | AF22: 46 | AG22: 20 | AH22: 26 | AI22: 0 | AJ22: 0 | AK22: 57 | AL22: 25 | AM22: 32 | AN22: 0 | AO22: 0 | AP22: 0 | AQ22: 0 | AR22: 0 | AS22: 0 | AT22: 0 | AU22: 0 | AV22: 0 | AW22: 0 | AX22: 0 | AY22: 0 | AZ22: 0 | BA22: 0 | BB22: 0 | BC22: 0 | BD22: 0 | BE22: 0 | BF22: 0 | BG22: 0 | BH22: 0 | BI22: 0 | BJ22: 0 | BK22: 0 | BL22: 0 | BM22: 0 | BN22: 0 | BO22: 0 | BP22: 0 | BQ22: 0 | BR22: 0 | BS22: 0 | BT22: 0 | BU22: 0 | BV22: 0 | BW22: 0 | BX22: 0 | BY22: 0 | BZ22: 0 | CA22: 0 | CB22: 0 | CC22: 0 | CD22: 0 | CE22: 0 | CF22: 0 | CG22: 0 | CH22: 0 | CI22: 0 | CJ22: 0 | CK22: 0 | CL22: 0 | CM22: 0 | CN22: 0 | CO22: 0 | CP22: 0 | CQ22: 0 | CR22: 0 | CS22: 0
... A32: 連江縣 | B32: Lienchiang County | C32: 1 | D32: 0 | E32: 1 | F32: 0 | G32: 0 | H32: 0 | I32: 1 | J32: 0 | K32: 0 | L32: 0 | M32: 0 | N32: 0 | O32: 0 | P32: 0 | Q32: 0 | R32: 0 | S32: 0 | T32: 0 | U32: 0 | V32: 0 | W32: 0 | X32: 0 | Y32: 0 | Z32: 0 | AA32: 0 | AB32: 1 | AC32: 0 | AD32: 0 | AE32: 1 | AF32: 1 | AG32: 0 | AH32: 1 | AI32: 0 | AJ32: 0 | AK32: 1 | AL32: 0 | AM32: 1 | AN32: 0 | AO32: 0 | AP32: 0 | AQ32: 0 | AR32: 0 | AS32: 0 | AT32: 0 | AU32: 0 | AV32: 0 | AW32: 0 | AX32: 1 | AY32: 0 | AZ32: 1 | BA32: 0 | BB32: 0 | BC32: 0 | BD32: 0 | BE32: 0 | BF32: 0 | BG32: 0 | BH32: 0 | BI32: 0 | BJ32: 1 | BK32: 0 | BL32: 1 | BM32: 0 | BN32: 0 | BO32: 0 | BP32: 0 | BQ32: 0 | BR32: 0 | BS32: 0 | BT32: 0 | BU32: 0 | BV32: 0 | BW32: 0 | BX32: 0 | BY32: 0 | BZ32: 0 | CA32: 0 | CB32: 0 | CC32: 0 | CD32: 0 | CE32: 0 | CF32: 0 | CG32: 0 | CH32: 0 | CI32: 0 | CJ32: 0 | CK32: 0 | CL32: 1 | CM32: 0 | CN32: 1 | CO32: 0 | CP32: 0 | CQ32: 0 | CR32: 0 | CS32: 0
A33: 資料來源：直轄市、縣﹝市﹞政府。
A34: Source : County and City Government.

Sheet 112
A1: 兒童及少年性剝削案件安置情形
A3: 民國112年, 2023
A4: 區域別 Locality | C4: 受理通報(報告)人數(人) | AF4: 派員陪同偵訊個案數(件) | AK4: 評估處理情形(件) | AP4: 緊急安置數(人) | AT4: 緊急安置個案向法院聲請第一次裁定數(人) | AX4: 入住人數(人次) Number of Persons Being Admitted
C5: 合計 | H5: 本國籍 Nationals | P5: 大陸籍 | T5: 外國籍 | X5: 其他 | AB5: 按年齡分 By Age | AX5: 總計Total | BR5: 依第一次裁定結果繼續安置Continued Placement According to the Results of First Ruling | CD5: 依第二次裁定結果安置Placement According to the Results of Second Ruling
H6: 一般 | L6: 原住民 | AF6: Cases Of Accompanying For Court | AK6: Status Of Victim Evaluation | AP6: Number Of Victims Under Emergency Placement | AT6: Number of Victims under Emergency Placement Who Apply to the Court for First Ruling | AX6: 合計Total | BB6: 兒童及少年福利機構 | BF6: 寄養家庭 | BJ6: 中途學校 | BN6: 其他適當之醫療、教育機構 | BR6: 兒童及少年福利機構 | BV6: 寄養家庭 | BZ6: 其他適當之醫療、教育機構 | CD6: 兒童及少年福利機構 | CH6: 寄養家庭 | CL6: 中途學校 | CP6: 其他適當之醫療、教育機構
C7: Total | H7: General | L7: Aborigines | P7: Mainlanders | T7: Foreigners | X7: Others | BB7: Child and Youth Welfare Institutions | BF7: Fostering Families | BJ7: Midway School | BN7: Other Appropriate Medical and Educational Institutions | BR7: Child and Youth Welfare Institutions | BV7: Fostering Families | BZ7: Other Appropriate Medical and Educational Institutions | CD7: Child and Youth Welfare Institutions | CH7: Fostering Families | CL7: Midway School | CP7: Other Appropriate Medical and Educational Institutions
C8: 計 | D8: 男 | E8: 女 | F8: 其他 | G8: 不詳 | H8: 男 | I8: 女 | J8: 其他 | K8: 不詳 | L8: 男 | M8: 女 | N8: 其他 | O8: 不詳 | P8: 男 | Q8: 女 | R8: 其他 | S8: 不詳 | T8: 男 | U8: 女 | V8: 其他 | W8: 不詳 | X8: 男 | Y8: 女 | Z8: 其他 | AA8: 不詳 | AB8: 合計 | AC8: 未滿12歲 | AD8: 12-未滿15歲 | AE8: 15-未滿18歲 | AF8: 計 | AG8: 男 | AH8: 女 | AI8: 其他 | AJ8: 不詳 | AK8: 計 | AL8: 男 | AM8: 女 | AN8: 其他 | AO8: 不詳 | AP8: 計 | AQ8: 男 | AR8: 女 | AS8: 其他 | AT8: 計 | AU8: 男 | AV8: 女 | AW8: 其他 | AX8: 計 | AY8: 男 | AZ8: 女 | BA8: 其他 | BB8: 計 | BC8: 男 | BD8: 女 | BE8: 其他 | BF8: 計 | BG8: 男 | BH8: 女 | BI8: 其他 | BJ8: 計 | BK8: 男 | BL8: 女 | BM8: 其他 | BN8: 計 | BO8: 男 | BP8: 女 | BQ8: 其他 | BR8: 計 | BS8: 男 | BT8: 女 | BU8: 其他 | BV8: 計 | BW8: 男 | BX8: 女 | BY8: 其他 | BZ8: 計 | CA8: 男 | CB8: 女 | CC8: 其他 | CD8: 計 | CE8: 男 | CF8: 女 | CG8: 其他 | CH8: 計 | CI8: 男 | CJ8: 女 | CK8: 其他 | CL8: 計 | CM8: 男 | CN8: 女 | CO8: 其他 | CP8: 計 | CQ8: 男 | CR8: 女 | CS8: 其他
C9: Sub-Total | D9: Male | E9: Female | F9: Other | G9: Unknown | H9: Male | I9: Female | J9: Other | K9: Unknown | L9: Male | M9: Female | N9: Other | O9: Unknown | P9: Male | Q9: Female | R9: Other | S9: Unknown | T9: Male | U9: Female | V9: Other | W9: Unknown | X9: Male | Y9: Female | Z9: Other | AA9: Unknown | AB9: Total | AC9: Under 12 Years | AD9: 12-Under 15 Years | AE9: 15-Under 18 Years | AF9: Sub-Total | AG9: Male | AH9: Female | AI9: Other | AJ9: Unknown | AK9: Sub-Total | AL9: Male | AM9: Female | AN9: Other | AO9: Unknown | AP9: Sub-Total | AQ9: Male | AR9: Female | AS9: Other | AT9: Sub-Total | AU9: Male | AV9: Female | AW9: Other | AX9: Sub-Total | AY9: Male | AZ9: Female | BA9: Other | BB9: Sub-Total | BC9: Male | BD9: Female | BE9: Other | BF9: Sub-Total | BG9: Male | BH9: Female | BI9: Other | BJ9: Sub-Total | BK9: Male | BL9: Female | BM9: Other | BN9: Sub-Total | BO9: Male | BP9: Female | BQ9: Other | BR9: Sub-Total | BS9: Male | BT9: Female | BU9: Other | BV9: Sub-Total | BW9: Male | BX9: Female | BY9: Other | BZ9: Sub-Total | CA9: Male | CB9: Female | CC9: Other | CD9: Sub-Total | CE9: Male | CF9: Female | CG9: Other | CH9: Sub-Total | CI9: Male | CJ9: Female | CK9: Other | CL9: Sub-Total | CM9: Male | CN9: Female | CO9: Other | CP9: Sub-Total | CQ9: Male | CR9: Female | CS9: Other
A10: 總計 Total | C10: 3354 | D10: 1027 | E10: 2327 | F10: 0 | G10: 0 | H10: 956 | I10: 2134 | J10: 0 | K10: 0 | L10: 70 | M10: 182 | N10: 0 | O10: 0 | P10: 0 | Q10: 5 | R10: 0 | S10: 0 | T10: 0 | U10: 5 | V10: 0 | W10: 0 | X10: 1 | Y10: 1 | Z10: 0 | AA10: 0 | AB10: 3354 | AC10: 352 | AD10: 1328 | AE10: 1674 | AF10: 1982 | AG10: 635 | AH10: 1340 | AI10: 7 | AJ10: 0 | AK10: 3354 | AL10: 1027 | AM10: 2327 | AN10: 0 | AO10: 0 | AP10: 106 | AQ10: 2 | AR10: 104 | AS10: 0 | AT10: 80 | AU10: 0 | AV10: 80 | AW10: 0 | AX10: 141 | AY10: 0 | AZ10: 141 | BA10: 0 | BB10: 95 | BC10: 0 | BD10: 95 | BE10: 0 | BF10: 2 | BG10: 0 | BH10: 2 | BI10: 0 | BJ10: 26 | BK10: 0 | BL10: 26 | BM10: 0 | BN10: 18 | BO10: 0 | BP10: 18 | BQ10: 0 | BR10: 58 | BS10: 0 | BT10: 58 | BU10: 0 | BV10: 1 | BW10: 0 | BX10: 1 | BY10: 0 | BZ10: 16 | CA10: 0 | CB10: 16 | CC10: 0 | CD10: 37 | CE10: 0 | CF10: 37 | CG10: 0 | CH10: 1 | CI10: 0 | CJ10: 1 | CK10: 0 | CL10: 26 | CM10: 0 | CN10: 26 | CO10: 0 | CP10: 2 | CQ10: 0 | CR10: 2 | CS10: 0
A11: 新北市 | B11: New Taipei City | C11: 583 | D11: 149 | E11: 434 | F11: 0 | G11: 0 | H11: 141 | I11: 411 | J11: 0 | K11: 0 | L11: 8 | M11: 19 | N11: 0 | O11: 0 | P11: 0 | Q11: 1 | R11: 0 | S11: 0 | T11: 0 | U11: 2 | V11: 0 | W11: 0 | X11: 0 | Y11: 1 | Z11: 0 | AA11: 0 | AB11: 583 | AC11: 62 | AD11: 238 | AE11: 283 | AF11: 331 | AG11: 84 | AH11: 247 | AI11: 0 | AJ11: 0 | AK11: 583 | AL11: 149 | AM11: 434 | AN11: 0 | AO11: 0 | AP11: 9 | AQ11: 0 | AR11: 9 | AS11: 0 | AT11: 7 | AU11: 0 | AV11: 7 | AW11: 0 | AX11: 12 | AY11: 0 | AZ11: 12 | BA11: 0 | BB11: 8 | BC11: 0 | BD11: 8 | BE11: 0 | BF11: 0 | BG11: 0 | BH11: 0 | BI11: 0 | BJ11: 3 | BK11: 0 | BL11: 3 | BM11: 0 | BN11: 1 | BO11: 0 | BP11: 1 | BQ11: 0 | BR11: 7 | BS11: 0 | BT11: 7 | BU11: 0 | BV11: 0 | BW11: 0 | BX11: 0 | BY11: 0 | BZ11: 0 | CA11: 0 | CB11: 0 | CC11: 0 | CD11: 1 | CE11: 0 | CF11: 1 | CG11: 0 | CH11: 0 | CI11: 0 | CJ11: 0 | CK11: 0 | CL11: 3 | CM11: 0 | CN11: 3 | CO11: 0 | CP11: 1 | CQ11: 0 | CR11: 1 | CS11: 0
A12: 臺北市 | B12: Taipei City | C12: 255 | D12: 79 | E12: 176 | F12: 0 | G12: 0 | H12: 79 | I12: 169 | J12: 0 | K12: 0 | L12: 0 | M12: 7 | N12: 0 | O12: 0 | P12: 0 | Q12: 0 | R12: 0 | S12: 0 | T12: 0 | U12: 0 | V12: 0 | W12: 0 | X12: 0 | Y12: 0 | Z12: 0 | AA12: 0 | AB12: 255 | AC12: 15 | AD12: 82 | AE12: 158 | AF12: 178 | AG12: 50 | AH12: 128 | AI12: 0 | AJ12: 0 | AK12: 255 | AL12: 79 | AM12: 176 | AN12: 0 | AO12: 0 | AP12: 6 | AQ12: 0 | AR12: 6 | AS12: 0 | AT12: 4 | AU12: 0 | AV12: 4 | AW12: 0 | AX12: 7 | AY12: 0 | AZ12: 7 | BA12: 0 | BB12: 7 | BC12: 0 | BD12: 7 | BE12: 0 | BF12: 0 | BG12: 0 | BH12: 0 | BI12: 0 | BJ12: 0 | BK12: 0 | BL12: 0 | BM12: 0 | BN12: 0 | BO12: 0 | BP12: 0 | BQ12: 0 | BR12: 4 | BS12: 0 | BT12: 4 | BU12: 0 | BV12: 0 | BW12: 0 | BX12: 0 | BY12: 0 | BZ12: 0 | CA12: 0 | CB12: 0 | CC12: 0 | CD12: 3 | CE12: 0 | CF12: 3 | CG12: 0 | CH12: 0 | CI12: 0 | CJ12: 0 | CK12: 0 | CL12: 0 | CM12: 0 | CN12: 0 | CO12: 0 | CP12: 0 | CQ12: 0 | CR12: 0 | CS12: 0
A13: 桃園市 | B13: Taoyuan City | C13: 289 | D13: 77 | E13: 212 | F13: 0 | G13: 0 | H13: 69 | I13: 194 | J13: 0 | K13: 0 | L13: 8 | M13: 17 | N13: 0 | O13: 0 | P13: 0 | Q13: 1 | R13: 0 | S13: 0 | T13: 0 | U13: 0 | V13: 0 | W13: 0 | X13: 0 | Y13: 0 | Z13: 0 | AA13: 0 | AB13: 289 | AC13: 24 | AD13: 121 | AE13: 144 | AF13: 198 | AG13: 48 | AH13: 150 | AI13: 0 | AJ13: 0 | AK13: 289 | AL13: 77 | AM13: 212 | AN13: 0 | AO13: 0 | AP13: 18 | AQ13: 0 | AR13: 18 | AS13: 0 | AT13: 18 | AU13: 0 | AV13: 18 | AW13: 0 | AX13: 35 | AY13: 0 | AZ13: 35 | BA13: 0 | BB13: 27 | BC13: 0 | BD13: 27 | BE13: 0 | BF13: 0 | BG13: 0 | BH13: 0 | BI13: 0 | BJ13: 7 | BK13: 0 | BL13: 7 | BM13: 0 | BN13: 1 | BO13: 0 | BP13: 1 | BQ13: 0 | BR13: 16 | BS13: 0 | BT13: 16 | BU13: 0 | BV13: 0 | BW13: 0 | BX13: 0 | BY13: 0 | BZ13: 0 | CA13: 0 | CB13: 0 | CC13: 0 | CD13: 11 | CE13: 0 | CF13: 11 | CG13: 0 | CH13: 0 | CI13: 0 | CJ13: 0 | CK13: 0 | CL13: 7 | CM13: 0 | CN13: 7 | CO13: 0 | CP13: 1 | CQ13: 0 | CR13: 1 | CS13: 0
A14: 臺中市 | B14: Taichung City | C14: 409 | D14: 136 | E14: 273 | F14: 0 | G14: 0 | H14: 130 | I14: 256 | J14: 0 | K14: 0 | L14: 6 | M14: 16 | N14: 0 | O14: 0 | P14: 0 | Q14: 1 | R14: 0 | S14: 0 | T14: 0 | U14: 0 | V14: 0 | W14: 0 | X14: 0 | Y14: 0 | Z14: 0 | AA14: 0 | AB14: 409 | AC14: 59 | AD14: 140 | AE14: 210 | AF14: 240 | AG14: 83 | AH14: 157 | AI14: 0 | AJ14: 0 | AK14: 409 | AL14: 136 | AM14: 273 | AN14: 0 | AO14: 0 | AP14: 10 | AQ14: 0 | AR14: 10 | AS14: 0 | AT14: 8 | AU14: 0 | AV14: 8 | AW14: 0 | AX14: 16 | AY14: 0 | AZ14: 16 | BA14: 0 | BB14: 16 | BC14: 0 | BD14: 16 | BE14: 0 | BF14: 0 | BG14: 0 | BH14: 0 | BI14: 0 | BJ14: 0 | BK14: 0 | BL14: 0 | BM14: 0 | BN14: 0 | BO14: 0 | BP14: 0 | BQ14: 0 | BR14: 8 | BS14: 0 | BT14: 8 | BU14: 0 | BV14: 0 | BW14: 0 | BX14: 0 | BY14: 0 | BZ14: 0 | CA14: 0 | CB14: 0 | CC14: 0 | CD14: 8 | CE14: 0 | CF14: 8 | CG14: 0 | CH14: 0 | CI14: 0 | CJ14: 0 | CK14: 0 | CL14: 0 | CM14: 0 | CN14: 0 | CO14: 0 | CP14: 0 | CQ14: 0 | CR14: 0 | CS14: 0
A15: 臺南市 | B15: Tainan City | C15: 281 | D15: 78 | E15: 203 | F15: 0 | G15: 0 | H15: 77 | I15: 196 | J15: 0 | K15: 0 | L15: 1 | M15: 7 | N15: 0 | O15: 0 | P15: 0 | Q15: 0 | R15: 0 | S15: 0 | T15: 0 | U15: 0 | V15: 0 | W15: 0 | X15: 0 | Y15: 0 | Z15: 0 | AA15: 0 | AB15: 281 | AC15: 28 | AD15: 124 | AE15: 129 | AF15: 156 | AG15: 52 | AH15: 104 | AI15: 0 | AJ15: 0 | AK15: 281 | AL15: 78 | AM15: 203 | AN15: 0 | AO15: 0 | AP15: 5 | AQ15: 0 | AR15: 5 | AS15: 0 | AT15: 5 | AU15: 0 | AV15: 5 | AW15: 0 | AX15: 16 | AY15: 0 | AZ15: 16 | BA15: 0 | BB15: 6 | BC15: 0 | BD15: 6 | BE15: 0 | BF15: 0 | BG15: 0 | BH15: 0 | BI15: 0 | BJ15: 10 | BK15: 0 | BL15: 10 | BM15: 0 | BN15: 0 | BO15: 0 | BP15: 0 | BQ15: 0 | BR15: 5 | BS15: 0 | BT15: 5 | BU15: 0 | BV15: 0 | BW15: 0 | BX15: 0 | BY15: 0 | BZ15: 0 | CA15: 0 | CB15: 0 | CC15: 0 | CD15: 1 | CE15: 0 | CF15: 1 | CG15: 0 | CH15: 0 | CI15: 0 | CJ15: 0 | CK15: 0 | CL15: 10 | CM15: 0 | CN15: 10 | CO15: 0 | CP15: 0 | CQ15: 0 | CR15: 0 | CS15: 0
A16: 高雄市 | B16: Kaohsiung City | C16: 392 | D16: 143 | E16: 249 | F16: 0 | G16: 0 | H16: 140 | I16: 238 | J16: 0 | K16: 0 | L16: 3 | M16: 10 | N16: 0 | O16: 0 | P16: 0 | Q16: 1 | R16: 0 | S16: 0 | T16: 0 | U16: 0 | V16: 0 | W16: 0 | X16: 0 | Y16: 0 | Z16: 0 | AA16: 0 | AB16: 392 | AC16: 42 | AD16: 144 | AE16: 206 | AF16: 163 | AG16: 61 | AH16: 102 | AI16: 0 | AJ16: 0 | AK16: 392 | AL16: 143 | AM16: 249 | AN16: 0 | AO16: 0 | AP16: 16 | AQ16: 0 | AR16: 16 | AS16: 0 | AT16: 16 | AU16: 0 | AV16: 16 | AW16: 0 | AX16: 22 | AY16: 0 | AZ16: 22 | BA16: 0 | BB16: 0 | BC16: 0 | BD16: 0 | BE16: 0 | BF16: 0 | BG16: 0 | BH16: 0 | BI16: 0 | BJ16: 6 | BK16: 0 | BL16: 6 | BM16: 0 | BN16: 16 | BO16: 0 | BP16: 16 | BQ16: 0 | BR16: 0 | BS16: 0 | BT16: 0 | BU16: 0 | BV16: 0 | BW16: 0 | BX16: 0 | BY16: 0 | BZ16: 16 | CA16: 0 | CB16: 16 | CC16: 0 | CD16: 0 | CE16: 0 | CF16: 0 | CG16: 0 | CH16: 0 | CI16: 0 | CJ16: 0 | CK16: 0 | CL16: 6 | CM16: 0 | CN16: 6 | CO16: 0 | CP16: 0 | CQ16: 0 | CR16: 0 | CS16: 0
A17: 宜蘭縣 | B17: Yilan County | C17: 70 | D17: 23 | E17: 47 | F17: 0 | G17: 0 | H17: 23 | I17: 41 | J17: 0 | K17: 0 | L17: 0 | M17: 5 | N17: 0 | O17: 0 | P17: 0 | Q17: 1 | R17: 0 | S17: 0 | T17: 0 | U17: 0 | V17: 0 | W17: 0 | X17: 0 | Y17: 0 | Z17: 0 | AA17: 0 | AB17: 70 | AC17: 11 | AD17: 17 | AE17: 42 | AF17: 46 | AG17: 18 | AH17: 28 | AI17: 0 | AJ17: 0 | AK17: 70 | AL17: 23 | AM17: 47 | AN17: 0 | AO17: 0 | AP17: 0 | AQ17: 0 | AR17: 0 | AS17: 0 | AT17: 0 | AU17: 0 | AV17: 0 | AW17: 0 | AX17: 0 | AY17: 0 | AZ17: 0 | BA17: 0 | BB17: 0 | BC17: 0 | BD17: 0 | BE17: 0 | BF17: 0 | BG17: 0 | BH17: 0 | BI17: 0 | BJ17: 0 | BK17: 0 | BL17: 0 | BM17: 0 | BN17: 0 | BO17: 0 | BP17: 0 | BQ17: 0 | BR17: 0 | BS17: 0 | BT17: 0 | BU17: 0 | BV17: 0 | BW17: 0 | BX17: 0 | BY17: 0 | BZ17: 0 | CA17: 0 | CB17: 0 | CC17: 0 | CD17: 0 | CE17: 0 | CF17: 0 | CG17: 0 | CH17: 0 | CI17: 0 | CJ17: 0 | CK17: 0 | CL17: 0 | CM17: 0 | CN17: 0 | CO17: 0 | CP17: 0 | CQ17: 0 | CR17: 0 | CS17: 0
A18: 新竹縣 | B18: Hsinchu County | C18: 108 | D18: 29 | E18: 79 | F18: 0 | G18: 0 | H18: 26 | I18: 72 | J18: 0 | K18: 0 | L18: 3 | M18: 6 | N18: 0 | O18: 0 | P18: 0 | Q18: 0 | R18: 0 | S18: 0 | T18: 0 | U18: 1 | V18: 0 | W18: 0 | X18: 0 | Y18: 0 | Z18: 0 | AA18: 0 | AB18: 108 | AC18: 10 | AD18: 51 | AE18: 47 | AF18: 57 | AG18: 14 | AH18: 43 | AI18: 0 | AJ18: 0 | AK18: 108 | AL18: 29 | AM18: 79 | AN18: 0 | AO18: 0 | AP18: 1 | AQ18: 0 | AR18: 1 | AS18: 0 | AT18: 1 | AU18: 0 | AV18: 1 | AW18: 0 | AX18: 2 | AY18: 0 | AZ18: 2 | BA18: 0 | BB18: 2 | BC18: 0 | BD18: 2 | BE18: 0 | BF18: 0 | BG18: 0 | BH18: 0 | BI18: 0 | BJ18: 0 | BK18: 0 | BL18: 0 | BM18: 0 | BN18: 0 | BO18: 0 | BP18: 0 | BQ18: 0 | BR18: 1 | BS18: 0 | BT18: 1 | BU18: 0 | BV18: 0 | BW18: 0 | BX18: 0 | BY18: 0 | BZ18: 0 | CA18: 0 | CB18: 0 | CC18: 0 | CD18: 1 | CE18: 0 | CF18: 1 | CG18: 0 | CH18: 0 | CI18: 0 | CJ18: 0 | CK18: 0 | CL18: 0 | CM18: 0 | CN18: 0 | CO18: 0 | CP18: 0 | CQ18: 0 | CR18: 0 | CS18: 0
A19: 苗栗縣 | B19: Miaoli County | C19: 66 | D19: 21 | E19: 45 | F19: 0 | G19: 0 | H19: 20 | I19: 45 | J19: 0 | K19: 0 | L19: 1 | M19: 0 | N19: 0 | O19: 0 | P19: 0 | Q19: 0 | R19: 0 | S19: 0 | T19: 0 | U19: 0 | V19: 0 | W19: 0 | X19: 0 | Y19: 0 | Z19: 0 | AA19: 0 | AB19: 66 | AC19: 5 | AD19: 27 | AE19: 34 | AF19: 25 | AG19: 11 | AH19: 14 | AI19: 0 | AJ19: 0 | AK19: 66 | AL19: 21 | AM19: 45 | AN19: 0 | AO19: 0 | AP19: 1 | AQ19: 0 | AR19: 1 | AS19: 0 | AT19: 0 | AU19: 0 | AV19: 0 | AW19: 0 | AX19: 1 | AY19: 0 | AZ19: 1 | BA19: 0 | BB19: 0 | BC19: 0 | BD19: 0 | BE19: 0 | BF19: 1 | BG19: 0 | BH19: 1 | BI19: 0 | BJ19: 0 | BK19: 0 | BL19: 0 | BM19: 0 | BN19: 0 | BO19: 0 | BP19: 0 | BQ19: 0 | BR19: 0 | BS19: 0 | BT19: 0 | BU19: 0 | BV19: 1 | BW19: 0 | BX19: 1 | BY19: 0 | BZ19: 0 | CA19: 0 | CB19: 0 | CC19: 0 | CD19: 0 | CE19: 0 | CF19: 0 | CG19: 0 | CH19: 0 | CI19: 0 | CJ19: 0 | CK19: 0 | CL19: 0 | CM19: 0 | CN19: 0 | CO19: 0 | CP19: 0 | CQ19: 0 | CR19: 0 | CS19: 0
A20: 彰化縣 | B20: Changhua County | C20: 196 | D20: 77 | E20: 119 | F20: 0 | G20: 0 | H20: 77 | I20: 119 | J20: 0 | K20: 0 | L20: 0 | M20: 0 | N20: 0 | O20: 0 | P20: 0 | Q20: 0 | R20: 0 | S20: 0 | T20: 0 | U20: 0 | V20: 0 | W20: 0 | X20: 0 | Y20: 0 | Z20: 0 | AA20: 0 | AB20: 196 | AC20: 15 | AD20: 80 | AE20: 101 | AF20: 151 | AG20: 64 | AH20: 87 | AI20: 0 | AJ20: 0 | AK20: 196 | AL20: 77 | AM20: 119 | AN20: 0 | AO20: 0 | AP20: 4 | AQ20: 0 | AR20: 4 | AS20: 0 | AT20: 4 | AU20: 0 | AV20: 4 | AW20: 0 | AX20: 6 | AY20: 0 | AZ20: 6 | BA20: 0 | BB20: 6 | BC20: 0 | BD20: 6 | BE20: 0 | BF20: 0 | BG20: 0 | BH20: 0 | BI20: 0 | BJ20: 0 | BK20: 0 | BL20: 0 | BM20: 0 | BN20: 0 | BO20: 0 | BP20: 0 | BQ20: 0 | BR20: 4 | BS20: 0 | BT20: 4 | BU20: 0 | BV20: 0 | BW20: 0 | BX20: 0 | BY20: 0 | BZ20: 0 | CA20: 0 | CB20: 0 | CC20: 0 | CD20: 2 | CE20: 0 | CF20: 2 | CG20: 0 | CH20: 0 | CI20: 0 | CJ20: 0 | CK20: 0 | CL20: 0 | CM20: 0 | CN20: 0 | CO20: 0 | CP20: 0 | CQ20: 0 | CR20: 0 | CS20: 0
A21: 南投縣 | B21: Nantou County | C21: 91 | D21: 26 | E21: 65 | F21: 0 | G21: 0 | H21: 20 | I21: 51 | J21: 0 | K21: 0 | L21: 6 | M21: 14 | N21: 0 | O21: 0 | P21: 0 | Q21: 0 | R21: 0 | S21: 0 | T21: 0 | U21: 0 | V21: 0 | W21: 0 | X21: 0 | Y21: 0 | Z21: 0 | AA21: 0 | AB21: 91 | AC21: 23 | AD21: 42 | AE21: 26 | AF21: 28 | AG21: 6 | AH21: 22 | AI21: 0 | AJ21: 0 | AK21: 91 | AL21: 26 | AM21: 65 | AN21: 0 | AO21: 0 | AP21: 0 | AQ21: 0 | AR21: 0 | AS21: 0 | AT21: 0 | AU21: 0 | AV21: 0 | AW21: 0 | AX21: 0 | AY21: 0 | AZ21: 0 | BA21: 0 | BB21: 0 | BC21: 0 | BD21: 0 | BE21: 0 | BF21: 0 | BG21: 0 | BH21: 0 | BI21: 0 | BJ21: 0 | BK21: 0 | BL21: 0 | BM21: 0 | BN21: 0 | BO21: 0 | BP21: 0 | BQ21: 0 | BR21: 0 | BS21: 0 | BT21: 0 | BU21: 0 | BV21: 0 | BW21: 0 | BX21: 0 | BY21: 0 | BZ21: 0 | CA21: 0 | CB21: 0 | CC21: 0 | CD21: 0 | CE21: 0 | CF21: 0 | CG21: 0 | CH21: 0 | CI21: 0 | CJ21: 0 | CK21: 0 | CL21: 0 | CM21: 0 | CN21: 0 | CO21: 0 | CP21: 0 | CQ21: 0 | CR21: 0 | CS21: 0
A22: 雲林縣 | B22: Yunlin County | C22: 80 | D22: 26 | E22: 54 | F22: 0 | G22: 0 | H22: 25 | I22: 53 | J22: 0 | K22: 0 | L22: 1 | M22: 1 | N22: 0 | O22: 0 | P22: 0 | Q22: 0 | R22: 0 | S22: 0 | T22: 0 | U22: 0 | V22: 0 | W22: 0 | X22: 0 | Y22: 0 | Z22: 0 | AA22: 0 | AB22: 80 | AC22: 5 | AD22: 37 | AE22: 38 | AF22: 52 | AG22: 16 | AH22: 36 | AI22: 0 | AJ22: 0 | AK22: 80 | AL22: 26 | AM22: 54 | AN22: 0 | AO22: 0 | AP22: 0 | AQ22: 0 | AR22: 0 | AS22: 0 | AT22: 0 | AU22: 0 | AV22: 0 | AW22: 0 | AX22: 0 | AY22: 0 | AZ22: 0 | BA22: 0 | BB22: 0 | BC22: 0 | BD22: 0 | BE22: 0 | BF22: 0 | BG22: 0 | BH22: 0 | BI22: 0 | BJ22: 0 | BK22: 0 | BL22: 0 | BM22: 0 | BN22: 0 | BO22: 0 | BP22: 0 | BQ22: 0 | BR22: 0 | BS22: 0 | BT22: 0 | BU22: 0 | BV22: 0 | BW22: 0 | BX22: 0 | BY22: 0 | BZ22: 0 | CA22: 0 | CB22: 0 | CC22: 0 | CD22: 0 | CE22: 0 | CF22: 0 | CG22: 0 | CH22: 0 | CI22: 0 | CJ22: 0 | CK22: 0 | CL22: 0 | CM22: 0 | CN22: 0 | CO22: 0 | CP22: 0 | CQ22: 0 | CR22: 0 | CS22: 0
... A32: 連江縣 | B32: Lienchiang County | C32: 0 | D32: 0 | E32: 0 | F32: 0 | G32: 0 | H32: 0 | I32: 0 | J32: 0 | K32: 0 | L32: 0 | M32: 0 | N32: 0 | O32: 0 | P32: 0 | Q32: 0 | R32: 0 | S32: 0 | T32: 0 | U32: 0 | V32: 0 | W32: 0 | X32: 0 | Y32: 0 | Z32: 0 | AA32: 0 | AB32: 0 | AC32: 0 | AD32: 0 | AE32: 0 | AF32: 0 | AG32: 0 | AH32: 0 | AI32: 0 | AJ32: 0 | AK32: 0 | AL32: 0 | AM32: 0 | AN32: 0 | AO32: 0 | AP32: 0 | AQ32: 0 | AR32: 0 | AS32: 0 | AT32: 0 | AU32: 0 | AV32: 0 | AW32: 0 | AX32: 0 | AY32: 0 | AZ32: 0 | BA32: 0 | BB32: 0 | BC32: 0 | BD32: 0 | BE32: 0 | BF32: 0 | BG32: 0 | BH32: 0 | BI32: 0 | BJ32: 0 | BK32: 0 | BL32: 0 | BM32: 0 | BN32: 0 | BO32: 0 | BP32: 0 | BQ32: 0 | BR32: 0 | BS32: 0 | BT32: 0 | BU32: 0 | BV32: 0 | BW32: 0 | BX32: 0 | BY32: 0 | BZ32: 0 | CA32: 0 | CB32: 0 | CC32: 0 | CD32: 0 | CE32: 0 | CF32: 0 | CG32: 0 | CH32: 0 | CI32: 0 | CJ32: 0 | CK32: 0 | CL32: 0 | CM32: 0 | CN32: 0 | CO32: 0 | CP32: 0 | CQ32: 0 | CR32: 0 | CS32: 0
A33: 資料來源：直轄市、縣﹝市﹞政府。
A34: Source : County and City Government.

Sheet 111
A1: 兒童及少年性剝削案件安置情形
A3: 民國111年, 2022
A4: 區域別 Locality | C4: 受理通報(報告)人數(人) | AF4: 派員陪同偵訊個案數(件) | AK4: 評估處理情形(件) | AP4: 緊急安置數(人) | AT4: 緊急安置個案向法院聲請第一次裁定數(人) | AX4: 入住人數(人次) Number of Persons Being Admitted
C5: 合計 | H5: 本國籍 Nationals | P5: 大陸籍 | T5: 外國籍 | X5: 其他 | AB5: 按年齡分 By Age | AX5: 總計Total | BR5: 依第一次裁定結果繼續安置Continued Placement According to the Results of First Ruling | CD5: 依第二次裁定結果安置Placement According to the Results of Second Ruling
H6: 一般 | L6: 原住民 | AF6: Cases Of Accompanying For Court | AK6: Status Of Victim Evaluation | AP6: Number Of Victims Under Emergency Placement | AT6: Number of Victims under Emergency Placement Who Apply to the Court for First Ruling | AX6: 合計Total | BB6: 兒童及少年福利機構 | BF6: 寄養家庭 | BJ6: 中途學校 | BN6: 其他適當之醫療、教育機構 | BR6: 兒童及少年福利機構 | BV6: 寄養家庭 | BZ6: 其他適當之醫療、教育機構 | CD6: 兒童及少年福利機構 | CH6: 寄養家庭 | CL6: 中途學校 | CP6: 其他適當之醫療、教育機構
C7: Total | H7: General | L7: Aborigines | P7: Mainlanders | T7: Foreigners | X7: Others | BB7: Child and Youth Welfare Institutions | BF7: Fostering Families | BJ7: Midway School | BN7: Other Appropriate Medical and Educational Institutions | BR7: Child and Youth Welfare Institutions | BV7: Fostering Families | BZ7: Other Appropriate Medical and Educational Institutions | CD7: Child and Youth Welfare Institutions | CH7: Fostering Families | CL7: Midway School | CP7: Other Appropriate Medical and Educational Institutions
C8: 計 | D8: 男 | E8: 女 | F8: 其他 | G8: 不詳 | H8: 男 | I8: 女 | J8: 其他 | K8: 不詳 | L8: 男 | M8: 女 | N8: 其他 | O8: 不詳 | P8: 男 | Q8: 女 | R8: 其他 | S8: 不詳 | T8: 男 | U8: 女 | V8: 其他 | W8: 不詳 | X8: 男 | Y8: 女 | Z8: 其他 | AA8: 不詳 | AB8: 合計 | AC8: 未滿12歲 | AD8: 12-未滿15歲 | AE8: 15-未滿18歲 | AF8: 計 | AG8: 男 | AH8: 女 | AI8: 其他 | AJ8: 不詳 | AK8: 計 | AL8: 男 | AM8: 女 | AN8: 其他 | AO8: 不詳 | AP8: 計 | AQ8: 男 | AR8: 女 | AS8: 其他 | AT8: 計 | AU8: 男 | AV8: 女 | AW8: 其他 | AX8: 計 | AY8: 男 | AZ8: 女 | BA8: 其他 | BB8: 計 | BC8: 男 | BD8: 女 | BE8: 其他 | BF8: 計 | BG8: 男 | BH8: 女 | BI8: 其他 | BJ8: 計 | BK8: 男 | BL8: 女 | BM8: 其他 | BN8: 計 | BO8: 男 | BP8: 女 | BQ8: 其他 | BR8: 計 | BS8: 男 | BT8: 女 | BU8: 其他 | BV8: 計 | BW8: 男 | BX8: 女 | BY8: 其他 | BZ8: 計 | CA8: 男 | CB8: 女 | CC8: 其他 | CD8: 計 | CE8: 男 | CF8: 女 | CG8: 其他 | CH8: 計 | CI8: 男 | CJ8: 女 | CK8: 其他 | CL8: 計 | CM8: 男 | CN8: 女 | CO8: 其他 | CP8: 計 | CQ8: 男 | CR8: 女 | CS8: 其他
C9: Sub-Total | D9: Male | E9: Female | F9: Other | G9: Unknown | H9: Male | I9: Female | J9: Other | K9: Unknown | L9: Male | M9: Female | N9: Other | O9: Unknown | P9: Male | Q9: Female | R9: Other | S9: Unknown | T9: Male | U9: Female | V9: Other | W9: Unknown | X9: Male | Y9: Female | Z9: Other | AA9: Unknown | AB9: Total | AC9: Under 12 Years | AD9: 12-Under 15 Years | AE9: 15-Under 18 Years | AF9: Sub-Total | AG9: Male | AH9: Female | AI9: Other | AJ9: Unknown | AK9: Sub-Total | AL9: Male | AM9: Female | AN9: Other | AO9: Unknown | AP9: Sub-Total | AQ9: Male | AR9: Female | AS9: Other | AT9: Sub-Total | AU9: Male | AV9: Female | AW9: Other | AX9: Sub-Total | AY9: Male | AZ9: Female | BA9: Other | BB9: Sub-Total | BC9: Male | BD9: Female | BE9: Other | BF9: Sub-Total | BG9: Male | BH9: Female | BI9: Other | BJ9: Sub-Total | BK9: Male | BL9: Female | BM9: Other | BN9: Sub-Total | BO9: Male | BP9: Female | BQ9: Other | BR9: Sub-Total | BS9: Male | BT9: Female | BU9: Other | BV9: Sub-Total | BW9: Male | BX9: Female | BY9: Other | BZ9: Sub-Total | CA9: Male | CB9: Female | CC9: Other | CD9: Sub-Total | CE9: Male | CF9: Female | CG9: Other | CH9: Sub-Total | CI9: Male | CJ9: Female | CK9: Other | CL9: Sub-Total | CM9: Male | CN9: Female | CO9: Other | CP9: Sub-Total | CQ9: Male | CR9: Female | CS9: Other
A10: 總計 Total | C10: 2280 | D10: 713 | E10: 1567 | F10: 0 | G10: 0 | H10: 664 | I10: 1457 | J10: 0 | K10: 0 | L10: 46 | M10: 104 | N10: 0 | O10: 0 | P10: 1 | Q10: 0 | R10: 0 | S10: 0 | T10: 0 | U10: 4 | V10: 0 | W10: 0 | X10: 2 | Y10: 2 | Z10: 0 | AA10: 0 | AB10: 2280 | AC10: 224 | AD10: 993 | AE10: 1063 | AF10: 1319 | AG10: 386 | AH10: 933 | AI10: 0 | AJ10: 0 | AK10: 2282 | AL10: 719 | AM10: 1563 | AN10: 0 | AO10: 0 | AP10: 84 | AQ10: 4 | AR10: 80 | AS10: 0 | AT10: 60 | AU10: 1 | AV10: 59 | AW10: 0 | AX10: 103 | AY10: 4 | AZ10: 99 | BA10: 0 | BB10: 82 | BC10: 3 | BD10: 79 | BE10: 0 | BF10: 2 | BG10: 0 | BH10: 2 | BI10: 0 | BJ10: 8 | BK10: 0 | BL10: 8 | BM10: 0 | BN10: 11 | BO10: 1 | BP10: 10 | BQ10: 0 | BR10: 51 | BS10: 2 | BT10: 49 | BU10: 0 | BV10: 0 | BW10: 0 | BX10: 0 | BY10: 0 | BZ10: 9 | CA10: 1 | CB10: 8 | CC10: 0 | CD10: 31 | CE10: 1 | CF10: 30 | CG10: 0 | CH10: 2 | CI10: 0 | CJ10: 2 | CK10: 0 | CL10: 8 | CM10: 0 | CN10: 8 | CO10: 0 | CP10: 2 | CQ10: 0 | CR10: 2 | CS10: 0
A11: 新北市 | B11: New Taipei City | C11: 419 | D11: 127 | E11: 292 | F11: 0 | G11: 0 | H11: 121 | I11: 280 | J11: 0 | K11: 0 | L11: 3 | M11: 9 | N11: 0 | O11: 0 | P11: 1 | Q11: 0 | R11: 0 | S11: 0 | T11: 0 | U11: 2 | V11: 0 | W11: 0 | X11: 2 | Y11: 1 | Z11: 0 | AA11: 0 | AB11: 419 | AC11: 46 | AD11: 176 | AE11: 197 | AF11: 226 | AG11: 66 | AH11: 160 | AI11: 0 | AJ11: 0 | AK11: 419 | AL11: 127 | AM11: 292 | AN11: 0 | AO11: 0 | AP11: 13 | AQ11: 0 | AR11: 13 | AS11: 0 | AT11: 5 | AU11: 0 | AV11: 5 | AW11: 0 | AX11: 8 | AY11: 0 | AZ11: 8 | BA11: 0 | BB11: 7 | BC11: 0 | BD11: 7 | BE11: 0 | BF11: 0 | BG11: 0 | BH11: 0 | BI11: 0 | BJ11: 0 | BK11: 0 | BL11: 0 | BM11: 0 | BN11: 1 | BO11: 0 | BP11: 1 | BQ11: 0 | BR11: 5 | BS11: 0 | BT11: 5 | BU11: 0 | BV11: 0 | BW11: 0 | BX11: 0 | BY11: 0 | BZ11: 0 | CA11: 0 | CB11: 0 | CC11: 0 | CD11: 2 | CE11: 0 | CF11: 2 | CG11: 0 | CH11: 0 | CI11: 0 | CJ11: 0 | CK11: 0 | CL11: 0 | CM11: 0 | CN11: 0 | CO11: 0 | CP11: 1 | CQ11: 0 | CR11: 1 | CS11: 0
A12: 臺北市 | B12: Taipei City | C12: 212 | D12: 75 | E12: 137 | F12: 0 | G12: 0 | H12: 75 | I12: 137 | J12: 0 | K12: 0 | L12: 0 | M12: 0 | N12: 0 | O12: 0 | P12: 0 | Q12: 0 | R12: 0 | S12: 0 | T12: 0 | U12: 0 | V12: 0 | W12: 0 | X12: 0 | Y12: 0 | Z12: 0 | AA12: 0 | AB12: 212 | AC12: 14 | AD12: 93 | AE12: 105 | AF12: 112 | AG12: 37 | AH12: 75 | AI12: 0 | AJ12: 0 | AK12: 212 | AL12: 75 | AM12: 137 | AN12: 0 | AO12: 0 | AP12: 5 | AQ12: 1 | AR12: 4 | AS12: 0 | AT12: 3 | AU12: 0 | AV12: 3 | AW12: 0 | AX12: 15 | AY12: 1 | AZ12: 14 | BA12: 0 | BB12: 15 | BC12: 1 | BD12: 14 | BE12: 0 | BF12: 0 | BG12: 0 | BH12: 0 | BI12: 0 | BJ12: 0 | BK12: 0 | BL12: 0 | BM12: 0 | BN12: 0 | BO12: 0 | BP12: 0 | BQ12: 0 | BR12: 4 | BS12: 1 | BT12: 3 | BU12: 0 | BV12: 0 | BW12: 0 | BX12: 0 | BY12: 0 | BZ12: 0 | CA12: 0 | CB12: 0 | CC12: 0 | CD12: 11 | CE12: 0 | CF12: 11 | CG12: 0 | CH12: 0 | CI12: 0 | CJ12: 0 | CK12: 0 | CL12: 0 | CM12: 0 | CN12: 0 | CO12: 0 | CP12: 0 | CQ12: 0 | CR12: 0 | CS12: 0
A13: 桃園市 | B13: Taoyuan City | C13: 236 | D13: 69 | E13: 167 | F13: 0 | G13: 0 | H13: 61 | I13: 153 | J13: 0 | K13: 0 | L13: 8 | M13: 14 | N13: 0 | O13: 0 | P13: 0 | Q13: 0 | R13: 0 | S13: 0 | T13: 0 | U13: 0 | V13: 0 | W13: 0 | X13: 0 | Y13: 0 | Z13: 0 | AA13: 0 | AB13: 236 | AC13: 25 | AD13: 121 | AE13: 90 | AF13: 147 | AG13: 38 | AH13: 109 | AI13: 0 | AJ13: 0 | AK13: 236 | AL13: 69 | AM13: 167 | AN13: 0 | AO13: 0 | AP13: 15 | AQ13: 0 | AR13: 15 | AS13: 0 | AT13: 15 | AU13: 0 | AV13: 15 | AW13: 0 | AX13: 21 | AY13: 0 | AZ13: 21 | BA13: 0 | BB13: 16 | BC13: 0 | BD13: 16 | BE13: 0 | BF13: 0 | BG13: 0 | BH13: 0 | BI13: 0 | BJ13: 5 | BK13: 0 | BL13: 5 | BM13: 0 | BN13: 0 | BO13: 0 | BP13: 0 | BQ13: 0 | BR13: 15 | BS13: 0 | BT13: 15 | BU13: 0 | BV13: 0 | BW13: 0 | BX13: 0 | BY13: 0 | BZ13: 0 | CA13: 0 | CB13: 0 | CC13: 0 | CD13: 1 | CE13: 0 | CF13: 1 | CG13: 0 | CH13: 0 | CI13: 0 | CJ13: 0 | CK13: 0 | CL13: 5 | CM13: 0 | CN13: 5 | CO13: 0 | CP13: 0 | CQ13: 0 | CR13: 0 | CS13: 0
A14: 臺中市 | B14: Taichung City | C14: 225 | D14: 57 | E14: 168 | F14: 0 | G14: 0 | H14: 55 | I14: 163 | J14: 0 | K14: 0 | L14: 2 | M14: 5 | N14: 0 | O14: 0 | P14: 0 | Q14: 0 | R14: 0 | S14: 0 | T14: 0 | U14: 0 | V14: 0 | W14: 0 | X14: 0 | Y14: 0 | Z14: 0 | AA14: 0 | AB14: 225 | AC14: 31 | AD14: 85 | AE14: 109 | AF14: 102 | AG14: 22 | AH14: 80 | AI14: 0 | AJ14: 0 | AK14: 225 | AL14: 57 | AM14: 168 | AN14: 0 | AO14: 0 | AP14: 5 | AQ14: 0 | AR14: 5 | AS14: 0 | AT14: 5 | AU14: 0 | AV14: 5 | AW14: 0 | AX14: 10 | AY14: 0 | AZ14: 10 | BA14: 0 | BB14: 10 | BC14: 0 | BD14: 10 | BE14: 0 | BF14: 0 | BG14: 0 | BH14: 0 | BI14: 0 | BJ14: 0 | BK14: 0 | BL14: 0 | BM14: 0 | BN14: 0 | BO14: 0 | BP14: 0 | BQ14: 0 | BR14: 5 | BS14: 0 | BT14: 5 | BU14: 0 | BV14: 0 | BW14: 0 | BX14: 0 | BY14: 0 | BZ14: 0 | CA14: 0 | CB14: 0 | CC14: 0 | CD14: 5 | CE14: 0 | CF14: 5 | CG14: 0 | CH14: 0 | CI14: 0 | CJ14: 0 | CK14: 0 | CL14: 0 | CM14: 0 | CN14: 0 | CO14: 0 | CP14: 0 | CQ14: 0 | CR14: 0 | CS14: 0
A15: 臺南市 | B15: Tainan City | C15: 153 | D15: 50 | E15: 103 | F15: 0 | G15: 0 | H15: 50 | I15: 101 | J15: 0 | K15: 0 | L15: 0 | M15: 2 | N15: 0 | O15: 0 | P15: 0 | Q15: 0 | R15: 0 | S15: 0 | T15: 0 | U15: 0 | V15: 0 | W15: 0 | X15: 0 | Y15: 0 | Z15: 0 | AA15: 0 | AB15: 153 | AC15: 12 | AD15: 62 | AE15: 79 | AF15: 97 | AG15: 36 | AH15: 61 | AI15: 0 | AJ15: 0 | AK15: 153 | AL15: 50 | AM15: 103 | AN15: 0 | AO15: 0 | AP15: 6 | AQ15: 0 | AR15: 6 | AS15: 0 | AT15: 6 | AU15: 0 | AV15: 6 | AW15: 0 | AX15: 9 | AY15: 0 | AZ15: 9 | BA15: 0 | BB15: 7 | BC15: 0 | BD15: 7 | BE15: 0 | BF15: 0 | BG15: 0 | BH15: 0 | BI15: 0 | BJ15: 1 | BK15: 0 | BL15: 1 | BM15: 0 | BN15: 1 | BO15: 0 | BP15: 1 | BQ15: 0 | BR15: 5 | BS15: 0 | BT15: 5 | BU15: 0 | BV15: 0 | BW15: 0 | BX15: 0 | BY15: 0 | BZ15: 1 | CA15: 0 | CB15: 1 | CC15: 0 | CD15: 2 | CE15: 0 | CF15: 2 | CG15: 0 | CH15: 0 | CI15: 0 | CJ15: 0 | CK15: 0 | CL15: 1 | CM15: 0 | CN15: 1 | CO15: 0 | CP15: 0 | CQ15: 0 | CR15: 0 | CS15: 0
A16: 高雄市 | B16: Kaohsiung City | C16: 243 | D16: 77 | E16: 166 | F16: 0 | G16: 0 | H16: 74 | I16: 160 | J16: 0 | K16: 0 | L16: 3 | M16: 5 | N16: 0 | O16: 0 | P16: 0 | Q16: 0 | R16: 0 | S16: 0 | T16: 0 | U16: 1 | V16: 0 | W16: 0 | X16: 0 | Y16: 0 | Z16: 0 | AA16: 0 | AB16: 243 | AC16: 22 | AD16: 99 | AE16: 122 | AF16: 122 | AG16: 37 | AH16: 85 | AI16: 0 | AJ16: 0 | AK16: 243 | AL16: 77 | AM16: 166 | AN16: 0 | AO16: 0 | AP16: 6 | AQ16: 0 | AR16: 6 | AS16: 0 | AT16: 6 | AU16: 0 | AV16: 6 | AW16: 0 | AX16: 8 | AY16: 0 | AZ16: 8 | BA16: 0 | BB16: 0 | BC16: 0 | BD16: 0 | BE16: 0 | BF16: 0 | BG16: 0 | BH16: 0 | BI16: 0 | BJ16: 2 | BK16: 0 | BL16: 2 | BM16: 0 | BN16: 6 | BO16: 0 | BP16: 6 | BQ16: 0 | BR16: 0 | BS16: 0 | BT16: 0 | BU16: 0 | BV16: 0 | BW16: 0 | BX16: 0 | BY16: 0 | BZ16: 6 | CA16: 0 | CB16: 6 | CC16: 0 | CD16: 0 | CE16: 0 | CF16: 0 | CG16: 0 | CH16: 0 | CI16: 0 | CJ16: 0 | CK16: 0 | CL16: 2 | CM16: 0 | CN16: 2 | CO16: 0 | CP16: 0 | CQ16: 0 | CR16: 0 | CS16: 0
A17: 宜蘭縣 | B17: Yilan County | C17: 47 | D17: 18 | E17: 29 | F17: 0 | G17: 0 | H17: 17 | I17: 27 | J17: 0 | K17: 0 | L17: 1 | M17: 2 | N17: 0 | O17: 0 | P17: 0 | Q17: 0 | R17: 0 | S17: 0 | T17: 0 | U17: 0 | V17: 0 | W17: 0 | X17: 0 | Y17: 0 | Z17: 0 | AA17: 0 | AB17: 47 | AC17: 7 | AD17: 25 | AE17: 15 | AF17: 29 | AG17: 10 | AH17: 19 | AI17: 0 | AJ17: 0 | AK17: 47 | AL17: 18 | AM17: 29 | AN17: 0 | AO17: 0 | AP17: 1 | AQ17: 0 | AR17: 1 | AS17: 0 | AT17: 0 | AU17: 0 | AV17: 0 | AW17: 0 | AX17: 0 | AY17: 0 | AZ17: 0 | BA17: 0 | BB17: 0 | BC17: 0 | BD17: 0 | BE17: 0 | BF17: 0 | BG17: 0 | BH17: 0 | BI17: 0 | BJ17: 0 | BK17: 0 | BL17: 0 | BM17: 0 | BN17: 0 | BO17: 0 | BP17: 0 | BQ17: 0 | BR17: 0 | BS17: 0 | BT17: 0 | BU17: 0 | BV17: 0 | BW17: 0 | BX17: 0 | BY17: 0 | BZ17: 0 | CA17: 0 | CB17: 0 | CC17: 0 | CD17: 0 | CE17: 0 | CF17: 0 | CG17: 0 | CH17: 0 | CI17: 0 | CJ17: 0 | CK17: 0 | CL17: 0 | CM17: 0 | CN17: 0 | CO17: 0 | CP17: 0 | CQ17: 0 | CR17: 0 | CS17: 0
A18: 新竹縣 | B18: Hsinchu County | C18: 75 | D18: 24 | E18: 51 | F18: 0 | G18: 0 | H18: 22 | I18: 42 | J18: 0 | K18: 0 | L18: 2 | M18: 9 | N18: 0 | O18: 0 | P18: 0 | Q18: 0 | R18: 0 | S18: 0 | T18: 0 | U18: 0 | V18: 0 | W18: 0 | X18: 0 | Y18: 0 | Z18: 0 | AA18: 0 | AB18: 75 | AC18: 7 | AD18: 37 | AE18: 31 | AF18: 58 | AG18: 20 | AH18: 38 | AI18: 0 | AJ18: 0 | AK18: 75 | AL18: 29 | AM18: 46 | AN18: 0 | AO18: 0 | AP18: 6 | AQ18: 0 | AR18: 6 | AS18: 0 | AT18: 2 | AU18: 0 | AV18: 2 | AW18: 0 | AX18: 2 | AY18: 0 | AZ18: 2 | BA18: 0 | BB18: 2 | BC18: 0 | BD18: 2 | BE18: 0 | BF18: 0 | BG18: 0 | BH18: 0 | BI18: 0 | BJ18: 0 | BK18: 0 | BL18: 0 | BM18: 0 | BN18: 0 | BO18: 0 | BP18: 0 | BQ18: 0 | BR18: 2 | BS18: 0 | BT18: 2 | BU18: 0 | BV18: 0 | BW18: 0 | BX18: 0 | BY18: 0 | BZ18: 0 | CA18: 0 | CB18: 0 | CC18: 0 | CD18: 0 | CE18: 0 | CF18: 0 | CG18: 0 | CH18: 0 | CI18: 0 | CJ18: 0 | CK18: 0 | CL18: 0 | CM18: 0 | CN18: 0 | CO18: 0 | CP18: 0 | CQ18: 0 | CR18: 0 | CS18: 0
A19: 苗栗縣 | B19: Miaoli County | C19: 52 | D19: 25 | E19: 27 | F19: 0 | G19: 0 | H19: 22 | I19: 25 | J19: 0 | K19: 0 | L19: 3 | M19: 2 | N19: 0 | O19: 0 | P19: 0 | Q19: 0 | R19: 0 | S19: 0 | T19: 0 | U19: 0 | V19: 0 | W19: 0 | X19: 0 | Y19: 0 | Z19: 0 | AA19: 0 | AB19: 52 | AC19: 5 | AD19: 28 | AE19: 19 | AF19: 28 | AG19: 15 | AH19: 13 | AI19: 0 | AJ19: 0 | AK19: 52 | AL19: 25 | AM19: 27 | AN19: 0 | AO19: 0 | AP19: 0 | AQ19: 0 | AR19: 0 | AS19: 0 | AT19: 0 | AU19: 0 | AV19: 0 | AW19: 0 | AX19: 0 | AY19: 0 | AZ19: 0 | BA19: 0 | BB19: 0 | BC19: 0 | BD19: 0 | BE19: 0 | BF19: 0 | BG19: 0 | BH19: 0 | BI19: 0 | BJ19: 0 | BK19: 0 | BL19: 0 | BM19: 0 | BN19: 0 | BO19: 0 | BP19: 0 | BQ19: 0 | BR19: 0 | BS19: 0 | BT19: 0 | BU19: 0 | BV19: 0 | BW19: 0 | BX19: 0 | BY19: 0 | BZ19: 0 | CA19: 0 | CB19: 0 | CC19: 0 | CD19: 0 | CE19: 0 | CF19: 0 | CG19: 0 | CH19: 0 | CI19: 0 | CJ19: 0 | CK19: 0 | CL19: 0 | CM19: 0 | CN19: 0 | CO19: 0 | CP19: 0 | CQ19: 0 | CR19: 0 | CS19: 0
A20: 彰化縣 | B20: Changhua County | C20: 173 | D20: 60 | E20: 113 | F20: 0 | G20: 0 | H20: 59 | I20: 112 | J20: 0 | K20: 0 | L20: 1 | M20: 0 | N20: 0 | O20: 0 | P20: 0 | Q20: 0 | R20: 0 | S20: 0 | T20: 0 | U20: 1 | V20: 0 | W20: 0 | X20: 0 | Y20: 0 | Z20: 0 | AA20: 0 | AB20: 173 | AC20: 13 | AD20: 70 | AE20: 90 | AF20: 114 | AG20: 33 | AH20: 81 | AI20: 0 | AJ20: 0 | AK20: 173 | AL20: 60 | AM20: 113 | AN20: 0 | AO20: 0 | AP20: 5 | AQ20: 0 | AR20: 5 | AS20: 0 | AT20: 6 | AU20: 0 | AV20: 6 | AW20: 0 | AX20: 10 | AY20: 0 | AZ20: 10 | BA20: 0 | BB20: 10 | BC20: 0 | BD20: 10 | BE20: 0 | BF20: 0 | BG20: 0 | BH20: 0 | BI20: 0 | BJ20: 0 | BK20: 0 | BL20: 0 | BM20: 0 | BN20: 0 | BO20: 0 | BP20: 0 | BQ20: 0 | BR20: 6 | BS20: 0 | BT20: 6 | BU20: 0 | BV20: 0 | BW20: 0 | BX20: 0 | BY20: 0 | BZ20: 0 | CA20: 0 | CB20: 0 | CC20: 0 | CD20: 4 | CE20: 0 | CF20: 4 | CG20: 0 | CH20: 0 | CI20: 0 | CJ20: 0 | CK20: 0 | CL20: 0 | CM20: 0 | CN20: 0 | CO20: 0 | CP20: 0 | CQ20: 0 | CR20: 0 | CS20: 0
A21: 南投縣 | B21: Nantou County | C21: 49 | D21: 21 | E21: 28 | F21: 0 | G21: 0 | H21: 17 | I21: 26 | J21: 0 | K21: 0 | L21: 4 | M21: 2 | N21: 0 | O21: 0 | P21: 0 | Q21: 0 | R21: 0 | S21: 0 | T21: 0 | U21: 0 | V21: 0 | W21: 0 | X21: 0 | Y21: 0 | Z21: 0 | AA21: 0 | AB21: 49 | AC21: 5 | AD21: 25 | AE21: 19 | AF21: 15 | AG21: 2 | AH21: 13 | AI21: 0 | AJ21: 0 | AK21: 49 | AL21: 21 | AM21: 28 | AN21: 0 | AO21: 0 | AP21: 1 | AQ21: 0 | AR21: 1 | AS21: 0 | AT21: 1 | AU21: 0 | AV21: 1 | AW21: 0 | AX21: 2 | AY21: 0 | AZ21: 2 | BA21: 0 | BB21: 2 | BC21: 0 | BD21: 2 | BE21: 0 | BF21: 0 | BG21: 0 | BH21: 0 | BI21: 0 | BJ21: 0 | BK21: 0 | BL21: 0 | BM21: 0 | BN21: 0 | BO21: 0 | BP21: 0 | BQ21: 0 | BR21: 1 | BS21: 0 | BT21: 1 | BU21: 0 | BV21: 0 | BW21: 0 | BX21: 0 | BY21: 0 | BZ21: 0 | CA21: 0 | CB21: 0 | CC21: 0 | CD21: 1 | CE21: 0 | CF21: 1 | CG21: 0 | CH21: 0 | CI21: 0 | CJ21: 0 | CK21: 0 | CL21: 0 | CM21: 0 | CN21: 0 | CO21: 0 | CP21: 0 | CQ21: 0 | CR21: 0 | CS21: 0
A22: 雲林縣 | B22: Yunlin County | C22: 59 | D22: 18 | E22: 41 | F22: 0 | G22: 0 | H22: 18 | I22: 40 | J22: 0 | K22: 0 | L22: 0 | M22: 1 | N22: 0 | O22: 0 | P22: 0 | Q22: 0 | R22: 0 | S22: 0 | T22: 0 | U22: 0 | V22: 0 | W22: 0 | X22: 0 | Y22: 0 | Z22: 0 | AA22: 0 | AB22: 59 | AC22: 3 | AD22: 26 | AE22: 30 | AF22: 45 | AG22: 14 | AH22: 31 | AI22: 0 | AJ22: 0 | AK22: 59 | AL22: 18 | AM22: 41 | AN22: 0 | AO22: 0 | AP22: 2 | AQ22: 0 | AR22: 2 | AS22: 0 | AT22: 2 | AU22: 0 | AV22: 2 | AW22: 0 | AX22: 2 | AY22: 0 | AZ22: 2 | BA22: 0 | BB22: 2 | BC22: 0 | BD22: 2 | BE22: 0 | BF22: 0 | BG22: 0 | BH22: 0 | BI22: 0 | BJ22: 0 | BK22: 0 | BL22: 0 | BM22: 0 | BN22: 0 | BO22: 0 | BP22: 0 | BQ22: 0 | BR22: 1 | BS22: 0 | BT22: 1 | BU22: 0 | BV22: 0 | BW22: 0 | BX22: 0 | BY22: 0 | BZ22: 0 | CA22: 0 | CB22: 0 | CC22: 0 | CD22: 1 | CE22: 0 | CF22: 1 | CG22: 0 | CH22: 0 | CI22: 0 | CJ22: 0 | CK22: 0 | CL22: 0 | CM22: 0 | CN22: 0 | CO22: 0 | CP22: 0 | CQ22: 0 | CR22: 0 | CS22: 0
... A32: 連江縣 | B32: Lienchiang County | C32: 0 | D32: 0 | E32: 0 | F32: 0 | G32: 0 | H32: 0 | I32: 0 | J32: 0 | K32: 0 | L32: 0 | M32: 0 | N32: 0 | O32: 0 | P32: 0 | Q32: 0 | R32: 0 | S32: 0 | T32: 0 | U32: 0 | V32: 0 | W32: 0 | X32: 0 | Y32: 0 | Z32: 0 | AA32: 0 | AB32: 0 | AC32: 0 | AD32: 0 | AE32: 0 | AF32: 0 | AG32: 0 | AH32: 0 | AI32: 0 | AJ32: 0 | AK32: 0 | AL32: 0 | AM32: 0 | AN32: 0 | AO32: 0 | AP32: 0 | AQ32: 0 | AR32: 0 | AS32: 0 | AT32: 0 | AU32: 0 | AV32: 0 | AW32: 0 | AX32: 0 | AY32: 0 | AZ32: 0 | BA32: 0 | BB32: 0 | BC32: 0 | BD32: 0 | BE32: 0 | BF32: 0 | BG32: 0 | BH32: 0 | BI32: 0 | BJ32: 0 | BK32: 0 | BL32: 0 | BM32: 0 | BN32: 0 | BO32: 0 | BP32: 0 | BQ32: 0 | BR32: 0 | BS32: 0 | BT32: 0 | BU32: 0 | BV32: 0 | BW32: 0 | BX32: 0 | BY32: 0 | BZ32: 0 | CA32: 0 | CB32: 0 | CC32: 0 | CD32: 0 | CE32: 0 | CF32: 0 | CG32: 0 | CH32: 0 | CI32: 0 | CJ32: 0 | CK32: 0 | CL32: 0 | CM32: 0 | CN32: 0 | CO32: 0 | CP32: 0 | CQ32: 0 | CR32: 0 | CS32: 0
A33: 資料來源：直轄市、縣﹝市﹞政府。
A34: Source : County and City Government.

Sheet 110
A1: 兒童及少年性剝削案件安置情形
A3: 民國110年, 2021
A4: 區域別 Locality | C4: 受理通報(報告)人數(人) | AF4: 派員陪同偵訊個案數(件) | AK4: 評估處理情形(件) | AP4: 緊急安置數(人) | AT4: 緊急安置個案向法院聲請第一次裁定數(人) | AX4: 入住人數(人次) Number of Persons Being Admitted
C5: 合計 | H5: 本國籍 Nationals | P5: 大陸籍 | T5: 外國籍 | X5: 其他 | AB5: 按年齡分 By Age | AX5: 總計Total | BR5: 依第一次裁定結果繼續安置Continued Placement According to the Results of First Ruling | CD5: 依第二次裁定結果安置Placement According to the Results of Second Ruling
H6: 一般 | L6: 原住民 | AF6: Cases Of Accompanying For Court | AK6: Status Of Victim Evaluation | AP6: Number Of Victims Under Emergency Placement | AT6: Number of Victims under Emergency Placement Who Apply to the Court for First Ruling | AX6: 合計Total | BB6: 兒童及少年福利機構 | BF6: 寄養家庭 | BJ6: 中途學校 | BN6: 其他適當之醫療、教育機構 | BR6: 兒童及少年福利機構 | BV6: 寄養家庭 | BZ6: 其他適當之醫療、教育機構 | CD6: 兒童及少年福利機構 | CH6: 寄養家庭 | CL6: 中途學校 | CP6: 其他適當之醫療、教育機構
C7: Total | H7: General | L7: Aborigines | P7: Mainlanders | T7: Foreigners | X7: Others | BB7: Child and Youth Welfare Institutions | BF7: Fostering Families | BJ7: Midway School | BN7: Other Appropriate Medical and Educational Institutions | BR7: Child and Youth Welfare Institutions | BV7: Fostering Families | BZ7: Other Appropriate Medical and Educational Institutions | CD7: Child and Youth Welfare Institutions | CH7: Fostering Families | CL7: Midway School | CP7: Other Appropriate Medical and Educational Institutions
C8: 計 | D8: 男 | E8: 女 | F8: 其他 | G8: 不詳 | H8: 男 | I8: 女 | J8: 其他 | K8: 不詳 | L8: 男 | M8: 女 | N8: 其他 | O8: 不詳 | P8: 男 | Q8: 女 | R8: 其他 | S8: 不詳 | T8: 男 | U8: 女 | V8: 其他 | W8: 不詳 | X8: 男 | Y8: 女 | Z8: 其他 | AA8: 不詳 | AB8: 合計 | AC8: 未滿12歲 | AD8: 12-未滿15歲 | AE8: 15-未滿18歲 | AF8: 計 | AG8: 男 | AH8: 女 | AI8: 其他 | AJ8: 不詳 | AK8: 計 | AL8: 男 | AM8: 女 | AN8: 其他 | AO8: 不詳 | AP8: 計 | AQ8: 男 | AR8: 女 | AS8: 其他 | AT8: 計 | AU8: 男 | AV8: 女 | AW8: 其他 | AX8: 計 | AY8: 男 | AZ8: 女 | BA8: 其他 | BB8: 計 | BC8: 男 | BD8: 女 | BE8: 其他 | BF8: 計 | BG8: 男 | BH8: 女 | BI8: 其他 | BJ8: 計 | BK8: 男 | BL8: 女 | BM8: 其他 | BN8: 計 | BO8: 男 | BP8: 女 | BQ8: 其他 | BR8: 計 | BS8: 男 | BT8: 女 | BU8: 其他 | BV8: 計 | BW8: 男 | BX8: 女 | BY8: 其他 | BZ8: 計 | CA8: 男 | CB8: 女 | CC8: 其他 | CD8: 計 | CE8: 男 | CF8: 女 | CG8: 其他 | CH8: 計 | CI8: 男 | CJ8: 女 | CK8: 其他 | CL8: 計 | CM8: 男 | CN8: 女 | CO8: 其他 | CP8: 計 | CQ8: 男 | CR8: 女 | CS8: 其他
C9: Sub-Total | D9: Male | E9: Female | F9: Other | G9: Unknown | H9: Male | I9: Female | J9: Other | K9: Unknown | L9: Male | M9: Female | N9: Other | O9: Unknown | P9: Male | Q9: Female | R9: Other | S9: Unknown | T9: Male | U9: Female | V9: Other | W9: Unknown | X9: Male | Y9: Female | Z9: Other | AA9: Unknown | AB9: Total | AC9: Under 12 Years | AD9: 12-Under 15 Years | AE9: 15-Under 18 Years | AF9: Sub-Total | AG9: Male | AH9: Female | AI9: Other | AJ9: Unknown | AK9: Sub-Total | AL9: Male | AM9: Female | AN9: Other | AO9: Unknown | AP9: Sub-Total | AQ9: Male | AR9: Female | AS9: Other | AT9: Sub-Total | AU9: Male | AV9: Female | AW9: Other | AX9: Sub-Total | AY9: Male | AZ9: Female | BA9: Other | BB9: Sub-Total | BC9: Male | BD9: Female | BE9: Other | BF9: Sub-Total | BG9: Male | BH9: Female | BI9: Other | BJ9: Sub-Total | BK9: Male | BL9: Female | BM9: Other | BN9: Sub-Total | BO9: Male | BP9: Female | BQ9: Other | BR9: Sub-Total | BS9: Male | BT9: Female | BU9: Other | BV9: Sub-Total | BW9: Male | BX9: Female | BY9: Other | BZ9: Sub-Total | CA9: Male | CB9: Female | CC9: Other | CD9: Sub-Total | CE9: Male | CF9: Female | CG9: Other | CH9: Sub-Total | CI9: Male | CJ9: Female | CK9: Other | CL9: Sub-Total | CM9: Male | CN9: Female | CO9: Other | CP9: Sub-Total | CQ9: Male | CR9: Female | CS9: Other
A10: 總計 Total | C10: 1879 | D10: 590 | E10: 1289 | F10: 0 | G10: 0 | H10: 556 | I10: 1201 | J10: 0 | K10: 0 | L10: 33 | M10: 79 | N10: 0 | O10: 0 | P10: 0 | Q10: 0 | R10: 0 | S10: 0 | T10: 1 | U10: 2 | V10: 0 | W10: 0 | X10: 0 | Y10: 7 | Z10: 0 | AA10: 0 | AB10: 1879 | AC10: 200 | AD10: 857 | AE10: 822 | AF10: 1087 | AG10: 316 | AH10: 771 | AI10: 0 | AJ10: 0 | AK10: 1879 | AL10: 590 | AM10: 1289 | AN10: 0 | AO10: 0 | AP10: 80 | AQ10: 1 | AR10: 79 | AS10: 0 | AT10: 76 | AU10: 1 | AV10: 75 | AW10: 0 | AX10: 142 | AY10: 3 | AZ10: 133 | BA10: 6 | BB10: 99 | BC10: 3 | BD10: 90 | BE10: 6 | BF10: 2 | BG10: 0 | BH10: 2 | BI10: 0 | BJ10: 35 | BK10: 0 | BL10: 35 | BM10: 0 | BN10: 6 | BO10: 0 | BP10: 6 | BQ10: 0 | BR10: 68 | BS10: 1 | BT10: 67 | BU10: 0 | BV10: 1 | BW10: 0 | BX10: 1 | BY10: 0 | BZ10: 6 | CA10: 0 | CB10: 6 | CC10: 0 | CD10: 31 | CE10: 2 | CF10: 23 | CG10: 6 | CH10: 1 | CI10: 0 | CJ10: 1 | CK10: 0 | CL10: 35 | CM10: 0 | CN10: 35 | CO10: 0 | CP10: 0 | CQ10: 0 | CR10: 0 | CS10: 0
A11: 新北市 | B11: New Taipei City | C11: 347 | D11: 86 | E11: 261 | F11: 0 | G11: 0 | H11: 84 | I11: 237 | J11: 0 | K11: 0 | L11: 2 | M11: 16 | N11: 0 | O11: 0 | P11: 0 | Q11: 0 | R11: 0 | S11: 0 | T11: 0 | U11: 2 | V11: 0 | W11: 0 | X11: 0 | Y11: 6 | Z11: 0 | AA11: 0 | AB11: 347 | AC11: 44 | AD11: 162 | AE11: 141 | AF11: 206 | AG11: 41 | AH11: 165 | AI11: 0 | AJ11: 0 | AK11: 347 | AL11: 86 | AM11: 261 | AN11: 0 | AO11: 0 | AP11: 19 | AQ11: 0 | AR11: 19 | AS11: 0 | AT11: 19 | AU11: 0 | AV11: 19 | AW11: 0 | AX11: 27 | AY11: 0 | AZ11: 27 | BA11: 0 | BB11: 19 | BC11: 0 | BD11: 19 | BE11: 0 | BF11: 0 | BG11: 0 | BH11: 0 | BI11: 0 | BJ11: 8 | BK11: 0 | BL11: 8 | BM11: 0 | BN11: 0 | BO11: 0 | BP11: 0 | BQ11: 0 | BR11: 16 | BS11: 0 | BT11: 16 | BU11: 0 | BV11: 0 | BW11: 0 | BX11: 0 | BY11: 0 | BZ11: 0 | CA11: 0 | CB11: 0 | CC11: 0 | CD11: 3 | CE11: 0 | CF11: 3 | CG11: 0 | CH11: 0 | CI11: 0 | CJ11: 0 | CK11: 0 | CL11: 8 | CM11: 0 | CN11: 8 | CO11: 0 | CP11: 0 | CQ11: 0 | CR11: 0 | CS11: 0
A12: 臺北市 | B12: Taipei City | C12: 159 | D12: 53 | E12: 106 | F12: 0 | G12: 0 | H12: 52 | I12: 106 | J12: 0 | K12: 0 | L12: 0 | M12: 0 | N12: 0 | O12: 0 | P12: 0 | Q12: 0 | R12: 0 | S12: 0 | T12: 1 | U12: 0 | V12: 0 | W12: 0 | X12: 0 | Y12: 0 | Z12: 0 | AA12: 0 | AB12: 159 | AC12: 7 | AD12: 75 | AE12: 77 | AF12: 77 | AG12: 22 | AH12: 55 | AI12: 0 | AJ12: 0 | AK12: 159 | AL12: 53 | AM12: 106 | AN12: 0 | AO12: 0 | AP12: 9 | AQ12: 0 | AR12: 9 | AS12: 0 | AT12: 9 | AU12: 0 | AV12: 9 | AW12: 0 | AX12: 14 | AY12: 0 | AZ12: 14 | BA12: 0 | BB12: 13 | BC12: 0 | BD12: 13 | BE12: 0 | BF12: 0 | BG12: 0 | BH12: 0 | BI12: 0 | BJ12: 1 | BK12: 0 | BL12: 1 | BM12: 0 | BN12: 0 | BO12: 0 | BP12: 0 | BQ12: 0 | BR12: 9 | BS12: 0 | BT12: 9 | BU12: 0 | BV12: 0 | BW12: 0 | BX12: 0 | BY12: 0 | BZ12: 0 | CA12: 0 | CB12: 0 | CC12: 0 | CD12: 4 | CE12: 0 | CF12: 4 | CG12: 0 | CH12: 0 | CI12: 0 | CJ12: 0 | CK12: 0 | CL12: 1 | CM12: 0 | CN12: 1 | CO12: 0 | CP12: 0 | CQ12: 0 | CR12: 0 | CS12: 0
A13: 桃園市 | B13: Taoyuan City | C13: 206 | D13: 64 | E13: 142 | F13: 0 | G13: 0 | H13: 60 | I13: 124 | J13: 0 | K13: 0 | L13: 4 | M13: 18 | N13: 0 | O13: 0 | P13: 0 | Q13: 0 | R13: 0 | S13: 0 | T13: 0 | U13: 0 | V13: 0 | W13: 0 | X13: 0 | Y13: 0 | Z13: 0 | AA13: 0 | AB13: 206 | AC13: 27 | AD13: 100 | AE13: 79 | AF13: 142 | AG13: 45 | AH13: 97 | AI13: 0 | AJ13: 0 | AK13: 206 | AL13: 64 | AM13: 142 | AN13: 0 | AO13: 0 | AP13: 15 | AQ13: 1 | AR13: 14 | AS13: 0 | AT13: 15 | AU13: 1 | AV13: 14 | AW13: 0 | AX13: 29 | AY13: 2 | AZ13: 27 | BA13: 0 | BB13: 16 | BC13: 2 | BD13: 14 | BE13: 0 | BF13: 0 | BG13: 0 | BH13: 0 | BI13: 0 | BJ13: 13 | BK13: 0 | BL13: 13 | BM13: 0 | BN13: 0 | BO13: 0 | BP13: 0 | BQ13: 0 | BR13: 15 | BS13: 1 | BT13: 14 | BU13: 0 | BV13: 0 | BW13: 0 | BX13: 0 | BY13: 0 | BZ13: 0 | CA13: 0 | CB13: 0 | CC13: 0 | CD13: 1 | CE13: 1 | CF13: 0 | CG13: 0 | CH13: 0 | CI13: 0 | CJ13: 0 | CK13: 0 | CL13: 13 | CM13: 0 | CN13: 13 | CO13: 0 | CP13: 0 | CQ13: 0 | CR13: 0 | CS13: 0
A14: 臺中市 | B14: Taichung City | C14: 171 | D14: 58 | E14: 113 | F14: 0 | G14: 0 | H14: 57 | I14: 110 | J14: 0 | K14: 0 | L14: 1 | M14: 3 | N14: 0 | O14: 0 | P14: 0 | Q14: 0 | R14: 0 | S14: 0 | T14: 0 | U14: 0 | V14: 0 | W14: 0 | X14: 0 | Y14: 0 | Z14: 0 | AA14: 0 | AB14: 171 | AC14: 18 | AD14: 74 | AE14: 79 | AF14: 93 | AG14: 33 | AH14: 60 | AI14: 0 | AJ14: 0 | AK14: 171 | AL14: 58 | AM14: 113 | AN14: 0 | AO14: 0 | AP14: 9 | AQ14: 0 | AR14: 9 | AS14: 0 | AT14: 9 | AU14: 0 | AV14: 9 | AW14: 0 | AX14: 17 | AY14: 0 | AZ14: 11 | BA14: 6 | BB14: 17 | BC14: 0 | BD14: 11 | BE14: 6 | BF14: 0 | BG14: 0 | BH14: 0 | BI14: 0 | BJ14: 0 | BK14: 0 | BL14: 0 | BM14: 0 | BN14: 0 | BO14: 0 | BP14: 0 | BQ14: 0 | BR14: 9 | BS14: 0 | BT14: 9 | BU14: 0 | BV14: 0 | BW14: 0 | BX14: 0 | BY14: 0 | BZ14: 0 | CA14: 0 | CB14: 0 | CC14: 0 | CD14: 8 | CE14: 0 | CF14: 2 | CG14: 6 | CH14: 0 | CI14: 0 | CJ14: 0 | CK14: 0 | CL14: 0 | CM14: 0 | CN14: 0 | CO14: 0 | CP14: 0 | CQ14: 0 | CR14: 0 | CS14: 0
A15: 臺南市 | B15: Tainan City | C15: 132 | D15: 42 | E15: 90 | F15: 0 | G15: 0 | H15: 42 | I15: 88 | J15: 0 | K15: 0 | L15: 0 | M15: 2 | N15: 0 | O15: 0 | P15: 0 | Q15: 0 | R15: 0 | S15: 0 | T15: 0 | U15: 0 | V15: 0 | W15: 0 | X15: 0 | Y15: 0 | Z15: 0 | AA15: 0 | AB15: 132 | AC15: 18 | AD15: 55 | AE15: 59 | AF15: 92 | AG15: 28 | AH15: 64 | AI15: 0 | AJ15: 0 | AK15: 132 | AL15: 42 | AM15: 90 | AN15: 0 | AO15: 0 | AP15: 2 | AQ15: 0 | AR15: 2 | AS15: 0 | AT15: 1 | AU15: 0 | AV15: 1 | AW15: 0 | AX15: 2 | AY15: 0 | AZ15: 2 | BA15: 0 | BB15: 2 | BC15: 0 | BD15: 2 | BE15: 0 | BF15: 0 | BG15: 0 | BH15: 0 | BI15: 0 | BJ15: 0 | BK15: 0 | BL15: 0 | BM15: 0 | BN15: 0 | BO15: 0 | BP15: 0 | BQ15: 0 | BR15: 1 | BS15: 0 | BT15: 1 | BU15: 0 | BV15: 0 | BW15: 0 | BX15: 0 | BY15: 0 | BZ15: 0 | CA15: 0 | CB15: 0 | CC15: 0 | CD15: 1 | CE15: 0 | CF15: 1 | CG15: 0 | CH15: 0 | CI15: 0 | CJ15: 0 | CK15: 0 | CL15: 0 | CM15: 0 | CN15: 0 | CO15: 0 | CP15: 0 | CQ15: 0 | CR15: 0 | CS15: 0
A16: 高雄市 | B16: Kaohsiung City | C16: 254 | D16: 69 | E16: 185 | F16: 0 | G16: 0 | H16: 62 | I16: 173 | J16: 0 | K16: 0 | L16: 7 | M16: 12 | N16: 0 | O16: 0 | P16: 0 | Q16: 0 | R16: 0 | S16: 0 | T16: 0 | U16: 0 | V16: 0 | W16: 0 | X16: 0 | Y16: 0 | Z16: 0 | AA16: 0 | AB16: 254 | AC16: 22 | AD16: 115 | AE16: 117 | AF16: 107 | AG16: 23 | AH16: 84 | AI16: 0 | AJ16: 0 | AK16: 254 | AL16: 69 | AM16: 185 | AN16: 0 | AO16: 0 | AP16: 6 | AQ16: 0 | AR16: 6 | AS16: 0 | AT16: 6 | AU16: 0 | AV16: 6 | AW16: 0 | AX16: 11 | AY16: 0 | AZ16: 11 | BA16: 0 | BB16: 0 | BC16: 0 | BD16: 0 | BE16: 0 | BF16: 0 | BG16: 0 | BH16: 0 | BI16: 0 | BJ16: 5 | BK16: 0 | BL16: 5 | BM16: 0 | BN16: 6 | BO16: 0 | BP16: 6 | BQ16: 0 | BR16: 0 | BS16: 0 | BT16: 0 | BU16: 0 | BV16: 0 | BW16: 0 | BX16: 0 | BY16: 0 | BZ16: 6 | CA16: 0 | CB16: 6 | CC16: 0 | CD16: 0 | CE16: 0 | CF16: 0 | CG16: 0 | CH16: 0 | CI16: 0 | CJ16: 0 | CK16: 0 | CL16: 5 | CM16: 0 | CN16: 5 | CO16: 0 | CP16: 0 | CQ16: 0 | CR16: 0 | CS16: 0
A17: 宜蘭縣 | B17: Yilan County | C17: 25 | D17: 12 | E17: 13 | F17: 0 | G17: 0 | H17: 12 | I17: 12 | J17: 0 | K17: 0 | L17: 0 | M17: 0 | N17: 0 | O17: 0 | P17: 0 | Q17: 0 | R17: 0 | S17: 0 | T17: 0 | U17: 0 | V17: 0 | W17: 0 | X17: 0 | Y17: 1 | Z17: 0 | AA17: 0 | AB17: 25 | AC17: 2 | AD17: 14 | AE17: 9 | AF17: 10 | AG17: 2 | AH17: 8 | AI17: 0 | AJ17: 0 | AK17: 25 | AL17: 12 | AM17: 13 | AN17: 0 | AO17: 0 | AP17: 0 | AQ17: 0 | AR17: 0 | AS17: 0 | AT17: 0 | AU17: 0 | AV17: 0 | AW17: 0 | AX17: 0 | AY17: 0 | AZ17: 0 | BA17: 0 | BB17: 0 | BC17: 0 | BD17: 0 | BE17: 0 | BF17: 0 | BG17: 0 | BH17: 0 | BI17: 0 | BJ17: 0 | BK17: 0 | BL17: 0 | BM17: 0 | BN17: 0 | BO17: 0 | BP17: 0 | BQ17: 0 | BR17: 0 | BS17: 0 | BT17: 0 | BU17: 0 | BV17: 0 | BW17: 0 | BX17: 0 | BY17: 0 | BZ17: 0 | CA17: 0 | CB17: 0 | CC17: 0 | CD17: 0 | CE17: 0 | CF17: 0 | CG17: 0 | CH17: 0 | CI17: 0 | CJ17: 0 | CK17: 0 | CL17: 0 | CM17: 0 | CN17: 0 | CO17: 0 | CP17: 0 | CQ17: 0 | CR17: 0 | CS17: 0
A18: 新竹縣 | B18: Hsinchu County | C18: 60 | D18: 20 | E18: 40 | F18: 0 | G18: 0 | H18: 20 | I18: 38 | J18: 0 | K18: 0 | L18: 0 | M18: 2 | N18: 0 | O18: 0 | P18: 0 | Q18: 0 | R18: 0 | S18: 0 | T18: 0 | U18: 0 | V18: 0 | W18: 0 | X18: 0 | Y18: 0 | Z18: 0 | AA18: 0 | AB18: 60 | AC18: 9 | AD18: 23 | AE18: 28 | AF18: 60 | AG18: 20 | AH18: 40 | AI18: 0 | AJ18: 0 | AK18: 60 | AL18: 20 | AM18: 40 | AN18: 0 | AO18: 0 | AP18: 0 | AQ18: 0 | AR18: 0 | AS18: 0 | AT18: 0 | AU18: 0 | AV18: 0 | AW18: 0 | AX18: 8 | AY18: 0 | AZ18: 8 | BA18: 0 | BB18: 8 | BC18: 0 | BD18: 8 | BE18: 0 | BF18: 0 | BG18: 0 | BH18: 0 | BI18: 0 | BJ18: 0 | BK18: 0 | BL18: 0 | BM18: 0 | BN18: 0 | BO18: 0 | BP18: 0 | BQ18: 0 | BR18: 2 | BS18: 0 | BT18: 2 | BU18: 0 | BV18: 0 | BW18: 0 | BX18: 0 | BY18: 0 | BZ18: 0 | CA18: 0 | CB18: 0 | CC18: 0 | CD18: 6 | CE18: 0 | CF18: 6 | CG18: 0 | CH18: 0 | CI18: 0 | CJ18: 0 | CK18: 0 | CL18: 0 | CM18: 0 | CN18: 0 | CO18: 0 | CP18: 0 | CQ18: 0 | CR18: 0 | CS18: 0
A19: 苗栗縣 | B19: Miaoli County | C19: 49 | D19: 18 | E19: 31 | F19: 0 | G19: 0 | H19: 18 | I19: 31 | J19: 0 | K19: 0 | L19: 0 | M19: 0 | N19: 0 | O19: 0 | P19: 0 | Q19: 0 | R19: 0 | S19: 0 | T19: 0 | U19: 0 | V19: 0 | W19: 0 | X19: 0 | Y19: 0 | Z19: 0 | AA19: 0 | AB19: 49 | AC19: 2 | AD19: 19 | AE19: 28 | AF19: 26 | AG19: 8 | AH19: 18 | AI19: 0 | AJ19: 0 | AK19: 49 | AL19: 18 | AM19: 31 | AN19: 0 | AO19: 0 | AP19: 3 | AQ19: 0 | AR19: 3 | AS19: 0 | AT19: 3 | AU19: 0 | AV19: 3 | AW19: 0 | AX19: 8 | AY19: 1 | AZ19: 7 | BA19: 0 | BB19: 4 | BC19: 1 | BD19: 3 | BE19: 0 | BF19: 0 | BG19: 0 | BH19: 0 | BI19: 0 | BJ19: 4 | BK19: 0 | BL19: 4 | BM19: 0 | BN19: 0 | BO19: 0 | BP19: 0 | BQ19: 0 | BR19: 3 | BS19: 0 | BT19: 3 | BU19: 0 | BV19: 0 | BW19: 0 | BX19: 0 | BY19: 0 | BZ19: 0 | CA19: 0 | CB19: 0 | CC19: 0 | CD19: 1 | CE19: 1 | CF19: 0 | CG19: 0 | CH19: 0 | CI19: 0 | CJ19: 0 | CK19: 0 | CL19: 4 | CM19: 0 | CN19: 4 | CO19: 0 | CP19: 0 | CQ19: 0 | CR19: 0 | CS19: 0
A20: 彰化縣 | B20: Changhua County | C20: 119 | D20: 40 | E20: 79 | F20: 0 | G20: 0 | H20: 39 | I20: 78 | J20: 0 | K20: 0 | L20: 1 | M20: 1 | N20: 0 | O20: 0 | P20: 0 | Q20: 0 | R20: 0 | S20: 0 | T20: 0 | U20: 0 | V20: 0 | W20: 0 | X20: 0 | Y20: 0 | Z20: 0 | AA20: 0 | AB20: 119 | AC20: 10 | AD20: 43 | AE20: 66 | AF20: 73 | AG20: 21 | AH20: 52 | AI20: 0 | AJ20: 0 | AK20: 119 | AL20: 40 | AM20: 79 | AN20: 0 | AO20: 0 | AP20: 1 | AQ20: 0 | AR20: 1 | AS20: 0 | AT20: 1 | AU20: 0 | AV20: 1 | AW20: 0 | AX20: 2 | AY20: 0 | AZ20: 2 | BA20: 0 | BB20: 2 | BC20: 0 | BD20: 2 | BE20: 0 | BF20: 0 | BG20: 0 | BH20: 0 | BI20: 0 | BJ20: 0 | BK20: 0 | BL20: 0 | BM20: 0 | BN20: 0 | BO20: 0 | BP20: 0 | BQ20: 0 | BR20: 1 | BS20: 0 | BT20: 1 | BU20: 0 | BV20: 0 | BW20: 0 | BX20: 0 | BY20: 0 | BZ20: 0 | CA20: 0 | CB20: 0 | CC20: 0 | CD20: 1 | CE20: 0 | CF20: 1 | CG20: 0 | CH20: 0 | CI20: 0 | CJ20: 0 | CK20: 0 | CL20: 0 | CM20: 0 | CN20: 0 | CO20: 0 | CP20: 0 | CQ20: 0 | CR20: 0 | CS20: 0
A21: 南投縣 | B21: Nantou County | C21: 45 | D21: 17 | E21: 28 | F21: 0 | G21: 0 | H21: 15 | I21: 25 | J21: 0 | K21: 0 | L21: 2 | M21: 3 | N21: 0 | O21: 0 | P21: 0 | Q21: 0 | R21: 0 | S21: 0 | T21: 0 | U21: 0 | V21: 0 | W21: 0 | X21: 0 | Y21: 0 | Z21: 0 | AA21: 0 | AB21: 45 | AC21: 4 | AD21: 23 | AE21: 18 | AF21: 7 | AG21: 2 | AH21: 5 | AI21: 0 | AJ21: 0 | AK21: 45 | AL21: 17 | AM21: 28 | AN21: 0 | AO21: 0 | AP21: 0 | AQ21: 0 | AR21: 0 | AS21: 0 | AT21: 0 | AU21: 0 | AV21: 0 | AW21: 0 | AX21: 0 | AY21: 0 | AZ21: 0 | BA21: 0 | BB21: 0 | BC21: 0 | BD21: 0 | BE21: 0 | BF21: 0 | BG21: 0 | BH21: 0 | BI21: 0 | BJ21: 0 | BK21: 0 | BL21: 0 | BM21: 0 | BN21: 0 | BO21: 0 | BP21: 0 | BQ21: 0 | BR21: 0 | BS21: 0 | BT21: 0 | BU21: 0 | BV21: 0 | BW21: 0 | BX21: 0 | BY21: 0 | BZ21: 0 | CA21: 0 | CB21: 0 | CC21: 0 | CD21: 0 | CE21: 0 | CF21: 0 | CG21: 0 | CH21: 0 | CI21: 0 | CJ21: 0 | CK21: 0 | CL21: 0 | CM21: 0 | CN21: 0 | CO21: 0 | CP21: 0 | CQ21: 0 | CR21: 0 | CS21: 0
A22: 雲林縣 | B22: Yunlin County | C22: 47 | D22: 9 | E22: 38 | F22: 0 | G22: 0 | H22: 9 | I22: 37 | J22: 0 | K22: 0 | L22: 0 | M22: 1 | N22: 0 | O22: 0 | P22: 0 | Q22: 0 | R22: 0 | S22: 0 | T22: 0 | U22: 0 | V22: 0 | W22: 0 | X22: 0 | Y22: 0 | Z22: 0 | AA22: 0 | AB22: 47 | AC22: 11 | AD22: 23 | AE22: 13 | AF22: 29 | AG22: 5 | AH22: 24 | AI22: 0 | AJ22: 0 | AK22: 47 | AL22: 9 | AM22: 38 | AN22: 0 | AO22: 0 | AP22: 3 | AQ22: 0 | AR22: 3 | AS22: 0 | AT22: 2 | AU22: 0 | AV22: 2 | AW22: 0 | AX22: 4 | AY22: 0 | AZ22: 4 | BA22: 0 | BB22: 2 | BC22: 0 | BD22: 2 | BE22: 0 | BF22: 0 | BG22: 0 | BH22: 0 | BI22: 0 | BJ22: 2 | BK22: 0 | BL22: 2 | BM22: 0 | BN22: 0 | BO22: 0 | BP22: 0 | BQ22: 0 | BR22: 2 | BS22: 0 | BT22: 2 | BU22: 0 | BV22: 0 | BW22: 0 | BX22: 0 | BY22: 0 | BZ22: 0 | CA22: 0 | CB22: 0 | CC22: 0 | CD22: 0 | CE22: 0 | CF22: 0 | CG22: 0 | CH22: 0 | CI22: 0 | CJ22: 0 | CK22: 0 | CL22: 2 | CM22: 0 | CN22: 2 | CO22: 0 | CP22: 0 | CQ22: 0 | CR22: 0 | CS22: 0
... A32: 連江縣 | B32: Lienchiang County | C32: 1 | D32: 0 | E32: 1 | F32: 0 | G32: 0 | H32: 0 | I32: 1 | J32: 0 | K32: 0 | L32: 0 | M32: 0 | N32: 0 | O32: 0 | P32: 0 | Q32: 0 | R32: 0 | S32: 0 | T32: 0 | U32: 0 | V32: 0 | W32: 0 | X32: 0 | Y32: 0 | Z32: 0 | AA32: 0 | AB32: 1 | AC32: 0 | AD32: 0 | AE32: 1 | AF32: 1 | AG32: 1 | AH32: 0 | AI32: 0 | AJ32: 0 | AK32: 1 | AL32: 0 | AM32: 1 | AN32: 0 | AO32: 0 | AP32: 0 | AQ32: 0 | AR32: 0 | AS32: 0 | AT32: 0 | AU32: 0 | AV32: 0 | AW32: 0 | AX32: 0 | AY32: 0 | AZ32: 0 | BA32: 0 | BB32: 0 | BC32: 0 | BD32: 0 | BE32: 0 | BF32: 0 | BG32: 0 | BH32: 0 | BI32: 0 | BJ32: 0 | BK32: 0 | BL32: 0 | BM32: 0 | BN32: 0 | BO32: 0 | BP32: 0 | BQ32: 0 | BR32: 0 | BS32: 0 | BT32: 0 | BU32: 0 | BV32: 0 | BW32: 0 | BX32: 0 | BY32: 0 | BZ32: 0 | CA32: 0 | CB32: 0 | CC32: 0 | CD32: 0 | CE32: 0 | CF32: 0 | CG32: 0 | CH32: 0 | CI32: 0 | CJ32: 0 | CK32: 0 | CL32: 0 | CM32: 0 | CN32: 0 | CO32: 0 | CP32: 0 | CQ32: 0 | CR32: 0 | CS32: 0
A33: 資料來源：直轄市、縣﹝市﹞政府。
A34: Source : County and City Government.

Sheet 109
A1: 兒童及少年性剝削案件安置情形
A3: 民國109年, 2020
A4: 區域別 Locality | C4: 受理通報(報告)人數(人) | T4: 派員陪同偵訊個案數(件) | W4: 評估處理情形(件) | Z4: 緊急安置數(人) | AC4: 緊急安置個案向法院聲請第一次裁定數(人) | AF4: 入住人數(人次) Number of Persons Being Admitted
C5: 合計 | F5: 本國籍 Nationals | J5: 大陸籍 | L5: 外國籍 | N5: 其他 | P5: 按年齡分 By Age | AF5: 總計Total | AU5: 依第一次裁定結果繼續安置Continued Placement According to the Results of First Ruling | BD5: 依第二次裁定結果安置Placement According to the Results of Second Ruling
F6: 一般 | H6: 原住民 | T6: Cases Of Accompanying For Court | W6: Status Of Victim Evaluation | Z6: Number Of Victims Under Emergency Placement | AC6: Number of Victims under Emergency Placement Who Apply to the Court for First Ruling | AF6: 合計Total | AI6: 兒童及少年福利機構 | AL6: 寄養家庭 | AO6: 中途學校 | AR6: 其他適當之醫療、教育機構 | AU6: 兒童及少年福利機構 | AX6: 寄養家庭 | BA6: 其他適當之醫療、教育機構 | BD6: 兒童及少年福利機構 | BG6: 寄養家庭 | BJ6: 中途學校 | BM6: 其他適當之醫療、教育機構
C7: Total | F7: General | H7: Aborigines | J7: Mainlanders | L7: Foreigners | N7: Others | AI7: Child and Youth Welfare Institutions | AL7: Fostering Families | AO7: Midway School | AR7: Other Appropriate Medical and Educational Institutions | AU7: Child and Youth Welfare Institutions | AX7: Fostering Families | BA7: Other Appropriate Medical and Educational Institutions | BD7: Child and Youth Welfare Institutions | BG7: Fostering Families | BJ7: Midway School | BM7: Other Appropriate Medical and Educational Institutions
C8: 計 | D8: 男 | E8: 女 | F8: 男 | G8: 女 | H8: 男 | I8: 女 | J8: 男 | K8: 女 | L8: 男 | M8: 女 | N8: 男 | O8: 女 | P8: 合計 | Q8: 未滿12歲 | R8: 12-未滿15歲 | S8: 15-未滿18歲 | T8: 計 | U8: 男 | V8: 女 | W8: 計 | X8: 男 | Y8: 女 | Z8: 計 | AA8: 男 | AB8: 女 | AC8: 計 | AD8: 男 | AE8: 女 | AF8: 計 | AG8: 男 | AH8: 女 | AI8: 計 | AJ8: 男 | AK8: 女 | AL8: 計 | AM8: 男 | AN8: 女 | AO8: 計 | AP8: 男 | AQ8: 女 | AR8: 計 | AS8: 男 | AT8: 女 | AU8: 計 | AV8: 男 | AW8: 女 | AX8: 計 | AY8: 男 | AZ8: 女 | BA8: 計 | BB8: 男 | BC8: 女 | BD8: 計 | BE8: 男 | BF8: 女 | BG8: 計 | BH8: 男 | BI8: 女 | BJ8: 計 | BK8: 男 | BL8: 女 | BM8: 計 | BN8: 男 | BO8: 女
C9: Sub-Total | D9: Male | E9: Female | F9: Male | G9: Female | H9: Male | I9: Female | J9: Male | K9: Female | L9: Male | M9: Female | N9: Male | O9: Female | P9: Total | Q9: Under 12 Years | R9: 12-Under 15 Years | S9: 15-Under 18 Years | T9: Sub-Total | U9: Male | V9: Female | W9: Sub-Total | X9: Male | Y9: Female | Z9: Sub-Total | AA9: Male | AB9: Female | AC9: Sub-Total | AD9: Male | AE9: Female | AF9: Sub-Total | AG9: Male | AH9: Female | AI9: Sub-Total | AJ9: Male | AK9: Female | AL9: Sub-Total | AM9: Male | AN9: Female | AO9: Sub-Total | AP9: Male | AQ9: Female | AR9: Sub-Total | AS9: Male | AT9: Female | AU9: Sub-Total | AV9: Male | AW9: Female | AX9: Sub-Total | AY9: Male | AZ9: Female | BA9: Sub-Total | BB9: Male | BC9: Female | BD9: Sub-Total | BE9: Male | BF9: Female | BG9: Sub-Total | BH9: Male | BI9: Female | BJ9: Sub-Total | BK9: Male | BL9: Female | BM9: Sub-Total | BN9: Male | BO9: Female
A10: 總計 Total | C10: 1691 | D10: 475 | E10: 1216 | F10: 440 | G10: 1131 | H10: 31 | I10: 78 | J10: 2 | K10: 1 | L10: 0 | M10: 4 | N10: 2 | O10: 2 | P10: 1691 | Q10: 153 | R10: 757 | S10: 781 | T10: 970 | U10: 242 | V10: 728 | W10: 1696 | X10: 478 | Y10: 1218 | Z10: 112 | AA10: 3 | AB10: 109 | AC10: 100 | AD10: 2 | AE10: 98 | AF10: 178 | AG10: 2 | AH10: 176 | AI10: 127 | AJ10: 2 | AK10: 125 | AL10: 0 | AM10: 0 | AN10: 0 | AO10: 34 | AP10: 0 | AQ10: 34 | AR10: 17 | AS10: 0 | AT10: 17 | AU10: 79 | AV10: 2 | AW10: 77 | AX10: 0 | AY10: 0 | AZ10: 0 | BA10: 17 | BB10: 0 | BC10: 17 | BD10: 48 | BE10: 0 | BF10: 48 | BG10: 0 | BH10: 0 | BI10: 0 | BJ10: 34 | BK10: 0 | BL10: 34 | BM10: 0 | BN10: 0 | BO10: 0
A11: 新北市 | B11: New Taipei City | C11: 290 | D11: 63 | E11: 227 | F11: 60 | G11: 208 | H11: 1 | I11: 16 | J11: 0 | K11: 0 | L11: 0 | M11: 1 | N11: 2 | O11: 2 | P11: 290 | Q11: 35 | R11: 126 | S11: 129 | T11: 172 | U11: 30 | V11: 142 | W11: 290 | X11: 63 | Y11: 227 | Z11: 10 | AA11: 1 | AB11: 9 | AC11: 5 | AD11: 0 | AE11: 5 | AF11: 7 | AG11: 0 | AH11: 7 | AI11: 7 | AJ11: 0 | AK11: 7 | AL11: 0 | AM11: 0 | AN11: 0 | AO11: 0 | AP11: 0 | AQ11: 0 | AR11: 0 | AS11: 0 | AT11: 0 | AU11: 5 | AV11: 0 | AW11: 5 | AX11: 0 | AY11: 0 | AZ11: 0 | BA11: 0 | BB11: 0 | BC11: 0 | BD11: 2 | BE11: 0 | BF11: 2 | BG11: 0 | BH11: 0 | BI11: 0 | BJ11: 0 | BK11: 0 | BL11: 0 | BM11: 0 | BN11: 0 | BO11: 0
A12: 臺北市 | B12: Taipei City | C12: 151 | D12: 44 | E12: 107 | F12: 44 | G12: 107 | H12: 0 | I12: 0 | J12: 0 | K12: 0 | L12: 0 | M12: 0 | N12: 0 | O12: 0 | P12: 151 | Q12: 9 | R12: 66 | S12: 76 | T12: 86 | U12: 22 | V12: 64 | W12: 151 | X12: 44 | Y12: 107 | Z12: 11 | AA12: 0 | AB12: 11 | AC12: 11 | AD12: 0 | AE12: 11 | AF12: 15 | AG12: 0 | AH12: 15 | AI12: 14 | AJ12: 0 | AK12: 14 | AL12: 0 | AM12: 0 | AN12: 0 | AO12: 1 | AP12: 0 | AQ12: 1 | AR12: 0 | AS12: 0 | AT12: 0 | AU12: 8 | AV12: 0 | AW12: 8 | AX12: 0 | AY12: 0 | AZ12: 0 | BA12: 0 | BB12: 0 | BC12: 0 | BD12: 6 | BE12: 0 | BF12: 6 | BG12: 0 | BH12: 0 | BI12: 0 | BJ12: 1 | BK12: 0 | BL12: 1 | BM12: 0 | BN12: 0 | BO12: 0
A13: 桃園市 | B13: Taoyuan City | C13: 163 | D13: 31 | E13: 132 | F13: 31 | G13: 121 | H13: 0 | I13: 11 | J13: 0 | K13: 0 | L13: 0 | M13: 0 | N13: 0 | O13: 0 | P13: 163 | Q13: 13 | R13: 75 | S13: 75 | T13: 99 | U13: 10 | V13: 89 | W13: 163 | X13: 31 | Y13: 132 | Z13: 25 | AA13: 0 | AB13: 25 | AC13: 19 | AD13: 0 | AE13: 19 | AF13: 31 | AG13: 0 | AH13: 31 | AI13: 21 | AJ13: 0 | AK13: 21 | AL13: 0 | AM13: 0 | AN13: 0 | AO13: 10 | AP13: 0 | AQ13: 10 | AR13: 0 | AS13: 0 | AT13: 0 | AU13: 19 | AV13: 0 | AW13: 19 | AX13: 0 | AY13: 0 | AZ13: 0 | BA13: 0 | BB13: 0 | BC13: 0 | BD13: 2 | BE13: 0 | BF13: 2 | BG13: 0 | BH13: 0 | BI13: 0 | BJ13: 10 | BK13: 0 | BL13: 10 | BM13: 0 | BN13: 0 | BO13: 0
A14: 臺中市 | B14: Taichung City | C14: 175 | D14: 48 | E14: 127 | F14: 48 | G14: 123 | H14: 0 | I14: 4 | J14: 0 | K14: 0 | L14: 0 | M14: 0 | N14: 0 | O14: 0 | P14: 175 | Q14: 19 | R14: 89 | S14: 67 | T14: 118 | U14: 35 | V14: 83 | W14: 175 | X14: 48 | Y14: 127 | Z14: 12 | AA14: 1 | AB14: 11 | AC14: 11 | AD14: 1 | AE14: 10 | AF14: 21 | AG14: 1 | AH14: 20 | AI14: 21 | AJ14: 1 | AK14: 20 | AL14: 0 | AM14: 0 | AN14: 0 | AO14: 0 | AP14: 0 | AQ14: 0 | AR14: 0 | AS14: 0 | AT14: 0 | AU14: 11 | AV14: 1 | AW14: 10 | AX14: 0 | AY14: 0 | AZ14: 0 | BA14: 0 | BB14: 0 | BC14: 0 | BD14: 10 | BE14: 0 | BF14: 10 | BG14: 0 | BH14: 0 | BI14: 0 | BJ14: 0 | BK14: 0 | BL14: 0 | BM14: 0 | BN14: 0 | BO14: 0
A15: 臺南市 | B15: Tainan City | C15: 96 | D15: 28 | E15: 68 | F15: 27 | G15: 67 | H15: 1 | I15: 1 | J15: 0 | K15: 0 | L15: 0 | M15: 0 | N15: 0 | O15: 0 | P15: 96 | Q15: 10 | R15: 43 | S15: 43 | T15: 50 | U15: 16 | V15: 34 | W15: 96 | X15: 28 | Y15: 68 | Z15: 10 | AA15: 0 | AB15: 10 | AC15: 10 | AD15: 0 | AE15: 10 | AF15: 25 | AG15: 0 | AH15: 25 | AI15: 6 | AJ15: 0 | AK15: 6 | AL15: 0 | AM15: 0 | AN15: 0 | AO15: 10 | AP15: 0 | AQ15: 10 | AR15: 9 | AS15: 0 | AT15: 9 | AU15: 1 | AV15: 0 | AW15: 1 | AX15: 0 | AY15: 0 | AZ15: 0 | BA15: 9 | BB15: 0 | BC15: 9 | BD15: 5 | BE15: 0 | BF15: 5 | BG15: 0 | BH15: 0 | BI15: 0 | BJ15: 10 | BK15: 0 | BL15: 10 | BM15: 0 | BN15: 0 | BO15: 0
A16: 高雄市 | B16: Kaohsiung City | C16: 195 | D16: 50 | E16: 145 | F16: 45 | G16: 135 | H16: 3 | I16: 9 | J16: 2 | K16: 1 | L16: 0 | M16: 0 | N16: 0 | O16: 0 | P16: 195 | Q16: 14 | R16: 72 | S16: 109 | T16: 84 | U16: 20 | V16: 64 | W16: 195 | X16: 50 | Y16: 145 | Z16: 7 | AA16: 0 | AB16: 7 | AC16: 7 | AD16: 0 | AE16: 7 | AF16: 11 | AG16: 0 | AH16: 11 | AI16: 0 | AJ16: 0 | AK16: 0 | AL16: 0 | AM16: 0 | AN16: 0 | AO16: 4 | AP16: 0 | AQ16: 4 | AR16: 7 | AS16: 0 | AT16: 7 | AU16: 0 | AV16: 0 | AW16: 0 | AX16: 0 | AY16: 0 | AZ16: 0 | BA16: 7 | BB16: 0 | BC16: 7 | BD16: 0 | BE16: 0 | BF16: 0 | BG16: 0 | BH16: 0 | BI16: 0 | BJ16: 4 | BK16: 0 | BL16: 4 | BM16: 0 | BN16: 0 | BO16: 0
A17: 宜蘭縣 | B17: Yilan County | C17: 34 | D17: 16 | E17: 18 | F17: 16 | G17: 17 | H17: 0 | I17: 1 | J17: 0 | K17: 0 | L17: 0 | M17: 0 | N17: 0 | O17: 0 | P17: 34 | Q17: 2 | R17: 14 | S17: 18 | T17: 8 | U17: 3 | V17: 5 | W17: 34 | X17: 16 | Y17: 18 | Z17: 1 | AA17: 0 | AB17: 1 | AC17: 1 | AD17: 0 | AE17: 1 | AF17: 2 | AG17: 0 | AH17: 2 | AI17: 2 | AJ17: 0 | AK17: 2 | AL17: 0 | AM17: 0 | AN17: 0 | AO17: 0 | AP17: 0 | AQ17: 0 | AR17: 0 | AS17: 0 | AT17: 0 | AU17: 1 | AV17: 0 | AW17: 1 | AX17: 0 | AY17: 0 | AZ17: 0 | BA17: 0 | BB17: 0 | BC17: 0 | BD17: 1 | BE17: 0 | BF17: 1 | BG17: 0 | BH17: 0 | BI17: 0 | BJ17: 0 | BK17: 0 | BL17: 0 | BM17: 0 | BN17: 0 | BO17: 0
A18: 新竹縣 | B18: Hsinchu County | C18: 42 | D18: 17 | E18: 25 | F18: 17 | G18: 24 | H18: 0 | I18: 1 | J18: 0 | K18: 0 | L18: 0 | M18: 0 | N18: 0 | O18: 0 | P18: 42 | Q18: 4 | R18: 16 | S18: 22 | T18: 42 | U18: 17 | V18: 25 | W18: 42 | X18: 17 | Y18: 25 | Z18: 2 | AA18: 0 | AB18: 2 | AC18: 2 | AD18: 0 | AE18: 2 | AF18: 7 | AG18: 0 | AH18: 7 | AI18: 7 | AJ18: 0 | AK18: 7 | AL18: 0 | AM18: 0 | AN18: 0 | AO18: 0 | AP18: 0 | AQ18: 0 | AR18: 0 | AS18: 0 | AT18: 0 | AU18: 2 | AV18: 0 | AW18: 2 | AX18: 0 | AY18: 0 | AZ18: 0 | BA18: 0 | BB18: 0 | BC18: 0 | BD18: 5 | BE18: 0 | BF18: 5 | BG18: 0 | BH18: 0 | BI18: 0 | BJ18: 0 | BK18: 0 | BL18: 0 | BM18: 0 | BN18: 0 | BO18: 0
A19: 苗栗縣 | B19: Miaoli County | C19: 57 | D19: 13 | E19: 44 | F19: 12 | G19: 40 | H19: 1 | I19: 4 | J19: 0 | K19: 0 | L19: 0 | M19: 0 | N19: 0 | O19: 0 | P19: 57 | Q19: 5 | R19: 25 | S19: 27 | T19: 24 | U19: 6 | V19: 18 | W19: 57 | X19: 13 | Y19: 44 | Z19: 1 | AA19: 0 | AB19: 1 | AC19: 1 | AD19: 0 | AE19: 1 | AF19: 3 | AG19: 0 | AH19: 3 | AI19: 2 | AJ19: 0 | AK19: 2 | AL19: 0 | AM19: 0 | AN19: 0 | AO19: 1 | AP19: 0 | AQ19: 1 | AR19: 0 | AS19: 0 | AT19: 0 | AU19: 1 | AV19: 0 | AW19: 1 | AX19: 0 | AY19: 0 | AZ19: 0 | BA19: 0 | BB19: 0 | BC19: 0 | BD19: 1 | BE19: 0 | BF19: 1 | BG19: 0 | BH19: 0 | BI19: 0 | BJ19: 1 | BK19: 0 | BL19: 1 | BM19: 0 | BN19: 0 | BO19: 0
A20: 彰化縣 | B20: Changhua County | C20: 95 | D20: 34 | E20: 61 | F20: 32 | G20: 61 | H20: 2 | I20: 0 | J20: 0 | K20: 0 | L20: 0 | M20: 0 | N20: 0 | O20: 0 | P20: 95 | Q20: 9 | R20: 39 | S20: 47 | T20: 62 | U20: 18 | V20: 44 | W20: 95 | X20: 34 | Y20: 61 | Z20: 2 | AA20: 0 | AB20: 2 | AC20: 2 | AD20: 0 | AE20: 2 | AF20: 4 | AG20: 0 | AH20: 4 | AI20: 3 | AJ20: 0 | AK20: 3 | AL20: 0 | AM20: 0 | AN20: 0 | AO20: 1 | AP20: 0 | AQ20: 1 | AR20: 0 | AS20: 0 | AT20: 0 | AU20: 2 | AV20: 0 | AW20: 2 | AX20: 0 | AY20: 0 | AZ20: 0 | BA20: 0 | BB20: 0 | BC20: 0 | BD20: 1 | BE20: 0 | BF20: 1 | BG20: 0 | BH20: 0 | BI20: 0 | BJ20: 1 | BK20: 0 | BL20: 1 | BM20: 0 | BN20: 0 | BO20: 0
A21: 南投縣 | B21: Nantou County | C21: 49 | D21: 19 | E21: 30 | F21: 16 | G21: 27 | H21: 3 | I21: 3 | J21: 0 | K21: 0 | L21: 0 | M21: 0 | N21: 0 | O21: 0 | P21: 49 | Q21: 4 | R21: 24 | S21: 21 | T21: 31 | U21: 13 | V21: 18 | W21: 49 | X21: 19 | Y21: 30 | Z21: 0 | AA21: 0 | AB21: 0 | AC21: 0 | AD21: 0 | AE21: 0 | AF21: 0 | AG21: 0 | AH21: 0 | AI21: 0 | AJ21: 0 | AK21: 0 | AL21: 0 | AM21: 0 | AN21: 0 | AO21: 0 | AP21: 0 | AQ21: 0 | AR21: 0 | AS21: 0 | AT21: 0 | AU21: 0 | AV21: 0 | AW21: 0 | AX21: 0 | AY21: 0 | AZ21: 0 | BA21: 0 | BB21: 0 | BC21: 0 | BD21: 0 | BE21: 0 | BF21: 0 | BG21: 0 | BH21: 0 | BI21: 0 | BJ21: 0 | BK21: 0 | BL21: 0 | BM21: 0 | BN21: 0 | BO21: 0
A22: 雲林縣 | B22: Yunlin County | C22: 47 | D22: 10 | E22: 37 | F22: 10 | G22: 36 | H22: 0 | I22: 0 | J22: 0 | K22: 0 | L22: 0 | M22: 1 | N22: 0 | O22: 0 | P22: 47 | Q22: 2 | R22: 20 | S22: 25 | T22: 31 | U22: 5 | V22: 26 | W22: 47 | X22: 10 | Y22: 37 | Z22: 3 | AA22: 0 | AB22: 3 | AC22: 3 | AD22: 0 | AE22: 3 | AF22: 5 | AG22: 0 | AH22: 5 | AI22: 4 | AJ22: 0 | AK22: 4 | AL22: 0 | AM22: 0 | AN22: 0 | AO22: 1 | AP22: 0 | AQ22: 1 | AR22: 0 | AS22: 0 | AT22: 0 | AU22: 3 | AV22: 0 | AW22: 3 | AX22: 0 | AY22: 0 | AZ22: 0 | BA22: 0 | BB22: 0 | BC22: 0 | BD22: 1 | BE22: 0 | BF22: 1 | BG22: 0 | BH22: 0 | BI22: 0 | BJ22: 1 | BK22: 0 | BL22: 1 | BM22: 0 | BN22: 0 | BO22: 0
... A32: 連江縣 | B32: Lienchiang County | C32: 3 | D32: 3 | E32: 0 | F32: 3 | G32: 0 | H32: 0 | I32: 0 | J32: 0 | K32: 0 | L32: 0 | M32: 0 | N32: 0 | O32: 0 | P32: 3 | Q32: 0 | R32: 3 | S32: 0 | T32: 0 | U32: 0 | V32: 0 | W32: 3 | X32: 2 | Y32: 1 | Z32: 0 | AA32: 0 | AB32: 0 | AC32: 0 | AD32: 0 | AE32: 0 | AF32: 0 | AG32: 0 | AH32: 0 | AI32: 0 | AJ32: 0 | AK32: 0 | AL32: 0 | AM32: 0 | AN32: 0 | AO32: 0 | AP32: 0 | AQ32: 0 | AR32: 0 | AS32: 0 | AT32: 0 | AU32: 0 | AV32: 0 | AW32: 0 | AX32: 0 | AY32: 0 | AZ32: 0 | BA32: 0 | BB32: 0 | BC32: 0 | BD32: 0 | BE32: 0 | BF32: 0 | BG32: 0 | BH32: 0 | BI32: 0 | BJ32: 0 | BK32: 0 | BL32: 0 | BM32: 0 | BN32: 0 | BO32: 0
A33: 資料來源：直轄市、縣﹝市﹞政府。
A34: Source : County and City Government.

Sheet 108
A1: 兒童及少年性剝削案件安置情形
A3: 民國108年, 2019
A4: 區域別 Locality | C4: 受理通報(報告)人數(人) | T4: 派員陪同偵訊個案數(人) | W4: 被害人24小時評估處理(人) | Z4: 緊急安置數(人) | AC4: 緊急安置個案向法院聲請第一次裁定數(人) | AF4: 入住人數(人次) Number of Persons Being Admitted
C5: 合計 | F5: 本國籍 Nationals | J5: 大陸籍 | L5: 外國籍 | N5: 其他 | P5: 按年齡分 By Age | AF5: 總計Total | AU5: 依第一次裁定結果繼續安置Continued Placement According to the Results of First Ruling | BD5: 依第二次裁定結果安置Placement According to the Results of Second Ruling
F6: 一般 | H6: 原住民 | T6: Cases Of Accompanying For Court | W6: Status Of Victim Evaluation Within 24 Hours | Z6: Number Of Victims Under Emergency Placement | AC6: Number of Victims under Emergency Placement Who Apply to the Court for First Ruling | AF6: 合計Total | AI6: 兒童及少年福利機構 | AL6: 寄養家庭 | AO6: 中途學校 | AR6: 其他適當之醫療、教育機構 | AU6: 兒童及少年福利機構 | AX6: 寄養家庭 | BA6: 其他適當之醫療、教育機構 | BD6: 兒童及少年福利機構 | BG6: 寄養家庭 | BJ6: 中途學校 | BM6: 其他適當之醫療、教育機構
C7: Total | F7: General | H7: Aborigines | J7: Mainlanders | L7: Foreigners | N7: Others | AI7: Child and Youth Welfare Institutions | AL7: Fostering Families | AO7: Midway School | AR7: Other Appropriate Medical and Educational Institutions | AU7: Child and Youth Welfare Institutions | AX7: Fostering Families | BA7: Other Appropriate Medical and Educational Institutions | BD7: Child and Youth Welfare Institutions | BG7: Fostering Families | BJ7: Midway School | BM7: Other Appropriate Medical and Educational Institutions
C8: 計 | D8: 男 | E8: 女 | F8: 男 | G8: 女 | H8: 男 | I8: 女 | J8: 男 | K8: 女 | L8: 男 | M8: 女 | N8: 男 | O8: 女 | P8: 合計 | Q8: 未滿12歲 | R8: 12-未滿15歲 | S8: 15-未滿18歲 | T8: 計 | U8: 男 | V8: 女 | W8: 計 | X8: 男 | Y8: 女 | Z8: 計 | AA8: 男 | AB8: 女 | AC8: 計 | AD8: 男 | AE8: 女 | AF8: 計 | AG8: 男 | AH8: 女 | AI8: 計 | AJ8: 男 | AK8: 女 | AL8: 計 | AM8: 男 | AN8: 女 | AO8: 計 | AP8: 男 | AQ8: 女 | AR8: 計 | AS8: 男 | AT8: 女 | AU8: 計 | AV8: 男 | AW8: 女 | AX8: 計 | AY8: 男 | AZ8: 女 | BA8: 計 | BB8: 男 | BC8: 女 | BD8: 計 | BE8: 男 | BF8: 女 | BG8: 計 | BH8: 男 | BI8: 女 | BJ8: 計 | BK8: 男 | BL8: 女 | BM8: 計 | BN8: 男 | BO8: 女
C9: Sub-Total | D9: Male | E9: Female | F9: Male | G9: Female | H9: Male | I9: Female | J9: Male | K9: Female | L9: Male | M9: Female | N9: Male | O9: Female | P9: Total | Q9: Under 12 Years | R9: 12-Under 15 Years | S9: 15-Under 18 Years | T9: Sub-Total | U9: Male | V9: Female | W9: Sub-Total | X9: Male | Y9: Female | Z9: Sub-Total | AA9: Male | AB9: Female | AC9: Sub-Total | AD9: Male | AE9: Female | AF9: Sub-Total | AG9: Male | AH9: Female | AI9: Sub-Total | AJ9: Male | AK9: Female | AL9: Sub-Total | AM9: Male | AN9: Female | AO9: Sub-Total | AP9: Male | AQ9: Female | AR9: Sub-Total | AS9: Male | AT9: Female | AU9: Sub-Total | AV9: Male | AW9: Female | AX9: Sub-Total | AY9: Male | AZ9: Female | BA9: Sub-Total | BB9: Male | BC9: Female | BD9: Sub-Total | BE9: Male | BF9: Female | BG9: Sub-Total | BH9: Male | BI9: Female | BJ9: Sub-Total | BK9: Male | BL9: Female | BM9: Sub-Total | BN9: Male | BO9: Female
A10: 總計 Total | C10: 1211 | D10: 187 | E10: 1024 | F10: 172 | G10: 962 | H10: 15 | I10: 51 | J10: 0 | K10: 0 | L10: 0 | M10: 9 | N10: 0 | O10: 2 | P10: 1211 | Q10: 78 | R10: 510 | S10: 623 | T10: 714 | U10: 73 | V10: 641 | W10: 1134 | X10: 171 | Y10: 963 | Z10: 118 | AA10: 2 | AB10: 116 | AC10: 119 | AD10: 2 | AE10: 117 | AF10: 234 | AG10: 3 | AH10: 231 | AI10: 160 | AJ10: 2 | AK10: 158 | AL10: 1 | AM10: 0 | AN10: 1 | AO10: 59 | AP10: 0 | AQ10: 59 | AR10: 14 | AS10: 1 | AT10: 13 | AU10: 104 | AV10: 1 | AW10: 103 | AX10: 1 | AY10: 0 | AZ10: 1 | BA10: 14 | BB10: 1 | BC10: 13 | BD10: 56 | BE10: 1 | BF10: 55 | BG10: 0 | BH10: 0 | BI10: 0 | BJ10: 59 | BK10: 0 | BL10: 59 | BM10: 0 | BN10: 0 | BO10: 0
A11: 新北市 | B11: New Taipei City | C11: 192 | D11: 22 | E11: 170 | F11: 22 | G11: 158 | H11: 0 | I11: 9 | J11: 0 | K11: 0 | L11: 0 | M11: 1 | N11: 0 | O11: 2 | P11: 192 | Q11: 18 | R11: 86 | S11: 88 | T11: 62 | U11: 4 | V11: 58 | W11: 192 | X11: 22 | Y11: 170 | Z11: 16 | AA11: 0 | AB11: 16 | AC11: 16 | AD11: 0 | AE11: 16 | AF11: 26 | AG11: 0 | AH11: 26 | AI11: 17 | AJ11: 0 | AK11: 17 | AL11: 0 | AM11: 0 | AN11: 0 | AO11: 9 | AP11: 0 | AQ11: 9 | AR11: 0 | AS11: 0 | AT11: 0 | AU11: 16 | AV11: 0 | AW11: 16 | AX11: 0 | AY11: 0 | AZ11: 0 | BA11: 0 | BB11: 0 | BC11: 0 | BD11: 1 | BE11: 0 | BF11: 1 | BG11: 0 | BH11: 0 | BI11: 0 | BJ11: 9 | BK11: 0 | BL11: 9 | BM11: 0 | BN11: 0 | BO11: 0
A12: 臺北市 | B12: Taipei City | C12: 87 | D12: 14 | E12: 73 | F12: 14 | G12: 73 | H12: 0 | I12: 0 | J12: 0 | K12: 0 | L12: 0 | M12: 0 | N12: 0 | O12: 0 | P12: 87 | Q12: 7 | R12: 45 | S12: 35 | T12: 29 | U12: 1 | V12: 28 | W12: 87 | X12: 16 | Y12: 71 | Z12: 6 | AA12: 0 | AB12: 6 | AC12: 6 | AD12: 0 | AE12: 6 | AF12: 11 | AG12: 0 | AH12: 11 | AI12: 10 | AJ12: 0 | AK12: 10 | AL12: 0 | AM12: 0 | AN12: 0 | AO12: 1 | AP12: 0 | AQ12: 1 | AR12: 0 | AS12: 0 | AT12: 0 | AU12: 6 | AV12: 0 | AW12: 6 | AX12: 0 | AY12: 0 | AZ12: 0 | BA12: 0 | BB12: 0 | BC12: 0 | BD12: 4 | BE12: 0 | BF12: 4 | BG12: 0 | BH12: 0 | BI12: 0 | BJ12: 1 | BK12: 0 | BL12: 1 | BM12: 0 | BN12: 0 | BO12: 0
A13: 桃園市 | B13: Taoyuan City | C13: 158 | D13: 22 | E13: 136 | F13: 20 | G13: 126 | H13: 2 | I13: 10 | J13: 0 | K13: 0 | L13: 0 | M13: 0 | N13: 0 | O13: 0 | P13: 158 | Q13: 10 | R13: 49 | S13: 99 | T13: 95 | U13: 2 | V13: 93 | W13: 141 | X13: 19 | Y13: 122 | Z13: 29 | AA13: 1 | AB13: 28 | AC13: 29 | AD13: 1 | AE13: 28 | AF13: 47 | AG13: 1 | AH13: 46 | AI13: 35 | AJ13: 1 | AK13: 34 | AL13: 0 | AM13: 0 | AN13: 0 | AO13: 12 | AP13: 0 | AQ13: 12 | AR13: 0 | AS13: 0 | AT13: 0 | AU13: 29 | AV13: 1 | AW13: 28 | AX13: 0 | AY13: 0 | AZ13: 0 | BA13: 0 | BB13: 0 | BC13: 0 | BD13: 6 | BE13: 0 | BF13: 6 | BG13: 0 | BH13: 0 | BI13: 0 | BJ13: 12 | BK13: 0 | BL13: 12 | BM13: 0 | BN13: 0 | BO13: 0
A14: 臺中市 | B14: Taichung City | C14: 123 | D14: 11 | E14: 112 | F14: 10 | G14: 108 | H14: 1 | I14: 4 | J14: 0 | K14: 0 | L14: 0 | M14: 0 | N14: 0 | O14: 0 | P14: 123 | Q14: 10 | R14: 53 | S14: 60 | T14: 123 | U14: 11 | V14: 112 | W14: 123 | X14: 11 | Y14: 112 | Z14: 19 | AA14: 0 | AB14: 19 | AC14: 19 | AD14: 0 | AE14: 19 | AF14: 36 | AG14: 0 | AH14: 36 | AI14: 36 | AJ14: 0 | AK14: 36 | AL14: 0 | AM14: 0 | AN14: 0 | AO14: 0 | AP14: 0 | AQ14: 0 | AR14: 0 | AS14: 0 | AT14: 0 | AU14: 19 | AV14: 0 | AW14: 19 | AX14: 0 | AY14: 0 | AZ14: 0 | BA14: 0 | BB14: 0 | BC14: 0 | BD14: 17 | BE14: 0 | BF14: 17 | BG14: 0 | BH14: 0 | BI14: 0 | BJ14: 0 | BK14: 0 | BL14: 0 | BM14: 0 | BN14: 0 | BO14: 0
A15: 臺南市 | B15: Tainan City | C15: 43 | D15: 11 | E15: 32 | F15: 11 | G15: 29 | H15: 0 | I15: 0 | J15: 0 | K15: 0 | L15: 0 | M15: 3 | N15: 0 | O15: 0 | P15: 43 | Q15: 4 | R15: 19 | S15: 20 | T15: 26 | U15: 6 | V15: 20 | W15: 43 | X15: 10 | Y15: 33 | Z15: 5 | AA15: 0 | AB15: 5 | AC15: 5 | AD15: 0 | AE15: 5 | AF15: 17 | AG15: 0 | AH15: 17 | AI15: 11 | AJ15: 0 | AK15: 11 | AL15: 0 | AM15: 0 | AN15: 0 | AO15: 6 | AP15: 0 | AQ15: 6 | AR15: 0 | AS15: 0 | AT15: 0 | AU15: 6 | AV15: 0 | AW15: 6 | AX15: 0 | AY15: 0 | AZ15: 0 | BA15: 0 | BB15: 0 | BC15: 0 | BD15: 5 | BE15: 0 | BF15: 5 | BG15: 0 | BH15: 0 | BI15: 0 | BJ15: 6 | BK15: 0 | BL15: 6 | BM15: 0 | BN15: 0 | BO15: 0
A16: 高雄市 | B16: Kaohsiung City | C16: 217 | D16: 16 | E16: 201 | F16: 16 | G16: 196 | H16: 0 | I16: 4 | J16: 0 | K16: 0 | L16: 0 | M16: 1 | N16: 0 | O16: 0 | P16: 217 | Q16: 6 | R16: 79 | S16: 132 | T16: 121 | U16: 4 | V16: 117 | W16: 193 | X16: 15 | Y16: 178 | Z16: 10 | AA16: 0 | AB16: 10 | AC16: 10 | AD16: 0 | AE16: 10 | AF16: 15 | AG16: 0 | AH16: 15 | AI16: 0 | AJ16: 0 | AK16: 0 | AL16: 0 | AM16: 0 | AN16: 0 | AO16: 5 | AP16: 0 | AQ16: 5 | AR16: 10 | AS16: 0 | AT16: 10 | AU16: 0 | AV16: 0 | AW16: 0 | AX16: 0 | AY16: 0 | AZ16: 0 | BA16: 10 | BB16: 0 | BC16: 10 | BD16: 0 | BE16: 0 | BF16: 0 | BG16: 0 | BH16: 0 | BI16: 0 | BJ16: 5 | BK16: 0 | BL16: 5 | BM16: 0 | BN16: 0 | BO16: 0
A17: 宜蘭縣 | B17: Yilan County | C17: 14 | D17: 2 | E17: 12 | F17: 2 | G17: 12 | H17: 0 | I17: 0 | J17: 0 | K17: 0 | L17: 0 | M17: 0 | N17: 0 | O17: 0 | P17: 14 | Q17: 1 | R17: 8 | S17: 5 | T17: 10 | U17: 1 | V17: 9 | W17: 14 | X17: 2 | Y17: 12 | Z17: 1 | AA17: 0 | AB17: 1 | AC17: 1 | AD17: 0 | AE17: 1 | AF17: 2 | AG17: 0 | AH17: 2 | AI17: 2 | AJ17: 0 | AK17: 2 | AL17: 0 | AM17: 0 | AN17: 0 | AO17: 0 | AP17: 0 | AQ17: 0 | AR17: 0 | AS17: 0 | AT17: 0 | AU17: 1 | AV17: 0 | AW17: 1 | AX17: 0 | AY17: 0 | AZ17: 0 | BA17: 0 | BB17: 0 | BC17: 0 | BD17: 1 | BE17: 0 | BF17: 1 | BG17: 0 | BH17: 0 | BI17: 0 | BJ17: 0 | BK17: 0 | BL17: 0 | BM17: 0 | BN17: 0 | BO17: 0
A18: 新竹縣 | B18: Hsinchu County | C18: 30 | D18: 6 | E18: 24 | F18: 6 | G18: 23 | H18: 0 | I18: 1 | J18: 0 | K18: 0 | L18: 0 | M18: 0 | N18: 0 | O18: 0 | P18: 30 | Q18: 3 | R18: 8 | S18: 19 | T18: 23 | U18: 5 | V18: 18 | W18: 23 | X18: 5 | Y18: 18 | Z18: 1 | AA18: 0 | AB18: 1 | AC18: 1 | AD18: 0 | AE18: 1 | AF18: 23 | AG18: 0 | AH18: 23 | AI18: 13 | AJ18: 0 | AK18: 13 | AL18: 0 | AM18: 0 | AN18: 0 | AO18: 10 | AP18: 0 | AQ18: 10 | AR18: 0 | AS18: 0 | AT18: 0 | AU18: 1 | AV18: 0 | AW18: 1 | AX18: 0 | AY18: 0 | AZ18: 0 | BA18: 0 | BB18: 0 | BC18: 0 | BD18: 12 | BE18: 0 | BF18: 12 | BG18: 0 | BH18: 0 | BI18: 0 | BJ18: 10 | BK18: 0 | BL18: 10 | BM18: 0 | BN18: 0 | BO18: 0
A19: 苗栗縣 | B19: Miaoli County | C19: 31 | D19: 5 | E19: 26 | F19: 5 | G19: 24 | H19: 0 | I19: 2 | J19: 0 | K19: 0 | L19: 0 | M19: 0 | N19: 0 | O19: 0 | P19: 31 | Q19: 2 | R19: 17 | S19: 12 | T19: 13 | U19: 1 | V19: 12 | W19: 24 | X19: 1 | Y19: 23 | Z19: 2 | AA19: 0 | AB19: 2 | AC19: 2 | AD19: 0 | AE19: 2 | AF19: 3 | AG19: 0 | AH19: 3 | AI19: 2 | AJ19: 0 | AK19: 2 | AL19: 0 | AM19: 0 | AN19: 0 | AO19: 1 | AP19: 0 | AQ19: 1 | AR19: 0 | AS19: 0 | AT19: 0 | AU19: 2 | AV19: 0 | AW19: 2 | AX19: 0 | AY19: 0 | AZ19: 0 | BA19: 0 | BB19: 0 | BC19: 0 | BD19: 0 | BE19: 0 | BF19: 0 | BG19: 0 | BH19: 0 | BI19: 0 | BJ19: 1 | BK19: 0 | BL19: 1 | BM19: 0 | BN19: 0 | BO19: 0
A20: 彰化縣 | B20: Changhua County | C20: 77 | D20: 14 | E20: 63 | F20: 14 | G20: 63 | H20: 0 | I20: 0 | J20: 0 | K20: 0 | L20: 0 | M20: 0 | N20: 0 | O20: 0 | P20: 77 | Q20: 3 | R20: 31 | S20: 43 | T20: 56 | U20: 9 | V20: 47 | W20: 73 | X20: 14 | Y20: 59 | Z20: 0 | AA20: 0 | AB20: 0 | AC20: 0 | AD20: 0 | AE20: 0 | AF20: 0 | AG20: 0 | AH20: 0 | AI20: 0 | AJ20: 0 | AK20: 0 | AL20: 0 | AM20: 0 | AN20: 0 | AO20: 0 | AP20: 0 | AQ20: 0 | AR20: 0 | AS20: 0 | AT20: 0 | AU20: 0 | AV20: 0 | AW20: 0 | AX20: 0 | AY20: 0 | AZ20: 0 | BA20: 0 | BB20: 0 | BC20: 0 | BD20: 0 | BE20: 0 | BF20: 0 | BG20: 0 | BH20: 0 | BI20: 0 | BJ20: 0 | BK20: 0 | BL20: 0 | BM20: 0 | BN20: 0 | BO20: 0
A21: 南投縣 | B21: Nantou County | C21: 29 | D21: 6 | E21: 23 | F21: 6 | G21: 20 | H21: 0 | I21: 3 | J21: 0 | K21: 0 | L21: 0 | M21: 0 | N21: 0 | O21: 0 | P21: 29 | Q21: 2 | R21: 17 | S21: 10 | T21: 13 | U21: 0 | V21: 13 | W21: 29 | X21: 6 | Y21: 23 | Z21: 2 | AA21: 0 | AB21: 2 | AC21: 2 | AD21: 0 | AE21: 2 | AF21: 2 | AG21: 0 | AH21: 2 | AI21: 2 | AJ21: 0 | AK21: 2 | AL21: 0 | AM21: 0 | AN21: 0 | AO21: 0 | AP21: 0 | AQ21: 0 | AR21: 0 | AS21: 0 | AT21: 0 | AU21: 2 | AV21: 0 | AW21: 2 | AX21: 0 | AY21: 0 | AZ21: 0 | BA21: 0 | BB21: 0 | BC21: 0 | BD21: 0 | BE21: 0 | BF21: 0 | BG21: 0 | BH21: 0 | BI21: 0 | BJ21: 0 | BK21: 0 | BL21: 0 | BM21: 0 | BN21: 0 | BO21: 0
A22: 雲林縣 | B22: Yunlin County | C22: 27 | D22: 2 | E22: 25 | F22: 2 | G22: 24 | H22: 0 | I22: 0 | J22: 0 | K22: 0 | L22: 0 | M22: 1 | N22: 0 | O22: 0 | P22: 27 | Q22: 1 | R22: 8 | S22: 18 | T22: 21 | U22: 1 | V22: 20 | W22: 27 | X22: 1 | Y22: 26 | Z22: 3 | AA22: 0 | AB22: 3 | AC22: 4 | AD22: 0 | AE22: 4 | AF22: 9 | AG22: 0 | AH22: 9 | AI22: 5 | AJ22: 0 | AK22: 5 | AL22: 0 | AM22: 0 | AN22: 0 | AO22: 4 | AP22: 0 | AQ22: 4 | AR22: 0 | AS22: 0 | AT22: 0 | AU22: 4 | AV22: 0 | AW22: 4 | AX22: 0 | AY22: 0 | AZ22: 0 | BA22: 0 | BB22: 0 | BC22: 0 | BD22: 1 | BE22: 0 | BF22: 1 | BG22: 0 | BH22: 0 | BI22: 0 | BJ22: 4 | BK22: 0 | BL22: 4 | BM22: 0 | BN22: 0 | BO22: 0
... A32: 連江縣 | B32: Lienchiang County | C32: 0 | D32: 0 | E32: 0 | F32: 0 | G32: 0 | H32: 0 | I32: 0 | J32: 0 | K32: 0 | L32: 0 | M32: 0 | N32: 0 | O32: 0 | P32: 0 | Q32: 0 | R32: 0 | S32: 0 | T32: 0 | U32: 0 | V32: 0 | W32: 0 | X32: 0 | Y32: 0 | Z32: 0 | AA32: 0 | AB32: 0 | AC32: 0 | AD32: 0 | AE32: 0 | AF32: 0 | AG32: 0 | AH32: 0 | AI32: 0 | AJ32: 0 | AK32: 0 | AL32: 0 | AM32: 0 | AN32: 0 | AO32: 0 | AP32: 0 | AQ32: 0 | AR32: 0 | AS32: 0 | AT32: 0 | AU32: 0 | AV32: 0 | AW32: 0 | AX32: 0 | AY32: 0 | AZ32: 0 | BA32: 0 | BB32: 0 | BC32: 0 | BD32: 0 | BE32: 0 | BF32: 0 | BG32: 0 | BH32: 0 | BI32: 0 | BJ32: 0 | BK32: 0 | BL32: 0 | BM32: 0 | BN32: 0 | BO32: 0
A33: 資料來源：直轄市、縣﹝市﹞政府。
A34: Source : County and City Government.
A36: 更新日期：2020/8/31

Sheet 107
A1: 兒童及少年性剝削案件安置情形
A3: 民國107年, 2018
A4: 區域別 Locality | C4: 受理通報(報告)人數(人) | T4: 派員陪同偵訊個案數(人) | W4: 被害人24小時評估處理(人) | Z4: 緊急安置數(人) | AC4: 緊急安置個案向法院聲請第一次裁定數(人) | AF4: 入住人數(人次) Number of Persons Being Admitted
C5: 合計 | F5: 本國籍 Nationals | J5: 大陸籍 | L5: 外國籍 | N5: 其他 | P5: 按年齡分 By Age | AF5: 總計Total | AU5: 依第一次裁定結果繼續安置Continued Placement According to the Results of First Ruling | BD5: 依第二次裁定結果安置Placement According to the Results of Second Ruling
F6: 一般 | H6: 原住民 | T6: Cases Of Accompanying For Court | W6: Status Of Victim Evaluation Within 24 Hours | Z6: Number Of Victims Under Emergency Placement | AC6: Number of Victims under Emergency Placement Who Apply to the Court for First Ruling | AF6: 合計Total | AI6: 兒童及少年福利機構 | AL6: 寄養家庭 | AO6: 中途學校 | AR6: 其他適當之醫療、教育機構 | AU6: 兒童及少年福利機構 | AX6: 寄養家庭 | BA6: 其他適當之醫療、教育機構 | BD6: 兒童及少年福利機構 | BG6: 寄養家庭 | BJ6: 中途學校 | BM6: 其他適當之醫療、教育機構
C7: Total | F7: General | H7: Aborigines | J7: Mainlanders | L7: Foreigners | N7: Others | AI7: Child and Youth Welfare Institutions | AL7: Fostering Families | AO7: Midway School | AR7: Other Appropriate Medical and Educational Institutions | AU7: Child and Youth Welfare Institutions | AX7: Fostering Families | BA7: Other Appropriate Medical and Educational Institutions | BD7: Child and Youth Welfare Institutions | BG7: Fostering Families | BJ7: Midway School | BM7: Other Appropriate Medical and Educational Institutions
C8: 計 | D8: 男 | E8: 女 | F8: 男 | G8: 女 | H8: 男 | I8: 女 | J8: 男 | K8: 女 | L8: 男 | M8: 女 | N8: 男 | O8: 女 | P8: 合計 | Q8: 未滿12歲 | R8: 12-未滿15歲 | S8: 15-未滿18歲 | T8: 計 | U8: 男 | V8: 女 | W8: 計 | X8: 男 | Y8: 女 | Z8: 計 | AA8: 男 | AB8: 女 | AC8: 計 | AD8: 男 | AE8: 女 | AF8: 計 | AG8: 男 | AH8: 女 | AI8: 計 | AJ8: 男 | AK8: 女 | AL8: 計 | AM8: 男 | AN8: 女 | AO8: 計 | AP8: 男 | AQ8: 女 | AR8: 計 | AS8: 男 | AT8: 女 | AU8: 計 | AV8: 男 | AW8: 女 | AX8: 計 | AY8: 男 | AZ8: 女 | BA8: 計 | BB8: 男 | BC8: 女 | BD8: 計 | BE8: 男 | BF8: 女 | BG8: 計 | BH8: 男 | BI8: 女 | BJ8: 計 | BK8: 男 | BL8: 女 | BM8: 計 | BN8: 男 | BO8: 女
C9: Sub-Total | D9: Male | E9: Female | F9: Male | G9: Female | H9: Male | I9: Female | J9: Male | K9: Female | L9: Male | M9: Female | N9: Male | O9: Female | P9: Total | Q9: Under 12 Years | R9: 12-Under 15 Years | S9: 15-Under 18 Years | T9: Sub-Total | U9: Male | V9: Female | W9: Sub-Total | X9: Male | Y9: Female | Z9: Sub-Total | AA9: Male | AB9: Female | AC9: Sub-Total | AD9: Male | AE9: Female | AF9: Sub-Total | AG9: Male | AH9: Female | AI9: Sub-Total | AJ9: Male | AK9: Female | AL9: Sub-Total | AM9: Male | AN9: Female | AO9: Sub-Total | AP9: Male | AQ9: Female | AR9: Sub-Total | AS9: Male | AT9: Female | AU9: Sub-Total | AV9: Male | AW9: Female | AX9: Sub-Total | AY9: Male | AZ9: Female | BA9: Sub-Total | BB9: Male | BC9: Female | BD9: Sub-Total | BE9: Male | BF9: Female | BG9: Sub-Total | BH9: Male | BI9: Female | BJ9: Sub-Total | BK9: Male | BL9: Female | BM9: Sub-Total | BN9: Male | BO9: Female
A10: 總計 Total | C10: 1060 | D10: 109 | E10: 951 | F10: 101 | G10: 870 | H10: 4 | I10: 62 | J10: 0 | K10: 0 | L10: 0 | M10: 7 | N10: 4 | O10: 12 | P10: 1060 | Q10: 74 | R10: 378 | S10: 608 | T10: 456 | U10: 27 | V10: 429 | W10: 729 | X10: 75 | Y10: 654 | Z10: 138 | AA10: 3 | AB10: 135 | AC10: 136 | AD10: 3 | AE10: 133 | AF10: 224 | AG10: 3 | AH10: 221 | AI10: 152 | AJ10: 3 | AK10: 149 | AL10: 0 | AM10: 0 | AN10: 0 | AO10: 53 | AP10: 0 | AQ10: 53 | AR10: 19 | AS10: 0 | AT10: 19 | AU10: 106 | AV10: 2 | AW10: 104 | AX10: 0 | AY10: 0 | AZ10: 0 | BA10: 19 | BB10: 0 | BC10: 19 | BD10: 46 | BE10: 1 | BF10: 45 | BG10: 0 | BH10: 0 | BI10: 0 | BJ10: 53 | BK10: 0 | BL10: 53 | BM10: 0 | BN10: 0 | BO10: 0
A11: 新北市 | B11: New Taipei City | C11: 198 | D11: 15 | E11: 183 | F11: 14 | G11: 167 | H11: 0 | I11: 13 | J11: 0 | K11: 0 | L11: 0 | M11: 1 | N11: 1 | O11: 2 | P11: 198 | Q11: 7 | R11: 70 | S11: 121 | T11: 78 | U11: 3 | V11: 75 | W11: 112 | X11: 9 | Y11: 103 | Z11: 41 | AA11: 2 | AB11: 39 | AC11: 41 | AD11: 2 | AE11: 39 | AF11: 57 | AG11: 2 | AH11: 55 | AI11: 40 | AJ11: 2 | AK11: 38 | AL11: 0 | AM11: 0 | AN11: 0 | AO11: 17 | AP11: 0 | AQ11: 17 | AR11: 0 | AS11: 0 | AT11: 0 | AU11: 39 | AV11: 1 | AW11: 38 | AX11: 0 | AY11: 0 | AZ11: 0 | BA11: 0 | BB11: 0 | BC11: 0 | BD11: 1 | BE11: 1 | BF11: 0 | BG11: 0 | BH11: 0 | BI11: 0 | BJ11: 17 | BK11: 0 | BL11: 17 | BM11: 0 | BN11: 0 | BO11: 0
A12: 臺北市 | B12: Taipei City | C12: 73 | D12: 5 | E12: 68 | F12: 4 | G12: 52 | H12: 0 | I12: 5 | J12: 0 | K12: 0 | L12: 0 | M12: 2 | N12: 1 | O12: 9 | P12: 73 | Q12: 4 | R12: 17 | S12: 52 | T12: 34 | U12: 3 | V12: 31 | W12: 41 | X12: 3 | Y12: 38 | Z12: 14 | AA12: 0 | AB12: 14 | AC12: 14 | AD12: 0 | AE12: 14 | AF12: 22 | AG12: 0 | AH12: 22 | AI12: 17 | AJ12: 0 | AK12: 17 | AL12: 0 | AM12: 0 | AN12: 0 | AO12: 5 | AP12: 0 | AQ12: 5 | AR12: 0 | AS12: 0 | AT12: 0 | AU12: 14 | AV12: 0 | AW12: 14 | AX12: 0 | AY12: 0 | AZ12: 0 | BA12: 0 | BB12: 0 | BC12: 0 | BD12: 3 | BE12: 0 | BF12: 3 | BG12: 0 | BH12: 0 | BI12: 0 | BJ12: 5 | BK12: 0 | BL12: 5 | BM12: 0 | BN12: 0 | BO12: 0
A13: 桃園市 | B13: Taoyuan City | C13: 118 | D13: 23 | E13: 95 | F13: 23 | G13: 94 | H13: 0 | I13: 1 | J13: 0 | K13: 0 | L13: 0 | M13: 0 | N13: 0 | O13: 0 | P13: 118 | Q13: 12 | R13: 50 | S13: 56 | T13: 45 | U13: 5 | V13: 40 | W13: 122 | X13: 22 | Y13: 100 | Z13: 11 | AA13: 0 | AB13: 11 | AC13: 11 | AD13: 0 | AE13: 11 | AF13: 12 | AG13: 0 | AH13: 12 | AI13: 7 | AJ13: 0 | AK13: 7 | AL13: 0 | AM13: 0 | AN13: 0 | AO13: 5 | AP13: 0 | AQ13: 5 | AR13: 0 | AS13: 0 | AT13: 0 | AU13: 3 | AV13: 0 | AW13: 3 | AX13: 0 | AY13: 0 | AZ13: 0 | BA13: 0 | BB13: 0 | BC13: 0 | BD13: 4 | BE13: 0 | BF13: 4 | BG13: 0 | BH13: 0 | BI13: 0 | BJ13: 5 | BK13: 0 | BL13: 5 | BM13: 0 | BN13: 0 | BO13: 0
A14: 臺中市 | B14: Taichung City | C14: 67 | D14: 3 | E14: 64 | F14: 2 | G14: 63 | H14: 1 | I14: 1 | J14: 0 | K14: 0 | L14: 0 | M14: 0 | N14: 0 | O14: 0 | P14: 67 | Q14: 2 | R14: 28 | S14: 37 | T14: 62 | U14: 2 | V14: 60 | W14: 62 | X14: 2 | Y14: 60 | Z14: 19 | AA14: 1 | AB14: 18 | AC14: 19 | AD14: 1 | AE14: 18 | AF14: 34 | AG14: 1 | AH14: 33 | AI14: 34 | AJ14: 1 | AK14: 33 | AL14: 0 | AM14: 0 | AN14: 0 | AO14: 0 | AP14: 0 | AQ14: 0 | AR14: 0 | AS14: 0 | AT14: 0 | AU14: 19 | AV14: 1 | AW14: 18 | AX14: 0 | AY14: 0 | AZ14: 0 | BA14: 0 | BB14: 0 | BC14: 0 | BD14: 15 | BE14: 0 | BF14: 15 | BG14: 0 | BH14: 0 | BI14: 0 | BJ14: 0 | BK14: 0 | BL14: 0 | BM14: 0 | BN14: 0 | BO14: 0
A15: 臺南市 | B15: Tainan City | C15: 44 | D15: 6 | E15: 38 | F15: 6 | G15: 36 | H15: 0 | I15: 2 | J15: 0 | K15: 0 | L15: 0 | M15: 0 | N15: 0 | O15: 0 | P15: 44 | Q15: 5 | R15: 18 | S15: 21 | T15: 7 | U15: 0 | V15: 7 | W15: 35 | X15: 4 | Y15: 31 | Z15: 5 | AA15: 0 | AB15: 5 | AC15: 5 | AD15: 0 | AE15: 5 | AF15: 7 | AG15: 0 | AH15: 7 | AI15: 5 | AJ15: 0 | AK15: 5 | AL15: 0 | AM15: 0 | AN15: 0 | AO15: 0 | AP15: 0 | AQ15: 0 | AR15: 2 | AS15: 0 | AT15: 2 | AU15: 3 | AV15: 0 | AW15: 3 | AX15: 0 | AY15: 0 | AZ15: 0 | BA15: 2 | BB15: 0 | BC15: 2 | BD15: 2 | BE15: 0 | BF15: 2 | BG15: 0 | BH15: 0 | BI15: 0 | BJ15: 0 | BK15: 0 | BL15: 0 | BM15: 0 | BN15: 0 | BO15: 0
A16: 高雄市 | B16: Kaohsiung City | C16: 175 | D16: 11 | E16: 164 | F16: 11 | G16: 153 | H16: 0 | I16: 10 | J16: 0 | K16: 0 | L16: 0 | M16: 1 | N16: 0 | O16: 0 | P16: 175 | Q16: 8 | R16: 43 | S16: 124 | T16: 82 | U16: 1 | V16: 81 | W16: 116 | X16: 7 | Y16: 109 | Z16: 15 | AA16: 0 | AB16: 15 | AC16: 15 | AD16: 0 | AE16: 15 | AF16: 25 | AG16: 0 | AH16: 25 | AI16: 0 | AJ16: 0 | AK16: 0 | AL16: 0 | AM16: 0 | AN16: 0 | AO16: 10 | AP16: 0 | AQ16: 10 | AR16: 15 | AS16: 0 | AT16: 15 | AU16: 0 | AV16: 0 | AW16: 0 | AX16: 0 | AY16: 0 | AZ16: 0 | BA16: 15 | BB16: 0 | BC16: 15 | BD16: 0 | BE16: 0 | BF16: 0 | BG16: 0 | BH16: 0 | BI16: 0 | BJ16: 10 | BK16: 0 | BL16: 10 | BM16: 0 | BN16: 0 | BO16: 0
A17: 宜蘭縣 | B17: Yilan County | C17: 11 | D17: 2 | E17: 9 | F17: 1 | G17: 9 | H17: 0 | I17: 0 | J17: 0 | K17: 0 | L17: 0 | M17: 0 | N17: 1 | O17: 0 | P17: 11 | Q17: 0 | R17: 9 | S17: 2 | T17: 2 | U17: 1 | V17: 1 | W17: 10 | X17: 2 | Y17: 8 | Z17: 0 | AA17: 0 | AB17: 0 | AC17: 0 | AD17: 0 | AE17: 0 | AF17: 0 | AG17: 0 | AH17: 0 | AI17: 0 | AJ17: 0 | AK17: 0 | AL17: 0 | AM17: 0 | AN17: 0 | AO17: 0 | AP17: 0 | AQ17: 0 | AR17: 0 | AS17: 0 | AT17: 0 | AU17: 0 | AV17: 0 | AW17: 0 | AX17: 0 | AY17: 0 | AZ17: 0 | BA17: 0 | BB17: 0 | BC17: 0 | BD17: 0 | BE17: 0 | BF17: 0 | BG17: 0 | BH17: 0 | BI17: 0 | BJ17: 0 | BK17: 0 | BL17: 0 | BM17: 0 | BN17: 0 | BO17: 0
A18: 新竹縣 | B18: Hsinchu County | C18: 43 | D18: 2 | E18: 41 | F18: 2 | G18: 37 | H18: 0 | I18: 4 | J18: 0 | K18: 0 | L18: 0 | M18: 0 | N18: 0 | O18: 0 | P18: 43 | Q18: 1 | R18: 22 | S18: 20 | T18: 11 | U18: 0 | V18: 11 | W18: 18 | X18: 0 | Y18: 18 | Z18: 2 | AA18: 0 | AB18: 2 | AC18: 2 | AD18: 0 | AE18: 2 | AF18: 11 | AG18: 0 | AH18: 11 | AI18: 11 | AJ18: 0 | AK18: 11 | AL18: 0 | AM18: 0 | AN18: 0 | AO18: 0 | AP18: 0 | AQ18: 0 | AR18: 0 | AS18: 0 | AT18: 0 | AU18: 1 | AV18: 0 | AW18: 1 | AX18: 0 | AY18: 0 | AZ18: 0 | BA18: 0 | BB18: 0 | BC18: 0 | BD18: 10 | BE18: 0 | BF18: 10 | BG18: 0 | BH18: 0 | BI18: 0 | BJ18: 0 | BK18: 0 | BL18: 0 | BM18: 0 | BN18: 0 | BO18: 0
A19: 苗栗縣 | B19: Miaoli County | C19: 16 | D19: 0 | E19: 16 | F19: 0 | G19: 16 | H19: 0 | I19: 0 | J19: 0 | K19: 0 | L19: 0 | M19: 0 | N19: 0 | O19: 0 | P19: 16 | Q19: 1 | R19: 6 | S19: 9 | T19: 3 | U19: 0 | V19: 3 | W19: 7 | X19: 0 | Y19: 7 | Z19: 0 | AA19: 0 | AB19: 0 | AC19: 0 | AD19: 0 | AE19: 0 | AF19: 1 | AG19: 0 | AH19: 1 | AI19: 0 | AJ19: 0 | AK19: 0 | AL19: 0 | AM19: 0 | AN19: 0 | AO19: 1 | AP19: 0 | AQ19: 1 | AR19: 0 | AS19: 0 | AT19: 0 | AU19: 0 | AV19: 0 | AW19: 0 | AX19: 0 | AY19: 0 | AZ19: 0 | BA19: 0 | BB19: 0 | BC19: 0 | BD19: 0 | BE19: 0 | BF19: 0 | BG19: 0 | BH19: 0 | BI19: 0 | BJ19: 1 | BK19: 0 | BL19: 1 | BM19: 0 | BN19: 0 | BO19: 0
A20: 彰化縣 | B20: Changhua County | C20: 103 | D20: 11 | E20: 92 | F20: 11 | G20: 92 | H20: 0 | I20: 0 | J20: 0 | K20: 0 | L20: 0 | M20: 0 | N20: 0 | O20: 0 | P20: 103 | Q20: 8 | R20: 38 | S20: 57 | T20: 60 | U20: 7 | V20: 53 | W20: 60 | X20: 7 | Y20: 53 | Z20: 2 | AA20: 0 | AB20: 2 | AC20: 2 | AD20: 0 | AE20: 2 | AF20: 4 | AG20: 0 | AH20: 4 | AI20: 4 | AJ20: 0 | AK20: 4 | AL20: 0 | AM20: 0 | AN20: 0 | AO20: 0 | AP20: 0 | AQ20: 0 | AR20: 0 | AS20: 0 | AT20: 0 | AU20: 2 | AV20: 0 | AW20: 2 | AX20: 0 | AY20: 0 | AZ20: 0 | BA20: 0 | BB20: 0 | BC20: 0 | BD20: 2 | BE20: 0 | BF20: 2 | BG20: 0 | BH20: 0 | BI20: 0 | BJ20: 0 | BK20: 0 | BL20: 0 | BM20: 0 | BN20: 0 | BO20: 0
A21: 南投縣 | B21: Nantou County | C21: 21 | D21: 7 | E21: 14 | F21: 6 | G21: 11 | H21: 0 | I21: 3 | J21: 0 | K21: 0 | L21: 0 | M21: 0 | N21: 1 | O21: 0 | P21: 21 | Q21: 0 | R21: 11 | S21: 10 | T21: 3 | U21: 0 | V21: 3 | W21: 10 | X21: 4 | Y21: 6 | Z21: 0 | AA21: 0 | AB21: 0 | AC21: 0 | AD21: 0 | AE21: 0 | AF21: 0 | AG21: 0 | AH21: 0 | AI21: 0 | AJ21: 0 | AK21: 0 | AL21: 0 | AM21: 0 | AN21: 0 | AO21: 0 | AP21: 0 | AQ21: 0 | AR21: 0 | AS21: 0 | AT21: 0 | AU21: 0 | AV21: 0 | AW21: 0 | AX21: 0 | AY21: 0 | AZ21: 0 | BA21: 0 | BB21: 0 | BC21: 0 | BD21: 0 | BE21: 0 | BF21: 0 | BG21: 0 | BH21: 0 | BI21: 0 | BJ21: 0 | BK21: 0 | BL21: 0 | BM21: 0 | BN21: 0 | BO21: 0
A22: 雲林縣 | B22: Yunlin County | C22: 24 | D22: 4 | E22: 20 | F22: 3 | G22: 18 | H22: 1 | I22: 0 | J22: 0 | K22: 0 | L22: 0 | M22: 2 | N22: 0 | O22: 0 | P22: 24 | Q22: 1 | R22: 4 | S22: 19 | T22: 18 | U22: 2 | V22: 16 | W22: 20 | X22: 3 | Y22: 17 | Z22: 4 | AA22: 0 | AB22: 4 | AC22: 4 | AD22: 0 | AE22: 4 | AF22: 5 | AG22: 0 | AH22: 5 | AI22: 2 | AJ22: 0 | AK22: 2 | AL22: 0 | AM22: 0 | AN22: 0 | AO22: 1 | AP22: 0 | AQ22: 1 | AR22: 2 | AS22: 0 | AT22: 2 | AU22: 2 | AV22: 0 | AW22: 2 | AX22: 0 | AY22: 0 | AZ22: 0 | BA22: 2 | BB22: 0 | BC22: 2 | BD22: 0 | BE22: 0 | BF22: 0 | BG22: 0 | BH22: 0 | BI22: 0 | BJ22: 1 | BK22: 0 | BL22: 1 | BM22: 0 | BN22: 0 | BO22: 0
... A32: 連江縣 | B32: Lienchiang County | C32: 0 | D32: 0 | E32: 0 | F32: 0 | G32: 0 | H32: 0 | I32: 0 | J32: 0 | K32: 0 | L32: 0 | M32: 0 | N32: 0 | O32: 0 | P32: 0 | Q32: 0 | R32: 0 | S32: 0 | T32: 0 | U32: 0 | V32: 0 | W32: 0 | X32: 0 | Y32: 0 | Z32: 0 | AA32: 0 | AB32: 0 | AC32: 0 | AD32: 0 | AE32: 0 | AF32: 0 | AG32: 0 | AH32: 0 | AI32: 0 | AJ32: 0 | AK32: 0 | AL32: 0 | AM32: 0 | AN32: 0 | AO32: 0 | AP32: 0 | AQ32: 0 | AR32: 0 | AS32: 0 | AT32: 0 | AU32: 0 | AV32: 0 | AW32: 0 | AX32: 0 | AY32: 0 | AZ32: 0 | BA32: 0 | BB32: 0 | BC32: 0 | BD32: 0 | BE32: 0 | BF32: 0 | BG32: 0 | BH32: 0 | BI32: 0 | BJ32: 0 | BK32: 0 | BL32: 0 | BM32: 0 | BN32: 0 | BO32: 0
A33: 資料來源：直轄市、縣﹝市﹞政府。
A34: Source : County and City Government.

Sheet 106
A1: 兒童及少年性剝削案件安置情形
A3: 民國106年, 2017
A4: 區域別 Locality | C4: 受理通報(報告)人數(人) | T4: 派員陪同偵訊個案數(人) | W4: 被害人24小時評估處理(人) | Z4: 緊急安置數(人) | AC4: 緊急安置個案向法院聲請第一次裁定數(人) | AF4: 入住人數(人次) Number of Persons Being Admitted
C5: 合計 | F5: 本國籍 Nationals | J5: 大陸籍 | L5: 外國籍 | N5: 其他 | P5: 按年齡分 By Age | AF5: 總計Total | AU5: 依第一次裁定結果繼續安置Continued Placement According to the Results of First Ruling | BD5: 依第二次裁定結果安置Placement According to the Results of Second Ruling
F6: 一般 | H6: 原住民 | T6: Cases Of Accompanying For Court | W6: Status Of Victim Evaluation Within 24 Hours | Z6: Number Of Victims Under Emergency Placement | AC6: Number of Victims under Emergency Placement Who Apply to the Court for First Ruling | AF6: 合計Total | AI6: 兒童及少年福利機構 | AL6: 寄養家庭 | AO6: 中途學校 | AR6: 其他適當之醫療、教育機構 | AU6: 兒童及少年福利機構 | AX6: 寄養家庭 | BA6: 其他適當之醫療、教育機構 | BD6: 兒童及少年福利機構 | BG6: 寄養家庭 | BJ6: 中途學校 | BM6: 其他適當之醫療、教育機構
C7: Total | F7: General | H7: Aborigines | J7: Mainlanders | L7: Foreigners | N7: Others | AI7: Child and Youth Welfare Institutions | AL7: Fostering Families | AO7: Midway School | AR7: Other Appropriate Medical and Educational Institutions | AU7: Child and Youth Welfare Institutions | AX7: Fostering Families | BA7: Other Appropriate Medical and Educational Institutions | BD7: Child and Youth Welfare Institutions | BG7: Fostering Families | BJ7: Midway School | BM7: Other Appropriate Medical and Educational Institutions
C8: 計 | D8: 男 | E8: 女 | F8: 男 | G8: 女 | H8: 男 | I8: 女 | J8: 男 | K8: 女 | L8: 男 | M8: 女 | N8: 男 | O8: 女 | P8: 合計 | Q8: 未滿12歲 | R8: 12-未滿15歲 | S8: 15-未滿18歲 | T8: 計 | U8: 男 | V8: 女 | W8: 計 | X8: 男 | Y8: 女 | Z8: 計 | AA8: 男 | AB8: 女 | AC8: 計 | AD8: 男 | AE8: 女 | AF8: 計 | AG8: 男 | AH8: 女 | AI8: 計 | AJ8: 男 | AK8: 女 | AL8: 計 | AM8: 男 | AN8: 女 | AO8: 計 | AP8: 男 | AQ8: 女 | AR8: 計 | AS8: 男 | AT8: 女 | AU8: 計 | AV8: 男 | AW8: 女 | AX8: 計 | AY8: 男 | AZ8: 女 | BA8: 計 | BB8: 男 | BC8: 女 | BD8: 計 | BE8: 男 | BF8: 女 | BG8: 計 | BH8: 男 | BI8: 女 | BJ8: 計 | BK8: 男 | BL8: 女 | BM8: 計 | BN8: 男 | BO8: 女
C9: Sub-Total | D9: Male | E9: Female | F9: Male | G9: Female | H9: Male | I9: Female | J9: Male | K9: Female | L9: Male | M9: Female | N9: Male | O9: Female | P9: Total | Q9: Under 12 Years | R9: 12-Under 15 Years | S9: 15-Under 18 Years | T9: Sub-Total | U9: Male | V9: Female | W9: Sub-Total | X9: Male | Y9: Female | Z9: Sub-Total | AA9: Male | AB9: Female | AC9: Sub-Total | AD9: Male | AE9: Female | AF9: Sub-Total | AG9: Male | AH9: Female | AI9: Sub-Total | AJ9: Male | AK9: Female | AL9: Sub-Total | AM9: Male | AN9: Female | AO9: Sub-Total | AP9: Male | AQ9: Female | AR9: Sub-Total | AS9: Male | AT9: Female | AU9: Sub-Total | AV9: Male | AW9: Female | AX9: Sub-Total | AY9: Male | AZ9: Female | BA9: Sub-Total | BB9: Male | BC9: Female | BD9: Sub-Total | BE9: Male | BF9: Female | BG9: Sub-Total | BH9: Male | BI9: Female | BJ9: Sub-Total | BK9: Male | BL9: Female | BM9: Sub-Total | BN9: Male | BO9: Female
A10: 總計 Total | C10: 1060 | D10: 139 | E10: 921 | F10: 130 | G10: 854 | H10: 8 | I10: 55 | J10: 0 | K10: 0 | L10: 0 | M10: 2 | N10: 1 | O10: 10 | P10: 1060 | Q10: 59 | R10: 444 | S10: 557 | T10: 533 | U10: 69 | V10: 464 | W10: 798 | X10: 108 | Y10: 690 | Z10: 158 | AA10: 7 | AB10: 151 | AC10: 154 | AD10: 7 | AE10: 147 | AF10: 245 | AG10: 10 | AH10: 235 | AI10: 164 | AJ10: 8 | AK10: 156 | AL10: 0 | AM10: 0 | AN10: 0 | AO10: 50 | AP10: 0 | AQ10: 50 | AR10: 31 | AS10: 2 | AT10: 29 | AU10: 126 | AV10: 5 | AW10: 121 | AX10: 0 | AY10: 0 | AZ10: 0 | BA10: 27 | BB10: 2 | BC10: 25 | BD10: 38 | BE10: 3 | BF10: 35 | BG10: 0 | BH10: 0 | BI10: 0 | BJ10: 50 | BK10: 0 | BL10: 50 | BM10: 4 | BN10: 0 | BO10: 4
A11: 新北市 | B11: New Taipei City | C11: 178 | D11: 11 | E11: 167 | F11: 11 | G11: 152 | H11: 0 | I11: 14 | J11: 0 | K11: 0 | L11: 0 | M11: 0 | N11: 0 | O11: 1 | P11: 178 | Q11: 7 | R11: 85 | S11: 86 | T11: 99 | U11: 5 | V11: 94 | W11: 109 | X11: 5 | Y11: 104 | Z11: 36 | AA11: 3 | AB11: 33 | AC11: 35 | AD11: 3 | AE11: 32 | AF11: 56 | AG11: 5 | AH11: 51 | AI11: 39 | AJ11: 5 | AK11: 34 | AL11: 0 | AM11: 0 | AN11: 0 | AO11: 17 | AP11: 0 | AQ11: 17 | AR11: 0 | AS11: 0 | AT11: 0 | AU11: 36 | AV11: 3 | AW11: 33 | AX11: 0 | AY11: 0 | AZ11: 0 | BA11: 0 | BB11: 0 | BC11: 0 | BD11: 3 | BE11: 2 | BF11: 1 | BG11: 0 | BH11: 0 | BI11: 0 | BJ11: 17 | BK11: 0 | BL11: 17 | BM11: 0 | BN11: 0 | BO11: 0
A12: 臺北市 | B12: Taipei City | C12: 37 | D12: 6 | E12: 31 | F12: 6 | G12: 28 | H12: 0 | I12: 1 | J12: 0 | K12: 0 | L12: 0 | M12: 0 | N12: 0 | O12: 2 | P12: 37 | Q12: 3 | R12: 10 | S12: 24 | T12: 17 | U12: 1 | V12: 16 | W12: 23 | X12: 2 | Y12: 21 | Z12: 6 | AA12: 0 | AB12: 6 | AC12: 6 | AD12: 0 | AE12: 6 | AF12: 13 | AG12: 0 | AH12: 13 | AI12: 11 | AJ12: 0 | AK12: 11 | AL12: 0 | AM12: 0 | AN12: 0 | AO12: 2 | AP12: 0 | AQ12: 2 | AR12: 0 | AS12: 0 | AT12: 0 | AU12: 6 | AV12: 0 | AW12: 6 | AX12: 0 | AY12: 0 | AZ12: 0 | BA12: 0 | BB12: 0 | BC12: 0 | BD12: 5 | BE12: 0 | BF12: 5 | BG12: 0 | BH12: 0 | BI12: 0 | BJ12: 2 | BK12: 0 | BL12: 2 | BM12: 0 | BN12: 0 | BO12: 0
A13: 桃園市 | B13: Taoyuan City | C13: 131 | D13: 17 | E13: 114 | F13: 15 | G13: 99 | H13: 2 | I13: 11 | J13: 0 | K13: 0 | L13: 0 | M13: 1 | N13: 0 | O13: 3 | P13: 131 | Q13: 6 | R13: 66 | S13: 59 | T13: 68 | U13: 6 | V13: 62 | W13: 120 | X13: 14 | Y13: 106 | Z13: 15 | AA13: 0 | AB13: 15 | AC13: 15 | AD13: 0 | AE13: 15 | AF13: 26 | AG13: 0 | AH13: 26 | AI13: 21 | AJ13: 0 | AK13: 21 | AL13: 0 | AM13: 0 | AN13: 0 | AO13: 4 | AP13: 0 | AQ13: 4 | AR13: 1 | AS13: 0 | AT13: 1 | AU13: 15 | AV13: 0 | AW13: 15 | AX13: 0 | AY13: 0 | AZ13: 0 | BA13: 0 | BB13: 0 | BC13: 0 | BD13: 6 | BE13: 0 | BF13: 6 | BG13: 0 | BH13: 0 | BI13: 0 | BJ13: 4 | BK13: 0 | BL13: 4 | BM13: 1 | BN13: 0 | BO13: 1
A14: 臺中市 | B14: Taichung City | C14: 77 | D14: 14 | E14: 63 | F14: 14 | G14: 62 | H14: 0 | I14: 1 | J14: 0 | K14: 0 | L14: 0 | M14: 0 | N14: 0 | O14: 0 | P14: 77 | Q14: 5 | R14: 28 | S14: 44 | T14: 77 | U14: 14 | V14: 63 | W14: 77 | X14: 14 | Y14: 63 | Z14: 25 | AA14: 2 | AB14: 23 | AC14: 25 | AD14: 2 | AE14: 23 | AF14: 43 | AG14: 3 | AH14: 40 | AI14: 38 | AJ14: 3 | AK14: 35 | AL14: 0 | AM14: 0 | AN14: 0 | AO14: 5 | AP14: 0 | AQ14: 5 | AR14: 0 | AS14: 0 | AT14: 0 | AU14: 25 | AV14: 2 | AW14: 23 | AX14: 0 | AY14: 0 | AZ14: 0 | BA14: 0 | BB14: 0 | BC14: 0 | BD14: 13 | BE14: 1 | BF14: 12 | BG14: 0 | BH14: 0 | BI14: 0 | BJ14: 5 | BK14: 0 | BL14: 5 | BM14: 0 | BN14: 0 | BO14: 0
A15: 臺南市 | B15: Tainan City | C15: 40 | D15: 3 | E15: 37 | F15: 3 | G15: 34 | H15: 0 | I15: 3 | J15: 0 | K15: 0 | L15: 0 | M15: 0 | N15: 0 | O15: 0 | P15: 40 | Q15: 1 | R15: 6 | S15: 33 | T15: 19 | U15: 1 | V15: 18 | W15: 38 | X15: 3 | Y15: 35 | Z15: 17 | AA15: 1 | AB15: 16 | AC15: 16 | AD15: 1 | AE15: 15 | AF15: 24 | AG15: 1 | AH15: 23 | AI15: 13 | AJ15: 0 | AK15: 13 | AL15: 0 | AM15: 0 | AN15: 0 | AO15: 8 | AP15: 0 | AQ15: 8 | AR15: 3 | AS15: 1 | AT15: 2 | AU15: 13 | AV15: 0 | AW15: 13 | AX15: 0 | AY15: 0 | AZ15: 0 | BA15: 2 | BB15: 1 | BC15: 1 | BD15: 0 | BE15: 0 | BF15: 0 | BG15: 0 | BH15: 0 | BI15: 0 | BJ15: 8 | BK15: 0 | BL15: 8 | BM15: 1 | BN15: 0 | BO15: 1
A16: 高雄市 | B16: Kaohsiung City | C16: 252 | D16: 24 | E16: 228 | F16: 23 | G16: 218 | H16: 1 | I16: 9 | J16: 0 | K16: 0 | L16: 0 | M16: 1 | N16: 0 | O16: 0 | P16: 252 | Q16: 25 | R16: 98 | S16: 129 | T16: 110 | U16: 3 | V16: 107 | W16: 183 | X16: 15 | Y16: 168 | Z16: 26 | AA16: 0 | AB16: 26 | AC16: 24 | AD16: 0 | AE16: 24 | AF16: 36 | AG16: 0 | AH16: 36 | AI16: 4 | AJ16: 0 | AK16: 4 | AL16: 0 | AM16: 0 | AN16: 0 | AO16: 10 | AP16: 0 | AQ16: 10 | AR16: 22 | AS16: 0 | AT16: 22 | AU16: 3 | AV16: 0 | AW16: 3 | AX16: 0 | AY16: 0 | AZ16: 0 | BA16: 21 | BB16: 0 | BC16: 21 | BD16: 1 | BE16: 0 | BF16: 1 | BG16: 0 | BH16: 0 | BI16: 0 | BJ16: 10 | BK16: 0 | BL16: 10 | BM16: 1 | BN16: 0 | BO16: 1
A17: 宜蘭縣 | B17: Yilan County | C17: 28 | D17: 1 | E17: 27 | F17: 1 | G17: 27 | H17: 0 | I17: 0 | J17: 0 | K17: 0 | L17: 0 | M17: 0 | N17: 0 | O17: 0 | P17: 28 | Q17: 3 | R17: 17 | S17: 8 | T17: 14 | U17: 0 | V17: 14 | W17: 25 | X17: 1 | Y17: 24 | Z17: 2 | AA17: 0 | AB17: 2 | AC17: 2 | AD17: 0 | AE17: 2 | AF17: 3 | AG17: 0 | AH17: 3 | AI17: 3 | AJ17: 0 | AK17: 3 | AL17: 0 | AM17: 0 | AN17: 0 | AO17: 0 | AP17: 0 | AQ17: 0 | AR17: 0 | AS17: 0 | AT17: 0 | AU17: 2 | AV17: 0 | AW17: 2 | AX17: 0 | AY17: 0 | AZ17: 0 | BA17: 0 | BB17: 0 | BC17: 0 | BD17: 1 | BE17: 0 | BF17: 1 | BG17: 0 | BH17: 0 | BI17: 0 | BJ17: 0 | BK17: 0 | BL17: 0 | BM17: 0 | BN17: 0 | BO17: 0
A18: 新竹縣 | B18: Hsinchu County | C18: 20 | D18: 4 | E18: 16 | F18: 4 | G18: 13 | H18: 0 | I18: 3 | J18: 0 | K18: 0 | L18: 0 | M18: 0 | N18: 0 | O18: 0 | P18: 20 | Q18: 1 | R18: 11 | S18: 8 | T18: 6 | U18: 1 | V18: 5 | W18: 12 | X18: 2 | Y18: 10 | Z18: 3 | AA18: 0 | AB18: 3 | AC18: 3 | AD18: 0 | AE18: 3 | AF18: 5 | AG18: 0 | AH18: 5 | AI18: 5 | AJ18: 0 | AK18: 5 | AL18: 0 | AM18: 0 | AN18: 0 | AO18: 0 | AP18: 0 | AQ18: 0 | AR18: 0 | AS18: 0 | AT18: 0 | AU18: 3 | AV18: 0 | AW18: 3 | AX18: 0 | AY18: 0 | AZ18: 0 | BA18: 0 | BB18: 0 | BC18: 0 | BD18: 2 | BE18: 0 | BF18: 2 | BG18: 0 | BH18: 0 | BI18: 0 | BJ18: 0 | BK18: 0 | BL18: 0 | BM18: 0 | BN18: 0 | BO18: 0
A19: 苗栗縣 | B19: Miaoli County | C19: 12 | D19: 2 | E19: 10 | F19: 2 | G19: 8 | H19: 0 | I19: 2 | J19: 0 | K19: 0 | L19: 0 | M19: 0 | N19: 0 | O19: 0 | P19: 12 | Q19: 0 | R19: 4 | S19: 8 | T19: 5 | U19: 1 | V19: 4 | W19: 8 | X19: 1 | Y19: 7 | Z19: 1 | AA19: 0 | AB19: 1 | AC19: 1 | AD19: 0 | AE19: 1 | AF19: 2 | AG19: 0 | AH19: 2 | AI19: 2 | AJ19: 0 | AK19: 2 | AL19: 0 | AM19: 0 | AN19: 0 | AO19: 0 | AP19: 0 | AQ19: 0 | AR19: 0 | AS19: 0 | AT19: 0 | AU19: 1 | AV19: 0 | AW19: 1 | AX19: 0 | AY19: 0 | AZ19: 0 | BA19: 0 | BB19: 0 | BC19: 0 | BD19: 1 | BE19: 0 | BF19: 1 | BG19: 0 | BH19: 0 | BI19: 0 | BJ19: 0 | BK19: 0 | BL19: 0 | BM19: 0 | BN19: 0 | BO19: 0
A20: 彰化縣 | B20: Changhua County | C20: 101 | D20: 9 | E20: 92 | F20: 9 | G20: 91 | H20: 0 | I20: 1 | J20: 0 | K20: 0 | L20: 0 | M20: 0 | N20: 0 | O20: 0 | P20: 101 | Q20: 5 | R20: 49 | S20: 47 | T20: 20 | U20: 2 | V20: 18 | W20: 46 | X20: 5 | Y20: 41 | Z20: 1 | AA20: 0 | AB20: 1 | AC20: 1 | AD20: 0 | AE20: 1 | AF20: 1 | AG20: 0 | AH20: 1 | AI20: 1 | AJ20: 0 | AK20: 1 | AL20: 0 | AM20: 0 | AN20: 0 | AO20: 0 | AP20: 0 | AQ20: 0 | AR20: 0 | AS20: 0 | AT20: 0 | AU20: 1 | AV20: 0 | AW20: 1 | AX20: 0 | AY20: 0 | AZ20: 0 | BA20: 0 | BB20: 0 | BC20: 0 | BD20: 0 | BE20: 0 | BF20: 0 | BG20: 0 | BH20: 0 | BI20: 0 | BJ20: 0 | BK20: 0 | BL20: 0 | BM20: 0 | BN20: 0 | BO20: 0
A21: 南投縣 | B21: Nantou County | C21: 22 | D21: 4 | E21: 18 | F21: 2 | G21: 15 | H21: 1 | I21: 1 | J21: 0 | K21: 0 | L21: 0 | M21: 0 | N21: 1 | O21: 2 | P21: 22 | Q21: 0 | R21: 10 | S21: 12 | T21: 2 | U21: 0 | V21: 2 | W21: 21 | X21: 4 | Y21: 17 | Z21: 2 | AA21: 0 | AB21: 2 | AC21: 2 | AD21: 0 | AE21: 2 | AF21: 2 | AG21: 0 | AH21: 2 | AI21: 2 | AJ21: 0 | AK21: 2 | AL21: 0 | AM21: 0 | AN21: 0 | AO21: 0 | AP21: 0 | AQ21: 0 | AR21: 0 | AS21: 0 | AT21: 0 | AU21: 2 | AV21: 0 | AW21: 2 | AX21: 0 | AY21: 0 | AZ21: 0 | BA21: 0 | BB21: 0 | BC21: 0 | BD21: 0 | BE21: 0 | BF21: 0 | BG21: 0 | BH21: 0 | BI21: 0 | BJ21: 0 | BK21: 0 | BL21: 0 | BM21: 0 | BN21: 0 | BO21: 0
A22: 雲林縣 | B22: Yunlin County | C22: 42 | D22: 28 | E22: 14 | F22: 28 | G22: 14 | H22: 0 | I22: 0 | J22: 0 | K22: 0 | L22: 0 | M22: 0 | N22: 0 | O22: 0 | P22: 42 | Q22: 0 | R22: 9 | S22: 33 | T22: 35 | U22: 26 | V22: 9 | W22: 40 | X22: 27 | Y22: 13 | Z22: 3 | AA22: 0 | AB22: 3 | AC22: 3 | AD22: 0 | AE22: 3 | AF22: 4 | AG22: 0 | AH22: 4 | AI22: 2 | AJ22: 0 | AK22: 2 | AL22: 0 | AM22: 0 | AN22: 0 | AO22: 1 | AP22: 0 | AQ22: 1 | AR22: 1 | AS22: 0 | AT22: 1 | AU22: 2 | AV22: 0 | AW22: 2 | AX22: 0 | AY22: 0 | AZ22: 0 | BA22: 1 | BB22: 0 | BC22: 1 | BD22: 0 | BE22: 0 | BF22: 0 | BG22: 0 | BH22: 0 | BI22: 0 | BJ22: 1 | BK22: 0 | BL22: 1 | BM22: 0 | BN22: 0 | BO22: 0
... A32: 連江縣 | B32: Lienchiang County | C32: 0 | D32: 0 | E32: 0 | F32: 0 | G32: 0 | H32: 0 | I32: 0 | J32: 0 | K32: 0 | L32: 0 | M32: 0 | N32: 0 | O32: 0 | P32: 0 | Q32: 0 | R32: 0 | S32: 0 | T32: 0 | U32: 0 | V32: 0 | W32: 0 | X32: 0 | Y32: 0 | Z32: 0 | AA32: 0 | AB32: 0 | AC32: 0 | AD32: 0 | AE32: 0 | AF32: 0 | AG32: 0 | AH32: 0 | AI32: 0 | AJ32: 0 | AK32: 0 | AL32: 0 | AM32: 0 | AN32: 0 | AO32: 0 | AP32: 0 | AQ32: 0 | AR32: 0 | AS32: 0 | AT32: 0 | AU32: 0 | AV32: 0 | AW32: 0 | AX32: 0 | AY32: 0 | AZ32: 0 | BA32: 0 | BB32: 0 | BC32: 0 | BD32: 0 | BE32: 0 | BF32: 0 | BG32: 0 | BH32: 0 | BI32: 0 | BJ32: 0 | BK32: 0 | BL32: 0 | BM32: 0 | BN32: 0 | BO32: 0
A33: 資料來源：直轄市、縣﹝市﹞政府。
A34: Source : County and City Government.

Sheet 88-105
A1: 兒童及少年性交易安置情形 Placement Status of the Sexually Exploited Child and Youth
A4: 年別 Year | B4: 查獲人數(人) Persons Found & Rescued | Q4: 短期收容聲請裁定數(人) | T4: 陪同偵訊個案數(人) | W4: 安置人數(人次) Times of Settled Persons
B5: 合計 | E5: 本國籍 Nationals | I5: 大陸籍 | K5: 外國籍 | M5: 按年齡分 By Age | Q5: Persons Judged to Settle in Short-term Shelters(Persons) | T5: Cases of Accompanying for Court
E6: 一般 | G6: 原住民 | W6: 緊急收容中心 | Z6: 短期收容中心 | AC6: 中途學校 | AF6: 社會福利機構
B7: Total | E7: General | G7: Aborigines | I7: Mainlanders | K7: Foreigners | W7: Temporary Housing Center | Z7: Short-Term Housing Center | AC7: Midway School | AF7: Institution of Social Welfare Service
B8: 計 | C8: 男 | D8: 女 | E8: 男 | F8: 女 | G8: 男 | H8: 女 | I8: 男 | J8: 女 | K8: 男 | L8: 女 | M8: 合計 | N8: 未滿12歲 | O8: 12-未滿15歲 | P8: 15-未滿18歲 | Q8: 計 | R8: 男 | S8: 女 | T8: 計 | U8: 男 | V8: 女 | W8: 計 | X8: 男 | Y8: 女 | Z8: 計 | AA8: 男 | AB8: 女 | AC8: 計 | AD8: 男 | AE8: 女 | AF8: 計 | AG8: 男 | AH8: 女
B9: Sub-Total | C9: Male | D9: Female | E9: Male | F9: Female | G9: Male | H9: Female | I9: Male | J9: Female | K9: Male | L9: Female | M9: Total | N9: Under 12 Years | O9: 12-Under 15 Years | P9: 15-Under 18 Years | Q9: Sub-Total | R9: Male | S9: Female | T9: Sub-Total | U9: Male | V9: Female | W9: Sub-Total | X9: Male | Y9: Female | Z9: Sub-Total | AA9: Male | AB9: Female | AC9: Sub-Total | AD9: Male | AE9: Female | AF9: Sub-Total | AG9: Male | AH9: Female
A10: 88年 1999 | B10: 549 | C10: 3 | D10: 546 | E10: 3 | F10: 504 | G10: ... | H10: ... | I10: ... | J10: ... | K10: － | L10: 42 | M10: ... | N10: ... | O10: ... | P10: ... | Q10: ... | R10: ... | S10: ... | T10: 545 | U10: 2 | V10: 543 | W10: 462 | X10: 1 | Y10: 461 | Z10: 501 | AA10: 2 | AB10: 499 | AC10: － | AD10: － | AE10: － | AF10: 73 | AG10: 3 | AH10: 70
A11: 89年 2000 | B11: 465 | C11: 9 | D11: 456 | E11: 9 | F11: 448 | G11: ... | H11: ... | I11: ... | J11: ... | K11: － | L11: 8 | M11: ... | N11: ... | O11: ... | P11: ... | Q11: ... | R11: ... | S11: ... | T11: 475 | U11: 1 | V11: 474 | W11: 361 | X11: 1 | Y11: 360 | Z11: 379 | AA11: － | AB11: 379 | AC11: － | AD11: － | AE11: － | AF11: 45 | AG11: 7 | AH11: 38
A12: 90年 2001 | B12: 447 | C12: 25 | D12: 422 | E12: 25 | F12: 412 | G12: ... | H12: ... | I12: ... | J12: ... | K12: － | L12: 10 | M12: ... | N12: ... | O12: ... | P12: ... | Q12: ... | R12: ... | S12: ... | T12: 494 | U12: 26 | V12: 468 | W12: 342 | X12: 19 | Y12: 323 | Z12: 381 | AA12: 17 | AB12: 364 | AC12: － | AD12: － | AE12: － | AF12: ... | AG12: ... | AH12: ...
A13: 91年 2002 | B13: 598 | C13: 54 | D13: 544 | E13: 53 | F13: 477 | G13: 1 | H13: 37 | I13: － | J13: 27 | K13: － | L13: 3 | M13: ... | N13: ... | O13: ... | P13: ... | Q13: ... | R13: ... | S13: ... | T13: 566 | U13: 51 | V13: 515 | W13: 503 | X13: 34 | Y13: 469 | Z13: 431 | AA13: 12 | AB13: 419 | AC13: 143 | AD13: － | AE13: 143 | AF13: ... | AG13: ... | AH13: ...
A14: 92年 2003 | B14: 442 | C14: 37 | D14: 405 | E14: 34 | F14: 301 | G14: 3 | H14: 32 | I14: － | J14: 71 | K14: － | L14: 1 | M14: ... | N14: ... | O14: ... | P14: ... | Q14: ... | R14: ... | S14: ... | T14: 430 | U14: 37 | V14: 393 | W14: 398 | X14: 28 | Y14: 370 | Z14: 359 | AA14: 17 | AB14: 342 | AC14: 131 | AD14: － | AE14: 131 | AF14: ... | AG14: ... | AH14: ...
A15: 93年 2004 | B15: 523 | C15: 94 | D15: 429 | E15: 93 | F15: 363 | G15: 1 | H15: 37 | I15: － | J15: 25 | K15: － | L15: 4 | M15: ... | N15: ... | O15: ... | P15: ... | Q15: ... | R15: ... | S15: ... | T15: 524 | U15: 94 | V15: 430 | W15: 483 | X15: 67 | Y15: 416 | Z15: 421 | AA15: 42 | AB15: 379 | AC15: 142 | AD15: － | AE15: 142 | AF15: 112 | AG15: 9 | AH15: 103
A16: 94年 2005 | B16: 437 | C16: 147 | D16: 290 | E16: 137 | F16: 265 | G16: 9 | H16: 24 | I16: 0 | J16: 1 | K16: 1 | L16: 0 | M16: ... | N16: ... | O16: ... | P16: ... | Q16: ... | R16: ... | S16: ... | T16: 447 | U16: 149 | V16: 298 | W16: 350 | X16: 106 | Y16: 244 | Z16: 293 | AA16: 83 | AB16: 210 | AC16: 119 | AD16: 2 | AE16: 117 | AF16: 103 | AG16: 20 | AH16: 83
A17: 95年 2006 | B17: ='95'!C10 -> 615 | C17: ='95'!D10 -> 227 | D17: ='95'!E10 -> 388 | E17: ='95'!F10 -> 211 | F17: ='95'!G10 -> 365 | G17: ='95'!H10 -> 16 | H17: ='95'!I10 -> 21 | I17: ='95'!J10 -> 0 | ... L17: ='95'!M10 -> 0 | M17: ... | N17: ... | O17: ... | P17: ... | Q17: ... | R17: ... | S17: ... | T17: ='95'!N10 -> 520 | U17: ='95'!O10 -> 181 | V17: ='95'!P10 -> 339 | W17: ='95'!Q10 -> 420 | X17: ='95'!R10 -> 113 | Y17: ='95'!S10 -> 307 | Z17: ='95'!T10 -> 438 | AA17: ='95'!U10 -> 102 | ... AH17: ='95'!AB10 -> 50
A18: 96年 2007 | B18: ='96'!C10 -> 578 | C18: ='96'!D10 -> 173 | D18: ='96'!E10 -> 405 | E18: ='96'!F10 -> 153 | F18: ='96'!G10 -> 373 | G18: ='96'!H10 -> 20 | H18: ='96'!I10 -> 32 | I18: ='96'!J10 -> 0 | ... L18: ='96'!M10 -> 0 | M18: ... | N18: ... | O18: ... | P18: ... | Q18: ... | R18: ... | S18: ... | T18: ='96'!N10 -> 518 | U18: ='96'!O10 -> 148 | V18: ='96'!P10 -> 370 | W18: ='96'!Q10 -> 430 | X18: ='96'!R10 -> 87 | Y18: ='96'!S10 -> 343 | Z18: ='96'!T10 -> 396 | AA18: ='96'!U10 -> 62 | ... AH18: ='96'!AB10 -> 64
A19: 97年 2008 | B19: ='97'!C10 -> 437 | C19: ='97'!D10 -> 73 | D19: ='97'!E10 -> 364 | E19: ='97'!F10 -> 72 | F19: ='97'!G10 -> 330 | G19: ='97'!H10 -> 1 | H19: ='97'!I10 -> 33 | I19: ='97'!J10 -> 0 | ... L19: ='97'!M10 -> 0 | M19: ... | N19: ... | O19: ... | P19: ... | Q19: ... | R19: ... | S19: ... | T19: ='97'!N10 -> 410 | U19: ='97'!O10 -> 70 | V19: ='97'!P10 -> 340 | W19: ='97'!Q10 -> 336 | X19: ='97'!R10 -> 24 | Y19: ='97'!S10 -> 312 | Z19: ='97'!T10 -> 319 | AA19: ='97'!U10 -> 19 | ... AH19: ='97'!AB10 -> 50
A20: 98年 2009 | B20: ='98'!C10 -> 418 | C20: ='98'!D10 -> 21 | D20: ='98'!E10 -> 397 | E20: ='98'!F10 -> 18 | F20: ='98'!G10 -> 355 | G20: ='98'!H10 -> 3 | H20: ='98'!I10 -> 42 | I20: ='98'!J10 -> 0 | ... AH20: ='98'!AI10 -> 52
A21: 99年 2010 | B21: 573 | C21: 39 | D21: 534 | E21: 34 | F21: 500 | G21: 5 | H21: 33 | I21: 0 | J21: 0 | K21: 0 | L21: 1 | M21: 573 | N21: 14 | O21: 195 | P21: 364 | Q21: 395 | R21: 14 | S21: 381 | T21: 465 | U21: 36 | V21: 429 | W21: 521 | X21: 20 | Y21: 501 | Z21: 441 | AA21: 14 | AB21: 427 | AC21: 191 | AD21: 1 | AE21: 190 | AF21: 63 | AG21: 5 | AH21: 58
A22: 100年 2011 | B22: 437 | C22: 23 | D22: 414 | E22: 23 | F22: 398 | G22: 0 | H22: 15 | I22: 0 | J22: 1 | K22: 0 | L22: 0 | M22: 437 | N22: 8 | O22: 146 | P22: 283 | Q22: 391 | R22: 4 | S22: 387 | T22: 415 | U22: 28 | V22: 387 | W22: 404 | X22: 7 | Y22: 397 | Z22: 370 | AA22: 4 | AB22: 366 | AC22: 109 | AD22: 0 | AE22: 109 | AF22: 57 | AG22: 1 | AH22: 56
A23: 101年 2012 | B23: 366 | C23: 11 | D23: 355 | E23: 10 | F23: 324 | G23: 1 | H23: 30 | I23: 0 | J23: 1 | K23: 0 | L23: 0 | M23: 366 | N23: 6 | O23: 125 | P23: 235 | Q23: 335 | R23: 7 | S23: 328 | T23: 336 | U23: 9 | V23: 327 | W23: 350 | X23: 8 | Y23: 342 | Z23: 323 | AA23: 7 | AB23: 316 | AC23: 122 | AD23: 0 | AE23: 122 | AF23: 47 | AG23: 2 | AH23: 45
A24: 102年 2013 | B24: 316 | C24: 31 | D24: 285 | E24: 28 | F24: 258 | G24: 3 | H24: 26 | I24: 0 | J24: 0 | K24: 0 | L24: 1 | M24: 316 | N24: 6 | O24: 99 | P24: 211 | Q24: 295 | R24: 30 | S24: 265 | T24: 318 | U24: 31 | V24: 287 | W24: 313 | X24: 32 | Y24: 281 | Z24: 289 | AA24: 29 | AB24: 260 | AC24: 102 | AD24: 1 | AE24: 101 | AF24: 49 | AG24: 12 | AH24: 37
A25: 103年 2014 | B25: 263 | C25: 15 | D25: 248 | E25: 15 | F25: 215 | G25: 0 | H25: 32 | I25: 0 | J25: 0 | K25: 0 | L25: 1 | M25: 263 | N25: 1 | O25: 72 | P25: 190 | Q25: 274 | R25: 20 | S25: 254 | T25: 262 | U25: 17 | V25: 245 | W25: 273 | X25: 20 | Y25: 253 | Z25: 258 | AA25: 21 | AB25: 237 | AC25: 90 | AD25: 0 | AE25: 90 | AF25: 58 | AG25: 7 | AH25: 51
A26: 104年 2015 | B26: 342 | C26: 23 | D26: 319 | E26: 22 | F26: 290 | G26: 1 | H26: 28 | I26: 0 | J26: 1 | K26: 0 | L26: 0 | M26: 342 | N26: 3 | O26: 101 | P26: 238 | Q26: 303 | R26: 15 | S26: 288 | T26: 327 | U26: 22 | V26: 305 | W26: 312 | X26: 18 | Y26: 294 | Z26: 298 | AA26: 15 | AB26: 283 | AC26: 93 | AD26: 0 | AE26: 93 | AF26: 69 | AG26: 2 | AH26: 67
A27: 105年上半年 2016 Jan.-June | B27: 119 | C27: 5 | D27: 114 | E27: 4 | F27: 105 | G27: 1 | H27: 7 | I27: 0 | J27: 0 | K27: 0 | L27: 2 | M27: 119 | N27: 0 | O27: 30 | P27: 89 | Q27: 117 | R27: 4 | S27: 113 | T27: 113 | U27: 5 | V27: 108 | W27: 115 | X27: 4 | Y27: 111 | Z27: 110 | AA27: 4 | AB27: 106 | AC27: 27 | AD27: 0 | AE27: 27 | AF27: 20 | AG27: 1 | AH27: 19
A28: 105年 2016 | B28: 365 | C28: 16 | D28: 349 | E28: 15 | F28: 327 | G28: 1 | H28: 20 | I28: 0 | J28: 0 | K28: 0 | L28: 2 | M28: 365 | N28: 1 | O28: 94 | P28: 270 | Q28: 346 | R28: 15 | S28: 331 | T28: 362 | U28: 16 | V28: 346 | W28: 341 | X28: 15 | Y28: 326 | Z28: 335 | AA28: 14 | AB28: 321 | AC28: 88 | AD28: 0 | AE28: 88 | AF28: 74 | AG28: 3 | AH28: 71
A29: 資料來源：直轄市、縣﹝市﹞政府。
A30: Source : County and City Government.
A31: 說明：本表88-90年本國籍人數未區分原住民與非原住民。
A34: 更新日期：2017/3/9

Sheet 105
A1: 兒童及少年性交易安置情形 Placement Status of the Sexually Exploited Child and Youth
A3: 民國105年, 2016
A4: 區域別 Locality | C4: 查獲人數(人) Persons Found & Rescued | R4: 短期收容聲請裁定數(人) | U4: 陪同偵訊個案數(人) | X4: 安置人數(人次) Times of Settled Persons
C5: 合計 | F5: 本國籍 Nationals | J5: 大陸籍 | L5: 外國籍 | N5: 按年齡分 By Age | R5: Persons Judged to Settle in Short-term Shelters(Persons) | U5: Cases of Accompanying for Court
F6: 一般 | H6: 原住民 | X6: 緊急收容中心 | AA6: 短期收容中心 | AD6: 中途學校 | AG6: 社會福利機構
C7: Total | F7: General | H7: Aborigines | J7: Mainlanders | L7: Foreigners | X7: Temporary Housing Center | AA7: Short-Term Housing Center | AD7: Midway School | AG7: Institution of Social Welfare Service
C8: 計 | D8: 男 | E8: 女 | F8: 男 | G8: 女 | H8: 男 | I8: 女 | J8: 男 | K8: 女 | L8: 男 | M8: 女 | N8: 合計 | O8: 未滿12歲 | P8: 12-未滿15歲 | Q8: 15-未滿18歲 | R8: 計 | S8: 男 | T8: 女 | U8: 計 | V8: 男 | W8: 女 | X8: 計 | Y8: 男 | Z8: 女 | AA8: 計 | AB8: 男 | AC8: 女 | AD8: 計 | AE8: 男 | AF8: 女 | AG8: 計 | AH8: 男 | AI8: 女
C9: Sub-Total | D9: Male | E9: Female | F9: Male | G9: Female | H9: Male | I9: Female | J9: Male | K9: Female | L9: Male | M9: Female | N9: Total | O9: Under 12 Years | P9: 12-Under 15 Years | Q9: 15-Under 18 Years | R9: Sub-Total | S9: Male | T9: Female | U9: Sub-Total | V9: Male | W9: Female | X9: Sub-Total | Y9: Male | Z9: Female | AA9: Sub-Total | AB9: Male | AC9: Female | AD9: Sub-Total | AE9: Male | AF9: Female | AG9: Sub-Total | AH9: Male | AI9: Female
A10: 總計 Total | C10: 365 | D10: 16 | E10: 349 | F10: 15 | G10: 327 | H10: 1 | I10: 20 | J10: 0 | K10: 0 | L10: 0 | M10: 2 | N10: 365 | O10: 1 | P10: 94 | Q10: 270 | R10: 346 | S10: 15 | T10: 331 | U10: 362 | V10: 16 | W10: 346 | X10: 341 | Y10: 15 | Z10: 326 | AA10: 335 | AB10: 14 | AC10: 321 | AD10: 88 | AE10: 0 | AF10: 88 | AG10: 74 | AH10: 3 | AI10: 71
A11: 新北市 | B11: New Taipei City | C11: 54 | D11: 4 | E11: 50 | F11: 4 | G11: 50 | H11: 0 | I11: 0 | J11: 0 | K11: 0 | L11: 0 | M11: 0 | N11: 54 | O11: 1 | P11: 15 | Q11: 38 | R11: 42 | S11: 3 | T11: 39 | U11: 54 | V11: 4 | W11: 50 | X11: 42 | Y11: 3 | Z11: 39 | AA11: 40 | AB11: 2 | AC11: 38 | AD11: 24 | AE11: 0 | AF11: 24 | AG11: 15 | AH11: 0 | AI11: 15
A12: 臺北市 | B12: Taipei City | C12: 29 | D12: 2 | E12: 27 | F12: 2 | G12: 27 | H12: 0 | I12: 0 | J12: 0 | K12: 0 | L12: 0 | M12: 0 | N12: 29 | O12: 0 | P12: 8 | Q12: 21 | R12: 19 | S12: 3 | T12: 16 | U12: 29 | V12: 2 | W12: 27 | X12: 19 | Y12: 3 | Z12: 16 | AA12: 19 | AB12: 3 | AC12: 16 | AD12: 5 | AE12: 0 | AF12: 5 | AG12: 2 | AH12: 0 | AI12: 2
A13: 桃園市 | B13: Taoyuan City | C13: 79 | D13: 3 | E13: 76 | F13: 3 | G13: 76 | H13: 0 | I13: 0 | J13: 0 | K13: 0 | L13: 0 | M13: 0 | N13: 79 | O13: 0 | P13: 28 | Q13: 51 | R13: 79 | S13: 3 | T13: 76 | U13: 79 | V13: 3 | W13: 76 | X13: 79 | Y13: 3 | Z13: 76 | AA13: 76 | AB13: 3 | AC13: 73 | AD13: 6 | AE13: 0 | AF13: 6 | AG13: 13 | AH13: 2 | AI13: 11
A14: 臺中市 | B14: Taichung City | C14: 42 | D14: 3 | E14: 39 | F14: 3 | G14: 39 | H14: 0 | I14: 0 | J14: 0 | K14: 0 | L14: 0 | M14: 0 | N14: 42 | O14: 0 | P14: 8 | Q14: 34 | R14: 42 | S14: 3 | T14: 39 | U14: 42 | V14: 3 | W14: 39 | X14: 42 | Y14: 3 | Z14: 39 | AA14: 42 | AB14: 3 | AC14: 39 | AD14: 8 | AE14: 0 | AF14: 8 | AG14: 8 | AH14: 0 | AI14: 8
A15: 臺南市 | B15: Tainan City | C15: 16 | D15: 0 | E15: 16 | F15: 0 | G15: 16 | H15: 0 | I15: 0 | J15: 0 | K15: 0 | L15: 0 | M15: 0 | N15: 16 | O15: 0 | P15: 0 | Q15: 16 | R15: 12 | S15: 0 | T15: 12 | U15: 12 | V15: 0 | W15: 12 | X15: 12 | Y15: 0 | Z15: 12 | AA15: 12 | AB15: 0 | AC15: 12 | AD15: 9 | AE15: 0 | AF15: 9 | AG15: 5 | AH15: 0 | AI15: 5
A16: 高雄市 | B16: Kaohsiung City | C16: 43 | D16: 0 | E16: 43 | F16: 0 | G16: 43 | H16: 0 | I16: 0 | J16: 0 | K16: 0 | L16: 0 | M16: 0 | N16: 43 | O16: 0 | P16: 9 | Q16: 34 | R16: 43 | S16: 0 | T16: 43 | U16: 46 | V16: 0 | W16: 46 | X16: 43 | Y16: 0 | Z16: 43 | AA16: 40 | AB16: 0 | AC16: 40 | AD16: 6 | AE16: 0 | AF16: 6 | AG16: 0 | AH16: 0 | AI16: 0
A17: 宜蘭縣 | B17: Yilan County | C17: 1 | D17: 1 | E17: 0 | F17: 0 | G17: 0 | H17: 1 | I17: 0 | J17: 0 | K17: 0 | L17: 0 | M17: 0 | N17: 1 | O17: 0 | P17: 1 | Q17: 0 | R17: 1 | S17: 1 | T17: 0 | U17: 1 | V17: 1 | W17: 0 | X17: 1 | Y17: 1 | Z17: 0 | AA17: 1 | AB17: 1 | AC17: 0 | AD17: 0 | AE17: 0 | AF17: 0 | AG17: 0 | AH17: 0 | AI17: 0
A18: 新竹縣 | B18: Hsinchu County | C18: 13 | D18: 0 | E18: 13 | F18: 0 | G18: 12 | H18: 0 | I18: 1 | J18: 0 | K18: 0 | L18: 0 | M18: 0 | N18: 13 | O18: 0 | P18: 1 | Q18: 12 | R18: 13 | S18: 0 | T18: 13 | U18: 13 | V18: 0 | W18: 13 | X18: 11 | Y18: 0 | Z18: 11 | AA18: 13 | AB18: 0 | AC18: 13 | AD18: 0 | AE18: 0 | AF18: 0 | AG18: 3 | AH18: 0 | AI18: 3
A19: 苗栗縣 | B19: Miaoli County | C19: 6 | D19: 0 | E19: 6 | F19: 0 | G19: 5 | H19: 0 | I19: 1 | J19: 0 | K19: 0 | L19: 0 | M19: 0 | N19: 6 | O19: 0 | P19: 1 | Q19: 5 | R19: 3 | S19: 0 | T19: 3 | U19: 6 | V19: 0 | W19: 6 | X19: 3 | Y19: 0 | Z19: 3 | AA19: 3 | AB19: 0 | AC19: 3 | AD19: 1 | AE19: 0 | AF19: 1 | AG19: 0 | AH19: 0 | AI19: 0
A20: 彰化縣 | B20: Changhua County | C20: 7 | D20: 2 | E20: 5 | F20: 2 | G20: 5 | H20: 0 | I20: 0 | J20: 0 | K20: 0 | L20: 0 | M20: 0 | N20: 7 | O20: 0 | P20: 2 | Q20: 5 | R20: 7 | S20: 1 | T20: 6 | U20: 7 | V20: 2 | W20: 5 | X20: 7 | Y20: 1 | Z20: 6 | AA20: 7 | AB20: 1 | AC20: 6 | AD20: 1 | AE20: 0 | AF20: 1 | AG20: 1 | AH20: 0 | AI20: 1
A21: 南投縣 | B21: Nantou County | C21: 0 | D21: 0 | E21: 0 | F21: 0 | G21: 0 | H21: 0 | I21: 0 | J21: 0 | K21: 0 | L21: 0 | M21: 0 | N21: 0 | O21: 0 | P21: 0 | Q21: 0 | R21: 0 | S21: 0 | T21: 0 | U21: 0 | V21: 0 | W21: 0 | X21: 0 | Y21: 0 | Z21: 0 | AA21: 0 | AB21: 0 | AC21: 0 | AD21: 1 | AE21: 0 | AF21: 1 | AG21: 2 | AH21: 0 | AI21: 2
A22: 雲林縣 | B22: Yunlin County | C22: 7 | D22: 0 | E22: 7 | F22: 0 | G22: 7 | H22: 0 | I22: 0 | J22: 0 | K22: 0 | L22: 0 | M22: 0 | N22: 7 | O22: 0 | P22: 0 | Q22: 7 | R22: 7 | S22: 0 | T22: 7 | U22: 7 | V22: 0 | W22: 7 | X22: 6 | Y22: 0 | Z22: 6 | AA22: 6 | AB22: 0 | AC22: 6 | AD22: 6 | AE22: 0 | AF22: 6 | AG22: 0 | AH22: 0 | AI22: 0
... A32: 連江縣 | B32: Lienchiang County | C32: 0 | D32: 0 | E32: 0 | F32: 0 | G32: 0 | H32: 0 | I32: 0 | J32: 0 | K32: 0 | L32: 0 | M32: 0 | N32: 0 | O32: 0 | P32: 0 | Q32: 0 | R32: 0 | S32: 0 | T32: 0 | U32: 0 | V32: 0 | W32: 0 | X32: 0 | Y32: 0 | Z32: 0 | AA32: 0 | AB32: 0 | AC32: 0 | AD32: 0 | AE32: 0 | AF32: 0 | AG32: 0 | AH32: 0 | AI32: 0
A33: 資料來源：直轄市、縣﹝市﹞政府。
A34: Source : County and City Government.

Sheet 2016上半年
A1: 3.6-兒童及少年性交易安置情形 Placement Status of the Sexually Exploited Child and Youth
A3: 民國105年1-6月 Jan.-June, 2016
A4: 地區別 Locality | C4: 查獲人數(人) Persons Found & Rescued | R4: 短期收容聲請裁定數(人) | U4: 陪同偵訊個案數(人) | X4: 安置人數(人次) Times of Settled Persons
C5: 合計 | F5: 本國籍 Nationals | J5: 大陸籍 | L5: 外國籍 | N5: 按年齡分 By Age | R5: Persons Judged to Settle in Short-term Shelters(Persons) | U5: Cases of Accompanying for Court
F6: 一般 | H6: 原住民 | X6: 緊急收容中心 | AA6: 短期收容中心 | AD6: 中途學校 | AG6: 社會福利機構
C7: Total | F7: General | H7: Aborigines | J7: Mainlanders | L7: Foreigners | X7: Temporary Housing Center | AA7: Short-Term Housing Center | AD7: Midway School | AG7: Institution of Social Welfare Service
C8: 計 | D8: 男 | E8: 女 | F8: 男 | G8: 女 | H8: 男 | I8: 女 | J8: 男 | K8: 女 | L8: 男 | M8: 女 | N8: 合計 | O8: 未滿12歲 | P8: 12-未滿15歲 | Q8: 15-未滿18歲 | R8: 計 | S8: 男 | T8: 女 | U8: 計 | V8: 男 | W8: 女 | X8: 計 | Y8: 男 | Z8: 女 | AA8: 計 | AB8: 男 | AC8: 女 | AD8: 計 | AE8: 男 | AF8: 女 | AG8: 計 | AH8: 男 | AI8: 女
C9: Sub-Total | D9: Male | E9: Female | F9: Male | G9: Female | H9: Male | I9: Female | J9: Male | K9: Female | L9: Male | M9: Female | N9: Total | O9: Under 12 Years | P9: 12-Under 15 Years | Q9: 15-Under 18 Years | R9: Sub-Total | S9: Male | T9: Female | U9: Sub-Total | V9: Male | W9: Female | X9: Sub-Total | Y9: Male | Z9: Female | AA9: Sub-Total | AB9: Male | AC9: Female | AD9: Sub-Total | AE9: Male | AF9: Female | AG9: Sub-Total | AH9: Male | AI9: Female
A10: 總計 Total | C10: 119 | D10: 5 | E10: 114 | F10: 4 | G10: 105 | H10: 1 | I10: 7 | J10: 0 | K10: 0 | L10: 0 | M10: 2 | N10: 119 | O10: 0 | P10: 30 | Q10: 89 | R10: 117 | S10: 4 | T10: 113 | U10: 113 | V10: 5 | W10: 108 | X10: 115 | Y10: 4 | Z10: 111 | AA10: 110 | AB10: 4 | AC10: 106 | AD10: 27 | AE10: 0 | AF10: 27 | AG10: 20 | AH10: 1 | AI10: 19
A11: 新北市 | B11: New Taipei City | C11: 18 | D11: 2 | E11: 16 | F11: 2 | G11: 16 | H11: 0 | I11: 0 | J11: 0 | K11: 0 | L11: 0 | M11: 0 | N11: 18 | O11: 0 | P11: 6 | Q11: 12 | R11: 12 | S11: 2 | T11: 10 | U11: 18 | V11: 2 | W11: 16 | X11: 12 | Y11: 2 | Z11: 10 | AA11: 12 | AB11: 2 | AC11: 10 | AD11: 10 | AE11: 0 | AF11: 10 | AG11: 4 | AH11: 0 | AI11: 4
A12: 臺北市 | B12: Taipei City | C12: 4 | D12: 0 | E12: 4 | F12: 0 | G12: 4 | H12: 0 | I12: 0 | J12: 0 | K12: 0 | L12: 0 | M12: 0 | N12: 4 | O12: 0 | P12: 0 | Q12: 4 | R12: 5 | S12: 0 | T12: 5 | U12: 4 | V12: 0 | W12: 4 | X12: 6 | Y12: 0 | Z12: 6 | AA12: 5 | AB12: 0 | AC12: 5 | AD12: 1 | AE12: 0 | AF12: 1 | AG12: 0 | AH12: 0 | AI12: 0
A13: 桃園市 | B13: Taoyuan City | C13: 26 | D13: 0 | E13: 26 | F13: 0 | G13: 26 | H13: 0 | I13: 0 | J13: 0 | K13: 0 | L13: 0 | M13: 0 | N13: 26 | O13: 0 | P13: 8 | Q13: 18 | R13: 26 | S13: 0 | T13: 26 | U13: 26 | V13: 0 | W13: 26 | X13: 26 | Y13: 0 | Z13: 26 | AA13: 23 | AB13: 0 | AC13: 23 | AD13: 2 | AE13: 0 | AF13: 2 | AG13: 4 | AH13: 0 | AI13: 4
A14: 臺中市 | B14: Taichung City | C14: 13 | D14: 0 | E14: 13 | F14: 0 | G14: 13 | H14: 0 | I14: 0 | J14: 0 | K14: 0 | L14: 0 | M14: 0 | N14: 13 | O14: 0 | P14: 3 | Q14: 10 | R14: 13 | S14: 0 | T14: 13 | U14: 13 | V14: 0 | W14: 13 | X14: 13 | Y14: 0 | Z14: 13 | AA14: 13 | AB14: 0 | AC14: 13 | AD14: 0 | AE14: 0 | AF14: 0 | AG14: 2 | AH14: 0 | AI14: 2
A15: 臺南市 | B15: Tainan City | C15: 11 | D15: 0 | E15: 11 | F15: 0 | G15: 11 | H15: 0 | I15: 0 | J15: 0 | K15: 0 | L15: 0 | M15: 0 | N15: 11 | O15: 0 | P15: 0 | Q15: 11 | R15: 7 | S15: 0 | T15: 7 | U15: 7 | V15: 0 | W15: 7 | X15: 7 | Y15: 0 | Z15: 7 | AA15: 7 | AB15: 0 | AC15: 7 | AD15: 4 | AE15: 0 | AF15: 4 | AG15: 0 | AH15: 0 | AI15: 0
A16: 高雄市 | B16: Kaohsiung City | C16: 10 | D16: 0 | E16: 10 | F16: 0 | G16: 10 | H16: 0 | I16: 0 | J16: 0 | K16: 0 | L16: 0 | M16: 0 | N16: 10 | O16: 0 | P16: 1 | Q16: 9 | R16: 10 | S16: 0 | T16: 10 | U16: 10 | V16: 0 | W16: 10 | X16: 10 | Y16: 0 | Z16: 10 | AA16: 7 | AB16: 0 | AC16: 7 | AD16: 3 | AE16: 0 | AF16: 3 | AG16: 0 | AH16: 0 | AI16: 0
A17: 臺 灣 省 | B17: Taiwan Prov. | C17: 37 | D17: 3 | E17: 34 | F17: 2 | G17: 25 | H17: 1 | I17: 7 | J17: 0 | K17: 0 | L17: 0 | M17: 2 | N17: 37 | O17: 0 | P17: 12 | Q17: 25 | R17: 44 | S17: 2 | T17: 42 | U17: 35 | V17: 3 | W17: 32 | X17: 41 | Y17: 2 | Z17: 39 | AA17: 43 | AB17: 2 | AC17: 41 | AD17: 7 | AE17: 0 | AF17: 7 | AG17: 10 | AH17: 1 | AI17: 9
A18: 宜蘭縣 | B18: Yilan County | C18: 1 | D18: 1 | E18: 0 | F18: 0 | G18: 0 | H18: 1 | I18: 0 | J18: 0 | K18: 0 | L18: 0 | M18: 0 | N18: 1 | O18: 0 | P18: 1 | Q18: 0 | R18: 1 | S18: 1 | T18: 0 | U18: 1 | V18: 1 | W18: 0 | X18: 1 | Y18: 1 | Z18: 0 | AA18: 1 | AB18: 1 | AC18: 0 | AD18: 0 | AE18: 0 | AF18: 0 | AG18: 0 | AH18: 0 | AI18: 0
A19: 新竹縣 | B19: Hsinchu County | C19: 2 | D19: 0 | E19: 2 | F19: 0 | G19: 2 | H19: 0 | I19: 0 | J19: 0 | K19: 0 | L19: 0 | M19: 0 | N19: 2 | O19: 0 | P19: 1 | Q19: 1 | R19: 2 | S19: 0 | T19: 2 | U19: 2 | V19: 0 | W19: 2 | X19: 0 | Y19: 0 | Z19: 0 | AA19: 2 | AB19: 0 | AC19: 2 | AD19: 0 | AE19: 0 | AF19: 0 | AG19: 0 | AH19: 0 | AI19: 0
A20: 苗栗縣 | B20: Miaoli County | C20: 3 | D20: 0 | E20: 3 | F20: 0 | G20: 2 | H20: 0 | I20: 1 | J20: 0 | K20: 0 | L20: 0 | M20: 0 | N20: 3 | O20: 0 | P20: 0 | Q20: 3 | R20: 2 | S20: 0 | T20: 2 | U20: 3 | V20: 0 | W20: 3 | X20: 2 | Y20: 0 | Z20: 2 | AA20: 2 | AB20: 0 | AC20: 2 | AD20: 1 | AE20: 0 | AF20: 1 | AG20: 0 | AH20: 0 | AI20: 0
A21: 彰化縣 | B21: Changhua County | C21: 2 | D21: 1 | E21: 1 | F21: 1 | G21: 1 | H21: 0 | I21: 0 | J21: 0 | K21: 0 | L21: 0 | M21: 0 | N21: 2 | O21: 0 | P21: 0 | Q21: 2 | R21: 2 | S21: 0 | T21: 2 | U21: 2 | V21: 1 | W21: 1 | X21: 2 | Y21: 0 | Z21: 2 | AA21: 2 | AB21: 0 | AC21: 2 | AD21: 0 | AE21: 0 | AF21: 0 | AG21: 0 | AH21: 0 | AI21: 0
A22: 南投縣 | B22: Nantou County | C22: 0 | D22: 0 | E22: 0 | F22: 0 | G22: 0 | H22: 0 | I22: 0 | J22: 0 | K22: 0 | L22: 0 | M22: 0 | N22: 0 | O22: 0 | P22: 0 | Q22: 0 | R22: 0 | S22: 0 | T22: 0 | U22: 0 | V22: 0 | W22: 0 | X22: 0 | Y22: 0 | Z22: 0 | AA22: 0 | AB22: 0 | AC22: 0 | AD22: 0 | AE22: 0 | AF22: 0 | AG22: 1 | AH22: 0 | AI22: 1
... A34: 連江縣 | B34: Lienchiang County | C34: 0 | D34: 0 | E34: 0 | F34: 0 | G34: 0 | H34: 0 | I34: 0 | J34: 0 | K34: 0 | L34: 0 | M34: 0 | N34: 0 | O34: 0 | P34: 0 | Q34: 0 | R34: 0 | S34: 0 | T34: 0 | U34: 0 | V34: 0 | W34: 0 | X34: 0 | Y34: 0 | Z34: 0 | AA34: 0 | AB34: 0 | AC34: 0 | AD34: 0 | AE34: 0 | AF34: 0 | AG34: 0 | AH34: 0 | AI34: 0
A35: 資料來源：直轄市、縣﹝市﹞政府。
A36: Source : County and City Government.

Sheet 104
A1: 兒童及少年性交易安置情形 Placement Status of the Sexually Exploited Child and Youth
A3: 民國104年, 2015
A4: 地區別 Locality | C4: 查獲人數(人) Persons Found & Rescued | R4: 短期收容聲請裁定數(人) | U4: 陪同偵訊個案數(人) | X4: 安置人數(人次) Times of Settled Persons
C5: 合計 | F5: 本國籍 Nationals | J5: 大陸籍 | L5: 外國籍 | N5: 按年齡分 By Age | R5: Persons Judged to Settle in Short-term Shelters(Persons) | U5: Cases of Accompanying for Court
F6: 一般 | H6: 原住民 | X6: 緊急收容中心 | AA6: 短期收容中心 | AD6: 中途學校 | AG6: 社會福利機構
C7: Total | F7: General | H7: Aborigines | J7: Mainlanders | L7: Foreigners | X7: Temporary Housing Center | AA7: Short-Term Housing Center | AD7: Midway School | AG7: Institution of Social Welfare Service
C8: 計 | D8: 男 | E8: 女 | F8: 男 | G8: 女 | H8: 男 | I8: 女 | J8: 男 | K8: 女 | L8: 男 | M8: 女 | N8: 合計 | O8: 未滿12歲 | P8: 12-未滿15歲 | Q8: 15-未滿18歲 | R8: 計 | S8: 男 | T8: 女 | U8: 計 | V8: 男 | W8: 女 | X8: 計 | Y8: 男 | Z8: 女 | AA8: 計 | AB8: 男 | AC8: 女 | AD8: 計 | AE8: 男 | AF8: 女 | AG8: 計 | AH8: 男 | AI8: 女
C9: Sub-Total | D9: Male | E9: Female | F9: Male | G9: Female | H9: Male | I9: Female | J9: Male | K9: Female | L9: Male | M9: Female | N9: Total | O9: Under 12 Years | P9: 12-Under 15 Years | Q9: 15-Under 18 Years | R9: Sub-Total | S9: Male | T9: Female | U9: Sub-Total | V9: Male | W9: Female | X9: Sub-Total | Y9: Male | Z9: Female | AA9: Sub-Total | AB9: Male | AC9: Female | AD9: Sub-Total | AE9: Male | AF9: Female | AG9: Sub-Total | AH9: Male | AI9: Female
A10: 總計 Total | C10: 342 | D10: 23 | E10: 319 | F10: 22 | G10: 290 | H10: 1 | I10: 28 | J10: 0 | K10: 1 | L10: 0 | M10: 0 | N10: 342 | O10: 3 | P10: 101 | Q10: 238 | R10: 303 | S10: 15 | T10: 288 | U10: 327 | V10: 22 | W10: 305 | X10: 312 | Y10: 18 | Z10: 294 | AA10: 298 | AB10: 15 | AC10: 283 | AD10: 93 | AE10: 0 | AF10: 93 | AG10: 69 | AH10: 2 | AI10: 67
A11: 新北市 | B11: New Taipei City | C11: 45 | D11: 11 | E11: 34 | F11: 11 | G11: 31 | H11: 0 | I11: 3 | J11: 0 | K11: 0 | L11: 0 | M11: 0 | N11: 45 | O11: 2 | P11: 14 | Q11: 29 | R11: 31 | S11: 5 | T11: 26 | U11: 44 | V11: 11 | W11: 33 | X11: 36 | Y11: 7 | Z11: 29 | AA11: 31 | AB11: 5 | AC11: 26 | AD11: 12 | AE11: 0 | AF11: 12 | AG11: 7 | AH11: 1 | AI11: 6
A12: 臺北市 | B12: Taipei City | C12: 21 | D12: 4 | E12: 17 | F12: 4 | G12: 17 | H12: 0 | I12: 0 | J12: 0 | K12: 0 | L12: 0 | M12: 0 | N12: 21 | O12: 0 | P12: 6 | Q12: 15 | R12: 21 | S12: 4 | T12: 17 | U12: 23 | V12: 3 | W12: 20 | X12: 21 | Y12: 4 | Z12: 17 | AA12: 20 | AB12: 4 | AC12: 16 | AD12: 6 | AE12: 0 | AF12: 6 | AG12: 2 | AH12: 0 | AI12: 2
A13: 桃園市 | B13: Taoyuan City | C13: 31 | D13: 2 | E13: 29 | F13: 1 | G13: 26 | H13: 1 | I13: 3 | J13: 0 | K13: 0 | L13: 0 | M13: 0 | N13: 31 | O13: 0 | P13: 7 | Q13: 24 | R13: 26 | S13: 1 | T13: 25 | U13: 30 | V13: 2 | W13: 28 | X13: 27 | Y13: 2 | Z13: 25 | AA13: 24 | AB13: 1 | AC13: 23 | AD13: 11 | AE13: 0 | AF13: 11 | AG13: 6 | AH13: 0 | AI13: 6
A14: 臺中市 | B14: Taichung City | C14: 39 | D14: 3 | E14: 36 | F14: 3 | G14: 36 | H14: 0 | I14: 0 | J14: 0 | K14: 0 | L14: 0 | M14: 0 | N14: 39 | O14: 0 | P14: 17 | Q14: 22 | R14: 30 | S14: 2 | T14: 28 | U14: 39 | V14: 3 | W14: 36 | X14: 30 | Y14: 2 | Z14: 28 | AA14: 30 | AB14: 2 | AC14: 28 | AD14: 5 | AE14: 0 | AF14: 5 | AG14: 7 | AH14: 0 | AI14: 7
A15: 臺南市 | B15: Tainan City | C15: 13 | D15: 0 | E15: 13 | F15: 0 | G15: 13 | H15: 0 | I15: 0 | J15: 0 | K15: 0 | L15: 0 | M15: 0 | N15: 13 | O15: 0 | P15: 1 | Q15: 12 | R15: 12 | S15: 0 | T15: 12 | U15: 11 | V15: 0 | W15: 11 | X15: 12 | Y15: 0 | Z15: 12 | AA15: 12 | AB15: 0 | AC15: 12 | AD15: 3 | AE15: 0 | AF15: 3 | AG15: 1 | AH15: 0 | AI15: 1
A16: 高雄市 | B16: Kaohsiung City | C16: 70 | D16: 0 | E16: 70 | F16: 0 | G16: 66 | H16: 0 | I16: 3 | J16: 0 | K16: 1 | L16: 0 | M16: 0 | N16: 70 | O16: 0 | P16: 16 | Q16: 54 | R16: 70 | S16: 0 | T16: 70 | U16: 70 | V16: 0 | W16: 70 | X16: 70 | Y16: 0 | Z16: 70 | AA16: 70 | AB16: 0 | AC16: 70 | AD16: 19 | AE16: 0 | AF16: 19 | AG16: 0 | AH16: 0 | AI16: 0
A17: 宜蘭縣 | B17: Yilan County | C17: 1 | D17: 0 | E17: 1 | F17: 0 | G17: 1 | H17: 0 | I17: 0 | J17: 0 | K17: 0 | L17: 0 | M17: 0 | N17: 1 | O17: 0 | P17: 0 | Q17: 1 | R17: 1 | S17: 0 | T17: 1 | U17: 1 | V17: 0 | W17: 1 | X17: 1 | Y17: 0 | Z17: 1 | AA17: 1 | AB17: 0 | AC17: 1 | AD17: 0 | AE17: 0 | AF17: 0 | AG17: 1 | AH17: 0 | AI17: 1
A18: 新竹縣 | B18: Hsinchu County | C18: 9 | D18: 0 | E18: 9 | F18: 0 | G18: 8 | H18: 0 | I18: 1 | J18: 0 | K18: 0 | L18: 0 | M18: 0 | N18: 9 | O18: 0 | P18: 4 | Q18: 5 | R18: 9 | S18: 0 | T18: 9 | U18: 9 | V18: 0 | W18: 9 | X18: 9 | Y18: 0 | Z18: 9 | AA18: 9 | AB18: 0 | AC18: 9 | AD18: 0 | AE18: 0 | AF18: 0 | AG18: 6 | AH18: 0 | AI18: 6
A19: 苗栗縣 | B19: Miaoli County | C19: 4 | D19: 0 | E19: 4 | F19: 0 | G19: 4 | H19: 0 | I19: 0 | J19: 0 | K19: 0 | L19: 0 | M19: 0 | N19: 4 | O19: 0 | P19: 3 | Q19: 1 | R19: 3 | S19: 0 | T19: 3 | U19: 4 | V19: 0 | W19: 4 | X19: 3 | Y19: 0 | Z19: 3 | AA19: 3 | AB19: 0 | AC19: 3 | AD19: 5 | AE19: 0 | AF19: 5 | AG19: 2 | AH19: 0 | AI19: 2
A20: 彰化縣 | B20: Changhua County | C20: 10 | D20: 2 | E20: 8 | F20: 2 | G20: 8 | H20: 0 | I20: 0 | J20: 0 | K20: 0 | L20: 0 | M20: 0 | N20: 10 | O20: 0 | P20: 1 | Q20: 9 | R20: 10 | S20: 2 | T20: 8 | U20: 10 | V20: 2 | W20: 8 | X20: 10 | Y20: 2 | Z20: 8 | AA20: 9 | AB20: 2 | AC20: 7 | AD20: 5 | AE20: 0 | AF20: 5 | AG20: 1 | AH20: 0 | AI20: 1
A21: 南投縣 | B21: Nantou County | C21: 0 | D21: 0 | E21: 0 | F21: 0 | G21: 0 | H21: 0 | I21: 0 | J21: 0 | K21: 0 | L21: 0 | M21: 0 | N21: 0 | O21: 0 | P21: 0 | Q21: 0 | R21: 0 | S21: 0 | T21: 0 | U21: 0 | V21: 0 | W21: 0 | X21: 0 | Y21: 0 | Z21: 0 | AA21: 0 | AB21: 0 | AC21: 0 | AD21: 0 | AE21: 0 | AF21: 0 | AG21: 0 | AH21: 0 | AI21: 0
A22: 雲林縣 | B22: Yunlin County | C22: 24 | D22: 0 | E22: 24 | F22: 0 | G22: 24 | H22: 0 | I22: 0 | J22: 0 | K22: 0 | L22: 0 | M22: 0 | N22: 24 | O22: 0 | P22: 12 | Q22: 12 | R22: 22 | S22: 0 | T22: 22 | U22: 18 | V22: 0 | W22: 18 | X22: 22 | Y22: 0 | Z22: 22 | AA22: 21 | AB22: 0 | AC22: 21 | AD22: 7 | AE22: 0 | AF22: 7 | AG22: 0 | AH22: 0 | AI22: 0
... A32: 連江縣 | B32: Lienchiang County | C32: 0 | D32: 0 | E32: 0 | F32: 0 | G32: 0 | H32: 0 | I32: 0 | J32: 0 | K32: 0 | L32: 0 | M32: 0 | N32: 0 | O32: 0 | P32: 0 | Q32: 0 | R32: 0 | S32: 0 | T32: 0 | U32: 0 | V32: 0 | W32: 0 | X32: 0 | Y32: 0 | Z32: 0 | AA32: 0 | AB32: 0 | AC32: 0 | AD32: 0 | AE32: 0 | AF32: 0 | AG32: 0 | AH32: 0 | AI32: 0
A33: 資料來源：直轄市、縣﹝市﹞政府。
A34: Source : County and City Government.

Sheet 2015上半年
A1: 3.6-兒童及少年性交易安置情形 Placement Status of the Sexually Exploited Child and Youth
A3: 民國104年1-6月 Jan.-June, 2015
A4: 地區別 Locality | C4: 查獲人數(人) Persons Found & Rescued | R4: 短期收容聲請裁定數(人) | U4: 陪同偵訊個案數(人) | X4: 安置人數(人次) Times of Settled Persons
C5: 合計 | F5: 本國籍 Nationals | J5: 大陸籍 | L5: 外國籍 | N5: 按年齡分 By Age | R5: Persons Judged to Settle in Short-term Shelters(Persons) | U5: Cases of Accompanying for Court
F6: 一般 | H6: 原住民 | X6: 緊急收容中心 | AA6: 短期收容中心 | AD6: 中途學校 | AG6: 社會福利機構
C7: Total | F7: General | H7: Aborigines | J7: Mainlanders | L7: Foreigners | X7: Temporary Housing Center | AA7: Short-Term Housing Center | AD7: Midway School | AG7: Institution of Social Welfare Service
C8: 計 | D8: 男 | E8: 女 | F8: 男 | G8: 女 | H8: 男 | I8: 女 | J8: 男 | K8: 女 | L8: 男 | M8: 女 | N8: 合計 | O8: 未滿12歲 | P8: 12-未滿15歲 | Q8: 15-未滿18歲 | R8: 計 | S8: 男 | T8: 女 | U8: 計 | V8: 男 | W8: 女 | X8: 計 | Y8: 男 | Z8: 女 | AA8: 計 | AB8: 男 | AC8: 女 | AD8: 計 | AE8: 男 | AF8: 女 | AG8: 計 | AH8: 男 | AI8: 女
C9: Sub-Total | D9: Male | E9: Female | F9: Male | G9: Female | H9: Male | I9: Female | J9: Male | K9: Female | L9: Male | M9: Female | N9: Total | O9: Under 12 Years | P9: 12-Under 15 Years | Q9: 15-Under 18 Years | R9: Sub-Total | S9: Male | T9: Female | U9: Sub-Total | V9: Male | W9: Female | X9: Sub-Total | Y9: Male | Z9: Female | AA9: Sub-Total | AB9: Male | AC9: Female | AD9: Sub-Total | AE9: Male | AF9: Female | AG9: Sub-Total | AH9: Male | AI9: Female
A10: 總計 Total | C10: 152 | D10: 14 | E10: 138 | F10: 13 | G10: 127 | H10: 1 | I10: 10 | J10: 0 | K10: 1 | L10: 0 | M10: 0 | N10: 152 | O10: 2 | P10: 50 | Q10: 100 | R10: 137 | S10: 9 | T10: 128 | U10: 148 | V10: 13 | W10: 135 | X10: 140 | Y10: 11 | Z10: 129 | AA10: 136 | AB10: 9 | AC10: 127 | AD10: 41 | AE10: 0 | AF10: 41 | AG10: 22 | AH10: 1 | AI10: 21
A11: 新北市 | B11: New Taipei City | C11: 25 | D11: 7 | E11: 18 | F11: 7 | G11: 17 | H11: 0 | I11: 1 | J11: 0 | K11: 0 | L11: 0 | M11: 0 | N11: 25 | O11: 2 | P11: 7 | Q11: 16 | R11: 15 | S11: 3 | T11: 12 | U11: 25 | V11: 7 | W11: 18 | X11: 17 | Y11: 4 | Z11: 13 | AA11: 15 | AB11: 3 | AC11: 12 | AD11: 7 | AE11: 0 | AF11: 7 | AG11: 1 | AH11: 1 | AI11: 0
A12: 臺北市 | B12: Taipei City | C12: 14 | D12: 3 | E12: 11 | F12: 3 | G12: 11 | H12: 0 | I12: 0 | J12: 0 | K12: 0 | L12: 0 | M12: 0 | N12: 14 | O12: 0 | P12: 5 | Q12: 9 | R12: 14 | S12: 3 | T12: 11 | U12: 16 | V12: 2 | W12: 14 | X12: 14 | Y12: 3 | Z12: 11 | AA12: 14 | AB12: 3 | AC12: 11 | AD12: 1 | AE12: 0 | AF12: 1 | AG12: 0 | AH12: 0 | AI12: 0
A13: 桃園市 | B13: Taoyuan City | C13: 16 | D13: 2 | E13: 14 | F13: 1 | G13: 12 | H13: 1 | I13: 2 | J13: 0 | K13: 0 | L13: 0 | M13: 0 | N13: 16 | O13: 0 | P13: 3 | Q13: 13 | R13: 15 | S13: 1 | T13: 14 | U13: 16 | V13: 2 | W13: 14 | X13: 16 | Y13: 2 | Z13: 14 | AA13: 15 | AB13: 1 | AC13: 14 | AD13: 5 | AE13: 0 | AF13: 5 | AG13: 2 | AH13: 0 | AI13: 2
A14: 臺中市 | B14: Taichung City | C14: 10 | D14: 1 | E14: 9 | F14: 1 | G14: 9 | H14: 0 | I14: 0 | J14: 0 | K14: 0 | L14: 0 | M14: 0 | N14: 10 | O14: 0 | P14: 4 | Q14: 6 | R14: 8 | S14: 1 | T14: 7 | U14: 10 | V14: 1 | W14: 9 | X14: 8 | Y14: 1 | Z14: 7 | AA14: 8 | AB14: 1 | AC14: 7 | AD14: 0 | AE14: 0 | AF14: 0 | AG14: 2 | AH14: 0 | AI14: 2
A15: 臺南市 | B15: Tainan City | C15: 3 | D15: 0 | E15: 3 | F15: 0 | G15: 3 | H15: 0 | I15: 0 | J15: 0 | K15: 0 | L15: 0 | M15: 0 | N15: 3 | O15: 0 | P15: 1 | Q15: 2 | R15: 3 | S15: 0 | T15: 3 | U15: 3 | V15: 0 | W15: 3 | X15: 3 | Y15: 0 | Z15: 3 | AA15: 3 | AB15: 0 | AC15: 3 | AD15: 2 | AE15: 0 | AF15: 2 | AG15: 0 | AH15: 0 | AI15: 0
A16: 高雄市 | B16: Kaohsiung City | C16: 33 | D16: 0 | E16: 33 | F16: 0 | G16: 31 | H16: 0 | I16: 1 | J16: 0 | K16: 1 | L16: 0 | M16: 0 | N16: 33 | O16: 0 | P16: 8 | Q16: 25 | R16: 33 | S16: 0 | T16: 33 | U16: 33 | V16: 0 | W16: 33 | X16: 33 | Y16: 0 | Z16: 33 | AA16: 33 | AB16: 0 | AC16: 33 | AD16: 9 | AE16: 0 | AF16: 9 | AG16: 0 | AH16: 0 | AI16: 0
A17: 臺 灣 省 | B17: Taiwan Prov. | C17: 51 | D17: 1 | E17: 50 | F17: 1 | G17: 44 | H17: 0 | I17: 6 | J17: 0 | K17: 0 | L17: 0 | M17: 0 | N17: 51 | O17: 0 | P17: 22 | Q17: 29 | R17: 49 | S17: 1 | T17: 48 | U17: 45 | V17: 1 | W17: 44 | X17: 49 | Y17: 1 | Z17: 48 | AA17: 48 | AB17: 1 | AC17: 47 | AD17: 17 | AE17: 0 | AF17: 17 | AG17: 17 | AH17: 0 | AI17: 17
A18: 宜蘭縣 | B18: Yilan County | C18: 0 | D18: 0 | E18: 0 | F18: 0 | G18: 0 | H18: 0 | I18: 0 | J18: 0 | K18: 0 | L18: 0 | M18: 0 | N18: 0 | O18: 0 | P18: 0 | Q18: 0 | R18: 0 | S18: 0 | T18: 0 | U18: 0 | V18: 0 | W18: 0 | X18: 0 | Y18: 0 | Z18: 0 | AA18: 0 | AB18: 0 | AC18: 0 | AD18: 0 | AE18: 0 | AF18: 0 | AG18: 0 | AH18: 0 | AI18: 0
A19: 新竹縣 | B19: Hsinchu County | C19: 5 | D19: 0 | E19: 5 | F19: 0 | G19: 5 | H19: 0 | I19: 0 | J19: 0 | K19: 0 | L19: 0 | M19: 0 | N19: 5 | O19: 0 | P19: 2 | Q19: 3 | R19: 5 | S19: 0 | T19: 5 | U19: 5 | V19: 0 | W19: 5 | X19: 5 | Y19: 0 | Z19: 5 | AA19: 5 | AB19: 0 | AC19: 5 | AD19: 0 | AE19: 0 | AF19: 0 | AG19: 4 | AH19: 0 | AI19: 4
A20: 苗栗縣 | B20: Miaoli County | C20: 3 | D20: 0 | E20: 3 | F20: 0 | G20: 3 | H20: 0 | I20: 0 | J20: 0 | K20: 0 | L20: 0 | M20: 0 | N20: 3 | O20: 0 | P20: 3 | Q20: 0 | R20: 3 | S20: 0 | T20: 3 | U20: 3 | V20: 0 | W20: 3 | X20: 2 | Y20: 0 | Z20: 2 | AA20: 3 | AB20: 0 | AC20: 3 | AD20: 4 | AE20: 0 | AF20: 4 | AG20: 1 | AH20: 0 | AI20: 1
A21: 彰化縣 | B21: Changhua County | C21: 2 | D21: 1 | E21: 1 | F21: 1 | G21: 1 | H21: 0 | I21: 0 | J21: 0 | K21: 0 | L21: 0 | M21: 0 | N21: 2 | O21: 0 | P21: 0 | Q21: 2 | R21: 2 | S21: 1 | T21: 1 | U21: 2 | V21: 1 | W21: 1 | X21: 2 | Y21: 1 | Z21: 1 | AA21: 2 | AB21: 1 | AC21: 1 | AD21: 2 | AE21: 0 | AF21: 2 | AG21: 0 | AH21: 0 | AI21: 0
A22: 南投縣 | B22: Nantou County | C22: 0 | D22: 0 | E22: 0 | F22: 0 | G22: 0 | H22: 0 | I22: 0 | J22: 0 | K22: 0 | L22: 0 | M22: 0 | N22: 0 | O22: 0 | P22: 0 | Q22: 0 | R22: 0 | S22: 0 | T22: 0 | U22: 0 | V22: 0 | W22: 0 | X22: 0 | Y22: 0 | Z22: 0 | AA22: 0 | AB22: 0 | AC22: 0 | AD22: 0 | AE22: 0 | AF22: 0 | AG22: 0 | AH22: 0 | AI22: 0
... A34: 連江縣 | B34: Lienchiang County | C34: 0 | D34: 0 | E34: 0 | F34: 0 | G34: 0 | H34: 0 | I34: 0 | J34: 0 | K34: 0 | L34: 0 | M34: 0 | N34: 0 | O34: 0 | P34: 0 | Q34: 0 | R34: 0 | S34: 0 | T34: 0 | U34: 0 | V34: 0 | W34: 0 | X34: 0 | Y34: 0 | Z34: 0 | AA34: 0 | AB34: 0 | AC34: 0 | AD34: 0 | AE34: 0 | AF34: 0 | AG34: 0 | AH34: 0 | AI34: 0
A35: 資料來源：直轄市、縣﹝市﹞政府。
A36: Source : County and City Government.

Sheet 103
A1: 兒童及少年性交易安置情形 Placement Status of the Sexually Exploited Child and Youth
A3: 民國103年,2014
A4: 地區別 Locality | C4: 查獲人數(人) Persons Found & Rescued | R4: 短期收容聲請裁定數(人) | U4: 陪同偵訊個案數(人) | X4: 安置人數(人次) Times of Settled Persons
C5: 合計 | F5: 本國籍 Nationals | J5: 大陸籍 | L5: 外國籍 | N5: 按年齡分 By Age | R5: Persons Judged to Settle in Short-term Shelters(Persons) | U5: Cases of Accompanying for Court
F6: 一般 | H6: 原住民 | X6: 緊急收容中心 | AA6: 短期收容中心 | AD6: 中途學校 | AG6: 社會福利機構
C7: Total | F7: General | H7: Aborigines | J7: Mainlanders | L7: Foreigners | X7: Temporary Housing Center | AA7: Short-Term Housing Center | AD7: Midway School | AG7: Institution of Social Welfare Service
C8: 計 | D8: 男 | E8: 女 | F8: 男 | G8: 女 | H8: 男 | I8: 女 | J8: 男 | K8: 女 | L8: 男 | M8: 女 | N8: 合計 | O8: 未滿12歲 | P8: 12-未滿15歲 | Q8: 15-未滿18歲 | R8: 計 | S8: 男 | T8: 女 | U8: 計 | V8: 男 | W8: 女 | X8: 計 | Y8: 男 | Z8: 女 | AA8: 計 | AB8: 男 | AC8: 女 | AD8: 計 | AE8: 男 | AF8: 女 | AG8: 計 | AH8: 男 | AI8: 女
C9: Sub-Total | D9: Male | E9: Female | F9: Male | G9: Female | H9: Male | I9: Female | J9: Male | K9: Female | L9: Male | M9: Female | N9: Total | O9: Under 12 Years | P9: 12-Under 15 Years | Q9: 15-Under 18 Years | R9: Sub-Total | S9: Male | T9: Female | U9: Sub-Total | V9: Male | W9: Female | X9: Sub-Total | Y9: Male | Z9: Female | AA9: Sub-Total | AB9: Male | AC9: Female | AD9: Sub-Total | AE9: Male | AF9: Female | AG9: Sub-Total | AH9: Male | AI9: Female
A10: 總計 Total | C10: 263 | D10: 15 | E10: 248 | F10: 15 | G10: 215 | H10: 0 | I10: 32 | J10: 0 | K10: 0 | L10: 0 | M10: 1 | N10: 263 | O10: 1 | P10: 72 | Q10: 190 | R10: 274 | S10: 20 | T10: 254 | U10: 262 | V10: 17 | W10: 245 | X10: 273 | Y10: 20 | Z10: 253 | AA10: 258 | AB10: 21 | AC10: 237 | AD10: 90 | AE10: 0 | AF10: 90 | AG10: 58 | AH10: 7 | AI10: 51
A11: 新北市 | B11: New Taipei City | C11: 31 | D11: 2 | E11: 29 | F11: 2 | G11: 24 | H11: 0 | I11: 5 | J11: 0 | K11: 0 | L11: 0 | M11: 0 | N11: 31 | O11: 0 | P11: 12 | Q11: 19 | R11: 29 | S11: 4 | T11: 25 | U11: 31 | V11: 2 | W11: 29 | X11: 29 | Y11: 4 | Z11: 25 | AA11: 28 | AB11: 4 | AC11: 24 | AD11: 14 | AE11: 0 | AF11: 14 | AG11: 8 | AH11: 0 | AI11: 8
A12: 臺北市 | B12: Taipei City | C12: 11 | D12: 3 | E12: 8 | F12: 3 | G12: 8 | H12: 0 | I12: 0 | J12: 0 | K12: 0 | L12: 0 | M12: 0 | N12: 11 | O12: 0 | P12: 2 | Q12: 9 | R12: 11 | S12: 3 | T12: 8 | U12: 11 | V12: 3 | W12: 8 | X12: 11 | Y12: 3 | Z12: 8 | AA12: 11 | AB12: 3 | AC12: 8 | AD12: 7 | AE12: 0 | AF12: 7 | AG12: 3 | AH12: 0 | AI12: 3
A13: 臺中市 | B13: Taichung City | C13: 39 | D13: 3 | E13: 36 | F13: 3 | G13: 36 | H13: 0 | I13: 0 | J13: 0 | K13: 0 | L13: 0 | M13: 0 | N13: 39 | O13: 0 | P13: 7 | Q13: 32 | R13: 39 | S13: 3 | T13: 36 | U13: 39 | V13: 3 | W13: 36 | X13: 39 | Y13: 3 | Z13: 36 | AA13: 37 | AB13: 3 | AC13: 34 | AD13: 18 | AE13: 0 | AF13: 18 | AG13: 8 | AH13: 2 | AI13: 6
A14: 臺南市 | B14: Tainan City | C14: 11 | D14: 1 | E14: 10 | F14: 1 | G14: 10 | H14: 0 | I14: 0 | J14: 0 | K14: 0 | L14: 0 | M14: 0 | N14: 11 | O14: 0 | P14: 1 | Q14: 10 | R14: 11 | S14: 1 | T14: 10 | U14: 11 | V14: 1 | W14: 10 | X14: 11 | Y14: 1 | Z14: 10 | AA14: 11 | AB14: 1 | AC14: 10 | AD14: 4 | AE14: 0 | AF14: 4 | AG14: 0 | AH14: 0 | AI14: 0
A15: 高雄市 | B15: Kaohsiung City | C15: 55 | D15: 2 | E15: 53 | F15: 2 | G15: 50 | H15: 0 | I15: 3 | J15: 0 | K15: 0 | L15: 0 | M15: 0 | N15: 55 | O15: 0 | P15: 8 | Q15: 47 | R15: 55 | S15: 2 | T15: 53 | U15: 55 | V15: 2 | W15: 53 | X15: 55 | Y15: 2 | Z15: 53 | AA15: 55 | AB15: 2 | AC15: 53 | AD15: 14 | AE15: 0 | AF15: 14 | AG15: 2 | AH15: 1 | AI15: 1
A16: 宜蘭縣 | B16: Yilan County | C16: 2 | D16: 0 | E16: 2 | F16: 0 | G16: 2 | H16: 0 | I16: 0 | J16: 0 | K16: 0 | L16: 0 | M16: 0 | N16: 2 | O16: 0 | P16: 0 | Q16: 2 | R16: 2 | S16: 0 | T16: 2 | U16: 2 | V16: 0 | W16: 2 | X16: 2 | Y16: 0 | Z16: 2 | AA16: 1 | AB16: 0 | AC16: 1 | AD16: 1 | AE16: 0 | AF16: 1 | AG16: 0 | AH16: 0 | AI16: 0
A17: 桃園縣 | B17: Taoyuan County | C17: 26 | D17: 0 | E17: 26 | F17: 0 | G17: 22 | H17: 0 | I17: 4 | J17: 0 | K17: 0 | L17: 0 | M17: 0 | N17: 26 | O17: 0 | P17: 10 | Q17: 16 | R17: 34 | S17: 2 | T17: 32 | U17: 28 | V17: 2 | W17: 26 | X17: 36 | Y17: 2 | Z17: 34 | AA17: 32 | AB17: 3 | AC17: 29 | AD17: 14 | AE17: 0 | AF17: 14 | AG17: 10 | AH17: 1 | AI17: 9
A18: 新竹縣 | B18: Hsinchu County | C18: 17 | D18: 1 | E18: 16 | F18: 1 | G18: 7 | H18: 0 | I18: 9 | J18: 0 | K18: 0 | L18: 0 | M18: 0 | N18: 17 | O18: 0 | P18: 9 | Q18: 8 | R18: 6 | S18: 1 | T18: 5 | U18: 17 | V18: 1 | W18: 16 | X18: 6 | Y18: 1 | Z18: 5 | AA18: 5 | AB18: 1 | AC18: 4 | AD18: 1 | AE18: 0 | AF18: 1 | AG18: 7 | AH18: 0 | AI18: 7
A19: 苗栗縣 | B19: Miaoli County | C19: 3 | D19: 0 | E19: 3 | F19: 0 | G19: 3 | H19: 0 | I19: 0 | J19: 0 | K19: 0 | L19: 0 | M19: 0 | N19: 3 | O19: 0 | P19: 1 | Q19: 2 | R19: 3 | S19: 0 | T19: 3 | U19: 3 | V19: 0 | W19: 3 | X19: 3 | Y19: 0 | Z19: 3 | AA19: 3 | AB19: 0 | AC19: 3 | AD19: 3 | AE19: 0 | AF19: 3 | AG19: 1 | AH19: 0 | AI19: 1
A20: 彰化縣 | B20: Changhua County | C20: 5 | D20: 0 | E20: 5 | F20: 0 | G20: 5 | H20: 0 | I20: 0 | J20: 0 | K20: 0 | L20: 0 | M20: 0 | N20: 5 | O20: 0 | P20: 2 | Q20: 3 | R20: 4 | S20: 0 | T20: 4 | U20: 5 | V20: 0 | W20: 5 | X20: 5 | Y20: 0 | Z20: 5 | AA20: 4 | AB20: 0 | AC20: 4 | AD20: 0 | AE20: 0 | AF20: 0 | AG20: 0 | AH20: 0 | AI20: 0
A21: 南投縣 | B21: Nantou County | C21: 4 | D21: 1 | E21: 3 | F21: 1 | G21: 3 | H21: 0 | I21: 0 | J21: 0 | K21: 0 | L21: 0 | M21: 0 | N21: 4 | O21: 0 | P21: 1 | Q21: 3 | R21: 2 | S21: 1 | T21: 1 | U21: 1 | V21: 1 | W21: 0 | X21: 2 | Y21: 1 | Z21: 1 | AA21: 2 | AB21: 1 | AC21: 1 | AD21: 0 | AE21: 0 | AF21: 0 | AG21: 6 | AH21: 2 | AI21: 4
A22: 雲林縣 | B22: Yunlin County | C22: 8 | D22: 0 | E22: 8 | F22: 0 | G22: 7 | H22: 0 | I22: 0 | J22: 0 | K22: 0 | L22: 0 | M22: 1 | N22: 8 | O22: 0 | P22: 1 | Q22: 7 | R22: 8 | S22: 0 | T22: 8 | U22: 8 | V22: 0 | W22: 8 | X22: 6 | Y22: 0 | Z22: 6 | AA22: 6 | AB22: 0 | AC22: 6 | AD22: 2 | AE22: 0 | AF22: 2 | AG22: 0 | AH22: 0 | AI22: 0
... A32: 連江縣 | B32: Lienchiang County | C32: 0 | D32: 0 | E32: 0 | F32: 0 | G32: 0 | H32: 0 | I32: 0 | J32: 0 | K32: 0 | L32: 0 | M32: 0 | N32: 0 | O32: 0 | P32: 0 | Q32: 0 | R32: 0 | S32: 0 | T32: 0 | U32: 0 | V32: 0 | W32: 0 | X32: 0 | Y32: 0 | Z32: 0 | AA32: 0 | AB32: 0 | AC32: 0 | AD32: 0 | AE32: 0 | AF32: 0 | AG32: 0 | AH32: 0 | AI32: 0
A33: 資料來源：直轄市、縣﹝市﹞政府。
A34: Source : County and City Government.

Sheet 2014上半年
A1: 3.6-兒童及少年性交易安置情形 Placement Status of the Sexually Exploited Child and Youth
A3: 民國103年1-6月 Jan.-June, 2014
A4: 地區別 Locality | C4: 查獲人數(人) Persons Found & Rescued | R4: 短期收容聲請裁定數(人) | U4: 陪同偵訊個案數(人) | X4: 安置人數(人次) Times of Settled Persons
C5: 合計 | F5: 本國籍 Nationals | J5: 大陸籍 | L5: 外國籍 | N5: 按年齡分 By Age | R5: Persons Judged to Settle in Short-term Shelters(Persons) | U5: Cases of Accompanying for Court
F6: 一般 | H6: 原住民 | X6: 緊急收容中心 | AA6: 短期收容中心 | AD6: 中途學校 | AG6: 社會福利機構
C7: Total | F7: General | H7: Aborigines | J7: Mainlanders | L7: Foreigners | X7: Temporary Housing Center | AA7: Short-Term Housing Center | AD7: Midway School | AG7: Institution of Social Welfare Service
C8: 計 | D8: 男 | E8: 女 | F8: 男 | G8: 女 | H8: 男 | I8: 女 | J8: 男 | K8: 女 | L8: 男 | M8: 女 | N8: 合計 | O8: 未滿12歲 | P8: 12-未滿15歲 | Q8: 15-未滿18歲 | R8: 計 | S8: 男 | T8: 女 | U8: 計 | V8: 男 | W8: 女 | X8: 計 | Y8: 男 | Z8: 女 | AA8: 計 | AB8: 男 | AC8: 女 | AD8: 計 | AE8: 男 | AF8: 女 | AG8: 計 | AH8: 男 | AI8: 女
C9: Sub-Total | D9: Male | E9: Female | F9: Male | G9: Female | H9: Male | I9: Female | J9: Male | K9: Female | L9: Male | M9: Female | N9: Total | O9: Under 12 Years | P9: 12-Under 15 Years | Q9: 15-Under 18 Years | R9: Sub-Total | S9: Male | T9: Female | U9: Sub-Total | V9: Male | W9: Female | X9: Sub-Total | Y9: Male | Z9: Female | AA9: Sub-Total | AB9: Male | AC9: Female | AD9: Sub-Total | AE9: Male | AF9: Female | AG9: Sub-Total | AH9: Male | AI9: Female
A10: 總計 | C10: 137 | D10: 12 | E10: 125 | F10: 12 | G10: 109 | H10: 0 | I10: 16 | J10: 0 | K10: 0 | L10: 0 | M10: 0 | N10: 137 | O10: 0 | P10: 46 | Q10: 91 | R10: 144 | S10: 17 | T10: 127 | U10: 136 | V10: 14 | W10: 122 | X10: 144 | Y10: 17 | Z10: 127 | AA10: 135 | AB10: 17 | AC10: 118 | AD10: 56 | AE10: 0 | AF10: 56 | AG10: 31 | AH10: 3 | AI10: 28
A11: 新北市 | B11: New Taipei City | C11: 20 | D11: 2 | E11: 18 | F11: 2 | G11: 16 | H11: 0 | I11: 2 | J11: 0 | K11: 0 | L11: 0 | M11: 0 | N11: 20 | O11: 0 | P11: 6 | Q11: 14 | R11: 20 | S11: 4 | T11: 16 | U11: 20 | V11: 2 | W11: 18 | X11: 20 | Y11: 4 | Z11: 16 | AA11: 20 | AB11: 4 | AC11: 16 | AD11: 11 | AE11: 0 | AF11: 11 | AG11: 1 | AH11: 0 | AI11: 1
A12: 臺北市 | B12: Taipei City | C12: 8 | D12: 3 | E12: 5 | F12: 3 | G12: 5 | H12: 0 | I12: 0 | J12: 0 | K12: 0 | L12: 0 | M12: 0 | N12: 8 | O12: 0 | P12: 2 | Q12: 6 | R12: 8 | S12: 3 | T12: 5 | U12: 8 | V12: 3 | W12: 5 | X12: 8 | Y12: 3 | Z12: 5 | AA12: 8 | AB12: 3 | AC12: 5 | AD12: 6 | AE12: 0 | AF12: 6 | AG12: 2 | AH12: 0 | AI12: 2
A13: 臺中市 | B13: Taichung City | C13: 23 | D13: 3 | E13: 20 | F13: 3 | G13: 20 | H13: 0 | I13: 0 | J13: 0 | K13: 0 | L13: 0 | M13: 0 | N13: 23 | O13: 0 | P13: 6 | Q13: 17 | R13: 23 | S13: 3 | T13: 20 | U13: 23 | V13: 3 | W13: 20 | X13: 23 | Y13: 3 | Z13: 20 | AA13: 23 | AB13: 3 | AC13: 20 | AD13: 10 | AE13: 0 | AF13: 10 | AG13: 7 | AH13: 2 | AI13: 5
A14: 臺南市 | B14: Tainan City | C14: 5 | D14: 1 | E14: 4 | F14: 1 | G14: 4 | H14: 0 | I14: 0 | J14: 0 | K14: 0 | L14: 0 | M14: 0 | N14: 5 | O14: 0 | P14: 1 | Q14: 4 | R14: 5 | S14: 1 | T14: 4 | U14: 5 | V14: 1 | W14: 4 | X14: 5 | Y14: 1 | Z14: 4 | AA14: 5 | AB14: 1 | AC14: 4 | AD14: 1 | AE14: 0 | AF14: 1 | AG14: 0 | AH14: 0 | AI14: 0
A15: 高雄市 | B15: Kaohsiung City | C15: 16 | D15: 1 | E15: 15 | F15: 1 | G15: 13 | H15: 0 | I15: 2 | J15: 0 | K15: 0 | L15: 0 | M15: 0 | N15: 16 | O15: 0 | P15: 5 | Q15: 11 | R15: 16 | S15: 1 | T15: 15 | U15: 16 | V15: 1 | W15: 15 | X15: 16 | Y15: 1 | Z15: 15 | AA15: 16 | AB15: 1 | AC15: 15 | AD15: 7 | AE15: 0 | AF15: 7 | AG15: 1 | AH15: 0 | AI15: 1
A16: 臺 灣 省 | B16: Taiwan Prov. | C16: 65 | D16: 2 | E16: 63 | F16: 2 | G16: 51 | H16: 0 | I16: 12 | J16: 0 | K16: 0 | L16: 0 | M16: 0 | N16: 65 | O16: 0 | P16: 26 | Q16: 39 | R16: 72 | S16: 5 | T16: 67 | U16: 64 | V16: 4 | W16: 60 | X16: 72 | Y16: 5 | Z16: 67 | AA16: 63 | AB16: 5 | AC16: 58 | AD16: 21 | AE16: 0 | AF16: 21 | AG16: 20 | AH16: 1 | AI16: 19
A17: 宜蘭縣 | B17: Yilan County | C17: 0 | D17: 0 | E17: 0 | F17: 0 | G17: 0 | H17: 0 | I17: 0 | J17: 0 | K17: 0 | L17: 0 | M17: 0 | N17: 0 | O17: 0 | P17: 0 | Q17: 0 | R17: 0 | S17: 0 | T17: 0 | U17: 0 | V17: 0 | W17: 0 | X17: 0 | Y17: 0 | Z17: 0 | AA17: 0 | AB17: 0 | AC17: 0 | AD17: 0 | AE17: 0 | AF17: 0 | AG17: 0 | AH17: 0 | AI17: 0
A18: 桃園縣 | B18: Taoyuan County | C18: 12 | D18: 0 | E18: 12 | F18: 0 | G18: 11 | H18: 0 | I18: 1 | J18: 0 | K18: 0 | L18: 0 | M18: 0 | N18: 12 | O18: 0 | P18: 7 | Q18: 5 | R18: 19 | S18: 2 | T18: 17 | U18: 14 | V18: 2 | W18: 12 | X18: 21 | Y18: 2 | Z18: 19 | AA18: 14 | AB18: 2 | AC18: 12 | AD18: 9 | AE18: 0 | AF18: 9 | AG18: 5 | AH18: 0 | AI18: 5
A19: 新竹縣 | B19: Hsinchu County | C19: 13 | D19: 1 | E19: 12 | F19: 1 | G19: 7 | H19: 0 | I19: 5 | J19: 0 | K19: 0 | L19: 0 | M19: 0 | N19: 13 | O19: 0 | P19: 6 | Q19: 7 | R19: 2 | S19: 1 | T19: 1 | U19: 13 | V19: 1 | W19: 12 | X19: 2 | Y19: 1 | Z19: 1 | AA19: 2 | AB19: 1 | AC19: 1 | AD19: 1 | AE19: 0 | AF19: 1 | AG19: 4 | AH19: 0 | AI19: 4
A20: 苗栗縣 | B20: Miaoli County | C20: 1 | D20: 0 | E20: 1 | F20: 0 | G20: 1 | H20: 0 | I20: 0 | J20: 0 | K20: 0 | L20: 0 | M20: 0 | N20: 1 | O20: 0 | P20: 0 | Q20: 1 | R20: 1 | S20: 0 | T20: 1 | U20: 1 | V20: 0 | W20: 1 | X20: 1 | Y20: 0 | Z20: 1 | AA20: 1 | AB20: 0 | AC20: 1 | AD20: 2 | AE20: 0 | AF20: 2 | AG20: 0 | AH20: 0 | AI20: 0
