Workbook

Sheet 歷年
A1: 1.5-01 托育機構概況
A2: 民國92-104年底
A3: 單位：所；人
A4: 年底別 | B4: 托兒所 | R4: 課後托育中心
B5: 所數 | F5: 保育(含助理)人員數 | I5: 收托兒童人數 | R5: 私立 所數 | S5: 保育(含助理)人員數 | V5: 課後收托服務 (在學兒童)人數
J6: 按性別 | L6: 按類型 | O6: 按年齡
B7: 合計 | C7: 公立 | D7: 私立 | E7: 社區 | F7: 合計 | G7: 男 | H7: 女 | I7: 總人數 | J7: 男 | K7: 女 | L7: 公立 | M7: 私立 | N7: 社區 | O7: 未滿 2歲 | P7: 2-未 滿5歲 | Q7: 5歲 以上 | S7: 合計 | T7: 男 | U7: 女 | V7: 合計 | W7: 男 | X7: 女
A8: 89年, 2000 | B8: 3345 | C8: 295 | D8: 2955 | E8: 95 | F8: 21941 | G8: … | H8: … | I8: 309716 | J8: … | K8: … | L8: 99196 | M8: 202973 | N8: 7547 | O8: … | P8: … | Q8: … | R8: … | S8: … | T8: … | U8: … | V8: … | W8: … | X8: …
A9: 90年, 2001 | B9: 3600 | C9: 297 | D9: 3216 | E9: 87 | F9: 21395 | G9: … | H9: … | I9: 318918 | J9: … | K9: … | L9: 97838 | M9: 213850 | N9: 7230 | O9: … | P9: … | Q9: … | R9: … | S9: … | T9: … | U9: … | V9: … | W9: … | X9: …
A10: 91年, 2002 | B10: 3897 | C10: 296 | D10: 3505 | E10: 96 | F10: 22044 | G10: … | H10: … | I10: 327125 | J10: … | K10: … | L10: 94960 | M10: 224557 | N10: 7608 | O10: … | P10: … | Q10: … | R10: … | S10: … | T10: … | U10: … | V10: … | W10: … | X10: …
A11: 92年, 2003 | B11: 4082 | C11: 291 | D11: 3705 | E11: 86 | F11: 22449 | G11: 296 | H11: 22153 | I11: 302571 | J11: 157417 | K11: 145154 | L11: 81721 | M11: 216374 | N11: 4476 | O11: 9983 | P11: 135124 | Q11: 157464 | R11: 1036 | S11: 1927 | T11: 58 | U11: 1869 | V11: 35276 | W11: 18938 | X11: 16338
A12: 93年, 2004 | B12: 4257 | C12: 288 | D12: 3896 | E12: 73 | F12: 22872 | G12: 378 | H12: 22494 | I12: 300257 | J12: 158239 | K12: 142018 | L12: 83156 | M12: 212229 | N12: 4872 | O12: 7117 | P12: 152276 | Q12: 140864 | R12: 1083 | S12: 1881 | T12: 72 | U12: 1809 | V12: 30686 | W12: 16527 | X12: 14159
A13: 94年, 2005 | B13: 4307 | C13: 280 | D13: 3960 | E13: 67 | F13: 22986 | G13: 391 | H13: 22595 | I13: 290218 | J13: 153163 | K13: 137055 | L13: 76393 | M13: 209375 | N13: 4450 | O13: 9953 | P13: 142337 | Q13: 137928 | R13: 1150 | S13: 1878 | T13: 71 | U13: 1807 | V13: 29828 | W13: 16298 | X13: 13530
B15: 一、所數與收托人數 | W15: 1.一般身分 | AL15: 2.原住民身分 | BA15: 二、外籍配偶子女人數 | BP15: 三、專業人員人數
A16: 年底別 | B16: 所數 | H16: 人數-總計 | W16: 人數-一般身分 | AL16: 人數-原住民身分 | BA16: 托嬰中心 | BD16: 課後托育中心 | BP16: 保母 | CC16: 教保(含助理)人員
B17: 托嬰 中心 | C17: 托兒所 | G17: 課後托育中心 | H17: 收托兒童人數(學齡前) | T17: 國小學童課後① 收托服務人數 | W17: 收托兒童人數(學齡前) | AI17: 國小學童課後收托服務人數 | AL17: 收托兒童人數(學齡前) | AX17: 國小學童課後收托服務人數 | BA17: 人數 | BD17: 按性別與年齡分 | BP17: 合計 | BS17: 托嬰中心 | BU17: 托兒所 | BW17: 課後托 育中心 | BY17: 公私立別 | CC17: 合計 | CF17: 托嬰中心 | CH17: 托兒所 | CJ17: 課後托 育中心 | CL17: 公私立別
H18: 按類別分 | L18: 按性別與年齡分 | W18: 按類別分 | AA18: 按性別與年齡分 | AL18: 按類別分 | AP18: 按性別與年齡分
B19: 私立 所數 | C19: 合計 | D19: 公立 | E19: 私立 | F19: 社區 | G19: 私立 | H19: 合計 | I19: 公立 | J19: 私立 | K19: 社區 | L19: 合計 | N19: 0-未滿2歲 | P19: 2-未滿5歲 | R19: 5歲以上 | T19: 按性別分 | W19: 合計 | X19: 公立 | Y19: 私立 | Z19: 社區 | AA19: 合計 | AC19: 0-未滿2歲 | AE19: 2-未滿5歲 | AG19: 5歲以上 | AI19: 按性別分 | AL19: 合計 | AM19: 公立 | AN19: 私立 | AO19: 社區 | AP19: 合計 | AR19: 0-未滿2歲 | AT19: 2-未滿5歲 | AV19: 5歲以上 | AX19: 按性別分 | BD19: 合計 | BG19: 0-未滿2歲 | BJ19: 2-未滿5歲 | BM19: 5歲以上 | BP19: 計 | BQ19: 男 | BR19: 女 | BS19: 男 | BT19: 女 | BU19: 男 | BV19: 女 | BW19: 男 | BX19: 女 | BY19: 計 | BZ19: 公立 | CA19: 私立 | CB19: 社區 | CC19: 計 | CD19: 男 | CE19: 女 | CF19: 男 | CG19: 女 | CH19: 男 | CI19: 女 | CJ19: 男 | CK19: 女 | CL19: 計 | CM19: 公立 | CN19: 私立 | CO19: 社區
L20: 男 | M20: 女 | N20: 男 | O20: 女 | P20: 男 | Q20: 女 | R20: 男 | S20: 女 | T20: 合計 | U20: 男 | V20: 女 | AA20: 男 | AB20: 女 | AC20: 男 | AD20: 女 | AE20: 男 | AF20: 女 | AG20: 男 | AH20: 女 | AI20: 合計 | AJ20: 男 | AK20: 女 | AP20: 男 | AQ20: 女 | AR20: 男 | AS20: 女 | AT20: 男 | AU20: 女 | AV20: 男 | AW20: 女 | AX20: 合計 | AY20: 男 | AZ20: 女 | BA20: 合計 | BB20: 男 | BC20: 女 | BD20: 合計 | BE20: 男 | BF20: 女 | BG20: 合計 | BH20: 男 | BI20: 女 | BJ20: 合計 | BK20: 男 | BL20: 女 | BM20: 合計 | BN20: 男 | BO20: 女
A21: 95年,2006 | B21: ='95'!B9 -> 111 | C21: ='95'!C9 -> 4213 | D21: ='95'!D9 -> 278 | E21: ='95'!E9 -> 3872 | F21: ='95'!F9 -> 63 | G21: ='95'!G9 -> 1108 | H21: ='95'!H9 -> 267855 | I21: ='95'!I9 -> 70511 | ... BV21: ='95'!BV9 -> 521 | BW21: 0 | BX21: 0 | BY21: ='95'!BW9 -> 656 | BZ21: ='95'!BX9 -> 142 | CA21: ='95'!BY9 -> 507 | CB21: ='95'!BZ9 -> 7 | CC21: ='95'!CA9 -> 25222 | CD21: ='95'!CB9 -> 392 | CE21: ='95'!CC9 -> 24830 | CF21: ='95'!CD9 -> 4 | ... CO21: ='95'!CM9 -> 204
A22: 96年,2007 | B22: ='96'!B9 -> 106 | C22: ='96'!C9 -> 4112 | D22: ='96'!D9 -> 276 | E22: ='96'!E9 -> 3790 | F22: ='96'!F9 -> 46 | G22: ='96'!G9 -> 984 | H22: ='96'!H9 -> 254206 | I22: ='96'!I9 -> 65938 | ... CO22: ='96'!CO9 -> 197
A23: 97年,2008 | B23: ='97'!B9 -> 121 | C23: ='97'!C9 -> 4008 | D23: ='97'!D9 -> 276 | E23: ='97'!E9 -> 3696 | F23: ='97'!F9 -> 36 | G23: ='97'!G9 -> 963 | H23: ='97'!H9 -> 238220 | I23: ='97'!I9 -> 60621 | ... CO23: ='97'!CO9 -> 168
A24: 98年,2009 | B24: ='98'!B9 -> 164 | C24: ='98'!C9 -> 3887 | D24: ='98'!D9 -> 276 | E24: ='98'!E9 -> 3576 | F24: ='98'!F9 -> 35 | G24: ='98'!G9 -> 897 | H24: ='98'!H9 -> 240172 | I24: ='98'!I9 -> 60969 | ... CO24: ='98'!CO9 -> 166
A25: 99年,2010 | B25: ='99'!B9 -> 169 | C25: ='99'!C9 -> 3825 | D25: ='99'!D9 -> 275 | E25: ='99'!E9 -> 3538 | F25: ='99'!F9 -> 12 | G25: ='99'!G9 -> 824 | H25: ='99'!H9 -> 236942 | I25: ='99'!I9 -> 57903 | ... CO25: ='99'!CO9 -> 106
A26: 100年,2011 | B26: ='100'!B9 -> 185 | C26: ='100'!C9 -> 3681 | D26: ='100'!D9 -> 271 | E26: ='100'!E9 -> 3402 | F26: ='100'!F9 -> 8 | G26: ='100'!G9 -> 846 | H26: ='100'!H9 -> 245486 | I26: ='100'!I9 -> 55835 | ... CO26: ='100'!CO9 -> 105
A27: 101年,2012 | B27: ='101'!B9 -> 402 | C27: ='101'!C9 -> 0 | D27: ='101'!D9 -> 0 | E27: ='101'!E9 -> 0 | F27: ='101'!F9 -> 0 | G27: ='101'!G9 -> 687 | H27: ='101'!H9 -> 6861 | I27: ='101'!I9 -> 0 | ... CO27: ='101'!CO9 -> 0
A28: 102年,2013 | B28: ='102'!B9 -> 553 | C28: ='102'!C9 -> 0 | D28: ='102'!D9 -> 0 | E28: ='102'!E9 -> 0 | F28: ='102'!F9 -> 0 | G28: ='102'!G9 -> 22 | H28: ='102'!H9 -> 11362 | I28: ='102'!I9 -> 0 | ... CO28: ='102'!CO9 -> 0
A29: 附註：①自101年1月1日起為幼托整合改制期間，截至102年12月底止，「托兒所」已全數改制為「幼兒園」，由教育部主管，本表「課後托育中心」係指仍由地方政府社會局(處)管理，且尚未改制為「兒童課後照顧服務中心」者。
A31: 1.5 托嬰中心概況
A32: 104-114年
B33: 一、所數與收托人數 | R33: 1.一般身分 | AD33: 2.原住民身分 | AP33: 二、外籍配偶子女人數 | BB33: 三、專業人員人數
A34: 年底別 | B34: 所數 | F34: 人數-按性別與年齡分 | R34: 人數-按性別與年齡分 | AD34: 人數-按性別與年齡分 | AP34: 人數-按性別與年齡分 | BB34: 總計 | BE34: 主管人員(主任) | BH34: 托育人員 | BK34: 教保人員 | BN34: 助理教保人員
B35: 總計 | C35: 公立 | D35: 私立 | E35: 公辦民營 | F35: 總計 | I35: 未滿1歲 | L35: 1-未滿2歲 | O35: 2-未滿3歲 | R35: 總計 | U35: 未滿1歲 | X35: 1-未滿2歲 | AA35: 2-未滿3歲 | AD35: 總計 | AG35: 未滿1歲 | AJ35: 1-未滿2歲 | AM35: 2-未滿3歲 | AP35: 總計 | AS35: 未滿1歲 | AV35: 1-未滿2歲 | AY35: 2-未滿3歲
F36: 計 | G36: 男 | H36: 女 | I36: 計 | J36: 男 | K36: 女 | L36: 計 | M36: 男 | N36: 女 | O36: 計 | P36: 男 | Q36: 女 | R36: 計 | S36: 男 | T36: 女 | U36: 計 | V36: 男 | W36: 女 | X36: 計 | Y36: 男 | Z36: 女 | AA36: 計 | AB36: 男 | AC36: 女 | AD36: 計 | AE36: 男 | AF36: 女 | AG36: 計 | AH36: 男 | AI36: 女 | AJ36: 計 | AK36: 男 | AL36: 女 | AM36: 計 | AN36: 男 | AO36: 女 | AP36: 計 | AQ36: 男 | AR36: 女 | AS36: 計 | AT36: 男 | AU36: 女 | AV36: 計 | AW36: 男 | AX36: 女 | AY36: 計 | AZ36: 男 | BA36: 女 | BB36: 計 | BC36: 男 | BD36: 女 | BE36: 計 | BF36: 男 | BG36: 女 | BH36: 計 | BI36: 男 | BJ36: 女 | BK36: 計 | BL36: 男 | BM36: 女 | BN36: 計 | BO36: 男 | BP36: 女
A37: 104年,2015 | B37: 735 | C37: 0 | D37: 643 | E37: 92 | F37: 17246 | G37: 8982 | H37: 8264 | I37: 4985 | J37: 2563 | K37: 2422 | L37: 8515 | M37: 4466 | N37: 4049 | O37: 3746 | P37: 1953 | Q37: 1793 | R37: 16749 | S37: 8719 | T37: 8030 | U37: 4875 | V37: 2511 | W37: 2364 | X37: 8232 | Y37: 4309 | Z37: 3923 | AA37: 3642 | AB37: 1899 | AC37: 1743 | AD37: 213 | AE37: 111 | AF37: 102 | AG37: 43 | AH37: 19 | AI37: 24 | AJ37: 125 | AK37: 68 | AL37: 57 | AM37: 45 | AN37: 24 | AO37: 21 | AP37: 284 | AQ37: 152 | AR37: 132 | AS37: 67 | AT37: 33 | AU37: 34 | AV37: 158 | AW37: 89 | AX37: 69 | AY37: 59 | AZ37: 30 | BA37: 29 | BB37: 5033 | BC37: 71 | BD37: 4962 | BE37: 728 | BF37: 23 | BG37: 705 | BH37: 4210 | BI37: 46 | BJ37: 4164 | BK37: 73 | BL37: 2 | BM37: 71 | BN37: 22 | BO37: 0 | BP37: 22
A38: 105年,2016 | B38: 808 | C38: 0 | D38: 710 | E38: 98 | F38: 19750 | G38: 10271 | H38: 9479 | I38: 5529 | J38: 2837 | K38: 2692 | L38: 9788 | M38: 5121 | N38: 4667 | O38: 4433 | P38: 2313 | Q38: 2120 | R38: 19236 | S38: 9997 | T38: 9239 | U38: 5397 | V38: 2770 | W38: 2627 | X38: 9524 | Y38: 4979 | Z38: 4545 | AA38: 4315 | AB38: 2248 | AC38: 2067 | AD38: 214 | AE38: 119 | AF38: 95 | AG38: 58 | AH38: 31 | AI38: 27 | AJ38: 122 | AK38: 71 | AL38: 51 | AM38: 34 | AN38: 17 | AO38: 17 | AP38: 300 | AQ38: 155 | AR38: 145 | AS38: 74 | AT38: 36 | AU38: 38 | AV38: 142 | AW38: 71 | AX38: 71 | AY38: 84 | AZ38: 48 | BA38: 36 | BB38: 5725 | BC38: 92 | BD38: 5633 | BE38: 801 | BF38: 34 | BG38: 767 | BH38: 4821 | BI38: 56 | BJ38: 4765 | BK38: 85 | BL38: 2 | BM38: 83 | BN38: 18 | BO38: 0 | BP38: 18
A39: 106年,2017 | B39: 907 | C39: 0 | D39: 784 | E39: 123 | F39: 23066 | G39: 12081 | H39: 10985 | I39: 6009 | J39: 3119 | K39: 2890 | L39: 11573 | M39: 6031 | N39: 5542 | O39: 5484 | P39: 2931 | Q39: 2553 | R39: 22373 | S39: 11715 | T39: 10658 | U39: 5847 | V39: 3042 | W39: 2805 | X39: 11199 | Y39: 5822 | Z39: 5377 | AA39: 5327 | AB39: 2851 | AC39: 2476 | AD39: 362 | AE39: 195 | AF39: 167 | AG39: 92 | AH39: 42 | AI39: 50 | AJ39: 202 | AK39: 111 | AL39: 91 | AM39: 68 | AN39: 42 | AO39: 26 | AP39: 331 | AQ39: 171 | AR39: 160 | AS39: 70 | AT39: 35 | AU39: 35 | AV39: 172 | AW39: 98 | AX39: 74 | AY39: 89 | AZ39: 38 | BA39: 51 | BB39: 6507 | BC39: 97 | BD39: 6410 | BE39: 894 | BF39: 34 | BG39: 860 | BH39: 5554 | BI39: 63 | BJ39: 5491 | BK39: 45 | BL39: 0 | BM39: 45 | BN39: 14 | BO39: 0 | BP39: 14
B41: 一、所數與收托人數 | AP41: 1.一般身分 | BB41: 2.原住民身分 | BN41: 二、外籍配偶子女人數 | BZ41: 三、專業人員人數
A42: 區域別 | B42: 所數 | F42: 收托人數 ─按性別與年齡分 | AP42: 收托人數─按性別與年齡分 | BB42: 收托人數─按性別與年齡分 | BN42: 收托人數─按性別與年齡分 | BZ42: 總計 | CC42: 主管人員(主任) | CF42: 托育人員 | CI42: 教保人員 | CL42: 助理教保人員 | CO42: 護理人員
F43: 總計 | R43: 私立 | AD43: 公辦民營
...

Sheet 114
A1: 1.5 托嬰中心概況
A2: 114年底, End of 2024
A3: 一、所數與收托人數 | AP3: 1.一般身分 | BB3: 2.原住民身分 | BN3: 二、新住民子女人數 | BZ3: 三、專業人員人數
A4: 區域別 | B4: 所數 | F4: 收托人數 ─按性別與年齡分 | AP4: 收托人數─按性別與年齡分 | BB4: 收托人數─按性別與年齡分 | BN4: 收托人數─按性別與年齡分 | BZ4: 總計 | CC4: 主管人員(主任) | CF4: 托育人員 | CI4: 護理人員
F5: 總計 | R5: 私立 | AD5: 公辦民營
B6: 總計 | C6: 公立 | D6: 私立 | E6: 公辦民營 | F6: 合計 | I6: 未滿1歲 | L6: 1-未滿2歲 | O6: 2-未滿3歲 | R6: 合計 | U6: 未滿1歲 | X6: 1-未滿2歲 | AA6: 2-未滿3歲 | AD6: 合計 | AG6: 未滿1歲 | AJ6: 1-未滿2歲 | AM6: 2-未滿3歲 | AP6: 總計 | AS6: 未滿1歲 | AV6: 1-未滿2歲 | AY6: 2-未滿3歲 | BB6: 總計 | BE6: 未滿1歲 | BH6: 1-未滿2歲 | BK6: 2-未滿3歲 | BN6: 總計 | BQ6: 未滿1歲 | BT6: 1-未滿2歲 | BW6: 2-未滿3歲
F7: 計 | G7: 男 | H7: 女 | I7: 計 | J7: 男 | K7: 女 | L7: 計 | M7: 男 | N7: 女 | O7: 計 | P7: 男 | Q7: 女 | R7: 計 | S7: 男 | T7: 女 | U7: 計 | V7: 男 | W7: 女 | X7: 計 | Y7: 男 | Z7: 女 | AA7: 計 | AB7: 男 | AC7: 女 | AD7: 計 | AE7: 男 | AF7: 女 | AG7: 計 | AH7: 男 | AI7: 女 | AJ7: 計 | AK7: 男 | AL7: 女 | AM7: 計 | AN7: 男 | AO7: 女 | AP7: 計 | AQ7: 男 | AR7: 女 | AS7: 計 | AT7: 男 | AU7: 女 | AV7: 計 | AW7: 男 | AX7: 女 | AY7: 計 | AZ7: 男 | BA7: 女 | BB7: 計 | BC7: 男 | BD7: 女 | BE7: 計 | BF7: 男 | BG7: 女 | BH7: 計 | BI7: 男 | BJ7: 女 | BK7: 計 | BL7: 男 | BM7: 女 | BN7: 計 | BO7: 男 | BP7: 女 | BQ7: 計 | BR7: 男 | BS7: 女 | BT7: 計 | BU7: 男 | BV7: 女 | BW7: 計 | BX7: 男 | BY7: 女 | BZ7: 計 | CA7: 男 | CB7: 女 | CC7: 計 | CD7: 男 | CE7: 女 | CF7: 計 | CG7: 男 | CH7: 女 | CI7: 計 | CJ7: 男 | CK7: 女
A8: 總 計 | B8: 1904 | C8: 0 | D8: 1374 | E8: 530 | F8: 61383 | G8: 32107 | H8: 29276 | I8: 14209 | J8: 7491 | K8: 6718 | L8: 33200 | M8: 17311 | N8: 15889 | O8: 13974 | P8: 7305 | Q8: 6669 | R8: 44495 | S8: 23172 | T8: 21323 | U8: 11356 | V8: 5984 | W8: 5372 | X8: 23633 | Y8: 12249 | Z8: 11384 | AA8: 9506 | AB8: 4939 | AC8: 4567 | AD8: 16888 | AE8: 8935 | AF8: 7953 | AG8: 2853 | AH8: 1507 | AI8: 1346 | AJ8: 9567 | AK8: 5062 | AL8: 4505 | AM8: 4468 | AN8: 2366 | AO8: 2102 | AP8: 58234 | AQ8: 30450 | AR8: 27784 | AS8: 13582 | AT8: 7145 | AU8: 6437 | AV8: 31425 | AW8: 16370 | AX8: 15055 | AY8: 13227 | AZ8: 6935 | BA8: 6292 | BB8: 2048 | BC8: 1090 | BD8: 958 | BE8: 418 | BF8: 238 | BG8: 180 | BH8: 1176 | BI8: 628 | BJ8: 548 | BK8: 454 | BL8: 224 | BM8: 230 | BN8: 1101 | BO8: 567 | BP8: 534 | BQ8: 209 | BR8: 108 | BS8: 101 | BT8: 599 | BU8: 313 | BV8: 286 | BW8: 293 | BX8: 146 | BY8: 147 | BZ8: 19109 | CA8: 259 | CB8: 18850 | CC8: 1886 | CD8: 64 | CE8: 1822 | CF8: 16917 | CG8: 195 | CH8: 16722 | CI8: 306 | CJ8: 0 | CK8: 306
A9: 新北市 | B9: 383 | C9: 0 | D9: 257 | E9: 126 | F9: 14519 | G9: 7564 | H9: 6955 | I9: 2939 | J9: 1541 | K9: 1398 | L9: 7185 | M9: 3682 | N9: 3503 | O9: 4395 | P9: 2341 | Q9: 2054 | R9: 8223 | S9: 4281 | T9: 3942 | U9: 1942 | V9: 1021 | W9: 921 | X9: 4029 | Y9: 2059 | Z9: 1970 | AA9: 2252 | AB9: 1201 | AC9: 1051 | AD9: 6296 | AE9: 3283 | AF9: 3013 | AG9: 997 | AH9: 520 | AI9: 477 | AJ9: 3156 | AK9: 1623 | AL9: 1533 | AM9: 2143 | AN9: 1140 | AO9: 1003 | AP9: 13874 | AQ9: 7220 | AR9: 6654 | AS9: 2825 | AT9: 1473 | AU9: 1352 | AV9: 6862 | AW9: 3512 | AX9: 3350 | AY9: 4187 | AZ9: 2235 | BA9: 1952 | BB9: 376 | BC9: 204 | BD9: 172 | BE9: 70 | BF9: 43 | BG9: 27 | BH9: 191 | BI9: 102 | BJ9: 89 | BK9: 115 | BL9: 59 | BM9: 56 | BN9: 269 | BO9: 140 | BP9: 129 | BQ9: 44 | BR9: 25 | BS9: 19 | BT9: 132 | BU9: 68 | BV9: 64 | BW9: 93 | BX9: 47 | BY9: 46 | BZ9: 4625 | CA9: 58 | CB9: 4567 | CC9: 375 | CD9: 19 | CE9: 356 | CF9: 4123 | CG9: 39 | CH9: 4084 | CI9: 127 | CJ9: 0 | CK9: 127
A10: 臺北市 | B10: 314 | C10: 0 | D10: 221 | E10: 93 | F10: 7465 | G10: 3851 | H10: 3614 | I10: 1710 | J10: 890 | K10: 820 | L10: 4072 | M10: 2130 | N10: 1942 | O10: 1683 | P10: 831 | Q10: 852 | R10: 5442 | S10: 2782 | T10: 2660 | U10: 1359 | V10: 715 | W10: 644 | X10: 2844 | Y10: 1466 | Z10: 1378 | AA10: 1239 | AB10: 601 | AC10: 638 | AD10: 2023 | AE10: 1069 | AF10: 954 | AG10: 351 | AH10: 175 | AI10: 176 | AJ10: 1228 | AK10: 664 | AL10: 564 | AM10: 444 | AN10: 230 | AO10: 214 | AP10: 7061 | AQ10: 3628 | AR10: 3433 | AS10: 1636 | AT10: 843 | AU10: 793 | AV10: 3848 | AW10: 2005 | AX10: 1843 | AY10: 1577 | AZ10: 780 | BA10: 797 | BB10: 138 | BC10: 75 | BD10: 63 | BE10: 21 | BF10: 14 | BG10: 7 | BH10: 87 | BI10: 49 | BJ10: 38 | BK10: 30 | BL10: 12 | BM10: 18 | BN10: 266 | BO10: 148 | BP10: 118 | BQ10: 53 | BR10: 33 | BS10: 20 | BT10: 137 | BU10: 76 | BV10: 61 | BW10: 76 | BX10: 39 | BY10: 37 | BZ10: 2334 | CA10: 21 | CB10: 2313 | CC10: 313 | CD10: 5 | CE10: 308 | CF10: 1987 | CG10: 16 | CH10: 1971 | CI10: 34 | CJ10: 0 | CK10: 34
A11: 桃園市 | B11: 222 | C11: 0 | D11: 165 | E11: 57 | F11: 7391 | G11: 3900 | H11: 3491 | I11: 1704 | J11: 896 | K11: 808 | L11: 3940 | M11: 2080 | N11: 1860 | O11: 1747 | P11: 924 | Q11: 823 | R11: 5603 | S11: 2942 | T11: 2661 | U11: 1372 | V11: 724 | W11: 648 | X11: 2993 | Y11: 1560 | Z11: 1433 | AA11: 1238 | AB11: 658 | AC11: 580 | AD11: 1788 | AE11: 958 | AF11: 830 | AG11: 332 | AH11: 172 | AI11: 160 | AJ11: 947 | AK11: 520 | AL11: 427 | AM11: 509 | AN11: 266 | AO11: 243 | AP11: 6843 | AQ11: 3616 | AR11: 3227 | AS11: 1586 | AT11: 829 | AU11: 757 | AV11: 3651 | AW11: 1930 | AX11: 1721 | AY11: 1606 | AZ11: 857 | BA11: 749 | BB11: 447 | BC11: 241 | BD11: 206 | BE11: 100 | BF11: 61 | BG11: 39 | BH11: 234 | BI11: 126 | BJ11: 108 | BK11: 113 | BL11: 54 | BM11: 59 | BN11: 101 | BO11: 43 | BP11: 58 | BQ11: 18 | BR11: 6 | BS11: 12 | BT11: 55 | BU11: 24 | BV11: 31 | BW11: 28 | BX11: 13 | BY11: 15 | BZ11: 2323 | CA11: 28 | CB11: 2295 | CC11: 220 | CD11: 2 | CE11: 218 | CF11: 2071 | CG11: 26 | CH11: 2045 | CI11: 32 | CJ11: 0 | CK11: 32
A12: 臺中市 | B12: 246 | C12: 0 | D12: 198 | E12: 48 | F12: 8747 | G12: 4558 | H12: 4189 | I12: 2175 | J12: 1137 | K12: 1038 | L12: 4681 | M12: 2424 | N12: 2257 | O12: 1891 | P12: 997 | Q12: 894 | R12: 7390 | S12: 3836 | T12: 3554 | U12: 2008 | V12: 1048 | W12: 960 | X12: 3848 | Y12: 1979 | Z12: 1869 | AA12: 1534 | AB12: 809 | AC12: 725 | AD12: 1357 | AE12: 722 | AF12: 635 | AG12: 167 | AH12: 89 | AI12: 78 | AJ12: 833 | AK12: 445 | AL12: 388 | AM12: 357 | AN12: 188 | AO12: 169 | AP12: 8370 | AQ12: 4371 | AR12: 3999 | AS12: 2091 | AT12: 1095 | AU12: 996 | AV12: 4467 | AW12: 2318 | AX12: 2149 | AY12: 1812 | AZ12: 958 | BA12: 854 | BB12: 261 | BC12: 128 | BD12: 133 | BE12: 64 | BF12: 29 | BG12: 35 | BH12: 157 | BI12: 79 | BJ12: 78 | BK12: 40 | BL12: 20 | BM12: 20 | BN12: 116 | BO12: 59 | BP12: 57 | BQ12: 20 | BR12: 13 | BS12: 7 | BT12: 57 | BU12: 27 | BV12: 30 | BW12: 39 | BX12: 19 | BY12: 20 | BZ12: 2595 | CA12: 48 | CB12: 2547 | CC12: 249 | CD12: 8 | CE12: 241 | CF12: 2342 | CG12: 40 | CH12: 2302 | CI12: 4 | CJ12: 0 | CK12: 4
A13: 臺南市 | B13: 156 | C13: 0 | D13: 139 | E13: 17 | F13: 4824 | G13: 2520 | H13: 2304 | I13: 1230 | J13: 647 | K13: 583 | L13: 2826 | M13: 1484 | N13: 1342 | O13: 768 | P13: 389 | Q13: 379 | R13: 4524 | S13: 2368 | T13: 2156 | U13: 1191 | V13: 630 | W13: 561 | X13: 2627 | Y13: 1376 | Z13: 1251 | AA13: 706 | AB13: 362 | AC13: 344 | AD13: 300 | AE13: 152 | AF13: 148 | AG13: 39 | AH13: 17 | AI13: 22 | AJ13: 199 | AK13: 108 | AL13: 91 | AM13: 62 | AN13: 27 | AO13: 35 | AP13: 4718 | AQ13: 2462 | AR13: 2256 | AS13: 1205 | AT13: 632 | AU13: 573 | AV13: 2757 | AW13: 1444 | AX13: 1313 | AY13: 756 | AZ13: 386 | BA13: 370 | BB13: 58 | BC13: 34 | BD13: 24 | BE13: 17 | BF13: 11 | BG13: 6 | BH13: 34 | BI13: 22 | BJ13: 12 | BK13: 7 | BL13: 1 | BM13: 6 | BN13: 48 | BO13: 24 | BP13: 24 | BQ13: 8 | BR13: 4 | BS13: 4 | BT13: 35 | BU13: 18 | BV13: 17 | BW13: 5 | BX13: 2 | BY13: 3 | BZ13: 1497 | CA13: 24 | CB13: 1473 | CC13: 156 | CD13: 3 | CE13: 153 | CF13: 1337 | CG13: 21 | CH13: 1316 | CI13: 4 | CJ13: 0 | CK13: 4
A14: 高雄市 | B14: 144 | C14: 0 | D14: 77 | E14: 67 | F14: 5016 | G14: 2687 | H14: 2329 | I14: 1202 | J14: 654 | K14: 548 | L14: 3007 | M14: 1614 | N14: 1393 | O14: 807 | P14: 419 | Q14: 388 | R14: 2875 | S14: 1554 | T14: 1321 | U14: 776 | V14: 433 | W14: 343 | X14: 1669 | Y14: 899 | Z14: 770 | AA14: 430 | AB14: 222 | AC14: 208 | AD14: 2141 | AE14: 1133 | AF14: 1008 | AG14: 426 | AH14: 221 | AI14: 205 | AJ14: 1338 | AK14: 715 | AL14: 623 | AM14: 377 | AN14: 197 | AO14: 180 | AP14: 4698 | AQ14: 2523 | AR14: 2175 | AS14: 1140 | AT14: 628 | AU14: 512 | AV14: 2799 | AW14: 1499 | AX14: 1300 | AY14: 759 | AZ14: 396 | BA14: 363 | BB14: 196 | BC14: 104 | BD14: 92 | BE14: 38 | BF14: 18 | BG14: 20 | BH14: 129 | BI14: 73 | BJ14: 56 | BK14: 29 | BL14: 13 | BM14: 16 | BN14: 122 | BO14: 60 | BP14: 62 | BQ14: 24 | BR14: 8 | BS14: 16 | BT14: 79 | BU14: 42 | BV14: 37 | BW14: 19 | BX14: 10 | BY14: 9 | BZ14: 1577 | CA14: 21 | CB14: 1556 | CC14: 142 | CD14: 4 | CE14: 138 | CF14: 1380 | CG14: 17 | CH14: 1363 | CI14: 55 | CJ14: 0 | CK14: 55
A15: 宜蘭縣 | B15: 31 | C15: 0 | D15: 12 | E15: 19 | F15: 931 | G15: 486 | H15: 445 | I15: 205 | J15: 104 | K15: 101 | L15: 574 | M15: 299 | N15: 275 | O15: 152 | P15: 83 | Q15: 69 | R15: 401 | S15: 213 | T15: 188 | U15: 128 | V15: 69 | W15: 59 | X15: 228 | Y15: 118 | Z15: 110 | AA15: 45 | AB15: 26 | AC15: 19 | AD15: 530 | AE15: 273 | AF15: 257 | AG15: 77 | AH15: 35 | AI15: 42 | AJ15: 346 | AK15: 181 | AL15: 165 | AM15: 107 | AN15: 57 | AO15: 50 | AP15: 852 | AQ15: 438 | AR15: 414 | AS15: 188 | AT15: 93 | AU15: 95 | AV15: 523 | AW15: 268 | AX15: 255 | AY15: 141 | AZ15: 77 | BA15: 64 | BB15: 59 | BC15: 33 | BD15: 26 | BE15: 12 | BF15: 7 | BG15: 5 | BH15: 39 | BI15: 22 | BJ15: 17 | BK15: 8 | BL15: 4 | BM15: 4 | BN15: 20 | BO15: 15 | BP15: 5 | BQ15: 5 | BR15: 4 | BS15: 1 | BT15: 12 | BU15: 9 | BV15: 3 | BW15: 3 | BX15: 2 | BY15: 1 | BZ15: 308 | CA15: 4 | CB15: 304 | CC15: 29 | CD15: 2 | CE15: 27 | CF15: 260 | CG15: 2 | CH15: 258 | CI15: 19 | CJ15: 0 | CK15: 19
A16: 新竹縣 | B16: 95 | C16: 0 | D16: 86 | E16: 9 | F16: 2718 | G16: 1437 | H16: 1281 | I16: 662 | J16: 352 | K16: 310 | L16: 1414 | M16: 752 | N16: 662 | O16: 642 | P16: 333 | Q16: 309 | R16: 2524 | S16: 1325 | T16: 1199 | U16: 626 | V16: 328 | W16: 298 | X16: 1300 | Y16: 689 | Z16: 611 | AA16: 598 | AB16: 308 | AC16: 290 | AD16: 194 | AE16: 112 | AF16: 82 | AG16: 36 | AH16: 24 | AI16: 12 | AJ16: 114 | AK16: 63 | AL16: 51 | AM16: 44 | AN16: 25 | AO16: 19 | AP16: 2617 | AQ16: 1383 | AR16: 1234 | AS16: 634 | AT16: 335 | AU16: 299 | AV16: 1367 | AW16: 729 | AX16: 638 | AY16: 616 | AZ16: 319 | BA16: 297 | BB16: 71 | BC16: 40 | BD16: 31 | BE16: 19 | BF16: 13 | BG16: 6 | BH16: 35 | BI16: 17 | BJ16: 18 | BK16: 17 | BL16: 10 | BM16: 7 | BN16: 30 | BO16: 14 | BP16: 16 | BQ16: 9 | BR16: 4 | BS16: 5 | BT16: 12 | BU16: 6 | BV16: 6 | BW16: 9 | BX16: 4 | BY16: 5 | BZ16: 849 | CA16: 13 | CB16: 836 | CC16: 92 | CD16: 3 | CE16: 89 | CF16: 752 | CG16: 10 | CH16: 742 | CI16: 5 | CJ16: 0 | CK16: 5
A17: 苗栗縣 | B17: 31 | C17: 0 | D17: 22 | E17: 9 | F17: 1022 | G17: 546 | H17: 476 | I17: 294 | J17: 173 | K17: 121 | L17: 558 | M17: 286 | N17: 272 | O17: 170 | P17: 87 | Q17: 83 | R17: 755 | S17: 398 | T17: 357 | U17: 225 | V17: 133 | W17: 92 | X17: 393 | Y17: 200 | Z17: 193 | AA17: 137 | AB17: 65 | AC17: 72 | AD17: 267 | AE17: 148 | AF17: 119 | AG17: 69 | AH17: 40 | AI17: 29 | AJ17: 165 | AK17: 86 | AL17: 79 | AM17: 33 | AN17: 22 | AO17: 11 | AP17: 989 | AQ17: 525 | AR17: 464 | AS17: 289 | AT17: 168 | AU17: 121 | AV17: 536 | AW17: 273 | AX17: 263 | AY17: 164 | AZ17: 84 | BA17: 80 | BB17: 20 | BC17: 12 | BD17: 8 | BE17: 3 | BF17: 3 | BG17: 0 | BH17: 13 | BI17: 7 | BJ17: 6 | BK17: 4 | BL17: 2 | BM17: 2 | BN17: 13 | BO17: 9 | BP17: 4 | BQ17: 2 | BR17: 2 | BS17: 0 | BT17: 9 | BU17: 6 | BV17: 3 | BW17: 2 | BX17: 1 | BY17: 1 | BZ17: 315 | CA17: 4 | CB17: 311 | CC17: 31 | CD17: 1 | CE17: 30 | CF17: 284 | CG17: 3 | CH17: 281 | CI17: 0 | CJ17: 0 | CK17: 0
A18: 彰化縣 | B18: 64 | C18: 0 | D18: 55 | E18: 9 | F18: 2432 | G18: 1241 | H18: 1191 | I18: 644 | J18: 323 | K18: 321 | L18: 1386 | M18: 701 | N18: 685 | O18: 402 | P18: 217 | Q18: 185 | R18: 2147 | S18: 1083 | T18: 1064 | U18: 564 | V18: 277 | W18: 287 | X18: 1222 | Y18: 610 | Z18: 612 | AA18: 361 | AB18: 196 | AC18: 165 | AD18: 285 | AE18: 158 | AF18: 127 | AG18: 80 | AH18: 46 | AI18: 34 | AJ18: 164 | AK18: 91 | AL18: 73 | AM18: 41 | AN18: 21 | AO18: 20 | AP18: 2382 | AQ18: 1219 | AR18: 1163 | AS18: 632 | AT18: 318 | AU18: 314 | AV18: 1359 | AW18: 689 | AX18: 670 | AY18: 391 | AZ18: 212 | BA18: 179 | BB18: 19 | BC18: 10 | BD18: 9 | BE18: 3 | BF18: 2 | BG18: 1 | BH18: 11 | BI18: 5 | BJ18: 6 | BK18: 5 | BL18: 3 | BM18: 2 | BN18: 31 | BO18: 12 | BP18: 19 | BQ18: 9 | BR18: 3 | BS18: 6 | BT18: 16 | BU18: 7 | BV18: 9 | BW18: 6 | BX18: 2 | BY18: 4 | BZ18: 718 | CA18: 10 | CB18: 708 | CC18: 65 | CD18: 5 | CE18: 60 | CF18: 653 | CG18: 5 | CH18: 648 | CI18: 0 | CJ18: 0 | CK18: 0
A19: 南投縣 | B19: 9 | C19: 0 | D19: 4 | E19: 5 | F19: 237 | G19: 133 | H19: 104 | I19: 59 | J19: 35 | K19: 24 | L19: 150 | M19: 81 | N19: 69 | O19: 28 | P19: 17 | Q19: 11 | R19: 127 | S19: 71 | T19: 56 | U19: 35 | V19: 20 | W19: 15 | X19: 75 | Y19: 43 | Z19: 32 | AA19: 17 | AB19: 8 | AC19: 9 | AD19: 110 | AE19: 62 | AF19: 48 | AG19: 24 | AH19: 15 | AI19: 9 | AJ19: 75 | AK19: 38 | AL19: 37 | AM19: 11 | AN19: 9 | AO19: 2 | AP19: 217 | AQ19: 124 | AR19: 93 | AS19: 51 | AT19: 31 | AU19: 20 | AV19: 141 | AW19: 77 | AX19: 64 | AY19: 25 | AZ19: 16 | BA19: 9 | BB19: 15 | BC19: 6 | BD19: 9 | BE19: 5 | BF19: 3 | BG19: 2 | BH19: 7 | BI19: 2 | BJ19: 5 | BK19: 3 | BL19: 1 | BM19: 2 | BN19: 5 | BO19: 3 | BP19: 2 | BQ19: 3 | BR19: 1 | BS19: 2 | BT19: 2 | BU19: 2 | BV19: 0 | BW19: 0 | BX19: 0 | BY19: 0 | BZ19: 72 | CA19: 2 | CB19: 70 | CC19: 9 | CD19: 0 | CE19: 9 | CF19: 63 | CG19: 2 | CH19: 61 | CI19: 0 | CJ19: 0 | CK19: 0
... A30: 連江縣 | B30: 5 | C30: 0 | D30: 0 | E30: 5 | F30: 61 | G30: 39 | H30: 22 | I30: 8 | J30: 4 | K30: 4 | L30: 45 | M30: 29 | N30: 16 | O30: 8 | P30: 6 | Q30: 2 | R30: 0 | S30: 0 | T30: 0 | U30: 0 | V30: 0 | W30: 0 | X30: 0 | Y30: 0 | Z30: 0 | AA30: 0 | AB30: 0 | AC30: 0 | AD30: 61 | AE30: 39 | AF30: 22 | AG30: 8 | AH30: 4 | AI30: 4 | AJ30: 45 | AK30: 29 | AL30: 16 | AM30: 8 | AN30: 6 | AO30: 2 | AP30: 59 | AQ30: 38 | AR30: 21 | AS30: 8 | AT30: 4 | AU30: 4 | AV30: 43 | AW30: 28 | AX30: 15 | AY30: 8 | AZ30: 6 | BA30: 2 | BB30: 1 | BC30: 1 | BD30: 0 | BE30: 0 | BF30: 0 | BG30: 0 | BH30: 1 | BI30: 1 | BJ30: 0 | BK30: 0 | BL30: 0 | BM30: 0 | BN30: 1 | BO30: 0 | BP30: 1 | BQ30: 0 | BR30: 0 | BS30: 0 | BT30: 1 | BU30: 0 | BV30: 1 | BW30: 0 | BX30: 0 | BY30: 0 | BZ30: 24 | CA30: 0 | CB30: 24 | CC30: 5 | CD30: 0 | CE30: 5 | CF30: 16 | CG30: 0 | CH30: 16 | CI30: 3 | CJ30: 0 | CK30: 3

Sheet 113
A1: 1.5 托嬰中心概況
A2: 113年底, End of 2024
A3: 一、所數與收托人數 | AP3: 1.一般身分 | BB3: 2.原住民身分 | BN3: 二、新住民子女人數 | BZ3: 三、專業人員人數
A4: 區域別 | B4: 所數 | F4: 收托人數 ─按性別與年齡分 | AP4: 收托人數─按性別與年齡分 | BB4: 收托人數─按性別與年齡分 | BN4: 收托人數─按性別與年齡分 | BZ4: 總計 | CC4: 主管人員(主任) | CF4: 托育人員 | CI4: 護理人員
F5: 總計 | R5: 私立 | AD5: 公辦民營
B6: 總計 | C6: 公立 | D6: 私立 | E6: 公辦民營 | F6: 合計 | I6: 未滿1歲 | L6: 1-未滿2歲 | O6: 2-未滿3歲 | R6: 合計 | U6: 未滿1歲 | X6: 1-未滿2歲 | AA6: 2-未滿3歲 | AD6: 合計 | AG6: 未滿1歲 | AJ6: 1-未滿2歲 | AM6: 2-未滿3歲 | AP6: 總計 | AS6: 未滿1歲 | AV6: 1-未滿2歲 | AY6: 2-未滿3歲 | BB6: 總計 | BE6: 未滿1歲 | BH6: 1-未滿2歲 | BK6: 2-未滿3歲 | BN6: 總計 | BQ6: 未滿1歲 | BT6: 1-未滿2歲 | BW6: 2-未滿3歲
F7: 計 | G7: 男 | H7: 女 | I7: 計 | J7: 男 | K7: 女 | L7: 計 | M7: 男 | N7: 女 | O7: 計 | P7: 男 | Q7: 女 | R7: 計 | S7: 男 | T7: 女 | U7: 計 | V7: 男 | W7: 女 | X7: 計 | Y7: 男 | Z7: 女 | AA7: 計 | AB7: 男 | AC7: 女 | AD7: 計 | AE7: 男 | AF7: 女 | AG7: 計 | AH7: 男 | AI7: 女 | AJ7: 計 | AK7: 男 | AL7: 女 | AM7: 計 | AN7: 男 | AO7: 女 | AP7: 計 | AQ7: 男 | AR7: 女 | AS7: 計 | AT7: 男 | AU7: 女 | AV7: 計 | AW7: 男 | AX7: 女 | AY7: 計 | AZ7: 男 | BA7: 女 | BB7: 計 | BC7: 男 | BD7: 女 | BE7: 計 | BF7: 男 | BG7: 女 | BH7: 計 | BI7: 男 | BJ7: 女 | BK7: 計 | BL7: 男 | BM7: 女 | BN7: 計 | BO7: 男 | BP7: 女 | BQ7: 計 | BR7: 男 | BS7: 女 | BT7: 計 | BU7: 男 | BV7: 女 | BW7: 計 | BX7: 男 | BY7: 女 | BZ7: 計 | CA7: 男 | CB7: 女 | CC7: 計 | CD7: 男 | CE7: 女 | CF7: 計 | CG7: 男 | CH7: 女 | CI7: 計 | CJ7: 男 | CK7: 女
A8: 總 計 | B8: 1771 | C8: 0 | D8: 1289 | E8: 482 | F8: 55688 | G8: 29084 | H8: 26604 | I8: 14006 | J8: 7256 | K8: 6750 | L8: 28271 | M8: 14816 | N8: 13455 | O8: 13411 | P8: 7012 | Q8: 6399 | R8: 40503 | S8: 21095 | T8: 19408 | U8: 11273 | V8: 5823 | W8: 5450 | X8: 20261 | Y8: 10588 | Z8: 9673 | AA8: 8969 | AB8: 4684 | AC8: 4285 | AD8: 15185 | AE8: 7989 | AF8: 7196 | AG8: 2733 | AH8: 1433 | AI8: 1300 | AJ8: 8010 | AK8: 4228 | AL8: 3782 | AM8: 4442 | AN8: 2328 | AO8: 2114 | AP8: 53262 | AQ8: 27821 | AR8: 25441 | AS8: 13473 | AT8: 6967 | AU8: 6506 | AV8: 26950 | AW8: 14153 | AX8: 12797 | AY8: 12839 | AZ8: 6701 | BA8: 6138 | BB8: 1515 | BC8: 779 | BD8: 736 | BE8: 347 | BF8: 188 | BG8: 159 | BH8: 845 | BI8: 421 | BJ8: 424 | BK8: 323 | BL8: 170 | BM8: 153 | BN8: 911 | BO8: 484 | BP8: 427 | BQ8: 186 | BR8: 101 | BS8: 85 | BT8: 476 | BU8: 242 | BV8: 234 | BW8: 249 | BX8: 141 | BY8: 108 | BZ8: 17208 | CA8: 238 | CB8: 16970 | CC8: 1750 | CD8: 58 | CE8: 1692 | CF8: 15181 | CG8: 180 | CH8: 15001 | CI8: 277 | CJ8: 0 | CK8: 277
A9: 新北市 | B9: 376 | C9: 0 | D9: 254 | E9: 122 | F9: 13959 | G9: 7307 | H9: 6652 | I9: 2975 | J9: 1521 | K9: 1454 | L9: 6426 | M9: 3360 | N9: 3066 | O9: 4558 | P9: 2426 | Q9: 2132 | R9: 7876 | S9: 4125 | T9: 3751 | U9: 1979 | V9: 1013 | W9: 966 | X9: 3598 | Y9: 1874 | Z9: 1724 | AA9: 2299 | AB9: 1238 | AC9: 1061 | AD9: 6083 | AE9: 3182 | AF9: 2901 | AG9: 996 | AH9: 508 | AI9: 488 | AJ9: 2828 | AK9: 1486 | AL9: 1342 | AM9: 2259 | AN9: 1188 | AO9: 1071 | AP9: 13449 | AQ9: 7042 | AR9: 6407 | AS9: 2875 | AT9: 1464 | AU9: 1411 | AV9: 6161 | AW9: 3227 | AX9: 2934 | AY9: 4413 | AZ9: 2351 | BA9: 2062 | BB9: 275 | BC9: 143 | BD9: 132 | BE9: 54 | BF9: 33 | BG9: 21 | BH9: 154 | BI9: 74 | BJ9: 80 | BK9: 67 | BL9: 36 | BM9: 31 | BN9: 235 | BO9: 122 | BP9: 113 | BQ9: 46 | BR9: 24 | BS9: 22 | BT9: 111 | BU9: 59 | BV9: 52 | BW9: 78 | BX9: 39 | BY9: 39 | BZ9: 4346 | CA9: 52 | CB9: 4294 | CC9: 365 | CD9: 17 | CE9: 348 | CF9: 3857 | CG9: 35 | CH9: 3822 | CI9: 124 | CJ9: 0 | CK9: 124
A10: 臺北市 | B10: 301 | C10: 0 | D10: 214 | E10: 87 | F10: 7020 | G10: 3616 | H10: 3404 | I10: 1755 | J10: 899 | K10: 856 | L10: 3617 | M10: 1862 | N10: 1755 | O10: 1648 | P10: 855 | Q10: 793 | R10: 5163 | S10: 2642 | T10: 2521 | U10: 1383 | V10: 710 | W10: 673 | X10: 2547 | Y10: 1304 | Z10: 1243 | AA10: 1233 | AB10: 628 | AC10: 605 | AD10: 1857 | AE10: 974 | AF10: 883 | AG10: 372 | AH10: 189 | AI10: 183 | AJ10: 1070 | AK10: 558 | AL10: 512 | AM10: 415 | AN10: 227 | AO10: 188 | AP10: 6716 | AQ10: 3455 | AR10: 3261 | AS10: 1689 | AT10: 866 | AU10: 823 | AV10: 3451 | AW10: 1776 | AX10: 1675 | AY10: 1576 | AZ10: 813 | BA10: 763 | BB10: 101 | BC10: 52 | BD10: 49 | BE10: 32 | BF10: 16 | BG10: 16 | BH10: 53 | BI10: 27 | BJ10: 26 | BK10: 16 | BL10: 9 | BM10: 7 | BN10: 203 | BO10: 109 | BP10: 94 | BQ10: 34 | BR10: 17 | BS10: 17 | BT10: 113 | BU10: 59 | BV10: 54 | BW10: 56 | BX10: 33 | BY10: 23 | BZ10: 2220 | CA10: 18 | CB10: 2202 | CC10: 300 | CD10: 3 | CE10: 297 | CF10: 1889 | CG10: 15 | CH10: 1874 | CI10: 31 | CJ10: 0 | CK10: 31
A11: 桃園市 | B11: 193 | C11: 0 | D11: 143 | E11: 50 | F11: 6316 | G11: 3295 | H11: 3021 | I11: 1630 | J11: 861 | K11: 769 | L11: 3194 | M11: 1653 | N11: 1541 | O11: 1492 | P11: 781 | Q11: 711 | R11: 4707 | S11: 2448 | T11: 2259 | U11: 1349 | V11: 714 | W11: 635 | X11: 2315 | Y11: 1192 | Z11: 1123 | AA11: 1043 | AB11: 542 | AC11: 501 | AD11: 1609 | AE11: 847 | AF11: 762 | AG11: 281 | AH11: 147 | AI11: 134 | AJ11: 879 | AK11: 461 | AL11: 418 | AM11: 449 | AN11: 239 | AO11: 210 | AP11: 5879 | AQ11: 3072 | AR11: 2807 | AS11: 1548 | AT11: 820 | AU11: 728 | AV11: 2952 | AW11: 1539 | AX11: 1413 | AY11: 1379 | AZ11: 713 | BA11: 666 | BB11: 337 | BC11: 172 | BD11: 165 | BE11: 62 | BF11: 29 | BG11: 33 | BH11: 193 | BI11: 95 | BJ11: 98 | BK11: 82 | BL11: 48 | BM11: 34 | BN11: 100 | BO11: 51 | BP11: 49 | BQ11: 20 | BR11: 12 | BS11: 8 | BT11: 49 | BU11: 19 | BV11: 30 | BW11: 31 | BX11: 20 | BY11: 11 | BZ11: 2014 | CA11: 22 | CB11: 1992 | CC11: 192 | CD11: 1 | CE11: 191 | CF11: 1792 | CG11: 21 | CH11: 1771 | CI11: 30 | CJ11: 0 | CK11: 30
A12: 臺中市 | B12: 234 | C12: 0 | D12: 188 | E12: 46 | F12: 8079 | G12: 4264 | H12: 3815 | I12: 2178 | J12: 1133 | K12: 1045 | L12: 4172 | M12: 2214 | N12: 1958 | O12: 1729 | P12: 917 | Q12: 812 | R12: 6819 | S12: 3579 | T12: 3240 | U12: 1989 | V12: 1023 | W12: 966 | X12: 3443 | Y12: 1814 | Z12: 1629 | AA12: 1387 | AB12: 742 | AC12: 645 | AD12: 1260 | AE12: 685 | AF12: 575 | AG12: 189 | AH12: 110 | AI12: 79 | AJ12: 729 | AK12: 400 | AL12: 329 | AM12: 342 | AN12: 175 | AO12: 167 | AP12: 7800 | AQ12: 4113 | AR12: 3687 | AS12: 2107 | AT12: 1093 | AU12: 1014 | AV12: 4018 | AW12: 2130 | AX12: 1888 | AY12: 1675 | AZ12: 890 | BA12: 785 | BB12: 183 | BC12: 97 | BD12: 86 | BE12: 57 | BF12: 32 | BG12: 25 | BH12: 90 | BI12: 49 | BJ12: 41 | BK12: 36 | BL12: 16 | BM12: 20 | BN12: 96 | BO12: 54 | BP12: 42 | BQ12: 14 | BR12: 8 | BS12: 6 | BT12: 64 | BU12: 35 | BV12: 29 | BW12: 18 | BX12: 11 | BY12: 7 | BZ12: 2395 | CA12: 44 | CB12: 2351 | CC12: 234 | CD12: 6 | CE12: 228 | CF12: 2157 | CG12: 38 | CH12: 2119 | CI12: 4 | CJ12: 0 | CK12: 4
A13: 臺南市 | B13: 140 | C13: 0 | D13: 125 | E13: 15 | F13: 4053 | G13: 2080 | H13: 1973 | I13: 1101 | J13: 564 | K13: 537 | L13: 2216 | M13: 1143 | N13: 1073 | O13: 736 | P13: 373 | Q13: 363 | R13: 3821 | S13: 1963 | T13: 1858 | U13: 1055 | V13: 543 | W13: 512 | X13: 2085 | Y13: 1077 | Z13: 1008 | AA13: 681 | AB13: 343 | AC13: 338 | AD13: 232 | AE13: 117 | AF13: 115 | AG13: 46 | AH13: 21 | AI13: 25 | AJ13: 131 | AK13: 66 | AL13: 65 | AM13: 55 | AN13: 30 | AO13: 25 | AP13: 3957 | AQ13: 2035 | AR13: 1922 | AS13: 1080 | AT13: 555 | AU13: 525 | AV13: 2165 | AW13: 1121 | AX13: 1044 | AY13: 712 | AZ13: 359 | BA13: 353 | BB13: 42 | BC13: 21 | BD13: 21 | BE13: 10 | BF13: 7 | BG13: 3 | BH13: 24 | BI13: 10 | BJ13: 14 | BK13: 8 | BL13: 4 | BM13: 4 | BN13: 54 | BO13: 24 | BP13: 30 | BQ13: 11 | BR13: 2 | BS13: 9 | BT13: 27 | BU13: 12 | BV13: 15 | BW13: 16 | BX13: 10 | BY13: 6 | BZ13: 1262 | CA13: 20 | CB13: 1242 | CC13: 140 | CD13: 2 | CE13: 138 | CF13: 1121 | CG13: 18 | CH13: 1103 | CI13: 1 | CJ13: 0 | CK13: 1
A14: 高雄市 | B14: 133 | C14: 0 | D14: 72 | E14: 61 | F14: 4382 | G14: 2299 | H14: 2083 | I14: 1149 | J14: 629 | K14: 520 | L14: 2420 | M14: 1275 | N14: 1145 | O14: 813 | P14: 395 | Q14: 418 | R14: 2514 | S14: 1308 | T14: 1206 | U14: 756 | V14: 407 | W14: 349 | X14: 1344 | Y14: 707 | Z14: 637 | AA14: 414 | AB14: 194 | AC14: 220 | AD14: 1868 | AE14: 991 | AF14: 877 | AG14: 393 | AH14: 222 | AI14: 171 | AJ14: 1076 | AK14: 568 | AL14: 508 | AM14: 399 | AN14: 201 | AO14: 198 | AP14: 4162 | AQ14: 2186 | AR14: 1976 | AS14: 1095 | AT14: 596 | AU14: 499 | AV14: 2288 | AW14: 1210 | AX14: 1078 | AY14: 779 | AZ14: 380 | BA14: 399 | BB14: 142 | BC14: 72 | BD14: 70 | BE14: 32 | BF14: 20 | BG14: 12 | BH14: 91 | BI14: 46 | BJ14: 45 | BK14: 19 | BL14: 6 | BM14: 13 | BN14: 78 | BO14: 41 | BP14: 37 | BQ14: 22 | BR14: 13 | BS14: 9 | BT14: 41 | BU14: 19 | BV14: 22 | BW14: 15 | BX14: 9 | BY14: 6 | BZ14: 1362 | CA14: 19 | CB14: 1343 | CC14: 131 | CD14: 5 | CE14: 126 | CF14: 1186 | CG14: 14 | CH14: 1172 | CI14: 45 | CJ14: 0 | CK14: 45
A15: 宜蘭縣 | B15: 24 | C15: 0 | D15: 8 | E15: 16 | F15: 715 | G15: 372 | H15: 343 | I15: 162 | J15: 83 | K15: 79 | L15: 396 | M15: 209 | N15: 187 | O15: 157 | P15: 80 | Q15: 77 | R15: 285 | S15: 153 | T15: 132 | U15: 88 | V15: 46 | W15: 42 | X15: 132 | Y15: 73 | Z15: 59 | AA15: 65 | AB15: 34 | AC15: 31 | AD15: 430 | AE15: 219 | AF15: 211 | AG15: 74 | AH15: 37 | AI15: 37 | AJ15: 264 | AK15: 136 | AL15: 128 | AM15: 92 | AN15: 46 | AO15: 46 | AP15: 666 | AQ15: 341 | AR15: 325 | AS15: 145 | AT15: 72 | AU15: 73 | AV15: 374 | AW15: 196 | AX15: 178 | AY15: 147 | AZ15: 73 | BA15: 74 | BB15: 34 | BC15: 19 | BD15: 15 | BE15: 9 | BF15: 5 | BG15: 4 | BH15: 17 | BI15: 9 | BJ15: 8 | BK15: 8 | BL15: 5 | BM15: 3 | BN15: 15 | BO15: 12 | BP15: 3 | BQ15: 8 | BR15: 6 | BS15: 2 | BT15: 5 | BU15: 4 | BV15: 1 | BW15: 2 | BX15: 2 | BY15: 0 | BZ15: 224 | CA15: 3 | CB15: 221 | CC15: 24 | CD15: 2 | CE15: 22 | CF15: 184 | CG15: 1 | CH15: 183 | CI15: 16 | CJ15: 0 | CK15: 16
A16: 新竹縣 | B16: 88 | C16: 0 | D16: 81 | E16: 7 | F16: 2505 | G16: 1301 | H16: 1204 | I16: 687 | J16: 351 | K16: 336 | L16: 1280 | M16: 667 | N16: 613 | O16: 538 | P16: 283 | Q16: 255 | R16: 2361 | S16: 1229 | T16: 1132 | U16: 667 | V16: 339 | W16: 328 | X16: 1202 | Y16: 630 | Z16: 572 | AA16: 492 | AB16: 260 | AC16: 232 | AD16: 144 | AE16: 72 | AF16: 72 | AG16: 20 | AH16: 12 | AI16: 8 | AJ16: 78 | AK16: 37 | AL16: 41 | AM16: 46 | AN16: 23 | AO16: 23 | AP16: 2429 | AQ16: 1267 | AR16: 1162 | AS16: 669 | AT16: 344 | AU16: 325 | AV16: 1244 | AW16: 652 | AX16: 592 | AY16: 516 | AZ16: 271 | BA16: 245 | BB16: 52 | BC16: 22 | BD16: 30 | BE16: 12 | BF16: 4 | BG16: 8 | BH16: 23 | BI16: 8 | BJ16: 15 | BK16: 17 | BL16: 10 | BM16: 7 | BN16: 24 | BO16: 12 | BP16: 12 | BQ16: 6 | BR16: 3 | BS16: 3 | BT16: 13 | BU16: 7 | BV16: 6 | BW16: 5 | BX16: 2 | BY16: 3 | BZ16: 772 | CA16: 14 | CB16: 758 | CC16: 82 | CD16: 3 | CE16: 79 | CF16: 686 | CG16: 11 | CH16: 675 | CI16: 4 | CJ16: 0 | CK16: 4
A17: 苗栗縣 | B17: 26 | C17: 0 | D17: 20 | E17: 6 | F17: 772 | G17: 399 | H17: 373 | I17: 248 | J17: 127 | K17: 121 | L17: 394 | M17: 209 | N17: 185 | O17: 130 | P17: 63 | Q17: 67 | R17: 638 | S17: 334 | T17: 304 | U17: 202 | V17: 110 | W17: 92 | X17: 334 | Y17: 176 | Z17: 158 | AA17: 102 | AB17: 48 | AC17: 54 | AD17: 134 | AE17: 65 | AF17: 69 | AG17: 46 | AH17: 17 | AI17: 29 | AJ17: 60 | AK17: 33 | AL17: 27 | AM17: 28 | AN17: 15 | AO17: 13 | AP17: 750 | AQ17: 390 | AR17: 360 | AS17: 239 | AT17: 122 | AU17: 117 | AV17: 390 | AW17: 208 | AX17: 182 | AY17: 121 | AZ17: 60 | BA17: 61 | BB17: 15 | BC17: 7 | BD17: 8 | BE17: 7 | BF17: 4 | BG17: 3 | BH17: 3 | BI17: 1 | BJ17: 2 | BK17: 5 | BL17: 2 | BM17: 3 | BN17: 7 | BO17: 2 | BP17: 5 | BQ17: 2 | BR17: 1 | BS17: 1 | BT17: 1 | BU17: 0 | BV17: 1 | BW17: 4 | BX17: 1 | BY17: 3 | BZ17: 240 | CA17: 4 | CB17: 236 | CC17: 25 | CD17: 1 | CE17: 24 | CF17: 215 | CG17: 3 | CH17: 212 | CI17: 0 | CJ17: 0 | CK17: 0
A18: 彰化縣 | B18: 57 | C18: 0 | D18: 52 | E18: 5 | F18: 2052 | G18: 1075 | H18: 977 | I18: 592 | J18: 298 | K18: 294 | L18: 1154 | M18: 618 | N18: 536 | O18: 306 | P18: 159 | Q18: 147 | R18: 1899 | S18: 998 | T18: 901 | U18: 568 | V18: 287 | W18: 281 | X18: 1052 | Y18: 564 | Z18: 488 | AA18: 279 | AB18: 147 | AC18: 132 | AD18: 153 | AE18: 77 | AF18: 76 | AG18: 24 | AH18: 11 | AI18: 13 | AJ18: 102 | AK18: 54 | AL18: 48 | AM18: 27 | AN18: 12 | AO18: 15 | AP18: 2010 | AQ18: 1054 | AR18: 956 | AS18: 581 | AT18: 294 | AU18: 287 | AV18: 1132 | AW18: 605 | AX18: 527 | AY18: 297 | AZ18: 155 | BA18: 142 | BB18: 14 | BC18: 7 | BD18: 7 | BE18: 4 | BF18: 1 | BG18: 3 | BH18: 10 | BI18: 6 | BJ18: 4 | BK18: 0 | BL18: 0 | BM18: 0 | BN18: 28 | BO18: 14 | BP18: 14 | BQ18: 7 | BR18: 3 | BS18: 4 | BT18: 12 | BU18: 7 | BV18: 5 | BW18: 9 | BX18: 4 | BY18: 5 | BZ18: 594 | CA18: 9 | CB18: 585 | CC18: 57 | CD18: 4 | CE18: 53 | CF18: 537 | CG18: 5 | CH18: 532 | CI18: 0 | CJ18: 0 | CK18: 0
A19: 南投縣 | B19: 8 | C19: 0 | D19: 4 | E19: 4 | F19: 198 | G19: 118 | H19: 80 | I19: 43 | J19: 29 | K19: 14 | L19: 123 | M19: 72 | N19: 51 | O19: 32 | P19: 17 | Q19: 15 | R19: 121 | S19: 68 | T19: 53 | U19: 24 | V19: 17 | W19: 7 | X19: 71 | Y19: 37 | Z19: 34 | AA19: 26 | AB19: 14 | AC19: 12 | AD19: 77 | AE19: 50 | AF19: 27 | AG19: 19 | AH19: 12 | AI19: 7 | AJ19: 52 | AK19: 35 | AL19: 17 | AM19: 6 | AN19: 3 | AO19: 3 | AP19: 180 | AQ19: 109 | AR19: 71 | AS19: 41 | AT19: 28 | AU19: 13 | AV19: 111 | AW19: 66 | AX19: 45 | AY19: 28 | AZ19: 15 | BA19: 13 | BB19: 16 | BC19: 9 | BD19: 7 | BE19: 2 | BF19: 1 | BG19: 1 | BH19: 11 | BI19: 6 | BJ19: 5 | BK19: 3 | BL19: 2 | BM19: 1 | BN19: 2 | BO19: 0 | BP19: 2 | BQ19: 0 | BR19: 0 | BS19: 0 | BT19: 1 | BU19: 0 | BV19: 1 | BW19: 1 | BX19: 0 | BY19: 1 | BZ19: 59 | CA19: 2 | CB19: 57 | CC19: 8 | CD19: 0 | CE19: 8 | CF19: 51 | CG19: 2 | CH19: 49 | CI19: 0 | CJ19: 0 | CK19: 0
... A30: 連江縣 | B30: 5 | C30: 0 | D30: 0 | E30: 5 | F30: 65 | G30: 39 | H30: 26 | I30: 15 | J30: 9 | K30: 6 | L30: 34 | M30: 23 | N30: 11 | O30: 16 | P30: 7 | Q30: 9 | R30: 0 | S30: 0 | T30: 0 | U30: 0 | V30: 0 | W30: 0 | X30: 0 | Y30: 0 | Z30: 0 | AA30: 0 | AB30: 0 | AC30: 0 | AD30: 65 | AE30: 39 | AF30: 26 | AG30: 15 | AH30: 9 | AI30: 6 | AJ30: 34 | AK30: 23 | AL30: 11 | AM30: 16 | AN30: 7 | AO30: 9 | AP30: 64 | AQ30: 38 | AR30: 26 | AS30: 15 | AT30: 9 | AU30: 6 | AV30: 33 | AW30: 22 | AX30: 11 | AY30: 16 | AZ30: 7 | BA30: 9 | BB30: 0 | BC30: 0 | BD30: 0 | BE30: 0 | BF30: 0 | BG30: 0 | BH30: 0 | BI30: 0 | BJ30: 0 | BK30: 0 | BL30: 0 | BM30: 0 | BN30: 1 | BO30: 1 | BP30: 0 | BQ30: 0 | BR30: 0 | BS30: 0 | BT30: 1 | BU30: 1 | BV30: 0 | BW30: 0 | BX30: 0 | BY30: 0 | BZ30: 27 | CA30: 0 | CB30: 27 | CC30: 5 | CD30: 0 | CE30: 5 | CF30: 19 | CG30: 0 | CH30: 19 | CI30: 3 | CJ30: 0 | CK30: 3

Sheet 112
A1: 1.5 托嬰中心概況
A2: 112年底, End of 2023
A3: 一、所數與收托人數 | AP3: 1.一般身分 | BB3: 2.原住民身分 | BN3: 二、外籍配偶子女人數 | BZ3: 三、專業人員人數
A4: 區域別 | B4: 所數 | F4: 收托人數 ─按性別與年齡分 | AP4: 收托人數─按性別與年齡分 | BB4: 收托人數─按性別與年齡分 | BN4: 收托人數─按性別與年齡分 | BZ4: 總計 | CC4: 主管人員(主任) | CF4: 托育人員 | CI4: 護理人員
F5: 總計 | R5: 私立 | AD5: 公辦民營
B6: 總計 | C6: 公立 | D6: 私立 | E6: 公辦民營 | F6: 合計 | I6: 未滿1歲 | L6: 1-未滿2歲 | O6: 2-未滿3歲 | R6: 合計 | U6: 未滿1歲 | X6: 1-未滿2歲 | AA6: 2-未滿3歲 | AD6: 合計 | AG6: 未滿1歲 | AJ6: 1-未滿2歲 | AM6: 2-未滿3歲 | AP6: 總計 | AS6: 未滿1歲 | AV6: 1-未滿2歲 | AY6: 2-未滿3歲 | BB6: 總計 | BE6: 未滿1歲 | BH6: 1-未滿2歲 | BK6: 2-未滿3歲 | BN6: 總計 | BQ6: 未滿1歲 | BT6: 1-未滿2歲 | BW6: 2-未滿3歲
F7: 計 | G7: 男 | H7: 女 | I7: 計 | J7: 男 | K7: 女 | L7: 計 | M7: 男 | N7: 女 | O7: 計 | P7: 男 | Q7: 女 | R7: 計 | S7: 男 | T7: 女 | U7: 計 | V7: 男 | W7: 女 | X7: 計 | Y7: 男 | Z7: 女 | AA7: 計 | AB7: 男 | AC7: 女 | AD7: 計 | AE7: 男 | AF7: 女 | AG7: 計 | AH7: 男 | AI7: 女 | AJ7: 計 | AK7: 男 | AL7: 女 | AM7: 計 | AN7: 男 | AO7: 女 | AP7: 計 | AQ7: 男 | AR7: 女 | AS7: 計 | AT7: 男 | AU7: 女 | AV7: 計 | AW7: 男 | AX7: 女 | AY7: 計 | AZ7: 男 | BA7: 女 | BB7: 計 | BC7: 男 | BD7: 女 | BE7: 計 | BF7: 男 | BG7: 女 | BH7: 計 | BI7: 男 | BJ7: 女 | BK7: 計 | BL7: 男 | BM7: 女 | BN7: 計 | BO7: 男 | BP7: 女 | BQ7: 計 | BR7: 男 | BS7: 女 | BT7: 計 | BU7: 男 | BV7: 女 | BW7: 計 | BX7: 男 | BY7: 女 | BZ7: 計 | CA7: 男 | CB7: 女 | CC7: 計 | CD7: 男 | CE7: 女 | CF7: 計 | CG7: 男 | CH7: 女 | CI7: 計 | CJ7: 男 | CK7: 女
A8: 總 計 | B8: 1639 | C8: 0 | D8: 1199 | E8: 440 | F8: 49217 | G8: 25872 | H8: 23345 | I8: 11724 | J8: 6131 | K8: 5593 | L8: 24700 | M8: 13034 | N8: 11666 | O8: 12793 | P8: 6707 | Q8: 6086 | R8: 35279 | S8: 18522 | T8: 16757 | U8: 9494 | V8: 4951 | W8: 4543 | X8: 17284 | Y8: 9111 | Z8: 8173 | AA8: 8501 | AB8: 4460 | AC8: 4041 | AD8: 13938 | AE8: 7350 | AF8: 6588 | AG8: 2230 | AH8: 1180 | AI8: 1050 | AJ8: 7416 | AK8: 3923 | AL8: 3493 | AM8: 4292 | AN8: 2247 | AO8: 2045 | AP8: 47285 | AQ8: 24851 | AR8: 22434 | AS8: 11337 | AT8: 5941 | AU8: 5396 | AV8: 23702 | AW8: 12494 | AX8: 11208 | AY8: 12246 | AZ8: 6416 | BA8: 5830 | BB8: 1135 | BC8: 602 | BD8: 533 | BE8: 237 | BF8: 107 | BG8: 130 | BH8: 615 | BI8: 343 | BJ8: 272 | BK8: 283 | BL8: 152 | BM8: 131 | BN8: 797 | BO8: 419 | BP8: 378 | BQ8: 150 | BR8: 83 | BS8: 67 | BT8: 383 | BU8: 197 | BV8: 186 | BW8: 264 | BX8: 139 | BY8: 125 | BZ8: 15055 | CA8: 242 | CB8: 14813 | CC8: 1626 | CD8: 55 | CE8: 1571 | CF8: 13189 | CG8: 187 | CH8: 13002 | CI8: 240 | CJ8: 0 | CK8: 240
A9: 新北市 | B9: 366 | C9: 0 | D9: 246 | E9: 120 | F9: 13181 | G9: 6955 | H9: 6226 | I9: 2648 | J9: 1409 | K9: 1239 | L9: 6013 | M9: 3187 | N9: 2826 | O9: 4520 | P9: 2359 | Q9: 2161 | R9: 7219 | S9: 3828 | T9: 3391 | U9: 1760 | V9: 925 | W9: 835 | X9: 3229 | Y9: 1728 | Z9: 1501 | AA9: 2230 | AB9: 1175 | AC9: 1055 | AD9: 5962 | AE9: 3127 | AF9: 2835 | AG9: 888 | AH9: 484 | AI9: 404 | AJ9: 2784 | AK9: 1459 | AL9: 1325 | AM9: 2290 | AN9: 1184 | AO9: 1106 | AP9: 12642 | AQ9: 6673 | AR9: 5969 | AS9: 2559 | AT9: 1360 | AU9: 1199 | AV9: 5771 | AW9: 3062 | AX9: 2709 | AY9: 4312 | AZ9: 2251 | BA9: 2061 | BB9: 244 | BC9: 129 | BD9: 115 | BE9: 37 | BF9: 17 | BG9: 20 | BH9: 122 | BI9: 67 | BJ9: 55 | BK9: 85 | BL9: 45 | BM9: 40 | BN9: 295 | BO9: 153 | BP9: 142 | BQ9: 52 | BR9: 32 | BS9: 20 | BT9: 120 | BU9: 58 | BV9: 62 | BW9: 123 | BX9: 63 | BY9: 60 | BZ9: 4000 | CA9: 53 | CB9: 3947 | CC9: 358 | CD9: 10 | CE9: 348 | CF9: 3518 | CG9: 43 | CH9: 3475 | CI9: 124 | CJ9: 0 | CK9: 124
A10: 臺北市 | B10: 288 | C10: 0 | D10: 204 | E10: 84 | F10: 6666 | G10: 3479 | H10: 3187 | I10: 1543 | J10: 803 | K10: 740 | L10: 3336 | M10: 1772 | N10: 1564 | O10: 1787 | P10: 904 | Q10: 883 | R10: 4859 | S10: 2514 | T10: 2345 | U10: 1212 | V10: 626 | W10: 586 | X10: 2321 | Y10: 1227 | Z10: 1094 | AA10: 1326 | AB10: 661 | AC10: 665 | AD10: 1807 | AE10: 965 | AF10: 842 | AG10: 331 | AH10: 177 | AI10: 154 | AJ10: 1015 | AK10: 545 | AL10: 470 | AM10: 461 | AN10: 243 | AO10: 218 | AP10: 6422 | AQ10: 3360 | AR10: 3062 | AS10: 1495 | AT10: 780 | AU10: 715 | AV10: 3213 | AW10: 1712 | AX10: 1501 | AY10: 1714 | AZ10: 868 | BA10: 846 | BB10: 75 | BC10: 41 | BD10: 34 | BE10: 19 | BF10: 10 | BG10: 9 | BH10: 41 | BI10: 25 | BJ10: 16 | BK10: 15 | BL10: 6 | BM10: 9 | BN10: 169 | BO10: 78 | BP10: 91 | BQ10: 29 | BR10: 13 | BS10: 16 | BT10: 82 | BU10: 35 | BV10: 47 | BW10: 58 | BX10: 30 | BY10: 28 | BZ10: 2121 | CA10: 16 | CB10: 2105 | CC10: 286 | CD10: 2 | CE10: 284 | CF10: 1806 | CG10: 14 | CH10: 1792 | CI10: 29 | CJ10: 0 | CK10: 29
A11: 桃園市 | B11: 167 | C11: 0 | D11: 123 | E11: 44 | F11: 5137 | G11: 2679 | H11: 2458 | I11: 1209 | J11: 624 | K11: 585 | L11: 2535 | M11: 1305 | N11: 1230 | O11: 1393 | P11: 750 | Q11: 643 | R11: 3871 | S11: 2002 | T11: 1869 | U11: 1028 | V11: 539 | W11: 489 | X11: 1862 | Y11: 942 | Z11: 920 | AA11: 981 | AB11: 521 | AC11: 460 | AD11: 1266 | AE11: 677 | AF11: 589 | AG11: 181 | AH11: 85 | AI11: 96 | AJ11: 673 | AK11: 363 | AL11: 310 | AM11: 412 | AN11: 229 | AO11: 183 | AP11: 4835 | AQ11: 2513 | AR11: 2322 | AS11: 1157 | AT11: 600 | AU11: 557 | AV11: 2369 | AW11: 1208 | AX11: 1161 | AY11: 1309 | AZ11: 705 | BA11: 604 | BB11: 253 | BC11: 145 | BD11: 108 | BE11: 49 | BF11: 23 | BG11: 26 | BH11: 138 | BI11: 86 | BJ11: 52 | BK11: 66 | BL11: 36 | BM11: 30 | BN11: 49 | BO11: 21 | BP11: 28 | BQ11: 3 | BR11: 1 | BS11: 2 | BT11: 28 | BU11: 11 | BV11: 17 | BW11: 18 | BX11: 9 | BY11: 9 | BZ11: 1591 | CA11: 23 | CB11: 1568 | CC11: 167 | CD11: 1 | CE11: 166 | CF11: 1402 | CG11: 22 | CH11: 1380 | CI11: 22 | CJ11: 0 | CK11: 22
A12: 臺中市 | B12: 216 | C12: 0 | D12: 178 | E12: 38 | F12: 6969 | G12: 3717 | H12: 3252 | I12: 1945 | J12: 1010 | K12: 935 | L12: 3638 | M12: 1940 | N12: 1698 | O12: 1386 | P12: 767 | Q12: 619 | R12: 5966 | S12: 3154 | T12: 2812 | U12: 1788 | V12: 920 | W12: 868 | X12: 2996 | Y12: 1577 | Z12: 1419 | AA12: 1182 | AB12: 657 | AC12: 525 | AD12: 1003 | AE12: 563 | AF12: 440 | AG12: 157 | AH12: 90 | AI12: 67 | AJ12: 642 | AK12: 363 | AL12: 279 | AM12: 204 | AN12: 110 | AO12: 94 | AP12: 6775 | AQ12: 3612 | AR12: 3163 | AS12: 1907 | AT12: 990 | AU12: 917 | AV12: 3537 | AW12: 1886 | AX12: 1651 | AY12: 1331 | AZ12: 736 | BA12: 595 | BB12: 111 | BC12: 55 | BD12: 56 | BE12: 18 | BF12: 6 | BG12: 12 | BH12: 61 | BI12: 31 | BJ12: 30 | BK12: 32 | BL12: 18 | BM12: 14 | BN12: 83 | BO12: 50 | BP12: 33 | BQ12: 20 | BR12: 14 | BS12: 6 | BT12: 40 | BU12: 23 | BV12: 17 | BW12: 23 | BX12: 13 | BY12: 10 | BZ12: 2032 | CA12: 44 | CB12: 1988 | CC12: 219 | CD12: 11 | CE12: 208 | CF12: 1810 | CG12: 33 | CH12: 1777 | CI12: 3 | CJ12: 0 | CK12: 3
A13: 臺南市 | B13: 126 | C13: 0 | D13: 111 | E13: 15 | F13: 3215 | G13: 1693 | H13: 1522 | I13: 861 | J13: 443 | K13: 418 | L13: 1839 | M13: 989 | N13: 850 | O13: 515 | P13: 261 | Q13: 254 | R13: 2979 | S13: 1561 | T13: 1418 | U13: 839 | V13: 433 | W13: 406 | X13: 1673 | Y13: 894 | Z13: 779 | AA13: 467 | AB13: 234 | AC13: 233 | AD13: 236 | AE13: 132 | AF13: 104 | AG13: 22 | AH13: 10 | AI13: 12 | AJ13: 166 | AK13: 95 | AL13: 71 | AM13: 48 | AN13: 27 | AO13: 21 | AP13: 3142 | AQ13: 1651 | AR13: 1491 | AS13: 839 | AT13: 430 | AU13: 409 | AV13: 1796 | AW13: 964 | AX13: 832 | AY13: 507 | AZ13: 257 | BA13: 250 | BB13: 23 | BC13: 14 | BD13: 9 | BE13: 10 | BF13: 7 | BG13: 3 | BH13: 13 | BI13: 7 | BJ13: 6 | BK13: 0 | BL13: 0 | BM13: 0 | BN13: 50 | BO13: 28 | BP13: 22 | BQ13: 12 | BR13: 6 | BS13: 6 | BT13: 30 | BU13: 18 | BV13: 12 | BW13: 8 | BX13: 4 | BY13: 4 | BZ13: 993 | CA13: 19 | CB13: 974 | CC13: 122 | CD13: 3 | CE13: 119 | CF13: 871 | CG13: 16 | CH13: 855 | CI13: 0 | CJ13: 0 | CK13: 0
A14: 高雄市 | B14: 118 | C14: 0 | D14: 65 | E14: 53 | F14: 3898 | G14: 2074 | H14: 1824 | I14: 861 | J14: 476 | K14: 385 | L14: 2215 | M14: 1162 | N14: 1053 | O14: 822 | P14: 436 | Q14: 386 | R14: 2121 | S14: 1123 | T14: 998 | U14: 556 | V14: 303 | W14: 253 | X14: 1124 | Y14: 585 | Z14: 539 | AA14: 441 | AB14: 235 | AC14: 206 | AD14: 1777 | AE14: 951 | AF14: 826 | AG14: 305 | AH14: 173 | AI14: 132 | AJ14: 1091 | AK14: 577 | AL14: 514 | AM14: 381 | AN14: 201 | AO14: 180 | AP14: 3750 | AQ14: 2003 | AR14: 1747 | AS14: 833 | AT14: 463 | AU14: 370 | AV14: 2122 | AW14: 1116 | AX14: 1006 | AY14: 795 | AZ14: 424 | BA14: 371 | BB14: 82 | BC14: 33 | BD14: 49 | BE14: 15 | BF14: 6 | BG14: 9 | BH14: 53 | BI14: 21 | BJ14: 32 | BK14: 14 | BL14: 6 | BM14: 8 | BN14: 66 | BO14: 38 | BP14: 28 | BQ14: 13 | BR14: 7 | BS14: 6 | BT14: 40 | BU14: 25 | BV14: 15 | BW14: 13 | BX14: 6 | BY14: 7 | BZ14: 1209 | CA14: 14 | CB14: 1195 | CC14: 118 | CD14: 3 | CE14: 115 | CF14: 1051 | CG14: 11 | CH14: 1040 | CI14: 40 | CJ14: 0 | CK14: 40
A15: 宜蘭縣 | B15: 21 | C15: 0 | D15: 7 | E15: 14 | F15: 611 | G15: 313 | H15: 298 | I15: 139 | J15: 71 | K15: 68 | L15: 334 | M15: 162 | N15: 172 | O15: 138 | P15: 80 | Q15: 58 | R15: 256 | S15: 149 | T15: 107 | U15: 78 | V15: 44 | W15: 34 | X15: 139 | Y15: 76 | Z15: 63 | AA15: 39 | AB15: 29 | AC15: 10 | AD15: 355 | AE15: 164 | AF15: 191 | AG15: 61 | AH15: 27 | AI15: 34 | AJ15: 195 | AK15: 86 | AL15: 109 | AM15: 99 | AN15: 51 | AO15: 48 | AP15: 583 | AQ15: 300 | AR15: 283 | AS15: 133 | AT15: 68 | AU15: 65 | AV15: 315 | AW15: 152 | AX15: 163 | AY15: 135 | AZ15: 80 | BA15: 55 | BB15: 16 | BC15: 8 | BD15: 8 | BE15: 6 | BF15: 3 | BG15: 3 | BH15: 9 | BI15: 5 | BJ15: 4 | BK15: 1 | BL15: 0 | BM15: 1 | BN15: 12 | BO15: 5 | BP15: 7 | BQ15: 0 | BR15: 0 | BS15: 0 | BT15: 10 | BU15: 5 | BV15: 5 | BW15: 2 | BX15: 0 | BY15: 2 | BZ15: 180 | CA15: 12 | CB15: 168 | CC15: 21 | CD15: 0 | CE15: 21 | CF15: 148 | CG15: 12 | CH15: 136 | CI15: 11 | CJ15: 0 | CK15: 11
A16: 新竹縣 | B16: 81 | C16: 0 | D16: 75 | E16: 6 | F16: 2322 | G16: 1183 | H16: 1139 | I16: 646 | J16: 322 | K16: 324 | L16: 1073 | M16: 558 | N16: 515 | O16: 603 | P16: 303 | Q16: 300 | R16: 2202 | S16: 1124 | T16: 1078 | U16: 625 | V16: 313 | W16: 312 | X16: 1006 | Y16: 524 | Z16: 482 | AA16: 571 | AB16: 287 | AC16: 284 | AD16: 120 | AE16: 59 | AF16: 61 | AG16: 21 | AH16: 9 | AI16: 12 | AJ16: 67 | AK16: 34 | AL16: 33 | AM16: 32 | AN16: 16 | AO16: 16 | AP16: 2278 | AQ16: 1156 | AR16: 1122 | AS16: 639 | AT16: 318 | AU16: 321 | AV16: 1049 | AW16: 544 | AX16: 505 | AY16: 590 | AZ16: 294 | BA16: 296 | BB16: 37 | BC16: 21 | BD16: 16 | BE16: 5 | BF16: 2 | BG16: 3 | BH16: 21 | BI16: 12 | BJ16: 9 | BK16: 11 | BL16: 7 | BM16: 4 | BN16: 7 | BO16: 6 | BP16: 1 | BQ16: 2 | BR16: 2 | BS16: 0 | BT16: 3 | BU16: 2 | BV16: 1 | BW16: 2 | BX16: 2 | BY16: 0 | BZ16: 723 | CA16: 8 | CB16: 715 | CC16: 79 | CD16: 2 | CE16: 77 | CF16: 641 | CG16: 6 | CH16: 635 | CI16: 3 | CJ16: 0 | CK16: 3
A17: 苗栗縣 | B17: 23 | C17: 0 | D17: 17 | E17: 6 | F17: 633 | G17: 316 | H17: 317 | I17: 205 | J17: 100 | K17: 105 | L17: 320 | M17: 164 | N17: 156 | O17: 108 | P17: 52 | Q17: 56 | R17: 513 | S17: 254 | T17: 259 | U17: 169 | V17: 83 | W17: 86 | X17: 251 | Y17: 125 | Z17: 126 | AA17: 93 | AB17: 46 | AC17: 47 | AD17: 120 | AE17: 62 | AF17: 58 | AG17: 36 | AH17: 17 | AI17: 19 | AJ17: 69 | AK17: 39 | AL17: 30 | AM17: 15 | AN17: 6 | AO17: 9 | AP17: 626 | AQ17: 314 | AR17: 312 | AS17: 205 | AT17: 100 | AU17: 105 | AV17: 316 | AW17: 162 | AX17: 154 | AY17: 105 | AZ17: 52 | BA17: 53 | BB17: 5 | BC17: 2 | BD17: 3 | BE17: 0 | BF17: 0 | BG17: 0 | BH17: 4 | BI17: 2 | BJ17: 2 | BK17: 1 | BL17: 0 | BM17: 1 | BN17: 2 | BO17: 0 | BP17: 2 | BQ17: 0 | BR17: 0 | BS17: 0 | BT17: 0 | BU17: 0 | BV17: 0 | BW17: 2 | BX17: 0 | BY17: 2 | BZ17: 191 | CA17: 3 | CB17: 188 | CC17: 23 | CD17: 1 | CE17: 22 | CF17: 168 | CG17: 2 | CH17: 166 | CI17: 0 | CJ17: 0 | CK17: 0
A18: 彰化縣 | B18: 53 | C18: 0 | D18: 49 | E18: 4 | F18: 1585 | G18: 822 | H18: 763 | I18: 469 | J18: 234 | K18: 235 | L18: 875 | M18: 456 | N18: 419 | O18: 241 | P18: 132 | Q18: 109 | R18: 1453 | S18: 767 | T18: 686 | U18: 440 | V18: 222 | W18: 218 | X18: 797 | Y18: 425 | Z18: 372 | AA18: 216 | AB18: 120 | AC18: 96 | AD18: 132 | AE18: 55 | AF18: 77 | AG18: 29 | AH18: 12 | AI18: 17 | AJ18: 78 | AK18: 31 | AL18: 47 | AM18: 25 | AN18: 12 | AO18: 13 | AP18: 1558 | AQ18: 804 | AR18: 754 | AS18: 461 | AT18: 231 | AU18: 230 | AV18: 864 | AW18: 449 | AX18: 415 | AY18: 233 | AZ18: 124 | BA18: 109 | BB18: 5 | BC18: 4 | BD18: 1 | BE18: 1 | BF18: 0 | BG18: 1 | BH18: 2 | BI18: 2 | BJ18: 0 | BK18: 2 | BL18: 2 | BM18: 0 | BN18: 22 | BO18: 14 | BP18: 8 | BQ18: 7 | BR18: 3 | BS18: 4 | BT18: 9 | BU18: 5 | BV18: 4 | BW18: 6 | BX18: 6 | BY18: 0 | BZ18: 472 | CA18: 8 | CB18: 464 | CC18: 54 | CD18: 4 | CE18: 50 | CF18: 418 | CG18: 4 | CH18: 414 | CI18: 0 | CJ18: 0 | CK18: 0
A19: 南投縣 | B19: 7 | C19: 0 | D19: 3 | E19: 4 | F19: 166 | G19: 85 | H19: 81 | I19: 31 | J19: 15 | K19: 16 | L19: 104 | M19: 54 | N19: 50 | O19: 31 | P19: 16 | Q19: 15 | R19: 93 | S19: 48 | T19: 45 | U19: 21 | V19: 9 | W19: 12 | X19: 53 | Y19: 29 | Z19: 24 | AA19: 19 | AB19: 10 | AC19: 9 | AD19: 73 | AE19: 37 | AF19: 36 | AG19: 10 | AH19: 6 | AI19: 4 | AJ19: 51 | AK19: 25 | AL19: 26 | AM19: 12 | AN19: 6 | AO19: 6 | AP19: 155 | AQ19: 80 | AR19: 75 | AS19: 27 | AT19: 14 | AU19: 13 | AV19: 101 | AW19: 53 | AX19: 48 | AY19: 27 | AZ19: 13 | BA19: 14 | BB19: 8 | BC19: 5 | BD19: 3 | BE19: 3 | BF19: 1 | BG19: 2 | BH19: 2 | BI19: 1 | BJ19: 1 | BK19: 3 | BL19: 3 | BM19: 0 | BN19: 3 | BO19: 0 | BP19: 3 | BQ19: 1 | BR19: 0 | BS19: 1 | BT19: 1 | BU19: 0 | BV19: 1 | BW19: 1 | BX19: 0 | BY19: 1 | BZ19: 48 | CA19: 2 | CB19: 46 | CC19: 7 | CD19: 0 | CE19: 7 | CF19: 41 | CG19: 2 | CH19: 39 | CI19: 0 | CJ19: 0 | CK19: 0
... A30: 連江縣 | B30: 5 | C30: 0 | D30: 0 | E30: 5 | F30: 70 | G30: 34 | H30: 36 | I30: 14 | J30: 10 | K30: 4 | L30: 39 | M30: 17 | N30: 22 | O30: 17 | P30: 7 | Q30: 10 | R30: 0 | S30: 0 | T30: 0 | U30: 0 | V30: 0 | W30: 0 | X30: 0 | Y30: 0 | Z30: 0 | AA30: 0 | AB30: 0 | AC30: 0 | AD30: 70 | AE30: 34 | AF30: 36 | AG30: 14 | AH30: 10 | AI30: 4 | AJ30: 39 | AK30: 17 | AL30: 22 | AM30: 17 | AN30: 7 | AO30: 10 | AP30: 67 | AQ30: 32 | AR30: 35 | AS30: 14 | AT30: 10 | AU30: 4 | AV30: 37 | AW30: 16 | AX30: 21 | AY30: 16 | AZ30: 6 | BA30: 10 | BB30: 3 | BC30: 2 | BD30: 1 | BE30: 0 | BF30: 0 | BG30: 0 | BH30: 2 | BI30: 1 | BJ30: 1 | BK30: 1 | BL30: 1 | BM30: 0 | BN30: 0 | BO30: 0 | BP30: 0 | BQ30: 0 | BR30: 0 | BS30: 0 | BT30: 0 | BU30: 0 | BV30: 0 | BW30: 0 | BX30: 0 | BY30: 0 | BZ30: 19 | CA30: 0 | CB30: 19 | CC30: 5 | CD30: 0 | CE30: 5 | CF30: 14 | CG30: 0 | CH30: 14 | CI30: 0 | CJ30: 0 | CK30: 0

Sheet 111
A1: 1.5 托嬰中心概況
A2: 111年底, End of 2022
A3: 一、所數與收托人數 | AP3: 1.一般身分 | BB3: 2.原住民身分 | BN3: 二、外籍配偶子女人數 | BZ3: 三、專業人員人數
A4: 區域別 | B4: 所數 | F4: 收托人數 ─按性別與年齡分 | AP4: 收托人數─按性別與年齡分 | BB4: 收托人數─按性別與年齡分 | BN4: 收托人數─按性別與年齡分 | BZ4: 總計 | CC4: 主管人員(主任) | CF4: 托育人員 | CI4: 教保人員 | CL4: 助理教保人員 | CO4: 護理人員
F5: 總計 | R5: 私立 | AD5: 公辦民營
B6: 總計 | C6: 公立 | D6: 私立 | E6: 公辦民營 | F6: 合計 | I6: 未滿1歲 | L6: 1-未滿2歲 | O6: 2-未滿3歲 | R6: 合計 | U6: 未滿1歲 | X6: 1-未滿2歲 | AA6: 2-未滿3歲 | AD6: 合計 | AG6: 未滿1歲 | AJ6: 1-未滿2歲 | AM6: 2-未滿3歲 | AP6: 總計 | AS6: 未滿1歲 | AV6: 1-未滿2歲 | AY6: 2-未滿3歲 | BB6: 總計 | BE6: 未滿1歲 | BH6: 1-未滿2歲 | BK6: 2-未滿3歲 | BN6: 總計 | BQ6: 未滿1歲 | BT6: 1-未滿2歲 | BW6: 2-未滿3歲
F7: 計 | G7: 男 | H7: 女 | I7: 計 | J7: 男 | K7: 女 | L7: 計 | M7: 男 | N7: 女 | O7: 計 | P7: 男 | Q7: 女 | R7: 計 | S7: 男 | T7: 女 | U7: 計 | V7: 男 | W7: 女 | X7: 計 | Y7: 男 | Z7: 女 | AA7: 計 | AB7: 男 | AC7: 女 | AD7: 計 | AE7: 男 | AF7: 女 | AG7: 計 | AH7: 男 | AI7: 女 | AJ7: 計 | AK7: 男 | AL7: 女 | AM7: 計 | AN7: 男 | AO7: 女 | AP7: 計 | AQ7: 男 | AR7: 女 | AS7: 計 | AT7: 男 | AU7: 女 | AV7: 計 | AW7: 男 | AX7: 女 | AY7: 計 | AZ7: 男 | BA7: 女 | BB7: 計 | BC7: 男 | BD7: 女 | BE7: 計 | BF7: 男 | BG7: 女 | BH7: 計 | BI7: 男 | BJ7: 女 | BK7: 計 | BL7: 男 | BM7: 女 | BN7: 計 | BO7: 男 | BP7: 女 | BQ7: 計 | BR7: 男 | BS7: 女 | BT7: 計 | BU7: 男 | BV7: 女 | BW7: 計 | BX7: 男 | BY7: 女 | BZ7: 計 | CA7: 男 | CB7: 女 | CC7: 計 | CD7: 男 | CE7: 女 | CF7: 計 | CG7: 男 | CH7: 女 | CI7: 計 | CJ7: 男 | CK7: 女 | CL7: 計 | CM7: 男 | CN7: 女 | CO7: 計 | CP7: 男 | CQ7: 女
A8: 總 計 | B8: 1502 | C8: 0 | D8: 1117 | E8: 385 | F8: 44070 | G8: 22990 | H8: 21080 | I8: 9935 | J8: 5190 | K8: 4745 | L8: 23143 | M8: 12084 | N8: 11059 | O8: 10992 | P8: 5716 | Q8: 5276 | R8: 32228 | S8: 16866 | T8: 15362 | U8: 7843 | V8: 4118 | W8: 3725 | X8: 16694 | Y8: 8703 | Z8: 7991 | AA8: 7691 | AB8: 4045 | AC8: 3646 | AD8: 11842 | AE8: 6124 | AF8: 5718 | AG8: 2092 | AH8: 1072 | AI8: 1020 | AJ8: 6449 | AK8: 3381 | AL8: 3068 | AM8: 3301 | AN8: 1671 | AO8: 1630 | AP8: 42371 | AQ8: 22104 | AR8: 20267 | AS8: 9612 | AT8: 5015 | AU8: 4597 | AV8: 22183 | AW8: 11574 | AX8: 10609 | AY8: 10576 | AZ8: 5515 | BA8: 5061 | BB8: 895 | BC8: 461 | BD8: 434 | BE8: 197 | BF8: 108 | BG8: 89 | BH8: 494 | BI8: 253 | BJ8: 241 | BK8: 204 | BL8: 100 | BM8: 104 | BN8: 804 | BO8: 425 | BP8: 379 | BQ8: 126 | BR8: 67 | BS8: 59 | BT8: 466 | BU8: 257 | BV8: 209 | BW8: 212 | BX8: 101 | BY8: 111 | BZ8: 13007 | CA8: 225 | CB8: 12782 | CC8: 1495 | CD8: 50 | CE8: 1445 | CF8: 11170 | CG8: 173 | CH8: 10997 | CI8: 120 | CJ8: 1 | CK8: 119 | CL8: 12 | CM8: 1 | CN8: 11 | CO8: 210 | CP8: 0 | CQ8: 210
A9: 新北市 | B9: 338 | C9: 0 | D9: 226 | E9: 112 | F9: 12207 | G9: 6343 | H9: 5864 | I9: 2518 | J9: 1315 | K9: 1203 | L9: 5886 | M9: 3108 | N9: 2778 | O9: 3803 | P9: 1920 | Q9: 1883 | R9: 6544 | S9: 3425 | T9: 3119 | U9: 1479 | V9: 789 | W9: 690 | X9: 3123 | Y9: 1641 | Z9: 1482 | AA9: 1942 | AB9: 995 | AC9: 947 | AD9: 5663 | AE9: 2918 | AF9: 2745 | AG9: 1039 | AH9: 526 | AI9: 513 | AJ9: 2763 | AK9: 1467 | AL9: 1296 | AM9: 1861 | AN9: 925 | AO9: 936 | AP9: 11682 | AQ9: 6077 | AR9: 5605 | AS9: 2411 | AT9: 1257 | AU9: 1154 | AV9: 5628 | AW9: 2969 | AX9: 2659 | AY9: 3643 | AZ9: 1851 | BA9: 1792 | BB9: 238 | BC9: 126 | BD9: 112 | BE9: 59 | BF9: 33 | BG9: 26 | BH9: 112 | BI9: 64 | BJ9: 48 | BK9: 67 | BL9: 29 | BM9: 38 | BN9: 287 | BO9: 140 | BP9: 147 | BQ9: 48 | BR9: 25 | BS9: 23 | BT9: 146 | BU9: 75 | BV9: 71 | BW9: 93 | BX9: 40 | BY9: 53 | BZ9: 3610 | CA9: 90 | CB9: 3520 | CC9: 335 | CD9: 11 | CE9: 324 | CF9: 3034 | CG9: 77 | CH9: 2957 | CI9: 116 | CJ9: 1 | CK9: 115 | CL9: 10 | CM9: 1 | CN9: 9 | CO9: 115 | CP9: 0 | CQ9: 115
A10: 臺北市 | B10: 275 | C10: 0 | D10: 194 | E10: 81 | F10: 6324 | G10: 3264 | H10: 3060 | I10: 1352 | J10: 713 | K10: 639 | L10: 3397 | M10: 1722 | N10: 1675 | O10: 1575 | P10: 829 | Q10: 746 | R10: 4619 | S10: 2393 | T10: 2226 | U10: 1048 | V10: 555 | W10: 493 | X10: 2387 | Y10: 1215 | Z10: 1172 | AA10: 1184 | AB10: 623 | AC10: 561 | AD10: 1705 | AE10: 871 | AF10: 834 | AG10: 304 | AH10: 158 | AI10: 146 | AJ10: 1010 | AK10: 507 | AL10: 503 | AM10: 391 | AN10: 206 | AO10: 185 | AP10: 6088 | AQ10: 3145 | AR10: 2943 | AS10: 1312 | AT10: 696 | AU10: 616 | AV10: 3261 | AW10: 1653 | AX10: 1608 | AY10: 1515 | AZ10: 796 | BA10: 719 | BB10: 70 | BC10: 37 | BD10: 33 | BE10: 16 | BF10: 9 | BG10: 7 | BH10: 35 | BI10: 16 | BJ10: 19 | BK10: 19 | BL10: 12 | BM10: 7 | BN10: 166 | BO10: 82 | BP10: 84 | BQ10: 24 | BR10: 8 | BS10: 16 | BT10: 101 | BU10: 53 | BV10: 48 | BW10: 41 | BX10: 21 | BY10: 20 | BZ10: 1946 | CA10: 17 | CB10: 1929 | CC10: 275 | CD10: 5 | CE10: 270 | CF10: 1643 | CG10: 12 | CH10: 1631 | CI10: 0 | CJ10: 0 | CK10: 0 | CL10: 0 | CM10: 0 | CN10: 0 | CO10: 28 | CP10: 0 | CQ10: 28
A11: 桃園市 | B11: 157 | C11: 0 | D11: 117 | E11: 40 | F11: 4676 | G11: 2428 | H11: 2248 | I11: 982 | J11: 506 | K11: 476 | L11: 2397 | M11: 1249 | N11: 1148 | O11: 1297 | P11: 673 | Q11: 624 | R11: 3520 | S11: 1820 | T11: 1700 | U11: 828 | V11: 424 | W11: 404 | X11: 1747 | Y11: 899 | Z11: 848 | AA11: 945 | AB11: 497 | AC11: 448 | AD11: 1156 | AE11: 608 | AF11: 548 | AG11: 154 | AH11: 82 | AI11: 72 | AJ11: 650 | AK11: 350 | AL11: 300 | AM11: 352 | AN11: 176 | AO11: 176 | AP11: 4444 | AQ11: 2301 | AR11: 2143 | AS11: 946 | AT11: 488 | AU11: 458 | AV11: 2258 | AW11: 1168 | AX11: 1090 | AY11: 1240 | AZ11: 645 | BA11: 595 | BB11: 165 | BC11: 85 | BD11: 80 | BE11: 27 | BF11: 14 | BG11: 13 | BH11: 98 | BI11: 53 | BJ11: 45 | BK11: 40 | BL11: 18 | BM11: 22 | BN11: 67 | BO11: 42 | BP11: 25 | BQ11: 9 | BR11: 4 | BS11: 5 | BT11: 41 | BU11: 28 | BV11: 13 | BW11: 17 | BX11: 10 | BY11: 7 | BZ11: 1401 | CA11: 14 | CB11: 1387 | CC11: 155 | CD11: 2 | CE11: 153 | CF11: 1222 | CG11: 12 | CH11: 1210 | CI11: 2 | CJ11: 0 | CK11: 2 | CL11: 2 | CM11: 0 | CN11: 2 | CO11: 20 | CP11: 0 | CQ11: 20
A12: 臺中市 | B12: 196 | C12: 0 | D12: 169 | E12: 27 | F12: 6166 | G12: 3251 | H12: 2915 | I12: 1606 | J12: 851 | K12: 755 | L12: 3189 | M12: 1681 | N12: 1508 | O12: 1371 | P12: 719 | Q12: 652 | R12: 5538 | S12: 2900 | T12: 2638 | U12: 1501 | V12: 789 | W12: 712 | X12: 2801 | Y12: 1471 | Z12: 1330 | AA12: 1236 | AB12: 640 | AC12: 596 | AD12: 628 | AE12: 351 | AF12: 277 | AG12: 105 | AH12: 62 | AI12: 43 | AJ12: 388 | AK12: 210 | AL12: 178 | AM12: 135 | AN12: 79 | AO12: 56 | AP12: 6016 | AQ12: 3169 | AR12: 2847 | AS12: 1573 | AT12: 833 | AU12: 740 | AV12: 3098 | AW12: 1631 | AX12: 1467 | AY12: 1345 | AZ12: 705 | BA12: 640 | BB12: 72 | BC12: 41 | BD12: 31 | BE12: 21 | BF12: 13 | BG12: 8 | BH12: 42 | BI12: 23 | BJ12: 19 | BK12: 9 | BL12: 5 | BM12: 4 | BN12: 78 | BO12: 41 | BP12: 37 | BQ12: 12 | BR12: 5 | BS12: 7 | BT12: 49 | BU12: 27 | BV12: 22 | BW12: 17 | BX12: 9 | BY12: 8 | BZ12: 1701 | CA12: 31 | CB12: 1670 | CC12: 197 | CD12: 4 | CE12: 193 | CF12: 1504 | CG12: 27 | CH12: 1477 | CI12: 0 | CJ12: 0 | CK12: 0 | CL12: 0 | CM12: 0 | CN12: 0 | CO12: 0 | CP12: 0 | CQ12: 0
