Workbook

Sheet 歷年
A1: 1.5-01 托育機構概況
A2: 民國92-104年底
A3: 單位：所；人
A4: 年底別 | B4: 托兒所 | R4: 課後托育中心
B5: 所數 | F5: 保育(含助理)人員數 | I5: 收托兒童人數 | R5: 私立 所數 | S5: 保育(含助理)人員數 | V5: 課後收托服務 (在學兒童)人數
J6: 按性別 | L6: 按類型 | O6: 按年齡
B7: 合計 | C7: 公立 | D7: 私立 | E7: 社區 | F7: 合計 | G7: 男 | H7: 女 | I7: 總人數 | J7: 男 | K7: 女 | L7: 公立 | M7: 私立 | N7: 社區 | O7: 未滿 2歲 | P7: 2-未 滿5歲 | Q7: 5歲 以上 | S7: 合計 | T7: 男 | U7: 女 | V7: 合計 | W7: 男 | X7: 女
A8: 89年, 2000 | B8: 3345 | C8: 295 | D8: 2955 | E8: 95 | F8: 21941 | G8: … | H8: … | I8: 309716 | J8: … | K8: … | L8: 99196 | M8: 202973 | N8: 7547 | O8: … | P8: … | Q8: … | R8: … | S8: … | T8: … | U8: … | V8: … | W8: … | X8: …
A9: 90年, 2001 | B9: 3600 | C9: 297 | D9: 3216 | E9: 87 | F9: 21395 | G9: … | H9: … | I9: 318918 | J9: … | K9: … | L9: 97838 | M9: 213850 | N9: 7230 | O9: … | P9: … | Q9: … | R9: … | S9: … | T9: … | U9: … | V9: … | W9: … | X9: …
A10: 91年, 2002 | B10: 3897 | C10: 296 | D10: 3505 | E10: 96 | F10: 22044 | G10: … | H10: … | I10: 327125 | J10: … | K10: … | L10: 94960 | M10: 224557 | N10: 7608 | O10: … | P10: … | Q10: … | R10: … | S10: … | T10: … | U10: … | V10: … | W10: … | X10: …
A11: 92年, 2003 | B11: 4082 | C11: 291 | D11: 3705 | E11: 86 | F11: 22449 | G11: 296 | H11: 22153 | I11: 302571 | J11: 157417 | K11: 145154 | L11: 81721 | M11: 216374 | N11: 4476 | O11: 9983 | P11: 135124 | Q11: 157464 | R11: 1036 | S11: 1927 | T11: 58 | U11: 1869 | V11: 35276 | W11: 18938 | X11: 16338
A12: 93年, 2004 | B12: 4257 | C12: 288 | D12: 3896 | E12: 73 | F12: 22872 | G12: 378 | H12: 22494 | I12: 300257 | J12: 158239 | K12: 142018 | L12: 83156 | M12: 212229 | N12: 4872 | O12: 7117 | P12: 152276 | Q12: 140864 | R12: 1083 | S12: 1881 | T12: 72 | U12: 1809 | V12: 30686 | W12: 16527 | X12: 14159
A13: 94年, 2005 | B13: 4307 | C13: 280 | D13: 3960 | E13: 67 | F13: 22986 | G13: 391 | H13: 22595 | I13: 290218 | J13: 153163 | K13: 137055 | L13: 76393 | M13: 209375 | N13: 4450 | O13: 9953 | P13: 142337 | Q13: 137928 | R13: 1150 | S13: 1878 | T13: 71 | U13: 1807 | V13: 29828 | W13: 16298 | X13: 13530
B15: 一、所數與收托人數 | W15: 1.一般身分 | AL15: 2.原住民身分 | BA15: 二、外籍配偶子女人數 | BP15: 三、專業人員人數
A16: 年底別 | B16: 所數 | H16: 人數-總計 | W16: 人數-一般身分 | AL16: 人數-原住民身分 | BA16: 托嬰中心 | BD16: 課後托育中心 | BP16: 保母 | CC16: 教保(含助理)人員
B17: 托嬰 中心 | C17: 托兒所 | G17: 課後托育中心 | H17: 收托兒童人數(學齡前) | T17: 國小學童課後① 收托服務人數 | W17: 收托兒童人數(學齡前) | AI17: 國小學童課後收托服務人數 | AL17: 收托兒童人數(學齡前) | AX17: 國小學童課後收托服務人數 | BA17: 人數 | BD17: 按性別與年齡分 | BP17: 合計 | BS17: 托嬰中心 | BU17: 托兒所 | BW17: 課後托 育中心 | BY17: 公私立別 | CC17: 合計 | CF17: 托嬰中心 | CH17: 托兒所 | CJ17: 課後托 育中心 | CL17: 公私立別
H18: 按類別分 | L18: 按性別與年齡分 | W18: 按類別分 | AA18: 按性別與年齡分 | AL18: 按類別分 | AP18: 按性別與年齡分
B19: 私立 所數 | C19: 合計 | D19: 公立 | E19: 私立 | F19: 社區 | G19: 私立 | H19: 合計 | I19: 公立 | J19: 私立 | K19: 社區 | L19: 合計 | N19: 0-未滿2歲 | P19: 2-未滿5歲 | R19: 5歲以上 | T19: 按性別分 | W19: 合計 | X19: 公立 | Y19: 私立 | Z19: 社區 | AA19: 合計 | AC19: 0-未滿2歲 | AE19: 2-未滿5歲 | AG19: 5歲以上 | AI19: 按性別分 | AL19: 合計 | AM19: 公立 | AN19: 私立 | AO19: 社區 | AP19: 合計 | AR19: 0-未滿2歲 | AT19: 2-未滿5歲 | AV19: 5歲以上 | AX19: 按性別分 | BD19: 合計 | BG19: 0-未滿2歲 | BJ19: 2-未滿5歲 | BM19: 5歲以上 | BP19: 計 | BQ19: 男 | BR19: 女 | BS19: 男 | BT19: 女 | BU19: 男 | BV19: 女 | BW19: 男 | BX19: 女 | BY19: 計 | BZ19: 公立 | CA19: 私立 | CB19: 社區 | CC19: 計 | CD19: 男 | CE19: 女 | CF19: 男 | CG19: 女 | CH19: 男 | CI19: 女 | CJ19: 男 | CK19: 女 | CL19: 計 | CM19: 公立 | CN19: 私立 | CO19: 社區
L20: 男 | M20: 女 | N20: 男 | O20: 女 | P20: 男 | Q20: 女 | R20: 男 | S20: 女 | T20: 合計 | U20: 男 | V20: 女 | AA20: 男 | AB20: 女 | AC20: 男 | AD20: 女 | AE20: 男 | AF20: 女 | AG20: 男 | AH20: 女 | AI20: 合計 | AJ20: 男 | AK20: 女 | AP20: 男 | AQ20: 女 | AR20: 男 | AS20: 女 | AT20: 男 | AU20: 女 | AV20: 男 | AW20: 女 | AX20: 合計 | AY20: 男 | AZ20: 女 | BA20: 合計 | BB20: 男 | BC20: 女 | BD20: 合計 | BE20: 男 | BF20: 女 | BG20: 合計 | BH20: 男 | BI20: 女 | BJ20: 合計 | BK20: 男 | BL20: 女 | BM20: 合計 | BN20: 男 | BO20: 女
A21: 95年,2006 | B21: ='95'!B9 -> 111 | C21: ='95'!C9 -> 4213 | D21: ='95'!D9 -> 278 | E21: ='95'!E9 -> 3872 | F21: ='95'!F9 -> 63 | G21: ='95'!G9 -> 1108 | H21: ='95'!H9 -> 267855 | I21: ='95'!I9 -> 70511 | ... BV21: ='95'!BV9 -> 521 | BW21: 0 | BX21: 0 | BY21: ='95'!BW9 -> 656 | BZ21: ='95'!BX9 -> 142 | CA21: ='95'!BY9 -> 507 | CB21: ='95'!BZ9 -> 7 | CC21: ='95'!CA9 -> 25222 | CD21: ='95'!CB9 -> 392 | CE21: ='95'!CC9 -> 24830 | CF21: ='95'!CD9 -> 4 | ... CO21: ='95'!CM9 -> 204
A22: 96年,2007 | B22: ='96'!B9 -> 106 | C22: ='96'!C9 -> 4112 | D22: ='96'!D9 -> 276 | E22: ='96'!E9 -> 3790 | F22: ='96'!F9 -> 46 | G22: ='96'!G9 -> 984 | H22: ='96'!H9 -> 254206 | I22: ='96'!I9 -> 65938 | ... CO22: ='96'!CO9 -> 197
A23: 97年,2008 | B23: ='97'!B9 -> 121 | C23: ='97'!C9 -> 4008 | D23: ='97'!D9 -> 276 | E23: ='97'!E9 -> 3696 | F23: ='97'!F9 -> 36 | G23: ='97'!G9 -> 963 | H23: ='97'!H9 -> 238220 | I23: ='97'!I9 -> 60621 | ... CO23: ='97'!CO9 -> 168
A24: 98年,2009 | B24: ='98'!B9 -> 164 | C24: ='98'!C9 -> 3887 | D24: ='98'!D9 -> 276 | E24: ='98'!E9 -> 3576 | F24: ='98'!F9 -> 35 | G24: ='98'!G9 -> 897 | H24: ='98'!H9 -> 240172 | I24: ='98'!I9 -> 60969 | ... CO24: ='98'!CO9 -> 166
A25: 99年,2010 | B25: ='99'!B9 -> 169 | C25: ='99'!C9 -> 3825 | D25: ='99'!D9 -> 275 | E25: ='99'!E9 -> 3538 | F25: ='99'!F9 -> 12 | G25: ='99'!G9 -> 824 | H25: ='99'!H9 -> 236942 | I25: ='99'!I9 -> 57903 | ... CO25: ='99'!CO9 -> 106
A26: 100年,2011 | B26: ='100'!B9 -> 185 | C26: ='100'!C9 -> 3681 | D26: ='100'!D9 -> 271 | E26: ='100'!E9 -> 3402 | F26: ='100'!F9 -> 8 | G26: ='100'!G9 -> 846 | H26: ='100'!H9 -> 245486 | I26: ='100'!I9 -> 55835 | ... CO26: ='100'!CO9 -> 105
A27: 101年,2012 | B27: ='101'!B9 -> 402 | C27: ='101'!C9 -> 0 | D27: ='101'!D9 -> 0 | E27: ='101'!E9 -> 0 | F27: ='101'!F9 -> 0 | G27: ='101'!G9 -> 687 | H27: ='101'!H9 -> 6861 | I27: ='101'!I9 -> 0 | ... CO27: ='101'!CO9 -> 0
A28: 102年,2013 | B28: ='102'!B9 -> 553 | C28: ='102'!C9 -> 0 | D28: ='102'!D9 -> 0 | E28: ='102'!E9 -> 0 | F28: ='102'!F9 -> 0 | G28: ='102'!G9 -> 22 | H28: ='102'!H9 -> 11362 | I28: ='102'!I9 -> 0 | ... CO28: ='102'!CO9 -> 0
A29: 附註：①自101年1月1日起為幼托整合改制期間，截至102年12月底止，「托兒所」已全數改制為「幼兒園」，由教育部主管，本表「課後托育中心」係指仍由地方政府社會局(處)管理，且尚未改制為「兒童課後照顧服務中心」者。
A31: 1.5 托嬰中心概況
A32: 104-114年
B33: 一、所數與收托人數 | R33: 1.一般身分 | AD33: 2.原住民身分 | AP33: 二、外籍配偶子女人數 | BB33: 三、專業人員人數
A34: 年底別 | B34: 所數 | F34: 人數-按性別與年齡分 | R34: 人數-按性別與年齡分 | AD34: 人數-按性別與年齡分 | AP34: 人數-按性別與年齡分 | BB34: 總計 | BE34: 主管人員(主任) | BH34: 托育人員 | BK34: 教保人員 | BN34: 助理教保人員
B35: 總計 | C35: 公立 | D35: 私立 | E35: 公辦民營 | F35: 總計 | I35: 未滿1歲 | L35: 1-未滿2歲 | O35: 2-未滿3歲 | R35: 總計 | U35: 未滿1歲 | X35: 1-未滿2歲 | AA35: 2-未滿3歲 | AD35: 總計 | AG35: 未滿1歲 | AJ35: 1-未滿2歲 | AM35: 2-未滿3歲 | AP35: 總計 | AS35: 未滿1歲 | AV35: 1-未滿2歲 | AY35: 2-未滿3歲
F36: 計 | G36: 男 | H36: 女 | I36: 計 | J36: 男 | K36: 女 | L36: 計 | M36: 男 | N36: 女 | O36: 計 | P36: 男 | Q36: 女 | R36: 計 | S36: 男 | T36: 女 | U36: 計 | V36: 男 | W36: 女 | X36: 計 | Y36: 男 | Z36: 女 | AA36: 計 | AB36: 男 | AC36: 女 | AD36: 計 | AE36: 男 | AF36: 女 | AG36: 計 | AH36: 男 | AI36: 女 | AJ36: 計 | AK36: 男 | AL36: 女 | AM36: 計 | AN36: 男 | AO36: 女 | AP36: 計 | AQ36: 男 | AR36: 女 | AS36: 計 | AT36: 男 | AU36: 女 | AV36: 計 | AW36: 男 | AX36: 女 | AY36: 計 | AZ36: 男 | BA36: 女 | BB36: 計 | BC36: 男 | BD36: 女 | BE36: 計 | BF36: 男 | BG36: 女 | BH36: 計 | BI36: 男 | BJ36: 女 | BK36: 計 | BL36: 男 | BM36: 女 | BN36: 計 | BO36: 男 | BP36: 女
A37: 104年,2015 | B37: 735 | C37: 0 | D37: 643 | E37: 92 | F37: 17246 | G37: 8982 | H37: 8264 | I37: 4985 | J37: 2563 | K37: 2422 | L37: 8515 | M37: 4466 | N37: 4049 | O37: 3746 | P37: 1953 | Q37: 1793 | R37: 16749 | S37: 8719 | T37: 8030 | U37: 4875 | V37: 2511 | W37: 2364 | X37: 8232 | Y37: 4309 | Z37: 3923 | AA37: 3642 | AB37: 1899 | AC37: 1743 | AD37: 213 | AE37: 111 | AF37: 102 | AG37: 43 | AH37: 19 | AI37: 24 | AJ37: 125 | AK37: 68 | AL37: 57 | AM37: 45 | AN37: 24 | AO37: 21 | AP37: 284 | AQ37: 152 | AR37: 132 | AS37: 67 | AT37: 33 | AU37: 34 | AV37: 158 | AW37: 89 | AX37: 69 | AY37: 59 | AZ37: 30 | BA37: 29 | BB37: 5033 | BC37: 71 | BD37: 4962 | BE37: 728 | BF37: 23 | BG37: 705 | BH37: 4210 | BI37: 46 | BJ37: 4164 | BK37: 73 | BL37: 2 | BM37: 71 | BN37: 22 | BO37: 0 | BP37: 22
A38: 105年,2016 | B38: 808 | C38: 0 | D38: 710 | E38: 98 | F38: 19750 | G38: 10271 | H38: 9479 | I38: 5529 | J38: 2837 | K38: 2692 | L38: 9788 | M38: 5121 | N38: 4667 | O38: 4433 | P38: 2313 | Q38: 2120 | R38: 19236 | S38: 9997 | T38: 9239 | U38: 5397 | V38: 2770 | W38: 2627 | X38: 9524 | Y38: 4979 | Z38: 4545 | AA38: 4315 | AB38: 2248 | AC38: 2067 | AD38: 214 | AE38: 119 | AF38: 95 | AG38: 58 | AH38: 31 | AI38: 27 | AJ38: 122 | AK38: 71 | AL38: 51 | AM38: 34 | AN38: 17 | AO38: 17 | AP38: 300 | AQ38: 155 | AR38: 145 | AS38: 74 | AT38: 36 | AU38: 38 | AV38: 142 | AW38: 71 | AX38: 71 | AY38: 84 | AZ38: 48 | BA38: 36 | BB38: 5725 | BC38: 92 | BD38: 5633 | BE38: 801 | BF38: 34 | BG38: 767 | BH38: 4821 | BI38: 56 | BJ38: 4765 | BK38: 85 | BL38: 2 | BM38: 83 | BN38: 18 | BO38: 0 | BP38: 18
A39: 106年,2017 | B39: 907 | C39: 0 | D39: 784 | E39: 123 | F39: 23066 | G39: 12081 | H39: 10985 | I39: 6009 | J39: 3119 | K39: 2890 | L39: 11573 | M39: 6031 | N39: 5542 | O39: 5484 | P39: 2931 | Q39: 2553 | R39: 22373 | S39: 11715 | T39: 10658 | U39: 5847 | V39: 3042 | W39: 2805 | X39: 11199 | Y39: 5822 | Z39: 5377 | AA39: 5327 | AB39: 2851 | AC39: 2476 | AD39: 362 | AE39: 195 | AF39: 167 | AG39: 92 | AH39: 42 | AI39: 50 | AJ39: 202 | AK39: 111 | AL39: 91 | AM39: 68 | AN39: 42 | AO39: 26 | AP39: 331 | AQ39: 171 | AR39: 160 | AS39: 70 | AT39: 35 | AU39: 35 | AV39: 172 | AW39: 98 | AX39: 74 | AY39: 89 | AZ39: 38 | BA39: 51 | BB39: 6507 | BC39: 97 | BD39: 6410 | BE39: 894 | BF39: 34 | BG39: 860 | BH39: 5554 | BI39: 63 | BJ39: 5491 | BK39: 45 | BL39: 0 | BM39: 45 | BN39: 14 | BO39: 0 | BP39: 14
B41: 一、所數與收托人數 | AP41: 1.一般身分 | BB41: 2.原住民身分 | BN41: 二、外籍配偶子女人數 | BZ41: 三、專業人員人數
A42: 區域別 | B42: 所數 | F42: 收托人數 ─按性別與年齡分 | AP42: 收托人數─按性別與年齡分 | BB42: 收托人數─按性別與年齡分 | BN42: 收托人數─按性別與年齡分 | BZ42: 總計 | CC42: 主管人員(主任) | CF42: 托育人員 | CI42: 教保人員 | CL42: 助理教保人員 | CO42: 護理人員
F43: 總計 | R43: 私立 | AD43: 公辦民營
B44: 總計 | C44: 公立 | D44: 私立 | E44: 公辦民營 | F44: 合計 | I44: 未滿1歲 | L44: 1-未滿2歲 | O44: 2-未滿3歲 | R44: 合計 | U44: 未滿1歲 | X44: 1-未滿2歲 | AA44: 2-未滿3歲 | AD44: 合計 | AG44: 未滿1歲 | AJ44: 1-未滿2歲 | AM44: 2-未滿3歲 | AP44: 總計 | AS44: 未滿1歲 | AV44: 1-未滿2歲 | AY44: 2-未滿3歲 | BB44: 總計 | BE44: 未滿1歲 | BH44: 1-未滿2歲 | BK44: 2-未滿3歲 | BN44: 總計 | BQ44: 未滿1歲 | BT44: 1-未滿2歲 | BW44: 2-未滿3歲
F45: 計 | G45: 男 | H45: 女 | I45: 計 | J45: 男 | K45: 女 | L45: 計 | M45: 男 | N45: 女 | O45: 計 | P45: 男 | Q45: 女 | R45: 計 | S45: 男 | T45: 女 | U45: 計 | V45: 男 | W45: 女 | X45: 計 | Y45: 男 | Z45: 女 | AA45: 計 | AB45: 男 | AC45: 女 | AD45: 計 | AE45: 男 | AF45: 女 | AG45: 計 | AH45: 男 | AI45: 女 | AJ45: 計 | AK45: 男 | AL45: 女 | AM45: 計 | AN45: 男 | AO45: 女 | AP45: 計 | AQ45: 男 | AR45: 女 | AS45: 計 | AT45: 男 | AU45: 女 | AV45: 計 | AW45: 男 | AX45: 女 | AY45: 計 | AZ45: 男 | BA45: 女 | BB45: 計 | BC45: 男 | BD45: 女 | BE45: 計 | BF45: 男 | BG45: 女 | BH45: 計 | BI45: 男 | BJ45: 女 | BK45: 計 | BL45: 男 | BM45: 女 | BN45: 計 | BO45: 男 | BP45: 女 | BQ45: 計 | BR45: 男 | BS45: 女 | BT45: 計 | BU45: 男 | BV45: 女 | BW45: 計 | BX45: 男 | BY45: 女 | BZ45: 計 | CA45: 男 | CB45: 女 | CC45: 計 | CD45: 男 | CE45: 女 | CF45: 計 | CG45: 男 | CH45: 女 | CI45: 計 | CJ45: 男 | CK45: 女 | CL45: 計 | CM45: 男 | CN45: 女 | CO45: 計 | CP45: 男 | CQ45: 女
A46: 107年, 2018 | B46: 1031 | C46: 0 | D46: 852 | E46: 179 | F46: 26637 | G46: 13936 | H46: 12701 | I46: 6681 | J46: 3501 | K46: 3180 | L46: 13326 | M46: 6959 | N46: 6367 | O46: 6630 | P46: 3476 | Q46: 3154 | R46: 20319 | S46: 10635 | T46: 9684 | U46: 5395 | V46: 2839 | W46: 2556 | X46: 10106 | Y46: 5276 | Z46: 4830 | AA46: 4818 | AB46: 2520 | AC46: 2298 | AD46: 6318 | AE46: 3301 | AF46: 3017 | AG46: 1286 | AH46: 662 | AI46: 624 | AJ46: 3220 | AK46: 1683 | AL46: 1537 | AM46: 1812 | AN46: 956 | AO46: 856 | AP46: 25923 | AQ46: 13559 | AR46: 12364 | AS46: 6507 | AT46: 3411 | AU46: 3096 | AV46: 12946 | AW46: 6761 | AX46: 6185 | AY46: 6470 | AZ46: 3387 | BA46: 3083 | BB46: 331 | BC46: 174 | BD46: 157 | BE46: 88 | BF46: 48 | BG46: 40 | BH46: 178 | BI46: 89 | BJ46: 89 | BK46: 65 | BL46: 37 | BM46: 28 | BN46: 383 | BO46: 203 | BP46: 180 | BQ46: 86 | BR46: 42 | BS46: 44 | BT46: 202 | BU46: 109 | BV46: 93 | BW46: 95 | BX46: 52 | BY46: 43 | BZ46: 7520 | CA46: 107 | CB46: 7413 | CC46: 1011 | CD46: 44 | CE46: 967 | CF46: 6425 | CG46: 63 | CH46: 6362 | CI46: 74 | CJ46: 0 | CK46: 74 | CL46: 10 | CM46: 0 | CN46: 10 | CO46: … | CP46: … | CQ46: …
A47: 108年, 2019 | B47: 1135 | C47: 0 | D47: 919 | E47: 216 | F47: 29786 | G47: 15754 | H47: 14032 | I47: 7375 | J47: 3848 | K47: 3527 | L47: 14542 | M47: 7712 | N47: 6830 | O47: 7869 | P47: 4194 | Q47: 3675 | R47: 22582 | S47: 11951 | T47: 10631 | U47: 6021 | V47: 3158 | W47: 2863 | X47: 10994 | Y47: 5815 | Z47: 5179 | AA47: 5567 | AB47: 2978 | AC47: 2589 | AD47: 7204 | AE47: 3803 | AF47: 3401 | AG47: 1354 | AH47: 690 | AI47: 664 | AJ47: 3548 | AK47: 1897 | AL47: 1651 | AM47: 2302 | AN47: 1216 | AO47: 1086 | AP47: 28818 | AQ47: 15237 | AR47: 13581 | AS47: 7158 | AT47: 3740 | AU47: 3418 | AV47: 14029 | AW47: 7435 | AX47: 6594 | AY47: 7631 | AZ47: 4062 | BA47: 3569 | BB47: 490 | BC47: 260 | BD47: 230 | BE47: 125 | BF47: 62 | BG47: 63 | BH47: 254 | BI47: 138 | BJ47: 116 | BK47: 111 | BL47: 60 | BM47: 51 | BN47: 478 | BO47: 257 | BP47: 221 | BQ47: 92 | BR47: 46 | BS47: 46 | BT47: 259 | BU47: 139 | BV47: 120 | BW47: 127 | BX47: 72 | BY47: 55 | BZ47: 8444 | CA47: 140 | CB47: 8304 | CC47: 1133 | CD47: 49 | CE47: 1084 | CF47: 7212 | CG47: 91 | CH47: 7121 | CI47: 89 | CJ47: 0 | CK47: 89 | CL47: 10 | CM47: 0 | CN47: 10 | CO47: … | CP47: … | CQ47: …
A48: 109年, 2020 | B48: 1269 | C48: 0 | D48: 997 | E48: 272 | F48: 35090 | G48: 18390 | H48: 16700 | I48: 8248 | J48: 4209 | K48: 4039 | L48: 16965 | M48: 8940 | N48: 8025 | O48: 9877 | P48: 5241 | Q48: 4636 | R48: 26515 | S48: 13933 | T48: 12582 | U48: 6585 | V48: 3352 | W48: 3233 | X48: 12586 | Y48: 6677 | Z48: 5909 | AA48: 7344 | AB48: 3904 | AC48: 3440 | AD48: 8575 | AE48: 4457 | AF48: 4118 | AG48: 1663 | AH48: 857 | AI48: 806 | AJ48: 4379 | AK48: 2263 | AL48: 2116 | AM48: 2533 | AN48: 1337 | AO48: 1196 | AP48: 33652 | AQ48: 17650 | AR48: 16002 | AS48: 7952 | AT48: 4050 | AU48: 3902 | AV48: 16231 | AW48: 8565 | AX48: 7666 | AY48: 9469 | AZ48: 5035 | BA48: 4434 | BB48: 673 | BC48: 332 | BD48: 341 | BE48: 141 | BF48: 72 | BG48: 69 | BH48: 362 | BI48: 180 | BJ48: 182 | BK48: 170 | BL48: 80 | BM48: 90 | BN48: 765 | BO48: 408 | BP48: 357 | BQ48: 155 | BR48: 87 | BS48: 68 | BT48: 372 | BU48: 195 | BV48: 177 | BW48: 238 | BX48: 126 | BY48: 112 | BZ48: 9883 | CA48: 159 | CB48: 9724 | CC48: 1258 | CD48: 47 | CE48: 1211 | CF48: 8512 | CG48: 109 | CH48: 8403 | CI48: 102 | CJ48: 3 | CK48: 99 | CL48: 11 | CM48: 0 | CN48: 11 | CO48: … | CP48: … | CQ48: …
A49: 110年, 2021 | B49: 1376 | C49: 0 | D49: 1058 | E49: 318 | F49: 38938 | G49: 20370 | H49: 18568 | I49: 9325 | J49: 4797 | K49: 4528 | L49: 18894 | M49: 9860 | N49: 9034 | O49: 10719 | P49: 5713 | Q49: 5006 | R49: 29019 | S49: 15221 | T49: 13798 | U49: 7559 | V49: 3890 | W49: 3669 | X49: 13770 | Y49: 7187 | Z49: 6583 | AA49: 7690 | AB49: 4144 | AC49: 3546 | AD49: 9919 | AE49: 5149 | AF49: 4770 | AG49: 1766 | AH49: 907 | AI49: 859 | AJ49: 5124 | AK49: 2673 | AL49: 2451 | AM49: 3029 | AN49: 1569 | AO49: 1460 | AP49: 37363 | AQ49: 19546 | AR49: 17817 | AS49: 8993 | AT49: 4620 | AU49: 4373 | AV49: 18105 | AW49: 9446 | AX49: 8659 | AY49: 10265 | AZ49: 5480 | BA49: 4785 | BB49: 743 | BC49: 388 | BD49: 355 | BE49: 176 | BF49: 94 | BG49: 82 | BH49: 380 | BI49: 199 | BJ49: 181 | BK49: 187 | BL49: 95 | BM49: 92 | BN49: 833 | BO49: 437 | BP49: 396 | BQ49: 156 | BR49: 83 | BS49: 73 | BT49: 420 | BU49: 216 | BV49: 204 | BW49: 257 | BX49: 138 | BY49: 119 | BZ49: 11225 | CA49: 180 | CB49: 11045 | CC49: 1370 | CD49: 49 | CE49: 1321 | CF49: 9742 | CG49: 128 | CH49: 9614 | CI49: 101 | CJ49: 2 | CK49: 99 | CL49: 12 | CM49: 1 | CN49: 11 | CO49: … | CP49: … | CQ49: …
A50: 111年, 2022 | B50: 1502 | C50: 0 | D50: 1117 | E50: 385 | F50: 44070 | G50: 22990 | H50: 21080 | I50: 9935 | J50: 5190 | K50: 4745 | L50: 23143 | M50: 12084 | N50: 11059 | O50: 10992 | P50: 5716 | Q50: 5276 | R50: 32228 | S50: 16866 | T50: 15362 | U50: 7843 | V50: 4118 | W50: 3725 | X50: 16694 | Y50: 8703 | Z50: 7991 | AA50: 7691 | AB50: 4045 | AC50: 3646 | AD50: 11842 | AE50: 6124 | AF50: 5718 | AG50: 2092 | AH50: 1072 | AI50: 1020 | AJ50: 6449 | AK50: 3381 | AL50: 3068 | AM50: 3301 | AN50: 1671 | AO50: 1630 | AP50: 42371 | AQ50: 22104 | AR50: 20267 | AS50: 9612 | AT50: 5015 | AU50: 4597 | AV50: 22183 | AW50: 11574 | AX50: 10609 | AY50: 10576 | AZ50: 5515 | BA50: 5061 | BB50: 895 | BC50: 461 | BD50: 434 | BE50: 197 | BF50: 108 | BG50: 89 | BH50: 494 | BI50: 253 | BJ50: 241 | BK50: 204 | BL50: 100 | BM50: 104 | BN50: 804 | BO50: 425 | BP50: 379 | BQ50: 126 | BR50: 67 | BS50: 59 | BT50: 466 | BU50: 257 | BV50: 209 | BW50: 212 | BX50: 101 | BY50: 111 | BZ50: 13007 | CA50: 225 | CB50: 12782 | CC50: 1495 | CD50: 50 | CE50: 1445 | CF50: 11170 | CG50: 173 | CH50: 10997 | CI50: 120 | CJ50: 1 | CK50: 119 | CL50: 12 | CM50: 1 | CN50: 11 | CO50: 210 | CP50: 0 | CQ50: 210
B52: 一、所數與收托人數 | AP52: 1.一般身分 | BB52: 2.原住民身分 | BN52: 二、外籍配偶子女人數 | BZ52: 三、專業人員人數
A53: 區域別 | B53: 所數 | F53: 收托人數 ─按性別與年齡分 | AP53: 收托人數─按性別與年齡分 | BB53: 收托人數─按性別與年齡分 | BN53: 收托人數─按性別與年齡分 | BZ53: 總計 | CC53: 主管人員(主任) | CF53: 托育人員 | CI53: 護理人員
F54: 總計 | R54: 私立 | AD54: 公辦民營
B55: 總計 | C55: 公立 | D55: 私立 | E55: 公辦民營 | F55: 合計 | I55: 未滿1歲 | L55: 1-未滿2歲 | O55: 2-未滿3歲 | R55: 合計 | U55: 未滿1歲 | X55: 1-未滿2歲 | AA55: 2-未滿3歲 | AD55: 合計 | AG55: 未滿1歲 | AJ55: 1-未滿2歲 | AM55: 2-未滿3歲 | AP55: 總計 | AS55: 未滿1歲 | AV55: 1-未滿2歲 | AY55: 2-未滿3歲 | BB55: 總計 | BE55: 未滿1歲 | BH55: 1-未滿2歲 | BK55: 2-未滿3歲 | BN55: 總計 | BQ55: 未滿1歲 | BT55: 1-未滿2歲 | BW55: 2-未滿3歲
F56: 計 | G56: 男 | H56: 女 | I56: 計 | J56: 男 | K56: 女 | L56: 計 | M56: 男 | N56: 女 | O56: 計 | P56: 男 | Q56: 女 | R56: 計 | S56: 男 | T56: 女 | U56: 計 | V56: 男 | W56: 女 | X56: 計 | Y56: 男 | Z56: 女 | AA56: 計 | AB56: 男 | AC56: 女 | AD56: 計 | AE56: 男 | AF56: 女 | AG56: 計 | AH56: 男 | AI56: 女 | AJ56: 計 | AK56: 男 | AL56: 女 | AM56: 計 | AN56: 男 | AO56: 女 | AP56: 計 | AQ56: 男 | AR56: 女 | AS56: 計 | AT56: 男 | AU56: 女 | AV56: 計 | AW56: 男 | AX56: 女 | AY56: 計 | AZ56: 男 | BA56: 女 | BB56: 計 | BC56: 男 | BD56: 女 | BE56: 計 | BF56: 男 | BG56: 女 | BH56: 計 | BI56: 男 | BJ56: 女 | BK56: 計 | BL56: 男 | BM56: 女 | BN56: 計 | BO56: 男 | BP56: 女 | BQ56: 計 | BR56: 男 | BS56: 女 | BT56: 計 | BU56: 男 | BV56: 女 | BW56: 計 | BX56: 男 | BY56: 女 | BZ56: 計 | CA56: 男 | CB56: 女 | CC56: 計 | CD56: 男 | CE56: 女 | CF56: 計 | CG56: 男 | CH56: 女 | CI56: 計 | CJ56: 男 | CK56: 女
A57: 112年, 2023 | B57: 1639 | C57: 0 | D57: 1199 | E57: 440 | F57: 49217 | G57: 25872 | H57: 23345 | I57: 11724 | J57: 6131 | K57: 5593 | L57: 24700 | M57: 13034 | N57: 11666 | O57: 12793 | P57: 6707 | Q57: 6086 | R57: 35279 | S57: 18522 | T57: 16757 | U57: 9494 | V57: 4951 | W57: 4543 | X57: 17284 | Y57: 9111 | Z57: 8173 | AA57: 8501 | AB57: 4460 | AC57: 4041 | AD57: 13938 | AE57: 7350 | AF57: 6588 | AG57: 2230 | AH57: 1180 | AI57: 1050 | AJ57: 7416 | AK57: 3923 | AL57: 3493 | AM57: 4292 | AN57: 2247 | AO57: 2045 | AP57: 47285 | AQ57: 24851 | AR57: 22434 | AS57: 11337 | AT57: 5941 | AU57: 5396 | AV57: 23702 | AW57: 12494 | AX57: 11208 | AY57: 12246 | AZ57: 6416 | BA57: 5830 | BB57: 1135 | BC57: 602 | BD57: 533 | BE57: 237 | BF57: 107 | BG57: 130 | BH57: 615 | BI57: 343 | BJ57: 272 | BK57: 283 | BL57: 152 | BM57: 131 | BN57: 797 | BO57: 419 | BP57: 378 | BQ57: 150 | BR57: 83 | BS57: 67 | BT57: 383 | BU57: 197 | BV57: 186 | BW57: 264 | BX57: 139 | BY57: 125 | BZ57: 15055 | CA57: 242 | CB57: 14813 | CC57: 1626 | CD57: 55 | CE57: 1571 | CF57: 13189 | CG57: 187 | CH57: 13002 | CI57: 240 | CJ57: 0 | CK57: 240
A58: 113年, 2024 | B58: 1771 | C58: 0 | D58: 1289 | E58: 482 | F58: 55688 | G58: 29084 | H58: 26604 | I58: 14006 | J58: 7256 | K58: 6750 | L58: 28271 | M58: 14816 | N58: 13455 | O58: 13411 | P58: 7012 | Q58: 6399 | R58: 40503 | S58: 21095 | T58: 19408 | U58: 11273 | V58: 5823 | W58: 5450 | X58: 20261 | Y58: 10588 | Z58: 9673 | AA58: 8969 | AB58: 4684 | AC58: 4285 | AD58: 15185 | AE58: 7989 | AF58: 7196 | AG58: 2733 | AH58: 1433 | AI58: 1300 | AJ58: 8010 | AK58: 4228 | AL58: 3782 | AM58: 4442 | AN58: 2328 | AO58: 2114 | AP58: 53262 | AQ58: 27821 | AR58: 25441 | AS58: 13473 | AT58: 6967 | AU58: 6506 | AV58: 26950 | AW58: 14153 | AX58: 12797 | AY58: 12839 | AZ58: 6701 | BA58: 6138 | BB58: 1515 | BC58: 779 | BD58: 736 | BE58: 347 | BF58: 188 | BG58: 159 | BH58: 845 | BI58: 421 | BJ58: 424 | BK58: 323 | BL58: 170 | BM58: 153 | BN58: 911 | BO58: 484 | BP58: 427 | BQ58: 186 | BR58: 101 | BS58: 85 | BT58: 476 | BU58: 242 | BV58: 234 | BW58: 249 | BX58: 141 | BY58: 108 | BZ58: 17208 | CA58: 238 | CB58: 16970 | CC58: 1750 | CD58: 58 | CE58: 1692 | CF58: 15181 | CG58: 180 | CH58: 15001 | CI58: 277 | CJ58: 0 | CK58: 277
A59: 114年, 2025 | B59: 1904 | C59: 0 | D59: 1374 | E59: 530 | F59: 61383 | G59: 32107 | H59: 29276 | I59: 14209 | J59: 7491 | K59: 6718 | L59: 33200 | M59: 17311 | N59: 15889 | O59: 13974 | P59: 7305 | Q59: 6669 | R59: 44495 | S59: 23172 | T59: 21323 | U59: 11356 | V59: 5984 | W59: 5372 | X59: 23633 | Y59: 12249 | Z59: 11384 | AA59: 9506 | AB59: 4939 | AC59: 4567 | AD59: 16888 | AE59: 8935 | AF59: 7953 | AG59: 2853 | AH59: 1507 | AI59: 1346 | AJ59: 9567 | AK59: 5062 | AL59: 4505 | AM59: 4468 | AN59: 2366 | AO59: 2102 | AP59: 58234 | AQ59: 30450 | AR59: 27784 | AS59: 13582 | AT59: 7145 | AU59: 6437 | AV59: 31425 | AW59: 16370 | AX59: 15055 | AY59: 13227 | AZ59: 6935 | BA59: 6292 | BB59: 2048 | BC59: 1090 | BD59: 958 | BE59: 418 | BF59: 238 | BG59: 180 | BH59: 1176 | BI59: 628 | BJ59: 548 | BK59: 454 | BL59: 224 | BM59: 230 | BN59: 1101 | BO59: 567 | BP59: 534 | BQ59: 209 | BR59: 108 | BS59: 101 | BT59: 599 | BU59: 313 | BV59: 286 | BW59: 293 | BX59: 146 | BY59: 147 | BZ59: 19109 | CA59: 259 | CB59: 18850 | CC59: 1886 | CD59: 64 | CE59: 1822 | CF59: 16917 | CG59: 195 | CH59: 16722 | CI59: 306 | CJ59: 0 | CK59: 306
A61: 資料來源：直轄市、縣﹝市﹞政府。
A62: Source : County and City Government.
A63: 說明 : 1.依據兒童及少年福利機構專業人員資格及訓練辦法第3條第3項規定，托嬰中心原具備教保及助理教保人員資格者，得遴用為托育人員至111年5月30日止，爰統計至111年止。
A64: 2.護理人員自111年起開始統計。
A65: explanation：The integration and integration of kindergartens commenced on the 1st of January 2012. “Kindergartens” were comprehensively changed to “preschools” as of the end of December 2013, with the Ministry of Education as the competent authority. The statistics presented in the present document are based on the cumulative number of childcare centers registered at local social welfare departments (offices) in 2014.

Sheet 114
A1: 1.5 托嬰中心概況
A2: 114年底, End of 2024
A3: 一、所數與收托人數 | AP3: 1.一般身分 | BB3: 2.原住民身分 | BN3: 二、新住民子女人數 | BZ3: 三、專業人員人數
A4: 區域別 | B4: 所數 | F4: 收托人數 ─按性別與年齡分 | AP4: 收托人數─按性別與年齡分 | BB4: 收托人數─按性別與年齡分 | BN4: 收托人數─按性別與年齡分 | BZ4: 總計 | CC4: 主管人員(主任) | CF4: 托育人員 | CI4: 護理人員
F5: 總計 | R5: 私立 | AD5: 公辦民營
B6: 總計 | C6: 公立 | D6: 私立 | E6: 公辦民營 | F6: 合計 | I6: 未滿1歲 | L6: 1-未滿2歲 | O6: 2-未滿3歲 | R6: 合計 | U6: 未滿1歲 | X6: 1-未滿2歲 | AA6: 2-未滿3歲 | AD6: 合計 | AG6: 未滿1歲 | AJ6: 1-未滿2歲 | AM6: 2-未滿3歲 | AP6: 總計 | AS6: 未滿1歲 | AV6: 1-未滿2歲 | AY6: 2-未滿3歲 | BB6: 總計 | BE6: 未滿1歲 | BH6: 1-未滿2歲 | BK6: 2-未滿3歲 | BN6: 總計 | BQ6: 未滿1歲 | BT6: 1-未滿2歲 | BW6: 2-未滿3歲
F7: 計 | G7: 男 | H7: 女 | I7: 計 | J7: 男 | K7: 女 | L7: 計 | M7: 男 | N7: 女 | O7: 計 | P7: 男 | Q7: 女 | R7: 計 | S7: 男 | T7: 女 | U7: 計 | V7: 男 | W7: 女 | X7: 計 | Y7: 男 | Z7: 女 | AA7: 計 | AB7: 男 | AC7: 女 | AD7: 計 | AE7: 男 | AF7: 女 | AG7: 計 | AH7: 男 | AI7: 女 | AJ7: 計 | AK7: 男 | AL7: 女 | AM7: 計 | AN7: 男 | AO7: 女 | AP7: 計 | AQ7: 男 | AR7: 女 | AS7: 計 | AT7: 男 | AU7: 女 | AV7: 計 | AW7: 男 | AX7: 女 | AY7: 計 | AZ7: 男 | BA7: 女 | BB7: 計 | BC7: 男 | BD7: 女 | BE7: 計 | BF7: 男 | BG7: 女 | BH7: 計 | BI7: 男 | BJ7: 女 | BK7: 計 | BL7: 男 | BM7: 女 | BN7: 計 | BO7: 男 | BP7: 女 | BQ7: 計 | BR7: 男 | BS7: 女 | BT7: 計 | BU7: 男 | BV7: 女 | BW7: 計 | BX7: 男 | BY7: 女 | BZ7: 計 | CA7: 男 | CB7: 女 | CC7: 計 | CD7: 男 | CE7: 女 | CF7: 計 | CG7: 男 | CH7: 女 | CI7: 計 | CJ7: 男 | CK7: 女
A8: 總 計 | B8: 1904 | C8: 0 | D8: 1374 | E8: 530 | F8: 61383 | G8: 32107 | H8: 29276 | I8: 14209 | J8: 7491 | K8: 6718 | L8: 33200 | M8: 17311 | N8: 15889 | O8: 13974 | P8: 7305 | Q8: 6669 | R8: 44495 | S8: 23172 | T8: 21323 | U8: 11356 | V8: 5984 | W8: 5372 | X8: 23633 | Y8: 12249 | Z8: 11384 | AA8: 9506 | AB8: 4939 | AC8: 4567 | AD8: 16888 | AE8: 8935 | AF8: 7953 | AG8: 2853 | AH8: 1507 | AI8: 1346 | AJ8: 9567 | AK8: 5062 | AL8: 4505 | AM8: 4468 | AN8: 2366 | AO8: 2102 | AP8: 58234 | AQ8: 30450 | AR8: 27784 | AS8: 13582 | AT8: 7145 | AU8: 6437 | AV8: 31425 | AW8: 16370 | AX8: 15055 | AY8: 13227 | AZ8: 6935 | BA8: 6292 | BB8: 2048 | BC8: 1090 | BD8: 958 | BE8: 418 | BF8: 238 | BG8: 180 | BH8: 1176 | BI8: 628 | BJ8: 548 | BK8: 454 | BL8: 224 | BM8: 230 | BN8: 1101 | BO8: 567 | BP8: 534 | BQ8: 209 | BR8: 108 | BS8: 101 | BT8: 599 | BU8: 313 | BV8: 286 | BW8: 293 | BX8: 146 | BY8: 147 | BZ8: 19109 | CA8: 259 | CB8: 18850 | CC8: 1886 | CD8: 64 | CE8: 1822 | CF8: 16917 | CG8: 195 | CH8: 16722 | CI8: 306 | CJ8: 0 | CK8: 306
A9: 新北市 | B9: 383 | C9: 0 | D9: 257 | E9: 126 | F9: 14519 | G9: 7564 | H9: 6955 | I9: 2939 | J9: 1541 | K9: 1398 | L9: 7185 | M9: 3682 | N9: 3503 | O9: 4395 | P9: 2341 | Q9: 2054 | R9: 8223 | S9: 4281 | T9: 3942 | U9: 1942 | V9: 1021 | W9: 921 | X9: 4029 | Y9: 2059 | Z9: 1970 | AA9: 2252 | AB9: 1201 | AC9: 1051 | AD9: 6296 | AE9: 3283 | AF9: 3013 | AG9: 997 | AH9: 520 | AI9: 477 | AJ9: 3156 | AK9: 1623 | AL9: 1533 | AM9: 2143 | AN9: 1140 | AO9: 1003 | AP9: 13874 | AQ9: 7220 | AR9: 6654 | AS9: 2825 | AT9: 1473 | AU9: 1352 | AV9: 6862 | AW9: 3512 | AX9: 3350 | AY9: 4187 | AZ9: 2235 | BA9: 1952 | BB9: 376 | BC9: 204 | BD9: 172 | BE9: 70 | BF9: 43 | BG9: 27 | BH9: 191 | BI9: 102 | BJ9: 89 | BK9: 115 | BL9: 59 | BM9: 56 | BN9: 269 | BO9: 140 | BP9: 129 | BQ9: 44 | BR9: 25 | BS9: 19 | BT9: 132 | BU9: 68 | BV9: 64 | BW9: 93 | BX9: 47 | BY9: 46 | BZ9: 4625 | CA9: 58 | CB9: 4567 | CC9: 375 | CD9: 19 | CE9: 356 | CF9: 4123 | CG9: 39 | CH9: 4084 | CI9: 127 | CJ9: 0 | CK9: 127
A10: 臺北市 | B10: 314 | C10: 0 | D10: 221 | E10: 93 | F10: 7465 | G10: 3851 | H10: 3614 | I10: 1710 | J10: 890 | K10: 820 | L10: 4072 | M10: 2130 | N10: 1942 | O10: 1683 | P10: 831 | Q10: 852 | R10: 5442 | S10: 2782 | T10: 2660 | U10: 1359 | V10: 715 | W10: 644 | X10: 2844 | Y10: 1466 | Z10: 1378 | AA10: 1239 | AB10: 601 | AC10: 638 | AD10: 2023 | AE10: 1069 | AF10: 954 | AG10: 351 | AH10: 175 | AI10: 176 | AJ10: 1228 | AK10: 664 | AL10: 564 | AM10: 444 | AN10: 230 | AO10: 214 | AP10: 7061 | AQ10: 3628 | AR10: 3433 | AS10: 1636 | AT10: 843 | AU10: 793 | AV10: 3848 | AW10: 2005 | AX10: 1843 | AY10: 1577 | AZ10: 780 | BA10: 797 | BB10: 138 | BC10: 75 | BD10: 63 | BE10: 21 | BF10: 14 | BG10: 7 | BH10: 87 | BI10: 49 | BJ10: 38 | BK10: 30 | BL10: 12 | BM10: 18 | BN10: 266 | BO10: 148 | BP10: 118 | BQ10: 53 | BR10: 33 | BS10: 20 | BT10: 137 | BU10: 76 | BV10: 61 | BW10: 76 | BX10: 39 | BY10: 37 | BZ10: 2334 | CA10: 21 | CB10: 2313 | CC10: 313 | CD10: 5 | CE10: 308 | CF10: 1987 | CG10: 16 | CH10: 1971 | CI10: 34 | CJ10: 0 | CK10: 34
A11: 桃園市 | B11: 222 | C11: 0 | D11: 165 | E11: 57 | F11: 7391 | G11: 3900 | H11: 3491 | I11: 1704 | J11: 896 | K11: 808 | L11: 3940 | M11: 2080 | N11: 1860 | O11: 1747 | P11: 924 | Q11: 823 | R11: 5603 | S11: 2942 | T11: 2661 | U11: 1372 | V11: 724 | W11: 648 | X11: 2993 | Y11: 1560 | Z11: 1433 | AA11: 1238 | AB11: 658 | AC11: 580 | AD11: 1788 | AE11: 958 | AF11: 830 | AG11: 332 | AH11: 172 | AI11: 160 | AJ11: 947 | AK11: 520 | AL11: 427 | AM11: 509 | AN11: 266 | AO11: 243 | AP11: 6843 | AQ11: 3616 | AR11: 3227 | AS11: 1586 | AT11: 829 | AU11: 757 | AV11: 3651 | AW11: 1930 | AX11: 1721 | AY11: 1606 | AZ11: 857 | BA11: 749 | BB11: 447 | BC11: 241 | BD11: 206 | BE11: 100 | BF11: 61 | BG11: 39 | BH11: 234 | BI11: 126 | BJ11: 108 | BK11: 113 | BL11: 54 | BM11: 59 | BN11: 101 | BO11: 43 | BP11: 58 | BQ11: 18 | BR11: 6 | BS11: 12 | BT11: 55 | BU11: 24 | BV11: 31 | BW11: 28 | BX11: 13 | BY11: 15 | BZ11: 2323 | CA11: 28 | CB11: 2295 | CC11: 220 | CD11: 2 | CE11: 218 | CF11: 2071 | CG11: 26 | CH11: 2045 | CI11: 32 | CJ11: 0 | CK11: 32
A12: 臺中市 | B12: 246 | C12: 0 | D12: 198 | E12: 48 | F12: 8747 | G12: 4558 | H12: 4189 | I12: 2175 | J12: 1137 | K12: 1038 | L12: 4681 | M12: 2424 | N12: 2257 | O12: 1891 | P12: 997 | Q12: 894 | R12: 7390 | S12: 3836 | T12: 3554 | U12: 2008 | V12: 1048 | W12: 960 | X12: 3848 | Y12: 1979 | Z12: 1869 | AA12: 1534 | AB12: 809 | AC12: 725 | AD12: 1357 | AE12: 722 | AF12: 635 | AG12: 167 | AH12: 89 | AI12: 78 | AJ12: 833 | AK12: 445 | AL12: 388 | AM12: 357 | AN12: 188 | AO12: 169 | AP12: 8370 | AQ12: 4371 | AR12: 3999 | AS12: 2091 | AT12: 1095 | AU12: 996 | AV12: 4467 | AW12: 2318 | AX12: 2149 | AY12: 1812 | AZ12: 958 | BA12: 854 | BB12: 261 | BC12: 128 | BD12: 133 | BE12: 64 | BF12: 29 | BG12: 35 | BH12: 157 | BI12: 79 | BJ12: 78 | BK12: 40 | BL12: 20 | BM12: 20 | BN12: 116 | BO12: 59 | BP12: 57 | BQ12: 20 | BR12: 13 | BS12: 7 | BT12: 57 | BU12: 27 | BV12: 30 | BW12: 39 | BX12: 19 | BY12: 20 | BZ12: 2595 | CA12: 48 | CB12: 2547 | CC12: 249 | CD12: 8 | CE12: 241 | CF12: 2342 | CG12: 40 | CH12: 2302 | CI12: 4 | CJ12: 0 | CK12: 4
A13: 臺南市 | B13: 156 | C13: 0 | D13: 139 | E13: 17 | F13: 4824 | G13: 2520 | H13: 2304 | I13: 1230 | J13: 647 | K13: 583 | L13: 2826 | M13: 1484 | N13: 1342 | O13: 768 | P13: 389 | Q13: 379 | R13: 4524 | S13: 2368 | T13: 2156 | U13: 1191 | V13: 630 | W13: 561 | X13: 2627 | Y13: 1376 | Z13: 1251 | AA13: 706 | AB13: 362 | AC13: 344 | AD13: 300 | AE13: 152 | AF13: 148 | AG13: 39 | AH13: 17 | AI13: 22 | AJ13: 199 | AK13: 108 | AL13: 91 | AM13: 62 | AN13: 27 | AO13: 35 | AP13: 4718 | AQ13: 2462 | AR13: 2256 | AS13: 1205 | AT13: 632 | AU13: 573 | AV13: 2757 | AW13: 1444 | AX13: 1313 | AY13: 756 | AZ13: 386 | BA13: 370 | BB13: 58 | BC13: 34 | BD13: 24 | BE13: 17 | BF13: 11 | BG13: 6 | BH13: 34 | BI13: 22 | BJ13: 12 | BK13: 7 | BL13: 1 | BM13: 6 | BN13: 48 | BO13: 24 | BP13: 24 | BQ13: 8 | BR13: 4 | BS13: 4 | BT13: 35 | BU13: 18 | BV13: 17 | BW13: 5 | BX13: 2 | BY13: 3 | BZ13: 1497 | CA13: 24 | CB13: 1473 | CC13: 156 | CD13: 3 | CE13: 153 | CF13: 1337 | CG13: 21 | CH13: 1316 | CI13: 4 | CJ13: 0 | CK13: 4
A14: 高雄市 | B14: 144 | C14: 0 | D14: 77 | E14: 67 | F14: 5016 | G14: 2687 | H14: 2329 | I14: 1202 | J14: 654 | K14: 548 | L14: 3007 | M14: 1614 | N14: 1393 | O14: 807 | P14: 419 | Q14: 388 | R14: 2875 | S14: 1554 | T14: 1321 | U14: 776 | V14: 433 | W14: 343 | X14: 1669 | Y14: 899 | Z14: 770 | AA14: 430 | AB14: 222 | AC14: 208 | AD14: 2141 | AE14: 1133 | AF14: 1008 | AG14: 426 | AH14: 221 | AI14: 205 | AJ14: 1338 | AK14: 715 | AL14: 623 | AM14: 377 | AN14: 197 | AO14: 180 | AP14: 4698 | AQ14: 2523 | AR14: 2175 | AS14: 1140 | AT14: 628 | AU14: 512 | AV14: 2799 | AW14: 1499 | AX14: 1300 | AY14: 759 | AZ14: 396 | BA14: 363 | BB14: 196 | BC14: 104 | BD14: 92 | BE14: 38 | BF14: 18 | BG14: 20 | BH14: 129 | BI14: 73 | BJ14: 56 | BK14: 29 | BL14: 13 | BM14: 16 | BN14: 122 | BO14: 60 | BP14: 62 | BQ14: 24 | BR14: 8 | BS14: 16 | BT14: 79 | BU14: 42 | BV14: 37 | BW14: 19 | BX14: 10 | BY14: 9 | BZ14: 1577 | CA14: 21 | CB14: 1556 | CC14: 142 | CD14: 4 | CE14: 138 | CF14: 1380 | CG14: 17 | CH14: 1363 | CI14: 55 | CJ14: 0 | CK14: 55
A15: 宜蘭縣 | B15: 31 | C15: 0 | D15: 12 | E15: 19 | F15: 931 | G15: 486 | H15: 445 | I15: 205 | J15: 104 | K15: 101 | L15: 574 | M15: 299 | N15: 275 | O15: 152 | P15: 83 | Q15: 69 | R15: 401 | S15: 213 | T15: 188 | U15: 128 | V15: 69 | W15: 59 | X15: 228 | Y15: 118 | Z15: 110 | AA15: 45 | AB15: 26 | AC15: 19 | AD15: 530 | AE15: 273 | AF15: 257 | AG15: 77 | AH15: 35 | AI15: 42 | AJ15: 346 | AK15: 181 | AL15: 165 | AM15: 107 | AN15: 57 | AO15: 50 | AP15: 852 | AQ15: 438 | AR15: 414 | AS15: 188 | AT15: 93 | AU15: 95 | AV15: 523 | AW15: 268 | AX15: 255 | AY15: 141 | AZ15: 77 | BA15: 64 | BB15: 59 | BC15: 33 | BD15: 26 | BE15: 12 | BF15: 7 | BG15: 5 | BH15: 39 | BI15: 22 | BJ15: 17 | BK15: 8 | BL15: 4 | BM15: 4 | BN15: 20 | BO15: 15 | BP15: 5 | BQ15: 5 | BR15: 4 | BS15: 1 | BT15: 12 | BU15: 9 | BV15: 3 | BW15: 3 | BX15: 2 | BY15: 1 | BZ15: 308 | CA15: 4 | CB15: 304 | CC15: 29 | CD15: 2 | CE15: 27 | CF15: 260 | CG15: 2 | CH15: 258 | CI15: 19 | CJ15: 0 | CK15: 19
A16: 新竹縣 | B16: 95 | C16: 0 | D16: 86 | E16: 9 | F16: 2718 | G16: 1437 | H16: 1281 | I16: 662 | J16: 352 | K16: 310 | L16: 1414 | M16: 752 | N16: 662 | O16: 642 | P16: 333 | Q16: 309 | R16: 2524 | S16: 1325 | T16: 1199 | U16: 626 | V16: 328 | W16: 298 | X16: 1300 | Y16: 689 | Z16: 611 | AA16: 598 | AB16: 308 | AC16: 290 | AD16: 194 | AE16: 112 | AF16: 82 | AG16: 36 | AH16: 24 | AI16: 12 | AJ16: 114 | AK16: 63 | AL16: 51 | AM16: 44 | AN16: 25 | AO16: 19 | AP16: 2617 | AQ16: 1383 | AR16: 1234 | AS16: 634 | AT16: 335 | AU16: 299 | AV16: 1367 | AW16: 729 | AX16: 638 | AY16: 616 | AZ16: 319 | BA16: 297 | BB16: 71 | BC16: 40 | BD16: 31 | BE16: 19 | BF16: 13 | BG16: 6 | BH16: 35 | BI16: 17 | BJ16: 18 | BK16: 17 | BL16: 10 | BM16: 7 | BN16: 30 | BO16: 14 | BP16: 16 | BQ16: 9 | BR16: 4 | BS16: 5 | BT16: 12 | BU16: 6 | BV16: 6 | BW16: 9 | BX16: 4 | BY16: 5 | BZ16: 849 | CA16: 13 | CB16: 836 | CC16: 92 | CD16: 3 | CE16: 89 | CF16: 752 | CG16: 10 | CH16: 742 | CI16: 5 | CJ16: 0 | CK16: 5
A17: 苗栗縣 | B17: 31 | C17: 0 | D17: 22 | E17: 9 | F17: 1022 | G17: 546 | H17: 476 | I17: 294 | J17: 173 | K17: 121 | L17: 558 | M17: 286 | N17: 272 | O17: 170 | P17: 87 | Q17: 83 | R17: 755 | S17: 398 | T17: 357 | U17: 225 | V17: 133 | W17: 92 | X17: 393 | Y17: 200 | Z17: 193 | AA17: 137 | AB17: 65 | AC17: 72 | AD17: 267 | AE17: 148 | AF17: 119 | AG17: 69 | AH17: 40 | AI17: 29 | AJ17: 165 | AK17: 86 | AL17: 79 | AM17: 33 | AN17: 22 | AO17: 11 | AP17: 989 | AQ17: 525 | AR17: 464 | AS17: 289 | AT17: 168 | AU17: 121 | AV17: 536 | AW17: 273 | AX17: 263 | AY17: 164 | AZ17: 84 | BA17: 80 | BB17: 20 | BC17: 12 | BD17: 8 | BE17: 3 | BF17: 3 | BG17: 0 | BH17: 13 | BI17: 7 | BJ17: 6 | BK17: 4 | BL17: 2 | BM17: 2 | BN17: 13 | BO17: 9 | BP17: 4 | BQ17: 2 | BR17: 2 | BS17: 0 | BT17: 9 | BU17: 6 | BV17: 3 | BW17: 2 | BX17: 1 | BY17: 1 | BZ17: 315 | CA17: 4 | CB17: 311 | CC17: 31 | CD17: 1 | CE17: 30 | CF17: 284 | CG17: 3 | CH17: 281 | CI17: 0 | CJ17: 0 | CK17: 0
A18: 彰化縣 | B18: 64 | C18: 0 | D18: 55 | E18: 9 | F18: 2432 | G18: 1241 | H18: 1191 | I18: 644 | J18: 323 | K18: 321 | L18: 1386 | M18: 701 | N18: 685 | O18: 402 | P18: 217 | Q18: 185 | R18: 2147 | S18: 1083 | T18: 1064 | U18: 564 | V18: 277 | W18: 287 | X18: 1222 | Y18: 610 | Z18: 612 | AA18: 361 | AB18: 196 | AC18: 165 | AD18: 285 | AE18: 158 | AF18: 127 | AG18: 80 | AH18: 46 | AI18: 34 | AJ18: 164 | AK18: 91 | AL18: 73 | AM18: 41 | AN18: 21 | AO18: 20 | AP18: 2382 | AQ18: 1219 | AR18: 1163 | AS18: 632 | AT18: 318 | AU18: 314 | AV18: 1359 | AW18: 689 | AX18: 670 | AY18: 391 | AZ18: 212 | BA18: 179 | BB18: 19 | BC18: 10 | BD18: 9 | BE18: 3 | BF18: 2 | BG18: 1 | BH18: 11 | BI18: 5 | BJ18: 6 | BK18: 5 | BL18: 3 | BM18: 2 | BN18: 31 | BO18: 12 | BP18: 19 | BQ18: 9 | BR18: 3 | BS18: 6 | BT18: 16 | BU18: 7 | BV18: 9 | BW18: 6 | BX18: 2 | BY18: 4 | BZ18: 718 | CA18: 10 | CB18: 708 | CC18: 65 | CD18: 5 | CE18: 60 | CF18: 653 | CG18: 5 | CH18: 648 | CI18: 0 | CJ18: 0 | CK18: 0
A19: 南投縣 | B19: 9 | C19: 0 | D19: 4 | E19: 5 | F19: 237 | G19: 133 | H19: 104 | I19: 59 | J19: 35 | K19: 24 | L19: 150 | M19: 81 | N19: 69 | O19: 28 | P19: 17 | Q19: 11 | R19: 127 | S19: 71 | T19: 56 | U19: 35 | V19: 20 | W19: 15 | X19: 75 | Y19: 43 | Z19: 32 | AA19: 17 | AB19: 8 | AC19: 9 | AD19: 110 | AE19: 62 | AF19: 48 | AG19: 24 | AH19: 15 | AI19: 9 | AJ19: 75 | AK19: 38 | AL19: 37 | AM19: 11 | AN19: 9 | AO19: 2 | AP19: 217 | AQ19: 124 | AR19: 93 | AS19: 51 | AT19: 31 | AU19: 20 | AV19: 141 | AW19: 77 | AX19: 64 | AY19: 25 | AZ19: 16 | BA19: 9 | BB19: 15 | BC19: 6 | BD19: 9 | BE19: 5 | BF19: 3 | BG19: 2 | BH19: 7 | BI19: 2 | BJ19: 5 | BK19: 3 | BL19: 1 | BM19: 2 | BN19: 5 | BO19: 3 | BP19: 2 | BQ19: 3 | BR19: 1 | BS19: 2 | BT19: 2 | BU19: 2 | BV19: 0 | BW19: 0 | BX19: 0 | BY19: 0 | BZ19: 72 | CA19: 2 | CB19: 70 | CC19: 9 | CD19: 0 | CE19: 9 | CF19: 63 | CG19: 2 | CH19: 61 | CI19: 0 | CJ19: 0 | CK19: 0
... A30: 連江縣 | B30: 5 | C30: 0 | D30: 0 | E30: 5 | F30: 61 | G30: 39 | H30: 22 | I30: 8 | J30: 4 | K30: 4 | L30: 45 | M30: 29 | N30: 16 | O30: 8 | P30: 6 | Q30: 2 | R30: 0 | S30: 0 | T30: 0 | U30: 0 | V30: 0 | W30: 0 | X30: 0 | Y30: 0 | Z30: 0 | AA30: 0 | AB30: 0 | AC30: 0 | AD30: 61 | AE30: 39 | AF30: 22 | AG30: 8 | AH30: 4 | AI30: 4 | AJ30: 45 | AK30: 29 | AL30: 16 | AM30: 8 | AN30: 6 | AO30: 2 | AP30: 59 | AQ30: 38 | AR30: 21 | AS30: 8 | AT30: 4 | AU30: 4 | AV30: 43 | AW30: 28 | AX30: 15 | AY30: 8 | AZ30: 6 | BA30: 2 | BB30: 1 | BC30: 1 | BD30: 0 | BE30: 0 | BF30: 0 | BG30: 0 | BH30: 1 | BI30: 1 | BJ30: 0 | BK30: 0 | BL30: 0 | BM30: 0 | BN30: 1 | BO30: 0 | BP30: 1 | BQ30: 0 | BR30: 0 | BS30: 0 | BT30: 1 | BU30: 0 | BV30: 1 | BW30: 0 | BX30: 0 | BY30: 0 | BZ30: 24 | CA30: 0 | CB30: 24 | CC30: 5 | CD30: 0 | CE30: 5 | CF30: 16 | CG30: 0 | CH30: 16 | CI30: 3 | CJ30: 0 | CK30: 3

Sheet 113
A1: 1.5 托嬰中心概況
A2: 113年底, End of 2024
A3: 一、所數與收托人數 | AP3: 1.一般身分 | BB3: 2.原住民身分 | BN3: 二、新住民子女人數 | BZ3: 三、專業人員人數
A4: 區域別 | B4: 所數 | F4: 收托人數 ─按性別與年齡分 | AP4: 收托人數─按性別與年齡分 | BB4: 收托人數─按性別與年齡分 | BN4: 收托人數─按性別與年齡分 | BZ4: 總計 | CC4: 主管人員(主任) | CF4: 托育人員 | CI4: 護理人員
F5: 總計 | R5: 私立 | AD5: 公辦民營
B6: 總計 | C6: 公立 | D6: 私立 | E6: 公辦民營 | F6: 合計 | I6: 未滿1歲 | L6: 1-未滿2歲 | O6: 2-未滿3歲 | R6: 合計 | U6: 未滿1歲 | X6: 1-未滿2歲 | AA6: 2-未滿3歲 | AD6: 合計 | AG6: 未滿1歲 | AJ6: 1-未滿2歲 | AM6: 2-未滿3歲 | AP6: 總計 | AS6: 未滿1歲 | AV6: 1-未滿2歲 | AY6: 2-未滿3歲 | BB6: 總計 | BE6: 未滿1歲 | BH6: 1-未滿2歲 | BK6: 2-未滿3歲 | BN6: 總計 | BQ6: 未滿1歲 | BT6: 1-未滿2歲 | BW6: 2-未滿3歲
F7: 計 | G7: 男 | H7: 女 | I7: 計 | J7: 男 | K7: 女 | L7: 計 | M7: 男 | N7: 女 | O7: 計 | P7: 男 | Q7: 女 | R7: 計 | S7: 男 | T7: 女 | U7: 計 | V7: 男 | W7: 女 | X7: 計 | Y7: 男 | Z7: 女 | AA7: 計 | AB7: 男 | AC7: 女 | AD7: 計 | AE7: 男 | AF7: 女 | AG7: 計 | AH7: 男 | AI7: 女 | AJ7: 計 | AK7: 男 | AL7: 女 | AM7: 計 | AN7: 男 | AO7: 女 | AP7: 計 | AQ7: 男 | AR7: 女 | AS7: 計 | AT7: 男 | AU7: 女 | AV7: 計 | AW7: 男 | AX7: 女 | AY7: 計 | AZ7: 男 | BA7: 女 | BB7: 計 | BC7: 男 | BD7: 女 | BE7: 計 | BF7: 男 | BG7: 女 | BH7: 計 | BI7: 男 | BJ7: 女 | BK7: 計 | BL7: 男 | BM7: 女 | BN7: 計 | BO7: 男 | BP7: 女 | BQ7: 計 | BR7: 男 | BS7: 女 | BT7: 計 | BU7: 男 | BV7: 女 | BW7: 計 | BX7: 男 | BY7: 女 | BZ7: 計 | CA7: 男 | CB7: 女 | CC7: 計 | CD7: 男 | CE7: 女 | CF7: 計 | CG7: 男 | CH7: 女 | CI7: 計 | CJ7: 男 | CK7: 女
A8: 總 計 | B8: 1771 | C8: 0 | D8: 1289 | E8: 482 | F8: 55688 | G8: 29084 | H8: 26604 | I8: 14006 | J8: 7256 | K8: 6750 | L8: 28271 | M8: 14816 | N8: 13455 | O8: 13411 | P8: 7012 | Q8: 6399 | R8: 40503 | S8: 21095 | T8: 19408 | U8: 11273 | V8: 5823 | W8: 5450 | X8: 20261 | Y8: 10588 | Z8: 9673 | AA8: 8969 | AB8: 4684 | AC8: 4285 | AD8: 15185 | AE8: 7989 | AF8: 7196 | AG8: 2733 | AH8: 1433 | AI8: 1300 | AJ8: 8010 | AK8: 4228 | AL8: 3782 | AM8: 4442 | AN8: 2328 | AO8: 2114 | AP8: 53262 | AQ8: 27821 | AR8: 25441 | AS8: 13473 | AT8: 6967 | AU8: 6506 | AV8: 26950 | AW8: 14153 | AX8: 12797 | AY8: 12839 | AZ8: 6701 | BA8: 6138 | BB8: 1515 | BC8: 779 | BD8: 736 | BE8: 347 | BF8: 188 | BG8: 159 | BH8: 845 | BI8: 421 | BJ8: 424 | BK8: 323 | BL8: 170 | BM8: 153 | BN8: 911 | BO8: 484 | BP8: 427 | BQ8: 186 | BR8: 101 | BS8: 85 | BT8: 476 | BU8: 242 | BV8: 234 | BW8: 249 | BX8: 141 | BY8: 108 | BZ8: 17208 | CA8: 238 | CB8: 16970 | CC8: 1750 | CD8: 58 | CE8: 1692 | CF8: 15181 | CG8: 180 | CH8: 15001 | CI8: 277 | CJ8: 0 | CK8: 277
A9: 新北市 | B9: 376 | C9: 0 | D9: 254 | E9: 122 | F9: 13959 | G9: 7307 | H9: 6652 | I9: 2975 | J9: 1521 | K9: 1454 | L9: 6426 | M9: 3360 | N9: 3066 | O9: 4558 | P9: 2426 | Q9: 2132 | R9: 7876 | S9: 4125 | T9: 3751 | U9: 1979 | V9: 1013 | W9: 966 | X9: 3598 | Y9: 1874 | Z9: 1724 | AA9: 2299 | AB9: 1238 | AC9: 1061 | AD9: 6083 | AE9: 3182 | AF9: 2901 | AG9: 996 | AH9: 508 | AI9: 488 | AJ9: 2828 | AK9: 1486 | AL9: 1342 | AM9: 2259 | AN9: 1188 | AO9: 1071 | AP9: 13449 | AQ9: 7042 | AR9: 6407 | AS9: 2875 | AT9: 1464 | AU9: 1411 | AV9: 6161 | AW9: 3227 | AX9: 2934 | AY9: 4413 | AZ9: 2351 | BA9: 2062 | BB9: 275 | BC9: 143 | BD9: 132 | BE9: 54 | BF9: 33 | BG9: 21 | BH9: 154 | BI9: 74 | BJ9: 80 | BK9: 67 | BL9: 36 | BM9: 31 | BN9: 235 | BO9: 122 | BP9: 113 | BQ9: 46 | BR9: 24 | BS9: 22 | BT9: 111 | BU9: 59 | BV9: 52 | BW9: 78 | BX9: 39 | BY9: 39 | BZ9: 4346 | CA9: 52 | CB9: 4294 | CC9: 365 | CD9: 17 | CE9: 348 | CF9: 3857 | CG9: 35 | CH9: 3822 | CI9: 124 | CJ9: 0 | CK9: 124
A10: 臺北市 | B10: 301 | C10: 0 | D10: 214 | E10: 87 | F10: 7020 | G10: 3616 | H10: 3404 | I10: 1755 | J10: 899 | K10: 856 | L10: 3617 | M10: 1862 | N10: 1755 | O10: 1648 | P10: 855 | Q10: 793 | R10: 5163 | S10: 2642 | T10: 2521 | U10: 1383 | V10: 710 | W10: 673 | X10: 2547 | Y10: 1304 | Z10: 1243 | AA10: 1233 | AB10: 628 | AC10: 605 | AD10: 1857 | AE10: 974 | AF10: 883 | AG10: 372 | AH10: 189 | AI10: 183 | AJ10: 1070 | AK10: 558 | AL10: 512 | AM10: 415 | AN10: 227 | AO10: 188 | AP10: 6716 | AQ10: 3455 | AR10: 3261 | AS10: 1689 | AT10: 866 | AU10: 823 | AV10: 3451 | AW10: 1776 | AX10: 1675 | AY10: 1576 | AZ10: 813 | BA10: 763 | BB10: 101 | BC10: 52 | BD10: 49 | BE10: 32 | BF10: 16 | BG10: 16 | BH10: 53 | BI10: 27 | BJ10: 26 | BK10: 16 | BL10: 9 | BM10: 7 | BN10: 203 | BO10: 109 | BP10: 94 | BQ10: 34 | BR10: 17 | BS10: 17 | BT10: 113 | BU10: 59 | BV10: 54 | BW10: 56 | BX10: 33 | BY10: 23 | BZ10: 2220 | CA10: 18 | CB10: 2202 | CC10: 300 | CD10: 3 | CE10: 297 | CF10: 1889 | CG10: 15 | CH10: 1874 | CI10: 31 | CJ10: 0 | CK10: 31
A11: 桃園市 | B11: 193 | C11: 0 | D11: 143 | E11: 50 | F11: 6316 | G11: 3295 | H11: 3021 | I11: 1630 | J11: 861 | K11: 769 | L11: 3194 | M11: 1653 | N11: 1541 | O11: 1492 | P11: 781 | Q11: 711 | R11: 4707 | S11: 2448 | T11: 2259 | U11: 1349 | V11: 714 | W11: 635 | X11: 2315 | Y11: 1192 | Z11: 1123 | AA11: 1043 | AB11: 542 | AC11: 501 | AD11: 1609 | AE11: 847 | AF11: 762 | AG11: 281 | AH11: 147 | AI11: 134 | AJ11: 879 | AK11: 461 | AL11: 418 | AM11: 449 | AN11: 239 | AO11: 210 | AP11: 5879 | AQ11: 3072 | AR11: 2807 | AS11: 1548 | AT11: 820 | AU11: 728 | AV11: 2952 | AW11: 1539 | AX11: 1413 | AY11: 1379 | AZ11: 713 | BA11: 666 | BB11: 337 | BC11: 172 | BD11: 165 | BE11: 62 | BF11: 29 | BG11: 33 | BH11: 193 | BI11: 95 | BJ11: 98 | BK11: 82 | BL11: 48 | BM11: 34 | BN11: 100 | BO11: 51 | BP11: 49 | BQ11: 20 | BR11: 12 | BS11: 8 | BT11: 49 | BU11: 19 | BV11: 30 | BW11: 31 | BX11: 20 | BY11: 11 | BZ11: 2014 | CA11: 22 | CB11: 1992 | CC11: 192 | CD11: 1 | CE11: 191 | CF11: 1792 | CG11: 21 | CH11: 1771 | CI11: 30 | CJ11: 0 | CK11: 30
A12: 臺中市 | B12: 234 | C12: 0 | D12: 188 | E12: 46 | F12: 8079 | G12: 4264 | H12: 3815 | I12: 2178 | J12: 1133 | K12: 1045 | L12: 4172 | M12: 2214 | N12: 1958 | O12: 1729 | P12: 917 | Q12: 812 | R12: 6819 | S12: 3579 | T12: 3240 | U12: 1989 | V12: 1023 | W12: 966 | X12: 3443 | Y12: 1814 | Z12: 1629 | AA12: 1387 | AB12: 742 | AC12: 645 | AD12: 1260 | AE12: 685 | AF12: 575 | AG12: 189 | AH12: 110 | AI12: 79 | AJ12: 729 | AK12: 400 | AL12: 329 | AM12: 342 | AN12: 175 | AO12: 167 | AP12: 7800 | AQ12: 4113 | AR12: 3687 | AS12: 2107 | AT12: 1093 | AU12: 1014 | AV12: 4018 | AW12: 2130 | AX12: 1888 | AY12: 1675 | AZ12: 890 | BA12: 785 | BB12: 183 | BC12: 97 | BD12: 86 | BE12: 57 | BF12: 32 | BG12: 25 | BH12: 90 | BI12: 49 | BJ12: 41 | BK12: 36 | BL12: 16 | BM12: 20 | BN12: 96 | BO12: 54 | BP12: 42 | BQ12: 14 | BR12: 8 | BS12: 6 | BT12: 64 | BU12: 35 | BV12: 29 | BW12: 18 | BX12: 11 | BY12: 7 | BZ12: 2395 | CA12: 44 | CB12: 2351 | CC12: 234 | CD12: 6 | CE12: 228 | CF12: 2157 | CG12: 38 | CH12: 2119 | CI12: 4 | CJ12: 0 | CK12: 4
A13: 臺南市 | B13: 140 | C13: 0 | D13: 125 | E13: 15 | F13: 4053 | G13: 2080 | H13: 1973 | I13: 1101 | J13: 564 | K13: 537 | L13: 2216 | M13: 1143 | N13: 1073 | O13: 736 | P13: 373 | Q13: 363 | R13: 3821 | S13: 1963 | T13: 1858 | U13: 1055 | V13: 543 | W13: 512 | X13: 2085 | Y13: 1077 | Z13: 1008 | AA13: 681 | AB13: 343 | AC13: 338 | AD13: 232 | AE13: 117 | AF13: 115 | AG13: 46 | AH13: 21 | AI13: 25 | AJ13: 131 | AK13: 66 | AL13: 65 | AM13: 55 | AN13: 30 | AO13: 25 | AP13: 3957 | AQ13: 2035 | AR13: 1922 | AS13: 1080 | AT13: 555 | AU13: 525 | AV13: 2165 | AW13: 1121 | AX13: 1044 | AY13: 712 | AZ13: 359 | BA13: 353 | BB13: 42 | BC13: 21 | BD13: 21 | BE13: 10 | BF13: 7 | BG13: 3 | BH13: 24 | BI13: 10 | BJ13: 14 | BK13: 8 | BL13: 4 | BM13: 4 | BN13: 54 | BO13: 24 | BP13: 30 | BQ13: 11 | BR13: 2 | BS13: 9 | BT13: 27 | BU13: 12 | BV13: 15 | BW13: 16 | BX13: 10 | BY13: 6 | BZ13: 1262 | CA13: 20 | CB13: 1242 | CC13: 140 | CD13: 2 | CE13: 138 | CF13: 1121 | CG13: 18 | CH13: 1103 | CI13: 1 | CJ13: 0 | CK13: 1
A14: 高雄市 | B14: 133 | C14: 0 | D14: 72 | E14: 61 | F14: 4382 | G14: 2299 | H14: 2083 | I14: 1149 | J14: 629 | K14: 520 | L14: 2420 | M14: 1275 | N14: 1145 | O14: 813 | P14: 395 | Q14: 418 | R14: 2514 | S14: 1308 | T14: 1206 | U14: 756 | V14: 407 | W14: 349 | X14: 1344 | Y14: 707 | Z14: 637 | AA14: 414 | AB14: 194 | AC14: 220 | AD14: 1868 | AE14: 991 | AF14: 877 | AG14: 393 | AH14: 222 | AI14: 171 | AJ14: 1076 | AK14: 568 | AL14: 508 | AM14: 399 | AN14: 201 | AO14: 198 | AP14: 4162 | AQ14: 2186 | AR14: 1976 | AS14: 1095 | AT14: 596 | AU14: 499 | AV14: 2288 | AW14: 1210 | AX14: 1078 | AY14: 779 | AZ14: 380 | BA14: 399 | BB14: 142 | BC14: 72 | BD14: 70 | BE14: 32 | BF14: 20 | BG14: 12 | BH14: 91 | BI14: 46 | BJ14: 45 | BK14: 19 | BL14: 6 | BM14: 13 | BN14: 78 | BO14: 41 | BP14: 37 | BQ14: 22 | BR14: 13 | BS14: 9 | BT14: 41 | BU14: 19 | BV14: 22 | BW14: 15 | BX14: 9 | BY14: 6 | BZ14: 1362 | CA14: 19 | CB14: 1343 | CC14: 131 | CD14: 5 | CE14: 126 | CF14: 1186 | CG14: 14 | CH14: 1172 | CI14: 45 | CJ14: 0 | CK14: 45
A15: 宜蘭縣 | B15: 24 | C15: 0 | D15: 8 | E15: 16 | F15: 715 | G15: 372 | H15: 343 | I15: 162 | J15: 83 | K15: 79 | L15: 396 | M15: 209 | N15: 187 | O15: 157 | P15: 80 | Q15: 77 | R15: 285 | S15: 153 | T15: 132 | U15: 88 | V15: 46 | W15: 42 | X15: 132 | Y15: 73 | Z15: 59 | AA15: 65 | AB15: 34 | AC15: 31 | AD15: 430 | AE15: 219 | AF15: 211 | AG15: 74 | AH15: 37 | AI15: 37 | AJ15: 264 | AK15: 136 | AL15: 128 | AM15: 92 | AN15: 46 | AO15: 46 | AP15: 666 | AQ15: 341 | AR15: 325 | AS15: 145 | AT15: 72 | AU15: 73 | AV15: 374 | AW15: 196 | AX15: 178 | AY15: 147 | AZ15: 73 | BA15: 74 | BB15: 34 | BC15: 19 | BD15: 15 | BE15: 9 | BF15: 5 | BG15: 4 | BH15: 17 | BI15: 9 | BJ15: 8 | BK15: 8 | BL15: 5 | BM15: 3 | BN15: 15 | BO15: 12 | BP15: 3 | BQ15: 8 | BR15: 6 | BS15: 2 | BT15: 5 | BU15: 4 | BV15: 1 | BW15: 2 | BX15: 2 | BY15: 0 | BZ15: 224 | CA15: 3 | CB15: 221 | CC15: 24 | CD15: 2 | CE15: 22 | CF15: 184 | CG15: 1 | CH15: 183 | CI15: 16 | CJ15: 0 | CK15: 16
A16: 新竹縣 | B16: 88 | C16: 0 | D16: 81 | E16: 7 | F16: 2505 | G16: 1301 | H16: 1204 | I16: 687 | J16: 351 | K16: 336 | L16: 1280 | M16: 667 | N16: 613 | O16: 538 | P16: 283 | Q16: 255 | R16: 2361 | S16: 1229 | T16: 1132 | U16: 667 | V16: 339 | W16: 328 | X16: 1202 | Y16: 630 | Z16: 572 | AA16: 492 | AB16: 260 | AC16: 232 | AD16: 144 | AE16: 72 | AF16: 72 | AG16: 20 | AH16: 12 | AI16: 8 | AJ16: 78 | AK16: 37 | AL16: 41 | AM16: 46 | AN16: 23 | AO16: 23 | AP16: 2429 | AQ16: 1267 | AR16: 1162 | AS16: 669 | AT16: 344 | AU16: 325 | AV16: 1244 | AW16: 652 | AX16: 592 | AY16: 516 | AZ16: 271 | BA16: 245 | BB16: 52 | BC16: 22 | BD16: 30 | BE16: 12 | BF16: 4 | BG16: 8 | BH16: 23 | BI16: 8 | BJ16: 15 | BK16: 17 | BL16: 10 | BM16: 7 | BN16: 24 | BO16: 12 | BP16: 12 | BQ16: 6 | BR16: 3 | BS16: 3 | BT16: 13 | BU16: 7 | BV16: 6 | BW16: 5 | BX16: 2 | BY16: 3 | BZ16: 772 | CA16: 14 | CB16: 758 | CC16: 82 | CD16: 3 | CE16: 79 | CF16: 686 | CG16: 11 | CH16: 675 | CI16: 4 | CJ16: 0 | CK16: 4
A17: 苗栗縣 | B17: 26 | C17: 0 | D17: 20 | E17: 6 | F17: 772 | G17: 399 | H17: 373 | I17: 248 | J17: 127 | K17: 121 | L17: 394 | M17: 209 | N17: 185 | O17: 130 | P17: 63 | Q17: 67 | R17: 638 | S17: 334 | T17: 304 | U17: 202 | V17: 110 | W17: 92 | X17: 334 | Y17: 176 | Z17: 158 | AA17: 102 | AB17: 48 | AC17: 54 | AD17: 134 | AE17: 65 | AF17: 69 | AG17: 46 | AH17: 17 | AI17: 29 | AJ17: 60 | AK17: 33 | AL17: 27 | AM17: 28 | AN17: 15 | AO17: 13 | AP17: 750 | AQ17: 390 | AR17: 360 | AS17: 239 | AT17: 122 | AU17: 117 | AV17: 390 | AW17: 208 | AX17: 182 | AY17: 121 | AZ17: 60 | BA17: 61 | BB17: 15 | BC17: 7 | BD17: 8 | BE17: 7 | BF17: 4 | BG17: 3 | BH17: 3 | BI17: 1 | BJ17: 2 | BK17: 5 | BL17: 2 | BM17: 3 | BN17: 7 | BO17: 2 | BP17: 5 | BQ17: 2 | BR17: 1 | BS17: 1 | BT17: 1 | BU17: 0 | BV17: 1 | BW17: 4 | BX17: 1 | BY17: 3 | BZ17: 240 | CA17: 4 | CB17: 236 | CC17: 25 | CD17: 1 | CE17: 24 | CF17: 215 | CG17: 3 | CH17: 212 | CI17: 0 | CJ17: 0 | CK17: 0
A18: 彰化縣 | B18: 57 | C18: 0 | D18: 52 | E18: 5 | F18: 2052 | G18: 1075 | H18: 977 | I18: 592 | J18: 298 | K18: 294 | L18: 1154 | M18: 618 | N18: 536 | O18: 306 | P18: 159 | Q18: 147 | R18: 1899 | S18: 998 | T18: 901 | U18: 568 | V18: 287 | W18: 281 | X18: 1052 | Y18: 564 | Z18: 488 | AA18: 279 | AB18: 147 | AC18: 132 | AD18: 153 | AE18: 77 | AF18: 76 | AG18: 24 | AH18: 11 | AI18: 13 | AJ18: 102 | AK18: 54 | AL18: 48 | AM18: 27 | AN18: 12 | AO18: 15 | AP18: 2010 | AQ18: 1054 | AR18: 956 | AS18: 581 | AT18: 294 | AU18: 287 | AV18: 1132 | AW18: 605 | AX18: 527 | AY18: 297 | AZ18: 155 | BA18: 142 | BB18: 14 | BC18: 7 | BD18: 7 | BE18: 4 | BF18: 1 | BG18: 3 | BH18: 10 | BI18: 6 | BJ18: 4 | BK18: 0 | BL18: 0 | BM18: 0 | BN18: 28 | BO18: 14 | BP18: 14 | BQ18: 7 | BR18: 3 | BS18: 4 | BT18: 12 | BU18: 7 | BV18: 5 | BW18: 9 | BX18: 4 | BY18: 5 | BZ18: 594 | CA18: 9 | CB18: 585 | CC18: 57 | CD18: 4 | CE18: 53 | CF18: 537 | CG18: 5 | CH18: 532 | CI18: 0 | CJ18: 0 | CK18: 0
A19: 南投縣 | B19: 8 | C19: 0 | D19: 4 | E19: 4 | F19: 198 | G19: 118 | H19: 80 | I19: 43 | J19: 29 | K19: 14 | L19: 123 | M19: 72 | N19: 51 | O19: 32 | P19: 17 | Q19: 15 | R19: 121 | S19: 68 | T19: 53 | U19: 24 | V19: 17 | W19: 7 | X19: 71 | Y19: 37 | Z19: 34 | AA19: 26 | AB19: 14 | AC19: 12 | AD19: 77 | AE19: 50 | AF19: 27 | AG19: 19 | AH19: 12 | AI19: 7 | AJ19: 52 | AK19: 35 | AL19: 17 | AM19: 6 | AN19: 3 | AO19: 3 | AP19: 180 | AQ19: 109 | AR19: 71 | AS19: 41 | AT19: 28 | AU19: 13 | AV19: 111 | AW19: 66 | AX19: 45 | AY19: 28 | AZ19: 15 | BA19: 13 | BB19: 16 | BC19: 9 | BD19: 7 | BE19: 2 | BF19: 1 | BG19: 1 | BH19: 11 | BI19: 6 | BJ19: 5 | BK19: 3 | BL19: 2 | BM19: 1 | BN19: 2 | BO19: 0 | BP19: 2 | BQ19: 0 | BR19: 0 | BS19: 0 | BT19: 1 | BU19: 0 | BV19: 1 | BW19: 1 | BX19: 0 | BY19: 1 | BZ19: 59 | CA19: 2 | CB19: 57 | CC19: 8 | CD19: 0 | CE19: 8 | CF19: 51 | CG19: 2 | CH19: 49 | CI19: 0 | CJ19: 0 | CK19: 0
... A30: 連江縣 | B30: 5 | C30: 0 | D30: 0 | E30: 5 | F30: 65 | G30: 39 | H30: 26 | I30: 15 | J30: 9 | K30: 6 | L30: 34 | M30: 23 | N30: 11 | O30: 16 | P30: 7 | Q30: 9 | R30: 0 | S30: 0 | T30: 0 | U30: 0 | V30: 0 | W30: 0 | X30: 0 | Y30: 0 | Z30: 0 | AA30: 0 | AB30: 0 | AC30: 0 | AD30: 65 | AE30: 39 | AF30: 26 | AG30: 15 | AH30: 9 | AI30: 6 | AJ30: 34 | AK30: 23 | AL30: 11 | AM30: 16 | AN30: 7 | AO30: 9 | AP30: 64 | AQ30: 38 | AR30: 26 | AS30: 15 | AT30: 9 | AU30: 6 | AV30: 33 | AW30: 22 | AX30: 11 | AY30: 16 | AZ30: 7 | BA30: 9 | BB30: 0 | BC30: 0 | BD30: 0 | BE30: 0 | BF30: 0 | BG30: 0 | BH30: 0 | BI30: 0 | BJ30: 0 | BK30: 0 | BL30: 0 | BM30: 0 | BN30: 1 | BO30: 1 | BP30: 0 | BQ30: 0 | BR30: 0 | BS30: 0 | BT30: 1 | BU30: 1 | BV30: 0 | BW30: 0 | BX30: 0 | BY30: 0 | BZ30: 27 | CA30: 0 | CB30: 27 | CC30: 5 | CD30: 0 | CE30: 5 | CF30: 19 | CG30: 0 | CH30: 19 | CI30: 3 | CJ30: 0 | CK30: 3

Sheet 112
A1: 1.5 托嬰中心概況
A2: 112年底, End of 2023
A3: 一、所數與收托人數 | AP3: 1.一般身分 | BB3: 2.原住民身分 | BN3: 二、外籍配偶子女人數 | BZ3: 三、專業人員人數
A4: 區域別 | B4: 所數 | F4: 收托人數 ─按性別與年齡分 | AP4: 收托人數─按性別與年齡分 | BB4: 收托人數─按性別與年齡分 | BN4: 收托人數─按性別與年齡分 | BZ4: 總計 | CC4: 主管人員(主任) | CF4: 托育人員 | CI4: 護理人員
F5: 總計 | R5: 私立 | AD5: 公辦民營
B6: 總計 | C6: 公立 | D6: 私立 | E6: 公辦民營 | F6: 合計 | I6: 未滿1歲 | L6: 1-未滿2歲 | O6: 2-未滿3歲 | R6: 合計 | U6: 未滿1歲 | X6: 1-未滿2歲 | AA6: 2-未滿3歲 | AD6: 合計 | AG6: 未滿1歲 | AJ6: 1-未滿2歲 | AM6: 2-未滿3歲 | AP6: 總計 | AS6: 未滿1歲 | AV6: 1-未滿2歲 | AY6: 2-未滿3歲 | BB6: 總計 | BE6: 未滿1歲 | BH6: 1-未滿2歲 | BK6: 2-未滿3歲 | BN6: 總計 | BQ6: 未滿1歲 | BT6: 1-未滿2歲 | BW6: 2-未滿3歲
F7: 計 | G7: 男 | H7: 女 | I7: 計 | J7: 男 | K7: 女 | L7: 計 | M7: 男 | N7: 女 | O7: 計 | P7: 男 | Q7: 女 | R7: 計 | S7: 男 | T7: 女 | U7: 計 | V7: 男 | W7: 女 | X7: 計 | Y7: 男 | Z7: 女 | AA7: 計 | AB7: 男 | AC7: 女 | AD7: 計 | AE7: 男 | AF7: 女 | AG7: 計 | AH7: 男 | AI7: 女 | AJ7: 計 | AK7: 男 | AL7: 女 | AM7: 計 | AN7: 男 | AO7: 女 | AP7: 計 | AQ7: 男 | AR7: 女 | AS7: 計 | AT7: 男 | AU7: 女 | AV7: 計 | AW7: 男 | AX7: 女 | AY7: 計 | AZ7: 男 | BA7: 女 | BB7: 計 | BC7: 男 | BD7: 女 | BE7: 計 | BF7: 男 | BG7: 女 | BH7: 計 | BI7: 男 | BJ7: 女 | BK7: 計 | BL7: 男 | BM7: 女 | BN7: 計 | BO7: 男 | BP7: 女 | BQ7: 計 | BR7: 男 | BS7: 女 | BT7: 計 | BU7: 男 | BV7: 女 | BW7: 計 | BX7: 男 | BY7: 女 | BZ7: 計 | CA7: 男 | CB7: 女 | CC7: 計 | CD7: 男 | CE7: 女 | CF7: 計 | CG7: 男 | CH7: 女 | CI7: 計 | CJ7: 男 | CK7: 女
A8: 總 計 | B8: 1639 | C8: 0 | D8: 1199 | E8: 440 | F8: 49217 | G8: 25872 | H8: 23345 | I8: 11724 | J8: 6131 | K8: 5593 | L8: 24700 | M8: 13034 | N8: 11666 | O8: 12793 | P8: 6707 | Q8: 6086 | R8: 35279 | S8: 18522 | T8: 16757 | U8: 9494 | V8: 4951 | W8: 4543 | X8: 17284 | Y8: 9111 | Z8: 8173 | AA8: 8501 | AB8: 4460 | AC8: 4041 | AD8: 13938 | AE8: 7350 | AF8: 6588 | AG8: 2230 | AH8: 1180 | AI8: 1050 | AJ8: 7416 | AK8: 3923 | AL8: 3493 | AM8: 4292 | AN8: 2247 | AO8: 2045 | AP8: 47285 | AQ8: 24851 | AR8: 22434 | AS8: 11337 | AT8: 5941 | AU8: 5396 | AV8: 23702 | AW8: 12494 | AX8: 11208 | AY8: 12246 | AZ8: 6416 | BA8: 5830 | BB8: 1135 | BC8: 602 | BD8: 533 | BE8: 237 | BF8: 107 | BG8: 130 | BH8: 615 | BI8: 343 | BJ8: 272 | BK8: 283 | BL8: 152 | BM8: 131 | BN8: 797 | BO8: 419 | BP8: 378 | BQ8: 150 | BR8: 83 | BS8: 67 | BT8: 383 | BU8: 197 | BV8: 186 | BW8: 264 | BX8: 139 | BY8: 125 | BZ8: 15055 | CA8: 242 | CB8: 14813 | CC8: 1626 | CD8: 55 | CE8: 1571 | CF8: 13189 | CG8: 187 | CH8: 13002 | CI8: 240 | CJ8: 0 | CK8: 240
A9: 新北市 | B9: 366 | C9: 0 | D9: 246 | E9: 120 | F9: 13181 | G9: 6955 | H9: 6226 | I9: 2648 | J9: 1409 | K9: 1239 | L9: 6013 | M9: 3187 | N9: 2826 | O9: 4520 | P9: 2359 | Q9: 2161 | R9: 7219 | S9: 3828 | T9: 3391 | U9: 1760 | V9: 925 | W9: 835 | X9: 3229 | Y9: 1728 | Z9: 1501 | AA9: 2230 | AB9: 1175 | AC9: 1055 | AD9: 5962 | AE9: 3127 | AF9: 2835 | AG9: 888 | AH9: 484 | AI9: 404 | AJ9: 2784 | AK9: 1459 | AL9: 1325 | AM9: 2290 | AN9: 1184 | AO9: 1106 | AP9: 12642 | AQ9: 6673 | AR9: 5969 | AS9: 2559 | AT9: 1360 | AU9: 1199 | AV9: 5771 | AW9: 3062 | AX9: 2709 | AY9: 4312 | AZ9: 2251 | BA9: 2061 | BB9: 244 | BC9: 129 | BD9: 115 | BE9: 37 | BF9: 17 | BG9: 20 | BH9: 122 | BI9: 67 | BJ9: 55 | BK9: 85 | BL9: 45 | BM9: 40 | BN9: 295 | BO9: 153 | BP9: 142 | BQ9: 52 | BR9: 32 | BS9: 20 | BT9: 120 | BU9: 58 | BV9: 62 | BW9: 123 | BX9: 63 | BY9: 60 | BZ9: 4000 | CA9: 53 | CB9: 3947 | CC9: 358 | CD9: 10 | CE9: 348 | CF9: 3518 | CG9: 43 | CH9: 3475 | CI9: 124 | CJ9: 0 | CK9: 124
A10: 臺北市 | B10: 288 | C10: 0 | D10: 204 | E10: 84 | F10: 6666 | G10: 3479 | H10: 3187 | I10: 1543 | J10: 803 | K10: 740 | L10: 3336 | M10: 1772 | N10: 1564 | O10: 1787 | P10: 904 | Q10: 883 | R10: 4859 | S10: 2514 | T10: 2345 | U10: 1212 | V10: 626 | W10: 586 | X10: 2321 | Y10: 1227 | Z10: 1094 | AA10: 1326 | AB10: 661 | AC10: 665 | AD10: 1807 | AE10: 965 | AF10: 842 | AG10: 331 | AH10: 177 | AI10: 154 | AJ10: 1015 | AK10: 545 | AL10: 470 | AM10: 461 | AN10: 243 | AO10: 218 | AP10: 6422 | AQ10: 3360 | AR10: 3062 | AS10: 1495 | AT10: 780 | AU10: 715 | AV10: 3213 | AW10: 1712 | AX10: 1501 | AY10: 1714 | AZ10: 868 | BA10: 846 | BB10: 75 | BC10: 41 | BD10: 34 | BE10: 19 | BF10: 10 | BG10: 9 | BH10: 41 | BI10: 25 | BJ10: 16 | BK10: 15 | BL10: 6 | BM10: 9 | BN10: 169 | BO10: 78 | BP10: 91 | BQ10: 29 | BR10: 13 | BS10: 16 | BT10: 82 | BU10: 35 | BV10: 47 | BW10: 58 | BX10: 30 | BY10: 28 | BZ10: 2121 | CA10: 16 | CB10: 2105 | CC10: 286 | CD10: 2 | CE10: 284 | CF10: 1806 | CG10: 14 | CH10: 1792 | CI10: 29 | CJ10: 0 | CK10: 29
A11: 桃園市 | B11: 167 | C11: 0 | D11: 123 | E11: 44 | F11: 5137 | G11: 2679 | H11: 2458 | I11: 1209 | J11: 624 | K11: 585 | L11: 2535 | M11: 1305 | N11: 1230 | O11: 1393 | P11: 750 | Q11: 643 | R11: 3871 | S11: 2002 | T11: 1869 | U11: 1028 | V11: 539 | W11: 489 | X11: 1862 | Y11: 942 | Z11: 920 | AA11: 981 | AB11: 521 | AC11: 460 | AD11: 1266 | AE11: 677 | AF11: 589 | AG11: 181 | AH11: 85 | AI11: 96 | AJ11: 673 | AK11: 363 | AL11: 310 | AM11: 412 | AN11: 229 | AO11: 183 | AP11: 4835 | AQ11: 2513 | AR11: 2322 | AS11: 1157 | AT11: 600 | AU11: 557 | AV11: 2369 | AW11: 1208 | AX11: 1161 | AY11: 1309 | AZ11: 705 | BA11: 604 | BB11: 253 | BC11: 145 | BD11: 108 | BE11: 49 | BF11: 23 | BG11: 26 | BH11: 138 | BI11: 86 | BJ11: 52 | BK11: 66 | BL11: 36 | BM11: 30 | BN11: 49 | BO11: 21 | BP11: 28 | BQ11: 3 | BR11: 1 | BS11: 2 | BT11: 28 | BU11: 11 | BV11: 17 | BW11: 18 | BX11: 9 | BY11: 9 | BZ11: 1591 | CA11: 23 | CB11: 1568 | CC11: 167 | CD11: 1 | CE11: 166 | CF11: 1402 | CG11: 22 | CH11: 1380 | CI11: 22 | CJ11: 0 | CK11: 22
A12: 臺中市 | B12: 216 | C12: 0 | D12: 178 | E12: 38 | F12: 6969 | G12: 3717 | H12: 3252 | I12: 1945 | J12: 1010 | K12: 935 | L12: 3638 | M12: 1940 | N12: 1698 | O12: 1386 | P12: 767 | Q12: 619 | R12: 5966 | S12: 3154 | T12: 2812 | U12: 1788 | V12: 920 | W12: 868 | X12: 2996 | Y12: 1577 | Z12: 1419 | AA12: 1182 | AB12: 657 | AC12: 525 | AD12: 1003 | AE12: 563 | AF12: 440 | AG12: 157 | AH12: 90 | AI12: 67 | AJ12: 642 | AK12: 363 | AL12: 279 | AM12: 204 | AN12: 110 | AO12: 94 | AP12: 6775 | AQ12: 3612 | AR12: 3163 | AS12: 1907 | AT12: 990 | AU12: 917 | AV12: 3537 | AW12: 1886 | AX12: 1651 | AY12: 1331 | AZ12: 736 | BA12: 595 | BB12: 111 | BC12: 55 | BD12: 56 | BE12: 18 | BF12: 6 | BG12: 12 | BH12: 61 | BI12: 31 | BJ12: 30 | BK12: 32 | BL12: 18 | BM12: 14 | BN12: 83 | BO12: 50 | BP12: 33 | BQ12: 20 | BR12: 14 | BS12: 6 | BT12: 40 | BU12: 23 | BV12: 17 | BW12: 23 | BX12: 13 | BY12: 10 | BZ12: 2032 | CA12: 44 | CB12: 1988 | CC12: 219 | CD12: 11 | CE12: 208 | CF12: 1810 | CG12: 33 | CH12: 1777 | CI12: 3 | CJ12: 0 | CK12: 3
A13: 臺南市 | B13: 126 | C13: 0 | D13: 111 | E13: 15 | F13: 3215 | G13: 1693 | H13: 1522 | I13: 861 | J13: 443 | K13: 418 | L13: 1839 | M13: 989 | N13: 850 | O13: 515 | P13: 261 | Q13: 254 | R13: 2979 | S13: 1561 | T13: 1418 | U13: 839 | V13: 433 | W13: 406 | X13: 1673 | Y13: 894 | Z13: 779 | AA13: 467 | AB13: 234 | AC13: 233 | AD13: 236 | AE13: 132 | AF13: 104 | AG13: 22 | AH13: 10 | AI13: 12 | AJ13: 166 | AK13: 95 | AL13: 71 | AM13: 48 | AN13: 27 | AO13: 21 | AP13: 3142 | AQ13: 1651 | AR13: 1491 | AS13: 839 | AT13: 430 | AU13: 409 | AV13: 1796 | AW13: 964 | AX13: 832 | AY13: 507 | AZ13: 257 | BA13: 250 | BB13: 23 | BC13: 14 | BD13: 9 | BE13: 10 | BF13: 7 | BG13: 3 | BH13: 13 | BI13: 7 | BJ13: 6 | BK13: 0 | BL13: 0 | BM13: 0 | BN13: 50 | BO13: 28 | BP13: 22 | BQ13: 12 | BR13: 6 | BS13: 6 | BT13: 30 | BU13: 18 | BV13: 12 | BW13: 8 | BX13: 4 | BY13: 4 | BZ13: 993 | CA13: 19 | CB13: 974 | CC13: 122 | CD13: 3 | CE13: 119 | CF13: 871 | CG13: 16 | CH13: 855 | CI13: 0 | CJ13: 0 | CK13: 0
A14: 高雄市 | B14: 118 | C14: 0 | D14: 65 | E14: 53 | F14: 3898 | G14: 2074 | H14: 1824 | I14: 861 | J14: 476 | K14: 385 | L14: 2215 | M14: 1162 | N14: 1053 | O14: 822 | P14: 436 | Q14: 386 | R14: 2121 | S14: 1123 | T14: 998 | U14: 556 | V14: 303 | W14: 253 | X14: 1124 | Y14: 585 | Z14: 539 | AA14: 441 | AB14: 235 | AC14: 206 | AD14: 1777 | AE14: 951 | AF14: 826 | AG14: 305 | AH14: 173 | AI14: 132 | AJ14: 1091 | AK14: 577 | AL14: 514 | AM14: 381 | AN14: 201 | AO14: 180 | AP14: 3750 | AQ14: 2003 | AR14: 1747 | AS14: 833 | AT14: 463 | AU14: 370 | AV14: 2122 | AW14: 1116 | AX14: 1006 | AY14: 795 | AZ14: 424 | BA14: 371 | BB14: 82 | BC14: 33 | BD14: 49 | BE14: 15 | BF14: 6 | BG14: 9 | BH14: 53 | BI14: 21 | BJ14: 32 | BK14: 14 | BL14: 6 | BM14: 8 | BN14: 66 | BO14: 38 | BP14: 28 | BQ14: 13 | BR14: 7 | BS14: 6 | BT14: 40 | BU14: 25 | BV14: 15 | BW14: 13 | BX14: 6 | BY14: 7 | BZ14: 1209 | CA14: 14 | CB14: 1195 | CC14: 118 | CD14: 3 | CE14: 115 | CF14: 1051 | CG14: 11 | CH14: 1040 | CI14: 40 | CJ14: 0 | CK14: 40
A15: 宜蘭縣 | B15: 21 | C15: 0 | D15: 7 | E15: 14 | F15: 611 | G15: 313 | H15: 298 | I15: 139 | J15: 71 | K15: 68 | L15: 334 | M15: 162 | N15: 172 | O15: 138 | P15: 80 | Q15: 58 | R15: 256 | S15: 149 | T15: 107 | U15: 78 | V15: 44 | W15: 34 | X15: 139 | Y15: 76 | Z15: 63 | AA15: 39 | AB15: 29 | AC15: 10 | AD15: 355 | AE15: 164 | AF15: 191 | AG15: 61 | AH15: 27 | AI15: 34 | AJ15: 195 | AK15: 86 | AL15: 109 | AM15: 99 | AN15: 51 | AO15: 48 | AP15: 583 | AQ15: 300 | AR15: 283 | AS15: 133 | AT15: 68 | AU15: 65 | AV15: 315 | AW15: 152 | AX15: 163 | AY15: 135 | AZ15: 80 | BA15: 55 | BB15: 16 | BC15: 8 | BD15: 8 | BE15: 6 | BF15: 3 | BG15: 3 | BH15: 9 | BI15: 5 | BJ15: 4 | BK15: 1 | BL15: 0 | BM15: 1 | BN15: 12 | BO15: 5 | BP15: 7 | BQ15: 0 | BR15: 0 | BS15: 0 | BT15: 10 | BU15: 5 | BV15: 5 | BW15: 2 | BX15: 0 | BY15: 2 | BZ15: 180 | CA15: 12 | CB15: 168 | CC15: 21 | CD15: 0 | CE15: 21 | CF15: 148 | CG15: 12 | CH15: 136 | CI15: 11 | CJ15: 0 | CK15: 11
A16: 新竹縣 | B16: 81 | C16: 0 | D16: 75 | E16: 6 | F16: 2322 | G16: 1183 | H16: 1139 | I16: 646 | J16: 322 | K16: 324 | L16: 1073 | M16: 558 | N16: 515 | O16: 603 | P16: 303 | Q16: 300 | R16: 2202 | S16: 1124 | T16: 1078 | U16: 625 | V16: 313 | W16: 312 | X16: 1006 | Y16: 524 | Z16: 482 | AA16: 571 | AB16: 287 | AC16: 284 | AD16: 120 | AE16: 59 | AF16: 61 | AG16: 21 | AH16: 9 | AI16: 12 | AJ16: 67 | AK16: 34 | AL16: 33 | AM16: 32 | AN16: 16 | AO16: 16 | AP16: 2278 | AQ16: 1156 | AR16: 1122 | AS16: 639 | AT16: 318 | AU16: 321 | AV16: 1049 | AW16: 544 | AX16: 505 | AY16: 590 | AZ16: 294 | BA16: 296 | BB16: 37 | BC16: 21 | BD16: 16 | BE16: 5 | BF16: 2 | BG16: 3 | BH16: 21 | BI16: 12 | BJ16: 9 | BK16: 11 | BL16: 7 | BM16: 4 | BN16: 7 | BO16: 6 | BP16: 1 | BQ16: 2 | BR16: 2 | BS16: 0 | BT16: 3 | BU16: 2 | BV16: 1 | BW16: 2 | BX16: 2 | BY16: 0 | BZ16: 723 | CA16: 8 | CB16: 715 | CC16: 79 | CD16: 2 | CE16: 77 | CF16: 641 | CG16: 6 | CH16: 635 | CI16: 3 | CJ16: 0 | CK16: 3
A17: 苗栗縣 | B17: 23 | C17: 0 | D17: 17 | E17: 6 | F17: 633 | G17: 316 | H17: 317 | I17: 205 | J17: 100 | K17: 105 | L17: 320 | M17: 164 | N17: 156 | O17: 108 | P17: 52 | Q17: 56 | R17: 513 | S17: 254 | T17: 259 | U17: 169 | V17: 83 | W17: 86 | X17: 251 | Y17: 125 | Z17: 126 | AA17: 93 | AB17: 46 | AC17: 47 | AD17: 120 | AE17: 62 | AF17: 58 | AG17: 36 | AH17: 17 | AI17: 19 | AJ17: 69 | AK17: 39 | AL17: 30 | AM17: 15 | AN17: 6 | AO17: 9 | AP17: 626 | AQ17: 314 | AR17: 312 | AS17: 205 | AT17: 100 | AU17: 105 | AV17: 316 | AW17: 162 | AX17: 154 | AY17: 105 | AZ17: 52 | BA17: 53 | BB17: 5 | BC17: 2 | BD17: 3 | BE17: 0 | BF17: 0 | BG17: 0 | BH17: 4 | BI17: 2 | BJ17: 2 | BK17: 1 | BL17: 0 | BM17: 1 | BN17: 2 | BO17: 0 | BP17: 2 | BQ17: 0 | BR17: 0 | BS17: 0 | BT17: 0 | BU17: 0 | BV17: 0 | BW17: 2 | BX17: 0 | BY17: 2 | BZ17: 191 | CA17: 3 | CB17: 188 | CC17: 23 | CD17: 1 | CE17: 22 | CF17: 168 | CG17: 2 | CH17: 166 | CI17: 0 | CJ17: 0 | CK17: 0
A18: 彰化縣 | B18: 53 | C18: 0 | D18: 49 | E18: 4 | F18: 1585 | G18: 822 | H18: 763 | I18: 469 | J18: 234 | K18: 235 | L18: 875 | M18: 456 | N18: 419 | O18: 241 | P18: 132 | Q18: 109 | R18: 1453 | S18: 767 | T18: 686 | U18: 440 | V18: 222 | W18: 218 | X18: 797 | Y18: 425 | Z18: 372 | AA18: 216 | AB18: 120 | AC18: 96 | AD18: 132 | AE18: 55 | AF18: 77 | AG18: 29 | AH18: 12 | AI18: 17 | AJ18: 78 | AK18: 31 | AL18: 47 | AM18: 25 | AN18: 12 | AO18: 13 | AP18: 1558 | AQ18: 804 | AR18: 754 | AS18: 461 | AT18: 231 | AU18: 230 | AV18: 864 | AW18: 449 | AX18: 415 | AY18: 233 | AZ18: 124 | BA18: 109 | BB18: 5 | BC18: 4 | BD18: 1 | BE18: 1 | BF18: 0 | BG18: 1 | BH18: 2 | BI18: 2 | BJ18: 0 | BK18: 2 | BL18: 2 | BM18: 0 | BN18: 22 | BO18: 14 | BP18: 8 | BQ18: 7 | BR18: 3 | BS18: 4 | BT18: 9 | BU18: 5 | BV18: 4 | BW18: 6 | BX18: 6 | BY18: 0 | BZ18: 472 | CA18: 8 | CB18: 464 | CC18: 54 | CD18: 4 | CE18: 50 | CF18: 418 | CG18: 4 | CH18: 414 | CI18: 0 | CJ18: 0 | CK18: 0
A19: 南投縣 | B19: 7 | C19: 0 | D19: 3 | E19: 4 | F19: 166 | G19: 85 | H19: 81 | I19: 31 | J19: 15 | K19: 16 | L19: 104 | M19: 54 | N19: 50 | O19: 31 | P19: 16 | Q19: 15 | R19: 93 | S19: 48 | T19: 45 | U19: 21 | V19: 9 | W19: 12 | X19: 53 | Y19: 29 | Z19: 24 | AA19: 19 | AB19: 10 | AC19: 9 | AD19: 73 | AE19: 37 | AF19: 36 | AG19: 10 | AH19: 6 | AI19: 4 | AJ19: 51 | AK19: 25 | AL19: 26 | AM19: 12 | AN19: 6 | AO19: 6 | AP19: 155 | AQ19: 80 | AR19: 75 | AS19: 27 | AT19: 14 | AU19: 13 | AV19: 101 | AW19: 53 | AX19: 48 | AY19: 27 | AZ19: 13 | BA19: 14 | BB19: 8 | BC19: 5 | BD19: 3 | BE19: 3 | BF19: 1 | BG19: 2 | BH19: 2 | BI19: 1 | BJ19: 1 | BK19: 3 | BL19: 3 | BM19: 0 | BN19: 3 | BO19: 0 | BP19: 3 | BQ19: 1 | BR19: 0 | BS19: 1 | BT19: 1 | BU19: 0 | BV19: 1 | BW19: 1 | BX19: 0 | BY19: 1 | BZ19: 48 | CA19: 2 | CB19: 46 | CC19: 7 | CD19: 0 | CE19: 7 | CF19: 41 | CG19: 2 | CH19: 39 | CI19: 0 | CJ19: 0 | CK19: 0
... A30: 連江縣 | B30: 5 | C30: 0 | D30: 0 | E30: 5 | F30: 70 | G30: 34 | H30: 36 | I30: 14 | J30: 10 | K30: 4 | L30: 39 | M30: 17 | N30: 22 | O30: 17 | P30: 7 | Q30: 10 | R30: 0 | S30: 0 | T30: 0 | U30: 0 | V30: 0 | W30: 0 | X30: 0 | Y30: 0 | Z30: 0 | AA30: 0 | AB30: 0 | AC30: 0 | AD30: 70 | AE30: 34 | AF30: 36 | AG30: 14 | AH30: 10 | AI30: 4 | AJ30: 39 | AK30: 17 | AL30: 22 | AM30: 17 | AN30: 7 | AO30: 10 | AP30: 67 | AQ30: 32 | AR30: 35 | AS30: 14 | AT30: 10 | AU30: 4 | AV30: 37 | AW30: 16 | AX30: 21 | AY30: 16 | AZ30: 6 | BA30: 10 | BB30: 3 | BC30: 2 | BD30: 1 | BE30: 0 | BF30: 0 | BG30: 0 | BH30: 2 | BI30: 1 | BJ30: 1 | BK30: 1 | BL30: 1 | BM30: 0 | BN30: 0 | BO30: 0 | BP30: 0 | BQ30: 0 | BR30: 0 | BS30: 0 | BT30: 0 | BU30: 0 | BV30: 0 | BW30: 0 | BX30: 0 | BY30: 0 | BZ30: 19 | CA30: 0 | CB30: 19 | CC30: 5 | CD30: 0 | CE30: 5 | CF30: 14 | CG30: 0 | CH30: 14 | CI30: 0 | CJ30: 0 | CK30: 0

Sheet 111
A1: 1.5 托嬰中心概況
A2: 111年底, End of 2022
A3: 一、所數與收托人數 | AP3: 1.一般身分 | BB3: 2.原住民身分 | BN3: 二、外籍配偶子女人數 | BZ3: 三、專業人員人數
A4: 區域別 | B4: 所數 | F4: 收托人數 ─按性別與年齡分 | AP4: 收托人數─按性別與年齡分 | BB4: 收托人數─按性別與年齡分 | BN4: 收托人數─按性別與年齡分 | BZ4: 總計 | CC4: 主管人員(主任) | CF4: 托育人員 | CI4: 教保人員 | CL4: 助理教保人員 | CO4: 護理人員
F5: 總計 | R5: 私立 | AD5: 公辦民營
B6: 總計 | C6: 公立 | D6: 私立 | E6: 公辦民營 | F6: 合計 | I6: 未滿1歲 | L6: 1-未滿2歲 | O6: 2-未滿3歲 | R6: 合計 | U6: 未滿1歲 | X6: 1-未滿2歲 | AA6: 2-未滿3歲 | AD6: 合計 | AG6: 未滿1歲 | AJ6: 1-未滿2歲 | AM6: 2-未滿3歲 | AP6: 總計 | AS6: 未滿1歲 | AV6: 1-未滿2歲 | AY6: 2-未滿3歲 | BB6: 總計 | BE6: 未滿1歲 | BH6: 1-未滿2歲 | BK6: 2-未滿3歲 | BN6: 總計 | BQ6: 未滿1歲 | BT6: 1-未滿2歲 | BW6: 2-未滿3歲
F7: 計 | G7: 男 | H7: 女 | I7: 計 | J7: 男 | K7: 女 | L7: 計 | M7: 男 | N7: 女 | O7: 計 | P7: 男 | Q7: 女 | R7: 計 | S7: 男 | T7: 女 | U7: 計 | V7: 男 | W7: 女 | X7: 計 | Y7: 男 | Z7: 女 | AA7: 計 | AB7: 男 | AC7: 女 | AD7: 計 | AE7: 男 | AF7: 女 | AG7: 計 | AH7: 男 | AI7: 女 | AJ7: 計 | AK7: 男 | AL7: 女 | AM7: 計 | AN7: 男 | AO7: 女 | AP7: 計 | AQ7: 男 | AR7: 女 | AS7: 計 | AT7: 男 | AU7: 女 | AV7: 計 | AW7: 男 | AX7: 女 | AY7: 計 | AZ7: 男 | BA7: 女 | BB7: 計 | BC7: 男 | BD7: 女 | BE7: 計 | BF7: 男 | BG7: 女 | BH7: 計 | BI7: 男 | BJ7: 女 | BK7: 計 | BL7: 男 | BM7: 女 | BN7: 計 | BO7: 男 | BP7: 女 | BQ7: 計 | BR7: 男 | BS7: 女 | BT7: 計 | BU7: 男 | BV7: 女 | BW7: 計 | BX7: 男 | BY7: 女 | BZ7: 計 | CA7: 男 | CB7: 女 | CC7: 計 | CD7: 男 | CE7: 女 | CF7: 計 | CG7: 男 | CH7: 女 | CI7: 計 | CJ7: 男 | CK7: 女 | CL7: 計 | CM7: 男 | CN7: 女 | CO7: 計 | CP7: 男 | CQ7: 女
A8: 總 計 | B8: 1502 | C8: 0 | D8: 1117 | E8: 385 | F8: 44070 | G8: 22990 | H8: 21080 | I8: 9935 | J8: 5190 | K8: 4745 | L8: 23143 | M8: 12084 | N8: 11059 | O8: 10992 | P8: 5716 | Q8: 5276 | R8: 32228 | S8: 16866 | T8: 15362 | U8: 7843 | V8: 4118 | W8: 3725 | X8: 16694 | Y8: 8703 | Z8: 7991 | AA8: 7691 | AB8: 4045 | AC8: 3646 | AD8: 11842 | AE8: 6124 | AF8: 5718 | AG8: 2092 | AH8: 1072 | AI8: 1020 | AJ8: 6449 | AK8: 3381 | AL8: 3068 | AM8: 3301 | AN8: 1671 | AO8: 1630 | AP8: 42371 | AQ8: 22104 | AR8: 20267 | AS8: 9612 | AT8: 5015 | AU8: 4597 | AV8: 22183 | AW8: 11574 | AX8: 10609 | AY8: 10576 | AZ8: 5515 | BA8: 5061 | BB8: 895 | BC8: 461 | BD8: 434 | BE8: 197 | BF8: 108 | BG8: 89 | BH8: 494 | BI8: 253 | BJ8: 241 | BK8: 204 | BL8: 100 | BM8: 104 | BN8: 804 | BO8: 425 | BP8: 379 | BQ8: 126 | BR8: 67 | BS8: 59 | BT8: 466 | BU8: 257 | BV8: 209 | BW8: 212 | BX8: 101 | BY8: 111 | BZ8: 13007 | CA8: 225 | CB8: 12782 | CC8: 1495 | CD8: 50 | CE8: 1445 | CF8: 11170 | CG8: 173 | CH8: 10997 | CI8: 120 | CJ8: 1 | CK8: 119 | CL8: 12 | CM8: 1 | CN8: 11 | CO8: 210 | CP8: 0 | CQ8: 210
A9: 新北市 | B9: 338 | C9: 0 | D9: 226 | E9: 112 | F9: 12207 | G9: 6343 | H9: 5864 | I9: 2518 | J9: 1315 | K9: 1203 | L9: 5886 | M9: 3108 | N9: 2778 | O9: 3803 | P9: 1920 | Q9: 1883 | R9: 6544 | S9: 3425 | T9: 3119 | U9: 1479 | V9: 789 | W9: 690 | X9: 3123 | Y9: 1641 | Z9: 1482 | AA9: 1942 | AB9: 995 | AC9: 947 | AD9: 5663 | AE9: 2918 | AF9: 2745 | AG9: 1039 | AH9: 526 | AI9: 513 | AJ9: 2763 | AK9: 1467 | AL9: 1296 | AM9: 1861 | AN9: 925 | AO9: 936 | AP9: 11682 | AQ9: 6077 | AR9: 5605 | AS9: 2411 | AT9: 1257 | AU9: 1154 | AV9: 5628 | AW9: 2969 | AX9: 2659 | AY9: 3643 | AZ9: 1851 | BA9: 1792 | BB9: 238 | BC9: 126 | BD9: 112 | BE9: 59 | BF9: 33 | BG9: 26 | BH9: 112 | BI9: 64 | BJ9: 48 | BK9: 67 | BL9: 29 | BM9: 38 | BN9: 287 | BO9: 140 | BP9: 147 | BQ9: 48 | BR9: 25 | BS9: 23 | BT9: 146 | BU9: 75 | BV9: 71 | BW9: 93 | BX9: 40 | BY9: 53 | BZ9: 3610 | CA9: 90 | CB9: 3520 | CC9: 335 | CD9: 11 | CE9: 324 | CF9: 3034 | CG9: 77 | CH9: 2957 | CI9: 116 | CJ9: 1 | CK9: 115 | CL9: 10 | CM9: 1 | CN9: 9 | CO9: 115 | CP9: 0 | CQ9: 115
A10: 臺北市 | B10: 275 | C10: 0 | D10: 194 | E10: 81 | F10: 6324 | G10: 3264 | H10: 3060 | I10: 1352 | J10: 713 | K10: 639 | L10: 3397 | M10: 1722 | N10: 1675 | O10: 1575 | P10: 829 | Q10: 746 | R10: 4619 | S10: 2393 | T10: 2226 | U10: 1048 | V10: 555 | W10: 493 | X10: 2387 | Y10: 1215 | Z10: 1172 | AA10: 1184 | AB10: 623 | AC10: 561 | AD10: 1705 | AE10: 871 | AF10: 834 | AG10: 304 | AH10: 158 | AI10: 146 | AJ10: 1010 | AK10: 507 | AL10: 503 | AM10: 391 | AN10: 206 | AO10: 185 | AP10: 6088 | AQ10: 3145 | AR10: 2943 | AS10: 1312 | AT10: 696 | AU10: 616 | AV10: 3261 | AW10: 1653 | AX10: 1608 | AY10: 1515 | AZ10: 796 | BA10: 719 | BB10: 70 | BC10: 37 | BD10: 33 | BE10: 16 | BF10: 9 | BG10: 7 | BH10: 35 | BI10: 16 | BJ10: 19 | BK10: 19 | BL10: 12 | BM10: 7 | BN10: 166 | BO10: 82 | BP10: 84 | BQ10: 24 | BR10: 8 | BS10: 16 | BT10: 101 | BU10: 53 | BV10: 48 | BW10: 41 | BX10: 21 | BY10: 20 | BZ10: 1946 | CA10: 17 | CB10: 1929 | CC10: 275 | CD10: 5 | CE10: 270 | CF10: 1643 | CG10: 12 | CH10: 1631 | CI10: 0 | CJ10: 0 | CK10: 0 | CL10: 0 | CM10: 0 | CN10: 0 | CO10: 28 | CP10: 0 | CQ10: 28
A11: 桃園市 | B11: 157 | C11: 0 | D11: 117 | E11: 40 | F11: 4676 | G11: 2428 | H11: 2248 | I11: 982 | J11: 506 | K11: 476 | L11: 2397 | M11: 1249 | N11: 1148 | O11: 1297 | P11: 673 | Q11: 624 | R11: 3520 | S11: 1820 | T11: 1700 | U11: 828 | V11: 424 | W11: 404 | X11: 1747 | Y11: 899 | Z11: 848 | AA11: 945 | AB11: 497 | AC11: 448 | AD11: 1156 | AE11: 608 | AF11: 548 | AG11: 154 | AH11: 82 | AI11: 72 | AJ11: 650 | AK11: 350 | AL11: 300 | AM11: 352 | AN11: 176 | AO11: 176 | AP11: 4444 | AQ11: 2301 | AR11: 2143 | AS11: 946 | AT11: 488 | AU11: 458 | AV11: 2258 | AW11: 1168 | AX11: 1090 | AY11: 1240 | AZ11: 645 | BA11: 595 | BB11: 165 | BC11: 85 | BD11: 80 | BE11: 27 | BF11: 14 | BG11: 13 | BH11: 98 | BI11: 53 | BJ11: 45 | BK11: 40 | BL11: 18 | BM11: 22 | BN11: 67 | BO11: 42 | BP11: 25 | BQ11: 9 | BR11: 4 | BS11: 5 | BT11: 41 | BU11: 28 | BV11: 13 | BW11: 17 | BX11: 10 | BY11: 7 | BZ11: 1401 | CA11: 14 | CB11: 1387 | CC11: 155 | CD11: 2 | CE11: 153 | CF11: 1222 | CG11: 12 | CH11: 1210 | CI11: 2 | CJ11: 0 | CK11: 2 | CL11: 2 | CM11: 0 | CN11: 2 | CO11: 20 | CP11: 0 | CQ11: 20
A12: 臺中市 | B12: 196 | C12: 0 | D12: 169 | E12: 27 | F12: 6166 | G12: 3251 | H12: 2915 | I12: 1606 | J12: 851 | K12: 755 | L12: 3189 | M12: 1681 | N12: 1508 | O12: 1371 | P12: 719 | Q12: 652 | R12: 5538 | S12: 2900 | T12: 2638 | U12: 1501 | V12: 789 | W12: 712 | X12: 2801 | Y12: 1471 | Z12: 1330 | AA12: 1236 | AB12: 640 | AC12: 596 | AD12: 628 | AE12: 351 | AF12: 277 | AG12: 105 | AH12: 62 | AI12: 43 | AJ12: 388 | AK12: 210 | AL12: 178 | AM12: 135 | AN12: 79 | AO12: 56 | AP12: 6016 | AQ12: 3169 | AR12: 2847 | AS12: 1573 | AT12: 833 | AU12: 740 | AV12: 3098 | AW12: 1631 | AX12: 1467 | AY12: 1345 | AZ12: 705 | BA12: 640 | BB12: 72 | BC12: 41 | BD12: 31 | BE12: 21 | BF12: 13 | BG12: 8 | BH12: 42 | BI12: 23 | BJ12: 19 | BK12: 9 | BL12: 5 | BM12: 4 | BN12: 78 | BO12: 41 | BP12: 37 | BQ12: 12 | BR12: 5 | BS12: 7 | BT12: 49 | BU12: 27 | BV12: 22 | BW12: 17 | BX12: 9 | BY12: 8 | BZ12: 1701 | CA12: 31 | CB12: 1670 | CC12: 197 | CD12: 4 | CE12: 193 | CF12: 1504 | CG12: 27 | CH12: 1477 | CI12: 0 | CJ12: 0 | CK12: 0 | CL12: 0 | CM12: 0 | CN12: 0 | CO12: 0 | CP12: 0 | CQ12: 0
A13: 臺南市 | B13: 114 | C13: 0 | D13: 99 | E13: 15 | F13: 2936 | G13: 1564 | H13: 1372 | I13: 703 | J13: 379 | K13: 324 | L13: 1700 | M13: 888 | N13: 812 | O13: 533 | P13: 297 | Q13: 236 | R13: 2745 | S13: 1456 | T13: 1289 | U13: 682 | V13: 365 | W13: 317 | X13: 1575 | Y13: 822 | Z13: 753 | AA13: 488 | AB13: 269 | AC13: 219 | AD13: 191 | AE13: 108 | AF13: 83 | AG13: 21 | AH13: 14 | AI13: 7 | AJ13: 125 | AK13: 66 | AL13: 59 | AM13: 45 | AN13: 28 | AO13: 17 | AP13: 2839 | AQ13: 1507 | AR13: 1332 | AS13: 682 | AT13: 364 | AU13: 318 | AV13: 1642 | AW13: 856 | AX13: 786 | AY13: 515 | AZ13: 287 | BA13: 228 | BB13: 24 | BC13: 13 | BD13: 11 | BE13: 2 | BF13: 1 | BG13: 1 | BH13: 19 | BI13: 11 | BJ13: 8 | BK13: 3 | BL13: 1 | BM13: 2 | BN13: 73 | BO13: 44 | BP13: 29 | BQ13: 19 | BR13: 14 | BS13: 5 | BT13: 39 | BU13: 21 | BV13: 18 | BW13: 15 | BX13: 9 | BY13: 6 | BZ13: 848 | CA13: 20 | CB13: 828 | CC13: 110 | CD13: 5 | CE13: 105 | CF13: 738 | CG13: 15 | CH13: 723 | CI13: 0 | CJ13: 0 | CK13: 0 | CL13: 0 | CM13: 0 | CN13: 0 | CO13: 0 | CP13: 0 | CQ13: 0
A14: 高雄市 | B14: 102 | C14: 0 | D14: 65 | E14: 37 | F14: 3020 | G14: 1590 | H14: 1430 | I14: 692 | J14: 350 | K14: 342 | L14: 1798 | M14: 966 | N14: 832 | O14: 530 | P14: 274 | Q14: 256 | R14: 1900 | S14: 1030 | T14: 870 | U14: 469 | V14: 241 | W14: 228 | X14: 1114 | Y14: 619 | Z14: 495 | AA14: 317 | AB14: 170 | AC14: 147 | AD14: 1120 | AE14: 560 | AF14: 560 | AG14: 223 | AH14: 109 | AI14: 114 | AJ14: 684 | AK14: 347 | AL14: 337 | AM14: 213 | AN14: 104 | AO14: 109 | AP14: 2892 | AQ14: 1531 | AR14: 1361 | AS14: 666 | AT14: 339 | AU14: 327 | AV14: 1719 | AW14: 927 | AX14: 792 | AY14: 507 | AZ14: 265 | BA14: 242 | BB14: 78 | BC14: 30 | BD14: 48 | BE14: 18 | BF14: 6 | BG14: 12 | BH14: 45 | BI14: 19 | BJ14: 26 | BK14: 15 | BL14: 5 | BM14: 10 | BN14: 50 | BO14: 29 | BP14: 21 | BQ14: 8 | BR14: 5 | BS14: 3 | BT14: 34 | BU14: 20 | BV14: 14 | BW14: 8 | BX14: 4 | BY14: 4 | BZ14: 952 | CA14: 10 | CB14: 942 | CC14: 102 | CD14: 3 | CE14: 99 | CF14: 826 | CG14: 7 | CH14: 819 | CI14: 0 | CJ14: 0 | CK14: 0 | CL14: 0 | CM14: 0 | CN14: 0 | CO14: 24 | CP14: 0 | CQ14: 24
A15: 宜蘭縣 | B15: 19 | C15: 0 | D15: 6 | E15: 13 | F15: 511 | G15: 276 | H15: 235 | I15: 99 | J15: 46 | K15: 53 | L15: 309 | M15: 171 | N15: 138 | O15: 103 | P15: 59 | Q15: 44 | R15: 209 | S15: 124 | T15: 85 | U15: 52 | V15: 29 | W15: 23 | X15: 114 | Y15: 67 | Z15: 47 | AA15: 43 | AB15: 28 | AC15: 15 | AD15: 302 | AE15: 152 | AF15: 150 | AG15: 47 | AH15: 17 | AI15: 30 | AJ15: 195 | AK15: 104 | AL15: 91 | AM15: 60 | AN15: 31 | AO15: 29 | AP15: 480 | AQ15: 258 | AR15: 222 | AS15: 96 | AT15: 43 | AU15: 53 | AV15: 293 | AW15: 165 | AX15: 128 | AY15: 91 | AZ15: 50 | BA15: 41 | BB15: 18 | BC15: 11 | BD15: 7 | BE15: 2 | BF15: 2 | BG15: 0 | BH15: 9 | BI15: 2 | BJ15: 7 | BK15: 7 | BL15: 7 | BM15: 0 | BN15: 13 | BO15: 7 | BP15: 6 | BQ15: 1 | BR15: 1 | BS15: 0 | BT15: 7 | BU15: 4 | BV15: 3 | BW15: 5 | BX15: 2 | BY15: 3 | BZ15: 146 | CA15: 0 | CB15: 146 | CC15: 19 | CD15: 0 | CE15: 19 | CF15: 115 | CG15: 0 | CH15: 115 | CI15: 0 | CJ15: 0 | CK15: 0 | CL15: 0 | CM15: 0 | CN15: 0 | CO15: 12 | CP15: 0 | CQ15: 12
A16: 新竹縣 | B16: 74 | C16: 0 | D16: 69 | E16: 5 | F16: 2095 | G16: 1075 | H16: 1020 | I16: 531 | J16: 273 | K16: 258 | L16: 1040 | M16: 526 | N16: 514 | O16: 524 | P16: 276 | Q16: 248 | R16: 2007 | S16: 1023 | T16: 984 | U16: 516 | V16: 265 | W16: 251 | X16: 990 | Y16: 496 | Z16: 494 | AA16: 501 | AB16: 262 | AC16: 239 | AD16: 88 | AE16: 52 | AF16: 36 | AG16: 15 | AH16: 8 | AI16: 7 | AJ16: 50 | AK16: 30 | AL16: 20 | AM16: 23 | AN16: 14 | AO16: 9 | AP16: 2050 | AQ16: 1049 | AR16: 1001 | AS16: 523 | AT16: 267 | AU16: 256 | AV16: 1017 | AW16: 513 | AX16: 504 | AY16: 510 | AZ16: 269 | BA16: 241 | BB16: 27 | BC16: 14 | BD16: 13 | BE16: 6 | BF16: 4 | BG16: 2 | BH16: 13 | BI16: 6 | BJ16: 7 | BK16: 8 | BL16: 4 | BM16: 4 | BN16: 18 | BO16: 12 | BP16: 6 | BQ16: 2 | BR16: 2 | BS16: 0 | BT16: 10 | BU16: 7 | BV16: 3 | BW16: 6 | BX16: 3 | BY16: 3 | BZ16: 604 | CA16: 7 | CB16: 597 | CC16: 73 | CD16: 3 | CE16: 70 | CF16: 527 | CG16: 4 | CH16: 523 | CI16: 2 | CJ16: 0 | CK16: 2 | CL16: 0 | CM16: 0 | CN16: 0 | CO16: 2 | CP16: 0 | CQ16: 2
A17: 苗栗縣 | B17: 21 | C17: 0 | D17: 15 | E17: 6 | F17: 513 | G17: 254 | H17: 259 | I17: 143 | J17: 73 | K17: 70 | L17: 277 | M17: 138 | N17: 139 | O17: 93 | P17: 43 | Q17: 50 | R17: 441 | S17: 212 | T17: 229 | U17: 120 | V17: 57 | W17: 63 | X17: 237 | Y17: 116 | Z17: 121 | AA17: 84 | AB17: 39 | AC17: 45 | AD17: 72 | AE17: 42 | AF17: 30 | AG17: 23 | AH17: 16 | AI17: 7 | AJ17: 40 | AK17: 22 | AL17: 18 | AM17: 9 | AN17: 4 | AO17: 5 | AP17: 501 | AQ17: 250 | AR17: 251 | AS17: 141 | AT17: 72 | AU17: 69 | AV17: 271 | AW17: 136 | AX17: 135 | AY17: 89 | AZ17: 42 | BA17: 47 | BB17: 6 | BC17: 2 | BD17: 4 | BE17: 2 | BF17: 1 | BG17: 1 | BH17: 3 | BI17: 1 | BJ17: 2 | BK17: 1 | BL17: 0 | BM17: 1 | BN17: 6 | BO17: 2 | BP17: 4 | BQ17: 0 | BR17: 0 | BS17: 0 | BT17: 3 | BU17: 1 | BV17: 2 | BW17: 3 | BX17: 1 | BY17: 2 | BZ17: 162 | CA17: 2 | CB17: 160 | CC17: 21 | CD17: 1 | CE17: 20 | CF17: 141 | CG17: 1 | CH17: 140 | CI17: 0 | CJ17: 0 | CK17: 0 | CL17: 0 | CM17: 0 | CN17: 0 | CO17: 0 | CP17: 0 | CQ17: 0
A18: 彰化縣 | B18: 43 | C18: 0 | D18: 43 | E18: 0 | F18: 1248 | G18: 659 | H18: 589 | I18: 299 | J18: 158 | K18: 141 | L18: 768 | M18: 394 | N18: 374 | O18: 181 | P18: 107 | Q18: 74 | R18: 1248 | S18: 659 | T18: 589 | U18: 299 | V18: 158 | W18: 141 | X18: 768 | Y18: 394 | Z18: 374 | AA18: 181 | AB18: 107 | AC18: 74 | AD18: 0 | AE18: 0 | AF18: 0 | AG18: 0 | AH18: 0 | AI18: 0 | AJ18: 0 | AK18: 0 | AL18: 0 | AM18: 0 | AN18: 0 | AO18: 0 | AP18: 1235 | AQ18: 650 | AR18: 585 | AS18: 297 | AT18: 156 | AU18: 141 | AV18: 758 | AW18: 387 | AX18: 371 | AY18: 180 | AZ18: 107 | BA18: 73 | BB18: 8 | BC18: 5 | BD18: 3 | BE18: 2 | BF18: 2 | BG18: 0 | BH18: 5 | BI18: 3 | BJ18: 2 | BK18: 1 | BL18: 0 | BM18: 1 | BN18: 5 | BO18: 4 | BP18: 1 | BQ18: 0 | BR18: 0 | BS18: 0 | BT18: 5 | BU18: 4 | BV18: 1 | BW18: 0 | BX18: 0 | BY18: 0 | BZ18: 346 | CA18: 9 | CB18: 337 | CC18: 43 | CD18: 4 | CE18: 39 | CF18: 303 | CG18: 5 | CH18: 298 | CI18: 0 | CJ18: 0 | CK18: 0 | CL18: 0 | CM18: 0 | CN18: 0 | CO18: 0 | CP18: 0 | CQ18: 0
A19: 南投縣 | B19: 6 | C19: 0 | D19: 3 | E19: 3 | F19: 134 | G19: 71 | H19: 63 | I19: 31 | J19: 18 | K19: 13 | L19: 77 | M19: 40 | N19: 37 | O19: 26 | P19: 13 | Q19: 13 | R19: 100 | S19: 55 | T19: 45 | U19: 23 | V19: 14 | W19: 9 | X19: 53 | Y19: 29 | Z19: 24 | AA19: 24 | AB19: 12 | AC19: 12 | AD19: 34 | AE19: 16 | AF19: 18 | AG19: 8 | AH19: 4 | AI19: 4 | AJ19: 24 | AK19: 11 | AL19: 13 | AM19: 2 | AN19: 1 | AO19: 1 | AP19: 123 | AQ19: 65 | AR19: 58 | AS19: 30 | AT19: 17 | AU19: 13 | AV19: 70 | AW19: 37 | AX19: 33 | AY19: 23 | AZ19: 11 | BA19: 12 | BB19: 10 | BC19: 5 | BD19: 5 | BE19: 1 | BF19: 1 | BG19: 0 | BH19: 6 | BI19: 2 | BJ19: 4 | BK19: 3 | BL19: 2 | BM19: 1 | BN19: 1 | BO19: 1 | BP19: 0 | BQ19: 0 | BR19: 0 | BS19: 0 | BT19: 1 | BU19: 1 | BV19: 0 | BW19: 0 | BX19: 0 | BY19: 0 | BZ19: 38 | CA19: 2 | CB19: 36 | CC19: 6 | CD19: 0 | CE19: 6 | CF19: 32 | CG19: 2 | CH19: 30 | CI19: 0 | CJ19: 0 | CK19: 0 | CL19: 0 | CM19: 0 | CN19: 0 | CO19: 0 | CP19: 0 | CQ19: 0
... A30: 連江縣 | B30: 5 | C30: 0 | D30: 0 | E30: 5 | F30: 63 | G30: 39 | H30: 24 | I30: 9 | J30: 7 | K30: 2 | L30: 37 | M30: 22 | N30: 15 | O30: 17 | P30: 10 | Q30: 7 | R30: 0 | S30: 0 | T30: 0 | U30: 0 | V30: 0 | W30: 0 | X30: 0 | Y30: 0 | Z30: 0 | AA30: 0 | AB30: 0 | AC30: 0 | AD30: 63 | AE30: 39 | AF30: 24 | AG30: 9 | AH30: 7 | AI30: 2 | AJ30: 37 | AK30: 22 | AL30: 15 | AM30: 17 | AN30: 10 | AO30: 7 | AP30: 59 | AQ30: 36 | AR30: 23 | AS30: 8 | AT30: 6 | AU30: 2 | AV30: 35 | AW30: 20 | AX30: 15 | AY30: 16 | AZ30: 10 | BA30: 6 | BB30: 1 | BC30: 1 | BD30: 0 | BE30: 0 | BF30: 0 | BG30: 0 | BH30: 1 | BI30: 1 | BJ30: 0 | BK30: 0 | BL30: 0 | BM30: 0 | BN30: 3 | BO30: 2 | BP30: 1 | BQ30: 1 | BR30: 1 | BS30: 0 | BT30: 1 | BU30: 1 | BV30: 0 | BW30: 1 | BX30: 0 | BY30: 1 | BZ30: 22 | CA30: 0 | CB30: 22 | CC30: 5 | CD30: 0 | CE30: 5 | CF30: 15 | CG30: 0 | CH30: 15 | CI30: 0 | CJ30: 0 | CK30: 0 | CL30: 0 | CM30: 0 | CN30: 0 | CO30: 2 | CP30: 0 | CQ30: 2

Sheet 110
A1: 1.5 托嬰中心概況
A2: 110年底, End of 2021
A3: 一、所數與收托人數 | AP3: 1.一般身分 | BB3: 2.原住民身分 | BN3: 二、外籍配偶子女人數 | BZ3: 三、專業人員人數
A4: 區域別 | B4: 所數 | F4: 收托人數 ─按性別與年齡分 | AP4: 收托人數─按性別與年齡分 | BB4: 收托人數─按性別與年齡分 | BN4: 收托人數─按性別與年齡分 | BZ4: 總計 | CC4: 主管人員(主任) | CF4: 托育人員 | CI4: 教保人員 | CL4: 助理教保人員
F5: 總計 | R5: 私立 | AD5: 公辦民營
B6: 總計 | C6: 公立 | D6: 私立 | E6: 公辦民營 | F6: 合計 | I6: 未滿1歲 | L6: 1-未滿2歲 | O6: 2-未滿3歲 | R6: 合計 | U6: 未滿1歲 | X6: 1-未滿2歲 | AA6: 2-未滿3歲 | AD6: 合計 | AG6: 未滿1歲 | AJ6: 1-未滿2歲 | AM6: 2-未滿3歲 | AP6: 總計 | AS6: 未滿1歲 | AV6: 1-未滿2歲 | AY6: 2-未滿3歲 | BB6: 總計 | BE6: 未滿1歲 | BH6: 1-未滿2歲 | BK6: 2-未滿3歲 | BN6: 總計 | BQ6: 未滿1歲 | BT6: 1-未滿2歲 | BW6: 2-未滿3歲
F7: 計 | G7: 男 | H7: 女 | I7: 計 | J7: 男 | K7: 女 | L7: 計 | M7: 男 | N7: 女 | O7: 計 | P7: 男 | Q7: 女 | R7: 計 | S7: 男 | T7: 女 | U7: 計 | V7: 男 | W7: 女 | X7: 計 | Y7: 男 | Z7: 女 | AA7: 計 | AB7: 男 | AC7: 女 | AD7: 計 | AE7: 男 | AF7: 女 | AG7: 計 | AH7: 男 | AI7: 女 | AJ7: 計 | AK7: 男 | AL7: 女 | AM7: 計 | AN7: 男 | AO7: 女 | AP7: 計 | AQ7: 男 | AR7: 女 | AS7: 計 | AT7: 男 | AU7: 女 | AV7: 計 | AW7: 男 | AX7: 女 | AY7: 計 | AZ7: 男 | BA7: 女 | BB7: 計 | BC7: 男 | BD7: 女 | BE7: 計 | BF7: 男 | BG7: 女 | BH7: 計 | BI7: 男 | BJ7: 女 | BK7: 計 | BL7: 男 | BM7: 女 | BN7: 計 | BO7: 男 | BP7: 女 | BQ7: 計 | BR7: 男 | BS7: 女 | BT7: 計 | BU7: 男 | BV7: 女 | BW7: 計 | BX7: 男 | BY7: 女 | BZ7: 計 | CA7: 男 | CB7: 女 | CC7: 計 | CD7: 男 | CE7: 女 | CF7: 計 | CG7: 男 | CH7: 女 | CI7: 計 | CJ7: 男 | CK7: 女 | CL7: 計 | CM7: 男 | CN7: 女
A8: 總 計 | B8: 1376 | C8: 0 | D8: 1058 | E8: 318 | F8: 38938 | G8: 20370 | H8: 18568 | I8: 9325 | J8: 4797 | K8: 4528 | L8: 18894 | M8: 9860 | N8: 9034 | O8: 10719 | P8: 5713 | Q8: 5006 | R8: 29019 | S8: 15221 | T8: 13798 | U8: 7559 | V8: 3890 | W8: 3669 | X8: 13770 | Y8: 7187 | Z8: 6583 | AA8: 7690 | AB8: 4144 | AC8: 3546 | AD8: 9919 | AE8: 5149 | AF8: 4770 | AG8: 1766 | AH8: 907 | AI8: 859 | AJ8: 5124 | AK8: 2673 | AL8: 2451 | AM8: 3029 | AN8: 1569 | AO8: 1460 | AP8: 37362 | AQ8: 19545 | AR8: 17817 | AS8: 8993 | AT8: 4620 | AU8: 4373 | AV8: 18094 | AW8: 9445 | AX8: 8649 | AY8: 10275 | AZ8: 5480 | BA8: 4795 | BB8: 743 | BC8: 388 | BD8: 355 | BE8: 176 | BF8: 94 | BG8: 82 | BH8: 380 | BI8: 199 | BJ8: 181 | BK8: 187 | BL8: 95 | BM8: 92 | BN8: 833 | BO8: 437 | BP8: 396 | BQ8: 156 | BR8: 83 | BS8: 73 | BT8: 420 | BU8: 216 | BV8: 204 | BW8: 257 | BX8: 138 | BY8: 119 | BZ8: 11225 | CA8: 180 | CB8: 11045 | CC8: 1370 | CD8: 49 | CE8: 1321 | CF8: 9742 | CG8: 128 | CH8: 9614 | CI8: 101 | CJ8: 2 | CK8: 99 | CL8: 12 | CM8: 1 | CN8: 11
A9: 新北市 | B9: 306 | C9: 0 | D9: 213 | E9: 93 | F9: 10764 | G9: 5640 | H9: 5124 | I9: 2237 | J9: 1151 | K9: 1086 | L9: 4720 | M9: 2445 | N9: 2275 | O9: 3807 | P9: 2044 | Q9: 1763 | R9: 6009 | S9: 3176 | T9: 2833 | U9: 1463 | V9: 741 | W9: 722 | X9: 2541 | Y9: 1330 | Z9: 1211 | AA9: 2005 | AB9: 1105 | AC9: 900 | AD9: 4755 | AE9: 2464 | AF9: 2291 | AG9: 774 | AH9: 410 | AI9: 364 | AJ9: 2179 | AK9: 1115 | AL9: 1064 | AM9: 1802 | AN9: 939 | AO9: 863 | AP9: 10252 | AQ9: 5386 | AR9: 4866 | AS9: 2138 | AT9: 1105 | AU9: 1033 | AV9: 4473 | AW9: 2318 | AX9: 2155 | AY9: 3641 | AZ9: 1963 | BA9: 1678 | BB9: 212 | BC9: 105 | BD9: 107 | BE9: 51 | BF9: 24 | BG9: 27 | BH9: 107 | BI9: 57 | BJ9: 50 | BK9: 54 | BL9: 24 | BM9: 30 | BN9: 300 | BO9: 149 | BP9: 151 | BQ9: 48 | BR9: 22 | BS9: 26 | BT9: 140 | BU9: 70 | BV9: 70 | BW9: 112 | BX9: 57 | BY9: 55 | BZ9: 3012 | CA9: 49 | CB9: 2963 | CC9: 302 | CD9: 9 | CE9: 293 | CF9: 2607 | CG9: 37 | CH9: 2570 | CI9: 94 | CJ9: 2 | CK9: 92 | CL9: 9 | CM9: 1 | CN9: 8
A10: 臺北市 | B10: 265 | C10: 0 | D10: 186 | E10: 79 | F10: 5823 | G10: 2972 | H10: 2851 | I10: 1420 | J10: 702 | K10: 718 | L10: 2861 | M10: 1472 | N10: 1389 | O10: 1542 | P10: 798 | Q10: 744 | R10: 4171 | S10: 2110 | T10: 2061 | U10: 1057 | V10: 523 | W10: 534 | X10: 1934 | Y10: 976 | Z10: 958 | AA10: 1180 | AB10: 611 | AC10: 569 | AD10: 1652 | AE10: 862 | AF10: 790 | AG10: 363 | AH10: 179 | AI10: 184 | AJ10: 927 | AK10: 496 | AL10: 431 | AM10: 362 | AN10: 187 | AO10: 175 | AP10: 5583 | AQ10: 2846 | AR10: 2737 | AS10: 1366 | AT10: 673 | AU10: 693 | AV10: 2754 | AW10: 1413 | AX10: 1341 | AY10: 1463 | AZ10: 760 | BA10: 703 | BB10: 62 | BC10: 31 | BD10: 31 | BE10: 16 | BF10: 9 | BG10: 7 | BH10: 29 | BI10: 15 | BJ10: 14 | BK10: 17 | BL10: 7 | BM10: 10 | BN10: 178 | BO10: 95 | BP10: 83 | BQ10: 38 | BR10: 20 | BS10: 18 | BT10: 78 | BU10: 44 | BV10: 34 | BW10: 62 | BX10: 31 | BY10: 31 | BZ10: 1805 | CA10: 15 | CB10: 1790 | CC10: 265 | CD10: 3 | CE10: 262 | CF10: 1540 | CG10: 12 | CH10: 1528 | CI10: 0 | CJ10: 0 | CK10: 0 | CL10: 0 | CM10: 0 | CN10: 0
A11: 桃園市 | B11: 145 | C11: 0 | D11: 110 | E11: 35 | F11: 3951 | G11: 2097 | H11: 1854 | I11: 858 | J11: 446 | K11: 412 | L11: 1920 | M11: 1021 | N11: 899 | O11: 1173 | P11: 630 | Q11: 543 | R11: 2998 | S11: 1585 | T11: 1413 | U11: 698 | V11: 362 | W11: 336 | X11: 1403 | Y11: 735 | Z11: 668 | AA11: 897 | AB11: 488 | AC11: 409 | AD11: 953 | AE11: 512 | AF11: 441 | AG11: 160 | AH11: 84 | AI11: 76 | AJ11: 517 | AK11: 286 | AL11: 231 | AM11: 276 | AN11: 142 | AO11: 134 | AP11: 3762 | AQ11: 1981 | AR11: 1781 | AS11: 822 | AT11: 422 | AU11: 400 | AV11: 1824 | AW11: 966 | AX11: 858 | AY11: 1116 | AZ11: 593 | BA11: 523 | BB11: 124 | BC11: 72 | BD11: 52 | BE11: 22 | BF11: 13 | BG11: 9 | BH11: 67 | BI11: 39 | BJ11: 28 | BK11: 35 | BL11: 20 | BM11: 15 | BN11: 65 | BO11: 44 | BP11: 21 | BQ11: 14 | BR11: 11 | BS11: 3 | BT11: 29 | BU11: 16 | BV11: 13 | BW11: 22 | BX11: 17 | BY11: 5 | BZ11: 1162 | CA11: 22 | CB11: 1140 | CC11: 144 | CD11: 3 | CE11: 141 | CF11: 1018 | CG11: 19 | CH11: 999 | CI11: 0 | CJ11: 0 | CK11: 0 | CL11: 0 | CM11: 0 | CN11: 0
A12: 臺中市 | B12: 177 | C12: 0 | D12: 160 | E12: 17 | F12: 5606 | G12: 2926 | H12: 2680 | I12: 1502 | J12: 806 | K12: 696 | L12: 2861 | M12: 1462 | N12: 1399 | O12: 1243 | P12: 658 | Q12: 585 | R12: 5162 | S12: 2699 | T12: 2463 | U12: 1443 | V12: 777 | W12: 666 | X12: 2574 | Y12: 1317 | Z12: 1257 | AA12: 1145 | AB12: 605 | AC12: 540 | AD12: 444 | AE12: 227 | AF12: 217 | AG12: 59 | AH12: 29 | AI12: 30 | AJ12: 287 | AK12: 145 | AL12: 142 | AM12: 98 | AN12: 53 | AO12: 45 | AP12: 5440 | AQ12: 2840 | AR12: 2600 | AS12: 1462 | AT12: 787 | AU12: 675 | AV12: 2777 | AW12: 1419 | AX12: 1358 | AY12: 1201 | AZ12: 634 | BA12: 567 | BB12: 70 | BC12: 41 | BD12: 29 | BE12: 19 | BF12: 9 | BG12: 10 | BH12: 31 | BI12: 17 | BJ12: 14 | BK12: 20 | BL12: 15 | BM12: 5 | BN12: 96 | BO12: 45 | BP12: 51 | BQ12: 21 | BR12: 10 | BS12: 11 | BT12: 53 | BU12: 26 | BV12: 27 | BW12: 22 | BX12: 9 | BY12: 13 | BZ12: 1506 | CA12: 25 | CB12: 1481 | CC12: 179 | CD12: 4 | CE12: 175 | CF12: 1327 | CG12: 21 | CH12: 1306 | CI12: 0 | CJ12: 0 | CK12: 0 | CL12: 0 | CM12: 0 | CN12: 0
A13: 臺南市 | B13: 105 | C13: 0 | D13: 94 | E13: 11 | F13: 2497 | G13: 1358 | H13: 1139 | I13: 672 | J13: 350 | K13: 322 | L13: 1265 | M13: 695 | N13: 570 | O13: 560 | P13: 313 | Q13: 247 | R13: 2401 | S13: 1312 | T13: 1089 | U13: 643 | V13: 344 | W13: 299 | X13: 1214 | Y13: 664 | Z13: 550 | AA13: 544 | AB13: 304 | AC13: 240 | AD13: 96 | AE13: 46 | AF13: 50 | AG13: 29 | AH13: 6 | AI13: 23 | AJ13: 51 | AK13: 31 | AL13: 20 | AM13: 16 | AN13: 9 | AO13: 7 | AP13: 2456 | AQ13: 1338 | AR13: 1118 | AS13: 661 | AT13: 348 | AU13: 313 | AV13: 1244 | AW13: 682 | AX13: 562 | AY13: 551 | AZ13: 308 | BA13: 243 | BB13: 14 | BC13: 6 | BD13: 8 | BE13: 5 | BF13: 1 | BG13: 4 | BH13: 6 | BI13: 2 | BJ13: 4 | BK13: 3 | BL13: 3 | BM13: 0 | BN13: 27 | BO13: 14 | BP13: 13 | BQ13: 6 | BR13: 1 | BS13: 5 | BT13: 15 | BU13: 11 | BV13: 4 | BW13: 6 | BX13: 2 | BY13: 4 | BZ13: 750 | CA13: 18 | CB13: 732 | CC13: 105 | CD13: 8 | CE13: 97 | CF13: 645 | CG13: 10 | CH13: 635 | CI13: 0 | CJ13: 0 | CK13: 0 | CL13: 0 | CM13: 0 | CN13: 0
A14: 高雄市 | B14: 86 | C14: 0 | D14: 58 | E14: 28 | F14: 2648 | G14: 1417 | H14: 1231 | I14: 618 | J14: 334 | K14: 284 | L14: 1503 | M14: 799 | N14: 704 | O14: 527 | P14: 284 | Q14: 243 | R14: 1676 | S14: 910 | T14: 766 | U14: 416 | V14: 231 | W14: 185 | X14: 910 | Y14: 488 | Z14: 422 | AA14: 350 | AB14: 191 | AC14: 159 | AD14: 972 | AE14: 507 | AF14: 465 | AG14: 202 | AH14: 103 | AI14: 99 | AJ14: 593 | AK14: 311 | AL14: 282 | AM14: 177 | AN14: 93 | AO14: 84 | AP14: 2542 | AQ14: 1366 | AR14: 1176 | AS14: 602 | AT14: 321 | AU14: 281 | AV14: 1433 | AW14: 766 | AX14: 667 | AY14: 507 | AZ14: 279 | BA14: 228 | BB14: 49 | BC14: 26 | BD14: 23 | BE14: 7 | BF14: 7 | BG14: 0 | BH14: 34 | BI14: 19 | BJ14: 15 | BK14: 8 | BL14: 0 | BM14: 8 | BN14: 57 | BO14: 25 | BP14: 32 | BQ14: 9 | BR14: 6 | BS14: 3 | BT14: 36 | BU14: 14 | BV14: 22 | BW14: 12 | BX14: 5 | BY14: 7 | BZ14: 779 | CA14: 10 | CB14: 769 | CC14: 86 | CD14: 3 | CE14: 83 | CF14: 689 | CG14: 7 | CH14: 682 | CI14: 1 | CJ14: 0 | CK14: 1 | CL14: 3 | CM14: 0 | CN14: 3
A15: 宜蘭縣 | B15: 20 | C15: 0 | D15: 7 | E15: 13 | F15: 464 | G15: 257 | H15: 207 | I15: 101 | J15: 56 | K15: 45 | L15: 236 | M15: 121 | N15: 115 | O15: 127 | P15: 80 | Q15: 47 | R15: 187 | S15: 107 | T15: 80 | U15: 55 | V15: 31 | W15: 24 | X15: 90 | Y15: 47 | Z15: 43 | AA15: 42 | AB15: 29 | AC15: 13 | AD15: 277 | AE15: 150 | AF15: 127 | AG15: 46 | AH15: 25 | AI15: 21 | AJ15: 146 | AK15: 74 | AL15: 72 | AM15: 85 | AN15: 51 | AO15: 34 | AP15: 427 | AQ15: 235 | AR15: 192 | AS15: 95 | AT15: 51 | AU15: 44 | AV15: 207 | AW15: 106 | AX15: 101 | AY15: 125 | AZ15: 78 | BA15: 47 | BB15: 20 | BC15: 12 | BD15: 8 | BE15: 2 | BF15: 2 | BG15: 0 | BH15: 17 | BI15: 9 | BJ15: 8 | BK15: 1 | BL15: 1 | BM15: 0 | BN15: 17 | BO15: 10 | BP15: 7 | BQ15: 4 | BR15: 3 | BS15: 1 | BT15: 12 | BU15: 6 | BV15: 6 | BW15: 1 | BX15: 1 | BY15: 0 | BZ15: 127 | CA15: 0 | CB15: 127 | CC15: 20 | CD15: 0 | CE15: 20 | CF15: 107 | CG15: 0 | CH15: 107 | CI15: 0 | CJ15: 0 | CK15: 0 | CL15: 0 | CM15: 0 | CN15: 0
A16: 新竹縣 | B16: 64 | C16: 0 | D16: 61 | E16: 3 | F16: 1786 | G16: 914 | H16: 872 | I16: 491 | J16: 240 | K16: 251 | L16: 839 | M16: 426 | N16: 413 | O16: 456 | P16: 248 | Q16: 208 | R16: 1722 | S16: 876 | T16: 846 | U16: 484 | V16: 238 | W16: 246 | X16: 809 | Y16: 407 | Z16: 402 | AA16: 429 | AB16: 231 | AC16: 198 | AD16: 64 | AE16: 38 | AF16: 26 | AG16: 7 | AH16: 2 | AI16: 5 | AJ16: 30 | AK16: 19 | AL16: 11 | AM16: 27 | AN16: 17 | AO16: 10 | AP16: 1765 | AQ16: 901 | AR16: 864 | AS16: 486 | AT16: 237 | AU16: 249 | AV16: 829 | AW16: 420 | AX16: 409 | AY16: 450 | AZ16: 244 | BA16: 206 | BB16: 11 | BC16: 5 | BD16: 6 | BE16: 3 | BF16: 1 | BG16: 2 | BH16: 4 | BI16: 2 | BJ16: 2 | BK16: 4 | BL16: 2 | BM16: 2 | BN16: 10 | BO16: 8 | BP16: 2 | BQ16: 2 | BR16: 2 | BS16: 0 | BT16: 6 | BU16: 4 | BV16: 2 | BW16: 2 | BX16: 2 | BY16: 0 | BZ16: 521 | CA16: 6 | CB16: 515 | CC16: 63 | CD16: 3 | CE16: 60 | CF16: 458 | CG16: 3 | CH16: 455 | CI16: 0 | CJ16: 0 | CK16: 0 | CL16: 0 | CM16: 0 | CN16: 0
A17: 苗栗縣 | B17: 16 | C17: 0 | D17: 14 | E17: 2 | F17: 400 | G17: 199 | H17: 201 | I17: 103 | J17: 44 | K17: 59 | L17: 194 | M17: 101 | N17: 93 | O17: 103 | P17: 54 | Q17: 49 | R17: 379 | S17: 186 | T17: 193 | U17: 96 | V17: 39 | W17: 57 | X17: 183 | Y17: 95 | Z17: 88 | AA17: 100 | AB17: 52 | AC17: 48 | AD17: 21 | AE17: 13 | AF17: 8 | AG17: 7 | AH17: 5 | AI17: 2 | AJ17: 11 | AK17: 6 | AL17: 5 | AM17: 3 | AN17: 2 | AO17: 1 | AP17: 396 | AQ17: 197 | AR17: 199 | AS17: 102 | AT17: 43 | AU17: 59 | AV17: 191 | AW17: 100 | AX17: 91 | AY17: 103 | AZ17: 54 | BA17: 49 | BB17: 1 | BC17: 1 | BD17: 0 | BE17: 1 | BF17: 1 | BG17: 0 | BH17: 0 | BI17: 0 | BJ17: 0 | BK17: 0 | BL17: 0 | BM17: 0 | BN17: 3 | BO17: 1 | BP17: 2 | BQ17: 0 | BR17: 0 | BS17: 0 | BT17: 3 | BU17: 1 | BV17: 2 | BW17: 0 | BX17: 0 | BY17: 0 | BZ17: 132 | CA17: 2 | CB17: 130 | CC17: 16 | CD17: 1 | CE17: 15 | CF17: 116 | CG17: 1 | CH17: 115 | CI17: 0 | CJ17: 0 | CK17: 0 | CL17: 0 | CM17: 0 | CN17: 0
A18: 彰化縣 | B18: 43 | C18: 0 | D18: 43 | E18: 0 | F18: 1142 | G18: 601 | H18: 541 | I18: 331 | J18: 165 | K18: 166 | L18: 611 | M18: 334 | N18: 277 | O18: 200 | P18: 102 | Q18: 98 | R18: 1142 | S18: 601 | T18: 541 | U18: 331 | V18: 165 | W18: 166 | X18: 611 | Y18: 334 | Z18: 277 | AA18: 200 | AB18: 102 | AC18: 98 | AD18: 0 | AE18: 0 | AF18: 0 | AG18: 0 | AH18: 0 | AI18: 0 | AJ18: 0 | AK18: 0 | AL18: 0 | AM18: 0 | AN18: 0 | AO18: 0 | AP18: 1112 | AQ18: 586 | AR18: 526 | AS18: 326 | AT18: 161 | AU18: 165 | AV18: 593 | AW18: 328 | AX18: 265 | AY18: 193 | AZ18: 97 | BA18: 96 | BB18: 5 | BC18: 5 | BD18: 0 | BE18: 2 | BF18: 2 | BG18: 0 | BH18: 1 | BI18: 1 | BJ18: 0 | BK18: 2 | BL18: 2 | BM18: 0 | BN18: 25 | BO18: 10 | BP18: 15 | BQ18: 3 | BR18: 2 | BS18: 1 | BT18: 17 | BU18: 5 | BV18: 12 | BW18: 5 | BX18: 3 | BY18: 2 | BZ18: 321 | CA18: 8 | CB18: 313 | CC18: 43 | CD18: 3 | CE18: 40 | CF18: 278 | CG18: 5 | CH18: 273 | CI18: 0 | CJ18: 0 | CK18: 0 | CL18: 0 | CM18: 0 | CN18: 0
A19: 南投縣 | B19: 5 | C19: 0 | D19: 4 | E19: 1 | F19: 116 | G19: 66 | H19: 50 | I19: 23 | J19: 13 | K19: 10 | L19: 62 | M19: 35 | N19: 27 | O19: 31 | P19: 18 | Q19: 13 | R19: 106 | S19: 61 | T19: 45 | U19: 23 | V19: 13 | W19: 10 | X19: 55 | Y19: 32 | Z19: 23 | AA19: 28 | AB19: 16 | AC19: 12 | AD19: 10 | AE19: 5 | AF19: 5 | AG19: 0 | AH19: 0 | AI19: 0 | AJ19: 7 | AK19: 3 | AL19: 4 | AM19: 3 | AN19: 2 | AO19: 1 | AP19: 102 | AQ19: 59 | AR19: 43 | AS19: 20 | AT19: 12 | AU19: 8 | AV19: 58 | AW19: 32 | AX19: 26 | AY19: 24 | AZ19: 15 | BA19: 9 | BB19: 14 | BC19: 7 | BD19: 7 | BE19: 3 | BF19: 1 | BG19: 2 | BH19: 4 | BI19: 3 | BJ19: 1 | BK19: 7 | BL19: 3 | BM19: 4 | BN19: 0 | BO19: 0 | BP19: 0 | BQ19: 0 | BR19: 0 | BS19: 0 | BT19: 0 | BU19: 0 | BV19: 0 | BW19: 0 | BX19: 0 | BY19: 0 | BZ19: 34 | CA19: 3 | CB19: 31 | CC19: 5 | CD19: 0 | CE19: 5 | CF19: 29 | CG19: 3 | CH19: 26 | CI19: 0 | CJ19: 0 | CK19: 0 | CL19: 0 | CM19: 0 | CN19: 0
... A30: 連江縣 | B30: 4 | C30: 0 | D30: 0 | E30: 4 | F30: 52 | G30: 31 | H30: 21 | I30: 11 | J30: 7 | K30: 4 | L30: 32 | M30: 18 | N30: 14 | O30: 9 | P30: 6 | Q30: 3 | R30: 0 | S30: 0 | T30: 0 | U30: 0 | V30: 0 | W30: 0 | X30: 0 | Y30: 0 | Z30: 0 | AA30: 0 | AB30: 0 | AC30: 0 | AD30: 52 | AE30: 31 | AF30: 21 | AG30: 11 | AH30: 7 | AI30: 4 | AJ30: 32 | AK30: 18 | AL30: 14 | AM30: 9 | AN30: 6 | AO30: 3 | AP30: 44 | AQ30: 26 | AR30: 18 | AS30: 10 | AT30: 6 | AU30: 4 | AV30: 27 | AW30: 15 | AX30: 12 | AY30: 7 | AZ30: 5 | BA30: 2 | BB30: 0 | BC30: 0 | BD30: 0 | BE30: 0 | BF30: 0 | BG30: 0 | BH30: 0 | BI30: 0 | BJ30: 0 | BK30: 0 | BL30: 0 | BM30: 0 | BN30: 8 | BO30: 5 | BP30: 3 | BQ30: 1 | BR30: 1 | BS30: 0 | BT30: 5 | BU30: 3 | BV30: 2 | BW30: 2 | BX30: 1 | BY30: 1 | BZ30: 16 | CA30: 0 | CB30: 16 | CC30: 4 | CD30: 0 | CE30: 4 | CF30: 12 | CG30: 0 | CH30: 12 | CI30: 0 | CJ30: 0 | CK30: 0 | CL30: 0 | CM30: 0 | CN30: 0

Sheet 109
A1: 1.5 托嬰中心概況
A2: 109年底, End of 2020
A3: 一、所數與收托人數 | AP3: 1.一般身分 | BB3: 2.原住民身分 | BN3: 二、外籍配偶子女人數 | BZ3: 三、專業人員人數
A4: 區域別 | B4: 所數 | F4: 收托人數 ─按性別與年齡分 | AP4: 收托人數─按性別與年齡分 | BB4: 收托人數─按性別與年齡分 | BN4: 收托人數─按性別與年齡分 | BZ4: 總計 | CC4: 主管人員(主任) | CF4: 托育人員 | CI4: 教保人員 | CL4: 助理教保人員
F5: 總計 | R5: 私立 | AD5: 公辦民營
B6: 總計 | C6: 公立 | D6: 私立 | E6: 公辦民營 | F6: 合計 | I6: 未滿1歲 | L6: 1-未滿2歲 | O6: 2-未滿3歲 | R6: 合計 | U6: 未滿1歲 | X6: 1-未滿2歲 | AA6: 2-未滿3歲 | AD6: 合計 | AG6: 未滿1歲 | AJ6: 1-未滿2歲 | AM6: 2-未滿3歲 | AP6: 總計 | AS6: 未滿1歲 | AV6: 1-未滿2歲 | AY6: 2-未滿3歲 | BB6: 總計 | BE6: 未滿1歲 | BH6: 1-未滿2歲 | BK6: 2-未滿3歲 | BN6: 總計 | BQ6: 未滿1歲 | BT6: 1-未滿2歲 | BW6: 2-未滿3歲
F7: 計 | G7: 男 | H7: 女 | I7: 計 | J7: 男 | K7: 女 | L7: 計 | M7: 男 | N7: 女 | O7: 計 | P7: 男 | Q7: 女 | R7: 計 | S7: 男 | T7: 女 | U7: 計 | V7: 男 | W7: 女 | X7: 計 | Y7: 男 | Z7: 女 | AA7: 計 | AB7: 男 | AC7: 女 | AD7: 計 | AE7: 男 | AF7: 女 | AG7: 計 | AH7: 男 | AI7: 女 | AJ7: 計 | AK7: 男 | AL7: 女 | AM7: 計 | AN7: 男 | AO7: 女 | AP7: 計 | AQ7: 男 | AR7: 女 | AS7: 計 | AT7: 男 | AU7: 女 | AV7: 計 | AW7: 男 | AX7: 女 | AY7: 計 | AZ7: 男 | BA7: 女 | BB7: 計 | BC7: 男 | BD7: 女 | BE7: 計 | BF7: 男 | BG7: 女 | BH7: 計 | BI7: 男 | BJ7: 女 | BK7: 計 | BL7: 男 | BM7: 女 | BN7: 計 | BO7: 男 | BP7: 女 | BQ7: 計 | BR7: 男 | BS7: 女 | BT7: 計 | BU7: 男 | BV7: 女 | BW7: 計 | BX7: 男 | BY7: 女 | BZ7: 計 | CA7: 男 | CB7: 女 | CC7: 計 | CD7: 男 | CE7: 女 | CF7: 計 | CG7: 男 | CH7: 女 | CI7: 計 | CJ7: 男 | CK7: 女 | CL7: 計 | CM7: 男 | CN7: 女
A8: 總 計 | B8: 1269 | C8: 0 | D8: 997 | E8: 272 | F8: 35090 | G8: 18390 | H8: 16700 | I8: 8248 | J8: 4209 | K8: 4039 | L8: 16965 | M8: 8940 | N8: 8025 | O8: 9877 | P8: 5241 | Q8: 4636 | R8: 26515 | S8: 13933 | T8: 12582 | U8: 6585 | V8: 3352 | W8: 3233 | X8: 12586 | Y8: 6677 | Z8: 5909 | AA8: 7344 | AB8: 3904 | AC8: 3440 | AD8: 8575 | AE8: 4457 | AF8: 4118 | AG8: 1663 | AH8: 857 | AI8: 806 | AJ8: 4379 | AK8: 2263 | AL8: 2116 | AM8: 2533 | AN8: 1337 | AO8: 1196 | AP8: 33652 | AQ8: 17650 | AR8: 16002 | AS8: 7952 | AT8: 4050 | AU8: 3902 | AV8: 16231 | AW8: 8565 | AX8: 7666 | AY8: 9469 | AZ8: 5035 | BA8: 4434 | BB8: 673 | BC8: 332 | BD8: 341 | BE8: 141 | BF8: 72 | BG8: 69 | BH8: 362 | BI8: 180 | BJ8: 182 | BK8: 170 | BL8: 80 | BM8: 90 | BN8: 765 | BO8: 408 | BP8: 357 | BQ8: 155 | BR8: 87 | BS8: 68 | BT8: 372 | BU8: 195 | BV8: 177 | BW8: 238 | BX8: 126 | BY8: 112 | BZ8: 9883 | CA8: 159 | CB8: 9724 | CC8: 1258 | CD8: 47 | CE8: 1211 | CF8: 8512 | CG8: 109 | CH8: 8403 | CI8: 102 | CJ8: 3 | CK8: 99 | CL8: 11 | CM8: 0 | CN8: 11
A9: 新北市 | B9: 280 | C9: 0 | D9: 195 | E9: 85 | F9: 9640 | G9: 5086 | H9: 4554 | I9: 2029 | J9: 1050 | K9: 979 | L9: 4327 | M9: 2276 | N9: 2051 | O9: 3284 | P9: 1760 | Q9: 1524 | R9: 5438 | S9: 2900 | T9: 2538 | U9: 1268 | V9: 664 | W9: 604 | X9: 2421 | Y9: 1301 | Z9: 1120 | AA9: 1749 | AB9: 935 | AC9: 814 | AD9: 4202 | AE9: 2186 | AF9: 2016 | AG9: 761 | AH9: 386 | AI9: 375 | AJ9: 1906 | AK9: 975 | AL9: 931 | AM9: 1535 | AN9: 825 | AO9: 710 | AP9: 9192 | AQ9: 4853 | AR9: 4339 | AS9: 1935 | AT9: 1003 | AU9: 932 | AV9: 4120 | AW9: 2164 | AX9: 1956 | AY9: 3137 | AZ9: 1686 | BA9: 1451 | BB9: 178 | BC9: 91 | BD9: 87 | BE9: 36 | BF9: 17 | BG9: 19 | BH9: 91 | BI9: 51 | BJ9: 40 | BK9: 51 | BL9: 23 | BM9: 28 | BN9: 270 | BO9: 142 | BP9: 128 | BQ9: 58 | BR9: 30 | BS9: 28 | BT9: 116 | BU9: 61 | BV9: 55 | BW9: 96 | BX9: 51 | BY9: 45 | BZ9: 2601 | CA9: 61 | CB9: 2540 | CC9: 276 | CD9: 10 | CE9: 266 | CF9: 2232 | CG9: 48 | CH9: 2184 | CI9: 85 | CJ9: 3 | CK9: 82 | CL9: 8 | CM9: 0 | CN9: 8
A10: 臺北市 | B10: 252 | C10: 0 | D10: 177 | E10: 75 | F10: 5570 | G10: 2868 | H10: 2702 | I10: 1219 | J10: 616 | K10: 603 | L10: 2741 | M10: 1401 | N10: 1340 | O10: 1610 | P10: 851 | Q10: 759 | R10: 4024 | S10: 2071 | T10: 1953 | U10: 909 | V10: 454 | W10: 455 | X10: 1868 | Y10: 952 | Z10: 916 | AA10: 1247 | AB10: 665 | AC10: 582 | AD10: 1546 | AE10: 797 | AF10: 749 | AG10: 310 | AH10: 162 | AI10: 148 | AJ10: 873 | AK10: 449 | AL10: 424 | AM10: 363 | AN10: 186 | AO10: 177 | AP10: 5341 | AQ10: 2751 | AR10: 2590 | AS10: 1184 | AT10: 594 | AU10: 590 | AV10: 2614 | AW10: 1342 | AX10: 1272 | AY10: 1543 | AZ10: 815 | BA10: 728 | BB10: 63 | BC10: 31 | BD10: 32 | BE10: 10 | BF10: 7 | BG10: 3 | BH10: 35 | BI10: 16 | BJ10: 19 | BK10: 18 | BL10: 8 | BM10: 10 | BN10: 166 | BO10: 86 | BP10: 80 | BQ10: 25 | BR10: 15 | BS10: 10 | BT10: 92 | BU10: 43 | BV10: 49 | BW10: 49 | BX10: 28 | BY10: 21 | BZ10: 1677 | CA10: 11 | CB10: 1666 | CC10: 252 | CD10: 3 | CE10: 249 | CF10: 1425 | CG10: 8 | CH10: 1417 | CI10: 0 | CJ10: 0 | CK10: 0 | CL10: 0 | CM10: 0 | CN10: 0
A11: 桃園市 | B11: 122 | C11: 0 | D11: 98 | E11: 24 | F11: 3426 | G11: 1794 | H11: 1632 | I11: 737 | J11: 373 | K11: 364 | L11: 1678 | M11: 899 | N11: 779 | O11: 1011 | P11: 522 | Q11: 489 | R11: 2734 | S11: 1443 | T11: 1291 | U11: 623 | V11: 317 | W11: 306 | X11: 1317 | Y11: 713 | Z11: 604 | AA11: 794 | AB11: 413 | AC11: 381 | AD11: 692 | AE11: 351 | AF11: 341 | AG11: 114 | AH11: 56 | AI11: 58 | AJ11: 361 | AK11: 186 | AL11: 175 | AM11: 217 | AN11: 109 | AO11: 108 | AP11: 3235 | AQ11: 1694 | AR11: 1541 | AS11: 699 | AT11: 351 | AU11: 348 | AV11: 1585 | AW11: 844 | AX11: 741 | AY11: 951 | AZ11: 499 | BA11: 452 | BB11: 119 | BC11: 58 | BD11: 61 | BE11: 27 | BF11: 13 | BG11: 14 | BH11: 56 | BI11: 31 | BJ11: 25 | BK11: 36 | BL11: 14 | BM11: 22 | BN11: 72 | BO11: 42 | BP11: 30 | BQ11: 11 | BR11: 9 | BS11: 2 | BT11: 37 | BU11: 24 | BV11: 13 | BW11: 24 | BX11: 9 | BY11: 15 | BZ11: 968 | CA11: 12 | CB11: 956 | CC11: 122 | CD11: 6 | CE11: 116 | CF11: 846 | CG11: 6 | CH11: 840 | CI11: 0 | CJ11: 0 | CK11: 0 | CL11: 0 | CM11: 0 | CN11: 0
A12: 臺中市 | B12: 169 | C12: 0 | D12: 155 | E12: 14 | F12: 5119 | G12: 2666 | H12: 2453 | I12: 1456 | J12: 723 | K12: 733 | L12: 2491 | M12: 1316 | N12: 1175 | O12: 1172 | P12: 627 | Q12: 545 | R12: 4754 | S12: 2474 | T12: 2280 | U12: 1342 | V12: 658 | W12: 684 | X12: 2249 | Y12: 1196 | Z12: 1053 | AA12: 1163 | AB12: 620 | AC12: 543 | AD12: 365 | AE12: 192 | AF12: 173 | AG12: 114 | AH12: 65 | AI12: 49 | AJ12: 242 | AK12: 120 | AL12: 122 | AM12: 9 | AN12: 7 | AO12: 2 | AP12: 4975 | AQ12: 2589 | AR12: 2386 | AS12: 1416 | AT12: 700 | AU12: 716 | AV12: 2419 | AW12: 1279 | AX12: 1140 | AY12: 1140 | AZ12: 610 | BA12: 530 | BB12: 48 | BC12: 27 | BD12: 21 | BE12: 13 | BF12: 8 | BG12: 5 | BH12: 29 | BI12: 16 | BJ12: 13 | BK12: 6 | BL12: 3 | BM12: 3 | BN12: 96 | BO12: 50 | BP12: 46 | BQ12: 27 | BR12: 15 | BS12: 12 | BT12: 43 | BU12: 21 | BV12: 22 | BW12: 26 | BX12: 14 | BY12: 12 | BZ12: 1392 | CA12: 20 | CB12: 1372 | CC12: 168 | CD12: 6 | CE12: 162 | CF12: 1224 | CG12: 14 | CH12: 1210 | CI12: 0 | CJ12: 0 | CK12: 0 | CL12: 0 | CM12: 0 | CN12: 0
A13: 臺南市 | B13: 96 | C13: 0 | D13: 90 | E13: 6 | F13: 2086 | G13: 1185 | H13: 901 | I13: 498 | J13: 284 | K13: 214 | L13: 1067 | M13: 591 | N13: 476 | O13: 521 | P13: 310 | Q13: 211 | R13: 2014 | S13: 1144 | T13: 870 | U13: 490 | V13: 278 | W13: 212 | X13: 1036 | Y13: 574 | Z13: 462 | AA13: 488 | AB13: 292 | AC13: 196 | AD13: 72 | AE13: 41 | AF13: 31 | AG13: 8 | AH13: 6 | AI13: 2 | AJ13: 31 | AK13: 17 | AL13: 14 | AM13: 33 | AN13: 18 | AO13: 15 | AP13: 2052 | AQ13: 1163 | AR13: 889 | AS13: 494 | AT13: 282 | AU13: 212 | AV13: 1053 | AW13: 582 | AX13: 471 | AY13: 505 | AZ13: 299 | BA13: 206 | BB13: 12 | BC13: 8 | BD13: 4 | BE13: 1 | BF13: 0 | BG13: 1 | BH13: 6 | BI13: 5 | BJ13: 1 | BK13: 5 | BL13: 3 | BM13: 2 | BN13: 22 | BO13: 14 | BP13: 8 | BQ13: 3 | BR13: 2 | BS13: 1 | BT13: 8 | BU13: 4 | BV13: 4 | BW13: 11 | BX13: 8 | BY13: 3 | BZ13: 601 | CA13: 12 | CB13: 589 | CC13: 91 | CD13: 5 | CE13: 86 | CF13: 501 | CG13: 7 | CH13: 494 | CI13: 9 | CJ13: 0 | CK13: 9 | CL13: 0 | CM13: 0 | CN13: 0
A14: 高雄市 | B14: 80 | C14: 0 | D14: 55 | E14: 25 | F14: 2439 | G14: 1290 | H14: 1149 | I14: 555 | J14: 291 | K14: 264 | L14: 1318 | M14: 706 | N14: 612 | O14: 566 | P14: 293 | Q14: 273 | R14: 1591 | S14: 831 | T14: 760 | U14: 375 | V14: 196 | W14: 179 | X14: 811 | Y14: 422 | Z14: 389 | AA14: 405 | AB14: 213 | AC14: 192 | AD14: 848 | AE14: 459 | AF14: 389 | AG14: 180 | AH14: 95 | AI14: 85 | AJ14: 507 | AK14: 284 | AL14: 223 | AM14: 161 | AN14: 80 | AO14: 81 | AP14: 2342 | AQ14: 1250 | AR14: 1092 | AS14: 534 | AT14: 281 | AU14: 253 | AV14: 1259 | AW14: 681 | AX14: 578 | AY14: 549 | AZ14: 288 | BA14: 261 | BB14: 43 | BC14: 17 | BD14: 26 | BE14: 10 | BF14: 6 | BG14: 4 | BH14: 27 | BI14: 7 | BJ14: 20 | BK14: 6 | BL14: 4 | BM14: 2 | BN14: 54 | BO14: 23 | BP14: 31 | BQ14: 11 | BR14: 4 | BS14: 7 | BT14: 32 | BU14: 18 | BV14: 14 | BW14: 11 | BX14: 1 | BY14: 10 | BZ14: 675 | CA14: 8 | CB14: 667 | CC14: 80 | CD14: 2 | CE14: 78 | CF14: 589 | CG14: 6 | CH14: 583 | CI14: 3 | CJ14: 0 | CK14: 3 | CL14: 3 | CM14: 0 | CN14: 3
A15: 宜蘭縣 | B15: 19 | C15: 0 | D15: 6 | E15: 13 | F15: 415 | G15: 215 | H15: 200 | I15: 88 | J15: 44 | K15: 44 | L15: 211 | M15: 114 | N15: 97 | O15: 116 | P15: 57 | Q15: 59 | R15: 153 | S15: 74 | T15: 79 | U15: 40 | V15: 18 | W15: 22 | X15: 66 | Y15: 36 | Z15: 30 | AA15: 47 | AB15: 20 | AC15: 27 | AD15: 262 | AE15: 141 | AF15: 121 | AG15: 48 | AH15: 26 | AI15: 22 | AJ15: 145 | AK15: 78 | AL15: 67 | AM15: 69 | AN15: 37 | AO15: 32 | AP15: 389 | AQ15: 195 | AR15: 194 | AS15: 82 | AT15: 40 | AU15: 42 | AV15: 200 | AW15: 106 | AX15: 94 | AY15: 107 | AZ15: 49 | BA15: 58 | BB15: 16 | BC15: 13 | BD15: 3 | BE15: 4 | BF15: 3 | BG15: 1 | BH15: 6 | BI15: 4 | BJ15: 2 | BK15: 6 | BL15: 6 | BM15: 0 | BN15: 10 | BO15: 7 | BP15: 3 | BQ15: 2 | BR15: 1 | BS15: 1 | BT15: 5 | BU15: 4 | BV15: 1 | BW15: 3 | BX15: 2 | BY15: 1 | BZ15: 114 | CA15: 2 | CB15: 112 | CC15: 19 | CD15: 1 | CE15: 18 | CF15: 95 | CG15: 1 | CH15: 94 | CI15: 0 | CJ15: 0 | CK15: 0 | CL15: 0 | CM15: 0 | CN15: 0
A16: 新竹縣 | B16: 58 | C16: 0 | D16: 55 | E16: 3 | F16: 1651 | G16: 853 | H16: 798 | I16: 421 | J16: 196 | K16: 225 | L16: 758 | M16: 411 | N16: 347 | O16: 472 | P16: 246 | Q16: 226 | R16: 1597 | S16: 826 | T16: 771 | U16: 407 | V16: 187 | W16: 220 | X16: 729 | Y16: 397 | Z16: 332 | AA16: 461 | AB16: 242 | AC16: 219 | AD16: 54 | AE16: 27 | AF16: 27 | AG16: 14 | AH16: 9 | AI16: 5 | AJ16: 29 | AK16: 14 | AL16: 15 | AM16: 11 | AN16: 4 | AO16: 7 | AP16: 1602 | AQ16: 830 | AR16: 772 | AS16: 407 | AT16: 191 | AU16: 216 | AV16: 737 | AW16: 403 | AX16: 334 | AY16: 458 | AZ16: 236 | BA16: 222 | BB16: 27 | BC16: 8 | BD16: 19 | BE16: 8 | BF16: 2 | BG16: 6 | BH16: 12 | BI16: 3 | BJ16: 9 | BK16: 7 | BL16: 3 | BM16: 4 | BN16: 22 | BO16: 15 | BP16: 7 | BQ16: 6 | BR16: 3 | BS16: 3 | BT16: 9 | BU16: 5 | BV16: 4 | BW16: 7 | BX16: 7 | BY16: 0 | BZ16: 483 | CA16: 6 | CB16: 477 | CC16: 58 | CD16: 3 | CE16: 55 | CF16: 425 | CG16: 3 | CH16: 422 | CI16: 0 | CJ16: 0 | CK16: 0 | CL16: 0 | CM16: 0 | CN16: 0
A17: 苗栗縣 | B17: 13 | C17: 0 | D17: 12 | E17: 1 | F17: 330 | G17: 170 | H17: 160 | I17: 108 | J17: 56 | K17: 52 | L17: 163 | M17: 87 | N17: 76 | O17: 59 | P17: 27 | Q17: 32 | R17: 318 | S17: 164 | T17: 154 | U17: 104 | V17: 54 | W17: 50 | X17: 157 | Y17: 84 | Z17: 73 | AA17: 57 | AB17: 26 | AC17: 31 | AD17: 12 | AE17: 6 | AF17: 6 | AG17: 4 | AH17: 2 | AI17: 2 | AJ17: 6 | AK17: 3 | AL17: 3 | AM17: 2 | AN17: 1 | AO17: 1 | AP17: 324 | AQ17: 168 | AR17: 156 | AS17: 107 | AT17: 56 | AU17: 51 | AV17: 159 | AW17: 85 | AX17: 74 | AY17: 58 | AZ17: 27 | BA17: 31 | BB17: 5 | BC17: 2 | BD17: 3 | BE17: 1 | BF17: 0 | BG17: 1 | BH17: 4 | BI17: 2 | BJ17: 2 | BK17: 0 | BL17: 0 | BM17: 0 | BN17: 1 | BO17: 0 | BP17: 1 | BQ17: 0 | BR17: 0 | BS17: 0 | BT17: 0 | BU17: 0 | BV17: 0 | BW17: 1 | BX17: 0 | BY17: 1 | BZ17: 105 | CA17: 2 | CB17: 103 | CC17: 13 | CD17: 1 | CE17: 12 | CF17: 92 | CG17: 1 | CH17: 91 | CI17: 0 | CJ17: 0 | CK17: 0 | CL17: 0 | CM17: 0 | CN17: 0
A18: 彰化縣 | B18: 43 | C18: 0 | D18: 43 | E18: 0 | F18: 1026 | G18: 523 | H18: 503 | I18: 281 | J18: 144 | K18: 137 | L18: 566 | M18: 286 | N18: 280 | O18: 179 | P18: 93 | Q18: 86 | R18: 1026 | S18: 523 | T18: 503 | U18: 281 | V18: 144 | W18: 137 | X18: 566 | Y18: 286 | Z18: 280 | AA18: 179 | AB18: 93 | AC18: 86 | AD18: 0 | AE18: 0 | AF18: 0 | AG18: 0 | AH18: 0 | AI18: 0 | AJ18: 0 | AK18: 0 | AL18: 0 | AM18: 0 | AN18: 0 | AO18: 0 | AP18: 1001 | AQ18: 510 | AR18: 491 | AS18: 275 | AT18: 141 | AU18: 134 | AV18: 551 | AW18: 277 | AX18: 274 | AY18: 175 | AZ18: 92 | BA18: 83 | BB18: 7 | BC18: 4 | BD18: 3 | BE18: 2 | BF18: 2 | BG18: 0 | BH18: 4 | BI18: 2 | BJ18: 2 | BK18: 1 | BL18: 0 | BM18: 1 | BN18: 18 | BO18: 9 | BP18: 9 | BQ18: 4 | BR18: 1 | BS18: 3 | BT18: 11 | BU18: 7 | BV18: 4 | BW18: 3 | BX18: 1 | BY18: 2 | BZ18: 290 | CA18: 4 | CB18: 286 | CC18: 43 | CD18: 0 | CE18: 43 | CF18: 247 | CG18: 4 | CH18: 243 | CI18: 0 | CJ18: 0 | CK18: 0 | CL18: 0 | CM18: 0 | CN18: 0
A19: 南投縣 | B19: 5 | C19: 0 | D19: 4 | E19: 1 | F19: 120 | G19: 78 | H19: 42 | I19: 16 | J19: 11 | K19: 5 | L19: 84 | M19: 56 | N19: 28 | O19: 20 | P19: 11 | Q19: 9 | R19: 108 | S19: 72 | T19: 36 | U19: 14 | V19: 10 | W19: 4 | X19: 75 | Y19: 52 | Z19: 23 | AA19: 19 | AB19: 10 | AC19: 9 | AD19: 12 | AE19: 6 | AF19: 6 | AG19: 2 | AH19: 1 | AI19: 1 | AJ19: 9 | AK19: 4 | AL19: 5 | AM19: 1 | AN19: 1 | AO19: 0 | AP19: 111 | AQ19: 75 | AR19: 36 | AS19: 14 | AT19: 10 | AU19: 4 | AV19: 80 | AW19: 55 | AX19: 25 | AY19: 17 | AZ19: 10 | BA19: 7 | BB19: 8 | BC19: 2 | BD19: 6 | BE19: 1 | BF19: 0 | BG19: 1 | BH19: 4 | BI19: 1 | BJ19: 3 | BK19: 3 | BL19: 1 | BM19: 2 | BN19: 1 | BO19: 1 | BP19: 0 | BQ19: 1 | BR19: 1 | BS19: 0 | BT19: 0 | BU19: 0 | BV19: 0 | BW19: 0 | BX19: 0 | BY19: 0 | BZ19: 35 | CA19: 3 | CB19: 32 | CC19: 5 | CD19: 0 | CE19: 5 | CF19: 30 | CG19: 3 | CH19: 27 | CI19: 0 | CJ19: 0 | CK19: 0 | CL19: 0 | CM19: 0 | CN19: 0
... A30: 連江縣 | B30: 4 | C30: 0 | D30: 0 | E30: 4 | F30: 52 | G30: 30 | H30: 22 | I30: 8 | J30: 3 | K30: 5 | L30: 26 | M30: 15 | N30: 11 | O30: 18 | P30: 12 | Q30: 6 | R30: 0 | S30: 0 | T30: 0 | U30: 0 | V30: 0 | W30: 0 | X30: 0 | Y30: 0 | Z30: 0 | AA30: 0 | AB30: 0 | AC30: 0 | AD30: 52 | AE30: 30 | AF30: 22 | AG30: 8 | AH30: 3 | AI30: 5 | AJ30: 26 | AK30: 15 | AL30: 11 | AM30: 18 | AN30: 12 | AO30: 6 | AP30: 45 | AQ30: 26 | AR30: 19 | AS30: 6 | AT30: 1 | AU30: 5 | AV30: 22 | AW30: 14 | AX30: 8 | AY30: 17 | AZ30: 11 | BA30: 6 | BB30: 0 | BC30: 0 | BD30: 0 | BE30: 0 | BF30: 0 | BG30: 0 | BH30: 0 | BI30: 0 | BJ30: 0 | BK30: 0 | BL30: 0 | BM30: 0 | BN30: 7 | BO30: 4 | BP30: 3 | BQ30: 2 | BR30: 2 | BS30: 0 | BT30: 4 | BU30: 1 | BV30: 3 | BW30: 1 | BX30: 1 | BY30: 0 | BZ30: 17 | CA30: 0 | CB30: 17 | CC30: 4 | CD30: 0 | CE30: 4 | CF30: 13 | CG30: 0 | CH30: 13 | CI30: 0 | CJ30: 0 | CK30: 0 | CL30: 0 | CM30: 0 | CN30: 0

Sheet 108
A1: 1.5 托嬰中心概況
A2: 108年底, End of 2019
A3: 一、所數與收托人數 | AP3: 1.一般身分 | BB3: 2.原住民身分 | BN3: 二、外籍配偶子女人數 | BZ3: 三、專業人員人數
A4: 區域別 | B4: 所數 | F4: 收托人數 ─按性別與年齡分 | AP4: 收托人數─按性別與年齡分 | BB4: 收托人數─按性別與年齡分 | BN4: 收托人數─按性別與年齡分 | BZ4: 總計 | CC4: 主管人員(主任) | CF4: 托育人員 | CI4: 教保人員 | CL4: 助理教保人員
F5: 總計 | R5: 私立 | AD5: 公辦民營
B6: 總計 | C6: 公立 | D6: 私立 | E6: 公辦民營 | F6: 合計 | I6: 未滿1歲 | L6: 1-未滿2歲 | O6: 2-未滿3歲 | R6: 合計 | U6: 未滿1歲 | X6: 1-未滿2歲 | AA6: 2-未滿3歲 | AD6: 合計 | AG6: 未滿1歲 | AJ6: 1-未滿2歲 | AM6: 2-未滿3歲 | AP6: 總計 | AS6: 未滿1歲 | AV6: 1-未滿2歲 | AY6: 2-未滿3歲 | BB6: 總計 | BE6: 未滿1歲 | BH6: 1-未滿2歲 | BK6: 2-未滿3歲 | BN6: 總計 | BQ6: 未滿1歲 | BT6: 1-未滿2歲 | BW6: 2-未滿3歲
F7: 計 | G7: 男 | H7: 女 | I7: 計 | J7: 男 | K7: 女 | L7: 計 | M7: 男 | N7: 女 | O7: 計 | P7: 男 | Q7: 女 | R7: 計 | S7: 男 | T7: 女 | U7: 計 | V7: 男 | W7: 女 | X7: 計 | Y7: 男 | Z7: 女 | AA7: 計 | AB7: 男 | AC7: 女 | AD7: 計 | AE7: 男 | AF7: 女 | AG7: 計 | AH7: 男 | AI7: 女 | AJ7: 計 | AK7: 男 | AL7: 女 | AM7: 計 | AN7: 男 | AO7: 女 | AP7: 計 | AQ7: 男 | AR7: 女 | AS7: 計 | AT7: 男 | AU7: 女 | AV7: 計 | AW7: 男 | AX7: 女 | AY7: 計 | AZ7: 男 | BA7: 女 | BB7: 計 | BC7: 男 | BD7: 女 | BE7: 計 | BF7: 男 | BG7: 女 | BH7: 計 | BI7: 男 | BJ7: 女 | BK7: 計 | BL7: 男 | BM7: 女 | BN7: 計 | BO7: 男 | BP7: 女 | BQ7: 計 | BR7: 男 | BS7: 女 | BT7: 計 | BU7: 男 | BV7: 女 | BW7: 計 | BX7: 男 | BY7: 女 | BZ7: 計 | CA7: 男 | CB7: 女 | CC7: 計 | CD7: 男 | CE7: 女 | CF7: 計 | CG7: 男 | CH7: 女 | CI7: 計 | CJ7: 男 | CK7: 女 | CL7: 計 | CM7: 男 | CN7: 女
A8: 總 計 | B8: 1135 | C8: 0 | D8: 919 | E8: 216 | F8: 29786 | G8: 15754 | H8: 14032 | I8: 7375 | J8: 3848 | K8: 3527 | L8: 14542 | M8: 7712 | N8: 6830 | O8: 7869 | P8: 4194 | Q8: 3675 | R8: 22582 | S8: 11951 | T8: 10631 | U8: 6021 | V8: 3158 | W8: 2863 | X8: 10994 | Y8: 5815 | Z8: 5179 | AA8: 5567 | AB8: 2978 | AC8: 2589 | AD8: 7204 | AE8: 3803 | AF8: 3401 | AG8: 1354 | AH8: 690 | AI8: 664 | AJ8: 3548 | AK8: 1897 | AL8: 1651 | AM8: 2302 | AN8: 1216 | AO8: 1086 | AP8: 28818 | AQ8: 15237 | AR8: 13581 | AS8: 7158 | AT8: 3740 | AU8: 3418 | AV8: 14029 | AW8: 7435 | AX8: 6594 | AY8: 7631 | AZ8: 4062 | BA8: 3569 | BB8: 490 | BC8: 260 | BD8: 230 | BE8: 125 | BF8: 62 | BG8: 63 | BH8: 254 | BI8: 138 | BJ8: 116 | BK8: 111 | BL8: 60 | BM8: 51 | BN8: 478 | BO8: 257 | BP8: 221 | BQ8: 92 | BR8: 46 | BS8: 46 | BT8: 259 | BU8: 139 | BV8: 120 | BW8: 127 | BX8: 72 | BY8: 55 | BZ8: 8444 | CA8: 140 | CB8: 8304 | CC8: 1133 | CD8: 49 | CE8: 1084 | CF8: 7212 | CG8: 91 | CH8: 7121 | CI8: 89 | CJ8: 0 | CK8: 89 | CL8: 10 | CM8: 0 | CN8: 10
A9: 新北市 | B9: 235 | C9: 0 | D9: 171 | E9: 64 | F9: 7951 | G9: 4214 | H9: 3737 | I9: 1899 | J9: 966 | K9: 933 | L9: 3583 | M9: 1923 | N9: 1660 | O9: 2469 | P9: 1325 | Q9: 1144 | R9: 4388 | S9: 2337 | T9: 2051 | U9: 1236 | V9: 635 | W9: 601 | X9: 1993 | Y9: 1061 | Z9: 932 | AA9: 1159 | AB9: 641 | AC9: 518 | AD9: 3563 | AE9: 1877 | AF9: 1686 | AG9: 663 | AH9: 331 | AI9: 332 | AJ9: 1590 | AK9: 862 | AL9: 728 | AM9: 1310 | AN9: 684 | AO9: 626 | AP9: 7651 | AQ9: 4056 | AR9: 3595 | AS9: 1834 | AT9: 933 | AU9: 901 | AV9: 3440 | AW9: 1848 | AX9: 1592 | AY9: 2377 | AZ9: 1275 | BA9: 1102 | BB9: 168 | BC9: 90 | BD9: 78 | BE9: 38 | BF9: 21 | BG9: 17 | BH9: 79 | BI9: 41 | BJ9: 38 | BK9: 51 | BL9: 28 | BM9: 23 | BN9: 132 | BO9: 68 | BP9: 64 | BQ9: 27 | BR9: 12 | BS9: 15 | BT9: 64 | BU9: 34 | BV9: 30 | BW9: 41 | BX9: 22 | BY9: 19 | BZ9: 2133 | CA9: 40 | CB9: 2093 | CC9: 231 | CD9: 12 | CE9: 219 | CF9: 1831 | CG9: 28 | CH9: 1803 | CI9: 67 | CJ9: 0 | CK9: 67 | CL9: 4 | CM9: 0 | CN9: 4
A10: 臺北市 | B10: 239 | C10: 0 | D10: 165 | E10: 74 | F10: 5035 | G10: 2624 | H10: 2411 | I10: 1085 | J10: 545 | K10: 540 | L10: 2490 | M10: 1300 | N10: 1190 | O10: 1460 | P10: 779 | Q10: 681 | R10: 3533 | S10: 1818 | T10: 1715 | U10: 876 | V10: 438 | W10: 438 | X10: 1738 | Y10: 910 | Z10: 828 | AA10: 919 | AB10: 470 | AC10: 449 | AD10: 1502 | AE10: 806 | AF10: 696 | AG10: 209 | AH10: 107 | AI10: 102 | AJ10: 752 | AK10: 390 | AL10: 362 | AM10: 541 | AN10: 309 | AO10: 232 | AP10: 4854 | AQ10: 2521 | AR10: 2333 | AS10: 1048 | AT10: 527 | AU10: 521 | AV10: 2399 | AW10: 1246 | AX10: 1153 | AY10: 1407 | AZ10: 748 | BA10: 659 | BB10: 39 | BC10: 22 | BD10: 17 | BE10: 11 | BF10: 5 | BG10: 6 | BH10: 17 | BI10: 11 | BJ10: 6 | BK10: 11 | BL10: 6 | BM10: 5 | BN10: 142 | BO10: 81 | BP10: 61 | BQ10: 26 | BR10: 13 | BS10: 13 | BT10: 74 | BU10: 43 | BV10: 31 | BW10: 42 | BX10: 25 | BY10: 17 | BZ10: 1525 | CA10: 11 | CB10: 1514 | CC10: 239 | CD10: 3 | CE10: 236 | CF10: 1286 | CG10: 8 | CH10: 1278 | CI10: 0 | CJ10: 0 | CK10: 0 | CL10: 0 | CM10: 0 | CN10: 0
A11: 桃園市 | B11: 104 | C11: 0 | D11: 88 | E11: 16 | F11: 2754 | G11: 1409 | H11: 1345 | I11: 676 | J11: 353 | K11: 323 | L11: 1358 | M11: 690 | N11: 668 | O11: 720 | P11: 366 | Q11: 354 | R11: 2299 | S11: 1187 | T11: 1112 | U11: 586 | V11: 309 | W11: 277 | X11: 1117 | Y11: 566 | Z11: 551 | AA11: 596 | AB11: 312 | AC11: 284 | AD11: 455 | AE11: 222 | AF11: 233 | AG11: 90 | AH11: 44 | AI11: 46 | AJ11: 241 | AK11: 124 | AL11: 117 | AM11: 124 | AN11: 54 | AO11: 70 | AP11: 2697 | AQ11: 1379 | AR11: 1318 | AS11: 662 | AT11: 346 | AU11: 316 | AV11: 1329 | AW11: 677 | AX11: 652 | AY11: 706 | AZ11: 356 | BA11: 350 | BB11: 57 | BC11: 30 | BD11: 27 | BE11: 14 | BF11: 7 | BG11: 7 | BH11: 29 | BI11: 13 | BJ11: 16 | BK11: 14 | BL11: 10 | BM11: 4 | BN11: 0 | BO11: 0 | BP11: 0 | BQ11: 0 | BR11: 0 | BS11: 0 | BT11: 0 | BU11: 0 | BV11: 0 | BW11: 0 | BX11: 0 | BY11: 0 | BZ11: 781 | CA11: 14 | CB11: 767 | CC11: 104 | CD11: 6 | CE11: 98 | CF11: 677 | CG11: 8 | CH11: 669 | CI11: 0 | CJ11: 0 | CK11: 0 | CL11: 0 | CM11: 0 | CN11: 0
A12: 臺中市 | B12: 157 | C12: 0 | D12: 149 | E12: 8 | F12: 4443 | G12: 2352 | H12: 2091 | I12: 1188 | J12: 615 | K12: 573 | L12: 2176 | M12: 1175 | N12: 1001 | O12: 1079 | P12: 562 | Q12: 517 | R12: 4246 | S12: 2253 | T12: 1993 | U12: 1129 | V12: 591 | W12: 538 | X12: 2038 | Y12: 1100 | Z12: 938 | AA12: 1079 | AB12: 562 | AC12: 517 | AD12: 197 | AE12: 99 | AF12: 98 | AG12: 59 | AH12: 24 | AI12: 35 | AJ12: 138 | AK12: 75 | AL12: 63 | AM12: 0 | AN12: 0 | AO12: 0 | AP12: 4330 | AQ12: 2289 | AR12: 2041 | AS12: 1163 | AT12: 599 | AU12: 564 | AV12: 2112 | AW12: 1144 | AX12: 968 | AY12: 1055 | AZ12: 546 | BA12: 509 | BB12: 33 | BC12: 21 | BD12: 12 | BE12: 9 | BF12: 6 | BG12: 3 | BH12: 18 | BI12: 10 | BJ12: 8 | BK12: 6 | BL12: 5 | BM12: 1 | BN12: 80 | BO12: 42 | BP12: 38 | BQ12: 16 | BR12: 10 | BS12: 6 | BT12: 46 | BU12: 21 | BV12: 25 | BW12: 18 | BX12: 11 | BY12: 7 | BZ12: 1241 | CA12: 19 | CB12: 1222 | CC12: 162 | CD12: 5 | CE12: 157 | CF12: 1079 | CG12: 14 | CH12: 1065 | CI12: 0 | CJ12: 0 | CK12: 0 | CL12: 0 | CM12: 0 | CN12: 0
A13: 臺南市 | B13: 84 | C13: 0 | D13: 78 | E13: 6 | F13: 1659 | G13: 958 | H13: 701 | I13: 389 | J13: 230 | K13: 159 | L13: 890 | M13: 512 | N13: 378 | O13: 380 | P13: 216 | Q13: 164 | R13: 1588 | S13: 917 | T13: 671 | U13: 380 | V13: 223 | W13: 157 | X13: 839 | Y13: 480 | Z13: 359 | AA13: 369 | AB13: 214 | AC13: 155 | AD13: 71 | AE13: 41 | AF13: 30 | AG13: 9 | AH13: 7 | AI13: 2 | AJ13: 51 | AK13: 32 | AL13: 19 | AM13: 11 | AN13: 2 | AO13: 9 | AP13: 1641 | AQ13: 946 | AR13: 695 | AS13: 387 | AT13: 229 | AU13: 158 | AV13: 879 | AW13: 504 | AX13: 375 | AY13: 375 | AZ13: 213 | BA13: 162 | BB13: 11 | BC13: 6 | BD13: 5 | BE13: 1 | BF13: 1 | BG13: 0 | BH13: 7 | BI13: 4 | BJ13: 3 | BK13: 3 | BL13: 1 | BM13: 2 | BN13: 7 | BO13: 6 | BP13: 1 | BQ13: 1 | BR13: 0 | BS13: 1 | BT13: 4 | BU13: 4 | BV13: 0 | BW13: 2 | BX13: 2 | BY13: 0 | BZ13: 487 | CA13: 10 | CB13: 477 | CC13: 83 | CD13: 7 | CE13: 76 | CF13: 401 | CG13: 3 | CH13: 398 | CI13: 3 | CJ13: 0 | CK13: 3 | CL13: 0 | CM13: 0 | CN13: 0
A14: 高雄市 | B14: 77 | C14: 0 | D14: 56 | E14: 21 | F14: 2169 | G14: 1150 | H14: 1019 | I14: 512 | J14: 289 | K14: 223 | L14: 1211 | M14: 629 | N14: 582 | O14: 446 | P14: 232 | Q14: 214 | R14: 1361 | S14: 717 | T14: 644 | U14: 334 | V14: 186 | W14: 148 | X14: 733 | Y14: 380 | Z14: 353 | AA14: 294 | AB14: 151 | AC14: 143 | AD14: 808 | AE14: 433 | AF14: 375 | AG14: 178 | AH14: 103 | AI14: 75 | AJ14: 478 | AK14: 249 | AL14: 229 | AM14: 152 | AN14: 81 | AO14: 71 | AP14: 2084 | AQ14: 1113 | AR14: 971 | AS14: 495 | AT14: 284 | AU14: 211 | AV14: 1166 | AW14: 607 | AX14: 559 | AY14: 423 | AZ14: 222 | BA14: 201 | BB14: 36 | BC14: 14 | BD14: 22 | BE14: 11 | BF14: 2 | BG14: 9 | BH14: 15 | BI14: 8 | BJ14: 7 | BK14: 10 | BL14: 4 | BM14: 6 | BN14: 49 | BO14: 23 | BP14: 26 | BQ14: 6 | BR14: 3 | BS14: 3 | BT14: 30 | BU14: 14 | BV14: 16 | BW14: 13 | BX14: 6 | BY14: 7 | BZ14: 607 | CA14: 7 | CB14: 600 | CC14: 76 | CD14: 2 | CE14: 74 | CF14: 525 | CG14: 5 | CH14: 520 | CI14: 3 | CJ14: 0 | CK14: 3 | CL14: 3 | CM14: 0 | CN14: 3
A15: 宜蘭縣 | B15: 15 | C15: 0 | D15: 6 | E15: 9 | F15: 346 | G15: 186 | H15: 160 | I15: 97 | J15: 50 | K15: 47 | L15: 170 | M15: 87 | N15: 83 | O15: 79 | P15: 49 | Q15: 30 | R15: 135 | S15: 73 | T15: 62 | U15: 46 | V15: 26 | W15: 20 | X15: 65 | Y15: 32 | Z15: 33 | AA15: 24 | AB15: 15 | AC15: 9 | AD15: 211 | AE15: 113 | AF15: 98 | AG15: 51 | AH15: 24 | AI15: 27 | AJ15: 105 | AK15: 55 | AL15: 50 | AM15: 55 | AN15: 34 | AO15: 21 | AP15: 324 | AQ15: 168 | AR15: 156 | AS15: 90 | AT15: 44 | AU15: 46 | AV15: 156 | AW15: 76 | AX15: 80 | AY15: 78 | AZ15: 48 | BA15: 30 | BB15: 10 | BC15: 8 | BD15: 2 | BE15: 4 | BF15: 3 | BG15: 1 | BH15: 5 | BI15: 4 | BJ15: 1 | BK15: 1 | BL15: 1 | BM15: 0 | BN15: 12 | BO15: 10 | BP15: 2 | BQ15: 3 | BR15: 3 | BS15: 0 | BT15: 9 | BU15: 7 | BV15: 2 | BW15: 0 | BX15: 0 | BY15: 0 | BZ15: 97 | CA15: 2 | CB15: 95 | CC15: 15 | CD15: 1 | CE15: 14 | CF15: 82 | CG15: 1 | CH15: 81 | CI15: 0 | CJ15: 0 | CK15: 0 | CL15: 0 | CM15: 0 | CN15: 0
A16: 新竹縣 | B16: 54 | C16: 0 | D16: 54 | E16: 0 | F16: 1374 | G16: 717 | H16: 657 | I16: 396 | J16: 201 | K16: 195 | L16: 616 | M16: 323 | N16: 293 | O16: 362 | P16: 193 | Q16: 169 | R16: 1374 | S16: 717 | T16: 657 | U16: 396 | V16: 201 | W16: 195 | X16: 616 | Y16: 323 | Z16: 293 | AA16: 362 | AB16: 193 | AC16: 169 | AD16: 0 | AE16: 0 | AF16: 0 | AG16: 0 | AH16: 0 | AI16: 0 | AJ16: 0 | AK16: 0 | AL16: 0 | AM16: 0 | AN16: 0 | AO16: 0 | AP16: 1357 | AQ16: 704 | AR16: 653 | AS16: 393 | AT16: 198 | AU16: 195 | AV16: 607 | AW16: 316 | AX16: 291 | AY16: 357 | AZ16: 190 | BA16: 167 | BB16: 7 | BC16: 5 | BD16: 2 | BE16: 1 | BF16: 1 | BG16: 0 | BH16: 4 | BI16: 3 | BJ16: 1 | BK16: 2 | BL16: 1 | BM16: 1 | BN16: 10 | BO16: 8 | BP16: 2 | BQ16: 2 | BR16: 2 | BS16: 0 | BT16: 5 | BU16: 4 | BV16: 1 | BW16: 3 | BX16: 2 | BY16: 1 | BZ16: 404 | CA16: 7 | CB16: 397 | CC16: 53 | CD16: 2 | CE16: 51 | CF16: 351 | CG16: 5 | CH16: 346 | CI16: 0 | CJ16: 0 | CK16: 0 | CL16: 0 | CM16: 0 | CN16: 0
A17: 苗栗縣 | B17: 9 | C17: 0 | D17: 9 | E17: 0 | F17: 256 | G17: 153 | H17: 103 | I17: 80 | J17: 50 | K17: 30 | L17: 134 | M17: 81 | N17: 53 | O17: 42 | P17: 22 | Q17: 20 | R17: 256 | S17: 153 | T17: 103 | U17: 80 | V17: 50 | W17: 30 | X17: 134 | Y17: 81 | Z17: 53 | AA17: 42 | AB17: 22 | AC17: 20 | AD17: 0 | AE17: 0 | AF17: 0 | AG17: 0 | AH17: 0 | AI17: 0 | AJ17: 0 | AK17: 0 | AL17: 0 | AM17: 0 | AN17: 0 | AO17: 0 | AP17: 256 | AQ17: 153 | AR17: 103 | AS17: 80 | AT17: 50 | AU17: 30 | AV17: 134 | AW17: 81 | AX17: 53 | AY17: 42 | AZ17: 22 | BA17: 20 | BB17: 0 | BC17: 0 | BD17: 0 | BE17: 0 | BF17: 0 | BG17: 0 | BH17: 0 | BI17: 0 | BJ17: 0 | BK17: 0 | BL17: 0 | BM17: 0 | BN17: 0 | BO17: 0 | BP17: 0 | BQ17: 0 | BR17: 0 | BS17: 0 | BT17: 0 | BU17: 0 | BV17: 0 | BW17: 0 | BX17: 0 | BY17: 0 | BZ17: 77 | CA17: 2 | CB17: 75 | CC17: 8 | CD17: 1 | CE17: 7 | CF17: 69 | CG17: 1 | CH17: 68 | CI17: 0 | CJ17: 0 | CK17: 0 | CL17: 0 | CM17: 0 | CN17: 0
A18: 彰化縣 | B18: 42 | C18: 0 | D18: 42 | E18: 0 | F18: 860 | G18: 460 | H18: 400 | I18: 260 | J18: 133 | K18: 127 | L18: 496 | M18: 268 | N18: 228 | O18: 104 | P18: 59 | Q18: 45 | R18: 860 | S18: 460 | T18: 400 | U18: 260 | V18: 133 | W18: 127 | X18: 496 | Y18: 268 | Z18: 228 | AA18: 104 | AB18: 59 | AC18: 45 | AD18: 0 | AE18: 0 | AF18: 0 | AG18: 0 | AH18: 0 | AI18: 0 | AJ18: 0 | AK18: 0 | AL18: 0 | AM18: 0 | AN18: 0 | AO18: 0 | AP18: 826 | AQ18: 446 | AR18: 380 | AS18: 252 | AT18: 129 | AU18: 123 | AV18: 475 | AW18: 261 | AX18: 214 | AY18: 99 | AZ18: 56 | BA18: 43 | BB18: 10 | BC18: 4 | BD18: 6 | BE18: 4 | BF18: 2 | BG18: 2 | BH18: 6 | BI18: 2 | BJ18: 4 | BK18: 0 | BL18: 0 | BM18: 0 | BN18: 24 | BO18: 10 | BP18: 14 | BQ18: 4 | BR18: 2 | BS18: 2 | BT18: 15 | BU18: 5 | BV18: 10 | BW18: 5 | BX18: 3 | BY18: 2 | BZ18: 237 | CA18: 3 | CB18: 234 | CC18: 42 | CD18: 0 | CE18: 42 | CF18: 195 | CG18: 3 | CH18: 192 | CI18: 0 | CJ18: 0 | CK18: 0 | CL18: 0 | CM18: 0 | CN18: 0
A19: 南投縣 | B19: 4 | C19: 0 | D19: 4 | E19: 0 | F19: 81 | G19: 46 | H19: 35 | I19: 19 | J19: 13 | K19: 6 | L19: 50 | M19: 25 | N19: 25 | O19: 12 | P19: 8 | Q19: 4 | R19: 81 | S19: 46 | T19: 35 | U19: 19 | V19: 13 | W19: 6 | X19: 50 | Y19: 25 | Z19: 25 | AA19: 12 | AB19: 8 | AC19: 4 | AD19: 0 | AE19: 0 | AF19: 0 | AG19: 0 | AH19: 0 | AI19: 0 | AJ19: 0 | AK19: 0 | AL19: 0 | AM19: 0 | AN19: 0 | AO19: 0 | AP19: 77 | AQ19: 43 | AR19: 34 | AS19: 19 | AT19: 13 | AU19: 6 | AV19: 47 | AW19: 23 | AX19: 24 | AY19: 11 | AZ19: 7 | BA19: 4 | BB19: 2 | BC19: 1 | BD19: 1 | BE19: 0 | BF19: 0 | BG19: 0 | BH19: 1 | BI19: 0 | BJ19: 1 | BK19: 1 | BL19: 1 | BM19: 0 | BN19: 2 | BO19: 2 | BP19: 0 | BQ19: 0 | BR19: 0 | BS19: 0 | BT19: 2 | BU19: 2 | BV19: 0 | BW19: 0 | BX19: 0 | BY19: 0 | BZ19: 27 | CA19: 2 | CB19: 25 | CC19: 3 | CD19: 0 | CE19: 3 | CF19: 24 | CG19: 2 | CH19: 22 | CI19: 0 | CJ19: 0 | CK19: 0 | CL19: 0 | CM19: 0 | CN19: 0
... A30: 連江縣 | B30: 2 | C30: 0 | D30: 0 | E30: 2 | F30: 43 | G30: 26 | H30: 17 | I30: 5 | J30: 3 | K30: 2 | L30: 26 | M30: 15 | N30: 11 | O30: 12 | P30: 8 | Q30: 4 | R30: 0 | S30: 0 | T30: 0 | U30: 0 | V30: 0 | W30: 0 | X30: 0 | Y30: 0 | Z30: 0 | AA30: 0 | AB30: 0 | AC30: 0 | AD30: 43 | AE30: 26 | AF30: 17 | AG30: 5 | AH30: 3 | AI30: 2 | AJ30: 26 | AK30: 15 | AL30: 11 | AM30: 12 | AN30: 8 | AO30: 4 | AP30: 43 | AQ30: 26 | AR30: 17 | AS30: 5 | AT30: 3 | AU30: 2 | AV30: 26 | AW30: 15 | AX30: 11 | AY30: 12 | AZ30: 8 | BA30: 4 | BB30: 0 | BC30: 0 | BD30: 0 | BE30: 0 | BF30: 0 | BG30: 0 | BH30: 0 | BI30: 0 | BJ30: 0 | BK30: 0 | BL30: 0 | BM30: 0 | BN30: 0 | BO30: 0 | BP30: 0 | BQ30: 0 | BR30: 0 | BS30: 0 | BT30: 0 | BU30: 0 | BV30: 0 | BW30: 0 | BX30: 0 | BY30: 0 | BZ30: 12 | CA30: 3 | CB30: 9 | CC30: 2 | CD30: 0 | CE30: 2 | CF30: 10 | CG30: 3 | CH30: 7 | CI30: 0 | CJ30: 0 | CK30: 0 | CL30: 0 | CM30: 0 | CN30: 0

Sheet 107
A1: 1.5 托嬰中心概況
A2: 107年底, End of 2018
A3: 一、所數與收托人數 | AP3: 1.一般身分 | BB3: 2.原住民身分 | BN3: 二、外籍配偶子女人數 | BZ3: 三、專業人員人數
A4: 區域別 | B4: 所數 | F4: 收托人數 ─按性別與年齡分 | AP4: 收托人數─按性別與年齡分 | BB4: 收托人數─按性別與年齡分 | BN4: 收托人數─按性別與年齡分 | BZ4: 總計 | CC4: 主管人員(主任) | CF4: 托育人員 | CI4: 教保人員 | CL4: 助理教保人員
F5: 總計 | R5: 私立 | AD5: 公辦民營
B6: 總計 | C6: 公立 | D6: 私立 | E6: 公辦民營 | F6: 合計 | I6: 未滿1歲 | L6: 1-未滿2歲 | O6: 2-未滿3歲 | R6: 合計 | U6: 未滿1歲 | X6: 1-未滿2歲 | AA6: 2-未滿3歲 | AD6: 合計 | AG6: 未滿1歲 | AJ6: 1-未滿2歲 | AM6: 2-未滿3歲 | AP6: 總計 | AS6: 未滿1歲 | AV6: 1-未滿2歲 | AY6: 2-未滿3歲 | BB6: 總計 | BE6: 未滿1歲 | BH6: 1-未滿2歲 | BK6: 2-未滿3歲 | BN6: 總計 | BQ6: 未滿1歲 | BT6: 1-未滿2歲 | BW6: 2-未滿3歲
F7: 計 | G7: 男 | H7: 女 | I7: 計 | J7: 男 | K7: 女 | L7: 計 | M7: 男 | N7: 女 | O7: 計 | P7: 男 | Q7: 女 | R7: 計 | S7: 男 | T7: 女 | U7: 計 | V7: 男 | W7: 女 | X7: 計 | Y7: 男 | Z7: 女 | AA7: 計 | AB7: 男 | AC7: 女 | AD7: 計 | AE7: 男 | AF7: 女 | AG7: 計 | AH7: 男 | AI7: 女 | AJ7: 計 | AK7: 男 | AL7: 女 | AM7: 計 | AN7: 男 | AO7: 女 | AP7: 計 | AQ7: 男 | AR7: 女 | AS7: 計 | AT7: 男 | AU7: 女 | AV7: 計 | AW7: 男 | AX7: 女 | AY7: 計 | AZ7: 男 | BA7: 女 | BB7: 計 | BC7: 男 | BD7: 女 | BE7: 計 | BF7: 男 | BG7: 女 | BH7: 計 | BI7: 男 | BJ7: 女 | BK7: 計 | BL7: 男 | BM7: 女 | BN7: 計 | BO7: 男 | BP7: 女 | BQ7: 計 | BR7: 男 | BS7: 女 | BT7: 計 | BU7: 男 | BV7: 女 | BW7: 計 | BX7: 男 | BY7: 女 | BZ7: 計 | CA7: 男 | CB7: 女 | CC7: 計 | CD7: 男 | CE7: 女 | CF7: 計 | CG7: 男 | CH7: 女 | CI7: 計 | CJ7: 男 | CK7: 女 | CL7: 計 | CM7: 男 | CN7: 女
A8: 總 計 | B8: 1031 | C8: 0 | D8: 852 | E8: 179 | F8: 26637 | G8: 13936 | H8: 12701 | I8: 6681 | J8: 3501 | K8: 3180 | L8: 13326 | M8: 6959 | N8: 6367 | O8: 6630 | P8: 3476 | Q8: 3154 | R8: 20319 | S8: 10635 | T8: 9684 | U8: 5395 | V8: 2839 | W8: 2556 | X8: 10106 | Y8: 5276 | Z8: 4830 | AA8: 4818 | AB8: 2520 | AC8: 2298 | AD8: 6318 | AE8: 3301 | AF8: 3017 | AG8: 1286 | AH8: 662 | AI8: 624 | AJ8: 3220 | AK8: 1683 | AL8: 1537 | AM8: 1812 | AN8: 956 | AO8: 856 | AP8: 25923 | AQ8: 13559 | AR8: 12364 | AS8: 6507 | AT8: 3411 | AU8: 3096 | AV8: 12946 | AW8: 6761 | AX8: 6185 | AY8: 6470 | AZ8: 3387 | BA8: 3083 | BB8: 331 | BC8: 174 | BD8: 157 | BE8: 88 | BF8: 48 | BG8: 40 | BH8: 178 | BI8: 89 | BJ8: 89 | BK8: 65 | BL8: 37 | BM8: 28 | BN8: 383 | BO8: 203 | BP8: 180 | BQ8: 86 | BR8: 42 | BS8: 44 | BT8: 202 | BU8: 109 | BV8: 93 | BW8: 95 | BX8: 52 | BY8: 43 | BZ8: 7520 | CA8: 107 | CB8: 7413 | CC8: 1011 | CD8: 44 | CE8: 967 | CF8: 6425 | CG8: 63 | CH8: 6362 | CI8: 74 | CJ8: 0 | CK8: 74 | CL8: 10 | CM8: 0 | CN8: 10
A9: 新北市 | B9: 211 | C9: 0 | D9: 151 | E9: 60 | F9: 7127 | G9: 3708 | H9: 3419 | I9: 1619 | J9: 831 | K9: 788 | L9: 3379 | M9: 1762 | N9: 1617 | O9: 2129 | P9: 1115 | Q9: 1014 | R9: 3846 | S9: 2006 | T9: 1840 | U9: 1003 | V9: 516 | W9: 487 | X9: 1909 | Y9: 996 | Z9: 913 | AA9: 934 | AB9: 494 | AC9: 440 | AD9: 3281 | AE9: 1702 | AF9: 1579 | AG9: 616 | AH9: 315 | AI9: 301 | AJ9: 1470 | AK9: 766 | AL9: 704 | AM9: 1195 | AN9: 621 | AO9: 574 | AP9: 6867 | AQ9: 3572 | AR9: 3295 | AS9: 1554 | AT9: 795 | AU9: 759 | AV9: 3259 | AW9: 1698 | AX9: 1561 | AY9: 2054 | AZ9: 1079 | BA9: 975 | BB9: 115 | BC9: 58 | BD9: 57 | BE9: 28 | BF9: 15 | BG9: 13 | BH9: 58 | BI9: 30 | BJ9: 28 | BK9: 29 | BL9: 13 | BM9: 16 | BN9: 145 | BO9: 78 | BP9: 67 | BQ9: 37 | BR9: 21 | BS9: 16 | BT9: 62 | BU9: 34 | BV9: 28 | BW9: 46 | BX9: 23 | BY9: 23 | BZ9: 1895 | CA9: 21 | CB9: 1874 | CC9: 204 | CD9: 11 | CE9: 193 | CF9: 1631 | CG9: 10 | CH9: 1621 | CI9: 57 | CJ9: 0 | CK9: 57 | CL9: 3 | CM9: 0 | CN9: 3
A10: 臺北市 | B10: 219 | C10: 0 | D10: 149 | E10: 70 | F10: 4702 | G10: 2453 | H10: 2249 | I10: 1193 | J10: 646 | K10: 547 | L10: 2396 | M10: 1218 | N10: 1178 | O10: 1113 | P10: 589 | Q10: 524 | R10: 3327 | S10: 1708 | T10: 1619 | U10: 903 | V10: 490 | W10: 413 | X10: 1582 | Y10: 779 | Z10: 803 | AA10: 842 | AB10: 439 | AC10: 403 | AD10: 1375 | AE10: 745 | AF10: 630 | AG10: 290 | AH10: 156 | AI10: 134 | AJ10: 814 | AK10: 439 | AL10: 375 | AM10: 271 | AN10: 150 | AO10: 121 | AP10: 4552 | AQ10: 2372 | AR10: 2180 | AS10: 1166 | AT10: 630 | AU10: 536 | AV10: 2314 | AW10: 1178 | AX10: 1136 | AY10: 1072 | AZ10: 564 | BA10: 508 | BB10: 38 | BC10: 24 | BD10: 14 | BE10: 10 | BF10: 8 | BG10: 2 | BH10: 19 | BI10: 10 | BJ10: 9 | BK10: 9 | BL10: 6 | BM10: 3 | BN10: 112 | BO10: 57 | BP10: 55 | BQ10: 17 | BR10: 8 | BS10: 9 | BT10: 63 | BU10: 30 | BV10: 33 | BW10: 32 | BX10: 19 | BY10: 13 | BZ10: 1388 | CA10: 10 | CB10: 1378 | CC10: 219 | CD10: 3 | CE10: 216 | CF10: 1169 | CG10: 7 | CH10: 1162 | CI10: 0 | CJ10: 0 | CK10: 0 | CL10: 0 | CM10: 0 | CN10: 0
A11: 桃園市 | B11: 87 | C11: 0 | D11: 80 | E11: 7 | F11: 2211 | G11: 1119 | H11: 1092 | I11: 584 | J11: 289 | K11: 295 | L11: 1069 | M11: 550 | N11: 519 | O11: 558 | P11: 280 | Q11: 278 | R11: 1927 | S11: 973 | T11: 954 | U11: 519 | V11: 252 | W11: 267 | X11: 920 | Y11: 480 | Z11: 440 | AA11: 488 | AB11: 241 | AC11: 247 | AD11: 284 | AE11: 146 | AF11: 138 | AG11: 65 | AH11: 37 | AI11: 28 | AJ11: 149 | AK11: 70 | AL11: 79 | AM11: 70 | AN11: 39 | AO11: 31 | AP11: 2177 | AQ11: 1100 | AR11: 1077 | AS11: 573 | AT11: 282 | AU11: 291 | AV11: 1055 | AW11: 545 | AX11: 510 | AY11: 549 | AZ11: 273 | BA11: 276 | BB11: 34 | BC11: 19 | BD11: 15 | BE11: 11 | BF11: 7 | BG11: 4 | BH11: 14 | BI11: 5 | BJ11: 9 | BK11: 9 | BL11: 7 | BM11: 2 | BN11: 0 | BO11: 0 | BP11: 0 | BQ11: 0 | BR11: 0 | BS11: 0 | BT11: 0 | BU11: 0 | BV11: 0 | BW11: 0 | BX11: 0 | BY11: 0 | BZ11: 634 | CA11: 4 | CB11: 630 | CC11: 87 | CD11: 3 | CE11: 84 | CF11: 547 | CG11: 1 | CH11: 546 | CI11: 0 | CJ11: 0 | CK11: 0 | CL11: 0 | CM11: 0 | CN11: 0
A12: 臺中市 | B12: 148 | C12: 0 | D12: 143 | E12: 5 | F12: 4100 | G12: 2140 | H12: 1960 | I12: 1036 | J12: 537 | K12: 499 | L12: 2089 | M12: 1096 | N12: 993 | O12: 975 | P12: 507 | Q12: 468 | R12: 3958 | S12: 2078 | T12: 1880 | U12: 989 | V12: 516 | W12: 473 | X12: 1994 | Y12: 1055 | Z12: 939 | AA12: 975 | AB12: 507 | AC12: 468 | AD12: 142 | AE12: 62 | AF12: 80 | AG12: 47 | AH12: 21 | AI12: 26 | AJ12: 95 | AK12: 41 | AL12: 54 | AM12: 0 | AN12: 0 | AO12: 0 | AP12: 4043 | AQ12: 2113 | AR12: 1930 | AS12: 1013 | AT12: 530 | AU12: 483 | AV12: 2062 | AW12: 1080 | AX12: 982 | AY12: 968 | AZ12: 503 | BA12: 465 | BB12: 23 | BC12: 11 | BD12: 12 | BE12: 12 | BF12: 5 | BG12: 7 | BH12: 9 | BI12: 5 | BJ12: 4 | BK12: 2 | BL12: 1 | BM12: 1 | BN12: 34 | BO12: 16 | BP12: 18 | BQ12: 11 | BR12: 2 | BS12: 9 | BT12: 18 | BU12: 11 | BV12: 7 | BW12: 5 | BX12: 3 | BY12: 2 | BZ12: 1134 | CA12: 19 | CB12: 1115 | CC12: 144 | CD12: 5 | CE12: 139 | CF12: 990 | CG12: 14 | CH12: 976 | CI12: 0 | CJ12: 0 | CK12: 0 | CL12: 0 | CM12: 0 | CN12: 0
A13: 臺南市 | B13: 69 | C13: 0 | D13: 68 | E13: 1 | F13: 1420 | G13: 768 | H13: 652 | I13: 372 | J13: 208 | K13: 164 | L13: 750 | M13: 394 | N13: 356 | O13: 298 | P13: 166 | Q13: 132 | R13: 1408 | S13: 763 | T13: 645 | U13: 369 | V13: 206 | W13: 163 | X13: 742 | Y13: 391 | Z13: 351 | AA13: 297 | AB13: 166 | AC13: 131 | AD13: 12 | AE13: 5 | AF13: 7 | AG13: 3 | AH13: 2 | AI13: 1 | AJ13: 8 | AK13: 3 | AL13: 5 | AM13: 1 | AN13: 0 | AO13: 1 | AP13: 1407 | AQ13: 760 | AR13: 647 | AS13: 370 | AT13: 207 | AU13: 163 | AV13: 739 | AW13: 387 | AX13: 352 | AY13: 298 | AZ13: 166 | BA13: 132 | BB13: 1 | BC13: 1 | BD13: 0 | BE13: 0 | BF13: 0 | BG13: 0 | BH13: 1 | BI13: 1 | BJ13: 0 | BK13: 0 | BL13: 0 | BM13: 0 | BN13: 12 | BO13: 7 | BP13: 5 | BQ13: 2 | BR13: 1 | BS13: 1 | BT13: 10 | BU13: 6 | BV13: 4 | BW13: 0 | BX13: 0 | BY13: 0 | BZ13: 422 | CA13: 12 | CB13: 410 | CC13: 65 | CD13: 7 | CE13: 58 | CF13: 356 | CG13: 5 | CH13: 351 | CI13: 1 | CJ13: 0 | CK13: 1 | CL13: 0 | CM13: 0 | CN13: 0
A14: 高雄市 | B14: 72 | C14: 0 | D14: 55 | E14: 17 | F14: 2012 | G14: 1042 | H14: 970 | I14: 486 | J14: 262 | K14: 224 | L14: 1132 | M14: 583 | N14: 549 | O14: 394 | P14: 197 | Q14: 197 | R14: 1285 | S14: 661 | T14: 624 | U14: 323 | V14: 184 | W14: 139 | X14: 700 | Y14: 353 | Z14: 347 | AA14: 262 | AB14: 124 | AC14: 138 | AD14: 727 | AE14: 381 | AF14: 346 | AG14: 163 | AH14: 78 | AI14: 85 | AJ14: 432 | AK14: 230 | AL14: 202 | AM14: 132 | AN14: 73 | AO14: 59 | AP14: 1955 | AQ14: 1009 | AR14: 946 | AS14: 476 | AT14: 255 | AU14: 221 | AV14: 1094 | AW14: 561 | AX14: 533 | AY14: 385 | AZ14: 193 | BA14: 192 | BB14: 21 | BC14: 12 | BD14: 9 | BE14: 2 | BF14: 2 | BG14: 0 | BH14: 14 | BI14: 7 | BJ14: 7 | BK14: 5 | BL14: 3 | BM14: 2 | BN14: 36 | BO14: 21 | BP14: 15 | BQ14: 8 | BR14: 5 | BS14: 3 | BT14: 24 | BU14: 15 | BV14: 9 | BW14: 4 | BX14: 1 | BY14: 3 | BZ14: 548 | CA14: 4 | CB14: 544 | CC14: 72 | CD14: 2 | CE14: 70 | CF14: 470 | CG14: 2 | CH14: 468 | CI14: 3 | CJ14: 0 | CK14: 3 | CL14: 3 | CM14: 0 | CN14: 3
A15: 宜蘭縣 | B15: 12 | C15: 0 | D15: 5 | E15: 7 | F15: 299 | G15: 163 | H15: 136 | I15: 54 | J15: 30 | K15: 24 | L15: 147 | M15: 78 | N15: 69 | O15: 98 | P15: 55 | Q15: 43 | R15: 113 | S15: 61 | T15: 52 | U15: 27 | V15: 16 | W15: 11 | X15: 55 | Y15: 28 | Z15: 27 | AA15: 31 | AB15: 17 | AC15: 14 | AD15: 186 | AE15: 102 | AF15: 84 | AG15: 27 | AH15: 14 | AI15: 13 | AJ15: 92 | AK15: 50 | AL15: 42 | AM15: 67 | AN15: 38 | AO15: 29 | AP15: 292 | AQ15: 158 | AR15: 134 | AS15: 53 | AT15: 29 | AU15: 24 | AV15: 144 | AW15: 76 | AX15: 68 | AY15: 95 | AZ15: 53 | BA15: 42 | BB15: 5 | BC15: 4 | BD15: 1 | BE15: 1 | BF15: 1 | BG15: 0 | BH15: 2 | BI15: 2 | BJ15: 0 | BK15: 2 | BL15: 1 | BM15: 1 | BN15: 2 | BO15: 1 | BP15: 1 | BQ15: 0 | BR15: 0 | BS15: 0 | BT15: 1 | BU15: 0 | BV15: 1 | BW15: 1 | BX15: 1 | BY15: 0 | BZ15: 79 | CA15: 5 | CB15: 74 | CC15: 11 | CD15: 1 | CE15: 10 | CF15: 68 | CG15: 4 | CH15: 64 | CI15: 0 | CJ15: 0 | CK15: 0 | CL15: 0 | CM15: 0 | CN15: 0
A16: 新竹縣 | B16: 51 | C16: 0 | D16: 51 | E16: 0 | F16: 1206 | G16: 626 | H16: 580 | I16: 361 | J16: 192 | K16: 169 | L16: 560 | M16: 288 | N16: 272 | O16: 285 | P16: 146 | Q16: 139 | R16: 1206 | S16: 626 | T16: 580 | U16: 361 | V16: 192 | W16: 169 | X16: 560 | Y16: 288 | Z16: 272 | AA16: 285 | AB16: 146 | AC16: 139 | AD16: 0 | AE16: 0 | AF16: 0 | AG16: 0 | AH16: 0 | AI16: 0 | AJ16: 0 | AK16: 0 | AL16: 0 | AM16: 0 | AN16: 0 | AO16: 0 | AP16: 1199 | AQ16: 623 | AR16: 576 | AS16: 359 | AT16: 191 | AU16: 168 | AV16: 557 | AW16: 288 | AX16: 269 | AY16: 283 | AZ16: 144 | BA16: 139 | BB16: 2 | BC16: 0 | BD16: 2 | BE16: 0 | BF16: 0 | BG16: 0 | BH16: 2 | BI16: 0 | BJ16: 2 | BK16: 0 | BL16: 0 | BM16: 0 | BN16: 5 | BO16: 3 | BP16: 2 | BQ16: 2 | BR16: 1 | BS16: 1 | BT16: 1 | BU16: 0 | BV16: 1 | BW16: 2 | BX16: 2 | BY16: 0 | BZ16: 371 | CA16: 3 | CB16: 368 | CC16: 48 | CD16: 2 | CE16: 46 | CF16: 313 | CG16: 1 | CH16: 312 | CI16: 7 | CJ16: 0 | CK16: 7 | CL16: 3 | CM16: 0 | CN16: 3
A17: 苗栗縣 | B17: 9 | C17: 0 | D17: 9 | E17: 0 | F17: 243 | G17: 127 | H17: 116 | I17: 77 | J17: 38 | K17: 39 | L17: 100 | M17: 54 | N17: 46 | O17: 66 | P17: 35 | Q17: 31 | R17: 243 | S17: 127 | T17: 116 | U17: 77 | V17: 38 | W17: 39 | X17: 100 | Y17: 54 | Z17: 46 | AA17: 66 | AB17: 35 | AC17: 31 | AD17: 0 | AE17: 0 | AF17: 0 | AG17: 0 | AH17: 0 | AI17: 0 | AJ17: 0 | AK17: 0 | AL17: 0 | AM17: 0 | AN17: 0 | AO17: 0 | AP17: 241 | AQ17: 125 | AR17: 116 | AS17: 76 | AT17: 37 | AU17: 39 | AV17: 100 | AW17: 54 | AX17: 46 | AY17: 65 | AZ17: 34 | BA17: 31 | BB17: 1 | BC17: 1 | BD17: 0 | BE17: 0 | BF17: 0 | BG17: 0 | BH17: 0 | BI17: 0 | BJ17: 0 | BK17: 1 | BL17: 1 | BM17: 0 | BN17: 1 | BO17: 1 | BP17: 0 | BQ17: 1 | BR17: 1 | BS17: 0 | BT17: 0 | BU17: 0 | BV17: 0 | BW17: 0 | BX17: 0 | BY17: 0 | BZ17: 74 | CA17: 1 | CB17: 73 | CC17: 9 | CD17: 0 | CE17: 9 | CF17: 65 | CG17: 1 | CH17: 64 | CI17: 0 | CJ17: 0 | CK17: 0 | CL17: 0 | CM17: 0 | CN17: 0
A18: 彰化縣 | B18: 41 | C18: 0 | D18: 41 | E18: 0 | F18: 764 | G18: 436 | H18: 328 | I18: 207 | J18: 121 | K18: 86 | L18: 441 | M18: 251 | N18: 190 | O18: 116 | P18: 64 | Q18: 52 | R18: 764 | S18: 436 | T18: 328 | U18: 207 | V18: 121 | W18: 86 | X18: 441 | Y18: 251 | Z18: 190 | AA18: 116 | AB18: 64 | AC18: 52 | AD18: 0 | AE18: 0 | AF18: 0 | AG18: 0 | AH18: 0 | AI18: 0 | AJ18: 0 | AK18: 0 | AL18: 0 | AM18: 0 | AN18: 0 | AO18: 0 | AP18: 748 | AQ18: 426 | AR18: 322 | AS18: 205 | AT18: 120 | AU18: 85 | AV18: 429 | AW18: 243 | AX18: 186 | AY18: 114 | AZ18: 63 | BA18: 51 | BB18: 3 | BC18: 2 | BD18: 1 | BE18: 1 | BF18: 1 | BG18: 0 | BH18: 2 | BI18: 1 | BJ18: 1 | BK18: 0 | BL18: 0 | BM18: 0 | BN18: 13 | BO18: 8 | BP18: 5 | BQ18: 1 | BR18: 0 | BS18: 1 | BT18: 10 | BU18: 7 | BV18: 3 | BW18: 2 | BX18: 1 | BY18: 1 | BZ18: 227 | CA18: 4 | CB18: 223 | CC18: 41 | CD18: 0 | CE18: 41 | CF18: 186 | CG18: 4 | CH18: 182 | CI18: 0 | CJ18: 0 | CK18: 0 | CL18: 0 | CM18: 0 | CN18: 0
A19: 南投縣 | B19: 4 | C19: 0 | D19: 4 | E19: 0 | F19: 65 | G19: 27 | H19: 38 | I19: 16 | J19: 6 | K19: 10 | L19: 44 | M19: 19 | N19: 25 | O19: 5 | P19: 2 | Q19: 3 | R19: 65 | S19: 27 | T19: 38 | U19: 16 | V19: 6 | W19: 10 | X19: 44 | Y19: 19 | Z19: 25 | AA19: 5 | AB19: 2 | AC19: 3 | AD19: 0 | AE19: 0 | AF19: 0 | AG19: 0 | AH19: 0 | AI19: 0 | AJ19: 0 | AK19: 0 | AL19: 0 | AM19: 0 | AN19: 0 | AO19: 0 | AP19: 59 | AQ19: 24 | AR19: 35 | AS19: 15 | AT19: 6 | AU19: 9 | AV19: 41 | AW19: 18 | AX19: 23 | AY19: 3 | AZ19: 0 | BA19: 3 | BB19: 6 | BC19: 3 | BD19: 3 | BE19: 1 | BF19: 0 | BG19: 1 | BH19: 3 | BI19: 1 | BJ19: 2 | BK19: 2 | BL19: 2 | BM19: 0 | BN19: 0 | BO19: 0 | BP19: 0 | BQ19: 0 | BR19: 0 | BS19: 0 | BT19: 0 | BU19: 0 | BV19: 0 | BW19: 0 | BX19: 0 | BY19: 0 | BZ19: 25 | CA19: 3 | CB19: 22 | CC19: 4 | CD19: 0 | CE19: 4 | CF19: 21 | CG19: 3 | CH19: 18 | CI19: 0 | CJ19: 0 | CK19: 0 | CL19: 0 | CM19: 0 | CN19: 0
... A30: 連江縣 | B30: 2 | C30: 0 | D30: 0 | E30: 2 | F30: 45 | G30: 25 | H30: 20 | I30: 5 | J30: 3 | K30: 2 | L30: 25 | M30: 14 | N30: 11 | O30: 15 | P30: 8 | Q30: 7 | R30: 0 | S30: 0 | T30: 0 | U30: 0 | V30: 0 | W30: 0 | X30: 0 | Y30: 0 | Z30: 0 | AA30: 0 | AB30: 0 | AC30: 0 | AD30: 45 | AE30: 25 | AF30: 20 | AG30: 5 | AH30: 3 | AI30: 2 | AJ30: 25 | AK30: 14 | AL30: 11 | AM30: 15 | AN30: 8 | AO30: 7 | AP30: 45 | AQ30: 25 | AR30: 20 | AS30: 5 | AT30: 3 | AU30: 2 | AV30: 25 | AW30: 14 | AX30: 11 | AY30: 15 | AZ30: 8 | BA30: 7 | BB30: 0 | BC30: 0 | BD30: 0 | BE30: 0 | BF30: 0 | BG30: 0 | BH30: 0 | BI30: 0 | BJ30: 0 | BK30: 0 | BL30: 0 | BM30: 0 | BN30: 0 | BO30: 0 | BP30: 0 | BQ30: 0 | BR30: 0 | BS30: 0 | BT30: 0 | BU30: 0 | BV30: 0 | BW30: 0 | BX30: 0 | BY30: 0 | BZ30: 12 | CA30: 0 | CB30: 12 | CC30: 2 | CD30: 0 | CE30: 2 | CF30: 10 | CG30: 0 | CH30: 10 | CI30: 0 | CJ30: 0 | CK30: 0 | CL30: 0 | CM30: 0 | CN30: 0

Sheet 106
A1: 1.5 托嬰中心概況
A2: 106年底, End of 2017
B3: 一、所數與收托人數 | R3: 1.一般身分 | AD3: 2.原住民身分 | AP3: 二、外籍配偶子女人數 | BB3: 三、專業人員人數
A5: 區域別 | B5: 所數 | F5: 人數-按性別與年齡分 | R5: 人數-按性別與年齡分 | AD5: 人數-按性別與年齡分 | AP5: 按性別與年齡分 | BB5: 總計 | BE5: 主管人員(主任) | BH5: 托育人員 | BK5: 教保人員 | BN5: 助理教保人員
B6: 總計 | C6: 公立 | D6: 私立 | E6: 公辦民營 | F6: 總計 | I6: 未滿1歲 | L6: 1-未滿2歲 | O6: 2-未滿3歲 | R6: 總計 | U6: 未滿1歲 | X6: 1-未滿2歲 | AA6: 2-未滿3歲 | AD6: 總計 | AG6: 未滿1歲 Under 1 Years | AJ6: 1-未滿2歲 1-Under 2 Years | AM6: 2-未滿3歲 2-Under 3 Years | AP6: 總計 | AS6: 未滿1歲 Under 1 Years | AV6: 1-未滿2歲 1-Under 2 Years | AY6: 2-未滿3歲 2-Under 3 Years
F7: 計 | G7: 男 | H7: 女 | I7: 計 | J7: 男 | K7: 女 | L7: 計 | M7: 男 | N7: 女 | O7: 計 | P7: 男 | Q7: 女 | R7: 計 | S7: 男 | T7: 女 | U7: 計 | V7: 男 | W7: 女 | X7: 計 | Y7: 男 | Z7: 女 | AA7: 計 | AB7: 男 | AC7: 女 | AD7: 計 | AE7: 男 | AF7: 女 | AG7: 計 | AH7: 男 | AI7: 女 | AJ7: 計 | AK7: 男 | AL7: 女 | AM7: 計 | AN7: 男 | AO7: 女 | AP7: 計 | AQ7: 男 | AR7: 女 | AS7: 計 | AT7: 男 | AU7: 女 | AV7: 計 | AW7: 男 | AX7: 女 | AY7: 計 | AZ7: 男 | BA7: 女 | BB7: 計 | BC7: 男 | BD7: 女 | BE7: 計 | BF7: 男 | BG7: 女 | BH7: 計 | BI7: 男 | BJ7: 女 | BK7: 計 | BL7: 男 | BM7: 女 | BN7: 計 | BO7: 男 | BP7: 女
A8: 總 計 | B8: 907 | C8: 0 | D8: 784 | E8: 123 | F8: 23066 | G8: 12081 | H8: 10985 | I8: 6009 | J8: 3119 | K8: 2890 | L8: 11573 | M8: 6031 | N8: 5542 | O8: 5484 | P8: 2931 | Q8: 2553 | R8: 22373 | S8: 11715 | T8: 10658 | U8: 5847 | V8: 3042 | W8: 2805 | X8: 11199 | Y8: 5822 | Z8: 5377 | AA8: 5327 | AB8: 2851 | AC8: 2476 | AD8: 362 | AE8: 195 | AF8: 167 | AG8: 92 | AH8: 42 | AI8: 50 | AJ8: 202 | AK8: 111 | AL8: 91 | AM8: 68 | AN8: 42 | AO8: 26 | AP8: 331 | AQ8: 171 | AR8: 160 | AS8: 70 | AT8: 35 | AU8: 35 | AV8: 172 | AW8: 98 | AX8: 74 | AY8: 89 | AZ8: 38 | BA8: 51 | BB8: 6507 | BC8: 97 | BD8: 6410 | BE8: 894 | BF8: 34 | BG8: 860 | BH8: 5554 | BI8: 63 | BJ8: 5491 | BK8: 45 | BL8: 0 | BM8: 45 | BN8: 14 | BO8: 0 | BP8: 14
A9: 新北市 | B9: 189 | C9: 0 | D9: 138 | E9: 51 | F9: 6387 | G9: 3360 | H9: 3027 | I9: 1533 | J9: 788 | K9: 745 | L9: 2971 | M9: 1572 | N9: 1399 | O9: 1883 | P9: 1000 | Q9: 883 | R9: 6149 | S9: 3236 | T9: 2913 | U9: 1489 | V9: 768 | W9: 721 | X9: 2856 | Y9: 1508 | Z9: 1348 | AA9: 1804 | AB9: 960 | AC9: 844 | AD9: 110 | AE9: 57 | AF9: 53 | AG9: 24 | AH9: 13 | AI9: 11 | AJ9: 56 | AK9: 27 | AL9: 29 | AM9: 30 | AN9: 17 | AO9: 13 | AP9: 128 | AQ9: 67 | AR9: 61 | AS9: 20 | AT9: 7 | AU9: 13 | AV9: 59 | AW9: 37 | AX9: 22 | AY9: 49 | AZ9: 23 | BA9: 26 | BB9: 1646 | BC9: 15 | BD9: 1631 | BE9: 184 | BF9: 7 | BG9: 177 | BH9: 1422 | BI9: 8 | BJ9: 1414 | BK9: 30 | BL9: 0 | BM9: 30 | BN9: 10 | BO9: 0 | BP9: 10
A10: 臺北市 | B10: 165 | C10: 0 | D10: 132 | E10: 33 | F10: 3688 | G10: 1894 | H10: 1794 | I10: 985 | J10: 503 | K10: 482 | L10: 1839 | M10: 933 | N10: 906 | O10: 864 | P10: 458 | Q10: 406 | R10: 3571 | S10: 1836 | T10: 1735 | U10: 956 | V10: 491 | W10: 465 | X10: 1780 | Y10: 900 | Z10: 880 | AA10: 835 | AB10: 445 | AC10: 390 | AD10: 30 | AE10: 17 | AF10: 13 | AG10: 9 | AH10: 4 | AI10: 5 | AJ10: 14 | AK10: 7 | AL10: 7 | AM10: 7 | AN10: 6 | AO10: 1 | AP10: 87 | AQ10: 41 | AR10: 46 | AS10: 20 | AT10: 8 | AU10: 12 | AV10: 45 | AW10: 26 | AX10: 19 | AY10: 22 | AZ10: 7 | BA10: 15 | BB10: 1098 | BC10: 7 | BD10: 1091 | BE10: 165 | BF10: 4 | BG10: 161 | BH10: 933 | BI10: 3 | BJ10: 930 | BK10: 0 | BL10: 0 | BM10: 0 | BN10: 0 | BO10: 0 | BP10: 0
A11: 桃園市 | B11: 75 | C11: 0 | D11: 72 | E11: 3 | F11: 1795 | G11: 927 | H11: 868 | I11: 451 | J11: 225 | K11: 226 | L11: 889 | M11: 451 | N11: 438 | O11: 455 | P11: 251 | Q11: 204 | R11: 1778 | S11: 916 | T11: 862 | U11: 449 | V11: 224 | W11: 225 | X11: 877 | Y11: 443 | Z11: 434 | AA11: 452 | AB11: 249 | AC11: 203 | AD11: 17 | AE11: 11 | AF11: 6 | AG11: 2 | AH11: 1 | AI11: 1 | AJ11: 12 | AK11: 8 | AL11: 4 | AM11: 3 | AN11: 2 | AO11: 1 | AP11: 0 | AQ11: 0 | AR11: 0 | AS11: 0 | AT11: 0 | AU11: 0 | AV11: 0 | AW11: 0 | AX11: 0 | AY11: 0 | AZ11: 0 | BA11: 0 | BB11: 497 | BC11: 6 | BD11: 491 | BE11: 75 | BF11: 4 | BG11: 71 | BH11: 422 | BI11: 2 | BJ11: 420 | BK11: 0 | BL11: 0 | BM11: 0 | BN11: 0 | BO11: 0 | BP11: 0
A12: 臺中市 | B12: 132 | C12: 0 | D12: 128 | E12: 4 | F12: 3603 | G12: 1923 | H12: 1680 | I12: 1028 | J12: 545 | K12: 483 | L12: 1825 | M12: 974 | N12: 851 | O12: 750 | P12: 404 | Q12: 346 | R12: 3465 | S12: 1853 | T12: 1612 | U12: 986 | V12: 527 | W12: 459 | X12: 1746 | Y12: 932 | Z12: 814 | AA12: 733 | AB12: 394 | AC12: 339 | AD12: 102 | AE12: 50 | AF12: 52 | AG12: 34 | AH12: 10 | AI12: 24 | AJ12: 55 | AK12: 30 | AL12: 25 | AM12: 13 | AN12: 10 | AO12: 3 | AP12: 36 | AQ12: 20 | AR12: 16 | AS12: 8 | AT12: 8 | AU12: 0 | AV12: 24 | AW12: 12 | AX12: 12 | AY12: 4 | AZ12: 0 | BA12: 4 | BB12: 1005 | BC12: 20 | BD12: 985 | BE12: 128 | BF12: 2 | BG12: 126 | BH12: 877 | BI12: 18 | BJ12: 859 | BK12: 0 | BL12: 0 | BM12: 0 | BN12: 0 | BO12: 0 | BP12: 0
A13: 臺南市 | B13: 62 | C13: 0 | D13: 62 | E13: 0 | F13: 1229 | G13: 618 | H13: 611 | I13: 327 | J13: 157 | K13: 170 | L13: 655 | M13: 325 | N13: 330 | O13: 247 | P13: 136 | Q13: 111 | R13: 1221 | S13: 612 | T13: 609 | U13: 323 | V13: 155 | W13: 168 | X13: 652 | Y13: 322 | Z13: 330 | AA13: 246 | AB13: 135 | AC13: 111 | AD13: 4 | AE13: 4 | AF13: 0 | AG13: 1 | AH13: 1 | AI13: 0 | AJ13: 2 | AK13: 2 | AL13: 0 | AM13: 1 | AN13: 1 | AO13: 0 | AP13: 4 | AQ13: 2 | AR13: 2 | AS13: 3 | AT13: 1 | AU13: 2 | AV13: 1 | AW13: 1 | AX13: 0 | AY13: 0 | AZ13: 0 | BA13: 0 | BB13: 374 | BC13: 15 | BD13: 359 | BE13: 62 | BF13: 7 | BG13: 55 | BH13: 312 | BI13: 8 | BJ13: 304 | BK13: 0 | BL13: 0 | BM13: 0 | BN13: 0 | BO13: 0 | BP13: 0
A14: 高雄市 | B14: 69 | C14: 0 | D14: 52 | E14: 17 | F14: 1850 | G14: 961 | H14: 889 | I14: 428 | J14: 232 | K14: 196 | L14: 1062 | M14: 547 | N14: 515 | O14: 360 | P14: 182 | Q14: 178 | R14: 1795 | S14: 932 | T14: 863 | U14: 415 | V14: 225 | W14: 190 | X14: 1028 | Y14: 530 | Z14: 498 | AA14: 352 | AB14: 177 | AC14: 175 | AD14: 22 | AE14: 13 | AF14: 9 | AG14: 7 | AH14: 5 | AI14: 2 | AJ14: 13 | AK14: 6 | AL14: 7 | AM14: 2 | AN14: 2 | AO14: 0 | AP14: 33 | AQ14: 16 | AR14: 17 | AS14: 6 | AT14: 2 | AU14: 4 | AV14: 21 | AW14: 11 | AX14: 10 | AY14: 6 | AZ14: 3 | BA14: 3 | BB14: 505 | BC14: 3 | BD14: 502 | BE14: 67 | BF14: 2 | BG14: 65 | BH14: 431 | BI14: 1 | BJ14: 430 | BK14: 4 | BL14: 0 | BM14: 4 | BN14: 3 | BO14: 0 | BP14: 3
A15: 宜蘭縣 | B15: 13 | C15: 0 | D15: 6 | E15: 7 | F15: 294 | G15: 153 | H15: 141 | I15: 49 | J15: 25 | K15: 24 | L15: 176 | M15: 93 | N15: 83 | O15: 69 | P15: 35 | Q15: 34 | R15: 286 | S15: 150 | T15: 136 | U15: 48 | V15: 24 | W15: 24 | X15: 170 | Y15: 91 | Z15: 79 | AA15: 68 | AB15: 35 | AC15: 33 | AD15: 6 | AE15: 3 | AF15: 3 | AG15: 1 | AH15: 1 | AI15: 0 | AJ15: 4 | AK15: 2 | AL15: 2 | AM15: 1 | AN15: 0 | AO15: 1 | AP15: 2 | AQ15: 0 | AR15: 2 | AS15: 0 | AT15: 0 | AU15: 0 | AV15: 2 | AW15: 0 | AX15: 2 | AY15: 0 | AZ15: 0 | BA15: 0 | BB15: 81 | BC15: 2 | BD15: 79 | BE15: 13 | BF15: 1 | BG15: 12 | BH15: 68 | BI15: 1 | BJ15: 67 | BK15: 0 | BL15: 0 | BM15: 0 | BN15: 0 | BO15: 0 | BP15: 0
A16: 新竹縣 | B16: 48 | C16: 0 | D16: 48 | E16: 0 | F16: 1094 | G16: 586 | H16: 508 | I16: 325 | J16: 174 | K16: 151 | L16: 522 | M16: 281 | N16: 241 | O16: 247 | P16: 131 | Q16: 116 | R16: 1088 | S16: 583 | T16: 505 | U16: 323 | V16: 172 | W16: 151 | X16: 520 | Y16: 280 | Z16: 240 | AA16: 245 | AB16: 131 | AC16: 114 | AD16: 3 | AE16: 0 | AF16: 3 | AG16: 0 | AH16: 0 | AI16: 0 | AJ16: 1 | AK16: 0 | AL16: 1 | AM16: 2 | AN16: 0 | AO16: 2 | AP16: 3 | AQ16: 3 | AR16: 0 | AS16: 2 | AT16: 2 | AU16: 0 | AV16: 1 | AW16: 1 | AX16: 0 | AY16: 0 | AZ16: 0 | BA16: 0 | BB16: 362 | BC16: 2 | BD16: 360 | BE16: 46 | BF16: 1 | BG16: 45 | BH16: 311 | BI16: 1 | BJ16: 310 | BK16: 4 | BL16: 0 | BM16: 4 | BN16: 1 | BO16: 0 | BP16: 1
A17: 苗栗縣 | B17: 11 | C17: 0 | D17: 11 | E17: 0 | F17: 232 | G17: 119 | H17: 113 | I17: 63 | J17: 33 | K17: 30 | L17: 116 | M17: 53 | N17: 63 | O17: 53 | P17: 33 | Q17: 20 | R17: 231 | S17: 118 | T17: 113 | U17: 63 | V17: 33 | W17: 30 | X17: 115 | Y17: 52 | Z17: 63 | AA17: 53 | AB17: 33 | AC17: 20 | AD17: 1 | AE17: 1 | AF17: 0 | AG17: 0 | AH17: 0 | AI17: 0 | AJ17: 1 | AK17: 1 | AL17: 0 | AM17: 0 | AN17: 0 | AO17: 0 | AP17: 0 | AQ17: 0 | AR17: 0 | AS17: 0 | AT17: 0 | AU17: 0 | AV17: 0 | AW17: 0 | AX17: 0 | AY17: 0 | AZ17: 0 | BA17: 0 | BB17: 71 | BC17: 1 | BD17: 70 | BE17: 11 | BF17: 0 | BG17: 11 | BH17: 60 | BI17: 1 | BJ17: 59 | BK17: 0 | BL17: 0 | BM17: 0 | BN17: 0 | BO17: 0 | BP17: 0
A18: 彰化縣 | B18: 40 | C18: 0 | D18: 40 | E18: 0 | F18: 705 | G18: 387 | H18: 318 | I18: 188 | J18: 103 | K18: 85 | L18: 402 | M18: 218 | N18: 184 | O18: 115 | P18: 66 | Q18: 49 | R18: 685 | S18: 372 | T18: 313 | U18: 184 | V18: 100 | W18: 84 | X18: 387 | Y18: 207 | Z18: 180 | AA18: 114 | AB18: 65 | AC18: 49 | AD18: 4 | AE18: 3 | AF18: 1 | AG18: 0 | AH18: 0 | AI18: 0 | AJ18: 4 | AK18: 3 | AL18: 1 | AM18: 0 | AN18: 0 | AO18: 0 | AP18: 16 | AQ18: 12 | AR18: 4 | AS18: 4 | AT18: 3 | AU18: 1 | AV18: 11 | AW18: 8 | AX18: 3 | AY18: 1 | AZ18: 1 | BA18: 0 | BB18: 216 | BC18: 6 | BD18: 210 | BE18: 40 | BF18: 0 | BG18: 40 | BH18: 176 | BI18: 6 | BJ18: 170 | BK18: 0 | BL18: 0 | BM18: 0 | BN18: 0 | BO18: 0 | BP18: 0
A19: 南投縣 | B19: 4 | C19: 0 | D19: 4 | E19: 0 | F19: 58 | G19: 34 | H19: 24 | I19: 14 | J19: 8 | K19: 6 | L19: 41 | M19: 24 | N19: 17 | O19: 3 | P19: 2 | Q19: 1 | R19: 54 | S19: 32 | T19: 22 | U19: 14 | V19: 8 | W19: 6 | X19: 37 | Y19: 22 | Z19: 15 | AA19: 3 | AB19: 2 | AC19: 1 | AD19: 4 | AE19: 2 | AF19: 2 | AG19: 0 | AH19: 0 | AI19: 0 | AJ19: 4 | AK19: 2 | AL19: 2 | AM19: 0 | AN19: 0 | AO19: 0 | AP19: 0 | AQ19: 0 | AR19: 0 | AS19: 0 | AT19: 0 | AU19: 0 | AV19: 0 | AW19: 0 | AX19: 0 | AY19: 0 | AZ19: 0 | BA19: 0 | BB19: 19 | BC19: 2 | BD19: 17 | BE19: 4 | BF19: 0 | BG19: 4 | BH19: 15 | BI19: 2 | BJ19: 13 | BK19: 0 | BL19: 0 | BM19: 0 | BN19: 0 | BO19: 0 | BP19: 0
... A30: 連江縣 | B30: 2 | C30: 0 | D30: 0 | E30: 2 | F30: 30 | G30: 16 | H30: 14 | I30: 6 | J30: 3 | K30: 3 | L30: 14 | M30: 7 | N30: 7 | O30: 10 | P30: 6 | Q30: 4 | R30: 27 | S30: 15 | T30: 12 | U30: 6 | V30: 3 | W30: 3 | X30: 12 | Y30: 6 | Z30: 6 | AA30: 9 | AB30: 6 | AC30: 3 | AD30: 0 | AE30: 0 | AF30: 0 | AG30: 0 | AH30: 0 | AI30: 0 | AJ30: 0 | AK30: 0 | AL30: 0 | AM30: 0 | AN30: 0 | AO30: 0 | AP30: 3 | AQ30: 1 | AR30: 2 | AS30: 0 | AT30: 0 | AU30: 0 | AV30: 2 | AW30: 1 | AX30: 1 | AY30: 1 | AZ30: 0 | BA30: 1 | BB30: 10 | BC30: 0 | BD30: 10 | BE30: 2 | BF30: 0 | BG30: 2 | BH30: 8 | BI30: 0 | BJ30: 8 | BK30: 0 | BL30: 0 | BM30: 0 | BN30: 0 | BO30: 0 | BP30: 0

Sheet 105
A1: 1.5 托嬰中心概況
A2: 105年底, End of 2016
B3: 一、所數與收托人數 | R3: 1.一般身分 | AD3: 2.原住民身分 | AP3: 二、外籍配偶子女人數 | BB3: 三、專業人員人數
A5: 區域別 | B5: 所數 | F5: 人數-按性別與年齡分 | R5: 人數-按性別與年齡分 | AD5: 人數-按性別與年齡分 | AP5: 按性別與年齡分 | BB5: 總計 | BE5: 主管人員(主任) | BH5: 托育人員 | BK5: 教保人員 | BN5: 助理教保人員
B6: 總計 | C6: 公立 | D6: 私立 | E6: 公辦民營 | F6: 總計 | I6: 未滿1歲 | L6: 1-未滿2歲 | O6: 2-未滿3歲 | R6: 總計 | U6: 未滿1歲 | X6: 1-未滿2歲 | AA6: 2-未滿3歲 | AD6: 總計 | AG6: 未滿1歲 Under 1 Years | AJ6: 1-未滿2歲 1-Under 2 Years | AM6: 2-未滿3歲 2-Under 3 Years | AP6: 總計 | AS6: 未滿1歲 Under 1 Years | AV6: 1-未滿2歲 1-Under 2 Years | AY6: 2-未滿3歲 2-Under 3 Years
F7: 計 | G7: 男 | H7: 女 | I7: 計 | J7: 男 | K7: 女 | L7: 計 | M7: 男 | N7: 女 | O7: 計 | P7: 男 | Q7: 女 | R7: 計 | S7: 男 | T7: 女 | U7: 計 | V7: 男 | W7: 女 | X7: 計 | Y7: 男 | Z7: 女 | AA7: 計 | AB7: 男 | AC7: 女 | AD7: 計 | AE7: 男 | AF7: 女 | AG7: 計 | AH7: 男 | AI7: 女 | AJ7: 計 | AK7: 男 | AL7: 女 | AM7: 計 | AN7: 男 | AO7: 女 | AP7: 計 | AQ7: 男 | AR7: 女 | AS7: 計 | AT7: 男 | AU7: 女 | AV7: 計 | AW7: 男 | AX7: 女 | AY7: 計 | AZ7: 男 | BA7: 女 | BB7: 計 | BC7: 男 | BD7: 女 | BE7: 計 | BF7: 男 | BG7: 女 | BH7: 計 | BI7: 男 | BJ7: 女 | BK7: 計 | BL7: 男 | BM7: 女 | BN7: 計 | BO7: 男 | BP7: 女
A8: 總 計 | B8: 808 | C8: 0 | D8: 710 | E8: 98 | F8: 19750 | G8: 10271 | H8: 9479 | I8: 5529 | J8: 2837 | K8: 2692 | L8: 9788 | M8: 5121 | N8: 4667 | O8: 4433 | P8: 2313 | Q8: 2120 | R8: 19236 | S8: 9997 | T8: 9239 | U8: 5397 | V8: 2770 | W8: 2627 | X8: 9524 | Y8: 4979 | Z8: 4545 | AA8: 4315 | AB8: 2248 | AC8: 2067 | AD8: 214 | AE8: 119 | AF8: 95 | AG8: 58 | AH8: 31 | AI8: 27 | AJ8: 122 | AK8: 71 | AL8: 51 | AM8: 34 | AN8: 17 | AO8: 17 | AP8: 300 | AQ8: 155 | AR8: 145 | AS8: 74 | AT8: 36 | AU8: 38 | AV8: 142 | AW8: 71 | AX8: 71 | AY8: 84 | AZ8: 48 | BA8: 36 | BB8: 5725 | BC8: 92 | BD8: 5633 | BE8: 801 | BF8: 34 | BG8: 767 | BH8: 4821 | BI8: 56 | BJ8: 4765 | BK8: 85 | BL8: 2 | BM8: 83 | BN8: 18 | BO8: 0 | BP8: 18
A9: 新北市 | B9: 174 | C9: 0 | D9: 131 | E9: 43 | F9: 5454 | G9: 2839 | H9: 2615 | I9: 1282 | J9: 674 | K9: 608 | L9: 2492 | M9: 1299 | N9: 1193 | O9: 1680 | P9: 866 | Q9: 814 | R9: 5259 | S9: 2729 | T9: 2530 | U9: 1239 | V9: 649 | W9: 590 | X9: 2398 | Y9: 1250 | Z9: 1148 | AA9: 1622 | AB9: 830 | AC9: 792 | AD9: 79 | AE9: 47 | AF9: 32 | AG9: 22 | AH9: 14 | AI9: 8 | AJ9: 43 | AK9: 25 | AL9: 18 | AM9: 14 | AN9: 8 | AO9: 6 | AP9: 116 | AQ9: 63 | AR9: 53 | AS9: 21 | AT9: 11 | AU9: 10 | AV9: 51 | AW9: 24 | AX9: 27 | AY9: 44 | AZ9: 28 | BA9: 16 | BB9: 1454 | BC9: 17 | BD9: 1437 | BE9: 170 | BF9: 6 | BG9: 164 | BH9: 1241 | BI9: 11 | BJ9: 1230 | BK9: 33 | BL9: 0 | BM9: 33 | BN9: 10 | BO9: 0 | BP9: 10
A10: 臺北市 | B10: 132 | C10: 0 | D10: 114 | E10: 18 | F10: 2890 | G10: 1454 | H10: 1436 | I10: 850 | J10: 416 | K10: 434 | L10: 1456 | M10: 737 | N10: 719 | O10: 584 | P10: 301 | Q10: 283 | R10: 2787 | S10: 1400 | T10: 1387 | U10: 822 | V10: 406 | W10: 416 | X10: 1406 | Y10: 708 | Z10: 698 | AA10: 559 | AB10: 286 | AC10: 273 | AD10: 20 | AE10: 10 | AF10: 10 | AG10: 4 | AH10: 1 | AI10: 3 | AJ10: 13 | AK10: 6 | AL10: 7 | AM10: 3 | AN10: 3 | AO10: 0 | AP10: 83 | AQ10: 44 | AR10: 39 | AS10: 24 | AT10: 9 | AU10: 15 | AV10: 37 | AW10: 23 | AX10: 14 | AY10: 22 | AZ10: 12 | BA10: 10 | BB10: 894 | BC10: 9 | BD10: 885 | BE10: 132 | BF10: 3 | BG10: 129 | BH10: 762 | BI10: 6 | BJ10: 756 | BK10: 0 | BL10: 0 | BM10: 0 | BN10: 0 | BO10: 0 | BP10: 0
A11: 桃園市 | B11: 69 | C11: 0 | D11: 66 | E11: 3 | F11: 1638 | G11: 839 | H11: 799 | I11: 403 | J11: 187 | K11: 216 | L11: 958 | M11: 506 | N11: 452 | O11: 277 | P11: 146 | Q11: 131 | R11: 1627 | S11: 832 | T11: 795 | U11: 401 | V11: 185 | W11: 216 | X11: 950 | Y11: 501 | Z11: 449 | AA11: 276 | AB11: 146 | AC11: 130 | AD11: 11 | AE11: 7 | AF11: 4 | AG11: 2 | AH11: 2 | AI11: 0 | AJ11: 8 | AK11: 5 | AL11: 3 | AM11: 1 | AN11: 0 | AO11: 1 | AP11: 0 | AQ11: 0 | AR11: 0 | AS11: 0 | AT11: 0 | AU11: 0 | AV11: 0 | AW11: 0 | AX11: 0 | AY11: 0 | AZ11: 0 | BA11: 0 | BB11: 456 | BC11: 7 | BD11: 449 | BE11: 69 | BF11: 6 | BG11: 63 | BH11: 383 | BI11: 1 | BJ11: 382 | BK11: 4 | BL11: 0 | BM11: 4 | BN11: 0 | BO11: 0 | BP11: 0
A12: 臺中市 | B12: 119 | C12: 0 | D12: 116 | E12: 3 | F12: 2888 | G12: 1530 | H12: 1358 | I12: 918 | J12: 492 | K12: 426 | L12: 1418 | M12: 759 | N12: 659 | O12: 552 | P12: 279 | Q12: 273 | R12: 2831 | S12: 1501 | T12: 1330 | U12: 901 | V12: 485 | W12: 416 | X12: 1386 | Y12: 743 | Z12: 643 | AA12: 544 | AB12: 273 | AC12: 271 | AD12: 12 | AE12: 5 | AF12: 7 | AG12: 4 | AH12: 0 | AI12: 4 | AJ12: 8 | AK12: 5 | AL12: 3 | AM12: 0 | AN12: 0 | AO12: 0 | AP12: 45 | AQ12: 24 | AR12: 21 | AS12: 13 | AT12: 7 | AU12: 6 | AV12: 24 | AW12: 11 | AX12: 13 | AY12: 8 | AZ12: 6 | BA12: 2 | BB12: 838 | BC12: 19 | BD12: 819 | BE12: 119 | BF12: 5 | BG12: 114 | BH12: 719 | BI12: 14 | BJ12: 705 | BK12: 0 | BL12: 0 | BM12: 0 | BN12: 0 | BO12: 0 | BP12: 0
A13: 臺南市 | B13: 54 | C13: 0 | D13: 54 | E13: 0 | F13: 1096 | G13: 572 | H13: 524 | I13: 319 | J13: 158 | K13: 161 | L13: 587 | M13: 322 | N13: 265 | O13: 190 | P13: 92 | Q13: 98 | R13: 1087 | S13: 568 | T13: 519 | U13: 315 | V13: 156 | W13: 159 | X13: 584 | Y13: 321 | Z13: 263 | AA13: 188 | AB13: 91 | AC13: 97 | AD13: 0 | AE13: 0 | AF13: 0 | AG13: 0 | AH13: 0 | AI13: 0 | AJ13: 0 | AK13: 0 | AL13: 0 | AM13: 0 | AN13: 0 | AO13: 0 | AP13: 9 | AQ13: 4 | AR13: 5 | AS13: 4 | AT13: 2 | AU13: 2 | AV13: 3 | AW13: 1 | AX13: 2 | AY13: 2 | AZ13: 1 | BA13: 1 | BB13: 336 | BC13: 11 | BD13: 325 | BE13: 54 | BF13: 6 | BG13: 48 | BH13: 282 | BI13: 5 | BJ13: 277 | BK13: 0 | BL13: 0 | BM13: 0 | BN13: 0 | BO13: 0 | BP13: 0
A14: 高雄市 | B14: 64 | C14: 0 | D14: 47 | E14: 17 | F14: 1691 | G14: 886 | H14: 805 | I14: 482 | J14: 260 | K14: 222 | L14: 878 | M14: 444 | N14: 434 | O14: 331 | P14: 182 | Q14: 149 | R14: 1648 | S14: 863 | T14: 785 | U14: 474 | V14: 254 | W14: 220 | X14: 851 | Y14: 429 | Z14: 422 | AA14: 323 | AB14: 180 | AC14: 143 | AD14: 16 | AE14: 10 | AF14: 6 | AG14: 3 | AH14: 2 | AI14: 1 | AJ14: 10 | AK14: 7 | AL14: 3 | AM14: 3 | AN14: 1 | AO14: 2 | AP14: 27 | AQ14: 13 | AR14: 14 | AS14: 5 | AT14: 4 | AU14: 1 | AV14: 17 | AW14: 8 | AX14: 9 | AY14: 5 | AZ14: 1 | BA14: 4 | BB14: 467 | BC14: 2 | BD14: 465 | BE14: 64 | BF14: 1 | BG14: 63 | BH14: 394 | BI14: 1 | BJ14: 393 | BK14: 6 | BL14: 0 | BM14: 6 | BN14: 3 | BO14: 0 | BP14: 3
A15: 宜蘭縣 | B15: 14 | C15: 0 | D15: 7 | E15: 7 | F15: 311 | G15: 166 | H15: 145 | I15: 83 | J15: 41 | K15: 42 | L15: 141 | M15: 70 | N15: 71 | O15: 87 | P15: 55 | Q15: 32 | R15: 302 | S15: 161 | T15: 141 | U15: 81 | V15: 40 | W15: 41 | X15: 136 | Y15: 67 | Z15: 69 | AA15: 85 | AB15: 54 | AC15: 31 | AD15: 7 | AE15: 4 | AF15: 3 | AG15: 2 | AH15: 1 | AI15: 1 | AJ15: 4 | AK15: 2 | AL15: 2 | AM15: 1 | AN15: 1 | AO15: 0 | AP15: 2 | AQ15: 1 | AR15: 1 | AS15: 0 | AT15: 0 | AU15: 0 | AV15: 1 | AW15: 1 | AX15: 0 | AY15: 1 | AZ15: 0 | BA15: 1 | BB15: 83 | BC15: 2 | BD15: 81 | BE15: 14 | BF15: 1 | BG15: 13 | BH15: 69 | BI15: 1 | BJ15: 68 | BK15: 0 | BL15: 0 | BM15: 0 | BN15: 0 | BO15: 0 | BP15: 0
A16: 新竹縣 | B16: 41 | C16: 0 | D16: 41 | E16: 0 | F16: 1046 | G16: 566 | H16: 480 | I16: 387 | J16: 208 | K16: 179 | L16: 460 | M16: 242 | N16: 218 | O16: 199 | P16: 116 | Q16: 83 | R16: 1038 | S16: 563 | T16: 475 | U16: 385 | V16: 206 | W16: 179 | X16: 456 | Y16: 241 | Z16: 215 | AA16: 197 | AB16: 116 | AC16: 81 | AD16: 5 | AE16: 2 | AF16: 3 | AG16: 1 | AH16: 1 | AI16: 0 | AJ16: 4 | AK16: 1 | AL16: 3 | AM16: 0 | AN16: 0 | AO16: 0 | AP16: 3 | AQ16: 1 | AR16: 2 | AS16: 1 | AT16: 1 | AU16: 0 | AV16: 0 | AW16: 0 | AX16: 0 | AY16: 2 | AZ16: 0 | BA16: 2 | BB16: 346 | BC16: 3 | BD16: 343 | BE16: 41 | BF16: 1 | BG16: 40 | BH16: 269 | BI16: 1 | BJ16: 268 | BK16: 33 | BL16: 1 | BM16: 32 | BN16: 3 | BO16: 0 | BP16: 3
A17: 苗栗縣 | B17: 10 | C17: 0 | D17: 10 | E17: 0 | F17: 210 | G17: 115 | H17: 95 | I17: 73 | J17: 34 | K17: 39 | L17: 86 | M17: 50 | N17: 36 | O17: 51 | P17: 31 | Q17: 20 | R17: 210 | S17: 115 | T17: 95 | U17: 73 | V17: 34 | W17: 39 | X17: 86 | Y17: 50 | Z17: 36 | AA17: 51 | AB17: 31 | AC17: 20 | AD17: 0 | AE17: 0 | AF17: 0 | AG17: 0 | AH17: 0 | AI17: 0 | AJ17: 0 | AK17: 0 | AL17: 0 | AM17: 0 | AN17: 0 | AO17: 0 | AP17: 0 | AQ17: 0 | AR17: 0 | AS17: 0 | AT17: 0 | AU17: 0 | AV17: 0 | AW17: 0 | AX17: 0 | AY17: 0 | AZ17: 0 | BA17: 0 | BB17: 69 | BC17: 1 | BD17: 68 | BE17: 10 | BF17: 0 | BG17: 10 | BH17: 59 | BI17: 1 | BJ17: 58 | BK17: 0 | BL17: 0 | BM17: 0 | BN17: 0 | BO17: 0 | BP17: 0
A18: 彰化縣 | B18: 41 | C18: 0 | D18: 41 | E18: 0 | F18: 688 | G18: 345 | H18: 343 | I18: 210 | J18: 103 | K18: 107 | L18: 387 | M18: 203 | N18: 184 | O18: 91 | P18: 39 | Q18: 52 | R18: 671 | S18: 337 | T18: 334 | U18: 206 | V18: 101 | W18: 105 | X18: 374 | Y18: 197 | Z18: 177 | AA18: 91 | AB18: 39 | AC18: 52 | AD18: 10 | AE18: 6 | AF18: 4 | AG18: 2 | AH18: 0 | AI18: 2 | AJ18: 8 | AK18: 6 | AL18: 2 | AM18: 0 | AN18: 0 | AO18: 0 | AP18: 7 | AQ18: 2 | AR18: 5 | AS18: 2 | AT18: 2 | AU18: 0 | AV18: 5 | AW18: 0 | AX18: 5 | AY18: 0 | AZ18: 0 | BA18: 0 | BB18: 212 | BC18: 6 | BD18: 206 | BE18: 40 | BF18: 0 | BG18: 40 | BH18: 172 | BI18: 6 | BJ18: 166 | BK18: 0 | BL18: 0 | BM18: 0 | BN18: 0 | BO18: 0 | BP18: 0
A19: 南投縣 | B19: 4 | C19: 0 | D19: 4 | E19: 0 | F19: 51 | G19: 33 | H19: 18 | I19: 12 | J19: 8 | K19: 4 | L19: 37 | M19: 23 | N19: 14 | O19: 2 | P19: 2 | Q19: 0 | R19: 49 | S19: 31 | T19: 18 | U19: 11 | V19: 7 | W19: 4 | X19: 36 | Y19: 22 | Z19: 14 | AA19: 2 | AB19: 2 | AC19: 0 | AD19: 2 | AE19: 2 | AF19: 0 | AG19: 1 | AH19: 1 | AI19: 0 | AJ19: 1 | AK19: 1 | AL19: 0 | AM19: 0 | AN19: 0 | AO19: 0 | AP19: 0 | AQ19: 0 | AR19: 0 | AS19: 0 | AT19: 0 | AU19: 0 | AV19: 0 | AW19: 0 | AX19: 0 | AY19: 0 | AZ19: 0 | BA19: 0 | BB19: 20 | BC19: 1 | BD19: 19 | BE19: 4 | BF19: 0 | BG19: 4 | BH19: 16 | BI19: 1 | BJ19: 15 | BK19: 0 | BL19: 0 | BM19: 0 | BN19: 0 | BO19: 0 | BP19: 0
... A30: 連江縣 | B30: 1 | C30: 0 | D30: 0 | E30: 1 | F30: 9 | G30: 4 | H30: 5 | I30: 0 | J30: 0 | K30: 0 | L30: 5 | M30: 1 | N30: 4 | O30: 4 | P30: 3 | Q30: 1 | R30: 9 | S30: 4 | T30: 5 | U30: 0 | V30: 0 | W30: 0 | X30: 5 | Y30: 1 | Z30: 4 | AA30: 4 | AB30: 3 | AC30: 1 | AD30: 0 | AE30: 0 | AF30: 0 | AG30: 0 | AH30: 0 | AI30: 0 | AJ30: 0 | AK30: 0 | AL30: 0 | AM30: 0 | AN30: 0 | AO30: 0 | AP30: 0 | AQ30: 0 | AR30: 0 | AS30: 0 | AT30: 0 | AU30: 0 | AV30: 0 | AW30: 0 | AX30: 0 | AY30: 0 | AZ30: 0 | BA30: 0 | BB30: 3 | BC30: 0 | BD30: 3 | BE30: 1 | BF30: 0 | BG30: 1 | BH30: 2 | BI30: 0 | BJ30: 2 | BK30: 0 | BL30: 0 | BM30: 0 | BN30: 0 | BO30: 0 | BP30: 0

Sheet 104
A1: 1.5 托嬰中心概況
A2: 104年底, End of 2015
B3: 一、所數與收托人數 | R3: 1.一般身分 | AD3: 2.原住民身分 | AP3: 二、外籍配偶子女人數 | BB3: 三、專業人員人數
A5: 區域別 | B5: 所數 | F5: 人數-按性別與年齡分 | R5: 人數-按性別與年齡分 | AD5: 人數-按性別與年齡分 | AP5: 按性別與年齡分 | BB5: 總計 | BE5: 主管人員(主任) | BH5: 托育人員 | BK5: 教保人員 | BN5: 助理教保人員
B6: 總計 | C6: 公立 | D6: 私立 | E6: 公辦民營 | F6: 總計 | I6: 未滿1歲 | L6: 1-未滿2歲 | O6: 2-未滿3歲 | R6: 總計 | U6: 未滿1歲 | X6: 1-未滿2歲 | AA6: 2-未滿3歲 | AD6: 總計 | AG6: 未滿1歲 Under 1 Years | AJ6: 1-未滿2歲 1-Under 2 Years | AM6: 2-未滿3歲 2-Under 3 Years | AP6: 總計 | AS6: 未滿1歲 Under 1 Years | AV6: 1-未滿2歲 1-Under 2 Years | AY6: 2-未滿3歲 2-Under 3 Years
F7: 計 | G7: 男 | H7: 女 | I7: 計 | J7: 男 | K7: 女 | L7: 計 | M7: 男 | N7: 女 | O7: 計 | P7: 男 | Q7: 女 | R7: 計 | S7: 男 | T7: 女 | U7: 計 | V7: 男 | W7: 女 | X7: 計 | Y7: 男 | Z7: 女 | AA7: 計 | AB7: 男 | AC7: 女 | AD7: 計 | AE7: 男 | AF7: 女 | AG7: 計 | AH7: 男 | AI7: 女 | AJ7: 計 | AK7: 男 | AL7: 女 | AM7: 計 | AN7: 男 | AO7: 女 | AP7: 計 | AQ7: 男 | AR7: 女 | AS7: 計 | AT7: 男 | AU7: 女 | AV7: 計 | AW7: 男 | AX7: 女 | AY7: 計 | AZ7: 男 | BA7: 女 | BB7: 計 | BC7: 男 | BD7: 女 | BE7: 計 | BF7: 男 | BG7: 女 | BH7: 計 | BI7: 男 | BJ7: 女 | BK7: 計 | BL7: 男 | BM7: 女 | BN7: 計 | BO7: 男 | BP7: 女
A8: 總 計 | B8: 735 | C8: 0 | D8: 643 | E8: 92 | F8: 17246 | G8: 8982 | H8: 8264 | I8: 4985 | J8: 2563 | K8: 2422 | L8: 8515 | M8: 4466 | N8: 4049 | O8: 3746 | P8: 1953 | Q8: 1793 | R8: 16749 | S8: 8719 | T8: 8030 | U8: 4875 | V8: 2511 | W8: 2364 | X8: 8232 | Y8: 4309 | Z8: 3923 | AA8: 3642 | AB8: 1899 | AC8: 1743 | AD8: 213 | AE8: 111 | AF8: 102 | AG8: 43 | AH8: 19 | AI8: 24 | AJ8: 125 | AK8: 68 | AL8: 57 | AM8: 45 | AN8: 24 | AO8: 21 | AP8: 284 | AQ8: 152 | AR8: 132 | AS8: 67 | AT8: 33 | AU8: 34 | AV8: 158 | AW8: 89 | AX8: 69 | AY8: 59 | AZ8: 30 | BA8: 29 | BB8: 5033 | BC8: 71 | BD8: 4962 | BE8: 728 | BF8: 23 | BG8: 705 | BH8: 4210 | BI8: 46 | BJ8: 4164 | BK8: 73 | BL8: 2 | BM8: 71 | BN8: 22 | BO8: 0 | BP8: 22
A9: 新北市 | B9: 160 | C9: 0 | D9: 120 | E9: 40 | F9: 4801 | G9: 2466 | H9: 2335 | I9: 1250 | J9: 624 | K9: 626 | L9: 2250 | M9: 1158 | N9: 1092 | O9: 1301 | P9: 684 | Q9: 617 | R9: 4644 | S9: 2384 | T9: 2260 | U9: 1212 | V9: 605 | W9: 607 | X9: 2174 | Y9: 1116 | Z9: 1058 | AA9: 1258 | AB9: 663 | AC9: 595 | AD9: 63 | AE9: 33 | AF9: 30 | AG9: 13 | AH9: 7 | AI9: 6 | AJ9: 31 | AK9: 17 | AL9: 14 | AM9: 19 | AN9: 9 | AO9: 10 | AP9: 94 | AQ9: 49 | AR9: 45 | AS9: 25 | AT9: 12 | AU9: 13 | AV9: 45 | AW9: 25 | AX9: 20 | AY9: 24 | AZ9: 12 | BA9: 12 | BB9: 1313 | BC9: 17 | BD9: 1296 | BE9: 159 | BF9: 4 | BG9: 155 | BH9: 1110 | BI9: 13 | BJ9: 1097 | BK9: 36 | BL9: 0 | BM9: 36 | BN9: 8 | BO9: 0 | BP9: 8
A10: 臺北市 | B10: 117 | C10: 0 | D10: 99 | E10: 18 | F10: 2646 | G10: 1376 | H10: 1270 | I10: 760 | J10: 386 | K10: 374 | L10: 1316 | M10: 695 | N10: 621 | O10: 570 | P10: 295 | Q10: 275 | R10: 2542 | S10: 1311 | T10: 1231 | U10: 739 | V10: 374 | W10: 365 | X10: 1246 | Y10: 648 | Z10: 598 | AA10: 557 | AB10: 289 | AC10: 268 | AD10: 24 | AE10: 15 | AF10: 9 | AG10: 4 | AH10: 1 | AI10: 3 | AJ10: 19 | AK10: 13 | AL10: 6 | AM10: 1 | AN10: 1 | AO10: 0 | AP10: 80 | AQ10: 50 | AR10: 30 | AS10: 17 | AT10: 11 | AU10: 6 | AV10: 51 | AW10: 34 | AX10: 17 | AY10: 12 | AZ10: 5 | BA10: 7 | BB10: 785 | BC10: 4 | BD10: 781 | BE10: 117 | BF10: 2 | BG10: 115 | BH10: 668 | BI10: 2 | BJ10: 666 | BK10: 0 | BL10: 0 | BM10: 0 | BN10: 0 | BO10: 0 | BP10: 0
A11: 桃園市 | B11: 63 | C11: 0 | D11: 60 | E11: 3 | F11: 1358 | G11: 709 | H11: 649 | I11: 331 | J11: 170 | K11: 161 | L11: 689 | M11: 361 | N11: 328 | O11: 338 | P11: 178 | Q11: 160 | R11: 1314 | S11: 687 | T11: 627 | U11: 322 | V11: 168 | W11: 154 | X11: 669 | Y11: 350 | Z11: 319 | AA11: 323 | AB11: 169 | AC11: 154 | AD11: 34 | AE11: 16 | AF11: 18 | AG11: 8 | AH11: 2 | AI11: 6 | AJ11: 17 | AK11: 9 | AL11: 8 | AM11: 9 | AN11: 5 | AO11: 4 | AP11: 10 | AQ11: 6 | AR11: 4 | AS11: 1 | AT11: 0 | AU11: 1 | AV11: 3 | AW11: 2 | AX11: 1 | AY11: 6 | AZ11: 4 | BA11: 2 | BB11: 408 | BC11: 13 | BD11: 395 | BE11: 63 | BF11: 5 | BG11: 58 | BH11: 329 | BI11: 6 | BJ11: 323 | BK11: 14 | BL11: 2 | BM11: 12 | BN11: 2 | BO11: 0 | BP11: 2
A12: 臺中市 | B12: 99 | C12: 0 | D12: 96 | E12: 3 | F12: 2348 | G12: 1240 | H12: 1108 | I12: 784 | J12: 419 | K12: 365 | L12: 1166 | M12: 610 | N12: 556 | O12: 398 | P12: 211 | Q12: 187 | R12: 2315 | S12: 1224 | T12: 1091 | U12: 773 | V12: 413 | W12: 360 | X12: 1145 | Y12: 601 | Z12: 544 | AA12: 397 | AB12: 210 | AC12: 187 | AD12: 5 | AE12: 3 | AF12: 2 | AG12: 1 | AH12: 1 | AI12: 0 | AJ12: 3 | AK12: 1 | AL12: 2 | AM12: 1 | AN12: 1 | AO12: 0 | AP12: 28 | AQ12: 13 | AR12: 15 | AS12: 10 | AT12: 5 | AU12: 5 | AV12: 18 | AW12: 8 | AX12: 10 | AY12: 0 | AZ12: 0 | BA12: 0 | BB12: 669 | BC12: 12 | BD12: 657 | BE12: 98 | BF12: 3 | BG12: 95 | BH12: 571 | BI12: 9 | BJ12: 562 | BK12: 0 | BL12: 0 | BM12: 0 | BN12: 0 | BO12: 0 | BP12: 0
A13: 臺南市 | B13: 53 | C13: 0 | D13: 53 | E13: 0 | F13: 978 | G13: 516 | H13: 462 | I13: 287 | J13: 152 | K13: 135 | L13: 512 | M13: 274 | N13: 238 | O13: 179 | P13: 90 | Q13: 89 | R13: 966 | S13: 511 | T13: 455 | U13: 283 | V13: 150 | W13: 133 | X13: 507 | Y13: 272 | Z13: 235 | AA13: 176 | AB13: 89 | AC13: 87 | AD13: 1 | AE13: 0 | AF13: 1 | AG13: 0 | AH13: 0 | AI13: 0 | AJ13: 1 | AK13: 0 | AL13: 1 | AM13: 0 | AN13: 0 | AO13: 0 | AP13: 11 | AQ13: 5 | AR13: 6 | AS13: 4 | AT13: 2 | AU13: 2 | AV13: 4 | AW13: 2 | AX13: 2 | AY13: 3 | AZ13: 1 | BA13: 2 | BB13: 304 | BC13: 6 | BD13: 298 | BE13: 53 | BF13: 4 | BG13: 49 | BH13: 251 | BI13: 2 | BJ13: 249 | BK13: 0 | BL13: 0 | BM13: 0 | BN13: 0 | BO13: 0 | BP13: 0
A14: 高雄市 | B14: 56 | C14: 0 | D14: 41 | E14: 15 | F14: 1368 | G14: 711 | H14: 657 | I14: 373 | J14: 199 | K14: 174 | L14: 727 | M14: 380 | N14: 347 | O14: 268 | P14: 132 | Q14: 136 | R14: 1329 | S14: 692 | T14: 637 | U14: 366 | V14: 196 | W14: 170 | X14: 702 | Y14: 367 | Z14: 335 | AA14: 261 | AB14: 129 | AC14: 132 | AD14: 12 | AE14: 6 | AF14: 6 | AG14: 3 | AH14: 2 | AI14: 1 | AJ14: 7 | AK14: 4 | AL14: 3 | AM14: 2 | AN14: 0 | AO14: 2 | AP14: 27 | AQ14: 13 | AR14: 14 | AS14: 4 | AT14: 1 | AU14: 3 | AV14: 18 | AW14: 9 | AX14: 9 | AY14: 5 | AZ14: 3 | BA14: 2 | BB14: 393 | BC14: 1 | BD14: 392 | BE14: 56 | BF14: 1 | BG14: 55 | BH14: 328 | BI14: 0 | BJ14: 328 | BK14: 6 | BL14: 0 | BM14: 6 | BN14: 3 | BO14: 0 | BP14: 3
A15: 宜蘭縣 | B15: 13 | C15: 0 | D15: 7 | E15: 6 | F15: 265 | G15: 146 | H15: 119 | I15: 61 | J15: 31 | K15: 30 | L15: 128 | M15: 73 | N15: 55 | O15: 76 | P15: 42 | Q15: 34 | R15: 257 | S15: 142 | T15: 115 | U15: 61 | V15: 31 | W15: 30 | X15: 124 | Y15: 71 | Z15: 53 | AA15: 72 | AB15: 40 | AC15: 32 | AD15: 5 | AE15: 1 | AF15: 4 | AG15: 0 | AH15: 0 | AI15: 0 | AJ15: 3 | AK15: 1 | AL15: 2 | AM15: 2 | AN15: 0 | AO15: 2 | AP15: 3 | AQ15: 3 | AR15: 0 | AS15: 0 | AT15: 0 | AU15: 0 | AV15: 1 | AW15: 1 | AX15: 0 | AY15: 2 | AZ15: 2 | BA15: 0 | BB15: 74 | BC15: 2 | BD15: 72 | BE15: 13 | BF15: 1 | BG15: 12 | BH15: 61 | BI15: 1 | BJ15: 60 | BK15: 0 | BL15: 0 | BM15: 0 | BN15: 0 | BO15: 0 | BP15: 0
A16: 新竹縣 | B16: 40 | C16: 0 | D16: 40 | E16: 0 | F16: 1015 | G16: 514 | H16: 501 | I16: 351 | J16: 184 | K16: 167 | L16: 480 | M16: 243 | N16: 237 | O16: 184 | P16: 87 | Q16: 97 | R16: 1001 | S16: 508 | T16: 493 | U16: 349 | V16: 184 | W16: 165 | X16: 471 | Y16: 239 | Z16: 232 | AA16: 181 | AB16: 85 | AC16: 96 | AD16: 9 | AE16: 5 | AF16: 4 | AG16: 1 | AH16: 0 | AI16: 1 | AJ16: 6 | AK16: 4 | AL16: 2 | AM16: 2 | AN16: 1 | AO16: 1 | AP16: 5 | AQ16: 1 | AR16: 4 | AS16: 1 | AT16: 0 | AU16: 1 | AV16: 3 | AW16: 0 | AX16: 3 | AY16: 1 | AZ16: 1 | BA16: 0 | BB16: 323 | BC16: 1 | BD16: 322 | BE16: 35 | BF16: 0 | BG16: 35 | BH16: 288 | BI16: 1 | BJ16: 287 | BK16: 0 | BL16: 0 | BM16: 0 | BN16: 0 | BO16: 0 | BP16: 0
A17: 苗栗縣 | B17: 10 | C17: 0 | D17: 10 | E17: 0 | F17: 168 | G17: 84 | H17: 84 | I17: 62 | J17: 30 | K17: 32 | L17: 81 | M17: 41 | N17: 40 | O17: 25 | P17: 13 | Q17: 12 | R17: 167 | S17: 84 | T17: 83 | U17: 62 | V17: 30 | W17: 32 | X17: 80 | Y17: 41 | Z17: 39 | AA17: 25 | AB17: 13 | AC17: 12 | AD17: 1 | AE17: 0 | AF17: 1 | AG17: 0 | AH17: 0 | AI17: 0 | AJ17: 1 | AK17: 0 | AL17: 1 | AM17: 0 | AN17: 0 | AO17: 0 | AP17: 0 | AQ17: 0 | AR17: 0 | AS17: 0 | AT17: 0 | AU17: 0 | AV17: 0 | AW17: 0 | AX17: 0 | AY17: 0 | AZ17: 0 | BA17: 0 | BB17: 59 | BC17: 2 | BD17: 57 | BE17: 10 | BF17: 1 | BG17: 9 | BH17: 49 | BI17: 1 | BJ17: 48 | BK17: 0 | BL17: 0 | BM17: 0 | BN17: 0 | BO17: 0 | BP17: 0
A18: 彰化縣 | B18: 40 | C18: 0 | D18: 40 | E18: 0 | F18: 625 | G18: 341 | H18: 284 | I18: 208 | J18: 107 | K18: 101 | L18: 331 | M18: 184 | N18: 147 | O18: 86 | P18: 50 | Q18: 36 | R18: 607 | S18: 332 | T18: 275 | U18: 204 | V18: 106 | W18: 98 | X18: 319 | Y18: 177 | Z18: 142 | AA18: 84 | AB18: 49 | AC18: 35 | AD18: 5 | AE18: 2 | AF18: 3 | AG18: 3 | AH18: 1 | AI18: 2 | AJ18: 2 | AK18: 1 | AL18: 1 | AM18: 0 | AN18: 0 | AO18: 0 | AP18: 13 | AQ18: 7 | AR18: 6 | AS18: 1 | AT18: 0 | AU18: 1 | AV18: 10 | AW18: 6 | AX18: 4 | AY18: 2 | AZ18: 1 | BA18: 1 | BB18: 196 | BC18: 3 | BD18: 193 | BE18: 40 | BF18: 0 | BG18: 40 | BH18: 156 | BI18: 3 | BJ18: 153 | BK18: 0 | BL18: 0 | BM18: 0 | BN18: 0 | BO18: 0 | BP18: 0
A19: 南投縣 | B19: 3 | C19: 0 | D19: 3 | E19: 0 | F19: 41 | G19: 20 | H19: 21 | I19: 13 | J19: 7 | K19: 6 | L19: 21 | M19: 9 | N19: 12 | O19: 7 | P19: 4 | Q19: 3 | R19: 41 | S19: 20 | T19: 21 | U19: 13 | V19: 7 | W19: 6 | X19: 21 | Y19: 9 | Z19: 12 | AA19: 7 | AB19: 4 | AC19: 3 | AD19: 0 | AE19: 0 | AF19: 0 | AG19: 0 | AH19: 0 | AI19: 0 | AJ19: 0 | AK19: 0 | AL19: 0 | AM19: 0 | AN19: 0 | AO19: 0 | AP19: 0 | AQ19: 0 | AR19: 0 | AS19: 0 | AT19: 0 | AU19: 0 | AV19: 0 | AW19: 0 | AX19: 0 | AY19: 0 | AZ19: 0 | BA19: 0 | BB19: 14 | BC19: 1 | BD19: 13 | BE19: 3 | BF19: 0 | BG19: 3 | BH19: 11 | BI19: 1 | BJ19: 10 | BK19: 0 | BL19: 0 | BM19: 0 | BN19: 0 | BO19: 0 | BP19: 0
... A30: 連江縣 | B30: 1 | C30: 0 | D30: 0 | E30: 1 | F30: 2 | G30: 1 | H30: 1 | I30: 0 | J30: 0 | K30: 0 | L30: 2 | M30: 1 | N30: 1 | O30: 0 | P30: 0 | Q30: 0 | R30: 2 | S30: 1 | T30: 1 | U30: 0 | V30: 0 | W30: 0 | X30: 2 | Y30: 1 | Z30: 1 | AA30: 0 | AB30: 0 | AC30: 0 | AD30: 0 | AE30: 0 | AF30: 0 | AG30: 0 | AH30: 0 | AI30: 0 | AJ30: 0 | AK30: 0 | AL30: 0 | AM30: 0 | AN30: 0 | AO30: 0 | AP30: 0 | AQ30: 0 | AR30: 0 | AS30: 0 | AT30: 0 | AU30: 0 | AV30: 0 | AW30: 0 | AX30: 0 | AY30: 0 | AZ30: 0 | BA30: 0 | BB30: 2 | BC30: 0 | BD30: 2 | BE30: 1 | BF30: 0 | BG30: 1 | BH30: 1 | BI30: 0 | BJ30: 1 | BK30: 0 | BL30: 0 | BM30: 0 | BN30: 0 | BO30: 0 | BP30: 0

Sheet 103
A1: 1.5 托嬰中心概況
A2: 103年底, End of 2014
B3: 一、所數與收托人數 | R3: 1.一般身分 | AD3: 2.原住民身分 | AP3: 二、外籍配偶子女人數 | BB3: 三、專業人員人數
A5: 區域別 | B5: 所數 | F5: 人數-按性別與年齡分 | R5: 人數-按性別與年齡分 | AD5: 人數-按性別與年齡分 | AP5: 按性別與年齡分 | BB5: 總計 | BE5: 主管人員(主任) | BH5: 托育人員 | BK5: 教保人員 | BN5: 助理教保人員
B6: 總計 | C6: 公立 | D6: 私立 | E6: 公辦民營 | F6: 總計 | I6: 未滿1歲 | L6: 1-未滿2歲 | O6: 2-未滿3歲 | R6: 總計 | U6: 未滿1歲 | X6: 1-未滿2歲 | AA6: 2-未滿3歲 | AD6: 總計 | AG6: 未滿1歲 Under 1 Years | AJ6: 1-未滿2歲 1-Under 2 Years | AM6: 2-未滿3歲 2-Under 3 Years | AP6: 總計 | AS6: 未滿1歲 Under 1 Years | AV6: 1-未滿2歲 1-Under 2 Years | AY6: 2-未滿3歲 2-Under 3 Years
F7: 計 | G7: 男 | H7: 女 | I7: 計 | J7: 男 | K7: 女 | L7: 計 | M7: 男 | N7: 女 | O7: 計 | P7: 男 | Q7: 女 | R7: 計 | S7: 男 | T7: 女 | U7: 計 | V7: 男 | W7: 女 | X7: 計 | Y7: 男 | Z7: 女 | AA7: 計 | AB7: 男 | AC7: 女 | AD7: 計 | AE7: 男 | AF7: 女 | AG7: 計 | AH7: 男 | AI7: 女 | AJ7: 計 | AK7: 男 | AL7: 女 | AM7: 計 | AN7: 男 | AO7: 女 | AP7: 計 | AQ7: 男 | AR7: 女 | AS7: 計 | AT7: 男 | AU7: 女 | AV7: 計 | AW7: 男 | AX7: 女 | AY7: 計 | AZ7: 男 | BA7: 女 | BB7: 計 | BC7: 男 | BD7: 女 | BE7: 計 | BF7: 男 | BG7: 女 | BH7: 計 | BI7: 男 | BJ7: 女 | BK7: 計 | BL7: 男 | BM7: 女 | BN7: 計 | BO7: 男 | BP7: 女
A8: 總 計 | B8: 659 | C8: 0 | D8: 587 | E8: 72 | F8: 14845 | G8: 7717 | H8: 7128 | I8: 4889 | J8: 2509 | K8: 2380 | L8: 7117 | M8: 3702 | N8: 3415 | O8: 2839 | P8: 1506 | Q8: 1333 | R8: 14558 | S8: 7574 | T8: 6984 | U8: 4795 | V8: 2461 | W8: 2334 | X8: 6960 | Y8: 3626 | Z8: 3334 | AA8: 2803 | AB8: 1487 | AC8: 1316 | AD8: 128 | AE8: 68 | AF8: 60 | AG8: 42 | AH8: 22 | AI8: 20 | AJ8: 70 | AK8: 37 | AL8: 33 | AM8: 16 | AN8: 9 | AO8: 7 | AP8: 159 | AQ8: 75 | AR8: 84 | AS8: 52 | AT8: 26 | AU8: 26 | AV8: 87 | AW8: 39 | AX8: 48 | AY8: 20 | AZ8: 10 | BA8: 10 | BB8: 4366 | BC8: 83 | BD8: 4283 | BE8: 656 | BF8: 29 | BG8: 627 | BH8: 3540 | BI8: 54 | BJ8: 3486 | BK8: 141 | BL8: 0 | BM8: 141 | BN8: 29 | BO8: 0 | BP8: 29
A9: 新北市 | B9: 138 | C9: 0 | D9: 104 | E9: 34 | F9: 4190 | G9: 2123 | H9: 2067 | I9: 1207 | J9: 632 | K9: 575 | L9: 1907 | M9: 956 | N9: 951 | O9: 1076 | P9: 535 | Q9: 541 | R9: 4072 | S9: 2073 | T9: 1999 | U9: 1178 | V9: 618 | W9: 560 | X9: 1837 | Y9: 929 | Z9: 908 | AA9: 1057 | AB9: 526 | AC9: 531 | AD9: 48 | AE9: 23 | AF9: 25 | AG9: 12 | AH9: 7 | AI9: 5 | AJ9: 31 | AK9: 13 | AL9: 18 | AM9: 5 | AN9: 3 | AO9: 2 | AP9: 70 | AQ9: 27 | AR9: 43 | AS9: 17 | AT9: 7 | AU9: 10 | AV9: 39 | AW9: 14 | AX9: 25 | AY9: 14 | AZ9: 6 | BA9: 8 | BB9: 1121 | BC9: 16 | BD9: 1105 | BE9: 138 | BF9: 8 | BG9: 130 | BH9: 899 | BI9: 8 | BJ9: 891 | BK9: 71 | BL9: 0 | BM9: 71 | BN9: 13 | BO9: 0 | BP9: 13
A10: 臺北市 | B10: 106 | C10: 0 | D10: 93 | E10: 13 | F10: 2169 | G10: 1149 | H10: 1020 | I10: 657 | J10: 327 | K10: 330 | L10: 1053 | M10: 560 | N10: 493 | O10: 459 | P10: 262 | Q10: 197 | R10: 2136 | S10: 1129 | T10: 1007 | U10: 635 | V10: 313 | W10: 322 | X10: 1043 | Y10: 555 | Z10: 488 | AA10: 458 | AB10: 261 | AC10: 197 | AD10: 7 | AE10: 5 | AF10: 2 | AG10: 4 | AH10: 3 | AI10: 1 | AJ10: 3 | AK10: 2 | AL10: 1 | AM10: 0 | AN10: 0 | AO10: 0 | AP10: 26 | AQ10: 15 | AR10: 11 | AS10: 18 | AT10: 11 | AU10: 7 | AV10: 7 | AW10: 3 | AX10: 4 | AY10: 1 | AZ10: 1 | BA10: 0 | BB10: 663 | BC10: 2 | BD10: 661 | BE10: 106 | BF10: 2 | BG10: 104 | BH10: 557 | BI10: 0 | BJ10: 557 | BK10: 0 | BL10: 0 | BM10: 0 | BN10: 0 | BO10: 0 | BP10: 0
A11: 桃園市 | B11: 92 | C11: 0 | D11: 88 | E11: 4 | F11: 2031 | G11: 1087 | H11: 944 | I11: 820 | J11: 419 | K11: 401 | L11: 932 | M11: 504 | N11: 428 | O11: 279 | P11: 164 | Q11: 115 | R11: 2000 | S11: 1069 | T11: 931 | U11: 804 | V11: 412 | W11: 392 | X11: 917 | Y11: 493 | Z11: 424 | AA11: 279 | AB11: 164 | AC11: 115 | AD11: 9 | AE11: 5 | AF11: 4 | AG11: 6 | AH11: 2 | AI11: 4 | AJ11: 3 | AK11: 3 | AL11: 0 | AM11: 0 | AN11: 0 | AO11: 0 | AP11: 22 | AQ11: 13 | AR11: 9 | AS11: 10 | AT11: 5 | AU11: 5 | AV11: 12 | AW11: 8 | AX11: 4 | AY11: 0 | AZ11: 0 | BA11: 0 | BB11: 590 | BC11: 14 | BD11: 576 | BE11: 90 | BF11: 1 | BG11: 89 | BH11: 500 | BI11: 13 | BJ11: 487 | BK11: 0 | BL11: 0 | BM11: 0 | BN11: 0 | BO11: 0 | BP11: 0
A12: 臺中市 | B12: 51 | C12: 0 | D12: 51 | E12: 0 | F12: 943 | G12: 478 | H12: 465 | I12: 287 | J12: 150 | K12: 137 | L12: 466 | M12: 234 | N12: 232 | O12: 190 | P12: 94 | Q12: 96 | R12: 935 | S12: 475 | T12: 460 | U12: 285 | V12: 149 | W12: 136 | X12: 461 | Y12: 233 | Z12: 228 | AA12: 189 | AB12: 93 | AC12: 96 | AD12: 0 | AE12: 0 | AF12: 0 | AG12: 0 | AH12: 0 | AI12: 0 | AJ12: 0 | AK12: 0 | AL12: 0 | AM12: 0 | AN12: 0 | AO12: 0 | AP12: 8 | AQ12: 3 | AR12: 5 | AS12: 2 | AT12: 1 | AU12: 1 | AV12: 5 | AW12: 1 | AX12: 4 | AY12: 1 | AZ12: 1 | BA12: 0 | BB12: 283 | BC12: 7 | BD12: 276 | BE12: 51 | BF12: 5 | BG12: 46 | BH12: 231 | BI12: 2 | BJ12: 229 | BK12: 0 | BL12: 0 | BM12: 0 | BN12: 1 | BO12: 0 | BP12: 1
A13: 臺南市 | B13: 49 | C13: 0 | D13: 37 | E13: 12 | F13: 1103 | G13: 573 | H13: 530 | I13: 361 | J13: 193 | K13: 168 | L13: 594 | M13: 301 | N13: 293 | O13: 148 | P13: 79 | Q13: 69 | R13: 1094 | S13: 567 | T13: 527 | U13: 358 | V13: 191 | W13: 167 | X13: 589 | Y13: 297 | Z13: 292 | AA13: 147 | AB13: 79 | AC13: 68 | AD13: 1 | AE13: 1 | AF13: 0 | AG13: 1 | AH13: 1 | AI13: 0 | AJ13: 0 | AK13: 0 | AL13: 0 | AM13: 0 | AN13: 0 | AO13: 0 | AP13: 8 | AQ13: 5 | AR13: 3 | AS13: 2 | AT13: 1 | AU13: 1 | AV13: 5 | AW13: 4 | AX13: 1 | AY13: 1 | AZ13: 0 | BA13: 1 | BB13: 349 | BC13: 3 | BD13: 346 | BE13: 49 | BF13: 0 | BG13: 49 | BH13: 285 | BI13: 3 | BJ13: 282 | BK13: 10 | BL13: 0 | BM13: 10 | BN13: 5 | BO13: 0 | BP13: 5
A14: 高雄市 | B14: 12 | C14: 0 | D14: 7 | E14: 5 | F14: 215 | G14: 112 | H14: 103 | I14: 64 | J14: 34 | K14: 30 | L14: 97 | M14: 51 | N14: 46 | O14: 54 | P14: 27 | Q14: 27 | R14: 207 | S14: 106 | T14: 101 | U14: 61 | V14: 31 | W14: 30 | X14: 92 | Y14: 48 | Z14: 44 | AA14: 54 | AB14: 27 | AC14: 27 | AD14: 3 | AE14: 2 | AF14: 1 | AG14: 2 | AH14: 2 | AI14: 0 | AJ14: 1 | AK14: 0 | AL14: 1 | AM14: 0 | AN14: 0 | AO14: 0 | AP14: 5 | AQ14: 4 | AR14: 1 | AS14: 1 | AT14: 1 | AU14: 0 | AV14: 4 | AW14: 3 | AX14: 1 | AY14: 0 | AZ14: 0 | BA14: 0 | BB14: 62 | BC14: 2 | BD14: 60 | BE14: 12 | BF14: 1 | BG14: 11 | BH14: 50 | BI14: 1 | BJ14: 49 | BK14: 0 | BL14: 0 | BM14: 0 | BN14: 0 | BO14: 0 | BP14: 0
A15: 宜蘭縣 | B15: 54 | C15: 0 | D15: 52 | E15: 2 | F15: 1085 | G15: 576 | H15: 509 | I15: 409 | J15: 199 | K15: 210 | L15: 539 | M15: 298 | N15: 241 | O15: 137 | P15: 79 | Q15: 58 | R15: 1064 | S15: 564 | T15: 500 | U15: 403 | V15: 197 | W15: 206 | X15: 528 | Y15: 290 | Z15: 238 | AA15: 133 | AB15: 77 | AC15: 56 | AD15: 21 | AE15: 12 | AF15: 9 | AG15: 6 | AH15: 2 | AI15: 4 | AJ15: 11 | AK15: 8 | AL15: 3 | AM15: 4 | AN15: 2 | AO15: 2 | AP15: 0 | AQ15: 0 | AR15: 0 | AS15: 0 | AT15: 0 | AU15: 0 | AV15: 0 | AW15: 0 | AX15: 0 | AY15: 0 | AZ15: 0 | BA15: 0 | BB15: 331 | BC15: 14 | BD15: 317 | BE15: 54 | BF15: 4 | BG15: 50 | BH15: 241 | BI15: 10 | BJ15: 231 | BK15: 36 | BL15: 0 | BM15: 36 | BN15: 0 | BO15: 0 | BP15: 0
A16: 新竹縣 | B16: 35 | C16: 0 | D16: 35 | E16: 0 | F16: 938 | G16: 488 | H16: 450 | I16: 348 | J16: 176 | K16: 172 | L16: 463 | M16: 249 | N16: 214 | O16: 127 | P16: 63 | Q16: 64 | R16: 928 | S16: 482 | T16: 446 | U16: 346 | V16: 175 | W16: 171 | X16: 455 | Y16: 244 | Z16: 211 | AA16: 127 | AB16: 63 | AC16: 64 | AD16: 2 | AE16: 2 | AF16: 0 | AG16: 1 | AH16: 1 | AI16: 0 | AJ16: 1 | AK16: 1 | AL16: 0 | AM16: 0 | AN16: 0 | AO16: 0 | AP16: 8 | AQ16: 4 | AR16: 4 | AS16: 1 | AT16: 0 | AU16: 1 | AV16: 7 | AW16: 4 | AX16: 3 | AY16: 0 | AZ16: 0 | BA16: 0 | BB16: 292 | BC16: 2 | BD16: 290 | BE16: 33 | BF16: 1 | BG16: 32 | BH16: 259 | BI16: 1 | BJ16: 258 | BK16: 0 | BL16: 0 | BM16: 0 | BN16: 0 | BO16: 0 | BP16: 0
A17: 苗栗縣 | B17: 5 | C17: 0 | D17: 5 | E17: 0 | F17: 117 | G17: 64 | H17: 53 | I17: 45 | J17: 28 | K17: 17 | L17: 58 | M17: 27 | N17: 31 | O17: 14 | P17: 9 | Q17: 5 | R17: 116 | S17: 64 | T17: 52 | U17: 45 | V17: 28 | W17: 17 | X17: 57 | Y17: 27 | Z17: 30 | AA17: 14 | AB17: 9 | AC17: 5 | AD17: 0 | AE17: 0 | AF17: 0 | AG17: 0 | AH17: 0 | AI17: 0 | AJ17: 0 | AK17: 0 | AL17: 0 | AM17: 0 | AN17: 0 | AO17: 0 | AP17: 1 | AQ17: 0 | AR17: 1 | AS17: 0 | AT17: 0 | AU17: 0 | AV17: 1 | AW17: 0 | AX17: 1 | AY17: 0 | AZ17: 0 | BA17: 0 | BB17: 35 | BC17: 0 | BD17: 35 | BE17: 5 | BF17: 0 | BG17: 5 | BH17: 30 | BI17: 0 | BJ17: 30 | BK17: 0 | BL17: 0 | BM17: 0 | BN17: 0 | BO17: 0 | BP17: 0
A18: 彰化縣 | B18: 40 | C18: 0 | D18: 40 | E18: 0 | F18: 568 | G18: 318 | H18: 250 | I18: 193 | J18: 101 | K18: 92 | L18: 310 | M18: 180 | N18: 130 | O18: 65 | P18: 37 | Q18: 28 | R18: 568 | S18: 318 | T18: 250 | U18: 193 | V18: 101 | W18: 92 | X18: 310 | Y18: 180 | Z18: 130 | AA18: 65 | AB18: 37 | AC18: 28 | AD18: 0 | AE18: 0 | AF18: 0 | AG18: 0 | AH18: 0 | AI18: 0 | AJ18: 0 | AK18: 0 | AL18: 0 | AM18: 0 | AN18: 0 | AO18: 0 | AP18: 0 | AQ18: 0 | AR18: 0 | AS18: 0 | AT18: 0 | AU18: 0 | AV18: 0 | AW18: 0 | AX18: 0 | AY18: 0 | AZ18: 0 | BA18: 0 | BB18: 188 | BC18: 6 | BD18: 182 | BE18: 40 | BF18: 0 | BG18: 40 | BH18: 148 | BI18: 6 | BJ18: 142 | BK18: 0 | BL18: 0 | BM18: 0 | BN18: 0 | BO18: 0 | BP18: 0
A19: 南投縣 | B19: 4 | C19: 0 | D19: 4 | E19: 0 | F19: 35 | G19: 20 | H19: 15 | I19: 10 | J19: 5 | K19: 5 | L19: 25 | M19: 15 | N19: 10 | O19: 0 | P19: 0 | Q19: 0 | R19: 34 | S19: 19 | T19: 15 | U19: 10 | V19: 5 | W19: 5 | X19: 24 | Y19: 14 | Z19: 10 | AA19: 0 | AB19: 0 | AC19: 0 | AD19: 1 | AE19: 1 | AF19: 0 | AG19: 0 | AH19: 0 | AI19: 0 | AJ19: 1 | AK19: 1 | AL19: 0 | AM19: 0 | AN19: 0 | AO19: 0 | AP19: 0 | AQ19: 0 | AR19: 0 | AS19: 0 | AT19: 0 | AU19: 0 | AV19: 0 | AW19: 0 | AX19: 0 | AY19: 0 | AZ19: 0 | BA19: 0 | BB19: 12 | BC19: 2 | BD19: 10 | BE19: 4 | BF19: 1 | BG19: 3 | BH19: 8 | BI19: 1 | BJ19: 7 | BK19: 0 | BL19: 0 | BM19: 0 | BN19: 0 | BO19: 0 | BP19: 0
... A30: 連江縣 | B30: 0 | C30: 0 | D30: 0 | E30: 0 | F30: 0 | G30: 0 | H30: 0 | I30: 0 | J30: 0 | K30: 0 | L30: 0 | M30: 0 | N30: 0 | O30: 0 | P30: 0 | Q30: 0 | R30: 0 | S30: 0 | T30: 0 | U30: 0 | V30: 0 | W30: 0 | X30: 0 | Y30: 0 | Z30: 0 | AA30: 0 | AB30: 0 | AC30: 0 | AD30: 0 | AE30: 0 | AF30: 0 | AG30: 0 | AH30: 0 | AI30: 0 | AJ30: 0 | AK30: 0 | AL30: 0 | AM30: 0 | AN30: 0 | AO30: 0 | AP30: 0 | AQ30: 0 | AR30: 0 | AS30: 0 | AT30: 0 | AU30: 0 | AV30: 0 | AW30: 0 | AX30: 0 | AY30: 0 | AZ30: 0 | BA30: 0 | BB30: 0 | BC30: 0 | BD30: 0 | BE30: 0 | BF30: 0 | BG30: 0 | BH30: 0 | BI30: 0 | BJ30: 0 | BK30: 0 | BL30: 0 | BM30: 0 | BN30: 0 | BO30: 0 | BP30: 0

Sheet 102
A1: 1011-3托育機構概況
A2: 民國102年底
A3: 單位：所；人 | B3: 一、所數與收托人數 | W3: 1.一般身分 | AL3: 2.原住民身分 | BA3: 二、外籍配偶子女人數 | BP3: 三、專業人員人數
A4: 區域別 | B4: 所數 | H4: 人數-總計 | W4: 人數-一般身分 | AL4: 人數-原住民身分 | BA4: 托嬰中心 | BD4: 課後托育中心 | BP4: 保母 | CC4: 教保(含助理)人員
B5: 托嬰 中心 | C5: 托兒所 | G5: 課後托育中心 | H5: 收托兒童人數(學齡前) | T5: 國小學童課後 收托服務人數 | W5: 收托兒童人數(學齡前) | AI5: 國小學童課後收托服務人數 | AL5: 收托兒童人數(學齡前) | AX5: 國小學童課後收托服務人數 | BA5: 人數 | BD5: 按性別與年齡分 | BP5: 合計 | BS5: 托嬰中心 | BU5: 托兒所 | BW5: 課後托 育中心 | BY5: 公私立別 | CC5: 合計 | CF5: 托嬰中心 | CH5: 托兒所 | CJ5: 課後托 育中心 | CL5: 公私立別
H6: 按類別分 | L6: 按性別與年齡分 | W6: 按類別分 | AA6: 按性別與年齡分 | AL6: 按類別分 | AP6: 按性別與年齡分
B7: 私立 所數 | C7: 合計 | D7: 公立 | E7: 私立 | F7: 社區 | G7: 私立 | H7: 合計 | I7: 公立 | J7: 私立 | K7: 社區 | L7: 合計 | N7: 0-未滿2歲 | P7: 2-未滿5歲 | R7: 5歲以上 | T7: 按性別分 | W7: 合計 | X7: 公立 | Y7: 私立 | Z7: 社區 | AA7: 合計 | AC7: 0-未滿2歲 | AE7: 2-未滿5歲 | AG7: 5歲以上 | AI7: 按性別分 | AL7: 合計 | AM7: 公立 | AN7: 私立 | AO7: 社區 | AP7: 合計 | AR7: 0-未滿2歲 | AT7: 2-未滿5歲 | AV7: 5歲以上 | AX7: 按性別分 | BD7: 合計 | BG7: 0-未滿2歲 | BJ7: 2-未滿5歲 | BM7: 5歲以上 | BP7: 計 | BQ7: 男 | BR7: 女 | BS7: 男 | BT7: 女 | BU7: 男 | BV7: 女 | BW7: 男 | BX7: 女 | BY7: 計 | BZ7: 公立 | CA7: 私立 | CB7: 社區 | CC7: 計 | CD7: 男 | CE7: 女 | CF7: 男 | CG7: 女 | CH7: 男 | CI7: 女 | CJ7: 男 | CK7: 女 | CL7: 計 | CM7: 公立 | CN7: 私立 | CO7: 社區
L8: 男 | M8: 女 | N8: 男 | O8: 女 | P8: 男 | Q8: 女 | R8: 男 | S8: 女 | T8: 合計 | U8: 男 | V8: 女 | AA8: 男 | AB8: 女 | AC8: 男 | AD8: 女 | AE8: 男 | AF8: 女 | AG8: 男 | AH8: 女 | AI8: 合計 | AJ8: 男 | AK8: 女 | AP8: 男 | AQ8: 女 | AR8: 男 | AS8: 女 | AT8: 男 | AU8: 女 | AV8: 男 | AW8: 女 | AX8: 合計 | AY8: 男 | AZ8: 女 | BA8: 合計 | BB8: 男 | BC8: 女 | BD8: 合計 | BE8: 男 | BF8: 女 | BG8: 合計 | BH8: 男 | BI8: 女 | BJ8: 合計 | BK8: 男 | BL8: 女 | BM8: 合計 | BN8: 男 | BO8: 女
A9: 102年,2013 | B9: 553 | C9: 0 | D9: 0 | E9: 0 | F9: 0 | G9: 22 | H9: 11362 | I9: 0 | J9: 11362 | K9: 0 | L9: 5981 | M9: 5381 | N9: 5440 | O9: 4937 | P9: 541 | Q9: 444 | R9: 0 | S9: 0 | T9: 596 | U9: 330 | V9: 266 | W9: 11247 | X9: 0 | Y9: 11247 | Z9: 0 | AA9: 5914 | AB9: 5333 | AC9: 5377 | AD9: 4894 | AE9: 537 | AF9: 439 | AG9: 0 | AH9: 0 | AI9: 401 | AJ9: 220 | AK9: 181 | AL9: 115 | AM9: 0 | AN9: 115 | AO9: 0 | AP9: 67 | AQ9: 48 | AR9: 63 | AS9: 43 | AT9: 4 | AU9: 5 | AV9: 0 | AW9: 0 | AX9: 195 | AY9: 110 | AZ9: 85 | BA9: 205 | BB9: 116 | BC9: 89 | BD9: 9 | BE9: 4 | BF9: 5 | BG9: 0 | BH9: 0 | BI9: 0 | BJ9: 1 | BK9: 1 | BL9: 0 | BM9: 8 | BN9: 3 | BO9: 5 | BP9: 2446 | BQ9: 32 | BR9: 2414 | BS9: 32 | BT9: 2414 | BU9: 0 | BV9: 0 | BW9: 0 | BX9: 0 | BY9: 2446 | BZ9: 0 | CA9: 2446 | CB9: 0 | CC9: 527 | CD9: 6 | CE9: 521 | CF9: 3 | CG9: 481 | CH9: 0 | CI9: 0 | CJ9: 3 | CK9: 40 | CL9: 527 | CM9: 0 | CN9: 527 | CO9: 0 | CP9: =IF(SUM(BZ9:CB9)-BY9=0,"","*")
A10: 新北市 | B10: 111 | C10: 0 | D10: 0 | E10: 0 | F10: 0 | G10: 0 | H10: 3089 | I10: 0 | J10: 3089 | K10: 0 | L10: 1674 | M10: 1415 | N10: 1409 | O10: 1191 | P10: 265 | Q10: 224 | R10: 0 | S10: 0 | T10: 0 | U10: 0 | V10: 0 | W10: 3057 | X10: 0 | Y10: 3057 | Z10: 0 | AA10: 1653 | AB10: 1404 | AC10: 1390 | AD10: 1181 | AE10: 263 | AF10: 223 | AG10: 0 | AH10: 0 | AI10: 0 | AJ10: 0 | AK10: 0 | AL10: 32 | AM10: 0 | AN10: 32 | AO10: 0 | AP10: 21 | AQ10: 11 | AR10: 19 | AS10: 10 | AT10: 2 | AU10: 1 | AV10: 0 | AW10: 0 | AX10: 0 | AY10: 0 | AZ10: 0 | BA10: 91 | BB10: 42 | BC10: 49 | BD10: 0 | BE10: 0 | BF10: 0 | BG10: 0 | BH10: 0 | BI10: 0 | BJ10: 0 | BK10: 0 | BL10: 0 | BM10: 0 | BN10: 0 | BO10: 0 | BP10: 704 | BQ10: 10 | BR10: 694 | BS10: 10 | BT10: 694 | BU10: 0 | BV10: 0 | BW10: 0 | BX10: 0 | BY10: 704 | BZ10: 0 | CA10: 704 | CB10: 0 | CC10: 70 | CD10: 0 | CE10: 70 | CF10: 0 | CG10: 70 | CH10: 0 | CI10: 0 | CJ10: 0 | CK10: 0 | CL10: 70 | CM10: 0 | CN10: 70 | CO10: 0 | CP10: =IF(SUM(BZ10:CB10)-BY10=0,"","*")
A11: 臺北市 | B11: 76 | C11: 0 | D11: 0 | E11: 0 | F11: 0 | G11: 0 | H11: 1522 | I11: 0 | J11: 1522 | K11: 0 | L11: 796 | M11: 726 | N11: 796 | O11: 726 | P11: 0 | Q11: 0 | R11: 0 | S11: 0 | T11: 0 | U11: 0 | V11: 0 | W11: 1519 | X11: 0 | Y11: 1519 | Z11: 0 | AA11: 793 | AB11: 726 | AC11: 793 | AD11: 726 | AE11: 0 | AF11: 0 | AG11: 0 | AH11: 0 | AI11: 0 | AJ11: 0 | AK11: 0 | AL11: 3 | AM11: 0 | AN11: 3 | AO11: 0 | AP11: 3 | AQ11: 0 | AR11: 3 | AS11: 0 | AT11: 0 | AU11: 0 | AV11: 0 | AW11: 0 | AX11: 0 | AY11: 0 | AZ11: 0 | BA11: 12 | BB11: 6 | BC11: 6 | BD11: 0 | BE11: 0 | BF11: 0 | BG11: 0 | BH11: 0 | BI11: 0 | BJ11: 0 | BK11: 0 | BL11: 0 | BM11: 0 | BN11: 0 | BO11: 0 | BP11: 471 | BQ11: 0 | BR11: 471 | BS11: 0 | BT11: 471 | BU11: 0 | BV11: 0 | BW11: 0 | BX11: 0 | BY11: 471 | BZ11: 0 | CA11: 471 | CB11: 0 | CC11: 0 | CD11: 0 | CE11: 0 | CF11: 0 | CG11: 0 | CH11: 0 | CI11: 0 | CJ11: 0 | CK11: 0 | CL11: 0 | CM11: 0 | CN11: 0 | CO11: 0 | CP11: =IF(SUM(BZ11:CB11)-BY11=0,"","*")
A12: 臺中市 | B12: 80 | C12: 0 | D12: 0 | E12: 0 | F12: 0 | G12: 0 | H12: 1490 | I12: 0 | J12: 1490 | K12: 0 | L12: 771 | M12: 719 | N12: 740 | O12: 686 | P12: 31 | Q12: 33 | R12: 0 | S12: 0 | T12: 0 | U12: 0 | V12: 0 | W12: 1484 | X12: 0 | Y12: 1484 | Z12: 0 | AA12: 767 | AB12: 717 | AC12: 736 | AD12: 684 | AE12: 31 | AF12: 33 | AG12: 0 | AH12: 0 | AI12: 0 | AJ12: 0 | AK12: 0 | AL12: 6 | AM12: 0 | AN12: 6 | AO12: 0 | AP12: 4 | AQ12: 2 | AR12: 4 | AS12: 2 | AT12: 0 | AU12: 0 | AV12: 0 | AW12: 0 | AX12: 0 | AY12: 0 | AZ12: 0 | BA12: 14 | BB12: 6 | BC12: 8 | BD12: 0 | BE12: 0 | BF12: 0 | BG12: 0 | BH12: 0 | BI12: 0 | BJ12: 0 | BK12: 0 | BL12: 0 | BM12: 0 | BN12: 0 | BO12: 0 | BP12: 320 | BQ12: 5 | BR12: 315 | BS12: 5 | BT12: 315 | BU12: 0 | BV12: 0 | BW12: 0 | BX12: 0 | BY12: 320 | BZ12: 0 | CA12: 320 | CB12: 0 | CC12: 57 | CD12: 0 | CE12: 57 | CF12: 0 | CG12: 57 | CH12: 0 | CI12: 0 | CJ12: 0 | CK12: 0 | CL12: 57 | CM12: 0 | CN12: 57 | CO12: 0 | CP12: =IF(SUM(BZ12:CB12)-BY12=0,"","*")
A13: 臺南市 | B13: 47 | C13: 0 | D13: 0 | E13: 0 | F13: 0 | G13: 2 | H13: 782 | I13: 0 | J13: 782 | K13: 0 | L13: 404 | M13: 378 | N13: 404 | O13: 378 | P13: 0 | Q13: 0 | R13: 0 | S13: 0 | T13: 62 | U13: 38 | V13: 24 | W13: 781 | X13: 0 | Y13: 781 | Z13: 0 | AA13: 403 | AB13: 378 | AC13: 403 | AD13: 378 | AE13: 0 | AF13: 0 | AG13: 0 | AH13: 0 | AI13: 62 | AJ13: 38 | AK13: 24 | AL13: 1 | AM13: 0 | AN13: 1 | AO13: 0 | AP13: 1 | AQ13: 0 | AR13: 1 | AS13: 0 | AT13: 0 | AU13: 0 | AV13: 0 | AW13: 0 | AX13: 0 | AY13: 0 | AZ13: 0 | BA13: 6 | BB13: 4 | BC13: 2 | BD13: 0 | BE13: 0 | BF13: 0 | BG13: 0 | BH13: 0 | BI13: 0 | BJ13: 0 | BK13: 0 | BL13: 0 | BM13: 0 | BN13: 0 | BO13: 0 | BP13: 207 | BQ13: 2 | BR13: 205 | BS13: 2 | BT13: 205 | BU13: 0 | BV13: 0 | BW13: 0 | BX13: 0 | BY13: 207 | BZ13: 0 | CA13: 207 | CB13: 0 | CC13: 5 | CD13: 0 | CE13: 5 | CF13: 0 | CG13: 0 | CH13: 0 | CI13: 0 | CJ13: 0 | CK13: 5 | CL13: 5 | CM13: 0 | CN13: 5 | CO13: 0 | CP13: =IF(SUM(BZ13:CB13)-BY13=0,"","*")
A14: 高雄市 | B14: 34 | C14: 0 | D14: 0 | E14: 0 | F14: 0 | G14: 0 | H14: 757 | I14: 0 | J14: 757 | K14: 0 | L14: 388 | M14: 369 | N14: 344 | O14: 336 | P14: 44 | Q14: 33 | R14: 0 | S14: 0 | T14: 0 | U14: 0 | V14: 0 | W14: 752 | X14: 0 | Y14: 752 | Z14: 0 | AA14: 386 | AB14: 366 | AC14: 342 | AD14: 335 | AE14: 44 | AF14: 31 | AG14: 0 | AH14: 0 | AI14: 0 | AJ14: 0 | AK14: 0 | AL14: 5 | AM14: 0 | AN14: 5 | AO14: 0 | AP14: 2 | AQ14: 3 | AR14: 2 | AS14: 1 | AT14: 0 | AU14: 2 | AV14: 0 | AW14: 0 | AX14: 0 | AY14: 0 | AZ14: 0 | BA14: 7 | BB14: 4 | BC14: 3 | BD14: 0 | BE14: 0 | BF14: 0 | BG14: 0 | BH14: 0 | BI14: 0 | BJ14: 0 | BK14: 0 | BL14: 0 | BM14: 0 | BN14: 0 | BO14: 0 | BP14: 152 | BQ14: 0 | BR14: 152 | BS14: 0 | BT14: 152 | BU14: 0 | BV14: 0 | BW14: 0 | BX14: 0 | BY14: 152 | BZ14: 0 | CA14: 152 | CB14: 0 | CC14: 35 | CD14: 1 | CE14: 34 | CF14: 1 | CG14: 34 | CH14: 0 | CI14: 0 | CJ14: 0 | CK14: 0 | CL14: 35 | CM14: 0 | CN14: 35 | CO14: 0 | CP14: =IF(SUM(BZ14:CB14)-BY14=0,"","*")
A15: 臺灣省 | B15: 204 | C15: 0 | D15: 0 | E15: 0 | F15: 0 | G15: 20 | H15: 3687 | I15: 0 | J15: 3687 | K15: 0 | L15: 1926 | M15: 1761 | N15: 1737 | O15: 1610 | P15: 189 | Q15: 151 | R15: 0 | S15: 0 | T15: 534 | U15: 292 | V15: 242 | W15: 3619 | X15: 0 | Y15: 3619 | Z15: 0 | AA15: 1890 | AB15: 1729 | AC15: 1703 | AD15: 1580 | AE15: 187 | AF15: 149 | AG15: 0 | AH15: 0 | AI15: 339 | AJ15: 182 | AK15: 157 | AL15: 68 | AM15: 0 | AN15: 68 | AO15: 0 | AP15: 36 | AQ15: 32 | AR15: 34 | AS15: 30 | AT15: 2 | AU15: 2 | AV15: 0 | AW15: 0 | AX15: 195 | AY15: 110 | AZ15: 85 | BA15: 73 | BB15: 52 | BC15: 21 | BD15: 9 | BE15: 4 | BF15: 5 | BG15: 0 | BH15: 0 | BI15: 0 | BJ15: 1 | BK15: 1 | BL15: 0 | BM15: 8 | BN15: 3 | BO15: 5 | BP15: 583 | BQ15: 14 | BR15: 569 | BS15: 14 | BT15: 569 | BU15: 0 | BV15: 0 | BW15: 0 | BX15: 0 | BY15: 583 | BZ15: 0 | CA15: 583 | CB15: 0 | CC15: 356 | CD15: 5 | CE15: 351 | CF15: 2 | CG15: 316 | CH15: 0 | CI15: 0 | CJ15: 3 | CK15: 35 | CL15: 356 | CM15: 0 | CN15: 356 | CO15: 0 | CP15: =IF(SUM(BZ15:CB15)-BY15=0,"","*")
A16: 宜蘭縣 | B16: 11 | C16: 0 | D16: 0 | E16: 0 | F16: 0 | G16: 0 | H16: 200 | I16: 0 | J16: 200 | K16: 0 | L16: 112 | M16: 88 | N16: 91 | O16: 73 | P16: 21 | Q16: 15 | R16: 0 | S16: 0 | T16: 0 | U16: 0 | V16: 0 | W16: 193 | X16: 0 | Y16: 193 | Z16: 0 | AA16: 109 | AB16: 84 | AC16: 90 | AD16: 70 | AE16: 19 | AF16: 14 | AG16: 0 | AH16: 0 | AI16: 0 | AJ16: 0 | AK16: 0 | AL16: 7 | AM16: 0 | AN16: 7 | AO16: 0 | AP16: 3 | AQ16: 4 | AR16: 1 | AS16: 3 | AT16: 2 | AU16: 1 | AV16: 0 | AW16: 0 | AX16: 0 | AY16: 0 | AZ16: 0 | BA16: 3 | BB16: 2 | BC16: 1 | BD16: 0 | BE16: 0 | BF16: 0 | BG16: 0 | BH16: 0 | BI16: 0 | BJ16: 0 | BK16: 0 | BL16: 0 | BM16: 0 | BN16: 0 | BO16: 0 | BP16: 43 | BQ16: 0 | BR16: 43 | BS16: 0 | BT16: 43 | BU16: 0 | BV16: 0 | BW16: 0 | BX16: 0 | BY16: 43 | BZ16: 0 | CA16: 43 | CB16: 0 | CC16: 4 | CD16: 0 | CE16: 4 | CF16: 0 | CG16: 4 | CH16: 0 | CI16: 0 | CJ16: 0 | CK16: 0 | CL16: 4 | CM16: 0 | CN16: 4 | CO16: 0 | CP16: =IF(SUM(BZ16:CB16)-BY16=0,"","*")
A17: 桃園縣 | B17: 43 | C17: 0 | D17: 0 | E17: 0 | F17: 0 | G17: 7 | H17: 855 | I17: 0 | J17: 855 | K17: 0 | L17: 431 | M17: 424 | N17: 431 | O17: 424 | P17: 0 | Q17: 0 | R17: 0 | S17: 0 | T17: 202 | U17: 106 | V17: 96 | W17: 834 | X17: 0 | Y17: 834 | Z17: 0 | AA17: 417 | AB17: 417 | AC17: 417 | AD17: 417 | AE17: 0 | AF17: 0 | AG17: 0 | AH17: 0 | AI17: 202 | AJ17: 106 | AK17: 96 | AL17: 21 | AM17: 0 | AN17: 21 | AO17: 0 | AP17: 14 | AQ17: 7 | AR17: 14 | AS17: 7 | AT17: 0 | AU17: 0 | AV17: 0 | AW17: 0 | AX17: 0 | AY17: 0 | AZ17: 0 | BA17: 13 | BB17: 9 | BC17: 4 | BD17: 0 | BE17: 0 | BF17: 0 | BG17: 0 | BH17: 0 | BI17: 0 | BJ17: 0 | BK17: 0 | BL17: 0 | BM17: 0 | BN17: 0 | BO17: 0 | BP17: 137 | BQ17: 6 | BR17: 131 | BS17: 6 | BT17: 131 | BU17: 0 | BV17: 0 | BW17: 0 | BX17: 0 | BY17: 137 | BZ17: 0 | CA17: 137 | CB17: 0 | CC17: 13 | CD17: 0 | CE17: 13 | CF17: 0 | CG17: 0 | CH17: 0 | CI17: 0 | CJ17: 0 | CK17: 13 | CL17: 13 | CM17: 0 | CN17: 13 | CO17: 0 | CP17: =IF(SUM(BZ17:CB17)-BY17=0,"","*")
A18: 新竹縣 | B18: 34 | C18: 0 | D18: 0 | E18: 0 | F18: 0 | G18: 0 | H18: 722 | I18: 0 | J18: 722 | K18: 0 | L18: 378 | M18: 344 | N18: 329 | O18: 303 | P18: 49 | Q18: 41 | R18: 0 | S18: 0 | T18: 0 | U18: 0 | V18: 0 | W18: 719 | X18: 0 | Y18: 719 | Z18: 0 | AA18: 376 | AB18: 343 | AC18: 327 | AD18: 302 | AE18: 49 | AF18: 41 | AG18: 0 | AH18: 0 | AI18: 0 | AJ18: 0 | AK18: 0 | AL18: 3 | AM18: 0 | AN18: 3 | AO18: 0 | AP18: 2 | AQ18: 1 | AR18: 2 | AS18: 1 | AT18: 0 | AU18: 0 | AV18: 0 | AW18: 0 | AX18: 0 | AY18: 0 | AZ18: 0 | BA18: 2 | BB18: 1 | BC18: 1 | BD18: 0 | BE18: 0 | BF18: 0 | BG18: 0 | BH18: 0 | BI18: 0 | BJ18: 0 | BK18: 0 | BL18: 0 | BM18: 0 | BN18: 0 | BO18: 0 | BP18: 0 | BQ18: 0 | BR18: 0 | BS18: 0 | BT18: 0 | BU18: 0 | BV18: 0 | BW18: 0 | BX18: 0 | BY18: 0 | BZ18: 0 | CA18: 0 | CB18: 0 | CC18: 202 | CD18: 1 | CE18: 201 | CF18: 1 | CG18: 201 | CH18: 0 | CI18: 0 | CJ18: 0 | CK18: 0 | CL18: 202 | CM18: 0 | CN18: 202 | CO18: 0 | CP18: =IF(SUM(BZ18:CB18)-BY18=0,"","*")
A19: 苗栗縣 | B19: 4 | C19: 0 | D19: 0 | E19: 0 | F19: 0 | G19: 0 | H19: 105 | I19: 0 | J19: 105 | K19: 0 | L19: 56 | M19: 49 | N19: 51 | O19: 45 | P19: 5 | Q19: 4 | R19: 0 | S19: 0 | T19: 0 | U19: 0 | V19: 0 | W19: 105 | X19: 0 | Y19: 105 | Z19: 0 | AA19: 56 | AB19: 49 | AC19: 51 | AD19: 45 | AE19: 5 | AF19: 4 | AG19: 0 | AH19: 0 | AI19: 0 | AJ19: 0 | AK19: 0 | AL19: 0 | AM19: 0 | AN19: 0 | AO19: 0 | AP19: 0 | AQ19: 0 | AR19: 0 | AS19: 0 | AT19: 0 | AU19: 0 | AV19: 0 | AW19: 0 | AX19: 0 | AY19: 0 | AZ19: 0 | BA19: 1 | BB19: 1 | BC19: 0 | BD19: 0 | BE19: 0 | BF19: 0 | BG19: 0 | BH19: 0 | BI19: 0 | BJ19: 0 | BK19: 0 | BL19: 0 | BM19: 0 | BN19: 0 | BO19: 0 | BP19: 15 | BQ19: 0 | BR19: 15 | BS19: 0 | BT19: 15 | BU19: 0 | BV19: 0 | BW19: 0 | BX19: 0 | BY19: 15 | BZ19: 0 | CA19: 15 | CB19: 0 | CC19: 10 | CD19: 0 | CE19: 10 | CF19: 0 | CG19: 10 | CH19: 0 | CI19: 0 | CJ19: 0 | CK19: 0 | CL19: 10 | CM19: 0 | CN19: 10 | CO19: 0 | CP19: =IF(SUM(BZ19:CB19)-BY19=0,"","*")
A20: 彰化縣 | B20: 40 | C20: 0 | D20: 0 | E20: 0 | F20: 0 | G20: 0 | H20: 578 | I20: 0 | J20: 578 | K20: 0 | L20: 328 | M20: 250 | N20: 277 | O20: 220 | P20: 51 | Q20: 30 | R20: 0 | S20: 0 | T20: 0 | U20: 0 | V20: 0 | W20: 576 | X20: 0 | Y20: 576 | Z20: 0 | AA20: 327 | AB20: 249 | AC20: 276 | AD20: 219 | AE20: 51 | AF20: 30 | AG20: 0 | AH20: 0 | AI20: 0 | AJ20: 0 | AK20: 0 | AL20: 2 | AM20: 0 | AN20: 2 | AO20: 0 | AP20: 1 | AQ20: 1 | AR20: 1 | AS20: 1 | AT20: 0 | AU20: 0 | AV20: 0 | AW20: 0 | AX20: 0 | AY20: 0 | AZ20: 0 | BA20: 41 | BB20: 32 | BC20: 9 | BD20: 0 | BE20: 0 | BF20: 0 | BG20: 0 | BH20: 0 | BI20: 0 | BJ20: 0 | BK20: 0 | BL20: 0 | BM20: 0 | BN20: 0 | BO20: 0 | BP20: 146 | BQ20: 3 | BR20: 143 | BS20: 3 | BT20: 143 | BU20: 0 | BV20: 0 | BW20: 0 | BX20: 0 | BY20: 146 | BZ20: 0 | CA20: 146 | CB20: 0 | CC20: 0 | CD20: 0 | CE20: 0 | CF20: 0 | CG20: 0 | CH20: 0 | CI20: 0 | CJ20: 0 | CK20: 0 | CL20: 0 | CM20: 0 | CN20: 0 | CO20: 0 | CP20: =IF(SUM(BZ20:CB20)-BY20=0,"","*")
... A32: 金門縣 | B32: 1 | C32: 0 | D32: 0 | E32: 0 | F32: 0 | G32: 0 | H32: 35 | I32: 0 | J32: 35 | K32: 0 | L32: 22 | M32: 13 | N32: 10 | O32: 10 | P32: 12 | Q32: 3 | R32: 0 | S32: 0 | T32: 0 | U32: 0 | V32: 0 | W32: 35 | X32: 0 | Y32: 35 | Z32: 0 | AA32: 22 | AB32: 13 | AC32: 10 | AD32: 10 | AE32: 12 | AF32: 3 | AG32: 0 | AH32: 0 | AI32: 0 | AJ32: 0 | AK32: 0 | AL32: 0 | AM32: 0 | AN32: 0 | AO32: 0 | AP32: 0 | AQ32: 0 | AR32: 0 | AS32: 0 | AT32: 0 | AU32: 0 | AV32: 0 | AW32: 0 | AX32: 0 | AY32: 0 | AZ32: 0 | BA32: 2 | BB32: 2 | BC32: 0 | BD32: 0 | BE32: 0 | BF32: 0 | BG32: 0 | BH32: 0 | BI32: 0 | BJ32: 0 | BK32: 0 | BL32: 0 | BM32: 0 | BN32: 0 | BO32: 0 | BP32: 9 | BQ32: 1 | BR32: 8 | BS32: 1 | BT32: 8 | BU32: 0 | BV32: 0 | BW32: 0 | BX32: 0 | BY32: 9 | BZ32: 0 | CA32: 9 | CB32: 0 | CC32: 4 | CD32: 0 | CE32: 4 | CF32: 0 | CG32: 4 | CH32: 0 | CI32: 0 | CJ32: 0 | CK32: 0 | CL32: 4 | CM32: 0 | CN32: 4 | CO32: 0 | CP32: =IF(SUM(BZ32:CB32)-BY32=0,"","*")
A33: 連江縣 | B33: 0 | C33: 0 | D33: 0 | E33: 0 | F33: 0 | G33: 0 | H33: 0 | I33: 0 | J33: 0 | K33: 0 | L33: 0 | M33: 0 | N33: 0 | O33: 0 | P33: 0 | Q33: 0 | R33: 0 | S33: 0 | T33: 0 | U33: 0 | V33: 0 | W33: 0 | X33: 0 | Y33: 0 | Z33: 0 | AA33: 0 | AB33: 0 | AC33: 0 | AD33: 0 | AE33: 0 | AF33: 0 | AG33: 0 | AH33: 0 | AI33: 0 | AJ33: 0 | AK33: 0 | AL33: 0 | AM33: 0 | AN33: 0 | AO33: 0 | AP33: 0 | AQ33: 0 | AR33: 0 | AS33: 0 | AT33: 0 | AU33: 0 | AV33: 0 | AW33: 0 | AX33: 0 | AY33: 0 | AZ33: 0 | BA33: 0 | BB33: 0 | BC33: 0 | BD33: 0 | BE33: 0 | BF33: 0 | BG33: 0 | BH33: 0 | BI33: 0 | BJ33: 0 | BK33: 0 | BL33: 0 | BM33: 0 | BN33: 0 | BP33: 0 | BQ33: 0 | BR33: 0 | BS33: 0 | BT33: 0 | BU33: 0 | BV33: 0 | BW33: 0 | BX33: 0 | BY33: 0 | BZ33: 0 | CA33: 0 | CB33: 0 | CC33: 0 | CD33: 0 | CE33: 0 | CF33: 0 | CG33: 0 | CH33: 0 | CI33: 0 | CJ33: 0 | CK33: 0 | CL33: 0 | CM33: 0 | CN33: 0 | CO33: 0 | CP33: =IF(SUM(BZ33:CB33)-BY33=0,"","*") | CQ33: =IF(SUM(CA33:CC33)-BZ33=0,"","*")
A34: 資料來源：各直轄市、縣市政府。
A36: 說明：自101年1月1日起為幼托整合改制期間，截至102年12月底止，「托兒所」已全數改制為「幼兒園」，由教育部主管，本表「課後托育中心」係指仍由地方政府社會局(處)管理，且尚未改制為「兒童課後照顧服務中心」者。
A38: 新北市 | B38: 111 | C38: 0 | D38: 0 | E38: 0 | F38: 0 | G38: 0 | H38: 3089 | I38: 0 | J38: 3089 | K38: 0 | L38: 1674 | M38: 1415 | N38: 1409 | O38: 1191 | P38: 265 | Q38: 224 | R38: 0 | S38: 0 | T38: 0 | U38: 0 | V38: 0 | W38: 3057 | X38: 0 | Y38: 3057 | Z38: 0 | AA38: 1653 | AB38: 1404 | AC38: 1390 | AD38: 1181 | AE38: 263 | AF38: 223 | AG38: 0 | AH38: 0 | AI38: 0 | AJ38: 0 | AK38: 0 | AL38: 32 | AM38: 0 | AN38: 32 | AO38: 0 | AP38: 21 | AQ38: 11 | AR38: 19 | AS38: 10 | AT38: 2 | AU38: 1 | AV38: 0 | AW38: 0 | AX38: 0 | AY38: 0 | AZ38: 0 | BA38: 91 | BB38: 42 | BC38: 49 | BD38: 0 | BE38: 0 | BF38: 0 | BG38: 0 | BH38: 0 | BI38: 0 | BJ38: 0 | BK38: 0 | BL38: 0 | BM38: 0 | BN38: 0 | BO38: 0 | BP38: 704 | BQ38: 10 | BR38: 694 | BS38: 10 | BT38: 694 | BU38: 0 | BV38: 0 | BW38: 0 | BX38: 0 | BY38: 704 | BZ38: 0 | CA38: 694 | CB38: 0 | CC38: 70 | CD38: 0 | CE38: 70 | CF38: 0 | CG38: 70 | CH38: 0 | CI38: 0 | CJ38: 0 | CK38: 0 | CL38: 70 | CM38: 0 | CN38: 70 | CO38: 0
A39: 臺北市 | B39: 76 | C39: 0 | D39: 0 | E39: 0 | F39: 0 | G39: 0 | H39: 1522 | I39: 0 | J39: 1522 | K39: 0 | L39: 796 | M39: 726 | N39: 796 | O39: 726 | P39: 0 | Q39: 0 | R39: 0 | S39: 0 | T39: 0 | U39: 0 | V39: 0 | W39: 1519 | X39: 0 | Y39: 1519 | Z39: 0 | AA39: 793 | AB39: 726 | AC39: 793 | AD39: 726 | AE39: 0 | AF39: 0 | AG39: 0 | AH39: 0 | AI39: 0 | AJ39: 0 | AK39: 0 | AL39: 3 | AM39: 0 | AN39: 3 | AO39: 0 | AP39: 3 | AQ39: 0 | AR39: 3 | AS39: 0 | AT39: 0 | AU39: 0 | AV39: 0 | AW39: 0 | AX39: 0 | AY39: 0 | AZ39: 0 | BA39: 12 | BB39: 6 | BC39: 6 | BD39: 0 | BE39: 0 | BF39: 0 | BG39: 0 | BH39: 0 | BI39: 0 | BJ39: 0 | BK39: 0 | BL39: 0 | BM39: 0 | BN39: 0 | BO39: 0 | BP39: 471 | BQ39: 0 | BR39: 471 | BS39: 0 | BT39: 471 | BU39: 0 | BV39: 0 | BW39: 0 | BX39: 0 | BY39: 471 | BZ39: 0 | CA39: 471 | CB39: 0 | CC39: 0 | CD39: 0 | CE39: 0 | CF39: 0 | CG39: 0 | CH39: 0 | CI39: 0 | CJ39: 0 | CK39: 0 | CL39: 0 | CM39: 0 | CN39: 0 | CO39: 0
A40: 臺中市 | B40: 80 | C40: 0 | D40: 0 | E40: 0 | F40: 0 | G40: 0 | H40: 1490 | I40: 0 | J40: 1490 | K40: 0 | L40: 771 | M40: 719 | N40: 740 | O40: 686 | P40: 31 | Q40: 33 | R40: 0 | S40: 0 | T40: 0 | U40: 0 | V40: 0 | W40: 1484 | X40: 0 | Y40: 1484 | Z40: 0 | AA40: 767 | AB40: 717 | AC40: 736 | AD40: 684 | AE40: 31 | AF40: 33 | AG40: 0 | AH40: 0 | AI40: 0 | AJ40: 0 | AK40: 0 | AL40: 6 | AM40: 0 | AN40: 6 | AO40: 0 | AP40: 4 | AQ40: 2 | AR40: 4 | AS40: 2 | AT40: 0 | AU40: 0 | AV40: 0 | AW40: 0 | AX40: 0 | AY40: 0 | AZ40: 0 | BA40: 14 | BB40: 6 | BC40: 8 | BD40: 0 | BE40: 0 | BF40: 0 | BG40: 0 | BH40: 0 | BI40: 0 | BJ40: 0 | BK40: 0 | BL40: 0 | BM40: 0 | BN40: 0 | BO40: 0 | BP40: 320 | BQ40: 5 | BR40: 315 | BS40: 5 | BT40: 315 | BU40: 0 | BV40: 0 | BW40: 0 | BX40: 0 | BY40: 320 | BZ40: 0 | CA40: 315 | CB40: 0 | CC40: 57 | CD40: 0 | CE40: 57 | CF40: 0 | CG40: 57 | CH40: 0 | CI40: 0 | CJ40: 0 | CK40: 0 | CL40: 57 | CM40: 0 | CN40: 57 | CO40: 0
A41: 臺南市 | B41: 47 | C41: 0 | D41: 0 | E41: 0 | F41: 0 | G41: 2 | H41: 782 | I41: 0 | J41: 782 | K41: 0 | L41: 404 | M41: 378 | N41: 404 | O41: 378 | P41: 0 | Q41: 0 | R41: 0 | S41: 0 | T41: 62 | U41: 38 | V41: 24 | W41: 781 | X41: 0 | Y41: 781 | Z41: 0 | AA41: 403 | AB41: 378 | AC41: 403 | AD41: 378 | AE41: 0 | AF41: 0 | AG41: 0 | AH41: 0 | AI41: 62 | AJ41: 38 | AK41: 24 | AL41: 1 | AM41: 0 | AN41: 1 | AO41: 0 | AP41: 1 | AQ41: 0 | AR41: 1 | AS41: 0 | AT41: 0 | AU41: 0 | AV41: 0 | AW41: 0 | AX41: 0 | AY41: 0 | AZ41: 0 | BA41: 6 | BB41: 4 | BC41: 2 | BD41: 0 | BE41: 0 | BF41: 0 | BG41: 0 | BH41: 0 | BI41: 0 | BJ41: 0 | BK41: 0 | BL41: 0 | BM41: 0 | BN41: 0 | BO41: 0 | BP41: 207 | BQ41: 2 | BR41: 205 | BS41: 2 | BT41: 205 | BU41: 0 | BV41: 0 | BW41: 0 | BX41: 0 | BY41: 207 | BZ41: 0 | CA41: 205 | CB41: 0 | CC41: 5 | CD41: 0 | CE41: 5 | CF41: 0 | CG41: 0 | CH41: 0 | CI41: 0 | CJ41: 0 | CK41: 5 | CL41: 5 | CM41: 0 | CN41: 5 | CO41: 0
A42: 高雄市 | B42: 34 | C42: 0 | D42: 0 | E42: 0 | F42: 0 | G42: 0 | H42: 757 | I42: 0 | J42: 757 | K42: 0 | L42: 388 | M42: 369 | N42: 344 | O42: 336 | P42: 44 | Q42: 33 | R42: 0 | S42: 0 | T42: 0 | U42: 0 | V42: 0 | W42: 752 | X42: 0 | Y42: 752 | Z42: 0 | AA42: 386 | AB42: 366 | AC42: 342 | AD42: 335 | AE42: 44 | AF42: 31 | AG42: 0 | AH42: 0 | AI42: 0 | AJ42: 0 | AK42: 0 | AL42: 5 | AM42: 0 | AN42: 5 | AO42: 0 | AP42: 2 | AQ42: 3 | AR42: 2 | AS42: 1 | AT42: 0 | AU42: 2 | AV42: 0 | AW42: 0 | AX42: 0 | AY42: 0 | AZ42: 0 | BA42: 7 | BB42: 4 | BC42: 3 | BD42: 0 | BE42: 0 | BF42: 0 | BG42: 0 | BH42: 0 | BI42: 0 | BJ42: 0 | BK42: 0 | BL42: 0 | BM42: 0 | BN42: 0 | BO42: 0 | BP42: 152 | BQ42: 0 | BR42: 152 | BS42: 0 | BT42: 152 | BU42: 0 | BV42: 0 | BW42: 0 | BX42: 0 | BY42: 152 | BZ42: 0 | CA42: 152 | CB42: 0 | CC42: 35 | CD42: 1 | CE42: 34 | CF42: 1 | CG42: 34 | CH42: 0 | CI42: 0 | CJ42: 0 | CK42: 0 | CL42: 35 | CM42: 0 | CN42: 35 | CO42: 0
A43: 臺灣省 | B43: 204 | C43: 0 | D43: 0 | E43: 0 | F43: 0 | G43: 20 | H43: 3687 | I43: 0 | J43: 3687 | K43: 0 | L43: 1926 | M43: 1761 | N43: 1737 | O43: 1610 | P43: 189 | Q43: 151 | R43: 0 | S43: 0 | T43: 534 | U43: 292 | V43: 242 | W43: 3619 | X43: 0 | Y43: 3619 | Z43: 0 | AA43: 1890 | AB43: 1729 | AC43: 1703 | AD43: 1580 | AE43: 187 | AF43: 149 | AG43: 0 | AH43: 0 | AI43: 339 | AJ43: 182 | AK43: 157 | AL43: 68 | AM43: 0 | AN43: 68 | AO43: 0 | AP43: 36 | AQ43: 32 | AR43: 34 | AS43: 30 | AT43: 2 | AU43: 2 | AV43: 0 | AW43: 0 | AX43: 195 | AY43: 110 | AZ43: 85 | BA43: 73 | BB43: 52 | BC43: 21 | BD43: 9 | BE43: 4 | BF43: 5 | BG43: 0 | BH43: 0 | BI43: 0 | BJ43: 1 | BK43: 1 | BL43: 0 | BM43: 8 | BN43: 3 | BO43: 5 | BP43: 583 | BQ43: 14 | BR43: 569 | BS43: 14 | BT43: 569 | BU43: 0 | BV43: 0 | BW43: 0 | BX43: 0 | BY43: 583 | BZ43: 0 | CA43: 569 | CB43: 0 | CC43: 356 | CD43: 5 | CE43: 351 | CF43: 2 | CG43: 316 | CH43: 0 | CI43: 0 | CJ43: 3 | CK43: 35 | CL43: 356 | CM43: 0 | CN43: 356 | CO43: 0
