Workbook

Sheet 歷年
A1: 1.4-03 中低收入老人特別照顧津貼
A2: 民國92-111年
A4: 年及地區別 | B4: 受照顧者人次 (按月計算) | K4: 發放金額 (元) | L4: 具原住民身分 受照顧者人次
B5: 合計 | E5: 65至69歲 | F5: 70至74歲 | G5: 75至79歲 | H5: 80至84歲 | I5: 85至89歲 | J5: 90歲以上
B6: 計 | C6: 男 | D6: 女 | L6: 男 | M6: 女
A7: 92年, 2003 | B7: ='92'!B7 -> 7634 | C7: ='92'!C7 -> 2797 | D7: ='92'!D7 -> 4837 | E7: ='92'!E7 -> 1242 | F7: ='92'!F7 -> 1811 | G7: ='92'!G7 -> 1869 | H7: ='92'!H7 -> 2712 | K7: ='92'!K7 -> 35535500 | L7: ='92'!L7 -> 0 | M7: ='92'!M7 -> 0
A8: 93年, 2004 | B8: ='93'!B7 -> 8517 | C8: ='93'!C7 -> 3056 | D8: ='93'!D7 -> 5461 | E8: ='93'!E7 -> 1245 | F8: ='93'!F7 -> 2064 | G8: ='93'!G7 -> 2028 | H8: ='93'!H7 -> 3180 | K8: ='93'!K7 -> 39710000 | L8: ='93'!L7 -> 0 | M8: ='93'!M7 -> 0
A9: 94年, 2005 | B9: ='94'!B7 -> 7847 | C9: ='94'!C7 -> 2755 | D9: ='94'!D7 -> 5092 | E9: ='94'!E7 -> 1085 | F9: ='94'!F7 -> 1987 | G9: ='94'!G7 -> 1732 | H9: ='94'!H7 -> 3043 | K9: ='94'!K7 -> 36459000 | L9: ='94'!L7 -> 0 | M9: ='94'!M7 -> 0
A10: 95年, 2006 | B10: ='95'!B7 -> 7123 | C10: ='95'!C7 -> 2573 | D10: ='95'!D7 -> 4550 | E10: ='95'!E7 -> 756 | F10: ='95'!F7 -> 1818 | G10: ='95'!G7 -> 1645 | H10: ='95'!H7 -> 2904 | K10: ='95'!K7 -> 32865000 | L10: ='95'!L7 -> 0 | M10: ='95'!M7 -> 0
A11: 96年, 2007 | B11: ='96'!B7 -> 6429 | C11: ='96'!C7 -> 2322 | D11: ='96'!D7 -> 4107 | E11: ='96'!E7 -> 586 | F11: ='96'!F7 -> 1696 | G11: ='96'!G7 -> 1479 | H11: ='96'!H7 -> 2668 | K11: ='96'!K7 -> 30317500 | L11: ='96'!L7 -> 0 | M11: ='96'!M7 -> 0
A12: 97年, 2008 | B12: ='97'!B7 -> 6519 | C12: ='97'!C7 -> 2141 | D12: ='97'!D7 -> 4378 | E12: ='97'!E7 -> 678 | F12: ='97'!F7 -> 1549 | G12: ='97'!G7 -> 1607 | H12: ='97'!H7 -> 1418 | I12: ='97'!I7 -> 748 | ... M12: ='97'!M7 -> 0
A13: 98年, 2009 | B13: ='98'!B7 -> 7263 | C13: ='98'!C7 -> 2494 | D13: ='98'!D7 -> 4769 | E13: ='98'!E7 -> 814 | F13: ='98'!F7 -> 1388 | G13: ='98'!G7 -> 1777 | H13: ='98'!H7 -> 1598 | I13: ='98'!I7 -> 1048 | ... M13: ='98'!M7 -> 0
A14: 99年 ,2010 | B14: ='99'!B7 -> 7862 | C14: ='99'!C7 -> 2766 | D14: ='99'!D7 -> 5096 | E14: ='99'!E7 -> 874 | F14: ='99'!F7 -> 1459 | G14: ='99'!G7 -> 1840 | H14: ='99'!H7 -> 1856 | I14: ='99'!I7 -> 1150 | ... M14: ='99'!M7 -> 0
A15: 100年, 2011 | B15: ='100'!B7 -> 8116 | C15: ='100'!C7 -> 2959 | D15: ='100'!D7 -> 5157 | E15: ='100'!E7 -> 780 | F15: ='100'!F7 -> 1503 | G15: ='100'!G7 -> 1869 | H15: ='100'!H7 -> 1981 | I15: ='100'!I7 -> 1302 | ... M15: ='100'!M7 -> 128
A16: 101年, 2012 | B16: ='101'!B7 -> 9042 | C16: ='101'!C7 -> 3155 | D16: ='101'!D7 -> 5887 | E16: ='101'!E7 -> 813 | F16: ='101'!F7 -> 1575 | G16: ='101'!G7 -> 2173 | H16: ='101'!H7 -> 2086 | I16: ='101'!I7 -> 1544 | ... M16: ='101'!M7 -> 142
A17: 102年, 2013 | B17: ='102'!B7 -> 9152 | C17: ='102'!C7 -> 3261 | D17: ='102'!D7 -> 5891 | E17: ='102'!E7 -> 851 | F17: ='102'!F7 -> 1473 | G17: ='102'!G7 -> 2311 | H17: ='102'!H7 -> 2058 | I17: ='102'!I7 -> 1630 | ... M17: ='102'!M7 -> 139
A18: 103年, 2014 | B18: 9077 | C18: 3149 | D18: 5928 | E18: 805 | F18: 1424 | G18: 2201 | H18: 1994 | I18: 1780 | J18: 873 | K18: 45550000 | L18: 30 | M18: 154
A19: 104年, 2015 | B19: 9470 | C19: 3312 | D19: 6158 | E19: 1027 | F19: 1397 | G19: 2160 | H19: 2058 | I19: 1773 | J19: 1055 | K19: 47530000 | L19: 54 | M19: 144
A20: 105年, 2016 | B20: 9448 | C20: 3305 | D20: 6143 | E20: 1111 | F20: 1311 | G20: 1983 | H20: 2050 | I20: 1866 | J20: 1127 | K20: 47455000 | L20: 69 | M20: 117
A21: 106年, 2017 | B21: 9360 | C21: 3259 | D21: 6101 | E21: 949 | F21: 1250 | G21: 2006 | H21: 2077 | I21: 1838 | J21: 1240 | K21: 46937842 | L21: 72 | M21: 106
A22: 107年, 2018 | B22: 8745 | C22: 3001 | D22: 5744 | E22: 960 | F22: 1243 | G22: 1694 | H22: 2020 | I22: 1722 | J22: 1106 | K22: 43779149 | L22: 48 | M22: 128
A23: 108年, 2019 | B23: 8597 | C23: 2877 | D23: 5720 | E23: 874 | F23: 1153 | G23: 1495 | H23: 2119 | I23: 1834 | J23: 1122 | K23: 42959500 | L23: 71 | M23: 175
A24: 109年, 2020 | B24: 8465 | C24: 3019 | D24: 5446 | E24: 853 | F24: 1038 | G24: 1508 | H24: 2062 | I24: 1661 | J24: 1343 | K24: 42393008 | L24: 120 | M24: 331
A25: 110年, 2021 | B25: 7640 | C25: 2675 | D25: 4965 | E25: 777 | F25: 1035 | G25: 1280 | H25: 1923 | I25: 1382 | J25: 1243 | K25: 38231500 | L25: 68 | M25: 243
A26: 111年, 2022 | B26: 6427 | C26: 2185 | D26: 4242 | E26: 659 | F26: 1037 | G26: 1033 | H26: 1471 | I26: 1211 | J26: 1016 | K26: 32163000 | L26: 55 | M26: 208
A27: 112年, 2023 | B27: 5406 | C27: 1816 | D27: 3590 | E27: 615 | F27: 971 | G27: 862 | H27: 1196 | I27: 958 | J27: 804 | K27: 27080000 | L27: 12 | M27: 74
A28: 113年, 2024 | B28: 4758 | C28: 1572 | D28: 3186 | E28: 484 | F28: 1004 | G28: 787 | H28: 1039 | I28: 814 | J28: 630 | K28: 23850000 | L28: 8 | M28: 39
A29: 資料來源：直轄市、縣(市)政府。

Sheet 113
A1: 1.4-03 中低收入老人特別照顧津貼
A2: 民國113年
A4: 年及地區別 | B4: 受照顧者人次 (按月計算) | K4: 發放金額 (元) | L4: 具原住民身分 受照顧者人次
B5: 合計 | E5: 65至69歲 | F5: 70至74歲 | G5: 75至79歲 | H5: 80至84歲 | I5: 85至89歲 | J5: 90歲以上
B6: 計 | C6: 男 | D6: 女 | L6: 男 | M6: 女
A7: 113年, 2024 | B7: 4758 | C7: 1572 | D7: 3186 | E7: 484 | F7: 1004 | G7: 787 | H7: 1039 | I7: 814 | J7: 630 | K7: 23850000 | L7: 8 | M7: 39
A8: 新北市 | B8: 253 | C8: 75 | D8: 178 | E8: 22 | F8: 20 | G8: 79 | H8: 90 | I8: 18 | J8: 24 | K8: 1265000 | L8: 0 | M8: 0
A9: 臺北市 | B9: 216 | C9: 44 | D9: 172 | E9: 5 | F9: 34 | G9: 27 | H9: 35 | I9: 51 | J9: 64 | K9: 1140000 | L9: 0 | M9: 0
A10: 桃園市 | B10: 259 | C10: 48 | D10: 211 | E10: 15 | F10: 112 | G10: 26 | H10: 39 | I10: 45 | J10: 22 | K10: 1295000 | L10: 0 | M10: 0
A11: 臺中市 | B11: 534 | C11: 178 | D11: 356 | E11: 67 | F11: 152 | G11: 109 | H11: 93 | I11: 88 | J11: 25 | K11: 2670000 | L11: 0 | M11: 0
A12: 臺南市 | B12: 634 | C12: 309 | D12: 325 | E12: 58 | F12: 115 | G12: 69 | H12: 190 | I12: 118 | J12: 84 | K12: 3170000 | L12: 0 | M12: 0
A13: 高雄市 | B13: 1550 | C13: 502 | D13: 1048 | E13: 193 | F13: 296 | G13: 245 | H13: 330 | I13: 239 | J13: 247 | K13: 7750000 | L13: 0 | M13: 0
A14: 宜蘭縣 | B14: 76 | C14: 12 | D14: 64 | E14: 0 | F14: 0 | G14: 12 | H14: 2 | I14: 38 | J14: 24 | K14: 380000 | L14: 0 | M14: 0
A15: 新竹縣 | B15: 119 | C15: 61 | D15: 58 | E15: 10 | F15: 0 | G15: 33 | H15: 16 | I15: 42 | J15: 18 | K15: 595000 | L15: 0 | M15: 3
A16: 苗栗縣 | B16: 92 | C16: 48 | D16: 44 | E16: 12 | F16: 36 | G16: 3 | H16: 0 | I16: 17 | J16: 24 | K16: 460000 | L16: 0 | M16: 0
A17: 彰化縣 | B17: 168 | C17: 107 | D17: 61 | E17: 33 | F17: 63 | G17: 19 | H17: 28 | I17: 25 | J17: 0 | K17: 840000 | L17: 0 | M17: 0
A18: 南投縣 | B18: 98 | C18: 12 | D18: 86 | E18: 3 | F18: 13 | G18: 12 | H18: 14 | I18: 13 | J18: 43 | K18: 490000 | L18: 0 | M18: 0
... A29: 連江縣 | B29: 0 | C29: 0 | D29: 0 | E29: 0 | F29: 0 | G29: 0 | H29: 0 | I29: 0 | J29: 0 | K29: 0 | L29: 0 | M29: 0
A30: 資料來源：直轄市、縣(市)政府。

Sheet 112
A1: 1.4-03 中低收入老人特別照顧津貼
A2: 民國112年
A4: 年及地區別 | B4: 受照顧者人次 (按月計算) | K4: 發放金額 (元) | L4: 具原住民身分 受照顧者人次
B5: 合計 | E5: 65至69歲 | F5: 70至74歲 | G5: 75至79歲 | H5: 80至84歲 | I5: 85至89歲 | J5: 90歲以上
B6: 計 | C6: 男 | D6: 女 | L6: 男 | M6: 女
A7: 112年, 2023 | B7: 5406 | C7: 1816 | D7: 3590 | E7: 615 | F7: 971 | G7: 862 | H7: 1196 | I7: 958 | J7: 804 | K7: 27080000 | L7: 12 | M7: 74
A8: 新北市 | B8: 269 | C8: 63 | D8: 206 | E8: 22 | F8: 12 | G8: 101 | H8: 87 | I8: 32 | J8: 15 | K8: 1345000 | L8: 0 | M8: 0
A9: 臺北市 | B9: 185 | C9: 37 | D9: 148 | E9: 0 | F9: 24 | G9: 9 | H9: 45 | I9: 40 | J9: 67 | K9: 970000 | L9: 0 | M9: 0
A10: 桃園市 | B10: 287 | C10: 85 | D10: 202 | E10: 17 | F10: 68 | G10: 24 | H10: 56 | I10: 53 | J10: 69 | K10: 1435000 | L10: 0 | M10: 3
A11: 臺中市 | B11: 515 | C11: 192 | D11: 323 | E11: 79 | F11: 132 | G11: 110 | H11: 88 | I11: 92 | J11: 14 | K11: 2575000 | L11: 0 | M11: 12
A12: 臺南市 | B12: 720 | C12: 309 | D12: 411 | E12: 78 | F12: 84 | G12: 103 | H12: 231 | I12: 107 | J12: 117 | K12: 3600000 | L12: 0 | M12: 0
A13: 高雄市 | B13: 1940 | C13: 649 | D13: 1291 | E13: 268 | F13: 390 | G13: 266 | H13: 383 | I13: 323 | J13: 310 | K13: 9700000 | L13: 0 | M13: 0
A14: 宜蘭縣 | B14: 57 | C14: 9 | D14: 48 | E14: 0 | F14: 0 | G14: 12 | H14: 9 | I14: 24 | J14: 12 | K14: 285000 | L14: 0 | M14: 0
A15: 新竹縣 | B15: 117 | C15: 57 | D15: 60 | E15: 4 | F15: 0 | G15: 36 | H15: 33 | I15: 36 | J15: 8 | K15: 585000 | L15: 0 | M15: 0
A16: 苗栗縣 | B16: 101 | C16: 51 | D16: 50 | E16: 24 | F16: 24 | G16: 10 | H16: 16 | I16: 8 | J16: 19 | K16: 505000 | L16: 0 | M16: 0
A17: 彰化縣 | B17: 170 | C17: 97 | D17: 73 | E17: 33 | F17: 42 | G17: 44 | H17: 15 | I17: 34 | J17: 2 | K17: 850000 | L17: 0 | M17: 0
A18: 南投縣 | B18: 145 | C18: 28 | D18: 117 | E18: 19 | F18: 5 | G18: 0 | H18: 23 | I18: 32 | J18: 66 | K18: 725000 | L18: 0 | M18: 0
... A29: 連江縣 | B29: 0 | C29: 0 | D29: 0 | E29: 0 | F29: 0 | G29: 0 | H29: 0 | I29: 0 | J29: 0 | K29: 0 | L29: 0 | M29: 0
A30: 資料來源：直轄市、縣(市)政府。

Sheet 111
A1: 1.4-03 中低收入老人特別照顧津貼
A2: 民國111年
A4: 年及地區別 | B4: 受照顧者人次 (按月計算) | K4: 發放金額 (元) | L4: 具原住民身分 受照顧者人次
B5: 合計 | E5: 65至69歲 | F5: 70至74歲 | G5: 75至79歲 | H5: 80至84歲 | I5: 85至89歲 | J5: 90歲以上
B6: 計 | C6: 男 | D6: 女 | L6: 男 | M6: 女
A7: 111年, 2022 | B7: 6427 | C7: 2185 | D7: 4242 | E7: 659 | F7: 1037 | G7: 1033 | H7: 1471 | I7: 1211 | J7: 1016 | K7: 32163000 | L7: 55 | M7: 208
A8: 新北市 | B8: 314 | C8: 64 | D8: 250 | E8: 8 | F8: 56 | G8: 111 | H8: 88 | I8: 46 | J8: 5 | K8: 1570000 | L8: 34 | M8: 117
A9: 臺北市 | B9: 230 | C9: 46 | D9: 184 | E9: 0 | F9: 30 | G9: 5 | H9: 72 | I9: 72 | J9: 51 | K9: 1180000 | L9: 0 | M9: 0
A10: 桃園市 | B10: 364 | C10: 116 | D10: 248 | E10: 48 | F10: 65 | G10: 34 | H10: 86 | I10: 74 | J10: 57 | K10: 1820000 | L10: 0 | M10: 12
A11: 臺中市 | B11: 577 | C11: 186 | D11: 391 | E11: 84 | F11: 129 | G11: 109 | H11: 128 | I11: 109 | J11: 18 | K11: 2885000 | L11: 0 | M11: 12
A12: 臺南市 | B12: 828 | C12: 351 | D12: 477 | E12: 69 | F12: 121 | G12: 123 | H12: 254 | I12: 142 | J12: 119 | K12: 4140000 | L12: 0 | M12: 0
A13: 高雄市 | B13: 2284 | C13: 831 | D13: 1453 | E13: 277 | F13: 380 | G13: 259 | H13: 567 | I13: 366 | J13: 435 | K13: 11420000 | L13: 0 | M13: 0
A14: 宜蘭縣 | B14: 60 | C14: 0 | D14: 60 | E14: 0 | F14: 12 | G14: 12 | H14: 12 | I14: 18 | J14: 6 | K14: 300000 | L14: 0 | M14: 0
A15: 新竹縣 | B15: 111 | C15: 53 | D15: 58 | E15: 0 | F15: 1 | G15: 36 | H15: 47 | I15: 16 | J15: 11 | K15: 555000 | L15: 0 | M15: 0
A16: 苗栗縣 | B16: 91 | C16: 34 | D16: 57 | E16: 18 | F16: 6 | G16: 30 | H16: 0 | I16: 12 | J16: 25 | K16: 455000 | L16: 0 | M16: 0
A17: 彰化縣 | B17: 247 | C17: 144 | D17: 103 | E17: 52 | F17: 25 | G17: 66 | H17: 25 | I17: 59 | J17: 20 | K17: 1235000 | L17: 0 | M17: 0
A18: 南投縣 | B18: 241 | C18: 65 | D18: 176 | E18: 26 | F18: 0 | G18: 32 | H18: 32 | I18: 68 | J18: 83 | K18: 1205000 | L18: 0 | M18: 0
... A29: 連江縣 | B29: 0 | C29: 0 | D29: 0 | E29: 0 | F29: 0 | G29: 0 | H29: 0 | I29: 0 | J29: 0 | K29: 0 | L29: 0 | M29: 0
A30: 資料來源：直轄市、縣(市)政府。

Sheet 110
A1: 1.4-03 中低收入老人特別照顧津貼
A2: 民國110年
A4: 年及地區別 | B4: 受照顧者人次 (按月計算) | K4: 發放金額 (元) | L4: 具原住民身分 受照顧者人次
B5: 合計 | E5: 65至69歲 | F5: 70至74歲 | G5: 75至79歲 | H5: 80至84歲 | I5: 85至89歲 | J5: 90歲以上
B6: 計 | C6: 男 | D6: 女 | L6: 男 | M6: 女
A7: 110年, 2021 | B7: 7640 | C7: 2675 | D7: 4965 | E7: 777 | F7: 1035 | G7: 1280 | H7: 1923 | I7: 1382 | J7: 1243 | K7: 38231500 | L7: 68 | M7: 243
A8: 新北市 | B8: 434 | C8: 80 | D8: 354 | E8: 5 | F8: 66 | G8: 122 | H8: 138 | I8: 84 | J8: 19 | K8: 2170000 | L8: 44 | M8: 202
A9: 臺北市 | B9: 309 | C9: 46 | D9: 263 | E9: 0 | F9: 32 | G9: 39 | H9: 65 | I9: 80 | J9: 93 | K9: 1585000 | L9: 0 | M9: 0
A10: 桃園市 | B10: 473 | C10: 161 | D10: 312 | E10: 66 | F10: 63 | G10: 64 | H10: 92 | I10: 103 | J10: 85 | K10: 2365000 | L10: 0 | M10: 12
A11: 臺中市 | B11: 639 | C11: 225 | D11: 414 | E11: 116 | F11: 141 | G11: 97 | H11: 152 | I11: 106 | J11: 27 | K11: 3195000 | L11: 0 | M11: 6
A12: 臺南市 | B12: 948 | C12: 426 | D12: 522 | E12: 83 | F12: 120 | G12: 166 | H12: 265 | I12: 185 | J12: 129 | K12: 4740000 | L12: 0 | M12: 0
A13: 高雄市 | B13: 2521 | C13: 1026 | D13: 1495 | E13: 289 | F13: 337 | G13: 342 | H13: 643 | I13: 417 | J13: 493 | K13: 12596500 | L13: 0 | M13: 0
A14: 宜蘭縣 | B14: 79 | C14: 1 | D14: 78 | E14: 0 | F14: 12 | G14: 20 | H14: 25 | I14: 22 | J14: 0 | K14: 395000 | L14: 0 | M14: 0
A15: 新竹縣 | B15: 153 | C15: 60 | D15: 93 | E15: 0 | F15: 12 | G15: 33 | H15: 64 | I15: 21 | J15: 23 | K15: 765000 | L15: 0 | M15: 0
A16: 苗栗縣 | B16: 84 | C16: 33 | D16: 51 | E16: 12 | F16: 0 | G16: 36 | H16: 0 | I16: 24 | J16: 12 | K16: 420000 | L16: 0 | M16: 0
A17: 彰化縣 | B17: 316 | C17: 143 | D17: 173 | E17: 60 | F17: 39 | G17: 76 | H17: 75 | I17: 53 | J17: 13 | K17: 1580000 | L17: 0 | M17: 0
A18: 南投縣 | B18: 325 | C18: 93 | D18: 232 | E18: 44 | F18: 11 | G18: 36 | H18: 93 | I18: 69 | J18: 72 | K18: 1625000 | L18: 0 | M18: 0
... A29: 連江縣 | B29: 0 | C29: 0 | D29: 0 | E29: 0 | F29: 0 | G29: 0 | H29: 0 | I29: 0 | J29: 0 | K29: 0 | L29: 0 | M29: 0
A30: 資料來源：直轄市、縣(市)政府。

Sheet 109
A1: 1.4-03 中低收入老人特別照顧津貼
A2: 民國109年
A4: 年及地區別 | B4: 受照顧者人次 (按月計算) | K4: 發放金額 (元) | L4: 具原住民身分 受照顧者人次
B5: 合計 | E5: 65至69歲 | F5: 70至74歲 | G5: 75至79歲 | H5: 80至84歲 | I5: 85至89歲 | J5: 90歲以上
B6: 計 | C6: 男 | D6: 女 | L6: 男 | M6: 女
A7: 109年, 2020 | B7: 8465 | C7: 3019 | D7: 5446 | E7: 853 | F7: 1038 | G7: 1508 | H7: 2062 | I7: 1661 | J7: 1343 | K7: 42393008 | L7: 120 | M7: 331
A8: 新北市 | B8: 716 | C8: 212 | D8: 504 | E8: 38 | F8: 100 | G8: 210 | H8: 194 | I8: 153 | J8: 21 | K8: 3590000 | L8: 92 | M8: 242
A9: 臺北市 | B9: 289 | C9: 55 | D9: 234 | E9: 0 | F9: 40 | G9: 14 | H9: 45 | I9: 87 | J9: 103 | K9: 1480000 | L9: 0 | M9: 0
A10: 桃園市 | B10: 535 | C10: 222 | D10: 313 | E10: 53 | F10: 48 | G10: 88 | H10: 90 | I10: 116 | J10: 140 | K10: 2675000 | L10: 0 | M10: 12
A11: 臺中市 | B11: 878 | C11: 291 | D11: 587 | E11: 130 | F11: 148 | G11: 143 | H11: 250 | I11: 113 | J11: 94 | K11: 4390000 | L11: 0 | M11: 0
A12: 臺南市 | B12: 909 | C12: 369 | D12: 540 | E12: 92 | F12: 132 | G12: 195 | H12: 220 | I12: 170 | J12: 100 | K12: 4545000 | L12: 0 | M12: 0
A13: 高雄市 | B13: 2654 | C13: 1095 | D13: 1559 | E13: 284 | F13: 294 | G13: 410 | H13: 676 | I13: 518 | J13: 472 | K13: 13355000 | L13: 0 | M13: 0
A14: 宜蘭縣 | B14: 102 | C14: 15 | D14: 87 | E14: 0 | F14: 12 | G14: 35 | H14: 36 | I14: 19 | J14: 0 | K14: 510000 | L14: 0 | M14: 0
A15: 新竹縣 | B15: 133 | C15: 66 | D15: 67 | E15: 12 | F15: 21 | G15: 36 | H15: 35 | I15: 17 | J15: 12 | K15: 665000 | L15: 0 | M15: 0
A16: 苗栗縣 | B16: 88 | C16: 37 | D16: 51 | E16: 12 | F16: 6 | G16: 7 | H16: 5 | I16: 58 | J16: 0 | K16: 440000 | L16: 8 | M16: 0
A17: 彰化縣 | B17: 405 | C17: 142 | D17: 263 | E17: 43 | F17: 69 | G17: 92 | H17: 94 | I17: 83 | J17: 24 | K17: 2025000 | L17: 0 | M17: 0
A18: 南投縣 | B18: 333 | C18: 107 | D18: 226 | E18: 40 | F18: 20 | G18: 36 | H18: 89 | I18: 57 | J18: 91 | K18: 1665000 | L18: 0 | M18: 0
... A29: 連江縣 | B29: 0 | C29: 0 | D29: 0 | E29: 0 | F29: 0 | G29: 0 | H29: 0 | I29: 0 | J29: 0 | K29: 0 | L29: 0 | M29: 0
A30: 資料來源：直轄市、縣(市)政府。

Sheet 108
A1: 1.4-03 中低收入老人特別照顧津貼
A2: 民國108年
A4: 年及地區別 | B4: 受照顧者人次 (按月計算) | K4: 發放金額 (元) | L4: 具原住民身分 受照顧者人次
B5: 合計 | E5: 65至69歲 | F5: 70至74歲 | G5: 75至79歲 | H5: 80至84歲 | I5: 85至89歲 | J5: 90歲以上
B6: 計 | C6: 男 | D6: 女 | L6: 男 | M6: 女
A7: 108年, 2019 | B7: 8597 | C7: 2877 | D7: 5720 | E7: 874 | F7: 1153 | G7: 1495 | H7: 2119 | I7: 1834 | J7: 1122 | K7: 42959500 | L7: 71 | M7: 175
A8: 新北市 | B8: 825 | C8: 267 | D8: 558 | E8: 47 | F8: 140 | G8: 284 | H8: 170 | I8: 155 | J8: 29 | K8: 4130000 | L8: 34 | M8: 75
A9: 臺北市 | B9: 307 | C9: 55 | D9: 252 | E9: 10 | F9: 42 | G9: 11 | H9: 60 | I9: 93 | J9: 91 | K9: 1585000 | L9: 0 | M9: 0
A10: 桃園市 | B10: 619 | C10: 215 | D10: 404 | E10: 73 | F10: 45 | G10: 75 | H10: 110 | I10: 160 | J10: 156 | K10: 3095000 | L10: 0 | M10: 7
A11: 臺中市 | B11: 916 | C11: 277 | D11: 639 | E11: 148 | F11: 131 | G11: 121 | H11: 258 | I11: 140 | J11: 118 | K11: 4580000 | L11: 0 | M11: 0
A12: 臺南市 | B12: 942 | C12: 345 | D12: 597 | E12: 91 | F12: 188 | G12: 135 | H12: 237 | I12: 180 | J12: 111 | K12: 4710000 | L12: 0 | M12: 0
A13: 高雄市 | B13: 2646 | C13: 930 | D13: 1716 | E13: 328 | F13: 330 | G13: 460 | H13: 646 | I13: 536 | J13: 346 | K13: 13212500 | L13: 0 | M13: 3
A14: 宜蘭縣 | B14: 103 | C14: 16 | D14: 87 | E14: 7 | F14: 15 | G14: 24 | H14: 45 | I14: 12 | J14: 0 | K14: 515000 | L14: 0 | M14: 0
A15: 新竹縣 | B15: 104 | C15: 52 | D15: 52 | E15: 3 | F15: 24 | G15: 34 | H15: 7 | I15: 30 | J15: 6 | K15: 520000 | L15: 0 | M15: 0
A16: 苗栗縣 | B16: 109 | C16: 41 | D16: 68 | E16: 5 | F16: 0 | G16: 0 | H16: 12 | I16: 82 | J16: 10 | K16: 545000 | L16: 12 | M16: 0
A17: 彰化縣 | B17: 434 | C17: 158 | D17: 276 | E17: 51 | F17: 82 | G17: 75 | H17: 120 | I17: 99 | J17: 7 | K17: 2170000 | L17: 0 | M17: 0
A18: 南投縣 | B18: 341 | C18: 95 | D18: 246 | E18: 25 | F18: 24 | G18: 63 | H18: 95 | I18: 96 | J18: 38 | K18: 1705000 | L18: 0 | M18: 0
... A29: 連江縣 | B29: 0 | C29: 0 | D29: 0 | E29: 0 | F29: 0 | G29: 0 | H29: 0 | I29: 0 | J29: 0 | K29: 0 | L29: 0 | M29: 0
A30: 資料來源：直轄市、縣(市)政府。

Sheet 107
A1: 1.4-03 中低收入老人特別照顧津貼
A2: 民國107年
A4: 年及地區別 | B4: 受照顧者人次 (按月計算) | K4: 發放金額 (元) | L4: 具原住民身分 受照顧者人次
B5: 合計 | E5: 65至69歲 | F5: 70至74歲 | G5: 75至79歲 | H5: 80至84歲 | I5: 85至89歲 | J5: 90歲以上
B6: 計 | C6: 男 | D6: 女 | L6: 男 | M6: 女
A7: 107年, 2018 | B7: 8745 | C7: 3001 | D7: 5744 | E7: 960 | F7: 1243 | G7: 1694 | H7: 2020 | I7: 1722 | J7: 1106 | K7: 43779149 | L7: 48 | M7: 128
A8: 新北市 | B8: 874 | C8: 335 | D8: 539 | E8: 43 | F8: 213 | G8: 237 | H8: 172 | I8: 156 | J8: 53 | K8: 4380000 | L8: 0 | M8: 12
A9: 臺北市 | B9: 374 | C9: 72 | D9: 302 | E9: 50 | F9: 27 | G9: 51 | H9: 76 | I9: 105 | J9: 65 | K9: 1905000 | L9: 0 | M9: 0
A10: 桃園市 | B10: 748 | C10: 330 | D10: 418 | E10: 83 | F10: 73 | G10: 112 | H10: 101 | I10: 215 | J10: 164 | K10: 3740000 | L10: 0 | M10: 12
A11: 臺中市 | B11: 1004 | C11: 272 | D11: 732 | E11: 145 | F11: 138 | G11: 182 | H11: 246 | I11: 162 | J11: 131 | K11: 5020000 | L11: 0 | M11: 5
A12: 臺南市 | B12: 944 | C12: 349 | D12: 595 | E12: 147 | F12: 133 | G12: 189 | H12: 260 | I12: 108 | J12: 107 | K12: 4720000 | L12: 0 | M12: 0
A13: 高雄市 | B13: 2565 | C13: 888 | D13: 1677 | E13: 254 | F13: 359 | G13: 556 | H13: 620 | I13: 479 | J13: 297 | K13: 12825000 | L13: 0 | M13: 0
A14: 宜蘭縣 | B14: 146 | C14: 24 | D14: 122 | E14: 12 | F14: 17 | G14: 67 | H14: 47 | I14: 2 | J14: 1 | K14: 730000 | L14: 0 | M14: 11
A15: 新竹縣 | B15: 91 | C15: 38 | D15: 53 | E15: 2 | F15: 24 | G15: 24 | H15: 16 | I15: 25 | J15: 0 | K15: 455000 | L15: 0 | M15: 0
A16: 苗栗縣 | B16: 114 | C16: 39 | D16: 75 | E16: 10 | F16: 0 | G16: 0 | H16: 12 | I16: 80 | J16: 12 | K16: 570000 | L16: 12 | M16: 0
A17: 彰化縣 | B17: 413 | C17: 172 | D17: 241 | E17: 69 | F17: 93 | G17: 79 | H17: 65 | I17: 95 | J17: 12 | K17: 2100000 | L17: 0 | M17: 0
A18: 南投縣 | B18: 306 | C18: 111 | D18: 195 | E18: 26 | F18: 26 | G18: 65 | H18: 50 | I18: 122 | J18: 17 | K18: 1530000 | L18: 10 | M18: 0
... A29: 連江縣 | B29: 0 | C29: 0 | D29: 0 | E29: 0 | F29: 0 | G29: 0 | H29: 0 | I29: 0 | J29: 0 | K29: 0 | L29: 0 | M29: 0
A30: 資料來源：直轄市、縣(市)政府。

Sheet 106
A1: 1.4-03 中低收入老人特別照顧津貼
A2: 民國106年
A4: 年及地區別 | B4: 受照顧者人次 (按月計算) | K4: 發放金額 (元) | L4: 具原住民身分 受照顧者人次
B5: 合計 | E5: 65至69歲 | F5: 70至74歲 | G5: 75至79歲 | H5: 80至84歲 | I5: 85至89歲 | J5: 90歲以上
B6: 計 | C6: 男 | D6: 女 | L6: 男 | M6: 女
A7: 106年, 2017 | B7: 9360 | C7: 3259 | D7: 6101 | E7: 949 | F7: 1250 | G7: 2006 | H7: 2077 | I7: 1838 | J7: 1240 | K7: 46937842 | L7: 72 | M7: 106
A8: 新北市 | B8: 1007 | C8: 386 | D8: 621 | E8: 99 | F8: 221 | G8: 295 | H8: 173 | I8: 138 | J8: 81 | K8: 5040000 | L8: 0 | M8: 12
A9: 臺北市 | B9: 430 | C9: 103 | D9: 327 | E9: 28 | F9: 28 | G9: 86 | H9: 103 | I9: 124 | J9: 61 | K9: 2195000 | L9: 0 | M9: 0
A10: 桃園市 | B10: 779 | C10: 332 | D10: 447 | E10: 55 | F10: 98 | G10: 141 | H10: 112 | I10: 234 | J10: 139 | K10: 3895000 | L10: 0 | M10: 18
A11: 臺中市 | B11: 1099 | C11: 310 | D11: 789 | E11: 149 | F11: 122 | G11: 223 | H11: 269 | I11: 180 | J11: 156 | K11: 5495000 | L11: 12 | M11: 0
A12: 臺南市 | B12: 1044 | C12: 338 | D12: 706 | E12: 132 | F12: 119 | G12: 267 | H12: 253 | I12: 125 | J12: 148 | K12: 5220000 | L12: 0 | M12: 0
A13: 高雄市 | B13: 2604 | C13: 922 | D13: 1682 | E13: 303 | F13: 334 | G13: 592 | H13: 505 | I13: 566 | J13: 304 | K13: 13020000 | L13: 0 | M13: 0
A14: 宜蘭縣 | B14: 128 | C14: 20 | D14: 108 | E14: 12 | F14: 21 | G14: 50 | H14: 29 | I14: 8 | J14: 8 | K14: 640000 | L14: 0 | M14: 0
A15: 新竹縣 | B15: 81 | C15: 48 | D15: 33 | E15: 0 | F15: 23 | G15: 18 | H15: 22 | I15: 18 | J15: 0 | K15: 405000 | L15: 0 | M15: 0
A16: 苗栗縣 | B16: 123 | C16: 27 | D16: 96 | E16: 2 | F16: 0 | G16: 0 | H16: 34 | I16: 75 | J16: 12 | K16: 615000 | L16: 12 | M16: 0
A17: 彰化縣 | B17: 386 | C17: 170 | D17: 216 | E17: 60 | F17: 90 | G17: 69 | H17: 67 | I17: 84 | J17: 16 | K17: 1990000 | L17: 0 | M17: 0
A18: 南投縣 | B18: 359 | C18: 120 | D18: 239 | E18: 12 | F18: 50 | G18: 63 | H18: 109 | I18: 107 | J18: 18 | K18: 1795000 | L18: 24 | M18: 1
... A29: 連江縣 | B29: 0 | C29: 0 | D29: 0 | E29: 0 | F29: 0 | G29: 0 | H29: 0 | I29: 0 | J29: 0 | K29: 0 | L29: 0 | M29: 0
A30: 資料來源：直轄市、縣(市)政府。

Sheet 105
A1: 1.4-03 中低收入老人特別照顧津貼
A2: 民國105年
A4: 年及地區別 | B4: 受照顧者人次 (按月計算) | K4: 發放金額 (元) | L4: 具原住民身分 受照顧者人次
B5: 合計 | E5: 65至69歲 | F5: 70至74歲 | G5: 75至79歲 | H5: 80至84歲 | I5: 85至89歲 | J5: 90歲以上
B6: 計 | C6: 男 | D6: 女 | L6: 男 | M6: 女
A7: 105年, 2016 | B7: 9448 | C7: 3305 | D7: 6143 | E7: 1111 | F7: 1311 | G7: 1983 | H7: 2050 | I7: 1866 | J7: 1127 | K7: 47455000 | L7: 69 | M7: 117
A8: 新北市 | B8: 1071 | C8: 409 | D8: 662 | E8: 139 | F8: 200 | G8: 257 | H8: 270 | I8: 135 | J8: 70 | K8: 5355000 | L8: 2 | M8: 12
A9: 臺北市 | B9: 561 | C9: 184 | D9: 377 | E9: 35 | F9: 39 | G9: 92 | H9: 133 | I9: 162 | J9: 100 | K9: 2935000 | L9: 0 | M9: 0
A10: 桃園市 | B10: 575 | C10: 269 | D10: 306 | E10: 51 | F10: 115 | G10: 71 | H10: 102 | I10: 149 | J10: 87 | K10: 2875000 | L10: 0 | M10: 24
A11: 臺中市 | B11: 1112 | C11: 296 | D11: 816 | E11: 133 | F11: 98 | G11: 280 | H11: 286 | I11: 212 | J11: 103 | K11: 5560000 | L11: 4 | M11: 0
A12: 臺南市 | B12: 1074 | C12: 306 | D12: 768 | E12: 178 | F12: 163 | G12: 284 | H12: 164 | I12: 144 | J12: 141 | K12: 5370000 | L12: 0 | M12: 0
A13: 高雄市 | B13: 2476 | C13: 892 | D13: 1584 | E13: 358 | F13: 357 | G13: 476 | H13: 466 | I13: 571 | J13: 248 | K13: 12380000 | L13: 0 | M13: 0
A14: 宜蘭縣 | B14: 100 | C14: 14 | D14: 86 | E14: 12 | F14: 0 | G14: 34 | H14: 14 | I14: 22 | J14: 18 | K14: 500000 | L14: 0 | M14: 0
A15: 新竹縣 | B15: 35 | C15: 23 | D15: 12 | E15: 0 | F15: 5 | G15: 13 | H15: 8 | I15: 9 | J15: 0 | K15: 175000 | L15: 0 | M15: 0
A16: 苗栗縣 | B16: 144 | C16: 39 | D16: 105 | E16: 12 | F16: 2 | G16: 12 | H16: 80 | I16: 37 | J16: 1 | K16: 720000 | L16: 12 | M16: 0
A17: 彰化縣 | B17: 351 | C17: 170 | D17: 181 | E17: 82 | F17: 89 | G17: 51 | H17: 44 | I17: 68 | J17: 17 | K17: 1830000 | L17: 0 | M17: 0
A18: 南投縣 | B18: 465 | C18: 179 | D18: 286 | E18: 12 | F18: 83 | G18: 127 | H18: 110 | I18: 99 | J18: 34 | K18: 2325000 | L18: 27 | M18: 0
... A29: 連江縣 | B29: 0 | C29: 0 | D29: 0 | E29: 0 | F29: 0 | G29: 0 | H29: 0 | I29: 0 | J29: 0 | K29: 0 | L29: 0 | M29: 0
A30: 資料來源：直轄市、縣(市)政府。

Sheet 104
A1: 1.4-03 中低收入老人特別照顧津貼
A2: 民國104年
A4: 年及地區別 | B4: 受照顧者人次 (按月計算) | K4: 發放金額 (元) | L4: 具原住民身分 受照顧者人次
B5: 合計 | E5: 65至69歲 | F5: 70至74歲 | G5: 75至79歲 | H5: 80至84歲 | I5: 85至89歲 | J5: 90歲以上
B6: 計 | C6: 男 | D6: 女 | L6: 男 | M6: 女
A7: 104年, 2015 | B7: 9470 | C7: 3312 | D7: 6158 | E7: 1027 | F7: 1397 | G7: 2160 | H7: 2058 | I7: 1773 | J7: 1055 | K7: 47530000 | L7: 54 | M7: 144
A8: 新北市 | B8: 1037 | C8: 347 | D8: 690 | E8: 164 | F8: 192 | G8: 262 | H8: 278 | I8: 90 | J8: 51 | K8: 5185000 | L8: 0 | M8: 12
A9: 臺北市 | B9: 533 | C9: 204 | D9: 329 | E9: 50 | F9: 47 | G9: 103 | H9: 106 | I9: 142 | J9: 85 | K9: 2750000 | L9: 0 | M9: 0
A10: 桃園市 | B10: 485 | C10: 231 | D10: 254 | E10: 42 | F10: 86 | G10: 50 | H10: 67 | I10: 155 | J10: 85 | K10: 2425000 | L10: 0 | M10: 18
A11: 臺中市 | B11: 1132 | C11: 299 | D11: 833 | E11: 117 | F11: 145 | G11: 281 | H11: 297 | I11: 188 | J11: 104 | K11: 5660000 | L11: 0 | M11: 0
A12: 臺南市 | B12: 1061 | C12: 319 | D12: 742 | E12: 121 | F12: 158 | G12: 294 | H12: 216 | I12: 156 | J12: 116 | K12: 5305000 | L12: 0 | M12: 0
A13: 高雄市 | B13: 2534 | C13: 974 | D13: 1560 | E13: 355 | F13: 388 | G13: 537 | H13: 484 | I13: 525 | J13: 245 | K13: 12670000 | L13: 0 | M13: 0
A14: 宜蘭縣 | B14: 100 | C14: 32 | D14: 68 | E14: 4 | F14: 14 | G14: 41 | H14: 0 | I14: 36 | J14: 5 | K14: 500000 | L14: 0 | M14: 0
A15: 新竹縣 | B15: 6 | C15: 1 | D15: 5 | E15: 0 | F15: 0 | G15: 3 | H15: 3 | I15: 0 | J15: 0 | K15: 30000 | L15: 0 | M15: 0
A16: 苗栗縣 | B16: 189 | C16: 53 | D16: 136 | E16: 12 | F16: 12 | G16: 12 | H16: 84 | I16: 51 | J16: 18 | K16: 960000 | L16: 2 | M16: 0
A17: 彰化縣 | B17: 307 | C17: 133 | D17: 174 | E17: 62 | F17: 86 | G17: 65 | H17: 16 | I17: 46 | J17: 32 | K17: 1600000 | L17: 0 | M17: 0
A18: 南投縣 | B18: 450 | C18: 218 | D18: 232 | E18: 5 | F18: 107 | G18: 91 | H18: 105 | I18: 90 | J18: 52 | K18: 2250000 | L18: 25 | M18: 6
... A29: 連江縣 | B29: 0 | C29: 0 | D29: 0 | E29: 0 | F29: 0 | G29: 0 | H29: 0 | I29: 0 | J29: 0 | K29: 0 | L29: 0 | M29: 0
A30: 資料來源：直轄市、縣(市)政府。

Sheet 103
A1: 1.4-03 中低收入老人特別照顧津貼
A2: 民國103年
A4: 年及地區別 | B4: 受照顧者人次 (按月計算) | K4: 發放金額 (元) | L4: 具原住民身分 受照顧者人次
B5: 合計 | E5: 65至69歲 | F5: 70至74歲 | G5: 75至79歲 | H5: 80至84歲 | I5: 85至89歲 | J5: 90歲以上
B6: 計 | C6: 男 | D6: 女 | L6: 男 | M6: 女
A7: 103年, 2014 | B7: 9077 | C7: 3149 | D7: 5928 | E7: 805 | F7: 1424 | G7: 2201 | H7: 1994 | I7: 1780 | J7: 873 | K7: 45550000 | L7: 30 | M7: 154
A8: 新北市 | B8: 1002 | C8: 311 | D8: 691 | E8: 154 | F8: 168 | G8: 266 | H8: 242 | I8: 142 | J8: 30 | K8: 5010000 | L8: 0 | M8: 12
A9: 臺北市 | B9: 587 | C9: 178 | D9: 409 | E9: 63 | F9: 45 | G9: 127 | H9: 127 | I9: 118 | J9: 107 | K9: 3070000 | L9: 0 | M9: 0
A10: 臺中市 | B10: 929 | C10: 275 | D10: 654 | E10: 47 | F10: 105 | G10: 222 | H10: 254 | I10: 188 | J10: 113 | K10: 4645000 | L10: 0 | M10: 0
A11: 臺南市 | B11: 845 | C11: 300 | D11: 545 | E11: 50 | F11: 178 | G11: 206 | H11: 198 | I11: 148 | J11: 65 | K11: 4225000 | L11: 0 | M11: 0
A12: 高雄市 | B12: 2590 | C12: 930 | D12: 1660 | E12: 302 | F12: 469 | G12: 575 | H12: 585 | I12: 434 | J12: 225 | K12: 12950000 | L12: 0 | M12: 3
A13: 宜蘭縣 | B13: 87 | C13: 27 | D13: 60 | E13: 0 | F13: 24 | G13: 27 | H13: 10 | I13: 26 | J13: 0 | K13: 435000 | L13: 0 | M13: 0
A14: 桃園縣 | B14: 385 | C14: 176 | D14: 209 | E14: 16 | F14: 74 | G14: 48 | H14: 68 | I14: 135 | J14: 44 | K14: 1925000 | L14: 0 | M14: 6
A15: 新竹縣 | B15: 24 | C15: 3 | D15: 21 | E15: 0 | F15: 7 | G15: 12 | H15: 5 | I15: 0 | J15: 0 | K15: 120000 | L15: 0 | M15: 0
A16: 苗栗縣 | B16: 198 | C16: 80 | D16: 118 | E16: 10 | F16: 3 | G16: 27 | H16: 79 | I16: 64 | J16: 15 | K16: 990000 | L16: 0 | M16: 0
A17: 彰化縣 | B17: 298 | C17: 146 | D17: 152 | E17: 59 | F17: 55 | G17: 88 | H17: 17 | I17: 50 | J17: 29 | K17: 1520000 | L17: 0 | M17: 0
A18: 南投縣 | B18: 485 | C18: 231 | D18: 254 | E18: 21 | F18: 100 | G18: 139 | H18: 73 | I18: 104 | J18: 48 | K18: 2425000 | L18: 19 | M18: 14
... A29: 連江縣 | B29: 0 | C29: 0 | D29: 0 | E29: 0 | F29: 0 | G29: 0 | H29: 0 | I29: 0 | J29: 0 | K29: 0 | L29: 0 | M29: 0
A30: 資料來源：直轄市、縣(市)政府。

Sheet 102
A1: 1.4-03 中低收入老人特別照顧津貼
A2: 民國102年
A4: 年及地區別 | B4: 受照顧者人次 (按月計算) | K4: 發放金額 (元) | L4: 具原住民身分 受照顧者人次
B5: 合計 | E5: 65至69歲 | F5: 70至74歲 | G5: 75至79歲 | H5: 80至84歲 | I5: 85至89歲 | J5: 90歲以上
B6: 計 | C6: 男 | D6: 女 | L6: 男 | M6: 女
A7: 102年, 2013 | B7: 9152 | C7: 3261 | D7: 5891 | E7: 851 | F7: 1473 | G7: 2311 | H7: 2058 | I7: 1630 | J7: 829 | K7: 45865962 | L7: 41 | M7: 139
A8: 新北市 | B8: 1009 | C8: 286 | D8: 723 | E8: 130 | F8: 125 | G8: 293 | H8: 253 | I8: 126 | J8: 82 | K8: 5045000 | L8: 0 | M8: 3
A9: 臺北市 | B9: 547 | C9: 158 | D9: 389 | E9: 34 | F9: 60 | G9: 81 | H9: 163 | I9: 108 | J9: 101 | K9: 2840000 | L9: 0 | M9: 0
A10: 臺中市 | B10: 809 | C10: 228 | D10: 581 | E10: 30 | F10: 78 | G10: 207 | H10: 205 | I10: 162 | J10: 127 | K10: 4045000 | L10: 0 | M10: 0
A11: 臺南市 | B11: 786 | C11: 272 | D11: 514 | E11: 51 | F11: 173 | G11: 221 | H11: 186 | I11: 124 | J11: 31 | K11: 3930000 | L11: 0 | M11: 0
A12: 高雄市 | B12: 2616 | C12: 1005 | D12: 1611 | E12: 279 | F12: 509 | G12: 681 | H12: 582 | I12: 371 | J12: 194 | K12: 13080000 | L12: 0 | M12: 4
A13: 宜蘭縣 | B13: 86 | C13: 34 | D13: 52 | E13: 0 | F13: 41 | G13: 12 | H13: 9 | I13: 24 | J13: 0 | K13: 430000 | L13: 0 | M13: 0
A14: 桃園縣 | B14: 452 | C14: 226 | D14: 226 | E14: 32 | F14: 47 | G14: 95 | H14: 96 | I14: 145 | J14: 37 | K14: 2260000 | L14: 8 | M14: 0
A15: 新竹縣 | B15: 24 | C15: 8 | D15: 16 | E15: 0 | F15: 6 | G15: 18 | H15: 0 | I15: 0 | J15: 0 | K15: 120000 | L15: 0 | M15: 0
A16: 苗栗縣 | B16: 191 | C16: 59 | D16: 132 | E16: 12 | F16: 1 | G16: 35 | H16: 77 | I16: 54 | J16: 12 | K16: 955000 | L16: 0 | M16: 0
A17: 彰化縣 | B17: 267 | C17: 134 | D17: 133 | E17: 58 | F17: 58 | G17: 66 | H17: 18 | I17: 24 | J17: 43 | K17: 1340000 | L17: 0 | M17: 0
A18: 南投縣 | B18: 565 | C18: 235 | D18: 330 | E18: 60 | F18: 76 | G18: 156 | H18: 95 | I18: 128 | J18: 50 | K18: 2825000 | L18: 24 | M18: 24
... A29: 連江縣 | B29: 0 | C29: 0 | D29: 0 | E29: 0 | F29: 0 | G29: 0 | H29: 0 | I29: 0 | J29: 0 | K29: 0 | L29: 0 | M29: 0
A30: 資料來源：直轄市、縣(市)政府。

Sheet 101
A1: 1.4-03 中低收入老人特別照顧津貼
A2: 民國101年
A4: 年及地區別 | B4: 受照顧者人次 (按月計算) | K4: 發放金額 (元) | L4: 具原住民身分 受照顧者人次
B5: 合計 | E5: 65至69歲 | F5: 70至74歲 | G5: 75至79歲 | H5: 80至84歲 | I5: 85至89歲 | J5: 90歲以上
B6: 計 | C6: 男 | D6: 女 | L6: 男 | M6: 女
A7: 101年, 2012 | B7: 9042 | C7: 3155 | D7: 5887 | E7: 813 | F7: 1575 | G7: 2173 | H7: 2086 | I7: 1544 | J7: 851 | K7: 45290000 | L7: 71 | M7: 142
A8: 新北市 | B8: 988 | C8: 280 | D8: 708 | E8: 98 | F8: 113 | G8: 297 | H8: 307 | I8: 114 | J8: 59 | K8: 4940000 | L8: 0 | M8: 0
A9: 臺北市 | B9: 632 | C9: 202 | D9: 430 | E9: 14 | F9: 101 | G9: 75 | H9: 178 | I9: 159 | J9: 105 | K9: 3175000 | L9: 0 | M9: 0
A10: 臺中市 | B10: 710 | C10: 152 | D10: 558 | E10: 52 | F10: 66 | G10: 193 | H10: 137 | I10: 121 | J10: 141 | K10: 3550000 | L10: 0 | M10: 0
A11: 臺南市 | B11: 825 | C11: 293 | D11: 532 | E11: 41 | F11: 170 | G11: 207 | H11: 171 | I11: 170 | J11: 66 | K11: 4125000 | L11: 0 | M11: 0
A12: 高雄市 | B12: 2464 | C12: 937 | D12: 1527 | E12: 299 | F12: 566 | G12: 598 | H12: 576 | I12: 302 | J12: 123 | K12: 12320000 | L12: 0 | M12: 0
A13: 宜蘭縣 | B13: 90 | C13: 49 | D13: 41 | E13: 0 | F13: 47 | G13: 21 | H13: 9 | I13: 13 | J13: 0 | K13: 455000 | L13: 0 | M13: 0
A14: 桃園縣 | B14: 415 | C14: 231 | D14: 184 | E14: 49 | F14: 52 | G14: 69 | H14: 97 | I14: 110 | J14: 38 | K14: 2075000 | L14: 18 | M14: 24
A15: 新竹縣 | B15: 30 | C15: 12 | D15: 18 | E15: 0 | F15: 0 | G15: 24 | H15: 0 | I15: 6 | J15: 0 | K15: 150000 | L15: 0 | M15: 0
A16: 苗栗縣 | B16: 200 | C16: 53 | D16: 147 | E16: 1 | F16: 22 | G16: 48 | H16: 63 | I16: 66 | J16: 0 | K16: 1000000 | L16: 0 | M16: 0
A17: 彰化縣 | B17: 252 | C17: 102 | D17: 150 | E17: 68 | F17: 43 | G17: 15 | H17: 41 | I17: 28 | J17: 57 | K17: 1260000 | L17: 0 | M17: 0
A18: 南投縣 | B18: 640 | C18: 267 | D18: 373 | E18: 53 | F18: 103 | G18: 150 | H18: 99 | I18: 148 | J18: 87 | K18: 3200000 | L18: 43 | M18: 17
... A29: 連江縣 | B29: 0 | C29: 0 | D29: 0 | E29: 0 | F29: 0 | G29: 0 | H29: 0 | I29: 0 | J29: 0 | K29: 0 | L29: 0 | M29: 0
A30: 資料來源：直轄市、縣(市)政府。

Sheet 100
A1: 1.4-03 中低收入老人特別照顧津貼
A2: 民國100年
A4: 年及地區別 | B4: 受照顧者人次 (按月計算) | K4: 發放金額 (元) | L4: 具原住民身分受照顧者人次
B5: 合計 | E5: 65至69歲 | F5: 70至74歲 | G5: 75至79歲 | H5: 80至84歲 | I5: 85至89歲 | J5: 90歲以上
B6: 計 | C6: 男 | D6: 女 | L6: 男 | M6: 女
A7: 100年, 2011 | B7: 8116 | C7: 2959 | D7: 5157 | E7: 780 | F7: 1503 | G7: 1869 | H7: 1981 | I7: 1302 | J7: 681 | K7: 40621129 | L7: 51 | M7: 128
A8: 新北市 | B8: 801 | C8: 265 | D8: 536 | E8: 59 | F8: 172 | G8: 252 | H8: 182 | I8: 99 | J8: 37 | K8: 4005000 | L8: 0 | M8: 0
A9: 臺北市 | B9: 627 | C9: 298 | D9: 329 | E9: 19 | F9: 136 | G9: 68 | H9: 185 | I9: 149 | J9: 70 | K9: 3135000 | L9: 0 | M9: 0
A10: 臺中市 | B10: 713 | C10: 203 | D10: 510 | E10: 45 | F10: 113 | G10: 203 | H10: 138 | I10: 90 | J10: 124 | K10: 3565000 | L10: 0 | M10: 0
A11: 臺南市 | B11: 687 | C11: 229 | D11: 458 | E11: 63 | F11: 111 | G11: 120 | H11: 191 | I11: 148 | J11: 54 | K11: 3435000 | L11: 0 | M11: 0
A12: 高雄市 | B12: 2079 | C12: 823 | D12: 1256 | E12: 266 | F12: 466 | G12: 459 | H12: 518 | I12: 250 | J12: 120 | K12: 10395000 | L12: 0 | M12: 0
A13: 宜蘭縣 | B13: 55 | C13: 30 | D13: 25 | E13: 0 | F13: 42 | G13: 9 | H13: 4 | I13: 0 | J13: 0 | K13: 275000 | L13: 0 | M13: 0
A14: 桃園縣 | B14: 300 | C14: 100 | D14: 200 | E14: 33 | F14: 26 | G14: 57 | H14: 93 | I14: 71 | J14: 20 | K14: 1500000 | L14: 3 | M14: 26
A15: 新竹縣 | B15: 52 | C15: 23 | D15: 29 | E15: 0 | F15: 9 | G15: 27 | H15: 5 | I15: 5 | J15: 6 | K15: 251129 | L15: 0 | M15: 0
A16: 苗栗縣 | B16: 156 | C16: 27 | D16: 129 | E16: 3 | F16: 17 | G16: 46 | H16: 34 | I16: 51 | J16: 5 | K16: 780000 | L16: 0 | M16: 0
A17: 彰化縣 | B17: 231 | C17: 101 | D17: 130 | E17: 45 | F17: 24 | G17: 38 | H17: 63 | I17: 22 | J17: 39 | K17: 1190000 | L17: 0 | M17: 0
A18: 南投縣 | B18: 654 | C18: 335 | D18: 319 | E18: 82 | F18: 111 | G18: 121 | H18: 151 | I18: 112 | J18: 77 | K18: 3270000 | L18: 36 | M18: 21
... A29: 連江縣 | B29: 0 | C29: 0 | D29: 0 | E29: 0 | F29: 0 | G29: 0 | H29: 0 | I29: 0 | J29: 0 | K29: 0 | L29: 0 | M29: 0
A30: 資料來源：直轄市、縣(市)政府。

Sheet 99
A1: 1.4-03 中低收入老人特別照顧津貼
A2: 民國99年
A4: 年及地區別 | B4: 受照顧者人次 (按月計算) | K4: 發放金額 (元)
B5: 合計 | E5: 65至69歲 | F5: 70至74歲 | G5: 75至79歲 | H5: 80至84歲 | I5: 85至89歲 | J5: 90歲以上
B6: 計 | C6: 男 | D6: 女
A7: 99年 ,2010 | B7: 7862 | C7: 2766 | D7: 5096 | E7: 874 | F7: 1459 | G7: 1840 | H7: 1856 | I7: 1150 | J7: 683 | K7: 38142000
A8: 臺北縣 | B8: 773 | C8: 265 | D8: 508 | E8: 98 | F8: 179 | G8: 196 | H8: 168 | I8: 85 | J8: 47 | K8: 3865000
A9: 宜蘭縣 | B9: 64 | C9: 15 | D9: 49 | E9: 0 | F9: 24 | G9: 26 | H9: 10 | I9: 4 | J9: 0 | K9: 320000
A10: 桃園縣 | B10: 242 | C10: 87 | D10: 155 | E10: 8 | F10: 37 | G10: 53 | H10: 59 | I10: 59 | J10: 26 | K10: 1210000
A11: 新竹縣 | B11: 41 | C11: 15 | D11: 26 | E11: 9 | F11: 12 | G11: 5 | H11: 3 | I11: 12 | J11: 0 | K11: 205000
A12: 苗栗縣 | B12: 98 | C12: 9 | D12: 89 | E12: 3 | F12: 5 | G12: 36 | H12: 41 | I12: 9 | J12: 4 | K12: 490000
A13: 臺中縣 | B13: 352 | C13: 108 | D13: 244 | E13: 53 | F13: 34 | G13: 72 | H13: 65 | I13: 70 | J13: 58 | K13: 1760000
A14: 彰化縣 | B14: 170 | C14: 85 | D14: 85 | E14: 23 | F14: 36 | G14: 34 | H14: 16 | I14: 53 | J14: 8 | K14: 850000
A15: 南投縣 | B15: 762 | C15: 347 | D15: 415 | E15: 62 | F15: 114 | G15: 216 | H15: 138 | I15: 170 | J15: 62 | K15: 3810000
A16: 雲林縣 | B16: 478 | C16: 118 | D16: 360 | E16: 61 | F16: 98 | G16: 173 | H16: 66 | I16: 64 | J16: 16 | K16: 2390000
A17: 嘉義縣 | B17: 249 | C17: 57 | D17: 192 | E17: 14 | F17: 35 | G17: 134 | H17: 29 | I17: 26 | J17: 11 | K17: 1245000
A18: 臺南縣 | B18: 524 | C18: 212 | D18: 312 | E18: 32 | F18: 81 | G18: 109 | H18: 161 | I18: 112 | J18: 29 | K18: 2620000
... A32: 連江縣 | B32: 0 | C32: 0 | D32: 0 | E32: 0 | F32: 0 | G32: 0 | H32: 0 | I32: 0 | J32: 0 | K32: 0
A33: 資料來源：直轄市、縣(市)政府。

Sheet 98
A1: 1.4-03 中低收入老人特別照顧津貼
A2: 民國98年
A4: 年及地區別 | B4: 受照顧者人次 (按月計算) | K4: 發放金額 (元)
B5: 合計 | E5: 65至69歲 | F5: 70至74歲 | G5: 75至79歲 | H5: 80至84歲 | I5: 85至89歲 | J5: 90歲以上
B6: 計 | C6: 男 | D6: 女
A7: 98年,2009 | B7: 7263 | C7: 2494 | D7: 4769 | E7: 814 | F7: 1388 | G7: 1777 | H7: 1598 | I7: 1048 | J7: 638 | K7: 35349000
A8: 臺北縣 | B8: 769 | C8: 297 | D8: 472 | E8: 136 | F8: 222 | G8: 156 | H8: 141 | I8: 88 | J8: 26 | K8: 3845000
A9: 宜蘭縣 | B9: 50 | C9: 14 | D9: 36 | E9: 2 | F9: 24 | G9: 16 | H9: 0 | I9: 8 | J9: 0 | K9: 250000
A10: 桃園縣 | B10: 194 | C10: 86 | D10: 108 | E10: 10 | F10: 16 | G10: 33 | H10: 55 | I10: 67 | J10: 13 | K10: 970000
A11: 新竹縣 | B11: 46 | C11: 12 | D11: 34 | E11: 12 | F11: 12 | G11: 7 | H11: 0 | I11: 15 | J11: 0 | K11: 230000
A12: 苗栗縣 | B12: 39 | C12: 2 | D12: 37 | E12: 0 | F12: 13 | G12: 17 | H12: 0 | I12: 0 | J12: 9 | K12: 195000
A13: 臺中縣 | B13: 328 | C13: 123 | D13: 205 | E13: 37 | F13: 40 | G13: 50 | H13: 84 | I13: 57 | J13: 60 | K13: 1640000
A14: 彰化縣 | B14: 144 | C14: 30 | D14: 114 | E14: 12 | F14: 30 | G14: 34 | H14: 12 | I14: 44 | J14: 12 | K14: 720000
A15: 南投縣 | B15: 657 | C15: 236 | D15: 421 | E15: 42 | F15: 153 | G15: 195 | H15: 124 | I15: 88 | J15: 55 | K15: 3285000
A16: 雲林縣 | B16: 654 | C16: 173 | D16: 481 | E16: 100 | F16: 121 | G16: 188 | H16: 105 | I16: 98 | J16: 42 | K16: 3270000
A17: 嘉義縣 | B17: 269 | C17: 62 | D17: 207 | E17: 18 | F17: 69 | G17: 88 | H17: 65 | I17: 24 | J17: 5 | K17: 1345000
A18: 臺南縣 | B18: 520 | C18: 189 | D18: 331 | E18: 23 | F18: 106 | G18: 146 | H18: 133 | I18: 76 | J18: 36 | K18: 2600000
... A32: 連江縣 | B32: 0 | C32: 0 | D32: 0 | E32: 0 | F32: 0 | G32: 0 | H32: 0 | I32: 0 | J32: 0 | K32: 0
A33: 資料來源：直轄市、縣(市)政府。

Sheet 97
A1: 1.4-03 中低收入老人特別照顧津貼
A2: 民國97年
A4: 年及地區別 | B4: 受照顧者人次 (按月計算) | K4: 發放金額 (元)
B5: 合計 | E5: 65至69歲 | F5: 70至74歲 | G5: 75至79歲 | H5: 80至84歲 | I5: 85至89歲 | J5: 90歲以上
B6: 計 | C6: 男 | D6: 女
A7: 97年,2008 | B7: 6519 | C7: 2141 | D7: 4378 | E7: 678 | F7: 1549 | G7: 1607 | H7: 1418 | I7: 748 | J7: 519 | K7: 31767000
A8: 臺北縣 | B8: 604 | C8: 233 | D8: 371 | E8: 78 | F8: 224 | G8: 130 | H8: 96 | I8: 61 | J8: 15 | K8: 3020000
A9: 宜蘭縣 | B9: 64 | C9: 20 | D9: 44 | E9: 20 | F9: 20 | G9: 12 | H9: 0 | I9: 12 | J9: 0 | K9: 320000
A10: 桃園縣 | B10: 208 | C10: 71 | D10: 137 | E10: 16 | F10: 29 | G10: 49 | H10: 43 | I10: 46 | J10: 25 | K10: 1040000
A11: 新竹縣 | B11: 60 | C11: 12 | D11: 48 | E11: 12 | F11: 12 | G11: 12 | H11: 0 | I11: 24 | J11: 0 | K11: 300000
A12: 苗栗縣 | B12: 41 | C12: 10 | D12: 31 | E12: 0 | F12: 8 | G12: 8 | H12: 13 | I12: 0 | J12: 12 | K12: 205000
A13: 臺中縣 | B13: 288 | C13: 104 | D13: 184 | E13: 36 | F13: 20 | G13: 54 | H13: 87 | I13: 43 | J13: 48 | K13: 1440000
A14: 彰化縣 | B14: 97 | C14: 16 | D14: 81 | E14: 10 | F14: 10 | G14: 17 | H14: 24 | I14: 24 | J14: 12 | K14: 485000
A15: 南投縣 | B15: 663 | C15: 240 | D15: 423 | E15: 55 | F15: 164 | G15: 154 | H15: 168 | I15: 71 | J15: 51 | K15: 3315000
A16: 雲林縣 | B16: 650 | C16: 181 | D16: 469 | E16: 67 | F16: 233 | G16: 161 | H16: 89 | I16: 59 | J16: 41 | K16: 3250000
A17: 嘉義縣 | B17: 267 | C17: 59 | D17: 208 | E17: 19 | F17: 51 | G17: 80 | H17: 93 | I17: 12 | J17: 12 | K17: 1335000
A18: 臺南縣 | B18: 406 | C18: 143 | D18: 263 | E18: 60 | F18: 106 | G18: 78 | H18: 90 | I18: 48 | J18: 24 | K18: 2030000
... A32: 連江縣 | B32: 0 | C32: 0 | D32: 0 | E32: 0 | F32: 0 | G32: 0 | H32: 0 | I32: 0 | J32: 0 | K32: 0
A33: 資料來源：直轄市、縣(市)政府。

Sheet 96
A1: 1.4-03 中低收入老人特別照顧津貼
A2: 民國96年
A4: 年及地區別 | B4: 受照顧者人次 (按月計算) | K4: 發放金額 (元)
B5: 合計 | E5: 65至69歲 | F5: 70至74歲 | G5: 75至79歲 | H5: 80歲以上 | I5: 85至89歲 | J5: 90歲以上
B6: 計 | C6: 男 | D6: 女
A7: 96年,2007 | B7: 6429 | C7: 2322 | D7: 4107 | E7: 586 | F7: 1696 | G7: 1479 | H7: 2668 | K7: 30317500
A8: 臺北縣 | B8: 592 | C8: 265 | D8: 327 | E8: 140 | F8: 190 | G8: 93 | H8: 169 | K8: 2960000
A9: 宜蘭縣 | B9: 15 | C9: 12 | D9: 3 | E9: 12 | F9: 0 | G9: 0 | H9: 3 | K9: 75000
A10: 桃園縣 | B10: 202 | C10: 87 | D10: 115 | E10: 12 | F10: 45 | G10: 43 | H10: 102 | K10: 1010000
A11: 新竹縣 | B11: 72 | C11: 21 | D11: 51 | E11: 18 | F11: 24 | G11: 0 | H11: 30 | K11: 360000
A12: 苗栗縣 | B12: 107 | C12: 42 | D12: 65 | E12: 0 | F12: 40 | G12: 30 | H12: 37 | K12: 535000
A13: 臺中縣 | B13: 329 | C13: 128 | D13: 201 | E13: 19 | F13: 77 | G13: 68 | H13: 165 | K13: 1645000
A14: 彰化縣 | B14: 50 | C14: 10 | D14: 40 | E14: 5 | F14: 2 | G14: 0 | H14: 43 | K14: 250000
A15: 南投縣 | B15: 677 | C15: 252 | D15: 425 | E15: 42 | F15: 162 | G15: 194 | H15: 279 | K15: 3385000
A16: 雲林縣 | B16: 716 | C16: 230 | D16: 486 | E16: 71 | F16: 281 | G16: 131 | H16: 233 | K16: 3580000
A17: 嘉義縣 | B17: 283 | C17: 82 | D17: 201 | E17: 12 | F17: 75 | G17: 90 | H17: 106 | K17: 1415000
A18: 臺南縣 | B18: 334 | C18: 114 | D18: 220 | E18: 43 | F18: 87 | G18: 70 | H18: 134 | K18: 1670000
... A32: 連江縣 | B32: 0 | C32: 0 | D32: 0 | E32: 0 | F32: 0 | G32: 0 | H32: 0 | K32: 0
A33: 資料來源：直轄市、縣(市)政府。

Sheet 95
A1: 1.4-03 中低收入老人特別照顧津貼
A2: 民國95年
A4: 年及地區別 | B4: 受照顧者人次 (按月計算) | K4: 發放金額 (元)
B5: 合計 | E5: 65至69歲 | F5: 70至74歲 | G5: 75至79歲 | H5: 80歲以上 | I5: 85至89歲 | J5: 90歲以上
B6: 計 | C6: 男 | D6: 女
A7: 95年, 2006 | B7: 7123 | C7: 2573 | D7: 4550 | E7: 756 | F7: 1818 | G7: 1645 | H7: 2904 | K7: 32865000
A8: 臺北縣 | B8: 774 | C8: 325 | D8: 449 | E8: 173 | F8: 246 | G8: 167 | H8: 188 | K8: 3870000
A9: 宜蘭縣 | B9: 23 | C9: 23 | D9: 0 | E9: 11 | F9: 12 | G9: 0 | H9: 0 | K9: 115000
A10: 桃園縣 | B10: 200 | C10: 80 | D10: 120 | E10: 0 | F10: 69 | G10: 55 | H10: 76 | K10: 1000000
A11: 新竹縣 | B11: 54 | C11: 12 | D11: 42 | E11: 0 | F11: 16 | G11: 0 | H11: 38 | K11: 270000
A12: 苗栗縣 | B12: 137 | C12: 51 | D12: 86 | E12: 0 | F12: 60 | G12: 20 | H12: 57 | K12: 685000
A13: 臺中縣 | B13: 414 | C13: 113 | D13: 301 | E13: 13 | F13: 78 | G13: 70 | H13: 253 | K13: 2070000
A14: 彰化縣 | B14: 85 | C14: 35 | D14: 50 | E14: 0 | F14: 4 | G14: 3 | H14: 78 | K14: 425000
A15: 南投縣 | B15: 651 | C15: 229 | D15: 422 | E15: 36 | F15: 137 | G15: 181 | H15: 297 | K15: 3255000
A16: 雲林縣 | B16: 876 | C16: 309 | D16: 567 | E16: 130 | F16: 274 | G16: 178 | H16: 294 | K16: 4380000
A17: 嘉義縣 | B17: 269 | C17: 79 | D17: 190 | E17: 0 | F17: 102 | G17: 55 | H17: 112 | K17: 1345000
A18: 臺南縣 | B18: 368 | C18: 181 | D18: 187 | E18: 47 | F18: 114 | G18: 97 | H18: 110 | K18: 1840000
... A32: 連江縣 | B32: 0 | C32: 0 | D32: 0 | E32: 0 | F32: 0 | G32: 0 | H32: 0 | K32: 0
A33: 資料來源：直轄市、縣(市)政府。

Sheet 94
A1: 1.4-03 中低收入老人特別照顧津貼
A2: 民國94年
A4: 年及地區別 | B4: 受照顧者人次 (按月計算) | K4: 發放金額 (元)
B5: 合計 | E5: 65至69歲 | F5: 70至74歲 | G5: 75至79歲 | H5: 80歲以上 | I5: 85至89歲 | J5: 90歲以上
B6: 計 | C6: 男 | D6: 女
A7: 94年, 2005 | B7: 7847 | C7: 2755 | D7: 5092 | E7: 1085 | F7: 1987 | G7: 1732 | H7: 3043 | K7: 36459000
A8: 臺北縣 | B8: 857 | C8: 333 | D8: 524 | E8: 199 | F8: 317 | G8: 126 | H8: 215 | K8: 4285000
A9: 宜蘭縣 | B9: 41 | C9: 22 | D9: 19 | E9: 24 | F9: 10 | G9: 0 | H9: 7 | K9: 205000
A10: 桃園縣 | B10: 273 | C10: 98 | D10: 175 | E10: 0 | F10: 66 | G10: 89 | H10: 118 | K10: 1365000
A11: 新竹縣 | B11: 8 | C11: 4 | D11: 4 | E11: 0 | F11: 0 | G11: 0 | H11: 8 | K11: 40000
A12: 苗栗縣 | B12: 215 | C12: 79 | D12: 136 | E12: 14 | F12: 55 | G12: 37 | H12: 109 | K12: 1,080,000
A13: 臺中縣 | B13: 503 | C13: 112 | D13: 391 | E13: 24 | F13: 90 | G13: 122 | H13: 267 | K13: 2515000
A14: 彰化縣 | B14: 128 | C14: 20 | D14: 108 | E14: 12 | F14: 36 | G14: 32 | H14: 48 | K14: 640000
A15: 南投縣 | B15: 666 | C15: 248 | D15: 418 | E15: 115 | F15: 197 | G15: 161 | H15: 193 | K15: 3330000
A16: 雲林縣 | B16: 856 | C16: 242 | D16: 614 | E16: 246 | F16: 244 | G16: 132 | H16: 234 | K16: 4280000
A17: 嘉義縣 | B17: 256 | C17: 64 | D17: 192 | E17: 0 | F17: 111 | G17: 39 | H17: 106 | K17: 1280000
A18: 臺南縣 | B18: 372 | C18: 190 | D18: 182 | E18: 56 | F18: 129 | G18: 93 | H18: 94 | K18: 1860000
A19: 高雄縣 | B19: 496 | C19: 224 | D19: 272 | E19: 81 | F19: 109 | G19: 154 | H19: 152 | K19: 1488000
A20: 屏東縣 | B20: 96 | C20: 38 | D20: 58 | E20: 0 | F20: 16 | G20: 44 | H20: 36 | K20: 480000
A21: 臺東縣 | B21: 151 | C21: 64 | D21: 87 | E21: 0 | F21: 13 | G21: 70 | H21: 68 | K21: 755000
A22: 花蓮縣 | B22: 799 | C22: 288 | D22: 511 | E22: 88 | F22: 148 | G22: 199 | H22: 364 | K22: 3995000
A23: 澎湖縣 | B23: 158 | C23: 65 | D23: 93 | E23: 0 | F23: 60 | G23: 7 | H23: 91 | K23: 790000
A24: 基隆市 | B24: 13 | C24: 6 | D24: 7 | E24: 13 | F24: 0 | G24: 0 | H24: 0 | K24: 65000
A25: 新竹市 | B25: 5 | C25: 0 | D25: 5 | E25: 5 | F25: 0 | G25: 0 | H25: 0 | K25: 25000
A26: 臺中市 | B26: 257 | C26: 93 | D26: 164 | E26: 22 | F26: 23 | G26: 44 | H26: 168 | K26: 1,285,000
A27: 嘉義市 | B27: 179 | C27: 79 | D27: 100 | E27: 42 | F27: 51 | G27: 24 | H27: 62 | K27: 890000
A28: 臺南市 | B28: 0 | C28: 0 | D28: 0 | E28: 0 | F28: 0 | G28: 0 | H28: 0 | K28: 0
A29: 臺北市 | B29: 522 | C29: 167 | D29: 355 | E29: 52 | F29: 94 | G29: 103 | H29: 273 | K29: 2,610,000
A30: 高雄市 | B30: 892 | C30: 315 | D30: 577 | E30: 92 | F30: 218 | G30: 243 | H30: 339 | K30: 2676000
A31: 金門縣 | B31: 104 | C31: 4 | D31: 100 | E31: 0 | F31: 0 | G31: 13 | H31: 91 | K31: 520000
A32: 連江縣 | B32: 0 | C32: 0 | D32: 0 | E32: 0 | F32: 0 | G32: 0 | H32: 0 | K32: 0
A33: 資料來源：直轄市、縣(市)政府。

Sheet 93
A1: 1.4-03 中低收入老人特別照顧津貼
A2: 民國93年
A4: 年及地區別 | B4: 受照顧者人次 (按月計算) | K4: 發放金額 (元)
B5: 合計 | E5: 65至69歲 | F5: 70至74歲 | G5: 75至79歲 | H5: 80歲以上 | I5: 85至89歲 | J5: 90歲以上
B6: 計 | C6: 男 | D6: 女
A7: 93年, 2004 | B7: 8517 | C7: 3056 | D7: 5461 | E7: 1245 | F7: 2064 | G7: 2028 | H7: 3180 | K7: 39710000
A8: 臺北縣 | B8: 1138 | C8: 402 | D8: 736 | E8: 250 | F8: 347 | G8: 288 | H8: 253 | K8: 5690000
A9: 宜蘭縣 | B9: 32 | C9: 8 | D9: 24 | E9: 12 | F9: 8 | G9: － | H9: 12 | K9: 160000
A10: 桃園縣 | B10: 364 | C10: 121 | D10: 243 | E10: 18 | F10: 103 | G10: 52 | H10: 191 | K10: 1820000
A11: 新竹縣 | B11: － | C11: － | D11: － | E11: － | F11: － | G11: － | H11: － | K11: －
A12: 苗栗縣 | B12: 210 | C12: 100 | D12: 110 | E12: 51 | F12: 25 | G12: 30 | H12: 104 | K12: 1050000
A13: 臺中縣 | B13: 470 | C13: 101 | D13: 369 | E13: 52 | F13: 78 | G13: 113 | H13: 227 | K13: 2350000
A14: 彰化縣 | B14: 140 | C14: 38 | D14: 102 | E14: 12 | F14: 36 | G14: 39 | H14: 53 | K14: 700000
A15: 南投縣 | B15: 610 | C15: 243 | D15: 367 | E15: 76 | F15: 168 | G15: 172 | H15: 194 | K15: 3050000
A16: 雲林縣 | B16: 1099 | C16: 449 | D16: 650 | E16: 226 | F16: 315 | G16: 251 | H16: 307 | K16: 5495000
A17: 嘉義縣 | B17: 197 | C17: 57 | D17: 140 | E17: 26 | F17: 38 | G17: 59 | H17: 74 | K17: 985000
A18: 臺南縣 | B18: 369 | C18: 159 | D18: 210 | E18: 46 | F18: 129 | G18: 80 | H18: 114 | K18: 1845000
A19: 高雄縣 | B19: 490 | C19: 179 | D19: 311 | E19: 80 | F19: 182 | G19: 100 | H19: 128 | K19: 1470000
A20: 屏東縣 | B20: 73 | C20: 22 | D20: 51 | E20: 6 | F20: 8 | G20: 27 | H20: 32 | K20: 365000
A21: 臺東縣 | B21: 219 | C21: 80 | D21: 139 | E21: 36 | F21: 35 | G21: 90 | H21: 58 | K21: 1095000
A22: 花蓮縣 | B22: 881 | C22: 362 | D22: 519 | E22: 90 | F22: 162 | G22: 195 | H22: 434 | K22: 4405000
A23: 澎湖縣 | B23: 155 | C23: 102 | D23: 53 | E23: － | F23: 61 | G23: 12 | H23: 82 | K23: 775000
A24: 基隆市 | B24: 10 | C24: － | D24: 10 | E24: － | F24: 10 | G24: － | H24: － | K24: 50000
A25: 新竹市 | B25: － | C25: － | D25: － | E25: － | F25: － | G25: － | H25: － | K25: －
A26: 臺中市 | B26: 212 | C26: 82 | D26: 130 | E26: 12 | F26: 42 | G26: 48 | H26: 110 | K26: 1060000
A27: 嘉義市 | B27: 130 | C27: 34 | D27: 96 | E27: 36 | F27: 26 | G27: 15 | H27: 53 | K27: 645000
A28: 臺南市 | B28: － | C28: － | D28: － | E28: － | F28: － | G28: － | H28: － | K28: －
A29: 臺北市 | B29: 646 | C29: 222 | D29: 424 | E29: 71 | F29: 116 | G29: 149 | H29: 310 | K29: 3230000
A30: 高雄市 | B30: 945 | C30: 283 | D30: 662 | E30: 145 | F30: 175 | G30: 284 | H30: 341 | K30: 2835000
A31: 金門縣 | B31: 127 | C31: 12 | D31: 115 | E31: － | F31: － | G31: 24 | H31: 103 | K31: 635000
A32: 連江縣 | B32: － | C32: － | D32: － | E32: － | F32: － | G32: － | H32: － | K32: －
A33: 資料來源：直轄市、縣(市)政府。

Sheet 92
A1: 1.4-03 中低收入老人特別照顧津貼
A2: 民國92年
A4: 年及地區別 | B4: 受照顧者人次 (按月計算) | K4: 發放金額 (元)
B5: 合計 | E5: 65至69歲 | F5: 70至74歲 | G5: 75至79歲 | H5: 80歲以上 | I5: 85至89歲 | J5: 90歲以上
B6: 計 | C6: 男 | D6: 女
A7: 92年, 2003 | B7: 7634 | C7: 2797 | D7: 4837 | E7: 1242 | F7: 1811 | G7: 1869 | H7: 2712 | K7: 35535500
A8: 臺北縣 | B8: 963 | C8: 397 | D8: 566 | E8: 248 | F8: 300 | G8: 213 | H8: 202 | K8: 4815000
A9: 宜蘭縣 | B9: 10 | C9: 3 | D9: 7 | E9: 3 | F9: 4 | G9: 0 | H9: 3 | K9: 50000
A10: 桃園縣 | B10: 284 | C10: 82 | D10: 202 | E10: 8 | F10: 60 | G10: 70 | H10: 146 | K10: 1420000
A11: 新竹縣 | B11: 0 | C11: 0 | D11: 0 | E11: 0 | F11: 0 | G11: 0 | H11: 0 | K11: 0
A12: 苗栗縣 | B12: 210 | C12: 94 | D12: 116 | E12: 36 | F12: 45 | G12: 52 | H12: 77 | K12: 1050000
A13: 臺中縣 | B13: 251 | C13: 70 | D13: 181 | E13: 25 | F13: 42 | G13: 64 | H13: 120 | K13: 1255000
A14: 彰化縣 | B14: 115 | C14: 43 | D14: 72 | E14: 8 | F14: 27 | G14: 41 | H14: 39 | K14: 575000
A15: 南投縣 | B15: 622 | C15: 242 | D15: 380 | E15: 105 | F15: 204 | G15: 143 | H15: 170 | K15: 3110000
A16: 雲林縣 | B16: 954 | C16: 401 | D16: 553 | E16: 152 | F16: 271 | G16: 264 | H16: 267 | K16: 4770000
A17: 嘉義縣 | B17: 163 | C17: 57 | D17: 106 | E17: 12 | F17: 35 | G17: 54 | H17: 62 | K17: 815000
A18: 臺南縣 | B18: 370 | C18: 118 | D18: 252 | E18: 54 | F18: 114 | G18: 90 | H18: 112 | K18: 1850000
... A32: 連江縣 | B32: 0 | C32: 0 | D32: 0 | E32: 0 | F32: 0 | G32: 0 | H32: 0 | K32: 0
A33: 資料來源：直轄市、縣(市)政府。
