Workbook

Sheet 歷年
A1: 1.4-02 中低收入老人生活津貼
A2: 民國104-114年
A3: 單位：人
A4: 區域別 | B4: 總計 | F4: 低收入戶 | O4: 中 低 收 入 戶 | R4: 中低收入老人 | X4: 具原住民身分分
B5: 人數(期底數) | E5: 金額(元) | F5: 第1款(省、新北、臺中、臺南)、第0類(臺北)、第1類(高雄) | I5: 第2款(省、新北、臺中、臺南)、第1、2類(臺北)、第2類(高雄) | L5: 第3款(省、新北、臺中、臺南)、第3、4類(臺北、高雄) | R5: 最低生活費1倍以上未滿1.5倍 | U5: 最低生活費1.5倍以上未滿2.5倍
B6: 計 | C6: 男 | D6: 女 | F6: 人數 | H6: 金額(元) | I6: 人數 | K6: 金額(元) | L6: 人數 | N6: 金額(元) | O6: 人數 | Q6: 金額(元) | R6: 人數 | T6: 金額(元) | U6: 人數 | W6: 金額(元) | X6: 人數
F7: 男 | G7: 女 | I7: 男 | J7: 女 | L7: 男 | M7: 女 | O7: 男 | P7: 女 | R7: 男 | S7: 女 | U7: 男 | V7: 女 | X7: 男 | Y7: 女
A8: 104年，2015 | B8: 124490 | C8: 57413 | D8: 67077 | E8: 9630905002 | F8: 1043 | G8: 292 | H8: 118420163 | I8: 4555 | J8: 1953 | K8: 563709238 | L8: 4966 | M8: 2849 | N8: 656788640 | O8: … | P8: … | Q8: … | R8: 37186 | S8: 50411 | T8: 7396439769 | U8: 9663 | V8: 11572 | W8: 895547192 | X8: 990 | Y8: 1269
A9: 105年，2016 | B9: 128108 | C9: 59012 | D9: 69096 | E9: 10207097782 | F9: 929 | G9: 255 | H9: 109999314 | I9: 4745 | J9: 2043 | K9: 605040698 | L9: 5353 | M9: 3088 | N9: 723349513 | O9: … | P9: … | Q9: … | R9: 38059 | S9: 51910 | T9: 7837935469 | U9: 9926 | V9: 11800 | W9: 930772788 | X9: 1031 | Y9: 1348
A10: 106年，2017 | B10: 134365 | C10: 62250 | D10: 72115 | E10: 10626735343 | F10: 871 | G10: 237 | H10: 102750373 | I10: 4895 | J10: 2119 | K10: 633580867 | L10: 5828 | M10: 3462 | N10: 797219266 | O10: … | P10: … | Q10: … | R10: 39591 | S10: 52996 | T10: 8050449651 | U10: 11065 | V10: 13301 | W10: 1042735186 | X10: 1095 | Y10: 1428
A11: 107年，2018 | B11: 143610 | C11: 66834 | D11: 76776 | E11: 11319748012 | F11: 745 | G11: 211 | H11: 90090733 | I11: 5226 | J11: 2330 | K11: 674030457 | L11: 6402 | M11: 3761 | N11: 876716027 | O11: … | P11: … | Q11: … | R11: 42741 | S11: 56421 | T11: 8601461163 | U11: 11720 | V11: 14053 | W11: 1077449632 | X11: 1166 | Y11: 1518
A12: 108年，2019 | B12: 156783 | C12: 73512 | D12: 83271 | E12: 12175723108 | F12: 691 | G12: 200 | H12: 81438512 | I12: 5729 | J12: 2473 | K12: 721150102 | L12: 7196 | M12: 4209 | N12: 973458501 | O12: … | P12: … | Q12: … | R12: 46108 | S12: 59703 | T12: 9134087198 | U12: 13788 | V12: 16686 | W12: 1265588795 | X12: 1178 | Y12: 1491
A13: 109年，2020 | B13: 173011 | C13: 81345 | D13: 91666 | E13: 13783178546 | F13: 629 | G13: 176 | H13: 78242459 | I13: 6049 | J13: 2667 | K13: 804642487 | L13: 7954 | M13: 4738 | N13: 1129108007 | O13: … | P13: … | Q13: … | R13: 49741 | S13: 63883 | T13: 10174161489 | U13: 16972 | V13: 20202 | W13: 1597024104 | X13: 1279 | Y13: 1632
A14: 110年，2021 | B14: 186225 | C14: 87565 | D14: 98660 | E14: 15010484375 | F14: 562 | G14: 165 | H14: 71780779 | I14: 6424 | J14: 2836 | K14: 855339095 | L14: 8505 | M14: 5099 | N14: 1230946461 | O14: … | P14: … | Q14: … | R14: 53857 | S14: 68780 | T14: 11112820191 | U14: 18217 | V14: 21780 | W14: 1739597849 | X14: 1393 | Y14: 1771
A15: 111年，2022 | B15: 195902 | C15: 92360 | D15: 103542 | E15: 16134518577 | F15: 497 | G15: 166 | H15: 64791372 | I15: 6814 | J15: 3104 | K15: 917254817 | L15: 9305 | M15: 5561 | N15: 1338315188 | O15: … | P15: … | Q15: … | R15: 57804 | S15: 73346 | T15: 12084048509 | U15: 17940 | V15: 21365 | W15: 1730108691 | X15: 1588 | Y15: 1954
A16: 112年，2023 | B16: 208407 | C16: 98572 | D16: 109835 | E16: 16885865996 | F16: 459 | G16: 153 | H16: 59400939 | I16: 7184 | J16: 3351 | K16: 969571185 | L16: 10338 | M16: 6101 | N16: 1479111136 | O16: 4977 | P16: 4660 | Q16: 825368396 | R16: 54906 | S16: 70533 | T16: 11553496186 | U16: 20708 | V16: 25037 | W16: 1998918154 | X16: 1854 | Y16: 2166
A17: 113年，2024 | B17: 223705 | C17: 106162 | D17: 117543 | E17: 18982403224 | F17: 453 | G17: 147 | H17: 62005176 | I17: 7625 | J17: 3651 | K17: 1111444193 | L17: 10890 | M17: 6483 | N17: 1683743749 | O17: 6079 | P17: 5598 | Q17: 1075759397 | R17: 55197 | S17: 70015 | T17: 12377089215 | U17: 25918 | V17: 31649 | W17: 2672361494 | X17: 2004 | Y17: 2353
A18: 114年，2025 | B18: 235010 | C18: 111933 | D18: 123077 | E18: 20294518145 | F18: 423 | G18: 149 | H18: 58027028 | I18: 8045 | J18: 3884 | K18: 1188313706 | L18: 11549 | M18: 6857 | N18: 1797246686 | O18: 6381 | P18: 5943 | Q18: 1171029887 | R18: 61096 | S18: 76702 | T18: 13558076373 | U18: 24439 | V18: 29542 | W18: 2521824465 | X18: 2583 | Y18: 2632
A19: 資料來源：直轄市、縣﹝市﹞政府。
A20: 總計 | B20: 141453 | C20: 67983 | D20: 73470 | E20: 717024949 | F20: 2158 | H20: 13065000 | I20: 5318 | K20: 31869340 | L20: 6980 | N20: 41735377 | R20: 86651 | T20: 512944980 | U20: 40346 | W20: 117410252 | X20: … | Y20: …
A21: 臺 灣 省 | B21: 141862 | C21: 67990 | D21: 73872 | E21: 721171791 | F21: 2168 | H21: 13171100 | I21: 5363 | K21: 32287340 | L21: 7036 | N21: 42226300 | R21: 87100 | T21: 516360027 | U21: 40195 | W21: 117127024 | X21: … | Y21: …
A22: 福建省 | B22: 142504 | C22: 68442 | D22: 74062 | E22: 726208593 | F22: 2177 | H22: 13231000 | I22: 5381 | K22: 32271630 | L22: 7173 | N22: 42693109 | R22: 87511 | T22: 519958790 | U22: 40262 | W22: 118054064 | X22: … | Y22: …
A23: 年月 | B23: 141895 | C23: 67883 | D23: 74012 | E23: 725506823 | F23: 2172 | H23: 13167000 | I23: 5379 | K23: 32230256 | L23: 7232 | N23: 42999388 | R23: 87993 | T23: 522544290 | U23: 39119 | W23: 114565889 | X23: … | Y23: …

Sheet 114
A1: 1.4-02 中低收入老人生活津貼
A2: 民國114年
A3: 單位：人
A4: 區域別 | B4: 總計 | F4: 低收入戶 | O4: 中 低 收 入 戶 | R4: 中低收入老人 | X4: 具原住民身分分
B5: 人數(期底數) | E5: 金額(元) | F5: 第1款(省、新北、臺中、臺南)、第0類(臺北)、第1類(高雄) | I5: 第2款(省、新北、臺中、臺南)、第1、2類(臺北)、第2類(高雄) | L5: 第3款(省、新北、臺中、臺南)、第3、4類(臺北、高雄) | R5: 最低生活費1倍以上未滿1.5倍 | U5: 最低生活費1.5倍以上未滿2.5倍
B6: 計 | C6: 男 | D6: 女 | F6: 人數 | H6: 金額(元) | I6: 人數 | K6: 金額(元) | L6: 人數 | N6: 金額(元) | O6: 人數 | Q6: 金額(元) | R6: 人數 | T6: 金額(元) | U6: 人數 | W6: 金額(元) | X6: 人數
F7: 男 | G7: 女 | I7: 男 | J7: 女 | L7: 男 | M7: 女 | O7: 男 | P7: 女 | R7: 男 | S7: 女 | U7: 男 | V7: 女 | X7: 男 | Y7: 女
A8: 114年，2025 | B8: 235010 | C8: 111933 | D8: 123077 | E8: 20294518145 | F8: 423 | G8: 149 | H8: 58027028 | I8: 8045 | J8: 3884 | K8: 1188313706 | L8: 11549 | M8: 6857 | N8: 1797246686 | O8: 6381 | P8: 5943 | Q8: 1171029887 | R8: 61096 | S8: 76702 | T8: 13558076373 | U8: 24439 | V8: 29542 | W8: 2521824465 | X8: 2583 | Y8: 2632
A9: 新北市 | B9: 28445 | C9: 13947 | D9: 14498 | E9: 2459600379 | F9: 24 | G9: 7 | H9: 2947437 | I9: 422 | J9: 181 | K9: 58211382 | L9: 1724 | M9: 1015 | N9: 270034422 | O9: 833 | P9: 702 | Q9: 149340602 | R9: 8113 | S9: 9590 | T9: 1712915491 | U9: 2831 | V9: 3003 | W9: 266151045 | X9: 477 | Y9: 188
A10: 臺北市 | B10: 15388 | C10: 7415 | D10: 7973 | E10: 1470788345 | F10: 241 | G10: 82 | H10: 32996289 | I10: 1735 | J10: 1109 | K10: 289315007 | L10: 1434 | M10: 1489 | N10: 292997757 | O10: 901 | P10: 969 | Q10: 188396574 | R10: 2502 | S10: 3649 | T10: 605911063 | U10: 602 | V10: 675 | W10: 61171655 | X10: 33 | Y10: 78
A11: 桃園市 | B11: 13966 | C11: 6665 | D11: 7301 | E11: 1160427264 | F11: 20 | G11: 3 | H11: 2057263 | I11: 333 | J11: 130 | K11: 42594624 | L11: 884 | M11: 530 | N11: 135558224 | O11: 398 | P11: 327 | Q11: 61064426 | R11: 3651 | S11: 4811 | T11: 799276501 | U11: 1379 | V11: 1500 | W11: 119876226 | X11: 157 | Y11: 211
A12: 臺中市 | B12: 29011 | C12: 13379 | D12: 15632 | E12: 2573227712 | F12: 93 | G12: 38 | H12: 13204588 | I12: 1404 | J12: 737 | K12: 216932761 | L12: 781 | M12: 610 | N12: 137243740 | O12: 912 | P12: 824 | Q12: 165298866 | R12: 7297 | S12: 9825 | T12: 1722136092 | U12: 2892 | V12: 3598 | W12: 318411665 | X12: 64 | Y12: 88
A13: 臺南市 | B13: 21088 | C13: 10409 | D13: 10679 | E13: 1777144311 | F13: 20 | G13: 10 | H13: 3098388 | I13: 585 | J13: 204 | K13: 80308950 | L13: 981 | M13: 426 | N13: 135400617 | O13: 209 | P13: 160 | Q13: 34904298 | R13: 6118 | S13: 7143 | T13: 1288971136 | U13: 2496 | V13: 2736 | W13: 234460922 | X13: 9 | Y13: 30
A14: 高雄市 | B14: 46418 | C14: 20804 | D14: 25614 | E14: 3998595414 | F14: 5 | G14: 6 | H14: 1174389 | I14: 1674 | J14: 812 | K14: 243062706 | L14: 916 | M14: 689 | N14: 154024955 | O14: 1266 | P14: 1485 | Q14: 262774899 | R14: 12309 | S14: 16284 | T14: 2818084621 | U14: 4634 | V14: 6338 | W14: 519473844 | X14: 135 | Y14: 274
A15: 宜蘭縣 | B15: 4022 | C15: 1978 | D15: 2044 | E15: 337854983 | F15: 0 | G15: 0 | H15: 83290 | I15: 59 | J15: 22 | K15: 8004169 | L15: 336 | M15: 153 | N15: 47143063 | O15: 206 | P15: 168 | Q15: 33780859 | R15: 930 | S15: 1166 | T15: 206044301 | U15: 447 | V15: 535 | W15: 42799301 | X15: 91 | Y15: 132
A16: 新竹縣 | B16: 2583 | C16: 1357 | D16: 1226 | E16: 209592374 | F16: 0 | G16: 0 | H16: 0 | I16: 47 | J16: 14 | K16: 6296724 | L16: 215 | M16: 82 | N16: 28301942 | O16: 105 | P16: 75 | Q16: 17420104 | R16: 595 | S16: 682 | T16: 123661988 | U16: 395 | V16: 373 | W16: 33911616 | X16: 19 | Y16: 45
A17: 苗栗縣 | B17: 3813 | C17: 1902 | D17: 1911 | E17: 315192906 | F17: 0 | G17: 0 | H17: 0 | I17: 197 | J17: 69 | K17: 27560661 | L17: 231 | M17: 157 | N17: 36181178 | O17: 114 | P17: 94 | Q17: 19248323 | R17: 862 | S17: 1037 | T17: 185332760 | U17: 498 | V17: 554 | W17: 46869984 | X17: 24 | Y17: 33
A18: 彰化縣 | B18: 14001 | C18: 6779 | D18: 7222 | E18: 1230745910 | F18: 1 | G18: 0 | H18: 116606 | I18: 9 | J18: 5 | K18: 1380416 | L18: 852 | M18: 344 | N18: 116342009 | O18: 271 | P18: 152 | Q18: 38981346 | R18: 4156 | S18: 4898 | T18: 911237516 | U18: 1490 | V18: 1823 | W18: 162688017 | X18: 43 | Y18: 58
A19: 南投縣 | B19: 8086 | C19: 3829 | D19: 4257 | E19: 675249617 | F19: 1 | G19: 0 | H19: 108277 | I19: 30 | J19: 10 | K19: 3723063 | L19: 323 | M19: 88 | N19: 40309467 | O19: 170 | P19: 130 | Q19: 28035066 | R19: 2195 | S19: 2668 | T19: 483597731 | U19: 1110 | V19: 1361 | W19: 119476013 | X19: 40 | Y19: 72
... A30: 連江縣 | B30: 18 | C30: 14 | D30: 4 | E30: 1370102 | F30: 2 | G30: 0 | H30: 199896 | I30: 1 | J30: 0 | K30: 99948 | L30: 3 | M30: 0 | N30: 216554 | O30: 3 | P30: 3 | Q30: 599688 | R30: 1 | S30: 0 | T30: 99948 | U30: 4 | V30: 1 | W30: 154068 | X30: 1 | Y30: 0
A31: 資料來源：直轄市、縣﹝市﹞政府。
A32: 總計 | B32: =B8-SUM(B9:B14)-#REF! -> #REF! | C32: =C8-SUM(C9:C14)-#REF! -> #REF! | D32: =D8-SUM(D9:D14)-#REF! -> #REF! | E32: =E8-SUM(E9:E14)-#REF! -> #REF! | F32: =F8-SUM(F9:F14)-#REF! -> #REF! | G32: =G8-SUM(G9:G14)-#REF! -> #REF! | H32: =H8-SUM(H9:H14)-#REF! -> #REF! | I32: =I8-SUM(I9:I14)-#REF! -> #REF! | ... N32: =N8-SUM(N9:N14)-#REF! -> #REF! | R32: =R8-SUM(R9:R14)-#REF! -> #REF! | S32: =S8-SUM(S9:S14)-#REF! -> #REF! | T32: =T8-SUM(T9:T14)-#REF! -> #REF! | U32: =U8-SUM(U9:U14)-#REF! -> #REF! | V32: =V8-SUM(V9:V14)-#REF! -> #REF! | W32: =W8-SUM(W9:W14)-#REF! -> #REF! | X32: =X8-SUM(X9:X14)-#REF! -> #REF! | Y32: =Y8-SUM(Y9:Y14)-#REF! -> #REF!
A33: 臺 灣 省 | B33: =#REF!-SUM(B15:B28) -> #REF! | C33: =#REF!-SUM(C15:C28) -> #REF! | D33: =#REF!-SUM(D15:D28) -> #REF! | E33: =#REF!-SUM(E15:E28) -> #REF! | F33: =#REF!-SUM(F15:F28) -> #REF! | G33: =#REF!-SUM(G15:G28) -> #REF! | H33: =#REF!-SUM(H15:H28) -> #REF! | I33: =#REF!-SUM(I15:I28) -> #REF! | ... N33: =#REF!-SUM(N15:N28) -> #REF! | R33: =#REF!-SUM(R15:R28) -> #REF! | S33: =#REF!-SUM(S15:S28) -> #REF! | T33: =#REF!-SUM(T15:T28) -> #REF! | U33: =#REF!-SUM(U15:U28) -> #REF! | V33: =#REF!-SUM(V15:V28) -> #REF! | W33: =#REF!-SUM(W15:W28) -> #REF! | X33: =#REF!-SUM(X15:X28) -> #REF! | Y33: =#REF!-SUM(Y15:Y28) -> #REF!
A34: 福建省 | B34: =#REF!-B29-B30 -> #REF! | C34: =#REF!-C29-C30 -> #REF! | D34: =#REF!-D29-D30 -> #REF! | E34: =#REF!-E29-E30 -> #REF! | F34: =#REF!-F29-F30 -> #REF! | G34: =#REF!-G29-G30 -> #REF! | H34: =#REF!-H29-H30 -> #REF! | I34: =#REF!-I29-I30 -> #REF! | ... N34: =#REF!-N29-N30 -> #REF! | R34: =#REF!-R29-R30 -> #REF! | S34: =#REF!-S29-S30 -> #REF! | T34: =#REF!-T29-T30 -> #REF! | U34: =#REF!-U29-U30 -> #REF! | V34: =#REF!-V29-V30 -> #REF! | W34: =#REF!-W29-W30 -> #REF! | X34: =#REF!-X29-X30 -> #REF! | Y34: =#REF!-Y29-Y30 -> #REF!
A35: 年月 | B35: =#REF!-'114'!B8 -> #REF! | C35: =#REF!-'114'!C8 -> #REF! | D35: =#REF!-'114'!D8 -> #REF! | E35: =#REF!-'114'!E8 -> #REF! | F35: =#REF!-'114'!F8-'114'!G8 -> #REF! | H35: =#REF!-'114'!H8 -> #REF! | I35: =#REF!-'114'!I8-'114'!J8 -> #REF! | K35: =#REF!-'114'!K8 -> #REF! | L35: =#REF!-'114'!L8-'114'!M8 -> #REF! | N35: =#REF!-'114'!N8 -> #REF! | R35: =#REF!-'114'!R8-'114'!S8 -> #REF! | T35: =#REF!-'114'!T8 -> #REF! | U35: =#REF!-'114'!U8-'114'!V8 -> #REF! | W35: =#REF!-'114'!W8 -> #REF! | X35: =#REF!-'114'!X8 -> #REF! | Y35: =#REF!-'114'!Y8 -> #REF!

Sheet 113
A1: 1.4-02 中低收入老人生活津貼
A2: 民國113年
A3: 單位：人
A4: 區域別 | B4: 總計 | F4: 低收入戶 | O4: 中 低 收 入 戶 | R4: 中低收入老人 | X4: 具原住民身分分
B5: 人數(期底數) | E5: 金額(元) | F5: 第1款(省、新北、臺中、臺南)、第0類(臺北)、第1類(高雄) | I5: 第2款(省、新北、臺中、臺南)、第1、2類(臺北)、第2類(高雄) | L5: 第3款(省、新北、臺中、臺南)、第3、4類(臺北、高雄) | R5: 最低生活費1倍以上未滿1.5倍 | U5: 最低生活費1.5倍以上未滿2.5倍
B6: 計 | C6: 男 | D6: 女 | F6: 人數 | H6: 金額(元) | I6: 人數 | K6: 金額(元) | L6: 人數 | N6: 金額(元) | O6: 人數 | Q6: 金額(元) | R6: 人數 | T6: 金額(元) | U6: 人數 | W6: 金額(元) | X6: 人數
F7: 男 | G7: 女 | I7: 男 | J7: 女 | L7: 男 | M7: 女 | O7: 男 | P7: 女 | R7: 男 | S7: 女 | U7: 男 | V7: 女 | X7: 男 | Y7: 女
A8: 113年，2024 | B8: 223705 | C8: 106162 | D8: 117543 | E8: 18982403224 | F8: 453 | G8: 147 | H8: 62005176 | I8: 7625 | J8: 3651 | K8: 1111444193 | L8: 10890 | M8: 6483 | N8: 1683743749 | O8: 6079 | P8: 5598 | Q8: 1075759397 | R8: 55197 | S8: 70015 | T8: 12377089215 | U8: 25918 | V8: 31649 | W8: 2672361494 | X8: 2004 | Y8: 2353
A9: 新北市 | B9: 26016 | C9: 12799 | D9: 13217 | E9: 2290914770 | F9: 27 | G9: 5 | H9: 3114018 | I9: 366 | J9: 156 | K9: 47165028 | L9: 1671 | M9: 965 | N9: 262684138 | O9: 793 | P9: 630 | Q9: 134684006 | R9: 7458 | S9: 8908 | T9: 1609183523 | U9: 2484 | V9: 2553 | W9: 234084057 | X9: 171 | Y9: 253
A10: 臺北市 | B10: 15010 | C10: 7258 | D10: 7752 | E10: 1423578137 | F10: 261 | G10: 83 | H10: 35575931 | I10: 1763 | J10: 1085 | K10: 281671288 | L10: 1399 | M10: 1465 | N10: 281824896 | O10: 911 | P10: 951 | Q10: 182284551 | R10: 2368 | S10: 3566 | T10: 586590550 | U10: 556 | V10: 602 | W10: 55630921 | X10: 31 | Y10: 70
A11: 桃園市 | B11: 12554 | C11: 5891 | D11: 6663 | E11: 1090392759 | F11: 19 | G11: 2 | H11: 2232226 | I11: 293 | J11: 118 | K11: 38821388 | L11: 824 | M11: 462 | N11: 119908777 | O11: 336 | P11: 283 | Q11: 54424011 | R11: 3277 | S11: 4450 | T11: 759111191 | U11: 1142 | V11: 1348 | W11: 115895166 | X11: 104 | Y11: 141
A12: 臺中市 | B12: 27482 | C12: 12666 | D12: 14816 | E12: 2424890889 | F12: 92 | G12: 34 | H12: 12754409 | I12: 1292 | J12: 637 | K12: 194093006 | L12: 743 | M12: 604 | N12: 133810590 | O12: 816 | P12: 727 | Q12: 144883656 | R12: 6958 | S12: 9506 | T12: 1646639306 | U12: 2765 | V12: 3308 | W12: 292709922 | X12: 60 | Y12: 74
A13: 臺南市 | B13: 19185 | C13: 9360 | D13: 9825 | E13: 1615220565 | F13: 22 | G13: 12 | H13: 3764681 | I13: 600 | J13: 214 | K13: 81616711 | L13: 898 | M13: 375 | N13: 125074873 | O13: 180 | P13: 140 | Q13: 29509795 | R13: 5203 | S13: 6199 | T13: 1125233191 | U13: 2457 | V13: 2885 | W13: 250021314 | X13: 10 | Y13: 25
A14: 高雄市 | B14: 45206 | C14: 20081 | D14: 25125 | E14: 3807885964 | F14: 5 | G14: 8 | H14: 1324284 | I14: 1558 | J14: 776 | K14: 230774352 | L14: 840 | M14: 638 | N14: 143103930 | O14: 1194 | P14: 1447 | Q14: 251374169 | R14: 11060 | S14: 14754 | T14: 2558248548 | U14: 5424 | V14: 7502 | W14: 623060681 | X14: 140 | Y14: 267
A15: 宜蘭縣 | B15: 3790 | C15: 1844 | D15: 1946 | E15: 316027109 | F15: 2 | G15: 0 | H15: 258199 | I15: 57 | J15: 20 | K15: 7907406 | L15: 324 | M15: 164 | N15: 43086208 | O15: 165 | P15: 127 | Q15: 26186068 | R15: 844 | S15: 1070 | T15: 190977299 | U15: 452 | V15: 565 | W15: 47611929 | X15: 86 | Y15: 114
A16: 新竹縣 | B16: 2312 | C16: 1202 | D16: 1110 | E16: 188449976 | F16: 0 | G16: 0 | H16: 8302 | I16: 50 | J16: 14 | K16: 7087898 | L16: 184 | M16: 80 | N16: 25461834 | O16: 100 | P16: 63 | Q16: 14719911 | R16: 491 | S16: 564 | T16: 105095174 | U16: 377 | V16: 389 | W16: 36076857 | X16: 19 | Y16: 41
A17: 苗栗縣 | B17: 3499 | C17: 1727 | D17: 1772 | E17: 281096293 | F17: 0 | G17: 0 | H17: 0 | I17: 203 | J17: 78 | K17: 27002591 | L17: 189 | M17: 137 | N17: 30015383 | O17: 132 | P17: 108 | Q17: 20964135 | R17: 727 | S17: 875 | T17: 155154683 | U17: 476 | V17: 574 | W17: 47959501 | X17: 26 | Y17: 32
A18: 彰化縣 | B18: 13085 | C18: 6317 | D18: 6768 | E18: 1115665622 | F18: 1 | G18: 0 | H18: 99948 | I18: 8 | J18: 7 | K18: 1640243 | L18: 783 | M18: 309 | N18: 109394167 | O18: 214 | P18: 115 | Q18: 31877213 | R18: 3665 | S18: 4286 | T18: 793406182 | U18: 1646 | V18: 2051 | W18: 179247869 | X18: 44 | Y18: 59
A19: 南投縣 | B19: 7771 | C19: 3643 | D19: 4128 | E19: 631542891 | F19: 1 | G19: 0 | H19: 99378 | I19: 29 | J19: 10 | K19: 3611146 | L19: 289 | M19: 86 | N19: 37672734 | O19: 146 | P19: 105 | Q19: 22159646 | R19: 1982 | S19: 2426 | T19: 438364961 | U19: 1196 | V19: 1501 | W19: 129635026 | X19: 35 | Y19: 62
... A30: 連江縣 | B30: 11 | C30: 8 | D30: 3 | E30: 1066095 | F30: 2 | G30: 0 | H30: 199896 | I30: 1 | J30: 0 | K30: 183238 | L30: 2 | M30: 0 | N30: 199896 | O30: 2 | P30: 1 | Q30: 241541 | R30: 1 | S30: 0 | T30: 99948 | U30: 0 | V30: 2 | W30: 141576 | X30: 0 | Y30: 0
A31: 資料來源：直轄市、縣﹝市﹞政府。
A32: 總計 | B32: =B8-SUM(B9:B14)-#REF! -> #REF! | C32: =C8-SUM(C9:C14)-#REF! -> #REF! | D32: =D8-SUM(D9:D14)-#REF! -> #REF! | E32: =E8-SUM(E9:E14)-#REF! -> #REF! | F32: =F8-SUM(F9:F14)-#REF! -> #REF! | G32: =G8-SUM(G9:G14)-#REF! -> #REF! | H32: =H8-SUM(H9:H14)-#REF! -> #REF! | I32: =I8-SUM(I9:I14)-#REF! -> #REF! | ... N32: =N8-SUM(N9:N14)-#REF! -> #REF! | R32: =R8-SUM(R9:R14)-#REF! -> #REF! | S32: =S8-SUM(S9:S14)-#REF! -> #REF! | T32: =T8-SUM(T9:T14)-#REF! -> #REF! | U32: =U8-SUM(U9:U14)-#REF! -> #REF! | V32: =V8-SUM(V9:V14)-#REF! -> #REF! | W32: =W8-SUM(W9:W14)-#REF! -> #REF! | X32: =X8-SUM(X9:X14)-#REF! -> #REF! | Y32: =Y8-SUM(Y9:Y14)-#REF! -> #REF!
A33: 臺 灣 省 | B33: =#REF!-SUM(B15:B28) -> #REF! | C33: =#REF!-SUM(C15:C28) -> #REF! | D33: =#REF!-SUM(D15:D28) -> #REF! | E33: =#REF!-SUM(E15:E28) -> #REF! | F33: =#REF!-SUM(F15:F28) -> #REF! | G33: =#REF!-SUM(G15:G28) -> #REF! | H33: =#REF!-SUM(H15:H28) -> #REF! | I33: =#REF!-SUM(I15:I28) -> #REF! | ... N33: =#REF!-SUM(N15:N28) -> #REF! | R33: =#REF!-SUM(R15:R28) -> #REF! | S33: =#REF!-SUM(S15:S28) -> #REF! | T33: =#REF!-SUM(T15:T28) -> #REF! | U33: =#REF!-SUM(U15:U28) -> #REF! | V33: =#REF!-SUM(V15:V28) -> #REF! | W33: =#REF!-SUM(W15:W28) -> #REF! | X33: =#REF!-SUM(X15:X28) -> #REF! | Y33: =#REF!-SUM(Y15:Y28) -> #REF!
A34: 福建省 | B34: =#REF!-B29-B30 -> #REF! | C34: =#REF!-C29-C30 -> #REF! | D34: =#REF!-D29-D30 -> #REF! | E34: =#REF!-E29-E30 -> #REF! | F34: =#REF!-F29-F30 -> #REF! | G34: =#REF!-G29-G30 -> #REF! | H34: =#REF!-H29-H30 -> #REF! | I34: =#REF!-I29-I30 -> #REF! | ... N34: =#REF!-N29-N30 -> #REF! | R34: =#REF!-R29-R30 -> #REF! | S34: =#REF!-S29-S30 -> #REF! | T34: =#REF!-T29-T30 -> #REF! | U34: =#REF!-U29-U30 -> #REF! | V34: =#REF!-V29-V30 -> #REF! | W34: =#REF!-W29-W30 -> #REF! | X34: =#REF!-X29-X30 -> #REF! | Y34: =#REF!-Y29-Y30 -> #REF!
A35: 年月 | B35: =#REF!-'113'!B8 -> #REF! | C35: =#REF!-'113'!C8 -> #REF! | D35: =#REF!-'113'!D8 -> #REF! | E35: =#REF!-'113'!E8 -> #REF! | F35: =#REF!-'113'!F8-'113'!G8 -> #REF! | H35: =#REF!-'113'!H8 -> #REF! | I35: =#REF!-'113'!I8-'113'!J8 -> #REF! | K35: =#REF!-'113'!K8 -> #REF! | L35: =#REF!-'113'!L8-'113'!M8 -> #REF! | N35: =#REF!-'113'!N8 -> #REF! | R35: =#REF!-'113'!R8-'113'!S8 -> #REF! | T35: =#REF!-'113'!T8 -> #REF! | U35: =#REF!-'113'!U8-'113'!V8 -> #REF! | W35: =#REF!-'113'!W8 -> #REF! | X35: =#REF!-'113'!X8 -> #REF! | Y35: =#REF!-'113'!Y8 -> #REF!

Sheet 112
A1: 1.4-02 中低收入老人生活津貼
A2: 民國112年
A3: 單位：人
A4: 區域別 | B4: 總計 | F4: 低收入戶 | O4: 中 低 收 入 戶 | R4: 中低收入老人 | X4: 具原住民身分分
B5: 人數(期底數) | E5: 金額(元) | F5: 第1款(省、新北、臺中、臺南)、第0類(臺北)、第1類(高雄) | I5: 第2款(省、新北、臺中、臺南)、第1、2類(臺北)、第2類(高雄) | L5: 第3款(省、新北、臺中、臺南)、第3、4類(臺北、高雄) | R5: 最低生活費1倍以上未滿1.5倍 | U5: 最低生活費1.5倍以上未滿2.5倍
B6: 計 | C6: 男 | D6: 女 | F6: 人數 | H6: 金額(元) | I6: 人數 | K6: 金額(元) | L6: 人數 | N6: 金額(元) | O6: 人數 | Q6: 金額(元) | R6: 人數 | T6: 金額(元) | U6: 人數 | W6: 金額(元) | X6: 人數
F7: 男 | G7: 女 | I7: 男 | J7: 女 | L7: 男 | M7: 女 | O7: 男 | P7: 女 | R7: 男 | S7: 女 | U7: 男 | V7: 女 | X7: 男 | Y7: 女
A8: 112年，2023 | B8: 208407 | C8: 98572 | D8: 109835 | E8: 16885865996 | F8: 459 | G8: 153 | H8: 59400939 | I8: 7184 | J8: 3351 | K8: 969571185 | L8: 10338 | M8: 6101 | N8: 1479111136 | O8: 4977 | P8: 4660 | Q8: 825368396 | R8: 54906 | S8: 70533 | T8: 11553496186 | U8: 20708 | V8: 25037 | W8: 1998918154 | X8: 1854 | Y8: 2166
A9: 新北市 | B9: 23701 | C9: 11610 | D9: 12091 | E9: 1973638927 | F9: 22 | G9: 5 | H9: 2557767 | I9: 325 | J9: 128 | K9: 39515508 | L9: 1635 | M9: 947 | N9: 239516034 | O9: 665 | P9: 530 | Q9: 103954003 | R9: 6948 | S9: 8403 | T9: 1409322462 | U9: 2015 | V9: 2078 | W9: 178773153 | X9: 130 | Y9: 213
A10: 臺北市 | B10: 14237 | C10: 6953 | D10: 7284 | E10: 1265126251 | F10: 292 | G10: 94 | H10: 37069038 | I10: 1631 | J10: 997 | K10: 244264937 | L10: 1369 | M10: 1395 | N10: 251831331 | O10: 839 | P10: 863 | Q10: 152357381 | R10: 2332 | S10: 3450 | T10: 536080212 | U10: 490 | V10: 485 | W10: 43523352 | X10: 29 | Y10: 75
A11: 桃園市 | B11: 11883 | C11: 5522 | D11: 6361 | E11: 971706000 | F11: 17 | G11: 4 | H11: 2063894 | I11: 265 | J11: 94 | K11: 32067947 | L11: 712 | M11: 416 | N11: 98891614 | O11: 256 | P11: 231 | Q11: 35510365 | R11: 3328 | S11: 4564 | T11: 718199995 | U11: 944 | V11: 1052 | W11: 84972185 | X11: 85 | Y11: 125
A12: 臺中市 | B12: 25517 | C12: 11824 | D12: 13693 | E12: 2116046820 | F12: 63 | G12: 22 | H12: 8050285 | I12: 1216 | J12: 589 | K12: 166421937 | L12: 751 | M12: 614 | N12: 123979019 | O12: 632 | P12: 573 | Q12: 100524457 | R12: 6863 | S12: 9225 | T12: 1495049799 | U12: 2299 | V12: 2670 | W12: 222021323 | X12: 49 | Y12: 57
A13: 臺南市 | B13: 17719 | C13: 8628 | D13: 9091 | E13: 1432715392 | F13: 27 | G13: 15 | H13: 4492461 | I13: 603 | J13: 221 | K13: 76747072 | L13: 860 | M13: 355 | N13: 108761571 | O13: 91 | P13: 64 | Q13: 13208836 | R13: 5165 | S13: 6269 | T13: 1052878759 | U13: 1882 | V13: 2167 | W13: 176626693 | X13: 10 | Y13: 24
A14: 高雄市 | B14: 44136 | C14: 19504 | D14: 24632 | E14: 3509963252 | F14: 6 | G14: 10 | H14: 1613872 | I14: 1489 | J14: 719 | K14: 201685994 | L14: 764 | M14: 653 | N14: 126764257 | O14: 1152 | P14: 1400 | Q14: 227815991 | R14: 11364 | S14: 15477 | T14: 2466460856 | U14: 4729 | V14: 6373 | W14: 485622282 | X14: 127 | Y14: 262
A15: 宜蘭縣 | B15: 3555 | C15: 1734 | D15: 1821 | E15: 279668983 | F15: 3 | G15: 0 | H15: 333637 | I15: 62 | J15: 21 | K15: 7966122 | L15: 286 | M15: 117 | N15: 34890016 | O15: 117 | P15: 99 | Q15: 15804764 | R15: 891 | S15: 1096 | T15: 185150907 | U15: 375 | V15: 488 | W15: 35523537 | X15: 86 | Y15: 121
A16: 新竹縣 | B16: 2194 | C16: 1143 | D16: 1051 | E16: 170138658 | F16: 0 | G16: 0 | H16: 15518 | I16: 58 | J16: 15 | K16: 7363291 | L16: 157 | M16: 64 | N16: 19113237 | O16: 95 | P16: 58 | Q16: 13007964 | R16: 525 | S16: 598 | T16: 103365399 | U16: 308 | V16: 316 | W16: 27273249 | X16: 76 | Y16: 70
A17: 苗栗縣 | B17: 3137 | C17: 1551 | D17: 1586 | E17: 242227343 | F17: 0 | G17: 0 | H17: 0 | I17: 203 | J17: 65 | K17: 24533958 | L17: 160 | M17: 133 | N17: 26046963 | O17: 111 | P17: 89 | Q17: 16076648 | R17: 677 | S17: 830 | T17: 138610662 | U17: 400 | V17: 469 | W17: 36959112 | X17: 24 | Y17: 28
A18: 彰化縣 | B18: 12385 | C18: 6007 | D18: 6378 | E18: 990104764 | F18: 1 | G18: 0 | H18: 93108 | I18: 11 | J18: 4 | K18: 1326789 | L18: 766 | M18: 284 | N18: 93059072 | O18: 187 | P18: 102 | Q18: 23638446 | R18: 3680 | S18: 4375 | T18: 741128126 | U18: 1362 | V18: 1613 | W18: 130859223 | X18: 40 | Y18: 55
A19: 南投縣 | B19: 7363 | C19: 3430 | D19: 3933 | E19: 566663978 | F19: 1 | G19: 0 | H19: 93108 | I19: 22 | J19: 9 | K19: 2816517 | L19: 293 | M19: 89 | N19: 35286209 | O19: 73 | P19: 54 | Q19: 8886749 | R19: 2012 | S19: 2484 | T19: 417283448 | U19: 1029 | V19: 1297 | W19: 102297947 | X19: 30 | Y19: 52
... A30: 連江縣 | B30: 11 | C30: 10 | D30: 1 | E30: 931068 | F30: 2 | G30: 0 | H30: 186216 | I30: 2 | J30: 0 | K30: 186216 | L30: 2 | M30: 0 | N30: 186216 | O30: 2 | P30: 0 | Q30: 186216 | R30: 1 | S30: 0 | T30: 93108 | U30: 1 | V30: 1 | W30: 93096 | X30: 0 | Y30: 0
A31: 資料來源：直轄市、縣﹝市﹞政府。
A32: 總計 | B32: =B8-SUM(B9:B14)-#REF! -> #REF! | C32: =C8-SUM(C9:C14)-#REF! -> #REF! | D32: =D8-SUM(D9:D14)-#REF! -> #REF! | E32: =E8-SUM(E9:E14)-#REF! -> #REF! | F32: =F8-SUM(F9:F14)-#REF! -> #REF! | G32: =G8-SUM(G9:G14)-#REF! -> #REF! | H32: =H8-SUM(H9:H14)-#REF! -> #REF! | I32: =I8-SUM(I9:I14)-#REF! -> #REF! | ... N32: =N8-SUM(N9:N14)-#REF! -> #REF! | R32: =R8-SUM(R9:R14)-#REF! -> #REF! | S32: =S8-SUM(S9:S14)-#REF! -> #REF! | T32: =T8-SUM(T9:T14)-#REF! -> #REF! | U32: =U8-SUM(U9:U14)-#REF! -> #REF! | V32: =V8-SUM(V9:V14)-#REF! -> #REF! | W32: =W8-SUM(W9:W14)-#REF! -> #REF! | X32: =X8-SUM(X9:X14)-#REF! -> #REF! | Y32: =Y8-SUM(Y9:Y14)-#REF! -> #REF!
A33: 臺 灣 省 | B33: =#REF!-SUM(B15:B28) -> #REF! | C33: =#REF!-SUM(C15:C28) -> #REF! | D33: =#REF!-SUM(D15:D28) -> #REF! | E33: =#REF!-SUM(E15:E28) -> #REF! | F33: =#REF!-SUM(F15:F28) -> #REF! | G33: =#REF!-SUM(G15:G28) -> #REF! | H33: =#REF!-SUM(H15:H28) -> #REF! | I33: =#REF!-SUM(I15:I28) -> #REF! | ... N33: =#REF!-SUM(N15:N28) -> #REF! | R33: =#REF!-SUM(R15:R28) -> #REF! | S33: =#REF!-SUM(S15:S28) -> #REF! | T33: =#REF!-SUM(T15:T28) -> #REF! | U33: =#REF!-SUM(U15:U28) -> #REF! | V33: =#REF!-SUM(V15:V28) -> #REF! | W33: =#REF!-SUM(W15:W28) -> #REF! | X33: =#REF!-SUM(X15:X28) -> #REF! | Y33: =#REF!-SUM(Y15:Y28) -> #REF!
A34: 福建省 | B34: =#REF!-B29-B30 -> #REF! | C34: =#REF!-C29-C30 -> #REF! | D34: =#REF!-D29-D30 -> #REF! | E34: =#REF!-E29-E30 -> #REF! | F34: =#REF!-F29-F30 -> #REF! | G34: =#REF!-G29-G30 -> #REF! | H34: =#REF!-H29-H30 -> #REF! | I34: =#REF!-I29-I30 -> #REF! | ... N34: =#REF!-N29-N30 -> #REF! | R34: =#REF!-R29-R30 -> #REF! | S34: =#REF!-S29-S30 -> #REF! | T34: =#REF!-T29-T30 -> #REF! | U34: =#REF!-U29-U30 -> #REF! | V34: =#REF!-V29-V30 -> #REF! | W34: =#REF!-W29-W30 -> #REF! | X34: =#REF!-X29-X30 -> #REF! | Y34: =#REF!-Y29-Y30 -> #REF!
A35: 年月 | B35: =#REF!-'112'!B8 -> #REF! | C35: =#REF!-'112'!C8 -> #REF! | D35: =#REF!-'112'!D8 -> #REF! | E35: =#REF!-'112'!E8 -> #REF! | F35: =#REF!-'112'!F8-'112'!G8 -> #REF! | H35: =#REF!-'112'!H8 -> #REF! | I35: =#REF!-'112'!I8-'112'!J8 -> #REF! | K35: =#REF!-'112'!K8 -> #REF! | L35: =#REF!-'112'!L8-'112'!M8 -> #REF! | N35: =#REF!-'112'!N8 -> #REF! | R35: =#REF!-'112'!R8-'112'!S8 -> #REF! | T35: =#REF!-'112'!T8 -> #REF! | U35: =#REF!-'112'!U8-'112'!V8 -> #REF! | W35: =#REF!-'112'!W8 -> #REF! | X35: =#REF!-'112'!X8 -> #REF! | Y35: =#REF!-'112'!Y8 -> #REF!

Sheet 111
A1: 1.4-02 中低收入老人生活津貼
A2: 民國111年
A3: 單位：人
A4: 區域別 | B4: 總計 | F4: 低收入戶 | O4: 中低收入 | U4: 具原住民身分分
B5: 人數(期底數) | E5: 金額(元) | F5: 第1款(省、新北、臺中、臺南)、第0類(臺北)、第1類(高雄) | I5: 第2款(省、新北、臺中、臺南)、第1、2類(臺北)、第2類(高雄) | L5: 第3款(省、新北、臺中、臺南)、第3、4類(臺北、高雄) | O5: 最低生活費1倍以上未滿1.5倍 | R5: 最低生活費1.5倍以上未滿2.5倍
B6: 計 | C6: 男 | D6: 女 | F6: 人數 | H6: 金額(元) | I6: 人數 | K6: 金額(元) | L6: 人數 | N6: 金額(元) | O6: 人數 | Q6: 金額(元) | R6: 人數 | T6: 金額(元) | U6: 人數
F7: 男 | G7: 女 | I7: 男 | J7: 女 | L7: 男 | M7: 女 | O7: 男 | P7: 女 | R7: 男 | S7: 女 | U7: 男 | V7: 女
A8: 111年，2022 | B8: 195902 | C8: 92360 | D8: 103542 | E8: 16134518577 | F8: 497 | G8: 166 | H8: 64791372 | I8: 6814 | J8: 3104 | K8: 917254817 | L8: 9305 | M8: 5561 | N8: 1338315188 | O8: 57804 | P8: 73346 | Q8: 12084048509 | R8: 17940 | S8: 21365 | T8: 1730108691 | U8: 1588 | V8: 1954
A9: 新北市 | B9: 21712 | C9: 10602 | D9: 11110 | E9: 1842083816 | F9: 25 | G9: 4 | H9: 2806155 | I9: 297 | J9: 116 | K9: 37945833 | L9: 1528 | M9: 865 | N9: 219176447 | O9: 6968 | P9: 8327 | Q9: 1422609436 | R9: 1784 | S9: 1798 | T9: 159545945 | U9: 109 | V9: 183
A10: 臺北市 | B10: 13603 | C10: 6704 | D10: 6899 | E10: 1208071559 | F10: 311 | G10: 99 | H10: 39394380 | I10: 1603 | J10: 939 | K10: 234368299 | L10: 1240 | M10: 1267 | N10: 230382784 | O10: 3074 | P10: 4161 | Q10: 660650107 | R10: 476 | S10: 433 | T10: 43275989 | U10: 27 | V10: 70
A11: 桃園市 | B11: 10983 | C11: 5082 | D11: 5901 | E11: 906497532 | F11: 18 | G11: 5 | H11: 2025099 | I11: 248 | J11: 78 | K11: 29502627 | L11: 596 | M11: 350 | N11: 80789293 | O11: 3359 | P11: 4479 | Q11: 712845972 | R11: 861 | S11: 989 | T11: 81334541 | U11: 57 | V11: 100
A12: 臺中市 | B12: 23369 | C12: 10903 | D12: 12466 | E12: 1991506927 | F12: 64 | G12: 24 | H12: 8571324 | I12: 1102 | J12: 514 | K12: 150054000 | L12: 651 | M12: 563 | N12: 111134489 | O12: 7224 | P12: 9195 | Q12: 1537343567 | R12: 1862 | S12: 2170 | T12: 184403547 | U12: 38 | V12: 49
A13: 臺南市 | B13: 16652 | C13: 8030 | D13: 8622 | E13: 1358381416 | F13: 34 | G13: 17 | H13: 5213048 | I13: 589 | J13: 216 | K13: 75495070 | L13: 767 | M13: 345 | N13: 100299790 | O13: 5022 | P13: 6152 | Q13: 1026705288 | R13: 1618 | S13: 1892 | T13: 150668220 | U13: 10 | V13: 20
A14: 高雄市 | B14: 42582 | C14: 18752 | D14: 23830 | E14: 3446990132 | F14: 5 | G14: 12 | H14: 1869919 | I14: 1361 | J14: 688 | K14: 188092251 | L14: 733 | M14: 614 | N14: 118849338 | O14: 12575 | P14: 17173 | Q14: 2726032138 | R14: 4078 | S14: 5343 | T14: 412146486 | U14: 121 | V14: 269
A15: 宜蘭縣 | B15: 3359 | C15: 1651 | D15: 1708 | E15: 265161334 | F15: 4 | G15: 0 | H15: 504335 | I15: 71 | J15: 18 | K15: 8630702 | L15: 249 | M15: 88 | N15: 29591106 | O15: 1019 | P15: 1196 | Q15: 197444747 | R15: 308 | S15: 406 | T15: 28990444 | U15: 82 | V15: 115
A16: 新竹縣 | B16: 2104 | C16: 1096 | D16: 1008 | E16: 164145315 | F16: 1 | G16: 0 | H16: 124144 | I16: 73 | J16: 17 | K16: 8728875 | L16: 122 | M16: 64 | N16: 16431321 | O16: 600 | P16: 641 | Q16: 113403098 | R16: 300 | S16: 286 | T16: 25457877 | U16: 71 | V16: 67
A17: 苗栗縣 | B17: 2899 | C17: 1436 | D17: 1463 | E17: 225394862 | F17: 0 | G17: 0 | H17: 0 | I17: 203 | J17: 58 | K17: 25069329 | L17: 141 | M17: 130 | N17: 23897720 | O17: 754 | P17: 864 | Q17: 144464833 | R17: 338 | S17: 411 | T17: 31962980 | U17: 22 | V17: 25
A18: 彰化縣 | B18: 11515 | C18: 5524 | D18: 5991 | E18: 942759354 | F18: 1 | G18: 0 | H18: 93108 | I18: 10 | J18: 4 | K18: 1489728 | L18: 676 | M18: 254 | N18: 84029755 | O18: 3743 | P18: 4431 | Q18: 753525794 | R18: 1094 | S18: 1302 | T18: 103620969 | U18: 27 | V18: 42
A19: 南投縣 | B19: 7012 | C19: 3268 | D19: 3744 | E19: 547177768 | F19: 1 | G19: 0 | H19: 162939 | I19: 20 | J19: 9 | K19: 2863071 | L19: 283 | M19: 85 | N19: 33928062 | O19: 2005 | P19: 2472 | Q19: 414357975 | R19: 959 | S19: 1178 | T19: 95865721 | U19: 35 | V19: 55
... A30: 連江縣 | B30: 11 | C30: 11 | D30: 0 | E30: 713817 | F30: 2 | G30: 0 | H30: 186216 | I30: 1 | J30: 0 | K30: 93108 | L30: 1 | M30: 0 | N30: 93108 | O30: 5 | P30: 0 | Q30: 256047 | R30: 2 | S30: 0 | T30: 85338 | U30: 0 | V30: 0
A31: 資料來源：直轄市、縣﹝市﹞政府。
A32: 總計 | B32: =B8-SUM(B9:B14)-#REF! -> #REF! | C32: =C8-SUM(C9:C14)-#REF! -> #REF! | D32: =D8-SUM(D9:D14)-#REF! -> #REF! | E32: =E8-SUM(E9:E14)-#REF! -> #REF! | F32: =F8-SUM(F9:F14)-#REF! -> #REF! | G32: =G8-SUM(G9:G14)-#REF! -> #REF! | H32: =H8-SUM(H9:H14)-#REF! -> #REF! | I32: =I8-SUM(I9:I14)-#REF! -> #REF! | ... V32: =V8-SUM(V9:V14)-#REF! -> #REF!
A33: 臺 灣 省 | B33: =#REF!-SUM(B15:B28) -> #REF! | C33: =#REF!-SUM(C15:C28) -> #REF! | D33: =#REF!-SUM(D15:D28) -> #REF! | E33: =#REF!-SUM(E15:E28) -> #REF! | F33: =#REF!-SUM(F15:F28) -> #REF! | G33: =#REF!-SUM(G15:G28) -> #REF! | H33: =#REF!-SUM(H15:H28) -> #REF! | I33: =#REF!-SUM(I15:I28) -> #REF! | ... V33: =#REF!-SUM(V15:V28) -> #REF!
A34: 福建省 | B34: =#REF!-B29-B30 -> #REF! | C34: =#REF!-C29-C30 -> #REF! | D34: =#REF!-D29-D30 -> #REF! | E34: =#REF!-E29-E30 -> #REF! | F34: =#REF!-F29-F30 -> #REF! | G34: =#REF!-G29-G30 -> #REF! | H34: =#REF!-H29-H30 -> #REF! | I34: =#REF!-I29-I30 -> #REF! | ... V34: =#REF!-V29-V30 -> #REF!
A35: 年月 | B35: =#REF!-'111'!B8 -> #REF! | C35: =#REF!-'111'!C8 -> #REF! | D35: =#REF!-'111'!D8 -> #REF! | E35: =#REF!-'111'!E8 -> #REF! | F35: =#REF!-'111'!F8-'111'!G8 -> #REF! | H35: =#REF!-'111'!H8 -> #REF! | I35: =#REF!-'111'!I8-'111'!J8 -> #REF! | K35: =#REF!-'111'!K8 -> #REF! | L35: =#REF!-'111'!L8-'111'!M8 -> #REF! | N35: =#REF!-'111'!N8 -> #REF! | O35: =#REF!-'111'!O8-'111'!P8 -> #REF! | Q35: =#REF!-'111'!Q8 -> #REF! | R35: =#REF!-'111'!R8-'111'!S8 -> #REF! | T35: =#REF!-'111'!T8 -> #REF! | U35: =#REF!-'111'!U8 -> #REF! | V35: =#REF!-'111'!V8 -> #REF!

Sheet 110
A1: 1.4-02 中低收入老人生活津貼
A2: 民國110年
A3: 單位：人
A4: 區域別 | B4: 總計 | F4: 低收入戶 | O4: 中低收入 | U4: 具原住民身分分
B5: 人數(期底數) | E5: 金額(元) | F5: 第1款(省、新北、臺中、臺南)、第0類(臺北)、第1類(高雄) | I5: 第2款(省、新北、臺中、臺南)、第1、2類(臺北)、第2類(高雄) | L5: 第3款(省、新北、臺中、臺南)、第3、4類(臺北、高雄) | O5: 最低生活費1倍以上未滿1.5倍 | R5: 最低生活費1.5倍以上未滿2.5倍
B6: 計 | C6: 男 | D6: 女 | F6: 人數 | H6: 金額(元) | I6: 人數 | K6: 金額(元) | L6: 人數 | N6: 金額(元) | O6: 人數 | Q6: 金額(元) | R6: 人數 | T6: 金額(元) | U6: 人數
F7: 男 | G7: 女 | I7: 男 | J7: 女 | L7: 男 | M7: 女 | O7: 男 | P7: 女 | R7: 男 | S7: 女 | U7: 男 | V7: 女
A8: 110年，2021 | B8: 186225 | C8: 87565 | D8: 98660 | E8: 15010484375 | F8: 562 | G8: 165 | H8: 71780779 | I8: 6424 | J8: 2836 | K8: 855339095 | L8: 8505 | M8: 5099 | N8: 1230946461 | O8: 53857 | P8: 68780 | Q8: 11112820191 | R8: 18217 | S8: 21780 | T8: 1739597849 | U8: 1393 | V8: 1771
A9: 新北市 | B9: 20396 | C9: 9914 | D9: 10482 | E9: 1712176215 | F9: 20 | G9: 4 | H9: 2348274 | I9: 257 | J9: 79 | K9: 32277763 | L9: 1466 | M9: 786 | N9: 204380897 | O9: 6561 | P9: 8004 | Q9: 1332436700 | R9: 1610 | S9: 1609 | T9: 140732581 | U9: 108 | V9: 185
A10: 臺北市 | B10: 12771 | C10: 6348 | D10: 6423 | E10: 1121178879 | F10: 352 | G10: 103 | H10: 44909306 | I10: 1486 | J10: 829 | K10: 211581379 | L10: 1141 | M10: 1160 | N10: 213012668 | O10: 2809 | P10: 3792 | Q10: 602076096 | R10: 560 | S10: 539 | T10: 49599430 | U10: 26 | V10: 52
A11: 桃園市 | B11: 10362 | C11: 4825 | D11: 5537 | E11: 843747515 | F11: 12 | G11: 2 | H11: 1264717 | I11: 227 | J11: 74 | K11: 26443026 | L11: 499 | M11: 289 | N11: 67702878 | O11: 3195 | P11: 4277 | Q11: 671319028 | R11: 892 | S11: 895 | T11: 77017866 | U11: 47 | V11: 92
A12: 臺中市 | B12: 22254 | C12: 10410 | D12: 11844 | E12: 1844842606 | F12: 65 | G12: 19 | H12: 8123673 | I12: 1034 | J12: 462 | K12: 138678528 | L12: 606 | M12: 545 | N12: 104629794 | O12: 6696 | P12: 8567 | Q12: 1402414832 | R12: 2009 | S12: 2251 | T12: 190995779 | U12: 30 | V12: 41
A13: 臺南市 | B13: 15530 | C13: 7466 | D13: 8064 | E13: 1256433476 | F13: 43 | G13: 19 | H13: 6265031 | I13: 567 | J13: 214 | K13: 71949207 | L13: 704 | M13: 338 | N13: 95757856 | O13: 4703 | P13: 5747 | Q13: 944400345 | R13: 1449 | S13: 1746 | T13: 138061037 | U13: 8 | V13: 22
A14: 高雄市 | B14: 41113 | C14: 18081 | D14: 23032 | E14: 3222612348 | F14: 12 | G14: 11 | H14: 2181520 | I14: 1302 | J14: 661 | K14: 179789646 | L14: 669 | M14: 574 | N14: 112866625 | O14: 11689 | P14: 15901 | Q14: 2479089873 | R14: 4409 | S14: 5885 | T14: 448684684 | U14: 108 | V14: 243
A15: 宜蘭縣 | B15: 3168 | C15: 1550 | D15: 1618 | E15: 246748497 | F15: 7 | G15: 0 | H15: 651756 | I15: 80 | J15: 18 | K15: 9249051 | L15: 216 | M15: 77 | N15: 24354748 | O15: 921 | P15: 1107 | Q15: 181680451 | R15: 326 | S15: 416 | T15: 30812491 | U15: 69 | V15: 106
A16: 新竹縣 | B16: 2017 | C16: 1046 | D16: 971 | E16: 153496970 | F16: 3 | G16: 0 | H16: 380191 | I16: 84 | J16: 20 | K16: 10009110 | L16: 116 | M16: 59 | N16: 14924437 | O16: 546 | P16: 607 | Q16: 103299447 | R16: 297 | S16: 285 | T16: 24883785 | U16: 61 | V16: 70
A17: 苗栗縣 | B17: 2594 | C17: 1288 | D17: 1306 | E17: 200263928 | F17: 0 | G17: 0 | H17: 0 | I17: 216 | J17: 58 | K17: 25271063 | L17: 116 | M17: 119 | N17: 20926023 | O17: 644 | P17: 759 | Q17: 125944092 | R17: 312 | S17: 370 | T17: 28122750 | U17: 15 | V17: 20
A18: 彰化縣 | B18: 10729 | C18: 5130 | D18: 5599 | E18: 847901447 | F18: 1 | G18: 0 | H18: 93108 | I18: 12 | J18: 4 | K18: 1443174 | L18: 624 | M18: 226 | N18: 76934476 | O18: 3363 | P18: 4048 | Q18: 663535539 | R18: 1130 | S18: 1321 | T18: 105895150 | U18: 19 | V18: 25
A19: 南投縣 | B19: 6889 | C19: 3215 | D19: 3674 | E19: 523318742 | F19: 3 | G19: 0 | H19: 279324 | I19: 23 | J19: 9 | K19: 3235503 | L19: 290 | M19: 83 | N19: 34558586 | O19: 1903 | P19: 2398 | Q19: 391861962 | R19: 996 | S19: 1184 | T19: 93383367 | U19: 40 | V19: 57
... A30: 連江縣 | B30: 6 | C30: 5 | D30: 1 | E30: 589684 | F30: 2 | G30: 0 | H30: 186216 | I30: 1 | J30: 0 | K30: 93108 | L30: 0 | M30: 0 | N30: 38795 | O30: 2 | P30: 1 | Q30: 271565 | R30: 0 | S30: 0 | T30: 0 | U30: 0 | V30: 0
A31: 資料來源：直轄市、縣﹝市﹞政府。
A32: 總計 | B32: =B8-SUM(B9:B14)-#REF! -> #REF! | C32: =C8-SUM(C9:C14)-#REF! -> #REF! | D32: =D8-SUM(D9:D14)-#REF! -> #REF! | E32: =E8-SUM(E9:E14)-#REF! -> #REF! | F32: =F8-SUM(F9:F14)-#REF! -> #REF! | G32: =G8-SUM(G9:G14)-#REF! -> #REF! | H32: =H8-SUM(H9:H14)-#REF! -> #REF! | I32: =I8-SUM(I9:I14)-#REF! -> #REF! | ... V32: =V8-SUM(V9:V14)-#REF! -> #REF!
A33: 臺 灣 省 | B33: =#REF!-SUM(B15:B28) -> #REF! | C33: =#REF!-SUM(C15:C28) -> #REF! | D33: =#REF!-SUM(D15:D28) -> #REF! | E33: =#REF!-SUM(E15:E28) -> #REF! | F33: =#REF!-SUM(F15:F28) -> #REF! | G33: =#REF!-SUM(G15:G28) -> #REF! | H33: =#REF!-SUM(H15:H28) -> #REF! | I33: =#REF!-SUM(I15:I28) -> #REF! | ... V33: =#REF!-SUM(V15:V28) -> #REF!
A34: 福建省 | B34: =#REF!-B29-B30 -> #REF! | C34: =#REF!-C29-C30 -> #REF! | D34: =#REF!-D29-D30 -> #REF! | E34: =#REF!-E29-E30 -> #REF! | F34: =#REF!-F29-F30 -> #REF! | G34: =#REF!-G29-G30 -> #REF! | H34: =#REF!-H29-H30 -> #REF! | I34: =#REF!-I29-I30 -> #REF! | ... V34: =#REF!-V29-V30 -> #REF!
A35: 年月 | B35: =#REF!-'110'!B8 -> #REF! | C35: =#REF!-'110'!C8 -> #REF! | D35: =#REF!-'110'!D8 -> #REF! | E35: =#REF!-'110'!E8 -> #REF! | F35: =#REF!-'110'!F8-'110'!G8 -> #REF! | H35: =#REF!-'110'!H8 -> #REF! | I35: =#REF!-'110'!I8-'110'!J8 -> #REF! | K35: =#REF!-'110'!K8 -> #REF! | L35: =#REF!-'110'!L8-'110'!M8 -> #REF! | N35: =#REF!-'110'!N8 -> #REF! | O35: =#REF!-'110'!O8-'110'!P8 -> #REF! | Q35: =#REF!-'110'!Q8 -> #REF! | R35: =#REF!-'110'!R8-'110'!S8 -> #REF! | T35: =#REF!-'110'!T8 -> #REF! | U35: =#REF!-'110'!U8 -> #REF! | V35: =#REF!-'110'!V8 -> #REF!

Sheet 109
A1: 1.4-02 中低收入老人生活津貼
A2: 民國109年
A3: 單位：人
A4: 區域別 | B4: 總計 | F4: 低收入戶 | O4: 中低收入 | U4: 具原住民身分分
B5: 人數(期底數) | E5: 金額(元) | F5: 第1款(省、新北、臺中、臺南)、第0類(臺北)、第1類(高雄) | I5: 第2款(省、新北、臺中、臺南)、第1、2類(臺北)、第2類(高雄) | L5: 第3款(省、新北、臺中、臺南)、第3、4類(臺北、高雄) | O5: 最低生活費1倍以上未滿1.5倍 | R5: 最低生活費1.5倍以上未滿2.5倍
B6: 計 | C6: 男 | D6: 女 | F6: 人數 | H6: 金額(元) | I6: 人數 | K6: 金額(元) | L6: 人數 | N6: 金額(元) | O6: 人數 | Q6: 金額(元) | R6: 人數 | T6: 金額(元) | U6: 人數
F7: 男 | G7: 女 | I7: 男 | J7: 女 | L7: 男 | M7: 女 | O7: 男 | P7: 女 | R7: 男 | S7: 女 | U7: 男 | V7: 女
A8: 109年，2020 | B8: 173011 | C8: 81345 | D8: 91666 | E8: 13783178546 | F8: 629 | G8: 176 | H8: 78242459 | I8: 6049 | J8: 2667 | K8: 804642487 | L8: 7954 | M8: 4738 | N8: 1129108007 | O8: 49741 | P8: 63883 | Q8: 10174161489 | R8: 16972 | S8: 20202 | T8: 1597024104 | U8: 1279 | V8: 1632
A9: 新北市 | B9: 18446 | C9: 8998 | D9: 9448 | E9: 1522910327 | F9: 22 | G9: 4 | H9: 2631710 | I9: 242 | J9: 67 | K9: 29573920 | L9: 1384 | M9: 759 | N9: 193455877 | O9: 6031 | P9: 7331 | Q9: 1188498594 | R9: 1319 | S9: 1287 | T9: 108750226 | U9: 102 | V9: 161
A10: 臺北市 | B10: 12200 | C10: 6075 | D10: 6125 | E10: 1054432928 | F10: 397 | G10: 101 | H10: 48182359 | I10: 1367 | J10: 737 | K10: 192620804 | L10: 1079 | M10: 1110 | N10: 197473553 | O10: 2681 | P10: 3641 | Q10: 568218704 | R10: 551 | S10: 536 | T10: 47937508 | U10: 33 | V10: 57
A11: 桃園市 | B11: 9517 | C11: 4452 | D11: 5065 | E11: 765305268 | F11: 12 | G11: 4 | H11: 1443174 | I11: 199 | J11: 65 | K11: 24370723 | L11: 400 | M11: 247 | N11: 52969534 | O11: 3059 | P11: 4020 | Q11: 623161867 | R11: 782 | S11: 729 | T11: 63359970 | U11: 40 | V11: 84
A12: 臺中市 | B12: 20330 | C12: 9488 | D12: 10842 | E12: 1687705502 | F12: 62 | G12: 18 | H12: 7884032 | I12: 919 | J12: 420 | K12: 123671894 | L12: 608 | M12: 470 | N12: 97532307 | O12: 6212 | P12: 8040 | Q12: 1301198047 | R12: 1687 | S12: 1894 | T12: 157419222 | U12: 26 | V12: 39
A13: 臺南市 | B13: 14178 | C13: 6796 | D13: 7382 | E13: 1123284735 | F13: 54 | G13: 24 | H13: 7738945 | I13: 541 | J13: 209 | K13: 69685197 | L13: 667 | M13: 305 | N13: 85248330 | O13: 4106 | P13: 5100 | Q13: 825886575 | R13: 1428 | S13: 1744 | T13: 134725688 | U13: 8 | V13: 19
A14: 高雄市 | B14: 39023 | C14: 17206 | D14: 21817 | E14: 3049455494 | F14: 16 | G14: 12 | H14: 2901866 | I14: 1247 | J14: 642 | K14: 173132445 | L14: 653 | M14: 564 | N14: 107644340 | O14: 11322 | P14: 15364 | Q14: 2370196787 | R14: 3968 | S14: 5235 | T14: 395580056 | U14: 108 | V14: 230
A15: 宜蘭縣 | B15: 2870 | C15: 1395 | D15: 1475 | E15: 226909972 | F15: 7 | G15: 0 | H15: 682792 | I15: 80 | J15: 19 | K15: 9916890 | L15: 184 | M15: 66 | N15: 21109307 | O15: 827 | P15: 1030 | Q15: 166975385 | R15: 297 | S15: 360 | T15: 28225598 | U15: 49 | V15: 95
A16: 新竹縣 | B16: 1844 | C16: 984 | D16: 860 | E16: 136213582 | F16: 4 | G16: 1 | H16: 465540 | I16: 90 | J16: 19 | K16: 10327229 | L16: 102 | M16: 39 | N16: 12398882 | O16: 468 | P16: 507 | Q16: 86474055 | R16: 320 | S16: 294 | T16: 26547876 | U16: 57 | V16: 58
A17: 苗栗縣 | B17: 2364 | C17: 1174 | D17: 1190 | E17: 181932713 | F17: 0 | G17: 0 | H17: 0 | I17: 211 | J17: 57 | K17: 24750914 | L17: 100 | M17: 106 | N17: 18659507 | O17: 573 | P17: 664 | Q17: 110457135 | R17: 290 | S17: 363 | T17: 28065157 | U17: 12 | V17: 17
A18: 彰化縣 | B18: 9648 | C18: 4584 | D18: 5064 | E18: 749015581 | F18: 1 | G18: 0 | H18: 46554 | I18: 12 | J18: 4 | K18: 1381102 | L18: 562 | M18: 192 | N18: 70180616 | O18: 2960 | P18: 3546 | Q18: 575842875 | R18: 1049 | S18: 1322 | T18: 101564434 | U18: 17 | V18: 20
A19: 南投縣 | B19: 6530 | C19: 3019 | D19: 3511 | E19: 486171784 | F19: 3 | G19: 0 | H19: 279324 | I19: 34 | J19: 10 | K19: 4158824 | L19: 282 | M19: 87 | N19: 32881137 | O19: 1736 | P19: 2182 | Q19: 353141998 | R19: 964 | S19: 1232 | T19: 95710501 | U19: 39 | V19: 56
... A30: 連江縣 | B30: 7 | C30: 6 | D30: 1 | E30: 550889 | F30: 2 | G30: 0 | H30: 186216 | I30: 1 | J30: 0 | K30: 62072 | L30: 1 | M30: 0 | N30: 93108 | O30: 2 | P30: 1 | Q30: 209493 | R30: 0 | S30: 0 | T30: 0 | U30: 0 | V30: 0
A31: 資料來源：直轄市、縣﹝市﹞政府。
A32: 總計 | B32: =B8-SUM(B9:B14)-#REF! -> #REF! | C32: =C8-SUM(C9:C14)-#REF! -> #REF! | D32: =D8-SUM(D9:D14)-#REF! -> #REF! | E32: =E8-SUM(E9:E14)-#REF! -> #REF! | F32: =F8-SUM(F9:F14)-#REF! -> #REF! | G32: =G8-SUM(G9:G14)-#REF! -> #REF! | H32: =H8-SUM(H9:H14)-#REF! -> #REF! | I32: =I8-SUM(I9:I14)-#REF! -> #REF! | ... V32: =V8-SUM(V9:V14)-#REF! -> #REF!
A33: 臺 灣 省 | B33: =#REF!-SUM(B15:B28) -> #REF! | C33: =#REF!-SUM(C15:C28) -> #REF! | D33: =#REF!-SUM(D15:D28) -> #REF! | E33: =#REF!-SUM(E15:E28) -> #REF! | F33: =#REF!-SUM(F15:F28) -> #REF! | G33: =#REF!-SUM(G15:G28) -> #REF! | H33: =#REF!-SUM(H15:H28) -> #REF! | I33: =#REF!-SUM(I15:I28) -> #REF! | ... V33: =#REF!-SUM(V15:V28) -> #REF!
A34: 福建省 | B34: =#REF!-B29-B30 -> #REF! | C34: =#REF!-C29-C30 -> #REF! | D34: =#REF!-D29-D30 -> #REF! | E34: =#REF!-E29-E30 -> #REF! | F34: =#REF!-F29-F30 -> #REF! | G34: =#REF!-G29-G30 -> #REF! | H34: =#REF!-H29-H30 -> #REF! | I34: =#REF!-I29-I30 -> #REF! | ... V34: =#REF!-V29-V30 -> #REF!
A35: 年月 | B35: =#REF!-'109'!B8 -> #REF! | C35: =#REF!-'109'!C8 -> #REF! | D35: =#REF!-'109'!D8 -> #REF! | E35: =#REF!-'109'!E8 -> #REF! | F35: =#REF!-'109'!F8-'109'!G8 -> #REF! | H35: =#REF!-'109'!H8 -> #REF! | I35: =#REF!-'109'!I8-'109'!J8 -> #REF! | K35: =#REF!-'109'!K8 -> #REF! | L35: =#REF!-'109'!L8-'109'!M8 -> #REF! | N35: =#REF!-'109'!N8 -> #REF! | O35: =#REF!-'109'!O8-'109'!P8 -> #REF! | Q35: =#REF!-'109'!Q8 -> #REF! | R35: =#REF!-'109'!R8-'109'!S8 -> #REF! | T35: =#REF!-'109'!T8 -> #REF! | U35: =#REF!-'109'!U8 -> #REF! | V35: =#REF!-'109'!V8 -> #REF!

Sheet 108
A1: 1.4-02 中低收入老人生活津貼
A2: 民國108年
A3: 單位：人
A4: 區域別 | B4: 總計 | F4: 低收入戶 | O4: 中低收入 | U4: 具原住民身分分
B5: 人數(期底數) | E5: 金額(元) | F5: 第1款(省、新北、臺中、臺南)、第0類(臺北)、第1類(高雄) | I5: 第2款(省、新北、臺中、臺南)、第1、2類(臺北)、第2類(高雄) | L5: 第3款(省、新北、臺中、臺南)、第3、4類(臺北、高雄) | O5: 最低生活費1倍以上未滿1.5倍 | R5: 最低生活費1.5倍以上未滿2.5倍
B6: 計 | C6: 男 | D6: 女 | F6: 人數 | H6: 金額(元) | I6: 人數 | K6: 金額(元) | L6: 人數 | N6: 金額(元) | O6: 人數 | Q6: 金額(元) | R6: 人數 | T6: 金額(元) | U6: 人數
F7: 男 | G7: 女 | I7: 男 | J7: 女 | L7: 男 | M7: 女 | O7: 男 | P7: 女 | R7: 男 | S7: 女 | U7: 男 | V7: 女
A8: 108年，2019 | B8: 156783 | C8: 73512 | D8: 83271 | E8: 12175723108 | F8: 691 | G8: 200 | H8: 81438512 | I8: 5729 | J8: 2473 | K8: 721150102 | L8: 7196 | M8: 4209 | N8: 973458501 | O8: 46108 | P8: 59703 | Q8: 9134087198 | R8: 13788 | S8: 16686 | T8: 1265588795 | U8: 1178 | V8: 1491
A9: 新北市 | B9: 15912 | C9: 7695 | D9: 8217 | E9: 1263792905 | F9: 26 | G9: 4 | H9: 2830974 | I9: 236 | J9: 59 | K9: 26663018 | L9: 1276 | M9: 678 | N9: 167457795 | O9: 5042 | P9: 6325 | Q9: 976444493 | R9: 1115 | S9: 1151 | T9: 90396625 | U9: 66 | V9: 104
A10: 臺北市 | B10: 11739 | C10: 6030 | D10: 5709 | E10: 951822454 | F10: 437 | G10: 122 | H10: 50192971 | I10: 1287 | J10: 659 | K10: 165842166 | L10: 1064 | M10: 960 | N10: 171004622 | O10: 2741 | P10: 3461 | Q10: 521173834 | R10: 501 | S10: 507 | T10: 43608861 | U10: 41 | V10: 58
A11: 桃園市 | B11: 8365 | C11: 3900 | D11: 4465 | E11: 643018696 | F11: 11 | G11: 3 | H11: 1186617 | I11: 187 | J11: 63 | K11: 21806886 | L11: 308 | M11: 197 | N11: 40240496 | O11: 2670 | P11: 3542 | Q11: 523196620 | R11: 724 | S11: 660 | T11: 56588077 | U11: 38 | V11: 71
A12: 臺中市 | B12: 18065 | C12: 8314 | D12: 9751 | E12: 1451390435 | F12: 60 | G12: 19 | H12: 7403296 | I12: 791 | J12: 379 | K12: 103504679 | L12: 531 | M12: 405 | N12: 81541469 | O12: 5484 | P12: 7207 | Q12: 1119651687 | R12: 1448 | S12: 1741 | T12: 139289304 | U12: 22 | V12: 35
A13: 臺南市 | B13: 12451 | C13: 5930 | D13: 6521 | E13: 977424039 | F13: 64 | G13: 26 | H13: 8548061 | I13: 538 | J13: 194 | K13: 64443006 | L13: 580 | M13: 269 | N13: 73259212 | O13: 3699 | P13: 4777 | Q13: 735463705 | R13: 1049 | S13: 1255 | T13: 95710055 | U13: 6 | V13: 15
A14: 高雄市 | B14: 36301 | C14: 15993 | D14: 20308 | E14: 2789091319 | F14: 19 | G14: 12 | H14: 2918033 | I14: 1242 | J14: 622 | K14: 162341783 | L14: 599 | M14: 559 | N14: 99066174 | O14: 10981 | P14: 14971 | Q14: 2226984564 | R14: 3152 | S14: 4144 | T14: 297780765 | U14: 85 | V14: 203
A15: 宜蘭縣 | B15: 2632 | C15: 1314 | D15: 1318 | E15: 202978861 | F15: 8 | G15: 0 | H15: 761226 | I15: 85 | J15: 21 | K15: 9283972 | L15: 167 | M15: 51 | N15: 18905956 | O15: 813 | P15: 976 | Q15: 153484014 | R15: 241 | S15: 270 | T15: 20543693 | U15: 57 | V15: 100
A16: 新竹縣 | B16: 1708 | C16: 900 | D16: 808 | E16: 125196507 | F16: 4 | G16: 1 | H16: 447780 | I16: 99 | J16: 23 | K16: 10604923 | L16: 94 | M16: 35 | N16: 10866128 | O16: 455 | P16: 497 | Q16: 82525854 | R16: 248 | S16: 252 | T16: 20751822 | U16: 45 | V16: 51
A17: 苗栗縣 | B17: 2174 | C17: 1066 | D17: 1108 | E17: 164563588 | F17: 1 | G17: 0 | H17: 141797 | I17: 196 | J17: 63 | K17: 23045744 | L17: 88 | M17: 98 | N17: 15485725 | O17: 551 | P17: 645 | Q17: 103299117 | R17: 230 | S17: 302 | T17: 22591205 | U17: 10 | V17: 17
A18: 彰化縣 | B18: 8374 | C18: 3957 | D18: 4417 | E18: 639629169 | F18: 0 | G18: 0 | H18: 0 | I18: 10 | J18: 3 | K18: 1164228 | L18: 531 | M18: 181 | N18: 61946463 | O18: 2622 | P18: 3167 | Q18: 498273514 | R18: 794 | S18: 1066 | T18: 78244964 | U18: 9 | V18: 13
A19: 南投縣 | B19: 6060 | C19: 2784 | D19: 3276 | E19: 439392993 | F19: 3 | G19: 0 | H19: 298520 | I19: 40 | J19: 15 | K19: 5209174 | L19: 260 | M19: 77 | N19: 28822106 | O19: 1618 | P19: 2061 | Q19: 320376955 | R19: 863 | S19: 1123 | T19: 84686238 | U19: 43 | V19: 59
... A30: 連江縣 | B30: 4 | C30: 3 | D30: 1 | E30: 440317 | F30: 2 | G30: 0 | H30: 179112 | I30: 0 | J30: 0 | K30: 0 | L30: 1 | M30: 0 | N30: 89556 | O30: 0 | P30: 1 | Q30: 171649 | R30: 0 | S30: 0 | T30: 0 | U30: 0 | V30: 0
A31: 資料來源：直轄市、縣﹝市﹞政府。
A32: 總計 | B32: =B8-SUM(B9:B14)-#REF! -> #REF! | C32: =C8-SUM(C9:C14)-#REF! -> #REF! | D32: =D8-SUM(D9:D14)-#REF! -> #REF! | E32: =E8-SUM(E9:E14)-#REF! -> #REF! | F32: =F8-SUM(F9:F14)-#REF! -> #REF! | G32: =G8-SUM(G9:G14)-#REF! -> #REF! | H32: =H8-SUM(H9:H14)-#REF! -> #REF! | I32: =I8-SUM(I9:I14)-#REF! -> #REF! | ... V32: =V8-SUM(V9:V14)-#REF! -> #REF!
A33: 臺 灣 省 | B33: =#REF!-SUM(B15:B28) -> #REF! | C33: =#REF!-SUM(C15:C28) -> #REF! | D33: =#REF!-SUM(D15:D28) -> #REF! | E33: =#REF!-SUM(E15:E28) -> #REF! | F33: =#REF!-SUM(F15:F28) -> #REF! | G33: =#REF!-SUM(G15:G28) -> #REF! | H33: =#REF!-SUM(H15:H28) -> #REF! | I33: =#REF!-SUM(I15:I28) -> #REF! | ... V33: =#REF!-SUM(V15:V28) -> #REF!
A34: 福建省 | B34: =#REF!-B29-B30 -> #REF! | C34: =#REF!-C29-C30 -> #REF! | D34: =#REF!-D29-D30 -> #REF! | E34: =#REF!-E29-E30 -> #REF! | F34: =#REF!-F29-F30 -> #REF! | G34: =#REF!-G29-G30 -> #REF! | H34: =#REF!-H29-H30 -> #REF! | I34: =#REF!-I29-I30 -> #REF! | ... V34: =#REF!-V29-V30 -> #REF!
A35: 年月 | B35: =#REF!-'108'!B8 -> #REF! | C35: =#REF!-'108'!C8 -> #REF! | D35: =#REF!-'108'!D8 -> #REF! | E35: =#REF!-'108'!E8 -> #REF! | F35: =#REF!-'108'!F8-'108'!G8 -> #REF! | H35: =#REF!-'108'!H8 -> #REF! | I35: =#REF!-'108'!I8-'108'!J8 -> #REF! | K35: =#REF!-'108'!K8 -> #REF! | L35: =#REF!-'108'!L8-'108'!M8 -> #REF! | N35: =#REF!-'108'!N8 -> #REF! | O35: =#REF!-'108'!O8-'108'!P8 -> #REF! | Q35: =#REF!-'108'!Q8 -> #REF! | R35: =#REF!-'108'!R8-'108'!S8 -> #REF! | T35: =#REF!-'108'!T8 -> #REF! | U35: =#REF!-'108'!U8 -> #REF! | V35: =#REF!-'108'!V8 -> #REF!

Sheet 107
A1: 1.4-02 中低收入老人生活津貼
A2: 民國107年
A3: 單位：人
A4: 區域別 | B4: 總計 | F4: 低收入戶 | O4: 中低收入 | U4: 具原住民身分分
B5: 人數(期底數) | E5: 金額(元) | F5: 第1款(省、新北、臺中、臺南)、第0類(臺北)、第1類(高雄) | I5: 第2款(省、新北、臺中、臺南)、第1、2類(臺北)、第2類(高雄) | L5: 第3款(省、新北、臺中、臺南)、第3、4類(臺北、高雄) | O5: 最低生活費1倍以上未滿1.5倍 | R5: 最低生活費1.5倍以上未滿2.5倍
B6: 計 | C6: 男 | D6: 女 | F6: 人數 | H6: 金額(元) | I6: 人數 | K6: 金額(元) | L6: 人數 | N6: 金額(元) | O6: 人數 | Q6: 金額(元) | R6: 人數 | T6: 金額(元) | U6: 人數
F7: 男 | G7: 女 | I7: 男 | J7: 女 | L7: 男 | M7: 女 | O7: 男 | P7: 女 | R7: 男 | S7: 女 | U7: 男 | V7: 女
A8: 107年，2018 | B8: 143610 | C8: 66834 | D8: 76776 | E8: 11319748012 | F8: 745 | G8: 211 | H8: 90090733 | I8: 5226 | J8: 2330 | K8: 674030457 | L8: 6402 | M8: 3761 | N8: 876716027 | O8: 42741 | P8: 56421 | Q8: 8601461163 | R8: 11720 | S8: 14053 | T8: 1077449632 | U8: 1166 | V8: 1518
A9: 新北市 | B9: 14104 | C9: 6855 | D9: 7249 | E9: 1147197493 | F9: 25 | G9: 4 | H9: 2742013 | I9: 214 | J9: 63 | K9: 25981294 | L9: 1140 | M9: 606 | N9: 150086419 | O9: 4570 | P9: 5715 | Q9: 895649554 | R9: 906 | S9: 861 | T9: 72738213 | U9: 74 | V9: 124
A10: 臺北市 | B10: 10703 | C10: 5304 | D10: 5399 | E10: 901564890 | F10: 454 | G10: 127 | H10: 54553203 | I10: 1113 | J10: 603 | K10: 152348746 | L10: 896 | M10: 856 | N10: 153437101 | O10: 2393 | P10: 3315 | Q10: 499508599 | R10: 448 | S10: 498 | T10: 41717241 | U10: 35 | V10: 54
A11: 桃園市 | B11: 7287 | C11: 3381 | D11: 3906 | E11: 567102170 | F11: 10 | G11: 1 | H11: 1126913 | I11: 178 | J11: 60 | K11: 21053123 | L11: 238 | M11: 145 | N11: 31389378 | O11: 2233 | P11: 3096 | Q11: 457802809 | R11: 722 | S11: 604 | T11: 55729947 | U11: 84 | V11: 172
A12: 臺中市 | B12: 16467 | C12: 7594 | D12: 8873 | E12: 1322867878 | F12: 70 | G12: 22 | H12: 8448117 | I12: 695 | J12: 328 | K12: 89699493 | L12: 490 | M12: 355 | N12: 71916371 | O12: 5064 | P12: 6715 | Q12: 1037692922 | R12: 1275 | S12: 1453 | T12: 115110975 | U12: 25 | V12: 32
A13: 臺南市 | B13: 11252 | C13: 5268 | D13: 5984 | E13: 896321153 | F13: 76 | G13: 30 | H13: 9888726 | I13: 489 | J13: 190 | K13: 60449263 | L13: 496 | M13: 248 | N13: 62706693 | O13: 3392 | P13: 4522 | Q13: 688895407 | R13: 815 | S13: 994 | T13: 74381064 | U13: 2 | V13: 8
A14: 高雄市 | B14: 33726 | C14: 14816 | D14: 18910 | E14: 2626073068 | F14: 25 | G14: 12 | H14: 3477758 | I14: 1137 | J14: 599 | K14: 154767752 | L14: 580 | M14: 527 | N14: 95749917 | O14: 10377 | P14: 14363 | Q14: 2120872529 | R14: 2697 | S14: 3409 | T14: 251205112 | U14: 67 | V14: 171
A15: 宜蘭縣 | B15: 2418 | C15: 1194 | D15: 1224 | E15: 185609656 | F15: 9 | G15: 0 | H15: 903073 | I15: 85 | J15: 18 | K15: 9361503 | L15: 154 | M15: 49 | N15: 17889639 | O15: 758 | P15: 940 | Q15: 141942070 | R15: 188 | S15: 217 | T15: 15513371 | U15: 53 | V15: 96
A16: 新竹縣 | B16: 1580 | C16: 837 | D16: 743 | E16: 116089519 | F16: 4 | G16: 1 | H16: 470169 | I16: 66 | J16: 15 | K16: 6739089 | L16: 107 | M16: 39 | N16: 12953212 | O16: 446 | P16: 467 | Q16: 78368963 | R16: 214 | S16: 221 | T16: 17558086 | U16: 38 | V16: 51
A17: 苗栗縣 | B17: 2089 | C17: 1004 | D17: 1085 | E17: 161257577 | F17: 1 | G17: 0 | H17: 89556 | I17: 197 | J17: 58 | K17: 22157647 | L17: 71 | M17: 88 | N17: 13761772 | O17: 525 | P17: 644 | Q17: 103396135 | R17: 210 | S17: 295 | T17: 21852467 | U17: 10 | V17: 18
A18: 彰化縣 | B18: 7620 | C18: 3618 | D18: 4002 | E18: 585012192 | F18: 0 | G18: 0 | H18: 0 | I18: 6 | J18: 3 | K18: 903023 | L18: 488 | M18: 165 | N18: 56534125 | O18: 2446 | P18: 2914 | Q18: 460080518 | R18: 678 | S18: 920 | T18: 67494526 | U18: 6 | V18: 11
A19: 南投縣 | B19: 5786 | C19: 2681 | D19: 3105 | E19: 426399298 | F19: 5 | G19: 0 | H19: 425391 | I19: 42 | J19: 17 | K19: 6104734 | L19: 237 | M19: 69 | N19: 26710077 | O19: 1589 | P19: 1994 | Q19: 313576604 | R19: 808 | S19: 1025 | T19: 79582492 | U19: 41 | V19: 62
... A30: 連江縣 | B30: 6 | C30: 4 | D30: 2 | E30: 641818 | F30: 2 | G30: 0 | H30: 201501 | I30: 0 | J30: 0 | K30: 67167 | L30: 1 | M30: 0 | N30: 89556 | O30: 1 | P30: 2 | Q30: 283594 | R30: 0 | S30: 0 | T30: 0 | U30: 0 | V30: 0
A31: 資料來源：直轄市、縣﹝市﹞政府。
A32: 總計 | B32: =B8-SUM(B9:B14)-#REF! -> #REF! | C32: =C8-SUM(C9:C14)-#REF! -> #REF! | D32: =D8-SUM(D9:D14)-#REF! -> #REF! | E32: =E8-SUM(E9:E14)-#REF! -> #REF! | F32: =F8-SUM(F9:F14)-#REF! -> #REF! | G32: =G8-SUM(G9:G14)-#REF! -> #REF! | H32: =H8-SUM(H9:H14)-#REF! -> #REF! | I32: =I8-SUM(I9:I14)-#REF! -> #REF! | ... V32: =V8-SUM(V9:V14)-#REF! -> #REF!
A33: 臺 灣 省 | B33: =#REF!-SUM(B15:B28) -> #REF! | C33: =#REF!-SUM(C15:C28) -> #REF! | D33: =#REF!-SUM(D15:D28) -> #REF! | E33: =#REF!-SUM(E15:E28) -> #REF! | F33: =#REF!-SUM(F15:F28) -> #REF! | G33: =#REF!-SUM(G15:G28) -> #REF! | H33: =#REF!-SUM(H15:H28) -> #REF! | I33: =#REF!-SUM(I15:I28) -> #REF! | ... V33: =#REF!-SUM(V15:V28) -> #REF!
A34: 福建省 | B34: =#REF!-B29-B30 -> #REF! | C34: =#REF!-C29-C30 -> #REF! | D34: =#REF!-D29-D30 -> #REF! | E34: =#REF!-E29-E30 -> #REF! | F34: =#REF!-F29-F30 -> #REF! | G34: =#REF!-G29-G30 -> #REF! | H34: =#REF!-H29-H30 -> #REF! | I34: =#REF!-I29-I30 -> #REF! | ... V34: =#REF!-V29-V30 -> #REF!
A35: 年月 | B35: =#REF!-'107'!B8 -> #REF! | C35: =#REF!-'107'!C8 -> #REF! | D35: =#REF!-'107'!D8 -> #REF! | E35: =#REF!-'107'!E8 -> #REF! | F35: =#REF!-'107'!F8-'107'!G8 -> #REF! | H35: =#REF!-'107'!H8 -> #REF! | I35: =#REF!-'107'!I8-'107'!J8 -> #REF! | K35: =#REF!-'107'!K8 -> #REF! | L35: =#REF!-'107'!L8-'107'!M8 -> #REF! | N35: =#REF!-'107'!N8 -> #REF! | O35: =#REF!-'107'!O8-'107'!P8 -> #REF! | Q35: =#REF!-'107'!Q8 -> #REF! | R35: =#REF!-'107'!R8-'107'!S8 -> #REF! | T35: =#REF!-'107'!T8 -> #REF! | U35: =#REF!-'107'!U8 -> #REF! | V35: =#REF!-'107'!V8 -> #REF!

Sheet 106
A1: 1.4-02 中低收入老人生活津貼
A2: 民國106年
A3: 單位：人
A4: 區域別 | B4: 總計 | F4: 低收入戶 | O4: 中低收入 | U4: 具原住民身分分
B5: 人數(期底數) | E5: 金額(元) | F5: 第1款(省、新北、臺中、臺南)、第0類(臺北)、第1類(高雄) | I5: 第2款(省、新北、臺中、臺南)、第1、2類(臺北)、第2類(高雄) | L5: 第3款(省、新北、臺中、臺南)、第3、4類(臺北、高雄) | O5: 最低生活費1倍以上未滿1.5倍 | R5: 最低生活費1.5倍以上未滿2.5倍
B6: 計 | C6: 男 | D6: 女 | F6: 人數 | H6: 金額(元) | I6: 人數 | K6: 金額(元) | L6: 人數 | N6: 金額(元) | O6: 人數 | Q6: 金額(元) | R6: 人數 | T6: 金額(元) | U6: 人數
F7: 男 | G7: 女 | I7: 男 | J7: 女 | L7: 男 | M7: 女 | O7: 男 | P7: 女 | R7: 男 | S7: 女 | U7: 男 | V7: 女
A8: 106年，2017 | B8: 134365 | C8: 62250 | D8: 72115 | E8: 10626735343 | F8: 871 | G8: 237 | H8: 102750373 | I8: 4895 | J8: 2119 | K8: 633580867 | L8: 5828 | M8: 3462 | N8: 797219266 | O8: 39591 | P8: 52996 | Q8: 8050449651 | R8: 11065 | S8: 13301 | T8: 1042735186 | U8: 1095 | V8: 1428
A9: 新北市 | B9: 12994 | C9: 6201 | D9: 6793 | E9: 1053760597 | F9: 28 | G9: 5 | H9: 2995755 | I9: 219 | J9: 67 | K9: 26787298 | L9: 1045 | M9: 587 | N9: 138994697 | O9: 4082 | P9: 5265 | Q9: 813674454 | R9: 827 | S9: 869 | T9: 71308393 | U9: 75 | V9: 113
A10: 臺北市 | B10: 10438 | C10: 5273 | D10: 5165 | E10: 867771102 | F10: 525 | G10: 133 | H10: 60939359 | I10: 1025 | J10: 544 | K10: 138433468 | L10: 812 | M10: 758 | N10: 135615494 | O10: 2427 | P10: 3208 | Q10: 488910025 | R10: 484 | S10: 522 | T10: 43872756 | U10: 34 | V10: 44
A11: 桃園市 | B11: 6686 | C11: 3112 | D11: 3574 | E11: 531650083 | F11: 11 | G11: 1 | H11: 1082135 | I11: 177 | J11: 48 | K11: 20030692 | L11: 209 | M11: 119 | N11: 27172783 | O11: 2072 | P11: 2912 | Q11: 434309285 | R11: 643 | S11: 494 | T11: 49055188 | U11: 81 | V11: 156
A12: 臺中市 | B12: 14894 | C12: 6802 | D12: 8092 | E12: 1187358887 | F12: 77 | G12: 26 | H12: 9630171 | I12: 545 | J12: 248 | K12: 75382934 | L12: 395 | M12: 301 | N12: 63335221 | O12: 4555 | P12: 6138 | Q12: 927104516 | R12: 1230 | S12: 1379 | T12: 111906045 | U12: 21 | V12: 27
A13: 臺南市 | B13: 10258 | C13: 4711 | D13: 5547 | E13: 818327647 | F13: 84 | G13: 38 | H13: 11411178 | I13: 428 | J13: 179 | K13: 54193173 | L13: 426 | M13: 221 | N13: 54932450 | O13: 2993 | P13: 4084 | Q13: 620503185 | R13: 780 | S13: 1025 | T13: 77287661 | U13: 5 | V13: 11
A14: 高雄市 | B14: 32099 | C14: 14121 | D14: 17978 | E14: 2532475219 | F14: 31 | G14: 12 | H14: 3873297 | I14: 1131 | J14: 581 | K14: 151837765 | L14: 569 | M14: 530 | N14: 91918390 | O14: 10180 | P14: 14117 | Q14: 2077731013 | R14: 2210 | S14: 2738 | T14: 207114754 | U14: 62 | V14: 148
A15: 宜蘭縣 | B15: 2104 | C15: 1025 | D15: 1079 | E15: 167951842 | F15: 11 | G15: 0 | H15: 1082135 | I15: 84 | J15: 14 | K15: 9067545 | L15: 136 | M15: 53 | N15: 16693072 | O15: 610 | P15: 793 | Q15: 124407826 | R15: 184 | S15: 219 | T15: 16701264 | U15: 46 | V15: 96
A16: 新竹縣 | B16: 1456 | C16: 778 | D16: 678 | E16: 105368246 | F16: 7 | G16: 1 | H16: 716448 | I16: 51 | J16: 12 | K16: 5589787 | L16: 119 | M16: 37 | N16: 13083411 | O16: 366 | P16: 403 | Q16: 66402043 | R16: 235 | S16: 225 | T16: 19576557 | U16: 26 | V16: 36
A17: 苗栗縣 | B17: 2042 | C17: 971 | D17: 1071 | E17: 155749570 | F17: 2 | G17: 0 | H17: 179112 | I17: 183 | J17: 48 | K17: 20844159 | L17: 72 | M17: 78 | N17: 12672174 | O17: 486 | P17: 615 | Q17: 97858590 | R17: 228 | S17: 330 | T17: 24195535 | U17: 10 | V17: 16
A18: 彰化縣 | B18: 6953 | C18: 3268 | D18: 3685 | E18: 525415767 | F18: 0 | G18: 0 | H18: 0 | I18: 7 | J18: 3 | K18: 865708 | L18: 441 | M18: 148 | N18: 51560233 | O18: 2134 | P18: 2548 | Q18: 401420414 | R18: 686 | S18: 986 | T18: 71569412 | U18: 6 | V18: 7
A19: 南投縣 | B19: 5699 | C19: 2634 | D19: 3065 | E19: 442028520 | F19: 5 | G19: 0 | H19: 447780 | I19: 67 | J19: 20 | K19: 7895854 | L19: 232 | M19: 66 | N19: 25833278 | O19: 1621 | P19: 2116 | Q19: 338283382 | R19: 709 | S19: 863 | T19: 69568226 | U19: 46 | V19: 69
... A30: 連江縣 | B30: 8 | C30: 5 | D30: 3 | E30: 686596 | F30: 3 | G30: 1 | H30: 328372 | I30: 0 | J30: 0 | K30: 0 | L30: 1 | M30: 0 | N30: 89556 | O30: 1 | P30: 2 | Q30: 268668 | R30: 0 | S30: 0 | T30: 0 | U30: 0 | V30: 0
A31: 資料來源：直轄市、縣﹝市﹞政府。
A32: 總計 | B32: =B8-SUM(B9:B14)-#REF! -> #REF! | C32: =C8-SUM(C9:C14)-#REF! -> #REF! | D32: =D8-SUM(D9:D14)-#REF! -> #REF! | E32: =E8-SUM(E9:E14)-#REF! -> #REF! | F32: =F8-SUM(F9:F14)-#REF! -> #REF! | G32: =G8-SUM(G9:G14)-#REF! -> #REF! | H32: =H8-SUM(H9:H14)-#REF! -> #REF! | I32: =I8-SUM(I9:I14)-#REF! -> #REF! | ... V32: =V8-SUM(V9:V14)-#REF! -> #REF!
A33: 臺 灣 省 | B33: =#REF!-SUM(B15:B28) -> #REF! | C33: =#REF!-SUM(C15:C28) -> #REF! | D33: =#REF!-SUM(D15:D28) -> #REF! | E33: =#REF!-SUM(E15:E28) -> #REF! | F33: =#REF!-SUM(F15:F28) -> #REF! | G33: =#REF!-SUM(G15:G28) -> #REF! | H33: =#REF!-SUM(H15:H28) -> #REF! | I33: =#REF!-SUM(I15:I28) -> #REF! | ... V33: =#REF!-SUM(V15:V28) -> #REF!
A34: 福建省 | B34: =#REF!-B29-B30 -> #REF! | C34: =#REF!-C29-C30 -> #REF! | D34: =#REF!-D29-D30 -> #REF! | E34: =#REF!-E29-E30 -> #REF! | F34: =#REF!-F29-F30 -> #REF! | G34: =#REF!-G29-G30 -> #REF! | H34: =#REF!-H29-H30 -> #REF! | I34: =#REF!-I29-I30 -> #REF! | ... V34: =#REF!-V29-V30 -> #REF!
A35: 年月 | B35: =#REF!-'106'!B8 -> #REF! | C35: =#REF!-'106'!C8 -> #REF! | D35: =#REF!-'106'!D8 -> #REF! | E35: =#REF!-'106'!E8 -> #REF! | F35: =#REF!-'106'!F8-'106'!G8 -> #REF! | H35: =#REF!-'106'!H8 -> #REF! | I35: =#REF!-'106'!I8-'106'!J8 -> #REF! | K35: =#REF!-'106'!K8 -> #REF! | L35: =#REF!-'106'!L8-'106'!M8 -> #REF! | N35: =#REF!-'106'!N8 -> #REF! | O35: =#REF!-'106'!O8-'106'!P8 -> #REF! | Q35: =#REF!-'106'!Q8 -> #REF! | R35: =#REF!-'106'!R8-'106'!S8 -> #REF! | T35: =#REF!-'106'!T8 -> #REF! | U35: =#REF!-'106'!U8 -> #REF! | V35: =#REF!-'106'!V8 -> #REF!

Sheet 105
A1: 1.4-02 中低收入老人生活津貼
A2: 民國105年
A3: 單位：人
A4: 區域別 | B4: 總計 | F4: 低收入戶 | O4: 中低收入 | U4: 具原住民身分分
B5: 人數(期底數) | E5: 金額(元) | F5: 第1款(省、新北、臺中、臺南)、第0類(臺北)、第1類(高雄) | I5: 第2款(省、新北、臺中、臺南)、第1、2類(臺北)、第2類(高雄) | L5: 第3款(省、新北、臺中、臺南)、第3、4類(臺北、高雄) | O5: 最低生活費1倍以上未滿1.5倍 | R5: 最低生活費1.5倍以上未滿2.5倍
B6: 計 | C6: 男 | D6: 女 | F6: 人數 | H6: 金額(元) | I6: 人數 | K6: 金額(元) | L6: 人數 | N6: 金額(元) | O6: 人數 | Q6: 金額(元) | R6: 人數 | T6: 金額(元) | U6: 人數
F7: 男 | G7: 女 | I7: 男 | J7: 女 | L7: 男 | M7: 女 | O7: 男 | P7: 女 | R7: 男 | S7: 女 | U7: 男 | V7: 女
A8: 105年，2016 | B8: 128108 | C8: 59012 | D8: 69096 | E8: 10207097782 | F8: 929 | G8: 255 | H8: 109999314 | I8: 4745 | J8: 2043 | K8: 605040698 | L8: 5353 | M8: 3088 | N8: 723349513 | O8: 38059 | P8: 51910 | Q8: 7837935469 | R8: 9926 | S8: 11800 | T8: 930772788 | U8: 1031 | V8: 1348
A9: 新北市 | B9: 12126 | C9: 5761 | D9: 6365 | E9: 982671071 | F9: 30 | G9: 5 | H9: 3314297 | I9: 232 | J9: 71 | K9: 28468978 | L9: 988 | M9: 548 | N9: 133917263 | O9: 3730 | P9: 4911 | Q9: 751430931 | R9: 781 | S9: 830 | T9: 65539602 | U9: 77 | V9: 97
A10: 臺北市 | B10: 10244 | C10: 5193 | D10: 5051 | E10: 845491864 | F10: 557 | G10: 144 | H10: 64006161 | I10: 966 | J10: 477 | K10: 126851353 | L10: 749 | M10: 677 | N10: 122036536 | O10: 2455 | P10: 3226 | Q10: 489512628 | R10: 466 | S10: 527 | T10: 43085186 | U10: 34 | V10: 47
A11: 桃園市 | B11: 6321 | C11: 3003 | D11: 3318 | E11: 506463161 | F11: 10 | G11: 1 | H11: 1231395 | I11: 170 | J11: 47 | K11: 17858959 | L11: 189 | M11: 91 | N11: 23351727 | O11: 2020 | P11: 2794 | Q11: 420211678 | R11: 614 | S11: 385 | T11: 43809402 | U11: 65 | V11: 139
A12: 臺中市 | B12: 13205 | C12: 5905 | D12: 7300 | E12: 1071029357 | F12: 80 | G12: 28 | H12: 10133718 | I12: 512 | J12: 239 | K12: 65960862 | L12: 368 | M12: 282 | N12: 55426413 | O12: 3980 | P12: 5586 | Q12: 846416136 | R12: 965 | S12: 1165 | T12: 93092228 | U12: 13 | V12: 20
A13: 臺南市 | B13: 9644 | C13: 4362 | D13: 5282 | E13: 775151728 | F13: 91 | G13: 42 | H13: 12228798 | I13: 417 | J13: 177 | K13: 53464932 | L13: 366 | M13: 198 | N13: 47799978 | O13: 2852 | P13: 4020 | Q13: 598940043 | R13: 636 | S13: 845 | T13: 62717977 | U13: 6 | V13: 10
A14: 高雄市 | B14: 31032 | C14: 13669 | D14: 17363 | E14: 2450131357 | F14: 32 | G14: 13 | H14: 4253910 | I14: 1096 | J14: 580 | K14: 150017459 | L14: 516 | M14: 465 | N14: 80516880 | O14: 9854 | P14: 13740 | Q14: 2017317124 | R14: 2171 | S14: 2565 | T14: 198025984 | U14: 57 | V14: 145
A15: 宜蘭縣 | B15: 2019 | C15: 985 | D15: 1034 | E15: 166380931 | F15: 12 | G15: 0 | H15: 1238858 | I15: 94 | J15: 15 | K15: 10216847 | L15: 123 | M15: 45 | N15: 14681102 | O15: 622 | P15: 798 | Q15: 126634147 | R15: 134 | S15: 176 | T15: 13609977 | U15: 47 | V15: 96
A16: 新竹縣 | B16: 1377 | C16: 731 | D16: 646 | E16: 99550353 | F16: 7 | G16: 1 | H16: 664207 | I16: 50 | J16: 12 | K16: 5768899 | L16: 101 | M16: 30 | N16: 10881054 | O16: 367 | P16: 399 | Q16: 64804961 | R16: 206 | S16: 204 | T16: 17431232 | U16: 15 | V16: 25
A17: 苗栗縣 | B17: 2093 | C17: 983 | D17: 1110 | E17: 165367132 | F17: 2 | G17: 0 | H17: 238816 | I17: 189 | J17: 51 | K17: 21030471 | L17: 73 | M17: 64 | N17: 12289379 | O17: 517 | P17: 686 | Q17: 109109062 | R17: 202 | S17: 309 | T17: 22699404 | U17: 9 | V17: 14
A18: 彰化縣 | B18: 6409 | C18: 2976 | D18: 3433 | E18: 501526025 | F18: 0 | G18: 0 | H18: 0 | I18: 4 | J18: 6 | K18: 858245 | L18: 418 | M18: 140 | N18: 50990208 | O18: 1980 | P18: 2487 | Q18: 390414997 | R18: 574 | S18: 800 | T18: 59262575 | U18: 4 | V18: 6
A19: 南投縣 | B19: 5724 | C19: 2627 | D19: 3097 | E19: 434291344 | F19: 5 | G19: 0 | H19: 425391 | I19: 63 | J19: 17 | K19: 7246573 | L19: 224 | M19: 82 | N19: 26142889 | O19: 1642 | P19: 2151 | Q19: 333683080 | R19: 693 | S19: 847 | T19: 66793411 | U19: 46 | V19: 72
... A30: 連江縣 | B30: 9 | C30: 5 | D30: 4 | E30: 798541 | F30: 1 | G30: 1 | H30: 179112 | I30: 0 | J30: 0 | K30: 0 | L30: 3 | M30: 1 | N30: 350761 | O30: 1 | P30: 2 | Q30: 268668 | R30: 0 | S30: 0 | T30: 0 | U30: 0 | V30: 0
A31: 資料來源：直轄市、縣﹝市﹞政府。
A32: 總計 | B32: =B8-SUM(B9:B14)-#REF! -> #REF! | C32: =C8-SUM(C9:C14)-#REF! -> #REF! | D32: =D8-SUM(D9:D14)-#REF! -> #REF! | E32: =E8-SUM(E9:E14)-#REF! -> #REF! | F32: =F8-SUM(F9:F14)-#REF! -> #REF! | G32: =G8-SUM(G9:G14)-#REF! -> #REF! | H32: =H8-SUM(H9:H14)-#REF! -> #REF! | I32: =I8-SUM(I9:I14)-#REF! -> #REF! | ... V32: =V8-SUM(V9:V14)-#REF! -> #REF!
A33: 臺 灣 省 | B33: =#REF!-SUM(B15:B28) -> #REF! | C33: =#REF!-SUM(C15:C28) -> #REF! | D33: =#REF!-SUM(D15:D28) -> #REF! | E33: =#REF!-SUM(E15:E28) -> #REF! | F33: =#REF!-SUM(F15:F28) -> #REF! | G33: =#REF!-SUM(G15:G28) -> #REF! | H33: =#REF!-SUM(H15:H28) -> #REF! | I33: =#REF!-SUM(I15:I28) -> #REF! | ... V33: =#REF!-SUM(V15:V28) -> #REF!
A34: 福建省 | B34: =#REF!-B29-B30 -> #REF! | C34: =#REF!-C29-C30 -> #REF! | D34: =#REF!-D29-D30 -> #REF! | E34: =#REF!-E29-E30 -> #REF! | F34: =#REF!-F29-F30 -> #REF! | G34: =#REF!-G29-G30 -> #REF! | H34: =#REF!-H29-H30 -> #REF! | I34: =#REF!-I29-I30 -> #REF! | ... V34: =#REF!-V29-V30 -> #REF!
A35: 年月 | B35: =#REF!-'105'!B8 -> #REF! | C35: =#REF!-'105'!C8 -> #REF! | D35: =#REF!-'105'!D8 -> #REF! | E35: =#REF!-'105'!E8 -> #REF! | F35: =#REF!-'105'!F8-'105'!G8 -> #REF! | H35: =#REF!-'105'!H8 -> #REF! | I35: =#REF!-'105'!I8-'105'!J8 -> #REF! | K35: =#REF!-'105'!K8 -> #REF! | L35: =#REF!-'105'!L8-'105'!M8 -> #REF! | N35: =#REF!-'105'!N8 -> #REF! | O35: =#REF!-'105'!O8-'105'!P8 -> #REF! | Q35: =#REF!-'105'!Q8 -> #REF! | R35: =#REF!-'105'!R8-'105'!S8 -> #REF! | T35: =#REF!-'105'!T8 -> #REF! | U35: =#REF!-'105'!U8 -> #REF! | V35: =#REF!-'105'!V8 -> #REF!

Sheet 104
A1: 1.4-02 中低收入老人生活津貼
A2: 民國104年
A3: 單位：人
A4: 區域別 | B4: 總計 | F4: 低收入戶 | O4: 中低收入 | U4: 具原住民身分分
B5: 人數(期底數) | E5: 金額(元) | F5: 第1款(省、新北、臺中、臺南)、第0類(臺北)、第1類(高雄) | I5: 第2款(省、新北、臺中、臺南)、第1、2類(臺北)、第2類(高雄) | L5: 第3款(省、新北、臺中、臺南)、第3、4類(臺北、高雄) | O5: 最低生活費1倍以上未滿1.5倍 | R5: 最低生活費1.5倍以上未滿2.5倍
B6: 計 | C6: 男 | D6: 女 | F6: 人數 | H6: 金額(元) | I6: 人數 | K6: 金額(元) | L6: 人數 | N6: 金額(元) | O6: 人數 | Q6: 金額(元) | R6: 人數 | T6: 金額(元) | U6: 人數
F7: 男 | G7: 女 | I7: 男 | J7: 女 | L7: 男 | M7: 女 | O7: 男 | P7: 女 | R7: 男 | S7: 女 | U7: 男 | V7: 女
A8: 104年，2015 | B8: 124490 | C8: 57413 | D8: 67077 | E8: 9630905002 | F8: 1043 | G8: 292 | H8: 118420163 | I8: 4555 | J8: 1953 | K8: 563709238 | L8: 4966 | M8: 2849 | N8: 656788640 | O8: 37186 | P8: 50411 | Q8: 7396439769 | R8: 9663 | S8: 11572 | T8: 895547192 | U8: 990 | V8: 1269
A9: 新北市 | B9: 11316 | C9: 5366 | D9: 5950 | E9: 905084300 | F9: 37 | G9: 7 | H9: 3775200 | I9: 243 | J9: 84 | K9: 29810500 | L9: 956 | M9: 558 | N9: 129045400 | O9: 3558 | P9: 4678 | Q9: 693884500 | R9: 572 | S9: 623 | T9: 48568700 | U9: 65 | V9: 81
A10: 臺北市 | B10: 10254 | C10: 5249 | D10: 5005 | E10: 818007820 | F10: 611 | G10: 154 | H10: 67672549 | I10: 885 | J10: 440 | K10: 111861421 | L10: 709 | M10: 622 | N10: 110496055 | O10: 2544 | P10: 3276 | Q10: 483999475 | R10: 500 | S10: 513 | T10: 43978320 | U10: 36 | V10: 45
A11: 桃園市 | B11: 6087 | C11: 2931 | D11: 3156 | E11: 471114000 | F11: 14 | G11: 9 | H11: 1569600 | I11: 127 | J11: 41 | K11: 14544000 | L11: 167 | M11: 76 | N11: 20764800 | O11: 1908 | P11: 2572 | Q11: 383580000 | R11: 715 | S11: 458 | T11: 50655600 | U11: 47 | V11: 103
A12: 臺中市 | B12: 12382 | C12: 5510 | D12: 6872 | E12: 955725323 | F12: 86 | G12: 27 | H12: 10051200 | I12: 430 | J12: 189 | K12: 52022700 | L12: 305 | M12: 203 | N12: 42555923 | O12: 3584 | P12: 5029 | Q12: 739897600 | R12: 1105 | S12: 1424 | T12: 111197900 | U12: 12 | V12: 23
A13: 臺南市 | B13: 9127 | C13: 4119 | D13: 5008 | E13: 715034086 | F13: 105 | G13: 49 | H13: 13780186 | I13: 408 | J13: 163 | K13: 50054400 | L13: 300 | M13: 181 | N13: 39371400 | O13: 2674 | P13: 3752 | Q13: 548187300 | R13: 632 | S13: 863 | T13: 63640800 | U13: 6 | V13: 6
A14: 高雄市 | B14: 30787 | C14: 13678 | D14: 17109 | E14: 2389070477 | F14: 39 | G14: 15 | H14: 5191200 | I14: 1121 | J14: 593 | K14: 147310017 | L14: 462 | M14: 412 | N14: 70774770 | O14: 10194 | P14: 14064 | Q14: 2007602418 | R14: 1862 | S14: 2025 | T14: 158192072 | U14: 50 | V14: 147
A15: 宜蘭縣 | B15: 1977 | C15: 983 | D15: 994 | E15: 153753100 | F15: 12 | G15: 1 | H15: 1188000 | I15: 96 | J15: 17 | K15: 10094400 | L15: 120 | M15: 41 | N15: 13614500 | O15: 601 | P15: 758 | Q15: 115172600 | R15: 154 | S15: 177 | T15: 13683600 | U15: 55 | V15: 105
A16: 新竹縣 | B16: 1295 | C16: 686 | D16: 609 | E16: 89420105 | F16: 9 | G16: 1 | H16: 817500 | I16: 58 | J16: 14 | K16: 6270200 | L16: 80 | M16: 35 | N16: 9035205 | O16: 317 | P16: 336 | Q16: 55232400 | R16: 222 | S16: 223 | T16: 18064800 | U16: 17 | V16: 17
A17: 苗栗縣 | B17: 2209 | C17: 1052 | D17: 1157 | E17: 167961600 | F17: 3 | G17: 0 | H17: 324000 | I17: 189 | J17: 46 | K17: 20116800 | L17: 86 | M17: 64 | N17: 13240800 | O17: 544 | P17: 709 | Q17: 109141200 | R17: 230 | S17: 338 | T17: 25138800 | U17: 10 | V17: 16
A18: 彰化縣 | B18: 5979 | C18: 2756 | D18: 3223 | E18: 447274800 | F18: 0 | G18: 0 | H18: 0 | I18: 5 | J18: 6 | K18: 1058400 | L18: 414 | M18: 148 | N18: 48679200 | O18: 1803 | P18: 2273 | Q18: 341193600 | R18: 534 | S18: 796 | T18: 56343600 | U18: 5 | V18: 6
A19: 南投縣 | B19: 5824 | C19: 2651 | D19: 3173 | E19: 432278200 | F19: 5 | G19: 0 | H19: 460800 | I19: 41 | J19: 15 | K19: 5032800 | L19: 274 | M19: 102 | N19: 32838400 | O19: 1652 | P19: 2190 | Q19: 329047200 | R19: 679 | S19: 866 | T19: 64899000 | U19: 48 | V19: 71
... A30: 連江縣 | B30: 10 | C30: 5 | D30: 5 | E30: 864000 | F30: 1 | G30: 1 | H30: 172800 | I30: 0 | J30: 1 | K30: 86400 | L30: 2 | M30: 1 | N30: 259200 | O30: 2 | P30: 2 | Q30: 345600 | R30: 0 | S30: 0 | T30: 0 | U30: 0 | V30: 0
A31: 資料來源：直轄市、縣﹝市﹞政府。
A32: 總計 | B32: =B8-SUM(B9:B14)-#REF! -> #REF! | C32: =C8-SUM(C9:C14)-#REF! -> #REF! | D32: =D8-SUM(D9:D14)-#REF! -> #REF! | E32: =E8-SUM(E9:E14)-#REF! -> #REF! | F32: =F8-SUM(F9:F14)-#REF! -> #REF! | G32: =G8-SUM(G9:G14)-#REF! -> #REF! | H32: =H8-SUM(H9:H14)-#REF! -> #REF! | I32: =I8-SUM(I9:I14)-#REF! -> #REF! | ... V32: =V8-SUM(V9:V14)-#REF! -> #REF!
A33: 臺 灣 省 | B33: =#REF!-SUM(B15:B28) -> #REF! | C33: =#REF!-SUM(C15:C28) -> #REF! | D33: =#REF!-SUM(D15:D28) -> #REF! | E33: =#REF!-SUM(E15:E28) -> #REF! | F33: =#REF!-SUM(F15:F28) -> #REF! | G33: =#REF!-SUM(G15:G28) -> #REF! | H33: =#REF!-SUM(H15:H28) -> #REF! | I33: =#REF!-SUM(I15:I28) -> #REF! | ... V33: =#REF!-SUM(V15:V28) -> #REF!
A34: 福建省 | B34: =#REF!-B29-B30 -> #REF! | C34: =#REF!-C29-C30 -> #REF! | D34: =#REF!-D29-D30 -> #REF! | E34: =#REF!-E29-E30 -> #REF! | F34: =#REF!-F29-F30 -> #REF! | G34: =#REF!-G29-G30 -> #REF! | H34: =#REF!-H29-H30 -> #REF! | I34: =#REF!-I29-I30 -> #REF! | ... V34: =#REF!-V29-V30 -> #REF!
A35: 年月 | B35: =#REF!-'104'!B8 -> #REF! | C35: =#REF!-'104'!C8 -> #REF! | D35: =#REF!-'104'!D8 -> #REF! | E35: =#REF!-'104'!E8 -> #REF! | F35: =#REF!-'104'!F8-'104'!G8 -> #REF! | H35: =#REF!-'104'!H8 -> #REF! | I35: =#REF!-'104'!I8-'104'!J8 -> #REF! | K35: =#REF!-'104'!K8 -> #REF! | L35: =#REF!-'104'!L8-'104'!M8 -> #REF! | N35: =#REF!-'104'!N8 -> #REF! | O35: =#REF!-'104'!O8-'104'!P8 -> #REF! | Q35: =#REF!-'104'!Q8 -> #REF! | R35: =#REF!-'104'!R8-'104'!S8 -> #REF! | T35: =#REF!-'104'!T8 -> #REF! | U35: =#REF!-'104'!U8 -> #REF! | V35: =#REF!-'104'!V8 -> #REF!

Sheet 103
A1: 1.4-02 中低收入老人生活津貼
A2: 民國103年
A3: 單位：人
A4: 區域別 | B4: 總計 | F4: 低收入戶 | O4: 中低收入 | U4: 具原住民身分分
B5: 人數(期底數) | E5: 金額(元) | F5: 第1款(省、新北、臺中、臺南)、第0類(臺北)、第1類(高雄) | I5: 第2款(省、新北、臺中、臺南)、第1、2類(臺北)、第2類(高雄) | L5: 第3款(省、新北、臺中、臺南)、第3、4類(臺北、高雄) | O5: 最低生活費1倍以上未滿1.5倍 | R5: 最低生活費1.5倍以上未滿2.5倍
B6: 計 | C6: 男 | D6: 女 | F6: 人數 | H6: 金額(元) | I6: 人數 | K6: 金額(元) | L6: 人數 | N6: 金額(元) | O6: 人數 | Q6: 金額(元) | R6: 人數 | T6: 金額(元) | U6: 人數
F7: 男 | G7: 女 | I7: 男 | J7: 女 | L7: 男 | M7: 女 | O7: 男 | P7: 女 | R7: 男 | S7: 女 | U7: 男 | V7: 女
A8: 103年，2014 | B8: 122423 | C8: 56489 | D8: 65934 | E8: 9384590116 | F8: 1201 | G8: 338 | H8: 133840033 | I8: 4298 | J8: 1792 | K8: 519864204 | L8: 4634 | M8: 2809 | N8: 624602129 | O8: 36140 | P8: 49055 | Q8: 7173621308 | R8: 10216 | S8: 11940 | T8: 932662442 | U8: 947 | V8: 1272
A9: 新北市 | B9: 10572 | C9: 4993 | D9: 5579 | E9: 835988700 | F9: 42 | G9: 11 | H9: 4517500 | I9: 270 | J9: 92 | K9: 32558400 | L9: 925 | M9: 564 | N9: 124532100 | O9: 3212 | P9: 4368 | Q9: 631609600 | R9: 544 | S9: 544 | T9: 42771100 | U9: 55 | V9: 67
A10: 臺北市 | B10: 10473 | C10: 5444 | D10: 5029 | E10: 824205277 | F10: 701 | G10: 159 | H10: 74247711 | I10: 821 | J10: 377 | K10: 100155905 | L10: 648 | M10: 554 | N10: 101348331 | O10: 2735 | P10: 3399 | Q10: 502274700 | R10: 539 | S10: 540 | T10: 46178630 | U10: 45 | V10: 52
A11: 臺中市 | B11: 12018 | C11: 5326 | D11: 6692 | E11: 921087923 | F11: 90 | G11: 29 | H11: 10548000 | I11: 350 | J11: 165 | K11: 44401600 | L11: 277 | M11: 190 | N11: 38223823 | O11: 3424 | P11: 4740 | Q11: 708543800 | R11: 1185 | S11: 1568 | T11: 119370700 | U11: 9 | V11: 18
A12: 臺南市 | B12: 8752 | C12: 3944 | D12: 4808 | E12: 683885622 | F12: 123 | G12: 56 | H12: 15518022 | I12: 406 | J12: 151 | K12: 48070800 | L12: 249 | M12: 157 | N12: 34070400 | O12: 2575 | P12: 3690 | Q12: 529141000 | R12: 591 | S12: 754 | T12: 57085400 | U12: 6 | V12: 6
A13: 高雄市 | B13: 30719 | C13: 13747 | D13: 16972 | E13: 2345118813 | F13: 55 | G13: 20 | H13: 6580800 | I13: 1088 | J13: 549 | K13: 135720299 | L13: 430 | M13: 418 | N13: 67235442 | O13: 10029 | P13: 13767 | Q13: 1959557078 | R13: 2145 | S13: 2218 | T13: 176025194 | U13: 44 | V13: 144
A14: 宜蘭縣 | B14: 1893 | C14: 933 | D14: 960 | E14: 147033500 | F14: 15 | G14: 1 | H14: 1404000 | I14: 102 | J14: 18 | K14: 10713600 | L14: 115 | M14: 47 | N14: 13288900 | O14: 565 | P14: 747 | Q14: 109433800 | R14: 136 | S14: 147 | T14: 12193200 | U14: 47 | V14: 96
A15: 桃園縣 | B15: 6154 | C15: 2977 | D15: 3177 | E15: 454989600 | F15: 20 | G15: 3 | H15: 2073600 | I15: 98 | J15: 34 | K15: 11217600 | L15: 167 | M15: 86 | N15: 20887200 | O15: 1678 | P15: 2268 | Q15: 342410400 | R15: 1014 | S15: 786 | T15: 78400800 | U15: 56 | V15: 101
A16: 新竹縣 | B16: 1269 | C16: 665 | D16: 604 | E16: 89787400 | F16: 1 | G16: 16 | H16: 1476000 | I16: 59 | J16: 17 | K16: 6832600 | L16: 68 | M16: 31 | N16: 7790400 | O16: 320 | P16: 370 | Q16: 57600000 | R16: 217 | S16: 170 | T16: 16088400 | U16: 7 | V16: 14
A17: 苗栗縣 | B17: 2346 | C17: 1100 | D17: 1246 | E17: 176936400 | F17: 5 | G17: 0 | H17: 460800 | I17: 177 | J17: 42 | K17: 18864000 | L17: 75 | M17: 82 | N17: 12614400 | O17: 616 | P17: 751 | Q17: 118969200 | R17: 227 | S17: 371 | T17: 26028000 | U17: 8 | V17: 25
A18: 彰化縣 | B18: 5497 | C18: 2521 | D18: 2976 | E18: 410108400 | F18: 0 | G18: 0 | H18: 0 | I18: 6 | J18: 6 | K18: 1159200 | L18: 385 | M18: 145 | N18: 46900800 | O18: 1603 | P18: 2012 | Q18: 304938000 | R18: 527 | S18: 813 | T18: 57110400 | U18: 3 | V18: 3
A19: 南投縣 | B19: 5690 | C19: 2592 | D19: 3098 | E19: 420861530 | F19: 5 | G19: 0 | H19: 424800 | I19: 43 | J19: 18 | K19: 5572800 | L19: 293 | M19: 124 | N19: 34973600 | O19: 1603 | P19: 2125 | Q19: 317250330 | R19: 648 | S19: 831 | T19: 62640000 | U19: 45 | V19: 77
... A30: 連江縣 | B30: 10 | C30: 5 | D30: 5 | E30: 820800 | F30: 2 | G30: 1 | H30: 259200 | I30: 1 | J30: 2 | K30: 259200 | L30: 0 | M30: 0 | N30: 0 | O30: 2 | P30: 1 | Q30: 259200 | R30: 0 | S30: 1 | T30: 43200 | U30: 0 | V30: 0
A31: 資料來源：直轄市、縣﹝市﹞政府。
A32: 總計 | B32: =B8-SUM(B9:B13)-#REF! -> #REF! | C32: =C8-SUM(C9:C13)-#REF! -> #REF! | D32: =D8-SUM(D9:D13)-#REF! -> #REF! | E32: =E8-SUM(E9:E13)-#REF! -> #REF! | F32: =F8-SUM(F9:F13)-#REF! -> #REF! | G32: =G8-SUM(G9:G13)-#REF! -> #REF! | H32: =H8-SUM(H9:H13)-#REF! -> #REF! | I32: =I8-SUM(I9:I13)-#REF! -> #REF! | ... V32: =V8-SUM(V9:V13)-#REF! -> #REF!
A33: 臺 灣 省 | B33: =#REF!-SUM(B14:B28) -> #REF! | C33: =#REF!-SUM(C14:C28) -> #REF! | D33: =#REF!-SUM(D14:D28) -> #REF! | E33: =#REF!-SUM(E14:E28) -> #REF! | F33: =#REF!-SUM(F14:F28) -> #REF! | G33: =#REF!-SUM(G14:G28) -> #REF! | H33: =#REF!-SUM(H14:H28) -> #REF! | I33: =#REF!-SUM(I14:I28) -> #REF! | ... V33: =#REF!-SUM(V14:V28) -> #REF!
A34: 福建省 | B34: =#REF!-B29-B30 -> #REF! | C34: =#REF!-C29-C30 -> #REF! | D34: =#REF!-D29-D30 -> #REF! | E34: =#REF!-E29-E30 -> #REF! | F34: =#REF!-F29-F30 -> #REF! | G34: =#REF!-G29-G30 -> #REF! | H34: =#REF!-H29-H30 -> #REF! | I34: =#REF!-I29-I30 -> #REF! | ... V34: =#REF!-V29-V30 -> #REF!
A35: 年月 | B35: =#REF!-'103'!B8 -> #REF! | C35: =#REF!-'103'!C8 -> #REF! | D35: =#REF!-'103'!D8 -> #REF! | E35: =#REF!-'103'!E8 -> #REF! | F35: =#REF!-'103'!F8-'103'!G8 -> #REF! | H35: =#REF!-'103'!H8 -> #REF! | I35: =#REF!-'103'!I8-'103'!J8 -> #REF! | K35: =#REF!-'103'!K8 -> #REF! | L35: =#REF!-'103'!L8-'103'!M8 -> #REF! | N35: =#REF!-'103'!N8 -> #REF! | O35: =#REF!-'103'!O8-'103'!P8 -> #REF! | Q35: =#REF!-'103'!Q8 -> #REF! | R35: =#REF!-'103'!R8-'103'!S8 -> #REF! | T35: =#REF!-'103'!T8 -> #REF! | U35: =#REF!-'103'!U8 -> #REF! | V35: =#REF!-'103'!V8 -> #REF!

Sheet 102
A1: 1.4-02 中低收入老人生活津貼
A2: 民國102年
A4: 區域別 | B4: 總計 | F4: 低收入戶 | O4: 中低收入 | U4: 具原住民身分分
B5: 人數(期底數) | E5: 金額(元) | F5: 第1款(省、新北、臺中、臺南)、第0類(臺北)、第1類(高雄) | I5: 第2款(省、新北、臺中、臺南)、第1、2類(臺北)、第2類(高雄) | L5: 第3款(省、新北、臺中、臺南)、第3、4類(臺北、高雄) | O5: 最低生活費1倍以上未滿1.5倍 | R5: 最低生活費1.5倍以上未滿2.5倍
B6: 計 | C6: 男 | D6: 女 | F6: 人數 | H6: 金額(元) | I6: 人數 | K6: 金額(元) | L6: 人數 | N6: 金額(元) | O6: 人數 | Q6: 金額(元) | R6: 人數 | T6: 金額(元) | U6: 人數
F7: 男 | G7: 女 | I7: 男 | J7: 女 | L7: 男 | M7: 女 | O7: 男 | P7: 女 | R7: 男 | S7: 女 | U7: 男 | V7: 女
A8: 102年，2013 | B8: 120869 | C8: 55918 | D8: 64951 | E8: 9248231640 | F8: 1305 | G8: 364 | H8: 146893626 | I8: 4121 | J8: 1720 | K8: 498604160 | L8: 4492 | M8: 2712 | N8: 602627053 | O8: 35411 | P8: 47889 | Q8: 7029031679 | R8: 10589 | S8: 12266 | T8: 971075122 | U8: 910 | V8: 1239
A9: 新北市 | B9: 9929 | C9: 4699 | D9: 5230 | E9: 793836000 | F9: 47 | G9: 17 | H9: 5853600 | I9: 303 | J9: 112 | K9: 37768300 | L9: 889 | M9: 582 | N9: 122216300 | O9: 2953 | P9: 4021 | Q9: 587234900 | R9: 507 | S9: 498 | T9: 40762900 | U9: 46 | V9: 60
A10: 臺北市 | B10: 10786 | C10: 5680 | D10: 5106 | E10: 834648588 | F10: 750 | G10: 171 | H10: 79061958 | I10: 769 | J10: 346 | K10: 91187623 | L10: 658 | M10: 550 | N10: 98734930 | O10: 2893 | P10: 3453 | Q10: 514506397 | R10: 610 | S10: 586 | T10: 51157680 | U10: 54 | V10: 55
A11: 臺中市 | B11: 11312 | C11: 4983 | D11: 6329 | E11: 859176191 | F11: 85 | G11: 36 | H11: 10728000 | I11: 327 | J11: 138 | K11: 40171300 | L11: 266 | M11: 163 | N11: 35795091 | O11: 3203 | P11: 4465 | Q11: 659433200 | R11: 1102 | S11: 1527 | T11: 113048600 | U11: 6 | V11: 14
A12: 臺南市 | B12: 8411 | C12: 3796 | D12: 4615 | E12: 660282528 | F12: 111 | G12: 57 | H12: 14836128 | I12: 376 | J12: 150 | K12: 45036000 | L12: 266 | M12: 153 | N12: 34620800 | O12: 2397 | P12: 3487 | Q12: 505388800 | R12: 646 | S12: 768 | T12: 60400800 | U12: 0 | V12: 0
A13: 高雄市 | B13: 30412 | C13: 13780 | D13: 16632 | E13: 2315528148 | F13: 60 | G13: 23 | H13: 7776000 | I13: 995 | J13: 519 | K13: 127804349 | L13: 406 | M13: 359 | N13: 61692893 | O13: 10011 | P13: 13413 | Q13: 1926838730 | R13: 2308 | S13: 2318 | T13: 191416176 | U13: 42 | V13: 123
A14: 宜蘭縣 | B14: 1833 | C14: 887 | D14: 946 | E14: 144696400 | F14: 16 | G14: 1 | H14: 1598400 | I14: 111 | J14: 18 | K14: 11743200 | L14: 96 | M14: 42 | N14: 11335400 | O14: 534 | P14: 724 | Q14: 108229400 | R14: 130 | S14: 161 | T14: 11790000 | U14: 41 | V14: 99
A15: 桃園縣 | B15: 6321 | C15: 3091 | D15: 3230 | E15: 458002800 | F15: 23 | G15: 4 | H15: 2462400 | I15: 95 | J15: 35 | K15: 11124000 | L15: 157 | M15: 81 | N15: 19951200 | O15: 1633 | P15: 2247 | Q15: 336708000 | R15: 1183 | S15: 863 | T15: 87757200 | U15: 56 | V15: 102
A16: 新竹縣 | B16: 1251 | C16: 680 | D16: 571 | E16: 88863654 | F16: 19 | G16: 1 | H16: 1713600 | I16: 73 | J16: 17 | K16: 7444800 | L16: 51 | M16: 26 | N16: 5671254 | O16: 339 | P16: 396 | Q16: 60595200 | R16: 198 | S16: 131 | T16: 13438800 | U16: 8 | V16: 14
A17: 苗栗縣 | B17: 2491 | C17: 1159 | D17: 1332 | E17: 184582728 | F17: 6 | G17: 0 | H17: 568800 | I17: 180 | J17: 46 | K17: 18489600 | L17: 64 | M17: 72 | N17: 11721528 | O17: 633 | P17: 796 | Q17: 123494400 | R17: 276 | S17: 418 | T17: 30308400 | U17: 6 | V17: 20
A18: 彰化縣 | B18: 5268 | C18: 2369 | D18: 2899 | E18: 388287794 | F18: 0 | G18: 0 | H18: 0 | I18: 9 | J18: 8 | K18: 1569600 | L18: 395 | M18: 145 | N18: 48321794 | O18: 1466 | P18: 1842 | Q18: 278186400 | R18: 499 | S18: 904 | T18: 60210000 | U18: 2 | V18: 1
A19: 南投縣 | B19: 5780 | C19: 2646 | D19: 3134 | E19: 439371900 | F19: 5 | G19: 1 | H19: 475200 | I19: 48 | J19: 16 | K19: 6170400 | L19: 296 | M19: 119 | N19: 34921500 | O19: 1700 | P19: 2259 | Q19: 341727600 | R19: 597 | S19: 739 | T19: 56077200 | U19: 40 | V19: 82
... A30: 連江縣 | B30: 11 | C30: 6 | D30: 5 | E30: 1015200 | F30: 2 | G30: 1 | H30: 259200 | I30: 1 | J30: 2 | K30: 259200 | L30: 1 | M30: 0 | N30: 86400 | O30: 2 | P30: 2 | Q30: 410400 | R30: 0 | S30: 0 | T30: 0 | U30: 0 | V30: 0
A31: 資料來源：直轄市、縣﹝市﹞政府。
A32: 總計 | B32: =B8-SUM(B9:B13)-#REF! -> #REF! | C32: =C8-SUM(C9:C13)-#REF! -> #REF! | D32: =D8-SUM(D9:D13)-#REF! -> #REF! | E32: =E8-SUM(E9:E13)-#REF! -> #REF! | F32: =F8-SUM(F9:F13)-#REF! -> #REF! | G32: =G8-SUM(G9:G13)-#REF! -> #REF! | H32: =H8-SUM(H9:H13)-#REF! -> #REF! | I32: =I8-SUM(I9:I13)-#REF! -> #REF! | ... V32: =V8-SUM(V9:V13)-#REF! -> #REF!
A33: 臺 灣 省 | B33: =#REF!-SUM(B14:B28) -> #REF! | C33: =#REF!-SUM(C14:C28) -> #REF! | D33: =#REF!-SUM(D14:D28) -> #REF! | E33: =#REF!-SUM(E14:E28) -> #REF! | F33: =#REF!-SUM(F14:F28) -> #REF! | G33: =#REF!-SUM(G14:G28) -> #REF! | H33: =#REF!-SUM(H14:H28) -> #REF! | I33: =#REF!-SUM(I14:I28) -> #REF! | ... V33: =#REF!-SUM(V14:V28) -> #REF!
A34: 福建省 | B34: =#REF!-B29-B30 -> #REF! | C34: =#REF!-C29-C30 -> #REF! | D34: =#REF!-D29-D30 -> #REF! | E34: =#REF!-E29-E30 -> #REF! | F34: =#REF!-F29-F30 -> #REF! | G34: =#REF!-G29-G30 -> #REF! | H34: =#REF!-H29-H30 -> #REF! | I34: =#REF!-I29-I30 -> #REF! | ... V34: =#REF!-V29-V30 -> #REF!
A35: 年月 | B35: =#REF!-'102'!B8 -> #REF! | C35: =#REF!-'102'!C8 -> #REF! | D35: =#REF!-'102'!D8 -> #REF! | E35: =#REF!-'102'!E8 -> #REF! | F35: =#REF!-'102'!F8-'102'!G8 -> #REF! | H35: =#REF!-'102'!H8 -> #REF! | I35: =#REF!-'102'!I8-'102'!J8 -> #REF! | K35: =#REF!-'102'!K8 -> #REF! | L35: =#REF!-'102'!L8-'102'!M8 -> #REF! | N35: =#REF!-'102'!N8 -> #REF! | O35: =#REF!-'102'!O8-'102'!P8 -> #REF! | Q35: =#REF!-'102'!Q8 -> #REF! | R35: =#REF!-'102'!R8-'102'!S8 -> #REF! | T35: =#REF!-'102'!T8 -> #REF! | U35: =#REF!-'102'!U8 -> #REF! | V35: =#REF!-'102'!V8 -> #REF!

Sheet 101
A1: 1.4-02 中低收入老人生活津貼
A2: 民國101年
A4: 區域別 | B4: 總計 | F4: 低收入戶 | O4: 中低收入 | U4: 具原住民身分分
B5: 人數(期底數) | E5: 金額(元) | F5: 第1款(省、新北、臺中、臺南)、第0類(臺北)、第1類(高雄) | I5: 第2款(省、新北、臺中、臺南)、第1、2類(臺北)、第2類(高雄) | L5: 第3款(省、新北、臺中、臺南)、第3、4類(臺北、高雄) | O5: 最低生活費1倍以上未滿1.5倍 | R5: 最低生活費1.5倍以上未滿2.5倍
B6: 計 | C6: 男 | D6: 女 | F6: 人數 | H6: 金額(元) | I6: 人數 | K6: 金額(元) | L6: 人數 | N6: 金額(元) | O6: 人數 | Q6: 金額(元) | R6: 人數 | T6: 金額(元) | U6: 人數
F7: 男 | G7: 女 | I7: 男 | J7: 女 | L7: 男 | M7: 女 | O7: 男 | P7: 女 | R7: 男 | S7: 女 | U7: 男 | V7: 女
A8: 101年，2012 | B8: 120968 | C8: 56426 | D8: 64542 | E8: 9239675567 | F8: 1410 | G8: 377 | H8: 155836818 | I8: 3936 | J8: 1698 | K8: 479904150 | L8: 4449 | M8: 2595 | N8: 578120920 | O8: 36473 | P8: 48642 | Q8: 7112854345 | R8: 10158 | S8: 11230 | T8: 912959334 | U8: 788 | V8: 1149
A9: 新北市 | B9: 9247 | C9: 4420 | D9: 4827 | E9: 736560192 | F9: 61 | G9: 18 | H9: 7409992 | I9: 321 | J9: 109 | K9: 39087800 | L9: 835 | M9: 557 | N9: 113536800 | O9: 2856 | P9: 3816 | Q9: 550252800 | R9: 347 | S9: 327 | T9: 26272800 | U9: 33 | V9: 41
A10: 臺北市 | B10: 11090 | C10: 5923 | D10: 5167 | E10: 854868192 | F10: 814 | G10: 180 | H10: 85681943 | I10: 681 | J10: 321 | K10: 82741160 | L10: 675 | M10: 521 | N10: 96813949 | O10: 3172 | P10: 3608 | Q10: 542355570 | R10: 581 | S10: 537 | T10: 47275570 | U10: 13 | V10: 23
A11: 臺中市 | B11: 11236 | C11: 4908 | D11: 6328 | E11: 802603500 | F11: 71 | G11: 25 | H11: 8052600 | I11: 251 | J11: 104 | K11: 28487000 | L11: 305 | M11: 169 | N11: 37064200 | O11: 2911 | P11: 4215 | Q11: 595413000 | R11: 1370 | S11: 1815 | T11: 133586700 | U11: 6 | V11: 13
A12: 臺南市 | B12: 8259 | C12: 3750 | D12: 4509 | E12: 657082783 | F12: 115 | G12: 59 | H12: 15046683 | I12: 352 | J12: 142 | K12: 43020000 | L12: 251 | M12: 158 | N12: 33540600 | O12: 2469 | P12: 3501 | Q12: 512732500 | R12: 563 | S12: 649 | T12: 52743000 | U12: 0 | V12: 0
A13: 高雄市 | B13: 30708 | C13: 14132 | D13: 16576 | E13: 2333432007 | F13: 72 | G13: 26 | H13: 9126000 | I13: 969 | J13: 559 | K13: 127646480 | L13: 400 | M13: 319 | N13: 55032553 | O13: 10512 | P13: 13763 | Q13: 1969525510 | R13: 2179 | S13: 1909 | T13: 172101464 | U13: 30 | V13: 65
A14: 宜蘭縣 | B14: 1834 | C14: 892 | D14: 942 | E14: 149007000 | F14: 19 | G14: 1 | H14: 1893600 | I14: 124 | J14: 21 | K14: 12672000 | L14: 75 | M14: 45 | N14: 10461600 | O14: 587 | P14: 755 | Q14: 115581600 | R14: 87 | S14: 120 | T14: 8398200 | U14: 42 | V14: 99
A15: 桃園縣 | B15: 6447 | C15: 3190 | D15: 3257 | E15: 471272400 | F15: 24 | G15: 4 | H15: 2764800 | I15: 98 | J15: 36 | K15: 11455200 | L15: 148 | M15: 73 | N15: 18950400 | O15: 1748 | P15: 2397 | Q15: 355500000 | R15: 1172 | S15: 747 | T15: 82602000 | U15: 55 | V15: 98
A16: 新竹縣 | B16: 1218 | C16: 675 | D16: 543 | E16: 89482338 | F16: 23 | G16: 1 | H16: 2052000 | I16: 71 | J16: 16 | K16: 6988610 | L16: 47 | M16: 26 | N16: 6170128 | O16: 346 | P16: 401 | Q16: 62373600 | R16: 188 | S16: 99 | T16: 11898000 | U16: 9 | V16: 19
A17: 苗栗縣 | B17: 2616 | C17: 1212 | D17: 1404 | E17: 197065890 | F17: 8 | G17: 0 | H17: 655200 | I17: 170 | J17: 44 | K17: 17947200 | L17: 68 | M17: 68 | N17: 10732290 | O17: 699 | P17: 892 | Q17: 138754800 | R17: 267 | S17: 400 | T17: 28976400 | U17: 5 | V17: 18
A18: 彰化縣 | B18: 5112 | C18: 2253 | D18: 2859 | E18: 374630000 | F18: 0 | G18: 1 | H18: 50400 | I18: 10 | J18: 11 | K18: 1944000 | L18: 397 | M18: 153 | N18: 47846400 | O18: 1352 | P18: 1769 | Q18: 262718600 | R18: 494 | S18: 925 | T18: 62070600 | U18: 0 | V18: 1
A19: 南投縣 | B19: 5694 | C19: 2596 | D19: 3098 | E19: 433669300 | F19: 6 | G19: 0 | H19: 583200 | I19: 52 | J19: 20 | K19: 6566400 | L19: 309 | M19: 112 | N19: 36182500 | O19: 1676 | P19: 2249 | Q19: 335462400 | R19: 553 | S19: 717 | T19: 54874800 | U19: 43 | V19: 81
... A30: 連江縣 | B30: 11 | C30: 6 | D30: 5 | E30: 928800 | F30: 2 | G30: 1 | H30: 259200 | I30: 1 | J30: 2 | K30: 252000 | L30: 0 | M30: 0 | N30: 0 | O30: 3 | P30: 2 | Q30: 417600 | R30: 0 | S30: 0 | T30: 0 | U30: 0 | V30: 0
A31: 資料來源：直轄市、縣﹝市﹞政府。
A32: 總計 | B32: =B8-SUM(B9:B13)-#REF! -> #REF! | C32: =C8-SUM(C9:C13)-#REF! -> #REF! | D32: =D8-SUM(D9:D13)-#REF! -> #REF! | E32: =E8-SUM(E9:E13)-#REF! -> #REF! | F32: =F8-SUM(F9:F13)-#REF! -> #REF! | G32: =G8-SUM(G9:G13)-#REF! -> #REF! | H32: =H8-SUM(H9:H13)-#REF! -> #REF! | I32: =I8-SUM(I9:I13)-#REF! -> #REF! | ... V32: =V8-SUM(V9:V13)-#REF! -> #REF!
A33: 臺 灣 省 | B33: =#REF!-SUM(B14:B28) -> #REF! | C33: =#REF!-SUM(C14:C28) -> #REF! | D33: =#REF!-SUM(D14:D28) -> #REF! | E33: =#REF!-SUM(E14:E28) -> #REF! | F33: =#REF!-SUM(F14:F28) -> #REF! | G33: =#REF!-SUM(G14:G28) -> #REF! | H33: =#REF!-SUM(H14:H28) -> #REF! | I33: =#REF!-SUM(I14:I28) -> #REF! | ... V33: =#REF!-SUM(V14:V28) -> #REF!
A34: 福建省 | B34: =#REF!-B29-B30 -> #REF! | C34: =#REF!-C29-C30 -> #REF! | D34: =#REF!-D29-D30 -> #REF! | E34: =#REF!-E29-E30 -> #REF! | F34: =#REF!-F29-F30 -> #REF! | G34: =#REF!-G29-G30 -> #REF! | H34: =#REF!-H29-H30 -> #REF! | I34: =#REF!-I29-I30 -> #REF! | ... V34: =#REF!-V29-V30 -> #REF!
A35: 年月 | B35: =#REF!-'101'!B8 -> #REF! | C35: =#REF!-'101'!C8 -> #REF! | D35: =#REF!-'101'!D8 -> #REF! | E35: =#REF!-'101'!E8 -> #REF! | F35: =#REF!-'101'!F8-'101'!G8 -> #REF! | H35: =#REF!-'101'!H8 -> #REF! | I35: =#REF!-'101'!I8-'101'!J8 -> #REF! | K35: =#REF!-'101'!K8 -> #REF! | L35: =#REF!-'101'!L8-'101'!M8 -> #REF! | N35: =#REF!-'101'!N8 -> #REF! | O35: =#REF!-'101'!O8-'101'!P8 -> #REF! | Q35: =#REF!-'101'!Q8 -> #REF! | R35: =#REF!-'101'!R8-'101'!S8 -> #REF! | T35: =#REF!-'101'!T8 -> #REF! | U35: =#REF!-'101'!U8 -> #REF! | V35: =#REF!-'101'!V8 -> #REF!

Sheet 100
A1: 1.4-02 中低收入老人生活津貼
A2: 民國100年
A4: 區域別 | B4: 總計 | F4: 低收入戶 | O4: 中低收入
B5: 人數(期底數) | E5: 金額(元) | F5: 第1款(省、新北、臺中、臺南)、第0類(臺北)、第1類(高雄) | I5: 第2款(省、新北、臺中、臺南)、第1、2類(臺北)、第2類(高雄) | L5: 第3款(省、新北、臺中、臺南)、第3、4類(臺北、高雄) | O5: 最低生活費1倍以上未滿1.5倍 | R5: 最低生活費1.5倍以上未滿2.5倍
B6: 計 | C6: 男 | D6: 女 | F6: 人數 | H6: 金額(元) | I6: 人數 | K6: 金額(元) | L6: 人數 | N6: 金額(元) | O6: 人數 | Q6: 金額(元) | R6: 人數 | T6: 金額(元)
F7: 男 | G7: 女 | I7: 男 | J7: 女 | L7: 男 | M7: 女 | O7: 男 | P7: 女 | R7: 男 | S7: 女
A8: 100年，2011 | B8: 120266 | C8: 55279 | D8: 64987 | E8: 7618135992 | F8: 1420 | G8: 401 | H8: 130394343 | I8: 3505 | J8: 1672 | K8: 358499454 | L8: 4431 | M8: 2466 | N8: 478407765 | O8: 34294 | P8: 48345 | Q8: 5817451776 | R8: 11629 | S8: 12103 | T8: 833382654
A9: 新北市 | B9: 8311 | C9: 4013 | D9: 4298 | E9: 560328348 | F9: 66 | G9: 24 | H9: 6807348 | I9: 318 | J9: 136 | K9: 33426000 | L9: 725 | M9: 470 | N9: 80528000 | O9: 2643 | P9: 3444 | Q9: 420508000 | R9: 261 | S9: 224 | T9: 19059000
A10: 臺北市 | B10: 11667 | C10: 6312 | D10: 5355 | E10: 734432807 | F10: 857 | G10: 171 | H10: 72061647 | I10: 563 | J10: 282 | K10: 55261974 | L10: 719 | M10: 468 | N10: 78571446 | O10: 3426 | P10: 3695 | Q10: 474041930 | R10: 747 | S10: 739 | T10: 54495810
A11: 臺中市 | B11: 10452 | C11: 4028 | D11: 6424 | E11: 630756000 | F11: 66 | G11: 20 | H11: 5658000 | I11: 170 | J11: 84 | K11: 14736000 | L11: 309 | M11: 171 | N11: 34899000 | O11: 2363 | P11: 4256 | Q11: 468225000 | R11: 1120 | S11: 1893 | T11: 107238000
A12: 臺南市 | B12: 8132 | C12: 3659 | D12: 4473 | E12: 539106348 | F12: 105 | G12: 56 | H12: 11505348 | I12: 258 | J12: 126 | K12: 26100000 | L12: 312 | M12: 158 | N12: 33915000 | O12: 2474 | P12: 3607 | Q12: 427530000 | R12: 510 | S12: 526 | T12: 40056000
A13: 高雄市 | B13: 30061 | C13: 13934 | D13: 16127 | E13: 1871655408 | F13: 71 | G13: 32 | H13: 7482000 | I13: 895 | J13: 536 | K13: 97423920 | L13: 387 | M13: 280 | N13: 44680268 | O13: 9072 | P13: 12857 | Q13: 1533969376 | R13: 3509 | S13: 2422 | T13: 188099844
A14: 宜蘭縣 | B14: 1772 | C14: 757 | D14: 1015 | E14: 119376000 | F14: 21 | G14: 2 | H14: 1800000 | I14: 130 | J14: 23 | K14: 11058000 | L14: 75 | M14: 44 | N14: 8256000 | O14: 468 | P14: 821 | Q14: 91527000 | R14: 63 | S14: 125 | T14: 6735000
A15: 桃園縣 | B15: 6630 | C15: 3349 | D15: 3281 | E15: 403662000 | F15: 29 | G15: 8 | H15: 2916000 | I15: 108 | J15: 39 | K15: 10638000 | L15: 142 | M15: 82 | N15: 15876000 | O15: 1791 | P15: 2436 | Q15: 302610000 | R15: 1279 | S15: 716 | T15: 71622000
A16: 新竹縣 | B16: 1143 | C16: 644 | D16: 499 | E16: 67933560 | F16: 25 | G16: 1 | H16: 1956000 | I16: 60 | J16: 15 | K16: 5251560 | L16: 45 | M16: 19 | N16: 4284000 | O16: 335 | P16: 350 | Q16: 46692000 | R16: 179 | S16: 114 | T16: 9750000
A17: 苗栗縣 | B17: 2781 | C17: 1186 | D17: 1595 | E17: 176214091 | F17: 9 | G17: 0 | H17: 666000 | I17: 148 | J17: 39 | K17: 12798000 | L17: 70 | M17: 67 | N17: 10065091 | O17: 711 | P17: 1067 | Q17: 126795000 | R17: 248 | S17: 422 | T17: 25890000
A18: 彰化縣 | B18: 5124 | C18: 2233 | D18: 2891 | E18: 306561000 | F18: 2 | G18: 0 | H18: 144000 | I18: 10 | J18: 13 | K18: 1770000 | L18: 399 | M18: 163 | N18: 40923000 | O18: 1226 | P18: 1658 | Q18: 203052000 | R18: 596 | S18: 1057 | T18: 60672000
A19: 南投縣 | B19: 5929 | C19: 2667 | D19: 3262 | E19: 382530000 | F19: 9 | G19: 0 | H19: 750000 | I19: 54 | J19: 19 | K19: 5394000 | L19: 306 | M19: 126 | N19: 31101000 | O19: 1741 | P19: 2382 | Q19: 299154000 | R19: 557 | S19: 735 | T19: 46131000
... A30: 連江縣 | B30: 8 | C30: 5 | D30: 3 | E30: 534000 | F30: 3 | G30: 1 | H30: 318000 | I30: 1 | J30: 0 | K30: 72000 | L30: 0 | M30: 0 | N30: 0 | O30: 0 | P30: 1 | Q30: 72000 | R30: 1 | S30: 1 | T30: 72000
A31: 資料來源：直轄市、縣﹝市﹞政府。

Sheet 99
A1: 1.4-02 中低收入老人生活津貼
A2: 中華民國99年 , 2010
A4: 區域別 | B4: 總計 | F4: 低收入戶 | O4: 非低收入戶(未超過最低生活費標準2.5倍者)
B5: 人數(期底數) | E5: 金額(元) | F5: 一款(省)、0類(北)、一類(高) | I5: 二款(省) 、1、2類(北)、二類(高) | L5: 三款(省) 、3、4類(北)、三類(高) | O5: 未超過最低生活費標準1.5倍者 | R5: 最低生活費標準1.5倍以上者
B6: 計 | C6: 男 | D6: 女 | F6: 人數 | H6: 金額(元) | I6: 人數 | K6: 金額(元) | L6: 人數 | N6: 金額(元) | O6: 人數 | Q6: 金額(元) | R6: 人數 | T6: 金額(元)
F7: 男 | G7: 女 | I7: 男 | J7: 女 | L7: 男 | M7: 女 | O7: 男 | P7: 女 | R7: 男 | S7: 女
A8: 99年 ,2010 | B8: 119861 | C8: 55486 | D8: 64375 | E8: 7609079377 | F8: 1445 | G8: 445 | H8: 135364659 | I8: 3256 | J8: 1577 | K8: 347858044 | L8: 4273 | M8: 2421 | N8: 462651496 | O8: 34292 | P8: 47433 | Q8: 5788373002 | R8: 12220 | S8: 12499 | T8: 874832176
A9: 臺北縣 | B9: 7640 | C9: 3690 | D9: 3950 | E9: 517401348 | F9: 71 | G9: 31 | H9: 7803348 | I9: 328 | J9: 141 | K9: 35154000 | L9: 607 | M9: 405 | N9: 69830000 | O9: 2331 | P9: 3063 | Q9: 382033000 | R9: 353 | S9: 310 | T9: 22581000
A10: 宜蘭縣 | B10: 1735 | C10: 746 | D10: 989 | E10: 119505000 | F10: 26 | G10: 5 | H10: 2496000 | I10: 135 | J10: 25 | K10: 11742000 | L10: 65 | M10: 38 | N10: 7080000 | O10: 458 | P10: 803 | Q10: 91761000 | R10: 62 | S10: 118 | T10: 6426000
A11: 桃園縣 | B11: 6699 | C11: 3414 | D11: 3285 | E11: 411969000 | F11: 35 | G11: 7 | H11: 2922000 | I11: 113 | J11: 48 | K11: 11766000 | L11: 135 | M11: 86 | N11: 15558000 | O11: 1815 | P11: 2457 | Q11: 308820000 | R11: 1316 | S11: 687 | T11: 72903000
A12: 新竹縣 | B12: 1072 | C12: 594 | D12: 478 | E12: 62551150 | F12: 28 | G12: 1 | H12: 2316000 | I12: 58 | J12: 17 | K12: 5239150 | L12: 40 | M12: 18 | N12: 3720000 | O12: 306 | P12: 317 | Q12: 42264000 | R12: 162 | S12: 125 | T12: 9012000
A13: 苗栗縣 | B13: 2971 | C13: 1291 | D13: 1680 | E13: 186674395 | F13: 10 | G13: 0 | H13: 834000 | I13: 138 | J13: 38 | K13: 12672000 | L13: 84 | M13: 67 | N13: 10409395 | O13: 758 | P13: 1098 | Q13: 134238000 | R13: 301 | S13: 477 | T13: 28521000
A14: 臺中縣 | B14: 6429 | C14: 2921 | D14: 3508 | E14: 381372000 | F14: 0 | G14: 0 | H14: 0 | I14: 41 | J14: 13 | K14: 4374000 | L14: 234 | M14: 84 | N14: 21060000 | O14: 1683 | P14: 2176 | Q14: 269832000 | R14: 963 | S14: 1235 | T14: 86106000
A15: 彰化縣 | B15: 5119 | C15: 2217 | D15: 2902 | E15: 309870000 | F15: 2 | G15: 0 | H15: 144000 | I15: 16 | J15: 14 | K15: 2328000 | L15: 422 | M15: 175 | N15: 44329000 | O15: 1138 | P15: 1616 | Q15: 199231000 | R15: 639 | S15: 1097 | T15: 63838000
A16: 南投縣 | B16: 6000 | C16: 2697 | D16: 3303 | E16: 385809000 | F16: 12 | G16: 0 | H16: 888000 | I16: 56 | J16: 12 | K16: 5064000 | L16: 289 | M16: 154 | N16: 31956000 | O16: 1787 | P16: 2381 | Q16: 300198000 | R16: 553 | S16: 756 | T16: 47703000
A17: 雲林縣 | B17: 5419 | C17: 2434 | D17: 2985 | E17: 360811200 | F17: 0 | G17: 0 | H17: 18000 | I17: 218 | J17: 57 | K17: 21846000 | L17: 72 | M17: 66 | N17: 9928200 | O17: 1729 | P17: 2317 | Q17: 295086000 | R17: 415 | S17: 545 | T17: 33933000
A18: 嘉義縣 | B18: 5781 | C18: 2566 | D18: 3215 | E18: 385044000 | F18: 6 | G18: 2 | H18: 636000 | I18: 49 | J18: 13 | K18: 4578000 | L18: 105 | M18: 25 | N18: 9588000 | O18: 1932 | P18: 2632 | Q18: 333060000 | R18: 474 | S18: 543 | T18: 37182000
A19: 臺南縣 | B19: 5769 | C19: 2619 | D19: 3150 | E19: 384120000 | F19: 9 | G19: 3 | H19: 1074000 | I19: 71 | J19: 13 | K19: 6426000 | L19: 228 | M19: 64 | N19: 20880000 | O19: 1863 | P19: 2629 | Q19: 323568000 | R19: 448 | S19: 441 | T19: 32172000
... A33: 連江縣 | B33: 9 | C33: 5 | D33: 4 | E33: 708000 | F33: 4 | G33: 1 | H33: 444000 | I33: 0 | J33: 0 | K33: 0 | L33: 0 | M33: 1 | N33: 84000 | O33: 1 | P33: 1 | Q33: 144000 | R33: 0 | S33: 1 | T33: 36000
A34: 資料來源：直轄市、縣﹝市﹞政府。

Sheet 98
A1: 1.4-02 中低收入老人生活津貼
A2: 中華民國98年, 2009
A4: 區域別 | B4: 總計 | F4: 低收入戶 | O4: 非低收入戶(未超過最低生活費標準2.5倍者)
B5: 人數(期底數) | E5: 金額(元) | F5: 一款(省)、0類(北)、一類(高) | I5: 二款(省) 、1、2類(北)、二類(高) | L5: 三款(省) 、3、4類(北)、三類(高) | O5: 未超過最低生活費標準1.5倍者 | R5: 最低生活費標準1.5倍以上者
B6: 計 | C6: 男 | D6: 女 | F6: 人數 | H6: 金額(元) | I6: 人數 | K6: 金額(元) | L6: 人數 | N6: 金額(元) | O6: 人數 | Q6: 金額(元) | R6: 人數 | T6: 金額(元)
F7: 男 | G7: 女 | I7: 男 | J7: 女 | L7: 男 | M7: 女 | O7: 男 | P7: 女 | R7: 男 | S7: 女
A8: 98年 ,2009 | B8: 122523 | C8: 56887 | D8: 65636 | E8: 7688978071 | F8: 1457 | G8: 472 | H8: 140182524 | I8: 3197 | J8: 1577 | K8: 341688464 | L8: 4103 | M8: 2370 | N8: 446054640 | O8: 34539 | P8: 46988 | Q8: 5752077595 | R8: 13591 | S8: 14229 | T8: 1008974848
A9: 臺北縣 | B9: 7156 | C9: 3452 | D9: 3704 | E9: 485960627 | F9: 74 | G9: 27 | H9: 7721627 | I9: 294 | J9: 132 | K9: 31896000 | L9: 566 | M9: 382 | N9: 66558000 | O9: 2177 | P9: 2846 | Q9: 356718000 | R9: 341 | S9: 317 | T9: 23067000
A10: 宜蘭縣 | B10: 1775 | C10: 768 | D10: 1007 | E10: 119394000 | F10: 22 | G10: 7 | H10: 2232000 | I10: 157 | J10: 39 | K10: 13638000 | L10: 66 | M10: 25 | N10: 5931000 | O10: 450 | P10: 817 | Q10: 90693000 | R10: 73 | S10: 119 | T10: 6900000
A11: 桃園縣 | B11: 6903 | C11: 3585 | D11: 3318 | E11: 417834000 | F11: 36 | G11: 6 | H11: 3114000 | I11: 115 | J11: 58 | K11: 12348000 | L11: 124 | M11: 77 | N11: 14952000 | O11: 1896 | P11: 2457 | Q11: 311514000 | R11: 1414 | S11: 720 | T11: 75906000
A12: 新竹縣 | B12: 929 | C12: 504 | D12: 425 | E12: 57624000 | F12: 34 | G12: 3 | H12: 2802000 | I12: 53 | J12: 16 | K12: 4668000 | L12: 29 | M12: 13 | N12: 2808000 | O12: 282 | P12: 281 | Q12: 40122000 | R12: 106 | S12: 112 | T12: 7224000
A13: 苗栗縣 | B13: 3170 | C13: 1404 | D13: 1766 | E13: 194019000 | F13: 11 | G13: 1 | H13: 906000 | I13: 139 | J13: 35 | K13: 12426000 | L13: 78 | M13: 63 | N13: 9216000 | O13: 778 | P13: 1064 | Q13: 134196000 | R13: 398 | S13: 603 | T13: 37275000
A14: 臺中縣 | B14: 6855 | C14: 3075 | D14: 3780 | E14: 385488000 | F14: 0 | G14: 0 | H14: 12000 | I14: 52 | J14: 18 | K14: 5046000 | L14: 205 | M14: 82 | N14: 20280000 | O14: 1553 | P14: 1991 | Q14: 252381000 | R14: 1265 | S14: 1689 | T14: 107769000
A15: 彰化縣 | B15: 5332 | C15: 2305 | D15: 3027 | E15: 272038000 | F15: 2 | G15: 0 | H15: 144000 | I15: 25 | J15: 14 | K15: 2856000 | L15: 421 | M15: 193 | N15: 43793000 | O15: 379 | P15: 462 | Q15: 56506000 | R15: 1478 | S15: 2358 | T15: 168739000
A16: 南投縣 | B16: 6453 | C16: 2885 | D16: 3568 | E16: 426114000 | F16: 13 | G16: 0 | H16: 972000 | I16: 62 | J16: 14 | K16: 5736000 | L16: 283 | M16: 173 | N16: 32460000 | O16: 2006 | P16: 2716 | Q16: 343590000 | R16: 521 | S16: 665 | T16: 43356000
A17: 雲林縣 | B17: 5782 | C17: 2597 | D17: 3185 | E17: 381765000 | F17: 6 | G17: 3 | H17: 606000 | I17: 224 | J17: 67 | K17: 21690000 | L17: 74 | M17: 73 | N17: 11034000 | O17: 1875 | P17: 2520 | Q17: 313986000 | R17: 418 | S17: 522 | T17: 34449000
A18: 嘉義縣 | B18: 6124 | C18: 2738 | D18: 3386 | E18: 410286000 | F18: 6 | G18: 2 | H18: 696000 | I18: 55 | J18: 12 | K18: 4902000 | L18: 111 | M18: 32 | N18: 10275000 | O18: 2108 | P18: 2839 | Q18: 359673000 | R18: 458 | S18: 501 | T18: 34740000
A19: 臺南縣 | B19: 5893 | C19: 2681 | D19: 3212 | E19: 395184000 | F19: 16 | G19: 3 | H19: 1446000 | I19: 75 | J19: 15 | K19: 6732000 | L19: 220 | M19: 62 | N19: 20256000 | O19: 1927 | P19: 2687 | Q19: 333930000 | R19: 443 | S19: 445 | T19: 32820000
... A33: 連江縣 | B33: 15 | C33: 7 | D33: 8 | E33: 1158000 | F33: 5 | G33: 2 | H33: 528000 | I33: 0 | J33: 0 | K33: 0 | L33: 1 | M33: 1 | N33: 144000 | O33: 0 | P33: 4 | Q33: 402000 | R33: 1 | S33: 1 | T33: 84000
A34: 資料來源：直轄市、縣﹝市﹞政府。

Sheet 97
A1: 1.4-02 中低收入老人生活津貼
A2: 中華民國97年, 2008
A4: 區域別 | B4: 總計 | F4: 低收入戶 | O4: 非低收入戶(未超過最低生活費標準2.5倍者)
B5: 人數(期底數) | E5: 金額(元) | F5: 一款(省)、0類(北)、一類(高) | I5: 二款(省) 、1、2類(北)、二類(高) | L5: 三款(省) 、3、4類(北)、三類(高) | O5: 未超過最低生活費標準1.5倍者 | R5: 最低生活費標準1.5倍以上者
B6: 計 | C6: 男 | D6: 女 | F6: 人數 | H6: 金額(元) | I6: 人數 | K6: 金額(元) | L6: 人數 | N6: 金額(元) | O6: 人數 | Q6: 金額(元) | R6: 人數 | T6: 金額(元)
F7: 男 | G7: 女 | I7: 男 | J7: 女 | L7: 男 | M7: 女 | O7: 男 | P7: 女 | R7: 男 | S7: 女
A8: 97年 ,2008 | B8: 125951 | C8: 58409 | D8: 67542 | E8: 7858750353 | F8: 1459 | G8: 521 | H8: 144334275 | I8: 3070 | J8: 1653 | K8: 337148964 | L8: 4003 | M8: 2432 | N8: 438992253 | O8: 35435 | P8: 47697 | Q8: 5892963191 | R8: 14442 | S8: 15239 | T8: 1045311670
A9: 臺北縣 | B9: 6831 | C9: 3292 | D9: 3539 | E9: 462048000 | F9: 71 | G9: 36 | H9: 8040000 | I9: 251 | J9: 132 | K9: 28092000 | L9: 576 | M9: 365 | N9: 65088000 | O9: 2040 | P9: 2638 | Q9: 335568000 | R9: 354 | S9: 368 | T9: 25260000
A10: 宜蘭縣 | B10: 1802 | C10: 802 | D10: 1000 | E10: 125793000 | F10: 18 | G10: 9 | H10: 2076000 | I10: 98 | J10: 34 | K10: 8865000 | L10: 125 | M10: 42 | N10: 12168000 | O10: 531 | P10: 866 | Q10: 99798000 | R10: 30 | S10: 49 | T10: 2886000
A11: 桃園縣 | B11: 6936 | C11: 3577 | D11: 3359 | E11: 417066000 | F11: 37 | G11: 10 | H11: 3498000 | I11: 120 | J11: 89 | K11: 15684000 | L11: 120 | M11: 91 | N11: 14214000 | O11: 1929 | P11: 2442 | Q11: 310272000 | R11: 1371 | S11: 727 | T11: 73398000
A12: 新竹縣 | B12: 952 | C12: 519 | D12: 433 | E12: 62355000 | F12: 35 | G12: 5 | H12: 2952000 | I12: 49 | J12: 12 | K12: 4152000 | L12: 22 | M12: 6 | N12: 1650000 | O12: 315 | P12: 328 | Q12: 46950000 | R12: 98 | S12: 82 | T12: 6651000
A13: 苗栗縣 | B13: 3428 | C13: 1519 | D13: 1909 | E13: 209424000 | F13: 12 | G13: 1 | H13: 912000 | I13: 133 | J13: 35 | K13: 11664000 | L13: 60 | M13: 62 | N13: 8694000 | O13: 881 | P13: 1147 | Q13: 147225000 | R13: 433 | S13: 664 | T13: 40929000
A14: 臺中縣 | B14: 6987 | C14: 3166 | D14: 3821 | E14: 390237000 | F14: 1 | G14: 0 | H14: 90000 | I14: 52 | J14: 16 | K14: 4476000 | L14: 215 | M14: 113 | N14: 18438000 | O14: 1585 | P14: 1938 | Q14: 263493000 | R14: 1313 | S14: 1754 | T14: 103740000
A15: 彰化縣 | B15: 6087 | C15: 2581 | D15: 3506 | E15: 272572400 | F15: 2 | G15: 0 | H15: 180000 | I15: 29 | J15: 20 | K15: 3852000 | L15: 422 | M15: 235 | N15: 48214400 | O15: 279 | P15: 308 | Q15: 41067000 | R15: 1849 | S15: 2943 | T15: 179259000
A16: 南投縣 | B16: 6617 | C16: 2992 | D16: 3625 | E16: 429456000 | F16: 13 | G16: 1 | H16: 1044000 | I16: 73 | J16: 18 | K16: 6780000 | L16: 287 | M16: 177 | N16: 32010000 | O16: 2083 | P16: 2712 | Q16: 342762000 | R16: 536 | S16: 717 | T16: 46860000
A17: 雲林縣 | B17: 6164 | C17: 2744 | D17: 3420 | E17: 423126000 | F17: 12 | G17: 8 | H17: 1632000 | I17: 214 | J17: 78 | K17: 22194000 | L17: 52 | M17: 65 | N17: 9396000 | O17: 2062 | P17: 2837 | Q17: 359406000 | R17: 404 | S17: 432 | T17: 30498000
A18: 嘉義縣 | B18: 6481 | C18: 2891 | D18: 3590 | E18: 444036000 | F18: 8 | G18: 2 | H18: 774000 | I18: 55 | J18: 13 | K18: 4908000 | L18: 118 | M18: 33 | N18: 10944000 | O18: 2277 | P18: 3059 | Q18: 394215000 | R18: 433 | S18: 483 | T18: 33195000
A19: 臺南縣 | B19: 6058 | C19: 2758 | D19: 3300 | E19: 409806000 | F19: 18 | G19: 4 | H19: 1674000 | I19: 80 | J19: 18 | K19: 7416000 | L19: 203 | M19: 59 | N19: 19044000 | O19: 2063 | P19: 2818 | Q19: 352464000 | R19: 394 | S19: 401 | T19: 29208000
... A33: 連江縣 | B33: 19 | C33: 9 | D33: 10 | E33: 1284000 | F33: 5 | G33: 3 | H33: 636000 | I33: 0 | J33: 0 | K33: 0 | L33: 1 | M33: 1 | N33: 144000 | O33: 1 | P33: 4 | Q33: 360000 | R33: 2 | S33: 2 | T33: 144000
A34: 資料來源：直轄市、縣﹝市﹞政府。

Sheet 96
A1: 1.4-02 中低收入老人生活津貼
A2: 民國96年 , 2007
A4: 區域別 | B4: 總計 | F4: 低收入戶 | O4: 非低收入戶(未超過最低生活費標準2.5倍者)
B5: 人數(期底數) | E5: 金額(元) | F5: 一款(省)、0類(北)、一類(高) | I5: 二款(省) 、1、2類(北)、二類(高) | L5: 三款(省) 、3、4類(北)、三類(高) | O5: 未超過最低生活費標準1.5倍者 | R5: 最低生活費標準1.5倍以上者
B6: 計 | C6: 男 | D6: 女 | F6: 人數 | H6: 金額(元) | I6: 人數 | K6: 金額(元) | L6: 人數 | N6: 金額(元) | O6: 人數 | Q6: 金額(元) | R6: 人數 | T6: 金額(元)
F7: 男 | G7: 女 | I7: 男 | J7: 女 | L7: 男 | M7: 女 | O7: 男 | P7: 女 | R7: 男 | S7: 女
A8: 96年 ,2007 | B8: 134644 | C8: 62634 | D8: 72010 | E8: 8466957511 | F8: 1493 | G8: 592 | H8: 152743275 | I8: 3023 | J8: 1879 | K8: 353604106 | L8: 4071 | M8: 2840 | N8: 483101758 | O8: 38016 | P8: 50518 | Q8: 6347244199 | R8: 16031 | S8: 16181 | T8: 1130264173
A9: 臺北縣 | B9: 6891 | C9: 3303 | D9: 3588 | E9: 469833000 | F9: 71 | G9: 39 | H9: 8130000 | I9: 236 | J9: 175 | K9: 31389000 | L9: 625 | M9: 541 | N9: 83376000 | O9: 2015 | P9: 2451 | Q9: 320712000 | R9: 356 | S9: 382 | T9: 26226000
A10: 宜蘭縣 | B10: 1740 | C10: 901 | D10: 839 | E10: 122121000 | F10: 27 | G10: 8 | H10: 2634000 | I10: 92 | J10: 33 | K10: 9182000 | L10: 123 | M10: 37 | N10: 11419000 | O10: 623 | P10: 718 | Q10: 95964000 | R10: 36 | S10: 43 | T10: 2922000
A11: 桃園縣 | B11: 7085 | C11: 3629 | D11: 3456 | E11: 442482000 | F11: 38 | G11: 12 | H11: 3804000 | I11: 137 | J11: 93 | K11: 16530000 | L11: 103 | M11: 86 | N11: 13578000 | O11: 2068 | P11: 2620 | Q11: 339672000 | R11: 1283 | S11: 645 | T11: 68898000
A12: 新竹縣 | B12: 941 | C12: 514 | D12: 427 | E12: 60033000 | F12: 36 | G12: 5 | H12: 3234000 | I12: 48 | J12: 11 | K12: 4098000 | L12: 10 | M12: 9 | N12: 1326000 | O12: 321 | P12: 314 | Q12: 44280000 | R12: 99 | S12: 88 | T12: 7095000
A13: 苗栗縣 | B13: 3871 | C13: 1706 | D13: 2165 | E13: 237528000 | F13: 1 | G13: 1 | H13: 84000 | I13: 100 | J13: 39 | K13: 10095000 | L13: 136 | M13: 93 | N13: 16152000 | O13: 943 | P13: 1287 | Q13: 164406000 | R13: 526 | S13: 745 | T13: 46791000
A14: 臺中縣 | B14: 7884 | C14: 3707 | D14: 4177 | E14: 456183000 | F14: 1 | G14: 1 | H14: 144000 | I14: 19 | J14: 18 | K14: 2364000 | L14: 133 | M14: 148 | N14: 19482000 | O14: 1986 | P14: 2242 | Q14: 310134000 | R14: 1568 | S14: 1768 | T14: 124059000
A15: 彰化縣 | B15: 6439 | C15: 2742 | D15: 3697 | E15: 284432000 | F15: 3 | G15: 0 | H15: 216000 | I15: 44 | J15: 29 | K15: 5190000 | L15: 432 | M15: 286 | N15: 51731000 | O15: 256 | P15: 258 | Q15: 36567000 | R15: 2007 | S15: 3124 | T15: 190728000
A16: 南投縣 | B16: 7321 | C16: 3287 | D16: 4034 | E16: 492732000 | F16: 13 | G16: 2 | H16: 1236000 | I16: 82 | J16: 20 | K16: 7728000 | L16: 279 | M16: 170 | N16: 32706000 | O16: 2368 | P16: 3163 | Q16: 406590000 | R16: 545 | S16: 679 | T16: 44472000
A17: 雲林縣 | B17: 6222 | C17: 2688 | D17: 3534 | E17: 428869800 | F17: 19 | G17: 19 | H17: 2632800 | I17: 203 | J17: 159 | K17: 27528000 | L17: 102 | M17: 105 | N17: 15828000 | O17: 1956 | P17: 2786 | Q17: 349752000 | R17: 408 | S17: 465 | T17: 33129000
A18: 嘉義縣 | B18: 7597 | C18: 3397 | D18: 4200 | E18: 535563000 | F18: 10 | G18: 4 | H18: 1056000 | I18: 61 | J18: 18 | K18: 5958000 | L18: 119 | M18: 33 | N18: 10932000 | O18: 2766 | P18: 3618 | Q18: 481281000 | R18: 441 | S18: 527 | T18: 36336000
A19: 臺南縣 | B19: 6629 | C19: 3015 | D19: 3614 | E19: 453618000 | F19: 21 | G19: 6 | H19: 1938000 | I19: 88 | J19: 20 | K19: 8100000 | L19: 197 | M19: 54 | N19: 17892000 | O19: 2318 | P19: 3119 | Q19: 395730000 | R19: 391 | S19: 415 | T19: 29958000
... A33: 連江縣 | B33: 20 | C33: 9 | D33: 11 | E33: 1446000 | F33: 6 | G33: 5 | H33: 852000 | I33: 0 | J33: 0 | K33: 0 | L33: 0 | M33: 0 | N33: 0 | O33: 3 | P33: 5 | Q33: 558000 | R33: 0 | S33: 1 | T33: 36000
A34: 資料來源：直轄市、縣﹝市﹞政府。

Sheet 95
A1: 1.4-02 中低收入老人生活津貼
A2: 民國95年 , 2006
A4: 區域別 | B4: 總計 | F4: 低收入戶 | O4: 非低收入戶(未超過最低生活費標準2.5倍者)
B5: 人數(期底數) | E5: 金額(元) | F5: 一款(省)、0類(北)、一類(高) | I5: 二款(省) 、1、2類(北)、二類(高) | L5: 三款(省) 、3、4類(北)、三類(高) | O5: 未超過最低生活費標準1.5倍者 | R5: 最低生活費標準1.5倍以上者
B6: 計 | C6: 男 | D6: 女 | F6: 人數 | H6: 金額(元) | I6: 人數 | K6: 金額(元) | L6: 人數 | N6: 金額(元) | O6: 人數 | Q6: 金額(元) | R6: 人數 | T6: 金額(元)
F7: 男 | G7: 女 | I7: 男 | J7: 女 | L7: 男 | M7: 女 | O7: 男 | P7: 女 | R7: 男 | S7: 女
A8: 95年 ,2006 | B8: 140544 | C8: 65844 | D8: 74700 | E8: 8673015499 | F8: 1439 | G8: 671 | H8: 155573970 | I8: 3066 | J8: 2243 | K8: 383941450 | L8: 4286 | M8: 3146 | N8: 515309863 | O8: 38946 | P8: 50469 | Q8: 6277025453 | R8: 18107 | S8: 18171 | T8: 1341164763
A9: 臺北縣 | B9: 7119 | C9: 3439 | D9: 3680 | E9: 476037000 | F9: 82 | G9: 34 | H9: 8772000 | I9: 270 | J9: 254 | K9: 38688000 | L9: 628 | M9: 532 | N9: 81288000 | O9: 1971 | P9: 2324 | Q9: 310446000 | R9: 488 | S9: 536 | T9: 36843000
A10: 宜蘭縣 | B10: 1772 | C10: 911 | D10: 861 | E10: 126149000 | F10: 22 | G10: 6 | H10: 2136000 | I10: 83 | J10: 33 | K10: 8246000 | L10: 132 | M10: 50 | N10: 13260000 | O10: 625 | P10: 725 | Q10: 98652000 | R10: 49 | S10: 47 | T10: 3855000
A11: 桃園縣 | B11: 7385 | C11: 3768 | D11: 3617 | E11: 454998000 | F11: 41 | G11: 12 | H11: 4146000 | I11: 130 | J11: 97 | K11: 16032000 | L11: 110 | M11: 88 | N11: 13758000 | O11: 2118 | P11: 2666 | Q11: 344910000 | R11: 1369 | S11: 754 | T11: 76152000
A12: 新竹縣 | B12: 1222 | C12: 723 | D12: 499 | E12: 76896000 | F12: 28 | G12: 5 | H12: 2490000 | I12: 36 | J12: 48 | K12: 6078000 | L12: 23 | M12: 12 | N12: 2466000 | O12: 427 | P12: 308 | Q12: 53856000 | R12: 209 | S12: 126 | T12: 12006000
A13: 苗栗縣 | B13: 4412 | C13: 1982 | D13: 2430 | E13: 272916000 | F13: 1 | G13: 0 | H13: 72000 | I13: 121 | J13: 41 | K13: 11898000 | L13: 129 | M13: 85 | N13: 13578000 | O13: 1191 | P13: 1585 | Q13: 201162000 | R13: 540 | S13: 719 | T13: 46206000
A14: 臺中縣 | B14: 8072 | C14: 3792 | D14: 4280 | E14: 447969000 | F14: 1 | G14: 1 | H14: 210000 | I14: 12 | J14: 14 | K14: 2394000 | L14: 108 | M14: 123 | N14: 19230000 | O14: 2015 | P14: 2274 | Q14: 250068000 | R14: 1656 | S14: 1868 | T14: 176067000
A15: 彰化縣 | B15: 7067 | C15: 2981 | D15: 4086 | E15: 309823000 | F15: 3 | G15: 1 | H15: 288000 | I15: 42 | J15: 31 | K15: 5433000 | L15: 404 | M15: 280 | N15: 48556000 | O15: 243 | P15: 265 | Q15: 37326000 | R15: 2289 | S15: 3509 | T15: 218220000
A16: 南投縣 | B16: 7561 | C16: 3434 | D16: 4127 | E16: 489828000 | F16: 15 | G16: 4 | H16: 1422000 | I16: 98 | J16: 57 | K16: 12084000 | L16: 316 | M16: 250 | N16: 39060000 | O16: 2425 | P16: 3080 | Q16: 388566000 | R16: 580 | S16: 736 | T16: 48696000
A17: 雲林縣 | B17: 6619 | C17: 2933 | D17: 3686 | E17: 448536000 | F17: 16 | G17: 13 | H17: 2376000 | I17: 196 | J17: 156 | K17: 26220000 | L17: 98 | M17: 93 | N17: 14652000 | O17: 2151 | P17: 2887 | Q17: 367536000 | R17: 472 | S17: 537 | T17: 37752000
A18: 嘉義縣 | B18: 8364 | C18: 3724 | D18: 4640 | E18: 561897000 | F18: 11 | G18: 8 | H18: 1470000 | I18: 74 | J18: 49 | K18: 9186000 | L18: 161 | M18: 84 | N18: 17664000 | O18: 2958 | P18: 3885 | Q18: 491718000 | R18: 520 | S18: 614 | T18: 41859000
A19: 臺南縣 | B19: 6887 | C19: 3122 | D19: 3765 | E19: 457554000 | F19: 20 | G19: 7 | H19: 2010000 | I19: 115 | J19: 73 | K19: 13866000 | L19: 216 | M19: 103 | N19: 22962000 | O19: 2298 | P19: 3040 | Q19: 381726000 | R19: 473 | S19: 542 | T19: 36990000
... A33: 連江縣 | B33: 25 | C33: 12 | D33: 13 | E33: 1839000 | F33: 8 | G33: 7 | H33: 1008000 | I33: 0 | J33: 0 | K33: 72000 | L33: 0 | M33: 0 | N33: 0 | O33: 4 | P33: 5 | Q33: 714000 | R33: 0 | S33: 1 | T33: 45000
A34: 資料來源：直轄市、縣﹝市﹞政府。

Sheet 94
A1: 1.4-02 中低收入老人生活津貼
A2: 民國94年 , 2005
A4: 區域別 | B4: 總計 | F4: 低收入戶 | O4: 非低收入戶(未超過最低生活費標準2.5倍者)
B5: 人數(期底數) | E5: 金額(元) | F5: 一款(省)、0類(北)、一類(高) | I5: 二款(省) 、1、2類(北)、二類(高) | L5: 三款(省) 、3、4類(北)、三類(高) | O5: 未超過最低生活費標準1.5倍者 | R5: 最低生活費標準1.5倍以上者
B6: 計 | C6: 男 | D6: 女 | F6: 人數 | H6: 金額(元) | I6: 人數 | K6: 金額(元) | L6: 人數 | N6: 金額(元) | O6: 人數 | Q6: 金額(元) | R6: 人數 | T6: 金額(元)
F7: 男 | G7: 女 | I7: 男 | J7: 女 | L7: 男 | M7: 女 | O7: 男 | P7: 女 | R7: 男 | S7: 女
A8: 94年 ,2005 | B8: 148118 | C8: 70972 | D8: 77146 | E8: 8929514079 | F8: 1499 | G8: 736 | H8: 162400260 | I8: 3192 | J8: 2324 | K8: 399788006 | L8: 4277 | M8: 3344 | N8: 531451340 | O8: 40720 | P8: 48400 | Q8: 6267915741 | R8: 21284 | S8: 22342 | T8: 1567958732
A9: 臺北縣 | B9: 8282 | C9: 3867 | D9: 4415 | E9: 543432000 | F9: 106 | G9: 67 | H9: 12882000 | I9: 270 | J9: 277 | K9: 40176000 | L9: 530 | M9: 596 | N9: 80208000 | O9: 2264 | P9: 2736 | Q9: 358404000 | R9: 697 | S9: 739 | T9: 51762000
A10: 宜蘭縣 | B10: 1819 | C10: 940 | D10: 879 | E10: 127347000 | F10: 23 | G10: 6 | H10: 2196000 | I10: 77 | J10: 44 | K10: 8682000 | L10: 166 | M10: 87 | N10: 18252000 | O10: 616 | P10: 685 | Q10: 93990000 | R10: 58 | S10: 57 | T10: 4227000
A11: 桃園縣 | B11: 7619 | C11: 3717 | D11: 3902 | E11: 469032000 | F11: 44 | G11: 21 | H11: 4800000 | I11: 125 | J11: 86 | K11: 14928000 | L11: 118 | M11: 89 | N11: 14970000 | O11: 2175 | P11: 2776 | Q11: 356064000 | R11: 1255 | S11: 930 | T11: 78270000
A12: 新竹縣 | B12: 1184 | C12: 713 | D12: 471 | E12: 69540000 | F12: 43 | G12: 8 | H12: 3504000 | I12: 67 | J12: 32 | K12: 6798000 | L12: 25 | M12: 16 | N12: 2652000 | O12: 396 | P12: 294 | Q12: 46428000 | R12: 182 | S12: 121 | T12: 10158000
A13: 苗栗縣 | B13: 4833 | C13: 2237 | D13: 2596 | E13: 276386000 | F13: 1 | G13: 0 | H13: 72000 | I13: 118 | J13: 43 | K13: 10542000 | L13: 116 | M13: 70 | N13: 13610000 | O13: 1071 | P13: 1295 | Q13: 172920000 | R13: 931 | S13: 1188 | T13: 79242000
A14: 臺中縣 | B14: 9371 | C14: 4676 | D14: 4695 | E14: 456483000 | F14: 1 | G14: 2 | H14: 204000 | I14: 20 | J14: 22 | K14: 3162000 | L14: 131 | M14: 133 | N14: 18516000 | O14: 1314 | P14: 1326 | Q14: 192282000 | R14: 3210 | S14: 3212 | T14: 242319000
A15: 彰化縣 | B15: 7569 | C15: 3197 | D15: 4372 | E15: 322564000 | F15: 3 | G15: 1 | H15: 312000 | I15: 45 | J15: 33 | K15: 5664000 | L15: 377 | M15: 264 | N15: 44686000 | O15: 250 | P15: 270 | Q15: 38136000 | R15: 2522 | S15: 3804 | T15: 233766000
A16: 南投縣 | B16: 8357 | C16: 3858 | D16: 4499 | E16: 542691000 | F16: 24 | G16: 9 | H16: 2454000 | I16: 131 | J16: 81 | K16: 15690000 | L16: 271 | M16: 219 | N16: 35418000 | O16: 2673 | P16: 3313 | Q16: 428946000 | R16: 759 | S16: 877 | T16: 60183000
A17: 雲林縣 | B17: 6779 | C17: 2994 | D17: 3785 | E17: 450975000 | F17: 16 | G17: 12 | H17: 2298000 | I17: 190 | J17: 147 | K17: 24750000 | L17: 88 | M17: 104 | N17: 14964000 | O17: 2212 | P17: 2876 | Q17: 365502000 | R17: 488 | S17: 646 | T17: 43461000
A18: 嘉義縣 | B18: 8741 | C18: 3883 | D18: 4858 | E18: 574578000 | F18: 13 | G18: 8 | H18: 1626000 | I18: 75 | J18: 54 | K18: 9858000 | L18: 160 | M18: 88 | N18: 18054000 | O18: 3035 | P18: 3962 | Q18: 496020000 | R18: 600 | S18: 746 | T18: 49020000
A19: 臺南縣 | B19: 6955 | C19: 3139 | D19: 3816 | E19: 452943000 | F19: 24 | G19: 7 | H19: 2334000 | I19: 120 | J19: 84 | K19: 15678000 | L19: 185 | M19: 101 | N19: 20328000 | O19: 2217 | P19: 2859 | Q19: 364272000 | R19: 593 | S19: 765 | T19: 50331000
... A33: 連江縣 | B33: 29 | C33: 13 | D33: 16 | E33: 2016000 | F33: 8 | G33: 5 | H33: 978000 | I33: 1 | J33: 2 | K33: 216000 | L33: 0 | M33: 0 | N33: 0 | O33: 2 | P33: 7 | Q33: 648000 | R33: 2 | S33: 2 | T33: 174000
A34: 資料來源：直轄市、縣﹝市﹞政府。

Sheet 93
A1: 1.4-02 中低收入老人生活津貼
A2: 民國93年 , 2004
A4: 區域別 | B4: 總計 | F4: 低收入戶 | O4: 非低收入戶(未超過最低生活費標準2.5倍者)
B5: 人數(期底數) | E5: 金額(元) | F5: 一款(省)、0類(北)、一類(高) | I5: 二款(省) 、1、2類(北)、二類(高) | L5: 三款(省) 、3、4類(北)、三類(高) | O5: 未超過最低生活費標準1.5倍者 | R5: 最低生活費標準1.5倍以上者
B6: 計 | C6: 男 | D6: 女 | F6: 人數 | H6: 金額(元) | I6: 人數 | K6: 金額(元) | L6: 人數 | N6: 金額(元) | O6: 人數 | Q6: 金額(元) | R6: 人數 | T6: 金額(元)
F7: 男 | G7: 女 | I7: 男 | J7: 女 | L7: 男 | M7: 女 | O7: 男 | P7: 女 | R7: 男 | S7: 女
A8: 93年 ,2004 | B8: 156446 | C8: 75185 | D8: 81261 | E8: 9259999345 | F8: 1432 | G8: 718 | H8: 159927299 | I8: 3485 | J8: 2559 | K8: 444893703 | L8: 4211 | M8: 3248 | N8: 522759023 | O8: 40419 | P8: 46645 | Q8: 6151873130 | R8: 25638 | S8: 28091 | T8: 1980546190 | W8: 1729686
A9: 臺北縣 | B9: 9135 | C9: 4336 | D9: 4799 | E9: 587070000 | F9: 90 | G9: 59 | H9: 11370000 | I9: 309 | J9: 285 | K9: 44118000 | L9: 601 | M9: 517 | N9: 80148000 | O9: 2361 | P9: 2823 | Q9: 374532000 | R9: 975 | S9: 1115 | T9: 76902000 | U9: =B9-F9-I9-L9-O9-R9 -> 4799 | V9: =E9-H9-K9-N9-Q9-T9 -> 0 | W9: 53365
A10: 宜蘭縣 | B10: 1876 | C10: 947 | D10: 929 | E10: 130016000 | F10: 25 | G10: 9 | H10: 2520000 | I10: 80 | J10: 39 | K10: 8946000 | L10: 141 | M10: 86 | N10: 16242000 | O10: 596 | P10: 667 | Q10: 93371000 | R10: 105 | S10: 128 | T10: 8937000 | U10: =B10-F10-I10-L10-O10-R10 -> 929 | V10: =E10-H10-K10-N10-Q10-T10 -> 0 | W10: 141167
A11: 桃園縣 | B11: 8145 | C11: 3931 | D11: 4214 | E11: 493827000 | F11: 55 | G11: 25 | H11: 5898000 | I11: 145 | J11: 115 | K11: 18978000 | L11: 120 | M11: 102 | N11: 15180000 | O11: 2193 | P11: 2633 | Q11: 358236000 | R11: 1418 | S11: 1339 | T11: 95535000 | U11: =B11-F11-I11-L11-O11-R11 -> 4214 | V11: =E11-H11-K11-N11-Q11-T11 -> 0 | W11: 49453
A12: 新竹縣 | B12: 1366 | C12: 807 | D12: 559 | E12: 81174000 | F12: 40 | G12: 16 | H12: 4128000 | I12: 87 | J12: 31 | K12: 8466000 | L12: 23 | M12: 19 | N12: 2874000 | O12: 418 | P12: 295 | Q12: 50094000 | R12: 239 | S12: 198 | T12: 15612000 | U12: =B12-F12-I12-L12-O12-R12 -> 559 | V12: =E12-H12-K12-N12-Q12-T12 -> 0 | W12: 68335
A13: 苗栗縣 | B13: 5121 | C13: 2373 | D13: 2748 | E13: 290829000 | F13: 7 | G13: 2 | H13: 696000 | I13: 98 | J13: 30 | K13: 9462000 | L13: 129 | M13: 74 | N13: 13698000 | O13: 1120 | P13: 1347 | Q13: 178992000 | R13: 1019 | S13: 1295 | T13: 87981000 | U13: =B13-F13-I13-L13-O13-R13 -> 2748 | V13: =E13-H13-K13-N13-Q13-T13 -> 0 | W13: 120593
A14: 臺中縣 | B14: 10064 | C14: 5041 | D14: 5023 | E14: 481560000 | F14: 1 | G14: 1 | H14: 144000 | I14: 23 | J14: 27 | K14: 3504000 | L14: 120 | M14: 116 | N14: 16656000 | O14: 1367 | P14: 1362 | Q14: 201768000 | R14: 3530 | S14: 3517 | T14: 259488000 | U14: =B14-F14-I14-L14-O14-R14 -> 5023 | V14: =E14-H14-K14-N14-Q14-T14 -> 0 | W14: 140273
A15: 彰化縣 | B15: 8443 | C15: 3540 | D15: 4903 | E15: 368645000 | F15: 3 | G15: 2 | H15: 390000 | I15: 59 | J15: 44 | K15: 7773000 | L15: 317 | M15: 225 | N15: 39213000 | O15: 310 | P15: 359 | Q15: 50331000 | R15: 2851 | S15: 4273 | T15: 270938000 | U15: =B15-F15-I15-L15-O15-R15 -> 4903 | V15: =E15-H15-K15-N15-Q15-T15 -> 0 | W15: 64421
A16: 南投縣 | B16: 8373 | C16: 3898 | D16: 4475 | E16: 541428000 | F16: 29 | G16: 8 | H16: 2910000 | I16: 136 | J16: 90 | K16: 16980000 | L16: 273 | M16: 218 | N16: 35916000 | O16: 2637 | P16: 3221 | Q16: 420606000 | R16: 823 | S16: 938 | T16: 65016000 | U16: =B16-F16-I16-L16-O16-R16 -> 4475 | V16: =E16-H16-K16-N16-Q16-T16 -> 0 | W16: 97680
A17: 雲林縣 | B17: 7760 | C17: 3481 | D17: 4279 | E17: 530235000 | F17: 18 | G17: 16 | H17: 2964000 | I17: 180 | J17: 144 | K17: 26574000 | L17: 105 | M17: 107 | N17: 18150000 | O17: 2485 | P17: 3123 | Q17: 417540000 | R17: 693 | S17: 889 | T17: 65007000 | U17: =B17-F17-I17-L17-O17-R17 -> 4279 | V17: =E17-H17-K17-N17-Q17-T17 -> 0 | W17: 77970
A18: 嘉義縣 | B18: 9014 | C18: 4044 | D18: 4970 | E18: 589938000 | F18: 13 | G18: 9 | H18: 1704000 | I18: 79 | J18: 53 | K18: 10068000 | L18: 163 | M18: 81 | N18: 17622000 | O18: 3066 | P18: 3922 | Q18: 498894000 | R18: 723 | S18: 905 | T18: 61650000 | U18: =B18-F18-I18-L18-O18-R18 -> 4970 | V18: =E18-H18-K18-N18-Q18-T18 -> 0 | W18: 130720
A19: 臺南縣 | B19: 7239 | C19: 3270 | D19: 3969 | E19: 459237000 | F19: 29 | G19: 8 | H19: 2934000 | I19: 150 | J19: 113 | K19: 19908000 | L19: 155 | M19: 88 | N19: 17172000 | O19: 2128 | P19: 2754 | Q19: 350484000 | R19: 808 | S19: 1006 | T19: 68739000 | U19: =B19-F19-I19-L19-O19-R19 -> 3969 | V19: =E19-H19-K19-N19-Q19-T19 -> 0 | W19: 113467
A20: 高雄縣 | B20: 10786 | C20: 4838 | D20: 5948 | E20: 698556000 | F20: 41 | G20: 16 | H20: 5454000 | I20: 176 | J20: 94 | K20: 20934000 | L20: 175 | M20: 91 | N20: 18966000 | O20: 3386 | P20: 4436 | Q20: 562296000 | R20: 1060 | S20: 1311 | T20: 90906000 | U20: =B20-F20-I20-L20-O20-R20 -> 5948 | V20: =E20-H20-K20-N20-Q20-T20 -> 0 | W20: 100200
A21: 屏東縣 | B21: 7481 | C21: 3324 | D21: 4157 | E21: 430189000 | F21: 53 | G21: 26 | H21: 7158000 | I21: 213 | J21: 121 | K21: 26166000 | L21: 303 | M21: 200 | N21: 38979000 | O21: 1316 | P21: 1829 | Q21: 220639000 | R21: 1439 | S21: 1981 | T21: 137247000 | U21: =B21-F21-I21-L21-O21-R21 -> 4157 | V21: =E21-H21-K21-N21-Q21-T21 -> 0 | W21: 28858
A22: 臺東縣 | B22: 1836 | C22: 849 | D22: 987 | E22: 101592000 | F22: 74 | G22: 67 | H22: 10176000 | I22: 155 | J22: 169 | K22: 22152000 | L22: 147 | M22: 188 | N22: 21960000 | R22: 473 | S22: 563 | T22: 47304000 | U22: =B22-F22-I22-L22-O22-R22 -> 987 | V22: =E22-H22-K22-N22-Q22-T22 -> 0 | W22: 39831
A23: 花蓮縣 | B23: 4226 | C23: 1975 | D23: 2251 | E23: 209567000 | F23: 9 | G23: 8 | H23: 1434000 | I23: 79 | J23: 78 | K23: 11382000 | L23: 230 | M23: 238 | N23: 34272000 | O23: 374 | P23: 493 | Q23: 56192000 | R23: 1283 | S23: 1434 | T23: 106287000 | U23: =B23-F23-I23-L23-O23-R23 -> 2251 | V23: =E23-H23-K23-N23-Q23-T23 -> 0 | W23: 13568
A24: 澎湖縣 | B24: 1735 | C24: 746 | D24: 989 | E24: 119067000 | F24: 74 | G24: 90 | H24: 11952000 | I24: 37 | J24: 25 | K24: 4374000 | L24: 18 | M24: 23 | N24: 2784000 | O24: 541 | P24: 758 | Q24: 92658000 | R24: 76 | S24: 93 | T24: 7299000 | U24: =B24-F24-I24-L24-O24-R24 -> 989 | V24: =E24-H24-K24-N24-Q24-T24 -> 0 | W24: 38105
A25: 基隆市 | B25: 5434 | C25: 2268 | D25: 3166 | E25: 289983000 | F25: 4 | G25: 1 | H25: 384000 | I25: 98 | J25: 104 | K25: 14598000 | L25: 57 | M25: 49 | N25: 8148000 | O25: 809 | P25: 1374 | Q25: 158664000 | R25: 1300 | S25: 1638 | T25: 108189000 | U25: =B25-F25-I25-L25-O25-R25 -> 3166 | V25: =E25-H25-K25-N25-Q25-T25 -> 0 | W25: 34096
A26: 新竹市 | B26: 1667 | C26: 707 | D26: 960 | E26: 100548000 | F26: 11 | G26: 5 | H26: 1152000 | I26: 49 | J26: 35 | K26: 6054000 | L26: 38 | M26: 41 | N26: 5454000 | O26: 350 | P26: 549 | Q26: 66021000 | R26: 259 | S26: 330 | T26: 21867000 | U26: =B26-F26-I26-L26-O26-R26 -> 960 | V26: =E26-H26-K26-N26-Q26-T26 -> 0 | W26: 73058
A27: 臺中市 | B27: 4531 | C27: 1895 | D27: 2636 | E27: 247446000 | F27: 40 | G27: 22 | H27: 4122000 | I27: 41 | J27: 22 | K27: 4140000 | L27: 77 | M27: 49 | N27: 7110000 | O27: 800 | P27: 1215 | Q27: 147984000 | R27: 937 | S27: 1328 | T27: 84090000 | U27: =B27-F27-I27-L27-O27-R27 -> 2636 | V27: =E27-H27-K27-N27-Q27-T27 -> 0 | W27: 26224
A28: 嘉義市 | B28: 2668 | C28: 1099 | D28: 1569 | E28: 158943000 | F28: 22 | G28: 18 | H28: 3174000 | I28: 57 | J28: 60 | K28: 8466000 | L28: 38 | M28: 29 | N28: 5040000 | O28: 579 | P28: 865 | Q28: 105252000 | R28: 403 | S28: 597 | T28: 37011000 | U28: =B28-F28-I28-L28-O28-R28 -> 1569 | V28: =E28-H28-K28-N28-Q28-T28 -> 0 | W28: 63893
A29: 臺南市 | B29: 2097 | C29: 916 | D29: 1181 | E29: 127851000 | F29: 21 | G29: 15 | H29: 2922000 | I29: 131 | J29: 90 | K29: 15660000 | L29: 101 | M29: 92 | N29: 12462000 | O29: 389 | P29: 606 | Q29: 72402000 | R29: 274 | S29: 378 | T29: 24405000 | U29: =B29-F29-I29-L29-O29-R29 -> 1181 | V29: =E29-H29-K29-N29-Q29-T29 -> 0 | W29: 286474
A30: 臺北市 | B30: 20912 | C30: 12759 | D30: 8153 | E30: 1300911387 | F30: 667 | G30: 234 | H30: 64335299 | I30: 724 | J30: 419 | K30: 81020703 | L30: 761 | M30: 462 | N30: 75225023 | O30: 9549 | P30: 6509 | Q30: 1025908242 | R30: 1058 | S30: 529 | T30: 54422120 | U30: =B30-F30-I30-L30-O30-R30 -> 8153 | V30: =E30-H30-K30-N30-Q30-T30 -> 0 | W30: 124686
A31: 高雄市 | B31: 16313 | C31: 8074 | D31: 8239 | E31: 905714958 | F31: 99 | G31: 56 | H31: 11088000 | I31: 365 | J31: 321 | K31: 50298000 | L31: 117 | M31: 150 | N31: 19128000 | O31: 3609 | P31: 5427 | Q31: 640602888 | R31: 3884 | S31: 2285 | T31: 184598070 | U31: =B31-F31-I31-L31-O31-R31 -> 8239 | V31: =E31-H31-K31-N31-Q31-T31 -> 0 | W31: 9629
A32: 金門縣 | B32: 192 | C32: 53 | D32: 139 | E32: 13656000 | I32: 13 | J32: 47 | K32: 4584000 | L32: 2 | M32: 3 | N32: 360000 | O32: 32 | P32: 70 | Q32: 7674000 | R32: 6 | S32: 19 | T32: 1038000 | U32: =B32-F32-I32-L32-O32-R32 -> 139 | V32: =E32-H32-K32-N32-Q32-T32 -> 0 | W32: 914
A33: 連江縣 | B33: 32 | C33: 14 | D33: 18 | E33: 2016000 | F33: 7 | G33: 5 | H33: 918000 | I33: 1 | J33: 3 | K33: 288000 | O33: 4 | P33: 8 | Q33: 732000 | R33: 2 | S33: 2 | T33: 78000 | U33: =B33-F33-I33-L33-O33-R33 -> 18 | V33: =E33-H33-K33-N33-Q33-T33 -> 0
A34: 資料來源：直轄市、縣﹝市﹞政府、勞工保險局。

Sheet 92
A1: 1.4-02 中低收入老人生活津貼
A2: 民國92年 , 2003
A4: 區域別 | B4: 總計 | F4: 低收入戶 | O4: 非低收入戶(未超過最低生活費標準2.5倍者)
B5: 人數(期底數) | E5: 金額(元) | F5: 一款(省)、0類(北)、一類(高) | I5: 二款(省) 、1、2類(北)、二類(高) | L5: 三款(省) 、3、4類(北)、三類(高) | O5: 未超過最低生活費標準1.5倍者 | R5: 最低生活費標準1.5倍以上者
B6: 計 | C6: 男 | D6: 女 | F6: 人數 | H6: 金額(元) | I6: 人數 | K6: 金額(元) | L6: 人數 | N6: 金額(元) | O6: 人數 | Q6: 金額(元) | R6: 人數 | T6: 金額(元)
F7: 男 | G7: 女 | I7: 男 | J7: 女 | L7: 男 | M7: 女 | O7: 男 | P7: 女 | R7: 男 | S7: 女
A8: 92年 ,2003 | B8: 173951 | C8: 84609 | D8: 89342 | E8: 9879475809 | F8: 1622 | G8: 884 | H8: 186922244 | I8: 4144 | J8: 3033 | K8: 521400434 | L8: 4589 | M8: 3526 | N8: 565002249 | O8: 42007 | P8: 47151 | Q8: 6214803746 | R8: 32247 | S8: 34748 | T8: 2391347136 | W8: 1680949
A9: 臺北縣 | B9: 11035 | C9: 5348 | D9: 5687 | E9: 665841000 | F9: 171 | G9: 130 | H9: 22470000 | I9: 340 | J9: 297 | K9: 47064000 | L9: 700 | M9: 584 | N9: 90726000 | O9: 2505 | P9: 2930 | Q9: 386946000 | R9: 1632 | S9: 1746 | T9: 118635000 | U9: =B9-F9-I9-L9-O9-R9 -> 5687 | V9: =E9-H9-K9-N9-Q9-T9 -> 0 | W9: 51755
A10: 宜蘭縣 | B10: 2006 | C10: 1022 | D10: 984 | E10: 134330000 | F10: 30 | G10: 16 | H10: 3654000 | I10: 90 | J10: 42 | K10: 9438000 | L10: 144 | M10: 97 | N10: 17745000 | O10: 620 | P10: 682 | Q10: 93341000 | R10: 138 | S10: 147 | T10: 10152000 | U10: =B10-F10-I10-L10-O10-R10 -> 984 | V10: =E10-H10-K10-N10-Q10-T10 -> 0 | W10: 137802
A11: 桃園縣 | B11: 9115 | C11: 4488 | D11: 4627 | E11: 536739000 | F11: 100 | G11: 49 | H11: 11358000 | I11: 229 | J11: 168 | K11: 29118000 | L11: 124 | M11: 117 | N11: 16776000 | O11: 2206 | P11: 2788 | Q11: 360840000 | R11: 1829 | S11: 1505 | T11: 118647000 | U11: =B11-F11-I11-L11-O11-R11 -> 4627 | V11: =E11-H11-K11-N11-Q11-T11 -> 0 | W11: 47699
A12: 新竹縣 | B12: 1325 | C12: 754 | D12: 571 | E12: 63831000 | F12: 47 | G12: 13 | H12: 4164000 | I12: 88 | J12: 32 | K12: 7842000 | L12: 58 | M12: 25 | N12: 5058000 | O12: 367 | P12: 335 | Q12: 37584000 | R12: 194 | S12: 166 | T12: 9183000 | U12: =B12-F12-I12-L12-O12-R12 -> 571 | V12: =E12-H12-K12-N12-Q12-T12 -> 0 | W12: 66573
A13: 苗栗縣 | B13: 5987 | C13: 2815 | D13: 3172 | E13: 314547000 | F13: 14 | G13: 6 | H13: 1698000 | I13: 106 | J13: 44 | K13: 11364000 | L13: 121 | M13: 72 | N13: 13326000 | O13: 1038 | P13: 1241 | Q13: 166356000 | R13: 1536 | S13: 1809 | T13: 121803000 | U13: =B13-F13-I13-L13-O13-R13 -> 3172 | V13: =E13-H13-K13-N13-Q13-T13 -> 0 | W13: 116814
A14: 臺中縣 | B14: 10572 | C14: 5236 | D14: 5336 | E14: 504474000 | F14: 1 | G14: 1 | H14: 306000 | I14: 41 | J14: 26 | K14: 5142000 | L14: 132 | M14: 120 | N14: 17982000 | O14: 1451 | P14: 1462 | Q14: 205950000 | R14: 3611 | S14: 3727 | T14: 275094000 | U14: =B14-F14-I14-L14-O14-R14 -> 5336 | V14: =E14-H14-K14-N14-Q14-T14 -> 0 | W14: 135699
A15: 彰化縣 | B15: 10021 | C15: 4316 | D15: 5705 | E15: 417528000 | F15: 6 | G15: 5 | H15: 918000 | I15: 70 | J15: 59 | K15: 9720000 | L15: 379 | M15: 253 | N15: 47028000 | O15: 330 | P15: 391 | Q15: 51918000 | R15: 3531 | S15: 4997 | T15: 307944000 | U15: =B15-F15-I15-L15-O15-R15 -> 5705 | V15: =E15-H15-K15-N15-Q15-T15 -> 0 | W15: 62460
A16: 南投縣 | B16: 8713 | C16: 4003 | D16: 4710 | E16: 545238000 | F16: 38 | G16: 11 | H16: 3528000 | I16: 153 | J16: 118 | K16: 20004000 | L16: 281 | M16: 216 | N16: 33996000 | O16: 2664 | P16: 3407 | Q16: 422496000 | R16: 867 | S16: 958 | T16: 65214000 | U16: =B16-F16-I16-L16-O16-R16 -> 4710 | V16: =E16-H16-K16-N16-Q16-T16 -> 0 | W16: 94945
A17: 雲林縣 | B17: 8676 | C17: 4072 | D17: 4604 | E17: 528213000 | F17: 14 | G17: 22 | H17: 2592000 | I17: 207 | J17: 212 | K17: 30168000 | L17: 129 | M17: 126 | N17: 18360000 | O17: 2783 | P17: 3110 | Q17: 404658000 | R17: 939 | S17: 1134 | T17: 72435000 | U17: =B17-F17-I17-L17-O17-R17 -> 4604 | V17: =E17-H17-K17-N17-Q17-T17 -> 0 | W17: 76098
A18: 嘉義縣 | B18: 9479 | C18: 4289 | D18: 5190 | E18: 590433000 | F18: 22 | G18: 14 | H18: 3006000 | I18: 122 | J18: 84 | K18: 16098000 | L18: 180 | M18: 101 | N18: 19662000 | O18: 2936 | P18: 3729 | Q18: 473022000 | R18: 1029 | S18: 1262 | T18: 78645000 | U18: =B18-F18-I18-L18-O18-R18 -> 5190 | V18: =E18-H18-K18-N18-Q18-T18 -> 0 | W18: 127999
A19: 臺南縣 | B19: 7834 | C19: 3597 | D19: 4237 | E19: 479931000 | F19: 48 | G19: 19 | H19: 4986000 | I19: 250 | J19: 168 | K19: 31566000 | L19: 164 | M19: 100 | N19: 18744000 | O19: 2098 | P19: 2727 | Q19: 341946000 | R19: 1037 | S19: 1223 | T19: 82689000 | U19: =B19-F19-I19-L19-O19-R19 -> 4237 | V19: =E19-H19-K19-N19-Q19-T19 -> 0 | W19: 110774
A20: 高雄縣 | B20: 11819 | C20: 5369 | D20: 6450 | E20: 729837000 | F20: 70 | G20: 31 | H20: 7590000 | I20: 211 | J20: 123 | K20: 22908000 | L20: 176 | M20: 124 | N20: 21378000 | O20: 3437 | P20: 4366 | Q20: 559566000 | R20: 1475 | S20: 1806 | T20: 118395000 | U20: =B20-F20-I20-L20-O20-R20 -> 6450 | V20: =E20-H20-K20-N20-Q20-T20 -> 0 | W20: 97925
... A32: 金門縣 | B32: 217 | C32: 63 | D32: 154 | E32: 15087000 | F32: 0 | G32: 0 | H32: 0 | I32: 15 | J32: 52 | K32: 4950000 | L32: 2 | M32: 3 | N32: 384000 | O32: 39 | P32: 76 | Q32: 8634000 | R32: 7 | S32: 23 | T32: 1119000 | U32: =B32-F32-I32-L32-O32-R32 -> 154 | V32: =E32-H32-K32-N32-Q32-T32 -> 0 | W32: 880
A33: 連江縣 | B33: 30 | C33: 14 | D33: 16 | E33: 2010000 | F33: 7 | G33: 3 | H33: 660000 | I33: 3 | J33: 4 | K33: 546000 | L33: 0 | M33: 0 | N33: 0 | O33: 2 | P33: 7 | Q33: 660000 | R33: 2 | S33: 2 | T33: 144000 | U33: =B33-F33-I33-L33-O33-R33 -> 16 | V33: =E33-H33-K33-N33-Q33-T33 -> 0
A34: 資料來源：直轄市、縣﹝市﹞政府。

Sheet 91
A1: 1.4-02 中低收入老人生活津貼
A2: 民國91年 , 2002
A4: 區域別 | B4: 總計 | D4: 低收入戶 | J4: 非低收入戶(未超過最低生活費標準2.5倍者 | O4: 非低收入戶(未超過最低生活費標準2.5倍者)
B5: 人數(期底數) | C5: 金額(元) | D5: 一款(省)、0類(北)、一類(高) | F5: 二款(省) 、1、2類(北)、二類(高) | H5: 三款(省) 、3、4類(北)、三類(高) | J5: 未超過最低生活費標準1.5倍者 | L5: 最低生活費標準1.5倍以上者
D6: 人數 | E6: 金額(元) | F6: 人數 | G6: 金額(元) | H6: 人數 | I6: 金額(元) | J6: 人數 | K6: 金額(元) | L6: 人數 | M6: 金額(元)
A8: 91年 ,2002 | B8: 182392 | C8: 9992655349 | D8: 2657 | E8: 195319750 | F8: 7734 | G8: 565848214 | H8: 7842 | I8: 538162941 | J8: 85091 | K8: 5933115780 | L8: 79068 | M8: 2760208664
A9: 臺北縣 | B9: 11702 | C9: 640935000 | D9: 278 | E9: 20778000 | F9: 772 | G9: 56028000 | H9: 1190 | I9: 80652000 | J9: 5111 | K9: 341934000 | L9: 4351 | M9: 141543000
A10: 宜蘭縣 | B10: 1837 | C10: 118670000 | D10: 51 | E10: 3846000 | F10: 117 | G10: 8562000 | H10: 242 | I10: 17262000 | J10: 1073 | K10: 76501000 | L10: 354 | M10: 12499000
A11: 桃園縣 | B11: 9850 | C11: 562443000 | D11: 176 | E11: 12276000 | F11: 429 | G11: 30762000 | H11: 236 | I11: 17502000 | J11: 5120 | K11: 365010000 | L11: 3889 | M11: 136893000
A12: 新竹縣 | B12: 429 | C12: 28143000 | D12: 47 | E12: 3510000 | F12: 172 | G12: 11202000 | H12: 58 | I12: 3990000 | J12: 114 | K12: 8028000 | L12: 38 | M12: 1413000
A13: 苗栗縣 | B13: 6116 | C13: 313899000 | D13: 37 | E13: 3078000 | F13: 181 | G13: 12858000 | H13: 172 | I13: 11892000 | J13: 2352 | K13: 167724000 | L13: 3374 | M13: 118347000
A14: 臺中縣 | B14: 12455 | C14: 568857000 | D14: 8 | E14: 642000 | F14: 92 | G14: 7050000 | H14: 268 | I14: 19566000 | J14: 3043 | K14: 220434000 | L14: 9044 | M14: 321165000
A15: 彰化縣 | B15: 11263 | C15: 451584000 | D15: 18 | E15: 1296000 | F15: 143 | G15: 10326000 | H15: 533 | I15: 39102000 | J15: 916 | K15: 63552000 | L15: 9653 | M15: 337308000
A16: 南投縣 | B16: 8858 | C16: 547356000 | D16: 71 | E16: 5586000 | F16: 323 | G16: 24132000 | H16: 397 | I16: 25356000 | J16: 5769 | K16: 408468000 | L16: 2298 | M16: 83814000
A17: 雲林縣 | B17: 8151 | C17: 484572000 | D17: 25 | E17: 1800000 | F17: 352 | G17: 25356000 | H17: 277 | I17: 19932000 | J17: 5202 | K17: 358650000 | L17: 2295 | M17: 78834000
A18: 嘉義縣 | B18: 9198 | C18: 567780000 | D18: 44 | E18: 3366000 | F18: 226 | G18: 17130000 | H18: 255 | I18: 18042000 | J18: 6054 | K18: 435486000 | L18: 2619 | M18: 93756000
A19: 臺南縣 | B19: 7835 | C19: 446970000 | D19: 73 | E19: 5718000 | F19: 468 | G19: 35028000 | H19: 250 | I19: 17364000 | J19: 4017 | K19: 281826000 | L19: 3027 | M19: 107034000
... A33: 連江縣 | B33: 34 | C33: 2361000 | D33: 12 | E33: 894000 | F33: 6 | G33: 414000 | H33: 0 | I33: 0 | J33: 14 | K33: 978000 | L33: 2 | M33: 75000
A34: 資料來源：直轄市、縣﹝市﹞政府。
A35: 總計 | B35: =B8-#REF!-B30-B31-#REF! -> #REF! | C35: =C8-#REF!-C30-C31-#REF! -> #REF! | D35: =D8-#REF!-D30-D31-#REF! -> #REF! | E35: =E8-#REF!-E30-E31-#REF! -> #REF! | F35: =F8-#REF!-F30-F31-#REF! -> #REF! | G35: =G8-#REF!-G30-G31-#REF! -> #REF! | H35: =H8-#REF!-H30-H31-#REF! -> #REF! | I35: =I8-#REF!-I30-I31-#REF! -> #REF! | ... M35: =M8-#REF!-M30-M31-#REF! -> #REF!
A36: 臺 灣 省 | B36: =#REF!-SUM(B9:B29) -> #REF! | C36: =#REF!-SUM(C9:C29) -> #REF! | D36: =#REF!-SUM(D9:D29) -> #REF! | E36: =#REF!-SUM(E9:E29) -> #REF! | F36: =#REF!-SUM(F9:F29) -> #REF! | G36: =#REF!-SUM(G9:G29) -> #REF! | H36: =#REF!-SUM(H9:H29) -> #REF! | I36: =#REF!-SUM(I9:I29) -> #REF! | ... M36: =#REF!-SUM(M9:M29) -> #REF!
A37: =#REF! -> #REF! | B37: =#REF!-B32-B33 -> #REF! | C37: =#REF!-C32-C33 -> #REF! | D37: =#REF!-D32-D33 -> #REF! | E37: =#REF!-E32-E33 -> #REF! | F37: =#REF!-F32-F33 -> #REF! | G37: =#REF!-G32-G33 -> #REF! | H37: =#REF!-H32-H33 -> #REF! | I37: =#REF!-I32-I33 -> #REF! | ... M37: =#REF!-M32-M33 -> #REF!

Sheet 90
A1: 1.4-02 中低收入老人生活津貼
A2: 民國90年 , 2001
A4: 區域別 | B4: 總計 | D4: 低收入戶 | J4: 非低收入戶(未超過最低生活費標準2.5倍者
B5: 人數(期底數) | C5: 金額(元) | D5: 一款(省)、0類(北)、一類(高) | F5: 二款(省) 、1、2類(北)、二類(高) | H5: 三款(省) 、3、4類(北)、三類(高) | J5: 未超過最低生活費標準1.5倍者 | L5: 最低生活費標準1.5倍以上者
D6: 人數 | E6: 金額(元) | F6: 人數 | G6: 金額(元) | H6: 人數 | I6: 金額(元) | J6: 人數 | K6: 金額(元) | L6: 人數 | M6: 金額(元)
A8: 90年 ,2001 | B8: 181211 | C8: 9823860567 | D8: 2895 | E8: 225116551 | F8: 8346 | G8: 603226096 | H8: 7458 | I8: 507612913 | J8: 84157 | K8: 5840441963 | L8: 78355 | M8: 2647463044
A9: 臺北縣 | B9: 10962 | C9: 588045000 | D9: 285 | E9: 20550000 | F9: 834 | G9: 59388000 | H9: 1099 | I9: 74388000 | J9: 4990 | K9: 318762000 | L9: 3754 | M9: 114957000
A10: 宜蘭縣 | B10: 1707 | C10: 108313632 | D10: 48 | E10: 3414000 | F10: 101 | G10: 7182000 | H10: 257 | I10: 19218000 | J10: 934 | K10: 65420032 | L10: 367 | M10: 13079600
A11: 桃園縣 | B11: 10012 | C11: 556896000 | D11: 215 | E11: 15858000 | F11: 428 | G11: 30156000 | H11: 222 | I11: 15558000 | J11: 5065 | K11: 356094000 | L11: 4082 | M11: 139230000
A12: 新竹縣 | B12: 426 | C12: 28950000 | D12: 47 | E12: 3282000 | F12: 169 | G12: 12072000 | H12: 57 | I12: 4092000 | J12: 113 | K12: 8016000 | L12: 40 | M12: 1488000
A13: 苗栗縣 | B13: 6016 | C13: 310509976 | D13: 41 | E13: 3210000 | F13: 187 | G13: 13710000 | H13: 165 | I13: 12006000 | J13: 2506 | K13: 176580000 | L13: 3117 | M13: 105003976
A14: 臺中縣 | B14: 11911 | C14: 514836768 | D14: 14 | E14: 1074000 | F14: 111 | G14: 7764000 | H14: 265 | I14: 19176000 | J14: 3122 | K14: 202488768 | L14: 8399 | M14: 284334000
A15: 彰化縣 | B15: 10857 | C15: 419694000 | D15: 18 | E15: 1530000 | F15: 208 | G15: 14448000 | H15: 530 | I15: 36774000 | J15: 645 | K15: 43602000 | L15: 9456 | M15: 323340000
A16: 南投縣 | B16: 8436 | C16: 506811000 | D16: 116 | E16: 8046000 | F16: 355 | G16: 24432000 | H16: 278 | I16: 17796000 | J16: 5458 | K16: 379584000 | L16: 2229 | M16: 76953000
A17: 雲林縣 | B17: 7914 | C17: 451353000 | D17: 32 | E17: 2352000 | F17: 306 | G17: 22176000 | H17: 266 | I17: 20070000 | J17: 5204 | K17: 337848000 | L17: 2106 | M17: 68907000
A18: 嘉義縣 | B18: 8996 | C18: 551691000 | D18: 55 | E18: 4110000 | F18: 236 | G18: 17388000 | H18: 239 | I18: 17256000 | J18: 6173 | K18: 433980000 | L18: 2293 | M18: 78957000
A19: 臺南縣 | B19: 7469 | C19: 428802000 | D19: 72 | E19: 5364000 | F19: 468 | G19: 34578000 | H19: 245 | I19: 16860000 | J19: 3923 | K19: 276990000 | L19: 2761 | M19: 95010000
... A21: 屏東縣 | B21: 9433 | C21: 456144000 | D21: 211 | E21: 15486000 | F21: 694 | G21: 49794000 | H21: 750 | I21: 55842000 | J21: 1428 | K21: 101328000 | L21: 6350 | M21: 233694000
A22: 臺東縣 | B22: 2772 | C22: 131976000 | D22: 220 | E22: 17064000 | F22: 332 | G22: 24648000 | H22: 370 | I22: 25812000 | L22: 1850 | M22: 64452000
A23: 花蓮縣 | B23: 5988 | C23: 247894000 | D23: 62 | E23: 4452000 | F23: 280 | G23: 19434000 | H23: 384 | I23: 25710000 | J23: 733 | K23: 49050000 | L23: 4529 | M23: 149248000
A24: 澎湖縣 | B24: 1821 | C24: 114875424 | D24: 209 | E24: 15282656 | F24: 73 | G24: 5124656 | H24: 56 | I24: 4075968 | J24: 1073 | K24: 75710432 | L24: 410 | M24: 14681712
A25: 基隆市 | B25: 6120 | C25: 283275000 | D25: 4 | E25: 366000 | F25: 242 | G25: 17382000 | H25: 99 | I25: 6936000 | J25: 1811 | K25: 127722000 | L25: 3964 | M25: 130869000
A26: 新竹市 | B26: 2035 | C26: 100626000 | D26: 27 | E26: 1794000 | F26: 102 | G26: 7008000 | H26: 86 | I26: 5586000 | J26: 879 | K26: 55734000 | L26: 941 | M26: 30504000
A27: 臺中市 | B27: 4778 | C27: 216120000 | D27: 28 | E27: 2094000 | F27: 55 | G27: 4020000 | H27: 66 | I27: 4698000 | J27: 1624 | K27: 109824000 | L27: 3005 | M27: 95484000
A28: 嘉義市 | B28: 2948 | C28: 150202912 | D28: 74 | E28: 5568000 | F28: 126 | G28: 8916000 | H28: 48 | I28: 3231936 | J28: 1113 | K28: 78396240 | L28: 1587 | M28: 54090736
A29: 臺南市 | B29: 2298 | C29: 139467000 | D29: 63 | E29: 4800000 | F29: 209 | G29: 14766000 | H29: 185 | I29: 13182000 | J29: 1146 | K29: 83196000 | L29: 695 | M29: 23523000
A30: 臺北市 | B30: 27444 | C30: 1832891547 | D30: 775 | E30: 68419895 | F30: 1671 | G30: 123958712 | H30: 1062 | I30: 56504257 | J30: 20997 | K30: 1466260819 | L30: 2939 | M30: 117747864
A31: 高雄市 | B31: 18197 | C31: 971716308 | D31: 171 | E31: 12864000 | F31: 669 | G31: 48388728 | H31: 449 | I31: 33586752 | J31: 8827 | K31: 635449672 | L31: 8081 | M31: 241427156
A32: 金門縣 | B32: 435 | C32: 27030000 | D32: 3 | E32: 216000 | F32: 135 | G32: 10206000 | H32: 16 | I32: 1188000 | J32: 146 | K32: 10506000 | L32: 135 | M32: 4914000
A33: 連江縣 | B33: 34 | C33: 2502000 | D33: 12 | E33: 864000 | F33: 5 | G33: 456000 | J33: 13 | K33: 1038000 | L33: 4 | M33: 144000
A34: 資料來源：直轄市、縣﹝市﹞政府。
A35: 總計 | B35: =B8-#REF!-B30-B31-#REF! -> #REF! | C35: =C8-#REF!-C30-C31-#REF! -> #REF! | D35: =D8-#REF!-D30-D31-#REF! -> #REF! | E35: =E8-#REF!-E30-E31-#REF! -> #REF! | F35: =F8-#REF!-F30-F31-#REF! -> #REF! | G35: =G8-#REF!-G30-G31-#REF! -> #REF! | H35: =H8-#REF!-H30-H31-#REF! -> #REF! | I35: =I8-#REF!-I30-I31-#REF! -> #REF! | ... M35: =M8-#REF!-M30-M31-#REF! -> #REF!
A36: 臺 灣 省 | B36: =#REF!-SUM(B9:B29) -> #REF! | C36: =#REF!-SUM(C9:C29) -> #REF! | D36: =#REF!-SUM(D9:D29) -> #REF! | E36: =#REF!-SUM(E9:E29) -> #REF! | F36: =#REF!-SUM(F9:F29) -> #REF! | G36: =#REF!-SUM(G9:G29) -> #REF! | H36: =#REF!-SUM(H9:H29) -> #REF! | I36: =#REF!-SUM(I9:I29) -> #REF! | ... M36: =#REF!-SUM(M9:M29) -> #REF!
A37: =#REF! -> #REF! | B37: =#REF!-B32-B33 -> #REF! | C37: =#REF!-C32-C33 -> #REF! | D37: =#REF!-D32-D33 -> #REF! | E37: =#REF!-E32-E33 -> #REF! | F37: =#REF!-F32-F33 -> #REF! | G37: =#REF!-G32-G33 -> #REF! | H37: =#REF!-H32-H33 -> #REF! | I37: =#REF!-I32-I33 -> #REF! | ... M37: =#REF!-M32-M33 -> #REF!
A38: Source : County and City Government.

Sheet 89
A1: 1.4-02 中低收入老人生活津貼
A2: 民國89年 , 2000
A4: 區域別 | B4: 總計 | D4: 低收入戶 | J4: 非低收入戶(未超過最低生活費標準2.5倍者
B5: 人數(期底數) | C5: 金額(元) | D5: 一款(省)、0類(北)、一類(高) | F5: 二款(省) 、1、2類(北)、二類(高) | H5: 三款(省) 、3、4類(北)、三類(高) | J5: 未超過最低生活費標準1.5倍者 | L5: 最低生活費標準1.5倍以上者
D6: 人數 | E6: 金額(元) | F6: 人數 | G6: 金額(元) | H6: 人數 | I6: 金額(元) | J6: 人數 | K6: 金額(元) | L6: 人數 | M6: 金額(元)
A8: 89年 ,2000 | B8: 204869 | C8: 10428691326 | D8: 3299 | E8: 253872656 | F8: 8592 | G8: 609015919 | H8: 7598 | I8: 520823912 | J8: 86269 | K8: 5866458747 | L8: 99111 | M8: 3178520092
A9: 臺北縣 | B9: 12369 | C9: 628852728 | D9: 366 | E9: 27396000 | F9: 865 | G9: 61308720 | H9: 1016 | I9: 68190144 | J9: 5008 | K9: 331210384 | L9: 5114 | M9: 140747480
A10: 宜蘭縣 | B10: 2060 | C10: 115916152 | D10: 62 | E10: 4854000 | F10: 139 | G10: 10362000 | H10: 284 | I10: 20301000 | J10: 853 | K10: 62661000 | L10: 722 | M10: 17738152
A11: 桃園縣 | B11: 12570 | C11: 596203360 | D11: 254 | E11: 18618000 | F11: 358 | G11: 25148624 | H11: 284 | I11: 19235888 | J11: 5278 | K11: 355089728 | L11: 6396 | M11: 178111120
A12: 新竹縣 | B12: 533 | C12: 28246616 | D12: 50 | E12: 3366000 | F12: 121 | G12: 8508000 | H12: 70 | I12: 4812000 | J12: 128 | K12: 9138000 | L12: 164 | M12: 2422616
A13: 苗栗縣 | B13: 6366 | C13: 328298832 | D13: 56 | E13: 4038000 | F13: 194 | G13: 14292000 | H13: 151 | I13: 10746000 | J13: 2548 | K13: 183678000 | L13: 3417 | M13: 115544832
A14: 臺中縣 | B14: 12376 | C14: 488879368 | D14: 14 | E14: 1152000 | F14: 106 | G14: 7626000 | H14: 265 | I14: 19362000 | J14: 2452 | K14: 167700000 | L14: 9539 | M14: 293039368
A15: 彰化縣 | B15: 11680 | C15: 456026680 | D15: 28 | E15: 2556000 | F15: 235 | G15: 16710000 | H15: 665 | I15: 46860000 | J15: 822 | K15: 56150560 | L15: 9930 | M15: 333750120
A16: 南投縣 | B16: 8463 | C16: 489295312 | D16: 108 | E16: 8010000 | F16: 306 | G16: 21855184 | H16: 227 | I16: 15211104 | J16: 5197 | K16: 360977552 | L16: 2625 | M16: 83241472
A17: 雲林縣 | B17: 7616 | C17: 427467056 | D17: 48 | E17: 3456000 | F17: 301 | G17: 21672000 | H17: 312 | I17: 22464000 | J17: 4223 | K17: 290022000 | L17: 2732 | M17: 89853056
A18: 嘉義縣 | B18: 9084 | C18: 549130128 | D18: 69 | E18: 5478000 | F18: 222 | G18: 16650000 | H18: 272 | I18: 19208432 | J18: 6089 | K18: 422894976 | L18: 2432 | M18: 84898720
A19: 臺南縣 | B19: 7926 | C19: 418774440 | D19: 103 | E19: 7884000 | F19: 468 | G19: 34266000 | H19: 209 | I19: 14140480 | J19: 3585 | K19: 249837520 | L19: 3561 | M19: 112646440
... A33: 連江縣 | B33: 43 | C33: 2808000 | D33: 17 | E33: 1224000 | F33: 3 | G33: 216000 | H33: 0 | I33: 0 | J33: 15 | K33: 1080000 | L33: 8 | M33: 288000
A34: 資料來源：直轄市、縣﹝市﹞政府。
A35: 總計 | B35: =B8-#REF!-B30-B31-#REF! -> #REF! | C35: =C8-#REF!-C30-C31-#REF! -> #REF! | D35: =D8-#REF!-D30-D31-#REF! -> #REF! | E35: =E8-#REF!-E30-E31-#REF! -> #REF! | F35: =F8-#REF!-F30-F31-#REF! -> #REF! | G35: =G8-#REF!-G30-G31-#REF! -> #REF! | H35: =H8-#REF!-H30-H31-#REF! -> #REF! | I35: =I8-#REF!-I30-I31-#REF! -> #REF! | ... M35: =M8-#REF!-M30-M31-#REF! -> #REF!
A36: 臺 灣 省 | B36: =#REF!-SUM(B9:B29) -> #REF! | C36: =#REF!-SUM(C9:C29) -> #REF! | D36: =#REF!-SUM(D9:D29) -> #REF! | E36: =#REF!-SUM(E9:E29) -> #REF! | F36: =#REF!-SUM(F9:F29) -> #REF! | G36: =#REF!-SUM(G9:G29) -> #REF! | H36: =#REF!-SUM(H9:H29) -> #REF! | I36: =#REF!-SUM(I9:I29) -> #REF! | ... M36: =#REF!-SUM(M9:M29) -> #REF!
A37: =#REF! -> #REF! | B37: =#REF!-B32-B33 -> #REF! | C37: =#REF!-C32-C33 -> #REF! | D37: =#REF!-D32-D33 -> #REF! | E37: =#REF!-E32-E33 -> #REF! | F37: =#REF!-F32-F33 -> #REF! | G37: =#REF!-G32-G33 -> #REF! | H37: =#REF!-H32-H33 -> #REF! | I37: =#REF!-I32-I33 -> #REF! | ... M37: =#REF!-M32-M33 -> #REF!
A38: 核年月 | B38: 0 | C38: 0 | D38: 0 | E38: 0 | F38: 0 | G38: 0 | H38: 0 | I38: 0 | J38: 0 | K38: 0 | L38: 0 | M38: 0
A39: Source : County and City Government.

Sheet 88
A1: 1.4-02 中低收入老人生活津貼
A2: 民國88年 , 1999
A4: 區域別 | B4: 總計 | D4: 低收入戶 | J4: 非低收入戶(未超過最低生活費標準2.5倍者
B5: 人數(期底數) | C5: 金額(元) | D5: 一款(省)、0類(北)、一類(高) | F5: 二款(省) 、1、2類(北)、二類(高) | H5: 三款(省) 、3、4類(北)、三類(高) | J5: 未超過最低生活費標準1.5倍者 | L5: 最低生活費標準1.5倍以上者
D6: 人數 | E6: 金額(元) | F6: 人數 | G6: 金額(元) | H6: 人數 | I6: 金額(元) | J6: 人數 | K6: 金額(元) | L6: 人數 | M6: 金額(元)
A8: 88年 ,1999 | B8: 190583 | C8: 9994304668 | D8: 3878 | E8: 295223099 | F8: 8274 | G8: 578685254 | H8: 7214 | I8: 503223370 | J8: 79884 | K8: 5581127327 | L8: 91333 | M8: 3036045618
A9: 臺北縣 | B9: 11138 | C9: 541348696 | D9: 397 | E9: 30150000 | F9: 837 | G9: 52345184 | H9: 956 | I9: 54569392 | J9: 4520 | K9: 273651680 | L9: 4428 | M9: 130632440
A10: 宜蘭縣 | B10: 1998 | C10: 115301064 | D10: 74 | E10: 5610000 | F10: 152 | G10: 12198000 | H10: 269 | I10: 18747000 | J10: 819 | K10: 55425000 | L10: 684 | M10: 23321064
A11: 桃園縣 | B11: 11685 | C11: 571233192 | D11: 259 | E11: 20375712 | F11: 336 | G11: 22177200 | H11: 252 | I11: 19546448 | J11: 4920 | K11: 334522912 | L11: 5918 | M11: 174610920
A12: 新竹縣 | B12: 494 | C12: 25725112 | D12: 42 | E12: 3084000 | F12: 115 | G12: 7710000 | H12: 60 | I12: 3654000 | J12: 125 | K12: 8886000 | L12: 152 | M12: 2391112
A13: 苗栗縣 | B13: 6215 | C13: 327814848 | D13: 59 | E13: 6330000 | F13: 201 | G13: 13178624 | H13: 151 | I13: 10356560 | J13: 2513 | K13: 172400992 | L13: 3291 | M13: 125548672
A14: 臺中縣 | B14: 10006 | C14: 428646440 | D14: 18 | E14: 1632000 | F14: 105 | G14: 7296000 | H14: 274 | I14: 19068000 | J14: 2129 | K14: 137646000 | L14: 7480 | M14: 263004440
A15: 彰化縣 | B15: 9986 | C15: 402749864 | D15: 31 | E15: 4716000 | F15: 220 | G15: 22248000 | H15: 620 | I15: 46182000 | J15: 745 | K15: 54933664 | L15: 8370 | M15: 274670200
A16: 南投縣 | B16: 7507 | C16: 446602880 | D16: 111 | E16: 9672000 | F16: 301 | G16: 22255488 | H16: 195 | I16: 13291104 | J16: 4618 | K16: 313096448 | L16: 2282 | M16: 88287840
A17: 雲林縣 | B17: 6607 | C17: 432148192 | D17: 48 | E17: 4734000 | F17: 301 | G17: 22668000 | H17: 312 | I17: 30432000 | J17: 3660 | K17: 289038000 | L17: 2286 | M17: 85276192
A18: 嘉義縣 | B18: 8245 | C18: 497814768 | D18: 81 | E18: 6120000 | F18: 239 | G18: 17376000 | H18: 258 | I18: 18439488 | J18: 5390 | K18: 357523760 | L18: 2277 | M18: 98355520
A19: 臺南縣 | B19: 7444 | C19: 389327024 | D19: 119 | E19: 10320000 | F19: 487 | G19: 34920000 | H19: 184 | I19: 11943360 | J19: 3432 | K19: 219505088 | L19: 3222 | M19: 112638576
... A33: 連江縣 | B33: 43 | C33: 3240000 | D33: 17 | E33: 1242000 | F33: 3 | G33: 282000 | H33: 0 | I33: 0 | J33: 15 | K33: 1476000 | L33: 8 | M33: 240000
A34: 資料來源：直轄市、縣﹝市﹞政府。
A35: 總計 | B35: =B8-#REF!-B30-B31-#REF! -> #REF! | C35: =C8-#REF!-C30-C31-#REF! -> #REF! | D35: =D8-#REF!-D30-D31-#REF! -> #REF! | E35: =E8-#REF!-E30-E31-#REF! -> #REF! | F35: =F8-#REF!-F30-F31-#REF! -> #REF! | G35: =G8-#REF!-G30-G31-#REF! -> #REF! | H35: =H8-#REF!-H30-H31-#REF! -> #REF! | I35: =I8-#REF!-I30-I31-#REF! -> #REF! | ... M35: =M8-#REF!-M30-M31-#REF! -> #REF!
A36: 臺 灣 省 | B36: =#REF!-SUM(B9:B29) -> #REF! | C36: =#REF!-SUM(C9:C29) -> #REF! | D36: =#REF!-SUM(D9:D29) -> #REF! | E36: =#REF!-SUM(E9:E29) -> #REF! | F36: =#REF!-SUM(F9:F29) -> #REF! | G36: =#REF!-SUM(G9:G29) -> #REF! | H36: =#REF!-SUM(H9:H29) -> #REF! | I36: =#REF!-SUM(I9:I29) -> #REF! | ... M36: =#REF!-SUM(M9:M29) -> #REF!
A37: =#REF! -> #REF! | B37: =#REF!-B32-B33 -> #REF! | C37: =#REF!-C32-C33 -> #REF! | D37: =#REF!-D32-D33 -> #REF! | E37: =#REF!-E32-E33 -> #REF! | F37: =#REF!-F32-F33 -> #REF! | G37: =#REF!-G32-G33 -> #REF! | H37: =#REF!-H32-H33 -> #REF! | I37: =#REF!-I32-I33 -> #REF! | ... M37: =#REF!-M32-M33 -> #REF!
A38: Source : County and City Government.
