Workbook

Sheet 歷年
A1: 1.4-02 中低收入老人生活津貼
A2: 民國104-114年
A3: 單位：人
A4: 區域別 | B4: 總計 | F4: 低收入戶 | O4: 中 低 收 入 戶 | R4: 中低收入老人 | X4: 具原住民身分分
B5: 人數(期底數) | E5: 金額(元) | F5: 第1款(省、新北、臺中、臺南)、第0類(臺北)、第1類(高雄) | I5: 第2款(省、新北、臺中、臺南)、第1、2類(臺北)、第2類(高雄) | L5: 第3款(省、新北、臺中、臺南)、第3、4類(臺北、高雄) | R5: 最低生活費1倍以上未滿1.5倍 | U5: 最低生活費1.5倍以上未滿2.5倍
B6: 計 | C6: 男 | D6: 女 | F6: 人數 | H6: 金額(元) | I6: 人數 | K6: 金額(元) | L6: 人數 | N6: 金額(元) | O6: 人數 | Q6: 金額(元) | R6: 人數 | T6: 金額(元) | U6: 人數 | W6: 金額(元) | X6: 人數
F7: 男 | G7: 女 | I7: 男 | J7: 女 | L7: 男 | M7: 女 | O7: 男 | P7: 女 | R7: 男 | S7: 女 | U7: 男 | V7: 女 | X7: 男 | Y7: 女
A8: 104年，2015 | B8: 124490 | C8: 57413 | D8: 67077 | E8: 9630905002 | F8: 1043 | G8: 292 | H8: 118420163 | I8: 4555 | J8: 1953 | K8: 563709238 | L8: 4966 | M8: 2849 | N8: 656788640 | O8: … | P8: … | Q8: … | R8: 37186 | S8: 50411 | T8: 7396439769 | U8: 9663 | V8: 11572 | W8: 895547192 | X8: 990 | Y8: 1269
A9: 105年，2016 | B9: 128108 | C9: 59012 | D9: 69096 | E9: 10207097782 | F9: 929 | G9: 255 | H9: 109999314 | I9: 4745 | J9: 2043 | K9: 605040698 | L9: 5353 | M9: 3088 | N9: 723349513 | O9: … | P9: … | Q9: … | R9: 38059 | S9: 51910 | T9: 7837935469 | U9: 9926 | V9: 11800 | W9: 930772788 | X9: 1031 | Y9: 1348
A10: 106年，2017 | B10: 134365 | C10: 62250 | D10: 72115 | E10: 10626735343 | F10: 871 | G10: 237 | H10: 102750373 | I10: 4895 | J10: 2119 | K10: 633580867 | L10: 5828 | M10: 3462 | N10: 797219266 | O10: … | P10: … | Q10: … | R10: 39591 | S10: 52996 | T10: 8050449651 | U10: 11065 | V10: 13301 | W10: 1042735186 | X10: 1095 | Y10: 1428
A11: 107年，2018 | B11: 143610 | C11: 66834 | D11: 76776 | E11: 11319748012 | F11: 745 | G11: 211 | H11: 90090733 | I11: 5226 | J11: 2330 | K11: 674030457 | L11: 6402 | M11: 3761 | N11: 876716027 | O11: … | P11: … | Q11: … | R11: 42741 | S11: 56421 | T11: 8601461163 | U11: 11720 | V11: 14053 | W11: 1077449632 | X11: 1166 | Y11: 1518
A12: 108年，2019 | B12: 156783 | C12: 73512 | D12: 83271 | E12: 12175723108 | F12: 691 | G12: 200 | H12: 81438512 | I12: 5729 | J12: 2473 | K12: 721150102 | L12: 7196 | M12: 4209 | N12: 973458501 | O12: … | P12: … | Q12: … | R12: 46108 | S12: 59703 | T12: 9134087198 | U12: 13788 | V12: 16686 | W12: 1265588795 | X12: 1178 | Y12: 1491
A13: 109年，2020 | B13: 173011 | C13: 81345 | D13: 91666 | E13: 13783178546 | F13: 629 | G13: 176 | H13: 78242459 | I13: 6049 | J13: 2667 | K13: 804642487 | L13: 7954 | M13: 4738 | N13: 1129108007 | O13: … | P13: … | Q13: … | R13: 49741 | S13: 63883 | T13: 10174161489 | U13: 16972 | V13: 20202 | W13: 1597024104 | X13: 1279 | Y13: 1632
A14: 110年，2021 | B14: 186225 | C14: 87565 | D14: 98660 | E14: 15010484375 | F14: 562 | G14: 165 | H14: 71780779 | I14: 6424 | J14: 2836 | K14: 855339095 | L14: 8505 | M14: 5099 | N14: 1230946461 | O14: … | P14: … | Q14: … | R14: 53857 | S14: 68780 | T14: 11112820191 | U14: 18217 | V14: 21780 | W14: 1739597849 | X14: 1393 | Y14: 1771
A15: 111年，2022 | B15: 195902 | C15: 92360 | D15: 103542 | E15: 16134518577 | F15: 497 | G15: 166 | H15: 64791372 | I15: 6814 | J15: 3104 | K15: 917254817 | L15: 9305 | M15: 5561 | N15: 1338315188 | O15: … | P15: … | Q15: … | R15: 57804 | S15: 73346 | T15: 12084048509 | U15: 17940 | V15: 21365 | W15: 1730108691 | X15: 1588 | Y15: 1954
A16: 112年，2023 | B16: 208407 | C16: 98572 | D16: 109835 | E16: 16885865996 | F16: 459 | G16: 153 | H16: 59400939 | I16: 7184 | J16: 3351 | K16: 969571185 | L16: 10338 | M16: 6101 | N16: 1479111136 | O16: 4977 | P16: 4660 | Q16: 825368396 | R16: 54906 | S16: 70533 | T16: 11553496186 | U16: 20708 | V16: 25037 | W16: 1998918154 | X16: 1854 | Y16: 2166
A17: 113年，2024 | B17: 223705 | C17: 106162 | D17: 117543 | E17: 18982403224 | F17: 453 | G17: 147 | H17: 62005176 | I17: 7625 | J17: 3651 | K17: 1111444193 | L17: 10890 | M17: 6483 | N17: 1683743749 | O17: 6079 | P17: 5598 | Q17: 1075759397 | R17: 55197 | S17: 70015 | T17: 12377089215 | U17: 25918 | V17: 31649 | W17: 2672361494 | X17: 2004 | Y17: 2353
A18: 114年，2025 | B18: 235010 | C18: 111933 | D18: 123077 | E18: 20294518145 | F18: 423 | G18: 149 | H18: 58027028 | I18: 8045 | J18: 3884 | K18: 1188313706 | L18: 11549 | M18: 6857 | N18: 1797246686 | O18: 6381 | P18: 5943 | Q18: 1171029887 | R18: 61096 | S18: 76702 | T18: 13558076373 | U18: 24439 | V18: 29542 | W18: 2521824465 | X18: 2583 | Y18: 2632
A19: 資料來源：直轄市、縣﹝市﹞政府。
A20: 總計 | B20: 141453 | C20: 67983 | D20: 73470 | E20: 717024949 | F20: 2158 | H20: 13065000 | I20: 5318 | K20: 31869340 | L20: 6980 | N20: 41735377 | R20: 86651 | T20: 512944980 | U20: 40346 | W20: 117410252 | X20: … | Y20: …
A21: 臺 灣 省 | B21: 141862 | C21: 67990 | D21: 73872 | E21: 721171791 | F21: 2168 | H21: 13171100 | I21: 5363 | K21: 32287340 | L21: 7036 | N21: 42226300 | R21: 87100 | T21: 516360027 | U21: 40195 | W21: 117127024 | X21: … | Y21: …
A22: 福建省 | B22: 142504 | C22: 68442 | D22: 74062 | E22: 726208593 | F22: 2177 | H22: 13231000 | I22: 5381 | K22: 32271630 | L22: 7173 | N22: 42693109 | R22: 87511 | T22: 519958790 | U22: 40262 | W22: 118054064 | X22: … | Y22: …
A23: 年月 | B23: 141895 | C23: 67883 | D23: 74012 | E23: 725506823 | F23: 2172 | H23: 13167000 | I23: 5379 | K23: 32230256 | L23: 7232 | N23: 42999388 | R23: 87993 | T23: 522544290 | U23: 39119 | W23: 114565889 | X23: … | Y23: …

Sheet 114
A1: 1.4-02 中低收入老人生活津貼
A2: 民國114年
A3: 單位：人
A4: 區域別 | B4: 總計 | F4: 低收入戶 | O4: 中 低 收 入 戶 | R4: 中低收入老人 | X4: 具原住民身分分
B5: 人數(期底數) | E5: 金額(元) | F5: 第1款(省、新北、臺中、臺南)、第0類(臺北)、第1類(高雄) | I5: 第2款(省、新北、臺中、臺南)、第1、2類(臺北)、第2類(高雄) | L5: 第3款(省、新北、臺中、臺南)、第3、4類(臺北、高雄) | R5: 最低生活費1倍以上未滿1.5倍 | U5: 最低生活費1.5倍以上未滿2.5倍
B6: 計 | C6: 男 | D6: 女 | F6: 人數 | H6: 金額(元) | I6: 人數 | K6: 金額(元) | L6: 人數 | N6: 金額(元) | O6: 人數 | Q6: 金額(元) | R6: 人數 | T6: 金額(元) | U6: 人數 | W6: 金額(元) | X6: 人數
F7: 男 | G7: 女 | I7: 男 | J7: 女 | L7: 男 | M7: 女 | O7: 男 | P7: 女 | R7: 男 | S7: 女 | U7: 男 | V7: 女 | X7: 男 | Y7: 女
A8: 114年，2025 | B8: 235010 | C8: 111933 | D8: 123077 | E8: 20294518145 | F8: 423 | G8: 149 | H8: 58027028 | I8: 8045 | J8: 3884 | K8: 1188313706 | L8: 11549 | M8: 6857 | N8: 1797246686 | O8: 6381 | P8: 5943 | Q8: 1171029887 | R8: 61096 | S8: 76702 | T8: 13558076373 | U8: 24439 | V8: 29542 | W8: 2521824465 | X8: 2583 | Y8: 2632
A9: 新北市 | B9: 28445 | C9: 13947 | D9: 14498 | E9: 2459600379 | F9: 24 | G9: 7 | H9: 2947437 | I9: 422 | J9: 181 | K9: 58211382 | L9: 1724 | M9: 1015 | N9: 270034422 | O9: 833 | P9: 702 | Q9: 149340602 | R9: 8113 | S9: 9590 | T9: 1712915491 | U9: 2831 | V9: 3003 | W9: 266151045 | X9: 477 | Y9: 188
A10: 臺北市 | B10: 15388 | C10: 7415 | D10: 7973 | E10: 1470788345 | F10: 241 | G10: 82 | H10: 32996289 | I10: 1735 | J10: 1109 | K10: 289315007 | L10: 1434 | M10: 1489 | N10: 292997757 | O10: 901 | P10: 969 | Q10: 188396574 | R10: 2502 | S10: 3649 | T10: 605911063 | U10: 602 | V10: 675 | W10: 61171655 | X10: 33 | Y10: 78
A11: 桃園市 | B11: 13966 | C11: 6665 | D11: 7301 | E11: 1160427264 | F11: 20 | G11: 3 | H11: 2057263 | I11: 333 | J11: 130 | K11: 42594624 | L11: 884 | M11: 530 | N11: 135558224 | O11: 398 | P11: 327 | Q11: 61064426 | R11: 3651 | S11: 4811 | T11: 799276501 | U11: 1379 | V11: 1500 | W11: 119876226 | X11: 157 | Y11: 211
A12: 臺中市 | B12: 29011 | C12: 13379 | D12: 15632 | E12: 2573227712 | F12: 93 | G12: 38 | H12: 13204588 | I12: 1404 | J12: 737 | K12: 216932761 | L12: 781 | M12: 610 | N12: 137243740 | O12: 912 | P12: 824 | Q12: 165298866 | R12: 7297 | S12: 9825 | T12: 1722136092 | U12: 2892 | V12: 3598 | W12: 318411665 | X12: 64 | Y12: 88
A13: 臺南市 | B13: 21088 | C13: 10409 | D13: 10679 | E13: 1777144311 | F13: 20 | G13: 10 | H13: 3098388 | I13: 585 | J13: 204 | K13: 80308950 | L13: 981 | M13: 426 | N13: 135400617 | O13: 209 | P13: 160 | Q13: 34904298 | R13: 6118 | S13: 7143 | T13: 1288971136 | U13: 2496 | V13: 2736 | W13: 234460922 | X13: 9 | Y13: 30
A14: 高雄市 | B14: 46418 | C14: 20804 | D14: 25614 | E14: 3998595414 | F14: 5 | G14: 6 | H14: 1174389 | I14: 1674 | J14: 812 | K14: 243062706 | L14: 916 | M14: 689 | N14: 154024955 | O14: 1266 | P14: 1485 | Q14: 262774899 | R14: 12309 | S14: 16284 | T14: 2818084621 | U14: 4634 | V14: 6338 | W14: 519473844 | X14: 135 | Y14: 274
A15: 宜蘭縣 | B15: 4022 | C15: 1978 | D15: 2044 | E15: 337854983 | F15: 0 | G15: 0 | H15: 83290 | I15: 59 | J15: 22 | K15: 8004169 | L15: 336 | M15: 153 | N15: 47143063 | O15: 206 | P15: 168 | Q15: 33780859 | R15: 930 | S15: 1166 | T15: 206044301 | U15: 447 | V15: 535 | W15: 42799301 | X15: 91 | Y15: 132
A16: 新竹縣 | B16: 2583 | C16: 1357 | D16: 1226 | E16: 209592374 | F16: 0 | G16: 0 | H16: 0 | I16: 47 | J16: 14 | K16: 6296724 | L16: 215 | M16: 82 | N16: 28301942 | O16: 105 | P16: 75 | Q16: 17420104 | R16: 595 | S16: 682 | T16: 123661988 | U16: 395 | V16: 373 | W16: 33911616 | X16: 19 | Y16: 45
A17: 苗栗縣 | B17: 3813 | C17: 1902 | D17: 1911 | E17: 315192906 | F17: 0 | G17: 0 | H17: 0 | I17: 197 | J17: 69 | K17: 27560661 | L17: 231 | M17: 157 | N17: 36181178 | O17: 114 | P17: 94 | Q17: 19248323 | R17: 862 | S17: 1037 | T17: 185332760 | U17: 498 | V17: 554 | W17: 46869984 | X17: 24 | Y17: 33
A18: 彰化縣 | B18: 14001 | C18: 6779 | D18: 7222 | E18: 1230745910 | F18: 1 | G18: 0 | H18: 116606 | I18: 9 | J18: 5 | K18: 1380416 | L18: 852 | M18: 344 | N18: 116342009 | O18: 271 | P18: 152 | Q18: 38981346 | R18: 4156 | S18: 4898 | T18: 911237516 | U18: 1490 | V18: 1823 | W18: 162688017 | X18: 43 | Y18: 58
A19: 南投縣 | B19: 8086 | C19: 3829 | D19: 4257 | E19: 675249617 | F19: 1 | G19: 0 | H19: 108277 | I19: 30 | J19: 10 | K19: 3723063 | L19: 323 | M19: 88 | N19: 40309467 | O19: 170 | P19: 130 | Q19: 28035066 | R19: 2195 | S19: 2668 | T19: 483597731 | U19: 1110 | V19: 1361 | W19: 119476013 | X19: 40 | Y19: 72
... A30: 連江縣 | B30: 18 | C30: 14 | D30: 4 | E30: 1370102 | F30: 2 | G30: 0 | H30: 199896 | I30: 1 | J30: 0 | K30: 99948 | L30: 3 | M30: 0 | N30: 216554 | O30: 3 | P30: 3 | Q30: 599688 | R30: 1 | S30: 0 | T30: 99948 | U30: 4 | V30: 1 | W30: 154068 | X30: 1 | Y30: 0
A31: 資料來源：直轄市、縣﹝市﹞政府。
A32: 總計 | B32: =B8-SUM(B9:B14)-#REF! -> #REF! | C32: =C8-SUM(C9:C14)-#REF! -> #REF! | D32: =D8-SUM(D9:D14)-#REF! -> #REF! | E32: =E8-SUM(E9:E14)-#REF! -> #REF! | F32: =F8-SUM(F9:F14)-#REF! -> #REF! | G32: =G8-SUM(G9:G14)-#REF! -> #REF! | H32: =H8-SUM(H9:H14)-#REF! -> #REF! | I32: =I8-SUM(I9:I14)-#REF! -> #REF! | ... N32: =N8-SUM(N9:N14)-#REF! -> #REF! | R32: =R8-SUM(R9:R14)-#REF! -> #REF! | S32: =S8-SUM(S9:S14)-#REF! -> #REF! | T32: =T8-SUM(T9:T14)-#REF! -> #REF! | U32: =U8-SUM(U9:U14)-#REF! -> #REF! | V32: =V8-SUM(V9:V14)-#REF! -> #REF! | W32: =W8-SUM(W9:W14)-#REF! -> #REF! | X32: =X8-SUM(X9:X14)-#REF! -> #REF! | Y32: =Y8-SUM(Y9:Y14)-#REF! -> #REF!
A33: 臺 灣 省 | B33: =#REF!-SUM(B15:B28) -> #REF! | C33: =#REF!-SUM(C15:C28) -> #REF! | D33: =#REF!-SUM(D15:D28) -> #REF! | E33: =#REF!-SUM(E15:E28) -> #REF! | F33: =#REF!-SUM(F15:F28) -> #REF! | G33: =#REF!-SUM(G15:G28) -> #REF! | H33: =#REF!-SUM(H15:H28) -> #REF! | I33: =#REF!-SUM(I15:I28) -> #REF! | ... N33: =#REF!-SUM(N15:N28) -> #REF! | R33: =#REF!-SUM(R15:R28) -> #REF! | S33: =#REF!-SUM(S15:S28) -> #REF! | T33: =#REF!-SUM(T15:T28) -> #REF! | U33: =#REF!-SUM(U15:U28) -> #REF! | V33: =#REF!-SUM(V15:V28) -> #REF! | W33: =#REF!-SUM(W15:W28) -> #REF! | X33: =#REF!-SUM(X15:X28) -> #REF! | Y33: =#REF!-SUM(Y15:Y28) -> #REF!
A34: 福建省 | B34: =#REF!-B29-B30 -> #REF! | C34: =#REF!-C29-C30 -> #REF! | D34: =#REF!-D29-D30 -> #REF! | E34: =#REF!-E29-E30 -> #REF! | F34: =#REF!-F29-F30 -> #REF! | G34: =#REF!-G29-G30 -> #REF! | H34: =#REF!-H29-H30 -> #REF! | I34: =#REF!-I29-I30 -> #REF! | ... N34: =#REF!-N29-N30 -> #REF! | R34: =#REF!-R29-R30 -> #REF! | S34: =#REF!-S29-S30 -> #REF! | T34: =#REF!-T29-T30 -> #REF! | U34: =#REF!-U29-U30 -> #REF! | V34: =#REF!-V29-V30 -> #REF! | W34: =#REF!-W29-W30 -> #REF! | X34: =#REF!-X29-X30 -> #REF! | Y34: =#REF!-Y29-Y30 -> #REF!
A35: 年月 | B35: =#REF!-'114'!B8 -> #REF! | C35: =#REF!-'114'!C8 -> #REF! | D35: =#REF!-'114'!D8 -> #REF! | E35: =#REF!-'114'!E8 -> #REF! | F35: =#REF!-'114'!F8-'114'!G8 -> #REF! | H35: =#REF!-'114'!H8 -> #REF! | I35: =#REF!-'114'!I8-'114'!J8 -> #REF! | K35: =#REF!-'114'!K8 -> #REF! | L35: =#REF!-'114'!L8-'114'!M8 -> #REF! | N35: =#REF!-'114'!N8 -> #REF! | R35: =#REF!-'114'!R8-'114'!S8 -> #REF! | T35: =#REF!-'114'!T8 -> #REF! | U35: =#REF!-'114'!U8-'114'!V8 -> #REF! | W35: =#REF!-'114'!W8 -> #REF! | X35: =#REF!-'114'!X8 -> #REF! | Y35: =#REF!-'114'!Y8 -> #REF!

Sheet 113
A1: 1.4-02 中低收入老人生活津貼
A2: 民國113年
A3: 單位：人
A4: 區域別 | B4: 總計 | F4: 低收入戶 | O4: 中 低 收 入 戶 | R4: 中低收入老人 | X4: 具原住民身分分
B5: 人數(期底數) | E5: 金額(元) | F5: 第1款(省、新北、臺中、臺南)、第0類(臺北)、第1類(高雄) | I5: 第2款(省、新北、臺中、臺南)、第1、2類(臺北)、第2類(高雄) | L5: 第3款(省、新北、臺中、臺南)、第3、4類(臺北、高雄) | R5: 最低生活費1倍以上未滿1.5倍 | U5: 最低生活費1.5倍以上未滿2.5倍
B6: 計 | C6: 男 | D6: 女 | F6: 人數 | H6: 金額(元) | I6: 人數 | K6: 金額(元) | L6: 人數 | N6: 金額(元) | O6: 人數 | Q6: 金額(元) | R6: 人數 | T6: 金額(元) | U6: 人數 | W6: 金額(元) | X6: 人數
F7: 男 | G7: 女 | I7: 男 | J7: 女 | L7: 男 | M7: 女 | O7: 男 | P7: 女 | R7: 男 | S7: 女 | U7: 男 | V7: 女 | X7: 男 | Y7: 女
A8: 113年，2024 | B8: 223705 | C8: 106162 | D8: 117543 | E8: 18982403224 | F8: 453 | G8: 147 | H8: 62005176 | I8: 7625 | J8: 3651 | K8: 1111444193 | L8: 10890 | M8: 6483 | N8: 1683743749 | O8: 6079 | P8: 5598 | Q8: 1075759397 | R8: 55197 | S8: 70015 | T8: 12377089215 | U8: 25918 | V8: 31649 | W8: 2672361494 | X8: 2004 | Y8: 2353
A9: 新北市 | B9: 26016 | C9: 12799 | D9: 13217 | E9: 2290914770 | F9: 27 | G9: 5 | H9: 3114018 | I9: 366 | J9: 156 | K9: 47165028 | L9: 1671 | M9: 965 | N9: 262684138 | O9: 793 | P9: 630 | Q9: 134684006 | R9: 7458 | S9: 8908 | T9: 1609183523 | U9: 2484 | V9: 2553 | W9: 234084057 | X9: 171 | Y9: 253
A10: 臺北市 | B10: 15010 | C10: 7258 | D10: 7752 | E10: 1423578137 | F10: 261 | G10: 83 | H10: 35575931 | I10: 1763 | J10: 1085 | K10: 281671288 | L10: 1399 | M10: 1465 | N10: 281824896 | O10: 911 | P10: 951 | Q10: 182284551 | R10: 2368 | S10: 3566 | T10: 586590550 | U10: 556 | V10: 602 | W10: 55630921 | X10: 31 | Y10: 70
A11: 桃園市 | B11: 12554 | C11: 5891 | D11: 6663 | E11: 1090392759 | F11: 19 | G11: 2 | H11: 2232226 | I11: 293 | J11: 118 | K11: 38821388 | L11: 824 | M11: 462 | N11: 119908777 | O11: 336 | P11: 283 | Q11: 54424011 | R11: 3277 | S11: 4450 | T11: 759111191 | U11: 1142 | V11: 1348 | W11: 115895166 | X11: 104 | Y11: 141
A12: 臺中市 | B12: 27482 | C12: 12666 | D12: 14816 | E12: 2424890889 | F12: 92 | G12: 34 | H12: 12754409 | I12: 1292 | J12: 637 | K12: 194093006 | L12: 743 | M12: 604 | N12: 133810590 | O12: 816 | P12: 727 | Q12: 144883656 | R12: 6958 | S12: 9506 | T12: 1646639306 | U12: 2765 | V12: 3308 | W12: 292709922 | X12: 60 | Y12: 74
A13: 臺南市 | B13: 19185 | C13: 9360 | D13: 9825 | E13: 1615220565 | F13: 22 | G13: 12 | H13: 3764681 | I13: 600 | J13: 214 | K13: 81616711 | L13: 898 | M13: 375 | N13: 125074873 | O13: 180 | P13: 140 | Q13: 29509795 | R13: 5203 | S13: 6199 | T13: 1125233191 | U13: 2457 | V13: 2885 | W13: 250021314 | X13: 10 | Y13: 25
A14: 高雄市 | B14: 45206 | C14: 20081 | D14: 25125 | E14: 3807885964 | F14: 5 | G14: 8 | H14: 1324284 | I14: 1558 | J14: 776 | K14: 230774352 | L14: 840 | M14: 638 | N14: 143103930 | O14: 1194 | P14: 1447 | Q14: 251374169 | R14: 11060 | S14: 14754 | T14: 2558248548 | U14: 5424 | V14: 7502 | W14: 623060681 | X14: 140 | Y14: 267
A15: 宜蘭縣 | B15: 3790 | C15: 1844 | D15: 1946 | E15: 316027109 | F15: 2 | G15: 0 | H15: 258199 | I15: 57 | J15: 20 | K15: 7907406 | L15: 324 | M15: 164 | N15: 43086208 | O15: 165 | P15: 127 | Q15: 26186068 | R15: 844 | S15: 1070 | T15: 190977299 | U15: 452 | V15: 565 | W15: 47611929 | X15: 86 | Y15: 114
A16: 新竹縣 | B16: 2312 | C16: 1202 | D16: 1110 | E16: 188449976 | F16: 0 | G16: 0 | H16: 8302 | I16: 50 | J16: 14 | K16: 7087898 | L16: 184 | M16: 80 | N16: 25461834 | O16: 100 | P16: 63 | Q16: 14719911 | R16: 491 | S16: 564 | T16: 105095174 | U16: 377 | V16: 389 | W16: 36076857 | X16: 19 | Y16: 41
A17: 苗栗縣 | B17: 3499 | C17: 1727 | D17: 1772 | E17: 281096293 | F17: 0 | G17: 0 | H17: 0 | I17: 203 | J17: 78 | K17: 27002591 | L17: 189 | M17: 137 | N17: 30015383 | O17: 132 | P17: 108 | Q17: 20964135 | R17: 727 | S17: 875 | T17: 155154683 | U17: 476 | V17: 574 | W17: 47959501 | X17: 26 | Y17: 32
A18: 彰化縣 | B18: 13085 | C18: 6317 | D18: 6768 | E18: 1115665622 | F18: 1 | G18: 0 | H18: 99948 | I18: 8 | J18: 7 | K18: 1640243 | L18: 783 | M18: 309 | N18: 109394167 | O18: 214 | P18: 115 | Q18: 31877213 | R18: 3665 | S18: 4286 | T18: 793406182 | U18: 1646 | V18: 2051 | W18: 179247869 | X18: 44 | Y18: 59
A19: 南投縣 | B19: 7771 | C19: 3643 | D19: 4128 | E19: 631542891 | F19: 1 | G19: 0 | H19: 99378 | I19: 29 | J19: 10 | K19: 3611146 | L19: 289 | M19: 86 | N19: 37672734 | O19: 146 | P19: 105 | Q19: 22159646 | R19: 1982 | S19: 2426 | T19: 438364961 | U19: 1196 | V19: 1501 | W19: 129635026 | X19: 35 | Y19: 62
... A30: 連江縣 | B30: 11 | C30: 8 | D30: 3 | E30: 1066095 | F30: 2 | G30: 0 | H30: 199896 | I30: 1 | J30: 0 | K30: 183238 | L30: 2 | M30: 0 | N30: 199896 | O30: 2 | P30: 1 | Q30: 241541 | R30: 1 | S30: 0 | T30: 99948 | U30: 0 | V30: 2 | W30: 141576 | X30: 0 | Y30: 0
A31: 資料來源：直轄市、縣﹝市﹞政府。
A32: 總計 | B32: =B8-SUM(B9:B14)-#REF! -> #REF! | C32: =C8-SUM(C9:C14)-#REF! -> #REF! | D32: =D8-SUM(D9:D14)-#REF! -> #REF! | E32: =E8-SUM(E9:E14)-#REF! -> #REF! | F32: =F8-SUM(F9:F14)-#REF! -> #REF! | G32: =G8-SUM(G9:G14)-#REF! -> #REF! | H32: =H8-SUM(H9:H14)-#REF! -> #REF! | I32: =I8-SUM(I9:I14)-#REF! -> #REF! | ... N32: =N8-SUM(N9:N14)-#REF! -> #REF! | R32: =R8-SUM(R9:R14)-#REF! -> #REF! | S32: =S8-SUM(S9:S14)-#REF! -> #REF! | T32: =T8-SUM(T9:T14)-#REF! -> #REF! | U32: =U8-SUM(U9:U14)-#REF! -> #REF! | V32: =V8-SUM(V9:V14)-#REF! -> #REF! | W32: =W8-SUM(W9:W14)-#REF! -> #REF! | X32: =X8-SUM(X9:X14)-#REF! -> #REF! | Y32: =Y8-SUM(Y9:Y14)-#REF! -> #REF!
A33: 臺 灣 省 | B33: =#REF!-SUM(B15:B28) -> #REF! | C33: =#REF!-SUM(C15:C28) -> #REF! | D33: =#REF!-SUM(D15:D28) -> #REF! | E33: =#REF!-SUM(E15:E28) -> #REF! | F33: =#REF!-SUM(F15:F28) -> #REF! | G33: =#REF!-SUM(G15:G28) -> #REF! | H33: =#REF!-SUM(H15:H28) -> #REF! | I33: =#REF!-SUM(I15:I28) -> #REF! | ... N33: =#REF!-SUM(N15:N28) -> #REF! | R33: =#REF!-SUM(R15:R28) -> #REF! | S33: =#REF!-SUM(S15:S28) -> #REF! | T33: =#REF!-SUM(T15:T28) -> #REF! | U33: =#REF!-SUM(U15:U28) -> #REF! | V33: =#REF!-SUM(V15:V28) -> #REF! | W33: =#REF!-SUM(W15:W28) -> #REF! | X33: =#REF!-SUM(X15:X28) -> #REF! | Y33: =#REF!-SUM(Y15:Y28) -> #REF!
A34: 福建省 | B34: =#REF!-B29-B30 -> #REF! | C34: =#REF!-C29-C30 -> #REF! | D34: =#REF!-D29-D30 -> #REF! | E34: =#REF!-E29-E30 -> #REF! | F34: =#REF!-F29-F30 -> #REF! | G34: =#REF!-G29-G30 -> #REF! | H34: =#REF!-H29-H30 -> #REF! | I34: =#REF!-I29-I30 -> #REF! | ... N34: =#REF!-N29-N30 -> #REF! | R34: =#REF!-R29-R30 -> #REF! | S34: =#REF!-S29-S30 -> #REF! | T34: =#REF!-T29-T30 -> #REF! | U34: =#REF!-U29-U30 -> #REF! | V34: =#REF!-V29-V30 -> #REF! | W34: =#REF!-W29-W30 -> #REF! | X34: =#REF!-X29-X30 -> #REF! | Y34: =#REF!-Y29-Y30 -> #REF!
A35: 年月 | B35: =#REF!-'113'!B8 -> #REF! | C35: =#REF!-'113'!C8 -> #REF! | D35: =#REF!-'113'!D8 -> #REF! | E35: =#REF!-'113'!E8 -> #REF! | F35: =#REF!-'113'!F8-'113'!G8 -> #REF! | H35: =#REF!-'113'!H8 -> #REF! | I35: =#REF!-'113'!I8-'113'!J8 -> #REF! | K35: =#REF!-'113'!K8 -> #REF! | L35: =#REF!-'113'!L8-'113'!M8 -> #REF! | N35: =#REF!-'113'!N8 -> #REF! | R35: =#REF!-'113'!R8-'113'!S8 -> #REF! | T35: =#REF!-'113'!T8 -> #REF! | U35: =#REF!-'113'!U8-'113'!V8 -> #REF! | W35: =#REF!-'113'!W8 -> #REF! | X35: =#REF!-'113'!X8 -> #REF! | Y35: =#REF!-'113'!Y8 -> #REF!

Sheet 112
A1: 1.4-02 中低收入老人生活津貼
A2: 民國112年
A3: 單位：人
A4: 區域別 | B4: 總計 | F4: 低收入戶 | O4: 中 低 收 入 戶 | R4: 中低收入老人 | X4: 具原住民身分分
B5: 人數(期底數) | E5: 金額(元) | F5: 第1款(省、新北、臺中、臺南)、第0類(臺北)、第1類(高雄) | I5: 第2款(省、新北、臺中、臺南)、第1、2類(臺北)、第2類(高雄) | L5: 第3款(省、新北、臺中、臺南)、第3、4類(臺北、高雄) | R5: 最低生活費1倍以上未滿1.5倍 | U5: 最低生活費1.5倍以上未滿2.5倍
B6: 計 | C6: 男 | D6: 女 | F6: 人數 | H6: 金額(元) | I6: 人數 | K6: 金額(元) | L6: 人數 | N6: 金額(元) | O6: 人數 | Q6: 金額(元) | R6: 人數 | T6: 金額(元) | U6: 人數 | W6: 金額(元) | X6: 人數
F7: 男 | G7: 女 | I7: 男 | J7: 女 | L7: 男 | M7: 女 | O7: 男 | P7: 女 | R7: 男 | S7: 女 | U7: 男 | V7: 女 | X7: 男 | Y7: 女
A8: 112年，2023 | B8: 208407 | C8: 98572 | D8: 109835 | E8: 16885865996 | F8: 459 | G8: 153 | H8: 59400939 | I8: 7184 | J8: 3351 | K8: 969571185 | L8: 10338 | M8: 6101 | N8: 1479111136 | O8: 4977 | P8: 4660 | Q8: 825368396 | R8: 54906 | S8: 70533 | T8: 11553496186 | U8: 20708 | V8: 25037 | W8: 1998918154 | X8: 1854 | Y8: 2166
A9: 新北市 | B9: 23701 | C9: 11610 | D9: 12091 | E9: 1973638927 | F9: 22 | G9: 5 | H9: 2557767 | I9: 325 | J9: 128 | K9: 39515508 | L9: 1635 | M9: 947 | N9: 239516034 | O9: 665 | P9: 530 | Q9: 103954003 | R9: 6948 | S9: 8403 | T9: 1409322462 | U9: 2015 | V9: 2078 | W9: 178773153 | X9: 130 | Y9: 213
A10: 臺北市 | B10: 14237 | C10: 6953 | D10: 7284 | E10: 1265126251 | F10: 292 | G10: 94 | H10: 37069038 | I10: 1631 | J10: 997 | K10: 244264937 | L10: 1369 | M10: 1395 | N10: 251831331 | O10: 839 | P10: 863 | Q10: 152357381 | R10: 2332 | S10: 3450 | T10: 536080212 | U10: 490 | V10: 485 | W10: 43523352 | X10: 29 | Y10: 75
A11: 桃園市 | B11: 11883 | C11: 5522 | D11: 6361 | E11: 971706000 | F11: 17 | G11: 4 | H11: 2063894 | I11: 265 | J11: 94 | K11: 32067947 | L11: 712 | M11: 416 | N11: 98891614 | O11: 256 | P11: 231 | Q11: 35510365 | R11: 3328 | S11: 4564 | T11: 718199995 | U11: 944 | V11: 1052 | W11: 84972185 | X11: 85 | Y11: 125
A12: 臺中市 | B12: 25517 | C12: 11824 | D12: 13693 | E12: 2116046820 | F12: 63 | G12: 22 | H12: 8050285 | I12: 1216 | J12: 589 | K12: 166421937 | L12: 751 | M12: 614 | N12: 123979019 | O12: 632 | P12: 573 | Q12: 100524457 | R12: 6863 | S12: 9225 | T12: 1495049799 | U12: 2299 | V12: 2670 | W12: 222021323 | X12: 49 | Y12: 57
A13: 臺南市 | B13: 17719 | C13: 8628 | D13: 9091 | E13: 1432715392 | F13: 27 | G13: 15 | H13: 4492461 | I13: 603 | J13: 221 | K13: 76747072 | L13: 860 | M13: 355 | N13: 108761571 | O13: 91 | P13: 64 | Q13: 13208836 | R13: 5165 | S13: 6269 | T13: 1052878759 | U13: 1882 | V13: 2167 | W13: 176626693 | X13: 10 | Y13: 24
A14: 高雄市 | B14: 44136 | C14: 19504 | D14: 24632 | E14: 3509963252 | F14: 6 | G14: 10 | H14: 1613872 | I14: 1489 | J14: 719 | K14: 201685994 | L14: 764 | M14: 653 | N14: 126764257 | O14: 1152 | P14: 1400 | Q14: 227815991 | R14: 11364 | S14: 15477 | T14: 2466460856 | U14: 4729 | V14: 6373 | W14: 485622282 | X14: 127 | Y14: 262
A15: 宜蘭縣 | B15: 3555 | C15: 1734 | D15: 1821 | E15: 279668983 | F15: 3 | G15: 0 | H15: 333637 | I15: 62 | J15: 21 | K15: 7966122 | L15: 286 | M15: 117 | N15: 34890016 | O15: 117 | P15: 99 | Q15: 15804764 | R15: 891 | S15: 1096 | T15: 185150907 | U15: 375 | V15: 488 | W15: 35523537 | X15: 86 | Y15: 121
A16: 新竹縣 | B16: 2194 | C16: 1143 | D16: 1051 | E16: 170138658 | F16: 0 | G16: 0 | H16: 15518 | I16: 58 | J16: 15 | K16: 7363291 | L16: 157 | M16: 64 | N16: 19113237 | O16: 95 | P16: 58 | Q16: 13007964 | R16: 525 | S16: 598 | T16: 103365399 | U16: 308 | V16: 316 | W16: 27273249 | X16: 76 | Y16: 70
A17: 苗栗縣 | B17: 3137 | C17: 1551 | D17: 1586 | E17: 242227343 | F17: 0 | G17: 0 | H17: 0 | I17: 203 | J17: 65 | K17: 24533958 | L17: 160 | M17: 133 | N17: 26046963 | O17: 111 | P17: 89 | Q17: 16076648 | R17: 677 | S17: 830 | T17: 138610662 | U17: 400 | V17: 469 | W17: 36959112 | X17: 24 | Y17: 28
A18: 彰化縣 | B18: 12385 | C18: 6007 | D18: 6378 | E18: 990104764 | F18: 1 | G18: 0 | H18: 93108 | I18: 11 | J18: 4 | K18: 1326789 | L18: 766 | M18: 284 | N18: 93059072 | O18: 187 | P18: 102 | Q18: 23638446 | R18: 3680 | S18: 4375 | T18: 741128126 | U18: 1362 | V18: 1613 | W18: 130859223 | X18: 40 | Y18: 55
A19: 南投縣 | B19: 7363 | C19: 3430 | D19: 3933 | E19: 566663978 | F19: 1 | G19: 0 | H19: 93108 | I19: 22 | J19: 9 | K19: 2816517 | L19: 293 | M19: 89 | N19: 35286209 | O19: 73 | P19: 54 | Q19: 8886749 | R19: 2012 | S19: 2484 | T19: 417283448 | U19: 1029 | V19: 1297 | W19: 102297947 | X19: 30 | Y19: 52
... A30: 連江縣 | B30: 11 | C30: 10 | D30: 1 | E30: 931068 | F30: 2 | G30: 0 | H30: 186216 | I30: 2 | J30: 0 | K30: 186216 | L30: 2 | M30: 0 | N30: 186216 | O30: 2 | P30: 0 | Q30: 186216 | R30: 1 | S30: 0 | T30: 93108 | U30: 1 | V30: 1 | W30: 93096 | X30: 0 | Y30: 0
A31: 資料來源：直轄市、縣﹝市﹞政府。
A32: 總計 | B32: =B8-SUM(B9:B14)-#REF! -> #REF! | C32: =C8-SUM(C9:C14)-#REF! -> #REF! | D32: =D8-SUM(D9:D14)-#REF! -> #REF! | E32: =E8-SUM(E9:E14)-#REF! -> #REF! | F32: =F8-SUM(F9:F14)-#REF! -> #REF! | G32: =G8-SUM(G9:G14)-#REF! -> #REF! | H32: =H8-SUM(H9:H14)-#REF! -> #REF! | I32: =I8-SUM(I9:I14)-#REF! -> #REF! | ... N32: =N8-SUM(N9:N14)-#REF! -> #REF! | R32: =R8-SUM(R9:R14)-#REF! -> #REF! | S32: =S8-SUM(S9:S14)-#REF! -> #REF! | T32: =T8-SUM(T9:T14)-#REF! -> #REF! | U32: =U8-SUM(U9:U14)-#REF! -> #REF! | V32: =V8-SUM(V9:V14)-#REF! -> #REF! | W32: =W8-SUM(W9:W14)-#REF! -> #REF! | X32: =X8-SUM(X9:X14)-#REF! -> #REF! | Y32: =Y8-SUM(Y9:Y14)-#REF! -> #REF!
A33: 臺 灣 省 | B33: =#REF!-SUM(B15:B28) -> #REF! | C33: =#REF!-SUM(C15:C28) -> #REF! | D33: =#REF!-SUM(D15:D28) -> #REF! | E33: =#REF!-SUM(E15:E28) -> #REF! | F33: =#REF!-SUM(F15:F28) -> #REF! | G33: =#REF!-SUM(G15:G28) -> #REF! | H33: =#REF!-SUM(H15:H28) -> #REF! | I33: =#REF!-SUM(I15:I28) -> #REF! | ... N33: =#REF!-SUM(N15:N28) -> #REF! | R33: =#REF!-SUM(R15:R28) -> #REF! | S33: =#REF!-SUM(S15:S28) -> #REF! | T33: =#REF!-SUM(T15:T28) -> #REF! | U33: =#REF!-SUM(U15:U28) -> #REF! | V33: =#REF!-SUM(V15:V28) -> #REF! | W33: =#REF!-SUM(W15:W28) -> #REF! | X33: =#REF!-SUM(X15:X28) -> #REF! | Y33: =#REF!-SUM(Y15:Y28) -> #REF!
A34: 福建省 | B34: =#REF!-B29-B30 -> #REF! | C34: =#REF!-C29-C30 -> #REF! | D34: =#REF!-D29-D30 -> #REF! | E34: =#REF!-E29-E30 -> #REF! | F34: =#REF!-F29-F30 -> #REF! | G34: =#REF!-G29-G30 -> #REF! | H34: =#REF!-H29-H30 -> #REF! | I34: =#REF!-I29-I30 -> #REF! | ... N34: =#REF!-N29-N30 -> #REF! | R34: =#REF!-R29-R30 -> #REF! | S34: =#REF!-S29-S30 -> #REF! | T34: =#REF!-T29-T30 -> #REF! | U34: =#REF!-U29-U30 -> #REF! | V34: =#REF!-V29-V30 -> #REF! | W34: =#REF!-W29-W30 -> #REF! | X34: =#REF!-X29-X30 -> #REF! | Y34: =#REF!-Y29-Y30 -> #REF!
A35: 年月 | B35: =#REF!-'112'!B8 -> #REF! | C35: =#REF!-'112'!C8 -> #REF! | D35: =#REF!-'112'!D8 -> #REF! | E35: =#REF!-'112'!E8 -> #REF! | F35: =#REF!-'112'!F8-'112'!G8 -> #REF! | H35: =#REF!-'112'!H8 -> #REF! | I35: =#REF!-'112'!I8-'112'!J8 -> #REF! | K35: =#REF!-'112'!K8 -> #REF! | L35: =#REF!-'112'!L8-'112'!M8 -> #REF! | N35: =#REF!-'112'!N8 -> #REF! | R35: =#REF!-'112'!R8-'112'!S8 -> #REF! | T35: =#REF!-'112'!T8 -> #REF! | U35: =#REF!-'112'!U8-'112'!V8 -> #REF! | W35: =#REF!-'112'!W8 -> #REF! | X35: =#REF!-'112'!X8 -> #REF! | Y35: =#REF!-'112'!Y8 -> #REF!

Sheet 111
A1: 1.4-02 中低收入老人生活津貼
A2: 民國111年
A3: 單位：人
A4: 區域別 | B4: 總計 | F4: 低收入戶 | O4: 中低收入 | U4: 具原住民身分分
B5: 人數(期底數) | E5: 金額(元) | F5: 第1款(省、新北、臺中、臺南)、第0類(臺北)、第1類(高雄) | I5: 第2款(省、新北、臺中、臺南)、第1、2類(臺北)、第2類(高雄) | L5: 第3款(省、新北、臺中、臺南)、第3、4類(臺北、高雄) | O5: 最低生活費1倍以上未滿1.5倍 | R5: 最低生活費1.5倍以上未滿2.5倍
B6: 計 | C6: 男 | D6: 女 | F6: 人數 | H6: 金額(元) | I6: 人數 | K6: 金額(元) | L6: 人數 | N6: 金額(元) | O6: 人數 | Q6: 金額(元) | R6: 人數 | T6: 金額(元) | U6: 人數
F7: 男 | G7: 女 | I7: 男 | J7: 女 | L7: 男 | M7: 女 | O7: 男 | P7: 女 | R7: 男 | S7: 女 | U7: 男 | V7: 女
A8: 111年，2022 | B8: 195902 | C8: 92360 | D8: 103542 | E8: 16134518577 | F8: 497 | G8: 166 | H8: 64791372 | I8: 6814 | J8: 3104 | K8: 917254817 | L8: 9305 | M8: 5561 | N8: 1338315188 | O8: 57804 | P8: 73346 | Q8: 12084048509 | R8: 17940 | S8: 21365 | T8: 1730108691 | U8: 1588 | V8: 1954
A9: 新北市 | B9: 21712 | C9: 10602 | D9: 11110 | E9: 1842083816 | F9: 25 | G9: 4 | H9: 2806155 | I9: 297 | J9: 116 | K9: 37945833 | L9: 1528 | M9: 865 | N9: 219176447 | O9: 6968 | P9: 8327 | Q9: 1422609436 | R9: 1784 | S9: 1798 | T9: 159545945 | U9: 109 | V9: 183
A10: 臺北市 | B10: 13603 | C10: 6704 | D10: 6899 | E10: 1208071559 | F10: 311 | G10: 99 | H10: 39394380 | I10: 1603 | J10: 939 | K10: 234368299 | L10: 1240 | M10: 1267 | N10: 230382784 | O10: 3074 | P10: 4161 | Q10: 660650107 | R10: 476 | S10: 433 | T10: 43275989 | U10: 27 | V10: 70
A11: 桃園市 | B11: 10983 | C11: 5082 | D11: 5901 | E11: 906497532 | F11: 18 | G11: 5 | H11: 2025099 | I11: 248 | J11: 78 | K11: 29502627 | L11: 596 | M11: 350 | N11: 80789293 | O11: 3359 | P11: 4479 | Q11: 712845972 | R11: 861 | S11: 989 | T11: 81334541 | U11: 57 | V11: 100
A12: 臺中市 | B12: 23369 | C12: 10903 | D12: 12466 | E12: 1991506927 | F12: 64 | G12: 24 | H12: 8571324 | I12: 1102 | J12: 514 | K12: 150054000 | L12: 651 | M12: 563 | N12: 111134489 | O12: 7224 | P12: 9195 | Q12: 1537343567 | R12: 1862 | S12: 2170 | T12: 184403547 | U12: 38 | V12: 49
A13: 臺南市 | B13: 16652 | C13: 8030 | D13: 8622 | E13: 1358381416 | F13: 34 | G13: 17 | H13: 5213048 | I13: 589 | J13: 216 | K13: 75495070 | L13: 767 | M13: 345 | N13: 100299790 | O13: 5022 | P13: 6152 | Q13: 1026705288 | R13: 1618 | S13: 1892 | T13: 150668220 | U13: 10 | V13: 20
A14: 高雄市 | B14: 42582 | C14: 18752 | D14: 23830 | E14: 3446990132 | F14: 5 | G14: 12 | H14: 1869919 | I14: 1361 | J14: 688 | K14: 188092251 | L14: 733 | M14: 614 | N14: 118849338 | O14: 12575 | P14: 17173 | Q14: 2726032138 | R14: 4078 | S14: 5343 | T14: 412146486 | U14: 121 | V14: 269
A15: 宜蘭縣 | B15: 3359 | C15: 1651 | D15: 1708 | E15: 265161334 | F15: 4 | G15: 0 | H15: 504335 | I15: 71 | J15: 18 | K15: 8630702 | L15: 249 | M15: 88 | N15: 29591106 | O15: 1019 | P15: 1196 | Q15: 197444747 | R15: 308 | S15: 406 | T15: 28990444 | U15: 82 | V15: 115
A16: 新竹縣 | B16: 2104 | C16: 1096 | D16: 1008 | E16: 164145315 | F16: 1 | G16: 0 | H16: 124144 | I16: 73 | J16: 17 | K16: 8728875 | L16: 122 | M16: 64 | N16: 16431321 | O16: 600 | P16: 641 | Q16: 113403098 | R16: 300 | S16: 286 | T16: 25457877 | U16: 71 | V16: 67
A17: 苗栗縣 | B17: 2899 | C17: 1436 | D17: 1463 | E17: 225394862 | F17: 0 | G17: 0 | H17: 0 | I17: 203 | J17: 58 | K17: 25069329 | L17: 141 | M17: 130 | N17: 23897720 | O17: 754 | P17: 864 | Q17: 144464833 | R17: 338 | S17: 411 | T17: 31962980 | U17: 22 | V17: 25
A18: 彰化縣 | B18: 11515 | C18: 5524 | D18: 5991 | E18: 942759354 | F18: 1 | G18: 0 | H18: 93108 | I18: 10 | J18: 4 | K18: 1489728 | L18: 676 | M18: 254 | N18: 84029755 | O18: 3743 | P18: 4431 | Q18: 753525794 | R18: 1094 | S18: 1302 | T18: 103620969 | U18: 27 | V18: 42
A19: 南投縣 | B19: 7012 | C19: 3268 | D19: 3744 | E19: 547177768 | F19: 1 | G19: 0 | H19: 162939 | I19: 20 | J19: 9 | K19: 2863071 | L19: 283 | M19: 85 | N19: 33928062 | O19: 2005 | P19: 2472 | Q19: 414357975 | R19: 959 | S19: 1178 | T19: 95865721 | U19: 35 | V19: 55
... A30: 連江縣 | B30: 11 | C30: 11 | D30: 0 | E30: 713817 | F30: 2 | G30: 0 | H30: 186216 | I30: 1 | J30: 0 | K30: 93108 | L30: 1 | M30: 0 | N30: 93108 | O30: 5 | P30: 0 | Q30: 256047 | R30: 2 | S30: 0 | T30: 85338 | U30: 0 | V30: 0
A31: 資料來源：直轄市、縣﹝市﹞政府。
A32: 總計 | B32: =B8-SUM(B9:B14)-#REF! -> #REF! | C32: =C8-SUM(C9:C14)-#REF! -> #REF! | D32: =D8-SUM(D9:D14)-#REF! -> #REF! | E32: =E8-SUM(E9:E14)-#REF! -> #REF! | F32: =F8-SUM(F9:F14)-#REF! -> #REF! | G32: =G8-SUM(G9:G14)-#REF! -> #REF! | H32: =H8-SUM(H9:H14)-#REF! -> #REF! | I32: =I8-SUM(I9:I14)-#REF! -> #REF! | ... V32: =V8-SUM(V9:V14)-#REF! -> #REF!
A33: 臺 灣 省 | B33: =#REF!-SUM(B15:B28) -> #REF! | C33: =#REF!-SUM(C15:C28) -> #REF! | D33: =#REF!-SUM(D15:D28) -> #REF! | E33: =#REF!-SUM(E15:E28) -> #REF! | F33: =#REF!-SUM(F15:F28) -> #REF! | G33: =#REF!-SUM(G15:G28) -> #REF! | H33: =#REF!-SUM(H15:H28) -> #REF! | I33: =#REF!-SUM(I15:I28) -> #REF! | ... V33: =#REF!-SUM(V15:V28) -> #REF!
A34: 福建省 | B34: =#REF!-B29-B30 -> #REF! | C34: =#REF!-C29-C30 -> #REF! | D34: =#REF!-D29-D30 -> #REF! | E34: =#REF!-E29-E30 -> #REF! | F34: =#REF!-F29-F30 -> #REF! | G34: =#REF!-G29-G30 -> #REF! | H34: =#REF!-H29-H30 -> #REF! | I34: =#REF!-I29-I30 -> #REF! | ... V34: =#REF!-V29-V30 -> #REF!
A35: 年月 | B35: =#REF!-'111'!B8 -> #REF! | C35: =#REF!-'111'!C8 -> #REF! | D35: =#REF!-'111'!D8 -> #REF! | E35: =#REF!-'111'!E8 -> #REF! | F35: =#REF!-'111'!F8-'111'!G8 -> #REF! | H35: =#REF!-'111'!H8 -> #REF! | I35: =#REF!-'111'!I8-'111'!J8 -> #REF! | K35: =#REF!-'111'!K8 -> #REF! | L35: =#REF!-'111'!L8-'111'!M8 -> #REF! | N35: =#REF!-'111'!N8 -> #REF! | O35: =#REF!-'111'!O8-'111'!P8 -> #REF! | Q35: =#REF!-'111'!Q8 -> #REF! | R35: =#REF!-'111'!R8-'111'!S8 -> #REF! | T35: =#REF!-'111'!T8 -> #REF! | U35: =#REF!-'111'!U8 -> #REF! | V35: =#REF!-'111'!V8 -> #REF!

Sheet 110
A1: 1.4-02 中低收入老人生活津貼
A2: 民國110年
A3: 單位：人
A4: 區域別 | B4: 總計 | F4: 低收入戶 | O4: 中低收入 | U4: 具原住民身分分
B5: 人數(期底數) | E5: 金額(元) | F5: 第1款(省、新北、臺中、臺南)、第0類(臺北)、第1類(高雄) | I5: 第2款(省、新北、臺中、臺南)、第1、2類(臺北)、第2類(高雄) | L5: 第3款(省、新北、臺中、臺南)、第3、4類(臺北、高雄) | O5: 最低生活費1倍以上未滿1.5倍 | R5: 最低生活費1.5倍以上未滿2.5倍
B6: 計 | C6: 男 | D6: 女 | F6: 人數 | H6: 金額(元) | I6: 人數 | K6: 金額(元) | L6: 人數 | N6: 金額(元) | O6: 人數 | Q6: 金額(元) | R6: 人數 | T6: 金額(元) | U6: 人數
F7: 男 | G7: 女 | I7: 男 | J7: 女 | L7: 男 | M7: 女 | O7: 男 | P7: 女 | R7: 男 | S7: 女 | U7: 男 | V7: 女
A8: 110年，2021 | B8: 186225 | C8: 87565 | D8: 98660 | E8: 15010484375 | F8: 562 | G8: 165 | H8: 71780779 | I8: 6424 | J8: 2836 | K8: 855339095 | L8: 8505 | M8: 5099 | N8: 1230946461 | O8: 53857 | P8: 68780 | Q8: 11112820191 | R8: 18217 | S8: 21780 | T8: 1739597849 | U8: 1393 | V8: 1771
A9: 新北市 | B9: 20396 | C9: 9914 | D9: 10482 | E9: 1712176215 | F9: 20 | G9: 4 | H9: 2348274 | I9: 257 | J9: 79 | K9: 32277763 | L9: 1466 | M9: 786 | N9: 204380897 | O9: 6561 | P9: 8004 | Q9: 1332436700 | R9: 1610 | S9: 1609 | T9: 140732581 | U9: 108 | V9: 185
A10: 臺北市 | B10: 12771 | C10: 6348 | D10: 6423 | E10: 1121178879 | F10: 352 | G10: 103 | H10: 44909306 | I10: 1486 | J10: 829 | K10: 211581379 | L10: 1141 | M10: 1160 | N10: 213012668 | O10: 2809 | P10: 3792 | Q10: 602076096 | R10: 560 | S10: 539 | T10: 49599430 | U10: 26 | V10: 52
A11: 桃園市 | B11: 10362 | C11: 4825 | D11: 5537 | E11: 843747515 | F11: 12 | G11: 2 | H11: 1264717 | I11: 227 | J11: 74 | K11: 26443026 | L11: 499 | M11: 289 | N11: 67702878 | O11: 3195 | P11: 4277 | Q11: 671319028 | R11: 892 | S11: 895 | T11: 77017866 | U11: 47 | V11: 92
A12: 臺中市 | B12: 22254 | C12: 10410 | D12: 11844 | E12: 1844842606 | F12: 65 | G12: 19 | H12: 8123673 | I12: 1034 | J12: 462 | K12: 138678528 | L12: 606 | M12: 545 | N12: 104629794 | O12: 6696 | P12: 8567 | Q12: 1402414832 | R12: 2009 | S12: 2251 | T12: 190995779 | U12: 30 | V12: 41
A13: 臺南市 | B13: 15530 | C13: 7466 | D13: 8064 | E13: 1256433476 | F13: 43 | G13: 19 | H13: 6265031 | I13: 567 | J13: 214 | K13: 71949207 | L13: 704 | M13: 338 | N13: 95757856 | O13: 4703 | P13: 5747 | Q13: 944400345 | R13: 1449 | S13: 1746 | T13: 138061037 | U13: 8 | V13: 22
A14: 高雄市 | B14: 41113 | C14: 18081 | D14: 23032 | E14: 3222612348 | F14: 12 | G14: 11 | H14: 2181520 | I14: 1302 | J14: 661 | K14: 179789646 | L14: 669 | M14: 574 | N14: 112866625 | O14: 11689 | P14: 15901 | Q14: 2479089873 | R14: 4409 | S14: 5885 | T14: 448684684 | U14: 108 | V14: 243
A15: 宜蘭縣 | B15: 3168 | C15: 1550 | D15: 1618 | E15: 246748497 | F15: 7 | G15: 0 | H15: 651756 | I15: 80 | J15: 18 | K15: 9249051 | L15: 216 | M15: 77 | N15: 24354748 | O15: 921 | P15: 1107 | Q15: 181680451 | R15: 326 | S15: 416 | T15: 30812491 | U15: 69 | V15: 106
A16: 新竹縣 | B16: 2017 | C16: 1046 | D16: 971 | E16: 153496970 | F16: 3 | G16: 0 | H16: 380191 | I16: 84 | J16: 20 | K16: 10009110 | L16: 116 | M16: 59 | N16: 14924437 | O16: 546 | P16: 607 | Q16: 103299447 | R16: 297 | S16: 285 | T16: 24883785 | U16: 61 | V16: 70
A17: 苗栗縣 | B17: 2594 | C17: 1288 | D17: 1306 | E17: 200263928 | F17: 0 | G17: 0 | H17: 0 | I17: 216 | J17: 58 | K17: 25271063 | L17: 116 | M17: 119 | N17: 20926023 | O17: 644 | P17: 759 | Q17: 125944092 | R17: 312 | S17: 370 | T17: 28122750 | U17: 15 | V17: 20
A18: 彰化縣 | B18: 10729 | C18: 5130 | D18: 5599 | E18: 847901447 | F18: 1 | G18: 0 | H18: 93108 | I18: 12 | J18: 4 | K18: 1443174 | L18: 624 | M18: 226 | N18: 76934476 | O18: 3363 | P18: 4048 | Q18: 663535539 | R18: 1130 | S18: 1321 | T18: 105895150 | U18: 19 | V18: 25
A19: 南投縣 | B19: 6889 | C19: 3215 | D19: 3674 | E19: 523318742 | F19: 3 | G19: 0 | H19: 279324 | I19: 23 | J19: 9 | K19: 3235503 | L19: 290 | M19: 83 | N19: 34558586 | O19: 1903 | P19: 2398 | Q19: 391861962 | R19: 996 | S19: 1184 | T19: 93383367 | U19: 40 | V19: 57
... A30: 連江縣 | B30: 6 | C30: 5 | D30: 1 | E30: 589684 | F30: 2 | G30: 0 | H30: 186216 | I30: 1 | J30: 0 | K30: 93108 | L30: 0 | M30: 0 | N30: 38795 | O30: 2 | P30: 1 | Q30: 271565 | R30: 0 | S30: 0 | T30: 0 | U30: 0 | V30: 0
A31: 資料來源：直轄市、縣﹝市﹞政府。
A32: 總計 | B32: =B8-SUM(B9:B14)-#REF! -> #REF! | C32: =C8-SUM(C9:C14)-#REF! -> #REF! | D32: =D8-SUM(D9:D14)-#REF! -> #REF! | E32: =E8-SUM(E9:E14)-#REF! -> #REF! | F32: =F8-SUM(F9:F14)-#REF! -> #REF! | G32: =G8-SUM(G9:G14)-#REF! -> #REF! | H32: =H8-SUM(H9:H14)-#REF! -> #REF! | I32: =I8-SUM(I9:I14)-#REF! -> #REF! | ... V32: =V8-SUM(V9:V14)-#REF! -> #REF!
A33: 臺 灣 省 | B33: =#REF!-SUM(B15:B28) -> #REF! | C33: =#REF!-SUM(C15:C28) -> #REF! | D33: =#REF!-SUM(D15:D28) -> #REF! | E33: =#REF!-SUM(E15:E28) -> #REF! | F33: =#REF!-SUM(F15:F28) -> #REF! | G33: =#REF!-SUM(G15:G28) -> #REF! | H33: =#REF!-SUM(H15:H28) -> #REF! | I33: =#REF!-SUM(I15:I28) -> #REF! | ... V33: =#REF!-SUM(V15:V28) -> #REF!
A34: 福建省 | B34: =#REF!-B29-B30 -> #REF! | C34: =#REF!-C29-C30 -> #REF! | D34: =#REF!-D29-D30 -> #REF! | E34: =#REF!-E29-E30 -> #REF! | F34: =#REF!-F29-F30 -> #REF! | G34: =#REF!-G29-G30 -> #REF! | H34: =#REF!-H29-H30 -> #REF! | I34: =#REF!-I29-I30 -> #REF! | ... V34: =#REF!-V29-V30 -> #REF!
A35: 年月 | B35: =#REF!-'110'!B8 -> #REF! | C35: =#REF!-'110'!C8 -> #REF! | D35: =#REF!-'110'!D8 -> #REF! | E35: =#REF!-'110'!E8 -> #REF! | F35: =#REF!-'110'!F8-'110'!G8 -> #REF! | H35: =#REF!-'110'!H8 -> #REF! | I35: =#REF!-'110'!I8-'110'!J8 -> #REF! | K35: =#REF!-'110'!K8 -> #REF! | L35: =#REF!-'110'!L8-'110'!M8 -> #REF! | N35: =#REF!-'110'!N8 -> #REF! | O35: =#REF!-'110'!O8-'110'!P8 -> #REF! | Q35: =#REF!-'110'!Q8 -> #REF! | R35: =#REF!-'110'!R8-'110'!S8 -> #REF! | T35: =#REF!-'110'!T8 -> #REF! | U35: =#REF!-'110'!U8 -> #REF! | V35: =#REF!-'110'!V8 -> #REF!

Sheet 109
A1: 1.4-02 中低收入老人生活津貼
A2: 民國109年
A3: 單位：人
A4: 區域別 | B4: 總計 | F4: 低收入戶 | O4: 中低收入 | U4: 具原住民身分分
B5: 人數(期底數) | E5: 金額(元) | F5: 第1款(省、新北、臺中、臺南)、第0類(臺北)、第1類(高雄) | I5: 第2款(省、新北、臺中、臺南)、第1、2類(臺北)、第2類(高雄) | L5: 第3款(省、新北、臺中、臺南)、第3、4類(臺北、高雄) | O5: 最低生活費1倍以上未滿1.5倍 | R5: 最低生活費1.5倍以上未滿2.5倍
B6: 計 | C6: 男 | D6: 女 | F6: 人數 | H6: 金額(元) | I6: 人數 | K6: 金額(元) | L6: 人數 | N6: 金額(元) | O6: 人數 | Q6: 金額(元) | R6: 人數 | T6: 金額(元) | U6: 人數
F7: 男 | G7: 女 | I7: 男 | J7: 女 | L7: 男 | M7: 女 | O7: 男 | P7: 女 | R7: 男 | S7: 女 | U7: 男 | V7: 女
A8: 109年，2020 | B8: 173011 | C8: 81345 | D8: 91666 | E8: 13783178546 | F8: 629 | G8: 176 | H8: 78242459 | I8: 6049 | J8: 2667 | K8: 804642487 | L8: 7954 | M8: 4738 | N8: 1129108007 | O8: 49741 | P8: 63883 | Q8: 10174161489 | R8: 16972 | S8: 20202 | T8: 1597024104 | U8: 1279 | V8: 1632
A9: 新北市 | B9: 18446 | C9: 8998 | D9: 9448 | E9: 1522910327 | F9: 22 | G9: 4 | H9: 2631710 | I9: 242 | J9: 67 | K9: 29573920 | L9: 1384 | M9: 759 | N9: 193455877 | O9: 6031 | P9: 7331 | Q9: 1188498594 | R9: 1319 | S9: 1287 | T9: 108750226 | U9: 102 | V9: 161
A10: 臺北市 | B10: 12200 | C10: 6075 | D10: 6125 | E10: 1054432928 | F10: 397 | G10: 101 | H10: 48182359 | I10: 1367 | J10: 737 | K10: 192620804 | L10: 1079 | M10: 1110 | N10: 197473553 | O10: 2681 | P10: 3641 | Q10: 568218704 | R10: 551 | S10: 536 | T10: 47937508 | U10: 33 | V10: 57
A11: 桃園市 | B11: 9517 | C11: 4452 | D11: 5065 | E11: 765305268 | F11: 12 | G11: 4 | H11: 1443174 | I11: 199 | J11: 65 | K11: 24370723 | L11: 400 | M11: 247 | N11: 52969534 | O11: 3059 | P11: 4020 | Q11: 623161867 | R11: 782 | S11: 729 | T11: 63359970 | U11: 40 | V11: 84
A12: 臺中市 | B12: 20330 | C12: 9488 | D12: 10842 | E12: 1687705502 | F12: 62 | G12: 18 | H12: 7884032 | I12: 919 | J12: 420 | K12: 123671894 | L12: 608 | M12: 470 | N12: 97532307 | O12: 6212 | P12: 8040 | Q12: 1301198047 | R12: 1687 | S12: 1894 | T12: 157419222 | U12: 26 | V12: 39
A13: 臺南市 | B13: 14178 | C13: 6796 | D13: 7382 | E13: 1123284735 | F13: 54 | G13: 24 | H13: 7738945 | I13: 541 | J13: 209 | K13: 69685197 | L13: 667 | M13: 305 | N13: 85248330 | O13: 4106 | P13: 5100 | Q13: 825886575 | R13: 1428 | S13: 1744 | T13: 134725688 | U13: 8 | V13: 19
A14: 高雄市 | B14: 39023 | C14: 17206 | D14: 21817 | E14: 3049455494 | F14: 16 | G14: 12 | H14: 2901866 | I14: 1247 | J14: 642 | K14: 173132445 | L14: 653 | M14: 564 | N14: 107644340 | O14: 11322 | P14: 15364 | Q14: 2370196787 | R14: 3968 | S14: 5235 | T14: 395580056 | U14: 108 | V14: 230
A15: 宜蘭縣 | B15: 2870 | C15: 1395 | D15: 1475 | E15: 226909972 | F15: 7 | G15: 0 | H15: 682792 | I15: 80 | J15: 19 | K15: 9916890 | L15: 184 | M15: 66 | N15: 21109307 | O15: 827 | P15: 1030 | Q15: 166975385 | R15: 297 | S15: 360 | T15: 28225598 | U15: 49 | V15: 95
A16: 新竹縣 | B16: 1844 | C16: 984 | D16: 860 | E16: 136213582 | F16: 4 | G16: 1 | H16: 465540 | I16: 90 | J16: 19 | K16: 10327229 | L16: 102 | M16: 39 | N16: 12398882 | O16: 468 | P16: 507 | Q16: 86474055 | R16: 320 | S16: 294 | T16: 26547876 | U16: 57 | V16: 58
A17: 苗栗縣 | B17: 2364 | C17: 1174 | D17: 1190 | E17: 181932713 | F17: 0 | G17: 0 | H17: 0 | I17: 211 | J17: 57 | K17: 24750914 | L17: 100 | M17: 106 | N17: 18659507 | O17: 573 | P17: 664 | Q17: 110457135 | R17: 290 | S17: 363 | T17: 28065157 | U17: 12 | V17: 17
A18: 彰化縣 | B18: 9648 | C18: 4584 | D18: 5064 | E18: 749015581 | F18: 1 | G18: 0 | H18: 46554 | I18: 12 | J18: 4 | K18: 1381102 | L18: 562 | M18: 192 | N18: 70180616 | O18: 2960 | P18: 3546 | Q18: 575842875 | R18: 1049 | S18: 1322 | T18: 101564434 | U18: 17 | V18: 20
A19: 南投縣 | B19: 6530 | C19: 3019 | D19: 3511 | E19: 486171784 | F19: 3 | G19: 0 | H19: 279324 | I19: 34 | J19: 10 | K19: 4158824 | L19: 282 | M19: 87 | N19: 32881137 | O19: 1736 | P19: 2182 | Q19: 353141998 | R19: 964 | S19: 1232 | T19: 95710501 | U19: 39 | V19: 56
... A30: 連江縣 | B30: 7 | C30: 6 | D30: 1 | E30: 550889 | F30: 2 | G30: 0 | H30: 186216 | I30: 1 | J30: 0 | K30: 62072 | L30: 1 | M30: 0 | N30: 93108 | O30: 2 | P30: 1 | Q30: 209493 | R30: 0 | S30: 0 | T30: 0 | U30: 0 | V30: 0
A31: 資料來源：直轄市、縣﹝市﹞政府。
A32: 總計 | B32: =B8-SUM(B9:B14)-#REF! -> #REF! | C32: =C8-SUM(C9:C14)-#REF! -> #REF! | D32: =D8-SUM(D9:D14)-#REF! -> #REF! | E32: =E8-SUM(E9:E14)-#REF! -> #REF! | F32: =F8-SUM(F9:F14)-#REF! -> #REF! | G32: =G8-SUM(G9:G14)-#REF! -> #REF! | H32: =H8-SUM(H9:H14)-#REF! -> #REF! | I32: =I8-SUM(I9:I14)-#REF! -> #REF! | ... V32: =V8-SUM(V9:V14)-#REF! -> #REF!
A33: 臺 灣 省 | B33: =#REF!-SUM(B15:B28) -> #REF! | C33: =#REF!-SUM(C15:C28) -> #REF! | D33: =#REF!-SUM(D15:D28) -> #REF! | E33: =#REF!-SUM(E15:E28) -> #REF! | F33: =#REF!-SUM(F15:F28) -> #REF! | G33: =#REF!-SUM(G15:G28) -> #REF! | H33: =#REF!-SUM(H15:H28) -> #REF! | I33: =#REF!-SUM(I15:I28) -> #REF! | ... V33: =#REF!-SUM(V15:V28) -> #REF!
A34: 福建省 | B34: =#REF!-B29-B30 -> #REF! | C34: =#REF!-C29-C30 -> #REF! | D34: =#REF!-D29-D30 -> #REF! | E34: =#REF!-E29-E30 -> #REF! | F34: =#REF!-F29-F30 -> #REF! | G34: =#REF!-G29-G30 -> #REF! | H34: =#REF!-H29-H30 -> #REF! | I34: =#REF!-I29-I30 -> #REF! | ... V34: =#REF!-V29-V30 -> #REF!
A35: 年月 | B35: =#REF!-'109'!B8 -> #REF! | C35: =#REF!-'109'!C8 -> #REF! | D35: =#REF!-'109'!D8 -> #REF! | E35: =#REF!-'109'!E8 -> #REF! | F35: =#REF!-'109'!F8-'109'!G8 -> #REF! | H35: =#REF!-'109'!H8 -> #REF! | I35: =#REF!-'109'!I8-'109'!J8 -> #REF! | K35: =#REF!-'109'!K8 -> #REF! | L35: =#REF!-'109'!L8-'109'!M8 -> #REF! | N35: =#REF!-'109'!N8 -> #REF! | O35: =#REF!-'109'!O8-'109'!P8 -> #REF! | Q35: =#REF!-'109'!Q8 -> #REF! | R35: =#REF!-'109'!R8-'109'!S8 -> #REF! | T35: =#REF!-'109'!T8 -> #REF! | U35: =#REF!-'109'!U8 -> #REF! | V35: =#REF!-'109'!V8 -> #REF!

Sheet 108
A1: 1.4-02 中低收入老人生活津貼
A2: 民國108年
A3: 單位：人
A4: 區域別 | B4: 總計 | F4: 低收入戶 | O4: 中低收入 | U4: 具原住民身分分
B5: 人數(期底數) | E5: 金額(元) | F5: 第1款(省、新北、臺中、臺南)、第0類(臺北)、第1類(高雄) | I5: 第2款(省、新北、臺中、臺南)、第1、2類(臺北)、第2類(高雄) | L5: 第3款(省、新北、臺中、臺南)、第3、4類(臺北、高雄) | O5: 最低生活費1倍以上未滿1.5倍 | R5: 最低生活費1.5倍以上未滿2.5倍
B6: 計 | C6: 男 | D6: 女 | F6: 人數 | H6: 金額(元) | I6: 人數 | K6: 金額(元) | L6: 人數 | N6: 金額(元) | O6: 人數 | Q6: 金額(元) | R6: 人數 | T6: 金額(元) | U6: 人數
F7: 男 | G7: 女 | I7: 男 | J7: 女 | L7: 男 | M7: 女 | O7: 男 | P7: 女 | R7: 男 | S7: 女 | U7: 男 | V7: 女
A8: 108年，2019 | B8: 156783 | C8: 73512 | D8: 83271 | E8: 12175723108 | F8: 691 | G8: 200 | H8: 81438512 | I8: 5729 | J8: 2473 | K8: 721150102 | L8: 7196 | M8: 4209 | N8: 973458501 | O8: 46108 | P8: 59703 | Q8: 9134087198 | R8: 13788 | S8: 16686 | T8: 1265588795 | U8: 1178 | V8: 1491
A9: 新北市 | B9: 15912 | C9: 7695 | D9: 8217 | E9: 1263792905 | F9: 26 | G9: 4 | H9: 2830974 | I9: 236 | J9: 59 | K9: 26663018 | L9: 1276 | M9: 678 | N9: 167457795 | O9: 5042 | P9: 6325 | Q9: 976444493 | R9: 1115 | S9: 1151 | T9: 90396625 | U9: 66 | V9: 104
A10: 臺北市 | B10: 11739 | C10: 6030 | D10: 5709 | E10: 951822454 | F10: 437 | G10: 122 | H10: 50192971 | I10: 1287 | J10: 659 | K10: 165842166 | L10: 1064 | M10: 960 | N10: 171004622 | O10: 2741 | P10: 3461 | Q10: 521173834 | R10: 501 | S10: 507 | T10: 43608861 | U10: 41 | V10: 58
A11: 桃園市 | B11: 8365 | C11: 3900 | D11: 4465 | E11: 643018696 | F11: 11 | G11: 3 | H11: 1186617 | I11: 187 | J11: 63 | K11: 21806886 | L11: 308 | M11: 197 | N11: 40240496 | O11: 2670 | P11: 3542 | Q11: 523196620 | R11: 724 | S11: 660 | T11: 56588077 | U11: 38 | V11: 71
A12: 臺中市 | B12: 18065 | C12: 8314 | D12: 9751 | E12: 1451390435 | F12: 60 | G12: 19 | H12: 7403296 | I12: 791 | J12: 379 | K12: 103504679 | L12: 531 | M12: 405 | N12: 81541469 | O12: 5484 | P12: 7207 | Q12: 1119651687 | R12: 1448 | S12: 1741 | T12: 139289304 | U12: 22 | V12: 35
A13: 臺南市 | B13: 12451 | C13: 5930 | D13: 6521 | E13: 977424039 | F13: 64 | G13: 26 | H13: 8548061 | I13: 538 | J13: 194 | K13: 64443006 | L13: 580 | M13: 269 | N13: 73259212 | O13: 3699 | P13: 4777 | Q13: 735463705 | R13: 1049 | S13: 1255 | T13: 95710055 | U13: 6 | V13: 15
A14: 高雄市 | B14: 36301 | C14: 15993 | D14: 20308 | E14: 2789091319 | F14: 19 | G14: 12 | H14: 2918033 | I14: 1242 | J14: 622 | K14: 162341783 | L14: 599 | M14: 559 | N14: 99066174 | O14: 10981 | P14: 14971 | Q14: 2226984564 | R14: 3152 | S14: 4144 | T14: 297780765 | U14: 85 | V14: 203
A15: 宜蘭縣 | B15: 2632 | C15: 1314 | D15: 1318 | E15: 202978861 | F15: 8 | G15: 0 | H15: 761226 | I15: 85 | J15: 21 | K15: 9283972 | L15: 167 | M15: 51 | N15: 18905956 | O15: 813 | P15: 976 | Q15: 153484014 | R15: 241 | S15: 270 | T15: 20543693 | U15: 57 | V15: 100
A16: 新竹縣 | B16: 1708 | C16: 900 | D16: 808 | E16: 125196507 | F16: 4 | G16: 1 | H16: 447780 | I16: 99 | J16: 23 | K16: 10604923 | L16: 94 | M16: 35 | N16: 10866128 | O16: 455 | P16: 497 | Q16: 82525854 | R16: 248 | S16: 252 | T16: 20751822 | U16: 45 | V16: 51
A17: 苗栗縣 | B17: 2174 | C17: 1066 | D17: 1108 | E17: 164563588 | F17: 1 | G17: 0 | H17: 141797 | I17: 196 | J17: 63 | K17: 23045744 | L17: 88 | M17: 98 | N17: 15485725 | O17: 551 | P17: 645 | Q17: 103299117 | R17: 230 | S17: 302 | T17: 22591205 | U17: 10 | V17: 17
A18: 彰化縣 | B18: 8374 | C18: 3957 | D18: 4417 | E18: 639629169 | F18: 0 | G18: 0 | H18: 0 | I18: 10 | J18: 3 | K18: 1164228 | L18: 531 | M18: 181 | N18: 61946463 | O18: 2622 | P18: 3167 | Q18: 498273514 | R18: 794 | S18: 1066 | T18: 78244964 | U18: 9 | V18: 13
A19: 南投縣 | B19: 6060 | C19: 2784 | D19: 3276 | E19: 439392993 | F19: 3 | G19: 0 | H19: 298520 | I19: 40 | J19: 15 | K19: 5209174 | L19: 260 | M19: 77 | N19: 28822106 | O19: 1618 | P19: 2061 | Q19: 320376955 | R19: 863 | S19: 1123 | T19: 84686238 | U19: 43 | V19: 59
... A30: 連江縣 | B30: 4 | C30: 3 | D30: 1 | E30: 440317 | F30: 2 | G30: 0 | H30: 179112 | I30: 0 | J30: 0 | K30: 0 | L30: 1 | M30: 0 | N30: 89556 | O30: 0 | P30: 1 | Q30: 171649 | R30: 0 | S30: 0 | T30: 0 | U30: 0 | V30: 0
A31: 資料來源：直轄市、縣﹝市﹞政府。
A32: 總計 | B32: =B8-SUM(B9:B14)-#REF! -> #REF! | C32: =C8-SUM(C9:C14)-#REF! -> #REF! | D32: =D8-SUM(D9:D14)-#REF! -> #REF! | E32: =E8-SUM(E9:E14)-#REF! -> #REF! | F32: =F8-SUM(F9:F14)-#REF! -> #REF! | G32: =G8-SUM(G9:G14)-#REF! -> #REF! | H32: =H8-SUM(H9:H14)-#REF! -> #REF! | I32: =I8-SUM(I9:I14)-#REF! -> #REF! | ... V32: =V8-SUM(V9:V14)-#REF! -> #REF!
A33: 臺 灣 省 | B33: =#REF!-SUM(B15:B28) -> #REF! | C33: =#REF!-SUM(C15:C28) -> #REF! | D33: =#REF!-SUM(D15:D28) -> #REF! | E33: =#REF!-SUM(E15:E28) -> #REF! | F33: =#REF!-SUM(F15:F28) -> #REF! | G33: =#REF!-SUM(G15:G28) -> #REF! | H33: =#REF!-SUM(H15:H28) -> #REF! | I33: =#REF!-SUM(I15:I28) -> #REF! | ... V33: =#REF!-SUM(V15:V28) -> #REF!
A34: 福建省 | B34: =#REF!-B29-B30 -> #REF! | C34: =#REF!-C29-C30 -> #REF! | D34: =#REF!-D29-D30 -> #REF! | E34: =#REF!-E29-E30 -> #REF! | F34: =#REF!-F29-F30 -> #REF! | G34: =#REF!-G29-G30 -> #REF! | H34: =#REF!-H29-H30 -> #REF! | I34: =#REF!-I29-I30 -> #REF! | ... V34: =#REF!-V29-V30 -> #REF!
A35: 年月 | B35: =#REF!-'108'!B8 -> #REF! | C35: =#REF!-'108'!C8 -> #REF! | D35: =#REF!-'108'!D8 -> #REF! | E35: =#REF!-'108'!E8 -> #REF! | F35: =#REF!-'108'!F8-'108'!G8 -> #REF! | H35: =#REF!-'108'!H8 -> #REF! | I35: =#REF!-'108'!I8-'108'!J8 -> #REF! | K35: =#REF!-'108'!K8 -> #REF! | L35: =#REF!-'108'!L8-'108'!M8 -> #REF! | N35: =#REF!-'108'!N8 -> #REF! | O35: =#REF!-'108'!O8-'108'!P8 -> #REF! | Q35: =#REF!-'108'!Q8 -> #REF! | R35: =#REF!-'108'!R8-'108'!S8 -> #REF! | T35: =#REF!-'108'!T8 -> #REF! | U35: =#REF!-'108'!U8 -> #REF! | V35: =#REF!-'108'!V8 -> #REF!

Sheet 107
A1: 1.4-02 中低收入老人生活津貼
A2: 民國107年
A3: 單位：人
A4: 區域別 | B4: 總計 | F4: 低收入戶 | O4: 中低收入 | U4: 具原住民身分分
B5: 人數(期底數) | E5: 金額(元) | F5: 第1款(省、新北、臺中、臺南)、第0類(臺北)、第1類(高雄) | I5: 第2款(省、新北、臺中、臺南)、第1、2類(臺北)、第2類(高雄) | L5: 第3款(省、新北、臺中、臺南)、第3、4類(臺北、高雄) | O5: 最低生活費1倍以上未滿1.5倍 | R5: 最低生活費1.5倍以上未滿2.5倍
B6: 計 | C6: 男 | D6: 女 | F6: 人數 | H6: 金額(元) | I6: 人數 | K6: 金額(元) | L6: 人數 | N6: 金額(元) | O6: 人數 | Q6: 金額(元) | R6: 人數 | T6: 金額(元) | U6: 人數
F7: 男 | G7: 女 | I7: 男 | J7: 女 | L7: 男 | M7: 女 | O7: 男 | P7: 女 | R7: 男 | S7: 女 | U7: 男 | V7: 女
A8: 107年，2018 | B8: 143610 | C8: 66834 | D8: 76776 | E8: 11319748012 | F8: 745 | G8: 211 | H8: 90090733 | I8: 5226 | J8: 2330 | K8: 674030457 | L8: 6402 | M8: 3761 | N8: 876716027 | O8: 42741 | P8: 56421 | Q8: 8601461163 | R8: 11720 | S8: 14053 | T8: 1077449632 | U8: 1166 | V8: 1518
A9: 新北市 | B9: 14104 | C9: 6855 | D9: 7249 | E9: 1147197493 | F9: 25 | G9: 4 | H9: 2742013 | I9: 214 | J9: 63 | K9: 25981294 | L9: 1140 | M9: 606 | N9: 150086419 | O9: 4570 | P9: 5715 | Q9: 895649554 | R9: 906 | S9: 861 | T9: 72738213 | U9: 74 | V9: 124
A10: 臺北市 | B10: 10703 | C10: 5304 | D10: 5399 | E10: 901564890 | F10: 454 | G10: 127 | H10: 54553203 | I10: 1113 | J10: 603 | K10: 152348746 | L10: 896 | M10: 856 | N10: 153437101 | O10: 2393 | P10: 3315 | Q10: 499508599 | R10: 448 | S10: 498 | T10: 41717241 | U10: 35 | V10: 54
A11: 桃園市 | B11: 7287 | C11: 3381 | D11: 3906 | E11: 567102170 | F11: 10 | G11: 1 | H11: 1126913 | I11: 178 | J11: 60 | K11: 21053123 | L11: 238 | M11: 145 | N11: 31389378 | O11: 2233 | P11: 3096 | Q11: 457802809 | R11: 722 | S11: 604 | T11: 55729947 | U11: 84 | V11: 172
A12: 臺中市 | B12: 16467 | C12: 7594 | D12: 8873 | E12: 1322867878 | F12: 70 | G12: 22 | H12: 8448117 | I12: 695 | J12: 328 | K12: 89699493 | L12: 490 | M12: 355 | N12: 71916371 | O12: 5064 | P12: 6715 | Q12: 1037692922 | R12: 1275 | S12: 1453 | T12: 115110975 | U12: 25 | V12: 32
A13: 臺南市 | B13: 11252 | C13: 5268 | D13: 5984 | E13: 896321153 | F13: 76 | G13: 30 | H13: 9888726 | I13: 489 | J13: 190 | K13: 60449263 | L13: 496 | M13: 248 | N13: 62706693 | O13: 3392 | P13: 4522 | Q13: 688895407 | R13: 815 | S13: 994 | T13: 74381064 | U13: 2 | V13: 8
A14: 高雄市 | B14: 33726 | C14: 14816 | D14: 18910 | E14: 2626073068 | F14: 25 | G14: 12 | H14: 3477758 | I14: 1137 | J14: 599 | K14: 154767752 | L14: 580 | M14: 527 | N14: 95749917 | O14: 10377 | P14: 14363 | Q14: 2120872529 | R14: 2697 | S14: 3409 | T14: 251205112 | U14: 67 | V14: 171
A15: 宜蘭縣 | B15: 2418 | C15: 1194 | D15: 1224 | E15: 185609656 | F15: 9 | G15: 0 | H15: 903073 | I15: 85 | J15: 18 | K15: 9361503 | L15: 154 | M15: 49 | N15: 17889639 | O15: 758 | P15: 940 | Q15: 141942070 | R15: 188 | S15: 217 | T15: 15513371 | U15: 53 | V15: 96
A16: 新竹縣 | B16: 1580 | C16: 837 | D16: 743 | E16: 116089519 | F16: 4 | G16: 1 | H16: 470169 | I16: 66 | J16: 15 | K16: 6739089 | L16: 107 | M16: 39 | N16: 12953212 | O16: 446 | P16: 467 | Q16: 78368963 | R16: 214 | S16: 221 | T16: 17558086 | U16: 38 | V16: 51
A17: 苗栗縣 | B17: 2089 | C17: 1004 | D17: 1085 | E17: 161257577 | F17: 1 | G17: 0 | H17: 89556 | I17: 197 | J17: 58 | K17: 22157647 | L17: 71 | M17: 88 | N17: 13761772 | O17: 525 | P17: 644 | Q17: 103396135 | R17: 210 | S17: 295 | T17: 21852467 | U17: 10 | V17: 18
A18: 彰化縣 | B18: 7620 | C18: 3618 | D18: 4002 | E18: 585012192 | F18: 0 | G18: 0 | H18: 0 | I18: 6 | J18: 3 | K18: 903023 | L18: 488 | M18: 165 | N18: 56534125 | O18: 2446 | P18: 2914 | Q18: 460080518 | R18: 678 | S18: 920 | T18: 67494526 | U18: 6 | V18: 11
A19: 南投縣 | B19: 5786 | C19: 2681 | D19: 3105 | E19: 426399298 | F19: 5 | G19: 0 | H19: 425391 | I19: 42 | J19: 17 | K19: 6104734 | L19: 237 | M19: 69 | N19: 26710077 | O19: 1589 | P19: 1994 | Q19: 313576604 | R19: 808 | S19: 1025 | T19: 79582492 | U19: 41 | V19: 62
... A30: 連江縣 | B30: 6 | C30: 4 | D30: 2 | E30: 641818 | F30: 2 | G30: 0 | H30: 201501 | I30: 0 | J30: 0 | K30: 67167 | L30: 1 | M30: 0 | N30: 89556 | O30: 1 | P30: 2 | Q30: 283594 | R30: 0 | S30: 0 | T30: 0 | U30: 0 | V30: 0
A31: 資料來源：直轄市、縣﹝市﹞政府。
A32: 總計 | B32: =B8-SUM(B9:B14)-#REF! -> #REF! | C32: =C8-SUM(C9:C14)-#REF! -> #REF! | D32: =D8-SUM(D9:D14)-#REF! -> #REF! | E32: =E8-SUM(E9:E14)-#REF! -> #REF! | F32: =F8-SUM(F9:F14)-#REF! -> #REF! | G32: =G8-SUM(G9:G14)-#REF! -> #REF! | H32: =H8-SUM(H9:H14)-#REF! -> #REF! | I32: =I8-SUM(I9:I14)-#REF! -> #REF! | ... V32: =V8-SUM(V9:V14)-#REF! -> #REF!
A33: 臺 灣 省 | B33: =#REF!-SUM(B15:B28) -> #REF! | C33: =#REF!-SUM(C15:C28) -> #REF! | D33: =#REF!-SUM(D15:D28) -> #REF! | E33: =#REF!-SUM(E15:E28) -> #REF! | F33: =#REF!-SUM(F15:F28) -> #REF! | G33: =#REF!-SUM(G15:G28) -> #REF! | H33: =#REF!-SUM(H15:H28) -> #REF! | I33: =#REF!-SUM(I15:I28) -> #REF! | ... V33: =#REF!-SUM(V15:V28) -> #REF!
A34: 福建省 | B34: =#REF!-B29-B30 -> #REF! | C34: =#REF!-C29-C30 -> #REF! | D34: =#REF!-D29-D30 -> #REF! | E34: =#REF!-E29-E30 -> #REF! | F34: =#REF!-F29-F30 -> #REF! | G34: =#REF!-G29-G30 -> #REF! | H34: =#REF!-H29-H30 -> #REF! | I34: =#REF!-I29-I30 -> #REF! | ... V34: =#REF!-V29-V30 -> #REF!
A35: 年月 | B35: =#REF!-'107'!B8 -> #REF! | C35: =#REF!-'107'!C8 -> #REF! | D35: =#REF!-'107'!D8 -> #REF! | E35: =#REF!-'107'!E8 -> #REF! | F35: =#REF!-'107'!F8-'107'!G8 -> #REF! | H35: =#REF!-'107'!H8 -> #REF! | I35: =#REF!-'107'!I8-'107'!J8 -> #REF! | K35: =#REF!-'107'!K8 -> #REF! | L35: =#REF!-'107'!L8-'107'!M8 -> #REF! | N35: =#REF!-'107'!N8 -> #REF! | O35: =#REF!-'107'!O8-'107'!P8 -> #REF! | Q35: =#REF!-'107'!Q8 -> #REF! | R35: =#REF!-'107'!R8-'107'!S8 -> #REF! | T35: =#REF!-'107'!T8 -> #REF! | U35: =#REF!-'107'!U8 -> #REF! | V35: =#REF!-'107'!V8 -> #REF!

Sheet 106
A1: 1.4-02 中低收入老人生活津貼
A2: 民國106年
A3: 單位：人
A4: 區域別 | B4: 總計 | F4: 低收入戶 | O4: 中低收入 | U4: 具原住民身分分
B5: 人數(期底數) | E5: 金額(元) | F5: 第1款(省、新北、臺中、臺南)、第0類(臺北)、第1類(高雄) | I5: 第2款(省、新北、臺中、臺南)、第1、2類(臺北)、第2類(高雄) | L5: 第3款(省、新北、臺中、臺南)、第3、4類(臺北、高雄) | O5: 最低生活費1倍以上未滿1.5倍 | R5: 最低生活費1.5倍以上未滿2.5倍
B6: 計 | C6: 男 | D6: 女 | F6: 人數 | H6: 金額(元) | I6: 人數 | K6: 金額(元) | L6: 人數 | N6: 金額(元) | O6: 人數 | Q6: 金額(元) | R6: 人數 | T6: 金額(元) | U6: 人數
F7: 男 | G7: 女 | I7: 男 | J7: 女 | L7: 男 | M7: 女 | O7: 男 | P7: 女 | R7: 男 | S7: 女 | U7: 男 | V7: 女
A8: 106年，2017 | B8: 134365 | C8: 62250 | D8: 72115 | E8: 10626735343 | F8: 871 | G8: 237 | H8: 102750373 | I8: 4895 | J8: 2119 | K8: 633580867 | L8: 5828 | M8: 3462 | N8: 797219266 | O8: 39591 | P8: 52996 | Q8: 8050449651 | R8: 11065 | S8: 13301 | T8: 1042735186 | U8: 1095 | V8: 1428
A9: 新北市 | B9: 12994 | C9: 6201 | D9: 6793 | E9: 1053760597 | F9: 28 | G9: 5 | H9: 2995755 | I9: 219 | J9: 67 | K9: 26787298 | L9: 1045 | M9: 587 | N9: 138994697 | O9: 4082 | P9: 5265 | Q9: 813674454 | R9: 827 | S9: 869 | T9: 71308393 | U9: 75 | V9: 113
A10: 臺北市 | B10: 10438 | C10: 5273 | D10: 5165 | E10: 867771102 | F10: 525 | G10: 133 | H10: 60939359 | I10: 1025 | J10: 544 | K10: 138433468 | L10: 812 | M10: 758 | N10: 135615494 | O10: 2427 | P10: 3208 | Q10: 488910025 | R10: 484 | S10: 522 | T10: 43872756 | U10: 34 | V10: 44
A11: 桃園市 | B11: 6686 | C11: 3112 | D11: 3574 | E11: 531650083 | F11: 11 | G11: 1 | H11: 1082135 | I11: 177 | J11: 48 | K11: 20030692 | L11: 209 | M11: 119 | N11: 27172783 | O11: 2072 | P11: 2912 | Q11: 434309285 | R11: 643 | S11: 494 | T11: 49055188 | U11: 81 | V11: 156
A12: 臺中市 | B12: 14894 | C12: 6802 | D12: 8092 | E12: 1187358887 | F12: 77 | G12: 26 | H12: 9630171 | I12: 545 | J12: 248 | K12: 75382934 | L12: 395 | M12: 301 | N12: 63335221 | O12: 4555 | P12: 6138 | Q12: 927104516 | R12: 1230 | S12: 1379 | T12: 111906045 | U12: 21 | V12: 27
A13: 臺南市 | B13: 10258 | C13: 4711 | D13: 5547 | E13: 818327647 | F13: 84 | G13: 38 | H13: 11411178 | I13: 428 | J13: 179 | K13: 54193173 | L13: 426 | M13: 221 | N13: 54932450 | O13: 2993 | P13: 4084 | Q13: 620503185 | R13: 780 | S13: 1025 | T13: 77287661 | U13: 5 | V13: 11
A14: 高雄市 | B14: 32099 | C14: 14121 | D14: 17978 | E14: 2532475219 | F14: 31 | G14: 12 | H14: 3873297 | I14: 1131 | J14: 581 | K14: 151837765 | L14: 569 | M14: 530 | N14: 91918390 | O14: 10180 | P14: 14117 | Q14: 2077731013 | R14: 2210 | S14: 2738 | T14: 207114754 | U14: 62 | V14: 148
A15: 宜蘭縣 | B15: 2104 | C15: 1025 | D15: 1079 | E15: 167951842 | F15: 11 | G15: 0 | H15: 1082135 | I15: 84 | J15: 14 | K15: 9067545 | L15: 136 | M15: 53 | N15: 16693072 | O15: 610 | P15: 793 | Q15: 124407826 | R15: 184 | S15: 219 | T15: 16701264 | U15: 46 | V15: 96
A16: 新竹縣 | B16: 1456 | C16: 778 | D16: 678 | E16: 105368246 | F16: 7 | G16: 1 | H16: 716448 | I16: 51 | J16: 12 | K16: 5589787 | L16: 119 | M16: 37 | N16: 13083411 | O16: 366 | P16: 403 | Q16: 66402043 | R16: 235 | S16: 225 | T16: 19576557 | U16: 26 | V16: 36
A17: 苗栗縣 | B17: 2042 | C17: 971 | D17: 1071 | E17: 155749570 | F17: 2 | G17: 0 | H17: 179112 | I17: 183 | J17: 48 | K17: 20844159 | L17: 72 | M17: 78 | N17: 12672174 | O17: 486 | P17: 615 | Q17: 97858590 | R17: 228 | S17: 330 | T17: 24195535 | U17: 10 | V17: 16
A18: 彰化縣 | B18: 6953 | C18: 3268 | D18: 3685 | E18: 525415767 | F18: 0 | G18: 0 | H18: 0 | I18: 7 | J18: 3 | K18: 865708 | L18: 441 | M18: 148 | N18: 51560233 | O18: 2134 | P18: 2548 | Q18: 401420414 | R18: 686 | S18: 986 | T18: 71569412 | U18: 6 | V18: 7
A19: 南投縣 | B19: 5699 | C19: 2634 | D19: 3065 | E19: 442028520 | F19: 5 | G19: 0 | H19: 447780 | I19: 67 | J19: 20 | K19: 7895854 | L19: 232 | M19: 66 | N19: 25833278 | O19: 1621 | P19: 2116 | Q19: 338283382 | R19: 709 | S19: 863 | T19: 69568226 | U19: 46 | V19: 69
... A30: 連江縣 | B30: 8 | C30: 5 | D30: 3 | E30: 686596 | F30: 3 | G30: 1 | H30: 328372 | I30: 0 | J30: 0 | K30: 0 | L30: 1 | M30: 0 | N30: 89556 | O30: 1 | P30: 2 | Q30: 268668 | R30: 0 | S30: 0 | T30: 0 | U30: 0 | V30: 0
A31: 資料來源：直轄市、縣﹝市﹞政府。
A32: 總計 | B32: =B8-SUM(B9:B14)-#REF! -> #REF! | C32: =C8-SUM(C9:C14)-#REF! -> #REF! | D32: =D8-SUM(D9:D14)-#REF! -> #REF! | E32: =E8-SUM(E9:E14)-#REF! -> #REF! | F32: =F8-SUM(F9:F14)-#REF! -> #REF! | G32: =G8-SUM(G9:G14)-#REF! -> #REF! | H32: =H8-SUM(H9:H14)-#REF! -> #REF! | I32: =I8-SUM(I9:I14)-#REF! -> #REF! | ... V32: =V8-SUM(V9:V14)-#REF! -> #REF!
A33: 臺 灣 省 | B33: =#REF!-SUM(B15:B28) -> #REF! | C33: =#REF!-SUM(C15:C28) -> #REF! | D33: =#REF!-SUM(D15:D28) -> #REF! | E33: =#REF!-SUM(E15:E28) -> #REF! | F33: =#REF!-SUM(F15:F28) -> #REF! | G33: =#REF!-SUM(G15:G28) -> #REF! | H33: =#REF!-SUM(H15:H28) -> #REF! | I33: =#REF!-SUM(I15:I28) -> #REF! | ... V33: =#REF!-SUM(V15:V28) -> #REF!
A34: 福建省 | B34: =#REF!-B29-B30 -> #REF! | C34: =#REF!-C29-C30 -> #REF! | D34: =#REF!-D29-D30 -> #REF! | E34: =#REF!-E29-E30 -> #REF! | F34: =#REF!-F29-F30 -> #REF! | G34: =#REF!-G29-G30 -> #REF! | H34: =#REF!-H29-H30 -> #REF! | I34: =#REF!-I29-I30 -> #REF! | ... V34: =#REF!-V29-V30 -> #REF!
A35: 年月 | B35: =#REF!-'106'!B8 -> #REF! | C35: =#REF!-'106'!C8 -> #REF! | D35: =#REF!-'106'!D8 -> #REF! | E35: =#REF!-'106'!E8 -> #REF! | F35: =#REF!-'106'!F8-'106'!G8 -> #REF! | H35: =#REF!-'106'!H8 -> #REF! | I35: =#REF!-'106'!I8-'106'!J8 -> #REF! | K35: =#REF!-'106'!K8 -> #REF! | L35: =#REF!-'106'!L8-'106'!M8 -> #REF! | N35: =#REF!-'106'!N8 -> #REF! | O35: =#REF!-'106'!O8-'106'!P8 -> #REF! | Q35: =#REF!-'106'!Q8 -> #REF! | R35: =#REF!-'106'!R8-'106'!S8 -> #REF! | T35: =#REF!-'106'!T8 -> #REF! | U35: =#REF!-'106'!U8 -> #REF! | V35: =#REF!-'106'!V8 -> #REF!

Sheet 105
A1: 1.4-02 中低收入老人生活津貼
A2: 民國105年
A3: 單位：人
A4: 區域別 | B4: 總計 | F4: 低收入戶 | O4: 中低收入 | U4: 具原住民身分分
B5: 人數(期底數) | E5: 金額(元) | F5: 第1款(省、新北、臺中、臺南)、第0類(臺北)、第1類(高雄) | I5: 第2款(省、新北、臺中、臺南)、第1、2類(臺北)、第2類(高雄) | L5: 第3款(省、新北、臺中、臺南)、第3、4類(臺北、高雄) | O5: 最低生活費1倍以上未滿1.5倍 | R5: 最低生活費1.5倍以上未滿2.5倍
B6: 計 | C6: 男 | D6: 女 | F6: 人數 | H6: 金額(元) | I6: 人數 | K6: 金額(元) | L6: 人數 | N6: 金額(元) | O6: 人數 | Q6: 金額(元) | R6: 人數 | T6: 金額(元) | U6: 人數
