Workbook

Sheet 歷年
A1: 專科醫師核准給證人數
AI2: 單位：人
A3: 年別 | B3: 總計 | C3: 專科類別
C4: 家庭醫學科 | D4: 內科 | E4: 外科 | F4: 兒科 | G4: 婦產科 | H4: 骨科 | I4: 神經科 | J4: 神經外科 | K4: 泌尿科 | L4: 耳鼻喉科 | M4: 眼科 | N4: 皮膚科 | O4: 精神科 | P4: 復健科 | Q4: 整形外科 | R4: 麻醉科 | S4: 放射診斷科 | T4: 放射腫瘤科 | U4: 解剖病理科 | V4: 臨床病理科 | W4: 核子醫學科 | X4: 急診醫學科 | Y4: 職業醫學科 | Z4: 口腔顎面外科 | AA4: 口腔病理科 | AB4: 齒顎矯正科 | AC4: 牙周病科 | AD4: 兒童牙科 | AE4: 牙髓病科 | AF4: 贋復補綴牙科 | AG4: 牙體復形科 | AH4: 家庭牙醫科 | AI4: 特殊需求者口腔醫學科
A5: 97年 | B5: 1382 | C5: 162 | D5: 277 | E5: 149 | F5: 123 | G5: 36 | H5: 38 | I5: 41 | J5: 27 | K5: 22 | L5: 68 | M5: 34 | N5: 32 | O5: 62 | P5: 44 | Q5: 22 | R5: 38 | S5: 31 | T5: 9 | U5: 17 | V5: 6 | W5: 5 | X5: 113 | Y5: 10 | Z5: 14 | AA5: 2 | AB5: 0 | AC5: … | AD5: … | AE5: … | AF5: … | AG5: … | AH5: … | AI5: …
A6: 98年 | B6: 1795 | C6: 153 | D6: 320 | E6: 126 | F6: 96 | G6: 29 | H6: 41 | I6: 13 | J6: 24 | K6: 22 | L6: 67 | M6: 36 | N6: 34 | O6: 36 | P6: 49 | Q6: 24 | R6: 31 | S6: 37 | T6: 9 | U6: 17 | V6: 9 | W6: 6 | X6: 163 | Y6: 9 | Z6: 8 | AA6: 6 | AB6: 430 | AC6: … | AD6: … | AE6: … | AF6: … | AG6: … | AH6: … | AI6: …
A7: 99年 | B7: 1359 | C7: 150 | D7: 315 | E7: 138 | F7: 96 | G7: 33 | H7: 42 | I7: 37 | J7: 21 | K7: 17 | L7: 62 | M7: 48 | N7: 30 | O7: 60 | P7: 39 | Q7: 26 | R7: 30 | S7: 38 | T7: 18 | U7: 21 | V7: 9 | W7: 2 | X7: 72 | Y7: 15 | Z7: 15 | AA7: 0 | AB7: 25 | AC7: … | AD7: … | AE7: … | AF7: … | AG7: … | AH7: … | AI7: …
A8: 100年 | B8: 1373 | C8: 146 | D8: 358 | E8: 142 | F8: 95 | G8: 39 | H8: 46 | I8: 44 | J8: 21 | K8: 18 | L8: 64 | M8: 36 | N8: 29 | O8: 72 | P8: 50 | Q8: 22 | R8: 50 | S8: 40 | T8: 11 | U8: 19 | V8: 0 | W8: 9 | X8: 34 | Y8: 13 | Z8: 15 | AA8: 0 | AB8: 0 | AC8: … | AD8: … | AE8: … | AF8: … | AG8: … | AH8: … | AI8: …
A9: 101年 | B9: 1470 | C9: 145 | D9: 318 | E9: 180 | F9: 91 | G9: 35 | H9: 53 | I9: 45 | J9: 23 | K9: 24 | L9: 61 | M9: 36 | N9: 32 | O9: 69 | P9: 48 | Q9: 27 | R9: 42 | S9: 43 | T9: 14 | U9: 20 | V9: 7 | W9: 12 | X9: 84 | Y9: 14 | Z9: 13 | AA9: 1 | AB9: 33 | AC9: … | AD9: … | AE9: … | AF9: … | AG9: … | AH9: … | AI9: …
A10: 102年 | B10: 1515 | C10: 153 | D10: 306 | E10: 171 | F10: 105 | G10: 48 | H10: 62 | I10: 42 | J10: 20 | K10: 32 | L10: 66 | M10: 42 | N10: 30 | O10: 72 | P10: 59 | Q10: 27 | R10: 49 | S10: 45 | T10: 12 | U10: 22 | V10: 2 | W10: 6 | X10: 88 | Y10: 13 | Z10: 15 | AA10: 0 | AB10: 28 | AC10: … | AD10: … | AE10: … | AF10: … | AG10: … | AH10: … | AI10: …
A11: 103年 | B11: 1340 | C11: 92 | D11: 227 | E11: 190 | F11: 65 | G11: 40 | H11: 64 | I11: 40 | J11: 24 | K11: 35 | L11: 64 | M11: 44 | N11: 35 | O11: 70 | P11: 52 | Q11: 23 | R11: 53 | S11: 47 | T11: 17 | U11: 18 | V11: 5 | W11: 9 | X11: 72 | Y11: 13 | Z11: 18 | AA11: 0 | AB11: 23 | AC11: … | AD11: … | AE11: … | AF11: … | AG11: … | AH11: … | AI11: …
A12: 104年 | B12: 1041 | C12: 66 | D12: 114 | E12: 151 | F12: 72 | G12: 24 | H12: 65 | I12: 52 | J12: 29 | K12: 36 | L12: 71 | M12: 34 | N12: 19 | O12: 37 | P12: 31 | Q12: 32 | R12: 25 | S12: 31 | T12: 16 | U12: 13 | V12: 7 | W12: 9 | X12: 58 | Y12: 9 | Z12: 13 | AA12: 3 | AB12: 24 | AC12: … | AD12: … | AE12: … | AF12: … | AG12: … | AH12: … | AI12: …
A13: 105年 | B13: 1024 | C13: 148 | D13: 216 | E13: 63 | F13: 99 | G13: 32 | H13: 44 | I13: 51 | J13: 28 | K13: 32 | L13: 42 | M13: 21 | N13: 14 | O13: 36 | P13: 25 | Q13: 23 | R13: 21 | S13: 22 | T13: 9 | U13: 13 | V13: 7 | W13: 6 | X13: 32 | Y13: 7 | Z13: 6 | AA13: 3 | AB13: 24 | AC13: … | AD13: … | AE13: … | AF13: … | AG13: … | AH13: … | AI13: …
A14: 106年 | B14: 1338 | C14: 126 | D14: 276 | E14: 127 | F14: 143 | G14: 48 | H14: 29 | I14: 43 | J14: 15 | K14: 34 | L14: 29 | M14: 32 | N14: 28 | O14: 58 | P14: 38 | Q14: 21 | R14: 44 | S14: 47 | T14: 17 | U14: 20 | V14: 7 | W14: 12 | X14: 74 | Y14: 16 | Z14: 16 | AA14: 2 | AB14: 36 | AC14: … | AD14: … | AE14: … | AF14: … | AG14: … | AH14: … | AI14: …
A15: 107年 | B15: 1361 | C15: 131 | D15: 257 | E15: 147 | F15: 135 | G15: 49 | H15: 51 | I15: 42 | J15: 14 | K15: 33 | L15: 48 | M15: 31 | N15: 25 | O15: 45 | P15: 38 | Q15: 17 | R15: 53 | S15: 44 | T15: 19 | U15: 20 | V15: 2 | W15: 5 | X15: 110 | Y15: 11 | Z15: 9 | AA15: 0 | AB15: 25 | AC15: … | AD15: … | AE15: … | AF15: … | AG15: … | AH15: … | AI15: …
A16: 108年 | B16: 1360 | C16: 120 | D16: 239 | E16: 145 | F16: 129 | G16: 65 | H16: 54 | I16: 55 | J16: 22 | K16: 42 | L16: 53 | M16: 32 | N16: 25 | O16: 36 | P16: 38 | Q16: 21 | R16: 50 | S16: 49 | T16: 17 | U16: 14 | V16: 7 | W16: 5 | X16: 77 | Y16: 18 | Z16: 21 | AA16: 0 | AB16: 26 | AC16: … | AD16: … | AE16: … | AF16: … | AG16: … | AH16: … | AI16: …
A17: 109年 | B17: 1788 | C17: 123 | D17: 296 | E17: 164 | F17: 118 | G17: 63 | H17: 58 | I17: 37 | J17: 23 | K17: 41 | L17: 51 | M17: 36 | N17: 24 | O17: 54 | P17: 39 | Q17: 22 | R17: 61 | S17: 52 | T17: 19 | U17: 16 | V17: 3 | W17: 7 | X17: 99 | Y17: 13 | Z17: 16 | AA17: 0 | AB17: 30 | AC17: 0 | AD17: 323 | AE17: 0 | AF17: 0 | AG17: 0 | AH17: 0 | AI17: 0
A18: 110年 | B18: 2169 | C18: 120 | D18: 308 | E18: 187 | F18: 123 | G18: 59 | H18: 58 | I18: 46 | J18: 23 | K18: 38 | L18: 51 | M18: 39 | N18: 25 | O18: 42 | P18: 39 | Q18: 24 | R18: 57 | S18: 49 | T18: 18 | U18: 14 | V18: 7 | W18: 1 | X18: 97 | Y18: 16 | Z18: 9 | AA18: 1 | AB18: 46 | AC18: 0 | AD18: 32 | AE18: 280 | AF18: 240 | AG18: 120 | AH18: 0 | AI18: 0
A19: 111年 | B19: 4922 | C19: 125 | D19: 265 | E19: 201 | F19: 126 | G19: 66 | H19: 60 | I19: 47 | J19: 21 | K19: 38 | L19: 53 | M19: 38 | N19: 30 | O19: 50 | P19: 41 | Q19: 27 | R19: 56 | S19: 45 | T19: 11 | U19: 10 | V19: 3 | W19: 4 | X19: 109 | Y19: 17 | Z19: 23 | AA19: 2 | AB19: 36 | AC19: 516 | AD19: 30 | AE19: 40 | AF19: 19 | AG19: 16 | AH19: 2169 | AI19: 628
A20: 112年 | B20: 1778 | C20: 126 | D20: 364 | E20: 209 | F20: 160 | G20: 70 | H20: 55 | I20: 53 | J20: 29 | K20: 42 | L20: 56 | M20: 37 | N20: 30 | O20: 58 | P20: 39 | Q20: 28 | R20: 64 | S20: 53 | T20: 7 | U20: 17 | V20: 4 | W20: 4 | X20: 109 | Y20: 15 | Z20: 16 | AA20: 0 | AB20: 31 | AC20: 21 | AD20: 19 | AE20: 18 | AF20: 22 | AG20: 4 | AH20: 5 | AI20: 13
A21: 113年 | B21: 1832 | C21: 134 | D21: 387 | E21: 230 | F21: 121 | G21: 96 | H21: 53 | I21: 56 | J21: 24 | K21: 43 | L21: 56 | M21: 38 | N21: 29 | O21: 58 | P21: 39 | Q21: 24 | R21: 64 | S21: 45 | T21: 8 | U21: 13 | V21: 4 | W21: 8 | X21: 102 | Y21: 12 | Z21: 21 | AA21: 2 | AB21: 35 | AC21: 30 | AD21: 27 | AE21: 28 | AF21: 25 | AG21: 4 | AH21: 14 | AI21: 2
A22: 114年 | B22: =SUM(C22:AI22) -> 1739 | C22: ='114'!C7 -> 127 | D22: ='114'!E7 -> 301 | E22: ='114'!G7 -> 213 | F22: ='114'!I7 -> 89 | G22: ='114'!K7 -> 87 | H22: ='114'!M7 -> 66 | I22: ='114'!O7 -> 47 | J22: ='114'!A12 -> 24 | K22: ='114'!C12 -> 43 | L22: ='114'!E12 -> 52 | M22: ='114'!G12 -> 39 | N22: ='114'!I12 -> 27 | O22: ='114'!K12 -> 53 | P22: ='114'!M12 -> 43 | Q22: ='114'!O12 -> 33 | R22: ='114'!A17 -> 58 | S22: ='114'!C17 -> 49 | T22: ='114'!E17 -> 10 | U22: ='114'!G17 -> 14 | V22: ='114'!I17 -> 9 | W22: ='114'!K17 -> 10 | X22: ='114'!M17 -> 92 | Y22: ='114'!O17 -> 17 | Z22: ='114'!A22 -> 17 | AA22: ='114'!C22 -> 0 | AB22: ='114'!E22 -> 77 | AC22: ='114'!G22 -> 28 | AD22: ='114'!I22 -> 36 | AE22: ='114'!K22 -> 25 | AF22: ='114'!M22 -> 6 | AG22: ='114'!O22 -> 2 | AH22: ='114'!A27 -> 44 | AI22: ='114'!C27 -> 1
A23: 說明：1.每年核證人數係以當年度公告之甄審合格人數為統計基準。
A24: 2.自109年起新增牙周病科、兒童牙醫、牙髓病科、贋復補綴牙科、牙體復形科、家庭牙醫科、特殊需求者口腔醫學科等牙醫專科，97年至108年無相關統計資料，爰以「…」表示。

Sheet 114
A1: 公開類 | M1: 編製機關 | N1: 衛生福利部
A2: 年 報 | B2: 每年終了2個月內編報 | M2: 表 號 | N2: 10512-01-02
A3: 專科醫師核准給證人數
A4: 中華民國 114 年 | P4: 單位：人
A5: 總計 | C5: 家庭醫學科 | E5: 內科 | G5: 外科 | I5: 兒科 | K5: 婦產科 | M5: 骨科 | O5: 神經科
A6: 人 數 | B6: 累計人數 | C6: 人 數 | D6: 累計人數 | E6: 人 數 | F6: 累計人數 | G6: 人 數 | H6: 累計人數 | I6: 人 數 | J6: 累計人數 | K6: 人 數 | L6: 累計人數 | M6: 人 數 | N6: 累計人數 | O6: 人 數 | P6: 累計人數
A7: =C7+E7+G7+I7+K7+M7+O7+A12+C12+E12+G12+I12+K12+M12+O12+A17+C17+E17+G17+I17+K17+M17+O17+A22+C22+E22+G22++I22+K22+M22+O22+A27+C27+E27 -> 1739 | B7: =D7+F7+H7+J7+L7+N7+P7+B12+D12+F12+H12+J12+L12+N12+P12+B17+D17+F17+H17+J17+L17+N17+P17+B22+D22+F22+H22++J22+L22+N22+P22+B27+D27+F27 -> 69313 | C7: 127 | D7: 7267 | E7: 301 | F7: 13103 | G7: 213 | H7: 8623 | I7: 89 | J7: 5560 | K7: 87 | L7: 3709 | M7: 66 | N7: 2510 | O7: 47 | P7: 1578
A10: 神經外科 | C10: 泌尿科 | E10: 耳鼻喉科 | G10: 眼科 | I10: 皮膚科 | K10: 精神科 | M10: 復健科 | O10: 整形外科
A11: 人 數 | B11: 累計人數 | C11: 人 數 | D11: 累計人數 | E11: 人 數 | F11: 累計人數 | G11: 人 數 | H11: 累計人數 | I11: 人 數 | J11: 累計人數 | K11: 人 數 | L11: 累計人數 | M11: 人 數 | N11: 累計人數 | O11: 人 數 | P11: 累計人數
A12: 24 | B12: 833 | C12: 43 | D12: 1344 | E12: 52 | F12: 2675 | G12: 39 | H12: 2185 | I12: 27 | J12: 1249 | K12: 53 | L12: 2100 | M12: 43 | N12: 1461 | O12: 33 | P12: 904
A15: 麻醉科 | C15: 放射診斷科 | E15: 放射腫瘤科 | G15: 解剖病理科 | I15: 臨床病理科 | K15: 核子醫學科 | M15: 急診醫學科 | O15: 職業醫學科
A16: 人 數 | B16: 累計人數 | C16: 人 數 | D16: 累計人數 | E16: 人 數 | F16: 累計人數 | G16: 人 數 | H16: 累計人數 | I16: 人 數 | J16: 累計人數 | K16: 人 數 | L16: 累計人數 | M16: 人 數 | N16: 累計人數 | O16: 人 數 | P16: 累計人數
A17: 58 | B17: 1724 | C17: 49 | D17: 1506 | E17: 10 | F17: 427 | G17: 14 | H17: 680 | I17: 9 | J17: 247 | K17: 10 | L17: 278 | M17: 92 | N17: 2554 | O17: 17 | P17: 478
A20: 口腔顎面外科 | C20: 口腔病理科 | E20: 齒顎矯正科 | G20: 牙周病科 | I20: 兒童牙科 | K20: 牙髓病科 | M20: 贋復補綴牙科 | O20: 牙體復形科
A21: 人 數 | B21: 累計人數 | C21: 人 數 | D21: 累計人數 | E21: 人 數 | F21: 累計人數 | G21: 人 數 | H21: 累計人數 | I21: 人 數 | J21: 累計人數 | K21: 人 數 | L21: 累計人數 | M21: 人 數 | N21: 累計人數 | O21: 人 數 | P21: 累計人數
A22: 17 | B22: 517 | C22: 0 | D22: 85 | E22: 77 | F22: 929 | G22: 28 | H22: 595 | I22: 36 | J22: 467 | K22: 25 | L22: 391 | M22: 6 | N22: 312 | O22: 2 | P22: 146
A25: 家庭牙醫科 | C25: 特殊需求者口腔醫學科 | E25: 植牙科
A26: 人 數 | B26: 累計人數 | C26: 人 數 | D26: 累計人數 | E26: 人 數 | F26: 累計人數
A27: 44 | B27: 2232 | C27: 1 | D27: 644 | E27: 0 | F27: 0
A29: 填表 | D29: 審核 | G29: 業務主管人員 | J29: 機關首長 | P29: 中華民國 115 年 2 月25 日編製
G30: 主辦統計人員
A31: 資料來源：本部醫事司、口腔健康司。
A32: 填表說明：本表一式二份，一份送本部統計處，一份自存。

Sheet 113
A1: 公開類 | M1: 編製機關 | N1: 衛生福利部
A2: 年 報 | B2: 每年終了2個月內編報 | M2: 表 號 | N2: 10512-01-02
A3: 專科醫師核准給證人數
A4: 中華民國 113 年 | P4: 單位：人
A5: 總計 | C5: 家庭醫學科 | E5: 內科 | G5: 外科 | I5: 兒科 | K5: 婦產科 | M5: 骨科 | O5: 神經科
A6: 人 數 | B6: 累計人數 | C6: 人 數 | D6: 累計人數 | E6: 人 數 | F6: 累計人數 | G6: 人 數 | H6: 累計人數 | I6: 人 數 | J6: 累計人數 | K6: 人 數 | L6: 累計人數 | M6: 人 數 | N6: 累計人數 | O6: 人 數 | P6: 累計人數
A7: =C7+E7+G7+I7+K7+M7+O7+A12+C12+E12+G12+I12+K12+M12+O12+A17+C17+E17+G17+I17+K17+M17+O17+A22+C22+E22+G22++I22+K22+M22+O22+A27+C27 -> 1832 | B7: =D7+F7+H7+J7+L7+N7+P7+B12+D12+F12+H12+J12+L12+N12+P12+B17+D17+F17+H17+J17+L17+N17+P17+B22+D22+F22+H22++J22+L22+N22+P22+B27+D27+F27 -> 67574 | C7: 134 | D7: 7140 | E7: 387 | F7: 12802 | G7: 230 | H7: 8410 | I7: 121 | J7: 5471 | K7: 96 | L7: 3622 | M7: 53 | N7: 2444 | O7: 56 | P7: 1531
A10: 神經外科 | C10: 泌尿科 | E10: 耳鼻喉科 | G10: 眼科 | I10: 皮膚科 | K10: 精神科 | M10: 復健科 | O10: 整形外科
A11: 人 數 | B11: 累計人數 | C11: 人 數 | D11: 累計人數 | E11: 人 數 | F11: 累計人數 | G11: 人 數 | H11: 累計人數 | I11: 人 數 | J11: 累計人數 | K11: 人 數 | L11: 累計人數 | M11: 人 數 | N11: 累計人數 | O11: 人 數 | P11: 累計人數
A12: 24 | B12: 809 | C12: 43 | D12: 1301 | E12: 56 | F12: 2623 | G12: 38 | H12: 2146 | I12: 29 | J12: 1222 | K12: 58 | L12: 2047 | M12: 39 | N12: 1418 | O12: 24 | P12: 871
A15: 麻醉科 | C15: 放射診斷科 | E15: 放射腫瘤科 | G15: 解剖病理科 | I15: 臨床病理科 | K15: 核子醫學科 | M15: 急診醫學科 | O15: 職業醫學科
A16: 人 數 | B16: 累計人數 | C16: 人 數 | D16: 累計人數 | E16: 人 數 | F16: 累計人數 | G16: 人 數 | H16: 累計人數 | I16: 人 數 | J16: 累計人數 | K16: 人 數 | L16: 累計人數 | M16: 人 數 | N16: 累計人數 | O16: 人 數 | P16: 累計人數
A17: 64 | B17: 1666 | C17: 45 | D17: 1457 | E17: 8 | F17: 417 | G17: 13 | H17: 666 | I17: 4 | J17: 238 | K17: 8 | L17: 268 | M17: 102 | N17: 2462 | O17: 12 | P17: 461
A20: 口腔顎面外科 | C20: 口腔病理科 | E20: 齒顎矯正科 | G20: 牙周病科 | I20: 兒童牙科 | K20: 牙髓病科 | M20: 贋復補綴牙科 | O20: 牙體復形科
A21: 人 數 | B21: 累計人數 | C21: 人 數 | D21: 累計人數 | E21: 人 數 | F21: 累計人數 | G21: 人 數 | H21: 累計人數 | I21: 人 數 | J21: 累計人數 | K21: 人 數 | L21: 累計人數 | M21: 人 數 | N21: 累計人數 | O21: 人 數 | P21: 累計人數
A22: 21 | B22: 500 | C22: 2 | D22: 85 | E22: 35 | F22: 852 | G22: 30 | H22: 567 | I22: 27 | J22: 431 | K22: 28 | L22: 366 | M22: 25 | N22: 306 | O22: 4 | P22: 144
A25: 家庭牙醫科 | C25: 特殊需求者口腔醫學科
A26: 人 數 | B26: 累計人數 | C26: 人 數 | D26: 累計人數
A27: 14 | B27: 2188 | C27: 2 | D27: 643
A29: 填表 | D29: 審核 | G29: 業務主管人員 | J29: 機關首長 | P29: 中華民國 114 年 3 月 3 日編製
G30: 主辦統計人員
A31: 資料來源：本部醫事司、口腔健康司。
A32: 填表說明：本表一式二份，一份送本部統計處，一份自存。

Sheet 112
A1: 公開類 | M1: 編製機關 | N1: 衛生福利部
A2: 年 報 | B2: 每年終了2個月內編報 | M2: 表 號 | N2: 10512-01-02
A3: 專科醫師核准給證人數
A4: 中華民國 112 年 | P4: 單位：人
A5: 總計 | C5: 家庭醫學科 | E5: 內科 | G5: 外科 | I5: 兒科 | K5: 婦產科 | M5: 骨科 | O5: 神經科
A6: 人 數 | B6: 累計人數 | C6: 人 數 | D6: 累計人數 | E6: 人 數 | F6: 累計人數 | G6: 人 數 | H6: 累計人數 | I6: 人 數 | J6: 累計人數 | K6: 人 數 | L6: 累計人數 | M6: 人 數 | N6: 累計人數 | O6: 人 數 | P6: 累計人數
A7: =C7+E7+G7+I7+K7+M7+O7+A12+C12+E12+G12+I12+K12+M12+O12+A17+C17+E17+G17+I17+K17+M17+O17+A22+C22+E22+G22++I22+K22+M22+O22+A27+C27 -> 1778 | B7: =D7+F7+H7+J7+L7+N7+P7+B12+D12+F12+H12+J12+L12+N12+P12+B17+D17+F17+H17+J17+L17+N17+P17+B22+D22+F22+H22++J22+L22+N22+P22+B27+D27+F27 -> 65742 | C7: 126 | D7: 7006 | E7: 364 | F7: 12415 | G7: 209 | H7: 8180 | I7: 160 | J7: 5350 | K7: 70 | L7: 3526 | M7: 55 | N7: 2391 | O7: 53 | P7: 1475
A10: 神經外科 | C10: 泌尿科 | E10: 耳鼻喉科 | G10: 眼科 | I10: 皮膚科 | K10: 精神科 | M10: 復健科 | O10: 整形外科
A11: 人 數 | B11: 累計人數 | C11: 人 數 | D11: 累計人數 | E11: 人 數 | F11: 累計人數 | G11: 人 數 | H11: 累計人數 | I11: 人 數 | J11: 累計人數 | K11: 人 數 | L11: 累計人數 | M11: 人 數 | N11: 累計人數 | O11: 人 數 | P11: 累計人數
A12: 29 | B12: 785 | C12: 42 | D12: 1258 | E12: 56 | F12: 2567 | G12: 37 | H12: 2108 | I12: 30 | J12: 1193 | K12: 58 | L12: 1989 | M12: 39 | N12: 1379 | O12: 28 | P12: 847
A15: 麻醉科 | C15: 放射診斷科 | E15: 放射腫瘤科 | G15: 解剖病理科 | I15: 臨床病理科 | K15: 核子醫學科 | M15: 急診醫學科 | O15: 職業醫學科
A16: 人 數 | B16: 累計人數 | C16: 人 數 | D16: 累計人數 | E16: 人 數 | F16: 累計人數 | G16: 人 數 | H16: 累計人數 | I16: 人 數 | J16: 累計人數 | K16: 人 數 | L16: 累計人數 | M16: 人 數 | N16: 累計人數 | O16: 人 數 | P16: 累計人數
A17: 64 | B17: 1602 | C17: 53 | D17: 1412 | E17: 7 | F17: 409 | G17: 17 | H17: 653 | I17: 4 | J17: 234 | K17: 4 | L17: 260 | M17: 109 | N17: 2360 | O17: 15 | P17: 449
A20: 口腔顎面外科 | C20: 口腔病理科 | E20: 齒顎矯正科 | G20: 牙周病科 | I20: 兒童牙科 | K20: 牙髓病科 | M20: 贋復補綴牙科 | O20: 牙體復形科
A21: 人 數 | B21: 累計人數 | C21: 人 數 | D21: 累計人數 | E21: 人 數 | F21: 累計人數 | G21: 人 數 | H21: 累計人數 | I21: 人 數 | J21: 累計人數 | K21: 人 數 | L21: 累計人數 | M21: 人 數 | N21: 累計人數 | O21: 人 數 | P21: 累計人數
A22: 16 | B22: 479 | C22: 0 | D22: 83 | E22: 31 | F22: 817 | G22: 21 | H22: 537 | I22: 19 | J22: 404 | K22: 18 | L22: 338 | M22: 22 | N22: 281 | O22: 4 | P22: 140
A25: 家庭牙醫科 | C25: 特殊需求者口腔醫學科
A26: 人 數 | B26: 累計人數 | C26: 人 數 | D26: 累計人數
A27: 5 | B27: 2174 | C27: 13 | D27: 641
A30: 填表 | D30: 審核 | G30: 業務主管人員 | J30: 機關首長 | P30: 中華民國 年 月 日編製
G31: 主辦統計人員
A32: 資料來源：本部醫事司、口腔健康司。
A33: 填表說明：本表一式二份，一份送本部統計處，一份自存。

Sheet 111
A1: 公開類 | M1: 編製機關 | N1: 衛生福利部
A2: 年 報 | B2: 每年終了2個月內編報 | M2: 表 號 | N2: 10512-01-02
A3: 專科醫師核准給證人數
A4: 中華民國 111 年 | P4: 單位：人
A5: 總計 | C5: 家庭醫學科 | E5: 內科 | G5: 外科 | I5: 兒科 | K5: 婦產科 | M5: 骨科 | O5: 神經科
A6: 人 數 | B6: 累計人數 | C6: 人 數 | D6: 累計人數 | E6: 人 數 | F6: 累計人數 | G6: 人 數 | H6: 累計人數 | I6: 人 數 | J6: 累計人數 | K6: 人 數 | L6: 累計人數 | M6: 人 數 | N6: 累計人數 | O6: 人 數 | P6: 累計人數
A7: =C7+E7+G7+I7+K7+M7+O7+A12+C12+E12+G12+I12+K12+M12+O12+A17+C17+E17+G17+I17+K17+M17+O17+A22+C22+E22+G22++I22+K22+M22+O22+A27+C27 -> 4922 | B7: =D7+F7+H7+J7+L7+N7+P7+B12+D12+F12+H12+J12+L12+N12+P12+B17+D17+F17+H17+J17+L17+N17+P17+B22+D22+F22+H22++J22+L22+N22+P22+B27+D27+F27 -> 63964 | C7: 125 | D7: 6880 | E7: 265 | F7: 12051 | G7: 201 | H7: 7971 | I7: 126 | J7: 5190 | K7: 66 | L7: 3456 | M7: 60 | N7: 2336 | O7: 47 | P7: 1422
A10: 神經外科 | C10: 泌尿科 | E10: 耳鼻喉科 | G10: 眼科 | I10: 皮膚科 | K10: 精神科 | M10: 復健科 | O10: 整形外科
A11: 人 數 | B11: 累計人數 | C11: 人 數 | D11: 累計人數 | E11: 人 數 | F11: 累計人數 | G11: 人 數 | H11: 累計人數 | I11: 人 數 | J11: 累計人數 | K11: 人 數 | L11: 累計人數 | M11: 人 數 | N11: 累計人數 | O11: 人 數 | P11: 累計人數
A12: 21 | B12: 756 | C12: 38 | D12: 1216 | E12: 53 | F12: 2511 | G12: 38 | H12: 2071 | I12: 30 | J12: 1163 | K12: 50 | L12: 1931 | M12: 41 | N12: 1340 | O12: 27 | P12: 819
A15: 麻醉科 | C15: 放射診斷科 | E15: 放射腫瘤科 | G15: 解剖病理科 | I15: 臨床病理科 | K15: 核子醫學科 | M15: 急診醫學科 | O15: 職業醫學科
A16: 人 數 | B16: 累計人數 | C16: 人 數 | D16: 累計人數 | E16: 人 數 | F16: 累計人數 | G16: 人 數 | H16: 累計人數 | I16: 人 數 | J16: 累計人數 | K16: 人 數 | L16: 累計人數 | M16: 人 數 | N16: 累計人數 | O16: 人 數 | P16: 累計人數
A17: 56 | B17: 1538 | C17: 45 | D17: 1359 | E17: 11 | F17: 402 | G17: 10 | H17: 636 | I17: 3 | J17: 230 | K17: 4 | L17: 256 | M17: 109 | N17: 2251 | O17: 17 | P17: 434
A20: 口腔顎面外科 | C20: 口腔病理科 | E20: 齒顎矯正科 | G20: 牙周病科 | I20: 兒童牙科 | K20: 牙髓病科 | M20: 贋復補綴牙科 | O20: 牙體復形科
A21: 人 數 | B21: 累計人數 | C21: 人 數 | D21: 累計人數 | E21: 人 數 | F21: 累計人數 | G21: 人 數 | H21: 累計人數 | I21: 人 數 | J21: 累計人數 | K21: 人 數 | L21: 累計人數 | M21: 人 數 | N21: 累計人數 | O21: 人 數 | P21: 累計人數
A22: 23 | B22: 463 | C22: 2 | D22: 83 | E22: 36 | F22: 786 | G22: 516 | H22: 516 | I22: 30 | J22: 385 | K22: 40 | L22: 320 | M22: 19 | N22: 259 | O22: 16 | P22: 136
A25: 家庭牙醫科 | C25: 特殊需求者口腔醫學科
A26: 人 數 | B26: 累計人數 | C26: 人 數 | D26: 累計人數
A27: 2169 | B27: 2169 | C27: 628 | D27: 628
A30: 填表 | D30: 審核 | G30: 業務主管人員 | J30: 機關首長 | P30: 中華民國 年 月 日編製
G31: 主辦統計人員
A32: 資料來源：本部醫事司、口腔健康司。
A33: 填表說明：本表一式二份，一份送本部統計處，一份自存。

Sheet 110
A1: 公開類 | M1: 編製機關 | N1: 衛生福利部
A2: 年 報 | B2: 每年終了2個月內編報 | M2: 表 號 | N2: 10512-01-02
A3: 專科醫師核准給證人數
A4: 中華民國 110 年 | P4: 單位：人
A5: 總計 | C5: 家庭醫學科 | E5: 內科 | G5: 外科 | I5: 兒科 | K5: 婦產科 | M5: 骨科 | O5: 神經科
A6: 人 數 | B6: 累計人數 | C6: 人 數 | D6: 累計人數 | E6: 人 數 | F6: 累計人數 | G6: 人 數 | H6: 累計人數 | I6: 人 數 | J6: 累計人數 | K6: 人 數 | L6: 累計人數 | M6: 人 數 | N6: 累計人數 | O6: 人 數 | P6: 累計人數
A7: 2169 | B7: 59042 | C7: 120 | D7: 6755 | E7: 308 | F7: 11786 | G7: 187 | H7: 7770 | I7: 123 | J7: 5064 | K7: 59 | L7: 3390 | M7: 58 | N7: 2276 | O7: 46 | P7: 1375
A10: 神經外科 | C10: 泌尿科 | E10: 耳鼻喉科 | G10: 眼科 | I10: 皮膚科 | K10: 精神科 | M10: 復健科 | O10: 整形外科
A11: 人 數 | B11: 累計人數 | C11: 人 數 | D11: 累計人數 | E11: 人 數 | F11: 累計人數 | G11: 人 數 | H11: 累計人數 | I11: 人 數 | J11: 累計人數 | K11: 人 數 | L11: 累計人數 | M11: 人 數 | N11: 累計人數 | O11: 人 數 | P11: 累計人數
A12: 23 | B12: 735 | C12: 38 | D12: 1178 | E12: 51 | F12: 2458 | G12: 39 | H12: 2033 | I12: 25 | J12: 1133 | K12: 42 | L12: 1881 | M12: 39 | N12: 1299 | O12: 24 | P12: 792
A15: 麻醉科 | C15: 放射診斷科 | E15: 放射腫瘤科 | G15: 解剖病理科 | I15: 臨床病理科 | K15: 核子醫學科 | M15: 急診醫學科 | O15: 職業醫學科
A16: 人 數 | B16: 累計人數 | C16: 人 數 | D16: 累計人數 | E16: 人 數 | F16: 累計人數 | G16: 人 數 | H16: 累計人數 | I16: 人 數 | J16: 累計人數 | K16: 人 數 | L16: 累計人數 | M16: 人 數 | N16: 累計人數 | O16: 人 數 | P16: 累計人數
A17: 57 | B17: 1482 | C17: 49 | D17: 1314 | E17: 18 | F17: 391 | G17: 14 | H17: 626 | I17: 7 | J17: 227 | K17: 1 | L17: 252 | M17: 97 | N17: 2142 | O17: 16 | P17: 417
A20: 口腔顎面外科 | C20: 口腔病理科 | E20: 齒顎矯正科 | G20: 牙周病科 | I20: 兒童牙科 | K20: 牙髓病科 | M20: 贋復補綴牙科 | O20: 牙體復形科
A21: 人 數 | B21: 累計人數 | C21: 人 數 | D21: 累計人數 | E21: 人 數 | F21: 累計人數 | G21: 人 數 | H21: 累計人數 | I21: 人 數 | J21: 累計人數 | K21: 人 數 | L21: 累計人數 | M21: 人 數 | N21: 累計人數 | O21: 人 數 | P21: 累計人數
A22: 9 | B22: 440 | C22: 1 | D22: 81 | E22: 46 | F22: 750 | G22: 0 | H22: 0 | I22: 32 | J22: 355 | K22: 280 | L22: 280 | M22: 240 | N22: 240 | O22: 120 | P22: 120
A25: 家庭牙醫科 | C25: 特殊需求者口腔醫學科
A26: 人 數 | B26: 累計人數 | C26: 人 數 | D26: 累計人數
A27: 0 | B27: 0 | C27: 0 | D27: 0
A30: 填表 | D30: 審核 | G30: 業務主管人員 | J30: 機關首長 | P30: 中華民國 年 月 日編製
G31: 主辦統計人員
A32: 資料來源：本部醫事司、心口司。
A33: 填表說明：本表一式二份，一份送本部統計處，一份自存。

Sheet 109
A1: 公開類 | M1: 編製機關 | N1: 衛生福利部
A2: 年 報 | B2: 每年終了2個月內編報 | M2: 表 號 | N2: 10512-01-02
A3: 專科醫師核准給證人數
A4: 中華民國109年
A5: 單位：人
A6: 總計 | C6: 家庭醫學科 | E6: 內科 | G6: 外科 | I6: 兒科 | K6: 婦產科 | M6: 骨科 | O6: 神經科
A7: 人 數 | B7: 累計人數 | C7: 人 數 | D7: 累計人數 | E7: 人 數 | F7: 累計人數 | G7: 人 數 | H7: 累計人數 | I7: 人 數 | J7: 累計人數 | K7: 人 數 | L7: 累計人數 | M7: 人 數 | N7: 累計人數 | O7: 人 數 | P7: 累計人數
A8: 1788 | B8: 56873 | C8: 123 | D8: 6635 | E8: 296 | F8: 11478 | G8: 164 | H8: 7583 | I8: 118 | J8: 4941 | K8: 63 | L8: 3331 | M8: 58 | N8: 2218 | O8: 37 | P8: 1329
A11: 神經外科 | C11: 泌尿科 | E11: 耳鼻喉科 | G11: 眼科 | I11: 皮膚科 | K11: 精神科 | M11: 復健科 | O11: 整形外科
A12: 人 數 | B12: 累計人數 | C12: 人 數 | D12: 累計人數 | E12: 人 數 | F12: 累計人數 | G12: 人 數 | H12: 累計人數 | I12: 人 數 | J12: 累計人數 | K12: 人 數 | L12: 累計人數 | M12: 人 數 | N12: 累計人數 | O12: 人 數 | P12: 累計人數
A13: 23 | B13: 712 | C13: 41 | D13: 1140 | E13: 51 | F13: 2407 | G13: 36 | H13: 1994 | I13: 24 | J13: 1108 | K13: 54 | L13: 1839 | M13: 39 | N13: 1260 | O13: 22 | P13: 768
A16: 麻醉科 | C16: 放射診斷科 | E16: 放射腫瘤科 | G16: 解剖病理科 | I16: 臨床病理科 | K16: 核子醫學科 | M16: 急診醫學科 | O16: 職業醫學科
A17: 人 數 | B17: 累計人數 | C17: 人 數 | D17: 累計人數 | E17: 人 數 | F17: 累計人數 | G17: 人 數 | H17: 累計人數 | I17: 人 數 | J17: 累計人數 | K17: 人 數 | L17: 累計人數 | M17: 人 數 | N17: 累計人數 | O17: 人 數 | P17: 累計人數
A18: 61 | B18: 1425 | C18: 52 | D18: 1265 | E18: 19 | F18: 373 | G18: 16 | H18: 612 | I18: 3 | J18: 220 | K18: 7 | L18: 251 | M18: 99 | N18: 2045 | O18: 13 | P18: 401
A21: 口腔顎面外科 | C21: 口腔病理科 | E21: 齒顎矯正科 | G21: 兒童牙科 | I21: 牙周病科 | K21: 牙髓病科 | M21: 贋復補綴牙科 | O21: 牙體復形科
A22: 人 數 | B22: 累計人數 | C22: 人 數 | D22: 累計人數 | E22: 人 數 | F22: 累計人數 | G22: 人數 | H22: 累計人數 | I22: 人數 | J22: 累計人數 | K22: 人數 | L22: 累計人數 | M22: 人數 | N22: 累計人數 | O22: 人數 | P22: 累計人數
A23: 16 | B23: 431 | C23: 0 | D23: 80 | E23: 30 | F23: 704 | G23: 323 | H23: 323 | I23: 0 | J23: 0 | K23: 0 | L23: 0 | M23: 0 | N23: 0 | O23: 0 | P23: 0
A26: 家庭牙醫科 | C26: 特殊需求者口腔醫學科
A27: 人 數 | B27: 累計人數 | C27: 人 數 | D27: 累計人數
A28: 0 | B28: 0 | C28: 0 | D28: 0
A31: 填表 | D31: 審核 | G31: 業務主管人員 | J31: 機關首長 | P31: 中華民國110年3月4日編製
G32: 主辦統計人員
A33: 資料來源：本部醫事司、心口司。
A34: 填表說明：本表一式二份，一份送本部統計處，一份自存。

Sheet 108
A1: 公開類 | M1: 編製機關 | N1: 衛生福利部
A2: 年 報 | B2: 每年終了2個月內編報 | M2: 表 號 | N2: 10512-01-02
A3: 專科醫師核准給證人數
A4: 中華民國108年
A5: 單位：人
A6: 總計 | C6: 家庭醫學科 | E6: 內科 | G6: 外科 | I6: 兒科 | K6: 婦產科 | M6: 骨科 | O6: 神經科
A7: 人 數 | B7: 累計人數 | C7: 人 數 | D7: 累計人數 | E7: 人 數 | F7: 累計人數 | G7: 人 數 | H7: 累計人數 | I7: 人 數 | J7: 累計人數 | K7: 人 數 | L7: 累計人數 | M7: 人 數 | N7: 累計人數 | O7: 人 數 | P7: 累計人數
A8: 1360 | B8: 55085 | C8: 120 | D8: 6512 | E8: 239 | F8: 11182 | G8: 145 | H8: 7419 | I8: 129 | J8: 4823 | K8: 65 | L8: 3268 | M8: 54 | N8: 2160 | O8: 55 | P8: 1292
A11: 神經外科 | C11: 泌尿科 | E11: 耳鼻喉科 | G11: 眼科 | I11: 皮膚科 | K11: 精神科 | M11: 復健科 | O11: 整形外科
A12: 人 數 | B12: 累計人數 | C12: 人 數 | D12: 累計人數 | E12: 人 數 | F12: 累計人數 | G12: 人 數 | H12: 累計人數 | I12: 人 數 | J12: 累計人數 | K12: 人 數 | L12: 累計人數 | M12: 人 數 | N12: 累計人數 | O12: 人 數 | P12: 累計人數
A13: 22 | B13: 689 | C13: 42 | D13: 1099 | E13: 53 | F13: 2356 | G13: 32 | H13: 1958 | I13: 25 | J13: 1084 | K13: 36 | L13: 1785 | M13: 38 | N13: 1221 | O13: 21 | P13: 746
A16: 麻醉科 | C16: 放射診斷科 | E16: 放射腫瘤科 | G16: 解剖病理科 | I16: 臨床病理科 | K16: 核子醫學科 | M16: 急診醫學科 | O16: 職業醫學科
A17: 人 數 | B17: 累計人數 | C17: 人 數 | D17: 累計人數 | E17: 人 數 | F17: 累計人數 | G17: 人 數 | H17: 累計人數 | I17: 人 數 | J17: 累計人數 | K17: 人 數 | L17: 累計人數 | M17: 人 數 | N17: 累計人數 | O17: 人 數 | P17: 累計人數
A18: 50 | B18: 1364 | C18: 49 | D18: 1213 | E18: 17 | F18: 354 | G18: 14 | H18: 596 | I18: 7 | J18: 217 | K18: 5 | L18: 244 | M18: 77 | N18: 1946 | O18: 18 | P18: 388
A21: 口腔顎面外科 | C21: 口腔病理科 | E21: 齒顎矯正科
A22: 人 數 | B22: 累計人數 | C22: 人 數 | D22: 累計人數 | E22: 人 數 | F22: 累計人數
A23: 21 | B23: 415 | C23: 0 | D23: 80 | E23: 26 | F23: 674
A26: 填表 | D26: 審核 | G26: 業務主管人員 | J26: 機關首長 | P26: 中華民國 年 月 日編製
G27: 主辦統計人員
A28: 資料來源：本部醫事司、心口司。
A29: 填表說明：本表一式二份，一份送本部統計處，一份自存。

Sheet 107
A1: 公開類 | M1: 編製機關 | N1: 衛生福利部
A2: 年 報 | B2: 每年終了2個月內編報 | M2: 表 號 | N2: 10512-01-02
A3: 專科醫師核准給證人數
A4: 中華民國107年
A5: 單位：人
A6: 總計 | C6: 家庭醫學科 | E6: 內科 | G6: 外科 | I6: 兒科 | K6: 婦產科 | M6: 骨科 | O6: 神經科
A7: 人 數 | B7: 累計人數 | C7: 人 數 | D7: 累計人數 | E7: 人 數 | F7: 累計人數 | G7: 人 數 | H7: 累計人數 | I7: 人 數 | J7: 累計人數 | K7: 人 數 | L7: 累計人數 | M7: 人 數 | N7: 累計人數 | O7: 人 數 | P7: 累計人數
A8: 1361 | B8: =D8+F8+H8+J8+L8+N8+P8+B13+D13+F13+H13+J13+L13+N13+P13+B18+D18+F18+H18+J18+L18+N18+P18+B23+D23+F23 -> 53725 | C8: 131 | D8: 6392 | E8: 257 | F8: 10943 | G8: 147 | H8: 7274 | I8: 135 | J8: 4694 | K8: 49 | L8: 3203 | M8: 51 | N8: 2106 | O8: 42 | P8: 1237
A11: 神經外科 | C11: 泌尿科 | E11: 耳鼻喉科 | G11: 眼科 | I11: 皮膚科 | K11: 精神科 | M11: 復健科 | O11: 整形外科
A12: 人 數 | B12: 累計人數 | C12: 人 數 | D12: 累計人數 | E12: 人 數 | F12: 累計人數 | G12: 人 數 | H12: 累計人數 | I12: 人 數 | J12: 累計人數 | K12: 人 數 | L12: 累計人數 | M12: 人 數 | N12: 累計人數 | O12: 人 數 | P12: 累計人數
A13: 14 | B13: 667 | C13: 33 | D13: 1057 | E13: 48 | F13: 2303 | G13: 31 | H13: 1926 | I13: 25 | J13: 1059 | K13: 45 | L13: 1749 | M13: 38 | N13: 1183 | O13: 17 | P13: 725
A16: 麻醉科 | C16: 放射診斷科 | E16: 放射腫瘤科 | G16: 解剖病理科 | I16: 臨床病理科 | K16: 核子醫學科 | M16: 急診醫學科 | O16: 職業醫學科
A17: 人 數 | B17: 累計人數 | C17: 人 數 | D17: 累計人數 | E17: 人 數 | F17: 累計人數 | G17: 人 數 | H17: 累計人數 | I17: 人 數 | J17: 累計人數 | K17: 人 數 | L17: 累計人數 | M17: 人 數 | N17: 累計人數 | O17: 人 數 | P17: 累計人數
A18: 53 | B18: 1314 | C18: 44 | D18: 1164 | E18: 19 | F18: 337 | G18: 20 | H18: 582 | I18: 2 | J18: 210 | K18: 5 | L18: 239 | M18: 110 | N18: 1869 | O18: 11 | P18: 370
A21: 口腔顎面外科 | C21: 口腔病理科 | E21: 齒顎矯正科
A22: 人 數 | B22: 累計人數 | C22: 人 數 | D22: 累計人數 | E22: 人 數 | F22: 累計人數
A23: 9 | B23: 394 | C23: 0 | D23: 80 | E23: 25 | F23: 648
A26: 填表 | D26: 審核 | G26: 業務主管人員 | J26: 機關首長 | P26: 中華民國 年 月 日編製
G27: 主辦統計人員
A28: 資料來源：本部醫事司、心口司。
A29: 填表說明：本表一式二份，一份送本部統計處，一份自存。

Sheet 106
A1: 公開類 | M1: 編製機關 | N1: 衛生福利部
A2: 年 報 | B2: 每年終了2個月內編報 | M2: 表 號 | N2: 10512-01-02
A3: 專科醫師核准給證人數
A4: 中華民國106年
A5: 單位：人
A6: 總計 | C6: 家庭醫學科 | E6: 內科 | G6: 外科 | I6: 兒科 | K6: 婦產科 | M6: 骨科 | O6: 神經科
A7: 人 數 | B7: 累計人數 | C7: 人 數 | D7: 累計人數 | E7: 人 數 | F7: 累計人數 | G7: 人 數 | H7: 累計人數 | I7: 人 數 | J7: 累計人數 | K7: 人 數 | L7: 累計人數 | M7: 人 數 | N7: 累計人數 | O7: 人 數 | P7: 累計人數
A8: 1338 | B8: 52364 | C8: 126 | D8: 6261 | E8: 276 | F8: 10686 | G8: 127 | H8: 7127 | I8: 143 | J8: 4559 | K8: 48 | L8: 3154 | M8: 29 | N8: 2055 | O8: 43 | P8: 1195
A11: 神經外科 | C11: 泌尿科 | E11: 耳鼻喉科 | G11: 眼科 | I11: 皮膚科 | K11: 精神科 | M11: 復健科 | O11: 整形外科
A12: 人 數 | B12: 累計人數 | C12: 人 數 | D12: 累計人數 | E12: 人 數 | F12: 累計人數 | G12: 人 數 | H12: 累計人數 | I12: 人 數 | J12: 累計人數 | K12: 人 數 | L12: 累計人數 | M12: 人 數 | N12: 累計人數 | O12: 人 數 | P12: 累計人數
A13: 15 | B13: 653 | C13: 34 | D13: 1024 | E13: 29 | F13: 2255 | G13: 32 | H13: 1895 | I13: 28 | J13: 1034 | K13: 58 | L13: 1704 | M13: 38 | N13: 1145 | O13: 21 | P13: 708
A16: 麻醉科 | C16: 放射診斷科 | E16: 放射腫瘤科 | G16: 解剖病理科 | I16: 臨床病理科 | K16: 核子醫學科 | M16: 急診醫學科 | O16: 職業醫學科
A17: 人 數 | B17: 累計人數 | C17: 人 數 | D17: 累計人數 | E17: 人 數 | F17: 累計人數 | G17: 人 數 | H17: 累計人數 | I17: 人 數 | J17: 累計人數 | K17: 人 數 | L17: 累計人數 | M17: 人 數 | N17: 累計人數 | O17: 人 數 | P17: 累計人數
A18: 44 | B18: 1261 | C18: 47 | D18: 1120 | E18: 17 | F18: 318 | G18: 20 | H18: 562 | I18: 7 | J18: 208 | K18: 12 | L18: 234 | M18: 74 | N18: 1759 | O18: 16 | P18: 359
A21: 口腔顎面外科 | C21: 口腔病理科 | E21: 齒顎矯正科
A22: 人 數 | B22: 累計人數 | C22: 人 數 | D22: 累計人數 | E22: 人 數 | F22: 累計人數
A23: 16 | B23: 385 | C23: 2 | D23: 80 | E23: 36 | F23: 623
A26: 填表 | D26: 審核 | G26: 業務主管人員 | J26: 機關首長 | P26: 中華民國 年 月 日編製
G27: 主辦統計人員
A28: 資料來源：本部醫事司、心口司。
A29: 填表說明：本表一式二份，一份送本部統計處，一份自存。

Sheet 105
A1: 公開類 | M1: 編製機關 | N1: 衛生福利部
A2: 年 報 | B2: 每年終了2個月內編報 | M2: 表 號 | N2: 10512-01-02
A3: 專科醫師核准給證人數
A4: 中華民國105年
A5: 單位：人
A6: 總計 | C6: 家庭醫學科 | E6: 內科 | G6: 外科 | I6: 兒科 | K6: 婦產科 | M6: 骨科 | O6: 神經科
A7: 人 數 | B7: 累計人數 | C7: 人 數 | D7: 累計人數 | E7: 人 數 | F7: 累計人數 | G7: 人 數 | H7: 累計人數 | I7: 人 數 | J7: 累計人數 | K7: 人 數 | L7: 累計人數 | M7: 人 數 | N7: 累計人數 | O7: 人 數 | P7: 累計人數
A8: 1024 | B8: 51026 | C8: 148 | D8: 6135 | E8: 216 | F8: 10410 | G8: 63 | H8: 7000 | I8: 99 | J8: 4416 | K8: 32 | L8: 3106 | M8: 44 | N8: 2026 | O8: 51 | P8: 1152
A11: 神經外科 | C11: 泌尿科 | E11: 耳鼻喉科 | G11: 眼科 | I11: 皮膚科 | K11: 精神科 | M11: 復健科 | O11: 整形外科
A12: 人 數 | B12: 累計人數 | C12: 人 數 | D12: 累計人數 | E12: 人 數 | F12: 累計人數 | G12: 人 數 | H12: 累計人數 | I12: 人 數 | J12: 累計人數 | K12: 人 數 | L12: 累計人數 | M12: 人 數 | N12: 累計人數 | O12: 人 數 | P12: 累計人數
A13: 28 | B13: 638 | C13: 32 | D13: 990 | E13: 42 | F13: 2226 | G13: 21 | H13: 1863 | I13: 14 | J13: 1006 | K13: 36 | L13: 1646 | M13: 25 | N13: 1107 | O13: 23 | P13: 687
A16: 麻醉科 | C16: 放射診斷科 | E16: 放射腫瘤科 | G16: 解剖病理科 | I16: 臨床病理科 | K16: 核子醫學科 | M16: 急診醫學科 | O16: 職業醫學科
A17: 人 數 | B17: 累計人數 | C17: 人 數 | D17: 累計人數 | E17: 人 數 | F17: 累計人數 | G17: 人 數 | H17: 累計人數 | I17: 人 數 | J17: 累計人數 | K17: 人 數 | L17: 累計人數 | M17: 人 數 | N17: 累計人數 | O17: 人 數 | P17: 累計人數
A18: 21 | B18: 1217 | C18: 22 | D18: 1073 | E18: 9 | F18: 301 | G18: 13 | H18: 542 | I18: 7 | J18: 201 | K18: 6 | L18: 222 | M18: 32 | N18: 1685 | O18: 7 | P18: 343
A21: 口腔顎面外科 | C21: 口腔病理科 | E21: 齒顎矯正科
A22: 人 數 | B22: 累計人數 | C22: 人 數 | D22: 累計人數 | E22: 人 數 | F22: 累計人數
A23: 6 | B23: 369 | C23: 3 | D23: 78 | E23: 24 | F23: 587
A26: 填表 | D26: 審核 | G26: 業務主管人員 | J26: 機關首長 | P26: 中華民國 年 月 日編製
G27: 主辦統計人員
A28: 資料來源：本部醫事司、心口司。
A29: 填表說明：本表一式二份，一份送本部統計處，一份自存。

Sheet 104
A1: 公開類 | M1: 編製機關 | N1: 衛生福利部醫事司
A2: 年 報 | B2: 次年2月底前編報 | M2: 表 號 | N2: 10512-01-02
A3: 專科醫師核准給證人數
A4: 中華民國104年
A5: 單位：人
A6: 總計 | C6: 家庭醫學科 | E6: 內科 | G6: 外科 | I6: 兒科 | K6: 婦產科 | M6: 骨科 | O6: 神經科
A7: 人 數 | B7: 累計人數 | C7: 人 數 | D7: 累計人數 | E7: 人 數 | F7: 累計人數 | G7: 人 數 | H7: 累計人數 | I7: 人 數 | J7: 累計人數 | K7: 人 數 | L7: 累計人數 | M7: 人 數 | N7: 累計人數 | O7: 人 數 | P7: 累計人數
A8: 1041 | B8: 50002 | C8: 66 | D8: 5987 | E8: 114 | F8: 10194 | G8: 151 | H8: 6937 | I8: 72 | J8: 4317 | K8: 24 | L8: 3074 | M8: 65 | N8: 1982 | O8: 52 | P8: 1101
A11: 神經外科 | C11: 泌尿科 | E11: 耳鼻喉科 | G11: 眼科 | I11: 皮膚科 | K11: 精神科 | M11: 復健科 | O11: 整形外科
A12: 人 數 | B12: 累計人數 | C12: 人 數 | D12: 累計人數 | E12: 人 數 | F12: 累計人數 | G12: 人 數 | H12: 累計人數 | I12: 人 數 | J12: 累計人數 | K12: 人 數 | L12: 累計人數 | M12: 人 數 | N12: 累計人數 | O12: 人 數 | P12: 累計人數
A13: 29 | B13: 610 | C13: 36 | D13: 958 | E13: 71 | F13: 2184 | G13: 34 | H13: 1842 | I13: 19 | J13: 992 | K13: 37 | L13: 1610 | M13: 31 | N13: 1082 | O13: 32 | P13: 664
A16: 麻醉科 | C16: 放射診斷科 | E16: 放射腫瘤科 | G16: 解剖病理科 | I16: 臨床病理科 | K16: 核子醫學科 | M16: 急診醫學科 | O16: 職業醫學科
A17: 人 數 | B17: 累計人數 | C17: 人 數 | D17: 累計人數 | E17: 人 數 | F17: 累計人數 | G17: 人 數 | H17: 累計人數 | I17: 人 數 | J17: 累計人數 | K17: 人 數 | L17: 累計人數 | M17: 人 數 | N17: 累計人數 | O17: 人 數 | P17: 累計人數
A18: 25 | B18: 1196 | C18: 31 | D18: 1051 | E18: 16 | F18: 292 | G18: 13 | H18: 529 | I18: 7 | J18: 194 | K18: 9 | L18: 216 | M18: 58 | N18: 1653 | O18: 9 | P18: 336
A21: 口腔顎面外科 | C21: 口腔病理科 | E21: 齒顎矯正科
A22: 人 數 | B22: 累計人數 | C22: 人 數 | D22: 累計人數 | E22: 人 數 | F22: 累計人數
A23: 13 | B23: 363 | C23: 3 | D23: 75 | E23: 24 | F23: 563
A26: 填表 | D26: 審核 | G26: 業務主管人員 | J26: 機關首長 | P26: 中華民國 年 月 日編製
G27: 主辦統計人員
A28: 資料來源：本部醫事司、心口司。
A29: 填表說明：本表一式二份，一份送本部統計處，一份自存。
A30: *總計累計人數包含放射線核子醫學科。

Sheet 103
A1: 公開類 | M1: 編製機關 | N1: 衛生福利部醫事司
A2: 年 報 | B2: 次年2月底前編報 | M2: 表 號 | N2: 1612-01-02
A3: 專科醫師核准給證人數
A4: 中華民國103年
A5: 單位：人
A6: 總計 | C6: 家庭醫學科 | E6: 內科 | G6: 外科 | I6: 兒科 | K6: 婦產科 | M6: 骨科 | O6: 神經科
A7: 人 數 | B7: 累計人數 | C7: 人 數 | D7: 累計人數 | E7: 人 數 | F7: 累計人數 | G7: 人 數 | H7: 累計人數 | I7: 人 數 | J7: 累計人數 | K7: 人 數 | L7: 累計人數 | M7: 人 數 | N7: 累計人數 | O7: 人 數 | P7: 累計人數
A8: 1340 | B8: 48961 | C8: 92 | D8: 5921 | E8: 227 | F8: 10080 | G8: 190 | H8: 6786 | I8: 65 | J8: 4245 | K8: 40 | L8: 3050 | M8: 64 | N8: 1917 | O8: 40 | P8: 1049
A11: 神經外科 | C11: 泌尿科 | E11: 耳鼻喉科 | G11: 眼科 | I11: 皮膚科 | K11: 精神科 | M11: 復健科 | O11: 整形外科
A12: 人 數 | B12: 累計人數 | C12: 人 數 | D12: 累計人數 | E12: 人 數 | F12: 累計人數 | G12: 人 數 | H12: 累計人數 | I12: 人 數 | J12: 累計人數 | K12: 人 數 | L12: 累計人數 | M12: 人 數 | N12: 累計人數 | O12: 人 數 | P12: 累計人數
A13: 24 | B13: 581 | C13: 35 | D13: 922 | E13: 64 | F13: 2113 | G13: 44 | H13: 1808 | I13: 35 | J13: 973 | K13: 70 | L13: 1573 | M13: 52 | N13: 1051 | O13: 23 | P13: 632
A16: 麻醉科 | C16: 放射診斷科 | E16: 放射腫瘤科 | G16: 解剖病理科 | I16: 臨床病理科 | K16: 核子醫學科 | M16: 急診醫學科 | O16: 職業醫學科
A17: 人 數 | B17: 累計人數 | C17: 人 數 | D17: 累計人數 | E17: 人 數 | F17: 累計人數 | G17: 人 數 | H17: 累計人數 | I17: 人 數 | J17: 累計人數 | K17: 人 數 | L17: 累計人數 | M17: 人 數 | N17: 累計人數 | O17: 人 數 | P17: 累計人數
A18: 53 | B18: 1171 | C18: 47 | D18: 1020 | E18: 17 | F18: 276 | G18: 18 | H18: 516 | I18: 5 | J18: 187 | K18: 9 | L18: 207 | M18: 72 | N18: 1595 | O18: 13 | P18: 327
A21: 口腔顎面外科 | C21: 口腔病理科 | E21: 齒顎矯正科
A22: 人 數 | B22: 累計人數 | C22: 人 數 | D22: 累計人數 | E22: 人 數 | F22: 累計人數
A23: 18 | B23: 350 | C23: 0 | D23: 72 | E23: 23 | F23: 539
A26: 填表 | D26: 審核 | H26: 主辦業務人員 | L26: 機關長官
H27: 主辦統計人員
A28: 資料來源：本部醫事司、心口司
A29: 填表說明：本表一式二份，一份送本部統計處，一份自存。
A30: *總計累計人數包含放射線核子醫學科。

Sheet 102
A1: 公開類 | M1: 編製機關 | N1: 衛生福利部醫事司
A2: 年 報 | B2: 次年2月底前編報 | M2: 表 號 | N2: 1612-01-02
A3: 專科醫師核准給證人數
A4: 中華民國102年
A5: 單位：人
A6: 總計 | C6: 家庭醫學科 | E6: 內科 | G6: 外科 | I6: 兒科 | K6: 婦產科 | M6: 骨科 | O6: 神經科
A7: 人 數 | B7: 累計人數 | C7: 人 數 | D7: 累計人數 | E7: 人 數 | F7: 累計人數 | G7: 人 數 | H7: 累計人數 | I7: 人 數 | J7: 累計人數 | K7: 人 數 | L7: 累計人數 | M7: 人 數 | N7: 累計人數 | O7: 人 數 | P7: 累計人數
A8: 1515 | B8: 47621 | C8: 153 | D8: 5829 | E8: 306 | F8: 9853 | G8: 171 | H8: 6596 | I8: 105 | J8: 4180 | K8: 48 | L8: 3010 | M8: 62 | N8: 1853 | O8: 42 | P8: 1009
A11: 神經外科 | C11: 泌尿科 | E11: 耳鼻喉科 | G11: 眼科 | I11: 皮膚科 | K11: 精神科 | M11: 復健科 | O11: 整形外科
A12: 人 數 | B12: 累計人數 | C12: 人 數 | D12: 累計人數 | E12: 人 數 | F12: 累計人數 | G12: 人 數 | H12: 累計人數 | I12: 人 數 | J12: 累計人數 | K12: 人 數 | L12: 累計人數 | M12: 人 數 | N12: 累計人數 | O12: 人 數 | P12: 累計人數
A13: 20 | B13: 557 | C13: 32 | D13: 887 | E13: 66 | F13: 2049 | G13: 42 | H13: 1764 | I13: 30 | J13: 938 | K13: 72 | L13: 1503 | M13: 59 | N13: 999 | O13: 27 | P13: 609
A16: 麻醉科 | C16: 放射診斷科 | E16: 放射腫瘤科 | G16: 解剖病理科 | I16: 臨床病理科 | K16: 核子醫學科 | M16: 急診醫學科 | O16: 職業醫學科
A17: 人 數 | B17: 累計人數 | C17: 人 數 | D17: 累計人數 | E17: 人 數 | F17: 累計人數 | G17: 人 數 | H17: 累計人數 | I17: 人 數 | J17: 累計人數 | K17: 人 數 | L17: 累計人數 | M17: 人 數 | N17: 累計人數 | O17: 人 數 | P17: 累計人數
A18: 49 | B18: 1118 | C18: 45 | D18: 973 | E18: 12 | F18: 259 | G18: 22 | H18: 498 | I18: 2 | J18: 182 | K18: 6 | L18: 198 | M18: 88 | N18: 1523 | O18: 13 | P18: 314
A21: 口腔顎面外科 | C21: 口腔病理科 | E21: 齒顎矯正科
A22: 人 數 | B22: 累計人數 | C22: 人 數 | D22: 累計人數 | E22: 人 數 | F22: 累計人數
A23: 15 | B23: 332 | C23: 0 | D23: 72 | E23: 28 | F23: 516
A26: 填表 | D26: 審核 | H26: 主辦業務人員 | L26: 機關長官
H27: 主辦統計人員
A28: 資料來源：衛生福利部醫事司、心口司。
A29: 填表說明：本表一式二份，一份送本部統計處，一份自存。
A30: *總計累計人數包含放射線核子醫學科。

Sheet 101
A1: 公開類 | M1: 編製機關 | N1: 行政院衛生署醫事處
A2: 年 報 | B2: 次年2月底前編報 | M2: 表 號 | N2: 1612-01-02
A3: 專科醫師核准給證人數
A4: 中華民國101年
A5: 單位：人
A6: 總計 | C6: 家庭醫學科 | E6: 內科 | G6: 外科 | I6: 兒科 | K6: 婦產科 | M6: 骨科 | O6: 神經科
A7: 人 數 | B7: 累計人數 | C7: 人 數 | D7: 累計人數 | E7: 人 數 | F7: 累計人數 | G7: 人 數 | H7: 累計人數 | I7: 人 數 | J7: 累計人數 | K7: 人 數 | L7: 累計人數 | M7: 人 數 | N7: 累計人數 | O7: 人 數 | P7: 累計人數
A8: 1470 | B8: 46106 | C8: 145 | D8: 5676 | E8: 318 | F8: 9547 | G8: 180 | H8: 6425 | I8: 91 | J8: 4075 | K8: 35 | L8: 2962 | M8: 53 | N8: 1791 | O8: 45 | P8: 967
A11: 神經外科 | C11: 泌尿科 | E11: 耳鼻喉科 | G11: 眼科 | I11: 皮膚科 | K11: 精神科 | M11: 復健科 | O11: 整形外科
A12: 人 數 | B12: 累計人數 | C12: 人 數 | D12: 累計人數 | E12: 人 數 | F12: 累計人數 | G12: 人 數 | H12: 累計人數 | I12: 人 數 | J12: 累計人數 | K12: 人 數 | L12: 累計人數 | M12: 人 數 | N12: 累計人數 | O12: 人 數 | P12: 累計人數
A13: 23 | B13: 537 | C13: 24 | D13: 855 | E13: 61 | F13: 1983 | G13: 36 | H13: 1722 | I13: 32 | J13: 908 | K13: 69 | L13: 1431 | M13: 48 | N13: 940 | O13: 27 | P13: 582
A16: 麻醉科 | C16: 放射診斷科 | E16: 放射腫瘤科 | G16: 解剖病理科 | I16: 臨床病理科 | K16: 核子醫學科 | M16: 急診醫學科 | O16: 職業醫學科
A17: 人 數 | B17: 累計人數 | C17: 人 數 | D17: 累計人數 | E17: 人 數 | F17: 累計人數 | G17: 人 數 | H17: 累計人數 | I17: 人 數 | J17: 累計人數 | K17: 人 數 | L17: 累計人數 | M17: 人 數 | N17: 累計人數 | O17: 人 數 | P17: 累計人數
A18: 42 | B18: 1069 | C18: 43 | D18: 928 | E18: 14 | F18: 247 | G18: 20 | H18: 476 | I18: 7 | J18: 180 | K18: 12 | L18: 192 | M18: 84 | N18: 1435 | O18: 14 | P18: 301
A21: 口腔顎面外科 | C21: 口腔病理科 | E21: 齒顎矯正科
A22: 人 數 | B22: 累計人數 | C22: 人 數 | D22: 累計人數 | E22: 人 數 | F22: 累計人數
A23: 13 | B23: 317 | C23: 1 | D23: 72 | E23: 33 | F23: 488
A26: 填表 | D26: 審核 | H26: 主辦業務人員 | L26: 機關長官
H27: 主辦統計人員
A28: 資料來源：行政院衛生署醫事處。
A29: 填表說明：本表一式二份，一份送本署統計室，一份自存。
A30: *總計累計人數包含放射線核子醫學科。

Sheet 100
A1: 公開類 | M1: 編製機關 | N1: 行政院衛生署醫事處
A2: 年 報 | B2: 次年2月底前編報 | M2: 表 號 | N2: 1612-01-02
A3: 專科醫師核准給證人數
A4: 中華民國100年
A5: 單位：人
A6: 總計 | C6: 家庭醫學科 | E6: 內科 | G6: 外科 | I6: 兒科 | K6: 婦產科 | M6: 骨科 | O6: 神經科
A7: 人 數 | B7: 累計人數 | C7: 人 數 | D7: 累計人數 | E7: 人 數 | F7: 累計人數 | G7: 人 數 | H7: 累計人數 | I7: 人 數 | J7: 累計人數 | K7: 人 數 | L7: 累計人數 | M7: 人 數 | N7: 累計人數 | O7: 人 數 | P7: 累計人數
A8: 1373 | B8: 44636 | C8: 146 | D8: 5531 | E8: 358 | F8: 9229 | G8: 142 | H8: 6245 | I8: 95 | J8: 3984 | K8: 39 | L8: 2927 | M8: 46 | N8: 1738 | O8: 44 | P8: 922
A11: 神經外科 | C11: 泌尿科 | E11: 耳鼻喉科 | G11: 眼科 | I11: 皮膚科 | K11: 精神科 | M11: 復健科 | O11: 整形外科
A12: 人 數 | B12: 累計人數 | C12: 人 數 | D12: 累計人數 | E12: 人 數 | F12: 累計人數 | G12: 人 數 | H12: 累計人數 | I12: 人 數 | J12: 累計人數 | K12: 人 數 | L12: 累計人數 | M12: 人 數 | N12: 累計人數 | O12: 人 數 | P12: 累計人數
A13: 21 | B13: 514 | C13: 18 | D13: 831 | E13: 64 | F13: 1922 | G13: 36 | H13: 1686 | I13: 29 | J13: 876 | K13: 72 | L13: 1362 | M13: 50 | N13: 892 | O13: 22 | P13: 555
A16: 麻醉科 | C16: 放射診斷科 | E16: 放射腫瘤科 | G16: 解剖病理科 | I16: 臨床病理科 | K16: 核子醫學科 | M16: 急診醫學科 | O16: 職業醫學科
A17: 人 數 | B17: 累計人數 | C17: 人 數 | D17: 累計人數 | E17: 人 數 | F17: 累計人數 | G17: 人 數 | H17: 累計人數 | I17: 人 數 | J17: 累計人數 | K17: 人 數 | L17: 累計人數 | M17: 人 數 | N17: 累計人數 | O17: 人 數 | P17: 累計人數
A18: 50 | B18: 1027 | C18: 40 | D18: 885 | E18: 11 | F18: 233 | G18: 19 | H18: 456 | I18: 0 | J18: 173 | K18: 9 | L18: 180 | M18: 34 | N18: 1351 | O18: 13 | P18: 287
A21: 口腔顎面外科 | C21: 口腔病理科 | E21: 齒顎矯正科
A22: 人 數 | B22: 累計人數 | C22: 人 數 | D22: 累計人數 | E22: 人 數 | F22: 累計人數
A23: 15 | B23: 304 | C23: 0 | D23: 71 | E23: 0 | F23: 455
A26: 填表 | D26: 審核 | H26: 主辦業務人員 | L26: 機關長官
H27: 主辦統計人員
A28: 資料來源：行政院衛生署醫事處。
A29: 填表說明：本表一式二份，一份送本署統計室，一份自存。
A30: *總計累計人數包含放射線核子醫學科。

Sheet 99
A1: 公開類 | M1: 編製機關 | N1: 行政院衛生署醫事處
A2: 年 報 | B2: 次年2月底前編報 | M2: 表 號 | N2: 1612-01-02
A3: 專科醫師核准給證人數
A4: 中華民國99年
A5: 單位：人
A6: 總計 | C6: 家庭醫學科 | E6: 內科 | G6: 外科 | I6: 兒科 | K6: 婦產科 | M6: 骨科 | O6: 神經科
A7: 人 數 | B7: 累計人數 | C7: 人 數 | D7: 累計人數 | E7: 人 數 | F7: 累計人數 | G7: 人 數 | H7: 累計人數 | I7: 人 數 | J7: 累計人數 | K7: 人 數 | L7: 累計人數 | M7: 人 數 | N7: 累計人數 | O7: 人 數 | P7: 累計人數
A8: 1359 | B8: 43263 | C8: 150 | D8: 5385 | E8: 315 | F8: 8871 | G8: 138 | H8: 6103 | I8: 96 | J8: 3889 | K8: 33 | L8: 2888 | M8: 42 | N8: 1692 | O8: 37 | P8: 878
A11: 神經外科 | C11: 泌尿科 | E11: 耳鼻喉科 | G11: 眼科 | I11: 皮膚科 | K11: 精神科 | M11: 復健科 | O11: 整形外科
A12: 人 數 | B12: 累計人數 | C12: 人 數 | D12: 累計人數 | E12: 人 數 | F12: 累計人數 | G12: 人 數 | H12: 累計人數 | I12: 人 數 | J12: 累計人數 | K12: 人 數 | L12: 累計人數 | M12: 人 數 | N12: 累計人數 | O12: 人 數 | P12: 累計人數
A13: 21 | B13: 493 | C13: 17 | D13: 813 | E13: 62 | F13: 1858 | G13: 48 | H13: 1650 | I13: 30 | J13: 847 | K13: 60 | L13: 1290 | M13: 39 | N13: 842 | O13: 26 | P13: 533
A16: 麻醉科 | C16: 放射線科(診) | E16: 放射線科(腫) | G16: 病理科(解) | I16: 病理科(臨) | K16: 核子醫學科 | M16: 急診醫學科 | O16: 職業醫學科
A17: 人 數 | B17: 累計人數 | C17: 人 數 | D17: 累計人數 | E17: 人 數 | F17: 累計人數 | G17: 人 數 | H17: 累計人數 | I17: 人 數 | J17: 累計人數 | K17: 人 數 | L17: 累計人數 | M17: 人 數 | N17: 累計人數 | O17: 人 數 | P17: 累計人數
A18: 30 | B18: 977 | C18: 38 | D18: 845 | E18: 18 | F18: 222 | G18: 21 | H18: 437 | I18: 9 | J18: 173 | K18: 2 | L18: 171 | M18: 72 | N18: 1317 | O18: 15 | P18: 274
A21: 口腔顎面外科 | C21: 口腔病理科 | E21: 齒顎矯正科
A22: 人 數 | B22: 累計人數 | C22: 人 數 | D22: 累計人數 | E22: 人 數 | F22: 累計人數
A23: 15 | B23: 289 | C23: 0 | D23: 71 | E23: 25 | F23: 455
A26: 填表 | D26: 審核 | H26: 主辦業務人員 | L26: 機關長官
H27: 主辦統計人員
A29: 資料來源：行政院衛生署醫事處
A30: 填表說明：1.本表一式二份，一份頌本署統計室，一份自存。
A31: 2.98年新增齒顎矯正科核發430人，故統計總人數原記載33884，更正為34314；當年核發原記載1361人，更正為1791人。
A32: 3.99年更正小兒科專科為「兒科專科」
A33: 4.放射線核子醫學已停止(37)

Sheet 編製說明
D1: 專科醫師核准給證人數編製說明
A3: 一、統計範圍及對象：凡經醫師法第七條之一「專科醫師分科及甄審辦法」甄審合格者為統計對象。
A4: 二、統計標準時間：人數以每年１月１日至１２月３１日止為準，累計數以截至本年底累計之事實為準。
A5: 三、分類標準：分別依類科別區分。
A6: 四、統計項目定義（或說明）：專科醫師係指經醫師法第七條之一「專科醫師分科及甄審辦法」甄審合格者。
A7: 五、資料蒐集方法及編製程序：由本部核發證書之醫事司、口腔健康司核正後編報。
A8: 六、編送對象：本表一式二份，一份送本部統計處，一份自存。
