Workbook

Sheet 歷年(112年~)
A1: 老人保護扶助人次 Number of Senior Citizens Receiving Protection and Assistance
A3: 年別 Year | C3: 老人保護扶助人次（複選；人次）Number of Senior Citizens Receiving Protection and Assistance
C4: 總計 Total | D4: 諮詢協談 Counseling | E4: 家庭關係處理 Family relationship management | F4: 庇護/保護安置 Protection and Placement | G4: 陪同報案偵詢(訊) Accompanying the Parties Concerned During Case Reporting and Interrogation/Investigation | H4: 陪同出庭 Accompanying the Parties Concerned to Appear before Court | I4: 陪同醫療服務 Accompanying the Parties Concerned to medical service | J4: 心理諮商、治療與輔導 Psychological counseling, treatment and counseling | K4: 連結長期照顧服務 Link to long-term care services | L4: 聲請保護令 Petition for a Protection Order | M4: 經濟扶助 Financial Aid | N4: 法律扶助 Legal Aid | O4: 其他扶助 Others
A6: 112年,2023 | C6: 265487 | D6: 226201 | E6: 13120 | F6: 1087 | G6: 58 | H6: 1339 | I6: 66 | J6: 0 | K6: 566 | L6: 713 | M6: 2062 | N6: 5618 | O6: 14657
A7: 113年,2024 | C7: 285161 | D7: 244484 | E7: 14414 | F7: 1254 | G7: 98 | H7: 1463 | I7: 86 | J7: 0 | K7: 695 | L7: 778 | M7: 2283 | N7: 5286 | O7: 14320
A8: 資料來源：直轄市、縣(市)政府。
A9: 說明：自112年起老人保護扶助人次含適用身心障礙者權益保障法第75條、家庭暴力防治法規定之65歲以上老人。
A10: Source : Social and Family Affairs Administration, MOHW and County and City Government.

Sheet 113
A1: 老人保護扶助人次 Number of Senior Citizens Receiving Protection and Assistance
A2: 民國113年, 2024 | C2: =IF(C6=SUM(C11,C16,C21,C26,C31,C36,C41,C46,C51,C56,C61,C66,C71,C76,C81,C86,C91,C96,C101,C106,C111,C116),"","*") | D2: =IF(D6=SUM(D11,D16,D21,D26,D31,D36,D41,D46,D51,D56,D61,D66,D71,D76,D81,D86,D91,D96,D101,D106,D111,D116),"","*") | F2: =IF(F6=SUM(F11,F16,F21,F26,F31,F36,F41,F46,F51,F56,F61,F66,F71,F76,F81,F86,F91,F96,F101,F106,F111,F116),"","*") | G2: =IF(G6=SUM(G11,G16,G21,G26,G31,G36,G41,G46,G51,G56,G61,G66,G71,G76,G81,G86,G91,G96,G101,G106,G111,G116),"","*") | H2: =IF(H6=SUM(H11,H16,H21,H26,H31,H36,H41,H46,H51,H56,H61,H66,H71,H76,H81,H86,H91,H96,H101,H106,H111,H116),"","*") | I2: =IF(I6=SUM(I11,I16,I21,I26,I31,I36,I41,I46,I51,I56,I61,I66,I71,I76,I81,I86,I91,I96,I101,I106,I111,I116),"","*") | L2: =IF(L6=SUM(L11,L16,L21,L26,L31,L36,L41,L46,L51,L56,L61,L66,L71,L76,L81,L86,L91,L96,L101,L106,L111,L116),"","*") | M2: =IF(M6=SUM(M11,M16,M21,M26,M31,M36,M41,M46,M51,M56,M61,M66,M71,M76,M81,M86,M91,M96,M101,M106,M111,M116),"","*") | N2: =IF(N6=SUM(N11,N16,N21,N26,N31,N36,N41,N46,N51,N56,N61,N66,N71,N76,N81,N86,N91,N96,N101,N106,N111,N116),"","*") | O2: =IF(O6=SUM(O11,O16,O21,O26,O31,O36,O41,O46,O51,O56,O61,O66,O71,O76,O81,O86,O91,O96,O101,O106,O111,O116),"","*")
A3: 區域別及性別 Locality and Sex | C3: 老人保護扶助人次（複選；人次）Number of Senior Citizens Receiving Protection and Assistance
C4: 總計 Total | D4: 諮詢協談 Counseling | E4: 家庭關係處理 Family relationship management | F4: 庇護/保護安置 Protection and Placement | G4: 陪同報案偵詢(訊) Accompanying the Parties Concerned During Case Reporting and Interrogation/Investigation | H4: 陪同出庭 Accompanying the Parties Concerned to Appear before Court | I4: 陪同醫療服務 Accompanying the Parties Concerned to medical service | J4: 心理諮商、治療與輔導 Psychological counseling, treatment and counseling | K4: 連結長期照顧服務 Link to long-term care services | L4: 聲請保護令 Petition for a Protection Order | M4: 經濟扶助 Financial Aid | N4: 法律扶助 Legal Aid | O4: 其他扶助 Others
A6: 總計 | B6: 合計 SubTotal | C6: 285161 | D6: 244484 | E6: 14414 | F6: 1254 | G6: 98 | H6: 1463 | I6: 86 | J6: 0 | K6: 695 | L6: 778 | M6: 2283 | N6: 5286 | O6: 14320
A7: Total | B7: 男 Male | C7: 106403 | D7: 91172 | E7: 5082 | F7: 704 | G7: 11 | H7: 492 | I7: 27 | J7: 0 | K7: 287 | L7: 223 | M7: 939 | N7: 1874 | O7: 5592
B8: 女 Female | C8: 178238 | D8: 152932 | E8: 9323 | F8: 437 | G8: 87 | H8: 971 | I8: 59 | J8: 0 | K8: 408 | L8: 555 | M8: 1343 | N8: 3407 | O8: 8716
B9: 其他 Other | C9: 0 | D9: 0 | E9: 0 | F9: 0 | G9: 0 | H9: 0 | I9: 0 | J9: 0 | K9: 0 | L9: 0 | M9: 0 | N9: 0 | O9: 0
B10: 不詳 Unknow | C10: 520 | D10: 380 | E10: 9 | F10: 113 | G10: 0 | H10: 0 | I10: 0 | J10: 0 | K10: 0 | L10: 0 | M10: 1 | N10: 5 | O10: 12
A11: 新北市 | B11: 計 Total | C11: 51982 | D11: 43184 | E11: 3227 | F11: 52 | G11: 18 | H11: 298 | I11: 18 | J11: 0 | K11: 97 | L11: 108 | M11: 66 | N11: 1637 | O11: 3277
A12: New Taipei City | B12: 男 Male | C12: 15924 | D12: 13328 | E12: 968 | F12: 15 | G12: 2 | H12: 80 | I12: 2 | J12: 0 | K12: 23 | L12: 27 | M12: 25 | N12: 509 | O12: 945
B13: 女 Female | C13: 36023 | D13: 29829 | E13: 2257 | F13: 37 | G13: 16 | H13: 218 | I13: 16 | J13: 0 | K13: 74 | L13: 81 | M13: 41 | N13: 1124 | O13: 2330
B14: 其他 Other | C14: 0 | D14: 0 | E14: 0 | F14: 0 | G14: 0 | H14: 0 | I14: 0 | J14: 0 | K14: 0 | L14: 0 | M14: 0 | N14: 0 | O14: 0
B15: 不詳 Unknow | C15: 35 | D15: 27 | E15: 2 | F15: 0 | G15: 0 | H15: 0 | I15: 0 | J15: 0 | K15: 0 | L15: 0 | M15: 0 | N15: 4 | O15: 2
A16: 臺北市 | B16: 計 Total | C16: 32890 | D16: 25514 | E16: 1545 | F16: 14 | G16: 4 | H16: 120 | I16: 7 | J16: 0 | K16: 48 | L16: 80 | M16: 37 | N16: 1513 | O16: 4008
A17: Taipei City | B17: 男 Male | C17: 11648 | D17: 8979 | E17: 514 | F17: 5 | G17: 0 | H17: 33 | I17: 1 | J17: 0 | K17: 18 | L17: 23 | M17: 25 | N17: 580 | O17: 1470
B18: 女 Female | C18: 21226 | D18: 16524 | E18: 1031 | F18: 9 | G18: 4 | H18: 87 | I18: 6 | J18: 0 | K18: 30 | L18: 57 | M18: 12 | N18: 933 | O18: 2533
B19: 其他 Other | C19: 0 | D19: 0 | E19: 0 | F19: 0 | G19: 0 | H19: 0 | I19: 0 | J19: 0 | K19: 0 | L19: 0 | M19: 0 | N19: 0 | O19: 0
B20: 不詳 Unknow | C20: 16 | D20: 11 | E20: 0 | F20: 0 | G20: 0 | H20: 0 | I20: 0 | J20: 0 | K20: 0 | L20: 0 | M20: 0 | N20: 0 | O20: 5
A21: 桃園市 | B21: 計 Total | C21: 25650 | D21: 23975 | E21: 184 | F21: 43 | G21: 5 | H21: 147 | I21: 12 | J21: 0 | K21: 20 | L21: 56 | M21: 253 | N21: 137 | O21: 818
A22: Taoyuan City | B22: 男 Male | C22: 9873 | D22: 9116 | E22: 106 | F22: 32 | G22: 1 | H22: 54 | I22: 5 | J22: 0 | K22: 9 | L22: 25 | M22: 75 | N22: 55 | O22: 395
B23: 女 Female | C23: 15744 | D23: 14827 | E23: 78 | F23: 11 | G23: 4 | H23: 93 | I23: 7 | J23: 0 | K23: 11 | L23: 31 | M23: 178 | N23: 81 | O23: 423
B24: 其他 Other | C24: 0 | D24: 0 | E24: 0 | F24: 0 | G24: 0 | H24: 0 | I24: 0 | J24: 0 | K24: 0 | L24: 0 | M24: 0 | N24: 0 | O24: 0
B25: 不詳 Unknow | C25: 33 | D25: 32 | E25: 0 | F25: 0 | G25: 0 | H25: 0 | I25: 0 | J25: 0 | K25: 0 | L25: 0 | M25: 0 | N25: 1 | O25: 0
A26: 臺中市 | B26: 計 Total | C26: 30107 | D26: 28897 | E26: 83 | F26: 141 | G26: 11 | H26: 189 | I26: 4 | J26: 0 | K26: 22 | L26: 65 | M26: 22 | N26: 73 | O26: 600
A27: Taichung City | B27: 男 Male | C27: 10791 | D27: 10354 | E27: 29 | F27: 86 | G27: 1 | H27: 71 | I27: 2 | J27: 0 | K27: 4 | L27: 25 | M27: 6 | N27: 20 | O27: 193
B28: 女 Female | C28: 19269 | D28: 18496 | E28: 54 | F28: 55 | G28: 10 | H28: 118 | I28: 2 | J28: 0 | K28: 18 | L28: 40 | M28: 16 | N28: 53 | O28: 407
B29: 其他 Other | C29: 0 | D29: 0 | E29: 0 | F29: 0 | G29: 0 | H29: 0 | I29: 0 | J29: 0 | K29: 0 | L29: 0 | M29: 0 | N29: 0 | O29: 0
B30: 不詳 Unknow | C30: 47 | D30: 47 | E30: 0 | F30: 0 | G30: 0 | H30: 0 | I30: 0 | J30: 0 | K30: 0 | L30: 0 | M30: 0 | N30: 0 | O30: 0
A31: 臺南市 | B31: 計 Total | C31: 20783 | D31: 19081 | E31: 424 | F31: 163 | G31: 14 | H31: 87 | I31: 2 | J31: 0 | K31: 95 | L31: 91 | M31: 116 | N31: 81 | O31: 629
A32: Tainan City | B32: 男 Male | C32: 8095 | D32: 7427 | E32: 120 | F32: 103 | G32: 3 | H32: 26 | I32: 2 | J32: 0 | K32: 28 | L32: 32 | M32: 24 | N32: 29 | O32: 301
B33: 女 Female | C33: 12575 | D33: 11542 | E33: 304 | F33: 59 | G33: 11 | H33: 61 | I33: 0 | J33: 0 | K33: 67 | L33: 59 | M33: 92 | N33: 52 | O33: 328
B34: 其他 Other | C34: 0 | D34: 0 | E34: 0 | F34: 0 | G34: 0 | H34: 0 | I34: 0 | J34: 0 | K34: 0 | L34: 0 | M34: 0 | N34: 0 | O34: 0
B35: 不詳 Unknow | C35: 113 | D35: 112 | E35: 0 | F35: 1 | G35: 0 | H35: 0 | I35: 0 | J35: 0 | K35: 0 | L35: 0 | M35: 0 | N35: 0 | O35: 0
A36: 高雄市 | B36: 計 Total | C36: 49747 | D36: 39444 | E36: 7210 | F36: 143 | G36: 11 | H36: 156 | I36: 22 | J36: 0 | K36: 159 | L36: 109 | M36: 358 | N36: 505 | O36: 1630
A37: Kaohsiung City | B37: 男 Male | C37: 19481 | D37: 15546 | E37: 2665 | F37: 85 | G37: 1 | H37: 50 | I37: 9 | J37: 0 | K37: 86 | L37: 23 | M37: 161 | N37: 163 | O37: 692
B38: 女 Female | C38: 30224 | D38: 23862 | E38: 4545 | F38: 58 | G38: 10 | H38: 106 | I38: 13 | J38: 0 | K38: 73 | L38: 86 | M38: 196 | N38: 342 | O38: 933
B39: 其他 Other | C39: 0 | D39: 0 | E39: 0 | F39: 0 | G39: 0 | H39: 0 | I39: 0 | J39: 0 | K39: 0 | L39: 0 | M39: 0 | N39: 0 | O39: 0
B40: 不詳 Unknow | C40: 42 | D40: 36 | E40: 0 | F40: 0 | G40: 0 | H40: 0 | I40: 0 | J40: 0 | K40: 0 | L40: 0 | M40: 1 | N40: 0 | O40: 5
A41: 宜蘭縣 | B41: 計 Total | C41: 3119 | D41: 2865 | E41: 35 | F41: 4 | G41: 1 | H41: 35 | I41: 3 | J41: 0 | K41: 7 | L41: 12 | M41: 9 | N41: 63 | O41: 85
A42: Yilan County | B42: 男 Male | C42: 1269 | D42: 1170 | E42: 12 | F42: 1 | G42: 0 | H42: 12 | I42: 0 | J42: 0 | K42: 2 | L42: 2 | M42: 3 | N42: 24 | O42: 43
B43: 女 Female | C43: 1835 | D43: 1681 | E43: 23 | F43: 2 | G43: 1 | H43: 23 | I43: 3 | J43: 0 | K43: 5 | L43: 10 | M43: 6 | N43: 39 | O43: 42
B44: 其他 Other | C44: 0 | D44: 0 | E44: 0 | F44: 0 | G44: 0 | H44: 0 | I44: 0 | J44: 0 | K44: 0 | L44: 0 | M44: 0 | N44: 0 | O44: 0
B45: 不詳 Unknow | C45: 15 | D45: 14 | E45: 0 | F45: 1 | G45: 0 | H45: 0 | I45: 0 | J45: 0 | K45: 0 | L45: 0 | M45: 0 | N45: 0 | O45: 0
A46: 新竹縣 | B46: 計 Total | C46: 3470 | D46: 3253 | E46: 84 | F46: 22 | G46: 0 | H46: 24 | I46: 1 | J46: 0 | K46: 4 | L46: 5 | M46: 14 | N46: 3 | O46: 60
A47: Hsinchu County | B47: 男 Male | C47: 1462 | D47: 1369 | E47: 25 | F47: 20 | G47: 0 | H47: 7 | I47: 0 | J47: 0 | K47: 2 | L47: 1 | M47: 5 | N47: 2 | O47: 31
B48: 女 Female | C48: 1985 | D48: 1867 | E48: 53 | F48: 2 | G48: 0 | H48: 17 | I48: 1 | J48: 0 | K48: 2 | L48: 4 | M48: 9 | N48: 1 | O48: 29
B49: 其他 Other | C49: 0 | D49: 0 | E49: 0 | F49: 0 | G49: 0 | H49: 0 | I49: 0 | J49: 0 | K49: 0 | L49: 0 | M49: 0 | N49: 0 | O49: 0
B50: 不詳 Unknow | C50: 23 | D50: 17 | E50: 6 | F50: 0 | G50: 0 | H50: 0 | I50: 0 | J50: 0 | K50: 0 | L50: 0 | M50: 0 | N50: 0 | O50: 0
A51: 苗栗縣 | B51: 計 Total | C51: 4233 | D51: 3619 | E51: 72 | F51: 10 | G51: 3 | H51: 40 | I51: 0 | J51: 0 | K51: 7 | L51: 107 | M51: 8 | N51: 82 | O51: 285
A52: Miaoli County | B52: 男 Male | C52: 1794 | D52: 1515 | E52: 33 | F52: 8 | G52: 0 | H52: 17 | I52: 0 | J52: 0 | K52: 5 | L52: 15 | M52: 7 | N52: 24 | O52: 170
B53: 女 Female | C53: 2432 | D53: 2097 | E53: 39 | F53: 2 | G53: 3 | H53: 23 | I53: 0 | J53: 0 | K53: 2 | L53: 92 | M53: 1 | N53: 58 | O53: 115
B54: 其他 Other | C54: 0 | D54: 0 | E54: 0 | F54: 0 | G54: 0 | H54: 0 | I54: 0 | J54: 0 | K54: 0 | L54: 0 | M54: 0 | N54: 0 | O54: 0
B55: 不詳 Unknow | C55: 7 | D55: 7 | E55: 0 | F55: 0 | G55: 0 | H55: 0 | I55: 0 | J55: 0 | K55: 0 | L55: 0 | M55: 0 | N55: 0 | O55: 0
A56: 彰化縣 | B56: 計 Total | C56: 10967 | D56: 10301 | E56: 88 | F56: 31 | G56: 9 | H56: 51 | I56: 8 | J56: 0 | K56: 27 | L56: 16 | M56: 66 | N56: 11 | O56: 359
A57: Changhua County | B57: 男 Male | C57: 4226 | D57: 3873 | E57: 36 | F57: 21 | G57: 0 | H57: 15 | I57: 5 | J57: 0 | K57: 15 | L57: 4 | M57: 33 | N57: 4 | O57: 220
B58: 女 Female | C58: 6726 | D58: 6413 | E58: 52 | F58: 10 | G58: 9 | H58: 36 | I58: 3 | J58: 0 | K58: 12 | L58: 12 | M58: 33 | N58: 7 | O58: 139
B59: 其他 Other | C59: 0 | D59: 0 | E59: 0 | F59: 0 | G59: 0 | H59: 0 | I59: 0 | J59: 0 | K59: 0 | L59: 0 | M59: 0 | N59: 0 | O59: 0
B60: 不詳 Unknow | C60: 15 | D60: 15 | E60: 0 | F60: 0 | G60: 0 | H60: 0 | I60: 0 | J60: 0 | K60: 0 | L60: 0 | M60: 0 | N60: 0 | O60: 0
A61: 南投縣 | B61: 計 Total | C61: 8173 | D61: 7954 | E61: 16 | F61: 22 | G61: 1 | H61: 19 | I61: 1 | J61: 0 | K61: 7 | L61: 13 | M61: 24 | N61: 13 | O61: 103
A62: Nantou County | B62: 男 Male | C62: 4063 | D62: 3940 | E62: 4 | F62: 21 | G62: 1 | H62: 9 | I62: 0 | J62: 0 | K62: 6 | L62: 5 | M62: 13 | N62: 8 | O62: 56
B63: 女 Female | C63: 4109 | D63: 4013 | E63: 12 | F63: 1 | G63: 0 | H63: 10 | I63: 1 | J63: 0 | K63: 1 | L63: 8 | M63: 11 | N63: 5 | O63: 47
B64: 其他 Other | C64: 0 | D64: 0 | E64: 0 | F64: 0 | G64: 0 | H64: 0 | I64: 0 | J64: 0 | K64: 0 | L64: 0 | M64: 0 | N64: 0 | O64: 0
B65: 不詳 Unknow | C65: 1 | D65: 1 | E65: 0 | F65: 0 | G65: 0 | H65: 0 | I65: 0 | J65: 0 | K65: 0 | L65: 0 | M65: 0 | N65: 0 | O65: 0
A66: 雲林縣 | B66: 計 Total | C66: 2829 | D66: 2427 | E66: 4 | F66: 11 | G66: 0 | H66: 2 | I66: 0 | J66: 0 | K66: 25 | L66: 0 | M66: 66 | N66: 9 | O66: 285
A67: Yunlin County | B67: 男 Male | C67: 1591 | D67: 1329 | E67: 3 | F67: 9 | G67: 0 | H67: 2 | I67: 0 | J67: 0 | K67: 14 | L67: 0 | M67: 45 | N67: 7 | O67: 182
B68: 女 Female | C68: 1238 | D68: 1098 | E68: 1 | F68: 2 | G68: 0 | H68: 0 | I68: 0 | J68: 0 | K68: 11 | L68: 0 | M68: 21 | N68: 2 | O68: 103
B69: 其他 Other | C69: 0 | D69: 0 | E69: 0 | F69: 0 | G69: 0 | H69: 0 | I69: 0 | J69: 0 | K69: 0 | L69: 0 | M69: 0 | N69: 0 | O69: 0
B70: 不詳 Unknow | C70: 0 | D70: 0 | E70: 0 | F70: 0 | G70: 0 | H70: 0 | I70: 0 | J70: 0 | K70: 0 | L70: 0 | M70: 0 | N70: 0 | O70: 0
A71: 嘉義縣 | B71: 計 Total | C71: 11044 | D71: 7815 | E71: 510 | F71: 3 | G71: 5 | H71: 103 | I71: 1 | J71: 0 | K71: 40 | L71: 22 | M71: 894 | N71: 933 | O71: 718
A72: Chiayi County | B72: 男 Male | C72: 4474 | D72: 3203 | E72: 186 | F72: 1 | G72: 0 | H72: 50 | I72: 0 | J72: 0 | K72: 11 | L72: 9 | M72: 378 | N72: 359 | O72: 277
B73: 女 Female | C73: 6564 | D73: 4606 | E73: 324 | F73: 2 | G73: 5 | H73: 53 | I73: 1 | J73: 0 | K73: 29 | L73: 13 | M73: 516 | N73: 574 | O73: 441
B74: 其他 Other | C74: 0 | D74: 0 | E74: 0 | F74: 0 | G74: 0 | H74: 0 | I74: 0 | J74: 0 | K74: 0 | L74: 0 | M74: 0 | N74: 0 | O74: 0
B75: 不詳 Unknow | C75: 6 | D75: 6 | E75: 0 | F75: 0 | G75: 0 | H75: 0 | I75: 0 | J75: 0 | K75: 0 | L75: 0 | M75: 0 | N75: 0 | O75: 0
A76: 屏東縣 | B76: 計 Total | C76: 11249 | D76: 9000 | E76: 601 | F76: 469 | G76: 5 | H76: 77 | I76: 2 | J76: 0 | K76: 57 | L76: 44 | M76: 193 | N76: 102 | O76: 699
A77: Pingtung County | B77: 男 Male | C77: 4603 | D77: 3600 | E77: 224 | F77: 225 | G77: 2 | H77: 32 | I77: 0 | J77: 0 | K77: 21 | L77: 14 | M77: 88 | N77: 44 | O77: 353
B78: 女 Female | C78: 6521 | D78: 5387 | E78: 376 | F78: 133 | G78: 3 | H78: 45 | I78: 2 | J78: 0 | K78: 36 | L78: 30 | M78: 105 | N78: 58 | O78: 346
B79: 其他 Other | C79: 0 | D79: 0 | E79: 0 | F79: 0 | G79: 0 | H79: 0 | I79: 0 | J79: 0 | K79: 0 | L79: 0 | M79: 0 | N79: 0 | O79: 0
B80: 不詳 Unknow | C80: 125 | D80: 13 | E80: 1 | F80: 111 | G80: 0 | H80: 0 | I80: 0 | J80: 0 | K80: 0 | L80: 0 | M80: 0 | N80: 0 | O80: 0
A81: 臺東縣 | B81: 計 Total | C81: 2477 | D81: 2343 | E81: 7 | F81: 6 | G81: 1 | H81: 45 | I81: 2 | J81: 0 | K81: 4 | L81: 12 | M81: 15 | N81: 2 | O81: 40
A82: Taitung County | B82: 男 Male | C82: 801 | D82: 767 | E82: 4 | F82: 0 | G82: 0 | H82: 14 | I82: 1 | J82: 0 | K82: 3 | L82: 3 | M82: 0 | N82: 0 | O82: 9
B83: 女 Female | C83: 1670 | D83: 1570 | E83: 3 | F83: 6 | G83: 1 | H83: 31 | I83: 1 | J83: 0 | K83: 1 | L83: 9 | M83: 15 | N83: 2 | O83: 31
B84: 其他 Other | C84: 0 | D84: 0 | E84: 0 | F84: 0 | G84: 0 | H84: 0 | I84: 0 | J84: 0 | K84: 0 | L84: 0 | M84: 0 | N84: 0 | O84: 0
B85: 不詳 Unknow | C85: 6 | D85: 6 | E85: 0 | F85: 0 | G85: 0 | H85: 0 | I85: 0 | J85: 0 | K85: 0 | L85: 0 | M85: 0 | N85: 0 | O85: 0
A86: 花蓮縣 | B86: 計 Total | C86: 2396 | D86: 2312 | E86: 2 | F86: 7 | G86: 1 | H86: 5 | I86: 0 | J86: 0 | K86: 3 | L86: 17 | M86: 2 | N86: 12 | O86: 35
A87: Hualien County | B87: 男 Male | C87: 837 | D87: 804 | E87: 1 | F87: 5 | G87: 0 | H87: 3 | I87: 0 | J87: 0 | K87: 1 | L87: 6 | M87: 1 | N87: 5 | O87: 11
B88: 女 Female | C88: 1542 | D88: 1491 | E88: 1 | F88: 2 | G88: 1 | H88: 2 | I88: 0 | J88: 0 | K88: 2 | L88: 11 | M88: 1 | N88: 7 | O88: 24
B89: 其他 Other | C89: 0 | D89: 0 | E89: 0 | F89: 0 | G89: 0 | H89: 0 | I89: 0 | J89: 0 | K89: 0 | L89: 0 | M89: 0 | N89: 0 | O89: 0
B90: 不詳 Unknow | C90: 17 | D90: 17 | E90: 0 | F90: 0 | G90: 0 | H90: 0 | I90: 0 | J90: 0 | K90: 0 | L90: 0 | M90: 0 | N90: 0 | O90: 0
A91: 澎湖縣 | B91: 計 Total | C91: 465 | D91: 408 | E91: 0 | F91: 0 | G91: 3 | H91: 3 | I91: 0 | J91: 0 | K91: 17 | L91: 1 | M91: 0 | N91: 5 | O91: 28
A92: Penghu County | B92: 男 Male | C92: 176 | D92: 156 | E92: 0 | F92: 0 | G92: 0 | H92: 2 | I92: 0 | J92: 0 | K92: 8 | L92: 1 | M92: 0 | N92: 3 | O92: 6
B93: 女 Female | C93: 288 | D93: 251 | E93: 0 | F93: 0 | G93: 3 | H93: 1 | I93: 0 | J93: 0 | K93: 9 | L93: 0 | M93: 0 | N93: 2 | O93: 22
B94: 其他 Other | C94: 0 | D94: 0 | E94: 0 | F94: 0 | G94: 0 | H94: 0 | I94: 0 | J94: 0 | K94: 0 | L94: 0 | M94: 0 | N94: 0 | O94: 0
B95: 不詳 Unknow | C95: 1 | D95: 1 | E95: 0 | F95: 0 | G95: 0 | H95: 0 | I95: 0 | J95: 0 | K95: 0 | L95: 0 | M95: 0 | N95: 0 | O95: 0
A96: 基隆市 | B96: 計 Total | C96: 5008 | D96: 3999 | E96: 294 | F96: 81 | G96: 2 | H96: 30 | I96: 2 | J96: 0 | K96: 45 | L96: 7 | M96: 95 | N96: 69 | O96: 384
A97: Keelung City | B97: 男 Male | C97: 2145 | D97: 1705 | E97: 142 | F97: 56 | G97: 0 | H97: 8 | I97: 0 | J97: 0 | K97: 27 | L97: 3 | M97: 37 | N97: 26 | O97: 141
B98: 女 Female | C98: 2862 | D98: 2293 | E98: 152 | F98: 25 | G98: 2 | H98: 22 | I98: 2 | J98: 0 | K98: 18 | L98: 4 | M98: 58 | N98: 43 | O98: 243
B99: 其他 Other | C99: 0 | D99: 0 | E99: 0 | F99: 0 | G99: 0 | H99: 0 | I99: 0 | J99: 0 | K99: 0 | L99: 0 | M99: 0 | N99: 0 | O99: 0
B100: 不詳 Unknow | C100: 1 | D100: 1 | E100: 0 | F100: 0 | G100: 0 | H100: 0 | I100: 0 | J100: 0 | K100: 0 | L100: 0 | M100: 0 | N100: 0 | O100: 0
A101: 新竹市 | B101: 計 Total | C101: 5315 | D101: 5032 | E101: 12 | F101: 30 | G101: 4 | H101: 15 | I101: 1 | J101: 0 | K101: 5 | L101: 6 | M101: 29 | N101: 17 | O101: 164
...

Sheet 112
A1: 老人保護扶助人次 Number of Senior Citizens Receiving Protection and Assistance
A2: 民國112年, 2023 | C2: =IF(C6=SUM(C11,C16,C21,C26,C31,C36,C41,C46,C51,C56,C61,C66,C71,C76,C81,C86,C91,C96,C101,C106,C111,C116),"","*") | D2: =IF(D6=SUM(D11,D16,D21,D26,D31,D36,D41,D46,D51,D56,D61,D66,D71,D76,D81,D86,D91,D96,D101,D106,D111,D116),"","*") | F2: =IF(F6=SUM(F11,F16,F21,F26,F31,F36,F41,F46,F51,F56,F61,F66,F71,F76,F81,F86,F91,F96,F101,F106,F111,F116),"","*") | G2: =IF(G6=SUM(G11,G16,G21,G26,G31,G36,G41,G46,G51,G56,G61,G66,G71,G76,G81,G86,G91,G96,G101,G106,G111,G116),"","*") | H2: =IF(H6=SUM(H11,H16,H21,H26,H31,H36,H41,H46,H51,H56,H61,H66,H71,H76,H81,H86,H91,H96,H101,H106,H111,H116),"","*") | I2: =IF(I6=SUM(I11,I16,I21,I26,I31,I36,I41,I46,I51,I56,I61,I66,I71,I76,I81,I86,I91,I96,I101,I106,I111,I116),"","*") | L2: =IF(L6=SUM(L11,L16,L21,L26,L31,L36,L41,L46,L51,L56,L61,L66,L71,L76,L81,L86,L91,L96,L101,L106,L111,L116),"","*") | M2: =IF(M6=SUM(M11,M16,M21,M26,M31,M36,M41,M46,M51,M56,M61,M66,M71,M76,M81,M86,M91,M96,M101,M106,M111,M116),"","*") | N2: =IF(N6=SUM(N11,N16,N21,N26,N31,N36,N41,N46,N51,N56,N61,N66,N71,N76,N81,N86,N91,N96,N101,N106,N111,N116),"","*") | O2: =IF(O6=SUM(O11,O16,O21,O26,O31,O36,O41,O46,O51,O56,O61,O66,O71,O76,O81,O86,O91,O96,O101,O106,O111,O116),"","*")
A3: 區域別及性別 Locality and Sex | C3: 老人保護扶助人次（複選；人次）Number of Senior Citizens Receiving Protection and Assistance
C4: 總計 Total | D4: 諮詢協談 Counseling | E4: 家庭關係處理 Family relationship management | F4: 庇護/保護安置 Protection and Placement | G4: 陪同報案偵詢(訊) Accompanying the Parties Concerned During Case Reporting and Interrogation/Investigation | H4: 陪同出庭 Accompanying the Parties Concerned to Appear before Court | I4: 陪同醫療服務 Accompanying the Parties Concerned to medical service | J4: 心理諮商、治療與輔導 Psychological counseling, treatment and counseling | K4: 連結長期照顧服務 Link to long-term care services | L4: 聲請保護令 Petition for a Protection Order | M4: 經濟扶助 Financial Aid | N4: 法律扶助 Legal Aid | O4: 其他扶助 Others
A6: 總計 | B6: 合計 SubTotal | C6: 265487 | D6: 226201 | E6: 13120 | F6: 1087 | G6: 58 | H6: 1339 | I6: 66 | J6: 0 | K6: 566 | L6: 713 | M6: 2062 | N6: 5618 | O6: 14657
A7: Total | B7: 男 Male | C7: 101514 | D7: 86890 | E7: 4691 | F7: 672 | G7: 15 | H7: 419 | I7: 19 | J7: 0 | K7: 226 | L7: 237 | M7: 853 | N7: 1920 | O7: 5572
B8: 女 Female | C8: 163196 | D8: 138634 | E8: 8422 | F8: 359 | G8: 43 | H8: 919 | I8: 47 | J8: 0 | K8: 340 | L8: 476 | M8: 1206 | N8: 3698 | O8: 9052
B9: 其他 Other | C9: 0 | D9: 0 | E9: 0 | F9: 0 | G9: 0 | H9: 0 | I9: 0 | J9: 0 | K9: 0 | L9: 0 | M9: 0 | N9: 0 | O9: 0
B10: 不詳 Unknow | C10: 777 | D10: 677 | E10: 7 | F10: 56 | G10: 0 | H10: 1 | I10: 0 | J10: 0 | K10: 0 | L10: 0 | M10: 3 | N10: 0 | O10: 33
A11: 新北市 | B11: 計 Total | C11: 47611 | D11: 38577 | E11: 3509 | F11: 31 | G11: 12 | H11: 316 | I11: 20 | J11: 0 | K11: 71 | L11: 129 | M11: 73 | N11: 1812 | O11: 3061
A12: New Taipei City | B12: 男 Male | C12: 15197 | D12: 12169 | E12: 1204 | F12: 9 | G12: 3 | H12: 92 | I12: 5 | J12: 0 | K12: 19 | L12: 33 | M12: 24 | N12: 615 | O12: 1024
B13: 女 Female | C13: 32398 | D13: 26393 | E13: 2305 | F13: 22 | G13: 9 | H13: 224 | I13: 15 | J13: 0 | K13: 52 | L13: 96 | M13: 49 | N13: 1197 | O13: 2036
B14: 其他 Other | C14: 0 | D14: 0 | E14: 0 | F14: 0 | G14: 0 | H14: 0 | I14: 0 | J14: 0 | K14: 0 | L14: 0 | M14: 0 | N14: 0 | O14: 0
B15: 不詳 Unknow | C15: 16 | D15: 15 | E15: 0 | F15: 0 | G15: 0 | H15: 0 | I15: 0 | J15: 0 | K15: 0 | L15: 0 | M15: 0 | N15: 0 | O15: 1
A16: 臺北市 | B16: 計 Total | C16: 34780 | D16: 26215 | E16: 1167 | F16: 13 | G16: 9 | H16: 117 | I16: 5 | J16: 0 | K16: 18 | L16: 44 | M16: 31 | N16: 2199 | O16: 4962
A17: Taipei City | B17: 男 Male | C17: 11863 | D17: 9020 | E17: 400 | F17: 8 | G17: 0 | H17: 36 | I17: 0 | J17: 0 | K17: 8 | L17: 15 | M17: 12 | N17: 741 | O17: 1623
B18: 女 Female | C18: 22901 | D18: 17186 | E18: 767 | F18: 5 | G18: 9 | H18: 81 | I18: 5 | J18: 0 | K18: 10 | L18: 29 | M18: 19 | N18: 1458 | O18: 3332
B19: 其他 Other | C19: 0 | D19: 0 | E19: 0 | F19: 0 | G19: 0 | H19: 0 | I19: 0 | J19: 0 | K19: 0 | L19: 0 | M19: 0 | N19: 0 | O19: 0
B20: 不詳 Unknow | C20: 16 | D20: 9 | E20: 0 | F20: 0 | G20: 0 | H20: 0 | I20: 0 | J20: 0 | K20: 0 | L20: 0 | M20: 0 | N20: 0 | O20: 7
A21: 桃園市 | B21: 計 Total | C21: 24919 | D21: 23182 | E21: 221 | F21: 47 | G21: 3 | H21: 170 | I21: 8 | J21: 0 | K21: 14 | L21: 27 | M21: 336 | N21: 94 | O21: 817
A22: Taoyuan City | B22: 男 Male | C22: 9799 | D22: 9055 | E22: 108 | F22: 32 | G22: 0 | H22: 58 | I22: 6 | J22: 0 | K22: 5 | L22: 9 | M22: 136 | N22: 49 | O22: 341
B23: 女 Female | C23: 15081 | D23: 14091 | E23: 113 | F23: 15 | G23: 3 | H23: 112 | I23: 2 | J23: 0 | K23: 9 | L23: 18 | M23: 200 | N23: 45 | O23: 473
B24: 其他 Other | C24: 0 | D24: 0 | E24: 0 | F24: 0 | G24: 0 | H24: 0 | I24: 0 | J24: 0 | K24: 0 | L24: 0 | M24: 0 | N24: 0 | O24: 0
B25: 不詳 Unknow | C25: 39 | D25: 36 | E25: 0 | F25: 0 | G25: 0 | H25: 0 | I25: 0 | J25: 0 | K25: 0 | L25: 0 | M25: 0 | N25: 0 | O25: 3
A26: 臺中市 | B26: 計 Total | C26: 27018 | D26: 26212 | E26: 62 | F26: 142 | G26: 5 | H26: 117 | I26: 1 | J26: 0 | K26: 4 | L26: 26 | M26: 16 | N26: 52 | O26: 381
A27: Taichung City | B27: 男 Male | C27: 9759 | D27: 9440 | E27: 20 | F27: 94 | G27: 1 | H27: 42 | I27: 1 | J27: 0 | K27: 1 | L27: 17 | M27: 3 | N27: 21 | O27: 119
B28: 女 Female | C28: 17169 | D28: 16682 | E28: 42 | F28: 48 | G28: 4 | H28: 75 | I28: 0 | J28: 0 | K28: 3 | L28: 9 | M28: 13 | N28: 31 | O28: 262
B29: 其他 Other | C29: 0 | D29: 0 | E29: 0 | F29: 0 | G29: 0 | H29: 0 | I29: 0 | J29: 0 | K29: 0 | L29: 0 | M29: 0 | N29: 0 | O29: 0
B30: 不詳 Unknow | C30: 90 | D30: 90 | E30: 0 | F30: 0 | G30: 0 | H30: 0 | I30: 0 | J30: 0 | K30: 0 | L30: 0 | M30: 0 | N30: 0 | O30: 0
A31: 臺南市 | B31: 計 Total | C31: 18183 | D31: 16653 | E31: 155 | F31: 174 | G31: 3 | H31: 84 | I31: 2 | J31: 0 | K31: 46 | L31: 80 | M31: 98 | N31: 89 | O31: 799
A32: Tainan City | B32: 男 Male | C32: 7185 | D32: 6451 | E32: 59 | F32: 121 | G32: 3 | H32: 18 | I32: 0 | J32: 0 | K32: 22 | L32: 29 | M32: 33 | N32: 41 | O32: 408
B33: 女 Female | C33: 10774 | D33: 10004 | E33: 96 | F33: 46 | G33: 0 | H33: 65 | I33: 2 | J33: 0 | K33: 24 | L33: 51 | M33: 65 | N33: 48 | O33: 373
B34: 其他 Other | C34: 0 | D34: 0 | E34: 0 | F34: 0 | G34: 0 | H34: 0 | I34: 0 | J34: 0 | K34: 0 | L34: 0 | M34: 0 | N34: 0 | O34: 0
B35: 不詳 Unknow | C35: 224 | D35: 198 | E35: 0 | F35: 7 | G35: 0 | H35: 1 | I35: 0 | J35: 0 | K35: 0 | L35: 0 | M35: 0 | N35: 0 | O35: 18
A36: 高雄市 | B36: 計 Total | C36: 42193 | D36: 34973 | E36: 4075 | F36: 135 | G36: 2 | H36: 143 | I36: 16 | J36: 0 | K36: 281 | L36: 125 | M36: 461 | N36: 379 | O36: 1603
A37: Kaohsiung City | B37: 男 Male | C37: 17747 | D37: 15089 | E37: 1335 | F37: 83 | G37: 1 | H37: 48 | I37: 4 | J37: 0 | K37: 100 | L37: 42 | M37: 219 | N37: 158 | O37: 668
B38: 女 Female | C38: 24362 | D38: 19808 | E38: 2737 | F38: 52 | G38: 1 | H38: 95 | I38: 12 | J38: 0 | K38: 181 | L38: 83 | M38: 240 | N38: 221 | O38: 932
B39: 其他 Other | C39: 0 | D39: 0 | E39: 0 | F39: 0 | G39: 0 | H39: 0 | I39: 0 | J39: 0 | K39: 0 | L39: 0 | M39: 0 | N39: 0 | O39: 0
B40: 不詳 Unknow | C40: 84 | D40: 76 | E40: 3 | F40: 0 | G40: 0 | H40: 0 | I40: 0 | J40: 0 | K40: 0 | L40: 0 | M40: 2 | N40: 0 | O40: 3
A41: 宜蘭縣 | B41: 計 Total | C41: 2467 | D41: 2349 | E41: 14 | F41: 2 | G41: 1 | H41: 18 | I41: 0 | J41: 0 | K41: 8 | L41: 9 | M41: 9 | N41: 13 | O41: 44
A42: Yilan County | B42: 男 Male | C42: 997 | D42: 944 | E42: 7 | F42: 2 | G42: 0 | H42: 5 | I42: 0 | J42: 0 | K42: 6 | L42: 3 | M42: 3 | N42: 2 | O42: 25
B43: 女 Female | C43: 1318 | D43: 1253 | E43: 7 | F43: 0 | G43: 1 | H43: 13 | I43: 0 | J43: 0 | K43: 2 | L43: 6 | M43: 6 | N43: 11 | O43: 19
B44: 其他 Other | C44: 0 | D44: 0 | E44: 0 | F44: 0 | G44: 0 | H44: 0 | I44: 0 | J44: 0 | K44: 0 | L44: 0 | M44: 0 | N44: 0 | O44: 0
B45: 不詳 Unknow | C45: 152 | D45: 152 | E45: 0 | F45: 0 | G45: 0 | H45: 0 | I45: 0 | J45: 0 | K45: 0 | L45: 0 | M45: 0 | N45: 0 | O45: 0
A46: 新竹縣 | B46: 計 Total | C46: 6134 | D46: 4070 | E46: 1920 | F46: 22 | G46: 0 | H46: 15 | I46: 6 | J46: 0 | K46: 1 | L46: 4 | M46: 9 | N46: 4 | O46: 83
A47: Hsinchu County | B47: 男 Male | C47: 2720 | D47: 1806 | E47: 847 | F47: 9 | G47: 0 | H47: 9 | I47: 0 | J47: 0 | K47: 1 | L47: 2 | M47: 5 | N47: 3 | O47: 38
B48: 女 Female | C48: 3409 | D48: 2261 | E48: 1071 | F48: 13 | G48: 0 | H48: 6 | I48: 6 | J48: 0 | K48: 0 | L48: 2 | M48: 4 | N48: 1 | O48: 45
B49: 其他 Other | C49: 0 | D49: 0 | E49: 0 | F49: 0 | G49: 0 | H49: 0 | I49: 0 | J49: 0 | K49: 0 | L49: 0 | M49: 0 | N49: 0 | O49: 0
B50: 不詳 Unknow | C50: 5 | D50: 3 | E50: 2 | F50: 0 | G50: 0 | H50: 0 | I50: 0 | J50: 0 | K50: 0 | L50: 0 | M50: 0 | N50: 0 | O50: 0
A51: 苗栗縣 | B51: 計 Total | C51: 5100 | D51: 4303 | E51: 107 | F51: 11 | G51: 2 | H51: 35 | I51: 1 | J51: 0 | K51: 1 | L51: 111 | M51: 27 | N51: 117 | O51: 385
A52: Miaoli County | B52: 男 Male | C52: 2375 | D52: 1990 | E52: 44 | F52: 9 | G52: 0 | H52: 13 | I52: 0 | J52: 0 | K52: 0 | L52: 36 | M52: 14 | N52: 24 | O52: 245
B53: 女 Female | C53: 2723 | D53: 2311 | E53: 63 | F53: 2 | G53: 2 | H53: 22 | I53: 1 | J53: 0 | K53: 1 | L53: 75 | M53: 13 | N53: 93 | O53: 140
B54: 其他 Other | C54: 0 | D54: 0 | E54: 0 | F54: 0 | G54: 0 | H54: 0 | I54: 0 | J54: 0 | K54: 0 | L54: 0 | M54: 0 | N54: 0 | O54: 0
B55: 不詳 Unknow | C55: 2 | D55: 2 | E55: 0 | F55: 0 | G55: 0 | H55: 0 | I55: 0 | J55: 0 | K55: 0 | L55: 0 | M55: 0 | N55: 0 | O55: 0
A56: 彰化縣 | B56: 計 Total | C56: 10088 | D56: 9529 | E56: 79 | F56: 18 | G56: 6 | H56: 48 | I56: 4 | J56: 0 | K56: 13 | L56: 13 | M56: 78 | N56: 14 | O56: 286
A57: Changhua County | B57: 男 Male | C57: 4300 | D57: 4059 | E57: 28 | F57: 14 | G57: 2 | H57: 18 | I57: 0 | J57: 0 | K57: 7 | L57: 7 | M57: 35 | N57: 5 | O57: 125
B58: 女 Female | C58: 5778 | D58: 5460 | E58: 51 | F58: 4 | G58: 4 | H58: 30 | I58: 4 | J58: 0 | K58: 6 | L58: 6 | M58: 43 | N58: 9 | O58: 161
B59: 其他 Other | C59: 0 | D59: 0 | E59: 0 | F59: 0 | G59: 0 | H59: 0 | I59: 0 | J59: 0 | K59: 0 | L59: 0 | M59: 0 | N59: 0 | O59: 0
B60: 不詳 Unknow | C60: 10 | D60: 10 | E60: 0 | F60: 0 | G60: 0 | H60: 0 | I60: 0 | J60: 0 | K60: 0 | L60: 0 | M60: 0 | N60: 0 | O60: 0
A61: 南投縣 | B61: 計 Total | C61: 7128 | D61: 6934 | E61: 16 | F61: 19 | G61: 0 | H61: 11 | I61: 1 | J61: 0 | K61: 10 | L61: 9 | M61: 15 | N61: 17 | O61: 96
A62: Nantou County | B62: 男 Male | C62: 3187 | D62: 3109 | E62: 10 | F62: 14 | G62: 0 | H62: 3 | I62: 1 | J62: 0 | K62: 6 | L62: 2 | M62: 7 | N62: 5 | O62: 30
B63: 女 Female | C63: 3939 | D63: 3823 | E63: 6 | F63: 5 | G63: 0 | H63: 8 | I63: 0 | J63: 0 | K63: 4 | L63: 7 | M63: 8 | N63: 12 | O63: 66
B64: 其他 Other | C64: 0 | D64: 0 | E64: 0 | F64: 0 | G64: 0 | H64: 0 | I64: 0 | J64: 0 | K64: 0 | L64: 0 | M64: 0 | N64: 0 | O64: 0
B65: 不詳 Unknow | C65: 2 | D65: 2 | E65: 0 | F65: 0 | G65: 0 | H65: 0 | I65: 0 | J65: 0 | K65: 0 | L65: 0 | M65: 0 | N65: 0 | O65: 0
A66: 雲林縣 | B66: 計 Total | C66: 2926 | D66: 2624 | E66: 4 | F66: 8 | G66: 1 | H66: 0 | I66: 0 | J66: 0 | K66: 5 | L66: 0 | M66: 14 | N66: 8 | O66: 262
A67: Yunlin County | B67: 男 Male | C67: 1557 | D67: 1398 | E67: 3 | F67: 3 | G67: 1 | H67: 0 | I67: 0 | J67: 0 | K67: 4 | L67: 0 | M67: 4 | N67: 4 | O67: 140
B68: 女 Female | C68: 1369 | D68: 1226 | E68: 1 | F68: 5 | G68: 0 | H68: 0 | I68: 0 | J68: 0 | K68: 1 | L68: 0 | M68: 10 | N68: 4 | O68: 122
B69: 其他 Other | C69: 0 | D69: 0 | E69: 0 | F69: 0 | G69: 0 | H69: 0 | I69: 0 | J69: 0 | K69: 0 | L69: 0 | M69: 0 | N69: 0 | O69: 0
B70: 不詳 Unknow | C70: 0 | D70: 0 | E70: 0 | F70: 0 | G70: 0 | H70: 0 | I70: 0 | J70: 0 | K70: 0 | L70: 0 | M70: 0 | N70: 0 | O70: 0
A71: 嘉義縣 | B71: 計 Total | C71: 9419 | D71: 7011 | E71: 528 | F71: 6 | G71: 3 | H71: 68 | I71: 0 | J71: 0 | K71: 13 | L71: 31 | M71: 623 | N71: 604 | O71: 532
A72: Chiayi County | B72: 男 Male | C72: 3263 | D72: 2553 | E72: 118 | F72: 0 | G72: 0 | H72: 14 | I72: 0 | J72: 0 | K72: 5 | L72: 10 | M72: 226 | N72: 182 | O72: 155
B73: 女 Female | C73: 6152 | D73: 4454 | E73: 410 | F73: 6 | G73: 3 | H73: 54 | I73: 0 | J73: 0 | K73: 8 | L73: 21 | M73: 397 | N73: 422 | O73: 377
B74: 其他 Other | C74: 0 | D74: 0 | E74: 0 | F74: 0 | G74: 0 | H74: 0 | I74: 0 | J74: 0 | K74: 0 | L74: 0 | M74: 0 | N74: 0 | O74: 0
B75: 不詳 Unknow | C75: 4 | D75: 4 | E75: 0 | F75: 0 | G75: 0 | H75: 0 | I75: 0 | J75: 0 | K75: 0 | L75: 0 | M75: 0 | N75: 0 | O75: 0
A76: 屏東縣 | B76: 計 Total | C76: 9101 | D76: 7560 | E76: 522 | F76: 312 | G76: 3 | H76: 58 | I76: 0 | J76: 0 | K76: 26 | L76: 32 | M76: 109 | N76: 51 | O76: 428
A77: Pingtung County | B77: 男 Male | C77: 3862 | D77: 3144 | E77: 189 | F77: 171 | G77: 2 | H77: 17 | I77: 0 | J77: 0 | K77: 14 | L77: 10 | M77: 54 | N77: 20 | O77: 241
B78: 女 Female | C78: 5177 | D78: 4403 | E78: 332 | F78: 93 | G78: 1 | H78: 41 | I78: 0 | J78: 0 | K78: 12 | L78: 22 | M78: 55 | N78: 31 | O78: 187
B79: 其他 Other | C79: 0 | D79: 0 | E79: 0 | F79: 0 | G79: 0 | H79: 0 | I79: 0 | J79: 0 | K79: 0 | L79: 0 | M79: 0 | N79: 0 | O79: 0
B80: 不詳 Unknow | C80: 62 | D80: 13 | E80: 1 | F80: 48 | G80: 0 | H80: 0 | I80: 0 | J80: 0 | K80: 0 | L80: 0 | M80: 0 | N80: 0 | O80: 0
A81: 臺東縣 | B81: 計 Total | C81: 3218 | D81: 2942 | E81: 13 | F81: 4 | G81: 5 | H81: 56 | I81: 0 | J81: 0 | K81: 8 | L81: 22 | M81: 33 | N81: 43 | O81: 92
A82: Taitung County | B82: 男 Male | C82: 1146 | D82: 1053 | E82: 5 | F82: 2 | G82: 1 | H82: 17 | I82: 0 | J82: 0 | K82: 1 | L82: 7 | M82: 9 | N82: 17 | O82: 34
B83: 女 Female | C83: 2068 | D83: 1885 | E83: 8 | F83: 2 | G83: 4 | H83: 39 | I83: 0 | J83: 0 | K83: 7 | L83: 15 | M83: 24 | N83: 26 | O83: 58
B84: 其他 Other | C84: 0 | D84: 0 | E84: 0 | F84: 0 | G84: 0 | H84: 0 | I84: 0 | J84: 0 | K84: 0 | L84: 0 | M84: 0 | N84: 0 | O84: 0
B85: 不詳 Unknow | C85: 4 | D85: 4 | E85: 0 | F85: 0 | G85: 0 | H85: 0 | I85: 0 | J85: 0 | K85: 0 | L85: 0 | M85: 0 | N85: 0 | O85: 0
A86: 花蓮縣 | B86: 計 Total | C86: 2424 | D86: 2302 | E86: 0 | F86: 14 | G86: 0 | H86: 6 | I86: 0 | J86: 0 | K86: 2 | L86: 30 | M86: 0 | N86: 3 | O86: 67
A87: Hualien County | B87: 男 Male | C87: 836 | D87: 804 | E87: 0 | F87: 5 | G87: 0 | H87: 0 | I87: 0 | J87: 0 | K87: 1 | L87: 6 | M87: 0 | N87: 3 | O87: 17
B88: 女 Female | C88: 1537 | D88: 1448 | E88: 0 | F88: 8 | G88: 0 | H88: 6 | I88: 0 | J88: 0 | K88: 1 | L88: 24 | M88: 0 | N88: 0 | O88: 50
B89: 其他 Other | C89: 0 | D89: 0 | E89: 0 | F89: 0 | G89: 0 | H89: 0 | I89: 0 | J89: 0 | K89: 0 | L89: 0 | M89: 0 | N89: 0 | O89: 0
B90: 不詳 Unknow | C90: 51 | D90: 50 | E90: 0 | F90: 1 | G90: 0 | H90: 0 | I90: 0 | J90: 0 | K90: 0 | L90: 0 | M90: 0 | N90: 0 | O90: 0
A91: 澎湖縣 | B91: 計 Total | C91: 776 | D91: 500 | E91: 215 | F91: 2 | G91: 0 | H91: 11 | I91: 1 | J91: 0 | K91: 0 | L91: 0 | M91: 1 | N91: 2 | O91: 44
A92: Penghu County | B92: 男 Male | C92: 345 | D92: 224 | E92: 92 | F92: 0 | G92: 0 | H92: 7 | I92: 1 | J92: 0 | K92: 0 | L92: 0 | M92: 0 | N92: 1 | O92: 20
B93: 女 Female | C93: 429 | D93: 275 | E93: 122 | F93: 2 | G93: 0 | H93: 4 | I93: 0 | J93: 0 | K93: 0 | L93: 0 | M93: 1 | N93: 1 | O93: 24
B94: 其他 Other | C94: 0 | D94: 0 | E94: 0 | F94: 0 | G94: 0 | H94: 0 | I94: 0 | J94: 0 | K94: 0 | L94: 0 | M94: 0 | N94: 0 | O94: 0
B95: 不詳 Unknow | C95: 2 | D95: 1 | E95: 1 | F95: 0 | G95: 0 | H95: 0 | I95: 0 | J95: 0 | K95: 0 | L95: 0 | M95: 0 | N95: 0 | O95: 0
A96: 基隆市 | B96: 計 Total | C96: 5744 | D96: 4399 | E96: 491 | F96: 110 | G96: 1 | H96: 28 | I96: 1 | J96: 0 | K96: 32 | L96: 5 | M96: 94 | N96: 86 | O96: 497
A97: Keelung City | B97: 男 Male | C97: 2723 | D97: 2119 | E97: 214 | F97: 89 | G97: 1 | H97: 9 | I97: 1 | J97: 0 | K97: 22 | L97: 2 | M97: 44 | N97: 21 | O97: 201
B98: 女 Female | C98: 3018 | D98: 2278 | E98: 277 | F98: 21 | G98: 0 | H98: 19 | I98: 0 | J98: 0 | K98: 10 | L98: 3 | M98: 49 | N98: 65 | O98: 296
B99: 其他 Other | C99: 0 | D99: 0 | E99: 0 | F99: 0 | G99: 0 | H99: 0 | I99: 0 | J99: 0 | K99: 0 | L99: 0 | M99: 0 | N99: 0 | O99: 0
B100: 不詳 Unknow | C100: 3 | D100: 2 | E100: 0 | F100: 0 | G100: 0 | H100: 0 | I100: 0 | J100: 0 | K100: 0 | L100: 0 | M100: 1 | N100: 0 | O100: 0
A101: 新竹市 | B101: 計 Total | C101: 3898 | D101: 3689 | E101: 12 | F101: 16 | G101: 0 | H101: 21 | I101: 0 | J101: 0 | K101: 10 | L101: 7 | M101: 19 | N101: 3 | O101: 121
...

Sheet 歷年(109年~111年)
A1: 老人保護概況 Protection for the Aged
A3: 年別 Locality and Sex | C3: 老人保護扶助人次（複選；人次）Number of Senior Citizens Receiving Protection and Assistance | N3: 老人保護類型（複選；人次）Types of Elderly Protection | W3: 老人保護通報案件數(件) Number of Cases Reported for Elderly Protection
C4: 總計 Total | D4: 諮詢協談Counseling | E4: 保護安置Protection and Placement | F4: 陪同報案偵詢(訊)Accompanying the Parties Concerned During Case Reporting and Interrogation/Investigation | G4: 陪同出庭Accompanying the Parties Concerned to Appear before Court | H4: 驗傷診療Medical Examinations and Diagnoses | I4: 聲請保護令Petition for a Protection Order | J4: 經濟扶助Financial Aid | K4: 法律扶助Legal Aid | L4: 通譯服務Interpreting Services | M4: 其他扶助 Others | N4: 總計 Total | O4: 疏忽 Carelessness | P4: 遺棄 Abandoned | Q4: 身心虐待Mistreatness | T4: 財產侵占/搾取Misappropriation/Exploitation of Property | U4: 無人扶養 Lack of Support | V4: 其他 Others
Q5: 合計 SubTotal | R5: 身體虐待 Physical Abuse | S5: 精神虐待Psychological Abuse
A6: 109年,2020 | C6: 48895 | D6: 38408 | E6: 3194 | F6: 17 | G6: 118 | H6: 54 | I6: 3 | J6: 1853 | K6: 568 | L6: 0 | M6: 4680 | N6: 2613 | O6: 921 | P6: 505 | Q6: 172 | R6: 154 | S6: 18 | T6: 27 | U6: 796 | V6: 192 | W6: 2427
A8: 年別 Year | C8: 老人保護扶助人次（複選；人次）Number of Senior Citizens Receiving Protection and Assistance | P8: 老人保護類型（複選；人次）Types of Elderly Protection | Y8: 老人保護通報案件數(件) Number of Cases Reported for Elderly Protection
C9: 總計 Total | D9: 諮詢協談Counseling | E9: 家庭關係處理 Family relationship management | F9: 保護安置Protection and Placement | G9: 陪同報案偵詢(訊)Accompanying the Parties Concerned During Case Reporting and Interrogation/Investigation | H9: 陪同出庭Accompanying the Parties Concerned to Appear before Court | I9: 陪同醫療服務 Accompanying the Parties Concerned to medical service | J9: 心理諮商、治療與輔導 Psychological counseling, treatment and counseling | K9: 連結長期照顧服務 Link to long-term care services | L9: 聲請保護令Petition for a Protection Order | M9: 經濟扶助Financial Aid | N9: 法律扶助Legal Aid | O9: 其他扶助 Others | P9: 總計 Total | Q9: 疏忽 Carelessness | R9: 遺棄 Abandoned | S9: 身心虐待Mistreatness | V9: 財產侵占/搾取Misappropriation/Exploitation of Property | W9: 無人扶養Lack of Support | X9: 其他 Others
S10: 合計 SubTotal | T10: 身體虐待 Physical Abuse | U10: 精神虐待Psychological Abuse
A11: 110年,2021 | C11: 51939 | D11: 41337 | E11: 1102 | F11: 2654 | G11: 4 | H11: 165 | I11: 324 | J11: 10 | K11: 754 | L11: 18 | M11: 1652 | N11: 342 | O11: 3577 | P11: 2386 | Q11: 911 | R11: 453 | S11: 203 | T11: 196 | U11: 7 | V11: 26 | W11: 761 | X11: 32 | Y11: 2173
A12: 111年,2022 | C12: 52315 | D12: 46325 | E12: 683 | F12: 669 | G12: 4 | H12: 103 | I12: 32 | J12: 0 | K12: 668 | L12: 4 | M12: 670 | N12: 233 | O12: 2924 | P12: 2347 | Q12: 1008 | R12: 358 | S12: 184 | T12: 182 | U12: 2 | V12: 28 | W12: 756 | X12: 13 | Y12: 2216
A13: 資料來源：直轄市、縣(市)政府。
A14: 說明：為避免與家庭暴力重複計算，自109年起督請各縣(市)明確依填報定義，將直系血親卑親屬對尊親屬「虐待」納入「家庭暴力事件通報表」統計，並排除分派至社會福利服務中心之非保護案件。
A15: Source : Social and Family Affairs Administration, MOHW and County and City Government.

Sheet 111
A1: 老人保護概況 Protection for the Aged
A2: 民國111年, 2022 | C2: =IF(C6=SUM(C9,C12,C15,C18,C21,C24,C27,C30,C33,C36,C39,C42,C45,C48,C51,C54,C57,C60,C63,C66,C69,C72),"","*") | D2: =IF(D6=SUM(D9,D12,D15,D18,D21,D24,D27,D30,D33,D36,D39,D42,D45,D48,D51,D54,D57,D60,D63,D66,D69,D72),"","*") | F2: =IF(F6=SUM(F9,F12,F15,F18,F21,F24,F27,F30,F33,F36,F39,F42,F45,F48,F51,F54,F57,F60,F63,F66,F69,F72),"","*") | G2: =IF(G6=SUM(G9,G12,G15,G18,G21,G24,G27,G30,G33,G36,G39,G42,G45,G48,G51,G54,G57,G60,G63,G66,G69,G72),"","*") | H2: =IF(H6=SUM(H9,H12,H15,H18,H21,H24,H27,H30,H33,H36,H39,H42,H45,H48,H51,H54,H57,H60,H63,H66,H69,H72),"","*") | I2: =IF(I6=SUM(I9,I12,I15,I18,I21,I24,I27,I30,I33,I36,I39,I42,I45,I48,I51,I54,I57,I60,I63,I66,I69,I72),"","*") | L2: =IF(L6=SUM(L9,L12,L15,L18,L21,L24,L27,L30,L33,L36,L39,L42,L45,L48,L51,L54,L57,L60,L63,L66,L69,L72),"","*") | M2: =IF(M6=SUM(M9,M12,M15,M18,M21,M24,M27,M30,M33,M36,M39,M42,M45,M48,M51,M54,M57,M60,M63,M66,M69,M72),"","*") | N2: =IF(N6=SUM(N9,N12,N15,N18,N21,N24,N27,N30,N33,N36,N39,N42,N45,N48,N51,N54,N57,N60,N63,N66,N69,N72),"","*") | O2: =IF(O6=SUM(O9,O12,O15,O18,O21,O24,O27,O30,O33,O36,O39,O42,O45,O48,O51,O54,O57,O60,O63,O66,O69,O72),"","*") | P2: =IF(P6=SUM(P9,P12,P15,P18,P21,P24,P27,P30,P33,P36,P39,P42,P45,P48,P51,P54,P57,P60,P63,P66,P69,P72),"","*") | Q2: =IF(Q6=SUM(Q9,Q12,Q15,Q18,Q21,Q24,Q27,Q30,Q33,Q36,Q39,Q42,Q45,Q48,Q51,Q54,Q57,Q60,Q63,Q66,Q69,Q72),"","*") | R2: =IF(R6=SUM(R9,R12,R15,R18,R21,R24,R27,R30,R33,R36,R39,R42,R45,R48,R51,R54,R57,R60,R63,R66,R69,R72),"","*") | S2: =IF(S6=SUM(S9,S12,S15,S18,S21,S24,S27,S30,S33,S36,S39,S42,S45,S48,S51,S54,S57,S60,S63,S66,S69,S72),"","*") | ... Y2: =IF(Y6=SUM(Y9,Y12,Y15,Y18,Y21,Y24,Y27,Y30,Y33,Y36,Y39,Y42,Y45,Y48,Y51,Y54,Y57,Y60,Y63,Y66,Y69,Y72),"","*")
A3: 區域別及性別 Locality and Sex | C3: 老人保護扶助人次（複選；人次）Number of Senior Citizens Receiving Protection and Assistance | P3: 老人保護類型（複選；人次）Types of Elderly Protection | Y3: 老人保護通報案件數(件) Number of Cases Reported for Elderly Protection
C4: 總計 Total | D4: 諮詢協談Counseling | E4: 家庭關係處理 Family relationship management | F4: 保護安置Protection and Placement | G4: 陪同報案偵詢(訊)Accompanying the Parties Concerned During Case Reporting and Interrogation/Investigation | H4: 陪同出庭Accompanying the Parties Concerned to Appear before Court | I4: 陪同醫療服務 Accompanying the Parties Concerned to medical service | J4: 心理諮商、治療與輔導 | K4: 連結長期照顧服務 | L4: 聲請保護令Petition for a Protection Order | M4: 經濟扶助Financial Aid | N4: 法律扶助Legal Aid | O4: 其他扶助 Others | P4: 總計 Total | Q4: 疏忽 Carelessness | R4: 遺棄 Abandoned | S4: 身心虐待Mistreatness | V4: 財產侵占/搾取Misappropriation/Exploitation of Property | W4: 無人扶養Lack of Support | X4: 其他 Others
S5: 合計 SubTotal | T5: 身體虐待 Physical Abuse | U5: 精神虐待Psychological Abuse
A6: 總計 | B6: 合計 SubTotal | C6: 52315 | D6: 46325 | E6: 683 | F6: 669 | G6: 4 | H6: 103 | I6: 32 | J6: 0 | K6: 668 | L6: 4 | M6: 670 | N6: 233 | O6: 2924 | P6: 2347 | Q6: 1008 | R6: 358 | S6: 184 | T6: 182 | U6: 2 | V6: 28 | W6: 756 | X6: 13 | Y6: 2216
A7: Total | B7: 男Male | C7: 34224 | D7: 30272 | E7: 382 | F7: 505 | G7: 2 | H7: 62 | I7: 23 | J7: 0 | K7: 508 | L7: 0 | M7: 453 | N7: 157 | O7: 1860 | P7: 1354 | Q7: 469 | R7: 245 | S7: 64 | T7: 63 | U7: 1 | V7: 12 | W7: 558 | X7: 6 | Y7: 0
B8: 女Female | C8: 18091 | D8: 16053 | E8: 301 | F8: 164 | G8: 2 | H8: 41 | I8: 9 | J8: 0 | K8: 160 | L8: 4 | M8: 217 | N8: 76 | O8: 1064 | P8: 993 | Q8: 539 | R8: 113 | S8: 120 | T8: 119 | U8: 1 | V8: 16 | W8: 198 | X8: 7 | Y8: 0
A9: 新北市 | B9: 計 Total | C9: 965 | D9: 886 | E9: 17 | F9: 3 | G9: 1 | H9: 2 | I9: 0 | J9: 0 | K9: 3 | L9: 1 | M9: 4 | N9: 18 | O9: 30 | P9: 374 | Q9: 231 | R9: 27 | S9: 39 | T9: 39 | U9: 0 | V9: 8 | W9: 65 | X9: 4 | Y9: 354
A10: New Taipei City | B10: 男 Male | C10: 305 | D10: 289 | E10: 3 | F10: 1 | G10: 0 | H10: 1 | I10: 0 | J10: 0 | K10: 1 | L10: 0 | M10: 0 | N10: 2 | O10: 8 | P10: 168 | Q10: 96 | R10: 13 | S10: 12 | T10: 12 | U10: 0 | V10: 4 | W10: 43 | X10: 0 | Y10: 0
B11: 女 Female | C11: 660 | D11: 597 | E11: 14 | F11: 2 | G11: 1 | H11: 1 | I11: 0 | J11: 0 | K11: 2 | L11: 1 | M11: 4 | N11: 16 | O11: 22 | P11: 206 | Q11: 135 | R11: 14 | S11: 27 | T11: 27 | U11: 0 | V11: 4 | W11: 22 | X11: 4 | Y11: 0
A12: 臺北市 | B12: 計 Total | C12: 1106 | D12: 947 | E12: 11 | F12: 2 | G12: 0 | H12: 0 | I12: 0 | J12: 0 | K12: 0 | L12: 2 | M12: 15 | N12: 13 | O12: 116 | P12: 29 | Q12: 3 | R12: 4 | S12: 21 | T12: 21 | U12: 0 | V12: 0 | W12: 1 | X12: 0 | Y12: 28
A13: Taipei City | B13: 男 Male | C13: 448 | D13: 364 | E13: 5 | F13: 1 | G13: 0 | H13: 0 | I13: 0 | J13: 0 | K13: 0 | L13: 0 | M13: 3 | N13: 7 | O13: 68 | P13: 10 | Q13: 1 | R13: 3 | S13: 5 | T13: 5 | U13: 0 | V13: 0 | W13: 1 | X13: 0 | Y13: 0
B14: 女 Female | C14: 658 | D14: 583 | E14: 6 | F14: 1 | G14: 0 | H14: 0 | I14: 0 | J14: 0 | K14: 0 | L14: 2 | M14: 12 | N14: 6 | O14: 48 | P14: 19 | Q14: 2 | R14: 1 | S14: 16 | T14: 16 | U14: 0 | V14: 0 | W14: 0 | X14: 0 | Y14: 0
A15: 桃園市 | B15: 計 Total | C15: 4970 | D15: 4444 | E15: 78 | F15: 28 | G15: 2 | H15: 21 | I15: 16 | J15: 0 | K15: 36 | L15: 0 | M15: 55 | N15: 45 | O15: 245 | P15: 77 | Q15: 40 | R15: 14 | S15: 8 | T15: 8 | U15: 0 | V15: 0 | W15: 15 | X15: 0 | Y15: 75
A16: Taoyuan City | B16: 男 Male | C16: 3535 | D16: 3177 | E16: 53 | F16: 22 | G16: 2 | H16: 18 | I16: 14 | J16: 0 | K16: 20 | L16: 0 | M16: 41 | N16: 35 | O16: 153 | P16: 41 | Q16: 14 | R16: 13 | S16: 4 | T16: 4 | U16: 0 | V16: 0 | W16: 10 | X16: 0 | Y16: 0
B17: 女 Female | C17: 1435 | D17: 1267 | E17: 25 | F17: 6 | G17: 0 | H17: 3 | I17: 2 | J17: 0 | K17: 16 | L17: 0 | M17: 14 | N17: 10 | O17: 92 | P17: 36 | Q17: 26 | R17: 1 | S17: 4 | T17: 4 | U17: 0 | V17: 0 | W17: 5 | X17: 0 | Y17: 0
A18: 臺中市 | B18: 計 Total | C18: 2766 | D18: 2610 | E18: 12 | F18: 106 | G18: 0 | H18: 4 | I18: 0 | J18: 0 | K18: 0 | L18: 0 | M18: 3 | N18: 1 | O18: 30 | P18: 74 | Q18: 40 | R18: 13 | S18: 17 | T18: 17 | U18: 0 | V18: 1 | W18: 3 | X18: 0 | Y18: 72
A19: Taichung City | B19: 男 Male | C19: 1788 | D19: 1674 | E19: 9 | F19: 76 | G19: 0 | H19: 3 | I19: 0 | J19: 0 | K19: 0 | L19: 0 | M19: 2 | N19: 1 | O19: 23 | P19: 43 | Q19: 21 | R19: 10 | S19: 9 | T19: 9 | U19: 0 | V19: 0 | W19: 3 | X19: 0 | Y19: 0
B20: 女 Female | C20: 978 | D20: 936 | E20: 3 | F20: 30 | G20: 0 | H20: 1 | I20: 0 | J20: 0 | K20: 0 | L20: 0 | M20: 1 | N20: 0 | O20: 7 | P20: 31 | Q20: 19 | R20: 3 | S20: 8 | T20: 8 | U20: 0 | V20: 1 | W20: 0 | X20: 0 | Y20: 0
A21: 臺南市 | B21: 計 Total | C21: 4135 | D21: 3459 | E21: 3 | F21: 140 | G21: 0 | H21: 14 | I21: 0 | J21: 0 | K21: 14 | L21: 0 | M21: 8 | N21: 14 | O21: 483 | P21: 59 | Q21: 13 | R21: 10 | S21: 21 | T21: 21 | U21: 0 | V21: 0 | W21: 14 | X21: 1 | Y21: 58
A22: Tainan City | B22: 男 Male | C22: 2858 | D22: 2426 | E22: 0 | F22: 97 | G22: 0 | H22: 7 | I22: 0 | J22: 0 | K22: 10 | L22: 0 | M22: 5 | N22: 9 | O22: 304 | P22: 27 | Q22: 6 | R22: 7 | S22: 3 | T22: 3 | U22: 0 | V22: 0 | W22: 11 | X22: 0 | Y22: 0
B23: 女 Female | C23: 1277 | D23: 1033 | E23: 3 | F23: 43 | G23: 0 | H23: 7 | I23: 0 | J23: 0 | K23: 4 | L23: 0 | M23: 3 | N23: 5 | O23: 179 | P23: 32 | Q23: 7 | R23: 3 | S23: 18 | T23: 18 | U23: 0 | V23: 0 | W23: 3 | X23: 1 | Y23: 0
A24: 高雄市 | B24: 計 Total | C24: 18325 | D24: 16392 | E24: 182 | F24: 156 | G24: 0 | H24: 26 | I24: 7 | J24: 0 | K24: 505 | L24: 0 | M24: 303 | N24: 65 | O24: 689 | P24: 918 | Q24: 384 | R24: 164 | S24: 11 | T24: 11 | U24: 0 | V24: 5 | W24: 352 | X24: 2 | Y24: 884
A25: Kaohsiung City | B25: 男 Male | C25: 12148 | D25: 10781 | E25: 108 | F25: 119 | G25: 0 | H25: 16 | I25: 3 | J25: 0 | K25: 410 | L25: 0 | M25: 218 | N25: 50 | O25: 443 | P25: 577 | Q25: 195 | R25: 115 | S25: 1 | T25: 1 | U25: 0 | V25: 2 | W25: 263 | X25: 1 | Y25: 0
B26: 女 Female | C26: 6177 | D26: 5611 | E26: 74 | F26: 37 | G26: 0 | H26: 10 | I26: 4 | J26: 0 | K26: 95 | L26: 0 | M26: 85 | N26: 15 | O26: 246 | P26: 341 | Q26: 189 | R26: 49 | S26: 10 | T26: 10 | U26: 0 | V26: 3 | W26: 89 | X26: 1 | Y26: 0
A27: 宜蘭縣 | B27: 計 Total | C27: 1315 | D27: 1284 | E27: 7 | F27: 7 | G27: 0 | H27: 1 | I27: 0 | J27: 0 | K27: 0 | L27: 0 | M27: 3 | N27: 1 | O27: 12 | P27: 54 | Q27: 22 | R27: 4 | S27: 2 | T27: 2 | U27: 0 | V27: 0 | W27: 25 | X27: 1 | Y27: 49
A28: Yilan County | B28: 男 Male | C28: 938 | D28: 919 | E28: 3 | F28: 5 | G28: 0 | H28: 1 | I28: 0 | J28: 0 | K28: 0 | L28: 0 | M28: 2 | N28: 0 | O28: 8 | P28: 29 | Q28: 11 | R28: 2 | S28: 0 | T28: 0 | U28: 0 | V28: 0 | W28: 15 | X28: 1 | Y28: 0
B29: 女 Female | C29: 377 | D29: 365 | E29: 4 | F29: 2 | G29: 0 | H29: 0 | I29: 0 | J29: 0 | K29: 0 | L29: 0 | M29: 1 | N29: 1 | O29: 4 | P29: 25 | Q29: 11 | R29: 2 | S29: 2 | T29: 2 | U29: 0 | V29: 0 | W29: 10 | X29: 0 | Y29: 0
A30: 新竹縣 | B30: 計 Total | C30: 436 | D30: 431 | E30: 0 | F30: 1 | G30: 0 | H30: 4 | I30: 0 | J30: 0 | K30: 0 | L30: 0 | M30: 0 | N30: 0 | O30: 0 | P30: 26 | Q30: 11 | R30: 3 | S30: 1 | T30: 1 | U30: 0 | V30: 3 | W30: 8 | X30: 0 | Y30: 22
A31: Hsinchu County | B31: 男 Male | C31: 321 | D31: 316 | E31: 0 | F31: 1 | G31: 0 | H31: 4 | I31: 0 | J31: 0 | K31: 0 | L31: 0 | M31: 0 | N31: 0 | O31: 0 | P31: 14 | Q31: 5 | R31: 2 | S31: 0 | T31: 0 | U31: 0 | V31: 0 | W31: 7 | X31: 0 | Y31: 0
B32: 女 Female | C32: 115 | D32: 115 | E32: 0 | F32: 0 | G32: 0 | H32: 0 | I32: 0 | J32: 0 | K32: 0 | L32: 0 | M32: 0 | N32: 0 | O32: 0 | P32: 12 | Q32: 6 | R32: 1 | S32: 1 | T32: 1 | U32: 0 | V32: 3 | W32: 1 | X32: 0 | Y32: 0
A33: 苗栗縣 | B33: 計 Total | C33: 2006 | D33: 1553 | E33: 10 | F33: 33 | G33: 0 | H33: 5 | I33: 2 | J33: 0 | K33: 1 | L33: 0 | M33: 5 | N33: 5 | O33: 392 | P33: 59 | Q33: 23 | R33: 12 | S33: 2 | T33: 2 | U33: 0 | V33: 2 | W33: 20 | X33: 0 | Y33: 55
A34: Miaoli County | B34: 男 Male | C34: 1496 | D34: 1148 | E34: 8 | F34: 24 | G34: 0 | H34: 2 | I34: 2 | J34: 0 | K34: 1 | L34: 0 | M34: 4 | N34: 4 | O34: 303 | P34: 43 | Q34: 15 | R34: 10 | S34: 1 | T34: 1 | U34: 0 | V34: 2 | W34: 15 | X34: 0 | Y34: 0
B35: 女 Female | C35: 510 | D35: 405 | E35: 2 | F35: 9 | G35: 0 | H35: 3 | I35: 0 | J35: 0 | K35: 0 | L35: 0 | M35: 1 | N35: 1 | O35: 89 | P35: 16 | Q35: 8 | R35: 2 | S35: 1 | T35: 1 | U35: 0 | V35: 0 | W35: 5 | X35: 0 | Y35: 0
A36: 彰化縣 | B36: 計 Total | C36: 2108 | D36: 1876 | E36: 8 | F36: 22 | G36: 0 | H36: 0 | I36: 0 | J36: 0 | K36: 18 | L36: 0 | M36: 57 | N36: 1 | O36: 126 | P36: 83 | Q36: 38 | R36: 7 | S36: 5 | T36: 5 | U36: 0 | V36: 0 | W36: 33 | X36: 0 | Y36: 79
A37: Changhua County | B37: 男 Male | C37: 1358 | D37: 1212 | E37: 6 | F37: 19 | G37: 0 | H37: 0 | I37: 0 | J37: 0 | K37: 10 | L37: 0 | M37: 40 | N37: 0 | O37: 71 | P37: 56 | Q37: 19 | R37: 6 | S37: 3 | T37: 3 | U37: 0 | V37: 0 | W37: 28 | X37: 0 | Y37: 0
B38: 女 Female | C38: 750 | D38: 664 | E38: 2 | F38: 3 | G38: 0 | H38: 0 | I38: 0 | J38: 0 | K38: 8 | L38: 0 | M38: 17 | N38: 1 | O38: 55 | P38: 27 | Q38: 19 | R38: 1 | S38: 2 | T38: 2 | U38: 0 | V38: 0 | W38: 5 | X38: 0 | Y38: 0
A39: 南投縣 | B39: 計 Total | C39: 2525 | D39: 2371 | E39: 7 | F39: 28 | G39: 0 | H39: 6 | I39: 0 | J39: 0 | K39: 19 | L39: 0 | M39: 35 | N39: 8 | O39: 51 | P39: 129 | Q39: 33 | R39: 34 | S39: 2 | T39: 2 | U39: 0 | V39: 1 | W39: 58 | X39: 1 | Y39: 111
A40: Nantou County | B40: 男 Male | C40: 2013 | D40: 1882 | E40: 5 | F40: 23 | G40: 0 | H40: 6 | I40: 0 | J40: 0 | K40: 13 | L40: 0 | M40: 30 | N40: 8 | O40: 46 | P40: 76 | Q40: 11 | R40: 21 | S40: 0 | T40: 0 | U40: 0 | V40: 0 | W40: 43 | X40: 1 | Y40: 0
B41: 女 Female | C41: 512 | D41: 489 | E41: 2 | F41: 5 | G41: 0 | H41: 0 | I41: 0 | J41: 0 | K41: 6 | L41: 0 | M41: 5 | N41: 0 | O41: 5 | P41: 53 | Q41: 22 | R41: 13 | S41: 2 | T41: 2 | U41: 0 | V41: 1 | W41: 15 | X41: 0 | Y41: 0
A42: 雲林縣 | B42: 計 Total | C42: 2539 | D42: 2252 | E42: 1 | F42: 7 | G42: 0 | H42: 2 | I42: 0 | J42: 0 | K42: 5 | L42: 0 | M42: 33 | N42: 0 | O42: 239 | P42: 84 | Q42: 48 | R42: 10 | S42: 1 | T42: 1 | U42: 0 | V42: 2 | W42: 23 | X42: 0 | Y42: 81
A43: Yunlin County | B43: 男 Male | C43: 1286 | D43: 1139 | E43: 0 | F43: 5 | G43: 0 | H43: 1 | I43: 0 | J43: 0 | K43: 3 | L43: 0 | M43: 18 | N43: 0 | O43: 120 | P43: 48 | Q43: 21 | R43: 6 | S43: 1 | T43: 1 | U43: 0 | V43: 2 | W43: 18 | X43: 0 | Y43: 0
B44: 女 Female | C44: 1253 | D44: 1113 | E44: 1 | F44: 2 | G44: 0 | H44: 1 | I44: 0 | J44: 0 | K44: 2 | L44: 0 | M44: 15 | N44: 0 | O44: 119 | P44: 36 | Q44: 27 | R44: 4 | S44: 0 | T44: 0 | U44: 0 | V44: 0 | W44: 5 | X44: 0 | Y44: 0
A45: 嘉義縣 | B45: 計 Total | C45: 1476 | D45: 1278 | E45: 38 | F45: 3 | G45: 0 | H45: 0 | I45: 0 | J45: 0 | K45: 9 | L45: 0 | M45: 49 | N45: 15 | O45: 84 | P45: 24 | Q45: 12 | R45: 2 | S45: 5 | T45: 5 | U45: 0 | V45: 1 | W45: 4 | X45: 0 | Y45: 22
A46: Chiayi County | B46: 男 Male | C46: 671 | D46: 578 | E46: 16 | F46: 2 | G46: 0 | H46: 0 | I46: 0 | J46: 0 | K46: 9 | L46: 0 | M46: 30 | N46: 12 | O46: 24 | P46: 12 | Q46: 5 | R46: 1 | S46: 2 | T46: 2 | U46: 0 | V46: 0 | W46: 4 | X46: 0 | Y46: 0
B47: 女 Female | C47: 805 | D47: 700 | E47: 22 | F47: 1 | G47: 0 | H47: 0 | I47: 0 | J47: 0 | K47: 0 | L47: 0 | M47: 19 | N47: 3 | O47: 60 | P47: 12 | Q47: 7 | R47: 1 | S47: 3 | T47: 3 | U47: 0 | V47: 1 | W47: 0 | X47: 0 | Y47: 0
A48: 屏東縣 | B48: 計 Total | C48: 2066 | D48: 1727 | E48: 149 | F48: 10 | G48: 0 | H48: 8 | I48: 0 | J48: 0 | K48: 15 | L48: 0 | M48: 25 | N48: 15 | O48: 117 | P48: 60 | Q48: 29 | R48: 10 | S48: 10 | T48: 10 | U48: 0 | V48: 2 | W48: 9 | X48: 0 | Y48: 51
A49: Pingtung County | B49: 男 Male | C49: 1317 | D49: 1131 | E49: 69 | F49: 7 | G49: 0 | H49: 1 | I49: 0 | J49: 0 | K49: 12 | L49: 0 | M49: 11 | N49: 12 | O49: 74 | P49: 30 | Q49: 16 | R49: 7 | S49: 4 | T49: 4 | U49: 0 | V49: 0 | W49: 3 | X49: 0 | Y49: 0
B50: 女 Female | C50: 749 | D50: 596 | E50: 80 | F50: 3 | G50: 0 | H50: 7 | I50: 0 | J50: 0 | K50: 3 | L50: 0 | M50: 14 | N50: 3 | O50: 43 | P50: 30 | Q50: 13 | R50: 3 | S50: 6 | T50: 6 | U50: 0 | V50: 2 | W50: 6 | X50: 0 | Y50: 0
A51: 臺東縣 | B51: 計 Total | C51: 1214 | D51: 1121 | E51: 11 | F51: 3 | G51: 1 | H51: 4 | I51: 2 | J51: 0 | K51: 6 | L51: 1 | M51: 25 | N51: 10 | O51: 30 | P51: 51 | Q51: 24 | R51: 7 | S51: 7 | T51: 7 | U51: 0 | V51: 1 | W51: 11 | X51: 1 | Y51: 47
A52: Taitung County | B52: 男 Male | C52: 738 | D52: 694 | E52: 5 | F52: 2 | G52: 0 | H52: 0 | I52: 1 | J52: 0 | K52: 1 | L52: 0 | M52: 18 | N52: 0 | O52: 17 | P52: 32 | Q52: 11 | R52: 5 | S52: 4 | T52: 4 | U52: 0 | V52: 1 | W52: 10 | X52: 1 | Y52: 0
B53: 女 Female | C53: 476 | D53: 427 | E53: 6 | F53: 1 | G53: 1 | H53: 4 | I53: 1 | J53: 0 | K53: 5 | L53: 1 | M53: 7 | N53: 10 | O53: 13 | P53: 19 | Q53: 13 | R53: 2 | S53: 3 | T53: 3 | U53: 0 | V53: 0 | W53: 1 | X53: 0 | Y53: 0
A54: 花蓮縣 | B54: 計 Total | C54: 542 | D54: 534 | E54: 1 | F54: 1 | G54: 0 | H54: 0 | I54: 0 | J54: 0 | K54: 0 | L54: 0 | M54: 1 | N54: 3 | O54: 2 | P54: 75 | Q54: 19 | R54: 5 | S54: 4 | T54: 4 | U54: 0 | V54: 2 | W54: 43 | X54: 2 | Y54: 66
A55: Hualien County | B55: 男 Male | C55: 360 | D55: 354 | E55: 0 | F55: 1 | G55: 0 | H55: 0 | I55: 0 | J55: 0 | K55: 0 | L55: 0 | M55: 1 | N55: 2 | O55: 2 | P55: 46 | Q55: 11 | R55: 3 | S55: 1 | T55: 1 | U55: 0 | V55: 1 | W55: 29 | X55: 1 | Y55: 0
B56: 女 Female | C56: 182 | D56: 180 | E56: 1 | F56: 0 | G56: 0 | H56: 0 | I56: 0 | J56: 0 | K56: 0 | L56: 0 | M56: 0 | N56: 1 | O56: 0 | P56: 29 | Q56: 8 | R56: 2 | S56: 3 | T56: 3 | U56: 0 | V56: 1 | W56: 14 | X56: 1 | Y56: 0
A57: 澎湖縣 | B57: 計 Total | C57: 245 | D57: 229 | E57: 0 | F57: 1 | G57: 0 | H57: 0 | I57: 0 | J57: 0 | K57: 3 | L57: 0 | M57: 1 | N57: 0 | O57: 11 | P57: 6 | Q57: 1 | R57: 1 | S57: 1 | T57: 1 | U57: 0 | V57: 0 | W57: 2 | X57: 1 | Y57: 6
A58: Penghu County | B58: 男 Male | C58: 132 | D58: 122 | E58: 0 | F58: 0 | G58: 0 | H58: 0 | I58: 0 | J58: 0 | K58: 2 | L58: 0 | M58: 1 | N58: 0 | O58: 7 | P58: 3 | Q58: 0 | R58: 1 | S58: 1 | T58: 1 | U58: 0 | V58: 0 | W58: 0 | X58: 1 | Y58: 0
B59: 女 Female | C59: 113 | D59: 107 | E59: 0 | F59: 1 | G59: 0 | H59: 0 | I59: 0 | J59: 0 | K59: 1 | L59: 0 | M59: 0 | N59: 0 | O59: 4 | P59: 3 | Q59: 1 | R59: 0 | S59: 0 | T59: 0 | U59: 0 | V59: 0 | W59: 2 | X59: 0 | Y59: 0
A60: 基隆市 | B60: 計 Total | C60: 2137 | D60: 1591 | E60: 145 | F60: 110 | G60: 0 | H60: 4 | I60: 4 | J60: 0 | K60: 31 | L60: 0 | M60: 45 | N60: 13 | O60: 194 | P60: 80 | Q60: 17 | R60: 14 | S60: 10 | T60: 10 | U60: 0 | V60: 0 | W60: 39 | X60: 0 | Y60: 74
A61: Keelung City | B61: 男 Male | C61: 1540 | D61: 1176 | E61: 89 | F61: 94 | G61: 0 | H61: 0 | I61: 3 | J61: 0 | K61: 16 | L61: 0 | M61: 26 | N61: 9 | O61: 127 | P61: 53 | Q61: 6 | R61: 11 | S61: 4 | T61: 4 | U61: 0 | V61: 0 | W61: 32 | X61: 0 | Y61: 0
B62: 女 Female | C62: 597 | D62: 415 | E62: 56 | F62: 16 | G62: 0 | H62: 4 | I62: 1 | J62: 0 | K62: 15 | L62: 0 | M62: 19 | N62: 4 | O62: 67 | P62: 27 | Q62: 11 | R62: 3 | S62: 6 | T62: 6 | U62: 0 | V62: 0 | W62: 7 | X62: 0 | Y62: 0
A63: 新竹市 | B63: 計 Total | C63: 824 | D63: 782 | E63: 0 | F63: 5 | G63: 0 | H63: 0 | I63: 1 | J63: 0 | K63: 0 | L63: 0 | M63: 2 | N63: 2 | O63: 32 | P63: 48 | Q63: 12 | R63: 12 | S63: 2 | T63: 2 | U63: 0 | V63: 0 | W63: 22 | X63: 0 | Y63: 48
A64: Hsinchu City | B64: 男 Male | C64: 542 | D64: 507 | E64: 0 | F64: 4 | G64: 0 | H64: 0 | I64: 0 | J64: 0 | K64: 0 | L64: 0 | M64: 2 | N64: 2 | O64: 27 | P64: 31 | Q64: 5 | R64: 7 | S64: 2 | T64: 2 | U64: 0 | V64: 0 | W64: 17 | X64: 0 | Y64: 0
B65: 女 Female | C65: 282 | D65: 275 | E65: 0 | F65: 1 | G65: 0 | H65: 0 | I65: 1 | J65: 0 | K65: 0 | L65: 0 | M65: 0 | N65: 0 | O65: 5 | P65: 17 | Q65: 7 | R65: 5 | S65: 0 | T65: 0 | U65: 0 | V65: 0 | W65: 5 | X65: 0 | Y65: 0
A66: 嘉義市 | B66: 計 Total | C66: 516 | D66: 461 | E66: 3 | F66: 3 | G66: 0 | H66: 1 | I66: 0 | J66: 0 | K66: 3 | L66: 0 | M66: 1 | N66: 4 | O66: 40 | P66: 16 | Q66: 3 | R66: 4 | S66: 1 | T66: 1 | U66: 0 | V66: 0 | W66: 8 | X66: 0 | Y66: 14
A67: Chiayi City | B67: 男 Male | C67: 390 | D67: 345 | E67: 3 | F67: 2 | G67: 0 | H67: 1 | I67: 0 | J67: 0 | K67: 0 | L67: 0 | M67: 1 | N67: 4 | O67: 34 | P67: 7 | Q67: 0 | R67: 2 | S67: 0 | T67: 0 | U67: 0 | V67: 0 | W67: 5 | X67: 0 | Y67: 0
B68: 女 Female | C68: 126 | D68: 116 | E68: 0 | F68: 1 | G68: 0 | H68: 0 | I68: 0 | J68: 0 | K68: 3 | L68: 0 | M68: 0 | N68: 0 | O68: 6 | P68: 9 | Q68: 3 | R68: 2 | S68: 1 | T68: 1 | U68: 0 | V68: 0 | W68: 3 | X68: 0 | Y68: 0
A69: 金門縣 | B69: 計 Total | C69: 90 | D69: 88 | E69: 0 | F69: 0 | G69: 0 | H69: 1 | I69: 0 | J69: 0 | K69: 0 | L69: 0 | M69: 0 | N69: 0 | O69: 1 | P69: 18 | Q69: 5 | R69: 1 | S69: 11 | T69: 11 | U69: 0 | V69: 0 | W69: 1 | X69: 0 | Y69: 17
A70: Kinmen County | B70: 男 Male | C70: 34 | D70: 32 | E70: 0 | F70: 0 | G70: 0 | H70: 1 | I70: 0 | J70: 0 | K70: 0 | L70: 0 | M70: 0 | N70: 0 | O70: 1 | P70: 6 | Q70: 0 | R70: 0 | S70: 5 | T70: 5 | U70: 0 | V70: 0 | W70: 1 | X70: 0 | Y70: 0
B71: 女 Female | C71: 56 | D71: 56 | E71: 0 | F71: 0 | G71: 0 | H71: 0 | I71: 0 | J71: 0 | K71: 0 | L71: 0 | M71: 0 | N71: 0 | O71: 0 | P71: 12 | Q71: 5 | R71: 1 | S71: 6 | T71: 6 | U71: 0 | V71: 0 | W71: 0 | X71: 0 | Y71: 0
A72: 連江縣 | B72: 計 Total | C72: 9 | D72: 9 | E72: 0 | F72: 0 | G72: 0 | H72: 0 | I72: 0 | J72: 0 | K72: 0 | L72: 0 | M72: 0 | N72: 0 | O72: 0 | P72: 3 | Q72: 0 | R72: 0 | S72: 3 | T72: 1 | U72: 2 | V72: 0 | W72: 0 | X72: 0 | Y72: 3
A73: Lienchiang County | B73: 男 Male | C73: 6 | D73: 6 | E73: 0 | F73: 0 | G73: 0 | H73: 0 | I73: 0 | J73: 0 | K73: 0 | L73: 0 | M73: 0 | N73: 0 | O73: 0 | P73: 2 | Q73: 0 | R73: 0 | S73: 2 | T73: 1 | U73: 1 | V73: 0 | W73: 0 | X73: 0 | Y73: 0
B74: 女 Female | C74: 3 | D74: 3 | E74: 0 | F74: 0 | G74: 0 | H74: 0 | I74: 0 | J74: 0 | K74: 0 | L74: 0 | M74: 0 | N74: 0 | O74: 0 | P74: 1 | Q74: 0 | R74: 0 | S74: 1 | T74: 0 | U74: 1 | V74: 0 | W74: 0 | X74: 0 | Y74: 0
A75: 資料來源：直轄市、縣(市)政府。
A76: 說明：為避免與家庭暴力重複計算，自109年起督請各縣(市)明確依填報定義，將直系血親卑親屬對尊親屬「虐待」納入「家庭暴力事件通報表」統計，並排除分派至社會福利服務中心之非保護案件。
A77: Source : Social and Family Affairs Administration, MOHW and County and City Government.
A79: 更新日期：2023/03/31

Sheet 110
A1: 老人保護概況 Protection for the Aged
A2: 民國110年, 2021 | C2: =IF(C6=SUM(C9,C12,C15,C18,C21,C24,C27,C30,C33,C36,C39,C42,C45,C48,C51,C54,C57,C60,C63,C66,C69,C72),"","*") | D2: =IF(D6=SUM(D9,D12,D15,D18,D21,D24,D27,D30,D33,D36,D39,D42,D45,D48,D51,D54,D57,D60,D63,D66,D69,D72),"","*") | F2: =IF(F6=SUM(F9,F12,F15,F18,F21,F24,F27,F30,F33,F36,F39,F42,F45,F48,F51,F54,F57,F60,F63,F66,F69,F72),"","*") | G2: =IF(G6=SUM(G9,G12,G15,G18,G21,G24,G27,G30,G33,G36,G39,G42,G45,G48,G51,G54,G57,G60,G63,G66,G69,G72),"","*") | H2: =IF(H6=SUM(H9,H12,H15,H18,H21,H24,H27,H30,H33,H36,H39,H42,H45,H48,H51,H54,H57,H60,H63,H66,H69,H72),"","*") | I2: =IF(I6=SUM(I9,I12,I15,I18,I21,I24,I27,I30,I33,I36,I39,I42,I45,I48,I51,I54,I57,I60,I63,I66,I69,I72),"","*") | L2: =IF(L6=SUM(L9,L12,L15,L18,L21,L24,L27,L30,L33,L36,L39,L42,L45,L48,L51,L54,L57,L60,L63,L66,L69,L72),"","*") | M2: =IF(M6=SUM(M9,M12,M15,M18,M21,M24,M27,M30,M33,M36,M39,M42,M45,M48,M51,M54,M57,M60,M63,M66,M69,M72),"","*") | N2: =IF(N6=SUM(N9,N12,N15,N18,N21,N24,N27,N30,N33,N36,N39,N42,N45,N48,N51,N54,N57,N60,N63,N66,N69,N72),"","*") | O2: =IF(O6=SUM(O9,O12,O15,O18,O21,O24,O27,O30,O33,O36,O39,O42,O45,O48,O51,O54,O57,O60,O63,O66,O69,O72),"","*") | P2: =IF(P6=SUM(P9,P12,P15,P18,P21,P24,P27,P30,P33,P36,P39,P42,P45,P48,P51,P54,P57,P60,P63,P66,P69,P72),"","*") | Q2: =IF(Q6=SUM(Q9,Q12,Q15,Q18,Q21,Q24,Q27,Q30,Q33,Q36,Q39,Q42,Q45,Q48,Q51,Q54,Q57,Q60,Q63,Q66,Q69,Q72),"","*") | R2: =IF(R6=SUM(R9,R12,R15,R18,R21,R24,R27,R30,R33,R36,R39,R42,R45,R48,R51,R54,R57,R60,R63,R66,R69,R72),"","*") | S2: =IF(S6=SUM(S9,S12,S15,S18,S21,S24,S27,S30,S33,S36,S39,S42,S45,S48,S51,S54,S57,S60,S63,S66,S69,S72),"","*") | ... Y2: =IF(Y6=SUM(Y9,Y12,Y15,Y18,Y21,Y24,Y27,Y30,Y33,Y36,Y39,Y42,Y45,Y48,Y51,Y54,Y57,Y60,Y63,Y66,Y69,Y72),"","*")
A3: 區域別及性別 Locality and Sex | C3: 老人保護扶助人次（複選；人次）Number of Senior Citizens Receiving Protection and Assistance | P3: 老人保護類型（複選；人次）Types of Elderly Protection | Y3: 老人保護通報案件數(件) Number of Cases Reported for Elderly Protection
C4: 總計 Total | D4: 諮詢協談Counseling | E4: 家庭關係處理 Family relationship management | F4: 保護安置Protection and Placement | G4: 陪同報案偵詢(訊)Accompanying the Parties Concerned During Case Reporting and Interrogation/Investigation | H4: 陪同出庭Accompanying the Parties Concerned to Appear before Court | I4: 陪同醫療服務 Accompanying the Parties Concerned to medical service | J4: 心理諮商、治療與輔導 | K4: 連結長期照顧服務 | L4: 聲請保護令Petition for a Protection Order | M4: 經濟扶助Financial Aid | N4: 法律扶助Legal Aid | O4: 其他扶助 Others | P4: 總計 Total | Q4: 疏忽 Carelessness | R4: 遺棄 Abandoned | S4: 身心虐待Mistreatness | V4: 財產侵占/搾取Misappropriation/Exploitation of Property | W4: 無人扶養Lack of Support | X4: 其他 Others
S5: 合計 SubTotal | T5: 身體虐待 Physical Abuse | U5: 精神虐待Psychological Abuse
A6: 總計 | B6: 合計 SubTotal | C6: 51939 | D6: 41337 | E6: 1102 | F6: 2654 | G6: 4 | H6: 165 | I6: 324 | J6: 10 | K6: 754 | L6: 18 | M6: 1652 | N6: 342 | O6: 3577 | P6: 2386 | Q6: 911 | R6: 453 | S6: 203 | T6: 196 | U6: 7 | V6: 26 | W6: 761 | X6: 32 | Y6: 2173
A7: Total | B7: 男Male | C7: 34194 | D7: 26985 | E7: 668 | F7: 1802 | G7: 2 | H7: 106 | I7: 243 | J7: 6 | K7: 501 | L7: 13 | M7: 1110 | N7: 228 | O7: 2530 | P7: 1417 | Q7: 438 | R7: 301 | S7: 79 | T7: 77 | U7: 2 | V7: 12 | W7: 569 | X7: 18 | Y7: 0
B8: 女Female | C8: 17745 | D8: 14352 | E8: 434 | F8: 852 | G8: 2 | H8: 59 | I8: 81 | J8: 4 | K8: 253 | L8: 5 | M8: 542 | N8: 114 | O8: 1047 | P8: 969 | Q8: 473 | R8: 152 | S8: 124 | T8: 119 | U8: 5 | V8: 14 | W8: 192 | X8: 14 | Y8: 0
A9: 新北市 | B9: 計 Total | C9: 707 | D9: 657 | E9: 19 | F9: 4 | G9: 0 | H9: 2 | I9: 0 | J9: 0 | K9: 1 | L9: 2 | M9: 0 | N9: 7 | O9: 15 | P9: 383 | Q9: 175 | R9: 67 | S9: 64 | T9: 64 | U9: 0 | V9: 2 | W9: 72 | X9: 3 | Y9: 305
A10: New Taipei City | B10: 男 Male | C10: 229 | D10: 217 | E10: 4 | F10: 1 | G10: 0 | H10: 1 | I10: 0 | J10: 0 | K10: 0 | L10: 1 | M10: 0 | N10: 3 | O10: 2 | P10: 200 | Q10: 86 | R10: 43 | S10: 23 | T10: 23 | U10: 0 | V10: 0 | W10: 46 | X10: 2 | Y10: 0
B11: 女 Female | C11: 478 | D11: 440 | E11: 15 | F11: 3 | G11: 0 | H11: 1 | I11: 0 | J11: 0 | K11: 1 | L11: 1 | M11: 0 | N11: 4 | O11: 13 | P11: 183 | Q11: 89 | R11: 24 | S11: 41 | T11: 41 | U11: 0 | V11: 2 | W11: 26 | X11: 1 | Y11: 0
A12: 臺北市 | B12: 計 Total | C12: 1462 | D12: 1197 | E12: 21 | F12: 3 | G12: 0 | H12: 3 | I12: 0 | J12: 0 | K12: 0 | L12: 0 | M12: 24 | N12: 33 | O12: 181 | P12: 48 | Q12: 18 | R12: 5 | S12: 20 | T12: 20 | U12: 0 | V12: 3 | W12: 2 | X12: 0 | Y12: 42
A13: Taipei City | B13: 男 Male | C13: 785 | D13: 645 | E13: 16 | F13: 1 | G13: 0 | H13: 0 | I13: 0 | J13: 0 | K13: 0 | L13: 0 | M13: 3 | N13: 20 | O13: 100 | P13: 25 | Q13: 8 | R13: 3 | S13: 11 | T13: 11 | U13: 0 | V13: 2 | W13: 1 | X13: 0 | Y13: 0
B14: 女 Female | C14: 677 | D14: 552 | E14: 5 | F14: 2 | G14: 0 | H14: 3 | I14: 0 | J14: 0 | K14: 0 | L14: 0 | M14: 21 | N14: 13 | O14: 81 | P14: 23 | Q14: 10 | R14: 2 | S14: 9 | T14: 9 | U14: 0 | V14: 1 | W14: 1 | X14: 0 | Y14: 0
A15: 桃園市 | B15: 計 Total | C15: 3349 | D15: 3017 | E15: 74 | F15: 24 | G15: 0 | H15: 11 | I15: 6 | J15: 0 | K15: 42 | L15: 0 | M15: 26 | N15: 11 | O15: 138 | P15: 95 | Q15: 67 | R15: 12 | S15: 7 | T15: 7 | U15: 0 | V15: 0 | W15: 7 | X15: 2 | Y15: 90
A16: Taoyuan City | B16: 男 Male | C16: 2216 | D16: 2014 | E16: 39 | F16: 18 | G16: 0 | H16: 11 | I16: 5 | J16: 0 | K16: 22 | L16: 0 | M16: 16 | N16: 5 | O16: 86 | P16: 43 | Q16: 26 | R16: 8 | S16: 3 | T16: 3 | U16: 0 | V16: 0 | W16: 5 | X16: 1 | Y16: 0
B17: 女 Female | C17: 1133 | D17: 1003 | E17: 35 | F17: 6 | G17: 0 | H17: 0 | I17: 1 | J17: 0 | K17: 20 | L17: 0 | M17: 10 | N17: 6 | O17: 52 | P17: 52 | Q17: 41 | R17: 4 | S17: 4 | T17: 4 | U17: 0 | V17: 0 | W17: 2 | X17: 1 | Y17: 0
A18: 臺中市 | B18: 計 Total | C18: 2502 | D18: 2269 | E18: 10 | F18: 169 | G18: 0 | H18: 10 | I18: 1 | J18: 0 | K18: 0 | L18: 0 | M18: 0 | N18: 2 | O18: 41 | P18: 57 | Q18: 34 | R18: 10 | S18: 7 | T18: 7 | U18: 0 | V18: 1 | W18: 3 | X18: 2 | Y18: 57
A19: Taichung City | B19: 男 Male | C19: 1517 | D19: 1363 | E19: 10 | F19: 114 | G19: 0 | H19: 7 | I19: 0 | J19: 0 | K19: 0 | L19: 0 | M19: 0 | N19: 2 | O19: 21 | P19: 30 | Q19: 18 | R19: 7 | S19: 2 | T19: 2 | U19: 0 | V19: 0 | W19: 1 | X19: 2 | Y19: 0
B20: 女 Female | C20: 985 | D20: 906 | E20: 0 | F20: 55 | G20: 0 | H20: 3 | I20: 1 | J20: 0 | K20: 0 | L20: 0 | M20: 0 | N20: 0 | O20: 20 | P20: 27 | Q20: 16 | R20: 3 | S20: 5 | T20: 5 | U20: 0 | V20: 1 | W20: 2 | X20: 0 | Y20: 0
A21: 臺南市 | B21: 計 Total | C21: 5585 | D21: 4460 | E21: 41 | F21: 117 | G21: 0 | H21: 16 | I21: 0 | J21: 0 | K21: 29 | L21: 0 | M21: 4 | N21: 26 | O21: 892 | P21: 91 | Q21: 23 | R21: 15 | S21: 26 | T21: 26 | U21: 0 | V21: 1 | W21: 24 | X21: 2 | Y21: 86
A22: Tainan City | B22: 男 Male | C22: 4136 | D22: 3253 | E22: 27 | F22: 93 | G22: 0 | H22: 11 | I22: 0 | J22: 0 | K22: 22 | L22: 0 | M22: 4 | N22: 18 | O22: 708 | P22: 60 | Q22: 13 | R22: 9 | S22: 14 | T22: 14 | U22: 0 | V22: 1 | W22: 21 | X22: 2 | Y22: 0
B23: 女 Female | C23: 1449 | D23: 1207 | E23: 14 | F23: 24 | G23: 0 | H23: 5 | I23: 0 | J23: 0 | K23: 7 | L23: 0 | M23: 0 | N23: 8 | O23: 184 | P23: 31 | Q23: 10 | R23: 6 | S23: 12 | T23: 12 | U23: 0 | V23: 0 | W23: 3 | X23: 0 | Y23: 0
A24: 高雄市 | B24: 計 Total | C24: 19504 | D24: 13588 | E24: 626 | F24: 2038 | G24: 1 | H24: 74 | I24: 304 | J24: 10 | K24: 489 | L24: 0 | M24: 1264 | N24: 161 | O24: 949 | P24: 780 | Q24: 260 | R24: 187 | S24: 12 | T24: 12 | U24: 0 | V24: 5 | W24: 314 | X24: 2 | Y24: 730
A25: Kaohsiung City | B25: 男 Male | C25: 12758 | D25: 8842 | E25: 366 | F25: 1341 | G25: 1 | H25: 46 | I25: 229 | J25: 6 | K25: 317 | L25: 0 | M25: 852 | N25: 107 | O25: 651 | P25: 509 | Q25: 133 | R25: 124 | S25: 5 | T25: 5 | U25: 0 | V25: 1 | W25: 245 | X25: 1 | Y25: 0
B26: 女 Female | C26: 6746 | D26: 4746 | E26: 260 | F26: 697 | G26: 0 | H26: 28 | I26: 75 | J26: 4 | K26: 172 | L26: 0 | M26: 412 | N26: 54 | O26: 298 | P26: 271 | Q26: 127 | R26: 63 | S26: 7 | T26: 7 | U26: 0 | V26: 4 | W26: 69 | X26: 1 | Y26: 0
A27: 宜蘭縣 | B27: 計 Total | C27: 783 | D27: 735 | E27: 12 | F27: 1 | G27: 0 | H27: 0 | I27: 0 | J27: 0 | K27: 1 | L27: 0 | M27: 5 | N27: 5 | O27: 24 | P27: 48 | Q27: 21 | R27: 0 | S27: 2 | T27: 2 | U27: 0 | V27: 0 | W27: 25 | X27: 0 | Y27: 41
A28: Yilan County | B28: 男 Male | C28: 521 | D28: 498 | E28: 3 | F28: 1 | G28: 0 | H28: 0 | I28: 0 | J28: 0 | K28: 1 | L28: 0 | M28: 3 | N28: 0 | O28: 15 | P28: 26 | Q28: 9 | R28: 0 | S28: 0 | T28: 0 | U28: 0 | V28: 0 | W28: 17 | X28: 0 | Y28: 0
B29: 女 Female | C29: 262 | D29: 237 | E29: 9 | F29: 0 | G29: 0 | H29: 0 | I29: 0 | J29: 0 | K29: 0 | L29: 0 | M29: 2 | N29: 5 | O29: 9 | P29: 22 | Q29: 12 | R29: 0 | S29: 2 | T29: 2 | U29: 0 | V29: 0 | W29: 8 | X29: 0 | Y29: 0
A30: 新竹縣 | B30: 計 Total | C30: 1139 | D30: 951 | E30: 23 | F30: 6 | G30: 2 | H30: 14 | I30: 3 | J30: 0 | K30: 21 | L30: 0 | M30: 27 | N30: 10 | O30: 82 | P30: 54 | Q30: 16 | R30: 19 | S30: 8 | T30: 8 | U30: 0 | V30: 3 | W30: 8 | X30: 0 | Y30: 46
A31: Hsinchu County | B31: 男 Male | C31: 691 | D31: 569 | E31: 16 | F31: 3 | G31: 0 | H31: 10 | I31: 2 | J31: 0 | K31: 16 | L31: 0 | M31: 20 | N31: 5 | O31: 50 | P31: 34 | Q31: 10 | R31: 12 | S31: 3 | T31: 3 | U31: 0 | V31: 3 | W31: 6 | X31: 0 | Y31: 0
B32: 女 Female | C32: 448 | D32: 382 | E32: 7 | F32: 3 | G32: 2 | H32: 4 | I32: 1 | J32: 0 | K32: 5 | L32: 0 | M32: 7 | N32: 5 | O32: 32 | P32: 20 | Q32: 6 | R32: 7 | S32: 5 | T32: 5 | U32: 0 | V32: 0 | W32: 2 | X32: 0 | Y32: 0
A33: 苗栗縣 | B33: 計 Total | C33: 2101 | D33: 1700 | E33: 14 | F33: 44 | G33: 0 | H33: 11 | I33: 1 | J33: 0 | K33: 3 | L33: 0 | M33: 26 | N33: 4 | O33: 298 | P33: 62 | Q33: 16 | R33: 22 | S33: 3 | T33: 3 | U33: 0 | V33: 1 | W33: 20 | X33: 0 | Y33: 59
A34: Miaoli County | B34: 男 Male | C34: 1593 | D34: 1300 | E34: 10 | F34: 34 | G34: 0 | H34: 4 | I34: 1 | J34: 0 | K34: 1 | L34: 0 | M34: 13 | N34: 2 | O34: 228 | P34: 42 | Q34: 11 | R34: 13 | S34: 0 | T34: 0 | U34: 0 | V34: 0 | W34: 18 | X34: 0 | Y34: 0
B35: 女 Female | C35: 508 | D35: 400 | E35: 4 | F35: 10 | G35: 0 | H35: 7 | I35: 0 | J35: 0 | K35: 2 | L35: 0 | M35: 13 | N35: 2 | O35: 70 | P35: 20 | Q35: 5 | R35: 9 | S35: 3 | T35: 3 | U35: 0 | V35: 1 | W35: 2 | X35: 0 | Y35: 0
A36: 彰化縣 | B36: 計 Total | C36: 2611 | D36: 2130 | E36: 0 | F36: 51 | G36: 1 | H36: 1 | I36: 0 | J36: 0 | K36: 17 | L36: 0 | M36: 87 | N36: 23 | O36: 301 | P36: 111 | Q36: 43 | R36: 20 | S36: 1 | T36: 1 | U36: 0 | V36: 0 | W36: 47 | X36: 0 | Y36: 109
A37: Changhua County | B37: 男 Male | C37: 1666 | D37: 1353 | E37: 0 | F37: 38 | G37: 1 | H37: 1 | I37: 0 | J37: 0 | K37: 6 | L37: 0 | M37: 48 | N37: 20 | O37: 199 | P37: 71 | Q37: 21 | R37: 15 | S37: 0 | T37: 0 | U37: 0 | V37: 0 | W37: 35 | X37: 0 | Y37: 0
B38: 女 Female | C38: 945 | D38: 777 | E38: 0 | F38: 13 | G38: 0 | H38: 0 | I38: 0 | J38: 0 | K38: 11 | L38: 0 | M38: 39 | N38: 3 | O38: 102 | P38: 40 | Q38: 22 | R38: 5 | S38: 1 | T38: 1 | U38: 0 | V38: 0 | W38: 12 | X38: 0 | Y38: 0
A39: 南投縣 | B39: 計 Total | C39: 1600 | D39: 1458 | E39: 11 | F39: 11 | G39: 0 | H39: 5 | I39: 0 | J39: 0 | K39: 20 | L39: 0 | M39: 28 | N39: 5 | O39: 62 | P39: 140 | Q39: 32 | R39: 35 | S39: 2 | T39: 2 | U39: 0 | V39: 4 | W39: 67 | X39: 0 | Y39: 124
A40: Nantou County | B40: 男 Male | C40: 1135 | D40: 1032 | E40: 6 | F40: 10 | G40: 0 | H40: 4 | I40: 0 | J40: 0 | K40: 16 | L40: 0 | M40: 22 | N40: 4 | O40: 41 | P40: 96 | Q40: 14 | R40: 26 | S40: 1 | T40: 1 | U40: 0 | V40: 2 | W40: 53 | X40: 0 | Y40: 0
B41: 女 Female | C41: 465 | D41: 426 | E41: 5 | F41: 1 | G41: 0 | H41: 1 | I41: 0 | J41: 0 | K41: 4 | L41: 0 | M41: 6 | N41: 1 | O41: 21 | P41: 44 | Q41: 18 | R41: 9 | S41: 1 | T41: 1 | U41: 0 | V41: 2 | W41: 14 | X41: 0 | Y41: 0
A42: 雲林縣 | B42: 計 Total | C42: 1265 | D42: 1087 | E42: 17 | F42: 10 | G42: 0 | H42: 0 | I42: 1 | J42: 0 | K42: 16 | L42: 0 | M42: 12 | N42: 5 | O42: 117 | P42: 101 | Q42: 45 | R42: 11 | S42: 2 | T42: 2 | U42: 0 | V42: 2 | W42: 40 | X42: 1 | Y42: 100
A43: Yunlin County | B43: 男 Male | C43: 679 | D43: 577 | E43: 9 | F43: 6 | G43: 0 | H43: 0 | I43: 0 | J43: 0 | K43: 10 | L43: 0 | M43: 8 | N43: 2 | O43: 67 | P43: 55 | Q43: 21 | R43: 5 | S43: 1 | T43: 1 | U43: 0 | V43: 1 | W43: 27 | X43: 0 | Y43: 0
B44: 女 Female | C44: 586 | D44: 510 | E44: 8 | F44: 4 | G44: 0 | H44: 0 | I44: 1 | J44: 0 | K44: 6 | L44: 0 | M44: 4 | N44: 3 | O44: 50 | P44: 46 | Q44: 24 | R44: 6 | S44: 1 | T44: 1 | U44: 0 | V44: 1 | W44: 13 | X44: 1 | Y44: 0
A45: 嘉義縣 | B45: 計 Total | C45: 1485 | D45: 1383 | E45: 1 | F45: 0 | G45: 0 | H45: 1 | I45: 2 | J45: 0 | K45: 13 | L45: 0 | M45: 40 | N45: 3 | O45: 42 | P45: 20 | Q45: 11 | R45: 3 | S45: 0 | T45: 0 | U45: 0 | V45: 1 | W45: 5 | X45: 0 | Y45: 19
A46: Chiayi County | B46: 男 Male | C46: 662 | D46: 605 | E46: 0 | F46: 0 | G46: 0 | H46: 0 | I46: 1 | J46: 0 | K46: 6 | L46: 0 | M46: 33 | N46: 3 | O46: 14 | P46: 8 | Q46: 3 | R46: 1 | S46: 0 | T46: 0 | U46: 0 | V46: 1 | W46: 3 | X46: 0 | Y46: 0
B47: 女 Female | C47: 823 | D47: 778 | E47: 1 | F47: 0 | G47: 0 | H47: 1 | I47: 1 | J47: 0 | K47: 7 | L47: 0 | M47: 7 | N47: 0 | O47: 28 | P47: 12 | Q47: 8 | R47: 2 | S47: 0 | T47: 0 | U47: 0 | V47: 0 | W47: 2 | X47: 0 | Y47: 0
A48: 屏東縣 | B48: 計 Total | C48: 2424 | D48: 1939 | E48: 159 | F48: 25 | G48: 0 | H48: 7 | I48: 2 | J48: 0 | K48: 42 | L48: 13 | M48: 23 | N48: 20 | O48: 194 | P48: 83 | Q48: 45 | R48: 10 | S48: 8 | T48: 8 | U48: 0 | V48: 0 | W48: 20 | X48: 0 | Y48: 77
A49: Pingtung County | B49: 男 Male | C49: 1689 | D49: 1331 | E49: 106 | F49: 23 | G49: 0 | H49: 5 | I49: 1 | J49: 0 | K49: 30 | L49: 12 | M49: 20 | N49: 12 | O49: 149 | P49: 49 | Q49: 25 | R49: 6 | S49: 4 | T49: 4 | U49: 0 | V49: 0 | W49: 14 | X49: 0 | Y49: 0
B50: 女 Female | C50: 735 | D50: 608 | E50: 53 | F50: 2 | G50: 0 | H50: 2 | I50: 1 | J50: 0 | K50: 12 | L50: 1 | M50: 3 | N50: 8 | O50: 45 | P50: 34 | Q50: 20 | R50: 4 | S50: 4 | T50: 4 | U50: 0 | V50: 0 | W50: 6 | X50: 0 | Y50: 0
A51: 臺東縣 | B51: 計 Total | C51: 1387 | D51: 1257 | E51: 11 | F51: 5 | G51: 0 | H51: 2 | I51: 1 | J51: 0 | K51: 3 | L51: 2 | M51: 41 | N51: 6 | O51: 59 | P51: 39 | Q51: 21 | R51: 5 | S51: 6 | T51: 6 | U51: 0 | V51: 0 | W51: 7 | X51: 0 | Y51: 36
A52: Taitung County | B52: 男 Male | C52: 1054 | D52: 947 | E52: 10 | F52: 5 | G52: 0 | H52: 0 | I52: 1 | J52: 0 | K52: 2 | L52: 0 | M52: 35 | N52: 6 | O52: 48 | P52: 23 | Q52: 11 | R52: 5 | S52: 2 | T52: 2 | U52: 0 | V52: 0 | W52: 5 | X52: 0 | Y52: 0
B53: 女 Female | C53: 333 | D53: 310 | E53: 1 | F53: 0 | G53: 0 | H53: 2 | I53: 0 | J53: 0 | K53: 1 | L53: 2 | M53: 6 | N53: 0 | O53: 11 | P53: 16 | Q53: 10 | R53: 0 | S53: 4 | T53: 4 | U53: 0 | V53: 0 | W53: 2 | X53: 0 | Y53: 0
A54: 花蓮縣 | B54: 計 Total | C54: 782 | D54: 758 | E54: 6 | F54: 3 | G54: 0 | H54: 5 | I54: 0 | J54: 0 | K54: 1 | L54: 0 | M54: 1 | N54: 0 | O54: 8 | P54: 71 | Q54: 23 | R54: 6 | S54: 6 | T54: 6 | U54: 0 | V54: 0 | W54: 16 | X54: 20 | Y54: 60
A55: Hualien County | B55: 男 Male | C55: 444 | D55: 430 | E55: 1 | F55: 1 | G55: 0 | H55: 4 | I55: 0 | J55: 0 | K55: 1 | L55: 0 | M55: 1 | N55: 0 | O55: 6 | P55: 31 | Q55: 4 | R55: 5 | S55: 1 | T55: 1 | U55: 0 | V55: 0 | W55: 11 | X55: 10 | Y55: 0
B56: 女 Female | C56: 338 | D56: 328 | E56: 5 | F56: 2 | G56: 0 | H56: 1 | I56: 0 | J56: 0 | K56: 0 | L56: 0 | M56: 0 | N56: 0 | O56: 2 | P56: 40 | Q56: 19 | R56: 1 | S56: 5 | T56: 5 | U56: 0 | V56: 0 | W56: 5 | X56: 10 | Y56: 0
A57: 澎湖縣 | B57: 計 Total | C57: 86 | D57: 84 | E57: 0 | F57: 1 | G57: 0 | H57: 0 | I57: 0 | J57: 0 | K57: 0 | L57: 0 | M57: 0 | N57: 0 | O57: 1 | P57: 17 | Q57: 4 | R57: 1 | S57: 12 | T57: 5 | U57: 7 | V57: 0 | W57: 0 | X57: 0 | Y57: 13
A58: Penghu County | B58: 男 Male | C58: 20 | D58: 18 | E58: 0 | F58: 1 | G58: 0 | H58: 0 | I58: 0 | J58: 0 | K58: 0 | L58: 0 | M58: 0 | N58: 0 | O58: 1 | P58: 5 | Q58: 1 | R58: 1 | S58: 3 | T58: 1 | U58: 2 | V58: 0 | W58: 0 | X58: 0 | Y58: 0
B59: 女 Female | C59: 66 | D59: 66 | E59: 0 | F59: 0 | G59: 0 | H59: 0 | I59: 0 | J59: 0 | K59: 0 | L59: 0 | M59: 0 | N59: 0 | O59: 0 | P59: 12 | Q59: 3 | R59: 0 | S59: 9 | T59: 4 | U59: 5 | V59: 0 | W59: 0 | X59: 0 | Y59: 0
A60: 基隆市 | B60: 計 Total | C60: 1437 | D60: 1050 | E60: 47 | F60: 119 | G60: 0 | H60: 2 | I60: 2 | J60: 0 | K60: 52 | L60: 0 | M60: 41 | N60: 8 | O60: 116 | P60: 41 | Q60: 8 | R60: 6 | S60: 4 | T60: 4 | U60: 0 | V60: 0 | W60: 23 | X60: 0 | Y60: 40
A61: Keelung City | B61: 男 Male | C61: 1148 | D61: 830 | E61: 38 | F61: 96 | G61: 0 | H61: 2 | I61: 2 | J61: 0 | K61: 49 | L61: 0 | M61: 29 | N61: 6 | O61: 96 | P61: 29 | Q61: 4 | R61: 5 | S61: 1 | T61: 1 | U61: 0 | V61: 0 | W61: 19 | X61: 0 | Y61: 0
B62: 女 Female | C62: 289 | D62: 220 | E62: 9 | F62: 23 | G62: 0 | H62: 0 | I62: 0 | J62: 0 | K62: 3 | L62: 0 | M62: 12 | N62: 2 | O62: 20 | P62: 12 | Q62: 4 | R62: 1 | S62: 3 | T62: 3 | U62: 0 | V62: 0 | W62: 4 | X62: 0 | Y62: 0
A63: 新竹市 | B63: 計 Total | C63: 824 | D63: 748 | E63: 4 | F63: 16 | G63: 0 | H63: 0 | I63: 1 | J63: 0 | K63: 3 | L63: 0 | M63: 0 | N63: 7 | O63: 45 | P63: 75 | Q63: 21 | R63: 9 | S63: 2 | T63: 2 | U63: 0 | V63: 3 | W63: 40 | X63: 0 | Y63: 71
A64: Hsinchu City | B64: 男 Male | C64: 546 | D64: 482 | E64: 4 | F64: 12 | G64: 0 | H64: 0 | I64: 1 | J64: 0 | K64: 1 | L64: 0 | M64: 0 | N64: 7 | O64: 39 | P64: 45 | Q64: 8 | R64: 6 | S64: 1 | T64: 1 | U64: 0 | V64: 1 | W64: 29 | X64: 0 | Y64: 0
B65: 女 Female | C65: 278 | D65: 266 | E65: 0 | F65: 4 | G65: 0 | H65: 0 | I65: 0 | J65: 0 | K65: 2 | L65: 0 | M65: 0 | N65: 0 | O65: 6 | P65: 30 | Q65: 13 | R65: 3 | S65: 1 | T65: 1 | U65: 0 | V65: 2 | W65: 11 | X65: 0 | Y65: 0
A66: 嘉義市 | B66: 計 Total | C66: 808 | D66: 779 | E66: 3 | F66: 6 | G66: 0 | H66: 0 | I66: 0 | J66: 0 | K66: 1 | L66: 0 | M66: 3 | N66: 6 | O66: 10 | P66: 52 | Q66: 23 | R66: 9 | S66: 1 | T66: 1 | U66: 0 | V66: 0 | W66: 19 | X66: 0 | Y66: 50
A67: Chiayi City | B67: 男 Male | C67: 667 | D67: 643 | E67: 2 | F67: 4 | G67: 0 | H67: 0 | I67: 0 | J67: 0 | K67: 1 | L67: 0 | M67: 3 | N67: 6 | O67: 8 | P67: 30 | Q67: 10 | R67: 7 | S67: 0 | T67: 0 | U67: 0 | V67: 0 | W67: 13 | X67: 0 | Y67: 0
B68: 女 Female | C68: 141 | D68: 136 | E68: 1 | F68: 2 | G68: 0 | H68: 0 | I68: 0 | J68: 0 | K68: 0 | L68: 0 | M68: 0 | N68: 0 | O68: 2 | P68: 22 | Q68: 13 | R68: 2 | S68: 1 | T68: 1 | U68: 0 | V68: 0 | W68: 6 | X68: 0 | Y68: 0
A69: 金門縣 | B69: 計 Total | C69: 90 | D69: 87 | E69: 2 | F69: 0 | G69: 0 | H69: 0 | I69: 0 | J69: 0 | K69: 0 | L69: 0 | M69: 0 | N69: 0 | O69: 1 | P69: 15 | Q69: 5 | R69: 1 | S69: 7 | T69: 7 | U69: 0 | V69: 0 | W69: 2 | X69: 0 | Y69: 15
A70: Kinmen County | B70: 男 Male | C70: 38 | D70: 36 | E70: 1 | F70: 0 | G70: 0 | H70: 0 | I70: 0 | J70: 0 | K70: 0 | L70: 0 | M70: 0 | N70: 0 | O70: 1 | P70: 6 | Q70: 2 | R70: 0 | S70: 4 | T70: 4 | U70: 0 | V70: 0 | W70: 0 | X70: 0 | Y70: 0
B71: 女 Female | C71: 52 | D71: 51 | E71: 1 | F71: 0 | G71: 0 | H71: 0 | I71: 0 | J71: 0 | K71: 0 | L71: 0 | M71: 0 | N71: 0 | O71: 0 | P71: 9 | Q71: 3 | R71: 1 | S71: 3 | T71: 3 | U71: 0 | V71: 0 | W71: 2 | X71: 0 | Y71: 0
A72: 連江縣 | B72: 計 Total | C72: 8 | D72: 3 | E72: 1 | F72: 1 | G72: 0 | H72: 1 | I72: 0 | J72: 0 | K72: 0 | L72: 1 | M72: 0 | N72: 0 | O72: 1 | P72: 3 | Q72: 0 | R72: 0 | S72: 3 | T72: 3 | U72: 0 | V72: 0 | W72: 0 | X72: 0 | Y72: 3
A73: Lienchiang County | B73: 男 Male | C73: 0 | D73: 0 | E73: 0 | F73: 0 | G73: 0 | H73: 0 | I73: 0 | J73: 0 | K73: 0 | L73: 0 | M73: 0 | N73: 0 | O73: 0 | P73: 0 | Q73: 0 | R73: 0 | S73: 0 | T73: 0 | U73: 0 | V73: 0 | W73: 0 | X73: 0 | Y73: 0
B74: 女 Female | C74: 8 | D74: 3 | E74: 1 | F74: 1 | G74: 0 | H74: 1 | I74: 0 | J74: 0 | K74: 0 | L74: 1 | M74: 0 | N74: 0 | O74: 1 | P74: 3 | Q74: 0 | R74: 0 | S74: 3 | T74: 3 | U74: 0 | V74: 0 | W74: 0 | X74: 0 | Y74: 0
A75: 資料來源：直轄市、縣(市)政府。
A76: 說明：為避免與家庭暴力重複計算，自109年起督請各縣(市)明確依填報定義，將直系血親卑親屬對尊親屬「虐待」納入「家庭暴力事件通報表」統計，並排除分派至社會福利服務中心之非保護案件。
A77: Source : Social and Family Affairs Administration, MOHW and County and City Government.
A79: 更新日期：2022/03/31

Sheet 109
A1: 老人保護概況 Protection for the Aged
A2: 民國109年,2020 | C2: =IF(C6=SUM(C9,C12,C15,C18,C21,C24,C27,C30,C33,C36,C39,C42,C45,C48,C51,C54,C57,C60,C63,C66,C69,C72),"","*") | D2: =IF(D6=SUM(D9,D12,D15,D18,D21,D24,D27,D30,D33,D36,D39,D42,D45,D48,D51,D54,D57,D60,D63,D66,D69,D72),"","*") | E2: =IF(E6=SUM(E9,E12,E15,E18,E21,E24,E27,E30,E33,E36,E39,E42,E45,E48,E51,E54,E57,E60,E63,E66,E69,E72),"","*") | F2: =IF(F6=SUM(F9,F12,F15,F18,F21,F24,F27,F30,F33,F36,F39,F42,F45,F48,F51,F54,F57,F60,F63,F66,F69,F72),"","*") | G2: =IF(G6=SUM(G9,G12,G15,G18,G21,G24,G27,G30,G33,G36,G39,G42,G45,G48,G51,G54,G57,G60,G63,G66,G69,G72),"","*") | H2: =IF(H6=SUM(H9,H12,H15,H18,H21,H24,H27,H30,H33,H36,H39,H42,H45,H48,H51,H54,H57,H60,H63,H66,H69,H72),"","*") | I2: =IF(I6=SUM(I9,I12,I15,I18,I21,I24,I27,I30,I33,I36,I39,I42,I45,I48,I51,I54,I57,I60,I63,I66,I69,I72),"","*") | J2: =IF(J6=SUM(J9,J12,J15,J18,J21,J24,J27,J30,J33,J36,J39,J42,J45,J48,J51,J54,J57,J60,J63,J66,J69,J72),"","*") | ... W2: =IF(W6=SUM(W9,W12,W15,W18,W21,W24,W27,W30,W33,W36,W39,W42,W45,W48,W51,W54,W57,W60,W63,W66,W69,W72),"","*")
A3: 區域別及性別 Locality and Sex | C3: 老人保護扶助人次（複選；人次）Number of Senior Citizens Receiving Protection and Assistance | N3: 老人保護類型（複選；人次）Types of Elderly Protection | W3: 老人保護通報案件數(件) Number of Cases Reported for Elderly Protection
C4: 總計 Total | D4: 諮詢協談Counseling | E4: 保護安置Protection and Placement | F4: 陪同報案偵詢(訊)Accompanying the Parties Concerned During Case Reporting and Interrogation/Investigation | G4: 陪同出庭Accompanying the Parties Concerned to Appear before Court | H4: 驗傷診療Medical Examinations and Diagnoses | I4: 聲請保護令Petition for a Protection Order | J4: 經濟扶助Financial Aid | K4: 法律扶助Legal Aid | L4: 通譯服務Interpreting Services | M4: 其他扶助 Others | N4: 總計 Total | O4: 疏忽 Carelessness | P4: 遺棄 Abandoned | Q4: 身心虐待Mistreatness | T4: 財產侵占/搾取Misappropriation/Exploitation of Property | U4: 無人扶養Lack of Support | V4: 其他 Others
Q5: 合計 SubTotal | R5: 身體虐待 Physical Abuse | S5: 精神虐待Psychological Abuse
A6: 總計 | B6: 合計 SubTotal | C6: 48895 | D6: 38408 | E6: 3194 | F6: 17 | G6: 118 | H6: 54 | I6: 3 | J6: 1853 | K6: 568 | L6: 0 | M6: 4680 | N6: 2613 | O6: 921 | P6: 505 | Q6: 172 | R6: 154 | S6: 18 | T6: 27 | U6: 796 | V6: 192 | W6: 2427
A7: Total | B7: 男Male | C7: 31310 | D7: 24420 | E7: 2050 | F7: 9 | G7: 84 | H7: 32 | I7: 0 | J7: 1257 | K7: 372 | L7: 0 | M7: 3086 | N7: 1559 | O7: 449 | P7: 344 | Q7: 57 | R7: 52 | S7: 5 | T7: 14 | U7: 570 | V7: 125 | W7: 0
B8: 女Female | C8: 17585 | D8: 13988 | E8: 1144 | F8: 8 | G8: 34 | H8: 22 | I8: 3 | J8: 596 | K8: 196 | L8: 0 | M8: 1594 | N8: 1054 | O8: 472 | P8: 161 | Q8: 115 | R8: 102 | S8: 13 | T8: 13 | U8: 226 | V8: 67 | W8: 0
A9: 新北市 | B9: 計 Total | C9: 613 | D9: 548 | E9: 2 | F9: 0 | G9: 0 | H9: 1 | I9: 0 | J9: 3 | K9: 2 | L9: 0 | M9: 57 | N9: 449 | O9: 228 | P9: 129 | Q9: 31 | R9: 31 | S9: 0 | T9: 4 | U9: 57 | V9: 0 | W9: 274
A10: New Taipei City | B10: 男 Male | C10: 195 | D10: 162 | E10: 0 | F10: 0 | G10: 0 | H10: 0 | I10: 0 | J10: 1 | K10: 0 | L10: 0 | M10: 32 | N10: 219 | O10: 108 | P10: 66 | Q10: 9 | R10: 9 | S10: 0 | T10: 2 | U10: 34 | V10: 0 | W10: 0
B11: 女 Female | C11: 418 | D11: 386 | E11: 2 | F11: 0 | G11: 0 | H11: 1 | I11: 0 | J11: 2 | K11: 2 | L11: 0 | M11: 25 | N11: 230 | O11: 120 | P11: 63 | Q11: 22 | R11: 22 | S11: 0 | T11: 2 | U11: 23 | V11: 0 | W11: 0
A12: 臺北市 | B12: 計 Total | C12: 1793 | D12: 1393 | E12: 4 | F12: 1 | G12: 2 | H12: 1 | I12: 1 | J12: 19 | K12: 58 | L12: 0 | M12: 314 | N12: 100 | O12: 30 | P12: 12 | Q12: 42 | R12: 42 | S12: 0 | T12: 3 | U12: 10 | V12: 3 | W12: 94
A13: Taipei City | B13: 男 Male | C13: 573 | D13: 434 | E13: 1 | F13: 0 | G13: 0 | H13: 1 | I13: 0 | J13: 10 | K13: 23 | L13: 0 | M13: 104 | N13: 42 | O13: 10 | P13: 8 | Q13: 16 | R13: 16 | S13: 0 | T13: 0 | U13: 6 | V13: 2 | W13: 0
B14: 女 Female | C14: 1220 | D14: 959 | E14: 3 | F14: 1 | G14: 2 | H14: 0 | I14: 1 | J14: 9 | K14: 35 | L14: 0 | M14: 210 | N14: 58 | O14: 20 | P14: 4 | Q14: 26 | R14: 26 | S14: 0 | T14: 3 | U14: 4 | V14: 1 | W14: 0
A15: 桃園市 | B15: 計 Total | C15: 1947 | D15: 1736 | E15: 16 | F15: 1 | G15: 10 | H15: 2 | I15: 0 | J15: 9 | K15: 5 | L15: 0 | M15: 168 | N15: 75 | O15: 43 | P15: 13 | Q15: 7 | R15: 7 | S15: 0 | T15: 1 | U15: 8 | V15: 3 | W15: 72
A16: Taoyuan City | B16: 男 Male | C16: 1190 | D16: 1021 | E16: 13 | F16: 1 | G16: 10 | H16: 1 | I16: 0 | J16: 5 | K16: 0 | L16: 0 | M16: 139 | N16: 42 | O16: 22 | P16: 9 | Q16: 2 | R16: 2 | S16: 0 | T16: 0 | U16: 7 | V16: 2 | W16: 0
B17: 女 Female | C17: 757 | D17: 715 | E17: 3 | F17: 0 | G17: 0 | H17: 1 | I17: 0 | J17: 4 | K17: 5 | L17: 0 | M17: 29 | N17: 33 | O17: 21 | P17: 4 | Q17: 5 | R17: 5 | S17: 0 | T17: 1 | U17: 1 | V17: 1 | W17: 0
A18: 臺中市 | B18: 計 Total | C18: 2641 | D18: 2385 | E18: 191 | F18: 0 | G18: 10 | H18: 0 | I18: 0 | J18: 0 | K18: 9 | L18: 0 | M18: 46 | N18: 96 | O18: 38 | P18: 10 | Q18: 8 | R18: 8 | S18: 0 | T18: 1 | U18: 3 | V18: 36 | W18: 95
A19: Taichung City | B19: 男 Male | C19: 1491 | D19: 1312 | E19: 139 | F19: 0 | G19: 7 | H19: 0 | I19: 0 | J19: 0 | K19: 8 | L19: 0 | M19: 25 | N19: 46 | O19: 15 | P19: 4 | Q19: 1 | R19: 1 | S19: 0 | T19: 0 | U19: 0 | V19: 26 | W19: 0
B20: 女 Female | C20: 1150 | D20: 1073 | E20: 52 | F20: 0 | G20: 3 | H20: 0 | I20: 0 | J20: 0 | K20: 1 | L20: 0 | M20: 21 | N20: 50 | O20: 23 | P20: 6 | Q20: 7 | R20: 7 | S20: 0 | T20: 1 | U20: 3 | V20: 10 | W20: 0
A21: 臺南市 | B21: 計 Total | C21: 4228 | D21: 3401 | E21: 100 | F21: 9 | G21: 16 | H21: 0 | I21: 0 | J21: 46 | K21: 39 | L21: 0 | M21: 617 | N21: 324 | O21: 79 | P21: 34 | Q21: 12 | R21: 12 | S21: 0 | T21: 0 | U21: 100 | V21: 99 | W21: 320
A22: Tainan City | B22: 男 Male | C22: 3126 | D22: 2491 | E22: 82 | F22: 7 | G22: 10 | H22: 0 | I22: 0 | J22: 42 | K22: 25 | L22: 0 | M22: 469 | N22: 217 | O22: 43 | P22: 28 | Q22: 7 | R22: 7 | S22: 0 | T22: 0 | U22: 78 | V22: 61 | W22: 0
B23: 女 Female | C23: 1102 | D23: 910 | E23: 18 | F23: 2 | G23: 6 | H23: 0 | I23: 0 | J23: 4 | K23: 14 | L23: 0 | M23: 148 | N23: 107 | O23: 36 | P23: 6 | Q23: 5 | R23: 5 | S23: 0 | T23: 0 | U23: 22 | V23: 38 | W23: 0
A24: 高雄市 | B24: 計 Total | C24: 21121 | D24: 14605 | E24: 2317 | F24: 3 | G24: 37 | H24: 23 | I24: 0 | J24: 1417 | K24: 334 | L24: 0 | M24: 2385 | N24: 535 | O24: 160 | P24: 80 | Q24: 0 | R24: 0 | S24: 0 | T24: 5 | U24: 266 | V24: 24 | W24: 771
A25: Kaohsiung City | B25: 男 Male | C25: 13771 | D25: 9595 | E25: 1434 | F25: 0 | G25: 24 | H25: 12 | I25: 0 | J25: 947 | K25: 213 | L25: 0 | M25: 1546 | N25: 354 | O25: 92 | P25: 57 | Q25: 0 | R25: 0 | S25: 0 | T25: 3 | U25: 187 | V25: 15 | W25: 0
B26: 女 Female | C26: 7350 | D26: 5010 | E26: 883 | F26: 3 | G26: 13 | H26: 11 | I26: 0 | J26: 470 | K26: 121 | L26: 0 | M26: 839 | N26: 181 | O26: 68 | P26: 23 | Q26: 0 | R26: 0 | S26: 0 | T26: 2 | U26: 79 | V26: 9 | W26: 0
A27: 宜蘭縣 | B27: 計 Total | C27: 531 | D27: 472 | E27: 4 | F27: 0 | G27: 0 | H27: 0 | I27: 0 | J27: 12 | K27: 1 | L27: 0 | M27: 42 | N27: 40 | O27: 13 | P27: 1 | Q27: 0 | R27: 0 | S27: 0 | T27: 0 | U27: 26 | V27: 0 | W27: 36
A28: Yilan County | B28: 男 Male | C28: 306 | D28: 268 | E28: 2 | F28: 0 | G28: 0 | H28: 0 | I28: 0 | J28: 7 | K28: 1 | L28: 0 | M28: 28 | N28: 27 | O28: 9 | P28: 1 | Q28: 0 | R28: 0 | S28: 0 | T28: 0 | U28: 17 | V28: 0 | W28: 0
B29: 女 Female | C29: 225 | D29: 204 | E29: 2 | F29: 0 | G29: 0 | H29: 0 | I29: 0 | J29: 5 | K29: 0 | L29: 0 | M29: 14 | N29: 13 | O29: 4 | P29: 0 | Q29: 0 | R29: 0 | S29: 0 | T29: 0 | U29: 9 | V29: 0 | W29: 0
A30: 新竹縣 | B30: 計 Total | C30: 964 | D30: 824 | E30: 24 | F30: 0 | G30: 2 | H30: 4 | I30: 0 | J30: 26 | K30: 17 | L30: 0 | M30: 67 | N30: 51 | O30: 17 | P30: 14 | Q30: 0 | R30: 0 | S30: 0 | T30: 1 | U30: 18 | V30: 1 | W30: 58
A31: Hsinchu County | B31: 男 Male | C31: 469 | D31: 388 | E31: 16 | F31: 0 | G31: 0 | H31: 4 | I31: 0 | J31: 18 | K31: 11 | L31: 0 | M31: 32 | N31: 32 | O31: 8 | P31: 11 | Q31: 0 | R31: 0 | S31: 0 | T31: 0 | U31: 13 | V31: 0 | W31: 0
B32: 女 Female | C32: 495 | D32: 436 | E32: 8 | F32: 0 | G32: 2 | H32: 0 | I32: 0 | J32: 8 | K32: 6 | L32: 0 | M32: 35 | N32: 19 | O32: 9 | P32: 3 | Q32: 0 | R32: 0 | S32: 0 | T32: 1 | U32: 5 | V32: 1 | W32: 0
A33: 苗栗縣 | B33: 計 Total | C33: 1673 | D33: 1365 | E33: 54 | F33: 1 | G33: 4 | H33: 20 | I33: 0 | J33: 42 | K33: 6 | L33: 0 | M33: 181 | N33: 62 | O33: 27 | P33: 14 | Q33: 6 | R33: 6 | S33: 0 | T33: 2 | U33: 13 | V33: 0 | W33: 55
A34: Miaoli County | B34: 男 Male | C34: 1257 | D34: 1019 | E34: 39 | F34: 1 | G34: 4 | H34: 11 | I34: 0 | J34: 33 | K34: 5 | L34: 0 | M34: 145 | N34: 41 | O34: 18 | P34: 11 | Q34: 1 | R34: 1 | S34: 0 | T34: 2 | U34: 9 | V34: 0 | W34: 0
B35: 女 Female | C35: 416 | D35: 346 | E35: 15 | F35: 0 | G35: 0 | H35: 9 | I35: 0 | J35: 9 | K35: 1 | L35: 0 | M35: 36 | N35: 21 | O35: 9 | P35: 3 | Q35: 5 | R35: 5 | S35: 0 | T35: 0 | U35: 4 | V35: 0 | W35: 0
A36: 彰化縣 | B36: 計 Total | C36: 2991 | D36: 2525 | E36: 48 | F36: 1 | G36: 2 | H36: 0 | I36: 0 | J36: 84 | K36: 22 | L36: 0 | M36: 309 | N36: 134 | O36: 41 | P36: 38 | Q36: 6 | R36: 6 | S36: 0 | T36: 2 | U36: 47 | V36: 0 | W36: 132
A37: Changhua County | B37: 男 Male | C37: 1954 | D37: 1617 | E37: 35 | F37: 0 | G37: 1 | H37: 0 | I37: 0 | J37: 45 | K37: 22 | L37: 0 | M37: 234 | N37: 90 | O37: 13 | P37: 31 | Q37: 1 | R37: 1 | S37: 0 | T37: 2 | U37: 43 | V37: 0 | W37: 0
B38: 女 Female | C38: 1037 | D38: 908 | E38: 13 | F38: 1 | G38: 1 | H38: 0 | I38: 0 | J38: 39 | K38: 0 | L38: 0 | M38: 75 | N38: 44 | O38: 28 | P38: 7 | Q38: 5 | R38: 5 | S38: 0 | T38: 0 | U38: 4 | V38: 0 | W38: 0
A39: 南投縣 | B39: 計 Total | C39: 1007 | D39: 860 | E39: 19 | F39: 0 | G39: 4 | H39: 0 | I39: 0 | J39: 11 | K39: 26 | L39: 0 | M39: 87 | N39: 88 | O39: 23 | P39: 28 | Q39: 1 | R39: 1 | S39: 0 | T39: 0 | U39: 35 | V39: 1 | W39: 76
A40: Nantou County | B40: 男 Male | C40: 729 | D40: 616 | E40: 13 | F40: 0 | G40: 4 | H40: 0 | I40: 0 | J40: 7 | K40: 25 | L40: 0 | M40: 64 | N40: 59 | O40: 14 | P40: 21 | Q40: 0 | R40: 0 | S40: 0 | T40: 0 | U40: 24 | V40: 0 | W40: 0
B41: 女 Female | C41: 278 | D41: 244 | E41: 6 | F41: 0 | G41: 0 | H41: 0 | I41: 0 | J41: 4 | K41: 1 | L41: 0 | M41: 23 | N41: 29 | O41: 9 | P41: 7 | Q41: 1 | R41: 1 | S41: 0 | T41: 0 | U41: 11 | V41: 1 | W41: 0
A42: 雲林縣 | B42: 計 Total | C42: 544 | D42: 483 | E42: 10 | F42: 0 | G42: 2 | H42: 2 | I42: 0 | J42: 3 | K42: 1 | L42: 0 | M42: 43 | N42: 78 | O42: 31 | P42: 13 | Q42: 5 | R42: 5 | S42: 0 | T42: 1 | U42: 28 | V42: 0 | W42: 75
A43: Yunlin County | B43: 男 Male | C43: 336 | D43: 296 | E43: 8 | F43: 0 | G43: 2 | H43: 2 | I43: 0 | J43: 2 | K43: 1 | L43: 0 | M43: 25 | N43: 44 | O43: 10 | P43: 10 | Q43: 1 | R43: 1 | S43: 0 | T43: 1 | U43: 22 | V43: 0 | W43: 0
B44: 女 Female | C44: 208 | D44: 187 | E44: 2 | F44: 0 | G44: 0 | H44: 0 | I44: 0 | J44: 1 | K44: 0 | L44: 0 | M44: 18 | N44: 34 | O44: 21 | P44: 3 | Q44: 4 | R44: 4 | S44: 0 | T44: 0 | U44: 6 | V44: 0 | W44: 0
A45: 嘉義縣 | B45: 計 Total | C45: 1658 | D45: 1626 | E45: 1 | F45: 0 | G45: 0 | H45: 0 | I45: 0 | J45: 2 | K45: 1 | L45: 0 | M45: 28 | N45: 47 | O45: 22 | P45: 15 | Q45: 0 | R45: 0 | S45: 0 | T45: 0 | U45: 10 | V45: 0 | W45: 40
A46: Chiayi County | B46: 男 Male | C46: 881 | D46: 874 | E46: 1 | F46: 0 | G46: 0 | H46: 0 | I46: 0 | J46: 2 | K46: 0 | L46: 0 | M46: 4 | N46: 25 | O46: 8 | P46: 11 | Q46: 0 | R46: 0 | S46: 0 | T46: 0 | U46: 6 | V46: 0 | W46: 0
B47: 女 Female | C47: 777 | D47: 752 | E47: 0 | F47: 0 | G47: 0 | H47: 0 | I47: 0 | J47: 0 | K47: 1 | L47: 0 | M47: 24 | N47: 22 | O47: 14 | P47: 4 | Q47: 0 | R47: 0 | S47: 0 | T47: 0 | U47: 4 | V47: 0 | W47: 0
A48: 屏東縣 | B48: 計 Total | C48: 2364 | D48: 2172 | E48: 23 | F48: 0 | G48: 9 | H48: 0 | I48: 0 | J48: 20 | K48: 9 | L48: 0 | M48: 131 | N48: 89 | O48: 42 | P48: 14 | Q48: 10 | R48: 10 | S48: 0 | T48: 0 | U48: 23 | V48: 0 | W48: 85
A49: Pingtung County | B49: 男 Male | C49: 1708 | D49: 1567 | E49: 22 | F49: 0 | G49: 8 | H49: 0 | I49: 0 | J49: 12 | K49: 6 | L49: 0 | M49: 93 | N49: 48 | O49: 18 | P49: 9 | Q49: 5 | R49: 5 | S49: 0 | T49: 0 | U49: 16 | V49: 0 | W49: 0
B50: 女 Female | C50: 656 | D50: 605 | E50: 1 | F50: 0 | G50: 1 | H50: 0 | I50: 0 | J50: 8 | K50: 3 | L50: 0 | M50: 38 | N50: 41 | O50: 24 | P50: 5 | Q50: 5 | R50: 5 | S50: 0 | T50: 0 | U50: 7 | V50: 0 | W50: 0
A51: 臺東縣 | B51: 計 Total | C51: 1270 | D51: 1160 | E51: 11 | F51: 0 | G51: 4 | H51: 0 | I51: 0 | J51: 75 | K51: 8 | L51: 0 | M51: 12 | N51: 39 | O51: 14 | P51: 11 | Q51: 2 | R51: 1 | S51: 1 | T51: 1 | U51: 11 | V51: 0 | W51: 28
A52: Taitung County | B52: 男 Male | C52: 1044 | D52: 940 | E52: 10 | F52: 0 | G52: 3 | H52: 0 | I52: 0 | J52: 75 | K52: 8 | L52: 0 | M52: 8 | N52: 25 | O52: 4 | P52: 8 | Q52: 2 | R52: 1 | S52: 1 | T52: 1 | U52: 10 | V52: 0 | W52: 0
B53: 女 Female | C53: 226 | D53: 220 | E53: 1 | F53: 0 | G53: 1 | H53: 0 | I53: 0 | J53: 0 | K53: 0 | L53: 0 | M53: 4 | N53: 14 | O53: 10 | P53: 3 | Q53: 0 | R53: 0 | S53: 0 | T53: 0 | U53: 1 | V53: 0 | W53: 0
A54: 花蓮縣 | B54: 計 Total | C54: 811 | D54: 739 | E54: 19 | F54: 0 | G54: 5 | H54: 0 | I54: 0 | J54: 7 | K54: 4 | L54: 0 | M54: 37 | N54: 62 | O54: 17 | P54: 12 | Q54: 2 | R54: 2 | S54: 0 | T54: 2 | U54: 9 | V54: 20 | W54: 56
A55: Hualien County | B55: 男 Male | C55: 582 | D55: 519 | E55: 18 | F55: 0 | G55: 4 | H55: 0 | I55: 0 | J55: 7 | K55: 4 | L55: 0 | M55: 30 | N55: 48 | O55: 13 | P55: 11 | Q55: 2 | R55: 2 | S55: 0 | T55: 1 | U55: 7 | V55: 14 | W55: 0
B56: 女 Female | C56: 229 | D56: 220 | E56: 1 | F56: 0 | G56: 1 | H56: 0 | I56: 0 | J56: 0 | K56: 0 | L56: 0 | M56: 7 | N56: 14 | O56: 4 | P56: 1 | Q56: 0 | R56: 0 | S56: 0 | T56: 1 | U56: 2 | V56: 6 | W56: 0
A57: 澎湖縣 | B57: 計 Total | C57: 81 | D57: 76 | E57: 1 | F57: 1 | G57: 2 | H57: 0 | I57: 1 | J57: 0 | K57: 0 | L57: 0 | M57: 0 | N57: 36 | O57: 6 | P57: 1 | Q57: 25 | R57: 12 | S57: 13 | T57: 1 | U57: 2 | V57: 1 | W57: 27
A58: Penghu County | B58: 男 Male | C58: 36 | D58: 36 | E58: 0 | F58: 0 | G58: 0 | H58: 0 | I58: 0 | J58: 0 | K58: 0 | L58: 0 | M58: 0 | N58: 12 | O58: 3 | P58: 0 | Q58: 7 | R58: 3 | S58: 4 | T58: 0 | U58: 1 | V58: 1 | W58: 0
B59: 女 Female | C59: 45 | D59: 40 | E59: 1 | F59: 1 | G59: 2 | H59: 0 | I59: 1 | J59: 0 | K59: 0 | L59: 0 | M59: 0 | N59: 24 | O59: 3 | P59: 1 | Q59: 18 | R59: 9 | S59: 9 | T59: 1 | U59: 1 | V59: 0 | W59: 0
A60: 基隆市 | B60: 計 Total | C60: 967 | D60: 729 | E60: 35 | F60: 0 | G60: 1 | H60: 1 | I60: 0 | J60: 58 | K60: 7 | L60: 0 | M60: 136 | N60: 29 | O60: 4 | P60: 8 | Q60: 1 | R60: 1 | S60: 0 | T60: 1 | U60: 14 | V60: 1 | W60: 28
A61: Keelung City | B61: 男 Male | C61: 669 | D61: 514 | E61: 27 | F61: 0 | G61: 1 | H61: 1 | I61: 0 | J61: 33 | K61: 2 | L61: 0 | M61: 91 | N61: 23 | O61: 3 | P61: 7 | Q61: 0 | R61: 0 | S61: 0 | T61: 1 | U61: 11 | V61: 1 | W61: 0
B62: 女 Female | C62: 298 | D62: 215 | E62: 8 | F62: 0 | G62: 0 | H62: 0 | I62: 0 | J62: 25 | K62: 5 | L62: 0 | M62: 45 | N62: 6 | O62: 1 | P62: 1 | Q62: 1 | R62: 1 | S62: 0 | T62: 0 | U62: 3 | V62: 0 | W62: 0
A63: 新竹市 | B63: 計 Total | C63: 930 | D63: 582 | E63: 310 | F63: 0 | G63: 5 | H63: 0 | I63: 0 | J63: 1 | K63: 13 | L63: 0 | M63: 19 | N63: 224 | O63: 60 | P63: 54 | Q63: 0 | R63: 0 | S63: 0 | T63: 1 | U63: 106 | V63: 3 | W63: 50
A64: Hsinchu City | B64: 男 Male | C64: 573 | D64: 349 | E64: 188 | F64: 0 | G64: 5 | H64: 0 | I64: 0 | J64: 1 | K64: 13 | L64: 0 | M64: 17 | N64: 138 | O64: 24 | P64: 37 | Q64: 0 | R64: 0 | S64: 0 | T64: 1 | U64: 73 | V64: 3 | W64: 0
B65: 女 Female | C65: 357 | D65: 233 | E65: 122 | F65: 0 | G65: 0 | H65: 0 | I65: 0 | J65: 0 | K65: 0 | L65: 0 | M65: 2 | N65: 86 | O65: 36 | P65: 17 | Q65: 0 | R65: 0 | S65: 0 | T65: 0 | U65: 33 | V65: 0 | W65: 0
A66: 嘉義市 | B66: 計 Total | C66: 657 | D66: 632 | E66: 2 | F66: 0 | G66: 0 | H66: 0 | I66: 0 | J66: 18 | K66: 5 | L66: 0 | M66: 0 | N66: 37 | O66: 21 | P66: 4 | Q66: 2 | R66: 2 | S66: 0 | T66: 0 | U66: 10 | V66: 0 | W66: 37
A67: Chiayi City | B67: 男 Male | C67: 358 | D67: 342 | E67: 2 | F67: 0 | G67: 0 | H67: 0 | I67: 0 | J67: 10 | K67: 4 | L67: 0 | M67: 0 | N67: 21 | O67: 10 | P67: 4 | Q67: 1 | R67: 1 | S67: 0 | T67: 0 | U67: 6 | V67: 0 | W67: 0
B68: 女 Female | C68: 299 | D68: 290 | E68: 0 | F68: 0 | G68: 0 | H68: 0 | I68: 0 | J68: 8 | K68: 1 | L68: 0 | M68: 0 | N68: 16 | O68: 11 | P68: 0 | Q68: 1 | R68: 1 | S68: 0 | T68: 0 | U68: 4 | V68: 0 | W68: 0
A69: 金門縣 | B69: 計 Total | C69: 95 | D69: 91 | E69: 2 | F69: 0 | G69: 1 | H69: 0 | I69: 0 | J69: 0 | K69: 1 | L69: 0 | M69: 0 | N69: 14 | O69: 5 | P69: 0 | Q69: 8 | R69: 8 | S69: 0 | T69: 1 | U69: 0 | V69: 0 | W69: 14
A70: Kinmen County | B70: 男 Male | C70: 62 | D70: 60 | E70: 0 | F70: 0 | G70: 1 | H70: 0 | I70: 0 | J70: 0 | K70: 1 | L70: 0 | M70: 0 | N70: 6 | O70: 4 | P70: 0 | Q70: 2 | R70: 2 | S70: 0 | T70: 0 | U70: 0 | V70: 0 | W70: 0
B71: 女 Female | C71: 33 | D71: 31 | E71: 2 | F71: 0 | G71: 0 | H71: 0 | I71: 0 | J71: 0 | K71: 0 | L71: 0 | M71: 0 | N71: 8 | O71: 1 | P71: 0 | Q71: 6 | R71: 6 | S71: 0 | T71: 1 | U71: 0 | V71: 0 | W71: 0
A72: 連江縣 | B72: 計 Total | C72: 9 | D72: 4 | E72: 1 | F72: 0 | G72: 2 | H72: 0 | I72: 1 | J72: 0 | K72: 0 | L72: 0 | M72: 1 | N72: 4 | O72: 0 | P72: 0 | Q72: 4 | R72: 0 | S72: 4 | T72: 0 | U72: 0 | V72: 0 | W72: 4
A73: Lienchiang County | B73: 男 Male | C73: 0 | D73: 0 | E73: 0 | F73: 0 | G73: 0 | H73: 0 | I73: 0 | J73: 0 | K73: 0 | L73: 0 | M73: 0 | N73: 0 | O73: 0 | P73: 0 | Q73: 0 | R73: 0 | S73: 0 | T73: 0 | U73: 0 | V73: 0 | W73: 0
B74: 女 Female | C74: 9 | D74: 4 | E74: 1 | F74: 0 | G74: 2 | H74: 0 | I74: 1 | J74: 0 | K74: 0 | L74: 0 | M74: 1 | N74: 4 | O74: 0 | P74: 0 | Q74: 4 | R74: 0 | S74: 4 | T74: 0 | U74: 0 | V74: 0 | W74: 0
A75: 資料來源：直轄市、縣(市)政府。
A76: 說明：為避免與家庭暴力重複計算，自109年起督請各縣(市)明確依填報定義，將直系血親卑親屬對尊親屬「虐待」納入「家庭暴力事件通報表」統計，並排除分派至社會福利服務中心之非保護案件。
A77: Source : Social and Family Affairs Administration, MOHW and County and City Government.
A78: 更新日期：2021/03/31

Sheet 歷年 (87年-108年)
A1: 老人保護概況 Protection for the Aged
A2: 民國87-108年
A3: 年別 | C3: 通報專線 | E3: 遺棄 | G3: 虐待 | I3: 疏忽
C4: 專線電話數(線) | D4: 受服務人次(人次) | E4: 人數 | F4: 服務人次 | G4: 人數 | H4: 服務人次 | I4: 人數 | J4: 服務人次
A5: 87年,1998 | C5: 46 | D5: 10062 | E5: ... | F5: ... | G5: ... | H5: ... | I5: ... | J5: ...
A6: 88年,1999 | C6: 63 | D6: 7058 | E6: 112 | F6: 785 | G6: 241 | H6: 1523 | I6: 627 | J6: 2628
A7: 89年,2000 | C7: 67 | D7: 9144 | E7: 137 | F7: 1702 | G7: 225 | H7: 912 | I7: 392 | J7: 1585
A8: 90年,2001 | C8: 69 | D8: 13683 | E8: 96 | F8: 2035 | G8: 149 | H8: 957 | I8: 201 | J8: 663
A9: 91年,2002 | C9: 64 | D9: 12972 | E9: 84 | F9: 384 | G9: 189 | H9: 868 | I9: 238 | J9: 432
A11: 年別 | C11: 通報專線 | G11: 緊急通報點 | K11: 法津訴訟及諮詢 | O11: 驗傷醫療 | S11: 個案輔導 | W11: 個案追蹤輔導訪視 | AA11: 問安電話 | AE11: 委託安置 | AI11: 遺棄 | AM11: 虐待 | AQ11: 疏忽 | AU11: 其他
C12: Service Lines | G12: Service Spots | K12: Litigation of Law and Counselling | O12: Medical Checkup and Treatment | S12: Specific Assistance | W12: Specific Assistance Followed | AA12: Call Inquired for Health | AE12: Committed Settling | AI12: Abandoned | AM12: Mistreatness | AQ12: Carelessness | AU12: Others
C13: 專線數(線) | D13: 受服務人次(人次) | G13: 通報點數(處) | H13: 受服務人次(人次) | K13: 受服務人數 (人) | N13: 受服務人次 | O13: 受服務人數 (人) | R13: 受服務人次 | S13: 受服務人數 (人) | V13: 受服務人次 | W13: 受服務人數 (人) | Z13: 受服務人次 | AA13: 受服務人數 (人) | AD13: 受服務人次 | AE13: 受服務人數 (人) | AH13: 受服務人次 | AI13: 受服務人數 (人) | AL13: 受服務人次 | AM13: 受服務人數 (人) | AP13: 受服務人次 | AQ13: 受服務人數 (人) | AT13: 受服務人次 | AU13: 受服務人數 (人) | AX13: 受服務人次
D14: Persons Serviced (Person-Times) | H14: Persons Serviced (Person-Times) | K14: Persons Serviced (Persons) | O14: Persons Serviced (Persons) | S14: Persons Serviced (Persons) | W14: Persons Serviced (Persons) | AA14: Persons Serviced (Persons) | AE14: Persons Serviced (Persons) | AI14: Persons Serviced (Persons) | AM14: Persons Serviced (Persons) | AQ14: Persons Serviced (Persons) | AU14: Persons Serviced (Persons)
C15: No. of Lines | D15: 合計 | E15: 男 | F15: 女 | G15: Spots (Places) | H15: 合計 | I15: 男 | J15: 女 | K15: 合計 | L15: 男 | M15: 女 | O15: 合計 | P15: 男 | Q15: 女 | S15: 合計 | T15: 男 | U15: 女 | W15: 合計 | X15: 男 | Y15: 女 | AA15: 合計 | AB15: 男 | AC15: 女 | AE15: 合計 | AF15: 男 | AG15: 女 | AI15: 合計 | AJ15: 男 | AK15: 女 | AM15: 合計 | AN15: 男 | AO15: 女 | AQ15: 合計 | AR15: 男 | AS15: 女 | AU15: 合計 | AV15: 男 | AW15: 女
D17: Total | E17: Male | F17: Female | H17: Total | I17: Male | J17: Female | K17: Total | L17: Male | M17: Female | N17: Service Person-times | O17: Total | P17: Male | Q17: Female | R17: Service Person-times | S17: Total | T17: Male | U17: Female | V17: Service Person-times | W17: Total | X17: Male | Y17: Female | Z17: Service Person-times | AA17: Total | AB17: Male | AC17: Female | AD17: Service Person-times | AE17: Total | AF17: Male | AG17: Female | AH17: Service Person-times | AI17: Total | AJ17: Male | AK17: Female | AL17: Service Person-times | AM17: Total | AN17: Male | AO17: Female | AP17: Service Person-times | AQ17: Total | AR17: Male | AS17: Female | AT17: Service Person-times | AU17: Total | AV17: Male | AW17: Female | AX17: Service Person-times
A19: 92年, 2003 | C19: 65 | D19: 10162 | E19: 5363 | F19: 4799 | G19: 579 | H19: 9270 | I19: 4709 | J19: 4561 | K19: 452 | L19: 219 | M19: 233 | N19: 1181 | O19: 195 | P19: 92 | Q19: 103 | R19: 217 | S19: 844 | T19: 402 | U19: 442 | V19: 2771 | W19: 1478 | X19: 708 | Y19: 770 | Z19: 3454 | AA19: 9878 | AB19: 5292 | AC19: 4586 | AD19: 76311 | AE19: 387 | AF19: 207 | AG19: 173 | AH19: 1225 | AI19: 127 | AJ19: 60 | AK19: 67 | AL19: 463 | AM19: 234 | AN19: 118 | AO19: 116 | AP19: 910 | AQ19: 119 | AR19: 58 | AS19: 61 | AT19: 328 | AU19: ... | AV19: ... | AW19: ... | AX19: ...
A20: 93年, 2004 | C20: ='93'!C11 -> 69 | D20: ='93'!D11 -> 6741 | E20: ='93'!E11 -> 3382 | F20: ='93'!F11 -> 3359 | G20: ='93'!G11 -> 547 | H20: ='93'!H11 -> 5961 | I20: ='93'!I11 -> 2947 | J20: ='93'!J11 -> 3014 | ... AT20: ='93'!AT11 -> 1940 | AU20: ... | AV20: ... | AW20: ... | AX20: ...
A21: 94年, 2005 | C21: 69 | D21: 6220 | E21: 3174 | F21: 3046 | G21: 514 | H21: 4239 | I21: 2212 | J21: 2027 | K21: 671 | L21: 324 | M21: 347 | N21: 893 | O21: 171 | P21: 85 | Q21: 86 | R21: 254 | S21: 1982 | T21: 943 | U21: 1039 | V21: 4401 | W21: 1273 | X21: 620 | Y21: 653 | Z21: 4014 | AA21: 4101 | AB21: 2290 | AC21: 1811 | AD21: 13583 | AE21: 212 | AF21: 123 | AG21: 89 | AH21: 667 | AI21: 152 | AJ21: 89 | AK21: 63 | AL21: 989 | AM21: 815 | AN21: 355 | AO21: 460 | AP21: 2858 | AQ21: 415 | AR21: 219 | AS21: 196 | AT21: 1242 | AU21: ... | AV21: ... | AW21: ... | AX21: ...
A22: 95年,2006 | C22: 72 | D22: 5669 | E22: 2556 | F22: 3113 | G22: 333 | H22: 3819 | I22: 1882 | J22: 1937 | K22: 691 | L22: 312 | M22: 379 | N22: 1306 | O22: 121 | P22: 64 | Q22: 57 | R22: 142 | S22: 1432 | T22: 682 | U22: 750 | V22: 2820 | W22: 1360 | X22: 666 | Y22: 694 | Z22: 3404 | AA22: 3208 | AB22: 1745 | AC22: 1463 | AD22: 7163 | AE22: 246 | AF22: 151 | AG22: 95 | AH22: 484 | AI22: 256 | AJ22: 143 | AK22: 113 | AL22: 1589 | AM22: 647 | AN22: 273 | AO22: 374 | AP22: 3165 | AQ22: 346 | AR22: 192 | AS22: 154 | AT22: 1081 | AU22: 755 | AV22: 368 | AW22: 387 | AX22: 1104
A23: 96年, 2007 | C23: 73 | D23: 5366 | E23: 2620 | F23: 2746 | G23: 330 | H23: 3963 | I23: 2060 | J23: 1903 | K23: 857 | L23: 444 | M23: 413 | N23: 1450 | O23: 157 | P23: 83 | Q23: 74 | R23: 231 | S23: 1648 | T23: 868 | U23: 780 | V23: 3614 | W23: 1958 | X23: 959 | Y23: 999 | Z23: 5094 | AA23: 3007 | AB23: 1433 | AC23: 1574 | AD23: 7625 | AE23: 404 | AF23: 260 | AG23: 144 | AH23: 687 | AI23: 296 | AJ23: 169 | AK23: 127 | AL23: 2196 | AM23: 1289 | AN23: 609 | AO23: 680 | AP23: 5395 | AQ23: 396 | AR23: 191 | AS23: 205 | AT23: 970 | AU23: 340 | AV23: 175 | AW23: 165 | AX23: 507
A24: 97年, 2008 | C24: 59 | D24: 4911 | E24: 2404 | F24: 2507 | G24: 318 | H24: 3925 | I24: 1987 | J24: 1938 | K24: 1149 | L24: 590 | M24: 559 | N24: 2123 | O24: 160 | P24: 68 | Q24: 92 | R24: 218 | S24: 2230 | T24: 1058 | U24: 1172 | V24: 4528 | W24: 2716 | X24: 1274 | Y24: 1442 | Z24: 5963 | AA24: 3394 | AB24: 1634 | AC24: 1760 | AD24: 6796 | AE24: 460 | AF24: 293 | AG24: 167 | AH24: 781 | AI24: 423 | AJ24: 257 | AK24: 166 | AL24: 1971 | AM24: 1867 | AN24: 840 | AO24: 1027 | AP24: 7059 | AQ24: 380 | AR24: 173 | AS24: 207 | AT24: 1358 | AU24: 397 | AV24: 207 | AW24: 190 | AX24: 899
A26: 年別 | C26: 通報專線 | G26: 緊急通報點 | K26: 保護服務項目 Protection Items | AU26: 受虐型態 (Mistreatness Type)
K27: 法津訴訟及諮詢 | Q27: 驗傷醫療 | W27: 個案輔導 | AC27: 個案追蹤輔導訪視 | AI27: 問安電話 | AO27: 委託安置 | AU27: 遺棄 | BA27: 虐待 | BG27: 疏忽 | BM27: 其他
C28: Service Lines | G28: Service Spots | K28: Litigation of Law and Counselling | Q28: Medical Checkup and Treatment | W28: Specific Assistance | AC28: Specific Assistance Followed | AI28: Call Inquired for Health | AO28: Committed Settling | AU28: Abandoned | BA28: Mistreatness | BG28: Carelessness | BM28: Others
C29: 專線電話數(線) | D29: 受服務人次(人次) | G29: 通報點數(處) | H29: 受服務人次(人次) | K29: 受服務人數 (人) | P29: 受服務人次 | Q29: 受服務人數 (人) | V29: 受服務人次 | W29: 受服務人數 (人) | AB29: 受服務人次 | AC29: 受服務人數 (人) | AH29: 受服務人次 | AI29: 受服務人數 (人) | AN29: 受服務人次 | AO29: 受服務人數 (人) | AT29: 受服務人次 | AU29: 受服務人數 (人) | AZ29: 受服務人次 | BA29: 受服務人數 (人) | BF29: 受服務人次 | BG29: 受服務人數 (人) | BL29: 受服務人次 | BM29: 受服務人數 (人) | BR29: 受服務人次
D30: Persons Serviced (Person-Times) | H30: Persons Serviced (Person-Times) | K30: Persons Serviced (Persons) | Q30: Persons Serviced (Persons) | W30: Persons Serviced (Persons) | AC30: Persons Serviced (Persons) | AI30: Persons Serviced (Persons) | AO30: Persons Serviced (Persons) | AU30: Persons Serviced (Persons) | BA30: Persons Serviced (Persons) | BG30: Persons Serviced (Persons) | BM30: Persons Serviced (Persons)
C31: No. of Lines | D31: 合計 | E31: 男 | F31: 女 | G31: Spots (Places) | H31: 合計 | I31: 男 | J31: 女 | K31: 合計 | L31: 一般 | N31: 原住民 | Q31: 合計 | R31: 一般 | T31: 原住民 | W31: 合計 | X31: 一般 | Z31: 原住民 | AC31: 合計 | AD31: 一般 | AF31: 原住民 | AI31: 合計 | AJ31: 一般 | AL31: 原住民 | AO31: 合計 | AP31: 一般 | AR31: 原住民 | AU31: 合計 | AV31: 一般 | AX31: 原住民 | BA31: 合計 | BB31: 一般 | BD31: 原住民 | BG31: 合計 | BH31: 一般 | BJ31: 原住民 | BM31: 合計 | BN31: 一般 | BP31: 原住民
L32: General | N32: Indigenous | R32: General | T32: Indigenous | X32: General | Z32: Indigenous | AD32: General | AF32: Indigenous | AJ32: General | AL32: Indigenous | AP32: General | AR32: Indigenous | AV32: General | AX32: Indigenous | BB32: General | BD32: Indigenous | BH32: General | BJ32: Indigenous | BN32: General | BP32: Indigenous
D33: Total | E33: Male | F33: Female | H33: Total | I33: Male | J33: Female | K33: Total | L33: 男 | M33: 女 | N33: 男 | O33: 女 | P33: Service Person-times | Q33: Total | R33: 男 | S33: 女 | T33: 男 | U33: 女 | V33: Service Person-times | W33: Total | X33: 男 | Y33: 女 | Z33: 男 | AA33: 女 | AB33: Service Person-times | AC33: Total | AD33: 男 | AE33: 女 | AF33: 男 | AG33: 女 | AH33: Service Person-times | AI33: Total | AJ33: 男 | AK33: 女 | AL33: 男 | AM33: 女 | AN33: Service Person-times | AO33: Total | AP33: 男 | AQ33: 女 | AR33: 男 | AS33: 女 | AT33: Service Person-times | AU33: Total | AV33: 男 | AW33: 女 | AX33: 男 | AY33: 女 | AZ33: Service Person-times | BA33: Total | BB33: 男 | BC33: 女 | BD33: 男 | BE33: 女 | BF33: Service Person-times | BG33: Total | BH33: 男 | BI33: 女 | BJ33: 男 | BK33: 女 | BL33: Service Person-times | BM33: Total | BN33: 男 | BO33: 女 | BP33: 男 | BQ33: 女 | BR33: Service Person-times
L34: Male | M34: Female | N34: Male | O34: Female | R34: Male | S34: Female | T34: Male | U34: Female | X34: Male | Y34: Female | Z34: Male | AA34: Female | AD34: Male | AE34: Female | AF34: Male | AG34: Female | AJ34: Male | AK34: Female | AL34: Male | AM34: Female | AP34: Male | AQ34: Female | AR34: Male | AS34: Female | AV34: Male | AW34: Female | AX34: Male | AY34: Female | BB34: Male | BC34: Female | BD34: Male | BE34: Female | BH34: Male | BI34: Female | BJ34: Male | BK34: Female | BN34: Male | BO34: Female | BP34: Male | BQ34: Female
A35: 98年,2009 | C35: 72 | D35: 4453 | E35: 2215 | F35: 2238 | G35: 309 | H35: 5021 | I35: 2632 | J35: 2389 | K35: 1037 | L35: 502 | M35: 519 | N35: 8 | O35: 8 | P35: 2242 | Q35: 210 | R35: 88 | S35: 113 | T35: 1 | U35: 8 | V35: 346 | W35: 1966 | X35: 878 | Y35: 1059 | Z35: 15 | AA35: 14 | AB35: 4812 | AC35: 2727 | AD35: 1399 | AE35: 1303 | AF35: 14 | AG35: 11 | AH35: 6741 | AI35: 1421 | AJ35: 732 | AK35: 685 | AL35: 4 | AM35: 0 | AN35: 5065 | AO35: 550 | AP35: 349 | AQ35: 193 | AR35: 4 | AS35: 4 | AT35: 1199 | AU35: 302 | AV35: 183 | AW35: 116 | AX35: 1 | AY35: 2 | AZ35: 2043 | BA35: 1353 | BB35: 625 | BC35: 696 | BD35: 15 | BE35: 17 | BF35: 6289 | BG35: 487 | BH35: 252 | BI35: 233 | BJ35: 2 | BK35: 0 | BL35: 1495 | BM35: 662 | BN35: 346 | BO35: 314 | BP35: 0 | BQ35: 2 | BR35: 1165
A36: 99年,2010 | C36: 75 | D36: 5958 | E36: 3033 | F36: 2925 | G36: 334 | H36: 7214 | I36: 3871 | J36: 3343 | K36: 1154 | L36: 591 | M36: 540 | N36: 11 | O36: 12 | P36: 2200 | Q36: 270 | R36: 130 | S36: 139 | T36: 0 | U36: 1 | V36: 369 | W36: 2716 | X36: 1420 | Y36: 1268 | Z36: 9 | AA36: 19 | AB36: 7510 | AC36: 3556 | AD36: 1734 | AE36: 1775 | AF36: 28 | AG36: 19 | AH36: 8920 | AI36: 1734 | AJ36: 845 | AK36: 855 | AL36: 12 | AM36: 22 | AN36: 4539 | AO36: 530 | AP36: 362 | AQ36: 152 | AR36: 12 | AS36: 4 | AT36: 1360 | AU36: 396 | AV36: 240 | AW36: 143 | AX36: 8 | AY36: 5 | AZ36: 1964 | BA36: 1819 | BB36: 780 | BC36: 1024 | BD36: 4 | BE36: 11 | BF36: 7324 | BG36: 515 | BH36: 241 | BI36: 259 | BJ36: 7 | BK36: 8 | BL36: 1918 | BM36: 800 | BN36: 453 | BO36: 333 | BP36: 8 | BQ36: 6 | BR36: 3404
A38: 年別 | C38: 通報專線 | G38: 緊急通報點 | K38: 保護服務項目 Protection Items
K39: 法津訴訟及諮詢 | Q39: 驗傷醫療 | W39: 個案輔導 | AC39: 個案追蹤輔導訪視 | AI39: 問安電話 | AO39: 保護安置 | AU39: 遺棄 | AZ39: 虐待 | BE39: 疏忽 | BJ39: 財務侵佔 | BO39: 失依陷困 | BT39: 其他
C40: Service Lines | G40: Service Spots | K40: Litigation of Law and Counselling | Q40: Medical Checkup and Treatment | W40: Specific Assistance | AC40: Specific Assistance Followed | AI40: Call Inquired for Health | AO40: Protection and Placement | AU40: Abandoned | AZ40: Mistreatness | BE40: Carelessness | BJ40: Financial Occupation | BO40: Non-support | BT40: Others
C41: 專線電話數(線) | D41: 受服務人次(人次) | G41: 通報點數(處) | H41: 受服務人次(人次) | K41: 受服務人數 (人) | P41: 受服務人次 | Q41: 受服務人數 (人) | V41: 受服務人次 | W41: 受服務人數 (人) | AB41: 受服務人次 | AC41: 受服務人數 (人) | AH41: 受服務人次 | AI41: 受服務人數 (人) | AN41: 受服務人次 | AO41: 受服務人數 (人) | AT41: 受服務人次 | AU41: 受服務人數 (人) | AZ41: 受服務人數 (人) | BE41: 受服務人數 (人) | BJ41: 受服務人數 (人) | BO41: 受服務人數 (人) | BT41: 受服務人數 (人)
D42: Persons Serviced (Person-Times) | H42: Persons Serviced (Person-Times) | K42: Persons Serviced (Persons) | Q42: Persons Serviced (Persons) | W42: Persons Serviced (Persons) | AC42: Persons Serviced (Persons) | AI42: Persons Serviced (Persons) | AO42: Persons Serviced (Persons) | AU42: Persons Serviced (Persons) | AZ42: Persons Serviced (Persons) | BE42: Persons Serviced (Persons) | BJ42: Persons Serviced (Persons) | BO42: Persons Serviced (Persons) | BT42: Persons Serviced (Persons)
C43: No. of Lines | D43: 合計 | E43: 男 | F43: 女 | G43: Spots (Places) | H43: 合計 | I43: 男 | J43: 女 | K43: 合計 | L43: 一般 | N43: 原住民 | Q43: 合計 | R43: 一般 | T43: 原住民 | W43: 合計 | X43: 一般 | Z43: 原住民 | AC43: 合計 | AD43: 一般 | AF43: 原住民 | AI43: 合計 | AJ43: 一般 | AL43: 原住民 | AO43: 合計 | AP43: 一般 | AR43: 原住民 | AU43: 合計 | AV43: 一般 | AX43: 原住民 | AZ43: 合計 | BA43: 一般 | BC43: 原住民 | BE43: 合計 | BF43: 一般 | BH43: 原住民 | BJ43: 合計 | BK43: 一般 | BM43: 原住民 | BO43: 合計 | BP43: 一般 | BR43: 原住民 | BT43: 合計 | BU43: 一般 | BW43: 原住民
L44: General | N44: Indigenous | R44: General | T44: Indigenous | X44: General | Z44: Indigenous | AD44: General | AF44: Indigenous | AJ44: General | AL44: Indigenous | AP44: General | AR44: Indigenous | AV44: General | AX44: Indigenous | BA44: General | BC44: Indigenous | BF44: General | BH44: Indigenous | BK44: General | BM44: Indigenous | BP44: General | BR44: Indigenous | BU44: General | BW44: Indigenous
D45: Total | E45: Male | F45: Female | H45: Total | I45: Male | J45: Female | K45: Total | L45: 男 | M45: 女 | N45: 男 | O45: 女 | P45: Service Person-times | Q45: Total | R45: 男 | S45: 女 | T45: 男 | U45: 女 | V45: Service Person-times | W45: Total | X45: 男 | Y45: 女 | Z45: 男 | AA45: 女 | AB45: Service Person-times | AC45: Total | AD45: 男 | AE45: 女 | AF45: 男 | AG45: 女 | AH45: Service Person-times | AI45: Total | AJ45: 男 | AK45: 女 | AL45: 男 | AM45: 女 | AN45: Service Person-times | AO45: Total | AP45: 男 | AQ45: 女 | AR45: 男 | AS45: 女 | AT45: Service Person-times | AU45: Total | AV45: 男 | AW45: 女 | AX45: 男 | AY45: 女 | AZ45: Total | BA45: 男 | BB45: 女 | BC45: 男 | BD45: 女 | BE45: Total | BF45: 男 | BG45: 女 | BH45: 男 | BI45: 女 | BJ45: Total | BK45: 男 | BL45: 女 | BM45: 男 | BN45: 女 | BO45: Total | BP45: 男 | BQ45: 女 | BR45: 男 | BS45: 女 | BT45: Total | BU45: 男 | BV45: 女 | BW45: 男 | BX45: 女
L46: Male | M46: Female | N46: Male | O46: Female | R46: Male | S46: Female | T46: Male | U46: Female | X46: Male | Y46: Female | Z46: Male | AA46: Female | AD46: Male | AE46: Female | AF46: Male | AG46: Female | AJ46: Male | AK46: Female | AL46: Male | AM46: Female | AP46: Male | AQ46: Female | AR46: Male | AS46: Female | AV46: Male | AW46: Female | AX46: Male | AY46: Female | BA46: Male | BB46: Female | BC46: Male | BD46: Female | BF46: Male | BG46: Female | BH46: Male | BI46: Female | BK46: Male | BL46: Female | BM46: Male | BN46: Female | BP46: Male | BQ46: Female | BR46: Male | BS46: Female | BU46: Male | BV46: Female | BW46: Male | BX46: Female
A47: 100年, 2011 | C47: ='100'!C12 -> 51 | D47: ='100'!D12 -> 7256 | E47: ='100'!E12 -> 3794 | F47: ='100'!F12 -> 3462 | G47: ='100'!G12 -> 328 | H47: ='100'!H12 -> 12961 | I47: ='100'!I12 -> 7260 | J47: ='100'!J12 -> 5701 | ... BX47: ='100'!BX12 -> 1
A48: 101年, 2012 | C48: ='101'!C12 -> 43 | D48: ='101'!D12 -> 4833 | E48: ='101'!E12 -> 2246 | F48: ='101'!F12 -> 2587 | G48: ='101'!G12 -> 337 | H48: ='101'!H12 -> 7952 | I48: ='101'!I12 -> 4056 | J48: ='101'!J12 -> 3896 | ... BX48: ='101'!BX12 -> 11
A49: 102年, 2013 | C49: ='102'!C12 -> 35 | D49: ='102'!D12 -> 6063 | E49: ='102'!E12 -> 2937 | F49: ='102'!F12 -> 3126 | G49: ='102'!G12 -> 336 | H49: ='102'!H12 -> 8903 | I49: ='102'!I12 -> 4212 | J49: ='102'!J12 -> 4691 | ... BX49: ='102'!BX12 -> 2
A50: 103年,2014 | C50: ='103'!C12 -> 53 | D50: ='103'!D12 -> 5551 | E50: ='103'!E12 -> 2708 | F50: ='103'!F12 -> 2843 | G50: ='103'!G12 -> 330 | H50: ='103'!H12 -> 10360 | I50: ='103'!I12 -> 5115 | J50: ='103'!J12 -> 5245 | ... BX50: ='103'!BX12 -> 7
A51: 104年,2015 | C51: ='104'!C12 -> 49 | D51: ='104'!D12 -> 6259 | E51: ='104'!E12 -> 2898 | F51: ='104'!F12 -> 3361 | G51: ='104'!G12 -> 381 | H51: ='104'!H12 -> 6550 | I51: ='104'!I12 -> 3473 | J51: ='104'!J12 -> 3077 | ... BX51: ='104'!BX12 -> 15
A52: 105年,2016 | C52: ='105'!C12 -> 44 | D52: ='105'!D12 -> 5464 | E52: ='105'!E12 -> 2473 | F52: ='105'!F12 -> 2991 | G52: ='105'!G12 -> 348 | H52: ='105'!H12 -> 8800 | I52: ='105'!I12 -> 4550 | J52: ='105'!J12 -> 4250 | ... BX52: ='105'!BX12 -> 10
A54: 年別 Locality and Sex | C54: 老人保護扶助人次（複選；人次）Number of Senior Citizens Receiving Protection and Assistance | N54: 老人保護類型（複選；人次）Types of Elderly Protection | W54: 老人保護通報案件數(件) Number of Cases Reported for Elderly Protection
C55: 總計 Total | D55: 諮詢協談Counseling | E55: 保護安置Protection and Placement | F55: 陪同報案偵詢(訊)Accompanying the Parties Concerned During Case Reporting and Interrogation/Investigation | G55: 陪同出庭Accompanying the Parties Concerned to Appear before Court | H55: 驗傷診療Medical Examinations and Diagnoses | I55: 聲請保護令Petition for a Protection Order | J55: 經濟扶助Financial Aid | K55: 法律扶助Legal Aid | L55: 通譯服務Interpreting Services | M55: 其他扶助 Others | N55: 總計 Total | O55: 疏忽 Carelessness | P55: 遺棄 Abandoned | Q55: 身心虐待Mistreatness | T55: 財產侵占/搾取Misappropriation/Exploitation of Property | U55: 無人扶養Lack of Support | V55: 其他 Others
Q56: 合計 SubTotal | R56: 身體虐待 Physical Abuse | S56: 精神虐待Psychological Abuse
A57: 106年,2017 | C57: ='106'!C6 -> 69584 | D57: ='106'!D6 -> 55934 | E57: ='106'!E6 -> 3524 | F57: ='106'!F6 -> 317 | G57: ='106'!G6 -> 501 | H57: ='106'!H6 -> 421 | I57: ='106'!I6 -> 149 | J57: ='106'!J6 -> 1712 | ... S57: ='106'!S6 -> 2363 | T57: ='106'!U6 -> 94 | U57: ='106'!V6 -> 2559 | V57: ='106'!W6 -> 628 | W57: ='106'!X6 -> 7697
A58: 107年,2018 | C58: ='107'!C6 -> 65028 | D58: ='107'!D6 -> 48516 | E58: ='107'!E6 -> 8035 | F58: ='107'!F6 -> 20 | G58: ='107'!G6 -> 318 | H58: ='107'!H6 -> 183 | I58: ='107'!I6 -> 103 | J58: ='107'!J6 -> 1640 | ... W58: ='107'!W6 -> 6022
A59: 108年,2019 | C59: ='108'!C6 -> 68142 | D59: ='108'!D6 -> 49858 | E59: ='108'!E6 -> 8982 | F59: ='108'!F6 -> 30 | G59: ='108'!G6 -> 325 | H59: ='108'!H6 -> 59 | I59: ='108'!I6 -> 111 | J59: ='108'!J6 -> 1830 | ... W59: ='108'!W6 -> 6031
A60: 資料來源：直轄市、縣(市)政府。
A61: 說明：「委託安置」自102年起修正名稱為「保護安置」。
A62: Source : Social and Family Affairs Administration, MOHW and County and City Government.

Sheet 108
A1: 老人保護概況 Protection for the Aged
A2: 民國108年,2019 | C2: =IF(C6=SUM(C9,C12,C15,C18,C21,C24,C27,C30,C33,C36,C39,C42,C45,C48,C51,C54,C57,C60,C63,C66,C69,C72),"","*") | D2: =IF(D6=SUM(D9,D12,D15,D18,D21,D24,D27,D30,D33,D36,D39,D42,D45,D48,D51,D54,D57,D60,D63,D66,D69,D72),"","*") | E2: =IF(E6=SUM(E9,E12,E15,E18,E21,E24,E27,E30,E33,E36,E39,E42,E45,E48,E51,E54,E57,E60,E63,E66,E69,E72),"","*") | F2: =IF(F6=SUM(F9,F12,F15,F18,F21,F24,F27,F30,F33,F36,F39,F42,F45,F48,F51,F54,F57,F60,F63,F66,F69,F72),"","*") | G2: =IF(G6=SUM(G9,G12,G15,G18,G21,G24,G27,G30,G33,G36,G39,G42,G45,G48,G51,G54,G57,G60,G63,G66,G69,G72),"","*") | H2: =IF(H6=SUM(H9,H12,H15,H18,H21,H24,H27,H30,H33,H36,H39,H42,H45,H48,H51,H54,H57,H60,H63,H66,H69,H72),"","*") | I2: =IF(I6=SUM(I9,I12,I15,I18,I21,I24,I27,I30,I33,I36,I39,I42,I45,I48,I51,I54,I57,I60,I63,I66,I69,I72),"","*") | J2: =IF(J6=SUM(J9,J12,J15,J18,J21,J24,J27,J30,J33,J36,J39,J42,J45,J48,J51,J54,J57,J60,J63,J66,J69,J72),"","*") | ... W2: =IF(W6=SUM(W9,W12,W15,W18,W21,W24,W27,W30,W33,W36,W39,W42,W45,W48,W51,W54,W57,W60,W63,W66,W69,W72),"","*")
A3: 區域別及性別 Locality and Sex | C3: 老人保護扶助人次（複選；人次）Number of Senior Citizens Receiving Protection and Assistance | N3: 老人保護類型（複選；人次）Types of Elderly Protection | W3: 老人保護通報案件數(件) Number of Cases Reported for Elderly Protection
C4: 總計 Total | D4: 諮詢協談Counseling | E4: 保護安置Protection and Placement | F4: 陪同報案偵詢(訊)Accompanying the Parties Concerned During Case Reporting and Interrogation/Investigation | G4: 陪同出庭Accompanying the Parties Concerned to Appear before Court | H4: 驗傷診療Medical Examinations and Diagnoses | I4: 聲請保護令Petition for a Protection Order | J4: 經濟扶助Financial Aid | K4: 法律扶助Legal Aid | L4: 通譯服務Interpreting Services | M4: 其他扶助 Others | N4: 總計 Total | O4: 疏忽 Carelessness | P4: 遺棄 Abandoned | Q4: 身心虐待Mistreatness | T4: 財產侵占/搾取Misappropriation/Exploitation of Property | U4: 無人扶養Lack of Support | V4: 其他 Others
Q5: 合計 SubTotal | R5: 身體虐待 Physical Abuse | S5: 精神虐待Psychological Abuse
A6: 總計 | B6: 合計 SubTotal | C6: 68142 | D6: 49858 | E6: 8982 | F6: 30 | G6: 325 | H6: 59 | I6: 111 | J6: 1830 | K6: 939 | L6: 1 | M6: 6007 | N6: 10729 | O6: 895 | P6: 1426 | Q6: 2099 | R6: 1073 | S6: 1026 | T6: 28 | U6: 5616 | V6: 665 | W6: 6031
A7: Total | B7: 男Male | C7: 38559 | D7: 27317 | E7: 6226 | F7: 10 | G7: 147 | H7: 29 | I7: 48 | J7: 1202 | K7: 442 | L7: 1 | M7: 3137 | N7: 6381 | O7: 450 | P7: 930 | Q7: 775 | R7: 391 | S7: 384 | T7: 8 | U7: 3863 | V7: 355 | W7: 0
B8: 女Female | C8: 29583 | D8: 22541 | E8: 2756 | F8: 20 | G8: 178 | H8: 30 | I8: 63 | J8: 628 | K8: 497 | L8: 0 | M8: 2870 | N8: 4348 | O8: 445 | P8: 496 | Q8: 1324 | R8: 682 | S8: 642 | T8: 20 | U8: 1753 | V8: 310 | W8: 0
A9: 新北市 | B9: 計 Total | C9: 2921 | D9: 705 | E9: 1660 | F9: 1 | G9: 19 | H9: 2 | I9: 0 | J9: 236 | K9: 30 | L9: 0 | M9: 268 | N9: 1639 | O9: 124 | P9: 830 | Q9: 0 | R9: 0 | S9: 0 | T9: 0 | U9: 592 | V9: 93 | W9: 424
A10: New Taipei City | B10: 男 Male | C10: 1938 | D10: 498 | E10: 1069 | F10: 1 | G10: 11 | H10: 2 | I10: 0 | J10: 173 | K10: 19 | L10: 0 | M10: 165 | N10: 1041 | O10: 70 | P10: 501 | Q10: 0 | R10: 0 | S10: 0 | T10: 0 | U10: 416 | V10: 54 | W10: 0
B11: 女 Female | C11: 983 | D11: 207 | E11: 591 | F11: 0 | G11: 8 | H11: 0 | I11: 0 | J11: 63 | K11: 11 | L11: 0 | M11: 103 | N11: 598 | O11: 54 | P11: 329 | Q11: 0 | R11: 0 | S11: 0 | T11: 0 | U11: 176 | V11: 39 | W11: 0
A12: 臺北市 | B12: 計 Total | C12: 7536 | D12: 4702 | E12: 367 | F12: 15 | G12: 65 | H12: 4 | I12: 24 | J12: 15 | K12: 227 | L12: 0 | M12: 2117 | N12: 499 | O12: 1 | P12: 13 | Q12: 452 | R12: 295 | S12: 157 | T12: 2 | U12: 0 | V12: 31 | W12: 1006
A13: Taipei City | B13: 男 Male | C13: 2284 | D13: 1359 | E13: 265 | F13: 4 | G13: 24 | H13: 0 | I13: 12 | J13: 8 | K13: 45 | L13: 0 | M13: 567 | N13: 169 | O13: 0 | P13: 4 | Q13: 158 | R13: 111 | S13: 47 | T13: 0 | U13: 0 | V13: 7 | W13: 0
B14: 女 Female | C14: 5252 | D14: 3343 | E14: 102 | F14: 11 | G14: 41 | H14: 4 | I14: 12 | J14: 7 | K14: 182 | L14: 0 | M14: 1550 | N14: 330 | O14: 1 | P14: 9 | Q14: 294 | R14: 184 | S14: 110 | T14: 2 | U14: 0 | V14: 24 | W14: 0
A15: 桃園市 | B15: 計 Total | C15: 2495 | D15: 1847 | E15: 436 | F15: 1 | G15: 2 | H15: 9 | I15: 0 | J15: 38 | K15: 69 | L15: 1 | M15: 92 | N15: 502 | O15: 107 | P15: 119 | Q15: 14 | R15: 12 | S15: 2 | T15: 0 | U15: 261 | V15: 1 | W15: 70
A16: Taoyuan City | B16: 男 Male | C16: 1596 | D16: 1127 | E16: 343 | F16: 1 | G16: 1 | H16: 4 | I16: 0 | J16: 22 | K16: 34 | L16: 1 | M16: 63 | N16: 289 | O16: 38 | P16: 98 | Q16: 4 | R16: 4 | S16: 0 | T16: 0 | U16: 148 | V16: 1 | W16: 0
B17: 女 Female | C17: 899 | D17: 720 | E17: 93 | F17: 0 | G17: 1 | H17: 5 | I17: 0 | J17: 16 | K17: 35 | L17: 0 | M17: 29 | N17: 213 | O17: 69 | P17: 21 | Q17: 10 | R17: 8 | S17: 2 | T17: 0 | U17: 113 | V17: 0 | W17: 0
A18: 臺中市 | B18: 計 Total | C18: 8298 | D18: 4033 | E18: 4156 | F18: 0 | G18: 12 | H18: 12 | I18: 0 | J18: 3 | K18: 5 | L18: 0 | M18: 77 | N18: 4104 | O18: 39 | P18: 58 | Q18: 36 | R18: 36 | S18: 0 | T18: 1 | U18: 3949 | V18: 21 | W18: 171
A19: Taichung City | B19: 男 Male | C19: 5328 | D19: 2410 | E19: 2852 | F19: 0 | G19: 8 | H19: 8 | I19: 0 | J19: 2 | K19: 4 | L19: 0 | M19: 44 | N19: 2788 | O19: 15 | P19: 41 | Q19: 14 | R19: 14 | S19: 0 | T19: 1 | U19: 2704 | V19: 13 | W19: 0
B20: 女 Female | C20: 2970 | D20: 1623 | E20: 1304 | F20: 0 | G20: 4 | H20: 4 | I20: 0 | J20: 1 | K20: 1 | L20: 0 | M20: 33 | N20: 1316 | O20: 24 | P20: 17 | Q20: 22 | R20: 22 | S20: 0 | T20: 0 | U20: 1245 | V20: 8 | W20: 0
A21: 臺南市 | B21: 計 Total | C21: 4223 | D21: 3546 | E21: 96 | F21: 0 | G21: 0 | H21: 0 | I21: 0 | J21: 77 | K21: 27 | L21: 0 | M21: 477 | N21: 787 | O21: 236 | P21: 97 | Q21: 0 | R21: 0 | S21: 0 | T21: 0 | U21: 202 | V21: 252 | W21: 836
A22: Tainan City | B22: 男 Male | C22: 2613 | D22: 2137 | E22: 77 | F22: 0 | G22: 0 | H22: 0 | I22: 0 | J22: 51 | K22: 18 | L22: 0 | M22: 330 | N22: 465 | O22: 137 | P22: 71 | Q22: 0 | R22: 0 | S22: 0 | T22: 0 | U22: 131 | V22: 126 | W22: 0
B23: 女 Female | C23: 1610 | D23: 1409 | E23: 19 | F23: 0 | G23: 0 | H23: 0 | I23: 0 | J23: 26 | K23: 9 | L23: 0 | M23: 147 | N23: 322 | O23: 99 | P23: 26 | Q23: 0 | R23: 0 | S23: 0 | T23: 0 | U23: 71 | V23: 126 | W23: 0
A24: 高雄市 | B24: 計 Total | C24: 22897 | D24: 18135 | E24: 1763 | F24: 7 | G24: 124 | H24: 10 | I24: 58 | J24: 867 | K24: 224 | L24: 0 | M24: 1709 | N24: 1835 | O24: 105 | P24: 58 | Q24: 1356 | R24: 607 | S24: 749 | T24: 2 | U24: 246 | V24: 68 | W24: 2327
A25: Kaohsiung City | B25: 男 Male | C25: 12890 | D25: 9710 | E25: 1269 | F25: 2 | G25: 45 | H25: 2 | I25: 26 | J25: 612 | K25: 108 | L25: 0 | M25: 1116 | N25: 848 | O25: 60 | P25: 37 | Q25: 507 | R25: 218 | S25: 289 | T25: 0 | U25: 205 | V25: 39 | W25: 0
B26: 女 Female | C26: 10007 | D26: 8425 | E26: 494 | F26: 5 | G26: 79 | H26: 8 | I26: 32 | J26: 255 | K26: 116 | L26: 0 | M26: 593 | N26: 987 | O26: 45 | P26: 21 | Q26: 849 | R26: 389 | S26: 460 | T26: 2 | U26: 41 | V26: 29 | W26: 0
A27: 宜蘭縣 | B27: 計 Total | C27: 613 | D27: 551 | E27: 12 | F27: 0 | G27: 0 | H27: 2 | I27: 0 | J27: 22 | K27: 1 | L27: 0 | M27: 25 | N27: 48 | O27: 15 | P27: 2 | Q27: 4 | R27: 4 | S27: 0 | T27: 1 | U27: 20 | V27: 6 | W27: 45
A28: Yilan County | B28: 男 Male | C28: 343 | D28: 311 | E28: 12 | F28: 0 | G28: 0 | H28: 2 | I28: 0 | J28: 6 | K28: 0 | L28: 0 | M28: 12 | N28: 28 | O28: 10 | P28: 1 | Q28: 2 | R28: 2 | S28: 0 | T28: 1 | U28: 10 | V28: 4 | W28: 0
B29: 女 Female | C29: 270 | D29: 240 | E29: 0 | F29: 0 | G29: 0 | H29: 0 | I29: 0 | J29: 16 | K29: 1 | L29: 0 | M29: 13 | N29: 20 | O29: 5 | P29: 1 | Q29: 2 | R29: 2 | S29: 0 | T29: 0 | U29: 10 | V29: 2 | W29: 0
A30: 新竹縣 | B30: 計 Total | C30: 869 | D30: 644 | E30: 46 | F30: 1 | G30: 20 | H30: 0 | I30: 0 | J30: 61 | K30: 21 | L30: 0 | M30: 76 | N30: 132 | O30: 33 | P30: 34 | Q30: 2 | R30: 1 | S30: 1 | T30: 2 | U30: 54 | V30: 7 | W30: 148
A31: Hsinchu County | B31: 男 Male | C31: 607 | D31: 438 | E31: 40 | F31: 0 | G31: 14 | H31: 0 | I31: 0 | J31: 47 | K31: 16 | L31: 0 | M31: 52 | N31: 98 | O31: 20 | P31: 28 | Q31: 2 | R31: 1 | S31: 1 | T31: 2 | U31: 42 | V31: 4 | W31: 0
B32: 女 Female | C32: 262 | D32: 206 | E32: 6 | F32: 1 | G32: 6 | H32: 0 | I32: 0 | J32: 14 | K32: 5 | L32: 0 | M32: 24 | N32: 34 | O32: 13 | P32: 6 | Q32: 0 | R32: 0 | S32: 0 | T32: 0 | U32: 12 | V32: 3 | W32: 0
A33: 苗栗縣 | B33: 計 Total | C33: 1236 | D33: 945 | E33: 85 | F33: 2 | G33: 1 | H33: 2 | I33: 0 | J33: 34 | K33: 7 | L33: 0 | M33: 160 | N33: 43 | O33: 10 | P33: 11 | Q33: 4 | R33: 4 | S33: 0 | T33: 1 | U33: 17 | V33: 0 | W33: 43
A34: Miaoli County | B34: 男 Male | C34: 902 | D34: 695 | E34: 61 | F34: 2 | G34: 1 | H34: 2 | I34: 0 | J34: 23 | K34: 7 | L34: 0 | M34: 111 | N34: 32 | O34: 6 | P34: 9 | Q34: 1 | R34: 1 | S34: 0 | T34: 1 | U34: 15 | V34: 0 | W34: 0
B35: 女 Female | C35: 334 | D35: 250 | E35: 24 | F35: 0 | G35: 0 | H35: 0 | I35: 0 | J35: 11 | K35: 0 | L35: 0 | M35: 49 | N35: 11 | O35: 4 | P35: 2 | Q35: 3 | R35: 3 | S35: 0 | T35: 0 | U35: 2 | V35: 0 | W35: 0
A36: 彰化縣 | B36: 計 Total | C36: 2705 | D36: 2234 | E36: 60 | F36: 0 | G36: 6 | H36: 0 | I36: 0 | J36: 44 | K36: 19 | L36: 0 | M36: 342 | N36: 135 | O36: 31 | P36: 29 | Q36: 13 | R36: 13 | S36: 0 | T36: 4 | U36: 46 | V36: 12 | W36: 133
A37: Changhua County | B37: 男 Male | C37: 1866 | D37: 1506 | E37: 43 | F37: 0 | G37: 5 | H37: 0 | I37: 0 | J37: 33 | K37: 13 | L37: 0 | M37: 266 | N37: 75 | O37: 13 | P37: 19 | Q37: 3 | R37: 3 | S37: 0 | T37: 2 | U37: 32 | V37: 6 | W37: 0
B38: 女 Female | C38: 839 | D38: 728 | E38: 17 | F38: 0 | G38: 1 | H38: 0 | I38: 0 | J38: 11 | K38: 6 | L38: 0 | M38: 76 | N38: 60 | O38: 18 | P38: 10 | Q38: 10 | R38: 10 | S38: 0 | T38: 2 | U38: 14 | V38: 6 | W38: 0
A39: 南投縣 | B39: 計 Total | C39: 2028 | D39: 1707 | E39: 16 | F39: 1 | G39: 22 | H39: 15 | I39: 6 | J39: 113 | K39: 109 | L39: 0 | M39: 39 | N39: 143 | O39: 16 | P39: 17 | Q39: 68 | R39: 35 | S39: 33 | T39: 1 | U39: 30 | V39: 11 | W39: 101
A40: Nantou County | B40: 男 Male | C40: 889 | D40: 726 | E40: 10 | F40: 0 | G40: 12 | H40: 8 | I40: 2 | J40: 56 | K40: 55 | L40: 0 | M40: 20 | N40: 76 | O40: 4 | P40: 12 | Q40: 29 | R40: 15 | S40: 14 | T40: 0 | U40: 26 | V40: 5 | W40: 0
B41: 女 Female | C41: 1139 | D41: 981 | E41: 6 | F41: 1 | G41: 10 | H41: 7 | I41: 4 | J41: 57 | K41: 54 | L41: 0 | M41: 19 | N41: 67 | O41: 12 | P41: 5 | Q41: 39 | R41: 20 | S41: 19 | T41: 1 | U41: 4 | V41: 6 | W41: 0
A42: 雲林縣 | B42: 計 Total | C42: 768 | D42: 614 | E42: 11 | F42: 0 | G42: 3 | H42: 0 | I42: 0 | J42: 11 | K42: 4 | L42: 0 | M42: 125 | N42: 227 | O42: 52 | P42: 31 | Q42: 2 | R42: 2 | S42: 0 | T42: 0 | U42: 45 | V42: 97 | W42: 227
A43: Yunlin County | B43: 男 Male | C43: 445 | D43: 359 | E43: 7 | F43: 0 | G43: 1 | H43: 0 | I43: 0 | J43: 5 | K43: 3 | L43: 0 | M43: 70 | N43: 125 | O43: 20 | P43: 20 | Q43: 0 | R43: 0 | S43: 0 | T43: 0 | U43: 30 | V43: 55 | W43: 0
B44: 女 Female | C44: 323 | D44: 255 | E44: 4 | F44: 0 | G44: 2 | H44: 0 | I44: 0 | J44: 6 | K44: 1 | L44: 0 | M44: 55 | N44: 102 | O44: 32 | P44: 11 | Q44: 2 | R44: 2 | S44: 0 | T44: 0 | U44: 15 | V44: 42 | W44: 0
A45: 嘉義縣 | B45: 計 Total | C45: 3259 | D45: 3032 | E45: 6 | F45: 0 | G45: 0 | H45: 0 | I45: 0 | J45: 119 | K45: 102 | L45: 0 | M45: 0 | N45: 123 | O45: 37 | P45: 25 | Q45: 0 | R45: 0 | S45: 0 | T45: 1 | U45: 28 | V45: 32 | W45: 105
A46: Chiayi County | B46: 男 Male | C46: 1909 | D46: 1779 | E46: 4 | F46: 0 | G46: 0 | H46: 0 | I46: 0 | J46: 72 | K46: 54 | L46: 0 | M46: 0 | N46: 81 | O46: 19 | P46: 15 | Q46: 0 | R46: 0 | S46: 0 | T46: 0 | U46: 23 | V46: 24 | W46: 0
B47: 女 Female | C47: 1350 | D47: 1253 | E47: 2 | F47: 0 | G47: 0 | H47: 0 | I47: 0 | J47: 47 | K47: 48 | L47: 0 | M47: 0 | N47: 42 | O47: 18 | P47: 10 | Q47: 0 | R47: 0 | S47: 0 | T47: 1 | U47: 5 | V47: 8 | W47: 0
A48: 屏東縣 | B48: 計 Total | C48: 1934 | D48: 1792 | E48: 30 | F48: 1 | G48: 6 | H48: 1 | I48: 0 | J48: 11 | K48: 9 | L48: 0 | M48: 84 | N48: 73 | O48: 29 | P48: 13 | Q48: 6 | R48: 6 | S48: 0 | T48: 0 | U48: 16 | V48: 9 | W48: 62
A49: Pingtung County | B49: 男 Male | C49: 1459 | D49: 1343 | E49: 26 | F49: 0 | G49: 3 | H49: 1 | I49: 0 | J49: 9 | K49: 9 | L49: 0 | M49: 68 | N49: 38 | O49: 14 | P49: 9 | Q49: 1 | R49: 1 | S49: 0 | T49: 0 | U49: 9 | V49: 5 | W49: 0
B50: 女 Female | C50: 475 | D50: 449 | E50: 4 | F50: 1 | G50: 3 | H50: 0 | I50: 0 | J50: 2 | K50: 0 | L50: 0 | M50: 16 | N50: 35 | O50: 15 | P50: 4 | Q50: 5 | R50: 5 | S50: 0 | T50: 0 | U50: 7 | V50: 4 | W50: 0
A51: 臺東縣 | B51: 計 Total | C51: 699 | D51: 622 | E51: 3 | F51: 0 | G51: 1 | H51: 0 | I51: 0 | J51: 31 | K51: 1 | L51: 0 | M51: 41 | N51: 15 | O51: 3 | P51: 4 | Q51: 2 | R51: 2 | S51: 0 | T51: 1 | U51: 5 | V51: 0 | W51: 14
A52: Taitung County | B52: 男 Male | C52: 585 | D52: 526 | E52: 3 | F52: 0 | G52: 1 | H52: 0 | I52: 0 | J52: 23 | K52: 1 | L52: 0 | M52: 31 | N52: 7 | O52: 1 | P52: 2 | Q52: 0 | R52: 0 | S52: 0 | T52: 1 | U52: 3 | V52: 0 | W52: 0
B53: 女 Female | C53: 114 | D53: 96 | E53: 0 | F53: 0 | G53: 0 | H53: 0 | I53: 0 | J53: 8 | K53: 0 | L53: 0 | M53: 10 | N53: 8 | O53: 2 | P53: 2 | Q53: 2 | R53: 2 | S53: 0 | T53: 0 | U53: 2 | V53: 0 | W53: 0
A54: 花蓮縣 | B54: 計 Total | C54: 894 | D54: 781 | E54: 19 | F54: 0 | G54: 5 | H54: 2 | I54: 1 | J54: 21 | K54: 9 | L54: 0 | M54: 56 | N54: 49 | O54: 8 | P54: 9 | Q54: 1 | R54: 1 | S54: 0 | T54: 0 | U54: 26 | V54: 5 | W54: 49
A55: Hualien County | B55: 男 Male | C55: 461 | D55: 396 | E55: 14 | F55: 0 | G55: 3 | H55: 0 | I55: 1 | J55: 6 | K55: 4 | L55: 0 | M55: 37 | N55: 32 | O55: 3 | P55: 6 | Q55: 1 | R55: 1 | S55: 0 | T55: 0 | U55: 20 | V55: 2 | W55: 0
B56: 女 Female | C56: 433 | D56: 385 | E56: 5 | F56: 0 | G56: 2 | H56: 2 | I56: 0 | J56: 15 | K56: 5 | L56: 0 | M56: 19 | N56: 17 | O56: 5 | P56: 3 | Q56: 0 | R56: 0 | S56: 0 | T56: 0 | U56: 6 | V56: 3 | W56: 0
A57: 澎湖縣 | B57: 計 Total | C57: 107 | D57: 83 | E57: 3 | F57: 0 | G57: 0 | H57: 0 | I57: 1 | J57: 5 | K57: 0 | L57: 0 | M57: 15 | N57: 44 | O57: 3 | P57: 0 | Q57: 30 | R57: 9 | S57: 21 | T57: 4 | U57: 4 | V57: 3 | W57: 23
A58: Penghu County | B58: 男 Male | C58: 53 | D58: 42 | E58: 2 | F58: 0 | G58: 0 | H58: 0 | I58: 1 | J58: 2 | K58: 0 | L58: 0 | M58: 6 | N58: 20 | O58: 3 | P58: 0 | Q58: 15 | R58: 4 | S58: 11 | T58: 0 | U58: 1 | V58: 1 | W58: 0
B59: 女 Female | C59: 54 | D59: 41 | E59: 1 | F59: 0 | G59: 0 | H59: 0 | I59: 0 | J59: 3 | K59: 0 | L59: 0 | M59: 9 | N59: 24 | O59: 0 | P59: 0 | Q59: 15 | R59: 5 | S59: 10 | T59: 4 | U59: 3 | V59: 2 | W59: 0
A60: 基隆市 | B60: 計 Total | C60: 2351 | D60: 1840 | E60: 95 | F60: 0 | G60: 29 | H60: 0 | I60: 20 | J60: 69 | K60: 60 | L60: 0 | M60: 238 | N60: 145 | O60: 10 | P60: 12 | Q60: 86 | R60: 37 | S60: 49 | T60: 0 | U60: 27 | V60: 10 | W60: 123
A61: Keelung City | B61: 男 Male | C61: 1257 | D61: 962 | E61: 63 | F61: 0 | G61: 11 | H61: 0 | I61: 6 | J61: 26 | K61: 41 | L61: 0 | M61: 148 | N61: 73 | O61: 5 | P61: 10 | Q61: 29 | R61: 11 | S61: 18 | T61: 0 | U61: 23 | V61: 6 | W61: 0
B62: 女 Female | C62: 1094 | D62: 878 | E62: 32 | F62: 0 | G62: 18 | H62: 0 | I62: 14 | J62: 43 | K62: 19 | L62: 0 | M62: 90 | N62: 72 | O62: 5 | P62: 2 | Q62: 57 | R62: 26 | S62: 31 | T62: 0 | U62: 4 | V62: 4 | W62: 0
A63: 新竹市 | B63: 計 Total | C63: 1442 | D63: 1313 | E63: 106 | F63: 0 | G63: 9 | H63: 0 | I63: 0 | J63: 5 | K63: 7 | L63: 0 | M63: 2 | N63: 120 | O63: 14 | P63: 55 | Q63: 0 | R63: 0 | S63: 0 | T63: 0 | U63: 45 | V63: 6 | W63: 65
A64: Hsinchu City | B64: 男 Male | C64: 804 | D64: 724 | E64: 62 | F64: 0 | G64: 7 | H64: 0 | I64: 0 | J64: 3 | K64: 7 | L64: 0 | M64: 1 | N64: 72 | O64: 3 | P64: 43 | Q64: 0 | R64: 0 | S64: 0 | T64: 0 | U64: 24 | V64: 2 | W64: 0
B65: 女 Female | C65: 638 | D65: 589 | E65: 44 | F65: 0 | G65: 2 | H65: 0 | I65: 0 | J65: 2 | K65: 0 | L65: 0 | M65: 1 | N65: 48 | O65: 11 | P65: 12 | Q65: 0 | R65: 0 | S65: 0 | T65: 0 | U65: 21 | V65: 4 | W65: 0
A66: 嘉義市 | B66: 計 Total | C66: 395 | D66: 328 | E66: 12 | F66: 0 | G66: 0 | H66: 0 | I66: 0 | J66: 47 | K66: 8 | L66: 0 | M66: 0 | N66: 34 | O66: 19 | P66: 8 | Q66: 2 | R66: 2 | S66: 0 | T66: 2 | U66: 3 | V66: 0 | W66: 34
A67: Chiayi City | B67: 男 Male | C67: 195 | D67: 165 | E67: 4 | F67: 0 | G67: 0 | H67: 0 | I67: 0 | J67: 22 | K67: 4 | L67: 0 | M67: 0 | N67: 13 | O67: 9 | P67: 3 | Q67: 0 | R67: 0 | S67: 0 | T67: 0 | U67: 1 | V67: 0 | W67: 0
B68: 女 Female | C68: 200 | D68: 163 | E68: 8 | F68: 0 | G68: 0 | H68: 0 | I68: 0 | J68: 25 | K68: 4 | L68: 0 | M68: 0 | N68: 21 | O68: 10 | P68: 5 | Q68: 2 | R68: 2 | S68: 0 | T68: 2 | U68: 2 | V68: 0 | W68: 0
A69: 金門縣 | B69: 計 Total | C69: 472 | D69: 404 | E69: 0 | F69: 1 | G69: 1 | H69: 0 | I69: 1 | J69: 1 | K69: 0 | L69: 0 | M69: 64 | N69: 32 | O69: 3 | P69: 1 | Q69: 21 | R69: 7 | S69: 14 | T69: 6 | U69: 0 | V69: 1 | W69: 25
A70: Kinmen County | B70: 男 Male | C70: 135 | D70: 104 | E70: 0 | F70: 0 | G70: 0 | H70: 0 | I70: 0 | J70: 1 | K70: 0 | L70: 0 | M70: 30 | N70: 11 | O70: 0 | P70: 1 | Q70: 9 | R70: 5 | S70: 4 | T70: 0 | U70: 0 | V70: 1 | W70: 0
B71: 女 Female | C71: 337 | D71: 300 | E71: 0 | F71: 1 | G71: 1 | H71: 0 | I71: 1 | J71: 0 | K71: 0 | L71: 0 | M71: 34 | N71: 21 | O71: 3 | P71: 0 | Q71: 12 | R71: 2 | S71: 10 | T71: 6 | U71: 0 | V71: 0 | W71: 0
A72: 連江縣 | B72: 計 Total | C72: 0 | D72: 0 | E72: 0 | F72: 0 | G72: 0 | H72: 0 | I72: 0 | J72: 0 | K72: 0 | L72: 0 | M72: 0 | N72: 0 | O72: 0 | P72: 0 | Q72: 0 | R72: 0 | S72: 0 | T72: 0 | U72: 0 | V72: 0 | W72: 0
A73: Lienchiang County | B73: 男 Male | C73: 0 | D73: 0 | E73: 0 | F73: 0 | G73: 0 | H73: 0 | I73: 0 | J73: 0 | K73: 0 | L73: 0 | M73: 0 | N73: 0 | O73: 0 | P73: 0 | Q73: 0 | R73: 0 | S73: 0 | T73: 0 | U73: 0 | V73: 0 | W73: 0
B74: 女 Female | C74: 0 | D74: 0 | E74: 0 | F74: 0 | G74: 0 | H74: 0 | I74: 0 | J74: 0 | K74: 0 | L74: 0 | M74: 0 | N74: 0 | O74: 0 | P74: 0 | Q74: 0 | R74: 0 | S74: 0 | T74: 0 | U74: 0 | V74: 0 | W74: 0
A75: 資料來源：直轄市、縣(市)政府。
A76: Source : Social and Family Affairs Administration, MOHW and County and City Government.

Sheet 107
A1: 老人保護概況 Protection for the Aged
A2: 民國107年,2018 | C2: =IF(C6=SUM(C9,C12,C15,C18,C21,C24,C27,C30,C33,C36,C39,C42,C45,C48,C51,C54,C57,C60,C63,C66,C69,C72),"","*") | D2: =IF(D6=SUM(D9,D12,D15,D18,D21,D24,D27,D30,D33,D36,D39,D42,D45,D48,D51,D54,D57,D60,D63,D66,D69,D72),"","*") | E2: =IF(E6=SUM(E9,E12,E15,E18,E21,E24,E27,E30,E33,E36,E39,E42,E45,E48,E51,E54,E57,E60,E63,E66,E69,E72),"","*") | F2: =IF(F6=SUM(F9,F12,F15,F18,F21,F24,F27,F30,F33,F36,F39,F42,F45,F48,F51,F54,F57,F60,F63,F66,F69,F72),"","*") | G2: =IF(G6=SUM(G9,G12,G15,G18,G21,G24,G27,G30,G33,G36,G39,G42,G45,G48,G51,G54,G57,G60,G63,G66,G69,G72),"","*") | H2: =IF(H6=SUM(H9,H12,H15,H18,H21,H24,H27,H30,H33,H36,H39,H42,H45,H48,H51,H54,H57,H60,H63,H66,H69,H72),"","*") | I2: =IF(I6=SUM(I9,I12,I15,I18,I21,I24,I27,I30,I33,I36,I39,I42,I45,I48,I51,I54,I57,I60,I63,I66,I69,I72),"","*") | J2: =IF(J6=SUM(J9,J12,J15,J18,J21,J24,J27,J30,J33,J36,J39,J42,J45,J48,J51,J54,J57,J60,J63,J66,J69,J72),"","*") | ... W2: =IF(W6=SUM(W9,W12,W15,W18,W21,W24,W27,W30,W33,W36,W39,W42,W45,W48,W51,W54,W57,W60,W63,W66,W69,W72),"","*")
A3: 區域別及性別 Locality and Sex | C3: 老人保護扶助人次（複選；人次）Number of Senior Citizens Receiving Protection and Assistance | N3: 老人保護類型（複選；人次）Types of Elderly Protection | W3: 老人保護通報案件數(件) Number of Cases Reported for Elderly Protection
C4: 總計 Total | D4: 諮詢協談Counseling | E4: 保護安置Protection and Placement | F4: 陪同報案偵詢(訊)Accompanying the Parties Concerned During Case Reporting and Interrogation/Investigation | G4: 陪同出庭Accompanying the Parties Concerned to Appear before Court | H4: 驗傷診療Medical Examinations and Diagnoses | I4: 聲請保護令Petition for a Protection Order | J4: 經濟扶助Financial Aid | K4: 法律扶助Legal Aid | L4: 通譯服務Interpreting Services | M4: 其他扶助 Others | N4: 總計 Total | O4: 疏忽 Carelessness | P4: 遺棄 Abandoned | Q4: 身心虐待Mistreatness | T4: 財產侵占/搾取Misappropriation/Exploitation of Property | U4: 無人扶養Lack of Support | V4: 其他 Others
Q5: 合計 SubTotal | R5: 身體虐待 Physical Abuse | S5: 精神虐待Psychological Abuse
A6: 總計 | B6: 合計 SubTotal | C6: 65028 | D6: 48516 | E6: 8035 | F6: 20 | G6: 318 | H6: 183 | I6: 103 | J6: 1640 | K6: 943 | L6: 72 | M6: 5198 | N6: 11680 | O6: 1238 | P6: 1595 | Q6: 2116 | R6: 991 | S6: 1125 | T6: 53 | U6: 6075 | V6: 603 | W6: 6022
A7: Total | B7: 男Male | C7: 36765 | D7: 26812 | E7: 5518 | F7: 14 | G7: 175 | H7: 103 | I7: 37 | J7: 900 | K7: 523 | L7: 52 | M7: 2631 | N7: 7029 | O7: 713 | P7: 1076 | Q7: 695 | R7: 353 | S7: 342 | T7: 22 | U7: 4237 | V7: 286 | W7: 0
B8: 女Female | C8: 28263 | D8: 21704 | E8: 2517 | F8: 6 | G8: 143 | H8: 80 | I8: 66 | J8: 740 | K8: 420 | L8: 20 | M8: 2567 | N8: 4651 | O8: 525 | P8: 519 | Q8: 1421 | R8: 638 | S8: 783 | T8: 31 | U8: 1838 | V8: 317 | W8: 0
A9: 新北市 | B9: 計 Total | C9: 2328 | D9: 753 | E9: 1391 | F9: 0 | G9: 31 | H9: 0 | I9: 0 | J9: 36 | K9: 23 | L9: 0 | M9: 94 | N9: 1505 | O9: 218 | P9: 703 | Q9: 0 | R9: 0 | S9: 0 | T9: 3 | U9: 566 | V9: 15 | W9: 320
A10: New Taipei City | B10: 男 Male | C10: 1571 | D10: 507 | E10: 953 | F10: 0 | G10: 20 | H10: 0 | I10: 0 | J10: 20 | K10: 17 | L10: 0 | M10: 54 | N10: 1024 | O10: 161 | P10: 458 | Q10: 0 | R10: 0 | S10: 0 | T10: 0 | U10: 397 | V10: 8 | W10: 0
B11: 女 Female | C11: 757 | D11: 246 | E11: 438 | F11: 0 | G11: 11 | H11: 0 | I11: 0 | J11: 16 | K11: 6 | L11: 0 | M11: 40 | N11: 481 | O11: 57 | P11: 245 | Q11: 0 | R11: 0 | S11: 0 | T11: 3 | U11: 169 | V11: 7 | W11: 0
A12: 臺北市 | B12: 計 Total | C12: 7565 | D12: 4892 | E12: 286 | F12: 1 | G12: 85 | H12: 6 | I12: 53 | J12: 88 | K12: 125 | L12: 0 | M12: 2029 | N12: 566 | O12: 21 | P12: 16 | Q12: 450 | R12: 223 | S12: 227 | T12: 7 | U12: 7 | V12: 65 | W12: 922
A13: Taipei City | B13: 男 Male | C13: 2659 | D13: 1710 | E13: 191 | F13: 0 | G13: 37 | H13: 0 | I13: 15 | J13: 44 | K13: 46 | L13: 0 | M13: 616 | N13: 184 | O13: 8 | P13: 7 | Q13: 149 | R13: 83 | S13: 66 | T13: 0 | U13: 3 | V13: 17 | W13: 0
B14: 女 Female | C14: 4906 | D14: 3182 | E14: 95 | F14: 1 | G14: 48 | H14: 6 | I14: 38 | J14: 44 | K14: 79 | L14: 0 | M14: 1413 | N14: 382 | O14: 13 | P14: 9 | Q14: 301 | R14: 140 | S14: 161 | T14: 7 | U14: 4 | V14: 48 | W14: 0
A15: 桃園市 | B15: 計 Total | C15: 3723 | D15: 2796 | E15: 698 | F15: 1 | G15: 2 | H15: 41 | I15: 0 | J15: 48 | K15: 73 | L15: 0 | M15: 64 | N15: 1180 | O15: 123 | P15: 354 | Q15: 6 | R15: 5 | S15: 1 | T15: 1 | U15: 694 | V15: 2 | W15: 77
A16: Taoyuan City | B16: 男 Male | C16: 2186 | D16: 1632 | E16: 402 | F16: 0 | G16: 0 | H16: 26 | I16: 0 | J16: 30 | K16: 59 | L16: 0 | M16: 37 | N16: 813 | O16: 89 | P16: 262 | Q16: 2 | R16: 2 | S16: 0 | T16: 0 | U16: 459 | V16: 1 | W16: 0
B17: 女 Female | C17: 1537 | D17: 1164 | E17: 296 | F17: 1 | G17: 2 | H17: 15 | I17: 0 | J17: 18 | K17: 14 | L17: 0 | M17: 27 | N17: 367 | O17: 34 | P17: 92 | Q17: 4 | R17: 3 | S17: 1 | T17: 1 | U17: 235 | V17: 1 | W17: 0
A18: 臺中市 | B18: 計 Total | C18: 8861 | D18: 4550 | E18: 4137 | F18: 2 | G18: 23 | H18: 5 | I18: 0 | J18: 18 | K18: 14 | L18: 0 | M18: 112 | N18: 4124 | O18: 97 | P18: 80 | Q18: 13 | R18: 8 | S18: 5 | T18: 5 | U18: 3921 | V18: 8 | W18: 232
A19: Taichung City | B19: 男 Male | C19: 6120 | D19: 3015 | E19: 2969 | F19: 2 | G19: 22 | H19: 5 | I19: 0 | J19: 11 | K19: 13 | L19: 0 | M19: 83 | N19: 2903 | O19: 46 | P19: 52 | Q19: 6 | R19: 3 | S19: 3 | T19: 3 | U19: 2793 | V19: 3 | W19: 0
B20: 女 Female | C20: 2741 | D20: 1535 | E20: 1168 | F20: 0 | G20: 1 | H20: 0 | I20: 0 | J20: 7 | K20: 1 | L20: 0 | M20: 29 | N20: 1221 | O20: 51 | P20: 28 | Q20: 7 | R20: 5 | S20: 2 | T20: 2 | U20: 1128 | V20: 5 | W20: 0
A21: 臺南市 | B21: 計 Total | C21: 4477 | D21: 3725 | E21: 92 | F21: 0 | G21: 0 | H21: 0 | I21: 0 | J21: 142 | K21: 39 | L21: 0 | M21: 479 | N21: 732 | O21: 202 | P21: 80 | Q21: 0 | R21: 0 | S21: 0 | T21: 8 | U21: 246 | V21: 196 | W21: 732
A22: Tainan City | B22: 男 Male | C22: 2447 | D22: 2009 | E22: 69 | F22: 0 | G22: 0 | H22: 0 | I22: 0 | J22: 89 | K22: 15 | L22: 0 | M22: 265 | N22: 401 | O22: 124 | P22: 46 | Q22: 0 | R22: 0 | S22: 0 | T22: 5 | U22: 152 | V22: 74 | W22: 0
B23: 女 Female | C23: 2030 | D23: 1716 | E23: 23 | F23: 0 | G23: 0 | H23: 0 | I23: 0 | J23: 53 | K23: 24 | L23: 0 | M23: 214 | N23: 331 | O23: 78 | P23: 34 | Q23: 0 | R23: 0 | S23: 0 | T23: 3 | U23: 94 | V23: 122 | W23: 0
A24: 高雄市 | B24: 計 Total | C24: 18417 | D24: 15867 | E24: 970 | F24: 2 | G24: 74 | H24: 30 | I24: 29 | J24: 385 | K24: 94 | L24: 0 | M24: 966 | N24: 1416 | O24: 121 | P24: 46 | Q24: 972 | R24: 486 | S24: 486 | T24: 5 | U24: 216 | V24: 56 | W24: 2025
A25: Kaohsiung City | B25: 男 Male | C25: 9987 | D25: 8534 | E25: 613 | F25: 1 | G25: 37 | H25: 16 | I25: 13 | J25: 161 | K25: 63 | L25: 0 | M25: 549 | N25: 588 | O25: 58 | P25: 29 | Q25: 330 | R25: 165 | S25: 165 | T25: 2 | U25: 142 | V25: 27 | W25: 0
B26: 女 Female | C26: 8430 | D26: 7333 | E26: 357 | F26: 1 | G26: 37 | H26: 14 | I26: 16 | J26: 224 | K26: 31 | L26: 0 | M26: 417 | N26: 828 | O26: 63 | P26: 17 | Q26: 642 | R26: 321 | S26: 321 | T26: 3 | U26: 74 | V26: 29 | W26: 0
A27: 宜蘭縣 | B27: 計 Total | C27: 1497 | D27: 1334 | E27: 18 | F27: 0 | G27: 1 | H27: 5 | I27: 0 | J27: 49 | K27: 12 | L27: 0 | M27: 78 | N27: 85 | O27: 23 | P27: 12 | Q27: 7 | R27: 2 | S27: 5 | T27: 0 | U27: 41 | V27: 2 | W27: 73
A28: Yilan County | B28: 男 Male | C28: 1084 | D28: 970 | E28: 12 | F28: 0 | G28: 1 | H28: 5 | I28: 0 | J28: 35 | K28: 8 | L28: 0 | M28: 53 | N28: 51 | O28: 15 | P28: 5 | Q28: 2 | R28: 0 | S28: 2 | T28: 0 | U28: 29 | V28: 0 | W28: 0
B29: 女 Female | C29: 413 | D29: 364 | E29: 6 | F29: 0 | G29: 0 | H29: 0 | I29: 0 | J29: 14 | K29: 4 | L29: 0 | M29: 25 | N29: 34 | O29: 8 | P29: 7 | Q29: 5 | R29: 2 | S29: 3 | T29: 0 | U29: 12 | V29: 2 | W29: 0
A30: 新竹縣 | B30: 計 Total | C30: 1111 | D30: 712 | E30: 48 | F30: 2 | G30: 27 | H30: 44 | I30: 0 | J30: 86 | K30: 70 | L30: 35 | M30: 87 | N30: 192 | O30: 73 | P30: 49 | Q30: 0 | R30: 0 | S30: 0 | T30: 9 | U30: 61 | V30: 0 | W30: 248
A31: Hsinchu County | B31: 男 Male | C31: 757 | D31: 473 | E31: 40 | F31: 2 | G31: 24 | H31: 34 | I31: 0 | J31: 53 | K31: 52 | L31: 26 | M31: 53 | N31: 140 | O31: 52 | P31: 34 | Q31: 0 | R31: 0 | S31: 0 | T31: 7 | U31: 47 | V31: 0 | W31: 0
B32: 女 Female | C32: 354 | D32: 239 | E32: 8 | F32: 0 | G32: 3 | H32: 10 | I32: 0 | J32: 33 | K32: 18 | L32: 9 | M32: 34 | N32: 52 | O32: 21 | P32: 15 | Q32: 0 | R32: 0 | S32: 0 | T32: 2 | U32: 14 | V32: 0 | W32: 0
A33: 苗栗縣 | B33: 計 Total | C33: 1064 | D33: 845 | E33: 85 | F33: 2 | G33: 5 | H33: 0 | I33: 0 | J33: 85 | K33: 13 | L33: 0 | M33: 29 | N33: 78 | O33: 42 | P33: 15 | Q33: 4 | R33: 2 | S33: 2 | T33: 0 | U33: 17 | V33: 0 | W33: 78
A34: Miaoli County | B34: 男 Male | C34: 577 | D34: 460 | E34: 42 | F34: 2 | G34: 2 | H34: 0 | I34: 0 | J34: 42 | K34: 8 | L34: 0 | M34: 21 | N34: 48 | O34: 24 | P34: 11 | Q34: 1 | R34: 1 | S34: 0 | T34: 0 | U34: 12 | V34: 0 | W34: 0
B35: 女 Female | C35: 487 | D35: 385 | E35: 43 | F35: 0 | G35: 3 | H35: 0 | I35: 0 | J35: 43 | K35: 5 | L35: 0 | M35: 8 | N35: 30 | O35: 18 | P35: 4 | Q35: 3 | R35: 1 | S35: 2 | T35: 0 | U35: 5 | V35: 0 | W35: 0
A36: 彰化縣 | B36: 計 Total | C36: 2158 | D36: 1655 | E36: 27 | F36: 0 | G36: 2 | H36: 0 | I36: 0 | J36: 56 | K36: 52 | L36: 0 | M36: 366 | N36: 126 | O36: 32 | P36: 24 | Q36: 4 | R36: 1 | S36: 3 | T36: 1 | U36: 51 | V36: 14 | W36: 114
A37: Changhua County | B37: 男 Male | C37: 1583 | D37: 1193 | E37: 22 | F37: 0 | G37: 2 | H37: 0 | I37: 0 | J37: 47 | K37: 40 | L37: 0 | M37: 279 | N37: 78 | O37: 15 | P37: 15 | Q37: 0 | R37: 0 | S37: 0 | T37: 1 | U37: 39 | V37: 8 | W37: 0
B38: 女 Female | C38: 575 | D38: 462 | E38: 5 | F38: 0 | G38: 0 | H38: 0 | I38: 0 | J38: 9 | K38: 12 | L38: 0 | M38: 87 | N38: 48 | O38: 17 | P38: 9 | Q38: 4 | R38: 1 | S38: 3 | T38: 0 | U38: 12 | V38: 6 | W38: 0
A39: 南投縣 | B39: 計 Total | C39: 2036 | D39: 1414 | E39: 6 | F39: 10 | G39: 27 | H39: 48 | I39: 17 | J39: 274 | K39: 186 | L39: 0 | M39: 54 | N39: 196 | O39: 13 | P39: 13 | Q39: 149 | R39: 43 | S39: 106 | T39: 1 | U39: 16 | V39: 4 | W39: 241
A40: Nantou County | B40: 男 Male | C40: 703 | D40: 466 | E40: 5 | F40: 7 | G40: 7 | H40: 15 | I40: 7 | J40: 100 | K40: 62 | L40: 0 | M40: 34 | N40: 70 | O40: 7 | P40: 7 | Q40: 41 | R40: 11 | S40: 30 | T40: 0 | U40: 14 | V40: 1 | W40: 0
B41: 女 Female | C41: 1333 | D41: 948 | E41: 1 | F41: 3 | G41: 20 | H41: 33 | I41: 10 | J41: 174 | K41: 124 | L41: 0 | M41: 20 | N41: 126 | O41: 6 | P41: 6 | Q41: 108 | R41: 32 | S41: 76 | T41: 1 | U41: 2 | V41: 3 | W41: 0
A42: 雲林縣 | B42: 計 Total | C42: 662 | D42: 546 | E42: 15 | F42: 0 | G42: 0 | H42: 1 | I42: 0 | J42: 8 | K42: 6 | L42: 0 | M42: 86 | N42: 256 | O42: 85 | P42: 25 | Q42: 3 | R42: 3 | S42: 0 | T42: 8 | U42: 23 | V42: 112 | W42: 256
A43: Yunlin County | B43: 男 Male | C43: 425 | D43: 346 | E43: 11 | F43: 0 | G43: 0 | H43: 1 | I43: 0 | J43: 8 | K43: 5 | L43: 0 | M43: 54 | N43: 132 | O43: 26 | P43: 15 | Q43: 0 | R43: 0 | S43: 0 | T43: 1 | U43: 17 | V43: 73 | W43: 0
B44: 女 Female | C44: 237 | D44: 200 | E44: 4 | F44: 0 | G44: 0 | H44: 0 | I44: 0 | J44: 0 | K44: 1 | L44: 0 | M44: 32 | N44: 124 | O44: 59 | P44: 10 | Q44: 3 | R44: 3 | S44: 0 | T44: 7 | U44: 6 | V44: 39 | W44: 0
A45: 嘉義縣 | B45: 計 Total | C45: 3455 | D45: 2606 | E45: 0 | F45: 0 | G45: 0 | H45: 0 | I45: 0 | J45: 186 | K45: 128 | L45: 9 | M45: 526 | N45: 145 | O45: 26 | P45: 26 | Q45: 2 | R45: 2 | S45: 0 | T45: 2 | U45: 14 | V45: 75 | W45: 145
A46: Chiayi County | B46: 男 Male | C46: 2531 | D46: 1884 | E46: 0 | F46: 0 | G46: 0 | H46: 0 | I46: 0 | J46: 146 | K46: 86 | L46: 9 | M46: 406 | N46: 92 | O46: 11 | P46: 25 | Q46: 0 | R46: 0 | S46: 0 | T46: 2 | U46: 10 | V46: 44 | W46: 0
B47: 女 Female | C47: 924 | D47: 722 | E47: 0 | F47: 0 | G47: 0 | H47: 0 | I47: 0 | J47: 40 | K47: 42 | L47: 0 | M47: 120 | N47: 53 | O47: 15 | P47: 1 | Q47: 2 | R47: 2 | S47: 0 | T47: 0 | U47: 4 | V47: 31 | W47: 0
A48: 屏東縣 | B48: 計 Total | C48: 1227 | D48: 1136 | E48: 20 | F48: 0 | G48: 6 | H48: 0 | I48: 0 | J48: 8 | K48: 2 | L48: 0 | M48: 55 | N48: 53 | O48: 21 | P48: 10 | Q48: 8 | R48: 4 | S48: 4 | T48: 0 | U48: 12 | V48: 2 | W48: 40
A49: Pingtung County | B49: 男 Male | C49: 929 | D49: 860 | E49: 12 | F49: 0 | G49: 6 | H49: 0 | I49: 0 | J49: 6 | K49: 0 | L49: 0 | M49: 45 | N49: 35 | O49: 12 | P49: 7 | Q49: 4 | R49: 2 | S49: 2 | T49: 0 | U49: 10 | V49: 2 | W49: 0
B50: 女 Female | C50: 298 | D50: 276 | E50: 8 | F50: 0 | G50: 0 | H50: 0 | I50: 0 | J50: 2 | K50: 2 | L50: 0 | M50: 10 | N50: 18 | O50: 9 | P50: 3 | Q50: 4 | R50: 2 | S50: 2 | T50: 0 | U50: 2 | V50: 0 | W50: 0
A51: 臺東縣 | B51: 計 Total | C51: 349 | D51: 309 | E51: 2 | F51: 0 | G51: 0 | H51: 0 | I51: 0 | J51: 20 | K51: 3 | L51: 0 | M51: 15 | N51: 32 | O51: 14 | P51: 6 | Q51: 3 | R51: 2 | S51: 1 | T51: 0 | U51: 7 | V51: 2 | W51: 25
A52: Taitung County | B52: 男 Male | C52: 248 | D52: 212 | E52: 2 | F52: 0 | G52: 0 | H52: 0 | I52: 0 | J52: 18 | K52: 3 | L52: 0 | M52: 13 | N52: 21 | O52: 8 | P52: 5 | Q52: 2 | R52: 1 | S52: 1 | T52: 0 | U52: 5 | V52: 1 | W52: 0
B53: 女 Female | C53: 101 | D53: 97 | E53: 0 | F53: 0 | G53: 0 | H53: 0 | I53: 0 | J53: 2 | K53: 0 | L53: 0 | M53: 2 | N53: 11 | O53: 6 | P53: 1 | Q53: 1 | R53: 1 | S53: 0 | T53: 0 | U53: 2 | V53: 1 | W53: 0
A54: 花蓮縣 | B54: 計 Total | C54: 837 | D54: 685 | E54: 21 | F54: 0 | G54: 5 | H54: 1 | I54: 0 | J54: 12 | K54: 27 | L54: 0 | M54: 86 | N54: 71 | O54: 18 | P54: 27 | Q54: 4 | R54: 3 | S54: 1 | T54: 0 | U54: 20 | V54: 2 | W54: 65
A55: Hualien County | B55: 男 Male | C55: 346 | D55: 292 | E55: 12 | F55: 0 | G55: 1 | H55: 1 | I55: 0 | J55: 3 | K55: 9 | L55: 0 | M55: 28 | N55: 35 | O55: 9 | P55: 11 | Q55: 2 | R55: 2 | S55: 0 | T55: 0 | U55: 12 | V55: 1 | W55: 0
B56: 女 Female | C56: 491 | D56: 393 | E56: 9 | F56: 0 | G56: 4 | H56: 0 | I56: 0 | J56: 9 | K56: 18 | L56: 0 | M56: 58 | N56: 36 | O56: 9 | P56: 16 | Q56: 2 | R56: 1 | S56: 1 | T56: 0 | U56: 8 | V56: 1 | W56: 0
A57: 澎湖縣 | B57: 計 Total | C57: 128 | D57: 117 | E57: 3 | F57: 0 | G57: 0 | H57: 0 | I57: 0 | J57: 6 | K57: 0 | L57: 0 | M57: 2 | N57: 45 | O57: 1 | P57: 1 | Q57: 37 | R57: 17 | S57: 20 | T57: 0 | U57: 4 | V57: 2 | W57: 36
A58: Penghu County | B58: 男 Male | C58: 73 | D58: 67 | E58: 2 | F58: 0 | G58: 0 | H58: 0 | I58: 0 | J58: 3 | K58: 0 | L58: 0 | M58: 1 | N58: 21 | O58: 0 | P58: 1 | Q58: 16 | R58: 10 | S58: 6 | T58: 0 | U58: 3 | V58: 1 | W58: 0
B59: 女 Female | C59: 55 | D59: 50 | E59: 1 | F59: 0 | G59: 0 | H59: 0 | I59: 0 | J59: 3 | K59: 0 | L59: 0 | M59: 1 | N59: 24 | O59: 1 | P59: 0 | Q59: 21 | R59: 7 | S59: 14 | T59: 0 | U59: 1 | V59: 1 | W59: 0
A60: 基隆市 | B60: 計 Total | C60: 2577 | D60: 2381 | E60: 87 | F60: 0 | G60: 21 | H60: 0 | I60: 3 | J60: 13 | K60: 37 | L60: 28 | M60: 7 | N60: 579 | O60: 70 | P60: 44 | Q60: 339 | R60: 139 | S60: 200 | T60: 0 | U60: 110 | V60: 16 | W60: 215
A61: Keelung City | B61: 男 Male | C61: 1290 | D61: 1164 | E61: 70 | F61: 0 | G61: 12 | H61: 0 | I61: 2 | J61: 9 | K61: 11 | L61: 17 | M61: 5 | N61: 248 | O61: 32 | P61: 32 | Q61: 109 | R61: 61 | S61: 48 | T61: 0 | U61: 65 | V61: 10 | W61: 0
B62: 女 Female | C62: 1287 | D62: 1217 | E62: 17 | F62: 0 | G62: 9 | H62: 0 | I62: 1 | J62: 4 | K62: 26 | L62: 11 | M62: 2 | N62: 331 | O62: 38 | P62: 12 | Q62: 230 | R62: 78 | S62: 152 | T62: 0 | U62: 45 | V62: 6 | W62: 0
A63: 新竹市 | B63: 計 Total | C63: 1563 | D63: 1375 | E63: 115 | F63: 0 | G63: 7 | H63: 0 | I63: 0 | J63: 31 | K63: 4 | L63: 0 | M63: 31 | N63: 225 | O63: 13 | P63: 48 | Q63: 93 | R63: 39 | S63: 54 | T63: 1 | U63: 40 | V63: 30 | W63: 118
A64: Hsinchu City | B64: 男 Male | C64: 826 | D64: 706 | E64: 81 | F64: 0 | G64: 4 | H64: 0 | I64: 0 | J64: 14 | K64: 4 | L64: 0 | M64: 17 | N64: 108 | O64: 4 | P64: 42 | Q64: 24 | R64: 8 | S64: 16 | T64: 1 | U64: 22 | V64: 15 | W64: 0
B65: 女 Female | C65: 737 | D65: 669 | E65: 34 | F65: 0 | G65: 3 | H65: 0 | I65: 0 | J65: 17 | K65: 0 | L65: 0 | M65: 14 | N65: 117 | O65: 9 | P65: 6 | Q65: 69 | R65: 31 | S65: 38 | T65: 0 | U65: 18 | V65: 15 | W65: 0
A66: 嘉義市 | B66: 計 Total | C66: 573 | D66: 443 | E66: 12 | F66: 0 | G66: 0 | H66: 0 | I66: 0 | J66: 85 | K66: 33 | L66: 0 | M66: 0 | N66: 43 | O66: 22 | P66: 12 | Q66: 1 | R66: 1 | S66: 0 | T66: 0 | U66: 8 | V66: 0 | W66: 43
A67: Chiayi City | B67: 男 Male | C67: 353 | D67: 264 | E67: 10 | F67: 0 | G67: 0 | H67: 0 | I67: 0 | J67: 57 | K67: 22 | L67: 0 | M67: 0 | N67: 30 | O67: 12 | P67: 11 | Q67: 1 | R67: 1 | S67: 0 | T67: 0 | U67: 6 | V67: 0 | W67: 0
B68: 女 Female | C68: 220 | D68: 179 | E68: 2 | F68: 0 | G68: 0 | H68: 0 | I68: 0 | J68: 28 | K68: 11 | L68: 0 | M68: 0 | N68: 13 | O68: 10 | P68: 1 | Q68: 0 | R68: 0 | S68: 0 | T68: 0 | U68: 2 | V68: 0 | W68: 0
A69: 金門縣 | B69: 計 Total | C69: 420 | D69: 375 | E69: 2 | F69: 0 | G69: 2 | H69: 2 | I69: 1 | J69: 4 | K69: 2 | L69: 0 | M69: 32 | N69: 31 | O69: 3 | P69: 4 | Q69: 21 | R69: 11 | S69: 10 | T69: 2 | U69: 1 | V69: 0 | W69: 17
A70: Kinmen County | B70: 男 Male | C70: 70 | D70: 48 | E70: 0 | F70: 0 | G70: 0 | H70: 0 | I70: 0 | J70: 4 | K70: 0 | L70: 0 | M70: 18 | N70: 7 | O70: 0 | P70: 1 | Q70: 6 | R70: 3 | S70: 3 | T70: 0 | U70: 0 | V70: 0 | W70: 0
B71: 女 Female | C71: 350 | D71: 327 | E71: 2 | F71: 0 | G71: 2 | H71: 2 | I71: 1 | J71: 0 | K71: 2 | L71: 0 | M71: 14 | N71: 24 | O71: 3 | P71: 3 | Q71: 15 | R71: 8 | S71: 7 | T71: 2 | U71: 1 | V71: 0 | W71: 0
A72: 連江縣 | B72: 計 Total | C72: 0 | D72: 0 | E72: 0 | F72: 0 | G72: 0 | H72: 0 | I72: 0 | J72: 0 | K72: 0 | L72: 0 | M72: 0 | N72: 0 | O72: 0 | P72: 0 | Q72: 0 | R72: 0 | S72: 0 | T72: 0 | U72: 0 | V72: 0 | W72: 0
A73: Lienchiang County | B73: 男 Male | C73: 0 | D73: 0 | E73: 0 | F73: 0 | G73: 0 | H73: 0 | I73: 0 | J73: 0 | K73: 0 | L73: 0 | M73: 0 | N73: 0 | O73: 0 | P73: 0 | Q73: 0 | R73: 0 | S73: 0 | T73: 0 | U73: 0 | V73: 0 | W73: 0
B74: 女 Female | C74: 0 | D74: 0 | E74: 0 | F74: 0 | G74: 0 | H74: 0 | I74: 0 | J74: 0 | K74: 0 | L74: 0 | M74: 0 | N74: 0 | O74: 0 | P74: 0 | Q74: 0 | R74: 0 | S74: 0 | T74: 0 | U74: 0 | V74: 0 | W74: 0
A75: 資料來源：直轄市、縣(市)政府。
A76: Source : Social and Family Affairs Administration, MOHW and County and City Government.
A78: 更新日期：2019/3/11

Sheet 106
A1: 老人保護概況 Protection for the Aged | Q1: =SUM(Q9,Q12,Q15,Q18,Q21,Q24,Q27,Q30,Q33,Q36,Q39,Q42,Q45,Q48,Q51,Q54,Q57,Q60,Q63,Q66,Q69,Q72) -> 4788 | R1: =SUM(R9,R12,R15,R18,R21,R24,R27,R30,R33,R36,R39,R42,R45,R48,R51,R54,R57,R60,R63,R66,R69,R72) -> 2419 | S1: =SUM(S9,S12,S15,S18,S21,S24,S27,S30,S33,S36,S39,S42,S45,S48,S51,S54,S57,S60,S63,S66,S69,S72) -> 2363
A2: 民國106年, 2017
A3: 區域別及性別 Locality and Sex | C3: 老人保護扶助人次（複選；人次）Number of Senior Citizens Receiving Protection and Assistance | N3: 老人保護類型（複選；人次）Types of Elderly Protection | X3: 老人保護通報案件數(件) Number of Cases Reported for Elderly Protection
C4: 總計 Total | D4: 諮詢協談Counseling | E4: 保護安置Protection and Placement | F4: 陪同報案偵詢(訊) Accompanying the Parties Concerned During Case Reporting and Interrogation/Investigation | G4: 陪同出庭Accompanying the Parties Concerned to Appear before Court | H4: 驗傷診療Medical Examinations and Diagnoses | I4: 聲請保護令Petition for a Protection Order | J4: 經濟扶助Financial Aid | K4: 法律扶助Legal Aid | L4: 通譯服務Interpreting Services | M4: 其他扶助 Others | N4: 總計 Total | O4: 疏忽 Carelessness | P4: 遺棄 Abandoned | Q4: 身心虐待Mistreatness | U4: 財產侵占/搾取Misappropriation/Exploitation of Property | V4: 無人扶養Lack of Support | W4: 其他 Others
Q5: 合計 SubTotal | R5: 身體虐待 Physical Abuse | S5: 精神虐待Psychological Abuse | T5: 性虐待 Sexual Abuse
A6: 總計 | B6: 合計 SubTotal | C6: 69584 | D6: 55934 | E6: 3524 | F6: 317 | G6: 501 | H6: 421 | I6: 149 | J6: 1712 | K6: 1026 | L6: 0 | M6: 6000 | N6: 10248 | O6: 1095 | P6: 1084 | Q6: 4788 | R6: 2419 | S6: 2363 | T6: 6 | U6: 94 | V6: 2559 | W6: 628 | X6: 7697
A7: Total | B7: 男Male | C7: 36032 | D7: 28202 | E7: 2385 | F7: 157 | G7: 288 | H7: 233 | I7: 55 | J7: 1067 | K7: 569 | L7: 0 | M7: 3076 | N7: 5198 | O7: 628 | P7: 713 | Q7: 1834 | R7: 966 | S7: 867 | T7: 1 | U7: 44 | V7: 1687 | W7: 292 | X7: 0
B8: 女Female | C8: 33552 | D8: 27732 | E8: 1139 | F8: 160 | G8: 213 | H8: 188 | I8: 94 | J8: 645 | K8: 457 | L8: 0 | M8: 2924 | N8: 5050 | O8: 467 | P8: 371 | Q8: 2954 | R8: 1453 | S8: 1496 | T8: 5 | U8: 50 | V8: 872 | W8: 336 | X8: 0
A9: 新北市 | B9: 計 Total | C9: 12045 | D9: 10576 | E9: 1007 | F9: 9 | G9: 122 | H9: 12 | I9: 35 | J9: 112 | K9: 66 | L9: 0 | M9: 106 | N9: 2425 | O9: 146 | P9: 431 | Q9: 1286 | R9: 609 | S9: 675 | T9: 2 | U9: 29 | V9: 528 | W9: 5 | X9: 802
A10: New Taipei City | B10: 男 Male | C10: 4567 | D10: 3800 | E10: 592 | F10: 3 | G10: 60 | H10: 2 | I10: 10 | J10: 46 | K10: 28 | L10: 0 | M10: 26 | N10: 1147 | O10: 86 | P10: 288 | Q10: 443 | R10: 228 | S10: 214 | T10: 1 | U10: 11 | V10: 317 | W10: 2 | X10: 0
B11: 女 Female | C11: 7478 | D11: 6776 | E11: 415 | F11: 6 | G11: 62 | H11: 10 | I11: 25 | J11: 66 | K11: 38 | L11: 0 | M11: 80 | N11: 1278 | O11: 60 | P11: 143 | Q11: 843 | R11: 381 | S11: 461 | T11: 1 | U11: 18 | V11: 211 | W11: 3 | X11: 0
A12: 臺北市 | B12: 計 Total | C12: 8363 | D12: 5710 | E12: 80 | F12: 1 | G12: 90 | H12: 22 | I12: 51 | J12: 167 | K12: 145 | L12: 0 | M12: 2097 | N12: 699 | O12: 23 | P12: 22 | Q12: 514 | R12: 189 | S12: 322 | T12: 3 | U12: 1 | V12: 23 | W12: 116 | X12: 927
A13: Taipei City | B13: 男 Male | C13: 3016 | D13: 2029 | E13: 49 | F13: 1 | G13: 34 | H13: 6 | I13: 24 | J13: 86 | K13: 61 | L13: 0 | M13: 726 | N13: 251 | O13: 11 | P13: 10 | Q13: 180 | R13: 70 | S13: 110 | T13: 0 | U13: 1 | V13: 17 | W13: 32 | X13: 0
B14: 女 Female | C14: 5347 | D14: 3681 | E14: 31 | F14: 0 | G14: 56 | H14: 16 | I14: 27 | J14: 81 | K14: 84 | L14: 0 | M14: 1371 | N14: 448 | O14: 12 | P14: 12 | Q14: 334 | R14: 119 | S14: 212 | T14: 3 | U14: 0 | V14: 6 | W14: 84 | X14: 0
A15: 桃園市 | B15: 計 Total | C15: 8440 | D15: 7314 | E15: 18 | F15: 294 | G15: 96 | H15: 8 | I15: 20 | J15: 60 | K15: 116 | L15: 0 | M15: 514 | N15: 1431 | O15: 190 | P15: 145 | Q15: 602 | R15: 246 | S15: 355 | T15: 1 | U15: 23 | V15: 467 | W15: 4 | X15: 580
A16: Taoyuan City | B16: 男 Male | C16: 3580 | D16: 3092 | E16: 6 | F16: 146 | G16: 50 | H16: 5 | I16: 4 | J16: 19 | K16: 41 | L16: 0 | M16: 217 | N16: 719 | O16: 108 | P16: 81 | Q16: 274 | R16: 117 | S16: 157 | T16: 0 | U16: 8 | V16: 247 | W16: 1 | X16: 0
B17: 女 Female | C17: 4860 | D17: 4222 | E17: 12 | F17: 148 | G17: 46 | H17: 3 | I17: 16 | J17: 41 | K17: 75 | L17: 0 | M17: 297 | N17: 712 | O17: 82 | P17: 64 | Q17: 328 | R17: 129 | S17: 198 | T17: 1 | U17: 15 | V17: 220 | W17: 3 | X17: 0
A18: 臺中市 | B18: 計 Total | C18: 6460 | D18: 5047 | E18: 1179 | F18: 2 | G18: 26 | H18: 8 | I18: 0 | J18: 19 | K18: 17 | L18: 0 | M18: 162 | N18: 1171 | O18: 94 | P18: 80 | Q18: 11 | R18: 9 | S18: 2 | T18: 0 | U18: 8 | V18: 948 | W18: 30 | X18: 1216
A19: Taichung City | B19: 男 Male | C19: 4217 | D19: 3210 | E19: 858 | F19: 0 | G19: 23 | H19: 2 | I19: 0 | J19: 15 | K19: 8 | L19: 0 | M19: 101 | N19: 801 | O19: 49 | P19: 60 | Q19: 6 | R19: 4 | S19: 2 | T19: 0 | U19: 3 | V19: 670 | W19: 13 | X19: 0
B20: 女 Female | C20: 2243 | D20: 1837 | E20: 321 | F20: 2 | G20: 3 | H20: 6 | I20: 0 | J20: 4 | K20: 9 | L20: 0 | M20: 61 | N20: 370 | O20: 45 | P20: 20 | Q20: 5 | R20: 5 | S20: 0 | T20: 0 | U20: 5 | V20: 278 | W20: 17 | X20: 0
A21: 臺南市 | B21: 計 Total | C21: 2914 | D21: 1887 | E21: 74 | F21: 0 | G21: 41 | H21: 0 | I21: 0 | J21: 455 | K21: 55 | L21: 0 | M21: 402 | N21: 614 | O21: 137 | P21: 115 | Q21: 0 | R21: 0 | S21: 0 | T21: 0 | U21: 10 | V21: 158 | W21: 194 | X21: 617
A22: Tainan City | B22: 男 Male | C22: 2075 | D22: 1275 | E22: 58 | F22: 0 | G22: 40 | H22: 0 | I22: 0 | J22: 368 | K22: 48 | L22: 0 | M22: 286 | N22: 392 | O22: 92 | P22: 81 | Q22: 0 | R22: 0 | S22: 0 | T22: 0 | U22: 9 | V22: 115 | W22: 95 | X22: 0
B23: 女 Female | C23: 839 | D23: 612 | E23: 16 | F23: 0 | G23: 1 | H23: 0 | I23: 0 | J23: 87 | K23: 7 | L23: 0 | M23: 116 | N23: 222 | O23: 45 | P23: 34 | Q23: 0 | R23: 0 | S23: 0 | T23: 0 | U23: 1 | V23: 43 | W23: 99 | X23: 0
A24: 高雄市 | B24: 計 Total | C24: 14219 | D24: 11620 | E24: 820 | F24: 4 | G24: 67 | H24: 176 | I24: 26 | J24: 291 | K24: 161 | L24: 0 | M24: 1054 | N24: 1917 | O24: 116 | P24: 41 | Q24: 1550 | R24: 775 | S24: 775 | T24: 0 | U24: 3 | V24: 141 | W24: 66 | X24: 1673
A25: Kaohsiung City | B25: 男 Male | C25: 8876 | D25: 7223 | E25: 589 | F25: 2 | G25: 48 | H25: 92 | I25: 8 | J25: 161 | K25: 94 | L25: 0 | M25: 659 | N25: 883 | O25: 75 | P25: 34 | Q25: 628 | R25: 314 | S25: 314 | T25: 0 | U25: 3 | V25: 110 | W25: 33 | X25: 0
B26: 女 Female | C26: 5343 | D26: 4397 | E26: 231 | F26: 2 | G26: 19 | H26: 84 | I26: 18 | J26: 130 | K26: 67 | L26: 0 | M26: 395 | N26: 1034 | O26: 41 | P26: 7 | Q26: 922 | R26: 461 | S26: 461 | T26: 0 | U26: 0 | V26: 31 | W26: 33 | X26: 0
A27: 宜蘭縣 | B27: 計 Total | C27: 1395 | D27: 1190 | E27: 20 | F27: 4 | G27: 9 | H27: 67 | I27: 10 | J27: 21 | K27: 71 | L27: 0 | M27: 3 | N27: 103 | O27: 17 | P27: 7 | Q27: 42 | R27: 41 | S27: 1 | T27: 0 | U27: 1 | V27: 32 | W27: 4 | X27: 103
A28: Yilan County | B28: 男 Male | C28: 692 | D28: 554 | E28: 15 | F28: 3 | G28: 5 | H28: 47 | I28: 5 | J28: 16 | K28: 45 | L28: 0 | M28: 2 | N28: 50 | O28: 8 | P28: 5 | Q28: 12 | R28: 12 | S28: 0 | T28: 0 | U28: 0 | V28: 22 | W28: 3 | X28: 0
B29: 女 Female | C29: 703 | D29: 636 | E29: 5 | F29: 1 | G29: 4 | H29: 20 | I29: 5 | J29: 5 | K29: 26 | L29: 0 | M29: 1 | N29: 53 | O29: 9 | P29: 2 | Q29: 30 | R29: 29 | S29: 1 | T29: 0 | U29: 1 | V29: 10 | W29: 1 | X29: 0
A30: 新竹縣 | B30: 計 Total | C30: 706 | D30: 464 | E30: 20 | F30: 0 | G30: 8 | H30: 48 | I30: 0 | J30: 47 | K30: 54 | L30: 0 | M30: 65 | N30: 152 | O30: 49 | P30: 43 | Q30: 0 | R30: 0 | S30: 0 | T30: 0 | U30: 4 | V30: 51 | W30: 5 | X30: 261
A31: Hsinchu County | B31: 男 Male | C31: 414 | D31: 272 | E31: 14 | F31: 0 | G31: 4 | H31: 27 | I31: 0 | J31: 27 | K31: 30 | L31: 0 | M31: 40 | N31: 101 | O31: 34 | P31: 25 | Q31: 0 | R31: 0 | S31: 0 | T31: 0 | U31: 2 | V31: 37 | W31: 3 | X31: 0
B32: 女 Female | C32: 292 | D32: 192 | E32: 6 | F32: 0 | G32: 4 | H32: 21 | I32: 0 | J32: 20 | K32: 24 | L32: 0 | M32: 25 | N32: 51 | O32: 15 | P32: 18 | Q32: 0 | R32: 0 | S32: 0 | T32: 0 | U32: 2 | V32: 14 | W32: 2 | X32: 0
A33: 苗栗縣 | B33: 計 Total | C33: 883 | D33: 740 | E33: 30 | F33: 1 | G33: 4 | H33: 0 | I33: 0 | J33: 27 | K33: 27 | L33: 0 | M33: 54 | N33: 78 | O33: 33 | P33: 13 | Q33: 1 | R33: 1 | S33: 0 | T33: 0 | U33: 1 | V33: 25 | W33: 5 | X33: 78
A34: Miaoli County | B34: 男 Male | C34: 552 | D34: 464 | E34: 18 | F34: 1 | G34: 3 | H34: 0 | I34: 0 | J34: 17 | K34: 12 | L34: 0 | M34: 37 | N34: 40 | O34: 13 | P34: 6 | Q34: 0 | R34: 0 | S34: 0 | T34: 0 | U34: 1 | V34: 17 | W34: 3 | X34: 0
B35: 女 Female | C35: 331 | D35: 276 | E35: 12 | F35: 0 | G35: 1 | H35: 0 | I35: 0 | J35: 10 | K35: 15 | L35: 0 | M35: 17 | N35: 38 | O35: 20 | P35: 7 | Q35: 1 | R35: 1 | S35: 0 | T35: 0 | U35: 0 | V35: 8 | W35: 2 | X35: 0
A36: 彰化縣 | B36: 計 Total | C36: 2506 | D36: 1900 | E36: 32 | F36: 0 | G36: 3 | H36: 0 | I36: 0 | J36: 77 | K36: 29 | L36: 0 | M36: 465 | N36: 112 | O36: 46 | P36: 21 | Q36: 6 | R36: 5 | S36: 1 | T36: 0 | U36: 1 | V36: 18 | W36: 20 | X36: 122
A37: Changhua County | B37: 男 Male | C37: 1742 | D37: 1301 | E37: 24 | F37: 0 | G37: 3 | H37: 0 | I37: 0 | J37: 52 | K37: 28 | L37: 0 | M37: 334 | N37: 69 | O37: 26 | P37: 17 | Q37: 2 | R37: 1 | S37: 1 | T37: 0 | U37: 0 | V37: 13 | W37: 11 | X37: 0
B38: 女 Female | C38: 764 | D38: 599 | E38: 8 | F38: 0 | G38: 0 | H38: 0 | I38: 0 | J38: 25 | K38: 1 | L38: 0 | M38: 131 | N38: 43 | O38: 20 | P38: 4 | Q38: 4 | R38: 4 | S38: 0 | T38: 0 | U38: 1 | V38: 5 | W38: 9 | X38: 0
A39: 南投縣 | B39: 計 Total | C39: 965 | D39: 741 | E39: 25 | F39: 1 | G39: 8 | H39: 50 | I39: 2 | J39: 34 | K39: 12 | L39: 0 | M39: 92 | N39: 116 | O39: 18 | P39: 15 | Q39: 64 | R39: 42 | S39: 22 | T39: 0 | U39: 2 | V39: 10 | W39: 7 | X39: 113
A40: Nantou County | B40: 男 Male | C40: 438 | D40: 309 | E40: 18 | F40: 1 | G40: 6 | H40: 27 | I40: 2 | J40: 8 | K40: 5 | L40: 0 | M40: 62 | N40: 51 | O40: 11 | P40: 9 | Q40: 20 | R40: 16 | S40: 4 | T40: 0 | U40: 0 | V40: 6 | W40: 5 | X40: 0
B41: 女 Female | C41: 527 | D41: 432 | E41: 7 | F41: 0 | G41: 2 | H41: 23 | I41: 0 | J41: 26 | K41: 7 | L41: 0 | M41: 30 | N41: 65 | O41: 7 | P41: 6 | Q41: 44 | R41: 26 | S41: 18 | T41: 0 | U41: 2 | V41: 4 | W41: 2 | X41: 0
A42: 雲林縣 | B42: 計 Total | C42: 637 | D42: 500 | E42: 36 | F42: 0 | G42: 2 | H42: 22 | I42: 0 | J42: 2 | K42: 29 | L42: 0 | M42: 46 | N42: 465 | O42: 60 | P42: 36 | Q42: 279 | R42: 279 | S42: 0 | T42: 0 | U42: 2 | V42: 40 | W42: 48 | X42: 465
A43: Yunlin County | B43: 男 Male | C43: 326 | D43: 251 | E43: 20 | F43: 0 | G43: 1 | H43: 19 | I43: 0 | J43: 2 | K43: 11 | L43: 0 | M43: 22 | N43: 210 | O43: 28 | P43: 21 | Q43: 108 | R43: 108 | S43: 0 | T43: 0 | U43: 0 | V43: 28 | W43: 25 | X43: 0
B44: 女 Female | C44: 311 | D44: 249 | E44: 16 | F44: 0 | G44: 1 | H44: 3 | I44: 0 | J44: 0 | K44: 18 | L44: 0 | M44: 24 | N44: 255 | O44: 32 | P44: 15 | Q44: 171 | R44: 171 | S44: 0 | T44: 0 | U44: 2 | V44: 12 | W44: 23 | X44: 0
A45: 嘉義縣 | B45: 計 Total | C45: 3968 | D45: 2841 | E45: 2 | F45: 0 | G45: 0 | H45: 0 | I45: 0 | J45: 239 | K45: 143 | L45: 0 | M45: 743 | N45: 136 | O45: 25 | P45: 14 | Q45: 0 | R45: 0 | S45: 0 | T45: 0 | U45: 0 | V45: 16 | W45: 81 | X45: 136
A46: Chiayi County | B46: 男 Male | C46: 2122 | D46: 1415 | E46: 1 | F46: 0 | G46: 0 | H46: 0 | I46: 0 | J46: 159 | K46: 108 | L46: 0 | M46: 439 | N46: 78 | O46: 12 | P46: 9 | Q46: 0 | R46: 0 | S46: 0 | T46: 0 | U46: 0 | V46: 11 | W46: 46 | X46: 0
B47: 女 Female | C47: 1846 | D47: 1426 | E47: 1 | F47: 0 | G47: 0 | H47: 0 | I47: 0 | J47: 80 | K47: 35 | L47: 0 | M47: 304 | N47: 58 | O47: 13 | P47: 5 | Q47: 0 | R47: 0 | S47: 0 | T47: 0 | U47: 0 | V47: 5 | W47: 35 | X47: 0
A48: 屏東縣 | B48: 計 Total | C48: 1283 | D48: 1169 | E48: 16 | F48: 0 | G48: 4 | H48: 0 | I48: 0 | J48: 20 | K48: 5 | L48: 0 | M48: 69 | N48: 93 | O48: 36 | P48: 24 | Q48: 4 | R48: 0 | S48: 4 | T48: 0 | U48: 2 | V48: 21 | W48: 6 | X48: 89
A49: Pingtung County | B49: 男 Male | C49: 890 | D49: 790 | E49: 15 | F49: 0 | G49: 4 | H49: 0 | I49: 0 | J49: 16 | K49: 5 | L49: 0 | M49: 60 | N49: 58 | O49: 17 | P49: 15 | Q49: 4 | R49: 0 | S49: 4 | T49: 0 | U49: 2 | V49: 16 | W49: 4 | X49: 0
B50: 女 Female | C50: 393 | D50: 379 | E50: 1 | F50: 0 | G50: 0 | H50: 0 | I50: 0 | J50: 4 | K50: 0 | L50: 0 | M50: 9 | N50: 35 | O50: 19 | P50: 9 | Q50: 0 | R50: 0 | S50: 0 | T50: 0 | U50: 0 | V50: 5 | W50: 2 | X50: 0
A51: 臺東縣 | B51: 計 Total | C51: 308 | D51: 266 | E51: 4 | F51: 0 | G51: 0 | H51: 0 | I51: 0 | J51: 20 | K51: 0 | L51: 0 | M51: 18 | N51: 33 | O51: 8 | P51: 14 | Q51: 1 | R51: 1 | S51: 0 | T51: 0 | U51: 2 | V51: 6 | W51: 2 | X51: 23
A52: Taitung County | B52: 男 Male | C52: 203 | D52: 173 | E52: 4 | F52: 0 | G52: 0 | H52: 0 | I52: 0 | J52: 16 | K52: 0 | L52: 0 | M52: 10 | N52: 18 | O52: 4 | P52: 10 | Q52: 0 | R52: 0 | S52: 0 | T52: 0 | U52: 1 | V52: 3 | W52: 0 | X52: 0
B53: 女 Female | C53: 105 | D53: 93 | E53: 0 | F53: 0 | G53: 0 | H53: 0 | I53: 0 | J53: 4 | K53: 0 | L53: 0 | M53: 8 | N53: 15 | O53: 4 | P53: 4 | Q53: 1 | R53: 1 | S53: 0 | T53: 0 | U53: 1 | V53: 3 | W53: 2 | X53: 0
A54: 花蓮縣 | B54: 計 Total | C54: 88 | D54: 33 | E54: 16 | F54: 0 | G54: 0 | H54: 0 | I54: 0 | J54: 0 | K54: 2 | L54: 0 | M54: 37 | N54: 43 | O54: 12 | P54: 7 | Q54: 1 | R54: 1 | S54: 0 | T54: 0 | U54: 2 | V54: 11 | W54: 10 | X54: 22
A55: Hualien County | B55: 男 Male | C55: 36 | D55: 14 | E55: 7 | F55: 0 | G55: 0 | H55: 0 | I55: 0 | J55: 0 | K55: 0 | L55: 0 | M55: 15 | N55: 19 | O55: 2 | P55: 3 | Q55: 0 | R55: 0 | S55: 0 | T55: 0 | U55: 1 | V55: 7 | W55: 6 | X55: 0
B56: 女 Female | C56: 52 | D56: 19 | E56: 9 | F56: 0 | G56: 0 | H56: 0 | I56: 0 | J56: 0 | K56: 2 | L56: 0 | M56: 22 | N56: 24 | O56: 10 | P56: 4 | Q56: 1 | R56: 1 | S56: 0 | T56: 0 | U56: 1 | V56: 4 | W56: 4 | X56: 0
A57: 澎湖縣 | B57: 計 Total | C57: 36 | D57: 33 | E57: 0 | F57: 0 | G57: 2 | H57: 0 | I57: 1 | J57: 0 | K57: 0 | L57: 0 | M57: 0 | N57: 33 | O57: 0 | P57: 0 | Q57: 25 | R57: 22 | S57: 3 | T57: 0 | U57: 0 | V57: 0 | W57: 8 | X57: 31
A58: Penghu County | B58: 男 Male | C58: 13 | D58: 13 | E58: 0 | F58: 0 | G58: 0 | H58: 0 | I58: 0 | J58: 0 | K58: 0 | L58: 0 | M58: 0 | N58: 13 | O58: 0 | P58: 0 | Q58: 11 | R58: 11 | S58: 0 | T58: 0 | U58: 0 | V58: 0 | W58: 2 | X58: 0
B59: 女 Female | C59: 23 | D59: 20 | E59: 0 | F59: 0 | G59: 2 | H59: 0 | I59: 1 | J59: 0 | K59: 0 | L59: 0 | M59: 0 | N59: 20 | O59: 0 | P59: 0 | Q59: 14 | R59: 11 | S59: 3 | T59: 0 | U59: 0 | V59: 0 | W59: 6 | X59: 0
A60: 基隆市 | B60: 計 Total | C60: 2330 | D60: 2120 | E60: 96 | F60: 0 | G60: 10 | H60: 0 | I60: 0 | J60: 13 | K60: 68 | L60: 0 | M60: 23 | N60: 320 | O60: 19 | P60: 27 | Q60: 237 | R60: 124 | S60: 113 | T60: 0 | U60: 0 | V60: 32 | W60: 5 | X60: 192
A61: Keelung City | B61: 男 Male | C61: 1214 | D61: 1103 | E61: 62 | F61: 0 | G61: 4 | H61: 0 | I61: 0 | J61: 5 | K61: 30 | L61: 0 | M61: 10 | N61: 146 | O61: 11 | P61: 18 | Q61: 89 | R61: 57 | S61: 32 | T61: 0 | U61: 0 | V61: 26 | W61: 2 | X61: 0
B62: 女 Female | C62: 1116 | D62: 1017 | E62: 34 | F62: 0 | G62: 6 | H62: 0 | I62: 0 | J62: 8 | K62: 38 | L62: 0 | M62: 13 | N62: 174 | O62: 8 | P62: 9 | Q62: 148 | R62: 67 | S62: 81 | T62: 0 | U62: 0 | V62: 6 | W62: 3 | X62: 0
A63: 新竹市 | B63: 計 Total | C63: 1481 | D63: 1340 | E63: 37 | F63: 1 | G63: 9 | H63: 3 | I63: 2 | J63: 50 | K63: 9 | L63: 0 | M63: 30 | N63: 217 | O63: 20 | P63: 19 | Q63: 146 | R63: 63 | S63: 83 | T63: 0 | U63: 2 | V63: 18 | W63: 12 | X63: 183
A64: Hsinchu City | B64: 男 Male | C64: 630 | D64: 561 | E64: 26 | F64: 0 | G64: 3 | H64: 3 | I64: 1 | J64: 17 | K64: 5 | L64: 0 | M64: 14 | N64: 94 | O64: 10 | P64: 16 | Q64: 47 | R64: 21 | S64: 26 | T64: 0 | U64: 1 | V64: 14 | W64: 6 | X64: 0
B65: 女 Female | C65: 851 | D65: 779 | E65: 11 | F65: 1 | G65: 6 | H65: 0 | I65: 1 | J65: 33 | K65: 4 | L65: 0 | M65: 16 | N65: 123 | O65: 10 | P65: 3 | Q65: 99 | R65: 42 | S65: 57 | T65: 0 | U65: 1 | V65: 4 | W65: 6 | X65: 0
A66: 嘉義市 | B66: 計 Total | C66: 231 | D66: 146 | E66: 9 | F66: 0 | G66: 0 | H66: 5 | I66: 0 | J66: 55 | K66: 16 | L66: 0 | M66: 0 | N66: 61 | O66: 43 | P66: 9 | Q66: 0 | R66: 0 | S66: 0 | T66: 0 | U66: 0 | V66: 9 | W66: 0 | X66: 45
A67: Chiayi City | B67: 男 Male | C67: 137 | D67: 85 | E67: 6 | F67: 0 | G67: 0 | H67: 3 | I67: 0 | J67: 34 | K67: 9 | L67: 0 | M67: 0 | N67: 38 | O67: 28 | P67: 4 | Q67: 0 | R67: 0 | S67: 0 | T67: 0 | U67: 0 | V67: 6 | W67: 0 | X67: 0
B68: 女 Female | C68: 94 | D68: 61 | E68: 3 | F68: 0 | G68: 0 | H68: 2 | I68: 0 | J68: 21 | K68: 7 | L68: 0 | M68: 0 | N68: 23 | O68: 15 | P68: 5 | Q68: 0 | R68: 0 | S68: 0 | T68: 0 | U68: 0 | V68: 3 | W68: 0 | X68: 0
A69: 金門縣 | B69: 計 Total | C69: 326 | D69: 297 | E69: 3 | F69: 0 | G69: 0 | H69: 0 | I69: 2 | J69: 3 | K69: 1 | L69: 0 | M69: 20 | N69: 29 | O69: 3 | P69: 1 | Q69: 19 | R69: 12 | S69: 7 | T69: 0 | U69: 1 | V69: 5 | W69: 0 | X69: 19
A70: Kinmen County | B70: 男 Male | C70: 292 | D70: 268 | E70: 3 | F70: 0 | G70: 0 | H70: 0 | I70: 1 | J70: 3 | K70: 1 | L70: 0 | M70: 16 | N70: 20 | O70: 3 | P70: 1 | Q70: 10 | R70: 7 | S70: 3 | T70: 0 | U70: 1 | V70: 5 | W70: 0 | X70: 0
B71: 女 Female | C71: 34 | D71: 29 | E71: 0 | F71: 0 | G71: 0 | H71: 0 | I71: 1 | J71: 0 | K71: 0 | L71: 0 | M71: 4 | N71: 9 | O71: 0 | P71: 0 | Q71: 9 | R71: 5 | S71: 4 | T71: 0 | U71: 0 | V71: 0 | W71: 0 | X71: 0
A72: 連江縣 | B72: 計 Total | C72: 0 | D72: 0 | E72: 0 | F72: 0 | G72: 0 | H72: 0 | I72: 0 | J72: 0 | K72: 0 | L72: 0 | M72: 0 | N72: 0 | O72: 0 | P72: 0 | Q72: 0 | R72: 0 | S72: 0 | T72: 0 | U72: 0 | V72: 0 | W72: 0 | X72: 0
A73: Lienchiang County | B73: 男 Male | C73: 0 | D73: 0 | E73: 0 | F73: 0 | G73: 0 | H73: 0 | I73: 0 | J73: 0 | K73: 0 | L73: 0 | M73: 0 | N73: 0 | O73: 0 | P73: 0 | Q73: 0 | R73: 0 | S73: 0 | T73: 0 | U73: 0 | V73: 0 | W73: 0 | X73: 0
B74: 女 Female | C74: 0 | D74: 0 | E74: 0 | F74: 0 | G74: 0 | H74: 0 | I74: 0 | J74: 0 | K74: 0 | L74: 0 | M74: 0 | N74: 0 | O74: 0 | P74: 0 | Q74: 0 | R74: 0 | S74: 0 | T74: 0 | U74: 0 | V74: 0 | W74: 0 | X74: 0
A75: 資料來源：直轄市、縣(市)政府。
A76: Source : Social and Family Affairs Administration, MOHW and County and City Government.
A78: 更新日期：2018/3/31

Sheet 105
A1: 老人保護概況 Protection for the Aged
A2: 民國105年, 2016
A3: 區域別 Locality | C3: 通報專線 | G3: 緊急通報點 | K3: 保護服務項目 Protection Items | AU3: 受虐型態 (Mistreatness Type)
K4: 法津訴訟及諮詢 | Q4: 驗傷醫療 | W4: 個案輔導 | AC4: 個案追蹤輔導訪視 | AI4: 問安電話 | AO4: 保護安置 | AU4: 遺棄 | AZ4: 虐待 | BE4: 疏忽 | BJ4: 財務侵佔 | BO4: 失依陷困 | BT4: 其他
C5: Service Lines | G5: Service Spots | K5: Litigation of Law and Counselling | Q5: Medical Checkup and Treatment | W5: Specific Assistance | AC5: Specific Assistance Followed | AI5: Call Inquired for Health | AO5: Committed Settling | AU5: Abandoned | AZ5: Mistreatness | BE5: Carelessness | BJ5: Financial Occupation | BO5: Non-support | BT5: Others
C6: 專線電話數(線) | D6: 受服務人次(人次) | G6: 通報點數(處) | H6: 受服務人次(人次) | K6: 受服務人數 (人) | P6: 受服務人次 | Q6: 受服務人數 (人) | V6: 受服務人次 | W6: 受服務人數 (人) | AB6: 受服務人次 | AC6: 受服務人數 (人) | AH6: 受服務人次 | AI6: 受服務人數 (人) | AN6: 受服務人次 | AO6: 受服務人數 (人) | AT6: 受服務人次 | AU6: 受服務人數 (人) | AZ6: 受服務人數 (人) | BE6: 受服務人數 (人) | BJ6: 受服務人數 (人) | BO6: 受服務人數 (人) | BT6: 受服務人數 (人)
D7: Persons Serviced (Person-Times) | H7: Persons Serviced (Person-Times) | K7: Persons Serviced (Persons) | Q7: Persons Serviced (Persons) | W7: Persons Serviced (Persons) | AC7: Persons Serviced (Persons) | AI7: Persons Serviced (Persons) | AO7: Persons Serviced (Persons) | AU7: Persons Serviced (Persons) | AZ7: Persons Serviced (Persons) | BE7: Persons Serviced (Persons) | BJ7: Persons Serviced (Persons) | BO7: Persons Serviced (Persons) | BT7: Persons Serviced (Persons)
C8: No. of Lines | D8: 合計 | E8: 男 | F8: 女 | G8: Spots (Places) | H8: 合計 | I8: 男 | J8: 女 | K8: 合計 | L8: 一般 | N8: 原住民 | Q8: 合計 | R8: 一般 | T8: 原住民 | W8: 合計 | X8: 一般 | Z8: 原住民 | AC8: 合計 | AD8: 一般 | AF8: 原住民 | AI8: 合計 | AJ8: 一般 | AL8: 原住民 | AO8: 合計 | AP8: 一般 | AR8: 原住民 | AU8: 合計 | AV8: 一般 | AX8: 原住民 | AZ8: 合計 | BA8: 一般 | BC8: 原住民 | BE8: 合計 | BF8: 一般 | BH8: 原住民 | BJ8: 合計 | BK8: 一般 | BM8: 原住民 | BO8: 合計 | BP8: 一般 | BR8: 原住民 | BT8: 合計 | BU8: 一般 | BW8: 原住民
L9: General | N9: Indigenous | R9: General | T9: Indigenous | X9: General | Z9: Indigenous | AD9: General | AF9: Indigenous | AJ9: General | AL9: Indigenous | AP9: General | AR9: Indigenous | AV9: General | AX9: Indigenous | BA9: General | BC9: Indigenous | BF9: General | BH9: Indigenous | BK9: General | BM9: Indigenous | BP9: General | BR9: Indigenous | BU9: General | BW9: Indigenous
D10: Total | E10: Male | F10: Female | H10: Total | I10: Male | J10: Female | K10: Total | L10: 男 | M10: 女 | N10: 男 | O10: 女 | P10: Service Person-times | Q10: Total | R10: 男 | S10: 女 | T10: 男 | U10: 女 | V10: Service Person-times | W10: Total | X10: 男 | Y10: 女 | Z10: 男 | AA10: 女 | AB10: Service Person-times | AC10: Total | AD10: 男 | AE10: 女 | AF10: 男 | AG10: 女 | AH10: Service Person-times | AI10: Total | AJ10: 男 | AK10: 女 | AL10: 男 | AM10: 女 | AN10: Service Person-times | AO10: Total | AP10: 男 | AQ10: 女 | AR10: 男 | AS10: 女 | AT10: Service Person-times | AU10: Total | AV10: 男 | AW10: 女 | AX10: 男 | AY10: 女 | AZ10: Total | BA10: 男 | BB10: 女 | BC10: 男 | BD10: 女 | BE10: Total | BF10: 男 | BG10: 女 | BH10: 男 | BI10: 女 | BJ10: Total | BK10: 男 | BL10: 女 | BM10: 男 | BN10: 女 | BO10: Total | BP10: 男 | BQ10: 女 | BR10: 男 | BS10: 女 | BT10: Total | BU10: 男 | BV10: 女 | BW10: 男 | BX10: 女
L11: Male | M11: Female | N11: Male | O11: Female | R11: Male | S11: Female | T11: Male | U11: Female | X11: Male | Y11: Female | Z11: Male | AA11: Female | AD11: Male | AE11: Female | AF11: Male | AG11: Female | AJ11: Male | AK11: Female | AL11: Male | AM11: Female | AP11: Male | AQ11: Female | AR11: Male | AS11: Female | AV11: Male | AW11: Female | AX11: Male | AY11: Female | BA11: Male | BB11: Female | BC11: Male | BD11: Female | BF11: Male | BG11: Female | BH11: Male | BI11: Female | BK11: Male | BL11: Female | BM11: Male | BN11: Female | BP11: Male | BQ11: Female | BR11: Male | BS11: Female | BU11: Male | BV11: Female | BW11: Male | BX11: Female
A12: 總計 | B12: Total | C12: 44 | D12: 5464 | E12: 2473 | F12: 2991 | G12: 348 | H12: 8800 | I12: 4550 | J12: 4250 | K12: 1549 | L12: 690 | M12: 837 | N12: 13 | O12: 9 | P12: 2230 | Q12: 571 | R12: 274 | S12: 288 | T12: 6 | U12: 3 | V12: 781 | W12: 5255 | X12: 2453 | Y12: 2750 | Z12: 29 | AA12: 23 | AB12: 14707 | AC12: 10346 | AD12: 4314 | AE12: 5943 | AF12: 46 | AG12: 43 | AH12: 30108 | AI12: 3460 | AJ12: 1727 | AK12: 1620 | AL12: 71 | AM12: 42 | AN12: 11104 | AO12: 1388 | AP12: 934 | AQ12: 423 | AR12: 24 | AS12: 7 | AT12: 6346 | AU12: 710 | AV12: 418 | AW12: 279 | AX12: 6 | AY12: 7 | AZ12: 3833 | BA12: 1444 | BB12: 2364 | BC12: 8 | BD12: 17 | BE12: 926 | BF12: 429 | BG12: 477 | BH12: 7 | BI12: 13 | BJ12: 53 | BK12: 25 | BL12: 28 | BM12: 0 | BN12: 0 | BO12: 1086 | BP12: 753 | BQ12: 315 | BR12: 13 | BS12: 5 | BT12: 1149 | BU12: 512 | BV12: 622 | BW12: 5 | BX12: 10
A13: 新北市 | B13: New Taipei City | C13: 2 | D13: 1575 | E13: 714 | F13: 861 | G13: 32 | H13: 1870 | I13: 936 | J13: 934 | K13: 39 | L13: 26 | M13: 13 | N13: 0 | O13: 0 | P13: 44 | Q13: 129 | R13: 57 | S13: 72 | T13: 0 | U13: 0 | V13: 134 | W13: 1147 | X13: 442 | Y13: 705 | Z13: 0 | AA13: 0 | AB13: 1444 | AC13: 1641 | AD13: 657 | AE13: 984 | AF13: 0 | AG13: 0 | AH13: 1964 | AI13: 52 | AJ13: 32 | AK13: 20 | AL13: 0 | AM13: 0 | AN13: 285 | AO13: 213 | AP13: 143 | AQ13: 70 | AR13: 0 | AS13: 0 | AT13: 577 | AU13: 126 | AV13: 85 | AW13: 41 | AX13: 0 | AY13: 0 | AZ13: 957 | BA13: 335 | BB13: 622 | BC13: 0 | BD13: 0 | BE13: 19 | BF13: 10 | BG13: 9 | BH13: 0 | BI13: 0 | BJ13: 2 | BK13: 1 | BL13: 1 | BM13: 0 | BN13: 0 | BO13: 64 | BP13: 40 | BQ13: 24 | BR13: 0 | BS13: 0 | BT13: 20 | BU13: 11 | BV13: 9 | BW13: 0 | BX13: 0
A14: 臺北市 | B14: Taipei City | C14: 1 | D14: 525 | E14: 161 | F14: 364 | G14: 14 | H14: 60 | I14: 38 | J14: 22 | K14: 169 | L14: 66 | M14: 103 | N14: 0 | O14: 0 | P14: 188 | Q14: 4 | R14: 0 | S14: 4 | T14: 0 | U14: 0 | V14: 4 | W14: 384 | X14: 129 | Y14: 254 | Z14: 0 | AA14: 1 | AB14: 534 | AC14: 3751 | AD14: 1160 | AE14: 2588 | AF14: 0 | AG14: 3 | AH14: 8470 | AI14: 0 | AJ14: 0 | AK14: 0 | AL14: 0 | AM14: 0 | AN14: 0 | AO14: 65 | AP14: 42 | AQ14: 23 | AR14: 0 | AS14: 0 | AT14: 65 | AU14: 28 | AV14: 14 | AW14: 14 | AX14: 0 | AY14: 0 | AZ14: 369 | BA14: 109 | BB14: 259 | BC14: 0 | BD14: 1 | BE14: 11 | BF14: 1 | BG14: 10 | BH14: 0 | BI14: 0 | BJ14: 7 | BK14: 2 | BL14: 5 | BM14: 0 | BN14: 0 | BO14: 0 | BP14: 0 | BQ14: 0 | BR14: 0 | BS14: 0 | BT14: 77 | BU14: 25 | BV14: 52 | BW14: 0 | BX14: 0
A15: 桃園市 | B15: Taoyuan City | C15: 1 | D15: 808 | E15: 296 | F15: 512 | G15: 15 | H15: 623 | I15: 421 | J15: 202 | K15: 76 | L15: 34 | M15: 40 | N15: 2 | O15: 0 | P15: 90 | Q15: 2 | R15: 0 | S15: 1 | T15: 1 | U15: 0 | V15: 2 | W15: 610 | X15: 286 | Y15: 307 | Z15: 12 | AA15: 5 | AB15: 2625 | AC15: 861 | AD15: 452 | AE15: 391 | AF15: 10 | AG15: 8 | AH15: 1849 | AI15: 396 | AJ15: 146 | AK15: 222 | AL15: 22 | AM15: 6 | AN15: 1227 | AO15: 112 | AP15: 65 | AQ15: 34 | AR15: 12 | AS15: 1 | AT15: 496 | AU15: 17 | AV15: 6 | AW15: 11 | AX15: 0 | AY15: 0 | AZ15: 395 | BA15: 141 | BB15: 247 | BC15: 2 | BD15: 5 | BE15: 13 | BF15: 8 | BG15: 5 | BH15: 0 | BI15: 0 | BJ15: 3 | BK15: 2 | BL15: 1 | BM15: 0 | BN15: 0 | BO15: 4 | BP15: 1 | BQ15: 3 | BR15: 0 | BS15: 0 | BT15: 409 | BU15: 148 | BV15: 251 | BW15: 2 | BX15: 8
A16: 臺中市 | B16: Taichung City | C16: 1 | D16: 122 | E16: 42 | F16: 80 | G16: 5 | H16: 1408 | I16: 603 | J16: 805 | K16: 560 | L16: 216 | M16: 342 | N16: 0 | O16: 2 | P16: 653 | Q16: 15 | R16: 7 | S16: 8 | T16: 0 | U16: 0 | V16: 25 | W16: 927 | X16: 403 | Y16: 524 | Z16: 0 | AA16: 0 | AB16: 1885 | AC16: 1124 | AD16: 528 | AE16: 587 | AF16: 3 | AG16: 6 | AH16: 6285 | AI16: 701 | AJ16: 345 | AK16: 353 | AL16: 0 | AM16: 3 | AN16: 1750 | AO16: 484 | AP16: 315 | AQ16: 167 | AR16: 1 | AS16: 1 | AT16: 3525 | AU16: 208 | AV16: 108 | AW16: 100 | AX16: 0 | AY16: 0 | AZ16: 740 | BA16: 311 | BB16: 427 | BC16: 0 | BD16: 2 | BE16: 162 | BF16: 64 | BG16: 98 | BH16: 0 | BI16: 0 | BJ16: 14 | BK16: 8 | BL16: 6 | BM16: 0 | BN16: 0 | BO16: 293 | BP16: 215 | BQ16: 76 | BR16: 1 | BS16: 1 | BT16: 22 | BU16: 12 | BV16: 10 | BW16: 0 | BX16: 0
A17: 臺南市 | B17: Tainan City | C17: 1 | D17: 311 | E17: 175 | F17: 136 | G17: 7 | H17: 713 | I17: 369 | J17: 344 | K17: 61 | L17: 37 | M17: 24 | N17: 0 | O17: 0 | P17: 124 | Q17: 1 | R17: 1 | S17: 0 | T17: 0 | U17: 0 | V17: 1 | W17: 271 | X17: 183 | Y17: 88 | Z17: 0 | AA17: 0 | AB17: 750 | AC17: 551 | AD17: 328 | AE17: 223 | AF17: 0 | AG17: 0 | AH17: 1661 | AI17: 428 | AJ17: 230 | AK17: 198 | AL17: 0 | AM17: 0 | AN17: 804 | AO17: 88 | AP17: 68 | AQ17: 20 | AR17: 0 | AS17: 0 | AT17: 423 | AU17: 14 | AV17: 7 | AW17: 7 | AX17: 0 | AY17: 0 | AZ17: 9 | BA17: 4 | BB17: 5 | BC17: 0 | BD17: 0 | BE17: 218 | BF17: 108 | BG17: 110 | BH17: 0 | BI17: 0 | BJ17: 5 | BK17: 3 | BL17: 2 | BM17: 0 | BN17: 0 | BO17: 169 | BP17: 100 | BQ17: 69 | BR17: 0 | BS17: 0 | BT17: 298 | BU17: 147 | BV17: 151 | BW17: 0 | BX17: 0
A18: 高雄市 | B18: Kaohsiung City | C18: 2 | D18: 279 | E18: 138 | F18: 141 | G18: 2 | H18: 1548 | I18: 718 | J18: 830 | K18: 26 | L18: 14 | M18: 12 | N18: 0 | O18: 0 | P18: 65 | Q18: 160 | R18: 60 | S18: 100 | T18: 0 | U18: 0 | V18: 212 | W18: 557 | X18: 328 | Y18: 229 | Z18: 0 | AA18: 0 | AB18: 2264 | AC18: 809 | AD18: 375 | AE18: 434 | AF18: 0 | AG18: 0 | AH18: 2010 | AI18: 165 | AJ18: 113 | AK18: 52 | AL18: 0 | AM18: 0 | AN18: 558 | AO18: 140 | AP18: 110 | AQ18: 30 | AR18: 0 | AS18: 0 | AT18: 342 | AU18: 59 | AV18: 35 | AW18: 24 | AX18: 0 | AY18: 0 | AZ18: 493 | BA18: 166 | BB18: 325 | BC18: 1 | BD18: 1 | BE18: 99 | BF18: 56 | BG18: 43 | BH18: 0 | BI18: 0 | BJ18: 6 | BK18: 2 | BL18: 4 | BM18: 0 | BN18: 0 | BO18: 152 | BP18: 114 | BQ18: 38 | BR18: 0 | BS18: 0 | BT18: 40 | BU18: 18 | BV18: 22 | BW18: 0 | BX18: 0
A19: 宜蘭縣 | B19: Yilan County | C19: 2 | D19: 157 | E19: 78 | F19: 79 | G19: 13 | H19: 157 | I19: 78 | J19: 79 | K19: 102 | L19: 48 | M19: 50 | N19: 2 | O19: 2 | P19: 217 | Q19: 34 | R19: 17 | S19: 14 | T19: 1 | U19: 2 | V19: 102 | W19: 118 | X19: 56 | Y19: 59 | Z19: 1 | AA19: 2 | AB19: 243 | AC19: 115 | AD19: 56 | AE19: 53 | AF19: 2 | AG19: 4 | AH19: 334 | AI19: 116 | AJ19: 59 | AK19: 54 | AL19: 1 | AM19: 2 | AN19: 388 | AO19: 23 | AP19: 13 | AQ19: 10 | AR19: 0 | AS19: 0 | AT19: 23 | AU19: 8 | AV19: 3 | AW19: 4 | AX19: 0 | AY19: 1 | AZ19: 84 | BA19: 41 | BB19: 42 | BC19: 0 | BD19: 1 | BE19: 34 | BF19: 12 | BG19: 19 | BH19: 1 | BI19: 2 | BJ19: 0 | BK19: 0 | BL19: 0 | BM19: 0 | BN19: 0 | BO19: 28 | BP19: 20 | BQ19: 7 | BR19: 1 | BS19: 0 | BT19: 3 | BU19: 0 | BV19: 3 | BW19: 0 | BX19: 0
A20: 新竹縣 | B20: Hsinchu County | C20: 2 | D20: 220 | E20: 131 | F20: 89 | G20: 15 | H20: 403 | I20: 274 | J20: 129 | K20: 28 | L20: 15 | M20: 11 | N20: 2 | O20: 0 | P20: 41 | Q20: 8 | R20: 7 | S20: 1 | T20: 0 | U20: 0 | V20: 8 | W20: 99 | X20: 59 | Y20: 40 | Z20: 0 | AA20: 0 | AB20: 112 | AC20: 138 | AD20: 83 | AE20: 55 | AF20: 0 | AG20: 0 | AH20: 529 | AI20: 109 | AJ20: 48 | AK20: 59 | AL20: 2 | AM20: 0 | AN20: 300 | AO20: 27 | AP20: 18 | AQ20: 6 | AR20: 3 | AS20: 0 | AT20: 27 | AU20: 51 | AV20: 33 | AW20: 16 | AX20: 2 | AY20: 0 | AZ20: 83 | BA20: 60 | BB20: 23 | BC20: 0 | BD20: 0 | BE20: 90 | BF20: 60 | BG20: 30 | BH20: 0 | BI20: 0 | BJ20: 5 | BK20: 2 | BL20: 3 | BM20: 0 | BN20: 0 | BO20: 84 | BP20: 67 | BQ20: 17 | BR20: 0 | BS20: 0 | BT20: 44 | BU20: 21 | BV20: 23 | BW20: 0 | BX20: 0
A21: 苗栗縣 | B21: Miaoli County | C21: 1 | D21: 70 | E21: 42 | F21: 28 | G21: 3 | H21: 335 | I21: 170 | J21: 165 | K21: 129 | L21: 68 | M21: 60 | N21: 0 | O21: 1 | P21: 169 | Q21: 56 | R21: 45 | S21: 11 | T21: 0 | U21: 0 | V21: 104 | W21: 137 | X21: 64 | Y21: 72 | Z21: 0 | AA21: 1 | AB21: 293 | AC21: 189 | AD21: 74 | AE21: 114 | AF21: 0 | AG21: 1 | AH21: 327 | AI21: 184 | AJ21: 83 | AK21: 101 | AL21: 0 | AM21: 0 | AN21: 373 | AO21: 32 | AP21: 22 | AQ21: 10 | AR21: 0 | AS21: 0 | AT21: 187 | AU21: 2 | AV21: 2 | AW21: 0 | AX21: 0 | AY21: 0 | AZ21: 179 | BA21: 70 | BB21: 108 | BC21: 0 | BD21: 1 | BE21: 17 | BF21: 6 | BG21: 11 | BH21: 0 | BI21: 0 | BJ21: 0 | BK21: 0 | BL21: 0 | BM21: 0 | BN21: 0 | BO21: 15 | BP21: 13 | BQ21: 2 | BR21: 0 | BS21: 0 | BT21: 0 | BU21: 0 | BV21: 0 | BW21: 0 | BX21: 0
A22: 彰化縣 | B22: Changhua County | C22: 3 | D22: 244 | E22: 142 | F22: 102 | G22: 11 | H22: 244 | I22: 142 | J22: 102 | K22: 10 | L22: 9 | M22: 1 | N22: 0 | O22: 0 | P22: 18 | Q22: 5 | R22: 5 | S22: 0 | T22: 0 | U22: 0 | V22: 6 | W22: 94 | X22: 68 | Y22: 26 | Z22: 0 | AA22: 0 | AB22: 272 | AC22: 146 | AD22: 100 | AE22: 46 | AF22: 0 | AG22: 0 | AH22: 1519 | AI22: 95 | AJ22: 70 | AK22: 25 | AL22: 0 | AM22: 0 | AN22: 861 | AO22: 14 | AP22: 11 | AQ22: 3 | AR22: 0 | AS22: 0 | AT22: 14 | AU22: 45 | AV22: 37 | AW22: 8 | AX22: 0 | AY22: 0 | AZ22: 1 | BA22: 0 | BB22: 1 | BC22: 0 | BD22: 0 | BE22: 42 | BF22: 15 | BG22: 27 | BH22: 0 | BI22: 0 | BJ22: 0 | BK22: 0 | BL22: 0 | BM22: 0 | BN22: 0 | BO22: 41 | BP22: 35 | BQ22: 6 | BR22: 0 | BS22: 0 | BT22: 20 | BU22: 14 | BV22: 6 | BW22: 0 | BX22: 0
A23: 南投縣 | B23: Nantou County | C23: 1 | D23: 44 | E23: 25 | F23: 19 | G23: 7 | H23: 479 | I23: 348 | J23: 131 | K23: 11 | L23: 7 | M23: 4 | N23: 0 | O23: 0 | P23: 37 | Q23: 52 | R23: 16 | S23: 36 | T23: 0 | U23: 0 | V23: 61 | W23: 73 | X23: 55 | Y23: 18 | Z23: 0 | AA23: 0 | AB23: 264 | AC23: 138 | AD23: 105 | AE23: 33 | AF23: 0 | AG23: 0 | AH23: 301 | AI23: 70 | AJ23: 51 | AK23: 19 | AL23: 0 | AM23: 0 | AN23: 93 | AO23: 28 | AP23: 25 | AQ23: 3 | AR23: 0 | AS23: 0 | AT23: 122 | AU23: 8 | AV23: 5 | AW23: 3 | AX23: 0 | AY23: 0 | AZ23: 0 | BA23: 0 | BB23: 0 | BC23: 0 | BD23: 0 | BE23: 10 | BF23: 7 | BG23: 3 | BH23: 0 | BI23: 0 | BJ23: 3 | BK23: 2 | BL23: 1 | BM23: 0 | BN23: 0 | BO23: 32 | BP23: 26 | BQ23: 6 | BR23: 0 | BS23: 0 | BT23: 54 | BU23: 42 | BV23: 12 | BW23: 0 | BX23: 0
... A34: 連江縣 | B34: Lienchiang County | C34: 6 | D34: 0 | E34: 0 | F34: 0 | G34: 0 | H34: 0 | I34: 0 | J34: 0 | K34: 0 | L34: 0 | M34: 0 | N34: 0 | O34: 0 | P34: 0 | Q34: 0 | R34: 0 | S34: 0 | T34: 0 | U34: 0 | V34: 0 | W34: 0 | X34: 0 | Y34: 0 | Z34: 0 | AA34: 0 | AB34: 0 | AC34: 0 | AD34: 0 | AE34: 0 | AF34: 0 | AG34: 0 | AH34: 0 | AI34: 0 | AJ34: 0 | AK34: 0 | AL34: 0 | AM34: 0 | AN34: 0 | AO34: 0 | AP34: 0 | AQ34: 0 | AR34: 0 | AS34: 0 | AT34: 0 | AU34: 0 | AV34: 0 | AW34: 0 | AX34: 0 | AY34: 0 | AZ34: 0 | BA34: 0 | BB34: 0 | BC34: 0 | BD34: 0 | BE34: 0 | BF34: 0 | BG34: 0 | BH34: 0 | BI34: 0 | BJ34: 0 | BK34: 0 | BL34: 0 | BM34: 0 | BN34: 0 | BO34: 0 | BP34: 0 | BQ34: 0 | BR34: 0 | BS34: 0 | BT34: 0 | BU34: 0 | BV34: 0 | BW34: 0 | BX34: 0
A35: 資料來源：直轄市、縣(市)政府。
A36: Source : Social and Family Affairs Administration, MOHW and County and City Government.
A39: 更新日期：2017/10/02

Sheet 104
A1: 老人保護概況 Protection for the Aged
A2: 民國104年 ,2015
A3: 區域別 Locality | C3: 通報專線 | G3: 緊急通報點 | K3: 保護服務項目 Protection Items | AU3: 受虐型態 (Mistreatness Type)
K4: 法津訴訟及諮詢 | Q4: 驗傷醫療 | W4: 個案輔導 | AC4: 個案追蹤輔導訪視 | AI4: 問安電話 | AO4: 保護安置 | AU4: 遺棄 | AZ4: 虐待 | BE4: 疏忽 | BJ4: 財務侵佔 | BO4: 失依陷困 | BT4: 其他
C5: Service Lines | G5: Service Spots | K5: Litigation of Law and Counselling | Q5: Medical Checkup and Treatment | W5: Specific Assistance | AC5: Specific Assistance Followed | AI5: Call Inquired for Health | AO5: Committed Settling | AU5: Abandoned | AZ5: Mistreatness | BE5: Carelessness | BJ5: Financial Occupation | BO5: Non-support | BT5: Others
C6: 專線電話數(線) | D6: 受服務人次(人次) | G6: 通報點數(處) | H6: 受服務人次(人次) | K6: 受服務人數 (人) | P6: 受服務人次 | Q6: 受服務人數 (人) | V6: 受服務人次 | W6: 受服務人數 (人) | AB6: 受服務人次 | AC6: 受服務人數 (人) | AH6: 受服務人次 | AI6: 受服務人數 (人) | AN6: 受服務人次 | AO6: 受服務人數 (人) | AT6: 受服務人次 | AU6: 受服務人數 (人) | AZ6: 受服務人數 (人) | BE6: 受服務人數 (人) | BJ6: 受服務人數 (人) | BO6: 受服務人數 (人) | BT6: 受服務人數 (人)
D7: Persons Serviced (Person-Times) | H7: Persons Serviced (Person-Times) | K7: Persons Serviced (Persons) | Q7: Persons Serviced (Persons) | W7: Persons Serviced (Persons) | AC7: Persons Serviced (Persons) | AI7: Persons Serviced (Persons) | AO7: Persons Serviced (Persons) | AU7: Persons Serviced (Persons) | AZ7: Persons Serviced (Persons) | BE7: Persons Serviced (Persons) | BJ7: Persons Serviced (Persons) | BO7: Persons Serviced (Persons) | BT7: Persons Serviced (Persons)
C8: No. of Lines | D8: 合計 | E8: 男 | F8: 女 | G8: Spots (Places) | H8: 合計 | I8: 男 | J8: 女 | K8: 合計 | L8: 一般 | N8: 原住民 | Q8: 合計 | R8: 一般 | T8: 原住民 | W8: 合計 | X8: 一般 | Z8: 原住民 | AC8: 合計 | AD8: 一般 | AF8: 原住民 | AI8: 合計 | AJ8: 一般 | AL8: 原住民 | AO8: 合計 | AP8: 一般 | AR8: 原住民 | AU8: 合計 | AV8: 一般 | AX8: 原住民 | AZ8: 合計 | BA8: 一般 | BC8: 原住民 | BE8: 合計 | BF8: 一般 | BH8: 原住民 | BJ8: 合計 | BK8: 一般 | BM8: 原住民 | BO8: 合計 | BP8: 一般 | BR8: 原住民 | BT8: 合計 | BU8: 一般 | BW8: 原住民
L9: General | N9: Indigenous | R9: General | T9: Indigenous | X9: General | Z9: Indigenous | AD9: General | AF9: Indigenous | AJ9: General | AL9: Indigenous | AP9: General | AR9: Indigenous | AV9: General | AX9: Indigenous | BA9: General | BC9: Indigenous | BF9: General | BH9: Indigenous | BK9: General | BM9: Indigenous | BP9: General | BR9: Indigenous | BU9: General | BW9: Indigenous
D10: Total | E10: Male | F10: Female | H10: Total | I10: Male | J10: Female | K10: Total | L10: 男 | M10: 女 | N10: 男 | O10: 女 | P10: Service Person-times | Q10: Total | R10: 男 | S10: 女 | T10: 男 | U10: 女 | V10: Service Person-times | W10: Total | X10: 男 | Y10: 女 | Z10: 男 | AA10: 女 | AB10: Service Person-times | AC10: Total | AD10: 男 | AE10: 女 | AF10: 男 | AG10: 女 | AH10: Service Person-times | AI10: Total | AJ10: 男 | AK10: 女 | AL10: 男 | AM10: 女 | AN10: Service Person-times | AO10: Total | AP10: 男 | AQ10: 女 | AR10: 男 | AS10: 女 | AT10: Service Person-times | AU10: Total | AV10: 男 | AW10: 女 | AX10: 男 | AY10: 女 | AZ10: Total | BA10: 男 | BB10: 女 | BC10: 男 | BD10: 女 | BE10: Total | BF10: 男 | BG10: 女 | BH10: 男 | BI10: 女 | BJ10: Total | BK10: 男 | BL10: 女 | BM10: 男 | BN10: 女 | BO10: Total | BP10: 男 | BQ10: 女 | BR10: 男 | BS10: 女 | BT10: Total | BU10: 男 | BV10: 女 | BW10: 男 | BX10: 女
L11: Male | M11: Female | N11: Male | O11: Female | R11: Male | S11: Female | T11: Male | U11: Female | X11: Male | Y11: Female | Z11: Male | AA11: Female | AD11: Male | AE11: Female | AF11: Male | AG11: Female | AJ11: Male | AK11: Female | AL11: Male | AM11: Female | AP11: Male | AQ11: Female | AR11: Male | AS11: Female | AV11: Male | AW11: Female | AX11: Male | AY11: Female | BA11: Male | BB11: Female | BC11: Male | BD11: Female | BF11: Male | BG11: Female | BH11: Male | BI11: Female | BK11: Male | BL11: Female | BM11: Male | BN11: Female | BP11: Male | BQ11: Female | BR11: Male | BS11: Female | BU11: Male | BV11: Female | BW11: Male | BX11: Female
A12: 總計 | B12: Total | C12: 49 | D12: 6259 | E12: 2898 | F12: 3361 | G12: 381 | H12: 6550 | I12: 3473 | J12: 3077 | K12: 1375 | L12: 585 | M12: 704 | N12: 51 | O12: 35 | P12: 2262 | Q12: 523 | R12: 232 | S12: 279 | T12: 6 | U12: 6 | V12: 801 | W12: 4920 | X12: 2276 | Y12: 2515 | Z12: 69 | AA12: 60 | AB12: 12284 | AC12: 8001 | AD12: 3533 | AE12: 4311 | AF12: 83 | AG12: 74 | AH12: 20338 | AI12: 3639 | AJ12: 1747 | AK12: 1621 | AL12: 143 | AM12: 128 | AN12: 10158 | AO12: 1308 | AP12: 893 | AQ12: 380 | AR12: 17 | AS12: 18 | AT12: 5256 | AU12: 614 | AV12: 366 | AW12: 230 | AX12: 7 | AY12: 11 | AZ12: 3257 | BA12: 1249 | BB12: 1963 | BC12: 19 | BD12: 26 | BE12: 664 | BF12: 352 | BG12: 280 | BH12: 18 | BI12: 14 | BJ12: 64 | BK12: 28 | BL12: 36 | BM12: 0 | BN12: 0 | BO12: 1084 | BP12: 763 | BQ12: 291 | BR12: 17 | BS12: 13 | BT12: 1448 | BU12: 754 | BV12: 653 | BW12: 26 | BX12: 15
A13: 新北市 | B13: New Taipei City | C13: 2 | D13: 1511 | E13: 733 | F13: 778 | G13: 32 | H13: 118 | I13: 62 | J13: 56 | K13: 66 | L13: 38 | M13: 28 | N13: 0 | O13: 0 | P13: 75 | Q13: 156 | R13: 62 | S13: 94 | T13: 0 | U13: 0 | V13: 156 | W13: 1034 | X13: 375 | Y13: 657 | Z13: 1 | AA13: 1 | AB13: 1225 | AC13: 1637 | AD13: 606 | AE13: 1031 | AF13: 0 | AG13: 0 | AH13: 1867 | AI13: 83 | AJ13: 46 | AK13: 37 | AL13: 0 | AM13: 0 | AN13: 228 | AO13: 207 | AP13: 133 | AQ13: 74 | AR13: 0 | AS13: 0 | AT13: 424 | AU13: 90 | AV13: 55 | AW13: 35 | AX13: 0 | AY13: 0 | AZ13: 900 | BA13: 296 | BB13: 604 | BC13: 0 | BD13: 0 | BE13: 17 | BF13: 9 | BG13: 8 | BH13: 0 | BI13: 0 | BJ13: 1 | BK13: 1 | BL13: 0 | BM13: 0 | BN13: 0 | BO13: 94 | BP13: 67 | BQ13: 27 | BR13: 0 | BS13: 0 | BT13: 18 | BU13: 5 | BV13: 11 | BW13: 1 | BX13: 1
A14: 臺北市 | B14: Taipei City | C14: 1 | D14: 368 | E14: 141 | F14: 227 | G14: 14 | H14: 35 | I14: 16 | J14: 19 | K14: 133 | L14: 48 | M14: 85 | N14: 0 | O14: 0 | P14: 162 | Q14: 6 | R14: 2 | S14: 4 | T14: 0 | U14: 0 | V14: 8 | W14: 283 | X14: 105 | Y14: 177 | Z14: 0 | AA14: 1 | AB14: 334 | AC14: 2198 | AD14: 843 | AE14: 1353 | AF14: 0 | AG14: 2 | AH14: 4847 | AI14: 0 | AJ14: 0 | AK14: 0 | AL14: 0 | AM14: 0 | AN14: 0 | AO14: 40 | AP14: 33 | AQ14: 7 | AR14: 0 | AS14: 0 | AT14: 40 | AU14: 31 | AV14: 18 | AW14: 13 | AX14: 0 | AY14: 0 | AZ14: 256 | BA14: 94 | BB14: 162 | BC14: 0 | BD14: 0 | BE14: 9 | BF14: 6 | BG14: 3 | BH14: 0 | BI14: 0 | BJ14: 0 | BK14: 0 | BL14: 0 | BM14: 0 | BN14: 0 | BO14: 0 | BP14: 0 | BQ14: 0 | BR14: 0 | BS14: 0 | BT14: 72 | BU14: 25 | BV14: 46 | BW14: 0 | BX14: 1
A15: 桃園市 | B15: Taoyuan City | C15: 1 | D15: 1453 | E15: 738 | F15: 715 | G15: 15 | H15: 750 | I15: 486 | J15: 264 | K15: 192 | L15: 96 | M15: 70 | N15: 11 | O15: 15 | P15: 275 | Q15: 27 | R15: 14 | S15: 13 | T15: 0 | U15: 0 | V15: 33 | W15: 627 | X15: 310 | Y15: 279 | Z15: 24 | AA15: 14 | AB15: 1183 | AC15: 1031 | AD15: 519 | AE15: 447 | AF15: 41 | AG15: 24 | AH15: 2228 | AI15: 608 | AJ15: 307 | AK15: 258 | AL15: 22 | AM15: 21 | AN15: 1041 | AO15: 127 | AP15: 81 | AQ15: 45 | AR15: 0 | AS15: 1 | AT15: 370 | AU15: 7 | AV15: 5 | AW15: 1 | AX15: 1 | AY15: 0 | AZ15: 581 | BA15: 270 | BB15: 304 | BC15: 1 | BD15: 6 | BE15: 35 | BF15: 17 | BG15: 15 | BH15: 1 | BI15: 2 | BJ15: 2 | BK15: 1 | BL15: 1 | BM15: 0 | BN15: 0 | BO15: 0 | BP15: 0 | BQ15: 0 | BR15: 0 | BS15: 0 | BT15: 828 | BU15: 420 | BV15: 376 | BW15: 22 | BX15: 10
A16: 臺中市 | B16: Taichung City | C16: 1 | D16: 121 | E16: 50 | F16: 71 | G16: 5 | H16: 1285 | I16: 534 | J16: 751 | K16: 237 | L16: 114 | M16: 122 | N16: 1 | O16: 0 | P16: 248 | Q16: 29 | R16: 8 | S16: 21 | T16: 0 | U16: 0 | V16: 35 | W16: 737 | X16: 322 | Y16: 414 | Z16: 0 | AA16: 1 | AB16: 1332 | AC16: 896 | AD16: 365 | AE16: 528 | AF16: 2 | AG16: 1 | AH16: 3362 | AI16: 723 | AJ16: 301 | AK16: 416 | AL16: 6 | AM16: 0 | AN16: 1184 | AO16: 383 | AP16: 264 | AQ16: 116 | AR16: 2 | AS16: 1 | AT16: 2718 | AU16: 154 | AV16: 73 | AW16: 80 | AX16: 1 | AY16: 0 | AZ16: 504 | BA16: 196 | BB16: 308 | BC16: 0 | BD16: 0 | BE16: 105 | BF16: 60 | BG16: 44 | BH16: 0 | BI16: 1 | BJ16: 21 | BK16: 10 | BL16: 11 | BM16: 0 | BN16: 0 | BO16: 215 | BP16: 162 | BQ16: 51 | BR16: 1 | BS16: 1 | BT16: 17 | BU16: 8 | BV16: 9 | BW16: 0 | BX16: 0
A17: 臺南市 | B17: Tainan City | C17: 1 | D17: 247 | E17: 143 | F17: 104 | G17: 7 | H17: 132 | I17: 68 | J17: 64 | K17: 9 | L17: 9 | M17: 0 | N17: 0 | O17: 0 | P17: 90 | Q17: 0 | R17: 0 | S17: 0 | T17: 0 | U17: 0 | V17: 0 | W17: 228 | X17: 144 | Y17: 84 | Z17: 0 | AA17: 0 | AB17: 684 | AC17: 228 | AD17: 144 | AE17: 84 | AF17: 0 | AG17: 0 | AH17: 684 | AI17: 379 | AJ17: 211 | AK17: 168 | AL17: 0 | AM17: 0 | AN17: 379 | AO17: 96 | AP17: 76 | AQ17: 20 | AR17: 0 | AS17: 0 | AT17: 288 | AU17: 26 | AV17: 18 | AW17: 8 | AX17: 0 | AY17: 0 | AZ17: 4 | BA17: 4 | BB17: 0 | BC17: 0 | BD17: 0 | BE17: 37 | BF17: 24 | BG17: 13 | BH17: 0 | BI17: 0 | BJ17: 4 | BK17: 0 | BL17: 4 | BM17: 0 | BN17: 0 | BO17: 163 | BP17: 98 | BQ17: 65 | BR17: 0 | BS17: 0 | BT17: 145 | BU17: 94 | BV17: 51 | BW17: 0 | BX17: 0
A18: 高雄市 | B18: Kaohsiung City | C18: 2 | D18: 339 | E18: 163 | F18: 176 | G18: 2 | H18: 474 | I18: 315 | J18: 159 | K18: 28 | L18: 18 | M18: 10 | N18: 0 | O18: 0 | P18: 122 | Q18: 43 | R18: 35 | S18: 8 | T18: 0 | U18: 0 | V18: 136 | W18: 356 | X18: 286 | Y18: 70 | Z18: 0 | AA18: 0 | AB18: 1355 | AC18: 227 | AD18: 166 | AE18: 61 | AF18: 0 | AG18: 0 | AH18: 705 | AI18: 81 | AJ18: 66 | AK18: 15 | AL18: 0 | AM18: 0 | AN18: 348 | AO18: 65 | AP18: 55 | AQ18: 10 | AR18: 0 | AS18: 0 | AT18: 392 | AU18: 44 | AV18: 35 | AW18: 9 | AX18: 0 | AY18: 0 | AZ18: 0 | BA18: 0 | BB18: 0 | BC18: 0 | BD18: 0 | BE18: 64 | BF18: 37 | BG18: 27 | BH18: 0 | BI18: 0 | BJ18: 2 | BK18: 2 | BL18: 0 | BM18: 0 | BN18: 0 | BO18: 138 | BP18: 112 | BQ18: 26 | BR18: 0 | BS18: 0 | BT18: 57 | BU18: 31 | BV18: 26 | BW18: 0 | BX18: 0
A19: 宜蘭縣 | B19: Yilan County | C19: 2 | D19: 162 | E19: 66 | F19: 96 | G19: 13 | H19: 162 | I19: 66 | J19: 96 | K19: 127 | L19: 26 | M19: 97 | N19: 3 | O19: 1 | P19: 173 | Q19: 97 | R19: 30 | S19: 63 | T19: 2 | U19: 2 | V19: 106 | W19: 174 | X19: 59 | Y19: 109 | Z19: 3 | AA19: 3 | AB19: 1001 | AC19: 1 | AD19: 0 | AE19: 1 | AF19: 0 | AG19: 0 | AH19: 1 | AI19: 40 | AJ19: 22 | AK19: 16 | AL19: 0 | AM19: 2 | AN19: 146 | AO19: 9 | AP19: 6 | AQ19: 3 | AR19: 0 | AS19: 0 | AT19: 9 | AU19: 13 | AV19: 10 | AW19: 3 | AX19: 0 | AY19: 0 | AZ19: 95 | BA19: 32 | BB19: 59 | BC19: 3 | BD19: 1 | BE19: 23 | BF19: 14 | BG19: 9 | BH19: 0 | BI19: 0 | BJ19: 1 | BK19: 0 | BL19: 1 | BM19: 0 | BN19: 0 | BO19: 14 | BP19: 10 | BQ19: 2 | BR19: 0 | BS19: 2 | BT19: 16 | BU19: 8 | BV19: 8 | BW19: 0 | BX19: 0
A20: 新竹縣 | B20: Hsinchu County | C20: 2 | D20: 184 | E20: 101 | F20: 83 | G20: 15 | H20: 338 | I20: 191 | J20: 147 | K20: 26 | L20: 15 | M20: 11 | N20: 0 | O20: 0 | P20: 36 | Q20: 0 | R20: 0 | S20: 0 | T20: 0 | U20: 0 | V20: 0 | W20: 72 | X20: 39 | Y20: 33 | Z20: 0 | AA20: 0 | AB20: 87 | AC20: 137 | AD20: 87 | AE20: 50 | AF20: 0 | AG20: 0 | AH20: 562 | AI20: 74 | AJ20: 41 | AK20: 33 | AL20: 0 | AM20: 0 | AN20: 223 | AO20: 51 | AP20: 31 | AQ20: 20 | AR20: 0 | AS20: 0 | AT20: 68 | AU20: 40 | AV20: 25 | AW20: 15 | AX20: 0 | AY20: 0 | AZ20: 28 | BA20: 20 | BB20: 8 | BC20: 0 | BD20: 0 | BE20: 71 | BF20: 46 | BG20: 25 | BH20: 0 | BI20: 0 | BJ20: 6 | BK20: 5 | BL20: 1 | BM20: 0 | BN20: 0 | BO20: 67 | BP20: 54 | BQ20: 13 | BR20: 0 | BS20: 0 | BT20: 32 | BU20: 20 | BV20: 12 | BW20: 0 | BX20: 0
A21: 苗栗縣 | B21: Miaoli County | C21: 1 | D21: 89 | E21: 45 | F21: 44 | G21: 3 | H21: 357 | I21: 179 | J21: 178 | K21: 75 | L21: 38 | M21: 37 | N21: 0 | O21: 0 | P21: 83 | Q21: 48 | R21: 27 | S21: 21 | T21: 0 | U21: 0 | V21: 72 | W21: 112 | X21: 55 | Y21: 57 | Z21: 0 | AA21: 0 | AB21: 114 | AC21: 142 | AD21: 70 | AE21: 72 | AF21: 0 | AG21: 0 | AH21: 215 | AI21: 160 | AJ21: 84 | AK21: 76 | AL21: 0 | AM21: 0 | AN21: 289 | AO21: 42 | AP21: 26 | AQ21: 16 | AR21: 0 | AS21: 0 | AT21: 144 | AU21: 1 | AV21: 0 | AW21: 1 | AX21: 0 | AY21: 0 | AZ21: 131 | BA21: 64 | BB21: 67 | BC21: 0 | BD21: 0 | BE21: 28 | BF21: 15 | BG21: 13 | BH21: 0 | BI21: 0 | BJ21: 1 | BK21: 1 | BL21: 0 | BM21: 0 | BN21: 0 | BO21: 7 | BP21: 5 | BQ21: 2 | BR21: 0 | BS21: 0 | BT21: 4 | BU21: 2 | BV21: 2 | BW21: 0 | BX21: 0
A22: 彰化縣 | B22: Changhua County | C22: 3 | D22: 148 | E22: 107 | F22: 41 | G22: 34 | H22: 530 | I22: 295 | J22: 235 | K22: 17 | L22: 9 | M22: 8 | N22: 0 | O22: 0 | P22: 44 | Q22: 8 | R22: 5 | S22: 3 | T22: 0 | U22: 0 | V22: 31 | W22: 231 | X22: 108 | Y22: 123 | Z22: 0 | AA22: 0 | AB22: 549 | AC22: 111 | AD22: 68 | AE22: 43 | AF22: 0 | AG22: 0 | AH22: 1138 | AI22: 114 | AJ22: 73 | AK22: 41 | AL22: 0 | AM22: 0 | AN22: 1262 | AO22: 12 | AP22: 9 | AQ22: 3 | AR22: 0 | AS22: 0 | AT22: 52 | AU22: 35 | AV22: 22 | AW22: 13 | AX22: 0 | AY22: 0 | AZ22: 150 | BA22: 64 | BB22: 86 | BC22: 0 | BD22: 0 | BE22: 26 | BF22: 13 | BG22: 13 | BH22: 0 | BI22: 0 | BJ22: 1 | BK22: 0 | BL22: 1 | BM22: 0 | BN22: 0 | BO22: 50 | BP22: 45 | BQ22: 5 | BR22: 0 | BS22: 0 | BT22: 28 | BU22: 16 | BV22: 12 | BW22: 0 | BX22: 0
A23: 南投縣 | B23: Nantou County | C23: 1 | D23: 30 | E23: 23 | F23: 7 | G23: 7 | H23: 347 | I23: 212 | J23: 135 | K23: 8 | L23: 5 | M23: 3 | N23: 0 | O23: 0 | P23: 22 | Q23: 25 | R23: 12 | S23: 13 | T23: 0 | U23: 0 | V23: 25 | W23: 104 | X23: 62 | Y23: 42 | Z23: 0 | AA23: 0 | AB23: 312 | AC23: 197 | AD23: 126 | AE23: 71 | AF23: 0 | AG23: 0 | AH23: 518 | AI23: 69 | AJ23: 47 | AK23: 22 | AL23: 0 | AM23: 0 | AN23: 118 | AO23: 37 | AP23: 32 | AQ23: 5 | AR23: 0 | AS23: 0 | AT23: 124 | AU23: 11 | AV23: 9 | AW23: 2 | AX23: 0 | AY23: 0 | AZ23: 0 | BA23: 0 | BB23: 0 | BC23: 0 | BD23: 0 | BE23: 16 | BF23: 8 | BG23: 8 | BH23: 0 | BI23: 0 | BJ23: 2 | BK23: 1 | BL23: 1 | BM23: 0 | BN23: 0 | BO23: 36 | BP23: 31 | BQ23: 5 | BR23: 0 | BS23: 0 | BT23: 41 | BU23: 34 | BV23: 7 | BW23: 0 | BX23: 0
... A34: 連江縣 | B34: Lienchiang County | C34: 6 | D34: 0 | E34: 0 | F34: 0 | G34: 0 | H34: 0 | I34: 0 | J34: 0 | K34: 0 | L34: 0 | M34: 0 | N34: 0 | O34: 0 | P34: 0 | Q34: 0 | R34: 0 | S34: 0 | T34: 0 | U34: 0 | V34: 0 | W34: 0 | X34: 0 | Y34: 0 | Z34: 0 | AA34: 0 | AB34: 0 | AC34: 0 | AD34: 0 | AE34: 0 | AF34: 0 | AG34: 0 | AH34: 0 | AI34: 0 | AJ34: 0 | AK34: 0 | AL34: 0 | AM34: 0 | AN34: 0 | AO34: 0 | AP34: 0 | AQ34: 0 | AR34: 0 | AS34: 0 | AT34: 0 | AU34: 0 | AV34: 0 | AW34: 0 | AX34: 0 | AY34: 0 | AZ34: 0 | BA34: 0 | BB34: 0 | BC34: 0 | BD34: 0 | BE34: 0 | BF34: 0 | BG34: 0 | BH34: 0 | BI34: 0 | BJ34: 0 | BK34: 0 | BL34: 0 | BM34: 0 | BN34: 0 | BO34: 0 | BP34: 0 | BQ34: 0 | BR34: 0 | BS34: 0 | BT34: 0 | BU34: 0 | BV34: 0 | BW34: 0 | BX34: 0
A35: 資料來源：直轄市、縣(市)政府。
A36: Source : Social and Family Affairs Administration, MOHW and County and City Government.
A39: 更新日期：2016/3/31

Sheet 103
A1: 老人保護概況 Protection for the Aged
A2: 民國103年,2014
A3: 區域別 Locality | C3: 通報專線 | G3: 緊急通報點 | K3: 保護服務項目 Protection Items | AU3: 受虐型態 (Mistreatness Type)
K4: 法津訴訟及諮詢 | Q4: 驗傷醫療 | W4: 個案輔導 | AC4: 個案追蹤輔導訪視 | AI4: 問安電話 | AO4: 保護安置 | AU4: 遺棄 | AZ4: 虐待 | BE4: 疏忽 | BJ4: 財務侵佔 | BO4: 失依陷困 | BT4: 其他
C5: Service Lines | G5: Service Spots | K5: Litigation of Law and Counselling | Q5: Medical Checkup and Treatment | W5: Specific Assistance | AC5: Specific Assistance Followed | AI5: Call Inquired for Health | AO5: Committed Settling | AU5: Abandoned | AZ5: Mistreatness | BE5: Carelessness | BJ5: Financial Occupation | BO5: Non-support | BT5: Others
C6: 專線電話數(線) | D6: 受服務人次(人次) | G6: 通報點數(處) | H6: 受服務人次(人次) | K6: 受服務人數 (人) | P6: 受服務人次 | Q6: 受服務人數 (人) | V6: 受服務人次 | W6: 受服務人數 (人) | AB6: 受服務人次 | AC6: 受服務人數 (人) | AH6: 受服務人次 | AI6: 受服務人數 (人) | AN6: 受服務人次 | AO6: 受服務人數 (人) | AT6: 受服務人次 | AU6: 受服務人數 (人) | AZ6: 受服務人數 (人) | BE6: 受服務人數 (人) | BJ6: 受服務人數 (人) | BO6: 受服務人數 (人) | BT6: 受服務人數 (人)
D7: Persons Serviced (Person-Times) | H7: Persons Serviced (Person-Times) | K7: Persons Serviced (Persons) | Q7: Persons Serviced (Persons) | W7: Persons Serviced (Persons) | AC7: Persons Serviced (Persons) | AI7: Persons Serviced (Persons) | AO7: Persons Serviced (Persons) | AU7: Persons Serviced (Persons) | AZ7: Persons Serviced (Persons) | BE7: Persons Serviced (Persons) | BJ7: Persons Serviced (Persons) | BO7: Persons Serviced (Persons) | BT7: Persons Serviced (Persons)
C8: No. of Lines | D8: 合計 | E8: 男 | F8: 女 | G8: Spots (Places) | H8: 合計 | I8: 男 | J8: 女 | K8: 合計 | L8: 一般 | N8: 原住民 | Q8: 合計 | R8: 一般 | T8: 原住民 | W8: 合計 | X8: 一般 | Z8: 原住民 | AC8: 合計 | AD8: 一般 | AF8: 原住民 | AI8: 合計 | AJ8: 一般 | AL8: 原住民 | AO8: 合計 | AP8: 一般 | AR8: 原住民 | AU8: 合計 | AV8: 一般 | AX8: 原住民 | AZ8: 合計 | BA8: 一般 | BC8: 原住民 | BE8: 合計 | BF8: 一般 | BH8: 原住民 | BJ8: 合計 | BK8: 一般 | BM8: 原住民 | BO8: 合計 | BP8: 一般 | BR8: 原住民 | BT8: 合計 | BU8: 一般 | BW8: 原住民
L9: General | N9: Indigenous | R9: General | T9: Indigenous | X9: General | Z9: Indigenous | AD9: General | AF9: Indigenous | AJ9: General | AL9: Indigenous | AP9: General | AR9: Indigenous | AV9: General | AX9: Indigenous | BA9: General | BC9: Indigenous | BF9: General | BH9: Indigenous | BK9: General | BM9: Indigenous | BP9: General | BR9: Indigenous | BU9: General | BW9: Indigenous
D10: Total | E10: Male | F10: Female | H10: Total | I10: Male | J10: Female | K10: Total | L10: 男 | M10: 女 | N10: 男 | O10: 女 | P10: Service Person-times | Q10: Total | R10: 男 | S10: 女 | T10: 男 | U10: 女 | V10: Service Person-times | W10: Total | X10: 男 | Y10: 女 | Z10: 男 | AA10: 女 | AB10: Service Person-times | AC10: Total | AD10: 男 | AE10: 女 | AF10: 男 | AG10: 女 | AH10: Service Person-times | AI10: Total | AJ10: 男 | AK10: 女 | AL10: 男 | AM10: 女 | AN10: Service Person-times | AO10: Total | AP10: 男 | AQ10: 女 | AR10: 男 | AS10: 女 | AT10: Service Person-times | AU10: Total | AV10: 男 | AW10: 女 | AX10: 男 | AY10: 女 | AZ10: Total | BA10: 男 | BB10: 女 | BC10: 男 | BD10: 女 | BE10: Total | BF10: 男 | BG10: 女 | BH10: 男 | BI10: 女 | BJ10: Total | BK10: 男 | BL10: 女 | BM10: 男 | BN10: 女 | BO10: Total | BP10: 男 | BQ10: 女 | BR10: 男 | BS10: 女 | BT10: Total | BU10: 男 | BV10: 女 | BW10: 男 | BX10: 女
L11: Male | M11: Female | N11: Male | O11: Female | R11: Male | S11: Female | T11: Male | U11: Female | X11: Male | Y11: Female | Z11: Male | AA11: Female | AD11: Male | AE11: Female | AF11: Male | AG11: Female | AJ11: Male | AK11: Female | AL11: Male | AM11: Female | AP11: Male | AQ11: Female | AR11: Male | AS11: Female | AV11: Male | AW11: Female | AX11: Male | AY11: Female | BA11: Male | BB11: Female | BC11: Male | BD11: Female | BF11: Male | BG11: Female | BH11: Male | BI11: Female | BK11: Male | BL11: Female | BM11: Male | BN11: Female | BP11: Male | BQ11: Female | BR11: Male | BS11: Female | BU11: Male | BV11: Female | BW11: Male | BX11: Female
A12: 總計 | B12: Total | C12: 53 | D12: 5551 | E12: 2708 | F12: 2843 | G12: 330 | H12: 10360 | I12: 5115 | J12: 5245 | K12: 1120 | L12: 480 | M12: 595 | N12: 16 | O12: 29 | P12: 1744 | Q12: 228 | R12: 105 | S12: 119 | T12: 1 | U12: 3 | V12: 449 | W12: 3538 | X12: 1552 | Y12: 1901 | Z12: 29 | AA12: 56 | AB12: 7928 | AC12: 6094 | AD12: 2886 | AE12: 3103 | AF12: 41 | AG12: 64 | AH12: 16264 | AI12: 2971 | AJ12: 1484 | AK12: 1412 | AL12: 33 | AM12: 42 | AN12: 6316 | AO12: 948 | AP12: 645 | AQ12: 290 | AR12: 3 | AS12: 7 | AT12: 5032 | AU12: 488 | AV12: 298 | AW12: 179 | AX12: 3 | AY12: 8 | AZ12: 2550 | BA12: 990 | BB12: 1508 | BC12: 19 | BD12: 33 | BE12: 566 | BF12: 263 | BG12: 291 | BH12: 6 | BI12: 6 | BJ12: 69 | BK12: 34 | BL12: 34 | BM12: 1 | BN12: 0 | BO12: 866 | BP12: 602 | BQ12: 257 | BR12: 2 | BS12: 5 | BT12: 1307 | BU12: 757 | BV12: 537 | BW12: 6 | BX12: 7
A13: 新北市 | B13: New Taipei City | C13: 1 | D13: 1380 | E13: 688 | F13: 692 | G13: 1 | H13: 851 | I13: 401 | J13: 450 | K13: 23 | L13: 13 | M13: 10 | N13: 0 | O13: 0 | P13: 50 | Q13: 89 | R13: 42 | S13: 47 | T13: 0 | U13: 0 | V13: 142 | W13: 517 | X13: 220 | Y13: 296 | Z13: 0 | AA13: 1 | AB13: 809 | AC13: 688 | AD13: 288 | AE13: 399 | AF13: 0 | AG13: 1 | AH13: 955 | AI13: 79 | AJ13: 51 | AK13: 28 | AL13: 0 | AM13: 0 | AN13: 109 | AO13: 166 | AP13: 117 | AQ13: 48 | AR13: 0 | AS13: 1 | AT13: 580 | AU13: 79 | AV13: 56 | AW13: 22 | AX13: 0 | AY13: 1 | AZ13: 739 | BA13: 265 | BB13: 474 | BC13: 0 | BD13: 0 | BE13: 7 | BF13: 3 | BG13: 4 | BH13: 0 | BI13: 0 | BJ13: 4 | BK13: 3 | BL13: 1 | BM13: 0 | BN13: 0 | BO13: 62 | BP13: 45 | BQ13: 17 | BR13: 0 | BS13: 0 | BT13: 21 | BU13: 14 | BV13: 7 | BW13: 0 | BX13: 0
