Workbook

Sheet 歷年(112年~)
A1: 老人保護扶助人次 Number of Senior Citizens Receiving Protection and Assistance
A3: 年別 Year | C3: 老人保護扶助人次（複選；人次）Number of Senior Citizens Receiving Protection and Assistance
C4: 總計 Total | D4: 諮詢協談 Counseling | E4: 家庭關係處理 Family relationship management | F4: 庇護/保護安置 Protection and Placement | G4: 陪同報案偵詢(訊) Accompanying the Parties Concerned During Case Reporting and Interrogation/Investigation | H4: 陪同出庭 Accompanying the Parties Concerned to Appear before Court | I4: 陪同醫療服務 Accompanying the Parties Concerned to medical service | J4: 心理諮商、治療與輔導 Psychological counseling, treatment and counseling | K4: 連結長期照顧服務 Link to long-term care services | L4: 聲請保護令 Petition for a Protection Order | M4: 經濟扶助 Financial Aid | N4: 法律扶助 Legal Aid | O4: 其他扶助 Others
A6: 112年,2023 | C6: 265487 | D6: 226201 | E6: 13120 | F6: 1087 | G6: 58 | H6: 1339 | I6: 66 | J6: 0 | K6: 566 | L6: 713 | M6: 2062 | N6: 5618 | O6: 14657
A7: 113年,2024 | C7: 285161 | D7: 244484 | E7: 14414 | F7: 1254 | G7: 98 | H7: 1463 | I7: 86 | J7: 0 | K7: 695 | L7: 778 | M7: 2283 | N7: 5286 | O7: 14320
A8: 資料來源：直轄市、縣(市)政府。
A9: 說明：自112年起老人保護扶助人次含適用身心障礙者權益保障法第75條、家庭暴力防治法規定之65歲以上老人。
A10: Source : Social and Family Affairs Administration, MOHW and County and City Government.

Sheet 113
A1: 老人保護扶助人次 Number of Senior Citizens Receiving Protection and Assistance
A2: 民國113年, 2024 | C2: =IF(C6=SUM(C11,C16,C21,C26,C31,C36,C41,C46,C51,C56,C61,C66,C71,C76,C81,C86,C91,C96,C101,C106,C111,C116),"","*") | D2: =IF(D6=SUM(D11,D16,D21,D26,D31,D36,D41,D46,D51,D56,D61,D66,D71,D76,D81,D86,D91,D96,D101,D106,D111,D116),"","*") | F2: =IF(F6=SUM(F11,F16,F21,F26,F31,F36,F41,F46,F51,F56,F61,F66,F71,F76,F81,F86,F91,F96,F101,F106,F111,F116),"","*") | G2: =IF(G6=SUM(G11,G16,G21,G26,G31,G36,G41,G46,G51,G56,G61,G66,G71,G76,G81,G86,G91,G96,G101,G106,G111,G116),"","*") | H2: =IF(H6=SUM(H11,H16,H21,H26,H31,H36,H41,H46,H51,H56,H61,H66,H71,H76,H81,H86,H91,H96,H101,H106,H111,H116),"","*") | I2: =IF(I6=SUM(I11,I16,I21,I26,I31,I36,I41,I46,I51,I56,I61,I66,I71,I76,I81,I86,I91,I96,I101,I106,I111,I116),"","*") | L2: =IF(L6=SUM(L11,L16,L21,L26,L31,L36,L41,L46,L51,L56,L61,L66,L71,L76,L81,L86,L91,L96,L101,L106,L111,L116),"","*") | M2: =IF(M6=SUM(M11,M16,M21,M26,M31,M36,M41,M46,M51,M56,M61,M66,M71,M76,M81,M86,M91,M96,M101,M106,M111,M116),"","*") | N2: =IF(N6=SUM(N11,N16,N21,N26,N31,N36,N41,N46,N51,N56,N61,N66,N71,N76,N81,N86,N91,N96,N101,N106,N111,N116),"","*") | O2: =IF(O6=SUM(O11,O16,O21,O26,O31,O36,O41,O46,O51,O56,O61,O66,O71,O76,O81,O86,O91,O96,O101,O106,O111,O116),"","*")
A3: 區域別及性別 Locality and Sex | C3: 老人保護扶助人次（複選；人次）Number of Senior Citizens Receiving Protection and Assistance
C4: 總計 Total | D4: 諮詢協談 Counseling | E4: 家庭關係處理 Family relationship management | F4: 庇護/保護安置 Protection and Placement | G4: 陪同報案偵詢(訊) Accompanying the Parties Concerned During Case Reporting and Interrogation/Investigation | H4: 陪同出庭 Accompanying the Parties Concerned to Appear before Court | I4: 陪同醫療服務 Accompanying the Parties Concerned to medical service | J4: 心理諮商、治療與輔導 Psychological counseling, treatment and counseling | K4: 連結長期照顧服務 Link to long-term care services | L4: 聲請保護令 Petition for a Protection Order | M4: 經濟扶助 Financial Aid | N4: 法律扶助 Legal Aid | O4: 其他扶助 Others
A6: 總計 | B6: 合計 SubTotal | C6: 285161 | D6: 244484 | E6: 14414 | F6: 1254 | G6: 98 | H6: 1463 | I6: 86 | J6: 0 | K6: 695 | L6: 778 | M6: 2283 | N6: 5286 | O6: 14320
A7: Total | B7: 男 Male | C7: 106403 | D7: 91172 | E7: 5082 | F7: 704 | G7: 11 | H7: 492 | I7: 27 | J7: 0 | K7: 287 | L7: 223 | M7: 939 | N7: 1874 | O7: 5592
B8: 女 Female | C8: 178238 | D8: 152932 | E8: 9323 | F8: 437 | G8: 87 | H8: 971 | I8: 59 | J8: 0 | K8: 408 | L8: 555 | M8: 1343 | N8: 3407 | O8: 8716
B9: 其他 Other | C9: 0 | D9: 0 | E9: 0 | F9: 0 | G9: 0 | H9: 0 | I9: 0 | J9: 0 | K9: 0 | L9: 0 | M9: 0 | N9: 0 | O9: 0
B10: 不詳 Unknow | C10: 520 | D10: 380 | E10: 9 | F10: 113 | G10: 0 | H10: 0 | I10: 0 | J10: 0 | K10: 0 | L10: 0 | M10: 1 | N10: 5 | O10: 12
A11: 新北市 | B11: 計 Total | C11: 51982 | D11: 43184 | E11: 3227 | F11: 52 | G11: 18 | H11: 298 | I11: 18 | J11: 0 | K11: 97 | L11: 108 | M11: 66 | N11: 1637 | O11: 3277
A12: New Taipei City | B12: 男 Male | C12: 15924 | D12: 13328 | E12: 968 | F12: 15 | G12: 2 | H12: 80 | I12: 2 | J12: 0 | K12: 23 | L12: 27 | M12: 25 | N12: 509 | O12: 945
B13: 女 Female | C13: 36023 | D13: 29829 | E13: 2257 | F13: 37 | G13: 16 | H13: 218 | I13: 16 | J13: 0 | K13: 74 | L13: 81 | M13: 41 | N13: 1124 | O13: 2330
B14: 其他 Other | C14: 0 | D14: 0 | E14: 0 | F14: 0 | G14: 0 | H14: 0 | I14: 0 | J14: 0 | K14: 0 | L14: 0 | M14: 0 | N14: 0 | O14: 0
B15: 不詳 Unknow | C15: 35 | D15: 27 | E15: 2 | F15: 0 | G15: 0 | H15: 0 | I15: 0 | J15: 0 | K15: 0 | L15: 0 | M15: 0 | N15: 4 | O15: 2
A16: 臺北市 | B16: 計 Total | C16: 32890 | D16: 25514 | E16: 1545 | F16: 14 | G16: 4 | H16: 120 | I16: 7 | J16: 0 | K16: 48 | L16: 80 | M16: 37 | N16: 1513 | O16: 4008
A17: Taipei City | B17: 男 Male | C17: 11648 | D17: 8979 | E17: 514 | F17: 5 | G17: 0 | H17: 33 | I17: 1 | J17: 0 | K17: 18 | L17: 23 | M17: 25 | N17: 580 | O17: 1470
B18: 女 Female | C18: 21226 | D18: 16524 | E18: 1031 | F18: 9 | G18: 4 | H18: 87 | I18: 6 | J18: 0 | K18: 30 | L18: 57 | M18: 12 | N18: 933 | O18: 2533
B19: 其他 Other | C19: 0 | D19: 0 | E19: 0 | F19: 0 | G19: 0 | H19: 0 | I19: 0 | J19: 0 | K19: 0 | L19: 0 | M19: 0 | N19: 0 | O19: 0
B20: 不詳 Unknow | C20: 16 | D20: 11 | E20: 0 | F20: 0 | G20: 0 | H20: 0 | I20: 0 | J20: 0 | K20: 0 | L20: 0 | M20: 0 | N20: 0 | O20: 5
A21: 桃園市 | B21: 計 Total | C21: 25650 | D21: 23975 | E21: 184 | F21: 43 | G21: 5 | H21: 147 | I21: 12 | J21: 0 | K21: 20 | L21: 56 | M21: 253 | N21: 137 | O21: 818
A22: Taoyuan City | B22: 男 Male | C22: 9873 | D22: 9116 | E22: 106 | F22: 32 | G22: 1 | H22: 54 | I22: 5 | J22: 0 | K22: 9 | L22: 25 | M22: 75 | N22: 55 | O22: 395
B23: 女 Female | C23: 15744 | D23: 14827 | E23: 78 | F23: 11 | G23: 4 | H23: 93 | I23: 7 | J23: 0 | K23: 11 | L23: 31 | M23: 178 | N23: 81 | O23: 423
B24: 其他 Other | C24: 0 | D24: 0 | E24: 0 | F24: 0 | G24: 0 | H24: 0 | I24: 0 | J24: 0 | K24: 0 | L24: 0 | M24: 0 | N24: 0 | O24: 0
B25: 不詳 Unknow | C25: 33 | D25: 32 | E25: 0 | F25: 0 | G25: 0 | H25: 0 | I25: 0 | J25: 0 | K25: 0 | L25: 0 | M25: 0 | N25: 1 | O25: 0
A26: 臺中市 | B26: 計 Total | C26: 30107 | D26: 28897 | E26: 83 | F26: 141 | G26: 11 | H26: 189 | I26: 4 | J26: 0 | K26: 22 | L26: 65 | M26: 22 | N26: 73 | O26: 600
A27: Taichung City | B27: 男 Male | C27: 10791 | D27: 10354 | E27: 29 | F27: 86 | G27: 1 | H27: 71 | I27: 2 | J27: 0 | K27: 4 | L27: 25 | M27: 6 | N27: 20 | O27: 193
B28: 女 Female | C28: 19269 | D28: 18496 | E28: 54 | F28: 55 | G28: 10 | H28: 118 | I28: 2 | J28: 0 | K28: 18 | L28: 40 | M28: 16 | N28: 53 | O28: 407
B29: 其他 Other | C29: 0 | D29: 0 | E29: 0 | F29: 0 | G29: 0 | H29: 0 | I29: 0 | J29: 0 | K29: 0 | L29: 0 | M29: 0 | N29: 0 | O29: 0
B30: 不詳 Unknow | C30: 47 | D30: 47 | E30: 0 | F30: 0 | G30: 0 | H30: 0 | I30: 0 | J30: 0 | K30: 0 | L30: 0 | M30: 0 | N30: 0 | O30: 0
A31: 臺南市 | B31: 計 Total | C31: 20783 | D31: 19081 | E31: 424 | F31: 163 | G31: 14 | H31: 87 | I31: 2 | J31: 0 | K31: 95 | L31: 91 | M31: 116 | N31: 81 | O31: 629
A32: Tainan City | B32: 男 Male | C32: 8095 | D32: 7427 | E32: 120 | F32: 103 | G32: 3 | H32: 26 | I32: 2 | J32: 0 | K32: 28 | L32: 32 | M32: 24 | N32: 29 | O32: 301
B33: 女 Female | C33: 12575 | D33: 11542 | E33: 304 | F33: 59 | G33: 11 | H33: 61 | I33: 0 | J33: 0 | K33: 67 | L33: 59 | M33: 92 | N33: 52 | O33: 328
B34: 其他 Other | C34: 0 | D34: 0 | E34: 0 | F34: 0 | G34: 0 | H34: 0 | I34: 0 | J34: 0 | K34: 0 | L34: 0 | M34: 0 | N34: 0 | O34: 0
B35: 不詳 Unknow | C35: 113 | D35: 112 | E35: 0 | F35: 1 | G35: 0 | H35: 0 | I35: 0 | J35: 0 | K35: 0 | L35: 0 | M35: 0 | N35: 0 | O35: 0
A36: 高雄市 | B36: 計 Total | C36: 49747 | D36: 39444 | E36: 7210 | F36: 143 | G36: 11 | H36: 156 | I36: 22 | J36: 0 | K36: 159 | L36: 109 | M36: 358 | N36: 505 | O36: 1630
A37: Kaohsiung City | B37: 男 Male | C37: 19481 | D37: 15546 | E37: 2665 | F37: 85 | G37: 1 | H37: 50 | I37: 9 | J37: 0 | K37: 86 | L37: 23 | M37: 161 | N37: 163 | O37: 692
B38: 女 Female | C38: 30224 | D38: 23862 | E38: 4545 | F38: 58 | G38: 10 | H38: 106 | I38: 13 | J38: 0 | K38: 73 | L38: 86 | M38: 196 | N38: 342 | O38: 933
B39: 其他 Other | C39: 0 | D39: 0 | E39: 0 | F39: 0 | G39: 0 | H39: 0 | I39: 0 | J39: 0 | K39: 0 | L39: 0 | M39: 0 | N39: 0 | O39: 0
B40: 不詳 Unknow | C40: 42 | D40: 36 | E40: 0 | F40: 0 | G40: 0 | H40: 0 | I40: 0 | J40: 0 | K40: 0 | L40: 0 | M40: 1 | N40: 0 | O40: 5
A41: 宜蘭縣 | B41: 計 Total | C41: 3119 | D41: 2865 | E41: 35 | F41: 4 | G41: 1 | H41: 35 | I41: 3 | J41: 0 | K41: 7 | L41: 12 | M41: 9 | N41: 63 | O41: 85
...

Sheet 112
A1: 老人保護扶助人次 Number of Senior Citizens Receiving Protection and Assistance
A2: 民國112年, 2023 | C2: =IF(C6=SUM(C11,C16,C21,C26,C31,C36,C41,C46,C51,C56,C61,C66,C71,C76,C81,C86,C91,C96,C101,C106,C111,C116),"","*") | D2: =IF(D6=SUM(D11,D16,D21,D26,D31,D36,D41,D46,D51,D56,D61,D66,D71,D76,D81,D86,D91,D96,D101,D106,D111,D116),"","*") | F2: =IF(F6=SUM(F11,F16,F21,F26,F31,F36,F41,F46,F51,F56,F61,F66,F71,F76,F81,F86,F91,F96,F101,F106,F111,F116),"","*") | G2: =IF(G6=SUM(G11,G16,G21,G26,G31,G36,G41,G46,G51,G56,G61,G66,G71,G76,G81,G86,G91,G96,G101,G106,G111,G116),"","*") | H2: =IF(H6=SUM(H11,H16,H21,H26,H31,H36,H41,H46,H51,H56,H61,H66,H71,H76,H81,H86,H91,H96,H101,H106,H111,H116),"","*") | I2: =IF(I6=SUM(I11,I16,I21,I26,I31,I36,I41,I46,I51,I56,I61,I66,I71,I76,I81,I86,I91,I96,I101,I106,I111,I116),"","*") | L2: =IF(L6=SUM(L11,L16,L21,L26,L31,L36,L41,L46,L51,L56,L61,L66,L71,L76,L81,L86,L91,L96,L101,L106,L111,L116),"","*") | M2: =IF(M6=SUM(M11,M16,M21,M26,M31,M36,M41,M46,M51,M56,M61,M66,M71,M76,M81,M86,M91,M96,M101,M106,M111,M116),"","*") | N2: =IF(N6=SUM(N11,N16,N21,N26,N31,N36,N41,N46,N51,N56,N61,N66,N71,N76,N81,N86,N91,N96,N101,N106,N111,N116),"","*") | O2: =IF(O6=SUM(O11,O16,O21,O26,O31,O36,O41,O46,O51,O56,O61,O66,O71,O76,O81,O86,O91,O96,O101,O106,O111,O116),"","*")
A3: 區域別及性別 Locality and Sex | C3: 老人保護扶助人次（複選；人次）Number of Senior Citizens Receiving Protection and Assistance
C4: 總計 Total | D4: 諮詢協談 Counseling | E4: 家庭關係處理 Family relationship management | F4: 庇護/保護安置 Protection and Placement | G4: 陪同報案偵詢(訊) Accompanying the Parties Concerned During Case Reporting and Interrogation/Investigation | H4: 陪同出庭 Accompanying the Parties Concerned to Appear before Court | I4: 陪同醫療服務 Accompanying the Parties Concerned to medical service | J4: 心理諮商、治療與輔導 Psychological counseling, treatment and counseling | K4: 連結長期照顧服務 Link to long-term care services | L4: 聲請保護令 Petition for a Protection Order | M4: 經濟扶助 Financial Aid | N4: 法律扶助 Legal Aid | O4: 其他扶助 Others
A6: 總計 | B6: 合計 SubTotal | C6: 265487 | D6: 226201 | E6: 13120 | F6: 1087 | G6: 58 | H6: 1339 | I6: 66 | J6: 0 | K6: 566 | L6: 713 | M6: 2062 | N6: 5618 | O6: 14657
A7: Total | B7: 男 Male | C7: 101514 | D7: 86890 | E7: 4691 | F7: 672 | G7: 15 | H7: 419 | I7: 19 | J7: 0 | K7: 226 | L7: 237 | M7: 853 | N7: 1920 | O7: 5572
B8: 女 Female | C8: 163196 | D8: 138634 | E8: 8422 | F8: 359 | G8: 43 | H8: 919 | I8: 47 | J8: 0 | K8: 340 | L8: 476 | M8: 1206 | N8: 3698 | O8: 9052
B9: 其他 Other | C9: 0 | D9: 0 | E9: 0 | F9: 0 | G9: 0 | H9: 0 | I9: 0 | J9: 0 | K9: 0 | L9: 0 | M9: 0 | N9: 0 | O9: 0
B10: 不詳 Unknow | C10: 777 | D10: 677 | E10: 7 | F10: 56 | G10: 0 | H10: 1 | I10: 0 | J10: 0 | K10: 0 | L10: 0 | M10: 3 | N10: 0 | O10: 33
A11: 新北市 | B11: 計 Total | C11: 47611 | D11: 38577 | E11: 3509 | F11: 31 | G11: 12 | H11: 316 | I11: 20 | J11: 0 | K11: 71 | L11: 129 | M11: 73 | N11: 1812 | O11: 3061
A12: New Taipei City | B12: 男 Male | C12: 15197 | D12: 12169 | E12: 1204 | F12: 9 | G12: 3 | H12: 92 | I12: 5 | J12: 0 | K12: 19 | L12: 33 | M12: 24 | N12: 615 | O12: 1024
B13: 女 Female | C13: 32398 | D13: 26393 | E13: 2305 | F13: 22 | G13: 9 | H13: 224 | I13: 15 | J13: 0 | K13: 52 | L13: 96 | M13: 49 | N13: 1197 | O13: 2036
B14: 其他 Other | C14: 0 | D14: 0 | E14: 0 | F14: 0 | G14: 0 | H14: 0 | I14: 0 | J14: 0 | K14: 0 | L14: 0 | M14: 0 | N14: 0 | O14: 0
B15: 不詳 Unknow | C15: 16 | D15: 15 | E15: 0 | F15: 0 | G15: 0 | H15: 0 | I15: 0 | J15: 0 | K15: 0 | L15: 0 | M15: 0 | N15: 0 | O15: 1
A16: 臺北市 | B16: 計 Total | C16: 34780 | D16: 26215 | E16: 1167 | F16: 13 | G16: 9 | H16: 117 | I16: 5 | J16: 0 | K16: 18 | L16: 44 | M16: 31 | N16: 2199 | O16: 4962
A17: Taipei City | B17: 男 Male | C17: 11863 | D17: 9020 | E17: 400 | F17: 8 | G17: 0 | H17: 36 | I17: 0 | J17: 0 | K17: 8 | L17: 15 | M17: 12 | N17: 741 | O17: 1623
B18: 女 Female | C18: 22901 | D18: 17186 | E18: 767 | F18: 5 | G18: 9 | H18: 81 | I18: 5 | J18: 0 | K18: 10 | L18: 29 | M18: 19 | N18: 1458 | O18: 3332
B19: 其他 Other | C19: 0 | D19: 0 | E19: 0 | F19: 0 | G19: 0 | H19: 0 | I19: 0 | J19: 0 | K19: 0 | L19: 0 | M19: 0 | N19: 0 | O19: 0
B20: 不詳 Unknow | C20: 16 | D20: 9 | E20: 0 | F20: 0 | G20: 0 | H20: 0 | I20: 0 | J20: 0 | K20: 0 | L20: 0 | M20: 0 | N20: 0 | O20: 7
A21: 桃園市 | B21: 計 Total | C21: 24919 | D21: 23182 | E21: 221 | F21: 47 | G21: 3 | H21: 170 | I21: 8 | J21: 0 | K21: 14 | L21: 27 | M21: 336 | N21: 94 | O21: 817
A22: Taoyuan City | B22: 男 Male | C22: 9799 | D22: 9055 | E22: 108 | F22: 32 | G22: 0 | H22: 58 | I22: 6 | J22: 0 | K22: 5 | L22: 9 | M22: 136 | N22: 49 | O22: 341
B23: 女 Female | C23: 15081 | D23: 14091 | E23: 113 | F23: 15 | G23: 3 | H23: 112 | I23: 2 | J23: 0 | K23: 9 | L23: 18 | M23: 200 | N23: 45 | O23: 473
B24: 其他 Other | C24: 0 | D24: 0 | E24: 0 | F24: 0 | G24: 0 | H24: 0 | I24: 0 | J24: 0 | K24: 0 | L24: 0 | M24: 0 | N24: 0 | O24: 0
B25: 不詳 Unknow | C25: 39 | D25: 36 | E25: 0 | F25: 0 | G25: 0 | H25: 0 | I25: 0 | J25: 0 | K25: 0 | L25: 0 | M25: 0 | N25: 0 | O25: 3
A26: 臺中市 | B26: 計 Total | C26: 27018 | D26: 26212 | E26: 62 | F26: 142 | G26: 5 | H26: 117 | I26: 1 | J26: 0 | K26: 4 | L26: 26 | M26: 16 | N26: 52 | O26: 381
A27: Taichung City | B27: 男 Male | C27: 9759 | D27: 9440 | E27: 20 | F27: 94 | G27: 1 | H27: 42 | I27: 1 | J27: 0 | K27: 1 | L27: 17 | M27: 3 | N27: 21 | O27: 119
B28: 女 Female | C28: 17169 | D28: 16682 | E28: 42 | F28: 48 | G28: 4 | H28: 75 | I28: 0 | J28: 0 | K28: 3 | L28: 9 | M28: 13 | N28: 31 | O28: 262
B29: 其他 Other | C29: 0 | D29: 0 | E29: 0 | F29: 0 | G29: 0 | H29: 0 | I29: 0 | J29: 0 | K29: 0 | L29: 0 | M29: 0 | N29: 0 | O29: 0
B30: 不詳 Unknow | C30: 90 | D30: 90 | E30: 0 | F30: 0 | G30: 0 | H30: 0 | I30: 0 | J30: 0 | K30: 0 | L30: 0 | M30: 0 | N30: 0 | O30: 0
A31: 臺南市 | B31: 計 Total | C31: 18183 | D31: 16653 | E31: 155 | F31: 174 | G31: 3 | H31: 84 | I31: 2 | J31: 0 | K31: 46 | L31: 80 | M31: 98 | N31: 89 | O31: 799
A32: Tainan City | B32: 男 Male | C32: 7185 | D32: 6451 | E32: 59 | F32: 121 | G32: 3 | H32: 18 | I32: 0 | J32: 0 | K32: 22 | L32: 29 | M32: 33 | N32: 41 | O32: 408
B33: 女 Female | C33: 10774 | D33: 10004 | E33: 96 | F33: 46 | G33: 0 | H33: 65 | I33: 2 | J33: 0 | K33: 24 | L33: 51 | M33: 65 | N33: 48 | O33: 373
B34: 其他 Other | C34: 0 | D34: 0 | E34: 0 | F34: 0 | G34: 0 | H34: 0 | I34: 0 | J34: 0 | K34: 0 | L34: 0 | M34: 0 | N34: 0 | O34: 0
B35: 不詳 Unknow | C35: 224 | D35: 198 | E35: 0 | F35: 7 | G35: 0 | H35: 1 | I35: 0 | J35: 0 | K35: 0 | L35: 0 | M35: 0 | N35: 0 | O35: 18
A36: 高雄市 | B36: 計 Total | C36: 42193 | D36: 34973 | E36: 4075 | F36: 135 | G36: 2 | H36: 143 | I36: 16 | J36: 0 | K36: 281 | L36: 125 | M36: 461 | N36: 379 | O36: 1603
A37: Kaohsiung City | B37: 男 Male | C37: 17747 | D37: 15089 | E37: 1335 | F37: 83 | G37: 1 | H37: 48 | I37: 4 | J37: 0 | K37: 100 | L37: 42 | M37: 219 | N37: 158 | O37: 668
B38: 女 Female | C38: 24362 | D38: 19808 | E38: 2737 | F38: 52 | G38: 1 | H38: 95 | I38: 12 | J38: 0 | K38: 181 | L38: 83 | M38: 240 | N38: 221 | O38: 932
B39: 其他 Other | C39: 0 | D39: 0 | E39: 0 | F39: 0 | G39: 0 | H39: 0 | I39: 0 | J39: 0 | K39: 0 | L39: 0 | M39: 0 | N39: 0 | O39: 0
B40: 不詳 Unknow | C40: 84 | D40: 76 | E40: 3 | F40: 0 | G40: 0 | H40: 0 | I40: 0 | J40: 0 | K40: 0 | L40: 0 | M40: 2 | N40: 0 | O40: 3
A41: 宜蘭縣 | B41: 計 Total | C41: 2467 | D41: 2349 | E41: 14 | F41: 2 | G41: 1 | H41: 18 | I41: 0 | J41: 0 | K41: 8 | L41: 9 | M41: 9 | N41: 13 | O41: 44
...

Sheet 歷年(109年~111年)
A1: 老人保護概況 Protection for the Aged
A3: 年別 Locality and Sex | C3: 老人保護扶助人次（複選；人次）Number of Senior Citizens Receiving Protection and Assistance | N3: 老人保護類型（複選；人次）Types of Elderly Protection | W3: 老人保護通報案件數(件) Number of Cases Reported for Elderly Protection
C4: 總計 Total | D4: 諮詢協談Counseling | E4: 保護安置Protection and Placement | F4: 陪同報案偵詢(訊)Accompanying the Parties Concerned During Case Reporting and Interrogation/Investigation | G4: 陪同出庭Accompanying the Parties Concerned to Appear before Court | H4: 驗傷診療Medical Examinations and Diagnoses | I4: 聲請保護令Petition for a Protection Order | J4: 經濟扶助Financial Aid | K4: 法律扶助Legal Aid | L4: 通譯服務Interpreting Services | M4: 其他扶助 Others | N4: 總計 Total | O4: 疏忽 Carelessness | P4: 遺棄 Abandoned | Q4: 身心虐待Mistreatness | T4: 財產侵占/搾取Misappropriation/Exploitation of Property | U4: 無人扶養 Lack of Support | V4: 其他 Others
Q5: 合計 SubTotal | R5: 身體虐待 Physical Abuse | S5: 精神虐待Psychological Abuse
A6: 109年,2020 | C6: 48895 | D6: 38408 | E6: 3194 | F6: 17 | G6: 118 | H6: 54 | I6: 3 | J6: 1853 | K6: 568 | L6: 0 | M6: 4680 | N6: 2613 | O6: 921 | P6: 505 | Q6: 172 | R6: 154 | S6: 18 | T6: 27 | U6: 796 | V6: 192 | W6: 2427
A8: 年別 Year | C8: 老人保護扶助人次（複選；人次）Number of Senior Citizens Receiving Protection and Assistance | P8: 老人保護類型（複選；人次）Types of Elderly Protection | Y8: 老人保護通報案件數(件) Number of Cases Reported for Elderly Protection
C9: 總計 Total | D9: 諮詢協談Counseling | E9: 家庭關係處理 Family relationship management | F9: 保護安置Protection and Placement | G9: 陪同報案偵詢(訊)Accompanying the Parties Concerned During Case Reporting and Interrogation/Investigation | H9: 陪同出庭Accompanying the Parties Concerned to Appear before Court | I9: 陪同醫療服務 Accompanying the Parties Concerned to medical service | J9: 心理諮商、治療與輔導 Psychological counseling, treatment and counseling | K9: 連結長期照顧服務 Link to long-term care services | L9: 聲請保護令Petition for a Protection Order | M9: 經濟扶助Financial Aid | N9: 法律扶助Legal Aid | O9: 其他扶助 Others | P9: 總計 Total | Q9: 疏忽 Carelessness | R9: 遺棄 Abandoned | S9: 身心虐待Mistreatness | V9: 財產侵占/搾取Misappropriation/Exploitation of Property | W9: 無人扶養Lack of Support | X9: 其他 Others
S10: 合計 SubTotal | T10: 身體虐待 Physical Abuse | U10: 精神虐待Psychological Abuse
A11: 110年,2021 | C11: 51939 | D11: 41337 | E11: 1102 | F11: 2654 | G11: 4 | H11: 165 | I11: 324 | J11: 10 | K11: 754 | L11: 18 | M11: 1652 | N11: 342 | O11: 3577 | P11: 2386 | Q11: 911 | R11: 453 | S11: 203 | T11: 196 | U11: 7 | V11: 26 | W11: 761 | X11: 32 | Y11: 2173
A12: 111年,2022 | C12: 52315 | D12: 46325 | E12: 683 | F12: 669 | G12: 4 | H12: 103 | I12: 32 | J12: 0 | K12: 668 | L12: 4 | M12: 670 | N12: 233 | O12: 2924 | P12: 2347 | Q12: 1008 | R12: 358 | S12: 184 | T12: 182 | U12: 2 | V12: 28 | W12: 756 | X12: 13 | Y12: 2216
A13: 資料來源：直轄市、縣(市)政府。
A14: 說明：為避免與家庭暴力重複計算，自109年起督請各縣(市)明確依填報定義，將直系血親卑親屬對尊親屬「虐待」納入「家庭暴力事件通報表」統計，並排除分派至社會福利服務中心之非保護案件。
A15: Source : Social and Family Affairs Administration, MOHW and County and City Government.

Sheet 111
A1: 老人保護概況 Protection for the Aged
A2: 民國111年, 2022 | C2: =IF(C6=SUM(C9,C12,C15,C18,C21,C24,C27,C30,C33,C36,C39,C42,C45,C48,C51,C54,C57,C60,C63,C66,C69,C72),"","*") | D2: =IF(D6=SUM(D9,D12,D15,D18,D21,D24,D27,D30,D33,D36,D39,D42,D45,D48,D51,D54,D57,D60,D63,D66,D69,D72),"","*") | F2: =IF(F6=SUM(F9,F12,F15,F18,F21,F24,F27,F30,F33,F36,F39,F42,F45,F48,F51,F54,F57,F60,F63,F66,F69,F72),"","*") | G2: =IF(G6=SUM(G9,G12,G15,G18,G21,G24,G27,G30,G33,G36,G39,G42,G45,G48,G51,G54,G57,G60,G63,G66,G69,G72),"","*") | H2: =IF(H6=SUM(H9,H12,H15,H18,H21,H24,H27,H30,H33,H36,H39,H42,H45,H48,H51,H54,H57,H60,H63,H66,H69,H72),"","*") | I2: =IF(I6=SUM(I9,I12,I15,I18,I21,I24,I27,I30,I33,I36,I39,I42,I45,I48,I51,I54,I57,I60,I63,I66,I69,I72),"","*") | L2: =IF(L6=SUM(L9,L12,L15,L18,L21,L24,L27,L30,L33,L36,L39,L42,L45,L48,L51,L54,L57,L60,L63,L66,L69,L72),"","*") | M2: =IF(M6=SUM(M9,M12,M15,M18,M21,M24,M27,M30,M33,M36,M39,M42,M45,M48,M51,M54,M57,M60,M63,M66,M69,M72),"","*") | N2: =IF(N6=SUM(N9,N12,N15,N18,N21,N24,N27,N30,N33,N36,N39,N42,N45,N48,N51,N54,N57,N60,N63,N66,N69,N72),"","*") | O2: =IF(O6=SUM(O9,O12,O15,O18,O21,O24,O27,O30,O33,O36,O39,O42,O45,O48,O51,O54,O57,O60,O63,O66,O69,O72),"","*") | P2: =IF(P6=SUM(P9,P12,P15,P18,P21,P24,P27,P30,P33,P36,P39,P42,P45,P48,P51,P54,P57,P60,P63,P66,P69,P72),"","*") | Q2: =IF(Q6=SUM(Q9,Q12,Q15,Q18,Q21,Q24,Q27,Q30,Q33,Q36,Q39,Q42,Q45,Q48,Q51,Q54,Q57,Q60,Q63,Q66,Q69,Q72),"","*") | R2: =IF(R6=SUM(R9,R12,R15,R18,R21,R24,R27,R30,R33,R36,R39,R42,R45,R48,R51,R54,R57,R60,R63,R66,R69,R72),"","*") | S2: =IF(S6=SUM(S9,S12,S15,S18,S21,S24,S27,S30,S33,S36,S39,S42,S45,S48,S51,S54,S57,S60,S63,S66,S69,S72),"","*") | ... Y2: =IF(Y6=SUM(Y9,Y12,Y15,Y18,Y21,Y24,Y27,Y30,Y33,Y36,Y39,Y42,Y45,Y48,Y51,Y54,Y57,Y60,Y63,Y66,Y69,Y72),"","*")
A3: 區域別及性別 Locality and Sex | C3: 老人保護扶助人次（複選；人次）Number of Senior Citizens Receiving Protection and Assistance | P3: 老人保護類型（複選；人次）Types of Elderly Protection | Y3: 老人保護通報案件數(件) Number of Cases Reported for Elderly Protection
C4: 總計 Total | D4: 諮詢協談Counseling | E4: 家庭關係處理 Family relationship management | F4: 保護安置Protection and Placement | G4: 陪同報案偵詢(訊)Accompanying the Parties Concerned During Case Reporting and Interrogation/Investigation | H4: 陪同出庭Accompanying the Parties Concerned to Appear before Court | I4: 陪同醫療服務 Accompanying the Parties Concerned to medical service | J4: 心理諮商、治療與輔導 | K4: 連結長期照顧服務 | L4: 聲請保護令Petition for a Protection Order | M4: 經濟扶助Financial Aid | N4: 法律扶助Legal Aid | O4: 其他扶助 Others | P4: 總計 Total | Q4: 疏忽 Carelessness | R4: 遺棄 Abandoned | S4: 身心虐待Mistreatness | V4: 財產侵占/搾取Misappropriation/Exploitation of Property | W4: 無人扶養Lack of Support | X4: 其他 Others
S5: 合計 SubTotal | T5: 身體虐待 Physical Abuse | U5: 精神虐待Psychological Abuse
A6: 總計 | B6: 合計 SubTotal | C6: 52315 | D6: 46325 | E6: 683 | F6: 669 | G6: 4 | H6: 103 | I6: 32 | J6: 0 | K6: 668 | L6: 4 | M6: 670 | N6: 233 | O6: 2924 | P6: 2347 | Q6: 1008 | R6: 358 | S6: 184 | T6: 182 | U6: 2 | V6: 28 | W6: 756 | X6: 13 | Y6: 2216
A7: Total | B7: 男Male | C7: 34224 | D7: 30272 | E7: 382 | F7: 505 | G7: 2 | H7: 62 | I7: 23 | J7: 0 | K7: 508 | L7: 0 | M7: 453 | N7: 157 | O7: 1860 | P7: 1354 | Q7: 469 | R7: 245 | S7: 64 | T7: 63 | U7: 1 | V7: 12 | W7: 558 | X7: 6 | Y7: 0
B8: 女Female | C8: 18091 | D8: 16053 | E8: 301 | F8: 164 | G8: 2 | H8: 41 | I8: 9 | J8: 0 | K8: 160 | L8: 4 | M8: 217 | N8: 76 | O8: 1064 | P8: 993 | Q8: 539 | R8: 113 | S8: 120 | T8: 119 | U8: 1 | V8: 16 | W8: 198 | X8: 7 | Y8: 0
A9: 新北市 | B9: 計 Total | C9: 965 | D9: 886 | E9: 17 | F9: 3 | G9: 1 | H9: 2 | I9: 0 | J9: 0 | K9: 3 | L9: 1 | M9: 4 | N9: 18 | O9: 30 | P9: 374 | Q9: 231 | R9: 27 | S9: 39 | T9: 39 | U9: 0 | V9: 8 | W9: 65 | X9: 4 | Y9: 354
A10: New Taipei City | B10: 男 Male | C10: 305 | D10: 289 | E10: 3 | F10: 1 | G10: 0 | H10: 1 | I10: 0 | J10: 0 | K10: 1 | L10: 0 | M10: 0 | N10: 2 | O10: 8 | P10: 168 | Q10: 96 | R10: 13 | S10: 12 | T10: 12 | U10: 0 | V10: 4 | W10: 43 | X10: 0 | Y10: 0
B11: 女 Female | C11: 660 | D11: 597 | E11: 14 | F11: 2 | G11: 1 | H11: 1 | I11: 0 | J11: 0 | K11: 2 | L11: 1 | M11: 4 | N11: 16 | O11: 22 | P11: 206 | Q11: 135 | R11: 14 | S11: 27 | T11: 27 | U11: 0 | V11: 4 | W11: 22 | X11: 4 | Y11: 0
A12: 臺北市 | B12: 計 Total | C12: 1106 | D12: 947 | E12: 11 | F12: 2 | G12: 0 | H12: 0 | I12: 0 | J12: 0 | K12: 0 | L12: 2 | M12: 15 | N12: 13 | O12: 116 | P12: 29 | Q12: 3 | R12: 4 | S12: 21 | T12: 21 | U12: 0 | V12: 0 | W12: 1 | X12: 0 | Y12: 28
A13: Taipei City | B13: 男 Male | C13: 448 | D13: 364 | E13: 5 | F13: 1 | G13: 0 | H13: 0 | I13: 0 | J13: 0 | K13: 0 | L13: 0 | M13: 3 | N13: 7 | O13: 68 | P13: 10 | Q13: 1 | R13: 3 | S13: 5 | T13: 5 | U13: 0 | V13: 0 | W13: 1 | X13: 0 | Y13: 0
B14: 女 Female | C14: 658 | D14: 583 | E14: 6 | F14: 1 | G14: 0 | H14: 0 | I14: 0 | J14: 0 | K14: 0 | L14: 2 | M14: 12 | N14: 6 | O14: 48 | P14: 19 | Q14: 2 | R14: 1 | S14: 16 | T14: 16 | U14: 0 | V14: 0 | W14: 0 | X14: 0 | Y14: 0
A15: 桃園市 | B15: 計 Total | C15: 4970 | D15: 4444 | E15: 78 | F15: 28 | G15: 2 | H15: 21 | I15: 16 | J15: 0 | K15: 36 | L15: 0 | M15: 55 | N15: 45 | O15: 245 | P15: 77 | Q15: 40 | R15: 14 | S15: 8 | T15: 8 | U15: 0 | V15: 0 | W15: 15 | X15: 0 | Y15: 75
A16: Taoyuan City | B16: 男 Male | C16: 3535 | D16: 3177 | E16: 53 | F16: 22 | G16: 2 | H16: 18 | I16: 14 | J16: 0 | K16: 20 | L16: 0 | M16: 41 | N16: 35 | O16: 153 | P16: 41 | Q16: 14 | R16: 13 | S16: 4 | T16: 4 | U16: 0 | V16: 0 | W16: 10 | X16: 0 | Y16: 0
B17: 女 Female | C17: 1435 | D17: 1267 | E17: 25 | F17: 6 | G17: 0 | H17: 3 | I17: 2 | J17: 0 | K17: 16 | L17: 0 | M17: 14 | N17: 10 | O17: 92 | P17: 36 | Q17: 26 | R17: 1 | S17: 4 | T17: 4 | U17: 0 | V17: 0 | W17: 5 | X17: 0 | Y17: 0
A18: 臺中市 | B18: 計 Total | C18: 2766 | D18: 2610 | E18: 12 | F18: 106 | G18: 0 | H18: 4 | I18: 0 | J18: 0 | K18: 0 | L18: 0 | M18: 3 | N18: 1 | O18: 30 | P18: 74 | Q18: 40 | R18: 13 | S18: 17 | T18: 17 | U18: 0 | V18: 1 | W18: 3 | X18: 0 | Y18: 72
A19: Taichung City | B19: 男 Male | C19: 1788 | D19: 1674 | E19: 9 | F19: 76 | G19: 0 | H19: 3 | I19: 0 | J19: 0 | K19: 0 | L19: 0 | M19: 2 | N19: 1 | O19: 23 | P19: 43 | Q19: 21 | R19: 10 | S19: 9 | T19: 9 | U19: 0 | V19: 0 | W19: 3 | X19: 0 | Y19: 0
B20: 女 Female | C20: 978 | D20: 936 | E20: 3 | F20: 30 | G20: 0 | H20: 1 | I20: 0 | J20: 0 | K20: 0 | L20: 0 | M20: 1 | N20: 0 | O20: 7 | P20: 31 | Q20: 19 | R20: 3 | S20: 8 | T20: 8 | U20: 0 | V20: 1 | W20: 0 | X20: 0 | Y20: 0
A21: 臺南市 | B21: 計 Total | C21: 4135 | D21: 3459 | E21: 3 | F21: 140 | G21: 0 | H21: 14 | I21: 0 | J21: 0 | K21: 14 | L21: 0 | M21: 8 | N21: 14 | O21: 483 | P21: 59 | Q21: 13 | R21: 10 | S21: 21 | T21: 21 | U21: 0 | V21: 0 | W21: 14 | X21: 1 | Y21: 58
A22: Tainan City | B22: 男 Male | C22: 2858 | D22: 2426 | E22: 0 | F22: 97 | G22: 0 | H22: 7 | I22: 0 | J22: 0 | K22: 10 | L22: 0 | M22: 5 | N22: 9 | O22: 304 | P22: 27 | Q22: 6 | R22: 7 | S22: 3 | T22: 3 | U22: 0 | V22: 0 | W22: 11 | X22: 0 | Y22: 0
B23: 女 Female | C23: 1277 | D23: 1033 | E23: 3 | F23: 43 | G23: 0 | H23: 7 | I23: 0 | J23: 0 | K23: 4 | L23: 0 | M23: 3 | N23: 5 | O23: 179 | P23: 32 | Q23: 7 | R23: 3 | S23: 18 | T23: 18 | U23: 0 | V23: 0 | W23: 3 | X23: 1 | Y23: 0
A24: 高雄市 | B24: 計 Total | C24: 18325 | D24: 16392 | E24: 182 | F24: 156 | G24: 0 | H24: 26 | I24: 7 | J24: 0 | K24: 505 | L24: 0 | M24: 303 | N24: 65 | O24: 689 | P24: 918 | Q24: 384 | R24: 164 | S24: 11 | T24: 11 | U24: 0 | V24: 5 | W24: 352 | X24: 2 | Y24: 884
A25: Kaohsiung City | B25: 男 Male | C25: 12148 | D25: 10781 | E25: 108 | F25: 119 | G25: 0 | H25: 16 | I25: 3 | J25: 0 | K25: 410 | L25: 0 | M25: 218 | N25: 50 | O25: 443 | P25: 577 | Q25: 195 | R25: 115 | S25: 1 | T25: 1 | U25: 0 | V25: 2 | W25: 263 | X25: 1 | Y25: 0
B26: 女 Female | C26: 6177 | D26: 5611 | E26: 74 | F26: 37 | G26: 0 | H26: 10 | I26: 4 | J26: 0 | K26: 95 | L26: 0 | M26: 85 | N26: 15 | O26: 246 | P26: 341 | Q26: 189 | R26: 49 | S26: 10 | T26: 10 | U26: 0 | V26: 3 | W26: 89 | X26: 1 | Y26: 0
A27: 宜蘭縣 | B27: 計 Total | C27: 1315 | D27: 1284 | E27: 7 | F27: 7 | G27: 0 | H27: 1 | I27: 0 | J27: 0 | K27: 0 | L27: 0 | M27: 3 | N27: 1 | O27: 12 | P27: 54 | Q27: 22 | R27: 4 | S27: 2 | T27: 2 | U27: 0 | V27: 0 | W27: 25 | X27: 1 | Y27: 49
A28: Yilan County | B28: 男 Male | C28: 938 | D28: 919 | E28: 3 | F28: 5 | G28: 0 | H28: 1 | I28: 0 | J28: 0 | K28: 0 | L28: 0 | M28: 2 | N28: 0 | O28: 8 | P28: 29 | Q28: 11 | R28: 2 | S28: 0 | T28: 0 | U28: 0 | V28: 0 | W28: 15 | X28: 1 | Y28: 0
B29: 女 Female | C29: 377 | D29: 365 | E29: 4 | F29: 2 | G29: 0 | H29: 0 | I29: 0 | J29: 0 | K29: 0 | L29: 0 | M29: 1 | N29: 1 | O29: 4 | P29: 25 | Q29: 11 | R29: 2 | S29: 2 | T29: 2 | U29: 0 | V29: 0 | W29: 10 | X29: 0 | Y29: 0
A30: 新竹縣 | B30: 計 Total | C30: 436 | D30: 431 | E30: 0 | F30: 1 | G30: 0 | H30: 4 | I30: 0 | J30: 0 | K30: 0 | L30: 0 | M30: 0 | N30: 0 | O30: 0 | P30: 26 | Q30: 11 | R30: 3 | S30: 1 | T30: 1 | U30: 0 | V30: 3 | W30: 8 | X30: 0 | Y30: 22
A31: Hsinchu County | B31: 男 Male | C31: 321 | D31: 316 | E31: 0 | F31: 1 | G31: 0 | H31: 4 | I31: 0 | J31: 0 | K31: 0 | L31: 0 | M31: 0 | N31: 0 | O31: 0 | P31: 14 | Q31: 5 | R31: 2 | S31: 0 | T31: 0 | U31: 0 | V31: 0 | W31: 7 | X31: 0 | Y31: 0
B32: 女 Female | C32: 115 | D32: 115 | E32: 0 | F32: 0 | G32: 0 | H32: 0 | I32: 0 | J32: 0 | K32: 0 | L32: 0 | M32: 0 | N32: 0 | O32: 0 | P32: 12 | Q32: 6 | R32: 1 | S32: 1 | T32: 1 | U32: 0 | V32: 3 | W32: 1 | X32: 0 | Y32: 0
A33: 苗栗縣 | B33: 計 Total | C33: 2006 | D33: 1553 | E33: 10 | F33: 33 | G33: 0 | H33: 5 | I33: 2 | J33: 0 | K33: 1 | L33: 0 | M33: 5 | N33: 5 | O33: 392 | P33: 59 | Q33: 23 | R33: 12 | S33: 2 | T33: 2 | U33: 0 | V33: 2 | W33: 20 | X33: 0 | Y33: 55
A34: Miaoli County | B34: 男 Male | C34: 1496 | D34: 1148 | E34: 8 | F34: 24 | G34: 0 | H34: 2 | I34: 2 | J34: 0 | K34: 1 | L34: 0 | M34: 4 | N34: 4 | O34: 303 | P34: 43 | Q34: 15 | R34: 10 | S34: 1 | T34: 1 | U34: 0 | V34: 2 | W34: 15 | X34: 0 | Y34: 0
B35: 女 Female | C35: 510 | D35: 405 | E35: 2 | F35: 9 | G35: 0 | H35: 3 | I35: 0 | J35: 0 | K35: 0 | L35: 0 | M35: 1 | N35: 1 | O35: 89 | P35: 16 | Q35: 8 | R35: 2 | S35: 1 | T35: 1 | U35: 0 | V35: 0 | W35: 5 | X35: 0 | Y35: 0
A36: 彰化縣 | B36: 計 Total | C36: 2108 | D36: 1876 | E36: 8 | F36: 22 | G36: 0 | H36: 0 | I36: 0 | J36: 0 | K36: 18 | L36: 0 | M36: 57 | N36: 1 | O36: 126 | P36: 83 | Q36: 38 | R36: 7 | S36: 5 | T36: 5 | U36: 0 | V36: 0 | W36: 33 | X36: 0 | Y36: 79
A37: Changhua County | B37: 男 Male | C37: 1358 | D37: 1212 | E37: 6 | F37: 19 | G37: 0 | H37: 0 | I37: 0 | J37: 0 | K37: 10 | L37: 0 | M37: 40 | N37: 0 | O37: 71 | P37: 56 | Q37: 19 | R37: 6 | S37: 3 | T37: 3 | U37: 0 | V37: 0 | W37: 28 | X37: 0 | Y37: 0
B38: 女 Female | C38: 750 | D38: 664 | E38: 2 | F38: 3 | G38: 0 | H38: 0 | I38: 0 | J38: 0 | K38: 8 | L38: 0 | M38: 17 | N38: 1 | O38: 55 | P38: 27 | Q38: 19 | R38: 1 | S38: 2 | T38: 2 | U38: 0 | V38: 0 | W38: 5 | X38: 0 | Y38: 0
A39: 南投縣 | B39: 計 Total | C39: 2525 | D39: 2371 | E39: 7 | F39: 28 | G39: 0 | H39: 6 | I39: 0 | J39: 0 | K39: 19 | L39: 0 | M39: 35 | N39: 8 | O39: 51 | P39: 129 | Q39: 33 | R39: 34 | S39: 2 | T39: 2 | U39: 0 | V39: 1 | W39: 58 | X39: 1 | Y39: 111
A40: Nantou County | B40: 男 Male | C40: 2013 | D40: 1882 | E40: 5 | F40: 23 | G40: 0 | H40: 6 | I40: 0 | J40: 0 | K40: 13 | L40: 0 | M40: 30 | N40: 8 | O40: 46 | P40: 76 | Q40: 11 | R40: 21 | S40: 0 | T40: 0 | U40: 0 | V40: 0 | W40: 43 | X40: 1 | Y40: 0
...

Sheet 110
A1: 老人保護概況 Protection for the Aged
A2: 民國110年, 2021 | C2: =IF(C6=SUM(C9,C12,C15,C18,C21,C24,C27,C30,C33,C36,C39,C42,C45,C48,C51,C54,C57,C60,C63,C66,C69,C72),"","*") | D2: =IF(D6=SUM(D9,D12,D15,D18,D21,D24,D27,D30,D33,D36,D39,D42,D45,D48,D51,D54,D57,D60,D63,D66,D69,D72),"","*") | F2: =IF(F6=SUM(F9,F12,F15,F18,F21,F24,F27,F30,F33,F36,F39,F42,F45,F48,F51,F54,F57,F60,F63,F66,F69,F72),"","*") | G2: =IF(G6=SUM(G9,G12,G15,G18,G21,G24,G27,G30,G33,G36,G39,G42,G45,G48,G51,G54,G57,G60,G63,G66,G69,G72),"","*") | H2: =IF(H6=SUM(H9,H12,H15,H18,H21,H24,H27,H30,H33,H36,H39,H42,H45,H48,H51,H54,H57,H60,H63,H66,H69,H72),"","*") | I2: =IF(I6=SUM(I9,I12,I15,I18,I21,I24,I27,I30,I33,I36,I39,I42,I45,I48,I51,I54,I57,I60,I63,I66,I69,I72),"","*") | L2: =IF(L6=SUM(L9,L12,L15,L18,L21,L24,L27,L30,L33,L36,L39,L42,L45,L48,L51,L54,L57,L60,L63,L66,L69,L72),"","*") | M2: =IF(M6=SUM(M9,M12,M15,M18,M21,M24,M27,M30,M33,M36,M39,M42,M45,M48,M51,M54,M57,M60,M63,M66,M69,M72),"","*") | N2: =IF(N6=SUM(N9,N12,N15,N18,N21,N24,N27,N30,N33,N36,N39,N42,N45,N48,N51,N54,N57,N60,N63,N66,N69,N72),"","*") | O2: =IF(O6=SUM(O9,O12,O15,O18,O21,O24,O27,O30,O33,O36,O39,O42,O45,O48,O51,O54,O57,O60,O63,O66,O69,O72),"","*") | P2: =IF(P6=SUM(P9,P12,P15,P18,P21,P24,P27,P30,P33,P36,P39,P42,P45,P48,P51,P54,P57,P60,P63,P66,P69,P72),"","*") | Q2: =IF(Q6=SUM(Q9,Q12,Q15,Q18,Q21,Q24,Q27,Q30,Q33,Q36,Q39,Q42,Q45,Q48,Q51,Q54,Q57,Q60,Q63,Q66,Q69,Q72),"","*") | R2: =IF(R6=SUM(R9,R12,R15,R18,R21,R24,R27,R30,R33,R36,R39,R42,R45,R48,R51,R54,R57,R60,R63,R66,R69,R72),"","*") | S2: =IF(S6=SUM(S9,S12,S15,S18,S21,S24,S27,S30,S33,S36,S39,S42,S45,S48,S51,S54,S57,S60,S63,S66,S69,S72),"","*") | ... Y2: =IF(Y6=SUM(Y9,Y12,Y15,Y18,Y21,Y24,Y27,Y30,Y33,Y36,Y39,Y42,Y45,Y48,Y51,Y54,Y57,Y60,Y63,Y66,Y69,Y72),"","*")
A3: 區域別及性別 Locality and Sex | C3: 老人保護扶助人次（複選；人次）Number of Senior Citizens Receiving Protection and Assistance | P3: 老人保護類型（複選；人次）Types of Elderly Protection | Y3: 老人保護通報案件數(件) Number of Cases Reported for Elderly Protection
C4: 總計 Total | D4: 諮詢協談Counseling | E4: 家庭關係處理 Family relationship management | F4: 保護安置Protection and Placement | G4: 陪同報案偵詢(訊)Accompanying the Parties Concerned During Case Reporting and Interrogation/Investigation | H4: 陪同出庭Accompanying the Parties Concerned to Appear before Court | I4: 陪同醫療服務 Accompanying the Parties Concerned to medical service | J4: 心理諮商、治療與輔導 | K4: 連結長期照顧服務 | L4: 聲請保護令Petition for a Protection Order | M4: 經濟扶助Financial Aid | N4: 法律扶助Legal Aid | O4: 其他扶助 Others | P4: 總計 Total | Q4: 疏忽 Carelessness | R4: 遺棄 Abandoned | S4: 身心虐待Mistreatness | V4: 財產侵占/搾取Misappropriation/Exploitation of Property | W4: 無人扶養Lack of Support | X4: 其他 Others
S5: 合計 SubTotal | T5: 身體虐待 Physical Abuse | U5: 精神虐待Psychological Abuse
A6: 總計 | B6: 合計 SubTotal | C6: 51939 | D6: 41337 | E6: 1102 | F6: 2654 | G6: 4 | H6: 165 | I6: 324 | J6: 10 | K6: 754 | L6: 18 | M6: 1652 | N6: 342 | O6: 3577 | P6: 2386 | Q6: 911 | R6: 453 | S6: 203 | T6: 196 | U6: 7 | V6: 26 | W6: 761 | X6: 32 | Y6: 2173
A7: Total | B7: 男Male | C7: 34194 | D7: 26985 | E7: 668 | F7: 1802 | G7: 2 | H7: 106 | I7: 243 | J7: 6 | K7: 501 | L7: 13 | M7: 1110 | N7: 228 | O7: 2530 | P7: 1417 | Q7: 438 | R7: 301 | S7: 79 | T7: 77 | U7: 2 | V7: 12 | W7: 569 | X7: 18 | Y7: 0
B8: 女Female | C8: 17745 | D8: 14352 | E8: 434 | F8: 852 | G8: 2 | H8: 59 | I8: 81 | J8: 4 | K8: 253 | L8: 5 | M8: 542 | N8: 114 | O8: 1047 | P8: 969 | Q8: 473 | R8: 152 | S8: 124 | T8: 119 | U8: 5 | V8: 14 | W8: 192 | X8: 14 | Y8: 0
A9: 新北市 | B9: 計 Total | C9: 707 | D9: 657 | E9: 19 | F9: 4 | G9: 0 | H9: 2 | I9: 0 | J9: 0 | K9: 1 | L9: 2 | M9: 0 | N9: 7 | O9: 15 | P9: 383 | Q9: 175 | R9: 67 | S9: 64 | T9: 64 | U9: 0 | V9: 2 | W9: 72 | X9: 3 | Y9: 305
A10: New Taipei City | B10: 男 Male | C10: 229 | D10: 217 | E10: 4 | F10: 1 | G10: 0 | H10: 1 | I10: 0 | J10: 0 | K10: 0 | L10: 1 | M10: 0 | N10: 3 | O10: 2 | P10: 200 | Q10: 86 | R10: 43 | S10: 23 | T10: 23 | U10: 0 | V10: 0 | W10: 46 | X10: 2 | Y10: 0
B11: 女 Female | C11: 478 | D11: 440 | E11: 15 | F11: 3 | G11: 0 | H11: 1 | I11: 0 | J11: 0 | K11: 1 | L11: 1 | M11: 0 | N11: 4 | O11: 13 | P11: 183 | Q11: 89 | R11: 24 | S11: 41 | T11: 41 | U11: 0 | V11: 2 | W11: 26 | X11: 1 | Y11: 0
A12: 臺北市 | B12: 計 Total | C12: 1462 | D12: 1197 | E12: 21 | F12: 3 | G12: 0 | H12: 3 | I12: 0 | J12: 0 | K12: 0 | L12: 0 | M12: 24 | N12: 33 | O12: 181 | P12: 48 | Q12: 18 | R12: 5 | S12: 20 | T12: 20 | U12: 0 | V12: 3 | W12: 2 | X12: 0 | Y12: 42
A13: Taipei City | B13: 男 Male | C13: 785 | D13: 645 | E13: 16 | F13: 1 | G13: 0 | H13: 0 | I13: 0 | J13: 0 | K13: 0 | L13: 0 | M13: 3 | N13: 20 | O13: 100 | P13: 25 | Q13: 8 | R13: 3 | S13: 11 | T13: 11 | U13: 0 | V13: 2 | W13: 1 | X13: 0 | Y13: 0
B14: 女 Female | C14: 677 | D14: 552 | E14: 5 | F14: 2 | G14: 0 | H14: 3 | I14: 0 | J14: 0 | K14: 0 | L14: 0 | M14: 21 | N14: 13 | O14: 81 | P14: 23 | Q14: 10 | R14: 2 | S14: 9 | T14: 9 | U14: 0 | V14: 1 | W14: 1 | X14: 0 | Y14: 0
A15: 桃園市 | B15: 計 Total | C15: 3349 | D15: 3017 | E15: 74 | F15: 24 | G15: 0 | H15: 11 | I15: 6 | J15: 0 | K15: 42 | L15: 0 | M15: 26 | N15: 11 | O15: 138 | P15: 95 | Q15: 67 | R15: 12 | S15: 7 | T15: 7 | U15: 0 | V15: 0 | W15: 7 | X15: 2 | Y15: 90
A16: Taoyuan City | B16: 男 Male | C16: 2216 | D16: 2014 | E16: 39 | F16: 18 | G16: 0 | H16: 11 | I16: 5 | J16: 0 | K16: 22 | L16: 0 | M16: 16 | N16: 5 | O16: 86 | P16: 43 | Q16: 26 | R16: 8 | S16: 3 | T16: 3 | U16: 0 | V16: 0 | W16: 5 | X16: 1 | Y16: 0
B17: 女 Female | C17: 1133 | D17: 1003 | E17: 35 | F17: 6 | G17: 0 | H17: 0 | I17: 1 | J17: 0 | K17: 20 | L17: 0 | M17: 10 | N17: 6 | O17: 52 | P17: 52 | Q17: 41 | R17: 4 | S17: 4 | T17: 4 | U17: 0 | V17: 0 | W17: 2 | X17: 1 | Y17: 0
A18: 臺中市 | B18: 計 Total | C18: 2502 | D18: 2269 | E18: 10 | F18: 169 | G18: 0 | H18: 10 | I18: 1 | J18: 0 | K18: 0 | L18: 0 | M18: 0 | N18: 2 | O18: 41 | P18: 57 | Q18: 34 | R18: 10 | S18: 7 | T18: 7 | U18: 0 | V18: 1 | W18: 3 | X18: 2 | Y18: 57
A19: Taichung City | B19: 男 Male | C19: 1517 | D19: 1363 | E19: 10 | F19: 114 | G19: 0 | H19: 7 | I19: 0 | J19: 0 | K19: 0 | L19: 0 | M19: 0 | N19: 2 | O19: 21 | P19: 30 | Q19: 18 | R19: 7 | S19: 2 | T19: 2 | U19: 0 | V19: 0 | W19: 1 | X19: 2 | Y19: 0
B20: 女 Female | C20: 985 | D20: 906 | E20: 0 | F20: 55 | G20: 0 | H20: 3 | I20: 1 | J20: 0 | K20: 0 | L20: 0 | M20: 0 | N20: 0 | O20: 20 | P20: 27 | Q20: 16 | R20: 3 | S20: 5 | T20: 5 | U20: 0 | V20: 1 | W20: 2 | X20: 0 | Y20: 0
A21: 臺南市 | B21: 計 Total | C21: 5585 | D21: 4460 | E21: 41 | F21: 117 | G21: 0 | H21: 16 | I21: 0 | J21: 0 | K21: 29 | L21: 0 | M21: 4 | N21: 26 | O21: 892 | P21: 91 | Q21: 23 | R21: 15 | S21: 26 | T21: 26 | U21: 0 | V21: 1 | W21: 24 | X21: 2 | Y21: 86
A22: Tainan City | B22: 男 Male | C22: 4136 | D22: 3253 | E22: 27 | F22: 93 | G22: 0 | H22: 11 | I22: 0 | J22: 0 | K22: 22 | L22: 0 | M22: 4 | N22: 18 | O22: 708 | P22: 60 | Q22: 13 | R22: 9 | S22: 14 | T22: 14 | U22: 0 | V22: 1 | W22: 21 | X22: 2 | Y22: 0
B23: 女 Female | C23: 1449 | D23: 1207 | E23: 14 | F23: 24 | G23: 0 | H23: 5 | I23: 0 | J23: 0 | K23: 7 | L23: 0 | M23: 0 | N23: 8 | O23: 184 | P23: 31 | Q23: 10 | R23: 6 | S23: 12 | T23: 12 | U23: 0 | V23: 0 | W23: 3 | X23: 0 | Y23: 0
A24: 高雄市 | B24: 計 Total | C24: 19504 | D24: 13588 | E24: 626 | F24: 2038 | G24: 1 | H24: 74 | I24: 304 | J24: 10 | K24: 489 | L24: 0 | M24: 1264 | N24: 161 | O24: 949 | P24: 780 | Q24: 260 | R24: 187 | S24: 12 | T24: 12 | U24: 0 | V24: 5 | W24: 314 | X24: 2 | Y24: 730
A25: Kaohsiung City | B25: 男 Male | C25: 12758 | D25: 8842 | E25: 366 | F25: 1341 | G25: 1 | H25: 46 | I25: 229 | J25: 6 | K25: 317 | L25: 0 | M25: 852 | N25: 107 | O25: 651 | P25: 509 | Q25: 133 | R25: 124 | S25: 5 | T25: 5 | U25: 0 | V25: 1 | W25: 245 | X25: 1 | Y25: 0
B26: 女 Female | C26: 6746 | D26: 4746 | E26: 260 | F26: 697 | G26: 0 | H26: 28 | I26: 75 | J26: 4 | K26: 172 | L26: 0 | M26: 412 | N26: 54 | O26: 298 | P26: 271 | Q26: 127 | R26: 63 | S26: 7 | T26: 7 | U26: 0 | V26: 4 | W26: 69 | X26: 1 | Y26: 0
A27: 宜蘭縣 | B27: 計 Total | C27: 783 | D27: 735 | E27: 12 | F27: 1 | G27: 0 | H27: 0 | I27: 0 | J27: 0 | K27: 1 | L27: 0 | M27: 5 | N27: 5 | O27: 24 | P27: 48 | Q27: 21 | R27: 0 | S27: 2 | T27: 2 | U27: 0 | V27: 0 | W27: 25 | X27: 0 | Y27: 41
A28: Yilan County | B28: 男 Male | C28: 521 | D28: 498 | E28: 3 | F28: 1 | G28: 0 | H28: 0 | I28: 0 | J28: 0 | K28: 1 | L28: 0 | M28: 3 | N28: 0 | O28: 15 | P28: 26 | Q28: 9 | R28: 0 | S28: 0 | T28: 0 | U28: 0 | V28: 0 | W28: 17 | X28: 0 | Y28: 0
B29: 女 Female | C29: 262 | D29: 237 | E29: 9 | F29: 0 | G29: 0 | H29: 0 | I29: 0 | J29: 0 | K29: 0 | L29: 0 | M29: 2 | N29: 5 | O29: 9 | P29: 22 | Q29: 12 | R29: 0 | S29: 2 | T29: 2 | U29: 0 | V29: 0 | W29: 8 | X29: 0 | Y29: 0
A30: 新竹縣 | B30: 計 Total | C30: 1139 | D30: 951 | E30: 23 | F30: 6 | G30: 2 | H30: 14 | I30: 3 | J30: 0 | K30: 21 | L30: 0 | M30: 27 | N30: 10 | O30: 82 | P30: 54 | Q30: 16 | R30: 19 | S30: 8 | T30: 8 | U30: 0 | V30: 3 | W30: 8 | X30: 0 | Y30: 46
A31: Hsinchu County | B31: 男 Male | C31: 691 | D31: 569 | E31: 16 | F31: 3 | G31: 0 | H31: 10 | I31: 2 | J31: 0 | K31: 16 | L31: 0 | M31: 20 | N31: 5 | O31: 50 | P31: 34 | Q31: 10 | R31: 12 | S31: 3 | T31: 3 | U31: 0 | V31: 3 | W31: 6 | X31: 0 | Y31: 0
B32: 女 Female | C32: 448 | D32: 382 | E32: 7 | F32: 3 | G32: 2 | H32: 4 | I32: 1 | J32: 0 | K32: 5 | L32: 0 | M32: 7 | N32: 5 | O32: 32 | P32: 20 | Q32: 6 | R32: 7 | S32: 5 | T32: 5 | U32: 0 | V32: 0 | W32: 2 | X32: 0 | Y32: 0
A33: 苗栗縣 | B33: 計 Total | C33: 2101 | D33: 1700 | E33: 14 | F33: 44 | G33: 0 | H33: 11 | I33: 1 | J33: 0 | K33: 3 | L33: 0 | M33: 26 | N33: 4 | O33: 298 | P33: 62 | Q33: 16 | R33: 22 | S33: 3 | T33: 3 | U33: 0 | V33: 1 | W33: 20 | X33: 0 | Y33: 59
A34: Miaoli County | B34: 男 Male | C34: 1593 | D34: 1300 | E34: 10 | F34: 34 | G34: 0 | H34: 4 | I34: 1 | J34: 0 | K34: 1 | L34: 0 | M34: 13 | N34: 2 | O34: 228 | P34: 42 | Q34: 11 | R34: 13 | S34: 0 | T34: 0 | U34: 0 | V34: 0 | W34: 18 | X34: 0 | Y34: 0
B35: 女 Female | C35: 508 | D35: 400 | E35: 4 | F35: 10 | G35: 0 | H35: 7 | I35: 0 | J35: 0 | K35: 2 | L35: 0 | M35: 13 | N35: 2 | O35: 70 | P35: 20 | Q35: 5 | R35: 9 | S35: 3 | T35: 3 | U35: 0 | V35: 1 | W35: 2 | X35: 0 | Y35: 0
A36: 彰化縣 | B36: 計 Total | C36: 2611 | D36: 2130 | E36: 0 | F36: 51 | G36: 1 | H36: 1 | I36: 0 | J36: 0 | K36: 17 | L36: 0 | M36: 87 | N36: 23 | O36: 301 | P36: 111 | Q36: 43 | R36: 20 | S36: 1 | T36: 1 | U36: 0 | V36: 0 | W36: 47 | X36: 0 | Y36: 109
A37: Changhua County | B37: 男 Male | C37: 1666 | D37: 1353 | E37: 0 | F37: 38 | G37: 1 | H37: 1 | I37: 0 | J37: 0 | K37: 6 | L37: 0 | M37: 48 | N37: 20 | O37: 199 | P37: 71 | Q37: 21 | R37: 15 | S37: 0 | T37: 0 | U37: 0 | V37: 0 | W37: 35 | X37: 0 | Y37: 0
B38: 女 Female | C38: 945 | D38: 777 | E38: 0 | F38: 13 | G38: 0 | H38: 0 | I38: 0 | J38: 0 | K38: 11 | L38: 0 | M38: 39 | N38: 3 | O38: 102 | P38: 40 | Q38: 22 | R38: 5 | S38: 1 | T38: 1 | U38: 0 | V38: 0 | W38: 12 | X38: 0 | Y38: 0
A39: 南投縣 | B39: 計 Total | C39: 1600 | D39: 1458 | E39: 11 | F39: 11 | G39: 0 | H39: 5 | I39: 0 | J39: 0 | K39: 20 | L39: 0 | M39: 28 | N39: 5 | O39: 62 | P39: 140 | Q39: 32 | R39: 35 | S39: 2 | T39: 2 | U39: 0 | V39: 4 | W39: 67 | X39: 0 | Y39: 124
A40: Nantou County | B40: 男 Male | C40: 1135 | D40: 1032 | E40: 6 | F40: 10 | G40: 0 | H40: 4 | I40: 0 | J40: 0 | K40: 16 | L40: 0 | M40: 22 | N40: 4 | O40: 41 | P40: 96 | Q40: 14 | R40: 26 | S40: 1 | T40: 1 | U40: 0 | V40: 2 | W40: 53 | X40: 0 | Y40: 0
...

Sheet 109
A1: 老人保護概況 Protection for the Aged
A2: 民國109年,2020 | C2: =IF(C6=SUM(C9,C12,C15,C18,C21,C24,C27,C30,C33,C36,C39,C42,C45,C48,C51,C54,C57,C60,C63,C66,C69,C72),"","*") | D2: =IF(D6=SUM(D9,D12,D15,D18,D21,D24,D27,D30,D33,D36,D39,D42,D45,D48,D51,D54,D57,D60,D63,D66,D69,D72),"","*") | E2: =IF(E6=SUM(E9,E12,E15,E18,E21,E24,E27,E30,E33,E36,E39,E42,E45,E48,E51,E54,E57,E60,E63,E66,E69,E72),"","*") | F2: =IF(F6=SUM(F9,F12,F15,F18,F21,F24,F27,F30,F33,F36,F39,F42,F45,F48,F51,F54,F57,F60,F63,F66,F69,F72),"","*") | G2: =IF(G6=SUM(G9,G12,G15,G18,G21,G24,G27,G30,G33,G36,G39,G42,G45,G48,G51,G54,G57,G60,G63,G66,G69,G72),"","*") | H2: =IF(H6=SUM(H9,H12,H15,H18,H21,H24,H27,H30,H33,H36,H39,H42,H45,H48,H51,H54,H57,H60,H63,H66,H69,H72),"","*") | I2: =IF(I6=SUM(I9,I12,I15,I18,I21,I24,I27,I30,I33,I36,I39,I42,I45,I48,I51,I54,I57,I60,I63,I66,I69,I72),"","*") | J2: =IF(J6=SUM(J9,J12,J15,J18,J21,J24,J27,J30,J33,J36,J39,J42,J45,J48,J51,J54,J57,J60,J63,J66,J69,J72),"","*") | ... W2: =IF(W6=SUM(W9,W12,W15,W18,W21,W24,W27,W30,W33,W36,W39,W42,W45,W48,W51,W54,W57,W60,W63,W66,W69,W72),"","*")
A3: 區域別及性別 Locality and Sex | C3: 老人保護扶助人次（複選；人次）Number of Senior Citizens Receiving Protection and Assistance | N3: 老人保護類型（複選；人次）Types of Elderly Protection | W3: 老人保護通報案件數(件) Number of Cases Reported for Elderly Protection
C4: 總計 Total | D4: 諮詢協談Counseling | E4: 保護安置Protection and Placement | F4: 陪同報案偵詢(訊)Accompanying the Parties Concerned During Case Reporting and Interrogation/Investigation | G4: 陪同出庭Accompanying the Parties Concerned to Appear before Court | H4: 驗傷診療Medical Examinations and Diagnoses | I4: 聲請保護令Petition for a Protection Order | J4: 經濟扶助Financial Aid | K4: 法律扶助Legal Aid | L4: 通譯服務Interpreting Services | M4: 其他扶助 Others | N4: 總計 Total | O4: 疏忽 Carelessness | P4: 遺棄 Abandoned | Q4: 身心虐待Mistreatness | T4: 財產侵占/搾取Misappropriation/Exploitation of Property | U4: 無人扶養Lack of Support | V4: 其他 Others
Q5: 合計 SubTotal | R5: 身體虐待 Physical Abuse | S5: 精神虐待Psychological Abuse
A6: 總計 | B6: 合計 SubTotal | C6: 48895 | D6: 38408 | E6: 3194 | F6: 17 | G6: 118 | H6: 54 | I6: 3 | J6: 1853 | K6: 568 | L6: 0 | M6: 4680 | N6: 2613 | O6: 921 | P6: 505 | Q6: 172 | R6: 154 | S6: 18 | T6: 27 | U6: 796 | V6: 192 | W6: 2427
A7: Total | B7: 男Male | C7: 31310 | D7: 24420 | E7: 2050 | F7: 9 | G7: 84 | H7: 32 | I7: 0 | J7: 1257 | K7: 372 | L7: 0 | M7: 3086 | N7: 1559 | O7: 449 | P7: 344 | Q7: 57 | R7: 52 | S7: 5 | T7: 14 | U7: 570 | V7: 125 | W7: 0
B8: 女Female | C8: 17585 | D8: 13988 | E8: 1144 | F8: 8 | G8: 34 | H8: 22 | I8: 3 | J8: 596 | K8: 196 | L8: 0 | M8: 1594 | N8: 1054 | O8: 472 | P8: 161 | Q8: 115 | R8: 102 | S8: 13 | T8: 13 | U8: 226 | V8: 67 | W8: 0
A9: 新北市 | B9: 計 Total | C9: 613 | D9: 548 | E9: 2 | F9: 0 | G9: 0 | H9: 1 | I9: 0 | J9: 3 | K9: 2 | L9: 0 | M9: 57 | N9: 449 | O9: 228 | P9: 129 | Q9: 31 | R9: 31 | S9: 0 | T9: 4 | U9: 57 | V9: 0 | W9: 274
A10: New Taipei City | B10: 男 Male | C10: 195 | D10: 162 | E10: 0 | F10: 0 | G10: 0 | H10: 0 | I10: 0 | J10: 1 | K10: 0 | L10: 0 | M10: 32 | N10: 219 | O10: 108 | P10: 66 | Q10: 9 | R10: 9 | S10: 0 | T10: 2 | U10: 34 | V10: 0 | W10: 0
B11: 女 Female | C11: 418 | D11: 386 | E11: 2 | F11: 0 | G11: 0 | H11: 1 | I11: 0 | J11: 2 | K11: 2 | L11: 0 | M11: 25 | N11: 230 | O11: 120 | P11: 63 | Q11: 22 | R11: 22 | S11: 0 | T11: 2 | U11: 23 | V11: 0 | W11: 0
A12: 臺北市 | B12: 計 Total | C12: 1793 | D12: 1393 | E12: 4 | F12: 1 | G12: 2 | H12: 1 | I12: 1 | J12: 19 | K12: 58 | L12: 0 | M12: 314 | N12: 100 | O12: 30 | P12: 12 | Q12: 42 | R12: 42 | S12: 0 | T12: 3 | U12: 10 | V12: 3 | W12: 94
A13: Taipei City | B13: 男 Male | C13: 573 | D13: 434 | E13: 1 | F13: 0 | G13: 0 | H13: 1 | I13: 0 | J13: 10 | K13: 23 | L13: 0 | M13: 104 | N13: 42 | O13: 10 | P13: 8 | Q13: 16 | R13: 16 | S13: 0 | T13: 0 | U13: 6 | V13: 2 | W13: 0
B14: 女 Female | C14: 1220 | D14: 959 | E14: 3 | F14: 1 | G14: 2 | H14: 0 | I14: 1 | J14: 9 | K14: 35 | L14: 0 | M14: 210 | N14: 58 | O14: 20 | P14: 4 | Q14: 26 | R14: 26 | S14: 0 | T14: 3 | U14: 4 | V14: 1 | W14: 0
A15: 桃園市 | B15: 計 Total | C15: 1947 | D15: 1736 | E15: 16 | F15: 1 | G15: 10 | H15: 2 | I15: 0 | J15: 9 | K15: 5 | L15: 0 | M15: 168 | N15: 75 | O15: 43 | P15: 13 | Q15: 7 | R15: 7 | S15: 0 | T15: 1 | U15: 8 | V15: 3 | W15: 72
A16: Taoyuan City | B16: 男 Male | C16: 1190 | D16: 1021 | E16: 13 | F16: 1 | G16: 10 | H16: 1 | I16: 0 | J16: 5 | K16: 0 | L16: 0 | M16: 139 | N16: 42 | O16: 22 | P16: 9 | Q16: 2 | R16: 2 | S16: 0 | T16: 0 | U16: 7 | V16: 2 | W16: 0
B17: 女 Female | C17: 757 | D17: 715 | E17: 3 | F17: 0 | G17: 0 | H17: 1 | I17: 0 | J17: 4 | K17: 5 | L17: 0 | M17: 29 | N17: 33 | O17: 21 | P17: 4 | Q17: 5 | R17: 5 | S17: 0 | T17: 1 | U17: 1 | V17: 1 | W17: 0
A18: 臺中市 | B18: 計 Total | C18: 2641 | D18: 2385 | E18: 191 | F18: 0 | G18: 10 | H18: 0 | I18: 0 | J18: 0 | K18: 9 | L18: 0 | M18: 46 | N18: 96 | O18: 38 | P18: 10 | Q18: 8 | R18: 8 | S18: 0 | T18: 1 | U18: 3 | V18: 36 | W18: 95
A19: Taichung City | B19: 男 Male | C19: 1491 | D19: 1312 | E19: 139 | F19: 0 | G19: 7 | H19: 0 | I19: 0 | J19: 0 | K19: 8 | L19: 0 | M19: 25 | N19: 46 | O19: 15 | P19: 4 | Q19: 1 | R19: 1 | S19: 0 | T19: 0 | U19: 0 | V19: 26 | W19: 0
B20: 女 Female | C20: 1150 | D20: 1073 | E20: 52 | F20: 0 | G20: 3 | H20: 0 | I20: 0 | J20: 0 | K20: 1 | L20: 0 | M20: 21 | N20: 50 | O20: 23 | P20: 6 | Q20: 7 | R20: 7 | S20: 0 | T20: 1 | U20: 3 | V20: 10 | W20: 0
A21: 臺南市 | B21: 計 Total | C21: 4228 | D21: 3401 | E21: 100 | F21: 9 | G21: 16 | H21: 0 | I21: 0 | J21: 46 | K21: 39 | L21: 0 | M21: 617 | N21: 324 | O21: 79 | P21: 34 | Q21: 12 | R21: 12 | S21: 0 | T21: 0 | U21: 100 | V21: 99 | W21: 320
A22: Tainan City | B22: 男 Male | C22: 3126 | D22: 2491 | E22: 82 | F22: 7 | G22: 10 | H22: 0 | I22: 0 | J22: 42 | K22: 25 | L22: 0 | M22: 469 | N22: 217 | O22: 43 | P22: 28 | Q22: 7 | R22: 7 | S22: 0 | T22: 0 | U22: 78 | V22: 61 | W22: 0
B23: 女 Female | C23: 1102 | D23: 910 | E23: 18 | F23: 2 | G23: 6 | H23: 0 | I23: 0 | J23: 4 | K23: 14 | L23: 0 | M23: 148 | N23: 107 | O23: 36 | P23: 6 | Q23: 5 | R23: 5 | S23: 0 | T23: 0 | U23: 22 | V23: 38 | W23: 0
A24: 高雄市 | B24: 計 Total | C24: 21121 | D24: 14605 | E24: 2317 | F24: 3 | G24: 37 | H24: 23 | I24: 0 | J24: 1417 | K24: 334 | L24: 0 | M24: 2385 | N24: 535 | O24: 160 | P24: 80 | Q24: 0 | R24: 0 | S24: 0 | T24: 5 | U24: 266 | V24: 24 | W24: 771
A25: Kaohsiung City | B25: 男 Male | C25: 13771 | D25: 9595 | E25: 1434 | F25: 0 | G25: 24 | H25: 12 | I25: 0 | J25: 947 | K25: 213 | L25: 0 | M25: 1546 | N25: 354 | O25: 92 | P25: 57 | Q25: 0 | R25: 0 | S25: 0 | T25: 3 | U25: 187 | V25: 15 | W25: 0
B26: 女 Female | C26: 7350 | D26: 5010 | E26: 883 | F26: 3 | G26: 13 | H26: 11 | I26: 0 | J26: 470 | K26: 121 | L26: 0 | M26: 839 | N26: 181 | O26: 68 | P26: 23 | Q26: 0 | R26: 0 | S26: 0 | T26: 2 | U26: 79 | V26: 9 | W26: 0
A27: 宜蘭縣 | B27: 計 Total | C27: 531 | D27: 472 | E27: 4 | F27: 0 | G27: 0 | H27: 0 | I27: 0 | J27: 12 | K27: 1 | L27: 0 | M27: 42 | N27: 40 | O27: 13 | P27: 1 | Q27: 0 | R27: 0 | S27: 0 | T27: 0 | U27: 26 | V27: 0 | W27: 36
A28: Yilan County | B28: 男 Male | C28: 306 | D28: 268 | E28: 2 | F28: 0 | G28: 0 | H28: 0 | I28: 0 | J28: 7 | K28: 1 | L28: 0 | M28: 28 | N28: 27 | O28: 9 | P28: 1 | Q28: 0 | R28: 0 | S28: 0 | T28: 0 | U28: 17 | V28: 0 | W28: 0
B29: 女 Female | C29: 225 | D29: 204 | E29: 2 | F29: 0 | G29: 0 | H29: 0 | I29: 0 | J29: 5 | K29: 0 | L29: 0 | M29: 14 | N29: 13 | O29: 4 | P29: 0 | Q29: 0 | R29: 0 | S29: 0 | T29: 0 | U29: 9 | V29: 0 | W29: 0
A30: 新竹縣 | B30: 計 Total | C30: 964 | D30: 824 | E30: 24 | F30: 0 | G30: 2 | H30: 4 | I30: 0 | J30: 26 | K30: 17 | L30: 0 | M30: 67 | N30: 51 | O30: 17 | P30: 14 | Q30: 0 | R30: 0 | S30: 0 | T30: 1 | U30: 18 | V30: 1 | W30: 58
A31: Hsinchu County | B31: 男 Male | C31: 469 | D31: 388 | E31: 16 | F31: 0 | G31: 0 | H31: 4 | I31: 0 | J31: 18 | K31: 11 | L31: 0 | M31: 32 | N31: 32 | O31: 8 | P31: 11 | Q31: 0 | R31: 0 | S31: 0 | T31: 0 | U31: 13 | V31: 0 | W31: 0
B32: 女 Female | C32: 495 | D32: 436 | E32: 8 | F32: 0 | G32: 2 | H32: 0 | I32: 0 | J32: 8 | K32: 6 | L32: 0 | M32: 35 | N32: 19 | O32: 9 | P32: 3 | Q32: 0 | R32: 0 | S32: 0 | T32: 1 | U32: 5 | V32: 1 | W32: 0
A33: 苗栗縣 | B33: 計 Total | C33: 1673 | D33: 1365 | E33: 54 | F33: 1 | G33: 4 | H33: 20 | I33: 0 | J33: 42 | K33: 6 | L33: 0 | M33: 181 | N33: 62 | O33: 27 | P33: 14 | Q33: 6 | R33: 6 | S33: 0 | T33: 2 | U33: 13 | V33: 0 | W33: 55
A34: Miaoli County | B34: 男 Male | C34: 1257 | D34: 1019 | E34: 39 | F34: 1 | G34: 4 | H34: 11 | I34: 0 | J34: 33 | K34: 5 | L34: 0 | M34: 145 | N34: 41 | O34: 18 | P34: 11 | Q34: 1 | R34: 1 | S34: 0 | T34: 2 | U34: 9 | V34: 0 | W34: 0
B35: 女 Female | C35: 416 | D35: 346 | E35: 15 | F35: 0 | G35: 0 | H35: 9 | I35: 0 | J35: 9 | K35: 1 | L35: 0 | M35: 36 | N35: 21 | O35: 9 | P35: 3 | Q35: 5 | R35: 5 | S35: 0 | T35: 0 | U35: 4 | V35: 0 | W35: 0
A36: 彰化縣 | B36: 計 Total | C36: 2991 | D36: 2525 | E36: 48 | F36: 1 | G36: 2 | H36: 0 | I36: 0 | J36: 84 | K36: 22 | L36: 0 | M36: 309 | N36: 134 | O36: 41 | P36: 38 | Q36: 6 | R36: 6 | S36: 0 | T36: 2 | U36: 47 | V36: 0 | W36: 132
A37: Changhua County | B37: 男 Male | C37: 1954 | D37: 1617 | E37: 35 | F37: 0 | G37: 1 | H37: 0 | I37: 0 | J37: 45 | K37: 22 | L37: 0 | M37: 234 | N37: 90 | O37: 13 | P37: 31 | Q37: 1 | R37: 1 | S37: 0 | T37: 2 | U37: 43 | V37: 0 | W37: 0
B38: 女 Female | C38: 1037 | D38: 908 | E38: 13 | F38: 1 | G38: 1 | H38: 0 | I38: 0 | J38: 39 | K38: 0 | L38: 0 | M38: 75 | N38: 44 | O38: 28 | P38: 7 | Q38: 5 | R38: 5 | S38: 0 | T38: 0 | U38: 4 | V38: 0 | W38: 0
A39: 南投縣 | B39: 計 Total | C39: 1007 | D39: 860 | E39: 19 | F39: 0 | G39: 4 | H39: 0 | I39: 0 | J39: 11 | K39: 26 | L39: 0 | M39: 87 | N39: 88 | O39: 23 | P39: 28 | Q39: 1 | R39: 1 | S39: 0 | T39: 0 | U39: 35 | V39: 1 | W39: 76
A40: Nantou County | B40: 男 Male | C40: 729 | D40: 616 | E40: 13 | F40: 0 | G40: 4 | H40: 0 | I40: 0 | J40: 7 | K40: 25 | L40: 0 | M40: 64 | N40: 59 | O40: 14 | P40: 21 | Q40: 0 | R40: 0 | S40: 0 | T40: 0 | U40: 24 | V40: 0 | W40: 0
...

Sheet 歷年 (87年-108年)
A1: 老人保護概況 Protection for the Aged
A2: 民國87-108年
A3: 年別 | C3: 通報專線 | E3: 遺棄 | G3: 虐待 | I3: 疏忽
C4: 專線電話數(線) | D4: 受服務人次(人次) | E4: 人數 | F4: 服務人次 | G4: 人數 | H4: 服務人次 | I4: 人數 | J4: 服務人次
A5: 87年,1998 | C5: 46 | D5: 10062 | E5: ... | F5: ... | G5: ... | H5: ... | I5: ... | J5: ...
A6: 88年,1999 | C6: 63 | D6: 7058 | E6: 112 | F6: 785 | G6: 241 | H6: 1523 | I6: 627 | J6: 2628
A7: 89年,2000 | C7: 67 | D7: 9144 | E7: 137 | F7: 1702 | G7: 225 | H7: 912 | I7: 392 | J7: 1585
A8: 90年,2001 | C8: 69 | D8: 13683 | E8: 96 | F8: 2035 | G8: 149 | H8: 957 | I8: 201 | J8: 663
A9: 91年,2002 | C9: 64 | D9: 12972 | E9: 84 | F9: 384 | G9: 189 | H9: 868 | I9: 238 | J9: 432
A11: 年別 | C11: 通報專線 | G11: 緊急通報點 | K11: 法津訴訟及諮詢 | O11: 驗傷醫療 | S11: 個案輔導 | W11: 個案追蹤輔導訪視 | AA11: 問安電話 | AE11: 委託安置 | AI11: 遺棄 | AM11: 虐待 | AQ11: 疏忽 | AU11: 其他
C12: Service Lines | G12: Service Spots | K12: Litigation of Law and Counselling | O12: Medical Checkup and Treatment | S12: Specific Assistance | W12: Specific Assistance Followed | AA12: Call Inquired for Health | AE12: Committed Settling | AI12: Abandoned | AM12: Mistreatness | AQ12: Carelessness | AU12: Others
C13: 專線數(線) | D13: 受服務人次(人次) | G13: 通報點數(處) | H13: 受服務人次(人次) | K13: 受服務人數 (人) | N13: 受服務人次 | O13: 受服務人數 (人) | R13: 受服務人次 | S13: 受服務人數 (人) | V13: 受服務人次 | W13: 受服務人數 (人) | Z13: 受服務人次 | AA13: 受服務人數 (人) | AD13: 受服務人次 | AE13: 受服務人數 (人) | AH13: 受服務人次 | AI13: 受服務人數 (人) | AL13: 受服務人次 | AM13: 受服務人數 (人) | AP13: 受服務人次 | AQ13: 受服務人數 (人) | AT13: 受服務人次 | AU13: 受服務人數 (人) | AX13: 受服務人次
D14: Persons Serviced (Person-Times) | H14: Persons Serviced (Person-Times) | K14: Persons Serviced (Persons) | O14: Persons Serviced (Persons) | S14: Persons Serviced (Persons) | W14: Persons Serviced (Persons) | AA14: Persons Serviced (Persons) | AE14: Persons Serviced (Persons) | AI14: Persons Serviced (Persons) | AM14: Persons Serviced (Persons) | AQ14: Persons Serviced (Persons) | AU14: Persons Serviced (Persons)
C15: No. of Lines | D15: 合計 | E15: 男 | F15: 女 | G15: Spots (Places) | H15: 合計 | I15: 男 | J15: 女 | K15: 合計 | L15: 男 | M15: 女 | O15: 合計 | P15: 男 | Q15: 女 | S15: 合計 | T15: 男 | U15: 女 | W15: 合計 | X15: 男 | Y15: 女 | AA15: 合計 | AB15: 男 | AC15: 女 | AE15: 合計 | AF15: 男 | AG15: 女 | AI15: 合計 | AJ15: 男 | AK15: 女 | AM15: 合計 | AN15: 男 | AO15: 女 | AQ15: 合計 | AR15: 男 | AS15: 女 | AU15: 合計 | AV15: 男 | AW15: 女
D17: Total | E17: Male | F17: Female | H17: Total | I17: Male | J17: Female | K17: Total | L17: Male | M17: Female | N17: Service Person-times | O17: Total | P17: Male | Q17: Female | R17: Service Person-times | S17: Total | T17: Male | U17: Female | V17: Service Person-times | W17: Total | X17: Male | Y17: Female | Z17: Service Person-times | AA17: Total | AB17: Male | AC17: Female | AD17: Service Person-times | AE17: Total | AF17: Male | AG17: Female | AH17: Service Person-times | AI17: Total | AJ17: Male | AK17: Female | AL17: Service Person-times | AM17: Total | AN17: Male | AO17: Female | AP17: Service Person-times | AQ17: Total | AR17: Male | AS17: Female | AT17: Service Person-times | AU17: Total | AV17: Male | AW17: Female | AX17: Service Person-times
A19: 92年, 2003 | C19: 65 | D19: 10162 | E19: 5363 | F19: 4799 | G19: 579 | H19: 9270 | I19: 4709 | J19: 4561 | K19: 452 | L19: 219 | M19: 233 | N19: 1181 | O19: 195 | P19: 92 | Q19: 103 | R19: 217 | S19: 844 | T19: 402 | U19: 442 | V19: 2771 | W19: 1478 | X19: 708 | Y19: 770 | Z19: 3454 | AA19: 9878 | AB19: 5292 | AC19: 4586 | AD19: 76311 | AE19: 387 | AF19: 207 | AG19: 173 | AH19: 1225 | AI19: 127 | AJ19: 60 | AK19: 67 | AL19: 463 | AM19: 234 | AN19: 118 | AO19: 116 | AP19: 910 | AQ19: 119 | AR19: 58 | AS19: 61 | AT19: 328 | AU19: ... | AV19: ... | AW19: ... | AX19: ...
A20: 93年, 2004 | C20: ='93'!C11 -> 69 | D20: ='93'!D11 -> 6741 | E20: ='93'!E11 -> 3382 | F20: ='93'!F11 -> 3359 | G20: ='93'!G11 -> 547 | H20: ='93'!H11 -> 5961 | I20: ='93'!I11 -> 2947 | J20: ='93'!J11 -> 3014 | ... AT20: ='93'!AT11 -> 1940 | AU20: ... | AV20: ... | AW20: ... | AX20: ...
A21: 94年, 2005 | C21: 69 | D21: 6220 | E21: 3174 | F21: 3046 | G21: 514 | H21: 4239 | I21: 2212 | J21: 2027 | K21: 671 | L21: 324 | M21: 347 | N21: 893 | O21: 171 | P21: 85 | Q21: 86 | R21: 254 | S21: 1982 | T21: 943 | U21: 1039 | V21: 4401 | W21: 1273 | X21: 620 | Y21: 653 | Z21: 4014 | AA21: 4101 | AB21: 2290 | AC21: 1811 | AD21: 13583 | AE21: 212 | AF21: 123 | AG21: 89 | AH21: 667 | AI21: 152 | AJ21: 89 | AK21: 63 | AL21: 989 | AM21: 815 | AN21: 355 | AO21: 460 | AP21: 2858 | AQ21: 415 | AR21: 219 | AS21: 196 | AT21: 1242 | AU21: ... | AV21: ... | AW21: ... | AX21: ...
A22: 95年,2006 | C22: 72 | D22: 5669 | E22: 2556 | F22: 3113 | G22: 333 | H22: 3819 | I22: 1882 | J22: 1937 | K22: 691 | L22: 312 | M22: 379 | N22: 1306 | O22: 121 | P22: 64 | Q22: 57 | R22: 142 | S22: 1432 | T22: 682 | U22: 750 | V22: 2820 | W22: 1360 | X22: 666 | Y22: 694 | Z22: 3404 | AA22: 3208 | AB22: 1745 | AC22: 1463 | AD22: 7163 | AE22: 246 | AF22: 151 | AG22: 95 | AH22: 484 | AI22: 256 | AJ22: 143 | AK22: 113 | AL22: 1589 | AM22: 647 | AN22: 273 | AO22: 374 | AP22: 3165 | AQ22: 346 | AR22: 192 | AS22: 154 | AT22: 1081 | AU22: 755 | AV22: 368 | AW22: 387 | AX22: 1104
A23: 96年, 2007 | C23: 73 | D23: 5366 | E23: 2620 | F23: 2746 | G23: 330 | H23: 3963 | I23: 2060 | J23: 1903 | K23: 857 | L23: 444 | M23: 413 | N23: 1450 | O23: 157 | P23: 83 | Q23: 74 | R23: 231 | S23: 1648 | T23: 868 | U23: 780 | V23: 3614 | W23: 1958 | X23: 959 | Y23: 999 | Z23: 5094 | AA23: 3007 | AB23: 1433 | AC23: 1574 | AD23: 7625 | AE23: 404 | AF23: 260 | AG23: 144 | AH23: 687 | AI23: 296 | AJ23: 169 | AK23: 127 | AL23: 2196 | AM23: 1289 | AN23: 609 | AO23: 680 | AP23: 5395 | AQ23: 396 | AR23: 191 | AS23: 205 | AT23: 970 | AU23: 340 | AV23: 175 | AW23: 165 | AX23: 507
A24: 97年, 2008 | C24: 59 | D24: 4911 | E24: 2404 | F24: 2507 | G24: 318 | H24: 3925 | I24: 1987 | J24: 1938 | K24: 1149 | L24: 590 | M24: 559 | N24: 2123 | O24: 160 | P24: 68 | Q24: 92 | R24: 218 | S24: 2230 | T24: 1058 | U24: 1172 | V24: 4528 | W24: 2716 | X24: 1274 | Y24: 1442 | Z24: 5963 | AA24: 3394 | AB24: 1634 | AC24: 1760 | AD24: 6796 | AE24: 460 | AF24: 293 | AG24: 167 | AH24: 781 | AI24: 423 | AJ24: 257 | AK24: 166 | AL24: 1971 | AM24: 1867 | AN24: 840 | AO24: 1027 | AP24: 7059 | AQ24: 380 | AR24: 173 | AS24: 207 | AT24: 1358 | AU24: 397 | AV24: 207 | AW24: 190 | AX24: 899
A26: 年別 | C26: 通報專線 | G26: 緊急通報點 | K26: 保護服務項目 Protection Items | AU26: 受虐型態 (Mistreatness Type)
K27: 法津訴訟及諮詢 | Q27: 驗傷醫療 | W27: 個案輔導 | AC27: 個案追蹤輔導訪視 | AI27: 問安電話 | AO27: 委託安置 | AU27: 遺棄 | BA27: 虐待 | BG27: 疏忽 | BM27: 其他
C28: Service Lines | G28: Service Spots | K28: Litigation of Law and Counselling | Q28: Medical Checkup and Treatment | W28: Specific Assistance | AC28: Specific Assistance Followed | AI28: Call Inquired for Health | AO28: Committed Settling | AU28: Abandoned | BA28: Mistreatness | BG28: Carelessness | BM28: Others
C29: 專線電話數(線) | D29: 受服務人次(人次) | G29: 通報點數(處) | H29: 受服務人次(人次) | K29: 受服務人數 (人) | P29: 受服務人次 | Q29: 受服務人數 (人) | V29: 受服務人次 | W29: 受服務人數 (人) | AB29: 受服務人次 | AC29: 受服務人數 (人) | AH29: 受服務人次 | AI29: 受服務人數 (人) | AN29: 受服務人次 | AO29: 受服務人數 (人) | AT29: 受服務人次 | AU29: 受服務人數 (人) | AZ29: 受服務人次 | BA29: 受服務人數 (人) | BF29: 受服務人次 | BG29: 受服務人數 (人) | BL29: 受服務人次 | BM29: 受服務人數 (人) | BR29: 受服務人次
D30: Persons Serviced (Person-Times) | H30: Persons Serviced (Person-Times) | K30: Persons Serviced (Persons) | Q30: Persons Serviced (Persons) | W30: Persons Serviced (Persons) | AC30: Persons Serviced (Persons) | AI30: Persons Serviced (Persons) | AO30: Persons Serviced (Persons) | AU30: Persons Serviced (Persons) | BA30: Persons Serviced (Persons) | BG30: Persons Serviced (Persons) | BM30: Persons Serviced (Persons)
C31: No. of Lines | D31: 合計 | E31: 男 | F31: 女 | G31: Spots (Places) | H31: 合計 | I31: 男 | J31: 女 | K31: 合計 | L31: 一般 | N31: 原住民 | Q31: 合計 | R31: 一般 | T31: 原住民 | W31: 合計 | X31: 一般 | Z31: 原住民 | AC31: 合計 | AD31: 一般 | AF31: 原住民 | AI31: 合計 | AJ31: 一般 | AL31: 原住民 | AO31: 合計 | AP31: 一般 | AR31: 原住民 | AU31: 合計 | AV31: 一般 | AX31: 原住民 | BA31: 合計 | BB31: 一般 | BD31: 原住民 | BG31: 合計 | BH31: 一般 | BJ31: 原住民 | BM31: 合計 | BN31: 一般 | BP31: 原住民
L32: General | N32: Indigenous | R32: General | T32: Indigenous | X32: General | Z32: Indigenous | AD32: General | AF32: Indigenous | AJ32: General | AL32: Indigenous | AP32: General | AR32: Indigenous | AV32: General | AX32: Indigenous | BB32: General | BD32: Indigenous | BH32: General | BJ32: Indigenous | BN32: General | BP32: Indigenous
