Workbook

Sheet 歷年 (109~) 
A1: 5.2-03 推展性侵害防治業務
A4: 年別 | C4: 1.性侵害被害人保護扶助人次（人次）
C5: 合計 | D5: 諮詢協談 | E5: 庇護安置 | F5: 陪同報案、偵詢（訊） | G5: 陪同出庭 | H5: 驗傷診療 | I5: 法律扶助 | J5: 經濟扶助 | K5: 心理諮商與輔導 | L5: 就業服務 | M5: 就學或轉學服務 | N5: 通譯服務 | O5: 轉介 戒毒中心 | P5: 其他扶助
A6: 95年, 2006 | C6: ='95'!C6 -> 48462 | D6: ='95'!D6 -> 32264 | E6: ='95'!E6 -> 1425 | F6: ='95'!F6 -> 2047 | G6: ='95'!G6 -> 1745 | H6: ='95'!H6 -> 1553 | I6: ='95'!I6 -> 2310 | J6: 0 | K6: ='95'!J6 -> 3159 | L6: ='95'!K6 -> 258 | M6: 0 | N6: ='95'!M6 -> 39 | O6: ='95'!O6 -> 0 | P6: ='95'!N6+'95'!L6 -> 3662
A7: 96年, 2007 | C7: ='96'!C6 -> 72090 | D7: ='96'!D6 -> 45669 | E7: ='96'!E6 -> 1403 | F7: ='96'!F6 -> 1821 | G7: ='96'!G6 -> 2021 | H7: ='96'!H6 -> 2099 | I7: ='96'!I6 -> 2820 | J7: ='96'!J6 -> 2031 | ... P7: ='96'!P6 -> 7319
A8: 97年, 2008 | C8: ='97'!C6 -> 95247 | D8: ='97'!D6 -> 59385 | E8: ='97'!E6 -> 1995 | F8: ='97'!F6 -> 2191 | G8: ='97'!G6 -> 2525 | H8: ='97'!H6 -> 1702 | I8: ='97'!I6 -> 3491 | J8: ='97'!J6 -> 3238 | ... P8: ='97'!P6 -> 10517
A9: 98年 , 2009 | C9: ='98'!C6 -> 101482 | D9: ='98'!D6 -> 60907 | E9: ='98'!E6 -> 1722 | F9: ='98'!F6 -> 2564 | G9: ='98'!G6 -> 2699 | H9: ='98'!H6 -> 1936 | I9: ='98'!I6 -> 3535 | J9: ='98'!J6 -> 3645 | ... P9: ='98'!P6 -> 11599
A10: 99年 , 2010 | C10: ='99'!C6 -> 100942 | D10: ='99'!D6 -> 59985 | E10: ='99'!E6 -> 1817 | F10: ='99'!F6 -> 2896 | G10: ='99'!G6 -> 3231 | H10: ='99'!H6 -> 1672 | I10: ='99'!I6 -> 3688 | J10: ='99'!J6 -> 3126 | ... P10: ='99'!P6 -> 11544
A11: 100年 , 2011 | C11: ='100'!C6 -> 140326 | D11: ='100'!D6 -> 91455 | E11: ='100'!E6 -> 3026 | F11: ='100'!F6 -> 3793 | G11: ='100'!G6 -> 4699 | H11: ='100'!H6 -> 2985 | I11: ='100'!I6 -> 3924 | J11: ='100'!J6 -> 3989 | ... P11: ='100'!P6 -> 11636
A12: 101年 , 2012 | C12: ='101'!C6 -> 158258 | D12: ='101'!D6 -> 105466 | E12: ='101'!E6 -> 2098 | F12: ='101'!F6 -> 3777 | G12: ='101'!G6 -> 5089 | H12: ='101'!H6 -> 2798 | I12: ='101'!I6 -> 5491 | J12: ='101'!J6 -> 3879 | ... P12: ='101'!P6 -> 14290
A13: 102年 , 2013 | C13: ='102'!C6 -> 177258 | D13: ='102'!D6 -> 118258 | E13: ='102'!E6 -> 3667 | F13: ='102'!F6 -> 3925 | G13: ='102'!G6 -> 5602 | H13: ='102'!H6 -> 2604 | I13: ='102'!I6 -> 4251 | J13: ='102'!J6 -> 4551 | ... P13: ='102'!P6 -> 19483
A14: 103年 , 2014 | C14: ='103'!C6 -> 199846 | D14: ='103'!D6 -> 133211 | E14: ='103'!E6 -> 3835 | F14: ='103'!F6 -> 3459 | G14: ='103'!G6 -> 5030 | H14: ='103'!H6 -> 2071 | I14: ='103'!I6 -> 5285 | J14: ='103'!J6 -> 4400 | ... P14: ='103'!P6 -> 20784
A15: 104年 , 2015 | C15: ='104'!C6 -> 221587 | D15: ='104'!D6 -> 167530 | E15: ='104'!E6 -> 5475 | F15: ='104'!F6 -> 3124 | G15: ='104'!G6 -> 4429 | H15: ='104'!H6 -> 2057 | I15: ='104'!I6 -> 3884 | J15: ='104'!J6 -> 3870 | ... P15: ='104'!P6 -> 16090
A16: 105年 , 2016 | C16: 218852 | D16: 169379 | E16: 2826 | F16: 3311 | G16: 4172 | H16: 2119 | I16: 4495 | J16: 4594 | K16: 9556 | L16: 529 | M16: 3161 | N16: 68 | O16: 9 | P16: 14633
A17: 106年 , 2017 | C17: 229525 | D17: 181819 | E17: 2784 | F17: 4011 | G17: 4315 | H17: 1908 | I17: 6186 | J17: 5119 | K17: 9165 | L17: 772 | M17: 2410 | N17: 62 | O17: 16 | P17: 10958
A18: 107年 , 2018 | C18: 245515 | D18: 189141 | E18: 1848 | F18: 3914 | G18: 4233 | H18: 1472 | I18: 6696 | J18: 5165 | K18: 11257 | L18: 1108 | M18: 5812 | N18: 682 | O18: 12 | P18: 14175
A19: 108年 , 2019 | C19: 340891 | D19: 268980 | E19: 1796 | F19: 4994 | G19: 4311 | H19: 2222 | I19: 11159 | J19: 4600 | K19: 14946 | L19: 1140 | M19: 7416 | N19: 263 | O19: 2 | P19: 19062
A20: 109年 , 2020 | C20: 398148 | D20: 320452 | E20: 1817 | F20: 5528 | G20: 4676 | H20: 1817 | I20: 14463 | J20: 5443 | K20: 14511 | L20: 1374 | M20: 9763 | N20: 77 | O20: 2 | P20: 18225
A21: 110年 , 2021 | C21: 370063 | D21: 295820 | E21: 1633 | F21: 5430 | G21: 4459 | H21: 1529 | I21: 15648 | J21: 5103 | K21: 12519 | L21: 1540 | M21: 8848 | N21: 82 | O21: 4 | P21: 17448
A22: 111年 , 2022 | C22: 291299 | D22: 220447 | E22: 1595 | F22: 5560 | G22: 4733 | H22: 1599 | I22: 15589 | J22: 4823 | K22: 13057 | L22: 1367 | M22: 7545 | N22: 219 | O22: 20 | P22: 14745
A23: 112年 , 2023 | C23: 310082 | D23: 224993 | E23: 1745 | F23: 7063 | G23: 5094 | H23: 1611 | I23: 19650 | J23: 5274 | K23: 14571 | L23: 1724 | M23: 10714 | N23: 252 | O23: 4 | P23: 17387
A24: 113年 , 2024 | C24: 317199 | D24: 225218 | E24: 1318 | F24: 6264 | G24: 4665 | H24: 1200 | I24: 23257 | J24: 6317 | K24: 19986 | L24: 1615 | M24: 9414 | N24: 81 | O24: 18 | P24: 17846
A25: 114年 , 2025 | C25: 300345 | D25: 210353 | E25: 896 | F25: 5933 | G25: 4163 | H25: 1230 | I25: 22927 | J25: 5791 | K25: 21518 | L25: 1195 | M25: 7680 | N25: 95 | O25: 4 | P25: 18560
A27: 年別 | C27: 2.性侵害被害人保護扶助金額 (元)
C28: 合計 | D28: 緊急 生活扶助 | E28: 生活扶助 | F28: 急難救助 | G28: 租金補助 | H28: 醫療補助 | I28: 庇護安置 補助 | J28: 心理復健 補助 | K28: 律師費用 補助 | L28: 訴訟費用 補助 | M28: 民間慈善團體資助 | N28: 其他補助
A29: 95年, 2006 | C29: ='95'!C22 -> 49252494 | D29: ='95'!D22 -> 4948107 | E29: ='95'!E22 -> 643237 | F29: ='95'!F22 -> 160000 | G29: ='95'!G22 -> 79000 | H29: ='95'!H22 -> 4559095 | I29: ='95'!I22 -> 20996318 | J29: ='95'!J22 -> 4435227 | ... L29: ='95'!L22 -> 1112840 | M29: 411500 | N29: ='95'!N22+'95'!R22 -> 322831
A30: 96年, 2007 | C30: ='96'!C22 -> 53191330 | D30: ='96'!D22 -> 4849150 | E30: ='96'!E22 -> 281279 | F30: ='96'!F22 -> 95924 | G30: ='96'!G22 -> 88500 | H30: ='96'!H22 -> 5153746 | I30: ='96'!I22 -> 23105231 | J30: ='96'!J22 -> 6270416 | ... N30: ='96'!N22 -> 542393
A31: 97年, 2008 | C31: ='97'!C22 -> 58777127 | D31: ='97'!D22 -> 6255710 | E31: ='97'!E22 -> 1178212 | F31: ='97'!F22 -> 179250 | G31: ='97'!G22 -> 214100 | H31: ='97'!H22 -> 5323970 | I31: ='97'!I22 -> 21369265 | J31: ='97'!J22 -> 8277393 | ... N31: ='97'!N22 -> 767951
A32: 98年 , 2009 | C32: ='98'!C22 -> 64912653 | D32: ='98'!D22 -> 4841636 | E32: ='98'!E22 -> 656794 | F32: ='98'!F22 -> 373910 | G32: ='98'!G22 -> 182150 | H32: ='98'!H22 -> 5379465 | I32: ='98'!I22 -> 30617762 | J32: ='98'!J22 -> 9717288 | ... N32: ='98'!N22 -> 587826
A33: 99年 , 2010 | C33: ='99'!C22 -> 60270362 | D33: ='99'!D22 -> 3994678 | E33: ='99'!E22 -> 544973 | F33: ='99'!F22 -> 311603 | G33: ='99'!G22 -> 136005 | H33: ='99'!H22 -> 5366232 | I33: ='99'!I22 -> 28098046 | J33: ='99'!J22 -> 8511936 | ... N33: ='99'!N22 -> 437096
A34: 100年 , 2011 | C34: ='100'!C22 -> 73603327 | D34: ='100'!D22 -> 4343460 | E34: ='100'!E22 -> 375172 | F34: ='100'!F22 -> 592922 | G34: ='100'!G22 -> 420000 | H34: ='100'!H22 -> 5772874 | I34: ='100'!I22 -> 30564483 | J34: ='100'!J22 -> 13224256 | ... N34: ='100'!N22 -> 2315166
A35: 101年 , 2012 | C35: ='101'!C22 -> 70767228 | D35: ='101'!D22 -> 4469502 | E35: ='101'!E22 -> 1088244 | F35: ='101'!F22 -> 250372 | G35: ='101'!G22 -> 388000 | H35: ='101'!H22 -> 5709935 | I35: ='101'!I22 -> 29816431 | J35: ='101'!J22 -> 11195389 | ... N35: ='101'!N22 -> 1867441
A36: 102年 , 2013 | C36: ='102'!C22 -> 77525239 | D36: ='102'!D22 -> 3835556 | E36: ='102'!E22 -> 3703454 | F36: ='102'!F22 -> 284363 | G36: ='102'!G22 -> 791000 | H36: ='102'!H22 -> 5347531 | I36: ='102'!I22 -> 33586529 | J36: ='102'!J22 -> 10171494 | ... N36: ='102'!N22 -> 2336339
A37: 103年 , 2014 | C37: ='103'!C22 -> 109468205 | D37: ='103'!D22 -> 4468110 | E37: ='103'!E22 -> 1672821 | F37: ='103'!F22 -> 233028 | G37: ='103'!G22 -> 319000 | H37: ='103'!H22 -> 4864662 | I37: ='103'!I22 -> 64177581 | J37: ='103'!J22 -> 12597798 | ... N37: ='103'!N22 -> 2965319
A38: 104年 , 2015 | C38: ='104'!C22 -> 113541707 | D38: ='104'!D22 -> 4091277 | E38: ='104'!E22 -> 2465576 | F38: ='104'!F22 -> 139360 | G38: ='104'!G22 -> 215100 | H38: ='104'!H22 -> 4291757 | I38: ='104'!I22 -> 63913003 | J38: ='104'!J22 -> 14968254 | ... N38: ='104'!N22 -> 1980344
A39: 105年 , 2016 | C39: 124205242 | D39: 5459173 | E39: 2113831 | F39: 231398 | G39: 211140 | H39: 4351143 | I39: 73855941 | J39: 13450939 | K39: 13532800 | L39: 3205000 | M39: 3041949 | N39: 4751928
A40: 106年 , 2017 | C40: 172740417 | D40: 7484759 | E40: 13033290 | F40: 198865 | G40: 723099 | H40: 5242278 | I40: 98970217 | J40: 12807418 | K40: 19259100 | L40: 2427000 | M40: 2285583 | N40: 10308808
A41: 107年 , 2018 | C41: 152522629 | D41: 5962039 | E41: 17130632 | F41: 320288 | G41: 563844 | H41: 4515483 | I41: 83663918 | J41: 12526777 | K41: 17192550 | L41: 565875 | M41: 3427844 | N41: 6653379
A42: 108年 , 2019 | C42: 159739842 | D42: 6155293 | E42: 23167712 | F42: 710538 | G42: 1664240 | H42: 4462123 | I42: 86377184 | J42: 12841662 | K42: 15541000 | L42: 1820500 | M42: 2890884 | N42: 4108706
A43: 109年 , 2020 | C43: 208603635 | D43: 8472539 | E43: 27626627 | F43: 626571 | G43: 1631414 | H43: 6184181 | I43: 113719883 | J43: 15764137 | K43: 14629895 | L43: 7871686 | M43: 4279413 | N43: 7797289
...

Sheet 114
A1: 5.2-03 推展性侵害防治業務
A2: 中華民國114年
A4: 被害人國籍身分 與性別 | C4: 1.性侵害被害人保護扶助人次（人次）
C5: 合計 | D5: 諮詢協談 | E5: 庇護安置 | F5: 陪同報案、偵詢（訊） | G5: 陪同出庭 | H5: 驗傷診療 | I5: 法律扶助 | J5: 經濟扶助 | K5: 心理諮商與輔導 | L5: 就業服務 | M5: 就學或轉學服務 | N5: 通譯服務 | O5: 轉介 戒毒中心 | P5: 其他扶助
A6: 合計 | B6: 計 | C6: 300345 | D6: 210353 | E6: 896 | F6: 5933 | G6: 4163 | H6: 1230 | I6: 22927 | J6: 5791 | K6: 21518 | L6: 1195 | M6: 7680 | N6: 95 | O6: 4 | P6: 18560
B7: 男 | C7: 37539 | D7: 25955 | E7: 40 | F7: 768 | G7: 509 | H7: 91 | I7: 3043 | J7: 539 | K7: 2751 | L7: 113 | M7: 1585 | N7: 12 | O7: 0 | P7: 2133
B8: 女 | C8: 262806 | D8: 184398 | E8: 856 | F8: 5165 | G8: 3654 | H8: 1139 | I8: 19884 | J8: 5252 | K8: 18767 | L8: 1082 | M8: 6095 | N8: 83 | O8: 4 | P8: 16427
A9: 本國籍 非原住民 | B9: 男 | C9: 33235 | D9: 22833 | E9: 29 | F9: 625 | G9: 413 | H9: 78 | I9: 2663 | J9: 507 | K9: 2515 | L9: 108 | M9: 1471 | N9: 10 | O9: 0 | P9: 1983
B10: 女 | C10: 232521 | D10: 161966 | E10: 726 | F10: 4534 | G10: 3215 | H10: 998 | I10: 17851 | J10: 4670 | K10: 17050 | L10: 945 | M10: 5497 | N10: 46 | O10: 0 | P10: 15023
A11: 本國籍 原住民 | B11: 男 | C11: 2931 | D11: 2130 | E11: 11 | F11: 119 | G11: 68 | H11: 13 | I11: 238 | J11: 31 | K11: 151 | L11: 3 | M11: 76 | N11: 0 | O11: 0 | P11: 91
B12: 女 | C12: 20698 | D12: 15120 | E12: 121 | F12: 481 | G12: 306 | H12: 116 | I12: 1246 | J12: 482 | K12: 1200 | L12: 101 | M12: 458 | N12: 2 | O12: 4 | P12: 1061
A13: 大陸籍 （含港澳） | B13: 男 | C13: 84 | D13: 43 | E13: 0 | F13: 16 | G13: 1 | H13: 0 | I13: 10 | J13: 1 | K13: 3 | L13: 0 | M13: 5 | N13: 0 | O13: 0 | P13: 5
B14: 女 | C14: 577 | D14: 433 | E14: 0 | F14: 15 | G14: 4 | H14: 3 | I14: 46 | J14: 8 | K14: 40 | L14: 2 | M14: 2 | N14: 0 | O14: 0 | P14: 24
A15: 外國籍 | B15: 男 | C15: 211 | D15: 167 | E15: 0 | F15: 0 | G15: 4 | H15: 0 | I15: 12 | J15: 0 | K15: 8 | L15: 0 | M15: 0 | N15: 2 | O15: 0 | P15: 18
B16: 女 | C16: 2962 | D16: 2300 | E16: 4 | F16: 36 | G16: 40 | H16: 11 | I16: 244 | J16: 56 | K16: 90 | L16: 13 | M16: 27 | N16: 33 | O16: 0 | P16: 108
A17: 其他 | B17: 男 | C17: 1078 | D17: 782 | E17: 0 | F17: 8 | G17: 23 | H17: 0 | I17: 120 | J17: 0 | K17: 74 | L17: 2 | M17: 33 | N17: 0 | O17: 0 | P17: 36
B18: 女 | C18: 6048 | D18: 4579 | E18: 5 | F18: 99 | G18: 89 | H18: 11 | I18: 497 | J18: 36 | K18: 387 | L18: 21 | M18: 111 | N18: 2 | O18: 0 | P18: 211
A20: 被害人國籍身分 | C20: 2.性侵害被害人保護扶助金額 (元)
C21: 合計 | D21: 緊急 生活扶助 | E21: 生活扶助 | F21: 急難救助 | G21: 租金補助 | H21: 醫療補助 | I21: 庇護安置 補助 | J21: 心理復健 補助 | K21: 律師費用 補助 | L21: 訴訟費用 補助 | M21: 民間慈善團體資助 | N21: 其他補助
A22: 合計 | C22: 175129675 | D22: 9622611 | E22: 30930307 | F22: 1307438 | G22: 1106587 | H22: 6613668 | I22: 44389892 | J22: 26826732 | K22: 45457131 | L22: 1206929 | M22: 1964824 | N22: 5703556
A23: 本國籍非原住民 | C23: 157993245 | D23: 8403342 | E23: 27911390 | F23: 1126838 | G23: 1009304 | H23: 5656848 | I23: 39115031 | J23: 24733975 | K23: 42283419 | L23: 1167480 | M23: 1844799 | N23: 4740819
A24: 本國籍原住民 | C24: 13851671 | D24: 765644 | E24: 2140560 | F24: 136918 | G24: 67626 | H24: 710989 | I24: 5091326 | J24: 1486643 | K24: 2381370 | L24: 31394 | M24: 92999 | N24: 946202
A25: 大陸籍（含港澳） | C25: 290597 | D25: 81516 | E25: 0 | F25: 0 | G25: 0 | H25: 48164 | I25: 0 | J25: 45917 | K25: 115000 | L25: 0 | M25: 0 | N25: 0
A26: 外國籍 | C26: 1164146 | D26: 308554 | E26: 61195 | F26: 2437 | G26: 2133 | H26: 158588 | I26: 35916 | J26: 132632 | K26: 450280 | L26: 539 | M26: 1049 | N26: 10823
A27: 其他 | C27: 1830016 | D27: 63555 | E27: 817162 | F27: 41245 | G27: 27524 | H27: 39079 | I27: 147619 | J27: 427565 | K27: 227062 | L27: 7516 | M27: 25977 | N27: 5712
A29: 加害人性別 | C29: 3.性侵害加害人處遇 | P29: 3.性侵害加害人處遇 | AE29: 3.性侵害加害人處遇 | BF29: 3.性侵害加害人處遇 | BO29: 3.性侵害加害人處遇
C30: (1)加害人個案人數按處分類別分 | P30: (2)本期加害人個案尚接受身心治療或輔導教育者按再犯等級分(人) | V30: (3)本期加害人個案尚接受身心治療或輔導教育者按處遇期程分(人) | AE30: (4)本期加害人個案暫停處遇人數按暫停原因分(人) | AK30: (5)處遇期間再犯案件分(人) | AO30: (6)加害人個案已結案人數按結案狀態分(人) | BA30: (7)加害人個案行政裁罰情形 | BF30: (8)加害人個案移送情形 | BO30: (9)依少年事件處理法裁定保護處分確定而法院裁定實施身心治療或輔導教育處遇狀態分(人)
C31: 犯性侵害罪者 | L31: 犯性騷擾防治法第25條判決有罪確定者 | M31: 犯兒童及少年性剝削防制條例第31條判決有罪確定者 | N31: 犯刑法第319條之2第1項判決有罪確定者 | O31: 依性侵害犯罪防治法第31條第4項受身心治療、輔導或教育者
C32: 合計(A) | D32: 有期徒刑、保安處分或性侵害犯罪防治法第37條、第38條所定之強制治療執行完畢 | E32: 有期徒刑經易服社會勞動 | F32: 假釋 | G32: 緩刑 | H32: 免刑 | I32: 赦免 | J32: 經法院依性侵害犯罪防治法第38條第1項但書及第6項規定或刑法第91條之1第2項但書規定裁定停止強制治療 | K32: 經緩起訴處分確定者 | P32: 合計(B) | Q32: 評估中 | R32: 低再犯 | S32: 中低再犯 | T32: 中高再犯 | U32: 高再犯 | V32: 合計(C) | W32: 未滿3個月 | X32: 3個月以上未滿6個月 | Y32: 6個月以上未滿9個月 | Z32: 9個月以上未滿1年 | AA32: 1年以上未滿1年6個月 | AB32: 1年6個月以上未滿2年 | AC32: 2年以上未滿3年 | AD32: 3年以上至4年 | AE32: 合計(D) | AF32: 傷殘住院 | AG32: 出國 | AH32: 服兵役 | AI32: 因他案入監服刑 | AJ32: 其他 | AK32: 合計(E) | AL32: 再犯性侵害案件 | AM32: 再犯其他案件且合併性侵害 | AN32: 再犯其他非性侵害案件 | AO32: 合計(F) | AP32: 無須處遇個案 | AQ32: 完成處遇人數 | AR32: 未完成處遇已結案人數 按結案原因分 | AX32: 轉入強制治療人數 | BA32: 應行政裁罰個案人數(人) | BB32: 申請行政裁罰個案人次(人次) | BC32: 申請行政裁罰者 按結果分(人次) | BF32: 應移送個案人數(人) | BG32: 聲請移送個案人次(人次) | BH32: 聲請移送者按階段分(人次) | BK32: 移送地檢署者按結果分(人次) | BO32: 少年性侵害行為人個案數(a) | BP32: 無須處遇人數(b) | BQ32: 完成處遇人數(c) | BR32: 尚在接受處遇人數(d) | BS32: 本期暫停處遇人數按暫停原因分 | BY32: 本年截至本期累計未完成處遇已結案人數按結案原因分
AR33: 計 | AS33: 因再犯性侵害罪入獄 | AT33: 戶籍移轉外縣市 | AU33: 死亡 | AV33: 長期入住機構 | AW33: 其他 | AX33: 計 | AY33: 依性侵害犯罪防治法第36條及刑法第91之1條規定 | AZ33: 依性侵害犯罪防治法第37條及第38條規定 | BC33: 調查或簽辦中 | BD33: 駁回或 不罰 | BE33: 裁罰確定 | BH33: 移送家防中心/警察局/其他機關 | BI33: 移送地檢署 | BJ33: 移送法院 | BK33: 偵查中 | BL33: 駁回或 不起訴 | BM33: 緩起訴 | BN33: 起訴 | BS33: 合計(e) | BT33: 傷殘 住院 | BU33: 出國 | BV33: 服兵役 | BW33: 因他案入感化教育處所或監獄 | BX33: 其他 | BY33: 合計(f) | BZ33: 保護處分期滿且未依規定接受處遇，檢還少年法院(庭) | CA33: 保護處分期限未滿且未依規定接受處遇，檢還少年法院(庭) | CB33: 再犯性侵入感化教育處所或監獄 | CC33: 戶籍移轉外縣市 | CD33: 死亡 | CE33: 長期入住機構 | CF33: 其他
A34: 計 | C34: 6780 | D34: 2186 | E34: 129 | F34: 1193 | G34: 2207 | H34: 2 | I34: 0 | J34: 41 | K34: 374 | L34: 586 | M34: 40 | N34: 14 | O34: 8 | P34: 4439 | Q34: 243 | R34: 932 | S34: 2494 | T34: 664 | U34: 106 | V34: 4439 | W34: 872 | X34: 750 | Y34: 470 | Z34: 447 | AA34: 827 | AB34: 388 | AC34: 485 | AD34: 200 | AE34: 552 | AF34: 23 | AG34: 26 | AH34: 7 | AI34: 422 | AJ34: 74 | AK34: 240 | AL34: 45 | AM34: 1 | AN34: 194 | AO34: 1789 | AP34: 20 | AQ34: 1396 | AR34: 352 | AS34: 42 | AT34: 141 | AU34: 57 | AV34: 11 | AW34: 101 | AX34: 21 | AY34: 6 | AZ34: 12 | BA34: 978 | BB34: 1171 | BC34: 156 | BD34: 115 | BE34: 900 | BF34: 835 | BG34: 1108 | BH34: 137 | BI34: 720 | BJ34: 251 | BK34: 613 | BL34: 100 | BM34: 7 | BN34: 251 | BO34: 1095 | BP34: 15 | BQ34: 276 | BR34: 617 | BS34: 79 | BT34: 1 | BU34: 4 | BV34: 14 | BW34: 59 | BX34: 1 | BY34: 108 | BZ34: 34 | CA34: 26 | CB34: 3 | CC34: 17 | CD34: 1 | CE34: 1 | CF34: 26
A35: 男 | C35: 6725 | D35: 2178 | E35: 127 | F35: 1181 | G35: 2186 | H35: 2 | I35: 0 | J35: 41 | K35: 368 | L35: 580 | M35: 40 | N35: 14 | O35: 8 | P35: 4403 | Q35: 241 | R35: 924 | S35: 2471 | T35: 661 | U35: 106 | V35: 4403 | W35: 861 | X35: 747 | Y35: 462 | Z35: 443 | AA35: 821 | AB35: 386 | AC35: 484 | AD35: 199 | AE35: 551 | AF35: 23 | AG35: 26 | AH35: 7 | AI35: 421 | AJ35: 74 | AK35: 239 | AL35: 45 | AM35: 1 | AN35: 193 | AO35: 1771 | AP35: 20 | AQ35: 1382 | AR35: 348 | AS35: 42 | AT35: 139 | AU35: 56 | AV35: 11 | AW35: 100 | AX35: 21 | AY35: 6 | AZ35: 12 | BA35: 969 | BB35: 1162 | BC35: 149 | BD35: 115 | BE35: 898 | BF35: 827 | BG35: 1100 | BH35: 132 | BI35: 719 | BJ35: 249 | BK35: 613 | BL35: 99 | BM35: 7 | BN35: 249 | BO35: 1049 | BP35: 11 | BQ35: 260 | BR35: 594 | BS35: 78 | BT35: 1 | BU35: 4 | BV35: 14 | BW35: 58 | BX35: 1 | BY35: 106 | BZ35: 34 | CA35: 25 | CB35: 3 | CC35: 17 | CD35: 1 | CE35: 1 | CF35: 25
A36: 女 | C36: 55 | D36: 8 | E36: 2 | F36: 12 | G36: 21 | H36: 0 | I36: 0 | J36: 0 | K36: 6 | L36: 6 | M36: 0 | N36: 0 | O36: 0 | P36: 36 | Q36: 2 | R36: 8 | S36: 23 | T36: 3 | U36: 0 | V36: 36 | W36: 11 | X36: 3 | Y36: 8 | Z36: 4 | AA36: 6 | AB36: 2 | AC36: 1 | AD36: 1 | AE36: 1 | AF36: 0 | AG36: 0 | AH36: 0 | AI36: 1 | AJ36: 0 | AK36: 1 | AL36: 0 | AM36: 0 | AN36: 1 | AO36: 18 | AP36: 0 | AQ36: 14 | AR36: 4 | AS36: 0 | AT36: 2 | AU36: 1 | AV36: 0 | AW36: 1 | AX36: 0 | AY36: 0 | AZ36: 0 | BA36: 9 | BB36: 9 | BC36: 7 | BD36: 0 | BE36: 2 | BF36: 8 | BG36: 8 | BH36: 5 | BI36: 1 | BJ36: 2 | BK36: 0 | BL36: 1 | BM36: 0 | BN36: 2 | BO36: 46 | BP36: 4 | BQ36: 16 | BR36: 23 | BS36: 1 | BT36: 0 | BU36: 0 | BV36: 0 | BW36: 1 | BX36: 0 | BY36: 2 | BZ36: 0 | CA36: 1 | CB36: 0 | CC36: 0 | CD36: 0 | CE36: 0 | CF36: 1
A38: 件數與罰鍰金額 | C38: 4.性侵害事件裁罰按裁罰事由統計
C39: 總計 | D39: 一、加害人裁罰 | K39: 二、媒體不當報導裁罰 | N39: 三、任何人揭露被害人身分裁罰
D40: 合計 | E40: 無正當理由不到場或拒絕接受評估、身心治療或輔導教育或接受之時數不足者 | H40: 未依規定定期辦理登記 或報到者 | K40: 報導或記載被害人姓名或其他足資識別被害人身分資訊 | N40: 任何人以媒體或其他方法公開 或揭露被害人身分資訊
A41: 件數 (件) | C41: 1086 | D41: 1067 | E41: 926 | H41: 141 | K41: 17 | N41: 2
A42: 罰鍰金額 (元) | C42: 14470000 | D42: 14120000 | E42: 12410000 | H42: 1710000 | K42: 280000 | N42: 70000
A43: 資料來源：直轄市及縣(市)政府。
S47: 1003 | T47: 925 | U47: 361 | V47: 372 | W47: 6664 | X47: 2936 | Y47: 2823 | Z47: 905 | AA47: 317 | AB47: 232 | AC47: 0 | AD47: 206 | AE47: 48 | AF47: 4 | AG47: 154
...

Sheet 113
A1: 5.2-03 推展性侵害防治業務
A2: 中華民國113年
A4: 被害人國籍身分 與性別 | C4: 1.性侵害被害人保護扶助人次（人次）
C5: 合計 | D5: 諮詢協談 | E5: 庇護安置 | F5: 陪同報案、偵詢（訊） | G5: 陪同出庭 | H5: 驗傷診療 | I5: 法律扶助 | J5: 經濟扶助 | K5: 心理諮商與輔導 | L5: 就業服務 | M5: 就學或轉學服務 | N5: 通譯服務 | O5: 轉介 戒毒中心 | P5: 其他扶助
A6: 合計 | B6: 計 | C6: 317199 | D6: 225218 | E6: 1318 | F6: 6264 | G6: 4665 | H6: 1200 | I6: 23257 | J6: 6317 | K6: 19986 | L6: 1615 | M6: 9414 | N6: 81 | O6: 18 | P6: 17846
B7: 男 | C7: 40797 | D7: 28472 | E7: 97 | F7: 820 | G7: 529 | H7: 69 | I7: 3505 | J7: 651 | K7: 2127 | L7: 162 | M7: 2176 | N7: 8 | O7: 1 | P7: 2180
B8: 女 | C8: 276402 | D8: 196746 | E8: 1221 | F8: 5444 | G8: 4136 | H8: 1131 | I8: 19752 | J8: 5666 | K8: 17859 | L8: 1453 | M8: 7238 | N8: 73 | O8: 17 | P8: 15666
A9: 本國籍 非原住民 | B9: 男 | C9: 35593 | D9: 25006 | E9: 73 | F9: 710 | G9: 448 | H9: 44 | I9: 2952 | J9: 603 | K9: 1906 | L9: 132 | M9: 1766 | N9: 6 | O9: 1 | P9: 1946
B10: 女 | C10: 244424 | D10: 173229 | E10: 1052 | F10: 4831 | G10: 3635 | H10: 971 | I10: 17668 | J10: 5074 | K10: 16047 | L10: 1332 | M10: 6348 | N10: 20 | O10: 8 | P10: 14209
A11: 本國籍 原住民 | B11: 男 | C11: 3711 | D11: 2620 | E11: 24 | F11: 92 | G11: 53 | H11: 20 | I11: 276 | J11: 46 | K11: 172 | L11: 24 | M11: 222 | N11: 0 | O11: 0 | P11: 162
B12: 女 | C12: 22412 | D12: 16431 | E12: 162 | F12: 427 | G12: 351 | H12: 120 | I12: 1293 | J12: 502 | K12: 1168 | L12: 86 | M12: 738 | N12: 1 | O12: 9 | P12: 1124
A13: 大陸籍 （含港澳） | B13: 男 | C13: 55 | D13: 47 | E13: 0 | F13: 0 | G13: 2 | H13: 0 | I13: 2 | J13: 0 | K13: 2 | L13: 0 | M13: 0 | N13: 0 | O13: 0 | P13: 2
B14: 女 | C14: 560 | D14: 409 | E14: 0 | F14: 10 | G14: 5 | H14: 3 | I14: 48 | J14: 17 | K14: 36 | L14: 2 | M14: 2 | N14: 0 | O14: 0 | P14: 28
A15: 外國籍 | B15: 男 | C15: 237 | D15: 169 | E15: 0 | F15: 3 | G15: 2 | H15: 1 | I15: 35 | J15: 2 | K15: 6 | L15: 0 | M15: 3 | N15: 2 | O15: 0 | P15: 14
B16: 女 | C16: 2976 | D16: 2285 | E16: 3 | F16: 64 | G16: 40 | H16: 22 | I16: 225 | J16: 50 | K16: 73 | L16: 15 | M16: 25 | N16: 45 | O16: 0 | P16: 129
A17: 其他 | B17: 男 | C17: 1201 | D17: 630 | E17: 0 | F17: 15 | G17: 24 | H17: 4 | I17: 240 | J17: 0 | K17: 41 | L17: 6 | M17: 185 | N17: 0 | O17: 0 | P17: 56
B18: 女 | C18: 6030 | D18: 4392 | E18: 4 | F18: 112 | G18: 105 | H18: 15 | I18: 518 | J18: 23 | K18: 535 | L18: 18 | M18: 125 | N18: 7 | O18: 0 | P18: 176
A20: 被害人國籍身分 | C20: 2.性侵害被害人保護扶助金額 (元)
C21: 合計 | D21: 緊急 生活扶助 | E21: 生活扶助 | F21: 急難救助 | G21: 租金補助 | H21: 醫療補助 | I21: 庇護安置 補助 | J21: 心理復健 補助 | K21: 律師費用 補助 | L21: 訴訟費用 補助 | M21: 民間慈善團體資助 | N21: 其他補助
A22: 合計 | C22: 202057990 | D22: 10432466 | E22: 49721885 | F22: 328218 | G22: 1266200 | H22: 6153195 | I22: 58256714 | J22: 27175432 | K22: 39911701 | L22: 2462716 | M22: 2130135 | N22: 4219328
A23: 本國籍非原住民 | C23: 181206867 | D23: 9295409 | E23: 44476031 | F23: 310124 | G23: 1054381 | H23: 5431355 | I23: 50173182 | J23: 24857938 | K23: 37212696 | L23: 2438143 | M23: 1957929 | N23: 3999679
A24: 本國籍原住民 | C24: 17742555 | D24: 917270 | E24: 4080341 | F24: 13941 | G24: 185655 | H24: 502841 | I24: 7790232 | J24: 1784058 | K24: 2121583 | L24: 19759 | M24: 124340 | N24: 202535
A25: 大陸籍（含港澳） | C25: 399617 | D25: 157192 | E25: 100200 | F25: 0 | G25: 0 | H25: 58696 | I25: 1500 | J25: 46029 | K25: 0 | L25: 0 | M25: 36000 | N25: 0
A26: 外國籍 | C26: 790081 | D26: 43027 | E26: 89053 | F26: 211 | G26: 1067 | H26: 133570 | I26: 19297 | J26: 48900 | K26: 448594 | L26: 281 | M26: 626 | N26: 5455
A27: 其他 | C27: 1918870 | D27: 19568 | E27: 976260 | F27: 3942 | G27: 25097 | H27: 26733 | I27: 272503 | J27: 438507 | K27: 128828 | L27: 4533 | M27: 11240 | N27: 11659
A29: 加害人性別 | C29: 3.性侵害加害人處遇 | P29: 3.性侵害加害人處遇 | AE29: 3.性侵害加害人處遇 | BF29: 3.性侵害加害人處遇 | BO29: 3.性侵害加害人處遇
C30: (1)加害人個案人數按處分類別分 | P30: (2)本期加害人個案尚接受身心治療或輔導教育者按再犯等級分(人) | V30: (3)本期加害人個案尚接受身心治療或輔導教育者按處遇期程分(人) | AE30: (4)本期加害人個案暫停處遇人數按暫停原因分(人) | AK30: (5)處遇期間再犯案件分(人) | AO30: (6)加害人個案已結案人數按結案狀態分(人) | BA30: (7)加害人個案行政裁罰情形 | BF30: (8)加害人個案移送情形 | BO30: (9)依少年事件處理法裁定保護處分確定而法院裁定實施身心治療或輔導教育處遇狀態分(人)
C31: 犯性侵害罪者 | L31: 犯性騷擾防治法第25條判決有罪確定者 | M31: 犯兒童及少年性剝削防制條例第31條判決有罪確定者 | N31: 犯刑法第319條之2第1項判決有罪確定者 | O31: 依性侵害犯罪防治法第31條第4項受身心治療、輔導或教育者
C32: 合計(A) | D32: 有期徒刑、保安處分或性侵害犯罪防治法第37條、第38條所定之強制治療執行完畢 | E32: 有期徒刑經易服社會勞動 | F32: 假釋 | G32: 緩刑 | H32: 免刑 | I32: 赦免 | J32: 經法院依性侵害犯罪防治法第38條第1項但書及第6項規定或刑法第91條之1第2項但書規定裁定停止強制治療 | K32: 經緩起訴處分確定者 | P32: 合計(B) | Q32: 評估中 | R32: 低再犯 | S32: 中低再犯 | T32: 中高再犯 | U32: 高再犯 | V32: 合計(C) | W32: 未滿3個月 | X32: 3個月以上未滿6個月 | Y32: 6個月以上未滿9個月 | Z32: 9個月以上未滿1年 | AA32: 1年以上未滿1年6個月 | AB32: 1年6個月以上未滿2年 | AC32: 2年以上未滿3年 | AD32: 3年以上至4年 | AE32: 合計(D) | AF32: 傷殘住院 | AG32: 出國 | AH32: 服兵役 | AI32: 因他案入監服刑 | AJ32: 其他 | AK32: 合計(E) | AL32: 再犯性侵害案件 | AM32: 再犯其他案件且合併性侵害 | AN32: 再犯其他非性侵害案件 | AO32: 合計(F) | AP32: 無須處遇個案 | AQ32: 完成處遇人數 | AR32: 未完成處遇已結案人數 按結案原因分 | AX32: 轉入強制治療人數 | BA32: 應行政裁罰個案人數(人) | BB32: 申請行政裁罰個案人次(人次) | BC32: 申請行政裁罰者 按結果分(人次) | BF32: 應移送個案人數(人) | BG32: 聲請移送個案人次(人次) | BH32: 聲請移送者按階段分(人次) | BK32: 移送地檢署者按結果分(人次) | BO32: 少年性侵害行為人個案數(a) | BP32: 無須處遇人數(b) | BQ32: 完成處遇人數(c) | BR32: 尚在接受處遇人數(d) | BS32: 本期暫停處遇人數按暫停原因分 | BY32: 本年截至本期累計未完成處遇已結案人數按結案原因分
AR33: 計 | AS33: 因再犯性侵害罪入獄 | AT33: 戶籍移轉外縣市 | AU33: 死亡 | AV33: 長期入住機構 | AW33: 其他 | AX33: 計 | AY33: 依性侵害犯罪防治法第36條及刑法第91之1條規定 | AZ33: 依性侵害犯罪防治法第37條及第38條規定 | BC33: 調查或簽辦中 | BD33: 駁回或 不罰 | BE33: 裁罰確定 | BH33: 移送家防中心/警察局/其他機關 | BI33: 移送地檢署 | BJ33: 移送法院 | BK33: 偵查中 | BL33: 駁回或 不起訴 | BM33: 緩起訴 | BN33: 起訴 | BS33: 合計(e) | BT33: 傷殘 住院 | BU33: 出國 | BV33: 服兵役 | BW33: 因他案入感化教育處所或監獄 | BX33: 其他 | BY33: 合計(f) | BZ33: 保護處分期滿且未依規定接受處遇，檢還少年法院(庭) | CA33: 保護處分期限未滿且未依規定接受處遇，檢還少年法院(庭) | CB33: 再犯性侵入感化教育處所或監獄 | CC33: 戶籍移轉外縣市 | CD33: 死亡 | CE33: 長期入住機構 | CF33: 其他
A34: 計 | C34: 6687 | D34: 2091 | E34: 109 | F34: 1378 | G34: 2136 | H34: 1 | I34: 0 | J34: 36 | K34: 402 | L34: 501 | M34: 31 | N34: 0 | O34: 2 | P34: 4351 | Q34: 267 | R34: 1005 | S34: 2422 | T34: 569 | U34: 88 | V34: 4351 | W34: 801 | X34: 797 | Y34: 390 | Z34: 497 | AA34: 805 | AB34: 398 | AC34: 447 | AD34: 216 | AE34: 588 | AF34: 25 | AG34: 26 | AH34: 3 | AI34: 442 | AJ34: 92 | AK34: 214 | AL34: 30 | AM34: 3 | AN34: 181 | AO34: 1748 | AP34: 20 | AQ34: 1402 | AR34: 300 | AS34: 33 | AT34: 137 | AU34: 50 | AV34: 5 | AW34: 75 | AX34: 26 | AY34: 15 | AZ34: 7 | BA34: 790 | BB34: 984 | BC34: 105 | BD34: 76 | BE34: 803 | BF34: 744 | BG34: 1122 | BH34: 134 | BI34: 655 | BJ34: 333 | BK34: 516 | BL34: 130 | BM34: 9 | BN34: 333 | BO34: 1177 | BP34: 12 | BQ34: 314 | BR34: 659 | BS34: 78 | BT34: 1 | BU34: 2 | BV34: 6 | BW34: 63 | BX34: 6 | BY34: 114 | BZ34: 52 | CA34: 20 | CB34: 3 | CC34: 21 | CD34: 1 | CE34: 0 | CF34: 17
A35: 男 | C35: 6639 | D35: 2083 | E35: 108 | F35: 1369 | G35: 2119 | H35: 1 | I35: 0 | J35: 36 | K35: 393 | L35: 497 | M35: 31 | N35: 0 | O35: 2 | P35: 4319 | Q35: 264 | R35: 998 | S35: 2404 | T35: 565 | U35: 88 | V35: 4319 | W35: 789 | X35: 792 | Y35: 384 | Z35: 494 | AA35: 803 | AB35: 396 | AC35: 446 | AD35: 215 | AE35: 587 | AF35: 25 | AG35: 26 | AH35: 3 | AI35: 441 | AJ35: 92 | AK35: 214 | AL35: 30 | AM35: 3 | AN35: 181 | AO35: 1733 | AP35: 19 | AQ35: 1392 | AR35: 296 | AS35: 33 | AT35: 133 | AU35: 50 | AV35: 5 | AW35: 75 | AX35: 26 | AY35: 15 | AZ35: 7 | BA35: 786 | BB35: 980 | BC35: 102 | BD35: 76 | BE35: 802 | BF35: 741 | BG35: 1115 | BH35: 131 | BI35: 654 | BJ35: 330 | BK35: 515 | BL35: 130 | BM35: 9 | BN35: 330 | BO35: 1126 | BP35: 11 | BQ35: 289 | BR35: 636 | BS35: 78 | BT35: 1 | BU35: 2 | BV35: 6 | BW35: 63 | BX35: 6 | BY35: 112 | BZ35: 52 | CA35: 20 | CB35: 3 | CC35: 21 | CD35: 1 | CE35: 0 | CF35: 15
A36: 女 | C36: 48 | D36: 8 | E36: 1 | F36: 9 | G36: 17 | H36: 0 | I36: 0 | J36: 0 | K36: 9 | L36: 4 | M36: 0 | N36: 0 | O36: 0 | P36: 32 | Q36: 3 | R36: 7 | S36: 18 | T36: 4 | U36: 0 | V36: 32 | W36: 12 | X36: 5 | Y36: 6 | Z36: 3 | AA36: 2 | AB36: 2 | AC36: 1 | AD36: 1 | AE36: 1 | AF36: 0 | AG36: 0 | AH36: 0 | AI36: 1 | AJ36: 0 | AK36: 0 | AL36: 0 | AM36: 0 | AN36: 0 | AO36: 15 | AP36: 1 | AQ36: 10 | AR36: 4 | AS36: 0 | AT36: 4 | AU36: 0 | AV36: 0 | AW36: 0 | AX36: 0 | AY36: 0 | AZ36: 0 | BA36: 4 | BB36: 4 | BC36: 3 | BD36: 0 | BE36: 1 | BF36: 3 | BG36: 7 | BH36: 3 | BI36: 1 | BJ36: 3 | BK36: 1 | BL36: 0 | BM36: 0 | BN36: 3 | BO36: 51 | BP36: 1 | BQ36: 25 | BR36: 23 | BS36: 0 | BT36: 0 | BU36: 0 | BV36: 0 | BW36: 0 | BX36: 0 | BY36: 2 | BZ36: 0 | CA36: 0 | CB36: 0 | CC36: 0 | CD36: 0 | CE36: 0 | CF36: 2
A38: 件數與罰鍰金額 | C38: 4.性侵害事件裁罰按裁罰事由統計
C39: 總計 | D39: 一、加害人裁罰 | K39: 二、媒體不當報導裁罰 | N39: 三、任何人揭露被害人身分裁罰
D40: 合計 | E40: 無正當理由不到場或拒絕接受評估、身心治療或輔導教育或接受之時數不足者 | H40: 未依規定定期辦理登記 或報到者 | K40: 報導或記載被害人姓名或其他足資識別被害人身分資訊 | N40: 任何人以媒體或其他方法公開 或揭露被害人身分資訊
A41: 件數 (件) | C41: 940 | D41: 939 | E41: 801 | H41: 138 | K41: 0 | N41: 1
A42: 罰鍰金額 (元) | C42: 12560000 | D42: 12540000 | E42: 10630000 | H42: 1910000 | K42: 0 | N42: 20000
A43: 資料來源：直轄市及縣(市)政府。
A46: 更新日期：2025/11/18
...

Sheet 112
A1: 5.2-03 推展性侵害防治業務
A2: 中華民國112年
A4: 被害人國籍身分 與性別 | C4: 1.性侵害被害人保護扶助人次（人次）
C5: 合計 | D5: 諮詢協談 | E5: 庇護安置 | F5: 陪同報案、偵詢（訊） | G5: 陪同出庭 | H5: 驗傷診療 | I5: 法律扶助 | J5: 經濟扶助 | K5: 心理諮商與輔導 | L5: 就業服務 | M5: 就學或轉學服務 | N5: 通譯服務 | O5: 轉介 戒毒中心 | P5: 其他扶助
A6: 合計 | B6: 計 | C6: 310082 | D6: 224993 | E6: 1745 | F6: 7063 | G6: 5094 | H6: 1611 | I6: 19650 | J6: 5274 | K6: 14571 | L6: 1724 | M6: 10714 | N6: 252 | O6: 4 | P6: 17387
B7: 男 | C7: 38143 | D7: 28121 | E7: 169 | F7: 866 | G7: 576 | H7: 71 | I7: 2388 | J7: 431 | K7: 1365 | L7: 206 | M7: 2163 | N7: 41 | O7: 0 | P7: 1746
B8: 女 | C8: 271939 | D8: 196872 | E8: 1576 | F8: 6197 | G8: 4518 | H8: 1540 | I8: 17262 | J8: 4843 | K8: 13206 | L8: 1518 | M8: 8551 | N8: 211 | O8: 4 | P8: 15641
A9: 本國籍 非原住民 | B9: 男 | C9: 33614 | D9: 24922 | E9: 112 | F9: 764 | G9: 495 | H9: 58 | I9: 2095 | J9: 380 | K9: 1195 | L9: 192 | M9: 1830 | N9: 40 | O9: 0 | P9: 1531
B10: 女 | C10: 238468 | D10: 172036 | E10: 1343 | F10: 5424 | G10: 3977 | H10: 1332 | I10: 15513 | J10: 4137 | K10: 11809 | L10: 1387 | M10: 7389 | N10: 171 | O10: 4 | P10: 13946
A11: 本國籍 原住民 | B11: 男 | C11: 3469 | D11: 2515 | E11: 57 | F11: 80 | G11: 68 | H11: 13 | I11: 161 | J11: 46 | K11: 132 | L11: 13 | M11: 196 | N11: 0 | O11: 0 | P11: 188
B12: 女 | C12: 25312 | D12: 18860 | E12: 231 | F12: 588 | G12: 403 | H12: 182 | I12: 1192 | J12: 605 | K12: 988 | L12: 107 | M12: 886 | N12: 7 | O12: 0 | P12: 1263
A13: 大陸籍 （含港澳） | B13: 男 | C13: 35 | D13: 21 | E13: 0 | F13: 7 | G13: 0 | H13: 0 | I13: 1 | J13: 0 | K13: 0 | L13: 0 | M13: 5 | N13: 0 | O13: 0 | P13: 1
B14: 女 | C14: 503 | D14: 377 | E14: 0 | F14: 11 | G14: 7 | H14: 3 | I14: 29 | J14: 7 | K14: 22 | L14: 2 | M14: 13 | N14: 0 | O14: 0 | P14: 32
A15: 外國籍 | B15: 男 | C15: 158 | D15: 122 | E15: 0 | F15: 0 | G15: 2 | H15: 0 | I15: 12 | J15: 2 | K15: 11 | L15: 1 | M15: 3 | N15: 1 | O15: 0 | P15: 4
B16: 女 | C16: 2846 | D16: 2151 | E16: 0 | F16: 67 | G16: 55 | H16: 9 | I16: 251 | J16: 56 | K16: 105 | L16: 14 | M16: 20 | N16: 33 | O16: 0 | P16: 85
A17: 其他 | B17: 男 | C17: 867 | D17: 541 | E17: 0 | F17: 15 | G17: 11 | H17: 0 | I17: 119 | J17: 3 | K17: 27 | L17: 0 | M17: 129 | N17: 0 | O17: 0 | P17: 22
B18: 女 | C18: 4810 | D18: 3448 | E18: 2 | F18: 107 | G18: 76 | H18: 14 | I18: 277 | J18: 38 | K18: 282 | L18: 8 | M18: 243 | N18: 0 | O18: 0 | P18: 315
A20: 被害人國籍身分 | C20: 2.性侵害被害人保護扶助金額 (元)
C21: 合計 | D21: 緊急 生活扶助 | E21: 生活扶助 | F21: 急難救助 | G21: 租金補助 | H21: 醫療補助 | I21: 庇護安置 補助 | J21: 心理復健 補助 | K21: 律師費用 補助 | L21: 訴訟費用 補助 | M21: 民間慈善團體資助 | N21: 其他補助
A22: 合計 | C22: 173152060 | D22: 9277448 | E22: 32701175 | F22: 310648 | G22: 1231955 | H22: 7014374 | I22: 66609672 | J22: 17967317 | K22: 28789971 | L22: 3354838 | M22: 1119530 | N22: 4775132
A23: 本國籍非原住民 | C23: 149904030 | D23: 8160707 | E23: 28395647 | F23: 273279 | G23: 1029923 | H23: 6344692 | I23: 56934180 | J23: 16271344 | K23: 24229316 | L23: 3204247 | M23: 899898 | N23: 4160797
A24: 本國籍原住民 | C24: 20217578 | D24: 890957 | E24: 3056685 | F24: 28812 | G24: 152747 | H24: 479391 | I24: 9547737 | J24: 1307023 | K24: 3890284 | L24: 71933 | M24: 198368 | N24: 593641
A25: 大陸籍（含港澳） | C25: 176095 | D25: 1251 | E25: 41309 | F25: 3190 | G25: 1490 | H25: 30285 | I25: 0 | J25: 58711 | K25: 39559 | L25: 245 | M25: 55 | N25: 0
A26: 外國籍 | C26: 856191 | D26: 168307 | E26: 120401 | F26: 533 | G26: 4814 | H26: 88776 | I26: 0 | J26: 177641 | K26: 215571 | L26: 50853 | M26: 20116 | N26: 9179
A27: 其他 | C27: 1998166 | D27: 56226 | E27: 1087133 | F27: 4834 | G27: 42981 | H27: 71230 | I27: 127755 | J27: 152598 | K27: 415241 | L27: 27560 | M27: 1093 | N27: 11515
A29: 加害人性別 | C29: 3.性侵害加害人處遇 | S29: 3.性侵害加害人處遇 | AL29: 3.性侵害加害人處遇 | BD29: 3.性侵害加害人處遇
C30: (1)加害人個案人數按處分類別分 | N30: (2)本期加害人個案尚接受身心治療或輔導教育者按再犯等級分(人) | T30: (3)本期加害人個案尚接受身心治療或輔導教育者按處遇期程分(人) | AC30: (4)本期加害人個案暫停處遇人數按暫停原因分(人) | AI30: (5)處遇期間再犯案件分(人) | AM30: (6)加害人個案已結案人數按結案狀態分(人) | AY30: (7)加害人個案行政裁罰情形 | BD30: (8)加害人個案移送情形 | BM30: (9)依少年事件處理法裁定保護處分確定而法院裁定實施身心治療或輔導教育處遇狀態分(人)
C31: 合計(A) | D31: 有期徒刑或保安處分執行完畢 | E31: 有期徒刑經易服社會勞動 | F31: 假釋 | G31: 緩刑 | H31: 免刑 | I31: 赦免 | J31: 經法院、軍事法院依第22條之1第3項裁定停止強制治療 | K31: 經緩起訴處分確定者 | L31: 犯性騷擾防治法第25條判決有罪確定者 | M31: 犯兒少性剝削防制條例第31條判決有罪確定者 | N31: 合計(B) | O31: 評估中 | P31: 低再犯 | Q31: 中低再犯 | R31: 中高再犯 | S31: 高再犯 | T31: 合計(C) | U31: 未滿3個月 | V31: 3個月以上未滿6個月 | W31: 6個月以上未滿9個月 | X31: 9個月以上未滿1年 | Y31: 1年以上未滿1年6個月 | Z31: 1年6個月以上未滿2年 | AA31: 2年以上未滿3年 | AB31: 3年以上至4年 | AC31: 合計(D) | AD31: 傷殘住院 | AE31: 出國 | AF31: 服兵役 | AG31: 因他案入監服刑 | AH31: 其他 | AI31: 合計(E) | AJ31: 再犯性侵害案件 | AK31: 再犯其他案件且合併性侵害 | AL31: 再犯其他非性侵害案件 | AM31: 合計(F) | AN31: 無須處遇個案 | AO31: 完成處遇人數 | AP31: 未完成處遇已結案人數 按結案原因分 | AV31: 轉入強制治療人數 | AY31: 應行政裁罰個案人數(人) | AZ31: 申請行政裁罰個案人次(人次) | BA31: 申請行政裁罰者 按結果分(人次) | BD31: 應移送個案人數(人) | BE31: 聲請移送個案人次(人次) | BF31: 聲請移送者按階段分(人次) | BI31: 移送地檢署者按結果分(人次) | BM31: 少年性侵害行為人個案數(a) | BN31: 無須處遇人數(b) | BO31: 完成處遇人數(c) | BP31: 本期尚在接受處遇人數(d) | BQ31: 本期暫停處遇人數按暫停原因分 | BW31: 本年截至本期累計未完成處遇已結案人數按結案原因分
AP32: 計 | AQ32: 因再犯性侵害罪入獄 | AR32: 戶籍移轉外縣市 | AS32: 死亡 | AT32: 長期入住機構 | AU32: 其他 | AV32: 計 | AW32: 依性侵害犯罪防治法第22條規定 | AX32: 依性侵害犯罪防治法第22條之1規定 | BA32: 調查或簽辦中 | BB32: 駁回或 不罰 | BC32: 裁罰確定 | BF32: 移送家防中心/警察局/其他機關 | BG32: 移送地檢署 | BH32: 移送法院 | BI32: 偵查中 | BJ32: 駁回或 不起訴 | BK32: 緩起訴 | BL32: 起訴 | BQ32: 合計(e) | BR32: 傷殘 住院 | BS32: 出國 | BT32: 服兵役 | BU32: 因他案入感化教育處所或監獄 | BV32: 其他 | BW32: 合計(f) | BX32: 保護處分期滿且未依規定接受處遇，檢還少年法院(庭) | BY32: 保護處分期限未滿且未依規定接受處遇，檢還少年法院(庭) | BZ32: 再犯性侵入感化教育處所或監獄 | CA32: 戶籍移轉外縣市 | CB32: 死亡 | CC32: 長期入住機構 | CD32: 其他
A33: 計 | C33: 6629 | D33: 2067 | E33: 119 | F33: 1619 | G33: 1991 | H33: 4 | I33: 0 | J33: 34 | K33: 365 | L33: 398 | M33: 32 | N33: 4197 | O33: 292 | P33: 1046 | Q33: 2301 | R33: 493 | S33: 65 | T33: 4197 | U33: 693 | V33: 629 | W33: 472 | X33: 481 | Y33: 637 | Z33: 538 | AA33: 499 | AB33: 248 | AC33: 502 | AD33: 26 | AE33: 20 | AF33: 6 | AG33: 369 | AH33: 81 | AI33: 293 | AJ33: 36 | AK33: 5 | AL33: 252 | AM33: 1930 | AN33: 25 | AO33: 1536 | AP33: 353 | AQ33: 26 | AR33: 129 | AS33: 53 | AT33: 8 | AU33: 137 | AV33: 16 | AW33: 12 | AX33: 4 | AY33: 1408 | AZ33: 2259 | BA33: 1289 | BB33: 114 | BC33: 856 | BD33: 840 | BE33: 1032 | BF33: 145 | BG33: 611 | BH33: 276 | BI33: 496 | BJ33: 105 | BK33: 10 | BL33: 276 | BM33: 1206 | BN33: 20 | BO33: 297 | BP33: 694 | BQ33: 59 | BR33: 0 | BS33: 2 | BT33: 4 | BU33: 53 | BV33: 0 | BW33: 136 | BX33: 60 | BY33: 32 | BZ33: 7 | CA33: 19 | CB33: 2 | CC33: 0 | CD33: 16
A34: 男 | C34: 6584 | D34: 2062 | E34: 119 | F34: 1606 | G34: 1977 | H34: 1 | I34: 0 | J34: 34 | K34: 359 | L34: 394 | M34: 32 | N34: 4178 | O34: 289 | P34: 1043 | Q34: 2289 | R34: 492 | S34: 65 | T34: 4178 | U34: 685 | V34: 627 | W34: 472 | X34: 479 | Y34: 633 | Z34: 536 | AA34: 498 | AB34: 248 | AC34: 501 | AD34: 26 | AE34: 20 | AF34: 6 | AG34: 368 | AH34: 81 | AI34: 292 | AJ34: 36 | AK34: 5 | AL34: 251 | AM34: 1905 | AN34: 24 | AO34: 1513 | AP34: 352 | AQ34: 26 | AR34: 128 | AS34: 53 | AT34: 8 | AU34: 137 | AV34: 16 | AW34: 12 | AX34: 4 | AY34: 1403 | AZ34: 2252 | BA34: 1289 | BB34: 114 | BC34: 849 | BD34: 833 | BE34: 1025 | BF34: 143 | BG34: 606 | BH34: 276 | BI34: 491 | BJ34: 105 | BK34: 10 | BL34: 276 | BM34: 1144 | BN34: 20 | BO34: 267 | BP34: 669 | BQ34: 59 | BR34: 0 | BS34: 2 | BT34: 4 | BU34: 53 | BV34: 0 | BW34: 129 | BX34: 57 | BY34: 29 | BZ34: 7 | CA34: 18 | CB34: 2 | CC34: 0 | CD34: 16
A35: 女 | C35: 45 | D35: 5 | E35: 0 | F35: 13 | G35: 14 | H35: 3 | I35: 0 | J35: 0 | K35: 6 | L35: 4 | M35: 0 | N35: 19 | O35: 3 | P35: 3 | Q35: 12 | R35: 1 | S35: 0 | T35: 19 | U35: 8 | V35: 2 | W35: 0 | X35: 2 | Y35: 4 | Z35: 2 | AA35: 1 | AB35: 0 | AC35: 1 | AD35: 0 | AE35: 0 | AF35: 0 | AG35: 1 | AH35: 0 | AI35: 1 | AJ35: 0 | AK35: 0 | AL35: 1 | AM35: 25 | AN35: 1 | AO35: 23 | AP35: 1 | AQ35: 0 | AR35: 1 | AS35: 0 | AT35: 0 | AU35: 0 | AV35: 0 | AW35: 0 | AX35: 0 | AY35: 5 | AZ35: 7 | BA35: 0 | BB35: 0 | BC35: 7 | BD35: 7 | BE35: 7 | BF35: 2 | BG35: 5 | BH35: 0 | BI35: 5 | BJ35: 0 | BK35: 0 | BL35: 0 | BM35: 62 | BN35: 0 | BO35: 30 | BP35: 25 | BQ35: 0 | BR35: 0 | BS35: 0 | BT35: 0 | BU35: 0 | BV35: 0 | BW35: 7 | BX35: 3 | BY35: 3 | BZ35: 0 | CA35: 1 | CB35: 0 | CC35: 0 | CD35: 0
A37: 件數與罰鍰金額 | C37: 4.性侵害事件裁罰按裁罰事由統計
C38: 總計 | D38: 一、加害人裁罰 | K38: 二、媒體不當報導裁罰 | N38: 三、任何人揭露被害人身分裁罰
D39: 合計 | E39: 無正當理由不到場或拒絕接受評估、身心治療或輔導教育或接受之時數不足者 | H39: 未依規定定期辦理登記 或報到者 | K39: 報導或記載被害人姓名或其他足資識別被害人身分資訊 | N39: 任何人以媒體或其他方法公開 或揭露被害人身分資訊
A40: 件數 (件) | C40: 975 | D40: 975 | E40: 880 | H40: 95 | K40: 0 | N40: 0
A41: 罰鍰金額 (元) | C41: 13760000 | D41: 13760000 | E41: 12200000 | H41: 1560000 | K41: 0 | N41: 0
A42: 資料來源：直轄市及縣(市)政府。
S46: 1003 | T46: 925 | U46: 361 | V46: 372 | W46: 6664 | X46: 2936 | Y46: 2823 | Z46: 905 | AA46: 317 | AB46: 232 | AC46: 0 | AD46: 206 | AE46: 48 | AF46: 4 | AG46: 154
S47: 991 | T47: 921 | U47: 360 | V47: 372 | W47: 6630 | X47: 2920 | Y47: 2808 | Z47: 902 | AA47: 317 | AB47: 231 | AC47: 0 | AD47: 206 | AE47: 48 | AF47: 4 | AG47: 154
...

Sheet 111
A1: 5.2-03 推展性侵害防治業務
A2: 中華民國111年
A4: 被害人國籍身分 與性別 | C4: 1.性侵害被害人保護扶助人次（人次）
C5: 合計 | D5: 諮詢協談 | E5: 庇護安置 | F5: 陪同報案、偵詢（訊） | G5: 陪同出庭 | H5: 驗傷診療 | I5: 法律扶助 | J5: 經濟扶助 | K5: 心理諮商與輔導 | L5: 就業服務 | M5: 就學或轉學服務 | N5: 通譯服務 | O5: 轉介 戒毒中心 | P5: 其他扶助
A6: 合計 | B6: 計 | C6: 291299 | D6: 220447 | E6: 1595 | F6: 5560 | G6: 4733 | H6: 1599 | I6: 15589 | J6: 4823 | K6: 13057 | L6: 1367 | M6: 7545 | N6: 219 | O6: 20 | P6: 14745
B7: 男 | C7: 35796 | D7: 27340 | E7: 172 | F7: 642 | G7: 545 | H7: 71 | I7: 1786 | J7: 334 | K7: 1296 | L7: 278 | M7: 1653 | N7: 32 | O7: 0 | P7: 1647
B8: 女 | C8: 255503 | D8: 193107 | E8: 1423 | F8: 4918 | G8: 4188 | H8: 1528 | I8: 13803 | J8: 4489 | K8: 11761 | L8: 1089 | M8: 5892 | N8: 187 | O8: 20 | P8: 13098
A9: 本國籍 非原住民 | B9: 男 | C9: 30912 | D9: 23591 | E9: 137 | F9: 535 | G9: 456 | H9: 61 | I9: 1595 | J9: 281 | K9: 1110 | L9: 218 | M9: 1439 | N9: 24 | O9: 0 | P9: 1465
B10: 女 | C10: 224637 | D10: 168495 | E10: 1232 | F10: 4373 | G10: 3672 | H10: 1354 | I10: 12603 | J10: 3972 | K10: 10803 | L10: 1012 | M10: 5262 | N10: 160 | O10: 17 | P10: 11682
A11: 本國籍 原住民 | B11: 男 | C11: 3833 | D11: 3005 | E11: 33 | F11: 99 | G11: 84 | H11: 10 | I11: 115 | J11: 48 | K11: 100 | L11: 54 | M11: 153 | N11: 0 | O11: 0 | P11: 132
B12: 女 | C12: 23329 | D12: 18767 | E12: 185 | F12: 446 | G12: 386 | H12: 140 | I12: 658 | J12: 443 | K12: 606 | L12: 53 | M12: 498 | N12: 2 | O12: 0 | P12: 1145
A13: 大陸籍 （含港澳） | B13: 男 | C13: 29 | D13: 26 | E13: 0 | F13: 0 | G13: 0 | H13: 0 | I13: 0 | J13: 3 | K13: 0 | L13: 0 | M13: 0 | N13: 0 | O13: 0 | P13: 0
B14: 女 | C14: 482 | D14: 369 | E14: 1 | F14: 5 | G14: 3 | H14: 2 | I14: 56 | J14: 12 | K14: 15 | L14: 0 | M14: 3 | N14: 1 | O14: 0 | P14: 15
A15: 外國籍 | B15: 男 | C15: 203 | D15: 149 | E15: 0 | F15: 2 | G15: 0 | H15: 0 | I15: 5 | J15: 1 | K15: 20 | L15: 0 | M15: 10 | N15: 7 | O15: 0 | P15: 9
B16: 女 | C16: 2796 | D16: 2128 | E16: 0 | F16: 61 | G16: 64 | H16: 18 | I16: 220 | J16: 49 | K16: 96 | L16: 12 | M16: 15 | N16: 23 | O16: 3 | P16: 107
A17: 其他 | B17: 男 | C17: 819 | D17: 569 | E17: 2 | F17: 6 | G17: 5 | H17: 0 | I17: 71 | J17: 1 | K17: 66 | L17: 6 | M17: 51 | N17: 1 | O17: 0 | P17: 41
B18: 女 | C18: 4259 | D18: 3348 | E18: 5 | F18: 33 | G18: 63 | H18: 14 | I18: 266 | J18: 13 | K18: 241 | L18: 12 | M18: 114 | N18: 1 | O18: 0 | P18: 149
A20: 被害人國籍身分 | C20: 2.性侵害被害人保護扶助金額 (元)
C21: 合計 | D21: 緊急 生活扶助 | E21: 生活扶助 | F21: 急難救助 | G21: 租金補助 | H21: 醫療補助 | I21: 庇護安置 補助 | J21: 心理復健 補助 | K21: 律師費用 補助 | L21: 訴訟費用 補助 | M21: 民間慈善團體資助 | N21: 其他補助
A22: 合計 | C22: 160028648 | D22: 9253577 | E22: 25076487 | F22: 247696 | G22: 1449114 | H22: 5759854 | I22: 62996439 | J22: 17940438 | K22: 30756738 | L22: 484580 | M22: 2116332 | N22: 3947393
A23: 本國籍非原住民 | C23: 143836477 | D23: 7830250 | E23: 23503957 | F23: 237250 | G23: 1316422 | H23: 5318230 | I23: 54029405 | J23: 16601648 | K23: 29198126 | L23: 447115 | M23: 1689065 | N23: 3665009
A24: 本國籍原住民 | C24: 14500339 | D24: 1280206 | E24: 1111303 | F24: 4817 | G24: 96869 | H24: 292445 | I24: 8801618 | J24: 1033792 | K24: 1200913 | L24: 24964 | M24: 422548 | N24: 230864
A25: 大陸籍（含港澳） | C25: 129720 | D25: 37164 | E25: 0 | F25: 0 | G25: 0 | H25: 19180 | I25: 2500 | J25: 9476 | K25: 58000 | L25: 0 | M25: 3400 | N25: 0
A26: 外國籍 | C26: 557755 | D26: 79009 | E26: 28550 | F26: 3099 | G26: 2269 | H26: 96285 | I26: 0 | J26: 157128 | K26: 139946 | L26: 413 | M26: 275 | N26: 50781
A27: 其他 | C27: 1004357 | D27: 26948 | E27: 432677 | F27: 2530 | G27: 33554 | H27: 33714 | I27: 162916 | J27: 138394 | K27: 159753 | L27: 12088 | M27: 1044 | N27: 739
A29: 加害人性別 | C29: 3.性侵害加害人處遇 | S29: 3.性侵害加害人處遇 | AL29: 3.性侵害加害人處遇 | BD29: 3.性侵害加害人處遇
C30: (1)加害人個案人數按處分類別分 | N30: (2)本期加害人個案尚接受身心治療或輔導教育者按再犯等級分(人) | T30: (3)本期加害人個案尚接受身心治療或輔導教育者按處遇期程分(人) | AC30: (4)本期加害人個案暫停處遇人數按暫停原因分(人) | AI30: (5)處遇期間再犯案件分(人) | AM30: (6)加害人個案已結案人數按結案狀態分(人) | AY30: (7)加害人個案行政裁罰情形 | BD30: (8)加害人個案移送情形 | BM30: (9)依少年事件處理法裁定保護處分確定而法院裁定實施身心治療或輔導教育處遇狀態分(人)
C31: 合計(A) | D31: 有期徒刑或保安處分執行完畢 | E31: 有期徒刑經易服社會勞動 | F31: 假釋 | G31: 緩刑 | H31: 免刑 | I31: 赦免 | J31: 經法院、軍事法院依第22條之1第3項裁定停止強制治療 | K31: 經緩起訴處分確定者 | L31: 犯性騷擾防治法第25條判決有罪確定者 | M31: 犯兒少性剝削防制條例第31條判決有罪確定者 | N31: 合計(B) | O31: 評估中 | P31: 低再犯 | Q31: 中低再犯 | R31: 中高再犯 | S31: 高再犯 | T31: 合計(C) | U31: 未滿3個月 | V31: 3個月以上未滿6個月 | W31: 6個月以上未滿9個月 | X31: 9個月以上未滿1年 | Y31: 1年以上未滿1年6個月 | Z31: 1年6個月以上未滿2年 | AA31: 2年以上未滿3年 | AB31: 3年以上至4年 | AC31: 合計(D) | AD31: 傷殘住院 | AE31: 出國 | AF31: 服兵役 | AG31: 因他案入監服刑 | AH31: 其他 | AI31: 合計(E) | AJ31: 再犯性侵害案件 | AK31: 再犯其他案件且合併性侵害 | AL31: 再犯其他非性侵害案件 | AM31: 合計(F) | AN31: 無須處遇個案 | AO31: 完成處遇人數 | AP31: 未完成處遇已結案人數 按結案原因分 | AV31: 轉入強制治療人數 | AY31: 應行政裁罰個案人數(人) | AZ31: 申請行政裁罰個案人次(人次) | BA31: 申請行政裁罰者 按結果分(人次) | BD31: 應移送個案人數(人) | BE31: 聲請移送個案人次(人次) | BF31: 聲請移送者按階段分(人次) | BI31: 移送地檢署者按結果分(人次) | BM31: 少年性侵害行為人個案數(a) | BN31: 無須處遇人數(b) | BO31: 完成處遇人數(c) | BP31: 本期尚在接受處遇人數(d) | BQ31: 本期暫停處遇人數按暫停原因分 | BW31: 本年截至本期累計未完成處遇已結案人數按結案原因分
AP32: 計 | AQ32: 因再犯性侵害罪入獄 | AR32: 戶籍移轉外縣市 | AS32: 死亡 | AT32: 長期入住機構 | AU32: 其他 | AV32: 計 | AW32: 依性侵害犯罪防治法第22條規定 | AX32: 依性侵害犯罪防治法第22條之1規定 | BA32: 調查或簽辦中 | BB32: 駁回或 不罰 | BC32: 裁罰確定 | BF32: 移送家防中心/警察局/其他機關 | BG32: 移送地檢署 | BH32: 移送法院 | BI32: 偵查中 | BJ32: 駁回或 不起訴 | BK32: 緩起訴 | BL32: 起訴 | BQ32: 合計(e) | BR32: 傷殘 住院 | BS32: 出國 | BT32: 服兵役 | BU32: 因他案入感化教育處所或監獄 | BV32: 其他 | BW32: 合計(f) | BX32: 保護處分期滿且未依規定接受處遇，檢還少年法院(庭) | BY32: 保護處分期限未滿且未依規定接受處遇，檢還少年法院(庭) | BZ32: 再犯性侵入感化教育處所或監獄 | CA32: 戶籍移轉外縣市 | CB32: 死亡 | CC32: 長期入住機構 | CD32: 其他
A33: 計 | C33: 6678 | D33: 2105 | E33: 128 | F33: 1812 | G33: 1888 | H33: 4 | I33: 0 | J33: 35 | K33: 357 | L33: 331 | M33: 18 | N33: 4482 | O33: 473 | P33: 1099 | Q33: 2365 | R33: 496 | S33: 49 | T33: 4482 | U33: 765 | V33: 667 | W33: 511 | X33: 560 | Y33: 737 | Z33: 393 | AA33: 435 | AB33: 414 | AC33: 450 | AD33: 28 | AE33: 14 | AF33: 7 | AG33: 345 | AH33: 56 | AI33: 239 | AJ33: 41 | AK33: 0 | AL33: 198 | AM33: 1746 | AN33: 20 | AO33: 1448 | AP33: 269 | AQ33: 27 | AR33: 158 | AS33: 32 | AT33: 7 | AU33: 45 | AV33: 9 | AW33: 7 | AX33: 2 | AY33: 1083 | AZ33: 1339 | BA33: 510 | BB33: 70 | BC33: 818 | BD33: 555 | BE33: 745 | BF33: 229 | BG33: 397 | BH33: 119 | BI33: 337 | BJ33: 58 | BK33: 2 | BL33: 119 | BM33: 1329 | BN33: 17 | BO33: 350 | BP33: 805 | BQ33: 48 | BR33: 1 | BS33: 2 | BT33: 7 | BU33: 37 | BV33: 1 | BW33: 109 | BX33: 74 | BY33: 10 | BZ33: 5 | CA33: 9 | CB33: 1 | CC33: 0 | CD33: 10
A34: 男 | C34: 6631 | D34: 2097 | E34: 128 | F34: 1794 | G34: 1875 | H34: 4 | I34: 0 | J34: 35 | K34: 350 | L34: 330 | M34: 18 | N34: 4453 | O34: 466 | P34: 1092 | Q34: 2351 | R34: 495 | S34: 49 | T34: 4453 | U34: 755 | V34: 663 | W34: 508 | X34: 557 | Y34: 733 | Z34: 389 | AA34: 434 | AB34: 414 | AC34: 448 | AD34: 28 | AE34: 14 | AF34: 7 | AG34: 343 | AH34: 56 | AI34: 238 | AJ34: 41 | AK34: 0 | AL34: 197 | AM34: 1730 | AN34: 20 | AO34: 1435 | AP34: 266 | AQ34: 27 | AR34: 156 | AS34: 31 | AT34: 7 | AU34: 45 | AV34: 9 | AW34: 7 | AX34: 2 | AY34: 1080 | AZ34: 1336 | BA34: 510 | BB34: 70 | BC34: 815 | BD34: 552 | BE34: 742 | BF34: 228 | BG34: 396 | BH34: 118 | BI34: 336 | BJ34: 58 | BK34: 2 | BL34: 118 | BM34: 1277 | BN34: 16 | BO34: 329 | BP34: 780 | BQ34: 47 | BR34: 1 | BS34: 2 | BT34: 7 | BU34: 36 | BV34: 1 | BW34: 105 | BX34: 71 | BY34: 10 | BZ34: 5 | CA34: 9 | CB34: 1 | CC34: 0 | CD34: 9
A35: 女 | C35: 47 | D35: 8 | E35: 0 | F35: 18 | G35: 13 | H35: 0 | I35: 0 | J35: 0 | K35: 7 | L35: 1 | M35: 0 | N35: 29 | O35: 7 | P35: 7 | Q35: 14 | R35: 1 | S35: 0 | T35: 29 | U35: 10 | V35: 4 | W35: 3 | X35: 3 | Y35: 4 | Z35: 4 | AA35: 1 | AB35: 0 | AC35: 2 | AD35: 0 | AE35: 0 | AF35: 0 | AG35: 2 | AH35: 0 | AI35: 1 | AJ35: 0 | AK35: 0 | AL35: 1 | AM35: 16 | AN35: 0 | AO35: 13 | AP35: 3 | AQ35: 0 | AR35: 2 | AS35: 1 | AT35: 0 | AU35: 0 | AV35: 0 | AW35: 0 | AX35: 0 | AY35: 3 | AZ35: 3 | BA35: 0 | BB35: 0 | BC35: 3 | BD35: 3 | BE35: 3 | BF35: 1 | BG35: 1 | BH35: 1 | BI35: 1 | BJ35: 0 | BK35: 0 | BL35: 1 | BM35: 52 | BN35: 1 | BO35: 21 | BP35: 25 | BQ35: 1 | BR35: 0 | BS35: 0 | BT35: 0 | BU35: 1 | BV35: 0 | BW35: 4 | BX35: 3 | BY35: 0 | BZ35: 0 | CA35: 0 | CB35: 0 | CC35: 0 | CD35: 1
A37: 件數與罰鍰金額 | C37: 4.性侵害事件裁罰按裁罰事由統計
C38: 總計 | D38: 一、加害人裁罰 | N38: 二、媒體不當報導裁罰 | Q38: 三、任何人揭露被害人身分裁罰
D39: 合計 | E39: 無正當理由不到場或拒絕接受評估、身心治療或輔導教育者 (違反性侵害犯罪防治法第21條第1項第1款) | H39: 無正當理由不按時到場接受身心治療或輔導教育或接受之時數不足者 (違反性侵害犯罪防治法第21條第1項第2款) | K39: 未依第23條第1項規定定期辦理登記或報到者 (違反性侵害犯罪防治法第21條第1項第3款) | N39: 報導或記載被害人姓名或其他足資識別被害人身分資訊 (違反性侵害犯罪防治法第13條第1項之規定) | Q39: 任何人以媒體或其他方法公開或揭露被害人身分資訊(違反性侵害犯罪防治法第13條第2項之規定)
A40: 件數 (件) | C40: 1149 | D40: 1149 | E40: 478 | H40: 574 | K40: 97 | N40: 0 | Q40: 0
A41: 罰鍰金額 (元) | C41: 15750000 | D41: 15750000 | E41: 6520000 | H41: 7870000 | K41: 1360000 | N41: 0 | Q41: 0
A42: 資料來源：直轄市及縣(市)政府。
A45: 更新日期：2025/7/31
S46: 1003 | T46: 925 | U46: 361 | V46: 372 | W46: 6664 | X46: 2936 | Y46: 2823 | Z46: 905 | AA46: 317 | AB46: 232 | AC46: 0 | AD46: 206 | AE46: 48 | AF46: 4 | AG46: 154
...

Sheet 110
A1: 5.2-03 推展性侵害防治業務
A2: 中華民國110年
A4: 被害人國籍身分 與性別 | C4: 1.性侵害被害人保護扶助人次（人次）
C5: 合計 | D5: 諮詢協談 | E5: 庇護安置 | F5: 陪同報案、偵詢（訊） | G5: 陪同出庭 | H5: 驗傷診療 | I5: 法律扶助 | J5: 經濟扶助 | K5: 心理諮商與輔導 | L5: 就業服務 | M5: 就學或轉學服務 | N5: 通譯服務 | O5: 轉介 戒毒中心 | P5: 其他扶助
A6: 合計 | B6: 計 | C6: 370063 | D6: 295820 | E6: 1633 | F6: 5430 | G6: 4459 | H6: 1529 | I6: 15648 | J6: 5103 | K6: 12519 | L6: 1540 | M6: 8848 | N6: 82 | O6: 4 | P6: 17448
B7: 男 | C7: 48334 | D7: 39008 | E7: 181 | F7: 731 | G7: 572 | H7: 74 | I7: 2080 | J7: 378 | K7: 1221 | L7: 209 | M7: 1889 | N7: 6 | O7: 0 | P7: 1985
B8: 女 | C8: 321729 | D8: 256812 | E8: 1452 | F8: 4699 | G8: 3887 | H8: 1455 | I8: 13568 | J8: 4725 | K8: 11298 | L8: 1331 | M8: 6959 | N8: 76 | O8: 4 | P8: 15463
A9: 本國籍 非原住民 | B9: 男 | C9: 40786 | D9: 32938 | E9: 159 | F9: 608 | G9: 472 | H9: 66 | I9: 1760 | J9: 317 | K9: 1091 | L9: 189 | M9: 1592 | N9: 1 | O9: 0 | P9: 1593
B10: 女 | C10: 278601 | D10: 221195 | E10: 1288 | F10: 4054 | G10: 3362 | H10: 1294 | I10: 12180 | J10: 4176 | K10: 10387 | L10: 1201 | M10: 5973 | N10: 21 | O10: 2 | P10: 13468
A11: 本國籍 原住民 | B11: 男 | C11: 5824 | D11: 4730 | E11: 21 | F11: 108 | G11: 86 | H11: 7 | I11: 171 | J11: 56 | K11: 93 | L11: 13 | M11: 218 | N11: 0 | O11: 0 | P11: 321
B12: 女 | C12: 31075 | D12: 25802 | E12: 159 | F12: 503 | G12: 375 | H12: 127 | I12: 734 | J12: 448 | K12: 433 | L12: 56 | M12: 789 | N12: 3 | O12: 2 | P12: 1644
A13: 大陸籍 （含港澳） | B13: 男 | C13: 35 | D13: 20 | E13: 0 | F13: 1 | G13: 0 | H13: 0 | I13: 7 | J13: 3 | K13: 0 | L13: 0 | M13: 2 | N13: 0 | O13: 0 | P13: 2
B14: 女 | C14: 730 | D14: 607 | E14: 2 | F14: 4 | G14: 7 | H14: 2 | I14: 51 | J14: 9 | K14: 21 | L14: 3 | M14: 11 | N14: 0 | O14: 0 | P14: 13
A15: 外國籍 | B15: 男 | C15: 421 | D15: 342 | E15: 0 | F15: 8 | G15: 1 | H15: 0 | I15: 31 | J15: 0 | K15: 17 | L15: 0 | M15: 2 | N15: 5 | O15: 0 | P15: 15
B16: 女 | C16: 4260 | D16: 3440 | E16: 1 | F16: 73 | G16: 63 | H16: 13 | I16: 266 | J16: 43 | K16: 107 | L16: 32 | M16: 29 | N16: 51 | O16: 0 | P16: 142
A17: 其他 | B17: 男 | C17: 1268 | D17: 978 | E17: 1 | F17: 6 | G17: 13 | H17: 1 | I17: 111 | J17: 2 | K17: 20 | L17: 7 | M17: 75 | N17: 0 | O17: 0 | P17: 54
B18: 女 | C18: 7063 | D18: 5768 | E18: 2 | F18: 65 | G18: 80 | H18: 19 | I18: 337 | J18: 49 | K18: 350 | L18: 39 | M18: 157 | N18: 1 | O18: 0 | P18: 196
A20: 被害人國籍身分 | C20: 2.性侵害被害人保護扶助金額 (元)
C21: 合計 | D21: 緊急 生活扶助 | E21: 生活扶助 | F21: 急難救助 | G21: 租金補助 | H21: 醫療補助 | I21: 庇護安置 補助 | J21: 心理復健 補助 | K21: 律師費用 補助 | L21: 訴訟費用 補助 | M21: 民間慈善團體資助 | N21: 其他補助
A22: 合計 | C22: 167043698 | D22: 9321410 | E22: 26326921 | F22: 486488 | G22: 1784729 | H22: 5890440 | I22: 76562614 | J22: 12690071 | K22: 21750583 | L22: 3606246 | M22: 3204340 | N22: 5419856
A23: 本國籍非原住民 | C23: 142402982 | D23: 8198735 | E23: 23411198 | F23: 453222 | G23: 1509965 | H23: 5403808 | I23: 61333170 | J23: 11430676 | K23: 19995697 | L23: 3485013 | M23: 2713900 | N23: 4467598
A24: 本國籍原住民 | C24: 14999097 | D24: 819706 | E24: 1344043 | F24: 24216 | G24: 128782 | H24: 268745 | I24: 9051204 | J24: 921743 | K24: 1038429 | L24: 85545 | M24: 449743 | N24: 866941
A25: 大陸籍（含港澳） | C25: 275057 | D25: 37399 | E25: 35579 | F25: 214 | G25: 3514 | H25: 15716 | I25: 0 | J25: 39969 | K25: 141754 | L25: 627 | M25: 285 | N25: 0
A26: 外國籍 | C26: 449289 | D26: 161241 | E26: 24000 | F26: 0 | G26: 0 | H26: 77616 | I26: 15000 | J26: 99892 | K26: 50000 | L26: 0 | M26: 700 | N26: 20840
A27: 其他 | C27: 8917273 | D27: 104329 | E27: 1512101 | F27: 8836 | G27: 142468 | H27: 124555 | I27: 6163240 | J27: 197791 | K27: 524703 | L27: 35061 | M27: 39712 | N27: 64477
A29: 加害人性別 | C29: 3.性侵害加害人處遇 | S29: 3.性侵害加害人處遇 | AL29: 3.性侵害加害人處遇
C30: (1)本年截至本期加害人個案人數按處分類別分 | N30: (2)本期加害人個案尚接受身心治療或輔導教育者按再犯等級分(人) | S30: (3)本期加害人個案尚接受身心治療或輔導教育者按處遇期程分(人) | AB30: (4)本期加害人個案暫停處遇人數按暫停原因分(人) | AH30: (5)本年截至本期累計處遇期間再犯案件分(人) | AL30: (6)本年截至本期累計加害人個案已結案人數按結案狀態分(人) | AX30: (7)本年截至本期累計加害人個案 裁罰移送狀況(人次) | BC30: (8)本期加害人個案裁罰移送狀況(人) | BJ30: (9)依少年事件處理法裁定保護處分確定而法院裁定實施身心治療或輔導教育處遇狀態分(人)
C31: 合計(A) | D31: 有期徒刑或保安處分執行完畢 | E31: 有期徒刑經易服社會勞動 | F31: 假釋 | G31: 緩刑 | H31: 免刑 | I31: 赦免 | J31: 經法院、軍事法院依第22條之1第3項裁定停止強制治療 | K31: 經緩起訴處分確定者 | L31: 犯性騷擾防治法第25條判決有罪確定者 | M31: 犯兒少性剝削防制條例第31條判決有罪確定者 | N31: 合計(B) | O31: 低再犯 | P31: 中低再犯 | Q31: 中高再犯 | R31: 高再犯 | S31: 合計(C) | T31: 未滿3個月 | U31: 3個月以上未滿6個月 | V31: 6個月以上未滿9個月 | W31: 9個月以上未滿1年 | X31: 1年以上未滿1年6個月 | Y31: 1年6個月以上未滿2年 | Z31: 2年以上未滿3年 | AA31: 3年以上至4年 | AB31: 合計(D) | AC31: 傷殘住院 | AD31: 出國 | AE31: 服兵役 | AF31: 因他案入監服刑 | AG31: 其他 | AH31: 合計(E) | AI31: 再犯性侵害案件 | AJ31: 再犯其他案件且合併性侵害 | AK31: 再犯其他非性侵害案件 | AL31: 合計(F) | AM31: 本年截至本期累計無須處遇個案 | AN31: 本年截至本期累計完成處遇人數 | AO31: 本年截至本期累計未完成處遇已結案人數 按結案原因分 | AU31: 本年截至本期累計 轉入強制治療人數 | AX31: 累計應裁罰移送人次 | AY31: 累計處以行政罰鍰人次 | AZ31: 累計聲請移送人次 | BA31: 累計移送結果確定者 | BC31: 本期應裁罰移送個案人數 | BD31: 本期處以行政罰鍰人數 | BE31: 本期聲請移送者按階段分(人) | BH31: 累計移送結果確定者按結果分(人) | BJ31: 本年截至本期累計少年性侵害行為人個案數(a) | BK31: 本年截至本期累計無須處遇人數(b) | BL31: 本年截至本期累計完成處遇人數(c) | BM31: 本期尚在接受處遇人數(d) | BN31: 本期暫停處遇人數按暫停原因分 | BT31: 本年截至本期累計未完成處遇已結案人數按結案原因分
AO32: 計 | AP32: 因再犯性侵害罪入獄 | AQ32: 戶籍移轉外縣市 | AR32: 死亡 | AS32: 長期入住機構 | AT32: 其他 | AU32: 計 | AV32: 依性侵害犯罪防治法第22條規定 | AW32: 依性侵害犯罪防治法第22條之1規定 | BA32: 駁回或不起訴者 | BB32: 其他判決結果 | BE32: 移送家防中心/警察局/其他機關 | BF32: 本期聲請移送者按階段分(人)/移送地檢署 | BG32: 移送法院 | BH32: 駁回或不起訴者 | BI32: 其他判決結果 | BN32: 合計(e) | BO32: 傷殘 住院 | BP32: 出國 | BQ32: 服兵役 | BR32: 因他案入感化教育處所或監獄 | BS32: 其他 | BT32: 合計(f) | BU32: 保護處分期滿且未依規定接受處遇，檢還少年法院(庭) | BV32: 保護處分期限未滿且未依規定接受處遇，檢還少年法院(庭) | BW32: 再犯性侵入感化教育處所或監獄 | BX32: 戶籍移轉外縣市 | BY32: 死亡 | BZ32: 長期入住機構 | CA32: 其他
A33: 計 | C33: 6540 | D33: 2063 | E33: 122 | F33: 1948 | G33: 1742 | H33: 0 | I33: 0 | J33: 33 | K33: 328 | L33: 287 | M33: 17 | N33: 4604 | O33: 1629 | P33: 2404 | Q33: 512 | R33: 59 | S33: 4604 | T33: 771 | U33: 759 | V33: 478 | W33: 427 | X33: 906 | Y33: 386 | Z33: 462 | AA33: 415 | AB33: 369 | AC33: 32 | AD33: 7 | AE33: 13 | AF33: 236 | AG33: 81 | AH33: 419 | AI33: 63 | AJ33: 4 | AK33: 352 | AL33: 1567 | AM33: 25 | AN33: 1258 | AO33: 276 | AP33: 41 | AQ33: 125 | AR33: 34 | AS33: 5 | AT33: 71 | AU33: 8 | AV33: 3 | AW33: 6 | AX33: 711 | AY33: 486 | AZ33: 494 | BA33: 49 | BB33: 58 | BC33: 574 | BD33: 372 | BE33: 211 | BF33: 175 | BG33: 16 | BH33: 43 | BI33: 45 | BJ33: 1228 | BK33: 9 | BL33: 265 | BM33: 842 | BN33: 28 | BO33: 0 | BP33: 0 | BQ33: 2 | BR33: 26 | BS33: 0 | BT33: 84 | BU33: 39 | BV33: 8 | BW33: 8 | BX33: 13 | BY33: 0 | BZ33: 0 | CA33: 16
A34: 男 | C34: 6500 | D34: 2054 | E34: 122 | F34: 1928 | G34: 1738 | H34: 0 | I34: 0 | J34: 33 | K34: 322 | L34: 286 | M34: 17 | N34: 4577 | O34: 1614 | P34: 2394 | Q34: 510 | R34: 59 | S34: 4577 | T34: 765 | U34: 750 | V34: 475 | W34: 427 | X34: 902 | Y34: 382 | Z34: 461 | AA34: 415 | AB34: 368 | AC34: 32 | AD34: 7 | AE34: 13 | AF34: 236 | AG34: 80 | AH34: 419 | AI34: 63 | AJ34: 4 | AK34: 352 | AL34: 1555 | AM34: 25 | AN34: 1250 | AO34: 272 | AP34: 41 | AQ34: 121 | AR34: 34 | AS34: 5 | AT34: 71 | AU34: 8 | AV34: 3 | AW34: 6 | AX34: 707 | AY34: 484 | AZ34: 490 | BA34: 49 | BB34: 58 | BC34: 571 | BD34: 371 | BE34: 208 | BF34: 175 | BG34: 16 | BH34: 43 | BI34: 45 | BJ34: 1173 | BK34: 8 | BL34: 248 | BM34: 806 | BN34: 28 | BO34: 0 | BP34: 0 | BQ34: 2 | BR34: 26 | BS34: 0 | BT34: 83 | BU34: 38 | BV34: 8 | BW34: 8 | BX34: 13 | BY34: 0 | BZ34: 0 | CA34: 16
A35: 女 | C35: 40 | D35: 9 | E35: 0 | F35: 20 | G35: 4 | H35: 0 | I35: 0 | J35: 0 | K35: 6 | L35: 1 | M35: 0 | N35: 27 | O35: 15 | P35: 10 | Q35: 2 | R35: 0 | S35: 27 | T35: 6 | U35: 9 | V35: 3 | W35: 0 | X35: 4 | Y35: 4 | Z35: 1 | AA35: 0 | AB35: 1 | AC35: 0 | AD35: 0 | AE35: 0 | AF35: 0 | AG35: 1 | AH35: 0 | AI35: 0 | AJ35: 0 | AK35: 0 | AL35: 12 | AM35: 0 | AN35: 8 | AO35: 4 | AP35: 0 | AQ35: 4 | AR35: 0 | AS35: 0 | AT35: 0 | AU35: 0 | AV35: 0 | AW35: 0 | AX35: 4 | AY35: 2 | AZ35: 4 | BA35: 0 | BB35: 0 | BC35: 3 | BD35: 1 | BE35: 3 | BF35: 0 | BG35: 0 | BH35: 0 | BI35: 0 | BJ35: 55 | BK35: 1 | BL35: 17 | BM35: 36 | BN35: 0 | BO35: 0 | BP35: 0 | BQ35: 0 | BR35: 0 | BS35: 0 | BT35: 1 | BU35: 1 | BV35: 0 | BW35: 0 | BX35: 0 | BY35: 0 | BZ35: 0 | CA35: 0
A37: 件數與罰鍰金額 | C37: 4.性侵害事件裁罰按裁罰事由統計
C38: 總計 | D38: 一、加害人裁罰 | N38: 二、媒體不當報導裁罰 | Q38: 三、任何人揭露被害人身分裁罰
D39: 合計 | E39: 無正當理由不到場或拒絕接受評估、身心治療或輔導教育者 (違反性侵害犯罪防治法第21條第1項第1款) | H39: 無正當理由不按時到場接受身心治療或輔導教育或接受之時數不足者 (違反性侵害犯罪防治法第21條第1項第2款) | K39: 未依第23條第1項規定定期辦理登記或報到者 (違反性侵害犯罪防治法第21條第1項第3款) | N39: 報導或記載被害人姓名或其他足資識別被害人身分資訊 (違反性侵害犯罪防治法第13條第1項之規定) | Q39: 任何人以媒體或其他方法公開或揭露被害人身分資訊(違反性侵害犯罪防治法第13條第2項之規定)
A40: 件數 (件) | C40: 553 | D40: 551 | E40: 233 | H40: 242 | K40: 76 | N40: 0 | Q40: 2
A41: 罰鍰金額 (元) | C41: 7638000 | D41: 7568000 | E41: 2883000 | H41: 3725000 | K41: 960000 | N41: 0 | Q41: 70000
A42: 資料來源：直轄市及縣(市)政府。
A45: 更新日期：2023/10/27
S46: 1003 | T46: 925 | U46: 361 | V46: 372 | W46: 6664 | X46: 2936 | Y46: 2823 | Z46: 905 | AA46: 317 | AB46: 232 | AC46: 0 | AD46: 206 | AE46: 48 | AF46: 4 | AG46: 154
...

Sheet 109
A1: 5.2-03 推展性侵害防治業務
A2: 中華民國109年
A4: 被害人國籍身分 與性別 | C4: 1.性侵害被害人保護扶助人次（人次）
C5: 合計 | D5: 諮詢協談 | E5: 庇護安置 | F5: 陪同報案、偵詢（訊） | G5: 陪同出庭 | H5: 驗傷診療 | I5: 法律扶助 | J5: 經濟扶助 | K5: 心理諮商與輔導 | L5: 就業服務 | M5: 就學或轉學服務 | N5: 通譯服務 | O5: 轉介 戒毒中心 | P5: 其他扶助
A6: 合計 | B6: 計 | C6: 398148 | D6: 320452 | E6: 1817 | F6: 5528 | G6: 4676 | H6: 1817 | I6: 14463 | J6: 5443 | K6: 14511 | L6: 1374 | M6: 9763 | N6: 77 | O6: 2 | P6: 18225
B7: 男 | C7: 54683 | D7: 44724 | E7: 189 | F7: 674 | G7: 584 | H7: 102 | I7: 1963 | J7: 479 | K7: 1319 | L7: 173 | M7: 2023 | N7: 4 | O7: 1 | P7: 2448
B8: 女 | C8: 343465 | D8: 275728 | E8: 1628 | F8: 4854 | G8: 4092 | H8: 1715 | I8: 12500 | J8: 4964 | K8: 13192 | L8: 1201 | M8: 7740 | N8: 73 | O8: 1 | P8: 15777
A9: 本國籍 非原住民 | B9: 男 | C9: 46508 | D9: 38169 | E9: 170 | F9: 575 | G9: 460 | H9: 98 | I9: 1726 | J9: 405 | K9: 1148 | L9: 160 | M9: 1725 | N9: 0 | O9: 1 | P9: 1871
B10: 女 | C10: 296814 | D10: 237972 | E10: 1428 | F10: 4243 | G10: 3548 | H10: 1479 | I10: 11381 | J10: 4398 | K10: 11901 | L10: 1032 | M10: 6517 | N10: 20 | O10: 1 | P10: 12894
A11: 本國籍 原住民 | B11: 男 | C11: 6187 | D11: 4879 | E11: 18 | F11: 86 | G11: 100 | H11: 1 | I11: 155 | J11: 69 | K11: 113 | L11: 7 | M11: 235 | N11: 1 | O11: 0 | P11: 523
B12: 女 | C12: 33151 | D12: 26434 | E12: 170 | F12: 482 | G12: 386 | H12: 194 | I12: 620 | J12: 495 | K12: 809 | L12: 123 | M12: 1013 | N12: 0 | O12: 0 | P12: 2425
A13: 大陸籍 （含港澳） | B13: 男 | C13: 23 | D13: 19 | E13: 0 | F13: 0 | G13: 1 | H13: 1 | I13: 0 | J13: 2 | K13: 0 | L13: 0 | M13: 0 | N13: 0 | O13: 0 | P13: 0
B14: 女 | C14: 967 | D14: 793 | E14: 24 | F14: 14 | G14: 5 | H14: 2 | I14: 50 | J14: 6 | K14: 17 | L14: 8 | M14: 21 | N14: 0 | O14: 0 | P14: 27
A15: 外國籍 | B15: 男 | C15: 254 | D15: 198 | E15: 0 | F15: 1 | G15: 4 | H15: 0 | I15: 15 | J15: 1 | K15: 18 | L15: 1 | M15: 6 | N15: 3 | O15: 0 | P15: 7
B16: 女 | C16: 4186 | D16: 3572 | E16: 2 | F16: 46 | G16: 60 | H16: 21 | I16: 152 | J16: 44 | K16: 107 | L16: 11 | M16: 12 | N16: 52 | O16: 0 | P16: 107
A17: 其他 | B17: 男 | C17: 1711 | D17: 1459 | E17: 1 | F17: 12 | G17: 19 | H17: 2 | I17: 67 | J17: 2 | K17: 40 | L17: 5 | M17: 57 | N17: 0 | O17: 0 | P17: 47
B18: 女 | C18: 8347 | D18: 6957 | E18: 4 | F18: 69 | G18: 93 | H18: 19 | I18: 297 | J18: 21 | K18: 358 | L18: 27 | M18: 177 | N18: 1 | O18: 0 | P18: 324
A20: 被害人國籍身分 | C20: 2.性侵害被害人保護扶助金額 (元)
C21: 合計 | D21: 緊急 生活扶助 | E21: 生活扶助 | F21: 急難救助 | G21: 租金補助 | H21: 醫療補助 | I21: 庇護安置 補助 | J21: 心理復健 補助 | K21: 律師費用 補助 | L21: 訴訟費用 補助 | M21: 民間慈善團體資助 | N21: 其他補助
A22: 合計 | C22: 208603635 | D22: 8472539 | E22: 27626627 | F22: 626571 | G22: 1631414 | H22: 6184181 | I22: 113719883 | J22: 15764137 | K22: 14629895 | L22: 7871686 | M22: 4279413 | N22: 7797289
A23: 本國籍非原住民 | C23: 187440508 | D23: 7096782 | E23: 25162554 | F23: 422372 | G23: 1375811 | H23: 5514094 | I23: 102859438 | J23: 14399958 | K23: 12967277 | L23: 7818779 | M23: 3645429 | N23: 6178014
A24: 本國籍原住民 | C24: 18190079 | D24: 1095319 | E24: 1581450 | F24: 198822 | G24: 181287 | H24: 545674 | I24: 10551765 | J24: 1181300 | K24: 1095355 | L24: 41358 | M24: 593790 | N24: 1123959
A25: 大陸籍（含港澳） | C25: 697052 | D25: 61940 | H25: 4789 | I25: 144000 | J25: 20323 | K25: 58000 | L25: 0 | M25: 0 | N25: 408000
A26: 外國籍 | C26: 592830 | D26: 185292 | E26: 137647 | F26: 3315 | G26: 11017 | H26: 68729 | I26: 12500 | J26: 55338 | K26: 36310 | L26: 1608 | M26: 7771 | N26: 73303
A27: 其他 | C27: 1683166 | D27: 33206 | E27: 744976 | F27: 2062 | G27: 63299 | H27: 50895 | I27: 152180 | J27: 107218 | K27: 472953 | L27: 9941 | M27: 32423 | N27: 14013
A29: 加害人性別 | C29: 3.性侵害加害人處遇 | S29: 3.性侵害加害人處遇 | AL29: 3.性侵害加害人處遇
C30: (1)本年截至本期加害人個案人數按處分類別分 | N30: (2)本期加害人個案尚接受身心治療或輔導教育者按再犯等級分(人) | S30: (3)本期加害人個案尚接受身心治療或輔導教育者按處遇期程分(人) | AB30: (4)本期加害人個案暫停處遇人數按暫停原因分(人) | AH30: (5)本年截至本期累計處遇期間再犯案件分(人) | AL30: (6)本年截至本期累計加害人個案已結案人數按結案狀態分(人) | AX30: (7)本年截至本期累計加害人個案 裁罰移送狀況(人次) | BC30: (8)本期加害人個案裁罰移送狀況(人) | BJ30: (9)依少年事件處理法裁定保護處分確定而法院裁定實施身心治療或輔導教育處遇狀態分(人)
C31: 合計(A) | D31: 有期徒刑或保安處分執行完畢 | E31: 有期徒刑經易服社會勞動 | F31: 假釋 | G31: 緩刑 | H31: 免刑 | I31: 赦免 | J31: 經法院、軍事法院依第22條之1第3項裁定停止強制治療 | K31: 經緩起訴處分確定者 | L31: 犯性騷擾防治法第25條判決有罪確定者 | M31: 犯兒少性剝削防制條例第31條判決有罪確定者 | N31: 合計(B) | O31: 低再犯 | P31: 中低再犯 | Q31: 中高再犯 | R31: 高再犯 | S31: 合計(C) | T31: 未滿3個月 | U31: 3個月以上未滿6個月 | V31: 6個月以上未滿9個月 | W31: 9個月以上未滿1年 | X31: 1年以上未滿1年6個月 | Y31: 1年6個月以上未滿2年 | Z31: 2年以上未滿3年 | AA31: 3年以上至4年 | AB31: 合計(D) | AC31: 傷殘住院 | AD31: 出國 | AE31: 服兵役 | AF31: 因他案入監服刑 | AG31: 其他 | AH31: 合計(E) | AI31: 再犯性侵害案件 | AJ31: 再犯其他案件且合併性侵害 | AK31: 再犯其他非性侵害案件 | AL31: 合計(F) | AM31: 本年截至本期累計無須處遇個案 | AN31: 本年截至本期累計完成處遇人數 | AO31: 本年截至本期累計未完成處遇已結案人數 按結案原因分 | AU31: 本年截至本期累計 轉入強制治療人數 | AX31: 累計應裁罰移送人次 | AY31: 累計處以行政罰鍰人次 | AZ31: 累計聲請移送人次 | BA31: 累計移送結果確定者 | BC31: 本期應裁罰移送個案人數 | BD31: 本期處以行政罰鍰人數 | BE31: 本期聲請移送者按階段分(人) | BH31: 累計移送結果確定者按結果分(人) | BJ31: 本年截至本期累計少年性侵害行為人個案數(a) | BK31: 本年截至本期累計無須處遇人數(b) | BL31: 本年截至本期累計完成處遇人數(c) | BM31: 本期尚在接受處遇人數(d) | BN31: 本期暫停處遇人數按暫停原因分 | BT31: 本年截至本期累計未完成處遇已結案人數按結案原因分
AO32: 計 | AP32: 因再犯性侵害罪入獄 | AQ32: 戶籍移轉外縣市 | AR32: 死亡 | AS32: 長期入住機構 | AT32: 其他 | AU32: 計 | AV32: 依性侵害犯罪防治法第22條規定 | AW32: 依性侵害犯罪防治法第22條之1規定 | BA32: 駁回或不起訴者 | BB32: 其他判決結果 | BE32: 移送家防中心/警察局/其他機關 | BF32: 本期聲請移送者按階段分(人)/移送地檢署 | BG32: 移送法院 | BH32: 駁回或不起訴者 | BI32: 其他判決結果 | BN32: 合計(e) | BO32: 傷殘 住院 | BP32: 出國 | BQ32: 服兵役 | BR32: 因他案入感化教育處所或監獄 | BS32: 其他 | BT32: 合計(f) | BU32: 保護處分期滿且未依規定接受處遇，檢還少年法院(庭) | BV32: 保護處分期限未滿且未依規定接受處遇，檢還少年法院(庭) | BW32: 再犯性侵入感化教育處所或監獄 | BX32: 戶籍移轉外縣市 | BY32: 死亡 | BZ32: 長期入住機構 | CA32: 其他
A33: 計 | C33: 6821 | D33: 2312 | E33: 113 | F33: 2002 | G33: 1748 | H33: 0 | I33: 0 | J33: 41 | K33: 354 | L33: 224 | M33: 27 | N33: 4461 | O33: 1588 | P33: 2294 | Q33: 524 | R33: 55 | S33: 4461 | T33: 732 | U33: 777 | V33: 448 | W33: 440 | X33: 865 | Y33: 357 | Z33: 479 | AA33: 363 | AB33: 292 | AC33: 27 | AD33: 3 | AE33: 2 | AF33: 186 | AG33: 74 | AH33: 363 | AI33: 98 | AJ33: 5 | AK33: 260 | AL33: 2068 | AM33: 25 | AN33: 1615 | AO33: 422 | AP33: 54 | AQ33: 177 | AR33: 25 | AS33: 17 | AT33: 149 | AU33: 6 | AV33: 5 | AW33: 1 | AX33: 638 | AY33: 520 | AZ33: 374 | BA33: 50 | BB33: 70 | BC33: 291 | BD33: 256 | BE33: 82 | BF33: 101 | BG33: 21 | BH33: 24 | BI33: 24 | BJ33: 1344 | BK33: 7 | BL33: 314 | BM33: 804 | BN33: 55 | BO33: 2 | BP33: 0 | BQ33: 4 | BR33: 43 | BS33: 6 | BT33: 164 | BU33: 82 | BV33: 14 | BW33: 10 | BX33: 28 | BY33: 6 | BZ33: 5 | CA33: 19
A34: 男 | C34: 6785 | D34: 2308 | E34: 113 | F34: 1982 | G34: 1743 | H34: 0 | I34: 0 | J34: 41 | K34: 347 | L34: 224 | M34: 27 | N34: 4437 | O34: 1579 | P34: 2280 | Q34: 523 | R34: 55 | S34: 4437 | T34: 727 | U34: 770 | V34: 447 | W34: 437 | X34: 862 | Y34: 354 | Z34: 478 | AA34: 362 | AB34: 292 | AC34: 27 | AD34: 3 | AE34: 2 | AF34: 186 | AG34: 74 | AH34: 363 | AI34: 98 | AJ34: 5 | AK34: 260 | AL34: 2056 | AM34: 25 | AN34: 1604 | AO34: 421 | AP34: 54 | AQ34: 176 | AR34: 25 | AS34: 17 | AT34: 149 | AU34: 6 | AV34: 5 | AW34: 1 | AX34: 634 | AY34: 517 | AZ34: 372 | BA34: 49 | BB34: 70 | BC34: 290 | BD34: 255 | BE34: 81 | BF34: 101 | BG34: 21 | BH34: 23 | BI34: 24 | BJ34: 1296 | BK34: 5 | BL34: 295 | BM34: 785 | BN34: 53 | BO34: 2 | BP34: 0 | BQ34: 4 | BR34: 42 | BS34: 5 | BT34: 158 | BU34: 79 | BV34: 13 | BW34: 10 | BX34: 27 | BY34: 6 | BZ34: 5 | CA34: 18
