Workbook

Sheet 歷年 (109~) 
A1: 5.2-03 推展性侵害防治業務
A4: 年別 | C4: 1.性侵害被害人保護扶助人次（人次）
C5: 合計 | D5: 諮詢協談 | E5: 庇護安置 | F5: 陪同報案、偵詢（訊） | G5: 陪同出庭 | H5: 驗傷診療 | I5: 法律扶助 | J5: 經濟扶助 | K5: 心理諮商與輔導 | L5: 就業服務 | M5: 就學或轉學服務 | N5: 通譯服務 | O5: 轉介 戒毒中心 | P5: 其他扶助
A6: 95年, 2006 | C6: ='95'!C6 -> 48462 | D6: ='95'!D6 -> 32264 | E6: ='95'!E6 -> 1425 | F6: ='95'!F6 -> 2047 | G6: ='95'!G6 -> 1745 | H6: ='95'!H6 -> 1553 | I6: ='95'!I6 -> 2310 | J6: 0 | K6: ='95'!J6 -> 3159 | L6: ='95'!K6 -> 258 | M6: 0 | N6: ='95'!M6 -> 39 | O6: ='95'!O6 -> 0 | P6: ='95'!N6+'95'!L6 -> 3662
A7: 96年, 2007 | C7: ='96'!C6 -> 72090 | D7: ='96'!D6 -> 45669 | E7: ='96'!E6 -> 1403 | F7: ='96'!F6 -> 1821 | G7: ='96'!G6 -> 2021 | H7: ='96'!H6 -> 2099 | I7: ='96'!I6 -> 2820 | J7: ='96'!J6 -> 2031 | ... P7: ='96'!P6 -> 7319
A8: 97年, 2008 | C8: ='97'!C6 -> 95247 | D8: ='97'!D6 -> 59385 | E8: ='97'!E6 -> 1995 | F8: ='97'!F6 -> 2191 | G8: ='97'!G6 -> 2525 | H8: ='97'!H6 -> 1702 | I8: ='97'!I6 -> 3491 | J8: ='97'!J6 -> 3238 | ... P8: ='97'!P6 -> 10517
A9: 98年 , 2009 | C9: ='98'!C6 -> 101482 | D9: ='98'!D6 -> 60907 | E9: ='98'!E6 -> 1722 | F9: ='98'!F6 -> 2564 | G9: ='98'!G6 -> 2699 | H9: ='98'!H6 -> 1936 | I9: ='98'!I6 -> 3535 | J9: ='98'!J6 -> 3645 | ... P9: ='98'!P6 -> 11599
A10: 99年 , 2010 | C10: ='99'!C6 -> 100942 | D10: ='99'!D6 -> 59985 | E10: ='99'!E6 -> 1817 | F10: ='99'!F6 -> 2896 | G10: ='99'!G6 -> 3231 | H10: ='99'!H6 -> 1672 | I10: ='99'!I6 -> 3688 | J10: ='99'!J6 -> 3126 | ... P10: ='99'!P6 -> 11544
A11: 100年 , 2011 | C11: ='100'!C6 -> 140326 | D11: ='100'!D6 -> 91455 | E11: ='100'!E6 -> 3026 | F11: ='100'!F6 -> 3793 | G11: ='100'!G6 -> 4699 | H11: ='100'!H6 -> 2985 | I11: ='100'!I6 -> 3924 | J11: ='100'!J6 -> 3989 | ... P11: ='100'!P6 -> 11636
A12: 101年 , 2012 | C12: ='101'!C6 -> 158258 | D12: ='101'!D6 -> 105466 | E12: ='101'!E6 -> 2098 | F12: ='101'!F6 -> 3777 | G12: ='101'!G6 -> 5089 | H12: ='101'!H6 -> 2798 | I12: ='101'!I6 -> 5491 | J12: ='101'!J6 -> 3879 | ... P12: ='101'!P6 -> 14290
A13: 102年 , 2013 | C13: ='102'!C6 -> 177258 | D13: ='102'!D6 -> 118258 | E13: ='102'!E6 -> 3667 | F13: ='102'!F6 -> 3925 | G13: ='102'!G6 -> 5602 | H13: ='102'!H6 -> 2604 | I13: ='102'!I6 -> 4251 | J13: ='102'!J6 -> 4551 | ... P13: ='102'!P6 -> 19483
A14: 103年 , 2014 | C14: ='103'!C6 -> 199846 | D14: ='103'!D6 -> 133211 | E14: ='103'!E6 -> 3835 | F14: ='103'!F6 -> 3459 | G14: ='103'!G6 -> 5030 | H14: ='103'!H6 -> 2071 | I14: ='103'!I6 -> 5285 | J14: ='103'!J6 -> 4400 | ... P14: ='103'!P6 -> 20784
A15: 104年 , 2015 | C15: ='104'!C6 -> 221587 | D15: ='104'!D6 -> 167530 | E15: ='104'!E6 -> 5475 | F15: ='104'!F6 -> 3124 | G15: ='104'!G6 -> 4429 | H15: ='104'!H6 -> 2057 | I15: ='104'!I6 -> 3884 | J15: ='104'!J6 -> 3870 | ... P15: ='104'!P6 -> 16090
A16: 105年 , 2016 | C16: 218852 | D16: 169379 | E16: 2826 | F16: 3311 | G16: 4172 | H16: 2119 | I16: 4495 | J16: 4594 | K16: 9556 | L16: 529 | M16: 3161 | N16: 68 | O16: 9 | P16: 14633
A17: 106年 , 2017 | C17: 229525 | D17: 181819 | E17: 2784 | F17: 4011 | G17: 4315 | H17: 1908 | I17: 6186 | J17: 5119 | K17: 9165 | L17: 772 | M17: 2410 | N17: 62 | O17: 16 | P17: 10958
A18: 107年 , 2018 | C18: 245515 | D18: 189141 | E18: 1848 | F18: 3914 | G18: 4233 | H18: 1472 | I18: 6696 | J18: 5165 | K18: 11257 | L18: 1108 | M18: 5812 | N18: 682 | O18: 12 | P18: 14175
A19: 108年 , 2019 | C19: 340891 | D19: 268980 | E19: 1796 | F19: 4994 | G19: 4311 | H19: 2222 | I19: 11159 | J19: 4600 | K19: 14946 | L19: 1140 | M19: 7416 | N19: 263 | O19: 2 | P19: 19062
A20: 109年 , 2020 | C20: 398148 | D20: 320452 | E20: 1817 | F20: 5528 | G20: 4676 | H20: 1817 | I20: 14463 | J20: 5443 | K20: 14511 | L20: 1374 | M20: 9763 | N20: 77 | O20: 2 | P20: 18225
A21: 110年 , 2021 | C21: 370063 | D21: 295820 | E21: 1633 | F21: 5430 | G21: 4459 | H21: 1529 | I21: 15648 | J21: 5103 | K21: 12519 | L21: 1540 | M21: 8848 | N21: 82 | O21: 4 | P21: 17448
A22: 111年 , 2022 | C22: 291299 | D22: 220447 | E22: 1595 | F22: 5560 | G22: 4733 | H22: 1599 | I22: 15589 | J22: 4823 | K22: 13057 | L22: 1367 | M22: 7545 | N22: 219 | O22: 20 | P22: 14745
A23: 112年 , 2023 | C23: 310082 | D23: 224993 | E23: 1745 | F23: 7063 | G23: 5094 | H23: 1611 | I23: 19650 | J23: 5274 | K23: 14571 | L23: 1724 | M23: 10714 | N23: 252 | O23: 4 | P23: 17387
A24: 113年 , 2024 | C24: 317199 | D24: 225218 | E24: 1318 | F24: 6264 | G24: 4665 | H24: 1200 | I24: 23257 | J24: 6317 | K24: 19986 | L24: 1615 | M24: 9414 | N24: 81 | O24: 18 | P24: 17846
A25: 114年 , 2025 | C25: 300345 | D25: 210353 | E25: 896 | F25: 5933 | G25: 4163 | H25: 1230 | I25: 22927 | J25: 5791 | K25: 21518 | L25: 1195 | M25: 7680 | N25: 95 | O25: 4 | P25: 18560
A27: 年別 | C27: 2.性侵害被害人保護扶助金額 (元)
C28: 合計 | D28: 緊急 生活扶助 | E28: 生活扶助 | F28: 急難救助 | G28: 租金補助 | H28: 醫療補助 | I28: 庇護安置 補助 | J28: 心理復健 補助 | K28: 律師費用 補助 | L28: 訴訟費用 補助 | M28: 民間慈善團體資助 | N28: 其他補助
A29: 95年, 2006 | C29: ='95'!C22 -> 49252494 | D29: ='95'!D22 -> 4948107 | E29: ='95'!E22 -> 643237 | F29: ='95'!F22 -> 160000 | G29: ='95'!G22 -> 79000 | H29: ='95'!H22 -> 4559095 | I29: ='95'!I22 -> 20996318 | J29: ='95'!J22 -> 4435227 | ... L29: ='95'!L22 -> 1112840 | M29: 411500 | N29: ='95'!N22+'95'!R22 -> 322831
A30: 96年, 2007 | C30: ='96'!C22 -> 53191330 | D30: ='96'!D22 -> 4849150 | E30: ='96'!E22 -> 281279 | F30: ='96'!F22 -> 95924 | G30: ='96'!G22 -> 88500 | H30: ='96'!H22 -> 5153746 | I30: ='96'!I22 -> 23105231 | J30: ='96'!J22 -> 6270416 | ... N30: ='96'!N22 -> 542393
A31: 97年, 2008 | C31: ='97'!C22 -> 58777127 | D31: ='97'!D22 -> 6255710 | E31: ='97'!E22 -> 1178212 | F31: ='97'!F22 -> 179250 | G31: ='97'!G22 -> 214100 | H31: ='97'!H22 -> 5323970 | I31: ='97'!I22 -> 21369265 | J31: ='97'!J22 -> 8277393 | ... N31: ='97'!N22 -> 767951
A32: 98年 , 2009 | C32: ='98'!C22 -> 64912653 | D32: ='98'!D22 -> 4841636 | E32: ='98'!E22 -> 656794 | F32: ='98'!F22 -> 373910 | G32: ='98'!G22 -> 182150 | H32: ='98'!H22 -> 5379465 | I32: ='98'!I22 -> 30617762 | J32: ='98'!J22 -> 9717288 | ... N32: ='98'!N22 -> 587826
A33: 99年 , 2010 | C33: ='99'!C22 -> 60270362 | D33: ='99'!D22 -> 3994678 | E33: ='99'!E22 -> 544973 | F33: ='99'!F22 -> 311603 | G33: ='99'!G22 -> 136005 | H33: ='99'!H22 -> 5366232 | I33: ='99'!I22 -> 28098046 | J33: ='99'!J22 -> 8511936 | ... N33: ='99'!N22 -> 437096
A34: 100年 , 2011 | C34: ='100'!C22 -> 73603327 | D34: ='100'!D22 -> 4343460 | E34: ='100'!E22 -> 375172 | F34: ='100'!F22 -> 592922 | G34: ='100'!G22 -> 420000 | H34: ='100'!H22 -> 5772874 | I34: ='100'!I22 -> 30564483 | J34: ='100'!J22 -> 13224256 | ... N34: ='100'!N22 -> 2315166
A35: 101年 , 2012 | C35: ='101'!C22 -> 70767228 | D35: ='101'!D22 -> 4469502 | E35: ='101'!E22 -> 1088244 | F35: ='101'!F22 -> 250372 | G35: ='101'!G22 -> 388000 | H35: ='101'!H22 -> 5709935 | I35: ='101'!I22 -> 29816431 | J35: ='101'!J22 -> 11195389 | ... N35: ='101'!N22 -> 1867441
A36: 102年 , 2013 | C36: ='102'!C22 -> 77525239 | D36: ='102'!D22 -> 3835556 | E36: ='102'!E22 -> 3703454 | F36: ='102'!F22 -> 284363 | G36: ='102'!G22 -> 791000 | H36: ='102'!H22 -> 5347531 | I36: ='102'!I22 -> 33586529 | J36: ='102'!J22 -> 10171494 | ... N36: ='102'!N22 -> 2336339
A37: 103年 , 2014 | C37: ='103'!C22 -> 109468205 | D37: ='103'!D22 -> 4468110 | E37: ='103'!E22 -> 1672821 | F37: ='103'!F22 -> 233028 | G37: ='103'!G22 -> 319000 | H37: ='103'!H22 -> 4864662 | I37: ='103'!I22 -> 64177581 | J37: ='103'!J22 -> 12597798 | ... N37: ='103'!N22 -> 2965319
A38: 104年 , 2015 | C38: ='104'!C22 -> 113541707 | D38: ='104'!D22 -> 4091277 | E38: ='104'!E22 -> 2465576 | F38: ='104'!F22 -> 139360 | G38: ='104'!G22 -> 215100 | H38: ='104'!H22 -> 4291757 | I38: ='104'!I22 -> 63913003 | J38: ='104'!J22 -> 14968254 | ... N38: ='104'!N22 -> 1980344
A39: 105年 , 2016 | C39: 124205242 | D39: 5459173 | E39: 2113831 | F39: 231398 | G39: 211140 | H39: 4351143 | I39: 73855941 | J39: 13450939 | K39: 13532800 | L39: 3205000 | M39: 3041949 | N39: 4751928
A40: 106年 , 2017 | C40: 172740417 | D40: 7484759 | E40: 13033290 | F40: 198865 | G40: 723099 | H40: 5242278 | I40: 98970217 | J40: 12807418 | K40: 19259100 | L40: 2427000 | M40: 2285583 | N40: 10308808
A41: 107年 , 2018 | C41: 152522629 | D41: 5962039 | E41: 17130632 | F41: 320288 | G41: 563844 | H41: 4515483 | I41: 83663918 | J41: 12526777 | K41: 17192550 | L41: 565875 | M41: 3427844 | N41: 6653379
A42: 108年 , 2019 | C42: 159739842 | D42: 6155293 | E42: 23167712 | F42: 710538 | G42: 1664240 | H42: 4462123 | I42: 86377184 | J42: 12841662 | K42: 15541000 | L42: 1820500 | M42: 2890884 | N42: 4108706
A43: 109年 , 2020 | C43: 208603635 | D43: 8472539 | E43: 27626627 | F43: 626571 | G43: 1631414 | H43: 6184181 | I43: 113719883 | J43: 15764137 | K43: 14629895 | L43: 7871686 | M43: 4279413 | N43: 7797289
A44: 110年 , 2021 | C44: 167043698 | D44: 9321410 | E44: 26326921 | F44: 486488 | G44: 1784729 | H44: 5890440 | I44: 76562614 | J44: 12690071 | K44: 21750583 | L44: 3606246 | M44: 3204340 | N44: 5419856
A45: 111年 , 2022 | C45: 160028648 | D45: 9253577 | E45: 25076487 | F45: 247696 | G45: 1449114 | H45: 5759854 | I45: 62996439 | J45: 17940438 | K45: 30756738 | L45: 484580 | M45: 2116332 | N45: 3947393
A46: 112年 , 2023 | C46: 173152060 | D46: 9277448 | E46: 32701175 | F46: 310648 | G46: 1231955 | H46: 7014374 | I46: 66609672 | J46: 17967317 | K46: 28789971 | L46: 3354838 | M46: 1119530 | N46: 4775132
A47: 113年 , 2024 | C47: 202057990 | D47: 10432466 | E47: 49721885 | F47: 328218 | G47: 1266200 | H47: 6153195 | I47: 58256714 | J47: 27175432 | K47: 39911701 | L47: 2462716 | M47: 2130135 | N47: 4219328
A48: 114年 , 2025 | C48: 175129675 | D48: 9622611 | E48: 30930307 | F48: 1307438 | G48: 1106587 | H48: 6613668 | I48: 44389892 | J48: 26826732 | K48: 45457131 | L48: 1206929 | M48: 1964824 | N48: 5703556
A50: 年別 | C50: 3.性侵害加害人處遇 | S50: 3.性侵害加害人處遇 | AL50: 3.性侵害加害人處遇
C51: (1)加害人個案人數按處分類別分 | N51: (2)本期加害人個案尚接受身心治療或輔導教育者按再犯等級分(人) | S51: (3)本期加害人個案尚接受身心治療或輔導教育者按處遇期程分(人) | AB51: (4)本期加害人個案暫停處遇人數按暫停原因分(人) | AH51: (5)處遇期間再犯案件分(人) | AL51: (6)加害人個案已結案人數按結案狀態分(人) | AX51: (7)加害人個案裁罰移送狀況(人次) | BC51: (8)本期加害人個案裁罰移送狀況(人) | BJ51: (9)依少年事件處理法裁定保護處分確定而法院裁定實施身心治療或輔導教育處遇狀態分(人)
C52: 合計(A) | D52: 有期徒刑或保安處分執行完畢 | E52: 有期徒刑經易服社會勞動 | F52: 假釋 | G52: 緩刑 | H52: 免刑 | I52: 赦免 | J52: 經法院、軍事法院依第22條之1第3項裁定停止強制治療 | K52: 經緩起訴處分確定者 | L52: 犯性騷擾防治法第25條判決有罪確定者 | M52: 犯兒少性剝削防制條例第31條判決有罪確定者 | N52: 合計(B) | O52: 低再犯 | P52: 中低再犯 | Q52: 中高再犯 | R52: 高再犯 | S52: 合計(C) | T52: 未滿3個月 | U52: 3個月以上未滿6個月 | V52: 6個月以上未滿9個月 | W52: 9個月以上未滿1年 | X52: 1年以上未滿1年6個月 | Y52: 1年6個月以上未滿2年 | Z52: 2年以上未滿3年 | AA52: 3年以上至4年 | AB52: 合計(D) | AC52: 傷殘住院 | AD52: 出國 | AE52: 服兵役 | AF52: 因他案入監服刑 | AG52: 其他 | AH52: 合計(E) | AI52: 再犯性侵害案件 | AJ52: 再犯其他案件且合併性侵害 | AK52: 再犯其他非性侵害案件 | AL52: 合計(F) | AM52: 無須處遇個案 | AN52: 完成處遇人數 | AO52: 未完成處遇已結案人數按結案原因分 | AU52: 轉入強制治療人數 | AX52: 累計應裁罰移送人次 | AY52: 累計處以行政罰鍰人次 | AZ52: 累計聲請移送人次 | BA52: 累計移送結果確定者 | BC52: 本期應裁罰移送個案人數 | BD52: 本期處以行政罰鍰人數 | BE52: 本期聲請移送者按階段分(人) | BH52: 累計移送結果確定者按結果分(人) | BJ52: 少年性侵害行為人個案數(a) | BK52: 無須處遇人數(b) | BL52: 完成處遇人數(c) | BM52: 本期尚在接受處遇人數(d) | BN52: 本期暫停處遇人數按暫停原因分 | BT52: 未完成處遇已結案人數按結案原因分
AO53: 計 | AP53: 因再犯性侵害罪入獄 | AQ53: 戶籍移轉外縣市 | AR53: 死亡 | AS53: 長期入住機構 | AT53: 其他 | AU53: 計 | AV53: 依性侵害犯罪防治法第22條規定 | AW53: 依性侵害犯罪防治法第22條之1規定 | BA53: 駁回或不起訴者 | BB53: 其他判決結果 | BE53: 移送家防中心/警察局/其他機關 | BF53: 本期聲請移送者按階段分(人)/移送地檢署 | BG53: 移送法院 | BH53: 駁回或不起訴者 | BI53: 其他判決結果 | BN53: 合計(e) | BO53: 傷殘 住院 | BP53: 出國 | BQ53: 服兵役 | BR53: 因他案入感化教育處所或監獄 | BS53: 其他 | BT53: 合計(f) | BU53: 保護處分期滿且未依規定接受處遇，檢還少年法院(庭) | BV53: 保護處分期限未滿且未依規定接受處遇，檢還少年法院(庭) | BW53: 再犯性侵入感化教育處所或監獄 | BX53: 戶籍移轉外縣市 | BY53: 死亡 | BZ53: 長期入住機構 | CA53: 其他
A54: 109年 , 2020 | C54: 6821 | D54: 2312 | E54: 113 | F54: 2002 | G54: 1748 | H54: 0 | I54: 0 | J54: 41 | K54: 354 | L54: 224 | M54: 27 | N54: 4461 | O54: 1588 | P54: 2294 | Q54: 524 | R54: 55 | S54: 4461 | T54: 732 | U54: 777 | V54: 448 | W54: 440 | X54: 865 | Y54: 357 | Z54: 479 | AA54: 363 | AB54: 292 | AC54: 27 | AD54: 3 | AE54: 2 | AF54: 186 | AG54: 74 | AH54: 363 | AI54: 98 | AJ54: 5 | AK54: 260 | AL54: 2068 | AM54: 25 | AN54: 1615 | AO54: 422 | AP54: 54 | AQ54: 177 | AR54: 25 | AS54: 17 | AT54: 149 | AU54: 6 | AV54: 5 | AW54: 1 | AX54: 638 | AY54: 520 | AZ54: 374 | BA54: 50 | BB54: 70 | BC54: 291 | BD54: 256 | BE54: 82 | BF54: 101 | BG54: 21 | BH54: 24 | BI54: 24 | BJ54: 1344 | BK54: 7 | BL54: 314 | BM54: 804 | BN54: 55 | BO54: 2 | BP54: 0 | BQ54: 4 | BR54: 43 | BS54: 6 | BT54: 164 | BU54: 82 | BV54: 14 | BW54: 10 | BX54: 28 | BY54: 6 | BZ54: 5 | CA54: 19
A55: 110年 , 2021 | C55: 6540 | D55: 2063 | E55: 122 | F55: 1948 | G55: 1742 | H55: 0 | I55: 0 | J55: 33 | K55: 328 | L55: 287 | M55: 17 | N55: 4604 | O55: 1629 | P55: 2404 | Q55: 512 | R55: 59 | S55: 4604 | T55: 771 | U55: 759 | V55: 478 | W55: 427 | X55: 906 | Y55: 386 | Z55: 462 | AA55: 415 | AB55: 369 | AC55: 32 | AD55: 7 | AE55: 13 | AF55: 236 | AG55: 81 | AH55: 419 | AI55: 63 | AJ55: 4 | AK55: 352 | AL55: 1567 | AM55: 25 | AN55: 1258 | AO55: 276 | AP55: 41 | AQ55: 125 | AR55: 34 | AS55: 5 | AT55: 71 | AU55: 8 | AV55: 3 | AW55: 6 | AX55: 711 | AY55: 486 | AZ55: 494 | BA55: 49 | BB55: 58 | BC55: 574 | BD55: 372 | BE55: 211 | BF55: 175 | BG55: 16 | BH55: 43 | BI55: 45 | BJ55: 1228 | BK55: 9 | BL55: 265 | BM55: 842 | BN55: 28 | BO55: 0 | BP55: 0 | BQ55: 2 | BR55: 26 | BS55: 0 | BT55: 84 | BU55: 39 | BV55: 8 | BW55: 8 | BX55: 13 | BY55: 0 | BZ55: 0 | CA55: 16
A57: 年別 | C57: 3.性侵害加害人處遇 | S57: 3.性侵害加害人處遇 | AL57: 3.性侵害加害人處遇 | BD57: 3.性侵害加害人處遇
C58: (1)加害人個案人數按處分類別分 | N58: (2)本期加害人個案尚接受身心治療或輔導教育者按再犯等級分(人) | T58: (3)本期加害人個案尚接受身心治療或輔導教育者按處遇期程分(人) | AC58: (4)本期加害人個案暫停處遇人數按暫停原因分(人) | AI58: (5)處遇期間再犯案件分(人) | AM58: (6)加害人個案已結案人數按結案狀態分(人) | AY58: (7)加害人個案行政裁罰情形 | BD58: (8)加害人個案移送情形 | BM58: (9)依少年事件處理法裁定保護處分確定而法院裁定實施身心治療或輔導教育處遇狀態分(人)
C59: 合計(A) | D59: 有期徒刑或保安處分執行完畢 | E59: 有期徒刑經易服社會勞動 | F59: 假釋 | G59: 緩刑 | H59: 免刑 | I59: 赦免 | J59: 經法院、軍事法院依第22條之1第3項裁定停止強制治療 | K59: 經緩起訴處分確定者 | L59: 犯性騷擾防治法第25條判決有罪確定者 | M59: 犯兒少性剝削防制條例第31條判決有罪確定者 | N59: 合計(B) | O59: 評估中 | P59: 低再犯 | Q59: 中低再犯 | R59: 中高再犯 | S59: 高再犯 | T59: 合計(C) | U59: 未滿3個月 | V59: 3個月以上未滿6個月 | W59: 6個月以上未滿9個月 | X59: 9個月以上未滿1年 | Y59: 1年以上未滿1年6個月 | Z59: 1年6個月以上未滿2年 | AA59: 2年以上未滿3年 | AB59: 3年以上至4年 | AC59: 合計(D) | AD59: 傷殘住院 | AE59: 出國 | AF59: 服兵役 | AG59: 因他案入監服刑 | AH59: 其他 | AI59: 合計(E) | AJ59: 再犯性侵害案件 | AK59: 再犯其他案件且合併性侵害 | AL59: 再犯其他非性侵害案件 | AM59: 合計(F) | AN59: 無須處遇 個案 | AO59: 完成處遇人數 | AP59: 未完成處遇已結案人數 按結案原因分 | AV59: 轉入強制治療人數 | AY59: 應行政裁罰個案人數(人) | AZ59: 申請行政裁罰個案人次(人次) | BA59: 申請行政裁罰者 按結果分(人次) | BD59: 應移送個案人數(人) | BE59: 聲請移送個案人次(人次) | BF59: 聲請移送者按階段分(人次) | BI59: 移送地檢署者按結果分(人次) | BM59: 少年性侵害行為人個案數(a) | BN59: 無須處遇人數(b) | BO59: 完成處遇人數(c) | BP59: 本期尚在接受處遇人數(d) | BQ59: 本期暫停處遇人數按暫停原因分 | BW59: 未完成處遇已結案人數按結案原因分
AP60: 計 | AQ60: 因再犯性侵害罪入獄 | AR60: 戶籍移轉外縣市 | AS60: 死亡 | AT60: 長期入住機構 | AU60: 其他 | AV60: 計 | AW60: 依性侵害犯罪防治法第22條規定 | AX60: 依性侵害犯罪防治法第22條之1規定 | BA60: 調查或簽辦中 | BB60: 駁回或 不罰 | BC60: 裁罰確定 | BF60: 移送家防中心/警察局/其他機關 | BG60: 移送地檢署 | BH60: 移送法院 | BI60: 偵查中 | BJ60: 駁回或 不起訴 | BK60: 緩起訴 | BL60: 起訴 | BQ60: 合計(e) | BR60: 傷殘 住院 | BS60: 出國 | BT60: 服兵役 | BU60: 因他案入感化教育處所或監獄 | BV60: 其他 | BW60: 合計(f) | BX60: 保護處分期滿且未依規定接受處遇，檢還少年法院(庭) | BY60: 保護處分期限未滿且未依規定接受處遇，檢還少年法院(庭) | BZ60: 再犯性侵入感化教育處所或監獄 | CA60: 戶籍移轉外縣市 | CB60: 死亡 | CC60: 長期入住機構 | CD60: 其他
A61: 111年 , 2022 | C61: 6678 | D61: 2105 | E61: 128 | F61: 1812 | G61: 1888 | H61: 4 | I61: 0 | J61: 35 | K61: 357 | L61: 331 | M61: 18 | N61: 4482 | O61: 473 | P61: 1099 | Q61: 2365 | R61: 496 | S61: 49 | T61: 4482 | U61: 765 | V61: 667 | W61: 511 | X61: 560 | Y61: 737 | Z61: 393 | AA61: 435 | AB61: 414 | AC61: 450 | AD61: 28 | AE61: 14 | AF61: 7 | AG61: 345 | AH61: 56 | AI61: 239 | AJ61: 41 | AK61: 0 | AL61: 198 | AM61: 1746 | AN61: 20 | AO61: 1448 | AP61: 269 | AQ61: 27 | AR61: 158 | AS61: 32 | AT61: 7 | AU61: 45 | AV61: 9 | AW61: 7 | AX61: 2 | AY61: 1083 | AZ61: 1339 | BA61: 510 | BB61: 70 | BC61: 818 | BD61: 555 | BE61: 745 | BF61: 229 | BG61: 397 | BH61: 119 | BI61: 337 | BJ61: 58 | BK61: 2 | BL61: 119 | BM61: 1329 | BN61: 17 | BO61: 350 | BP61: 805 | BQ61: 48 | BR61: 1 | BS61: 2 | BT61: 7 | BU61: 37 | BV61: 1 | BW61: 109 | BX61: 74 | BY61: 10 | BZ61: 5 | CA61: 9 | CB61: 1 | CC61: 0 | CD61: 10
A62: 112年 , 2023 | C62: 6629 | D62: 2067 | E62: 119 | F62: 1619 | G62: 1991 | H62: 4 | I62: 0 | J62: 34 | K62: 365 | L62: 398 | M62: 32 | N62: 4197 | O62: 292 | P62: 1046 | Q62: 2301 | R62: 493 | S62: 65 | T62: 4197 | U62: 693 | V62: 629 | W62: 472 | X62: 481 | Y62: 637 | Z62: 538 | AA62: 499 | AB62: 248 | AC62: 502 | AD62: 26 | AE62: 20 | AF62: 6 | AG62: 369 | AH62: 81 | AI62: 293 | AJ62: 36 | AK62: 5 | AL62: 252 | AM62: 1930 | AN62: 25 | AO62: 1536 | AP62: 353 | AQ62: 26 | AR62: 129 | AS62: 53 | AT62: 8 | AU62: 137 | AV62: 16 | AW62: 12 | AX62: 4 | AY62: 1408 | AZ62: 2259 | BA62: 1289 | BB62: 114 | BC62: 856 | BD62: 840 | BE62: 1032 | BF62: 145 | BG62: 611 | BH62: 276 | BI62: 496 | BJ62: 105 | BK62: 10 | BL62: 276 | BM62: 1206 | BN62: 20 | BO62: 297 | BP62: 694 | BQ62: 59 | BR62: 0 | BS62: 2 | BT62: 4 | BU62: 53 | BV62: 0 | BW62: 136 | BX62: 60 | BY62: 32 | BZ62: 7 | CA62: 19 | CB62: 2 | CC62: 0 | CD62: 16
A64: 年別 | C64: 3.性侵害加害人處遇 | P64: 3.性侵害加害人處遇 | AE64: 3.性侵害加害人處遇 | BF64: 3.性侵害加害人處遇 | BO64: 3.性侵害加害人處遇
C65: (1)加害人個案人數按處分類別分 | P65: (2)本期加害人個案尚接受身心治療或輔導教育者按再犯等級分(人) | V65: (3)本期加害人個案尚接受身心治療或輔導教育者按處遇期程分(人) | AE65: (4)本期加害人個案暫停處遇人數按暫停原因分(人) | AK65: (5)處遇期間再犯案件分(人) | AO65: (6)加害人個案已結案人數按結案狀態分(人) | BA65: (7)加害人個案行政裁罰情形 | BF65: (8)加害人個案移送情形 | BO65: (9)依少年事件處理法裁定保護處分確定而法院裁定實施身心治療或輔導教育處遇狀態分(人)
C66: 犯性侵害罪者 | L66: 犯性騷擾防治法第25條判決有罪確定者 | M66: 犯兒童及少年性剝削防制條例第31條判決有罪確定者 | N66: 犯刑法第319條之2第1項判決有罪確定者 | O66: 依性侵害犯罪防治法第31條第4項受身心治療、輔導或教育者
C67: 合計(A) | D67: 有期徒刑、保安處分或性侵害犯罪防治法第37條、第38條所定之強制治療執行完畢 | E67: 有期徒刑經易服社會勞動 | F67: 假釋 | G67: 緩刑 | H67: 免刑 | I67: 赦免 | J67: 經法院依性侵害犯罪防治法第38條第1項但書及第6項規定或刑法第91條之1第2項但書規定裁定停止強制治療 | K67: 經緩起訴處分確定者 | P67: 合計(B) | Q67: 評估中 | R67: 低再犯 | S67: 中低再犯 | T67: 中高再犯 | U67: 高再犯 | V67: 合計(C) | W67: 未滿3個月 | X67: 3個月以上未滿6個月 | Y67: 6個月以上未滿9個月 | Z67: 9個月以上未滿1年 | AA67: 1年以上未滿1年6個月 | AB67: 1年6個月以上未滿2年 | AC67: 2年以上未滿3年 | AD67: 3年以上至4年 | AE67: 合計(D) | AF67: 傷殘住院 | AG67: 出國 | AH67: 服兵役 | AI67: 因他案入監服刑 | AJ67: 其他 | AK67: 合計(E) | AL67: 再犯性侵害案件 | AM67: 再犯其他案件且合併性侵害 | AN67: 再犯其他非性侵害案件 | AO67: 合計(F) | AP67: 無須處遇個案 | AQ67: 完成處遇人數 | AR67: 未完成處遇已結案人數 按結案原因分 | AX67: 轉入強制治療人數 | BA67: 應行政裁罰個案人數(人) | BB67: 申請行政裁罰個案人次(人次) | BC67: 申請行政裁罰者 按結果分(人次) | BF67: 應移送個案人數(人) | BG67: 聲請移送個案人次(人次) | BH67: 聲請移送者按階段分(人次) | BK67: 移送地檢署者按結果分(人次) | BO67: 少年性侵害行為人個案數(a) | BP67: 無須處遇人數(b) | BQ67: 完成處遇人數(c) | BR67: 尚在接受處遇人數(d) | BS67: 本期暫停處遇人數按暫停原因分 | BY67: 本年截至本期累計未完成處遇已結案人數按結案原因分
AR68: 計 | AS68: 因再犯性侵害罪入獄 | AT68: 戶籍移轉外縣市 | AU68: 死亡 | AV68: 長期入住機構 | AW68: 其他 | AX68: 計 | AY68: 依性侵害犯罪防治法第36條及刑法第91之1條規定 | AZ68: 依性侵害犯罪防治法第37條及第38條規定 | BC68: 調查或簽辦中 | BD68: 駁回或 不罰 | BE68: 裁罰確定 | BH68: 移送家防中心/警察局/其他機關 | BI68: 移送地檢署 | BJ68: 移送法院 | BK68: 偵查中 | BL68: 駁回或 不起訴 | BM68: 緩起訴 | BN68: 起訴 | BS68: 合計(e) | BT68: 傷殘 住院 | BU68: 出國 | BV68: 服兵役 | BW68: 因他案入感化教育處所或監獄 | BX68: 其他 | BY68: 合計(f) | BZ68: 保護處分期滿且未依規定接受處遇，檢還少年法院(庭) | CA68: 保護處分期限未滿且未依規定接受處遇，檢還少年法院(庭) | CB68: 再犯性侵入感化教育處所或監獄 | CC68: 戶籍移轉外縣市 | CD68: 死亡 | CE68: 長期入住機構 | CF68: 其他
A69: 113年 , 2024 | C69: 6687 | D69: 2091 | E69: 109 | F69: 1378 | G69: 2136 | H69: 1 | I69: 0 | J69: 36 | K69: 402 | L69: 501 | M69: 31 | N69: 0 | O69: 2 | P69: 4351 | Q69: 267 | R69: 1005 | S69: 2422 | T69: 569 | U69: 88 | V69: 4351 | W69: 801 | X69: 797 | Y69: 390 | Z69: 497 | AA69: 805 | AB69: 398 | AC69: 447 | AD69: 216 | AE69: 588 | AF69: 25 | AG69: 26 | AH69: 3 | AI69: 442 | AJ69: 92 | AK69: 214 | AL69: 30 | AM69: 3 | AN69: 181 | AO69: 1748 | AP69: 20 | AQ69: 1402 | AR69: 300 | AS69: 33 | AT69: 137 | AU69: 50 | AV69: 5 | AW69: 75 | AX69: 26 | AY69: 15 | AZ69: 7 | BA69: 790 | BB69: 984 | BC69: 105 | BD69: 76 | BE69: 803 | BF69: 744 | BG69: 1122 | BH69: 134 | BI69: 655 | BJ69: 333 | BK69: 516 | BL69: 130 | BM69: 9 | BN69: 333 | BO69: 1177 | BP69: 12 | BQ69: 314 | BR69: 659 | BS69: 78 | BT69: 1 | BU69: 2 | BV69: 6 | BW69: 63 | BX69: 6 | BY69: 114 | BZ69: 52 | CA69: 20 | CB69: 3 | CC69: 21 | CD69: 1 | CE69: 0 | CF69: 17
A70: 114年 , 2025 | C70: 6780 | D70: 2186 | E70: 129 | F70: 1193 | G70: 2207 | H70: 2 | I70: 0 | J70: 41 | K70: 374 | L70: 586 | M70: 40 | N70: 14 | O70: 8 | P70: 4439 | Q70: 243 | R70: 932 | S70: 2494 | T70: 664 | U70: 106 | V70: 4439 | W70: 872 | X70: 750 | Y70: 470 | Z70: 447 | AA70: 827 | AB70: 388 | AC70: 485 | AD70: 200 | AE70: 552 | AF70: 23 | AG70: 26 | AH70: 7 | AI70: 422 | AJ70: 74 | AK70: 240 | AL70: 45 | AM70: 1 | AN70: 194 | AO70: 1789 | AP70: 20 | AQ70: 1396 | AR70: 352 | AS70: 42 | AT70: 141 | AU70: 57 | AV70: 11 | AW70: 101 | AX70: 21 | AY70: 6 | AZ70: 12 | BA70: 978 | BB70: 1171 | BC70: 156 | BD70: 115 | BE70: 900 | BF70: 835 | BG70: 1108 | BH70: 137 | BI70: 720 | BJ70: 251 | BK70: 613 | BL70: 100 | BM70: 7 | BN70: 251 | BO70: 1095 | BP70: 15 | BQ70: 276 | BR70: 617 | BS70: 79 | BT70: 1 | BU70: 4 | BV70: 14 | BW70: 59 | BX70: 1 | BY70: 108 | BZ70: 34 | CA70: 26 | CB70: 3 | CC70: 17 | CD70: 1 | CE70: 1 | CF70: 26
A73: 件數與罰鍰金額 | C73: 4.性侵害事件裁罰按裁罰事由統計
C74: 總計 | D74: 一、加害人裁罰 | N74: 二、媒體不當報導裁罰 | Q74: 三、任何人揭露被害人身分裁罰
D75: 合計 | E75: 無正當理由不到場或拒絕接受評估、身心治療或輔導教育者 (違反性侵害犯罪防治法第21條第1項第1款) | H75: 無正當理由不按時到場接受身心治療或輔導教育或接受之時數不足者 (違反性侵害犯罪防治法第21條第1項第2款) | K75: 未依第23條第1項規定定期辦理登記或報到者 (違反性侵害犯罪防治法第21條第1項第3款) | N75: 報導或記載被害人姓名或其他足資識別被害人身分資訊 (違反性侵害犯罪防治法第13條第1項之規定) | Q75: 任何人以媒體或其他方法公開或揭露被害人身分資訊(違反性侵害犯罪防治法第13條第2項之規定)
A76: 96年, 2007 | B76: 件數 | C76: 526 | D76: 523 | E76: 193 | H76: 258 | K76: 72 | N76: 0 | Q76: 3
B77: 金額 | C77: 7110000 | D77: 7010000 | E77: 2430000 | H77: 3540000 | K77: 1040000 | N77: 0 | Q77: 100000
A78: 97年, 2008 | B78: 件數 | C78: ='97'!C39 -> 382 | D78: ='97'!D39 -> 300 | G78: ='97'!G39 -> 73 | J78: ='97'!J39 -> 9 | M78: 0 | P78: 0
B79: 金額 | C79: ='97'!C40 -> 3212000 | D79: ='97'!D40 -> 2387000 | G79: ='97'!G40 -> 740000 | J79: ='97'!J40 -> 85000 | M79: 0 | P79: 0
A80: 98年 , 2009 | B80: 件數 | C80: ='98'!C39 -> 285 | D80: ='98'!D39 -> 206 | G80: ='98'!G39 -> 56 | J80: ='98'!J39 -> 23 | M80: 0 | P80: 0
B81: 金額 | C81: ='98'!C40 -> 2447000 | D81: ='98'!D40 -> 1657000 | G81: ='98'!G40 -> 560000 | J81: ='98'!J40 -> 230000 | M81: 0 | P81: 0
A82: 99年 , 2010 | B82: 件數 | C82: ='99'!C39 -> 226 | D82: ='99'!D39 -> 114 | G82: ='99'!G39 -> 61 | J82: ='99'!J39 -> 51 | M82: 0 | P82: 0
B83: 金額 | C83: ='99'!C40 -> 2088000 | D83: ='99'!D40 -> 978000 | G83: ='99'!G40 -> 610000 | J83: ='99'!J40 -> 500000 | M83: 0 | P83: 0
A84: 100年 , 2011 | B84: 件數 | C84: ='100'!C39 -> 188 | D84: ='100'!D39 -> 68 | G84: ='100'!G39 -> 63 | J84: ='100'!J39 -> 57 | M84: 0 | P84: 0
B85: 金額 | C85: ='100'!C40 -> 1810000 | D85: ='100'!D40 -> 640000 | G85: ='100'!G40 -> 600000 | J85: ='100'!J40 -> 570000 | M85: 0 | P85: 0
A86: 101年 , 2012 | B86: 件數 | C86: ='101'!C39 -> 318 | D86: ='101'!D39 -> 193 | G86: ='101'!G39 -> 91 | J86: ='101'!J39 -> 34 | M86: 0 | P86: 0
B87: 金額 | C87: ='101'!C40 -> 3620000 | D87: ='101'!D40 -> 2330000 | G87: ='101'!G40 -> 910000 | J87: ='101'!J40 -> 380000 | M87: 0 | P87: 0
A88: 102年 , 2013 | B88: 件數 | C88: ='102'!C39 -> 598 | D88: ='102'!D39 -> 173 | G88: ='102'!G39 -> 335 | J88: ='102'!J39 -> 70 | M88: 0 | P88: 0
B89: 金額 | C89: ='102'!C40 -> 6940000 | D89: ='102'!D40 -> 2470000 | G89: ='102'!G40 -> 3590000 | J89: ='102'!J40 -> 880000 | M89: 0 | P89: 0
A90: 103年 , 2014 | B90: 件數 | C90: ='103'!C39 -> 558 | D90: ='103'!D39 -> 291 | G90: ='103'!G39 -> 174 | J90: ='103'!J39 -> 93 | M90: 0 | P90: 0
B91: 金額 | C91: ='103'!C40 -> 6142000 | D91: ='103'!D40 -> 2972000 | G91: ='103'!G40 -> 2040000 | J91: ='103'!J40 -> 1130000 | M91: 0 | P91: 0
A92: 104年 , 2015 | B92: 件數 | C92: ='104'!C39 -> 522 | D92: ='104'!D39 -> 265 | G92: ='104'!G39 -> 162 | J92: ='104'!J39 -> 95 | M92: 0 | P92: 0
B93: 金額 | C93: ='104'!C40 -> 5936000 | D93: ='104'!D40 -> 2866000 | G93: ='104'!G40 -> 2150000 | J93: ='104'!J40 -> 920000 | M93: 0 | P93: 0
A94: 105年 , 2016 | B94: 件數 | C94: ='105'!C39 -> 545 | D94: ='105'!D39 -> 257 | G94: ='105'!G39 -> 167 | J94: ='105'!J39 -> 121 | M94: 0 | P94: 0
B95: 金額 | C95: ='105'!C40 -> 5908000 | D95: ='105'!D40 -> 2617000 | G95: ='105'!G40 -> 2030000 | J95: ='105'!J40 -> 1261000 | M95: 0 | P95: 0
A96: 106年 , 2017 | B96: 件數 | C96: ='106'!C39 -> 522 | D96: ='106'!D39 -> 254 | G96: ='106'!G39 -> 170 | J96: ='106'!J39 -> 98 | M96: 0 | P96: 0
B97: 金額 | C97: ='106'!C40 -> 6550000 | D97: ='106'!D40 -> 3220000 | G97: ='106'!G40 -> 2150000 | J97: ='106'!J40 -> 1180000 | M97: 0 | P97: 0
A98: 107年 , 2018 | B98: 件數 | C98: ='107'!C40 -> 520 | D98: ='107'!D40 -> 250 | E98: ='107'!E40 -> 0 | F98: ='107'!F40 -> 0 | G98: ='107'!G40 -> 172 | H98: ='107'!H40 -> 0 | I98: ='107'!I40 -> 0 | J98: ='107'!J40 -> 98 | ... L98: ='107'!L40 -> 0 | M98: 0 | P98: 0
B99: 金額 | C99: ='107'!C41 -> 6491000 | D99: ='107'!D41 -> 3110000 | E99: ='107'!E41 -> 0 | F99: ='107'!F41 -> 0 | G99: ='107'!G41 -> 2190000 | H99: ='107'!H41 -> 0 | I99: ='107'!I41 -> 0 | J99: ='107'!J41 -> 1191000 | ... L99: ='107'!L41 -> 0 | M99: 0 | P99: 0
A100: 108年 , 2019 | B100: 件數 | C100: 437 | D100: 154 | G100: 208 | J100: 75 | M100: 1 | P100: 1
B101: 金額 | C101: 5280000 | D101: 1770000 | G101: 2550000 | J101: 960000 | M101: 60000 | P101: 20000
A102: 109年 , 2020 | B102: 件數 | C102: 526 | D102: 523 | E102: 193 | H102: 258 | K102: 72 | N102: 0 | Q102: 3
B103: 金額 | C103: 7110000 | D103: 7010000 | E103: 2430000 | H103: 3540000 | K103: 1040000 | N103: 0 | Q103: 100000
A104: 110年 , 2021 | B104: 件數 | C104: 553 | D104: 551 | E104: 233 | H104: 242 | K104: 76 | N104: 0 | Q104: 2
B105: 金額 | C105: 7638000 | D105: 7568000 | E105: 2883000 | H105: 3725000 | K105: 960000 | N105: 0 | Q105: 70000
A106: 111年 , 2022 | B106: 件數 | C106: 1149 | D106: 1149 | E106: 478 | H106: 574 | K106: 97 | N106: 0 | Q106: 0
B107: 金額 | C107: 15750000 | D107: 15750000 | E107: 6520000 | H107: 7870000 | K107: 1360000 | N107: 0 | Q107: 0
A109: 件數與罰鍰金額 | C109: 4.性侵害事件裁罰按裁罰事由統計
...

Sheet 114
A1: 5.2-03 推展性侵害防治業務
A2: 中華民國114年
A4: 被害人國籍身分 與性別 | C4: 1.性侵害被害人保護扶助人次（人次）
C5: 合計 | D5: 諮詢協談 | E5: 庇護安置 | F5: 陪同報案、偵詢（訊） | G5: 陪同出庭 | H5: 驗傷診療 | I5: 法律扶助 | J5: 經濟扶助 | K5: 心理諮商與輔導 | L5: 就業服務 | M5: 就學或轉學服務 | N5: 通譯服務 | O5: 轉介 戒毒中心 | P5: 其他扶助
A6: 合計 | B6: 計 | C6: 300345 | D6: 210353 | E6: 896 | F6: 5933 | G6: 4163 | H6: 1230 | I6: 22927 | J6: 5791 | K6: 21518 | L6: 1195 | M6: 7680 | N6: 95 | O6: 4 | P6: 18560
B7: 男 | C7: 37539 | D7: 25955 | E7: 40 | F7: 768 | G7: 509 | H7: 91 | I7: 3043 | J7: 539 | K7: 2751 | L7: 113 | M7: 1585 | N7: 12 | O7: 0 | P7: 2133
B8: 女 | C8: 262806 | D8: 184398 | E8: 856 | F8: 5165 | G8: 3654 | H8: 1139 | I8: 19884 | J8: 5252 | K8: 18767 | L8: 1082 | M8: 6095 | N8: 83 | O8: 4 | P8: 16427
A9: 本國籍 非原住民 | B9: 男 | C9: 33235 | D9: 22833 | E9: 29 | F9: 625 | G9: 413 | H9: 78 | I9: 2663 | J9: 507 | K9: 2515 | L9: 108 | M9: 1471 | N9: 10 | O9: 0 | P9: 1983
B10: 女 | C10: 232521 | D10: 161966 | E10: 726 | F10: 4534 | G10: 3215 | H10: 998 | I10: 17851 | J10: 4670 | K10: 17050 | L10: 945 | M10: 5497 | N10: 46 | O10: 0 | P10: 15023
A11: 本國籍 原住民 | B11: 男 | C11: 2931 | D11: 2130 | E11: 11 | F11: 119 | G11: 68 | H11: 13 | I11: 238 | J11: 31 | K11: 151 | L11: 3 | M11: 76 | N11: 0 | O11: 0 | P11: 91
B12: 女 | C12: 20698 | D12: 15120 | E12: 121 | F12: 481 | G12: 306 | H12: 116 | I12: 1246 | J12: 482 | K12: 1200 | L12: 101 | M12: 458 | N12: 2 | O12: 4 | P12: 1061
A13: 大陸籍 （含港澳） | B13: 男 | C13: 84 | D13: 43 | E13: 0 | F13: 16 | G13: 1 | H13: 0 | I13: 10 | J13: 1 | K13: 3 | L13: 0 | M13: 5 | N13: 0 | O13: 0 | P13: 5
B14: 女 | C14: 577 | D14: 433 | E14: 0 | F14: 15 | G14: 4 | H14: 3 | I14: 46 | J14: 8 | K14: 40 | L14: 2 | M14: 2 | N14: 0 | O14: 0 | P14: 24
A15: 外國籍 | B15: 男 | C15: 211 | D15: 167 | E15: 0 | F15: 0 | G15: 4 | H15: 0 | I15: 12 | J15: 0 | K15: 8 | L15: 0 | M15: 0 | N15: 2 | O15: 0 | P15: 18
B16: 女 | C16: 2962 | D16: 2300 | E16: 4 | F16: 36 | G16: 40 | H16: 11 | I16: 244 | J16: 56 | K16: 90 | L16: 13 | M16: 27 | N16: 33 | O16: 0 | P16: 108
A17: 其他 | B17: 男 | C17: 1078 | D17: 782 | E17: 0 | F17: 8 | G17: 23 | H17: 0 | I17: 120 | J17: 0 | K17: 74 | L17: 2 | M17: 33 | N17: 0 | O17: 0 | P17: 36
B18: 女 | C18: 6048 | D18: 4579 | E18: 5 | F18: 99 | G18: 89 | H18: 11 | I18: 497 | J18: 36 | K18: 387 | L18: 21 | M18: 111 | N18: 2 | O18: 0 | P18: 211
A20: 被害人國籍身分 | C20: 2.性侵害被害人保護扶助金額 (元)
C21: 合計 | D21: 緊急 生活扶助 | E21: 生活扶助 | F21: 急難救助 | G21: 租金補助 | H21: 醫療補助 | I21: 庇護安置 補助 | J21: 心理復健 補助 | K21: 律師費用 補助 | L21: 訴訟費用 補助 | M21: 民間慈善團體資助 | N21: 其他補助
A22: 合計 | C22: 175129675 | D22: 9622611 | E22: 30930307 | F22: 1307438 | G22: 1106587 | H22: 6613668 | I22: 44389892 | J22: 26826732 | K22: 45457131 | L22: 1206929 | M22: 1964824 | N22: 5703556
A23: 本國籍非原住民 | C23: 157993245 | D23: 8403342 | E23: 27911390 | F23: 1126838 | G23: 1009304 | H23: 5656848 | I23: 39115031 | J23: 24733975 | K23: 42283419 | L23: 1167480 | M23: 1844799 | N23: 4740819
A24: 本國籍原住民 | C24: 13851671 | D24: 765644 | E24: 2140560 | F24: 136918 | G24: 67626 | H24: 710989 | I24: 5091326 | J24: 1486643 | K24: 2381370 | L24: 31394 | M24: 92999 | N24: 946202
A25: 大陸籍（含港澳） | C25: 290597 | D25: 81516 | E25: 0 | F25: 0 | G25: 0 | H25: 48164 | I25: 0 | J25: 45917 | K25: 115000 | L25: 0 | M25: 0 | N25: 0
A26: 外國籍 | C26: 1164146 | D26: 308554 | E26: 61195 | F26: 2437 | G26: 2133 | H26: 158588 | I26: 35916 | J26: 132632 | K26: 450280 | L26: 539 | M26: 1049 | N26: 10823
A27: 其他 | C27: 1830016 | D27: 63555 | E27: 817162 | F27: 41245 | G27: 27524 | H27: 39079 | I27: 147619 | J27: 427565 | K27: 227062 | L27: 7516 | M27: 25977 | N27: 5712
A29: 加害人性別 | C29: 3.性侵害加害人處遇 | P29: 3.性侵害加害人處遇 | AE29: 3.性侵害加害人處遇 | BF29: 3.性侵害加害人處遇 | BO29: 3.性侵害加害人處遇
C30: (1)加害人個案人數按處分類別分 | P30: (2)本期加害人個案尚接受身心治療或輔導教育者按再犯等級分(人) | V30: (3)本期加害人個案尚接受身心治療或輔導教育者按處遇期程分(人) | AE30: (4)本期加害人個案暫停處遇人數按暫停原因分(人) | AK30: (5)處遇期間再犯案件分(人) | AO30: (6)加害人個案已結案人數按結案狀態分(人) | BA30: (7)加害人個案行政裁罰情形 | BF30: (8)加害人個案移送情形 | BO30: (9)依少年事件處理法裁定保護處分確定而法院裁定實施身心治療或輔導教育處遇狀態分(人)
C31: 犯性侵害罪者 | L31: 犯性騷擾防治法第25條判決有罪確定者 | M31: 犯兒童及少年性剝削防制條例第31條判決有罪確定者 | N31: 犯刑法第319條之2第1項判決有罪確定者 | O31: 依性侵害犯罪防治法第31條第4項受身心治療、輔導或教育者
C32: 合計(A) | D32: 有期徒刑、保安處分或性侵害犯罪防治法第37條、第38條所定之強制治療執行完畢 | E32: 有期徒刑經易服社會勞動 | F32: 假釋 | G32: 緩刑 | H32: 免刑 | I32: 赦免 | J32: 經法院依性侵害犯罪防治法第38條第1項但書及第6項規定或刑法第91條之1第2項但書規定裁定停止強制治療 | K32: 經緩起訴處分確定者 | P32: 合計(B) | Q32: 評估中 | R32: 低再犯 | S32: 中低再犯 | T32: 中高再犯 | U32: 高再犯 | V32: 合計(C) | W32: 未滿3個月 | X32: 3個月以上未滿6個月 | Y32: 6個月以上未滿9個月 | Z32: 9個月以上未滿1年 | AA32: 1年以上未滿1年6個月 | AB32: 1年6個月以上未滿2年 | AC32: 2年以上未滿3年 | AD32: 3年以上至4年 | AE32: 合計(D) | AF32: 傷殘住院 | AG32: 出國 | AH32: 服兵役 | AI32: 因他案入監服刑 | AJ32: 其他 | AK32: 合計(E) | AL32: 再犯性侵害案件 | AM32: 再犯其他案件且合併性侵害 | AN32: 再犯其他非性侵害案件 | AO32: 合計(F) | AP32: 無須處遇個案 | AQ32: 完成處遇人數 | AR32: 未完成處遇已結案人數 按結案原因分 | AX32: 轉入強制治療人數 | BA32: 應行政裁罰個案人數(人) | BB32: 申請行政裁罰個案人次(人次) | BC32: 申請行政裁罰者 按結果分(人次) | BF32: 應移送個案人數(人) | BG32: 聲請移送個案人次(人次) | BH32: 聲請移送者按階段分(人次) | BK32: 移送地檢署者按結果分(人次) | BO32: 少年性侵害行為人個案數(a) | BP32: 無須處遇人數(b) | BQ32: 完成處遇人數(c) | BR32: 尚在接受處遇人數(d) | BS32: 本期暫停處遇人數按暫停原因分 | BY32: 本年截至本期累計未完成處遇已結案人數按結案原因分
AR33: 計 | AS33: 因再犯性侵害罪入獄 | AT33: 戶籍移轉外縣市 | AU33: 死亡 | AV33: 長期入住機構 | AW33: 其他 | AX33: 計 | AY33: 依性侵害犯罪防治法第36條及刑法第91之1條規定 | AZ33: 依性侵害犯罪防治法第37條及第38條規定 | BC33: 調查或簽辦中 | BD33: 駁回或 不罰 | BE33: 裁罰確定 | BH33: 移送家防中心/警察局/其他機關 | BI33: 移送地檢署 | BJ33: 移送法院 | BK33: 偵查中 | BL33: 駁回或 不起訴 | BM33: 緩起訴 | BN33: 起訴 | BS33: 合計(e) | BT33: 傷殘 住院 | BU33: 出國 | BV33: 服兵役 | BW33: 因他案入感化教育處所或監獄 | BX33: 其他 | BY33: 合計(f) | BZ33: 保護處分期滿且未依規定接受處遇，檢還少年法院(庭) | CA33: 保護處分期限未滿且未依規定接受處遇，檢還少年法院(庭) | CB33: 再犯性侵入感化教育處所或監獄 | CC33: 戶籍移轉外縣市 | CD33: 死亡 | CE33: 長期入住機構 | CF33: 其他
A34: 計 | C34: 6780 | D34: 2186 | E34: 129 | F34: 1193 | G34: 2207 | H34: 2 | I34: 0 | J34: 41 | K34: 374 | L34: 586 | M34: 40 | N34: 14 | O34: 8 | P34: 4439 | Q34: 243 | R34: 932 | S34: 2494 | T34: 664 | U34: 106 | V34: 4439 | W34: 872 | X34: 750 | Y34: 470 | Z34: 447 | AA34: 827 | AB34: 388 | AC34: 485 | AD34: 200 | AE34: 552 | AF34: 23 | AG34: 26 | AH34: 7 | AI34: 422 | AJ34: 74 | AK34: 240 | AL34: 45 | AM34: 1 | AN34: 194 | AO34: 1789 | AP34: 20 | AQ34: 1396 | AR34: 352 | AS34: 42 | AT34: 141 | AU34: 57 | AV34: 11 | AW34: 101 | AX34: 21 | AY34: 6 | AZ34: 12 | BA34: 978 | BB34: 1171 | BC34: 156 | BD34: 115 | BE34: 900 | BF34: 835 | BG34: 1108 | BH34: 137 | BI34: 720 | BJ34: 251 | BK34: 613 | BL34: 100 | BM34: 7 | BN34: 251 | BO34: 1095 | BP34: 15 | BQ34: 276 | BR34: 617 | BS34: 79 | BT34: 1 | BU34: 4 | BV34: 14 | BW34: 59 | BX34: 1 | BY34: 108 | BZ34: 34 | CA34: 26 | CB34: 3 | CC34: 17 | CD34: 1 | CE34: 1 | CF34: 26
A35: 男 | C35: 6725 | D35: 2178 | E35: 127 | F35: 1181 | G35: 2186 | H35: 2 | I35: 0 | J35: 41 | K35: 368 | L35: 580 | M35: 40 | N35: 14 | O35: 8 | P35: 4403 | Q35: 241 | R35: 924 | S35: 2471 | T35: 661 | U35: 106 | V35: 4403 | W35: 861 | X35: 747 | Y35: 462 | Z35: 443 | AA35: 821 | AB35: 386 | AC35: 484 | AD35: 199 | AE35: 551 | AF35: 23 | AG35: 26 | AH35: 7 | AI35: 421 | AJ35: 74 | AK35: 239 | AL35: 45 | AM35: 1 | AN35: 193 | AO35: 1771 | AP35: 20 | AQ35: 1382 | AR35: 348 | AS35: 42 | AT35: 139 | AU35: 56 | AV35: 11 | AW35: 100 | AX35: 21 | AY35: 6 | AZ35: 12 | BA35: 969 | BB35: 1162 | BC35: 149 | BD35: 115 | BE35: 898 | BF35: 827 | BG35: 1100 | BH35: 132 | BI35: 719 | BJ35: 249 | BK35: 613 | BL35: 99 | BM35: 7 | BN35: 249 | BO35: 1049 | BP35: 11 | BQ35: 260 | BR35: 594 | BS35: 78 | BT35: 1 | BU35: 4 | BV35: 14 | BW35: 58 | BX35: 1 | BY35: 106 | BZ35: 34 | CA35: 25 | CB35: 3 | CC35: 17 | CD35: 1 | CE35: 1 | CF35: 25
A36: 女 | C36: 55 | D36: 8 | E36: 2 | F36: 12 | G36: 21 | H36: 0 | I36: 0 | J36: 0 | K36: 6 | L36: 6 | M36: 0 | N36: 0 | O36: 0 | P36: 36 | Q36: 2 | R36: 8 | S36: 23 | T36: 3 | U36: 0 | V36: 36 | W36: 11 | X36: 3 | Y36: 8 | Z36: 4 | AA36: 6 | AB36: 2 | AC36: 1 | AD36: 1 | AE36: 1 | AF36: 0 | AG36: 0 | AH36: 0 | AI36: 1 | AJ36: 0 | AK36: 1 | AL36: 0 | AM36: 0 | AN36: 1 | AO36: 18 | AP36: 0 | AQ36: 14 | AR36: 4 | AS36: 0 | AT36: 2 | AU36: 1 | AV36: 0 | AW36: 1 | AX36: 0 | AY36: 0 | AZ36: 0 | BA36: 9 | BB36: 9 | BC36: 7 | BD36: 0 | BE36: 2 | BF36: 8 | BG36: 8 | BH36: 5 | BI36: 1 | BJ36: 2 | BK36: 0 | BL36: 1 | BM36: 0 | BN36: 2 | BO36: 46 | BP36: 4 | BQ36: 16 | BR36: 23 | BS36: 1 | BT36: 0 | BU36: 0 | BV36: 0 | BW36: 1 | BX36: 0 | BY36: 2 | BZ36: 0 | CA36: 1 | CB36: 0 | CC36: 0 | CD36: 0 | CE36: 0 | CF36: 1
A38: 件數與罰鍰金額 | C38: 4.性侵害事件裁罰按裁罰事由統計
C39: 總計 | D39: 一、加害人裁罰 | K39: 二、媒體不當報導裁罰 | N39: 三、任何人揭露被害人身分裁罰
D40: 合計 | E40: 無正當理由不到場或拒絕接受評估、身心治療或輔導教育或接受之時數不足者 | H40: 未依規定定期辦理登記 或報到者 | K40: 報導或記載被害人姓名或其他足資識別被害人身分資訊 | N40: 任何人以媒體或其他方法公開 或揭露被害人身分資訊
A41: 件數 (件) | C41: 1086 | D41: 1067 | E41: 926 | H41: 141 | K41: 17 | N41: 2
A42: 罰鍰金額 (元) | C42: 14470000 | D42: 14120000 | E42: 12410000 | H42: 1710000 | K42: 280000 | N42: 70000
A43: 資料來源：直轄市及縣(市)政府。
S47: 1003 | T47: 925 | U47: 361 | V47: 372 | W47: 6664 | X47: 2936 | Y47: 2823 | Z47: 905 | AA47: 317 | AB47: 232 | AC47: 0 | AD47: 206 | AE47: 48 | AF47: 4 | AG47: 154
S48: 991 | T48: 921 | U48: 360 | V48: 372 | W48: 6630 | X48: 2920 | Y48: 2808 | Z48: 902 | AA48: 317 | AB48: 231 | AC48: 0 | AD48: 206 | AE48: 48 | AF48: 4 | AG48: 154
S49: 12 | T49: 4 | U49: 1 | V49: 0 | W49: 34 | X49: 16 | Y49: 15 | Z49: 3 | AA49: 0 | AB49: 1 | AC49: 0 | AD49: 0 | AE49: 0 | AF49: 0 | AG49: 0

Sheet 113
A1: 5.2-03 推展性侵害防治業務
A2: 中華民國113年
A4: 被害人國籍身分 與性別 | C4: 1.性侵害被害人保護扶助人次（人次）
C5: 合計 | D5: 諮詢協談 | E5: 庇護安置 | F5: 陪同報案、偵詢（訊） | G5: 陪同出庭 | H5: 驗傷診療 | I5: 法律扶助 | J5: 經濟扶助 | K5: 心理諮商與輔導 | L5: 就業服務 | M5: 就學或轉學服務 | N5: 通譯服務 | O5: 轉介 戒毒中心 | P5: 其他扶助
A6: 合計 | B6: 計 | C6: 317199 | D6: 225218 | E6: 1318 | F6: 6264 | G6: 4665 | H6: 1200 | I6: 23257 | J6: 6317 | K6: 19986 | L6: 1615 | M6: 9414 | N6: 81 | O6: 18 | P6: 17846
B7: 男 | C7: 40797 | D7: 28472 | E7: 97 | F7: 820 | G7: 529 | H7: 69 | I7: 3505 | J7: 651 | K7: 2127 | L7: 162 | M7: 2176 | N7: 8 | O7: 1 | P7: 2180
B8: 女 | C8: 276402 | D8: 196746 | E8: 1221 | F8: 5444 | G8: 4136 | H8: 1131 | I8: 19752 | J8: 5666 | K8: 17859 | L8: 1453 | M8: 7238 | N8: 73 | O8: 17 | P8: 15666
A9: 本國籍 非原住民 | B9: 男 | C9: 35593 | D9: 25006 | E9: 73 | F9: 710 | G9: 448 | H9: 44 | I9: 2952 | J9: 603 | K9: 1906 | L9: 132 | M9: 1766 | N9: 6 | O9: 1 | P9: 1946
B10: 女 | C10: 244424 | D10: 173229 | E10: 1052 | F10: 4831 | G10: 3635 | H10: 971 | I10: 17668 | J10: 5074 | K10: 16047 | L10: 1332 | M10: 6348 | N10: 20 | O10: 8 | P10: 14209
A11: 本國籍 原住民 | B11: 男 | C11: 3711 | D11: 2620 | E11: 24 | F11: 92 | G11: 53 | H11: 20 | I11: 276 | J11: 46 | K11: 172 | L11: 24 | M11: 222 | N11: 0 | O11: 0 | P11: 162
B12: 女 | C12: 22412 | D12: 16431 | E12: 162 | F12: 427 | G12: 351 | H12: 120 | I12: 1293 | J12: 502 | K12: 1168 | L12: 86 | M12: 738 | N12: 1 | O12: 9 | P12: 1124
A13: 大陸籍 （含港澳） | B13: 男 | C13: 55 | D13: 47 | E13: 0 | F13: 0 | G13: 2 | H13: 0 | I13: 2 | J13: 0 | K13: 2 | L13: 0 | M13: 0 | N13: 0 | O13: 0 | P13: 2
B14: 女 | C14: 560 | D14: 409 | E14: 0 | F14: 10 | G14: 5 | H14: 3 | I14: 48 | J14: 17 | K14: 36 | L14: 2 | M14: 2 | N14: 0 | O14: 0 | P14: 28
A15: 外國籍 | B15: 男 | C15: 237 | D15: 169 | E15: 0 | F15: 3 | G15: 2 | H15: 1 | I15: 35 | J15: 2 | K15: 6 | L15: 0 | M15: 3 | N15: 2 | O15: 0 | P15: 14
B16: 女 | C16: 2976 | D16: 2285 | E16: 3 | F16: 64 | G16: 40 | H16: 22 | I16: 225 | J16: 50 | K16: 73 | L16: 15 | M16: 25 | N16: 45 | O16: 0 | P16: 129
A17: 其他 | B17: 男 | C17: 1201 | D17: 630 | E17: 0 | F17: 15 | G17: 24 | H17: 4 | I17: 240 | J17: 0 | K17: 41 | L17: 6 | M17: 185 | N17: 0 | O17: 0 | P17: 56
B18: 女 | C18: 6030 | D18: 4392 | E18: 4 | F18: 112 | G18: 105 | H18: 15 | I18: 518 | J18: 23 | K18: 535 | L18: 18 | M18: 125 | N18: 7 | O18: 0 | P18: 176
A20: 被害人國籍身分 | C20: 2.性侵害被害人保護扶助金額 (元)
C21: 合計 | D21: 緊急 生活扶助 | E21: 生活扶助 | F21: 急難救助 | G21: 租金補助 | H21: 醫療補助 | I21: 庇護安置 補助 | J21: 心理復健 補助 | K21: 律師費用 補助 | L21: 訴訟費用 補助 | M21: 民間慈善團體資助 | N21: 其他補助
A22: 合計 | C22: 202057990 | D22: 10432466 | E22: 49721885 | F22: 328218 | G22: 1266200 | H22: 6153195 | I22: 58256714 | J22: 27175432 | K22: 39911701 | L22: 2462716 | M22: 2130135 | N22: 4219328
A23: 本國籍非原住民 | C23: 181206867 | D23: 9295409 | E23: 44476031 | F23: 310124 | G23: 1054381 | H23: 5431355 | I23: 50173182 | J23: 24857938 | K23: 37212696 | L23: 2438143 | M23: 1957929 | N23: 3999679
A24: 本國籍原住民 | C24: 17742555 | D24: 917270 | E24: 4080341 | F24: 13941 | G24: 185655 | H24: 502841 | I24: 7790232 | J24: 1784058 | K24: 2121583 | L24: 19759 | M24: 124340 | N24: 202535
A25: 大陸籍（含港澳） | C25: 399617 | D25: 157192 | E25: 100200 | F25: 0 | G25: 0 | H25: 58696 | I25: 1500 | J25: 46029 | K25: 0 | L25: 0 | M25: 36000 | N25: 0
A26: 外國籍 | C26: 790081 | D26: 43027 | E26: 89053 | F26: 211 | G26: 1067 | H26: 133570 | I26: 19297 | J26: 48900 | K26: 448594 | L26: 281 | M26: 626 | N26: 5455
A27: 其他 | C27: 1918870 | D27: 19568 | E27: 976260 | F27: 3942 | G27: 25097 | H27: 26733 | I27: 272503 | J27: 438507 | K27: 128828 | L27: 4533 | M27: 11240 | N27: 11659
A29: 加害人性別 | C29: 3.性侵害加害人處遇 | P29: 3.性侵害加害人處遇 | AE29: 3.性侵害加害人處遇 | BF29: 3.性侵害加害人處遇 | BO29: 3.性侵害加害人處遇
C30: (1)加害人個案人數按處分類別分 | P30: (2)本期加害人個案尚接受身心治療或輔導教育者按再犯等級分(人) | V30: (3)本期加害人個案尚接受身心治療或輔導教育者按處遇期程分(人) | AE30: (4)本期加害人個案暫停處遇人數按暫停原因分(人) | AK30: (5)處遇期間再犯案件分(人) | AO30: (6)加害人個案已結案人數按結案狀態分(人) | BA30: (7)加害人個案行政裁罰情形 | BF30: (8)加害人個案移送情形 | BO30: (9)依少年事件處理法裁定保護處分確定而法院裁定實施身心治療或輔導教育處遇狀態分(人)
C31: 犯性侵害罪者 | L31: 犯性騷擾防治法第25條判決有罪確定者 | M31: 犯兒童及少年性剝削防制條例第31條判決有罪確定者 | N31: 犯刑法第319條之2第1項判決有罪確定者 | O31: 依性侵害犯罪防治法第31條第4項受身心治療、輔導或教育者
C32: 合計(A) | D32: 有期徒刑、保安處分或性侵害犯罪防治法第37條、第38條所定之強制治療執行完畢 | E32: 有期徒刑經易服社會勞動 | F32: 假釋 | G32: 緩刑 | H32: 免刑 | I32: 赦免 | J32: 經法院依性侵害犯罪防治法第38條第1項但書及第6項規定或刑法第91條之1第2項但書規定裁定停止強制治療 | K32: 經緩起訴處分確定者 | P32: 合計(B) | Q32: 評估中 | R32: 低再犯 | S32: 中低再犯 | T32: 中高再犯 | U32: 高再犯 | V32: 合計(C) | W32: 未滿3個月 | X32: 3個月以上未滿6個月 | Y32: 6個月以上未滿9個月 | Z32: 9個月以上未滿1年 | AA32: 1年以上未滿1年6個月 | AB32: 1年6個月以上未滿2年 | AC32: 2年以上未滿3年 | AD32: 3年以上至4年 | AE32: 合計(D) | AF32: 傷殘住院 | AG32: 出國 | AH32: 服兵役 | AI32: 因他案入監服刑 | AJ32: 其他 | AK32: 合計(E) | AL32: 再犯性侵害案件 | AM32: 再犯其他案件且合併性侵害 | AN32: 再犯其他非性侵害案件 | AO32: 合計(F) | AP32: 無須處遇個案 | AQ32: 完成處遇人數 | AR32: 未完成處遇已結案人數 按結案原因分 | AX32: 轉入強制治療人數 | BA32: 應行政裁罰個案人數(人) | BB32: 申請行政裁罰個案人次(人次) | BC32: 申請行政裁罰者 按結果分(人次) | BF32: 應移送個案人數(人) | BG32: 聲請移送個案人次(人次) | BH32: 聲請移送者按階段分(人次) | BK32: 移送地檢署者按結果分(人次) | BO32: 少年性侵害行為人個案數(a) | BP32: 無須處遇人數(b) | BQ32: 完成處遇人數(c) | BR32: 尚在接受處遇人數(d) | BS32: 本期暫停處遇人數按暫停原因分 | BY32: 本年截至本期累計未完成處遇已結案人數按結案原因分
AR33: 計 | AS33: 因再犯性侵害罪入獄 | AT33: 戶籍移轉外縣市 | AU33: 死亡 | AV33: 長期入住機構 | AW33: 其他 | AX33: 計 | AY33: 依性侵害犯罪防治法第36條及刑法第91之1條規定 | AZ33: 依性侵害犯罪防治法第37條及第38條規定 | BC33: 調查或簽辦中 | BD33: 駁回或 不罰 | BE33: 裁罰確定 | BH33: 移送家防中心/警察局/其他機關 | BI33: 移送地檢署 | BJ33: 移送法院 | BK33: 偵查中 | BL33: 駁回或 不起訴 | BM33: 緩起訴 | BN33: 起訴 | BS33: 合計(e) | BT33: 傷殘 住院 | BU33: 出國 | BV33: 服兵役 | BW33: 因他案入感化教育處所或監獄 | BX33: 其他 | BY33: 合計(f) | BZ33: 保護處分期滿且未依規定接受處遇，檢還少年法院(庭) | CA33: 保護處分期限未滿且未依規定接受處遇，檢還少年法院(庭) | CB33: 再犯性侵入感化教育處所或監獄 | CC33: 戶籍移轉外縣市 | CD33: 死亡 | CE33: 長期入住機構 | CF33: 其他
A34: 計 | C34: 6687 | D34: 2091 | E34: 109 | F34: 1378 | G34: 2136 | H34: 1 | I34: 0 | J34: 36 | K34: 402 | L34: 501 | M34: 31 | N34: 0 | O34: 2 | P34: 4351 | Q34: 267 | R34: 1005 | S34: 2422 | T34: 569 | U34: 88 | V34: 4351 | W34: 801 | X34: 797 | Y34: 390 | Z34: 497 | AA34: 805 | AB34: 398 | AC34: 447 | AD34: 216 | AE34: 588 | AF34: 25 | AG34: 26 | AH34: 3 | AI34: 442 | AJ34: 92 | AK34: 214 | AL34: 30 | AM34: 3 | AN34: 181 | AO34: 1748 | AP34: 20 | AQ34: 1402 | AR34: 300 | AS34: 33 | AT34: 137 | AU34: 50 | AV34: 5 | AW34: 75 | AX34: 26 | AY34: 15 | AZ34: 7 | BA34: 790 | BB34: 984 | BC34: 105 | BD34: 76 | BE34: 803 | BF34: 744 | BG34: 1122 | BH34: 134 | BI34: 655 | BJ34: 333 | BK34: 516 | BL34: 130 | BM34: 9 | BN34: 333 | BO34: 1177 | BP34: 12 | BQ34: 314 | BR34: 659 | BS34: 78 | BT34: 1 | BU34: 2 | BV34: 6 | BW34: 63 | BX34: 6 | BY34: 114 | BZ34: 52 | CA34: 20 | CB34: 3 | CC34: 21 | CD34: 1 | CE34: 0 | CF34: 17
A35: 男 | C35: 6639 | D35: 2083 | E35: 108 | F35: 1369 | G35: 2119 | H35: 1 | I35: 0 | J35: 36 | K35: 393 | L35: 497 | M35: 31 | N35: 0 | O35: 2 | P35: 4319 | Q35: 264 | R35: 998 | S35: 2404 | T35: 565 | U35: 88 | V35: 4319 | W35: 789 | X35: 792 | Y35: 384 | Z35: 494 | AA35: 803 | AB35: 396 | AC35: 446 | AD35: 215 | AE35: 587 | AF35: 25 | AG35: 26 | AH35: 3 | AI35: 441 | AJ35: 92 | AK35: 214 | AL35: 30 | AM35: 3 | AN35: 181 | AO35: 1733 | AP35: 19 | AQ35: 1392 | AR35: 296 | AS35: 33 | AT35: 133 | AU35: 50 | AV35: 5 | AW35: 75 | AX35: 26 | AY35: 15 | AZ35: 7 | BA35: 786 | BB35: 980 | BC35: 102 | BD35: 76 | BE35: 802 | BF35: 741 | BG35: 1115 | BH35: 131 | BI35: 654 | BJ35: 330 | BK35: 515 | BL35: 130 | BM35: 9 | BN35: 330 | BO35: 1126 | BP35: 11 | BQ35: 289 | BR35: 636 | BS35: 78 | BT35: 1 | BU35: 2 | BV35: 6 | BW35: 63 | BX35: 6 | BY35: 112 | BZ35: 52 | CA35: 20 | CB35: 3 | CC35: 21 | CD35: 1 | CE35: 0 | CF35: 15
A36: 女 | C36: 48 | D36: 8 | E36: 1 | F36: 9 | G36: 17 | H36: 0 | I36: 0 | J36: 0 | K36: 9 | L36: 4 | M36: 0 | N36: 0 | O36: 0 | P36: 32 | Q36: 3 | R36: 7 | S36: 18 | T36: 4 | U36: 0 | V36: 32 | W36: 12 | X36: 5 | Y36: 6 | Z36: 3 | AA36: 2 | AB36: 2 | AC36: 1 | AD36: 1 | AE36: 1 | AF36: 0 | AG36: 0 | AH36: 0 | AI36: 1 | AJ36: 0 | AK36: 0 | AL36: 0 | AM36: 0 | AN36: 0 | AO36: 15 | AP36: 1 | AQ36: 10 | AR36: 4 | AS36: 0 | AT36: 4 | AU36: 0 | AV36: 0 | AW36: 0 | AX36: 0 | AY36: 0 | AZ36: 0 | BA36: 4 | BB36: 4 | BC36: 3 | BD36: 0 | BE36: 1 | BF36: 3 | BG36: 7 | BH36: 3 | BI36: 1 | BJ36: 3 | BK36: 1 | BL36: 0 | BM36: 0 | BN36: 3 | BO36: 51 | BP36: 1 | BQ36: 25 | BR36: 23 | BS36: 0 | BT36: 0 | BU36: 0 | BV36: 0 | BW36: 0 | BX36: 0 | BY36: 2 | BZ36: 0 | CA36: 0 | CB36: 0 | CC36: 0 | CD36: 0 | CE36: 0 | CF36: 2
A38: 件數與罰鍰金額 | C38: 4.性侵害事件裁罰按裁罰事由統計
C39: 總計 | D39: 一、加害人裁罰 | K39: 二、媒體不當報導裁罰 | N39: 三、任何人揭露被害人身分裁罰
D40: 合計 | E40: 無正當理由不到場或拒絕接受評估、身心治療或輔導教育或接受之時數不足者 | H40: 未依規定定期辦理登記 或報到者 | K40: 報導或記載被害人姓名或其他足資識別被害人身分資訊 | N40: 任何人以媒體或其他方法公開 或揭露被害人身分資訊
A41: 件數 (件) | C41: 940 | D41: 939 | E41: 801 | H41: 138 | K41: 0 | N41: 1
A42: 罰鍰金額 (元) | C42: 12560000 | D42: 12540000 | E42: 10630000 | H42: 1910000 | K42: 0 | N42: 20000
A43: 資料來源：直轄市及縣(市)政府。
A46: 更新日期：2025/11/18
S47: 1003 | T47: 925 | U47: 361 | V47: 372 | W47: 6664 | X47: 2936 | Y47: 2823 | Z47: 905 | AA47: 317 | AB47: 232 | AC47: 0 | AD47: 206 | AE47: 48 | AF47: 4 | AG47: 154
S48: 991 | T48: 921 | U48: 360 | V48: 372 | W48: 6630 | X48: 2920 | Y48: 2808 | Z48: 902 | AA48: 317 | AB48: 231 | AC48: 0 | AD48: 206 | AE48: 48 | AF48: 4 | AG48: 154
S49: 12 | T49: 4 | U49: 1 | V49: 0 | W49: 34 | X49: 16 | Y49: 15 | Z49: 3 | AA49: 0 | AB49: 1 | AC49: 0 | AD49: 0 | AE49: 0 | AF49: 0 | AG49: 0

Sheet 112
A1: 5.2-03 推展性侵害防治業務
A2: 中華民國112年
A4: 被害人國籍身分 與性別 | C4: 1.性侵害被害人保護扶助人次（人次）
C5: 合計 | D5: 諮詢協談 | E5: 庇護安置 | F5: 陪同報案、偵詢（訊） | G5: 陪同出庭 | H5: 驗傷診療 | I5: 法律扶助 | J5: 經濟扶助 | K5: 心理諮商與輔導 | L5: 就業服務 | M5: 就學或轉學服務 | N5: 通譯服務 | O5: 轉介 戒毒中心 | P5: 其他扶助
A6: 合計 | B6: 計 | C6: 310082 | D6: 224993 | E6: 1745 | F6: 7063 | G6: 5094 | H6: 1611 | I6: 19650 | J6: 5274 | K6: 14571 | L6: 1724 | M6: 10714 | N6: 252 | O6: 4 | P6: 17387
B7: 男 | C7: 38143 | D7: 28121 | E7: 169 | F7: 866 | G7: 576 | H7: 71 | I7: 2388 | J7: 431 | K7: 1365 | L7: 206 | M7: 2163 | N7: 41 | O7: 0 | P7: 1746
B8: 女 | C8: 271939 | D8: 196872 | E8: 1576 | F8: 6197 | G8: 4518 | H8: 1540 | I8: 17262 | J8: 4843 | K8: 13206 | L8: 1518 | M8: 8551 | N8: 211 | O8: 4 | P8: 15641
A9: 本國籍 非原住民 | B9: 男 | C9: 33614 | D9: 24922 | E9: 112 | F9: 764 | G9: 495 | H9: 58 | I9: 2095 | J9: 380 | K9: 1195 | L9: 192 | M9: 1830 | N9: 40 | O9: 0 | P9: 1531
B10: 女 | C10: 238468 | D10: 172036 | E10: 1343 | F10: 5424 | G10: 3977 | H10: 1332 | I10: 15513 | J10: 4137 | K10: 11809 | L10: 1387 | M10: 7389 | N10: 171 | O10: 4 | P10: 13946
A11: 本國籍 原住民 | B11: 男 | C11: 3469 | D11: 2515 | E11: 57 | F11: 80 | G11: 68 | H11: 13 | I11: 161 | J11: 46 | K11: 132 | L11: 13 | M11: 196 | N11: 0 | O11: 0 | P11: 188
B12: 女 | C12: 25312 | D12: 18860 | E12: 231 | F12: 588 | G12: 403 | H12: 182 | I12: 1192 | J12: 605 | K12: 988 | L12: 107 | M12: 886 | N12: 7 | O12: 0 | P12: 1263
A13: 大陸籍 （含港澳） | B13: 男 | C13: 35 | D13: 21 | E13: 0 | F13: 7 | G13: 0 | H13: 0 | I13: 1 | J13: 0 | K13: 0 | L13: 0 | M13: 5 | N13: 0 | O13: 0 | P13: 1
B14: 女 | C14: 503 | D14: 377 | E14: 0 | F14: 11 | G14: 7 | H14: 3 | I14: 29 | J14: 7 | K14: 22 | L14: 2 | M14: 13 | N14: 0 | O14: 0 | P14: 32
A15: 外國籍 | B15: 男 | C15: 158 | D15: 122 | E15: 0 | F15: 0 | G15: 2 | H15: 0 | I15: 12 | J15: 2 | K15: 11 | L15: 1 | M15: 3 | N15: 1 | O15: 0 | P15: 4
B16: 女 | C16: 2846 | D16: 2151 | E16: 0 | F16: 67 | G16: 55 | H16: 9 | I16: 251 | J16: 56 | K16: 105 | L16: 14 | M16: 20 | N16: 33 | O16: 0 | P16: 85
A17: 其他 | B17: 男 | C17: 867 | D17: 541 | E17: 0 | F17: 15 | G17: 11 | H17: 0 | I17: 119 | J17: 3 | K17: 27 | L17: 0 | M17: 129 | N17: 0 | O17: 0 | P17: 22
B18: 女 | C18: 4810 | D18: 3448 | E18: 2 | F18: 107 | G18: 76 | H18: 14 | I18: 277 | J18: 38 | K18: 282 | L18: 8 | M18: 243 | N18: 0 | O18: 0 | P18: 315
A20: 被害人國籍身分 | C20: 2.性侵害被害人保護扶助金額 (元)
C21: 合計 | D21: 緊急 生活扶助 | E21: 生活扶助 | F21: 急難救助 | G21: 租金補助 | H21: 醫療補助 | I21: 庇護安置 補助 | J21: 心理復健 補助 | K21: 律師費用 補助 | L21: 訴訟費用 補助 | M21: 民間慈善團體資助 | N21: 其他補助
A22: 合計 | C22: 173152060 | D22: 9277448 | E22: 32701175 | F22: 310648 | G22: 1231955 | H22: 7014374 | I22: 66609672 | J22: 17967317 | K22: 28789971 | L22: 3354838 | M22: 1119530 | N22: 4775132
A23: 本國籍非原住民 | C23: 149904030 | D23: 8160707 | E23: 28395647 | F23: 273279 | G23: 1029923 | H23: 6344692 | I23: 56934180 | J23: 16271344 | K23: 24229316 | L23: 3204247 | M23: 899898 | N23: 4160797
A24: 本國籍原住民 | C24: 20217578 | D24: 890957 | E24: 3056685 | F24: 28812 | G24: 152747 | H24: 479391 | I24: 9547737 | J24: 1307023 | K24: 3890284 | L24: 71933 | M24: 198368 | N24: 593641
A25: 大陸籍（含港澳） | C25: 176095 | D25: 1251 | E25: 41309 | F25: 3190 | G25: 1490 | H25: 30285 | I25: 0 | J25: 58711 | K25: 39559 | L25: 245 | M25: 55 | N25: 0
A26: 外國籍 | C26: 856191 | D26: 168307 | E26: 120401 | F26: 533 | G26: 4814 | H26: 88776 | I26: 0 | J26: 177641 | K26: 215571 | L26: 50853 | M26: 20116 | N26: 9179
A27: 其他 | C27: 1998166 | D27: 56226 | E27: 1087133 | F27: 4834 | G27: 42981 | H27: 71230 | I27: 127755 | J27: 152598 | K27: 415241 | L27: 27560 | M27: 1093 | N27: 11515
A29: 加害人性別 | C29: 3.性侵害加害人處遇 | S29: 3.性侵害加害人處遇 | AL29: 3.性侵害加害人處遇 | BD29: 3.性侵害加害人處遇
C30: (1)加害人個案人數按處分類別分 | N30: (2)本期加害人個案尚接受身心治療或輔導教育者按再犯等級分(人) | T30: (3)本期加害人個案尚接受身心治療或輔導教育者按處遇期程分(人) | AC30: (4)本期加害人個案暫停處遇人數按暫停原因分(人) | AI30: (5)處遇期間再犯案件分(人) | AM30: (6)加害人個案已結案人數按結案狀態分(人) | AY30: (7)加害人個案行政裁罰情形 | BD30: (8)加害人個案移送情形 | BM30: (9)依少年事件處理法裁定保護處分確定而法院裁定實施身心治療或輔導教育處遇狀態分(人)
C31: 合計(A) | D31: 有期徒刑或保安處分執行完畢 | E31: 有期徒刑經易服社會勞動 | F31: 假釋 | G31: 緩刑 | H31: 免刑 | I31: 赦免 | J31: 經法院、軍事法院依第22條之1第3項裁定停止強制治療 | K31: 經緩起訴處分確定者 | L31: 犯性騷擾防治法第25條判決有罪確定者 | M31: 犯兒少性剝削防制條例第31條判決有罪確定者 | N31: 合計(B) | O31: 評估中 | P31: 低再犯 | Q31: 中低再犯 | R31: 中高再犯 | S31: 高再犯 | T31: 合計(C) | U31: 未滿3個月 | V31: 3個月以上未滿6個月 | W31: 6個月以上未滿9個月 | X31: 9個月以上未滿1年 | Y31: 1年以上未滿1年6個月 | Z31: 1年6個月以上未滿2年 | AA31: 2年以上未滿3年 | AB31: 3年以上至4年 | AC31: 合計(D) | AD31: 傷殘住院 | AE31: 出國 | AF31: 服兵役 | AG31: 因他案入監服刑 | AH31: 其他 | AI31: 合計(E) | AJ31: 再犯性侵害案件 | AK31: 再犯其他案件且合併性侵害 | AL31: 再犯其他非性侵害案件 | AM31: 合計(F) | AN31: 無須處遇個案 | AO31: 完成處遇人數 | AP31: 未完成處遇已結案人數 按結案原因分 | AV31: 轉入強制治療人數 | AY31: 應行政裁罰個案人數(人) | AZ31: 申請行政裁罰個案人次(人次) | BA31: 申請行政裁罰者 按結果分(人次) | BD31: 應移送個案人數(人) | BE31: 聲請移送個案人次(人次) | BF31: 聲請移送者按階段分(人次) | BI31: 移送地檢署者按結果分(人次) | BM31: 少年性侵害行為人個案數(a) | BN31: 無須處遇人數(b) | BO31: 完成處遇人數(c) | BP31: 本期尚在接受處遇人數(d) | BQ31: 本期暫停處遇人數按暫停原因分 | BW31: 本年截至本期累計未完成處遇已結案人數按結案原因分
AP32: 計 | AQ32: 因再犯性侵害罪入獄 | AR32: 戶籍移轉外縣市 | AS32: 死亡 | AT32: 長期入住機構 | AU32: 其他 | AV32: 計 | AW32: 依性侵害犯罪防治法第22條規定 | AX32: 依性侵害犯罪防治法第22條之1規定 | BA32: 調查或簽辦中 | BB32: 駁回或 不罰 | BC32: 裁罰確定 | BF32: 移送家防中心/警察局/其他機關 | BG32: 移送地檢署 | BH32: 移送法院 | BI32: 偵查中 | BJ32: 駁回或 不起訴 | BK32: 緩起訴 | BL32: 起訴 | BQ32: 合計(e) | BR32: 傷殘 住院 | BS32: 出國 | BT32: 服兵役 | BU32: 因他案入感化教育處所或監獄 | BV32: 其他 | BW32: 合計(f) | BX32: 保護處分期滿且未依規定接受處遇，檢還少年法院(庭) | BY32: 保護處分期限未滿且未依規定接受處遇，檢還少年法院(庭) | BZ32: 再犯性侵入感化教育處所或監獄 | CA32: 戶籍移轉外縣市 | CB32: 死亡 | CC32: 長期入住機構 | CD32: 其他
A33: 計 | C33: 6629 | D33: 2067 | E33: 119 | F33: 1619 | G33: 1991 | H33: 4 | I33: 0 | J33: 34 | K33: 365 | L33: 398 | M33: 32 | N33: 4197 | O33: 292 | P33: 1046 | Q33: 2301 | R33: 493 | S33: 65 | T33: 4197 | U33: 693 | V33: 629 | W33: 472 | X33: 481 | Y33: 637 | Z33: 538 | AA33: 499 | AB33: 248 | AC33: 502 | AD33: 26 | AE33: 20 | AF33: 6 | AG33: 369 | AH33: 81 | AI33: 293 | AJ33: 36 | AK33: 5 | AL33: 252 | AM33: 1930 | AN33: 25 | AO33: 1536 | AP33: 353 | AQ33: 26 | AR33: 129 | AS33: 53 | AT33: 8 | AU33: 137 | AV33: 16 | AW33: 12 | AX33: 4 | AY33: 1408 | AZ33: 2259 | BA33: 1289 | BB33: 114 | BC33: 856 | BD33: 840 | BE33: 1032 | BF33: 145 | BG33: 611 | BH33: 276 | BI33: 496 | BJ33: 105 | BK33: 10 | BL33: 276 | BM33: 1206 | BN33: 20 | BO33: 297 | BP33: 694 | BQ33: 59 | BR33: 0 | BS33: 2 | BT33: 4 | BU33: 53 | BV33: 0 | BW33: 136 | BX33: 60 | BY33: 32 | BZ33: 7 | CA33: 19 | CB33: 2 | CC33: 0 | CD33: 16
A34: 男 | C34: 6584 | D34: 2062 | E34: 119 | F34: 1606 | G34: 1977 | H34: 1 | I34: 0 | J34: 34 | K34: 359 | L34: 394 | M34: 32 | N34: 4178 | O34: 289 | P34: 1043 | Q34: 2289 | R34: 492 | S34: 65 | T34: 4178 | U34: 685 | V34: 627 | W34: 472 | X34: 479 | Y34: 633 | Z34: 536 | AA34: 498 | AB34: 248 | AC34: 501 | AD34: 26 | AE34: 20 | AF34: 6 | AG34: 368 | AH34: 81 | AI34: 292 | AJ34: 36 | AK34: 5 | AL34: 251 | AM34: 1905 | AN34: 24 | AO34: 1513 | AP34: 352 | AQ34: 26 | AR34: 128 | AS34: 53 | AT34: 8 | AU34: 137 | AV34: 16 | AW34: 12 | AX34: 4 | AY34: 1403 | AZ34: 2252 | BA34: 1289 | BB34: 114 | BC34: 849 | BD34: 833 | BE34: 1025 | BF34: 143 | BG34: 606 | BH34: 276 | BI34: 491 | BJ34: 105 | BK34: 10 | BL34: 276 | BM34: 1144 | BN34: 20 | BO34: 267 | BP34: 669 | BQ34: 59 | BR34: 0 | BS34: 2 | BT34: 4 | BU34: 53 | BV34: 0 | BW34: 129 | BX34: 57 | BY34: 29 | BZ34: 7 | CA34: 18 | CB34: 2 | CC34: 0 | CD34: 16
A35: 女 | C35: 45 | D35: 5 | E35: 0 | F35: 13 | G35: 14 | H35: 3 | I35: 0 | J35: 0 | K35: 6 | L35: 4 | M35: 0 | N35: 19 | O35: 3 | P35: 3 | Q35: 12 | R35: 1 | S35: 0 | T35: 19 | U35: 8 | V35: 2 | W35: 0 | X35: 2 | Y35: 4 | Z35: 2 | AA35: 1 | AB35: 0 | AC35: 1 | AD35: 0 | AE35: 0 | AF35: 0 | AG35: 1 | AH35: 0 | AI35: 1 | AJ35: 0 | AK35: 0 | AL35: 1 | AM35: 25 | AN35: 1 | AO35: 23 | AP35: 1 | AQ35: 0 | AR35: 1 | AS35: 0 | AT35: 0 | AU35: 0 | AV35: 0 | AW35: 0 | AX35: 0 | AY35: 5 | AZ35: 7 | BA35: 0 | BB35: 0 | BC35: 7 | BD35: 7 | BE35: 7 | BF35: 2 | BG35: 5 | BH35: 0 | BI35: 5 | BJ35: 0 | BK35: 0 | BL35: 0 | BM35: 62 | BN35: 0 | BO35: 30 | BP35: 25 | BQ35: 0 | BR35: 0 | BS35: 0 | BT35: 0 | BU35: 0 | BV35: 0 | BW35: 7 | BX35: 3 | BY35: 3 | BZ35: 0 | CA35: 1 | CB35: 0 | CC35: 0 | CD35: 0
A37: 件數與罰鍰金額 | C37: 4.性侵害事件裁罰按裁罰事由統計
C38: 總計 | D38: 一、加害人裁罰 | K38: 二、媒體不當報導裁罰 | N38: 三、任何人揭露被害人身分裁罰
D39: 合計 | E39: 無正當理由不到場或拒絕接受評估、身心治療或輔導教育或接受之時數不足者 | H39: 未依規定定期辦理登記 或報到者 | K39: 報導或記載被害人姓名或其他足資識別被害人身分資訊 | N39: 任何人以媒體或其他方法公開 或揭露被害人身分資訊
A40: 件數 (件) | C40: 975 | D40: 975 | E40: 880 | H40: 95 | K40: 0 | N40: 0
A41: 罰鍰金額 (元) | C41: 13760000 | D41: 13760000 | E41: 12200000 | H41: 1560000 | K41: 0 | N41: 0
A42: 資料來源：直轄市及縣(市)政府。
S46: 1003 | T46: 925 | U46: 361 | V46: 372 | W46: 6664 | X46: 2936 | Y46: 2823 | Z46: 905 | AA46: 317 | AB46: 232 | AC46: 0 | AD46: 206 | AE46: 48 | AF46: 4 | AG46: 154
S47: 991 | T47: 921 | U47: 360 | V47: 372 | W47: 6630 | X47: 2920 | Y47: 2808 | Z47: 902 | AA47: 317 | AB47: 231 | AC47: 0 | AD47: 206 | AE47: 48 | AF47: 4 | AG47: 154
S48: 12 | T48: 4 | U48: 1 | V48: 0 | W48: 34 | X48: 16 | Y48: 15 | Z48: 3 | AA48: 0 | AB48: 1 | AC48: 0 | AD48: 0 | AE48: 0 | AF48: 0 | AG48: 0

Sheet 111
A1: 5.2-03 推展性侵害防治業務
A2: 中華民國111年
A4: 被害人國籍身分 與性別 | C4: 1.性侵害被害人保護扶助人次（人次）
C5: 合計 | D5: 諮詢協談 | E5: 庇護安置 | F5: 陪同報案、偵詢（訊） | G5: 陪同出庭 | H5: 驗傷診療 | I5: 法律扶助 | J5: 經濟扶助 | K5: 心理諮商與輔導 | L5: 就業服務 | M5: 就學或轉學服務 | N5: 通譯服務 | O5: 轉介 戒毒中心 | P5: 其他扶助
A6: 合計 | B6: 計 | C6: 291299 | D6: 220447 | E6: 1595 | F6: 5560 | G6: 4733 | H6: 1599 | I6: 15589 | J6: 4823 | K6: 13057 | L6: 1367 | M6: 7545 | N6: 219 | O6: 20 | P6: 14745
B7: 男 | C7: 35796 | D7: 27340 | E7: 172 | F7: 642 | G7: 545 | H7: 71 | I7: 1786 | J7: 334 | K7: 1296 | L7: 278 | M7: 1653 | N7: 32 | O7: 0 | P7: 1647
B8: 女 | C8: 255503 | D8: 193107 | E8: 1423 | F8: 4918 | G8: 4188 | H8: 1528 | I8: 13803 | J8: 4489 | K8: 11761 | L8: 1089 | M8: 5892 | N8: 187 | O8: 20 | P8: 13098
A9: 本國籍 非原住民 | B9: 男 | C9: 30912 | D9: 23591 | E9: 137 | F9: 535 | G9: 456 | H9: 61 | I9: 1595 | J9: 281 | K9: 1110 | L9: 218 | M9: 1439 | N9: 24 | O9: 0 | P9: 1465
B10: 女 | C10: 224637 | D10: 168495 | E10: 1232 | F10: 4373 | G10: 3672 | H10: 1354 | I10: 12603 | J10: 3972 | K10: 10803 | L10: 1012 | M10: 5262 | N10: 160 | O10: 17 | P10: 11682
A11: 本國籍 原住民 | B11: 男 | C11: 3833 | D11: 3005 | E11: 33 | F11: 99 | G11: 84 | H11: 10 | I11: 115 | J11: 48 | K11: 100 | L11: 54 | M11: 153 | N11: 0 | O11: 0 | P11: 132
B12: 女 | C12: 23329 | D12: 18767 | E12: 185 | F12: 446 | G12: 386 | H12: 140 | I12: 658 | J12: 443 | K12: 606 | L12: 53 | M12: 498 | N12: 2 | O12: 0 | P12: 1145
A13: 大陸籍 （含港澳） | B13: 男 | C13: 29 | D13: 26 | E13: 0 | F13: 0 | G13: 0 | H13: 0 | I13: 0 | J13: 3 | K13: 0 | L13: 0 | M13: 0 | N13: 0 | O13: 0 | P13: 0
B14: 女 | C14: 482 | D14: 369 | E14: 1 | F14: 5 | G14: 3 | H14: 2 | I14: 56 | J14: 12 | K14: 15 | L14: 0 | M14: 3 | N14: 1 | O14: 0 | P14: 15
A15: 外國籍 | B15: 男 | C15: 203 | D15: 149 | E15: 0 | F15: 2 | G15: 0 | H15: 0 | I15: 5 | J15: 1 | K15: 20 | L15: 0 | M15: 10 | N15: 7 | O15: 0 | P15: 9
B16: 女 | C16: 2796 | D16: 2128 | E16: 0 | F16: 61 | G16: 64 | H16: 18 | I16: 220 | J16: 49 | K16: 96 | L16: 12 | M16: 15 | N16: 23 | O16: 3 | P16: 107
A17: 其他 | B17: 男 | C17: 819 | D17: 569 | E17: 2 | F17: 6 | G17: 5 | H17: 0 | I17: 71 | J17: 1 | K17: 66 | L17: 6 | M17: 51 | N17: 1 | O17: 0 | P17: 41
B18: 女 | C18: 4259 | D18: 3348 | E18: 5 | F18: 33 | G18: 63 | H18: 14 | I18: 266 | J18: 13 | K18: 241 | L18: 12 | M18: 114 | N18: 1 | O18: 0 | P18: 149
A20: 被害人國籍身分 | C20: 2.性侵害被害人保護扶助金額 (元)
C21: 合計 | D21: 緊急 生活扶助 | E21: 生活扶助 | F21: 急難救助 | G21: 租金補助 | H21: 醫療補助 | I21: 庇護安置 補助 | J21: 心理復健 補助 | K21: 律師費用 補助 | L21: 訴訟費用 補助 | M21: 民間慈善團體資助 | N21: 其他補助
A22: 合計 | C22: 160028648 | D22: 9253577 | E22: 25076487 | F22: 247696 | G22: 1449114 | H22: 5759854 | I22: 62996439 | J22: 17940438 | K22: 30756738 | L22: 484580 | M22: 2116332 | N22: 3947393
A23: 本國籍非原住民 | C23: 143836477 | D23: 7830250 | E23: 23503957 | F23: 237250 | G23: 1316422 | H23: 5318230 | I23: 54029405 | J23: 16601648 | K23: 29198126 | L23: 447115 | M23: 1689065 | N23: 3665009
A24: 本國籍原住民 | C24: 14500339 | D24: 1280206 | E24: 1111303 | F24: 4817 | G24: 96869 | H24: 292445 | I24: 8801618 | J24: 1033792 | K24: 1200913 | L24: 24964 | M24: 422548 | N24: 230864
A25: 大陸籍（含港澳） | C25: 129720 | D25: 37164 | E25: 0 | F25: 0 | G25: 0 | H25: 19180 | I25: 2500 | J25: 9476 | K25: 58000 | L25: 0 | M25: 3400 | N25: 0
A26: 外國籍 | C26: 557755 | D26: 79009 | E26: 28550 | F26: 3099 | G26: 2269 | H26: 96285 | I26: 0 | J26: 157128 | K26: 139946 | L26: 413 | M26: 275 | N26: 50781
A27: 其他 | C27: 1004357 | D27: 26948 | E27: 432677 | F27: 2530 | G27: 33554 | H27: 33714 | I27: 162916 | J27: 138394 | K27: 159753 | L27: 12088 | M27: 1044 | N27: 739
A29: 加害人性別 | C29: 3.性侵害加害人處遇 | S29: 3.性侵害加害人處遇 | AL29: 3.性侵害加害人處遇 | BD29: 3.性侵害加害人處遇
C30: (1)加害人個案人數按處分類別分 | N30: (2)本期加害人個案尚接受身心治療或輔導教育者按再犯等級分(人) | T30: (3)本期加害人個案尚接受身心治療或輔導教育者按處遇期程分(人) | AC30: (4)本期加害人個案暫停處遇人數按暫停原因分(人) | AI30: (5)處遇期間再犯案件分(人) | AM30: (6)加害人個案已結案人數按結案狀態分(人) | AY30: (7)加害人個案行政裁罰情形 | BD30: (8)加害人個案移送情形 | BM30: (9)依少年事件處理法裁定保護處分確定而法院裁定實施身心治療或輔導教育處遇狀態分(人)
C31: 合計(A) | D31: 有期徒刑或保安處分執行完畢 | E31: 有期徒刑經易服社會勞動 | F31: 假釋 | G31: 緩刑 | H31: 免刑 | I31: 赦免 | J31: 經法院、軍事法院依第22條之1第3項裁定停止強制治療 | K31: 經緩起訴處分確定者 | L31: 犯性騷擾防治法第25條判決有罪確定者 | M31: 犯兒少性剝削防制條例第31條判決有罪確定者 | N31: 合計(B) | O31: 評估中 | P31: 低再犯 | Q31: 中低再犯 | R31: 中高再犯 | S31: 高再犯 | T31: 合計(C) | U31: 未滿3個月 | V31: 3個月以上未滿6個月 | W31: 6個月以上未滿9個月 | X31: 9個月以上未滿1年 | Y31: 1年以上未滿1年6個月 | Z31: 1年6個月以上未滿2年 | AA31: 2年以上未滿3年 | AB31: 3年以上至4年 | AC31: 合計(D) | AD31: 傷殘住院 | AE31: 出國 | AF31: 服兵役 | AG31: 因他案入監服刑 | AH31: 其他 | AI31: 合計(E) | AJ31: 再犯性侵害案件 | AK31: 再犯其他案件且合併性侵害 | AL31: 再犯其他非性侵害案件 | AM31: 合計(F) | AN31: 無須處遇個案 | AO31: 完成處遇人數 | AP31: 未完成處遇已結案人數 按結案原因分 | AV31: 轉入強制治療人數 | AY31: 應行政裁罰個案人數(人) | AZ31: 申請行政裁罰個案人次(人次) | BA31: 申請行政裁罰者 按結果分(人次) | BD31: 應移送個案人數(人) | BE31: 聲請移送個案人次(人次) | BF31: 聲請移送者按階段分(人次) | BI31: 移送地檢署者按結果分(人次) | BM31: 少年性侵害行為人個案數(a) | BN31: 無須處遇人數(b) | BO31: 完成處遇人數(c) | BP31: 本期尚在接受處遇人數(d) | BQ31: 本期暫停處遇人數按暫停原因分 | BW31: 本年截至本期累計未完成處遇已結案人數按結案原因分
AP32: 計 | AQ32: 因再犯性侵害罪入獄 | AR32: 戶籍移轉外縣市 | AS32: 死亡 | AT32: 長期入住機構 | AU32: 其他 | AV32: 計 | AW32: 依性侵害犯罪防治法第22條規定 | AX32: 依性侵害犯罪防治法第22條之1規定 | BA32: 調查或簽辦中 | BB32: 駁回或 不罰 | BC32: 裁罰確定 | BF32: 移送家防中心/警察局/其他機關 | BG32: 移送地檢署 | BH32: 移送法院 | BI32: 偵查中 | BJ32: 駁回或 不起訴 | BK32: 緩起訴 | BL32: 起訴 | BQ32: 合計(e) | BR32: 傷殘 住院 | BS32: 出國 | BT32: 服兵役 | BU32: 因他案入感化教育處所或監獄 | BV32: 其他 | BW32: 合計(f) | BX32: 保護處分期滿且未依規定接受處遇，檢還少年法院(庭) | BY32: 保護處分期限未滿且未依規定接受處遇，檢還少年法院(庭) | BZ32: 再犯性侵入感化教育處所或監獄 | CA32: 戶籍移轉外縣市 | CB32: 死亡 | CC32: 長期入住機構 | CD32: 其他
A33: 計 | C33: 6678 | D33: 2105 | E33: 128 | F33: 1812 | G33: 1888 | H33: 4 | I33: 0 | J33: 35 | K33: 357 | L33: 331 | M33: 18 | N33: 4482 | O33: 473 | P33: 1099 | Q33: 2365 | R33: 496 | S33: 49 | T33: 4482 | U33: 765 | V33: 667 | W33: 511 | X33: 560 | Y33: 737 | Z33: 393 | AA33: 435 | AB33: 414 | AC33: 450 | AD33: 28 | AE33: 14 | AF33: 7 | AG33: 345 | AH33: 56 | AI33: 239 | AJ33: 41 | AK33: 0 | AL33: 198 | AM33: 1746 | AN33: 20 | AO33: 1448 | AP33: 269 | AQ33: 27 | AR33: 158 | AS33: 32 | AT33: 7 | AU33: 45 | AV33: 9 | AW33: 7 | AX33: 2 | AY33: 1083 | AZ33: 1339 | BA33: 510 | BB33: 70 | BC33: 818 | BD33: 555 | BE33: 745 | BF33: 229 | BG33: 397 | BH33: 119 | BI33: 337 | BJ33: 58 | BK33: 2 | BL33: 119 | BM33: 1329 | BN33: 17 | BO33: 350 | BP33: 805 | BQ33: 48 | BR33: 1 | BS33: 2 | BT33: 7 | BU33: 37 | BV33: 1 | BW33: 109 | BX33: 74 | BY33: 10 | BZ33: 5 | CA33: 9 | CB33: 1 | CC33: 0 | CD33: 10
A34: 男 | C34: 6631 | D34: 2097 | E34: 128 | F34: 1794 | G34: 1875 | H34: 4 | I34: 0 | J34: 35 | K34: 350 | L34: 330 | M34: 18 | N34: 4453 | O34: 466 | P34: 1092 | Q34: 2351 | R34: 495 | S34: 49 | T34: 4453 | U34: 755 | V34: 663 | W34: 508 | X34: 557 | Y34: 733 | Z34: 389 | AA34: 434 | AB34: 414 | AC34: 448 | AD34: 28 | AE34: 14 | AF34: 7 | AG34: 343 | AH34: 56 | AI34: 238 | AJ34: 41 | AK34: 0 | AL34: 197 | AM34: 1730 | AN34: 20 | AO34: 1435 | AP34: 266 | AQ34: 27 | AR34: 156 | AS34: 31 | AT34: 7 | AU34: 45 | AV34: 9 | AW34: 7 | AX34: 2 | AY34: 1080 | AZ34: 1336 | BA34: 510 | BB34: 70 | BC34: 815 | BD34: 552 | BE34: 742 | BF34: 228 | BG34: 396 | BH34: 118 | BI34: 336 | BJ34: 58 | BK34: 2 | BL34: 118 | BM34: 1277 | BN34: 16 | BO34: 329 | BP34: 780 | BQ34: 47 | BR34: 1 | BS34: 2 | BT34: 7 | BU34: 36 | BV34: 1 | BW34: 105 | BX34: 71 | BY34: 10 | BZ34: 5 | CA34: 9 | CB34: 1 | CC34: 0 | CD34: 9
A35: 女 | C35: 47 | D35: 8 | E35: 0 | F35: 18 | G35: 13 | H35: 0 | I35: 0 | J35: 0 | K35: 7 | L35: 1 | M35: 0 | N35: 29 | O35: 7 | P35: 7 | Q35: 14 | R35: 1 | S35: 0 | T35: 29 | U35: 10 | V35: 4 | W35: 3 | X35: 3 | Y35: 4 | Z35: 4 | AA35: 1 | AB35: 0 | AC35: 2 | AD35: 0 | AE35: 0 | AF35: 0 | AG35: 2 | AH35: 0 | AI35: 1 | AJ35: 0 | AK35: 0 | AL35: 1 | AM35: 16 | AN35: 0 | AO35: 13 | AP35: 3 | AQ35: 0 | AR35: 2 | AS35: 1 | AT35: 0 | AU35: 0 | AV35: 0 | AW35: 0 | AX35: 0 | AY35: 3 | AZ35: 3 | BA35: 0 | BB35: 0 | BC35: 3 | BD35: 3 | BE35: 3 | BF35: 1 | BG35: 1 | BH35: 1 | BI35: 1 | BJ35: 0 | BK35: 0 | BL35: 1 | BM35: 52 | BN35: 1 | BO35: 21 | BP35: 25 | BQ35: 1 | BR35: 0 | BS35: 0 | BT35: 0 | BU35: 1 | BV35: 0 | BW35: 4 | BX35: 3 | BY35: 0 | BZ35: 0 | CA35: 0 | CB35: 0 | CC35: 0 | CD35: 1
A37: 件數與罰鍰金額 | C37: 4.性侵害事件裁罰按裁罰事由統計
C38: 總計 | D38: 一、加害人裁罰 | N38: 二、媒體不當報導裁罰 | Q38: 三、任何人揭露被害人身分裁罰
D39: 合計 | E39: 無正當理由不到場或拒絕接受評估、身心治療或輔導教育者 (違反性侵害犯罪防治法第21條第1項第1款) | H39: 無正當理由不按時到場接受身心治療或輔導教育或接受之時數不足者 (違反性侵害犯罪防治法第21條第1項第2款) | K39: 未依第23條第1項規定定期辦理登記或報到者 (違反性侵害犯罪防治法第21條第1項第3款) | N39: 報導或記載被害人姓名或其他足資識別被害人身分資訊 (違反性侵害犯罪防治法第13條第1項之規定) | Q39: 任何人以媒體或其他方法公開或揭露被害人身分資訊(違反性侵害犯罪防治法第13條第2項之規定)
A40: 件數 (件) | C40: 1149 | D40: 1149 | E40: 478 | H40: 574 | K40: 97 | N40: 0 | Q40: 0
A41: 罰鍰金額 (元) | C41: 15750000 | D41: 15750000 | E41: 6520000 | H41: 7870000 | K41: 1360000 | N41: 0 | Q41: 0
A42: 資料來源：直轄市及縣(市)政府。
A45: 更新日期：2025/7/31
S46: 1003 | T46: 925 | U46: 361 | V46: 372 | W46: 6664 | X46: 2936 | Y46: 2823 | Z46: 905 | AA46: 317 | AB46: 232 | AC46: 0 | AD46: 206 | AE46: 48 | AF46: 4 | AG46: 154
S47: 991 | T47: 921 | U47: 360 | V47: 372 | W47: 6630 | X47: 2920 | Y47: 2808 | Z47: 902 | AA47: 317 | AB47: 231 | AC47: 0 | AD47: 206 | AE47: 48 | AF47: 4 | AG47: 154
S48: 12 | T48: 4 | U48: 1 | V48: 0 | W48: 34 | X48: 16 | Y48: 15 | Z48: 3 | AA48: 0 | AB48: 1 | AC48: 0 | AD48: 0 | AE48: 0 | AF48: 0 | AG48: 0

Sheet 110
A1: 5.2-03 推展性侵害防治業務
A2: 中華民國110年
A4: 被害人國籍身分 與性別 | C4: 1.性侵害被害人保護扶助人次（人次）
C5: 合計 | D5: 諮詢協談 | E5: 庇護安置 | F5: 陪同報案、偵詢（訊） | G5: 陪同出庭 | H5: 驗傷診療 | I5: 法律扶助 | J5: 經濟扶助 | K5: 心理諮商與輔導 | L5: 就業服務 | M5: 就學或轉學服務 | N5: 通譯服務 | O5: 轉介 戒毒中心 | P5: 其他扶助
A6: 合計 | B6: 計 | C6: 370063 | D6: 295820 | E6: 1633 | F6: 5430 | G6: 4459 | H6: 1529 | I6: 15648 | J6: 5103 | K6: 12519 | L6: 1540 | M6: 8848 | N6: 82 | O6: 4 | P6: 17448
B7: 男 | C7: 48334 | D7: 39008 | E7: 181 | F7: 731 | G7: 572 | H7: 74 | I7: 2080 | J7: 378 | K7: 1221 | L7: 209 | M7: 1889 | N7: 6 | O7: 0 | P7: 1985
B8: 女 | C8: 321729 | D8: 256812 | E8: 1452 | F8: 4699 | G8: 3887 | H8: 1455 | I8: 13568 | J8: 4725 | K8: 11298 | L8: 1331 | M8: 6959 | N8: 76 | O8: 4 | P8: 15463
A9: 本國籍 非原住民 | B9: 男 | C9: 40786 | D9: 32938 | E9: 159 | F9: 608 | G9: 472 | H9: 66 | I9: 1760 | J9: 317 | K9: 1091 | L9: 189 | M9: 1592 | N9: 1 | O9: 0 | P9: 1593
B10: 女 | C10: 278601 | D10: 221195 | E10: 1288 | F10: 4054 | G10: 3362 | H10: 1294 | I10: 12180 | J10: 4176 | K10: 10387 | L10: 1201 | M10: 5973 | N10: 21 | O10: 2 | P10: 13468
A11: 本國籍 原住民 | B11: 男 | C11: 5824 | D11: 4730 | E11: 21 | F11: 108 | G11: 86 | H11: 7 | I11: 171 | J11: 56 | K11: 93 | L11: 13 | M11: 218 | N11: 0 | O11: 0 | P11: 321
B12: 女 | C12: 31075 | D12: 25802 | E12: 159 | F12: 503 | G12: 375 | H12: 127 | I12: 734 | J12: 448 | K12: 433 | L12: 56 | M12: 789 | N12: 3 | O12: 2 | P12: 1644
A13: 大陸籍 （含港澳） | B13: 男 | C13: 35 | D13: 20 | E13: 0 | F13: 1 | G13: 0 | H13: 0 | I13: 7 | J13: 3 | K13: 0 | L13: 0 | M13: 2 | N13: 0 | O13: 0 | P13: 2
B14: 女 | C14: 730 | D14: 607 | E14: 2 | F14: 4 | G14: 7 | H14: 2 | I14: 51 | J14: 9 | K14: 21 | L14: 3 | M14: 11 | N14: 0 | O14: 0 | P14: 13
A15: 外國籍 | B15: 男 | C15: 421 | D15: 342 | E15: 0 | F15: 8 | G15: 1 | H15: 0 | I15: 31 | J15: 0 | K15: 17 | L15: 0 | M15: 2 | N15: 5 | O15: 0 | P15: 15
B16: 女 | C16: 4260 | D16: 3440 | E16: 1 | F16: 73 | G16: 63 | H16: 13 | I16: 266 | J16: 43 | K16: 107 | L16: 32 | M16: 29 | N16: 51 | O16: 0 | P16: 142
A17: 其他 | B17: 男 | C17: 1268 | D17: 978 | E17: 1 | F17: 6 | G17: 13 | H17: 1 | I17: 111 | J17: 2 | K17: 20 | L17: 7 | M17: 75 | N17: 0 | O17: 0 | P17: 54
B18: 女 | C18: 7063 | D18: 5768 | E18: 2 | F18: 65 | G18: 80 | H18: 19 | I18: 337 | J18: 49 | K18: 350 | L18: 39 | M18: 157 | N18: 1 | O18: 0 | P18: 196
A20: 被害人國籍身分 | C20: 2.性侵害被害人保護扶助金額 (元)
C21: 合計 | D21: 緊急 生活扶助 | E21: 生活扶助 | F21: 急難救助 | G21: 租金補助 | H21: 醫療補助 | I21: 庇護安置 補助 | J21: 心理復健 補助 | K21: 律師費用 補助 | L21: 訴訟費用 補助 | M21: 民間慈善團體資助 | N21: 其他補助
A22: 合計 | C22: 167043698 | D22: 9321410 | E22: 26326921 | F22: 486488 | G22: 1784729 | H22: 5890440 | I22: 76562614 | J22: 12690071 | K22: 21750583 | L22: 3606246 | M22: 3204340 | N22: 5419856
A23: 本國籍非原住民 | C23: 142402982 | D23: 8198735 | E23: 23411198 | F23: 453222 | G23: 1509965 | H23: 5403808 | I23: 61333170 | J23: 11430676 | K23: 19995697 | L23: 3485013 | M23: 2713900 | N23: 4467598
A24: 本國籍原住民 | C24: 14999097 | D24: 819706 | E24: 1344043 | F24: 24216 | G24: 128782 | H24: 268745 | I24: 9051204 | J24: 921743 | K24: 1038429 | L24: 85545 | M24: 449743 | N24: 866941
A25: 大陸籍（含港澳） | C25: 275057 | D25: 37399 | E25: 35579 | F25: 214 | G25: 3514 | H25: 15716 | I25: 0 | J25: 39969 | K25: 141754 | L25: 627 | M25: 285 | N25: 0
A26: 外國籍 | C26: 449289 | D26: 161241 | E26: 24000 | F26: 0 | G26: 0 | H26: 77616 | I26: 15000 | J26: 99892 | K26: 50000 | L26: 0 | M26: 700 | N26: 20840
A27: 其他 | C27: 8917273 | D27: 104329 | E27: 1512101 | F27: 8836 | G27: 142468 | H27: 124555 | I27: 6163240 | J27: 197791 | K27: 524703 | L27: 35061 | M27: 39712 | N27: 64477
A29: 加害人性別 | C29: 3.性侵害加害人處遇 | S29: 3.性侵害加害人處遇 | AL29: 3.性侵害加害人處遇
C30: (1)本年截至本期加害人個案人數按處分類別分 | N30: (2)本期加害人個案尚接受身心治療或輔導教育者按再犯等級分(人) | S30: (3)本期加害人個案尚接受身心治療或輔導教育者按處遇期程分(人) | AB30: (4)本期加害人個案暫停處遇人數按暫停原因分(人) | AH30: (5)本年截至本期累計處遇期間再犯案件分(人) | AL30: (6)本年截至本期累計加害人個案已結案人數按結案狀態分(人) | AX30: (7)本年截至本期累計加害人個案 裁罰移送狀況(人次) | BC30: (8)本期加害人個案裁罰移送狀況(人) | BJ30: (9)依少年事件處理法裁定保護處分確定而法院裁定實施身心治療或輔導教育處遇狀態分(人)
C31: 合計(A) | D31: 有期徒刑或保安處分執行完畢 | E31: 有期徒刑經易服社會勞動 | F31: 假釋 | G31: 緩刑 | H31: 免刑 | I31: 赦免 | J31: 經法院、軍事法院依第22條之1第3項裁定停止強制治療 | K31: 經緩起訴處分確定者 | L31: 犯性騷擾防治法第25條判決有罪確定者 | M31: 犯兒少性剝削防制條例第31條判決有罪確定者 | N31: 合計(B) | O31: 低再犯 | P31: 中低再犯 | Q31: 中高再犯 | R31: 高再犯 | S31: 合計(C) | T31: 未滿3個月 | U31: 3個月以上未滿6個月 | V31: 6個月以上未滿9個月 | W31: 9個月以上未滿1年 | X31: 1年以上未滿1年6個月 | Y31: 1年6個月以上未滿2年 | Z31: 2年以上未滿3年 | AA31: 3年以上至4年 | AB31: 合計(D) | AC31: 傷殘住院 | AD31: 出國 | AE31: 服兵役 | AF31: 因他案入監服刑 | AG31: 其他 | AH31: 合計(E) | AI31: 再犯性侵害案件 | AJ31: 再犯其他案件且合併性侵害 | AK31: 再犯其他非性侵害案件 | AL31: 合計(F) | AM31: 本年截至本期累計無須處遇個案 | AN31: 本年截至本期累計完成處遇人數 | AO31: 本年截至本期累計未完成處遇已結案人數 按結案原因分 | AU31: 本年截至本期累計 轉入強制治療人數 | AX31: 累計應裁罰移送人次 | AY31: 累計處以行政罰鍰人次 | AZ31: 累計聲請移送人次 | BA31: 累計移送結果確定者 | BC31: 本期應裁罰移送個案人數 | BD31: 本期處以行政罰鍰人數 | BE31: 本期聲請移送者按階段分(人) | BH31: 累計移送結果確定者按結果分(人) | BJ31: 本年截至本期累計少年性侵害行為人個案數(a) | BK31: 本年截至本期累計無須處遇人數(b) | BL31: 本年截至本期累計完成處遇人數(c) | BM31: 本期尚在接受處遇人數(d) | BN31: 本期暫停處遇人數按暫停原因分 | BT31: 本年截至本期累計未完成處遇已結案人數按結案原因分
AO32: 計 | AP32: 因再犯性侵害罪入獄 | AQ32: 戶籍移轉外縣市 | AR32: 死亡 | AS32: 長期入住機構 | AT32: 其他 | AU32: 計 | AV32: 依性侵害犯罪防治法第22條規定 | AW32: 依性侵害犯罪防治法第22條之1規定 | BA32: 駁回或不起訴者 | BB32: 其他判決結果 | BE32: 移送家防中心/警察局/其他機關 | BF32: 本期聲請移送者按階段分(人)/移送地檢署 | BG32: 移送法院 | BH32: 駁回或不起訴者 | BI32: 其他判決結果 | BN32: 合計(e) | BO32: 傷殘 住院 | BP32: 出國 | BQ32: 服兵役 | BR32: 因他案入感化教育處所或監獄 | BS32: 其他 | BT32: 合計(f) | BU32: 保護處分期滿且未依規定接受處遇，檢還少年法院(庭) | BV32: 保護處分期限未滿且未依規定接受處遇，檢還少年法院(庭) | BW32: 再犯性侵入感化教育處所或監獄 | BX32: 戶籍移轉外縣市 | BY32: 死亡 | BZ32: 長期入住機構 | CA32: 其他
A33: 計 | C33: 6540 | D33: 2063 | E33: 122 | F33: 1948 | G33: 1742 | H33: 0 | I33: 0 | J33: 33 | K33: 328 | L33: 287 | M33: 17 | N33: 4604 | O33: 1629 | P33: 2404 | Q33: 512 | R33: 59 | S33: 4604 | T33: 771 | U33: 759 | V33: 478 | W33: 427 | X33: 906 | Y33: 386 | Z33: 462 | AA33: 415 | AB33: 369 | AC33: 32 | AD33: 7 | AE33: 13 | AF33: 236 | AG33: 81 | AH33: 419 | AI33: 63 | AJ33: 4 | AK33: 352 | AL33: 1567 | AM33: 25 | AN33: 1258 | AO33: 276 | AP33: 41 | AQ33: 125 | AR33: 34 | AS33: 5 | AT33: 71 | AU33: 8 | AV33: 3 | AW33: 6 | AX33: 711 | AY33: 486 | AZ33: 494 | BA33: 49 | BB33: 58 | BC33: 574 | BD33: 372 | BE33: 211 | BF33: 175 | BG33: 16 | BH33: 43 | BI33: 45 | BJ33: 1228 | BK33: 9 | BL33: 265 | BM33: 842 | BN33: 28 | BO33: 0 | BP33: 0 | BQ33: 2 | BR33: 26 | BS33: 0 | BT33: 84 | BU33: 39 | BV33: 8 | BW33: 8 | BX33: 13 | BY33: 0 | BZ33: 0 | CA33: 16
A34: 男 | C34: 6500 | D34: 2054 | E34: 122 | F34: 1928 | G34: 1738 | H34: 0 | I34: 0 | J34: 33 | K34: 322 | L34: 286 | M34: 17 | N34: 4577 | O34: 1614 | P34: 2394 | Q34: 510 | R34: 59 | S34: 4577 | T34: 765 | U34: 750 | V34: 475 | W34: 427 | X34: 902 | Y34: 382 | Z34: 461 | AA34: 415 | AB34: 368 | AC34: 32 | AD34: 7 | AE34: 13 | AF34: 236 | AG34: 80 | AH34: 419 | AI34: 63 | AJ34: 4 | AK34: 352 | AL34: 1555 | AM34: 25 | AN34: 1250 | AO34: 272 | AP34: 41 | AQ34: 121 | AR34: 34 | AS34: 5 | AT34: 71 | AU34: 8 | AV34: 3 | AW34: 6 | AX34: 707 | AY34: 484 | AZ34: 490 | BA34: 49 | BB34: 58 | BC34: 571 | BD34: 371 | BE34: 208 | BF34: 175 | BG34: 16 | BH34: 43 | BI34: 45 | BJ34: 1173 | BK34: 8 | BL34: 248 | BM34: 806 | BN34: 28 | BO34: 0 | BP34: 0 | BQ34: 2 | BR34: 26 | BS34: 0 | BT34: 83 | BU34: 38 | BV34: 8 | BW34: 8 | BX34: 13 | BY34: 0 | BZ34: 0 | CA34: 16
A35: 女 | C35: 40 | D35: 9 | E35: 0 | F35: 20 | G35: 4 | H35: 0 | I35: 0 | J35: 0 | K35: 6 | L35: 1 | M35: 0 | N35: 27 | O35: 15 | P35: 10 | Q35: 2 | R35: 0 | S35: 27 | T35: 6 | U35: 9 | V35: 3 | W35: 0 | X35: 4 | Y35: 4 | Z35: 1 | AA35: 0 | AB35: 1 | AC35: 0 | AD35: 0 | AE35: 0 | AF35: 0 | AG35: 1 | AH35: 0 | AI35: 0 | AJ35: 0 | AK35: 0 | AL35: 12 | AM35: 0 | AN35: 8 | AO35: 4 | AP35: 0 | AQ35: 4 | AR35: 0 | AS35: 0 | AT35: 0 | AU35: 0 | AV35: 0 | AW35: 0 | AX35: 4 | AY35: 2 | AZ35: 4 | BA35: 0 | BB35: 0 | BC35: 3 | BD35: 1 | BE35: 3 | BF35: 0 | BG35: 0 | BH35: 0 | BI35: 0 | BJ35: 55 | BK35: 1 | BL35: 17 | BM35: 36 | BN35: 0 | BO35: 0 | BP35: 0 | BQ35: 0 | BR35: 0 | BS35: 0 | BT35: 1 | BU35: 1 | BV35: 0 | BW35: 0 | BX35: 0 | BY35: 0 | BZ35: 0 | CA35: 0
A37: 件數與罰鍰金額 | C37: 4.性侵害事件裁罰按裁罰事由統計
C38: 總計 | D38: 一、加害人裁罰 | N38: 二、媒體不當報導裁罰 | Q38: 三、任何人揭露被害人身分裁罰
D39: 合計 | E39: 無正當理由不到場或拒絕接受評估、身心治療或輔導教育者 (違反性侵害犯罪防治法第21條第1項第1款) | H39: 無正當理由不按時到場接受身心治療或輔導教育或接受之時數不足者 (違反性侵害犯罪防治法第21條第1項第2款) | K39: 未依第23條第1項規定定期辦理登記或報到者 (違反性侵害犯罪防治法第21條第1項第3款) | N39: 報導或記載被害人姓名或其他足資識別被害人身分資訊 (違反性侵害犯罪防治法第13條第1項之規定) | Q39: 任何人以媒體或其他方法公開或揭露被害人身分資訊(違反性侵害犯罪防治法第13條第2項之規定)
A40: 件數 (件) | C40: 553 | D40: 551 | E40: 233 | H40: 242 | K40: 76 | N40: 0 | Q40: 2
A41: 罰鍰金額 (元) | C41: 7638000 | D41: 7568000 | E41: 2883000 | H41: 3725000 | K41: 960000 | N41: 0 | Q41: 70000
A42: 資料來源：直轄市及縣(市)政府。
A45: 更新日期：2023/10/27
S46: 1003 | T46: 925 | U46: 361 | V46: 372 | W46: 6664 | X46: 2936 | Y46: 2823 | Z46: 905 | AA46: 317 | AB46: 232 | AC46: 0 | AD46: 206 | AE46: 48 | AF46: 4 | AG46: 154
S47: 991 | T47: 921 | U47: 360 | V47: 372 | W47: 6630 | X47: 2920 | Y47: 2808 | Z47: 902 | AA47: 317 | AB47: 231 | AC47: 0 | AD47: 206 | AE47: 48 | AF47: 4 | AG47: 154
S48: 12 | T48: 4 | U48: 1 | V48: 0 | W48: 34 | X48: 16 | Y48: 15 | Z48: 3 | AA48: 0 | AB48: 1 | AC48: 0 | AD48: 0 | AE48: 0 | AF48: 0 | AG48: 0

Sheet 109
A1: 5.2-03 推展性侵害防治業務
A2: 中華民國109年
A4: 被害人國籍身分 與性別 | C4: 1.性侵害被害人保護扶助人次（人次）
C5: 合計 | D5: 諮詢協談 | E5: 庇護安置 | F5: 陪同報案、偵詢（訊） | G5: 陪同出庭 | H5: 驗傷診療 | I5: 法律扶助 | J5: 經濟扶助 | K5: 心理諮商與輔導 | L5: 就業服務 | M5: 就學或轉學服務 | N5: 通譯服務 | O5: 轉介 戒毒中心 | P5: 其他扶助
A6: 合計 | B6: 計 | C6: 398148 | D6: 320452 | E6: 1817 | F6: 5528 | G6: 4676 | H6: 1817 | I6: 14463 | J6: 5443 | K6: 14511 | L6: 1374 | M6: 9763 | N6: 77 | O6: 2 | P6: 18225
B7: 男 | C7: 54683 | D7: 44724 | E7: 189 | F7: 674 | G7: 584 | H7: 102 | I7: 1963 | J7: 479 | K7: 1319 | L7: 173 | M7: 2023 | N7: 4 | O7: 1 | P7: 2448
B8: 女 | C8: 343465 | D8: 275728 | E8: 1628 | F8: 4854 | G8: 4092 | H8: 1715 | I8: 12500 | J8: 4964 | K8: 13192 | L8: 1201 | M8: 7740 | N8: 73 | O8: 1 | P8: 15777
A9: 本國籍 非原住民 | B9: 男 | C9: 46508 | D9: 38169 | E9: 170 | F9: 575 | G9: 460 | H9: 98 | I9: 1726 | J9: 405 | K9: 1148 | L9: 160 | M9: 1725 | N9: 0 | O9: 1 | P9: 1871
B10: 女 | C10: 296814 | D10: 237972 | E10: 1428 | F10: 4243 | G10: 3548 | H10: 1479 | I10: 11381 | J10: 4398 | K10: 11901 | L10: 1032 | M10: 6517 | N10: 20 | O10: 1 | P10: 12894
A11: 本國籍 原住民 | B11: 男 | C11: 6187 | D11: 4879 | E11: 18 | F11: 86 | G11: 100 | H11: 1 | I11: 155 | J11: 69 | K11: 113 | L11: 7 | M11: 235 | N11: 1 | O11: 0 | P11: 523
B12: 女 | C12: 33151 | D12: 26434 | E12: 170 | F12: 482 | G12: 386 | H12: 194 | I12: 620 | J12: 495 | K12: 809 | L12: 123 | M12: 1013 | N12: 0 | O12: 0 | P12: 2425
A13: 大陸籍 （含港澳） | B13: 男 | C13: 23 | D13: 19 | E13: 0 | F13: 0 | G13: 1 | H13: 1 | I13: 0 | J13: 2 | K13: 0 | L13: 0 | M13: 0 | N13: 0 | O13: 0 | P13: 0
B14: 女 | C14: 967 | D14: 793 | E14: 24 | F14: 14 | G14: 5 | H14: 2 | I14: 50 | J14: 6 | K14: 17 | L14: 8 | M14: 21 | N14: 0 | O14: 0 | P14: 27
A15: 外國籍 | B15: 男 | C15: 254 | D15: 198 | E15: 0 | F15: 1 | G15: 4 | H15: 0 | I15: 15 | J15: 1 | K15: 18 | L15: 1 | M15: 6 | N15: 3 | O15: 0 | P15: 7
B16: 女 | C16: 4186 | D16: 3572 | E16: 2 | F16: 46 | G16: 60 | H16: 21 | I16: 152 | J16: 44 | K16: 107 | L16: 11 | M16: 12 | N16: 52 | O16: 0 | P16: 107
A17: 其他 | B17: 男 | C17: 1711 | D17: 1459 | E17: 1 | F17: 12 | G17: 19 | H17: 2 | I17: 67 | J17: 2 | K17: 40 | L17: 5 | M17: 57 | N17: 0 | O17: 0 | P17: 47
B18: 女 | C18: 8347 | D18: 6957 | E18: 4 | F18: 69 | G18: 93 | H18: 19 | I18: 297 | J18: 21 | K18: 358 | L18: 27 | M18: 177 | N18: 1 | O18: 0 | P18: 324
A20: 被害人國籍身分 | C20: 2.性侵害被害人保護扶助金額 (元)
C21: 合計 | D21: 緊急 生活扶助 | E21: 生活扶助 | F21: 急難救助 | G21: 租金補助 | H21: 醫療補助 | I21: 庇護安置 補助 | J21: 心理復健 補助 | K21: 律師費用 補助 | L21: 訴訟費用 補助 | M21: 民間慈善團體資助 | N21: 其他補助
A22: 合計 | C22: 208603635 | D22: 8472539 | E22: 27626627 | F22: 626571 | G22: 1631414 | H22: 6184181 | I22: 113719883 | J22: 15764137 | K22: 14629895 | L22: 7871686 | M22: 4279413 | N22: 7797289
A23: 本國籍非原住民 | C23: 187440508 | D23: 7096782 | E23: 25162554 | F23: 422372 | G23: 1375811 | H23: 5514094 | I23: 102859438 | J23: 14399958 | K23: 12967277 | L23: 7818779 | M23: 3645429 | N23: 6178014
A24: 本國籍原住民 | C24: 18190079 | D24: 1095319 | E24: 1581450 | F24: 198822 | G24: 181287 | H24: 545674 | I24: 10551765 | J24: 1181300 | K24: 1095355 | L24: 41358 | M24: 593790 | N24: 1123959
A25: 大陸籍（含港澳） | C25: 697052 | D25: 61940 | H25: 4789 | I25: 144000 | J25: 20323 | K25: 58000 | L25: 0 | M25: 0 | N25: 408000
A26: 外國籍 | C26: 592830 | D26: 185292 | E26: 137647 | F26: 3315 | G26: 11017 | H26: 68729 | I26: 12500 | J26: 55338 | K26: 36310 | L26: 1608 | M26: 7771 | N26: 73303
A27: 其他 | C27: 1683166 | D27: 33206 | E27: 744976 | F27: 2062 | G27: 63299 | H27: 50895 | I27: 152180 | J27: 107218 | K27: 472953 | L27: 9941 | M27: 32423 | N27: 14013
A29: 加害人性別 | C29: 3.性侵害加害人處遇 | S29: 3.性侵害加害人處遇 | AL29: 3.性侵害加害人處遇
C30: (1)本年截至本期加害人個案人數按處分類別分 | N30: (2)本期加害人個案尚接受身心治療或輔導教育者按再犯等級分(人) | S30: (3)本期加害人個案尚接受身心治療或輔導教育者按處遇期程分(人) | AB30: (4)本期加害人個案暫停處遇人數按暫停原因分(人) | AH30: (5)本年截至本期累計處遇期間再犯案件分(人) | AL30: (6)本年截至本期累計加害人個案已結案人數按結案狀態分(人) | AX30: (7)本年截至本期累計加害人個案 裁罰移送狀況(人次) | BC30: (8)本期加害人個案裁罰移送狀況(人) | BJ30: (9)依少年事件處理法裁定保護處分確定而法院裁定實施身心治療或輔導教育處遇狀態分(人)
C31: 合計(A) | D31: 有期徒刑或保安處分執行完畢 | E31: 有期徒刑經易服社會勞動 | F31: 假釋 | G31: 緩刑 | H31: 免刑 | I31: 赦免 | J31: 經法院、軍事法院依第22條之1第3項裁定停止強制治療 | K31: 經緩起訴處分確定者 | L31: 犯性騷擾防治法第25條判決有罪確定者 | M31: 犯兒少性剝削防制條例第31條判決有罪確定者 | N31: 合計(B) | O31: 低再犯 | P31: 中低再犯 | Q31: 中高再犯 | R31: 高再犯 | S31: 合計(C) | T31: 未滿3個月 | U31: 3個月以上未滿6個月 | V31: 6個月以上未滿9個月 | W31: 9個月以上未滿1年 | X31: 1年以上未滿1年6個月 | Y31: 1年6個月以上未滿2年 | Z31: 2年以上未滿3年 | AA31: 3年以上至4年 | AB31: 合計(D) | AC31: 傷殘住院 | AD31: 出國 | AE31: 服兵役 | AF31: 因他案入監服刑 | AG31: 其他 | AH31: 合計(E) | AI31: 再犯性侵害案件 | AJ31: 再犯其他案件且合併性侵害 | AK31: 再犯其他非性侵害案件 | AL31: 合計(F) | AM31: 本年截至本期累計無須處遇個案 | AN31: 本年截至本期累計完成處遇人數 | AO31: 本年截至本期累計未完成處遇已結案人數 按結案原因分 | AU31: 本年截至本期累計 轉入強制治療人數 | AX31: 累計應裁罰移送人次 | AY31: 累計處以行政罰鍰人次 | AZ31: 累計聲請移送人次 | BA31: 累計移送結果確定者 | BC31: 本期應裁罰移送個案人數 | BD31: 本期處以行政罰鍰人數 | BE31: 本期聲請移送者按階段分(人) | BH31: 累計移送結果確定者按結果分(人) | BJ31: 本年截至本期累計少年性侵害行為人個案數(a) | BK31: 本年截至本期累計無須處遇人數(b) | BL31: 本年截至本期累計完成處遇人數(c) | BM31: 本期尚在接受處遇人數(d) | BN31: 本期暫停處遇人數按暫停原因分 | BT31: 本年截至本期累計未完成處遇已結案人數按結案原因分
AO32: 計 | AP32: 因再犯性侵害罪入獄 | AQ32: 戶籍移轉外縣市 | AR32: 死亡 | AS32: 長期入住機構 | AT32: 其他 | AU32: 計 | AV32: 依性侵害犯罪防治法第22條規定 | AW32: 依性侵害犯罪防治法第22條之1規定 | BA32: 駁回或不起訴者 | BB32: 其他判決結果 | BE32: 移送家防中心/警察局/其他機關 | BF32: 本期聲請移送者按階段分(人)/移送地檢署 | BG32: 移送法院 | BH32: 駁回或不起訴者 | BI32: 其他判決結果 | BN32: 合計(e) | BO32: 傷殘 住院 | BP32: 出國 | BQ32: 服兵役 | BR32: 因他案入感化教育處所或監獄 | BS32: 其他 | BT32: 合計(f) | BU32: 保護處分期滿且未依規定接受處遇，檢還少年法院(庭) | BV32: 保護處分期限未滿且未依規定接受處遇，檢還少年法院(庭) | BW32: 再犯性侵入感化教育處所或監獄 | BX32: 戶籍移轉外縣市 | BY32: 死亡 | BZ32: 長期入住機構 | CA32: 其他
A33: 計 | C33: 6821 | D33: 2312 | E33: 113 | F33: 2002 | G33: 1748 | H33: 0 | I33: 0 | J33: 41 | K33: 354 | L33: 224 | M33: 27 | N33: 4461 | O33: 1588 | P33: 2294 | Q33: 524 | R33: 55 | S33: 4461 | T33: 732 | U33: 777 | V33: 448 | W33: 440 | X33: 865 | Y33: 357 | Z33: 479 | AA33: 363 | AB33: 292 | AC33: 27 | AD33: 3 | AE33: 2 | AF33: 186 | AG33: 74 | AH33: 363 | AI33: 98 | AJ33: 5 | AK33: 260 | AL33: 2068 | AM33: 25 | AN33: 1615 | AO33: 422 | AP33: 54 | AQ33: 177 | AR33: 25 | AS33: 17 | AT33: 149 | AU33: 6 | AV33: 5 | AW33: 1 | AX33: 638 | AY33: 520 | AZ33: 374 | BA33: 50 | BB33: 70 | BC33: 291 | BD33: 256 | BE33: 82 | BF33: 101 | BG33: 21 | BH33: 24 | BI33: 24 | BJ33: 1344 | BK33: 7 | BL33: 314 | BM33: 804 | BN33: 55 | BO33: 2 | BP33: 0 | BQ33: 4 | BR33: 43 | BS33: 6 | BT33: 164 | BU33: 82 | BV33: 14 | BW33: 10 | BX33: 28 | BY33: 6 | BZ33: 5 | CA33: 19
A34: 男 | C34: 6785 | D34: 2308 | E34: 113 | F34: 1982 | G34: 1743 | H34: 0 | I34: 0 | J34: 41 | K34: 347 | L34: 224 | M34: 27 | N34: 4437 | O34: 1579 | P34: 2280 | Q34: 523 | R34: 55 | S34: 4437 | T34: 727 | U34: 770 | V34: 447 | W34: 437 | X34: 862 | Y34: 354 | Z34: 478 | AA34: 362 | AB34: 292 | AC34: 27 | AD34: 3 | AE34: 2 | AF34: 186 | AG34: 74 | AH34: 363 | AI34: 98 | AJ34: 5 | AK34: 260 | AL34: 2056 | AM34: 25 | AN34: 1604 | AO34: 421 | AP34: 54 | AQ34: 176 | AR34: 25 | AS34: 17 | AT34: 149 | AU34: 6 | AV34: 5 | AW34: 1 | AX34: 634 | AY34: 517 | AZ34: 372 | BA34: 49 | BB34: 70 | BC34: 290 | BD34: 255 | BE34: 81 | BF34: 101 | BG34: 21 | BH34: 23 | BI34: 24 | BJ34: 1296 | BK34: 5 | BL34: 295 | BM34: 785 | BN34: 53 | BO34: 2 | BP34: 0 | BQ34: 4 | BR34: 42 | BS34: 5 | BT34: 158 | BU34: 79 | BV34: 13 | BW34: 10 | BX34: 27 | BY34: 6 | BZ34: 5 | CA34: 18
A35: 女 | C35: 36 | D35: 4 | E35: 0 | F35: 20 | G35: 5 | H35: 0 | I35: 0 | J35: 0 | K35: 7 | L35: 0 | M35: 0 | N35: 24 | O35: 9 | P35: 14 | Q35: 1 | R35: 0 | S35: 24 | T35: 5 | U35: 7 | V35: 1 | W35: 3 | X35: 3 | Y35: 3 | Z35: 1 | AA35: 1 | AB35: 0 | AC35: 0 | AD35: 0 | AE35: 0 | AF35: 0 | AG35: 0 | AH35: 0 | AI35: 0 | AJ35: 0 | AK35: 0 | AL35: 12 | AM35: 0 | AN35: 11 | AO35: 1 | AP35: 0 | AQ35: 1 | AR35: 0 | AS35: 0 | AT35: 0 | AU35: 0 | AV35: 0 | AW35: 0 | AX35: 4 | AY35: 3 | AZ35: 2 | BA35: 1 | BB35: 0 | BC35: 1 | BD35: 1 | BE35: 1 | BF35: 0 | BG35: 0 | BH35: 1 | BI35: 0 | BJ35: 48 | BK35: 2 | BL35: 19 | BM35: 19 | BN35: 2 | BO35: 0 | BP35: 0 | BQ35: 0 | BR35: 1 | BS35: 1 | BT35: 6 | BU35: 3 | BV35: 1 | BW35: 0 | BX35: 1 | BY35: 0 | BZ35: 0 | CA35: 1
A37: 件數與罰鍰金額 | C37: 4.性侵害事件裁罰按裁罰事由統計
C38: 總計 | D38: 一、加害人裁罰 | N38: 二、媒體不當報導裁罰 | Q38: 三、任何人揭露被害人身分裁罰
D39: 合計 | E39: 無正當理由不到場或拒絕接受評估、身心治療或輔導教育者 (違反性侵害犯罪防治法第21條第1項第1款) | H39: 無正當理由不按時到場接受身心治療或輔導教育或接受之時數不足者 (違反性侵害犯罪防治法第21條第1項第2款) | K39: 未依第23條第1項規定定期辦理登記或報到者 (違反性侵害犯罪防治法第21條第1項第3款) | N39: 報導或記載被害人姓名或其他足資識別被害人身分資訊 (違反性侵害犯罪防治法第13條第1項之規定) | Q39: 任何人以媒體或其他方法公開或揭露被害人身分資訊(違反性侵害犯罪防治法第13條第2項之規定)
A40: 件數 (件) | C40: 526 | D40: 523 | E40: 193 | H40: 258 | K40: 72 | N40: 0 | Q40: 3
A41: 罰鍰金額 (元) | C41: 7110000 | D41: 7010000 | E41: 2430000 | H41: 3540000 | K41: 1040000 | N41: 0 | Q41: 100000
A42: 資料來源：直轄市及縣(市)政府。
S46: 1003 | T46: 925 | U46: 361 | V46: 372 | W46: 6664 | X46: 2936 | Y46: 2823 | Z46: 905 | AA46: 317 | AB46: 232 | AC46: 0 | AD46: 206 | AE46: 48 | AF46: 4 | AG46: 154
S47: 991 | T47: 921 | U47: 360 | V47: 372 | W47: 6630 | X47: 2920 | Y47: 2808 | Z47: 902 | AA47: 317 | AB47: 231 | AC47: 0 | AD47: 206 | AE47: 48 | AF47: 4 | AG47: 154
S48: 12 | T48: 4 | U48: 1 | V48: 0 | W48: 34 | X48: 16 | Y48: 15 | Z48: 3 | AA48: 0 | AB48: 1 | AC48: 0 | AD48: 0 | AE48: 0 | AF48: 0 | AG48: 0

Sheet 104~108
A1: 5.2-03 推展性侵害防治業務
A4: 年別 與性別 | C4: 1.性侵害被害人保護扶助人次（人次）
C5: 合計 | D5: 諮詢協談 | E5: 庇護安置 | F5: 陪同報案、偵詢（訊） | G5: 陪同出庭 | H5: 驗傷診療 | I5: 法律扶助 | J5: 經濟扶助 | K5: 心理諮商與輔導 | L5: 就業服務 | M5: 就學或轉學服務 | N5: 通譯服務 | O5: 轉介 戒毒中心 | P5: 其他扶助
A6: 95年, 2006 | C6: ='95'!C6 -> 48462 | D6: ='95'!D6 -> 32264 | E6: ='95'!E6 -> 1425 | F6: ='95'!F6 -> 2047 | G6: ='95'!G6 -> 1745 | H6: ='95'!H6 -> 1553 | I6: ='95'!I6 -> 2310 | J6: 0 | K6: ='95'!J6 -> 3159 | L6: ='95'!K6 -> 258 | M6: 0 | N6: ='95'!M6 -> 39 | O6: ='95'!O6 -> 0 | P6: ='95'!N6+'95'!L6 -> 3662
A7: 96年, 2007 | C7: ='96'!C6 -> 72090 | D7: ='96'!D6 -> 45669 | E7: ='96'!E6 -> 1403 | F7: ='96'!F6 -> 1821 | G7: ='96'!G6 -> 2021 | H7: ='96'!H6 -> 2099 | I7: ='96'!I6 -> 2820 | J7: ='96'!J6 -> 2031 | ... P7: ='96'!P6 -> 7319
A8: 97年, 2008 | C8: ='97'!C6 -> 95247 | D8: ='97'!D6 -> 59385 | E8: ='97'!E6 -> 1995 | F8: ='97'!F6 -> 2191 | G8: ='97'!G6 -> 2525 | H8: ='97'!H6 -> 1702 | I8: ='97'!I6 -> 3491 | J8: ='97'!J6 -> 3238 | ... P8: ='97'!P6 -> 10517
A9: 98年 , 2009 | C9: ='98'!C6 -> 101482 | D9: ='98'!D6 -> 60907 | E9: ='98'!E6 -> 1722 | F9: ='98'!F6 -> 2564 | G9: ='98'!G6 -> 2699 | H9: ='98'!H6 -> 1936 | I9: ='98'!I6 -> 3535 | J9: ='98'!J6 -> 3645 | ... P9: ='98'!P6 -> 11599
A10: 99年 , 2010 | C10: ='99'!C6 -> 100942 | D10: ='99'!D6 -> 59985 | E10: ='99'!E6 -> 1817 | F10: ='99'!F6 -> 2896 | G10: ='99'!G6 -> 3231 | H10: ='99'!H6 -> 1672 | I10: ='99'!I6 -> 3688 | J10: ='99'!J6 -> 3126 | ... P10: ='99'!P6 -> 11544
A11: 100年 , 2011 | C11: ='100'!C6 -> 140326 | D11: ='100'!D6 -> 91455 | E11: ='100'!E6 -> 3026 | F11: ='100'!F6 -> 3793 | G11: ='100'!G6 -> 4699 | H11: ='100'!H6 -> 2985 | I11: ='100'!I6 -> 3924 | J11: ='100'!J6 -> 3989 | ... P11: ='100'!P6 -> 11636
A12: 101年 , 2012 | C12: ='101'!C6 -> 158258 | D12: ='101'!D6 -> 105466 | E12: ='101'!E6 -> 2098 | F12: ='101'!F6 -> 3777 | G12: ='101'!G6 -> 5089 | H12: ='101'!H6 -> 2798 | I12: ='101'!I6 -> 5491 | J12: ='101'!J6 -> 3879 | ... P12: ='101'!P6 -> 14290
A13: 102年 , 2013 | C13: ='102'!C6 -> 177258 | D13: ='102'!D6 -> 118258 | E13: ='102'!E6 -> 3667 | F13: ='102'!F6 -> 3925 | G13: ='102'!G6 -> 5602 | H13: ='102'!H6 -> 2604 | I13: ='102'!I6 -> 4251 | J13: ='102'!J6 -> 4551 | ... P13: ='102'!P6 -> 19483
A14: 103年 , 2014 | C14: ='103'!C6 -> 199846 | D14: ='103'!D6 -> 133211 | E14: ='103'!E6 -> 3835 | F14: ='103'!F6 -> 3459 | G14: ='103'!G6 -> 5030 | H14: ='103'!H6 -> 2071 | I14: ='103'!I6 -> 5285 | J14: ='103'!J6 -> 4400 | ... P14: ='103'!P6 -> 20784
A15: 104年 , 2015 | C15: ='104'!C6 -> 221587 | D15: ='104'!D6 -> 167530 | E15: ='104'!E6 -> 5475 | F15: ='104'!F6 -> 3124 | G15: ='104'!G6 -> 4429 | H15: ='104'!H6 -> 2057 | I15: ='104'!I6 -> 3884 | J15: ='104'!J6 -> 3870 | ... P15: ='104'!P6 -> 16090
A16: 105年 , 2016 | C16: 218852 | D16: 169379 | E16: 2826 | F16: 3311 | G16: 4172 | H16: 2119 | I16: 4495 | J16: 4594 | K16: 9556 | L16: 529 | M16: 3161 | N16: 68 | O16: 9 | P16: 14633
A17: 106年 , 2017 | C17: 229525 | D17: 181819 | E17: 2784 | F17: 4011 | G17: 4315 | H17: 1908 | I17: 6186 | J17: 5119 | K17: 9165 | L17: 772 | M17: 2410 | N17: 62 | O17: 16 | P17: 10958
A18: 107年 , 2018 | C18: 245515 | D18: 189141 | E18: 1848 | F18: 3914 | G18: 4233 | H18: 1472 | I18: 6696 | J18: 5165 | K18: 11257 | L18: 1108 | M18: 5812 | N18: 682 | O18: 12 | P18: 14175
A19: 108年 , 2019 | C19: 340891 | D19: 268980 | E19: 1796 | F19: 4994 | G19: 4311 | H19: 2222 | I19: 11159 | J19: 4600 | K19: 14946 | L19: 1140 | M19: 7416 | N19: 263 | O19: 2 | P19: 19062
A20: 年別 | C20: 2.性侵害被害人保護扶助金額 (元)
C21: 合計 | D21: 緊急 生活扶助 | E21: 生活扶助 | F21: 急難救助 | G21: 租金補助 | H21: 醫療補助 | I21: 庇護安置 補助 | J21: 心理復健 補助 | K21: 律師費用 補助 | L21: 訴訟費用 補助 | M21: 民間慈善團體資助 | N21: 其他補助
A22: 95年, 2006 | C22: ='95'!C22 -> 49252494 | D22: ='95'!D22 -> 4948107 | E22: ='95'!E22 -> 643237 | F22: ='95'!F22 -> 160000 | G22: ='95'!G22 -> 79000 | H22: ='95'!H22 -> 4559095 | I22: ='95'!I22 -> 20996318 | J22: ='95'!J22 -> 4435227 | ... L22: ='95'!L22 -> 1112840 | M22: 411500 | N22: ='95'!N22+'95'!R22 -> 322831
A23: 96年, 2007 | C23: ='96'!C22 -> 53191330 | D23: ='96'!D22 -> 4849150 | E23: ='96'!E22 -> 281279 | F23: ='96'!F22 -> 95924 | G23: ='96'!G22 -> 88500 | H23: ='96'!H22 -> 5153746 | I23: ='96'!I22 -> 23105231 | J23: ='96'!J22 -> 6270416 | ... N23: ='96'!N22 -> 542393
A24: 97年, 2008 | C24: ='97'!C22 -> 58777127 | D24: ='97'!D22 -> 6255710 | E24: ='97'!E22 -> 1178212 | F24: ='97'!F22 -> 179250 | G24: ='97'!G22 -> 214100 | H24: ='97'!H22 -> 5323970 | I24: ='97'!I22 -> 21369265 | J24: ='97'!J22 -> 8277393 | ... N24: ='97'!N22 -> 767951
A25: 98年 , 2009 | C25: ='98'!C22 -> 64912653 | D25: ='98'!D22 -> 4841636 | E25: ='98'!E22 -> 656794 | F25: ='98'!F22 -> 373910 | G25: ='98'!G22 -> 182150 | H25: ='98'!H22 -> 5379465 | I25: ='98'!I22 -> 30617762 | J25: ='98'!J22 -> 9717288 | ... N25: ='98'!N22 -> 587826
A26: 99年 , 2010 | C26: ='99'!C22 -> 60270362 | D26: ='99'!D22 -> 3994678 | E26: ='99'!E22 -> 544973 | F26: ='99'!F22 -> 311603 | G26: ='99'!G22 -> 136005 | H26: ='99'!H22 -> 5366232 | I26: ='99'!I22 -> 28098046 | J26: ='99'!J22 -> 8511936 | ... N26: ='99'!N22 -> 437096
A27: 100年 , 2011 | C27: ='100'!C22 -> 73603327 | D27: ='100'!D22 -> 4343460 | E27: ='100'!E22 -> 375172 | F27: ='100'!F22 -> 592922 | G27: ='100'!G22 -> 420000 | H27: ='100'!H22 -> 5772874 | I27: ='100'!I22 -> 30564483 | J27: ='100'!J22 -> 13224256 | ... N27: ='100'!N22 -> 2315166
A28: 101年 , 2012 | C28: ='101'!C22 -> 70767228 | D28: ='101'!D22 -> 4469502 | E28: ='101'!E22 -> 1088244 | F28: ='101'!F22 -> 250372 | G28: ='101'!G22 -> 388000 | H28: ='101'!H22 -> 5709935 | I28: ='101'!I22 -> 29816431 | J28: ='101'!J22 -> 11195389 | ... N28: ='101'!N22 -> 1867441
A29: 102年 , 2013 | C29: ='102'!C22 -> 77525239 | D29: ='102'!D22 -> 3835556 | E29: ='102'!E22 -> 3703454 | F29: ='102'!F22 -> 284363 | G29: ='102'!G22 -> 791000 | H29: ='102'!H22 -> 5347531 | I29: ='102'!I22 -> 33586529 | J29: ='102'!J22 -> 10171494 | ... N29: ='102'!N22 -> 2336339
A30: 103年 , 2014 | C30: ='103'!C22 -> 109468205 | D30: ='103'!D22 -> 4468110 | E30: ='103'!E22 -> 1672821 | F30: ='103'!F22 -> 233028 | G30: ='103'!G22 -> 319000 | H30: ='103'!H22 -> 4864662 | I30: ='103'!I22 -> 64177581 | J30: ='103'!J22 -> 12597798 | ... N30: ='103'!N22 -> 2965319
A31: 104年 , 2015 | C31: ='104'!C22 -> 113541707 | D31: ='104'!D22 -> 4091277 | E31: ='104'!E22 -> 2465576 | F31: ='104'!F22 -> 139360 | G31: ='104'!G22 -> 215100 | H31: ='104'!H22 -> 4291757 | I31: ='104'!I22 -> 63913003 | J31: ='104'!J22 -> 14968254 | ... N31: ='104'!N22 -> 1980344
A32: 105年 , 2016 | C32: 124205242 | D32: 5459173 | E32: 2113831 | F32: 231398 | G32: 211140 | H32: 4351143 | I32: 73855941 | J32: 13450939 | K32: 13532800 | L32: 3205000 | M32: 3041949 | N32: 4751928
A33: 106年 , 2017 | C33: 172740417 | D33: 7484759 | E33: 13033290 | F33: 198865 | G33: 723099 | H33: 5242278 | I33: 98970217 | J33: 12807418 | K33: 19259100 | L33: 2427000 | M33: 2285583 | N33: 10308808
A34: 107年 , 2018 | C34: 152522629 | D34: 5962039 | E34: 17130632 | F34: 320288 | G34: 563844 | H34: 4515483 | I34: 83663918 | J34: 12526777 | K34: 17192550 | L34: 565875 | M34: 3427844 | N34: 6653379
A35: 108年 , 2019 | C35: 159739842 | D35: 6155293 | E35: 23167712 | F35: 710538 | G35: 1664240 | H35: 4462123 | I35: 86377184 | J35: 12841662 | K35: 15541000 | L35: 1820500 | M35: 2890884 | N35: 4108706
A37: 加害人性別 | C37: 3.性侵害加害人處遇 | X37: 3.性侵害加害人處遇
C38: 本期加害人個案人數按處分別分（人） | N38: 累計個案人數按實施身心治療或輔導教育處遇類別（人） | X38: 累計處遇個案人數 按身心治療或輔導教育處遇狀態分 (人) | AB38: 處以行政罰鍰累計人數 (人) | AC38: 限期未履行移送地檢署累計人數 (人) | AD38: 移送地檢署聲請強制治療累計人數 (人) | AE38: 處遇期間再犯累計人數 (人)
C39: 合計 | D39: 有期徒刑或保安處分執行完畢 | E39: 有期徒刑經易服社會勞動 | F39: 假釋 | G39: 緩刑 | H39: 免刑 | I39: 赦免 | J39: 經法院、軍事法院依本法第22條之1第3項裁定停止強制治療 | K39: 經緩起訴處分確定者 | L39: 犯性騷擾防治法第25條判決有罪確定者 | M39: 依少年事件處理法裁定保護處分確定而法院認有必要者 | N39: 不需處遇 累計個案 | O39: 應接受身心治療或輔導教育累計個案人數按處遇期程分 | X39: 合計 | Y39: 完成處遇累計人數 | Z39: 目前繼續接受處遇累計人數 | AA39: 未完成處遇累計人數 | AE39: 合計 | AF39: 再犯性侵害案件 | AG39: 再犯其他案件且合併性侵害 | AH39: 再犯其他非性侵害案件
O40: 計 | P40: 未滿3個月 | Q40: 3個月以上未滿6個月 | R40: 6個月以上未滿9個月 | S40: 9個月以上未滿1年 | T40: 1年以上未滿1年6個月 | U40: 1年6個月以上未滿2年 | V40: 2年以上 至3年 | W40: 3年以上至4年
A41: 95年, 2006 | C41: 4059 | D41: 1103 | E41: 0 | F41: 2020 | G41: 917 | H41: 1 | I41: 0 | J41: 0 | K41: 18 | L41: 0 | M41: 0 | N41: ='95'!J33 -> 50 | O41: ='95'!K33 -> 3620 | P41: ='95'!L33 -> 751 | Q41: ='95'!M33 -> 378 | R41: ='95'!N33 -> 56 | S41: ='95'!O33 -> 1926 | T41: ='95'!P33 -> 312 | U41: ='95'!Q33 -> 126 | V41: ='95'!R33 -> 71 | W41: 0 | X41: ='95'!S33 -> 3870 | Y41: ='95'!T33 -> 1856 | Z41: ='95'!U33 -> 1214 | AA41: ='95'!V33 -> 800 | AB41: ='95'!W33 -> 61 | AC41: ='95'!X33 -> 7 | AD41: ='95'!Y33 -> 9 | AE41: ='95'!Z33 -> 132 | ... AH41: ='95'!AC33 -> 84
A42: 96年, 2007 | C42: 10431 | D42: 2798 | E42: 0 | F42: 4946 | G42: 2562 | H42: 9 | I42: 8 | J42: 0 | K42: 108 | L42: 0 | M42: 0 | N42: ='96'!J33 -> 76 | O42: ='96'!K33 -> 5037 | P42: ='96'!L33 -> 1590 | Q42: ='96'!M33 -> 380 | R42: ='96'!N33 -> 406 | S42: ='96'!O33 -> 1796 | T42: ='96'!P33 -> 619 | U42: ='96'!Q33 -> 124 | V42: ='96'!R33 -> 122 | W42: 0 | X42: ='96'!S33 -> 5229 | Y42: ='96'!T33 -> 2533 | Z42: ='96'!U33 -> 1762 | AA42: ='96'!V33 -> 934 | AB42: ='96'!W33 -> 112 | AC42: ='96'!X33 -> 10 | AD42: ='96'!Y33 -> 10 | AE42: ='96'!Z33 -> 164 | ... AH42: ='96'!AC33 -> 93
A43: 97年, 2008 | C43: 6757 | D43: 1748 | E43: 0 | F43: 2935 | G43: 1933 | H43: 28 | I43: 43 | J43: 0 | K43: 70 | L43: 0 | M43: 0 | N43: ='97'!J33 -> 97 | O43: ='97'!K33 -> 5595 | P43: ='97'!L33 -> 1817 | Q43: ='97'!M33 -> 540 | R43: ='97'!N33 -> 582 | S43: ='97'!O33 -> 1788 | T43: ='97'!P33 -> 575 | U43: ='97'!Q33 -> 145 | V43: ='97'!R33 -> 148 | W43: 0 | X43: ='97'!S33 -> 6301 | Y43: ='97'!T33 -> 3228 | Z43: ='97'!U33 -> 1988 | AA43: ='97'!V33 -> 1085 | AB43: ='97'!W33 -> 61 | AC43: ='97'!X33 -> 23 | AD43: ='97'!Y33 -> 0 | AE43: ='97'!Z33 -> 217 | ... AH43: ='97'!AC33 -> 153
A44: 98年 , 2009 | C44: 3585 | D44: 911 | E44: 0 | F44: 1339 | G44: 1256 | H44: 1 | I44: 20 | J44: 0 | K44: 58 | L44: 0 | M44: 0 | N44: ='98'!J33 -> 674 | O44: ='98'!K33 -> 7168 | P44: ='98'!L33 -> 2754 | Q44: ='98'!M33 -> 1037 | R44: ='98'!N33 -> 722 | S44: ='98'!O33 -> 1734 | T44: ='98'!P33 -> 536 | U44: ='98'!Q33 -> 173 | V44: ='98'!R33 -> 212 | W44: ='95'!S36 -> 0 | X44: ='98'!S33 -> 8307 | Y44: ='98'!T33 -> 4432 | Z44: ='98'!U33 -> 2513 | AA44: ='98'!V33 -> 1362 | AB44: ='98'!W33 -> 130 | AC44: ='98'!X33 -> 23 | AD44: ='98'!Y33 -> 9 | AE44: ='98'!Z33 -> 261 | ... AH44: ='98'!AC33 -> 177
A45: 99年 , 2010 | C45: 2148 | D45: 661 | E45: 0 | F45: 749 | G45: 694 | H45: 3 | I45: 0 | J45: 0 | K45: 41 | L45: 0 | M45: 0 | N45: ='99'!J33 -> 558 | O45: ='99'!K33 -> 8406 | P45: ='99'!L33 -> 2835 | Q45: ='99'!M33 -> 1572 | R45: ='99'!N33 -> 926 | S45: ='99'!O33 -> 1916 | T45: ='99'!P33 -> 700 | U45: ='99'!Q33 -> 209 | V45: ='99'!R33 -> 248 | W45: ='95'!S37 -> 0 | X45: ='99'!S33 -> 9704 | Y45: ='99'!T33 -> 5494 | Z45: ='99'!U33 -> 2596 | AA45: ='99'!V33 -> 1614 | AB45: ='99'!W33 -> 216 | AC45: ='99'!X33 -> 71 | AD45: ='99'!Y33 -> 1 | AE45: ='99'!Z33 -> 324 | ... AH45: ='99'!AC33 -> 228
A46: 100年 , 2011 | C46: 1945 | D46: 760 | E46: 0 | F46: 355 | G46: 770 | H46: 4 | I46: 0 | J46: 0 | K46: 56 | L46: 0 | M46: 0 | N46: ='100'!J33 -> 116 | O46: ='100'!K33 -> 9036 | P46: ='100'!L33 -> 2109 | Q46: ='100'!M33 -> 1826 | R46: ='100'!N33 -> 1405 | S46: ='100'!O33 -> 1329 | T46: ='100'!P33 -> 1560 | U46: ='100'!Q33 -> 239 | V46: ='100'!R33 -> 568 | W46: ='95'!S38 -> 0 | X46: ='100'!S33 -> 9348 | Y46: ='100'!T33 -> 5278 | Z46: ='100'!U33 -> 2558 | AA46: ='100'!V33 -> 1512 | AB46: ='100'!W33 -> 208 | AC46: ='100'!X33 -> 74 | AD46: ='100'!Y33 -> 4 | AE46: ='100'!Z33 -> 319 | ... AH46: ='100'!AC33 -> 247
A47: 101年 , 2012 | C47: 2318 | D47: 852 | E47: 0 | F47: 426 | G47: 932 | H47: 15 | I47: 0 | J47: 0 | K47: 93 | L47: 0 | M47: 0 | N47: ='101'!J33 -> 152 | O47: ='101'!K33 -> 11233 | P47: ='101'!L33 -> 3086 | Q47: ='101'!M33 -> 2107 | R47: ='101'!N33 -> 1708 | S47: ='101'!O33 -> 1961 | T47: ='101'!P33 -> 1348 | U47: ='101'!Q33 -> 288 | V47: ='101'!R33 -> 735 | W47: ='95'!S39 -> 0 | X47: ='101'!S33 -> 11356 | Y47: ='101'!T33 -> 6238 | Z47: ='101'!U33 -> 3252 | AA47: ='101'!V33 -> 1866 | AB47: ='101'!W33 -> 523 | AC47: ='101'!X33 -> 214 | AD47: ='101'!Y33 -> 21 | AE47: ='101'!Z33 -> 397 | ... AH47: ='101'!AC33 -> 311
A48: 102年 , 2013 | C48: 2625 | D48: 754 | E48: 19 | F48: 468 | G48: 845 | H48: 1 | I48: 0 | J48: 5 | K48: 106 | L48: 61 | M48: 366 | N48: ='102'!N33 -> 112 | O48: ='102'!O33 -> 6925 | P48: ='102'!P33 -> 1085 | Q48: ='102'!Q33 -> 1747 | R48: ='102'!R33 -> 1274 | S48: ='102'!S33 -> 1003 | T48: ='102'!T33 -> 925 | U48: ='102'!U33 -> 361 | ... AD48: ='102'!AD33 -> 28 | AE48: ='102'!AB33 -> 317 | AF48: ='102'!AC33 -> 232 | AG48: ='102'!AD33 -> 28 | AH48: ='102'!AE33 -> 206
A49: 103年 , 2014 | C49: 3088 | D49: 710 | E49: 41 | F49: 643 | G49: 1028 | H49: 0 | I49: 0 | J49: 4 | K49: 143 | L49: 64 | M49: 455 | N49: ='103'!N33 -> 126 | O49: ='103'!O33 -> 7705 | P49: ='103'!P33 -> 1037 | Q49: ='103'!Q33 -> 1928 | R49: ='103'!R33 -> 1464 | S49: ='103'!S33 -> 1153 | T49: ='103'!T33 -> 1007 | U49: ='103'!U33 -> 480 | ... AH49: ='103'!AH33 -> 174
A50: 104年 , 2015 | C50: 3527 | D50: 962 | E50: 51 | F50: 772 | G50: 978 | H50: 2 | I50: 0 | J50: 26 | K50: 211 | L50: 32 | M50: 493 | N50: ='104'!N33 -> 118 | O50: ='104'!O33 -> 8868 | P50: ='104'!P33 -> 1215 | Q50: ='104'!Q33 -> 1856 | R50: ='104'!R33 -> 1626 | S50: ='104'!S33 -> 1362 | T50: ='104'!T33 -> 1293 | U50: ='104'!U33 -> 633 | ... AH50: ='104'!AH33 -> 229
A51: 105年 , 2016 | C51: 3181 | D51: 825 | E51: 39 | F51: 738 | G51: 796 | H51: 0 | I51: 0 | J51: 7 | K51: 209 | L51: 27 | M51: 540 | N51: 52 | O51: 7436 | P51: 1696 | Q51: 1392 | R51: 871 | S51: 695 | T51: 1173 | U51: 537 | V51: 718 | W51: 354 | X51: 6271 | Y51: 1694 | Z51: 4227 | AA51: 350 | AB51: 380 | AC51: 193 | AD51: 13 | AE51: 167 | AF51: 21 | AG51: 1 | AH51: 145
A52: 106年 , 2017 | C52: 2912 | D52: 649 | E52: 54 | F52: 772 | G52: 663 | H52: 1 | I52: 0 | J52: 13 | K52: 234 | L52: 44 | M52: 482 | N52: 76 | O52: 7391 | P52: 1015 | Q52: 1507 | R52: 901 | S52: 846 | T52: 1418 | U52: 547 | V52: 656 | W52: 501 | X52: 6124 | Y52: 1612 | Z52: 4061 | AA52: 451 | AB52: 386 | AC52: 231 | AD52: 24 | AE52: 181 | AF52: 39 | AG52: 1 | AH52: 141
A53: 107年 , 2018 | C53: 2478 | D53: 635 | E53: 81 | F53: 541 | G53: 580 | H53: 2 | I53: 0 | J53: 14 | K53: 129 | L53: 80 | M53: 416 | N53: 143 | O53: 8323 | P53: 1053 | Q53: 1229 | R53: 814 | S53: 823 | T53: 1654 | U53: 761 | V53: 1090 | W53: 899 | X53: 6886 | Y53: 1584 | Z53: 4657 | AA53: 645 | AB53: 445 | AC53: 277 | AD53: 25 | AE53: 291 | AF53: 57 | AG53: 12 | AH53: 222
A54: 108年 , 2019 | C54: 2687 | D54: 684 | E54: 55 | F54: 650 | G54: 603 | H54: 0 | I54: 0 | J54: 18 | K54: 142 | L54: 62 | M54: 473 | N54: 190 | O54: 8233 | P54: 1065 | Q54: 1532 | R54: 788 | S54: 731 | T54: 1053 | U54: 758 | V54: 1200 | W54: 1106 | X54: 6987 | Y54: 1551 | Z54: 4540 | AA54: 896 | AB54: 412 | AC54: 259 | AD54: 18 | AE54: 268 | AF54: 55 | AG54: 10 | AH54: 203
A56: 件數與罰鍰金額 | C56: 4.性侵害事件裁罰按裁罰事由統計
C57: 一、加害人裁罰 | M57: 二、媒體不當報導裁罰 | P57: 三、任何人揭露被害人身分裁罰
C58: 合計 | D58: 無正當理由不到場或拒絕接受評估、身心治療或輔導教育者 (違反性侵害犯罪防治法第21條第1項第1款) | G58: 無正當理由不按時到場接受身心治療或輔導教育或接受之時數不足者 (違反性侵害犯罪防治法第21條第1項第2款) | J58: 未依第23條第1項規定定期辦理登記或報到者 (違反性侵害犯罪防治法第21條第1項第3款) | M58: 報導或記載被害人姓名或其他足資識別被害人身分資訊 (違反性侵害犯罪防治法第13條第1項之規定) | P58: 任何人以媒體或其他方法公開或揭露被害人身分資訊(違反性侵害犯罪防治法第13條第2項之規定)
A59: 96年, 2007 | B59: 件數 | C59: ='96'!C39 -> 233 | D59: ='96'!D39 -> 200 | G59: ='96'!G39 -> 21 | J59: ='96'!J39 -> 12 | M59: 0 | P59: 0
B60: 金額 | C60: ='96'!C40 -> 1744000 | D60: ='96'!D40 -> 1424000 | G60: ='96'!G40 -> 210000 | J60: ='96'!J40 -> 110000 | M60: 0 | P60: 0
A61: 97年, 2008 | B61: 件數 | C61: ='97'!C39 -> 382 | D61: ='97'!D39 -> 300 | G61: ='97'!G39 -> 73 | J61: ='97'!J39 -> 9 | M61: 0 | P61: 0
B62: 金額 | C62: ='97'!C40 -> 3212000 | D62: ='97'!D40 -> 2387000 | G62: ='97'!G40 -> 740000 | J62: ='97'!J40 -> 85000 | M62: 0 | P62: 0
A63: 98年 , 2009 | B63: 件數 | C63: ='98'!C39 -> 285 | D63: ='98'!D39 -> 206 | G63: ='98'!G39 -> 56 | J63: ='98'!J39 -> 23 | M63: 0 | P63: 0
B64: 金額 | C64: ='98'!C40 -> 2447000 | D64: ='98'!D40 -> 1657000 | G64: ='98'!G40 -> 560000 | J64: ='98'!J40 -> 230000 | M64: 0 | P64: 0
A65: 99年 , 2010 | B65: 件數 | C65: ='99'!C39 -> 226 | D65: ='99'!D39 -> 114 | G65: ='99'!G39 -> 61 | J65: ='99'!J39 -> 51 | M65: 0 | P65: 0
B66: 金額 | C66: ='99'!C40 -> 2088000 | D66: ='99'!D40 -> 978000 | G66: ='99'!G40 -> 610000 | J66: ='99'!J40 -> 500000 | M66: 0 | P66: 0
A67: 100年 , 2011 | B67: 件數 | C67: ='100'!C39 -> 188 | D67: ='100'!D39 -> 68 | G67: ='100'!G39 -> 63 | J67: ='100'!J39 -> 57 | M67: 0 | P67: 0
B68: 金額 | C68: ='100'!C40 -> 1810000 | D68: ='100'!D40 -> 640000 | G68: ='100'!G40 -> 600000 | J68: ='100'!J40 -> 570000 | M68: 0 | P68: 0
A69: 101年 , 2012 | B69: 件數 | C69: ='101'!C39 -> 318 | D69: ='101'!D39 -> 193 | G69: ='101'!G39 -> 91 | J69: ='101'!J39 -> 34 | M69: 0 | P69: 0
B70: 金額 | C70: ='101'!C40 -> 3620000 | D70: ='101'!D40 -> 2330000 | G70: ='101'!G40 -> 910000 | J70: ='101'!J40 -> 380000 | M70: 0 | P70: 0
A71: 102年 , 2013 | B71: 件數 | C71: ='102'!C39 -> 598 | D71: ='102'!D39 -> 173 | G71: ='102'!G39 -> 335 | J71: ='102'!J39 -> 70 | M71: 0 | P71: 0
B72: 金額 | C72: ='102'!C40 -> 6940000 | D72: ='102'!D40 -> 2470000 | G72: ='102'!G40 -> 3590000 | J72: ='102'!J40 -> 880000 | M72: 0 | P72: 0
A73: 103年 , 2014 | B73: 件數 | C73: ='103'!C39 -> 558 | D73: ='103'!D39 -> 291 | G73: ='103'!G39 -> 174 | J73: ='103'!J39 -> 93 | M73: 0 | P73: 0
B74: 金額 | C74: ='103'!C40 -> 6142000 | D74: ='103'!D40 -> 2972000 | G74: ='103'!G40 -> 2040000 | J74: ='103'!J40 -> 1130000 | M74: 0 | P74: 0
A75: 104年 , 2015 | B75: 件數 | C75: ='104'!C39 -> 522 | D75: ='104'!D39 -> 265 | G75: ='104'!G39 -> 162 | J75: ='104'!J39 -> 95 | M75: 0 | P75: 0
B76: 金額 | C76: ='104'!C40 -> 5936000 | D76: ='104'!D40 -> 2866000 | G76: ='104'!G40 -> 2150000 | J76: ='104'!J40 -> 920000 | M76: 0 | P76: 0
A77: 105年 , 2016 | B77: 件數 | C77: ='105'!C39 -> 545 | D77: ='105'!D39 -> 257 | G77: ='105'!G39 -> 167 | J77: ='105'!J39 -> 121 | M77: 0 | P77: 0
B78: 金額 | C78: ='105'!C40 -> 5908000 | D78: ='105'!D40 -> 2617000 | G78: ='105'!G40 -> 2030000 | J78: ='105'!J40 -> 1261000 | M78: 0 | P78: 0
A79: 106年 , 2017 | B79: 件數 | C79: ='106'!C39 -> 522 | D79: ='106'!D39 -> 254 | G79: ='106'!G39 -> 170 | J79: ='106'!J39 -> 98 | M79: 0 | P79: 0
B80: 金額 | C80: ='106'!C40 -> 6550000 | D80: ='106'!D40 -> 3220000 | G80: ='106'!G40 -> 2150000 | J80: ='106'!J40 -> 1180000 | M80: 0 | P80: 0
A81: 107年 , 2018 | B81: 件數 | C81: ='107'!C40 -> 520 | D81: ='107'!D40 -> 250 | E81: ='107'!E40 -> 0 | F81: ='107'!F40 -> 0 | G81: ='107'!G40 -> 172 | H81: ='107'!H40 -> 0 | I81: ='107'!I40 -> 0 | J81: ='107'!J40 -> 98 | ... L81: ='107'!L40 -> 0 | M81: 0 | P81: 0
B82: 金額 | C82: ='107'!C41 -> 6491000 | D82: ='107'!D41 -> 3110000 | E82: ='107'!E41 -> 0 | F82: ='107'!F41 -> 0 | G82: ='107'!G41 -> 2190000 | H82: ='107'!H41 -> 0 | I82: ='107'!I41 -> 0 | J82: ='107'!J41 -> 1191000 | ... L82: ='107'!L41 -> 0 | M82: 0 | P82: 0
A83: 108年 , 2019 | B83: 件數 | C83: 437 | D83: 154 | G83: 208 | J83: 75 | M83: 1 | P83: 1
B84: 金額 | C84: 5280000 | D84: 1770000 | G84: 2550000 | J84: 960000 | M84: 60000 | P84: 20000

Sheet 歷年(95-106) 
A1: 5.2-03 推展性侵害防治業務
A2: 中華民國95-106年
A4: 年別 與性別 | C4: 1.性侵害被害人保護扶助人次（人次）
C5: 合計 | D5: 諮詢協談 | E5: 庇護安置 | F5: 陪同報案、偵詢（訊） | G5: 陪同出庭 | H5: 驗傷診療 | I5: 法律扶助 | J5: 經濟扶助 | K5: 心理諮商與輔導 | L5: 就業服務 | M5: 就學或轉學服務 | N5: 通譯服務 | O5: 轉介 戒毒中心 | P5: 其他扶助
A6: 95年, 2006 | C6: ='95'!C6 -> 48462 | D6: ='95'!D6 -> 32264 | E6: ='95'!E6 -> 1425 | F6: ='95'!F6 -> 2047 | G6: ='95'!G6 -> 1745 | H6: ='95'!H6 -> 1553 | I6: ='95'!I6 -> 2310 | J6: 0 | K6: ='95'!J6 -> 3159 | L6: ='95'!K6 -> 258 | M6: 0 | N6: ='95'!M6 -> 39 | O6: ='95'!O6 -> 0 | P6: ='95'!N6+'95'!L6 -> 3662
A7: 96年, 2007 | C7: ='96'!C6 -> 72090 | D7: ='96'!D6 -> 45669 | E7: ='96'!E6 -> 1403 | F7: ='96'!F6 -> 1821 | G7: ='96'!G6 -> 2021 | H7: ='96'!H6 -> 2099 | I7: ='96'!I6 -> 2820 | J7: ='96'!J6 -> 2031 | ... P7: ='96'!P6 -> 7319
A8: 97年, 2008 | C8: ='97'!C6 -> 95247 | D8: ='97'!D6 -> 59385 | E8: ='97'!E6 -> 1995 | F8: ='97'!F6 -> 2191 | G8: ='97'!G6 -> 2525 | H8: ='97'!H6 -> 1702 | I8: ='97'!I6 -> 3491 | J8: ='97'!J6 -> 3238 | ... P8: ='97'!P6 -> 10517
A9: 98年 , 2009 | C9: ='98'!C6 -> 101482 | D9: ='98'!D6 -> 60907 | E9: ='98'!E6 -> 1722 | F9: ='98'!F6 -> 2564 | G9: ='98'!G6 -> 2699 | H9: ='98'!H6 -> 1936 | I9: ='98'!I6 -> 3535 | J9: ='98'!J6 -> 3645 | ... P9: ='98'!P6 -> 11599
A10: 99年 , 2010 | C10: ='99'!C6 -> 100942 | D10: ='99'!D6 -> 59985 | E10: ='99'!E6 -> 1817 | F10: ='99'!F6 -> 2896 | G10: ='99'!G6 -> 3231 | H10: ='99'!H6 -> 1672 | I10: ='99'!I6 -> 3688 | J10: ='99'!J6 -> 3126 | ... P10: ='99'!P6 -> 11544
A11: 100年 , 2011 | C11: ='100'!C6 -> 140326 | D11: ='100'!D6 -> 91455 | E11: ='100'!E6 -> 3026 | F11: ='100'!F6 -> 3793 | G11: ='100'!G6 -> 4699 | H11: ='100'!H6 -> 2985 | I11: ='100'!I6 -> 3924 | J11: ='100'!J6 -> 3989 | ... P11: ='100'!P6 -> 11636
A12: 101年 , 2012 | C12: ='101'!C6 -> 158258 | D12: ='101'!D6 -> 105466 | E12: ='101'!E6 -> 2098 | F12: ='101'!F6 -> 3777 | G12: ='101'!G6 -> 5089 | H12: ='101'!H6 -> 2798 | I12: ='101'!I6 -> 5491 | J12: ='101'!J6 -> 3879 | ... P12: ='101'!P6 -> 14290
A13: 102年 , 2013 | C13: ='102'!C6 -> 177258 | D13: ='102'!D6 -> 118258 | E13: ='102'!E6 -> 3667 | F13: ='102'!F6 -> 3925 | G13: ='102'!G6 -> 5602 | H13: ='102'!H6 -> 2604 | I13: ='102'!I6 -> 4251 | J13: ='102'!J6 -> 4551 | ... P13: ='102'!P6 -> 19483
A14: 103年 , 2014 | C14: ='103'!C6 -> 199846 | D14: ='103'!D6 -> 133211 | E14: ='103'!E6 -> 3835 | F14: ='103'!F6 -> 3459 | G14: ='103'!G6 -> 5030 | H14: ='103'!H6 -> 2071 | I14: ='103'!I6 -> 5285 | J14: ='103'!J6 -> 4400 | ... P14: ='103'!P6 -> 20784
A15: 104年 , 2015 | C15: ='104'!C6 -> 221587 | D15: ='104'!D6 -> 167530 | E15: ='104'!E6 -> 5475 | F15: ='104'!F6 -> 3124 | G15: ='104'!G6 -> 4429 | H15: ='104'!H6 -> 2057 | I15: ='104'!I6 -> 3884 | J15: ='104'!J6 -> 3870 | ... P15: ='104'!P6 -> 16090
A16: 105年 , 2016 | C16: 218852 | D16: 169379 | E16: 2826 | F16: 3311 | G16: 4172 | H16: 2119 | I16: 4495 | J16: 4594 | K16: 9556 | L16: 529 | M16: 3161 | N16: 68 | O16: 9 | P16: 14633
A17: 106年 , 2017 | C17: 229525 | D17: 181819 | E17: 2784 | F17: 4011 | G17: 4315 | H17: 1908 | I17: 6186 | J17: 5119 | K17: 9165 | L17: 772 | M17: 2410 | N17: 62 | O17: 16 | P17: 10958
A18: 107年 , 2018
A20: 年別 | C20: 2.性侵害被害人保護扶助金額 (元)
C21: 合計 | D21: 緊急 生活扶助 | E21: 生活扶助 | F21: 急難救助 | G21: 租金補助 | H21: 醫療補助 | I21: 庇護安置 補助 | J21: 心理復健 補助 | K21: 律師費用 補助 | L21: 訴訟費用 補助 | M21: 民間慈善團體資助 | N21: 其他補助
A22: 95年, 2006 | C22: ='95'!C22 -> 49252494 | D22: ='95'!D22 -> 4948107 | E22: ='95'!E22 -> 643237 | F22: ='95'!F22 -> 160000 | G22: ='95'!G22 -> 79000 | H22: ='95'!H22 -> 4559095 | I22: ='95'!I22 -> 20996318 | J22: ='95'!J22 -> 4435227 | ... L22: ='95'!L22 -> 1112840 | M22: 411500 | N22: ='95'!N22+'95'!R22 -> 322831
A23: 96年, 2007 | C23: ='96'!C22 -> 53191330 | D23: ='96'!D22 -> 4849150 | E23: ='96'!E22 -> 281279 | F23: ='96'!F22 -> 95924 | G23: ='96'!G22 -> 88500 | H23: ='96'!H22 -> 5153746 | I23: ='96'!I22 -> 23105231 | J23: ='96'!J22 -> 6270416 | ... N23: ='96'!N22 -> 542393
A24: 97年, 2008 | C24: ='97'!C22 -> 58777127 | D24: ='97'!D22 -> 6255710 | E24: ='97'!E22 -> 1178212 | F24: ='97'!F22 -> 179250 | G24: ='97'!G22 -> 214100 | H24: ='97'!H22 -> 5323970 | I24: ='97'!I22 -> 21369265 | J24: ='97'!J22 -> 8277393 | ... N24: ='97'!N22 -> 767951
A25: 98年 , 2009 | C25: ='98'!C22 -> 64912653 | D25: ='98'!D22 -> 4841636 | E25: ='98'!E22 -> 656794 | F25: ='98'!F22 -> 373910 | G25: ='98'!G22 -> 182150 | H25: ='98'!H22 -> 5379465 | I25: ='98'!I22 -> 30617762 | J25: ='98'!J22 -> 9717288 | ... N25: ='98'!N22 -> 587826
A26: 99年 , 2010 | C26: ='99'!C22 -> 60270362 | D26: ='99'!D22 -> 3994678 | E26: ='99'!E22 -> 544973 | F26: ='99'!F22 -> 311603 | G26: ='99'!G22 -> 136005 | H26: ='99'!H22 -> 5366232 | I26: ='99'!I22 -> 28098046 | J26: ='99'!J22 -> 8511936 | ... N26: ='99'!N22 -> 437096
A27: 100年 , 2011 | C27: ='100'!C22 -> 73603327 | D27: ='100'!D22 -> 4343460 | E27: ='100'!E22 -> 375172 | F27: ='100'!F22 -> 592922 | G27: ='100'!G22 -> 420000 | H27: ='100'!H22 -> 5772874 | I27: ='100'!I22 -> 30564483 | J27: ='100'!J22 -> 13224256 | ... N27: ='100'!N22 -> 2315166
A28: 101年 , 2012 | C28: ='101'!C22 -> 70767228 | D28: ='101'!D22 -> 4469502 | E28: ='101'!E22 -> 1088244 | F28: ='101'!F22 -> 250372 | G28: ='101'!G22 -> 388000 | H28: ='101'!H22 -> 5709935 | I28: ='101'!I22 -> 29816431 | J28: ='101'!J22 -> 11195389 | ... N28: ='101'!N22 -> 1867441
A29: 102年 , 2013 | C29: ='102'!C22 -> 77525239 | D29: ='102'!D22 -> 3835556 | E29: ='102'!E22 -> 3703454 | F29: ='102'!F22 -> 284363 | G29: ='102'!G22 -> 791000 | H29: ='102'!H22 -> 5347531 | I29: ='102'!I22 -> 33586529 | J29: ='102'!J22 -> 10171494 | ... N29: ='102'!N22 -> 2336339
A30: 103年 , 2014 | C30: ='103'!C22 -> 109468205 | D30: ='103'!D22 -> 4468110 | E30: ='103'!E22 -> 1672821 | F30: ='103'!F22 -> 233028 | G30: ='103'!G22 -> 319000 | H30: ='103'!H22 -> 4864662 | I30: ='103'!I22 -> 64177581 | J30: ='103'!J22 -> 12597798 | ... N30: ='103'!N22 -> 2965319
A31: 104年 , 2015 | C31: ='104'!C22 -> 113541707 | D31: ='104'!D22 -> 4091277 | E31: ='104'!E22 -> 2465576 | F31: ='104'!F22 -> 139360 | G31: ='104'!G22 -> 215100 | H31: ='104'!H22 -> 4291757 | I31: ='104'!I22 -> 63913003 | J31: ='104'!J22 -> 14968254 | ... N31: ='104'!N22 -> 1980344
A32: 105年 , 2016 | C32: 124205242 | D32: 5459173 | E32: 2113831 | F32: 231398 | G32: 211140 | H32: 4351143 | I32: 73855941 | J32: 13450939 | K32: 13532800 | L32: 3205000 | M32: 3041949 | N32: 4751928
A33: 106年 , 2017 | C33: 172740417 | D33: 7484759 | E33: 13033290 | F33: 198865 | G33: 723099 | H33: 5242278 | I33: 98970217 | J33: 12807418 | K33: 19259100 | L33: 2427000 | M33: 2285583 | N33: 10308808
A34: 107年 , 2018
A36: 加害人性別 | C36: 3.性侵害加害人處遇 | X36: 3.性侵害加害人處遇
C37: 本期加害人個案人數按處分別分（人） | N37: 累計個案人數按實施身心治療或輔導教育處遇類別（人） | X37: 累計處遇個案人數 按身心治療或輔導教育處遇狀態分 (人) | AB37: 處以行政罰鍰累計人數 (人) | AC37: 限期未履行移送地檢署累計人數 (人) | AD37: 移送地檢署聲請強制治療累計人數 (人) | AE37: 處遇期間再犯累計人數 (人)
C38: 合計 | D38: 刑滿及 保安處分 執行完畢 | E38: 假釋 | F38: 緩刑 | G38: 緩起訴 處分 | H38: 免刑 | I38: 赦免 | J38: 有期徒刑經准易服社會勞動 | K38: 經法院、軍事法院依本法第22條之1第3項裁定停止強制治療 | L38: 依少年事件處理法裁定保護處分確定而法院認有必要者 | M38: 性騷擾防治法第25條之罪 | N38: 不需處遇 累計個案 | O38: 應接受身心治療或輔導教育累計個案人數按處遇期程分 | X38: 合計 | Y38: 完成處遇累計人數 | Z38: 目前繼續接受處遇累計人數 | AA38: 未完成處遇累計人數 | AE38: 合計 | AF38: 再犯性侵害案件 | AG38: 再犯其他案件且合併性侵害 | AH38: 再犯其他非性侵害案件
O39: 計 | P39: 未滿3個月 | Q39: 3個月以上未滿6個月 | R39: 6個月以上未滿9個月 | S39: 9個月以上未滿1年 | T39: 1年以上未滿1年6個月 | U39: 1年6個月以上未滿2年 | V39: 2年以上 至3年 | W39: 3年以上至4年
A40: 95年, 2006 | C40: ='95'!C33 -> 4059 | D40: ='95'!D33 -> 1103 | E40: ='95'!E33 -> 2020 | F40: ='95'!F33 -> 917 | G40: ='95'!G33 -> 18 | H40: ='95'!H33 -> 1 | I40: ='95'!I33 -> 0 | J40: 0 | K40: 0 | L40: 0 | M40: 0 | N40: ='95'!J33 -> 50 | O40: ='95'!K33 -> 3620 | P40: ='95'!L33 -> 751 | Q40: ='95'!M33 -> 378 | R40: ='95'!N33 -> 56 | S40: ='95'!O33 -> 1926 | T40: ='95'!P33 -> 312 | U40: ='95'!Q33 -> 126 | V40: ='95'!R33 -> 71 | W40: 0 | X40: ='95'!S33 -> 3870 | Y40: ='95'!T33 -> 1856 | Z40: ='95'!U33 -> 1214 | AA40: ='95'!V33 -> 800 | AB40: ='95'!W33 -> 61 | AC40: ='95'!X33 -> 7 | AD40: ='95'!Y33 -> 9 | AE40: ='95'!Z33 -> 132 | ... AH40: ='95'!AC33 -> 84
A41: 96年, 2007 | C41: ='96'!C33 -> 10431 | D41: ='96'!D33 -> 2798 | E41: ='96'!E33 -> 4946 | F41: ='96'!F33 -> 2562 | G41: ='96'!G33 -> 108 | H41: ='96'!H33 -> 9 | I41: ='96'!I33 -> 8 | J41: 0 | K41: 0 | L41: 0 | M41: 0 | N41: ='96'!J33 -> 76 | O41: ='96'!K33 -> 5037 | P41: ='96'!L33 -> 1590 | Q41: ='96'!M33 -> 380 | R41: ='96'!N33 -> 406 | S41: ='96'!O33 -> 1796 | T41: ='96'!P33 -> 619 | U41: ='96'!Q33 -> 124 | V41: ='96'!R33 -> 122 | W41: 0 | X41: ='96'!S33 -> 5229 | Y41: ='96'!T33 -> 2533 | Z41: ='96'!U33 -> 1762 | AA41: ='96'!V33 -> 934 | AB41: ='96'!W33 -> 112 | AC41: ='96'!X33 -> 10 | AD41: ='96'!Y33 -> 10 | AE41: ='96'!Z33 -> 164 | ... AH41: ='96'!AC33 -> 93
A42: 97年, 2008 | C42: ='97'!C33 -> 6757 | D42: ='97'!D33 -> 1748 | E42: ='97'!E33 -> 2935 | F42: ='97'!F33 -> 1933 | G42: ='97'!G33 -> 70 | H42: ='97'!H33 -> 28 | I42: ='97'!I33 -> 43 | J42: 0 | K42: 0 | L42: 0 | M42: 0 | N42: ='97'!J33 -> 97 | O42: ='97'!K33 -> 5595 | P42: ='97'!L33 -> 1817 | Q42: ='97'!M33 -> 540 | R42: ='97'!N33 -> 582 | S42: ='97'!O33 -> 1788 | T42: ='97'!P33 -> 575 | U42: ='97'!Q33 -> 145 | V42: ='97'!R33 -> 148 | W42: 0 | X42: ='97'!S33 -> 6301 | Y42: ='97'!T33 -> 3228 | Z42: ='97'!U33 -> 1988 | AA42: ='97'!V33 -> 1085 | AB42: ='97'!W33 -> 61 | AC42: ='97'!X33 -> 23 | AD42: ='97'!Y33 -> 0 | AE42: ='97'!Z33 -> 217 | ... AH42: ='97'!AC33 -> 153
A43: 98年 , 2009 | C43: ='98'!C33 -> 3585 | D43: ='98'!D33 -> 911 | E43: ='98'!E33 -> 1339 | F43: ='98'!F33 -> 1256 | G43: ='98'!G33 -> 58 | H43: ='98'!H33 -> 1 | I43: ='98'!I33 -> 20 | J43: 0 | K43: 0 | L43: 0 | M43: 0 | N43: ='98'!J33 -> 674 | O43: ='98'!K33 -> 7168 | P43: ='98'!L33 -> 2754 | Q43: ='98'!M33 -> 1037 | R43: ='98'!N33 -> 722 | S43: ='98'!O33 -> 1734 | T43: ='98'!P33 -> 536 | U43: ='98'!Q33 -> 173 | V43: ='98'!R33 -> 212 | W43: ='95'!S36 -> 0 | X43: ='98'!S33 -> 8307 | Y43: ='98'!T33 -> 4432 | Z43: ='98'!U33 -> 2513 | AA43: ='98'!V33 -> 1362 | AB43: ='98'!W33 -> 130 | AC43: ='98'!X33 -> 23 | AD43: ='98'!Y33 -> 9 | AE43: ='98'!Z33 -> 261 | ... AH43: ='98'!AC33 -> 177
A44: 99年 , 2010 | C44: ='99'!C33 -> 2148 | D44: ='99'!D33 -> 661 | E44: ='99'!E33 -> 749 | F44: ='99'!F33 -> 694 | G44: ='99'!G33 -> 41 | H44: ='99'!H33 -> 3 | I44: ='99'!I33 -> 0 | J44: 0 | K44: 0 | L44: 0 | M44: 0 | N44: ='99'!J33 -> 558 | O44: ='99'!K33 -> 8406 | P44: ='99'!L33 -> 2835 | Q44: ='99'!M33 -> 1572 | R44: ='99'!N33 -> 926 | S44: ='99'!O33 -> 1916 | T44: ='99'!P33 -> 700 | U44: ='99'!Q33 -> 209 | V44: ='99'!R33 -> 248 | W44: ='95'!S37 -> 0 | X44: ='99'!S33 -> 9704 | Y44: ='99'!T33 -> 5494 | Z44: ='99'!U33 -> 2596 | AA44: ='99'!V33 -> 1614 | AB44: ='99'!W33 -> 216 | AC44: ='99'!X33 -> 71 | AD44: ='99'!Y33 -> 1 | AE44: ='99'!Z33 -> 324 | ... AH44: ='99'!AC33 -> 228
A45: 100年 , 2011 | C45: ='100'!C33 -> 1945 | D45: ='100'!D33 -> 760 | E45: ='100'!E33 -> 355 | F45: ='100'!F33 -> 770 | G45: ='100'!G33 -> 56 | H45: ='100'!H33 -> 4 | I45: ='100'!I33 -> 0 | J45: 0 | K45: 0 | L45: 0 | M45: 0 | N45: ='100'!J33 -> 116 | O45: ='100'!K33 -> 9036 | P45: ='100'!L33 -> 2109 | Q45: ='100'!M33 -> 1826 | R45: ='100'!N33 -> 1405 | S45: ='100'!O33 -> 1329 | T45: ='100'!P33 -> 1560 | U45: ='100'!Q33 -> 239 | V45: ='100'!R33 -> 568 | W45: ='95'!S38 -> 0 | X45: ='100'!S33 -> 9348 | Y45: ='100'!T33 -> 5278 | Z45: ='100'!U33 -> 2558 | AA45: ='100'!V33 -> 1512 | AB45: ='100'!W33 -> 208 | AC45: ='100'!X33 -> 74 | AD45: ='100'!Y33 -> 4 | AE45: ='100'!Z33 -> 319 | ... AH45: ='100'!AC33 -> 247
A46: 101年 , 2012 | C46: ='101'!C33 -> 2318 | D46: ='101'!D33 -> 852 | E46: ='101'!E33 -> 426 | F46: ='101'!F33 -> 932 | G46: ='101'!G33 -> 93 | H46: ='101'!H33 -> 15 | I46: ='101'!I33 -> 0 | J46: 0 | K46: 0 | L46: 0 | M46: 0 | N46: ='101'!J33 -> 152 | O46: ='101'!K33 -> 11233 | P46: ='101'!L33 -> 3086 | Q46: ='101'!M33 -> 2107 | R46: ='101'!N33 -> 1708 | S46: ='101'!O33 -> 1961 | T46: ='101'!P33 -> 1348 | U46: ='101'!Q33 -> 288 | V46: ='101'!R33 -> 735 | W46: ='95'!S39 -> 0 | X46: ='101'!S33 -> 11356 | Y46: ='101'!T33 -> 6238 | Z46: ='101'!U33 -> 3252 | AA46: ='101'!V33 -> 1866 | AB46: ='101'!W33 -> 523 | AC46: ='101'!X33 -> 214 | AD46: ='101'!Y33 -> 21 | AE46: ='101'!Z33 -> 397 | ... AH46: ='101'!AC33 -> 311
A47: 102年 , 2013 | C47: ='102'!C33 -> 2625 | D47: ='102'!D33 -> 754 | E47: ='102'!E33 -> 468 | F47: ='102'!F33 -> 845 | G47: ='102'!G33 -> 106 | H47: ='102'!H33 -> 1 | I47: ='102'!I33 -> 0 | J47: ='102'!J33 -> 19 | ... AD47: ='102'!AD33 -> 28 | AE47: ='102'!AB33 -> 317 | AF47: ='102'!AC33 -> 232 | AG47: ='102'!AD33 -> 28 | AH47: ='102'!AE33 -> 206
A48: 103年 , 2014 | C48: ='103'!C33 -> 3088 | D48: ='103'!D33 -> 710 | E48: ='103'!E33 -> 643 | F48: ='103'!F33 -> 1028 | G48: ='103'!G33 -> 143 | H48: ='103'!H33 -> 0 | I48: ='103'!I33 -> 0 | J48: ='103'!J33 -> 41 | ... AH48: ='103'!AH33 -> 174
A49: 104年 , 2015 | C49: ='104'!C33 -> 3527 | D49: ='104'!D33 -> 962 | E49: ='104'!E33 -> 772 | F49: ='104'!F33 -> 978 | G49: ='104'!G33 -> 211 | H49: ='104'!H33 -> 2 | I49: ='104'!I33 -> 0 | J49: ='104'!J33 -> 51 | ... AH49: ='104'!AH33 -> 229
A50: 105年 , 2016 | C50: 3181 | D50: 825 | E50: 738 | F50: 796 | G50: 209 | H50: 0 | I50: 0 | J50: 39 | K50: 7 | L50: 540 | M50: 27 | N50: 52 | O50: 7436 | P50: 1696 | Q50: 1392 | R50: 871 | S50: 695 | T50: 1173 | U50: 537 | V50: 718 | W50: 354 | X50: 6271 | Y50: 1694 | Z50: 4227 | AA50: 350 | AB50: 380 | AC50: 193 | AD50: 13 | AE50: 167 | AF50: 21 | AG50: 1 | AH50: 145
A51: 106年 , 2017 | C51: 2912 | D51: 649 | E51: 772 | F51: 663 | G51: 234 | H51: 1 | I51: 0 | J51: 54 | K51: 13 | L51: 482 | M51: 44 | N51: 76 | O51: 7391 | P51: 1015 | Q51: 1507 | R51: 901 | S51: 846 | T51: 1418 | U51: 547 | V51: 656 | W51: 501 | X51: 6124 | Y51: 1612 | Z51: 4061 | AA51: 451 | AB51: 386 | AC51: 231 | AD51: 24 | AE51: 181 | AF51: 39 | AG51: 1 | AH51: 141
A53: 件數與罰鍰金額 | C53: 4.性侵害事件裁罰按裁罰事由統計
C54: 合計 | D54: 無正當理由不到場或拒絕接受評估、身心治療或輔導教育者 (違反性侵害犯罪防治法第21條第1項第1款) | G54: 無正當理由不按時到場接受身心治療或輔導教育或接受之時數不足者 (違反性侵害犯罪防治法第21條第1項第2款) | J54: 未依第23條第1項規定定期辦理登記或報到者 (違反性侵害犯罪防治法第21條第1項第3款)
A55: 96年, 2007 | B55: 件數 | C55: ='96'!C39 -> 233 | D55: ='96'!D39 -> 200 | G55: ='96'!G39 -> 21 | J55: ='96'!J39 -> 12
B56: 金額 | C56: ='96'!C40 -> 1744000 | D56: ='96'!D40 -> 1424000 | G56: ='96'!G40 -> 210000 | J56: ='96'!J40 -> 110000
A57: 97年, 2008 | B57: 件數 | C57: ='97'!C39 -> 382 | D57: ='97'!D39 -> 300 | G57: ='97'!G39 -> 73 | J57: ='97'!J39 -> 9
B58: 金額 | C58: ='97'!C40 -> 3212000 | D58: ='97'!D40 -> 2387000 | G58: ='97'!G40 -> 740000 | J58: ='97'!J40 -> 85000
A59: 98年 , 2009 | B59: 件數 | C59: ='98'!C39 -> 285 | D59: ='98'!D39 -> 206 | G59: ='98'!G39 -> 56 | J59: ='98'!J39 -> 23
B60: 金額 | C60: ='98'!C40 -> 2447000 | D60: ='98'!D40 -> 1657000 | G60: ='98'!G40 -> 560000 | J60: ='98'!J40 -> 230000
A61: 99年 , 2010 | B61: 件數 | C61: ='99'!C39 -> 226 | D61: ='99'!D39 -> 114 | G61: ='99'!G39 -> 61 | J61: ='99'!J39 -> 51
B62: 金額 | C62: ='99'!C40 -> 2088000 | D62: ='99'!D40 -> 978000 | G62: ='99'!G40 -> 610000 | J62: ='99'!J40 -> 500000
A63: 100年 , 2011 | B63: 件數 | C63: ='100'!C39 -> 188 | D63: ='100'!D39 -> 68 | G63: ='100'!G39 -> 63 | J63: ='100'!J39 -> 57
B64: 金額 | C64: ='100'!C40 -> 1810000 | D64: ='100'!D40 -> 640000 | G64: ='100'!G40 -> 600000 | J64: ='100'!J40 -> 570000
A65: 101年 , 2012 | B65: 件數 | C65: ='101'!C39 -> 318 | D65: ='101'!D39 -> 193 | G65: ='101'!G39 -> 91 | J65: ='101'!J39 -> 34
B66: 金額 | C66: ='101'!C40 -> 3620000 | D66: ='101'!D40 -> 2330000 | G66: ='101'!G40 -> 910000 | J66: ='101'!J40 -> 380000
A67: 102年 , 2013 | B67: 件數 | C67: ='102'!C39 -> 598 | D67: ='102'!D39 -> 173 | G67: ='102'!G39 -> 335 | J67: ='102'!J39 -> 70
B68: 金額 | C68: ='102'!C40 -> 6940000 | D68: ='102'!D40 -> 2470000 | G68: ='102'!G40 -> 3590000 | J68: ='102'!J40 -> 880000
A69: 103年 , 2014 | B69: 件數 | C69: ='103'!C39 -> 558 | D69: ='103'!D39 -> 291 | G69: ='103'!G39 -> 174 | J69: ='103'!J39 -> 93
B70: 金額 | C70: ='103'!C40 -> 6142000 | D70: ='103'!D40 -> 2972000 | G70: ='103'!G40 -> 2040000 | J70: ='103'!J40 -> 1130000
A71: 104年 , 2015 | B71: 件數 | C71: ='104'!C39 -> 522 | D71: ='104'!D39 -> 265 | G71: ='104'!G39 -> 162 | J71: ='104'!J39 -> 95
B72: 金額 | C72: ='104'!C40 -> 5936000 | D72: ='104'!D40 -> 2866000 | G72: ='104'!G40 -> 2150000 | J72: ='104'!J40 -> 920000
A73: 105年 , 2016 | B73: 件數 | C73: ='105'!C39 -> 545 | D73: ='105'!D39 -> 257 | G73: ='105'!G39 -> 167 | J73: ='105'!J39 -> 121
B74: 金額 | C74: ='105'!C40 -> 5908000 | D74: ='105'!D40 -> 2617000 | G74: ='105'!G40 -> 2030000 | J74: ='105'!J40 -> 1261000
A75: 106年 , 2017 | B75: 件數 | C75: ='106'!C39 -> 522 | D75: ='106'!D39 -> 254 | G75: ='106'!G39 -> 170 | J75: ='106'!J39 -> 98
B76: 金額 | C76: ='106'!C40 -> 6550000 | D76: ='106'!D40 -> 3220000 | G76: ='106'!G40 -> 2150000 | J76: ='106'!J40 -> 1180000
A77: 107年 , 2018 | B77: 件數
B78: 金額
A82: 更新日期：2019/4/22

Sheet 性侵加害人處遇_處分別(歷年)
B1: 合計 | C1: 有期徒刑或保安處分執行完畢 | D1: 有期徒刑經易服社會勞動 | E1: 假釋 | F1: 緩刑 | G1: 免刑 | H1: 赦免 | I1: 經法院、軍事法院依本法第22條之1第3項裁定停止強制治療 | J1: 經緩起訴處分確定者 | K1: 犯性騷擾防治法第25條判決有罪確定者 | L1: 依少年事件處理法裁定保護處分確定而法院認有必要者
A2: 9500 | B2: 4059 | C2: 1103 | D2: 0 | E2: 2020 | F2: 917 | G2: 1 | H2: 0 | I2: 0 | J2: 18 | K2: 0 | L2: 0
A3: 9600 | B3: 10431 | C3: 2798 | D3: 0 | E3: 4946 | F3: 2562 | G3: 9 | H3: 8 | I3: 0 | J3: 108 | K3: 0 | L3: 0
A4: 9700 | B4: 6757 | C4: 1748 | D4: 0 | E4: 2935 | F4: 1933 | G4: 28 | H4: 43 | I4: 0 | J4: 70 | K4: 0 | L4: 0
A5: 9800 | B5: 3585 | C5: 911 | D5: 0 | E5: 1339 | F5: 1256 | G5: 1 | H5: 20 | I5: 0 | J5: 58 | K5: 0 | L5: 0
A6: 9900 | B6: 2148 | C6: 661 | D6: 0 | E6: 749 | F6: 694 | G6: 3 | H6: 0 | I6: 0 | J6: 41 | K6: 0 | L6: 0
A7: 10000 | B7: 1945 | C7: 760 | D7: 0 | E7: 355 | F7: 770 | G7: 4 | H7: 0 | I7: 0 | J7: 56 | K7: 0 | L7: 0
A8: 10100 | B8: 2318 | C8: 852 | D8: 0 | E8: 426 | F8: 932 | G8: 15 | H8: 0 | I8: 0 | J8: 93 | K8: 0 | L8: 0
A9: 10200 | B9: 2625 | C9: 754 | D9: 19 | E9: 468 | F9: 845 | G9: 1 | H9: 0 | I9: 5 | J9: 106 | K9: 61 | L9: 366
A10: 10300 | B10: 3088 | C10: 710 | D10: 41 | E10: 643 | F10: 1028 | G10: 0 | H10: 0 | I10: 4 | J10: 143 | K10: 64 | L10: 455
A11: 10400 | B11: 3527 | C11: 962 | D11: 51 | E11: 772 | F11: 978 | G11: 2 | H11: 0 | I11: 26 | J11: 211 | K11: 32 | L11: 493
A12: 10500 | B12: 3181 | C12: 825 | D12: 39 | E12: 738 | F12: 796 | G12: 0 | H12: 0 | I12: 7 | J12: 209 | K12: 27 | L12: 540
A13: 10600 | B13: 2912 | C13: 649 | D13: 54 | E13: 772 | F13: 663 | G13: 1 | H13: 0 | I13: 13 | J13: 234 | K13: 44 | L13: 482
A14: 10700 | B14: 2478 | C14: 635 | D14: 81 | E14: 541 | F14: 580 | G14: 2 | H14: 0 | I14: 14 | J14: 129 | K14: 80 | L14: 416

Sheet 108
A1: 5.2-03 推展性侵害防治業務
A2: 中華民國108年
A4: 被害人國籍身分 與性別 | C4: 1.性侵害被害人保護扶助人次（人次）
C5: 合計 | D5: 諮詢協談 | E5: 庇護安置 | F5: 陪同報案、偵詢（訊） | G5: 陪同出庭 | H5: 驗傷診療 | I5: 法律扶助 | J5: 經濟扶助 | K5: 心理諮商與輔導 | L5: 就業服務 | M5: 就學或轉學服務 | N5: 通譯服務 | O5: 轉介 戒毒中心 | P5: 其他扶助
A6: 合計 | B6: 計 | C6: 340891 | D6: 268980 | E6: 1796 | F6: 4994 | G6: 4311 | H6: 2222 | I6: 11159 | J6: 4600 | K6: 14946 | L6: 1140 | M6: 7416 | N6: 263 | O6: 2 | P6: 19062
B7: 男 | C7: 43419 | D7: 34888 | E7: 175 | F7: 581 | G7: 522 | H7: 133 | I7: 1516 | J7: 412 | K7: 1582 | L7: 97 | M7: 1345 | N7: 23 | O7: 0 | P7: 2145
B8: 女 | C8: 297472 | D8: 234092 | E8: 1621 | F8: 4413 | G8: 3789 | H8: 2089 | I8: 9643 | J8: 4188 | K8: 13364 | L8: 1043 | M8: 6071 | N8: 240 | O8: 2 | P8: 16917
A9: 本國籍 非原住民 | B9: 男 | C9: 37157 | D9: 29928 | E9: 139 | F9: 489 | G9: 420 | H9: 122 | I9: 1363 | J9: 344 | K9: 1426 | L9: 90 | M9: 1122 | N9: 22 | O9: 0 | P9: 1692
B10: 女 | C10: 255328 | D10: 201185 | E10: 1428 | F10: 3877 | G10: 3237 | H10: 1803 | I10: 8669 | J10: 3664 | K10: 11377 | L10: 916 | M10: 4904 | N10: 179 | O10: 1 | P10: 14088
A11: 本國籍 原住民 | B11: 男 | C11: 4553 | D11: 3590 | E11: 36 | F11: 75 | G11: 83 | H11: 9 | I11: 48 | J11: 61 | K11: 85 | L11: 4 | M11: 147 | N11: 0 | O11: 0 | P11: 415
B12: 女 | C12: 27609 | D12: 21132 | E12: 153 | F12: 360 | G12: 376 | H12: 224 | I12: 382 | J12: 406 | K12: 1303 | L12: 91 | M12: 777 | N12: 11 | O12: 0 | P12: 2394
A13: 大陸籍 （含港澳） | B13: 男 | C13: 84 | D13: 69 | E13: 0 | F13: 2 | G13: 0 | H13: 1 | I13: 1 | J13: 0 | K13: 5 | L13: 0 | M13: 6 | N13: 0 | O13: 0 | P13: 0
B14: 女 | C14: 835 | D14: 667 | E14: 24 | F14: 11 | G14: 9 | H14: 5 | I14: 25 | J14: 13 | K14: 31 | L14: 1 | M14: 2 | N14: 0 | O14: 0 | P14: 47
A15: 外國籍 | B15: 男 | C15: 193 | D15: 176 | E15: 0 | F15: 4 | G15: 0 | H15: 1 | I15: 4 | J15: 1 | K15: 1 | L15: 0 | M15: 0 | N15: 1 | O15: 0 | P15: 5
B16: 女 | C16: 4672 | D16: 3961 | E16: 8 | F16: 74 | G16: 83 | H16: 16 | I16: 144 | J16: 62 | K16: 117 | L16: 16 | M16: 22 | N16: 41 | O16: 1 | P16: 127
A17: 其他 | B17: 男 | C17: 1432 | D17: 1125 | E17: 0 | F17: 11 | G17: 19 | H17: 0 | I17: 100 | J17: 6 | K17: 65 | L17: 3 | M17: 70 | N17: 0 | O17: 0 | P17: 33
B18: 女 | C18: 9028 | D18: 7147 | E18: 8 | F18: 91 | G18: 84 | H18: 41 | I18: 423 | J18: 43 | K18: 536 | L18: 19 | M18: 366 | N18: 9 | O18: 0 | P18: 261
A20: 被害人國籍身分 | C20: 2.性侵害被害人保護扶助金額 (元)
C21: 合計 | D21: 緊急 生活扶助 | E21: 生活扶助 | F21: 急難救助 | G21: 租金補助 | H21: 醫療補助 | I21: 庇護安置 補助 | J21: 心理復健 補助 | K21: 律師費用 補助 | L21: 訴訟費用 補助 | M21: 民間慈善團體資助 | N21: 其他補助
A22: 合計 | C22: 159739842 | D22: 6155293 | E22: 23167712 | F22: 710538 | G22: 1664240 | H22: 4462123 | I22: 86377184 | J22: 12841662 | K22: 15541000 | L22: 1820500 | M22: 2890884 | N22: 4108706
A23: 本國籍非原住民 | C23: 140819839 | D23: 5120550 | E23: 21698585 | F23: 574598 | G23: 1539440 | H23: 4116243 | I23: 74223073 | J23: 11778482 | K23: 14725800 | L23: 1713000 | M23: 1996919 | N23: 3333149
A24: 本國籍原住民 | C24: 16826096 | D24: 707915 | E24: 1221667 | F24: 97940 | G24: 87600 | H24: 256479 | I24: 11634622 | J24: 718350 | K24: 465200 | L24: 19500 | M24: 893800 | N24: 723023
A25: 大陸籍（含港澳） | C25: 349793 | D25: 0 | E25: 0 | F25: 0 | G25: 0 | H25: 20293 | I25: 192000 | J25: 63500 | K25: 50000 | L25: 8000 | M25: 0 | N25: 16000
A26: 外國籍 | C26: 1004243 | D26: 302052 | E26: 4000 | F26: 0 | G26: 0 | H26: 62018 | I26: 183644 | J26: 103330 | K26: 300000 | L26: 12500 | M26: 165 | N26: 36534
A27: 其他 | C27: 739871 | D27: 24776 | E27: 243460 | F27: 38000 | G27: 37200 | H27: 7090 | I27: 143845 | J27: 178000 | K27: 0 | L27: 67500 | M27: 0 | N27: 0
A29: 加害人性別 | C29: 3.性侵害加害人處遇 | X29: 3.性侵害加害人處遇
C30: 本期加害人個案人數按處分別分（人） | N30: 累計個案人數按實施身心治療或輔導教育處遇類別（人） | X30: 累計處遇個案人數按身心治療 或輔導教育處遇狀態分 (人) | AB30: 處以行政罰鍰累計人數 (人) | AC30: 限期未履行移送地檢署累計人數 (人) | AD30: 移送地檢署聲請強制治療累計人數 (人) | AE30: 處遇期間再犯累計人數 (人)
C31: 合計 | D31: 有期徒刑或保安處分執行完畢 | E31: 有期徒刑經易服社會勞動 | F31: 假釋 | G31: 緩刑 | H31: 免刑 | I31: 赦免 | J31: 經法院、軍事法院依本法第22條之1第3項裁定停止強制治療 | K31: 經緩起訴處分確定者 | L31: 犯性騷擾防治法第25條判決有罪確定者 | M31: 依少年事件處理法裁定保護處分確定而法院認有必要者 | N31: 不需處遇 累計個案 | O31: 應接受身心治療或輔導教育累計個案人數按處遇期程分 | X31: 合計 | Y31: 完成處遇累計人數 | Z31: 目前繼續接受處遇累計人數 | AA31: 未完成處遇累計人數 | AE31: 合計 | AF31: 再犯性侵害案件 | AG31: 再犯其他案件且合併性侵害 | AH31: 再犯其他非性侵害案件
O32: 計 | P32: 未滿3個月 | Q32: 3個月以上未滿6個月 | R32: 6個月以上未滿9個月 | S32: 9個月以上未滿1年 | T32: 1年以上未滿1年6個月 | U32: 1年6個月以上未滿2年 | V32: 2年以上 至3年 | W32: 3年以上至4年
A33: 計 | C33: 2687 | D33: 684 | E33: 55 | F33: 650 | G33: 603 | H33: 0 | I33: 0 | J33: 18 | K33: 142 | L33: 62 | M33: 473 | N33: 190 | O33: 8233 | P33: 1065 | Q33: 1532 | R33: 788 | S33: 731 | T33: 1053 | U33: 758 | V33: 1200 | W33: 1106 | X33: 6987 | Y33: 1551 | Z33: 4540 | AA33: 896 | AB33: 412 | AC33: 259 | AD33: 18 | AE33: 268 | AF33: 55 | AG33: 10 | AH33: 203
A34: 男 | C34: 2651 | D34: 680 | E34: 55 | F34: 644 | G34: 600 | H34: 0 | I34: 0 | J34: 18 | K34: 137 | L34: 61 | M34: 456 | N34: 186 | O34: 8161 | P34: 1053 | Q34: 1514 | R34: 776 | S34: 723 | T34: 1043 | U34: 750 | V34: 1197 | W34: 1105 | X34: 6951 | Y34: 1541 | Z34: 4519 | AA34: 891 | AB34: 410 | AC34: 257 | AD34: 18 | AE34: 266 | AF34: 55 | AG34: 10 | AH34: 201
A35: 女 | C35: 36 | D35: 4 | E35: 0 | F35: 6 | G35: 3 | H35: 0 | I35: 0 | J35: 0 | K35: 5 | L35: 1 | M35: 17 | N35: 4 | O35: 72 | P35: 12 | Q35: 18 | R35: 12 | S35: 8 | T35: 10 | U35: 8 | V35: 3 | W35: 1 | X35: 36 | Y35: 10 | Z35: 21 | AA35: 5 | AB35: 2 | AC35: 2 | AD35: 0 | AE35: 2 | AF35: 0 | AG35: 0 | AH35: 2
A37: 件數與罰鍰金額 | C37: 4.性侵害事件裁罰按裁罰事由統計
C38: 總計 | D38: 一、加害人裁罰 | N38: 二、媒體不當報導裁罰 | Q38: 三、任何人揭露被害人身分裁罰
D39: 合計 | E39: 無正當理由不到場或拒絕接受評估、身心治療或輔導教育者 (違反性侵害犯罪防治法第21條第1項第1款) | H39: 無正當理由不按時到場接受身心治療或輔導教育或接受之時數不足者 (違反性侵害犯罪防治法第21條第1項第2款) | K39: 未依第23條第1項規定定期辦理登記或報到者 (違反性侵害犯罪防治法第21條第1項第3款) | N39: 報導或記載被害人姓名或其他足資識別被害人身分資訊 (違反性侵害犯罪防治法第13條第1項之規定) | Q39: 任何人以媒體或其他方法公開或揭露被害人身分資訊(違反性侵害犯罪防治法第13條第2項之規定)
A40: 件數 (件) | C40: 439 | D40: 437 | E40: 154 | H40: 208 | K40: 75 | N40: 1 | Q40: 1
A41: 罰鍰金額 (元) | C41: 5360000 | D41: 5280000 | E41: 1770000 | H41: 2550000 | K41: 960000 | N41: 60000 | Q41: 20000
A42: 資料來源：直轄市及縣(市)政府。
S46: 1003 | T46: 925 | U46: 361 | V46: 372 | W46: 6664 | X46: 2936 | Y46: 2823 | Z46: 905 | AA46: 317 | AB46: 232 | AC46: 0 | AD46: 206 | AE46: 48 | AF46: 4 | AG46: 154
S47: 991 | T47: 921 | U47: 360 | V47: 372 | W47: 6630 | X47: 2920 | Y47: 2808 | Z47: 902 | AA47: 317 | AB47: 231 | AC47: 0 | AD47: 206 | AE47: 48 | AF47: 4 | AG47: 154
S48: 12 | T48: 4 | U48: 1 | V48: 0 | W48: 34 | X48: 16 | Y48: 15 | Z48: 3 | AA48: 0 | AB48: 1 | AC48: 0 | AD48: 0 | AE48: 0 | AF48: 0 | AG48: 0

Sheet 107
A1: 5.2-03 推展性侵害防治業務
A2: 中華民國107年
A4: 被害人國籍身分 與性別 | C4: 1.性侵害被害人保護扶助人次（人次）
C5: 合計 | D5: 諮詢協談 | E5: 庇護安置 | F5: 陪同報案、偵詢（訊） | G5: 陪同出庭 | H5: 驗傷診療 | I5: 法律扶助 | J5: 經濟扶助 | K5: 心理諮商與輔導 | L5: 就業服務 | M5: 就學或轉學服務 | N5: 通譯服務 | O5: 轉介 戒毒中心 | P5: 其他扶助
A6: 合計 | B6: 計 | C6: 245515 | D6: 189141 | E6: 1848 | F6: 3914 | G6: 4233 | H6: 1472 | I6: 6696 | J6: 5165 | K6: 11257 | L6: 1108 | M6: 5812 | N6: 682 | O6: 12 | P6: 14175
B7: 男 | C7: 30324 | D7: 23710 | E7: 175 | F7: 468 | G7: 478 | H7: 94 | I7: 794 | J7: 522 | K7: 1170 | L7: 69 | M7: 930 | N7: 94 | O7: 8 | P7: 1812
B8: 女 | C8: 215191 | D8: 165431 | E8: 1673 | F8: 3446 | G8: 3755 | H8: 1378 | I8: 5902 | J8: 4643 | K8: 10087 | L8: 1039 | M8: 4882 | N8: 588 | O8: 4 | P8: 12363
A9: 本國籍 非原住民 | B9: 男 | C9: 25768 | D9: 20183 | E9: 149 | F9: 382 | G9: 379 | H9: 87 | I9: 671 | J9: 468 | K9: 1106 | L9: 64 | M9: 750 | N9: 65 | O9: 6 | P9: 1458
B10: 女 | C10: 179868 | D10: 138978 | E10: 1450 | F10: 2889 | G10: 3175 | H10: 1176 | I10: 4998 | J10: 3993 | K10: 8748 | L10: 888 | M10: 3750 | N10: 418 | O10: 0 | P10: 9405
A11: 本國籍 原住民 | B11: 男 | C11: 3337 | D11: 2547 | E11: 26 | F11: 64 | G11: 93 | H11: 6 | I11: 72 | J11: 47 | K11: 29 | L11: 2 | M11: 129 | N11: 7 | O11: 0 | P11: 315
B12: 女 | C12: 23662 | D12: 17154 | E12: 192 | F12: 417 | G12: 388 | H12: 132 | I12: 474 | J12: 541 | K12: 741 | L12: 81 | M12: 898 | N12: 17 | O12: 0 | P12: 2627
A13: 大陸籍 （含港澳） | B13: 男 | C13: 43 | D13: 39 | E13: 0 | F13: 0 | G13: 0 | H13: 0 | I13: 0 | J13: 0 | K13: 0 | L13: 0 | M13: 1 | N13: 1 | O13: 0 | P13: 2
B14: 女 | C14: 851 | D14: 636 | E14: 14 | F14: 8 | G14: 21 | H14: 5 | I14: 27 | J14: 12 | K14: 34 | L14: 1 | M14: 3 | N14: 0 | O14: 0 | P14: 90
A15: 外國籍 | B15: 男 | C15: 72 | D15: 48 | E15: 0 | F15: 0 | G15: 0 | H15: 1 | I15: 4 | J15: 1 | K15: 0 | L15: 0 | M15: 0 | N15: 10 | O15: 0 | P15: 8
B16: 女 | C16: 3293 | D16: 2650 | E16: 10 | F16: 69 | G16: 58 | H16: 19 | I16: 108 | J16: 57 | K16: 110 | L16: 38 | M16: 12 | N16: 53 | O16: 4 | P16: 105
A17: 其他 | B17: 男 | C17: 1104 | D17: 893 | E17: 0 | F17: 22 | G17: 6 | H17: 0 | I17: 47 | J17: 6 | K17: 35 | L17: 3 | M17: 50 | N17: 11 | O17: 2 | P17: 29
B18: 女 | C18: 7517 | D18: 6013 | E18: 7 | F18: 63 | G18: 113 | H18: 46 | I18: 295 | J18: 40 | K18: 454 | L18: 31 | M18: 219 | N18: 100 | O18: 0 | P18: 136
A20: 被害人國籍身分 | C20: 2.性侵害被害人保護扶助金額 (元)
C21: 合計 | D21: 緊急 生活扶助 | E21: 生活扶助 | F21: 急難救助 | G21: 租金補助 | H21: 醫療補助 | I21: 庇護安置 補助 | J21: 心理復健 補助 | K21: 律師費用 補助 | L21: 訴訟費用 補助 | M21: 民間慈善團體資助 | N21: 其他補助
A22: 合計 | C22: 152522629 | D22: 5962039 | E22: 17130632 | F22: 320288 | G22: 563844 | H22: 4515483 | I22: 83663918 | J22: 12526777 | K22: 17192550 | L22: 565875 | M22: 3427844 | N22: 6653379
A23: 本國籍非原住民 | C23: 136738917 | D23: 5207839 | E23: 16021159 | F23: 213960 | G23: 540693 | H23: 4059675 | I23: 74397058 | J23: 11476897 | K23: 15997550 | L23: 413030 | M23: 2904915 | N23: 5506141
A24: 本國籍原住民 | C24: 13173622 | D24: 528465 | E24: 962820 | F24: 104328 | G24: 23151 | H24: 338003 | I24: 8788530 | J24: 820280 | K24: 697500 | L24: 90345 | M24: 422676 | N24: 397524
A25: 大陸籍（含港澳） | C25: 703716 | D25: 0 | E25: 10844 | F25: 0 | G25: 0 | H25: 21340 | I25: 169486 | J25: 28800 | K25: 100000 | L25: 0 | M25: 71846 | N25: 301400
A26: 外國籍 | C26: 1337622 | D26: 213347 | E26: 53720 | F26: 0 | G26: 0 | H26: 94915 | I26: 128940 | J26: 52000 | K26: 352000 | L26: 15000 | M26: 8500 | N26: 419200
A27: 其他 | C27: 568752 | D27: 12388 | E27: 82089 | F27: 2000 | G27: 0 | H27: 1550 | I27: 179904 | J27: 148800 | K27: 45500 | L27: 47500 | M27: 19907 | N27: 29114
A29: 加害人性別 | C29: 3.性侵害加害人處遇 | X29: 3.性侵害加害人處遇
C30: 本期加害人個案人數按處分別分（人） | N30: 累計個案人數按實施身心治療或輔導教育處遇類別（人） | X30: 累計處遇個案人數按身心治療 或輔導教育處遇狀態分 (人) | AB30: 處以行政罰鍰累計人數 (人) | AC30: 限期未履行移送地檢署累計人數 (人) | AD30: 移送地檢署聲請強制治療累計人數 (人) | AE30: 處遇期間再犯累計人數 (人)
C31: 合計 | D31: 有期徒刑或保安處分執行完畢 | E31: 有期徒刑經易服社會勞動 | F31: 假釋 | G31: 緩刑 | H31: 免刑 | I31: 赦免 | J31: 經法院、軍事法院依本法第22條之1第3項裁定停止強制治療 | K31: 經緩起訴處分確定者 | L31: 犯性騷擾防治法第25條判決有罪確定者 | M31: 依少年事件處理法裁定保護處分確定而法院認有必要者 | N31: 不需處遇 累計個案 | O31: 應接受身心治療或輔導教育累計個案人數按處遇期程分 | X31: 合計 | Y31: 完成處遇累計人數 | Z31: 目前繼續接受處遇累計人數 | AA31: 未完成處遇累計人數 | AE31: 合計 | AF31: 再犯性侵害案件 | AG31: 再犯其他案件且合併性侵害 | AH31: 再犯其他非性侵害案件
O32: 計 | P32: 未滿3個月 | Q32: 3個月以上未滿6個月 | R32: 6個月以上未滿9個月 | S32: 9個月以上未滿1年 | T32: 1年以上未滿1年6個月 | U32: 1年6個月以上未滿2年 | V32: 2年以上 至3年 | W32: 3年以上至4年
A33: 計 | C33: 2478 | D33: 635 | E33: 81 | F33: 541 | G33: 580 | H33: 2 | I33: 0 | J33: 14 | K33: 129 | L33: 80 | M33: 416 | N33: 143 | O33: 8323 | P33: 1053 | Q33: 1229 | R33: 814 | S33: 823 | T33: 1654 | U33: 761 | V33: 1090 | W33: 899 | X33: 6886 | Y33: 1584 | Z33: 4657 | AA33: 645 | AB33: 445 | AC33: 277 | AD33: 25 | AE33: 291 | AF33: 57 | AG33: 12 | AH33: 222
A34: 男 | C34: 2432 | D34: 635 | E34: 80 | F34: 532 | G34: 575 | H34: 2 | I34: 0 | J34: 14 | K34: 128 | L34: 78 | M34: 388 | N34: 141 | O34: 8231 | P34: 1035 | Q34: 1208 | R34: 796 | S34: 812 | T34: 1638 | U34: 759 | V34: 1088 | W34: 895 | X34: 6836 | Y34: 1562 | Z34: 4635 | AA34: 639 | AB34: 442 | AC34: 276 | AD34: 25 | AE34: 289 | AF34: 57 | AG34: 12 | AH34: 220
A35: 女 | C35: 46 | D35: 0 | E35: 1 | F35: 9 | G35: 5 | H35: 0 | I35: 0 | J35: 0 | K35: 1 | L35: 2 | M35: 28 | N35: 2 | O35: 92 | P35: 18 | Q35: 21 | R35: 18 | S35: 11 | T35: 16 | U35: 2 | V35: 2 | W35: 4 | X35: 50 | Y35: 22 | Z35: 22 | AA35: 6 | AB35: 3 | AC35: 1 | AD35: 0 | AE35: 2 | AF35: 0 | AG35: 0 | AH35: 2
A37: 件數與罰鍰金額 | C37: 4.性侵害事件裁罰按裁罰事由統計
C38: 一、加害人裁罰 | M38: 二、媒體不當報導裁罰 | P38: 三、任何人揭露被害人身分裁罰
C39: 合計 | D39: 無正當理由不到場或拒絕接受評估、身心治療或輔導教育者 (違反性侵害犯罪防治法第21條第1項第1款) | G39: 無正當理由不按時到場接受身心治療或輔導教育或接受之時數不足者 (違反性侵害犯罪防治法第21條第1項第2款) | J39: 未依第23條第1項規定定期辦理登記或報到者 (違反性侵害犯罪防治法第21條第1項第3款) | M39: 報導或記載被害人姓名或其他足資識別被害人身分資訊 (違反性侵害犯罪防治法第13條第1項之規定) | P39: 任何人以媒體或其他方法公開或揭露被害人身分資訊(違反性侵害犯罪防治法第13條第2項之規定)
A40: 件數 (件) | C40: 520 | D40: 250 | G40: 172 | J40: 98 | M40: 0 | P40: 0
A41: 罰鍰金額 (元) | C41: 6491000 | D41: 3110000 | G41: 2190000 | J41: 1191000 | M41: 0 | P41: 0
A42: 資料來源：直轄市及縣(市)政府。
S46: 1003 | T46: 925 | U46: 361 | V46: 372 | W46: 6664 | X46: 2936 | Y46: 2823 | Z46: 905 | AA46: 317 | AB46: 232 | AC46: 0 | AD46: 206 | AE46: 48 | AF46: 4 | AG46: 154
S47: 991 | T47: 921 | U47: 360 | V47: 372 | W47: 6630 | X47: 2920 | Y47: 2808 | Z47: 902 | AA47: 317 | AB47: 231 | AC47: 0 | AD47: 206 | AE47: 48 | AF47: 4 | AG47: 154
S48: 12 | T48: 4 | U48: 1 | V48: 0 | W48: 34 | X48: 16 | Y48: 15 | Z48: 3 | AA48: 0 | AB48: 1 | AC48: 0 | AD48: 0 | AE48: 0 | AF48: 0 | AG48: 0
A49: 更新日期：108/5/31

Sheet 106
A1: 5.2-03 推展性侵害防治業務
A2: 中華民國106年
A4: 被害人國籍身分 與性別 | C4: 1.性侵害被害人保護扶助人次（人次）
C5: 合計 | D5: 諮詢協談 | E5: 庇護安置 | F5: 陪同報案、偵詢（訊） | G5: 陪同出庭 | H5: 驗傷診療 | I5: 法律扶助 | J5: 經濟扶助 | K5: 心理諮商與輔導 | L5: 就業服務 | M5: 就學或轉學服務 | N5: 通譯服務 | O5: 轉介 戒毒中心 | P5: 其他扶助
A6: 合計 | B6: 計 | C6: 229525 | D6: 181819 | E6: 2784 | F6: 4011 | G6: 4315 | H6: 1908 | I6: 6186 | J6: 5119 | K6: 9165 | L6: 772 | M6: 2410 | N6: 62 | O6: 16 | P6: 10958
B7: 男 | C7: 24345 | D7: 19528 | E7: 237 | F7: 527 | G7: 384 | H7: 76 | I7: 671 | J7: 547 | K7: 1082 | L7: 57 | M7: 153 | N7: 3 | O7: 0 | P7: 1080
B8: 女 | C8: 205180 | D8: 162291 | E8: 2547 | F8: 3484 | G8: 3931 | H8: 1832 | I8: 5515 | J8: 4572 | K8: 8083 | L8: 715 | M8: 2257 | N8: 59 | O8: 16 | P8: 9878
A9: 本國籍 非原住民 | B9: 男 | C9: 21012 | D9: 16942 | E9: 220 | F9: 419 | G9: 306 | H9: 69 | I9: 620 | J9: 430 | K9: 980 | L9: 55 | M9: 121 | N9: 1 | O9: 0 | P9: 849
B10: 女 | C10: 176787 | D10: 140155 | E10: 2357 | F10: 2969 | G10: 3376 | H10: 1628 | I10: 5016 | J10: 3866 | K10: 7287 | L10: 582 | M10: 1906 | N10: 8 | O10: 2 | P10: 7635
A11: 本國籍 原住民 | B11: 男 | C11: 2628 | D11: 1973 | E11: 17 | F11: 94 | G11: 72 | H11: 4 | I11: 31 | J11: 113 | K11: 102 | L11: 1 | M11: 24 | N11: 0 | O11: 0 | P11: 197
B12: 女 | C12: 21563 | D12: 16397 | E12: 170 | F12: 388 | G12: 425 | H12: 166 | I12: 348 | J12: 622 | K12: 689 | L12: 102 | M12: 324 | N12: 0 | O12: 14 | P12: 1918
A13: 大陸籍 （含港澳） | B13: 男 | C13: 16 | D13: 12 | E13: 0 | F13: 2 | G13: 1 | H13: 1 | I13: 0 | J13: 0 | K13: 0 | L13: 0 | M13: 0 | N13: 0 | O13: 0 | P13: 0
B14: 女 | C14: 692 | D14: 547 | E14: 0 | F14: 10 | G14: 12 | H14: 0 | I14: 32 | J14: 25 | K14: 31 | L14: 1 | M14: 1 | N14: 0 | O14: 0 | P14: 33
A15: 外國籍 | B15: 男 | C15: 170 | D15: 147 | E15: 0 | F15: 7 | G15: 1 | H15: 1 | I15: 3 | J15: 3 | K15: 0 | L15: 0 | M15: 0 | N15: 2 | O15: 0 | P15: 6
B16: 女 | C16: 3017 | D16: 2459 | E16: 17 | F16: 53 | G16: 64 | H16: 26 | I16: 90 | J16: 46 | K16: 53 | L16: 15 | M16: 0 | N16: 51 | O16: 0 | P16: 143
A17: 其他 | B17: 男 | C17: 519 | D17: 454 | E17: 0 | F17: 5 | G17: 4 | H17: 1 | I17: 17 | J17: 1 | K17: 0 | L17: 1 | M17: 8 | N17: 0 | O17: 0 | P17: 28
B18: 女 | C18: 3121 | D18: 2733 | E18: 3 | F18: 64 | G18: 54 | H18: 12 | I18: 29 | J18: 13 | K18: 23 | L18: 15 | M18: 26 | N18: 0 | O18: 0 | P18: 149
A20: 被害人國籍身分 | C20: 2.性侵害被害人保護扶助金額 (元)
C21: 合計 | D21: 緊急 生活扶助 | E21: 生活扶助 | F21: 急難救助 | G21: 租金補助 | H21: 醫療補助 | I21: 庇護安置 補助 | J21: 心理復健 補助 | K21: 律師費用 補助 | L21: 訴訟費用 補助 | M21: 民間慈善團體資助 | N21: 其他補助
A22: 合計 | C22: 172740417 | D22: 7484759 | E22: 13033290 | F22: 198865 | G22: 723099 | H22: 5242278 | I22: 98970217 | J22: 12807418 | K22: 19259100 | L22: 2427000 | M22: 2285583 | N22: 10308808
A23: 本國籍非原住民 | C23: 151749830 | D23: 6628752 | E23: 12275416 | F23: 168865 | G23: 612815 | H23: 4898060 | I23: 83057381 | J23: 11936064 | K23: 18298100 | L23: 2282000 | M23: 1681125 | N23: 9911252
A24: 本國籍原住民 | C24: 11920002 | D24: 658058 | E24: 703594 | F24: 30000 | G24: 105284 | H24: 270748 | I24: 7532872 | J24: 780416 | K24: 809000 | L24: 129000 | M24: 543608 | N24: 357422
A25: 大陸籍（含港澳） | C25: 137693 | D25: 38373 | E25: 0 | F25: 0 | G25: 5000 | H25: 9038 | I25: 0 | J25: 45938 | K25: 30000 | L25: 0 | M25: 5850 | N25: 3494
A26: 外國籍 | C26: 709194 | D26: 159576 | E26: 13692 | F26: 0 | G26: 0 | H26: 64002 | I26: 234466 | J26: 45000 | K26: 120000 | L26: 16000 | M26: 45000 | N26: 11458
A27: 其他 | C27: 8223698 | D27: 0 | E27: 40588 | F27: 0 | G27: 0 | H27: 430 | I27: 8145498 | J27: 0 | K27: 2000 | L27: 0 | M27: 10000 | N27: 25182
A29: 加害人性別 | C29: 3.性侵害加害人處遇 | X29: 3.性侵害加害人處遇
C30: 本期加害人個案人數按處分別分（人） | N30: 累計個案人數按實施身心治療或輔導教育處遇類別（人） | X30: 累計處遇個案人數按身心治療 或輔導教育處遇狀態分 (人) | AB30: 處以行政罰鍰累計人數 (人) | AC30: 限期未履行移送地檢署累計人數 (人) | AD30: 移送地檢署聲請強制治療累計人數 (人) | AE30: 處遇期間再犯累計人數 (人)
C31: 合計 | D31: 刑滿及 保安處分 執行完畢 | E31: 假釋 | F31: 緩刑 | G31: 緩起訴 處分 | H31: 免刑 | I31: 赦免 | J31: 有期徒刑經准易服社會勞動 | K31: 經法院、軍事法院依本法第22條之1第3項裁定停止強制治療 | L31: 依少年事件處理法裁定保護處分確定而法院認有必要者 | M31: 性騷擾防治法第25條之罪 | N31: 不需處遇 累計個案 | O31: 應接受身心治療或輔導教育累計個案人數按處遇期程分 | X31: 合計 | Y31: 完成處遇累計人數 | Z31: 目前繼續接受處遇累計人數 | AA31: 未完成處遇累計人數 | AE31: 合計 | AF31: 再犯性侵害案件 | AG31: 再犯其他案件且合併性侵害 | AH31: 再犯其他非性侵害案件
O32: 計 | P32: 未滿3個月 | Q32: 3個月以上未滿6個月 | R32: 6個月以上未滿9個月 | S32: 9個月以上未滿1年 | T32: 1年以上未滿1年6個月 | U32: 1年6個月以上未滿2年 | V32: 2年以上 至3年 | W32: 3年以上至4年
A33: 計 | C33: 2912 | D33: 649 | E33: 772 | F33: 663 | G33: 234 | H33: 1 | I33: 0 | J33: 54 | K33: 13 | L33: 482 | M33: 44 | N33: 76 | O33: 7391 | P33: 1015 | Q33: 1507 | R33: 901 | S33: 846 | T33: 1418 | U33: 547 | V33: 656 | W33: 501 | X33: 6124 | Y33: 1612 | Z33: 4061 | AA33: 451 | AB33: 386 | AC33: 231 | AD33: 24 | AE33: 181 | AF33: 39 | AG33: 1 | AH33: 141
A34: 男 | C34: 2806 | D34: 634 | E34: 727 | F34: 651 | G34: 223 | H34: 1 | I34: 0 | J34: 54 | K34: 13 | L34: 459 | M34: 44 | N34: 73 | O34: 7309 | P34: 986 | Q34: 1495 | R34: 886 | S34: 839 | T34: 1410 | U34: 542 | V34: 653 | W34: 498 | X34: 6078 | Y34: 1591 | Z34: 4036 | AA34: 451 | AB34: 383 | AC34: 230 | AD34: 23 | AE34: 181 | AF34: 39 | AG34: 1 | AH34: 141
A35: 女 | C35: 106 | D35: 15 | E35: 45 | F35: 12 | G35: 11 | H35: 0 | I35: 0 | J35: 0 | K35: 0 | L35: 23 | M35: 0 | N35: 3 | O35: 82 | P35: 29 | Q35: 12 | R35: 15 | S35: 7 | T35: 8 | U35: 5 | V35: 3 | W35: 3 | X35: 46 | Y35: 21 | Z35: 25 | AA35: 0 | AB35: 3 | AC35: 1 | AD35: 1 | AE35: 0 | AF35: 0 | AG35: 0 | AH35: 0
A37: 件數與罰鍰金額 | C37: 4.性侵害事件裁罰按裁罰事由統計
C38: 合計 | D38: 無正當理由不到場或拒絕接受評估、身心治療或輔導教育者 (違反性侵害犯罪防治法第21條第1項第1款) | G38: 無正當理由不按時到場接受身心治療或輔導教育或接受之時數不足者 (違反性侵害犯罪防治法第21條第1項第2款) | J38: 未依第23條第1項規定定期辦理登記或報到者 (違反性侵害犯罪防治法第21條第1項第3款)
A39: 件數 (件) | C39: 522 | D39: 254 | G39: 170 | J39: 98
A40: 罰鍰金額 (元) | C40: 6550000 | D40: 3220000 | G40: 2150000 | J40: 1180000
A41: 資料來源：直轄市及縣(市)政府。
S45: 1003 | T45: 925 | U45: 361 | V45: 372 | W45: 6664 | X45: 2936 | Y45: 2823 | Z45: 905 | AA45: 317 | AB45: 232 | AC45: 0 | AD45: 206 | AE45: 48 | AF45: 4 | AG45: 154
S46: 991 | T46: 921 | U46: 360 | V46: 372 | W46: 6630 | X46: 2920 | Y46: 2808 | Z46: 902 | AA46: 317 | AB46: 231 | AC46: 0 | AD46: 206 | AE46: 48 | AF46: 4 | AG46: 154
S47: 12 | T47: 4 | U47: 1 | V47: 0 | W47: 34 | X47: 16 | Y47: 15 | Z47: 3 | AA47: 0 | AB47: 1 | AC47: 0 | AD47: 0 | AE47: 0 | AF47: 0 | AG47: 0
A48: 更新日期：2019/4/22

Sheet 105
A1: 5.2-03 推展性侵害防治業務
A2: 中華民國105年
A4: 被害人國籍身分 與性別 | C4: 1.性侵害被害人保護扶助人次（人次）
C5: 合計 | D5: 諮詢協談 | E5: 庇護安置 | F5: 陪同報案、偵詢（訊） | G5: 陪同出庭 | H5: 驗傷診療 | I5: 法律扶助 | J5: 經濟扶助 | K5: 心理諮商與輔導 | L5: 就業服務 | M5: 就學或轉學服務 | N5: 通譯服務 | O5: 轉介 戒毒中心 | P5: 其他扶助
A6: 合計 | B6: 計 | C6: 218852 | D6: 169379 | E6: 2826 | F6: 3311 | G6: 4172 | H6: 2119 | I6: 4495 | J6: 4594 | K6: 9556 | L6: 529 | M6: 3161 | N6: 68 | O6: 9 | P6: 14633
B7: 男 | C7: 22795 | D7: 17787 | E7: 251 | F7: 345 | G7: 345 | H7: 113 | I7: 675 | J7: 386 | K7: 1172 | L7: 101 | M7: 558 | N7: 9 | O7: 1 | P7: 1052
B8: 女 | C8: 196057 | D8: 151592 | E8: 2575 | F8: 2966 | G8: 3827 | H8: 2006 | I8: 3820 | J8: 4208 | K8: 8384 | L8: 428 | M8: 2603 | N8: 59 | O8: 8 | P8: 13581
A9: 本國籍 非原住民 | B9: 男 | C9: 19218 | D9: 15173 | E9: 228 | F9: 283 | G9: 255 | H9: 88 | I9: 525 | J9: 252 | K9: 978 | L9: 67 | M9: 517 | N9: 0 | O9: 1 | P9: 851
B10: 女 | C10: 169582 | D10: 130893 | E10: 2351 | F10: 2559 | G10: 3373 | H10: 1761 | I10: 3441 | J10: 3612 | K10: 7456 | L10: 359 | M10: 2002 | N10: 10 | O10: 8 | P10: 11757
A11: 本國籍 原住民 | B11: 男 | C11: 2997 | D11: 2112 | E11: 23 | F11: 57 | G11: 80 | H11: 24 | I11: 131 | J11: 132 | K11: 188 | L11: 33 | M11: 35 | N11: 0 | O11: 0 | P11: 182
B12: 女 | C12: 19758 | D12: 15064 | E12: 210 | F12: 296 | G12: 316 | H12: 176 | I12: 260 | J12: 448 | K12: 858 | L12: 46 | M12: 578 | N12: 1 | O12: 0 | P12: 1505
A13: 大陸籍 （含港澳） | B13: 男 | C13: 1 | D13: 0 | E13: 0 | F13: 0 | G13: 0 | H13: 1 | I13: 0 | J13: 0 | K13: 0 | L13: 0 | M13: 0 | N13: 0 | O13: 0 | P13: 0
B14: 女 | C14: 669 | D14: 549 | E14: 0 | F14: 7 | G14: 16 | H14: 9 | I14: 30 | J14: 33 | K14: 16 | L14: 0 | M14: 0 | N14: 0 | O14: 0 | P14: 9
A15: 外國籍 | B15: 男 | C15: 127 | D15: 109 | E15: 0 | F15: 0 | G15: 0 | H15: 0 | I15: 2 | J15: 1 | K15: 1 | L15: 0 | M15: 0 | N15: 9 | O15: 0 | P15: 5
B16: 女 | C16: 2375 | D16: 1918 | E16: 10 | F16: 71 | G16: 51 | H16: 35 | I16: 55 | J16: 66 | K16: 40 | L16: 13 | M16: 0 | N16: 48 | O16: 0 | P16: 68
A17: 其他 | B17: 男 | C17: 452 | D17: 393 | E17: 0 | F17: 5 | G17: 10 | H17: 0 | I17: 17 | J17: 1 | K17: 5 | L17: 1 | M17: 6 | N17: 0 | O17: 0 | P17: 14
B18: 女 | C18: 3673 | D18: 3168 | E18: 4 | F18: 33 | G18: 71 | H18: 25 | I18: 34 | J18: 49 | K18: 14 | L18: 10 | M18: 23 | N18: 0 | O18: 0 | P18: 242
A20: 被害人國籍身分 | C20: 2.性侵害被害人保護扶助金額 (元)
C21: 合計 | D21: 緊急 生活扶助 | E21: 生活扶助 | F21: 急難救助 | G21: 租金補助 | H21: 醫療補助 | I21: 庇護安置 補助 | J21: 心理復健 補助 | K21: 律師費用 補助 | L21: 訴訟費用 補助 | M21: 民間慈善團體資助 | N21: 其他補助
A22: 合計 | C22: 124205242 | D22: 5459173 | E22: 2113831 | F22: 231398 | G22: 211140 | H22: 4351143 | I22: 73855941 | J22: 13450939 | K22: 13532800 | L22: 3205000 | M22: 3041949 | N22: 4751928
A23: 本國籍非原住民 | C23: 110243456 | D23: 4833817 | E23: 1386545 | F23: 168398 | G23: 172140 | H23: 3907541 | I23: 65272695 | J23: 12330692 | K23: 12787800 | L23: 3012000 | M23: 2282989 | N23: 4088839
A24: 本國籍原住民 | C24: 11897647 | D24: 497644 | E24: 365886 | F24: 63000 | G24: 24000 | H24: 248634 | I24: 8266530 | J24: 915796 | K24: 375000 | L24: 135000 | M24: 732960 | N24: 273197
A25: 大陸籍（含港澳） | C25: 306889 | D25: 24970 | E25: 0 | F25: 0 | G25: 15000 | H25: 82695 | I25: 0 | J25: 54224 | K25: 120000 | L25: 0 | M25: 10000 | N25: 0
A26: 外國籍 | C26: 807986 | D26: 102742 | E26: 0 | F26: 0 | G26: 0 | H26: 67560 | I26: 95060 | J26: 60024 | K26: 200000 | L26: 58000 | M26: 0 | N26: 224600
A27: 其他 | C27: 949264 | D27: 0 | E27: 361400 | F27: 0 | G27: 0 | H27: 44713 | I27: 221656 | J27: 90203 | K27: 50000 | L27: 0 | M27: 16000 | N27: 165292
A29: 加害人性別 | C29: 3.性侵害加害人處遇 | X29: 3.性侵害加害人處遇
C30: 本期加害人個案人數按處分別分（人） | N30: 累計個案人數按實施身心治療或輔導教育處遇類別（人） | X30: 累計處遇個案人數按身心治療 或輔導教育處遇狀態分 (人) | AB30: 處以行政罰鍰累計人數 (人) | AC30: 限期未履行移送地檢署累計人數 (人) | AD30: 移送地檢署聲請強制治療累計人數 (人) | AE30: 處遇期間再犯累計人數 (人)
C31: 合計 | D31: 刑滿及 保安處分 執行完畢 | E31: 假釋 | F31: 緩刑 | G31: 緩起訴 處分 | H31: 免刑 | I31: 赦免 | J31: 有期徒刑經准易服社會勞動 | K31: 經法院、軍事法院依本法第22條之1第3項裁定停止強制治療 | L31: 依少年事件處理法裁定保護處分確定而法院認有必要者 | M31: 性騷擾防治法第25條之罪 | N31: 不需處遇 累計個案 | O31: 應接受身心治療或輔導教育累計個案人數按處遇期程分 | X31: 合計 | Y31: 完成處遇累計人數 | Z31: 目前繼續接受處遇累計人數 | AA31: 未完成處遇累計人數 | AE31: 合計 | AF31: 再犯性侵害案件 | AG31: 再犯其他案件且合併性侵害 | AH31: 再犯其他非性侵害案件
O32: 計 | P32: 未滿3個月 | Q32: 3個月以上未滿6個月 | R32: 6個月以上未滿9個月 | S32: 9個月以上未滿1年 | T32: 1年以上未滿1年6個月 | U32: 1年6個月以上未滿2年 | V32: 2年以上 至3年 | W32: 3年以上至4年
A33: 計 | C33: 3181 | D33: =D34+D35 -> 825 | E33: =E34+E35 -> 738 | F33: =F34+F35 -> 796 | G33: =G34+G35 -> 209 | H33: =H34+H35 -> 0 | I33: =I34+I35 -> 0 | J33: =J34+J35 -> 39 | K33: =K34+K35 -> 7 | ... AH33: =AH34+AH35 -> 145
A34: 男 | C34: 3058 | D34: 791 | E34: 708 | F34: 768 | G34: 204 | H34: 0 | I34: 0 | J34: 39 | K34: 7 | L34: 515 | M34: 26 | N34: 52 | O34: 7366 | P34: 1676 | Q34: 1362 | R34: 865 | S34: 692 | T34: 1166 | U34: 537 | V34: 715 | W34: 353 | X34: 6229 | Y34: 1682 | Z34: 4197 | AA34: 350 | AB34: 376 | AC34: 189 | AD34: 13 | AE34: 167 | AF34: 21 | AG34: 1 | AH34: 145
A35: 女 | C35: 123 | D35: 34 | E35: 30 | F35: 28 | G35: 5 | H35: 0 | I35: 0 | J35: 0 | K35: 0 | L35: 25 | M35: 1 | N35: 0 | O35: 70 | P35: 20 | Q35: 30 | R35: 6 | S35: 3 | T35: 7 | U35: 0 | V35: 3 | W35: 1 | X35: 42 | Y35: 12 | Z35: 30 | AA35: 0 | AB35: 4 | AC35: 4 | AD35: 0 | AE35: 0 | AF35: 0 | AG35: 0 | AH35: 0
A37: 件數與罰鍰金額 | C37: 4.性侵害事件裁罰按裁罰事由統計
C38: 合計 | D38: 無正當理由不到場或拒絕接受評估、身心治療或輔導教育者 (違反性侵害犯罪防治法第21條第1項第1款) | G38: 無正當理由不按時到場接受身心治療或輔導教育或接受之時數不足者 (違反性侵害犯罪防治法第21條第1項第2款) | J38: 未依第23條第1項規定定期辦理登記或報到者 (違反性侵害犯罪防治法第21條第1項第3款)
A39: 件數 (件) | C39: 545 | D39: 257 | G39: 167 | J39: 121
A40: 罰鍰金額 (元) | C40: 5908000 | D40: 2617000 | G40: 2030000 | J40: 1261000
A41: 資料來源：直轄市及縣(市)政府。
S45: 1003 | T45: 925 | U45: 361 | V45: 372 | W45: 6664 | X45: 2936 | Y45: 2823 | Z45: 905 | AA45: 317 | AB45: 232 | AC45: 0 | AD45: 206 | AE45: 48 | AF45: 4 | AG45: 154
S46: 991 | T46: 921 | U46: 360 | V46: 372 | W46: 6630 | X46: 2920 | Y46: 2808 | Z46: 902 | AA46: 317 | AB46: 231 | AC46: 0 | AD46: 206 | AE46: 48 | AF46: 4 | AG46: 154
S47: 12 | T47: 4 | U47: 1 | V47: 0 | W47: 34 | X47: 16 | Y47: 15 | Z47: 3 | AA47: 0 | AB47: 1 | AC47: 0 | AD47: 0 | AE47: 0 | AF47: 0 | AG47: 0
A48: 更新日期：2019/4/22

Sheet 104
A1: 5.2-03 推展性侵害防治業務
A2: 中華民國104年
A4: 被害人國籍身分 與性別 | C4: 1.性侵害被害人保護扶助人次（人次）
C5: 合計 | D5: 諮詢協談 | E5: 庇護安置 | F5: 陪同報案、偵詢（訊） | G5: 陪同出庭 | H5: 驗傷診療 | I5: 法律扶助 | J5: 經濟扶助 | K5: 心理諮商與輔導 | L5: 就業服務 | M5: 就學或轉學服務 | N5: 通譯服務 | O5: 轉介 戒毒中心 | P5: 其他扶助
A6: 合計 | B6: 計 | C6: 221587 | D6: 167530 | E6: 5475 | F6: 3124 | G6: 4429 | H6: 2057 | I6: 3884 | J6: 3870 | K6: 10065 | L6: 570 | M6: 4397 | N6: 86 | O6: 10 | P6: 16090
B7: 男 | C7: 23306 | D7: 18836 | E7: 283 | F7: 359 | G7: 407 | H7: 106 | I7: 450 | J7: 271 | K7: 1037 | L7: 28 | M7: 410 | N7: 5 | O7: 3 | P7: 1111
B8: 女 | C8: 198281 | D8: 148694 | E8: 5192 | F8: 2765 | G8: 4022 | H8: 1951 | I8: 3434 | J8: 3599 | K8: 9028 | L8: 542 | M8: 3987 | N8: 81 | O8: 7 | P8: 14979
A9: 本國籍 非原住民 | B9: 男 | C9: 18994 | D9: 15462 | E9: 242 | F9: 271 | G9: 318 | H9: 80 | I9: 386 | J9: 190 | K9: 837 | L9: 28 | M9: 312 | N9: 5 | O9: 3 | P9: 860
B10: 女 | C10: 173353 | D10: 130290 | E10: 4533 | F10: 2395 | G10: 3499 | H10: 1680 | I10: 3025 | J10: 3192 | K10: 8254 | L10: 423 | M10: 3139 | N10: 24 | O10: 7 | P10: 12892
A11: 本國籍 原住民 | B11: 男 | C11: 3407 | D11: 2522 | E11: 41 | F11: 82 | G11: 82 | H11: 26 | I11: 45 | J11: 80 | K11: 196 | L11: 0 | M11: 97 | N11: 0 | O11: 0 | P11: 236
B12: 女 | C12: 20061 | D12: 14513 | E12: 646 | F12: 269 | G12: 383 | H12: 207 | I12: 271 | J12: 295 | K12: 666 | L12: 101 | M12: 835 | N12: 0 | O12: 0 | P12: 1875
A13: 大陸籍 （含港澳） | B13: 男 | C13: 256 | D13: 247 | E13: 0 | F13: 0 | G13: 1 | H13: 0 | I13: 3 | J13: 0 | K13: 2 | L13: 0 | M13: 0 | N13: 0 | O13: 0 | P13: 3
B14: 女 | C14: 773 | D14: 649 | E14: 0 | F14: 8 | G14: 19 | H14: 13 | I14: 20 | J14: 23 | K14: 24 | L14: 0 | M14: 2 | N14: 0 | O14: 0 | P14: 15
A15: 外國籍 | B15: 男 | C15: 357 | D15: 346 | E15: 0 | F15: 0 | G15: 1 | H15: 0 | I15: 6 | J15: 0 | K15: 0 | L15: 0 | M15: 0 | N15: 0 | O15: 0 | P15: 4
B16: 女 | C16: 2077 | D16: 1627 | E16: 8 | F16: 50 | G16: 63 | H16: 36 | I16: 93 | J16: 64 | K16: 16 | L16: 12 | M16: 0 | N16: 46 | O16: 0 | P16: 62
A17: 其他 | B17: 男 | C17: 292 | D17: 259 | E17: 0 | F17: 6 | G17: 5 | H17: 0 | I17: 10 | J17: 1 | K17: 2 | L17: 0 | M17: 1 | N17: 0 | O17: 0 | P17: 8
B18: 女 | C18: 2017 | D18: 1615 | E18: 5 | F18: 43 | G18: 58 | H18: 15 | I18: 25 | J18: 25 | K18: 68 | L18: 6 | M18: 11 | N18: 11 | O18: 0 | P18: 135
A20: 被害人國籍身分 | C20: 2.性侵害被害人保護扶助金額 (元)
C21: 合計 | D21: 緊急 生活扶助 | E21: 生活扶助 | F21: 急難救助 | G21: 租金補助 | H21: 醫療補助 | I21: 庇護安置 補助 | J21: 心理復健 補助 | K21: 律師費用 補助 | L21: 訴訟費用 補助 | M21: 民間慈善團體資助 | N21: 其他補助
A22: 合計 | C22: 113541707 | D22: 4091277 | E22: 2465576 | F22: 139360 | G22: 215100 | H22: 4291757 | I22: 63913003 | J22: 14968254 | K22: 13300200 | L22: 2325000 | M22: 5851836 | N22: 1980344
A23: 本國籍非原住民 | C23: 102400704 | D23: 3706066 | E23: 2056905 | F23: 136360 | G23: 178100 | H23: 3912086 | I23: 56980356 | J23: 14016667 | K23: 12125200 | L23: 2231000 | M23: 5220777 | N23: 1837187
A24: 本國籍原住民 | C24: 9457425 | D24: 289941 | E24: 384300 | F24: 3000 | G24: 37000 | H24: 237067 | I24: 6533049 | J24: 753580 | K24: 440000 | L24: 28000 | M24: 619059 | N24: 132429
A25: 大陸籍（含港澳） | C25: 631205 | D25: 23720 | E25: 0 | F25: 0 | G25: 0 | H25: 48085 | I25: 0 | J25: 14400 | K25: 545000 | L25: 0 | M25: 0 | N25: 0
A26: 外國籍 | C26: 433170 | D26: 71550 | E26: 0 | F26: 0 | G26: 0 | H26: 69395 | I26: 77325 | J26: 28000 | K26: 120000 | L26: 58000 | M26: 0 | N26: 8900
A27: 其他 | C27: 619203 | D27: 0 | E27: 24371 | F27: 0 | G27: 0 | H27: 25124 | I27: 322273 | J27: 155607 | K27: 70000 | L27: 8000 | M27: 12000 | N27: 1828
A29: 加害人性別 | C29: 3.性侵害加害人處遇 | X29: 3.性侵害加害人處遇
C30: 本期加害人個案人數按處分別分（人） | N30: 累計個案人數按實施身心治療或輔導教育處遇類別（人） | X30: 累計處遇個案人數按身心治療 或輔導教育處遇狀態分 (人) | AB30: 處以行政罰鍰累計人數 (人) | AC30: 限期未履行移送地檢署累計人數 (人) | AD30: 移送地檢署聲請強制治療累計人數 (人) | AE30: 處遇期間再犯累計人數 (人)
C31: 合計 | D31: 刑滿及 保安處分 執行完畢 | E31: 假釋 | F31: 緩刑 | G31: 緩起訴 處分 | H31: 免刑 | I31: 赦免 | J31: 有期徒刑經准易服社會勞動 | K31: 經法院、軍事法院依本法第22條之1第3項裁定停止強制治療 | L31: 依少年事件處理法裁定保護處分確定而法院認有必要者 | M31: 性騷擾防治法第25條之罪 | N31: 不需處遇 累計個案 | O31: 應接受身心治療或輔導教育累計個案人數按處遇期程分 | X31: 合計 | Y31: 完成處遇累計人數 | Z31: 目前繼續接受處遇累計人數 | AA31: 未完成處遇累計人數 | AE31: 合計 | AF31: 再犯性侵害案件 | AG31: 再犯其他案件且合併性侵害 | AH31: 再犯其他非性侵害案件
O32: 計 | P32: 未滿3個月 | Q32: 3個月以上未滿6個月 | R32: 6個月以上未滿9個月 | S32: 9個月以上未滿1年 | T32: 1年以上未滿1年6個月 | U32: 1年6個月以上未滿2年 | V32: 2年以上 至3年 | W32: 3年以上至4年
A33: 計 | C33: 3527 | D33: 962 | E33: 772 | F33: 978 | G33: 211 | H33: 2 | I33: 0 | J33: 51 | K33: 26 | L33: 493 | M33: 32 | N33: 118 | O33: 8868 | P33: 1215 | Q33: 1856 | R33: 1626 | S33: 1362 | T33: 1293 | U33: 633 | V33: 644 | W33: 239 | X33: 7510 | Y33: 2984 | Z33: 3506 | AA33: 1020 | AB33: 764 | AC33: 285 | AD33: 9 | AE33: 290 | AF33: 58 | AG33: 3 | AH33: 229
A34: 男 | C34: 3488 | D34: 959 | E34: 760 | F34: 972 | G34: 209 | H34: 2 | I34: 0 | J34: 50 | K34: 25 | L34: 479 | M34: 32 | N34: 117 | O34: 8813 | P34: 1199 | Q34: 1844 | R34: 1613 | S34: 1357 | T34: 1287 | U34: 631 | V34: 643 | W34: 239 | X34: 7463 | Y34: 2960 | Z34: 3484 | AA34: 1019 | AB34: 763 | AC34: 285 | AD34: 9 | AE34: 290 | AF34: 58 | AG34: 3 | AH34: 229
A35: 女 | C35: 39 | D35: 3 | E35: 12 | F35: 6 | G35: 2 | H35: 0 | I35: 0 | J35: 1 | K35: 1 | L35: 14 | M35: 0 | N35: 1 | O35: 55 | P35: 16 | Q35: 12 | R35: 13 | S35: 5 | T35: 6 | U35: 2 | V35: 1 | W35: 0 | X35: 47 | Y35: 24 | Z35: 22 | AA35: 1 | AB35: 1 | AC35: 0 | AD35: 0 | AE35: 0 | AF35: 0 | AG35: 0 | AH35: 0
A37: 件數與罰鍰金額 | C37: 4.性侵害事件裁罰按裁罰事由統計
C38: 合計 | D38: 無正當理由不到場或拒絕接受評估、身心治療或輔導教育者 (違反性侵害犯罪防治法第21條第1項第1款) | G38: 無正當理由不按時到場接受身心治療或輔導教育或接受之時數不足者 (違反性侵害犯罪防治法第21條第1項第2款) | J38: 未依第23條第1項規定定期辦理登記或報到者 (違反性侵害犯罪防治法第21條第1項第3款)
A39: 件數 (件) | C39: 522 | D39: 265 | G39: 162 | J39: 95
A40: 罰鍰金額 (元) | C40: 5936000 | D40: 2866000 | G40: 2150000 | J40: 920000
A41: 資料來源：直轄市及縣(市)政府。
S45: 1003 | T45: 925 | U45: 361 | V45: 372 | W45: 6664 | X45: 2936 | Y45: 2823 | Z45: 905 | AA45: 317 | AB45: 232 | AC45: 0 | AD45: 206 | AE45: 48 | AF45: 4 | AG45: 154
S46: 991 | T46: 921 | U46: 360 | V46: 372 | W46: 6630 | X46: 2920 | Y46: 2808 | Z46: 902 | AA46: 317 | AB46: 231 | AC46: 0 | AD46: 206 | AE46: 48 | AF46: 4 | AG46: 154
S47: 12 | T47: 4 | U47: 1 | V47: 0 | W47: 34 | X47: 16 | Y47: 15 | Z47: 3 | AA47: 0 | AB47: 1 | AC47: 0 | AD47: 0 | AE47: 0 | AF47: 0 | AG47: 0
A48: 更新日期：2019/4/22

Sheet 103
A1: 5.2-03 推展性侵害防治業務
A2: 中華民國103年
A4: 被害人國籍身分 與性別 | C4: 1.性侵害被害人保護扶助人次（人次）
C5: 合計 | D5: 諮詢協談 | E5: 庇護安置 | F5: 陪同報案、偵詢（訊） | G5: 陪同出庭 | H5: 驗傷診療 | I5: 法律扶助 | J5: 經濟扶助 | K5: 心理諮商與輔導 | L5: 就業服務 | M5: 就學或轉學服務 | N5: 通譯服務 | O5: 轉介 戒毒中心 | P5: 其他扶助
A6: 合計 | B6: 計 | C6: 199846 | D6: 133211 | E6: 3835 | F6: 3459 | G6: 5030 | H6: 2071 | I6: 5285 | J6: 4400 | K6: 14878 | L6: 329 | M6: 6472 | N6: 91 | O6: 1 | P6: 20784
B7: 男 | C7: 19524 | D7: 14309 | E7: 136 | F7: 333 | G7: 355 | H7: 102 | I7: 569 | J7: 280 | K7: 1622 | L7: 19 | M7: 62 | N7: 3 | O7: 1 | P7: 1733
B8: 女 | C8: 180322 | D8: 118902 | E8: 3699 | F8: 3126 | G8: 4675 | H8: 1969 | I8: 4716 | J8: 4120 | K8: 13256 | L8: 310 | M8: 6410 | N8: 88 | O8: 0 | P8: 19051
A9: 本國籍 非原住民 | B9: 男 | C9: 16396 | D9: 12185 | E9: 106 | F9: 280 | G9: 265 | H9: 82 | I9: 504 | J9: 204 | K9: 1446 | L9: 17 | M9: 39 | N9: 0 | O9: 1 | P9: 1267
B10: 女 | C10: 157314 | D10: 104515 | E10: 3136 | F10: 2724 | G10: 4082 | H10: 1729 | I10: 4163 | J10: 3680 | K10: 11867 | L10: 264 | M10: 5092 | N10: 27 | O10: 0 | P10: 16035
A11: 本國籍 原住民 | B11: 男 | C11: 2902 | D11: 2028 | E11: 30 | F11: 50 | G11: 84 | H11: 19 | I11: 62 | J11: 67 | K11: 148 | L11: 2 | M11: 23 | N11: 2 | O11: 0 | P11: 387
B12: 女 | C12: 19198 | D12: 12255 | E12: 545 | F12: 317 | G12: 438 | H12: 178 | I12: 380 | J12: 286 | K12: 1153 | L12: 33 | M12: 1247 | N12: 3 | O12: 0 | P12: 2363
A13: 大陸籍 （含港澳） | B13: 男 | C13: 67 | D13: 15 | E13: 0 | F13: 0 | G13: 4 | H13: 0 | I13: 1 | J13: 1 | K13: 0 | L13: 0 | M13: 0 | N13: 0 | O13: 0 | P13: 46
B14: 女 | C14: 585 | D14: 270 | E14: 3 | F14: 5 | G14: 28 | H14: 7 | I14: 35 | J14: 21 | K14: 57 | L14: 0 | M14: 66 | N14: 0 | O14: 0 | P14: 93
A15: 外國籍 | B15: 男 | C15: 68 | D15: 14 | E15: 0 | F15: 0 | G15: 0 | H15: 0 | I15: 0 | J15: 0 | K15: 26 | L15: 0 | M15: 0 | N15: 1 | O15: 0 | P15: 27
B16: 女 | C16: 2299 | D16: 1348 | E16: 11 | F16: 59 | G16: 79 | H16: 42 | I16: 118 | J16: 71 | K16: 151 | L16: 10 | M16: 4 | N16: 46 | O16: 0 | P16: 360
A17: 其他 | B17: 男 | C17: 91 | D17: 67 | E17: 0 | F17: 3 | G17: 2 | H17: 1 | I17: 2 | J17: 8 | K17: 2 | L17: 0 | M17: 0 | N17: 0 | O17: 0 | P17: 6
B18: 女 | C18: 926 | D18: 514 | E18: 4 | F18: 21 | G18: 48 | H18: 13 | I18: 20 | J18: 62 | K18: 28 | L18: 3 | M18: 1 | N18: 12 | O18: 0 | P18: 200
A20: 被害人國籍身分 | C20: 2.性侵害被害人保護扶助金額 (元)
C21: 合計 | D21: 緊急 生活扶助 | E21: 生活扶助 | F21: 急難救助 | G21: 租金補助 | H21: 醫療補助 | I21: 庇護安置 補助 | J21: 心理復健 補助 | K21: 律師費用 補助 | L21: 訴訟費用 補助 | M21: 民間慈善團體資助 | N21: 其他補助
A22: 合計 | C22: 109468205 | D22: 4468110 | E22: 1672821 | F22: 233028 | G22: 319000 | H22: 4864662 | I22: 64177581 | J22: 12597798 | K22: 13057728 | L22: 1626379 | M22: 3485779 | N22: 2965319
A23: 本國籍非原住民 | C23: 98568220 | D23: 3964034 | E23: 1553635 | F23: 190928 | G23: 242000 | H23: 4500744 | I23: 57931102 | J23: 11233168 | K23: 12364728 | L23: 1593379 | M23: 2792370 | N23: 2202132
A24: 本國籍原住民 | C24: 8254337 | D24: 252645 | E24: 32551 | F24: 600 | G24: 2000 | H24: 213246 | I24: 5335989 | J24: 1105030 | K24: 508000 | L24: 33000 | M24: 627938 | N24: 143338
A25: 大陸籍（含港澳） | C25: 255122 | D25: 0 | E25: 65209 | F25: 22500 | G25: 39000 | H25: 32489 | I25: 6960 | J25: 33600 | K25: 40000 | L25: 0 | M25: 5364 | N25: 10000
A26: 外國籍 | C26: 1425922 | D26: 137317 | E26: 21426 | F26: 5000 | G26: 0 | H26: 104079 | I26: 873272 | J26: 51800 | K26: 145000 | L26: 0 | M26: 45607 | N26: 42421
A27: 其他 | C27: 964604 | D27: 114114 | E27: 0 | F27: 14000 | G27: 36000 | H27: 14104 | I27: 30258 | J27: 174200 | K27: 0 | L27: 0 | M27: 14500 | N27: 567428
A29: 加害人性別 | C29: 3.性侵害加害人處遇 | X29: 3.性侵害加害人處遇
C30: 本期加害人個案人數按處分別分（人） | N30: 累計個案人數按實施身心治療或輔導教育處遇類別（人） | X30: 累計處遇個案人數按身心治療 或輔導教育處遇狀態分 (人) | AB30: 處以行政罰鍰累計人數 (人) | AC30: 限期未履行移送地檢署累計人數 (人) | AD30: 移送地檢署聲請強制治療累計人數 (人) | AE30: 處遇期間再犯累計人數 (人)
C31: 合計 | D31: 刑滿及 保安處分 執行完畢 | E31: 假釋 | F31: 緩刑 | G31: 緩起訴 處分 | H31: 免刑 | I31: 赦免 | J31: 有期徒刑經准易服社會勞動 | K31: 經法院、軍事法院依本法第22條之1第3項裁定停止強制治療 | L31: 依少年事件處理法裁定保護處分確定而法院認有必要者 | M31: 性騷擾防治法第25條之罪 | N31: 不需處遇 累計個案 | O31: 應接受身心治療或輔導教育累計個案人數按處遇期程分 | X31: 合計 | Y31: 完成處遇累計人數 | Z31: 目前繼續接受處遇累計人數 | AA31: 未完成處遇累計人數 | AE31: 合計 | AF31: 再犯性侵害案件 | AG31: 再犯其他案件且合併性侵害 | AH31: 再犯其他非性侵害案件
O32: 計 | P32: 未滿3個月 | Q32: 3個月以上未滿6個月 | R32: 6個月以上未滿9個月 | S32: 9個月以上未滿1年 | T32: 1年以上未滿1年6個月 | U32: 1年6個月以上未滿2年 | V32: 2年以上 至3年 | W32: 3年以上至4年
A33: 計 | C33: 3088 | D33: 710 | E33: 643 | F33: 1028 | G33: 143 | H33: 0 | I33: 0 | J33: 41 | K33: 4 | L33: 455 | M33: 64 | N33: 126 | O33: 7705 | P33: 1037 | Q33: 1928 | R33: 1464 | S33: 1153 | T33: 1007 | U33: 480 | V33: 472 | W33: 164 | X33: 6973 | Y33: 2847 | Z33: 3162 | AA33: 964 | AB33: 707 | AC33: 256 | AD33: 7 | AE33: 238 | AF33: 59 | AG33: 5 | AH33: 174
A34: 男 | C34: 3058 | D34: 706 | E34: 631 | F34: 1023 | G34: 142 | H34: 0 | I34: 0 | J34: 41 | K34: 4 | L34: 447 | M34: 64 | N34: 126 | O34: 7653 | P34: 1022 | Q34: 1917 | R34: 1452 | S34: 1147 | T34: 1001 | U34: 479 | V34: 471 | W34: 164 | X34: 6935 | Y34: 2829 | Z34: 3143 | AA34: 963 | AB34: 706 | AC34: 256 | AD34: 7 | AE34: 238 | AF34: 59 | AG34: 5 | AH34: 174
A35: 女 | C35: 30 | D35: 4 | E35: 12 | F35: 5 | G35: 1 | H35: 0 | I35: 0 | J35: 0 | K35: 0 | L35: 8 | M35: 0 | N35: 0 | O35: 52 | P35: 15 | Q35: 11 | R35: 12 | S35: 6 | T35: 6 | U35: 1 | V35: 1 | W35: 0 | X35: 38 | Y35: 18 | Z35: 19 | AA35: 1 | AB35: 1 | AC35: 0 | AD35: 0 | AE35: 0 | AF35: 0 | AG35: 0 | AH35: 0
A37: 件數與罰鍰金額 | C37: 4.性侵害事件裁罰按裁罰事由統計
C38: 合計 | D38: 無正當理由不到場或拒絕接受評估、身心治療或輔導教育者 (違反性侵害犯罪防治法第21條第1項第1款) | G38: 無正當理由不按時到場接受身心治療或輔導教育或接受之時數不足者 (違反性侵害犯罪防治法第21條第1項第2款) | J38: 未依第23條第1項規定定期辦理登記或報到者 (違反性侵害犯罪防治法第21條第1項第3款)
A39: 件數 (件) | C39: 558 | D39: 291 | G39: 174 | J39: 93
A40: 罰鍰金額 (元) | C40: 6142000 | D40: 2972000 | G40: 2040000 | J40: 1130000
A41: 資料來源：直轄市及縣(市)政府。
S45: 1003 | T45: 925 | U45: 361 | V45: 372 | W45: 6664 | X45: 2936 | Y45: 2823 | Z45: 905 | AA45: 317 | AB45: 232 | AC45: 0 | AD45: 206 | AE45: 48 | AF45: 4 | AG45: 154
S46: 991 | T46: 921 | U46: 360 | V46: 372 | W46: 6630 | X46: 2920 | Y46: 2808 | Z46: 902 | AA46: 317 | AB46: 231 | AC46: 0 | AD46: 206 | AE46: 48 | AF46: 4 | AG46: 154
S47: 12 | T47: 4 | U47: 1 | V47: 0 | W47: 34 | X47: 16 | Y47: 15 | Z47: 3 | AA47: 0 | AB47: 1 | AC47: 0 | AD47: 0 | AE47: 0 | AF47: 0 | AG47: 0
A48: 更新日期：2019/4/22

Sheet 102
A1: 5.2-03 推展性侵害防治業務
A2: 中華民國102年
A4: 被害人國籍身分 與性別 | C4: 1.性侵害被害人保護扶助人次（人次）
C5: 合計 | D5: 諮詢協談 | E5: 庇護安置 | F5: 陪同報案、偵詢（訊） | G5: 陪同出庭 | H5: 驗傷診療 | I5: 法律扶助 | J5: 經濟扶助 | K5: 心理諮商與輔導 | L5: 就業服務 | M5: 就學或轉學服務 | N5: 通譯服務 | O5: 轉介 戒毒中心 | P5: 其他扶助
A6: 合計 | B6: 計 | C6: 177258 | D6: 118258 | E6: 3667 | F6: 3925 | G6: 5602 | H6: 2604 | I6: 4251 | J6: 4551 | K6: 12375 | L6: 384 | M6: 1826 | N6: 164 | O6: 168 | P6: 19483
B7: 男 | C7: 15168 | D7: 9777 | E7: 163 | F7: 299 | G7: 304 | H7: 62 | I7: 281 | J7: 441 | K7: 1464 | L7: 6 | M7: 53 | N7: 3 | O7: 1 | P7: 2314
B8: 女 | C8: 162090 | D8: 108481 | E8: 3504 | F8: 3626 | G8: 5298 | H8: 2542 | I8: 3970 | J8: 4110 | K8: 10911 | L8: 378 | M8: 1773 | N8: 161 | O8: 167 | P8: 17169
A9: 本國籍 非原住民 | B9: 男 | C9: 13067 | D9: 8428 | E9: 141 | F9: 230 | G9: 249 | H9: 51 | I9: 255 | J9: 327 | K9: 1271 | L9: 4 | M9: 49 | N9: 3 | O9: 1 | P9: 2058
B10: 女 | C10: 141088 | D10: 94977 | E10: 3193 | F10: 3153 | G10: 4684 | H10: 2249 | I10: 3594 | J10: 3494 | K10: 9753 | L10: 307 | M10: 1306 | N10: 77 | O10: 1 | P10: 14300
A11: 本國籍 原住民 | B11: 男 | C11: 1961 | D11: 1257 | E11: 21 | F11: 67 | G11: 53 | H11: 11 | I11: 22 | J11: 102 | K11: 175 | L11: 2 | M11: 4 | N11: 0 | O11: 0 | P11: 247
B12: 女 | C12: 17460 | D12: 11486 | E12: 230 | F12: 396 | G12: 494 | H12: 237 | I12: 245 | J12: 553 | K12: 889 | L12: 41 | M12: 462 | N12: 2 | O12: 161 | P12: 2264
A13: 大陸籍 （含港澳） | B13: 男 | C13: 15 | D13: 9 | E13: 1 | F13: 0 | G13: 1 | H13: 0 | I13: 2 | J13: 1 | K13: 1 | L13: 0 | M13: 0 | N13: 0 | O13: 0 | P13: 0
B14: 女 | C14: 523 | D14: 325 | E14: 13 | F14: 8 | G14: 18 | H14: 11 | I14: 28 | J14: 13 | K14: 72 | L14: 9 | M14: 0 | N14: 0 | O14: 0 | P14: 26
A15: 外國籍 | B15: 男 | C15: 20 | D15: 9 | E15: 0 | F15: 0 | G15: 1 | H15: 0 | I15: 1 | J15: 0 | K15: 0 | L15: 0 | M15: 0 | N15: 0 | O15: 0 | P15: 9
B16: 女 | C16: 1915 | D16: 1141 | E16: 64 | F16: 61 | G16: 83 | H16: 33 | I16: 89 | J16: 43 | K16: 49 | L16: 21 | M16: 5 | N16: 82 | O16: 5 | P16: 239
A17: 其他 | B17: 男 | C17: 105 | D17: 74 | E17: 0 | F17: 2 | G17: 0 | H17: 0 | I17: 1 | J17: 11 | K17: 17 | L17: 0 | M17: 0 | N17: 0 | O17: 0 | P17: 0
B18: 女 | C18: 1104 | D18: 552 | E18: 4 | F18: 8 | G18: 19 | H18: 12 | I18: 14 | J18: 7 | K18: 148 | L18: 0 | M18: 0 | N18: 0 | O18: 0 | P18: 340
A20: 被害人國籍身分 | C20: 2.性侵害被害人保護扶助金額 (元)
C21: 合計 | D21: 緊急 生活扶助 | E21: 生活扶助 | F21: 急難救助 | G21: 租金補助 | H21: 醫療補助 | I21: 庇護安置 補助 | J21: 心理復健 補助 | K21: 律師費用 補助 | L21: 訴訟費用 補助 | M21: 民間慈善團體資助 | N21: 其他補助
A22: 合計 | C22: 77525239 | D22: 3835556 | E22: 3703454 | F22: 284363 | G22: 791000 | H22: 5347531 | I22: 33586529 | J22: 10171494 | K22: 13373800 | L22: 1203000 | M22: 2892173 | N22: 2336339
A23: 本國籍非原住民 | C23: 71378257 | D23: 3712374 | E23: 3650454 | F23: 240480 | G23: 791000 | H23: 4749016 | I23: 29914912 | J23: 9681776 | K23: 12927200 | L23: 1103000 | M23: 2505018 | N23: 2103027
A24: 本國籍原住民 | C24: 4858134 | D24: 99402 | E24: 53000 | F24: 37883 | G24: 0 | H24: 450031 | I24: 3036418 | J24: 421518 | K24: 159600 | L24: 50000 | M24: 337125 | N24: 213157
A25: 大陸籍（含港澳） | C25: 386201 | D25: 0 | E25: 0 | F25: 0 | G25: 0 | H25: 49128 | I25: 173043 | J25: 17000 | K25: 56000 | L25: 50000 | M25: 41030 | N25: 0
A26: 外國籍 | C26: 820847 | D26: 23780 | E26: 0 | F26: 0 | G26: 0 | H26: 87556 | I26: 462156 | J26: 7200 | K26: 220000 | L26: 0 | M26: 0 | N26: 20155
A27: 其他 | C27: 81800 | D27: 0 | E27: 0 | F27: 6000 | G27: 0 | H27: 11800 | I27: 0 | J27: 44000 | K27: 11000 | L27: 0 | M27: 9000 | N27: 0
A29: 加害人性別 | C29: 3.性侵害加害人處遇 | X29: 3.性侵害加害人處遇
C30: 本期加害人個案人數按處分別分（人） | N30: 累計個案人數按實施身心治療或輔導教育處遇類別（人） | X30: 累計處遇個案人數按身心治療 或輔導教育處遇狀態分 (人) | AB30: 處以行政罰鍰累計人數 (人) | AC30: 限期未履行移送地檢署累計人數 (人) | AD30: 移送地檢署聲請強制治療累計人數 (人) | AE30: 處遇期間再犯累計人數 (人)
C31: 合計 | D31: 刑滿及 保安處分 執行完畢 | E31: 假釋 | F31: 緩刑 | G31: 緩起訴 處分 | H31: 免刑 | I31: 赦免 | J31: 有期徒刑經准易服社會勞動 | K31: 經法院、軍事法院依本法第22條之1第3項裁定停止強制治療 | L31: 依少年事件處理法裁定保護處分確定而法院認有必要者 | M31: 性騷擾防治法第25條之罪 | N31: 不需處遇 累計個案 | O31: 應接受身心治療或輔導教育累計個案人數按處遇期程分 | X31: 合計 | Y31: 完成處遇累計人數 | Z31: 目前繼續接受處遇累計人數 | AA31: 未完成處遇累計人數 | AE31: 合計 | AF31: 再犯性侵害案件 | AG31: 再犯其他案件且合併性侵害 | AH31: 再犯其他非性侵害案件
O32: 計 | P32: 未滿3個月 | Q32: 3個月以上未滿6個月 | R32: 6個月以上未滿9個月 | S32: 9個月以上未滿1年 | T32: 1年以上未滿1年6個月 | U32: 1年6個月以上未滿2年 | V32: 2年以上 至3年 | W32: 3年以上至4年
A33: 計 | C33: 2625 | D33: 754 | E33: 468 | F33: 845 | G33: 106 | H33: 1 | I33: 0 | J33: 19 | K33: 5 | L33: 366 | M33: 61 | N33: 112 | O33: 6925 | P33: 1085 | Q33: 1747 | R33: 1274 | S33: 1003 | T33: 925 | U33: 361 | V33: 372 | W33: 158 | X33: 6664 | Y33: 2936 | Z33: 2823 | AA33: 905 | AB33: 317 | AC33: 232 | AD33: 28 | AE33: 206 | AF33: 48 | AG33: 4 | AH33: 154
A34: 男 | C34: 2601 | D34: 753 | E34: 457 | F34: 838 | G34: 106 | H34: 1 | I34: 0 | J34: 19 | K34: 5 | L34: 361 | M34: 61 | N34: 111 | O34: 6887 | P34: 1078 | Q34: 1744 | R34: 1263 | S34: 991 | T34: 921 | U34: 360 | V34: 372 | W34: 158 | X34: 6630 | Y34: 2920 | Z34: 2808 | AA34: 902 | AB34: 317 | AC34: 232 | AD34: 28 | AE34: 206 | AF34: 48 | AG34: 4 | AH34: 154
A35: 女 | C35: 24 | D35: 1 | E35: 11 | F35: 7 | G35: 0 | H35: 0 | I35: 0 | J35: 0 | K35: 0 | L35: 5 | M35: 0 | N35: 1 | O35: 38 | P35: 7 | Q35: 3 | R35: 11 | S35: 12 | T35: 4 | U35: 1 | V35: 0 | W35: 0 | X35: 34 | Y35: 16 | Z35: 15 | AA35: 3 | AB35: 0 | AC35: 0 | AD35: 0 | AE35: 0 | AF35: 0 | AG35: 0 | AH35: 0
A37: 件數與罰鍰金額 | C37: 4.性侵害事件裁罰按裁罰事由統計
C38: 合計 | D38: 無正當理由不到場或拒絕接受評估、身心治療或輔導教育者 (違反性侵害犯罪防治法第21條第1項第1款) | G38: 無正當理由不按時到場接受身心治療或輔導教育或接受之時數不足者 (違反性侵害犯罪防治法第21條第1項第2款) | J38: 未依第23條第1項規定定期辦理登記或報到者 (違反性侵害犯罪防治法第21條第1項第3款)
A39: 件數 (件) | C39: 598 | D39: 173 | G39: 335 | J39: 70
A40: 罰鍰金額 (元) | C40: 6940000 | D40: 2470000 | G40: 3590000 | J40: 880000
A41: 資料來源：直轄市及縣(市)政府。
A44: 更新日期：2014/5/30
S45: 1003 | T45: 925 | U45: 361 | V45: 372 | W45: 6664 | X45: 2936 | Y45: 2823 | Z45: 905 | AA45: 317 | AB45: 232 | AC45: 0 | AD45: 206 | AE45: 48 | AF45: 4 | AG45: 154
S46: 991 | T46: 921 | U46: 360 | V46: 372 | W46: 6630 | X46: 2920 | Y46: 2808 | Z46: 902 | AA46: 317 | AB46: 231 | AC46: 0 | AD46: 206 | AE46: 48 | AF46: 4 | AG46: 154
S47: 12 | T47: 4 | U47: 1 | V47: 0 | W47: 34 | X47: 16 | Y47: 15 | Z47: 3 | AA47: 0 | AB47: 1 | AC47: 0 | AD47: 0 | AE47: 0 | AF47: 0 | AG47: 0

Sheet 101
A1: 5.2-03 推展性侵害防治業務
A2: 中華民國101年
A4: 被害人國籍身分 與性別 | C4: 1.性侵害被害人保護扶助人次（人次）
C5: 合計 | D5: 諮詢協談 | E5: 庇護安置 | F5: 陪同報案、偵詢（訊） | G5: 陪同出庭 | H5: 驗傷診療 | I5: 法律扶助 | J5: 經濟扶助 | K5: 心理諮商與輔導 | L5: 就業服務 | M5: 就學或轉學服務 | N5: 通譯服務 | O5: 轉介 戒毒中心 | P5: 其他扶助
A6: 合計 | B6: 計 | C6: 158258 | D6: 105466 | E6: 2098 | F6: 3777 | G6: 5089 | H6: 2798 | I6: 5491 | J6: 3879 | K6: 12601 | L6: 244 | M6: 2433 | N6: 75 | O6: 17 | P6: 14290
B7: 男 | C7: 14519 | D7: 9721 | E7: 151 | F7: 324 | G7: 370 | H7: 71 | I7: 472 | J7: 140 | K7: 1531 | L7: 58 | M7: 100 | N7: 6 | O7: 7 | P7: 1568
B8: 女 | C8: 143739 | D8: 95745 | E8: 1947 | F8: 3453 | G8: 4719 | H8: 2727 | I8: 5019 | J8: 3739 | K8: 11070 | L8: 186 | M8: 2333 | N8: 69 | O8: 10 | P8: 12722
A9: 本國籍 非原住民 | B9: 男 | C9: 12254 | D9: 8152 | E9: 110 | F9: 274 | G9: 305 | H9: 52 | I9: 408 | J9: 113 | K9: 1393 | L9: 51 | M9: 95 | N9: 5 | O9: 7 | P9: 1289
B10: 女 | C10: 128126 | D10: 85848 | E10: 1567 | F10: 3051 | G10: 4249 | H10: 2464 | I10: 4653 | J10: 3451 | K10: 10202 | L10: 170 | M10: 1776 | N10: 20 | O10: 6 | P10: 10669
A11: 本國籍 原住民 | B11: 男 | C11: 1445 | D11: 862 | E11: 29 | F11: 42 | G11: 56 | H11: 8 | I11: 45 | J11: 20 | K11: 110 | L11: 7 | M11: 3 | N11: 0 | O11: 0 | P11: 263
B12: 女 | C12: 12740 | D12: 7797 | E12: 347 | F12: 338 | G12: 372 | H12: 202 | I12: 241 | J12: 232 | K12: 792 | L12: 12 | M12: 556 | N12: 1 | O12: 0 | P12: 1850
A13: 大陸籍 （含港澳） | B13: 男 | C13: 186 | D13: 140 | E13: 2 | F13: 1 | G13: 2 | H13: 1 | I13: 2 | J13: 0 | K13: 28 | L13: 0 | M13: 1 | N13: 1 | O13: 0 | P13: 8
B14: 女 | C14: 455 | D14: 327 | E14: 2 | F14: 8 | G14: 18 | H14: 7 | I14: 26 | J14: 6 | K14: 25 | L14: 2 | M14: 0 | N14: 0 | O14: 0 | P14: 34
A15: 外國籍 | B15: 男 | C15: 168 | D15: 104 | E15: 9 | F15: 5 | G15: 7 | H15: 10 | I15: 17 | J15: 7 | K15: 0 | L15: 0 | M15: 1 | N15: 0 | O15: 0 | P15: 8
B16: 女 | C16: 1447 | D16: 888 | E16: 27 | F16: 47 | G16: 69 | H16: 45 | I16: 95 | J16: 39 | K16: 50 | L16: 2 | M16: 1 | N16: 48 | O16: 4 | P16: 132
A17: 其他 | B17: 男 | C17: 466 | D17: 463 | E17: 1 | F17: 2 | G17: 0 | H17: 0 | I17: 0 | J17: 0 | K17: 0 | L17: 0 | M17: 0 | N17: 0 | O17: 0 | P17: 0
B18: 女 | C18: 971 | D18: 885 | E18: 4 | F18: 9 | G18: 11 | H18: 9 | I18: 4 | J18: 11 | K18: 1 | L18: 0 | M18: 0 | N18: 0 | O18: 0 | P18: 37
A20: 被害人國籍身分 | C20: 2.性侵害被害人保護扶助金額 (元)
C21: 合計 | D21: 緊急 生活扶助 | E21: 生活扶助 | F21: 急難救助 | G21: 租金補助 | H21: 醫療補助 | I21: 庇護安置 補助 | J21: 心理復健 補助 | K21: 律師費用 補助 | L21: 訴訟費用 補助 | M21: 民間慈善團體資助 | N21: 其他補助
A22: 合計 | C22: 70767228 | D22: 4469502 | E22: 1088244 | F22: 250372 | G22: 388000 | H22: 5709935 | I22: 29816431 | J22: 11195389 | K22: 13054500 | L22: 1608023 | M22: 1319391 | N22: 1867441
A23: 本國籍非原住民 | C23: 65609183 | D23: 4311810 | E23: 874524 | F23: 240280 | G23: 378000 | H23: 5262379 | I23: 26527243 | J23: 10816989 | K23: 12816500 | L23: 1558023 | M23: 1088757 | N23: 1734678
A24: 本國籍原住民 | C24: 4333229 | D24: 91464 | E24: 177720 | F24: 2000 | G24: 10000 | H24: 342356 | I24: 2943482 | J24: 342400 | K24: 80000 | L24: 0 | M24: 215134 | N24: 128673
A25: 大陸籍（含港澳） | C25: 95056 | D25: 0 | E25: 0 | F25: 0 | G25: 0 | H25: 20356 | I25: 0 | J25: 19200 | K25: 50000 | L25: 0 | M25: 5500 | N25: 0
A26: 外國籍 | C26: 663960 | D26: 66228 | E26: 36000 | F26: 8092 | G26: 0 | H26: 69044 | I26: 345706 | J26: 16800 | K26: 108000 | L26: 0 | M26: 10000 | N26: 4090
A27: 其他 | C27: 65800 | D27: 0 | E27: 0 | F27: 0 | G27: 0 | H27: 15800 | I27: 0 | J27: 0 | K27: 0 | L27: 50000 | M27: 0 | N27: 0
A29: 加害人性別 | C29: 3.性侵害加害人處遇 | S29: 3.性侵害加害人處遇
C30: 本期加害人個案人數按處分別分（人） | J30: 累計個案人數按實施身心治療或輔導教育處遇類別（人） | S30: 累計處遇個案人數按身心治療 或輔導教育處遇狀態分 (人) | W30: 處以行政罰鍰累計人數 (人) | X30: 限期未履行移送地檢署累計人數 (人) | Y30: 移送地檢署聲請強制治療累計人數 (人) | Z30: 處遇期間再犯累計人數 (人)
C31: 合計 | D31: 刑滿及 保安處分 執行完畢 | E31: 假釋 | F31: 緩刑 | G31: 緩起訴 處分 | H31: 免刑 | I31: 赦免 | J31: 不需處遇 累計個案 | K31: 應接受身心治療或輔導教育累計個案人數按處遇期程分 | S31: 合計 | T31: 完成處遇累計人數 | U31: 目前繼續接受處遇累計人數 | V31: 未完成處遇累計人數 | Z31: 合計 | AA31: 再犯性侵害案件 | AB31: 再犯其他案件且合併性侵害 | AC31: 再犯其他非性侵害案件
K32: 計 | L32: 未滿3個月 | M32: 3個月以上未滿6個月 | N32: 6個月以上未滿9個月 | O32: 9個月以上未滿1年 | P32: 1年以上未滿1年6個月 | Q32: 1年6個月以上未滿2年 | R32: 2年以上 至3年
A33: 計 | C33: 2318 | D33: 852 | E33: 426 | F33: 932 | G33: 93 | H33: 15 | I33: 0 | J33: 152 | K33: 11233 | L33: 3086 | M33: 2107 | N33: 1708 | O33: 1961 | P33: 1348 | Q33: 288 | R33: 735 | S33: 11356 | T33: 6238 | U33: 3252 | V33: 1866 | W33: 523 | X33: 214 | Y33: 21 | Z33: 397 | AA33: 79 | AB33: 7 | AC33: 311
A34: 男 | C34: 2289 | D34: 843 | E34: 417 | F34: 924 | G34: 90 | H34: 15 | I34: 0 | J34: 150 | K34: 11179 | L34: 3065 | M34: 2098 | N34: 1700 | O34: 1952 | P34: 1345 | Q34: 288 | R34: 731 | S34: 11300 | T34: 6203 | U34: 3238 | V34: 1859 | W34: 523 | X34: 214 | Y34: 20 | Z34: 397 | AA34: 79 | AB34: 7 | AC34: 311
A35: 女 | C35: 29 | D35: 9 | E35: 9 | F35: 8 | G35: 3 | H35: 0 | I35: 0 | J35: 2 | K35: 54 | L35: 21 | M35: 9 | N35: 8 | O35: 9 | P35: 3 | Q35: 0 | R35: 4 | S35: 56 | T35: 35 | U35: 14 | V35: 7 | W35: 0 | X35: 0 | Y35: 1 | Z35: 0 | AA35: 0 | AB35: 0 | AC35: 0
A37: 件數與罰鍰金額 | C37: 4.性侵害事件裁罰按裁罰事由統計
C38: 合計 | D38: 無正當理由不到場或拒絕接受評估、身心治療或輔導教育者 (違反性侵害犯罪防治法第21條第1項第1款) | G38: 無正當理由不按時到場接受身心治療或輔導教育或接受之時數不足者 (違反性侵害犯罪防治法第21條第1項第2款) | J38: 未依第23條第1項規定定期辦理登記或報到者 (違反性侵害犯罪防治法第21條第1項第3款)
A39: 件數 (件) | C39: 318 | D39: 193 | G39: 91 | J39: 34
A40: 罰鍰金額 (元) | C40: 3620000 | D40: 2330000 | G40: 910000 | J40: 380000
A41: 資料來源：直轄市及縣(市)政府。
A45: 更新日期：2019/4/22

Sheet 100
A1: 5.2-03 推展性侵害防治業務
A2: 中華民國100年
A4: 被害人國籍身分 與性別 | C4: 1.性侵害被害人保護扶助人次（人次）
C5: 合計 | D5: 諮詢協談 | E5: 庇護安置 | F5: 陪同報案、偵詢（訊） | G5: 陪同出庭 | H5: 驗傷診療 | I5: 法律扶助 | J5: 經濟扶助 | K5: 心理諮商與輔導 | L5: 就業服務 | M5: 就學或轉學服務 | N5: 通譯服務 | O5: 轉介 戒毒中心 | P5: 其他扶助
A6: 合計 | B6: 計 | C6: 140326 | D6: 91455 | E6: 3026 | F6: 3793 | G6: 4699 | H6: 2985 | I6: 3924 | J6: 3989 | K6: 11581 | L6: 816 | M6: 2114 | N6: 296 | O6: 12 | P6: 11636
B7: 男 | C7: 12830 | D7: 8190 | E7: 194 | F7: 283 | G7: 295 | H7: 150 | I7: 314 | J7: 415 | K7: 1525 | L7: 47 | M7: 253 | N7: 42 | O7: 3 | P7: 1119
B8: 女 | C8: 127496 | D8: 83265 | E8: 2832 | F8: 3510 | G8: 4404 | H8: 2835 | I8: 3610 | J8: 3574 | K8: 10056 | L8: 769 | M8: 1861 | N8: 254 | O8: 9 | P8: 10517
A9: 本國籍 非原住民 | B9: 男 | C9: 11663 | D9: 7500 | E9: 182 | F9: 244 | G9: 262 | H9: 129 | I9: 286 | J9: 382 | K9: 1348 | L9: 44 | M9: 243 | N9: 37 | O9: 3 | P9: 1003
B10: 女 | C10: 111904 | D10: 73766 | E10: 2106 | F10: 3071 | G10: 3875 | H10: 2460 | I10: 3155 | J10: 3146 | K10: 8873 | L10: 714 | M10: 1571 | N10: 167 | O10: 9 | P10: 8991
A11: 本國籍 原住民 | B11: 男 | C11: 1036 | D11: 603 | E11: 11 | F11: 34 | G11: 32 | H11: 21 | I11: 16 | J11: 33 | K11: 161 | L11: 3 | M11: 10 | N11: 1 | O11: 0 | P11: 111
B12: 女 | C12: 12390 | D12: 7657 | E12: 691 | F12: 378 | G12: 391 | H12: 334 | I12: 220 | J12: 369 | K12: 810 | L12: 40 | M12: 288 | N12: 2 | O12: 0 | P12: 1210
A13: 大陸籍 （含港澳） | B13: 男 | C13: 41 | D13: 36 | E13: 0 | F13: 1 | G13: 0 | H13: 0 | I13: 0 | J13: 0 | K13: 4 | L13: 0 | M13: 0 | N13: 0 | O13: 0 | P13: 0
B14: 女 | C14: 437 | D14: 272 | E14: 1 | F14: 8 | G14: 31 | H14: 3 | I14: 39 | J14: 18 | K14: 52 | L14: 3 | M14: 1 | N14: 2 | O14: 0 | P14: 7
A15: 外國籍 | B15: 男 | C15: 31 | D15: 4 | E15: 1 | F15: 0 | G15: 0 | H15: 0 | I15: 11 | J15: 0 | K15: 12 | L15: 0 | M15: 0 | N15: 0 | O15: 0 | P15: 3
B16: 女 | C16: 2175 | D16: 1115 | E16: 33 | F16: 41 | G16: 97 | H16: 35 | I16: 115 | J16: 37 | K16: 305 | L16: 12 | M16: 1 | N16: 83 | O16: 0 | P16: 301
A17: 其他 | B17: 男 | C17: 59 | D17: 47 | E17: 0 | F17: 4 | G17: 1 | H17: 0 | I17: 1 | J17: 0 | K17: 0 | L17: 0 | M17: 0 | N17: 4 | O17: 0 | P17: 2
B18: 女 | C18: 590 | D18: 455 | E18: 1 | F18: 12 | G18: 10 | H18: 3 | I18: 81 | J18: 4 | K18: 16 | L18: 0 | M18: 0 | N18: 0 | O18: 0 | P18: 8
A20: 被害人國籍身分 | C20: 2.性侵害被害人保護扶助金額 (元)
C21: 合計 | D21: 緊急 生活扶助 | E21: 生活扶助 | F21: 急難救助 | G21: 租金補助 | H21: 醫療補助 | I21: 庇護安置 補助 | J21: 心理復健 補助 | K21: 律師費用 補助 | L21: 訴訟費用 補助 | M21: 民間慈善團體資助 | N21: 其他補助
A22: 合計 | C22: 73603327 | D22: 4343460 | E22: 375172 | F22: 592922 | G22: 420000 | H22: 5772874 | I22: 30564483 | J22: 13224256 | K22: 12205700 | L22: 2743200 | M22: 1046094 | N22: 2315166
A23: 本國籍非原住民 | C23: 67010636 | D23: 4044756 | E23: 325972 | F23: 490422 | G23: 408000 | H23: 5175596 | I23: 27033769 | J23: 12568256 | K23: 11976700 | L23: 2743200 | M23: 889894 | N23: 1354071
A24: 本國籍原住民 | C24: 5929522 | D24: 131512 | E24: 36000 | F24: 100000 | G24: 12000 | H24: 510140 | I24: 3272689 | J24: 609600 | K24: 201000 | L24: 0 | M24: 146700 | N24: 909881
A25: 大陸籍（含港澳） | C25: 118870 | D25: 51220 | E25: 0 | F25: 2500 | G25: 0 | H25: 19650 | I25: 0 | J25: 8000 | K25: 28000 | L25: 0 | M25: 9500 | N25: 0
A26: 外國籍 | C26: 516172 | D26: 115972 | E26: 13200 | F26: 0 | G26: 0 | H26: 61828 | I26: 258025 | J26: 38400 | K26: 0 | L26: 0 | M26: 0 | N26: 28747
A27: 其他 | C27: 28127 | D27: 0 | E27: 0 | F27: 0 | G27: 0 | H27: 5660 | I27: 0 | J27: 0 | K27: 0 | L27: 0 | M27: 0 | N27: 22467
A29: 加害人性別 | C29: 3.性侵害加害人處遇 | S29: 3.性侵害加害人處遇
C30: 本期加害人個案人數按處分別分（人） | J30: 累計個案人數按實施身心治療或輔導教育處遇類別（人） | S30: 累計處遇個案人數按身心治療 或輔導教育處遇狀態分 (人) | W30: 處以行政罰鍰累計人數 (人) | X30: 限期未履行移送地檢署累計人數 (人) | Y30: 移送地檢署聲請強制治療累計人數 (人) | Z30: 處遇期間再犯累計人數 (人)
C31: 合計 | D31: 刑滿及 保安處分 執行完畢 | E31: 假釋 | F31: 緩刑 | G31: 緩起訴 處分 | H31: 免刑 | I31: 赦免 | J31: 不需處遇 累計個案 | K31: 應接受身心治療或輔導教育累計個案人數按處遇期程分 | S31: 合計 | T31: 完成處遇 累計人數 | U31: 目前繼續接受處遇累計人數 | V31: 未完成處遇 累計人數 | Z31: 合計 | AA31: 再犯性侵害案件 | AB31: 再犯其他案件且合併性侵害 | AC31: 再犯其他非性侵害案件
K32: 計 | L32: 未滿3個月 | M32: 3個月以上未滿6個月 | N32: 6個月以上未滿9個月 | O32: 9個月以上未滿1年 | P32: 1年以上未滿1年6個月 | Q32: 1年6個月以上未滿2年 | R32: 2年以上 至3年
A33: 計 | C33: 1945 | D33: 760 | E33: 355 | F33: 770 | G33: 56 | H33: 4 | I33: 0 | J33: 116 | K33: 9036 | L33: 2109 | M33: 1826 | N33: 1405 | O33: 1329 | P33: 1560 | Q33: 239 | R33: 568 | S33: 9348 | T33: 5278 | U33: 2558 | V33: 1512 | W33: 208 | X33: 74 | Y33: 4 | Z33: 319 | AA33: 65 | AB33: 7 | AC33: 247
A34: 男 | C34: 1899 | D34: 739 | E34: 342 | F34: 760 | G34: 54 | H34: 4 | I34: 0 | J34: 115 | K34: 8984 | L34: 2096 | M34: 1817 | N34: 1400 | O34: 1311 | P34: 1557 | Q34: 239 | R34: 564 | S34: 9301 | T34: 5247 | U34: 2551 | V34: 1503 | W34: 208 | X34: 74 | Y34: 4 | Z34: 318 | AA34: 64 | AB34: 7 | AC34: 247
A35: 女 | C35: 46 | D35: 21 | E35: 13 | F35: 10 | G35: 2 | H35: 0 | I35: 0 | J35: 1 | K35: 52 | L35: 13 | M35: 9 | N35: 5 | O35: 18 | P35: 3 | Q35: 0 | R35: 4 | S35: 47 | T35: 31 | U35: 7 | V35: 9 | W35: 0 | X35: 0 | Y35: 0 | Z35: 1 | AA35: 1 | AB35: 0 | AC35: 0
A37: 件數與罰鍰金額 | C37: 4.性侵害事件裁罰按裁罰事由統計
C38: 合計 | D38: 無正當理由不到場或拒絕接受評估、身心治療或輔導教育者 (違反性侵害犯罪防治法第21條第1項第1款) | G38: 無正當理由不按時到場接受身心治療或輔導教育或接受之時數不足者 (違反性侵害犯罪防治法第21條第1項第2款) | J38: 未依第23條第1項規定定期辦理登記或報到者 (違反性侵害犯罪防治法第21條第1項第3款)
A39: 件數 (件) | C39: 188 | D39: 68 | G39: 63 | J39: 57
A40: 罰鍰金額 (元) | C40: 1810000 | D40: 640000 | G40: 600000 | J40: 570000
A41: 資料來源：直轄市及縣(市)政府。
A44: 更新日期：2019/4/22

Sheet 99
A1: 5.2-03 推展性侵害防治業務
A2: 中華民國99年
A4: 被害人國籍身分 與性別 | C4: 1.性侵害被害人保護扶助人次（人次）
C5: 合計 | D5: 諮詢協談 | E5: 庇護安置 | F5: 陪同報案、偵詢（訊） | G5: 陪同出庭 | H5: 驗傷診療 | I5: 法律扶助 | J5: 經濟扶助 | K5: 心理諮商與輔導 | L5: 就業服務 | M5: 就學或轉學服務 | N5: 通譯服務 | O5: 轉介 戒毒中心 | P5: 其他扶助
A6: 合計 | B6: 計 | C6: 100942 | D6: 59985 | E6: 1817 | F6: 2896 | G6: 3231 | H6: 1672 | I6: 3688 | J6: 3126 | K6: 9096 | L6: 307 | M6: 3418 | N6: 123 | O6: 39 | P6: 11544
B7: 男 | C7: 7712 | D7: 4080 | E7: 141 | F7: 197 | G7: 170 | H7: 68 | I7: 234 | J7: 468 | K7: 1014 | L7: 6 | M7: 165 | N7: 5 | O7: 7 | P7: 1157
B8: 女 | C8: 93230 | D8: 55905 | E8: 1676 | F8: 2699 | G8: 3061 | H8: 1604 | I8: 3454 | J8: 2658 | K8: 8082 | L8: 301 | M8: 3253 | N8: 118 | O8: 32 | P8: 10387
A9: 本國籍 非原住民 | B9: 男 | C9: 7084 | D9: 3776 | E9: 137 | F9: 172 | G9: 150 | H9: 56 | I9: 206 | J9: 455 | K9: 954 | L9: 6 | M9: 160 | N9: 1 | O9: 6 | P9: 1005
B10: 女 | C10: 82089 | D10: 49356 | E10: 1463 | F10: 2272 | G10: 2671 | H10: 1308 | I10: 3157 | J10: 2385 | K10: 7366 | L10: 272 | M10: 2915 | N10: 39 | O10: 26 | P10: 8859
A11: 本國籍 原住民 | B11: 男 | C11: 425 | D11: 249 | E11: 2 | F11: 23 | G11: 17 | H11: 11 | I11: 18 | J11: 13 | K11: 49 | L11: 0 | M11: 5 | N11: 0 | O11: 0 | P11: 38
B12: 女 | C12: 8397 | D12: 4940 | E12: 166 | F12: 354 | G12: 300 | H12: 261 | I12: 152 | J12: 207 | K12: 441 | L12: 23 | M12: 336 | N12: 2 | O12: 2 | P12: 1213
A13: 大陸籍 （含港澳） | B13: 男 | C13: 154 | D13: 23 | E13: 0 | F13: 2 | G13: 2 | H13: 1 | I13: 9 | J13: 0 | K13: 6 | L13: 0 | M13: 0 | N13: 3 | O13: 0 | P13: 108
B14: 女 | C14: 317 | D14: 201 | E14: 13 | F14: 10 | G14: 17 | H14: 5 | I14: 35 | J14: 10 | K14: 10 | L14: 0 | M14: 1 | N14: 0 | O14: 0 | P14: 15
A15: 外國籍 | B15: 男 | C15: 28 | D15: 11 | E15: 2 | F15: 0 | G15: 1 | H15: 0 | I15: 1 | J15: 0 | K15: 5 | L15: 0 | M15: 0 | N15: 1 | O15: 1 | P15: 6
B16: 女 | C16: 2107 | D16: 1108 | E16: 34 | F16: 58 | G16: 71 | H16: 29 | I16: 109 | J16: 56 | K16: 257 | L16: 6 | M16: 1 | N16: 77 | O16: 4 | P16: 297
A17: 其他 | B17: 男 | C17: 21 | D17: 21 | E17: 0 | F17: 0 | G17: 0 | H17: 0 | I17: 0 | J17: 0 | K17: 0 | L17: 0 | M17: 0 | N17: 0 | O17: 0 | P17: 0
B18: 女 | C18: 320 | D18: 300 | E18: 0 | F18: 5 | G18: 2 | H18: 1 | I18: 1 | J18: 0 | K18: 8 | L18: 0 | M18: 0 | N18: 0 | O18: 0 | P18: 3
A20: 被害人國籍身分 | C20: 2.性侵害被害人保護扶助金額 (元)
C21: 合計 | D21: 緊急 生活扶助 | E21: 生活扶助 | F21: 急難救助 | G21: 租金補助 | H21: 醫療補助 | I21: 庇護安置 補助 | J21: 心理復健 補助 | K21: 律師費用 補助 | L21: 訴訟費用 補助 | M21: 民間慈善團體資助 | N21: 其他補助
A22: 合計 | C22: 60270362 | D22: 3994678 | E22: 544973 | F22: 311603 | G22: 136005 | H22: 5366232 | I22: 28098046 | J22: 8511936 | K22: 10707000 | L22: 1158000 | M22: 1004793 | N22: 437096
A23: 本國籍非原住民 | C23: 53946316 | D23: 3606740 | E23: 521973 | F23: 278116 | G23: 123350 | H23: 4912471 | I23: 23505716 | J23: 8117736 | K23: 10388200 | L23: 1148000 | M23: 927293 | N23: 416721
A24: 本國籍原住民 | C24: 4443439 | D24: 137597 | E24: 23000 | F24: 0 | G24: 2155 | H24: 385775 | I24: 3394062 | J24: 363400 | K24: 54800 | L24: 0 | M24: 74500 | N24: 8150
A25: 大陸籍（含港澳） | C25: 731672 | D25: 0 | E25: 0 | F25: 0 | G25: 0 | H25: 7280 | I25: 561812 | J25: 4800 | K25: 150000 | L25: 0 | M25: 3000 | N25: 4780
A26: 外國籍 | C26: 1148935 | D26: 250341 | E26: 0 | F26: 33487 | G26: 10500 | H26: 60706 | I26: 636456 | J26: 26000 | K26: 114000 | L26: 10000 | M26: 0 | N26: 7445
A27: 其他 | C27: 0 | D27: 0 | E27: 0 | F27: 0 | G27: 0 | H27: 0 | I27: 0 | J27: 0 | K27: 0 | L27: 0 | M27: 0 | N27: 0
A29: 加害人性別 | C29: 3.性侵害加害人處遇 | S29: 3.性侵害加害人處遇
C30: 本期加害人個案人數按處分別分（人） | J30: 累計個案人數按實施身心治療或輔導教育處遇類別（人） | S30: 累計處遇個案人數按身心治療 或輔導教育處遇狀態分 (人) | W30: 處以行政罰鍰累計人數 (人) | X30: 限期未履行移送地檢署累計人數 (人) | Y30: 移送地檢署聲請強制治療累計人數 (人) | Z30: 處遇期間再犯累計人數 (人)
C31: 合計 | D31: 刑滿及 保安處分 執行完畢 | E31: 假釋 | F31: 緩刑 | G31: 緩起訴 處分 | H31: 免刑 | I31: 赦免 | J31: 不需處遇 累計個案 | K31: 應接受身心治療或輔導教育累計個案人數按處遇期程分 | S31: 合計 | T31: 完成處遇 累計人數 | U31: 目前繼續接受處遇累計人數 | V31: 未完成處遇 累計人數 | Z31: 合計 | AA31: 再犯性侵害案件 | AB31: 再犯其他案件且合併性侵害 | AC31: 再犯其他非性侵害案件
K32: 計 | L32: 未滿3個月 | M32: 3個月以上未滿6個月 | N32: 6個月以上未滿9個月 | O32: 9個月以上未滿1年 | P32: 1年以上未滿1年6個月 | Q32: 1年6個月以上未滿2年 | R32: 2年以上 至3年
A33: 計 | C33: 2148 | D33: 661 | E33: 749 | F33: 694 | G33: 41 | H33: 3 | I33: 0 | J33: 558 | K33: 8406 | L33: 2835 | M33: 1572 | N33: 926 | O33: 1916 | P33: 700 | Q33: 209 | R33: 248 | S33: 9704 | T33: 5494 | U33: 2596 | V33: 1614 | W33: 216 | X33: 71 | Y33: 1 | Z33: 324 | AA33: 71 | AB33: 25 | AC33: 228
A34: 男 | C34: 2126 | D34: 656 | E34: 743 | F34: 686 | G34: 38 | H34: 3 | I34: 0 | J34: 555 | K34: 8364 | L34: 2819 | M34: 1566 | N34: 922 | O34: 1906 | P34: 696 | Q34: 207 | R34: 248 | S34: 9644 | T34: 5453 | U34: 2587 | V34: 1604 | W34: 216 | X34: 70 | Y34: 1 | Z34: 323 | AA34: 70 | AB34: 25 | AC34: 228
A35: 女 | C35: 22 | D35: 5 | E35: 6 | F35: 8 | G35: 3 | H35: 0 | I35: 0 | J35: 3 | K35: 42 | L35: 16 | M35: 6 | N35: 4 | O35: 10 | P35: 4 | Q35: 2 | R35: 0 | S35: 60 | T35: 41 | U35: 9 | V35: 10 | W35: 0 | X35: 1 | Y35: 0 | Z35: 1 | AA35: 1 | AB35: 0 | AC35: 0
A37: 件數與罰鍰金額 | C37: 4.性侵害事件裁罰按裁罰事由統計
C38: 合計 | D38: 無正當理由不到場或拒絕接受評估、身心治療或輔導教育者 (違反性侵害犯罪防治法第21條第1項第1款) | G38: 無正當理由不按時到場接受身心治療或輔導教育或接受之時數不足者 (違反性侵害犯罪防治法第21條第1項第2款) | J38: 未依第23條第1項規定定期辦理登記或報到者 (違反性侵害犯罪防治法第21條第1項第3款)
A39: 件數 (件) | C39: 226 | D39: 114 | G39: 61 | J39: 51
A40: 罰鍰金額 (元) | C40: 2088000 | D40: 978000 | G40: 610000 | J40: 500000
A41: 資料來源：直轄市及縣(市)政府。
A45: 更新日期：2019/4/22

Sheet 98
A1: 5.2-03 推展性侵害防治業務
A2: 中華民國98年
A4: 被害人國籍身分 與性別 | C4: 1.性侵害被害人保護扶助人次（人次）
C5: 合計 | D5: 諮詢協談 | E5: 庇護安置 | F5: 陪同報案、偵詢（訊） | G5: 陪同出庭 | H5: 驗傷診療 | I5: 法律扶助 | J5: 經濟扶助 | K5: 心理諮商與輔導 | L5: 就業服務 | M5: 就學或轉學服務 | N5: 通譯服務 | O5: 轉介 戒毒中心 | P5: 其他扶助
A6: 合計 | B6: 計 | C6: 101482 | D6: 60907 | E6: 1722 | F6: 2564 | G6: 2699 | H6: 1936 | I6: 3535 | J6: 3645 | K6: 10589 | L6: 333 | M6: 1880 | N6: 71 | O6: 2 | P6: 11599
B7: 男 | C7: 7106 | D7: 4332 | E7: 164 | F7: 178 | G7: 158 | H7: 70 | I7: 186 | J7: 330 | K7: 781 | L7: 11 | M7: 45 | N7: 2 | O7: 0 | P7: 849
B8: 女 | C8: 94376 | D8: 56575 | E8: 1558 | F8: 2386 | G8: 2541 | H8: 1866 | I8: 3349 | J8: 3315 | K8: 9808 | L8: 322 | M8: 1835 | N8: 69 | O8: 2 | P8: 10750
A9: 本國籍 非原住民 | B9: 男 | C9: 6038 | D9: 3585 | E9: 145 | F9: 143 | G9: 144 | H9: 52 | I9: 164 | J9: 307 | K9: 721 | L9: 11 | M9: 43 | N9: 2 | O9: 0 | P9: 721
B10: 女 | C10: 82540 | D10: 49056 | E10: 1327 | F10: 2045 | G10: 2229 | H10: 1548 | I10: 3156 | J10: 2849 | K10: 9074 | L10: 280 | M10: 1434 | N10: 34 | O10: 2 | P10: 9506
A11: 本國籍 原住民 | B11: 男 | C11: 756 | D11: 461 | E11: 18 | F11: 31 | G11: 13 | H11: 16 | I11: 22 | J11: 17 | K11: 54 | L11: 0 | M11: 2 | N11: 0 | O11: 0 | P11: 122
B12: 女 | C12: 8895 | D12: 5229 | E12: 203 | F12: 292 | G12: 248 | H12: 286 | I12: 119 | J12: 389 | K12: 618 | L12: 29 | M12: 400 | N12: 4 | O12: 0 | P12: 1078
A13: 大陸籍 （含港澳） | B13: 男 | C13: 36 | D13: 36 | E13: 0 | F13: 0 | G13: 0 | H13: 0 | I13: 0 | J13: 0 | K13: 0 | L13: 0 | M13: 0 | N13: 0 | O13: 0 | P13: 0
B14: 女 | C14: 540 | D14: 448 | E14: 9 | F14: 6 | G14: 11 | H14: 4 | I14: 15 | J14: 9 | K14: 9 | L14: 6 | M14: 1 | N14: 0 | O14: 0 | P14: 22
A15: 外國籍 | B15: 男 | C15: 28 | D15: 7 | E15: 1 | F15: 2 | G15: 0 | H15: 2 | I15: 0 | J15: 5 | K15: 6 | L15: 0 | M15: 0 | N15: 0 | O15: 0 | P15: 5
B16: 女 | C16: 1711 | D16: 1205 | E16: 16 | F16: 31 | G16: 36 | H16: 25 | I16: 55 | J16: 63 | K16: 102 | L16: 5 | M16: 0 | N16: 31 | O16: 0 | P16: 142
A17: 其他 | B17: 男 | C17: 248 | D17: 243 | E17: 0 | F17: 2 | G17: 1 | H17: 0 | I17: 0 | J17: 1 | K17: 0 | L17: 0 | M17: 0 | N17: 0 | O17: 0 | P17: 1
B18: 女 | C18: 690 | D18: 637 | E18: 3 | F18: 12 | G18: 17 | H18: 3 | I18: 4 | J18: 5 | K18: 5 | L18: 2 | M18: 0 | N18: 0 | O18: 0 | P18: 2
A20: 被害人國籍身分 | C20: 2.性侵害被害人保護扶助金額 (元)
C21: 合計 | D21: 緊急 生活扶助 | E21: 生活扶助 | F21: 急難救助 | G21: 租金補助 | H21: 醫療補助 | I21: 庇護安置 補助 | J21: 心理復健 補助 | K21: 律師費用 補助 | L21: 訴訟費用 補助 | M21: 民間慈善團體資助 | N21: 其他補助
A22: 合計 | C22: 64912653 | D22: 4841636 | E22: 656794 | F22: 373910 | G22: 182150 | H22: 5379465 | I22: 30617762 | J22: 9717288 | K22: 11763770 | L22: 218850 | M22: 573202 | N22: 587826
A23: 本國籍非原住民 | C23: 56202215 | D23: 4238176 | E23: 436947 | F23: 338910 | G23: 161650 | H23: 4832996 | I23: 25821265 | J23: 8406073 | K23: 10777770 | L23: 188850 | M23: 511500 | N23: 488078
A24: 本國籍原住民 | C24: 7378492 | D24: 230607 | E24: 219847 | F24: 35000 | G24: 20500 | H24: 438228 | I24: 4559947 | J24: 1220615 | K24: 508000 | L24: 0 | M24: 49000 | N24: 96748
A25: 大陸籍（含港澳） | C25: 370797 | D25: 39829 | E25: 0 | F25: 0 | G25: 0 | H25: 13288 | I25: 217280 | J25: 48400 | K25: 50000 | L25: 0 | M25: 0 | N25: 2000
A26: 外國籍 | C26: 956149 | D26: 333024 | E26: 0 | F26: 0 | G26: 0 | H26: 94953 | I26: 19270 | J26: 37200 | K26: 428000 | L26: 30000 | M26: 12702 | N26: 1000
A27: 其他 | C27: 5000 | D27: 0 | E27: 0 | F27: 0 | G27: 0 | H27: 0 | I27: 0 | J27: 5000 | K27: 0 | L27: 0 | M27: 0 | N27: 0
A29: 加害人性別 | C29: 3.性侵害加害人處遇 | S29: 3.性侵害加害人處遇
C30: 本期加害人個案人數按處分別分（人） | J30: 累計個案人數按實施身心治療或輔導教育處遇類別（人） | S30: 累計處遇個案人數按身心治療 或輔導教育處遇狀態分 (人) | W30: 處以行政罰鍰累計人數 (人) | X30: 限期未履行移送地檢署累計人數 (人) | Y30: 移送地檢署聲請強制治療累計人數 (人) | Z30: 處遇期間再犯累計人數 (人)
C31: 合計 | D31: 刑滿及 保安處分 執行完畢 | E31: 假釋 | F31: 緩刑 | G31: 緩起訴 處分 | H31: 免刑 | I31: 赦免 | J31: 不需處遇 累計個案 | K31: 應接受身心治療或輔導教育累計個案人數按處遇期程分 | S31: 合計 | T31: 完成處遇 累計人數 | U31: 目前繼續接受處遇累計人數 | V31: 未完成處遇 累計人數 | Z31: 合計 | AA31: 再犯性侵害案件 | AB31: 再犯其他案件且合併性侵害 | AC31: 再犯其他非性侵害案件
K32: 計 | L32: 未滿3個月 | M32: 3個月以上未滿6個月 | N32: 6個月以上未滿9個月 | O32: 9個月以上未滿1年 | P32: 1年以上未滿1年6個月 | Q32: 1年6個月以上未滿2年 | R32: 2年以上 至3年
A33: 計 | C33: 3585 | D33: 911 | E33: 1339 | F33: 1256 | G33: 58 | H33: 1 | I33: 20 | J33: 674 | K33: 7168 | L33: 2754 | M33: 1037 | N33: 722 | O33: 1734 | P33: 536 | Q33: 173 | R33: 212 | S33: 8307 | T33: 4432 | U33: 2513 | V33: 1362 | W33: 130 | X33: 23 | Y33: 9 | Z33: 261 | AA33: 74 | AB33: 10 | AC33: 177
A34: 男 | C34: 3557 | D34: 910 | E34: 1333 | F34: 1240 | G34: 55 | H34: 1 | I34: 18 | J34: 659 | K34: 7134 | L34: 2737 | M34: 1032 | N34: 720 | O34: 1726 | P34: 534 | Q34: 173 | R34: 212 | S34: 8258 | T34: 4400 | U34: 2505 | V34: 1353 | W34: 130 | X34: 23 | Y34: 9 | Z34: 260 | AA34: 73 | AB34: 10 | AC34: 177
A35: 女 | C35: 28 | D35: 1 | E35: 6 | F35: 16 | G35: 3 | H35: 0 | I35: 2 | J35: 15 | K35: 34 | L35: 17 | M35: 5 | N35: 2 | O35: 8 | P35: 2 | Q35: 0 | R35: 0 | S35: 49 | T35: 32 | U35: 8 | V35: 9 | W35: 0 | X35: 0 | Y35: 0 | Z35: 1 | AA35: 1 | AB35: 0 | AC35: 0
A37: 件數與罰鍰金額 | C37: 4.性侵害事件裁罰按裁罰事由統計
C38: 合計 | D38: 無正當理由不到場或拒絕接受評估、身心治療或輔導教育者 (違反性侵害犯罪防治法第21條第1項第1款) | G38: 無正當理由不按時到場接受身心治療或輔導教育或接受之時數不足者 (違反性侵害犯罪防治法第21條第1項第2款) | J38: 未依第23條第1項規定定期辦理登記或報到者 (違反性侵害犯罪防治法第21條第1項第3款)
A39: 件數 (件) | C39: 285 | D39: 206 | G39: 56 | J39: 23
A40: 罰鍰金額 (元) | C40: 2447000 | D40: 1657000 | G40: 560000 | J40: 230000
A41: 資料來源：直轄市及縣(市)政府。

Sheet 97
A1: 5.2-03 推展性侵害防治業務
A2: 中華民國97年
A4: 被害人國籍身分 與性別 | C4: 1.性侵害被害人保護扶助人次（人次）
C5: 合計 | D5: 諮詢協談 | E5: 庇護安置 | F5: 陪同報案、偵詢（訊） | G5: 陪同出庭 | H5: 驗傷診療 | I5: 法律扶助 | J5: 經濟扶助 | K5: 心理諮商與輔導 | L5: 就業服務 | M5: 就學或轉學服務 | N5: 通譯服務 | O5: 轉介 戒毒中心 | P5: 其他扶助
A6: 合計 | B6: 計 | C6: 95247 | D6: 59385 | E6: 1995 | F6: 2191 | G6: 2525 | H6: 1702 | I6: 3491 | J6: 3238 | K6: 8048 | L6: 234 | M6: 1876 | N6: 44 | O6: 1 | P6: 10517
B7: 男 | C7: 4030 | D7: 2715 | E7: 123 | F7: 113 | G7: 89 | H7: 34 | I7: 143 | J7: 111 | K7: 328 | L7: 8 | M7: 26 | N7: 0 | O7: 0 | P7: 340
B8: 女 | C8: 91217 | D8: 56670 | E8: 1872 | F8: 2078 | G8: 2436 | H8: 1668 | I8: 3348 | J8: 3127 | K8: 7720 | L8: 226 | M8: 1850 | N8: 44 | O8: 1 | P8: 10177
A9: 本國籍 非原住民 | B9: 男 | C9: 3691 | D9: 2508 | E9: 118 | F9: 102 | G9: 81 | H9: 28 | I9: 135 | J9: 98 | K9: 288 | L9: 8 | M9: 24 | N9: 0 | O9: 0 | P9: 301
B10: 女 | C10: 81998 | D10: 51269 | E10: 1587 | F10: 1794 | G10: 2208 | H10: 1430 | I10: 3128 | J10: 2810 | K10: 7046 | L10: 201 | M10: 1393 | N10: 19 | O10: 0 | P10: 9113
A11: 本國籍 原住民 | B11: 男 | C11: 296 | D11: 177 | E11: 4 | F11: 11 | G11: 8 | H11: 5 | I11: 8 | J11: 13 | K11: 40 | L11: 0 | M11: 2 | N11: 0 | O11: 0 | P11: 28
B12: 女 | C12: 7300 | D12: 4194 | E12: 252 | F12: 243 | G12: 191 | H12: 210 | I12: 132 | J12: 211 | K12: 562 | L12: 16 | M12: 452 | N12: 1 | O12: 0 | P12: 836
A13: 大陸籍 （含港澳） | B13: 男 | C13: 15 | D13: 13 | E13: 1 | F13: 0 | G13: 0 | H13: 1 | I13: 0 | J13: 0 | K13: 0 | L13: 0 | M13: 0 | N13: 0 | O13: 0 | P13: 0
B14: 女 | C14: 510 | D14: 334 | E14: 11 | F14: 14 | G14: 6 | H14: 4 | I14: 24 | J14: 26 | K14: 18 | L14: 4 | M14: 2 | N14: 0 | O14: 0 | P14: 67
A15: 外國籍 | B15: 男 | C15: 27 | D15: 17 | E15: 0 | F15: 0 | G15: 0 | H15: 0 | I15: 0 | J15: 0 | K15: 0 | L15: 0 | M15: 0 | N15: 0 | O15: 0 | P15: 10
B16: 女 | C16: 1261 | D16: 832 | E16: 19 | F16: 22 | G16: 31 | H16: 23 | I16: 63 | J16: 69 | K16: 30 | L16: 3 | M16: 3 | N16: 24 | O16: 1 | P16: 141
A17: 其他 | B17: 男 | C17: 1 | D17: 0 | E17: 0 | F17: 0 | G17: 0 | H17: 0 | I17: 0 | J17: 0 | K17: 0 | L17: 0 | M17: 0 | N17: 0 | O17: 0 | P17: 1
B18: 女 | C18: 148 | D18: 41 | E18: 3 | F18: 5 | G18: 0 | H18: 1 | I18: 1 | J18: 11 | K18: 64 | L18: 2 | M18: 0 | N18: 0 | O18: 0 | P18: 20
A20: 被害人國籍身分 | C20: 2.性侵害被害人保護扶助金額 (元)
C21: 合計 | D21: 緊急 生活扶助 | E21: 生活扶助 | F21: 急難救助 | G21: 租金補助 | H21: 醫療補助 | I21: 庇護安置 補助 | J21: 心理復健 補助 | K21: 律師費用 補助 | L21: 訴訟費用 補助 | M21: 民間慈善團體資助 | N21: 其他補助
A22: 合計 | C22: 58777127 | D22: 6255710 | E22: 1178212 | F22: 179250 | G22: 214100 | H22: 5323970 | I22: 21369265 | J22: 8277393 | K22: 14201100 | L22: 641976 | M22: 368200 | N22: 767951
A23: 本國籍非原住民 | C23: 51285041 | D23: 5690773 | E23: 492525 | F23: 163650 | G23: 175100 | H23: 4788413 | I23: 17413056 | J23: 7839268 | K23: 13116100 | L23: 591976 | M23: 294500 | N23: 719680
A24: 本國籍原住民 | C24: 6462620 | D24: 401331 | E24: 685687 | F24: 15600 | G24: 39000 | H24: 434621 | I24: 3855985 | J24: 375925 | K24: 535000 | L24: 0 | M24: 73700 | N24: 45771
A25: 大陸籍（含港澳） | C25: 422789 | D25: 80803 | E25: 0 | F25: 0 | G25: 0 | H25: 9890 | I25: 77496 | J25: 24600 | K25: 230000 | L25: 0 | M25: 0 | N25: 0
A26: 外國籍 | C26: 587979 | D26: 82803 | E26: 0 | F26: 0 | G26: 0 | H26: 73948 | I26: 22728 | J26: 37600 | K26: 320000 | L26: 50000 | M26: 0 | N26: 900
A27: 其他 | C27: 18698 | D27: 0 | E27: 0 | F27: 0 | G27: 0 | H27: 17098 | I27: 0 | J27: 0 | K27: 0 | L27: 0 | M27: 0 | N27: 1600
A29: 加害人性別 | C29: 3.性侵害加害人處遇 | S29: 3.性侵害加害人處遇
C30: 本期加害人個案人數按處分別分（人） | J30: 累計個案人數按實施身心治療或輔導教育處遇類別（人） | S30: 累計處遇個案人數按身心治療 或輔導教育處遇狀態分 (人) | W30: 處以行政罰鍰累計人數 (人) | X30: 限期未履行移送地檢署累計人數 (人) | Y30: 移送地檢署聲請強制治療累計人數 (人) | Z30: 處遇期間再犯累計人數 (人)
C31: 合計 | D31: 刑滿及 保安處分 執行完畢 | E31: 假釋 | F31: 緩刑 | G31: 緩起訴 處分 | H31: 免刑 | I31: 赦免 | J31: 不需處遇 累計個案 | K31: 應接受身心治療或輔導教育累計個案人數按處遇期程分 | S31: 合計 | T31: 完成處遇 累計人數 | U31: 目前繼續接受處遇累計人數 | V31: 未完成處遇 累計人數 | Z31: 合計 | AA31: 再犯性侵害案件 | AB31: 再犯其他案件且合併性侵害 | AC31: 再犯其他非性侵害案件
K32: 計 | L32: 未滿3個月 | M32: 3個月以上未滿6個月 | N32: 6個月以上未滿9個月 | O32: 9個月以上未滿1年 | P32: 1年以上未滿1年6個月 | Q32: 1年6個月以上未滿2年 | R32: 2年以上 至3年
A33: 計 | C33: 6757 | D33: 1748 | E33: 2935 | F33: 1933 | G33: 70 | H33: 28 | I33: 43 | J33: 97 | K33: 5595 | L33: 1817 | M33: 540 | N33: 582 | O33: 1788 | P33: 575 | Q33: 145 | R33: 148 | S33: 6301 | T33: 3228 | U33: 1988 | V33: 1085 | W33: 61 | X33: 23 | Y33: 0 | Z33: 217 | AA33: 53 | AB33: 11 | AC33: 153
A34: 男 | C34: 6700 | D34: 1730 | E34: 2918 | F34: 1918 | G34: 66 | H34: 28 | I34: 40 | J34: 78 | K34: 5559 | L34: 1804 | M34: 535 | N34: 581 | O34: 1777 | P34: 571 | Q34: 143 | R34: 148 | S34: 6260 | T34: 3199 | U34: 1985 | V34: 1076 | W34: 61 | X34: 23 | Y34: 0 | Z34: 215 | AA34: 52 | AB34: 11 | AC34: 152
A35: 女 | C35: 57 | D35: 18 | E35: 17 | F35: 15 | G35: 4 | H35: 0 | I35: 3 | J35: 19 | K35: 36 | L35: 13 | M35: 5 | N35: 1 | O35: 11 | P35: 4 | Q35: 2 | R35: 0 | S35: 41 | T35: 29 | U35: 3 | V35: 9 | W35: 0 | X35: 0 | Y35: 0 | Z35: 2 | AA35: 1 | AB35: 0 | AC35: 1
A37: 件數與罰鍰金額 | C37: 4.性侵害事件裁罰按裁罰事由統計
C38: 合計 | D38: 無正當理由不到場或拒絕接受評估、身心治療或輔導教育者 (違反性侵害犯罪防治法第21條第1項第1款) | G38: 無正當理由不按時到場接受身心治療或輔導教育或接受之時數不足者 (違反性侵害犯罪防治法第21條第1項第2款) | J38: 未依第23條第1項規定定期辦理登記或報到者 (違反性侵害犯罪防治法第21條第1項第3款)
A39: 件數 (件) | C39: 382 | D39: 300 | G39: 73 | J39: 9
A40: 罰鍰金額 (元) | C40: 3212000 | D40: 2387000 | G40: 740000 | J40: 85000
A41: 資料來源：直轄市及縣(市)政府。

Sheet 96
A1: 5.2-03 推展性侵害防治業務
A2: 中華民國96年
A4: 被害人國籍身分 與性別 | C4: 1.性侵害被害人保護扶助人次（人次）
C5: 合計 | D5: 諮詢協談 | E5: 庇護安置 | F5: 陪同報案、偵詢（訊） | G5: 陪同出庭 | H5: 驗傷診療 | I5: 法律扶助 | J5: 經濟扶助 | K5: 心理諮商與輔導 | L5: 就業服務 | M5: 就學或轉學服務 | N5: 通譯服務 | O5: 轉介 戒毒中心 | P5: 其他扶助
A6: 合計 | B6: 計 | C6: 72090 | D6: 45669 | E6: 1403 | F6: 1821 | G6: 2021 | H6: 2099 | I6: 2820 | J6: 2031 | K6: 6307 | L6: 204 | M6: 322 | N6: 72 | O6: 2 | P6: 7319
B7: 男 | C7: 4483 | D7: 2731 | E7: 107 | F7: 156 | G7: 149 | H7: 46 | I7: 137 | J7: 131 | K7: 425 | L7: 8 | M7: 28 | N7: 0 | O7: 1 | P7: 564
B8: 女 | C8: 67607 | D8: 42938 | E8: 1296 | F8: 1665 | G8: 1872 | H8: 2053 | I8: 2683 | J8: 1900 | K8: 5882 | L8: 196 | M8: 294 | N8: 72 | O8: 1 | P8: 6755
A9: 本國籍 非原住民 | B9: 男 | C9: 4020 | D9: 2592 | E9: 97 | F9: 137 | G9: 142 | H9: 43 | I9: 121 | J9: 121 | K9: 414 | L9: 7 | M9: 27 | N9: 0 | O9: 1 | P9: 318
B10: 女 | C10: 61431 | D10: 39527 | E10: 1162 | F10: 1462 | G10: 1694 | H10: 1837 | I10: 2408 | J10: 1681 | K10: 5227 | L10: 168 | M10: 234 | N10: 43 | O10: 0 | P10: 5988
A11: 本國籍 原住民 | B11: 男 | C11: 223 | D11: 133 | E11: 10 | F11: 19 | G11: 5 | H11: 3 | I11: 16 | J11: 10 | K11: 11 | L11: 1 | M11: 1 | N11: 0 | O11: 0 | P11: 14
B12: 女 | C12: 4080 | D12: 2207 | E12: 112 | F12: 178 | G12: 127 | H12: 173 | I12: 179 | J12: 112 | K12: 402 | L12: 15 | M12: 57 | N12: 2 | O12: 0 | P12: 516
A13: 大陸籍 （含港澳） | B13: 男 | C13: 0 | D13: 0 | E13: 0 | F13: 0 | G13: 0 | H13: 0 | I13: 0 | J13: 0 | K13: 0 | L13: 0 | M13: 0 | N13: 0 | O13: 0 | P13: 0
B14: 女 | C14: 255 | D14: 165 | E14: 4 | F14: 4 | G14: 7 | H14: 5 | I14: 12 | J14: 9 | K14: 33 | L14: 1 | M14: 0 | N14: 0 | O14: 0 | P14: 15
A15: 外國籍 | B15: 男 | C15: 236 | D15: 2 | E15: 0 | F15: 0 | G15: 2 | H15: 0 | I15: 0 | J15: 0 | K15: 0 | L15: 0 | M15: 0 | N15: 0 | O15: 0 | P15: 232
B16: 女 | C16: 1506 | D16: 1013 | E16: 16 | F16: 19 | G16: 42 | H16: 35 | I16: 47 | J16: 94 | K16: 63 | L16: 3 | M16: 3 | N16: 27 | O16: 1 | P16: 143
A17: 其他 | B17: 男 | C17: 4 | D17: 4 | E17: 0 | F17: 0 | G17: 0 | H17: 0 | I17: 0 | J17: 0 | K17: 0 | L17: 0 | M17: 0 | N17: 0 | O17: 0 | P17: 0
B18: 女 | C18: 335 | D18: 26 | E18: 2 | F18: 2 | G18: 2 | H18: 3 | I18: 37 | J18: 4 | K18: 157 | L18: 9 | M18: 0 | N18: 0 | O18: 0 | P18: 93
A20: 被害人國籍身分 | C20: 2.性侵害被害人保護扶助金額 (元)
C21: 合計 | D21: 緊急 生活扶助 | E21: 生活扶助 | F21: 急難救助 | G21: 租金補助 | H21: 醫療補助 | I21: 庇護安置 補助 | J21: 心理復健 補助 | K21: 律師費用 補助 | L21: 訴訟費用 補助 | M21: 民間慈善團體資助 | N21: 其他補助
A22: 合計 | C22: 53191330 | D22: 4849150 | E22: 281279 | F22: 95924 | G22: 88500 | H22: 5153746 | I22: 23105231 | J22: 6270416 | K22: 10400000 | L22: 2008578 | M22: 396113 | N22: 542393
A23: 本國籍非原住民 | C23: 48736988 | D23: 4327775 | E23: 272238 | F23: 95924 | G23: 70500 | H23: 4807325 | I23: 20567143 | J23: 6063466 | K23: 9723000 | L23: 1918578 | M23: 380613 | N23: 510426
A24: 本國籍原住民 | C24: 3373282 | D24: 300328 | E24: 6041 | F24: 0 | G24: 0 | H24: 262006 | I24: 2210390 | J24: 132550 | K24: 385000 | L24: 40000 | M24: 10500 | N24: 26467
A25: 大陸籍（含港澳） | C25: 180255 | D25: 114828 | E25: 0 | F25: 0 | G25: 0 | H25: 14227 | I25: 0 | J25: 1200 | K25: 50000 | L25: 0 | M25: 0 | N25: 0
A26: 外國籍 | C26: 796045 | D26: 105859 | E26: 3000 | F26: 0 | G26: 18000 | H26: 65788 | I26: 327698 | J26: 73200 | K26: 142000 | L26: 50000 | M26: 5000 | N26: 5500
A27: 其他 | C27: 104760 | D27: 360 | E27: 0 | F27: 0 | G27: 0 | H27: 4400 | I27: 0 | J27: 0 | K27: 100000 | L27: 0 | M27: 0 | N27: 0
A29: 加害人性別 | C29: 3.性侵害加害人處遇 | S29: 3.性侵害加害人處遇
C30: 本期加害人個案人數按處分別分（人） | J30: 累計個案人數按實施身心治療或輔導教育處遇類別（人） | S30: 累計處遇個案人數按身心治療 或輔導教育處遇狀態分 (人) | W30: 處以行政罰鍰累計人數 (人) | X30: 限期未履行移送地檢署累計人數 (人) | Y30: 移送地檢署聲請強制治療累計人數 (人) | Z30: 處遇期間再犯累計人數 (人)
C31: 合計 | D31: 刑滿及 保安處分 執行完畢 | E31: 假釋 | F31: 緩刑 | G31: 緩起訴 處分 | H31: 免刑 | I31: 赦免 | J31: 不需處遇 累計個案 | K31: 應接受身心治療或輔導教育累計個案人數按處遇期程分 | S31: 合計 | T31: 完成處遇 累計人數 | U31: 目前繼續接受處遇累計人數 | V31: 未完成處遇 累計人數 | Z31: 合計 | AA31: 再犯性侵害案件 | AB31: 再犯其他案件且合併性侵害 | AC31: 再犯其他非性侵害案件
K32: 計 | L32: 未滿3個月 | M32: 3個月以上未滿6個月 | N32: 6個月以上未滿9個月 | O32: 9個月以上未滿1年 | P32: 1年以上未滿1年6個月 | Q32: 1年6個月以上未滿2年 | R32: 2年以上 至3年
A33: 計 | C33: 10431 | D33: 2798 | E33: 4946 | F33: 2562 | G33: 108 | H33: 9 | I33: 8 | J33: 76 | K33: 5037 | L33: 1590 | M33: 380 | N33: 406 | O33: 1796 | P33: 619 | Q33: 124 | R33: 122 | S33: 5229 | T33: 2533 | U33: 1762 | V33: 934 | W33: 112 | X33: 10 | Y33: 10 | Z33: 164 | AA33: 55 | AB33: 16 | AC33: 93
A34: 男 | C34: 10381 | D34: 2782 | E34: 4927 | F34: 2549 | G34: 107 | H34: 8 | I34: 8 | J34: 75 | K34: 5002 | L34: 1577 | M34: 377 | N34: 406 | O34: 1784 | P34: 615 | Q34: 121 | R34: 122 | S34: 5194 | T34: 2512 | U34: 1755 | V34: 927 | W34: 112 | X34: 10 | Y34: 10 | Z34: 164 | AA34: 55 | AB34: 16 | AC34: 93
A35: 女 | C35: 50 | D35: 16 | E35: 19 | F35: 13 | G35: 1 | H35: 1 | I35: 0 | J35: 1 | K35: 35 | L35: 13 | M35: 3 | N35: 0 | O35: 12 | P35: 4 | Q35: 3 | R35: 0 | S35: 35 | T35: 21 | U35: 7 | V35: 7 | W35: 0 | X35: 0 | Y35: 0 | Z35: 0 | AA35: 0 | AB35: 0 | AC35: 0
A37: 件數與罰鍰金額 | C37: 4.性侵害事件裁罰按裁罰事由統計
C38: 合計 | D38: 無正當理由不到場或拒絕接受評估、身心治療或輔導教育者 (違反性侵害犯罪防治法第21條第1項第1款) | G38: 無正當理由不按時到場接受身心治療或輔導教育或接受之時數不足者 (違反性侵害犯罪防治法第21條第1項第2款) | J38: 未依第23條第1項規定定期辦理登記或報到者 (違反性侵害犯罪防治法第21條第1項第3款)
A39: 件數 (件) | C39: 233 | D39: 200 | G39: 21 | J39: 12
A40: 罰鍰金額 (元) | C40: 1744000 | D40: 1424000 | G40: 210000 | J40: 110000
A41: 資料來源：直轄市及縣(市)政府。
A45: 更新日期：2019/4/22

Sheet 95
A1: 5.2-03 推展性侵害防治業務
A2: 中華民國95年
A4: 被害人國籍身分 與性別 | C4: 1.性侵害被害人保護扶助人次（人次）
C5: 共計 | D5: 諮詢協談 | E5: 庇護安置 | F5: 陪同報案偵詢（訊） | G5: 陪同出庭 | H5: 驗傷診療 | I5: 法律扶助 | J5: 心理諮商與輔導 | K5: 就業服務 | L5: 子女問題協助 | M5: 通譯服務 | N5: 其他扶助 | S5: 其他扶助(併子女問題協助)
A6: 合計 | B6: 計 | C6: 48462 | D6: 32264 | E6: 1425 | F6: 2047 | G6: 1745 | H6: 1553 | I6: 2310 | J6: 3159 | K6: 258 | L6: 422 | M6: 39 | N6: 3240 | S6: =N6+L6 -> 3662
B7: 男 | C7: 1913 | D7: 1186 | E7: 50 | F7: 124 | G7: 66 | H7: 28 | I7: 54 | J7: 115 | K7: 11 | L7: 96 | M7: 0 | N7: 183 | S7: =N7+L7 -> 279
B8: 女 | C8: 46549 | D8: 31078 | E8: 1375 | F8: 1923 | G8: 1679 | H8: 1525 | I8: 2256 | J8: 3044 | K8: 247 | L8: 326 | M8: 39 | N8: 3057 | S8: =N8+L8 -> 3383
A9: 本國籍 非原住民 | B9: 男 | C9: 1619 | D9: 1078 | E9: 37 | F9: 44 | G9: 53 | H9: 18 | I9: 44 | J9: 98 | K9: 11 | L9: 59 | M9: 0 | N9: 177 | S9: =N9+L9 -> 236
B10: 女 | C10: 42880 | D10: 29057 | E10: 1129 | F10: 1719 | G10: 1504 | H10: 1390 | I10: 2099 | J10: 2795 | K10: 226 | L10: 294 | M10: 5 | N10: 2662 | S10: =N10+L10 -> 2956
A11: 本國籍 原住民 | B11: 男 | C11: 264 | D11: 91 | E11: 13 | F11: 75 | G11: 11 | H11: 8 | I11: 10 | J11: 15 | K11: 0 | L11: 37 | M11: 0 | N11: 4 | S11: =N11+L11 -> 41
B12: 女 | C12: 2658 | D12: 1391 | E12: 134 | F12: 180 | G12: 142 | H12: 107 | I12: 117 | J12: 216 | K12: 13 | L12: 32 | M12: 1 | N12: 325 | S12: =N12+L12 -> 357
A13: 大陸籍 （含港澳） | B13: 男 | C13: 10 | D13: 1 | E13: 0 | F13: 5 | G13: 2 | H13: 1 | I13: 0 | J13: 1 | K13: 0 | L13: 0 | M13: 0 | N13: 0 | S13: =N13+L13 -> 0
B14: 女 | C14: 159 | D14: 122 | E14: 1 | F14: 4 | G14: 2 | H14: 6 | I14: 4 | J14: 4 | K14: 3 | L14: 0 | M14: 0 | N14: 13 | S14: =N14+L14 -> 13
A15: 外國籍 | B15: 男 | C15: 19 | D15: 15 | E15: 0 | F15: 0 | G15: 0 | H15: 1 | I15: 0 | J15: 1 | K15: 0 | L15: 0 | M15: 0 | N15: 2 | S15: =N15+L15 -> 2
B16: 女 | C16: 815 | D16: 481 | E16: 111 | F16: 17 | G16: 29 | H16: 17 | I16: 36 | J16: 29 | K16: 5 | L16: 0 | M16: 33 | N16: 57 | S16: =N16+L16 -> 57
A17: 其他 | B17: 男 | C17: 1 | D17: 1 | E17: 0 | F17: 0 | G17: 0 | H17: 0 | I17: 0 | J17: 0 | K17: 0 | L17: 0 | M17: 0 | N17: 0 | S17: =N17+L17 -> 0
B18: 女 | C18: 37 | D18: 27 | E18: 0 | F18: 3 | G18: 2 | H18: 5 | I18: 0 | J18: 0 | K18: 0 | L18: 0 | M18: 0 | N18: 0 | S18: =N18+L18 -> 0
A20: 被害人國籍身分 | C20: 2.性侵害被害人保護扶助金額 (元)
C21: 共計 | D21: 緊急生活扶助 | E21: 生活扶助 | F21: 急難救助 | G21: 租金補助 | H21: 醫療補助 | I21: 庇護安置補助 | J21: 心理復建補助 | K21: 律師費用補助 | L21: 訴訟費用補助 | M21: 子女生活津貼 | N21: 子女教育補助 | O21: 兒童托育津貼 | P21: 創業貸款補助 | Q21: 民間慈善團體資助 | R21: 其他補助 | T21: 其他補助(併子女教育補助)
A22: 合計 | C22: 49252494 | D22: 4948107 | E22: 643237 | F22: 160000 | G22: 79000 | H22: 4559095 | I22: 20996318 | J22: 4435227 | K22: 11584339 | L22: 1112840 | M22: 0 | N22: 115728 | O22: 0 | P22: 0 | Q22: 411500 | R22: 207103 | T22: =R22+N22 -> 322831
A23: 本國籍非原住民 | C23: 42465236 | D23: 4553043 | E23: 555937 | F23: 160000 | G23: 79000 | H23: 4202107 | I23: 15997289 | J23: 4298337 | K23: 10884339 | L23: 1078840 | M23: 0 | N23: 115728 | O23: 0 | P23: 0 | Q23: 341000 | R23: 199616 | T23: =R23+N23 -> 315344
A24: 本國籍原住民 | C24: 5406996 | D24: 139650 | E24: 51000 | F24: 0 | G24: 0 | H24: 240124 | I24: 4467931 | J24: 133400 | K24: 300000 | L24: 1000 | M24: 0 | N24: 0 | O24: 0 | P24: 0 | Q24: 70500 | R24: 3391 | T24: =R24+N24 -> 3391
A25: 大陸籍（含港澳） | C25: 352681 | D25: 129393 | E25: 0 | F25: 0 | G25: 0 | H25: 35610 | I25: 85248 | J25: 430 | K25: 100000 | L25: 2000 | M25: 0 | N25: 0 | O25: 0 | P25: 0 | Q25: 0 | R25: 0 | T25: =R25+N25 -> 0
A26: 外國籍 | C26: 909528 | D26: 126021 | E26: 0 | F26: 0 | G26: 0 | H26: 63901 | I26: 431450 | J26: 3060 | K26: 250000 | L26: 31000 | M26: 0 | N26: 0 | O26: 0 | P26: 0 | Q26: 0 | R26: 4096 | T26: =R26+N26 -> 4096
A27: 其他 | C27: 118053 | D27: 0 | E27: 36300 | F27: 0 | G27: 0 | H27: 17353 | I27: 14400 | J27: 0 | K27: 50000 | L27: 0 | M27: 0 | N27: 0 | O27: 0 | P27: 0 | Q27: 0 | R27: 0 | T27: =R27+N27 -> 0
A29: 加害人性別 | C29: 3.性侵害加害人處遇 | S29: 3.性侵害加害人處遇
C30: (1) 自88年1月起累計加害人個案人數按身分類別分 (人) | J30: (2) 自88年1月起累計加害人個案人數按實施身心治療或輔導教育處遇類別分 (人) | S30: (3) 自88年1月起累計處遇個案人數 按身心治療或輔導教育處遇狀態分 (人) | W30: (4) 自88年1月起累計未完成處遇個案人數按處置類別分 (人) | Z30: (5) 自88年1月起累計處遇期間再犯人數按再犯案件分 (人)
C31: 合計 | D31: 刑滿 | E31: 假釋 | F31: 緩刑 | G31: 緩起訴 | H31: 免刑 | I31: 赦免 | J31: 不需處遇之個案 | K31: 應接受身心治療或輔導教育處遇期程之個案 | S31: 合計 | T31: 完成 處遇人數 | U31: 目前繼續接受處遇人數 | V31: 未完成 處遇人數 | W31: 處以行政罰鍰人數 | X31: 限期未履行移送地檢署人數 | Y31: 移送地檢署聲請強制治療人數 | Z31: 合計 | AA31: 再犯性侵害案件 | AB31: 再犯其他案件且合併性侵害 | AC31: 再犯其他非性侵害案件
K32: 計 | L32: 三個月 | M32: 六個月 | N32: 九個月 | O32: 一年 | P32: 一年以上未滿一年六個月 | Q32: 一年六個月以上未滿二年 | R32: 二年以上至三年
A33: 計 | C33: 4059 | D33: 1103 | E33: 2020 | F33: 917 | G33: 18 | H33: 1 | I33: 0 | J33: 50 | K33: 3620 | L33: 751 | M33: 378 | N33: 56 | O33: 1926 | P33: 312 | Q33: 126 | R33: 71 | S33: 3870 | T33: 1856 | U33: 1214 | V33: 800 | W33: 61 | X33: 7 | Y33: 9 | Z33: 132 | AA33: 36 | AB33: 12 | AC33: 84
A34: 男 | C34: 3970 | D34: 1066 | E34: 1973 | F34: 912 | G34: 18 | H34: 1 | I34: 0 | J34: 50 | K34: 3603 | L34: 749 | M34: 377 | N34: 56 | O34: 1915 | P34: 310 | Q34: 125 | R34: 71 | S34: 3850 | T34: 1845 | U34: 1211 | V34: 794 | W34: 61 | X34: 7 | Y34: 9 | Z34: 132 | AA34: 36 | AB34: 12 | AC34: 84
A35: 女 | C35: 89 | D35: 37 | E35: 47 | F35: 5 | G35: 0 | H35: 0 | I35: 0 | J35: 0 | K35: 17 | L35: 2 | M35: 1 | N35: 0 | O35: 11 | P35: 2 | Q35: 1 | R35: 0 | S35: 20 | T35: 11 | U35: 3 | V35: 6 | W35: 0 | X35: 0 | Y35: 0 | Z35: 0 | AA35: 0 | AB35: 0 | AC35: 0
