Workbook
Name pp: '100'!$B$1:$U$35
Name pp: '101'!$B$1:$U$35
Name pp: '102'!$B$1:$U$35
Name pp: '103'!$B$1:$U$35
Name pp: '104'!$B$1:$U$38
Name pp: '105'!$B$1:$U$38
Name pp: '106'!$B$1:$U$38
Name pp: '107'!$B$1:$U$38
Name pp: '108'!$B$1:$T$38
Name pp: '109'!$B$1:$T$38
Name pp: '110'!$B$1:$T$45
Name pp: '111'!$B$1:$T$45
Name pp: '112'!$B$1:$T$45
Name pp: '113'!$B$1:$T$45
Name pp: '114'!$B$1:$T$45
Name pp: '94'!$B$1:$U$19
Name pp: '94~107'!$B$1:$U$15
Name pp: '95'!$B$1:$U$19
Name pp: '96'!$B$1:$U$19
Name pp: '97'!$B$1:$U$19
Name pp: '98'!$B$1:$U$19
Name pp: '99'!$B$1:$U$19
Name pp: '歷年(108~)'!$B$1:$T$7

Sheet 歷年(108~)
A1: 5.2-02 性侵害事件通報被害及嫌疑人概況
A4: 年別 | D4: 性侵害被害人統計(人) | AG4: 性侵害被害人統計(人) | BH4: 性侵害嫌疑人年齡統計(人)
D5: 國籍、身分別 | K5: 年齡別 | V5: 教育程度別 | AG5: 職業別 | AW5: 身心障礙別 | BH5: 年齡別
D6: 合計 | E6: 本國籍 非原住民 | F6: 本國籍 原住民 | G6: 大陸及 港澳籍 | H6: 外國籍 | I6: 無國籍 | J6: 資料 不明 | K6: 合計 | L6: 0-未滿6歲 | M6: 6-未滿12歲 | N6: 12-未滿18歲 | O6: 18-未滿24歲 | P6: 24-未滿30歲 | Q6: 30-未滿40歲 | R6: 40-未滿50歲 | S6: 50-未滿65歲 | T6: 65歲 以上 | U6: 不詳 | V6: 合計 | W6: 學齡前 | X6: 國小 | Y6: 國中 | Z6: 高中(職) | AA6: 專科 | AB6: 大學 | AC6: 研究所 以上 | AD6: 不識字 | AE6: 自修 | AF6: 不詳 | AG6: 合計 | AH6: 學生 | AI6: 服務業 | AJ6: 專門 職業 | AK6: 農林 漁牧 | AL6: 工礦業 | AM6: 商業 | AN6: 公 | AO6: 教 | AP6: 軍 | AQ6: 警 | AR6: 家庭 管理 | AS6: 退休 | AT6: 無工作 | AU6: 其他 | AV6: 不詳 | AW6: 合計 | AX6: 非身心 障礙 | AY6: 智障 | AZ6: 視障 | BA6: 精神 病患 | BB6: 聲(語)障 | BC6: 聽障 | BD6: 肢障 | BE6: 多重 障礙 | BF6: 其他 障礙 | BG6: 不詳 | BH6: 合計 | BI6: 0-未滿6歲 | BJ6: 6-未滿12歲 | BK6: 12-未滿18歲 | BL6: 18-未滿24歲 | BM6: 24-未滿30歲 | BN6: 30-未滿40歲 | BO6: 40-未滿50歲 | BP6: 50-未滿65歲 | BQ6: 65歲 以上 | BR6: 不詳
A7: 108年, 2019 | D7: 8160 | E7: 7052 | F7: 637 | G7: 40 | H7: 138 | I7: 1 | J7: 292 | K7: 8160 | L7: 296 | M7: 705 | N7: 4268 | O7: 1053 | P7: 614 | Q7: 688 | R7: 331 | S7: 144 | T7: 53 | U7: 8 | V7: 8160 | W7: 260 | X7: 739 | Y7: 2379 | Z7: 1670 | AA7: 126 | AB7: 616 | AC7: 35 | AD7: 13 | AE7: 4 | AF7: 2318 | AG7: 8160 | AH7: 539 | AI7: 527 | AJ7: 53 | AK7: 9 | AL7: 76 | AM7: 42 | AN7: 17 | AO7: 22 | AP7: 21 | AQ7: 0 | AR7: 66 | AS7: 15 | AT7: 515 | AU7: 188 | AV7: 6070 | AW7: 8160 | AX7: 7016 | AY7: 334 | AZ7: 24 | BA7: 171 | BB7: 2 | BC7: 14 | BD7: 25 | BE7: 56 | BF7: 24 | BG7: 494 | BH7: 7690 | BI7: 9 | BJ7: 166 | BK7: 1936 | BL7: 1054 | BM7: 481 | BN7: 692 | BO7: 545 | BP7: 496 | BQ7: 176 | BR7: 2135
A8: 109年, 2020 | D8: 9212 | E8: 7995 | F8: 853 | G8: 38 | H8: 110 | I8: 1 | J8: 215 | K8: 9212 | L8: 329 | M8: 759 | N8: 4890 | O8: 1197 | P8: 645 | Q8: 746 | R8: 415 | S8: 163 | T8: 51 | U8: 17 | V8: 9212 | W8: 331 | X8: 803 | Y8: 2834 | Z8: 1830 | AA8: 156 | AB8: 744 | AC8: 59 | AD8: 8 | AE8: 6 | AF8: 2441 | AG8: 9212 | AH8: 624 | AI8: 632 | AJ8: 70 | AK8: 16 | AL8: 91 | AM8: 67 | AN8: 6 | AO8: 28 | AP8: 21 | AQ8: 3 | AR8: 63 | AS8: 17 | AT8: 607 | AU8: 221 | AV8: 6746 | AW8: 9212 | AX8: 7989 | AY8: 340 | AZ8: 25 | BA8: 205 | BB8: 1 | BC8: 19 | BD8: 35 | BE8: 62 | BF8: 27 | BG8: 509 | BH8: 8651 | BI8: 23 | BJ8: 230 | BK8: 2337 | BL8: 1157 | BM8: 519 | BN8: 730 | BO8: 694 | BP8: 555 | BQ8: 211 | BR8: 2195
A10: 年別 | D10: 性侵害被害人統計(人) | AG10: 性侵害嫌疑人年齡統計(人)
D11: 國籍、身分別 | K11: 年齡別 | V11: 身心障礙別 | AG11: 年齡別
D12: 合計 | E12: 本國籍 非原住民 | F12: 本國籍 原住民 | G12: 大陸及 港澳籍 | H12: 外國籍 | I12: 無國籍 | J12: 資料 不明 | K12: 合計 | L12: 0-未滿6歲 | M12: 6-未滿12歲 | N12: 12-未滿18歲 | O12: 18-未滿24歲 | P12: 24-未滿30歲 | Q12: 30-未滿40歲 | R12: 40-未滿50歲 | S12: 50-未滿65歲 | T12: 65歲 以上 | U12: 不詳 | V12: 合計 | W12: 非身心 障礙 | X12: 智障 | Y12: 視障 | Z12: 精神 病患 | AA12: 聲(語)障 | AB12: 聽障 | AC12: 肢障 | AD12: 多重 障礙 | AE12: 其他 障礙 | AF12: 不詳 | AG12: 合計 | AH12: 0-未滿6歲 | AI12: 6-未滿12歲 | AJ12: 12-未滿18歲 | AK12: 18-未滿24歲 | AL12: 24-未滿30歲 | AM12: 30-未滿40歲 | AN12: 40-未滿50歲 | AO12: 50-未滿65歲 | AP12: 65歲 以上 | AQ12: 不詳
A13: 110年, 2021 | D13: 7787 | E13: 6787 | F13: 680 | G13: 26 | H13: 129 | I13: 2 | J13: 163 | K13: 7787 | L13: 210 | M13: 630 | N13: 3680 | O13: 1135 | P13: 677 | Q13: 778 | R13: 427 | S13: 173 | T13: 53 | U13: 24 | V13: 7787 | W13: 6775 | X13: 354 | Y13: 6 | Z13: 213 | AA13: 4 | AB13: 16 | AC13: 22 | AD13: 72 | AE13: 43 | AF13: 282 | AG13: 7258 | AH13: 16 | AI13: 148 | AJ13: 1720 | AK13: 939 | AL13: 479 | AM13: 664 | AN13: 645 | AO13: 495 | AP13: 189 | AQ13: 1963
A14: 111年, 2022 | D14: 8401 | E14: 7355 | F14: 765 | G14: 29 | H14: 109 | I14: 2 | J14: 141 | K14: 8401 | L14: 203 | M14: 608 | N14: 3998 | O14: 1216 | P14: 763 | Q14: 831 | R14: 489 | S14: 218 | T14: 50 | U14: 25 | V14: 8401 | W14: 7402 | X14: 364 | Y14: 8 | Z14: 265 | AA14: 5 | AB14: 24 | AC14: 32 | AD14: 64 | AE14: 98 | AF14: 139 | AG14: 7865 | AH14: 11 | AI14: 168 | AJ14: 1953 | AK14: 1000 | AL14: 545 | AM14: 719 | AN14: 658 | AO14: 537 | AP14: 209 | AQ14: 2065
A15: 112年, 2023 | D15: 9413 | E15: 8241 | F15: 813 | G15: 31 | H15: 119 | I15: 0 | J15: 209 | K15: 9413 | L15: 206 | M15: 767 | N15: 4182 | O15: 1323 | P15: 890 | Q15: 1039 | R15: 627 | S15: 256 | T15: 82 | U15: 41 | V15: 9413 | W15: 8301 | X15: 400 | Y15: 17 | Z15: 299 | AA15: 6 | AB15: 18 | AC15: 39 | AD15: 101 | AE15: 101 | AF15: 131 | AG15: 8731 | AH15: 27 | AI15: 168 | AJ15: 2080 | AK15: 1038 | AL15: 564 | AM15: 826 | AN15: 768 | AO15: 637 | AP15: 288 | AQ15: 2335
A16: 113年, 2024 | D16: 9230 | E16: 8138 | F16: 715 | G16: 33 | H16: 169 | I16: 0 | J16: 175 | K16: 9230 | L16: 268 | M16: 830 | N16: 3695 | O16: 1383 | P16: 970 | Q16: 1079 | R16: 631 | S16: 267 | T16: 76 | U16: 31 | V16: 9230 | W16: 8124 | X16: 399 | Y16: 12 | Z16: 312 | AA16: 12 | AB16: 29 | AC16: 37 | AD16: 98 | AE16: 109 | AF16: 98 | AG16: 8471 | AH16: 19 | AI16: 195 | AJ16: 1702 | AK16: 999 | AL16: 615 | AM16: 853 | AN16: 781 | AO16: 633 | AP16: 313 | AQ16: 2361
A17: 114年, 2025 | D17: 9565 | E17: 8376 | F17: 761 | G17: 37 | H17: 175 | I17: 1 | J17: 215 | K17: 9565 | L17: 231 | M17: 752 | N17: 3729 | O17: 1439 | P17: 1080 | Q17: 1206 | R17: 697 | S17: 291 | T17: 91 | U17: 49 | V17: 9565 | W17: 8474 | X17: 332 | Y17: 13 | Z17: 316 | AA17: 6 | AB17: 19 | AC17: 51 | AD17: 98 | AE17: 130 | AF17: 126 | AG17: 8768 | AH17: 25 | AI17: 197 | AJ17: 1697 | AK17: 1008 | AL17: 648 | AM17: 907 | AN17: 877 | AO17: 611 | AP17: 308 | AQ17: 2490
A18: 資料來源：本部保護服務司。

Sheet 114
A1: 5.2-02 性侵害事件通報被害及嫌疑人概況
A2: 民國114年
A4: 區域別 | C4: 性別 | D4: 性侵害被害人統計(人) | AG4: 性侵害嫌疑人年齡統計(人)
D5: 國籍、身分別 | K5: 年齡別 | V5: 身心障礙別 | AG5: 年齡別
D6: 合計 | E6: 本國籍 非原住民 | F6: 本國籍 原住民 | G6: 大陸及 港澳籍 | H6: 外國籍 | I6: 無國籍 | J6: 資料 不明 | K6: 合計 | L6: 0-未滿6歲 | M6: 6-未滿12歲 | N6: 12-未滿18歲 | O6: 18-未滿24歲 | P6: 24-未滿30歲 | Q6: 30-未滿40歲 | R6: 40-未滿50歲 | S6: 50-未滿65歲 | T6: 65歲 以上 | U6: 不詳 | V6: 合計 | W6: 非身心 障礙 | X6: 智障 | Y6: 視障 | Z6: 精神 病患 | AA6: 聲(語)障 | AB6: 聽障 | AC6: 肢障 | AD6: 多重 障礙 | AE6: 其他 障礙 | AF6: 不詳 | AG6: 合計 | AH6: 0-未滿6歲 | AI6: 6-未滿12歲 | AJ6: 12-未滿18歲 | AK6: 18-未滿24歲 | AL6: 24-未滿30歲 | AM6: 30-未滿40歲 | AN6: 40-未滿50歲 | AO6: 50-未滿65歲 | AP6: 65歲 以上 | AQ6: 不詳
A7: 114年, 2025 | C7: 計 | D7: 9565 | E7: 8376 | F7: 761 | G7: 37 | H7: 175 | I7: 1 | J7: 215 | K7: 9565 | L7: 231 | M7: 752 | N7: 3729 | O7: 1439 | P7: 1080 | Q7: 1206 | R7: 697 | S7: 291 | T7: 91 | U7: 49 | V7: 9565 | W7: 8474 | X7: 332 | Y7: 13 | Z7: 316 | AA7: 6 | AB7: 19 | AC7: 51 | AD7: 98 | AE7: 130 | AF7: 126 | AG7: 8768 | AH7: 25 | AI7: 197 | AJ7: 1697 | AK7: 1008 | AL7: 648 | AM7: 907 | AN7: 877 | AO7: 611 | AP7: 308 | AQ7: 2490
C8: 男 | D8: 1603 | E8: 1398 | F8: 147 | G8: 5 | H8: 16 | I8: 1 | J8: 36 | K8: 1603 | L8: 44 | M8: 229 | N8: 835 | O8: 162 | P8: 118 | Q8: 130 | R8: 49 | S8: 23 | T8: 6 | U8: 7 | V8: 1603 | W8: 1413 | X8: 54 | Y8: 5 | Z8: 38 | AA8: 1 | AB8: 2 | AC8: 9 | AD8: 24 | AE8: 38 | AF8: 19 | AG8: 7664 | AH8: 23 | AI8: 153 | AJ8: 1187 | AK8: 970 | AL8: 620 | AM8: 867 | AN8: 844 | AO8: 589 | AP8: 296 | AQ8: 2115
C9: 女 | D9: 7935 | E9: 6962 | F9: 612 | G9: 32 | H9: 159 | I9: 0 | J9: 170 | K9: 7935 | L9: 187 | M9: 522 | N9: 2877 | O9: 1274 | P9: 961 | Q9: 1075 | R9: 648 | S9: 268 | T9: 85 | U9: 38 | V9: 7935 | W9: 7042 | X9: 278 | Y9: 8 | Z9: 278 | AA9: 5 | AB9: 17 | AC9: 42 | AD9: 74 | AE9: 90 | AF9: 101 | AG9: 828 | AH9: 2 | AI9: 44 | AJ9: 499 | AK9: 37 | AL9: 27 | AM9: 39 | AN9: 30 | AO9: 21 | AP9: 11 | AQ9: 118
C10: 其他 | D10: 2 | E10: 2 | F10: 0 | G10: 0 | H10: 0 | I10: 0 | J10: 0 | K10: 2 | L10: 0 | M10: 0 | N10: 0 | O10: 1 | P10: 0 | Q10: 1 | R10: 0 | S10: 0 | T10: 0 | U10: 0 | V10: 2 | W10: 1 | X10: 0 | Y10: 0 | Z10: 0 | AA10: 0 | AB10: 0 | AC10: 0 | AD10: 0 | AE10: 1 | AF10: 0 | AG10: 0 | AH10: 0 | AI10: 0 | AJ10: 0 | AK10: 0 | AL10: 0 | AM10: 0 | AN10: 0 | AO10: 0 | AP10: 0 | AQ10: 0
C11: 不詳 | D11: 25 | E11: 14 | F11: 2 | G11: 0 | H11: 0 | I11: 0 | J11: 9 | K11: 25 | L11: 0 | M11: 1 | N11: 17 | O11: 2 | P11: 1 | Q11: 0 | R11: 0 | S11: 0 | T11: 0 | U11: 4 | V11: 25 | W11: 18 | X11: 0 | Y11: 0 | Z11: 0 | AA11: 0 | AB11: 0 | AC11: 0 | AD11: 0 | AE11: 1 | AF11: 6 | AG11: 276 | AH11: 0 | AI11: 0 | AJ11: 11 | AK11: 1 | AL11: 1 | AM11: 1 | AN11: 3 | AO11: 1 | AP11: 1 | AQ11: 257
A12: 新北市 | C12: 計 | D12: 1745 | E12: 1568 | F12: 68 | G12: 5 | H12: 25 | I12: 1 | J12: 78 | K12: 1745 | L12: 40 | M12: 138 | N12: 707 | O12: 250 | P12: 217 | Q12: 222 | R12: 98 | S12: 36 | T12: 18 | U12: 19 | V12: 1745 | W12: 1548 | X12: 52 | Y12: 1 | Z12: 55 | AA12: 1 | AB12: 3 | AC12: 9 | AD12: 17 | AE12: 26 | AF12: 33 | AG12: 1615 | AH12: 6 | AI12: 36 | AJ12: 320 | AK12: 163 | AL12: 91 | AM12: 145 | AN12: 152 | AO12: 89 | AP12: 55 | AQ12: 558
C13: 男 | D13: 286 | E13: 256 | F13: 15 | G13: 2 | H13: 1 | I13: 1 | J13: 11 | K13: 286 | L13: 7 | M13: 38 | N13: 157 | O13: 28 | P13: 21 | Q13: 20 | R13: 9 | S13: 2 | T13: 1 | U13: 3 | V13: 286 | W13: 246 | X13: 12 | Y13: 1 | Z13: 8 | AA13: 0 | AB13: 0 | AC13: 0 | AD13: 4 | AE13: 9 | AF13: 6 | AG13: 1383 | AH13: 5 | AI13: 26 | AJ13: 215 | AK13: 158 | AL13: 86 | AM13: 137 | AN13: 140 | AO13: 84 | AP13: 51 | AQ13: 481
C14: 女 | D14: 1452 | E14: 1305 | F14: 53 | G14: 3 | H14: 24 | I14: 0 | J14: 67 | K14: 1452 | L14: 33 | M14: 100 | N14: 545 | O14: 221 | P14: 196 | Q14: 201 | R14: 89 | S14: 34 | T14: 17 | U14: 16 | V14: 1452 | W14: 1296 | X14: 40 | Y14: 0 | Z14: 47 | AA14: 1 | AB14: 3 | AC14: 9 | AD14: 13 | AE14: 16 | AF14: 27 | AG14: 186 | AH14: 1 | AI14: 10 | AJ14: 102 | AK14: 5 | AL14: 5 | AM14: 8 | AN14: 11 | AO14: 5 | AP14: 4 | AQ14: 35
C15: 其他 | D15: 2 | E15: 2 | F15: 0 | G15: 0 | H15: 0 | I15: 0 | J15: 0 | K15: 2 | L15: 0 | M15: 0 | N15: 0 | O15: 1 | P15: 0 | Q15: 1 | R15: 0 | S15: 0 | T15: 0 | U15: 0 | V15: 2 | W15: 1 | X15: 0 | Y15: 0 | Z15: 0 | AA15: 0 | AB15: 0 | AC15: 0 | AD15: 0 | AE15: 1 | AF15: 0 | AG15: 0 | AH15: 0 | AI15: 0 | AJ15: 0 | AK15: 0 | AL15: 0 | AM15: 0 | AN15: 0 | AO15: 0 | AP15: 0 | AQ15: 0
C16: 不詳 | D16: 5 | E16: 5 | F16: 0 | G16: 0 | H16: 0 | I16: 0 | J16: 0 | K16: 5 | L16: 0 | M16: 0 | N16: 5 | O16: 0 | P16: 0 | Q16: 0 | R16: 0 | S16: 0 | T16: 0 | U16: 0 | V16: 5 | W16: 5 | X16: 0 | Y16: 0 | Z16: 0 | AA16: 0 | AB16: 0 | AC16: 0 | AD16: 0 | AE16: 0 | AF16: 0 | AG16: 46 | AH16: 0 | AI16: 0 | AJ16: 3 | AK16: 0 | AL16: 0 | AM16: 0 | AN16: 1 | AO16: 0 | AP16: 0 | AQ16: 42
A17: 臺北市 | C17: 計 | D17: 976 | E17: 888 | F17: 13 | G17: 7 | H17: 32 | I17: 0 | J17: 36 | K17: 976 | L17: 20 | M17: 65 | N17: 225 | O17: 202 | P17: 156 | Q17: 171 | R17: 84 | S17: 29 | T17: 12 | U17: 12 | V17: 976 | W17: 851 | X17: 16 | Y17: 2 | Z17: 33 | AA17: 0 | AB17: 1 | AC17: 8 | AD17: 10 | AE17: 16 | AF17: 39 | AG17: 799 | AH17: 5 | AI17: 22 | AJ17: 84 | AK17: 61 | AL17: 73 | AM17: 73 | AN17: 73 | AO17: 48 | AP17: 26 | AQ17: 334
C18: 男 | D18: 153 | E18: 135 | F18: 1 | G18: 2 | H18: 9 | I18: 0 | J18: 6 | K18: 153 | L18: 3 | M18: 25 | N18: 44 | O18: 27 | P18: 20 | Q18: 22 | R18: 5 | S18: 4 | T18: 1 | U18: 2 | V18: 153 | W18: 128 | X18: 2 | Y18: 1 | Z18: 3 | AA18: 0 | AB18: 0 | AC18: 4 | AD18: 3 | AE18: 4 | AF18: 8 | AG18: 722 | AH18: 5 | AI18: 16 | AJ18: 64 | AK18: 56 | AL18: 70 | AM18: 69 | AN18: 70 | AO18: 44 | AP18: 26 | AQ18: 302
C19: 女 | D19: 819 | E19: 752 | F19: 12 | G19: 5 | H19: 23 | I19: 0 | J19: 27 | K19: 819 | L19: 17 | M19: 40 | N19: 181 | O19: 174 | P19: 135 | Q19: 149 | R19: 79 | S19: 25 | T19: 11 | U19: 8 | V19: 819 | W19: 723 | X19: 14 | Y19: 1 | Z19: 30 | AA19: 0 | AB19: 1 | AC19: 4 | AD19: 7 | AE19: 12 | AF19: 27 | AG19: 53 | AH19: 0 | AI19: 6 | AJ19: 20 | AK19: 4 | AL19: 3 | AM19: 4 | AN19: 2 | AO19: 4 | AP19: 0 | AQ19: 10
C20: 其他 | D20: 0 | E20: 0 | F20: 0 | G20: 0 | H20: 0 | I20: 0 | J20: 0 | K20: 0 | L20: 0 | M20: 0 | N20: 0 | O20: 0 | P20: 0 | Q20: 0 | R20: 0 | S20: 0 | T20: 0 | U20: 0 | V20: 0 | W20: 0 | X20: 0 | Y20: 0 | Z20: 0 | AA20: 0 | AB20: 0 | AC20: 0 | AD20: 0 | AE20: 0 | AF20: 0 | AG20: 0 | AH20: 0 | AI20: 0 | AJ20: 0 | AK20: 0 | AL20: 0 | AM20: 0 | AN20: 0 | AO20: 0 | AP20: 0 | AQ20: 0
C21: 不詳 | D21: 4 | E21: 1 | F21: 0 | G21: 0 | H21: 0 | I21: 0 | J21: 3 | K21: 4 | L21: 0 | M21: 0 | N21: 0 | O21: 1 | P21: 1 | Q21: 0 | R21: 0 | S21: 0 | T21: 0 | U21: 2 | V21: 4 | W21: 0 | X21: 0 | Y21: 0 | Z21: 0 | AA21: 0 | AB21: 0 | AC21: 0 | AD21: 0 | AE21: 0 | AF21: 4 | AG21: 24 | AH21: 0 | AI21: 0 | AJ21: 0 | AK21: 1 | AL21: 0 | AM21: 0 | AN21: 1 | AO21: 0 | AP21: 0 | AQ21: 22
A22: 桃園市 | C22: 計 | D22: 1148 | E22: 975 | F22: 136 | G22: 6 | H22: 28 | I22: 0 | J22: 3 | K22: 1148 | L22: 17 | M22: 77 | N22: 469 | O22: 172 | P22: 131 | Q22: 153 | R22: 94 | S22: 25 | T22: 9 | U22: 1 | V22: 1148 | W22: 1039 | X22: 43 | Y22: 1 | Z22: 25 | AA22: 0 | AB22: 5 | AC22: 3 | AD22: 10 | AE22: 12 | AF22: 10 | AG22: 1134 | AH22: 1 | AI22: 21 | AJ22: 200 | AK22: 139 | AL22: 93 | AM22: 109 | AN22: 108 | AO22: 70 | AP22: 31 | AQ22: 362
C23: 男 | D23: 170 | E23: 145 | F23: 23 | G23: 0 | H23: 2 | I23: 0 | J23: 0 | K23: 170 | L23: 3 | M23: 19 | N23: 89 | O23: 23 | P23: 12 | Q23: 13 | R23: 8 | S23: 1 | T23: 1 | U23: 1 | V23: 170 | W23: 149 | X23: 6 | Y23: 0 | Z23: 3 | AA23: 0 | AB23: 1 | AC23: 0 | AD23: 2 | AE23: 7 | AF23: 2 | AG23: 1005 | AH23: 1 | AI23: 15 | AJ23: 148 | AK23: 135 | AL23: 91 | AM23: 106 | AN23: 103 | AO23: 70 | AP23: 30 | AQ23: 306
C24: 女 | D24: 977 | E24: 829 | F24: 113 | G24: 6 | H24: 26 | I24: 0 | J24: 3 | K24: 977 | L24: 14 | M24: 58 | N24: 379 | O24: 149 | P24: 119 | Q24: 140 | R24: 86 | S24: 24 | T24: 8 | U24: 0 | V24: 977 | W24: 889 | X24: 37 | Y24: 1 | Z24: 22 | AA24: 0 | AB24: 4 | AC24: 3 | AD24: 8 | AE24: 5 | AF24: 8 | AG24: 88 | AH24: 0 | AI24: 6 | AJ24: 52 | AK24: 4 | AL24: 2 | AM24: 3 | AN24: 5 | AO24: 0 | AP24: 1 | AQ24: 15
C25: 其他 | D25: 0 | E25: 0 | F25: 0 | G25: 0 | H25: 0 | I25: 0 | J25: 0 | K25: 0 | L25: 0 | M25: 0 | N25: 0 | O25: 0 | P25: 0 | Q25: 0 | R25: 0 | S25: 0 | T25: 0 | U25: 0 | V25: 0 | W25: 0 | X25: 0 | Y25: 0 | Z25: 0 | AA25: 0 | AB25: 0 | AC25: 0 | AD25: 0 | AE25: 0 | AF25: 0 | AG25: 0 | AH25: 0 | AI25: 0 | AJ25: 0 | AK25: 0 | AL25: 0 | AM25: 0 | AN25: 0 | AO25: 0 | AP25: 0 | AQ25: 0
C26: 不詳 | D26: 1 | E26: 1 | F26: 0 | G26: 0 | H26: 0 | I26: 0 | J26: 0 | K26: 1 | L26: 0 | M26: 0 | N26: 1 | O26: 0 | P26: 0 | Q26: 0 | R26: 0 | S26: 0 | T26: 0 | U26: 0 | V26: 1 | W26: 1 | X26: 0 | Y26: 0 | Z26: 0 | AA26: 0 | AB26: 0 | AC26: 0 | AD26: 0 | AE26: 0 | AF26: 0 | AG26: 41 | AH26: 0 | AI26: 0 | AJ26: 0 | AK26: 0 | AL26: 0 | AM26: 0 | AN26: 0 | AO26: 0 | AP26: 0 | AQ26: 41
A27: 臺中市 | C27: 計 | D27: 1305 | E27: 1180 | F27: 53 | G27: 5 | H27: 18 | I27: 0 | J27: 49 | K27: 1305 | L27: 32 | M27: 72 | N27: 435 | O27: 238 | P27: 160 | Q27: 193 | R27: 117 | S27: 45 | T27: 7 | U27: 6 | V27: 1305 | W27: 1155 | X27: 44 | Y27: 1 | Z27: 54 | AA27: 2 | AB27: 2 | AC27: 8 | AD27: 14 | AE27: 14 | AF27: 11 | AG27: 1207 | AH27: 3 | AI27: 24 | AJ27: 216 | AK27: 137 | AL27: 95 | AM27: 138 | AN27: 121 | AO27: 74 | AP27: 37 | AQ27: 362
C28: 男 | D28: 192 | E28: 167 | F28: 11 | G28: 1 | H28: 1 | I28: 0 | J28: 12 | K28: 192 | L28: 6 | M28: 22 | N28: 102 | O28: 17 | P28: 19 | Q28: 19 | R28: 5 | S28: 2 | T28: 0 | U28: 0 | V28: 192 | W28: 176 | X28: 6 | Y28: 0 | Z28: 3 | AA28: 0 | AB28: 0 | AC28: 1 | AD28: 3 | AE28: 3 | AF28: 0 | AG28: 1065 | AH28: 2 | AI28: 19 | AJ28: 165 | AK28: 132 | AL28: 92 | AM28: 133 | AN28: 117 | AO28: 72 | AP28: 35 | AQ28: 298
C29: 女 | D29: 1105 | E29: 1011 | F29: 41 | G29: 4 | H29: 17 | I29: 0 | J29: 32 | K29: 1105 | L29: 26 | M29: 50 | N29: 327 | O29: 221 | P29: 141 | Q29: 174 | R29: 112 | S29: 43 | T29: 7 | U29: 4 | V29: 1105 | W29: 974 | X29: 38 | Y29: 1 | Z29: 51 | AA29: 2 | AB29: 2 | AC29: 7 | AD29: 11 | AE29: 10 | AF29: 9 | AG29: 83 | AH29: 1 | AI29: 5 | AJ29: 46 | AK29: 5 | AL29: 2 | AM29: 4 | AN29: 4 | AO29: 2 | AP29: 2 | AQ29: 12
C30: 其他 | D30: 0 | E30: 0 | F30: 0 | G30: 0 | H30: 0 | I30: 0 | J30: 0 | K30: 0 | L30: 0 | M30: 0 | N30: 0 | O30: 0 | P30: 0 | Q30: 0 | R30: 0 | S30: 0 | T30: 0 | U30: 0 | V30: 0 | W30: 0 | X30: 0 | Y30: 0 | Z30: 0 | AA30: 0 | AB30: 0 | AC30: 0 | AD30: 0 | AE30: 0 | AF30: 0 | AG30: 0 | AH30: 0 | AI30: 0 | AJ30: 0 | AK30: 0 | AL30: 0 | AM30: 0 | AN30: 0 | AO30: 0 | AP30: 0 | AQ30: 0
C31: 不詳 | D31: 8 | E31: 2 | F31: 1 | G31: 0 | H31: 0 | I31: 0 | J31: 5 | K31: 8 | L31: 0 | M31: 0 | N31: 6 | O31: 0 | P31: 0 | Q31: 0 | R31: 0 | S31: 0 | T31: 0 | U31: 2 | V31: 8 | W31: 5 | X31: 0 | Y31: 0 | Z31: 0 | AA31: 0 | AB31: 0 | AC31: 0 | AD31: 0 | AE31: 1 | AF31: 2 | AG31: 59 | AH31: 0 | AI31: 0 | AJ31: 5 | AK31: 0 | AL31: 1 | AM31: 1 | AN31: 0 | AO31: 0 | AP31: 0 | AQ31: 52
A32: 臺南市 | C32: 計 | D32: 736 | E32: 703 | F32: 18 | G32: 2 | H32: 12 | I32: 0 | J32: 1 | K32: 736 | L32: 22 | M32: 72 | N32: 245 | O32: 100 | P32: 89 | Q32: 94 | R32: 62 | S32: 40 | T32: 10 | U32: 2 | V32: 736 | W32: 659 | X32: 21 | Y32: 2 | Z32: 26 | AA32: 0 | AB32: 0 | AC32: 7 | AD32: 5 | AE32: 14 | AF32: 2 | AG32: 707 | AH32: 4 | AI32: 20 | AJ32: 129 | AK32: 90 | AL32: 59 | AM32: 83 | AN32: 92 | AO32: 68 | AP32: 31 | AQ32: 131
C33: 男 | D33: 121 | E33: 117 | F33: 2 | G33: 0 | H33: 2 | I33: 0 | J33: 0 | K33: 121 | L33: 5 | M33: 23 | N33: 55 | O33: 8 | P33: 10 | Q33: 13 | R33: 5 | S33: 2 | T33: 0 | U33: 0 | V33: 121 | W33: 108 | X33: 3 | Y33: 0 | Z33: 5 | AA33: 0 | AB33: 0 | AC33: 1 | AD33: 1 | AE33: 3 | AF33: 0 | AG33: 641 | AH33: 4 | AI33: 13 | AJ33: 100 | AK33: 87 | AL33: 53 | AM33: 79 | AN33: 90 | AO33: 66 | AP33: 30 | AQ33: 119
C34: 女 | D34: 615 | E34: 586 | F34: 16 | G34: 2 | H34: 10 | I34: 0 | J34: 1 | K34: 615 | L34: 17 | M34: 49 | N34: 190 | O34: 92 | P34: 79 | Q34: 81 | R34: 57 | S34: 38 | T34: 10 | U34: 2 | V34: 615 | W34: 551 | X34: 18 | Y34: 2 | Z34: 21 | AA34: 0 | AB34: 0 | AC34: 6 | AD34: 4 | AE34: 11 | AF34: 2 | AG34: 56 | AH34: 0 | AI34: 7 | AJ34: 29 | AK34: 3 | AL34: 6 | AM34: 4 | AN34: 2 | AO34: 1 | AP34: 1 | AQ34: 3
C35: 其他 | D35: 0 | E35: 0 | F35: 0 | G35: 0 | H35: 0 | I35: 0 | J35: 0 | K35: 0 | L35: 0 | M35: 0 | N35: 0 | O35: 0 | P35: 0 | Q35: 0 | R35: 0 | S35: 0 | T35: 0 | U35: 0 | V35: 0 | W35: 0 | X35: 0 | Y35: 0 | Z35: 0 | AA35: 0 | AB35: 0 | AC35: 0 | AD35: 0 | AE35: 0 | AF35: 0 | AG35: 0 | AH35: 0 | AI35: 0 | AJ35: 0 | AK35: 0 | AL35: 0 | AM35: 0 | AN35: 0 | AO35: 0 | AP35: 0 | AQ35: 0
C36: 不詳 | D36: 0 | E36: 0 | F36: 0 | G36: 0 | H36: 0 | I36: 0 | J36: 0 | K36: 0 | L36: 0 | M36: 0 | N36: 0 | O36: 0 | P36: 0 | Q36: 0 | R36: 0 | S36: 0 | T36: 0 | U36: 0 | V36: 0 | W36: 0 | X36: 0 | Y36: 0 | Z36: 0 | AA36: 0 | AB36: 0 | AC36: 0 | AD36: 0 | AE36: 0 | AF36: 0 | AG36: 10 | AH36: 0 | AI36: 0 | AJ36: 0 | AK36: 0 | AL36: 0 | AM36: 0 | AN36: 0 | AO36: 1 | AP36: 0 | AQ36: 9
A37: 高雄市 | C37: 計 | D37: 991 | E37: 910 | F37: 57 | G37: 4 | H37: 19 | I37: 0 | J37: 1 | K37: 991 | L37: 20 | M37: 70 | N37: 390 | O37: 157 | P37: 104 | Q37: 128 | R37: 72 | S37: 40 | T37: 9 | U37: 1 | V37: 991 | W37: 869 | X37: 38 | Y37: 2 | Z37: 35 | AA37: 3 | AB37: 3 | AC37: 7 | AD37: 11 | AE37: 17 | AF37: 6 | AG37: 895 | AH37: 2 | AI37: 14 | AJ37: 184 | AK37: 99 | AL37: 53 | AM37: 105 | AN37: 93 | AO37: 87 | AP37: 35 | AQ37: 223
C38: 男 | D38: 168 | E38: 160 | F38: 8 | G38: 0 | H38: 0 | I38: 0 | J38: 0 | K38: 168 | L38: 6 | M38: 18 | N38: 97 | O38: 16 | P38: 13 | Q38: 13 | R38: 2 | S38: 3 | T38: 0 | U38: 0 | V38: 168 | W38: 147 | X38: 7 | Y38: 1 | Z38: 2 | AA38: 1 | AB38: 0 | AC38: 2 | AD38: 3 | AE38: 5 | AF38: 0 | AG38: 770 | AH38: 2 | AI38: 12 | AJ38: 118 | AK38: 96 | AL38: 53 | AM38: 101 | AN38: 91 | AO38: 83 | AP38: 32 | AQ38: 182
C39: 女 | D39: 823 | E39: 750 | F39: 49 | G39: 4 | H39: 19 | I39: 0 | J39: 1 | K39: 823 | L39: 14 | M39: 52 | N39: 293 | O39: 141 | P39: 91 | Q39: 115 | R39: 70 | S39: 37 | T39: 9 | U39: 1 | V39: 823 | W39: 722 | X39: 31 | Y39: 1 | Z39: 33 | AA39: 2 | AB39: 3 | AC39: 5 | AD39: 8 | AE39: 12 | AF39: 6 | AG39: 87 | AH39: 0 | AI39: 2 | AJ39: 66 | AK39: 3 | AL39: 0 | AM39: 4 | AN39: 2 | AO39: 4 | AP39: 2 | AQ39: 4
C40: 其他 | D40: 0 | E40: 0 | F40: 0 | G40: 0 | H40: 0 | I40: 0 | J40: 0 | K40: 0 | L40: 0 | M40: 0 | N40: 0 | O40: 0 | P40: 0 | Q40: 0 | R40: 0 | S40: 0 | T40: 0 | U40: 0 | V40: 0 | W40: 0 | X40: 0 | Y40: 0 | Z40: 0 | AA40: 0 | AB40: 0 | AC40: 0 | AD40: 0 | AE40: 0 | AF40: 0 | AG40: 0 | AH40: 0 | AI40: 0 | AJ40: 0 | AK40: 0 | AL40: 0 | AM40: 0 | AN40: 0 | AO40: 0 | AP40: 0 | AQ40: 0
C41: 不詳 | D41: 0 | E41: 0 | F41: 0 | G41: 0 | H41: 0 | I41: 0 | J41: 0 | K41: 0 | L41: 0 | M41: 0 | N41: 0 | O41: 0 | P41: 0 | Q41: 0 | R41: 0 | S41: 0 | T41: 0 | U41: 0 | V41: 0 | W41: 0 | X41: 0 | Y41: 0 | Z41: 0 | AA41: 0 | AB41: 0 | AC41: 0 | AD41: 0 | AE41: 0 | AF41: 0 | AG41: 38 | AH41: 0 | AI41: 0 | AJ41: 0 | AK41: 0 | AL41: 0 | AM41: 0 | AN41: 0 | AO41: 0 | AP41: 1 | AQ41: 37
A42: 宜蘭縣 | C42: 計 | D42: 158 | E42: 135 | F42: 17 | G42: 0 | H42: 1 | I42: 0 | J42: 5 | K42: 158 | L42: 2 | M42: 22 | N42: 80 | O42: 14 | P42: 8 | Q42: 12 | R42: 8 | S42: 7 | T42: 3 | U42: 2 | V42: 158 | W42: 139 | X42: 5 | Y42: 0 | Z42: 5 | AA42: 0 | AB42: 0 | AC42: 1 | AD42: 2 | AE42: 4 | AF42: 2 | AG42: 149 | AH42: 0 | AI42: 4 | AJ42: 39 | AK42: 20 | AL42: 10 | AM42: 11 | AN42: 12 | AO42: 7 | AP42: 7 | AQ42: 39
C43: 男 | D43: 39 | E43: 31 | F43: 7 | G43: 0 | H43: 1 | I43: 0 | J43: 0 | K43: 39 | L43: 0 | M43: 11 | N43: 20 | O43: 1 | P43: 2 | Q43: 2 | R43: 1 | S43: 2 | T43: 0 | U43: 0 | V43: 39 | W43: 36 | X43: 1 | Y43: 0 | Z43: 1 | AA43: 0 | AB43: 0 | AC43: 0 | AD43: 0 | AE43: 1 | AF43: 0 | AG43: 128 | AH43: 0 | AI43: 3 | AJ43: 26 | AK43: 20 | AL43: 10 | AM43: 10 | AN43: 11 | AO43: 7 | AP43: 7 | AQ43: 34
C44: 女 | D44: 118 | E44: 104 | F44: 10 | G44: 0 | H44: 0 | I44: 0 | J44: 4 | K44: 118 | L44: 2 | M44: 11 | N44: 59 | O44: 13 | P44: 6 | Q44: 10 | R44: 7 | S44: 5 | T44: 3 | U44: 2 | V44: 118 | W44: 102 | X44: 4 | Y44: 0 | Z44: 4 | AA44: 0 | AB44: 0 | AC44: 1 | AD44: 2 | AE44: 3 | AF44: 2 | AG44: 18 | AH44: 0 | AI44: 1 | AJ44: 11 | AK44: 0 | AL44: 0 | AM44: 1 | AN44: 1 | AO44: 0 | AP44: 0 | AQ44: 4
C45: 其他 | D45: 0 | E45: 0 | F45: 0 | G45: 0 | H45: 0 | I45: 0 | J45: 0 | K45: 0 | L45: 0 | M45: 0 | N45: 0 | O45: 0 | P45: 0 | Q45: 0 | R45: 0 | S45: 0 | T45: 0 | U45: 0 | V45: 0 | W45: 0 | X45: 0 | Y45: 0 | Z45: 0 | AA45: 0 | AB45: 0 | AC45: 0 | AD45: 0 | AE45: 0 | AF45: 0 | AG45: 0 | AH45: 0 | AI45: 0 | AJ45: 0 | AK45: 0 | AL45: 0 | AM45: 0 | AN45: 0 | AO45: 0 | AP45: 0 | AQ45: 0
C46: 不詳 | D46: 1 | E46: 0 | F46: 0 | G46: 0 | H46: 0 | I46: 0 | J46: 1 | K46: 1 | L46: 0 | M46: 0 | N46: 1 | O46: 0 | P46: 0 | Q46: 0 | R46: 0 | S46: 0 | T46: 0 | U46: 0 | V46: 1 | W46: 1 | X46: 0 | Y46: 0 | Z46: 0 | AA46: 0 | AB46: 0 | AC46: 0 | AD46: 0 | AE46: 0 | AF46: 0 | AG46: 3 | AH46: 0 | AI46: 0 | AJ46: 2 | AK46: 0 | AL46: 0 | AM46: 0 | AN46: 0 | AO46: 0 | AP46: 0 | AQ46: 1
A47: 新竹縣 | C47: 計 | D47: 226 | E47: 183 | F47: 31 | G47: 1 | H47: 4 | I47: 0 | J47: 7 | K47: 226 | L47: 11 | M47: 17 | N47: 104 | O47: 28 | P47: 25 | Q47: 23 | R47: 13 | S47: 5 | T47: 0 | U47: 0 | V47: 226 | W47: 202 | X47: 8 | Y47: 0 | Z47: 8 | AA47: 0 | AB47: 0 | AC47: 0 | AD47: 2 | AE47: 3 | AF47: 3 | AG47: 180 | AH47: 0 | AI47: 3 | AJ47: 42 | AK47: 31 | AL47: 10 | AM47: 14 | AN47: 18 | AO47: 11 | AP47: 0 | AQ47: 51
C48: 男 | D48: 44 | E48: 37 | F48: 7 | G48: 0 | H48: 0 | I48: 0 | J48: 0 | K48: 44 | L48: 1 | M48: 7 | N48: 26 | O48: 5 | P48: 2 | Q48: 3 | R48: 0 | S48: 0 | T48: 0 | U48: 0 | V48: 44 | W48: 40 | X48: 2 | Y48: 0 | Z48: 2 | AA48: 0 | AB48: 0 | AC48: 0 | AD48: 0 | AE48: 0 | AF48: 0 | AG48: 153 | AH48: 0 | AI48: 3 | AJ48: 32 | AK48: 29 | AL48: 10 | AM48: 11 | AN48: 18 | AO48: 11 | AP48: 0 | AQ48: 39
C49: 女 | D49: 180 | E49: 145 | F49: 23 | G49: 1 | H49: 4 | I49: 0 | J49: 7 | K49: 180 | L49: 10 | M49: 9 | N49: 77 | O49: 23 | P49: 23 | Q49: 20 | R49: 13 | S49: 5 | T49: 0 | U49: 0 | V49: 180 | W49: 160 | X49: 6 | Y49: 0 | Z49: 6 | AA49: 0 | AB49: 0 | AC49: 0 | AD49: 2 | AE49: 3 | AF49: 3 | AG49: 21 | AH49: 0 | AI49: 0 | AJ49: 10 | AK49: 2 | AL49: 0 | AM49: 3 | AN49: 0 | AO49: 0 | AP49: 0 | AQ49: 6
C50: 其他 | D50: 0 | E50: 0 | F50: 0 | G50: 0 | H50: 0 | I50: 0 | J50: 0 | K50: 0 | L50: 0 | M50: 0 | N50: 0 | O50: 0 | P50: 0 | Q50: 0 | R50: 0 | S50: 0 | T50: 0 | U50: 0 | V50: 0 | W50: 0 | X50: 0 | Y50: 0 | Z50: 0 | AA50: 0 | AB50: 0 | AC50: 0 | AD50: 0 | AE50: 0 | AF50: 0 | AG50: 0 | AH50: 0 | AI50: 0 | AJ50: 0 | AK50: 0 | AL50: 0 | AM50: 0 | AN50: 0 | AO50: 0 | AP50: 0 | AQ50: 0
C51: 不詳 | D51: 2 | E51: 1 | F51: 1 | G51: 0 | H51: 0 | I51: 0 | J51: 0 | K51: 2 | L51: 0 | M51: 1 | N51: 1 | O51: 0 | P51: 0 | Q51: 0 | R51: 0 | S51: 0 | T51: 0 | U51: 0 | V51: 2 | W51: 2 | X51: 0 | Y51: 0 | Z51: 0 | AA51: 0 | AB51: 0 | AC51: 0 | AD51: 0 | AE51: 0 | AF51: 0 | AG51: 6 | AH51: 0 | AI51: 0 | AJ51: 0 | AK51: 0 | AL51: 0 | AM51: 0 | AN51: 0 | AO51: 0 | AP51: 0 | AQ51: 6
A52: 苗栗縣 | C52: 計 | D52: 190 | E52: 165 | F52: 21 | G52: 0 | H52: 2 | I52: 0 | J52: 2 | K52: 190 | L52: 1 | M52: 19 | N52: 100 | O52: 18 | P52: 16 | Q52: 23 | R52: 10 | S52: 2 | T52: 1 | U52: 0 | V52: 190 | W52: 174 | X52: 10 | Y52: 0 | Z52: 3 | AA52: 0 | AB52: 1 | AC52: 0 | AD52: 0 | AE52: 1 | AF52: 1 | AG52: 185 | AH52: 1 | AI52: 6 | AJ52: 40 | AK52: 29 | AL52: 9 | AM52: 24 | AN52: 16 | AO52: 12 | AP52: 11 | AQ52: 37
C53: 男 | D53: 37 | E53: 30 | F53: 6 | G53: 0 | H53: 0 | I53: 0 | J53: 1 | K53: 37 | L53: 0 | M53: 7 | N53: 18 | O53: 7 | P53: 2 | Q53: 2 | R53: 1 | S53: 0 | T53: 0 | U53: 0 | V53: 37 | W53: 34 | X53: 2 | Y53: 0 | Z53: 0 | AA53: 0 | AB53: 0 | AC53: 0 | AD53: 0 | AE53: 0 | AF53: 1 | AG53: 165 | AH53: 1 | AI53: 5 | AJ53: 27 | AK53: 27 | AL53: 8 | AM53: 24 | AN53: 16 | AO53: 12 | AP53: 11 | AQ53: 34
C54: 女 | D54: 153 | E54: 135 | F54: 15 | G54: 0 | H54: 2 | I54: 0 | J54: 1 | K54: 153 | L54: 1 | M54: 12 | N54: 82 | O54: 11 | P54: 14 | Q54: 21 | R54: 9 | S54: 2 | T54: 1 | U54: 0 | V54: 153 | W54: 140 | X54: 8 | Y54: 0 | Z54: 3 | AA54: 0 | AB54: 1 | AC54: 0 | AD54: 0 | AE54: 1 | AF54: 0 | AG54: 17 | AH54: 0 | AI54: 1 | AJ54: 13 | AK54: 2 | AL54: 1 | AM54: 0 | AN54: 0 | AO54: 0 | AP54: 0 | AQ54: 0
C55: 其他 | D55: 0 | E55: 0 | F55: 0 | G55: 0 | H55: 0 | I55: 0 | J55: 0 | K55: 0 | L55: 0 | M55: 0 | N55: 0 | O55: 0 | P55: 0 | Q55: 0 | R55: 0 | S55: 0 | T55: 0 | U55: 0 | V55: 0 | W55: 0 | X55: 0 | Y55: 0 | Z55: 0 | AA55: 0 | AB55: 0 | AC55: 0 | AD55: 0 | AE55: 0 | AF55: 0 | AG55: 0 | AH55: 0 | AI55: 0 | AJ55: 0 | AK55: 0 | AL55: 0 | AM55: 0 | AN55: 0 | AO55: 0 | AP55: 0 | AQ55: 0
C56: 不詳 | D56: 0 | E56: 0 | F56: 0 | G56: 0 | H56: 0 | I56: 0 | J56: 0 | K56: 0 | L56: 0 | M56: 0 | N56: 0 | O56: 0 | P56: 0 | Q56: 0 | R56: 0 | S56: 0 | T56: 0 | U56: 0 | V56: 0 | W56: 0 | X56: 0 | Y56: 0 | Z56: 0 | AA56: 0 | AB56: 0 | AC56: 0 | AD56: 0 | AE56: 0 | AF56: 0 | AG56: 3 | AH56: 0 | AI56: 0 | AJ56: 0 | AK56: 0 | AL56: 0 | AM56: 0 | AN56: 0 | AO56: 0 | AP56: 0 | AQ56: 3
A57: 彰化縣 | C57: 計 | D57: 421 | E57: 377 | F57: 17 | G57: 2 | H57: 8 | I57: 0 | J57: 17 | K57: 421 | L57: 15 | M57: 47 | N57: 218 | O57: 36 | P57: 20 | Q57: 39 | R57: 27 | S57: 14 | T57: 4 | U57: 1 | V57: 421 | W57: 369 | X57: 21 | Y57: 2 | Z57: 15 | AA57: 0 | AB57: 2 | AC57: 2 | AD57: 5 | AE57: 2 | AF57: 3 | AG57: 371 | AH57: 0 | AI57: 8 | AJ57: 98 | AK57: 38 | AL57: 18 | AM57: 33 | AN57: 35 | AO57: 37 | AP57: 8 | AQ57: 96
C58: 男 | D58: 94 | E58: 82 | F58: 7 | G58: 0 | H58: 0 | I58: 0 | J58: 5 | K58: 94 | L58: 5 | M58: 13 | N58: 61 | O58: 2 | P58: 3 | Q58: 6 | R58: 3 | S58: 0 | T58: 1 | U58: 0 | V58: 94 | W58: 84 | X58: 3 | Y58: 0 | Z58: 3 | AA58: 0 | AB58: 1 | AC58: 0 | AD58: 2 | AE58: 1 | AF58: 0 | AG58: 298 | AH58: 0 | AI58: 6 | AJ58: 63 | AK58: 35 | AL58: 16 | AM58: 32 | AN58: 34 | AO58: 35 | AP58: 8 | AQ58: 69
C59: 女 | D59: 326 | E59: 294 | F59: 10 | G59: 2 | H59: 8 | I59: 0 | J59: 12 | K59: 326 | L59: 10 | M59: 34 | N59: 156 | O59: 34 | P59: 17 | Q59: 33 | R59: 24 | S59: 14 | T59: 3 | U59: 1 | V59: 326 | W59: 284 | X59: 18 | Y59: 2 | Z59: 12 | AA59: 0 | AB59: 1 | AC59: 2 | AD59: 3 | AE59: 1 | AF59: 3 | AG59: 63 | AH59: 0 | AI59: 2 | AJ59: 34 | AK59: 3 | AL59: 2 | AM59: 1 | AN59: 1 | AO59: 2 | AP59: 0 | AQ59: 18
C60: 其他 | D60: 0 | E60: 0 | F60: 0 | G60: 0 | H60: 0 | I60: 0 | J60: 0 | K60: 0 | L60: 0 | M60: 0 | N60: 0 | O60: 0 | P60: 0 | Q60: 0 | R60: 0 | S60: 0 | T60: 0 | U60: 0 | V60: 0 | W60: 0 | X60: 0 | Y60: 0 | Z60: 0 | AA60: 0 | AB60: 0 | AC60: 0 | AD60: 0 | AE60: 0 | AF60: 0 | AG60: 0 | AH60: 0 | AI60: 0 | AJ60: 0 | AK60: 0 | AL60: 0 | AM60: 0 | AN60: 0 | AO60: 0 | AP60: 0 | AQ60: 0
C61: 不詳 | D61: 1 | E61: 1 | F61: 0 | G61: 0 | H61: 0 | I61: 0 | J61: 0 | K61: 1 | L61: 0 | M61: 0 | N61: 1 | O61: 0 | P61: 0 | Q61: 0 | R61: 0 | S61: 0 | T61: 0 | U61: 0 | V61: 1 | W61: 1 | X61: 0 | Y61: 0 | Z61: 0 | AA61: 0 | AB61: 0 | AC61: 0 | AD61: 0 | AE61: 0 | AF61: 0 | AG61: 10 | AH61: 0 | AI61: 0 | AJ61: 1 | AK61: 0 | AL61: 0 | AM61: 0 | AN61: 0 | AO61: 0 | AP61: 0 | AQ61: 9
A62: 南投縣 | C62: 計 | D62: 186 | E62: 144 | F62: 37 | G62: 1 | H62: 2 | I62: 0 | J62: 2 | K62: 186 | L62: 8 | M62: 21 | N62: 86 | O62: 19 | P62: 9 | Q62: 14 | R62: 18 | S62: 6 | T62: 4 | U62: 1 | V62: 186 | W62: 157 | X62: 10 | Y62: 0 | Z62: 11 | AA62: 0 | AB62: 0 | AC62: 1 | AD62: 4 | AE62: 2 | AF62: 1 | AG62: 184 | AH62: 0 | AI62: 3 | AJ62: 57 | AK62: 25 | AL62: 10 | AM62: 14 | AN62: 15 | AO62: 11 | AP62: 8 | AQ62: 41
C63: 男 | D63: 40 | E63: 31 | F63: 9 | G63: 0 | H63: 0 | I63: 0 | J63: 0 | K63: 40 | L63: 3 | M63: 7 | N63: 21 | O63: 4 | P63: 1 | Q63: 1 | R63: 3 | S63: 0 | T63: 0 | U63: 0 | V63: 40 | W63: 35 | X63: 3 | Y63: 0 | Z63: 1 | AA63: 0 | AB63: 0 | AC63: 0 | AD63: 1 | AE63: 0 | AF63: 0 | AG63: 156 | AH63: 0 | AI63: 3 | AJ63: 38 | AK63: 25 | AL63: 8 | AM63: 14 | AN63: 15 | AO63: 10 | AP63: 8 | AQ63: 35
C64: 女 | D64: 145 | E64: 112 | F64: 28 | G64: 1 | H64: 2 | I64: 0 | J64: 2 | K64: 145 | L64: 5 | M64: 14 | N64: 64 | O64: 15 | P64: 8 | Q64: 13 | R64: 15 | S64: 6 | T64: 4 | U64: 1 | V64: 145 | W64: 121 | X64: 7 | Y64: 0 | Z64: 10 | AA64: 0 | AB64: 0 | AC64: 1 | AD64: 3 | AE64: 2 | AF64: 1 | AG64: 24 | AH64: 0 | AI64: 0 | AJ64: 19 | AK64: 0 | AL64: 2 | AM64: 0 | AN64: 0 | AO64: 1 | AP64: 0 | AQ64: 2
C65: 其他 | D65: 0 | E65: 0 | F65: 0 | G65: 0 | H65: 0 | I65: 0 | J65: 0 | K65: 0 | L65: 0 | M65: 0 | N65: 0 | O65: 0 | P65: 0 | Q65: 0 | R65: 0 | S65: 0 | T65: 0 | U65: 0 | V65: 0 | W65: 0 | X65: 0 | Y65: 0 | Z65: 0 | AA65: 0 | AB65: 0 | AC65: 0 | AD65: 0 | AE65: 0 | AF65: 0 | AG65: 0 | AH65: 0 | AI65: 0 | AJ65: 0 | AK65: 0 | AL65: 0 | AM65: 0 | AN65: 0 | AO65: 0 | AP65: 0 | AQ65: 0
C66: 不詳 | D66: 1 | E66: 1 | F66: 0 | G66: 0 | H66: 0 | I66: 0 | J66: 0 | K66: 1 | L66: 0 | M66: 0 | N66: 1 | O66: 0 | P66: 0 | Q66: 0 | R66: 0 | S66: 0 | T66: 0 | U66: 0 | V66: 1 | W66: 1 | X66: 0 | Y66: 0 | Z66: 0 | AA66: 0 | AB66: 0 | AC66: 0 | AD66: 0 | AE66: 0 | AF66: 0 | AG66: 4 | AH66: 0 | AI66: 0 | AJ66: 0 | AK66: 0 | AL66: 0 | AM66: 0 | AN66: 0 | AO66: 0 | AP66: 0 | AQ66: 4
A67: 雲林縣 | C67: 計 | D67: 182 | E67: 175 | F67: 4 | G67: 1 | H67: 2 | I67: 0 | J67: 0 | K67: 182 | L67: 6 | M67: 10 | N67: 92 | O67: 23 | P67: 14 | Q67: 18 | R67: 14 | S67: 2 | T67: 2 | U67: 1 | V67: 182 | W67: 161 | X67: 9 | Y67: 0 | Z67: 5 | AA67: 0 | AB67: 0 | AC67: 0 | AD67: 3 | AE67: 3 | AF67: 1 | AG67: 173 | AH67: 0 | AI67: 2 | AJ67: 34 | AK67: 29 | AL67: 13 | AM67: 25 | AN67: 21 | AO67: 8 | AP67: 4 | AQ67: 37
C68: 男 | D68: 24 | E68: 24 | F68: 0 | G68: 0 | H68: 0 | I68: 0 | J68: 0 | K68: 24 | L68: 1 | M68: 2 | N68: 17 | O68: 2 | P68: 0 | Q68: 1 | R68: 0 | S68: 0 | T68: 0 | U68: 1 | V68: 24 | W68: 18 | X68: 3 | Y68: 0 | Z68: 0 | AA68: 0 | AB68: 0 | AC68: 0 | AD68: 0 | AE68: 2 | AF68: 1 | AG68: 157 | AH68: 0 | AI68: 2 | AJ68: 25 | AK68: 28 | AL68: 13 | AM68: 25 | AN68: 21 | AO68: 8 | AP68: 4 | AQ68: 31
C69: 女 | D69: 158 | E69: 151 | F69: 4 | G69: 1 | H69: 2 | I69: 0 | J69: 0 | K69: 158 | L69: 5 | M69: 8 | N69: 75 | O69: 21 | P69: 14 | Q69: 17 | R69: 14 | S69: 2 | T69: 2 | U69: 0 | V69: 158 | W69: 143 | X69: 6 | Y69: 0 | Z69: 5 | AA69: 0 | AB69: 0 | AC69: 0 | AD69: 3 | AE69: 1 | AF69: 0 | AG69: 11 | AH69: 0 | AI69: 0 | AJ69: 9 | AK69: 1 | AL69: 0 | AM69: 0 | AN69: 0 | AO69: 0 | AP69: 0 | AQ69: 1
C70: 其他 | D70: 0 | E70: 0 | F70: 0 | G70: 0 | H70: 0 | I70: 0 | J70: 0 | K70: 0 | L70: 0 | M70: 0 | N70: 0 | O70: 0 | P70: 0 | Q70: 0 | R70: 0 | S70: 0 | T70: 0 | U70: 0 | V70: 0 | W70: 0 | X70: 0 | Y70: 0 | Z70: 0 | AA70: 0 | AB70: 0 | AC70: 0 | AD70: 0 | AE70: 0 | AF70: 0 | AG70: 0 | AH70: 0 | AI70: 0 | AJ70: 0 | AK70: 0 | AL70: 0 | AM70: 0 | AN70: 0 | AO70: 0 | AP70: 0 | AQ70: 0
C71: 不詳 | D71: 0 | E71: 0 | F71: 0 | G71: 0 | H71: 0 | I71: 0 | J71: 0 | K71: 0 | L71: 0 | M71: 0 | N71: 0 | O71: 0 | P71: 0 | Q71: 0 | R71: 0 | S71: 0 | T71: 0 | U71: 0 | V71: 0 | W71: 0 | X71: 0 | Y71: 0 | Z71: 0 | AA71: 0 | AB71: 0 | AC71: 0 | AD71: 0 | AE71: 0 | AF71: 0 | AG71: 5 | AH71: 0 | AI71: 0 | AJ71: 0 | AK71: 0 | AL71: 0 | AM71: 0 | AN71: 0 | AO71: 0 | AP71: 0 | AQ71: 5
A72: 嘉義縣 | C72: 計 | D72: 131 | E72: 117 | F72: 10 | G72: 0 | H72: 3 | I72: 0 | J72: 1 | K72: 131 | L72: 2 | M72: 9 | N72: 56 | O72: 24 | P72: 14 | Q72: 12 | R72: 6 | S72: 6 | T72: 2 | U72: 0 | V72: 131 | W72: 116 | X72: 7 | Y72: 0 | Z72: 3 | AA72: 0 | AB72: 0 | AC72: 0 | AD72: 3 | AE72: 1 | AF72: 1 | AG72: 121 | AH72: 0 | AI72: 3 | AJ72: 22 | AK72: 20 | AL72: 17 | AM72: 15 | AN72: 15 | AO72: 9 | AP72: 5 | AQ72: 15
C73: 男 | D73: 26 | E73: 21 | F73: 5 | G73: 0 | H73: 0 | I73: 0 | J73: 0 | K73: 26 | L73: 0 | M73: 2 | N73: 17 | O73: 2 | P73: 0 | Q73: 3 | R73: 1 | S73: 1 | T73: 0 | U73: 0 | V73: 26 | W73: 26 | X73: 0 | Y73: 0 | Z73: 0 | AA73: 0 | AB73: 0 | AC73: 0 | AD73: 0 | AE73: 0 | AF73: 0 | AG73: 109 | AH73: 0 | AI73: 3 | AJ73: 14 | AK73: 19 | AL73: 17 | AM73: 14 | AN73: 14 | AO73: 9 | AP73: 5 | AQ73: 14
C74: 女 | D74: 105 | E74: 96 | F74: 5 | G74: 0 | H74: 3 | I74: 0 | J74: 1 | K74: 105 | L74: 2 | M74: 7 | N74: 39 | O74: 22 | P74: 14 | Q74: 9 | R74: 5 | S74: 5 | T74: 2 | U74: 0 | V74: 105 | W74: 90 | X74: 7 | Y74: 0 | Z74: 3 | AA74: 0 | AB74: 0 | AC74: 0 | AD74: 3 | AE74: 1 | AF74: 1 | AG74: 11 | AH74: 0 | AI74: 0 | AJ74: 8 | AK74: 1 | AL74: 0 | AM74: 1 | AN74: 0 | AO74: 0 | AP74: 0 | AQ74: 1
C75: 其他 | D75: 0 | E75: 0 | F75: 0 | G75: 0 | H75: 0 | I75: 0 | J75: 0 | K75: 0 | L75: 0 | M75: 0 | N75: 0 | O75: 0 | P75: 0 | Q75: 0 | R75: 0 | S75: 0 | T75: 0 | U75: 0 | V75: 0 | W75: 0 | X75: 0 | Y75: 0 | Z75: 0 | AA75: 0 | AB75: 0 | AC75: 0 | AD75: 0 | AE75: 0 | AF75: 0 | AG75: 0 | AH75: 0 | AI75: 0 | AJ75: 0 | AK75: 0 | AL75: 0 | AM75: 0 | AN75: 0 | AO75: 0 | AP75: 0 | AQ75: 0
C76: 不詳 | D76: 0 | E76: 0 | F76: 0 | G76: 0 | H76: 0 | I76: 0 | J76: 0 | K76: 0 | L76: 0 | M76: 0 | N76: 0 | O76: 0 | P76: 0 | Q76: 0 | R76: 0 | S76: 0 | T76: 0 | U76: 0 | V76: 0 | W76: 0 | X76: 0 | Y76: 0 | Z76: 0 | AA76: 0 | AB76: 0 | AC76: 0 | AD76: 0 | AE76: 0 | AF76: 0 | AG76: 1 | AH76: 0 | AI76: 0 | AJ76: 0 | AK76: 0 | AL76: 0 | AM76: 0 | AN76: 1 | AO76: 0 | AP76: 0 | AQ76: 0
A77: 屏東縣 | C77: 計 | D77: 271 | E77: 217 | F77: 47 | G77: 0 | H77: 4 | I77: 0 | J77: 3 | K77: 271 | L77: 7 | M77: 35 | N77: 115 | O77: 39 | P77: 26 | Q77: 25 | R77: 11 | S77: 8 | T77: 4 | U77: 1 | V77: 271 | W77: 241 | X77: 13 | Y77: 1 | Z77: 7 | AA77: 0 | AB77: 1 | AC77: 0 | AD77: 3 | AE77: 0 | AF77: 5 | AG77: 227 | AH77: 0 | AI77: 2 | AJ77: 41 | AK77: 35 | AL77: 25 | AM77: 30 | AN77: 23 | AO77: 16 | AP77: 11 | AQ77: 44
C78: 男 | D78: 42 | E78: 36 | F78: 6 | G78: 0 | H78: 0 | I78: 0 | J78: 0 | K78: 42 | L78: 2 | M78: 13 | N78: 16 | O78: 4 | P78: 1 | Q78: 2 | R78: 1 | S78: 2 | T78: 1 | U78: 0 | V78: 42 | W78: 38 | X78: 1 | Y78: 1 | Z78: 1 | AA78: 0 | AB78: 0 | AC78: 0 | AD78: 1 | AE78: 0 | AF78: 0 | AG78: 208 | AH78: 0 | AI78: 2 | AJ78: 31 | AK78: 34 | AL78: 23 | AM78: 30 | AN78: 23 | AO78: 15 | AP78: 10 | AQ78: 40
C79: 女 | D79: 228 | E79: 180 | F79: 41 | G79: 0 | H79: 4 | I79: 0 | J79: 3 | K79: 228 | L79: 5 | M79: 22 | N79: 98 | O79: 35 | P79: 25 | Q79: 23 | R79: 10 | S79: 6 | T79: 3 | U79: 1 | V79: 228 | W79: 202 | X79: 12 | Y79: 0 | Z79: 6 | AA79: 0 | AB79: 1 | AC79: 0 | AD79: 2 | AE79: 0 | AF79: 5 | AG79: 16 | AH79: 0 | AI79: 0 | AJ79: 10 | AK79: 1 | AL79: 2 | AM79: 0 | AN79: 0 | AO79: 1 | AP79: 1 | AQ79: 1
C80: 其他 | D80: 0 | E80: 0 | F80: 0 | G80: 0 | H80: 0 | I80: 0 | J80: 0 | K80: 0 | L80: 0 | M80: 0 | N80: 0 | O80: 0 | P80: 0 | Q80: 0 | R80: 0 | S80: 0 | T80: 0 | U80: 0 | V80: 0 | W80: 0 | X80: 0 | Y80: 0 | Z80: 0 | AA80: 0 | AB80: 0 | AC80: 0 | AD80: 0 | AE80: 0 | AF80: 0 | AG80: 0 | AH80: 0 | AI80: 0 | AJ80: 0 | AK80: 0 | AL80: 0 | AM80: 0 | AN80: 0 | AO80: 0 | AP80: 0 | AQ80: 0
C81: 不詳 | D81: 1 | E81: 1 | F81: 0 | G81: 0 | H81: 0 | I81: 0 | J81: 0 | K81: 1 | L81: 0 | M81: 0 | N81: 1 | O81: 0 | P81: 0 | Q81: 0 | R81: 0 | S81: 0 | T81: 0 | U81: 0 | V81: 1 | W81: 1 | X81: 0 | Y81: 0 | Z81: 0 | AA81: 0 | AB81: 0 | AC81: 0 | AD81: 0 | AE81: 0 | AF81: 0 | AG81: 3 | AH81: 0 | AI81: 0 | AJ81: 0 | AK81: 0 | AL81: 0 | AM81: 0 | AN81: 0 | AO81: 0 | AP81: 0 | AQ81: 3
A82: 臺東縣 | C82: 計 | D82: 125 | E82: 51 | F82: 71 | G82: 2 | H82: 1 | I82: 0 | J82: 0 | K82: 125 | L82: 4 | M82: 17 | N82: 61 | O82: 18 | P82: 9 | Q82: 8 | R82: 4 | S82: 4 | T82: 0 | U82: 0 | V82: 125 | W82: 114 | X82: 7 | Y82: 0 | Z82: 1 | AA82: 0 | AB82: 0 | AC82: 1 | AD82: 0 | AE82: 2 | AF82: 0 | AG82: 126 | AH82: 1 | AI82: 8 | AJ82: 31 | AK82: 15 | AL82: 9 | AM82: 16 | AN82: 7 | AO82: 11 | AP82: 4 | AQ82: 24
C83: 男 | D83: 21 | E83: 7 | F83: 14 | G83: 0 | H83: 0 | I83: 0 | J83: 0 | K83: 21 | L83: 0 | M83: 1 | N83: 14 | O83: 3 | P83: 1 | Q83: 1 | R83: 0 | S83: 1 | T83: 0 | U83: 0 | V83: 21 | W83: 20 | X83: 0 | Y83: 0 | Z83: 0 | AA83: 0 | AB83: 0 | AC83: 1 | AD83: 0 | AE83: 0 | AF83: 0 | AG83: 103 | AH83: 1 | AI83: 7 | AJ83: 18 | AK83: 14 | AL83: 9 | AM83: 15 | AN83: 7 | AO83: 11 | AP83: 4 | AQ83: 17
C84: 女 | D84: 103 | E84: 43 | F84: 57 | G84: 2 | H84: 1 | I84: 0 | J84: 0 | K84: 103 | L84: 4 | M84: 16 | N84: 47 | O84: 14 | P84: 8 | Q84: 7 | R84: 4 | S84: 3 | T84: 0 | U84: 0 | V84: 103 | W84: 93 | X84: 7 | Y84: 0 | Z84: 1 | AA84: 0 | AB84: 0 | AC84: 0 | AD84: 0 | AE84: 2 | AF84: 0 | AG84: 16 | AH84: 0 | AI84: 1 | AJ84: 13 | AK84: 1 | AL84: 0 | AM84: 1 | AN84: 0 | AO84: 0 | AP84: 0 | AQ84: 0
C85: 其他 | D85: 0 | E85: 0 | F85: 0 | G85: 0 | H85: 0 | I85: 0 | J85: 0 | K85: 0 | L85: 0 | M85: 0 | N85: 0 | O85: 0 | P85: 0 | Q85: 0 | R85: 0 | S85: 0 | T85: 0 | U85: 0 | V85: 0 | W85: 0 | X85: 0 | Y85: 0 | Z85: 0 | AA85: 0 | AB85: 0 | AC85: 0 | AD85: 0 | AE85: 0 | AF85: 0 | AG85: 0 | AH85: 0 | AI85: 0 | AJ85: 0 | AK85: 0 | AL85: 0 | AM85: 0 | AN85: 0 | AO85: 0 | AP85: 0 | AQ85: 0
C86: 不詳 | D86: 1 | E86: 1 | F86: 0 | G86: 0 | H86: 0 | I86: 0 | J86: 0 | K86: 1 | L86: 0 | M86: 0 | N86: 0 | O86: 1 | P86: 0 | Q86: 0 | R86: 0 | S86: 0 | T86: 0 | U86: 0 | V86: 1 | W86: 1 | X86: 0 | Y86: 0 | Z86: 0 | AA86: 0 | AB86: 0 | AC86: 0 | AD86: 0 | AE86: 0 | AF86: 0 | AG86: 7 | AH86: 0 | AI86: 0 | AJ86: 0 | AK86: 0 | AL86: 0 | AM86: 0 | AN86: 0 | AO86: 0 | AP86: 0 | AQ86: 7
A87: 花蓮縣 | C87: 計 | D87: 255 | E87: 117 | F87: 131 | G87: 0 | H87: 6 | I87: 0 | J87: 1 | K87: 255 | L87: 7 | M87: 23 | N87: 120 | O87: 32 | P87: 26 | Q87: 15 | R87: 18 | S87: 9 | T87: 4 | U87: 1 | V87: 255 | W87: 220 | X87: 12 | Y87: 0 | Z87: 13 | AA87: 0 | AB87: 0 | AC87: 2 | AD87: 2 | AE87: 3 | AF87: 3 | AG87: 241 | AH87: 1 | AI87: 8 | AJ87: 58 | AK87: 26 | AL87: 18 | AM87: 22 | AN87: 21 | AO87: 22 | AP87: 15 | AQ87: 50
C88: 男 | D88: 48 | E88: 24 | F88: 23 | G88: 0 | H88: 0 | I88: 0 | J88: 1 | K88: 48 | L88: 1 | M88: 7 | N88: 27 | O88: 3 | P88: 3 | Q88: 1 | R88: 3 | S88: 2 | T88: 1 | U88: 0 | V88: 48 | W88: 40 | X88: 1 | Y88: 0 | Z88: 4 | AA88: 0 | AB88: 0 | AC88: 0 | AD88: 2 | AE88: 1 | AF88: 0 | AG88: 209 | AH88: 1 | AI88: 7 | AJ88: 37 | AK88: 26 | AL88: 18 | AM88: 19 | AN88: 21 | AO88: 22 | AP88: 15 | AQ88: 43
C89: 女 | D89: 207 | E89: 93 | F89: 108 | G89: 0 | H89: 6 | I89: 0 | J89: 0 | K89: 207 | L89: 6 | M89: 16 | N89: 93 | O89: 29 | P89: 23 | Q89: 14 | R89: 15 | S89: 7 | T89: 3 | U89: 1 | V89: 207 | W89: 180 | X89: 11 | Y89: 0 | Z89: 9 | AA89: 0 | AB89: 0 | AC89: 2 | AD89: 0 | AE89: 2 | AF89: 3 | AG89: 28 | AH89: 0 | AI89: 1 | AJ89: 21 | AK89: 0 | AL89: 0 | AM89: 3 | AN89: 0 | AO89: 0 | AP89: 0 | AQ89: 3
C90: 其他 | D90: 0 | E90: 0 | F90: 0 | G90: 0 | H90: 0 | I90: 0 | J90: 0 | K90: 0 | L90: 0 | M90: 0 | N90: 0 | O90: 0 | P90: 0 | Q90: 0 | R90: 0 | S90: 0 | T90: 0 | U90: 0 | V90: 0 | W90: 0 | X90: 0 | Y90: 0 | Z90: 0 | AA90: 0 | AB90: 0 | AC90: 0 | AD90: 0 | AE90: 0 | AF90: 0 | AG90: 0 | AH90: 0 | AI90: 0 | AJ90: 0 | AK90: 0 | AL90: 0 | AM90: 0 | AN90: 0 | AO90: 0 | AP90: 0 | AQ90: 0
C91: 不詳 | D91: 0 | E91: 0 | F91: 0 | G91: 0 | H91: 0 | I91: 0 | J91: 0 | K91: 0 | L91: 0 | M91: 0 | N91: 0 | O91: 0 | P91: 0 | Q91: 0 | R91: 0 | S91: 0 | T91: 0 | U91: 0 | V91: 0 | W91: 0 | X91: 0 | Y91: 0 | Z91: 0 | AA91: 0 | AB91: 0 | AC91: 0 | AD91: 0 | AE91: 0 | AF91: 0 | AG91: 4 | AH91: 0 | AI91: 0 | AJ91: 0 | AK91: 0 | AL91: 0 | AM91: 0 | AN91: 0 | AO91: 0 | AP91: 0 | AQ91: 4
A92: 澎湖縣 | C92: 計 | D92: 23 | E92: 22 | F92: 1 | G92: 0 | H92: 0 | I92: 0 | J92: 0 | K92: 23 | L92: 1 | M92: 1 | N92: 11 | O92: 1 | P92: 0 | Q92: 3 | R92: 5 | S92: 1 | T92: 0 | U92: 0 | V92: 23 | W92: 21 | X92: 1 | Y92: 0 | Z92: 1 | AA92: 0 | AB92: 0 | AC92: 0 | AD92: 0 | AE92: 0 | AF92: 0 | AG92: 20 | AH92: 0 | AI92: 0 | AJ92: 4 | AK92: 0 | AL92: 2 | AM92: 2 | AN92: 7 | AO92: 2 | AP92: 1 | AQ92: 2
C93: 男 | D93: 7 | E93: 7 | F93: 0 | G93: 0 | H93: 0 | I93: 0 | J93: 0 | K93: 7 | L93: 0 | M93: 1 | N93: 5 | O93: 0 | P93: 0 | Q93: 1 | R93: 0 | S93: 0 | T93: 0 | U93: 0 | V93: 7 | W93: 7 | X93: 0 | Y93: 0 | Z93: 0 | AA93: 0 | AB93: 0 | AC93: 0 | AD93: 0 | AE93: 0 | AF93: 0 | AG93: 15 | AH93: 0 | AI93: 0 | AJ93: 2 | AK93: 0 | AL93: 0 | AM93: 1 | AN93: 7 | AO93: 2 | AP93: 1 | AQ93: 2
C94: 女 | D94: 16 | E94: 15 | F94: 1 | G94: 0 | H94: 0 | I94: 0 | J94: 0 | K94: 16 | L94: 1 | M94: 0 | N94: 6 | O94: 1 | P94: 0 | Q94: 2 | R94: 5 | S94: 1 | T94: 0 | U94: 0 | V94: 16 | W94: 14 | X94: 1 | Y94: 0 | Z94: 1 | AA94: 0 | AB94: 0 | AC94: 0 | AD94: 0 | AE94: 0 | AF94: 0 | AG94: 5 | AH94: 0 | AI94: 0 | AJ94: 2 | AK94: 0 | AL94: 2 | AM94: 1 | AN94: 0 | AO94: 0 | AP94: 0 | AQ94: 0
C95: 其他 | D95: 0 | E95: 0 | F95: 0 | G95: 0 | H95: 0 | I95: 0 | J95: 0 | K95: 0 | L95: 0 | M95: 0 | N95: 0 | O95: 0 | P95: 0 | Q95: 0 | R95: 0 | S95: 0 | T95: 0 | U95: 0 | V95: 0 | W95: 0 | X95: 0 | Y95: 0 | Z95: 0 | AA95: 0 | AB95: 0 | AC95: 0 | AD95: 0 | AE95: 0 | AF95: 0 | AG95: 0 | AH95: 0 | AI95: 0 | AJ95: 0 | AK95: 0 | AL95: 0 | AM95: 0 | AN95: 0 | AO95: 0 | AP95: 0 | AQ95: 0
C96: 不詳 | D96: 0 | E96: 0 | F96: 0 | G96: 0 | H96: 0 | I96: 0 | J96: 0 | K96: 0 | L96: 0 | M96: 0 | N96: 0 | O96: 0 | P96: 0 | Q96: 0 | R96: 0 | S96: 0 | T96: 0 | U96: 0 | V96: 0 | W96: 0 | X96: 0 | Y96: 0 | Z96: 0 | AA96: 0 | AB96: 0 | AC96: 0 | AD96: 0 | AE96: 0 | AF96: 0 | AG96: 0 | AH96: 0 | AI96: 0 | AJ96: 0 | AK96: 0 | AL96: 0 | AM96: 0 | AN96: 0 | AO96: 0 | AP96: 0 | AQ96: 0
A97: 基隆市 | C97: 計 | D97: 155 | E97: 138 | F97: 11 | G97: 0 | H97: 0 | I97: 0 | J97: 6 | K97: 155 | L97: 4 | M97: 14 | N97: 89 | O97: 11 | P97: 10 | Q97: 12 | R97: 9 | S97: 5 | T97: 0 | U97: 1 | V97: 155 | W97: 133 | X97: 8 | Y97: 0 | Z97: 6 | AA97: 0 | AB97: 0 | AC97: 1 | AD97: 3 | AE97: 3 | AF97: 1 | AG97: 129 | AH97: 0 | AI97: 5 | AJ97: 36 | AK97: 18 | AL97: 8 | AM97: 11 | AN97: 13 | AO97: 7 | AP97: 3 | AQ97: 28
C98: 男 | D98: 29 | E98: 28 | F98: 1 | G98: 0 | H98: 0 | I98: 0 | J98: 0 | K98: 29 | L98: 1 | M98: 6 | N98: 19 | O98: 0 | P98: 3 | Q98: 0 | R98: 0 | S98: 0 | T98: 0 | U98: 0 | V98: 29 | W98: 28 | X98: 0 | Y98: 0 | Z98: 0 | AA98: 0 | AB98: 0 | AC98: 0 | AD98: 1 | AE98: 0 | AF98: 0 | AG98: 106 | AH98: 0 | AI98: 5 | AJ98: 25 | AK98: 18 | AL98: 8 | AM98: 10 | AN98: 13 | AO98: 7 | AP98: 3 | AQ98: 17
C99: 女 | D99: 126 | E99: 110 | F99: 10 | G99: 0 | H99: 0 | I99: 0 | J99: 6 | K99: 126 | L99: 3 | M99: 8 | N99: 70 | O99: 11 | P99: 7 | Q99: 12 | R99: 9 | S99: 5 | T99: 0 | U99: 1 | V99: 126 | W99: 105 | X99: 8 | Y99: 0 | Z99: 6 | AA99: 0 | AB99: 0 | AC99: 1 | AD99: 2 | AE99: 3 | AF99: 1 | AG99: 13 | AH99: 0 | AI99: 0 | AJ99: 11 | AK99: 0 | AL99: 0 | AM99: 1 | AN99: 0 | AO99: 0 | AP99: 0 | AQ99: 1
C100: 其他 | D100: 0 | E100: 0 | F100: 0 | G100: 0 | H100: 0 | I100: 0 | J100: 0 | K100: 0 | L100: 0 | M100: 0 | N100: 0 | O100: 0 | P100: 0 | Q100: 0 | R100: 0 | S100: 0 | T100: 0 | U100: 0 | V100: 0 | W100: 0 | X100: 0 | Y100: 0 | Z100: 0 | AA100: 0 | AB100: 0 | AC100: 0 | AD100: 0 | AE100: 0 | AF100: 0 | AG100: 0 | AH100: 0 | AI100: 0 | AJ100: 0 | AK100: 0 | AL100: 0 | AM100: 0 | AN100: 0 | AO100: 0 | AP100: 0 | AQ100: 0
C101: 不詳 | D101: 0 | E101: 0 | F101: 0 | G101: 0 | H101: 0 | I101: 0 | J101: 0 | K101: 0 | L101: 0 | M101: 0 | N101: 0 | O101: 0 | P101: 0 | Q101: 0 | R101: 0 | S101: 0 | T101: 0 | U101: 0 | V101: 0 | W101: 0 | X101: 0 | Y101: 0 | Z101: 0 | AA101: 0 | AB101: 0 | AC101: 0 | AD101: 0 | AE101: 0 | AF101: 0 | AG101: 10 | AH101: 0 | AI101: 0 | AJ101: 0 | AK101: 0 | AL101: 0 | AM101: 0 | AN101: 0 | AO101: 0 | AP101: 0 | AQ101: 10
...

Sheet 113
A1: 5.2-02 性侵害事件通報被害及嫌疑人概況
A2: 民國113年
A4: 區域別 | C4: 性別 | D4: 性侵害被害人統計(人) | AG4: 性侵害嫌疑人年齡統計(人)
D5: 國籍、身分別 | K5: 年齡別 | V5: 身心障礙別 | AG5: 年齡別
D6: 合計 | E6: 本國籍 非原住民 | F6: 本國籍 原住民 | G6: 大陸及 港澳籍 | H6: 外國籍 | I6: 無國籍 | J6: 資料 不明 | K6: 合計 | L6: 0-未滿6歲 | M6: 6-未滿12歲 | N6: 12-未滿18歲 | O6: 18-未滿24歲 | P6: 24-未滿30歲 | Q6: 30-未滿40歲 | R6: 40-未滿50歲 | S6: 50-未滿65歲 | T6: 65歲 以上 | U6: 不詳 | V6: 合計 | W6: 非身心 障礙 | X6: 智障 | Y6: 視障 | Z6: 精神 病患 | AA6: 聲(語)障 | AB6: 聽障 | AC6: 肢障 | AD6: 多重 障礙 | AE6: 其他 障礙 | AF6: 不詳 | AG6: 合計 | AH6: 0-未滿6歲 | AI6: 6-未滿12歲 | AJ6: 12-未滿18歲 | AK6: 18-未滿24歲 | AL6: 24-未滿30歲 | AM6: 30-未滿40歲 | AN6: 40-未滿50歲 | AO6: 50-未滿65歲 | AP6: 65歲 以上 | AQ6: 不詳
A7: 113年, 2024 | C7: 計 | D7: 9230 | E7: 8138 | F7: 715 | G7: 33 | H7: 169 | I7: 0 | J7: 175 | K7: 9230 | L7: 268 | M7: 830 | N7: 3695 | O7: 1383 | P7: 970 | Q7: 1079 | R7: 631 | S7: 267 | T7: 76 | U7: 31 | V7: 9230 | W7: 8124 | X7: 399 | Y7: 12 | Z7: 312 | AA7: 12 | AB7: 29 | AC7: 37 | AD7: 98 | AE7: 109 | AF7: 98 | AG7: 8471 | AH7: 19 | AI7: 195 | AJ7: 1702 | AK7: 999 | AL7: 615 | AM7: 853 | AN7: 781 | AO7: 633 | AP7: 313 | AQ7: 2361
C8: 男 | D8: 1612 | E8: 1391 | F8: 164 | G8: 3 | H8: 11 | I8: 0 | J8: 43 | K8: 1612 | L8: 45 | M8: 263 | N8: 877 | O8: 157 | P8: 99 | Q8: 105 | R8: 37 | S8: 21 | T8: 5 | U8: 3 | V8: 1612 | W8: 1414 | X8: 78 | Y8: 2 | Z8: 34 | AA8: 3 | AB8: 5 | AC8: 8 | AD8: 24 | AE8: 34 | AF8: 10 | AG8: 7442 | AH8: 13 | AI8: 154 | AJ8: 1208 | AK8: 944 | AL8: 601 | AM8: 817 | AN8: 745 | AO8: 620 | AP8: 307 | AQ8: 2033
C9: 女 | D9: 7572 | E9: 6714 | F9: 547 | G9: 30 | H9: 157 | I9: 0 | J9: 124 | K9: 7572 | L9: 222 | M9: 564 | N9: 2787 | O9: 1224 | P9: 869 | Q9: 968 | R9: 594 | S9: 245 | T9: 71 | U9: 28 | V9: 7572 | W9: 6671 | X9: 320 | Y9: 10 | Z9: 277 | AA9: 9 | AB9: 24 | AC9: 29 | AD9: 72 | AE9: 74 | AF9: 86 | AG9: 790 | AH9: 6 | AI9: 41 | AJ9: 489 | AK9: 48 | AL9: 12 | AM9: 31 | AN9: 34 | AO9: 11 | AP9: 5 | AQ9: 113
C10: 其他 | D10: 6 | E10: 4 | F10: 0 | G10: 0 | H10: 1 | I10: 0 | J10: 1 | K10: 6 | L10: 0 | M10: 0 | N10: 1 | O10: 2 | P10: 0 | Q10: 2 | R10: 0 | S10: 1 | T10: 0 | U10: 0 | V10: 6 | W10: 4 | X10: 0 | Y10: 0 | Z10: 1 | AA10: 0 | AB10: 0 | AC10: 0 | AD10: 0 | AE10: 0 | AF10: 1 | AG10: 0 | AH10: 0 | AI10: 0 | AJ10: 0 | AK10: 0 | AL10: 0 | AM10: 0 | AN10: 0 | AO10: 0 | AP10: 0 | AQ10: 0
C11: 不詳 | D11: 40 | E11: 29 | F11: 4 | G11: 0 | H11: 0 | I11: 0 | J11: 7 | K11: 40 | L11: 1 | M11: 3 | N11: 30 | O11: 0 | P11: 2 | Q11: 4 | R11: 0 | S11: 0 | T11: 0 | U11: 0 | V11: 40 | W11: 35 | X11: 1 | Y11: 0 | Z11: 0 | AA11: 0 | AB11: 0 | AC11: 0 | AD11: 2 | AE11: 1 | AF11: 1 | AG11: 239 | AH11: 0 | AI11: 0 | AJ11: 5 | AK11: 7 | AL11: 2 | AM11: 5 | AN11: 2 | AO11: 2 | AP11: 1 | AQ11: 215
A12: 新北市 | C12: 計 | D12: 1716 | E12: 1568 | F12: 74 | G12: 0 | H12: 22 | I12: 0 | J12: 52 | K12: 1716 | L12: 53 | M12: 165 | N12: 741 | O12: 218 | P12: 201 | Q12: 183 | R12: 97 | S12: 36 | T12: 12 | U12: 10 | V12: 1716 | W12: 1515 | X12: 57 | Y12: 4 | Z12: 57 | AA12: 0 | AB12: 4 | AC12: 5 | AD12: 13 | AE12: 25 | AF12: 36 | AG12: 1650 | AH12: 4 | AI12: 30 | AJ12: 313 | AK12: 178 | AL12: 105 | AM12: 128 | AN12: 146 | AO12: 85 | AP12: 54 | AQ12: 607
C13: 男 | D13: 283 | E13: 261 | F13: 13 | G13: 0 | H13: 1 | I13: 0 | J13: 8 | K13: 283 | L13: 11 | M13: 42 | N13: 164 | O13: 19 | P13: 19 | Q13: 15 | R13: 6 | S13: 3 | T13: 2 | U13: 2 | V13: 283 | W13: 252 | X13: 9 | Y13: 2 | Z13: 7 | AA13: 0 | AB13: 0 | AC13: 1 | AD13: 2 | AE13: 7 | AF13: 3 | AG13: 1447 | AH13: 3 | AI13: 20 | AJ13: 228 | AK13: 170 | AL13: 101 | AM13: 125 | AN13: 140 | AO13: 85 | AP13: 51 | AQ13: 524
C14: 女 | D14: 1420 | E14: 1298 | F14: 61 | G14: 0 | H14: 21 | I14: 0 | J14: 40 | K14: 1420 | L14: 41 | M14: 122 | N14: 569 | O14: 199 | P14: 182 | Q14: 166 | R14: 91 | S14: 32 | T14: 10 | U14: 8 | V14: 1420 | W14: 1254 | X14: 47 | Y14: 2 | Z14: 49 | AA14: 0 | AB14: 4 | AC14: 4 | AD14: 9 | AE14: 18 | AF14: 33 | AG14: 160 | AH14: 1 | AI14: 10 | AJ14: 85 | AK14: 8 | AL14: 4 | AM14: 3 | AN14: 6 | AO14: 0 | AP14: 2 | AQ14: 41
C15: 其他 | D15: 2 | E15: 1 | F15: 0 | G15: 0 | H15: 0 | I15: 0 | J15: 1 | K15: 2 | L15: 0 | M15: 0 | N15: 0 | O15: 0 | P15: 0 | Q15: 1 | R15: 0 | S15: 1 | T15: 0 | U15: 0 | V15: 2 | W15: 1 | X15: 0 | Y15: 0 | Z15: 1 | AA15: 0 | AB15: 0 | AC15: 0 | AD15: 0 | AE15: 0 | AF15: 0 | AG15: 0 | AH15: 0 | AI15: 0 | AJ15: 0 | AK15: 0 | AL15: 0 | AM15: 0 | AN15: 0 | AO15: 0 | AP15: 0 | AQ15: 0
C16: 不詳 | D16: 11 | E16: 8 | F16: 0 | G16: 0 | H16: 0 | I16: 0 | J16: 3 | K16: 11 | L16: 1 | M16: 1 | N16: 8 | O16: 0 | P16: 0 | Q16: 1 | R16: 0 | S16: 0 | T16: 0 | U16: 0 | V16: 11 | W16: 8 | X16: 1 | Y16: 0 | Z16: 0 | AA16: 0 | AB16: 0 | AC16: 0 | AD16: 2 | AE16: 0 | AF16: 0 | AG16: 43 | AH16: 0 | AI16: 0 | AJ16: 0 | AK16: 0 | AL16: 0 | AM16: 0 | AN16: 0 | AO16: 0 | AP16: 1 | AQ16: 42
A17: 臺北市 | C17: 計 | D17: 938 | E17: 850 | F17: 16 | G17: 12 | H17: 35 | I17: 0 | J17: 25 | K17: 938 | L17: 33 | M17: 70 | N17: 225 | O17: 184 | P17: 146 | Q17: 163 | R17: 72 | S17: 34 | T17: 9 | U17: 2 | V17: 938 | W17: 815 | X17: 21 | Y17: 2 | Z17: 47 | AA17: 0 | AB17: 1 | AC17: 5 | AD17: 10 | AE17: 16 | AF17: 21 | AG17: 784 | AH17: 3 | AI17: 19 | AJ17: 112 | AK17: 56 | AL17: 55 | AM17: 80 | AN17: 61 | AO17: 67 | AP17: 31 | AQ17: 300
C18: 男 | D18: 132 | E18: 119 | F18: 2 | G18: 2 | H18: 3 | I18: 0 | J18: 6 | K18: 132 | L18: 5 | M18: 22 | N18: 52 | O18: 20 | P18: 13 | Q18: 14 | R18: 3 | S18: 2 | T18: 1 | U18: 0 | V18: 132 | W18: 113 | X18: 4 | Y18: 0 | Z18: 4 | AA18: 0 | AB18: 1 | AC18: 1 | AD18: 1 | AE18: 6 | AF18: 2 | AG18: 697 | AH18: 1 | AI18: 15 | AJ18: 91 | AK18: 53 | AL18: 53 | AM18: 70 | AN18: 56 | AO18: 62 | AP18: 30 | AQ18: 266
C19: 女 | D19: 800 | E19: 726 | F19: 14 | G19: 10 | H19: 31 | I19: 0 | J19: 19 | K19: 800 | L19: 28 | M19: 47 | N19: 171 | O19: 162 | P19: 132 | Q19: 149 | R19: 69 | S19: 32 | T19: 8 | U19: 2 | V19: 800 | W19: 698 | X19: 17 | Y19: 2 | Z19: 43 | AA19: 0 | AB19: 0 | AC19: 4 | AD19: 9 | AE19: 9 | AF19: 18 | AG19: 56 | AH19: 2 | AI19: 4 | AJ19: 20 | AK19: 1 | AL19: 2 | AM19: 7 | AN19: 4 | AO19: 5 | AP19: 1 | AQ19: 10
C20: 其他 | D20: 2 | E20: 1 | F20: 0 | G20: 0 | H20: 1 | I20: 0 | J20: 0 | K20: 2 | L20: 0 | M20: 0 | N20: 0 | O20: 2 | P20: 0 | Q20: 0 | R20: 0 | S20: 0 | T20: 0 | U20: 0 | V20: 2 | W20: 1 | X20: 0 | Y20: 0 | Z20: 0 | AA20: 0 | AB20: 0 | AC20: 0 | AD20: 0 | AE20: 0 | AF20: 1 | AG20: 0 | AH20: 0 | AI20: 0 | AJ20: 0 | AK20: 0 | AL20: 0 | AM20: 0 | AN20: 0 | AO20: 0 | AP20: 0 | AQ20: 0
C21: 不詳 | D21: 4 | E21: 4 | F21: 0 | G21: 0 | H21: 0 | I21: 0 | J21: 0 | K21: 4 | L21: 0 | M21: 1 | N21: 2 | O21: 0 | P21: 1 | Q21: 0 | R21: 0 | S21: 0 | T21: 0 | U21: 0 | V21: 4 | W21: 3 | X21: 0 | Y21: 0 | Z21: 0 | AA21: 0 | AB21: 0 | AC21: 0 | AD21: 0 | AE21: 1 | AF21: 0 | AG21: 31 | AH21: 0 | AI21: 0 | AJ21: 1 | AK21: 2 | AL21: 0 | AM21: 3 | AN21: 1 | AO21: 0 | AP21: 0 | AQ21: 24
A22: 桃園市 | C22: 計 | D22: 1071 | E22: 923 | F22: 115 | G22: 2 | H22: 31 | I22: 0 | J22: 0 | K22: 1071 | L22: 18 | M22: 84 | N22: 479 | O22: 155 | P22: 88 | Q22: 128 | R22: 87 | S22: 26 | T22: 4 | U22: 2 | V22: 1071 | W22: 965 | X22: 39 | Y22: 1 | Z22: 38 | AA22: 1 | AB22: 8 | AC22: 2 | AD22: 11 | AE22: 4 | AF22: 2 | AG22: 1066 | AH22: 2 | AI22: 25 | AJ22: 228 | AK22: 132 | AL22: 63 | AM22: 115 | AN22: 105 | AO22: 67 | AP22: 32 | AQ22: 297
C23: 男 | D23: 175 | E23: 151 | F23: 22 | G23: 0 | H23: 2 | I23: 0 | J23: 0 | K23: 175 | L23: 2 | M23: 23 | N23: 108 | O23: 18 | P23: 9 | Q23: 8 | R23: 6 | S23: 1 | T23: 0 | U23: 0 | V23: 175 | W23: 154 | X23: 12 | Y23: 0 | Z23: 2 | AA23: 0 | AB23: 1 | AC23: 1 | AD23: 3 | AE23: 1 | AF23: 1 | AG23: 921 | AH23: 1 | AI23: 18 | AJ23: 152 | AK23: 124 | AL23: 62 | AM23: 115 | AN23: 97 | AO23: 64 | AP23: 32 | AQ23: 256
C24: 女 | D24: 892 | E24: 769 | F24: 92 | G24: 2 | H24: 29 | I24: 0 | J24: 0 | K24: 892 | L24: 16 | M24: 61 | N24: 368 | O24: 137 | P24: 79 | Q24: 119 | R24: 81 | S24: 25 | T24: 4 | U24: 2 | V24: 892 | W24: 807 | X24: 27 | Y24: 1 | Z24: 36 | AA24: 1 | AB24: 7 | AC24: 1 | AD24: 8 | AE24: 3 | AF24: 1 | AG24: 114 | AH24: 1 | AI24: 7 | AJ24: 76 | AK24: 6 | AL24: 1 | AM24: 0 | AN24: 7 | AO24: 3 | AP24: 0 | AQ24: 13
C25: 其他 | D25: 0 | E25: 0 | F25: 0 | G25: 0 | H25: 0 | I25: 0 | J25: 0 | K25: 0 | L25: 0 | M25: 0 | N25: 0 | O25: 0 | P25: 0 | Q25: 0 | R25: 0 | S25: 0 | T25: 0 | U25: 0 | V25: 0 | W25: 0 | X25: 0 | Y25: 0 | Z25: 0 | AA25: 0 | AB25: 0 | AC25: 0 | AD25: 0 | AE25: 0 | AF25: 0 | AG25: 0 | AH25: 0 | AI25: 0 | AJ25: 0 | AK25: 0 | AL25: 0 | AM25: 0 | AN25: 0 | AO25: 0 | AP25: 0 | AQ25: 0
C26: 不詳 | D26: 4 | E26: 3 | F26: 1 | G26: 0 | H26: 0 | I26: 0 | J26: 0 | K26: 4 | L26: 0 | M26: 0 | N26: 3 | O26: 0 | P26: 0 | Q26: 1 | R26: 0 | S26: 0 | T26: 0 | U26: 0 | V26: 4 | W26: 4 | X26: 0 | Y26: 0 | Z26: 0 | AA26: 0 | AB26: 0 | AC26: 0 | AD26: 0 | AE26: 0 | AF26: 0 | AG26: 31 | AH26: 0 | AI26: 0 | AJ26: 0 | AK26: 2 | AL26: 0 | AM26: 0 | AN26: 1 | AO26: 0 | AP26: 0 | AQ26: 28
A27: 臺中市 | C27: 計 | D27: 1234 | E27: 1119 | F27: 52 | G27: 6 | H27: 18 | I27: 0 | J27: 39 | K27: 1234 | L27: 35 | M27: 96 | N27: 434 | O27: 205 | P27: 159 | Q27: 171 | R27: 86 | S27: 37 | T27: 7 | U27: 4 | V27: 1234 | W27: 1119 | X27: 30 | Y27: 0 | Z27: 37 | AA27: 3 | AB27: 6 | AC27: 4 | AD27: 10 | AE27: 17 | AF27: 8 | AG27: 1038 | AH27: 2 | AI27: 18 | AJ27: 191 | AK27: 113 | AL27: 89 | AM27: 131 | AN27: 103 | AO27: 78 | AP27: 32 | AQ27: 281
C28: 男 | D28: 235 | E28: 204 | F28: 14 | G28: 0 | H28: 1 | I28: 0 | J28: 16 | K28: 235 | L28: 3 | M28: 38 | N28: 122 | O28: 21 | P28: 21 | Q28: 23 | R28: 4 | S28: 3 | T28: 0 | U28: 0 | V28: 235 | W28: 211 | X28: 7 | Y28: 0 | Z28: 4 | AA28: 1 | AB28: 2 | AC28: 0 | AD28: 5 | AE28: 5 | AF28: 0 | AG28: 910 | AH28: 2 | AI28: 13 | AJ28: 137 | AK28: 109 | AL28: 89 | AM28: 125 | AN28: 98 | AO28: 78 | AP28: 31 | AQ28: 228
C29: 女 | D29: 990 | E29: 908 | F29: 38 | G29: 6 | H29: 17 | I29: 0 | J29: 21 | K29: 990 | L29: 32 | M29: 58 | N29: 304 | O29: 184 | P29: 138 | Q29: 147 | R29: 82 | S29: 34 | T29: 7 | U29: 4 | V29: 990 | W29: 899 | X29: 23 | Y29: 0 | Z29: 33 | AA29: 2 | AB29: 4 | AC29: 4 | AD29: 5 | AE29: 12 | AF29: 8 | AG29: 93 | AH29: 0 | AI29: 5 | AJ29: 52 | AK29: 3 | AL29: 0 | AM29: 6 | AN29: 5 | AO29: 0 | AP29: 1 | AQ29: 21
C30: 其他 | D30: 0 | E30: 0 | F30: 0 | G30: 0 | H30: 0 | I30: 0 | J30: 0 | K30: 0 | L30: 0 | M30: 0 | N30: 0 | O30: 0 | P30: 0 | Q30: 0 | R30: 0 | S30: 0 | T30: 0 | U30: 0 | V30: 0 | W30: 0 | X30: 0 | Y30: 0 | Z30: 0 | AA30: 0 | AB30: 0 | AC30: 0 | AD30: 0 | AE30: 0 | AF30: 0 | AG30: 0 | AH30: 0 | AI30: 0 | AJ30: 0 | AK30: 0 | AL30: 0 | AM30: 0 | AN30: 0 | AO30: 0 | AP30: 0 | AQ30: 0
C31: 不詳 | D31: 9 | E31: 7 | F31: 0 | G31: 0 | H31: 0 | I31: 0 | J31: 2 | K31: 9 | L31: 0 | M31: 0 | N31: 8 | O31: 0 | P31: 0 | Q31: 1 | R31: 0 | S31: 0 | T31: 0 | U31: 0 | V31: 9 | W31: 9 | X31: 0 | Y31: 0 | Z31: 0 | AA31: 0 | AB31: 0 | AC31: 0 | AD31: 0 | AE31: 0 | AF31: 0 | AG31: 35 | AH31: 0 | AI31: 0 | AJ31: 2 | AK31: 1 | AL31: 0 | AM31: 0 | AN31: 0 | AO31: 0 | AP31: 0 | AQ31: 32
A32: 臺南市 | C32: 計 | D32: 639 | E32: 613 | F32: 15 | G32: 1 | H32: 7 | I32: 0 | J32: 3 | K32: 639 | L32: 22 | M32: 55 | N32: 233 | O32: 103 | P32: 69 | Q32: 72 | R32: 53 | S32: 21 | T32: 10 | U32: 1 | V32: 639 | W32: 561 | X32: 31 | Y32: 1 | Z32: 20 | AA32: 0 | AB32: 1 | AC32: 0 | AD32: 10 | AE32: 10 | AF32: 5 | AG32: 597 | AH32: 0 | AI32: 15 | AJ32: 112 | AK32: 78 | AL32: 54 | AM32: 72 | AN32: 58 | AO32: 61 | AP32: 28 | AQ32: 119
C33: 男 | D33: 118 | E33: 114 | F33: 2 | G33: 1 | H33: 1 | I33: 0 | J33: 0 | K33: 118 | L33: 4 | M33: 18 | N33: 67 | O33: 11 | P33: 8 | Q33: 8 | R33: 2 | S33: 0 | T33: 0 | U33: 0 | V33: 118 | W33: 101 | X33: 7 | Y33: 0 | Z33: 3 | AA33: 0 | AB33: 0 | AC33: 0 | AD33: 2 | AE33: 4 | AF33: 1 | AG33: 532 | AH33: 0 | AI33: 15 | AJ33: 72 | AK33: 74 | AL33: 52 | AM33: 72 | AN33: 57 | AO33: 59 | AP33: 28 | AQ33: 103
C34: 女 | D34: 520 | E34: 499 | F34: 13 | G34: 0 | H34: 6 | I34: 0 | J34: 2 | K34: 520 | L34: 18 | M34: 37 | N34: 166 | O34: 92 | P34: 60 | Q34: 64 | R34: 51 | S34: 21 | T34: 10 | U34: 1 | V34: 520 | W34: 460 | X34: 24 | Y34: 1 | Z34: 17 | AA34: 0 | AB34: 1 | AC34: 0 | AD34: 8 | AE34: 6 | AF34: 3 | AG34: 55 | AH34: 0 | AI34: 0 | AJ34: 40 | AK34: 4 | AL34: 2 | AM34: 0 | AN34: 1 | AO34: 2 | AP34: 0 | AQ34: 6
C35: 其他 | D35: 0 | E35: 0 | F35: 0 | G35: 0 | H35: 0 | I35: 0 | J35: 0 | K35: 0 | L35: 0 | M35: 0 | N35: 0 | O35: 0 | P35: 0 | Q35: 0 | R35: 0 | S35: 0 | T35: 0 | U35: 0 | V35: 0 | W35: 0 | X35: 0 | Y35: 0 | Z35: 0 | AA35: 0 | AB35: 0 | AC35: 0 | AD35: 0 | AE35: 0 | AF35: 0 | AG35: 0 | AH35: 0 | AI35: 0 | AJ35: 0 | AK35: 0 | AL35: 0 | AM35: 0 | AN35: 0 | AO35: 0 | AP35: 0 | AQ35: 0
C36: 不詳 | D36: 1 | E36: 0 | F36: 0 | G36: 0 | H36: 0 | I36: 0 | J36: 1 | K36: 1 | L36: 0 | M36: 0 | N36: 0 | O36: 0 | P36: 1 | Q36: 0 | R36: 0 | S36: 0 | T36: 0 | U36: 0 | V36: 1 | W36: 0 | X36: 0 | Y36: 0 | Z36: 0 | AA36: 0 | AB36: 0 | AC36: 0 | AD36: 0 | AE36: 0 | AF36: 1 | AG36: 10 | AH36: 0 | AI36: 0 | AJ36: 0 | AK36: 0 | AL36: 0 | AM36: 0 | AN36: 0 | AO36: 0 | AP36: 0 | AQ36: 10
A37: 高雄市 | C37: 計 | D37: 983 | E37: 914 | F37: 49 | G37: 5 | H37: 15 | I37: 0 | J37: 0 | K37: 983 | L37: 40 | M37: 81 | N37: 367 | O37: 172 | P37: 94 | Q37: 111 | R37: 72 | S37: 34 | T37: 10 | U37: 2 | V37: 983 | W37: 870 | X37: 48 | Y37: 0 | Z37: 34 | AA37: 5 | AB37: 0 | AC37: 5 | AD37: 4 | AE37: 10 | AF37: 7 | AG37: 880 | AH37: 6 | AI37: 34 | AJ37: 175 | AK37: 110 | AL37: 77 | AM37: 99 | AN37: 81 | AO37: 82 | AP37: 29 | AQ37: 187
C38: 男 | D38: 163 | E38: 147 | F38: 14 | G38: 0 | H38: 2 | I38: 0 | J38: 0 | K38: 163 | L38: 6 | M38: 29 | N38: 82 | O38: 22 | P38: 7 | Q38: 11 | R38: 3 | S38: 3 | T38: 0 | U38: 0 | V38: 163 | W38: 145 | X38: 8 | Y38: 0 | Z38: 3 | AA38: 2 | AB38: 0 | AC38: 1 | AD38: 1 | AE38: 3 | AF38: 0 | AG38: 781 | AH38: 5 | AI38: 30 | AJ38: 121 | AK38: 104 | AL38: 77 | AM38: 93 | AN38: 78 | AO38: 82 | AP38: 29 | AQ38: 162
C39: 女 | D39: 819 | E39: 766 | F39: 35 | G39: 5 | H39: 13 | I39: 0 | J39: 0 | K39: 819 | L39: 34 | M39: 52 | N39: 285 | O39: 150 | P39: 87 | Q39: 99 | R39: 69 | S39: 31 | T39: 10 | U39: 2 | V39: 819 | W39: 724 | X39: 40 | Y39: 0 | Z39: 31 | AA39: 3 | AB39: 0 | AC39: 4 | AD39: 3 | AE39: 7 | AF39: 7 | AG39: 77 | AH39: 1 | AI39: 4 | AJ39: 54 | AK39: 5 | AL39: 0 | AM39: 5 | AN39: 3 | AO39: 0 | AP39: 0 | AQ39: 5
C40: 其他 | D40: 1 | E40: 1 | F40: 0 | G40: 0 | H40: 0 | I40: 0 | J40: 0 | K40: 1 | L40: 0 | M40: 0 | N40: 0 | O40: 0 | P40: 0 | Q40: 1 | R40: 0 | S40: 0 | T40: 0 | U40: 0 | V40: 1 | W40: 1 | X40: 0 | Y40: 0 | Z40: 0 | AA40: 0 | AB40: 0 | AC40: 0 | AD40: 0 | AE40: 0 | AF40: 0 | AG40: 0 | AH40: 0 | AI40: 0 | AJ40: 0 | AK40: 0 | AL40: 0 | AM40: 0 | AN40: 0 | AO40: 0 | AP40: 0 | AQ40: 0
C41: 不詳 | D41: 0 | E41: 0 | F41: 0 | G41: 0 | H41: 0 | I41: 0 | J41: 0 | K41: 0 | L41: 0 | M41: 0 | N41: 0 | O41: 0 | P41: 0 | Q41: 0 | R41: 0 | S41: 0 | T41: 0 | U41: 0 | V41: 0 | W41: 0 | X41: 0 | Y41: 0 | Z41: 0 | AA41: 0 | AB41: 0 | AC41: 0 | AD41: 0 | AE41: 0 | AF41: 0 | AG41: 22 | AH41: 0 | AI41: 0 | AJ41: 0 | AK41: 1 | AL41: 0 | AM41: 1 | AN41: 0 | AO41: 0 | AP41: 0 | AQ41: 20
A42: 宜蘭縣 | C42: 計 | D42: 168 | E42: 137 | F42: 25 | G42: 0 | H42: 2 | I42: 0 | J42: 4 | K42: 168 | L42: 6 | M42: 20 | N42: 87 | O42: 19 | P42: 9 | Q42: 11 | R42: 9 | S42: 4 | T42: 3 | U42: 0 | V42: 168 | W42: 149 | X42: 12 | Y42: 0 | Z42: 1 | AA42: 0 | AB42: 0 | AC42: 1 | AD42: 2 | AE42: 2 | AF42: 1 | AG42: 148 | AH42: 0 | AI42: 9 | AJ42: 27 | AK42: 27 | AL42: 4 | AM42: 15 | AN42: 8 | AO42: 14 | AP42: 5 | AQ42: 39
C43: 男 | D43: 30 | E43: 21 | F43: 8 | G43: 0 | H43: 1 | I43: 0 | J43: 0 | K43: 30 | L43: 2 | M43: 2 | N43: 18 | O43: 2 | P43: 3 | Q43: 1 | R43: 1 | S43: 0 | T43: 1 | U43: 0 | V43: 30 | W43: 25 | X43: 3 | Y43: 0 | Z43: 0 | AA43: 0 | AB43: 0 | AC43: 0 | AD43: 1 | AE43: 1 | AF43: 0 | AG43: 129 | AH43: 0 | AI43: 7 | AJ43: 17 | AK43: 26 | AL43: 4 | AM43: 15 | AN43: 8 | AO43: 13 | AP43: 5 | AQ43: 34
C44: 女 | D44: 136 | E44: 115 | F44: 17 | G44: 0 | H44: 1 | I44: 0 | J44: 3 | K44: 136 | L44: 4 | M44: 18 | N44: 68 | O44: 17 | P44: 6 | Q44: 9 | R44: 8 | S44: 4 | T44: 2 | U44: 0 | V44: 136 | W44: 122 | X44: 9 | Y44: 0 | Z44: 1 | AA44: 0 | AB44: 0 | AC44: 1 | AD44: 1 | AE44: 1 | AF44: 1 | AG44: 15 | AH44: 0 | AI44: 2 | AJ44: 9 | AK44: 1 | AL44: 0 | AM44: 0 | AN44: 0 | AO44: 1 | AP44: 0 | AQ44: 2
C45: 其他 | D45: 0 | E45: 0 | F45: 0 | G45: 0 | H45: 0 | I45: 0 | J45: 0 | K45: 0 | L45: 0 | M45: 0 | N45: 0 | O45: 0 | P45: 0 | Q45: 0 | R45: 0 | S45: 0 | T45: 0 | U45: 0 | V45: 0 | W45: 0 | X45: 0 | Y45: 0 | Z45: 0 | AA45: 0 | AB45: 0 | AC45: 0 | AD45: 0 | AE45: 0 | AF45: 0 | AG45: 0 | AH45: 0 | AI45: 0 | AJ45: 0 | AK45: 0 | AL45: 0 | AM45: 0 | AN45: 0 | AO45: 0 | AP45: 0 | AQ45: 0
C46: 不詳 | D46: 2 | E46: 1 | F46: 0 | G46: 0 | H46: 0 | I46: 0 | J46: 1 | K46: 2 | L46: 0 | M46: 0 | N46: 1 | O46: 0 | P46: 0 | Q46: 1 | R46: 0 | S46: 0 | T46: 0 | U46: 0 | V46: 2 | W46: 2 | X46: 0 | Y46: 0 | Z46: 0 | AA46: 0 | AB46: 0 | AC46: 0 | AD46: 0 | AE46: 0 | AF46: 0 | AG46: 4 | AH46: 0 | AI46: 0 | AJ46: 1 | AK46: 0 | AL46: 0 | AM46: 0 | AN46: 0 | AO46: 0 | AP46: 0 | AQ46: 3
A47: 新竹縣 | C47: 計 | D47: 288 | E47: 215 | F47: 49 | G47: 1 | H47: 11 | I47: 0 | J47: 12 | K47: 288 | L47: 4 | M47: 44 | N47: 125 | O47: 29 | P47: 24 | Q47: 31 | R47: 21 | S47: 7 | T47: 1 | U47: 2 | V47: 288 | W47: 257 | X47: 17 | Y47: 0 | Z47: 5 | AA47: 0 | AB47: 1 | AC47: 1 | AD47: 4 | AE47: 2 | AF47: 1 | AG47: 221 | AH47: 0 | AI47: 6 | AJ47: 52 | AK47: 25 | AL47: 12 | AM47: 22 | AN47: 20 | AO47: 15 | AP47: 11 | AQ47: 58
C48: 男 | D48: 43 | E48: 28 | F48: 13 | G48: 0 | H48: 0 | I48: 0 | J48: 2 | K48: 43 | L48: 0 | M48: 14 | N48: 23 | O48: 1 | P48: 3 | Q48: 1 | R48: 1 | S48: 0 | T48: 0 | U48: 0 | V48: 43 | W48: 39 | X48: 1 | Y48: 0 | Z48: 3 | AA48: 0 | AB48: 0 | AC48: 0 | AD48: 0 | AE48: 0 | AF48: 0 | AG48: 197 | AH48: 0 | AI48: 4 | AJ48: 39 | AK48: 24 | AL48: 12 | AM48: 22 | AN48: 19 | AO48: 15 | AP48: 11 | AQ48: 51
C49: 女 | D49: 241 | E49: 185 | F49: 34 | G49: 1 | H49: 11 | I49: 0 | J49: 10 | K49: 241 | L49: 4 | M49: 30 | N49: 98 | O49: 28 | P49: 21 | Q49: 30 | R49: 20 | S49: 7 | T49: 1 | U49: 2 | V49: 241 | W49: 214 | X49: 16 | Y49: 0 | Z49: 2 | AA49: 0 | AB49: 1 | AC49: 1 | AD49: 4 | AE49: 2 | AF49: 1 | AG49: 17 | AH49: 0 | AI49: 2 | AJ49: 13 | AK49: 1 | AL49: 0 | AM49: 0 | AN49: 1 | AO49: 0 | AP49: 0 | AQ49: 0
C50: 其他 | D50: 1 | E50: 1 | F50: 0 | G50: 0 | H50: 0 | I50: 0 | J50: 0 | K50: 1 | L50: 0 | M50: 0 | N50: 1 | O50: 0 | P50: 0 | Q50: 0 | R50: 0 | S50: 0 | T50: 0 | U50: 0 | V50: 1 | W50: 1 | X50: 0 | Y50: 0 | Z50: 0 | AA50: 0 | AB50: 0 | AC50: 0 | AD50: 0 | AE50: 0 | AF50: 0 | AG50: 0 | AH50: 0 | AI50: 0 | AJ50: 0 | AK50: 0 | AL50: 0 | AM50: 0 | AN50: 0 | AO50: 0 | AP50: 0 | AQ50: 0
C51: 不詳 | D51: 3 | E51: 1 | F51: 2 | G51: 0 | H51: 0 | I51: 0 | J51: 0 | K51: 3 | L51: 0 | M51: 0 | N51: 3 | O51: 0 | P51: 0 | Q51: 0 | R51: 0 | S51: 0 | T51: 0 | U51: 0 | V51: 3 | W51: 3 | X51: 0 | Y51: 0 | Z51: 0 | AA51: 0 | AB51: 0 | AC51: 0 | AD51: 0 | AE51: 0 | AF51: 0 | AG51: 7 | AH51: 0 | AI51: 0 | AJ51: 0 | AK51: 0 | AL51: 0 | AM51: 0 | AN51: 0 | AO51: 0 | AP51: 0 | AQ51: 7
A52: 苗栗縣 | C52: 計 | D52: 170 | E52: 155 | F52: 11 | G52: 0 | H52: 2 | I52: 0 | J52: 2 | K52: 170 | L52: 4 | M52: 21 | N52: 73 | O52: 26 | P52: 15 | Q52: 13 | R52: 13 | S52: 4 | T52: 1 | U52: 0 | V52: 170 | W52: 147 | X52: 11 | Y52: 0 | Z52: 4 | AA52: 1 | AB52: 1 | AC52: 0 | AD52: 5 | AE52: 1 | AF52: 0 | AG52: 161 | AH52: 0 | AI52: 1 | AJ52: 37 | AK52: 27 | AL52: 13 | AM52: 19 | AN52: 17 | AO52: 8 | AP52: 10 | AQ52: 29
C53: 男 | D53: 25 | E53: 23 | F53: 2 | G53: 0 | H53: 0 | I53: 0 | J53: 0 | K53: 25 | L53: 0 | M53: 4 | N53: 16 | O53: 3 | P53: 0 | Q53: 1 | R53: 1 | S53: 0 | T53: 0 | U53: 0 | V53: 25 | W53: 23 | X53: 1 | Y53: 0 | Z53: 0 | AA53: 0 | AB53: 0 | AC53: 0 | AD53: 1 | AE53: 0 | AF53: 0 | AG53: 152 | AH53: 0 | AI53: 1 | AJ53: 33 | AK53: 27 | AL53: 12 | AM53: 18 | AN53: 17 | AO53: 8 | AP53: 10 | AQ53: 26
C54: 女 | D54: 145 | E54: 132 | F54: 9 | G54: 0 | H54: 2 | I54: 0 | J54: 2 | K54: 145 | L54: 4 | M54: 17 | N54: 57 | O54: 23 | P54: 15 | Q54: 12 | R54: 12 | S54: 4 | T54: 1 | U54: 0 | V54: 145 | W54: 124 | X54: 10 | Y54: 0 | Z54: 4 | AA54: 1 | AB54: 1 | AC54: 0 | AD54: 4 | AE54: 1 | AF54: 0 | AG54: 5 | AH54: 0 | AI54: 0 | AJ54: 4 | AK54: 0 | AL54: 0 | AM54: 1 | AN54: 0 | AO54: 0 | AP54: 0 | AQ54: 0
C55: 其他 | D55: 0 | E55: 0 | F55: 0 | G55: 0 | H55: 0 | I55: 0 | J55: 0 | K55: 0 | L55: 0 | M55: 0 | N55: 0 | O55: 0 | P55: 0 | Q55: 0 | R55: 0 | S55: 0 | T55: 0 | U55: 0 | V55: 0 | W55: 0 | X55: 0 | Y55: 0 | Z55: 0 | AA55: 0 | AB55: 0 | AC55: 0 | AD55: 0 | AE55: 0 | AF55: 0 | AG55: 0 | AH55: 0 | AI55: 0 | AJ55: 0 | AK55: 0 | AL55: 0 | AM55: 0 | AN55: 0 | AO55: 0 | AP55: 0 | AQ55: 0
C56: 不詳 | D56: 0 | E56: 0 | F56: 0 | G56: 0 | H56: 0 | I56: 0 | J56: 0 | K56: 0 | L56: 0 | M56: 0 | N56: 0 | O56: 0 | P56: 0 | Q56: 0 | R56: 0 | S56: 0 | T56: 0 | U56: 0 | V56: 0 | W56: 0 | X56: 0 | Y56: 0 | Z56: 0 | AA56: 0 | AB56: 0 | AC56: 0 | AD56: 0 | AE56: 0 | AF56: 0 | AG56: 4 | AH56: 0 | AI56: 0 | AJ56: 0 | AK56: 0 | AL56: 1 | AM56: 0 | AN56: 0 | AO56: 0 | AP56: 0 | AQ56: 3
A57: 彰化縣 | C57: 計 | D57: 444 | E57: 407 | F57: 17 | G57: 1 | H57: 8 | I57: 0 | J57: 11 | K57: 444 | L57: 9 | M57: 44 | N57: 225 | O57: 55 | P57: 28 | Q57: 39 | R57: 27 | S57: 13 | T57: 4 | U57: 0 | V57: 444 | W57: 370 | X57: 37 | Y57: 1 | Z57: 19 | AA57: 2 | AB57: 3 | AC57: 3 | AD57: 5 | AE57: 2 | AF57: 2 | AG57: 420 | AH57: 1 | AI57: 13 | AJ57: 106 | AK57: 54 | AL57: 24 | AM57: 37 | AN57: 39 | AO57: 27 | AP57: 22 | AQ57: 97
C58: 男 | D58: 90 | E58: 88 | F58: 0 | G58: 0 | H58: 0 | I58: 0 | J58: 2 | K58: 90 | L58: 1 | M58: 17 | N58: 51 | O58: 5 | P58: 4 | Q58: 8 | R58: 2 | S58: 2 | T58: 0 | U58: 0 | V58: 90 | W58: 74 | X58: 10 | Y58: 0 | Z58: 4 | AA58: 0 | AB58: 0 | AC58: 0 | AD58: 2 | AE58: 0 | AF58: 0 | AG58: 360 | AH58: 0 | AI58: 11 | AJ58: 74 | AK58: 50 | AL58: 24 | AM58: 36 | AN58: 37 | AO58: 26 | AP58: 22 | AQ58: 80
C59: 女 | D59: 350 | E59: 315 | F59: 17 | G59: 1 | H59: 8 | I59: 0 | J59: 9 | K59: 350 | L59: 8 | M59: 27 | N59: 170 | O59: 50 | P59: 24 | Q59: 31 | R59: 25 | S59: 11 | T59: 4 | U59: 0 | V59: 350 | W59: 292 | X59: 27 | Y59: 1 | Z59: 15 | AA59: 2 | AB59: 3 | AC59: 3 | AD59: 3 | AE59: 2 | AF59: 2 | AG59: 44 | AH59: 1 | AI59: 2 | AJ59: 32 | AK59: 3 | AL59: 0 | AM59: 1 | AN59: 2 | AO59: 0 | AP59: 0 | AQ59: 3
C60: 其他 | D60: 0 | E60: 0 | F60: 0 | G60: 0 | H60: 0 | I60: 0 | J60: 0 | K60: 0 | L60: 0 | M60: 0 | N60: 0 | O60: 0 | P60: 0 | Q60: 0 | R60: 0 | S60: 0 | T60: 0 | U60: 0 | V60: 0 | W60: 0 | X60: 0 | Y60: 0 | Z60: 0 | AA60: 0 | AB60: 0 | AC60: 0 | AD60: 0 | AE60: 0 | AF60: 0 | AG60: 0 | AH60: 0 | AI60: 0 | AJ60: 0 | AK60: 0 | AL60: 0 | AM60: 0 | AN60: 0 | AO60: 0 | AP60: 0 | AQ60: 0
C61: 不詳 | D61: 4 | E61: 4 | F61: 0 | G61: 0 | H61: 0 | I61: 0 | J61: 0 | K61: 4 | L61: 0 | M61: 0 | N61: 4 | O61: 0 | P61: 0 | Q61: 0 | R61: 0 | S61: 0 | T61: 0 | U61: 0 | V61: 4 | W61: 4 | X61: 0 | Y61: 0 | Z61: 0 | AA61: 0 | AB61: 0 | AC61: 0 | AD61: 0 | AE61: 0 | AF61: 0 | AG61: 16 | AH61: 0 | AI61: 0 | AJ61: 0 | AK61: 1 | AL61: 0 | AM61: 0 | AN61: 0 | AO61: 1 | AP61: 0 | AQ61: 14
A62: 南投縣 | C62: 計 | D62: 183 | E62: 143 | F62: 33 | G62: 0 | H62: 4 | I62: 0 | J62: 3 | K62: 183 | L62: 3 | M62: 19 | N62: 85 | O62: 30 | P62: 16 | Q62: 12 | R62: 13 | S62: 2 | T62: 2 | U62: 1 | V62: 183 | W62: 164 | X62: 7 | Y62: 1 | Z62: 3 | AA62: 0 | AB62: 0 | AC62: 2 | AD62: 4 | AE62: 0 | AF62: 2 | AG62: 174 | AH62: 0 | AI62: 4 | AJ62: 43 | AK62: 34 | AL62: 11 | AM62: 10 | AN62: 15 | AO62: 12 | AP62: 7 | AQ62: 38
C63: 男 | D63: 63 | E63: 51 | F63: 10 | G63: 0 | H63: 0 | I63: 0 | J63: 2 | K63: 63 | L63: 0 | M63: 10 | N63: 24 | O63: 16 | P63: 6 | Q63: 2 | R63: 3 | S63: 1 | T63: 0 | U63: 1 | V63: 63 | W63: 57 | X63: 1 | Y63: 0 | Z63: 1 | AA63: 0 | AB63: 0 | AC63: 0 | AD63: 3 | AE63: 0 | AF63: 1 | AG63: 152 | AH63: 0 | AI63: 3 | AJ63: 34 | AK63: 31 | AL63: 11 | AM63: 10 | AN63: 13 | AO63: 12 | AP63: 7 | AQ63: 31
C64: 女 | D64: 120 | E64: 92 | F64: 23 | G64: 0 | H64: 4 | I64: 0 | J64: 1 | K64: 120 | L64: 3 | M64: 9 | N64: 61 | O64: 14 | P64: 10 | Q64: 10 | R64: 10 | S64: 1 | T64: 2 | U64: 0 | V64: 120 | W64: 107 | X64: 6 | Y64: 1 | Z64: 2 | AA64: 0 | AB64: 0 | AC64: 2 | AD64: 1 | AE64: 0 | AF64: 1 | AG64: 18 | AH64: 0 | AI64: 1 | AJ64: 9 | AK64: 3 | AL64: 0 | AM64: 0 | AN64: 2 | AO64: 0 | AP64: 0 | AQ64: 3
C65: 其他 | D65: 0 | E65: 0 | F65: 0 | G65: 0 | H65: 0 | I65: 0 | J65: 0 | K65: 0 | L65: 0 | M65: 0 | N65: 0 | O65: 0 | P65: 0 | Q65: 0 | R65: 0 | S65: 0 | T65: 0 | U65: 0 | V65: 0 | W65: 0 | X65: 0 | Y65: 0 | Z65: 0 | AA65: 0 | AB65: 0 | AC65: 0 | AD65: 0 | AE65: 0 | AF65: 0 | AG65: 0 | AH65: 0 | AI65: 0 | AJ65: 0 | AK65: 0 | AL65: 0 | AM65: 0 | AN65: 0 | AO65: 0 | AP65: 0 | AQ65: 0
C66: 不詳 | D66: 0 | E66: 0 | F66: 0 | G66: 0 | H66: 0 | I66: 0 | J66: 0 | K66: 0 | L66: 0 | M66: 0 | N66: 0 | O66: 0 | P66: 0 | Q66: 0 | R66: 0 | S66: 0 | T66: 0 | U66: 0 | V66: 0 | W66: 0 | X66: 0 | Y66: 0 | Z66: 0 | AA66: 0 | AB66: 0 | AC66: 0 | AD66: 0 | AE66: 0 | AF66: 0 | AG66: 4 | AH66: 0 | AI66: 0 | AJ66: 0 | AK66: 0 | AL66: 0 | AM66: 0 | AN66: 0 | AO66: 0 | AP66: 0 | AQ66: 4
A67: 雲林縣 | C67: 計 | D67: 166 | E67: 161 | F67: 3 | G67: 0 | H67: 1 | I67: 0 | J67: 1 | K67: 166 | L67: 7 | M67: 16 | N67: 76 | O67: 20 | P67: 14 | Q67: 17 | R67: 8 | S67: 8 | T67: 0 | U67: 0 | V67: 166 | W67: 140 | X67: 14 | Y67: 0 | Z67: 6 | AA67: 0 | AB67: 0 | AC67: 0 | AD67: 3 | AE67: 2 | AF67: 1 | AG67: 171 | AH67: 0 | AI67: 1 | AJ67: 37 | AK67: 11 | AL67: 18 | AM67: 13 | AN67: 19 | AO67: 8 | AP67: 3 | AQ67: 61
C68: 男 | D68: 17 | E68: 16 | F68: 1 | G68: 0 | H68: 0 | I68: 0 | J68: 0 | K68: 17 | L68: 2 | M68: 1 | N68: 11 | O68: 2 | P68: 0 | Q68: 1 | R68: 0 | S68: 0 | T68: 0 | U68: 0 | V68: 17 | W68: 14 | X68: 2 | Y68: 0 | Z68: 0 | AA68: 0 | AB68: 0 | AC68: 0 | AD68: 0 | AE68: 1 | AF68: 0 | AG68: 152 | AH68: 0 | AI68: 1 | AJ68: 28 | AK68: 10 | AL68: 17 | AM68: 13 | AN68: 18 | AO68: 8 | AP68: 3 | AQ68: 54
C69: 女 | D69: 149 | E69: 145 | F69: 2 | G69: 0 | H69: 1 | I69: 0 | J69: 1 | K69: 149 | L69: 5 | M69: 15 | N69: 65 | O69: 18 | P69: 14 | Q69: 16 | R69: 8 | S69: 8 | T69: 0 | U69: 0 | V69: 149 | W69: 126 | X69: 12 | Y69: 0 | Z69: 6 | AA69: 0 | AB69: 0 | AC69: 0 | AD69: 3 | AE69: 1 | AF69: 1 | AG69: 14 | AH69: 0 | AI69: 0 | AJ69: 9 | AK69: 1 | AL69: 1 | AM69: 0 | AN69: 1 | AO69: 0 | AP69: 0 | AQ69: 2
C70: 其他 | D70: 0 | E70: 0 | F70: 0 | G70: 0 | H70: 0 | I70: 0 | J70: 0 | K70: 0 | L70: 0 | M70: 0 | N70: 0 | O70: 0 | P70: 0 | Q70: 0 | R70: 0 | S70: 0 | T70: 0 | U70: 0 | V70: 0 | W70: 0 | X70: 0 | Y70: 0 | Z70: 0 | AA70: 0 | AB70: 0 | AC70: 0 | AD70: 0 | AE70: 0 | AF70: 0 | AG70: 0 | AH70: 0 | AI70: 0 | AJ70: 0 | AK70: 0 | AL70: 0 | AM70: 0 | AN70: 0 | AO70: 0 | AP70: 0 | AQ70: 0
C71: 不詳 | D71: 0 | E71: 0 | F71: 0 | G71: 0 | H71: 0 | I71: 0 | J71: 0 | K71: 0 | L71: 0 | M71: 0 | N71: 0 | O71: 0 | P71: 0 | Q71: 0 | R71: 0 | S71: 0 | T71: 0 | U71: 0 | V71: 0 | W71: 0 | X71: 0 | Y71: 0 | Z71: 0 | AA71: 0 | AB71: 0 | AC71: 0 | AD71: 0 | AE71: 0 | AF71: 0 | AG71: 5 | AH71: 0 | AI71: 0 | AJ71: 0 | AK71: 0 | AL71: 0 | AM71: 0 | AN71: 0 | AO71: 0 | AP71: 0 | AQ71: 5
A72: 嘉義縣 | C72: 計 | D72: 139 | E72: 127 | F72: 10 | G72: 1 | H72: 0 | I72: 0 | J72: 1 | K72: 139 | L72: 1 | M72: 10 | N72: 68 | O72: 18 | P72: 12 | Q72: 22 | R72: 5 | S72: 3 | T72: 0 | U72: 0 | V72: 139 | W72: 114 | X72: 13 | Y72: 0 | Z72: 7 | AA72: 0 | AB72: 0 | AC72: 2 | AD72: 1 | AE72: 1 | AF72: 1 | AG72: 120 | AH72: 0 | AI72: 2 | AJ72: 29 | AK72: 17 | AL72: 12 | AM72: 11 | AN72: 10 | AO72: 6 | AP72: 9 | AQ72: 24
C73: 男 | D73: 33 | E73: 27 | F73: 6 | G73: 0 | H73: 0 | I73: 0 | J73: 0 | K73: 33 | L73: 0 | M73: 4 | N73: 23 | O73: 1 | P73: 1 | Q73: 4 | R73: 0 | S73: 0 | T73: 0 | U73: 0 | V73: 33 | W73: 27 | X73: 3 | Y73: 0 | Z73: 1 | AA73: 0 | AB73: 0 | AC73: 1 | AD73: 1 | AE73: 0 | AF73: 0 | AG73: 99 | AH73: 0 | AI73: 2 | AJ73: 15 | AK73: 13 | AL73: 10 | AM73: 11 | AN73: 10 | AO73: 6 | AP73: 9 | AQ73: 23
C74: 女 | D74: 106 | E74: 100 | F74: 4 | G74: 1 | H74: 0 | I74: 0 | J74: 1 | K74: 106 | L74: 1 | M74: 6 | N74: 45 | O74: 17 | P74: 11 | Q74: 18 | R74: 5 | S74: 3 | T74: 0 | U74: 0 | V74: 106 | W74: 87 | X74: 10 | Y74: 0 | Z74: 6 | AA74: 0 | AB74: 0 | AC74: 1 | AD74: 0 | AE74: 1 | AF74: 1 | AG74: 20 | AH74: 0 | AI74: 0 | AJ74: 14 | AK74: 4 | AL74: 2 | AM74: 0 | AN74: 0 | AO74: 0 | AP74: 0 | AQ74: 0
C75: 其他 | D75: 0 | E75: 0 | F75: 0 | G75: 0 | H75: 0 | I75: 0 | J75: 0 | K75: 0 | L75: 0 | M75: 0 | N75: 0 | O75: 0 | P75: 0 | Q75: 0 | R75: 0 | S75: 0 | T75: 0 | U75: 0 | V75: 0 | W75: 0 | X75: 0 | Y75: 0 | Z75: 0 | AA75: 0 | AB75: 0 | AC75: 0 | AD75: 0 | AE75: 0 | AF75: 0 | AG75: 0 | AH75: 0 | AI75: 0 | AJ75: 0 | AK75: 0 | AL75: 0 | AM75: 0 | AN75: 0 | AO75: 0 | AP75: 0 | AQ75: 0
C76: 不詳 | D76: 0 | E76: 0 | F76: 0 | G76: 0 | H76: 0 | I76: 0 | J76: 0 | K76: 0 | L76: 0 | M76: 0 | N76: 0 | O76: 0 | P76: 0 | Q76: 0 | R76: 0 | S76: 0 | T76: 0 | U76: 0 | V76: 0 | W76: 0 | X76: 0 | Y76: 0 | Z76: 0 | AA76: 0 | AB76: 0 | AC76: 0 | AD76: 0 | AE76: 0 | AF76: 0 | AG76: 1 | AH76: 0 | AI76: 0 | AJ76: 0 | AK76: 0 | AL76: 0 | AM76: 0 | AN76: 0 | AO76: 0 | AP76: 0 | AQ76: 1
A77: 屏東縣 | C77: 計 | D77: 277 | E77: 235 | F77: 36 | G77: 1 | H77: 4 | I77: 0 | J77: 1 | K77: 277 | L77: 11 | M77: 37 | N77: 113 | O77: 45 | P77: 19 | Q77: 25 | R77: 10 | S77: 12 | T77: 2 | U77: 3 | V77: 277 | W77: 240 | X77: 15 | Y77: 0 | Z77: 9 | AA77: 0 | AB77: 0 | AC77: 3 | AD77: 2 | AE77: 5 | AF77: 3 | AG77: 244 | AH77: 0 | AI77: 2 | AJ77: 49 | AK77: 40 | AL77: 20 | AM77: 29 | AN77: 26 | AO77: 28 | AP77: 8 | AQ77: 42
C78: 男 | D78: 40 | E78: 34 | F78: 5 | G78: 0 | H78: 0 | I78: 0 | J78: 1 | K78: 40 | L78: 1 | M78: 8 | N78: 21 | O78: 4 | P78: 1 | Q78: 0 | R78: 1 | S78: 4 | T78: 0 | U78: 0 | V78: 40 | W78: 33 | X78: 3 | Y78: 0 | Z78: 1 | AA78: 0 | AB78: 0 | AC78: 1 | AD78: 1 | AE78: 1 | AF78: 0 | AG78: 222 | AH78: 0 | AI78: 2 | AJ78: 38 | AK78: 37 | AL78: 20 | AM78: 26 | AN78: 25 | AO78: 27 | AP78: 8 | AQ78: 39
C79: 女 | D79: 236 | E79: 200 | F79: 31 | G79: 1 | H79: 4 | I79: 0 | J79: 0 | K79: 236 | L79: 10 | M79: 28 | N79: 92 | O79: 41 | P79: 18 | Q79: 25 | R79: 9 | S79: 8 | T79: 2 | U79: 3 | V79: 236 | W79: 206 | X79: 12 | Y79: 0 | Z79: 8 | AA79: 0 | AB79: 0 | AC79: 2 | AD79: 1 | AE79: 4 | AF79: 3 | AG79: 18 | AH79: 0 | AI79: 0 | AJ79: 11 | AK79: 3 | AL79: 0 | AM79: 3 | AN79: 1 | AO79: 0 | AP79: 0 | AQ79: 0
C80: 其他 | D80: 0 | E80: 0 | F80: 0 | G80: 0 | H80: 0 | I80: 0 | J80: 0 | K80: 0 | L80: 0 | M80: 0 | N80: 0 | O80: 0 | P80: 0 | Q80: 0 | R80: 0 | S80: 0 | T80: 0 | U80: 0 | V80: 0 | W80: 0 | X80: 0 | Y80: 0 | Z80: 0 | AA80: 0 | AB80: 0 | AC80: 0 | AD80: 0 | AE80: 0 | AF80: 0 | AG80: 0 | AH80: 0 | AI80: 0 | AJ80: 0 | AK80: 0 | AL80: 0 | AM80: 0 | AN80: 0 | AO80: 0 | AP80: 0 | AQ80: 0
C81: 不詳 | D81: 1 | E81: 1 | F81: 0 | G81: 0 | H81: 0 | I81: 0 | J81: 0 | K81: 1 | L81: 0 | M81: 1 | N81: 0 | O81: 0 | P81: 0 | Q81: 0 | R81: 0 | S81: 0 | T81: 0 | U81: 0 | V81: 1 | W81: 1 | X81: 0 | Y81: 0 | Z81: 0 | AA81: 0 | AB81: 0 | AC81: 0 | AD81: 0 | AE81: 0 | AF81: 0 | AG81: 4 | AH81: 0 | AI81: 0 | AJ81: 0 | AK81: 0 | AL81: 0 | AM81: 0 | AN81: 0 | AO81: 1 | AP81: 0 | AQ81: 3
A82: 臺東縣 | C82: 計 | D82: 109 | E82: 47 | F82: 61 | G82: 0 | H82: 0 | I82: 0 | J82: 1 | K82: 109 | L82: 4 | M82: 14 | N82: 56 | O82: 14 | P82: 6 | Q82: 7 | R82: 2 | S82: 4 | T82: 1 | U82: 1 | V82: 109 | W82: 92 | X82: 8 | Y82: 1 | Z82: 3 | AA82: 0 | AB82: 1 | AC82: 0 | AD82: 2 | AE82: 1 | AF82: 1 | AG82: 106 | AH82: 1 | AI82: 2 | AJ82: 38 | AK82: 8 | AL82: 7 | AM82: 9 | AN82: 8 | AO82: 8 | AP82: 6 | AQ82: 19
C83: 男 | D83: 29 | E83: 12 | F83: 17 | G83: 0 | H83: 0 | I83: 0 | J83: 0 | K83: 29 | L83: 1 | M83: 5 | N83: 20 | O83: 2 | P83: 0 | Q83: 1 | R83: 0 | S83: 0 | T83: 0 | U83: 0 | V83: 29 | W83: 26 | X83: 1 | Y83: 0 | Z83: 0 | AA83: 0 | AB83: 1 | AC83: 0 | AD83: 0 | AE83: 1 | AF83: 0 | AG83: 88 | AH83: 1 | AI83: 1 | AJ83: 25 | AK83: 8 | AL83: 7 | AM83: 9 | AN83: 8 | AO83: 8 | AP83: 6 | AQ83: 15
C84: 女 | D84: 79 | E84: 35 | F84: 43 | G84: 0 | H84: 0 | I84: 0 | J84: 1 | K84: 79 | L84: 3 | M84: 9 | N84: 35 | O84: 12 | P84: 6 | Q84: 6 | R84: 2 | S84: 4 | T84: 1 | U84: 1 | V84: 79 | W84: 65 | X84: 7 | Y84: 1 | Z84: 3 | AA84: 0 | AB84: 0 | AC84: 0 | AD84: 2 | AE84: 0 | AF84: 1 | AG84: 14 | AH84: 0 | AI84: 1 | AJ84: 12 | AK84: 0 | AL84: 0 | AM84: 0 | AN84: 0 | AO84: 0 | AP84: 0 | AQ84: 1
C85: 其他 | D85: 0 | E85: 0 | F85: 0 | G85: 0 | H85: 0 | I85: 0 | J85: 0 | K85: 0 | L85: 0 | M85: 0 | N85: 0 | O85: 0 | P85: 0 | Q85: 0 | R85: 0 | S85: 0 | T85: 0 | U85: 0 | V85: 0 | W85: 0 | X85: 0 | Y85: 0 | Z85: 0 | AA85: 0 | AB85: 0 | AC85: 0 | AD85: 0 | AE85: 0 | AF85: 0 | AG85: 0 | AH85: 0 | AI85: 0 | AJ85: 0 | AK85: 0 | AL85: 0 | AM85: 0 | AN85: 0 | AO85: 0 | AP85: 0 | AQ85: 0
C86: 不詳 | D86: 1 | E86: 0 | F86: 1 | G86: 0 | H86: 0 | I86: 0 | J86: 0 | K86: 1 | L86: 0 | M86: 0 | N86: 1 | O86: 0 | P86: 0 | Q86: 0 | R86: 0 | S86: 0 | T86: 0 | U86: 0 | V86: 1 | W86: 1 | X86: 0 | Y86: 0 | Z86: 0 | AA86: 0 | AB86: 0 | AC86: 0 | AD86: 0 | AE86: 0 | AF86: 0 | AG86: 4 | AH86: 0 | AI86: 0 | AJ86: 1 | AK86: 0 | AL86: 0 | AM86: 0 | AN86: 0 | AO86: 0 | AP86: 0 | AQ86: 3
A87: 花蓮縣 | C87: 計 | D87: 236 | E87: 98 | F87: 127 | G87: 1 | H87: 2 | I87: 0 | J87: 8 | K87: 236 | L87: 4 | M87: 22 | N87: 120 | O87: 27 | P87: 14 | Q87: 22 | R87: 14 | S87: 10 | T87: 3 | U87: 0 | V87: 236 | W87: 204 | X87: 11 | Y87: 0 | Z87: 6 | AA87: 0 | AB87: 1 | AC87: 1 | AD87: 5 | AE87: 6 | AF87: 2 | AG87: 252 | AH87: 0 | AI87: 8 | AJ87: 65 | AK87: 29 | AL87: 9 | AM87: 19 | AN87: 18 | AO87: 20 | AP87: 7 | AQ87: 77
C88: 男 | D88: 56 | E88: 22 | F88: 31 | G88: 0 | H88: 0 | I88: 0 | J88: 3 | K88: 56 | L88: 1 | M88: 8 | N88: 33 | O88: 2 | P88: 2 | Q88: 6 | R88: 2 | S88: 2 | T88: 0 | U88: 0 | V88: 56 | W88: 48 | X88: 2 | Y88: 0 | Z88: 1 | AA88: 0 | AB88: 0 | AC88: 0 | AD88: 1 | AE88: 3 | AF88: 1 | AG88: 218 | AH88: 0 | AI88: 7 | AJ88: 47 | AK88: 27 | AL88: 8 | AM88: 17 | AN88: 17 | AO88: 20 | AP88: 7 | AQ88: 68
C89: 女 | D89: 180 | E89: 76 | F89: 96 | G89: 1 | H89: 2 | I89: 0 | J89: 5 | K89: 180 | L89: 3 | M89: 14 | N89: 87 | O89: 25 | P89: 12 | Q89: 16 | R89: 12 | S89: 8 | T89: 3 | U89: 0 | V89: 180 | W89: 156 | X89: 9 | Y89: 0 | Z89: 5 | AA89: 0 | AB89: 1 | AC89: 1 | AD89: 4 | AE89: 3 | AF89: 1 | AG89: 27 | AH89: 0 | AI89: 1 | AJ89: 18 | AK89: 2 | AL89: 0 | AM89: 2 | AN89: 1 | AO89: 0 | AP89: 0 | AQ89: 3
C90: 其他 | D90: 0 | E90: 0 | F90: 0 | G90: 0 | H90: 0 | I90: 0 | J90: 0 | K90: 0 | L90: 0 | M90: 0 | N90: 0 | O90: 0 | P90: 0 | Q90: 0 | R90: 0 | S90: 0 | T90: 0 | U90: 0 | V90: 0 | W90: 0 | X90: 0 | Y90: 0 | Z90: 0 | AA90: 0 | AB90: 0 | AC90: 0 | AD90: 0 | AE90: 0 | AF90: 0 | AG90: 0 | AH90: 0 | AI90: 0 | AJ90: 0 | AK90: 0 | AL90: 0 | AM90: 0 | AN90: 0 | AO90: 0 | AP90: 0 | AQ90: 0
C91: 不詳 | D91: 0 | E91: 0 | F91: 0 | G91: 0 | H91: 0 | I91: 0 | J91: 0 | K91: 0 | L91: 0 | M91: 0 | N91: 0 | O91: 0 | P91: 0 | Q91: 0 | R91: 0 | S91: 0 | T91: 0 | U91: 0 | V91: 0 | W91: 0 | X91: 0 | Y91: 0 | Z91: 0 | AA91: 0 | AB91: 0 | AC91: 0 | AD91: 0 | AE91: 0 | AF91: 0 | AG91: 7 | AH91: 0 | AI91: 0 | AJ91: 0 | AK91: 0 | AL91: 1 | AM91: 0 | AN91: 0 | AO91: 0 | AP91: 0 | AQ91: 6
A92: 澎湖縣 | C92: 計 | D92: 31 | E92: 29 | F92: 1 | G92: 0 | H92: 0 | I92: 0 | J92: 1 | K92: 31 | L92: 1 | M92: 6 | N92: 13 | O92: 5 | P92: 1 | Q92: 1 | R92: 3 | S92: 0 | T92: 1 | U92: 0 | V92: 31 | W92: 27 | X92: 3 | Y92: 0 | Z92: 0 | AA92: 0 | AB92: 0 | AC92: 0 | AD92: 0 | AE92: 1 | AF92: 0 | AG92: 33 | AH92: 0 | AI92: 0 | AJ92: 8 | AK92: 7 | AL92: 5 | AM92: 3 | AN92: 3 | AO92: 5 | AP92: 0 | AQ92: 2
C93: 男 | D93: 4 | E93: 4 | F93: 0 | G93: 0 | H93: 0 | I93: 0 | J93: 0 | K93: 4 | L93: 0 | M93: 3 | N93: 1 | O93: 0 | P93: 0 | Q93: 0 | R93: 0 | S93: 0 | T93: 0 | U93: 0 | V93: 4 | W93: 4 | X93: 0 | Y93: 0 | Z93: 0 | AA93: 0 | AB93: 0 | AC93: 0 | AD93: 0 | AE93: 0 | AF93: 0 | AG93: 31 | AH93: 0 | AI93: 0 | AJ93: 7 | AK93: 7 | AL93: 5 | AM93: 3 | AN93: 3 | AO93: 5 | AP93: 0 | AQ93: 1
C94: 女 | D94: 27 | E94: 25 | F94: 1 | G94: 0 | H94: 0 | I94: 0 | J94: 1 | K94: 27 | L94: 1 | M94: 3 | N94: 12 | O94: 5 | P94: 1 | Q94: 1 | R94: 3 | S94: 0 | T94: 1 | U94: 0 | V94: 27 | W94: 23 | X94: 3 | Y94: 0 | Z94: 0 | AA94: 0 | AB94: 0 | AC94: 0 | AD94: 0 | AE94: 1 | AF94: 0 | AG94: 1 | AH94: 0 | AI94: 0 | AJ94: 1 | AK94: 0 | AL94: 0 | AM94: 0 | AN94: 0 | AO94: 0 | AP94: 0 | AQ94: 0
C95: 其他 | D95: 0 | E95: 0 | F95: 0 | G95: 0 | H95: 0 | I95: 0 | J95: 0 | K95: 0 | L95: 0 | M95: 0 | N95: 0 | O95: 0 | P95: 0 | Q95: 0 | R95: 0 | S95: 0 | T95: 0 | U95: 0 | V95: 0 | W95: 0 | X95: 0 | Y95: 0 | Z95: 0 | AA95: 0 | AB95: 0 | AC95: 0 | AD95: 0 | AE95: 0 | AF95: 0 | AG95: 0 | AH95: 0 | AI95: 0 | AJ95: 0 | AK95: 0 | AL95: 0 | AM95: 0 | AN95: 0 | AO95: 0 | AP95: 0 | AQ95: 0
C96: 不詳 | D96: 0 | E96: 0 | F96: 0 | G96: 0 | H96: 0 | I96: 0 | J96: 0 | K96: 0 | L96: 0 | M96: 0 | N96: 0 | O96: 0 | P96: 0 | Q96: 0 | R96: 0 | S96: 0 | T96: 0 | U96: 0 | V96: 0 | W96: 0 | X96: 0 | Y96: 0 | Z96: 0 | AA96: 0 | AB96: 0 | AC96: 0 | AD96: 0 | AE96: 0 | AF96: 0 | AG96: 1 | AH96: 0 | AI96: 0 | AJ96: 0 | AK96: 0 | AL96: 0 | AM96: 0 | AN96: 0 | AO96: 0 | AP96: 0 | AQ96: 1
A97: 基隆市 | C97: 計 | D97: 142 | E97: 129 | F97: 10 | G97: 0 | H97: 2 | I97: 0 | J97: 1 | K97: 142 | L97: 6 | M97: 7 | N97: 59 | O97: 16 | P97: 15 | Q97: 18 | R97: 10 | S97: 10 | T97: 1 | U97: 0 | V97: 142 | W97: 120 | X97: 11 | Y97: 1 | Z97: 8 | AA97: 0 | AB97: 0 | AC97: 0 | AD97: 2 | AE97: 0 | AF97: 0 | AG97: 138 | AH97: 0 | AI97: 1 | AJ97: 17 | AK97: 22 | AL97: 13 | AM97: 12 | AN97: 16 | AO97: 13 | AP97: 6 | AQ97: 38
C98: 男 | D98: 19 | E98: 18 | F98: 1 | G98: 0 | H98: 0 | I98: 0 | J98: 0 | K98: 19 | L98: 3 | M98: 6 | N98: 8 | O98: 2 | P98: 0 | Q98: 0 | R98: 0 | S98: 0 | T98: 0 | U98: 0 | V98: 19 | W98: 19 | X98: 0 | Y98: 0 | Z98: 0 | AA98: 0 | AB98: 0 | AC98: 0 | AD98: 0 | AE98: 0 | AF98: 0 | AG98: 128 | AH98: 0 | AI98: 1 | AJ98: 13 | AK98: 20 | AL98: 13 | AM98: 11 | AN98: 16 | AO98: 13 | AP98: 5 | AQ98: 36
C99: 女 | D99: 123 | E99: 111 | F99: 9 | G99: 0 | H99: 2 | I99: 0 | J99: 1 | K99: 123 | L99: 3 | M99: 1 | N99: 51 | O99: 14 | P99: 15 | Q99: 18 | R99: 10 | S99: 10 | T99: 1 | U99: 0 | V99: 123 | W99: 101 | X99: 11 | Y99: 1 | Z99: 8 | AA99: 0 | AB99: 0 | AC99: 0 | AD99: 2 | AE99: 0 | AF99: 0 | AG99: 7 | AH99: 0 | AI99: 0 | AJ99: 4 | AK99: 2 | AL99: 0 | AM99: 0 | AN99: 0 | AO99: 0 | AP99: 1 | AQ99: 0
C100: 其他 | D100: 0 | E100: 0 | F100: 0 | G100: 0 | H100: 0 | I100: 0 | J100: 0 | K100: 0 | L100: 0 | M100: 0 | N100: 0 | O100: 0 | P100: 0 | Q100: 0 | R100: 0 | S100: 0 | T100: 0 | U100: 0 | V100: 0 | W100: 0 | X100: 0 | Y100: 0 | Z100: 0 | AA100: 0 | AB100: 0 | AC100: 0 | AD100: 0 | AE100: 0 | AF100: 0 | AG100: 0 | AH100: 0 | AI100: 0 | AJ100: 0 | AK100: 0 | AL100: 0 | AM100: 0 | AN100: 0 | AO100: 0 | AP100: 0 | AQ100: 0
C101: 不詳 | D101: 0 | E101: 0 | F101: 0 | G101: 0 | H101: 0 | I101: 0 | J101: 0 | K101: 0 | L101: 0 | M101: 0 | N101: 0 | O101: 0 | P101: 0 | Q101: 0 | R101: 0 | S101: 0 | T101: 0 | U101: 0 | V101: 0 | W101: 0 | X101: 0 | Y101: 0 | Z101: 0 | AA101: 0 | AB101: 0 | AC101: 0 | AD101: 0 | AE101: 0 | AF101: 0 | AG101: 3 | AH101: 0 | AI101: 0 | AJ101: 0 | AK101: 0 | AL101: 0 | AM101: 1 | AN101: 0 | AO101: 0 | AP101: 0 | AQ101: 2
...

Sheet 112
A1: 5.2-02 性侵害事件通報被害及嫌疑人概況
A2: 民國112年
A4: 區域別 | C4: 性別 | D4: 性侵害被害人統計(人) | AG4: 性侵害嫌疑人年齡統計(人)
D5: 國籍、身分別 | K5: 年齡別 | V5: 身心障礙別 | AG5: 年齡別
D6: 合計 | E6: 本國籍 非原住民 | F6: 本國籍 原住民 | G6: 大陸及 港澳籍 | H6: 外國籍 | I6: 無國籍 | J6: 資料 不明 | K6: 合計 | L6: 0-未滿6歲 | M6: 6-未滿12歲 | N6: 12-未滿18歲 | O6: 18-未滿24歲 | P6: 24-未滿30歲 | Q6: 30-未滿40歲 | R6: 40-未滿50歲 | S6: 50-未滿65歲 | T6: 65歲 以上 | U6: 不詳 | V6: 合計 | W6: 非身心 障礙 | X6: 智障 | Y6: 視障 | Z6: 精神 病患 | AA6: 聲(語)障 | AB6: 聽障 | AC6: 肢障 | AD6: 多重 障礙 | AE6: 其他 障礙 | AF6: 不詳 | AG6: 合計 | AH6: 0-未滿6歲 | AI6: 6-未滿12歲 | AJ6: 12-未滿18歲 | AK6: 18-未滿24歲 | AL6: 24-未滿30歲 | AM6: 30-未滿40歲 | AN6: 40-未滿50歲 | AO6: 50-未滿65歲 | AP6: 65歲 以上 | AQ6: 不詳
A7: 112年, 2023 | C7: 計 | D7: 9413 | E7: 8241 | F7: 813 | G7: 31 | H7: 119 | I7: 0 | J7: 209 | K7: 9413 | L7: 206 | M7: 767 | N7: 4182 | O7: 1323 | P7: 890 | Q7: 1039 | R7: 627 | S7: 256 | T7: 82 | U7: 41 | V7: 9413 | W7: 8301 | X7: 400 | Y7: 17 | Z7: 299 | AA7: 6 | AB7: 18 | AC7: 39 | AD7: 101 | AE7: 101 | AF7: 131 | AG7: 8731 | AH7: 27 | AI7: 168 | AJ7: 2080 | AK7: 1038 | AL7: 564 | AM7: 826 | AN7: 768 | AO7: 637 | AP7: 288 | AQ7: 2335
C8: 男 | D8: 1665 | E8: 1442 | F8: 176 | G8: 3 | H8: 10 | I8: 0 | J8: 34 | K8: 1665 | L8: 31 | M8: 230 | N8: 1032 | O8: 135 | P8: 83 | Q8: 86 | R8: 42 | S8: 15 | T8: 6 | U8: 5 | V8: 1665 | W8: 1500 | X8: 63 | Y8: 1 | Z8: 36 | AA8: 0 | AB8: 1 | AC8: 3 | AD8: 18 | AE8: 26 | AF8: 17 | AG8: 7600 | AH8: 21 | AI8: 137 | AJ8: 1435 | AK8: 990 | AL8: 555 | AM8: 798 | AN8: 732 | AO8: 621 | AP8: 285 | AQ8: 2026
C9: 女 | D9: 7698 | E9: 6774 | F9: 632 | G9: 27 | H9: 108 | I9: 0 | J9: 157 | K9: 7698 | L9: 175 | M9: 532 | N9: 3122 | O9: 1185 | P9: 804 | Q9: 948 | R9: 582 | S9: 241 | T9: 76 | U9: 33 | V9: 7698 | W9: 6766 | X9: 335 | Y9: 16 | Z9: 263 | AA9: 5 | AB9: 17 | AC9: 36 | AD9: 83 | AE9: 75 | AF9: 102 | AG9: 883 | AH9: 5 | AI9: 31 | AJ9: 634 | AK9: 45 | AL9: 9 | AM9: 24 | AN9: 35 | AO9: 15 | AP9: 3 | AQ9: 82
C10: 其他 | D10: 4 | E10: 4 | F10: 0 | G10: 0 | H10: 0 | I10: 0 | J10: 0 | K10: 4 | L10: 0 | M10: 1 | N10: 1 | O10: 2 | P10: 0 | Q10: 0 | R10: 0 | S10: 0 | T10: 0 | U10: 0 | V10: 4 | W10: 4 | X10: 0 | Y10: 0 | Z10: 0 | AA10: 0 | AB10: 0 | AC10: 0 | AD10: 0 | AE10: 0 | AF10: 0 | AG10: 0 | AH10: 0 | AI10: 0 | AJ10: 0 | AK10: 0 | AL10: 0 | AM10: 0 | AN10: 0 | AO10: 0 | AP10: 0 | AQ10: 0
C11: 不詳 | D11: 46 | E11: 21 | F11: 5 | G11: 1 | H11: 1 | I11: 0 | J11: 18 | K11: 46 | L11: 0 | M11: 4 | N11: 27 | O11: 1 | P11: 3 | Q11: 5 | R11: 3 | S11: 0 | T11: 0 | U11: 3 | V11: 46 | W11: 31 | X11: 2 | Y11: 0 | Z11: 0 | AA11: 1 | AB11: 0 | AC11: 0 | AD11: 0 | AE11: 0 | AF11: 12 | AG11: 248 | AH11: 1 | AI11: 0 | AJ11: 11 | AK11: 3 | AL11: 0 | AM11: 4 | AN11: 1 | AO11: 1 | AP11: 0 | AQ11: 227
A12: 新北市 | C12: 計 | D12: 1554 | E12: 1414 | F12: 53 | G12: 3 | H12: 21 | I12: 0 | J12: 63 | K12: 1554 | L12: 41 | M12: 129 | N12: 639 | O12: 245 | P12: 170 | Q12: 187 | R12: 85 | S12: 41 | T12: 9 | U12: 8 | V12: 1554 | W12: 1379 | X12: 45 | Y12: 2 | Z12: 57 | AA12: 1 | AB12: 6 | AC12: 3 | AD12: 9 | AE12: 21 | AF12: 31 | AG12: 1485 | AH12: 6 | AI12: 37 | AJ12: 329 | AK12: 136 | AL12: 100 | AM12: 131 | AN12: 111 | AO12: 89 | AP12: 31 | AQ12: 515
C13: 男 | D13: 251 | E13: 231 | F13: 9 | G13: 0 | H13: 1 | I13: 0 | J13: 10 | K13: 251 | L13: 8 | M13: 33 | N13: 161 | O13: 18 | P13: 10 | Q13: 17 | R13: 2 | S13: 1 | T13: 0 | U13: 1 | V13: 251 | W13: 231 | X13: 4 | Y13: 0 | Z13: 6 | AA13: 0 | AB13: 1 | AC13: 0 | AD13: 2 | AE13: 6 | AF13: 1 | AG13: 1293 | AH13: 5 | AI13: 28 | AJ13: 224 | AK13: 128 | AL13: 97 | AM13: 130 | AN13: 107 | AO13: 88 | AP13: 31 | AQ13: 455
C14: 女 | D14: 1294 | E14: 1177 | F14: 44 | G14: 3 | H14: 19 | I14: 0 | J14: 51 | K14: 1294 | L14: 33 | M14: 95 | N14: 474 | O14: 226 | P14: 159 | Q14: 169 | R14: 82 | S14: 40 | T14: 9 | U14: 7 | V14: 1294 | W14: 1142 | X14: 41 | Y14: 2 | Z14: 51 | AA14: 1 | AB14: 5 | AC14: 3 | AD14: 7 | AE14: 15 | AF14: 27 | AG14: 149 | AH14: 1 | AI14: 9 | AJ14: 104 | AK14: 7 | AL14: 3 | AM14: 1 | AN14: 3 | AO14: 0 | AP14: 0 | AQ14: 21
C15: 其他 | D15: 1 | E15: 1 | F15: 0 | G15: 0 | H15: 0 | I15: 0 | J15: 0 | K15: 1 | L15: 0 | M15: 0 | N15: 0 | O15: 1 | P15: 0 | Q15: 0 | R15: 0 | S15: 0 | T15: 0 | U15: 0 | V15: 1 | W15: 1 | X15: 0 | Y15: 0 | Z15: 0 | AA15: 0 | AB15: 0 | AC15: 0 | AD15: 0 | AE15: 0 | AF15: 0 | AG15: 0 | AH15: 0 | AI15: 0 | AJ15: 0 | AK15: 0 | AL15: 0 | AM15: 0 | AN15: 0 | AO15: 0 | AP15: 0 | AQ15: 0
C16: 不詳 | D16: 8 | E16: 5 | F16: 0 | G16: 0 | H16: 1 | I16: 0 | J16: 2 | K16: 8 | L16: 0 | M16: 1 | N16: 4 | O16: 0 | P16: 1 | Q16: 1 | R16: 1 | S16: 0 | T16: 0 | U16: 0 | V16: 8 | W16: 5 | X16: 0 | Y16: 0 | Z16: 0 | AA16: 0 | AB16: 0 | AC16: 0 | AD16: 0 | AE16: 0 | AF16: 3 | AG16: 43 | AH16: 0 | AI16: 0 | AJ16: 1 | AK16: 1 | AL16: 0 | AM16: 0 | AN16: 1 | AO16: 1 | AP16: 0 | AQ16: 39
A17: 臺北市 | C17: 計 | D17: 966 | E17: 885 | F17: 23 | G17: 4 | H17: 21 | I17: 0 | J17: 33 | K17: 966 | L17: 32 | M17: 63 | N17: 273 | O17: 163 | P17: 145 | Q17: 151 | R17: 74 | S17: 46 | T17: 12 | U17: 7 | V17: 966 | W17: 842 | X17: 22 | Y17: 5 | Z17: 39 | AA17: 0 | AB17: 1 | AC17: 5 | AD17: 13 | AE17: 13 | AF17: 26 | AG17: 795 | AH17: 2 | AI17: 18 | AJ17: 140 | AK17: 55 | AL17: 43 | AM17: 87 | AN17: 59 | AO17: 50 | AP17: 22 | AQ17: 319
C18: 男 | D18: 154 | E18: 146 | F18: 1 | G18: 0 | H18: 1 | I18: 0 | J18: 6 | K18: 154 | L18: 6 | M18: 29 | N18: 70 | O18: 16 | P18: 9 | Q18: 16 | R18: 2 | S18: 4 | T18: 1 | U18: 1 | V18: 154 | W18: 138 | X18: 3 | Y18: 1 | Z18: 3 | AA18: 0 | AB18: 0 | AC18: 1 | AD18: 1 | AE18: 4 | AF18: 3 | AG18: 709 | AH18: 1 | AI18: 12 | AJ18: 104 | AK18: 52 | AL18: 41 | AM18: 82 | AN18: 57 | AO18: 49 | AP18: 22 | AQ18: 289
C19: 女 | D19: 806 | E19: 737 | F19: 22 | G19: 4 | H19: 20 | I19: 0 | J19: 23 | K19: 806 | L19: 26 | M19: 33 | N19: 202 | O19: 147 | P19: 135 | Q19: 133 | R19: 71 | S19: 42 | T19: 11 | U19: 6 | V19: 806 | W19: 701 | X19: 19 | Y19: 4 | Z19: 36 | AA19: 0 | AB19: 1 | AC19: 4 | AD19: 12 | AE19: 9 | AF19: 20 | AG19: 71 | AH19: 1 | AI19: 6 | AJ19: 36 | AK19: 3 | AL19: 2 | AM19: 5 | AN19: 2 | AO19: 1 | AP19: 0 | AQ19: 15
C20: 其他 | D20: 1 | E20: 1 | F20: 0 | G20: 0 | H20: 0 | I20: 0 | J20: 0 | K20: 1 | L20: 0 | M20: 0 | N20: 1 | O20: 0 | P20: 0 | Q20: 0 | R20: 0 | S20: 0 | T20: 0 | U20: 0 | V20: 1 | W20: 1 | X20: 0 | Y20: 0 | Z20: 0 | AA20: 0 | AB20: 0 | AC20: 0 | AD20: 0 | AE20: 0 | AF20: 0 | AG20: 0 | AH20: 0 | AI20: 0 | AJ20: 0 | AK20: 0 | AL20: 0 | AM20: 0 | AN20: 0 | AO20: 0 | AP20: 0 | AQ20: 0
C21: 不詳 | D21: 5 | E21: 1 | F21: 0 | G21: 0 | H21: 0 | I21: 0 | J21: 4 | K21: 5 | L21: 0 | M21: 1 | N21: 0 | O21: 0 | P21: 1 | Q21: 2 | R21: 1 | S21: 0 | T21: 0 | U21: 0 | V21: 5 | W21: 2 | X21: 0 | Y21: 0 | Z21: 0 | AA21: 0 | AB21: 0 | AC21: 0 | AD21: 0 | AE21: 0 | AF21: 3 | AG21: 15 | AH21: 0 | AI21: 0 | AJ21: 0 | AK21: 0 | AL21: 0 | AM21: 0 | AN21: 0 | AO21: 0 | AP21: 0 | AQ21: 15
A22: 桃園市 | C22: 計 | D22: 1055 | E22: 918 | F22: 111 | G22: 2 | H22: 19 | I22: 0 | J22: 5 | K22: 1055 | L22: 19 | M22: 72 | N22: 526 | O22: 114 | P22: 108 | Q22: 102 | R22: 77 | S22: 30 | T22: 7 | U22: 0 | V22: 1055 | W22: 944 | X22: 44 | Y22: 0 | Z22: 29 | AA22: 0 | AB22: 0 | AC22: 3 | AD22: 19 | AE22: 6 | AF22: 10 | AG22: 1007 | AH22: 3 | AI22: 16 | AJ22: 223 | AK22: 129 | AL22: 52 | AM22: 99 | AN22: 97 | AO22: 74 | AP22: 29 | AQ22: 285
C23: 男 | D23: 170 | E23: 148 | F23: 19 | G23: 0 | H23: 3 | I23: 0 | J23: 0 | K23: 170 | L23: 4 | M23: 18 | N23: 111 | O23: 8 | P23: 12 | Q23: 9 | R23: 6 | S23: 1 | T23: 1 | U23: 0 | V23: 170 | W23: 155 | X23: 5 | Y23: 0 | Z23: 3 | AA23: 0 | AB23: 0 | AC23: 0 | AD23: 2 | AE23: 2 | AF23: 3 | AG23: 851 | AH23: 2 | AI23: 12 | AJ23: 154 | AK23: 122 | AL23: 51 | AM23: 95 | AN23: 89 | AO23: 71 | AP23: 28 | AQ23: 227
C24: 女 | D24: 883 | E24: 769 | F24: 92 | G24: 2 | H24: 16 | I24: 0 | J24: 4 | K24: 883 | L24: 15 | M24: 54 | N24: 414 | O24: 106 | P24: 96 | Q24: 92 | R24: 71 | S24: 29 | T24: 6 | U24: 0 | V24: 883 | W24: 787 | X24: 39 | Y24: 0 | Z24: 26 | AA24: 0 | AB24: 0 | AC24: 3 | AD24: 17 | AE24: 4 | AF24: 7 | AG24: 105 | AH24: 1 | AI24: 4 | AJ24: 68 | AK24: 6 | AL24: 1 | AM24: 3 | AN24: 8 | AO24: 3 | AP24: 1 | AQ24: 10
C25: 其他 | D25: 0 | E25: 0 | F25: 0 | G25: 0 | H25: 0 | I25: 0 | J25: 0 | K25: 0 | L25: 0 | M25: 0 | N25: 0 | O25: 0 | P25: 0 | Q25: 0 | R25: 0 | S25: 0 | T25: 0 | U25: 0 | V25: 0 | W25: 0 | X25: 0 | Y25: 0 | Z25: 0 | AA25: 0 | AB25: 0 | AC25: 0 | AD25: 0 | AE25: 0 | AF25: 0 | AG25: 0 | AH25: 0 | AI25: 0 | AJ25: 0 | AK25: 0 | AL25: 0 | AM25: 0 | AN25: 0 | AO25: 0 | AP25: 0 | AQ25: 0
C26: 不詳 | D26: 2 | E26: 1 | F26: 0 | G26: 0 | H26: 0 | I26: 0 | J26: 1 | K26: 2 | L26: 0 | M26: 0 | N26: 1 | O26: 0 | P26: 0 | Q26: 1 | R26: 0 | S26: 0 | T26: 0 | U26: 0 | V26: 2 | W26: 2 | X26: 0 | Y26: 0 | Z26: 0 | AA26: 0 | AB26: 0 | AC26: 0 | AD26: 0 | AE26: 0 | AF26: 0 | AG26: 51 | AH26: 0 | AI26: 0 | AJ26: 1 | AK26: 1 | AL26: 0 | AM26: 1 | AN26: 0 | AO26: 0 | AP26: 0 | AQ26: 48
A27: 臺中市 | C27: 計 | D27: 1249 | E27: 1131 | F27: 52 | G27: 7 | H27: 10 | I27: 0 | J27: 49 | K27: 1249 | L27: 30 | M27: 96 | N27: 533 | O27: 188 | P27: 116 | Q27: 151 | R27: 79 | S27: 39 | T27: 12 | U27: 5 | V27: 1249 | W27: 1128 | X27: 32 | Y27: 5 | Z27: 34 | AA27: 1 | AB27: 2 | AC27: 6 | AD27: 7 | AE27: 9 | AF27: 25 | AG27: 1083 | AH27: 6 | AI27: 17 | AJ27: 230 | AK27: 141 | AL27: 78 | AM27: 113 | AN27: 104 | AO27: 72 | AP27: 36 | AQ27: 286
C28: 男 | D28: 206 | E28: 188 | F28: 8 | G28: 1 | H28: 0 | I28: 0 | J28: 9 | K28: 206 | L28: 4 | M28: 33 | N28: 124 | O28: 14 | P28: 12 | Q28: 11 | R28: 5 | S28: 2 | T28: 1 | U28: 0 | V28: 206 | W28: 185 | X28: 4 | Y28: 0 | Z28: 8 | AA28: 0 | AB28: 0 | AC28: 0 | AD28: 2 | AE28: 1 | AF28: 6 | AG28: 963 | AH28: 5 | AI28: 16 | AJ28: 164 | AK28: 138 | AL28: 76 | AM28: 110 | AN28: 101 | AO28: 71 | AP28: 35 | AQ28: 247
C29: 女 | D29: 1030 | E29: 938 | F29: 44 | G29: 5 | H29: 10 | I29: 0 | J29: 33 | K29: 1030 | L29: 26 | M29: 63 | N29: 398 | O29: 174 | P29: 103 | Q29: 140 | R29: 74 | S29: 37 | T29: 11 | U29: 4 | V29: 1030 | W29: 933 | X29: 28 | Y29: 5 | Z29: 26 | AA29: 1 | AB29: 2 | AC29: 6 | AD29: 5 | AE29: 8 | AF29: 16 | AG29: 90 | AH29: 1 | AI29: 1 | AJ29: 62 | AK29: 3 | AL29: 2 | AM29: 2 | AN29: 3 | AO29: 1 | AP29: 1 | AQ29: 14
C30: 其他 | D30: 0 | E30: 0 | F30: 0 | G30: 0 | H30: 0 | I30: 0 | J30: 0 | K30: 0 | L30: 0 | M30: 0 | N30: 0 | O30: 0 | P30: 0 | Q30: 0 | R30: 0 | S30: 0 | T30: 0 | U30: 0 | V30: 0 | W30: 0 | X30: 0 | Y30: 0 | Z30: 0 | AA30: 0 | AB30: 0 | AC30: 0 | AD30: 0 | AE30: 0 | AF30: 0 | AG30: 0 | AH30: 0 | AI30: 0 | AJ30: 0 | AK30: 0 | AL30: 0 | AM30: 0 | AN30: 0 | AO30: 0 | AP30: 0 | AQ30: 0
C31: 不詳 | D31: 13 | E31: 5 | F31: 0 | G31: 1 | H31: 0 | I31: 0 | J31: 7 | K31: 13 | L31: 0 | M31: 0 | N31: 11 | O31: 0 | P31: 1 | Q31: 0 | R31: 0 | S31: 0 | T31: 0 | U31: 1 | V31: 13 | W31: 10 | X31: 0 | Y31: 0 | Z31: 0 | AA31: 0 | AB31: 0 | AC31: 0 | AD31: 0 | AE31: 0 | AF31: 3 | AG31: 30 | AH31: 0 | AI31: 0 | AJ31: 4 | AK31: 0 | AL31: 0 | AM31: 1 | AN31: 0 | AO31: 0 | AP31: 0 | AQ31: 25
A32: 臺南市 | C32: 計 | D32: 686 | E32: 643 | F32: 28 | G32: 2 | H32: 9 | I32: 0 | J32: 4 | K32: 686 | L32: 10 | M32: 49 | N32: 273 | O32: 114 | P32: 80 | Q32: 81 | R32: 56 | S32: 16 | T32: 6 | U32: 1 | V32: 686 | W32: 612 | X32: 33 | Y32: 1 | Z32: 12 | AA32: 1 | AB32: 3 | AC32: 3 | AD32: 7 | AE32: 10 | AF32: 4 | AG32: 663 | AH32: 3 | AI32: 8 | AJ32: 149 | AK32: 81 | AL32: 48 | AM32: 75 | AN32: 63 | AO32: 58 | AP32: 22 | AQ32: 156
C33: 男 | D33: 115 | E33: 105 | F33: 9 | G33: 1 | H33: 0 | I33: 0 | J33: 0 | K33: 115 | L33: 3 | M33: 8 | N33: 63 | O33: 17 | P33: 10 | Q33: 6 | R33: 6 | S33: 1 | T33: 1 | U33: 0 | V33: 115 | W33: 108 | X33: 5 | Y33: 0 | Z33: 1 | AA33: 0 | AB33: 0 | AC33: 0 | AD33: 0 | AE33: 1 | AF33: 0 | AG33: 588 | AH33: 2 | AI33: 6 | AJ33: 102 | AK33: 77 | AL33: 48 | AM33: 74 | AN33: 60 | AO33: 56 | AP33: 22 | AQ33: 141
C34: 女 | D34: 569 | E34: 537 | F34: 19 | G34: 1 | H34: 9 | I34: 0 | J34: 3 | K34: 569 | L34: 7 | M34: 41 | N34: 210 | O34: 96 | P34: 70 | Q34: 74 | R34: 50 | S34: 15 | T34: 5 | U34: 1 | V34: 569 | W34: 504 | X34: 28 | Y34: 1 | Z34: 11 | AA34: 0 | AB34: 3 | AC34: 3 | AD34: 7 | AE34: 9 | AF34: 3 | AG34: 67 | AH34: 1 | AI34: 2 | AJ34: 47 | AK34: 4 | AL34: 0 | AM34: 1 | AN34: 3 | AO34: 2 | AP34: 0 | AQ34: 7
C35: 其他 | D35: 0 | E35: 0 | F35: 0 | G35: 0 | H35: 0 | I35: 0 | J35: 0 | K35: 0 | L35: 0 | M35: 0 | N35: 0 | O35: 0 | P35: 0 | Q35: 0 | R35: 0 | S35: 0 | T35: 0 | U35: 0 | V35: 0 | W35: 0 | X35: 0 | Y35: 0 | Z35: 0 | AA35: 0 | AB35: 0 | AC35: 0 | AD35: 0 | AE35: 0 | AF35: 0 | AG35: 0 | AH35: 0 | AI35: 0 | AJ35: 0 | AK35: 0 | AL35: 0 | AM35: 0 | AN35: 0 | AO35: 0 | AP35: 0 | AQ35: 0
C36: 不詳 | D36: 2 | E36: 1 | F36: 0 | G36: 0 | H36: 0 | I36: 0 | J36: 1 | K36: 2 | L36: 0 | M36: 0 | N36: 0 | O36: 1 | P36: 0 | Q36: 1 | R36: 0 | S36: 0 | T36: 0 | U36: 0 | V36: 2 | W36: 0 | X36: 0 | Y36: 0 | Z36: 0 | AA36: 1 | AB36: 0 | AC36: 0 | AD36: 0 | AE36: 0 | AF36: 1 | AG36: 8 | AH36: 0 | AI36: 0 | AJ36: 0 | AK36: 0 | AL36: 0 | AM36: 0 | AN36: 0 | AO36: 0 | AP36: 0 | AQ36: 8
A37: 高雄市 | C37: 計 | D37: 970 | E37: 895 | F37: 59 | G37: 5 | H37: 10 | I37: 0 | J37: 1 | K37: 970 | L37: 12 | M37: 74 | N37: 436 | O37: 156 | P37: 89 | Q37: 101 | R37: 68 | S37: 27 | T37: 5 | U37: 2 | V37: 970 | W37: 846 | X37: 51 | Y37: 2 | Z37: 34 | AA37: 1 | AB37: 1 | AC37: 6 | AD37: 11 | AE37: 11 | AF37: 7 | AG37: 940 | AH37: 1 | AI37: 15 | AJ37: 224 | AK37: 125 | AL37: 77 | AM37: 82 | AN37: 89 | AO37: 82 | AP37: 41 | AQ37: 204
C38: 男 | D38: 181 | E38: 164 | F38: 15 | G38: 0 | H38: 1 | I38: 0 | J38: 1 | K38: 181 | L38: 0 | M38: 26 | N38: 110 | O38: 27 | P38: 9 | Q38: 3 | R38: 4 | S38: 2 | T38: 0 | U38: 0 | V38: 181 | W38: 165 | X38: 10 | Y38: 0 | Z38: 2 | AA38: 0 | AB38: 0 | AC38: 1 | AD38: 1 | AE38: 2 | AF38: 0 | AG38: 816 | AH38: 1 | AI38: 14 | AJ38: 145 | AK38: 118 | AL38: 77 | AM38: 80 | AN38: 86 | AO38: 80 | AP38: 41 | AQ38: 174
C39: 女 | D39: 787 | E39: 729 | F39: 44 | G39: 5 | H39: 9 | I39: 0 | J39: 0 | K39: 787 | L39: 12 | M39: 47 | N39: 326 | O39: 128 | P39: 80 | Q39: 98 | R39: 64 | S39: 25 | T39: 5 | U39: 2 | V39: 787 | W39: 679 | X39: 41 | Y39: 2 | Z39: 32 | AA39: 1 | AB39: 1 | AC39: 5 | AD39: 10 | AE39: 9 | AF39: 7 | AG39: 96 | AH39: 0 | AI39: 1 | AJ39: 79 | AK39: 7 | AL39: 0 | AM39: 2 | AN39: 3 | AO39: 2 | AP39: 0 | AQ39: 2
C40: 其他 | D40: 2 | E40: 2 | F40: 0 | G40: 0 | H40: 0 | I40: 0 | J40: 0 | K40: 2 | L40: 0 | M40: 1 | N40: 0 | O40: 1 | P40: 0 | Q40: 0 | R40: 0 | S40: 0 | T40: 0 | U40: 0 | V40: 2 | W40: 2 | X40: 0 | Y40: 0 | Z40: 0 | AA40: 0 | AB40: 0 | AC40: 0 | AD40: 0 | AE40: 0 | AF40: 0 | AG40: 0 | AH40: 0 | AI40: 0 | AJ40: 0 | AK40: 0 | AL40: 0 | AM40: 0 | AN40: 0 | AO40: 0 | AP40: 0 | AQ40: 0
C41: 不詳 | D41: 0 | E41: 0 | F41: 0 | G41: 0 | H41: 0 | I41: 0 | J41: 0 | K41: 0 | L41: 0 | M41: 0 | N41: 0 | O41: 0 | P41: 0 | Q41: 0 | R41: 0 | S41: 0 | T41: 0 | U41: 0 | V41: 0 | W41: 0 | X41: 0 | Y41: 0 | Z41: 0 | AA41: 0 | AB41: 0 | AC41: 0 | AD41: 0 | AE41: 0 | AF41: 0 | AG41: 28 | AH41: 0 | AI41: 0 | AJ41: 0 | AK41: 0 | AL41: 0 | AM41: 0 | AN41: 0 | AO41: 0 | AP41: 0 | AQ41: 28
A42: 宜蘭縣 | C42: 計 | D42: 183 | E42: 154 | F42: 23 | G42: 1 | H42: 1 | I42: 0 | J42: 4 | K42: 183 | L42: 5 | M42: 14 | N42: 94 | O42: 20 | P42: 9 | Q42: 20 | R42: 11 | S42: 6 | T42: 2 | U42: 2 | V42: 183 | W42: 161 | X42: 6 | Y42: 0 | Z42: 7 | AA42: 0 | AB42: 0 | AC42: 1 | AD42: 4 | AE42: 2 | AF42: 2 | AG42: 186 | AH42: 2 | AI42: 6 | AJ42: 65 | AK42: 24 | AL42: 10 | AM42: 16 | AN42: 14 | AO42: 8 | AP42: 8 | AQ42: 33
C43: 男 | D43: 36 | E43: 29 | F43: 6 | G43: 1 | H43: 0 | I43: 0 | J43: 0 | K43: 36 | L43: 0 | M43: 4 | N43: 25 | O43: 2 | P43: 0 | Q43: 3 | R43: 1 | S43: 1 | T43: 0 | U43: 0 | V43: 36 | W43: 32 | X43: 1 | Y43: 0 | Z43: 1 | AA43: 0 | AB43: 0 | AC43: 0 | AD43: 1 | AE43: 1 | AF43: 0 | AG43: 156 | AH43: 1 | AI43: 4 | AJ43: 47 | AK43: 22 | AL43: 10 | AM43: 15 | AN43: 13 | AO43: 8 | AP43: 8 | AQ43: 28
C44: 女 | D44: 146 | E44: 124 | F44: 17 | G44: 0 | H44: 1 | I44: 0 | J44: 4 | K44: 146 | L44: 5 | M44: 10 | N44: 69 | O44: 18 | P44: 9 | Q44: 17 | R44: 10 | S44: 5 | T44: 2 | U44: 1 | V44: 146 | W44: 129 | X44: 5 | Y44: 0 | Z44: 6 | AA44: 0 | AB44: 0 | AC44: 1 | AD44: 3 | AE44: 1 | AF44: 1 | AG44: 24 | AH44: 0 | AI44: 2 | AJ44: 18 | AK44: 2 | AL44: 0 | AM44: 1 | AN44: 1 | AO44: 0 | AP44: 0 | AQ44: 0
C45: 其他 | D45: 0 | E45: 0 | F45: 0 | G45: 0 | H45: 0 | I45: 0 | J45: 0 | K45: 0 | L45: 0 | M45: 0 | N45: 0 | O45: 0 | P45: 0 | Q45: 0 | R45: 0 | S45: 0 | T45: 0 | U45: 0 | V45: 0 | W45: 0 | X45: 0 | Y45: 0 | Z45: 0 | AA45: 0 | AB45: 0 | AC45: 0 | AD45: 0 | AE45: 0 | AF45: 0 | AG45: 0 | AH45: 0 | AI45: 0 | AJ45: 0 | AK45: 0 | AL45: 0 | AM45: 0 | AN45: 0 | AO45: 0 | AP45: 0 | AQ45: 0
C46: 不詳 | D46: 1 | E46: 1 | F46: 0 | G46: 0 | H46: 0 | I46: 0 | J46: 0 | K46: 1 | L46: 0 | M46: 0 | N46: 0 | O46: 0 | P46: 0 | Q46: 0 | R46: 0 | S46: 0 | T46: 0 | U46: 1 | V46: 1 | W46: 0 | X46: 0 | Y46: 0 | Z46: 0 | AA46: 0 | AB46: 0 | AC46: 0 | AD46: 0 | AE46: 0 | AF46: 1 | AG46: 6 | AH46: 1 | AI46: 0 | AJ46: 0 | AK46: 0 | AL46: 0 | AM46: 0 | AN46: 0 | AO46: 0 | AP46: 0 | AQ46: 5
A47: 新竹縣 | C47: 計 | D47: 236 | E47: 183 | F47: 47 | G47: 1 | H47: 2 | I47: 0 | J47: 3 | K47: 236 | L47: 3 | M47: 25 | N47: 107 | O47: 23 | P47: 21 | Q47: 25 | R47: 21 | S47: 7 | T47: 3 | U47: 1 | V47: 236 | W47: 217 | X47: 8 | Y47: 0 | Z47: 6 | AA47: 0 | AB47: 0 | AC47: 1 | AD47: 1 | AE47: 1 | AF47: 2 | AG47: 204 | AH47: 0 | AI47: 1 | AJ47: 54 | AK47: 17 | AL47: 10 | AM47: 23 | AN47: 18 | AO47: 16 | AP47: 7 | AQ47: 58
C48: 男 | D48: 42 | E48: 30 | F48: 12 | G48: 0 | H48: 0 | I48: 0 | J48: 0 | K48: 42 | L48: 1 | M48: 7 | N48: 27 | O48: 2 | P48: 2 | Q48: 0 | R48: 1 | S48: 1 | T48: 0 | U48: 1 | V48: 42 | W48: 37 | X48: 2 | Y48: 0 | Z48: 1 | AA48: 0 | AB48: 0 | AC48: 0 | AD48: 0 | AE48: 1 | AF48: 1 | AG48: 168 | AH48: 0 | AI48: 1 | AJ48: 33 | AK48: 16 | AL48: 10 | AM48: 22 | AN48: 17 | AO48: 16 | AP48: 7 | AQ48: 46
C49: 女 | D49: 192 | E49: 151 | F49: 35 | G49: 1 | H49: 2 | I49: 0 | J49: 3 | K49: 192 | L49: 2 | M49: 18 | N49: 78 | O49: 21 | P49: 19 | Q49: 25 | R49: 20 | S49: 6 | T49: 3 | U49: 0 | V49: 192 | W49: 178 | X49: 6 | Y49: 0 | Z49: 5 | AA49: 0 | AB49: 0 | AC49: 1 | AD49: 1 | AE49: 0 | AF49: 1 | AG49: 25 | AH49: 0 | AI49: 0 | AJ49: 20 | AK49: 1 | AL49: 0 | AM49: 1 | AN49: 1 | AO49: 0 | AP49: 0 | AQ49: 2
C50: 其他 | D50: 0 | E50: 0 | F50: 0 | G50: 0 | H50: 0 | I50: 0 | J50: 0 | K50: 0 | L50: 0 | M50: 0 | N50: 0 | O50: 0 | P50: 0 | Q50: 0 | R50: 0 | S50: 0 | T50: 0 | U50: 0 | V50: 0 | W50: 0 | X50: 0 | Y50: 0 | Z50: 0 | AA50: 0 | AB50: 0 | AC50: 0 | AD50: 0 | AE50: 0 | AF50: 0 | AG50: 0 | AH50: 0 | AI50: 0 | AJ50: 0 | AK50: 0 | AL50: 0 | AM50: 0 | AN50: 0 | AO50: 0 | AP50: 0 | AQ50: 0
C51: 不詳 | D51: 2 | E51: 2 | F51: 0 | G51: 0 | H51: 0 | I51: 0 | J51: 0 | K51: 2 | L51: 0 | M51: 0 | N51: 2 | O51: 0 | P51: 0 | Q51: 0 | R51: 0 | S51: 0 | T51: 0 | U51: 0 | V51: 2 | W51: 2 | X51: 0 | Y51: 0 | Z51: 0 | AA51: 0 | AB51: 0 | AC51: 0 | AD51: 0 | AE51: 0 | AF51: 0 | AG51: 11 | AH51: 0 | AI51: 0 | AJ51: 1 | AK51: 0 | AL51: 0 | AM51: 0 | AN51: 0 | AO51: 0 | AP51: 0 | AQ51: 10
A52: 苗栗縣 | C52: 計 | D52: 176 | E52: 159 | F52: 14 | G52: 0 | H52: 2 | I52: 0 | J52: 1 | K52: 176 | L52: 2 | M52: 15 | N52: 90 | O52: 19 | P52: 12 | Q52: 16 | R52: 14 | S52: 5 | T52: 3 | U52: 0 | V52: 176 | W52: 152 | X52: 13 | Y52: 0 | Z52: 5 | AA52: 0 | AB52: 0 | AC52: 1 | AD52: 1 | AE52: 4 | AF52: 0 | AG52: 180 | AH52: 0 | AI52: 3 | AJ52: 54 | AK52: 31 | AL52: 12 | AM52: 12 | AN52: 18 | AO52: 15 | AP52: 5 | AQ52: 30
C53: 男 | D53: 22 | E53: 18 | F53: 4 | G53: 0 | H53: 0 | I53: 0 | J53: 0 | K53: 22 | L53: 0 | M53: 3 | N53: 17 | O53: 1 | P53: 0 | Q53: 1 | R53: 0 | S53: 0 | T53: 0 | U53: 0 | V53: 22 | W53: 21 | X53: 1 | Y53: 0 | Z53: 0 | AA53: 0 | AB53: 0 | AC53: 0 | AD53: 0 | AE53: 0 | AF53: 0 | AG53: 165 | AH53: 0 | AI53: 2 | AJ53: 42 | AK53: 31 | AL53: 12 | AM53: 12 | AN53: 17 | AO53: 15 | AP53: 5 | AQ53: 29
C54: 女 | D54: 151 | E54: 138 | F54: 10 | G54: 0 | H54: 2 | I54: 0 | J54: 1 | K54: 151 | L54: 2 | M54: 12 | N54: 70 | O54: 18 | P54: 12 | Q54: 15 | R54: 14 | S54: 5 | T54: 3 | U54: 0 | V54: 151 | W54: 128 | X54: 12 | Y54: 0 | Z54: 5 | AA54: 0 | AB54: 0 | AC54: 1 | AD54: 1 | AE54: 4 | AF54: 0 | AG54: 13 | AH54: 0 | AI54: 1 | AJ54: 11 | AK54: 0 | AL54: 0 | AM54: 0 | AN54: 1 | AO54: 0 | AP54: 0 | AQ54: 0
C55: 其他 | D55: 0 | E55: 0 | F55: 0 | G55: 0 | H55: 0 | I55: 0 | J55: 0 | K55: 0 | L55: 0 | M55: 0 | N55: 0 | O55: 0 | P55: 0 | Q55: 0 | R55: 0 | S55: 0 | T55: 0 | U55: 0 | V55: 0 | W55: 0 | X55: 0 | Y55: 0 | Z55: 0 | AA55: 0 | AB55: 0 | AC55: 0 | AD55: 0 | AE55: 0 | AF55: 0 | AG55: 0 | AH55: 0 | AI55: 0 | AJ55: 0 | AK55: 0 | AL55: 0 | AM55: 0 | AN55: 0 | AO55: 0 | AP55: 0 | AQ55: 0
C56: 不詳 | D56: 3 | E56: 3 | F56: 0 | G56: 0 | H56: 0 | I56: 0 | J56: 0 | K56: 3 | L56: 0 | M56: 0 | N56: 3 | O56: 0 | P56: 0 | Q56: 0 | R56: 0 | S56: 0 | T56: 0 | U56: 0 | V56: 3 | W56: 3 | X56: 0 | Y56: 0 | Z56: 0 | AA56: 0 | AB56: 0 | AC56: 0 | AD56: 0 | AE56: 0 | AF56: 0 | AG56: 2 | AH56: 0 | AI56: 0 | AJ56: 1 | AK56: 0 | AL56: 0 | AM56: 0 | AN56: 0 | AO56: 0 | AP56: 0 | AQ56: 1
A57: 彰化縣 | C57: 計 | D57: 487 | E57: 448 | F57: 8 | G57: 0 | H57: 5 | I57: 0 | J57: 26 | K57: 487 | L57: 14 | M57: 43 | N57: 275 | O57: 54 | P57: 23 | Q57: 47 | R57: 17 | S57: 3 | T57: 9 | U57: 2 | V57: 487 | W57: 420 | X57: 28 | Y57: 1 | Z57: 23 | AA57: 1 | AB57: 0 | AC57: 3 | AD57: 3 | AE57: 2 | AF57: 6 | AG57: 448 | AH57: 0 | AI57: 4 | AJ57: 151 | AK57: 63 | AL57: 19 | AM57: 40 | AN57: 28 | AO57: 27 | AP57: 19 | AQ57: 97
C58: 男 | D58: 106 | E58: 99 | F58: 0 | G58: 0 | H58: 0 | I58: 0 | J58: 7 | K58: 106 | L58: 2 | M58: 14 | N58: 76 | O58: 4 | P58: 3 | Q58: 3 | R58: 3 | S58: 0 | T58: 1 | U58: 0 | V58: 106 | W58: 95 | X58: 5 | Y58: 0 | Z58: 3 | AA58: 0 | AB58: 0 | AC58: 0 | AD58: 1 | AE58: 0 | AF58: 2 | AG58: 375 | AH58: 0 | AI58: 4 | AJ58: 104 | AK58: 57 | AL58: 19 | AM58: 37 | AN58: 26 | AO58: 27 | AP58: 19 | AQ58: 82
C59: 女 | D59: 377 | E59: 347 | F59: 8 | G59: 0 | H59: 5 | I59: 0 | J59: 17 | K59: 377 | L59: 12 | M59: 27 | N59: 197 | O59: 50 | P59: 20 | Q59: 44 | R59: 14 | S59: 3 | T59: 8 | U59: 2 | V59: 377 | W59: 322 | X59: 22 | Y59: 1 | Z59: 20 | AA59: 1 | AB59: 0 | AC59: 3 | AD59: 2 | AE59: 2 | AF59: 4 | AG59: 62 | AH59: 0 | AI59: 0 | AJ59: 45 | AK59: 6 | AL59: 0 | AM59: 3 | AN59: 2 | AO59: 0 | AP59: 0 | AQ59: 6
C60: 其他 | D60: 0 | E60: 0 | F60: 0 | G60: 0 | H60: 0 | I60: 0 | J60: 0 | K60: 0 | L60: 0 | M60: 0 | N60: 0 | O60: 0 | P60: 0 | Q60: 0 | R60: 0 | S60: 0 | T60: 0 | U60: 0 | V60: 0 | W60: 0 | X60: 0 | Y60: 0 | Z60: 0 | AA60: 0 | AB60: 0 | AC60: 0 | AD60: 0 | AE60: 0 | AF60: 0 | AG60: 0 | AH60: 0 | AI60: 0 | AJ60: 0 | AK60: 0 | AL60: 0 | AM60: 0 | AN60: 0 | AO60: 0 | AP60: 0 | AQ60: 0
C61: 不詳 | D61: 4 | E61: 2 | F61: 0 | G61: 0 | H61: 0 | I61: 0 | J61: 2 | K61: 4 | L61: 0 | M61: 2 | N61: 2 | O61: 0 | P61: 0 | Q61: 0 | R61: 0 | S61: 0 | T61: 0 | U61: 0 | V61: 4 | W61: 3 | X61: 1 | Y61: 0 | Z61: 0 | AA61: 0 | AB61: 0 | AC61: 0 | AD61: 0 | AE61: 0 | AF61: 0 | AG61: 11 | AH61: 0 | AI61: 0 | AJ61: 2 | AK61: 0 | AL61: 0 | AM61: 0 | AN61: 0 | AO61: 0 | AP61: 0 | AQ61: 9
A62: 南投縣 | C62: 計 | D62: 246 | E62: 183 | F62: 55 | G62: 0 | H62: 1 | I62: 0 | J62: 7 | K62: 246 | L62: 4 | M62: 27 | N62: 129 | O62: 29 | P62: 14 | Q62: 15 | R62: 14 | S62: 6 | T62: 4 | U62: 4 | V62: 246 | W62: 207 | X62: 19 | Y62: 0 | Z62: 7 | AA62: 0 | AB62: 0 | AC62: 3 | AD62: 3 | AE62: 4 | AF62: 3 | AG62: 222 | AH62: 0 | AI62: 6 | AJ62: 49 | AK62: 40 | AL62: 10 | AM62: 19 | AN62: 18 | AO62: 14 | AP62: 8 | AQ62: 58
C63: 男 | D63: 45 | E63: 38 | F63: 7 | G63: 0 | H63: 0 | I63: 0 | J63: 0 | K63: 45 | L63: 1 | M63: 6 | N63: 28 | O63: 3 | P63: 3 | Q63: 2 | R63: 1 | S63: 1 | T63: 0 | U63: 0 | V63: 45 | W63: 37 | X63: 4 | Y63: 0 | Z63: 2 | AA63: 0 | AB63: 0 | AC63: 0 | AD63: 1 | AE63: 1 | AF63: 0 | AG63: 186 | AH63: 0 | AI63: 4 | AJ63: 30 | AK63: 38 | AL63: 10 | AM63: 19 | AN63: 17 | AO63: 14 | AP63: 8 | AQ63: 46
C64: 女 | D64: 200 | E64: 145 | F64: 47 | G64: 0 | H64: 1 | I64: 0 | J64: 7 | K64: 200 | L64: 3 | M64: 21 | N64: 100 | O64: 26 | P64: 11 | Q64: 13 | R64: 13 | S64: 5 | T64: 4 | U64: 4 | V64: 200 | W64: 169 | X64: 15 | Y64: 0 | Z64: 5 | AA64: 0 | AB64: 0 | AC64: 3 | AD64: 2 | AE64: 3 | AF64: 3 | AG64: 25 | AH64: 0 | AI64: 2 | AJ64: 19 | AK64: 2 | AL64: 0 | AM64: 0 | AN64: 1 | AO64: 0 | AP64: 0 | AQ64: 1
C65: 其他 | D65: 0 | E65: 0 | F65: 0 | G65: 0 | H65: 0 | I65: 0 | J65: 0 | K65: 0 | L65: 0 | M65: 0 | N65: 0 | O65: 0 | P65: 0 | Q65: 0 | R65: 0 | S65: 0 | T65: 0 | U65: 0 | V65: 0 | W65: 0 | X65: 0 | Y65: 0 | Z65: 0 | AA65: 0 | AB65: 0 | AC65: 0 | AD65: 0 | AE65: 0 | AF65: 0 | AG65: 0 | AH65: 0 | AI65: 0 | AJ65: 0 | AK65: 0 | AL65: 0 | AM65: 0 | AN65: 0 | AO65: 0 | AP65: 0 | AQ65: 0
C66: 不詳 | D66: 1 | E66: 0 | F66: 1 | G66: 0 | H66: 0 | I66: 0 | J66: 0 | K66: 1 | L66: 0 | M66: 0 | N66: 1 | O66: 0 | P66: 0 | Q66: 0 | R66: 0 | S66: 0 | T66: 0 | U66: 0 | V66: 1 | W66: 1 | X66: 0 | Y66: 0 | Z66: 0 | AA66: 0 | AB66: 0 | AC66: 0 | AD66: 0 | AE66: 0 | AF66: 0 | AG66: 11 | AH66: 0 | AI66: 0 | AJ66: 0 | AK66: 0 | AL66: 0 | AM66: 0 | AN66: 0 | AO66: 0 | AP66: 0 | AQ66: 11
A67: 雲林縣 | C67: 計 | D67: 201 | E67: 193 | F67: 2 | G67: 0 | H67: 4 | I67: 0 | J67: 2 | K67: 201 | L67: 7 | M67: 13 | N67: 105 | O67: 26 | P67: 9 | Q67: 18 | R67: 13 | S67: 4 | T67: 3 | U67: 3 | V67: 201 | W67: 174 | X67: 13 | Y67: 0 | Z67: 6 | AA67: 0 | AB67: 1 | AC67: 0 | AD67: 4 | AE67: 1 | AF67: 2 | AG67: 212 | AH67: 1 | AI67: 2 | AJ67: 58 | AK67: 26 | AL67: 21 | AM67: 14 | AN67: 23 | AO67: 17 | AP67: 8 | AQ67: 42
C68: 男 | D68: 37 | E68: 36 | F68: 0 | G68: 0 | H68: 1 | I68: 0 | J68: 0 | K68: 37 | L68: 0 | M68: 6 | N68: 21 | O68: 5 | P68: 1 | Q68: 2 | R68: 1 | S68: 0 | T68: 0 | U68: 1 | V68: 37 | W68: 33 | X68: 0 | Y68: 0 | Z68: 2 | AA68: 0 | AB68: 0 | AC68: 0 | AD68: 2 | AE68: 0 | AF68: 0 | AG68: 191 | AH68: 1 | AI68: 1 | AJ68: 43 | AK68: 26 | AL68: 21 | AM68: 14 | AN68: 23 | AO68: 17 | AP68: 7 | AQ68: 38
C69: 女 | D69: 164 | E69: 157 | F69: 2 | G69: 0 | H69: 3 | I69: 0 | J69: 2 | K69: 164 | L69: 7 | M69: 7 | N69: 84 | O69: 21 | P69: 8 | Q69: 16 | R69: 12 | S69: 4 | T69: 3 | U69: 2 | V69: 164 | W69: 141 | X69: 13 | Y69: 0 | Z69: 4 | AA69: 0 | AB69: 1 | AC69: 0 | AD69: 2 | AE69: 1 | AF69: 2 | AG69: 17 | AH69: 0 | AI69: 1 | AJ69: 15 | AK69: 0 | AL69: 0 | AM69: 0 | AN69: 0 | AO69: 0 | AP69: 1 | AQ69: 0
C70: 其他 | D70: 0 | E70: 0 | F70: 0 | G70: 0 | H70: 0 | I70: 0 | J70: 0 | K70: 0 | L70: 0 | M70: 0 | N70: 0 | O70: 0 | P70: 0 | Q70: 0 | R70: 0 | S70: 0 | T70: 0 | U70: 0 | V70: 0 | W70: 0 | X70: 0 | Y70: 0 | Z70: 0 | AA70: 0 | AB70: 0 | AC70: 0 | AD70: 0 | AE70: 0 | AF70: 0 | AG70: 0 | AH70: 0 | AI70: 0 | AJ70: 0 | AK70: 0 | AL70: 0 | AM70: 0 | AN70: 0 | AO70: 0 | AP70: 0 | AQ70: 0
C71: 不詳 | D71: 0 | E71: 0 | F71: 0 | G71: 0 | H71: 0 | I71: 0 | J71: 0 | K71: 0 | L71: 0 | M71: 0 | N71: 0 | O71: 0 | P71: 0 | Q71: 0 | R71: 0 | S71: 0 | T71: 0 | U71: 0 | V71: 0 | W71: 0 | X71: 0 | Y71: 0 | Z71: 0 | AA71: 0 | AB71: 0 | AC71: 0 | AD71: 0 | AE71: 0 | AF71: 0 | AG71: 4 | AH71: 0 | AI71: 0 | AJ71: 0 | AK71: 0 | AL71: 0 | AM71: 0 | AN71: 0 | AO71: 0 | AP71: 0 | AQ71: 4
A72: 嘉義縣 | C72: 計 | D72: 148 | E72: 136 | F72: 11 | G72: 0 | H72: 1 | I72: 0 | J72: 0 | K72: 148 | L72: 1 | M72: 16 | N72: 80 | O72: 13 | P72: 9 | Q72: 15 | R72: 11 | S72: 3 | T72: 0 | U72: 0 | V72: 148 | W72: 129 | X72: 14 | Y72: 1 | Z72: 1 | AA72: 0 | AB72: 0 | AC72: 0 | AD72: 1 | AE72: 2 | AF72: 0 | AG72: 120 | AH72: 0 | AI72: 5 | AJ72: 31 | AK72: 16 | AL72: 3 | AM72: 17 | AN72: 20 | AO72: 5 | AP72: 4 | AQ72: 19
C73: 男 | D73: 41 | E73: 38 | F73: 2 | G73: 0 | H73: 1 | I73: 0 | J73: 0 | K73: 41 | L73: 0 | M73: 4 | N73: 27 | O73: 4 | P73: 2 | Q73: 1 | R73: 2 | S73: 1 | T73: 0 | U73: 0 | V73: 41 | W73: 35 | X73: 4 | Y73: 0 | Z73: 0 | AA73: 0 | AB73: 0 | AC73: 0 | AD73: 0 | AE73: 2 | AF73: 0 | AG73: 107 | AH73: 0 | AI73: 5 | AJ73: 22 | AK73: 15 | AL73: 3 | AM73: 15 | AN73: 20 | AO73: 5 | AP73: 4 | AQ73: 18
C74: 女 | D74: 107 | E74: 98 | F74: 9 | G74: 0 | H74: 0 | I74: 0 | J74: 0 | K74: 107 | L74: 1 | M74: 12 | N74: 53 | O74: 9 | P74: 7 | Q74: 14 | R74: 9 | S74: 2 | T74: 0 | U74: 0 | V74: 107 | W74: 94 | X74: 10 | Y74: 1 | Z74: 1 | AA74: 0 | AB74: 0 | AC74: 0 | AD74: 1 | AE74: 0 | AF74: 0 | AG74: 12 | AH74: 0 | AI74: 0 | AJ74: 9 | AK74: 1 | AL74: 0 | AM74: 2 | AN74: 0 | AO74: 0 | AP74: 0 | AQ74: 0
C75: 其他 | D75: 0 | E75: 0 | F75: 0 | G75: 0 | H75: 0 | I75: 0 | J75: 0 | K75: 0 | L75: 0 | M75: 0 | N75: 0 | O75: 0 | P75: 0 | Q75: 0 | R75: 0 | S75: 0 | T75: 0 | U75: 0 | V75: 0 | W75: 0 | X75: 0 | Y75: 0 | Z75: 0 | AA75: 0 | AB75: 0 | AC75: 0 | AD75: 0 | AE75: 0 | AF75: 0 | AG75: 0 | AH75: 0 | AI75: 0 | AJ75: 0 | AK75: 0 | AL75: 0 | AM75: 0 | AN75: 0 | AO75: 0 | AP75: 0 | AQ75: 0
C76: 不詳 | D76: 0 | E76: 0 | F76: 0 | G76: 0 | H76: 0 | I76: 0 | J76: 0 | K76: 0 | L76: 0 | M76: 0 | N76: 0 | O76: 0 | P76: 0 | Q76: 0 | R76: 0 | S76: 0 | T76: 0 | U76: 0 | V76: 0 | W76: 0 | X76: 0 | Y76: 0 | Z76: 0 | AA76: 0 | AB76: 0 | AC76: 0 | AD76: 0 | AE76: 0 | AF76: 0 | AG76: 1 | AH76: 0 | AI76: 0 | AJ76: 0 | AK76: 0 | AL76: 0 | AM76: 0 | AN76: 0 | AO76: 0 | AP76: 0 | AQ76: 1
A77: 屏東縣 | C77: 計 | D77: 290 | E77: 230 | F77: 52 | G77: 3 | H77: 2 | I77: 0 | J77: 3 | K77: 290 | L77: 7 | M77: 40 | N77: 131 | O77: 34 | P77: 18 | Q77: 29 | R77: 19 | S77: 7 | T77: 3 | U77: 2 | V77: 290 | W77: 249 | X77: 18 | Y77: 0 | Z77: 9 | AA77: 0 | AB77: 1 | AC77: 0 | AD77: 4 | AE77: 6 | AF77: 3 | AG77: 257 | AH77: 1 | AI77: 10 | AJ77: 68 | AK77: 34 | AL77: 21 | AM77: 23 | AN77: 27 | AO77: 29 | AP77: 14 | AQ77: 30
C78: 男 | D78: 49 | E78: 34 | F78: 14 | G78: 0 | H78: 1 | I78: 0 | J78: 0 | K78: 49 | L78: 0 | M78: 10 | N78: 29 | O78: 3 | P78: 1 | Q78: 3 | R78: 2 | S78: 0 | T78: 1 | U78: 0 | V78: 49 | W78: 42 | X78: 3 | Y78: 0 | Z78: 0 | AA78: 0 | AB78: 0 | AC78: 0 | AD78: 1 | AE78: 3 | AF78: 0 | AG78: 233 | AH78: 1 | AI78: 10 | AJ78: 52 | AK78: 32 | AL78: 21 | AM78: 22 | AN78: 25 | AO78: 28 | AP78: 14 | AQ78: 28
C79: 女 | D79: 241 | E79: 196 | F79: 38 | G79: 3 | H79: 1 | I79: 0 | J79: 3 | K79: 241 | L79: 7 | M79: 30 | N79: 102 | O79: 31 | P79: 17 | Q79: 26 | R79: 17 | S79: 7 | T79: 2 | U79: 2 | V79: 241 | W79: 207 | X79: 15 | Y79: 0 | Z79: 9 | AA79: 0 | AB79: 1 | AC79: 0 | AD79: 3 | AE79: 3 | AF79: 3 | AG79: 22 | AH79: 0 | AI79: 0 | AJ79: 16 | AK79: 1 | AL79: 0 | AM79: 1 | AN79: 2 | AO79: 1 | AP79: 0 | AQ79: 1
C80: 其他 | D80: 0 | E80: 0 | F80: 0 | G80: 0 | H80: 0 | I80: 0 | J80: 0 | K80: 0 | L80: 0 | M80: 0 | N80: 0 | O80: 0 | P80: 0 | Q80: 0 | R80: 0 | S80: 0 | T80: 0 | U80: 0 | V80: 0 | W80: 0 | X80: 0 | Y80: 0 | Z80: 0 | AA80: 0 | AB80: 0 | AC80: 0 | AD80: 0 | AE80: 0 | AF80: 0 | AG80: 0 | AH80: 0 | AI80: 0 | AJ80: 0 | AK80: 0 | AL80: 0 | AM80: 0 | AN80: 0 | AO80: 0 | AP80: 0 | AQ80: 0
C81: 不詳 | D81: 0 | E81: 0 | F81: 0 | G81: 0 | H81: 0 | I81: 0 | J81: 0 | K81: 0 | L81: 0 | M81: 0 | N81: 0 | O81: 0 | P81: 0 | Q81: 0 | R81: 0 | S81: 0 | T81: 0 | U81: 0 | V81: 0 | W81: 0 | X81: 0 | Y81: 0 | Z81: 0 | AA81: 0 | AB81: 0 | AC81: 0 | AD81: 0 | AE81: 0 | AF81: 0 | AG81: 2 | AH81: 0 | AI81: 0 | AJ81: 0 | AK81: 1 | AL81: 0 | AM81: 0 | AN81: 0 | AO81: 0 | AP81: 0 | AQ81: 1
A82: 臺東縣 | C82: 計 | D82: 144 | E82: 62 | F82: 80 | G82: 0 | H82: 1 | I82: 0 | J82: 1 | K82: 144 | L82: 2 | M82: 13 | N82: 74 | O82: 16 | P82: 10 | Q82: 11 | R82: 11 | S82: 3 | T82: 1 | U82: 3 | V82: 144 | W82: 116 | X82: 9 | Y82: 0 | Z82: 6 | AA82: 0 | AB82: 2 | AC82: 0 | AD82: 7 | AE82: 3 | AF82: 1 | AG82: 145 | AH82: 0 | AI82: 3 | AJ82: 38 | AK82: 20 | AL82: 6 | AM82: 10 | AN82: 14 | AO82: 12 | AP82: 7 | AQ82: 35
C83: 男 | D83: 35 | E83: 17 | F83: 18 | G83: 0 | H83: 0 | I83: 0 | J83: 0 | K83: 35 | L83: 0 | M83: 2 | N83: 25 | O83: 2 | P83: 2 | Q83: 2 | R83: 1 | S83: 0 | T83: 0 | U83: 1 | V83: 35 | W83: 28 | X83: 2 | Y83: 0 | Z83: 1 | AA83: 0 | AB83: 0 | AC83: 0 | AD83: 3 | AE83: 1 | AF83: 0 | AG83: 126 | AH83: 0 | AI83: 3 | AJ83: 28 | AK83: 18 | AL83: 6 | AM83: 9 | AN83: 13 | AO83: 11 | AP83: 7 | AQ83: 31
C84: 女 | D84: 105 | E84: 45 | F84: 59 | G84: 0 | H84: 1 | I84: 0 | J84: 0 | K84: 105 | L84: 2 | M84: 11 | N84: 47 | O84: 14 | P84: 8 | Q84: 9 | R84: 9 | S84: 3 | T84: 1 | U84: 1 | V84: 105 | W84: 86 | X84: 6 | Y84: 0 | Z84: 5 | AA84: 0 | AB84: 2 | AC84: 0 | AD84: 4 | AE84: 2 | AF84: 0 | AG84: 14 | AH84: 0 | AI84: 0 | AJ84: 10 | AK84: 2 | AL84: 0 | AM84: 0 | AN84: 1 | AO84: 1 | AP84: 0 | AQ84: 0
C85: 其他 | D85: 0 | E85: 0 | F85: 0 | G85: 0 | H85: 0 | I85: 0 | J85: 0 | K85: 0 | L85: 0 | M85: 0 | N85: 0 | O85: 0 | P85: 0 | Q85: 0 | R85: 0 | S85: 0 | T85: 0 | U85: 0 | V85: 0 | W85: 0 | X85: 0 | Y85: 0 | Z85: 0 | AA85: 0 | AB85: 0 | AC85: 0 | AD85: 0 | AE85: 0 | AF85: 0 | AG85: 0 | AH85: 0 | AI85: 0 | AJ85: 0 | AK85: 0 | AL85: 0 | AM85: 0 | AN85: 0 | AO85: 0 | AP85: 0 | AQ85: 0
C86: 不詳 | D86: 4 | E86: 0 | F86: 3 | G86: 0 | H86: 0 | I86: 0 | J86: 1 | K86: 4 | L86: 0 | M86: 0 | N86: 2 | O86: 0 | P86: 0 | Q86: 0 | R86: 1 | S86: 0 | T86: 0 | U86: 1 | V86: 4 | W86: 2 | X86: 1 | Y86: 0 | Z86: 0 | AA86: 0 | AB86: 0 | AC86: 0 | AD86: 0 | AE86: 0 | AF86: 1 | AG86: 5 | AH86: 0 | AI86: 0 | AJ86: 0 | AK86: 0 | AL86: 0 | AM86: 1 | AN86: 0 | AO86: 0 | AP86: 0 | AQ86: 4
A87: 花蓮縣 | C87: 計 | D87: 315 | E87: 149 | F87: 158 | G87: 0 | H87: 5 | I87: 0 | J87: 3 | K87: 315 | L87: 4 | M87: 40 | N87: 174 | O87: 30 | P87: 24 | Q87: 20 | R87: 18 | S87: 4 | T87: 0 | U87: 1 | V87: 315 | W87: 279 | X87: 16 | Y87: 0 | Z87: 10 | AA87: 0 | AB87: 0 | AC87: 2 | AD87: 1 | AE87: 3 | AF87: 4 | AG87: 319 | AH87: 1 | AI87: 12 | AJ87: 96 | AK87: 30 | AL87: 15 | AM87: 21 | AN87: 19 | AO87: 26 | AP87: 8 | AQ87: 91
C88: 男 | D88: 92 | E88: 44 | F88: 46 | G88: 0 | H88: 1 | I88: 0 | J88: 1 | K88: 92 | L88: 1 | M88: 15 | N88: 60 | O88: 4 | P88: 5 | Q88: 4 | R88: 3 | S88: 0 | T88: 0 | U88: 0 | V88: 92 | W88: 82 | X88: 7 | Y88: 0 | Z88: 1 | AA88: 0 | AB88: 0 | AC88: 0 | AD88: 0 | AE88: 1 | AF88: 1 | AG88: 266 | AH88: 1 | AI88: 11 | AJ88: 58 | AK88: 30 | AL88: 15 | AM88: 20 | AN88: 17 | AO88: 24 | AP88: 8 | AQ88: 82
C89: 女 | D89: 222 | E89: 105 | F89: 111 | G89: 0 | H89: 4 | I89: 0 | J89: 2 | K89: 222 | L89: 3 | M89: 25 | N89: 113 | O89: 26 | P89: 19 | Q89: 16 | R89: 15 | S89: 4 | T89: 0 | U89: 1 | V89: 222 | W89: 196 | X89: 9 | Y89: 0 | Z89: 9 | AA89: 0 | AB89: 0 | AC89: 2 | AD89: 1 | AE89: 2 | AF89: 3 | AG89: 44 | AH89: 0 | AI89: 1 | AJ89: 37 | AK89: 0 | AL89: 0 | AM89: 0 | AN89: 2 | AO89: 2 | AP89: 0 | AQ89: 2
C90: 其他 | D90: 0 | E90: 0 | F90: 0 | G90: 0 | H90: 0 | I90: 0 | J90: 0 | K90: 0 | L90: 0 | M90: 0 | N90: 0 | O90: 0 | P90: 0 | Q90: 0 | R90: 0 | S90: 0 | T90: 0 | U90: 0 | V90: 0 | W90: 0 | X90: 0 | Y90: 0 | Z90: 0 | AA90: 0 | AB90: 0 | AC90: 0 | AD90: 0 | AE90: 0 | AF90: 0 | AG90: 0 | AH90: 0 | AI90: 0 | AJ90: 0 | AK90: 0 | AL90: 0 | AM90: 0 | AN90: 0 | AO90: 0 | AP90: 0 | AQ90: 0
C91: 不詳 | D91: 1 | E91: 0 | F91: 1 | G91: 0 | H91: 0 | I91: 0 | J91: 0 | K91: 1 | L91: 0 | M91: 0 | N91: 1 | O91: 0 | P91: 0 | Q91: 0 | R91: 0 | S91: 0 | T91: 0 | U91: 0 | V91: 1 | W91: 1 | X91: 0 | Y91: 0 | Z91: 0 | AA91: 0 | AB91: 0 | AC91: 0 | AD91: 0 | AE91: 0 | AF91: 0 | AG91: 9 | AH91: 0 | AI91: 0 | AJ91: 1 | AK91: 0 | AL91: 0 | AM91: 1 | AN91: 0 | AO91: 0 | AP91: 0 | AQ91: 7
A92: 澎湖縣 | C92: 計 | D92: 27 | E92: 24 | F92: 3 | G92: 0 | H92: 0 | I92: 0 | J92: 0 | K92: 27 | L92: 2 | M92: 3 | N92: 13 | O92: 2 | P92: 2 | Q92: 4 | R92: 1 | S92: 0 | T92: 0 | U92: 0 | V92: 27 | W92: 23 | X92: 2 | Y92: 0 | Z92: 1 | AA92: 0 | AB92: 0 | AC92: 0 | AD92: 1 | AE92: 0 | AF92: 0 | AG92: 26 | AH92: 1 | AI92: 0 | AJ92: 4 | AK92: 4 | AL92: 3 | AM92: 3 | AN92: 2 | AO92: 4 | AP92: 2 | AQ92: 3
C93: 男 | D93: 2 | E93: 1 | F93: 1 | G93: 0 | H93: 0 | I93: 0 | J93: 0 | K93: 2 | L93: 0 | M93: 0 | N93: 2 | O93: 0 | P93: 0 | Q93: 0 | R93: 0 | S93: 0 | T93: 0 | U93: 0 | V93: 2 | W93: 2 | X93: 0 | Y93: 0 | Z93: 0 | AA93: 0 | AB93: 0 | AC93: 0 | AD93: 0 | AE93: 0 | AF93: 0 | AG93: 25 | AH93: 1 | AI93: 0 | AJ93: 3 | AK93: 4 | AL93: 3 | AM93: 3 | AN93: 2 | AO93: 4 | AP93: 2 | AQ93: 3
C94: 女 | D94: 25 | E94: 23 | F94: 2 | G94: 0 | H94: 0 | I94: 0 | J94: 0 | K94: 25 | L94: 2 | M94: 3 | N94: 11 | O94: 2 | P94: 2 | Q94: 4 | R94: 1 | S94: 0 | T94: 0 | U94: 0 | V94: 25 | W94: 21 | X94: 2 | Y94: 0 | Z94: 1 | AA94: 0 | AB94: 0 | AC94: 0 | AD94: 1 | AE94: 0 | AF94: 0 | AG94: 1 | AH94: 0 | AI94: 0 | AJ94: 1 | AK94: 0 | AL94: 0 | AM94: 0 | AN94: 0 | AO94: 0 | AP94: 0 | AQ94: 0
C95: 其他 | D95: 0 | E95: 0 | F95: 0 | G95: 0 | H95: 0 | I95: 0 | J95: 0 | K95: 0 | L95: 0 | M95: 0 | N95: 0 | O95: 0 | P95: 0 | Q95: 0 | R95: 0 | S95: 0 | T95: 0 | U95: 0 | V95: 0 | W95: 0 | X95: 0 | Y95: 0 | Z95: 0 | AA95: 0 | AB95: 0 | AC95: 0 | AD95: 0 | AE95: 0 | AF95: 0 | AG95: 0 | AH95: 0 | AI95: 0 | AJ95: 0 | AK95: 0 | AL95: 0 | AM95: 0 | AN95: 0 | AO95: 0 | AP95: 0 | AQ95: 0
C96: 不詳 | D96: 0 | E96: 0 | F96: 0 | G96: 0 | H96: 0 | I96: 0 | J96: 0 | K96: 0 | L96: 0 | M96: 0 | N96: 0 | O96: 0 | P96: 0 | Q96: 0 | R96: 0 | S96: 0 | T96: 0 | U96: 0 | V96: 0 | W96: 0 | X96: 0 | Y96: 0 | Z96: 0 | AA96: 0 | AB96: 0 | AC96: 0 | AD96: 0 | AE96: 0 | AF96: 0 | AG96: 0 | AH96: 0 | AI96: 0 | AJ96: 0 | AK96: 0 | AL96: 0 | AM96: 0 | AN96: 0 | AO96: 0 | AP96: 0 | AQ96: 0
A97: 基隆市 | C97: 計 | D97: 160 | E97: 138 | F97: 22 | G97: 0 | H97: 0 | I97: 0 | J97: 0 | K97: 160 | L97: 2 | M97: 9 | N97: 96 | O97: 17 | P97: 6 | Q97: 17 | R97: 8 | S97: 4 | T97: 1 | U97: 0 | V97: 160 | W97: 139 | X97: 8 | Y97: 0 | Z97: 8 | AA97: 1 | AB97: 1 | AC97: 0 | AD97: 1 | AE97: 2 | AF97: 0 | AG97: 160 | AH97: 0 | AI97: 1 | AJ97: 54 | AK97: 25 | AL97: 10 | AM97: 13 | AN97: 14 | AO97: 12 | AP97: 4 | AQ97: 27
C98: 男 | D98: 25 | E98: 21 | F98: 4 | G98: 0 | H98: 0 | I98: 0 | J98: 0 | K98: 25 | L98: 0 | M98: 1 | N98: 23 | O98: 0 | P98: 1 | Q98: 0 | R98: 0 | S98: 0 | T98: 0 | U98: 0 | V98: 25 | W98: 25 | X98: 0 | Y98: 0 | Z98: 0 | AA98: 0 | AB98: 0 | AC98: 0 | AD98: 0 | AE98: 0 | AF98: 0 | AG98: 140 | AH98: 0 | AI98: 1 | AJ98: 40 | AK98: 25 | AL98: 10 | AM98: 13 | AN98: 14 | AO98: 12 | AP98: 4 | AQ98: 21
C99: 女 | D99: 135 | E99: 117 | F99: 18 | G99: 0 | H99: 0 | I99: 0 | J99: 0 | K99: 135 | L99: 2 | M99: 8 | N99: 73 | O99: 17 | P99: 5 | Q99: 17 | R99: 8 | S99: 4 | T99: 1 | U99: 0 | V99: 135 | W99: 114 | X99: 8 | Y99: 0 | Z99: 8 | AA99: 1 | AB99: 1 | AC99: 0 | AD99: 1 | AE99: 2 | AF99: 0 | AG99: 15 | AH99: 0 | AI99: 0 | AJ99: 14 | AK99: 0 | AL99: 0 | AM99: 0 | AN99: 0 | AO99: 0 | AP99: 0 | AQ99: 1
C100: 其他 | D100: 0 | E100: 0 | F100: 0 | G100: 0 | H100: 0 | I100: 0 | J100: 0 | K100: 0 | L100: 0 | M100: 0 | N100: 0 | O100: 0 | P100: 0 | Q100: 0 | R100: 0 | S100: 0 | T100: 0 | U100: 0 | V100: 0 | W100: 0 | X100: 0 | Y100: 0 | Z100: 0 | AA100: 0 | AB100: 0 | AC100: 0 | AD100: 0 | AE100: 0 | AF100: 0 | AG100: 0 | AH100: 0 | AI100: 0 | AJ100: 0 | AK100: 0 | AL100: 0 | AM100: 0 | AN100: 0 | AO100: 0 | AP100: 0 | AQ100: 0
C101: 不詳 | D101: 0 | E101: 0 | F101: 0 | G101: 0 | H101: 0 | I101: 0 | J101: 0 | K101: 0 | L101: 0 | M101: 0 | N101: 0 | O101: 0 | P101: 0 | Q101: 0 | R101: 0 | S101: 0 | T101: 0 | U101: 0 | V101: 0 | W101: 0 | X101: 0 | Y101: 0 | Z101: 0 | AA101: 0 | AB101: 0 | AC101: 0 | AD101: 0 | AE101: 0 | AF101: 0 | AG101: 5 | AH101: 0 | AI101: 0 | AJ101: 0 | AK101: 0 | AL101: 0 | AM101: 0 | AN101: 0 | AO101: 0 | AP101: 0 | AQ101: 5
...

Sheet 111
A1: 5.2-02 性侵害事件通報被害及嫌疑人概況
A2: 民國111年
A4: 區域別 | C4: 性別 | D4: 性侵害被害人統計(人) | AG4: 性侵害嫌疑人年齡統計(人)
D5: 國籍、身分別 | K5: 年齡別 | V5: 身心障礙別 | AG5: 年齡別
D6: 合計 | E6: 本國籍 非原住民 | F6: 本國籍 原住民 | G6: 大陸及 港澳籍 | H6: 外國籍 | I6: 無國籍 | J6: 資料 不明 | K6: 合計 | L6: 0-未滿6歲 | M6: 6-未滿12歲 | N6: 12-未滿18歲 | O6: 18-未滿24歲 | P6: 24-未滿30歲 | Q6: 30-未滿40歲 | R6: 40-未滿50歲 | S6: 50-未滿65歲 | T6: 65歲 以上 | U6: 不詳 | V6: 合計 | W6: 非身心 障礙 | X6: 智障 | Y6: 視障 | Z6: 精神 病患 | AA6: 聲(語)障 | AB6: 聽障 | AC6: 肢障 | AD6: 多重 障礙 | AE6: 其他 障礙 | AF6: 不詳 | AG6: 合計 | AH6: 0-未滿6歲 | AI6: 6-未滿12歲 | AJ6: 12-未滿18歲 | AK6: 18-未滿24歲 | AL6: 24-未滿30歲 | AM6: 30-未滿40歲 | AN6: 40-未滿50歲 | AO6: 50-未滿65歲 | AP6: 65歲 以上 | AQ6: 不詳
A7: 111年, 2022 | C7: 計 | D7: 8401 | E7: 7355 | F7: 765 | G7: 29 | H7: 109 | I7: 2 | J7: 141 | K7: 8401 | L7: 203 | M7: 608 | N7: 3998 | O7: 1216 | P7: 763 | Q7: 831 | R7: 489 | S7: 218 | T7: 50 | U7: 25 | V7: 8401 | W7: 7402 | X7: 364 | Y7: 8 | Z7: 265 | AA7: 5 | AB7: 24 | AC7: 32 | AD7: 64 | AE7: 98 | AF7: 139 | AG7: 7865 | AH7: 11 | AI7: 168 | AJ7: 1953 | AK7: 1000 | AL7: 545 | AM7: 719 | AN7: 658 | AO7: 537 | AP7: 209 | AQ7: 2065
C8: 男 | D8: 1383 | E8: 1173 | F8: 173 | G8: 1 | H8: 9 | I8: 0 | J8: 27 | K8: 1383 | L8: 35 | M8: 157 | N8: 950 | O8: 93 | P8: 53 | Q8: 53 | R8: 20 | S8: 16 | T8: 5 | U8: 1 | V8: 1383 | W8: 1214 | X8: 66 | Y8: 1 | Z8: 26 | AA8: 1 | AB8: 4 | AC8: 5 | AD8: 13 | AE8: 26 | AF8: 27 | AG8: 6874 | AH8: 6 | AI8: 127 | AJ8: 1398 | AK8: 949 | AL8: 536 | AM8: 693 | AN8: 636 | AO8: 525 | AP8: 206 | AQ8: 1798
C9: 女 | D9: 6982 | E9: 6159 | F9: 586 | G9: 28 | H9: 100 | I9: 2 | J9: 107 | K9: 6982 | L9: 167 | M9: 450 | N9: 3023 | O9: 1119 | P9: 709 | Q9: 776 | R9: 469 | S9: 202 | T9: 45 | U9: 22 | V9: 6982 | W9: 6162 | X9: 298 | Y9: 7 | Z9: 238 | AA9: 4 | AB9: 20 | AC9: 27 | AD9: 50 | AE9: 71 | AF9: 105 | AG9: 783 | AH9: 5 | AI9: 40 | AJ9: 544 | AK9: 46 | AL9: 8 | AM9: 26 | AN9: 22 | AO9: 11 | AP9: 3 | AQ9: 78
C10: 其他 | D10: 0 | E10: 0 | F10: 0 | G10: 0 | H10: 0 | I10: 0 | J10: 0 | K10: 0 | L10: 0 | M10: 0 | N10: 0 | O10: 0 | P10: 0 | Q10: 0 | R10: 0 | S10: 0 | T10: 0 | U10: 0 | V10: 0 | W10: 0 | X10: 0 | Y10: 0 | Z10: 0 | AA10: 0 | AB10: 0 | AC10: 0 | AD10: 0 | AE10: 0 | AF10: 0 | AG10: 0 | AH10: 0 | AI10: 0 | AJ10: 0 | AK10: 0 | AL10: 0 | AM10: 0 | AN10: 0 | AO10: 0 | AP10: 0 | AQ10: 0
C11: 不詳 | D11: 36 | E11: 23 | F11: 6 | G11: 0 | H11: 0 | I11: 0 | J11: 7 | K11: 36 | L11: 1 | M11: 1 | N11: 25 | O11: 4 | P11: 1 | Q11: 2 | R11: 0 | S11: 0 | T11: 0 | U11: 2 | V11: 36 | W11: 26 | X11: 0 | Y11: 0 | Z11: 1 | AA11: 0 | AB11: 0 | AC11: 0 | AD11: 1 | AE11: 1 | AF11: 7 | AG11: 208 | AH11: 0 | AI11: 1 | AJ11: 11 | AK11: 5 | AL11: 1 | AM11: 0 | AN11: 0 | AO11: 1 | AP11: 0 | AQ11: 189
A12: 新北市 | C12: 計 | D12: 1478 | E12: 1332 | F12: 70 | G12: 6 | H12: 16 | I12: 2 | J12: 52 | K12: 1478 | L12: 49 | M12: 102 | N12: 686 | O12: 238 | P12: 140 | Q12: 146 | R12: 69 | S12: 33 | T12: 8 | U12: 7 | V12: 1478 | W12: 1303 | X12: 58 | Y12: 1 | Z12: 36 | AA12: 1 | AB12: 3 | AC12: 1 | AD12: 11 | AE12: 18 | AF12: 46 | AG12: 1392 | AH12: 0 | AI12: 36 | AJ12: 338 | AK12: 139 | AL12: 97 | AM12: 91 | AN12: 101 | AO12: 83 | AP12: 30 | AQ12: 477
C13: 男 | D13: 229 | E13: 206 | F13: 15 | G13: 0 | H13: 2 | I13: 0 | J13: 6 | K13: 229 | L13: 11 | M13: 29 | N13: 147 | O13: 20 | P13: 9 | Q13: 7 | R13: 2 | S13: 1 | T13: 2 | U13: 1 | V13: 229 | W13: 199 | X13: 6 | Y13: 1 | Z13: 3 | AA13: 1 | AB13: 1 | AC13: 0 | AD13: 4 | AE13: 7 | AF13: 7 | AG13: 1225 | AH13: 0 | AI13: 24 | AJ13: 245 | AK13: 133 | AL13: 96 | AM13: 87 | AN13: 97 | AO13: 77 | AP13: 30 | AQ13: 436
C14: 女 | D14: 1238 | E14: 1118 | F14: 55 | G14: 6 | H14: 14 | I14: 2 | J14: 43 | K14: 1238 | L14: 38 | M14: 73 | N14: 528 | O14: 218 | P14: 131 | Q14: 139 | R14: 67 | S14: 32 | T14: 6 | U14: 6 | V14: 1238 | W14: 1095 | X14: 52 | Y14: 0 | Z14: 33 | AA14: 0 | AB14: 2 | AC14: 1 | AD14: 7 | AE14: 11 | AF14: 37 | AG14: 131 | AH14: 0 | AI14: 11 | AJ14: 90 | AK14: 5 | AL14: 1 | AM14: 4 | AN14: 4 | AO14: 6 | AP14: 0 | AQ14: 10
C15: 其他 | D15: 0 | E15: 0 | F15: 0 | G15: 0 | H15: 0 | I15: 0 | J15: 0 | K15: 0 | L15: 0 | M15: 0 | N15: 0 | O15: 0 | P15: 0 | Q15: 0 | R15: 0 | S15: 0 | T15: 0 | U15: 0 | V15: 0 | W15: 0 | X15: 0 | Y15: 0 | Z15: 0 | AA15: 0 | AB15: 0 | AC15: 0 | AD15: 0 | AE15: 0 | AF15: 0 | AG15: 0 | AH15: 0 | AI15: 0 | AJ15: 0 | AK15: 0 | AL15: 0 | AM15: 0 | AN15: 0 | AO15: 0 | AP15: 0 | AQ15: 0
C16: 不詳 | D16: 11 | E16: 8 | F16: 0 | G16: 0 | H16: 0 | I16: 0 | J16: 3 | K16: 11 | L16: 0 | M16: 0 | N16: 11 | O16: 0 | P16: 0 | Q16: 0 | R16: 0 | S16: 0 | T16: 0 | U16: 0 | V16: 11 | W16: 9 | X16: 0 | Y16: 0 | Z16: 0 | AA16: 0 | AB16: 0 | AC16: 0 | AD16: 0 | AE16: 0 | AF16: 2 | AG16: 36 | AH16: 0 | AI16: 1 | AJ16: 3 | AK16: 1 | AL16: 0 | AM16: 0 | AN16: 0 | AO16: 0 | AP16: 0 | AQ16: 31
A17: 臺北市 | C17: 計 | D17: 767 | E17: 717 | F17: 11 | G17: 3 | H17: 19 | I17: 0 | J17: 17 | K17: 767 | L17: 19 | M17: 56 | N17: 196 | O17: 176 | P17: 121 | Q17: 97 | R17: 58 | S17: 25 | T17: 12 | U17: 7 | V17: 767 | W17: 678 | X17: 15 | Y17: 1 | Z17: 28 | AA17: 0 | AB17: 1 | AC17: 8 | AD17: 4 | AE17: 10 | AF17: 22 | AG17: 634 | AH17: 3 | AI17: 20 | AJ17: 83 | AK17: 53 | AL17: 49 | AM17: 69 | AN17: 48 | AO17: 60 | AP17: 12 | AQ17: 237
C18: 男 | D18: 101 | E18: 93 | F18: 2 | G18: 0 | H18: 2 | I18: 0 | J18: 4 | K18: 101 | L18: 2 | M18: 18 | N18: 44 | O18: 18 | P18: 8 | Q18: 6 | R18: 3 | S18: 2 | T18: 0 | U18: 0 | V18: 101 | W18: 84 | X18: 7 | Y18: 0 | Z18: 3 | AA18: 0 | AB18: 0 | AC18: 1 | AD18: 0 | AE18: 2 | AF18: 4 | AG18: 574 | AH18: 1 | AI18: 15 | AJ18: 64 | AK18: 51 | AL18: 49 | AM18: 66 | AN18: 44 | AO18: 59 | AP18: 12 | AQ18: 213
C19: 女 | D19: 665 | E19: 624 | F19: 9 | G19: 3 | H19: 17 | I19: 0 | J19: 12 | K19: 665 | L19: 17 | M19: 38 | N19: 152 | O19: 158 | P19: 113 | Q19: 91 | R19: 55 | S19: 23 | T19: 12 | U19: 6 | V19: 665 | W19: 594 | X19: 8 | Y19: 1 | Z19: 25 | AA19: 0 | AB19: 1 | AC19: 7 | AD19: 4 | AE19: 8 | AF19: 17 | AG19: 41 | AH19: 2 | AI19: 5 | AJ19: 19 | AK19: 0 | AL19: 0 | AM19: 3 | AN19: 4 | AO19: 1 | AP19: 0 | AQ19: 7
C20: 其他 | D20: 0 | E20: 0 | F20: 0 | G20: 0 | H20: 0 | I20: 0 | J20: 0 | K20: 0 | L20: 0 | M20: 0 | N20: 0 | O20: 0 | P20: 0 | Q20: 0 | R20: 0 | S20: 0 | T20: 0 | U20: 0 | V20: 0 | W20: 0 | X20: 0 | Y20: 0 | Z20: 0 | AA20: 0 | AB20: 0 | AC20: 0 | AD20: 0 | AE20: 0 | AF20: 0 | AG20: 0 | AH20: 0 | AI20: 0 | AJ20: 0 | AK20: 0 | AL20: 0 | AM20: 0 | AN20: 0 | AO20: 0 | AP20: 0 | AQ20: 0
C21: 不詳 | D21: 1 | E21: 0 | F21: 0 | G21: 0 | H21: 0 | I21: 0 | J21: 1 | K21: 1 | L21: 0 | M21: 0 | N21: 0 | O21: 0 | P21: 0 | Q21: 0 | R21: 0 | S21: 0 | T21: 0 | U21: 1 | V21: 1 | W21: 0 | X21: 0 | Y21: 0 | Z21: 0 | AA21: 0 | AB21: 0 | AC21: 0 | AD21: 0 | AE21: 0 | AF21: 1 | AG21: 19 | AH21: 0 | AI21: 0 | AJ21: 0 | AK21: 2 | AL21: 0 | AM21: 0 | AN21: 0 | AO21: 0 | AP21: 0 | AQ21: 17
A22: 桃園市 | C22: 計 | D22: 1051 | E22: 914 | F22: 119 | G22: 3 | H22: 12 | I22: 0 | J22: 3 | K22: 1051 | L22: 15 | M22: 66 | N22: 552 | O22: 121 | P22: 90 | Q22: 110 | R22: 65 | S22: 27 | T22: 4 | U22: 1 | V22: 1051 | W22: 943 | X22: 52 | Y22: 1 | Z22: 23 | AA22: 0 | AB22: 5 | AC22: 1 | AD22: 8 | AE22: 9 | AF22: 9 | AG22: 955 | AH22: 2 | AI22: 27 | AJ22: 247 | AK22: 116 | AL22: 55 | AM22: 92 | AN22: 71 | AO22: 68 | AP22: 27 | AQ22: 250
C23: 男 | D23: 164 | E23: 149 | F23: 15 | G23: 0 | H23: 0 | I23: 0 | J23: 0 | K23: 164 | L23: 2 | M23: 13 | N23: 129 | O23: 5 | P23: 6 | Q23: 8 | R23: 1 | S23: 0 | T23: 0 | U23: 0 | V23: 164 | W23: 150 | X23: 5 | Y23: 0 | Z23: 2 | AA23: 0 | AB23: 0 | AC23: 1 | AD23: 1 | AE23: 2 | AF23: 3 | AG23: 816 | AH23: 0 | AI23: 19 | AJ23: 173 | AK23: 113 | AL23: 55 | AM23: 89 | AN23: 69 | AO23: 67 | AP23: 26 | AQ23: 205
C24: 女 | D24: 887 | E24: 765 | F24: 104 | G24: 3 | H24: 12 | I24: 0 | J24: 3 | K24: 887 | L24: 13 | M24: 53 | N24: 423 | O24: 116 | P24: 84 | Q24: 102 | R24: 64 | S24: 27 | T24: 4 | U24: 1 | V24: 887 | W24: 793 | X24: 47 | Y24: 1 | Z24: 21 | AA24: 0 | AB24: 5 | AC24: 0 | AD24: 7 | AE24: 7 | AF24: 6 | AG24: 104 | AH24: 2 | AI24: 8 | AJ24: 72 | AK24: 3 | AL24: 0 | AM24: 3 | AN24: 2 | AO24: 1 | AP24: 1 | AQ24: 12
C25: 其他 | D25: 0 | E25: 0 | F25: 0 | G25: 0 | H25: 0 | I25: 0 | J25: 0 | K25: 0 | L25: 0 | M25: 0 | N25: 0 | O25: 0 | P25: 0 | Q25: 0 | R25: 0 | S25: 0 | T25: 0 | U25: 0 | V25: 0 | W25: 0 | X25: 0 | Y25: 0 | Z25: 0 | AA25: 0 | AB25: 0 | AC25: 0 | AD25: 0 | AE25: 0 | AF25: 0 | AG25: 0 | AH25: 0 | AI25: 0 | AJ25: 0 | AK25: 0 | AL25: 0 | AM25: 0 | AN25: 0 | AO25: 0 | AP25: 0 | AQ25: 0
C26: 不詳 | D26: 0 | E26: 0 | F26: 0 | G26: 0 | H26: 0 | I26: 0 | J26: 0 | K26: 0 | L26: 0 | M26: 0 | N26: 0 | O26: 0 | P26: 0 | Q26: 0 | R26: 0 | S26: 0 | T26: 0 | U26: 0 | V26: 0 | W26: 0 | X26: 0 | Y26: 0 | Z26: 0 | AA26: 0 | AB26: 0 | AC26: 0 | AD26: 0 | AE26: 0 | AF26: 0 | AG26: 35 | AH26: 0 | AI26: 0 | AJ26: 2 | AK26: 0 | AL26: 0 | AM26: 0 | AN26: 0 | AO26: 0 | AP26: 0 | AQ26: 33
A27: 臺中市 | C27: 計 | D27: 1097 | E27: 1002 | F27: 37 | G27: 4 | H27: 17 | I27: 0 | J27: 37 | K27: 1097 | L27: 26 | M27: 53 | N27: 471 | O27: 166 | P27: 129 | Q27: 134 | R27: 68 | S27: 38 | T27: 7 | U27: 5 | V27: 1097 | W27: 968 | X27: 29 | Y27: 0 | Z27: 35 | AA27: 0 | AB27: 8 | AC27: 5 | AD27: 9 | AE27: 13 | AF27: 30 | AG27: 983 | AH27: 1 | AI27: 14 | AJ27: 231 | AK27: 112 | AL27: 81 | AM27: 121 | AN27: 74 | AO27: 70 | AP27: 19 | AQ27: 260
C28: 男 | D28: 160 | E28: 146 | F28: 5 | G28: 0 | H28: 0 | I28: 0 | J28: 9 | K28: 160 | L28: 4 | M28: 11 | N28: 116 | O28: 6 | P28: 8 | Q28: 6 | R28: 3 | S28: 6 | T28: 0 | U28: 0 | V28: 160 | W28: 129 | X28: 7 | Y28: 0 | Z28: 5 | AA28: 0 | AB28: 2 | AC28: 1 | AD28: 3 | AE28: 2 | AF28: 11 | AG28: 864 | AH28: 1 | AI28: 13 | AJ28: 168 | AK28: 108 | AL28: 79 | AM28: 116 | AN28: 74 | AO28: 70 | AP28: 19 | AQ28: 216
C29: 女 | D29: 930 | E29: 852 | F29: 31 | G29: 4 | H29: 17 | I29: 0 | J29: 26 | K29: 930 | L29: 22 | M29: 42 | N29: 350 | O29: 158 | P29: 121 | Q29: 128 | R29: 65 | S29: 32 | T29: 7 | U29: 5 | V29: 930 | W29: 835 | X29: 22 | Y29: 0 | Z29: 30 | AA29: 0 | AB29: 6 | AC29: 4 | AD29: 6 | AE29: 10 | AF29: 17 | AG29: 84 | AH29: 0 | AI29: 1 | AJ29: 60 | AK29: 4 | AL29: 1 | AM29: 5 | AN29: 0 | AO29: 0 | AP29: 0 | AQ29: 13
C30: 其他 | D30: 0 | E30: 0 | F30: 0 | G30: 0 | H30: 0 | I30: 0 | J30: 0 | K30: 0 | L30: 0 | M30: 0 | N30: 0 | O30: 0 | P30: 0 | Q30: 0 | R30: 0 | S30: 0 | T30: 0 | U30: 0 | V30: 0 | W30: 0 | X30: 0 | Y30: 0 | Z30: 0 | AA30: 0 | AB30: 0 | AC30: 0 | AD30: 0 | AE30: 0 | AF30: 0 | AG30: 0 | AH30: 0 | AI30: 0 | AJ30: 0 | AK30: 0 | AL30: 0 | AM30: 0 | AN30: 0 | AO30: 0 | AP30: 0 | AQ30: 0
C31: 不詳 | D31: 7 | E31: 4 | F31: 1 | G31: 0 | H31: 0 | I31: 0 | J31: 2 | K31: 7 | L31: 0 | M31: 0 | N31: 5 | O31: 2 | P31: 0 | Q31: 0 | R31: 0 | S31: 0 | T31: 0 | U31: 0 | V31: 7 | W31: 4 | X31: 0 | Y31: 0 | Z31: 0 | AA31: 0 | AB31: 0 | AC31: 0 | AD31: 0 | AE31: 1 | AF31: 2 | AG31: 35 | AH31: 0 | AI31: 0 | AJ31: 3 | AK31: 0 | AL31: 1 | AM31: 0 | AN31: 0 | AO31: 0 | AP31: 0 | AQ31: 31
A32: 臺南市 | C32: 計 | D32: 592 | E32: 568 | F32: 15 | G32: 2 | H32: 5 | I32: 0 | J32: 2 | K32: 592 | L32: 15 | M32: 45 | N32: 261 | O32: 102 | P32: 44 | Q32: 62 | R32: 42 | S32: 19 | T32: 2 | U32: 0 | V32: 592 | W32: 514 | X32: 29 | Y32: 0 | Z32: 24 | AA32: 1 | AB32: 1 | AC32: 2 | AD32: 9 | AE32: 7 | AF32: 5 | AG32: 607 | AH32: 0 | AI32: 7 | AJ32: 144 | AK32: 90 | AL32: 39 | AM32: 53 | AN32: 57 | AO32: 34 | AP32: 18 | AQ32: 165
C33: 男 | D33: 99 | E33: 97 | F33: 2 | G33: 0 | H33: 0 | I33: 0 | J33: 0 | K33: 99 | L33: 3 | M33: 9 | N33: 64 | O33: 10 | P33: 5 | Q33: 4 | R33: 2 | S33: 2 | T33: 0 | U33: 0 | V33: 99 | W33: 87 | X33: 5 | Y33: 0 | Z33: 2 | AA33: 0 | AB33: 0 | AC33: 0 | AD33: 4 | AE33: 0 | AF33: 1 | AG33: 540 | AH33: 0 | AI33: 4 | AJ33: 106 | AK33: 86 | AL33: 37 | AM33: 50 | AN33: 55 | AO33: 34 | AP33: 18 | AQ33: 150
C34: 女 | D34: 492 | E34: 470 | F34: 13 | G34: 2 | H34: 5 | I34: 0 | J34: 2 | K34: 492 | L34: 12 | M34: 36 | N34: 197 | O34: 92 | P34: 39 | Q34: 57 | R34: 40 | S34: 17 | T34: 2 | U34: 0 | V34: 492 | W34: 427 | X34: 24 | Y34: 0 | Z34: 22 | AA34: 1 | AB34: 1 | AC34: 2 | AD34: 5 | AE34: 7 | AF34: 3 | AG34: 59 | AH34: 0 | AI34: 3 | AJ34: 38 | AK34: 3 | AL34: 2 | AM34: 3 | AN34: 2 | AO34: 0 | AP34: 0 | AQ34: 8
C35: 其他 | D35: 0 | E35: 0 | F35: 0 | G35: 0 | H35: 0 | I35: 0 | J35: 0 | K35: 0 | L35: 0 | M35: 0 | N35: 0 | O35: 0 | P35: 0 | Q35: 0 | R35: 0 | S35: 0 | T35: 0 | U35: 0 | V35: 0 | W35: 0 | X35: 0 | Y35: 0 | Z35: 0 | AA35: 0 | AB35: 0 | AC35: 0 | AD35: 0 | AE35: 0 | AF35: 0 | AG35: 0 | AH35: 0 | AI35: 0 | AJ35: 0 | AK35: 0 | AL35: 0 | AM35: 0 | AN35: 0 | AO35: 0 | AP35: 0 | AQ35: 0
C36: 不詳 | D36: 1 | E36: 1 | F36: 0 | G36: 0 | H36: 0 | I36: 0 | J36: 0 | K36: 1 | L36: 0 | M36: 0 | N36: 0 | O36: 0 | P36: 0 | Q36: 1 | R36: 0 | S36: 0 | T36: 0 | U36: 0 | V36: 1 | W36: 0 | X36: 0 | Y36: 0 | Z36: 0 | AA36: 0 | AB36: 0 | AC36: 0 | AD36: 0 | AE36: 0 | AF36: 1 | AG36: 8 | AH36: 0 | AI36: 0 | AJ36: 0 | AK36: 1 | AL36: 0 | AM36: 0 | AN36: 0 | AO36: 0 | AP36: 0 | AQ36: 7
A37: 高雄市 | C37: 計 | D37: 898 | E37: 833 | F37: 48 | G37: 3 | H37: 12 | I37: 0 | J37: 2 | K37: 898 | L37: 21 | M37: 64 | N37: 424 | O37: 144 | P37: 79 | Q37: 81 | R37: 53 | S37: 25 | T37: 4 | U37: 3 | V37: 898 | W37: 792 | X37: 42 | Y37: 0 | Z37: 33 | AA37: 1 | AB37: 1 | AC37: 2 | AD37: 6 | AE37: 12 | AF37: 9 | AG37: 900 | AH37: 3 | AI37: 9 | AJ37: 205 | AK37: 134 | AL37: 63 | AM37: 93 | AN37: 86 | AO37: 69 | AP37: 23 | AQ37: 215
C38: 男 | D38: 143 | E38: 128 | F38: 11 | G38: 0 | H38: 4 | I38: 0 | J38: 0 | K38: 143 | L38: 3 | M38: 13 | N38: 102 | O38: 7 | P38: 9 | Q38: 4 | R38: 3 | S38: 0 | T38: 2 | U38: 0 | V38: 143 | W38: 130 | X38: 7 | Y38: 0 | Z38: 1 | AA38: 0 | AB38: 0 | AC38: 1 | AD38: 0 | AE38: 4 | AF38: 0 | AG38: 806 | AH38: 2 | AI38: 6 | AJ38: 149 | AK38: 127 | AL38: 61 | AM38: 91 | AN38: 85 | AO38: 67 | AP38: 23 | AQ38: 195
C39: 女 | D39: 753 | E39: 704 | F39: 37 | G39: 3 | H39: 8 | I39: 0 | J39: 1 | K39: 753 | L39: 18 | M39: 51 | N39: 321 | O39: 137 | P39: 70 | Q39: 77 | R39: 50 | S39: 25 | T39: 2 | U39: 2 | V39: 753 | W39: 661 | X39: 35 | Y39: 0 | Z39: 32 | AA39: 1 | AB39: 1 | AC39: 1 | AD39: 6 | AE39: 8 | AF39: 8 | AG39: 80 | AH39: 1 | AI39: 3 | AJ39: 56 | AK39: 7 | AL39: 2 | AM39: 2 | AN39: 1 | AO39: 2 | AP39: 0 | AQ39: 6
C40: 其他 | D40: 0 | E40: 0 | F40: 0 | G40: 0 | H40: 0 | I40: 0 | J40: 0 | K40: 0 | L40: 0 | M40: 0 | N40: 0 | O40: 0 | P40: 0 | Q40: 0 | R40: 0 | S40: 0 | T40: 0 | U40: 0 | V40: 0 | W40: 0 | X40: 0 | Y40: 0 | Z40: 0 | AA40: 0 | AB40: 0 | AC40: 0 | AD40: 0 | AE40: 0 | AF40: 0 | AG40: 0 | AH40: 0 | AI40: 0 | AJ40: 0 | AK40: 0 | AL40: 0 | AM40: 0 | AN40: 0 | AO40: 0 | AP40: 0 | AQ40: 0
C41: 不詳 | D41: 2 | E41: 1 | F41: 0 | G41: 0 | H41: 0 | I41: 0 | J41: 1 | K41: 2 | L41: 0 | M41: 0 | N41: 1 | O41: 0 | P41: 0 | Q41: 0 | R41: 0 | S41: 0 | T41: 0 | U41: 1 | V41: 2 | W41: 1 | X41: 0 | Y41: 0 | Z41: 0 | AA41: 0 | AB41: 0 | AC41: 0 | AD41: 0 | AE41: 0 | AF41: 1 | AG41: 14 | AH41: 0 | AI41: 0 | AJ41: 0 | AK41: 0 | AL41: 0 | AM41: 0 | AN41: 0 | AO41: 0 | AP41: 0 | AQ41: 14
A42: 宜蘭縣 | C42: 計 | D42: 167 | E42: 133 | F42: 29 | G42: 1 | H42: 2 | I42: 0 | J42: 2 | K42: 167 | L42: 8 | M42: 14 | N42: 98 | O42: 11 | P42: 7 | Q42: 15 | R42: 11 | S42: 2 | T42: 1 | U42: 0 | V42: 167 | W42: 148 | X42: 6 | Y42: 2 | Z42: 6 | AA42: 0 | AB42: 0 | AC42: 0 | AD42: 2 | AE42: 2 | AF42: 1 | AG42: 183 | AH42: 0 | AI42: 7 | AJ42: 58 | AK42: 31 | AL42: 15 | AM42: 7 | AN42: 13 | AO42: 11 | AP42: 6 | AQ42: 35
C43: 男 | D43: 34 | E43: 31 | F43: 3 | G43: 0 | H43: 0 | I43: 0 | J43: 0 | K43: 34 | L43: 0 | M43: 5 | N43: 25 | O43: 1 | P43: 1 | Q43: 2 | R43: 0 | S43: 0 | T43: 0 | U43: 0 | V43: 34 | W43: 32 | X43: 1 | Y43: 0 | Z43: 1 | AA43: 0 | AB43: 0 | AC43: 0 | AD43: 0 | AE43: 0 | AF43: 0 | AG43: 156 | AH43: 0 | AI43: 4 | AJ43: 43 | AK43: 29 | AL43: 15 | AM43: 7 | AN43: 13 | AO43: 11 | AP43: 5 | AQ43: 29
C44: 女 | D44: 133 | E44: 102 | F44: 26 | G44: 1 | H44: 2 | I44: 0 | J44: 2 | K44: 133 | L44: 8 | M44: 9 | N44: 73 | O44: 10 | P44: 6 | Q44: 13 | R44: 11 | S44: 2 | T44: 1 | U44: 0 | V44: 133 | W44: 116 | X44: 5 | Y44: 2 | Z44: 5 | AA44: 0 | AB44: 0 | AC44: 0 | AD44: 2 | AE44: 2 | AF44: 1 | AG44: 22 | AH44: 0 | AI44: 3 | AJ44: 15 | AK44: 2 | AL44: 0 | AM44: 0 | AN44: 0 | AO44: 0 | AP44: 1 | AQ44: 1
C45: 其他 | D45: 0 | E45: 0 | F45: 0 | G45: 0 | H45: 0 | I45: 0 | J45: 0 | K45: 0 | L45: 0 | M45: 0 | N45: 0 | O45: 0 | P45: 0 | Q45: 0 | R45: 0 | S45: 0 | T45: 0 | U45: 0 | V45: 0 | W45: 0 | X45: 0 | Y45: 0 | Z45: 0 | AA45: 0 | AB45: 0 | AC45: 0 | AD45: 0 | AE45: 0 | AF45: 0 | AG45: 0 | AH45: 0 | AI45: 0 | AJ45: 0 | AK45: 0 | AL45: 0 | AM45: 0 | AN45: 0 | AO45: 0 | AP45: 0 | AQ45: 0
C46: 不詳 | D46: 0 | E46: 0 | F46: 0 | G46: 0 | H46: 0 | I46: 0 | J46: 0 | K46: 0 | L46: 0 | M46: 0 | N46: 0 | O46: 0 | P46: 0 | Q46: 0 | R46: 0 | S46: 0 | T46: 0 | U46: 0 | V46: 0 | W46: 0 | X46: 0 | Y46: 0 | Z46: 0 | AA46: 0 | AB46: 0 | AC46: 0 | AD46: 0 | AE46: 0 | AF46: 0 | AG46: 5 | AH46: 0 | AI46: 0 | AJ46: 0 | AK46: 0 | AL46: 0 | AM46: 0 | AN46: 0 | AO46: 0 | AP46: 0 | AQ46: 5
A47: 新竹縣 | C47: 計 | D47: 218 | E47: 167 | F47: 45 | G47: 0 | H47: 2 | I47: 0 | J47: 4 | K47: 218 | L47: 3 | M47: 12 | N47: 127 | O47: 21 | P47: 15 | Q47: 22 | R47: 13 | S47: 4 | T47: 0 | U47: 1 | V47: 218 | W47: 197 | X47: 7 | Y47: 0 | Z47: 9 | AA47: 0 | AB47: 0 | AC47: 1 | AD47: 1 | AE47: 1 | AF47: 2 | AG47: 206 | AH47: 0 | AI47: 1 | AJ47: 70 | AK47: 17 | AL47: 11 | AM47: 14 | AN47: 14 | AO47: 16 | AP47: 7 | AQ47: 56
C48: 男 | D48: 50 | E48: 35 | F48: 14 | G48: 0 | H48: 0 | I48: 0 | J48: 1 | K48: 50 | L48: 0 | M48: 5 | N48: 39 | O48: 4 | P48: 0 | Q48: 2 | R48: 0 | S48: 0 | T48: 0 | U48: 0 | V48: 50 | W48: 48 | X48: 1 | Y48: 0 | Z48: 1 | AA48: 0 | AB48: 0 | AC48: 0 | AD48: 0 | AE48: 0 | AF48: 0 | AG48: 167 | AH48: 0 | AI48: 1 | AJ48: 43 | AK48: 17 | AL48: 11 | AM48: 14 | AN48: 13 | AO48: 16 | AP48: 7 | AQ48: 45
C49: 女 | D49: 168 | E49: 132 | F49: 31 | G49: 0 | H49: 2 | I49: 0 | J49: 3 | K49: 168 | L49: 3 | M49: 7 | N49: 88 | O49: 17 | P49: 15 | Q49: 20 | R49: 13 | S49: 4 | T49: 0 | U49: 1 | V49: 168 | W49: 149 | X49: 6 | Y49: 0 | Z49: 8 | AA49: 0 | AB49: 0 | AC49: 1 | AD49: 1 | AE49: 1 | AF49: 2 | AG49: 32 | AH49: 0 | AI49: 0 | AJ49: 27 | AK49: 0 | AL49: 0 | AM49: 0 | AN49: 1 | AO49: 0 | AP49: 0 | AQ49: 4
C50: 其他 | D50: 0 | E50: 0 | F50: 0 | G50: 0 | H50: 0 | I50: 0 | J50: 0 | K50: 0 | L50: 0 | M50: 0 | N50: 0 | O50: 0 | P50: 0 | Q50: 0 | R50: 0 | S50: 0 | T50: 0 | U50: 0 | V50: 0 | W50: 0 | X50: 0 | Y50: 0 | Z50: 0 | AA50: 0 | AB50: 0 | AC50: 0 | AD50: 0 | AE50: 0 | AF50: 0 | AG50: 0 | AH50: 0 | AI50: 0 | AJ50: 0 | AK50: 0 | AL50: 0 | AM50: 0 | AN50: 0 | AO50: 0 | AP50: 0 | AQ50: 0
C51: 不詳 | D51: 0 | E51: 0 | F51: 0 | G51: 0 | H51: 0 | I51: 0 | J51: 0 | K51: 0 | L51: 0 | M51: 0 | N51: 0 | O51: 0 | P51: 0 | Q51: 0 | R51: 0 | S51: 0 | T51: 0 | U51: 0 | V51: 0 | W51: 0 | X51: 0 | Y51: 0 | Z51: 0 | AA51: 0 | AB51: 0 | AC51: 0 | AD51: 0 | AE51: 0 | AF51: 0 | AG51: 7 | AH51: 0 | AI51: 0 | AJ51: 0 | AK51: 0 | AL51: 0 | AM51: 0 | AN51: 0 | AO51: 0 | AP51: 0 | AQ51: 7
A52: 苗栗縣 | C52: 計 | D52: 167 | E52: 145 | F52: 15 | G52: 0 | H52: 3 | I52: 0 | J52: 4 | K52: 167 | L52: 5 | M52: 13 | N52: 92 | O52: 14 | P52: 16 | Q52: 14 | R52: 11 | S52: 2 | T52: 0 | U52: 0 | V52: 167 | W52: 145 | X52: 12 | Y52: 0 | Z52: 3 | AA52: 2 | AB52: 1 | AC52: 0 | AD52: 1 | AE52: 1 | AF52: 2 | AG52: 171 | AH52: 0 | AI52: 4 | AJ52: 42 | AK52: 38 | AL52: 13 | AM52: 15 | AN52: 21 | AO52: 10 | AP52: 4 | AQ52: 24
C53: 男 | D53: 26 | E53: 23 | F53: 1 | G53: 0 | H53: 1 | I53: 0 | J53: 1 | K53: 26 | L53: 1 | M53: 4 | N53: 15 | O53: 1 | P53: 0 | Q53: 4 | R53: 1 | S53: 0 | T53: 0 | U53: 0 | V53: 26 | W53: 20 | X53: 4 | Y53: 0 | Z53: 0 | AA53: 0 | AB53: 1 | AC53: 0 | AD53: 0 | AE53: 1 | AF53: 0 | AG53: 153 | AH53: 0 | AI53: 4 | AJ53: 29 | AK53: 38 | AL53: 13 | AM53: 14 | AN53: 19 | AO53: 10 | AP53: 4 | AQ53: 22
C54: 女 | D54: 141 | E54: 122 | F54: 14 | G54: 0 | H54: 2 | I54: 0 | J54: 3 | K54: 141 | L54: 4 | M54: 9 | N54: 77 | O54: 13 | P54: 16 | Q54: 10 | R54: 10 | S54: 2 | T54: 0 | U54: 0 | V54: 141 | W54: 125 | X54: 8 | Y54: 0 | Z54: 3 | AA54: 2 | AB54: 0 | AC54: 0 | AD54: 1 | AE54: 0 | AF54: 2 | AG54: 17 | AH54: 0 | AI54: 0 | AJ54: 13 | AK54: 0 | AL54: 0 | AM54: 1 | AN54: 2 | AO54: 0 | AP54: 0 | AQ54: 1
C55: 其他 | D55: 0 | E55: 0 | F55: 0 | G55: 0 | H55: 0 | I55: 0 | J55: 0 | K55: 0 | L55: 0 | M55: 0 | N55: 0 | O55: 0 | P55: 0 | Q55: 0 | R55: 0 | S55: 0 | T55: 0 | U55: 0 | V55: 0 | W55: 0 | X55: 0 | Y55: 0 | Z55: 0 | AA55: 0 | AB55: 0 | AC55: 0 | AD55: 0 | AE55: 0 | AF55: 0 | AG55: 0 | AH55: 0 | AI55: 0 | AJ55: 0 | AK55: 0 | AL55: 0 | AM55: 0 | AN55: 0 | AO55: 0 | AP55: 0 | AQ55: 0
C56: 不詳 | D56: 0 | E56: 0 | F56: 0 | G56: 0 | H56: 0 | I56: 0 | J56: 0 | K56: 0 | L56: 0 | M56: 0 | N56: 0 | O56: 0 | P56: 0 | Q56: 0 | R56: 0 | S56: 0 | T56: 0 | U56: 0 | V56: 0 | W56: 0 | X56: 0 | Y56: 0 | Z56: 0 | AA56: 0 | AB56: 0 | AC56: 0 | AD56: 0 | AE56: 0 | AF56: 0 | AG56: 1 | AH56: 0 | AI56: 0 | AJ56: 0 | AK56: 0 | AL56: 0 | AM56: 0 | AN56: 0 | AO56: 0 | AP56: 0 | AQ56: 1
A57: 彰化縣 | C57: 計 | D57: 393 | E57: 370 | F57: 10 | G57: 1 | H57: 3 | I57: 0 | J57: 9 | K57: 393 | L57: 9 | M57: 40 | N57: 200 | O57: 50 | P57: 25 | Q57: 31 | R57: 23 | S57: 10 | T57: 4 | U57: 1 | V57: 393 | W57: 331 | X57: 25 | Y57: 2 | Z57: 16 | AA57: 0 | AB57: 3 | AC57: 4 | AD57: 2 | AE57: 6 | AF57: 4 | AG57: 335 | AH57: 0 | AI57: 7 | AJ57: 92 | AK57: 52 | AL57: 21 | AM57: 26 | AN57: 25 | AO57: 23 | AP57: 16 | AQ57: 73
C58: 男 | D58: 61 | E58: 56 | F58: 2 | G58: 0 | H58: 0 | I58: 0 | J58: 3 | K58: 61 | L58: 1 | M58: 4 | N58: 48 | O58: 4 | P58: 1 | Q58: 2 | R58: 0 | S58: 1 | T58: 0 | U58: 0 | V58: 61 | W58: 52 | X58: 4 | Y58: 0 | Z58: 3 | AA58: 0 | AB58: 0 | AC58: 0 | AD58: 0 | AE58: 2 | AF58: 0 | AG58: 283 | AH58: 0 | AI58: 6 | AJ58: 60 | AK58: 49 | AL58: 21 | AM58: 24 | AN58: 23 | AO58: 23 | AP58: 16 | AQ58: 61
C59: 女 | D59: 329 | E59: 311 | F59: 8 | G59: 1 | H59: 3 | I59: 0 | J59: 6 | K59: 329 | L59: 7 | M59: 36 | N59: 150 | O59: 46 | P59: 24 | Q59: 29 | R59: 23 | S59: 9 | T59: 4 | U59: 1 | V59: 329 | W59: 276 | X59: 21 | Y59: 2 | Z59: 13 | AA59: 0 | AB59: 3 | AC59: 4 | AD59: 2 | AE59: 4 | AF59: 4 | AG59: 41 | AH59: 0 | AI59: 1 | AJ59: 31 | AK59: 2 | AL59: 0 | AM59: 2 | AN59: 2 | AO59: 0 | AP59: 0 | AQ59: 3
C60: 其他 | D60: 0 | E60: 0 | F60: 0 | G60: 0 | H60: 0 | I60: 0 | J60: 0 | K60: 0 | L60: 0 | M60: 0 | N60: 0 | O60: 0 | P60: 0 | Q60: 0 | R60: 0 | S60: 0 | T60: 0 | U60: 0 | V60: 0 | W60: 0 | X60: 0 | Y60: 0 | Z60: 0 | AA60: 0 | AB60: 0 | AC60: 0 | AD60: 0 | AE60: 0 | AF60: 0 | AG60: 0 | AH60: 0 | AI60: 0 | AJ60: 0 | AK60: 0 | AL60: 0 | AM60: 0 | AN60: 0 | AO60: 0 | AP60: 0 | AQ60: 0
C61: 不詳 | D61: 3 | E61: 3 | F61: 0 | G61: 0 | H61: 0 | I61: 0 | J61: 0 | K61: 3 | L61: 1 | M61: 0 | N61: 2 | O61: 0 | P61: 0 | Q61: 0 | R61: 0 | S61: 0 | T61: 0 | U61: 0 | V61: 3 | W61: 3 | X61: 0 | Y61: 0 | Z61: 0 | AA61: 0 | AB61: 0 | AC61: 0 | AD61: 0 | AE61: 0 | AF61: 0 | AG61: 11 | AH61: 0 | AI61: 0 | AJ61: 1 | AK61: 1 | AL61: 0 | AM61: 0 | AN61: 0 | AO61: 0 | AP61: 0 | AQ61: 9
A62: 南投縣 | C62: 計 | D62: 189 | E62: 140 | F62: 47 | G62: 0 | H62: 1 | I62: 0 | J62: 1 | K62: 189 | L62: 4 | M62: 20 | N62: 113 | O62: 21 | P62: 9 | Q62: 9 | R62: 10 | S62: 3 | T62: 0 | U62: 0 | V62: 189 | W62: 170 | X62: 11 | Y62: 0 | Z62: 3 | AA62: 0 | AB62: 0 | AC62: 2 | AD62: 0 | AE62: 1 | AF62: 2 | AG62: 180 | AH62: 0 | AI62: 5 | AJ62: 37 | AK62: 40 | AL62: 7 | AM62: 12 | AN62: 21 | AO62: 8 | AP62: 5 | AQ62: 45
C63: 男 | D63: 36 | E63: 27 | F63: 9 | G63: 0 | H63: 0 | I63: 0 | J63: 0 | K63: 36 | L63: 0 | M63: 3 | N63: 26 | O63: 5 | P63: 1 | Q63: 1 | R63: 0 | S63: 0 | T63: 0 | U63: 0 | V63: 36 | W63: 32 | X63: 2 | Y63: 0 | Z63: 0 | AA63: 0 | AB63: 0 | AC63: 1 | AD63: 0 | AE63: 0 | AF63: 1 | AG63: 151 | AH63: 0 | AI63: 5 | AJ63: 23 | AK63: 35 | AL63: 7 | AM63: 12 | AN63: 21 | AO63: 8 | AP63: 5 | AQ63: 35
C64: 女 | D64: 152 | E64: 112 | F64: 38 | G64: 0 | H64: 1 | I64: 0 | J64: 1 | K64: 152 | L64: 4 | M64: 17 | N64: 86 | O64: 16 | P64: 8 | Q64: 8 | R64: 10 | S64: 3 | T64: 0 | U64: 0 | V64: 152 | W64: 137 | X64: 9 | Y64: 0 | Z64: 3 | AA64: 0 | AB64: 0 | AC64: 1 | AD64: 0 | AE64: 1 | AF64: 1 | AG64: 21 | AH64: 0 | AI64: 0 | AJ64: 14 | AK64: 5 | AL64: 0 | AM64: 0 | AN64: 0 | AO64: 0 | AP64: 0 | AQ64: 2
C65: 其他 | D65: 0 | E65: 0 | F65: 0 | G65: 0 | H65: 0 | I65: 0 | J65: 0 | K65: 0 | L65: 0 | M65: 0 | N65: 0 | O65: 0 | P65: 0 | Q65: 0 | R65: 0 | S65: 0 | T65: 0 | U65: 0 | V65: 0 | W65: 0 | X65: 0 | Y65: 0 | Z65: 0 | AA65: 0 | AB65: 0 | AC65: 0 | AD65: 0 | AE65: 0 | AF65: 0 | AG65: 0 | AH65: 0 | AI65: 0 | AJ65: 0 | AK65: 0 | AL65: 0 | AM65: 0 | AN65: 0 | AO65: 0 | AP65: 0 | AQ65: 0
C66: 不詳 | D66: 1 | E66: 1 | F66: 0 | G66: 0 | H66: 0 | I66: 0 | J66: 0 | K66: 1 | L66: 0 | M66: 0 | N66: 1 | O66: 0 | P66: 0 | Q66: 0 | R66: 0 | S66: 0 | T66: 0 | U66: 0 | V66: 1 | W66: 1 | X66: 0 | Y66: 0 | Z66: 0 | AA66: 0 | AB66: 0 | AC66: 0 | AD66: 0 | AE66: 0 | AF66: 0 | AG66: 8 | AH66: 0 | AI66: 0 | AJ66: 0 | AK66: 0 | AL66: 0 | AM66: 0 | AN66: 0 | AO66: 0 | AP66: 0 | AQ66: 8
A67: 雲林縣 | C67: 計 | D67: 166 | E67: 161 | F67: 2 | G67: 1 | H67: 2 | I67: 0 | J67: 0 | K67: 166 | L67: 3 | M67: 6 | N67: 97 | O67: 19 | P67: 13 | Q67: 16 | R67: 5 | S67: 7 | T67: 0 | U67: 0 | V67: 166 | W67: 146 | X67: 12 | Y67: 0 | Z67: 5 | AA67: 0 | AB67: 0 | AC67: 0 | AD67: 2 | AE67: 1 | AF67: 0 | AG67: 160 | AH67: 0 | AI67: 1 | AJ67: 56 | AK67: 23 | AL67: 10 | AM67: 10 | AN67: 22 | AO67: 13 | AP67: 5 | AQ67: 20
C68: 男 | D68: 26 | E68: 25 | F68: 1 | G68: 0 | H68: 0 | I68: 0 | J68: 0 | K68: 26 | L68: 1 | M68: 3 | N68: 20 | O68: 1 | P68: 0 | Q68: 0 | R68: 1 | S68: 0 | T68: 0 | U68: 0 | V68: 26 | W68: 23 | X68: 2 | Y68: 0 | Z68: 1 | AA68: 0 | AB68: 0 | AC68: 0 | AD68: 0 | AE68: 0 | AF68: 0 | AG68: 141 | AH68: 0 | AI68: 1 | AJ68: 42 | AK68: 20 | AL68: 10 | AM68: 10 | AN68: 21 | AO68: 13 | AP68: 5 | AQ68: 19
C69: 女 | D69: 140 | E69: 136 | F69: 1 | G69: 1 | H69: 2 | I69: 0 | J69: 0 | K69: 140 | L69: 2 | M69: 3 | N69: 77 | O69: 18 | P69: 13 | Q69: 16 | R69: 4 | S69: 7 | T69: 0 | U69: 0 | V69: 140 | W69: 123 | X69: 10 | Y69: 0 | Z69: 4 | AA69: 0 | AB69: 0 | AC69: 0 | AD69: 2 | AE69: 1 | AF69: 0 | AG69: 19 | AH69: 0 | AI69: 0 | AJ69: 14 | AK69: 3 | AL69: 0 | AM69: 0 | AN69: 1 | AO69: 0 | AP69: 0 | AQ69: 1
C70: 其他 | D70: 0 | E70: 0 | F70: 0 | G70: 0 | H70: 0 | I70: 0 | J70: 0 | K70: 0 | L70: 0 | M70: 0 | N70: 0 | O70: 0 | P70: 0 | Q70: 0 | R70: 0 | S70: 0 | T70: 0 | U70: 0 | V70: 0 | W70: 0 | X70: 0 | Y70: 0 | Z70: 0 | AA70: 0 | AB70: 0 | AC70: 0 | AD70: 0 | AE70: 0 | AF70: 0 | AG70: 0 | AH70: 0 | AI70: 0 | AJ70: 0 | AK70: 0 | AL70: 0 | AM70: 0 | AN70: 0 | AO70: 0 | AP70: 0 | AQ70: 0
C71: 不詳 | D71: 0 | E71: 0 | F71: 0 | G71: 0 | H71: 0 | I71: 0 | J71: 0 | K71: 0 | L71: 0 | M71: 0 | N71: 0 | O71: 0 | P71: 0 | Q71: 0 | R71: 0 | S71: 0 | T71: 0 | U71: 0 | V71: 0 | W71: 0 | X71: 0 | Y71: 0 | Z71: 0 | AA71: 0 | AB71: 0 | AC71: 0 | AD71: 0 | AE71: 0 | AF71: 0 | AG71: 0 | AH71: 0 | AI71: 0 | AJ71: 0 | AK71: 0 | AL71: 0 | AM71: 0 | AN71: 0 | AO71: 0 | AP71: 0 | AQ71: 0
A72: 嘉義縣 | C72: 計 | D72: 121 | E72: 115 | F72: 2 | G72: 0 | H72: 2 | I72: 0 | J72: 2 | K72: 121 | L72: 2 | M72: 11 | N72: 69 | O72: 12 | P72: 7 | Q72: 6 | R72: 8 | S72: 6 | T72: 0 | U72: 0 | V72: 121 | W72: 107 | X72: 8 | Y72: 0 | Z72: 2 | AA72: 0 | AB72: 1 | AC72: 2 | AD72: 1 | AE72: 0 | AF72: 0 | AG72: 123 | AH72: 0 | AI72: 1 | AJ72: 41 | AK72: 23 | AL72: 6 | AM72: 9 | AN72: 9 | AO72: 10 | AP72: 4 | AQ72: 20
C73: 男 | D73: 24 | E73: 24 | F73: 0 | G73: 0 | H73: 0 | I73: 0 | J73: 0 | K73: 24 | L73: 0 | M73: 3 | N73: 16 | O73: 0 | P73: 1 | Q73: 0 | R73: 1 | S73: 3 | T73: 0 | U73: 0 | V73: 24 | W73: 21 | X73: 2 | Y73: 0 | Z73: 1 | AA73: 0 | AB73: 0 | AC73: 0 | AD73: 0 | AE73: 0 | AF73: 0 | AG73: 111 | AH73: 0 | AI73: 0 | AJ73: 33 | AK73: 23 | AL73: 6 | AM73: 8 | AN73: 9 | AO73: 10 | AP73: 4 | AQ73: 18
C74: 女 | D74: 97 | E74: 91 | F74: 2 | G74: 0 | H74: 2 | I74: 0 | J74: 2 | K74: 97 | L74: 2 | M74: 8 | N74: 53 | O74: 12 | P74: 6 | Q74: 6 | R74: 7 | S74: 3 | T74: 0 | U74: 0 | V74: 97 | W74: 86 | X74: 6 | Y74: 0 | Z74: 1 | AA74: 0 | AB74: 1 | AC74: 2 | AD74: 1 | AE74: 0 | AF74: 0 | AG74: 10 | AH74: 0 | AI74: 1 | AJ74: 8 | AK74: 0 | AL74: 0 | AM74: 1 | AN74: 0 | AO74: 0 | AP74: 0 | AQ74: 0
C75: 其他 | D75: 0 | E75: 0 | F75: 0 | G75: 0 | H75: 0 | I75: 0 | J75: 0 | K75: 0 | L75: 0 | M75: 0 | N75: 0 | O75: 0 | P75: 0 | Q75: 0 | R75: 0 | S75: 0 | T75: 0 | U75: 0 | V75: 0 | W75: 0 | X75: 0 | Y75: 0 | Z75: 0 | AA75: 0 | AB75: 0 | AC75: 0 | AD75: 0 | AE75: 0 | AF75: 0 | AG75: 0 | AH75: 0 | AI75: 0 | AJ75: 0 | AK75: 0 | AL75: 0 | AM75: 0 | AN75: 0 | AO75: 0 | AP75: 0 | AQ75: 0
C76: 不詳 | D76: 0 | E76: 0 | F76: 0 | G76: 0 | H76: 0 | I76: 0 | J76: 0 | K76: 0 | L76: 0 | M76: 0 | N76: 0 | O76: 0 | P76: 0 | Q76: 0 | R76: 0 | S76: 0 | T76: 0 | U76: 0 | V76: 0 | W76: 0 | X76: 0 | Y76: 0 | Z76: 0 | AA76: 0 | AB76: 0 | AC76: 0 | AD76: 0 | AE76: 0 | AF76: 0 | AG76: 2 | AH76: 0 | AI76: 0 | AJ76: 0 | AK76: 0 | AL76: 0 | AM76: 0 | AN76: 0 | AO76: 0 | AP76: 0 | AQ76: 2
A77: 屏東縣 | C77: 計 | D77: 252 | E77: 211 | F77: 37 | G77: 1 | H77: 1 | I77: 0 | J77: 2 | K77: 252 | L77: 7 | M77: 25 | N77: 127 | O77: 28 | P77: 21 | Q77: 18 | R77: 18 | S77: 4 | T77: 4 | U77: 0 | V77: 252 | W77: 214 | X77: 20 | Y77: 0 | Z77: 12 | AA77: 0 | AB77: 0 | AC77: 2 | AD77: 1 | AE77: 2 | AF77: 1 | AG77: 232 | AH77: 1 | AI77: 6 | AJ77: 53 | AK77: 36 | AL77: 18 | AM77: 20 | AN77: 31 | AO77: 19 | AP77: 10 | AQ77: 38
C78: 男 | D78: 41 | E78: 35 | F78: 5 | G78: 0 | H78: 0 | I78: 0 | J78: 1 | K78: 41 | L78: 2 | M78: 8 | N78: 25 | O78: 2 | P78: 1 | Q78: 1 | R78: 1 | S78: 0 | T78: 1 | U78: 0 | V78: 41 | W78: 37 | X78: 3 | Y78: 0 | Z78: 1 | AA78: 0 | AB78: 0 | AC78: 0 | AD78: 0 | AE78: 0 | AF78: 0 | AG78: 217 | AH78: 1 | AI78: 5 | AJ78: 43 | AK78: 34 | AL78: 18 | AM78: 20 | AN78: 30 | AO78: 19 | AP78: 10 | AQ78: 37
C79: 女 | D79: 210 | E79: 175 | F79: 32 | G79: 1 | H79: 1 | I79: 0 | J79: 1 | K79: 210 | L79: 5 | M79: 17 | N79: 101 | O79: 26 | P79: 20 | Q79: 17 | R79: 17 | S79: 4 | T79: 3 | U79: 0 | V79: 210 | W79: 176 | X79: 17 | Y79: 0 | Z79: 11 | AA79: 0 | AB79: 0 | AC79: 2 | AD79: 1 | AE79: 2 | AF79: 1 | AG79: 14 | AH79: 0 | AI79: 1 | AJ79: 10 | AK79: 2 | AL79: 0 | AM79: 0 | AN79: 1 | AO79: 0 | AP79: 0 | AQ79: 0
C80: 其他 | D80: 0 | E80: 0 | F80: 0 | G80: 0 | H80: 0 | I80: 0 | J80: 0 | K80: 0 | L80: 0 | M80: 0 | N80: 0 | O80: 0 | P80: 0 | Q80: 0 | R80: 0 | S80: 0 | T80: 0 | U80: 0 | V80: 0 | W80: 0 | X80: 0 | Y80: 0 | Z80: 0 | AA80: 0 | AB80: 0 | AC80: 0 | AD80: 0 | AE80: 0 | AF80: 0 | AG80: 0 | AH80: 0 | AI80: 0 | AJ80: 0 | AK80: 0 | AL80: 0 | AM80: 0 | AN80: 0 | AO80: 0 | AP80: 0 | AQ80: 0
C81: 不詳 | D81: 1 | E81: 1 | F81: 0 | G81: 0 | H81: 0 | I81: 0 | J81: 0 | K81: 1 | L81: 0 | M81: 0 | N81: 1 | O81: 0 | P81: 0 | Q81: 0 | R81: 0 | S81: 0 | T81: 0 | U81: 0 | V81: 1 | W81: 1 | X81: 0 | Y81: 0 | Z81: 0 | AA81: 0 | AB81: 0 | AC81: 0 | AD81: 0 | AE81: 0 | AF81: 0 | AG81: 1 | AH81: 0 | AI81: 0 | AJ81: 0 | AK81: 0 | AL81: 0 | AM81: 0 | AN81: 0 | AO81: 0 | AP81: 0 | AQ81: 1
A82: 臺東縣 | C82: 計 | D82: 148 | E82: 45 | F82: 102 | G82: 0 | H82: 1 | I82: 0 | J82: 0 | K82: 148 | L82: 1 | M82: 20 | N82: 104 | O82: 7 | P82: 2 | Q82: 5 | R82: 8 | S82: 1 | T82: 0 | U82: 0 | V82: 148 | W82: 128 | X82: 12 | Y82: 0 | Z82: 1 | AA82: 0 | AB82: 0 | AC82: 0 | AD82: 3 | AE82: 4 | AF82: 0 | AG82: 147 | AH82: 1 | AI82: 9 | AJ82: 73 | AK82: 12 | AL82: 5 | AM82: 13 | AN82: 9 | AO82: 8 | AP82: 2 | AQ82: 15
C83: 男 | D83: 48 | E83: 11 | F83: 37 | G83: 0 | H83: 0 | I83: 0 | J83: 0 | K83: 48 | L83: 1 | M83: 9 | N83: 38 | O83: 0 | P83: 0 | Q83: 0 | R83: 0 | S83: 0 | T83: 0 | U83: 0 | V83: 48 | W83: 42 | X83: 5 | Y83: 0 | Z83: 0 | AA83: 0 | AB83: 0 | AC83: 0 | AD83: 0 | AE83: 1 | AF83: 0 | AG83: 118 | AH83: 1 | AI83: 8 | AJ83: 51 | AK83: 10 | AL83: 5 | AM83: 12 | AN83: 9 | AO83: 8 | AP83: 2 | AQ83: 12
C84: 女 | D84: 97 | E84: 34 | F84: 62 | G84: 0 | H84: 1 | I84: 0 | J84: 0 | K84: 97 | L84: 0 | M84: 11 | N84: 64 | O84: 6 | P84: 2 | Q84: 5 | R84: 8 | S84: 1 | T84: 0 | U84: 0 | V84: 97 | W84: 84 | X84: 7 | Y84: 0 | Z84: 1 | AA84: 0 | AB84: 0 | AC84: 0 | AD84: 2 | AE84: 3 | AF84: 0 | AG84: 25 | AH84: 0 | AI84: 1 | AJ84: 21 | AK84: 2 | AL84: 0 | AM84: 1 | AN84: 0 | AO84: 0 | AP84: 0 | AQ84: 0
C85: 其他 | D85: 0 | E85: 0 | F85: 0 | G85: 0 | H85: 0 | I85: 0 | J85: 0 | K85: 0 | L85: 0 | M85: 0 | N85: 0 | O85: 0 | P85: 0 | Q85: 0 | R85: 0 | S85: 0 | T85: 0 | U85: 0 | V85: 0 | W85: 0 | X85: 0 | Y85: 0 | Z85: 0 | AA85: 0 | AB85: 0 | AC85: 0 | AD85: 0 | AE85: 0 | AF85: 0 | AG85: 0 | AH85: 0 | AI85: 0 | AJ85: 0 | AK85: 0 | AL85: 0 | AM85: 0 | AN85: 0 | AO85: 0 | AP85: 0 | AQ85: 0
C86: 不詳 | D86: 3 | E86: 0 | F86: 3 | G86: 0 | H86: 0 | I86: 0 | J86: 0 | K86: 3 | L86: 0 | M86: 0 | N86: 2 | O86: 1 | P86: 0 | Q86: 0 | R86: 0 | S86: 0 | T86: 0 | U86: 0 | V86: 3 | W86: 2 | X86: 0 | Y86: 0 | Z86: 0 | AA86: 0 | AB86: 0 | AC86: 0 | AD86: 1 | AE86: 0 | AF86: 0 | AG86: 4 | AH86: 0 | AI86: 0 | AJ86: 1 | AK86: 0 | AL86: 0 | AM86: 0 | AN86: 0 | AO86: 0 | AP86: 0 | AQ86: 3
A87: 花蓮縣 | C87: 計 | D87: 262 | E87: 104 | F87: 152 | G87: 0 | H87: 2 | I87: 0 | J87: 4 | K87: 262 | L87: 5 | M87: 30 | N87: 162 | O87: 21 | P87: 12 | Q87: 18 | R87: 7 | S87: 6 | T87: 1 | U87: 0 | V87: 262 | W87: 235 | X87: 12 | Y87: 0 | Z87: 8 | AA87: 0 | AB87: 0 | AC87: 1 | AD87: 1 | AE87: 4 | AF87: 1 | AG87: 261 | AH87: 0 | AI87: 9 | AJ87: 90 | AK87: 26 | AL87: 15 | AM87: 20 | AN87: 21 | AO87: 12 | AP87: 8 | AQ87: 60
C88: 男 | D88: 73 | E88: 23 | F88: 48 | G88: 0 | H88: 0 | I88: 0 | J88: 2 | K88: 73 | L88: 1 | M88: 10 | N88: 54 | O88: 3 | P88: 1 | Q88: 1 | R88: 2 | S88: 1 | T88: 0 | U88: 0 | V88: 73 | W88: 66 | X88: 3 | Y88: 0 | Z88: 2 | AA88: 0 | AB88: 0 | AC88: 0 | AD88: 0 | AE88: 2 | AF88: 0 | AG88: 214 | AH88: 0 | AI88: 7 | AJ88: 56 | AK88: 24 | AL88: 15 | AM88: 20 | AN88: 21 | AO88: 11 | AP88: 8 | AQ88: 52
C89: 女 | D89: 187 | E89: 81 | F89: 102 | G89: 0 | H89: 2 | I89: 0 | J89: 2 | K89: 187 | L89: 4 | M89: 20 | N89: 107 | O89: 18 | P89: 11 | Q89: 16 | R89: 5 | S89: 5 | T89: 1 | U89: 0 | V89: 187 | W89: 168 | X89: 9 | Y89: 0 | Z89: 5 | AA89: 0 | AB89: 0 | AC89: 1 | AD89: 1 | AE89: 2 | AF89: 1 | AG89: 41 | AH89: 0 | AI89: 2 | AJ89: 33 | AK89: 2 | AL89: 0 | AM89: 0 | AN89: 0 | AO89: 1 | AP89: 0 | AQ89: 3
C90: 其他 | D90: 0 | E90: 0 | F90: 0 | G90: 0 | H90: 0 | I90: 0 | J90: 0 | K90: 0 | L90: 0 | M90: 0 | N90: 0 | O90: 0 | P90: 0 | Q90: 0 | R90: 0 | S90: 0 | T90: 0 | U90: 0 | V90: 0 | W90: 0 | X90: 0 | Y90: 0 | Z90: 0 | AA90: 0 | AB90: 0 | AC90: 0 | AD90: 0 | AE90: 0 | AF90: 0 | AG90: 0 | AH90: 0 | AI90: 0 | AJ90: 0 | AK90: 0 | AL90: 0 | AM90: 0 | AN90: 0 | AO90: 0 | AP90: 0 | AQ90: 0
C91: 不詳 | D91: 2 | E91: 0 | F91: 2 | G91: 0 | H91: 0 | I91: 0 | J91: 0 | K91: 2 | L91: 0 | M91: 0 | N91: 1 | O91: 0 | P91: 0 | Q91: 1 | R91: 0 | S91: 0 | T91: 0 | U91: 0 | V91: 2 | W91: 1 | X91: 0 | Y91: 0 | Z91: 1 | AA91: 0 | AB91: 0 | AC91: 0 | AD91: 0 | AE91: 0 | AF91: 0 | AG91: 6 | AH91: 0 | AI91: 0 | AJ91: 1 | AK91: 0 | AL91: 0 | AM91: 0 | AN91: 0 | AO91: 0 | AP91: 0 | AQ91: 5
A92: 澎湖縣 | C92: 計 | D92: 31 | E92: 30 | F92: 1 | G92: 0 | H92: 0 | I92: 0 | J92: 0 | K92: 31 | L92: 0 | M92: 2 | N92: 15 | O92: 3 | P92: 4 | Q92: 4 | R92: 2 | S92: 1 | T92: 0 | U92: 0 | V92: 31 | W92: 24 | X92: 2 | Y92: 0 | Z92: 5 | AA92: 0 | AB92: 0 | AC92: 0 | AD92: 0 | AE92: 0 | AF92: 0 | AG92: 29 | AH92: 0 | AI92: 0 | AJ92: 6 | AK92: 6 | AL92: 5 | AM92: 1 | AN92: 2 | AO92: 3 | AP92: 2 | AQ92: 4
C93: 男 | D93: 3 | E93: 3 | F93: 0 | G93: 0 | H93: 0 | I93: 0 | J93: 0 | K93: 3 | L93: 0 | M93: 0 | N93: 2 | O93: 1 | P93: 0 | Q93: 0 | R93: 0 | S93: 0 | T93: 0 | U93: 0 | V93: 3 | W93: 3 | X93: 0 | Y93: 0 | Z93: 0 | AA93: 0 | AB93: 0 | AC93: 0 | AD93: 0 | AE93: 0 | AF93: 0 | AG93: 23 | AH93: 0 | AI93: 0 | AJ93: 4 | AK93: 6 | AL93: 5 | AM93: 1 | AN93: 2 | AO93: 3 | AP93: 2 | AQ93: 0
C94: 女 | D94: 27 | E94: 26 | F94: 1 | G94: 0 | H94: 0 | I94: 0 | J94: 0 | K94: 27 | L94: 0 | M94: 2 | N94: 12 | O94: 2 | P94: 4 | Q94: 4 | R94: 2 | S94: 1 | T94: 0 | U94: 0 | V94: 27 | W94: 20 | X94: 2 | Y94: 0 | Z94: 5 | AA94: 0 | AB94: 0 | AC94: 0 | AD94: 0 | AE94: 0 | AF94: 0 | AG94: 5 | AH94: 0 | AI94: 0 | AJ94: 2 | AK94: 0 | AL94: 0 | AM94: 0 | AN94: 0 | AO94: 0 | AP94: 0 | AQ94: 3
C95: 其他 | D95: 0 | E95: 0 | F95: 0 | G95: 0 | H95: 0 | I95: 0 | J95: 0 | K95: 0 | L95: 0 | M95: 0 | N95: 0 | O95: 0 | P95: 0 | Q95: 0 | R95: 0 | S95: 0 | T95: 0 | U95: 0 | V95: 0 | W95: 0 | X95: 0 | Y95: 0 | Z95: 0 | AA95: 0 | AB95: 0 | AC95: 0 | AD95: 0 | AE95: 0 | AF95: 0 | AG95: 0 | AH95: 0 | AI95: 0 | AJ95: 0 | AK95: 0 | AL95: 0 | AM95: 0 | AN95: 0 | AO95: 0 | AP95: 0 | AQ95: 0
C96: 不詳 | D96: 1 | E96: 1 | F96: 0 | G96: 0 | H96: 0 | I96: 0 | J96: 0 | K96: 1 | L96: 0 | M96: 0 | N96: 1 | O96: 0 | P96: 0 | Q96: 0 | R96: 0 | S96: 0 | T96: 0 | U96: 0 | V96: 1 | W96: 1 | X96: 0 | Y96: 0 | Z96: 0 | AA96: 0 | AB96: 0 | AC96: 0 | AD96: 0 | AE96: 0 | AF96: 0 | AG96: 1 | AH96: 0 | AI96: 0 | AJ96: 0 | AK96: 0 | AL96: 0 | AM96: 0 | AN96: 0 | AO96: 0 | AP96: 0 | AQ96: 1
A97: 基隆市 | C97: 計 | D97: 135 | E97: 120 | F97: 14 | G97: 0 | H97: 1 | I97: 0 | J97: 0 | K97: 135 | L97: 2 | M97: 8 | N97: 82 | O97: 15 | P97: 10 | Q97: 7 | R97: 8 | S97: 1 | T97: 2 | U97: 0 | V97: 135 | W97: 123 | X97: 4 | Y97: 1 | Z97: 7 | AA97: 0 | AB97: 0 | AC97: 0 | AD97: 0 | AE97: 0 | AF97: 0 | AG97: 125 | AH97: 0 | AI97: 0 | AJ97: 32 | AK97: 20 | AL97: 11 | AM97: 14 | AN97: 9 | AO97: 9 | AP97: 4 | AQ97: 26
C98: 男 | D98: 17 | E98: 15 | F98: 2 | G98: 0 | H98: 0 | I98: 0 | J98: 0 | K98: 17 | L98: 0 | M98: 2 | N98: 13 | O98: 1 | P98: 1 | Q98: 0 | R98: 0 | S98: 0 | T98: 0 | U98: 0 | V98: 17 | W98: 16 | X98: 1 | Y98: 0 | Z98: 0 | AA98: 0 | AB98: 0 | AC98: 0 | AD98: 0 | AE98: 0 | AF98: 0 | AG98: 107 | AH98: 0 | AI98: 0 | AJ98: 25 | AK98: 19 | AL98: 11 | AM98: 14 | AN98: 7 | AO98: 8 | AP98: 3 | AQ98: 20
C99: 女 | D99: 118 | E99: 105 | F99: 12 | G99: 0 | H99: 1 | I99: 0 | J99: 0 | K99: 118 | L99: 2 | M99: 6 | N99: 69 | O99: 14 | P99: 9 | Q99: 7 | R99: 8 | S99: 1 | T99: 2 | U99: 0 | V99: 118 | W99: 107 | X99: 3 | Y99: 1 | Z99: 7 | AA99: 0 | AB99: 0 | AC99: 0 | AD99: 0 | AE99: 0 | AF99: 0 | AG99: 12 | AH99: 0 | AI99: 0 | AJ99: 7 | AK99: 1 | AL99: 0 | AM99: 0 | AN99: 2 | AO99: 0 | AP99: 1 | AQ99: 1
C100: 其他 | D100: 0 | E100: 0 | F100: 0 | G100: 0 | H100: 0 | I100: 0 | J100: 0 | K100: 0 | L100: 0 | M100: 0 | N100: 0 | O100: 0 | P100: 0 | Q100: 0 | R100: 0 | S100: 0 | T100: 0 | U100: 0 | V100: 0 | W100: 0 | X100: 0 | Y100: 0 | Z100: 0 | AA100: 0 | AB100: 0 | AC100: 0 | AD100: 0 | AE100: 0 | AF100: 0 | AG100: 0 | AH100: 0 | AI100: 0 | AJ100: 0 | AK100: 0 | AL100: 0 | AM100: 0 | AN100: 0 | AO100: 0 | AP100: 0 | AQ100: 0
C101: 不詳 | D101: 0 | E101: 0 | F101: 0 | G101: 0 | H101: 0 | I101: 0 | J101: 0 | K101: 0 | L101: 0 | M101: 0 | N101: 0 | O101: 0 | P101: 0 | Q101: 0 | R101: 0 | S101: 0 | T101: 0 | U101: 0 | V101: 0 | W101: 0 | X101: 0 | Y101: 0 | Z101: 0 | AA101: 0 | AB101: 0 | AC101: 0 | AD101: 0 | AE101: 0 | AF101: 0 | AG101: 6 | AH101: 0 | AI101: 0 | AJ101: 0 | AK101: 0 | AL101: 0 | AM101: 0 | AN101: 0 | AO101: 1 | AP101: 0 | AQ101: 5
...

Sheet 110
A1: 5.2-02 性侵害事件通報被害及嫌疑人概況
A2: 民國110年
A4: 區域別 | C4: 性別 | D4: 性侵害被害人統計(人) | AG4: 性侵害嫌疑人年齡統計(人)
D5: 國籍、身分別 | K5: 年齡別 | V5: 身心障礙別 | AG5: 年齡別
D6: 合計 | E6: 本國籍 非原住民 | F6: 本國籍 原住民 | G6: 大陸及 港澳籍 | H6: 外國籍 | I6: 無國籍 | J6: 資料 不明 | K6: 合計 | L6: 0-未滿6歲 | M6: 6-未滿12歲 | N6: 12-未滿18歲 | O6: 18-未滿24歲 | P6: 24-未滿30歲 | Q6: 30-未滿40歲 | R6: 40-未滿50歲 | S6: 50-未滿65歲 | T6: 65歲 以上 | U6: 不詳 | V6: 合計 | W6: 非身心 障礙 | X6: 智障 | Y6: 視障 | Z6: 精神 病患 | AA6: 聲(語)障 | AB6: 聽障 | AC6: 肢障 | AD6: 多重 障礙 | AE6: 其他 障礙 | AF6: 不詳 | AG6: 合計 | AH6: 0-未滿6歲 | AI6: 6-未滿12歲 | AJ6: 12-未滿18歲 | AK6: 18-未滿24歲 | AL6: 24-未滿30歲 | AM6: 30-未滿40歲 | AN6: 40-未滿50歲 | AO6: 50-未滿65歲 | AP6: 65歲 以上 | AQ6: 不詳
A7: 110年, 2021 | C7: 計 | D7: 7787 | E7: 6787 | F7: 680 | G7: 26 | H7: 129 | I7: 2 | J7: 163 | K7: 7787 | L7: 210 | M7: 630 | N7: 3680 | O7: 1135 | P7: 677 | Q7: 778 | R7: 427 | S7: 173 | T7: 53 | U7: 24 | V7: 7787 | W7: 6775 | X7: 354 | Y7: 6 | Z7: 213 | AA7: 4 | AB7: 16 | AC7: 22 | AD7: 72 | AE7: 43 | AF7: 282 | AG7: 7258 | AH7: 16 | AI7: 148 | AJ7: 1720 | AK7: 939 | AL7: 479 | AM7: 664 | AN7: 645 | AO7: 495 | AP7: 189 | AQ7: 1963
C8: 男 | D8: 1351 | E8: 1138 | F8: 161 | G8: 2 | H8: 15 | I8: 1 | J8: 34 | K8: 1351 | L8: 45 | M8: 185 | N8: 879 | O8: 96 | P8: 56 | Q8: 44 | R8: 34 | S8: 8 | T8: 3 | U8: 1 | V8: 1351 | W8: 1178 | X8: 59 | Y8: 0 | Z8: 16 | AA8: 0 | AB8: 2 | AC8: 0 | AD8: 13 | AE8: 11 | AF8: 72 | AG8: 6316 | AH8: 16 | AI8: 117 | AJ8: 1183 | AK8: 892 | AL8: 468 | AM8: 652 | AN8: 614 | AO8: 488 | AP8: 185 | AQ8: 1701
C9: 女 | D9: 6406 | E9: 5623 | F9: 519 | G9: 24 | H9: 114 | I9: 1 | J9: 125 | K9: 6406 | L9: 165 | M9: 441 | N9: 2784 | O9: 1037 | P9: 618 | Q9: 733 | R9: 392 | S9: 164 | T9: 50 | U9: 22 | V9: 6406 | W9: 5571 | X9: 295 | Y9: 6 | Z9: 196 | AA9: 4 | AB9: 14 | AC9: 22 | AD9: 58 | AE9: 32 | AF9: 208 | AG9: 736 | AH9: 0 | AI9: 31 | AJ9: 525 | AK9: 40 | AL9: 10 | AM9: 11 | AN9: 30 | AO9: 7 | AP9: 4 | AQ9: 78
C10: 其他 | D10: 0 | E10: 0 | F10: 0 | G10: 0 | H10: 0 | I10: 0 | J10: 0 | K10: 0 | L10: 0 | M10: 0 | N10: 0 | O10: 0 | P10: 0 | Q10: 0 | R10: 0 | S10: 0 | T10: 0 | U10: 0 | V10: 0 | W10: 0 | X10: 0 | Y10: 0 | Z10: 0 | AA10: 0 | AB10: 0 | AC10: 0 | AD10: 0 | AE10: 0 | AF10: 0 | AG10: 0 | AH10: 0 | AI10: 0 | AJ10: 0 | AK10: 0 | AL10: 0 | AM10: 0 | AN10: 0 | AO10: 0 | AP10: 0 | AQ10: 0
C11: 不詳 | D11: 30 | E11: 26 | F11: 0 | G11: 0 | H11: 0 | I11: 0 | J11: 4 | K11: 30 | L11: 0 | M11: 4 | N11: 17 | O11: 2 | P11: 3 | Q11: 1 | R11: 1 | S11: 1 | T11: 0 | U11: 1 | V11: 30 | W11: 26 | X11: 0 | Y11: 0 | Z11: 1 | AA11: 0 | AB11: 0 | AC11: 0 | AD11: 1 | AE11: 0 | AF11: 2 | AG11: 206 | AH11: 0 | AI11: 0 | AJ11: 12 | AK11: 7 | AL11: 1 | AM11: 1 | AN11: 1 | AO11: 0 | AP11: 0 | AQ11: 184
A12: 新北市 | C12: 計 | D12: 1405 | E12: 1251 | F12: 58 | G12: 6 | H12: 22 | I12: 2 | J12: 66 | K12: 1405 | L12: 45 | M12: 119 | N12: 638 | O12: 218 | P12: 152 | Q12: 125 | R12: 71 | S12: 25 | T12: 8 | U12: 4 | V12: 1405 | W12: 1193 | X12: 53 | Y12: 2 | Z12: 46 | AA12: 2 | AB12: 3 | AC12: 2 | AD12: 8 | AE12: 8 | AF12: 88 | AG12: 1313 | AH12: 4 | AI12: 21 | AJ12: 277 | AK12: 159 | AL12: 80 | AM12: 108 | AN12: 94 | AO12: 79 | AP12: 22 | AQ12: 469
C13: 男 | D13: 205 | E13: 187 | F13: 5 | G13: 0 | H13: 2 | I13: 1 | J13: 10 | K13: 205 | L13: 10 | M13: 27 | N13: 123 | O13: 18 | P13: 14 | Q13: 3 | R13: 8 | S13: 1 | T13: 1 | U13: 0 | V13: 205 | W13: 166 | X13: 10 | Y13: 0 | Z13: 4 | AA13: 0 | AB13: 1 | AC13: 0 | AD13: 1 | AE13: 3 | AF13: 20 | AG13: 1152 | AH13: 4 | AI13: 20 | AJ13: 180 | AK13: 153 | AL13: 78 | AM13: 107 | AN13: 85 | AO13: 77 | AP13: 21 | AQ13: 427
C14: 女 | D14: 1189 | E14: 1055 | F14: 53 | G14: 6 | H14: 20 | I14: 1 | J14: 54 | K14: 1189 | L14: 35 | M14: 89 | N14: 509 | O14: 200 | P14: 136 | Q14: 122 | R14: 63 | S14: 24 | T14: 7 | U14: 4 | V14: 1189 | W14: 1018 | X14: 43 | Y14: 2 | Z14: 41 | AA14: 2 | AB14: 2 | AC14: 2 | AD14: 7 | AE14: 5 | AF14: 67 | AG14: 136 | AH14: 0 | AI14: 1 | AJ14: 94 | AK14: 5 | AL14: 2 | AM14: 0 | AN14: 9 | AO14: 2 | AP14: 1 | AQ14: 22
C15: 其他 | D15: 0 | E15: 0 | F15: 0 | G15: 0 | H15: 0 | I15: 0 | J15: 0 | K15: 0 | L15: 0 | M15: 0 | N15: 0 | O15: 0 | P15: 0 | Q15: 0 | R15: 0 | S15: 0 | T15: 0 | U15: 0 | V15: 0 | W15: 0 | X15: 0 | Y15: 0 | Z15: 0 | AA15: 0 | AB15: 0 | AC15: 0 | AD15: 0 | AE15: 0 | AF15: 0 | AG15: 0 | AH15: 0 | AI15: 0 | AJ15: 0 | AK15: 0 | AL15: 0 | AM15: 0 | AN15: 0 | AO15: 0 | AP15: 0 | AQ15: 0
C16: 不詳 | D16: 11 | E16: 9 | F16: 0 | G16: 0 | H16: 0 | I16: 0 | J16: 2 | K16: 11 | L16: 0 | M16: 3 | N16: 6 | O16: 0 | P16: 2 | Q16: 0 | R16: 0 | S16: 0 | T16: 0 | U16: 0 | V16: 11 | W16: 9 | X16: 0 | Y16: 0 | Z16: 1 | AA16: 0 | AB16: 0 | AC16: 0 | AD16: 0 | AE16: 0 | AF16: 1 | AG16: 25 | AH16: 0 | AI16: 0 | AJ16: 3 | AK16: 1 | AL16: 0 | AM16: 1 | AN16: 0 | AO16: 0 | AP16: 0 | AQ16: 20
A17: 臺北市 | C17: 計 | D17: 741 | E17: 682 | F17: 12 | G17: 3 | H17: 31 | I17: 0 | J17: 13 | K17: 741 | L17: 21 | M17: 40 | N17: 229 | O17: 159 | P17: 103 | Q17: 106 | R17: 44 | S17: 22 | T17: 5 | U17: 12 | V17: 741 | W17: 651 | X17: 18 | Y17: 1 | Z17: 28 | AA17: 0 | AB17: 1 | AC17: 3 | AD17: 8 | AE17: 6 | AF17: 25 | AG17: 597 | AH17: 1 | AI17: 12 | AJ17: 105 | AK17: 53 | AL17: 39 | AM17: 67 | AN17: 69 | AO17: 41 | AP17: 15 | AQ17: 195
C18: 男 | D18: 111 | E18: 96 | F18: 3 | G18: 2 | H18: 8 | I18: 0 | J18: 2 | K18: 111 | L18: 7 | M18: 12 | N18: 56 | O18: 15 | P18: 11 | Q18: 5 | R18: 3 | S18: 2 | T18: 0 | U18: 0 | V18: 111 | W18: 101 | X18: 4 | Y18: 0 | Z18: 1 | AA18: 0 | AB18: 0 | AC18: 0 | AD18: 2 | AE18: 1 | AF18: 2 | AG18: 537 | AH18: 1 | AI18: 11 | AJ18: 76 | AK18: 52 | AL18: 36 | AM18: 64 | AN18: 63 | AO18: 39 | AP18: 15 | AQ18: 180
C19: 女 | D19: 626 | E19: 582 | F19: 9 | G19: 1 | H19: 23 | I19: 0 | J19: 11 | K19: 626 | L19: 14 | M19: 28 | N19: 172 | O19: 143 | P19: 91 | Q19: 101 | R19: 40 | S19: 20 | T19: 5 | U19: 12 | V19: 626 | W19: 546 | X19: 14 | Y19: 1 | Z19: 27 | AA19: 0 | AB19: 1 | AC19: 3 | AD19: 6 | AE19: 5 | AF19: 23 | AG19: 49 | AH19: 0 | AI19: 1 | AJ19: 29 | AK19: 1 | AL19: 3 | AM19: 3 | AN19: 6 | AO19: 2 | AP19: 0 | AQ19: 4
C20: 其他 | D20: 0 | E20: 0 | F20: 0 | G20: 0 | H20: 0 | I20: 0 | J20: 0 | K20: 0 | L20: 0 | M20: 0 | N20: 0 | O20: 0 | P20: 0 | Q20: 0 | R20: 0 | S20: 0 | T20: 0 | U20: 0 | V20: 0 | W20: 0 | X20: 0 | Y20: 0 | Z20: 0 | AA20: 0 | AB20: 0 | AC20: 0 | AD20: 0 | AE20: 0 | AF20: 0 | AG20: 0 | AH20: 0 | AI20: 0 | AJ20: 0 | AK20: 0 | AL20: 0 | AM20: 0 | AN20: 0 | AO20: 0 | AP20: 0 | AQ20: 0
C21: 不詳 | D21: 4 | E21: 4 | F21: 0 | G21: 0 | H21: 0 | I21: 0 | J21: 0 | K21: 4 | L21: 0 | M21: 0 | N21: 1 | O21: 1 | P21: 1 | Q21: 0 | R21: 1 | S21: 0 | T21: 0 | U21: 0 | V21: 4 | W21: 4 | X21: 0 | Y21: 0 | Z21: 0 | AA21: 0 | AB21: 0 | AC21: 0 | AD21: 0 | AE21: 0 | AF21: 0 | AG21: 11 | AH21: 0 | AI21: 0 | AJ21: 0 | AK21: 0 | AL21: 0 | AM21: 0 | AN21: 0 | AO21: 0 | AP21: 0 | AQ21: 11
A22: 桃園市 | C22: 計 | D22: 985 | E22: 852 | F22: 112 | G22: 3 | H22: 15 | I22: 0 | J22: 3 | K22: 985 | L22: 20 | M22: 53 | N22: 562 | O22: 122 | P22: 74 | Q22: 87 | R22: 49 | S22: 14 | T22: 3 | U22: 1 | V22: 985 | W22: 887 | X22: 32 | Y22: 0 | Z22: 17 | AA22: 1 | AB22: 0 | AC22: 2 | AD22: 9 | AE22: 3 | AF22: 34 | AG22: 894 | AH22: 1 | AI22: 16 | AJ22: 245 | AK22: 110 | AL22: 60 | AM22: 61 | AN22: 76 | AO22: 55 | AP22: 16 | AQ22: 254
C23: 男 | D23: 178 | E23: 153 | F23: 24 | G23: 0 | H23: 0 | I23: 0 | J23: 1 | K23: 178 | L23: 8 | M23: 16 | N23: 135 | O23: 9 | P23: 4 | Q23: 4 | R23: 2 | S23: 0 | T23: 0 | U23: 0 | V23: 178 | W23: 159 | X23: 4 | Y23: 0 | Z23: 0 | AA23: 0 | AB23: 0 | AC23: 0 | AD23: 1 | AE23: 1 | AF23: 13 | AG23: 732 | AH23: 1 | AI23: 13 | AJ23: 152 | AK23: 103 | AL23: 60 | AM23: 59 | AN23: 71 | AO23: 55 | AP23: 16 | AQ23: 202
C24: 女 | D24: 805 | E24: 697 | F24: 88 | G24: 3 | H24: 15 | I24: 0 | J24: 2 | K24: 805 | L24: 12 | M24: 37 | N24: 425 | O24: 113 | P24: 70 | Q24: 83 | R24: 47 | S24: 14 | T24: 3 | U24: 1 | V24: 805 | W24: 726 | X24: 28 | Y24: 0 | Z24: 17 | AA24: 1 | AB24: 0 | AC24: 2 | AD24: 8 | AE24: 2 | AF24: 21 | AG24: 124 | AH24: 0 | AI24: 3 | AJ24: 90 | AK24: 7 | AL24: 0 | AM24: 2 | AN24: 5 | AO24: 0 | AP24: 0 | AQ24: 17
C25: 其他 | D25: 0 | E25: 0 | F25: 0 | G25: 0 | H25: 0 | I25: 0 | J25: 0 | K25: 0 | L25: 0 | M25: 0 | N25: 0 | O25: 0 | P25: 0 | Q25: 0 | R25: 0 | S25: 0 | T25: 0 | U25: 0 | V25: 0 | W25: 0 | X25: 0 | Y25: 0 | Z25: 0 | AA25: 0 | AB25: 0 | AC25: 0 | AD25: 0 | AE25: 0 | AF25: 0 | AG25: 0 | AH25: 0 | AI25: 0 | AJ25: 0 | AK25: 0 | AL25: 0 | AM25: 0 | AN25: 0 | AO25: 0 | AP25: 0 | AQ25: 0
C26: 不詳 | D26: 2 | E26: 2 | F26: 0 | G26: 0 | H26: 0 | I26: 0 | J26: 0 | K26: 2 | L26: 0 | M26: 0 | N26: 2 | O26: 0 | P26: 0 | Q26: 0 | R26: 0 | S26: 0 | T26: 0 | U26: 0 | V26: 2 | W26: 2 | X26: 0 | Y26: 0 | Z26: 0 | AA26: 0 | AB26: 0 | AC26: 0 | AD26: 0 | AE26: 0 | AF26: 0 | AG26: 38 | AH26: 0 | AI26: 0 | AJ26: 3 | AK26: 0 | AL26: 0 | AM26: 0 | AN26: 0 | AO26: 0 | AP26: 0 | AQ26: 35
A27: 臺中市 | C27: 計 | D27: 888 | E27: 794 | F27: 44 | G27: 4 | H27: 12 | I27: 0 | J27: 34 | K27: 888 | L27: 23 | M27: 60 | N27: 373 | O27: 140 | P27: 88 | Q27: 122 | R27: 54 | S27: 20 | T27: 6 | U27: 2 | V27: 888 | W27: 776 | X27: 28 | Y27: 0 | Z27: 27 | AA27: 0 | AB27: 1 | AC27: 1 | AD27: 7 | AE27: 8 | AF27: 40 | AG27: 716 | AH27: 0 | AI27: 15 | AJ27: 113 | AK27: 110 | AL27: 49 | AM27: 99 | AN27: 86 | AO27: 48 | AP27: 15 | AQ27: 181
C28: 男 | D28: 127 | E28: 112 | F28: 8 | G28: 0 | H28: 0 | I28: 0 | J28: 7 | K28: 127 | L28: 2 | M28: 22 | N28: 78 | O28: 10 | P28: 4 | Q28: 6 | R28: 3 | S28: 0 | T28: 1 | U28: 1 | V28: 127 | W28: 107 | X28: 2 | Y28: 0 | Z28: 1 | AA28: 0 | AB28: 0 | AC28: 0 | AD28: 1 | AE28: 3 | AF28: 13 | AG28: 642 | AH28: 0 | AI28: 11 | AJ28: 86 | AK28: 103 | AL28: 49 | AM28: 99 | AN28: 83 | AO28: 47 | AP28: 14 | AQ28: 150
C29: 女 | D29: 756 | E29: 678 | F29: 36 | G29: 4 | H29: 12 | I29: 0 | J29: 26 | K29: 756 | L29: 21 | M29: 38 | N29: 291 | O29: 130 | P29: 84 | Q29: 116 | R29: 51 | S29: 20 | T29: 5 | U29: 0 | V29: 756 | W29: 664 | X29: 26 | Y29: 0 | Z29: 26 | AA29: 0 | AB29: 1 | AC29: 1 | AD29: 6 | AE29: 5 | AF29: 27 | AG29: 47 | AH29: 0 | AI29: 4 | AJ29: 25 | AK29: 6 | AL29: 0 | AM29: 0 | AN29: 2 | AO29: 1 | AP29: 1 | AQ29: 8
C30: 其他 | D30: 0 | E30: 0 | F30: 0 | G30: 0 | H30: 0 | I30: 0 | J30: 0 | K30: 0 | L30: 0 | M30: 0 | N30: 0 | O30: 0 | P30: 0 | Q30: 0 | R30: 0 | S30: 0 | T30: 0 | U30: 0 | V30: 0 | W30: 0 | X30: 0 | Y30: 0 | Z30: 0 | AA30: 0 | AB30: 0 | AC30: 0 | AD30: 0 | AE30: 0 | AF30: 0 | AG30: 0 | AH30: 0 | AI30: 0 | AJ30: 0 | AK30: 0 | AL30: 0 | AM30: 0 | AN30: 0 | AO30: 0 | AP30: 0 | AQ30: 0
C31: 不詳 | D31: 5 | E31: 4 | F31: 0 | G31: 0 | H31: 0 | I31: 0 | J31: 1 | K31: 5 | L31: 0 | M31: 0 | N31: 4 | O31: 0 | P31: 0 | Q31: 0 | R31: 0 | S31: 0 | T31: 0 | U31: 1 | V31: 5 | W31: 5 | X31: 0 | Y31: 0 | Z31: 0 | AA31: 0 | AB31: 0 | AC31: 0 | AD31: 0 | AE31: 0 | AF31: 0 | AG31: 27 | AH31: 0 | AI31: 0 | AJ31: 2 | AK31: 1 | AL31: 0 | AM31: 0 | AN31: 1 | AO31: 0 | AP31: 0 | AQ31: 23
A32: 臺南市 | C32: 計 | D32: 526 | E32: 497 | F32: 22 | G32: 0 | H32: 7 | I32: 0 | J32: 0 | K32: 526 | L32: 13 | M32: 46 | N32: 247 | O32: 74 | P32: 43 | Q32: 53 | R32: 33 | S32: 13 | T32: 3 | U32: 1 | V32: 526 | W32: 458 | X32: 27 | Y32: 0 | Z32: 8 | AA32: 0 | AB32: 7 | AC32: 3 | AD32: 3 | AE32: 3 | AF32: 17 | AG32: 521 | AH32: 0 | AI32: 9 | AJ32: 121 | AK32: 59 | AL32: 33 | AM32: 52 | AN32: 59 | AO32: 39 | AP32: 22 | AQ32: 127
C33: 男 | D33: 84 | E33: 78 | F33: 4 | G33: 0 | H33: 2 | I33: 0 | J33: 0 | K33: 84 | L33: 2 | M33: 12 | N33: 52 | O33: 6 | P33: 5 | Q33: 4 | R33: 3 | S33: 0 | T33: 0 | U33: 0 | V33: 84 | W33: 77 | X33: 3 | Y33: 0 | Z33: 1 | AA33: 0 | AB33: 1 | AC33: 0 | AD33: 1 | AE33: 0 | AF33: 1 | AG33: 475 | AH33: 0 | AI33: 9 | AJ33: 90 | AK33: 58 | AL33: 31 | AM33: 51 | AN33: 56 | AO33: 39 | AP33: 21 | AQ33: 120
C34: 女 | D34: 441 | E34: 418 | F34: 18 | G34: 0 | H34: 5 | I34: 0 | J34: 0 | K34: 441 | L34: 11 | M34: 33 | N34: 195 | O34: 68 | P34: 38 | Q34: 49 | R34: 30 | S34: 13 | T34: 3 | U34: 1 | V34: 441 | W34: 380 | X34: 24 | Y34: 0 | Z34: 7 | AA34: 0 | AB34: 6 | AC34: 3 | AD34: 2 | AE34: 3 | AF34: 16 | AG34: 42 | AH34: 0 | AI34: 0 | AJ34: 31 | AK34: 1 | AL34: 2 | AM34: 1 | AN34: 3 | AO34: 0 | AP34: 1 | AQ34: 3
C35: 其他 | D35: 0 | E35: 0 | F35: 0 | G35: 0 | H35: 0 | I35: 0 | J35: 0 | K35: 0 | L35: 0 | M35: 0 | N35: 0 | O35: 0 | P35: 0 | Q35: 0 | R35: 0 | S35: 0 | T35: 0 | U35: 0 | V35: 0 | W35: 0 | X35: 0 | Y35: 0 | Z35: 0 | AA35: 0 | AB35: 0 | AC35: 0 | AD35: 0 | AE35: 0 | AF35: 0 | AG35: 0 | AH35: 0 | AI35: 0 | AJ35: 0 | AK35: 0 | AL35: 0 | AM35: 0 | AN35: 0 | AO35: 0 | AP35: 0 | AQ35: 0
C36: 不詳 | D36: 1 | E36: 1 | F36: 0 | G36: 0 | H36: 0 | I36: 0 | J36: 0 | K36: 1 | L36: 0 | M36: 1 | N36: 0 | O36: 0 | P36: 0 | Q36: 0 | R36: 0 | S36: 0 | T36: 0 | U36: 0 | V36: 1 | W36: 1 | X36: 0 | Y36: 0 | Z36: 0 | AA36: 0 | AB36: 0 | AC36: 0 | AD36: 0 | AE36: 0 | AF36: 0 | AG36: 4 | AH36: 0 | AI36: 0 | AJ36: 0 | AK36: 0 | AL36: 0 | AM36: 0 | AN36: 0 | AO36: 0 | AP36: 0 | AQ36: 4
A37: 高雄市 | C37: 計 | D37: 864 | E37: 810 | F37: 41 | G37: 3 | H37: 7 | I37: 0 | J37: 3 | K37: 864 | L37: 31 | M37: 51 | N37: 414 | O37: 152 | P37: 58 | Q37: 91 | R37: 42 | S37: 15 | T37: 8 | U37: 2 | V37: 864 | W37: 781 | X37: 37 | Y37: 2 | Z37: 24 | AA37: 0 | AB37: 0 | AC37: 3 | AD37: 7 | AE37: 4 | AF37: 6 | AG37: 930 | AH37: 6 | AI37: 17 | AJ37: 217 | AK37: 127 | AL37: 71 | AM37: 82 | AN37: 78 | AO37: 55 | AP37: 17 | AQ37: 260
C38: 男 | D38: 158 | E38: 153 | F38: 5 | G38: 0 | H38: 0 | I38: 0 | J38: 0 | K38: 158 | L38: 9 | M38: 11 | N38: 110 | O38: 15 | P38: 4 | Q38: 4 | R38: 4 | S38: 1 | T38: 0 | U38: 0 | V38: 158 | W38: 145 | X38: 8 | Y38: 0 | Z38: 3 | AA38: 0 | AB38: 0 | AC38: 0 | AD38: 0 | AE38: 2 | AF38: 0 | AG38: 817 | AH38: 6 | AI38: 15 | AJ38: 152 | AK38: 120 | AL38: 69 | AM38: 80 | AN38: 77 | AO38: 55 | AP38: 16 | AQ38: 227
C39: 女 | D39: 705 | E39: 657 | F39: 36 | G39: 3 | H39: 7 | I39: 0 | J39: 2 | K39: 705 | L39: 22 | M39: 40 | N39: 304 | O39: 137 | P39: 54 | Q39: 86 | R39: 38 | S39: 14 | T39: 8 | U39: 2 | V39: 705 | W39: 635 | X39: 29 | Y39: 2 | Z39: 21 | AA39: 0 | AB39: 0 | AC39: 3 | AD39: 7 | AE39: 2 | AF39: 6 | AG39: 85 | AH39: 0 | AI39: 2 | AJ39: 65 | AK39: 6 | AL39: 1 | AM39: 2 | AN39: 1 | AO39: 0 | AP39: 1 | AQ39: 7
C40: 其他 | D40: 0 | E40: 0 | F40: 0 | G40: 0 | H40: 0 | I40: 0 | J40: 0 | K40: 0 | L40: 0 | M40: 0 | N40: 0 | O40: 0 | P40: 0 | Q40: 0 | R40: 0 | S40: 0 | T40: 0 | U40: 0 | V40: 0 | W40: 0 | X40: 0 | Y40: 0 | Z40: 0 | AA40: 0 | AB40: 0 | AC40: 0 | AD40: 0 | AE40: 0 | AF40: 0 | AG40: 0 | AH40: 0 | AI40: 0 | AJ40: 0 | AK40: 0 | AL40: 0 | AM40: 0 | AN40: 0 | AO40: 0 | AP40: 0 | AQ40: 0
C41: 不詳 | D41: 1 | E41: 0 | F41: 0 | G41: 0 | H41: 0 | I41: 0 | J41: 1 | K41: 1 | L41: 0 | M41: 0 | N41: 0 | O41: 0 | P41: 0 | Q41: 1 | R41: 0 | S41: 0 | T41: 0 | U41: 0 | V41: 1 | W41: 1 | X41: 0 | Y41: 0 | Z41: 0 | AA41: 0 | AB41: 0 | AC41: 0 | AD41: 0 | AE41: 0 | AF41: 0 | AG41: 28 | AH41: 0 | AI41: 0 | AJ41: 0 | AK41: 1 | AL41: 1 | AM41: 0 | AN41: 0 | AO41: 0 | AP41: 0 | AQ41: 26
A42: 宜蘭縣 | C42: 計 | D42: 161 | E42: 130 | F42: 21 | G42: 3 | H42: 2 | I42: 0 | J42: 5 | K42: 161 | L42: 5 | M42: 16 | N42: 90 | O42: 17 | P42: 11 | Q42: 12 | R42: 5 | S42: 4 | T42: 1 | U42: 0 | V42: 161 | W42: 135 | X42: 13 | Y42: 0 | Z42: 5 | AA42: 0 | AB42: 0 | AC42: 0 | AD42: 3 | AE42: 0 | AF42: 5 | AG42: 172 | AH42: 0 | AI42: 5 | AJ42: 56 | AK42: 28 | AL42: 7 | AM42: 19 | AN42: 7 | AO42: 10 | AP42: 7 | AQ42: 33
C43: 男 | D43: 38 | E43: 26 | F43: 10 | G43: 0 | H43: 0 | I43: 0 | J43: 2 | K43: 38 | L43: 1 | M43: 7 | N43: 24 | O43: 2 | P43: 2 | Q43: 2 | R43: 0 | S43: 0 | T43: 0 | U43: 0 | V43: 38 | W43: 33 | X43: 1 | Y43: 0 | Z43: 0 | AA43: 0 | AB43: 0 | AC43: 0 | AD43: 2 | AE43: 0 | AF43: 2 | AG43: 150 | AH43: 0 | AI43: 4 | AJ43: 41 | AK43: 26 | AL43: 7 | AM43: 19 | AN43: 7 | AO43: 10 | AP43: 7 | AQ43: 29
C44: 女 | D44: 123 | E44: 104 | F44: 11 | G44: 3 | H44: 2 | I44: 0 | J44: 3 | K44: 123 | L44: 4 | M44: 9 | N44: 66 | O44: 15 | P44: 9 | Q44: 10 | R44: 5 | S44: 4 | T44: 1 | U44: 0 | V44: 123 | W44: 102 | X44: 12 | Y44: 0 | Z44: 5 | AA44: 0 | AB44: 0 | AC44: 0 | AD44: 1 | AE44: 0 | AF44: 3 | AG44: 18 | AH44: 0 | AI44: 1 | AJ44: 14 | AK44: 2 | AL44: 0 | AM44: 0 | AN44: 0 | AO44: 0 | AP44: 0 | AQ44: 1
C45: 其他 | D45: 0 | E45: 0 | F45: 0 | G45: 0 | H45: 0 | I45: 0 | J45: 0 | K45: 0 | L45: 0 | M45: 0 | N45: 0 | O45: 0 | P45: 0 | Q45: 0 | R45: 0 | S45: 0 | T45: 0 | U45: 0 | V45: 0 | W45: 0 | X45: 0 | Y45: 0 | Z45: 0 | AA45: 0 | AB45: 0 | AC45: 0 | AD45: 0 | AE45: 0 | AF45: 0 | AG45: 0 | AH45: 0 | AI45: 0 | AJ45: 0 | AK45: 0 | AL45: 0 | AM45: 0 | AN45: 0 | AO45: 0 | AP45: 0 | AQ45: 0
C46: 不詳 | D46: 0 | E46: 0 | F46: 0 | G46: 0 | H46: 0 | I46: 0 | J46: 0 | K46: 0 | L46: 0 | M46: 0 | N46: 0 | O46: 0 | P46: 0 | Q46: 0 | R46: 0 | S46: 0 | T46: 0 | U46: 0 | V46: 0 | W46: 0 | X46: 0 | Y46: 0 | Z46: 0 | AA46: 0 | AB46: 0 | AC46: 0 | AD46: 0 | AE46: 0 | AF46: 0 | AG46: 4 | AH46: 0 | AI46: 0 | AJ46: 1 | AK46: 0 | AL46: 0 | AM46: 0 | AN46: 0 | AO46: 0 | AP46: 0 | AQ46: 3
A47: 新竹縣 | C47: 計 | D47: 203 | E47: 159 | F47: 34 | G47: 0 | H47: 5 | I47: 0 | J47: 5 | K47: 203 | L47: 5 | M47: 18 | N47: 116 | O47: 25 | P47: 9 | Q47: 17 | R47: 8 | S47: 4 | T47: 1 | U47: 0 | V47: 203 | W47: 181 | X47: 8 | Y47: 0 | Z47: 1 | AA47: 0 | AB47: 0 | AC47: 0 | AD47: 2 | AE47: 1 | AF47: 10 | AG47: 186 | AH47: 0 | AI47: 4 | AJ47: 63 | AK47: 24 | AL47: 16 | AM47: 5 | AN47: 13 | AO47: 14 | AP47: 8 | AQ47: 39
C48: 男 | D48: 41 | E48: 30 | F48: 10 | G48: 0 | H48: 0 | I48: 0 | J48: 1 | K48: 41 | L48: 1 | M48: 4 | N48: 35 | O48: 1 | P48: 0 | Q48: 0 | R48: 0 | S48: 0 | T48: 0 | U48: 0 | V48: 41 | W48: 36 | X48: 0 | Y48: 0 | Z48: 0 | AA48: 0 | AB48: 0 | AC48: 0 | AD48: 1 | AE48: 0 | AF48: 4 | AG48: 150 | AH48: 0 | AI48: 3 | AJ48: 38 | AK48: 20 | AL48: 16 | AM48: 5 | AN48: 13 | AO48: 14 | AP48: 8 | AQ48: 33
C49: 女 | D49: 161 | E49: 128 | F49: 24 | G49: 0 | H49: 5 | I49: 0 | J49: 4 | K49: 161 | L49: 4 | M49: 14 | N49: 80 | O49: 24 | P49: 9 | Q49: 17 | R49: 8 | S49: 4 | T49: 1 | U49: 0 | V49: 161 | W49: 144 | X49: 8 | Y49: 0 | Z49: 1 | AA49: 0 | AB49: 0 | AC49: 0 | AD49: 1 | AE49: 1 | AF49: 6 | AG49: 29 | AH49: 0 | AI49: 1 | AJ49: 23 | AK49: 2 | AL49: 0 | AM49: 0 | AN49: 0 | AO49: 0 | AP49: 0 | AQ49: 3
C50: 其他 | D50: 0 | E50: 0 | F50: 0 | G50: 0 | H50: 0 | I50: 0 | J50: 0 | K50: 0 | L50: 0 | M50: 0 | N50: 0 | O50: 0 | P50: 0 | Q50: 0 | R50: 0 | S50: 0 | T50: 0 | U50: 0 | V50: 0 | W50: 0 | X50: 0 | Y50: 0 | Z50: 0 | AA50: 0 | AB50: 0 | AC50: 0 | AD50: 0 | AE50: 0 | AF50: 0 | AG50: 0 | AH50: 0 | AI50: 0 | AJ50: 0 | AK50: 0 | AL50: 0 | AM50: 0 | AN50: 0 | AO50: 0 | AP50: 0 | AQ50: 0
C51: 不詳 | D51: 1 | E51: 1 | F51: 0 | G51: 0 | H51: 0 | I51: 0 | J51: 0 | K51: 1 | L51: 0 | M51: 0 | N51: 1 | O51: 0 | P51: 0 | Q51: 0 | R51: 0 | S51: 0 | T51: 0 | U51: 0 | V51: 1 | W51: 1 | X51: 0 | Y51: 0 | Z51: 0 | AA51: 0 | AB51: 0 | AC51: 0 | AD51: 0 | AE51: 0 | AF51: 0 | AG51: 7 | AH51: 0 | AI51: 0 | AJ51: 2 | AK51: 2 | AL51: 0 | AM51: 0 | AN51: 0 | AO51: 0 | AP51: 0 | AQ51: 3
A52: 苗栗縣 | C52: 計 | D52: 164 | E52: 139 | F52: 16 | G52: 0 | H52: 3 | I52: 0 | J52: 6 | K52: 164 | L52: 3 | M52: 19 | N52: 86 | O52: 20 | P52: 8 | Q52: 17 | R52: 9 | S52: 0 | T52: 2 | U52: 0 | V52: 164 | W52: 142 | X52: 10 | Y52: 0 | Z52: 6 | AA52: 0 | AB52: 1 | AC52: 0 | AD52: 3 | AE52: 0 | AF52: 2 | AG52: 168 | AH52: 0 | AI52: 6 | AJ52: 55 | AK52: 26 | AL52: 8 | AM52: 10 | AN52: 12 | AO52: 18 | AP52: 6 | AQ52: 27
C53: 男 | D53: 31 | E53: 24 | F53: 4 | G53: 0 | H53: 0 | I53: 0 | J53: 3 | K53: 31 | L53: 1 | M53: 2 | N53: 25 | O53: 1 | P53: 0 | Q53: 1 | R53: 1 | S53: 0 | T53: 0 | U53: 0 | V53: 31 | W53: 30 | X53: 0 | Y53: 0 | Z53: 0 | AA53: 0 | AB53: 0 | AC53: 0 | AD53: 0 | AE53: 0 | AF53: 1 | AG53: 134 | AH53: 0 | AI53: 2 | AJ53: 31 | AK53: 26 | AL53: 8 | AM53: 10 | AN53: 11 | AO53: 18 | AP53: 6 | AQ53: 22
C54: 女 | D54: 132 | E54: 114 | F54: 12 | G54: 0 | H54: 3 | I54: 0 | J54: 3 | K54: 132 | L54: 2 | M54: 17 | N54: 60 | O54: 19 | P54: 8 | Q54: 16 | R54: 8 | S54: 0 | T54: 2 | U54: 0 | V54: 132 | W54: 111 | X54: 10 | Y54: 0 | Z54: 6 | AA54: 0 | AB54: 1 | AC54: 0 | AD54: 3 | AE54: 0 | AF54: 1 | AG54: 29 | AH54: 0 | AI54: 4 | AJ54: 24 | AK54: 0 | AL54: 0 | AM54: 0 | AN54: 1 | AO54: 0 | AP54: 0 | AQ54: 0
C55: 其他 | D55: 0 | E55: 0 | F55: 0 | G55: 0 | H55: 0 | I55: 0 | J55: 0 | K55: 0 | L55: 0 | M55: 0 | N55: 0 | O55: 0 | P55: 0 | Q55: 0 | R55: 0 | S55: 0 | T55: 0 | U55: 0 | V55: 0 | W55: 0 | X55: 0 | Y55: 0 | Z55: 0 | AA55: 0 | AB55: 0 | AC55: 0 | AD55: 0 | AE55: 0 | AF55: 0 | AG55: 0 | AH55: 0 | AI55: 0 | AJ55: 0 | AK55: 0 | AL55: 0 | AM55: 0 | AN55: 0 | AO55: 0 | AP55: 0 | AQ55: 0
C56: 不詳 | D56: 1 | E56: 1 | F56: 0 | G56: 0 | H56: 0 | I56: 0 | J56: 0 | K56: 1 | L56: 0 | M56: 0 | N56: 1 | O56: 0 | P56: 0 | Q56: 0 | R56: 0 | S56: 0 | T56: 0 | U56: 0 | V56: 1 | W56: 1 | X56: 0 | Y56: 0 | Z56: 0 | AA56: 0 | AB56: 0 | AC56: 0 | AD56: 0 | AE56: 0 | AF56: 0 | AG56: 5 | AH56: 0 | AI56: 0 | AJ56: 0 | AK56: 0 | AL56: 0 | AM56: 0 | AN56: 0 | AO56: 0 | AP56: 0 | AQ56: 5
A57: 彰化縣 | C57: 計 | D57: 357 | E57: 332 | F57: 9 | G57: 0 | H57: 3 | I57: 0 | J57: 13 | K57: 357 | L57: 8 | M57: 41 | N57: 185 | O57: 28 | P57: 33 | Q57: 26 | R57: 24 | S57: 11 | T57: 1 | U57: 0 | V57: 357 | W57: 298 | X57: 24 | Y57: 0 | Z57: 13 | AA57: 0 | AB57: 0 | AC57: 2 | AD57: 6 | AE57: 1 | AF57: 13 | AG57: 325 | AH57: 1 | AI57: 5 | AJ57: 82 | AK57: 29 | AL57: 16 | AM57: 32 | AN57: 22 | AO57: 22 | AP57: 8 | AQ57: 108
C58: 男 | D58: 63 | E58: 60 | F58: 1 | G58: 0 | H58: 0 | I58: 0 | J58: 2 | K58: 63 | L58: 0 | M58: 11 | N58: 46 | O58: 0 | P58: 2 | Q58: 3 | R58: 1 | S58: 0 | T58: 0 | U58: 0 | V58: 63 | W58: 51 | X58: 3 | Y58: 0 | Z58: 3 | AA58: 0 | AB58: 0 | AC58: 0 | AD58: 1 | AE58: 0 | AF58: 5 | AG58: 281 | AH58: 1 | AI58: 4 | AJ58: 61 | AK58: 29 | AL58: 16 | AM58: 32 | AN58: 22 | AO58: 22 | AP58: 8 | AQ58: 86
C59: 女 | D59: 293 | E59: 271 | F59: 8 | G59: 0 | H59: 3 | I59: 0 | J59: 11 | K59: 293 | L59: 8 | M59: 30 | N59: 138 | O59: 28 | P59: 31 | Q59: 23 | R59: 23 | S59: 11 | T59: 1 | U59: 0 | V59: 293 | W59: 247 | X59: 21 | Y59: 0 | Z59: 10 | AA59: 0 | AB59: 0 | AC59: 2 | AD59: 4 | AE59: 1 | AF59: 8 | AG59: 24 | AH59: 0 | AI59: 1 | AJ59: 20 | AK59: 0 | AL59: 0 | AM59: 0 | AN59: 0 | AO59: 0 | AP59: 0 | AQ59: 3
C60: 其他 | D60: 0 | E60: 0 | F60: 0 | G60: 0 | H60: 0 | I60: 0 | J60: 0 | K60: 0 | L60: 0 | M60: 0 | N60: 0 | O60: 0 | P60: 0 | Q60: 0 | R60: 0 | S60: 0 | T60: 0 | U60: 0 | V60: 0 | W60: 0 | X60: 0 | Y60: 0 | Z60: 0 | AA60: 0 | AB60: 0 | AC60: 0 | AD60: 0 | AE60: 0 | AF60: 0 | AG60: 0 | AH60: 0 | AI60: 0 | AJ60: 0 | AK60: 0 | AL60: 0 | AM60: 0 | AN60: 0 | AO60: 0 | AP60: 0 | AQ60: 0
C61: 不詳 | D61: 1 | E61: 1 | F61: 0 | G61: 0 | H61: 0 | I61: 0 | J61: 0 | K61: 1 | L61: 0 | M61: 0 | N61: 1 | O61: 0 | P61: 0 | Q61: 0 | R61: 0 | S61: 0 | T61: 0 | U61: 0 | V61: 1 | W61: 0 | X61: 0 | Y61: 0 | Z61: 0 | AA61: 0 | AB61: 0 | AC61: 0 | AD61: 1 | AE61: 0 | AF61: 0 | AG61: 20 | AH61: 0 | AI61: 0 | AJ61: 1 | AK61: 0 | AL61: 0 | AM61: 0 | AN61: 0 | AO61: 0 | AP61: 0 | AQ61: 19
A62: 南投縣 | C62: 計 | D62: 213 | E62: 157 | F62: 46 | G62: 0 | H62: 6 | I62: 0 | J62: 4 | K62: 213 | L62: 6 | M62: 33 | N62: 119 | O62: 17 | P62: 12 | Q62: 8 | R62: 11 | S62: 6 | T62: 1 | U62: 0 | V62: 213 | W62: 184 | X62: 12 | Y62: 0 | Z62: 4 | AA62: 1 | AB62: 0 | AC62: 1 | AD62: 1 | AE62: 1 | AF62: 9 | AG62: 203 | AH62: 0 | AI62: 9 | AJ62: 64 | AK62: 29 | AL62: 11 | AM62: 16 | AN62: 15 | AO62: 18 | AP62: 3 | AQ62: 38
C63: 男 | D63: 51 | E63: 35 | F63: 14 | G63: 0 | H63: 0 | I63: 0 | J63: 2 | K63: 51 | L63: 1 | M63: 15 | N63: 31 | O63: 2 | P63: 1 | Q63: 0 | R63: 0 | S63: 1 | T63: 0 | U63: 0 | V63: 51 | W63: 45 | X63: 5 | Y63: 0 | Z63: 0 | AA63: 0 | AB63: 0 | AC63: 0 | AD63: 0 | AE63: 0 | AF63: 1 | AG63: 161 | AH63: 0 | AI63: 5 | AJ63: 41 | AK63: 24 | AL63: 11 | AM63: 16 | AN63: 15 | AO63: 18 | AP63: 3 | AQ63: 28
C64: 女 | D64: 162 | E64: 122 | F64: 32 | G64: 0 | H64: 6 | I64: 0 | J64: 2 | K64: 162 | L64: 5 | M64: 18 | N64: 88 | O64: 15 | P64: 11 | Q64: 8 | R64: 11 | S64: 5 | T64: 1 | U64: 0 | V64: 162 | W64: 139 | X64: 7 | Y64: 0 | Z64: 4 | AA64: 1 | AB64: 0 | AC64: 1 | AD64: 1 | AE64: 1 | AF64: 8 | AG64: 33 | AH64: 0 | AI64: 4 | AJ64: 23 | AK64: 4 | AL64: 0 | AM64: 0 | AN64: 0 | AO64: 0 | AP64: 0 | AQ64: 2
C65: 其他 | D65: 0 | E65: 0 | F65: 0 | G65: 0 | H65: 0 | I65: 0 | J65: 0 | K65: 0 | L65: 0 | M65: 0 | N65: 0 | O65: 0 | P65: 0 | Q65: 0 | R65: 0 | S65: 0 | T65: 0 | U65: 0 | V65: 0 | W65: 0 | X65: 0 | Y65: 0 | Z65: 0 | AA65: 0 | AB65: 0 | AC65: 0 | AD65: 0 | AE65: 0 | AF65: 0 | AG65: 0 | AH65: 0 | AI65: 0 | AJ65: 0 | AK65: 0 | AL65: 0 | AM65: 0 | AN65: 0 | AO65: 0 | AP65: 0 | AQ65: 0
C66: 不詳 | D66: 0 | E66: 0 | F66: 0 | G66: 0 | H66: 0 | I66: 0 | J66: 0 | K66: 0 | L66: 0 | M66: 0 | N66: 0 | O66: 0 | P66: 0 | Q66: 0 | R66: 0 | S66: 0 | T66: 0 | U66: 0 | V66: 0 | W66: 0 | X66: 0 | Y66: 0 | Z66: 0 | AA66: 0 | AB66: 0 | AC66: 0 | AD66: 0 | AE66: 0 | AF66: 0 | AG66: 9 | AH66: 0 | AI66: 0 | AJ66: 0 | AK66: 1 | AL66: 0 | AM66: 0 | AN66: 0 | AO66: 0 | AP66: 0 | AQ66: 8
A67: 雲林縣 | C67: 計 | D67: 163 | E67: 153 | F67: 6 | G67: 0 | H67: 3 | I67: 0 | J67: 1 | K67: 163 | L67: 2 | M67: 15 | N67: 83 | O67: 14 | P67: 9 | Q67: 16 | R67: 12 | S67: 11 | T67: 1 | U67: 0 | V67: 163 | W67: 143 | X67: 13 | Y67: 0 | Z67: 1 | AA67: 0 | AB67: 0 | AC67: 2 | AD67: 1 | AE67: 3 | AF67: 0 | AG67: 158 | AH67: 1 | AI67: 3 | AJ67: 45 | AK67: 17 | AL67: 9 | AM67: 19 | AN67: 17 | AO67: 17 | AP67: 7 | AQ67: 23
C68: 男 | D68: 34 | E68: 30 | F68: 3 | G68: 0 | H68: 1 | I68: 0 | J68: 0 | K68: 34 | L68: 0 | M68: 4 | N68: 24 | O68: 1 | P68: 0 | Q68: 1 | R68: 2 | S68: 1 | T68: 1 | U68: 0 | V68: 34 | W68: 33 | X68: 0 | Y68: 0 | Z68: 0 | AA68: 0 | AB68: 0 | AC68: 0 | AD68: 0 | AE68: 1 | AF68: 0 | AG68: 145 | AH68: 1 | AI68: 3 | AJ68: 34 | AK68: 17 | AL68: 9 | AM68: 19 | AN68: 17 | AO68: 17 | AP68: 7 | AQ68: 21
C69: 女 | D69: 129 | E69: 123 | F69: 3 | G69: 0 | H69: 2 | I69: 0 | J69: 1 | K69: 129 | L69: 2 | M69: 11 | N69: 59 | O69: 13 | P69: 9 | Q69: 15 | R69: 10 | S69: 10 | T69: 0 | U69: 0 | V69: 129 | W69: 110 | X69: 13 | Y69: 0 | Z69: 1 | AA69: 0 | AB69: 0 | AC69: 2 | AD69: 1 | AE69: 2 | AF69: 0 | AG69: 11 | AH69: 0 | AI69: 0 | AJ69: 11 | AK69: 0 | AL69: 0 | AM69: 0 | AN69: 0 | AO69: 0 | AP69: 0 | AQ69: 0
C70: 其他 | D70: 0 | E70: 0 | F70: 0 | G70: 0 | H70: 0 | I70: 0 | J70: 0 | K70: 0 | L70: 0 | M70: 0 | N70: 0 | O70: 0 | P70: 0 | Q70: 0 | R70: 0 | S70: 0 | T70: 0 | U70: 0 | V70: 0 | W70: 0 | X70: 0 | Y70: 0 | Z70: 0 | AA70: 0 | AB70: 0 | AC70: 0 | AD70: 0 | AE70: 0 | AF70: 0 | AG70: 0 | AH70: 0 | AI70: 0 | AJ70: 0 | AK70: 0 | AL70: 0 | AM70: 0 | AN70: 0 | AO70: 0 | AP70: 0 | AQ70: 0
C71: 不詳 | D71: 0 | E71: 0 | F71: 0 | G71: 0 | H71: 0 | I71: 0 | J71: 0 | K71: 0 | L71: 0 | M71: 0 | N71: 0 | O71: 0 | P71: 0 | Q71: 0 | R71: 0 | S71: 0 | T71: 0 | U71: 0 | V71: 0 | W71: 0 | X71: 0 | Y71: 0 | Z71: 0 | AA71: 0 | AB71: 0 | AC71: 0 | AD71: 0 | AE71: 0 | AF71: 0 | AG71: 2 | AH71: 0 | AI71: 0 | AJ71: 0 | AK71: 0 | AL71: 0 | AM71: 0 | AN71: 0 | AO71: 0 | AP71: 0 | AQ71: 2
A72: 嘉義縣 | C72: 計 | D72: 112 | E72: 101 | F72: 8 | G72: 0 | H72: 3 | I72: 0 | J72: 0 | K72: 112 | L72: 1 | M72: 6 | N72: 50 | O72: 17 | P72: 18 | Q72: 8 | R72: 6 | S72: 3 | T72: 3 | U72: 0 | V72: 112 | W72: 90 | X72: 16 | Y72: 0 | Z72: 1 | AA72: 0 | AB72: 1 | AC72: 2 | AD72: 2 | AE72: 0 | AF72: 0 | AG72: 103 | AH72: 0 | AI72: 1 | AJ72: 20 | AK72: 22 | AL72: 10 | AM72: 13 | AN72: 13 | AO72: 8 | AP72: 4 | AQ72: 12
C73: 男 | D73: 11 | E73: 11 | F73: 0 | G73: 0 | H73: 0 | I73: 0 | J73: 0 | K73: 11 | L73: 0 | M73: 0 | N73: 9 | O73: 0 | P73: 1 | Q73: 0 | R73: 1 | S73: 0 | T73: 0 | U73: 0 | V73: 11 | W73: 10 | X73: 1 | Y73: 0 | Z73: 0 | AA73: 0 | AB73: 0 | AC73: 0 | AD73: 0 | AE73: 0 | AF73: 0 | AG73: 94 | AH73: 0 | AI73: 0 | AJ73: 13 | AK73: 21 | AL73: 10 | AM73: 13 | AN73: 13 | AO73: 8 | AP73: 4 | AQ73: 12
C74: 女 | D74: 101 | E74: 90 | F74: 8 | G74: 0 | H74: 3 | I74: 0 | J74: 0 | K74: 101 | L74: 1 | M74: 6 | N74: 41 | O74: 17 | P74: 17 | Q74: 8 | R74: 5 | S74: 3 | T74: 3 | U74: 0 | V74: 101 | W74: 80 | X74: 15 | Y74: 0 | Z74: 1 | AA74: 0 | AB74: 1 | AC74: 2 | AD74: 2 | AE74: 0 | AF74: 0 | AG74: 9 | AH74: 0 | AI74: 1 | AJ74: 7 | AK74: 1 | AL74: 0 | AM74: 0 | AN74: 0 | AO74: 0 | AP74: 0 | AQ74: 0
C75: 其他 | D75: 0 | E75: 0 | F75: 0 | G75: 0 | H75: 0 | I75: 0 | J75: 0 | K75: 0 | L75: 0 | M75: 0 | N75: 0 | O75: 0 | P75: 0 | Q75: 0 | R75: 0 | S75: 0 | T75: 0 | U75: 0 | V75: 0 | W75: 0 | X75: 0 | Y75: 0 | Z75: 0 | AA75: 0 | AB75: 0 | AC75: 0 | AD75: 0 | AE75: 0 | AF75: 0 | AG75: 0 | AH75: 0 | AI75: 0 | AJ75: 0 | AK75: 0 | AL75: 0 | AM75: 0 | AN75: 0 | AO75: 0 | AP75: 0 | AQ75: 0
C76: 不詳 | D76: 0 | E76: 0 | F76: 0 | G76: 0 | H76: 0 | I76: 0 | J76: 0 | K76: 0 | L76: 0 | M76: 0 | N76: 0 | O76: 0 | P76: 0 | Q76: 0 | R76: 0 | S76: 0 | T76: 0 | U76: 0 | V76: 0 | W76: 0 | X76: 0 | Y76: 0 | Z76: 0 | AA76: 0 | AB76: 0 | AC76: 0 | AD76: 0 | AE76: 0 | AF76: 0 | AG76: 0 | AH76: 0 | AI76: 0 | AJ76: 0 | AK76: 0 | AL76: 0 | AM76: 0 | AN76: 0 | AO76: 0 | AP76: 0 | AQ76: 0
A77: 屏東縣 | C77: 計 | D77: 263 | E77: 205 | F77: 52 | G77: 1 | H77: 4 | I77: 0 | J77: 1 | K77: 263 | L77: 6 | M77: 23 | N77: 130 | O77: 34 | P77: 9 | Q77: 29 | R77: 17 | S77: 10 | T77: 4 | U77: 1 | V77: 263 | W77: 218 | X77: 19 | Y77: 1 | Z77: 7 | AA77: 0 | AB77: 1 | AC77: 1 | AD77: 3 | AE77: 2 | AF77: 11 | AG77: 243 | AH77: 0 | AI77: 3 | AJ77: 70 | AK77: 31 | AL77: 18 | AM77: 20 | AN77: 30 | AO77: 21 | AP77: 7 | AQ77: 43
C78: 男 | D78: 52 | E78: 40 | F78: 12 | G78: 0 | H78: 0 | I78: 0 | J78: 0 | K78: 52 | L78: 0 | M78: 7 | N78: 36 | O78: 4 | P78: 1 | Q78: 1 | R78: 2 | S78: 1 | T78: 0 | U78: 0 | V78: 52 | W78: 41 | X78: 8 | Y78: 0 | Z78: 0 | AA78: 0 | AB78: 0 | AC78: 0 | AD78: 1 | AE78: 0 | AF78: 2 | AG78: 219 | AH78: 0 | AI78: 3 | AJ78: 52 | AK78: 30 | AL78: 18 | AM78: 19 | AN78: 30 | AO78: 21 | AP78: 7 | AQ78: 39
C79: 女 | D79: 210 | E79: 164 | F79: 40 | G79: 1 | H79: 4 | I79: 0 | J79: 1 | K79: 210 | L79: 6 | M79: 16 | N79: 93 | O79: 30 | P79: 8 | Q79: 28 | R79: 15 | S79: 9 | T79: 4 | U79: 1 | V79: 210 | W79: 177 | X79: 11 | Y79: 1 | Z79: 7 | AA79: 0 | AB79: 1 | AC79: 1 | AD79: 2 | AE79: 2 | AF79: 8 | AG79: 21 | AH79: 0 | AI79: 0 | AJ79: 18 | AK79: 1 | AL79: 0 | AM79: 1 | AN79: 0 | AO79: 0 | AP79: 0 | AQ79: 1
C80: 其他 | D80: 0 | E80: 0 | F80: 0 | G80: 0 | H80: 0 | I80: 0 | J80: 0 | K80: 0 | L80: 0 | M80: 0 | N80: 0 | O80: 0 | P80: 0 | Q80: 0 | R80: 0 | S80: 0 | T80: 0 | U80: 0 | V80: 0 | W80: 0 | X80: 0 | Y80: 0 | Z80: 0 | AA80: 0 | AB80: 0 | AC80: 0 | AD80: 0 | AE80: 0 | AF80: 0 | AG80: 0 | AH80: 0 | AI80: 0 | AJ80: 0 | AK80: 0 | AL80: 0 | AM80: 0 | AN80: 0 | AO80: 0 | AP80: 0 | AQ80: 0
C81: 不詳 | D81: 1 | E81: 1 | F81: 0 | G81: 0 | H81: 0 | I81: 0 | J81: 0 | K81: 1 | L81: 0 | M81: 0 | N81: 1 | O81: 0 | P81: 0 | Q81: 0 | R81: 0 | S81: 0 | T81: 0 | U81: 0 | V81: 1 | W81: 0 | X81: 0 | Y81: 0 | Z81: 0 | AA81: 0 | AB81: 0 | AC81: 0 | AD81: 0 | AE81: 0 | AF81: 1 | AG81: 3 | AH81: 0 | AI81: 0 | AJ81: 0 | AK81: 0 | AL81: 0 | AM81: 0 | AN81: 0 | AO81: 0 | AP81: 0 | AQ81: 3
A82: 臺東縣 | C82: 計 | D82: 126 | E82: 54 | F82: 70 | G82: 0 | H82: 1 | I82: 0 | J82: 1 | K82: 126 | L82: 4 | M82: 24 | N82: 60 | O82: 18 | P82: 3 | Q82: 7 | R82: 7 | S82: 2 | T82: 1 | U82: 0 | V82: 126 | W82: 108 | X82: 10 | Y82: 0 | Z82: 6 | AA82: 0 | AB82: 1 | AC82: 0 | AD82: 0 | AE82: 1 | AF82: 0 | AG82: 136 | AH82: 0 | AI82: 12 | AJ82: 44 | AK82: 16 | AL82: 8 | AM82: 12 | AN82: 16 | AO82: 8 | AP82: 7 | AQ82: 13
C83: 男 | D83: 35 | E83: 10 | F83: 24 | G83: 0 | H83: 0 | I83: 0 | J83: 1 | K83: 35 | L83: 0 | M83: 7 | N83: 20 | O83: 6 | P83: 1 | Q83: 0 | R83: 1 | S83: 0 | T83: 0 | U83: 0 | V83: 35 | W83: 32 | X83: 3 | Y83: 0 | Z83: 0 | AA83: 0 | AB83: 0 | AC83: 0 | AD83: 0 | AE83: 0 | AF83: 0 | AG83: 111 | AH83: 0 | AI83: 6 | AJ83: 31 | AK83: 16 | AL83: 8 | AM83: 11 | AN83: 14 | AO83: 8 | AP83: 7 | AQ83: 10
C84: 女 | D84: 89 | E84: 42 | F84: 46 | G84: 0 | H84: 1 | I84: 0 | J84: 0 | K84: 89 | L84: 4 | M84: 17 | N84: 40 | O84: 11 | P84: 2 | Q84: 7 | R84: 6 | S84: 1 | T84: 1 | U84: 0 | V84: 89 | W84: 74 | X84: 7 | Y84: 0 | Z84: 6 | AA84: 0 | AB84: 1 | AC84: 0 | AD84: 0 | AE84: 1 | AF84: 0 | AG84: 22 | AH84: 0 | AI84: 6 | AJ84: 13 | AK84: 0 | AL84: 0 | AM84: 1 | AN84: 2 | AO84: 0 | AP84: 0 | AQ84: 0
C85: 其他 | D85: 0 | E85: 0 | F85: 0 | G85: 0 | H85: 0 | I85: 0 | J85: 0 | K85: 0 | L85: 0 | M85: 0 | N85: 0 | O85: 0 | P85: 0 | Q85: 0 | R85: 0 | S85: 0 | T85: 0 | U85: 0 | V85: 0 | W85: 0 | X85: 0 | Y85: 0 | Z85: 0 | AA85: 0 | AB85: 0 | AC85: 0 | AD85: 0 | AE85: 0 | AF85: 0 | AG85: 0 | AH85: 0 | AI85: 0 | AJ85: 0 | AK85: 0 | AL85: 0 | AM85: 0 | AN85: 0 | AO85: 0 | AP85: 0 | AQ85: 0
C86: 不詳 | D86: 2 | E86: 2 | F86: 0 | G86: 0 | H86: 0 | I86: 0 | J86: 0 | K86: 2 | L86: 0 | M86: 0 | N86: 0 | O86: 1 | P86: 0 | Q86: 0 | R86: 0 | S86: 1 | T86: 0 | U86: 0 | V86: 2 | W86: 2 | X86: 0 | Y86: 0 | Z86: 0 | AA86: 0 | AB86: 0 | AC86: 0 | AD86: 0 | AE86: 0 | AF86: 0 | AG86: 3 | AH86: 0 | AI86: 0 | AJ86: 0 | AK86: 0 | AL86: 0 | AM86: 0 | AN86: 0 | AO86: 0 | AP86: 0 | AQ86: 3
A87: 花蓮縣 | C87: 計 | D87: 192 | E87: 83 | F87: 105 | G87: 0 | H87: 0 | I87: 0 | J87: 4 | K87: 192 | L87: 5 | M87: 34 | N87: 97 | O87: 18 | P87: 11 | Q87: 15 | R87: 7 | S87: 2 | T87: 3 | U87: 0 | V87: 192 | W87: 165 | X87: 17 | Y87: 0 | Z87: 7 | AA87: 0 | AB87: 0 | AC87: 0 | AD87: 2 | AE87: 0 | AF87: 1 | AG87: 176 | AH87: 0 | AI87: 4 | AJ87: 45 | AK87: 27 | AL87: 10 | AM87: 13 | AN87: 8 | AO87: 12 | AP87: 5 | AQ87: 52
C88: 男 | D88: 58 | E88: 28 | F88: 29 | G88: 0 | H88: 0 | I88: 0 | J88: 1 | K88: 58 | L88: 2 | M88: 21 | N88: 25 | O88: 2 | P88: 2 | Q88: 5 | R88: 1 | S88: 0 | T88: 0 | U88: 0 | V88: 58 | W88: 51 | X88: 4 | Y88: 0 | Z88: 1 | AA88: 0 | AB88: 0 | AC88: 0 | AD88: 1 | AE88: 0 | AF88: 1 | AG88: 149 | AH88: 0 | AI88: 3 | AJ88: 36 | AK88: 25 | AL88: 10 | AM88: 13 | AN88: 7 | AO88: 11 | AP88: 5 | AQ88: 39
C89: 女 | D89: 134 | E89: 55 | F89: 76 | G89: 0 | H89: 0 | I89: 0 | J89: 3 | K89: 134 | L89: 3 | M89: 13 | N89: 72 | O89: 16 | P89: 9 | Q89: 10 | R89: 6 | S89: 2 | T89: 3 | U89: 0 | V89: 134 | W89: 114 | X89: 13 | Y89: 0 | Z89: 6 | AA89: 0 | AB89: 0 | AC89: 0 | AD89: 1 | AE89: 0 | AF89: 0 | AG89: 17 | AH89: 0 | AI89: 1 | AJ89: 9 | AK89: 2 | AL89: 0 | AM89: 0 | AN89: 1 | AO89: 1 | AP89: 0 | AQ89: 3
C90: 其他 | D90: 0 | E90: 0 | F90: 0 | G90: 0 | H90: 0 | I90: 0 | J90: 0 | K90: 0 | L90: 0 | M90: 0 | N90: 0 | O90: 0 | P90: 0 | Q90: 0 | R90: 0 | S90: 0 | T90: 0 | U90: 0 | V90: 0 | W90: 0 | X90: 0 | Y90: 0 | Z90: 0 | AA90: 0 | AB90: 0 | AC90: 0 | AD90: 0 | AE90: 0 | AF90: 0 | AG90: 0 | AH90: 0 | AI90: 0 | AJ90: 0 | AK90: 0 | AL90: 0 | AM90: 0 | AN90: 0 | AO90: 0 | AP90: 0 | AQ90: 0
C91: 不詳 | D91: 0 | E91: 0 | F91: 0 | G91: 0 | H91: 0 | I91: 0 | J91: 0 | K91: 0 | L91: 0 | M91: 0 | N91: 0 | O91: 0 | P91: 0 | Q91: 0 | R91: 0 | S91: 0 | T91: 0 | U91: 0 | V91: 0 | W91: 0 | X91: 0 | Y91: 0 | Z91: 0 | AA91: 0 | AB91: 0 | AC91: 0 | AD91: 0 | AE91: 0 | AF91: 0 | AG91: 10 | AH91: 0 | AI91: 0 | AJ91: 0 | AK91: 0 | AL91: 0 | AM91: 0 | AN91: 0 | AO91: 0 | AP91: 0 | AQ91: 10
A92: 澎湖縣 | C92: 計 | D92: 21 | E92: 20 | F92: 1 | G92: 0 | H92: 0 | I92: 0 | J92: 0 | K92: 21 | L92: 0 | M92: 1 | N92: 10 | O92: 3 | P92: 1 | Q92: 4 | R92: 2 | S92: 0 | T92: 0 | U92: 0 | V92: 21 | W92: 15 | X92: 1 | Y92: 0 | Z92: 3 | AA92: 0 | AB92: 0 | AC92: 0 | AD92: 1 | AE92: 0 | AF92: 1 | AG92: 29 | AH92: 0 | AI92: 0 | AJ92: 6 | AK92: 6 | AL92: 5 | AM92: 1 | AN92: 2 | AO92: 3 | AP92: 2 | AQ92: 4
C93: 男 | D93: 6 | E93: 6 | F93: 0 | G93: 0 | H93: 0 | I93: 0 | J93: 0 | K93: 6 | L93: 0 | M93: 0 | N93: 3 | O93: 0 | P93: 0 | Q93: 2 | R93: 1 | S93: 0 | T93: 0 | U93: 0 | V93: 6 | W93: 2 | X93: 1 | Y93: 0 | Z93: 2 | AA93: 0 | AB93: 0 | AC93: 0 | AD93: 0 | AE93: 0 | AF93: 1 | AG93: 26 | AH93: 0 | AI93: 0 | AJ93: 3 | AK93: 6 | AL93: 5 | AM93: 1 | AN93: 2 | AO93: 3 | AP93: 2 | AQ93: 4
C94: 女 | D94: 15 | E94: 14 | F94: 1 | G94: 0 | H94: 0 | I94: 0 | J94: 0 | K94: 15 | L94: 0 | M94: 1 | N94: 7 | O94: 3 | P94: 1 | Q94: 2 | R94: 1 | S94: 0 | T94: 0 | U94: 0 | V94: 15 | W94: 13 | X94: 0 | Y94: 0 | Z94: 1 | AA94: 0 | AB94: 0 | AC94: 0 | AD94: 1 | AE94: 0 | AF94: 0 | AG94: 3 | AH94: 0 | AI94: 0 | AJ94: 3 | AK94: 0 | AL94: 0 | AM94: 0 | AN94: 0 | AO94: 0 | AP94: 0 | AQ94: 0
C95: 其他 | D95: 0 | E95: 0 | F95: 0 | G95: 0 | H95: 0 | I95: 0 | J95: 0 | K95: 0 | L95: 0 | M95: 0 | N95: 0 | O95: 0 | P95: 0 | Q95: 0 | R95: 0 | S95: 0 | T95: 0 | U95: 0 | V95: 0 | W95: 0 | X95: 0 | Y95: 0 | Z95: 0 | AA95: 0 | AB95: 0 | AC95: 0 | AD95: 0 | AE95: 0 | AF95: 0 | AG95: 0 | AH95: 0 | AI95: 0 | AJ95: 0 | AK95: 0 | AL95: 0 | AM95: 0 | AN95: 0 | AO95: 0 | AP95: 0 | AQ95: 0
C96: 不詳 | D96: 0 | E96: 0 | F96: 0 | G96: 0 | H96: 0 | I96: 0 | J96: 0 | K96: 0 | L96: 0 | M96: 0 | N96: 0 | O96: 0 | P96: 0 | Q96: 0 | R96: 0 | S96: 0 | T96: 0 | U96: 0 | V96: 0 | W96: 0 | X96: 0 | Y96: 0 | Z96: 0 | AA96: 0 | AB96: 0 | AC96: 0 | AD96: 0 | AE96: 0 | AF96: 0 | AG96: 0 | AH96: 0 | AI96: 0 | AJ96: 0 | AK96: 0 | AL96: 0 | AM96: 0 | AN96: 0 | AO96: 0 | AP96: 0 | AQ96: 0
A97: 基隆市 | C97: 計 | D97: 128 | E97: 115 | F97: 11 | G97: 0 | H97: 0 | I97: 0 | J97: 2 | K97: 128 | L97: 2 | M97: 7 | N97: 70 | O97: 13 | P97: 13 | Q97: 6 | R97: 13 | S97: 3 | T97: 1 | U97: 0 | V97: 128 | W97: 109 | X97: 6 | Y97: 0 | Z97: 6 | AA97: 0 | AB97: 0 | AC97: 0 | AD97: 3 | AE97: 1 | AF97: 3 | AG97: 123 | AH97: 0 | AI97: 1 | AJ97: 34 | AK97: 19 | AL97: 8 | AM97: 13 | AN97: 10 | AO97: 9 | AP97: 8 | AQ97: 21
C98: 男 | D98: 22 | E98: 19 | F98: 2 | G98: 0 | H98: 0 | I98: 0 | J98: 1 | K98: 22 | L98: 0 | M98: 2 | N98: 16 | O98: 3 | P98: 0 | Q98: 0 | R98: 0 | S98: 1 | T98: 0 | U98: 0 | V98: 22 | W98: 19 | X98: 2 | Y98: 0 | Z98: 0 | AA98: 0 | AB98: 0 | AC98: 0 | AD98: 0 | AE98: 0 | AF98: 1 | AG98: 110 | AH98: 0 | AI98: 1 | AJ98: 27 | AK98: 19 | AL98: 8 | AM98: 13 | AN98: 10 | AO98: 8 | AP98: 8 | AQ98: 16
C99: 女 | D99: 106 | E99: 96 | F99: 9 | G99: 0 | H99: 0 | I99: 0 | J99: 1 | K99: 106 | L99: 2 | M99: 5 | N99: 54 | O99: 10 | P99: 13 | Q99: 6 | R99: 13 | S99: 2 | T99: 1 | U99: 0 | V99: 106 | W99: 90 | X99: 4 | Y99: 0 | Z99: 6 | AA99: 0 | AB99: 0 | AC99: 0 | AD99: 3 | AE99: 1 | AF99: 2 | AG99: 9 | AH99: 0 | AI99: 0 | AJ99: 7 | AK99: 0 | AL99: 0 | AM99: 0 | AN99: 0 | AO99: 1 | AP99: 0 | AQ99: 1
C100: 其他 | D100: 0 | E100: 0 | F100: 0 | G100: 0 | H100: 0 | I100: 0 | J100: 0 | K100: 0 | L100: 0 | M100: 0 | N100: 0 | O100: 0 | P100: 0 | Q100: 0 | R100: 0 | S100: 0 | T100: 0 | U100: 0 | V100: 0 | W100: 0 | X100: 0 | Y100: 0 | Z100: 0 | AA100: 0 | AB100: 0 | AC100: 0 | AD100: 0 | AE100: 0 | AF100: 0 | AG100: 0 | AH100: 0 | AI100: 0 | AJ100: 0 | AK100: 0 | AL100: 0 | AM100: 0 | AN100: 0 | AO100: 0 | AP100: 0 | AQ100: 0
