Workbook
Name pp: '100'!$B$1:$U$35
Name pp: '101'!$B$1:$U$35
Name pp: '102'!$B$1:$U$35
Name pp: '103'!$B$1:$U$35
Name pp: '104'!$B$1:$U$38
Name pp: '105'!$B$1:$U$38
Name pp: '106'!$B$1:$U$38
Name pp: '107'!$B$1:$U$38
Name pp: '108'!$B$1:$T$38
Name pp: '109'!$B$1:$T$38
Name pp: '110'!$B$1:$T$45
Name pp: '111'!$B$1:$T$45
Name pp: '112'!$B$1:$T$45
Name pp: '113'!$B$1:$T$45
Name pp: '114'!$B$1:$T$45
Name pp: '94'!$B$1:$U$19
Name pp: '94~107'!$B$1:$U$15
Name pp: '95'!$B$1:$U$19
Name pp: '96'!$B$1:$U$19
Name pp: '97'!$B$1:$U$19
Name pp: '98'!$B$1:$U$19
Name pp: '99'!$B$1:$U$19
Name pp: '歷年(108~)'!$B$1:$T$7

Sheet 歷年(108~)
A1: 5.2-02 性侵害事件通報被害及嫌疑人概況
A4: 年別 | D4: 性侵害被害人統計(人) | AG4: 性侵害被害人統計(人) | BH4: 性侵害嫌疑人年齡統計(人)
D5: 國籍、身分別 | K5: 年齡別 | V5: 教育程度別 | AG5: 職業別 | AW5: 身心障礙別 | BH5: 年齡別
D6: 合計 | E6: 本國籍 非原住民 | F6: 本國籍 原住民 | G6: 大陸及 港澳籍 | H6: 外國籍 | I6: 無國籍 | J6: 資料 不明 | K6: 合計 | L6: 0-未滿6歲 | M6: 6-未滿12歲 | N6: 12-未滿18歲 | O6: 18-未滿24歲 | P6: 24-未滿30歲 | Q6: 30-未滿40歲 | R6: 40-未滿50歲 | S6: 50-未滿65歲 | T6: 65歲 以上 | U6: 不詳 | V6: 合計 | W6: 學齡前 | X6: 國小 | Y6: 國中 | Z6: 高中(職) | AA6: 專科 | AB6: 大學 | AC6: 研究所 以上 | AD6: 不識字 | AE6: 自修 | AF6: 不詳 | AG6: 合計 | AH6: 學生 | AI6: 服務業 | AJ6: 專門 職業 | AK6: 農林 漁牧 | AL6: 工礦業 | AM6: 商業 | AN6: 公 | AO6: 教 | AP6: 軍 | AQ6: 警 | AR6: 家庭 管理 | AS6: 退休 | AT6: 無工作 | AU6: 其他 | AV6: 不詳 | AW6: 合計 | AX6: 非身心 障礙 | AY6: 智障 | AZ6: 視障 | BA6: 精神 病患 | BB6: 聲(語)障 | BC6: 聽障 | BD6: 肢障 | BE6: 多重 障礙 | BF6: 其他 障礙 | BG6: 不詳 | BH6: 合計 | BI6: 0-未滿6歲 | BJ6: 6-未滿12歲 | BK6: 12-未滿18歲 | BL6: 18-未滿24歲 | BM6: 24-未滿30歲 | BN6: 30-未滿40歲 | BO6: 40-未滿50歲 | BP6: 50-未滿65歲 | BQ6: 65歲 以上 | BR6: 不詳
A7: 108年, 2019 | D7: 8160 | E7: 7052 | F7: 637 | G7: 40 | H7: 138 | I7: 1 | J7: 292 | K7: 8160 | L7: 296 | M7: 705 | N7: 4268 | O7: 1053 | P7: 614 | Q7: 688 | R7: 331 | S7: 144 | T7: 53 | U7: 8 | V7: 8160 | W7: 260 | X7: 739 | Y7: 2379 | Z7: 1670 | AA7: 126 | AB7: 616 | AC7: 35 | AD7: 13 | AE7: 4 | AF7: 2318 | AG7: 8160 | AH7: 539 | AI7: 527 | AJ7: 53 | AK7: 9 | AL7: 76 | AM7: 42 | AN7: 17 | AO7: 22 | AP7: 21 | AQ7: 0 | AR7: 66 | AS7: 15 | AT7: 515 | AU7: 188 | AV7: 6070 | AW7: 8160 | AX7: 7016 | AY7: 334 | AZ7: 24 | BA7: 171 | BB7: 2 | BC7: 14 | BD7: 25 | BE7: 56 | BF7: 24 | BG7: 494 | BH7: 7690 | BI7: 9 | BJ7: 166 | BK7: 1936 | BL7: 1054 | BM7: 481 | BN7: 692 | BO7: 545 | BP7: 496 | BQ7: 176 | BR7: 2135
A8: 109年, 2020 | D8: 9212 | E8: 7995 | F8: 853 | G8: 38 | H8: 110 | I8: 1 | J8: 215 | K8: 9212 | L8: 329 | M8: 759 | N8: 4890 | O8: 1197 | P8: 645 | Q8: 746 | R8: 415 | S8: 163 | T8: 51 | U8: 17 | V8: 9212 | W8: 331 | X8: 803 | Y8: 2834 | Z8: 1830 | AA8: 156 | AB8: 744 | AC8: 59 | AD8: 8 | AE8: 6 | AF8: 2441 | AG8: 9212 | AH8: 624 | AI8: 632 | AJ8: 70 | AK8: 16 | AL8: 91 | AM8: 67 | AN8: 6 | AO8: 28 | AP8: 21 | AQ8: 3 | AR8: 63 | AS8: 17 | AT8: 607 | AU8: 221 | AV8: 6746 | AW8: 9212 | AX8: 7989 | AY8: 340 | AZ8: 25 | BA8: 205 | BB8: 1 | BC8: 19 | BD8: 35 | BE8: 62 | BF8: 27 | BG8: 509 | BH8: 8651 | BI8: 23 | BJ8: 230 | BK8: 2337 | BL8: 1157 | BM8: 519 | BN8: 730 | BO8: 694 | BP8: 555 | BQ8: 211 | BR8: 2195
A10: 年別 | D10: 性侵害被害人統計(人) | AG10: 性侵害嫌疑人年齡統計(人)
D11: 國籍、身分別 | K11: 年齡別 | V11: 身心障礙別 | AG11: 年齡別
D12: 合計 | E12: 本國籍 非原住民 | F12: 本國籍 原住民 | G12: 大陸及 港澳籍 | H12: 外國籍 | I12: 無國籍 | J12: 資料 不明 | K12: 合計 | L12: 0-未滿6歲 | M12: 6-未滿12歲 | N12: 12-未滿18歲 | O12: 18-未滿24歲 | P12: 24-未滿30歲 | Q12: 30-未滿40歲 | R12: 40-未滿50歲 | S12: 50-未滿65歲 | T12: 65歲 以上 | U12: 不詳 | V12: 合計 | W12: 非身心 障礙 | X12: 智障 | Y12: 視障 | Z12: 精神 病患 | AA12: 聲(語)障 | AB12: 聽障 | AC12: 肢障 | AD12: 多重 障礙 | AE12: 其他 障礙 | AF12: 不詳 | AG12: 合計 | AH12: 0-未滿6歲 | AI12: 6-未滿12歲 | AJ12: 12-未滿18歲 | AK12: 18-未滿24歲 | AL12: 24-未滿30歲 | AM12: 30-未滿40歲 | AN12: 40-未滿50歲 | AO12: 50-未滿65歲 | AP12: 65歲 以上 | AQ12: 不詳
A13: 110年, 2021 | D13: 7787 | E13: 6787 | F13: 680 | G13: 26 | H13: 129 | I13: 2 | J13: 163 | K13: 7787 | L13: 210 | M13: 630 | N13: 3680 | O13: 1135 | P13: 677 | Q13: 778 | R13: 427 | S13: 173 | T13: 53 | U13: 24 | V13: 7787 | W13: 6775 | X13: 354 | Y13: 6 | Z13: 213 | AA13: 4 | AB13: 16 | AC13: 22 | AD13: 72 | AE13: 43 | AF13: 282 | AG13: 7258 | AH13: 16 | AI13: 148 | AJ13: 1720 | AK13: 939 | AL13: 479 | AM13: 664 | AN13: 645 | AO13: 495 | AP13: 189 | AQ13: 1963
A14: 111年, 2022 | D14: 8401 | E14: 7355 | F14: 765 | G14: 29 | H14: 109 | I14: 2 | J14: 141 | K14: 8401 | L14: 203 | M14: 608 | N14: 3998 | O14: 1216 | P14: 763 | Q14: 831 | R14: 489 | S14: 218 | T14: 50 | U14: 25 | V14: 8401 | W14: 7402 | X14: 364 | Y14: 8 | Z14: 265 | AA14: 5 | AB14: 24 | AC14: 32 | AD14: 64 | AE14: 98 | AF14: 139 | AG14: 7865 | AH14: 11 | AI14: 168 | AJ14: 1953 | AK14: 1000 | AL14: 545 | AM14: 719 | AN14: 658 | AO14: 537 | AP14: 209 | AQ14: 2065
A15: 112年, 2023 | D15: 9413 | E15: 8241 | F15: 813 | G15: 31 | H15: 119 | I15: 0 | J15: 209 | K15: 9413 | L15: 206 | M15: 767 | N15: 4182 | O15: 1323 | P15: 890 | Q15: 1039 | R15: 627 | S15: 256 | T15: 82 | U15: 41 | V15: 9413 | W15: 8301 | X15: 400 | Y15: 17 | Z15: 299 | AA15: 6 | AB15: 18 | AC15: 39 | AD15: 101 | AE15: 101 | AF15: 131 | AG15: 8731 | AH15: 27 | AI15: 168 | AJ15: 2080 | AK15: 1038 | AL15: 564 | AM15: 826 | AN15: 768 | AO15: 637 | AP15: 288 | AQ15: 2335
A16: 113年, 2024 | D16: 9230 | E16: 8138 | F16: 715 | G16: 33 | H16: 169 | I16: 0 | J16: 175 | K16: 9230 | L16: 268 | M16: 830 | N16: 3695 | O16: 1383 | P16: 970 | Q16: 1079 | R16: 631 | S16: 267 | T16: 76 | U16: 31 | V16: 9230 | W16: 8124 | X16: 399 | Y16: 12 | Z16: 312 | AA16: 12 | AB16: 29 | AC16: 37 | AD16: 98 | AE16: 109 | AF16: 98 | AG16: 8471 | AH16: 19 | AI16: 195 | AJ16: 1702 | AK16: 999 | AL16: 615 | AM16: 853 | AN16: 781 | AO16: 633 | AP16: 313 | AQ16: 2361
A17: 114年, 2025 | D17: 9565 | E17: 8376 | F17: 761 | G17: 37 | H17: 175 | I17: 1 | J17: 215 | K17: 9565 | L17: 231 | M17: 752 | N17: 3729 | O17: 1439 | P17: 1080 | Q17: 1206 | R17: 697 | S17: 291 | T17: 91 | U17: 49 | V17: 9565 | W17: 8474 | X17: 332 | Y17: 13 | Z17: 316 | AA17: 6 | AB17: 19 | AC17: 51 | AD17: 98 | AE17: 130 | AF17: 126 | AG17: 8768 | AH17: 25 | AI17: 197 | AJ17: 1697 | AK17: 1008 | AL17: 648 | AM17: 907 | AN17: 877 | AO17: 611 | AP17: 308 | AQ17: 2490
A18: 資料來源：本部保護服務司。

Sheet 114
A1: 5.2-02 性侵害事件通報被害及嫌疑人概況
A2: 民國114年
A4: 區域別 | C4: 性別 | D4: 性侵害被害人統計(人) | AG4: 性侵害嫌疑人年齡統計(人)
D5: 國籍、身分別 | K5: 年齡別 | V5: 身心障礙別 | AG5: 年齡別
D6: 合計 | E6: 本國籍 非原住民 | F6: 本國籍 原住民 | G6: 大陸及 港澳籍 | H6: 外國籍 | I6: 無國籍 | J6: 資料 不明 | K6: 合計 | L6: 0-未滿6歲 | M6: 6-未滿12歲 | N6: 12-未滿18歲 | O6: 18-未滿24歲 | P6: 24-未滿30歲 | Q6: 30-未滿40歲 | R6: 40-未滿50歲 | S6: 50-未滿65歲 | T6: 65歲 以上 | U6: 不詳 | V6: 合計 | W6: 非身心 障礙 | X6: 智障 | Y6: 視障 | Z6: 精神 病患 | AA6: 聲(語)障 | AB6: 聽障 | AC6: 肢障 | AD6: 多重 障礙 | AE6: 其他 障礙 | AF6: 不詳 | AG6: 合計 | AH6: 0-未滿6歲 | AI6: 6-未滿12歲 | AJ6: 12-未滿18歲 | AK6: 18-未滿24歲 | AL6: 24-未滿30歲 | AM6: 30-未滿40歲 | AN6: 40-未滿50歲 | AO6: 50-未滿65歲 | AP6: 65歲 以上 | AQ6: 不詳
A7: 114年, 2025 | C7: 計 | D7: 9565 | E7: 8376 | F7: 761 | G7: 37 | H7: 175 | I7: 1 | J7: 215 | K7: 9565 | L7: 231 | M7: 752 | N7: 3729 | O7: 1439 | P7: 1080 | Q7: 1206 | R7: 697 | S7: 291 | T7: 91 | U7: 49 | V7: 9565 | W7: 8474 | X7: 332 | Y7: 13 | Z7: 316 | AA7: 6 | AB7: 19 | AC7: 51 | AD7: 98 | AE7: 130 | AF7: 126 | AG7: 8768 | AH7: 25 | AI7: 197 | AJ7: 1697 | AK7: 1008 | AL7: 648 | AM7: 907 | AN7: 877 | AO7: 611 | AP7: 308 | AQ7: 2490
C8: 男 | D8: 1603 | E8: 1398 | F8: 147 | G8: 5 | H8: 16 | I8: 1 | J8: 36 | K8: 1603 | L8: 44 | M8: 229 | N8: 835 | O8: 162 | P8: 118 | Q8: 130 | R8: 49 | S8: 23 | T8: 6 | U8: 7 | V8: 1603 | W8: 1413 | X8: 54 | Y8: 5 | Z8: 38 | AA8: 1 | AB8: 2 | AC8: 9 | AD8: 24 | AE8: 38 | AF8: 19 | AG8: 7664 | AH8: 23 | AI8: 153 | AJ8: 1187 | AK8: 970 | AL8: 620 | AM8: 867 | AN8: 844 | AO8: 589 | AP8: 296 | AQ8: 2115
C9: 女 | D9: 7935 | E9: 6962 | F9: 612 | G9: 32 | H9: 159 | I9: 0 | J9: 170 | K9: 7935 | L9: 187 | M9: 522 | N9: 2877 | O9: 1274 | P9: 961 | Q9: 1075 | R9: 648 | S9: 268 | T9: 85 | U9: 38 | V9: 7935 | W9: 7042 | X9: 278 | Y9: 8 | Z9: 278 | AA9: 5 | AB9: 17 | AC9: 42 | AD9: 74 | AE9: 90 | AF9: 101 | AG9: 828 | AH9: 2 | AI9: 44 | AJ9: 499 | AK9: 37 | AL9: 27 | AM9: 39 | AN9: 30 | AO9: 21 | AP9: 11 | AQ9: 118
C10: 其他 | D10: 2 | E10: 2 | F10: 0 | G10: 0 | H10: 0 | I10: 0 | J10: 0 | K10: 2 | L10: 0 | M10: 0 | N10: 0 | O10: 1 | P10: 0 | Q10: 1 | R10: 0 | S10: 0 | T10: 0 | U10: 0 | V10: 2 | W10: 1 | X10: 0 | Y10: 0 | Z10: 0 | AA10: 0 | AB10: 0 | AC10: 0 | AD10: 0 | AE10: 1 | AF10: 0 | AG10: 0 | AH10: 0 | AI10: 0 | AJ10: 0 | AK10: 0 | AL10: 0 | AM10: 0 | AN10: 0 | AO10: 0 | AP10: 0 | AQ10: 0
C11: 不詳 | D11: 25 | E11: 14 | F11: 2 | G11: 0 | H11: 0 | I11: 0 | J11: 9 | K11: 25 | L11: 0 | M11: 1 | N11: 17 | O11: 2 | P11: 1 | Q11: 0 | R11: 0 | S11: 0 | T11: 0 | U11: 4 | V11: 25 | W11: 18 | X11: 0 | Y11: 0 | Z11: 0 | AA11: 0 | AB11: 0 | AC11: 0 | AD11: 0 | AE11: 1 | AF11: 6 | AG11: 276 | AH11: 0 | AI11: 0 | AJ11: 11 | AK11: 1 | AL11: 1 | AM11: 1 | AN11: 3 | AO11: 1 | AP11: 1 | AQ11: 257
A12: 新北市 | C12: 計 | D12: 1745 | E12: 1568 | F12: 68 | G12: 5 | H12: 25 | I12: 1 | J12: 78 | K12: 1745 | L12: 40 | M12: 138 | N12: 707 | O12: 250 | P12: 217 | Q12: 222 | R12: 98 | S12: 36 | T12: 18 | U12: 19 | V12: 1745 | W12: 1548 | X12: 52 | Y12: 1 | Z12: 55 | AA12: 1 | AB12: 3 | AC12: 9 | AD12: 17 | AE12: 26 | AF12: 33 | AG12: 1615 | AH12: 6 | AI12: 36 | AJ12: 320 | AK12: 163 | AL12: 91 | AM12: 145 | AN12: 152 | AO12: 89 | AP12: 55 | AQ12: 558
C13: 男 | D13: 286 | E13: 256 | F13: 15 | G13: 2 | H13: 1 | I13: 1 | J13: 11 | K13: 286 | L13: 7 | M13: 38 | N13: 157 | O13: 28 | P13: 21 | Q13: 20 | R13: 9 | S13: 2 | T13: 1 | U13: 3 | V13: 286 | W13: 246 | X13: 12 | Y13: 1 | Z13: 8 | AA13: 0 | AB13: 0 | AC13: 0 | AD13: 4 | AE13: 9 | AF13: 6 | AG13: 1383 | AH13: 5 | AI13: 26 | AJ13: 215 | AK13: 158 | AL13: 86 | AM13: 137 | AN13: 140 | AO13: 84 | AP13: 51 | AQ13: 481
C14: 女 | D14: 1452 | E14: 1305 | F14: 53 | G14: 3 | H14: 24 | I14: 0 | J14: 67 | K14: 1452 | L14: 33 | M14: 100 | N14: 545 | O14: 221 | P14: 196 | Q14: 201 | R14: 89 | S14: 34 | T14: 17 | U14: 16 | V14: 1452 | W14: 1296 | X14: 40 | Y14: 0 | Z14: 47 | AA14: 1 | AB14: 3 | AC14: 9 | AD14: 13 | AE14: 16 | AF14: 27 | AG14: 186 | AH14: 1 | AI14: 10 | AJ14: 102 | AK14: 5 | AL14: 5 | AM14: 8 | AN14: 11 | AO14: 5 | AP14: 4 | AQ14: 35
C15: 其他 | D15: 2 | E15: 2 | F15: 0 | G15: 0 | H15: 0 | I15: 0 | J15: 0 | K15: 2 | L15: 0 | M15: 0 | N15: 0 | O15: 1 | P15: 0 | Q15: 1 | R15: 0 | S15: 0 | T15: 0 | U15: 0 | V15: 2 | W15: 1 | X15: 0 | Y15: 0 | Z15: 0 | AA15: 0 | AB15: 0 | AC15: 0 | AD15: 0 | AE15: 1 | AF15: 0 | AG15: 0 | AH15: 0 | AI15: 0 | AJ15: 0 | AK15: 0 | AL15: 0 | AM15: 0 | AN15: 0 | AO15: 0 | AP15: 0 | AQ15: 0
C16: 不詳 | D16: 5 | E16: 5 | F16: 0 | G16: 0 | H16: 0 | I16: 0 | J16: 0 | K16: 5 | L16: 0 | M16: 0 | N16: 5 | O16: 0 | P16: 0 | Q16: 0 | R16: 0 | S16: 0 | T16: 0 | U16: 0 | V16: 5 | W16: 5 | X16: 0 | Y16: 0 | Z16: 0 | AA16: 0 | AB16: 0 | AC16: 0 | AD16: 0 | AE16: 0 | AF16: 0 | AG16: 46 | AH16: 0 | AI16: 0 | AJ16: 3 | AK16: 0 | AL16: 0 | AM16: 0 | AN16: 1 | AO16: 0 | AP16: 0 | AQ16: 42
A17: 臺北市 | C17: 計 | D17: 976 | E17: 888 | F17: 13 | G17: 7 | H17: 32 | I17: 0 | J17: 36 | K17: 976 | L17: 20 | M17: 65 | N17: 225 | O17: 202 | P17: 156 | Q17: 171 | R17: 84 | S17: 29 | T17: 12 | U17: 12 | V17: 976 | W17: 851 | X17: 16 | Y17: 2 | Z17: 33 | AA17: 0 | AB17: 1 | AC17: 8 | AD17: 10 | AE17: 16 | AF17: 39 | AG17: 799 | AH17: 5 | AI17: 22 | AJ17: 84 | AK17: 61 | AL17: 73 | AM17: 73 | AN17: 73 | AO17: 48 | AP17: 26 | AQ17: 334
C18: 男 | D18: 153 | E18: 135 | F18: 1 | G18: 2 | H18: 9 | I18: 0 | J18: 6 | K18: 153 | L18: 3 | M18: 25 | N18: 44 | O18: 27 | P18: 20 | Q18: 22 | R18: 5 | S18: 4 | T18: 1 | U18: 2 | V18: 153 | W18: 128 | X18: 2 | Y18: 1 | Z18: 3 | AA18: 0 | AB18: 0 | AC18: 4 | AD18: 3 | AE18: 4 | AF18: 8 | AG18: 722 | AH18: 5 | AI18: 16 | AJ18: 64 | AK18: 56 | AL18: 70 | AM18: 69 | AN18: 70 | AO18: 44 | AP18: 26 | AQ18: 302
C19: 女 | D19: 819 | E19: 752 | F19: 12 | G19: 5 | H19: 23 | I19: 0 | J19: 27 | K19: 819 | L19: 17 | M19: 40 | N19: 181 | O19: 174 | P19: 135 | Q19: 149 | R19: 79 | S19: 25 | T19: 11 | U19: 8 | V19: 819 | W19: 723 | X19: 14 | Y19: 1 | Z19: 30 | AA19: 0 | AB19: 1 | AC19: 4 | AD19: 7 | AE19: 12 | AF19: 27 | AG19: 53 | AH19: 0 | AI19: 6 | AJ19: 20 | AK19: 4 | AL19: 3 | AM19: 4 | AN19: 2 | AO19: 4 | AP19: 0 | AQ19: 10
C20: 其他 | D20: 0 | E20: 0 | F20: 0 | G20: 0 | H20: 0 | I20: 0 | J20: 0 | K20: 0 | L20: 0 | M20: 0 | N20: 0 | O20: 0 | P20: 0 | Q20: 0 | R20: 0 | S20: 0 | T20: 0 | U20: 0 | V20: 0 | W20: 0 | X20: 0 | Y20: 0 | Z20: 0 | AA20: 0 | AB20: 0 | AC20: 0 | AD20: 0 | AE20: 0 | AF20: 0 | AG20: 0 | AH20: 0 | AI20: 0 | AJ20: 0 | AK20: 0 | AL20: 0 | AM20: 0 | AN20: 0 | AO20: 0 | AP20: 0 | AQ20: 0
C21: 不詳 | D21: 4 | E21: 1 | F21: 0 | G21: 0 | H21: 0 | I21: 0 | J21: 3 | K21: 4 | L21: 0 | M21: 0 | N21: 0 | O21: 1 | P21: 1 | Q21: 0 | R21: 0 | S21: 0 | T21: 0 | U21: 2 | V21: 4 | W21: 0 | X21: 0 | Y21: 0 | Z21: 0 | AA21: 0 | AB21: 0 | AC21: 0 | AD21: 0 | AE21: 0 | AF21: 4 | AG21: 24 | AH21: 0 | AI21: 0 | AJ21: 0 | AK21: 1 | AL21: 0 | AM21: 0 | AN21: 1 | AO21: 0 | AP21: 0 | AQ21: 22
A22: 桃園市 | C22: 計 | D22: 1148 | E22: 975 | F22: 136 | G22: 6 | H22: 28 | I22: 0 | J22: 3 | K22: 1148 | L22: 17 | M22: 77 | N22: 469 | O22: 172 | P22: 131 | Q22: 153 | R22: 94 | S22: 25 | T22: 9 | U22: 1 | V22: 1148 | W22: 1039 | X22: 43 | Y22: 1 | Z22: 25 | AA22: 0 | AB22: 5 | AC22: 3 | AD22: 10 | AE22: 12 | AF22: 10 | AG22: 1134 | AH22: 1 | AI22: 21 | AJ22: 200 | AK22: 139 | AL22: 93 | AM22: 109 | AN22: 108 | AO22: 70 | AP22: 31 | AQ22: 362
C23: 男 | D23: 170 | E23: 145 | F23: 23 | G23: 0 | H23: 2 | I23: 0 | J23: 0 | K23: 170 | L23: 3 | M23: 19 | N23: 89 | O23: 23 | P23: 12 | Q23: 13 | R23: 8 | S23: 1 | T23: 1 | U23: 1 | V23: 170 | W23: 149 | X23: 6 | Y23: 0 | Z23: 3 | AA23: 0 | AB23: 1 | AC23: 0 | AD23: 2 | AE23: 7 | AF23: 2 | AG23: 1005 | AH23: 1 | AI23: 15 | AJ23: 148 | AK23: 135 | AL23: 91 | AM23: 106 | AN23: 103 | AO23: 70 | AP23: 30 | AQ23: 306
C24: 女 | D24: 977 | E24: 829 | F24: 113 | G24: 6 | H24: 26 | I24: 0 | J24: 3 | K24: 977 | L24: 14 | M24: 58 | N24: 379 | O24: 149 | P24: 119 | Q24: 140 | R24: 86 | S24: 24 | T24: 8 | U24: 0 | V24: 977 | W24: 889 | X24: 37 | Y24: 1 | Z24: 22 | AA24: 0 | AB24: 4 | AC24: 3 | AD24: 8 | AE24: 5 | AF24: 8 | AG24: 88 | AH24: 0 | AI24: 6 | AJ24: 52 | AK24: 4 | AL24: 2 | AM24: 3 | AN24: 5 | AO24: 0 | AP24: 1 | AQ24: 15
C25: 其他 | D25: 0 | E25: 0 | F25: 0 | G25: 0 | H25: 0 | I25: 0 | J25: 0 | K25: 0 | L25: 0 | M25: 0 | N25: 0 | O25: 0 | P25: 0 | Q25: 0 | R25: 0 | S25: 0 | T25: 0 | U25: 0 | V25: 0 | W25: 0 | X25: 0 | Y25: 0 | Z25: 0 | AA25: 0 | AB25: 0 | AC25: 0 | AD25: 0 | AE25: 0 | AF25: 0 | AG25: 0 | AH25: 0 | AI25: 0 | AJ25: 0 | AK25: 0 | AL25: 0 | AM25: 0 | AN25: 0 | AO25: 0 | AP25: 0 | AQ25: 0
C26: 不詳 | D26: 1 | E26: 1 | F26: 0 | G26: 0 | H26: 0 | I26: 0 | J26: 0 | K26: 1 | L26: 0 | M26: 0 | N26: 1 | O26: 0 | P26: 0 | Q26: 0 | R26: 0 | S26: 0 | T26: 0 | U26: 0 | V26: 1 | W26: 1 | X26: 0 | Y26: 0 | Z26: 0 | AA26: 0 | AB26: 0 | AC26: 0 | AD26: 0 | AE26: 0 | AF26: 0 | AG26: 41 | AH26: 0 | AI26: 0 | AJ26: 0 | AK26: 0 | AL26: 0 | AM26: 0 | AN26: 0 | AO26: 0 | AP26: 0 | AQ26: 41
A27: 臺中市 | C27: 計 | D27: 1305 | E27: 1180 | F27: 53 | G27: 5 | H27: 18 | I27: 0 | J27: 49 | K27: 1305 | L27: 32 | M27: 72 | N27: 435 | O27: 238 | P27: 160 | Q27: 193 | R27: 117 | S27: 45 | T27: 7 | U27: 6 | V27: 1305 | W27: 1155 | X27: 44 | Y27: 1 | Z27: 54 | AA27: 2 | AB27: 2 | AC27: 8 | AD27: 14 | AE27: 14 | AF27: 11 | AG27: 1207 | AH27: 3 | AI27: 24 | AJ27: 216 | AK27: 137 | AL27: 95 | AM27: 138 | AN27: 121 | AO27: 74 | AP27: 37 | AQ27: 362
C28: 男 | D28: 192 | E28: 167 | F28: 11 | G28: 1 | H28: 1 | I28: 0 | J28: 12 | K28: 192 | L28: 6 | M28: 22 | N28: 102 | O28: 17 | P28: 19 | Q28: 19 | R28: 5 | S28: 2 | T28: 0 | U28: 0 | V28: 192 | W28: 176 | X28: 6 | Y28: 0 | Z28: 3 | AA28: 0 | AB28: 0 | AC28: 1 | AD28: 3 | AE28: 3 | AF28: 0 | AG28: 1065 | AH28: 2 | AI28: 19 | AJ28: 165 | AK28: 132 | AL28: 92 | AM28: 133 | AN28: 117 | AO28: 72 | AP28: 35 | AQ28: 298
C29: 女 | D29: 1105 | E29: 1011 | F29: 41 | G29: 4 | H29: 17 | I29: 0 | J29: 32 | K29: 1105 | L29: 26 | M29: 50 | N29: 327 | O29: 221 | P29: 141 | Q29: 174 | R29: 112 | S29: 43 | T29: 7 | U29: 4 | V29: 1105 | W29: 974 | X29: 38 | Y29: 1 | Z29: 51 | AA29: 2 | AB29: 2 | AC29: 7 | AD29: 11 | AE29: 10 | AF29: 9 | AG29: 83 | AH29: 1 | AI29: 5 | AJ29: 46 | AK29: 5 | AL29: 2 | AM29: 4 | AN29: 4 | AO29: 2 | AP29: 2 | AQ29: 12
C30: 其他 | D30: 0 | E30: 0 | F30: 0 | G30: 0 | H30: 0 | I30: 0 | J30: 0 | K30: 0 | L30: 0 | M30: 0 | N30: 0 | O30: 0 | P30: 0 | Q30: 0 | R30: 0 | S30: 0 | T30: 0 | U30: 0 | V30: 0 | W30: 0 | X30: 0 | Y30: 0 | Z30: 0 | AA30: 0 | AB30: 0 | AC30: 0 | AD30: 0 | AE30: 0 | AF30: 0 | AG30: 0 | AH30: 0 | AI30: 0 | AJ30: 0 | AK30: 0 | AL30: 0 | AM30: 0 | AN30: 0 | AO30: 0 | AP30: 0 | AQ30: 0
C31: 不詳 | D31: 8 | E31: 2 | F31: 1 | G31: 0 | H31: 0 | I31: 0 | J31: 5 | K31: 8 | L31: 0 | M31: 0 | N31: 6 | O31: 0 | P31: 0 | Q31: 0 | R31: 0 | S31: 0 | T31: 0 | U31: 2 | V31: 8 | W31: 5 | X31: 0 | Y31: 0 | Z31: 0 | AA31: 0 | AB31: 0 | AC31: 0 | AD31: 0 | AE31: 1 | AF31: 2 | AG31: 59 | AH31: 0 | AI31: 0 | AJ31: 5 | AK31: 0 | AL31: 1 | AM31: 1 | AN31: 0 | AO31: 0 | AP31: 0 | AQ31: 52
A32: 臺南市 | C32: 計 | D32: 736 | E32: 703 | F32: 18 | G32: 2 | H32: 12 | I32: 0 | J32: 1 | K32: 736 | L32: 22 | M32: 72 | N32: 245 | O32: 100 | P32: 89 | Q32: 94 | R32: 62 | S32: 40 | T32: 10 | U32: 2 | V32: 736 | W32: 659 | X32: 21 | Y32: 2 | Z32: 26 | AA32: 0 | AB32: 0 | AC32: 7 | AD32: 5 | AE32: 14 | AF32: 2 | AG32: 707 | AH32: 4 | AI32: 20 | AJ32: 129 | AK32: 90 | AL32: 59 | AM32: 83 | AN32: 92 | AO32: 68 | AP32: 31 | AQ32: 131
C33: 男 | D33: 121 | E33: 117 | F33: 2 | G33: 0 | H33: 2 | I33: 0 | J33: 0 | K33: 121 | L33: 5 | M33: 23 | N33: 55 | O33: 8 | P33: 10 | Q33: 13 | R33: 5 | S33: 2 | T33: 0 | U33: 0 | V33: 121 | W33: 108 | X33: 3 | Y33: 0 | Z33: 5 | AA33: 0 | AB33: 0 | AC33: 1 | AD33: 1 | AE33: 3 | AF33: 0 | AG33: 641 | AH33: 4 | AI33: 13 | AJ33: 100 | AK33: 87 | AL33: 53 | AM33: 79 | AN33: 90 | AO33: 66 | AP33: 30 | AQ33: 119
C34: 女 | D34: 615 | E34: 586 | F34: 16 | G34: 2 | H34: 10 | I34: 0 | J34: 1 | K34: 615 | L34: 17 | M34: 49 | N34: 190 | O34: 92 | P34: 79 | Q34: 81 | R34: 57 | S34: 38 | T34: 10 | U34: 2 | V34: 615 | W34: 551 | X34: 18 | Y34: 2 | Z34: 21 | AA34: 0 | AB34: 0 | AC34: 6 | AD34: 4 | AE34: 11 | AF34: 2 | AG34: 56 | AH34: 0 | AI34: 7 | AJ34: 29 | AK34: 3 | AL34: 6 | AM34: 4 | AN34: 2 | AO34: 1 | AP34: 1 | AQ34: 3
C35: 其他 | D35: 0 | E35: 0 | F35: 0 | G35: 0 | H35: 0 | I35: 0 | J35: 0 | K35: 0 | L35: 0 | M35: 0 | N35: 0 | O35: 0 | P35: 0 | Q35: 0 | R35: 0 | S35: 0 | T35: 0 | U35: 0 | V35: 0 | W35: 0 | X35: 0 | Y35: 0 | Z35: 0 | AA35: 0 | AB35: 0 | AC35: 0 | AD35: 0 | AE35: 0 | AF35: 0 | AG35: 0 | AH35: 0 | AI35: 0 | AJ35: 0 | AK35: 0 | AL35: 0 | AM35: 0 | AN35: 0 | AO35: 0 | AP35: 0 | AQ35: 0
C36: 不詳 | D36: 0 | E36: 0 | F36: 0 | G36: 0 | H36: 0 | I36: 0 | J36: 0 | K36: 0 | L36: 0 | M36: 0 | N36: 0 | O36: 0 | P36: 0 | Q36: 0 | R36: 0 | S36: 0 | T36: 0 | U36: 0 | V36: 0 | W36: 0 | X36: 0 | Y36: 0 | Z36: 0 | AA36: 0 | AB36: 0 | AC36: 0 | AD36: 0 | AE36: 0 | AF36: 0 | AG36: 10 | AH36: 0 | AI36: 0 | AJ36: 0 | AK36: 0 | AL36: 0 | AM36: 0 | AN36: 0 | AO36: 1 | AP36: 0 | AQ36: 9
A37: 高雄市 | C37: 計 | D37: 991 | E37: 910 | F37: 57 | G37: 4 | H37: 19 | I37: 0 | J37: 1 | K37: 991 | L37: 20 | M37: 70 | N37: 390 | O37: 157 | P37: 104 | Q37: 128 | R37: 72 | S37: 40 | T37: 9 | U37: 1 | V37: 991 | W37: 869 | X37: 38 | Y37: 2 | Z37: 35 | AA37: 3 | AB37: 3 | AC37: 7 | AD37: 11 | AE37: 17 | AF37: 6 | AG37: 895 | AH37: 2 | AI37: 14 | AJ37: 184 | AK37: 99 | AL37: 53 | AM37: 105 | AN37: 93 | AO37: 87 | AP37: 35 | AQ37: 223
C38: 男 | D38: 168 | E38: 160 | F38: 8 | G38: 0 | H38: 0 | I38: 0 | J38: 0 | K38: 168 | L38: 6 | M38: 18 | N38: 97 | O38: 16 | P38: 13 | Q38: 13 | R38: 2 | S38: 3 | T38: 0 | U38: 0 | V38: 168 | W38: 147 | X38: 7 | Y38: 1 | Z38: 2 | AA38: 1 | AB38: 0 | AC38: 2 | AD38: 3 | AE38: 5 | AF38: 0 | AG38: 770 | AH38: 2 | AI38: 12 | AJ38: 118 | AK38: 96 | AL38: 53 | AM38: 101 | AN38: 91 | AO38: 83 | AP38: 32 | AQ38: 182
C39: 女 | D39: 823 | E39: 750 | F39: 49 | G39: 4 | H39: 19 | I39: 0 | J39: 1 | K39: 823 | L39: 14 | M39: 52 | N39: 293 | O39: 141 | P39: 91 | Q39: 115 | R39: 70 | S39: 37 | T39: 9 | U39: 1 | V39: 823 | W39: 722 | X39: 31 | Y39: 1 | Z39: 33 | AA39: 2 | AB39: 3 | AC39: 5 | AD39: 8 | AE39: 12 | AF39: 6 | AG39: 87 | AH39: 0 | AI39: 2 | AJ39: 66 | AK39: 3 | AL39: 0 | AM39: 4 | AN39: 2 | AO39: 4 | AP39: 2 | AQ39: 4
C40: 其他 | D40: 0 | E40: 0 | F40: 0 | G40: 0 | H40: 0 | I40: 0 | J40: 0 | K40: 0 | L40: 0 | M40: 0 | N40: 0 | O40: 0 | P40: 0 | Q40: 0 | R40: 0 | S40: 0 | T40: 0 | U40: 0 | V40: 0 | W40: 0 | X40: 0 | Y40: 0 | Z40: 0 | AA40: 0 | AB40: 0 | AC40: 0 | AD40: 0 | AE40: 0 | AF40: 0 | AG40: 0 | AH40: 0 | AI40: 0 | AJ40: 0 | AK40: 0 | AL40: 0 | AM40: 0 | AN40: 0 | AO40: 0 | AP40: 0 | AQ40: 0
C41: 不詳 | D41: 0 | E41: 0 | F41: 0 | G41: 0 | H41: 0 | I41: 0 | J41: 0 | K41: 0 | L41: 0 | M41: 0 | N41: 0 | O41: 0 | P41: 0 | Q41: 0 | R41: 0 | S41: 0 | T41: 0 | U41: 0 | V41: 0 | W41: 0 | X41: 0 | Y41: 0 | Z41: 0 | AA41: 0 | AB41: 0 | AC41: 0 | AD41: 0 | AE41: 0 | AF41: 0 | AG41: 38 | AH41: 0 | AI41: 0 | AJ41: 0 | AK41: 0 | AL41: 0 | AM41: 0 | AN41: 0 | AO41: 0 | AP41: 1 | AQ41: 37
...

Sheet 113
A1: 5.2-02 性侵害事件通報被害及嫌疑人概況
A2: 民國113年
A4: 區域別 | C4: 性別 | D4: 性侵害被害人統計(人) | AG4: 性侵害嫌疑人年齡統計(人)
D5: 國籍、身分別 | K5: 年齡別 | V5: 身心障礙別 | AG5: 年齡別
D6: 合計 | E6: 本國籍 非原住民 | F6: 本國籍 原住民 | G6: 大陸及 港澳籍 | H6: 外國籍 | I6: 無國籍 | J6: 資料 不明 | K6: 合計 | L6: 0-未滿6歲 | M6: 6-未滿12歲 | N6: 12-未滿18歲 | O6: 18-未滿24歲 | P6: 24-未滿30歲 | Q6: 30-未滿40歲 | R6: 40-未滿50歲 | S6: 50-未滿65歲 | T6: 65歲 以上 | U6: 不詳 | V6: 合計 | W6: 非身心 障礙 | X6: 智障 | Y6: 視障 | Z6: 精神 病患 | AA6: 聲(語)障 | AB6: 聽障 | AC6: 肢障 | AD6: 多重 障礙 | AE6: 其他 障礙 | AF6: 不詳 | AG6: 合計 | AH6: 0-未滿6歲 | AI6: 6-未滿12歲 | AJ6: 12-未滿18歲 | AK6: 18-未滿24歲 | AL6: 24-未滿30歲 | AM6: 30-未滿40歲 | AN6: 40-未滿50歲 | AO6: 50-未滿65歲 | AP6: 65歲 以上 | AQ6: 不詳
A7: 113年, 2024 | C7: 計 | D7: 9230 | E7: 8138 | F7: 715 | G7: 33 | H7: 169 | I7: 0 | J7: 175 | K7: 9230 | L7: 268 | M7: 830 | N7: 3695 | O7: 1383 | P7: 970 | Q7: 1079 | R7: 631 | S7: 267 | T7: 76 | U7: 31 | V7: 9230 | W7: 8124 | X7: 399 | Y7: 12 | Z7: 312 | AA7: 12 | AB7: 29 | AC7: 37 | AD7: 98 | AE7: 109 | AF7: 98 | AG7: 8471 | AH7: 19 | AI7: 195 | AJ7: 1702 | AK7: 999 | AL7: 615 | AM7: 853 | AN7: 781 | AO7: 633 | AP7: 313 | AQ7: 2361
C8: 男 | D8: 1612 | E8: 1391 | F8: 164 | G8: 3 | H8: 11 | I8: 0 | J8: 43 | K8: 1612 | L8: 45 | M8: 263 | N8: 877 | O8: 157 | P8: 99 | Q8: 105 | R8: 37 | S8: 21 | T8: 5 | U8: 3 | V8: 1612 | W8: 1414 | X8: 78 | Y8: 2 | Z8: 34 | AA8: 3 | AB8: 5 | AC8: 8 | AD8: 24 | AE8: 34 | AF8: 10 | AG8: 7442 | AH8: 13 | AI8: 154 | AJ8: 1208 | AK8: 944 | AL8: 601 | AM8: 817 | AN8: 745 | AO8: 620 | AP8: 307 | AQ8: 2033
C9: 女 | D9: 7572 | E9: 6714 | F9: 547 | G9: 30 | H9: 157 | I9: 0 | J9: 124 | K9: 7572 | L9: 222 | M9: 564 | N9: 2787 | O9: 1224 | P9: 869 | Q9: 968 | R9: 594 | S9: 245 | T9: 71 | U9: 28 | V9: 7572 | W9: 6671 | X9: 320 | Y9: 10 | Z9: 277 | AA9: 9 | AB9: 24 | AC9: 29 | AD9: 72 | AE9: 74 | AF9: 86 | AG9: 790 | AH9: 6 | AI9: 41 | AJ9: 489 | AK9: 48 | AL9: 12 | AM9: 31 | AN9: 34 | AO9: 11 | AP9: 5 | AQ9: 113
C10: 其他 | D10: 6 | E10: 4 | F10: 0 | G10: 0 | H10: 1 | I10: 0 | J10: 1 | K10: 6 | L10: 0 | M10: 0 | N10: 1 | O10: 2 | P10: 0 | Q10: 2 | R10: 0 | S10: 1 | T10: 0 | U10: 0 | V10: 6 | W10: 4 | X10: 0 | Y10: 0 | Z10: 1 | AA10: 0 | AB10: 0 | AC10: 0 | AD10: 0 | AE10: 0 | AF10: 1 | AG10: 0 | AH10: 0 | AI10: 0 | AJ10: 0 | AK10: 0 | AL10: 0 | AM10: 0 | AN10: 0 | AO10: 0 | AP10: 0 | AQ10: 0
C11: 不詳 | D11: 40 | E11: 29 | F11: 4 | G11: 0 | H11: 0 | I11: 0 | J11: 7 | K11: 40 | L11: 1 | M11: 3 | N11: 30 | O11: 0 | P11: 2 | Q11: 4 | R11: 0 | S11: 0 | T11: 0 | U11: 0 | V11: 40 | W11: 35 | X11: 1 | Y11: 0 | Z11: 0 | AA11: 0 | AB11: 0 | AC11: 0 | AD11: 2 | AE11: 1 | AF11: 1 | AG11: 239 | AH11: 0 | AI11: 0 | AJ11: 5 | AK11: 7 | AL11: 2 | AM11: 5 | AN11: 2 | AO11: 2 | AP11: 1 | AQ11: 215
A12: 新北市 | C12: 計 | D12: 1716 | E12: 1568 | F12: 74 | G12: 0 | H12: 22 | I12: 0 | J12: 52 | K12: 1716 | L12: 53 | M12: 165 | N12: 741 | O12: 218 | P12: 201 | Q12: 183 | R12: 97 | S12: 36 | T12: 12 | U12: 10 | V12: 1716 | W12: 1515 | X12: 57 | Y12: 4 | Z12: 57 | AA12: 0 | AB12: 4 | AC12: 5 | AD12: 13 | AE12: 25 | AF12: 36 | AG12: 1650 | AH12: 4 | AI12: 30 | AJ12: 313 | AK12: 178 | AL12: 105 | AM12: 128 | AN12: 146 | AO12: 85 | AP12: 54 | AQ12: 607
C13: 男 | D13: 283 | E13: 261 | F13: 13 | G13: 0 | H13: 1 | I13: 0 | J13: 8 | K13: 283 | L13: 11 | M13: 42 | N13: 164 | O13: 19 | P13: 19 | Q13: 15 | R13: 6 | S13: 3 | T13: 2 | U13: 2 | V13: 283 | W13: 252 | X13: 9 | Y13: 2 | Z13: 7 | AA13: 0 | AB13: 0 | AC13: 1 | AD13: 2 | AE13: 7 | AF13: 3 | AG13: 1447 | AH13: 3 | AI13: 20 | AJ13: 228 | AK13: 170 | AL13: 101 | AM13: 125 | AN13: 140 | AO13: 85 | AP13: 51 | AQ13: 524
C14: 女 | D14: 1420 | E14: 1298 | F14: 61 | G14: 0 | H14: 21 | I14: 0 | J14: 40 | K14: 1420 | L14: 41 | M14: 122 | N14: 569 | O14: 199 | P14: 182 | Q14: 166 | R14: 91 | S14: 32 | T14: 10 | U14: 8 | V14: 1420 | W14: 1254 | X14: 47 | Y14: 2 | Z14: 49 | AA14: 0 | AB14: 4 | AC14: 4 | AD14: 9 | AE14: 18 | AF14: 33 | AG14: 160 | AH14: 1 | AI14: 10 | AJ14: 85 | AK14: 8 | AL14: 4 | AM14: 3 | AN14: 6 | AO14: 0 | AP14: 2 | AQ14: 41
C15: 其他 | D15: 2 | E15: 1 | F15: 0 | G15: 0 | H15: 0 | I15: 0 | J15: 1 | K15: 2 | L15: 0 | M15: 0 | N15: 0 | O15: 0 | P15: 0 | Q15: 1 | R15: 0 | S15: 1 | T15: 0 | U15: 0 | V15: 2 | W15: 1 | X15: 0 | Y15: 0 | Z15: 1 | AA15: 0 | AB15: 0 | AC15: 0 | AD15: 0 | AE15: 0 | AF15: 0 | AG15: 0 | AH15: 0 | AI15: 0 | AJ15: 0 | AK15: 0 | AL15: 0 | AM15: 0 | AN15: 0 | AO15: 0 | AP15: 0 | AQ15: 0
C16: 不詳 | D16: 11 | E16: 8 | F16: 0 | G16: 0 | H16: 0 | I16: 0 | J16: 3 | K16: 11 | L16: 1 | M16: 1 | N16: 8 | O16: 0 | P16: 0 | Q16: 1 | R16: 0 | S16: 0 | T16: 0 | U16: 0 | V16: 11 | W16: 8 | X16: 1 | Y16: 0 | Z16: 0 | AA16: 0 | AB16: 0 | AC16: 0 | AD16: 2 | AE16: 0 | AF16: 0 | AG16: 43 | AH16: 0 | AI16: 0 | AJ16: 0 | AK16: 0 | AL16: 0 | AM16: 0 | AN16: 0 | AO16: 0 | AP16: 1 | AQ16: 42
A17: 臺北市 | C17: 計 | D17: 938 | E17: 850 | F17: 16 | G17: 12 | H17: 35 | I17: 0 | J17: 25 | K17: 938 | L17: 33 | M17: 70 | N17: 225 | O17: 184 | P17: 146 | Q17: 163 | R17: 72 | S17: 34 | T17: 9 | U17: 2 | V17: 938 | W17: 815 | X17: 21 | Y17: 2 | Z17: 47 | AA17: 0 | AB17: 1 | AC17: 5 | AD17: 10 | AE17: 16 | AF17: 21 | AG17: 784 | AH17: 3 | AI17: 19 | AJ17: 112 | AK17: 56 | AL17: 55 | AM17: 80 | AN17: 61 | AO17: 67 | AP17: 31 | AQ17: 300
C18: 男 | D18: 132 | E18: 119 | F18: 2 | G18: 2 | H18: 3 | I18: 0 | J18: 6 | K18: 132 | L18: 5 | M18: 22 | N18: 52 | O18: 20 | P18: 13 | Q18: 14 | R18: 3 | S18: 2 | T18: 1 | U18: 0 | V18: 132 | W18: 113 | X18: 4 | Y18: 0 | Z18: 4 | AA18: 0 | AB18: 1 | AC18: 1 | AD18: 1 | AE18: 6 | AF18: 2 | AG18: 697 | AH18: 1 | AI18: 15 | AJ18: 91 | AK18: 53 | AL18: 53 | AM18: 70 | AN18: 56 | AO18: 62 | AP18: 30 | AQ18: 266
C19: 女 | D19: 800 | E19: 726 | F19: 14 | G19: 10 | H19: 31 | I19: 0 | J19: 19 | K19: 800 | L19: 28 | M19: 47 | N19: 171 | O19: 162 | P19: 132 | Q19: 149 | R19: 69 | S19: 32 | T19: 8 | U19: 2 | V19: 800 | W19: 698 | X19: 17 | Y19: 2 | Z19: 43 | AA19: 0 | AB19: 0 | AC19: 4 | AD19: 9 | AE19: 9 | AF19: 18 | AG19: 56 | AH19: 2 | AI19: 4 | AJ19: 20 | AK19: 1 | AL19: 2 | AM19: 7 | AN19: 4 | AO19: 5 | AP19: 1 | AQ19: 10
C20: 其他 | D20: 2 | E20: 1 | F20: 0 | G20: 0 | H20: 1 | I20: 0 | J20: 0 | K20: 2 | L20: 0 | M20: 0 | N20: 0 | O20: 2 | P20: 0 | Q20: 0 | R20: 0 | S20: 0 | T20: 0 | U20: 0 | V20: 2 | W20: 1 | X20: 0 | Y20: 0 | Z20: 0 | AA20: 0 | AB20: 0 | AC20: 0 | AD20: 0 | AE20: 0 | AF20: 1 | AG20: 0 | AH20: 0 | AI20: 0 | AJ20: 0 | AK20: 0 | AL20: 0 | AM20: 0 | AN20: 0 | AO20: 0 | AP20: 0 | AQ20: 0
C21: 不詳 | D21: 4 | E21: 4 | F21: 0 | G21: 0 | H21: 0 | I21: 0 | J21: 0 | K21: 4 | L21: 0 | M21: 1 | N21: 2 | O21: 0 | P21: 1 | Q21: 0 | R21: 0 | S21: 0 | T21: 0 | U21: 0 | V21: 4 | W21: 3 | X21: 0 | Y21: 0 | Z21: 0 | AA21: 0 | AB21: 0 | AC21: 0 | AD21: 0 | AE21: 1 | AF21: 0 | AG21: 31 | AH21: 0 | AI21: 0 | AJ21: 1 | AK21: 2 | AL21: 0 | AM21: 3 | AN21: 1 | AO21: 0 | AP21: 0 | AQ21: 24
A22: 桃園市 | C22: 計 | D22: 1071 | E22: 923 | F22: 115 | G22: 2 | H22: 31 | I22: 0 | J22: 0 | K22: 1071 | L22: 18 | M22: 84 | N22: 479 | O22: 155 | P22: 88 | Q22: 128 | R22: 87 | S22: 26 | T22: 4 | U22: 2 | V22: 1071 | W22: 965 | X22: 39 | Y22: 1 | Z22: 38 | AA22: 1 | AB22: 8 | AC22: 2 | AD22: 11 | AE22: 4 | AF22: 2 | AG22: 1066 | AH22: 2 | AI22: 25 | AJ22: 228 | AK22: 132 | AL22: 63 | AM22: 115 | AN22: 105 | AO22: 67 | AP22: 32 | AQ22: 297
C23: 男 | D23: 175 | E23: 151 | F23: 22 | G23: 0 | H23: 2 | I23: 0 | J23: 0 | K23: 175 | L23: 2 | M23: 23 | N23: 108 | O23: 18 | P23: 9 | Q23: 8 | R23: 6 | S23: 1 | T23: 0 | U23: 0 | V23: 175 | W23: 154 | X23: 12 | Y23: 0 | Z23: 2 | AA23: 0 | AB23: 1 | AC23: 1 | AD23: 3 | AE23: 1 | AF23: 1 | AG23: 921 | AH23: 1 | AI23: 18 | AJ23: 152 | AK23: 124 | AL23: 62 | AM23: 115 | AN23: 97 | AO23: 64 | AP23: 32 | AQ23: 256
C24: 女 | D24: 892 | E24: 769 | F24: 92 | G24: 2 | H24: 29 | I24: 0 | J24: 0 | K24: 892 | L24: 16 | M24: 61 | N24: 368 | O24: 137 | P24: 79 | Q24: 119 | R24: 81 | S24: 25 | T24: 4 | U24: 2 | V24: 892 | W24: 807 | X24: 27 | Y24: 1 | Z24: 36 | AA24: 1 | AB24: 7 | AC24: 1 | AD24: 8 | AE24: 3 | AF24: 1 | AG24: 114 | AH24: 1 | AI24: 7 | AJ24: 76 | AK24: 6 | AL24: 1 | AM24: 0 | AN24: 7 | AO24: 3 | AP24: 0 | AQ24: 13
C25: 其他 | D25: 0 | E25: 0 | F25: 0 | G25: 0 | H25: 0 | I25: 0 | J25: 0 | K25: 0 | L25: 0 | M25: 0 | N25: 0 | O25: 0 | P25: 0 | Q25: 0 | R25: 0 | S25: 0 | T25: 0 | U25: 0 | V25: 0 | W25: 0 | X25: 0 | Y25: 0 | Z25: 0 | AA25: 0 | AB25: 0 | AC25: 0 | AD25: 0 | AE25: 0 | AF25: 0 | AG25: 0 | AH25: 0 | AI25: 0 | AJ25: 0 | AK25: 0 | AL25: 0 | AM25: 0 | AN25: 0 | AO25: 0 | AP25: 0 | AQ25: 0
C26: 不詳 | D26: 4 | E26: 3 | F26: 1 | G26: 0 | H26: 0 | I26: 0 | J26: 0 | K26: 4 | L26: 0 | M26: 0 | N26: 3 | O26: 0 | P26: 0 | Q26: 1 | R26: 0 | S26: 0 | T26: 0 | U26: 0 | V26: 4 | W26: 4 | X26: 0 | Y26: 0 | Z26: 0 | AA26: 0 | AB26: 0 | AC26: 0 | AD26: 0 | AE26: 0 | AF26: 0 | AG26: 31 | AH26: 0 | AI26: 0 | AJ26: 0 | AK26: 2 | AL26: 0 | AM26: 0 | AN26: 1 | AO26: 0 | AP26: 0 | AQ26: 28
A27: 臺中市 | C27: 計 | D27: 1234 | E27: 1119 | F27: 52 | G27: 6 | H27: 18 | I27: 0 | J27: 39 | K27: 1234 | L27: 35 | M27: 96 | N27: 434 | O27: 205 | P27: 159 | Q27: 171 | R27: 86 | S27: 37 | T27: 7 | U27: 4 | V27: 1234 | W27: 1119 | X27: 30 | Y27: 0 | Z27: 37 | AA27: 3 | AB27: 6 | AC27: 4 | AD27: 10 | AE27: 17 | AF27: 8 | AG27: 1038 | AH27: 2 | AI27: 18 | AJ27: 191 | AK27: 113 | AL27: 89 | AM27: 131 | AN27: 103 | AO27: 78 | AP27: 32 | AQ27: 281
C28: 男 | D28: 235 | E28: 204 | F28: 14 | G28: 0 | H28: 1 | I28: 0 | J28: 16 | K28: 235 | L28: 3 | M28: 38 | N28: 122 | O28: 21 | P28: 21 | Q28: 23 | R28: 4 | S28: 3 | T28: 0 | U28: 0 | V28: 235 | W28: 211 | X28: 7 | Y28: 0 | Z28: 4 | AA28: 1 | AB28: 2 | AC28: 0 | AD28: 5 | AE28: 5 | AF28: 0 | AG28: 910 | AH28: 2 | AI28: 13 | AJ28: 137 | AK28: 109 | AL28: 89 | AM28: 125 | AN28: 98 | AO28: 78 | AP28: 31 | AQ28: 228
C29: 女 | D29: 990 | E29: 908 | F29: 38 | G29: 6 | H29: 17 | I29: 0 | J29: 21 | K29: 990 | L29: 32 | M29: 58 | N29: 304 | O29: 184 | P29: 138 | Q29: 147 | R29: 82 | S29: 34 | T29: 7 | U29: 4 | V29: 990 | W29: 899 | X29: 23 | Y29: 0 | Z29: 33 | AA29: 2 | AB29: 4 | AC29: 4 | AD29: 5 | AE29: 12 | AF29: 8 | AG29: 93 | AH29: 0 | AI29: 5 | AJ29: 52 | AK29: 3 | AL29: 0 | AM29: 6 | AN29: 5 | AO29: 0 | AP29: 1 | AQ29: 21
C30: 其他 | D30: 0 | E30: 0 | F30: 0 | G30: 0 | H30: 0 | I30: 0 | J30: 0 | K30: 0 | L30: 0 | M30: 0 | N30: 0 | O30: 0 | P30: 0 | Q30: 0 | R30: 0 | S30: 0 | T30: 0 | U30: 0 | V30: 0 | W30: 0 | X30: 0 | Y30: 0 | Z30: 0 | AA30: 0 | AB30: 0 | AC30: 0 | AD30: 0 | AE30: 0 | AF30: 0 | AG30: 0 | AH30: 0 | AI30: 0 | AJ30: 0 | AK30: 0 | AL30: 0 | AM30: 0 | AN30: 0 | AO30: 0 | AP30: 0 | AQ30: 0
C31: 不詳 | D31: 9 | E31: 7 | F31: 0 | G31: 0 | H31: 0 | I31: 0 | J31: 2 | K31: 9 | L31: 0 | M31: 0 | N31: 8 | O31: 0 | P31: 0 | Q31: 1 | R31: 0 | S31: 0 | T31: 0 | U31: 0 | V31: 9 | W31: 9 | X31: 0 | Y31: 0 | Z31: 0 | AA31: 0 | AB31: 0 | AC31: 0 | AD31: 0 | AE31: 0 | AF31: 0 | AG31: 35 | AH31: 0 | AI31: 0 | AJ31: 2 | AK31: 1 | AL31: 0 | AM31: 0 | AN31: 0 | AO31: 0 | AP31: 0 | AQ31: 32
A32: 臺南市 | C32: 計 | D32: 639 | E32: 613 | F32: 15 | G32: 1 | H32: 7 | I32: 0 | J32: 3 | K32: 639 | L32: 22 | M32: 55 | N32: 233 | O32: 103 | P32: 69 | Q32: 72 | R32: 53 | S32: 21 | T32: 10 | U32: 1 | V32: 639 | W32: 561 | X32: 31 | Y32: 1 | Z32: 20 | AA32: 0 | AB32: 1 | AC32: 0 | AD32: 10 | AE32: 10 | AF32: 5 | AG32: 597 | AH32: 0 | AI32: 15 | AJ32: 112 | AK32: 78 | AL32: 54 | AM32: 72 | AN32: 58 | AO32: 61 | AP32: 28 | AQ32: 119
C33: 男 | D33: 118 | E33: 114 | F33: 2 | G33: 1 | H33: 1 | I33: 0 | J33: 0 | K33: 118 | L33: 4 | M33: 18 | N33: 67 | O33: 11 | P33: 8 | Q33: 8 | R33: 2 | S33: 0 | T33: 0 | U33: 0 | V33: 118 | W33: 101 | X33: 7 | Y33: 0 | Z33: 3 | AA33: 0 | AB33: 0 | AC33: 0 | AD33: 2 | AE33: 4 | AF33: 1 | AG33: 532 | AH33: 0 | AI33: 15 | AJ33: 72 | AK33: 74 | AL33: 52 | AM33: 72 | AN33: 57 | AO33: 59 | AP33: 28 | AQ33: 103
C34: 女 | D34: 520 | E34: 499 | F34: 13 | G34: 0 | H34: 6 | I34: 0 | J34: 2 | K34: 520 | L34: 18 | M34: 37 | N34: 166 | O34: 92 | P34: 60 | Q34: 64 | R34: 51 | S34: 21 | T34: 10 | U34: 1 | V34: 520 | W34: 460 | X34: 24 | Y34: 1 | Z34: 17 | AA34: 0 | AB34: 1 | AC34: 0 | AD34: 8 | AE34: 6 | AF34: 3 | AG34: 55 | AH34: 0 | AI34: 0 | AJ34: 40 | AK34: 4 | AL34: 2 | AM34: 0 | AN34: 1 | AO34: 2 | AP34: 0 | AQ34: 6
C35: 其他 | D35: 0 | E35: 0 | F35: 0 | G35: 0 | H35: 0 | I35: 0 | J35: 0 | K35: 0 | L35: 0 | M35: 0 | N35: 0 | O35: 0 | P35: 0 | Q35: 0 | R35: 0 | S35: 0 | T35: 0 | U35: 0 | V35: 0 | W35: 0 | X35: 0 | Y35: 0 | Z35: 0 | AA35: 0 | AB35: 0 | AC35: 0 | AD35: 0 | AE35: 0 | AF35: 0 | AG35: 0 | AH35: 0 | AI35: 0 | AJ35: 0 | AK35: 0 | AL35: 0 | AM35: 0 | AN35: 0 | AO35: 0 | AP35: 0 | AQ35: 0
C36: 不詳 | D36: 1 | E36: 0 | F36: 0 | G36: 0 | H36: 0 | I36: 0 | J36: 1 | K36: 1 | L36: 0 | M36: 0 | N36: 0 | O36: 0 | P36: 1 | Q36: 0 | R36: 0 | S36: 0 | T36: 0 | U36: 0 | V36: 1 | W36: 0 | X36: 0 | Y36: 0 | Z36: 0 | AA36: 0 | AB36: 0 | AC36: 0 | AD36: 0 | AE36: 0 | AF36: 1 | AG36: 10 | AH36: 0 | AI36: 0 | AJ36: 0 | AK36: 0 | AL36: 0 | AM36: 0 | AN36: 0 | AO36: 0 | AP36: 0 | AQ36: 10
A37: 高雄市 | C37: 計 | D37: 983 | E37: 914 | F37: 49 | G37: 5 | H37: 15 | I37: 0 | J37: 0 | K37: 983 | L37: 40 | M37: 81 | N37: 367 | O37: 172 | P37: 94 | Q37: 111 | R37: 72 | S37: 34 | T37: 10 | U37: 2 | V37: 983 | W37: 870 | X37: 48 | Y37: 0 | Z37: 34 | AA37: 5 | AB37: 0 | AC37: 5 | AD37: 4 | AE37: 10 | AF37: 7 | AG37: 880 | AH37: 6 | AI37: 34 | AJ37: 175 | AK37: 110 | AL37: 77 | AM37: 99 | AN37: 81 | AO37: 82 | AP37: 29 | AQ37: 187
C38: 男 | D38: 163 | E38: 147 | F38: 14 | G38: 0 | H38: 2 | I38: 0 | J38: 0 | K38: 163 | L38: 6 | M38: 29 | N38: 82 | O38: 22 | P38: 7 | Q38: 11 | R38: 3 | S38: 3 | T38: 0 | U38: 0 | V38: 163 | W38: 145 | X38: 8 | Y38: 0 | Z38: 3 | AA38: 2 | AB38: 0 | AC38: 1 | AD38: 1 | AE38: 3 | AF38: 0 | AG38: 781 | AH38: 5 | AI38: 30 | AJ38: 121 | AK38: 104 | AL38: 77 | AM38: 93 | AN38: 78 | AO38: 82 | AP38: 29 | AQ38: 162
C39: 女 | D39: 819 | E39: 766 | F39: 35 | G39: 5 | H39: 13 | I39: 0 | J39: 0 | K39: 819 | L39: 34 | M39: 52 | N39: 285 | O39: 150 | P39: 87 | Q39: 99 | R39: 69 | S39: 31 | T39: 10 | U39: 2 | V39: 819 | W39: 724 | X39: 40 | Y39: 0 | Z39: 31 | AA39: 3 | AB39: 0 | AC39: 4 | AD39: 3 | AE39: 7 | AF39: 7 | AG39: 77 | AH39: 1 | AI39: 4 | AJ39: 54 | AK39: 5 | AL39: 0 | AM39: 5 | AN39: 3 | AO39: 0 | AP39: 0 | AQ39: 5
C40: 其他 | D40: 1 | E40: 1 | F40: 0 | G40: 0 | H40: 0 | I40: 0 | J40: 0 | K40: 1 | L40: 0 | M40: 0 | N40: 0 | O40: 0 | P40: 0 | Q40: 1 | R40: 0 | S40: 0 | T40: 0 | U40: 0 | V40: 1 | W40: 1 | X40: 0 | Y40: 0 | Z40: 0 | AA40: 0 | AB40: 0 | AC40: 0 | AD40: 0 | AE40: 0 | AF40: 0 | AG40: 0 | AH40: 0 | AI40: 0 | AJ40: 0 | AK40: 0 | AL40: 0 | AM40: 0 | AN40: 0 | AO40: 0 | AP40: 0 | AQ40: 0
C41: 不詳 | D41: 0 | E41: 0 | F41: 0 | G41: 0 | H41: 0 | I41: 0 | J41: 0 | K41: 0 | L41: 0 | M41: 0 | N41: 0 | O41: 0 | P41: 0 | Q41: 0 | R41: 0 | S41: 0 | T41: 0 | U41: 0 | V41: 0 | W41: 0 | X41: 0 | Y41: 0 | Z41: 0 | AA41: 0 | AB41: 0 | AC41: 0 | AD41: 0 | AE41: 0 | AF41: 0 | AG41: 22 | AH41: 0 | AI41: 0 | AJ41: 0 | AK41: 1 | AL41: 0 | AM41: 1 | AN41: 0 | AO41: 0 | AP41: 0 | AQ41: 20
...

Sheet 112
A1: 5.2-02 性侵害事件通報被害及嫌疑人概況
A2: 民國112年
A4: 區域別 | C4: 性別 | D4: 性侵害被害人統計(人) | AG4: 性侵害嫌疑人年齡統計(人)
D5: 國籍、身分別 | K5: 年齡別 | V5: 身心障礙別 | AG5: 年齡別
D6: 合計 | E6: 本國籍 非原住民 | F6: 本國籍 原住民 | G6: 大陸及 港澳籍 | H6: 外國籍 | I6: 無國籍 | J6: 資料 不明 | K6: 合計 | L6: 0-未滿6歲 | M6: 6-未滿12歲 | N6: 12-未滿18歲 | O6: 18-未滿24歲 | P6: 24-未滿30歲 | Q6: 30-未滿40歲 | R6: 40-未滿50歲 | S6: 50-未滿65歲 | T6: 65歲 以上 | U6: 不詳 | V6: 合計 | W6: 非身心 障礙 | X6: 智障 | Y6: 視障 | Z6: 精神 病患 | AA6: 聲(語)障 | AB6: 聽障 | AC6: 肢障 | AD6: 多重 障礙 | AE6: 其他 障礙 | AF6: 不詳 | AG6: 合計 | AH6: 0-未滿6歲 | AI6: 6-未滿12歲 | AJ6: 12-未滿18歲 | AK6: 18-未滿24歲 | AL6: 24-未滿30歲 | AM6: 30-未滿40歲 | AN6: 40-未滿50歲 | AO6: 50-未滿65歲 | AP6: 65歲 以上 | AQ6: 不詳
A7: 112年, 2023 | C7: 計 | D7: 9413 | E7: 8241 | F7: 813 | G7: 31 | H7: 119 | I7: 0 | J7: 209 | K7: 9413 | L7: 206 | M7: 767 | N7: 4182 | O7: 1323 | P7: 890 | Q7: 1039 | R7: 627 | S7: 256 | T7: 82 | U7: 41 | V7: 9413 | W7: 8301 | X7: 400 | Y7: 17 | Z7: 299 | AA7: 6 | AB7: 18 | AC7: 39 | AD7: 101 | AE7: 101 | AF7: 131 | AG7: 8731 | AH7: 27 | AI7: 168 | AJ7: 2080 | AK7: 1038 | AL7: 564 | AM7: 826 | AN7: 768 | AO7: 637 | AP7: 288 | AQ7: 2335
C8: 男 | D8: 1665 | E8: 1442 | F8: 176 | G8: 3 | H8: 10 | I8: 0 | J8: 34 | K8: 1665 | L8: 31 | M8: 230 | N8: 1032 | O8: 135 | P8: 83 | Q8: 86 | R8: 42 | S8: 15 | T8: 6 | U8: 5 | V8: 1665 | W8: 1500 | X8: 63 | Y8: 1 | Z8: 36 | AA8: 0 | AB8: 1 | AC8: 3 | AD8: 18 | AE8: 26 | AF8: 17 | AG8: 7600 | AH8: 21 | AI8: 137 | AJ8: 1435 | AK8: 990 | AL8: 555 | AM8: 798 | AN8: 732 | AO8: 621 | AP8: 285 | AQ8: 2026
C9: 女 | D9: 7698 | E9: 6774 | F9: 632 | G9: 27 | H9: 108 | I9: 0 | J9: 157 | K9: 7698 | L9: 175 | M9: 532 | N9: 3122 | O9: 1185 | P9: 804 | Q9: 948 | R9: 582 | S9: 241 | T9: 76 | U9: 33 | V9: 7698 | W9: 6766 | X9: 335 | Y9: 16 | Z9: 263 | AA9: 5 | AB9: 17 | AC9: 36 | AD9: 83 | AE9: 75 | AF9: 102 | AG9: 883 | AH9: 5 | AI9: 31 | AJ9: 634 | AK9: 45 | AL9: 9 | AM9: 24 | AN9: 35 | AO9: 15 | AP9: 3 | AQ9: 82
C10: 其他 | D10: 4 | E10: 4 | F10: 0 | G10: 0 | H10: 0 | I10: 0 | J10: 0 | K10: 4 | L10: 0 | M10: 1 | N10: 1 | O10: 2 | P10: 0 | Q10: 0 | R10: 0 | S10: 0 | T10: 0 | U10: 0 | V10: 4 | W10: 4 | X10: 0 | Y10: 0 | Z10: 0 | AA10: 0 | AB10: 0 | AC10: 0 | AD10: 0 | AE10: 0 | AF10: 0 | AG10: 0 | AH10: 0 | AI10: 0 | AJ10: 0 | AK10: 0 | AL10: 0 | AM10: 0 | AN10: 0 | AO10: 0 | AP10: 0 | AQ10: 0
C11: 不詳 | D11: 46 | E11: 21 | F11: 5 | G11: 1 | H11: 1 | I11: 0 | J11: 18 | K11: 46 | L11: 0 | M11: 4 | N11: 27 | O11: 1 | P11: 3 | Q11: 5 | R11: 3 | S11: 0 | T11: 0 | U11: 3 | V11: 46 | W11: 31 | X11: 2 | Y11: 0 | Z11: 0 | AA11: 1 | AB11: 0 | AC11: 0 | AD11: 0 | AE11: 0 | AF11: 12 | AG11: 248 | AH11: 1 | AI11: 0 | AJ11: 11 | AK11: 3 | AL11: 0 | AM11: 4 | AN11: 1 | AO11: 1 | AP11: 0 | AQ11: 227
A12: 新北市 | C12: 計 | D12: 1554 | E12: 1414 | F12: 53 | G12: 3 | H12: 21 | I12: 0 | J12: 63 | K12: 1554 | L12: 41 | M12: 129 | N12: 639 | O12: 245 | P12: 170 | Q12: 187 | R12: 85 | S12: 41 | T12: 9 | U12: 8 | V12: 1554 | W12: 1379 | X12: 45 | Y12: 2 | Z12: 57 | AA12: 1 | AB12: 6 | AC12: 3 | AD12: 9 | AE12: 21 | AF12: 31 | AG12: 1485 | AH12: 6 | AI12: 37 | AJ12: 329 | AK12: 136 | AL12: 100 | AM12: 131 | AN12: 111 | AO12: 89 | AP12: 31 | AQ12: 515
C13: 男 | D13: 251 | E13: 231 | F13: 9 | G13: 0 | H13: 1 | I13: 0 | J13: 10 | K13: 251 | L13: 8 | M13: 33 | N13: 161 | O13: 18 | P13: 10 | Q13: 17 | R13: 2 | S13: 1 | T13: 0 | U13: 1 | V13: 251 | W13: 231 | X13: 4 | Y13: 0 | Z13: 6 | AA13: 0 | AB13: 1 | AC13: 0 | AD13: 2 | AE13: 6 | AF13: 1 | AG13: 1293 | AH13: 5 | AI13: 28 | AJ13: 224 | AK13: 128 | AL13: 97 | AM13: 130 | AN13: 107 | AO13: 88 | AP13: 31 | AQ13: 455
C14: 女 | D14: 1294 | E14: 1177 | F14: 44 | G14: 3 | H14: 19 | I14: 0 | J14: 51 | K14: 1294 | L14: 33 | M14: 95 | N14: 474 | O14: 226 | P14: 159 | Q14: 169 | R14: 82 | S14: 40 | T14: 9 | U14: 7 | V14: 1294 | W14: 1142 | X14: 41 | Y14: 2 | Z14: 51 | AA14: 1 | AB14: 5 | AC14: 3 | AD14: 7 | AE14: 15 | AF14: 27 | AG14: 149 | AH14: 1 | AI14: 9 | AJ14: 104 | AK14: 7 | AL14: 3 | AM14: 1 | AN14: 3 | AO14: 0 | AP14: 0 | AQ14: 21
C15: 其他 | D15: 1 | E15: 1 | F15: 0 | G15: 0 | H15: 0 | I15: 0 | J15: 0 | K15: 1 | L15: 0 | M15: 0 | N15: 0 | O15: 1 | P15: 0 | Q15: 0 | R15: 0 | S15: 0 | T15: 0 | U15: 0 | V15: 1 | W15: 1 | X15: 0 | Y15: 0 | Z15: 0 | AA15: 0 | AB15: 0 | AC15: 0 | AD15: 0 | AE15: 0 | AF15: 0 | AG15: 0 | AH15: 0 | AI15: 0 | AJ15: 0 | AK15: 0 | AL15: 0 | AM15: 0 | AN15: 0 | AO15: 0 | AP15: 0 | AQ15: 0
C16: 不詳 | D16: 8 | E16: 5 | F16: 0 | G16: 0 | H16: 1 | I16: 0 | J16: 2 | K16: 8 | L16: 0 | M16: 1 | N16: 4 | O16: 0 | P16: 1 | Q16: 1 | R16: 1 | S16: 0 | T16: 0 | U16: 0 | V16: 8 | W16: 5 | X16: 0 | Y16: 0 | Z16: 0 | AA16: 0 | AB16: 0 | AC16: 0 | AD16: 0 | AE16: 0 | AF16: 3 | AG16: 43 | AH16: 0 | AI16: 0 | AJ16: 1 | AK16: 1 | AL16: 0 | AM16: 0 | AN16: 1 | AO16: 1 | AP16: 0 | AQ16: 39
A17: 臺北市 | C17: 計 | D17: 966 | E17: 885 | F17: 23 | G17: 4 | H17: 21 | I17: 0 | J17: 33 | K17: 966 | L17: 32 | M17: 63 | N17: 273 | O17: 163 | P17: 145 | Q17: 151 | R17: 74 | S17: 46 | T17: 12 | U17: 7 | V17: 966 | W17: 842 | X17: 22 | Y17: 5 | Z17: 39 | AA17: 0 | AB17: 1 | AC17: 5 | AD17: 13 | AE17: 13 | AF17: 26 | AG17: 795 | AH17: 2 | AI17: 18 | AJ17: 140 | AK17: 55 | AL17: 43 | AM17: 87 | AN17: 59 | AO17: 50 | AP17: 22 | AQ17: 319
C18: 男 | D18: 154 | E18: 146 | F18: 1 | G18: 0 | H18: 1 | I18: 0 | J18: 6 | K18: 154 | L18: 6 | M18: 29 | N18: 70 | O18: 16 | P18: 9 | Q18: 16 | R18: 2 | S18: 4 | T18: 1 | U18: 1 | V18: 154 | W18: 138 | X18: 3 | Y18: 1 | Z18: 3 | AA18: 0 | AB18: 0 | AC18: 1 | AD18: 1 | AE18: 4 | AF18: 3 | AG18: 709 | AH18: 1 | AI18: 12 | AJ18: 104 | AK18: 52 | AL18: 41 | AM18: 82 | AN18: 57 | AO18: 49 | AP18: 22 | AQ18: 289
C19: 女 | D19: 806 | E19: 737 | F19: 22 | G19: 4 | H19: 20 | I19: 0 | J19: 23 | K19: 806 | L19: 26 | M19: 33 | N19: 202 | O19: 147 | P19: 135 | Q19: 133 | R19: 71 | S19: 42 | T19: 11 | U19: 6 | V19: 806 | W19: 701 | X19: 19 | Y19: 4 | Z19: 36 | AA19: 0 | AB19: 1 | AC19: 4 | AD19: 12 | AE19: 9 | AF19: 20 | AG19: 71 | AH19: 1 | AI19: 6 | AJ19: 36 | AK19: 3 | AL19: 2 | AM19: 5 | AN19: 2 | AO19: 1 | AP19: 0 | AQ19: 15
C20: 其他 | D20: 1 | E20: 1 | F20: 0 | G20: 0 | H20: 0 | I20: 0 | J20: 0 | K20: 1 | L20: 0 | M20: 0 | N20: 1 | O20: 0 | P20: 0 | Q20: 0 | R20: 0 | S20: 0 | T20: 0 | U20: 0 | V20: 1 | W20: 1 | X20: 0 | Y20: 0 | Z20: 0 | AA20: 0 | AB20: 0 | AC20: 0 | AD20: 0 | AE20: 0 | AF20: 0 | AG20: 0 | AH20: 0 | AI20: 0 | AJ20: 0 | AK20: 0 | AL20: 0 | AM20: 0 | AN20: 0 | AO20: 0 | AP20: 0 | AQ20: 0
C21: 不詳 | D21: 5 | E21: 1 | F21: 0 | G21: 0 | H21: 0 | I21: 0 | J21: 4 | K21: 5 | L21: 0 | M21: 1 | N21: 0 | O21: 0 | P21: 1 | Q21: 2 | R21: 1 | S21: 0 | T21: 0 | U21: 0 | V21: 5 | W21: 2 | X21: 0 | Y21: 0 | Z21: 0 | AA21: 0 | AB21: 0 | AC21: 0 | AD21: 0 | AE21: 0 | AF21: 3 | AG21: 15 | AH21: 0 | AI21: 0 | AJ21: 0 | AK21: 0 | AL21: 0 | AM21: 0 | AN21: 0 | AO21: 0 | AP21: 0 | AQ21: 15
A22: 桃園市 | C22: 計 | D22: 1055 | E22: 918 | F22: 111 | G22: 2 | H22: 19 | I22: 0 | J22: 5 | K22: 1055 | L22: 19 | M22: 72 | N22: 526 | O22: 114 | P22: 108 | Q22: 102 | R22: 77 | S22: 30 | T22: 7 | U22: 0 | V22: 1055 | W22: 944 | X22: 44 | Y22: 0 | Z22: 29 | AA22: 0 | AB22: 0 | AC22: 3 | AD22: 19 | AE22: 6 | AF22: 10 | AG22: 1007 | AH22: 3 | AI22: 16 | AJ22: 223 | AK22: 129 | AL22: 52 | AM22: 99 | AN22: 97 | AO22: 74 | AP22: 29 | AQ22: 285
C23: 男 | D23: 170 | E23: 148 | F23: 19 | G23: 0 | H23: 3 | I23: 0 | J23: 0 | K23: 170 | L23: 4 | M23: 18 | N23: 111 | O23: 8 | P23: 12 | Q23: 9 | R23: 6 | S23: 1 | T23: 1 | U23: 0 | V23: 170 | W23: 155 | X23: 5 | Y23: 0 | Z23: 3 | AA23: 0 | AB23: 0 | AC23: 0 | AD23: 2 | AE23: 2 | AF23: 3 | AG23: 851 | AH23: 2 | AI23: 12 | AJ23: 154 | AK23: 122 | AL23: 51 | AM23: 95 | AN23: 89 | AO23: 71 | AP23: 28 | AQ23: 227
C24: 女 | D24: 883 | E24: 769 | F24: 92 | G24: 2 | H24: 16 | I24: 0 | J24: 4 | K24: 883 | L24: 15 | M24: 54 | N24: 414 | O24: 106 | P24: 96 | Q24: 92 | R24: 71 | S24: 29 | T24: 6 | U24: 0 | V24: 883 | W24: 787 | X24: 39 | Y24: 0 | Z24: 26 | AA24: 0 | AB24: 0 | AC24: 3 | AD24: 17 | AE24: 4 | AF24: 7 | AG24: 105 | AH24: 1 | AI24: 4 | AJ24: 68 | AK24: 6 | AL24: 1 | AM24: 3 | AN24: 8 | AO24: 3 | AP24: 1 | AQ24: 10
C25: 其他 | D25: 0 | E25: 0 | F25: 0 | G25: 0 | H25: 0 | I25: 0 | J25: 0 | K25: 0 | L25: 0 | M25: 0 | N25: 0 | O25: 0 | P25: 0 | Q25: 0 | R25: 0 | S25: 0 | T25: 0 | U25: 0 | V25: 0 | W25: 0 | X25: 0 | Y25: 0 | Z25: 0 | AA25: 0 | AB25: 0 | AC25: 0 | AD25: 0 | AE25: 0 | AF25: 0 | AG25: 0 | AH25: 0 | AI25: 0 | AJ25: 0 | AK25: 0 | AL25: 0 | AM25: 0 | AN25: 0 | AO25: 0 | AP25: 0 | AQ25: 0
C26: 不詳 | D26: 2 | E26: 1 | F26: 0 | G26: 0 | H26: 0 | I26: 0 | J26: 1 | K26: 2 | L26: 0 | M26: 0 | N26: 1 | O26: 0 | P26: 0 | Q26: 1 | R26: 0 | S26: 0 | T26: 0 | U26: 0 | V26: 2 | W26: 2 | X26: 0 | Y26: 0 | Z26: 0 | AA26: 0 | AB26: 0 | AC26: 0 | AD26: 0 | AE26: 0 | AF26: 0 | AG26: 51 | AH26: 0 | AI26: 0 | AJ26: 1 | AK26: 1 | AL26: 0 | AM26: 1 | AN26: 0 | AO26: 0 | AP26: 0 | AQ26: 48
A27: 臺中市 | C27: 計 | D27: 1249 | E27: 1131 | F27: 52 | G27: 7 | H27: 10 | I27: 0 | J27: 49 | K27: 1249 | L27: 30 | M27: 96 | N27: 533 | O27: 188 | P27: 116 | Q27: 151 | R27: 79 | S27: 39 | T27: 12 | U27: 5 | V27: 1249 | W27: 1128 | X27: 32 | Y27: 5 | Z27: 34 | AA27: 1 | AB27: 2 | AC27: 6 | AD27: 7 | AE27: 9 | AF27: 25 | AG27: 1083 | AH27: 6 | AI27: 17 | AJ27: 230 | AK27: 141 | AL27: 78 | AM27: 113 | AN27: 104 | AO27: 72 | AP27: 36 | AQ27: 286
C28: 男 | D28: 206 | E28: 188 | F28: 8 | G28: 1 | H28: 0 | I28: 0 | J28: 9 | K28: 206 | L28: 4 | M28: 33 | N28: 124 | O28: 14 | P28: 12 | Q28: 11 | R28: 5 | S28: 2 | T28: 1 | U28: 0 | V28: 206 | W28: 185 | X28: 4 | Y28: 0 | Z28: 8 | AA28: 0 | AB28: 0 | AC28: 0 | AD28: 2 | AE28: 1 | AF28: 6 | AG28: 963 | AH28: 5 | AI28: 16 | AJ28: 164 | AK28: 138 | AL28: 76 | AM28: 110 | AN28: 101 | AO28: 71 | AP28: 35 | AQ28: 247
C29: 女 | D29: 1030 | E29: 938 | F29: 44 | G29: 5 | H29: 10 | I29: 0 | J29: 33 | K29: 1030 | L29: 26 | M29: 63 | N29: 398 | O29: 174 | P29: 103 | Q29: 140 | R29: 74 | S29: 37 | T29: 11 | U29: 4 | V29: 1030 | W29: 933 | X29: 28 | Y29: 5 | Z29: 26 | AA29: 1 | AB29: 2 | AC29: 6 | AD29: 5 | AE29: 8 | AF29: 16 | AG29: 90 | AH29: 1 | AI29: 1 | AJ29: 62 | AK29: 3 | AL29: 2 | AM29: 2 | AN29: 3 | AO29: 1 | AP29: 1 | AQ29: 14
C30: 其他 | D30: 0 | E30: 0 | F30: 0 | G30: 0 | H30: 0 | I30: 0 | J30: 0 | K30: 0 | L30: 0 | M30: 0 | N30: 0 | O30: 0 | P30: 0 | Q30: 0 | R30: 0 | S30: 0 | T30: 0 | U30: 0 | V30: 0 | W30: 0 | X30: 0 | Y30: 0 | Z30: 0 | AA30: 0 | AB30: 0 | AC30: 0 | AD30: 0 | AE30: 0 | AF30: 0 | AG30: 0 | AH30: 0 | AI30: 0 | AJ30: 0 | AK30: 0 | AL30: 0 | AM30: 0 | AN30: 0 | AO30: 0 | AP30: 0 | AQ30: 0
C31: 不詳 | D31: 13 | E31: 5 | F31: 0 | G31: 1 | H31: 0 | I31: 0 | J31: 7 | K31: 13 | L31: 0 | M31: 0 | N31: 11 | O31: 0 | P31: 1 | Q31: 0 | R31: 0 | S31: 0 | T31: 0 | U31: 1 | V31: 13 | W31: 10 | X31: 0 | Y31: 0 | Z31: 0 | AA31: 0 | AB31: 0 | AC31: 0 | AD31: 0 | AE31: 0 | AF31: 3 | AG31: 30 | AH31: 0 | AI31: 0 | AJ31: 4 | AK31: 0 | AL31: 0 | AM31: 1 | AN31: 0 | AO31: 0 | AP31: 0 | AQ31: 25
A32: 臺南市 | C32: 計 | D32: 686 | E32: 643 | F32: 28 | G32: 2 | H32: 9 | I32: 0 | J32: 4 | K32: 686 | L32: 10 | M32: 49 | N32: 273 | O32: 114 | P32: 80 | Q32: 81 | R32: 56 | S32: 16 | T32: 6 | U32: 1 | V32: 686 | W32: 612 | X32: 33 | Y32: 1 | Z32: 12 | AA32: 1 | AB32: 3 | AC32: 3 | AD32: 7 | AE32: 10 | AF32: 4 | AG32: 663 | AH32: 3 | AI32: 8 | AJ32: 149 | AK32: 81 | AL32: 48 | AM32: 75 | AN32: 63 | AO32: 58 | AP32: 22 | AQ32: 156
C33: 男 | D33: 115 | E33: 105 | F33: 9 | G33: 1 | H33: 0 | I33: 0 | J33: 0 | K33: 115 | L33: 3 | M33: 8 | N33: 63 | O33: 17 | P33: 10 | Q33: 6 | R33: 6 | S33: 1 | T33: 1 | U33: 0 | V33: 115 | W33: 108 | X33: 5 | Y33: 0 | Z33: 1 | AA33: 0 | AB33: 0 | AC33: 0 | AD33: 0 | AE33: 1 | AF33: 0 | AG33: 588 | AH33: 2 | AI33: 6 | AJ33: 102 | AK33: 77 | AL33: 48 | AM33: 74 | AN33: 60 | AO33: 56 | AP33: 22 | AQ33: 141
C34: 女 | D34: 569 | E34: 537 | F34: 19 | G34: 1 | H34: 9 | I34: 0 | J34: 3 | K34: 569 | L34: 7 | M34: 41 | N34: 210 | O34: 96 | P34: 70 | Q34: 74 | R34: 50 | S34: 15 | T34: 5 | U34: 1 | V34: 569 | W34: 504 | X34: 28 | Y34: 1 | Z34: 11 | AA34: 0 | AB34: 3 | AC34: 3 | AD34: 7 | AE34: 9 | AF34: 3 | AG34: 67 | AH34: 1 | AI34: 2 | AJ34: 47 | AK34: 4 | AL34: 0 | AM34: 1 | AN34: 3 | AO34: 2 | AP34: 0 | AQ34: 7
C35: 其他 | D35: 0 | E35: 0 | F35: 0 | G35: 0 | H35: 0 | I35: 0 | J35: 0 | K35: 0 | L35: 0 | M35: 0 | N35: 0 | O35: 0 | P35: 0 | Q35: 0 | R35: 0 | S35: 0 | T35: 0 | U35: 0 | V35: 0 | W35: 0 | X35: 0 | Y35: 0 | Z35: 0 | AA35: 0 | AB35: 0 | AC35: 0 | AD35: 0 | AE35: 0 | AF35: 0 | AG35: 0 | AH35: 0 | AI35: 0 | AJ35: 0 | AK35: 0 | AL35: 0 | AM35: 0 | AN35: 0 | AO35: 0 | AP35: 0 | AQ35: 0
C36: 不詳 | D36: 2 | E36: 1 | F36: 0 | G36: 0 | H36: 0 | I36: 0 | J36: 1 | K36: 2 | L36: 0 | M36: 0 | N36: 0 | O36: 1 | P36: 0 | Q36: 1 | R36: 0 | S36: 0 | T36: 0 | U36: 0 | V36: 2 | W36: 0 | X36: 0 | Y36: 0 | Z36: 0 | AA36: 1 | AB36: 0 | AC36: 0 | AD36: 0 | AE36: 0 | AF36: 1 | AG36: 8 | AH36: 0 | AI36: 0 | AJ36: 0 | AK36: 0 | AL36: 0 | AM36: 0 | AN36: 0 | AO36: 0 | AP36: 0 | AQ36: 8
A37: 高雄市 | C37: 計 | D37: 970 | E37: 895 | F37: 59 | G37: 5 | H37: 10 | I37: 0 | J37: 1 | K37: 970 | L37: 12 | M37: 74 | N37: 436 | O37: 156 | P37: 89 | Q37: 101 | R37: 68 | S37: 27 | T37: 5 | U37: 2 | V37: 970 | W37: 846 | X37: 51 | Y37: 2 | Z37: 34 | AA37: 1 | AB37: 1 | AC37: 6 | AD37: 11 | AE37: 11 | AF37: 7 | AG37: 940 | AH37: 1 | AI37: 15 | AJ37: 224 | AK37: 125 | AL37: 77 | AM37: 82 | AN37: 89 | AO37: 82 | AP37: 41 | AQ37: 204
C38: 男 | D38: 181 | E38: 164 | F38: 15 | G38: 0 | H38: 1 | I38: 0 | J38: 1 | K38: 181 | L38: 0 | M38: 26 | N38: 110 | O38: 27 | P38: 9 | Q38: 3 | R38: 4 | S38: 2 | T38: 0 | U38: 0 | V38: 181 | W38: 165 | X38: 10 | Y38: 0 | Z38: 2 | AA38: 0 | AB38: 0 | AC38: 1 | AD38: 1 | AE38: 2 | AF38: 0 | AG38: 816 | AH38: 1 | AI38: 14 | AJ38: 145 | AK38: 118 | AL38: 77 | AM38: 80 | AN38: 86 | AO38: 80 | AP38: 41 | AQ38: 174
C39: 女 | D39: 787 | E39: 729 | F39: 44 | G39: 5 | H39: 9 | I39: 0 | J39: 0 | K39: 787 | L39: 12 | M39: 47 | N39: 326 | O39: 128 | P39: 80 | Q39: 98 | R39: 64 | S39: 25 | T39: 5 | U39: 2 | V39: 787 | W39: 679 | X39: 41 | Y39: 2 | Z39: 32 | AA39: 1 | AB39: 1 | AC39: 5 | AD39: 10 | AE39: 9 | AF39: 7 | AG39: 96 | AH39: 0 | AI39: 1 | AJ39: 79 | AK39: 7 | AL39: 0 | AM39: 2 | AN39: 3 | AO39: 2 | AP39: 0 | AQ39: 2
C40: 其他 | D40: 2 | E40: 2 | F40: 0 | G40: 0 | H40: 0 | I40: 0 | J40: 0 | K40: 2 | L40: 0 | M40: 1 | N40: 0 | O40: 1 | P40: 0 | Q40: 0 | R40: 0 | S40: 0 | T40: 0 | U40: 0 | V40: 2 | W40: 2 | X40: 0 | Y40: 0 | Z40: 0 | AA40: 0 | AB40: 0 | AC40: 0 | AD40: 0 | AE40: 0 | AF40: 0 | AG40: 0 | AH40: 0 | AI40: 0 | AJ40: 0 | AK40: 0 | AL40: 0 | AM40: 0 | AN40: 0 | AO40: 0 | AP40: 0 | AQ40: 0
C41: 不詳 | D41: 0 | E41: 0 | F41: 0 | G41: 0 | H41: 0 | I41: 0 | J41: 0 | K41: 0 | L41: 0 | M41: 0 | N41: 0 | O41: 0 | P41: 0 | Q41: 0 | R41: 0 | S41: 0 | T41: 0 | U41: 0 | V41: 0 | W41: 0 | X41: 0 | Y41: 0 | Z41: 0 | AA41: 0 | AB41: 0 | AC41: 0 | AD41: 0 | AE41: 0 | AF41: 0 | AG41: 28 | AH41: 0 | AI41: 0 | AJ41: 0 | AK41: 0 | AL41: 0 | AM41: 0 | AN41: 0 | AO41: 0 | AP41: 0 | AQ41: 28
...

Sheet 111
A1: 5.2-02 性侵害事件通報被害及嫌疑人概況
A2: 民國111年
A4: 區域別 | C4: 性別 | D4: 性侵害被害人統計(人) | AG4: 性侵害嫌疑人年齡統計(人)
D5: 國籍、身分別 | K5: 年齡別 | V5: 身心障礙別 | AG5: 年齡別
D6: 合計 | E6: 本國籍 非原住民 | F6: 本國籍 原住民 | G6: 大陸及 港澳籍 | H6: 外國籍 | I6: 無國籍 | J6: 資料 不明 | K6: 合計 | L6: 0-未滿6歲 | M6: 6-未滿12歲 | N6: 12-未滿18歲 | O6: 18-未滿24歲 | P6: 24-未滿30歲 | Q6: 30-未滿40歲 | R6: 40-未滿50歲 | S6: 50-未滿65歲 | T6: 65歲 以上 | U6: 不詳 | V6: 合計 | W6: 非身心 障礙 | X6: 智障 | Y6: 視障 | Z6: 精神 病患 | AA6: 聲(語)障 | AB6: 聽障 | AC6: 肢障 | AD6: 多重 障礙 | AE6: 其他 障礙 | AF6: 不詳 | AG6: 合計 | AH6: 0-未滿6歲 | AI6: 6-未滿12歲 | AJ6: 12-未滿18歲 | AK6: 18-未滿24歲 | AL6: 24-未滿30歲 | AM6: 30-未滿40歲 | AN6: 40-未滿50歲 | AO6: 50-未滿65歲 | AP6: 65歲 以上 | AQ6: 不詳
A7: 111年, 2022 | C7: 計 | D7: 8401 | E7: 7355 | F7: 765 | G7: 29 | H7: 109 | I7: 2 | J7: 141 | K7: 8401 | L7: 203 | M7: 608 | N7: 3998 | O7: 1216 | P7: 763 | Q7: 831 | R7: 489 | S7: 218 | T7: 50 | U7: 25 | V7: 8401 | W7: 7402 | X7: 364 | Y7: 8 | Z7: 265 | AA7: 5 | AB7: 24 | AC7: 32 | AD7: 64 | AE7: 98 | AF7: 139 | AG7: 7865 | AH7: 11 | AI7: 168 | AJ7: 1953 | AK7: 1000 | AL7: 545 | AM7: 719 | AN7: 658 | AO7: 537 | AP7: 209 | AQ7: 2065
C8: 男 | D8: 1383 | E8: 1173 | F8: 173 | G8: 1 | H8: 9 | I8: 0 | J8: 27 | K8: 1383 | L8: 35 | M8: 157 | N8: 950 | O8: 93 | P8: 53 | Q8: 53 | R8: 20 | S8: 16 | T8: 5 | U8: 1 | V8: 1383 | W8: 1214 | X8: 66 | Y8: 1 | Z8: 26 | AA8: 1 | AB8: 4 | AC8: 5 | AD8: 13 | AE8: 26 | AF8: 27 | AG8: 6874 | AH8: 6 | AI8: 127 | AJ8: 1398 | AK8: 949 | AL8: 536 | AM8: 693 | AN8: 636 | AO8: 525 | AP8: 206 | AQ8: 1798
C9: 女 | D9: 6982 | E9: 6159 | F9: 586 | G9: 28 | H9: 100 | I9: 2 | J9: 107 | K9: 6982 | L9: 167 | M9: 450 | N9: 3023 | O9: 1119 | P9: 709 | Q9: 776 | R9: 469 | S9: 202 | T9: 45 | U9: 22 | V9: 6982 | W9: 6162 | X9: 298 | Y9: 7 | Z9: 238 | AA9: 4 | AB9: 20 | AC9: 27 | AD9: 50 | AE9: 71 | AF9: 105 | AG9: 783 | AH9: 5 | AI9: 40 | AJ9: 544 | AK9: 46 | AL9: 8 | AM9: 26 | AN9: 22 | AO9: 11 | AP9: 3 | AQ9: 78
C10: 其他 | D10: 0 | E10: 0 | F10: 0 | G10: 0 | H10: 0 | I10: 0 | J10: 0 | K10: 0 | L10: 0 | M10: 0 | N10: 0 | O10: 0 | P10: 0 | Q10: 0 | R10: 0 | S10: 0 | T10: 0 | U10: 0 | V10: 0 | W10: 0 | X10: 0 | Y10: 0 | Z10: 0 | AA10: 0 | AB10: 0 | AC10: 0 | AD10: 0 | AE10: 0 | AF10: 0 | AG10: 0 | AH10: 0 | AI10: 0 | AJ10: 0 | AK10: 0 | AL10: 0 | AM10: 0 | AN10: 0 | AO10: 0 | AP10: 0 | AQ10: 0
C11: 不詳 | D11: 36 | E11: 23 | F11: 6 | G11: 0 | H11: 0 | I11: 0 | J11: 7 | K11: 36 | L11: 1 | M11: 1 | N11: 25 | O11: 4 | P11: 1 | Q11: 2 | R11: 0 | S11: 0 | T11: 0 | U11: 2 | V11: 36 | W11: 26 | X11: 0 | Y11: 0 | Z11: 1 | AA11: 0 | AB11: 0 | AC11: 0 | AD11: 1 | AE11: 1 | AF11: 7 | AG11: 208 | AH11: 0 | AI11: 1 | AJ11: 11 | AK11: 5 | AL11: 1 | AM11: 0 | AN11: 0 | AO11: 1 | AP11: 0 | AQ11: 189
A12: 新北市 | C12: 計 | D12: 1478 | E12: 1332 | F12: 70 | G12: 6 | H12: 16 | I12: 2 | J12: 52 | K12: 1478 | L12: 49 | M12: 102 | N12: 686 | O12: 238 | P12: 140 | Q12: 146 | R12: 69 | S12: 33 | T12: 8 | U12: 7 | V12: 1478 | W12: 1303 | X12: 58 | Y12: 1 | Z12: 36 | AA12: 1 | AB12: 3 | AC12: 1 | AD12: 11 | AE12: 18 | AF12: 46 | AG12: 1392 | AH12: 0 | AI12: 36 | AJ12: 338 | AK12: 139 | AL12: 97 | AM12: 91 | AN12: 101 | AO12: 83 | AP12: 30 | AQ12: 477
C13: 男 | D13: 229 | E13: 206 | F13: 15 | G13: 0 | H13: 2 | I13: 0 | J13: 6 | K13: 229 | L13: 11 | M13: 29 | N13: 147 | O13: 20 | P13: 9 | Q13: 7 | R13: 2 | S13: 1 | T13: 2 | U13: 1 | V13: 229 | W13: 199 | X13: 6 | Y13: 1 | Z13: 3 | AA13: 1 | AB13: 1 | AC13: 0 | AD13: 4 | AE13: 7 | AF13: 7 | AG13: 1225 | AH13: 0 | AI13: 24 | AJ13: 245 | AK13: 133 | AL13: 96 | AM13: 87 | AN13: 97 | AO13: 77 | AP13: 30 | AQ13: 436
C14: 女 | D14: 1238 | E14: 1118 | F14: 55 | G14: 6 | H14: 14 | I14: 2 | J14: 43 | K14: 1238 | L14: 38 | M14: 73 | N14: 528 | O14: 218 | P14: 131 | Q14: 139 | R14: 67 | S14: 32 | T14: 6 | U14: 6 | V14: 1238 | W14: 1095 | X14: 52 | Y14: 0 | Z14: 33 | AA14: 0 | AB14: 2 | AC14: 1 | AD14: 7 | AE14: 11 | AF14: 37 | AG14: 131 | AH14: 0 | AI14: 11 | AJ14: 90 | AK14: 5 | AL14: 1 | AM14: 4 | AN14: 4 | AO14: 6 | AP14: 0 | AQ14: 10
C15: 其他 | D15: 0 | E15: 0 | F15: 0 | G15: 0 | H15: 0 | I15: 0 | J15: 0 | K15: 0 | L15: 0 | M15: 0 | N15: 0 | O15: 0 | P15: 0 | Q15: 0 | R15: 0 | S15: 0 | T15: 0 | U15: 0 | V15: 0 | W15: 0 | X15: 0 | Y15: 0 | Z15: 0 | AA15: 0 | AB15: 0 | AC15: 0 | AD15: 0 | AE15: 0 | AF15: 0 | AG15: 0 | AH15: 0 | AI15: 0 | AJ15: 0 | AK15: 0 | AL15: 0 | AM15: 0 | AN15: 0 | AO15: 0 | AP15: 0 | AQ15: 0
C16: 不詳 | D16: 11 | E16: 8 | F16: 0 | G16: 0 | H16: 0 | I16: 0 | J16: 3 | K16: 11 | L16: 0 | M16: 0 | N16: 11 | O16: 0 | P16: 0 | Q16: 0 | R16: 0 | S16: 0 | T16: 0 | U16: 0 | V16: 11 | W16: 9 | X16: 0 | Y16: 0 | Z16: 0 | AA16: 0 | AB16: 0 | AC16: 0 | AD16: 0 | AE16: 0 | AF16: 2 | AG16: 36 | AH16: 0 | AI16: 1 | AJ16: 3 | AK16: 1 | AL16: 0 | AM16: 0 | AN16: 0 | AO16: 0 | AP16: 0 | AQ16: 31
A17: 臺北市 | C17: 計 | D17: 767 | E17: 717 | F17: 11 | G17: 3 | H17: 19 | I17: 0 | J17: 17 | K17: 767 | L17: 19 | M17: 56 | N17: 196 | O17: 176 | P17: 121 | Q17: 97 | R17: 58 | S17: 25 | T17: 12 | U17: 7 | V17: 767 | W17: 678 | X17: 15 | Y17: 1 | Z17: 28 | AA17: 0 | AB17: 1 | AC17: 8 | AD17: 4 | AE17: 10 | AF17: 22 | AG17: 634 | AH17: 3 | AI17: 20 | AJ17: 83 | AK17: 53 | AL17: 49 | AM17: 69 | AN17: 48 | AO17: 60 | AP17: 12 | AQ17: 237
C18: 男 | D18: 101 | E18: 93 | F18: 2 | G18: 0 | H18: 2 | I18: 0 | J18: 4 | K18: 101 | L18: 2 | M18: 18 | N18: 44 | O18: 18 | P18: 8 | Q18: 6 | R18: 3 | S18: 2 | T18: 0 | U18: 0 | V18: 101 | W18: 84 | X18: 7 | Y18: 0 | Z18: 3 | AA18: 0 | AB18: 0 | AC18: 1 | AD18: 0 | AE18: 2 | AF18: 4 | AG18: 574 | AH18: 1 | AI18: 15 | AJ18: 64 | AK18: 51 | AL18: 49 | AM18: 66 | AN18: 44 | AO18: 59 | AP18: 12 | AQ18: 213
C19: 女 | D19: 665 | E19: 624 | F19: 9 | G19: 3 | H19: 17 | I19: 0 | J19: 12 | K19: 665 | L19: 17 | M19: 38 | N19: 152 | O19: 158 | P19: 113 | Q19: 91 | R19: 55 | S19: 23 | T19: 12 | U19: 6 | V19: 665 | W19: 594 | X19: 8 | Y19: 1 | Z19: 25 | AA19: 0 | AB19: 1 | AC19: 7 | AD19: 4 | AE19: 8 | AF19: 17 | AG19: 41 | AH19: 2 | AI19: 5 | AJ19: 19 | AK19: 0 | AL19: 0 | AM19: 3 | AN19: 4 | AO19: 1 | AP19: 0 | AQ19: 7
C20: 其他 | D20: 0 | E20: 0 | F20: 0 | G20: 0 | H20: 0 | I20: 0 | J20: 0 | K20: 0 | L20: 0 | M20: 0 | N20: 0 | O20: 0 | P20: 0 | Q20: 0 | R20: 0 | S20: 0 | T20: 0 | U20: 0 | V20: 0 | W20: 0 | X20: 0 | Y20: 0 | Z20: 0 | AA20: 0 | AB20: 0 | AC20: 0 | AD20: 0 | AE20: 0 | AF20: 0 | AG20: 0 | AH20: 0 | AI20: 0 | AJ20: 0 | AK20: 0 | AL20: 0 | AM20: 0 | AN20: 0 | AO20: 0 | AP20: 0 | AQ20: 0
C21: 不詳 | D21: 1 | E21: 0 | F21: 0 | G21: 0 | H21: 0 | I21: 0 | J21: 1 | K21: 1 | L21: 0 | M21: 0 | N21: 0 | O21: 0 | P21: 0 | Q21: 0 | R21: 0 | S21: 0 | T21: 0 | U21: 1 | V21: 1 | W21: 0 | X21: 0 | Y21: 0 | Z21: 0 | AA21: 0 | AB21: 0 | AC21: 0 | AD21: 0 | AE21: 0 | AF21: 1 | AG21: 19 | AH21: 0 | AI21: 0 | AJ21: 0 | AK21: 2 | AL21: 0 | AM21: 0 | AN21: 0 | AO21: 0 | AP21: 0 | AQ21: 17
A22: 桃園市 | C22: 計 | D22: 1051 | E22: 914 | F22: 119 | G22: 3 | H22: 12 | I22: 0 | J22: 3 | K22: 1051 | L22: 15 | M22: 66 | N22: 552 | O22: 121 | P22: 90 | Q22: 110 | R22: 65 | S22: 27 | T22: 4 | U22: 1 | V22: 1051 | W22: 943 | X22: 52 | Y22: 1 | Z22: 23 | AA22: 0 | AB22: 5 | AC22: 1 | AD22: 8 | AE22: 9 | AF22: 9 | AG22: 955 | AH22: 2 | AI22: 27 | AJ22: 247 | AK22: 116 | AL22: 55 | AM22: 92 | AN22: 71 | AO22: 68 | AP22: 27 | AQ22: 250
C23: 男 | D23: 164 | E23: 149 | F23: 15 | G23: 0 | H23: 0 | I23: 0 | J23: 0 | K23: 164 | L23: 2 | M23: 13 | N23: 129 | O23: 5 | P23: 6 | Q23: 8 | R23: 1 | S23: 0 | T23: 0 | U23: 0 | V23: 164 | W23: 150 | X23: 5 | Y23: 0 | Z23: 2 | AA23: 0 | AB23: 0 | AC23: 1 | AD23: 1 | AE23: 2 | AF23: 3 | AG23: 816 | AH23: 0 | AI23: 19 | AJ23: 173 | AK23: 113 | AL23: 55 | AM23: 89 | AN23: 69 | AO23: 67 | AP23: 26 | AQ23: 205
C24: 女 | D24: 887 | E24: 765 | F24: 104 | G24: 3 | H24: 12 | I24: 0 | J24: 3 | K24: 887 | L24: 13 | M24: 53 | N24: 423 | O24: 116 | P24: 84 | Q24: 102 | R24: 64 | S24: 27 | T24: 4 | U24: 1 | V24: 887 | W24: 793 | X24: 47 | Y24: 1 | Z24: 21 | AA24: 0 | AB24: 5 | AC24: 0 | AD24: 7 | AE24: 7 | AF24: 6 | AG24: 104 | AH24: 2 | AI24: 8 | AJ24: 72 | AK24: 3 | AL24: 0 | AM24: 3 | AN24: 2 | AO24: 1 | AP24: 1 | AQ24: 12
C25: 其他 | D25: 0 | E25: 0 | F25: 0 | G25: 0 | H25: 0 | I25: 0 | J25: 0 | K25: 0 | L25: 0 | M25: 0 | N25: 0 | O25: 0 | P25: 0 | Q25: 0 | R25: 0 | S25: 0 | T25: 0 | U25: 0 | V25: 0 | W25: 0 | X25: 0 | Y25: 0 | Z25: 0 | AA25: 0 | AB25: 0 | AC25: 0 | AD25: 0 | AE25: 0 | AF25: 0 | AG25: 0 | AH25: 0 | AI25: 0 | AJ25: 0 | AK25: 0 | AL25: 0 | AM25: 0 | AN25: 0 | AO25: 0 | AP25: 0 | AQ25: 0
C26: 不詳 | D26: 0 | E26: 0 | F26: 0 | G26: 0 | H26: 0 | I26: 0 | J26: 0 | K26: 0 | L26: 0 | M26: 0 | N26: 0 | O26: 0 | P26: 0 | Q26: 0 | R26: 0 | S26: 0 | T26: 0 | U26: 0 | V26: 0 | W26: 0 | X26: 0 | Y26: 0 | Z26: 0 | AA26: 0 | AB26: 0 | AC26: 0 | AD26: 0 | AE26: 0 | AF26: 0 | AG26: 35 | AH26: 0 | AI26: 0 | AJ26: 2 | AK26: 0 | AL26: 0 | AM26: 0 | AN26: 0 | AO26: 0 | AP26: 0 | AQ26: 33
