Workbook
Name pp: '100'!$B$1:$O$15
Name pp: '101'!$B$1:$O$15
Name pp: '102'!$B$1:$O$15
Name pp: '103'!$B$1:$O$15
Name pp: '104'!$B$1:$O$15
Name pp: '105'!$B$1:$O$15
Name pp: '106'!$B$1:$O$15
Name pp: '107'!$B$1:$O$15
Name pp: #REF!
Name pp: #REF!
Name pp: #REF!
Name pp: '94'!$B$1:$O$11
Name pp: '94~107'!$B$1:$AA$11
Name pp: '95'!$B$1:$O$11
Name pp: '96'!$B$1:$O$11
Name pp: '97'!$B$1:$O$11
Name pp: '98'!$B$1:$O$11
Name pp: '99'!$B$1:$O$11
Name pp: #REF!

Sheet 歷年(110~)
A1: 5.2-01 性侵害事件通報案件統計
A3: 單位：件次；件
A4: 年別 | C4: 通報件次 | S4: 通報件數 | AN4: 通報件數
C5: 通報單位別 | S5: 被害及嫌疑人兩造關係別 | AN5: 主要發生場所
C7: 合計 | D7: 113 專線 | E7: 防治 中心 | F7: 教育 | G7: 社政 | H7: 勞政 | I7: 警政 | J7: 司(軍)法 | K7: 衛政 | L7: 診所及衛生所 | M7: 醫院 | N7: 憲兵隊 | O7: 移民業務機關 | P7: 矯正機關 | Q7: 民政 | R7: 其他 | S7: 合計 | T7: 配偶 | U7: 前配偶 | V7: 前男女朋友 | W7: 男女 朋友 | X7: 直系親屬 | Y7: 手足 | Z7: 其他旁系親屬 | AA7: 家長家屬或家屬間關係者 | AB7: 保母(含本人/同住家人) | AC7: 機構人員(含管理者/工作人員/志工/收容對象) | AD7: 家人 朋友 | AE7: 普通朋友 | AF7: 同學 | AG7: 鄰居 | AH7: 職場關係(上司下屬/同事/客戶) | AI7: 師生 關係 | AJ7: 網友 | AK7: 不認識 | AL7: 其他 | AM7: 不詳 | AN7: 合計 | AO7: 住(居)所 | AP7: 辦公/工作場所 | AQ7: 公共 場所 | AR7: 學校 | AS7: 寄養 家庭 | AT7: 補習班 | AU7: 高級中等以下有提供住宿之學校 | AV7: 旅(賓)館 | AW7: 矯正 機關 | AX7: 特殊營業場所(視聽歌唱業、理髮業、三溫暖業、舞廳業、舞場業、酒家業、酒吧業、特殊咖啡茶室業) | AY7: 社會福利/安置照顧機構/兒少安置機構 | AZ7: 網際 網路 | BA7: 其他 | BB7: 不詳
A8: 110年 2021 | C8: 16029 | D8: 588 | E8: 275 | F8: 4059 | G8: 1277 | H8: 23 | I8: 5429 | J8: 198 | K8: 58 | L8: 190 | M8: 3582 | N8: 9 | O8: 5 | P8: 58 | Q8: 0 | R8: 278 | S8: 8532 | T8: 119 | U8: 60 | V8: 990 | W8: 1677 | X8: 514 | Y8: 269 | Z8: 361 | AA8: 164 | AB8: 4 | AC8: 129 | AD8: 201 | AE8: 784 | AF8: 582 | AG8: 158 | AH8: 476 | AI8: 159 | AJ8: 924 | AK8: 480 | AL8: 468 | AM8: 13 | AN8: 8532 | AO8: 4547 | AP8: 223 | AQ8: 552 | AR8: 586 | AS8: 4 | AT8: 48 | AU8: 19 | AV8: 961 | AW8: 20 | AX8: 132 | AY8: 115 | AZ8: 6 | BA8: 711 | BB8: 608
A9: 111年 2022 | C9: 17201 | D9: 563 | E9: 219 | F9: 4262 | G9: 1205 | H9: 24 | I9: 6064 | J9: 236 | K9: 80 | L9: 223 | M9: 3891 | N9: 6 | O9: 2 | P9: 63 | Q9: 2 | R9: 361 | S9: 9234 | T9: 129 | U9: 60 | V9: 1156 | W9: 1770 | X9: 506 | Y9: 241 | Z9: 379 | AA9: 183 | AB9: 8 | AC9: 123 | AD9: 210 | AE9: 858 | AF9: 614 | AG9: 153 | AH9: 530 | AI9: 171 | AJ9: 1036 | AK9: 534 | AL9: 564 | AM9: 9 | AN9: 9234 | AO9: 4796 | AP9: 227 | AQ9: 631 | AR9: 636 | AS9: 5 | AT9: 73 | AU9: 31 | AV9: 1083 | AW9: 41 | AX9: 185 | AY9: 112 | AZ9: 3 | BA9: 869 | BB9: 542
A10: 112年 2023 | C10: 19035 | D10: 612 | E10: 178 | F10: 4550 | G10: 1321 | H10: 34 | I10: 7094 | J10: 283 | K10: 104 | L10: 236 | M10: 4085 | N10: 4 | O10: 0 | P10: 79 | Q10: 4 | R10: 451 | S10: 10351 | T10: 172 | U10: 52 | V10: 1368 | W10: 1652 | X10: 555 | Y10: 263 | Z10: 414 | AA10: 212 | AB10: 14 | AC10: 121 | AD10: 191 | AE10: 960 | AF10: 739 | AG10: 165 | AH10: 668 | AI10: 322 | AJ10: 1157 | AK10: 598 | AL10: 714 | AM10: 14 | AN10: 10351 | AO10: 4987 | AP10: 264 | AQ10: 735 | AR10: 861 | AS10: 4 | AT10: 106 | AU10: 33 | AV10: 1150 | AW10: 45 | AX10: 272 | AY10: 116 | AZ10: 10 | BA10: 1089 | BB10: 679
A11: 113年 2024 | C11: 18619 | D11: 682 | E11: 194 | F11: 4043 | G11: 1399 | H11: 36 | I11: 7036 | J11: 272 | K11: 120 | L11: 278 | M11: 3960 | N11: 2 | O11: 0 | P11: 114 | Q11: 8 | R11: 475 | S11: 10078 | T11: 155 | U11: 75 | V11: 1194 | W11: 1350 | X11: 654 | Y11: 313 | Z11: 476 | AA11: 211 | AB11: 6 | AC11: 139 | AD11: 175 | AE11: 856 | AF11: 715 | AG11: 176 | AH11: 708 | AI11: 364 | AJ11: 1110 | AK11: 643 | AL11: 740 | AM11: 18 | AN11: 10078 | AO11: 4770 | AP11: 309 | AQ11: 711 | AR11: 749 | AS11: 4 | AT11: 98 | AU11: 22 | AV11: 1142 | AW11: 79 | AX11: 246 | AY11: 124 | AZ11: 8 | BA11: 1073 | BB11: 743
A12: 114年 2025 | C12: 19291 | D12: 949 | E12: 199 | F12: 3906 | G12: 1360 | H12: 48 | I12: 7412 | J12: 281 | K12: 171 | L12: 287 | M12: 4053 | N12: 2 | O12: 1 | P12: 91 | Q12: 3 | R12: 528 | S12: 10442 | T12: 209 | U12: 68 | V12: 1281 | W12: 1403 | X12: 689 | Y12: 347 | Z12: 499 | AA12: 200 | AB12: 11 | AC12: 118 | AD12: 227 | AE12: 952 | AF12: 677 | AG12: 184 | AH12: 729 | AI12: 214 | AJ12: 1132 | AK12: 704 | AL12: 782 | AM12: 16 | AN12: 10442 | AO12: 5053 | AP12: 291 | AQ12: 682 | AR12: 741 | AS12: 9 | AT12: 68 | AU12: 19 | AV12: 1120 | AW12: 57 | AX12: 288 | AY12: 101 | AZ12: 6 | BA12: 1159 | BB12: 848
A13: 資料來源：本部保護服務司。

Sheet 114
A1: 5.2-01 性侵害事件通報案件統計
A3: 單位：件次；件
A4: 區域別 | C4: 通報件次 | S4: 通報件數 | AN4: 通報件數
C5: 通報單位別 | S5: 被害及嫌疑人兩造關係別 | AN5: 主要發生場所
C7: 合計 | D7: 113 專線 | E7: 防治 中心 | F7: 教育 | G7: 社政 | H7: 勞政 | I7: 警政 | J7: 司(軍)法 | K7: 衛政 | L7: 診所及衛生所 | M7: 醫院 | N7: 憲兵隊 | O7: 移民業務機關 | P7: 矯正機關 | Q7: 民政 | R7: 其他 | S7: 合計 | T7: 配偶 | U7: 前配偶 | V7: 前男女朋友 | W7: 男女 朋友 | X7: 直系親屬 | Y7: 手足 | Z7: 其他旁系親屬 | AA7: 家長家屬或家屬間關係者 | AB7: 保母(含本人/同住家人) | AC7: 機構人員(含管理者/工作人員/志工/收容對象) | AD7: 家人 朋友 | AE7: 普通朋友 | AF7: 同學 | AG7: 鄰居 | AH7: 職場關係(上司下屬/同事/客戶) | AI7: 師生 關係 | AJ7: 網友 | AK7: 不認識 | AL7: 其他 | AM7: 不詳 | AN7: 合計 | AO7: 住(居)所 | AP7: 辦公/工作場所 | AQ7: 公共 場所 | AR7: 學校 | AS7: 寄養 家庭 | AT7: 補習班 | AU7: 高級中等以下有提供住宿之學校 | AV7: 旅(賓)館 | AW7: 矯正 機關 | AX7: 特殊營業場所(視聽歌唱業、理髮業、三溫暖業、舞廳業、舞場業、酒家業、酒吧業、特殊咖啡茶室業) | AY7: 社會福利/安置照顧機構/兒少安置機構 | AZ7: 網際 網路 | BA7: 其他 | BB7: 不詳
A8: 114年 2025 | C8: 19291 | D8: 949 | E8: 199 | F8: 3906 | G8: 1360 | H8: 48 | I8: 7412 | J8: 281 | K8: 171 | L8: 287 | M8: 4053 | N8: 2 | O8: 1 | P8: 91 | Q8: 3 | R8: 528 | S8: 10442 | T8: 209 | U8: 68 | V8: 1281 | W8: 1403 | X8: 689 | Y8: 347 | Z8: 499 | AA8: 200 | AB8: 11 | AC8: 118 | AD8: 227 | AE8: 952 | AF8: 677 | AG8: 184 | AH8: 729 | AI8: 214 | AJ8: 1132 | AK8: 704 | AL8: 782 | AM8: 16 | AN8: 10442 | AO8: 5053 | AP8: 291 | AQ8: 682 | AR8: 741 | AS8: 9 | AT8: 68 | AU8: 19 | AV8: 1120 | AW8: 57 | AX8: 288 | AY8: 101 | AZ8: 6 | BA8: 1159 | BB8: 848
A9: 新北市 | C9: 3569 | D9: 225 | E9: 65 | F9: 688 | G9: 228 | H9: 11 | I9: 1242 | J9: 62 | K9: 22 | L9: 48 | M9: 846 | N9: 0 | O9: 0 | P9: 7 | Q9: 0 | R9: 125 | S9: 1944 | T9: 10 | U9: 5 | V9: 219 | W9: 242 | X9: 153 | Y9: 62 | Z9: 89 | AA9: 32 | AB9: 1 | AC9: 17 | AD9: 38 | AE9: 208 | AF9: 110 | AG9: 30 | AH9: 162 | AI9: 40 | AJ9: 219 | AK9: 157 | AL9: 148 | AM9: 2 | AN9: 1944 | AO9: 869 | AP9: 52 | AQ9: 160 | AR9: 122 | AS9: 1 | AT9: 7 | AU9: 6 | AV9: 224 | AW9: 4 | AX9: 61 | AY9: 15 | AZ9: 1 | BA9: 219 | BB9: 203
A10: 臺北市 | C10: 1958 | D10: 129 | E10: 30 | F10: 300 | G10: 171 | H10: 3 | I10: 771 | J10: 35 | K10: 18 | L10: 31 | M10: 387 | N10: 2 | O10: 0 | P10: 2 | Q10: 0 | R10: 79 | S10: 1064 | T10: 13 | U10: 5 | V10: 114 | W10: 72 | X10: 67 | Y10: 44 | Z10: 38 | AA10: 18 | AB10: 3 | AC10: 10 | AD10: 11 | AE10: 138 | AF10: 81 | AG10: 8 | AH10: 91 | AI10: 30 | AJ10: 126 | AK10: 106 | AL10: 88 | AM10: 1 | AN10: 1064 | AO10: 466 | AP10: 29 | AQ10: 57 | AR10: 70 | AS10: 0 | AT10: 11 | AU10: 1 | AV10: 136 | AW10: 2 | AX10: 40 | AY10: 10 | AZ10: 2 | BA10: 128 | BB10: 112
A11: 桃園市 | C11: 2207 | D11: 117 | E11: 19 | F11: 432 | G11: 150 | H11: 8 | I11: 818 | J11: 29 | K11: 18 | L11: 51 | M11: 494 | N11: 0 | O11: 1 | P11: 29 | Q11: 2 | R11: 39 | S11: 1236 | T11: 38 | U11: 8 | V11: 155 | W11: 210 | X11: 87 | Y11: 39 | Z11: 45 | AA11: 19 | AB11: 1 | AC11: 16 | AD11: 17 | AE11: 107 | AF11: 66 | AG11: 17 | AH11: 89 | AI11: 23 | AJ11: 136 | AK11: 84 | AL11: 79 | AM11: 0 | AN11: 1236 | AO11: 631 | AP11: 36 | AQ11: 59 | AR11: 53 | AS11: 0 | AT11: 6 | AU11: 2 | AV11: 141 | AW11: 14 | AX11: 29 | AY11: 14 | AZ11: 0 | BA11: 163 | BB11: 88
A12: 臺中市 | C12: 2652 | D12: 137 | E12: 26 | F12: 475 | G12: 182 | H12: 6 | I12: 1131 | J12: 48 | K12: 29 | L12: 46 | M12: 493 | N12: 0 | O12: 0 | P12: 24 | Q12: 0 | R12: 55 | S12: 1426 | T12: 35 | U12: 16 | V12: 172 | W12: 182 | X12: 71 | Y12: 49 | Z12: 75 | AA12: 29 | AB12: 1 | AC12: 15 | AD12: 33 | AE12: 114 | AF12: 98 | AG12: 20 | AH12: 131 | AI12: 33 | AJ12: 157 | AK12: 86 | AL12: 105 | AM12: 4 | AN12: 1426 | AO12: 682 | AP12: 38 | AQ12: 105 | AR12: 89 | AS12: 1 | AT12: 7 | AU12: 5 | AV12: 160 | AW12: 7 | AX12: 68 | AY12: 13 | AZ12: 1 | BA12: 154 | BB12: 96
A13: 臺南市 | C13: 1343 | D13: 57 | E13: 35 | F13: 260 | G13: 120 | H13: 1 | I13: 550 | J13: 17 | K13: 15 | L13: 22 | M13: 223 | N13: 0 | O13: 0 | P13: 3 | Q13: 1 | R13: 39 | S13: 796 | T13: 36 | U13: 5 | V13: 84 | W13: 110 | X13: 55 | Y13: 35 | Z13: 44 | AA13: 15 | AB13: 0 | AC13: 13 | AD13: 19 | AE13: 70 | AF13: 52 | AG13: 17 | AH13: 52 | AI13: 14 | AJ13: 83 | AK13: 34 | AL13: 57 | AM13: 1 | AN13: 796 | AO13: 442 | AP13: 32 | AQ13: 38 | AR13: 60 | AS13: 0 | AT13: 10 | AU13: 0 | AV13: 74 | AW13: 4 | AX13: 9 | AY13: 10 | AZ13: 1 | BA13: 63 | BB13: 53
A14: 高雄市 | C14: 1971 | D14: 106 | E14: 18 | F14: 365 | G14: 121 | H14: 3 | I14: 776 | J14: 18 | K14: 20 | L14: 36 | M14: 441 | N14: 0 | O14: 0 | P14: 8 | Q14: 0 | R14: 59 | S14: 1070 | T14: 22 | U14: 9 | V14: 128 | W14: 147 | X14: 71 | Y14: 37 | Z14: 53 | AA14: 27 | AB14: 1 | AC14: 14 | AD14: 21 | AE14: 93 | AF14: 72 | AG14: 25 | AH14: 77 | AI14: 25 | AJ14: 120 | AK14: 73 | AL14: 55 | AM14: 0 | AN14: 1070 | AO14: 536 | AP14: 38 | AQ14: 79 | AR14: 92 | AS14: 1 | AT14: 7 | AU14: 0 | AV14: 119 | AW14: 5 | AX14: 32 | AY14: 11 | AZ14: 1 | BA14: 91 | BB14: 58
A15: 宜蘭縣 | C15: 320 | D15: 14 | E15: 1 | F15: 95 | G15: 17 | H15: 2 | I15: 112 | J15: 0 | K15: 1 | L15: 2 | M15: 71 | N15: 0 | O15: 0 | P15: 1 | Q15: 0 | R15: 4 | S15: 164 | T15: 4 | U15: 1 | V15: 27 | W15: 24 | X15: 17 | Y15: 6 | Z15: 5 | AA15: 2 | AB15: 0 | AC15: 0 | AD15: 8 | AE15: 13 | AF15: 13 | AG15: 3 | AH15: 10 | AI15: 4 | AJ15: 11 | AK15: 7 | AL15: 9 | AM15: 0 | AN15: 164 | AO15: 85 | AP15: 4 | AQ15: 15 | AR15: 19 | AS15: 0 | AT15: 1 | AU15: 0 | AV15: 13 | AW15: 1 | AX15: 2 | AY15: 0 | AZ15: 0 | BA15: 8 | BB15: 16
A16: 新竹縣 | C16: 470 | D16: 23 | E16: 1 | F16: 109 | G16: 35 | H16: 4 | I16: 176 | J16: 5 | K16: 1 | L16: 1 | M16: 89 | N16: 0 | O16: 0 | P16: 4 | Q16: 0 | R16: 22 | S16: 245 | T16: 4 | U16: 0 | V16: 22 | W16: 42 | X16: 14 | Y16: 6 | Z16: 13 | AA16: 4 | AB16: 1 | AC16: 6 | AD16: 2 | AE16: 20 | AF16: 26 | AG16: 9 | AH16: 12 | AI16: 3 | AJ16: 31 | AK16: 13 | AL16: 17 | AM16: 0 | AN16: 245 | AO16: 112 | AP16: 5 | AQ16: 19 | AR16: 23 | AS16: 0 | AT16: 0 | AU16: 0 | AV16: 28 | AW16: 5 | AX16: 4 | AY16: 6 | AZ16: 0 | BA16: 22 | BB16: 21
A17: 苗栗縣 | C17: 400 | D17: 10 | E17: 0 | F17: 103 | G17: 24 | H17: 0 | I17: 159 | J17: 3 | K17: 2 | L17: 3 | M17: 86 | N17: 0 | O17: 0 | P17: 0 | Q17: 0 | R17: 10 | S17: 203 | T17: 6 | U17: 1 | V17: 37 | W17: 19 | X17: 11 | Y17: 4 | Z17: 14 | AA17: 4 | AB17: 0 | AC17: 0 | AD17: 5 | AE17: 20 | AF17: 19 | AG17: 9 | AH17: 6 | AI17: 3 | AJ17: 21 | AK17: 7 | AL17: 17 | AM17: 0 | AN17: 203 | AO17: 105 | AP17: 2 | AQ17: 13 | AR17: 14 | AS17: 3 | AT17: 1 | AU17: 1 | AV17: 17 | AW17: 0 | AX17: 3 | AY17: 0 | AZ17: 0 | BA17: 33 | BB17: 11
A18: 彰化縣 | C18: 879 | D18: 25 | E18: 0 | F18: 227 | G18: 60 | H18: 5 | I18: 312 | J18: 16 | K18: 16 | L18: 15 | M18: 174 | N18: 0 | O18: 0 | P18: 8 | Q18: 0 | R18: 21 | S18: 475 | T18: 3 | U18: 4 | V18: 73 | W18: 91 | X18: 34 | Y18: 14 | Z18: 24 | AA18: 8 | AB18: 0 | AC18: 1 | AD18: 12 | AE18: 31 | AF18: 21 | AG18: 11 | AH18: 22 | AI18: 12 | AJ18: 40 | AK18: 32 | AL18: 37 | AM18: 5 | AN18: 475 | AO18: 229 | AP18: 12 | AQ18: 30 | AR18: 57 | AS18: 0 | AT18: 2 | AU18: 0 | AV18: 37 | AW18: 2 | AX18: 8 | AY18: 2 | AZ18: 0 | BA18: 57 | BB18: 39
A19: 南投縣 | C19: 373 | D19: 7 | E19: 0 | F19: 103 | G19: 28 | H19: 1 | I19: 124 | J19: 6 | K19: 0 | L19: 7 | M19: 88 | N19: 0 | O19: 0 | P19: 0 | Q19: 0 | R19: 9 | S19: 207 | T19: 5 | U19: 3 | V19: 17 | W19: 40 | X19: 10 | Y19: 6 | Z19: 13 | AA19: 4 | AB19: 2 | AC19: 0 | AD19: 8 | AE19: 14 | AF19: 15 | AG19: 4 | AH19: 6 | AI19: 2 | AJ19: 22 | AK19: 7 | AL19: 27 | AM19: 2 | AN19: 207 | AO19: 100 | AP19: 7 | AQ19: 9 | AR19: 20 | AS19: 1 | AT19: 0 | AU19: 0 | AV19: 15 | AW19: 1 | AX19: 3 | AY19: 0 | AZ19: 0 | BA19: 22 | BB19: 29
... A30: 連江縣 | C30: 4 | D30: 0 | E30: 0 | F30: 1 | G30: 0 | H30: 0 | I30: 2 | J30: 0 | K30: 0 | L30: 0 | M30: 1 | N30: 0 | O30: 0 | P30: 0 | Q30: 0 | R30: 0 | S30: 2 | T30: 0 | U30: 0 | V30: 0 | W30: 0 | X30: 0 | Y30: 0 | Z30: 0 | AA30: 0 | AB30: 0 | AC30: 0 | AD30: 1 | AE30: 0 | AF30: 0 | AG30: 0 | AH30: 0 | AI30: 0 | AJ30: 0 | AK30: 0 | AL30: 1 | AM30: 0 | AN30: 2 | AO30: 2 | AP30: 0 | AQ30: 0 | AR30: 0 | AS30: 0 | AT30: 0 | AU30: 0 | AV30: 0 | AW30: 0 | AX30: 0 | AY30: 0 | AZ30: 0 | BA30: 0 | BB30: 0
A31: 資料來源：本部保護服務司。
A32: Source :Department of Protective Services , MOHW.
A34: 更新日期：2021/7/30

Sheet 113
A1: 5.2-01 性侵害事件通報案件統計
A3: 單位：件次；件
A4: 區域別 | C4: 通報件次 | S4: 通報件數 | AN4: 通報件數
C5: 通報單位別 | S5: 被害及嫌疑人兩造關係別 | AN5: 主要發生場所
C7: 合計 | D7: 113 專線 | E7: 防治 中心 | F7: 教育 | G7: 社政 | H7: 勞政 | I7: 警政 | J7: 司(軍)法 | K7: 衛政 | L7: 診所及衛生所 | M7: 醫院 | N7: 憲兵隊 | O7: 移民業務機關 | P7: 矯正機關 | Q7: 民政 | R7: 其他 | S7: 合計 | T7: 配偶 | U7: 前配偶 | V7: 前男女朋友 | W7: 男女 朋友 | X7: 直系親屬 | Y7: 手足 | Z7: 其他旁系親屬 | AA7: 家長家屬或家屬間關係者 | AB7: 保母(含本人/同住家人) | AC7: 機構人員(含管理者/工作人員/志工/收容對象) | AD7: 家人 朋友 | AE7: 普通朋友 | AF7: 同學 | AG7: 鄰居 | AH7: 職場關係(上司下屬/同事/客戶) | AI7: 師生 關係 | AJ7: 網友 | AK7: 不認識 | AL7: 其他 | AM7: 不詳 | AN7: 合計 | AO7: 住(居)所 | AP7: 辦公/工作場所 | AQ7: 公共 場所 | AR7: 學校 | AS7: 寄養 家庭 | AT7: 補習班 | AU7: 高級中等以下有提供住宿之學校 | AV7: 旅(賓)館 | AW7: 矯正 機關 | AX7: 特殊營業場所(視聽歌唱業、理髮業、三溫暖業、舞廳業、舞場業、酒家業、酒吧業、特殊咖啡茶室業) | AY7: 社會福利/安置照顧機構/兒少安置機構 | AZ7: 網際 網路 | BA7: 其他 | BB7: 不詳
A8: 113年 2024 | C8: 18619 | D8: 682 | E8: 194 | F8: 4043 | G8: 1399 | H8: 36 | I8: 7036 | J8: 272 | K8: 120 | L8: 278 | M8: 3960 | N8: 2 | O8: 0 | P8: 114 | Q8: 8 | R8: 475 | S8: 10078 | T8: 155 | U8: 75 | V8: 1194 | W8: 1350 | X8: 654 | Y8: 313 | Z8: 476 | AA8: 211 | AB8: 6 | AC8: 139 | AD8: 175 | AE8: 856 | AF8: 715 | AG8: 176 | AH8: 708 | AI8: 364 | AJ8: 1110 | AK8: 643 | AL8: 740 | AM8: 18 | AN8: 10078 | AO8: 4770 | AP8: 309 | AQ8: 711 | AR8: 749 | AS8: 4 | AT8: 98 | AU8: 22 | AV8: 1142 | AW8: 79 | AX8: 246 | AY8: 124 | AZ8: 8 | BA8: 1073 | BB8: 743
A9: 新北市 | C9: 3425 | D9: 146 | E9: 52 | F9: 765 | G9: 252 | H9: 5 | I9: 1177 | J9: 51 | K9: 13 | L9: 56 | M9: 768 | N9: 0 | O9: 0 | P9: 8 | Q9: 2 | R9: 130 | S9: 1909 | T9: 10 | U9: 5 | V9: 227 | W9: 225 | X9: 151 | Y9: 66 | Z9: 100 | AA9: 31 | AB9: 2 | AC9: 16 | AD9: 26 | AE9: 164 | AF9: 133 | AG9: 12 | AH9: 137 | AI9: 72 | AJ9: 266 | AK9: 126 | AL9: 137 | AM9: 3 | AN9: 1909 | AO9: 871 | AP9: 64 | AQ9: 154 | AR9: 114 | AS9: 0 | AT9: 30 | AU9: 3 | AV9: 200 | AW9: 5 | AX9: 66 | AY9: 16 | AZ9: 2 | BA9: 210 | BB9: 174
A10: 臺北市 | C10: 1879 | D10: 88 | E10: 35 | F10: 307 | G10: 163 | H10: 3 | I10: 739 | J10: 23 | K10: 9 | L10: 27 | M10: 410 | N10: 1 | O10: 0 | P10: 4 | Q10: 0 | R10: 70 | S10: 1027 | T10: 15 | U10: 4 | V10: 107 | W10: 70 | X10: 75 | Y10: 28 | Z10: 48 | AA10: 16 | AB10: 0 | AC10: 10 | AD10: 8 | AE10: 89 | AF10: 104 | AG10: 10 | AH10: 97 | AI10: 43 | AJ10: 117 | AK10: 96 | AL10: 85 | AM10: 5 | AN10: 1027 | AO10: 433 | AP10: 27 | AQ10: 68 | AR10: 97 | AS10: 0 | AT10: 12 | AU10: 0 | AV10: 120 | AW10: 2 | AX10: 35 | AY10: 7 | AZ10: 2 | BA10: 119 | BB10: 105
A11: 桃園市 | C11: 2084 | D11: 68 | E11: 22 | F11: 483 | G11: 126 | H11: 10 | I11: 794 | J11: 32 | K11: 10 | L11: 35 | M11: 453 | N11: 0 | O11: 0 | P11: 20 | Q11: 1 | R11: 30 | S11: 1153 | T11: 20 | U11: 11 | V11: 132 | W11: 226 | X11: 68 | Y11: 31 | Z11: 44 | AA11: 17 | AB11: 1 | AC11: 18 | AD11: 18 | AE11: 100 | AF11: 83 | AG11: 12 | AH11: 90 | AI11: 15 | AJ11: 117 | AK11: 69 | AL11: 80 | AM11: 1 | AN11: 1153 | AO11: 552 | AP11: 24 | AQ11: 69 | AR11: 76 | AS11: 0 | AT11: 9 | AU11: 5 | AV11: 146 | AW11: 14 | AX11: 31 | AY11: 15 | AZ11: 0 | BA11: 134 | BB11: 78
A12: 臺中市 | C12: 2467 | D12: 102 | E12: 15 | F12: 436 | G12: 161 | H12: 3 | I12: 1038 | J12: 57 | K12: 15 | L12: 47 | M12: 505 | N12: 0 | O12: 0 | P12: 33 | Q12: 0 | R12: 55 | S12: 1318 | T12: 25 | U12: 18 | V12: 143 | W12: 181 | X12: 84 | Y12: 38 | Z12: 55 | AA12: 26 | AB12: 0 | AC12: 11 | AD12: 23 | AE12: 106 | AF12: 74 | AG12: 29 | AH12: 117 | AI12: 58 | AJ12: 146 | AK12: 84 | AL12: 98 | AM12: 2 | AN12: 1318 | AO12: 602 | AP12: 54 | AQ12: 77 | AR12: 110 | AS12: 0 | AT12: 7 | AU12: 6 | AV12: 166 | AW12: 25 | AX12: 37 | AY12: 9 | AZ12: 1 | BA12: 152 | BB12: 72
A13: 臺南市 | C13: 1202 | D13: 45 | E13: 31 | F13: 264 | G13: 103 | H13: 4 | I13: 433 | J13: 21 | K13: 15 | L13: 31 | M13: 213 | N13: 1 | O13: 0 | P13: 6 | Q13: 0 | R13: 35 | S13: 687 | T13: 18 | U13: 6 | V13: 84 | W13: 120 | X13: 35 | Y13: 24 | Z13: 27 | AA13: 26 | AB13: 1 | AC13: 11 | AD13: 19 | AE13: 50 | AF13: 35 | AG13: 14 | AH13: 38 | AI13: 28 | AJ13: 66 | AK13: 39 | AL13: 45 | AM13: 1 | AN13: 687 | AO13: 356 | AP13: 18 | AQ13: 38 | AR13: 51 | AS13: 0 | AT13: 8 | AU13: 1 | AV13: 78 | AW13: 4 | AX13: 8 | AY13: 13 | AZ13: 0 | BA13: 68 | BB13: 44
A14: 高雄市 | C14: 1978 | D14: 79 | E14: 29 | F14: 421 | G14: 133 | H14: 2 | I14: 772 | J14: 26 | K14: 21 | L14: 21 | M14: 434 | N14: 0 | O14: 0 | P14: 8 | Q14: 0 | R14: 32 | S14: 1054 | T14: 16 | U14: 7 | V14: 128 | W14: 117 | X14: 56 | Y14: 37 | Z14: 63 | AA14: 30 | AB14: 1 | AC14: 24 | AD14: 12 | AE14: 93 | AF14: 69 | AG14: 34 | AH14: 83 | AI14: 47 | AJ14: 114 | AK14: 66 | AL14: 57 | AM14: 0 | AN14: 1054 | AO14: 499 | AP14: 37 | AQ14: 75 | AR14: 83 | AS14: 1 | AT14: 9 | AU14: 2 | AV14: 134 | AW14: 3 | AX14: 22 | AY14: 23 | AZ14: 2 | BA14: 84 | BB14: 80
A15: 宜蘭縣 | C15: 322 | D15: 7 | E15: 0 | F15: 103 | G15: 21 | H15: 0 | I15: 110 | J15: 0 | K15: 2 | L15: 1 | M15: 67 | N15: 0 | O15: 0 | P15: 2 | Q15: 0 | R15: 9 | S15: 176 | T15: 1 | U15: 2 | V15: 20 | W15: 25 | X15: 17 | Y15: 1 | Z15: 7 | AA15: 0 | AB15: 0 | AC15: 2 | AD15: 6 | AE15: 10 | AF15: 23 | AG15: 4 | AH15: 5 | AI15: 7 | AJ15: 22 | AK15: 9 | AL15: 15 | AM15: 0 | AN15: 176 | AO15: 85 | AP15: 5 | AQ15: 8 | AR15: 17 | AS15: 0 | AT15: 0 | AU15: 0 | AV15: 19 | AW15: 1 | AX15: 2 | AY15: 1 | AZ15: 0 | BA15: 20 | BB15: 18
A16: 新竹縣 | C16: 577 | D16: 18 | E16: 2 | F16: 125 | G16: 56 | H16: 5 | I16: 212 | J16: 5 | K16: 5 | L16: 4 | M16: 112 | N16: 0 | O16: 0 | P16: 2 | Q16: 0 | R16: 31 | S16: 321 | T16: 9 | U16: 5 | V16: 46 | W16: 49 | X16: 20 | Y16: 13 | Z16: 11 | AA16: 7 | AB16: 0 | AC16: 6 | AD16: 4 | AE16: 14 | AF16: 18 | AG16: 7 | AH16: 28 | AI16: 18 | AJ16: 35 | AK16: 12 | AL16: 19 | AM16: 0 | AN16: 321 | AO16: 177 | AP16: 13 | AQ16: 24 | AR16: 17 | AS16: 0 | AT16: 4 | AU16: 0 | AV16: 22 | AW16: 1 | AX16: 3 | AY16: 3 | AZ16: 0 | BA16: 33 | BB16: 24
A17: 苗栗縣 | C17: 355 | D17: 11 | E17: 0 | F17: 74 | G17: 24 | H17: 0 | I17: 145 | J17: 1 | K17: 4 | L17: 4 | M17: 85 | N17: 0 | O17: 0 | P17: 0 | Q17: 0 | R17: 7 | S17: 184 | T17: 3 | U17: 2 | V17: 18 | W17: 22 | X17: 4 | Y17: 9 | Z17: 4 | AA17: 7 | AB17: 0 | AC17: 5 | AD17: 7 | AE17: 20 | AF17: 14 | AG17: 2 | AH17: 6 | AI17: 3 | AJ17: 22 | AK17: 17 | AL17: 17 | AM17: 2 | AN17: 184 | AO17: 93 | AP17: 4 | AQ17: 18 | AR17: 15 | AS17: 1 | AT17: 2 | AU17: 1 | AV17: 19 | AW17: 0 | AX17: 6 | AY17: 4 | AZ17: 0 | BA17: 14 | BB17: 7
A18: 彰化縣 | C18: 915 | D18: 17 | E18: 0 | F18: 236 | G18: 88 | H18: 0 | I18: 323 | J18: 8 | K18: 7 | L18: 9 | M18: 198 | N18: 0 | O18: 0 | P18: 13 | Q18: 2 | R18: 14 | S18: 511 | T18: 9 | U18: 3 | V18: 69 | W18: 68 | X18: 42 | Y18: 24 | Z18: 25 | AA18: 5 | AB18: 0 | AC18: 5 | AD18: 13 | AE18: 43 | AF18: 40 | AG18: 14 | AH18: 23 | AI18: 12 | AJ18: 49 | AK18: 28 | AL18: 38 | AM18: 1 | AN18: 511 | AO18: 236 | AP18: 10 | AQ18: 38 | AR18: 59 | AS18: 0 | AT18: 5 | AU18: 1 | AV18: 49 | AW18: 9 | AX18: 10 | AY18: 3 | AZ18: 0 | BA18: 51 | BB18: 40
A19: 南投縣 | C19: 370 | D19: 7 | E19: 1 | F19: 108 | G19: 31 | H19: 1 | I19: 129 | J19: 3 | K19: 2 | L19: 6 | M19: 78 | N19: 0 | O19: 0 | P19: 0 | Q19: 0 | R19: 4 | S19: 197 | T19: 2 | U19: 0 | V19: 19 | W19: 36 | X19: 10 | Y19: 3 | Z19: 9 | AA19: 6 | AB19: 0 | AC19: 4 | AD19: 7 | AE19: 20 | AF19: 17 | AG19: 3 | AH19: 6 | AI19: 27 | AJ19: 12 | AK19: 3 | AL19: 13 | AM19: 0 | AN19: 197 | AO19: 96 | AP19: 3 | AQ19: 13 | AR19: 27 | AS19: 0 | AT19: 0 | AU19: 1 | AV19: 17 | AW19: 0 | AX19: 3 | AY19: 1 | AZ19: 0 | BA19: 21 | BB19: 15
... A30: 連江縣 | C30: 9 | D30: 0 | E30: 0 | F30: 4 | G30: 0 | H30: 0 | I30: 2 | J30: 1 | K30: 0 | L30: 0 | M30: 2 | N30: 0 | O30: 0 | P30: 0 | Q30: 0 | R30: 0 | S30: 5 | T30: 0 | U30: 0 | V30: 0 | W30: 0 | X30: 0 | Y30: 0 | Z30: 0 | AA30: 0 | AB30: 0 | AC30: 0 | AD30: 0 | AE30: 0 | AF30: 0 | AG30: 0 | AH30: 1 | AI30: 0 | AJ30: 1 | AK30: 0 | AL30: 3 | AM30: 0 | AN30: 5 | AO30: 0 | AP30: 0 | AQ30: 0 | AR30: 0 | AS30: 0 | AT30: 0 | AU30: 0 | AV30: 2 | AW30: 0 | AX30: 1 | AY30: 0 | AZ30: 0 | BA30: 1 | BB30: 1
A31: 資料來源：本部保護服務司。
A32: Source :Department of Protective Services , MOHW.
A34: 更新日期：2021/7/30

Sheet 112
A1: 5.2-01 性侵害事件通報案件統計
A3: 單位：件次；件
A4: 區域別 | C4: 通報件次 | S4: 通報件數 | AN4: 通報件數
C5: 通報單位別 | S5: 被害及嫌疑人兩造關係別 | AN5: 主要發生場所
C7: 合計 | D7: 113 專線 | E7: 防治 中心 | F7: 教育 | G7: 社政 | H7: 勞政 | I7: 警政 | J7: 司(軍)法 | K7: 衛政 | L7: 診所及衛生所 | M7: 醫院 | N7: 憲兵隊 | O7: 移民業務機關 | P7: 矯正機關 | Q7: 民政 | R7: 其他 | S7: 合計 | T7: 配偶 | U7: 前配偶 | V7: 前男女朋友 | W7: 男女 朋友 | X7: 直系親屬 | Y7: 手足 | Z7: 其他旁系親屬 | AA7: 家長家屬或家屬間關係者 | AB7: 保母(含本人/同住家人) | AC7: 機構人員(含管理者/工作人員/志工/收容對象) | AD7: 家人 朋友 | AE7: 普通朋友 | AF7: 同學 | AG7: 鄰居 | AH7: 職場關係(上司下屬/同事/客戶) | AI7: 師生 關係 | AJ7: 網友 | AK7: 不認識 | AL7: 其他 | AM7: 不詳 | AN7: 合計 | AO7: 住(居)所 | AP7: 辦公/工作場所 | AQ7: 公共 場所 | AR7: 學校 | AS7: 寄養 家庭 | AT7: 補習班 | AU7: 高級中等以下有提供住宿之學校 | AV7: 旅(賓)館 | AW7: 矯正 機關 | AX7: 特殊營業場所(視聽歌唱業、理髮業、三溫暖業、舞廳業、舞場業、酒家業、酒吧業、特殊咖啡茶室業) | AY7: 社會福利/安置照顧機構/兒少安置機構 | AZ7: 網際 網路 | BA7: 其他 | BB7: 不詳
A8: 112年 2023 | C8: 19035 | D8: 612 | E8: 178 | F8: 4550 | G8: 1321 | H8: 34 | I8: 7094 | J8: 283 | K8: 104 | L8: 236 | M8: 4085 | N8: 4 | O8: 0 | P8: 79 | Q8: 4 | R8: 451 | S8: 10351 | T8: 172 | U8: 52 | V8: 1368 | W8: 1652 | X8: 555 | Y8: 263 | Z8: 414 | AA8: 212 | AB8: 14 | AC8: 121 | AD8: 191 | AE8: 960 | AF8: 739 | AG8: 165 | AH8: 668 | AI8: 322 | AJ8: 1157 | AK8: 598 | AL8: 714 | AM8: 14 | AN8: 10351 | AO8: 4987 | AP8: 264 | AQ8: 735 | AR8: 861 | AS8: 4 | AT8: 106 | AU8: 33 | AV8: 1150 | AW8: 45 | AX8: 272 | AY8: 116 | AZ8: 10 | BA8: 1089 | BB8: 679
A9: 新北市 | C9: 3114 | D9: 141 | E9: 50 | F9: 709 | G9: 172 | H9: 10 | I9: 1087 | J9: 40 | K9: 15 | L9: 28 | M9: 734 | N9: 0 | O9: 0 | P9: 11 | Q9: 1 | R9: 116 | S9: 1750 | T9: 11 | U9: 4 | V9: 227 | W9: 228 | X9: 90 | Y9: 49 | Z9: 44 | AA9: 36 | AB9: 4 | AC9: 10 | AD9: 17 | AE9: 203 | AF9: 166 | AG9: 19 | AH9: 144 | AI9: 48 | AJ9: 220 | AK9: 117 | AL9: 113 | AM9: 0 | AN9: 1750 | AO9: 747 | AP9: 42 | AQ9: 139 | AR9: 158 | AS9: 2 | AT9: 13 | AU9: 4 | AV9: 226 | AW9: 6 | AX9: 67 | AY9: 12 | AZ9: 3 | BA9: 198 | BB9: 133
A10: 臺北市 | C10: 1943 | D10: 72 | E10: 21 | F10: 350 | G10: 178 | H10: 7 | I10: 792 | J10: 25 | K10: 11 | L10: 12 | M10: 399 | N10: 1 | O10: 0 | P10: 4 | Q10: 0 | R10: 71 | S10: 1059 | T10: 18 | U10: 2 | V10: 127 | W10: 84 | X10: 52 | Y10: 41 | Z10: 47 | AA10: 17 | AB10: 0 | AC10: 13 | AD10: 9 | AE10: 129 | AF10: 74 | AG10: 16 | AH10: 107 | AI10: 51 | AJ10: 118 | AK10: 76 | AL10: 76 | AM10: 2 | AN10: 1059 | AO10: 451 | AP10: 38 | AQ10: 75 | AR10: 86 | AS10: 0 | AT10: 11 | AU10: 3 | AV10: 121 | AW10: 0 | AX10: 40 | AY10: 11 | AZ10: 4 | BA10: 110 | BB10: 109
A11: 桃園市 | C11: 2061 | D11: 59 | E11: 17 | F11: 506 | G11: 130 | H11: 3 | I11: 758 | J11: 37 | K11: 9 | L11: 23 | M11: 472 | N11: 0 | O11: 0 | P11: 7 | Q11: 1 | R11: 39 | S11: 1146 | T11: 18 | U11: 7 | V11: 127 | W11: 294 | X11: 63 | Y11: 23 | Z11: 42 | AA11: 25 | AB11: 0 | AC11: 13 | AD11: 21 | AE11: 81 | AF11: 66 | AG11: 17 | AH11: 77 | AI11: 19 | AJ11: 115 | AK11: 73 | AL11: 65 | AM11: 0 | AN11: 1146 | AO11: 566 | AP11: 37 | AQ11: 81 | AR11: 74 | AS11: 0 | AT11: 10 | AU11: 2 | AV11: 137 | AW11: 3 | AX11: 29 | AY11: 11 | AZ11: 1 | BA11: 130 | BB11: 65
A12: 臺中市 | C12: 2484 | D12: 97 | E12: 33 | F12: 516 | G12: 166 | H12: 2 | I12: 939 | J12: 52 | K12: 4 | L12: 54 | M12: 555 | N12: 1 | O12: 0 | P12: 21 | Q12: 0 | R12: 44 | S12: 1373 | T12: 31 | U12: 11 | V12: 164 | W12: 239 | X12: 62 | Y12: 25 | Z12: 55 | AA12: 28 | AB12: 4 | AC12: 19 | AD12: 42 | AE12: 113 | AF12: 79 | AG12: 21 | AH12: 96 | AI12: 46 | AJ12: 162 | AK12: 66 | AL12: 104 | AM12: 6 | AN12: 1373 | AO12: 667 | AP12: 34 | AQ12: 98 | AR12: 95 | AS12: 0 | AT12: 20 | AU12: 0 | AV12: 156 | AW12: 11 | AX12: 34 | AY12: 15 | AZ12: 1 | BA12: 154 | BB12: 88
A13: 臺南市 | C13: 1335 | D13: 34 | E13: 26 | F13: 305 | G13: 108 | H13: 1 | I13: 513 | J13: 20 | K13: 14 | L13: 26 | M13: 263 | N13: 1 | O13: 0 | P13: 2 | Q13: 1 | R13: 21 | S13: 735 | T13: 26 | U13: 2 | V13: 117 | W13: 99 | X13: 38 | Y13: 16 | Z13: 30 | AA13: 18 | AB13: 3 | AC13: 10 | AD13: 15 | AE13: 64 | AF13: 45 | AG13: 17 | AH13: 46 | AI13: 19 | AJ13: 86 | AK13: 38 | AL13: 45 | AM13: 1 | AN13: 735 | AO13: 378 | AP13: 18 | AQ13: 37 | AR13: 56 | AS13: 0 | AT13: 10 | AU13: 0 | AV13: 85 | AW13: 1 | AX13: 14 | AY13: 11 | AZ13: 0 | BA13: 85 | BB13: 40
A14: 高雄市 | C14: 2004 | D14: 62 | E14: 19 | F14: 459 | G14: 125 | H14: 0 | I14: 780 | J14: 35 | K14: 8 | L14: 22 | M14: 449 | N14: 0 | O14: 0 | P14: 5 | Q14: 0 | R14: 40 | S14: 1068 | T14: 12 | U14: 6 | V14: 173 | W14: 158 | X14: 61 | Y14: 23 | Z14: 45 | AA14: 28 | AB14: 0 | AC14: 9 | AD14: 19 | AE14: 97 | AF14: 65 | AG14: 13 | AH14: 63 | AI14: 43 | AJ14: 120 | AK14: 76 | AL14: 57 | AM14: 0 | AN14: 1068 | AO14: 514 | AP14: 20 | AQ14: 82 | AR14: 115 | AS14: 2 | AT14: 10 | AU14: 5 | AV14: 121 | AW14: 3 | AX14: 43 | AY14: 8 | AZ14: 0 | BA14: 84 | BB14: 61
A15: 宜蘭縣 | C15: 356 | D15: 10 | E15: 0 | F15: 117 | G15: 22 | H15: 2 | I15: 120 | J15: 3 | K15: 4 | L15: 3 | M15: 66 | N15: 0 | O15: 0 | P15: 4 | Q15: 0 | R15: 5 | S15: 194 | T15: 5 | U15: 3 | V15: 29 | W15: 34 | X15: 8 | Y15: 4 | Z15: 8 | AA15: 4 | AB15: 1 | AC15: 3 | AD15: 1 | AE15: 16 | AF15: 26 | AG15: 3 | AH15: 8 | AI15: 3 | AJ15: 21 | AK15: 7 | AL15: 10 | AM15: 0 | AN15: 194 | AO15: 95 | AP15: 3 | AQ15: 16 | AR15: 25 | AS15: 0 | AT15: 1 | AU15: 0 | AV15: 12 | AW15: 4 | AX15: 3 | AY15: 1 | AZ15: 0 | BA15: 24 | BB15: 10
A16: 新竹縣 | C16: 467 | D16: 17 | E16: 2 | F16: 116 | G16: 37 | H16: 1 | I16: 180 | J16: 5 | K16: 1 | L16: 5 | M16: 90 | N16: 0 | O16: 0 | P16: 2 | Q16: 0 | R16: 11 | S16: 248 | T16: 11 | U16: 2 | V16: 27 | W16: 46 | X16: 17 | Y16: 8 | Z16: 10 | AA16: 9 | AB16: 1 | AC16: 2 | AD16: 7 | AE16: 10 | AF16: 16 | AG16: 1 | AH16: 14 | AI16: 7 | AJ16: 27 | AK16: 13 | AL16: 20 | AM16: 0 | AN16: 248 | AO16: 134 | AP16: 9 | AQ16: 19 | AR16: 20 | AS16: 0 | AT16: 3 | AU16: 1 | AV16: 24 | AW16: 0 | AX16: 5 | AY16: 4 | AZ16: 0 | BA16: 19 | BB16: 10
A17: 苗栗縣 | C17: 382 | D17: 11 | E17: 0 | F17: 100 | G17: 15 | H17: 0 | I17: 146 | J17: 2 | K17: 0 | L17: 0 | M17: 98 | N17: 0 | O17: 0 | P17: 0 | Q17: 0 | R17: 10 | S17: 189 | T17: 3 | U17: 1 | V17: 19 | W17: 32 | X17: 13 | Y17: 6 | Z17: 8 | AA17: 5 | AB17: 0 | AC17: 0 | AD17: 1 | AE17: 21 | AF17: 17 | AG17: 9 | AH17: 9 | AI17: 2 | AJ17: 21 | AK17: 9 | AL17: 13 | AM17: 0 | AN17: 189 | AO17: 105 | AP17: 8 | AQ17: 10 | AR17: 17 | AS17: 0 | AT17: 0 | AU17: 0 | AV17: 23 | AW17: 0 | AX17: 0 | AY17: 0 | AZ17: 0 | BA17: 14 | BB17: 12
A18: 彰化縣 | C18: 1008 | D18: 16 | E18: 1 | F18: 305 | G18: 75 | H18: 2 | I18: 321 | J18: 18 | K18: 10 | L18: 14 | M18: 209 | N18: 0 | O18: 0 | P18: 7 | Q18: 0 | R18: 30 | S18: 563 | T18: 3 | U18: 6 | V18: 76 | W18: 122 | X18: 36 | Y18: 13 | Z18: 27 | AA18: 11 | AB18: 0 | AC18: 8 | AD18: 8 | AE18: 46 | AF18: 39 | AG18: 7 | AH18: 18 | AI18: 18 | AJ18: 57 | AK18: 23 | AL18: 43 | AM18: 2 | AN18: 563 | AO18: 280 | AP18: 9 | AQ18: 43 | AR18: 63 | AS18: 0 | AT18: 10 | AU18: 4 | AV18: 44 | AW18: 2 | AX18: 9 | AY18: 6 | AZ18: 0 | BA18: 50 | BB18: 43
A19: 南投縣 | C19: 457 | D19: 15 | E19: 5 | F19: 144 | G19: 35 | H19: 0 | I19: 135 | J19: 4 | K19: 6 | L19: 18 | M19: 89 | N19: 0 | O19: 0 | P19: 0 | Q19: 0 | R19: 6 | S19: 264 | T19: 2 | U19: 1 | V19: 29 | W19: 56 | X19: 20 | Y19: 9 | Z19: 17 | AA19: 2 | AB19: 0 | AC19: 4 | AD19: 8 | AE19: 17 | AF19: 17 | AG19: 7 | AH19: 5 | AI19: 14 | AJ19: 21 | AK19: 10 | AL19: 25 | AM19: 0 | AN19: 264 | AO19: 148 | AP19: 3 | AQ19: 7 | AR19: 20 | AS19: 0 | AT19: 2 | AU19: 1 | AV19: 24 | AW19: 0 | AX19: 5 | AY19: 5 | AZ19: 0 | BA19: 29 | BB19: 20
... A30: 連江縣 | C30: 14 | D30: 0 | E30: 0 | F30: 4 | G30: 1 | H30: 0 | I30: 8 | J30: 0 | K30: 0 | L30: 1 | M30: 0 | N30: 0 | O30: 0 | P30: 0 | Q30: 0 | R30: 0 | S30: 4 | T30: 1 | U30: 0 | V30: 0 | W30: 1 | X30: 1 | Y30: 0 | Z30: 0 | AA30: 0 | AB30: 0 | AC30: 0 | AD30: 0 | AE30: 0 | AF30: 0 | AG30: 0 | AH30: 0 | AI30: 0 | AJ30: 0 | AK30: 0 | AL30: 1 | AM30: 0 | AN30: 4 | AO30: 4 | AP30: 0 | AQ30: 0 | AR30: 0 | AS30: 0 | AT30: 0 | AU30: 0 | AV30: 0 | AW30: 0 | AX30: 0 | AY30: 0 | AZ30: 0 | BA30: 0 | BB30: 0
A31: 資料來源：本部保護服務司。
A32: Source :Department of Protective Services , MOHW.
A34: 更新日期：2021/7/30

Sheet 111
A1: 5.2-01 性侵害事件通報案件統計
A3: 單位：件次；件
A4: 區域別 | C4: 通報件次 | S4: 通報件數 | AN4: 通報件數
C5: 通報單位別 | S5: 被害及嫌疑人兩造關係別 | AN5: 主要發生場所
C7: 合計 | D7: 113 專線 | E7: 防治 中心 | F7: 教育 | G7: 社政 | H7: 勞政 | I7: 警政 | J7: 司(軍)法 | K7: 衛政 | L7: 診所及衛生所 | M7: 醫院 | N7: 憲兵隊 | O7: 移民業務機關 | P7: 矯正機關 | Q7: 民政 | R7: 其他 | S7: 合計 | T7: 配偶 | U7: 前配偶 | V7: 前男女朋友 | W7: 男女 朋友 | X7: 直系親屬 | Y7: 手足 | Z7: 其他旁系親屬 | AA7: 家長家屬或家屬間關係者 | AB7: 保母(含本人/同住家人) | AC7: 機構人員(含管理者/工作人員/志工/收容對象) | AD7: 家人 朋友 | AE7: 普通朋友 | AF7: 同學 | AG7: 鄰居 | AH7: 職場關係(上司下屬/同事/客戶) | AI7: 師生 關係 | AJ7: 網友 | AK7: 不認識 | AL7: 其他 | AM7: 不詳 | AN7: 合計 | AO7: 住(居)所 | AP7: 辦公/工作場所 | AQ7: 公共 場所 | AR7: 學校 | AS7: 寄養 家庭 | AT7: 補習班 | AU7: 高級中等以下有提供住宿之學校 | AV7: 旅(賓)館 | AW7: 矯正 機關 | AX7: 特殊營業場所(視聽歌唱業、理髮業、三溫暖業、舞廳業、舞場業、酒家業、酒吧業、特殊咖啡茶室業) | AY7: 社會福利/安置照顧機構/兒少安置機構 | AZ7: 網際 網路 | BA7: 其他 | BB7: 不詳
A8: 111年 2022 | C8: 17201 | D8: 563 | E8: 219 | F8: 4262 | G8: 1205 | H8: 24 | I8: 6064 | J8: 236 | K8: 80 | L8: 223 | M8: 3891 | N8: 6 | O8: 2 | P8: 63 | Q8: 2 | R8: 361 | S8: 9234 | T8: 129 | U8: 60 | V8: 1156 | W8: 1770 | X8: 506 | Y8: 241 | Z8: 379 | AA8: 183 | AB8: 8 | AC8: 123 | AD8: 210 | AE8: 858 | AF8: 614 | AG8: 153 | AH8: 530 | AI8: 171 | AJ8: 1036 | AK8: 534 | AL8: 564 | AM8: 9 | AN8: 9234 | AO8: 4796 | AP8: 227 | AQ8: 631 | AR8: 636 | AS8: 5 | AT8: 73 | AU8: 31 | AV8: 1083 | AW8: 41 | AX8: 185 | AY8: 112 | AZ8: 3 | BA8: 869 | BB8: 542
A9: 新北市 | C9: 2980 | D9: 122 | E9: 82 | F9: 716 | G9: 196 | H9: 8 | I9: 957 | J9: 42 | K9: 11 | L9: 31 | M9: 694 | N9: 1 | O9: 0 | P9: 21 | Q9: 0 | R9: 99 | S9: 1648 | T9: 6 | U9: 2 | V9: 212 | W9: 242 | X9: 112 | Y9: 36 | Z9: 64 | AA9: 31 | AB9: 3 | AC9: 25 | AD9: 30 | AE9: 146 | AF9: 126 | AG9: 16 | AH9: 124 | AI9: 26 | AJ9: 227 | AK9: 103 | AL9: 116 | AM9: 1 | AN9: 1648 | AO9: 786 | AP9: 50 | AQ9: 138 | AR9: 100 | AS9: 1 | AT9: 13 | AU9: 5 | AV9: 210 | AW9: 10 | AX9: 39 | AY9: 23 | AZ9: 0 | BA9: 152 | BB9: 121
A10: 臺北市 | C10: 1596 | D10: 80 | E10: 30 | F10: 293 | G10: 130 | H10: 3 | I10: 649 | J10: 16 | K10: 5 | L10: 9 | M10: 340 | N10: 0 | O10: 0 | P10: 0 | Q10: 0 | R10: 41 | S10: 837 | T10: 19 | U10: 5 | V10: 105 | W10: 81 | X10: 44 | Y10: 23 | Z10: 42 | AA10: 14 | AB10: 0 | AC10: 6 | AD10: 12 | AE10: 106 | AF10: 68 | AG10: 5 | AH10: 57 | AI10: 23 | AJ10: 106 | AK10: 72 | AL10: 49 | AM10: 0 | AN10: 837 | AO10: 399 | AP10: 15 | AQ10: 50 | AR10: 67 | AS10: 2 | AT10: 6 | AU10: 0 | AV10: 125 | AW10: 1 | AX10: 27 | AY10: 7 | AZ10: 2 | BA10: 75 | BB10: 61
A11: 桃園市 | C11: 2050 | D11: 53 | E11: 13 | F11: 552 | G11: 129 | H11: 5 | I11: 734 | J11: 30 | K11: 9 | L11: 30 | M11: 465 | N11: 0 | O11: 0 | P11: 9 | Q11: 0 | R11: 21 | S11: 1135 | T11: 17 | U11: 9 | V11: 65 | W11: 367 | X11: 46 | Y11: 27 | Z11: 38 | AA11: 20 | AB11: 1 | AC11: 13 | AD11: 22 | AE11: 86 | AF11: 82 | AG11: 12 | AH11: 71 | AI11: 14 | AJ11: 118 | AK11: 64 | AL11: 63 | AM11: 0 | AN11: 1135 | AO11: 638 | AP11: 30 | AQ11: 66 | AR11: 69 | AS11: 1 | AT11: 6 | AU11: 1 | AV11: 131 | AW11: 4 | AX11: 29 | AY11: 11 | AZ11: 0 | BA11: 105 | BB11: 44
A12: 臺中市 | C12: 2131 | D12: 66 | E12: 37 | F12: 457 | G12: 132 | H12: 3 | I12: 769 | J12: 46 | K12: 3 | L12: 44 | M12: 522 | N12: 2 | O12: 0 | P12: 9 | Q12: 1 | R12: 40 | S12: 1185 | T12: 25 | U12: 8 | V12: 149 | W12: 237 | X12: 51 | Y12: 30 | Z12: 43 | AA12: 18 | AB12: 0 | AC12: 16 | AD12: 30 | AE12: 134 | AF12: 51 | AG12: 22 | AH12: 86 | AI12: 27 | AJ12: 123 | AK12: 60 | AL12: 71 | AM12: 4 | AN12: 1185 | AO12: 594 | AP12: 28 | AQ12: 66 | AR12: 69 | AS12: 0 | AT12: 9 | AU12: 2 | AV12: 176 | AW12: 4 | AX12: 18 | AY12: 11 | AZ12: 0 | BA12: 138 | BB12: 70
A13: 臺南市 | C13: 1178 | D13: 40 | E13: 21 | F13: 304 | G13: 116 | H13: 1 | I13: 424 | J13: 9 | K13: 9 | L13: 19 | M13: 217 | N13: 0 | O13: 0 | P13: 1 | Q13: 0 | R13: 17 | S13: 657 | T13: 11 | U13: 7 | V13: 81 | W13: 113 | X13: 42 | Y13: 15 | Z13: 37 | AA13: 15 | AB13: 0 | AC13: 10 | AD13: 13 | AE13: 51 | AF13: 48 | AG13: 13 | AH13: 37 | AI13: 12 | AJ13: 73 | AK13: 28 | AL13: 51 | AM13: 0 | AN13: 657 | AO13: 356 | AP13: 19 | AQ13: 23 | AR13: 54 | AS13: 1 | AT13: 8 | AU13: 1 | AV13: 74 | AW13: 1 | AX13: 9 | AY13: 9 | AZ13: 0 | BA13: 65 | BB13: 37
A14: 高雄市 | C14: 1863 | D14: 71 | E14: 24 | F14: 424 | G14: 111 | H14: 0 | I14: 669 | J14: 23 | K14: 13 | L14: 29 | M14: 464 | N14: 2 | O14: 0 | P14: 5 | Q14: 0 | R14: 28 | S14: 972 | T14: 15 | U14: 9 | V14: 133 | W14: 171 | X14: 52 | Y14: 33 | Z14: 39 | AA14: 27 | AB14: 1 | AC14: 12 | AD14: 29 | AE14: 85 | AF14: 52 | AG14: 23 | AH14: 55 | AI14: 12 | AJ14: 128 | AK14: 60 | AL14: 36 | AM14: 0 | AN14: 972 | AO14: 526 | AP14: 25 | AQ14: 76 | AR14: 69 | AS14: 0 | AT14: 7 | AU14: 1 | AV14: 121 | AW14: 5 | AX14: 22 | AY14: 8 | AZ14: 1 | BA14: 58 | BB14: 53
A15: 宜蘭縣 | C15: 334 | D15: 10 | E15: 0 | F15: 103 | G15: 29 | H15: 0 | I15: 110 | J15: 4 | K15: 3 | L15: 0 | M15: 67 | N15: 0 | O15: 0 | P15: 0 | Q15: 0 | R15: 8 | S15: 187 | T15: 2 | U15: 1 | V15: 22 | W15: 45 | X15: 6 | Y15: 8 | Z15: 6 | AA15: 5 | AB15: 0 | AC15: 3 | AD15: 5 | AE15: 17 | AF15: 18 | AG15: 4 | AH15: 4 | AI15: 2 | AJ15: 16 | AK15: 9 | AL15: 14 | AM15: 0 | AN15: 187 | AO15: 105 | AP15: 1 | AQ15: 12 | AR15: 15 | AS15: 0 | AT15: 2 | AU15: 1 | AV15: 17 | AW15: 0 | AX15: 1 | AY15: 2 | AZ15: 0 | BA15: 20 | BB15: 11
A16: 新竹縣 | C16: 462 | D16: 15 | E16: 3 | F16: 131 | G16: 35 | H16: 0 | I16: 165 | J16: 9 | K16: 2 | L16: 5 | M16: 90 | N16: 0 | O16: 0 | P16: 1 | Q16: 0 | R16: 6 | S16: 249 | T16: 3 | U16: 0 | V16: 15 | W16: 73 | X16: 12 | Y16: 9 | Z16: 13 | AA16: 6 | AB16: 0 | AC16: 3 | AD16: 5 | AE16: 26 | AF16: 17 | AG16: 4 | AH16: 10 | AI16: 2 | AJ16: 20 | AK16: 13 | AL16: 18 | AM16: 0 | AN16: 249 | AO16: 140 | AP16: 7 | AQ16: 20 | AR16: 18 | AS16: 0 | AT16: 2 | AU16: 0 | AV16: 19 | AW16: 3 | AX16: 2 | AY16: 2 | AZ16: 0 | BA16: 22 | BB16: 14
A17: 苗栗縣 | C17: 345 | D17: 17 | E17: 0 | F17: 83 | G17: 22 | H17: 0 | I17: 131 | J17: 2 | K17: 1 | L17: 4 | M17: 78 | N17: 0 | O17: 0 | P17: 1 | Q17: 0 | R17: 6 | S17: 177 | T17: 4 | U17: 1 | V17: 29 | W17: 39 | X17: 10 | Y17: 4 | Z17: 4 | AA17: 4 | AB17: 0 | AC17: 3 | AD17: 7 | AE17: 22 | AF17: 6 | AG17: 0 | AH17: 5 | AI17: 1 | AJ17: 17 | AK17: 12 | AL17: 9 | AM17: 0 | AN17: 177 | AO17: 106 | AP17: 5 | AQ17: 19 | AR17: 9 | AS17: 0 | AT17: 0 | AU17: 0 | AV17: 18 | AW17: 1 | AX17: 4 | AY17: 4 | AZ17: 0 | BA17: 6 | BB17: 5
A18: 彰化縣 | C18: 912 | D18: 10 | E18: 3 | F18: 262 | G18: 71 | H18: 1 | I18: 295 | J18: 10 | K18: 4 | L18: 8 | M18: 209 | N18: 0 | O18: 0 | P18: 2 | Q18: 0 | R18: 37 | S18: 462 | T18: 7 | U18: 1 | V18: 86 | W18: 63 | X18: 24 | Y18: 11 | Z18: 19 | AA18: 7 | AB18: 1 | AC18: 6 | AD18: 14 | AE18: 35 | AF18: 31 | AG18: 7 | AH18: 21 | AI18: 19 | AJ18: 45 | AK18: 35 | AL18: 28 | AM18: 2 | AN18: 462 | AO18: 221 | AP18: 12 | AQ18: 39 | AR18: 41 | AS18: 0 | AT18: 7 | AU18: 1 | AV18: 50 | AW18: 2 | AX18: 11 | AY18: 3 | AZ18: 0 | BA18: 48 | BB18: 27
A19: 南投縣 | C19: 333 | D19: 10 | E19: 1 | F19: 123 | G19: 22 | H19: 0 | I19: 89 | J19: 12 | K19: 2 | L19: 10 | M19: 60 | N19: 0 | O19: 0 | P19: 2 | Q19: 0 | R19: 2 | S19: 201 | T19: 2 | U19: 1 | V19: 28 | W19: 61 | X19: 17 | Y19: 5 | Z19: 7 | AA19: 3 | AB19: 0 | AC19: 2 | AD19: 5 | AE19: 8 | AF19: 8 | AG19: 3 | AH19: 8 | AI19: 5 | AJ19: 18 | AK19: 11 | AL19: 8 | AM19: 1 | AN19: 201 | AO19: 105 | AP19: 6 | AQ19: 15 | AR19: 15 | AS19: 0 | AT19: 3 | AU19: 3 | AV19: 12 | AW19: 0 | AX19: 3 | AY19: 2 | AZ19: 0 | BA19: 17 | BB19: 20
... A30: 連江縣 | C30: 5 | D30: 0 | E30: 0 | F30: 4 | G30: 0 | H30: 0 | I30: 0 | J30: 0 | K30: 0 | L30: 0 | M30: 0 | N30: 0 | O30: 0 | P30: 0 | Q30: 0 | R30: 1 | S30: 4 | T30: 0 | U30: 0 | V30: 0 | W30: 3 | X30: 0 | Y30: 0 | Z30: 0 | AA30: 0 | AB30: 0 | AC30: 0 | AD30: 0 | AE30: 0 | AF30: 1 | AG30: 0 | AH30: 0 | AI30: 0 | AJ30: 0 | AK30: 0 | AL30: 0 | AM30: 0 | AN30: 4 | AO30: 3 | AP30: 0 | AQ30: 1 | AR30: 0 | AS30: 0 | AT30: 0 | AU30: 0 | AV30: 0 | AW30: 0 | AX30: 0 | AY30: 0 | AZ30: 0 | BA30: 0 | BB30: 0
A31: 資料來源：本部保護服務司。
A32: Source :Department of Protective Services , MOHW.
A34: 更新日期：2021/7/30

Sheet 110
A1: 5.2-01 性侵害事件通報案件統計
A3: 單位：件次；件
A4: 區域別 | C4: 通報件次 | S4: 通報件數 | AN4: 通報件數
C5: 通報單位別 | S5: 被害及嫌疑人兩造關係別 | AN5: 主要發生場所
C7: 合計 | D7: 113 專線 | E7: 防治 中心 | F7: 教育 | G7: 社政 | H7: 勞政 | I7: 警政 | J7: 司(軍)法 | K7: 衛政 | L7: 診所及衛生所 | M7: 醫院 | N7: 憲兵隊 | O7: 移民業務機關 | P7: 矯正機關 | Q7: 民政 | R7: 其他 | S7: 合計 | T7: 配偶 | U7: 前配偶 | V7: 前男女朋友 | W7: 男女 朋友 | X7: 直系親屬 | Y7: 手足 | Z7: 其他旁系親屬 | AA7: 家長家屬或家屬間關係者 | AB7: 保母(含本人/同住家人) | AC7: 機構人員(含管理者/工作人員/志工/收容對象) | AD7: 家人 朋友 | AE7: 普通朋友 | AF7: 同學 | AG7: 鄰居 | AH7: 職場關係(上司下屬/同事/客戶) | AI7: 師生 關係 | AJ7: 網友 | AK7: 不認識 | AL7: 其他 | AM7: 不詳 | AN7: 合計 | AO7: 住(居)所 | AP7: 辦公/工作場所 | AQ7: 公共 場所 | AR7: 學校 | AS7: 寄養 家庭 | AT7: 補習班 | AU7: 高級中等以下有提供住宿之學校 | AV7: 旅(賓)館 | AW7: 矯正 機關 | AX7: 特殊營業場所(視聽歌唱業、理髮業、三溫暖業、舞廳業、舞場業、酒家業、酒吧業、特殊咖啡茶室業) | AY7: 社會福利/安置照顧機構/兒少安置機構 | AZ7: 網際 網路 | BA7: 其他 | BB7: 不詳
A8: 110年 2021 | C8: 16029 | D8: 588 | E8: 275 | F8: 4059 | G8: 1277 | H8: 23 | I8: 5429 | J8: 198 | K8: 58 | L8: 190 | M8: 3582 | N8: 9 | O8: 5 | P8: 58 | Q8: 0 | R8: 278 | S8: 8532 | T8: 119 | U8: 60 | V8: 990 | W8: 1677 | X8: 514 | Y8: 269 | Z8: 361 | AA8: 164 | AB8: 4 | AC8: 129 | AD8: 201 | AE8: 784 | AF8: 582 | AG8: 158 | AH8: 476 | AI8: 159 | AJ8: 924 | AK8: 480 | AL8: 468 | AM8: 13 | AN8: 8532 | AO8: 4547 | AP8: 223 | AQ8: 552 | AR8: 586 | AS8: 4 | AT8: 48 | AU8: 19 | AV8: 961 | AW8: 20 | AX8: 132 | AY8: 115 | AZ8: 6 | BA8: 711 | BB8: 608
A9: 新北市 | C9: 2806 | D9: 136 | E9: 91 | F9: 686 | G9: 154 | H9: 5 | I9: 848 | J9: 39 | K9: 10 | L9: 36 | M9: 717 | N9: 1 | O9: 1 | P9: 18 | Q9: 0 | R9: 64 | S9: 1549 | T9: 5 | U9: 1 | V9: 207 | W9: 238 | X9: 132 | Y9: 62 | Z9: 63 | AA9: 24 | AB9: 3 | AC9: 17 | AD9: 29 | AE9: 148 | AF9: 93 | AG9: 19 | AH9: 98 | AI9: 42 | AJ9: 190 | AK9: 98 | AL9: 79 | AM9: 1 | AN9: 1549 | AO9: 774 | AP9: 31 | AQ9: 111 | AR9: 100 | AS9: 0 | AT9: 15 | AU9: 1 | AV9: 189 | AW9: 1 | AX9: 26 | AY9: 12 | AZ9: 2 | BA9: 148 | BB9: 139
A10: 臺北市 | C10: 1456 | D10: 85 | E10: 25 | F10: 289 | G10: 147 | H10: 3 | I10: 517 | J10: 11 | K10: 5 | L10: 7 | M10: 325 | N10: 0 | O10: 0 | P10: 0 | Q10: 0 | R10: 42 | S10: 813 | T10: 8 | U10: 7 | V10: 86 | W10: 101 | X10: 47 | Y10: 33 | Z10: 36 | AA10: 17 | AB10: 1 | AC10: 6 | AD10: 13 | AE10: 81 | AF10: 77 | AG10: 9 | AH10: 63 | AI10: 13 | AJ10: 103 | AK10: 59 | AL10: 53 | AM10: 0 | AN10: 813 | AO10: 401 | AP10: 22 | AQ10: 52 | AR10: 52 | AS10: 2 | AT10: 6 | AU10: 1 | AV10: 93 | AW10: 0 | AX10: 21 | AY10: 9 | AZ10: 1 | BA10: 68 | BB10: 85
A11: 桃園市 | C11: 1960 | D11: 67 | E11: 27 | F11: 526 | G11: 158 | H11: 1 | I11: 651 | J11: 27 | K11: 4 | L11: 19 | M11: 448 | N11: 2 | O11: 0 | P11: 3 | Q11: 0 | R11: 27 | S11: 1060 | T11: 18 | U11: 14 | V11: 62 | W11: 387 | X11: 53 | Y11: 22 | Z11: 20 | AA11: 19 | AB11: 0 | AC11: 25 | AD11: 13 | AE11: 82 | AF11: 52 | AG11: 15 | AH11: 57 | AI11: 4 | AJ11: 91 | AK11: 75 | AL11: 48 | AM11: 3 | AN11: 1060 | AO11: 580 | AP11: 26 | AQ11: 63 | AR11: 56 | AS11: 0 | AT11: 5 | AU11: 2 | AV11: 119 | AW11: 2 | AX11: 29 | AY11: 20 | AZ11: 0 | BA11: 93 | BB11: 65
A12: 臺中市 | C12: 1810 | D12: 63 | E12: 16 | F12: 371 | G12: 140 | H12: 2 | I12: 665 | J12: 35 | K12: 5 | L12: 40 | M12: 441 | N12: 3 | O12: 0 | P12: 3 | Q12: 0 | R12: 26 | S12: 939 | T12: 22 | U12: 12 | V12: 133 | W12: 157 | X12: 43 | Y12: 24 | Z12: 33 | AA12: 20 | AB12: 0 | AC12: 5 | AD12: 20 | AE12: 95 | AF12: 51 | AG12: 12 | AH12: 62 | AI12: 26 | AJ12: 122 | AK12: 40 | AL12: 60 | AM12: 2 | AN12: 939 | AO12: 529 | AP12: 32 | AQ12: 60 | AR12: 38 | AS12: 1 | AT12: 13 | AU12: 0 | AV12: 115 | AW12: 0 | AX12: 14 | AY12: 9 | AZ12: 0 | BA12: 70 | BB12: 58
A13: 臺南市 | C13: 1057 | D13: 39 | E13: 23 | F13: 281 | G13: 104 | H13: 0 | I13: 372 | J13: 6 | K13: 7 | L13: 18 | M13: 187 | N13: 1 | O13: 0 | P13: 0 | Q13: 0 | R13: 19 | S13: 581 | T13: 15 | U13: 4 | V13: 95 | W13: 68 | X13: 37 | Y13: 26 | Z13: 44 | AA13: 12 | AB13: 0 | AC13: 7 | AD13: 18 | AE13: 49 | AF13: 30 | AG13: 24 | AH13: 28 | AI13: 11 | AJ13: 56 | AK13: 18 | AL13: 38 | AM13: 1 | AN13: 581 | AO13: 334 | AP13: 14 | AQ13: 23 | AR13: 45 | AS13: 0 | AT13: 2 | AU13: 0 | AV13: 68 | AW13: 1 | AX13: 5 | AY13: 6 | AZ13: 0 | BA13: 43 | BB13: 40
A14: 高雄市 | C14: 1743 | D14: 66 | E14: 40 | F14: 456 | G14: 146 | H14: 2 | I14: 551 | J14: 20 | K14: 10 | L14: 31 | M14: 393 | N14: 1 | O14: 0 | P14: 6 | Q14: 0 | R14: 21 | S14: 941 | T14: 10 | U14: 8 | V14: 105 | W14: 197 | X14: 57 | Y14: 26 | Z14: 38 | AA14: 16 | AB14: 0 | AC14: 25 | AD14: 26 | AE14: 77 | AF14: 62 | AG14: 21 | AH14: 52 | AI14: 13 | AJ14: 116 | AK14: 54 | AL14: 37 | AM14: 1 | AN14: 941 | AO14: 486 | AP14: 22 | AQ14: 76 | AR14: 97 | AS14: 0 | AT14: 3 | AU14: 2 | AV14: 117 | AW14: 5 | AX14: 13 | AY14: 15 | AZ14: 2 | BA14: 53 | BB14: 50
A15: 宜蘭縣 | C15: 355 | D15: 11 | E15: 2 | F15: 99 | G15: 29 | H15: 0 | I15: 117 | J15: 3 | K15: 1 | L15: 1 | M15: 83 | N15: 0 | O15: 0 | P15: 2 | Q15: 0 | R15: 7 | S15: 183 | T15: 2 | U15: 0 | V15: 18 | W15: 37 | X15: 7 | Y15: 5 | Z15: 5 | AA15: 4 | AB15: 0 | AC15: 4 | AD15: 2 | AE15: 21 | AF15: 19 | AG15: 10 | AH15: 7 | AI15: 5 | AJ15: 15 | AK15: 12 | AL15: 10 | AM15: 0 | AN15: 183 | AO15: 76 | AP15: 9 | AQ15: 21 | AR15: 20 | AS15: 0 | AT15: 1 | AU15: 0 | AV15: 20 | AW15: 2 | AX15: 2 | AY15: 5 | AZ15: 0 | BA15: 19 | BB15: 8
A16: 新竹縣 | C16: 444 | D16: 12 | E16: 13 | F16: 151 | G16: 26 | H16: 3 | I16: 159 | J16: 4 | K16: 2 | L16: 1 | M16: 71 | N16: 0 | O16: 0 | P16: 0 | Q16: 0 | R16: 2 | S16: 235 | T16: 3 | U16: 1 | V16: 15 | W16: 73 | X16: 23 | Y16: 5 | Z16: 5 | AA16: 4 | AB16: 0 | AC16: 1 | AD16: 6 | AE16: 29 | AF16: 7 | AG16: 3 | AH16: 13 | AI16: 4 | AJ16: 23 | AK16: 8 | AL16: 11 | AM16: 1 | AN16: 235 | AO16: 147 | AP16: 6 | AQ16: 10 | AR16: 10 | AS16: 0 | AT16: 0 | AU16: 0 | AV16: 24 | AW16: 0 | AX16: 2 | AY16: 0 | AZ16: 0 | BA16: 13 | BB16: 23
A17: 苗栗縣 | C17: 361 | D17: 13 | E17: 7 | F17: 86 | G17: 37 | H17: 1 | I17: 134 | J17: 1 | K17: 2 | L17: 1 | M17: 74 | N17: 0 | O17: 0 | P17: 0 | Q17: 0 | R17: 5 | S17: 175 | T17: 2 | U17: 0 | V17: 28 | W17: 39 | X17: 12 | Y17: 10 | Z17: 5 | AA17: 4 | AB17: 0 | AC17: 3 | AD17: 8 | AE17: 14 | AF17: 6 | AG17: 4 | AH17: 6 | AI17: 3 | AJ17: 11 | AK17: 11 | AL17: 9 | AM17: 0 | AN17: 175 | AO17: 110 | AP17: 4 | AQ17: 9 | AR17: 4 | AS17: 0 | AT17: 1 | AU17: 1 | AV17: 16 | AW17: 0 | AX17: 1 | AY17: 3 | AZ17: 1 | BA17: 14 | BB17: 11
A18: 彰化縣 | C18: 798 | D18: 22 | E18: 8 | F18: 202 | G18: 70 | H18: 1 | I18: 263 | J18: 18 | K18: 0 | L18: 8 | M18: 169 | N18: 0 | O18: 1 | P18: 19 | Q18: 0 | R18: 17 | S18: 419 | T18: 9 | U18: 3 | V18: 45 | W18: 65 | X18: 26 | Y18: 10 | Z18: 26 | AA18: 8 | AB18: 0 | AC18: 8 | AD18: 19 | AE18: 41 | AF18: 49 | AG18: 2 | AH18: 18 | AI18: 0 | AJ18: 41 | AK18: 26 | AL18: 21 | AM18: 2 | AN18: 419 | AO18: 236 | AP18: 13 | AQ18: 27 | AR18: 30 | AS18: 0 | AT18: 0 | AU18: 0 | AV18: 47 | AW18: 4 | AX18: 4 | AY18: 5 | AZ18: 0 | BA18: 23 | BB18: 30
A19: 南投縣 | C19: 406 | D19: 9 | E19: 10 | F19: 146 | G19: 26 | H19: 0 | I19: 102 | J19: 8 | K19: 1 | L19: 6 | M19: 85 | N19: 0 | O19: 2 | P19: 0 | Q19: 0 | R19: 11 | S19: 229 | T19: 2 | U19: 2 | V19: 31 | W19: 58 | X19: 13 | Y19: 6 | Z19: 14 | AA19: 4 | AB19: 0 | AC19: 9 | AD19: 6 | AE19: 19 | AF19: 18 | AG19: 7 | AH19: 6 | AI19: 3 | AJ19: 14 | AK19: 5 | AL19: 12 | AM19: 0 | AN19: 229 | AO19: 133 | AP19: 1 | AQ19: 12 | AR19: 9 | AS19: 0 | AT19: 0 | AU19: 1 | AV19: 19 | AW19: 0 | AX19: 1 | AY19: 8 | AZ19: 0 | BA19: 24 | BB19: 21
... A30: 連江縣 | C30: 4 | D30: 0 | E30: 0 | F30: 0 | G30: 1 | H30: 0 | I30: 3 | J30: 0 | K30: 0 | L30: 0 | M30: 0 | N30: 0 | O30: 0 | P30: 0 | Q30: 0 | R30: 0 | S30: 1 | T30: 0 | U30: 0 | V30: 0 | W30: 0 | X30: 0 | Y30: 0 | Z30: 0 | AA30: 0 | AB30: 0 | AC30: 0 | AD30: 0 | AE30: 0 | AF30: 0 | AG30: 0 | AH30: 1 | AI30: 0 | AJ30: 0 | AK30: 0 | AL30: 0 | AM30: 0 | AN30: 1 | AO30: 0 | AP30: 1 | AQ30: 0 | AR30: 0 | AS30: 0 | AT30: 0 | AU30: 0 | AV30: 0 | AW30: 0 | AX30: 0 | AY30: 0 | AZ30: 0 | BA30: 0 | BB30: 0
A31: 資料來源：本部保護服務司。
A32: Source :Department of Protective Services , MOHW.
A34: 更新日期：2021/7/30

Sheet 108~109
A1: 5.2-01 性侵害事件通報案件統計
A3: 單位：件次；件
A4: 年別 | C4: 通報件次 | O4: 通報件數 | AH4: 通報件數
C5: 通報人員別 | O5: 被害及嫌疑人兩造關係別 | AH5: 主要發生場所
C7: 合計 | D7: 醫事 人員 | E7: 警察 人員 | F7: 社政/社工人員 | G7: 教育 人員 | H7: 保育 人員 | I7: 勞政 人員 | J7: 司(軍)法人員 | K7: 移民業務相關人員 | L7: 村（里）幹事 | M7: 矯正 人員 | N7: 其他 | O7: 合計 | P7: 配偶 | Q7: 前配偶 | R7: 同居 伴侶 | S7: 未同居伴侶 | T7: 曾為同居伴侶 | U7: 現為/曾為直系親屬 | V7: 現為/曾為家長家屬或家屬間關係者 | W7: 其他 親屬 | X7: 非家庭成員照顧者 | Y7: 保母 | Z7: 機構 人員 | AA7: 朋友(家人朋友/男女朋友/普通朋友/同學/鄰居) | AB7: 職場關係(上司下屬/同事/客戶) | AC7: 師生 關係 | AD7: 網友 | AE7: 不認識 | AF7: 其他 | AG7: 不詳 | AH7: 合計 | AI7: 住(居)所 | AJ7: 辦公/工作場所 | AK7: 公共 場所 | AL7: 學校 | AM7: 寄養 家庭 | AN7: 補習班 | AO7: 高級中等以下有提供住宿之學校 | AP7: 旅(賓)館 | AQ7: 矯正 機關 | AR7: 特殊營業場所(視聽歌唱業、理髮業、三溫暖業、舞廳業、舞場業、酒家業、酒吧業、特殊咖啡茶室業) | AS7: 社會福利/安置照顧機構/兒少安置機構 | AT7: 網際 網路 | AU7: 其他 | AV7: 不詳
A8: 108年 2019 | C8: 17119 | D8: 1466 | E8: 5067 | F8: 5607 | G8: 4460 | H8: 13 | I8: 29 | J8: 188 | K8: 3 | L8: 7 | M8: 53 | N8: 226 | O8: 9183 | P8: 107 | Q8: 43 | R8: 53 | S8: 321 | T8: 44 | U8: 394 | V8: 107 | W8: 516 | X8: 12 | Y8: 4 | Z8: 22 | AA8: 3495 | AB8: 396 | AC8: 201 | AD8: 833 | AE8: 446 | AF8: 1216 | AG8: 973 | AH8: 9183 | AI8: 4367 | AJ8: 183 | AK8: 553 | AL8: 706 | AM8: 5 | AN8: 75 | AO8: 35 | AP8: 983 | AQ8: 30 | AR8: 138 | AS8: 123 | AT8: 11 | AU8: 867 | AV8: 1107
A9: 109年 2020 | C9: 18847 | D9: 1550 | E9: 5735 | F9: 5905 | G9: 5073 | H9: 13 | I9: 25 | J9: 226 | K9: 3 | L9: 2 | M9: 64 | N9: 251 | O9: 10334 | P9: 138 | Q9: 57 | R9: 63 | S9: 1644 | T9: 107 | U9: 621 | V9: 141 | W9: 611 | X9: 16 | Y9: 4 | Z9: 43 | AA9: 3397 | AB9: 414 | AC9: 204 | AD9: 980 | AE9: 582 | AF9: 978 | AG9: 334 | AH9: 10334 | AI9: 4971 | AJ9: 247 | AK9: 684 | AL9: 727 | AM9: 13 | AN9: 73 | AO9: 49 | AP9: 1040 | AQ9: 46 | AR9: 175 | AS9: 124 | AT9: 9 | AU9: 818 | AV9: 1358
A10: 資料來源：本部保護服務司。
A12: 更新日期：2021/7/30

Sheet 109
A1: 5.2-01 性侵害事件通報案件統計
A3: 單位：件次；件
A4: 區域別 | C4: 通報件次 | O4: 通報件數 | AH4: 通報件數
C5: 通報人員別 | O5: 被害及嫌疑人兩造關係別 | AH5: 主要發生場所
C7: 合計 | D7: 醫事 人員 | E7: 警察 人員 | F7: 社政/社工人員 | G7: 教育 人員 | H7: 保育 人員 | I7: 勞政 人員 | J7: 司(軍)法人員 | K7: 移民業務相關人員 | L7: 村（里）幹事 | M7: 矯正 人員 | N7: 其他 | O7: 合計 | P7: 配偶 | Q7: 前配偶 | R7: 同居 伴侶 | S7: 未同居伴侶 | T7: 曾為同居伴侶 | U7: 現為/曾為直系親屬 | V7: 現為/曾為家長家屬或家屬間關係者 | W7: 其他 親屬 | X7: 非家庭成員照顧者 | Y7: 保母 | Z7: 機構 人員 | AA7: 朋友(家人朋友/男女朋友/普通朋友/同學/鄰居) | AB7: 職場關係(上司下屬/同事/客戶) | AC7: 師生 關係 | AD7: 網友 | AE7: 不認識 | AF7: 其他 | AG7: 不詳 | AH7: 合計 | AI7: 住(居)所 | AJ7: 辦公/工作場所 | AK7: 公共 場所 | AL7: 學校 | AM7: 寄養 家庭 | AN7: 補習班 | AO7: 高級中等以下有提供住宿之學校 | AP7: 旅(賓)館 | AQ7: 矯正 機關 | AR7: 特殊營業場所(視聽歌唱業、理髮業、三溫暖業、舞廳業、舞場業、酒家業、酒吧業、特殊咖啡茶室業) | AS7: 社會福利/安置照顧機構/兒少安置機構 | AT7: 網際 網路 | AU7: 其他 | AV7: 不詳
A8: 109年 2020 | C8: 18847 | D8: 1550 | E8: 5735 | F8: 5905 | G8: 5073 | H8: 13 | I8: 25 | J8: 226 | K8: 3 | L8: 2 | M8: 64 | N8: 251 | O8: 10334 | P8: 138 | Q8: 57 | R8: 63 | S8: 1644 | T8: 107 | U8: 621 | V8: 141 | W8: 611 | X8: 16 | Y8: 4 | Z8: 43 | AA8: 3397 | AB8: 414 | AC8: 204 | AD8: 980 | AE8: 582 | AF8: 978 | AG8: 334 | AH8: 10334 | AI8: 4971 | AJ8: 247 | AK8: 684 | AL8: 727 | AM8: 13 | AN8: 73 | AO8: 49 | AP8: 1040 | AQ8: 46 | AR8: 175 | AS8: 124 | AT8: 9 | AU8: 818 | AV8: 1358
A9: 新北市 | C9: 3221 | D9: 253 | E9: 867 | F9: 1164 | G9: 824 | H9: 4 | I9: 4 | J9: 44 | K9: 0 | L9: 0 | M9: 15 | N9: 46 | O9: 1844 | P9: 4 | Q9: 1 | R9: 8 | S9: 212 | T9: 14 | U9: 136 | V9: 28 | W9: 126 | X9: 3 | Y9: 0 | Z9: 3 | AA9: 609 | AB9: 79 | AC9: 57 | AD9: 204 | AE9: 133 | AF9: 166 | AG9: 61 | AH9: 1844 | AI9: 833 | AJ9: 55 | AK9: 128 | AL9: 133 | AM9: 3 | AN9: 16 | AO9: 9 | AP9: 181 | AQ9: 9 | AR9: 44 | AS9: 12 | AT9: 3 | AU9: 157 | AV9: 261
A10: 臺北市 | C10: 1701 | D10: 154 | E10: 539 | F10: 581 | G10: 370 | H10: 1 | I10: 1 | J10: 16 | K10: 0 | L10: 0 | M10: 0 | N10: 39 | O10: 979 | P10: 13 | Q10: 5 | R10: 4 | S10: 112 | T10: 11 | U10: 44 | V10: 8 | W10: 60 | X10: 3 | Y10: 1 | Z10: 7 | AA10: 347 | AB10: 50 | AC10: 21 | AD10: 97 | AE10: 77 | AF10: 90 | AG10: 29 | AH10: 979 | AI10: 362 | AJ10: 34 | AK10: 70 | AL10: 70 | AM10: 5 | AN10: 9 | AO10: 5 | AP10: 118 | AQ10: 0 | AR10: 24 | AS10: 14 | AT10: 0 | AU10: 77 | AV10: 191
A11: 桃園市 | C11: 2202 | D11: 282 | E11: 684 | F11: 565 | G11: 604 | H11: 1 | I11: 4 | J11: 31 | K11: 1 | L11: 0 | M11: 7 | N11: 23 | O11: 1231 | P11: 23 | Q11: 9 | R11: 10 | S11: 245 | T11: 15 | U11: 65 | V11: 9 | W11: 65 | X11: 1 | Y11: 1 | Z11: 2 | AA11: 339 | AB11: 59 | AC11: 15 | AD11: 112 | AE11: 71 | AF11: 161 | AG11: 29 | AH11: 1231 | AI11: 657 | AJ11: 36 | AK11: 75 | AL11: 59 | AM11: 1 | AN11: 5 | AO11: 2 | AP11: 144 | AQ11: 2 | AR11: 18 | AS11: 9 | AT11: 1 | AU11: 109 | AV11: 113
A12: 臺中市 | C12: 1962 | D12: 180 | E12: 660 | F12: 588 | G12: 462 | H12: 2 | I12: 3 | J12: 31 | K12: 0 | L12: 0 | M12: 3 | N12: 33 | O12: 1022 | P12: 26 | Q12: 7 | R12: 14 | S12: 193 | T12: 8 | U12: 53 | V12: 16 | W12: 62 | X12: 0 | Y12: 0 | Z12: 2 | AA12: 280 | AB12: 54 | AC12: 17 | AD12: 97 | AE12: 49 | AF12: 110 | AG12: 34 | AH12: 1022 | AI12: 516 | AJ12: 22 | AK12: 70 | AL12: 60 | AM12: 3 | AN12: 10 | AO12: 4 | AP12: 109 | AQ12: 1 | AR12: 17 | AS12: 9 | AT12: 1 | AU12: 75 | AV12: 125
A13: 臺南市 | C13: 1132 | D13: 71 | E13: 339 | F13: 371 | G13: 333 | H13: 0 | I13: 1 | J13: 8 | K13: 0 | L13: 0 | M13: 0 | N13: 9 | O13: 647 | P13: 8 | Q13: 9 | R13: 2 | S13: 99 | T13: 10 | U13: 38 | V13: 15 | W13: 55 | X13: 3 | Y13: 0 | Z13: 1 | AA13: 181 | AB13: 33 | AC13: 17 | AD13: 67 | AE13: 32 | AF13: 58 | AG13: 19 | AH13: 647 | AI13: 305 | AJ13: 17 | AK13: 36 | AL13: 59 | AM13: 0 | AN13: 12 | AO13: 5 | AP13: 57 | AQ13: 0 | AR13: 4 | AS13: 2 | AT13: 0 | AU13: 50 | AV13: 100
A14: 高雄市 | C14: 1997 | D14: 238 | E14: 567 | F14: 589 | G14: 551 | H14: 0 | I14: 3 | J14: 21 | K14: 0 | L14: 0 | M14: 1 | N14: 27 | O14: 1155 | P14: 10 | Q14: 8 | R14: 9 | S14: 204 | T14: 12 | U14: 71 | V14: 13 | W14: 62 | X14: 0 | Y14: 2 | Z14: 11 | AA14: 404 | AB14: 48 | AC14: 22 | AD14: 106 | AE14: 53 | AF14: 90 | AG14: 30 | AH14: 1155 | AI14: 580 | AJ14: 21 | AK14: 88 | AL14: 81 | AM14: 0 | AN14: 5 | AO14: 2 | AP14: 115 | AQ14: 5 | AR14: 24 | AS14: 15 | AT14: 3 | AU14: 54 | AV14: 162
A15: 宜蘭縣 | C15: 379 | D15: 7 | E15: 123 | F15: 134 | G15: 99 | H15: 1 | I15: 1 | J15: 6 | K15: 0 | L15: 0 | M15: 3 | N15: 5 | O15: 183 | P15: 3 | Q15: 0 | R15: 1 | S15: 24 | T15: 0 | U15: 11 | V15: 2 | W15: 9 | X15: 1 | Y15: 0 | Z15: 0 | AA15: 66 | AB15: 4 | AC15: 2 | AD15: 14 | AE15: 15 | AF15: 27 | AG15: 4 | AH15: 183 | AI15: 88 | AJ15: 3 | AK15: 16 | AL15: 25 | AM15: 0 | AN15: 0 | AO15: 0 | AP15: 16 | AQ15: 6 | AR15: 3 | AS15: 3 | AT15: 1 | AU15: 8 | AV15: 14
A16: 新竹縣 | C16: 587 | D16: 44 | E16: 197 | F16: 153 | G16: 176 | H16: 1 | I16: 1 | J16: 4 | K16: 0 | L16: 0 | M16: 0 | N16: 11 | O16: 321 | P16: 2 | Q16: 1 | R16: 1 | S16: 76 | T16: 1 | U16: 14 | V16: 0 | W16: 18 | X16: 0 | Y16: 0 | Z16: 2 | AA16: 98 | AB16: 9 | AC16: 9 | AD16: 40 | AE16: 13 | AF16: 22 | AG16: 15 | AH16: 321 | AI16: 126 | AJ16: 7 | AK16: 20 | AL16: 24 | AM16: 0 | AN16: 2 | AO16: 6 | AP16: 31 | AQ16: 1 | AR16: 9 | AS16: 15 | AT16: 0 | AU16: 18 | AV16: 62
A17: 苗栗縣 | C17: 456 | D17: 15 | E17: 156 | F17: 158 | G17: 117 | H17: 0 | I17: 0 | J17: 4 | K17: 0 | L17: 0 | M17: 1 | N17: 5 | O17: 232 | P17: 4 | Q17: 1 | R17: 0 | S17: 39 | T17: 4 | U17: 8 | V17: 2 | W17: 7 | X17: 0 | Y17: 0 | Z17: 0 | AA17: 93 | AB17: 10 | AC17: 1 | AD17: 21 | AE17: 15 | AF17: 17 | AG17: 10 | AH17: 232 | AI17: 114 | AJ17: 4 | AK17: 20 | AL17: 20 | AM17: 0 | AN17: 1 | AO17: 1 | AP17: 23 | AQ17: 2 | AR17: 4 | AS17: 0 | AT17: 0 | AU17: 17 | AV17: 26
A18: 彰化縣 | C18: 931 | D18: 57 | E18: 275 | F18: 313 | G18: 237 | H18: 0 | I18: 0 | J18: 16 | K18: 0 | L18: 0 | M18: 20 | N18: 13 | O18: 491 | P18: 12 | Q18: 4 | R18: 1 | S18: 69 | T18: 3 | U18: 43 | V18: 7 | W18: 28 | X18: 0 | Y18: 0 | Z18: 3 | AA18: 169 | AB18: 11 | AC18: 4 | AD18: 65 | AE18: 21 | AF18: 23 | AG18: 28 | AH18: 491 | AI18: 257 | AJ18: 9 | AK18: 19 | AL18: 29 | AM18: 1 | AN18: 2 | AO18: 3 | AP18: 55 | AQ18: 10 | AR18: 6 | AS18: 7 | AT18: 0 | AU18: 42 | AV18: 51
A19: 南投縣 | C19: 548 | D19: 26 | E19: 127 | F19: 169 | G19: 200 | H19: 1 | I19: 1 | J19: 15 | K19: 0 | L19: 0 | M19: 1 | N19: 8 | O19: 320 | P19: 4 | Q19: 0 | R19: 1 | S19: 48 | T19: 6 | U19: 24 | V19: 6 | W19: 9 | X19: 0 | Y19: 0 | Z19: 0 | AA19: 139 | AB19: 4 | AC19: 5 | AD19: 20 | AE19: 13 | AF19: 29 | AG19: 12 | AH19: 320 | AI19: 157 | AJ19: 4 | AK19: 23 | AL19: 29 | AM19: 0 | AN19: 2 | AO19: 3 | AP19: 23 | AQ19: 1 | AR19: 5 | AS19: 8 | AT19: 0 | AU19: 29 | AV19: 36
... A30: 連江縣 | C30: 3 | D30: 0 | E30: 0 | F30: 0 | G30: 3 | H30: 0 | I30: 0 | J30: 0 | K30: 0 | L30: 0 | M30: 0 | N30: 0 | O30: 3 | P30: 0 | Q30: 0 | R30: 0 | S30: 0 | T30: 0 | U30: 0 | V30: 0 | W30: 0 | X30: 0 | Y30: 0 | Z30: 0 | AA30: 3 | AB30: 0 | AC30: 0 | AD30: 0 | AE30: 0 | AF30: 0 | AG30: 0 | AH30: 3 | AI30: 0 | AJ30: 0 | AK30: 0 | AL30: 1 | AM30: 0 | AN30: 0 | AO30: 0 | AP30: 0 | AQ30: 0 | AR30: 0 | AS30: 0 | AT30: 0 | AU30: 0 | AV30: 2
A31: 資料來源：本部保護服務司。
A32: Source :Department of Protective Services , MOHW.
A34: 更新日期：2021/7/30

Sheet 108
A1: 5.2-01 性侵害事件通報案件統計
A3: 單位：件次；件
A4: 區域別 | C4: 通報件次 | O4: 通報件數 | AH4: 通報件數
C5: 通報人員別 | O5: 被害及嫌疑人兩造關係別 | AH5: 主要發生場所
C7: 合計 | D7: 醫事 人員 | E7: 警察 人員 | F7: 社政/社工人員 | G7: 教育 人員 | H7: 保育 人員 | I7: 勞政 人員 | J7: 司(軍)法人員 | K7: 移民業務相關人員 | L7: 村（里）幹事 | M7: 矯正 人員 | N7: 其他 | O7: 合計 | P7: 配偶 | Q7: 前配偶 | R7: 同居 伴侶 | S7: 未同居伴侶 | T7: 曾為同居伴侶 | U7: 現為/曾為直系親屬 | V7: 現為/曾為家長家屬或家屬間關係者 | W7: 其他 親屬 | X7: 非家庭成員照顧者 | Y7: 保母 | Z7: 機構 人員 | AA7: 朋友(家人朋友/男女朋友/普通朋友/同學/鄰居) | AB7: 職場關係(上司下屬/同事/客戶) | AC7: 師生 關係 | AD7: 網友 | AE7: 不認識 | AF7: 其他 | AG7: 不詳 | AH7: 合計 | AI7: 住(居)所 | AJ7: 辦公/工作場所 | AK7: 公共 場所 | AL7: 學校 | AM7: 寄養 家庭 | AN7: 補習班 | AO7: 高級中等以下有提供住宿之學校 | AP7: 旅(賓)館 | AQ7: 矯正 機關 | AR7: 特殊營業場所(視聽歌唱業、理髮業、三溫暖業、舞廳業、舞場業、酒家業、酒吧業、特殊咖啡茶室業) | AS7: 社會福利/安置照顧機構/兒少安置機構 | AT7: 網際 網路 | AU7: 其他 | AV7: 不詳
A8: 108年 2019 | C8: 17119 | D8: 1466 | E8: 5067 | F8: 5607 | G8: 4460 | H8: 13 | I8: 29 | J8: 188 | K8: 3 | L8: 7 | M8: 53 | N8: 226 | O8: 9183 | P8: 107 | Q8: 43 | R8: 53 | S8: 321 | T8: 44 | U8: 394 | V8: 107 | W8: 516 | X8: 12 | Y8: 4 | Z8: 22 | AA8: 3495 | AB8: 396 | AC8: 201 | AD8: 833 | AE8: 446 | AF8: 1216 | AG8: 973 | AH8: 9183 | AI8: 4367 | AJ8: 183 | AK8: 553 | AL8: 706 | AM8: 5 | AN8: 75 | AO8: 35 | AP8: 983 | AQ8: 30 | AR8: 138 | AS8: 123 | AT8: 11 | AU8: 867 | AV8: 1107
A9: 新北市 | C9: 2931 | D9: 238 | E9: 742 | F9: 1071 | G9: 799 | H9: 2 | I9: 5 | J9: 28 | K9: 0 | L9: 2 | M9: 8 | N9: 36 | O9: 1613 | P9: 4 | Q9: 1 | R9: 9 | S9: 23 | T9: 4 | U9: 78 | V9: 21 | W9: 94 | X9: 2 | Y9: 0 | Z9: 1 | AA9: 694 | AB9: 82 | AC9: 38 | AD9: 144 | AE9: 93 | AF9: 152 | AG9: 173 | AH9: 1613 | AI9: 751 | AJ9: 29 | AK9: 116 | AL9: 115 | AM9: 0 | AN9: 13 | AO9: 6 | AP9: 169 | AQ9: 7 | AR9: 28 | AS9: 7 | AT9: 5 | AU9: 145 | AV9: 222
A10: 臺北市 | C10: 1590 | D10: 141 | E10: 436 | F10: 596 | G10: 346 | H10: 0 | I10: 2 | J10: 29 | K10: 0 | L10: 1 | M10: 0 | N10: 39 | O10: 943 | P10: 9 | Q10: 2 | R10: 2 | S10: 33 | T10: 4 | U10: 33 | V10: 7 | W10: 68 | X10: 3 | Y10: 0 | Z10: 1 | AA10: 331 | AB10: 53 | AC10: 30 | AD10: 76 | AE10: 61 | AF10: 85 | AG10: 145 | AH10: 943 | AI10: 354 | AJ10: 19 | AK10: 51 | AL10: 103 | AM10: 1 | AN10: 7 | AO10: 3 | AP10: 115 | AQ10: 0 | AR10: 19 | AS10: 12 | AT10: 0 | AU10: 91 | AV10: 168
A11: 桃園市 | C11: 2069 | D11: 229 | E11: 582 | F11: 601 | G11: 608 | H11: 3 | I11: 5 | J11: 16 | K11: 0 | L11: 0 | M11: 8 | N11: 17 | O11: 1057 | P11: 5 | Q11: 5 | R11: 3 | S11: 12 | T11: 2 | U11: 42 | V11: 17 | W11: 50 | X11: 0 | Y11: 0 | Z11: 1 | AA11: 385 | AB11: 43 | AC11: 9 | AD11: 67 | AE11: 37 | AF11: 259 | AG11: 120 | AH11: 1057 | AI11: 517 | AJ11: 16 | AK11: 51 | AL11: 62 | AM11: 2 | AN11: 9 | AO11: 0 | AP11: 119 | AQ11: 5 | AR11: 18 | AS11: 9 | AT11: 1 | AU11: 136 | AV11: 112
A12: 臺中市 | C12: 2130 | D12: 175 | E12: 698 | F12: 674 | G12: 489 | H12: 2 | I12: 3 | J12: 34 | K12: 0 | L12: 0 | M12: 19 | N12: 36 | O12: 1112 | P12: 15 | Q12: 8 | R12: 12 | S12: 72 | T12: 6 | U12: 59 | V12: 9 | W12: 53 | X12: 1 | Y12: 1 | Z12: 2 | AA12: 366 | AB12: 63 | AC12: 27 | AD12: 112 | AE12: 45 | AF12: 129 | AG12: 132 | AH12: 1112 | AI12: 549 | AJ12: 22 | AK12: 62 | AL12: 66 | AM12: 0 | AN12: 17 | AO12: 1 | AP12: 136 | AQ12: 2 | AR12: 17 | AS12: 19 | AT12: 2 | AU12: 94 | AV12: 125
A13: 臺南市 | C13: 1059 | D13: 97 | E13: 321 | F13: 320 | G13: 293 | H13: 1 | I13: 4 | J13: 15 | K13: 0 | L13: 0 | M13: 0 | N13: 8 | O13: 588 | P13: 16 | Q13: 4 | R13: 3 | S13: 16 | T13: 5 | U13: 18 | V13: 12 | W13: 42 | X13: 1 | Y13: 0 | Z13: 3 | AA13: 167 | AB13: 19 | AC13: 29 | AD13: 64 | AE13: 24 | AF13: 109 | AG13: 56 | AH13: 588 | AI13: 271 | AJ13: 15 | AK13: 21 | AL13: 75 | AM13: 1 | AN13: 10 | AO13: 3 | AP13: 64 | AQ13: 1 | AR13: 5 | AS13: 16 | AT13: 1 | AU13: 41 | AV13: 64
A14: 高雄市 | C14: 1911 | D14: 234 | E14: 532 | F14: 548 | G14: 556 | H14: 2 | I14: 0 | J14: 20 | K14: 0 | L14: 1 | M14: 0 | N14: 18 | O14: 1123 | P14: 10 | Q14: 4 | R14: 12 | S14: 35 | T14: 11 | U14: 38 | V14: 8 | W14: 55 | X14: 1 | Y14: 0 | Z14: 4 | AA14: 535 | AB14: 46 | AC14: 13 | AD14: 115 | AE14: 51 | AF14: 100 | AG14: 85 | AH14: 1123 | AI14: 574 | AJ14: 24 | AK14: 73 | AL14: 97 | AM14: 0 | AN14: 5 | AO14: 7 | AP14: 137 | AQ14: 1 | AR14: 14 | AS14: 14 | AT14: 0 | AU14: 61 | AV14: 116
A15: 宜蘭縣 | C15: 378 | D15: 22 | E15: 126 | F15: 120 | G15: 101 | H15: 0 | I15: 0 | J15: 3 | K15: 0 | L15: 0 | M15: 0 | N15: 6 | O15: 170 | P15: 4 | Q15: 1 | R15: 1 | S15: 3 | T15: 0 | U15: 5 | V15: 2 | W15: 5 | X15: 0 | Y15: 0 | Z15: 0 | AA15: 62 | AB15: 4 | AC15: 5 | AD15: 18 | AE15: 9 | AF15: 43 | AG15: 8 | AH15: 170 | AI15: 88 | AJ15: 4 | AK15: 12 | AL15: 18 | AM15: 0 | AN15: 0 | AO15: 2 | AP15: 14 | AQ15: 0 | AR15: 2 | AS15: 6 | AT15: 0 | AU15: 10 | AV15: 14
A16: 新竹縣 | C16: 473 | D16: 26 | E16: 166 | F16: 147 | G16: 128 | H16: 0 | I16: 0 | J16: 3 | K16: 0 | L16: 0 | M16: 0 | N16: 3 | O16: 258 | P16: 5 | Q16: 2 | R16: 1 | S16: 25 | T16: 0 | U16: 12 | V16: 2 | W16: 16 | X16: 1 | Y16: 0 | Z16: 2 | AA16: 93 | AB16: 6 | AC16: 9 | AD16: 25 | AE16: 11 | AF16: 26 | AG16: 22 | AH16: 258 | AI16: 130 | AJ16: 4 | AK16: 22 | AL16: 19 | AM16: 0 | AN16: 3 | AO16: 0 | AP16: 26 | AQ16: 1 | AR16: 3 | AS16: 3 | AT16: 0 | AU16: 17 | AV16: 30
A17: 苗栗縣 | C17: 396 | D17: 8 | E17: 130 | F17: 140 | G17: 112 | H17: 0 | I17: 1 | J17: 1 | K17: 0 | L17: 0 | M17: 1 | N17: 3 | O17: 210 | P17: 1 | Q17: 2 | R17: 2 | S17: 10 | T17: 0 | U17: 7 | V17: 6 | W17: 16 | X17: 0 | Y17: 0 | Z17: 0 | AA17: 82 | AB17: 9 | AC17: 2 | AD17: 20 | AE17: 8 | AF17: 14 | AG17: 31 | AH17: 210 | AI17: 114 | AJ17: 7 | AK17: 15 | AL17: 18 | AM17: 0 | AN17: 1 | AO17: 0 | AP17: 15 | AQ17: 0 | AR17: 3 | AS17: 2 | AT17: 0 | AU17: 13 | AV17: 22
A18: 彰化縣 | C18: 814 | D18: 41 | E18: 260 | F18: 315 | G18: 171 | H18: 1 | I18: 3 | J18: 8 | K18: 1 | L18: 0 | M18: 7 | N18: 7 | O18: 407 | P18: 12 | Q18: 5 | R18: 2 | S18: 7 | T18: 2 | U18: 27 | V18: 7 | W18: 28 | X18: 0 | Y18: 0 | Z18: 1 | AA18: 148 | AB18: 11 | AC18: 11 | AD18: 60 | AE18: 20 | AF18: 39 | AG18: 27 | AH18: 407 | AI18: 201 | AJ18: 11 | AK18: 23 | AL18: 28 | AM18: 0 | AN18: 5 | AO18: 2 | AP18: 42 | AQ18: 4 | AR18: 12 | AS18: 1 | AT18: 1 | AU18: 40 | AV18: 37
A19: 南投縣 | C19: 399 | D19: 28 | E19: 109 | F19: 143 | G19: 106 | H19: 0 | I19: 0 | J19: 7 | K19: 2 | L19: 0 | M19: 0 | N19: 4 | O19: 209 | P19: 5 | Q19: 0 | R19: 0 | S19: 5 | T19: 0 | U19: 13 | V19: 1 | W19: 12 | X19: 0 | Y19: 0 | Z19: 1 | AA19: 76 | AB19: 7 | AC19: 1 | AD19: 22 | AE19: 9 | AF19: 35 | AG19: 22 | AH19: 209 | AI19: 103 | AJ19: 1 | AK19: 13 | AL19: 9 | AM19: 0 | AN19: 1 | AO19: 0 | AP19: 23 | AQ19: 0 | AR19: 2 | AS19: 6 | AT19: 0 | AU19: 28 | AV19: 23
... A30: 連江縣 | C30: 2 | D30: 0 | E30: 0 | F30: 1 | G30: 0 | H30: 0 | I30: 0 | J30: 0 | K30: 0 | L30: 0 | M30: 0 | N30: 1 | O30: 1 | P30: 0 | Q30: 0 | R30: 0 | S30: 0 | T30: 0 | U30: 0 | V30: 0 | W30: 0 | X30: 0 | Y30: 0 | Z30: 0 | AA30: 1 | AB30: 0 | AC30: 0 | AD30: 0 | AE30: 0 | AF30: 0 | AG30: 0 | AH30: 1 | AI30: 0 | AJ30: 0 | AK30: 1 | AL30: 0 | AM30: 0 | AN30: 0 | AO30: 0 | AP30: 0 | AQ30: 0 | AR30: 0 | AS30: 0 | AT30: 0 | AU30: 0 | AV30: 0
A31: 資料來源：本部保護服務司。
A32: Source :Department of Protective Services , MOHW.
A34: 更新日期：2021/7/30

Sheet 94~107
A1: 5.2-01 性侵害事件通報案件統計
A3: 單位：件次；件
A4: 年別 | C4: 通報件次(複選) | AC4: 通報件數 | AW4: 通報件數
C5: 通報單位別 | AC5: 被害及加害者兩造關係別 | AW5: 案發地點別
AW6: 合計 | AX6: 私人住所 | BF6: 非私人住所 | CA6: 不 詳
C7: 合計 | E7: 113 | G7: 防治中心 | I7: 教育 | K7: 社政 | M7: 勞政 | O7: 警政 | Q7: 司(軍)法 | S7: 衛生 | U7: 診所 | W7: 醫院 | Y7: 憲兵隊 | AA7: 其他 | AC7: 合計 | AD7: 配偶 | AE7: 前配偶 | AF7: 鄰居 | AG7: 網友 | AH7: 直系 血親 | AI7: 男(女)朋友 | AJ7: 前男(女) 朋友 | AK7: 未婚 夫/妻 | AL7: 普通 朋友 | AM7: 旁系 親屬 | AN7: 師生 關係 | AO7: 家人的朋友 | AP7: 客戶 關係 | AQ7: 同學 | AR7: 同事 | AS7: 上司/下屬 | AT7: 不認識 | AU7: 其他 | AV7: 不詳 | AX7: 小計 | AY7: 被害人 住所 | AZ7: 被（加） 害人親友 住處 | BA7: 加害人 住所 | BB7: 汽車 | BC7: 旅館 房間 | BD7: 他人 住所 | BE7: 不詳 | BF7: 小計 | BG7: 空屋 | BH7: 地下室 | BI7: 頂樓 陽台 | BJ7: 電梯 | BK7: 工地 | BL7: 停車場 | BM7: 計程車 | BN7: 馬路邊 | BO7: 娛樂 場所 | BP7: 荒野 | BQ7: 福利 機構 | BR7: 大眾運 輸工具 | BS7: 學校/ 教室 | BT7: 宿舍 | BU7: 公共 廁所 | BV7: 辦公 場所 | BW7: 工廠 | BX7: 河/海邊 | BY7: 其他 | BZ7: 不詳
C8: 件數 | D8: 百分比 | E8: 件數 | F8: 百分比 | G8: 件數 | H8: 百分比 | I8: 件數 | J8: 百分比 | K8: 件數 | L8: 百分比 | M8: 件數 | N8: 百分比 | O8: 件數 | P8: 百分比 | Q8: 件數 | R8: 百分比 | S8: 件數 | T8: 百分比 | U8: 件數 | V8: 百分比 | W8: 件數 | X8: 百分比 | Y8: 件數 | Z8: 百分比 | AA8: 件數 | AB8: 百分比
A9: 94年 2005 | C9: ='94'!C8 -> 7188 | D9: =C9/$C$9*100 -> 100 | E9: ='94'!D8 -> 419 | F9: =E9/$C$9*100 -> 5.8291597 | G9: ='94'!E8 -> 49 | H9: =G9/$C$9*100 -> 0.68169171 | I9: ='94'!F8 -> 809 | J9: =I9/$C$9*100 -> 11.254869 | K9: ='94'!G8 -> 219 | L9: =K9/$C$9*100 -> 3.0467446 | M9: ='94'!H8 -> 12 | N9: =M9/$C$9*100 -> 0.16694491 | O9: ='94'!I8 -> 2805 | P9: =O9/$C$9*100 -> 39.023372 | Q9: ='94'!J8 -> 41 | R9: =Q9/$C$9*100 -> 0.5703951 | S9: ='94'!K8 -> 10 | T9: =S9/$C$9*100 -> 0.13912076 | U9: ='94'!L8 -> 13 | V9: =U9/$C$9*100 -> 0.18085698 | W9: ='94'!M8 -> 2768 | X9: =W9/$C$9*100 -> 38.508625 | Y9: ='94'!N8 -> 0 | Z9: =Y9/$C$9*100 -> 0 | AA9: ='94'!O8 -> 43 | AB9: =AA9/$C$9*100 -> 0.59821925 | AC9: ='94'!P8 -> 5739 | AD9: ='94'!Q8 -> 62 | AE9: ='94'!R8 -> 24 | AF9: ='94'!S8 -> 202 | AG9: ='94'!T8 -> 518 | AH9: ='94'!U8 -> 424 | AI9: ='94'!V8 -> 864 | AJ9: ='94'!W8 -> 162 | ... BP9: ='94'!BC8 -> 80 | BQ9: 0 | BR9: ='94'!BD8 -> 36 | BS9: ='94'!BE8 -> 155 | BT9: ='94'!BF8 -> 33 | BU9: ='94'!BG8 -> 66 | BV9: ='94'!BH8 -> 35 | BW9: ='94'!BI8 -> 18 | BX9: ='94'!BJ8 -> 24 | BY9: ='94'!BK8 -> 229 | ... CA9: ='94'!BM8 -> 1050
A10: 95年 2006 | C10: ='95'!C8 -> 8075 | D10: =C10/$C$10*100 -> 100 | E10: ='95'!D8 -> 660 | F10: =E10/$C$10*100 -> 8.1733746 | G10: ='95'!E8 -> 53 | H10: =G10/$C$10*100 -> 0.65634675 | I10: ='95'!F8 -> 1112 | J10: =I10/$C$10*100 -> 13.770898 | K10: ='95'!G8 -> 291 | L10: =K10/$C$10*100 -> 3.6037152 | M10: ='95'!H8 -> 8 | N10: =M10/$C$10*100 -> 0.099071207 | O10: ='95'!I8 -> 2746 | P10: =O10/$C$10*100 -> 34.006192 | Q10: ='95'!J8 -> 172 | R10: =Q10/$C$10*100 -> 2.130031 | S10: ='95'!K8 -> 2 | T10: =S10/$C$10*100 -> 0.024767802 | U10: ='95'!L8 -> 10 | V10: =U10/$C$10*100 -> 0.12383901 | W10: ='95'!M8 -> 2967 | X10: =W10/$C$10*100 -> 36.743034 | Y10: ='95'!N8 -> 0 | Z10: =Y10/$C$10*100 -> 0 | AA10: ='95'!O8 -> 54 | AB10: =AA10/$C$10*100 -> 0.66873065 | AC10: ='95'!P8 -> 6602 | AD10: ='95'!Q8 -> 65 | AE10: ='95'!R8 -> 33 | AF10: ='95'!S8 -> 199 | AG10: ='95'!T8 -> 541 | AH10: ='95'!U8 -> 523 | AI10: ='95'!V8 -> 1056 | AJ10: ='95'!W8 -> 206 | ... BP10: ='95'!BC8 -> 83 | BQ10: 0 | BR10: ='95'!BD8 -> 12 | BS10: ='95'!BE8 -> 206 | BT10: ='95'!BF8 -> 42 | BU10: ='95'!BG8 -> 79 | BV10: ='95'!BH8 -> 38 | BW10: ='95'!BI8 -> 15 | BX10: ='95'!BJ8 -> 27 | BY10: ='95'!BK8 -> 277 | ... CA10: ='95'!BM8 -> 1222
A11: 96年 2007 | C11: ='96'!C8 -> 9375 | D11: =C11/$C$11*100 -> 100 | E11: ='96'!D8 -> 1019 | F11: =E11/$C$11*100 -> 10.869333 | G11: ='96'!E8 -> 58 | H11: =G11/$C$11*100 -> 0.61866667 | I11: ='96'!F8 -> 1462 | J11: =I11/$C$11*100 -> 15.594667 | K11: ='96'!G8 -> 398 | L11: =K11/$C$11*100 -> 4.2453333 | M11: ='96'!H8 -> 12 | N11: =M11/$C$11*100 -> 0.128 | O11: ='96'!I8 -> 2927 | P11: =O11/$C$11*100 -> 31.221333 | Q11: ='96'!J8 -> 50 | R11: =Q11/$C$11*100 -> 0.53333333 | S11: ='96'!K8 -> 15 | T11: =S11/$C$11*100 -> 0.16 | U11: ='96'!L8 -> 18 | V11: =U11/$C$11*100 -> 0.192 | W11: ='96'!M8 -> 3316 | X11: =W11/$C$11*100 -> 35.370667 | Y11: ='96'!N8 -> 3 | Z11: =Y11/$C$11*100 -> 0.032 | AA11: ='96'!O8 -> 97 | AB11: =AA11/$C$11*100 -> 1.0346667 | AC11: ='96'!P8 -> 7703 | AD11: ='96'!Q8 -> 42 | AE11: ='96'!R8 -> 26 | AF11: ='96'!S8 -> 229 | AG11: ='96'!T8 -> 718 | AH11: ='96'!U8 -> 631 | AI11: ='96'!V8 -> 1199 | AJ11: ='96'!W8 -> 293 | ... BP11: ='96'!BC8 -> 58 | BQ11: 0 | BR11: ='96'!BD8 -> 24 | BS11: ='96'!BE8 -> 281 | BT11: ='96'!BF8 -> 39 | BU11: ='96'!BG8 -> 98 | BV11: ='96'!BH8 -> 52 | BW11: ='96'!BI8 -> 15 | BX11: ='96'!BJ8 -> 26 | BY11: ='96'!BK8 -> 322 | ... CA11: ='96'!BM8 -> 1456
A12: 97年 2008 | C12: ='97'!C8 -> 10260 | D12: =C12/$C$12*100 -> 100 | E12: ='97'!D8 -> 1681 | F12: =E12/$C$12*100 -> 16.384016 | G12: ='97'!E8 -> 73 | H12: =G12/$C$12*100 -> 0.71150097 | I12: ='97'!F8 -> 1789 | J12: =I12/$C$12*100 -> 17.436647 | K12: ='97'!G8 -> 455 | L12: =K12/$C$12*100 -> 4.4346979 | M12: ='97'!H8 -> 12 | N12: =M12/$C$12*100 -> 0.11695906 | O12: ='97'!I8 -> 2807 | P12: =O12/$C$12*100 -> 27.358674 | Q12: ='97'!J8 -> 43 | R12: =Q12/$C$12*100 -> 0.41910331 | S12: ='97'!K8 -> 11 | T12: =S12/$C$12*100 -> 0.10721248 | U12: ='97'!L8 -> 16 | V12: =U12/$C$12*100 -> 0.15594542 | W12: ='97'!M8 -> 3266 | X12: =W12/$C$12*100 -> 31.832359 | Y12: ='97'!N8 -> 0 | Z12: =Y12/$C$12*100 -> 0 | AA12: ='97'!O8 -> 107 | AB12: =AA12/$C$12*100 -> 1.042885 | AC12: ='97'!P8 -> 8521 | AD12: ='97'!Q8 -> 55 | AE12: ='97'!R8 -> 51 | AF12: ='97'!S8 -> 228 | AG12: ='97'!T8 -> 694 | AH12: ='97'!U8 -> 728 | AI12: ='97'!V8 -> 1403 | AJ12: ='97'!W8 -> 314 | ... BP12: ='97'!BC8 -> 72 | BQ12: 0 | BR12: ='97'!BD8 -> 22 | BS12: ='97'!BE8 -> 278 | BT12: ='97'!BF8 -> 36 | BU12: ='97'!BG8 -> 79 | BV12: ='97'!BH8 -> 67 | BW12: ='97'!BI8 -> 20 | BX12: ='97'!BJ8 -> 34 | BY12: ='97'!BK8 -> 346 | ... CA12: ='97'!BM8 -> 1683
A13: 98年 2009 | C13: ='98'!C8 -> 11619 | D13: =C13/$C$13*100 -> 100 | E13: ='98'!D8 -> 1736 | F13: =E13/$C$13*100 -> 14.941045 | G13: ='98'!E8 -> 75 | H13: =G13/$C$13*100 -> 0.64549445 | I13: ='98'!F8 -> 2381 | J13: =I13/$C$13*100 -> 20.492297 | K13: ='98'!G8 -> 532 | L13: =K13/$C$13*100 -> 4.5787073 | M13: ='98'!H8 -> 18 | N13: =M13/$C$13*100 -> 0.15491867 | O13: ='98'!I8 -> 2997 | P13: =O13/$C$13*100 -> 25.793958 | Q13: ='98'!J8 -> 50 | R13: =Q13/$C$13*100 -> 0.43032963 | S13: ='98'!K8 -> 15 | T13: =S13/$C$13*100 -> 0.12909889 | U13: ='98'!L8 -> 26 | V13: =U13/$C$13*100 -> 0.22377141 | W13: ='98'!M8 -> 3611 | X13: =W13/$C$13*100 -> 31.078406 | Y13: ='98'!N8 -> 1 | Z13: =Y13/$C$13*100 -> 0.0086065926 | AA13: ='98'!O8 -> 177 | AB13: =AA13/$C$13*100 -> 1.5233669 | AC13: ='98'!P8 -> 9543 | AD13: ='98'!Q8 -> 77 | AE13: ='98'!R8 -> 34 | AF13: ='98'!S8 -> 265 | AG13: ='98'!T8 -> 735 | AH13: ='98'!U8 -> 734 | AI13: ='98'!V8 -> 1518 | AJ13: ='98'!W8 -> 362 | ... BP13: ='98'!BC8 -> 72 | BQ13: 0 | BR13: ='98'!BD8 -> 25 | BS13: ='98'!BE8 -> 457 | BT13: ='98'!BF8 -> 59 | BU13: ='98'!BG8 -> 135 | BV13: ='98'!BH8 -> 69 | BW13: ='98'!BI8 -> 17 | BX13: ='98'!BJ8 -> 32 | BY13: ='98'!BK8 -> 498 | ... CA13: ='98'!BM8 -> 1926
A14: 99年 2010 | C14: ='99'!C8 -> 13434 | D14: =C14/$C$14*100 -> 100 | E14: ='99'!D8 -> 1895 | F14: =E14/$C$14*100 -> 14.106 | G14: ='99'!E8 -> 84 | H14: =G14/$C$14*100 -> 0.62527914 | I14: ='99'!F8 -> 3473 | J14: =I14/$C$14*100 -> 25.852315 | K14: ='99'!G8 -> 608 | L14: =K14/$C$14*100 -> 4.52583 | M14: ='99'!H8 -> 85 | N14: =M14/$C$14*100 -> 0.63272294 | O14: ='99'!I8 -> 3087 | P14: =O14/$C$14*100 -> 22.979008 | Q14: ='99'!J8 -> 54 | R14: =Q14/$C$14*100 -> 0.40196516 | S14: ='99'!K8 -> 19 | T14: =S14/$C$14*100 -> 0.14143219 | U14: ='99'!L8 -> 42 | V14: =U14/$C$14*100 -> 0.31263957 | W14: ='99'!M8 -> 3902 | X14: =W14/$C$14*100 -> 29.045705 | Y14: ='99'!N8 -> 6 | Z14: =Y14/$C$14*100 -> 0.044662796 | AA14: ='99'!O8 -> 179 | AB14: =AA14/$C$14*100 -> 1.3324401 | AC14: ='99'!P8 -> 10892 | AD14: ='99'!Q8 -> 88 | AE14: ='99'!R8 -> 45 | AF14: ='99'!S8 -> 293 | AG14: ='99'!T8 -> 632 | AH14: ='99'!U8 -> 943 | AI14: ='99'!V8 -> 1913 | AJ14: ='99'!W8 -> 482 | ... BP14: ='99'!BC8 -> 69 | BQ14: 0 | BR14: ='99'!BD8 -> 40 | BS14: ='99'!BE8 -> 597 | BT14: ='99'!BF8 -> 96 | BU14: ='99'!BG8 -> 152 | BV14: ='99'!BH8 -> 73 | BW14: ='99'!BI8 -> 16 | BX14: ='99'!BJ8 -> 30 | BY14: ='99'!BK8 -> 581 | ... CA14: ='99'!BM8 -> 2328
A15: 100年 2011 | C15: ='100'!C8 -> 16563 | D15: =C15/$C$15*100 -> 100 | E15: ='100'!D8 -> 1629 | F15: =E15/$C$15*100 -> 9.8351748 | G15: ='100'!E8 -> 79 | H15: =G15/$C$15*100 -> 0.47696673 | I15: ='100'!F8 -> 5544 | J15: =I15/$C$15*100 -> 33.472197 | K15: ='100'!G8 -> 767 | L15: =K15/$C$15*100 -> 4.6308036 | M15: ='100'!H8 -> 74 | N15: =M15/$C$15*100 -> 0.44677897 | O15: ='100'!I8 -> 3617 | P15: =O15/$C$15*100 -> 21.837831 | Q15: ='100'!J8 -> 73 | R15: =Q15/$C$15*100 -> 0.44074141 | S15: ='100'!K8 -> 48 | T15: =S15/$C$15*100 -> 0.28980257 | U15: ='100'!L8 -> 77 | V15: =U15/$C$15*100 -> 0.46489163 | W15: ='100'!M8 -> 4480 | X15: =W15/$C$15*100 -> 27.04824 | Y15: ='100'!N8 -> 2 | Z15: =Y15/$C$15*100 -> 0.012075107 | AA15: ='100'!O8 -> 173 | AB15: =AA15/$C$15*100 -> 1.0444968 | AC15: ='100'!P8 -> 13686 | AD15: ='100'!Q8 -> 86 | AE15: ='100'!R8 -> 45 | AF15: ='100'!S8 -> 335 | AG15: ='100'!T8 -> 824 | AH15: ='100'!U8 -> 974 | AI15: ='100'!V8 -> 2543 | AJ15: ='100'!W8 -> 763 | ... BP15: ='100'!BC8 -> 71 | BQ15: 0 | BR15: ='100'!BD8 -> 68 | BS15: ='100'!BE8 -> 1068 | BT15: ='100'!BF8 -> 148 | BU15: ='100'!BG8 -> 217 | BV15: ='100'!BH8 -> 56 | BW15: ='100'!BI8 -> 18 | BX15: ='100'!BJ8 -> 32 | BY15: ='100'!BK8 -> 794 | ... CA15: ='100'!BM8 -> 2648
A16: 101年 2012 | C16: ='101'!C8 -> 18670 | D16: =C16/$C$16*100 -> 100 | E16: ='101'!D8 -> 1396 | F16: =E16/$C$16*100 -> 7.4772362 | G16: ='101'!E8 -> 140 | H16: =G16/$C$16*100 -> 0.7498661 | I16: ='101'!F8 -> 6284 | J16: =I16/$C$16*100 -> 33.658275 | K16: ='101'!G8 -> 942 | L16: =K16/$C$16*100 -> 5.0455276 | M16: ='101'!H8 -> 72 | N16: =M16/$C$16*100 -> 0.38564542 | O16: ='101'!I8 -> 4545 | P16: =O16/$C$16*100 -> 24.343867 | Q16: ='101'!J8 -> 119 | R16: =Q16/$C$16*100 -> 0.63738618 | S16: ='101'!K8 -> 44 | T16: =S16/$C$16*100 -> 0.2356722 | U16: ='101'!L8 -> 78 | V16: =U16/$C$16*100 -> 0.41778254 | W16: ='101'!M8 -> 4824 | X16: =W16/$C$16*100 -> 25.838243 | Y16: ='101'!N8 -> 3 | Z16: =Y16/$C$16*100 -> 0.016068559 | AA16: ='101'!O8 -> 223 | AB16: =AA16/$C$16*100 -> 1.1944296 | AC16: ='101'!P8 -> 15102 | AD16: ='101'!Q8 -> 111 | AE16: ='101'!R8 -> 36 | AF16: ='101'!S8 -> 365 | AG16: ='101'!T8 -> 807 | AH16: ='101'!U8 -> 1052 | AI16: ='101'!V8 -> 3134 | AJ16: ='101'!W8 -> 832 | ... BP16: ='101'!BC8 -> 54 | BQ16: 0 | BR16: ='101'!BD8 -> 83 | BS16: ='101'!BE8 -> 1186 | BT16: ='101'!BF8 -> 164 | BU16: ='101'!BG8 -> 202 | BV16: ='101'!BH8 -> 80 | BW16: ='101'!BI8 -> 29 | BX16: ='101'!BJ8 -> 45 | BY16: ='101'!BK8 -> 1011 | ... CA16: ='101'!BM8 -> 2835
A17: 102年 2013 | C17: ='102'!C8 -> 17048 | D17: =C17/$C$17*100 -> 100 | E17: ='102'!D8 -> 1141 | F17: =E17/$C$17*100 -> 6.6928672 | G17: ='102'!E8 -> 127 | H17: =G17/$C$17*100 -> 0.74495542 | I17: ='102'!F8 -> 5624 | J17: =I17/$C$17*100 -> 32.989207 | K17: ='102'!G8 -> 832 | L17: =K17/$C$17*100 -> 4.8803379 | M17: ='102'!H8 -> 88 | N17: =M17/$C$17*100 -> 0.51618958 | O17: ='102'!I8 -> 4226 | P17: =O17/$C$17*100 -> 24.788832 | Q17: ='102'!J8 -> 175 | R17: =Q17/$C$17*100 -> 1.0265134 | S17: ='102'!K8 -> 27 | T17: =S17/$C$17*100 -> 0.15837635 | U17: ='102'!L8 -> 103 | V17: =U17/$C$17*100 -> 0.60417644 | W17: ='102'!M8 -> 4500 | X17: =W17/$C$17*100 -> 26.396058 | Y17: ='102'!N8 -> 0 | Z17: =Y17/$C$17*100 -> 0 | AA17: ='102'!O8 -> 205 | AB17: =AA17/$C$17*100 -> 1.2024871 | AC17: ='102'!P8 -> 13928 | AD17: ='102'!Q8 -> 116 | AE17: ='102'!R8 -> 33 | AF17: ='102'!S8 -> 344 | AG17: ='102'!T8 -> 805 | AH17: ='102'!U8 -> 849 | AI17: ='102'!V8 -> 2947 | AJ17: ='102'!W8 -> 817 | ... CA17: ='102'!BN8 -> 1890
A18: 103年 2014 | C18: ='103'!C8 -> 17513 | D18: =C18/$C$18*100 -> 100 | E18: ='103'!D8 -> 991 | F18: =E18/$C$18*100 -> 5.6586536 | G18: ='103'!E8 -> 112 | H18: =G18/$C$18*100 -> 0.63952492 | I18: ='103'!F8 -> 6016 | J18: =I18/$C$18*100 -> 34.351625 | K18: ='103'!G8 -> 947 | L18: =K18/$C$18*100 -> 5.4074116 | M18: ='103'!H8 -> 105 | N18: =M18/$C$18*100 -> 0.59955462 | O18: ='103'!I8 -> 4379 | P18: =O18/$C$18*100 -> 25.004283 | Q18: ='103'!J8 -> 162 | R18: =Q18/$C$18*100 -> 0.92502712 | S18: ='103'!K8 -> 24 | T18: =S18/$C$18*100 -> 0.13704106 | U18: ='103'!L8 -> 90 | V18: =U18/$C$18*100 -> 0.51390396 | W18: ='103'!M8 -> 4518 | X18: =W18/$C$18*100 -> 25.797979 | Y18: ='103'!N8 -> 0 | Z18: =Y18/$C$18*100 -> 0 | AA18: ='103'!O8 -> 169 | AB18: =AA18/$C$18*100 -> 0.96499743 | AC18: ='103'!P8 -> 14229 | AD18: ='103'!Q8 -> 119 | AE18: ='103'!R8 -> 56 | AF18: ='103'!S8 -> 302 | AG18: ='103'!T8 -> 854 | AH18: ='103'!U8 -> 886 | AI18: ='103'!V8 -> 2841 | AJ18: ='103'!W8 -> 917 | ... CA18: ='103'!BN8 -> 2099
A19: 104年 2015 | C19: ='104'!C8 -> 16630 | D19: =C19/$C$19*100 -> 100 | E19: ='104'!D8 -> 739 | F19: =E19/$C$19*100 -> 4.4437763 | G19: ='104'!E8 -> 102 | H19: =G19/$C$19*100 -> 0.61334937 | I19: ='104'!F8 -> 5765 | J19: =I19/$C$19*100 -> 34.666266 | K19: ='104'!G8 -> 942 | L19: =K19/$C$19*100 -> 5.6644618 | M19: ='104'!H8 -> 67 | N19: =M19/$C$19*100 -> 0.40288635 | O19: ='104'!I8 -> 4326 | P19: =O19/$C$19*100 -> 26.013229 | Q19: ='104'!J8 -> 169 | R19: =Q19/$C$19*100 -> 1.0162357 | S19: ='104'!K8 -> 26 | T19: =S19/$C$19*100 -> 0.15634396 | U19: ='104'!L8 -> 145 | V19: =U19/$C$19*100 -> 0.87191822 | W19: ='104'!M8 -> 4176 | X19: =W19/$C$19*100 -> 25.111245 | Y19: ='104'!N8 -> 0 | Z19: =Y19/$C$19*100 -> 0 | AA19: ='104'!O8 -> 173 | AB19: =AA19/$C$19*100 -> 1.0402886 | AC19: ='104'!P8 -> 13415 | AD19: ='104'!Q8 -> 127 | AE19: ='104'!R8 -> 53 | AF19: ='104'!S8 -> 274 | AG19: ='104'!T8 -> 789 | AH19: ='104'!U8 -> 693 | AI19: ='104'!V8 -> 2669 | AJ19: ='104'!W8 -> 899 | ... CA19: ='104'!BN8 -> 2093
A20: 105年 2016 | C20: ='105'!C8 -> 13755 | D20: =C20/$C$20*100 -> 100 | E20: ='105'!D8 -> 519 | F20: =E20/$C$20*100 -> 3.7731734 | G20: ='105'!E8 -> 184 | H20: =G20/$C$20*100 -> 1.3376954 | I20: ='105'!F8 -> 3668 | J20: =I20/$C$20*100 -> 26.666667 | K20: ='105'!G8 -> 1052 | L20: =K20/$C$20*100 -> 7.648128 | M20: ='105'!H8 -> 42 | N20: =M20/$C$20*100 -> 0.30534351 | O20: ='105'!I8 -> 4074 | P20: =O20/$C$20*100 -> 29.618321 | Q20: ='105'!J8 -> 153 | R20: =Q20/$C$20*100 -> 1.1123228 | S20: ='105'!K8 -> 11 | T20: =S20/$C$20*100 -> 0.07997092 | U20: ='105'!L8 -> 179 | V20: =U20/$C$20*100 -> 1.301345 | W20: ='105'!M8 -> 3714 | X20: =W20/$C$20*100 -> 27.001091 | Y20: ='105'!N8 -> 0 | Z20: =Y20/$C$20*100 -> 0 | AA20: ='105'!O8 -> 159 | AB20: =AA20/$C$20*100 -> 1.1559433 | AC20: ='105'!P8 -> 10610 | AD20: ='105'!Q8 -> 113 | AE20: ='105'!R8 -> 54 | AF20: ='105'!S8 -> 210 | AG20: ='105'!T8 -> 912 | AH20: ='105'!U8 -> 663 | AI20: ='105'!V8 -> 2139 | AJ20: ='105'!W8 -> 897 | ... CA20: ='105'!BN8 -> 1369
A21: 106年 2017 | C21: 14217 | D21: 100 | E21: 540 | F21: 3.798 | G21: 294 | H21: 2.068 | I21: 3977 | J21: 27.974 | K21: 1240 | L21: 8.722 | M21: 46 | N21: 0.324 | O21: 4092 | P21: 28.782 | Q21: 154 | R21: 1.083 | S21: 19 | T21: 0.134 | U21: 202 | V21: 1.421 | W21: 3438 | X21: 24.182 | Y21: 4 | Z21: 0.028 | AA21: 211 | AB21: 1.484 | AC21: 11060 | AD21: 95 | AE21: 33 | AF21: 183 | AG21: 978 | AH21: 739 | AI21: 1859 | AJ21: 858 | AK21: 8 | AL21: 1022 | AM21: 667 | AN21: 199 | AO21: 227 | AP21: 157 | AQ21: 800 | AR21: 139 | AS21: 190 | AT21: 494 | AU21: 1322 | AV21: 1090 | AW21: 11060 | AX21: 6849 | AY21: 2214 | AZ21: 281 | BA21: 2885 | BB21: 115 | BC21: 978 | BD21: 146 | BE21: 230 | BF21: 2472 | BG21: 26 | BH21: 4 | BI21: 12 | BJ21: 5 | BK21: 11 | BL21: 26 | BM21: 13 | BN21: 103 | BO21: 145 | BP21: 51 | BQ21: 187 | BR21: 21 | BS21: 674 | BT21: 71 | BU21: 151 | BV21: 62 | BW21: 15 | BX21: 15 | BY21: 744 | BZ21: 136 | CA21: 1739
A22: 107年 2018 | C22: 14784 | D22: 100 | E22: 579 | F22: 3.916 | G22: 435 | H22: 2.942 | I22: 4164 | J22: 28.166 | K22: 1282 | L22: 8.672 | M22: 40 | N22: 0.271 | O22: 4197 | P22: 28.389 | Q22: 150 | R22: 1.015 | S22: 14 | T22: 0.095 | U22: 218 | V22: 1.475 | W22: 3494 | X22: 23.634 | Y22: 4 | Z22: 0.027 | AA22: 207 | AB22: 1.4 | AC22: 11458 | AD22: 97 | AE22: 35 | AF22: 194 | AG22: 1002 | AH22: 753 | AI22: 1888 | AJ22: 852 | AK22: 3 | AL22: 949 | AM22: 718 | AN22: 215 | AO22: 221 | AP22: 181 | AQ22: 916 | AR22: 136 | AS22: 233 | AT22: 494 | AU22: 1444 | AV22: 1127 | AW22: 11458 | AX22: 7011 | AY22: 2345 | AZ22: 344 | BA22: 2783 | BB22: 126 | BC22: 1030 | BD22: 168 | BE22: 215 | BF22: 2671 | BG22: 10 | BH22: 14 | BI22: 12 | BJ22: 0 | BK22: 7 | BL22: 30 | BM22: 13 | BN22: 117 | BO22: 175 | BP22: 41 | BQ22: 244 | BR22: 19 | BS22: 694 | BT22: 78 | BU22: 196 | BV22: 66 | BW22: 9 | BX22: 10 | BY22: 797 | BZ22: 139 | CA22: 1776
A23: 資料來源：本部保護服務司。
A26: 更新日期：108/5/31

Sheet 107
A1: 5.2-01 性侵害事件通報案件統計
A3: 單位：件次；件數
A4: 區域別 | C4: 通報件次(複選) | P4: 通報件數 | AJ4: 通報件數
C5: 通報單位別 | P5: 被害及及嫌疑人兩造關係別 | AJ5: 案發地點別
AJ6: 合計 | AK6: 私人住所 | AS6: 非私人住所 | BN6: 不 詳
C7: 合計 | D7: 113 | E7: 防治中心 | F7: 教育 | G7: 社政 | H7: 勞政 | I7: 警政 | J7: 司(軍)法 | K7: 衛生 | L7: 診所 | M7: 醫院 | N7: 憲兵隊 | O7: 其他 | P7: 合計 | Q7: 配偶 | R7: 前配偶 | S7: 鄰居 | T7: 網友 | U7: 直系 血親 | V7: 男(女)朋友 | W7: 前男(女) 朋友 | X7: 未婚 夫/妻 | Y7: 普通 朋友 | Z7: 旁系 親屬 | AA7: 師生 關係 | AB7: 家人的朋友 | AC7: 客戶 關係 | AD7: 同學 | AE7: 同事 | AF7: 上司/下屬 | AG7: 不認識 | AH7: 其他 | AI7: 不詳 | AK7: 小計 | AL7: 被害人 住所 | AM7: 被（加） 害人親友 住處 | AN7: 加害人 住所 | AO7: 汽車 | AP7: 旅館 房間 | AQ7: 他人 住所 | AR7: 不詳 | AS7: 小計 | AT7: 空屋 | AU7: 地下室 | AV7: 頂樓 陽台 | AW7: 電梯 | AX7: 工地 | AY7: 停車場 | AZ7: 計程車 | BA7: 馬路邊 | BB7: 娛樂 場所 | BC7: 荒野 | BD7: 福利機構 | BE7: 大眾運 輸工具 | BF7: 學校/ 教室 | BG7: 宿舍 | BH7: 公共 廁所 | BI7: 辦公 場所 | BJ7: 工廠 | BK7: 河/海邊 | BL7: 其他 | BM7: 不詳
A8: 107年 2018 | C8: 14784 | D8: 579 | E8: 435 | F8: 4164 | G8: 1282 | H8: 40 | I8: 4197 | J8: 150 | K8: 14 | L8: 218 | M8: 3494 | N8: 4 | O8: 207 | P8: 11458 | Q8: 97 | R8: 35 | S8: 194 | T8: 1002 | U8: 753 | V8: 1888 | W8: 852 | X8: 3 | Y8: 949 | Z8: 718 | AA8: 215 | AB8: 221 | AC8: 181 | AD8: 916 | AE8: 136 | AF8: 233 | AG8: 494 | AH8: 1444 | AI8: 1127 | AJ8: 11458 | AK8: 7011 | AL8: 2345 | AM8: 344 | AN8: 2783 | AO8: 126 | AP8: 1030 | AQ8: 168 | AR8: 215 | AS8: 2671 | AT8: 10 | AU8: 14 | AV8: 12 | AW8: 0 | AX8: 7 | AY8: 30 | AZ8: 13 | BA8: 117 | BB8: 175 | BC8: 41 | BD8: 244 | BE8: 19 | BF8: 694 | BG8: 78 | BH8: 196 | BI8: 66 | BJ8: 9 | BK8: 10 | BL8: 797 | BM8: 139 | BN8: 1776
A9: 新北市 | C9: 2638 | D9: 126 | E9: 115 | F9: 727 | G9: 239 | H9: 8 | I9: 686 | J9: 21 | K9: 2 | L9: 30 | M9: 640 | N9: 0 | O9: 44 | P9: 2074 | Q9: 2 | R9: 2 | S9: 14 | T9: 216 | U9: 151 | V9: 282 | W9: 132 | X9: 0 | Y9: 195 | Z9: 123 | AA9: 41 | AB9: 33 | AC9: 45 | AD9: 135 | AE9: 33 | AF9: 41 | AG9: 110 | AH9: 275 | AI9: 244 | AJ9: 2074 | AK9: 1228 | AL9: 402 | AM9: 60 | AN9: 498 | AO9: 23 | AP9: 180 | AQ9: 32 | AR9: 33 | AS9: 455 | AT9: 2 | AU9: 3 | AV9: 6 | AW9: 0 | AX9: 0 | AY9: 4 | AZ9: 5 | BA9: 15 | BB9: 39 | BC9: 4 | BD9: 26 | BE9: 2 | BF9: 94 | BG9: 6 | BH9: 32 | BI9: 17 | BJ9: 4 | BK9: 1 | BL9: 159 | BM9: 36 | BN9: 391
A10: 臺北市 | C10: 1371 | D10: 94 | E10: 58 | F10: 303 | G10: 142 | H10: 7 | I10: 398 | J10: 14 | K10: 2 | L10: 5 | M10: 324 | N10: 0 | O10: 24 | P10: 1072 | Q10: 8 | R10: 4 | S10: 6 | T10: 76 | U10: 84 | V10: 84 | W10: 69 | X10: 0 | Y10: 100 | Z10: 66 | AA10: 21 | AB10: 8 | AC10: 23 | AD10: 100 | AE10: 12 | AF10: 36 | AG10: 72 | AH10: 132 | AI10: 171 | AJ10: 1072 | AK10: 581 | AL10: 188 | AM10: 28 | AN10: 199 | AO10: 17 | AP10: 118 | AQ10: 10 | AR10: 21 | AS10: 256 | AT10: 0 | AU10: 2 | AV10: 0 | AW10: 0 | AX10: 0 | AY10: 2 | AZ10: 2 | BA10: 11 | BB10: 24 | BC10: 2 | BD10: 22 | BE10: 3 | BF10: 69 | BG10: 4 | BH10: 12 | BI10: 8 | BJ10: 0 | BK10: 0 | BL10: 86 | BM10: 9 | BN10: 235
A11: 桃園市 | C11: 2044 | D11: 69 | E11: 57 | F11: 681 | G11: 173 | H11: 2 | I11: 503 | J11: 12 | K11: 1 | L11: 35 | M11: 467 | N11: 0 | O11: 44 | P11: 1622 | Q11: 9 | R11: 5 | S11: 26 | T11: 125 | U11: 87 | V11: 245 | W11: 157 | X11: 1 | Y11: 106 | Z11: 80 | AA11: 38 | AB11: 30 | AC11: 22 | AD11: 152 | AE11: 17 | AF11: 35 | AG11: 52 | AH11: 193 | AI11: 242 | AJ11: 1622 | AK11: 893 | AL11: 281 | AM11: 31 | AN11: 362 | AO11: 17 | AP11: 128 | AQ11: 23 | AR11: 51 | AS11: 383 | AT11: 2 | AU11: 0 | AV11: 2 | AW11: 0 | AX11: 1 | AY11: 4 | AZ11: 0 | BA11: 11 | BB11: 32 | BC11: 3 | BD11: 55 | BE11: 4 | BF11: 100 | BG11: 10 | BH11: 20 | BI11: 8 | BJ11: 3 | BK11: 1 | BL11: 100 | BM11: 27 | BN11: 346
A12: 臺中市 | C12: 1784 | D12: 53 | E12: 30 | F12: 416 | G12: 111 | H12: 6 | I12: 625 | J12: 17 | K12: 1 | L12: 50 | M12: 459 | N12: 2 | O12: 14 | P12: 1367 | Q12: 22 | R12: 4 | S12: 20 | T12: 159 | U12: 73 | V12: 217 | W12: 102 | X12: 0 | Y12: 97 | Z12: 73 | AA12: 28 | AB12: 19 | AC12: 21 | AD12: 83 | AE12: 15 | AF12: 35 | AG12: 62 | AH12: 223 | AI12: 114 | AJ12: 1367 | AK12: 897 | AL12: 297 | AM12: 43 | AN12: 354 | AO12: 12 | AP12: 151 | AQ12: 22 | AR12: 18 | AS12: 315 | AT12: 1 | AU12: 3 | AV12: 1 | AW12: 0 | AX12: 0 | AY12: 3 | AZ12: 0 | BA12: 20 | BB12: 19 | BC12: 7 | BD12: 33 | BE12: 4 | BF12: 63 | BG12: 4 | BH12: 27 | BI12: 5 | BJ12: 0 | BK12: 0 | BL12: 111 | BM12: 14 | BN12: 155
A13: 臺南市 | C13: 867 | D13: 24 | E13: 29 | F13: 260 | G13: 67 | H13: 2 | I13: 274 | J13: 5 | K13: 0 | L13: 17 | M13: 179 | N13: 0 | O13: 10 | P13: 662 | Q13: 5 | R13: 7 | S13: 12 | T13: 54 | U13: 45 | V13: 110 | W13: 66 | X13: 0 | Y13: 63 | Z13: 40 | AA13: 15 | AB13: 14 | AC13: 16 | AD13: 68 | AE13: 6 | AF13: 17 | AG13: 22 | AH13: 68 | AI13: 34 | AJ13: 662 | AK13: 431 | AL13: 157 | AM13: 18 | AN13: 171 | AO13: 7 | AP13: 64 | AQ13: 7 | AR13: 7 | AS13: 168 | AT13: 1 | AU13: 3 | AV13: 2 | AW13: 0 | AX13: 0 | AY13: 1 | AZ13: 0 | BA13: 2 | BB13: 6 | BC13: 2 | BD13: 1 | BE13: 0 | BF13: 59 | BG13: 8 | BH13: 18 | BI13: 6 | BJ13: 0 | BK13: 2 | BL13: 53 | BM13: 4 | BN13: 63
A14: 高雄市 | C14: 1542 | D14: 71 | E14: 38 | F14: 404 | G14: 154 | H14: 2 | I14: 459 | J14: 14 | K14: 2 | L14: 21 | M14: 360 | N14: 0 | O14: 17 | P14: 1151 | Q14: 11 | R14: 2 | S14: 23 | T14: 98 | U14: 87 | V14: 213 | W14: 66 | X14: 0 | Y14: 88 | Z14: 81 | AA14: 30 | AB14: 25 | AC14: 19 | AD14: 111 | AE14: 4 | AF14: 11 | AG14: 53 | AH14: 162 | AI14: 67 | AJ14: 1151 | AK14: 738 | AL14: 269 | AM14: 38 | AN14: 274 | AO14: 6 | AP14: 111 | AQ14: 12 | AR14: 28 | AS14: 289 | AT14: 0 | AU14: 2 | AV14: 0 | AW14: 0 | AX14: 0 | AY14: 6 | AZ14: 1 | BA14: 14 | BB14: 13 | BC14: 4 | BD14: 27 | BE14: 1 | BF14: 97 | BG14: 11 | BH14: 27 | BI14: 2 | BJ14: 0 | BK14: 1 | BL14: 70 | BM14: 13 | BN14: 124
A15: 宜蘭縣 | C15: 221 | D15: 5 | E15: 4 | F15: 81 | G15: 19 | H15: 0 | I15: 43 | J15: 7 | K15: 0 | L15: 0 | M15: 62 | N15: 0 | O15: 0 | P15: 177 | Q15: 4 | R15: 0 | S15: 3 | T15: 16 | U15: 8 | V15: 37 | W15: 9 | X15: 0 | Y15: 21 | Z15: 7 | AA15: 0 | AB15: 5 | AC15: 2 | AD15: 9 | AE15: 4 | AF15: 5 | AG15: 10 | AH15: 11 | AI15: 26 | AJ15: 177 | AK15: 100 | AL15: 29 | AM15: 4 | AN15: 40 | AO15: 4 | AP15: 16 | AQ15: 2 | AR15: 5 | AS15: 50 | AT15: 0 | AU15: 0 | AV15: 0 | AW15: 0 | AX15: 0 | AY15: 0 | AZ15: 0 | BA15: 3 | BB15: 3 | BC15: 2 | BD15: 0 | BE15: 0 | BF15: 20 | BG15: 0 | BH15: 2 | BI15: 2 | BJ15: 0 | BK15: 2 | BL15: 14 | BM15: 2 | BN15: 27
A16: 新竹縣 | C16: 485 | D16: 10 | E16: 33 | F16: 136 | G16: 37 | H16: 2 | I16: 163 | J16: 1 | K16: 0 | L16: 9 | M16: 88 | N16: 0 | O16: 6 | P16: 358 | Q16: 4 | R16: 0 | S16: 9 | T16: 32 | U16: 29 | V16: 67 | W16: 21 | X16: 1 | Y16: 23 | Z16: 20 | AA16: 0 | AB16: 13 | AC16: 3 | AD16: 43 | AE16: 7 | AF16: 3 | AG16: 9 | AH16: 40 | AI16: 34 | AJ16: 358 | AK16: 221 | AL16: 74 | AM16: 10 | AN16: 88 | AO16: 10 | AP16: 33 | AQ16: 4 | AR16: 2 | AS16: 85 | AT16: 0 | AU16: 0 | AV16: 1 | AW16: 0 | AX16: 0 | AY16: 0 | AZ16: 1 | BA16: 1 | BB16: 4 | BC16: 2 | BD16: 14 | BE16: 2 | BF16: 37 | BG16: 0 | BH16: 3 | BI16: 1 | BJ16: 1 | BK16: 0 | BL16: 15 | BM16: 3 | BN16: 52
A17: 苗栗縣 | C17: 340 | D17: 12 | E17: 7 | F17: 102 | G17: 23 | H17: 4 | I17: 99 | J17: 3 | K17: 1 | L17: 1 | M17: 86 | N17: 0 | O17: 2 | P17: 263 | Q17: 1 | R17: 0 | S17: 6 | T17: 27 | U17: 11 | V17: 74 | W17: 35 | X17: 0 | Y17: 18 | Z17: 19 | AA17: 1 | AB17: 9 | AC17: 2 | AD17: 9 | AE17: 6 | AF17: 6 | AG17: 8 | AH17: 22 | AI17: 9 | AJ17: 263 | AK17: 192 | AL17: 58 | AM17: 19 | AN17: 81 | AO17: 2 | AP17: 23 | AQ17: 8 | AR17: 1 | AS17: 50 | AT17: 1 | AU17: 0 | AV17: 0 | AW17: 0 | AX17: 0 | AY17: 0 | AZ17: 0 | BA17: 3 | BB17: 0 | BC17: 0 | BD17: 1 | BE17: 0 | BF17: 10 | BG17: 0 | BH17: 9 | BI17: 0 | BJ17: 1 | BK17: 0 | BL17: 23 | BM17: 2 | BN17: 21
A18: 彰化縣 | C18: 743 | D18: 22 | E18: 17 | F18: 193 | G18: 52 | H18: 3 | I18: 235 | J18: 31 | K18: 1 | L18: 13 | M18: 164 | N18: 0 | O18: 12 | P18: 546 | Q18: 11 | R18: 3 | S18: 11 | T18: 42 | U18: 43 | V18: 115 | W18: 44 | X18: 0 | Y18: 39 | Z18: 45 | AA18: 6 | AB18: 12 | AC18: 6 | AD18: 42 | AE18: 7 | AF18: 12 | AG18: 20 | AH18: 66 | AI18: 22 | AJ18: 546 | AK18: 350 | AL18: 122 | AM18: 16 | AN18: 146 | AO18: 5 | AP18: 42 | AQ18: 9 | AR18: 10 | AS18: 138 | AT18: 1 | AU18: 0 | AV18: 0 | AW18: 0 | AX18: 1 | AY18: 3 | AZ18: 0 | BA18: 8 | BB18: 9 | BC18: 2 | BD18: 10 | BE18: 0 | BF18: 33 | BG18: 10 | BH18: 14 | BI18: 4 | BJ18: 0 | BK18: 1 | BL18: 41 | BM18: 1 | BN18: 58
A19: 南投縣 | C19: 351 | D19: 19 | E19: 3 | F19: 102 | G19: 45 | H19: 1 | I19: 76 | J19: 9 | K19: 1 | L19: 4 | M19: 91 | N19: 0 | O19: 0 | P19: 277 | Q19: 10 | R19: 0 | S19: 8 | T19: 26 | U19: 25 | V19: 47 | W19: 11 | X19: 0 | Y19: 26 | Z19: 23 | AA19: 5 | AB19: 4 | AC19: 1 | AD19: 29 | AE19: 2 | AF19: 5 | AG19: 6 | AH19: 31 | AI19: 18 | AJ19: 277 | AK19: 177 | AL19: 68 | AM19: 13 | AN19: 68 | AO19: 3 | AP19: 20 | AQ19: 1 | AR19: 4 | AS19: 53 | AT19: 0 | AU19: 0 | AV19: 0 | AW19: 0 | AX19: 3 | AY19: 1 | AZ19: 0 | BA19: 2 | BB19: 0 | BC19: 2 | BD19: 8 | BE19: 1 | BF19: 12 | BG19: 4 | BH19: 7 | BI19: 0 | BJ19: 0 | BK19: 0 | BL19: 11 | BM19: 2 | BN19: 47
... A30: 連江縣 | C30: 10 | D30: 0 | E30: 0 | F30: 7 | G30: 1 | H30: 0 | I30: 1 | J30: 0 | K30: 0 | L30: 0 | M30: 1 | N30: 0 | O30: 0 | P30: 3 | Q30: 0 | R30: 0 | S30: 0 | T30: 0 | U30: 0 | V30: 1 | W30: 0 | X30: 0 | Y30: 0 | Z30: 1 | AA30: 0 | AB30: 0 | AC30: 0 | AD30: 0 | AE30: 0 | AF30: 0 | AG30: 0 | AH30: 0 | AI30: 1 | AJ30: 3 | AK30: 2 | AL30: 1 | AM30: 0 | AN30: 1 | AO30: 0 | AP30: 0 | AQ30: 0 | AR30: 0 | AS30: 0 | AT30: 0 | AU30: 0 | AV30: 0 | AW30: 0 | AX30: 0 | AY30: 0 | AZ30: 0 | BA30: 0 | BB30: 0 | BC30: 0 | BD30: 0 | BE30: 0 | BF30: 0 | BG30: 0 | BH30: 0 | BI30: 0 | BJ30: 0 | BK30: 0 | BL30: 0 | BM30: 0 | BN30: 1
A31: 資料來源：本部保護服務司。

Sheet 106
A1: 5.2-01 性侵害事件通報案件統計
A3: 單位：件次；件數
A4: 區域別 | C4: 通報件次(複選) | P4: 通報件數 | AJ4: 通報件數
C5: 通報單位別 | P5: 被害及嫌疑人兩造關係別 | AJ5: 案發地點別
AJ6: 合計 | AK6: 私人住所 | AS6: 非私人住所 | BN6: 不 詳
C7: 合計 | D7: 113 | E7: 防治中心 | F7: 教育 | G7: 社政 | H7: 勞政 | I7: 警政 | J7: 司(軍)法 | K7: 衛生 | L7: 診所 | M7: 醫院 | N7: 憲兵隊 | O7: 其他 | P7: 合計 | Q7: 配偶 | R7: 前配偶 | S7: 鄰居 | T7: 網友 | U7: 直系 血親 | V7: 男(女)朋友 | W7: 前男(女) 朋友 | X7: 未婚 夫/妻 | Y7: 普通 朋友 | Z7: 旁系 親屬 | AA7: 師生 關係 | AB7: 家人的朋友 | AC7: 客戶 關係 | AD7: 同學 | AE7: 同事 | AF7: 上司/下屬 | AG7: 不認識 | AH7: 其他 | AI7: 不詳 | AK7: 小計 | AL7: 被害人 住所 | AM7: 被（加） 害人親友 住處 | AN7: 加害人 住所 | AO7: 汽車 | AP7: 旅館 房間 | AQ7: 他人 住所 | AR7: 不詳 | AS7: 小計 | AT7: 空屋 | AU7: 地下室 | AV7: 頂樓 陽台 | AW7: 電梯 | AX7: 工地 | AY7: 停車場 | AZ7: 計程車 | BA7: 馬路邊 | BB7: 娛樂 場所 | BC7: 荒野 | BD7: 福利機構 | BE7: 大眾運 輸工具 | BF7: 學校/ 教室 | BG7: 宿舍 | BH7: 公共 廁所 | BI7: 辦公 場所 | BJ7: 工廠 | BK7: 河/海邊 | BL7: 其他 | BM7: 不詳
A8: 106年 2017 | C8: 14217 | D8: 540 | E8: 294 | F8: 3977 | G8: 1240 | H8: 46 | I8: 4092 | J8: 154 | K8: 19 | L8: 202 | M8: 3438 | N8: 4 | O8: 211 | P8: 11060 | Q8: 95 | R8: 33 | S8: 183 | T8: 978 | U8: 739 | V8: 1859 | W8: 858 | X8: 8 | Y8: 1022 | Z8: 667 | AA8: 199 | AB8: 227 | AC8: 157 | AD8: 800 | AE8: 139 | AF8: 190 | AG8: 494 | AH8: 1322 | AI8: 1090 | AJ8: 11060 | AK8: 6849 | AL8: 2214 | AM8: 281 | AN8: 2885 | AO8: 115 | AP8: 978 | AQ8: 146 | AR8: 230 | AS8: 2472 | AT8: 26 | AU8: 4 | AV8: 12 | AW8: 5 | AX8: 11 | AY8: 26 | AZ8: 13 | BA8: 103 | BB8: 145 | BC8: 51 | BD8: 187 | BE8: 21 | BF8: 674 | BG8: 71 | BH8: 151 | BI8: 62 | BJ8: 15 | BK8: 15 | BL8: 744 | BM8: 136 | BN8: 1739
A9: 新北市 | C9: 2459 | D9: 108 | E9: 76 | F9: 708 | G9: 180 | H9: 10 | I9: 702 | J9: 10 | K9: 3 | L9: 32 | M9: 595 | N9: 0 | O9: 35 | P9: 2020 | Q9: 9 | R9: 1 | S9: 20 | T9: 235 | U9: 155 | V9: 306 | W9: 152 | X9: 0 | Y9: 194 | Z9: 87 | AA9: 30 | AB9: 44 | AC9: 36 | AD9: 132 | AE9: 38 | AF9: 36 | AG9: 75 | AH9: 218 | AI9: 252 | AJ9: 2020 | AK9: 1241 | AL9: 373 | AM9: 56 | AN9: 516 | AO9: 15 | AP9: 207 | AQ9: 28 | AR9: 46 | AS9: 415 | AT9: 4 | AU9: 2 | AV9: 6 | AW9: 2 | AX9: 4 | AY9: 4 | AZ9: 2 | BA9: 18 | BB9: 37 | BC9: 3 | BD9: 16 | BE9: 4 | BF9: 100 | BG9: 7 | BH9: 37 | BI9: 8 | BJ9: 1 | BK9: 2 | BL9: 129 | BM9: 29 | BN9: 364
A10: 臺北市 | C10: 1244 | D10: 74 | E10: 43 | F10: 352 | G10: 122 | H10: 4 | I10: 336 | J10: 11 | K10: 3 | L10: 7 | M10: 263 | N10: 1 | O10: 28 | P10: 1033 | Q10: 12 | R10: 4 | S10: 7 | T10: 81 | U10: 75 | V10: 101 | W10: 64 | X10: 0 | Y10: 81 | Z10: 59 | AA10: 11 | AB10: 12 | AC10: 22 | AD10: 85 | AE10: 15 | AF10: 18 | AG10: 69 | AH10: 132 | AI10: 185 | AJ10: 1033 | AK10: 543 | AL10: 197 | AM10: 20 | AN10: 187 | AO10: 8 | AP10: 102 | AQ10: 10 | AR10: 19 | AS10: 213 | AT10: 0 | AU10: 0 | AV10: 1 | AW10: 1 | AX10: 0 | AY10: 2 | AZ10: 7 | BA10: 6 | BB10: 19 | BC10: 2 | BD10: 17 | BE10: 1 | BF10: 57 | BG10: 5 | BH10: 14 | BI10: 9 | BJ10: 1 | BK10: 0 | BL10: 62 | BM10: 9 | BN10: 277
A11: 桃園市 | C11: 1570 | D11: 62 | E11: 31 | F11: 505 | G11: 140 | H11: 5 | I11: 401 | J11: 19 | K11: 1 | L11: 31 | M11: 343 | N11: 0 | O11: 32 | P11: 1278 | Q11: 15 | R11: 5 | S11: 11 | T11: 82 | U11: 108 | V11: 194 | W11: 91 | X11: 1 | Y11: 117 | Z11: 64 | AA11: 25 | AB11: 34 | AC11: 9 | AD11: 113 | AE11: 17 | AF11: 33 | AG11: 57 | AH11: 135 | AI11: 167 | AJ11: 1278 | AK11: 748 | AL11: 265 | AM11: 22 | AN11: 318 | AO11: 9 | AP11: 100 | AQ11: 10 | AR11: 24 | AS11: 281 | AT11: 3 | AU11: 0 | AV11: 1 | AW11: 0 | AX11: 1 | AY11: 7 | AZ11: 0 | BA11: 10 | BB11: 18 | BC11: 3 | BD11: 21 | BE11: 2 | BF11: 82 | BG11: 7 | BH11: 6 | BI11: 8 | BJ11: 3 | BK11: 0 | BL11: 86 | BM11: 23 | BN11: 249
A12: 臺中市 | C12: 1892 | D12: 76 | E12: 22 | F12: 459 | G12: 132 | H12: 7 | I12: 622 | J12: 35 | K12: 2 | L12: 37 | M12: 489 | N12: 2 | O12: 9 | P12: 1495 | Q12: 15 | R12: 3 | S12: 29 | T12: 112 | U12: 89 | V12: 243 | W12: 122 | X12: 2 | Y12: 138 | Z12: 87 | AA12: 67 | AB12: 22 | AC12: 30 | AD12: 83 | AE12: 14 | AF12: 23 | AG12: 74 | AH12: 201 | AI12: 141 | AJ12: 1495 | AK12: 920 | AL12: 287 | AM12: 35 | AN12: 394 | AO12: 15 | AP12: 129 | AQ12: 21 | AR12: 39 | AS12: 360 | AT12: 0 | AU12: 1 | AV12: 2 | AW12: 0 | AX12: 0 | AY12: 1 | AZ12: 0 | BA12: 13 | BB12: 16 | BC12: 7 | BD12: 31 | BE12: 5 | BF12: 106 | BG12: 10 | BH12: 28 | BI12: 8 | BJ12: 3 | BK12: 1 | BL12: 110 | BM12: 18 | BN12: 215
A13: 臺南市 | C13: 901 | D13: 37 | E13: 13 | F13: 230 | G13: 78 | H13: 2 | I13: 293 | J13: 6 | K13: 2 | L13: 21 | M13: 198 | N13: 0 | O13: 21 | P13: 651 | Q13: 6 | R13: 3 | S13: 15 | T13: 50 | U13: 41 | V13: 104 | W13: 60 | X13: 0 | Y13: 73 | Z13: 42 | AA13: 14 | AB13: 20 | AC13: 15 | AD13: 51 | AE13: 12 | AF13: 7 | AG13: 26 | AH13: 78 | AI13: 34 | AJ13: 651 | AK13: 399 | AL13: 122 | AM13: 11 | AN13: 168 | AO13: 8 | AP13: 69 | AQ13: 10 | AR13: 11 | AS13: 192 | AT13: 1 | AU13: 0 | AV13: 0 | AW13: 1 | AX13: 1 | AY13: 3 | AZ13: 0 | BA13: 12 | BB13: 8 | BC13: 5 | BD13: 20 | BE13: 0 | BF13: 57 | BG13: 8 | BH13: 13 | BI13: 1 | BJ13: 2 | BK13: 0 | BL13: 53 | BM13: 7 | BN13: 60
A14: 高雄市 | C14: 1574 | D14: 54 | E14: 26 | F14: 445 | G14: 158 | H14: 3 | I14: 464 | J14: 37 | K14: 1 | L14: 22 | M14: 343 | N14: 0 | O14: 21 | P14: 1026 | Q14: 6 | R14: 6 | S14: 18 | T14: 85 | U14: 56 | V14: 212 | W14: 91 | X14: 0 | Y14: 80 | Z14: 66 | AA14: 12 | AB14: 18 | AC14: 20 | AD14: 93 | AE14: 6 | AF14: 22 | AG14: 44 | AH14: 147 | AI14: 44 | AJ14: 1026 | AK14: 689 | AL14: 225 | AM14: 35 | AN14: 287 | AO14: 10 | AP14: 98 | AQ14: 15 | AR14: 19 | AS14: 241 | AT14: 2 | AU14: 0 | AV14: 0 | AW14: 1 | AX14: 3 | AY14: 2 | AZ14: 1 | BA14: 5 | BB14: 14 | BC14: 4 | BD14: 17 | BE14: 5 | BF14: 73 | BG14: 5 | BH14: 15 | BI14: 11 | BJ14: 1 | BK14: 2 | BL14: 69 | BM14: 11 | BN14: 96
A15: 宜蘭縣 | C15: 248 | D15: 10 | E15: 2 | F15: 70 | G15: 23 | H15: 2 | I15: 58 | J15: 3 | K15: 1 | L15: 0 | M15: 73 | N15: 0 | O15: 6 | P15: 200 | Q15: 3 | R15: 1 | S15: 3 | T15: 29 | U15: 3 | V15: 31 | W15: 15 | X15: 1 | Y15: 16 | Z15: 17 | AA15: 0 | AB15: 6 | AC15: 3 | AD15: 10 | AE15: 4 | AF15: 5 | AG15: 9 | AH15: 29 | AI15: 15 | AJ15: 200 | AK15: 129 | AL15: 45 | AM15: 3 | AN15: 58 | AO15: 3 | AP15: 11 | AQ15: 2 | AR15: 7 | AS15: 32 | AT15: 2 | AU15: 1 | AV15: 0 | AW15: 0 | AX15: 1 | AY15: 0 | AZ15: 0 | BA15: 0 | BB15: 2 | BC15: 0 | BD15: 3 | BE15: 0 | BF15: 8 | BG15: 1 | BH15: 1 | BI15: 2 | BJ15: 0 | BK15: 1 | BL15: 10 | BM15: 0 | BN15: 39
A16: 新竹縣 | C16: 446 | D16: 13 | E16: 20 | F16: 115 | G16: 36 | H16: 0 | I16: 159 | J16: 3 | K16: 1 | L16: 8 | M16: 82 | N16: 0 | O16: 9 | P16: 345 | Q16: 2 | R16: 1 | S16: 10 | T16: 25 | U16: 29 | V16: 62 | W16: 31 | X16: 0 | Y16: 33 | Z16: 27 | AA16: 0 | AB16: 5 | AC16: 2 | AD16: 37 | AE16: 2 | AF16: 3 | AG16: 12 | AH16: 27 | AI16: 37 | AJ16: 345 | AK16: 224 | AL16: 54 | AM16: 13 | AN16: 112 | AO16: 7 | AP16: 29 | AQ16: 1 | AR16: 8 | AS16: 74 | AT16: 2 | AU16: 0 | AV16: 0 | AW16: 0 | AX16: 1 | AY16: 1 | AZ16: 0 | BA16: 3 | BB16: 2 | BC16: 2 | BD16: 1 | BE16: 1 | BF16: 26 | BG16: 5 | BH16: 4 | BI16: 1 | BJ16: 0 | BK16: 0 | BL16: 21 | BM16: 4 | BN16: 47
A17: 苗栗縣 | C17: 328 | D17: 8 | E17: 4 | F17: 92 | G17: 28 | H17: 1 | I17: 95 | J17: 1 | K17: 0 | L17: 0 | M17: 98 | N17: 0 | O17: 1 | P17: 251 | Q17: 2 | R17: 0 | S17: 5 | T17: 27 | U17: 13 | V17: 57 | W17: 19 | X17: 3 | Y17: 19 | Z17: 17 | AA17: 2 | AB17: 7 | AC17: 1 | AD17: 12 | AE17: 6 | AF17: 2 | AG17: 17 | AH17: 26 | AI17: 16 | AJ17: 251 | AK17: 179 | AL17: 55 | AM17: 6 | AN17: 86 | AO17: 3 | AP17: 24 | AQ17: 5 | AR17: 0 | AS17: 57 | AT17: 2 | AU17: 0 | AV17: 1 | AW17: 0 | AX17: 0 | AY17: 2 | AZ17: 1 | BA17: 4 | BB17: 2 | BC17: 3 | BD17: 3 | BE17: 0 | BF17: 9 | BG17: 4 | BH17: 7 | BI17: 3 | BJ17: 0 | BK17: 1 | BL17: 14 | BM17: 1 | BN17: 15
A18: 彰化縣 | C18: 654 | D18: 17 | E18: 15 | F18: 178 | G18: 38 | H18: 2 | I18: 204 | J18: 9 | K18: 2 | L18: 11 | M18: 171 | N18: 0 | O18: 7 | P18: 493 | Q18: 4 | R18: 0 | S18: 11 | T18: 59 | U18: 38 | V18: 102 | W18: 31 | X18: 1 | Y18: 30 | Z18: 46 | AA18: 9 | AB18: 18 | AC18: 2 | AD18: 43 | AE18: 9 | AF18: 6 | AG18: 19 | AH18: 58 | AI18: 7 | AJ18: 493 | AK18: 358 | AL18: 120 | AM18: 14 | AN18: 155 | AO18: 13 | AP18: 39 | AQ18: 4 | AR18: 13 | AS18: 100 | AT18: 1 | AU18: 0 | AV18: 0 | AW18: 0 | AX18: 0 | AY18: 0 | AZ18: 0 | BA18: 8 | BB18: 7 | BC18: 4 | BD18: 2 | BE18: 0 | BF18: 32 | BG18: 2 | BH18: 4 | BI18: 1 | BJ18: 2 | BK18: 2 | BL18: 34 | BM18: 1 | BN18: 35
A19: 南投縣 | C19: 400 | D19: 17 | E19: 6 | F19: 92 | G19: 62 | H19: 4 | I19: 86 | J19: 10 | K19: 0 | L19: 3 | M19: 114 | N19: 0 | O19: 6 | P19: 291 | Q19: 4 | R19: 1 | S19: 13 | T19: 17 | U19: 27 | V19: 60 | W19: 15 | X19: 0 | Y19: 35 | Z19: 21 | AA19: 2 | AB19: 5 | AC19: 1 | AD19: 18 | AE19: 0 | AF19: 3 | AG19: 6 | AH19: 34 | AI19: 29 | AJ19: 291 | AK19: 166 | AL19: 59 | AM19: 3 | AN19: 67 | AO19: 4 | AP19: 18 | AQ19: 10 | AR19: 5 | AS19: 69 | AT19: 1 | AU19: 0 | AV19: 0 | AW19: 0 | AX19: 0 | AY19: 1 | AZ19: 0 | BA19: 1 | BB19: 2 | BC19: 6 | BD19: 17 | BE19: 0 | BF19: 8 | BG19: 4 | BH19: 1 | BI19: 0 | BJ19: 0 | BK19: 0 | BL19: 22 | BM19: 6 | BN19: 56
... A30: 連江縣 | C30: 5 | D30: 0 | E30: 0 | F30: 4 | G30: 0 | H30: 0 | I30: 1 | J30: 0 | K30: 0 | L30: 0 | M30: 0 | N30: 0 | O30: 0 | P30: 5 | Q30: 0 | R30: 0 | S30: 0 | T30: 0 | U30: 0 | V30: 1 | W30: 1 | X30: 0 | Y30: 0 | Z30: 0 | AA30: 0 | AB30: 0 | AC30: 0 | AD30: 0 | AE30: 0 | AF30: 0 | AG30: 0 | AH30: 3 | AI30: 0 | AJ30: 5 | AK30: 2 | AL30: 0 | AM30: 0 | AN30: 1 | AO30: 0 | AP30: 0 | AQ30: 1 | AR30: 0 | AS30: 3 | AT30: 0 | AU30: 0 | AV30: 0 | AW30: 0 | AX30: 0 | AY30: 0 | AZ30: 0 | BA30: 2 | BB30: 0 | BC30: 0 | BD30: 0 | BE30: 0 | BF30: 0 | BG30: 0 | BH30: 0 | BI30: 0 | BJ30: 0 | BK30: 0 | BL30: 0 | BM30: 1 | BN30: 0
A31: 資料來源：本部保護服務司。

Sheet 105
A1: 5.2-01 性侵害事件通報案件統計
A3: 單位：件次；件數
A4: 區域別 | C4: 通報件次(複選) | P4: 通報件數 | AJ4: 通報件數
C5: 通報單位別 | P5: 被害及嫌疑人兩造關係別 | AJ5: 案發地點別
AJ6: 合計 | AK6: 私人住所 | AS6: 非私人住所 | BN6: 不 詳
C7: 合計 | D7: 113 | E7: 防治中心 | F7: 教育 | G7: 社政 | H7: 勞政 | I7: 警政 | J7: 司(軍)法 | K7: 衛生 | L7: 診所 | M7: 醫院 | N7: 憲兵隊 | O7: 其他 | P7: 合計 | Q7: 配偶 | R7: 前配偶 | S7: 鄰居 | T7: 網友 | U7: 直系 血親 | V7: 男(女)朋友 | W7: 前男(女) 朋友 | X7: 未婚 夫/妻 | Y7: 普通 朋友 | Z7: 旁系 親屬 | AA7: 師生 關係 | AB7: 家人的朋友 | AC7: 客戶 關係 | AD7: 同學 | AE7: 同事 | AF7: 上司/下屬 | AG7: 不認識 | AH7: 其他 | AI7: 不詳 | AK7: 小計 | AL7: 被害人 住所 | AM7: 被（加） 害人親友 住處 | AN7: 加害人 住所 | AO7: 汽車 | AP7: 旅館 房間 | AQ7: 他人 住所 | AR7: 不詳 | AS7: 小計 | AT7: 空屋 | AU7: 地下室 | AV7: 頂樓 陽台 | AW7: 電梯 | AX7: 工地 | AY7: 停車場 | AZ7: 計程車 | BA7: 馬路邊 | BB7: 娛樂 場所 | BC7: 荒野 | BD7: 福利機構 | BE7: 大眾運 輸工具 | BF7: 學校/ 教室 | BG7: 宿舍 | BH7: 公共 廁所 | BI7: 辦公 場所 | BJ7: 工廠 | BK7: 河/海邊 | BL7: 其他 | BM7: 不詳
A8: 105年 2016 | C8: 13755 | D8: 519 | E8: 184 | F8: 3668 | G8: 1052 | H8: 42 | I8: 4074 | J8: 153 | K8: 11 | L8: 179 | M8: 3714 | N8: 0 | O8: 159 | P8: 10610 | Q8: 113 | R8: 54 | S8: 210 | T8: 912 | U8: 663 | V8: 2139 | W8: 897 | X8: 11 | Y8: 934 | Z8: 541 | AA8: 161 | AB8: 196 | AC8: 153 | AD8: 755 | AE8: 119 | AF8: 168 | AG8: 463 | AH8: 1248 | AI8: 873 | AJ8: 10610 | AK8: 6866 | AL8: 2125 | AM8: 267 | AN8: 2802 | AO8: 119 | AP8: 1051 | AQ8: 170 | AR8: 332 | AS8: 2375 | AT8: 27 | AU8: 15 | AV8: 9 | AW8: 0 | AX8: 10 | AY8: 21 | AZ8: 9 | BA8: 117 | BB8: 158 | BC8: 42 | BD8: 110 | BE8: 17 | BF8: 583 | BG8: 59 | BH8: 158 | BI8: 66 | BJ8: 14 | BK8: 17 | BL8: 699 | BM8: 244 | BN8: 1369
A9: 新北市 | C9: 2295 | D9: 123 | E9: 37 | F9: 620 | G9: 123 | H9: 7 | I9: 688 | J9: 26 | K9: 2 | L9: 22 | M9: 635 | N9: 0 | O9: 12 | P9: 1876 | Q9: 20 | R9: 9 | S9: 23 | T9: 197 | U9: 136 | V9: 346 | W9: 165 | X9: 0 | Y9: 185 | Z9: 83 | AA9: 29 | AB9: 23 | AC9: 28 | AD9: 115 | AE9: 27 | AF9: 22 | AG9: 74 | AH9: 199 | AI9: 195 | AJ9: 1876 | AK9: 1193 | AL9: 361 | AM9: 53 | AN9: 512 | AO9: 16 | AP9: 173 | AQ9: 30 | AR9: 48 | AS9: 389 | AT9: 2 | AU9: 2 | AV9: 4 | AW9: 0 | AX9: 1 | AY9: 4 | AZ9: 5 | BA9: 18 | BB9: 33 | BC9: 7 | BD9: 4 | BE9: 1 | BF9: 92 | BG9: 5 | BH9: 36 | BI9: 16 | BJ9: 3 | BK9: 2 | BL9: 113 | BM9: 41 | BN9: 294
A10: 臺北市 | C10: 1064 | D10: 55 | E10: 31 | F10: 255 | G10: 94 | H10: 5 | I10: 319 | J10: 15 | K10: 0 | L10: 3 | M10: 271 | N10: 0 | O10: 16 | P10: 841 | Q10: 6 | R10: 5 | S10: 3 | T10: 84 | U10: 39 | V10: 110 | W10: 64 | X10: 0 | Y10: 96 | Z10: 37 | AA10: 9 | AB10: 6 | AC10: 18 | AD10: 66 | AE10: 11 | AF10: 18 | AG10: 48 | AH10: 117 | AI10: 104 | AJ10: 841 | AK10: 518 | AL10: 145 | AM10: 18 | AN10: 196 | AO10: 12 | AP10: 106 | AQ10: 9 | AR10: 32 | AS10: 166 | AT10: 1 | AU10: 0 | AV10: 0 | AW10: 0 | AX10: 1 | AY10: 0 | AZ10: 0 | BA10: 5 | BB10: 20 | BC10: 1 | BD10: 8 | BE10: 2 | BF10: 39 | BG10: 5 | BH10: 9 | BI10: 4 | BJ10: 0 | BK10: 4 | BL10: 55 | BM10: 12 | BN10: 157
A11: 桃園市 | C11: 1551 | D11: 62 | E11: 19 | F11: 484 | G11: 143 | H11: 3 | I11: 398 | J11: 25 | K11: 1 | L11: 26 | M11: 371 | N11: 0 | O11: 19 | P11: 1255 | Q11: 10 | R11: 13 | S11: 20 | T11: 83 | U11: 81 | V11: 260 | W11: 108 | X11: 2 | Y11: 86 | Z11: 61 | AA11: 18 | AB11: 23 | AC11: 10 | AD11: 125 | AE11: 19 | AF11: 22 | AG11: 42 | AH11: 138 | AI11: 134 | AJ11: 1255 | AK11: 753 | AL11: 233 | AM11: 25 | AN11: 298 | AO11: 12 | AP11: 124 | AQ11: 18 | AR11: 43 | AS11: 310 | AT11: 4 | AU11: 2 | AV11: 1 | AW11: 0 | AX11: 2 | AY11: 2 | AZ11: 0 | BA11: 15 | BB11: 23 | BC11: 3 | BD11: 14 | BE11: 2 | BF11: 78 | BG11: 9 | BH11: 23 | BI11: 10 | BJ11: 1 | BK11: 0 | BL11: 84 | BM11: 37 | BN11: 192
A12: 臺中市 | C12: 1851 | D12: 49 | E12: 13 | F12: 417 | G12: 95 | H12: 7 | I12: 673 | J12: 23 | K12: 1 | L12: 22 | M12: 541 | N12: 0 | O12: 10 | P12: 1414 | Q12: 17 | R12: 6 | S12: 19 | T12: 151 | U12: 79 | V12: 245 | W12: 116 | X12: 1 | Y12: 125 | Z12: 77 | AA12: 24 | AB12: 32 | AC12: 33 | AD12: 84 | AE12: 18 | AF12: 26 | AG12: 83 | AH12: 178 | AI12: 100 | AJ12: 1414 | AK12: 955 | AL12: 291 | AM12: 30 | AN12: 407 | AO12: 15 | AP12: 148 | AQ12: 25 | AR12: 39 | AS12: 312 | AT12: 3 | AU12: 5 | AV12: 1 | AW12: 0 | AX12: 3 | AY12: 4 | AZ12: 0 | BA12: 28 | BB12: 16 | BC12: 2 | BD12: 15 | BE12: 4 | BF12: 65 | BG12: 8 | BH12: 22 | BI12: 15 | BJ12: 1 | BK12: 0 | BL12: 99 | BM12: 21 | BN12: 147
A13: 臺南市 | C13: 837 | D13: 40 | E13: 16 | F13: 205 | G13: 69 | H13: 2 | I13: 270 | J13: 8 | K13: 1 | L13: 19 | M13: 198 | N13: 0 | O13: 9 | P13: 639 | Q13: 7 | R13: 4 | S13: 17 | T13: 46 | U13: 56 | V13: 115 | W13: 61 | X13: 0 | Y13: 52 | Z13: 33 | AA13: 12 | AB13: 20 | AC13: 15 | AD13: 43 | AE13: 3 | AF13: 8 | AG13: 23 | AH13: 85 | AI13: 39 | AJ13: 639 | AK13: 447 | AL13: 157 | AM13: 12 | AN13: 168 | AO13: 8 | AP13: 68 | AQ13: 10 | AR13: 24 | AS13: 129 | AT13: 3 | AU13: 0 | AV13: 0 | AW13: 0 | AX13: 0 | AY13: 1 | AZ13: 0 | BA13: 2 | BB13: 7 | BC13: 2 | BD13: 3 | BE13: 2 | BF13: 36 | BG13: 1 | BH13: 5 | BI13: 6 | BJ13: 1 | BK13: 0 | BL13: 44 | BM13: 16 | BN13: 63
A14: 高雄市 | C14: 1664 | D14: 62 | E14: 27 | F14: 469 | G14: 157 | H14: 5 | I14: 471 | J14: 23 | K14: 2 | L14: 18 | M14: 405 | N14: 0 | O14: 25 | P14: 1045 | Q14: 18 | R14: 3 | S14: 21 | T14: 88 | U14: 44 | V14: 215 | W14: 107 | X14: 2 | Y14: 92 | Z14: 57 | AA14: 19 | AB14: 23 | AC14: 17 | AD14: 92 | AE14: 6 | AF14: 19 | AG14: 38 | AH14: 135 | AI14: 49 | AJ14: 1045 | AK14: 684 | AL14: 208 | AM14: 29 | AN14: 281 | AO14: 4 | AP14: 118 | AQ14: 22 | AR14: 22 | AS14: 264 | AT14: 4 | AU14: 1 | AV14: 0 | AW14: 0 | AX14: 0 | AY14: 4 | AZ14: 0 | BA14: 12 | BB14: 15 | BC14: 7 | BD14: 17 | BE14: 2 | BF14: 79 | BG14: 7 | BH14: 14 | BI14: 3 | BJ14: 0 | BK14: 0 | BL14: 85 | BM14: 14 | BN14: 97
A15: 宜蘭縣 | C15: 251 | D15: 2 | E15: 4 | F15: 75 | G15: 25 | H15: 0 | I15: 46 | J15: 6 | K15: 0 | L15: 0 | M15: 86 | N15: 0 | O15: 7 | P15: 200 | Q15: 3 | R15: 1 | S15: 5 | T15: 18 | U15: 7 | V15: 62 | W15: 13 | X15: 1 | Y15: 26 | Z15: 6 | AA15: 2 | AB15: 5 | AC15: 1 | AD15: 9 | AE15: 2 | AF15: 1 | AG15: 10 | AH15: 19 | AI15: 9 | AJ15: 200 | AK15: 131 | AL15: 39 | AM15: 9 | AN15: 50 | AO15: 5 | AP15: 17 | AQ15: 1 | AR15: 10 | AS15: 44 | AT15: 0 | AU15: 0 | AV15: 0 | AW15: 0 | AX15: 0 | AY15: 0 | AZ15: 1 | BA15: 2 | BB15: 2 | BC15: 3 | BD15: 3 | BE15: 0 | BF15: 11 | BG15: 1 | BH15: 2 | BI15: 0 | BJ15: 1 | BK15: 0 | BL15: 11 | BM15: 7 | BN15: 25
A16: 新竹縣 | C16: 490 | D16: 13 | E16: 5 | F16: 126 | G16: 47 | H16: 0 | I16: 177 | J16: 1 | K16: 0 | L16: 9 | M16: 101 | N16: 0 | O16: 11 | P16: 379 | Q16: 3 | R16: 0 | S16: 9 | T16: 28 | U16: 32 | V16: 82 | W16: 42 | X16: 1 | Y16: 21 | Z16: 36 | AA16: 6 | AB16: 6 | AC16: 1 | AD16: 33 | AE16: 1 | AF16: 2 | AG16: 12 | AH16: 39 | AI16: 25 | AJ16: 379 | AK16: 268 | AL16: 86 | AM16: 14 | AN16: 104 | AO16: 10 | AP16: 37 | AQ16: 5 | AR16: 12 | AS16: 78 | AT16: 1 | AU16: 1 | AV16: 0 | AW16: 0 | AX16: 1 | AY16: 1 | AZ16: 0 | BA16: 4 | BB16: 2 | BC16: 2 | BD16: 3 | BE16: 0 | BF16: 22 | BG16: 3 | BH16: 5 | BI16: 0 | BJ16: 0 | BK16: 0 | BL16: 26 | BM16: 7 | BN16: 33
A17: 苗栗縣 | C17: 276 | D17: 5 | E17: 0 | F17: 68 | G17: 19 | H17: 1 | I17: 83 | J17: 4 | K17: 0 | L17: 0 | M17: 95 | N17: 0 | O17: 1 | P17: 212 | Q17: 1 | R17: 0 | S17: 5 | T17: 15 | U17: 10 | V17: 59 | W17: 15 | X17: 0 | Y17: 22 | Z17: 9 | AA17: 1 | AB17: 2 | AC17: 1 | AD17: 14 | AE17: 1 | AF17: 3 | AG17: 9 | AH17: 30 | AI17: 15 | AJ17: 212 | AK17: 154 | AL17: 38 | AM17: 7 | AN17: 72 | AO17: 2 | AP17: 22 | AQ17: 6 | AR17: 7 | AS17: 39 | AT17: 0 | AU17: 0 | AV17: 0 | AW17: 0 | AX17: 0 | AY17: 0 | AZ17: 0 | BA17: 6 | BB17: 5 | BC17: 0 | BD17: 2 | BE17: 0 | BF17: 9 | BG17: 1 | BH17: 0 | BI17: 0 | BJ17: 0 | BK17: 0 | BL17: 13 | BM17: 3 | BN17: 19
A18: 彰化縣 | C18: 775 | D18: 25 | E18: 6 | F18: 176 | G18: 55 | H18: 2 | I18: 271 | J18: 6 | K18: 0 | L18: 13 | M18: 217 | N18: 0 | O18: 4 | P18: 593 | Q18: 8 | R18: 3 | S18: 14 | T18: 51 | U18: 61 | V18: 106 | W18: 41 | X18: 1 | Y18: 38 | Z18: 50 | AA18: 22 | AB18: 12 | AC18: 3 | AD18: 43 | AE18: 11 | AF18: 11 | AG18: 37 | AH18: 50 | AI18: 31 | AJ18: 593 | AK18: 390 | AL18: 126 | AM18: 18 | AN18: 160 | AO18: 6 | AP18: 54 | AQ18: 5 | AR18: 21 | AS18: 149 | AT18: 1 | AU18: 0 | AV18: 0 | AW18: 0 | AX18: 0 | AY18: 1 | AZ18: 0 | BA18: 7 | BB18: 8 | BC18: 2 | BD18: 2 | BE18: 0 | BF18: 50 | BG18: 5 | BH18: 10 | BI18: 1 | BJ18: 5 | BK18: 0 | BL18: 33 | BM18: 24 | BN18: 54
A19: 南投縣 | C19: 314 | D19: 8 | E19: 7 | F19: 88 | G19: 36 | H19: 2 | I19: 59 | J19: 1 | K19: 0 | L19: 9 | M19: 102 | N19: 0 | O19: 2 | P19: 250 | Q19: 3 | R19: 1 | S19: 8 | T19: 8 | U19: 15 | V19: 80 | W19: 11 | X19: 0 | Y19: 22 | Z19: 7 | AA19: 0 | AB19: 5 | AC19: 4 | AD19: 16 | AE19: 2 | AF19: 3 | AG19: 4 | AH19: 29 | AI19: 32 | AJ19: 250 | AK19: 143 | AL19: 45 | AM19: 4 | AN19: 59 | AO19: 2 | AP19: 20 | AQ19: 3 | AR19: 10 | AS19: 63 | AT19: 0 | AU19: 0 | AV19: 0 | AW19: 0 | AX19: 0 | AY19: 1 | AZ19: 0 | BA19: 0 | BB19: 8 | BC19: 1 | BD19: 7 | BE19: 3 | BF19: 12 | BG19: 3 | BH19: 4 | BI19: 0 | BJ19: 1 | BK19: 0 | BL19: 18 | BM19: 5 | BN19: 44
... A30: 連江縣 | C30: 4 | D30: 0 | E30: 0 | F30: 3 | G30: 0 | H30: 0 | I30: 0 | J30: 1 | K30: 0 | L30: 0 | M30: 0 | N30: 0 | O30: 0 | P30: 4 | Q30: 0 | R30: 0 | S30: 0 | T30: 0 | U30: 0 | V30: 2 | W30: 0 | X30: 0 | Y30: 1 | Z30: 0 | AA30: 0 | AB30: 0 | AC30: 0 | AD30: 0 | AE30: 0 | AF30: 0 | AG30: 0 | AH30: 0 | AI30: 1 | AJ30: 4 | AK30: 2 | AL30: 0 | AM30: 0 | AN30: 0 | AO30: 0 | AP30: 1 | AQ30: 0 | AR30: 1 | AS30: 1 | AT30: 0 | AU30: 0 | AV30: 0 | AW30: 0 | AX30: 0 | AY30: 0 | AZ30: 0 | BA30: 0 | BB30: 0 | BC30: 0 | BD30: 0 | BE30: 0 | BF30: 0 | BG30: 0 | BH30: 0 | BI30: 0 | BJ30: 0 | BK30: 0 | BL30: 1 | BM30: 0 | BN30: 1
A31: 資料來源：本部保護服務司。

Sheet 104
A1: 5.2-01 性侵害事件通報案件統計
A3: 單位：件次；件數
A4: 區域別 | C4: 通報件次(複選) | P4: 通報件數 | AJ4: 通報件數
C5: 通報單位別 | P5: 被害及嫌疑人兩造關係別 | AJ5: 案發地點別
AJ6: 合計 | AK6: 私人住所 | AS6: 非私人住所 | BN6: 不 詳
C7: 合計 | D7: 113 | E7: 防治中心 | F7: 教育 | G7: 社政 | H7: 勞政 | I7: 警政 | J7: 司(軍)法 | K7: 衛生 | L7: 診所 | M7: 醫院 | N7: 憲兵隊 | O7: 其他 | P7: 合計 | Q7: 配偶 | R7: 前配偶 | S7: 鄰居 | T7: 網友 | U7: 直系 血親 | V7: 男(女)朋友 | W7: 前男(女) 朋友 | X7: 未婚 夫/妻 | Y7: 普通 朋友 | Z7: 旁系 親屬 | AA7: 師生 關係 | AB7: 家人的朋友 | AC7: 客戶 關係 | AD7: 同學 | AE7: 同事 | AF7: 上司/下屬 | AG7: 不認識 | AH7: 其他 | AI7: 不詳 | AK7: 小計 | AL7: 被害人 住所 | AM7: 被（加） 害人親友 住處 | AN7: 加害人 住所 | AO7: 汽車 | AP7: 旅館 房間 | AQ7: 他人 住所 | AR7: 不詳 | AS7: 小計 | AT7: 空屋 | AU7: 地下室 | AV7: 頂樓 陽台 | AW7: 電梯 | AX7: 工地 | AY7: 停車場 | AZ7: 計程車 | BA7: 馬路邊 | BB7: 娛樂 場所 | BC7: 荒野 | BD7: 福利機構 | BE7: 大眾運 輸工具 | BF7: 學校/ 教室 | BG7: 宿舍 | BH7: 公共 廁所 | BI7: 辦公 場所 | BJ7: 工廠 | BK7: 河/海邊 | BL7: 其他 | BM7: 不詳
A8: 104年 2015 | C8: 16630 | D8: 739 | E8: 102 | F8: 5765 | G8: 942 | H8: 67 | I8: 4326 | J8: 169 | K8: 26 | L8: 145 | M8: 4176 | N8: 0 | O8: 173 | P8: 13415 | Q8: 127 | R8: 53 | S8: 274 | T8: 789 | U8: 693 | V8: 2669 | W8: 899 | X8: 20 | Y8: 1171 | Z8: 673 | AA8: 247 | AB8: 266 | AC8: 176 | AD8: 1351 | AE8: 137 | AF8: 208 | AG8: 581 | AH8: 1600 | AI8: 1481 | AJ8: 13415 | AK8: 7621 | AL8: 2377 | AM8: 263 | AN8: 3158 | AO8: 132 | AP8: 1030 | AQ8: 163 | AR8: 498 | AS8: 3701 | AT8: 31 | AU8: 10 | AV8: 19 | AW8: 6 | AX8: 5 | AY8: 31 | AZ8: 11 | BA8: 151 | BB8: 149 | BC8: 48 | BD8: 97 | BE8: 61 | BF8: 1088 | BG8: 123 | BH8: 212 | BI8: 70 | BJ8: 31 | BK8: 18 | BL8: 966 | BM8: 574 | BN8: 2093
A9: 新北市 | C9: 2690 | D9: 144 | E9: 10 | F9: 1000 | G9: 75 | H9: 10 | I9: 711 | J9: 5 | K9: 7 | L9: 5 | M9: 704 | N9: 0 | O9: 19 | P9: 2254 | Q9: 20 | R9: 10 | S9: 33 | T9: 146 | U9: 103 | V9: 481 | W9: 155 | X9: 3 | Y9: 205 | Z9: 79 | AA9: 47 | AB9: 42 | AC9: 21 | AD9: 217 | AE9: 24 | AF9: 31 | AG9: 102 | AH9: 246 | AI9: 289 | AJ9: 2254 | AK9: 1244 | AL9: 382 | AM9: 34 | AN9: 516 | AO9: 16 | AP9: 185 | AQ9: 29 | AR9: 82 | AS9: 567 | AT9: 2 | AU9: 1 | AV9: 4 | AW9: 2 | AX9: 3 | AY9: 10 | AZ9: 5 | BA9: 26 | BB9: 21 | BC9: 4 | BD9: 9 | BE9: 12 | BF9: 175 | BG9: 7 | BH9: 32 | BI9: 9 | BJ9: 4 | BK9: 2 | BL9: 135 | BM9: 104 | BN9: 443
A10: 臺北市 | C10: 1366 | D10: 81 | E10: 2 | F10: 441 | G10: 85 | H10: 6 | I10: 387 | J10: 2 | K10: 2 | L10: 3 | M10: 334 | N10: 0 | O10: 23 | P10: 1099 | Q10: 7 | R10: 7 | S10: 18 | T10: 61 | U10: 55 | V10: 106 | W10: 65 | X10: 1 | Y10: 106 | Z10: 34 | AA10: 26 | AB10: 16 | AC10: 36 | AD10: 139 | AE10: 6 | AF10: 12 | AG10: 60 | AH10: 177 | AI10: 167 | AJ10: 1099 | AK10: 583 | AL10: 222 | AM10: 20 | AN10: 191 | AO10: 11 | AP10: 108 | AQ10: 7 | AR10: 24 | AS10: 315 | AT10: 1 | AU10: 2 | AV10: 0 | AW10: 0 | AX10: 0 | AY10: 2 | AZ10: 2 | BA10: 14 | BB10: 23 | BC10: 3 | BD10: 5 | BE10: 7 | BF10: 119 | BG10: 6 | BH10: 21 | BI10: 3 | BJ10: 1 | BK10: 1 | BL10: 74 | BM10: 31 | BN10: 201
A11: 桃園市 | C11: 1974 | D11: 98 | E11: 19 | F11: 703 | G11: 134 | H11: 9 | I11: 476 | J11: 32 | K11: 0 | L11: 12 | M11: 472 | N11: 0 | O11: 19 | P11: 1602 | Q11: 19 | R11: 6 | S11: 25 | T11: 98 | U11: 79 | V11: 274 | W11: 114 | X11: 1 | Y11: 119 | Z11: 80 | AA11: 21 | AB11: 30 | AC11: 18 | AD11: 157 | AE11: 22 | AF11: 28 | AG11: 70 | AH11: 177 | AI11: 264 | AJ11: 1602 | AK11: 872 | AL11: 260 | AM11: 33 | AN11: 389 | AO11: 12 | AP11: 109 | AQ11: 17 | AR11: 52 | AS11: 420 | AT11: 2 | AU11: 1 | AV11: 2 | AW11: 0 | AX11: 0 | AY11: 4 | AZ11: 3 | BA11: 12 | BB11: 20 | BC11: 9 | BD11: 14 | BE11: 7 | BF11: 129 | BG11: 9 | BH11: 14 | BI11: 11 | BJ11: 4 | BK11: 0 | BL11: 109 | BM11: 70 | BN11: 310
A12: 臺中市 | C12: 2012 | D12: 75 | E12: 10 | F12: 588 | G12: 98 | H12: 10 | I12: 630 | J12: 38 | K12: 1 | L12: 18 | M12: 533 | N12: 0 | O12: 11 | P12: 1565 | Q12: 16 | R12: 11 | S12: 31 | T12: 106 | U12: 98 | V12: 304 | W12: 111 | X12: 0 | Y12: 133 | Z12: 81 | AA12: 34 | AB12: 36 | AC12: 33 | AD12: 132 | AE12: 21 | AF12: 21 | AG12: 79 | AH12: 179 | AI12: 139 | AJ12: 1565 | AK12: 951 | AL12: 299 | AM12: 37 | AN12: 369 | AO12: 21 | AP12: 146 | AQ12: 25 | AR12: 54 | AS12: 429 | AT12: 4 | AU12: 1 | AV12: 2 | AW12: 1 | AX12: 0 | AY12: 5 | AZ12: 0 | BA12: 23 | BB12: 19 | BC12: 5 | BD12: 6 | BE12: 12 | BF12: 122 | BG12: 15 | BH12: 29 | BI12: 9 | BJ12: 9 | BK12: 1 | BL12: 102 | BM12: 64 | BN12: 185
A13: 臺南市 | C13: 1007 | D13: 55 | E13: 9 | F13: 331 | G13: 83 | H13: 3 | I13: 277 | J13: 10 | K13: 2 | L13: 12 | M13: 209 | N13: 0 | O13: 16 | P13: 812 | Q13: 6 | R13: 1 | S13: 23 | T13: 67 | U13: 35 | V13: 139 | W13: 72 | X13: 0 | Y13: 75 | Z13: 42 | AA13: 15 | AB13: 22 | AC13: 12 | AD13: 113 | AE13: 4 | AF13: 17 | AG13: 31 | AH13: 103 | AI13: 35 | AJ13: 812 | AK13: 464 | AL13: 149 | AM13: 11 | AN13: 193 | AO13: 7 | AP13: 77 | AQ13: 9 | AR13: 18 | AS13: 245 | AT13: 1 | AU13: 0 | AV13: 1 | AW13: 0 | AX13: 0 | AY13: 1 | AZ13: 1 | BA13: 12 | BB13: 5 | BC13: 2 | BD13: 10 | BE13: 1 | BF13: 91 | BG13: 7 | BH13: 11 | BI13: 5 | BJ13: 3 | BK13: 0 | BL13: 69 | BM13: 25 | BN13: 103
A14: 高雄市 | C14: 1764 | D14: 94 | E14: 27 | F14: 586 | G14: 133 | H14: 7 | I14: 429 | J14: 19 | K14: 5 | L14: 29 | M14: 412 | N14: 0 | O14: 23 | P14: 1200 | Q14: 10 | R14: 4 | S14: 20 | T14: 82 | U14: 88 | V14: 244 | W14: 79 | X14: 3 | Y14: 82 | Z14: 72 | AA14: 34 | AB14: 20 | AC14: 25 | AD14: 134 | AE14: 12 | AF14: 24 | AG14: 48 | AH14: 145 | AI14: 74 | AJ14: 1200 | AK14: 727 | AL14: 233 | AM14: 26 | AN14: 321 | AO14: 13 | AP14: 96 | AQ14: 11 | AR14: 27 | AS14: 356 | AT14: 1 | AU14: 1 | AV14: 3 | AW14: 1 | AX14: 0 | AY14: 2 | AZ14: 0 | BA14: 13 | BB14: 22 | BC14: 4 | BD14: 8 | BE14: 4 | BF14: 91 | BG14: 23 | BH14: 26 | BI14: 8 | BJ14: 2 | BK14: 0 | BL14: 100 | BM14: 47 | BN14: 117
A15: 宜蘭縣 | C15: 406 | D15: 11 | E15: 3 | F15: 185 | G15: 14 | H15: 2 | I15: 43 | J15: 2 | K15: 1 | L15: 3 | M15: 137 | N15: 0 | O15: 5 | P15: 356 | Q15: 7 | R15: 0 | S15: 4 | T15: 17 | U15: 10 | V15: 127 | W15: 21 | X15: 3 | Y15: 21 | Z15: 7 | AA15: 1 | AB15: 3 | AC15: 2 | AD15: 57 | AE15: 1 | AF15: 6 | AG15: 10 | AH15: 28 | AI15: 31 | AJ15: 356 | AK15: 155 | AL15: 37 | AM15: 5 | AN15: 73 | AO15: 1 | AP15: 13 | AQ15: 3 | AR15: 23 | AS15: 122 | AT15: 0 | AU15: 0 | AV15: 1 | AW15: 0 | AX15: 0 | AY15: 0 | AZ15: 0 | BA15: 3 | BB15: 0 | BC15: 0 | BD15: 2 | BE15: 0 | BF15: 44 | BG15: 1 | BH15: 7 | BI15: 1 | BJ15: 0 | BK15: 1 | BL15: 30 | BM15: 32 | BN15: 79
A16: 新竹縣 | C16: 534 | D16: 16 | E16: 7 | F16: 168 | G16: 33 | H16: 6 | I16: 152 | J16: 4 | K16: 1 | L16: 8 | M16: 135 | N16: 0 | O16: 4 | P16: 448 | Q16: 2 | R16: 0 | S16: 5 | T16: 14 | U16: 34 | V16: 104 | W16: 25 | X16: 1 | Y16: 30 | Z16: 39 | AA16: 3 | AB16: 7 | AC16: 6 | AD16: 49 | AE16: 10 | AF16: 11 | AG16: 14 | AH16: 52 | AI16: 42 | AJ16: 448 | AK16: 289 | AL16: 87 | AM16: 13 | AN16: 116 | AO16: 4 | AP16: 34 | AQ16: 8 | AR16: 27 | AS16: 95 | AT16: 0 | AU16: 0 | AV16: 1 | AW16: 0 | AX16: 0 | AY16: 0 | AZ16: 0 | BA16: 2 | BB16: 3 | BC16: 2 | BD16: 13 | BE16: 6 | BF16: 28 | BG16: 0 | BH16: 4 | BI16: 2 | BJ16: 0 | BK16: 1 | BL16: 15 | BM16: 18 | BN16: 64
A17: 苗栗縣 | C17: 493 | D17: 13 | E17: 2 | F17: 183 | G17: 17 | H17: 1 | I17: 130 | J17: 2 | K17: 1 | L17: 6 | M17: 136 | N17: 0 | O17: 2 | P17: 408 | Q17: 5 | R17: 0 | S17: 18 | T17: 23 | U17: 18 | V17: 92 | W17: 29 | X17: 0 | Y17: 51 | Z17: 24 | AA17: 3 | AB17: 17 | AC17: 1 | AD17: 17 | AE17: 2 | AF17: 5 | AG17: 13 | AH17: 45 | AI17: 45 | AJ17: 408 | AK17: 252 | AL17: 64 | AM17: 14 | AN17: 117 | AO17: 6 | AP17: 27 | AQ17: 6 | AR17: 18 | AS17: 93 | AT17: 1 | AU17: 0 | AV17: 0 | AW17: 0 | AX17: 0 | AY17: 2 | AZ17: 0 | BA17: 3 | BB17: 3 | BC17: 2 | BD17: 1 | BE17: 1 | BF17: 20 | BG17: 2 | BH17: 13 | BI17: 2 | BJ17: 0 | BK17: 1 | BL17: 24 | BM17: 18 | BN17: 63
A18: 彰化縣 | C18: 803 | D18: 24 | E18: 3 | F18: 259 | G18: 31 | H18: 5 | I18: 238 | J18: 24 | K18: 2 | L18: 11 | M18: 204 | N18: 0 | O18: 2 | P18: 644 | Q18: 10 | R18: 4 | S18: 10 | T18: 29 | U18: 31 | V18: 122 | W18: 41 | X18: 0 | Y18: 45 | Z18: 57 | AA18: 12 | AB18: 8 | AC18: 6 | AD18: 76 | AE18: 9 | AF18: 21 | AG18: 28 | AH18: 57 | AI18: 78 | AJ18: 644 | AK18: 368 | AL18: 108 | AM18: 19 | AN18: 158 | AO18: 7 | AP18: 36 | AQ18: 10 | AR18: 30 | AS18: 182 | AT18: 4 | AU18: 0 | AV18: 0 | AW18: 1 | AX18: 0 | AY18: 2 | AZ18: 0 | BA18: 7 | BB18: 9 | BC18: 3 | BD18: 0 | BE18: 0 | BF18: 48 | BG18: 17 | BH18: 11 | BI18: 8 | BJ18: 4 | BK18: 0 | BL18: 46 | BM18: 22 | BN18: 94
A19: 南投縣 | C19: 421 | D19: 10 | E19: 0 | F19: 140 | G19: 33 | H19: 1 | I19: 96 | J19: 0 | K19: 0 | L19: 4 | M19: 131 | N19: 0 | O19: 6 | P19: 349 | Q19: 3 | R19: 0 | S19: 8 | T19: 30 | U19: 23 | V19: 107 | W19: 20 | X19: 1 | Y19: 18 | Z19: 10 | AA19: 7 | AB19: 6 | AC19: 2 | AD19: 23 | AE19: 3 | AF19: 1 | AG19: 18 | AH19: 40 | AI19: 29 | AJ19: 349 | AK19: 215 | AL19: 63 | AM19: 6 | AN19: 87 | AO19: 2 | AP19: 32 | AQ19: 6 | AR19: 19 | AS19: 83 | AT19: 3 | AU19: 0 | AV19: 0 | AW19: 0 | AX19: 0 | AY19: 0 | AZ19: 0 | BA19: 4 | BB19: 3 | BC19: 1 | BD19: 3 | BE19: 0 | BF19: 14 | BG19: 8 | BH19: 3 | BI19: 2 | BJ19: 1 | BK19: 0 | BL19: 26 | BM19: 15 | BN19: 51
... A30: 連江縣 | C30: 4 | D30: 3 | E30: 0 | F30: 0 | G30: 1 | H30: 0 | I30: 0 | J30: 0 | K30: 0 | L30: 0 | M30: 0 | N30: 0 | O30: 0 | P30: 4 | Q30: 0 | R30: 0 | S30: 4 | T30: 0 | U30: 0 | V30: 0 | W30: 0 | X30: 0 | Y30: 0 | Z30: 0 | AA30: 0 | AB30: 0 | AC30: 0 | AD30: 0 | AE30: 0 | AF30: 0 | AG30: 0 | AH30: 0 | AI30: 0 | AJ30: 4 | AK30: 4 | AL30: 0 | AM30: 0 | AN30: 4 | AO30: 0 | AP30: 0 | AQ30: 0 | AR30: 0 | AS30: 0 | AT30: 0 | AU30: 0 | AV30: 0 | AW30: 0 | AX30: 0 | AY30: 0 | AZ30: 0 | BA30: 0 | BB30: 0 | BC30: 0 | BD30: 0 | BE30: 0 | BF30: 0 | BG30: 0 | BH30: 0 | BI30: 0 | BJ30: 0 | BK30: 0 | BL30: 0 | BM30: 0 | BN30: 0
A31: 資料來源：本部保護服務司。

Sheet 103
A1: 5.2-01 性侵害事件通報案件統計
A3: 單位：件次；件數
A4: 區域別 | C4: 通報件次(複選) | P4: 通報件數 | AJ4: 通報件數
C5: 通報單位別 | P5: 被害及加害者兩造關係別 | AJ5: 案發地點別
AJ6: 合計 | AK6: 私人住所 | AS6: 非私人住所 | BN6: 不 詳
C7: 合計 | D7: 113 | E7: 防治中心 | F7: 教育 | G7: 社政 | H7: 勞政 | I7: 警政 | J7: 司(軍)法 | K7: 衛生 | L7: 診所 | M7: 醫院 | N7: 憲兵隊 | O7: 其他 | P7: 合計 | Q7: 配偶 | R7: 前配偶 | S7: 鄰居 | T7: 網友 | U7: 直系 血親 | V7: 男(女)朋友 | W7: 前男(女) 朋友 | X7: 未婚 夫/妻 | Y7: 普通 朋友 | Z7: 旁系 親屬 | AA7: 師生 關係 | AB7: 家人的朋友 | AC7: 客戶 關係 | AD7: 同學 | AE7: 同事 | AF7: 上司/下屬 | AG7: 不認識 | AH7: 其他 | AI7: 不詳 | AK7: 小計 | AL7: 被害人 住所 | AM7: 被（加） 害人親友 住處 | AN7: 加害人 住所 | AO7: 汽車 | AP7: 旅館 房間 | AQ7: 他人 住所 | AR7: 不詳 | AS7: 小計 | AT7: 空屋 | AU7: 地下室 | AV7: 頂樓 陽台 | AW7: 電梯 | AX7: 工地 | AY7: 停車場 | AZ7: 計程車 | BA7: 馬路邊 | BB7: 娛樂 場所 | BC7: 荒野 | BD7: 福利機構 | BE7: 大眾運 輸工具 | BF7: 學校/ 教室 | BG7: 宿舍 | BH7: 公共 廁所 | BI7: 辦公 場所 | BJ7: 工廠 | BK7: 河/海邊 | BL7: 其他 | BM7: 不詳
A8: 103年 2014 | C8: 17513 | D8: 991 | E8: 112 | F8: 6016 | G8: 947 | H8: 105 | I8: 4379 | J8: 162 | K8: 24 | L8: 90 | M8: 4518 | N8: 0 | O8: 169 | P8: 14229 | Q8: 119 | R8: 56 | S8: 302 | T8: 854 | U8: 886 | V8: 2841 | W8: 917 | X8: 19 | Y8: 1222 | Z8: 715 | AA8: 271 | AB8: 322 | AC8: 182 | AD8: 1387 | AE8: 171 | AF8: 211 | AG8: 731 | AH8: 1686 | AI8: 1337 | AJ8: 14229 | AK8: 8352 | AL8: 2549 | AM8: 316 | AN8: 3467 | AO8: 118 | AP8: 1160 | AQ8: 202 | AR8: 540 | AS8: 3778 | AT8: 28 | AU8: 19 | AV8: 23 | AW8: 10 | AX8: 14 | AY8: 29 | AZ8: 6 | BA8: 187 | BB8: 145 | BC8: 58 | BD8: 39 | BE8: 45 | BF8: 1181 | BG8: 109 | BH8: 185 | BI8: 71 | BJ8: 28 | BK8: 30 | BL8: 985 | BM8: 586 | BN8: 2099
A9: 新北市 | C9: 2957 | D9: 210 | E9: 12 | F9: 1121 | G9: 80 | H9: 25 | I9: 711 | J9: 27 | K9: 5 | L9: 3 | M9: 756 | N9: 0 | O9: 7 | P9: 2510 | Q9: 15 | R9: 8 | S9: 35 | T9: 163 | U9: 139 | V9: 467 | W9: 183 | X9: 2 | Y9: 227 | Z9: 92 | AA9: 47 | AB9: 42 | AC9: 34 | AD9: 325 | AE9: 33 | AF9: 52 | AG9: 133 | AH9: 253 | AI9: 260 | AJ9: 2510 | AK9: 1395 | AL9: 430 | AM9: 50 | AN9: 570 | AO9: 15 | AP9: 214 | AQ9: 28 | AR9: 88 | AS9: 683 | AT9: 4 | AU9: 4 | AV9: 5 | AW9: 4 | AX9: 1 | AY9: 2 | AZ9: 2 | BA9: 30 | BB9: 29 | BC9: 3 | BD9: 3 | BE9: 12 | BF9: 265 | BG9: 11 | BH9: 39 | BI9: 20 | BJ9: 4 | BK9: 7 | BL9: 148 | BM9: 90 | BN9: 432
A10: 臺北市 | C10: 1377 | D10: 114 | E10: 8 | F10: 374 | G10: 90 | H10: 9 | I10: 388 | J10: 3 | K10: 0 | L10: 2 | M10: 373 | N10: 0 | O10: 16 | P10: 1092 | Q10: 13 | R10: 6 | S10: 13 | T10: 64 | U10: 56 | V10: 126 | W10: 64 | X10: 0 | Y10: 101 | Z10: 23 | AA10: 21 | AB10: 20 | AC10: 41 | AD10: 150 | AE10: 22 | AF10: 19 | AG10: 74 | AH10: 184 | AI10: 95 | AJ10: 1092 | AK10: 586 | AL10: 190 | AM10: 16 | AN10: 211 | AO10: 9 | AP10: 113 | AQ10: 17 | AR10: 30 | AS10: 336 | AT10: 5 | AU10: 1 | AV10: 3 | AW10: 0 | AX10: 4 | AY10: 3 | AZ10: 1 | BA10: 5 | BB10: 20 | BC10: 8 | BD10: 1 | BE10: 3 | BF10: 123 | BG10: 6 | BH10: 8 | BI10: 12 | BJ10: 3 | BK10: 3 | BL10: 86 | BM10: 41 | BN10: 170
A11: 臺中市 | C11: 2161 | D11: 106 | E11: 8 | F11: 658 | G11: 102 | H11: 10 | I11: 627 | J11: 23 | K11: 4 | L11: 11 | M11: 594 | N11: 0 | O11: 18 | P11: 1684 | Q11: 14 | R11: 7 | S11: 31 | T11: 111 | U11: 117 | V11: 351 | W11: 130 | X11: 0 | Y11: 121 | Z11: 103 | AA11: 32 | AB11: 50 | AC11: 38 | AD11: 125 | AE11: 16 | AF11: 20 | AG11: 84 | AH11: 231 | AI11: 103 | AJ11: 1684 | AK11: 1083 | AL11: 311 | AM11: 46 | AN11: 472 | AO11: 20 | AP11: 141 | AQ11: 23 | AR11: 70 | AS11: 411 | AT11: 1 | AU11: 0 | AV11: 5 | AW11: 2 | AX11: 4 | AY11: 6 | AZ11: 2 | BA11: 31 | BB11: 20 | BC11: 3 | BD11: 8 | BE11: 4 | BF11: 114 | BG11: 13 | BH11: 20 | BI11: 5 | BJ11: 4 | BK11: 1 | BL11: 102 | BM11: 66 | BN11: 190
A12: 臺南市 | C12: 1155 | D12: 56 | E12: 13 | F12: 401 | G12: 88 | H12: 6 | I12: 323 | J12: 10 | K12: 3 | L12: 3 | M12: 236 | N12: 0 | O12: 16 | P12: 955 | Q12: 4 | R12: 5 | S12: 28 | T12: 68 | U12: 49 | V12: 183 | W12: 65 | X12: 0 | Y12: 91 | Z12: 53 | AA12: 31 | AB12: 26 | AC12: 7 | AD12: 105 | AE12: 10 | AF12: 14 | AG12: 41 | AH12: 106 | AI12: 69 | AJ12: 955 | AK12: 532 | AL12: 164 | AM12: 19 | AN12: 216 | AO12: 9 | AP12: 90 | AQ12: 7 | AR12: 27 | AS12: 284 | AT12: 0 | AU12: 1 | AV12: 0 | AW12: 0 | AX12: 2 | AY12: 2 | AZ12: 0 | BA12: 9 | BB12: 5 | BC12: 8 | BD12: 4 | BE12: 7 | BF12: 104 | BG12: 3 | BH12: 10 | BI12: 5 | BJ12: 4 | BK12: 1 | BL12: 78 | BM12: 41 | BN12: 139
A13: 高雄市 | C13: 1650 | D13: 113 | E13: 24 | F13: 553 | G13: 142 | H13: 13 | I13: 341 | J13: 9 | K13: 3 | L13: 25 | M13: 403 | N13: 0 | O13: 24 | P13: 1168 | Q13: 9 | R13: 4 | S13: 24 | T13: 70 | U13: 85 | V13: 234 | W13: 67 | X13: 1 | Y13: 99 | Z13: 71 | AA13: 26 | AB13: 25 | AC13: 16 | AD13: 137 | AE13: 19 | AF13: 22 | AG13: 54 | AH13: 142 | AI13: 63 | AJ13: 1168 | AK13: 711 | AL13: 236 | AM13: 25 | AN13: 286 | AO13: 6 | AP13: 98 | AQ13: 19 | AR13: 41 | AS13: 330 | AT13: 1 | AU13: 2 | AV13: 2 | AW13: 1 | AX13: 0 | AY13: 0 | AZ13: 0 | BA13: 17 | BB13: 11 | BC13: 4 | BD13: 2 | BE13: 1 | BF13: 105 | BG13: 13 | BH13: 23 | BI13: 5 | BJ13: 4 | BK13: 4 | BL13: 99 | BM13: 36 | BN13: 127
A14: 宜蘭縣 | C14: 489 | D14: 12 | E14: 1 | F14: 207 | G14: 21 | H14: 1 | I14: 73 | J14: 7 | K14: 2 | L14: 0 | M14: 160 | N14: 0 | O14: 5 | P14: 423 | Q14: 15 | R14: 0 | S14: 7 | T14: 18 | U14: 14 | V14: 128 | W14: 35 | X14: 5 | Y14: 22 | Z14: 21 | AA14: 5 | AB14: 5 | AC14: 0 | AD14: 42 | AE14: 0 | AF14: 4 | AG14: 20 | AH14: 43 | AI14: 39 | AJ14: 423 | AK14: 199 | AL14: 45 | AM14: 10 | AN14: 82 | AO14: 1 | AP14: 23 | AQ14: 7 | AR14: 31 | AS14: 151 | AT14: 2 | AU14: 1 | AV14: 0 | AW14: 0 | AX14: 1 | AY14: 1 | AZ14: 0 | BA14: 11 | BB14: 1 | BC14: 1 | BD14: 0 | BE14: 2 | BF14: 34 | BG14: 9 | BH14: 6 | BI14: 1 | BJ14: 1 | BK14: 4 | BL14: 34 | BM14: 42 | BN14: 73
A15: 桃園縣 | C15: 2011 | D15: 125 | E15: 13 | F15: 672 | G15: 118 | H15: 5 | I15: 508 | J15: 41 | K15: 1 | L15: 3 | M15: 493 | N15: 0 | O15: 32 | P15: 1666 | Q15: 14 | R15: 5 | S15: 31 | T15: 109 | U15: 125 | V15: 315 | W15: 88 | X15: 1 | Y15: 137 | Z15: 80 | AA15: 32 | AB15: 37 | AC15: 18 | AD15: 114 | AE15: 30 | AF15: 22 | AG15: 100 | AH15: 191 | AI15: 217 | AJ15: 1666 | AK15: 974 | AL15: 314 | AM15: 35 | AN15: 390 | AO15: 21 | AP15: 137 | AQ15: 21 | AR15: 56 | AS15: 407 | AT15: 1 | AU15: 5 | AV15: 7 | AW15: 1 | AX15: 0 | AY15: 5 | AZ15: 0 | BA15: 26 | BB15: 20 | BC15: 5 | BD15: 5 | BE15: 6 | BF15: 90 | BG15: 13 | BH15: 23 | BI15: 6 | BJ15: 3 | BK15: 0 | BL15: 121 | BM15: 70 | BN15: 285
A16: 新竹縣 | C16: 509 | D16: 21 | E16: 7 | F16: 157 | G16: 33 | H16: 5 | I16: 166 | J16: 0 | K16: 0 | L16: 8 | M16: 104 | N16: 0 | O16: 8 | P16: 435 | Q16: 2 | R16: 1 | S16: 9 | T16: 26 | U16: 35 | V16: 77 | W16: 27 | X16: 0 | Y16: 67 | Z16: 23 | AA16: 3 | AB16: 14 | AC16: 3 | AD16: 38 | AE16: 1 | AF16: 4 | AG16: 28 | AH16: 53 | AI16: 24 | AJ16: 435 | AK16: 259 | AL16: 76 | AM16: 9 | AN16: 117 | AO16: 4 | AP16: 29 | AQ16: 8 | AR16: 16 | AS16: 120 | AT16: 1 | AU16: 2 | AV16: 0 | AW16: 1 | AX16: 0 | AY16: 1 | AZ16: 0 | BA16: 6 | BB16: 5 | BC16: 8 | BD16: 1 | BE16: 0 | BF16: 21 | BG16: 7 | BH16: 1 | BI16: 2 | BJ16: 0 | BK16: 3 | BL16: 43 | BM16: 18 | BN16: 56
A17: 苗栗縣 | C17: 522 | D17: 26 | E17: 2 | F17: 169 | G17: 31 | H17: 3 | I17: 132 | J17: 5 | K17: 1 | L17: 3 | M17: 147 | N17: 0 | O17: 3 | P17: 420 | Q17: 3 | R17: 2 | S17: 9 | T17: 18 | U17: 39 | V17: 100 | W17: 38 | X17: 0 | Y17: 45 | Z17: 23 | AA17: 2 | AB17: 13 | AC17: 0 | AD17: 20 | AE17: 2 | AF17: 5 | AG17: 15 | AH17: 43 | AI17: 43 | AJ17: 420 | AK17: 276 | AL17: 93 | AM17: 8 | AN17: 104 | AO17: 4 | AP17: 29 | AQ17: 11 | AR17: 27 | AS17: 92 | AT17: 1 | AU17: 0 | AV17: 0 | AW17: 0 | AX17: 0 | AY17: 0 | AZ17: 0 | BA17: 3 | BB17: 3 | BC17: 2 | BD17: 0 | BE17: 1 | BF17: 23 | BG17: 3 | BH17: 9 | BI17: 0 | BJ17: 0 | BK17: 0 | BL17: 27 | BM17: 20 | BN17: 52
A18: 彰化縣 | C18: 897 | D18: 45 | E18: 3 | F18: 301 | G18: 46 | H18: 7 | I18: 236 | J18: 17 | K18: 0 | L18: 8 | M18: 224 | N18: 0 | O18: 10 | P18: 722 | Q18: 7 | R18: 7 | S18: 17 | T18: 42 | U18: 53 | V18: 144 | W18: 40 | X18: 0 | Y18: 53 | Z18: 33 | AA18: 10 | AB18: 15 | AC18: 3 | AD18: 62 | AE18: 13 | AF18: 13 | AG18: 37 | AH18: 64 | AI18: 109 | AJ18: 722 | AK18: 400 | AL18: 100 | AM18: 10 | AN18: 176 | AO18: 8 | AP18: 62 | AQ18: 11 | AR18: 33 | AS18: 183 | AT18: 3 | AU18: 0 | AV18: 0 | AW18: 0 | AX18: 0 | AY18: 3 | AZ18: 0 | BA18: 16 | BB18: 0 | BC18: 2 | BD18: 0 | BE18: 0 | BF18: 63 | BG18: 3 | BH18: 15 | BI18: 2 | BJ18: 2 | BK18: 0 | BL18: 39 | BM18: 35 | BN18: 139
A19: 南投縣 | C19: 472 | D19: 24 | E19: 1 | F19: 182 | G19: 14 | H19: 1 | I19: 100 | J19: 1 | K19: 2 | L19: 1 | M19: 142 | N19: 0 | O19: 4 | P19: 392 | Q19: 5 | R19: 0 | S19: 18 | T19: 27 | U19: 21 | V19: 115 | W19: 23 | X19: 4 | Y19: 36 | Z19: 19 | AA19: 2 | AB19: 6 | AC19: 1 | AD19: 37 | AE19: 4 | AF19: 3 | AG19: 14 | AH19: 36 | AI19: 21 | AJ19: 392 | AK19: 259 | AL19: 86 | AM19: 12 | AN19: 107 | AO19: 4 | AP19: 20 | AQ19: 12 | AR19: 18 | AS19: 93 | AT19: 1 | AU19: 0 | AV19: 0 | AW19: 0 | AX19: 0 | AY19: 1 | AZ19: 0 | BA19: 0 | BB19: 0 | BC19: 2 | BD19: 5 | BE19: 0 | BF19: 31 | BG19: 7 | BH19: 1 | BI19: 2 | BJ19: 0 | BK19: 1 | BL19: 19 | BM19: 23 | BN19: 40
... A30: 連江縣 | C30: 7 | D30: 1 | E30: 0 | F30: 4 | G30: 0 | H30: 0 | I30: 2 | J30: 0 | K30: 0 | L30: 0 | M30: 0 | N30: 0 | O30: 0 | P30: 6 | Q30: 0 | R30: 0 | S30: 0 | T30: 0 | U30: 0 | V30: 0 | W30: 0 | X30: 0 | Y30: 1 | Z30: 0 | AA30: 1 | AB30: 0 | AC30: 0 | AD30: 1 | AE30: 0 | AF30: 1 | AG30: 0 | AH30: 1 | AI30: 1 | AJ30: 6 | AK30: 4 | AL30: 1 | AM30: 0 | AN30: 2 | AO30: 0 | AP30: 1 | AQ30: 0 | AR30: 0 | AS30: 1 | AT30: 0 | AU30: 0 | AV30: 0 | AW30: 0 | AX30: 0 | AY30: 0 | AZ30: 0 | BA30: 0 | BB30: 0 | BC30: 0 | BD30: 0 | BE30: 0 | BF30: 1 | BG30: 0 | BH30: 0 | BI30: 0 | BJ30: 0 | BK30: 0 | BL30: 0 | BM30: 0 | BN30: 1
A31: 資料來源：本部保護服務司。

Sheet 102
A1: 5.2-01 性侵害事件通報案件統計
A3: 單位：件次；件數
A4: 區域別 | C4: 通報件次(複選) | P4: 通報件數 | AJ4: 通報件數
C5: 通報單位別 | P5: 被害及加害者兩造關係別 | AJ5: 案發地點別
AJ6: 合計 | AK6: 私人住所 | AS6: 非私人住所 | BN6: 不 詳
C7: 合計 | D7: 113 | E7: 防治中心 | F7: 教育 | G7: 社政 | H7: 勞政 | I7: 警政 | J7: 司(軍)法 | K7: 衛生 | L7: 診所 | M7: 醫院 | N7: 憲兵隊 | O7: 其他 | P7: 合計 | Q7: 配偶 | R7: 前配偶 | S7: 鄰居 | T7: 網友 | U7: 直系 血親 | V7: 男(女)朋友 | W7: 前男(女) 朋友 | X7: 未婚 夫/妻 | Y7: 普通 朋友 | Z7: 旁系 親屬 | AA7: 師生 關係 | AB7: 家人的朋友 | AC7: 客戶 關係 | AD7: 同學 | AE7: 同事 | AF7: 上司/下屬 | AG7: 不認識 | AH7: 其他 | AI7: 不詳 | AK7: 小計 | AL7: 被害人 住所 | AM7: 被（加） 害人親友 住處 | AN7: 加害人 住所 | AO7: 汽車 | AP7: 旅館 房間 | AQ7: 他人 住所 | AR7: 不詳 | AS7: 小計 | AT7: 空屋 | AU7: 地下室 | AV7: 頂樓 陽台 | AW7: 電梯 | AX7: 工地 | AY7: 停車場 | AZ7: 計程車 | BA7: 馬路邊 | BB7: 娛樂 場所 | BC7: 荒野 | BD7: 福利機構 | BE7: 大眾運 輸工具 | BF7: 學校/ 教室 | BG7: 宿舍 | BH7: 公共 廁所 | BI7: 辦公 場所 | BJ7: 工廠 | BK7: 河/海邊 | BL7: 其他 | BM7: 不詳
A8: 一○二年 2013 | C8: 17048 | D8: 1141 | E8: 127 | F8: 5624 | G8: 832 | H8: 88 | I8: 4226 | J8: 175 | K8: 27 | L8: 103 | M8: 4500 | N8: 0 | O8: 205 | P8: 13928 | Q8: 116 | R8: 33 | S8: 344 | T8: 805 | U8: 849 | V8: 2947 | W8: 817 | X8: 13 | Y8: 1316 | Z8: 721 | AA8: 285 | AB8: 338 | AC8: 187 | AD8: 1254 | AE8: 170 | AF8: 259 | AG8: 766 | AH8: 1648 | AI8: 1060 | AJ8: 13928 | AK8: 8404 | AL8: 2599 | AM8: 331 | AN8: 3556 | AO8: 117 | AP8: 1097 | AQ8: 217 | AR8: 487 | AS8: 3634 | AT8: 33 | AU8: 20 | AV8: 31 | AW8: 5 | AX8: 5 | AY8: 27 | AZ8: 9 | BA8: 170 | BB8: 157 | BC8: 55 | BD8: 62 | BE8: 54 | BF8: 1056 | BG8: 99 | BH8: 204 | BI8: 75 | BJ8: 22 | BK8: 31 | BL8: 966 | BM8: 553 | BN8: 1890
A9: 新北市 | C9: 2803 | D9: 232 | E9: 6 | F9: 1035 | G9: 58 | H9: 18 | I9: 671 | J9: 31 | K9: 5 | L9: 7 | M9: 713 | N9: 0 | O9: 27 | P9: 2389 | Q9: 16 | R9: 7 | S9: 34 | T9: 147 | U9: 139 | V9: 471 | W9: 134 | X9: 2 | Y9: 248 | Z9: 99 | AA9: 49 | AB9: 49 | AC9: 31 | AD9: 274 | AE9: 33 | AF9: 59 | AG9: 154 | AH9: 248 | AI9: 195 | AJ9: 2389 | AK9: 1337 | AL9: 420 | AM9: 41 | AN9: 598 | AO9: 13 | AP9: 174 | AQ9: 27 | AR9: 64 | AS9: 698 | AT9: 4 | AU9: 5 | AV9: 11 | AW9: 2 | AX9: 0 | AY9: 5 | AZ9: 2 | BA9: 32 | BB9: 24 | BC9: 12 | BD9: 9 | BE9: 14 | BF9: 257 | BG9: 8 | BH9: 45 | BI9: 14 | BJ9: 3 | BK9: 0 | BL9: 171 | BM9: 80 | BN9: 354
A10: 臺北市 | C10: 1284 | D10: 128 | E10: 10 | F10: 328 | G10: 78 | H10: 5 | I10: 355 | J10: 10 | K10: 0 | L10: 0 | M10: 356 | N10: 0 | O10: 14 | P10: 1000 | Q10: 6 | R10: 2 | S10: 11 | T10: 75 | U10: 59 | V10: 100 | W10: 51 | X10: 0 | Y10: 92 | Z10: 22 | AA10: 43 | AB10: 20 | AC10: 37 | AD10: 119 | AE10: 12 | AF10: 26 | AG10: 77 | AH10: 164 | AI10: 84 | AJ10: 1000 | AK10: 551 | AL10: 167 | AM10: 18 | AN10: 189 | AO10: 7 | AP10: 126 | AQ10: 15 | AR10: 29 | AS10: 316 | AT10: 0 | AU10: 1 | AV10: 2 | AW10: 0 | AX10: 1 | AY10: 5 | AZ10: 2 | BA10: 15 | BB10: 27 | BC10: 5 | BD10: 6 | BE10: 6 | BF10: 98 | BG10: 2 | BH10: 11 | BI10: 10 | BJ10: 0 | BK10: 2 | BL10: 90 | BM10: 33 | BN10: 133
A11: 臺中市 | C11: 2336 | D11: 131 | E11: 14 | F11: 703 | G11: 119 | H11: 13 | I11: 650 | J11: 35 | K11: 1 | L11: 6 | M11: 629 | N11: 0 | O11: 35 | P11: 1840 | Q11: 16 | R11: 5 | S11: 30 | T11: 123 | U11: 124 | V11: 381 | W11: 119 | X11: 2 | Y11: 159 | Z11: 128 | AA11: 26 | AB11: 58 | AC11: 25 | AD11: 123 | AE11: 32 | AF11: 37 | AG11: 85 | AH11: 234 | AI11: 133 | AJ11: 1840 | AK11: 1180 | AL11: 378 | AM11: 43 | AN11: 473 | AO11: 27 | AP11: 165 | AQ11: 36 | AR11: 58 | AS11: 417 | AT11: 4 | AU11: 2 | AV11: 4 | AW11: 1 | AX11: 0 | AY11: 4 | AZ11: 1 | BA11: 19 | BB11: 14 | BC11: 4 | BD11: 10 | BE11: 5 | BF11: 113 | BG11: 11 | BH11: 24 | BI11: 12 | BJ11: 3 | BK11: 1 | BL11: 112 | BM11: 73 | BN11: 243
A12: 臺南市 | C12: 1160 | D12: 77 | E12: 16 | F12: 377 | G12: 50 | H12: 2 | I12: 338 | J12: 6 | K12: 4 | L12: 11 | M12: 268 | N12: 0 | O12: 11 | P12: 960 | Q12: 5 | R12: 4 | S12: 16 | T12: 77 | U12: 60 | V12: 163 | W12: 63 | X12: 0 | Y12: 94 | Z12: 33 | AA12: 17 | AB12: 39 | AC12: 18 | AD12: 86 | AE12: 12 | AF12: 16 | AG12: 35 | AH12: 146 | AI12: 76 | AJ12: 960 | AK12: 591 | AL12: 183 | AM12: 30 | AN12: 245 | AO12: 6 | AP12: 86 | AQ12: 17 | AR12: 24 | AS12: 231 | AT12: 1 | AU12: 0 | AV12: 0 | AW12: 0 | AX12: 0 | AY12: 2 | AZ12: 0 | BA12: 11 | BB12: 11 | BC12: 5 | BD12: 1 | BE12: 0 | BF12: 80 | BG12: 2 | BH12: 9 | BI12: 4 | BJ12: 0 | BK12: 4 | BL12: 65 | BM12: 36 | BN12: 138
A13: 高雄市 | C13: 1678 | D13: 121 | E13: 34 | F13: 562 | G13: 151 | H13: 5 | I13: 328 | J13: 15 | K13: 8 | L13: 22 | M13: 418 | N13: 0 | O13: 14 | P13: 1197 | Q13: 14 | R13: 1 | S13: 20 | T13: 74 | U13: 76 | V13: 293 | W13: 64 | X13: 0 | Y13: 120 | Z13: 81 | AA13: 26 | AB13: 29 | AC13: 23 | AD13: 118 | AE13: 12 | AF13: 14 | AG13: 46 | AH13: 126 | AI13: 60 | AJ13: 1197 | AK13: 778 | AL13: 251 | AM13: 24 | AN13: 318 | AO13: 9 | AP13: 118 | AQ13: 17 | AR13: 41 | AS13: 287 | AT13: 0 | AU13: 3 | AV13: 3 | AW13: 0 | AX13: 0 | AY13: 2 | AZ13: 1 | BA13: 11 | BB13: 13 | BC13: 1 | BD13: 10 | BE13: 1 | BF13: 74 | BG13: 8 | BH13: 11 | BI13: 9 | BJ13: 2 | BK13: 3 | BL13: 79 | BM13: 56 | BN13: 132
A14: 宜蘭縣 | C14: 522 | D14: 15 | E14: 1 | F14: 229 | G14: 13 | H14: 1 | I14: 111 | J14: 4 | K14: 1 | L14: 7 | M14: 136 | N14: 0 | O14: 4 | P14: 447 | Q14: 9 | R14: 0 | S14: 14 | T14: 17 | U14: 11 | V14: 150 | W14: 33 | X14: 6 | Y14: 37 | Z14: 15 | AA14: 11 | AB14: 8 | AC14: 6 | AD14: 46 | AE14: 6 | AF14: 1 | AG14: 14 | AH14: 42 | AI14: 21 | AJ14: 447 | AK14: 231 | AL14: 62 | AM14: 7 | AN14: 124 | AO14: 3 | AP14: 13 | AQ14: 5 | AR14: 17 | AS14: 150 | AT14: 0 | AU14: 0 | AV14: 0 | AW14: 0 | AX14: 0 | AY14: 2 | AZ14: 0 | BA14: 5 | BB14: 3 | BC14: 1 | BD14: 1 | BE14: 0 | BF14: 48 | BG14: 4 | BH14: 12 | BI14: 1 | BJ14: 0 | BK14: 4 | BL14: 20 | BM14: 49 | BN14: 66
A15: 桃園縣 | C15: 1822 | D15: 135 | E15: 11 | F15: 556 | G15: 94 | H15: 12 | I15: 439 | J15: 21 | K15: 4 | L15: 5 | M15: 512 | N15: 0 | O15: 33 | P15: 1459 | Q15: 14 | R15: 2 | S15: 43 | T15: 95 | U15: 102 | V15: 309 | W15: 97 | X15: 0 | Y15: 121 | Z15: 54 | AA15: 33 | AB15: 29 | AC15: 16 | AD15: 109 | AE15: 20 | AF15: 25 | AG15: 92 | AH15: 181 | AI15: 117 | AJ15: 1459 | AK15: 899 | AL15: 276 | AM15: 40 | AN15: 367 | AO15: 17 | AP15: 135 | AQ15: 19 | AR15: 45 | AS15: 363 | AT15: 8 | AU15: 3 | AV15: 6 | AW15: 1 | AX15: 0 | AY15: 0 | AZ15: 1 | BA15: 23 | BB15: 24 | BC15: 8 | BD15: 4 | BE15: 4 | BF15: 84 | BG15: 13 | BH15: 13 | BI15: 7 | BJ15: 4 | BK15: 1 | BL15: 109 | BM15: 50 | BN15: 197
A16: 新竹縣 | C16: 515 | D16: 30 | E16: 0 | F16: 143 | G16: 23 | H16: 5 | I16: 173 | J16: 0 | K16: 1 | L16: 11 | M16: 124 | N16: 0 | O16: 5 | P16: 437 | Q16: 3 | R16: 0 | S16: 15 | T16: 23 | U16: 31 | V16: 86 | W16: 31 | X16: 0 | Y16: 69 | Z16: 29 | AA16: 5 | AB16: 8 | AC16: 3 | AD16: 27 | AE16: 5 | AF16: 15 | AG16: 25 | AH16: 36 | AI16: 26 | AJ16: 437 | AK16: 300 | AL16: 80 | AM16: 20 | AN16: 150 | AO16: 8 | AP16: 15 | AQ16: 13 | AR16: 14 | AS16: 90 | AT16: 2 | AU16: 0 | AV16: 2 | AW16: 0 | AX16: 0 | AY16: 1 | AZ16: 1 | BA16: 6 | BB16: 3 | BC16: 3 | BD16: 2 | BE16: 2 | BF16: 14 | BG16: 11 | BH16: 7 | BI16: 0 | BJ16: 1 | BK16: 0 | BL16: 32 | BM16: 3 | BN16: 47
A17: 苗栗縣 | C17: 478 | D17: 28 | E17: 4 | F17: 147 | G17: 40 | H17: 6 | I17: 115 | J17: 1 | K17: 0 | L17: 0 | M17: 135 | N17: 0 | O17: 2 | P17: 417 | Q17: 7 | R17: 0 | S17: 8 | T17: 12 | U17: 29 | V17: 120 | W17: 23 | X17: 1 | Y17: 49 | Z17: 27 | AA17: 3 | AB17: 7 | AC17: 4 | AD17: 28 | AE17: 1 | AF17: 3 | AG17: 20 | AH17: 54 | AI17: 21 | AJ17: 417 | AK17: 246 | AL17: 88 | AM17: 8 | AN17: 95 | AO17: 1 | AP17: 29 | AQ17: 5 | AR17: 20 | AS17: 105 | AT17: 1 | AU17: 0 | AV17: 1 | AW17: 0 | AX17: 0 | AY17: 0 | AZ17: 0 | BA17: 4 | BB17: 2 | BC17: 1 | BD17: 2 | BE17: 0 | BF17: 24 | BG17: 5 | BH17: 12 | BI17: 1 | BJ17: 2 | BK17: 2 | BL17: 36 | BM17: 12 | BN17: 66
A18: 彰化縣 | C18: 832 | D18: 45 | E18: 5 | F18: 268 | G18: 36 | H18: 4 | I18: 230 | J18: 10 | K18: 0 | L18: 3 | M18: 220 | N18: 0 | O18: 11 | P18: 690 | Q18: 7 | R18: 1 | S18: 23 | T18: 36 | U18: 59 | V18: 128 | W18: 27 | X18: 1 | Y18: 57 | Z18: 50 | AA18: 15 | AB18: 16 | AC18: 5 | AD18: 56 | AE18: 8 | AF18: 16 | AG18: 50 | AH18: 68 | AI18: 67 | AJ18: 690 | AK18: 393 | AL18: 128 | AM18: 27 | AN18: 160 | AO18: 3 | AP18: 39 | AQ18: 8 | AR18: 28 | AS18: 207 | AT18: 3 | AU18: 1 | AV18: 0 | AW18: 0 | AX18: 1 | AY18: 2 | AZ18: 0 | BA18: 12 | BB18: 5 | BC18: 1 | BD18: 0 | BE18: 4 | BF18: 48 | BG18: 5 | BH18: 20 | BI18: 4 | BJ18: 3 | BK18: 0 | BL18: 65 | BM18: 33 | BN18: 90
A19: 南投縣 | C19: 386 | D19: 21 | E19: 1 | F19: 127 | G19: 14 | H19: 3 | I19: 92 | J19: 3 | K19: 1 | L19: 0 | M19: 119 | N19: 0 | O19: 5 | P19: 322 | Q19: 2 | R19: 2 | S19: 23 | T19: 13 | U19: 14 | V19: 104 | W19: 9 | X19: 0 | Y19: 33 | Z19: 12 | AA19: 7 | AB19: 5 | AC19: 1 | AD19: 20 | AE19: 3 | AF19: 5 | AG19: 14 | AH19: 40 | AI19: 15 | AJ19: 322 | AK19: 202 | AL19: 41 | AM19: 8 | AN19: 109 | AO19: 2 | AP19: 24 | AQ19: 6 | AR19: 12 | AS19: 77 | AT19: 1 | AU19: 0 | AV19: 1 | AW19: 0 | AX19: 0 | AY19: 3 | AZ19: 0 | BA19: 6 | BB19: 4 | BC19: 2 | BD19: 6 | BE19: 2 | BF19: 18 | BG19: 1 | BH19: 7 | BI19: 1 | BJ19: 2 | BK19: 0 | BL19: 12 | BM19: 11 | BN19: 43
... A30: 連江縣 | C30: 6 | D30: 1 | E30: 0 | F30: 4 | G30: 0 | H30: 0 | I30: 1 | J30: 0 | K30: 0 | L30: 0 | M30: 0 | N30: 0 | O30: 0 | P30: 5 | Q30: 0 | R30: 0 | S30: 0 | T30: 0 | U30: 0 | V30: 0 | W30: 0 | X30: 0 | Y30: 0 | Z30: 0 | AA30: 0 | AB30: 0 | AC30: 0 | AD30: 5 | AE30: 0 | AF30: 0 | AG30: 0 | AH30: 0 | AI30: 0 | AJ30: 5 | AK30: 0 | AL30: 0 | AM30: 0 | AN30: 0 | AO30: 0 | AP30: 0 | AQ30: 0 | AR30: 0 | AS30: 5 | AT30: 0 | AU30: 0 | AV30: 0 | AW30: 0 | AX30: 0 | AY30: 0 | AZ30: 0 | BA30: 0 | BB30: 0 | BC30: 0 | BD30: 0 | BE30: 0 | BF30: 3 | BG30: 0 | BH30: 0 | BI30: 0 | BJ30: 0 | BK30: 0 | BL30: 1 | BM30: 1 | BN30: 0
A31: 資料來源：本部保護服務司。

Sheet 101
A1: 5.2-01 性侵害事件通報案件統計
A3: 單位：件次；件數
A4: 區域別 | C4: 通報件次(複選) | P4: 通報件數 | AJ4: 通報件數
C5: 通報單位別 | P5: 被害及加害者兩造關係別 | AJ5: 案發地點別
AJ6: 合計 | AK6: 私人住所 | AS6: 非私人住所 | BM6: 不 詳
C7: 合計 | D7: 113 | E7: 防治中心 | F7: 教育 | G7: 社政 | H7: 勞政 | I7: 警政 | J7: 司(軍)法 | K7: 衛生 | L7: 診所 | M7: 醫院 | N7: 憲兵隊 | O7: 其他 | P7: 合計 | Q7: 配偶 | R7: 前配偶 | S7: 鄰居 | T7: 網友 | U7: 直系 血親 | V7: 男(女)朋友 | W7: 前男(女) 朋友 | X7: 未婚 夫/妻 | Y7: 普通 朋友 | Z7: 旁系 親屬 | AA7: 師生 關係 | AB7: 家人的朋友 | AC7: 客戶 關係 | AD7: 同學 | AE7: 同事 | AF7: 上司/下屬 | AG7: 不認識 | AH7: 其他 | AI7: 不詳 | AK7: 小計 | AL7: 被害人 住所 | AM7: 被（加） 害人親友 住處 | AN7: 加害人 住所 | AO7: 汽車 | AP7: 旅館 房間 | AQ7: 他人 住所 | AR7: 不詳 | AS7: 小計 | AT7: 空屋 | AU7: 地下室 | AV7: 頂樓 陽台 | AW7: 電梯 | AX7: 工地 | AY7: 停車場 | AZ7: 計程車 | BA7: 馬路邊 | BB7: 娛樂 場所 | BC7: 荒野 | BD7: 大眾運 輸工具 | BE7: 學校/ 教室 | BF7: 宿舍 | BG7: 公共 廁所 | BH7: 辦公 場所 | BI7: 工廠 | BJ7: 河/海邊 | BK7: 其他 | BL7: 不詳
A8: 一○一年 2012 | C8: 18670 | D8: 1396 | E8: 140 | F8: 6284 | G8: 942 | H8: 72 | I8: 4545 | J8: 119 | K8: 44 | L8: 78 | M8: 4824 | N8: 3 | O8: 223 | P8: 15102 | Q8: 111 | R8: 36 | S8: 365 | T8: 807 | U8: 1052 | V8: 3134 | W8: 832 | X8: 9 | Y8: 1395 | Z8: 743 | AA8: 267 | AB8: 365 | AC8: 189 | AD8: 1580 | AE8: 225 | AF8: 265 | AG8: 915 | AH8: 1710 | AI8: 1102 | AJ8: 15102 | AK8: 8679 | AL8: 2767 | AM8: 398 | AN8: 3756 | AO8: 120 | AP8: 1072 | AQ8: 274 | AR8: 292 | AS8: 3588 | AT8: 28 | AU8: 20 | AV8: 18 | AW8: 12 | AX8: 13 | AY8: 41 | AZ8: 6 | BA8: 200 | BB8: 213 | BC8: 54 | BD8: 83 | BE8: 1186 | BF8: 164 | BG8: 202 | BH8: 80 | BI8: 29 | BJ8: 45 | BK8: 1011 | BL8: 183 | BM8: 2835
A9: 新北市 | C9: 3277 | D9: 294 | E9: 4 | F9: 1219 | G9: 79 | H9: 12 | I9: 800 | J9: 16 | K9: 4 | L9: 3 | M9: 829 | N9: 0 | O9: 17 | P9: 2715 | Q9: 19 | R9: 5 | S9: 37 | T9: 183 | U9: 154 | V9: 510 | W9: 168 | X9: 1 | Y9: 276 | Z9: 108 | AA9: 70 | AB9: 40 | AC9: 34 | AD9: 378 | AE9: 30 | AF9: 41 | AG9: 194 | AH9: 276 | AI9: 191 | AJ9: 2715 | AK9: 1428 | AL9: 411 | AM9: 62 | AN9: 632 | AO9: 19 | AP9: 205 | AQ9: 49 | AR9: 50 | AS9: 747 | AT9: 4 | AU9: 3 | AV9: 9 | AW9: 6 | AX9: 4 | AY9: 11 | AZ9: 3 | BA9: 42 | BB9: 30 | BC9: 14 | BD9: 19 | BE9: 315 | BF9: 11 | BG9: 34 | BH9: 17 | BI9: 5 | BJ9: 5 | BK9: 181 | BL9: 34 | BM9: 540
A10: 臺北市 | C10: 1514 | D10: 137 | E10: 6 | F10: 437 | G10: 79 | H10: 8 | I10: 376 | J10: 10 | K10: 3 | L10: 3 | M10: 416 | N10: 0 | O10: 39 | P10: 1151 | Q10: 7 | R10: 0 | S10: 8 | T10: 61 | U10: 97 | V10: 137 | W10: 64 | X10: 0 | Y10: 112 | Z10: 59 | AA10: 45 | AB10: 14 | AC10: 23 | AD10: 122 | AE10: 39 | AF10: 21 | AG10: 105 | AH10: 137 | AI10: 100 | AJ10: 1151 | AK10: 623 | AL10: 211 | AM10: 30 | AN10: 242 | AO10: 10 | AP10: 98 | AQ10: 11 | AR10: 21 | AS10: 292 | AT10: 0 | AU10: 0 | AV10: 0 | AW10: 0 | AX10: 0 | AY10: 5 | AZ10: 0 | BA10: 15 | BB10: 24 | BC10: 4 | BD10: 6 | BE10: 106 | BF10: 6 | BG10: 25 | BH10: 10 | BI10: 0 | BJ10: 3 | BK10: 76 | BL10: 12 | BM10: 236
A11: 臺中市 | C11: 2368 | D11: 172 | E11: 3 | F11: 626 | G11: 110 | H11: 16 | I11: 687 | J11: 30 | K11: 6 | L11: 5 | M11: 686 | N11: 3 | O11: 24 | P11: 1864 | Q11: 21 | R11: 2 | S11: 33 | T11: 86 | U11: 121 | V11: 362 | W11: 109 | X11: 0 | Y11: 187 | Z11: 92 | AA11: 23 | AB11: 58 | AC11: 33 | AD11: 168 | AE11: 46 | AF11: 56 | AG11: 104 | AH11: 219 | AI11: 144 | AJ11: 1864 | AK11: 1128 | AL11: 391 | AM11: 51 | AN11: 456 | AO11: 14 | AP11: 148 | AQ11: 42 | AR11: 26 | AS11: 407 | AT11: 3 | AU11: 1 | AV11: 0 | AW11: 1 | AX11: 0 | AY11: 7 | AZ11: 1 | BA11: 23 | BB11: 32 | BC11: 7 | BD11: 5 | BE11: 112 | BF11: 36 | BG11: 29 | BH11: 16 | BI11: 5 | BJ11: 3 | BK11: 113 | BL11: 13 | BM11: 329
A12: 臺南市 | C12: 1274 | D12: 87 | E12: 26 | F12: 464 | G12: 77 | H12: 5 | I12: 316 | J12: 1 | K12: 6 | L12: 5 | M12: 277 | N12: 0 | O12: 10 | P12: 1086 | Q12: 4 | R12: 2 | S12: 32 | T12: 73 | U12: 63 | V12: 196 | W12: 60 | X12: 0 | Y12: 77 | Z12: 59 | AA12: 27 | AB12: 26 | AC12: 13 | AD12: 175 | AE12: 16 | AF12: 13 | AG12: 52 | AH12: 118 | AI12: 80 | AJ12: 1086 | AK12: 591 | AL12: 190 | AM12: 28 | AN12: 242 | AO12: 2 | AP12: 93 | AQ12: 18 | AR12: 18 | AS12: 296 | AT12: 3 | AU12: 3 | AV12: 2 | AW12: 1 | AX12: 0 | AY12: 2 | AZ12: 0 | BA12: 17 | BB12: 8 | BC12: 2 | BD12: 14 | BE12: 130 | BF12: 18 | BG12: 17 | BH12: 2 | BI12: 0 | BJ12: 4 | BK12: 66 | BL12: 7 | BM12: 199
A13: 高雄市 | C13: 1949 | D13: 166 | E13: 32 | F13: 646 | G13: 138 | H13: 6 | I13: 424 | J13: 14 | K13: 8 | L13: 36 | M13: 455 | N13: 0 | O13: 24 | P13: 1398 | Q13: 8 | R13: 6 | S13: 37 | T13: 80 | U13: 114 | V13: 350 | W13: 78 | X13: 2 | Y13: 112 | Z13: 74 | AA13: 12 | AB13: 49 | AC13: 21 | AD13: 149 | AE13: 13 | AF13: 22 | AG13: 63 | AH13: 133 | AI13: 75 | AJ13: 1398 | AK13: 855 | AL13: 294 | AM13: 36 | AN13: 375 | AO13: 11 | AP13: 101 | AQ13: 17 | AR13: 21 | AS13: 313 | AT13: 2 | AU13: 9 | AV13: 3 | AW13: 0 | AX13: 0 | AY13: 2 | AZ13: 0 | BA13: 19 | BB13: 26 | BC13: 4 | BD13: 5 | BE13: 82 | BF13: 26 | BG13: 25 | BH13: 3 | BI13: 3 | BJ13: 3 | BK13: 86 | BL13: 15 | BM13: 230
A14: 宜蘭縣 | C14: 476 | D14: 16 | E14: 0 | F14: 202 | G14: 20 | H14: 0 | I14: 108 | J14: 1 | K14: 0 | L14: 1 | M14: 115 | N14: 0 | O14: 13 | P14: 417 | Q14: 9 | R14: 2 | S14: 14 | T14: 11 | U14: 10 | V14: 125 | W14: 27 | X14: 2 | Y14: 44 | Z14: 16 | AA14: 1 | AB14: 9 | AC14: 4 | AD14: 50 | AE14: 3 | AF14: 7 | AG14: 16 | AH14: 34 | AI14: 33 | AJ14: 417 | AK14: 191 | AL14: 46 | AM14: 11 | AN14: 98 | AO14: 2 | AP14: 23 | AQ14: 6 | AR14: 5 | AS14: 119 | AT14: 0 | AU14: 0 | AV14: 0 | AW14: 1 | AX14: 0 | AY14: 3 | AZ14: 0 | BA14: 7 | BB14: 2 | BC14: 2 | BD14: 4 | BE14: 46 | BF14: 11 | BG14: 6 | BH14: 3 | BI14: 0 | BJ14: 2 | BK14: 27 | BL14: 5 | BM14: 107
A15: 桃園縣 | C15: 1894 | D15: 138 | E15: 32 | F15: 616 | G15: 132 | H15: 5 | I15: 441 | J15: 12 | K15: 0 | L15: 7 | M15: 489 | N15: 0 | O15: 22 | P15: 1542 | Q15: 9 | R15: 7 | S15: 45 | T15: 89 | U15: 136 | V15: 335 | W15: 77 | X15: 0 | Y15: 148 | Z15: 64 | AA15: 17 | AB15: 35 | AC15: 15 | AD15: 122 | AE15: 15 | AF15: 23 | AG15: 93 | AH15: 212 | AI15: 100 | AJ15: 1542 | AK15: 951 | AL15: 299 | AM15: 43 | AN15: 421 | AO15: 10 | AP15: 114 | AQ15: 31 | AR15: 33 | AS15: 334 | AT15: 4 | AU15: 3 | AV15: 0 | AW15: 0 | AX15: 0 | AY15: 3 | AZ15: 0 | BA15: 19 | BB15: 25 | BC15: 2 | BD15: 5 | BE15: 90 | BF15: 7 | BG15: 19 | BH15: 9 | BI15: 2 | BJ15: 0 | BK15: 122 | BL15: 24 | BM15: 257
A16: 新竹縣 | C16: 468 | D16: 35 | E16: 1 | F16: 158 | G16: 20 | H16: 3 | I16: 121 | J16: 0 | K16: 3 | L16: 6 | M16: 110 | N16: 0 | O16: 11 | P16: 392 | Q16: 6 | R16: 1 | S16: 14 | T16: 14 | U16: 18 | V16: 131 | W16: 20 | X16: 1 | Y16: 26 | Z16: 25 | AA16: 5 | AB16: 2 | AC16: 0 | AD16: 36 | AE16: 2 | AF16: 8 | AG16: 21 | AH16: 43 | AI16: 19 | AJ16: 392 | AK16: 245 | AL16: 71 | AM16: 11 | AN16: 121 | AO16: 1 | AP16: 26 | AQ16: 10 | AR16: 5 | AS16: 70 | AT16: 0 | AU16: 0 | AV16: 0 | AW16: 0 | AX16: 0 | AY16: 1 | AZ16: 0 | BA16: 5 | BB16: 6 | BC16: 0 | BD16: 2 | BE16: 14 | BF16: 6 | BG16: 4 | BH16: 1 | BI16: 0 | BJ16: 2 | BK16: 23 | BL16: 6 | BM16: 77
A17: 苗栗縣 | C17: 469 | D17: 39 | E17: 2 | F17: 162 | G17: 27 | H17: 3 | I17: 121 | J17: 1 | K17: 0 | L17: 0 | M17: 110 | N17: 0 | O17: 4 | P17: 385 | Q17: 2 | R17: 0 | S17: 9 | T17: 23 | U17: 29 | V17: 90 | W17: 26 | X17: 0 | Y17: 36 | Z17: 22 | AA17: 10 | AB17: 8 | AC17: 5 | AD17: 22 | AE17: 6 | AF17: 6 | AG17: 23 | AH17: 45 | AI17: 23 | AJ17: 385 | AK17: 232 | AL17: 74 | AM17: 14 | AN17: 96 | AO17: 6 | AP17: 26 | AQ17: 4 | AR17: 12 | AS17: 87 | AT17: 0 | AU17: 0 | AV17: 0 | AW17: 0 | AX17: 2 | AY17: 4 | AZ17: 0 | BA17: 9 | BB17: 4 | BC17: 3 | BD17: 1 | BE17: 19 | BF17: 4 | BG17: 5 | BH17: 4 | BI17: 1 | BJ17: 4 | BK17: 20 | BL17: 7 | BM17: 66
A18: 彰化縣 | C18: 857 | D18: 54 | E18: 19 | F18: 249 | G18: 37 | H18: 5 | I18: 246 | J18: 5 | K18: 6 | L18: 2 | M18: 222 | N18: 0 | O18: 12 | P18: 685 | Q18: 9 | R18: 3 | S18: 27 | T18: 37 | U18: 62 | V18: 139 | W18: 35 | X18: 0 | Y18: 78 | Z18: 35 | AA18: 11 | AB18: 21 | AC18: 4 | AD18: 44 | AE18: 9 | AF18: 13 | AG18: 43 | AH18: 71 | AI18: 44 | AJ18: 685 | AK18: 438 | AL18: 138 | AM18: 12 | AN18: 203 | AO18: 10 | AP18: 47 | AQ18: 8 | AR18: 20 | AS18: 134 | AT18: 2 | AU18: 0 | AV18: 0 | AW18: 0 | AX18: 4 | AY18: 2 | AZ18: 0 | BA18: 10 | BB18: 4 | BC18: 3 | BD18: 1 | BE18: 28 | BF18: 3 | BG18: 9 | BH18: 1 | BI18: 6 | BJ18: 2 | BK18: 52 | BL18: 7 | BM18: 113
A19: 南投縣 | C19: 495 | D19: 36 | E19: 4 | F19: 169 | G19: 27 | H19: 1 | I19: 91 | J19: 6 | K19: 1 | L19: 0 | M19: 157 | N19: 0 | O19: 3 | P19: 420 | Q19: 0 | R19: 2 | S19: 12 | T19: 15 | U19: 27 | V19: 108 | W19: 19 | X19: 0 | Y19: 33 | Z19: 22 | AA19: 6 | AB19: 10 | AC19: 5 | AD19: 34 | AE19: 10 | AF19: 3 | AG19: 21 | AH19: 49 | AI19: 44 | AJ19: 420 | AK19: 250 | AL19: 85 | AM19: 10 | AN19: 94 | AO19: 11 | AP19: 24 | AQ19: 16 | AR19: 10 | AS19: 81 | AT19: 1 | AU19: 0 | AV19: 0 | AW19: 0 | AX19: 0 | AY19: 0 | AZ19: 0 | BA19: 4 | BB19: 3 | BC19: 2 | BD19: 4 | BE19: 26 | BF19: 3 | BG19: 7 | BH19: 3 | BI19: 2 | BJ19: 0 | BK19: 18 | BL19: 8 | BM19: 89
... A30: 連江縣 | C30: 3 | D30: 0 | E30: 0 | F30: 1 | G30: 0 | H30: 0 | I30: 1 | J30: 0 | K30: 0 | L30: 0 | M30: 1 | N30: 0 | O30: 0 | P30: 3 | Q30: 0 | R30: 0 | S30: 0 | T30: 0 | U30: 0 | V30: 1 | W30: 0 | X30: 0 | Y30: 0 | Z30: 1 | AA30: 0 | AB30: 0 | AC30: 0 | AD30: 0 | AE30: 0 | AF30: 0 | AG30: 0 | AH30: 0 | AI30: 1 | AJ30: 3 | AK30: 2 | AL30: 2 | AM30: 0 | AN30: 0 | AO30: 0 | AP30: 0 | AQ30: 0 | AR30: 0 | AS30: 0 | AT30: 0 | AU30: 0 | AV30: 0 | AW30: 0 | AX30: 0 | AY30: 0 | AZ30: 0 | BA30: 0 | BB30: 0 | BC30: 0 | BD30: 0 | BE30: 0 | BF30: 0 | BG30: 0 | BH30: 0 | BI30: 0 | BJ30: 0 | BK30: 0 | BL30: 0 | BM30: 1
A31: 資料來源：內政部家庭暴力及性侵害防治委員會。

Sheet 100
A1: 5.2-01 性侵害事件通報案件統計
A3: 單位：件次；件數
A4: 區域別 | C4: 通報件次(複選) | P4: 通報件數 | AJ4: 通報件數
C5: 通報單位別 | P5: 被害及加害者兩造關係別 | AJ5: 案發地點別
AJ6: 合計 | AK6: 私人住所 | AS6: 非私人住所 | BM6: 不 詳
C7: 合計 | D7: 113 | E7: 防治中心 | F7: 教育 | G7: 社政 | H7: 勞政 | I7: 警政 | J7: 司(軍)法 | K7: 衛生 | L7: 診所 | M7: 醫院 | N7: 憲兵隊 | O7: 其他 | P7: 合計 | Q7: 配偶 | R7: 前配偶 | S7: 鄰居 | T7: 網友 | U7: 直系 血親 | V7: 男(女)朋友 | W7: 前男(女) 朋友 | X7: 未婚 夫/妻 | Y7: 普通 朋友 | Z7: 旁系 親屬 | AA7: 師生 關係 | AB7: 家人的朋友 | AC7: 客戶 關係 | AD7: 同學 | AE7: 同事 | AF7: 上司/下屬 | AG7: 不認識 | AH7: 其他 | AI7: 不詳 | AK7: 小計 | AL7: 被害人 住所 | AM7: 被（加） 害人親友 住處 | AN7: 加害人 住所 | AO7: 汽車 | AP7: 旅館 房間 | AQ7: 他人 住所 | AR7: 不詳 | AS7: 小計 | AT7: 空屋 | AU7: 地下室 | AV7: 頂樓 陽台 | AW7: 電梯 | AX7: 工地 | AY7: 停車場 | AZ7: 計程車 | BA7: 馬路邊 | BB7: 娛樂 場所 | BC7: 荒野 | BD7: 大眾運 輸工具 | BE7: 學校/ 教室 | BF7: 宿舍 | BG7: 公共 廁所 | BH7: 辦公 場所 | BI7: 工廠 | BJ7: 河/海邊 | BK7: 其他 | BL7: 不詳
A8: 一○○年 2011 | C8: 16563 | D8: 1629 | E8: 79 | F8: 5544 | G8: 767 | H8: 74 | I8: 3617 | J8: 73 | K8: 48 | L8: 77 | M8: 4480 | N8: 2 | O8: 173 | P8: 13686 | Q8: 86 | R8: 45 | S8: 335 | T8: 824 | U8: 974 | V8: 2543 | W8: 763 | X8: 10 | Y8: 1227 | Z8: 669 | AA8: 242 | AB8: 364 | AC8: 153 | AD8: 1355 | AE8: 216 | AF8: 243 | AG8: 920 | AH8: 1577 | AI8: 1140 | AJ8: 13686 | AK8: 7886 | AL8: 2611 | AM8: 299 | AN8: 3401 | AO8: 94 | AP8: 1036 | AQ8: 218 | AR8: 227 | AS8: 3152 | AT8: 35 | AU8: 10 | AV8: 27 | AW8: 15 | AX8: 7 | AY8: 26 | AZ8: 14 | BA8: 233 | BB8: 193 | BC8: 71 | BD8: 68 | BE8: 1068 | BF8: 148 | BG8: 217 | BH8: 56 | BI8: 18 | BJ8: 32 | BK8: 794 | BL8: 120 | BM8: 2648
A9: 新北市 | C9: 2586 | D9: 332 | E9: 0 | F9: 994 | G9: 65 | H9: 11 | I9: 456 | J9: 7 | K9: 10 | L9: 2 | M9: 692 | N9: 1 | O9: 16 | P9: 2142 | Q9: 15 | R9: 11 | S9: 18 | T9: 151 | U9: 145 | V9: 421 | W9: 115 | X9: 5 | Y9: 159 | Z9: 71 | AA9: 30 | AB9: 49 | AC9: 23 | AD9: 278 | AE9: 44 | AF9: 40 | AG9: 142 | AH9: 209 | AI9: 216 | AJ9: 2142 | AK9: 1099 | AL9: 392 | AM9: 41 | AN9: 476 | AO9: 11 | AP9: 137 | AQ9: 19 | AR9: 23 | AS9: 547 | AT9: 5 | AU9: 4 | AV9: 8 | AW9: 3 | AX9: 1 | AY9: 1 | AZ9: 7 | BA9: 43 | BB9: 30 | BC9: 8 | BD9: 17 | BE9: 213 | BF9: 18 | BG9: 54 | BH9: 7 | BI9: 4 | BJ9: 3 | BK9: 103 | BL9: 18 | BM9: 496
A10: 臺北市 | C10: 1601 | D10: 198 | E10: 5 | F10: 459 | G10: 63 | H10: 11 | I10: 440 | J10: 7 | K10: 7 | L10: 2 | M10: 390 | N10: 0 | O10: 19 | P10: 1244 | Q10: 15 | R10: 2 | S10: 19 | T10: 69 | U10: 69 | V10: 118 | W10: 68 | X10: 0 | Y10: 123 | Z10: 47 | AA10: 29 | AB10: 20 | AC10: 32 | AD10: 148 | AE10: 23 | AF10: 35 | AG10: 131 | AH10: 147 | AI10: 149 | AJ10: 1244 | AK10: 616 | AL10: 205 | AM10: 24 | AN10: 244 | AO10: 5 | AP10: 121 | AQ10: 7 | AR10: 10 | AS10: 372 | AT10: 2 | AU10: 0 | AV10: 3 | AW10: 2 | AX10: 2 | AY10: 4 | AZ10: 3 | BA10: 24 | BB10: 35 | BC10: 4 | BD10: 16 | BE10: 132 | BF10: 12 | BG10: 22 | BH10: 11 | BI10: 0 | BJ10: 4 | BK10: 89 | BL10: 7 | BM10: 256
A11: 臺中市 | C11: 1830 | D11: 202 | E11: 5 | F11: 518 | G11: 62 | H11: 1 | I11: 401 | J11: 1 | K11: 5 | L11: 2 | M11: 623 | N11: 0 | O11: 10 | P11: 1531 | Q11: 6 | R11: 3 | S11: 33 | T11: 90 | U11: 139 | V11: 278 | W11: 97 | X11: 0 | Y11: 139 | Z11: 87 | AA11: 28 | AB11: 42 | AC11: 33 | AD11: 134 | AE11: 23 | AF11: 27 | AG11: 103 | AH11: 210 | AI11: 59 | AJ11: 1531 | AK11: 958 | AL11: 309 | AM11: 42 | AN11: 415 | AO11: 16 | AP11: 130 | AQ11: 24 | AR11: 22 | AS11: 363 | AT11: 5 | AU11: 1 | AV11: 6 | AW11: 2 | AX11: 0 | AY11: 3 | AZ11: 0 | BA11: 30 | BB11: 22 | BC11: 9 | BD11: 8 | BE11: 98 | BF11: 16 | BG11: 21 | BH11: 5 | BI11: 5 | BJ11: 0 | BK11: 115 | BL11: 17 | BM11: 210
A12: 臺南市 | C12: 1054 | D12: 116 | E12: 10 | F12: 347 | G12: 28 | H12: 4 | I12: 270 | J12: 0 | K12: 1 | L12: 15 | M12: 251 | N12: 0 | O12: 12 | P12: 853 | Q12: 6 | R12: 1 | S12: 18 | T12: 66 | U12: 77 | V12: 133 | W12: 35 | X12: 0 | Y12: 78 | Z12: 40 | AA12: 15 | AB12: 29 | AC12: 6 | AD12: 106 | AE12: 19 | AF12: 7 | AG12: 53 | AH12: 81 | AI12: 83 | AJ12: 853 | AK12: 470 | AL12: 158 | AM12: 17 | AN12: 193 | AO12: 5 | AP12: 82 | AQ12: 10 | AR12: 5 | AS12: 202 | AT12: 0 | AU12: 0 | AV12: 0 | AW12: 0 | AX12: 0 | AY12: 3 | AZ12: 0 | BA12: 11 | BB12: 6 | BC12: 4 | BD12: 5 | BE12: 78 | BF12: 26 | BG12: 9 | BH12: 5 | BI12: 0 | BJ12: 2 | BK12: 51 | BL12: 2 | BM12: 181
A13: 高雄市 | C13: 2066 | D13: 159 | E13: 26 | F13: 652 | G13: 126 | H13: 8 | I13: 490 | J13: 17 | K13: 6 | L13: 42 | M13: 511 | N13: 0 | O13: 29 | P13: 1595 | Q13: 15 | R13: 6 | S13: 35 | T13: 97 | U13: 130 | V13: 328 | W13: 107 | X13: 0 | Y13: 155 | Z13: 71 | AA13: 15 | AB13: 52 | AC13: 8 | AD13: 164 | AE13: 19 | AF13: 28 | AG13: 87 | AH13: 178 | AI13: 100 | AJ13: 1595 | AK13: 958 | AL13: 322 | AM13: 27 | AN13: 399 | AO13: 9 | AP13: 130 | AQ13: 32 | AR13: 39 | AS13: 358 | AT13: 4 | AU13: 2 | AV13: 0 | AW13: 2 | AX13: 1 | AY13: 3 | AZ13: 0 | BA13: 22 | BB13: 25 | BC13: 7 | BD13: 3 | BE13: 147 | BF13: 12 | BG13: 27 | BH13: 6 | BI13: 3 | BJ13: 6 | BK13: 84 | BL13: 4 | BM13: 279
A14: 宜蘭縣 | C14: 324 | D14: 20 | E14: 1 | F14: 142 | G14: 20 | H14: 0 | I14: 46 | J14: 1 | K14: 0 | L14: 0 | M14: 91 | N14: 0 | O14: 3 | P14: 297 | Q14: 2 | R14: 1 | S14: 6 | T14: 12 | U14: 8 | V14: 93 | W14: 15 | X14: 3 | Y14: 22 | Z14: 9 | AA14: 6 | AB14: 6 | AC14: 3 | AD14: 52 | AE14: 5 | AF14: 2 | AG14: 12 | AH14: 21 | AI14: 19 | AJ14: 297 | AK14: 138 | AL14: 35 | AM14: 2 | AN14: 78 | AO14: 3 | AP14: 7 | AQ14: 6 | AR14: 7 | AS14: 83 | AT14: 1 | AU14: 1 | AV14: 0 | AW14: 1 | AX14: 0 | AY14: 1 | AZ14: 1 | BA14: 1 | BB14: 2 | BC14: 2 | BD14: 3 | BE14: 46 | BF14: 2 | BG14: 6 | BH14: 2 | BI14: 0 | BJ14: 0 | BK14: 12 | BL14: 2 | BM14: 76
A15: 桃園縣 | C15: 1949 | D15: 175 | E15: 21 | F15: 603 | G15: 98 | H15: 15 | I15: 457 | J15: 11 | K15: 2 | L15: 1 | M15: 546 | N15: 0 | O15: 20 | P15: 1629 | Q15: 13 | R15: 8 | S15: 38 | T15: 104 | U15: 119 | V15: 297 | W15: 100 | X15: 0 | Y15: 163 | Z15: 64 | AA15: 54 | AB15: 38 | AC15: 16 | AD15: 106 | AE15: 38 | AF15: 24 | AG15: 132 | AH15: 189 | AI15: 126 | AJ15: 1629 | AK15: 1065 | AL15: 353 | AM15: 36 | AN15: 477 | AO15: 11 | AP15: 132 | AQ15: 27 | AR15: 29 | AS15: 305 | AT15: 6 | AU15: 1 | AV15: 4 | AW15: 1 | AX15: 1 | AY15: 6 | AZ15: 2 | BA15: 40 | BB15: 22 | BC15: 3 | BD15: 4 | BE15: 69 | BF15: 10 | BG15: 22 | BH15: 5 | BI15: 3 | BJ15: 5 | BK15: 84 | BL15: 17 | BM15: 259
A16: 新竹縣 | C16: 416 | D16: 42 | E16: 1 | F16: 126 | G16: 24 | H16: 1 | I16: 110 | J16: 0 | K16: 2 | L16: 1 | M16: 98 | N16: 0 | O16: 11 | P16: 352 | Q16: 1 | R16: 1 | S16: 9 | T16: 24 | U16: 25 | V16: 66 | W16: 13 | X16: 0 | Y16: 41 | Z16: 24 | AA16: 3 | AB16: 7 | AC16: 2 | AD16: 42 | AE16: 6 | AF16: 7 | AG16: 15 | AH16: 53 | AI16: 13 | AJ16: 352 | AK16: 214 | AL16: 79 | AM16: 6 | AN16: 88 | AO16: 4 | AP16: 25 | AQ16: 7 | AR16: 5 | AS16: 81 | AT16: 0 | AU16: 0 | AV16: 0 | AW16: 0 | AX16: 1 | AY16: 2 | AZ16: 0 | BA16: 5 | BB16: 2 | BC16: 2 | BD16: 0 | BE16: 28 | BF16: 5 | BG16: 5 | BH16: 2 | BI16: 0 | BJ16: 2 | BK16: 21 | BL16: 6 | BM16: 57
A17: 苗栗縣 | C17: 373 | D17: 41 | E17: 0 | F17: 120 | G17: 18 | H17: 4 | I17: 78 | J17: 1 | K17: 1 | L17: 4 | M17: 105 | N17: 0 | O17: 1 | P17: 313 | Q17: 2 | R17: 1 | S17: 17 | T17: 21 | U17: 29 | V17: 66 | W17: 15 | X17: 0 | Y17: 18 | Z17: 16 | AA17: 4 | AB17: 16 | AC17: 3 | AD17: 22 | AE17: 4 | AF17: 9 | AG17: 23 | AH17: 27 | AI17: 20 | AJ17: 313 | AK17: 222 | AL17: 72 | AM17: 11 | AN17: 94 | AO17: 8 | AP17: 26 | AQ17: 5 | AR17: 6 | AS17: 44 | AT17: 0 | AU17: 0 | AV17: 1 | AW17: 1 | AX17: 0 | AY17: 0 | AZ17: 0 | BA17: 1 | BB17: 3 | BC17: 3 | BD17: 1 | BE17: 11 | BF17: 0 | BG17: 3 | BH17: 5 | BI17: 1 | BJ17: 2 | BK17: 8 | BL17: 4 | BM17: 47
A18: 彰化縣 | C18: 857 | D18: 76 | E18: 3 | F18: 236 | G18: 21 | H18: 7 | I18: 257 | J18: 6 | K18: 2 | L18: 0 | M18: 237 | N18: 0 | O18: 12 | P18: 713 | Q18: 7 | R18: 2 | S18: 18 | T18: 54 | U18: 62 | V18: 109 | W18: 38 | X18: 1 | Y18: 71 | Z18: 58 | AA18: 8 | AB18: 14 | AC18: 2 | AD18: 47 | AE18: 10 | AF18: 23 | AG18: 41 | AH18: 88 | AI18: 60 | AJ18: 713 | AK18: 425 | AL18: 126 | AM18: 14 | AN18: 210 | AO18: 2 | AP18: 57 | AQ18: 7 | AR18: 9 | AS18: 112 | AT18: 2 | AU18: 0 | AV18: 0 | AW18: 0 | AX18: 0 | AY18: 0 | AZ18: 0 | BA18: 13 | BB18: 9 | BC18: 3 | BD18: 2 | BE18: 38 | BF18: 4 | BG18: 7 | BH18: 0 | BI18: 0 | BJ18: 0 | BK18: 28 | BL18: 6 | BM18: 176
A19: 南投縣 | C19: 427 | D19: 35 | E19: 0 | F19: 172 | G19: 26 | H19: 5 | I19: 69 | J19: 9 | K19: 0 | L19: 0 | M19: 109 | N19: 1 | O19: 1 | P19: 362 | Q19: 0 | R19: 1 | S19: 17 | T19: 16 | U19: 32 | V19: 82 | W19: 16 | X19: 0 | Y19: 41 | Z19: 13 | AA19: 2 | AB19: 10 | AC19: 3 | AD19: 17 | AE19: 6 | AF19: 9 | AG19: 20 | AH19: 45 | AI19: 32 | AJ19: 362 | AK19: 213 | AL19: 70 | AM19: 6 | AN19: 96 | AO19: 2 | AP19: 23 | AQ19: 5 | AR19: 11 | AS19: 79 | AT19: 0 | AU19: 0 | AV19: 0 | AW19: 0 | AX19: 1 | AY19: 0 | AZ19: 0 | BA19: 8 | BB19: 3 | BC19: 5 | BD19: 0 | BE19: 29 | BF19: 8 | BG19: 2 | BH19: 2 | BI19: 1 | BJ19: 0 | BK19: 17 | BL19: 3 | BM19: 70
... A30: 連江縣 | C30: 1 | D30: 0 | E30: 0 | F30: 0 | G30: 0 | H30: 0 | I30: 0 | J30: 0 | K30: 0 | L30: 0 | M30: 0 | N30: 0 | O30: 1 | P30: 1 | Q30: 0 | R30: 0 | S30: 0 | T30: 0 | U30: 0 | V30: 0 | W30: 0 | X30: 0 | Y30: 0 | Z30: 0 | AA30: 0 | AB30: 0 | AC30: 0 | AD30: 0 | AE30: 0 | AF30: 1 | AG30: 0 | AH30: 0 | AI30: 0 | AJ30: 1 | AK30: 1 | AL30: 1 | AM30: 0 | AN30: 0 | AO30: 0 | AP30: 0 | AQ30: 0 | AR30: 0 | AS30: 0 | AT30: 0 | AU30: 0 | AV30: 0 | AW30: 0 | AX30: 0 | AY30: 0 | AZ30: 0 | BA30: 0 | BB30: 0 | BC30: 0 | BD30: 0 | BE30: 0 | BF30: 0 | BG30: 0 | BH30: 0 | BI30: 0 | BJ30: 0 | BK30: 0 | BL30: 0 | BM30: 0
A31: 資料來源：內政部家庭暴力及性侵害防治委員會。

Sheet 99
A1: 5.2-01 性侵害事件通報案件統計
A3: 單位：件次；件數
A4: 區域別 | C4: 通報件次(複選) | P4: 通報件數 | AJ4: 通報件數
C5: 通報單位別 | P5: 被害及加害者兩造關係別 | AJ5: 案發地點別
AJ6: 合計 | AK6: 私人住所 | AS6: 非私人住所 | BM6: 不 詳
C7: 合計 | D7: 113 | E7: 防治中心 | F7: 教育 | G7: 社政 | H7: 勞政 | I7: 警政 | J7: 司(軍)法 | K7: 衛生 | L7: 診所 | M7: 醫院 | N7: 憲兵隊 | O7: 其他 | P7: 合計 | Q7: 配偶 | R7: 前配偶 | S7: 鄰居 | T7: 網友 | U7: 直系 血親 | V7: 男(女)朋友 | W7: 前男(女) 朋友 | X7: 未婚 夫/妻 | Y7: 普通 朋友 | Z7: 旁系 親屬 | AA7: 師生 關係 | AB7: 家人的朋友 | AC7: 客戶 關係 | AD7: 同學 | AE7: 同事 | AF7: 上司/下屬 | AG7: 不認識 | AH7: 其他 | AI7: 不詳 | AK7: 小計 | AL7: 被害人 住所 | AM7: 被（加） 害人親友 住處 | AN7: 加害人 住所 | AO7: 汽車 | AP7: 旅館 房間 | AQ7: 他人 住所 | AR7: 不詳 | AS7: 小計 | AT7: 空屋 | AU7: 地下室 | AV7: 頂樓 陽台 | AW7: 電梯 | AX7: 工地 | AY7: 停車場 | AZ7: 計程車 | BA7: 馬路邊 | BB7: 娛樂 場所 | BC7: 荒野 | BD7: 大眾運 輸工具 | BE7: 學校/ 教室 | BF7: 宿舍 | BG7: 公共 廁所 | BH7: 辦公 場所 | BI7: 工廠 | BJ7: 河/海邊 | BK7: 其他 | BL7: 不詳
A8: 99年 2010 | C8: 13434 | D8: 1895 | E8: 84 | F8: 3473 | G8: 608 | H8: 85 | I8: 3087 | J8: 54 | K8: 19 | L8: 42 | M8: 3902 | N8: 6 | O8: 179 | P8: 10892 | Q8: 88 | R8: 45 | S8: 293 | T8: 632 | U8: 943 | V8: 1913 | W8: 482 | X8: 8 | Y8: 960 | Z8: 611 | AA8: 168 | AB8: 308 | AC8: 147 | AD8: 815 | AE8: 163 | AF8: 306 | AG8: 756 | AH8: 1262 | AI8: 992 | AJ8: 10892 | AK8: 6384 | AL8: 2197 | AM8: 267 | AN8: 2670 | AO8: 88 | AP8: 881 | AQ8: 156 | AR8: 125 | AS8: 2180 | AT8: 33 | AU8: 10 | AV8: 18 | AW8: 12 | AX8: 14 | AY8: 32 | AZ8: 8 | BA8: 196 | BB8: 112 | BC8: 69 | BD8: 40 | BE8: 597 | BF8: 96 | BG8: 152 | BH8: 73 | BI8: 16 | BJ8: 30 | BK8: 581 | BL8: 91 | BM8: 2328
A9: 臺北縣 | C9: 1703 | D9: 394 | E9: 0 | F9: 435 | G9: 27 | H9: 6 | I9: 322 | J9: 2 | K9: 3 | L9: 2 | M9: 504 | N9: 0 | O9: 8 | P9: 1382 | Q9: 13 | R9: 14 | S9: 32 | T9: 129 | U9: 134 | V9: 237 | W9: 58 | X9: 0 | Y9: 122 | Z9: 76 | AA9: 22 | AB9: 34 | AC9: 18 | AD9: 118 | AE9: 22 | AF9: 36 | AG9: 103 | AH9: 122 | AI9: 92 | AJ9: 1382 | AK9: 822 | AL9: 275 | AM9: 22 | AN9: 331 | AO9: 4 | AP9: 156 | AQ9: 19 | AR9: 15 | AS9: 247 | AT9: 3 | AU9: 2 | AV9: 5 | AW9: 4 | AX9: 0 | AY9: 4 | AZ9: 1 | BA9: 24 | BB9: 12 | BC9: 3 | BD9: 14 | BE9: 75 | BF9: 14 | BG9: 20 | BH9: 8 | BI9: 2 | BJ9: 3 | BK9: 47 | BL9: 6 | BM9: 313
A10: 宜蘭縣 | C10: 284 | D10: 28 | E10: 1 | F10: 89 | G10: 16 | H10: 2 | I10: 41 | J10: 0 | K10: 3 | L10: 0 | M10: 101 | N10: 0 | O10: 3 | P10: 252 | Q10: 1 | R10: 1 | S10: 3 | T10: 8 | U10: 16 | V10: 83 | W10: 12 | X10: 1 | Y10: 20 | Z10: 17 | AA10: 3 | AB10: 12 | AC10: 2 | AD10: 11 | AE10: 1 | AF10: 11 | AG10: 10 | AH10: 20 | AI10: 20 | AJ10: 252 | AK10: 158 | AL10: 58 | AM10: 4 | AN10: 75 | AO10: 0 | AP10: 16 | AQ10: 3 | AR10: 2 | AS10: 40 | AT10: 0 | AU10: 0 | AV10: 0 | AW10: 0 | AX10: 0 | AY10: 1 | AZ10: 0 | BA10: 5 | BB10: 2 | BC10: 1 | BD10: 1 | BE10: 5 | BF10: 3 | BG10: 2 | BH10: 0 | BI10: 0 | BJ10: 2 | BK10: 17 | BL10: 1 | BM10: 54
A11: 桃園縣 | C11: 1531 | D11: 206 | E11: 21 | F11: 319 | G11: 71 | H11: 19 | I11: 399 | J11: 20 | K11: 1 | L11: 2 | M11: 462 | N11: 0 | O11: 11 | P11: 1233 | Q11: 13 | R11: 4 | S11: 38 | T11: 62 | U11: 116 | V11: 229 | W11: 59 | X11: 0 | Y11: 110 | Z11: 70 | AA11: 6 | AB11: 32 | AC11: 14 | AD11: 60 | AE11: 31 | AF11: 36 | AG11: 97 | AH11: 154 | AI11: 102 | AJ11: 1233 | AK11: 817 | AL11: 274 | AM11: 30 | AN11: 353 | AO11: 19 | AP11: 104 | AQ11: 26 | AR11: 11 | AS11: 243 | AT11: 5 | AU11: 4 | AV11: 4 | AW11: 0 | AX11: 2 | AY11: 6 | AZ11: 3 | BA11: 32 | BB11: 11 | BC11: 11 | BD11: 2 | BE11: 36 | BF11: 7 | BG11: 20 | BH11: 11 | BI11: 3 | BJ11: 1 | BK11: 68 | BL11: 17 | BM11: 173
A12: 新竹縣 | C12: 492 | D12: 50 | E12: 0 | F12: 122 | G12: 17 | H12: 5 | I12: 184 | J12: 0 | K12: 0 | L12: 0 | M12: 108 | N12: 1 | O12: 5 | P12: 366 | Q12: 3 | R12: 0 | S12: 11 | T12: 21 | U12: 34 | V12: 78 | W12: 13 | X12: 2 | Y12: 39 | Z12: 15 | AA12: 7 | AB12: 16 | AC12: 2 | AD12: 33 | AE12: 6 | AF12: 9 | AG12: 26 | AH12: 35 | AI12: 16 | AJ12: 366 | AK12: 229 | AL12: 75 | AM12: 8 | AN12: 106 | AO12: 4 | AP12: 33 | AQ12: 1 | AR12: 2 | AS12: 95 | AT12: 0 | AU12: 0 | AV12: 2 | AW12: 0 | AX12: 3 | AY12: 4 | AZ12: 0 | BA12: 15 | BB12: 2 | BC12: 5 | BD12: 0 | BE12: 23 | BF12: 2 | BG12: 4 | BH12: 1 | BI12: 0 | BJ12: 4 | BK12: 29 | BL12: 1 | BM12: 42
A13: 苗栗縣 | C13: 269 | D13: 40 | E13: 0 | F13: 75 | G13: 15 | H13: 3 | I13: 41 | J13: 0 | K13: 0 | L13: 4 | M13: 86 | N13: 0 | O13: 5 | P13: 232 | Q13: 1 | R13: 2 | S13: 7 | T13: 11 | U13: 12 | V13: 40 | W13: 20 | X13: 0 | Y13: 16 | Z13: 7 | AA13: 6 | AB13: 16 | AC13: 5 | AD13: 14 | AE13: 4 | AF13: 7 | AG13: 15 | AH13: 32 | AI13: 17 | AJ13: 232 | AK13: 128 | AL13: 59 | AM13: 3 | AN13: 44 | AO13: 2 | AP13: 14 | AQ13: 4 | AR13: 2 | AS13: 54 | AT13: 1 | AU13: 0 | AV13: 0 | AW13: 0 | AX13: 1 | AY13: 1 | AZ13: 0 | BA13: 2 | BB13: 1 | BC13: 2 | BD13: 0 | BE13: 12 | BF13: 3 | BG13: 7 | BH13: 2 | BI13: 0 | BJ13: 2 | BK13: 18 | BL13: 2 | BM13: 50
A14: 臺中縣 | C14: 871 | D14: 141 | E14: 1 | F14: 229 | G14: 58 | H14: 1 | I14: 139 | J14: 0 | K14: 1 | L14: 0 | M14: 293 | N14: 0 | O14: 8 | P14: 739 | Q14: 2 | R14: 2 | S14: 16 | T14: 39 | U14: 74 | V14: 136 | W14: 30 | X14: 0 | Y14: 64 | Z14: 50 | AA14: 18 | AB14: 28 | AC14: 12 | AD14: 38 | AE14: 6 | AF14: 9 | AG14: 53 | AH14: 80 | AI14: 82 | AJ14: 739 | AK14: 452 | AL14: 173 | AM14: 27 | AN14: 167 | AO14: 9 | AP14: 53 | AQ14: 9 | AR14: 14 | AS14: 116 | AT14: 3 | AU14: 1 | AV14: 2 | AW14: 0 | AX14: 1 | AY14: 1 | AZ14: 0 | BA14: 11 | BB14: 9 | BC14: 7 | BD14: 1 | BE14: 27 | BF14: 3 | BG14: 9 | BH14: 2 | BI14: 0 | BJ14: 4 | BK14: 31 | BL14: 4 | BM14: 171
A15: 彰化縣 | C15: 719 | D15: 62 | E15: 2 | F15: 180 | G15: 33 | H15: 6 | I15: 195 | J15: 4 | K15: 1 | L15: 0 | M15: 222 | N15: 0 | O15: 14 | P15: 582 | Q15: 4 | R15: 3 | S15: 20 | T15: 49 | U15: 59 | V15: 93 | W15: 19 | X15: 0 | Y15: 52 | Z15: 32 | AA15: 10 | AB15: 17 | AC15: 6 | AD15: 50 | AE15: 8 | AF15: 17 | AG15: 28 | AH15: 69 | AI15: 46 | AJ15: 582 | AK15: 308 | AL15: 118 | AM15: 19 | AN15: 120 | AO15: 4 | AP15: 34 | AQ15: 7 | AR15: 6 | AS15: 136 | AT15: 6 | AU15: 0 | AV15: 0 | AW15: 1 | AX15: 1 | AY15: 0 | AZ15: 0 | BA15: 8 | BB15: 7 | BC15: 6 | BD15: 3 | BE15: 33 | BF15: 17 | BG15: 8 | BH15: 3 | BI15: 2 | BJ15: 0 | BK15: 37 | BL15: 4 | BM15: 138
A16: 南投縣 | C16: 291 | D16: 29 | E16: 0 | F16: 87 | G16: 10 | H16: 4 | I16: 50 | J16: 2 | K16: 1 | L16: 0 | M16: 100 | N16: 0 | O16: 8 | P16: 242 | Q16: 2 | R16: 0 | S16: 7 | T16: 7 | U16: 14 | V16: 43 | W16: 8 | X16: 1 | Y16: 20 | Z16: 16 | AA16: 4 | AB16: 9 | AC16: 0 | AD16: 17 | AE16: 7 | AF16: 6 | AG16: 9 | AH16: 32 | AI16: 40 | AJ16: 242 | AK16: 139 | AL16: 29 | AM16: 15 | AN16: 59 | AO16: 1 | AP16: 31 | AQ16: 3 | AR16: 1 | AS16: 54 | AT16: 1 | AU16: 0 | AV16: 1 | AW16: 0 | AX16: 0 | AY16: 0 | AZ16: 0 | BA16: 5 | BB16: 2 | BC16: 4 | BD16: 1 | BE16: 15 | BF16: 2 | BG16: 6 | BH16: 1 | BI16: 0 | BJ16: 1 | BK16: 11 | BL16: 4 | BM16: 49
A17: 雲林縣 | C17: 293 | D17: 54 | E17: 2 | F17: 81 | G17: 11 | H17: 2 | I17: 49 | J17: 1 | K17: 1 | L17: 0 | M17: 82 | N17: 0 | O17: 10 | P17: 246 | Q17: 3 | R17: 2 | S17: 7 | T17: 10 | U17: 29 | V17: 54 | W17: 6 | X17: 0 | Y17: 26 | Z17: 17 | AA17: 2 | AB17: 8 | AC17: 4 | AD17: 16 | AE17: 2 | AF17: 9 | AG17: 8 | AH17: 21 | AI17: 22 | AJ17: 246 | AK17: 167 | AL17: 56 | AM17: 7 | AN17: 82 | AO17: 1 | AP17: 5 | AQ17: 10 | AR17: 6 | AS17: 32 | AT17: 1 | AU17: 0 | AV17: 0 | AW17: 0 | AX17: 1 | AY17: 0 | AZ17: 0 | BA17: 0 | BB17: 2 | BC17: 0 | BD17: 0 | BE17: 6 | BF17: 2 | BG17: 3 | BH17: 1 | BI17: 0 | BJ17: 1 | BK17: 12 | BL17: 3 | BM17: 47
A18: 嘉義縣 | C18: 203 | D18: 28 | E18: 1 | F18: 54 | G18: 6 | H18: 3 | I18: 40 | J18: 1 | K18: 0 | L18: 0 | M18: 68 | N18: 0 | O18: 2 | P18: 172 | Q18: 0 | R18: 3 | S18: 20 | T18: 9 | U18: 12 | V18: 24 | W18: 7 | X18: 0 | Y18: 15 | Z18: 12 | AA18: 0 | AB18: 5 | AC18: 3 | AD18: 15 | AE18: 0 | AF18: 9 | AG18: 11 | AH18: 11 | AI18: 16 | AJ18: 172 | AK18: 113 | AL18: 31 | AM18: 6 | AN18: 50 | AO18: 3 | AP18: 15 | AQ18: 6 | AR18: 2 | AS18: 26 | AT18: 0 | AU18: 0 | AV18: 0 | AW18: 0 | AX18: 0 | AY18: 0 | AZ18: 0 | BA18: 2 | BB18: 2 | BC18: 1 | BD18: 0 | BE18: 8 | BF18: 1 | BG18: 2 | BH18: 1 | BI18: 0 | BJ18: 0 | BK18: 8 | BL18: 1 | BM18: 33
A19: 臺南縣 | C19: 324 | D19: 73 | E19: 0 | F19: 79 | G19: 3 | H19: 4 | I19: 79 | J19: 1 | K19: 0 | L19: 7 | M19: 72 | N19: 0 | O19: 6 | P19: 265 | Q19: 2 | R19: 0 | S19: 8 | T19: 11 | U19: 31 | V19: 38 | W19: 14 | X19: 0 | Y19: 23 | Z19: 12 | AA19: 3 | AB19: 14 | AC19: 2 | AD19: 25 | AE19: 6 | AF19: 11 | AG19: 18 | AH19: 19 | AI19: 28 | AJ19: 265 | AK19: 154 | AL19: 54 | AM19: 5 | AN19: 69 | AO19: 5 | AP19: 16 | AQ19: 4 | AR19: 1 | AS19: 65 | AT19: 4 | AU19: 0 | AV19: 0 | AW19: 0 | AX19: 0 | AY19: 1 | AZ19: 0 | BA19: 7 | BB19: 1 | BC19: 1 | BD19: 0 | BE19: 25 | BF19: 2 | BG19: 4 | BH19: 3 | BI19: 1 | BJ19: 2 | BK19: 12 | BL19: 2 | BM19: 46
... A33: 連江縣 | C33: 5 | D33: 1 | E33: 0 | F33: 3 | G33: 0 | H33: 0 | I33: 0 | J33: 0 | K33: 0 | L33: 0 | M33: 1 | N33: 0 | O33: 0 | P33: 4 | Q33: 0 | R33: 0 | S33: 0 | T33: 0 | U33: 2 | V33: 0 | W33: 0 | X33: 0 | Y33: 0 | Z33: 0 | AA33: 0 | AB33: 0 | AC33: 0 | AD33: 0 | AE33: 0 | AF33: 0 | AG33: 0 | AH33: 2 | AI33: 0 | AJ33: 4 | AK33: 3 | AL33: 3 | AM33: 0 | AN33: 0 | AO33: 0 | AP33: 0 | AQ33: 0 | AR33: 0 | AS33: 1 | AT33: 0 | AU33: 0 | AV33: 0 | AW33: 0 | AX33: 0 | AY33: 0 | AZ33: 0 | BA33: 0 | BB33: 0 | BC33: 0 | BD33: 0 | BE33: 1 | BF33: 0 | BG33: 0 | BH33: 0 | BI33: 0 | BJ33: 0 | BK33: 0 | BL33: 0 | BM33: 0
A34: 資料來源：內政部家庭暴力及性侵害防治委員會。

Sheet 98
A1: 5.2-01 性侵害事件通報案件統計
A3: 單位：件次；件數
A4: 區域別 | C4: 通報件次(複選) | P4: 通報件數 | AJ4: 通報件數
C5: 通報單位別 | P5: 被害及加害者兩造關係別 | AJ5: 案發地點別
AJ6: 合計 | AK6: 私人住所 | AS6: 非私人住所 | BM6: 不 詳
C7: 合計 | D7: 113 | E7: 防治中心 | F7: 教育 | G7: 社政 | H7: 勞政 | I7: 警政 | J7: 司(軍)法 | K7: 衛生 | L7: 診所 | M7: 醫院 | N7: 憲兵隊 | O7: 其他 | P7: 合計 | Q7: 配偶 | R7: 前配偶 | S7: 鄰居 | T7: 網友 | U7: 直系 血親 | V7: 男(女)朋友 | W7: 前男(女) 朋友 | X7: 未婚 夫/妻 | Y7: 普通 朋友 | Z7: 旁系 親屬 | AA7: 師生 關係 | AB7: 家人的朋友 | AC7: 客戶 關係 | AD7: 同學 | AE7: 同事 | AF7: 上司/下屬 | AG7: 不認識 | AH7: 其他 | AI7: 不詳 | AK7: 小計 | AL7: 被害人 住所 | AM7: 被（加） 害人親友 住處 | AN7: 加害人 住所 | AO7: 汽車 | AP7: 旅館 房間 | AQ7: 他人 住所 | AR7: 不詳 | AS7: 小計 | AT7: 空屋 | AU7: 地下室 | AV7: 頂樓 陽台 | AW7: 電梯 | AX7: 工地 | AY7: 停車場 | AZ7: 計程車 | BA7: 馬路邊 | BB7: 娛樂 場所 | BC7: 荒野 | BD7: 大眾運 輸工具 | BE7: 學校/ 教室 | BF7: 宿舍 | BG7: 公共 廁所 | BH7: 辦公 場所 | BI7: 工廠 | BJ7: 河/海邊 | BK7: 其他 | BL7: 不詳
A8: 98年 2009 | C8: 11619 | D8: 1736 | E8: 75 | F8: 2381 | G8: 532 | H8: 18 | I8: 2997 | J8: 50 | K8: 15 | L8: 26 | M8: 3611 | N8: 1 | O8: 177 | P8: 9543 | Q8: 77 | R8: 34 | S8: 265 | T8: 735 | U8: 734 | V8: 1518 | W8: 362 | X8: 3 | Y8: 930 | Z8: 517 | AA8: 159 | AB8: 263 | AC8: 146 | AD8: 626 | AE8: 123 | AF8: 190 | AG8: 772 | AH8: 1115 | AI8: 974 | AJ8: 9543 | AK8: 5749 | AL8: 1890 | AM8: 252 | AN8: 2446 | AO8: 87 | AP8: 818 | AQ8: 169 | AR8: 87 | AS8: 1868 | AT8: 26 | AU8: 18 | AV8: 15 | AW8: 10 | AX8: 5 | AY8: 38 | AZ8: 11 | BA8: 184 | BB8: 117 | BC8: 72 | BD8: 25 | BE8: 457 | BF8: 59 | BG8: 135 | BH8: 69 | BI8: 17 | BJ8: 32 | BK8: 498 | BL8: 80 | BM8: 1926
A9: 臺北縣 | C9: 1755 | D9: 316 | E9: 0 | F9: 417 | G9: 37 | H9: 1 | I9: 365 | J9: 2 | K9: 0 | L9: 1 | M9: 614 | N9: 0 | O9: 2 | P9: 1482 | Q9: 15 | R9: 5 | S9: 26 | T9: 161 | U9: 88 | V9: 260 | W9: 75 | X9: 0 | Y9: 177 | Z9: 80 | AA9: 26 | AB9: 44 | AC9: 23 | AD9: 114 | AE9: 8 | AF9: 21 | AG9: 112 | AH9: 145 | AI9: 102 | AJ9: 1482 | AK9: 929 | AL9: 277 | AM9: 34 | AN9: 422 | AO9: 12 | AP9: 149 | AQ9: 29 | AR9: 6 | AS9: 250 | AT9: 2 | AU9: 5 | AV9: 3 | AW9: 3 | AX9: 0 | AY9: 3 | AZ9: 4 | BA9: 17 | BB9: 22 | BC9: 7 | BD9: 5 | BE9: 79 | BF9: 8 | BG9: 20 | BH9: 11 | BI9: 4 | BJ9: 3 | BK9: 45 | BL9: 9 | BM9: 303
A10: 宜蘭縣 | C10: 221 | D10: 15 | E10: 0 | F10: 54 | G10: 15 | H10: 0 | I10: 52 | J10: 0 | K10: 2 | L10: 0 | M10: 77 | N10: 1 | O10: 5 | P10: 191 | Q10: 1 | R10: 3 | S10: 2 | T10: 8 | U10: 9 | V10: 47 | W10: 13 | X10: 0 | Y10: 25 | Z10: 11 | AA10: 1 | AB10: 7 | AC10: 1 | AD10: 6 | AE10: 4 | AF10: 4 | AG10: 9 | AH10: 16 | AI10: 24 | AJ10: 191 | AK10: 112 | AL10: 29 | AM10: 10 | AN10: 53 | AO10: 2 | AP10: 9 | AQ10: 6 | AR10: 3 | AS10: 42 | AT10: 1 | AU10: 0 | AV10: 0 | AW10: 0 | AX10: 0 | AY10: 0 | AZ10: 0 | BA10: 4 | BB10: 7 | BC10: 3 | BD10: 0 | BE10: 6 | BF10: 1 | BG10: 6 | BH10: 2 | BI10: 0 | BJ10: 1 | BK10: 7 | BL10: 4 | BM10: 37
A11: 桃園縣 | C11: 1352 | D11: 210 | E11: 26 | F11: 226 | G11: 44 | H11: 3 | I11: 355 | J11: 11 | K11: 0 | L11: 3 | M11: 457 | N11: 0 | O11: 17 | P11: 1120 | Q11: 18 | R11: 3 | S11: 29 | T11: 73 | U11: 100 | V11: 198 | W11: 48 | X11: 0 | Y11: 123 | Z11: 65 | AA11: 18 | AB11: 25 | AC11: 20 | AD11: 57 | AE11: 11 | AF11: 32 | AG11: 83 | AH11: 135 | AI11: 82 | AJ11: 1120 | AK11: 767 | AL11: 256 | AM11: 33 | AN11: 313 | AO11: 13 | AP11: 114 | AQ11: 26 | AR11: 12 | AS11: 190 | AT11: 1 | AU11: 3 | AV11: 3 | AW11: 0 | AX11: 1 | AY11: 1 | AZ11: 1 | BA11: 17 | BB11: 15 | BC11: 13 | BD11: 4 | BE11: 32 | BF11: 7 | BG11: 22 | BH11: 10 | BI11: 4 | BJ11: 0 | BK11: 48 | BL11: 8 | BM11: 163
A12: 新竹縣 | C12: 395 | D12: 46 | E12: 2 | F12: 82 | G12: 17 | H12: 1 | I12: 136 | J12: 0 | K12: 0 | L12: 1 | M12: 106 | N12: 0 | O12: 4 | P12: 322 | Q12: 1 | R12: 0 | S12: 11 | T12: 21 | U12: 41 | V12: 33 | W12: 13 | X12: 1 | Y12: 24 | Z12: 21 | AA12: 5 | AB12: 4 | AC12: 2 | AD12: 19 | AE12: 5 | AF12: 7 | AG12: 36 | AH12: 50 | AI12: 28 | AJ12: 322 | AK12: 207 | AL12: 84 | AM12: 9 | AN12: 82 | AO12: 2 | AP12: 16 | AQ12: 10 | AR12: 4 | AS12: 68 | AT12: 3 | AU12: 0 | AV12: 1 | AW12: 0 | AX12: 0 | AY12: 2 | AZ12: 0 | BA12: 14 | BB12: 2 | BC12: 3 | BD12: 0 | BE12: 11 | BF12: 1 | BG12: 1 | BH12: 1 | BI12: 1 | BJ12: 0 | BK12: 25 | BL12: 3 | BM12: 47
A13: 苗栗縣 | C13: 275 | D13: 31 | E13: 0 | F13: 44 | G13: 12 | H13: 0 | I13: 73 | J13: 0 | K13: 0 | L13: 1 | M13: 105 | N13: 0 | O13: 9 | P13: 212 | Q13: 0 | R13: 0 | S13: 7 | T13: 19 | U13: 13 | V13: 46 | W13: 3 | X13: 0 | Y13: 16 | Z13: 15 | AA13: 1 | AB13: 7 | AC13: 2 | AD13: 14 | AE13: 6 | AF13: 5 | AG13: 14 | AH13: 31 | AI13: 13 | AJ13: 212 | AK13: 156 | AL13: 45 | AM13: 8 | AN13: 74 | AO13: 3 | AP13: 20 | AQ13: 5 | AR13: 1 | AS13: 30 | AT13: 1 | AU13: 2 | AV13: 0 | AW13: 0 | AX13: 0 | AY13: 1 | AZ13: 0 | BA13: 1 | BB13: 2 | BC13: 0 | BD13: 0 | BE13: 4 | BF13: 2 | BG13: 6 | BH13: 0 | BI13: 0 | BJ13: 1 | BK13: 9 | BL13: 1 | BM13: 26
A14: 臺中縣 | C14: 547 | D14: 124 | E14: 5 | F14: 107 | G14: 30 | H14: 0 | I14: 106 | J14: 0 | K14: 1 | L14: 0 | M14: 167 | N14: 0 | O14: 7 | P14: 476 | Q14: 6 | R14: 2 | S14: 16 | T14: 32 | U14: 49 | V14: 65 | W14: 8 | X14: 1 | Y14: 36 | Z14: 25 | AA14: 4 | AB14: 12 | AC14: 8 | AD14: 29 | AE14: 6 | AF14: 8 | AG14: 38 | AH14: 56 | AI14: 75 | AJ14: 476 | AK14: 281 | AL14: 99 | AM14: 14 | AN14: 119 | AO14: 3 | AP14: 32 | AQ14: 11 | AR14: 3 | AS14: 78 | AT14: 1 | AU14: 0 | AV14: 0 | AW14: 0 | AX14: 1 | AY14: 4 | AZ14: 1 | BA14: 11 | BB14: 5 | BC14: 5 | BD14: 0 | BE14: 14 | BF14: 5 | BG14: 3 | BH14: 3 | BI14: 0 | BJ14: 2 | BK14: 21 | BL14: 2 | BM14: 117
A15: 彰化縣 | C15: 490 | D15: 43 | E15: 1 | F15: 81 | G15: 30 | H15: 2 | I15: 141 | J15: 8 | K15: 0 | L15: 0 | M15: 175 | N15: 0 | O15: 9 | P15: 413 | Q15: 4 | R15: 1 | S15: 10 | T15: 28 | U15: 36 | V15: 59 | W15: 15 | X15: 0 | Y15: 34 | Z15: 23 | AA15: 5 | AB15: 17 | AC15: 9 | AD15: 18 | AE15: 5 | AF15: 10 | AG15: 21 | AH15: 29 | AI15: 89 | AJ15: 413 | AK15: 233 | AL15: 78 | AM15: 6 | AN15: 107 | AO15: 2 | AP15: 30 | AQ15: 6 | AR15: 4 | AS15: 63 | AT15: 0 | AU15: 0 | AV15: 0 | AW15: 0 | AX15: 1 | AY15: 2 | AZ15: 0 | BA15: 10 | BB15: 4 | BC15: 5 | BD15: 2 | BE15: 15 | BF15: 2 | BG15: 1 | BH15: 3 | BI15: 2 | BJ15: 1 | BK15: 9 | BL15: 6 | BM15: 117
A16: 南投縣 | C16: 231 | D16: 24 | E16: 2 | F16: 60 | G16: 9 | H16: 1 | I16: 37 | J16: 1 | K16: 1 | L16: 0 | M16: 90 | N16: 0 | O16: 6 | P16: 193 | Q16: 1 | R16: 3 | S16: 5 | T16: 12 | U16: 16 | V16: 35 | W16: 9 | X16: 0 | Y16: 22 | Z16: 6 | AA16: 0 | AB16: 4 | AC16: 1 | AD16: 7 | AE16: 5 | AF16: 3 | AG16: 16 | AH16: 20 | AI16: 28 | AJ16: 193 | AK16: 115 | AL16: 33 | AM16: 7 | AN16: 54 | AO16: 2 | AP16: 11 | AQ16: 5 | AR16: 3 | AS16: 49 | AT16: 0 | AU16: 1 | AV16: 0 | AW16: 0 | AX16: 0 | AY16: 1 | AZ16: 0 | BA16: 5 | BB16: 2 | BC16: 4 | BD16: 0 | BE16: 6 | BF16: 1 | BG16: 5 | BH16: 0 | BI16: 1 | BJ16: 1 | BK16: 17 | BL16: 5 | BM16: 29
A17: 雲林縣 | C17: 246 | D17: 41 | E17: 7 | F17: 55 | G17: 4 | H17: 1 | I17: 46 | J17: 0 | K17: 3 | L17: 0 | M17: 83 | N17: 0 | O17: 6 | P17: 202 | Q17: 7 | R17: 0 | S17: 9 | T17: 9 | U17: 13 | V17: 25 | W17: 2 | X17: 0 | Y17: 8 | Z17: 13 | AA17: 3 | AB17: 10 | AC17: 1 | AD17: 12 | AE17: 6 | AF17: 8 | AG17: 19 | AH17: 33 | AI17: 24 | AJ17: 202 | AK17: 111 | AL17: 42 | AM17: 6 | AN17: 41 | AO17: 2 | AP17: 16 | AQ17: 3 | AR17: 1 | AS17: 47 | AT17: 1 | AU17: 0 | AV17: 1 | AW17: 0 | AX17: 0 | AY17: 0 | AZ17: 0 | BA17: 3 | BB17: 0 | BC17: 1 | BD17: 4 | BE17: 12 | BF17: 2 | BG17: 2 | BH17: 2 | BI17: 1 | BJ17: 0 | BK17: 17 | BL17: 1 | BM17: 44
A18: 嘉義縣 | C18: 169 | D18: 29 | E18: 0 | F18: 32 | G18: 3 | H18: 0 | I18: 32 | J18: 3 | K18: 0 | L18: 1 | M18: 67 | N18: 0 | O18: 2 | P18: 149 | Q18: 0 | R18: 0 | S18: 7 | T18: 6 | U18: 13 | V18: 27 | W18: 2 | X18: 0 | Y18: 9 | Z18: 8 | AA18: 5 | AB18: 7 | AC18: 2 | AD18: 4 | AE18: 1 | AF18: 7 | AG18: 9 | AH18: 16 | AI18: 26 | AJ18: 149 | AK18: 91 | AL18: 32 | AM18: 1 | AN18: 38 | AO18: 2 | AP18: 16 | AQ18: 1 | AR18: 1 | AS18: 29 | AT18: 1 | AU18: 0 | AV18: 0 | AW18: 1 | AX18: 0 | AY18: 1 | AZ18: 1 | BA18: 4 | BB18: 2 | BC18: 1 | BD18: 2 | BE18: 4 | BF18: 2 | BG18: 1 | BH18: 0 | BI18: 0 | BJ18: 0 | BK18: 5 | BL18: 4 | BM18: 29
A19: 臺南縣 | C19: 258 | D19: 50 | E19: 0 | F19: 54 | G19: 7 | H19: 1 | I19: 65 | J19: 0 | K19: 1 | L19: 5 | M19: 70 | N19: 0 | O19: 5 | P19: 224 | Q19: 1 | R19: 1 | S19: 6 | T19: 15 | U19: 18 | V19: 26 | W19: 10 | X19: 0 | Y19: 25 | Z19: 12 | AA19: 17 | AB19: 13 | AC19: 4 | AD19: 16 | AE19: 2 | AF19: 5 | AG19: 13 | AH19: 22 | AI19: 18 | AJ19: 224 | AK19: 127 | AL19: 41 | AM19: 10 | AN19: 45 | AO19: 3 | AP19: 23 | AQ19: 3 | AR19: 2 | AS19: 58 | AT19: 1 | AU19: 0 | AV19: 0 | AW19: 0 | AX19: 0 | AY19: 0 | AZ19: 0 | BA19: 6 | BB19: 1 | BC19: 3 | BD19: 1 | BE19: 20 | BF19: 7 | BG19: 1 | BH19: 1 | BI19: 1 | BJ19: 2 | BK19: 12 | BL19: 2 | BM19: 39
... A33: 連江縣 | C33: 2 | D33: 1 | E33: 0 | F33: 0 | G33: 0 | H33: 0 | I33: 1 | J33: 0 | K33: 0 | L33: 0 | M33: 0 | N33: 0 | O33: 0 | P33: 1 | Q33: 0 | R33: 0 | S33: 0 | T33: 0 | U33: 0 | V33: 0 | W33: 0 | X33: 0 | Y33: 0 | Z33: 0 | AA33: 0 | AB33: 0 | AC33: 0 | AD33: 0 | AE33: 1 | AF33: 0 | AG33: 0 | AH33: 0 | AI33: 0 | AJ33: 1 | AK33: 1 | AL33: 1 | AM33: 0 | AN33: 0 | AO33: 0 | AP33: 0 | AQ33: 0 | AR33: 0 | AS33: 0 | AT33: 0 | AU33: 0 | AV33: 0 | AW33: 0 | AX33: 0 | AY33: 0 | AZ33: 0 | BA33: 0 | BB33: 0 | BC33: 0 | BD33: 0 | BE33: 0 | BF33: 0 | BG33: 0 | BH33: 0 | BI33: 0 | BJ33: 0 | BK33: 0 | BL33: 0 | BM33: 0
A34: 資料來源：內政部家庭暴力及性侵害防治委員會。

Sheet 97
A1: 5.2-01 性侵害事件通報案件統計
A3: 單位：件次；件數
A4: 區域別 | C4: 通報件次(複選) | P4: 通報件數 | AJ4: 通報件數
C5: 通報單位別 | P5: 被害及加害者兩造關係別 | AJ5: 案發地點別
AJ6: 合計 | AK6: 私人住所 | AS6: 非私人住所 | BM6: 不 詳
C7: 合計 | D7: 113 | E7: 防治中心 | F7: 教育 | G7: 社政 | H7: 勞政 | I7: 警政 | J7: 司(軍)法 | K7: 衛生 | L7: 診所 | M7: 醫院 | N7: 憲兵隊 | O7: 其他 | P7: 合計 | Q7: 配偶 | R7: 前配偶 | S7: 鄰居 | T7: 網友 | U7: 直系 血親 | V7: 男(女)朋友 | W7: 前男(女) 朋友 | X7: 未婚 夫/妻 | Y7: 普通 朋友 | Z7: 旁系 親屬 | AA7: 師生 關係 | AB7: 家人的朋友 | AC7: 客戶 關係 | AD7: 同學 | AE7: 同事 | AF7: 上司/下屬 | AG7: 不認識 | AH7: 其他 | AI7: 不詳 | AK7: 小計 | AL7: 被害人 住所 | AM7: 被（加） 害人親友 住處 | AN7: 加害人 住所 | AO7: 汽車 | AP7: 旅館 房間 | AQ7: 他人 住所 | AR7: 不詳 | AS7: 小計 | AT7: 空屋 | AU7: 地下室 | AV7: 頂樓 陽台 | AW7: 電梯 | AX7: 工地 | AY7: 停車場 | AZ7: 計程車 | BA7: 馬路邊 | BB7: 娛樂 場所 | BC7: 荒野 | BD7: 大眾運 輸工具 | BE7: 學校/ 教室 | BF7: 宿舍 | BG7: 公共 廁所 | BH7: 辦公 場所 | BI7: 工廠 | BJ7: 河/海邊 | BK7: 其他 | BL7: 不詳
A8: 97年 2008 | C8: 10260 | D8: 1681 | E8: 73 | F8: 1789 | G8: 455 | H8: 12 | I8: 2807 | J8: 43 | K8: 11 | L8: 16 | M8: 3266 | N8: 0 | O8: 107 | P8: 8521 | Q8: 55 | R8: 51 | S8: 228 | T8: 694 | U8: 728 | V8: 1403 | W8: 314 | X8: 5 | Y8: 892 | Z8: 468 | AA8: 93 | AB8: 234 | AC8: 146 | AD8: 402 | AE8: 132 | AF8: 226 | AG8: 761 | AH8: 908 | AI8: 781 | AJ8: 8521 | AK8: 5446 | AL8: 1736 | AM8: 224 | AN8: 2304 | AO8: 106 | AP8: 852 | AQ8: 140 | AR8: 84 | AS8: 1392 | AT8: 26 | AU8: 10 | AV8: 11 | AW8: 14 | AX8: 13 | AY8: 26 | AZ8: 12 | BA8: 164 | BB8: 107 | BC8: 72 | BD8: 22 | BE8: 278 | BF8: 36 | BG8: 79 | BH8: 67 | BI8: 20 | BJ8: 34 | BK8: 346 | BL8: 55 | BM8: 1683
A9: 臺北縣 | C9: 1789 | D9: 270 | E9: 0 | F9: 350 | G9: 43 | H9: 3 | I9: 433 | J9: 6 | K9: 0 | L9: 0 | M9: 680 | N9: 0 | O9: 4 | P9: 1485 | Q9: 12 | R9: 15 | S9: 21 | T9: 169 | U9: 116 | V9: 268 | W9: 56 | X9: 0 | Y9: 201 | Z9: 61 | AA9: 5 | AB9: 37 | AC9: 21 | AD9: 80 | AE9: 21 | AF9: 55 | AG9: 146 | AH9: 120 | AI9: 81 | AJ9: 1485 | AK9: 972 | AL9: 293 | AM9: 47 | AN9: 400 | AO9: 14 | AP9: 169 | AQ9: 34 | AR9: 15 | AS9: 218 | AT9: 1 | AU9: 1 | AV9: 2 | AW9: 1 | AX9: 0 | AY9: 6 | AZ9: 6 | BA9: 36 | BB9: 22 | BC9: 8 | BD9: 6 | BE9: 44 | BF9: 6 | BG9: 12 | BH9: 15 | BI9: 2 | BJ9: 5 | BK9: 37 | BL9: 8 | BM9: 295
A10: 宜蘭縣 | C10: 234 | D10: 29 | E10: 0 | F10: 51 | G10: 12 | H10: 0 | I10: 70 | J10: 0 | K10: 1 | L10: 0 | M10: 67 | N10: 0 | O10: 4 | P10: 204 | Q10: 2 | R10: 1 | S10: 16 | T10: 9 | U10: 13 | V10: 55 | W10: 10 | X10: 2 | Y10: 20 | Z10: 12 | AA10: 1 | AB10: 4 | AC10: 0 | AD10: 7 | AE10: 3 | AF10: 8 | AG10: 13 | AH10: 14 | AI10: 14 | AJ10: 204 | AK10: 128 | AL10: 39 | AM10: 6 | AN10: 57 | AO10: 3 | AP10: 14 | AQ10: 4 | AR10: 5 | AS10: 41 | AT10: 0 | AU10: 0 | AV10: 0 | AW10: 1 | AX10: 1 | AY10: 0 | AZ10: 0 | BA10: 4 | BB10: 0 | BC10: 5 | BD10: 3 | BE10: 4 | BF10: 1 | BG10: 1 | BH10: 3 | BI10: 0 | BJ10: 4 | BK10: 10 | BL10: 4 | BM10: 35
A11: 桃園縣 | C11: 1344 | D11: 180 | E11: 20 | F11: 207 | G11: 43 | H11: 4 | I11: 359 | J11: 20 | K11: 1 | L11: 1 | M11: 504 | N11: 0 | O11: 5 | P11: 1108 | Q11: 7 | R11: 3 | S11: 22 | T11: 102 | U11: 105 | V11: 217 | W11: 41 | X11: 0 | Y11: 99 | Z11: 51 | AA11: 13 | AB11: 13 | AC11: 18 | AD11: 50 | AE11: 31 | AF11: 22 | AG11: 113 | AH11: 114 | AI11: 87 | AJ11: 1108 | AK11: 750 | AL11: 229 | AM11: 30 | AN11: 315 | AO11: 13 | AP11: 127 | AQ11: 22 | AR11: 14 | AS11: 175 | AT11: 4 | AU11: 2 | AV11: 1 | AW11: 5 | AX11: 1 | AY11: 3 | AZ11: 1 | BA11: 29 | BB11: 12 | BC11: 8 | BD11: 1 | BE11: 35 | BF11: 6 | BG11: 6 | BH11: 6 | BI11: 3 | BJ11: 0 | BK11: 49 | BL11: 3 | BM11: 183
A12: 新竹縣 | C12: 347 | D12: 63 | E12: 1 | F12: 75 | G12: 5 | H12: 0 | I12: 105 | J12: 0 | K12: 1 | L12: 0 | M12: 95 | N12: 0 | O12: 2 | P12: 293 | Q12: 3 | R12: 0 | S12: 4 | T12: 16 | U12: 33 | V12: 62 | W12: 9 | X12: 0 | Y12: 27 | Z12: 23 | AA12: 3 | AB12: 4 | AC12: 3 | AD12: 7 | AE12: 3 | AF12: 6 | AG12: 32 | AH12: 31 | AI12: 27 | AJ12: 293 | AK12: 207 | AL12: 71 | AM12: 14 | AN12: 79 | AO12: 5 | AP12: 29 | AQ12: 8 | AR12: 1 | AS12: 44 | AT12: 1 | AU12: 0 | AV12: 0 | AW12: 0 | AX12: 1 | AY12: 0 | AZ12: 0 | BA12: 4 | BB12: 0 | BC12: 2 | BD12: 0 | BE12: 7 | BF12: 1 | BG12: 3 | BH12: 1 | BI12: 0 | BJ12: 1 | BK12: 17 | BL12: 6 | BM12: 42
A13: 苗栗縣 | C13: 312 | D13: 47 | E13: 1 | F13: 61 | G13: 21 | H13: 0 | I13: 82 | J13: 0 | K13: 2 | L13: 3 | M13: 93 | N13: 0 | O13: 2 | P13: 263 | Q13: 0 | R13: 0 | S13: 8 | T13: 9 | U13: 19 | V13: 52 | W13: 6 | X13: 1 | Y13: 41 | Z13: 18 | AA13: 4 | AB13: 13 | AC13: 2 | AD13: 6 | AE13: 5 | AF13: 6 | AG13: 22 | AH13: 22 | AI13: 29 | AJ13: 263 | AK13: 174 | AL13: 50 | AM13: 12 | AN13: 81 | AO13: 1 | AP13: 23 | AQ13: 5 | AR13: 2 | AS13: 39 | AT13: 2 | AU13: 0 | AV13: 1 | AW13: 0 | AX13: 0 | AY13: 0 | AZ13: 0 | BA13: 5 | BB13: 2 | BC13: 5 | BD13: 2 | BE13: 5 | BF13: 0 | BG13: 2 | BH13: 2 | BI13: 2 | BJ13: 0 | BK13: 10 | BL13: 1 | BM13: 50
A14: 臺中縣 | C14: 321 | D14: 121 | E14: 1 | F14: 26 | G14: 4 | H14: 0 | I14: 81 | J14: 0 | K14: 0 | L14: 0 | M14: 86 | N14: 0 | O14: 2 | P14: 270 | Q14: 1 | R14: 5 | S14: 7 | T14: 16 | U14: 28 | V14: 25 | W14: 8 | X14: 0 | Y14: 36 | Z14: 16 | AA14: 3 | AB14: 5 | AC14: 6 | AD14: 14 | AE14: 5 | AF14: 13 | AG14: 24 | AH14: 43 | AI14: 15 | AJ14: 270 | AK14: 170 | AL14: 69 | AM14: 7 | AN14: 60 | AO14: 4 | AP14: 25 | AQ14: 5 | AR14: 0 | AS14: 41 | AT14: 1 | AU14: 0 | AV14: 0 | AW14: 0 | AX14: 1 | AY14: 1 | AZ14: 0 | BA14: 4 | BB14: 3 | BC14: 7 | BD14: 1 | BE14: 6 | BF14: 0 | BG14: 2 | BH14: 1 | BI14: 1 | BJ14: 0 | BK14: 13 | BL14: 0 | BM14: 59
A15: 彰化縣 | C15: 465 | D15: 62 | E15: 1 | F15: 52 | G15: 18 | H15: 0 | I15: 165 | J15: 3 | K15: 1 | L15: 0 | M15: 159 | N15: 0 | O15: 4 | P15: 376 | Q15: 3 | R15: 4 | S15: 15 | T15: 33 | U15: 20 | V15: 47 | W15: 10 | X15: 1 | Y15: 42 | Z15: 29 | AA15: 8 | AB15: 16 | AC15: 3 | AD15: 17 | AE15: 6 | AF15: 10 | AG15: 29 | AH15: 28 | AI15: 55 | AJ15: 376 | AK15: 260 | AL15: 82 | AM15: 7 | AN15: 121 | AO15: 3 | AP15: 44 | AQ15: 1 | AR15: 2 | AS15: 50 | AT15: 5 | AU15: 0 | AV15: 0 | AW15: 0 | AX15: 0 | AY15: 3 | AZ15: 0 | BA15: 8 | BB15: 2 | BC15: 4 | BD15: 0 | BE15: 10 | BF15: 2 | BG15: 4 | BH15: 0 | BI15: 1 | BJ15: 0 | BK15: 9 | BL15: 2 | BM15: 66
A16: 南投縣 | C16: 215 | D16: 55 | E16: 1 | F16: 28 | G16: 8 | H16: 1 | I16: 47 | J16: 0 | K16: 0 | L16: 1 | M16: 70 | N16: 0 | O16: 4 | P16: 165 | Q16: 0 | R16: 0 | S16: 5 | T16: 8 | U16: 14 | V16: 22 | W16: 6 | X16: 0 | Y16: 10 | Z16: 0 | AA16: 3 | AB16: 7 | AC16: 1 | AD16: 6 | AE16: 3 | AF16: 7 | AG16: 3 | AH16: 13 | AI16: 57 | AJ16: 165 | AK16: 88 | AL16: 35 | AM16: 0 | AN16: 38 | AO16: 4 | AP16: 7 | AQ16: 0 | AR16: 4 | AS16: 19 | AT16: 2 | AU16: 0 | AV16: 0 | AW16: 1 | AX16: 0 | AY16: 0 | AZ16: 0 | BA16: 0 | BB16: 0 | BC16: 5 | BD16: 0 | BE16: 3 | BF16: 0 | BG16: 1 | BH16: 1 | BI16: 0 | BJ16: 0 | BK16: 5 | BL16: 1 | BM16: 58
A17: 雲林縣 | C17: 181 | D17: 37 | E17: 0 | F17: 22 | G17: 5 | H17: 0 | I17: 56 | J17: 1 | K17: 1 | L17: 0 | M17: 55 | N17: 0 | O17: 4 | P17: 158 | Q17: 1 | R17: 1 | S17: 6 | T17: 11 | U17: 17 | V17: 19 | W17: 4 | X17: 0 | Y17: 17 | Z17: 3 | AA17: 1 | AB17: 5 | AC17: 2 | AD17: 2 | AE17: 0 | AF17: 3 | AG17: 15 | AH17: 25 | AI17: 26 | AJ17: 158 | AK17: 94 | AL17: 35 | AM17: 4 | AN17: 42 | AO17: 3 | AP17: 10 | AQ17: 0 | AR17: 0 | AS17: 26 | AT17: 0 | AU17: 0 | AV17: 0 | AW17: 0 | AX17: 0 | AY17: 1 | AZ17: 1 | BA17: 5 | BB17: 4 | BC17: 3 | BD17: 1 | BE17: 2 | BF17: 1 | BG17: 2 | BH17: 0 | BI17: 1 | BJ17: 1 | BK17: 3 | BL17: 1 | BM17: 38
A18: 嘉義縣 | C18: 155 | D18: 24 | E18: 0 | F18: 17 | G18: 5 | H18: 0 | I18: 30 | J18: 0 | K18: 0 | L18: 0 | M18: 79 | N18: 0 | O18: 0 | P18: 130 | Q18: 2 | R18: 2 | S18: 5 | T18: 11 | U18: 11 | V18: 34 | W18: 0 | X18: 0 | Y18: 7 | Z18: 4 | AA18: 0 | AB18: 4 | AC18: 2 | AD18: 6 | AE18: 0 | AF18: 1 | AG18: 5 | AH18: 9 | AI18: 27 | AJ18: 130 | AK18: 72 | AL18: 18 | AM18: 5 | AN18: 34 | AO18: 1 | AP18: 8 | AQ18: 4 | AR18: 2 | AS18: 25 | AT18: 0 | AU18: 0 | AV18: 0 | AW18: 0 | AX18: 2 | AY18: 0 | AZ18: 0 | BA18: 1 | BB18: 1 | BC18: 2 | BD18: 0 | BE18: 5 | BF18: 1 | BG18: 0 | BH18: 0 | BI18: 0 | BJ18: 1 | BK18: 7 | BL18: 5 | BM18: 33
A19: 臺南縣 | C19: 279 | D19: 53 | E19: 0 | F19: 42 | G19: 5 | H19: 1 | I19: 82 | J19: 1 | K19: 0 | L19: 3 | M19: 87 | N19: 0 | O19: 5 | P19: 241 | Q19: 4 | R19: 2 | S19: 3 | T19: 16 | U19: 23 | V19: 35 | W19: 6 | X19: 0 | Y19: 12 | Z19: 13 | AA19: 8 | AB19: 9 | AC19: 1 | AD19: 12 | AE19: 2 | AF19: 4 | AG19: 18 | AH19: 37 | AI19: 36 | AJ19: 241 | AK19: 149 | AL19: 53 | AM19: 6 | AN19: 68 | AO19: 3 | AP19: 12 | AQ19: 4 | AR19: 3 | AS19: 45 | AT19: 0 | AU19: 0 | AV19: 1 | AW19: 0 | AX19: 0 | AY19: 0 | AZ19: 0 | BA19: 3 | BB19: 1 | BC19: 1 | BD19: 1 | BE19: 17 | BF19: 0 | BG19: 1 | BH19: 0 | BI19: 1 | BJ19: 1 | BK19: 17 | BL19: 1 | BM19: 47
... A33: 連江縣 | C33: 1 | D33: 0 | E33: 0 | F33: 0 | G33: 0 | H33: 0 | I33: 1 | J33: 0 | K33: 0 | L33: 0 | M33: 0 | N33: 0 | O33: 0 | P33: 1 | Q33: 0 | R33: 0 | S33: 0 | T33: 0 | U33: 0 | V33: 0 | W33: 0 | X33: 0 | Y33: 0 | Z33: 0 | AA33: 0 | AB33: 1 | AC33: 0 | AD33: 0 | AE33: 0 | AF33: 0 | AG33: 0 | AH33: 0 | AI33: 0 | AJ33: 1 | AK33: 0 | AL33: 0 | AM33: 0 | AN33: 0 | AO33: 0 | AP33: 0 | AQ33: 0 | AR33: 0 | AS33: 1 | AT33: 0 | AU33: 0 | AV33: 0 | AW33: 0 | AX33: 1 | AY33: 0 | AZ33: 0 | BA33: 0 | BB33: 0 | BC33: 0 | BD33: 0 | BE33: 0 | BF33: 0 | BG33: 0 | BH33: 0 | BI33: 0 | BJ33: 0 | BK33: 0 | BL33: 0 | BM33: 0
A34: 資料來源：內政部家庭暴力及性侵害防治委員會。

Sheet 96
A1: 5.2-01 性侵害事件通報案件統計
A3: 單位：件次；件數
A4: 區域別 | C4: 通報件次(複選) | P4: 通報件數 | AJ4: 通報件數
C5: 通報單位別 | P5: 被害及加害者兩造關係別 | AJ5: 案發地點別
AJ6: 合計 | AK6: 私人住所 | AS6: 非私人住所 | BM6: 不 詳
C7: 合計 | D7: 113 | E7: 防治中心 | F7: 教育 | G7: 社政 | H7: 勞政 | I7: 警政 | J7: 司(軍)法 | K7: 衛生 | L7: 診所 | M7: 醫院 | N7: 憲兵隊 | O7: 其他 | P7: 合計 | Q7: 配偶 | R7: 前配偶 | S7: 鄰居 | T7: 網友 | U7: 直系 血親 | V7: 男(女)朋友 | W7: 前男(女) 朋友 | X7: 未婚 夫/妻 | Y7: 普通 朋友 | Z7: 旁系 親屬 | AA7: 師生 關係 | AB7: 家人的朋友 | AC7: 客戶 關係 | AD7: 同學 | AE7: 同事 | AF7: 上司/下屬 | AG7: 不認識 | AH7: 其他 | AI7: 不詳 | AK7: 小計 | AL7: 被害人 住所 | AM7: 被（加） 害人親友 住處 | AN7: 加害人 住所 | AO7: 汽車 | AP7: 旅館 房間 | AQ7: 他人 住所 | AR7: 不詳 | AS7: 小計 | AT7: 空屋 | AU7: 地下室 | AV7: 頂樓 陽台 | AW7: 電梯 | AX7: 工地 | AY7: 停車場 | AZ7: 計程車 | BA7: 馬路邊 | BB7: 娛樂 場所 | BC7: 荒野 | BD7: 大眾運 輸工具 | BE7: 學校/ 教室 | BF7: 宿舍 | BG7: 公共 廁所 | BH7: 辦公 場所 | BI7: 工廠 | BJ7: 河/海邊 | BK7: 其他 | BL7: 不詳
A8: 96年 2007 | C8: 9375 | D8: 1019 | E8: 58 | F8: 1462 | G8: 398 | H8: 12 | I8: 2927 | J8: 50 | K8: 15 | L8: 18 | M8: 3316 | N8: 3 | O8: 97 | P8: 7703 | Q8: 42 | R8: 26 | S8: 229 | T8: 718 | U8: 631 | V8: 1199 | W8: 293 | X8: 6 | Y8: 799 | Z8: 338 | AA8: 108 | AB8: 214 | AC8: 122 | AD8: 330 | AE8: 114 | AF8: 169 | AG8: 750 | AH8: 747 | AI8: 868 | AJ8: 7703 | AK8: 4886 | AL8: 1505 | AM8: 199 | AN8: 2097 | AO8: 101 | AP8: 783 | AQ8: 136 | AR8: 65 | AS8: 1361 | AT8: 38 | AU8: 5 | AV8: 9 | AW8: 5 | AX8: 13 | AY8: 28 | AZ8: 16 | BA8: 182 | BB8: 115 | BC8: 58 | BD8: 24 | BE8: 281 | BF8: 39 | BG8: 98 | BH8: 52 | BI8: 15 | BJ8: 26 | BK8: 322 | BL8: 35 | BM8: 1456
A9: 臺北縣 | C9: 1690 | D9: 176 | E9: 0 | F9: 293 | G9: 38 | H9: 3 | I9: 458 | J9: 9 | K9: 0 | L9: 0 | M9: 712 | N9: 0 | O9: 1 | P9: 1401 | Q9: 4 | R9: 3 | S9: 34 | T9: 172 | U9: 106 | V9: 232 | W9: 50 | X9: 3 | Y9: 173 | Z9: 59 | AA9: 20 | AB9: 33 | AC9: 24 | AD9: 57 | AE9: 21 | AF9: 32 | AG9: 163 | AH9: 126 | AI9: 89 | AJ9: 1401 | AK9: 941 | AL9: 274 | AM9: 39 | AN9: 412 | AO9: 13 | AP9: 160 | AQ9: 35 | AR9: 8 | AS9: 233 | AT9: 2 | AU9: 3 | AV9: 5 | AW9: 3 | AX9: 1 | AY9: 4 | AZ9: 4 | BA9: 34 | BB9: 22 | BC9: 9 | BD9: 6 | BE9: 39 | BF9: 6 | BG9: 22 | BH9: 11 | BI9: 5 | BJ9: 1 | BK9: 54 | BL9: 2 | BM9: 227
A10: 宜蘭縣 | C10: 248 | D10: 14 | E10: 0 | F10: 42 | G10: 13 | H10: 0 | I10: 73 | J10: 1 | K10: 1 | L10: 0 | M10: 101 | N10: 0 | O10: 3 | P10: 216 | Q10: 2 | R10: 0 | S10: 9 | T10: 16 | U10: 17 | V10: 45 | W10: 5 | X10: 1 | Y10: 14 | Z10: 4 | AA10: 4 | AB10: 2 | AC10: 2 | AD10: 8 | AE10: 3 | AF10: 3 | AG10: 9 | AH10: 26 | AI10: 46 | AJ10: 216 | AK10: 131 | AL10: 39 | AM10: 8 | AN10: 60 | AO10: 3 | AP10: 17 | AQ10: 3 | AR10: 1 | AS10: 30 | AT10: 3 | AU10: 0 | AV10: 0 | AW10: 0 | AX10: 0 | AY10: 0 | AZ10: 0 | BA10: 4 | BB10: 2 | BC10: 0 | BD10: 1 | BE10: 7 | BF10: 0 | BG10: 1 | BH10: 1 | BI10: 0 | BJ10: 0 | BK10: 11 | BL10: 0 | BM10: 55
A11: 桃園縣 | C11: 1205 | D11: 103 | E11: 7 | F11: 154 | G11: 45 | H11: 3 | I11: 369 | J11: 21 | K11: 2 | L11: 1 | M11: 485 | N11: 0 | O11: 15 | P11: 994 | Q11: 5 | R11: 4 | S11: 33 | T11: 89 | U11: 104 | V11: 140 | W11: 33 | X11: 0 | Y11: 117 | Z11: 42 | AA11: 7 | AB11: 25 | AC11: 11 | AD11: 33 | AE11: 18 | AF11: 33 | AG11: 85 | AH11: 97 | AI11: 118 | AJ11: 994 | AK11: 691 | AL11: 187 | AM11: 27 | AN11: 313 | AO11: 15 | AP11: 111 | AQ11: 20 | AR11: 18 | AS11: 149 | AT11: 7 | AU11: 0 | AV11: 1 | AW11: 0 | AX11: 1 | AY11: 4 | AZ11: 2 | BA11: 23 | BB11: 11 | BC11: 7 | BD11: 3 | BE11: 21 | BF11: 1 | BG11: 4 | BH11: 2 | BI11: 2 | BJ11: 1 | BK11: 57 | BL11: 2 | BM11: 154
A12: 新竹縣 | C12: 323 | D12: 14 | E12: 1 | F12: 51 | G12: 11 | H12: 0 | I12: 131 | J12: 0 | K12: 0 | L12: 0 | M12: 112 | N12: 0 | O12: 3 | P12: 238 | Q12: 1 | R12: 0 | S12: 14 | T12: 18 | U12: 27 | V12: 42 | W12: 6 | X12: 0 | Y12: 29 | Z12: 13 | AA12: 0 | AB12: 10 | AC12: 2 | AD12: 8 | AE12: 0 | AF12: 9 | AG12: 30 | AH12: 23 | AI12: 6 | AJ12: 238 | AK12: 185 | AL12: 51 | AM12: 10 | AN12: 94 | AO12: 5 | AP12: 21 | AQ12: 2 | AR12: 2 | AS12: 37 | AT12: 1 | AU12: 0 | AV12: 0 | AW12: 0 | AX12: 1 | AY12: 0 | AZ12: 0 | BA12: 3 | BB12: 0 | BC12: 4 | BD12: 0 | BE12: 6 | BF12: 1 | BG12: 4 | BH12: 1 | BI12: 1 | BJ12: 1 | BK12: 7 | BL12: 7 | BM12: 16
A13: 苗栗縣 | C13: 218 | D13: 32 | E13: 0 | F13: 23 | G13: 8 | H13: 1 | I13: 46 | J13: 1 | K13: 1 | L13: 4 | M13: 96 | N13: 0 | O13: 6 | P13: 165 | Q13: 0 | R13: 1 | S13: 14 | T13: 8 | U13: 7 | V13: 25 | W13: 3 | X13: 0 | Y13: 8 | Z13: 17 | AA13: 0 | AB13: 4 | AC13: 4 | AD13: 3 | AE13: 3 | AF13: 5 | AG13: 9 | AH13: 17 | AI13: 37 | AJ13: 165 | AK13: 94 | AL13: 38 | AM13: 2 | AN13: 31 | AO13: 3 | AP13: 15 | AQ13: 4 | AR13: 1 | AS13: 25 | AT13: 1 | AU13: 0 | AV13: 0 | AW13: 0 | AX13: 0 | AY13: 0 | AZ13: 0 | BA13: 0 | BB13: 2 | BC13: 0 | BD13: 1 | BE13: 3 | BF13: 2 | BG13: 4 | BH13: 1 | BI13: 0 | BJ13: 1 | BK13: 8 | BL13: 2 | BM13: 46
A14: 臺中縣 | C14: 430 | D14: 78 | E14: 3 | F14: 63 | G14: 15 | H14: 0 | I14: 111 | J14: 1 | K14: 2 | L14: 2 | M14: 150 | N14: 0 | O14: 5 | P14: 374 | Q14: 2 | R14: 2 | S14: 8 | T14: 33 | U14: 36 | V14: 53 | W14: 15 | X14: 0 | Y14: 41 | Z14: 15 | AA14: 5 | AB14: 11 | AC14: 1 | AD14: 9 | AE14: 16 | AF14: 9 | AG14: 28 | AH14: 44 | AI14: 46 | AJ14: 374 | AK14: 240 | AL14: 79 | AM14: 12 | AN14: 105 | AO14: 4 | AP14: 30 | AQ14: 5 | AR14: 5 | AS14: 67 | AT14: 0 | AU14: 0 | AV14: 0 | AW14: 0 | AX14: 3 | AY14: 1 | AZ14: 1 | BA14: 6 | BB14: 6 | BC14: 4 | BD14: 2 | BE14: 15 | BF14: 3 | BG14: 5 | BH14: 1 | BI14: 2 | BJ14: 0 | BK14: 16 | BL14: 2 | BM14: 67
A15: 彰化縣 | C15: 492 | D15: 61 | E15: 0 | F15: 41 | G15: 12 | H15: 0 | I15: 170 | J15: 7 | K15: 0 | L15: 0 | M15: 194 | N15: 0 | O15: 7 | P15: 409 | Q15: 4 | R15: 5 | S15: 10 | T15: 46 | U15: 38 | V15: 59 | W15: 19 | X15: 1 | Y15: 41 | Z15: 19 | AA15: 4 | AB15: 15 | AC15: 3 | AD15: 17 | AE15: 7 | AF15: 9 | AG15: 34 | AH15: 34 | AI15: 44 | AJ15: 409 | AK15: 261 | AL15: 78 | AM15: 13 | AN15: 127 | AO15: 4 | AP15: 30 | AQ15: 7 | AR15: 2 | AS15: 71 | AT15: 2 | AU15: 0 | AV15: 0 | AW15: 0 | AX15: 1 | AY15: 3 | AZ15: 0 | BA15: 9 | BB15: 6 | BC15: 3 | BD15: 0 | BE15: 19 | BF15: 3 | BG15: 4 | BH15: 3 | BI15: 2 | BJ15: 2 | BK15: 11 | BL15: 3 | BM15: 77
A16: 南投縣 | C16: 179 | D16: 36 | E16: 1 | F16: 24 | G16: 6 | H16: 0 | I16: 42 | J16: 0 | K16: 1 | L16: 0 | M16: 65 | N16: 0 | O16: 4 | P16: 137 | Q16: 2 | R16: 0 | S16: 3 | T16: 16 | U16: 8 | V16: 28 | W16: 7 | X16: 0 | Y16: 19 | Z16: 6 | AA16: 0 | AB16: 4 | AC16: 0 | AD16: 3 | AE16: 2 | AF16: 2 | AG16: 8 | AH16: 13 | AI16: 16 | AJ16: 137 | AK16: 89 | AL16: 33 | AM16: 3 | AN16: 33 | AO16: 4 | AP16: 11 | AQ16: 4 | AR16: 1 | AS16: 19 | AT16: 0 | AU16: 0 | AV16: 0 | AW16: 0 | AX16: 0 | AY16: 1 | AZ16: 0 | BA16: 6 | BB16: 0 | BC16: 1 | BD16: 0 | BE16: 4 | BF16: 1 | BG16: 1 | BH16: 1 | BI16: 0 | BJ16: 0 | BK16: 4 | BL16: 0 | BM16: 29
A17: 雲林縣 | C17: 62 | D17: 21 | E17: 0 | F17: 11 | G17: 3 | H17: 0 | I17: 12 | J17: 0 | K17: 0 | L17: 0 | M17: 14 | N17: 0 | O17: 1 | P17: 60 | Q17: 0 | R17: 0 | S17: 4 | T17: 2 | U17: 9 | V17: 8 | W17: 1 | X17: 0 | Y17: 5 | Z17: 5 | AA17: 1 | AB17: 1 | AC17: 0 | AD17: 2 | AE17: 0 | AF17: 0 | AG17: 8 | AH17: 4 | AI17: 10 | AJ17: 60 | AK17: 34 | AL17: 11 | AM17: 0 | AN17: 16 | AO17: 2 | AP17: 3 | AQ17: 0 | AR17: 2 | AS17: 8 | AT17: 0 | AU17: 0 | AV17: 0 | AW17: 0 | AX17: 0 | AY17: 0 | AZ17: 0 | BA17: 1 | BB17: 0 | BC17: 0 | BD17: 2 | BE17: 0 | BF17: 0 | BG17: 1 | BH17: 0 | BI17: 0 | BJ17: 0 | BK17: 2 | BL17: 2 | BM17: 18
A18: 嘉義縣 | C18: 163 | D18: 18 | E18: 0 | F18: 20 | G18: 2 | H18: 0 | I18: 53 | J18: 1 | K18: 0 | L18: 0 | M18: 68 | N18: 0 | O18: 1 | P18: 144 | Q18: 1 | R18: 1 | S18: 8 | T18: 9 | U18: 9 | V18: 22 | W18: 2 | X18: 0 | Y18: 18 | Z18: 9 | AA18: 0 | AB18: 1 | AC18: 2 | AD18: 2 | AE18: 3 | AF18: 2 | AG18: 18 | AH18: 15 | AI18: 22 | AJ18: 144 | AK18: 90 | AL18: 27 | AM18: 6 | AN18: 40 | AO18: 2 | AP18: 14 | AQ18: 0 | AR18: 1 | AS18: 23 | AT18: 2 | AU18: 0 | AV18: 0 | AW18: 0 | AX18: 0 | AY18: 0 | AZ18: 0 | BA18: 8 | BB18: 0 | BC18: 4 | BD18: 0 | BE18: 3 | BF18: 0 | BG18: 0 | BH18: 0 | BI18: 0 | BJ18: 3 | BK18: 3 | BL18: 0 | BM18: 31
A19: 臺南縣 | C19: 246 | D19: 32 | E19: 0 | F19: 28 | G19: 3 | H19: 1 | I19: 96 | J19: 0 | K19: 0 | L19: 3 | M19: 81 | N19: 0 | O19: 2 | P19: 213 | Q19: 1 | R19: 0 | S19: 9 | T19: 19 | U19: 7 | V19: 32 | W19: 7 | X19: 0 | Y19: 25 | Z19: 6 | AA19: 3 | AB19: 8 | AC19: 3 | AD19: 4 | AE19: 3 | AF19: 6 | AG19: 20 | AH19: 19 | AI19: 41 | AJ19: 213 | AK19: 144 | AL19: 49 | AM19: 5 | AN19: 53 | AO19: 4 | AP19: 26 | AQ19: 4 | AR19: 3 | AS19: 33 | AT19: 1 | AU19: 0 | AV19: 0 | AW19: 0 | AX19: 0 | AY19: 0 | AZ19: 0 | BA19: 5 | BB19: 1 | BC19: 2 | BD19: 1 | BE19: 7 | BF19: 1 | BG19: 4 | BH19: 3 | BI19: 1 | BJ19: 1 | BK19: 5 | BL19: 1 | BM19: 36
... A33: 連江縣 | C33: 0 | D33: 0 | E33: 0 | F33: 0 | G33: 0 | H33: 0 | I33: 0 | J33: 0 | K33: 0 | L33: 0 | M33: 0 | N33: 0 | O33: 0 | P33: 0 | Q33: 0 | R33: 0 | S33: 0 | T33: 0 | U33: 0 | V33: 0 | W33: 0 | X33: 0 | Y33: 0 | Z33: 0 | AA33: 0 | AB33: 0 | AC33: 0 | AD33: 0 | AE33: 0 | AF33: 0 | AG33: 0 | AH33: 0 | AI33: 0 | AJ33: 0 | AK33: 0 | AL33: 0 | AM33: 0 | AN33: 0 | AO33: 0 | AP33: 0 | AQ33: 0 | AR33: 0 | AS33: 0 | AT33: 0 | AU33: 0 | AV33: 0 | AW33: 0 | AX33: 0 | AY33: 0 | AZ33: 0 | BA33: 0 | BB33: 0 | BC33: 0 | BD33: 0 | BE33: 0 | BF33: 0 | BG33: 0 | BH33: 0 | BI33: 0 | BJ33: 0 | BK33: 0 | BL33: 0 | BM33: 0
A34: 資料來源：內政部家庭暴力及性侵害防治委員會。

Sheet 95
A1: 5.2-01 性侵害事件通報案件統計
A3: 單位：件次；件數
A4: 區域別 | C4: 通報件次(複選) | P4: 通報件數 | AJ4: 通報件數
C5: 通報單位別 | P5: 被害及加害者兩造關係別 | AJ5: 案發地點別
AJ6: 合計 | AK6: 私人住所 | AS6: 非私人住所 | BM6: 不 詳
C7: 合計 | D7: 113 | E7: 防治中心 | F7: 教育 | G7: 社政 | H7: 勞政 | I7: 警政 | J7: 司(軍)法 | K7: 衛生 | L7: 診所 | M7: 醫院 | N7: 憲兵隊 | O7: 其他 | P7: 合計 | Q7: 配偶 | R7: 前配偶 | S7: 鄰居 | T7: 網友 | U7: 直系 血親 | V7: 男(女)朋友 | W7: 前男(女) 朋友 | X7: 未婚 夫/妻 | Y7: 普通 朋友 | Z7: 旁系 親屬 | AA7: 師生 關係 | AB7: 家人的朋友 | AC7: 客戶 關係 | AD7: 同學 | AE7: 同事 | AF7: 上司/下屬 | AG7: 不認識 | AH7: 其他 | AI7: 不詳 | AK7: 小計 | AL7: 被害人 住所 | AM7: 被（加） 害人親友 住處 | AN7: 加害人 住所 | AO7: 汽車 | AP7: 旅館 房間 | AQ7: 他人 住所 | AR7: 不詳 | AS7: 小計 | AT7: 空屋 | AU7: 地下室 | AV7: 頂樓 陽台 | AW7: 電梯 | AX7: 工地 | AY7: 停車場 | AZ7: 計程車 | BA7: 馬路邊 | BB7: 娛樂 場所 | BC7: 荒野 | BD7: 大眾運 輸工具 | BE7: 學校/ 教室 | BF7: 宿舍 | BG7: 公共 廁所 | BH7: 辦公 場所 | BI7: 工廠 | BJ7: 河/海邊 | BK7: 其他 | BL7: 不詳
A8: 95年 2006 | C8: 8075 | D8: 660 | E8: 53 | F8: 1112 | G8: 291 | H8: 8 | I8: 2746 | J8: 172 | K8: 2 | L8: 10 | M8: 2967 | N8: 0 | O8: 54 | P8: 6602 | Q8: 65 | R8: 33 | S8: 199 | T8: 541 | U8: 523 | V8: 1056 | W8: 206 | X8: 2 | Y8: 697 | Z8: 277 | AA8: 87 | AB8: 180 | AC8: 143 | AD8: 270 | AE8: 112 | AF8: 100 | AG8: 712 | AH8: 603 | AI8: 796 | AJ8: 6602 | AK8: 4152 | AL8: 1283 | AM8: 148 | AN8: 1850 | AO8: 80 | AP8: 621 | AQ8: 126 | AR8: 44 | AS8: 1228 | AT8: 35 | AU8: 10 | AV8: 20 | AW8: 8 | AX8: 11 | AY8: 16 | AZ8: 7 | BA8: 191 | BB8: 109 | BC8: 83 | BD8: 12 | BE8: 206 | BF8: 42 | BG8: 79 | BH8: 38 | BI8: 15 | BJ8: 27 | BK8: 277 | BL8: 42 | BM8: 1222
A9: 臺北縣 | C9: 1374 | D9: 91 | E9: 0 | F9: 222 | G9: 32 | H9: 0 | I9: 385 | J9: 111 | K9: 0 | L9: 0 | M9: 532 | N9: 0 | O9: 1 | P9: 1146 | Q9: 12 | R9: 8 | S9: 23 | T9: 139 | U9: 73 | V9: 179 | W9: 41 | X9: 0 | Y9: 120 | Z9: 43 | AA9: 19 | AB9: 20 | AC9: 21 | AD9: 64 | AE9: 7 | AF9: 14 | AG9: 143 | AH9: 92 | AI9: 128 | AJ9: 1146 | AK9: 736 | AL9: 235 | AM9: 27 | AN9: 317 | AO9: 9 | AP9: 112 | AQ9: 25 | AR9: 11 | AS9: 188 | AT9: 3 | AU9: 1 | AV9: 11 | AW9: 1 | AX9: 1 | AY9: 3 | AZ9: 2 | BA9: 40 | BB9: 16 | BC9: 13 | BD9: 1 | BE9: 26 | BF9: 4 | BG9: 7 | BH9: 6 | BI9: 3 | BJ9: 2 | BK9: 37 | BL9: 11 | BM9: 222
A10: 宜蘭縣 | C10: 275 | D10: 11 | E10: 0 | F10: 42 | G10: 7 | H10: 0 | I10: 104 | J10: 0 | K10: 1 | L10: 1 | M10: 109 | N10: 0 | O10: 0 | P10: 230 | Q10: 3 | R10: 0 | S10: 6 | T10: 15 | U10: 23 | V10: 50 | W10: 8 | X10: 1 | Y10: 9 | Z10: 11 | AA10: 0 | AB10: 2 | AC10: 2 | AD10: 10 | AE10: 1 | AF10: 0 | AG10: 29 | AH10: 19 | AI10: 41 | AJ10: 230 | AK10: 147 | AL10: 36 | AM10: 7 | AN10: 85 | AO10: 2 | AP10: 10 | AQ10: 3 | AR10: 4 | AS10: 36 | AT10: 0 | AU10: 0 | AV10: 0 | AW10: 0 | AX10: 0 | AY10: 0 | AZ10: 0 | BA10: 7 | BB10: 1 | BC10: 6 | BD10: 0 | BE10: 3 | BF10: 0 | BG10: 1 | BH10: 1 | BI10: 1 | BJ10: 3 | BK10: 12 | BL10: 1 | BM10: 47
A11: 桃園縣 | C11: 852 | D11: 54 | E11: 2 | F11: 56 | G11: 14 | H11: 2 | I11: 287 | J11: 28 | K11: 0 | L11: 0 | M11: 401 | N11: 0 | O11: 8 | P11: 716 | Q11: 11 | R11: 9 | S11: 16 | T11: 58 | U11: 48 | V11: 130 | W11: 23 | X11: 0 | Y11: 77 | Z11: 21 | AA11: 3 | AB11: 12 | AC11: 17 | AD11: 21 | AE11: 17 | AF11: 15 | AG11: 71 | AH11: 65 | AI11: 102 | AJ11: 716 | AK11: 472 | AL11: 126 | AM11: 14 | AN11: 228 | AO11: 3 | AP11: 74 | AQ11: 23 | AR11: 4 | AS11: 115 | AT11: 6 | AU11: 2 | AV11: 4 | AW11: 2 | AX11: 3 | AY11: 2 | AZ11: 0 | BA11: 24 | BB11: 11 | BC11: 7 | BD11: 2 | BE11: 12 | BF11: 3 | BG11: 2 | BH11: 4 | BI11: 2 | BJ11: 3 | BK11: 25 | BL11: 1 | BM11: 129
A12: 新竹縣 | C12: 246 | D12: 15 | E12: 1 | F12: 30 | G12: 9 | H12: 0 | I12: 101 | J12: 0 | K12: 0 | L12: 0 | M12: 90 | N12: 0 | O12: 0 | P12: 193 | Q12: 1 | R12: 0 | S12: 5 | T12: 8 | U12: 20 | V12: 45 | W12: 10 | X12: 0 | Y12: 25 | Z12: 12 | AA12: 0 | AB12: 5 | AC12: 1 | AD12: 6 | AE12: 5 | AF12: 3 | AG12: 19 | AH12: 19 | AI12: 9 | AJ12: 193 | AK12: 139 | AL12: 40 | AM12: 9 | AN12: 69 | AO12: 4 | AP12: 15 | AQ12: 1 | AR12: 1 | AS12: 33 | AT12: 1 | AU12: 0 | AV12: 0 | AW12: 0 | AX12: 1 | AY12: 2 | AZ12: 0 | BA12: 5 | BB12: 0 | BC12: 1 | BD12: 0 | BE12: 7 | BF12: 2 | BG12: 1 | BH12: 1 | BI12: 0 | BJ12: 0 | BK12: 11 | BL12: 1 | BM12: 21
A13: 苗栗縣 | C13: 82 | D13: 20 | E13: 0 | F13: 10 | G13: 1 | H13: 1 | I13: 18 | J13: 1 | K13: 0 | L13: 2 | M13: 28 | N13: 0 | O13: 1 | P13: 67 | Q13: 1 | R13: 2 | S13: 2 | T13: 2 | U13: 6 | V13: 13 | W13: 1 | X13: 0 | Y13: 6 | Z13: 3 | AA13: 0 | AB13: 0 | AC13: 1 | AD13: 2 | AE13: 3 | AF13: 0 | AG13: 9 | AH13: 5 | AI13: 11 | AJ13: 67 | AK13: 41 | AL13: 14 | AM13: 1 | AN13: 19 | AO13: 2 | AP13: 3 | AQ13: 2 | AR13: 0 | AS13: 9 | AT13: 0 | AU13: 0 | AV13: 0 | AW13: 0 | AX13: 0 | AY13: 0 | AZ13: 0 | BA13: 2 | BB13: 3 | BC13: 0 | BD13: 0 | BE13: 0 | BF13: 1 | BG13: 0 | BH13: 0 | BI13: 0 | BJ13: 1 | BK13: 2 | BL13: 0 | BM13: 17
A14: 臺中縣 | C14: 517 | D14: 54 | E14: 2 | F14: 67 | G14: 27 | H14: 1 | I14: 173 | J14: 0 | K14: 0 | L14: 0 | M14: 189 | N14: 0 | O14: 4 | P14: 429 | Q14: 4 | R14: 1 | S14: 13 | T14: 35 | U14: 42 | V14: 76 | W14: 12 | X14: 0 | Y14: 51 | Z14: 25 | AA14: 4 | AB14: 12 | AC14: 7 | AD14: 12 | AE14: 13 | AF14: 7 | AG14: 29 | AH14: 39 | AI14: 47 | AJ14: 429 | AK14: 293 | AL14: 95 | AM14: 18 | AN14: 141 | AO14: 4 | AP14: 30 | AQ14: 3 | AR14: 2 | AS14: 56 | AT14: 2 | AU14: 2 | AV14: 0 | AW14: 0 | AX14: 0 | AY14: 0 | AZ14: 0 | BA14: 7 | BB14: 8 | BC14: 5 | BD14: 2 | BE14: 7 | BF14: 3 | BG14: 2 | BH14: 3 | BI14: 1 | BJ14: 1 | BK14: 12 | BL14: 1 | BM14: 80
A15: 彰化縣 | C15: 428 | D15: 38 | E15: 3 | F15: 21 | G15: 6 | H15: 0 | I15: 181 | J15: 2 | K15: 0 | L15: 0 | M15: 171 | N15: 0 | O15: 6 | P15: 342 | Q15: 3 | R15: 0 | S15: 7 | T15: 27 | U15: 33 | V15: 44 | W15: 9 | X15: 1 | Y15: 53 | Z15: 10 | AA15: 4 | AB15: 11 | AC15: 10 | AD15: 7 | AE15: 4 | AF15: 5 | AG15: 37 | AH15: 29 | AI15: 48 | AJ15: 342 | AK15: 214 | AL15: 66 | AM15: 10 | AN15: 103 | AO15: 3 | AP15: 23 | AQ15: 8 | AR15: 1 | AS15: 64 | AT15: 2 | AU15: 0 | AV15: 0 | AW15: 0 | AX15: 0 | AY15: 0 | AZ15: 0 | BA15: 6 | BB15: 4 | BC15: 6 | BD15: 0 | BE15: 8 | BF15: 4 | BG15: 4 | BH15: 1 | BI15: 2 | BJ15: 2 | BK15: 21 | BL15: 4 | BM15: 64
A16: 南投縣 | C16: 171 | D16: 33 | E16: 1 | F16: 31 | G16: 5 | H16: 0 | I16: 29 | J16: 2 | K16: 0 | L16: 1 | M16: 68 | N16: 0 | O16: 1 | P16: 147 | Q16: 1 | R16: 0 | S16: 3 | T16: 5 | U16: 26 | V16: 15 | W16: 5 | X16: 0 | Y16: 18 | Z16: 8 | AA16: 10 | AB16: 4 | AC16: 4 | AD16: 7 | AE16: 4 | AF16: 1 | AG16: 10 | AH16: 10 | AI16: 16 | AJ16: 147 | AK16: 91 | AL16: 34 | AM16: 1 | AN16: 44 | AO16: 3 | AP16: 9 | AQ16: 0 | AR16: 0 | AS16: 29 | AT16: 3 | AU16: 0 | AV16: 0 | AW16: 0 | AX16: 0 | AY16: 0 | AZ16: 0 | BA16: 2 | BB16: 4 | BC16: 2 | BD16: 0 | BE16: 6 | BF16: 0 | BG16: 0 | BH16: 2 | BI16: 0 | BJ16: 0 | BK16: 9 | BL16: 1 | BM16: 27
A17: 雲林縣 | C17: 101 | D17: 12 | E17: 0 | F17: 13 | G17: 4 | H17: 0 | I17: 25 | J17: 1 | K17: 0 | L17: 0 | M17: 45 | N17: 0 | O17: 1 | P17: 86 | Q17: 2 | R17: 0 | S17: 3 | T17: 5 | U17: 7 | V17: 11 | W17: 2 | X17: 0 | Y17: 5 | Z17: 5 | AA17: 0 | AB17: 4 | AC17: 0 | AD17: 3 | AE17: 2 | AF17: 1 | AG17: 6 | AH17: 12 | AI17: 18 | AJ17: 86 | AK17: 51 | AL17: 23 | AM17: 1 | AN17: 15 | AO17: 1 | AP17: 10 | AQ17: 1 | AR17: 0 | AS17: 16 | AT17: 1 | AU17: 0 | AV17: 0 | AW17: 0 | AX17: 0 | AY17: 0 | AZ17: 0 | BA17: 3 | BB17: 1 | BC17: 2 | BD17: 0 | BE17: 2 | BF17: 0 | BG17: 3 | BH17: 0 | BI17: 0 | BJ17: 0 | BK17: 2 | BL17: 2 | BM17: 19
A18: 嘉義縣 | C18: 164 | D18: 12 | E18: 1 | F18: 21 | G18: 3 | H18: 1 | I18: 47 | J18: 4 | K18: 0 | L18: 0 | M18: 74 | N18: 0 | O18: 1 | P18: 130 | Q18: 0 | R18: 3 | S18: 11 | T18: 7 | U18: 4 | V18: 18 | W18: 3 | X18: 0 | Y18: 9 | Z18: 10 | AA18: 0 | AB18: 8 | AC18: 2 | AD18: 2 | AE18: 5 | AF18: 3 | AG18: 4 | AH18: 8 | AI18: 33 | AJ18: 130 | AK18: 75 | AL18: 19 | AM18: 2 | AN18: 45 | AO18: 3 | AP18: 4 | AQ18: 1 | AR18: 1 | AS18: 18 | AT18: 3 | AU18: 0 | AV18: 0 | AW18: 0 | AX18: 0 | AY18: 0 | AZ18: 0 | BA18: 1 | BB18: 1 | BC18: 1 | BD18: 0 | BE18: 3 | BF18: 0 | BG18: 1 | BH18: 0 | BI18: 0 | BJ18: 0 | BK18: 8 | BL18: 0 | BM18: 37
A19: 臺南縣 | C19: 173 | D19: 22 | E19: 0 | F19: 19 | G19: 1 | H19: 0 | I19: 75 | J19: 0 | K19: 0 | L19: 2 | M19: 53 | N19: 0 | O19: 1 | P19: 151 | Q19: 0 | R19: 1 | S19: 6 | T19: 12 | U19: 12 | V19: 25 | W19: 3 | X19: 0 | Y19: 17 | Z19: 7 | AA19: 1 | AB19: 5 | AC19: 1 | AD19: 7 | AE19: 3 | AF19: 1 | AG19: 16 | AH19: 10 | AI19: 24 | AJ19: 151 | AK19: 84 | AL19: 35 | AM19: 2 | AN19: 34 | AO19: 3 | AP19: 5 | AQ19: 3 | AR19: 2 | AS19: 30 | AT19: 2 | AU19: 0 | AV19: 0 | AW19: 0 | AX19: 0 | AY19: 0 | AZ19: 0 | BA19: 5 | BB19: 2 | BC19: 4 | BD19: 0 | BE19: 2 | BF19: 2 | BG19: 4 | BH19: 0 | BI19: 2 | BJ19: 0 | BK19: 7 | BL19: 0 | BM19: 37
... A33: 連江縣 | C33: 1 | D33: 0 | E33: 0 | F33: 0 | G33: 0 | H33: 0 | I33: 0 | J33: 1 | K33: 0 | L33: 0 | M33: 0 | N33: 0 | O33: 0 | P33: 1 | Q33: 0 | R33: 0 | S33: 0 | T33: 0 | U33: 0 | V33: 0 | W33: 0 | X33: 0 | Y33: 0 | Z33: 0 | AA33: 0 | AB33: 0 | AC33: 0 | AD33: 0 | AE33: 1 | AF33: 0 | AG33: 0 | AH33: 0 | AI33: 0 | AJ33: 1 | AK33: 0 | AL33: 0 | AM33: 0 | AN33: 0 | AO33: 0 | AP33: 0 | AQ33: 0 | AR33: 0 | AS33: 1 | AT33: 0 | AU33: 0 | AV33: 0 | AW33: 0 | AX33: 0 | AY33: 0 | AZ33: 0 | BA33: 0 | BB33: 0 | BC33: 0 | BD33: 0 | BE33: 0 | BF33: 1 | BG33: 0 | BH33: 0 | BI33: 0 | BJ33: 0 | BK33: 0 | BL33: 0 | BM33: 0
A34: 資料來源：內政部家庭暴力及性侵害防治委員會。

Sheet 94
A1: 5.2-01 性侵害事件通報案件統計
A3: 單位：件次；件數
A4: 區域別 | C4: 通報件次(複選) | P4: 通報件數 | AJ4: 通報件數
C5: 通報單位別 | P5: 被害及加害者兩造關係別 | AJ5: 案發地點別
AJ6: 合計 | AK6: 私人住所 | AS6: 非私人住所 | BM6: 不 詳
