Workbook
Name pp: '100'!$B$1:$O$15
Name pp: '101'!$B$1:$O$15
Name pp: '102'!$B$1:$O$15
Name pp: '103'!$B$1:$O$15
Name pp: '104'!$B$1:$O$15
Name pp: '105'!$B$1:$O$15
Name pp: '106'!$B$1:$O$15
Name pp: '107'!$B$1:$O$15
Name pp: #REF!
Name pp: #REF!
Name pp: #REF!
Name pp: '94'!$B$1:$O$11
Name pp: '94~107'!$B$1:$AA$11
Name pp: '95'!$B$1:$O$11
Name pp: '96'!$B$1:$O$11
Name pp: '97'!$B$1:$O$11
Name pp: '98'!$B$1:$O$11
Name pp: '99'!$B$1:$O$11
Name pp: #REF!

Sheet 歷年(110~)
A1: 5.2-01 性侵害事件通報案件統計
A3: 單位：件次；件
A4: 年別 | C4: 通報件次 | S4: 通報件數 | AN4: 通報件數
C5: 通報單位別 | S5: 被害及嫌疑人兩造關係別 | AN5: 主要發生場所
C7: 合計 | D7: 113 專線 | E7: 防治 中心 | F7: 教育 | G7: 社政 | H7: 勞政 | I7: 警政 | J7: 司(軍)法 | K7: 衛政 | L7: 診所及衛生所 | M7: 醫院 | N7: 憲兵隊 | O7: 移民業務機關 | P7: 矯正機關 | Q7: 民政 | R7: 其他 | S7: 合計 | T7: 配偶 | U7: 前配偶 | V7: 前男女朋友 | W7: 男女 朋友 | X7: 直系親屬 | Y7: 手足 | Z7: 其他旁系親屬 | AA7: 家長家屬或家屬間關係者 | AB7: 保母(含本人/同住家人) | AC7: 機構人員(含管理者/工作人員/志工/收容對象) | AD7: 家人 朋友 | AE7: 普通朋友 | AF7: 同學 | AG7: 鄰居 | AH7: 職場關係(上司下屬/同事/客戶) | AI7: 師生 關係 | AJ7: 網友 | AK7: 不認識 | AL7: 其他 | AM7: 不詳 | AN7: 合計 | AO7: 住(居)所 | AP7: 辦公/工作場所 | AQ7: 公共 場所 | AR7: 學校 | AS7: 寄養 家庭 | AT7: 補習班 | AU7: 高級中等以下有提供住宿之學校 | AV7: 旅(賓)館 | AW7: 矯正 機關 | AX7: 特殊營業場所(視聽歌唱業、理髮業、三溫暖業、舞廳業、舞場業、酒家業、酒吧業、特殊咖啡茶室業) | AY7: 社會福利/安置照顧機構/兒少安置機構 | AZ7: 網際 網路 | BA7: 其他 | BB7: 不詳
A8: 110年 2021 | C8: 16029 | D8: 588 | E8: 275 | F8: 4059 | G8: 1277 | H8: 23 | I8: 5429 | J8: 198 | K8: 58 | L8: 190 | M8: 3582 | N8: 9 | O8: 5 | P8: 58 | Q8: 0 | R8: 278 | S8: 8532 | T8: 119 | U8: 60 | V8: 990 | W8: 1677 | X8: 514 | Y8: 269 | Z8: 361 | AA8: 164 | AB8: 4 | AC8: 129 | AD8: 201 | AE8: 784 | AF8: 582 | AG8: 158 | AH8: 476 | AI8: 159 | AJ8: 924 | AK8: 480 | AL8: 468 | AM8: 13 | AN8: 8532 | AO8: 4547 | AP8: 223 | AQ8: 552 | AR8: 586 | AS8: 4 | AT8: 48 | AU8: 19 | AV8: 961 | AW8: 20 | AX8: 132 | AY8: 115 | AZ8: 6 | BA8: 711 | BB8: 608
A9: 111年 2022 | C9: 17201 | D9: 563 | E9: 219 | F9: 4262 | G9: 1205 | H9: 24 | I9: 6064 | J9: 236 | K9: 80 | L9: 223 | M9: 3891 | N9: 6 | O9: 2 | P9: 63 | Q9: 2 | R9: 361 | S9: 9234 | T9: 129 | U9: 60 | V9: 1156 | W9: 1770 | X9: 506 | Y9: 241 | Z9: 379 | AA9: 183 | AB9: 8 | AC9: 123 | AD9: 210 | AE9: 858 | AF9: 614 | AG9: 153 | AH9: 530 | AI9: 171 | AJ9: 1036 | AK9: 534 | AL9: 564 | AM9: 9 | AN9: 9234 | AO9: 4796 | AP9: 227 | AQ9: 631 | AR9: 636 | AS9: 5 | AT9: 73 | AU9: 31 | AV9: 1083 | AW9: 41 | AX9: 185 | AY9: 112 | AZ9: 3 | BA9: 869 | BB9: 542
A10: 112年 2023 | C10: 19035 | D10: 612 | E10: 178 | F10: 4550 | G10: 1321 | H10: 34 | I10: 7094 | J10: 283 | K10: 104 | L10: 236 | M10: 4085 | N10: 4 | O10: 0 | P10: 79 | Q10: 4 | R10: 451 | S10: 10351 | T10: 172 | U10: 52 | V10: 1368 | W10: 1652 | X10: 555 | Y10: 263 | Z10: 414 | AA10: 212 | AB10: 14 | AC10: 121 | AD10: 191 | AE10: 960 | AF10: 739 | AG10: 165 | AH10: 668 | AI10: 322 | AJ10: 1157 | AK10: 598 | AL10: 714 | AM10: 14 | AN10: 10351 | AO10: 4987 | AP10: 264 | AQ10: 735 | AR10: 861 | AS10: 4 | AT10: 106 | AU10: 33 | AV10: 1150 | AW10: 45 | AX10: 272 | AY10: 116 | AZ10: 10 | BA10: 1089 | BB10: 679
A11: 113年 2024 | C11: 18619 | D11: 682 | E11: 194 | F11: 4043 | G11: 1399 | H11: 36 | I11: 7036 | J11: 272 | K11: 120 | L11: 278 | M11: 3960 | N11: 2 | O11: 0 | P11: 114 | Q11: 8 | R11: 475 | S11: 10078 | T11: 155 | U11: 75 | V11: 1194 | W11: 1350 | X11: 654 | Y11: 313 | Z11: 476 | AA11: 211 | AB11: 6 | AC11: 139 | AD11: 175 | AE11: 856 | AF11: 715 | AG11: 176 | AH11: 708 | AI11: 364 | AJ11: 1110 | AK11: 643 | AL11: 740 | AM11: 18 | AN11: 10078 | AO11: 4770 | AP11: 309 | AQ11: 711 | AR11: 749 | AS11: 4 | AT11: 98 | AU11: 22 | AV11: 1142 | AW11: 79 | AX11: 246 | AY11: 124 | AZ11: 8 | BA11: 1073 | BB11: 743
A12: 114年 2025 | C12: 19291 | D12: 949 | E12: 199 | F12: 3906 | G12: 1360 | H12: 48 | I12: 7412 | J12: 281 | K12: 171 | L12: 287 | M12: 4053 | N12: 2 | O12: 1 | P12: 91 | Q12: 3 | R12: 528 | S12: 10442 | T12: 209 | U12: 68 | V12: 1281 | W12: 1403 | X12: 689 | Y12: 347 | Z12: 499 | AA12: 200 | AB12: 11 | AC12: 118 | AD12: 227 | AE12: 952 | AF12: 677 | AG12: 184 | AH12: 729 | AI12: 214 | AJ12: 1132 | AK12: 704 | AL12: 782 | AM12: 16 | AN12: 10442 | AO12: 5053 | AP12: 291 | AQ12: 682 | AR12: 741 | AS12: 9 | AT12: 68 | AU12: 19 | AV12: 1120 | AW12: 57 | AX12: 288 | AY12: 101 | AZ12: 6 | BA12: 1159 | BB12: 848
A13: 資料來源：本部保護服務司。

Sheet 114
A1: 5.2-01 性侵害事件通報案件統計
A3: 單位：件次；件
A4: 區域別 | C4: 通報件次 | S4: 通報件數 | AN4: 通報件數
C5: 通報單位別 | S5: 被害及嫌疑人兩造關係別 | AN5: 主要發生場所
C7: 合計 | D7: 113 專線 | E7: 防治 中心 | F7: 教育 | G7: 社政 | H7: 勞政 | I7: 警政 | J7: 司(軍)法 | K7: 衛政 | L7: 診所及衛生所 | M7: 醫院 | N7: 憲兵隊 | O7: 移民業務機關 | P7: 矯正機關 | Q7: 民政 | R7: 其他 | S7: 合計 | T7: 配偶 | U7: 前配偶 | V7: 前男女朋友 | W7: 男女 朋友 | X7: 直系親屬 | Y7: 手足 | Z7: 其他旁系親屬 | AA7: 家長家屬或家屬間關係者 | AB7: 保母(含本人/同住家人) | AC7: 機構人員(含管理者/工作人員/志工/收容對象) | AD7: 家人 朋友 | AE7: 普通朋友 | AF7: 同學 | AG7: 鄰居 | AH7: 職場關係(上司下屬/同事/客戶) | AI7: 師生 關係 | AJ7: 網友 | AK7: 不認識 | AL7: 其他 | AM7: 不詳 | AN7: 合計 | AO7: 住(居)所 | AP7: 辦公/工作場所 | AQ7: 公共 場所 | AR7: 學校 | AS7: 寄養 家庭 | AT7: 補習班 | AU7: 高級中等以下有提供住宿之學校 | AV7: 旅(賓)館 | AW7: 矯正 機關 | AX7: 特殊營業場所(視聽歌唱業、理髮業、三溫暖業、舞廳業、舞場業、酒家業、酒吧業、特殊咖啡茶室業) | AY7: 社會福利/安置照顧機構/兒少安置機構 | AZ7: 網際 網路 | BA7: 其他 | BB7: 不詳
A8: 114年 2025 | C8: 19291 | D8: 949 | E8: 199 | F8: 3906 | G8: 1360 | H8: 48 | I8: 7412 | J8: 281 | K8: 171 | L8: 287 | M8: 4053 | N8: 2 | O8: 1 | P8: 91 | Q8: 3 | R8: 528 | S8: 10442 | T8: 209 | U8: 68 | V8: 1281 | W8: 1403 | X8: 689 | Y8: 347 | Z8: 499 | AA8: 200 | AB8: 11 | AC8: 118 | AD8: 227 | AE8: 952 | AF8: 677 | AG8: 184 | AH8: 729 | AI8: 214 | AJ8: 1132 | AK8: 704 | AL8: 782 | AM8: 16 | AN8: 10442 | AO8: 5053 | AP8: 291 | AQ8: 682 | AR8: 741 | AS8: 9 | AT8: 68 | AU8: 19 | AV8: 1120 | AW8: 57 | AX8: 288 | AY8: 101 | AZ8: 6 | BA8: 1159 | BB8: 848
A9: 新北市 | C9: 3569 | D9: 225 | E9: 65 | F9: 688 | G9: 228 | H9: 11 | I9: 1242 | J9: 62 | K9: 22 | L9: 48 | M9: 846 | N9: 0 | O9: 0 | P9: 7 | Q9: 0 | R9: 125 | S9: 1944 | T9: 10 | U9: 5 | V9: 219 | W9: 242 | X9: 153 | Y9: 62 | Z9: 89 | AA9: 32 | AB9: 1 | AC9: 17 | AD9: 38 | AE9: 208 | AF9: 110 | AG9: 30 | AH9: 162 | AI9: 40 | AJ9: 219 | AK9: 157 | AL9: 148 | AM9: 2 | AN9: 1944 | AO9: 869 | AP9: 52 | AQ9: 160 | AR9: 122 | AS9: 1 | AT9: 7 | AU9: 6 | AV9: 224 | AW9: 4 | AX9: 61 | AY9: 15 | AZ9: 1 | BA9: 219 | BB9: 203
A10: 臺北市 | C10: 1958 | D10: 129 | E10: 30 | F10: 300 | G10: 171 | H10: 3 | I10: 771 | J10: 35 | K10: 18 | L10: 31 | M10: 387 | N10: 2 | O10: 0 | P10: 2 | Q10: 0 | R10: 79 | S10: 1064 | T10: 13 | U10: 5 | V10: 114 | W10: 72 | X10: 67 | Y10: 44 | Z10: 38 | AA10: 18 | AB10: 3 | AC10: 10 | AD10: 11 | AE10: 138 | AF10: 81 | AG10: 8 | AH10: 91 | AI10: 30 | AJ10: 126 | AK10: 106 | AL10: 88 | AM10: 1 | AN10: 1064 | AO10: 466 | AP10: 29 | AQ10: 57 | AR10: 70 | AS10: 0 | AT10: 11 | AU10: 1 | AV10: 136 | AW10: 2 | AX10: 40 | AY10: 10 | AZ10: 2 | BA10: 128 | BB10: 112
A11: 桃園市 | C11: 2207 | D11: 117 | E11: 19 | F11: 432 | G11: 150 | H11: 8 | I11: 818 | J11: 29 | K11: 18 | L11: 51 | M11: 494 | N11: 0 | O11: 1 | P11: 29 | Q11: 2 | R11: 39 | S11: 1236 | T11: 38 | U11: 8 | V11: 155 | W11: 210 | X11: 87 | Y11: 39 | Z11: 45 | AA11: 19 | AB11: 1 | AC11: 16 | AD11: 17 | AE11: 107 | AF11: 66 | AG11: 17 | AH11: 89 | AI11: 23 | AJ11: 136 | AK11: 84 | AL11: 79 | AM11: 0 | AN11: 1236 | AO11: 631 | AP11: 36 | AQ11: 59 | AR11: 53 | AS11: 0 | AT11: 6 | AU11: 2 | AV11: 141 | AW11: 14 | AX11: 29 | AY11: 14 | AZ11: 0 | BA11: 163 | BB11: 88
A12: 臺中市 | C12: 2652 | D12: 137 | E12: 26 | F12: 475 | G12: 182 | H12: 6 | I12: 1131 | J12: 48 | K12: 29 | L12: 46 | M12: 493 | N12: 0 | O12: 0 | P12: 24 | Q12: 0 | R12: 55 | S12: 1426 | T12: 35 | U12: 16 | V12: 172 | W12: 182 | X12: 71 | Y12: 49 | Z12: 75 | AA12: 29 | AB12: 1 | AC12: 15 | AD12: 33 | AE12: 114 | AF12: 98 | AG12: 20 | AH12: 131 | AI12: 33 | AJ12: 157 | AK12: 86 | AL12: 105 | AM12: 4 | AN12: 1426 | AO12: 682 | AP12: 38 | AQ12: 105 | AR12: 89 | AS12: 1 | AT12: 7 | AU12: 5 | AV12: 160 | AW12: 7 | AX12: 68 | AY12: 13 | AZ12: 1 | BA12: 154 | BB12: 96
A13: 臺南市 | C13: 1343 | D13: 57 | E13: 35 | F13: 260 | G13: 120 | H13: 1 | I13: 550 | J13: 17 | K13: 15 | L13: 22 | M13: 223 | N13: 0 | O13: 0 | P13: 3 | Q13: 1 | R13: 39 | S13: 796 | T13: 36 | U13: 5 | V13: 84 | W13: 110 | X13: 55 | Y13: 35 | Z13: 44 | AA13: 15 | AB13: 0 | AC13: 13 | AD13: 19 | AE13: 70 | AF13: 52 | AG13: 17 | AH13: 52 | AI13: 14 | AJ13: 83 | AK13: 34 | AL13: 57 | AM13: 1 | AN13: 796 | AO13: 442 | AP13: 32 | AQ13: 38 | AR13: 60 | AS13: 0 | AT13: 10 | AU13: 0 | AV13: 74 | AW13: 4 | AX13: 9 | AY13: 10 | AZ13: 1 | BA13: 63 | BB13: 53
A14: 高雄市 | C14: 1971 | D14: 106 | E14: 18 | F14: 365 | G14: 121 | H14: 3 | I14: 776 | J14: 18 | K14: 20 | L14: 36 | M14: 441 | N14: 0 | O14: 0 | P14: 8 | Q14: 0 | R14: 59 | S14: 1070 | T14: 22 | U14: 9 | V14: 128 | W14: 147 | X14: 71 | Y14: 37 | Z14: 53 | AA14: 27 | AB14: 1 | AC14: 14 | AD14: 21 | AE14: 93 | AF14: 72 | AG14: 25 | AH14: 77 | AI14: 25 | AJ14: 120 | AK14: 73 | AL14: 55 | AM14: 0 | AN14: 1070 | AO14: 536 | AP14: 38 | AQ14: 79 | AR14: 92 | AS14: 1 | AT14: 7 | AU14: 0 | AV14: 119 | AW14: 5 | AX14: 32 | AY14: 11 | AZ14: 1 | BA14: 91 | BB14: 58
A15: 宜蘭縣 | C15: 320 | D15: 14 | E15: 1 | F15: 95 | G15: 17 | H15: 2 | I15: 112 | J15: 0 | K15: 1 | L15: 2 | M15: 71 | N15: 0 | O15: 0 | P15: 1 | Q15: 0 | R15: 4 | S15: 164 | T15: 4 | U15: 1 | V15: 27 | W15: 24 | X15: 17 | Y15: 6 | Z15: 5 | AA15: 2 | AB15: 0 | AC15: 0 | AD15: 8 | AE15: 13 | AF15: 13 | AG15: 3 | AH15: 10 | AI15: 4 | AJ15: 11 | AK15: 7 | AL15: 9 | AM15: 0 | AN15: 164 | AO15: 85 | AP15: 4 | AQ15: 15 | AR15: 19 | AS15: 0 | AT15: 1 | AU15: 0 | AV15: 13 | AW15: 1 | AX15: 2 | AY15: 0 | AZ15: 0 | BA15: 8 | BB15: 16
A16: 新竹縣 | C16: 470 | D16: 23 | E16: 1 | F16: 109 | G16: 35 | H16: 4 | I16: 176 | J16: 5 | K16: 1 | L16: 1 | M16: 89 | N16: 0 | O16: 0 | P16: 4 | Q16: 0 | R16: 22 | S16: 245 | T16: 4 | U16: 0 | V16: 22 | W16: 42 | X16: 14 | Y16: 6 | Z16: 13 | AA16: 4 | AB16: 1 | AC16: 6 | AD16: 2 | AE16: 20 | AF16: 26 | AG16: 9 | AH16: 12 | AI16: 3 | AJ16: 31 | AK16: 13 | AL16: 17 | AM16: 0 | AN16: 245 | AO16: 112 | AP16: 5 | AQ16: 19 | AR16: 23 | AS16: 0 | AT16: 0 | AU16: 0 | AV16: 28 | AW16: 5 | AX16: 4 | AY16: 6 | AZ16: 0 | BA16: 22 | BB16: 21
A17: 苗栗縣 | C17: 400 | D17: 10 | E17: 0 | F17: 103 | G17: 24 | H17: 0 | I17: 159 | J17: 3 | K17: 2 | L17: 3 | M17: 86 | N17: 0 | O17: 0 | P17: 0 | Q17: 0 | R17: 10 | S17: 203 | T17: 6 | U17: 1 | V17: 37 | W17: 19 | X17: 11 | Y17: 4 | Z17: 14 | AA17: 4 | AB17: 0 | AC17: 0 | AD17: 5 | AE17: 20 | AF17: 19 | AG17: 9 | AH17: 6 | AI17: 3 | AJ17: 21 | AK17: 7 | AL17: 17 | AM17: 0 | AN17: 203 | AO17: 105 | AP17: 2 | AQ17: 13 | AR17: 14 | AS17: 3 | AT17: 1 | AU17: 1 | AV17: 17 | AW17: 0 | AX17: 3 | AY17: 0 | AZ17: 0 | BA17: 33 | BB17: 11
A18: 彰化縣 | C18: 879 | D18: 25 | E18: 0 | F18: 227 | G18: 60 | H18: 5 | I18: 312 | J18: 16 | K18: 16 | L18: 15 | M18: 174 | N18: 0 | O18: 0 | P18: 8 | Q18: 0 | R18: 21 | S18: 475 | T18: 3 | U18: 4 | V18: 73 | W18: 91 | X18: 34 | Y18: 14 | Z18: 24 | AA18: 8 | AB18: 0 | AC18: 1 | AD18: 12 | AE18: 31 | AF18: 21 | AG18: 11 | AH18: 22 | AI18: 12 | AJ18: 40 | AK18: 32 | AL18: 37 | AM18: 5 | AN18: 475 | AO18: 229 | AP18: 12 | AQ18: 30 | AR18: 57 | AS18: 0 | AT18: 2 | AU18: 0 | AV18: 37 | AW18: 2 | AX18: 8 | AY18: 2 | AZ18: 0 | BA18: 57 | BB18: 39
A19: 南投縣 | C19: 373 | D19: 7 | E19: 0 | F19: 103 | G19: 28 | H19: 1 | I19: 124 | J19: 6 | K19: 0 | L19: 7 | M19: 88 | N19: 0 | O19: 0 | P19: 0 | Q19: 0 | R19: 9 | S19: 207 | T19: 5 | U19: 3 | V19: 17 | W19: 40 | X19: 10 | Y19: 6 | Z19: 13 | AA19: 4 | AB19: 2 | AC19: 0 | AD19: 8 | AE19: 14 | AF19: 15 | AG19: 4 | AH19: 6 | AI19: 2 | AJ19: 22 | AK19: 7 | AL19: 27 | AM19: 2 | AN19: 207 | AO19: 100 | AP19: 7 | AQ19: 9 | AR19: 20 | AS19: 1 | AT19: 0 | AU19: 0 | AV19: 15 | AW19: 1 | AX19: 3 | AY19: 0 | AZ19: 0 | BA19: 22 | BB19: 29
... A30: 連江縣 | C30: 4 | D30: 0 | E30: 0 | F30: 1 | G30: 0 | H30: 0 | I30: 2 | J30: 0 | K30: 0 | L30: 0 | M30: 1 | N30: 0 | O30: 0 | P30: 0 | Q30: 0 | R30: 0 | S30: 2 | T30: 0 | U30: 0 | V30: 0 | W30: 0 | X30: 0 | Y30: 0 | Z30: 0 | AA30: 0 | AB30: 0 | AC30: 0 | AD30: 1 | AE30: 0 | AF30: 0 | AG30: 0 | AH30: 0 | AI30: 0 | AJ30: 0 | AK30: 0 | AL30: 1 | AM30: 0 | AN30: 2 | AO30: 2 | AP30: 0 | AQ30: 0 | AR30: 0 | AS30: 0 | AT30: 0 | AU30: 0 | AV30: 0 | AW30: 0 | AX30: 0 | AY30: 0 | AZ30: 0 | BA30: 0 | BB30: 0
A31: 資料來源：本部保護服務司。
A32: Source :Department of Protective Services , MOHW.
A34: 更新日期：2021/7/30

Sheet 113
A1: 5.2-01 性侵害事件通報案件統計
A3: 單位：件次；件
A4: 區域別 | C4: 通報件次 | S4: 通報件數 | AN4: 通報件數
C5: 通報單位別 | S5: 被害及嫌疑人兩造關係別 | AN5: 主要發生場所
C7: 合計 | D7: 113 專線 | E7: 防治 中心 | F7: 教育 | G7: 社政 | H7: 勞政 | I7: 警政 | J7: 司(軍)法 | K7: 衛政 | L7: 診所及衛生所 | M7: 醫院 | N7: 憲兵隊 | O7: 移民業務機關 | P7: 矯正機關 | Q7: 民政 | R7: 其他 | S7: 合計 | T7: 配偶 | U7: 前配偶 | V7: 前男女朋友 | W7: 男女 朋友 | X7: 直系親屬 | Y7: 手足 | Z7: 其他旁系親屬 | AA7: 家長家屬或家屬間關係者 | AB7: 保母(含本人/同住家人) | AC7: 機構人員(含管理者/工作人員/志工/收容對象) | AD7: 家人 朋友 | AE7: 普通朋友 | AF7: 同學 | AG7: 鄰居 | AH7: 職場關係(上司下屬/同事/客戶) | AI7: 師生 關係 | AJ7: 網友 | AK7: 不認識 | AL7: 其他 | AM7: 不詳 | AN7: 合計 | AO7: 住(居)所 | AP7: 辦公/工作場所 | AQ7: 公共 場所 | AR7: 學校 | AS7: 寄養 家庭 | AT7: 補習班 | AU7: 高級中等以下有提供住宿之學校 | AV7: 旅(賓)館 | AW7: 矯正 機關 | AX7: 特殊營業場所(視聽歌唱業、理髮業、三溫暖業、舞廳業、舞場業、酒家業、酒吧業、特殊咖啡茶室業) | AY7: 社會福利/安置照顧機構/兒少安置機構 | AZ7: 網際 網路 | BA7: 其他 | BB7: 不詳
A8: 113年 2024 | C8: 18619 | D8: 682 | E8: 194 | F8: 4043 | G8: 1399 | H8: 36 | I8: 7036 | J8: 272 | K8: 120 | L8: 278 | M8: 3960 | N8: 2 | O8: 0 | P8: 114 | Q8: 8 | R8: 475 | S8: 10078 | T8: 155 | U8: 75 | V8: 1194 | W8: 1350 | X8: 654 | Y8: 313 | Z8: 476 | AA8: 211 | AB8: 6 | AC8: 139 | AD8: 175 | AE8: 856 | AF8: 715 | AG8: 176 | AH8: 708 | AI8: 364 | AJ8: 1110 | AK8: 643 | AL8: 740 | AM8: 18 | AN8: 10078 | AO8: 4770 | AP8: 309 | AQ8: 711 | AR8: 749 | AS8: 4 | AT8: 98 | AU8: 22 | AV8: 1142 | AW8: 79 | AX8: 246 | AY8: 124 | AZ8: 8 | BA8: 1073 | BB8: 743
A9: 新北市 | C9: 3425 | D9: 146 | E9: 52 | F9: 765 | G9: 252 | H9: 5 | I9: 1177 | J9: 51 | K9: 13 | L9: 56 | M9: 768 | N9: 0 | O9: 0 | P9: 8 | Q9: 2 | R9: 130 | S9: 1909 | T9: 10 | U9: 5 | V9: 227 | W9: 225 | X9: 151 | Y9: 66 | Z9: 100 | AA9: 31 | AB9: 2 | AC9: 16 | AD9: 26 | AE9: 164 | AF9: 133 | AG9: 12 | AH9: 137 | AI9: 72 | AJ9: 266 | AK9: 126 | AL9: 137 | AM9: 3 | AN9: 1909 | AO9: 871 | AP9: 64 | AQ9: 154 | AR9: 114 | AS9: 0 | AT9: 30 | AU9: 3 | AV9: 200 | AW9: 5 | AX9: 66 | AY9: 16 | AZ9: 2 | BA9: 210 | BB9: 174
A10: 臺北市 | C10: 1879 | D10: 88 | E10: 35 | F10: 307 | G10: 163 | H10: 3 | I10: 739 | J10: 23 | K10: 9 | L10: 27 | M10: 410 | N10: 1 | O10: 0 | P10: 4 | Q10: 0 | R10: 70 | S10: 1027 | T10: 15 | U10: 4 | V10: 107 | W10: 70 | X10: 75 | Y10: 28 | Z10: 48 | AA10: 16 | AB10: 0 | AC10: 10 | AD10: 8 | AE10: 89 | AF10: 104 | AG10: 10 | AH10: 97 | AI10: 43 | AJ10: 117 | AK10: 96 | AL10: 85 | AM10: 5 | AN10: 1027 | AO10: 433 | AP10: 27 | AQ10: 68 | AR10: 97 | AS10: 0 | AT10: 12 | AU10: 0 | AV10: 120 | AW10: 2 | AX10: 35 | AY10: 7 | AZ10: 2 | BA10: 119 | BB10: 105
A11: 桃園市 | C11: 2084 | D11: 68 | E11: 22 | F11: 483 | G11: 126 | H11: 10 | I11: 794 | J11: 32 | K11: 10 | L11: 35 | M11: 453 | N11: 0 | O11: 0 | P11: 20 | Q11: 1 | R11: 30 | S11: 1153 | T11: 20 | U11: 11 | V11: 132 | W11: 226 | X11: 68 | Y11: 31 | Z11: 44 | AA11: 17 | AB11: 1 | AC11: 18 | AD11: 18 | AE11: 100 | AF11: 83 | AG11: 12 | AH11: 90 | AI11: 15 | AJ11: 117 | AK11: 69 | AL11: 80 | AM11: 1 | AN11: 1153 | AO11: 552 | AP11: 24 | AQ11: 69 | AR11: 76 | AS11: 0 | AT11: 9 | AU11: 5 | AV11: 146 | AW11: 14 | AX11: 31 | AY11: 15 | AZ11: 0 | BA11: 134 | BB11: 78
A12: 臺中市 | C12: 2467 | D12: 102 | E12: 15 | F12: 436 | G12: 161 | H12: 3 | I12: 1038 | J12: 57 | K12: 15 | L12: 47 | M12: 505 | N12: 0 | O12: 0 | P12: 33 | Q12: 0 | R12: 55 | S12: 1318 | T12: 25 | U12: 18 | V12: 143 | W12: 181 | X12: 84 | Y12: 38 | Z12: 55 | AA12: 26 | AB12: 0 | AC12: 11 | AD12: 23 | AE12: 106 | AF12: 74 | AG12: 29 | AH12: 117 | AI12: 58 | AJ12: 146 | AK12: 84 | AL12: 98 | AM12: 2 | AN12: 1318 | AO12: 602 | AP12: 54 | AQ12: 77 | AR12: 110 | AS12: 0 | AT12: 7 | AU12: 6 | AV12: 166 | AW12: 25 | AX12: 37 | AY12: 9 | AZ12: 1 | BA12: 152 | BB12: 72
A13: 臺南市 | C13: 1202 | D13: 45 | E13: 31 | F13: 264 | G13: 103 | H13: 4 | I13: 433 | J13: 21 | K13: 15 | L13: 31 | M13: 213 | N13: 1 | O13: 0 | P13: 6 | Q13: 0 | R13: 35 | S13: 687 | T13: 18 | U13: 6 | V13: 84 | W13: 120 | X13: 35 | Y13: 24 | Z13: 27 | AA13: 26 | AB13: 1 | AC13: 11 | AD13: 19 | AE13: 50 | AF13: 35 | AG13: 14 | AH13: 38 | AI13: 28 | AJ13: 66 | AK13: 39 | AL13: 45 | AM13: 1 | AN13: 687 | AO13: 356 | AP13: 18 | AQ13: 38 | AR13: 51 | AS13: 0 | AT13: 8 | AU13: 1 | AV13: 78 | AW13: 4 | AX13: 8 | AY13: 13 | AZ13: 0 | BA13: 68 | BB13: 44
A14: 高雄市 | C14: 1978 | D14: 79 | E14: 29 | F14: 421 | G14: 133 | H14: 2 | I14: 772 | J14: 26 | K14: 21 | L14: 21 | M14: 434 | N14: 0 | O14: 0 | P14: 8 | Q14: 0 | R14: 32 | S14: 1054 | T14: 16 | U14: 7 | V14: 128 | W14: 117 | X14: 56 | Y14: 37 | Z14: 63 | AA14: 30 | AB14: 1 | AC14: 24 | AD14: 12 | AE14: 93 | AF14: 69 | AG14: 34 | AH14: 83 | AI14: 47 | AJ14: 114 | AK14: 66 | AL14: 57 | AM14: 0 | AN14: 1054 | AO14: 499 | AP14: 37 | AQ14: 75 | AR14: 83 | AS14: 1 | AT14: 9 | AU14: 2 | AV14: 134 | AW14: 3 | AX14: 22 | AY14: 23 | AZ14: 2 | BA14: 84 | BB14: 80
A15: 宜蘭縣 | C15: 322 | D15: 7 | E15: 0 | F15: 103 | G15: 21 | H15: 0 | I15: 110 | J15: 0 | K15: 2 | L15: 1 | M15: 67 | N15: 0 | O15: 0 | P15: 2 | Q15: 0 | R15: 9 | S15: 176 | T15: 1 | U15: 2 | V15: 20 | W15: 25 | X15: 17 | Y15: 1 | Z15: 7 | AA15: 0 | AB15: 0 | AC15: 2 | AD15: 6 | AE15: 10 | AF15: 23 | AG15: 4 | AH15: 5 | AI15: 7 | AJ15: 22 | AK15: 9 | AL15: 15 | AM15: 0 | AN15: 176 | AO15: 85 | AP15: 5 | AQ15: 8 | AR15: 17 | AS15: 0 | AT15: 0 | AU15: 0 | AV15: 19 | AW15: 1 | AX15: 2 | AY15: 1 | AZ15: 0 | BA15: 20 | BB15: 18
A16: 新竹縣 | C16: 577 | D16: 18 | E16: 2 | F16: 125 | G16: 56 | H16: 5 | I16: 212 | J16: 5 | K16: 5 | L16: 4 | M16: 112 | N16: 0 | O16: 0 | P16: 2 | Q16: 0 | R16: 31 | S16: 321 | T16: 9 | U16: 5 | V16: 46 | W16: 49 | X16: 20 | Y16: 13 | Z16: 11 | AA16: 7 | AB16: 0 | AC16: 6 | AD16: 4 | AE16: 14 | AF16: 18 | AG16: 7 | AH16: 28 | AI16: 18 | AJ16: 35 | AK16: 12 | AL16: 19 | AM16: 0 | AN16: 321 | AO16: 177 | AP16: 13 | AQ16: 24 | AR16: 17 | AS16: 0 | AT16: 4 | AU16: 0 | AV16: 22 | AW16: 1 | AX16: 3 | AY16: 3 | AZ16: 0 | BA16: 33 | BB16: 24
A17: 苗栗縣 | C17: 355 | D17: 11 | E17: 0 | F17: 74 | G17: 24 | H17: 0 | I17: 145 | J17: 1 | K17: 4 | L17: 4 | M17: 85 | N17: 0 | O17: 0 | P17: 0 | Q17: 0 | R17: 7 | S17: 184 | T17: 3 | U17: 2 | V17: 18 | W17: 22 | X17: 4 | Y17: 9 | Z17: 4 | AA17: 7 | AB17: 0 | AC17: 5 | AD17: 7 | AE17: 20 | AF17: 14 | AG17: 2 | AH17: 6 | AI17: 3 | AJ17: 22 | AK17: 17 | AL17: 17 | AM17: 2 | AN17: 184 | AO17: 93 | AP17: 4 | AQ17: 18 | AR17: 15 | AS17: 1 | AT17: 2 | AU17: 1 | AV17: 19 | AW17: 0 | AX17: 6 | AY17: 4 | AZ17: 0 | BA17: 14 | BB17: 7
A18: 彰化縣 | C18: 915 | D18: 17 | E18: 0 | F18: 236 | G18: 88 | H18: 0 | I18: 323 | J18: 8 | K18: 7 | L18: 9 | M18: 198 | N18: 0 | O18: 0 | P18: 13 | Q18: 2 | R18: 14 | S18: 511 | T18: 9 | U18: 3 | V18: 69 | W18: 68 | X18: 42 | Y18: 24 | Z18: 25 | AA18: 5 | AB18: 0 | AC18: 5 | AD18: 13 | AE18: 43 | AF18: 40 | AG18: 14 | AH18: 23 | AI18: 12 | AJ18: 49 | AK18: 28 | AL18: 38 | AM18: 1 | AN18: 511 | AO18: 236 | AP18: 10 | AQ18: 38 | AR18: 59 | AS18: 0 | AT18: 5 | AU18: 1 | AV18: 49 | AW18: 9 | AX18: 10 | AY18: 3 | AZ18: 0 | BA18: 51 | BB18: 40
A19: 南投縣 | C19: 370 | D19: 7 | E19: 1 | F19: 108 | G19: 31 | H19: 1 | I19: 129 | J19: 3 | K19: 2 | L19: 6 | M19: 78 | N19: 0 | O19: 0 | P19: 0 | Q19: 0 | R19: 4 | S19: 197 | T19: 2 | U19: 0 | V19: 19 | W19: 36 | X19: 10 | Y19: 3 | Z19: 9 | AA19: 6 | AB19: 0 | AC19: 4 | AD19: 7 | AE19: 20 | AF19: 17 | AG19: 3 | AH19: 6 | AI19: 27 | AJ19: 12 | AK19: 3 | AL19: 13 | AM19: 0 | AN19: 197 | AO19: 96 | AP19: 3 | AQ19: 13 | AR19: 27 | AS19: 0 | AT19: 0 | AU19: 1 | AV19: 17 | AW19: 0 | AX19: 3 | AY19: 1 | AZ19: 0 | BA19: 21 | BB19: 15
... A30: 連江縣 | C30: 9 | D30: 0 | E30: 0 | F30: 4 | G30: 0 | H30: 0 | I30: 2 | J30: 1 | K30: 0 | L30: 0 | M30: 2 | N30: 0 | O30: 0 | P30: 0 | Q30: 0 | R30: 0 | S30: 5 | T30: 0 | U30: 0 | V30: 0 | W30: 0 | X30: 0 | Y30: 0 | Z30: 0 | AA30: 0 | AB30: 0 | AC30: 0 | AD30: 0 | AE30: 0 | AF30: 0 | AG30: 0 | AH30: 1 | AI30: 0 | AJ30: 1 | AK30: 0 | AL30: 3 | AM30: 0 | AN30: 5 | AO30: 0 | AP30: 0 | AQ30: 0 | AR30: 0 | AS30: 0 | AT30: 0 | AU30: 0 | AV30: 2 | AW30: 0 | AX30: 1 | AY30: 0 | AZ30: 0 | BA30: 1 | BB30: 1
A31: 資料來源：本部保護服務司。
A32: Source :Department of Protective Services , MOHW.
A34: 更新日期：2021/7/30

Sheet 112
A1: 5.2-01 性侵害事件通報案件統計
A3: 單位：件次；件
A4: 區域別 | C4: 通報件次 | S4: 通報件數 | AN4: 通報件數
C5: 通報單位別 | S5: 被害及嫌疑人兩造關係別 | AN5: 主要發生場所
C7: 合計 | D7: 113 專線 | E7: 防治 中心 | F7: 教育 | G7: 社政 | H7: 勞政 | I7: 警政 | J7: 司(軍)法 | K7: 衛政 | L7: 診所及衛生所 | M7: 醫院 | N7: 憲兵隊 | O7: 移民業務機關 | P7: 矯正機關 | Q7: 民政 | R7: 其他 | S7: 合計 | T7: 配偶 | U7: 前配偶 | V7: 前男女朋友 | W7: 男女 朋友 | X7: 直系親屬 | Y7: 手足 | Z7: 其他旁系親屬 | AA7: 家長家屬或家屬間關係者 | AB7: 保母(含本人/同住家人) | AC7: 機構人員(含管理者/工作人員/志工/收容對象) | AD7: 家人 朋友 | AE7: 普通朋友 | AF7: 同學 | AG7: 鄰居 | AH7: 職場關係(上司下屬/同事/客戶) | AI7: 師生 關係 | AJ7: 網友 | AK7: 不認識 | AL7: 其他 | AM7: 不詳 | AN7: 合計 | AO7: 住(居)所 | AP7: 辦公/工作場所 | AQ7: 公共 場所 | AR7: 學校 | AS7: 寄養 家庭 | AT7: 補習班 | AU7: 高級中等以下有提供住宿之學校 | AV7: 旅(賓)館 | AW7: 矯正 機關 | AX7: 特殊營業場所(視聽歌唱業、理髮業、三溫暖業、舞廳業、舞場業、酒家業、酒吧業、特殊咖啡茶室業) | AY7: 社會福利/安置照顧機構/兒少安置機構 | AZ7: 網際 網路 | BA7: 其他 | BB7: 不詳
A8: 112年 2023 | C8: 19035 | D8: 612 | E8: 178 | F8: 4550 | G8: 1321 | H8: 34 | I8: 7094 | J8: 283 | K8: 104 | L8: 236 | M8: 4085 | N8: 4 | O8: 0 | P8: 79 | Q8: 4 | R8: 451 | S8: 10351 | T8: 172 | U8: 52 | V8: 1368 | W8: 1652 | X8: 555 | Y8: 263 | Z8: 414 | AA8: 212 | AB8: 14 | AC8: 121 | AD8: 191 | AE8: 960 | AF8: 739 | AG8: 165 | AH8: 668 | AI8: 322 | AJ8: 1157 | AK8: 598 | AL8: 714 | AM8: 14 | AN8: 10351 | AO8: 4987 | AP8: 264 | AQ8: 735 | AR8: 861 | AS8: 4 | AT8: 106 | AU8: 33 | AV8: 1150 | AW8: 45 | AX8: 272 | AY8: 116 | AZ8: 10 | BA8: 1089 | BB8: 679
A9: 新北市 | C9: 3114 | D9: 141 | E9: 50 | F9: 709 | G9: 172 | H9: 10 | I9: 1087 | J9: 40 | K9: 15 | L9: 28 | M9: 734 | N9: 0 | O9: 0 | P9: 11 | Q9: 1 | R9: 116 | S9: 1750 | T9: 11 | U9: 4 | V9: 227 | W9: 228 | X9: 90 | Y9: 49 | Z9: 44 | AA9: 36 | AB9: 4 | AC9: 10 | AD9: 17 | AE9: 203 | AF9: 166 | AG9: 19 | AH9: 144 | AI9: 48 | AJ9: 220 | AK9: 117 | AL9: 113 | AM9: 0 | AN9: 1750 | AO9: 747 | AP9: 42 | AQ9: 139 | AR9: 158 | AS9: 2 | AT9: 13 | AU9: 4 | AV9: 226 | AW9: 6 | AX9: 67 | AY9: 12 | AZ9: 3 | BA9: 198 | BB9: 133
A10: 臺北市 | C10: 1943 | D10: 72 | E10: 21 | F10: 350 | G10: 178 | H10: 7 | I10: 792 | J10: 25 | K10: 11 | L10: 12 | M10: 399 | N10: 1 | O10: 0 | P10: 4 | Q10: 0 | R10: 71 | S10: 1059 | T10: 18 | U10: 2 | V10: 127 | W10: 84 | X10: 52 | Y10: 41 | Z10: 47 | AA10: 17 | AB10: 0 | AC10: 13 | AD10: 9 | AE10: 129 | AF10: 74 | AG10: 16 | AH10: 107 | AI10: 51 | AJ10: 118 | AK10: 76 | AL10: 76 | AM10: 2 | AN10: 1059 | AO10: 451 | AP10: 38 | AQ10: 75 | AR10: 86 | AS10: 0 | AT10: 11 | AU10: 3 | AV10: 121 | AW10: 0 | AX10: 40 | AY10: 11 | AZ10: 4 | BA10: 110 | BB10: 109
A11: 桃園市 | C11: 2061 | D11: 59 | E11: 17 | F11: 506 | G11: 130 | H11: 3 | I11: 758 | J11: 37 | K11: 9 | L11: 23 | M11: 472 | N11: 0 | O11: 0 | P11: 7 | Q11: 1 | R11: 39 | S11: 1146 | T11: 18 | U11: 7 | V11: 127 | W11: 294 | X11: 63 | Y11: 23 | Z11: 42 | AA11: 25 | AB11: 0 | AC11: 13 | AD11: 21 | AE11: 81 | AF11: 66 | AG11: 17 | AH11: 77 | AI11: 19 | AJ11: 115 | AK11: 73 | AL11: 65 | AM11: 0 | AN11: 1146 | AO11: 566 | AP11: 37 | AQ11: 81 | AR11: 74 | AS11: 0 | AT11: 10 | AU11: 2 | AV11: 137 | AW11: 3 | AX11: 29 | AY11: 11 | AZ11: 1 | BA11: 130 | BB11: 65
A12: 臺中市 | C12: 2484 | D12: 97 | E12: 33 | F12: 516 | G12: 166 | H12: 2 | I12: 939 | J12: 52 | K12: 4 | L12: 54 | M12: 555 | N12: 1 | O12: 0 | P12: 21 | Q12: 0 | R12: 44 | S12: 1373 | T12: 31 | U12: 11 | V12: 164 | W12: 239 | X12: 62 | Y12: 25 | Z12: 55 | AA12: 28 | AB12: 4 | AC12: 19 | AD12: 42 | AE12: 113 | AF12: 79 | AG12: 21 | AH12: 96 | AI12: 46 | AJ12: 162 | AK12: 66 | AL12: 104 | AM12: 6 | AN12: 1373 | AO12: 667 | AP12: 34 | AQ12: 98 | AR12: 95 | AS12: 0 | AT12: 20 | AU12: 0 | AV12: 156 | AW12: 11 | AX12: 34 | AY12: 15 | AZ12: 1 | BA12: 154 | BB12: 88
A13: 臺南市 | C13: 1335 | D13: 34 | E13: 26 | F13: 305 | G13: 108 | H13: 1 | I13: 513 | J13: 20 | K13: 14 | L13: 26 | M13: 263 | N13: 1 | O13: 0 | P13: 2 | Q13: 1 | R13: 21 | S13: 735 | T13: 26 | U13: 2 | V13: 117 | W13: 99 | X13: 38 | Y13: 16 | Z13: 30 | AA13: 18 | AB13: 3 | AC13: 10 | AD13: 15 | AE13: 64 | AF13: 45 | AG13: 17 | AH13: 46 | AI13: 19 | AJ13: 86 | AK13: 38 | AL13: 45 | AM13: 1 | AN13: 735 | AO13: 378 | AP13: 18 | AQ13: 37 | AR13: 56 | AS13: 0 | AT13: 10 | AU13: 0 | AV13: 85 | AW13: 1 | AX13: 14 | AY13: 11 | AZ13: 0 | BA13: 85 | BB13: 40
A14: 高雄市 | C14: 2004 | D14: 62 | E14: 19 | F14: 459 | G14: 125 | H14: 0 | I14: 780 | J14: 35 | K14: 8 | L14: 22 | M14: 449 | N14: 0 | O14: 0 | P14: 5 | Q14: 0 | R14: 40 | S14: 1068 | T14: 12 | U14: 6 | V14: 173 | W14: 158 | X14: 61 | Y14: 23 | Z14: 45 | AA14: 28 | AB14: 0 | AC14: 9 | AD14: 19 | AE14: 97 | AF14: 65 | AG14: 13 | AH14: 63 | AI14: 43 | AJ14: 120 | AK14: 76 | AL14: 57 | AM14: 0 | AN14: 1068 | AO14: 514 | AP14: 20 | AQ14: 82 | AR14: 115 | AS14: 2 | AT14: 10 | AU14: 5 | AV14: 121 | AW14: 3 | AX14: 43 | AY14: 8 | AZ14: 0 | BA14: 84 | BB14: 61
A15: 宜蘭縣 | C15: 356 | D15: 10 | E15: 0 | F15: 117 | G15: 22 | H15: 2 | I15: 120 | J15: 3 | K15: 4 | L15: 3 | M15: 66 | N15: 0 | O15: 0 | P15: 4 | Q15: 0 | R15: 5 | S15: 194 | T15: 5 | U15: 3 | V15: 29 | W15: 34 | X15: 8 | Y15: 4 | Z15: 8 | AA15: 4 | AB15: 1 | AC15: 3 | AD15: 1 | AE15: 16 | AF15: 26 | AG15: 3 | AH15: 8 | AI15: 3 | AJ15: 21 | AK15: 7 | AL15: 10 | AM15: 0 | AN15: 194 | AO15: 95 | AP15: 3 | AQ15: 16 | AR15: 25 | AS15: 0 | AT15: 1 | AU15: 0 | AV15: 12 | AW15: 4 | AX15: 3 | AY15: 1 | AZ15: 0 | BA15: 24 | BB15: 10
A16: 新竹縣 | C16: 467 | D16: 17 | E16: 2 | F16: 116 | G16: 37 | H16: 1 | I16: 180 | J16: 5 | K16: 1 | L16: 5 | M16: 90 | N16: 0 | O16: 0 | P16: 2 | Q16: 0 | R16: 11 | S16: 248 | T16: 11 | U16: 2 | V16: 27 | W16: 46 | X16: 17 | Y16: 8 | Z16: 10 | AA16: 9 | AB16: 1 | AC16: 2 | AD16: 7 | AE16: 10 | AF16: 16 | AG16: 1 | AH16: 14 | AI16: 7 | AJ16: 27 | AK16: 13 | AL16: 20 | AM16: 0 | AN16: 248 | AO16: 134 | AP16: 9 | AQ16: 19 | AR16: 20 | AS16: 0 | AT16: 3 | AU16: 1 | AV16: 24 | AW16: 0 | AX16: 5 | AY16: 4 | AZ16: 0 | BA16: 19 | BB16: 10
A17: 苗栗縣 | C17: 382 | D17: 11 | E17: 0 | F17: 100 | G17: 15 | H17: 0 | I17: 146 | J17: 2 | K17: 0 | L17: 0 | M17: 98 | N17: 0 | O17: 0 | P17: 0 | Q17: 0 | R17: 10 | S17: 189 | T17: 3 | U17: 1 | V17: 19 | W17: 32 | X17: 13 | Y17: 6 | Z17: 8 | AA17: 5 | AB17: 0 | AC17: 0 | AD17: 1 | AE17: 21 | AF17: 17 | AG17: 9 | AH17: 9 | AI17: 2 | AJ17: 21 | AK17: 9 | AL17: 13 | AM17: 0 | AN17: 189 | AO17: 105 | AP17: 8 | AQ17: 10 | AR17: 17 | AS17: 0 | AT17: 0 | AU17: 0 | AV17: 23 | AW17: 0 | AX17: 0 | AY17: 0 | AZ17: 0 | BA17: 14 | BB17: 12
A18: 彰化縣 | C18: 1008 | D18: 16 | E18: 1 | F18: 305 | G18: 75 | H18: 2 | I18: 321 | J18: 18 | K18: 10 | L18: 14 | M18: 209 | N18: 0 | O18: 0 | P18: 7 | Q18: 0 | R18: 30 | S18: 563 | T18: 3 | U18: 6 | V18: 76 | W18: 122 | X18: 36 | Y18: 13 | Z18: 27 | AA18: 11 | AB18: 0 | AC18: 8 | AD18: 8 | AE18: 46 | AF18: 39 | AG18: 7 | AH18: 18 | AI18: 18 | AJ18: 57 | AK18: 23 | AL18: 43 | AM18: 2 | AN18: 563 | AO18: 280 | AP18: 9 | AQ18: 43 | AR18: 63 | AS18: 0 | AT18: 10 | AU18: 4 | AV18: 44 | AW18: 2 | AX18: 9 | AY18: 6 | AZ18: 0 | BA18: 50 | BB18: 43
A19: 南投縣 | C19: 457 | D19: 15 | E19: 5 | F19: 144 | G19: 35 | H19: 0 | I19: 135 | J19: 4 | K19: 6 | L19: 18 | M19: 89 | N19: 0 | O19: 0 | P19: 0 | Q19: 0 | R19: 6 | S19: 264 | T19: 2 | U19: 1 | V19: 29 | W19: 56 | X19: 20 | Y19: 9 | Z19: 17 | AA19: 2 | AB19: 0 | AC19: 4 | AD19: 8 | AE19: 17 | AF19: 17 | AG19: 7 | AH19: 5 | AI19: 14 | AJ19: 21 | AK19: 10 | AL19: 25 | AM19: 0 | AN19: 264 | AO19: 148 | AP19: 3 | AQ19: 7 | AR19: 20 | AS19: 0 | AT19: 2 | AU19: 1 | AV19: 24 | AW19: 0 | AX19: 5 | AY19: 5 | AZ19: 0 | BA19: 29 | BB19: 20
... A30: 連江縣 | C30: 14 | D30: 0 | E30: 0 | F30: 4 | G30: 1 | H30: 0 | I30: 8 | J30: 0 | K30: 0 | L30: 1 | M30: 0 | N30: 0 | O30: 0 | P30: 0 | Q30: 0 | R30: 0 | S30: 4 | T30: 1 | U30: 0 | V30: 0 | W30: 1 | X30: 1 | Y30: 0 | Z30: 0 | AA30: 0 | AB30: 0 | AC30: 0 | AD30: 0 | AE30: 0 | AF30: 0 | AG30: 0 | AH30: 0 | AI30: 0 | AJ30: 0 | AK30: 0 | AL30: 1 | AM30: 0 | AN30: 4 | AO30: 4 | AP30: 0 | AQ30: 0 | AR30: 0 | AS30: 0 | AT30: 0 | AU30: 0 | AV30: 0 | AW30: 0 | AX30: 0 | AY30: 0 | AZ30: 0 | BA30: 0 | BB30: 0
A31: 資料來源：本部保護服務司。
A32: Source :Department of Protective Services , MOHW.
A34: 更新日期：2021/7/30

Sheet 111
A1: 5.2-01 性侵害事件通報案件統計
A3: 單位：件次；件
A4: 區域別 | C4: 通報件次 | S4: 通報件數 | AN4: 通報件數
C5: 通報單位別 | S5: 被害及嫌疑人兩造關係別 | AN5: 主要發生場所
C7: 合計 | D7: 113 專線 | E7: 防治 中心 | F7: 教育 | G7: 社政 | H7: 勞政 | I7: 警政 | J7: 司(軍)法 | K7: 衛政 | L7: 診所及衛生所 | M7: 醫院 | N7: 憲兵隊 | O7: 移民業務機關 | P7: 矯正機關 | Q7: 民政 | R7: 其他 | S7: 合計 | T7: 配偶 | U7: 前配偶 | V7: 前男女朋友 | W7: 男女 朋友 | X7: 直系親屬 | Y7: 手足 | Z7: 其他旁系親屬 | AA7: 家長家屬或家屬間關係者 | AB7: 保母(含本人/同住家人) | AC7: 機構人員(含管理者/工作人員/志工/收容對象) | AD7: 家人 朋友 | AE7: 普通朋友 | AF7: 同學 | AG7: 鄰居 | AH7: 職場關係(上司下屬/同事/客戶) | AI7: 師生 關係 | AJ7: 網友 | AK7: 不認識 | AL7: 其他 | AM7: 不詳 | AN7: 合計 | AO7: 住(居)所 | AP7: 辦公/工作場所 | AQ7: 公共 場所 | AR7: 學校 | AS7: 寄養 家庭 | AT7: 補習班 | AU7: 高級中等以下有提供住宿之學校 | AV7: 旅(賓)館 | AW7: 矯正 機關 | AX7: 特殊營業場所(視聽歌唱業、理髮業、三溫暖業、舞廳業、舞場業、酒家業、酒吧業、特殊咖啡茶室業) | AY7: 社會福利/安置照顧機構/兒少安置機構 | AZ7: 網際 網路 | BA7: 其他 | BB7: 不詳
A8: 111年 2022 | C8: 17201 | D8: 563 | E8: 219 | F8: 4262 | G8: 1205 | H8: 24 | I8: 6064 | J8: 236 | K8: 80 | L8: 223 | M8: 3891 | N8: 6 | O8: 2 | P8: 63 | Q8: 2 | R8: 361 | S8: 9234 | T8: 129 | U8: 60 | V8: 1156 | W8: 1770 | X8: 506 | Y8: 241 | Z8: 379 | AA8: 183 | AB8: 8 | AC8: 123 | AD8: 210 | AE8: 858 | AF8: 614 | AG8: 153 | AH8: 530 | AI8: 171 | AJ8: 1036 | AK8: 534 | AL8: 564 | AM8: 9 | AN8: 9234 | AO8: 4796 | AP8: 227 | AQ8: 631 | AR8: 636 | AS8: 5 | AT8: 73 | AU8: 31 | AV8: 1083 | AW8: 41 | AX8: 185 | AY8: 112 | AZ8: 3 | BA8: 869 | BB8: 542
A9: 新北市 | C9: 2980 | D9: 122 | E9: 82 | F9: 716 | G9: 196 | H9: 8 | I9: 957 | J9: 42 | K9: 11 | L9: 31 | M9: 694 | N9: 1 | O9: 0 | P9: 21 | Q9: 0 | R9: 99 | S9: 1648 | T9: 6 | U9: 2 | V9: 212 | W9: 242 | X9: 112 | Y9: 36 | Z9: 64 | AA9: 31 | AB9: 3 | AC9: 25 | AD9: 30 | AE9: 146 | AF9: 126 | AG9: 16 | AH9: 124 | AI9: 26 | AJ9: 227 | AK9: 103 | AL9: 116 | AM9: 1 | AN9: 1648 | AO9: 786 | AP9: 50 | AQ9: 138 | AR9: 100 | AS9: 1 | AT9: 13 | AU9: 5 | AV9: 210 | AW9: 10 | AX9: 39 | AY9: 23 | AZ9: 0 | BA9: 152 | BB9: 121
A10: 臺北市 | C10: 1596 | D10: 80 | E10: 30 | F10: 293 | G10: 130 | H10: 3 | I10: 649 | J10: 16 | K10: 5 | L10: 9 | M10: 340 | N10: 0 | O10: 0 | P10: 0 | Q10: 0 | R10: 41 | S10: 837 | T10: 19 | U10: 5 | V10: 105 | W10: 81 | X10: 44 | Y10: 23 | Z10: 42 | AA10: 14 | AB10: 0 | AC10: 6 | AD10: 12 | AE10: 106 | AF10: 68 | AG10: 5 | AH10: 57 | AI10: 23 | AJ10: 106 | AK10: 72 | AL10: 49 | AM10: 0 | AN10: 837 | AO10: 399 | AP10: 15 | AQ10: 50 | AR10: 67 | AS10: 2 | AT10: 6 | AU10: 0 | AV10: 125 | AW10: 1 | AX10: 27 | AY10: 7 | AZ10: 2 | BA10: 75 | BB10: 61
A11: 桃園市 | C11: 2050 | D11: 53 | E11: 13 | F11: 552 | G11: 129 | H11: 5 | I11: 734 | J11: 30 | K11: 9 | L11: 30 | M11: 465 | N11: 0 | O11: 0 | P11: 9 | Q11: 0 | R11: 21 | S11: 1135 | T11: 17 | U11: 9 | V11: 65 | W11: 367 | X11: 46 | Y11: 27 | Z11: 38 | AA11: 20 | AB11: 1 | AC11: 13 | AD11: 22 | AE11: 86 | AF11: 82 | AG11: 12 | AH11: 71 | AI11: 14 | AJ11: 118 | AK11: 64 | AL11: 63 | AM11: 0 | AN11: 1135 | AO11: 638 | AP11: 30 | AQ11: 66 | AR11: 69 | AS11: 1 | AT11: 6 | AU11: 1 | AV11: 131 | AW11: 4 | AX11: 29 | AY11: 11 | AZ11: 0 | BA11: 105 | BB11: 44
A12: 臺中市 | C12: 2131 | D12: 66 | E12: 37 | F12: 457 | G12: 132 | H12: 3 | I12: 769 | J12: 46 | K12: 3 | L12: 44 | M12: 522 | N12: 2 | O12: 0 | P12: 9 | Q12: 1 | R12: 40 | S12: 1185 | T12: 25 | U12: 8 | V12: 149 | W12: 237 | X12: 51 | Y12: 30 | Z12: 43 | AA12: 18 | AB12: 0 | AC12: 16 | AD12: 30 | AE12: 134 | AF12: 51 | AG12: 22 | AH12: 86 | AI12: 27 | AJ12: 123 | AK12: 60 | AL12: 71 | AM12: 4 | AN12: 1185 | AO12: 594 | AP12: 28 | AQ12: 66 | AR12: 69 | AS12: 0 | AT12: 9 | AU12: 2 | AV12: 176 | AW12: 4 | AX12: 18 | AY12: 11 | AZ12: 0 | BA12: 138 | BB12: 70
A13: 臺南市 | C13: 1178 | D13: 40 | E13: 21 | F13: 304 | G13: 116 | H13: 1 | I13: 424 | J13: 9 | K13: 9 | L13: 19 | M13: 217 | N13: 0 | O13: 0 | P13: 1 | Q13: 0 | R13: 17 | S13: 657 | T13: 11 | U13: 7 | V13: 81 | W13: 113 | X13: 42 | Y13: 15 | Z13: 37 | AA13: 15 | AB13: 0 | AC13: 10 | AD13: 13 | AE13: 51 | AF13: 48 | AG13: 13 | AH13: 37 | AI13: 12 | AJ13: 73 | AK13: 28 | AL13: 51 | AM13: 0 | AN13: 657 | AO13: 356 | AP13: 19 | AQ13: 23 | AR13: 54 | AS13: 1 | AT13: 8 | AU13: 1 | AV13: 74 | AW13: 1 | AX13: 9 | AY13: 9 | AZ13: 0 | BA13: 65 | BB13: 37
A14: 高雄市 | C14: 1863 | D14: 71 | E14: 24 | F14: 424 | G14: 111 | H14: 0 | I14: 669 | J14: 23 | K14: 13 | L14: 29 | M14: 464 | N14: 2 | O14: 0 | P14: 5 | Q14: 0 | R14: 28 | S14: 972 | T14: 15 | U14: 9 | V14: 133 | W14: 171 | X14: 52 | Y14: 33 | Z14: 39 | AA14: 27 | AB14: 1 | AC14: 12 | AD14: 29 | AE14: 85 | AF14: 52 | AG14: 23 | AH14: 55 | AI14: 12 | AJ14: 128 | AK14: 60 | AL14: 36 | AM14: 0 | AN14: 972 | AO14: 526 | AP14: 25 | AQ14: 76 | AR14: 69 | AS14: 0 | AT14: 7 | AU14: 1 | AV14: 121 | AW14: 5 | AX14: 22 | AY14: 8 | AZ14: 1 | BA14: 58 | BB14: 53
A15: 宜蘭縣 | C15: 334 | D15: 10 | E15: 0 | F15: 103 | G15: 29 | H15: 0 | I15: 110 | J15: 4 | K15: 3 | L15: 0 | M15: 67 | N15: 0 | O15: 0 | P15: 0 | Q15: 0 | R15: 8 | S15: 187 | T15: 2 | U15: 1 | V15: 22 | W15: 45 | X15: 6 | Y15: 8 | Z15: 6 | AA15: 5 | AB15: 0 | AC15: 3 | AD15: 5 | AE15: 17 | AF15: 18 | AG15: 4 | AH15: 4 | AI15: 2 | AJ15: 16 | AK15: 9 | AL15: 14 | AM15: 0 | AN15: 187 | AO15: 105 | AP15: 1 | AQ15: 12 | AR15: 15 | AS15: 0 | AT15: 2 | AU15: 1 | AV15: 17 | AW15: 0 | AX15: 1 | AY15: 2 | AZ15: 0 | BA15: 20 | BB15: 11
A16: 新竹縣 | C16: 462 | D16: 15 | E16: 3 | F16: 131 | G16: 35 | H16: 0 | I16: 165 | J16: 9 | K16: 2 | L16: 5 | M16: 90 | N16: 0 | O16: 0 | P16: 1 | Q16: 0 | R16: 6 | S16: 249 | T16: 3 | U16: 0 | V16: 15 | W16: 73 | X16: 12 | Y16: 9 | Z16: 13 | AA16: 6 | AB16: 0 | AC16: 3 | AD16: 5 | AE16: 26 | AF16: 17 | AG16: 4 | AH16: 10 | AI16: 2 | AJ16: 20 | AK16: 13 | AL16: 18 | AM16: 0 | AN16: 249 | AO16: 140 | AP16: 7 | AQ16: 20 | AR16: 18 | AS16: 0 | AT16: 2 | AU16: 0 | AV16: 19 | AW16: 3 | AX16: 2 | AY16: 2 | AZ16: 0 | BA16: 22 | BB16: 14
A17: 苗栗縣 | C17: 345 | D17: 17 | E17: 0 | F17: 83 | G17: 22 | H17: 0 | I17: 131 | J17: 2 | K17: 1 | L17: 4 | M17: 78 | N17: 0 | O17: 0 | P17: 1 | Q17: 0 | R17: 6 | S17: 177 | T17: 4 | U17: 1 | V17: 29 | W17: 39 | X17: 10 | Y17: 4 | Z17: 4 | AA17: 4 | AB17: 0 | AC17: 3 | AD17: 7 | AE17: 22 | AF17: 6 | AG17: 0 | AH17: 5 | AI17: 1 | AJ17: 17 | AK17: 12 | AL17: 9 | AM17: 0 | AN17: 177 | AO17: 106 | AP17: 5 | AQ17: 19 | AR17: 9 | AS17: 0 | AT17: 0 | AU17: 0 | AV17: 18 | AW17: 1 | AX17: 4 | AY17: 4 | AZ17: 0 | BA17: 6 | BB17: 5
A18: 彰化縣 | C18: 912 | D18: 10 | E18: 3 | F18: 262 | G18: 71 | H18: 1 | I18: 295 | J18: 10 | K18: 4 | L18: 8 | M18: 209 | N18: 0 | O18: 0 | P18: 2 | Q18: 0 | R18: 37 | S18: 462 | T18: 7 | U18: 1 | V18: 86 | W18: 63 | X18: 24 | Y18: 11 | Z18: 19 | AA18: 7 | AB18: 1 | AC18: 6 | AD18: 14 | AE18: 35 | AF18: 31 | AG18: 7 | AH18: 21 | AI18: 19 | AJ18: 45 | AK18: 35 | AL18: 28 | AM18: 2 | AN18: 462 | AO18: 221 | AP18: 12 | AQ18: 39 | AR18: 41 | AS18: 0 | AT18: 7 | AU18: 1 | AV18: 50 | AW18: 2 | AX18: 11 | AY18: 3 | AZ18: 0 | BA18: 48 | BB18: 27
A19: 南投縣 | C19: 333 | D19: 10 | E19: 1 | F19: 123 | G19: 22 | H19: 0 | I19: 89 | J19: 12 | K19: 2 | L19: 10 | M19: 60 | N19: 0 | O19: 0 | P19: 2 | Q19: 0 | R19: 2 | S19: 201 | T19: 2 | U19: 1 | V19: 28 | W19: 61 | X19: 17 | Y19: 5 | Z19: 7 | AA19: 3 | AB19: 0 | AC19: 2 | AD19: 5 | AE19: 8 | AF19: 8 | AG19: 3 | AH19: 8 | AI19: 5 | AJ19: 18 | AK19: 11 | AL19: 8 | AM19: 1 | AN19: 201 | AO19: 105 | AP19: 6 | AQ19: 15 | AR19: 15 | AS19: 0 | AT19: 3 | AU19: 3 | AV19: 12 | AW19: 0 | AX19: 3 | AY19: 2 | AZ19: 0 | BA19: 17 | BB19: 20
... A30: 連江縣 | C30: 5 | D30: 0 | E30: 0 | F30: 4 | G30: 0 | H30: 0 | I30: 0 | J30: 0 | K30: 0 | L30: 0 | M30: 0 | N30: 0 | O30: 0 | P30: 0 | Q30: 0 | R30: 1 | S30: 4 | T30: 0 | U30: 0 | V30: 0 | W30: 3 | X30: 0 | Y30: 0 | Z30: 0 | AA30: 0 | AB30: 0 | AC30: 0 | AD30: 0 | AE30: 0 | AF30: 1 | AG30: 0 | AH30: 0 | AI30: 0 | AJ30: 0 | AK30: 0 | AL30: 0 | AM30: 0 | AN30: 4 | AO30: 3 | AP30: 0 | AQ30: 1 | AR30: 0 | AS30: 0 | AT30: 0 | AU30: 0 | AV30: 0 | AW30: 0 | AX30: 0 | AY30: 0 | AZ30: 0 | BA30: 0 | BB30: 0
A31: 資料來源：本部保護服務司。
A32: Source :Department of Protective Services , MOHW.
A34: 更新日期：2021/7/30

Sheet 110
A1: 5.2-01 性侵害事件通報案件統計
A3: 單位：件次；件
A4: 區域別 | C4: 通報件次 | S4: 通報件數 | AN4: 通報件數
C5: 通報單位別 | S5: 被害及嫌疑人兩造關係別 | AN5: 主要發生場所
C7: 合計 | D7: 113 專線 | E7: 防治 中心 | F7: 教育 | G7: 社政 | H7: 勞政 | I7: 警政 | J7: 司(軍)法 | K7: 衛政 | L7: 診所及衛生所 | M7: 醫院 | N7: 憲兵隊 | O7: 移民業務機關 | P7: 矯正機關 | Q7: 民政 | R7: 其他 | S7: 合計 | T7: 配偶 | U7: 前配偶 | V7: 前男女朋友 | W7: 男女 朋友 | X7: 直系親屬 | Y7: 手足 | Z7: 其他旁系親屬 | AA7: 家長家屬或家屬間關係者 | AB7: 保母(含本人/同住家人) | AC7: 機構人員(含管理者/工作人員/志工/收容對象) | AD7: 家人 朋友 | AE7: 普通朋友 | AF7: 同學 | AG7: 鄰居 | AH7: 職場關係(上司下屬/同事/客戶) | AI7: 師生 關係 | AJ7: 網友 | AK7: 不認識 | AL7: 其他 | AM7: 不詳 | AN7: 合計 | AO7: 住(居)所 | AP7: 辦公/工作場所 | AQ7: 公共 場所 | AR7: 學校 | AS7: 寄養 家庭 | AT7: 補習班 | AU7: 高級中等以下有提供住宿之學校 | AV7: 旅(賓)館 | AW7: 矯正 機關 | AX7: 特殊營業場所(視聽歌唱業、理髮業、三溫暖業、舞廳業、舞場業、酒家業、酒吧業、特殊咖啡茶室業) | AY7: 社會福利/安置照顧機構/兒少安置機構 | AZ7: 網際 網路 | BA7: 其他 | BB7: 不詳
A8: 110年 2021 | C8: 16029 | D8: 588 | E8: 275 | F8: 4059 | G8: 1277 | H8: 23 | I8: 5429 | J8: 198 | K8: 58 | L8: 190 | M8: 3582 | N8: 9 | O8: 5 | P8: 58 | Q8: 0 | R8: 278 | S8: 8532 | T8: 119 | U8: 60 | V8: 990 | W8: 1677 | X8: 514 | Y8: 269 | Z8: 361 | AA8: 164 | AB8: 4 | AC8: 129 | AD8: 201 | AE8: 784 | AF8: 582 | AG8: 158 | AH8: 476 | AI8: 159 | AJ8: 924 | AK8: 480 | AL8: 468 | AM8: 13 | AN8: 8532 | AO8: 4547 | AP8: 223 | AQ8: 552 | AR8: 586 | AS8: 4 | AT8: 48 | AU8: 19 | AV8: 961 | AW8: 20 | AX8: 132 | AY8: 115 | AZ8: 6 | BA8: 711 | BB8: 608
A9: 新北市 | C9: 2806 | D9: 136 | E9: 91 | F9: 686 | G9: 154 | H9: 5 | I9: 848 | J9: 39 | K9: 10 | L9: 36 | M9: 717 | N9: 1 | O9: 1 | P9: 18 | Q9: 0 | R9: 64 | S9: 1549 | T9: 5 | U9: 1 | V9: 207 | W9: 238 | X9: 132 | Y9: 62 | Z9: 63 | AA9: 24 | AB9: 3 | AC9: 17 | AD9: 29 | AE9: 148 | AF9: 93 | AG9: 19 | AH9: 98 | AI9: 42 | AJ9: 190 | AK9: 98 | AL9: 79 | AM9: 1 | AN9: 1549 | AO9: 774 | AP9: 31 | AQ9: 111 | AR9: 100 | AS9: 0 | AT9: 15 | AU9: 1 | AV9: 189 | AW9: 1 | AX9: 26 | AY9: 12 | AZ9: 2 | BA9: 148 | BB9: 139
A10: 臺北市 | C10: 1456 | D10: 85 | E10: 25 | F10: 289 | G10: 147 | H10: 3 | I10: 517 | J10: 11 | K10: 5 | L10: 7 | M10: 325 | N10: 0 | O10: 0 | P10: 0 | Q10: 0 | R10: 42 | S10: 813 | T10: 8 | U10: 7 | V10: 86 | W10: 101 | X10: 47 | Y10: 33 | Z10: 36 | AA10: 17 | AB10: 1 | AC10: 6 | AD10: 13 | AE10: 81 | AF10: 77 | AG10: 9 | AH10: 63 | AI10: 13 | AJ10: 103 | AK10: 59 | AL10: 53 | AM10: 0 | AN10: 813 | AO10: 401 | AP10: 22 | AQ10: 52 | AR10: 52 | AS10: 2 | AT10: 6 | AU10: 1 | AV10: 93 | AW10: 0 | AX10: 21 | AY10: 9 | AZ10: 1 | BA10: 68 | BB10: 85
A11: 桃園市 | C11: 1960 | D11: 67 | E11: 27 | F11: 526 | G11: 158 | H11: 1 | I11: 651 | J11: 27 | K11: 4 | L11: 19 | M11: 448 | N11: 2 | O11: 0 | P11: 3 | Q11: 0 | R11: 27 | S11: 1060 | T11: 18 | U11: 14 | V11: 62 | W11: 387 | X11: 53 | Y11: 22 | Z11: 20 | AA11: 19 | AB11: 0 | AC11: 25 | AD11: 13 | AE11: 82 | AF11: 52 | AG11: 15 | AH11: 57 | AI11: 4 | AJ11: 91 | AK11: 75 | AL11: 48 | AM11: 3 | AN11: 1060 | AO11: 580 | AP11: 26 | AQ11: 63 | AR11: 56 | AS11: 0 | AT11: 5 | AU11: 2 | AV11: 119 | AW11: 2 | AX11: 29 | AY11: 20 | AZ11: 0 | BA11: 93 | BB11: 65
A12: 臺中市 | C12: 1810 | D12: 63 | E12: 16 | F12: 371 | G12: 140 | H12: 2 | I12: 665 | J12: 35 | K12: 5 | L12: 40 | M12: 441 | N12: 3 | O12: 0 | P12: 3 | Q12: 0 | R12: 26 | S12: 939 | T12: 22 | U12: 12 | V12: 133 | W12: 157 | X12: 43 | Y12: 24 | Z12: 33 | AA12: 20 | AB12: 0 | AC12: 5 | AD12: 20 | AE12: 95 | AF12: 51 | AG12: 12 | AH12: 62 | AI12: 26 | AJ12: 122 | AK12: 40 | AL12: 60 | AM12: 2 | AN12: 939 | AO12: 529 | AP12: 32 | AQ12: 60 | AR12: 38 | AS12: 1 | AT12: 13 | AU12: 0 | AV12: 115 | AW12: 0 | AX12: 14 | AY12: 9 | AZ12: 0 | BA12: 70 | BB12: 58
A13: 臺南市 | C13: 1057 | D13: 39 | E13: 23 | F13: 281 | G13: 104 | H13: 0 | I13: 372 | J13: 6 | K13: 7 | L13: 18 | M13: 187 | N13: 1 | O13: 0 | P13: 0 | Q13: 0 | R13: 19 | S13: 581 | T13: 15 | U13: 4 | V13: 95 | W13: 68 | X13: 37 | Y13: 26 | Z13: 44 | AA13: 12 | AB13: 0 | AC13: 7 | AD13: 18 | AE13: 49 | AF13: 30 | AG13: 24 | AH13: 28 | AI13: 11 | AJ13: 56 | AK13: 18 | AL13: 38 | AM13: 1 | AN13: 581 | AO13: 334 | AP13: 14 | AQ13: 23 | AR13: 45 | AS13: 0 | AT13: 2 | AU13: 0 | AV13: 68 | AW13: 1 | AX13: 5 | AY13: 6 | AZ13: 0 | BA13: 43 | BB13: 40
A14: 高雄市 | C14: 1743 | D14: 66 | E14: 40 | F14: 456 | G14: 146 | H14: 2 | I14: 551 | J14: 20 | K14: 10 | L14: 31 | M14: 393 | N14: 1 | O14: 0 | P14: 6 | Q14: 0 | R14: 21 | S14: 941 | T14: 10 | U14: 8 | V14: 105 | W14: 197 | X14: 57 | Y14: 26 | Z14: 38 | AA14: 16 | AB14: 0 | AC14: 25 | AD14: 26 | AE14: 77 | AF14: 62 | AG14: 21 | AH14: 52 | AI14: 13 | AJ14: 116 | AK14: 54 | AL14: 37 | AM14: 1 | AN14: 941 | AO14: 486 | AP14: 22 | AQ14: 76 | AR14: 97 | AS14: 0 | AT14: 3 | AU14: 2 | AV14: 117 | AW14: 5 | AX14: 13 | AY14: 15 | AZ14: 2 | BA14: 53 | BB14: 50
A15: 宜蘭縣 | C15: 355 | D15: 11 | E15: 2 | F15: 99 | G15: 29 | H15: 0 | I15: 117 | J15: 3 | K15: 1 | L15: 1 | M15: 83 | N15: 0 | O15: 0 | P15: 2 | Q15: 0 | R15: 7 | S15: 183 | T15: 2 | U15: 0 | V15: 18 | W15: 37 | X15: 7 | Y15: 5 | Z15: 5 | AA15: 4 | AB15: 0 | AC15: 4 | AD15: 2 | AE15: 21 | AF15: 19 | AG15: 10 | AH15: 7 | AI15: 5 | AJ15: 15 | AK15: 12 | AL15: 10 | AM15: 0 | AN15: 183 | AO15: 76 | AP15: 9 | AQ15: 21 | AR15: 20 | AS15: 0 | AT15: 1 | AU15: 0 | AV15: 20 | AW15: 2 | AX15: 2 | AY15: 5 | AZ15: 0 | BA15: 19 | BB15: 8
A16: 新竹縣 | C16: 444 | D16: 12 | E16: 13 | F16: 151 | G16: 26 | H16: 3 | I16: 159 | J16: 4 | K16: 2 | L16: 1 | M16: 71 | N16: 0 | O16: 0 | P16: 0 | Q16: 0 | R16: 2 | S16: 235 | T16: 3 | U16: 1 | V16: 15 | W16: 73 | X16: 23 | Y16: 5 | Z16: 5 | AA16: 4 | AB16: 0 | AC16: 1 | AD16: 6 | AE16: 29 | AF16: 7 | AG16: 3 | AH16: 13 | AI16: 4 | AJ16: 23 | AK16: 8 | AL16: 11 | AM16: 1 | AN16: 235 | AO16: 147 | AP16: 6 | AQ16: 10 | AR16: 10 | AS16: 0 | AT16: 0 | AU16: 0 | AV16: 24 | AW16: 0 | AX16: 2 | AY16: 0 | AZ16: 0 | BA16: 13 | BB16: 23
A17: 苗栗縣 | C17: 361 | D17: 13 | E17: 7 | F17: 86 | G17: 37 | H17: 1 | I17: 134 | J17: 1 | K17: 2 | L17: 1 | M17: 74 | N17: 0 | O17: 0 | P17: 0 | Q17: 0 | R17: 5 | S17: 175 | T17: 2 | U17: 0 | V17: 28 | W17: 39 | X17: 12 | Y17: 10 | Z17: 5 | AA17: 4 | AB17: 0 | AC17: 3 | AD17: 8 | AE17: 14 | AF17: 6 | AG17: 4 | AH17: 6 | AI17: 3 | AJ17: 11 | AK17: 11 | AL17: 9 | AM17: 0 | AN17: 175 | AO17: 110 | AP17: 4 | AQ17: 9 | AR17: 4 | AS17: 0 | AT17: 1 | AU17: 1 | AV17: 16 | AW17: 0 | AX17: 1 | AY17: 3 | AZ17: 1 | BA17: 14 | BB17: 11
A18: 彰化縣 | C18: 798 | D18: 22 | E18: 8 | F18: 202 | G18: 70 | H18: 1 | I18: 263 | J18: 18 | K18: 0 | L18: 8 | M18: 169 | N18: 0 | O18: 1 | P18: 19 | Q18: 0 | R18: 17 | S18: 419 | T18: 9 | U18: 3 | V18: 45 | W18: 65 | X18: 26 | Y18: 10 | Z18: 26 | AA18: 8 | AB18: 0 | AC18: 8 | AD18: 19 | AE18: 41 | AF18: 49 | AG18: 2 | AH18: 18 | AI18: 0 | AJ18: 41 | AK18: 26 | AL18: 21 | AM18: 2 | AN18: 419 | AO18: 236 | AP18: 13 | AQ18: 27 | AR18: 30 | AS18: 0 | AT18: 0 | AU18: 0 | AV18: 47 | AW18: 4 | AX18: 4 | AY18: 5 | AZ18: 0 | BA18: 23 | BB18: 30
A19: 南投縣 | C19: 406 | D19: 9 | E19: 10 | F19: 146 | G19: 26 | H19: 0 | I19: 102 | J19: 8 | K19: 1 | L19: 6 | M19: 85 | N19: 0 | O19: 2 | P19: 0 | Q19: 0 | R19: 11 | S19: 229 | T19: 2 | U19: 2 | V19: 31 | W19: 58 | X19: 13 | Y19: 6 | Z19: 14 | AA19: 4 | AB19: 0 | AC19: 9 | AD19: 6 | AE19: 19 | AF19: 18 | AG19: 7 | AH19: 6 | AI19: 3 | AJ19: 14 | AK19: 5 | AL19: 12 | AM19: 0 | AN19: 229 | AO19: 133 | AP19: 1 | AQ19: 12 | AR19: 9 | AS19: 0 | AT19: 0 | AU19: 1 | AV19: 19 | AW19: 0 | AX19: 1 | AY19: 8 | AZ19: 0 | BA19: 24 | BB19: 21
... A30: 連江縣 | C30: 4 | D30: 0 | E30: 0 | F30: 0 | G30: 1 | H30: 0 | I30: 3 | J30: 0 | K30: 0 | L30: 0 | M30: 0 | N30: 0 | O30: 0 | P30: 0 | Q30: 0 | R30: 0 | S30: 1 | T30: 0 | U30: 0 | V30: 0 | W30: 0 | X30: 0 | Y30: 0 | Z30: 0 | AA30: 0 | AB30: 0 | AC30: 0 | AD30: 0 | AE30: 0 | AF30: 0 | AG30: 0 | AH30: 1 | AI30: 0 | AJ30: 0 | AK30: 0 | AL30: 0 | AM30: 0 | AN30: 1 | AO30: 0 | AP30: 1 | AQ30: 0 | AR30: 0 | AS30: 0 | AT30: 0 | AU30: 0 | AV30: 0 | AW30: 0 | AX30: 0 | AY30: 0 | AZ30: 0 | BA30: 0 | BB30: 0
A31: 資料來源：本部保護服務司。
A32: Source :Department of Protective Services , MOHW.
A34: 更新日期：2021/7/30

Sheet 108~109
A1: 5.2-01 性侵害事件通報案件統計
A3: 單位：件次；件
A4: 年別 | C4: 通報件次 | O4: 通報件數 | AH4: 通報件數
C5: 通報人員別 | O5: 被害及嫌疑人兩造關係別 | AH5: 主要發生場所
C7: 合計 | D7: 醫事 人員 | E7: 警察 人員 | F7: 社政/社工人員 | G7: 教育 人員 | H7: 保育 人員 | I7: 勞政 人員 | J7: 司(軍)法人員 | K7: 移民業務相關人員 | L7: 村（里）幹事 | M7: 矯正 人員 | N7: 其他 | O7: 合計 | P7: 配偶 | Q7: 前配偶 | R7: 同居 伴侶 | S7: 未同居伴侶 | T7: 曾為同居伴侶 | U7: 現為/曾為直系親屬 | V7: 現為/曾為家長家屬或家屬間關係者 | W7: 其他 親屬 | X7: 非家庭成員照顧者 | Y7: 保母 | Z7: 機構 人員 | AA7: 朋友(家人朋友/男女朋友/普通朋友/同學/鄰居) | AB7: 職場關係(上司下屬/同事/客戶) | AC7: 師生 關係 | AD7: 網友 | AE7: 不認識 | AF7: 其他 | AG7: 不詳 | AH7: 合計 | AI7: 住(居)所 | AJ7: 辦公/工作場所 | AK7: 公共 場所 | AL7: 學校 | AM7: 寄養 家庭 | AN7: 補習班 | AO7: 高級中等以下有提供住宿之學校 | AP7: 旅(賓)館 | AQ7: 矯正 機關 | AR7: 特殊營業場所(視聽歌唱業、理髮業、三溫暖業、舞廳業、舞場業、酒家業、酒吧業、特殊咖啡茶室業) | AS7: 社會福利/安置照顧機構/兒少安置機構 | AT7: 網際 網路 | AU7: 其他 | AV7: 不詳
A8: 108年 2019 | C8: 17119 | D8: 1466 | E8: 5067 | F8: 5607 | G8: 4460 | H8: 13 | I8: 29 | J8: 188 | K8: 3 | L8: 7 | M8: 53 | N8: 226 | O8: 9183 | P8: 107 | Q8: 43 | R8: 53 | S8: 321 | T8: 44 | U8: 394 | V8: 107 | W8: 516 | X8: 12 | Y8: 4 | Z8: 22 | AA8: 3495 | AB8: 396 | AC8: 201 | AD8: 833 | AE8: 446 | AF8: 1216 | AG8: 973 | AH8: 9183 | AI8: 4367 | AJ8: 183 | AK8: 553 | AL8: 706 | AM8: 5 | AN8: 75 | AO8: 35 | AP8: 983 | AQ8: 30 | AR8: 138 | AS8: 123 | AT8: 11 | AU8: 867 | AV8: 1107
A9: 109年 2020 | C9: 18847 | D9: 1550 | E9: 5735 | F9: 5905 | G9: 5073 | H9: 13 | I9: 25 | J9: 226 | K9: 3 | L9: 2 | M9: 64 | N9: 251 | O9: 10334 | P9: 138 | Q9: 57 | R9: 63 | S9: 1644 | T9: 107 | U9: 621 | V9: 141 | W9: 611 | X9: 16 | Y9: 4 | Z9: 43 | AA9: 3397 | AB9: 414 | AC9: 204 | AD9: 980 | AE9: 582 | AF9: 978 | AG9: 334 | AH9: 10334 | AI9: 4971 | AJ9: 247 | AK9: 684 | AL9: 727 | AM9: 13 | AN9: 73 | AO9: 49 | AP9: 1040 | AQ9: 46 | AR9: 175 | AS9: 124 | AT9: 9 | AU9: 818 | AV9: 1358
A10: 資料來源：本部保護服務司。
A12: 更新日期：2021/7/30

Sheet 109
A1: 5.2-01 性侵害事件通報案件統計
A3: 單位：件次；件
A4: 區域別 | C4: 通報件次 | O4: 通報件數 | AH4: 通報件數
C5: 通報人員別 | O5: 被害及嫌疑人兩造關係別 | AH5: 主要發生場所
C7: 合計 | D7: 醫事 人員 | E7: 警察 人員 | F7: 社政/社工人員 | G7: 教育 人員 | H7: 保育 人員 | I7: 勞政 人員 | J7: 司(軍)法人員 | K7: 移民業務相關人員 | L7: 村（里）幹事 | M7: 矯正 人員 | N7: 其他 | O7: 合計 | P7: 配偶 | Q7: 前配偶 | R7: 同居 伴侶 | S7: 未同居伴侶 | T7: 曾為同居伴侶 | U7: 現為/曾為直系親屬 | V7: 現為/曾為家長家屬或家屬間關係者 | W7: 其他 親屬 | X7: 非家庭成員照顧者 | Y7: 保母 | Z7: 機構 人員 | AA7: 朋友(家人朋友/男女朋友/普通朋友/同學/鄰居) | AB7: 職場關係(上司下屬/同事/客戶) | AC7: 師生 關係 | AD7: 網友 | AE7: 不認識 | AF7: 其他 | AG7: 不詳 | AH7: 合計 | AI7: 住(居)所 | AJ7: 辦公/工作場所 | AK7: 公共 場所 | AL7: 學校 | AM7: 寄養 家庭 | AN7: 補習班 | AO7: 高級中等以下有提供住宿之學校 | AP7: 旅(賓)館 | AQ7: 矯正 機關 | AR7: 特殊營業場所(視聽歌唱業、理髮業、三溫暖業、舞廳業、舞場業、酒家業、酒吧業、特殊咖啡茶室業) | AS7: 社會福利/安置照顧機構/兒少安置機構 | AT7: 網際 網路 | AU7: 其他 | AV7: 不詳
A8: 109年 2020 | C8: 18847 | D8: 1550 | E8: 5735 | F8: 5905 | G8: 5073 | H8: 13 | I8: 25 | J8: 226 | K8: 3 | L8: 2 | M8: 64 | N8: 251 | O8: 10334 | P8: 138 | Q8: 57 | R8: 63 | S8: 1644 | T8: 107 | U8: 621 | V8: 141 | W8: 611 | X8: 16 | Y8: 4 | Z8: 43 | AA8: 3397 | AB8: 414 | AC8: 204 | AD8: 980 | AE8: 582 | AF8: 978 | AG8: 334 | AH8: 10334 | AI8: 4971 | AJ8: 247 | AK8: 684 | AL8: 727 | AM8: 13 | AN8: 73 | AO8: 49 | AP8: 1040 | AQ8: 46 | AR8: 175 | AS8: 124 | AT8: 9 | AU8: 818 | AV8: 1358
A9: 新北市 | C9: 3221 | D9: 253 | E9: 867 | F9: 1164 | G9: 824 | H9: 4 | I9: 4 | J9: 44 | K9: 0 | L9: 0 | M9: 15 | N9: 46 | O9: 1844 | P9: 4 | Q9: 1 | R9: 8 | S9: 212 | T9: 14 | U9: 136 | V9: 28 | W9: 126 | X9: 3 | Y9: 0 | Z9: 3 | AA9: 609 | AB9: 79 | AC9: 57 | AD9: 204 | AE9: 133 | AF9: 166 | AG9: 61 | AH9: 1844 | AI9: 833 | AJ9: 55 | AK9: 128 | AL9: 133 | AM9: 3 | AN9: 16 | AO9: 9 | AP9: 181 | AQ9: 9 | AR9: 44 | AS9: 12 | AT9: 3 | AU9: 157 | AV9: 261
A10: 臺北市 | C10: 1701 | D10: 154 | E10: 539 | F10: 581 | G10: 370 | H10: 1 | I10: 1 | J10: 16 | K10: 0 | L10: 0 | M10: 0 | N10: 39 | O10: 979 | P10: 13 | Q10: 5 | R10: 4 | S10: 112 | T10: 11 | U10: 44 | V10: 8 | W10: 60 | X10: 3 | Y10: 1 | Z10: 7 | AA10: 347 | AB10: 50 | AC10: 21 | AD10: 97 | AE10: 77 | AF10: 90 | AG10: 29 | AH10: 979 | AI10: 362 | AJ10: 34 | AK10: 70 | AL10: 70 | AM10: 5 | AN10: 9 | AO10: 5 | AP10: 118 | AQ10: 0 | AR10: 24 | AS10: 14 | AT10: 0 | AU10: 77 | AV10: 191
A11: 桃園市 | C11: 2202 | D11: 282 | E11: 684 | F11: 565 | G11: 604 | H11: 1 | I11: 4 | J11: 31 | K11: 1 | L11: 0 | M11: 7 | N11: 23 | O11: 1231 | P11: 23 | Q11: 9 | R11: 10 | S11: 245 | T11: 15 | U11: 65 | V11: 9 | W11: 65 | X11: 1 | Y11: 1 | Z11: 2 | AA11: 339 | AB11: 59 | AC11: 15 | AD11: 112 | AE11: 71 | AF11: 161 | AG11: 29 | AH11: 1231 | AI11: 657 | AJ11: 36 | AK11: 75 | AL11: 59 | AM11: 1 | AN11: 5 | AO11: 2 | AP11: 144 | AQ11: 2 | AR11: 18 | AS11: 9 | AT11: 1 | AU11: 109 | AV11: 113
A12: 臺中市 | C12: 1962 | D12: 180 | E12: 660 | F12: 588 | G12: 462 | H12: 2 | I12: 3 | J12: 31 | K12: 0 | L12: 0 | M12: 3 | N12: 33 | O12: 1022 | P12: 26 | Q12: 7 | R12: 14 | S12: 193 | T12: 8 | U12: 53 | V12: 16 | W12: 62 | X12: 0 | Y12: 0 | Z12: 2 | AA12: 280 | AB12: 54 | AC12: 17 | AD12: 97 | AE12: 49 | AF12: 110 | AG12: 34 | AH12: 1022 | AI12: 516 | AJ12: 22 | AK12: 70 | AL12: 60 | AM12: 3 | AN12: 10 | AO12: 4 | AP12: 109 | AQ12: 1 | AR12: 17 | AS12: 9 | AT12: 1 | AU12: 75 | AV12: 125
A13: 臺南市 | C13: 1132 | D13: 71 | E13: 339 | F13: 371 | G13: 333 | H13: 0 | I13: 1 | J13: 8 | K13: 0 | L13: 0 | M13: 0 | N13: 9 | O13: 647 | P13: 8 | Q13: 9 | R13: 2 | S13: 99 | T13: 10 | U13: 38 | V13: 15 | W13: 55 | X13: 3 | Y13: 0 | Z13: 1 | AA13: 181 | AB13: 33 | AC13: 17 | AD13: 67 | AE13: 32 | AF13: 58 | AG13: 19 | AH13: 647 | AI13: 305 | AJ13: 17 | AK13: 36 | AL13: 59 | AM13: 0 | AN13: 12 | AO13: 5 | AP13: 57 | AQ13: 0 | AR13: 4 | AS13: 2 | AT13: 0 | AU13: 50 | AV13: 100
A14: 高雄市 | C14: 1997 | D14: 238 | E14: 567 | F14: 589 | G14: 551 | H14: 0 | I14: 3 | J14: 21 | K14: 0 | L14: 0 | M14: 1 | N14: 27 | O14: 1155 | P14: 10 | Q14: 8 | R14: 9 | S14: 204 | T14: 12 | U14: 71 | V14: 13 | W14: 62 | X14: 0 | Y14: 2 | Z14: 11 | AA14: 404 | AB14: 48 | AC14: 22 | AD14: 106 | AE14: 53 | AF14: 90 | AG14: 30 | AH14: 1155 | AI14: 580 | AJ14: 21 | AK14: 88 | AL14: 81 | AM14: 0 | AN14: 5 | AO14: 2 | AP14: 115 | AQ14: 5 | AR14: 24 | AS14: 15 | AT14: 3 | AU14: 54 | AV14: 162
A15: 宜蘭縣 | C15: 379 | D15: 7 | E15: 123 | F15: 134 | G15: 99 | H15: 1 | I15: 1 | J15: 6 | K15: 0 | L15: 0 | M15: 3 | N15: 5 | O15: 183 | P15: 3 | Q15: 0 | R15: 1 | S15: 24 | T15: 0 | U15: 11 | V15: 2 | W15: 9 | X15: 1 | Y15: 0 | Z15: 0 | AA15: 66 | AB15: 4 | AC15: 2 | AD15: 14 | AE15: 15 | AF15: 27 | AG15: 4 | AH15: 183 | AI15: 88 | AJ15: 3 | AK15: 16 | AL15: 25 | AM15: 0 | AN15: 0 | AO15: 0 | AP15: 16 | AQ15: 6 | AR15: 3 | AS15: 3 | AT15: 1 | AU15: 8 | AV15: 14
A16: 新竹縣 | C16: 587 | D16: 44 | E16: 197 | F16: 153 | G16: 176 | H16: 1 | I16: 1 | J16: 4 | K16: 0 | L16: 0 | M16: 0 | N16: 11 | O16: 321 | P16: 2 | Q16: 1 | R16: 1 | S16: 76 | T16: 1 | U16: 14 | V16: 0 | W16: 18 | X16: 0 | Y16: 0 | Z16: 2 | AA16: 98 | AB16: 9 | AC16: 9 | AD16: 40 | AE16: 13 | AF16: 22 | AG16: 15 | AH16: 321 | AI16: 126 | AJ16: 7 | AK16: 20 | AL16: 24 | AM16: 0 | AN16: 2 | AO16: 6 | AP16: 31 | AQ16: 1 | AR16: 9 | AS16: 15 | AT16: 0 | AU16: 18 | AV16: 62
A17: 苗栗縣 | C17: 456 | D17: 15 | E17: 156 | F17: 158 | G17: 117 | H17: 0 | I17: 0 | J17: 4 | K17: 0 | L17: 0 | M17: 1 | N17: 5 | O17: 232 | P17: 4 | Q17: 1 | R17: 0 | S17: 39 | T17: 4 | U17: 8 | V17: 2 | W17: 7 | X17: 0 | Y17: 0 | Z17: 0 | AA17: 93 | AB17: 10 | AC17: 1 | AD17: 21 | AE17: 15 | AF17: 17 | AG17: 10 | AH17: 232 | AI17: 114 | AJ17: 4 | AK17: 20 | AL17: 20 | AM17: 0 | AN17: 1 | AO17: 1 | AP17: 23 | AQ17: 2 | AR17: 4 | AS17: 0 | AT17: 0 | AU17: 17 | AV17: 26
A18: 彰化縣 | C18: 931 | D18: 57 | E18: 275 | F18: 313 | G18: 237 | H18: 0 | I18: 0 | J18: 16 | K18: 0 | L18: 0 | M18: 20 | N18: 13 | O18: 491 | P18: 12 | Q18: 4 | R18: 1 | S18: 69 | T18: 3 | U18: 43 | V18: 7 | W18: 28 | X18: 0 | Y18: 0 | Z18: 3 | AA18: 169 | AB18: 11 | AC18: 4 | AD18: 65 | AE18: 21 | AF18: 23 | AG18: 28 | AH18: 491 | AI18: 257 | AJ18: 9 | AK18: 19 | AL18: 29 | AM18: 1 | AN18: 2 | AO18: 3 | AP18: 55 | AQ18: 10 | AR18: 6 | AS18: 7 | AT18: 0 | AU18: 42 | AV18: 51
A19: 南投縣 | C19: 548 | D19: 26 | E19: 127 | F19: 169 | G19: 200 | H19: 1 | I19: 1 | J19: 15 | K19: 0 | L19: 0 | M19: 1 | N19: 8 | O19: 320 | P19: 4 | Q19: 0 | R19: 1 | S19: 48 | T19: 6 | U19: 24 | V19: 6 | W19: 9 | X19: 0 | Y19: 0 | Z19: 0 | AA19: 139 | AB19: 4 | AC19: 5 | AD19: 20 | AE19: 13 | AF19: 29 | AG19: 12 | AH19: 320 | AI19: 157 | AJ19: 4 | AK19: 23 | AL19: 29 | AM19: 0 | AN19: 2 | AO19: 3 | AP19: 23 | AQ19: 1 | AR19: 5 | AS19: 8 | AT19: 0 | AU19: 29 | AV19: 36
... A30: 連江縣 | C30: 3 | D30: 0 | E30: 0 | F30: 0 | G30: 3 | H30: 0 | I30: 0 | J30: 0 | K30: 0 | L30: 0 | M30: 0 | N30: 0 | O30: 3 | P30: 0 | Q30: 0 | R30: 0 | S30: 0 | T30: 0 | U30: 0 | V30: 0 | W30: 0 | X30: 0 | Y30: 0 | Z30: 0 | AA30: 3 | AB30: 0 | AC30: 0 | AD30: 0 | AE30: 0 | AF30: 0 | AG30: 0 | AH30: 3 | AI30: 0 | AJ30: 0 | AK30: 0 | AL30: 1 | AM30: 0 | AN30: 0 | AO30: 0 | AP30: 0 | AQ30: 0 | AR30: 0 | AS30: 0 | AT30: 0 | AU30: 0 | AV30: 2
A31: 資料來源：本部保護服務司。
A32: Source :Department of Protective Services , MOHW.
A34: 更新日期：2021/7/30

Sheet 108
A1: 5.2-01 性侵害事件通報案件統計
A3: 單位：件次；件
A4: 區域別 | C4: 通報件次 | O4: 通報件數 | AH4: 通報件數
C5: 通報人員別 | O5: 被害及嫌疑人兩造關係別 | AH5: 主要發生場所
C7: 合計 | D7: 醫事 人員 | E7: 警察 人員 | F7: 社政/社工人員 | G7: 教育 人員 | H7: 保育 人員 | I7: 勞政 人員 | J7: 司(軍)法人員 | K7: 移民業務相關人員 | L7: 村（里）幹事 | M7: 矯正 人員 | N7: 其他 | O7: 合計 | P7: 配偶 | Q7: 前配偶 | R7: 同居 伴侶 | S7: 未同居伴侶 | T7: 曾為同居伴侶 | U7: 現為/曾為直系親屬 | V7: 現為/曾為家長家屬或家屬間關係者 | W7: 其他 親屬 | X7: 非家庭成員照顧者 | Y7: 保母 | Z7: 機構 人員 | AA7: 朋友(家人朋友/男女朋友/普通朋友/同學/鄰居) | AB7: 職場關係(上司下屬/同事/客戶) | AC7: 師生 關係 | AD7: 網友 | AE7: 不認識 | AF7: 其他 | AG7: 不詳 | AH7: 合計 | AI7: 住(居)所 | AJ7: 辦公/工作場所 | AK7: 公共 場所 | AL7: 學校 | AM7: 寄養 家庭 | AN7: 補習班 | AO7: 高級中等以下有提供住宿之學校 | AP7: 旅(賓)館 | AQ7: 矯正 機關 | AR7: 特殊營業場所(視聽歌唱業、理髮業、三溫暖業、舞廳業、舞場業、酒家業、酒吧業、特殊咖啡茶室業) | AS7: 社會福利/安置照顧機構/兒少安置機構 | AT7: 網際 網路 | AU7: 其他 | AV7: 不詳
A8: 108年 2019 | C8: 17119 | D8: 1466 | E8: 5067 | F8: 5607 | G8: 4460 | H8: 13 | I8: 29 | J8: 188 | K8: 3 | L8: 7 | M8: 53 | N8: 226 | O8: 9183 | P8: 107 | Q8: 43 | R8: 53 | S8: 321 | T8: 44 | U8: 394 | V8: 107 | W8: 516 | X8: 12 | Y8: 4 | Z8: 22 | AA8: 3495 | AB8: 396 | AC8: 201 | AD8: 833 | AE8: 446 | AF8: 1216 | AG8: 973 | AH8: 9183 | AI8: 4367 | AJ8: 183 | AK8: 553 | AL8: 706 | AM8: 5 | AN8: 75 | AO8: 35 | AP8: 983 | AQ8: 30 | AR8: 138 | AS8: 123 | AT8: 11 | AU8: 867 | AV8: 1107
A9: 新北市 | C9: 2931 | D9: 238 | E9: 742 | F9: 1071 | G9: 799 | H9: 2 | I9: 5 | J9: 28 | K9: 0 | L9: 2 | M9: 8 | N9: 36 | O9: 1613 | P9: 4 | Q9: 1 | R9: 9 | S9: 23 | T9: 4 | U9: 78 | V9: 21 | W9: 94 | X9: 2 | Y9: 0 | Z9: 1 | AA9: 694 | AB9: 82 | AC9: 38 | AD9: 144 | AE9: 93 | AF9: 152 | AG9: 173 | AH9: 1613 | AI9: 751 | AJ9: 29 | AK9: 116 | AL9: 115 | AM9: 0 | AN9: 13 | AO9: 6 | AP9: 169 | AQ9: 7 | AR9: 28 | AS9: 7 | AT9: 5 | AU9: 145 | AV9: 222
A10: 臺北市 | C10: 1590 | D10: 141 | E10: 436 | F10: 596 | G10: 346 | H10: 0 | I10: 2 | J10: 29 | K10: 0 | L10: 1 | M10: 0 | N10: 39 | O10: 943 | P10: 9 | Q10: 2 | R10: 2 | S10: 33 | T10: 4 | U10: 33 | V10: 7 | W10: 68 | X10: 3 | Y10: 0 | Z10: 1 | AA10: 331 | AB10: 53 | AC10: 30 | AD10: 76 | AE10: 61 | AF10: 85 | AG10: 145 | AH10: 943 | AI10: 354 | AJ10: 19 | AK10: 51 | AL10: 103 | AM10: 1 | AN10: 7 | AO10: 3 | AP10: 115 | AQ10: 0 | AR10: 19 | AS10: 12 | AT10: 0 | AU10: 91 | AV10: 168
A11: 桃園市 | C11: 2069 | D11: 229 | E11: 582 | F11: 601 | G11: 608 | H11: 3 | I11: 5 | J11: 16 | K11: 0 | L11: 0 | M11: 8 | N11: 17 | O11: 1057 | P11: 5 | Q11: 5 | R11: 3 | S11: 12 | T11: 2 | U11: 42 | V11: 17 | W11: 50 | X11: 0 | Y11: 0 | Z11: 1 | AA11: 385 | AB11: 43 | AC11: 9 | AD11: 67 | AE11: 37 | AF11: 259 | AG11: 120 | AH11: 1057 | AI11: 517 | AJ11: 16 | AK11: 51 | AL11: 62 | AM11: 2 | AN11: 9 | AO11: 0 | AP11: 119 | AQ11: 5 | AR11: 18 | AS11: 9 | AT11: 1 | AU11: 136 | AV11: 112
A12: 臺中市 | C12: 2130 | D12: 175 | E12: 698 | F12: 674 | G12: 489 | H12: 2 | I12: 3 | J12: 34 | K12: 0 | L12: 0 | M12: 19 | N12: 36 | O12: 1112 | P12: 15 | Q12: 8 | R12: 12 | S12: 72 | T12: 6 | U12: 59 | V12: 9 | W12: 53 | X12: 1 | Y12: 1 | Z12: 2 | AA12: 366 | AB12: 63 | AC12: 27 | AD12: 112 | AE12: 45 | AF12: 129 | AG12: 132 | AH12: 1112 | AI12: 549 | AJ12: 22 | AK12: 62 | AL12: 66 | AM12: 0 | AN12: 17 | AO12: 1 | AP12: 136 | AQ12: 2 | AR12: 17 | AS12: 19 | AT12: 2 | AU12: 94 | AV12: 125
A13: 臺南市 | C13: 1059 | D13: 97 | E13: 321 | F13: 320 | G13: 293 | H13: 1 | I13: 4 | J13: 15 | K13: 0 | L13: 0 | M13: 0 | N13: 8 | O13: 588 | P13: 16 | Q13: 4 | R13: 3 | S13: 16 | T13: 5 | U13: 18 | V13: 12 | W13: 42 | X13: 1 | Y13: 0 | Z13: 3 | AA13: 167 | AB13: 19 | AC13: 29 | AD13: 64 | AE13: 24 | AF13: 109 | AG13: 56 | AH13: 588 | AI13: 271 | AJ13: 15 | AK13: 21 | AL13: 75 | AM13: 1 | AN13: 10 | AO13: 3 | AP13: 64 | AQ13: 1 | AR13: 5 | AS13: 16 | AT13: 1 | AU13: 41 | AV13: 64
A14: 高雄市 | C14: 1911 | D14: 234 | E14: 532 | F14: 548 | G14: 556 | H14: 2 | I14: 0 | J14: 20 | K14: 0 | L14: 1 | M14: 0 | N14: 18 | O14: 1123 | P14: 10 | Q14: 4 | R14: 12 | S14: 35 | T14: 11 | U14: 38 | V14: 8 | W14: 55 | X14: 1 | Y14: 0 | Z14: 4 | AA14: 535 | AB14: 46 | AC14: 13 | AD14: 115 | AE14: 51 | AF14: 100 | AG14: 85 | AH14: 1123 | AI14: 574 | AJ14: 24 | AK14: 73 | AL14: 97 | AM14: 0 | AN14: 5 | AO14: 7 | AP14: 137 | AQ14: 1 | AR14: 14 | AS14: 14 | AT14: 0 | AU14: 61 | AV14: 116
A15: 宜蘭縣 | C15: 378 | D15: 22 | E15: 126 | F15: 120 | G15: 101 | H15: 0 | I15: 0 | J15: 3 | K15: 0 | L15: 0 | M15: 0 | N15: 6 | O15: 170 | P15: 4 | Q15: 1 | R15: 1 | S15: 3 | T15: 0 | U15: 5 | V15: 2 | W15: 5 | X15: 0 | Y15: 0 | Z15: 0 | AA15: 62 | AB15: 4 | AC15: 5 | AD15: 18 | AE15: 9 | AF15: 43 | AG15: 8 | AH15: 170 | AI15: 88 | AJ15: 4 | AK15: 12 | AL15: 18 | AM15: 0 | AN15: 0 | AO15: 2 | AP15: 14 | AQ15: 0 | AR15: 2 | AS15: 6 | AT15: 0 | AU15: 10 | AV15: 14
A16: 新竹縣 | C16: 473 | D16: 26 | E16: 166 | F16: 147 | G16: 128 | H16: 0 | I16: 0 | J16: 3 | K16: 0 | L16: 0 | M16: 0 | N16: 3 | O16: 258 | P16: 5 | Q16: 2 | R16: 1 | S16: 25 | T16: 0 | U16: 12 | V16: 2 | W16: 16 | X16: 1 | Y16: 0 | Z16: 2 | AA16: 93 | AB16: 6 | AC16: 9 | AD16: 25 | AE16: 11 | AF16: 26 | AG16: 22 | AH16: 258 | AI16: 130 | AJ16: 4 | AK16: 22 | AL16: 19 | AM16: 0 | AN16: 3 | AO16: 0 | AP16: 26 | AQ16: 1 | AR16: 3 | AS16: 3 | AT16: 0 | AU16: 17 | AV16: 30
A17: 苗栗縣 | C17: 396 | D17: 8 | E17: 130 | F17: 140 | G17: 112 | H17: 0 | I17: 1 | J17: 1 | K17: 0 | L17: 0 | M17: 1 | N17: 3 | O17: 210 | P17: 1 | Q17: 2 | R17: 2 | S17: 10 | T17: 0 | U17: 7 | V17: 6 | W17: 16 | X17: 0 | Y17: 0 | Z17: 0 | AA17: 82 | AB17: 9 | AC17: 2 | AD17: 20 | AE17: 8 | AF17: 14 | AG17: 31 | AH17: 210 | AI17: 114 | AJ17: 7 | AK17: 15 | AL17: 18 | AM17: 0 | AN17: 1 | AO17: 0 | AP17: 15 | AQ17: 0 | AR17: 3 | AS17: 2 | AT17: 0 | AU17: 13 | AV17: 22
A18: 彰化縣 | C18: 814 | D18: 41 | E18: 260 | F18: 315 | G18: 171 | H18: 1 | I18: 3 | J18: 8 | K18: 1 | L18: 0 | M18: 7 | N18: 7 | O18: 407 | P18: 12 | Q18: 5 | R18: 2 | S18: 7 | T18: 2 | U18: 27 | V18: 7 | W18: 28 | X18: 0 | Y18: 0 | Z18: 1 | AA18: 148 | AB18: 11 | AC18: 11 | AD18: 60 | AE18: 20 | AF18: 39 | AG18: 27 | AH18: 407 | AI18: 201 | AJ18: 11 | AK18: 23 | AL18: 28 | AM18: 0 | AN18: 5 | AO18: 2 | AP18: 42 | AQ18: 4 | AR18: 12 | AS18: 1 | AT18: 1 | AU18: 40 | AV18: 37
A19: 南投縣 | C19: 399 | D19: 28 | E19: 109 | F19: 143 | G19: 106 | H19: 0 | I19: 0 | J19: 7 | K19: 2 | L19: 0 | M19: 0 | N19: 4 | O19: 209 | P19: 5 | Q19: 0 | R19: 0 | S19: 5 | T19: 0 | U19: 13 | V19: 1 | W19: 12 | X19: 0 | Y19: 0 | Z19: 1 | AA19: 76 | AB19: 7 | AC19: 1 | AD19: 22 | AE19: 9 | AF19: 35 | AG19: 22 | AH19: 209 | AI19: 103 | AJ19: 1 | AK19: 13 | AL19: 9 | AM19: 0 | AN19: 1 | AO19: 0 | AP19: 23 | AQ19: 0 | AR19: 2 | AS19: 6 | AT19: 0 | AU19: 28 | AV19: 23
... A30: 連江縣 | C30: 2 | D30: 0 | E30: 0 | F30: 1 | G30: 0 | H30: 0 | I30: 0 | J30: 0 | K30: 0 | L30: 0 | M30: 0 | N30: 1 | O30: 1 | P30: 0 | Q30: 0 | R30: 0 | S30: 0 | T30: 0 | U30: 0 | V30: 0 | W30: 0 | X30: 0 | Y30: 0 | Z30: 0 | AA30: 1 | AB30: 0 | AC30: 0 | AD30: 0 | AE30: 0 | AF30: 0 | AG30: 0 | AH30: 1 | AI30: 0 | AJ30: 0 | AK30: 1 | AL30: 0 | AM30: 0 | AN30: 0 | AO30: 0 | AP30: 0 | AQ30: 0 | AR30: 0 | AS30: 0 | AT30: 0 | AU30: 0 | AV30: 0
A31: 資料來源：本部保護服務司。
A32: Source :Department of Protective Services , MOHW.
