Workbook

Sheet 歷年
A1: 5.1-03 推展家庭暴力防治業務
A4: 年別 | C4: 1.家庭暴力被害人保護扶助人次（人次）
C5: 合計 | D5: 諮詢協談 | E5: 庇護安置 | G5: 陪同報案偵詢（訊） | H5: 陪同出庭 | I5: 驗傷診療 | J5: 聲請 保護令 | K5: 法律扶助 | L5: 經濟扶助 | M5: 心理諮商與輔導 | N5: 就業服務 | O5: 就學或轉學服務 | P5: 轉介/提供目睹暴力服務 | Q5: 子女問題 協助 | R5: 通譯服務 | S5: 轉介 戒毒中心 | T5: 其他扶助
E6: 被害人 | F6: 隨行子女
A7: 95年, 2006 | C7: ='95'!C6 -> 285171 | D7: ='95'!D6 -> 203710 | E7: ='95'!E6 -> 8542 | F7: … | G7: ='95'!F6 -> 800 | H7: ='95'!G6 -> 2454 | I7: ='95'!H6 -> 7300 | J7: … | K7: ='95'!I6 -> 19473 | L7: … | M7: ='95'!J6 -> 9047 | N7: ='95'!K6 -> 1671 | O7: … | P7: … | Q7: ='95'!L6 -> 6776 | R7: ='95'!M6 -> 99 | S7: … | T7: ='95'!N6 -> 25299
A8: 96年, 2007 | C8: ='96'!C6 -> 330606 | D8: ='96'!D6 -> 177305 | E8: ='96'!E6 -> 11636 | F8: … | G8: ='96'!F6 -> 881 | H8: ='96'!G6 -> 2811 | I8: ='96'!H6 -> 8037 | J8: … | K8: ='96'!I6 -> 26150 | L8: ='96'!J6 -> 8466 | M8: ='96'!K6 -> 32323 | N8: ='96'!L6 -> 1939 | O8: ='96'!M6 -> 1623 | P8: … | Q8: ='96'!N6 -> 7515 | R8: ='96'!O6 -> 72 | S8: ='96'!P6 -> 56 | T8: ='96'!Q6 -> 51792
A9: 97年, 2008 | C9: ='97'!C6 -> 416844 | D9: ='97'!D6 -> 249399 | E9: ='97'!E6 -> 12015 | F9: … | G9: ='97'!F6 -> 987 | H9: ='97'!G6 -> 5385 | I9: ='97'!H6 -> 5306 | J9: … | K9: ='97'!I6 -> 34058 | L9: ='97'!J6 -> 10090 | M9: ='97'!K6 -> 30280 | N9: ='97'!L6 -> 3578 | O9: ='97'!M6 -> 2917 | P9: … | Q9: ='97'!N6 -> 10449 | R9: ='97'!O6 -> 197 | S9: ='97'!P6 -> 132 | T9: ='97'!Q6 -> 52051
A10: 98年 , 2009 | C10: ='98'!C6 -> 478769 | D10: ='98'!D6 -> 283923 | E10: ='98'!E6 -> 14632 | F10: … | G10: ='98'!F6 -> 1047 | H10: ='98'!G6 -> 4710 | I10: ='98'!H6 -> 4180 | J10: … | K10: ='98'!I6 -> 36707 | L10: ='98'!J6 -> 13833 | M10: ='98'!K6 -> 38689 | N10: ='98'!L6 -> 4156 | O10: ='98'!M6 -> 2664 | P10: … | Q10: ='98'!N6 -> 12084 | R10: ='98'!O6 -> 188 | S10: ='98'!P6 -> 34 | T10: ='98'!Q6 -> 61922
A11: 99年 , 2010 | C11: ='99'!C6 -> 601567 | D11: ='99'!D6 -> 357361 | E11: ='99'!E6 -> 15093 | F11: … | G11: ='99'!F6 -> 1434 | H11: ='99'!G6 -> 5073 | I11: ='99'!H6 -> 5175 | J11: … | K11: ='99'!I6 -> 37876 | L11: ='99'!J6 -> 15211 | M11: ='99'!K6 -> 57560 | N11: ='99'!L6 -> 5480 | O11: ='99'!M6 -> 4392 | P11: … | Q11: ='99'!N6 -> 16886 | R11: ='99'!O6 -> 279 | S11: ='99'!P6 -> 36 | T11: ='99'!Q6 -> 79711
A12: 100年 , 2011 | C12: ='100'!C6 -> 871146 | D12: ='100'!D6 -> 555246 | E12: ='100'!E6 -> 35215 | F12: … | G12: ='100'!F6 -> 1957 | H12: ='100'!G6 -> 6961 | I12: ='100'!H6 -> 8132 | J12: … | K12: ='100'!I6 -> 55713 | L12: ='100'!J6 -> 24811 | M12: ='100'!K6 -> 64345 | N12: ='100'!L6 -> 5459 | O12: ='100'!M6 -> 7704 | P12: … | Q12: ='100'!N6 -> 13866 | R12: ='100'!O6 -> 253 | S12: ='100'!P6 -> 42 | T12: ='100'!Q6 -> 91442
A13: 101年 , 2012 | C13: ='101'!C6 -> 915859 | D13: ='101'!D6 -> 564800 | E13: ='101'!E6 -> 17565 | F13: … | G13: ='101'!F6 -> 1752 | H13: ='101'!G6 -> 7457 | I13: ='101'!H6 -> 10846 | J13: … | K13: ='101'!I6 -> 61087 | L13: ='101'!J6 -> 29063 | M13: ='101'!K6 -> 90496 | N13: ='101'!L6 -> 4472 | O13: ='101'!M6 -> 7309 | P13: … | Q13: ='101'!N6 -> 10885 | R13: ='101'!O6 -> 478 | S13: ='101'!P6 -> 69 | T13: ='101'!Q6 -> 109580
A14: 102年 , 2013 | C14: ='102'!C6 -> 988585 | D14: ='102'!D6 -> 634792 | E14: ='102'!E6 -> 20467 | F14: … | G14: ='102'!F6 -> 1559 | H14: ='102'!G6 -> 8698 | I14: ='102'!H6 -> 10624 | J14: … | K14: ='102'!I6 -> 65944 | L14: ='102'!J6 -> 28770 | M14: ='102'!K6 -> 83893 | N14: ='102'!L6 -> 4704 | O14: ='102'!M6 -> 7763 | P14: … | Q14: ='102'!N6 -> 14236 | R14: ='102'!O6 -> 386 | S14: ='102'!P6 -> 70 | T14: ='102'!Q6 -> 106679
A15: 103年 , 2014 | C15: ='103'!C6 -> 1127819 | D15: ='103'!D6 -> 725085 | E15: ='103'!E6 -> 18549 | F15: … | G15: ='103'!F6 -> 1256 | H15: ='103'!G6 -> 7854 | I15: ='103'!H6 -> 12970 | J15: … | K15: ='103'!I6 -> 59219 | L15: ='103'!J6 -> 35074 | M15: ='103'!K6 -> 94439 | N15: ='103'!L6 -> 3966 | O15: ='103'!M6 -> 8766 | P15: … | Q15: ='103'!N6 -> 16066 | R15: ='103'!O6 -> 288 | S15: ='103'!P6 -> 230 | T15: ='103'!Q6 -> 144057
A16: 104年 , 2015 | C16: ='104'!C7 -> 1191465 | D16: ='104'!D7 -> 889134 | E16: ='104'!E7 -> 19030 | F16: ='104'!F7 -> 1744 | G16: ='104'!G7 -> 1324 | H16: ='104'!H7 -> 8422 | I16: ='104'!I7 -> 10966 | J16: ='104'!J7 -> 5289 | ... R16: ='104'!R7 -> 128 | S16: … | T16: ='104'!S7 -> 101870
A17: 105年 , 2016 | C17: ='105'!C7 -> 1297726 | D17: ='105'!D7 -> 1040109 | E17: ='105'!E7 -> 21638 | F17: ='105'!F7 -> 1472 | G17: ='105'!G7 -> 1074 | H17: ='105'!H7 -> 8536 | I17: ='105'!I7 -> 8703 | J17: ='105'!J7 -> 6185 | ... R17: ='105'!R7 -> 154 | S17: … | T17: ='105'!S7 -> 78139
A18: 106年 , 2017 | C18: ='106'!C7 -> 1323396 | D18: ='106'!D7 -> 1080416 | E18: ='106'!E7 -> 20916 | F18: ='106'!F7 -> 1167 | G18: ='106'!G7 -> 1095 | H18: ='106'!H7 -> 8670 | I18: ='106'!I7 -> 7844 | J18: ='106'!J7 -> 5129 | ... R18: ='106'!R7 -> 200 | S18: … | T18: ='106'!S7 -> 81014
A19: 107年 , 2018 | C19: ='107'!C7 -> 1309184 | D19: ='107'!D7 -> 1076741 | E19: ='107'!E7 -> 15143 | F19: ='107'!F7 -> 839 | G19: ='107'!G7 -> 769 | H19: ='107'!H7 -> 7875 | I19: ='107'!I7 -> 4185 | J19: ='107'!J7 -> 6198 | ... R19: ='107'!R7 -> 92 | S19: … | T19: ='107'!S7 -> 80781
A20: 108年 , 2019 | C20: 1499713 | D20: 1280281 | E20: 14442 | F20: 767 | G20: 933 | H20: 7798 | I20: 4511 | J20: 3660 | K20: 39118 | L20: 19022 | M20: 12148 | N20: 1896 | O20: 3065 | P20: 17274 | Q20: 11191 | R20: 116 | S20: … | T20: 83491
A21: 109年 , 2020 | C21: 1631339 | D21: 1359690 | E21: 8590 | F21: 884 | G21: 859 | H21: 8965 | I21: 6367 | J21: 4563 | K21: 53426 | L21: 28001 | M21: 19107 | N21: 2725 | O21: 2683 | P21: 27169 | Q21: 9652 | R21: 180 | S21: … | T21: 98478
A22: 110年 , 2021 | C22: 1754639 | D22: 1473852 | E22: 5991 | F22: 630 | G22: 825 | H22: 8074 | I22: 4759 | J22: 4090 | K22: 62392 | L22: 28760 | M22: 18764 | N22: 2202 | O22: 2837 | P22: 23947 | Q22: 11012 | R22: 178 | S22: … | T22: 106326
A23: 111年 , 2022 | C23: 1817387 | D23: 1503987 | E23: 7410 | F23: 600 | G23: 878 | H23: 9044 | I23: 5103 | J23: 4689 | K23: 70282 | L23: 30493 | M23: 21274 | N23: 2274 | O23: 3209 | P23: 24942 | Q23: 11117 | R23: 131 | S23: … | T23: 121954
A24: 112年 , 2023 | C24: 1900479 | D24: 1590609 | E24: 11361 | F24: 716 | G24: 955 | H24: 9072 | I24: 5501 | J24: 4939 | K24: 57533 | L24: 29630 | M24: 25609 | N24: 2368 | O24: 3003 | P24: 23995 | Q24: 12241 | R24: 122 | S24: … | T24: 122825
A25: 113年 , 2024 | C25: 2003371 | D25: 1690463 | E25: 8055 | F25: 628 | G25: 904 | H25: 8873 | I25: 5449 | J25: 4245 | K25: 54918 | L25: 29071 | M25: 25933 | N25: 2889 | O25: 3771 | P25: 22983 | Q25: 14034 | R25: 160 | S25: … | T25: 130995
A26: 114年 , 2025 | C26: 2020147 | D26: 1709641 | E26: 10414 | F26: 636 | G26: 859 | H26: 9831 | I26: 5219 | J26: 4031 | K26: 47942 | L26: 29031 | M26: 24766 | N26: 2385 | O26: 3076 | P26: 26420 | Q26: 13916 | R26: 242 | S26: … | T26: 131738
A28: 年別 | C28: 2.家庭暴力被害人保護扶助金額 (元)
C29: 合計 | D29: 緊急 生活扶助 | E29: 生活扶助 | F29: 急難救助 | G29: 租金補助 | H29: 醫療補助 | I29: 庇護安置補助 | J29: 心理治療、諮商與輔導費用 | K29: 律師費用 補助 | L29: 訴訟費用 補助 | M29: 子女生活 津貼/補助 | N29: 子女 教育補助 | O29: 兒童托育 費用/津貼 | P29: 民間慈善團體資助 | Q29: 其他補助
A30: 95年, 2006 | C30: ='95'!C22 -> 138250005 | D30: ='95'!D22 -> 22164331 | E30: ='95'!E22 -> 3112036 | F30: ='95'!F22 -> 1633394 | G30: ='95'!G22 -> 3736600 | H30: ='95'!H22 -> 6701057 | I30: ='95'!I22 -> 63249098 | J30: ='95'!J22 -> 15275461 | ... Q30: ='95'!Q22 -> 2029515
A31: 96年, 2007 | C31: ='96'!C22 -> 198856229 | D31: ='96'!D22 -> 39850297 | E31: ='96'!E22 -> 1744867 | F31: ='96'!F22 -> 2142569 | G31: ='96'!G22 -> 4144600 | H31: ='96'!H22 -> 8153987 | I31: ='96'!I22 -> 106024556 | J31: ='96'!J22 -> 11511819 | ... Q31: ='96'!Q22 -> 4248280
A32: 97年, 2008 | C32: ='97'!C22 -> 254559293 | D32: ='97'!D22 -> 29433249 | E32: ='97'!E22 -> 2284498 | F32: ='97'!F22 -> 1814360 | G32: ='97'!G22 -> 5441809 | H32: ='97'!H22 -> 8244316 | I32: ='97'!I22 -> 173401839 | J32: ='97'!J22 -> 8989442 | ... Q32: ='97'!Q22 -> 3227275
A33: 98年 , 2009 | C33: ='98'!C22 -> 326837123 | D33: ='98'!D22 -> 38589739 | E33: ='98'!E22 -> 4282056 | F33: ='98'!F22 -> 2910465 | G33: ='98'!G22 -> 5207810 | H33: ='98'!H22 -> 10858663 | I33: ='98'!I22 -> 226989543 | J33: ='98'!J22 -> 12944326 | ... Q33: ='98'!Q22 -> 6032019
A34: 99年 , 2010 | C34: ='99'!C22 -> 344267533 | D34: ='99'!D22 -> 27140238 | E34: ='99'!E22 -> 5045776 | F34: ='99'!F22 -> 2028197 | G34: ='99'!G22 -> 7993268 | H34: ='99'!H22 -> 12872109 | I34: ='99'!I22 -> 246787895 | J34: ='99'!J22 -> 15435578 | ... Q34: ='99'!Q22 -> 2720963
A35: 100年 , 2011 | C35: ='100'!C22 -> 405611180 | D35: ='100'!D22 -> 32213881 | E35: ='100'!E22 -> 3128713 | F35: ='100'!F22 -> 1639317 | G35: ='100'!G22 -> 4737732 | H35: ='100'!H22 -> 20141250 | I35: ='100'!I22 -> 289884696 | J35: ='100'!J22 -> 19085986 | ... Q35: ='100'!Q22 -> 10690720
A36: 101年 , 2012 | C36: ='101'!C22 -> 391164159 | D36: ='101'!D22 -> 33900657 | E36: ='101'!E22 -> 19782418 | F36: ='101'!F22 -> 1484846 | G36: ='101'!G22 -> 5854630 | H36: ='101'!H22 -> 18162252 | I36: ='101'!I22 -> 247284751 | J36: ='101'!J22 -> 12471758 | ... Q36: ='101'!Q22 -> 19863206
A37: 102年 , 2013 | C37: ='102'!C22 -> 468542425 | D37: ='102'!D22 -> 29780043 | E37: ='102'!E22 -> 11986158 | F37: ='102'!F22 -> 2412041 | G37: ='102'!G22 -> 7115140 | H37: ='102'!H22 -> 18681939 | I37: ='102'!I22 -> 325871100 | J37: ='102'!J22 -> 9776310 | ... Q37: ='102'!Q22 -> 23344719
A38: 103年 , 2014 | C38: ='103'!C22 -> 533600044 | D38: ='103'!D22 -> 42814856 | E38: ='103'!E22 -> 16911445 | F38: ='103'!F22 -> 2327263 | G38: ='103'!G22 -> 9477601 | H38: ='103'!H22 -> 12079630 | I38: ='103'!I22 -> 354424120 | J38: ='103'!J22 -> 19653162 | ... Q38: ='103'!Q22 -> 30838057
A39: 104年 , 2015 | C39: ='104'!C23 -> 576500596 | D39: ='104'!D23 -> 45302242 | E39: ='104'!E23 -> 24395502 | F39: ='104'!F23 -> 2964932 | G39: ='104'!G23 -> 9139526 | H39: ='104'!H23 -> 13883753 | I39: ='104'!I23 -> 392439025 | J39: ='104'!J23 -> 17493570 | ... Q39: ='104'!Q23 -> 44202633
A40: 105年 , 2016 | C40: ='105'!C23 -> 612229528 | D40: ='105'!D23 -> 38664592 | E40: ='105'!E23 -> 20155709 | F40: ='105'!F23 -> 4190494 | G40: ='105'!G23 -> 7829427 | H40: ='105'!H23 -> 14870067 | I40: ='105'!I23 -> 459922876 | J40: ='105'!J23 -> 18007835 | ... Q40: ='105'!Q23 -> 20456755
A41: 106年 , 2017 | C41: ='106'!C23 -> 743362409 | D41: ='106'!D23 -> 43599698 | E41: ='106'!E23 -> 89604515 | F41: ='106'!F23 -> 3823222 | G41: ='106'!G23 -> 16300227 | H41: ='106'!H23 -> 16230737 | I41: ='106'!I23 -> 480791748 | J41: ='106'!J23 -> 17743873 | ... Q41: ='106'!Q23 -> 12410103
A42: 107年 , 2018 | C42: ='107'!C23 -> 961394330 | D42: ='107'!D23 -> 58916303 | E42: ='107'!E23 -> 186591160 | F42: ='107'!F23 -> 4895842 | G42: ='107'!G23 -> 20761594 | H42: ='107'!H23 -> 13388786 | I42: ='107'!I23 -> 512170801 | J42: ='107'!J23 -> 25089366 | ... Q42: ='107'!Q23 -> 19411822
A43: 108年 , 2019 | C43: 869224868 | D43: 56035446 | E43: 153500212 | F43: 8405305 | G43: 18112618 | H43: 15232852 | I43: 483550256 | J43: 22951589 | K43: 5019950 | L43: 1271180 | M43: 77063963 | N43: 2284004 | O43: 4621830 | P43: 6680042 | Q43: 14495621
...

Sheet 114
A1: 5.1-03 推展家庭暴力防治業務
A2: 民國114年
A4: 被害人國籍身分 與性別 | C4: 1.家庭暴力被害人保護扶助人次（人次）
C5: 合計 | D5: 諮詢協談 | E5: 庇護安置 | G5: 陪同報案偵詢（訊） | H5: 陪同出庭 | I5: 驗傷診療 | J5: 聲請 保護令 | K5: 法律扶助 | L5: 經濟扶助 | M5: 心理諮商與輔導 | N5: 就業服務 | O5: 就學或轉學 服務 | P5: 轉介/提供目睹暴力服務 | Q5: 子女問題 協助 | R5: 通譯服務 | S5: 其他扶助
E6: 被害人 | F6: 隨行子女
A7: 合計 | B7: 計 | C7: 2020147 | D7: 1709641 | E7: 10414 | F7: 636 | G7: 859 | H7: 9831 | I7: 5219 | J7: 4031 | K7: 47942 | L7: 29031 | M7: 24766 | N7: 2385 | O7: 3076 | P7: 26420 | Q7: 13916 | R7: 242 | S7: 131738
B8: 男 | C8: 675683 | D8: 575977 | E8: 4983 | F8: 134 | G8: 174 | H8: 2383 | I8: 2534 | J8: 1163 | K8: 11910 | L8: 12009 | M8: 8662 | N8: 724 | O8: 1477 | P8: 5755 | Q8: 3112 | R8: 78 | S8: 44608
B9: 女 | C9: 1344464 | D9: 1133664 | E9: 5431 | F9: 502 | G9: 685 | H9: 7448 | I9: 2685 | J9: 2868 | K9: 36032 | L9: 17022 | M9: 16104 | N9: 1661 | O9: 1599 | P9: 20665 | Q9: 10804 | R9: 164 | S9: 87130
A10: 本國籍 非原住民 | B10: 男 | C10: 618645 | D10: 528477 | E10: 4483 | F10: 120 | G10: 159 | H10: 2168 | I10: 2265 | J10: 1096 | K10: 11232 | L10: 10984 | M10: 8081 | N10: 662 | O10: 1405 | P10: 5211 | Q10: 2936 | R10: 20 | S10: 39346
B11: 女 | C11: 1192630 | D11: 1010131 | E11: 4769 | F11: 422 | G11: 580 | H11: 6381 | I11: 2443 | J11: 2579 | K11: 32253 | L11: 15318 | M11: 14948 | N11: 1481 | O11: 1406 | P11: 17908 | Q11: 9494 | R11: 19 | S11: 72498
A12: 本國籍 原住民 | B12: 男 | C12: 37832 | D12: 30711 | E12: 447 | F12: 10 | G12: 4 | H12: 174 | I12: 188 | J12: 47 | K12: 447 | L12: 858 | M12: 456 | N12: 42 | O12: 54 | P12: 297 | Q12: 80 | R12: 1 | S12: 4016
B13: 女 | C13: 90010 | D13: 70563 | E13: 520 | F13: 52 | G13: 65 | H13: 772 | I13: 167 | J13: 202 | K13: 2439 | L13: 1214 | M13: 521 | N13: 121 | O13: 126 | P13: 2016 | Q13: 719 | R13: 2 | S13: 10511
A14: 大陸籍 （含港澳） | B14: 男 | C14: 655 | D14: 573 | E14: 0 | F14: 4 | G14: 0 | H14: 1 | I14: 1 | J14: 0 | K14: 11 | L14: 3 | M14: 30 | N14: 0 | O14: 0 | P14: 20 | Q14: 0 | R14: 0 | S14: 12
B15: 女 | C15: 11163 | D15: 9304 | E15: 46 | F15: 7 | G15: 4 | H15: 59 | I15: 8 | J15: 23 | K15: 343 | L15: 75 | M15: 97 | N15: 21 | O15: 4 | P15: 242 | Q15: 146 | R15: 0 | S15: 784
A16: 外國籍 | B16: 男 | C16: 4237 | D16: 3621 | E16: 38 | F16: 0 | G16: 1 | H16: 7 | I16: 1 | J16: 1 | K16: 108 | L16: 45 | M16: 4 | N16: 6 | O16: 0 | P16: 25 | Q16: 21 | R16: 56 | S16: 303
B17: 女 | C17: 24101 | D17: 20632 | E17: 70 | F17: 19 | G17: 24 | H17: 140 | I17: 18 | J17: 42 | K17: 545 | L17: 156 | M17: 196 | N17: 30 | O17: 2 | P17: 265 | Q17: 229 | R17: 127 | S17: 1606
A18: 其他 | B18: 男 | C18: 14314 | D18: 12595 | E18: 15 | F18: 0 | G18: 10 | H18: 33 | I18: 79 | J18: 19 | K18: 112 | L18: 119 | M18: 91 | N18: 14 | O18: 18 | P18: 202 | Q18: 75 | R18: 1 | S18: 931
B19: 女 | C19: 26560 | D19: 23034 | E19: 26 | F19: 2 | G19: 12 | H19: 96 | I19: 49 | J19: 22 | K19: 452 | L19: 259 | M19: 342 | N19: 8 | O19: 61 | P19: 234 | Q19: 216 | R19: 16 | S19: 1731
A21: 被害人國籍身分 | C21: 2.家庭暴力被害人保護扶助金額 (元)
C22: 合計 | D22: 緊急 生活扶助 | E22: 生活扶助 | F22: 急難救助 | G22: 租金補助 | H22: 醫療補助 | I22: 庇護安置補助 | J22: 心理治療、諮商與輔導費用 | K22: 律師費用 補助 | L22: 訴訟費用 補助 | M22: 子女生活 津貼/補助 | N22: 子女 教育補助 | O22: 兒童托育 費用/津貼 | P22: 民間慈善團體資助 | Q22: 其他補助
A23: 合計 | C23: 1101382255 | D23: 43065528 | E23: 243460619 | F23: 9406271 | G23: 20383773 | H23: 30470140 | I23: 619229628 | J23: 55823079 | K23: 11828124 | L23: 5500887 | M23: 19357829 | N23: 770209 | O23: 10747181 | P23: 9199813 | Q23: 22139174
A24: 本國籍非原住民 | C24: 1001742343 | D24: 39000102 | E24: 220988916 | F24: 8269715 | G24: 17563755 | H24: 25117517 | I24: 566211026 | J24: 52027937 | K24: 11264678 | L24: 5357327 | M24: 17902167 | N24: 688340 | O24: 9609104 | P24: 7011265 | Q24: 20730494
A25: 本國籍原住民 | C25: 60499930 | D25: 2192140 | E25: 12853466 | F25: 701413 | G25: 1355462 | H25: 1302542 | I25: 35785480 | J25: 1761866 | K25: 334205 | L25: 76802 | M25: 868802 | N25: 78234 | O25: 742873 | P25: 1651844 | Q25: 794801
A26: 大陸籍（含港澳） | C26: 3275921 | D26: 612839 | E26: 407663 | F26: 26640 | G26: 264751 | H26: 36287 | I26: 1178274 | J26: 300829 | K26: 57151 | L26: 6618 | M26: 94688 | N26: 119 | O26: 13673 | P26: 73706 | Q26: 202683
A27: 外國籍 | C27: 7411391 | D27: 1050510 | E27: 1007712 | F27: 98844 | G27: 721042 | H27: 114740 | I27: 3116413 | J27: 544506 | K27: 45646 | L27: 17035 | M27: 59853 | N27: 361 | O27: 30879 | P27: 280686 | Q27: 323164
A28: 其他 | C28: 28452670 | D28: 209937 | E28: 8202862 | F28: 309659 | G28: 478763 | H28: 3899054 | I28: 12938435 | J28: 1187941 | K28: 126444 | L28: 43105 | M28: 432319 | N28: 3155 | O28: 350652 | P28: 182312 | Q28: 88032
A30: 資料來源、 加害人性別 | C30: 3.家庭暴力加害人處遇
C31: 本期囑託鑑定、評估人數 (人) | D31: 本期完成囑託鑑定、評估人數 (人) | E31: 本期完成 主動評估人數（人） | F31: 本期法院裁定加害人處遇人數 (人) | G31: 本期法院逕裁加害人處遇人數 (人) | H31: 本期法院裁定加害人處遇計畫項目人次(複選)
H32: 合計 | I32: 精神治療 | J32: 戒癮治療 | L32: 心理輔導 | M32: 認知教育輔導 | O32: 其他輔導、治療
J33: 戒酒癮 | K33: 戒藥毒癮 | M33: 認知教育 | N33: 戒酒教育 | O33: 親職教育 | P33: 其他
A34: 法院裁定加害人處遇計畫者（家暴法第14條第1項第10款） | B34: 計 | C34: 3954 | D34: 3334 | E34: 669 | F34: 3633 | G34: 1431 | H34: 5391 | I34: 542 | J34: 229 | K34: 75 | L34: 479 | M34: 3014 | N34: 498 | O34: 532 | P34: 22
B35: 男 | C35: 3244 | D35: 2732 | E35: 541 | F35: 3001 | G35: 1175 | H35: 4410 | I35: 382 | J35: 207 | K35: 62 | L35: 343 | M35: 2575 | N35: 468 | O35: 360 | P35: 13
B36: 女 | C36: 710 | D36: 602 | E36: 128 | F36: 632 | G36: 256 | H36: 981 | I36: 160 | J36: 22 | K36: 13 | L36: 136 | M36: 439 | N36: 30 | O36: 172 | P36: 9
A37: 犯家暴罪或違反保護令罪付保護管束者命完成加害人處遇計畫（家暴法第38條） | B37: 計 | C37: 3 | D37: 2 | E37: 3 | F37: 16 | G37: 6 | H37: 22 | I37: 3 | J37: 2 | K37: 0 | L37: 1 | M37: 11 | N37: 0 | O37: 5 | P37: 0
B38: 男 | C38: 2 | D38: 1 | E38: 1 | F38: 12 | G38: 6 | H38: 17 | I38: 2 | J38: 1 | K38: 0 | L38: 1 | M38: 9 | N38: 0 | O38: 4 | P38: 0
B39: 女 | C39: 1 | D39: 1 | E39: 2 | F39: 4 | G39: 0 | H39: 5 | I39: 1 | J39: 1 | K39: 0 | L39: 0 | M39: 2 | N39: 0 | O39: 1 | P39: 0
A40: 假釋出獄付保護管束者命完成加害人處遇計畫（家暴法第39條） | B40: 計 | C40: 6 | D40: 6 | E40: 2 | F40: 50 | G40: 29 | H40: 67 | I40: 1 | J40: 1 | K40: 0 | L40: 9 | M40: 48 | N40: 4 | O40: 4 | P40: 0
B41: 男 | C41: 6 | D41: 6 | E41: 2 | F41: 38 | G41: 23 | H41: 51 | I41: 1 | J41: 1 | K41: 0 | L41: 7 | M41: 36 | N41: 2 | O41: 4 | P41: 0
B42: 女 | C42: 0 | D42: 0 | E42: 0 | F42: 12 | G42: 6 | H42: 16 | I42: 0 | J42: 0 | K42: 0 | L42: 2 | M42: 12 | N42: 2 | O42: 0 | P42: 0
A43: 檢察官緩起訴處分命完成加害人處遇計畫 | B43: 計 | C43: 1 | D43: 1 | E43: 0 | F43: 0 | G43: 0 | H43: 14 | I43: 2 | J43: 2 | K43: 0 | L43: 2 | M43: 7 | N43: 0 | O43: 1 | P43: 0
...

Sheet 113
A1: 5.1-03 推展家庭暴力防治業務
A2: 民國113年
A4: 被害人國籍身分 與性別 | C4: 1.家庭暴力被害人保護扶助人次（人次）
C5: 合計 | D5: 諮詢協談 | E5: 庇護安置 | G5: 陪同報案偵詢（訊） | H5: 陪同出庭 | I5: 驗傷診療 | J5: 聲請 保護令 | K5: 法律扶助 | L5: 經濟扶助 | M5: 心理諮商與輔導 | N5: 就業服務 | O5: 就學或轉學 服務 | P5: 轉介/提供目睹暴力服務 | Q5: 子女問題 協助 | R5: 通譯服務 | S5: 其他扶助
E6: 被害人 | F6: 隨行子女
A7: 合計 | B7: 計 | C7: 2003371 | D7: 1690463 | E7: 8055 | F7: 628 | G7: 904 | H7: 8873 | I7: 5449 | J7: 4245 | K7: 54918 | L7: 29071 | M7: 25933 | N7: 2889 | O7: 3771 | P7: 22983 | Q7: 14034 | R7: 160 | S7: 130995
B8: 男 | C8: 651243 | D8: 554239 | E8: 3663 | F8: 80 | G8: 182 | H8: 2060 | I8: 2489 | J8: 1047 | K8: 13472 | L8: 11221 | M8: 8853 | N8: 788 | O8: 1725 | P8: 4244 | Q8: 3023 | R8: 37 | S8: 44120
B9: 女 | C9: 1352128 | D9: 1136224 | E9: 4392 | F9: 548 | G9: 722 | H9: 6813 | I9: 2960 | J9: 3198 | K9: 41446 | L9: 17850 | M9: 17080 | N9: 2101 | O9: 2046 | P9: 18739 | Q9: 11011 | R9: 123 | S9: 86875
A10: 本國籍 非原住民 | B10: 男 | C10: 598943 | D10: 510497 | E10: 3393 | F10: 71 | G10: 168 | H10: 1868 | I10: 2248 | J10: 976 | K10: 12724 | L10: 10376 | M10: 8216 | N10: 707 | O10: 1594 | P10: 3871 | Q10: 2890 | R10: 6 | S10: 39338
B11: 女 | C11: 1204749 | D11: 1016649 | E11: 3975 | F11: 450 | G11: 617 | H11: 5911 | I11: 2743 | J11: 2847 | K11: 36634 | L11: 15833 | M11: 15811 | N11: 1810 | O11: 1826 | P11: 16474 | Q11: 9903 | R11: 31 | S11: 73235
A12: 本國籍 原住民 | B12: 男 | C12: 36664 | D12: 30191 | E12: 252 | F12: 7 | G12: 12 | H12: 151 | I12: 179 | J12: 56 | K12: 578 | L12: 718 | M12: 449 | N12: 61 | O12: 100 | P12: 202 | Q12: 84 | R12: 0 | S12: 3624
B13: 女 | C13: 89256 | D13: 70624 | E13: 294 | F13: 65 | G13: 66 | H13: 606 | I13: 144 | J13: 245 | K13: 3141 | L13: 1534 | M13: 745 | N13: 190 | O13: 177 | P13: 1522 | Q13: 532 | R13: 0 | S13: 9371
A14: 大陸籍 （含港澳） | B14: 男 | C14: 612 | D14: 444 | E14: 2 | F14: 0 | G14: 0 | H14: 0 | I14: 0 | J14: 2 | K14: 2 | L14: 6 | M14: 20 | N14: 0 | O14: 0 | P14: 14 | Q14: 1 | R14: 0 | S14: 121
B15: 女 | C15: 13237 | D15: 10508 | E15: 34 | F15: 12 | G15: 5 | H15: 61 | I15: 9 | J15: 29 | K15: 452 | L15: 167 | M15: 142 | N15: 32 | O15: 1 | P15: 290 | Q15: 222 | R15: 0 | S15: 1273
A16: 外國籍 | B16: 男 | C16: 3400 | D16: 2914 | E16: 4 | F16: 1 | G16: 2 | H16: 11 | I16: 0 | J16: 0 | K16: 89 | L16: 40 | M16: 18 | N16: 5 | O16: 7 | P16: 10 | Q16: 1 | R16: 31 | S16: 267
B17: 女 | C17: 23662 | D17: 19681 | E17: 68 | F17: 19 | G17: 17 | H17: 166 | I17: 25 | J17: 62 | K17: 912 | L17: 196 | M17: 91 | N17: 52 | O17: 14 | P17: 266 | Q17: 252 | R17: 92 | S17: 1749
A18: 其他 | B18: 男 | C18: 11624 | D18: 10193 | E18: 12 | F18: 1 | G18: 0 | H18: 30 | I18: 62 | J18: 13 | K18: 79 | L18: 81 | M18: 150 | N18: 15 | O18: 24 | P18: 147 | Q18: 47 | R18: 0 | S18: 770
B19: 女 | C19: 21224 | D19: 18762 | E19: 21 | F19: 2 | G19: 17 | H19: 69 | I19: 39 | J19: 15 | K19: 307 | L19: 120 | M19: 291 | N19: 17 | O19: 28 | P19: 187 | Q19: 102 | R19: 0 | S19: 1247
A21: 被害人國籍身分 | C21: 2.家庭暴力被害人保護扶助金額 (元)
C22: 合計 | D22: 緊急 生活扶助 | E22: 生活扶助 | F22: 急難救助 | G22: 租金補助 | H22: 醫療補助 | I22: 庇護安置補助 | J22: 心理治療、諮商與輔導費用 | K22: 律師費用 補助 | L22: 訴訟費用 補助 | M22: 子女生活 津貼/補助 | N22: 子女 教育補助 | O22: 兒童托育 費用/津貼 | P22: 民間慈善團體資助 | Q22: 其他補助
A23: 合計 | C23: 1315854784 | D23: 42552778 | E23: 456732650 | F23: 20874658 | G23: 21021375 | H23: 31982537 | I23: 571584812 | J23: 50322337 | K23: 10560461 | L23: 4430485 | M23: 28274337 | N23: 1360420 | O23: 13544771 | P23: 11386894 | Q23: 51226269
A24: 本國籍非原住民 | C24: 1226842510 | D24: 38140109 | E24: 422498493 | F24: 18389696 | G24: 18270424 | H24: 30138423 | I24: 540377563 | J24: 46956671 | K24: 9294152 | L24: 4343781 | M24: 26838915 | N24: 1263012 | O24: 12247002 | P24: 8631407 | Q24: 49452862
A25: 本國籍原住民 | C25: 63962350 | D25: 2578747 | E25: 21838120 | F25: 454807 | G25: 1302420 | H25: 1187454 | I25: 28055287 | J25: 1837957 | K25: 954853 | L25: 53277 | M25: 1037344 | N25: 70609 | O25: 961518 | P25: 2399312 | Q25: 1230645
A26: 大陸籍（含港澳） | C26: 2887418 | D26: 708261 | E26: 678541 | F26: 5751 | G26: 498216 | H26: 25742 | I26: 328131 | J26: 220415 | K26: 104713 | L26: 2019 | M26: 211586 | N26: 6032 | O26: 10773 | P26: 19544 | Q26: 67694
A27: 外國籍 | C27: 6355149 | D27: 596410 | E27: 1822159 | F27: 1005586 | G27: 607975 | H27: 163066 | I27: 1110042 | J27: 279752 | K27: 134975 | L27: 8851 | M27: 90933 | N27: 32 | O27: 72937 | P27: 144264 | Q27: 318167
A28: 其他 | C28: 15807357 | D28: 529251 | E28: 9895337 | F28: 1018818 | G28: 342340 | H28: 467852 | I28: 1713789 | J28: 1027542 | K28: 71768 | L28: 22557 | M28: 95559 | N28: 20735 | O28: 252541 | P28: 192367 | Q28: 156901
A30: 資料來源、 加害人性別 | C30: 3.家庭暴力加害人處遇
C31: 本期囑託鑑定、評估人數 (人) | D31: 本期完成囑託鑑定、評估人數 (人) | E31: 本期完成 主動評估人數（人） | F31: 本期法院裁定加害人處遇人數 (人) | G31: 本期法院逕裁加害人處遇人數 (人) | H31: 本期法院裁定加害人處遇計畫項目人次(複選)
H32: 合計 | I32: 精神治療 | J32: 戒癮治療 | L32: 心理輔導 | M32: 認知教育輔導 | O32: 其他輔導、治療
J33: 戒酒癮 | K33: 戒藥毒癮 | M33: 認知教育 | N33: 戒酒教育 | O33: 親職教育 | P33: 其他
A34: 法院裁定加害人處遇計畫者（家暴法第14條第1項第10款） | B34: 計 | C34: 3999 | D34: 3486 | E34: 712 | F34: 3358 | G34: 1353 | H34: 4738 | I34: 519 | J34: 260 | K34: 71 | L34: 399 | M34: 2636 | N34: 449 | O34: 381 | P34: 23
B35: 男 | C35: 3350 | D35: 2919 | E35: 637 | F35: 2821 | G35: 1119 | H35: 3982 | I35: 366 | J35: 245 | K35: 65 | L35: 294 | M35: 2324 | N35: 419 | O35: 256 | P35: 13
B36: 女 | C36: 649 | D36: 567 | E36: 75 | F36: 537 | G36: 234 | H36: 756 | I36: 153 | J36: 15 | K36: 6 | L36: 105 | M36: 312 | N36: 30 | O36: 125 | P36: 10
A37: 犯家暴罪或違反保護令罪付保護管束者命完成加害人處遇計畫（家暴法第38條） | B37: 計 | C37: 4 | D37: 4 | E37: 3 | F37: 19 | G37: 12 | H37: 25 | I37: 1 | J37: 0 | K37: 0 | L37: 3 | M37: 15 | N37: 0 | O37: 6 | P37: 0
B38: 男 | C38: 3 | D38: 3 | E38: 2 | F38: 11 | G38: 6 | H38: 13 | I38: 0 | J38: 0 | K38: 0 | L38: 1 | M38: 11 | N38: 0 | O38: 1 | P38: 0
B39: 女 | C39: 1 | D39: 1 | E39: 1 | F39: 8 | G39: 6 | H39: 12 | I39: 1 | J39: 0 | K39: 0 | L39: 2 | M39: 4 | N39: 0 | O39: 5 | P39: 0
A40: 假釋出獄付保護管束者命完成加害人處遇計畫（家暴法第39條） | B40: 計 | C40: 22 | D40: 14 | E40: 7 | F40: 78 | G40: 48 | H40: 116 | I40: 1 | J40: 1 | K40: 1 | L40: 19 | M40: 80 | N40: 3 | O40: 11 | P40: 0
B41: 男 | C41: 19 | D41: 12 | E41: 7 | F41: 68 | G41: 41 | H41: 100 | I41: 1 | J41: 1 | K41: 1 | L41: 16 | M41: 73 | N41: 1 | O41: 7 | P41: 0
B42: 女 | C42: 3 | D42: 2 | E42: 0 | F42: 10 | G42: 7 | H42: 16 | I42: 0 | J42: 0 | K42: 0 | L42: 3 | M42: 7 | N42: 2 | O42: 4 | P42: 0
A43: 檢察官緩起訴處分命完成加害人處遇計畫 | B43: 計 | C43: 0 | D43: 0 | E43: 1 | F43: 0 | G43: 0 | H43: 12 | I43: 7 | J43: 0 | K43: 0 | L43: 0 | M43: 4 | N43: 0 | O43: 0 | P43: 1
...

Sheet 112
A1: 5.1-03 推展家庭暴力防治業務
A2: 民國112年
A4: 被害人國籍身分 與性別 | C4: 1.家庭暴力被害人保護扶助人次（人次）
C5: 合計 | D5: 諮詢協談 | E5: 庇護安置 | G5: 陪同報案偵詢（訊） | H5: 陪同出庭 | I5: 驗傷診療 | J5: 聲請 保護令 | K5: 法律扶助 | L5: 經濟扶助 | M5: 心理諮商與輔導 | N5: 就業服務 | O5: 就學或轉學 服務 | P5: 轉介/提供目睹暴力服務 | Q5: 子女問題 協助 | R5: 通譯服務 | S5: 其他扶助
E6: 被害人 | F6: 隨行子女
A7: 合計 | B7: 計 | C7: 1900479 | D7: 1590609 | E7: 11361 | F7: 716 | G7: 955 | H7: 9072 | I7: 5501 | J7: 4939 | K7: 57533 | L7: 29630 | M7: 25609 | N7: 2368 | O7: 3003 | P7: 23995 | Q7: 12241 | R7: 122 | S7: 122825
B8: 男 | C8: 595576 | D8: 503288 | E8: 5425 | F8: 114 | G8: 213 | H8: 2015 | I8: 2420 | J8: 1204 | K8: 13330 | L8: 10669 | M8: 8693 | N8: 676 | O8: 1284 | P8: 4892 | Q8: 2624 | R8: 20 | S8: 38709
B9: 女 | C9: 1304903 | D9: 1087321 | E9: 5936 | F9: 602 | G9: 742 | H9: 7057 | I9: 3081 | J9: 3735 | K9: 44203 | L9: 18961 | M9: 16916 | N9: 1692 | O9: 1719 | P9: 19103 | Q9: 9617 | R9: 102 | S9: 84116
A10: 本國籍 非原住民 | B10: 男 | C10: 546939 | D10: 463112 | E10: 4997 | F10: 102 | G10: 193 | H10: 1829 | I10: 2146 | J10: 1109 | K10: 12577 | L10: 9750 | M10: 8032 | N10: 584 | O10: 1159 | P10: 4498 | Q10: 2455 | R10: 7 | S10: 34389
B11: 女 | C11: 1160539 | D11: 969892 | E11: 5384 | F11: 514 | G11: 630 | H11: 6125 | I11: 2820 | J11: 3266 | K11: 39340 | L11: 16911 | M11: 15783 | N11: 1404 | O11: 1544 | P11: 16978 | Q11: 8619 | R11: 48 | S11: 71281
A12: 本國籍 原住民 | B12: 男 | C12: 34608 | D12: 28303 | E12: 373 | F12: 6 | G12: 17 | H12: 120 | I12: 183 | J12: 77 | K12: 559 | L12: 770 | M12: 457 | N12: 75 | O12: 108 | P12: 218 | Q12: 97 | R12: 1 | S12: 3244
B13: 女 | C13: 85785 | D13: 68076 | E13: 425 | F13: 53 | G13: 75 | H13: 551 | I13: 192 | J13: 341 | K13: 2924 | L13: 1510 | M13: 655 | N13: 189 | O13: 145 | P13: 1260 | Q13: 437 | R13: 0 | S13: 8952
A14: 大陸籍 （含港澳） | B14: 男 | C14: 836 | D14: 612 | E14: 0 | F14: 2 | G14: 0 | H14: 0 | I14: 0 | J14: 1 | K14: 29 | L14: 15 | M14: 2 | N14: 1 | O14: 4 | P14: 0 | Q14: 11 | R14: 0 | S14: 159
B15: 女 | C15: 14223 | D15: 11338 | E15: 33 | F15: 16 | G15: 16 | H15: 92 | I15: 10 | J15: 40 | K15: 641 | L15: 180 | M15: 118 | N15: 26 | O15: 4 | P15: 304 | Q15: 175 | R15: 0 | S15: 1230
A16: 外國籍 | B16: 男 | C16: 2553 | D16: 2259 | E16: 28 | F16: 4 | G16: 0 | H16: 4 | I16: 0 | J16: 1 | K16: 56 | L16: 15 | M16: 1 | N16: 0 | O16: 0 | P16: 17 | Q16: 11 | R16: 11 | S16: 146
B17: 女 | C17: 22752 | D17: 19125 | E17: 79 | F17: 14 | G17: 14 | H17: 157 | I17: 32 | J17: 67 | K17: 824 | L17: 195 | M17: 124 | N17: 45 | O17: 4 | P17: 288 | Q17: 269 | R17: 54 | S17: 1461
A18: 其他 | B18: 男 | C18: 10640 | D18: 9002 | E18: 27 | F18: 0 | G18: 3 | H18: 62 | I18: 91 | J18: 16 | K18: 109 | L18: 119 | M18: 201 | N18: 16 | O18: 13 | P18: 159 | Q18: 50 | R18: 1 | S18: 771
B19: 女 | C19: 21604 | D19: 18890 | E19: 15 | F19: 5 | G19: 7 | H19: 132 | I19: 27 | J19: 21 | K19: 474 | L19: 165 | M19: 236 | N19: 28 | O19: 22 | P19: 273 | Q19: 117 | R19: 0 | S19: 1192
A21: 被害人國籍身分 | C21: 2.家庭暴力被害人保護扶助金額 (元)
C22: 合計 | D22: 緊急 生活扶助 | E22: 生活扶助 | F22: 急難救助 | G22: 租金補助 | H22: 醫療補助 | I22: 庇護安置補助 | J22: 心理治療、諮商與輔導費用 | K22: 律師費用 補助 | L22: 訴訟費用 補助 | M22: 子女生活 津貼/補助 | N22: 子女 教育補助 | O22: 兒童托育 費用/津貼 | P22: 民間慈善團體資助 | Q22: 其他補助
A23: 合計 | C23: 1216978847 | D23: 68920074 | E23: 304667909 | F23: 9527134 | G23: 21904824 | H23: 27061425 | I23: 558771701 | J23: 37438884 | K23: 9109338 | L23: 3344653 | M23: 116901688 | N23: 3271880 | O23: 13658683 | P23: 11576488 | Q23: 30824166
A24: 本國籍非原住民 | C24: 1130305227 | D24: 61634149 | E24: 282228379 | F24: 8632288 | G24: 19284933 | H24: 25358314 | I24: 528820331 | J24: 33593319 | K24: 8182037 | L24: 3201348 | M24: 107187398 | N24: 3099608 | O24: 12750660 | P24: 9119375 | Q24: 27213088
A25: 本國籍原住民 | C25: 50818447 | D25: 4103114 | E25: 10781558 | F25: 442109 | G25: 1125702 | H25: 847549 | I25: 22153291 | J25: 1213618 | K25: 495764 | L25: 37706 | M25: 4506995 | N25: 92918 | O25: 519367 | P25: 1718501 | Q25: 2780255
A26: 大陸籍（含港澳） | C26: 6833876 | D26: 620315 | E26: 783923 | F26: 39928 | G26: 346978 | H26: 61680 | I26: 1902751 | J26: 1852214 | K26: 125245 | L26: 4951 | M26: 289206 | N26: 76382 | O26: 12226 | P26: 407100 | Q26: 310977
A27: 外國籍 | C27: 5655512 | D27: 335331 | E27: 1092407 | F27: 39501 | G27: 344509 | H27: 102810 | I27: 2782084 | J27: 140276 | K27: 20657 | L27: 5431 | M27: 385613 | N27: 154 | O27: 33409 | P27: 156232 | Q27: 217098
A28: 其他 | C28: 23365785 | D28: 2227165 | E28: 9781642 | F28: 373308 | G28: 802702 | H28: 691072 | I28: 3113244 | J28: 639457 | K28: 285635 | L28: 95217 | M28: 4532476 | N28: 2818 | O28: 343021 | P28: 175280 | Q28: 302748
A30: 資料來源、 加害人性別 | C30: 3.家庭暴力加害人處遇
C31: 本期囑託鑑定、評估人數 (人) | D31: 本期完成囑託鑑定、評估人數 (人) | E31: 本期完成 主動評估人數（人） | F31: 本期法院裁定加害人處遇人數 (人) | G31: 本期法院逕裁加害人處遇人數 (人) | H31: 本期法院裁定加害人處遇計畫項目人次(複選)
H32: 合計 | I32: 精神治療 | J32: 戒癮治療 | L32: 心理輔導 | M32: 認知教育輔導 | O32: 其他輔導、治療
J33: 戒酒癮 | K33: 戒藥毒癮 | M33: 認知教育 | N33: 戒酒教育 | O33: 親職教育 | P33: 其他
A34: 法院裁定加害人處遇計畫者（家暴法第14條第1項第10款） | B34: 計 | C34: 3340 | D34: 2674 | E34: 740 | F34: 2988 | G34: 1175 | H34: 4398 | I34: 413 | J34: 266 | K34: 84 | L34: 333 | M34: 2468 | N34: 445 | O34: 352 | P34: 37
B35: 男 | C35: 2795 | D35: 2258 | E35: 636 | F35: 2530 | G35: 994 | H35: 3731 | I35: 303 | J35: 246 | K35: 78 | L35: 235 | M35: 2161 | N35: 421 | O35: 263 | P35: 24
B36: 女 | C36: 545 | D36: 416 | E36: 104 | F36: 458 | G36: 181 | H36: 667 | I36: 110 | J36: 20 | K36: 6 | L36: 98 | M36: 307 | N36: 24 | O36: 89 | P36: 13
A37: 犯家暴罪或違反保護令罪付保護管束者命完成加害人處遇計畫（家暴法第38條） | B37: 計 | C37: 3 | D37: 0 | E37: 0 | F37: 31 | G37: 19 | H37: 47 | I37: 2 | J37: 0 | K37: 1 | L37: 5 | M37: 19 | N37: 0 | O37: 19 | P37: 1
B38: 男 | C38: 3 | D38: 0 | E38: 0 | F38: 23 | G38: 14 | H38: 33 | I38: 1 | J38: 0 | K38: 0 | L38: 4 | M38: 17 | N38: 0 | O38: 10 | P38: 1
B39: 女 | C39: 0 | D39: 0 | E39: 0 | F39: 8 | G39: 5 | H39: 14 | I39: 1 | J39: 0 | K39: 1 | L39: 1 | M39: 2 | N39: 0 | O39: 9 | P39: 0
A40: 假釋出獄付保護管束者命完成加害人處遇計畫（家暴法第39條） | B40: 計 | C40: 18 | D40: 18 | E40: 0 | F40: 88 | G40: 50 | H40: 125 | I40: 5 | J40: 1 | K40: 0 | L40: 13 | M40: 96 | N40: 2 | O40: 8 | P40: 0
B41: 男 | C41: 15 | D41: 15 | E41: 0 | F41: 78 | G41: 45 | H41: 111 | I41: 4 | J41: 1 | K41: 0 | L41: 7 | M41: 93 | N41: 1 | O41: 5 | P41: 0
B42: 女 | C42: 3 | D42: 3 | E42: 0 | F42: 10 | G42: 5 | H42: 14 | I42: 1 | J42: 0 | K42: 0 | L42: 6 | M42: 3 | N42: 1 | O42: 3 | P42: 0
A43: 檢察官緩起訴處分命完成加害人處遇計畫 | B43: 計 | C43: 0 | D43: 0 | E43: 0 | H43: 10 | I43: 1 | J43: 0 | K43: 0 | L43: 1 | M43: 6 | N43: 2 | O43: 0 | P43: 0
...

Sheet 111
A1: 5.1-03 推展家庭暴力防治業務
A2: 民國111年
A4: 被害人國籍身分 與性別 | C4: 1.家庭暴力被害人保護扶助人次（人次）
C5: 合計 | D5: 諮詢協談 | E5: 庇護安置 | G5: 陪同報案偵詢（訊） | H5: 陪同出庭 | I5: 驗傷診療 | J5: 聲請 保護令 | K5: 法律扶助 | L5: 經濟扶助 | M5: 心理諮商與輔導 | N5: 就業服務 | O5: 就學或轉學 服務 | P5: 轉介/提供目睹暴力服務 | Q5: 子女問題 協助 | R5: 通譯服務 | S5: 其他扶助
E6: 被害人 | F6: 隨行子女
A7: 合計 | B7: 計 | C7: 1817387 | D7: 1503987 | E7: 7410 | F7: 600 | G7: 878 | H7: 9044 | I7: 5103 | J7: 4689 | K7: 70282 | L7: 30493 | M7: 21274 | N7: 2274 | O7: 3209 | P7: 24942 | Q7: 11117 | R7: 131 | S7: 121954
B8: 男 | C8: 550197 | D8: 464833 | E8: 3472 | F8: 70 | G8: 177 | H8: 2047 | I8: 2177 | J8: 1051 | K8: 15621 | L8: 10444 | M8: 6523 | N8: 501 | O8: 1339 | P8: 4787 | Q8: 2483 | R8: 14 | S8: 34658
B9: 女 | C9: 1267190 | D9: 1039154 | E9: 3938 | F9: 530 | G9: 701 | H9: 6997 | I9: 2926 | J9: 3638 | K9: 54661 | L9: 20049 | M9: 14751 | N9: 1773 | O9: 1870 | P9: 20155 | Q9: 8634 | R9: 117 | S9: 87296
A10: 本國籍 非原住民 | B10: 男 | C10: 502226 | D10: 425056 | E10: 3211 | F10: 68 | G10: 154 | H10: 1850 | I10: 2006 | J10: 981 | K10: 14597 | L10: 9544 | M10: 5999 | N10: 473 | O10: 1235 | P10: 4522 | Q10: 2299 | R10: 2 | S10: 30229
B11: 女 | C11: 1125301 | D11: 925539 | E11: 3466 | F11: 436 | G11: 588 | H11: 6004 | I11: 2673 | J11: 3089 | K11: 48538 | L11: 17995 | M11: 13605 | N11: 1516 | O11: 1697 | P11: 18291 | Q11: 7630 | R11: 35 | S11: 74199
A12: 本國籍 原住民 | B12: 男 | C12: 34250 | D12: 27824 | E12: 250 | F12: 2 | G12: 15 | H12: 144 | I12: 136 | J12: 58 | K12: 763 | L12: 833 | M12: 359 | N12: 20 | O12: 82 | P12: 103 | Q12: 93 | R12: 0 | S12: 3568
B13: 女 | C13: 83889 | D13: 64773 | E13: 357 | F13: 51 | G13: 80 | H13: 666 | I13: 184 | J13: 419 | K13: 3941 | L13: 1502 | M13: 620 | N13: 139 | O13: 140 | P13: 1178 | Q13: 491 | R13: 1 | S13: 9347
A14: 大陸籍 （含港澳） | B14: 男 | C14: 430 | D14: 325 | E14: 0 | F14: 0 | G14: 0 | H14: 2 | I14: 2 | J14: 0 | K14: 29 | L14: 4 | M14: 11 | N14: 0 | O14: 10 | P14: 0 | Q14: 6 | R14: 0 | S14: 41
B15: 女 | C15: 12891 | D15: 10682 | E15: 26 | F15: 10 | G15: 12 | H15: 92 | I15: 13 | J15: 29 | K15: 593 | L15: 160 | M15: 102 | N15: 36 | O15: 5 | P15: 159 | Q15: 157 | R15: 0 | S15: 815
A16: 外國籍 | B16: 男 | C16: 2493 | D16: 2078 | E16: 5 | F16: 0 | G16: 2 | H16: 5 | I16: 0 | J16: 6 | K16: 118 | L16: 11 | M16: 7 | N16: 2 | O16: 0 | P16: 34 | Q16: 22 | R16: 12 | S16: 191
B17: 女 | C17: 23043 | D17: 18909 | E17: 78 | F17: 33 | G17: 10 | H17: 176 | I17: 14 | J17: 85 | K17: 986 | L17: 298 | M17: 183 | N17: 48 | O17: 5 | P17: 302 | Q17: 236 | R17: 80 | S17: 1600
A18: 其他 | B18: 男 | C18: 10798 | D18: 9550 | E18: 6 | F18: 0 | G18: 6 | H18: 46 | I18: 33 | J18: 6 | K18: 114 | L18: 52 | M18: 147 | N18: 6 | O18: 12 | P18: 128 | Q18: 63 | R18: 0 | S18: 629
B19: 女 | C19: 22066 | D19: 19251 | E19: 11 | F19: 0 | G19: 11 | H19: 59 | I19: 42 | J19: 16 | K19: 603 | L19: 94 | M19: 241 | N19: 34 | O19: 23 | P19: 225 | Q19: 120 | R19: 1 | S19: 1335
A21: 被害人國籍身分 | C21: 2.家庭暴力被害人保護扶助金額 (元)
C22: 合計 | D22: 緊急 生活扶助 | E22: 生活扶助 | F22: 急難救助 | G22: 租金補助 | H22: 醫療補助 | I22: 庇護安置補助 | J22: 心理治療、諮商與輔導費用 | K22: 律師費用 補助 | L22: 訴訟費用 補助 | M22: 子女生活 津貼/補助 | N22: 子女 教育補助 | O22: 兒童托育 費用/津貼 | P22: 民間慈善團體資助 | Q22: 其他補助
A23: 合計 | C23: 990067155 | D23: 60635814 | E23: 223952090 | F23: 8176287 | G23: 23445573 | H23: 22837691 | I23: 423782850 | J23: 41591936 | K23: 8568567 | L23: 3683781 | M23: 118129768 | N23: 3175720 | O23: 13421820 | P23: 12837595 | Q23: 25827663
A24: 本國籍非原住民 | C24: 908054349 | D24: 56019851 | E24: 201384776 | F24: 7158981 | G24: 19993570 | H24: 20933715 | I24: 400959849 | J24: 38057570 | K24: 7729588 | L24: 3490707 | M24: 102941681 | N24: 3070716 | O24: 12066095 | P24: 10070224 | Q24: 24177026
A25: 本國籍原住民 | C25: 49292039 | D25: 3074320 | E25: 10681287 | F25: 545336 | G25: 1793942 | H25: 920139 | I25: 18049194 | J25: 1825710 | K25: 379293 | L25: 95449 | M25: 7420898 | N25: 66235 | O25: 890946 | P25: 2387143 | Q25: 1162147
A26: 大陸籍（含港澳） | C26: 2115529 | D26: 251937 | E26: 590003 | F26: 5000 | G26: 157020 | H26: 15258 | I26: 563687 | J26: 163456 | K26: 16000 | L26: 6000 | M26: 151456 | N26: 16812 | O26: 0 | P26: 133170 | Q26: 45730
A27: 外國籍 | C27: 6562358 | D27: 322134 | E27: 1326303 | F27: 53000 | G27: 265586 | H27: 134259 | I27: 2459890 | J27: 248477 | K27: 156238 | L27: 19487 | M27: 933474 | N27: 118 | O27: 83561 | P27: 209014 | Q27: 350817
A28: 其他 | C28: 24042880 | D28: 967572 | E28: 9969721 | F28: 413970 | G28: 1235455 | H28: 834320 | I28: 1750230 | J28: 1296723 | K28: 287448 | L28: 72138 | M28: 6682259 | N28: 21839 | O28: 381218 | P28: 38044 | Q28: 91943
A30: 資料來源、 加害人性別 | C30: 3.家庭暴力加害人處遇
C31: 本期囑託鑑定、評估人數 (人) | D31: 本期完成囑託鑑定、評估人數 (人) | E31: 本期完成 主動評估人數（人） | F31: 本期法院裁定加害人處遇人數 (人) | G31: 本期法院逕裁加害人處遇人數 (人) | H31: 本期法院裁定加害人處遇計畫項目人次(複選)
H32: 合計 | I32: 精神治療 | J32: 戒癮治療 | L32: 心理輔導 | M32: 認知教育輔導 | O32: 其他輔導、治療
J33: 戒酒癮 | K33: 戒藥毒癮 | M33: 認知教育 | N33: 戒酒教育 | O33: 親職教育 | P33: 其他
A34: 法院裁定加害人處遇計畫者（家暴法第14條第1項第10款） | B34: 計 | C34: 3349 | D34: 2948 | E34: 880 | F34: 3309 | G34: 1382 | H34: 4509 | I34: 460 | J34: 195 | K34: 58 | L34: 270 | M34: 2483 | N34: 531 | O34: 285 | P34: 227
B35: 男 | C35: 2858 | D35: 2515 | E35: 753 | F35: 2856 | G35: 1176 | H35: 3903 | I35: 356 | J35: 181 | K35: 57 | L35: 199 | M35: 2201 | N35: 505 | O35: 206 | P35: 198
B36: 女 | C36: 491 | D36: 433 | E36: 127 | F36: 453 | G36: 206 | H36: 606 | I36: 104 | J36: 14 | K36: 1 | L36: 71 | M36: 282 | N36: 26 | O36: 79 | P36: 29
A37: 犯家暴罪或違反保護令罪付保護管束者命完成加害人處遇計畫（家暴法第38條） | B37: 計 | C37: 0 | D37: 0 | E37: 0 | F37: 19 | G37: 17 | H37: 22 | I37: 0 | J37: 0 | K37: 0 | L37: 0 | M37: 19 | N37: 0 | O37: 3 | P37: 0
B38: 男 | C38: 0 | D38: 0 | E38: 0 | F38: 19 | G38: 17 | H38: 22 | I38: 0 | J38: 0 | K38: 0 | L38: 0 | M38: 19 | N38: 0 | O38: 3 | P38: 0
B39: 女 | C39: 0 | D39: 0 | E39: 0 | F39: 0 | G39: 0 | H39: 0 | I39: 0 | J39: 0 | K39: 0 | L39: 0 | M39: 0 | N39: 0 | O39: 0 | P39: 0
A40: 假釋出獄付保護管束者命完成加害人處遇計畫（家暴法第39條） | B40: 計 | C40: 4 | D40: 4 | E40: 0 | F40: 47 | G40: 26 | H40: 68 | I40: 2 | J40: 1 | K40: 0 | L40: 8 | M40: 50 | N40: 4 | O40: 3 | P40: 0
B41: 男 | C41: 4 | D41: 3 | E41: 0 | F41: 40 | G41: 23 | H41: 56 | I41: 1 | J41: 1 | K41: 0 | L41: 6 | M41: 42 | N41: 3 | O41: 3 | P41: 0
B42: 女 | C42: 0 | D42: 1 | E42: 0 | F42: 7 | G42: 3 | H42: 12 | I42: 1 | J42: 0 | K42: 0 | L42: 2 | M42: 8 | N42: 1 | O42: 0 | P42: 0
A43: 檢察官緩起訴處分命完成加害人處遇計畫 | B43: 計 | C43: 4 | D43: 4 | E43: 0 | H43: 28 | I43: 1 | J43: 0 | K43: 0 | L43: 2 | M43: 16 | N43: 3 | O43: 4 | P43: 2
...

Sheet 110
A1: 5.1-03 推展家庭暴力防治業務
A2: 民國110年
A4: 被害人國籍身分 與性別 | C4: 1.家庭暴力被害人保護扶助人次（人次）
C5: 合計 | D5: 諮詢協談 | E5: 庇護安置 | G5: 陪同報案偵詢（訊） | H5: 陪同出庭 | I5: 驗傷診療 | J5: 聲請 保護令 | K5: 法律扶助 | L5: 經濟扶助 | M5: 心理諮商與輔導 | N5: 就業服務 | O5: 就學或轉學 服務 | P5: 轉介/提供目睹暴力服務 | Q5: 子女問題 協助 | R5: 通譯服務 | S5: 其他扶助
E6: 被害人 | F6: 隨行子女
A7: 合計 | B7: 計 | C7: 1754639 | D7: 1473852 | E7: 5991 | F7: 630 | G7: 825 | H7: 8074 | I7: 4759 | J7: 4090 | K7: 62392 | L7: 28760 | M7: 18764 | N7: 2202 | O7: 2837 | P7: 23947 | Q7: 11012 | R7: 178 | S7: 106326
B8: 男 | C8: 526965 | D8: 450347 | E8: 2551 | F8: 109 | G8: 174 | H8: 1781 | I8: 1999 | J8: 856 | K8: 14289 | L8: 9741 | M8: 5614 | N8: 585 | O8: 1340 | P8: 2690 | Q8: 2584 | R8: 38 | S8: 32267
B9: 女 | C9: 1227674 | D9: 1023505 | E9: 3440 | F9: 521 | G9: 651 | H9: 6293 | I9: 2760 | J9: 3234 | K9: 48103 | L9: 19019 | M9: 13150 | N9: 1617 | O9: 1497 | P9: 21257 | Q9: 8428 | R9: 140 | S9: 74059
A10: 本國籍 非原住民 | B10: 男 | C10: 476553 | D10: 408269 | E10: 2248 | F10: 107 | G10: 153 | H10: 1554 | I10: 1781 | J10: 771 | K10: 13254 | L10: 8726 | M10: 5116 | N10: 532 | O10: 1230 | P10: 2370 | Q10: 2414 | R10: 17 | S10: 28011
B11: 女 | C11: 1085440 | D11: 904888 | E11: 2937 | F11: 427 | G11: 541 | H11: 5389 | I11: 2548 | J11: 2778 | K11: 43506 | L11: 16914 | M11: 12127 | N11: 1388 | O11: 1354 | P11: 19430 | Q11: 7325 | R11: 36 | S11: 63852
A12: 本國籍 原住民 | B12: 男 | C12: 35550 | D12: 29055 | E12: 285 | F12: 0 | G12: 18 | H12: 165 | I12: 182 | J12: 76 | K12: 669 | L12: 972 | M12: 400 | N12: 22 | O12: 102 | P12: 202 | Q12: 93 | R12: 2 | S12: 3307
B13: 女 | C13: 78520 | D13: 63885 | E13: 332 | F13: 48 | G13: 65 | H13: 564 | I13: 123 | J13: 305 | K13: 2460 | L13: 1494 | M13: 474 | N13: 99 | O13: 110 | P13: 1225 | Q13: 486 | R13: 0 | S13: 6850
A14: 大陸籍 （含港澳） | B14: 男 | C14: 531 | D14: 474 | E14: 2 | F14: 0 | G14: 0 | H14: 1 | I14: 4 | J14: 3 | K14: 11 | L14: 1 | M14: 0 | N14: 0 | O14: 0 | P14: 1 | Q14: 0 | R14: 0 | S14: 34
B15: 女 | C15: 15957 | D15: 13395 | E15: 32 | F15: 15 | G15: 26 | H15: 100 | I15: 27 | J15: 56 | K15: 658 | L15: 210 | M15: 129 | N15: 40 | O15: 4 | P15: 246 | Q15: 203 | R15: 0 | S15: 816
A16: 外國籍 | B16: 男 | C16: 2921 | D16: 2347 | E16: 3 | F16: 2 | G16: 0 | H16: 6 | I16: 3 | J16: 0 | K16: 202 | L16: 12 | M16: 15 | N16: 1 | O16: 1 | P16: 12 | Q16: 16 | R16: 18 | S16: 283
B17: 女 | C17: 25593 | D17: 21647 | E17: 92 | F17: 31 | G17: 7 | H17: 174 | I17: 24 | J17: 74 | K17: 997 | L17: 298 | M17: 201 | N17: 74 | O17: 4 | P17: 135 | Q17: 286 | R17: 103 | S17: 1446
A18: 其他 | B18: 男 | C18: 11410 | D18: 10202 | E18: 13 | F18: 0 | G18: 3 | H18: 55 | I18: 29 | J18: 6 | K18: 153 | L18: 30 | M18: 83 | N18: 30 | O18: 7 | P18: 105 | Q18: 61 | R18: 1 | S18: 632
B19: 女 | C19: 22164 | D19: 19690 | E19: 47 | F19: 0 | G19: 12 | H19: 66 | I19: 38 | J19: 21 | K19: 482 | L19: 103 | M19: 219 | N19: 16 | O19: 25 | P19: 221 | Q19: 128 | R19: 1 | S19: 1095
A21: 被害人國籍身分 | C21: 2.家庭暴力被害人保護扶助金額 (元)
C22: 合計 | D22: 緊急 生活扶助 | E22: 生活扶助 | F22: 急難救助 | G22: 租金補助 | H22: 醫療補助 | I22: 庇護安置補助 | J22: 心理治療、諮商與輔導費用 | K22: 律師費用 補助 | L22: 訴訟費用 補助 | M22: 子女生活 津貼/補助 | N22: 子女 教育補助 | O22: 兒童托育 費用/津貼 | P22: 民間慈善團體資助 | Q22: 其他補助
A23: 合計 | C23: 1069298467 | D23: 61823666 | E23: 237399171 | F23: 11340727 | G23: 26747173 | H23: 26906893 | I23: 484613634 | J23: 26171148 | K23: 8605795 | L23: 4541255 | M23: 120250765 | N23: 4027449 | O23: 12395360 | P23: 14330340 | Q23: 30145091
A24: 本國籍非原住民 | C24: 984031867 | D24: 55681151 | E24: 218082611 | F24: 9917370 | G24: 23851979 | H24: 25385620 | I24: 454671989 | J24: 22686497 | K24: 7993361 | L24: 4121338 | M24: 107649791 | N24: 3932930 | O24: 11619323 | P24: 10697523 | Q24: 27740384
A25: 本國籍原住民 | C25: 50006180 | D25: 3271917 | E25: 9494825 | F25: 752482 | G25: 1408578 | H25: 652117 | I25: 20512808 | J25: 2312068 | K25: 255932 | L25: 217978 | M25: 6444434 | N25: 51458 | O25: 509581 | P25: 3156839 | Q25: 965163
A26: 大陸籍（含港澳） | C26: 6117222 | D26: 957008 | E26: 1157675 | F26: 241965 | G26: 232430 | H26: 107261 | I26: 1755192 | J26: 154039 | K26: 93672 | L26: 16130 | M26: 699181 | N26: 139 | O26: 22196 | P26: 144678 | Q26: 535656
A27: 外國籍 | C27: 8955374 | D27: 930509 | E27: 1488764 | F27: 193072 | G27: 340545 | H27: 158930 | I27: 3466441 | J27: 296365 | K27: 74104 | L27: 126617 | M27: 1016747 | N27: 374 | O27: 56466 | P27: 186054 | Q27: 620386
A28: 其他 | C28: 20187824 | D28: 983081 | E28: 7175296 | F28: 235838 | G28: 913641 | H28: 602965 | I28: 4207204 | J28: 722179 | K28: 188726 | L28: 59192 | M28: 4440612 | N28: 42548 | O28: 187794 | P28: 145246 | Q28: 283502
A30: 資料來源、 加害人性別 | C30: 3.家庭暴力加害人處遇
C31: 本期囑託鑑定、評估人數 (人) | D31: 本期完成囑託鑑定、評估人數 (人) | E31: 本期完成 主動評估人數（人） | F31: 本期法院裁定加害人處遇人數 (人) | G31: 本期法院逕裁加害人處遇人數 (人) | H31: 本期法院裁定加害人處遇計畫項目人次(複選)
H32: 合計 | I32: 精神治療 | J32: 戒癮治療 | L32: 心理輔導 | M32: 認知教育輔導 | O32: 其他輔導、治療
J33: 戒酒癮 | K33: 戒藥毒癮 | M33: 認知教育 | N33: 戒酒教育 | O33: 親職教育 | P33: 其他
A34: 法院裁定加害人處遇計畫者（家暴法第14條第1項第10款） | B34: 計 | C34: 3645 | D34: 3354 | E34: 687 | F34: 2844 | G34: 1084 | H34: 4275 | I34: 491 | J34: 166 | K34: 73 | L34: 314 | M34: 2297 | N34: 489 | O34: 273 | P34: 172
B35: 男 | C35: 3109 | D35: 2882 | E35: 600 | F35: 2498 | G35: 943 | H35: 3763 | I35: 372 | J35: 159 | K35: 69 | L35: 231 | M35: 2082 | N35: 475 | O35: 216 | P35: 159
B36: 女 | C36: 536 | D36: 472 | E36: 87 | F36: 346 | G36: 141 | H36: 512 | I36: 119 | J36: 7 | K36: 4 | L36: 83 | M36: 215 | N36: 14 | O36: 57 | P36: 13
A37: 犯家暴罪或違反保護令罪付保護管束者命完成加害人處遇計畫（家暴法第38條） | B37: 計 | C37: 3 | D37: 3 | E37: 0 | F37: 33 | G37: 19 | H37: 60 | I37: 1 | J37: 1 | K37: 0 | L37: 3 | M37: 41 | N37: 2 | O37: 12 | P37: 0
B38: 男 | C38: 3 | D38: 3 | E38: 0 | F38: 28 | G38: 16 | H38: 47 | I38: 1 | J38: 1 | K38: 0 | L38: 3 | M38: 33 | N38: 2 | O38: 7 | P38: 0
B39: 女 | C39: 0 | D39: 0 | E39: 0 | F39: 5 | G39: 3 | H39: 13 | I39: 0 | J39: 0 | K39: 0 | L39: 0 | M39: 8 | N39: 0 | O39: 5 | P39: 0
A40: 假釋出獄付保護管束者命完成加害人處遇計畫（家暴法第39條） | B40: 計 | C40: 15 | D40: 15 | E40: 1 | F40: 75 | G40: 19 | H40: 140 | I40: 6 | J40: 1 | K40: 0 | L40: 12 | M40: 109 | N40: 1 | O40: 11 | P40: 0
B41: 男 | C41: 12 | D41: 12 | E41: 1 | F41: 66 | G41: 18 | H41: 122 | I41: 5 | J41: 1 | K41: 0 | L41: 9 | M41: 97 | N41: 1 | O41: 9 | P41: 0
B42: 女 | C42: 3 | D42: 3 | E42: 0 | F42: 9 | G42: 1 | H42: 18 | I42: 1 | J42: 0 | K42: 0 | L42: 3 | M42: 12 | N42: 0 | O42: 2 | P42: 0
A43: 檢察官緩起訴處分命完成加害人處遇計畫 | B43: 計 | C43: 0 | D43: 0 | E43: 0 | H43: 33 | I43: 5 | J43: 3 | K43: 0 | L43: 4 | M43: 13 | N43: 3 | O43: 3 | P43: 2
...

Sheet 109
A1: 5.1-03 推展家庭暴力防治業務
A2: 民國109年
A4: 被害人國籍身分 與性別 | C4: 1.家庭暴力被害人保護扶助人次（人次）
C5: 合計 | D5: 諮詢協談 | E5: 庇護安置 | G5: 陪同報案偵詢（訊） | H5: 陪同出庭 | I5: 驗傷診療 | J5: 聲請 保護令 | K5: 法律扶助 | L5: 經濟扶助 | M5: 心理諮商與輔導 | N5: 就業服務 | O5: 就學或轉學 服務 | P5: 轉介/提供目睹暴力服務 | Q5: 子女問題 協助 | R5: 通譯服務 | S5: 其他扶助
E6: 被害人 | F6: 隨行子女
A7: 合計 | B7: 計 | C7: 1631339 | D7: 1359690 | E7: 8590 | F7: 884 | G7: 859 | H7: 8965 | I7: 6367 | J7: 4563 | K7: 53426 | L7: 28001 | M7: 19107 | N7: 2725 | O7: 2683 | P7: 27169 | Q7: 9652 | R7: 180 | S7: 98478
B8: 男 | C8: 463661 | D8: 392237 | E8: 3884 | F8: 128 | G8: 207 | H8: 1969 | I8: 2408 | J8: 918 | K8: 11299 | L8: 8997 | M8: 5816 | N8: 506 | O8: 1207 | P8: 4987 | Q8: 1618 | R8: 20 | S8: 27460
B9: 女 | C9: 1167678 | D9: 967453 | E9: 4706 | F9: 756 | G9: 652 | H9: 6996 | I9: 3959 | J9: 3645 | K9: 42127 | L9: 19004 | M9: 13291 | N9: 2219 | O9: 1476 | P9: 22182 | Q9: 8034 | R9: 160 | S9: 71018
A10: 本國籍 非原住民 | B10: 男 | C10: 424258 | D10: 359238 | E10: 3589 | F10: 115 | G10: 184 | H10: 1772 | I10: 2219 | J10: 864 | K10: 10785 | L10: 8287 | M10: 5436 | N10: 474 | O10: 1146 | P10: 4013 | Q10: 1559 | R10: 9 | S10: 24568
B11: 女 | C11: 1033634 | D11: 857058 | E11: 4124 | F11: 628 | G11: 547 | H11: 6088 | I11: 3635 | J11: 3147 | K11: 37203 | L11: 17175 | M11: 12523 | N11: 1875 | O11: 1344 | P11: 19786 | Q11: 7157 | R11: 29 | S11: 61315
A12: 本國籍 原住民 | B12: 男 | C12: 27346 | D12: 22494 | E12: 245 | F12: 3 | G12: 22 | H12: 129 | I12: 160 | J12: 49 | K12: 338 | L12: 675 | M12: 242 | N12: 12 | O12: 54 | P12: 687 | Q12: 35 | R12: 1 | S12: 2200
B13: 女 | C13: 73709 | D13: 58466 | E13: 381 | F13: 51 | G13: 55 | H13: 555 | I13: 201 | J13: 372 | K13: 3140 | L13: 1191 | M13: 350 | N13: 187 | O13: 106 | P13: 1427 | Q13: 500 | R13: 1 | S13: 6726
A14: 大陸籍 （含港澳） | B14: 男 | C14: 479 | D14: 406 | E14: 2 | F14: 7 | G14: 0 | H14: 2 | I14: 4 | J14: 0 | K14: 25 | L14: 1 | M14: 2 | N14: 0 | O14: 1 | P14: 1 | Q14: 0 | R14: 0 | S14: 28
B15: 女 | C15: 17813 | D15: 15050 | E15: 57 | F15: 22 | G15: 17 | H15: 133 | I15: 50 | J15: 35 | K15: 705 | L15: 245 | M15: 129 | N15: 44 | O15: 2 | P15: 355 | Q15: 144 | R15: 0 | S15: 825
A16: 外國籍 | B16: 男 | C16: 1703 | D16: 1499 | E16: 0 | F16: 3 | G16: 0 | H16: 9 | I16: 2 | J16: 1 | K16: 48 | L16: 11 | M16: 9 | N16: 1 | O16: 0 | P16: 12 | Q16: 3 | R16: 8 | S16: 97
B17: 女 | C17: 22961 | D17: 19350 | E17: 100 | F17: 50 | G17: 27 | H17: 163 | I17: 48 | J17: 79 | K17: 798 | L17: 317 | M17: 112 | N17: 81 | O17: 6 | P17: 274 | Q17: 166 | R17: 130 | S17: 1260
A18: 其他 | B18: 男 | C18: 9875 | D18: 8600 | E18: 48 | F18: 0 | G18: 1 | H18: 57 | I18: 23 | J18: 4 | K18: 103 | L18: 23 | M18: 127 | N18: 19 | O18: 6 | P18: 274 | Q18: 21 | R18: 2 | S18: 567
B19: 女 | C19: 19561 | D19: 17529 | E19: 44 | F19: 5 | G19: 6 | H19: 57 | I19: 25 | J19: 12 | K19: 281 | L19: 76 | M19: 177 | N19: 32 | O19: 18 | P19: 340 | Q19: 67 | R19: 0 | S19: 892
A21: 被害人國籍身分 | C21: 2.家庭暴力被害人保護扶助金額 (元)
C22: 合計 | D22: 緊急 生活扶助 | E22: 生活扶助 | F22: 急難救助 | G22: 租金補助 | H22: 醫療補助 | I22: 庇護安置補助 | J22: 心理治療、諮商與輔導費用 | K22: 律師費用 補助 | L22: 訴訟費用 補助 | M22: 子女生活 津貼/補助 | N22: 子女 教育補助 | O22: 兒童托育 費用/津貼 | P22: 民間慈善團體資助 | Q22: 其他補助
A23: 合計 | C23: 1118792139 | D23: 70510247 | E23: 258044703 | F23: 10025582 | G23: 26799848 | H23: 27493462 | I23: 508549898 | J23: 34409504 | K23: 10323853 | L23: 2999999 | M23: 111182803 | N23: 3341536 | O23: 11456823 | P23: 11366932 | Q23: 32286949
A24: 本國籍非原住民 | C24: 1019630825 | D24: 63313817 | E24: 235115412 | F24: 8673240 | G24: 23194380 | H24: 25585625 | I24: 473893573 | J24: 30064434 | K24: 9170683 | L24: 2736154 | M24: 96541254 | N24: 2954160 | O24: 10445065 | P24: 9058476 | Q24: 28884552
A25: 本國籍原住民 | C25: 59523496 | D25: 2859578 | E25: 12284188 | F25: 564573 | G25: 1757146 | H25: 957891 | I25: 24417810 | J25: 3266418 | K25: 495084 | L25: 138899 | M25: 8281691 | N25: 281418 | O25: 557179 | P25: 1818175 | Q25: 1843446
A26: 大陸籍（含港澳） | C26: 11074730 | D26: 2320742 | E26: 1917290 | F26: 188819 | G26: 466556 | H26: 185712 | I26: 4055167 | J26: 252538 | K26: 142492 | L26: 14069 | M26: 1056291 | N26: 439 | O26: 89608 | P26: 192395 | Q26: 192612
A27: 外國籍 | C27: 10430335 | D27: 1405240 | E27: 2109964 | F27: 322327 | G27: 546465 | H27: 188457 | I27: 2921087 | J27: 175055 | K27: 370882 | L27: 24628 | M27: 1268572 | N27: 574 | O27: 91816 | P27: 248344 | Q27: 756924
A28: 其他 | C28: 18132753 | D28: 610870 | E28: 6617849 | F28: 276623 | G28: 835301 | H28: 575777 | I28: 3262261 | J28: 651059 | K28: 144712 | L28: 86249 | M28: 4034995 | N28: 104945 | O28: 273155 | P28: 49542 | Q28: 609415
A30: 資料來源、 加害人性別 | C30: 3.家庭暴力加害人處遇
C31: 本期囑託鑑定、評估人數 (人) | D31: 本期完成囑託鑑定、評估人數 (人) | E31: 本期完成 主動評估人數（人） | F31: 本期法院裁定加害人處遇人數 (人) | G31: 本期法院逕裁加害人處遇人數 (人) | H31: 本期法院裁定加害人處遇計畫項目人次(複選)
H32: 合計 | I32: 精神治療 | J32: 戒癮治療 | L32: 心理輔導 | M32: 認知教育輔導 | O32: 其他輔導、治療
J33: 戒酒癮 | K33: 戒藥毒癮 | M33: 認知教育 | N33: 戒酒教育 | O33: 親職教育 | P33: 其他
A34: 法院裁定加害人處遇計畫者（家暴法第14條第1項第10款） | B34: 計 | C34: 3709 | D34: 3393 | E34: 832 | F34: 3587 | G34: 1985 | H34: 5333 | I34: 810 | J34: 240 | K34: 73 | L34: 311 | M34: 2421 | N34: 809 | O34: 302 | P34: 367
B35: 男 | C35: 3253 | D35: 2966 | E35: 734 | F35: 3128 | G35: 1701 | H35: 4612 | I35: 665 | J35: 221 | K35: 63 | L35: 233 | M35: 2137 | N35: 732 | O35: 234 | P35: 327
B36: 女 | C36: 456 | D36: 427 | E36: 98 | F36: 459 | G36: 284 | H36: 721 | I36: 145 | J36: 19 | K36: 10 | L36: 78 | M36: 284 | N36: 77 | O36: 68 | P36: 40
A37: 犯家暴罪或違反保護令罪付保護管束者命完成加害人處遇計畫（家暴法第38條） | B37: 計 | C37: 13 | D37: 13 | E37: 0 | F37: 34 | G37: 22 | H37: 45 | I37: 2 | J37: 4 | K37: 1 | L37: 1 | M37: 29 | N37: 1 | O37: 7 | P37: 0
B38: 男 | C38: 13 | D38: 13 | E38: 0 | F38: 29 | G38: 19 | H38: 35 | I38: 2 | J38: 2 | K38: 1 | L38: 1 | M38: 25 | N38: 1 | O38: 3 | P38: 0
B39: 女 | C39: 0 | D39: 0 | E39: 0 | F39: 5 | G39: 3 | H39: 10 | I39: 0 | J39: 2 | K39: 0 | L39: 0 | M39: 4 | N39: 0 | O39: 4 | P39: 0
A40: 假釋出獄付保護管束者命完成加害人處遇計畫（家暴法第39條） | B40: 計 | C40: 28 | D40: 27 | E40: 0 | F40: 86 | G40: 60 | H40: 136 | I40: 3 | J40: 0 | K40: 1 | L40: 12 | M40: 113 | N40: 5 | O40: 2 | P40: 0
B41: 男 | C41: 26 | D41: 25 | E41: 0 | F41: 77 | G41: 53 | H41: 114 | I41: 2 | J41: 0 | K41: 1 | L41: 9 | M41: 97 | N41: 4 | O41: 1 | P41: 0
B42: 女 | C42: 2 | D42: 2 | E42: 0 | F42: 9 | G42: 7 | H42: 22 | I42: 1 | J42: 0 | K42: 0 | L42: 3 | M42: 16 | N42: 1 | O42: 1 | P42: 0
A43: 檢察官緩起訴處分命完成加害人處遇計畫 | B43: 計 | C43: 0 | D43: 0 | E43: 1 | F43: 0 | G43: 0 | H43: 22 | I43: 3 | J43: 1 | K43: 0 | L43: 3 | M43: 11 | N43: 2 | O43: 2 | P43: 0
...

Sheet 108
A1: 5.1-03 推展家庭暴力防治業務
A2: 民國108年
A4: 被害人國籍身分 與性別 | C4: 1.家庭暴力被害人保護扶助人次（人次）
C5: 合計 | D5: 諮詢協談 | E5: 庇護安置 | G5: 陪同報案偵詢（訊） | H5: 陪同出庭 | I5: 驗傷診療 | J5: 聲請 保護令 | K5: 法律扶助 | L5: 經濟扶助 | M5: 心理諮商與輔導 | N5: 就業服務 | O5: 就學或轉學 服務 | P5: 轉介/提供目睹暴力服務 | Q5: 子女問題 協助 | R5: 通譯服務 | S5: 其他扶助
E6: 被害人 | F6: 隨行子女
A7: 合計 | B7: 計 | C7: 1499713 | D7: 1280281 | E7: 14442 | F7: 767 | G7: 933 | H7: 7798 | I7: 4511 | J7: 3660 | K7: 39118 | L7: 19022 | M7: 12148 | N7: 1896 | O7: 3065 | P7: 17274 | Q7: 11191 | R7: 116 | S7: 83491
B8: 男 | C8: 430776 | D8: 371414 | E8: 6943 | F8: 127 | G8: 138 | H8: 1532 | I8: 1846 | J8: 709 | K8: 6898 | L8: 7022 | M8: 4083 | N8: 375 | O8: 1470 | P8: 2915 | Q8: 1637 | R8: 28 | S8: 23639
B9: 女 | C9: 1068937 | D9: 908867 | E9: 7499 | F9: 640 | G9: 795 | H9: 6266 | I9: 2665 | J9: 2951 | K9: 32220 | L9: 12000 | M9: 8065 | N9: 1521 | O9: 1595 | P9: 14359 | Q9: 9554 | R9: 88 | S9: 59852
A10: 本國籍 非原住民 | B10: 男 | C10: 388686 | D10: 335842 | E10: 6488 | F10: 123 | G10: 126 | H10: 1382 | I10: 1688 | J10: 652 | K10: 6163 | L10: 6465 | M10: 3691 | N10: 348 | O10: 1290 | P10: 2596 | Q10: 1552 | R10: 12 | S10: 20268
B11: 女 | C11: 932775 | D11: 795572 | E11: 6753 | F11: 520 | G11: 676 | H11: 5399 | I11: 2283 | J11: 2450 | K11: 27720 | L11: 10327 | M11: 7500 | N11: 1225 | O11: 1439 | P11: 12742 | Q11: 8108 | R11: 22 | S11: 50039
A12: 本國籍 原住民 | B12: 男 | C12: 26931 | D12: 22093 | E12: 437 | F12: 0 | G12: 8 | H12: 81 | I12: 133 | J12: 49 | K12: 524 | L12: 492 | M12: 296 | N12: 23 | O12: 143 | P12: 98 | Q12: 46 | R12: 6 | S12: 2502
B13: 女 | C13: 72047 | D13: 57518 | E13: 481 | F13: 28 | G13: 52 | H13: 470 | I13: 222 | J13: 346 | K13: 2962 | L13: 1121 | M13: 269 | N13: 112 | O13: 127 | P13: 693 | Q13: 655 | R13: 3 | S13: 6988
A14: 大陸籍 （含港澳） | B14: 男 | C14: 498 | D14: 458 | E14: 1 | F14: 4 | G14: 0 | H14: 8 | I14: 1 | J14: 2 | K14: 9 | L14: 0 | M14: 0 | N14: 0 | O14: 0 | P14: 2 | Q14: 1 | R14: 0 | S14: 12
B15: 女 | C15: 17880 | D15: 15311 | E15: 85 | F15: 20 | G15: 18 | H15: 149 | I15: 34 | J15: 58 | K15: 599 | L15: 184 | M15: 37 | N15: 82 | O15: 2 | P15: 251 | Q15: 297 | R15: 0 | S15: 753
A16: 外國籍 | B16: 男 | C16: 1753 | D16: 1588 | E16: 1 | F16: 0 | G16: 2 | H16: 12 | I16: 8 | J16: 2 | K16: 13 | L16: 5 | M16: 2 | N16: 1 | O16: 2 | P16: 0 | Q16: 9 | R16: 8 | S16: 100
B17: 女 | C17: 23636 | D17: 20343 | E17: 120 | F17: 55 | G17: 15 | H17: 163 | I17: 49 | J17: 64 | K17: 698 | L17: 284 | M17: 53 | N17: 86 | O17: 5 | P17: 279 | Q17: 353 | R17: 60 | S17: 1009
A18: 其他 | B18: 男 | C18: 12908 | D18: 11433 | E18: 16 | F18: 0 | G18: 2 | H18: 49 | I18: 16 | J18: 4 | K18: 189 | L18: 60 | M18: 94 | N18: 3 | O18: 35 | P18: 219 | Q18: 29 | R18: 2 | S18: 757
B19: 女 | C19: 22599 | D19: 20123 | E19: 60 | F19: 17 | G19: 34 | H19: 85 | I19: 77 | J19: 33 | K19: 241 | L19: 84 | M19: 206 | N19: 16 | O19: 22 | P19: 394 | Q19: 141 | R19: 3 | S19: 1063
A21: 被害人國籍身分 | C21: 2.家庭暴力被害人保護扶助金額 (元)
C22: 合計 | D22: 緊急 生活扶助 | E22: 生活扶助 | F22: 急難救助 | G22: 租金補助 | H22: 醫療補助 | I22: 庇護安置補助 | J22: 心理治療、諮商與輔導費用 | K22: 律師費用 補助 | L22: 訴訟費用 補助 | M22: 子女生活 津貼/補助 | N22: 子女 教育補助 | O22: 兒童托育 費用/津貼 | P22: 民間慈善團體資助 | Q22: 其他補助
A23: 合計 | C23: 869224868 | D23: 56035446 | E23: 153500212 | F23: 8405305 | G23: 18112618 | H23: 15232852 | I23: 483550256 | J23: 22951589 | K23: 5019950 | L23: 1271180 | M23: 77063963 | N23: 2284004 | O23: 4621830 | P23: 6680042 | Q23: 14495621
A24: 本國籍非原住民 | C24: 806494386 | D24: 49862908 | E24: 143468801 | F24: 7502436 | G24: 15582293 | H24: 14356731 | I24: 452277213 | J24: 21127544 | K24: 4494330 | L24: 993680 | M24: 72391699 | N24: 2258044 | O24: 4027118 | P24: 5134264 | Q24: 13017325
A25: 本國籍原住民 | C25: 43567559 | D25: 3768992 | E25: 5751929 | F25: 591889 | G25: 697550 | H25: 246168 | I25: 25790896 | J25: 1138363 | K25: 305840 | L25: 76000 | M25: 2847515 | N25: 10000 | O25: 336175 | P25: 1232226 | Q25: 774016
A26: 大陸籍（含港澳） | C26: 5215364 | D26: 806596 | E26: 1178145 | F26: 107100 | G26: 340620 | H26: 93481 | I26: 1509327 | J26: 86600 | K26: 150000 | L26: 33000 | M26: 552803 | N26: 6000 | O26: 79331 | P26: 96576 | Q26: 175785
A27: 外國籍 | C27: 6578880 | D27: 1059990 | E27: 1062823 | F27: 98000 | G27: 375150 | H27: 87141 | I27: 2699603 | J27: 84500 | K27: 41000 | L27: 66000 | M27: 228334 | N27: 0 | O27: 98206 | P27: 175148 | Q27: 502985
A28: 其他 | C28: 7368679 | D28: 536960 | E28: 2038514 | F28: 105880 | G28: 1117005 | H28: 449331 | I28: 1273217 | J28: 514582 | K28: 28780 | L28: 102500 | M28: 1043612 | N28: 9960 | O28: 81000 | P28: 41828 | Q28: 25510
A30: 資料來源、 加害人性別 | C30: 3.家庭暴力加害人處遇
C31: 本期囑託鑑定、評估人數 (人) | D31: 本期完成囑託鑑定、評估人數 (人) | E31: 本期完成 主動評估人數（人） | F31: 本期法院裁定加害人處遇人數 (人) | G31: 本期法院逕裁加害人處遇人數 (人) | H31: 本期法院裁定加害人處遇計畫項目人次(複選)
H32: 合計 | I32: 精神治療 | J32: 戒癮治療 | L32: 心理輔導 | M32: 認知教育輔導 | O32: 其他輔導、治療
J33: 戒酒癮 | K33: 戒藥毒癮 | M33: 認知教育 | N33: 戒酒教育 | O33: 親職教育 | P33: 其他
A34: 法院裁定加害人處遇計畫者（家暴法第14條第1項第10款） | B34: 計 | C34: 3752 | D34: 3071 | E34: 997 | F34: 3692 | G34: 1353 | H34: 4926 | I34: 343 | J34: 228 | K34: 36 | L34: 240 | M34: 3211 | N34: 607 | O34: 235 | P34: 26
B35: 男 | C35: 3353 | D35: 2764 | E35: 838 | F35: 3300 | G35: 1192 | H35: 4424 | I35: 276 | J35: 220 | K35: 33 | L35: 193 | M35: 2910 | N35: 587 | O35: 185 | P35: 20
B36: 女 | C36: 399 | D36: 307 | E36: 159 | F36: 392 | G36: 161 | H36: 502 | I36: 67 | J36: 8 | K36: 3 | L36: 47 | M36: 301 | N36: 20 | O36: 50 | P36: 6
A37: 犯家暴罪或違反保護令罪付保護管束者命完成加害人處遇計畫（家暴法第38條） | B37: 計 | C37: 0 | D37: 0 | E37: 0 | F37: 5 | G37: 1 | H37: 6 | I37: 1 | J37: 0 | K37: 0 | L37: 0 | M37: 4 | N37: 0 | O37: 1 | P37: 0
B38: 男 | C38: 0 | D38: 0 | E38: 0 | F38: 3 | G38: 1 | H38: 4 | I38: 0 | J38: 0 | K38: 0 | L38: 0 | M38: 4 | N38: 0 | O38: 0 | P38: 0
B39: 女 | C39: 0 | D39: 0 | E39: 0 | F39: 2 | G39: 0 | H39: 2 | I39: 1 | J39: 0 | K39: 0 | L39: 0 | M39: 0 | N39: 0 | O39: 1 | P39: 0
A40: 假釋出獄付保護管束者命完成加害人處遇計畫（家暴法第39條） | B40: 計 | C40: 18 | D40: 13 | E40: 0 | F40: 31 | G40: 8 | H40: 51 | I40: 4 | J40: 1 | K40: 0 | L40: 4 | M40: 42 | N40: 0 | O40: 0 | P40: 0
B41: 男 | C41: 17 | D41: 13 | E41: 0 | F41: 28 | G41: 8 | H41: 46 | I41: 4 | J41: 1 | K41: 0 | L41: 4 | M41: 37 | N41: 0 | O41: 0 | P41: 0
B42: 女 | C42: 1 | D42: 0 | E42: 0 | F42: 3 | G42: 0 | H42: 5 | I42: 0 | J42: 0 | K42: 0 | L42: 0 | M42: 5 | N42: 0 | O42: 0 | P42: 0
A43: 檢察官緩起訴處分命完成加害人處遇計畫 | B43: 計 | C43: 1 | D43: 1 | E43: 0 | F43: 0 | G43: 0 | H43: 12 | I43: 0 | J43: 0 | K43: 0 | L43: 1 | M43: 6 | N43: 2 | O43: 3 | P43: 0
...

Sheet 107
A1: 5.1-03 推展家庭暴力防治業務
A2: 民國107年
A4: 被害人國籍身分 與性別 | C4: 1.家庭暴力被害人保護扶助人次（人次）
C5: 合計 | D5: 諮詢協談 | E5: 庇護安置 | G5: 陪同報案偵詢（訊） | H5: 陪同出庭 | I5: 驗傷診療 | J5: 聲請 保護令 | K5: 法律扶助 | L5: 經濟扶助 | M5: 心理諮商與輔導 | N5: 就業服務 | O5: 就學或轉學 服務 | P5: 轉介/提供目睹暴力服務 | Q5: 子女問題 協助 | R5: 通譯服務 | S5: 其他扶助
E6: 被害人 | F6: 隨行子女
A7: 合計 | B7: 計 | C7: 1309184 | D7: 1076741 | E7: 15143 | F7: 839 | G7: 769 | H7: 7875 | I7: 4185 | J7: 6198 | K7: 44170 | L7: 23149 | M7: 13736 | N7: 2938 | O7: 2621 | P7: 15513 | Q7: 14434 | R7: 92 | S7: 80781
B8: 男 | C8: 350764 | D8: 291994 | E8: 7142 | F8: 122 | G8: 158 | H8: 1629 | I8: 1601 | J8: 1147 | K8: 7102 | L8: 8301 | M8: 4127 | N8: 553 | O8: 1377 | P8: 2539 | Q8: 2242 | R8: 13 | S8: 20717
B9: 女 | C9: 958420 | D9: 784747 | E9: 8001 | F9: 717 | G9: 611 | H9: 6246 | I9: 2584 | J9: 5051 | K9: 37068 | L9: 14848 | M9: 9609 | N9: 2385 | O9: 1244 | P9: 12974 | Q9: 12192 | R9: 79 | S9: 60064
A10: 本國籍 非原住民 | B10: 男 | C10: 315414 | D10: 263290 | E10: 6434 | F10: 110 | G10: 136 | H10: 1467 | I10: 1457 | J10: 1018 | K10: 6259 | L10: 7545 | M10: 3838 | N10: 510 | O10: 1295 | P10: 2247 | Q10: 2006 | R10: 11 | S10: 17791
B11: 女 | C11: 816943 | D11: 670411 | E11: 6972 | F11: 527 | G11: 481 | H11: 5235 | I11: 2210 | J11: 4013 | K11: 31093 | L11: 12727 | M11: 8291 | N11: 1881 | O11: 1083 | P11: 11514 | Q11: 10569 | R11: 20 | S11: 49916
A12: 本國籍 原住民 | B12: 男 | C12: 22172 | D12: 17165 | E12: 695 | F12: 8 | G12: 12 | H12: 97 | I12: 106 | J12: 104 | K12: 563 | L12: 666 | M12: 218 | N12: 20 | O12: 69 | P12: 117 | Q12: 65 | R12: 0 | S12: 2267
B13: 女 | C13: 64281 | D13: 48104 | E13: 744 | F13: 94 | G13: 46 | H13: 493 | I13: 225 | J13: 634 | K13: 3580 | L13: 1346 | M13: 808 | N13: 216 | O13: 131 | P13: 581 | Q13: 617 | R13: 0 | S13: 6662
A14: 大陸籍 （含港澳） | B14: 男 | C14: 401 | D14: 326 | E14: 3 | F14: 0 | G14: 1 | H14: 1 | I14: 0 | J14: 1 | K14: 20 | L14: 4 | M14: 0 | N14: 6 | O14: 0 | P14: 2 | Q14: 11 | R14: 0 | S14: 26
B15: 女 | C15: 18188 | D15: 15143 | E15: 108 | F15: 34 | G15: 45 | H15: 134 | I15: 56 | J15: 126 | K15: 725 | L15: 189 | M15: 165 | N15: 98 | O15: 2 | P15: 186 | Q15: 190 | R15: 0 | S15: 987
A16: 外國籍 | B16: 男 | C16: 1333 | D16: 1150 | E16: 3 | F16: 1 | G16: 1 | H16: 8 | I16: 12 | J16: 2 | K16: 23 | L16: 13 | M16: 14 | N16: 1 | O16: 0 | P16: 5 | Q16: 1 | R16: 2 | S16: 97
B17: 女 | C17: 27251 | D17: 22560 | E17: 105 | F17: 33 | G17: 25 | H17: 265 | I17: 55 | J17: 210 | K17: 1048 | L17: 406 | M17: 179 | N17: 127 | O17: 17 | P17: 300 | Q17: 496 | R17: 59 | S17: 1366
A18: 其他 | B18: 男 | C18: 11444 | D18: 10063 | E18: 7 | F18: 3 | G18: 8 | H18: 56 | I18: 26 | J18: 22 | K18: 237 | L18: 73 | M18: 57 | N18: 16 | O18: 13 | P18: 168 | Q18: 159 | R18: 0 | S18: 536
B19: 女 | C19: 31757 | D19: 28529 | E19: 72 | F19: 29 | G19: 14 | H19: 119 | I19: 38 | J19: 68 | K19: 622 | L19: 180 | M19: 166 | N19: 63 | O19: 11 | P19: 393 | Q19: 320 | R19: 0 | S19: 1133
A21: 被害人國籍身分 | C21: 2.家庭暴力被害人保護扶助金額 (元)
C22: 合計 | D22: 緊急 生活扶助 | E22: 生活扶助 | F22: 急難救助 | G22: 租金補助 | H22: 醫療補助 | I22: 庇護安置補助 | J22: 心理治療、諮商與輔導費用 | K22: 律師費用 補助 | L22: 訴訟費用 補助 | M22: 子女生活 津貼/補助 | N22: 子女 教育補助 | O22: 兒童托育 費用/津貼 | P22: 民間慈善團體資助 | Q22: 其他補助
A23: 合計 | C23: 961394330 | D23: 58916303 | E23: 186591160 | F23: 4895842 | G23: 20761594 | H23: 13388786 | I23: 512170801 | J23: 25089366 | K23: 6779332 | L23: 1068700 | M23: 94352837 | N23: 2319791 | O23: 5443453 | P23: 10204543 | Q23: 19411822
A24: 本國籍非原住民 | C24: 883542648 | D24: 51682738 | E24: 173058002 | F24: 4580610 | G24: 18416547 | H24: 12643872 | I24: 471371690 | J24: 22608786 | K24: 5882012 | L24: 978700 | M24: 89068229 | N24: 2251561 | O24: 4911059 | P24: 7943314 | Q24: 18145528
A25: 本國籍原住民 | C25: 56227401 | D25: 3596502 | E25: 8650016 | F25: 194132 | G25: 895828 | H25: 271685 | I25: 34238109 | J25: 1359406 | K25: 562500 | L25: 30000 | M25: 3327310 | N25: 68230 | O25: 202394 | P25: 1826170 | Q25: 1005119
