Workbook

Sheet 歷年
A1: 5.1-03 推展家庭暴力防治業務
A4: 年別 | C4: 1.家庭暴力被害人保護扶助人次（人次）
C5: 合計 | D5: 諮詢協談 | E5: 庇護安置 | G5: 陪同報案偵詢（訊） | H5: 陪同出庭 | I5: 驗傷診療 | J5: 聲請 保護令 | K5: 法律扶助 | L5: 經濟扶助 | M5: 心理諮商與輔導 | N5: 就業服務 | O5: 就學或轉學服務 | P5: 轉介/提供目睹暴力服務 | Q5: 子女問題 協助 | R5: 通譯服務 | S5: 轉介 戒毒中心 | T5: 其他扶助
E6: 被害人 | F6: 隨行子女
A7: 95年, 2006 | C7: ='95'!C6 -> 285171 | D7: ='95'!D6 -> 203710 | E7: ='95'!E6 -> 8542 | F7: … | G7: ='95'!F6 -> 800 | H7: ='95'!G6 -> 2454 | I7: ='95'!H6 -> 7300 | J7: … | K7: ='95'!I6 -> 19473 | L7: … | M7: ='95'!J6 -> 9047 | N7: ='95'!K6 -> 1671 | O7: … | P7: … | Q7: ='95'!L6 -> 6776 | R7: ='95'!M6 -> 99 | S7: … | T7: ='95'!N6 -> 25299
A8: 96年, 2007 | C8: ='96'!C6 -> 330606 | D8: ='96'!D6 -> 177305 | E8: ='96'!E6 -> 11636 | F8: … | G8: ='96'!F6 -> 881 | H8: ='96'!G6 -> 2811 | I8: ='96'!H6 -> 8037 | J8: … | K8: ='96'!I6 -> 26150 | L8: ='96'!J6 -> 8466 | M8: ='96'!K6 -> 32323 | N8: ='96'!L6 -> 1939 | O8: ='96'!M6 -> 1623 | P8: … | Q8: ='96'!N6 -> 7515 | R8: ='96'!O6 -> 72 | S8: ='96'!P6 -> 56 | T8: ='96'!Q6 -> 51792
A9: 97年, 2008 | C9: ='97'!C6 -> 416844 | D9: ='97'!D6 -> 249399 | E9: ='97'!E6 -> 12015 | F9: … | G9: ='97'!F6 -> 987 | H9: ='97'!G6 -> 5385 | I9: ='97'!H6 -> 5306 | J9: … | K9: ='97'!I6 -> 34058 | L9: ='97'!J6 -> 10090 | M9: ='97'!K6 -> 30280 | N9: ='97'!L6 -> 3578 | O9: ='97'!M6 -> 2917 | P9: … | Q9: ='97'!N6 -> 10449 | R9: ='97'!O6 -> 197 | S9: ='97'!P6 -> 132 | T9: ='97'!Q6 -> 52051
A10: 98年 , 2009 | C10: ='98'!C6 -> 478769 | D10: ='98'!D6 -> 283923 | E10: ='98'!E6 -> 14632 | F10: … | G10: ='98'!F6 -> 1047 | H10: ='98'!G6 -> 4710 | I10: ='98'!H6 -> 4180 | J10: … | K10: ='98'!I6 -> 36707 | L10: ='98'!J6 -> 13833 | M10: ='98'!K6 -> 38689 | N10: ='98'!L6 -> 4156 | O10: ='98'!M6 -> 2664 | P10: … | Q10: ='98'!N6 -> 12084 | R10: ='98'!O6 -> 188 | S10: ='98'!P6 -> 34 | T10: ='98'!Q6 -> 61922
A11: 99年 , 2010 | C11: ='99'!C6 -> 601567 | D11: ='99'!D6 -> 357361 | E11: ='99'!E6 -> 15093 | F11: … | G11: ='99'!F6 -> 1434 | H11: ='99'!G6 -> 5073 | I11: ='99'!H6 -> 5175 | J11: … | K11: ='99'!I6 -> 37876 | L11: ='99'!J6 -> 15211 | M11: ='99'!K6 -> 57560 | N11: ='99'!L6 -> 5480 | O11: ='99'!M6 -> 4392 | P11: … | Q11: ='99'!N6 -> 16886 | R11: ='99'!O6 -> 279 | S11: ='99'!P6 -> 36 | T11: ='99'!Q6 -> 79711
A12: 100年 , 2011 | C12: ='100'!C6 -> 871146 | D12: ='100'!D6 -> 555246 | E12: ='100'!E6 -> 35215 | F12: … | G12: ='100'!F6 -> 1957 | H12: ='100'!G6 -> 6961 | I12: ='100'!H6 -> 8132 | J12: … | K12: ='100'!I6 -> 55713 | L12: ='100'!J6 -> 24811 | M12: ='100'!K6 -> 64345 | N12: ='100'!L6 -> 5459 | O12: ='100'!M6 -> 7704 | P12: … | Q12: ='100'!N6 -> 13866 | R12: ='100'!O6 -> 253 | S12: ='100'!P6 -> 42 | T12: ='100'!Q6 -> 91442
A13: 101年 , 2012 | C13: ='101'!C6 -> 915859 | D13: ='101'!D6 -> 564800 | E13: ='101'!E6 -> 17565 | F13: … | G13: ='101'!F6 -> 1752 | H13: ='101'!G6 -> 7457 | I13: ='101'!H6 -> 10846 | J13: … | K13: ='101'!I6 -> 61087 | L13: ='101'!J6 -> 29063 | M13: ='101'!K6 -> 90496 | N13: ='101'!L6 -> 4472 | O13: ='101'!M6 -> 7309 | P13: … | Q13: ='101'!N6 -> 10885 | R13: ='101'!O6 -> 478 | S13: ='101'!P6 -> 69 | T13: ='101'!Q6 -> 109580
A14: 102年 , 2013 | C14: ='102'!C6 -> 988585 | D14: ='102'!D6 -> 634792 | E14: ='102'!E6 -> 20467 | F14: … | G14: ='102'!F6 -> 1559 | H14: ='102'!G6 -> 8698 | I14: ='102'!H6 -> 10624 | J14: … | K14: ='102'!I6 -> 65944 | L14: ='102'!J6 -> 28770 | M14: ='102'!K6 -> 83893 | N14: ='102'!L6 -> 4704 | O14: ='102'!M6 -> 7763 | P14: … | Q14: ='102'!N6 -> 14236 | R14: ='102'!O6 -> 386 | S14: ='102'!P6 -> 70 | T14: ='102'!Q6 -> 106679
A15: 103年 , 2014 | C15: ='103'!C6 -> 1127819 | D15: ='103'!D6 -> 725085 | E15: ='103'!E6 -> 18549 | F15: … | G15: ='103'!F6 -> 1256 | H15: ='103'!G6 -> 7854 | I15: ='103'!H6 -> 12970 | J15: … | K15: ='103'!I6 -> 59219 | L15: ='103'!J6 -> 35074 | M15: ='103'!K6 -> 94439 | N15: ='103'!L6 -> 3966 | O15: ='103'!M6 -> 8766 | P15: … | Q15: ='103'!N6 -> 16066 | R15: ='103'!O6 -> 288 | S15: ='103'!P6 -> 230 | T15: ='103'!Q6 -> 144057
A16: 104年 , 2015 | C16: ='104'!C7 -> 1191465 | D16: ='104'!D7 -> 889134 | E16: ='104'!E7 -> 19030 | F16: ='104'!F7 -> 1744 | G16: ='104'!G7 -> 1324 | H16: ='104'!H7 -> 8422 | I16: ='104'!I7 -> 10966 | J16: ='104'!J7 -> 5289 | ... R16: ='104'!R7 -> 128 | S16: … | T16: ='104'!S7 -> 101870
A17: 105年 , 2016 | C17: ='105'!C7 -> 1297726 | D17: ='105'!D7 -> 1040109 | E17: ='105'!E7 -> 21638 | F17: ='105'!F7 -> 1472 | G17: ='105'!G7 -> 1074 | H17: ='105'!H7 -> 8536 | I17: ='105'!I7 -> 8703 | J17: ='105'!J7 -> 6185 | ... R17: ='105'!R7 -> 154 | S17: … | T17: ='105'!S7 -> 78139
A18: 106年 , 2017 | C18: ='106'!C7 -> 1323396 | D18: ='106'!D7 -> 1080416 | E18: ='106'!E7 -> 20916 | F18: ='106'!F7 -> 1167 | G18: ='106'!G7 -> 1095 | H18: ='106'!H7 -> 8670 | I18: ='106'!I7 -> 7844 | J18: ='106'!J7 -> 5129 | ... R18: ='106'!R7 -> 200 | S18: … | T18: ='106'!S7 -> 81014
A19: 107年 , 2018 | C19: ='107'!C7 -> 1309184 | D19: ='107'!D7 -> 1076741 | E19: ='107'!E7 -> 15143 | F19: ='107'!F7 -> 839 | G19: ='107'!G7 -> 769 | H19: ='107'!H7 -> 7875 | I19: ='107'!I7 -> 4185 | J19: ='107'!J7 -> 6198 | ... R19: ='107'!R7 -> 92 | S19: … | T19: ='107'!S7 -> 80781
A20: 108年 , 2019 | C20: 1499713 | D20: 1280281 | E20: 14442 | F20: 767 | G20: 933 | H20: 7798 | I20: 4511 | J20: 3660 | K20: 39118 | L20: 19022 | M20: 12148 | N20: 1896 | O20: 3065 | P20: 17274 | Q20: 11191 | R20: 116 | S20: … | T20: 83491
A21: 109年 , 2020 | C21: 1631339 | D21: 1359690 | E21: 8590 | F21: 884 | G21: 859 | H21: 8965 | I21: 6367 | J21: 4563 | K21: 53426 | L21: 28001 | M21: 19107 | N21: 2725 | O21: 2683 | P21: 27169 | Q21: 9652 | R21: 180 | S21: … | T21: 98478
A22: 110年 , 2021 | C22: 1754639 | D22: 1473852 | E22: 5991 | F22: 630 | G22: 825 | H22: 8074 | I22: 4759 | J22: 4090 | K22: 62392 | L22: 28760 | M22: 18764 | N22: 2202 | O22: 2837 | P22: 23947 | Q22: 11012 | R22: 178 | S22: … | T22: 106326
A23: 111年 , 2022 | C23: 1817387 | D23: 1503987 | E23: 7410 | F23: 600 | G23: 878 | H23: 9044 | I23: 5103 | J23: 4689 | K23: 70282 | L23: 30493 | M23: 21274 | N23: 2274 | O23: 3209 | P23: 24942 | Q23: 11117 | R23: 131 | S23: … | T23: 121954
A24: 112年 , 2023 | C24: 1900479 | D24: 1590609 | E24: 11361 | F24: 716 | G24: 955 | H24: 9072 | I24: 5501 | J24: 4939 | K24: 57533 | L24: 29630 | M24: 25609 | N24: 2368 | O24: 3003 | P24: 23995 | Q24: 12241 | R24: 122 | S24: … | T24: 122825
A25: 113年 , 2024 | C25: 2003371 | D25: 1690463 | E25: 8055 | F25: 628 | G25: 904 | H25: 8873 | I25: 5449 | J25: 4245 | K25: 54918 | L25: 29071 | M25: 25933 | N25: 2889 | O25: 3771 | P25: 22983 | Q25: 14034 | R25: 160 | S25: … | T25: 130995
A26: 114年 , 2025 | C26: 2020147 | D26: 1709641 | E26: 10414 | F26: 636 | G26: 859 | H26: 9831 | I26: 5219 | J26: 4031 | K26: 47942 | L26: 29031 | M26: 24766 | N26: 2385 | O26: 3076 | P26: 26420 | Q26: 13916 | R26: 242 | S26: … | T26: 131738
A28: 年別 | C28: 2.家庭暴力被害人保護扶助金額 (元)
C29: 合計 | D29: 緊急 生活扶助 | E29: 生活扶助 | F29: 急難救助 | G29: 租金補助 | H29: 醫療補助 | I29: 庇護安置補助 | J29: 心理治療、諮商與輔導費用 | K29: 律師費用 補助 | L29: 訴訟費用 補助 | M29: 子女生活 津貼/補助 | N29: 子女 教育補助 | O29: 兒童托育 費用/津貼 | P29: 民間慈善團體資助 | Q29: 其他補助
A30: 95年, 2006 | C30: ='95'!C22 -> 138250005 | D30: ='95'!D22 -> 22164331 | E30: ='95'!E22 -> 3112036 | F30: ='95'!F22 -> 1633394 | G30: ='95'!G22 -> 3736600 | H30: ='95'!H22 -> 6701057 | I30: ='95'!I22 -> 63249098 | J30: ='95'!J22 -> 15275461 | ... Q30: ='95'!Q22 -> 2029515
A31: 96年, 2007 | C31: ='96'!C22 -> 198856229 | D31: ='96'!D22 -> 39850297 | E31: ='96'!E22 -> 1744867 | F31: ='96'!F22 -> 2142569 | G31: ='96'!G22 -> 4144600 | H31: ='96'!H22 -> 8153987 | I31: ='96'!I22 -> 106024556 | J31: ='96'!J22 -> 11511819 | ... Q31: ='96'!Q22 -> 4248280
A32: 97年, 2008 | C32: ='97'!C22 -> 254559293 | D32: ='97'!D22 -> 29433249 | E32: ='97'!E22 -> 2284498 | F32: ='97'!F22 -> 1814360 | G32: ='97'!G22 -> 5441809 | H32: ='97'!H22 -> 8244316 | I32: ='97'!I22 -> 173401839 | J32: ='97'!J22 -> 8989442 | ... Q32: ='97'!Q22 -> 3227275
A33: 98年 , 2009 | C33: ='98'!C22 -> 326837123 | D33: ='98'!D22 -> 38589739 | E33: ='98'!E22 -> 4282056 | F33: ='98'!F22 -> 2910465 | G33: ='98'!G22 -> 5207810 | H33: ='98'!H22 -> 10858663 | I33: ='98'!I22 -> 226989543 | J33: ='98'!J22 -> 12944326 | ... Q33: ='98'!Q22 -> 6032019
A34: 99年 , 2010 | C34: ='99'!C22 -> 344267533 | D34: ='99'!D22 -> 27140238 | E34: ='99'!E22 -> 5045776 | F34: ='99'!F22 -> 2028197 | G34: ='99'!G22 -> 7993268 | H34: ='99'!H22 -> 12872109 | I34: ='99'!I22 -> 246787895 | J34: ='99'!J22 -> 15435578 | ... Q34: ='99'!Q22 -> 2720963
A35: 100年 , 2011 | C35: ='100'!C22 -> 405611180 | D35: ='100'!D22 -> 32213881 | E35: ='100'!E22 -> 3128713 | F35: ='100'!F22 -> 1639317 | G35: ='100'!G22 -> 4737732 | H35: ='100'!H22 -> 20141250 | I35: ='100'!I22 -> 289884696 | J35: ='100'!J22 -> 19085986 | ... Q35: ='100'!Q22 -> 10690720
A36: 101年 , 2012 | C36: ='101'!C22 -> 391164159 | D36: ='101'!D22 -> 33900657 | E36: ='101'!E22 -> 19782418 | F36: ='101'!F22 -> 1484846 | G36: ='101'!G22 -> 5854630 | H36: ='101'!H22 -> 18162252 | I36: ='101'!I22 -> 247284751 | J36: ='101'!J22 -> 12471758 | ... Q36: ='101'!Q22 -> 19863206
A37: 102年 , 2013 | C37: ='102'!C22 -> 468542425 | D37: ='102'!D22 -> 29780043 | E37: ='102'!E22 -> 11986158 | F37: ='102'!F22 -> 2412041 | G37: ='102'!G22 -> 7115140 | H37: ='102'!H22 -> 18681939 | I37: ='102'!I22 -> 325871100 | J37: ='102'!J22 -> 9776310 | ... Q37: ='102'!Q22 -> 23344719
A38: 103年 , 2014 | C38: ='103'!C22 -> 533600044 | D38: ='103'!D22 -> 42814856 | E38: ='103'!E22 -> 16911445 | F38: ='103'!F22 -> 2327263 | G38: ='103'!G22 -> 9477601 | H38: ='103'!H22 -> 12079630 | I38: ='103'!I22 -> 354424120 | J38: ='103'!J22 -> 19653162 | ... Q38: ='103'!Q22 -> 30838057
A39: 104年 , 2015 | C39: ='104'!C23 -> 576500596 | D39: ='104'!D23 -> 45302242 | E39: ='104'!E23 -> 24395502 | F39: ='104'!F23 -> 2964932 | G39: ='104'!G23 -> 9139526 | H39: ='104'!H23 -> 13883753 | I39: ='104'!I23 -> 392439025 | J39: ='104'!J23 -> 17493570 | ... Q39: ='104'!Q23 -> 44202633
A40: 105年 , 2016 | C40: ='105'!C23 -> 612229528 | D40: ='105'!D23 -> 38664592 | E40: ='105'!E23 -> 20155709 | F40: ='105'!F23 -> 4190494 | G40: ='105'!G23 -> 7829427 | H40: ='105'!H23 -> 14870067 | I40: ='105'!I23 -> 459922876 | J40: ='105'!J23 -> 18007835 | ... Q40: ='105'!Q23 -> 20456755
A41: 106年 , 2017 | C41: ='106'!C23 -> 743362409 | D41: ='106'!D23 -> 43599698 | E41: ='106'!E23 -> 89604515 | F41: ='106'!F23 -> 3823222 | G41: ='106'!G23 -> 16300227 | H41: ='106'!H23 -> 16230737 | I41: ='106'!I23 -> 480791748 | J41: ='106'!J23 -> 17743873 | ... Q41: ='106'!Q23 -> 12410103
A42: 107年 , 2018 | C42: ='107'!C23 -> 961394330 | D42: ='107'!D23 -> 58916303 | E42: ='107'!E23 -> 186591160 | F42: ='107'!F23 -> 4895842 | G42: ='107'!G23 -> 20761594 | H42: ='107'!H23 -> 13388786 | I42: ='107'!I23 -> 512170801 | J42: ='107'!J23 -> 25089366 | ... Q42: ='107'!Q23 -> 19411822
A43: 108年 , 2019 | C43: 869224868 | D43: 56035446 | E43: 153500212 | F43: 8405305 | G43: 18112618 | H43: 15232852 | I43: 483550256 | J43: 22951589 | K43: 5019950 | L43: 1271180 | M43: 77063963 | N43: 2284004 | O43: 4621830 | P43: 6680042 | Q43: 14495621
A44: 109年 , 2020 | C44: 1118792139 | D44: 70510247 | E44: 258044703 | F44: 10025582 | G44: 26799848 | H44: 27493462 | I44: 508549898 | J44: 34409504 | K44: 10323853 | L44: 2999999 | M44: 111182803 | N44: 3341536 | O44: 11456823 | P44: 11366932 | Q44: 32286949
A45: 110年 , 2021 | C45: 1069298467 | D45: 61823666 | E45: 237399171 | F45: 11340727 | G45: 26747173 | H45: 26906893 | I45: 484613634 | J45: 26171148 | K45: 8605795 | L45: 4541255 | M45: 120250765 | N45: 4027449 | O45: 12395360 | P45: 14330340 | Q45: 30145091
A46: 111年 , 2022 | C46: 990067155 | D46: 60635814 | E46: 223952090 | F46: 8176287 | G46: 23445573 | H46: 22837691 | I46: 423782850 | J46: 41591936 | K46: 8568567 | L46: 3683781 | M46: 118129768 | N46: 3175720 | O46: 13421820 | P46: 12837595 | Q46: 25827663
A47: 112年 , 2023 | C47: 1216978847 | D47: 68920074 | E47: 304667909 | F47: 9527134 | G47: 21904824 | H47: 27061425 | I47: 558771701 | J47: 37438884 | K47: 9109338 | L47: 3344653 | M47: 116901688 | N47: 3271880 | O47: 13658683 | P47: 11576488 | Q47: 30824166
A48: 113年 , 2024 | C48: 1315854784 | D48: 42552778 | E48: 456732650 | F48: 20874658 | G48: 21021375 | H48: 31982537 | I48: 571584812 | J48: 50322337 | K48: 10560461 | L48: 4430485 | M48: 28274337 | N48: 1360420 | O48: 13544771 | P48: 11386894 | Q48: 51226269
A49: 114年 , 2025 | C49: 1101382255 | D49: 43065528 | E49: 243460619 | F49: 9406271 | G49: 20383773 | H49: 30470140 | I49: 619229628 | J49: 55823079 | K49: 11828124 | L49: 5500887 | M49: 19357829 | N49: 770209 | O49: 10747181 | P49: 9199813 | Q49: 22139174
A51: 年別 | C51: 3.家庭暴力加害人處遇
C52: 本期囑託鑑定、評估人數 (人) | D52: 本期完成囑託鑑定、評估人數 (人) | E52: 本期完成 主動評估人數（人） | F52: 本期法院裁定加害人處遇人數 (人) | G52: 本期法院逕裁加害人處遇人數 (人) | H52: 本期法院裁定加害人處遇計畫項目人次(複選)
H53: 合計 | I53: 精神治療 | J53: 戒癮治療 | L53: 心理輔導 | M53: 認知教育輔導 | O53: 其他輔導、治療
J54: 戒酒癮 | K54: 戒藥毒癮 | M54: 認知教育 | N54: 戒酒教育 | O54: 親職教育 | P54: 其他
A55: 100年 , 2011 | C55: ='100'!C33+'100'!C36+'100'!C39+'100'!C42 -> 2607 | D55: ='100'!D33+'100'!D36+'100'!D39+'100'!D42 -> 1852 | E55: ='100'!E33+'100'!E36+'100'!E39+'100'!E42 -> 934 | F55: ='100'!F33+'100'!F36+'100'!F39+'100'!F42 -> 2001 | G55: ='100'!G33+'100'!G36+'100'!G39+'100'!G42 -> 686 | H55: ='100'!H33+'100'!H36+'100'!H39+'100'!H42 -> 3122 | I55: ='100'!I33+'100'!I36+'100'!I39+'100'!I42 -> 216 | J55: ='100'!J33+'100'!J36+'100'!J39+'100'!J42 -> 286 | ... P55: ='100'!P33+'100'!P36+'100'!P39+'100'!P42 -> 35
A56: 101年 , 2012 | C56: ='101'!C33+'101'!C36+'101'!C39+'101'!C42 -> 2518 | D56: ='101'!D33+'101'!D36+'101'!D39+'101'!D42 -> 2148 | E56: ='101'!E33+'101'!E36+'101'!E39+'101'!E42 -> 1308 | F56: ='101'!F33+'101'!F36+'101'!F39+'101'!F42 -> 2321 | G56: ='101'!G33+'101'!G36+'101'!G39+'101'!G42 -> 644 | H56: ='101'!H33+'101'!H36+'101'!H39+'101'!H42 -> 4179 | I56: ='101'!I33+'101'!I36+'101'!I39+'101'!I42 -> 228 | J56: ='101'!J33+'101'!J36+'101'!J39+'101'!J42 -> 529 | ... P56: ='101'!P33+'101'!P36+'101'!P39+'101'!P42 -> 76
A57: 102年 , 2013 | C57: ='102'!C33+'102'!C36+'102'!C39+'102'!C42 -> 2798 | D57: ='102'!D33+'102'!D36+'102'!D39+'102'!D42 -> 2229 | E57: ='102'!E33+'102'!E36+'102'!E39+'102'!E42 -> 1125 | F57: ='102'!F33+'102'!F36+'102'!F39+'102'!F42 -> 2932 | G57: ='102'!G33+'102'!G36+'102'!G39+'102'!G42 -> 1406 | H57: ='102'!H33+'102'!H36+'102'!H39+'102'!H42 -> 4216 | I57: ='102'!I33+'102'!I36+'102'!I39+'102'!I42 -> 401 | J57: ='102'!J33+'102'!J36+'102'!J39+'102'!J42 -> 284 | ... P57: ='102'!P33+'102'!P36+'102'!P39+'102'!P42 -> 15
A58: 103年 , 2014 | C58: ='103'!C33+'103'!C36+'103'!C39+'103'!C42 -> 2964 | D58: ='103'!D33+'103'!D36+'103'!D39+'103'!D42 -> 2518 | E58: ='103'!E33+'103'!E36+'103'!E39+'103'!E42 -> 1157 | F58: ='103'!F33+'103'!F36+'103'!F39+'103'!F42 -> 2815 | G58: ='103'!G33+'103'!G36+'103'!G39+'103'!G42 -> 1120 | H58: ='103'!H33+'103'!H36+'103'!H39+'103'!H42 -> 3981 | I58: ='103'!I33+'103'!I36+'103'!I39+'103'!I42 -> 243 | J58: ='103'!J33+'103'!J36+'103'!J39+'103'!J42 -> 258 | ... P58: ='103'!P33+'103'!P36+'103'!P39+'103'!P42 -> 22
A59: 104年 , 2015 | C59: ='104'!C34+'104'!C37+'104'!C40+'104'!C43 -> 3505 | D59: ='104'!D34+'104'!D37+'104'!D40+'104'!D43 -> 2864 | E59: ='104'!E34+'104'!E37+'104'!E40+'104'!E43 -> 1327 | F59: ='104'!F34+'104'!F37+'104'!F40+'104'!F43 -> 3281 | G59: ='104'!G34+'104'!G37+'104'!G40+'104'!G43 -> 1601 | H59: ='104'!H34+'104'!H37+'104'!H40+'104'!H43 -> 4580 | I59: ='104'!I34+'104'!I37+'104'!I40+'104'!I43 -> 455 | J59: ='104'!J34+'104'!J37+'104'!J40+'104'!J43 -> 253 | ... P59: ='104'!P34+'104'!P37+'104'!P40+'104'!P43 -> 26
A60: 105年 , 2016 | C60: ='105'!C34+'105'!C37+'105'!C40+'105'!C43 -> 3668 | D60: ='105'!D34+'105'!D37+'105'!D40+'105'!D43 -> 2951 | E60: ='105'!E34+'105'!E37+'105'!E40+'105'!E43 -> 1154 | F60: ='105'!F34+'105'!F37+'105'!F40+'105'!F43 -> 3564 | G60: ='105'!G34+'105'!G37+'105'!G40+'105'!G43 -> 1580 | H60: ='105'!H34+'105'!H37+'105'!H40+'105'!H43 -> 4481 | I60: ='105'!I34+'105'!I37+'105'!I40+'105'!I43 -> 318 | J60: ='105'!J34+'105'!J37+'105'!J40+'105'!J43 -> 209 | ... P60: ='105'!P34+'105'!P37+'105'!P40+'105'!P43 -> 23
A61: 106年 , 2017 | C61: ='106'!C34+'106'!C37+'106'!C40+'106'!C43 -> 3864 | D61: ='106'!D34+'106'!D37+'106'!D40+'106'!D43 -> 3105 | E61: ='106'!E34+'106'!E37+'106'!E40+'106'!E43 -> 1164 | F61: ='106'!F34+'106'!F37+'106'!F40+'106'!F43 -> 3793 | G61: ='106'!G34+'106'!G37+'106'!G40+'106'!G43 -> 1710 | H61: ='106'!H34+'106'!H37+'106'!H40+'106'!H43 -> 5155 | I61: ='106'!I34+'106'!I37+'106'!I40+'106'!I43 -> 714 | J61: ='106'!J34+'106'!J37+'106'!J40+'106'!J43 -> 209 | ... P61: ='106'!P34+'106'!P37+'106'!P40+'106'!P43 -> 18
A62: 107年 , 2018 | C62: ='107'!C34+'107'!C37+'107'!C40+'107'!C43 -> 3864 | D62: ='107'!D34+'107'!D37+'107'!D40+'107'!D43 -> 3118 | E62: ='107'!E34+'107'!E37+'107'!E40+'107'!E43 -> 1278 | F62: ='107'!F34+'107'!F37+'107'!F40+'107'!F43 -> 4075 | G62: ='107'!G34+'107'!G37+'107'!G40+'107'!G43 -> 1677 | H62: ='107'!H34+'107'!H37+'107'!H40+'107'!H43 -> 4963 | I62: ='107'!I34+'107'!I37+'107'!I40+'107'!I43 -> 385 | J62: ='107'!J34+'107'!J37+'107'!J40+'107'!J43 -> 203 | ... P62: ='107'!P34+'107'!P37+'107'!P40+'107'!P43 -> 31
A63: 108年 , 2019 | C63: ='108'!C34+'108'!C37+'108'!C40+'108'!C43 -> 3771 | D63: ='108'!D34+'108'!D37+'108'!D40+'108'!D43 -> 3085 | E63: ='108'!E34+'108'!E37+'108'!E40+'108'!E43 -> 997 | F63: ='108'!F34+'108'!F37+'108'!F40+'108'!F43 -> 3728 | G63: ='108'!G34+'108'!G37+'108'!G40+'108'!G43 -> 1362 | H63: ='108'!H34+'108'!H37+'108'!H40+'108'!H43 -> 4995 | I63: ='108'!I34+'108'!I37+'108'!I40+'108'!I43 -> 348 | J63: ='108'!J34+'108'!J37+'108'!J40+'108'!J43 -> 229 | ... P63: ='108'!P34+'108'!P37+'108'!P40+'108'!P43 -> 26
A64: 109年 , 2020 | C64: ='109'!C34+'109'!C37+'109'!C40+'109'!C43+'109'!C46 -> 3752 | D64: ='109'!D34+'109'!D37+'109'!D40+'109'!D43+'109'!D46 -> 3435 | E64: ='109'!E34+'109'!E37+'109'!E40+'109'!E43+'109'!E46 -> 833 | F64: ='109'!F34+'109'!F37+'109'!F40+'109'!F43+'109'!F46 -> 3712 | G64: ='109'!G34+'109'!G37+'109'!G40+'109'!G43+'109'!G46 -> 2071 | H64: ='109'!H34+'109'!H37+'109'!H40+'109'!H43+'109'!H46 -> 5542 | I64: ='109'!I34+'109'!I37+'109'!I40+'109'!I43+'109'!I46 -> 818 | J64: ='109'!J34+'109'!J37+'109'!J40+'109'!J43+'109'!J46 -> 245 | ... P64: ='109'!P34+'109'!P37+'109'!P40+'109'!P43+'109'!P46 -> 367
A65: 110年 , 2021 | C65: ='110'!C34+'110'!C37+'110'!C40+'110'!C43+'110'!C46 -> 3666 | D65: ='110'!D34+'110'!D37+'110'!D40+'110'!D43+'110'!D46 -> 3375 | E65: ='110'!E34+'110'!E37+'110'!E40+'110'!E43+'110'!E46 -> 688 | F65: ='110'!F34+'110'!F37+'110'!F40+'110'!F43+'110'!F46 -> 2956 | G65: ='110'!G34+'110'!G37+'110'!G40+'110'!G43+'110'!G46 -> 1123 | H65: ='110'!H34+'110'!H37+'110'!H40+'110'!H43+'110'!H46 -> 4513 | I65: ='110'!I34+'110'!I37+'110'!I40+'110'!I43+'110'!I46 -> 503 | J65: ='110'!J34+'110'!J37+'110'!J40+'110'!J43+'110'!J46 -> 171 | ... P65: ='110'!P34+'110'!P37+'110'!P40+'110'!P43+'110'!P46 -> 174
A66: 111年 , 2022 | C66: ='111'!C$34+'111'!C$37+'111'!C$40+'111'!C$43+'111'!C$46 -> 3358 | D66: ='111'!D$34+'111'!D$37+'111'!D$40+'111'!D$43+'111'!D$46 -> 2957 | E66: ='111'!E$34+'111'!E$37+'111'!E$40+'111'!E$43+'111'!E$46 -> 880 | F66: ='111'!F$34+'111'!F$37+'111'!F$40+'111'!F$43+'111'!F$46 -> 3383 | G66: ='111'!G$34+'111'!G$37+'111'!G$40+'111'!G$43+'111'!G$46 -> 1431 | H66: ='111'!H$34+'111'!H$37+'111'!H$40+'111'!H$43+'111'!H$46 -> 4639 | I66: ='111'!I$34+'111'!I$37+'111'!I$40+'111'!I$43+'111'!I$46 -> 463 | J66: ='111'!J$34+'111'!J$37+'111'!J$40+'111'!J$43+'111'!J$46 -> 196 | ... P66: ='111'!P$34+'111'!P$37+'111'!P$40+'111'!P$43+'111'!P$46 -> 229
A67: 112年 , 2023 | C67: ='112'!C$34+'112'!C$37+'112'!C$40+'112'!C$43+'112'!C$46 -> 3363 | D67: ='112'!D$34+'112'!D$37+'112'!D$40+'112'!D$43+'112'!D$46 -> 2694 | E67: ='112'!E$34+'112'!E$37+'112'!E$40+'112'!E$43+'112'!E$46 -> 740 | F67: ='112'!F$34+'112'!F$37+'112'!F$40+'112'!F$43+'112'!F$46 -> 3116 | G67: ='112'!G$34+'112'!G$37+'112'!G$40+'112'!G$43+'112'!G$46 -> 1252 | H67: ='112'!H$34+'112'!H$37+'112'!H$40+'112'!H$43+'112'!H$46 -> 4594 | I67: ='112'!I$34+'112'!I$37+'112'!I$40+'112'!I$43+'112'!I$46 -> 421 | J67: ='112'!J$34+'112'!J$37+'112'!J$40+'112'!J$43+'112'!J$46 -> 267 | ... P67: ='112'!P$34+'112'!P$37+'112'!P$40+'112'!P$43+'112'!P$46 -> 39
A68: 113年 , 2024 | C68: ='113'!C$34+'113'!C$37+'113'!C$40+'113'!C$43+'113'!C$46 -> 4035 | D68: ='113'!D$34+'113'!D$37+'113'!D$40+'113'!D$43+'113'!D$46 -> 3514 | E68: ='113'!E$34+'113'!E$37+'113'!E$40+'113'!E$43+'113'!E$46 -> 725 | F68: ='113'!F$34+'113'!F$37+'113'!F$40+'113'!F$43+'113'!F$46 -> 3462 | G68: ='113'!G$34+'113'!G$37+'113'!G$40+'113'!G$43+'113'!G$46 -> 1414 | H68: ='113'!H$34+'113'!H$37+'113'!H$40+'113'!H$43+'113'!H$46 -> 4901 | I68: ='113'!I$34+'113'!I$37+'113'!I$40+'113'!I$43+'113'!I$46 -> 528 | J68: ='113'!J$34+'113'!J$37+'113'!J$40+'113'!J$43+'113'!J$46 -> 261 | ... P68: ='113'!P$34+'113'!P$37+'113'!P$40+'113'!P$43+'113'!P$46 -> 24
A69: 114年 , 2025 | C69: ='114'!C$34+'114'!C$37+'114'!C$40+'114'!C$43+'114'!C$46 -> 3970 | D69: ='114'!D$34+'114'!D$37+'114'!D$40+'114'!D$43+'114'!D$46 -> 3350 | E69: ='114'!E$34+'114'!E$37+'114'!E$40+'114'!E$43+'114'!E$46 -> 677 | F69: ='114'!F$34+'114'!F$37+'114'!F$40+'114'!F$43+'114'!F$46 -> 3706 | G69: ='114'!G$34+'114'!G$37+'114'!G$40+'114'!G$43+'114'!G$46 -> 1468 | H69: ='114'!H$34+'114'!H$37+'114'!H$40+'114'!H$43+'114'!H$46 -> 5503 | I69: ='114'!I$34+'114'!I$37+'114'!I$40+'114'!I$43+'114'!I$46 -> 549 | J69: ='114'!J$34+'114'!J$37+'114'!J$40+'114'!J$43+'114'!J$46 -> 234 | ... P69: ='114'!P$34+'114'!P$37+'114'!P$40+'114'!P$43+'114'!P$46 -> 23
A71: 年別 | C71: 3.家庭暴力加害人處遇 | U71: 3.家庭暴力加害人處遇
C72: 本年截至本期累計應執行處遇人數（A） | D72: 本年截至本期累計應執行處遇者各處遇項目執行人次 | L72: 本年截至本期累計完成處遇人數 （B） | M72: 本年截至本期累計各處遇項目完成人次 | U72: 本年截至本期累計尚在執行處遇人數 （C） | V72: 本年截至本期累計尚在執行處遇者各處遇項目人次 | AD72: 本年截至本期累計顯已無法完成處遇者按原因別分(人數) | AM72: 本期顯已無法完成處遇者，已移送家防中心/警察局，尚未移送至地檢署人數 | AN72: 本年截至本期累計顯已無法完成處遇者，已移送地檢署人數
D73: 精神治療 | E73: 戒癮治療 | G73: 心理輔導 | H73: 認知教育輔導 | J73: 其他輔導、治療 | M73: 精神治療 | N73: 戒癮治療 | P73: 心理輔導 | Q73: 認知教育輔導 | S73: 其他輔導、治療 | V73: 精神治療 | W73: 戒癮治療 | Y73: 心理輔導 | Z73: 認知教育輔導 | AB73: 其他輔導、治療 | AD73: 合計 （D） | AE73: 個案拒報到 | AF73: 個案死亡 | AG73: 個案傷殘或住院 | AH73: 個案因案入監無法執行 | AI73: 送達證書個案拒領或無法送達 | AJ73: 戶籍移轉外縣市 | AK73: 被害人 撤銷或變更保護令 | AL73: 其他
E74: 戒酒癮 | F74: 戒藥毒癮 | H74: 認知教育 | I74: 戒酒教育 | J74: 親職教育 | K74: 其他 | N74: 戒酒癮 | O74: 戒藥毒癮 | Q74: 認知教育 | R74: 戒酒教育 | S74: 親職教育 | T74: 其他 | W74: 戒酒癮 | X74: 戒藥毒癮 | Z74: 認知教育 | AA74: 戒酒教育 | AB74: 親職教育 | AC74: 其他
A75: 100年 , 2011 | C75: ='100'!C50+'100'!C53+'100'!C56+'100'!C59 -> 3739 | D75: ='100'!D50+'100'!D53+'100'!D56+'100'!D59 -> 311 | E75: ='100'!E50+'100'!E53+'100'!E56+'100'!E59 -> 508 | F75: ='100'!F50+'100'!F53+'100'!F56+'100'!F59 -> 45 | G75: ='100'!G50+'100'!G53+'100'!G56+'100'!G59 -> 401 | H75: ='100'!H50+'100'!H53+'100'!H56+'100'!H59 -> 2629 | I75: ='100'!I50+'100'!I53+'100'!I56+'100'!I59 -> 1595 | J75: ='100'!J50+'100'!J53+'100'!J56+'100'!J59 -> 132 | ... AL75: ='100'!AL50+'100'!AL53+'100'!AL56+'100'!AL59 -> 15 | AM75: … | AN75: ='100'!AM50+'100'!AM53+'100'!AM56+'100'!AM59 -> 214
A76: 101年 , 2012 | C76: ='101'!C50+'101'!C53+'101'!C56+'101'!C59 -> 4033 | D76: ='101'!D50+'101'!D53+'101'!D56+'101'!D59 -> 420 | E76: ='101'!E50+'101'!E53+'101'!E56+'101'!E59 -> 742 | F76: ='101'!F50+'101'!F53+'101'!F56+'101'!F59 -> 38 | G76: ='101'!G50+'101'!G53+'101'!G56+'101'!G59 -> 484 | H76: ='101'!H50+'101'!H53+'101'!H56+'101'!H59 -> 4046 | I76: ='101'!I50+'101'!I53+'101'!I56+'101'!I59 -> 1558 | J76: ='101'!J50+'101'!J53+'101'!J56+'101'!J59 -> 65 | ... AL76: ='101'!AL50+'101'!AL53+'101'!AL56+'101'!AL59 -> 19 | AM76: … | AN76: ='101'!AM50+'101'!AM53+'101'!AM56+'101'!AM59 -> 269
A77: 102年 , 2013 | C77: ='102'!C50+'102'!C53+'102'!C56+'102'!C59 -> 4727 | D77: ='102'!D50+'102'!D53+'102'!D56+'102'!D59 -> 577 | E77: ='102'!E50+'102'!E53+'102'!E56+'102'!E59 -> 766 | F77: ='102'!F50+'102'!F53+'102'!F56+'102'!F59 -> 62 | G77: ='102'!G50+'102'!G53+'102'!G56+'102'!G59 -> 382 | H77: ='102'!H50+'102'!H53+'102'!H56+'102'!H59 -> 4704 | I77: ='102'!I50+'102'!I53+'102'!I56+'102'!I59 -> 1757 | J77: ='102'!J50+'102'!J53+'102'!J56+'102'!J59 -> 72 | ... AL77: ='102'!AL50+'102'!AL53+'102'!AL56+'102'!AL59 -> 32 | AM77: … | AN77: ='102'!AM50+'102'!AM53+'102'!AM56+'102'!AM59 -> 295
A78: 103年 , 2014 | C78: ='103'!C50+'103'!C53+'103'!C56+'103'!C59 -> 5068 | D78: ='103'!D50+'103'!D53+'103'!D56+'103'!D59 -> 616 | E78: ='103'!E50+'103'!E53+'103'!E56+'103'!E59 -> 578 | F78: ='103'!F50+'103'!F53+'103'!F56+'103'!F59 -> 79 | G78: ='103'!G50+'103'!G53+'103'!G56+'103'!G59 -> 605 | H78: ='103'!H50+'103'!H53+'103'!H56+'103'!H59 -> 3946 | I78: ='103'!I50+'103'!I53+'103'!I56+'103'!I59 -> 1533 | J78: ='103'!J50+'103'!J53+'103'!J56+'103'!J59 -> 88 | ... AL78: ='103'!AL50+'103'!AL53+'103'!AL56+'103'!AL59 -> 49 | AM78: … | AN78: ='103'!AM50+'103'!AM53+'103'!AM56+'103'!AM59 -> 372
A79: 104年 , 2015 | C79: ='104'!C51+'104'!C54+'104'!C57+'104'!C60 -> 5084 | D79: ='104'!D51+'104'!D54+'104'!D57+'104'!D60 -> 654 | E79: ='104'!E51+'104'!E54+'104'!E57+'104'!E60 -> 605 | F79: ='104'!F51+'104'!F54+'104'!F57+'104'!F60 -> 52 | G79: ='104'!G51+'104'!G54+'104'!G57+'104'!G60 -> 567 | H79: ='104'!H51+'104'!H54+'104'!H57+'104'!H60 -> 3784 | I79: ='104'!I51+'104'!I54+'104'!I57+'104'!I60 -> 1245 | J79: ='104'!J51+'104'!J54+'104'!J57+'104'!J60 -> 95 | ... AL79: ='104'!AL51+'104'!AL54+'104'!AL57+'104'!AL60 -> 4 | AM79: … | AN79: ='104'!AM51+'104'!AM54+'104'!AM57+'104'!AM60 -> 383
A80: 105年 , 2016 | C80: ='105'!C51+'105'!C54+'105'!C57+'105'!C60 -> 4118 | D80: ='105'!D51+'105'!D54+'105'!D57+'105'!D60 -> 555 | E80: ='105'!E51+'105'!E54+'105'!E57+'105'!E60 -> 360 | F80: ='105'!F51+'105'!F54+'105'!F57+'105'!F60 -> 60 | G80: ='105'!G51+'105'!G54+'105'!G57+'105'!G60 -> 261 | H80: ='105'!H51+'105'!H54+'105'!H57+'105'!H60 -> 2994 | I80: ='105'!I51+'105'!I54+'105'!I57+'105'!I60 -> 987 | J80: ='105'!J51+'105'!J54+'105'!J57+'105'!J60 -> 142 | ... AL80: ='105'!AL51+'105'!AL54+'105'!AL57+'105'!AL60 -> 59 | AM80: … | AN80: ='105'!AM51+'105'!AM54+'105'!AM57+'105'!AM60 -> 302
A81: 106年 , 2017 | C81: ='106'!C51+'106'!C54+'106'!C57+'106'!C60 -> 4544 | D81: ='106'!D51+'106'!D54+'106'!D57+'106'!D60 -> 625 | E81: ='106'!E51+'106'!E54+'106'!E57+'106'!E60 -> 343 | F81: ='106'!F51+'106'!F54+'106'!F57+'106'!F60 -> 111 | G81: ='106'!G51+'106'!G54+'106'!G57+'106'!G60 -> 311 | H81: ='106'!H51+'106'!H54+'106'!H57+'106'!H60 -> 3328 | I81: ='106'!I51+'106'!I54+'106'!I57+'106'!I60 -> 1146 | J81: ='106'!J51+'106'!J54+'106'!J57+'106'!J60 -> 227 | ... AL81: ='106'!AL51+'106'!AL54+'106'!AL57+'106'!AL60 -> 67 | AM81: … | AN81: ='106'!AM51+'106'!AM54+'106'!AM57+'106'!AM60 -> 268
A82: 107年 , 2018 | C82: ='107'!C51+'107'!C54+'107'!C57+'107'!C60 -> 5130 | D82: ='107'!D51+'107'!D54+'107'!D57+'107'!D60 -> 723 | E82: ='107'!E51+'107'!E54+'107'!E57+'107'!E60 -> 403 | F82: ='107'!F51+'107'!F54+'107'!F57+'107'!F60 -> 115 | G82: ='107'!G51+'107'!G54+'107'!G57+'107'!G60 -> 395 | H82: ='107'!H51+'107'!H54+'107'!H57+'107'!H60 -> 3788 | I82: ='107'!I51+'107'!I54+'107'!I57+'107'!I60 -> 1022 | J82: ='107'!J51+'107'!J54+'107'!J57+'107'!J60 -> 301 | ... AL82: ='107'!AL51+'107'!AL54+'107'!AL57+'107'!AL60 -> 88 | AM82: … | AN82: ='107'!AM51+'107'!AM54+'107'!AM57+'107'!AM60 -> 338
A83: 108年 , 2019 | C83: ='108'!C51+'108'!C54+'108'!C57+'108'!C60 -> 5670 | D83: ='108'!D51+'108'!D54+'108'!D57+'108'!D60 -> 737 | E83: ='108'!E51+'108'!E54+'108'!E57+'108'!E60 -> 416 | F83: ='108'!F51+'108'!F54+'108'!F57+'108'!F60 -> 96 | G83: ='108'!G51+'108'!G54+'108'!G57+'108'!G60 -> 447 | H83: ='108'!H51+'108'!H54+'108'!H57+'108'!H60 -> 4202 | I83: ='108'!I51+'108'!I54+'108'!I57+'108'!I60 -> 952 | J83: ='108'!J51+'108'!J54+'108'!J57+'108'!J60 -> 355 | ... AL83: ='108'!AL51+'108'!AL54+'108'!AL57+'108'!AL60 -> 67 | AM83: … | AN83: ='108'!AM51+'108'!AM54+'108'!AM57+'108'!AM60 -> 490
A84: 109年 , 2020 | C84: ='109'!C54+'109'!C57+'109'!C60+'109'!C63+'109'!C66 -> 5833 | D84: ='109'!D54+'109'!D57+'109'!D60+'109'!D63+'109'!D66 -> 888 | E84: ='109'!E54+'109'!E57+'109'!E60+'109'!E63+'109'!E66 -> 423 | F84: ='109'!F54+'109'!F57+'109'!F60+'109'!F63+'109'!F66 -> 116 | G84: ='109'!G54+'109'!G57+'109'!G60+'109'!G63+'109'!G66 -> 503 | H84: ='109'!H54+'109'!H57+'109'!H60+'109'!H63+'109'!H66 -> 3919 | I84: ='109'!I54+'109'!I57+'109'!I60+'109'!I63+'109'!I66 -> 939 | J84: ='109'!J54+'109'!J57+'109'!J60+'109'!J63+'109'!J66 -> 406 | ... AN84: ='109'!AN54+'109'!AN57+'109'!AN60+'109'!AN63+'109'!AN66 -> 277
A85: 110年 , 2021 | C85: ='110'!C54+'110'!C57+'110'!C60+'110'!C63+'110'!C66 -> 5020 | D85: ='110'!D54+'110'!D57+'110'!D60+'110'!D63+'110'!D66 -> 791 | E85: ='110'!E54+'110'!E57+'110'!E60+'110'!E63+'110'!E66 -> 371 | F85: ='110'!F54+'110'!F57+'110'!F60+'110'!F63+'110'!F66 -> 118 | G85: ='110'!G54+'110'!G57+'110'!G60+'110'!G63+'110'!G66 -> 461 | H85: ='110'!H54+'110'!H57+'110'!H60+'110'!H63+'110'!H66 -> 3451 | I85: ='110'!I54+'110'!I57+'110'!I60+'110'!I63+'110'!I66 -> 845 | J85: ='110'!J54+'110'!J57+'110'!J60+'110'!J63+'110'!J66 -> 410 | ... AN85: ='110'!AN54+'110'!AN57+'110'!AN60+'110'!AN63+'110'!AN66 -> 337
A86: 111年 , 2022 | C86: ='111'!C$54+'111'!C$57+'111'!C$60+'111'!C$63+'111'!C$66 -> 5770 | D86: ='111'!D$54+'111'!D$57+'111'!D$60+'111'!D$63+'111'!D$66 -> 921 | E86: ='111'!E$54+'111'!E$57+'111'!E$60+'111'!E$63+'111'!E$66 -> 355 | F86: ='111'!F$54+'111'!F$57+'111'!F$60+'111'!F$63+'111'!F$66 -> 122 | G86: ='111'!G$54+'111'!G$57+'111'!G$60+'111'!G$63+'111'!G$66 -> 576 | H86: ='111'!H$54+'111'!H$57+'111'!H$60+'111'!H$63+'111'!H$66 -> 4053 | I86: ='111'!I$54+'111'!I$57+'111'!I$60+'111'!I$63+'111'!I$66 -> 923 | J86: ='111'!J$54+'111'!J$57+'111'!J$60+'111'!J$63+'111'!J$66 -> 516 | ... AN86: ='111'!AN$54+'111'!AN$57+'111'!AN$60+'111'!AN$63+'111'!AN$66 -> 413
A87: 112年 , 2023 | C87: ='112'!C$54+'112'!C$57+'112'!C$60+'112'!C$63+'112'!C$66 -> 5322 | D87: ='112'!D$54+'112'!D$57+'112'!D$60+'112'!D$63+'112'!D$66 -> 831 | E87: ='112'!E$54+'112'!E$57+'112'!E$60+'112'!E$63+'112'!E$66 -> 366 | F87: ='112'!F$54+'112'!F$57+'112'!F$60+'112'!F$63+'112'!F$66 -> 105 | G87: ='112'!G$54+'112'!G$57+'112'!G$60+'112'!G$63+'112'!G$66 -> 629 | H87: ='112'!H$54+'112'!H$57+'112'!H$60+'112'!H$63+'112'!H$66 -> 3752 | I87: ='112'!I$54+'112'!I$57+'112'!I$60+'112'!I$63+'112'!I$66 -> 773 | J87: ='112'!J$54+'112'!J$57+'112'!J$60+'112'!J$63+'112'!J$66 -> 512 | ... AN87: ='112'!AN$54+'112'!AN$57+'112'!AN$60+'112'!AN$63+'112'!AN$66 -> 265
A88: 113年 , 2024 | C88: ='113'!C$54+'113'!C$57+'113'!C$60+'113'!C$63+'113'!C$66 -> 5513 | D88: ='113'!D$54+'113'!D$57+'113'!D$60+'113'!D$63+'113'!D$66 -> 929 | E88: ='113'!E$54+'113'!E$57+'113'!E$60+'113'!E$63+'113'!E$66 -> 368 | F88: ='113'!F$54+'113'!F$57+'113'!F$60+'113'!F$63+'113'!F$66 -> 122 | G88: ='113'!G$54+'113'!G$57+'113'!G$60+'113'!G$63+'113'!G$66 -> 642 | H88: ='113'!H$54+'113'!H$57+'113'!H$60+'113'!H$63+'113'!H$66 -> 3919 | I88: ='113'!I$54+'113'!I$57+'113'!I$60+'113'!I$63+'113'!I$66 -> 668 | J88: ='113'!J$54+'113'!J$57+'113'!J$60+'113'!J$63+'113'!J$66 -> 559 | ... AN88: ='113'!AN$54+'113'!AN$57+'113'!AN$60+'113'!AN$63+'113'!AN$66 -> 254
A89: 114年 , 2025 | C89: ='114'!C$54+'114'!C$57+'114'!C$60+'114'!C$63+'114'!C$66 -> 6283 | D89: ='114'!D$54+'114'!D$57+'114'!D$60+'114'!D$63+'114'!D$66 -> 990 | E89: ='114'!E$54+'114'!E$57+'114'!E$60+'114'!E$63+'114'!E$66 -> 397 | F89: ='114'!F$54+'114'!F$57+'114'!F$60+'114'!F$63+'114'!F$66 -> 150 | G89: ='114'!G$54+'114'!G$57+'114'!G$60+'114'!G$63+'114'!G$66 -> 777 | H89: ='114'!H$54+'114'!H$57+'114'!H$60+'114'!H$63+'114'!H$66 -> 4473 | I89: ='114'!I$54+'114'!I$57+'114'!I$60+'114'!I$63+'114'!I$66 -> 750 | J89: ='114'!J$54+'114'!J$57+'114'!J$60+'114'!J$63+'114'!J$66 -> 737 | ... AN89: ='114'!AN$54+'114'!AN$57+'114'!AN$60+'114'!AN$63+'114'!AN$66 -> 410
A91: 年別、件數 與罰鍰金額 | C91: 4.家庭暴力事件裁罰按裁罰事由統計
C92: 合計 | D92: 執行家庭暴力防治人員，在執行職務時知有疑似家庭暴力情事，未立即通報當地主管機關者（家庭暴力防治法第62條第1項） | J92: 醫療機構對於家庭暴力之被害人，無故拒絕診療及開立驗傷診斷書者（家庭暴力防治法第62條第2項） | N92: 無正當理由撥打24小時專線電話，致妨害公務執行，經勸阻不聽者（家庭暴力防治法第63條）
A93: 96年, 2007 | B93: 件數 | C93: ='96'!C39 -> 0 | D93: ='96'!D39 -> 0 | J93: ='96'!J39 -> 0 | N93: ='96'!N39 -> 0
B94: 金額 | C94: ='96'!C40 -> 0 | D94: ='96'!D40 -> 0 | J94: ='96'!J40 -> 0 | N94: ='96'!N40 -> 0
A95: 97年, 2008 | B95: 件數 | C95: ='97'!C39 -> 0 | D95: ='97'!D39 -> 0 | J95: ='97'!J39 -> 0 | N95: ='97'!N39 -> 0
B96: 金額 | C96: ='97'!C40 -> 0 | D96: ='97'!D40 -> 0 | J96: ='97'!J40 -> 0 | N96: ='97'!N40 -> 0
A97: 98年 , 2009 | B97: 件數 | C97: ='98'!C39 -> 2 | D97: ='98'!D39 -> 0 | J97: ='98'!J39 -> 0 | N97: ='98'!N39 -> 2
B98: 金額 | C98: ='98'!C40 -> 4500 | D98: ='98'!D40 -> 0 | J98: ='98'!J40 -> 0 | N98: ='98'!N40 -> 4500
A99: 99年 , 2010 | B99: 件數 | C99: ='99'!C39 -> 1 | D99: ='99'!D39 -> 0 | J99: ='99'!J39 -> 0 | N99: ='99'!N39 -> 1
B100: 金額 | C100: ='99'!C40 -> 3000 | D100: ='99'!D40 -> 0 | J100: ='99'!J40 -> 0 | N100: ='99'!N40 -> 3000
A101: 100年 , 2011 | B101: 件數 | C101: ='100'!C65 -> 0 | D101: ='100'!D65 -> 0 | J101: ='96'!J65 -> 0 | N101: ='100'!N65 -> 0
B102: 金額 | C102: ='100'!C66 -> 0 | D102: ='100'!D66 -> 0 | J102: ='96'!J66 -> 0 | N102: ='100'!N66 -> 0
A103: 101年 , 2012 | B103: 件數 | C103: ='101'!C65 -> 1 | D103: ='101'!D65 -> 1 | J103: ='101'!J65 -> 0 | N103: ='101'!N65 -> 0
B104: 金額 | C104: ='101'!C66 -> 6000 | D104: ='101'!D66 -> 6000 | J104: ='101'!J66 -> 0 | N104: ='101'!N66 -> 0
A105: 102年 , 2013 | B105: 件數 | C105: ='102'!C65 -> 1 | D105: ='102'!D65 -> 1 | J105: ='102'!J65 -> 0 | N105: ='102'!N65 -> 0
B106: 金額 | C106: ='102'!C66 -> 6000 | D106: ='102'!D66 -> 6000 | J106: ='102'!J66 -> 0 | N106: ='102'!N66 -> 0
...

Sheet 114
A1: 5.1-03 推展家庭暴力防治業務
A2: 民國114年
A4: 被害人國籍身分 與性別 | C4: 1.家庭暴力被害人保護扶助人次（人次）
C5: 合計 | D5: 諮詢協談 | E5: 庇護安置 | G5: 陪同報案偵詢（訊） | H5: 陪同出庭 | I5: 驗傷診療 | J5: 聲請 保護令 | K5: 法律扶助 | L5: 經濟扶助 | M5: 心理諮商與輔導 | N5: 就業服務 | O5: 就學或轉學 服務 | P5: 轉介/提供目睹暴力服務 | Q5: 子女問題 協助 | R5: 通譯服務 | S5: 其他扶助
E6: 被害人 | F6: 隨行子女
A7: 合計 | B7: 計 | C7: 2020147 | D7: 1709641 | E7: 10414 | F7: 636 | G7: 859 | H7: 9831 | I7: 5219 | J7: 4031 | K7: 47942 | L7: 29031 | M7: 24766 | N7: 2385 | O7: 3076 | P7: 26420 | Q7: 13916 | R7: 242 | S7: 131738
B8: 男 | C8: 675683 | D8: 575977 | E8: 4983 | F8: 134 | G8: 174 | H8: 2383 | I8: 2534 | J8: 1163 | K8: 11910 | L8: 12009 | M8: 8662 | N8: 724 | O8: 1477 | P8: 5755 | Q8: 3112 | R8: 78 | S8: 44608
B9: 女 | C9: 1344464 | D9: 1133664 | E9: 5431 | F9: 502 | G9: 685 | H9: 7448 | I9: 2685 | J9: 2868 | K9: 36032 | L9: 17022 | M9: 16104 | N9: 1661 | O9: 1599 | P9: 20665 | Q9: 10804 | R9: 164 | S9: 87130
A10: 本國籍 非原住民 | B10: 男 | C10: 618645 | D10: 528477 | E10: 4483 | F10: 120 | G10: 159 | H10: 2168 | I10: 2265 | J10: 1096 | K10: 11232 | L10: 10984 | M10: 8081 | N10: 662 | O10: 1405 | P10: 5211 | Q10: 2936 | R10: 20 | S10: 39346
B11: 女 | C11: 1192630 | D11: 1010131 | E11: 4769 | F11: 422 | G11: 580 | H11: 6381 | I11: 2443 | J11: 2579 | K11: 32253 | L11: 15318 | M11: 14948 | N11: 1481 | O11: 1406 | P11: 17908 | Q11: 9494 | R11: 19 | S11: 72498
A12: 本國籍 原住民 | B12: 男 | C12: 37832 | D12: 30711 | E12: 447 | F12: 10 | G12: 4 | H12: 174 | I12: 188 | J12: 47 | K12: 447 | L12: 858 | M12: 456 | N12: 42 | O12: 54 | P12: 297 | Q12: 80 | R12: 1 | S12: 4016
B13: 女 | C13: 90010 | D13: 70563 | E13: 520 | F13: 52 | G13: 65 | H13: 772 | I13: 167 | J13: 202 | K13: 2439 | L13: 1214 | M13: 521 | N13: 121 | O13: 126 | P13: 2016 | Q13: 719 | R13: 2 | S13: 10511
A14: 大陸籍 （含港澳） | B14: 男 | C14: 655 | D14: 573 | E14: 0 | F14: 4 | G14: 0 | H14: 1 | I14: 1 | J14: 0 | K14: 11 | L14: 3 | M14: 30 | N14: 0 | O14: 0 | P14: 20 | Q14: 0 | R14: 0 | S14: 12
B15: 女 | C15: 11163 | D15: 9304 | E15: 46 | F15: 7 | G15: 4 | H15: 59 | I15: 8 | J15: 23 | K15: 343 | L15: 75 | M15: 97 | N15: 21 | O15: 4 | P15: 242 | Q15: 146 | R15: 0 | S15: 784
A16: 外國籍 | B16: 男 | C16: 4237 | D16: 3621 | E16: 38 | F16: 0 | G16: 1 | H16: 7 | I16: 1 | J16: 1 | K16: 108 | L16: 45 | M16: 4 | N16: 6 | O16: 0 | P16: 25 | Q16: 21 | R16: 56 | S16: 303
B17: 女 | C17: 24101 | D17: 20632 | E17: 70 | F17: 19 | G17: 24 | H17: 140 | I17: 18 | J17: 42 | K17: 545 | L17: 156 | M17: 196 | N17: 30 | O17: 2 | P17: 265 | Q17: 229 | R17: 127 | S17: 1606
A18: 其他 | B18: 男 | C18: 14314 | D18: 12595 | E18: 15 | F18: 0 | G18: 10 | H18: 33 | I18: 79 | J18: 19 | K18: 112 | L18: 119 | M18: 91 | N18: 14 | O18: 18 | P18: 202 | Q18: 75 | R18: 1 | S18: 931
B19: 女 | C19: 26560 | D19: 23034 | E19: 26 | F19: 2 | G19: 12 | H19: 96 | I19: 49 | J19: 22 | K19: 452 | L19: 259 | M19: 342 | N19: 8 | O19: 61 | P19: 234 | Q19: 216 | R19: 16 | S19: 1731
A21: 被害人國籍身分 | C21: 2.家庭暴力被害人保護扶助金額 (元)
C22: 合計 | D22: 緊急 生活扶助 | E22: 生活扶助 | F22: 急難救助 | G22: 租金補助 | H22: 醫療補助 | I22: 庇護安置補助 | J22: 心理治療、諮商與輔導費用 | K22: 律師費用 補助 | L22: 訴訟費用 補助 | M22: 子女生活 津貼/補助 | N22: 子女 教育補助 | O22: 兒童托育 費用/津貼 | P22: 民間慈善團體資助 | Q22: 其他補助
A23: 合計 | C23: 1101382255 | D23: 43065528 | E23: 243460619 | F23: 9406271 | G23: 20383773 | H23: 30470140 | I23: 619229628 | J23: 55823079 | K23: 11828124 | L23: 5500887 | M23: 19357829 | N23: 770209 | O23: 10747181 | P23: 9199813 | Q23: 22139174
A24: 本國籍非原住民 | C24: 1001742343 | D24: 39000102 | E24: 220988916 | F24: 8269715 | G24: 17563755 | H24: 25117517 | I24: 566211026 | J24: 52027937 | K24: 11264678 | L24: 5357327 | M24: 17902167 | N24: 688340 | O24: 9609104 | P24: 7011265 | Q24: 20730494
A25: 本國籍原住民 | C25: 60499930 | D25: 2192140 | E25: 12853466 | F25: 701413 | G25: 1355462 | H25: 1302542 | I25: 35785480 | J25: 1761866 | K25: 334205 | L25: 76802 | M25: 868802 | N25: 78234 | O25: 742873 | P25: 1651844 | Q25: 794801
A26: 大陸籍（含港澳） | C26: 3275921 | D26: 612839 | E26: 407663 | F26: 26640 | G26: 264751 | H26: 36287 | I26: 1178274 | J26: 300829 | K26: 57151 | L26: 6618 | M26: 94688 | N26: 119 | O26: 13673 | P26: 73706 | Q26: 202683
A27: 外國籍 | C27: 7411391 | D27: 1050510 | E27: 1007712 | F27: 98844 | G27: 721042 | H27: 114740 | I27: 3116413 | J27: 544506 | K27: 45646 | L27: 17035 | M27: 59853 | N27: 361 | O27: 30879 | P27: 280686 | Q27: 323164
A28: 其他 | C28: 28452670 | D28: 209937 | E28: 8202862 | F28: 309659 | G28: 478763 | H28: 3899054 | I28: 12938435 | J28: 1187941 | K28: 126444 | L28: 43105 | M28: 432319 | N28: 3155 | O28: 350652 | P28: 182312 | Q28: 88032
A30: 資料來源、 加害人性別 | C30: 3.家庭暴力加害人處遇
C31: 本期囑託鑑定、評估人數 (人) | D31: 本期完成囑託鑑定、評估人數 (人) | E31: 本期完成 主動評估人數（人） | F31: 本期法院裁定加害人處遇人數 (人) | G31: 本期法院逕裁加害人處遇人數 (人) | H31: 本期法院裁定加害人處遇計畫項目人次(複選)
H32: 合計 | I32: 精神治療 | J32: 戒癮治療 | L32: 心理輔導 | M32: 認知教育輔導 | O32: 其他輔導、治療
J33: 戒酒癮 | K33: 戒藥毒癮 | M33: 認知教育 | N33: 戒酒教育 | O33: 親職教育 | P33: 其他
A34: 法院裁定加害人處遇計畫者（家暴法第14條第1項第10款） | B34: 計 | C34: 3954 | D34: 3334 | E34: 669 | F34: 3633 | G34: 1431 | H34: 5391 | I34: 542 | J34: 229 | K34: 75 | L34: 479 | M34: 3014 | N34: 498 | O34: 532 | P34: 22
B35: 男 | C35: 3244 | D35: 2732 | E35: 541 | F35: 3001 | G35: 1175 | H35: 4410 | I35: 382 | J35: 207 | K35: 62 | L35: 343 | M35: 2575 | N35: 468 | O35: 360 | P35: 13
B36: 女 | C36: 710 | D36: 602 | E36: 128 | F36: 632 | G36: 256 | H36: 981 | I36: 160 | J36: 22 | K36: 13 | L36: 136 | M36: 439 | N36: 30 | O36: 172 | P36: 9
A37: 犯家暴罪或違反保護令罪付保護管束者命完成加害人處遇計畫（家暴法第38條） | B37: 計 | C37: 3 | D37: 2 | E37: 3 | F37: 16 | G37: 6 | H37: 22 | I37: 3 | J37: 2 | K37: 0 | L37: 1 | M37: 11 | N37: 0 | O37: 5 | P37: 0
B38: 男 | C38: 2 | D38: 1 | E38: 1 | F38: 12 | G38: 6 | H38: 17 | I38: 2 | J38: 1 | K38: 0 | L38: 1 | M38: 9 | N38: 0 | O38: 4 | P38: 0
B39: 女 | C39: 1 | D39: 1 | E39: 2 | F39: 4 | G39: 0 | H39: 5 | I39: 1 | J39: 1 | K39: 0 | L39: 0 | M39: 2 | N39: 0 | O39: 1 | P39: 0
A40: 假釋出獄付保護管束者命完成加害人處遇計畫（家暴法第39條） | B40: 計 | C40: 6 | D40: 6 | E40: 2 | F40: 50 | G40: 29 | H40: 67 | I40: 1 | J40: 1 | K40: 0 | L40: 9 | M40: 48 | N40: 4 | O40: 4 | P40: 0
B41: 男 | C41: 6 | D41: 6 | E41: 2 | F41: 38 | G41: 23 | H41: 51 | I41: 1 | J41: 1 | K41: 0 | L41: 7 | M41: 36 | N41: 2 | O41: 4 | P41: 0
B42: 女 | C42: 0 | D42: 0 | E42: 0 | F42: 12 | G42: 6 | H42: 16 | I42: 0 | J42: 0 | K42: 0 | L42: 2 | M42: 12 | N42: 2 | O42: 0 | P42: 0
A43: 檢察官緩起訴處分命完成加害人處遇計畫 | B43: 計 | C43: 1 | D43: 1 | E43: 0 | F43: 0 | G43: 0 | H43: 14 | I43: 2 | J43: 2 | K43: 0 | L43: 2 | M43: 7 | N43: 0 | O43: 1 | P43: 0
B44: 男 | C44: 1 | D44: 1 | E44: 0 | F44: 0 | G44: 0 | H44: 10 | I44: 1 | J44: 2 | K44: 0 | L44: 1 | M44: 6 | N44: 0 | O44: 0 | P44: 0
B45: 女 | C45: 0 | D45: 0 | E45: 0 | F45: 0 | G45: 0 | H45: 4 | I45: 1 | J45: 0 | K45: 0 | L45: 1 | M45: 1 | N45: 0 | O45: 1 | P45: 0
A46: 法院命緩刑及假釋付保護管束者完成加害人處遇計畫（兒童及少年福利與權益保障法第112條之1） | B46: 計 | C46: 6 | D46: 7 | E46: 3 | F46: 7 | G46: 2 | H46: 9 | I46: 1 | J46: 0 | K46: 0 | L46: 4 | M46: 3 | N46: 0 | O46: 0 | P46: 1
B47: 男 | C47: 5 | D47: 5 | E47: 2 | F47: 6 | G47: 2 | H47: 8 | I47: 1 | J47: 0 | K47: 0 | L47: 3 | M47: 3 | N47: 0 | O47: 0 | P47: 1
B48: 女 | C48: 1 | D48: 2 | E48: 1 | F48: 1 | G48: 0 | H48: 1 | I48: 0 | J48: 0 | K48: 0 | L48: 1 | M48: 0 | N48: 0 | O48: 0 | P48: 0
A50: 資料來源、 加害人性別 | C50: 3.家庭暴力加害人處遇
C51: 本年截至本期累計應執行處遇人數（A） | D51: 本年截至本期累計應執行處遇者各處遇項目執行人次 | L51: 本年截至本期累計完成處遇人數 （B） | M51: 本年截至本期累計各處遇項目完成人次 | U51: 本年截至本期累計尚在執行處遇人數 （C） | V51: 本年截至本期累計尚在執行處遇者各處遇項目人次 | AD51: 本年截至本期累計顯已無法完成處遇者按原因別分(人數) | AM51: 本期顯已無法完成處遇者，已移送家防中心/警察局，尚未移送至地檢署人數 | AN51: 本年截至本期累計顯已無法完成處遇者，已移送地檢署人數
D52: 精神治療 | E52: 戒癮治療 | G52: 心理輔導 | H52: 認知教育輔導 | J52: 其他輔導、治療 | M52: 精神治療 | N52: 戒癮治療 | P52: 心理輔導 | Q52: 認知教育輔導 | S52: 其他輔導、治療 | V52: 精神治療 | W52: 戒癮治療 | Y52: 心理輔導 | Z52: 認知教育輔導 | AB52: 其他輔導、治療 | AD52: 合計 （D） | AE52: 個案拒報到 | AF52: 個案死亡 | AG52: 個案傷殘或住院 | AH52: 個案因案入監無法執行 | AI52: 送達證書個案拒領或無法送達 | AJ52: 戶籍移轉外縣市 | AK52: 被害人 撤銷或變更保護令 | AL52: 其他
E53: 戒酒癮 | F53: 戒藥毒癮 | H53: 認知教育 | I53: 戒酒教育 | J53: 親職教育 | K53: 其他 | N53: 戒酒癮 | O53: 戒藥毒癮 | Q53: 認知教育 | R53: 戒酒教育 | S53: 親職教育 | T53: 其他 | W53: 戒酒癮 | X53: 戒藥毒癮 | Z53: 認知教育 | AA53: 戒酒教育 | AB53: 親職教育 | AC53: 其他
A54: 法院裁定加害人處遇計畫者（家暴法第14條第1項第10款） | B54: 計 | C54: 6121 | D54: 972 | E54: 391 | F54: 149 | G54: 746 | H54: 4367 | I54: 743 | J54: 712 | K54: 27 | L54: 2134 | M54: 234 | N54: 92 | O54: 14 | P54: 267 | Q54: 1511 | R54: 228 | S54: 256 | T54: 17 | U54: 3108 | V54: 576 | W54: 238 | X54: 94 | Y54: 387 | Z54: 2149 | AA54: 388 | AB54: 398 | AC54: 8 | AD54: 879 | AE54: 453 | AF54: 62 | AG54: 2 | AH54: 58 | AI54: 14 | AJ54: 53 | AK54: 192 | AL54: 45 | AM54: 170 | AN54: 402
B55: 男 | C55: 5102 | D55: 712 | E55: 359 | F55: 128 | G55: 540 | H55: 3782 | I55: 698 | J55: 493 | K55: 16 | L55: 1764 | M55: 162 | N55: 84 | O55: 10 | P55: 195 | Q55: 1319 | R55: 209 | S55: 181 | T55: 8 | U55: 2566 | V55: 420 | W55: 216 | X55: 80 | Y55: 281 | Z55: 1849 | AA55: 366 | AB55: 272 | AC55: 6 | AD55: 772 | AE55: 400 | AF55: 56 | AG55: 2 | AH55: 54 | AI55: 14 | AJ55: 37 | AK55: 171 | AL55: 38 | AM55: 154 | AN55: 354
B56: 女 | C56: 1019 | D56: 260 | E56: 32 | F56: 21 | G56: 206 | H56: 585 | I56: 45 | J56: 219 | K56: 11 | L56: 370 | M56: 72 | N56: 8 | O56: 4 | P56: 72 | Q56: 192 | R56: 19 | S56: 75 | T56: 9 | U56: 542 | V56: 156 | W56: 22 | X56: 14 | Y56: 106 | Z56: 300 | AA56: 22 | AB56: 126 | AC56: 2 | AD56: 107 | AE56: 53 | AF56: 6 | AG56: 0 | AH56: 4 | AI56: 0 | AJ56: 16 | AK56: 21 | AL56: 7 | AM56: 16 | AN56: 48
A57: 犯家暴罪或違反保護令罪付保護管束者命完成加害人處遇計畫（家暴法第38條） | B57: 計 | C57: 32 | D57: 4 | E57: 2 | F57: 0 | G57: 4 | H57: 20 | I57: 0 | J57: 10 | K57: 0 | L57: 21 | M57: 2 | N57: 1 | O57: 0 | P57: 3 | Q57: 13 | R57: 0 | S57: 7 | T57: 0 | U57: 10 | V57: 2 | W57: 1 | X57: 0 | Y57: 1 | Z57: 6 | AA57: 0 | AB57: 3 | AC57: 0 | AD57: 1 | AE57: 1 | AF57: 0 | AG57: 0 | AH57: 0 | AI57: 0 | AJ57: 0 | AK57: 0 | AL57: 0 | AM57: 0 | AN57: 1
B58: 男 | C58: 24 | D58: 3 | E58: 1 | F58: 0 | G58: 2 | H58: 17 | I58: 0 | J58: 6 | K58: 0 | L58: 17 | M58: 2 | N58: 1 | O58: 0 | P58: 1 | Q58: 12 | R58: 0 | S58: 4 | T58: 0 | U58: 6 | V58: 1 | W58: 0 | X58: 0 | Y58: 1 | Z58: 4 | AA58: 0 | AB58: 2 | AC58: 0 | AD58: 1 | AE58: 1 | AF58: 0 | AG58: 0 | AH58: 0 | AI58: 0 | AJ58: 0 | AK58: 0 | AL58: 0 | AM58: 0 | AN58: 1
B59: 女 | C59: 8 | D59: 1 | E59: 1 | F59: 0 | G59: 2 | H59: 3 | I59: 0 | J59: 4 | K59: 0 | L59: 4 | M59: 0 | N59: 0 | O59: 0 | P59: 2 | Q59: 1 | R59: 0 | S59: 3 | T59: 0 | U59: 4 | V59: 1 | W59: 1 | X59: 0 | Y59: 0 | Z59: 2 | AA59: 0 | AB59: 1 | AC59: 0 | AD59: 0 | AE59: 0 | AF59: 0 | AG59: 0 | AH59: 0 | AI59: 0 | AJ59: 0 | AK59: 0 | AL59: 0 | AM59: 0 | AN59: 0
A60: 假釋出獄付保護管束者命完成加害人處遇計畫（家暴法第39條） | B60: 計 | C60: 90 | D60: 1 | E60: 1 | F60: 1 | G60: 17 | H60: 69 | I60: 6 | J60: 13 | K60: 0 | L60: 57 | M60: 0 | N60: 0 | O60: 0 | P60: 13 | Q60: 42 | R60: 3 | S60: 8 | T60: 0 | U60: 25 | V60: 1 | W60: 1 | X60: 1 | Y60: 3 | Z60: 20 | AA60: 1 | AB60: 3 | AC60: 0 | AD60: 8 | AE60: 3 | AF60: 1 | AG60: 0 | AH60: 0 | AI60: 0 | AJ60: 4 | AK60: 0 | AL60: 0 | AM60: 0 | AN60: 3
B61: 男 | C61: 71 | D61: 1 | E61: 1 | F61: 1 | G61: 13 | H61: 54 | I61: 4 | J61: 9 | K61: 0 | L61: 44 | M61: 0 | N61: 0 | O61: 0 | P61: 9 | Q61: 32 | R61: 2 | S61: 6 | T61: 0 | U61: 21 | V61: 1 | W61: 1 | X61: 1 | Y61: 3 | Z61: 16 | AA61: 1 | AB61: 3 | AC61: 0 | AD61: 6 | AE61: 3 | AF61: 1 | AG61: 0 | AH61: 0 | AI61: 0 | AJ61: 2 | AK61: 0 | AL61: 0 | AM61: 0 | AN61: 3
B62: 女 | C62: 19 | D62: 0 | E62: 0 | F62: 0 | G62: 4 | H62: 15 | I62: 2 | J62: 4 | K62: 0 | L62: 13 | M62: 0 | N62: 0 | O62: 0 | P62: 4 | Q62: 10 | R62: 1 | S62: 2 | T62: 0 | U62: 4 | V62: 0 | W62: 0 | X62: 0 | Y62: 0 | Z62: 4 | AA62: 0 | AB62: 0 | AC62: 0 | AD62: 2 | AE62: 0 | AF62: 0 | AG62: 0 | AH62: 0 | AI62: 0 | AJ62: 2 | AK62: 0 | AL62: 0 | AM62: 0 | AN62: 0
A63: 檢察官緩起訴處分命完成加害人處遇計畫 | B63: 計 | C63: 27 | D63: 11 | E63: 3 | F63: 0 | G63: 2 | H63: 12 | I63: 1 | J63: 2 | K63: 1 | L63: 10 | M63: 5 | N63: 0 | O63: 0 | P63: 0 | Q63: 4 | R63: 1 | S63: 1 | T63: 0 | U63: 12 | V63: 5 | W63: 3 | X63: 0 | Y63: 2 | Z63: 5 | AA63: 0 | AB63: 0 | AC63: 1 | AD63: 5 | AE63: 1 | AF63: 0 | AG63: 0 | AH63: 2 | AI63: 0 | AJ63: 0 | AK63: 1 | AL63: 1 | AM63: 0 | AN63: 4
B64: 男 | C64: 20 | D64: 6 | E64: 3 | F64: 0 | G64: 1 | H64: 11 | I64: 1 | J64: 1 | K64: 1 | L64: 6 | M64: 1 | N64: 0 | O64: 0 | P64: 0 | Q64: 4 | R64: 1 | S64: 1 | T64: 0 | U64: 9 | V64: 4 | W64: 3 | X64: 0 | Y64: 1 | Z64: 3 | AA64: 0 | AB64: 0 | AC64: 1 | AD64: 5 | AE64: 1 | AF64: 0 | AG64: 0 | AH64: 2 | AI64: 0 | AJ64: 0 | AK64: 1 | AL64: 1 | AM64: 0 | AN64: 4
B65: 女 | C65: 7 | D65: 5 | E65: 0 | F65: 0 | G65: 1 | H65: 1 | I65: 0 | J65: 1 | K65: 0 | L65: 4 | M65: 4 | N65: 0 | O65: 0 | P65: 0 | Q65: 0 | R65: 0 | S65: 0 | T65: 0 | U65: 3 | V65: 1 | W65: 0 | X65: 0 | Y65: 1 | Z65: 2 | AA65: 0 | AB65: 0 | AC65: 0 | AD65: 0 | AE65: 0 | AF65: 0 | AG65: 0 | AH65: 0 | AI65: 0 | AJ65: 0 | AK65: 0 | AL65: 0 | AM65: 0 | AN65: 0
A66: 法院命緩刑及假釋付保護管束者完成加害人處遇計畫（兒童及少年福利與權益保障法第112條之1） | B66: 計 | C66: 13 | D66: 2 | E66: 0 | F66: 0 | G66: 8 | H66: 5 | I66: 0 | J66: 0 | K66: 1 | L66: 11 | M66: 2 | N66: 0 | O66: 0 | P66: 7 | Q66: 4 | R66: 0 | S66: 0 | T66: 1 | U66: 2 | V66: 0 | W66: 0 | X66: 0 | Y66: 1 | Z66: 1 | AA66: 0 | AB66: 0 | AC66: 0 | AD66: 0 | AE66: 0 | AF66: 0 | AG66: 0 | AH66: 0 | AI66: 0 | AJ66: 0 | AK66: 0 | AL66: 0 | AM66: 0 | AN66: 0
B67: 男 | C67: 12 | D67: 2 | E67: 0 | F67: 0 | G67: 7 | H67: 5 | I67: 0 | J67: 0 | K67: 1 | L67: 10 | M67: 2 | N67: 0 | O67: 0 | P67: 6 | Q67: 4 | R67: 0 | S67: 0 | T67: 1 | U67: 2 | V67: 0 | W67: 0 | X67: 0 | Y67: 1 | Z67: 1 | AA67: 0 | AB67: 0 | AC67: 0 | AD67: 0 | AE67: 0 | AF67: 0 | AG67: 0 | AH67: 0 | AI67: 0 | AJ67: 0 | AK67: 0 | AL67: 0 | AM67: 0 | AN67: 0
B68: 女 | C68: 1 | D68: 0 | E68: 0 | F68: 0 | G68: 1 | H68: 0 | I68: 0 | J68: 0 | K68: 0 | L68: 1 | M68: 0 | N68: 0 | O68: 0 | P68: 1 | Q68: 0 | R68: 0 | S68: 0 | T68: 0 | U68: 0 | V68: 0 | W68: 0 | X68: 0 | Y68: 0 | Z68: 0 | AA68: 0 | AB68: 0 | AC68: 0 | AD68: 0 | AE68: 0 | AF68: 0 | AG68: 0 | AH68: 0 | AI68: 0 | AJ68: 0 | AK68: 0 | AL68: 0 | AM68: 0 | AN68: 0
A70: 件數與罰鍰金額 | C70: 4.家庭暴力事件裁罰按裁罰事由統計
C71: 合計 | D71: 執行家庭暴力防治人員，在執行職務時知有疑似家庭暴力情事，未立即通報當地主管機關者（家庭暴力防治法第62條第1項） | J71: 醫療機構對於家庭暴力之被害人，無故拒絕診療及開立驗傷診斷書者（家庭暴力防治法第62條第2項） | N71: 無正當理由撥打24小時專線電話，致妨害公務執行，經勸阻不聽者（家庭暴力防治法第63條）
A72: 件數 | C72: 3 | D72: 1 | J72: 0 | N72: 2
A73: 罰鍰金額(新台幣元) | C73: 42000 | D73: 30000 | J73: 0 | N73: 12000

Sheet 113
A1: 5.1-03 推展家庭暴力防治業務
A2: 民國113年
A4: 被害人國籍身分 與性別 | C4: 1.家庭暴力被害人保護扶助人次（人次）
C5: 合計 | D5: 諮詢協談 | E5: 庇護安置 | G5: 陪同報案偵詢（訊） | H5: 陪同出庭 | I5: 驗傷診療 | J5: 聲請 保護令 | K5: 法律扶助 | L5: 經濟扶助 | M5: 心理諮商與輔導 | N5: 就業服務 | O5: 就學或轉學 服務 | P5: 轉介/提供目睹暴力服務 | Q5: 子女問題 協助 | R5: 通譯服務 | S5: 其他扶助
E6: 被害人 | F6: 隨行子女
A7: 合計 | B7: 計 | C7: 2003371 | D7: 1690463 | E7: 8055 | F7: 628 | G7: 904 | H7: 8873 | I7: 5449 | J7: 4245 | K7: 54918 | L7: 29071 | M7: 25933 | N7: 2889 | O7: 3771 | P7: 22983 | Q7: 14034 | R7: 160 | S7: 130995
B8: 男 | C8: 651243 | D8: 554239 | E8: 3663 | F8: 80 | G8: 182 | H8: 2060 | I8: 2489 | J8: 1047 | K8: 13472 | L8: 11221 | M8: 8853 | N8: 788 | O8: 1725 | P8: 4244 | Q8: 3023 | R8: 37 | S8: 44120
B9: 女 | C9: 1352128 | D9: 1136224 | E9: 4392 | F9: 548 | G9: 722 | H9: 6813 | I9: 2960 | J9: 3198 | K9: 41446 | L9: 17850 | M9: 17080 | N9: 2101 | O9: 2046 | P9: 18739 | Q9: 11011 | R9: 123 | S9: 86875
A10: 本國籍 非原住民 | B10: 男 | C10: 598943 | D10: 510497 | E10: 3393 | F10: 71 | G10: 168 | H10: 1868 | I10: 2248 | J10: 976 | K10: 12724 | L10: 10376 | M10: 8216 | N10: 707 | O10: 1594 | P10: 3871 | Q10: 2890 | R10: 6 | S10: 39338
B11: 女 | C11: 1204749 | D11: 1016649 | E11: 3975 | F11: 450 | G11: 617 | H11: 5911 | I11: 2743 | J11: 2847 | K11: 36634 | L11: 15833 | M11: 15811 | N11: 1810 | O11: 1826 | P11: 16474 | Q11: 9903 | R11: 31 | S11: 73235
A12: 本國籍 原住民 | B12: 男 | C12: 36664 | D12: 30191 | E12: 252 | F12: 7 | G12: 12 | H12: 151 | I12: 179 | J12: 56 | K12: 578 | L12: 718 | M12: 449 | N12: 61 | O12: 100 | P12: 202 | Q12: 84 | R12: 0 | S12: 3624
B13: 女 | C13: 89256 | D13: 70624 | E13: 294 | F13: 65 | G13: 66 | H13: 606 | I13: 144 | J13: 245 | K13: 3141 | L13: 1534 | M13: 745 | N13: 190 | O13: 177 | P13: 1522 | Q13: 532 | R13: 0 | S13: 9371
A14: 大陸籍 （含港澳） | B14: 男 | C14: 612 | D14: 444 | E14: 2 | F14: 0 | G14: 0 | H14: 0 | I14: 0 | J14: 2 | K14: 2 | L14: 6 | M14: 20 | N14: 0 | O14: 0 | P14: 14 | Q14: 1 | R14: 0 | S14: 121
B15: 女 | C15: 13237 | D15: 10508 | E15: 34 | F15: 12 | G15: 5 | H15: 61 | I15: 9 | J15: 29 | K15: 452 | L15: 167 | M15: 142 | N15: 32 | O15: 1 | P15: 290 | Q15: 222 | R15: 0 | S15: 1273
A16: 外國籍 | B16: 男 | C16: 3400 | D16: 2914 | E16: 4 | F16: 1 | G16: 2 | H16: 11 | I16: 0 | J16: 0 | K16: 89 | L16: 40 | M16: 18 | N16: 5 | O16: 7 | P16: 10 | Q16: 1 | R16: 31 | S16: 267
B17: 女 | C17: 23662 | D17: 19681 | E17: 68 | F17: 19 | G17: 17 | H17: 166 | I17: 25 | J17: 62 | K17: 912 | L17: 196 | M17: 91 | N17: 52 | O17: 14 | P17: 266 | Q17: 252 | R17: 92 | S17: 1749
A18: 其他 | B18: 男 | C18: 11624 | D18: 10193 | E18: 12 | F18: 1 | G18: 0 | H18: 30 | I18: 62 | J18: 13 | K18: 79 | L18: 81 | M18: 150 | N18: 15 | O18: 24 | P18: 147 | Q18: 47 | R18: 0 | S18: 770
B19: 女 | C19: 21224 | D19: 18762 | E19: 21 | F19: 2 | G19: 17 | H19: 69 | I19: 39 | J19: 15 | K19: 307 | L19: 120 | M19: 291 | N19: 17 | O19: 28 | P19: 187 | Q19: 102 | R19: 0 | S19: 1247
A21: 被害人國籍身分 | C21: 2.家庭暴力被害人保護扶助金額 (元)
C22: 合計 | D22: 緊急 生活扶助 | E22: 生活扶助 | F22: 急難救助 | G22: 租金補助 | H22: 醫療補助 | I22: 庇護安置補助 | J22: 心理治療、諮商與輔導費用 | K22: 律師費用 補助 | L22: 訴訟費用 補助 | M22: 子女生活 津貼/補助 | N22: 子女 教育補助 | O22: 兒童托育 費用/津貼 | P22: 民間慈善團體資助 | Q22: 其他補助
A23: 合計 | C23: 1315854784 | D23: 42552778 | E23: 456732650 | F23: 20874658 | G23: 21021375 | H23: 31982537 | I23: 571584812 | J23: 50322337 | K23: 10560461 | L23: 4430485 | M23: 28274337 | N23: 1360420 | O23: 13544771 | P23: 11386894 | Q23: 51226269
A24: 本國籍非原住民 | C24: 1226842510 | D24: 38140109 | E24: 422498493 | F24: 18389696 | G24: 18270424 | H24: 30138423 | I24: 540377563 | J24: 46956671 | K24: 9294152 | L24: 4343781 | M24: 26838915 | N24: 1263012 | O24: 12247002 | P24: 8631407 | Q24: 49452862
A25: 本國籍原住民 | C25: 63962350 | D25: 2578747 | E25: 21838120 | F25: 454807 | G25: 1302420 | H25: 1187454 | I25: 28055287 | J25: 1837957 | K25: 954853 | L25: 53277 | M25: 1037344 | N25: 70609 | O25: 961518 | P25: 2399312 | Q25: 1230645
A26: 大陸籍（含港澳） | C26: 2887418 | D26: 708261 | E26: 678541 | F26: 5751 | G26: 498216 | H26: 25742 | I26: 328131 | J26: 220415 | K26: 104713 | L26: 2019 | M26: 211586 | N26: 6032 | O26: 10773 | P26: 19544 | Q26: 67694
A27: 外國籍 | C27: 6355149 | D27: 596410 | E27: 1822159 | F27: 1005586 | G27: 607975 | H27: 163066 | I27: 1110042 | J27: 279752 | K27: 134975 | L27: 8851 | M27: 90933 | N27: 32 | O27: 72937 | P27: 144264 | Q27: 318167
A28: 其他 | C28: 15807357 | D28: 529251 | E28: 9895337 | F28: 1018818 | G28: 342340 | H28: 467852 | I28: 1713789 | J28: 1027542 | K28: 71768 | L28: 22557 | M28: 95559 | N28: 20735 | O28: 252541 | P28: 192367 | Q28: 156901
A30: 資料來源、 加害人性別 | C30: 3.家庭暴力加害人處遇
C31: 本期囑託鑑定、評估人數 (人) | D31: 本期完成囑託鑑定、評估人數 (人) | E31: 本期完成 主動評估人數（人） | F31: 本期法院裁定加害人處遇人數 (人) | G31: 本期法院逕裁加害人處遇人數 (人) | H31: 本期法院裁定加害人處遇計畫項目人次(複選)
H32: 合計 | I32: 精神治療 | J32: 戒癮治療 | L32: 心理輔導 | M32: 認知教育輔導 | O32: 其他輔導、治療
J33: 戒酒癮 | K33: 戒藥毒癮 | M33: 認知教育 | N33: 戒酒教育 | O33: 親職教育 | P33: 其他
A34: 法院裁定加害人處遇計畫者（家暴法第14條第1項第10款） | B34: 計 | C34: 3999 | D34: 3486 | E34: 712 | F34: 3358 | G34: 1353 | H34: 4738 | I34: 519 | J34: 260 | K34: 71 | L34: 399 | M34: 2636 | N34: 449 | O34: 381 | P34: 23
B35: 男 | C35: 3350 | D35: 2919 | E35: 637 | F35: 2821 | G35: 1119 | H35: 3982 | I35: 366 | J35: 245 | K35: 65 | L35: 294 | M35: 2324 | N35: 419 | O35: 256 | P35: 13
B36: 女 | C36: 649 | D36: 567 | E36: 75 | F36: 537 | G36: 234 | H36: 756 | I36: 153 | J36: 15 | K36: 6 | L36: 105 | M36: 312 | N36: 30 | O36: 125 | P36: 10
A37: 犯家暴罪或違反保護令罪付保護管束者命完成加害人處遇計畫（家暴法第38條） | B37: 計 | C37: 4 | D37: 4 | E37: 3 | F37: 19 | G37: 12 | H37: 25 | I37: 1 | J37: 0 | K37: 0 | L37: 3 | M37: 15 | N37: 0 | O37: 6 | P37: 0
B38: 男 | C38: 3 | D38: 3 | E38: 2 | F38: 11 | G38: 6 | H38: 13 | I38: 0 | J38: 0 | K38: 0 | L38: 1 | M38: 11 | N38: 0 | O38: 1 | P38: 0
B39: 女 | C39: 1 | D39: 1 | E39: 1 | F39: 8 | G39: 6 | H39: 12 | I39: 1 | J39: 0 | K39: 0 | L39: 2 | M39: 4 | N39: 0 | O39: 5 | P39: 0
A40: 假釋出獄付保護管束者命完成加害人處遇計畫（家暴法第39條） | B40: 計 | C40: 22 | D40: 14 | E40: 7 | F40: 78 | G40: 48 | H40: 116 | I40: 1 | J40: 1 | K40: 1 | L40: 19 | M40: 80 | N40: 3 | O40: 11 | P40: 0
B41: 男 | C41: 19 | D41: 12 | E41: 7 | F41: 68 | G41: 41 | H41: 100 | I41: 1 | J41: 1 | K41: 1 | L41: 16 | M41: 73 | N41: 1 | O41: 7 | P41: 0
B42: 女 | C42: 3 | D42: 2 | E42: 0 | F42: 10 | G42: 7 | H42: 16 | I42: 0 | J42: 0 | K42: 0 | L42: 3 | M42: 7 | N42: 2 | O42: 4 | P42: 0
A43: 檢察官緩起訴處分命完成加害人處遇計畫 | B43: 計 | C43: 0 | D43: 0 | E43: 1 | F43: 0 | G43: 0 | H43: 12 | I43: 7 | J43: 0 | K43: 0 | L43: 0 | M43: 4 | N43: 0 | O43: 0 | P43: 1
B44: 男 | C44: 0 | D44: 0 | E44: 1 | F44: 0 | G44: 0 | H44: 7 | I44: 3 | J44: 0 | K44: 0 | L44: 0 | M44: 3 | N44: 0 | O44: 0 | P44: 1
B45: 女 | C45: 0 | D45: 0 | E45: 0 | F45: 0 | G45: 0 | H45: 5 | I45: 4 | J45: 0 | K45: 0 | L45: 0 | M45: 1 | N45: 0 | O45: 0 | P45: 0
A46: 法院命緩刑及假釋付保護管束者完成加害人處遇計畫（兒童及少年福利與權益保障法第112條之1） | B46: 計 | C46: 10 | D46: 10 | E46: 2 | F46: 7 | G46: 1 | H46: 10 | I46: 0 | J46: 0 | K46: 0 | L46: 6 | M46: 3 | N46: 1 | O46: 0 | P46: 0
B47: 男 | C47: 10 | D47: 10 | E47: 2 | F47: 7 | G47: 1 | H47: 10 | I47: 0 | J47: 0 | K47: 0 | L47: 6 | M47: 3 | N47: 1 | O47: 0 | P47: 0
B48: 女 | C48: 0 | D48: 0 | E48: 0 | F48: 0 | G48: 0 | H48: 0 | I48: 0 | J48: 0 | K48: 0 | L48: 0 | M48: 0 | N48: 0 | O48: 0 | P48: 0
A50: 資料來源、 加害人性別 | C50: 3.家庭暴力加害人處遇
C51: 本年截至本期累計應執行處遇人數（A） | D51: 本年截至本期累計應執行處遇者各處遇項目執行人次 | L51: 本年截至本期累計完成處遇人數 （B） | M51: 本年截至本期累計各處遇項目完成人次 | U51: 本年截至本期累計尚在執行處遇人數 （C） | V51: 本年截至本期累計尚在執行處遇者各處遇項目人次 | AD51: 本年截至本期累計顯已無法完成處遇者按原因別分(人數) | AM51: 本期顯已無法完成處遇者，已移送家防中心/警察局，尚未移送至地檢署人數 | AN51: 本年截至本期累計顯已無法完成處遇者，已移送地檢署人數
D52: 精神治療 | E52: 戒癮治療 | G52: 心理輔導 | H52: 認知教育輔導 | J52: 其他輔導、治療 | M52: 精神治療 | N52: 戒癮治療 | P52: 心理輔導 | Q52: 認知教育輔導 | S52: 其他輔導、治療 | V52: 精神治療 | W52: 戒癮治療 | Y52: 心理輔導 | Z52: 認知教育輔導 | AB52: 其他輔導、治療 | AD52: 合計 （D） | AE52: 個案拒報到 | AF52: 個案死亡 | AG52: 個案傷殘或住院 | AH52: 個案因案入監無法執行 | AI52: 送達證書個案拒領或無法送達 | AJ52: 戶籍移轉外縣市 | AK52: 被害人 撤銷或變更保護令 | AL52: 其他
E53: 戒酒癮 | F53: 戒藥毒癮 | H53: 認知教育 | I53: 戒酒教育 | J53: 親職教育 | K53: 其他 | N53: 戒酒癮 | O53: 戒藥毒癮 | Q53: 認知教育 | R53: 戒酒教育 | S53: 親職教育 | T53: 其他 | W53: 戒酒癮 | X53: 戒藥毒癮 | Z53: 認知教育 | AA53: 戒酒教育 | AB53: 親職教育 | AC53: 其他
A54: 法院裁定加害人處遇計畫者（家暴法第14條第1項第10款） | B54: 計 | C54: 5328 | D54: 912 | E54: 367 | F54: 121 | G54: 605 | H54: 3776 | I54: 657 | J54: 531 | K54: 29 | L54: 2041 | M54: 244 | N54: 95 | O54: 25 | P54: 225 | Q54: 1462 | R54: 224 | S54: 206 | T54: 17 | U54: 2556 | V54: 519 | W54: 201 | X54: 71 | Y54: 299 | Z54: 1772 | AA54: 310 | AB54: 255 | AC54: 16 | AD54: 731 | AE54: 392 | AF54: 42 | AG54: 4 | AH54: 38 | AI54: 12 | AJ54: 70 | AK54: 155 | AL54: 18 | AM54: 212 | AN54: 252
B55: 男 | C55: 4486 | D55: 666 | E55: 344 | F55: 113 | G55: 437 | H55: 3328 | I55: 621 | J55: 364 | K55: 17 | L55: 1688 | M55: 170 | N55: 89 | O55: 25 | P55: 154 | Q55: 1268 | R55: 213 | S55: 145 | T55: 11 | U55: 2154 | V55: 376 | W55: 187 | X55: 64 | Y55: 228 | Z55: 1578 | AA55: 290 | AB55: 176 | AC55: 9 | AD55: 644 | AE55: 350 | AF55: 41 | AG55: 3 | AH55: 38 | AI55: 12 | AJ55: 51 | AK55: 132 | AL55: 17 | AM55: 188 | AN55: 232
B56: 女 | C56: 842 | D56: 246 | E56: 23 | F56: 8 | G56: 168 | H56: 448 | I56: 36 | J56: 167 | K56: 12 | L56: 353 | M56: 74 | N56: 6 | O56: 0 | P56: 71 | Q56: 194 | R56: 11 | S56: 61 | T56: 6 | U56: 402 | V56: 143 | W56: 14 | X56: 7 | Y56: 71 | Z56: 194 | AA56: 20 | AB56: 79 | AC56: 7 | AD56: 87 | AE56: 42 | AF56: 1 | AG56: 1 | AH56: 0 | AI56: 0 | AJ56: 19 | AK56: 23 | AL56: 1 | AM56: 24 | AN56: 20
A57: 犯家暴罪或違反保護令罪付保護管束者命完成加害人處遇計畫（家暴法第38條） | B57: 計 | C57: 28 | D57: 4 | E57: 0 | F57: 0 | G57: 4 | H57: 18 | I57: 0 | J57: 10 | K57: 0 | L57: 7 | M57: 1 | N57: 0 | O57: 0 | P57: 1 | Q57: 4 | R57: 0 | S57: 2 | T57: 0 | U57: 19 | V57: 2 | W57: 0 | X57: 0 | Y57: 3 | Z57: 12 | AA57: 0 | AB57: 8 | AC57: 0 | AD57: 2 | AE57: 0 | AF57: 0 | AG57: 0 | AH57: 0 | AI57: 0 | AJ57: 0 | AK57: 1 | AL57: 1 | AM57: 0 | AN57: 1
B58: 男 | C58: 18 | D58: 2 | E58: 0 | F58: 0 | G58: 1 | H58: 15 | I58: 0 | J58: 4 | K58: 0 | L58: 5 | M58: 1 | N58: 0 | O58: 0 | P58: 0 | Q58: 3 | R58: 0 | S58: 2 | T58: 0 | U58: 13 | V58: 1 | W58: 0 | X58: 0 | Y58: 1 | Z58: 11 | AA58: 0 | AB58: 2 | AC58: 0 | AD58: 0 | AE58: 0 | AF58: 0 | AG58: 0 | AH58: 0 | AI58: 0 | AJ58: 0 | AK58: 0 | AL58: 0 | AM58: 0 | AN58: 0
B59: 女 | C59: 10 | D59: 2 | E59: 0 | F59: 0 | G59: 3 | H59: 3 | I59: 0 | J59: 6 | K59: 0 | L59: 2 | M59: 0 | N59: 0 | O59: 0 | P59: 1 | Q59: 1 | R59: 0 | S59: 0 | T59: 0 | U59: 6 | V59: 1 | W59: 0 | X59: 0 | Y59: 2 | Z59: 1 | AA59: 0 | AB59: 6 | AC59: 0 | AD59: 2 | AE59: 0 | AF59: 0 | AG59: 0 | AH59: 0 | AI59: 0 | AJ59: 0 | AK59: 1 | AL59: 1 | AM59: 0 | AN59: 1
A60: 假釋出獄付保護管束者命完成加害人處遇計畫（家暴法第39條） | B60: 計 | C60: 127 | D60: 4 | E60: 1 | F60: 1 | G60: 26 | H60: 109 | I60: 6 | J60: 17 | K60: 0 | L60: 79 | M60: 4 | N60: 1 | O60: 0 | P60: 16 | Q60: 60 | R60: 4 | S60: 10 | T60: 0 | U60: 42 | V60: 0 | W60: 0 | X60: 1 | Y60: 6 | Z60: 46 | AA60: 1 | AB60: 7 | AC60: 0 | AD60: 6 | AE60: 3 | AF60: 0 | AG60: 0 | AH60: 0 | AI60: 0 | AJ60: 3 | AK60: 0 | AL60: 0 | AM60: 3 | AN60: 0
B61: 男 | C61: 109 | D61: 3 | E61: 1 | F61: 1 | G61: 20 | H61: 99 | I61: 3 | J61: 11 | K61: 0 | L61: 70 | M61: 3 | N61: 1 | O61: 0 | P61: 11 | Q61: 57 | R61: 3 | S61: 7 | T61: 0 | U61: 35 | V61: 0 | W61: 0 | X61: 1 | Y61: 5 | Z61: 40 | AA61: 0 | AB61: 4 | AC61: 0 | AD61: 4 | AE61: 3 | AF61: 0 | AG61: 0 | AH61: 0 | AI61: 0 | AJ61: 1 | AK61: 0 | AL61: 0 | AM61: 3 | AN61: 0
B62: 女 | C62: 18 | D62: 1 | E62: 0 | F62: 0 | G62: 6 | H62: 10 | I62: 3 | J62: 6 | K62: 0 | L62: 9 | M62: 1 | N62: 0 | O62: 0 | P62: 5 | Q62: 3 | R62: 1 | S62: 3 | T62: 0 | U62: 7 | V62: 0 | W62: 0 | X62: 0 | Y62: 1 | Z62: 6 | AA62: 1 | AB62: 3 | AC62: 0 | AD62: 2 | AE62: 0 | AF62: 0 | AG62: 0 | AH62: 0 | AI62: 0 | AJ62: 2 | AK62: 0 | AL62: 0 | AM62: 0 | AN62: 0
A63: 檢察官緩起訴處分命完成加害人處遇計畫 | B63: 計 | C63: 18 | D63: 8 | E63: 0 | F63: 0 | G63: 0 | H63: 12 | I63: 4 | J63: 0 | K63: 1 | L63: 8 | M63: 0 | N63: 0 | O63: 0 | P63: 0 | Q63: 8 | R63: 4 | S63: 0 | T63: 0 | U63: 9 | V63: 7 | W63: 0 | X63: 0 | Y63: 0 | Z63: 3 | AA63: 0 | AB63: 0 | AC63: 1 | AD63: 1 | AE63: 1 | AF63: 0 | AG63: 0 | AH63: 0 | AI63: 0 | AJ63: 0 | AK63: 0 | AL63: 0 | AM63: 0 | AN63: 1
B64: 男 | C64: 13 | D64: 4 | E64: 0 | F64: 0 | G64: 0 | H64: 11 | I64: 4 | J64: 0 | K64: 1 | L64: 7 | M64: 0 | N64: 0 | O64: 0 | P64: 0 | Q64: 7 | R64: 4 | S64: 0 | T64: 0 | U64: 5 | V64: 3 | W64: 0 | X64: 0 | Y64: 0 | Z64: 3 | AA64: 0 | AB64: 0 | AC64: 1 | AD64: 1 | AE64: 1 | AF64: 0 | AG64: 0 | AH64: 0 | AI64: 0 | AJ64: 0 | AK64: 0 | AL64: 0 | AM64: 0 | AN64: 1
B65: 女 | C65: 5 | D65: 4 | E65: 0 | F65: 0 | G65: 0 | H65: 1 | I65: 0 | J65: 0 | K65: 0 | L65: 1 | M65: 0 | N65: 0 | O65: 0 | P65: 0 | Q65: 1 | R65: 0 | S65: 0 | T65: 0 | U65: 4 | V65: 4 | W65: 0 | X65: 0 | Y65: 0 | Z65: 0 | AA65: 0 | AB65: 0 | AC65: 0 | AD65: 0 | AE65: 0 | AF65: 0 | AG65: 0 | AH65: 0 | AI65: 0 | AJ65: 0 | AK65: 0 | AL65: 0 | AM65: 0 | AN65: 0
A66: 法院命緩刑及假釋付保護管束者完成加害人處遇計畫（兒童及少年福利與權益保障法第112條之1） | B66: 計 | C66: 12 | D66: 1 | E66: 0 | F66: 0 | G66: 7 | H66: 4 | I66: 1 | J66: 1 | K66: 1 | L66: 5 | M66: 0 | N66: 0 | O66: 0 | P66: 3 | Q66: 1 | R66: 1 | S66: 0 | T66: 1 | U66: 7 | V66: 1 | W66: 0 | X66: 0 | Y66: 4 | Z66: 3 | AA66: 0 | AB66: 1 | AC66: 0 | AD66: 0 | AE66: 0 | AF66: 0 | AG66: 0 | AH66: 0 | AI66: 0 | AJ66: 0 | AK66: 0 | AL66: 0 | AM66: 0 | AN66: 0
B67: 男 | C67: 11 | D67: 1 | E67: 0 | F67: 0 | G67: 7 | H67: 4 | I67: 1 | J67: 1 | K67: 0 | L67: 4 | M67: 0 | N67: 0 | O67: 0 | P67: 3 | Q67: 1 | R67: 1 | S67: 0 | T67: 0 | U67: 7 | V67: 1 | W67: 0 | X67: 0 | Y67: 4 | Z67: 3 | AA67: 0 | AB67: 1 | AC67: 0 | AD67: 0 | AE67: 0 | AF67: 0 | AG67: 0 | AH67: 0 | AI67: 0 | AJ67: 0 | AK67: 0 | AL67: 0 | AM67: 0 | AN67: 0
B68: 女 | C68: 1 | D68: 0 | E68: 0 | F68: 0 | G68: 0 | H68: 0 | I68: 0 | J68: 0 | K68: 1 | L68: 1 | M68: 0 | N68: 0 | O68: 0 | P68: 0 | Q68: 0 | R68: 0 | S68: 0 | T68: 1 | U68: 0 | V68: 0 | W68: 0 | X68: 0 | Y68: 0 | Z68: 0 | AA68: 0 | AB68: 0 | AC68: 0 | AD68: 0 | AE68: 0 | AF68: 0 | AG68: 0 | AH68: 0 | AI68: 0 | AJ68: 0 | AK68: 0 | AL68: 0 | AM68: 0 | AN68: 0
A70: 件數與罰鍰金額 | C70: 4.家庭暴力事件裁罰按裁罰事由統計
C71: 合計 | D71: 執行家庭暴力防治人員，在執行職務時知有疑似家庭暴力情事，未立即通報當地主管機關者（家庭暴力防治法第62條第1項） | J71: 醫療機構對於家庭暴力之被害人，無故拒絕診療及開立驗傷診斷書者（家庭暴力防治法第62條第2項） | N71: 無正當理由撥打24小時專線電話，致妨害公務執行，經勸阻不聽者（家庭暴力防治法第63條）
A72: 件數 | C72: 3 | D72: 2 | J72: 0 | N72: 1
A73: 罰鍰金額(新台幣元) | C73: 13500 | D73: 12000 | J73: 0 | N73: 1500

Sheet 112
A1: 5.1-03 推展家庭暴力防治業務
A2: 民國112年
A4: 被害人國籍身分 與性別 | C4: 1.家庭暴力被害人保護扶助人次（人次）
C5: 合計 | D5: 諮詢協談 | E5: 庇護安置 | G5: 陪同報案偵詢（訊） | H5: 陪同出庭 | I5: 驗傷診療 | J5: 聲請 保護令 | K5: 法律扶助 | L5: 經濟扶助 | M5: 心理諮商與輔導 | N5: 就業服務 | O5: 就學或轉學 服務 | P5: 轉介/提供目睹暴力服務 | Q5: 子女問題 協助 | R5: 通譯服務 | S5: 其他扶助
E6: 被害人 | F6: 隨行子女
A7: 合計 | B7: 計 | C7: 1900479 | D7: 1590609 | E7: 11361 | F7: 716 | G7: 955 | H7: 9072 | I7: 5501 | J7: 4939 | K7: 57533 | L7: 29630 | M7: 25609 | N7: 2368 | O7: 3003 | P7: 23995 | Q7: 12241 | R7: 122 | S7: 122825
B8: 男 | C8: 595576 | D8: 503288 | E8: 5425 | F8: 114 | G8: 213 | H8: 2015 | I8: 2420 | J8: 1204 | K8: 13330 | L8: 10669 | M8: 8693 | N8: 676 | O8: 1284 | P8: 4892 | Q8: 2624 | R8: 20 | S8: 38709
B9: 女 | C9: 1304903 | D9: 1087321 | E9: 5936 | F9: 602 | G9: 742 | H9: 7057 | I9: 3081 | J9: 3735 | K9: 44203 | L9: 18961 | M9: 16916 | N9: 1692 | O9: 1719 | P9: 19103 | Q9: 9617 | R9: 102 | S9: 84116
A10: 本國籍 非原住民 | B10: 男 | C10: 546939 | D10: 463112 | E10: 4997 | F10: 102 | G10: 193 | H10: 1829 | I10: 2146 | J10: 1109 | K10: 12577 | L10: 9750 | M10: 8032 | N10: 584 | O10: 1159 | P10: 4498 | Q10: 2455 | R10: 7 | S10: 34389
B11: 女 | C11: 1160539 | D11: 969892 | E11: 5384 | F11: 514 | G11: 630 | H11: 6125 | I11: 2820 | J11: 3266 | K11: 39340 | L11: 16911 | M11: 15783 | N11: 1404 | O11: 1544 | P11: 16978 | Q11: 8619 | R11: 48 | S11: 71281
A12: 本國籍 原住民 | B12: 男 | C12: 34608 | D12: 28303 | E12: 373 | F12: 6 | G12: 17 | H12: 120 | I12: 183 | J12: 77 | K12: 559 | L12: 770 | M12: 457 | N12: 75 | O12: 108 | P12: 218 | Q12: 97 | R12: 1 | S12: 3244
B13: 女 | C13: 85785 | D13: 68076 | E13: 425 | F13: 53 | G13: 75 | H13: 551 | I13: 192 | J13: 341 | K13: 2924 | L13: 1510 | M13: 655 | N13: 189 | O13: 145 | P13: 1260 | Q13: 437 | R13: 0 | S13: 8952
A14: 大陸籍 （含港澳） | B14: 男 | C14: 836 | D14: 612 | E14: 0 | F14: 2 | G14: 0 | H14: 0 | I14: 0 | J14: 1 | K14: 29 | L14: 15 | M14: 2 | N14: 1 | O14: 4 | P14: 0 | Q14: 11 | R14: 0 | S14: 159
B15: 女 | C15: 14223 | D15: 11338 | E15: 33 | F15: 16 | G15: 16 | H15: 92 | I15: 10 | J15: 40 | K15: 641 | L15: 180 | M15: 118 | N15: 26 | O15: 4 | P15: 304 | Q15: 175 | R15: 0 | S15: 1230
A16: 外國籍 | B16: 男 | C16: 2553 | D16: 2259 | E16: 28 | F16: 4 | G16: 0 | H16: 4 | I16: 0 | J16: 1 | K16: 56 | L16: 15 | M16: 1 | N16: 0 | O16: 0 | P16: 17 | Q16: 11 | R16: 11 | S16: 146
B17: 女 | C17: 22752 | D17: 19125 | E17: 79 | F17: 14 | G17: 14 | H17: 157 | I17: 32 | J17: 67 | K17: 824 | L17: 195 | M17: 124 | N17: 45 | O17: 4 | P17: 288 | Q17: 269 | R17: 54 | S17: 1461
A18: 其他 | B18: 男 | C18: 10640 | D18: 9002 | E18: 27 | F18: 0 | G18: 3 | H18: 62 | I18: 91 | J18: 16 | K18: 109 | L18: 119 | M18: 201 | N18: 16 | O18: 13 | P18: 159 | Q18: 50 | R18: 1 | S18: 771
B19: 女 | C19: 21604 | D19: 18890 | E19: 15 | F19: 5 | G19: 7 | H19: 132 | I19: 27 | J19: 21 | K19: 474 | L19: 165 | M19: 236 | N19: 28 | O19: 22 | P19: 273 | Q19: 117 | R19: 0 | S19: 1192
A21: 被害人國籍身分 | C21: 2.家庭暴力被害人保護扶助金額 (元)
C22: 合計 | D22: 緊急 生活扶助 | E22: 生活扶助 | F22: 急難救助 | G22: 租金補助 | H22: 醫療補助 | I22: 庇護安置補助 | J22: 心理治療、諮商與輔導費用 | K22: 律師費用 補助 | L22: 訴訟費用 補助 | M22: 子女生活 津貼/補助 | N22: 子女 教育補助 | O22: 兒童托育 費用/津貼 | P22: 民間慈善團體資助 | Q22: 其他補助
A23: 合計 | C23: 1216978847 | D23: 68920074 | E23: 304667909 | F23: 9527134 | G23: 21904824 | H23: 27061425 | I23: 558771701 | J23: 37438884 | K23: 9109338 | L23: 3344653 | M23: 116901688 | N23: 3271880 | O23: 13658683 | P23: 11576488 | Q23: 30824166
A24: 本國籍非原住民 | C24: 1130305227 | D24: 61634149 | E24: 282228379 | F24: 8632288 | G24: 19284933 | H24: 25358314 | I24: 528820331 | J24: 33593319 | K24: 8182037 | L24: 3201348 | M24: 107187398 | N24: 3099608 | O24: 12750660 | P24: 9119375 | Q24: 27213088
A25: 本國籍原住民 | C25: 50818447 | D25: 4103114 | E25: 10781558 | F25: 442109 | G25: 1125702 | H25: 847549 | I25: 22153291 | J25: 1213618 | K25: 495764 | L25: 37706 | M25: 4506995 | N25: 92918 | O25: 519367 | P25: 1718501 | Q25: 2780255
A26: 大陸籍（含港澳） | C26: 6833876 | D26: 620315 | E26: 783923 | F26: 39928 | G26: 346978 | H26: 61680 | I26: 1902751 | J26: 1852214 | K26: 125245 | L26: 4951 | M26: 289206 | N26: 76382 | O26: 12226 | P26: 407100 | Q26: 310977
A27: 外國籍 | C27: 5655512 | D27: 335331 | E27: 1092407 | F27: 39501 | G27: 344509 | H27: 102810 | I27: 2782084 | J27: 140276 | K27: 20657 | L27: 5431 | M27: 385613 | N27: 154 | O27: 33409 | P27: 156232 | Q27: 217098
A28: 其他 | C28: 23365785 | D28: 2227165 | E28: 9781642 | F28: 373308 | G28: 802702 | H28: 691072 | I28: 3113244 | J28: 639457 | K28: 285635 | L28: 95217 | M28: 4532476 | N28: 2818 | O28: 343021 | P28: 175280 | Q28: 302748
A30: 資料來源、 加害人性別 | C30: 3.家庭暴力加害人處遇
C31: 本期囑託鑑定、評估人數 (人) | D31: 本期完成囑託鑑定、評估人數 (人) | E31: 本期完成 主動評估人數（人） | F31: 本期法院裁定加害人處遇人數 (人) | G31: 本期法院逕裁加害人處遇人數 (人) | H31: 本期法院裁定加害人處遇計畫項目人次(複選)
H32: 合計 | I32: 精神治療 | J32: 戒癮治療 | L32: 心理輔導 | M32: 認知教育輔導 | O32: 其他輔導、治療
J33: 戒酒癮 | K33: 戒藥毒癮 | M33: 認知教育 | N33: 戒酒教育 | O33: 親職教育 | P33: 其他
A34: 法院裁定加害人處遇計畫者（家暴法第14條第1項第10款） | B34: 計 | C34: 3340 | D34: 2674 | E34: 740 | F34: 2988 | G34: 1175 | H34: 4398 | I34: 413 | J34: 266 | K34: 84 | L34: 333 | M34: 2468 | N34: 445 | O34: 352 | P34: 37
B35: 男 | C35: 2795 | D35: 2258 | E35: 636 | F35: 2530 | G35: 994 | H35: 3731 | I35: 303 | J35: 246 | K35: 78 | L35: 235 | M35: 2161 | N35: 421 | O35: 263 | P35: 24
B36: 女 | C36: 545 | D36: 416 | E36: 104 | F36: 458 | G36: 181 | H36: 667 | I36: 110 | J36: 20 | K36: 6 | L36: 98 | M36: 307 | N36: 24 | O36: 89 | P36: 13
A37: 犯家暴罪或違反保護令罪付保護管束者命完成加害人處遇計畫（家暴法第38條） | B37: 計 | C37: 3 | D37: 0 | E37: 0 | F37: 31 | G37: 19 | H37: 47 | I37: 2 | J37: 0 | K37: 1 | L37: 5 | M37: 19 | N37: 0 | O37: 19 | P37: 1
B38: 男 | C38: 3 | D38: 0 | E38: 0 | F38: 23 | G38: 14 | H38: 33 | I38: 1 | J38: 0 | K38: 0 | L38: 4 | M38: 17 | N38: 0 | O38: 10 | P38: 1
B39: 女 | C39: 0 | D39: 0 | E39: 0 | F39: 8 | G39: 5 | H39: 14 | I39: 1 | J39: 0 | K39: 1 | L39: 1 | M39: 2 | N39: 0 | O39: 9 | P39: 0
A40: 假釋出獄付保護管束者命完成加害人處遇計畫（家暴法第39條） | B40: 計 | C40: 18 | D40: 18 | E40: 0 | F40: 88 | G40: 50 | H40: 125 | I40: 5 | J40: 1 | K40: 0 | L40: 13 | M40: 96 | N40: 2 | O40: 8 | P40: 0
B41: 男 | C41: 15 | D41: 15 | E41: 0 | F41: 78 | G41: 45 | H41: 111 | I41: 4 | J41: 1 | K41: 0 | L41: 7 | M41: 93 | N41: 1 | O41: 5 | P41: 0
B42: 女 | C42: 3 | D42: 3 | E42: 0 | F42: 10 | G42: 5 | H42: 14 | I42: 1 | J42: 0 | K42: 0 | L42: 6 | M42: 3 | N42: 1 | O42: 3 | P42: 0
A43: 檢察官緩起訴處分命完成加害人處遇計畫 | B43: 計 | C43: 0 | D43: 0 | E43: 0 | H43: 10 | I43: 1 | J43: 0 | K43: 0 | L43: 1 | M43: 6 | N43: 2 | O43: 0 | P43: 0
B44: 男 | C44: 0 | D44: 0 | E44: 0 | H44: 10 | I44: 1 | J44: 0 | K44: 0 | L44: 1 | M44: 6 | N44: 2 | O44: 0 | P44: 0
B45: 女 | C45: 0 | D45: 0 | E45: 0 | H45: 0 | I45: 0 | J45: 0 | K45: 0 | L45: 0 | M45: 0 | N45: 0 | O45: 0 | P45: 0
A46: 法院命緩刑及假釋付保護管束者完成加害人處遇計畫（兒童及少年福利與權益保障法第112條之1） | B46: 計 | C46: 2 | D46: 2 | E46: 0 | F46: 9 | G46: 8 | H46: 14 | I46: 0 | J46: 0 | K46: 0 | L46: 3 | M46: 8 | N46: 0 | O46: 2 | P46: 1
B47: 男 | C47: 2 | D47: 2 | E47: 0 | F47: 7 | G47: 6 | H47: 11 | I47: 0 | J47: 0 | K47: 0 | L47: 2 | M47: 7 | N47: 0 | O47: 2 | P47: 0
B48: 女 | C48: 0 | D48: 0 | E48: 0 | F48: 2 | G48: 2 | H48: 3 | I48: 0 | J48: 0 | K48: 0 | L48: 1 | M48: 1 | N48: 0 | O48: 0 | P48: 1
A50: 資料來源、 加害人性別 | C50: 3.家庭暴力加害人處遇
C51: 本年截至本期累計應執行處遇人數（A） | D51: 本年截至本期累計應執行處遇者各處遇項目執行人次 | L51: 本年截至本期累計完成處遇人數 （B） | M51: 本年截至本期累計各處遇項目完成人次 | U51: 本年截至本期累計尚在執行處遇人數 （C） | V51: 本年截至本期累計尚在執行處遇者各處遇項目人次 | AD51: 本年截至本期累計顯已無法完成處遇者按原因別分(人數) | AM51: 本期顯已無法完成處遇者，已移送家防中心/警察局，尚未移送至地檢署人數 | AN51: 本年截至本期累計顯已無法完成處遇者，已移送地檢署人數
D52: 精神治療 | E52: 戒癮治療 | G52: 心理輔導 | H52: 認知教育輔導 | J52: 其他輔導、治療 | M52: 精神治療 | N52: 戒癮治療 | P52: 心理輔導 | Q52: 認知教育輔導 | S52: 其他輔導、治療 | V52: 精神治療 | W52: 戒癮治療 | Y52: 心理輔導 | Z52: 認知教育輔導 | AB52: 其他輔導、治療 | AD52: 合計 （D） | AE52: 個案拒報到 | AF52: 個案死亡 | AG52: 個案傷殘或住院 | AH52: 個案因案入監無法執行 | AI52: 送達證書個案拒領或無法送達 | AJ52: 戶籍移轉外縣市 | AK52: 被害人 撤銷或變更保護令 | AL52: 其他
E53: 戒酒癮 | F53: 戒藥毒癮 | H53: 認知教育 | I53: 戒酒教育 | J53: 親職教育 | K53: 其他 | N53: 戒酒癮 | O53: 戒藥毒癮 | Q53: 認知教育 | R53: 戒酒教育 | S53: 親職教育 | T53: 其他 | W53: 戒酒癮 | X53: 戒藥毒癮 | Z53: 認知教育 | AA53: 戒酒教育 | AB53: 親職教育 | AC53: 其他
A54: 法院裁定加害人處遇計畫者（家暴法第14條第1項第10款） | B54: 計 | C54: 5145 | D54: 821 | E54: 363 | F54: 103 | G54: 582 | H54: 3599 | I54: 763 | J54: 478 | K54: 42 | L54: 1976 | M54: 271 | N54: 89 | O54: 19 | P54: 205 | Q54: 1401 | R54: 279 | S54: 211 | T54: 26 | U54: 2219 | V54: 468 | W54: 186 | X54: 60 | Y54: 274 | Z54: 1536 | AA54: 272 | AB54: 208 | AC54: 13 | AD54: 950 | AE54: 524 | AF54: 44 | AG54: 4 | AH54: 43 | AI54: 24 | AJ54: 53 | AK54: 221 | AL54: 37 | AM54: 368 | AN54: 264
B55: 男 | C55: 4381 | D55: 620 | E55: 331 | F55: 99 | G55: 404 | H55: 3182 | I55: 731 | J55: 356 | K55: 33 | L55: 1690 | M55: 217 | N55: 82 | O55: 18 | P55: 156 | Q55: 1228 | R55: 267 | S55: 152 | T55: 21 | U55: 1869 | V55: 348 | W55: 170 | X55: 57 | Y55: 188 | Z55: 1349 | AA55: 266 | AB55: 158 | AC55: 9 | AD55: 822 | AE55: 455 | AF55: 41 | AG55: 4 | AH55: 41 | AI55: 23 | AJ55: 43 | AK55: 180 | AL55: 35 | AM55: 319 | AN55: 239
B56: 女 | C56: 764 | D56: 201 | E56: 32 | F56: 4 | G56: 178 | H56: 417 | I56: 32 | J56: 122 | K56: 9 | L56: 286 | M56: 54 | N56: 7 | O56: 1 | P56: 49 | Q56: 173 | R56: 12 | S56: 59 | T56: 5 | U56: 350 | V56: 120 | W56: 16 | X56: 3 | Y56: 86 | Z56: 187 | AA56: 6 | AB56: 50 | AC56: 4 | AD56: 128 | AE56: 69 | AF56: 3 | AG56: 0 | AH56: 2 | AI56: 1 | AJ56: 10 | AK56: 41 | AL56: 2 | AM56: 49 | AN56: 25
A57: 犯家暴罪或違反保護令罪付保護管束者命完成加害人處遇計畫（家暴法第38條） | B57: 計 | C57: 33 | D57: 3 | E57: 0 | F57: 2 | G57: 8 | H57: 19 | I57: 0 | J57: 20 | K57: 1 | L57: 8 | M57: 2 | N57: 0 | O57: 0 | P57: 0 | Q57: 5 | R57: 0 | S57: 3 | T57: 0 | U57: 24 | V57: 2 | W57: 0 | X57: 0 | Y57: 3 | Z57: 14 | AA57: 0 | AB57: 17 | AC57: 1 | AD57: 1 | AE57: 1 | AF57: 0 | AG57: 0 | AH57: 0 | AI57: 0 | AJ57: 0 | AK57: 0 | AL57: 0 | AM57: 0 | AN57: 1
B58: 男 | C58: 25 | D58: 2 | E58: 0 | F58: 0 | G58: 7 | H58: 17 | I58: 0 | J58: 11 | K58: 1 | L58: 7 | M58: 1 | N58: 0 | O58: 0 | P58: 0 | Q58: 5 | R58: 0 | S58: 1 | T58: 0 | U58: 18 | V58: 1 | W58: 0 | X58: 0 | Y58: 2 | Z58: 12 | AA58: 0 | AB58: 10 | AC58: 1 | AD58: 0 | AE58: 0 | AF58: 0 | AG58: 0 | AH58: 0 | AI58: 0 | AJ58: 0 | AK58: 0 | AL58: 0 | AM58: 0 | AN58: 0
B59: 女 | C59: 8 | D59: 1 | E59: 0 | F59: 2 | G59: 1 | H59: 2 | I59: 0 | J59: 9 | K59: 0 | L59: 1 | M59: 1 | N59: 0 | O59: 0 | P59: 0 | Q59: 0 | R59: 0 | S59: 2 | T59: 0 | U59: 6 | V59: 1 | W59: 0 | X59: 0 | Y59: 1 | Z59: 2 | AA59: 0 | AB59: 7 | AC59: 0 | AD59: 1 | AE59: 1 | AF59: 0 | AG59: 0 | AH59: 0 | AI59: 0 | AJ59: 0 | AK59: 0 | AL59: 0 | AM59: 0 | AN59: 1
A60: 假釋出獄付保護管束者命完成加害人處遇計畫（家暴法第39條） | B60: 計 | C60: 109 | D60: 5 | E60: 2 | F60: 0 | G60: 30 | H60: 106 | I60: 6 | J60: 9 | K60: 0 | L60: 53 | M60: 13 | N60: 1 | O60: 0 | P60: 9 | Q60: 44 | R60: 3 | S60: 6 | T60: 0 | U60: 51 | V60: 3 | W60: 1 | X60: 0 | Y60: 11 | Z60: 56 | AA60: 1 | AB60: 1 | AC60: 0 | AD60: 5 | AE60: 0 | AF60: 0 | AG60: 0 | AH60: 0 | AI60: 0 | AJ60: 4 | AK60: 0 | AL60: 1 | AM60: 1 | AN60: 0
B61: 男 | C61: 99 | D61: 3 | E61: 2 | F61: 0 | G61: 22 | H61: 102 | I61: 6 | J61: 7 | K61: 0 | L61: 48 | M61: 13 | N61: 1 | O61: 0 | P61: 7 | Q61: 41 | R61: 3 | S61: 5 | T61: 0 | U61: 46 | V61: 1 | W61: 1 | X61: 0 | Y61: 7 | Z61: 55 | AA61: 1 | AB61: 0 | AC61: 0 | AD61: 5 | AE61: 0 | AF61: 0 | AG61: 0 | AH61: 0 | AI61: 0 | AJ61: 4 | AK61: 0 | AL61: 1 | AM61: 1 | AN61: 0
B62: 女 | C62: 10 | D62: 2 | E62: 0 | F62: 0 | G62: 8 | H62: 4 | I62: 0 | J62: 2 | K62: 0 | L62: 5 | M62: 0 | N62: 0 | O62: 0 | P62: 2 | Q62: 3 | R62: 0 | S62: 1 | T62: 0 | U62: 5 | V62: 2 | W62: 0 | X62: 0 | Y62: 4 | Z62: 1 | AA62: 0 | AB62: 1 | AC62: 0 | AD62: 0 | AE62: 0 | AF62: 0 | AG62: 0 | AH62: 0 | AI62: 0 | AJ62: 0 | AK62: 0 | AL62: 0 | AM62: 0 | AN62: 0
A63: 檢察官緩起訴處分命完成加害人處遇計畫 | B63: 計 | C63: 17 | D63: 1 | E63: 0 | F63: 0 | G63: 4 | H63: 15 | I63: 3 | J63: 0 | K63: 2 | L63: 12 | M63: 3 | N63: 0 | O63: 0 | P63: 2 | Q63: 10 | R63: 0 | S63: 0 | T63: 2 | U63: 5 | V63: 0 | W63: 0 | X63: 0 | Y63: 0 | Z63: 5 | AA63: 3 | AB63: 0 | AC63: 0 | AD63: 0 | AE63: 0 | AF63: 0 | AG63: 0 | AH63: 0 | AI63: 0 | AJ63: 0 | AK63: 0 | AL63: 0 | AM63: 0 | AN63: 0
B64: 男 | C64: 16 | D64: 1 | E64: 0 | F64: 0 | G64: 2 | H64: 15 | I64: 3 | J64: 0 | K64: 1 | L64: 11 | M64: 1 | N64: 0 | O64: 0 | P64: 2 | Q64: 10 | R64: 0 | S64: 0 | T64: 1 | U64: 5 | V64: 0 | W64: 0 | X64: 0 | Y64: 0 | Z64: 5 | AA64: 3 | AB64: 0 | AC64: 0 | AD64: 0 | AE64: 0 | AF64: 0 | AG64: 0 | AH64: 0 | AI64: 0 | AJ64: 0 | AK64: 0 | AL64: 0 | AM64: 0 | AN64: 0
B65: 女 | C65: 1 | D65: 0 | E65: 0 | F65: 0 | G65: 2 | H65: 0 | I65: 0 | J65: 0 | K65: 1 | L65: 1 | M65: 2 | N65: 0 | O65: 0 | P65: 0 | Q65: 0 | R65: 0 | S65: 0 | T65: 1 | U65: 0 | V65: 0 | W65: 0 | X65: 0 | Y65: 0 | Z65: 0 | AA65: 0 | AB65: 0 | AC65: 0 | AD65: 0 | AE65: 0 | AF65: 0 | AG65: 0 | AH65: 0 | AI65: 0 | AJ65: 0 | AK65: 0 | AL65: 0 | AM65: 0 | AN65: 0
A66: 法院命緩刑及假釋付保護管束者完成加害人處遇計畫（兒童及少年福利與權益保障法第112條之1） | B66: 計 | C66: 18 | D66: 1 | E66: 1 | F66: 0 | G66: 5 | H66: 13 | I66: 1 | J66: 5 | K66: 3 | L66: 9 | M66: 0 | N66: 0 | O66: 0 | P66: 4 | Q66: 5 | R66: 0 | S66: 4 | T66: 2 | U66: 9 | V66: 1 | W66: 0 | X66: 0 | Y66: 1 | Z66: 8 | AA66: 1 | AB66: 1 | AC66: 1 | AD66: 0 | AE66: 0 | AF66: 0 | AG66: 0 | AH66: 0 | AI66: 0 | AJ66: 0 | AK66: 0 | AL66: 0 | AM66: 0 | AN66: 0
B67: 男 | C67: 12 | D67: 1 | E67: 1 | F67: 0 | G67: 4 | H67: 9 | I67: 1 | J67: 3 | K67: 1 | L67: 5 | M67: 0 | N67: 0 | O67: 0 | P67: 3 | Q67: 2 | R67: 0 | S67: 2 | T67: 1 | U67: 7 | V67: 1 | W67: 0 | X67: 0 | Y67: 1 | Z67: 7 | AA67: 1 | AB67: 1 | AC67: 0 | AD67: 0 | AE67: 0 | AF67: 0 | AG67: 0 | AH67: 0 | AI67: 0 | AJ67: 0 | AK67: 0 | AL67: 0 | AM67: 0 | AN67: 0
B68: 女 | C68: 6 | D68: 0 | E68: 0 | F68: 0 | G68: 1 | H68: 4 | I68: 0 | J68: 2 | K68: 2 | L68: 4 | M68: 0 | N68: 0 | O68: 0 | P68: 1 | Q68: 3 | R68: 0 | S68: 2 | T68: 1 | U68: 2 | V68: 0 | W68: 0 | X68: 0 | Y68: 0 | Z68: 1 | AA68: 0 | AB68: 0 | AC68: 1 | AD68: 0 | AE68: 0 | AF68: 0 | AG68: 0 | AH68: 0 | AI68: 0 | AJ68: 0 | AK68: 0 | AL68: 0 | AM68: 0 | AN68: 0
A70: 件數與罰鍰金額 | C70: 4.家庭暴力事件裁罰按裁罰事由統計
C71: 合計 | D71: 執行家庭暴力防治人員，在執行職務時知有疑似家庭暴力情事，未立即通報當地主管機關者（家庭暴力防治法第62條第1項） | J71: 醫療機構對於家庭暴力之被害人，無故拒絕診療及開立驗傷診斷書者（家庭暴力防治法第62條第2項） | N71: 無正當理由撥打24小時專線電話，致妨害公務執行，經勸阻不聽者（家庭暴力防治法第63條）
A72: 件數 | C72: 1 | D72: 0 | J72: 0 | N72: 1
A73: 罰鍰金額(新台幣元) | C73: 3000 | D73: 0 | J73: 0 | N73: 3000

Sheet 111
A1: 5.1-03 推展家庭暴力防治業務
A2: 民國111年
A4: 被害人國籍身分 與性別 | C4: 1.家庭暴力被害人保護扶助人次（人次）
C5: 合計 | D5: 諮詢協談 | E5: 庇護安置 | G5: 陪同報案偵詢（訊） | H5: 陪同出庭 | I5: 驗傷診療 | J5: 聲請 保護令 | K5: 法律扶助 | L5: 經濟扶助 | M5: 心理諮商與輔導 | N5: 就業服務 | O5: 就學或轉學 服務 | P5: 轉介/提供目睹暴力服務 | Q5: 子女問題 協助 | R5: 通譯服務 | S5: 其他扶助
E6: 被害人 | F6: 隨行子女
A7: 合計 | B7: 計 | C7: 1817387 | D7: 1503987 | E7: 7410 | F7: 600 | G7: 878 | H7: 9044 | I7: 5103 | J7: 4689 | K7: 70282 | L7: 30493 | M7: 21274 | N7: 2274 | O7: 3209 | P7: 24942 | Q7: 11117 | R7: 131 | S7: 121954
B8: 男 | C8: 550197 | D8: 464833 | E8: 3472 | F8: 70 | G8: 177 | H8: 2047 | I8: 2177 | J8: 1051 | K8: 15621 | L8: 10444 | M8: 6523 | N8: 501 | O8: 1339 | P8: 4787 | Q8: 2483 | R8: 14 | S8: 34658
B9: 女 | C9: 1267190 | D9: 1039154 | E9: 3938 | F9: 530 | G9: 701 | H9: 6997 | I9: 2926 | J9: 3638 | K9: 54661 | L9: 20049 | M9: 14751 | N9: 1773 | O9: 1870 | P9: 20155 | Q9: 8634 | R9: 117 | S9: 87296
A10: 本國籍 非原住民 | B10: 男 | C10: 502226 | D10: 425056 | E10: 3211 | F10: 68 | G10: 154 | H10: 1850 | I10: 2006 | J10: 981 | K10: 14597 | L10: 9544 | M10: 5999 | N10: 473 | O10: 1235 | P10: 4522 | Q10: 2299 | R10: 2 | S10: 30229
B11: 女 | C11: 1125301 | D11: 925539 | E11: 3466 | F11: 436 | G11: 588 | H11: 6004 | I11: 2673 | J11: 3089 | K11: 48538 | L11: 17995 | M11: 13605 | N11: 1516 | O11: 1697 | P11: 18291 | Q11: 7630 | R11: 35 | S11: 74199
A12: 本國籍 原住民 | B12: 男 | C12: 34250 | D12: 27824 | E12: 250 | F12: 2 | G12: 15 | H12: 144 | I12: 136 | J12: 58 | K12: 763 | L12: 833 | M12: 359 | N12: 20 | O12: 82 | P12: 103 | Q12: 93 | R12: 0 | S12: 3568
B13: 女 | C13: 83889 | D13: 64773 | E13: 357 | F13: 51 | G13: 80 | H13: 666 | I13: 184 | J13: 419 | K13: 3941 | L13: 1502 | M13: 620 | N13: 139 | O13: 140 | P13: 1178 | Q13: 491 | R13: 1 | S13: 9347
A14: 大陸籍 （含港澳） | B14: 男 | C14: 430 | D14: 325 | E14: 0 | F14: 0 | G14: 0 | H14: 2 | I14: 2 | J14: 0 | K14: 29 | L14: 4 | M14: 11 | N14: 0 | O14: 10 | P14: 0 | Q14: 6 | R14: 0 | S14: 41
B15: 女 | C15: 12891 | D15: 10682 | E15: 26 | F15: 10 | G15: 12 | H15: 92 | I15: 13 | J15: 29 | K15: 593 | L15: 160 | M15: 102 | N15: 36 | O15: 5 | P15: 159 | Q15: 157 | R15: 0 | S15: 815
A16: 外國籍 | B16: 男 | C16: 2493 | D16: 2078 | E16: 5 | F16: 0 | G16: 2 | H16: 5 | I16: 0 | J16: 6 | K16: 118 | L16: 11 | M16: 7 | N16: 2 | O16: 0 | P16: 34 | Q16: 22 | R16: 12 | S16: 191
B17: 女 | C17: 23043 | D17: 18909 | E17: 78 | F17: 33 | G17: 10 | H17: 176 | I17: 14 | J17: 85 | K17: 986 | L17: 298 | M17: 183 | N17: 48 | O17: 5 | P17: 302 | Q17: 236 | R17: 80 | S17: 1600
A18: 其他 | B18: 男 | C18: 10798 | D18: 9550 | E18: 6 | F18: 0 | G18: 6 | H18: 46 | I18: 33 | J18: 6 | K18: 114 | L18: 52 | M18: 147 | N18: 6 | O18: 12 | P18: 128 | Q18: 63 | R18: 0 | S18: 629
B19: 女 | C19: 22066 | D19: 19251 | E19: 11 | F19: 0 | G19: 11 | H19: 59 | I19: 42 | J19: 16 | K19: 603 | L19: 94 | M19: 241 | N19: 34 | O19: 23 | P19: 225 | Q19: 120 | R19: 1 | S19: 1335
A21: 被害人國籍身分 | C21: 2.家庭暴力被害人保護扶助金額 (元)
C22: 合計 | D22: 緊急 生活扶助 | E22: 生活扶助 | F22: 急難救助 | G22: 租金補助 | H22: 醫療補助 | I22: 庇護安置補助 | J22: 心理治療、諮商與輔導費用 | K22: 律師費用 補助 | L22: 訴訟費用 補助 | M22: 子女生活 津貼/補助 | N22: 子女 教育補助 | O22: 兒童托育 費用/津貼 | P22: 民間慈善團體資助 | Q22: 其他補助
A23: 合計 | C23: 990067155 | D23: 60635814 | E23: 223952090 | F23: 8176287 | G23: 23445573 | H23: 22837691 | I23: 423782850 | J23: 41591936 | K23: 8568567 | L23: 3683781 | M23: 118129768 | N23: 3175720 | O23: 13421820 | P23: 12837595 | Q23: 25827663
A24: 本國籍非原住民 | C24: 908054349 | D24: 56019851 | E24: 201384776 | F24: 7158981 | G24: 19993570 | H24: 20933715 | I24: 400959849 | J24: 38057570 | K24: 7729588 | L24: 3490707 | M24: 102941681 | N24: 3070716 | O24: 12066095 | P24: 10070224 | Q24: 24177026
A25: 本國籍原住民 | C25: 49292039 | D25: 3074320 | E25: 10681287 | F25: 545336 | G25: 1793942 | H25: 920139 | I25: 18049194 | J25: 1825710 | K25: 379293 | L25: 95449 | M25: 7420898 | N25: 66235 | O25: 890946 | P25: 2387143 | Q25: 1162147
A26: 大陸籍（含港澳） | C26: 2115529 | D26: 251937 | E26: 590003 | F26: 5000 | G26: 157020 | H26: 15258 | I26: 563687 | J26: 163456 | K26: 16000 | L26: 6000 | M26: 151456 | N26: 16812 | O26: 0 | P26: 133170 | Q26: 45730
A27: 外國籍 | C27: 6562358 | D27: 322134 | E27: 1326303 | F27: 53000 | G27: 265586 | H27: 134259 | I27: 2459890 | J27: 248477 | K27: 156238 | L27: 19487 | M27: 933474 | N27: 118 | O27: 83561 | P27: 209014 | Q27: 350817
A28: 其他 | C28: 24042880 | D28: 967572 | E28: 9969721 | F28: 413970 | G28: 1235455 | H28: 834320 | I28: 1750230 | J28: 1296723 | K28: 287448 | L28: 72138 | M28: 6682259 | N28: 21839 | O28: 381218 | P28: 38044 | Q28: 91943
A30: 資料來源、 加害人性別 | C30: 3.家庭暴力加害人處遇
C31: 本期囑託鑑定、評估人數 (人) | D31: 本期完成囑託鑑定、評估人數 (人) | E31: 本期完成 主動評估人數（人） | F31: 本期法院裁定加害人處遇人數 (人) | G31: 本期法院逕裁加害人處遇人數 (人) | H31: 本期法院裁定加害人處遇計畫項目人次(複選)
H32: 合計 | I32: 精神治療 | J32: 戒癮治療 | L32: 心理輔導 | M32: 認知教育輔導 | O32: 其他輔導、治療
J33: 戒酒癮 | K33: 戒藥毒癮 | M33: 認知教育 | N33: 戒酒教育 | O33: 親職教育 | P33: 其他
A34: 法院裁定加害人處遇計畫者（家暴法第14條第1項第10款） | B34: 計 | C34: 3349 | D34: 2948 | E34: 880 | F34: 3309 | G34: 1382 | H34: 4509 | I34: 460 | J34: 195 | K34: 58 | L34: 270 | M34: 2483 | N34: 531 | O34: 285 | P34: 227
B35: 男 | C35: 2858 | D35: 2515 | E35: 753 | F35: 2856 | G35: 1176 | H35: 3903 | I35: 356 | J35: 181 | K35: 57 | L35: 199 | M35: 2201 | N35: 505 | O35: 206 | P35: 198
B36: 女 | C36: 491 | D36: 433 | E36: 127 | F36: 453 | G36: 206 | H36: 606 | I36: 104 | J36: 14 | K36: 1 | L36: 71 | M36: 282 | N36: 26 | O36: 79 | P36: 29
A37: 犯家暴罪或違反保護令罪付保護管束者命完成加害人處遇計畫（家暴法第38條） | B37: 計 | C37: 0 | D37: 0 | E37: 0 | F37: 19 | G37: 17 | H37: 22 | I37: 0 | J37: 0 | K37: 0 | L37: 0 | M37: 19 | N37: 0 | O37: 3 | P37: 0
B38: 男 | C38: 0 | D38: 0 | E38: 0 | F38: 19 | G38: 17 | H38: 22 | I38: 0 | J38: 0 | K38: 0 | L38: 0 | M38: 19 | N38: 0 | O38: 3 | P38: 0
B39: 女 | C39: 0 | D39: 0 | E39: 0 | F39: 0 | G39: 0 | H39: 0 | I39: 0 | J39: 0 | K39: 0 | L39: 0 | M39: 0 | N39: 0 | O39: 0 | P39: 0
A40: 假釋出獄付保護管束者命完成加害人處遇計畫（家暴法第39條） | B40: 計 | C40: 4 | D40: 4 | E40: 0 | F40: 47 | G40: 26 | H40: 68 | I40: 2 | J40: 1 | K40: 0 | L40: 8 | M40: 50 | N40: 4 | O40: 3 | P40: 0
B41: 男 | C41: 4 | D41: 3 | E41: 0 | F41: 40 | G41: 23 | H41: 56 | I41: 1 | J41: 1 | K41: 0 | L41: 6 | M41: 42 | N41: 3 | O41: 3 | P41: 0
B42: 女 | C42: 0 | D42: 1 | E42: 0 | F42: 7 | G42: 3 | H42: 12 | I42: 1 | J42: 0 | K42: 0 | L42: 2 | M42: 8 | N42: 1 | O42: 0 | P42: 0
A43: 檢察官緩起訴處分命完成加害人處遇計畫 | B43: 計 | C43: 4 | D43: 4 | E43: 0 | H43: 28 | I43: 1 | J43: 0 | K43: 0 | L43: 2 | M43: 16 | N43: 3 | O43: 4 | P43: 2
B44: 男 | C44: 4 | D44: 4 | E44: 0 | H44: 26 | I44: 0 | J44: 0 | K44: 0 | L44: 2 | M44: 16 | N44: 3 | O44: 4 | P44: 1
B45: 女 | C45: 0 | D45: 0 | E45: 0 | H45: 2 | I45: 1 | J45: 0 | K45: 0 | L45: 0 | M45: 0 | N45: 0 | O45: 0 | P45: 1
A46: 法院命緩刑及假釋付保護管束者完成加害人處遇計畫（兒童及少年福利與權益保障法第112條之1） | B46: 計 | C46: 1 | D46: 1 | E46: 0 | F46: 8 | G46: 6 | H46: 12 | I46: 0 | J46: 0 | K46: 0 | L46: 4 | M46: 5 | N46: 1 | O46: 2 | P46: 0
B47: 男 | C47: 1 | D47: 1 | E47: 0 | F47: 4 | G47: 3 | H47: 7 | I47: 0 | J47: 0 | K47: 0 | L47: 2 | M47: 3 | N47: 1 | O47: 1 | P47: 0
B48: 女 | C48: 0 | D48: 0 | E48: 0 | F48: 4 | G48: 3 | H48: 5 | I48: 0 | J48: 0 | K48: 0 | L48: 2 | M48: 2 | N48: 0 | O48: 1 | P48: 0
A50: 資料來源、 加害人性別 | C50: 3.家庭暴力加害人處遇
C51: 本年截至本期累計應執行處遇人數（A） | D51: 本年截至本期累計應執行處遇者各處遇項目執行人次 | L51: 本年截至本期累計完成處遇人數 （B） | M51: 本年截至本期累計各處遇項目完成人次 | U51: 本年截至本期累計尚在執行處遇人數 （C） | V51: 本年截至本期累計尚在執行處遇者各處遇項目人次 | AD51: 本年截至本期累計顯已無法完成處遇者按原因別分(人數) | AM51: 本期顯已無法完成處遇者，已移送家防中心/警察局，尚未移送至地檢署人數 | AN51: 本年截至本期累計顯已無法完成處遇者，已移送地檢署人數
D52: 精神治療 | E52: 戒癮治療 | G52: 心理輔導 | H52: 認知教育輔導 | J52: 其他輔導、治療 | M52: 精神治療 | N52: 戒癮治療 | P52: 心理輔導 | Q52: 認知教育輔導 | S52: 其他輔導、治療 | V52: 精神治療 | W52: 戒癮治療 | Y52: 心理輔導 | Z52: 認知教育輔導 | AB52: 其他輔導、治療 | AD52: 合計 （D） | AE52: 個案拒報到 | AF52: 個案死亡 | AG52: 個案傷殘或住院 | AH52: 個案因案入監無法執行 | AI52: 送達證書個案拒領或無法送達 | AJ52: 戶籍移轉外縣市 | AK52: 被害人 撤銷或變更保護令 | AL52: 其他
E53: 戒酒癮 | F53: 戒藥毒癮 | H53: 認知教育 | I53: 戒酒教育 | J53: 親職教育 | K53: 其他 | N53: 戒酒癮 | O53: 戒藥毒癮 | Q53: 認知教育 | R53: 戒酒教育 | S53: 親職教育 | T53: 其他 | W53: 戒酒癮 | X53: 戒藥毒癮 | Z53: 認知教育 | AA53: 戒酒教育 | AB53: 親職教育 | AC53: 其他
A54: 法院裁定加害人處遇計畫者（家暴法第14條第1項第10款） | B54: 計 | C54: 5581 | D54: 907 | E54: 354 | F54: 121 | G54: 544 | H54: 3889 | I54: 913 | J54: 479 | K54: 227 | L54: 2293 | M54: 242 | N54: 106 | O54: 20 | P54: 244 | Q54: 1496 | R54: 334 | S54: 221 | T54: 168 | U54: 2367 | V54: 505 | W54: 175 | X54: 60 | Y54: 233 | Z54: 1689 | AA54: 411 | AB54: 193 | AC54: 10 | AD54: 921 | AE54: 522 | AF54: 46 | AG54: 5 | AH54: 33 | AI54: 47 | AJ54: 67 | AK54: 191 | AL54: 10 | AM54: 212 | AN54: 405
B55: 男 | C55: 4836 | D55: 689 | E55: 328 | F55: 114 | G55: 398 | H55: 3449 | I55: 872 | J55: 361 | K55: 194 | L55: 1960 | M55: 172 | N55: 98 | O55: 18 | P55: 176 | Q55: 1321 | R55: 318 | S55: 169 | T55: 145 | U55: 2054 | V55: 394 | W55: 162 | X55: 57 | Y55: 175 | Z55: 1514 | AA55: 392 | AB55: 142 | AC55: 7 | AD55: 822 | AE55: 470 | AF55: 42 | AG55: 5 | AH55: 32 | AI55: 42 | AJ55: 54 | AK55: 169 | AL55: 8 | AM55: 191 | AN55: 366
B56: 女 | C56: 745 | D56: 218 | E56: 26 | F56: 7 | G56: 146 | H56: 440 | I56: 41 | J56: 118 | K56: 33 | L56: 333 | M56: 70 | N56: 8 | O56: 2 | P56: 68 | Q56: 175 | R56: 16 | S56: 52 | T56: 23 | U56: 313 | V56: 111 | W56: 13 | X56: 3 | Y56: 58 | Z56: 175 | AA56: 19 | AB56: 51 | AC56: 3 | AD56: 99 | AE56: 52 | AF56: 4 | AG56: 0 | AH56: 1 | AI56: 5 | AJ56: 13 | AK56: 22 | AL56: 2 | AM56: 21 | AN56: 39
A57: 犯家暴罪或違反保護令罪付保護管束者命完成加害人處遇計畫（家暴法第38條） | B57: 計 | C57: 42 | D57: 2 | E57: 1 | F57: 0 | G57: 2 | H57: 27 | I57: 1 | J57: 21 | K57: 0 | L57: 23 | M57: 0 | N57: 1 | O57: 0 | P57: 2 | Q57: 18 | R57: 0 | S57: 8 | T57: 0 | U57: 11 | V57: 0 | W57: 0 | X57: 0 | Y57: 0 | Z57: 6 | AA57: 1 | AB57: 6 | AC57: 0 | AD57: 8 | AE57: 8 | AF57: 0 | AG57: 0 | AH57: 0 | AI57: 0 | AJ57: 0 | AK57: 0 | AL57: 0 | AM57: 6 | AN57: 2
B58: 男 | C58: 37 | D58: 2 | E58: 1 | F58: 0 | G58: 2 | H58: 23 | I58: 1 | J58: 15 | K58: 0 | L58: 20 | M58: 0 | N58: 1 | O58: 0 | P58: 2 | Q58: 16 | R58: 0 | S58: 4 | T58: 0 | U58: 10 | V58: 0 | W58: 0 | X58: 0 | Y58: 0 | Z58: 6 | AA58: 1 | AB58: 4 | AC58: 0 | AD58: 7 | AE58: 7 | AF58: 0 | AG58: 0 | AH58: 0 | AI58: 0 | AJ58: 0 | AK58: 0 | AL58: 0 | AM58: 6 | AN58: 1
B59: 女 | C59: 5 | D59: 0 | E59: 0 | F59: 0 | G59: 0 | H59: 4 | I59: 0 | J59: 6 | K59: 0 | L59: 3 | M59: 0 | N59: 0 | O59: 0 | P59: 0 | Q59: 2 | R59: 0 | S59: 4 | T59: 0 | U59: 1 | V59: 0 | W59: 0 | X59: 0 | Y59: 0 | Z59: 0 | AA59: 0 | AB59: 2 | AC59: 0 | AD59: 1 | AE59: 1 | AF59: 0 | AG59: 0 | AH59: 0 | AI59: 0 | AJ59: 0 | AK59: 0 | AL59: 0 | AM59: 0 | AN59: 1
A60: 假釋出獄付保護管束者命完成加害人處遇計畫（家暴法第39條） | B60: 計 | C60: 105 | D60: 9 | E60: 0 | F60: 1 | G60: 17 | H60: 110 | I60: 5 | J60: 10 | K60: 0 | L60: 71 | M60: 6 | N60: 0 | O60: 1 | P60: 10 | Q60: 75 | R60: 0 | S60: 7 | T60: 0 | U60: 29 | V60: 2 | W60: 0 | X60: 0 | Y60: 5 | Z60: 29 | AA60: 3 | AB60: 3 | AC60: 0 | AD60: 5 | AE60: 2 | AF60: 0 | AG60: 0 | AH60: 0 | AI60: 0 | AJ60: 2 | AK60: 0 | AL60: 1 | AM60: 0 | AN60: 3
B61: 男 | C61: 85 | D61: 6 | E61: 0 | F61: 0 | G61: 13 | H61: 91 | I61: 3 | J61: 9 | K61: 0 | L61: 55 | M61: 4 | N61: 0 | O61: 0 | P61: 7 | Q61: 60 | R61: 0 | S61: 6 | T61: 0 | U61: 26 | V61: 2 | W61: 0 | X61: 0 | Y61: 5 | Z61: 25 | AA61: 3 | AB61: 3 | AC61: 0 | AD61: 4 | AE61: 2 | AF61: 0 | AG61: 0 | AH61: 0 | AI61: 0 | AJ61: 1 | AK61: 0 | AL61: 1 | AM61: 0 | AN61: 3
B62: 女 | C62: 20 | D62: 3 | E62: 0 | F62: 1 | G62: 4 | H62: 19 | I62: 2 | J62: 1 | K62: 0 | L62: 16 | M62: 2 | N62: 0 | O62: 1 | P62: 3 | Q62: 15 | R62: 0 | S62: 1 | T62: 0 | U62: 3 | V62: 0 | W62: 0 | X62: 0 | Y62: 0 | Z62: 4 | AA62: 0 | AB62: 0 | AC62: 0 | AD62: 1 | AE62: 0 | AF62: 0 | AG62: 0 | AH62: 0 | AI62: 0 | AJ62: 1 | AK62: 0 | AL62: 0 | AM62: 0 | AN62: 0
A63: 檢察官緩起訴處分命完成加害人處遇計畫 | B63: 計 | C63: 25 | D63: 2 | E63: 0 | F63: 0 | G63: 4 | H63: 20 | I63: 3 | J63: 2 | K63: 3 | L63: 11 | M63: 2 | N63: 0 | O63: 0 | P63: 1 | Q63: 8 | R63: 2 | S63: 2 | T63: 0 | U63: 10 | V63: 0 | W63: 0 | X63: 0 | Y63: 2 | Z63: 8 | AA63: 0 | AB63: 0 | AC63: 2 | AD63: 4 | AE63: 3 | AF63: 0 | AG63: 0 | AH63: 0 | AI63: 0 | AJ63: 0 | AK63: 1 | AL63: 0 | AM63: 0 | AN63: 3
B64: 男 | C64: 22 | D64: 0 | E64: 0 | F64: 0 | G64: 3 | H64: 19 | I64: 3 | J64: 2 | K64: 1 | L64: 9 | M64: 0 | N64: 0 | O64: 0 | P64: 0 | Q64: 7 | R64: 2 | S64: 2 | T64: 0 | U64: 9 | V64: 0 | W64: 0 | X64: 0 | Y64: 2 | Z64: 8 | AA64: 0 | AB64: 0 | AC64: 1 | AD64: 4 | AE64: 3 | AF64: 0 | AG64: 0 | AH64: 0 | AI64: 0 | AJ64: 0 | AK64: 1 | AL64: 0 | AM64: 0 | AN64: 3
B65: 女 | C65: 3 | D65: 2 | E65: 0 | F65: 0 | G65: 1 | H65: 1 | I65: 0 | J65: 0 | K65: 2 | L65: 2 | M65: 2 | N65: 0 | O65: 0 | P65: 1 | Q65: 1 | R65: 0 | S65: 0 | T65: 0 | U65: 1 | V65: 0 | W65: 0 | X65: 0 | Y65: 0 | Z65: 0 | AA65: 0 | AB65: 0 | AC65: 1 | AD65: 0 | AE65: 0 | AF65: 0 | AG65: 0 | AH65: 0 | AI65: 0 | AJ65: 0 | AK65: 0 | AL65: 0 | AM65: 0 | AN65: 0
A66: 法院命緩刑及假釋付保護管束者完成加害人處遇計畫（兒童及少年福利與權益保障法第112條之1） | B66: 計 | C66: 17 | D66: 1 | E66: 0 | F66: 0 | G66: 9 | H66: 7 | I66: 1 | J66: 4 | K66: 0 | L66: 10 | M66: 1 | N66: 0 | O66: 0 | P66: 3 | Q66: 6 | R66: 0 | S66: 2 | T66: 0 | U66: 7 | V66: 0 | W66: 0 | X66: 0 | Y66: 4 | Z66: 1 | AA66: 1 | AB66: 2 | AC66: 0 | AD66: 0 | AE66: 0 | AF66: 0 | AG66: 0 | AH66: 0 | AI66: 0 | AJ66: 0 | AK66: 0 | AL66: 0 | AM66: 0 | AN66: 0
B67: 男 | C67: 11 | D67: 1 | E67: 0 | F67: 0 | G67: 5 | H67: 5 | I67: 1 | J67: 1 | K67: 0 | L67: 7 | M67: 1 | N67: 0 | O67: 0 | P67: 2 | Q67: 5 | R67: 0 | S67: 1 | T67: 0 | U67: 4 | V67: 0 | W67: 0 | X67: 0 | Y67: 3 | Z67: 0 | AA67: 1 | AB67: 0 | AC67: 0 | AD67: 0 | AE67: 0 | AF67: 0 | AG67: 0 | AH67: 0 | AI67: 0 | AJ67: 0 | AK67: 0 | AL67: 0 | AM67: 0 | AN67: 0
B68: 女 | C68: 6 | D68: 0 | E68: 0 | F68: 0 | G68: 4 | H68: 2 | I68: 0 | J68: 3 | K68: 0 | L68: 3 | M68: 0 | N68: 0 | O68: 0 | P68: 1 | Q68: 1 | R68: 0 | S68: 1 | T68: 0 | U68: 3 | V68: 0 | W68: 0 | X68: 0 | Y68: 1 | Z68: 1 | AA68: 0 | AB68: 2 | AC68: 0 | AD68: 0 | AE68: 0 | AF68: 0 | AG68: 0 | AH68: 0 | AI68: 0 | AJ68: 0 | AK68: 0 | AL68: 0 | AM68: 0 | AN68: 0
A70: 件數與罰鍰金額 | C70: 4.家庭暴力事件裁罰按裁罰事由統計
C71: 合計 | D71: 執行家庭暴力防治人員，在執行職務時知有疑似家庭暴力情事，未立即通報當地主管機關者（家庭暴力防治法第62條第1項） | J71: 醫療機構對於家庭暴力之被害人，無故拒絕診療及開立驗傷診斷書者（家庭暴力防治法第62條第2項） | N71: 無正當理由撥打24小時專線電話，致妨害公務執行，經勸阻不聽者（家庭暴力防治法第63條）
A72: 件數 | C72: 4 | D72: 4 | J72: 0 | N72: 0
A73: 罰鍰金額(新台幣元) | C73: 57000 | D73: 57000 | J73: 0 | N73: 0

Sheet 110
A1: 5.1-03 推展家庭暴力防治業務
A2: 民國110年
A4: 被害人國籍身分 與性別 | C4: 1.家庭暴力被害人保護扶助人次（人次）
C5: 合計 | D5: 諮詢協談 | E5: 庇護安置 | G5: 陪同報案偵詢（訊） | H5: 陪同出庭 | I5: 驗傷診療 | J5: 聲請 保護令 | K5: 法律扶助 | L5: 經濟扶助 | M5: 心理諮商與輔導 | N5: 就業服務 | O5: 就學或轉學 服務 | P5: 轉介/提供目睹暴力服務 | Q5: 子女問題 協助 | R5: 通譯服務 | S5: 其他扶助
E6: 被害人 | F6: 隨行子女
A7: 合計 | B7: 計 | C7: 1754639 | D7: 1473852 | E7: 5991 | F7: 630 | G7: 825 | H7: 8074 | I7: 4759 | J7: 4090 | K7: 62392 | L7: 28760 | M7: 18764 | N7: 2202 | O7: 2837 | P7: 23947 | Q7: 11012 | R7: 178 | S7: 106326
B8: 男 | C8: 526965 | D8: 450347 | E8: 2551 | F8: 109 | G8: 174 | H8: 1781 | I8: 1999 | J8: 856 | K8: 14289 | L8: 9741 | M8: 5614 | N8: 585 | O8: 1340 | P8: 2690 | Q8: 2584 | R8: 38 | S8: 32267
B9: 女 | C9: 1227674 | D9: 1023505 | E9: 3440 | F9: 521 | G9: 651 | H9: 6293 | I9: 2760 | J9: 3234 | K9: 48103 | L9: 19019 | M9: 13150 | N9: 1617 | O9: 1497 | P9: 21257 | Q9: 8428 | R9: 140 | S9: 74059
A10: 本國籍 非原住民 | B10: 男 | C10: 476553 | D10: 408269 | E10: 2248 | F10: 107 | G10: 153 | H10: 1554 | I10: 1781 | J10: 771 | K10: 13254 | L10: 8726 | M10: 5116 | N10: 532 | O10: 1230 | P10: 2370 | Q10: 2414 | R10: 17 | S10: 28011
B11: 女 | C11: 1085440 | D11: 904888 | E11: 2937 | F11: 427 | G11: 541 | H11: 5389 | I11: 2548 | J11: 2778 | K11: 43506 | L11: 16914 | M11: 12127 | N11: 1388 | O11: 1354 | P11: 19430 | Q11: 7325 | R11: 36 | S11: 63852
A12: 本國籍 原住民 | B12: 男 | C12: 35550 | D12: 29055 | E12: 285 | F12: 0 | G12: 18 | H12: 165 | I12: 182 | J12: 76 | K12: 669 | L12: 972 | M12: 400 | N12: 22 | O12: 102 | P12: 202 | Q12: 93 | R12: 2 | S12: 3307
B13: 女 | C13: 78520 | D13: 63885 | E13: 332 | F13: 48 | G13: 65 | H13: 564 | I13: 123 | J13: 305 | K13: 2460 | L13: 1494 | M13: 474 | N13: 99 | O13: 110 | P13: 1225 | Q13: 486 | R13: 0 | S13: 6850
A14: 大陸籍 （含港澳） | B14: 男 | C14: 531 | D14: 474 | E14: 2 | F14: 0 | G14: 0 | H14: 1 | I14: 4 | J14: 3 | K14: 11 | L14: 1 | M14: 0 | N14: 0 | O14: 0 | P14: 1 | Q14: 0 | R14: 0 | S14: 34
B15: 女 | C15: 15957 | D15: 13395 | E15: 32 | F15: 15 | G15: 26 | H15: 100 | I15: 27 | J15: 56 | K15: 658 | L15: 210 | M15: 129 | N15: 40 | O15: 4 | P15: 246 | Q15: 203 | R15: 0 | S15: 816
A16: 外國籍 | B16: 男 | C16: 2921 | D16: 2347 | E16: 3 | F16: 2 | G16: 0 | H16: 6 | I16: 3 | J16: 0 | K16: 202 | L16: 12 | M16: 15 | N16: 1 | O16: 1 | P16: 12 | Q16: 16 | R16: 18 | S16: 283
B17: 女 | C17: 25593 | D17: 21647 | E17: 92 | F17: 31 | G17: 7 | H17: 174 | I17: 24 | J17: 74 | K17: 997 | L17: 298 | M17: 201 | N17: 74 | O17: 4 | P17: 135 | Q17: 286 | R17: 103 | S17: 1446
A18: 其他 | B18: 男 | C18: 11410 | D18: 10202 | E18: 13 | F18: 0 | G18: 3 | H18: 55 | I18: 29 | J18: 6 | K18: 153 | L18: 30 | M18: 83 | N18: 30 | O18: 7 | P18: 105 | Q18: 61 | R18: 1 | S18: 632
B19: 女 | C19: 22164 | D19: 19690 | E19: 47 | F19: 0 | G19: 12 | H19: 66 | I19: 38 | J19: 21 | K19: 482 | L19: 103 | M19: 219 | N19: 16 | O19: 25 | P19: 221 | Q19: 128 | R19: 1 | S19: 1095
A21: 被害人國籍身分 | C21: 2.家庭暴力被害人保護扶助金額 (元)
C22: 合計 | D22: 緊急 生活扶助 | E22: 生活扶助 | F22: 急難救助 | G22: 租金補助 | H22: 醫療補助 | I22: 庇護安置補助 | J22: 心理治療、諮商與輔導費用 | K22: 律師費用 補助 | L22: 訴訟費用 補助 | M22: 子女生活 津貼/補助 | N22: 子女 教育補助 | O22: 兒童托育 費用/津貼 | P22: 民間慈善團體資助 | Q22: 其他補助
A23: 合計 | C23: 1069298467 | D23: 61823666 | E23: 237399171 | F23: 11340727 | G23: 26747173 | H23: 26906893 | I23: 484613634 | J23: 26171148 | K23: 8605795 | L23: 4541255 | M23: 120250765 | N23: 4027449 | O23: 12395360 | P23: 14330340 | Q23: 30145091
A24: 本國籍非原住民 | C24: 984031867 | D24: 55681151 | E24: 218082611 | F24: 9917370 | G24: 23851979 | H24: 25385620 | I24: 454671989 | J24: 22686497 | K24: 7993361 | L24: 4121338 | M24: 107649791 | N24: 3932930 | O24: 11619323 | P24: 10697523 | Q24: 27740384
A25: 本國籍原住民 | C25: 50006180 | D25: 3271917 | E25: 9494825 | F25: 752482 | G25: 1408578 | H25: 652117 | I25: 20512808 | J25: 2312068 | K25: 255932 | L25: 217978 | M25: 6444434 | N25: 51458 | O25: 509581 | P25: 3156839 | Q25: 965163
A26: 大陸籍（含港澳） | C26: 6117222 | D26: 957008 | E26: 1157675 | F26: 241965 | G26: 232430 | H26: 107261 | I26: 1755192 | J26: 154039 | K26: 93672 | L26: 16130 | M26: 699181 | N26: 139 | O26: 22196 | P26: 144678 | Q26: 535656
A27: 外國籍 | C27: 8955374 | D27: 930509 | E27: 1488764 | F27: 193072 | G27: 340545 | H27: 158930 | I27: 3466441 | J27: 296365 | K27: 74104 | L27: 126617 | M27: 1016747 | N27: 374 | O27: 56466 | P27: 186054 | Q27: 620386
A28: 其他 | C28: 20187824 | D28: 983081 | E28: 7175296 | F28: 235838 | G28: 913641 | H28: 602965 | I28: 4207204 | J28: 722179 | K28: 188726 | L28: 59192 | M28: 4440612 | N28: 42548 | O28: 187794 | P28: 145246 | Q28: 283502
A30: 資料來源、 加害人性別 | C30: 3.家庭暴力加害人處遇
C31: 本期囑託鑑定、評估人數 (人) | D31: 本期完成囑託鑑定、評估人數 (人) | E31: 本期完成 主動評估人數（人） | F31: 本期法院裁定加害人處遇人數 (人) | G31: 本期法院逕裁加害人處遇人數 (人) | H31: 本期法院裁定加害人處遇計畫項目人次(複選)
H32: 合計 | I32: 精神治療 | J32: 戒癮治療 | L32: 心理輔導 | M32: 認知教育輔導 | O32: 其他輔導、治療
J33: 戒酒癮 | K33: 戒藥毒癮 | M33: 認知教育 | N33: 戒酒教育 | O33: 親職教育 | P33: 其他
A34: 法院裁定加害人處遇計畫者（家暴法第14條第1項第10款） | B34: 計 | C34: 3645 | D34: 3354 | E34: 687 | F34: 2844 | G34: 1084 | H34: 4275 | I34: 491 | J34: 166 | K34: 73 | L34: 314 | M34: 2297 | N34: 489 | O34: 273 | P34: 172
B35: 男 | C35: 3109 | D35: 2882 | E35: 600 | F35: 2498 | G35: 943 | H35: 3763 | I35: 372 | J35: 159 | K35: 69 | L35: 231 | M35: 2082 | N35: 475 | O35: 216 | P35: 159
B36: 女 | C36: 536 | D36: 472 | E36: 87 | F36: 346 | G36: 141 | H36: 512 | I36: 119 | J36: 7 | K36: 4 | L36: 83 | M36: 215 | N36: 14 | O36: 57 | P36: 13
A37: 犯家暴罪或違反保護令罪付保護管束者命完成加害人處遇計畫（家暴法第38條） | B37: 計 | C37: 3 | D37: 3 | E37: 0 | F37: 33 | G37: 19 | H37: 60 | I37: 1 | J37: 1 | K37: 0 | L37: 3 | M37: 41 | N37: 2 | O37: 12 | P37: 0
B38: 男 | C38: 3 | D38: 3 | E38: 0 | F38: 28 | G38: 16 | H38: 47 | I38: 1 | J38: 1 | K38: 0 | L38: 3 | M38: 33 | N38: 2 | O38: 7 | P38: 0
B39: 女 | C39: 0 | D39: 0 | E39: 0 | F39: 5 | G39: 3 | H39: 13 | I39: 0 | J39: 0 | K39: 0 | L39: 0 | M39: 8 | N39: 0 | O39: 5 | P39: 0
A40: 假釋出獄付保護管束者命完成加害人處遇計畫（家暴法第39條） | B40: 計 | C40: 15 | D40: 15 | E40: 1 | F40: 75 | G40: 19 | H40: 140 | I40: 6 | J40: 1 | K40: 0 | L40: 12 | M40: 109 | N40: 1 | O40: 11 | P40: 0
B41: 男 | C41: 12 | D41: 12 | E41: 1 | F41: 66 | G41: 18 | H41: 122 | I41: 5 | J41: 1 | K41: 0 | L41: 9 | M41: 97 | N41: 1 | O41: 9 | P41: 0
B42: 女 | C42: 3 | D42: 3 | E42: 0 | F42: 9 | G42: 1 | H42: 18 | I42: 1 | J42: 0 | K42: 0 | L42: 3 | M42: 12 | N42: 0 | O42: 2 | P42: 0
A43: 檢察官緩起訴處分命完成加害人處遇計畫 | B43: 計 | C43: 0 | D43: 0 | E43: 0 | H43: 33 | I43: 5 | J43: 3 | K43: 0 | L43: 4 | M43: 13 | N43: 3 | O43: 3 | P43: 2
B44: 男 | C44: 0 | D44: 0 | E44: 0 | H44: 27 | I44: 3 | J44: 2 | K44: 0 | L44: 2 | M44: 12 | N44: 3 | O44: 3 | P44: 2
B45: 女 | C45: 0 | D45: 0 | E45: 0 | H45: 6 | I45: 2 | J45: 1 | K45: 0 | L45: 2 | M45: 1 | N45: 0 | O45: 0 | P45: 0
A46: 法院命緩刑及假釋付保護管束者完成加害人處遇計畫（兒童及少年福利與權益保障法第112條之1） | B46: 計 | C46: 3 | D46: 3 | E46: 0 | F46: 4 | G46: 1 | H46: 5 | I46: 0 | J46: 0 | K46: 0 | L46: 2 | M46: 2 | N46: 0 | O46: 1 | P46: 0
B47: 男 | C47: 2 | D47: 2 | E47: 0 | F47: 3 | G47: 1 | H47: 4 | I47: 0 | J47: 0 | K47: 0 | L47: 2 | M47: 2 | N47: 0 | O47: 0 | P47: 0
B48: 女 | C48: 1 | D48: 1 | E48: 0 | F48: 1 | G48: 0 | H48: 1 | I48: 0 | J48: 0 | K48: 0 | L48: 0 | M48: 0 | N48: 0 | O48: 1 | P48: 0
A50: 資料來源、 加害人性別 | C50: 3.家庭暴力加害人處遇
C51: 本年截至本期累計應執行處遇人數（A） | D51: 本年截至本期累計應執行處遇者各處遇項目執行人次 | L51: 本年截至本期累計完成處遇人數 （B） | M51: 本年截至本期累計各處遇項目完成人次 | U51: 本年截至本期累計尚在執行處遇人數 （C） | V51: 本年截至本期累計尚在執行處遇者各處遇項目人次 | AD51: 本年截至本期累計顯已無法完成處遇者按原因別分(人數) | AM51: 本期顯已無法完成處遇者，已移送家防中心/警察局，尚未移送至地檢署人數 | AN51: 本年截至本期累計顯已無法完成處遇者，已移送地檢署人數
D52: 精神治療 | E52: 戒癮治療 | G52: 心理輔導 | H52: 認知教育輔導 | J52: 其他輔導、治療 | M52: 精神治療 | N52: 戒癮治療 | P52: 心理輔導 | Q52: 認知教育輔導 | S52: 其他輔導、治療 | V52: 精神治療 | W52: 戒癮治療 | Y52: 心理輔導 | Z52: 認知教育輔導 | AB52: 其他輔導、治療 | AD52: 合計 （D） | AE52: 個案拒報到 | AF52: 個案死亡 | AG52: 個案傷殘或住院 | AH52: 個案因案入監無法執行 | AI52: 送達證書個案拒領或無法送達 | AJ52: 戶籍移轉外縣市 | AK52: 被害人 撤銷或變更保護令 | AL52: 其他
E53: 戒酒癮 | F53: 戒藥毒癮 | H53: 認知教育 | I53: 戒酒教育 | J53: 親職教育 | K53: 其他 | N53: 戒酒癮 | O53: 戒藥毒癮 | Q53: 認知教育 | R53: 戒酒教育 | S53: 親職教育 | T53: 其他 | W53: 戒酒癮 | X53: 戒藥毒癮 | Z53: 認知教育 | AA53: 戒酒教育 | AB53: 親職教育 | AC53: 其他
A54: 法院裁定加害人處遇計畫者（家暴法第14條第1項第10款） | B54: 計 | C54: 4846 | D54: 778 | E54: 366 | F54: 116 | G54: 435 | H54: 3301 | I54: 837 | J54: 376 | K54: 232 | L54: 1655 | M54: 210 | N54: 94 | O54: 4 | P54: 170 | Q54: 1059 | R54: 247 | S54: 120 | T54: 156 | U54: 2302 | V54: 379 | W54: 147 | X54: 61 | Y54: 219 | Z54: 1585 | AA54: 401 | AB54: 195 | AC54: 25 | AD54: 889 | AE54: 461 | AF54: 27 | AG54: 0 | AH54: 25 | AI54: 44 | AJ54: 67 | AK54: 146 | AL54: 119 | AM54: 316 | AN54: 333
B55: 男 | C55: 4265 | D55: 613 | E55: 349 | F55: 106 | G55: 331 | H55: 2989 | I55: 809 | J55: 300 | K55: 207 | L55: 1457 | M55: 156 | N55: 90 | O55: 4 | P55: 137 | Q55: 958 | R55: 238 | S55: 93 | T55: 139 | U55: 2010 | V55: 282 | W55: 140 | X55: 57 | Y55: 156 | Z55: 1444 | AA55: 387 | AB55: 158 | AC55: 22 | AD55: 798 | AE55: 428 | AF55: 24 | AG55: 0 | AH55: 25 | AI55: 40 | AJ55: 52 | AK55: 130 | AL55: 99 | AM55: 288 | AN55: 304
B56: 女 | C56: 581 | D56: 165 | E56: 17 | F56: 10 | G56: 104 | H56: 312 | I56: 28 | J56: 76 | K56: 25 | L56: 198 | M56: 54 | N56: 4 | O56: 0 | P56: 33 | Q56: 101 | R56: 9 | S56: 27 | T56: 17 | U56: 292 | V56: 97 | W56: 7 | X56: 4 | Y56: 63 | Z56: 141 | AA56: 14 | AB56: 37 | AC56: 3 | AD56: 91 | AE56: 33 | AF56: 3 | AG56: 0 | AH56: 0 | AI56: 4 | AJ56: 15 | AK56: 16 | AL56: 20 | AM56: 28 | AN56: 29
A57: 犯家暴罪或違反保護令罪付保護管束者命完成加害人處遇計畫（家暴法第38條） | B57: 計 | C57: 43 | D57: 2 | E57: 2 | F57: 1 | G57: 5 | H57: 38 | I57: 2 | J57: 14 | K57: 0 | L57: 15 | M57: 0 | N57: 0 | O57: 1 | P57: 2 | Q57: 12 | R57: 1 | S57: 0 | T57: 0 | U57: 20 | V57: 2 | W57: 1 | X57: 0 | Y57: 2 | Z57: 17 | AA57: 0 | AB57: 10 | AC57: 0 | AD57: 8 | AE57: 3 | AF57: 2 | AG57: 0 | AH57: 0 | AI57: 0 | AJ57: 1 | AK57: 1 | AL57: 1 | AM57: 4 | AN57: 0
B58: 男 | C58: 37 | D58: 2 | E58: 2 | F58: 0 | G58: 5 | H58: 33 | I58: 2 | J58: 9 | K58: 0 | L58: 14 | M58: 0 | N58: 0 | O58: 0 | P58: 2 | Q58: 12 | R58: 1 | S58: 0 | T58: 0 | U58: 15 | V58: 2 | W58: 1 | X58: 0 | Y58: 2 | Z58: 12 | AA58: 0 | AB58: 5 | AC58: 0 | AD58: 8 | AE58: 3 | AF58: 2 | AG58: 0 | AH58: 0 | AI58: 0 | AJ58: 1 | AK58: 1 | AL58: 1 | AM58: 4 | AN58: 0
B59: 女 | C59: 6 | D59: 0 | E59: 0 | F59: 1 | G59: 0 | H59: 5 | I59: 0 | J59: 5 | K59: 0 | L59: 1 | M59: 0 | N59: 0 | O59: 1 | P59: 0 | Q59: 0 | R59: 0 | S59: 0 | T59: 0 | U59: 5 | V59: 0 | W59: 0 | X59: 0 | Y59: 0 | Z59: 5 | AA59: 0 | AB59: 5 | AC59: 0 | AD59: 0 | AE59: 0 | AF59: 0 | AG59: 0 | AH59: 0 | AI59: 0 | AJ59: 0 | AK59: 0 | AL59: 0 | AM59: 0 | AN59: 0
A60: 假釋出獄付保護管束者命完成加害人處遇計畫（家暴法第39條） | B60: 計 | C60: 98 | D60: 6 | E60: 1 | F60: 0 | G60: 13 | H60: 95 | I60: 1 | J60: 13 | K60: 0 | L60: 49 | M60: 1 | N60: 2 | O60: 0 | P60: 6 | Q60: 38 | R60: 1 | S60: 6 | T60: 0 | U60: 46 | V60: 3 | W60: 0 | X60: 0 | Y60: 6 | Z60: 52 | AA60: 0 | AB60: 7 | AC60: 0 | AD60: 3 | AE60: 1 | AF60: 0 | AG60: 0 | AH60: 0 | AI60: 0 | AJ60: 1 | AK60: 0 | AL60: 1 | AM60: 0 | AN60: 2
B61: 男 | C61: 85 | D61: 5 | E61: 1 | F61: 0 | G61: 10 | H61: 85 | I61: 1 | J61: 10 | K61: 0 | L61: 44 | M61: 0 | N61: 2 | O61: 0 | P61: 4 | Q61: 37 | R61: 1 | S61: 4 | T61: 0 | U61: 38 | V61: 3 | W61: 0 | X61: 0 | Y61: 5 | Z61: 43 | AA61: 0 | AB61: 6 | AC61: 0 | AD61: 3 | AE61: 1 | AF61: 0 | AG61: 0 | AH61: 0 | AI61: 0 | AJ61: 1 | AK61: 0 | AL61: 1 | AM61: 0 | AN61: 2
B62: 女 | C62: 13 | D62: 1 | E62: 0 | F62: 0 | G62: 3 | H62: 10 | I62: 0 | J62: 3 | K62: 0 | L62: 5 | M62: 1 | N62: 0 | O62: 0 | P62: 2 | Q62: 1 | R62: 0 | S62: 2 | T62: 0 | U62: 8 | V62: 0 | W62: 0 | X62: 0 | Y62: 1 | Z62: 9 | AA62: 0 | AB62: 1 | AC62: 0 | AD62: 0 | AE62: 0 | AF62: 0 | AG62: 0 | AH62: 0 | AI62: 0 | AJ62: 0 | AK62: 0 | AL62: 0 | AM62: 0 | AN62: 0
A63: 檢察官緩起訴處分命完成加害人處遇計畫 | B63: 計 | C63: 26 | D63: 5 | E63: 2 | F63: 0 | G63: 6 | H63: 14 | I63: 5 | J63: 6 | K63: 0 | L63: 10 | M63: 2 | N63: 1 | O63: 0 | P63: 3 | Q63: 3 | R63: 3 | S63: 2 | T63: 0 | U63: 13 | V63: 1 | W63: 1 | X63: 0 | Y63: 1 | Z63: 11 | AA63: 1 | AB63: 1 | AC63: 0 | AD63: 3 | AE63: 0 | AF63: 0 | AG63: 0 | AH63: 0 | AI63: 0 | AJ63: 0 | AK63: 0 | AL63: 3 | AM63: 1 | AN63: 2
B64: 男 | C64: 22 | D64: 3 | E64: 1 | F64: 0 | G64: 4 | H64: 13 | I64: 5 | J64: 6 | K64: 0 | L64: 8 | M64: 2 | N64: 0 | O64: 0 | P64: 2 | Q64: 3 | R64: 3 | S64: 2 | T64: 0 | U64: 11 | V64: 0 | W64: 1 | X64: 0 | Y64: 1 | Z64: 10 | AA64: 1 | AB64: 1 | AC64: 0 | AD64: 3 | AE64: 0 | AF64: 0 | AG64: 0 | AH64: 0 | AI64: 0 | AJ64: 0 | AK64: 0 | AL64: 3 | AM64: 1 | AN64: 2
B65: 女 | C65: 4 | D65: 2 | E65: 1 | F65: 0 | G65: 2 | H65: 1 | I65: 0 | J65: 0 | K65: 0 | L65: 2 | M65: 0 | N65: 1 | O65: 0 | P65: 1 | Q65: 0 | R65: 0 | S65: 0 | T65: 0 | U65: 2 | V65: 1 | W65: 0 | X65: 0 | Y65: 0 | Z65: 1 | AA65: 0 | AB65: 0 | AC65: 0 | AD65: 0 | AE65: 0 | AF65: 0 | AG65: 0 | AH65: 0 | AI65: 0 | AJ65: 0 | AK65: 0 | AL65: 0 | AM65: 0 | AN65: 0
A66: 法院命緩刑及假釋付保護管束者完成加害人處遇計畫（兒童及少年福利與權益保障法第112條之1） | B66: 計 | C66: 7 | D66: 0 | E66: 0 | F66: 1 | G66: 2 | H66: 3 | I66: 0 | J66: 1 | K66: 0 | L66: 4 | M66: 0 | N66: 0 | O66: 0 | P66: 1 | Q66: 2 | R66: 0 | S66: 1 | T66: 0 | U66: 2 | V66: 0 | W66: 0 | X66: 1 | Y66: 1 | Z66: 0 | AA66: 0 | AB66: 0 | AC66: 0 | AD66: 1 | AE66: 0 | AF66: 0 | AG66: 0 | AH66: 0 | AI66: 0 | AJ66: 0 | AK66: 0 | AL66: 1 | AM66: 1 | AN66: 0
B67: 男 | C67: 5 | D67: 0 | E67: 0 | F67: 0 | G67: 2 | H67: 3 | I67: 0 | J67: 0 | K67: 0 | L67: 3 | M67: 0 | N67: 0 | O67: 0 | P67: 1 | Q67: 2 | R67: 0 | S67: 0 | T67: 0 | U67: 1 | V67: 0 | W67: 0 | X67: 0 | Y67: 1 | Z67: 0 | AA67: 0 | AB67: 0 | AC67: 0 | AD67: 1 | AE67: 0 | AF67: 0 | AG67: 0 | AH67: 0 | AI67: 0 | AJ67: 0 | AK67: 0 | AL67: 1 | AM67: 1 | AN67: 0
B68: 女 | C68: 2 | D68: 0 | E68: 0 | F68: 1 | G68: 0 | H68: 0 | I68: 0 | J68: 1 | K68: 0 | L68: 1 | M68: 0 | N68: 0 | O68: 0 | P68: 0 | Q68: 0 | R68: 0 | S68: 1 | T68: 0 | U68: 1 | V68: 0 | W68: 0 | X68: 1 | Y68: 0 | Z68: 0 | AA68: 0 | AB68: 0 | AC68: 0 | AD68: 0 | AE68: 0 | AF68: 0 | AG68: 0 | AH68: 0 | AI68: 0 | AJ68: 0 | AK68: 0 | AL68: 0 | AM68: 0 | AN68: 0
A70: 件數與罰鍰金額 | C70: 4.家庭暴力事件裁罰按裁罰事由統計
C71: 合計 | D71: 執行家庭暴力防治人員，在執行職務時知有疑似家庭暴力情事，未立即通報當地主管機關者（家庭暴力防治法第62條第1項） | J71: 醫療機構對於家庭暴力之被害人，無故拒絕診療及開立驗傷診斷書者（家庭暴力防治法第62條第2項） | N71: 無正當理由撥打24小時專線電話，致妨害公務執行，經勸阻不聽者（家庭暴力防治法第63條）
A72: 件數 | C72: 3 | D72: 2 | J72: 0 | N72: 1
A73: 罰鍰金額(新台幣元) | C73: 27000 | D73: 12000 | J73: 0 | N73: 15000

Sheet 109
A1: 5.1-03 推展家庭暴力防治業務
A2: 民國109年
A4: 被害人國籍身分 與性別 | C4: 1.家庭暴力被害人保護扶助人次（人次）
C5: 合計 | D5: 諮詢協談 | E5: 庇護安置 | G5: 陪同報案偵詢（訊） | H5: 陪同出庭 | I5: 驗傷診療 | J5: 聲請 保護令 | K5: 法律扶助 | L5: 經濟扶助 | M5: 心理諮商與輔導 | N5: 就業服務 | O5: 就學或轉學 服務 | P5: 轉介/提供目睹暴力服務 | Q5: 子女問題 協助 | R5: 通譯服務 | S5: 其他扶助
E6: 被害人 | F6: 隨行子女
A7: 合計 | B7: 計 | C7: 1631339 | D7: 1359690 | E7: 8590 | F7: 884 | G7: 859 | H7: 8965 | I7: 6367 | J7: 4563 | K7: 53426 | L7: 28001 | M7: 19107 | N7: 2725 | O7: 2683 | P7: 27169 | Q7: 9652 | R7: 180 | S7: 98478
B8: 男 | C8: 463661 | D8: 392237 | E8: 3884 | F8: 128 | G8: 207 | H8: 1969 | I8: 2408 | J8: 918 | K8: 11299 | L8: 8997 | M8: 5816 | N8: 506 | O8: 1207 | P8: 4987 | Q8: 1618 | R8: 20 | S8: 27460
B9: 女 | C9: 1167678 | D9: 967453 | E9: 4706 | F9: 756 | G9: 652 | H9: 6996 | I9: 3959 | J9: 3645 | K9: 42127 | L9: 19004 | M9: 13291 | N9: 2219 | O9: 1476 | P9: 22182 | Q9: 8034 | R9: 160 | S9: 71018
A10: 本國籍 非原住民 | B10: 男 | C10: 424258 | D10: 359238 | E10: 3589 | F10: 115 | G10: 184 | H10: 1772 | I10: 2219 | J10: 864 | K10: 10785 | L10: 8287 | M10: 5436 | N10: 474 | O10: 1146 | P10: 4013 | Q10: 1559 | R10: 9 | S10: 24568
B11: 女 | C11: 1033634 | D11: 857058 | E11: 4124 | F11: 628 | G11: 547 | H11: 6088 | I11: 3635 | J11: 3147 | K11: 37203 | L11: 17175 | M11: 12523 | N11: 1875 | O11: 1344 | P11: 19786 | Q11: 7157 | R11: 29 | S11: 61315
A12: 本國籍 原住民 | B12: 男 | C12: 27346 | D12: 22494 | E12: 245 | F12: 3 | G12: 22 | H12: 129 | I12: 160 | J12: 49 | K12: 338 | L12: 675 | M12: 242 | N12: 12 | O12: 54 | P12: 687 | Q12: 35 | R12: 1 | S12: 2200
B13: 女 | C13: 73709 | D13: 58466 | E13: 381 | F13: 51 | G13: 55 | H13: 555 | I13: 201 | J13: 372 | K13: 3140 | L13: 1191 | M13: 350 | N13: 187 | O13: 106 | P13: 1427 | Q13: 500 | R13: 1 | S13: 6726
A14: 大陸籍 （含港澳） | B14: 男 | C14: 479 | D14: 406 | E14: 2 | F14: 7 | G14: 0 | H14: 2 | I14: 4 | J14: 0 | K14: 25 | L14: 1 | M14: 2 | N14: 0 | O14: 1 | P14: 1 | Q14: 0 | R14: 0 | S14: 28
B15: 女 | C15: 17813 | D15: 15050 | E15: 57 | F15: 22 | G15: 17 | H15: 133 | I15: 50 | J15: 35 | K15: 705 | L15: 245 | M15: 129 | N15: 44 | O15: 2 | P15: 355 | Q15: 144 | R15: 0 | S15: 825
A16: 外國籍 | B16: 男 | C16: 1703 | D16: 1499 | E16: 0 | F16: 3 | G16: 0 | H16: 9 | I16: 2 | J16: 1 | K16: 48 | L16: 11 | M16: 9 | N16: 1 | O16: 0 | P16: 12 | Q16: 3 | R16: 8 | S16: 97
B17: 女 | C17: 22961 | D17: 19350 | E17: 100 | F17: 50 | G17: 27 | H17: 163 | I17: 48 | J17: 79 | K17: 798 | L17: 317 | M17: 112 | N17: 81 | O17: 6 | P17: 274 | Q17: 166 | R17: 130 | S17: 1260
A18: 其他 | B18: 男 | C18: 9875 | D18: 8600 | E18: 48 | F18: 0 | G18: 1 | H18: 57 | I18: 23 | J18: 4 | K18: 103 | L18: 23 | M18: 127 | N18: 19 | O18: 6 | P18: 274 | Q18: 21 | R18: 2 | S18: 567
B19: 女 | C19: 19561 | D19: 17529 | E19: 44 | F19: 5 | G19: 6 | H19: 57 | I19: 25 | J19: 12 | K19: 281 | L19: 76 | M19: 177 | N19: 32 | O19: 18 | P19: 340 | Q19: 67 | R19: 0 | S19: 892
A21: 被害人國籍身分 | C21: 2.家庭暴力被害人保護扶助金額 (元)
C22: 合計 | D22: 緊急 生活扶助 | E22: 生活扶助 | F22: 急難救助 | G22: 租金補助 | H22: 醫療補助 | I22: 庇護安置補助 | J22: 心理治療、諮商與輔導費用 | K22: 律師費用 補助 | L22: 訴訟費用 補助 | M22: 子女生活 津貼/補助 | N22: 子女 教育補助 | O22: 兒童托育 費用/津貼 | P22: 民間慈善團體資助 | Q22: 其他補助
A23: 合計 | C23: 1118792139 | D23: 70510247 | E23: 258044703 | F23: 10025582 | G23: 26799848 | H23: 27493462 | I23: 508549898 | J23: 34409504 | K23: 10323853 | L23: 2999999 | M23: 111182803 | N23: 3341536 | O23: 11456823 | P23: 11366932 | Q23: 32286949
A24: 本國籍非原住民 | C24: 1019630825 | D24: 63313817 | E24: 235115412 | F24: 8673240 | G24: 23194380 | H24: 25585625 | I24: 473893573 | J24: 30064434 | K24: 9170683 | L24: 2736154 | M24: 96541254 | N24: 2954160 | O24: 10445065 | P24: 9058476 | Q24: 28884552
A25: 本國籍原住民 | C25: 59523496 | D25: 2859578 | E25: 12284188 | F25: 564573 | G25: 1757146 | H25: 957891 | I25: 24417810 | J25: 3266418 | K25: 495084 | L25: 138899 | M25: 8281691 | N25: 281418 | O25: 557179 | P25: 1818175 | Q25: 1843446
A26: 大陸籍（含港澳） | C26: 11074730 | D26: 2320742 | E26: 1917290 | F26: 188819 | G26: 466556 | H26: 185712 | I26: 4055167 | J26: 252538 | K26: 142492 | L26: 14069 | M26: 1056291 | N26: 439 | O26: 89608 | P26: 192395 | Q26: 192612
A27: 外國籍 | C27: 10430335 | D27: 1405240 | E27: 2109964 | F27: 322327 | G27: 546465 | H27: 188457 | I27: 2921087 | J27: 175055 | K27: 370882 | L27: 24628 | M27: 1268572 | N27: 574 | O27: 91816 | P27: 248344 | Q27: 756924
A28: 其他 | C28: 18132753 | D28: 610870 | E28: 6617849 | F28: 276623 | G28: 835301 | H28: 575777 | I28: 3262261 | J28: 651059 | K28: 144712 | L28: 86249 | M28: 4034995 | N28: 104945 | O28: 273155 | P28: 49542 | Q28: 609415
A30: 資料來源、 加害人性別 | C30: 3.家庭暴力加害人處遇
C31: 本期囑託鑑定、評估人數 (人) | D31: 本期完成囑託鑑定、評估人數 (人) | E31: 本期完成 主動評估人數（人） | F31: 本期法院裁定加害人處遇人數 (人) | G31: 本期法院逕裁加害人處遇人數 (人) | H31: 本期法院裁定加害人處遇計畫項目人次(複選)
H32: 合計 | I32: 精神治療 | J32: 戒癮治療 | L32: 心理輔導 | M32: 認知教育輔導 | O32: 其他輔導、治療
J33: 戒酒癮 | K33: 戒藥毒癮 | M33: 認知教育 | N33: 戒酒教育 | O33: 親職教育 | P33: 其他
A34: 法院裁定加害人處遇計畫者（家暴法第14條第1項第10款） | B34: 計 | C34: 3709 | D34: 3393 | E34: 832 | F34: 3587 | G34: 1985 | H34: 5333 | I34: 810 | J34: 240 | K34: 73 | L34: 311 | M34: 2421 | N34: 809 | O34: 302 | P34: 367
B35: 男 | C35: 3253 | D35: 2966 | E35: 734 | F35: 3128 | G35: 1701 | H35: 4612 | I35: 665 | J35: 221 | K35: 63 | L35: 233 | M35: 2137 | N35: 732 | O35: 234 | P35: 327
B36: 女 | C36: 456 | D36: 427 | E36: 98 | F36: 459 | G36: 284 | H36: 721 | I36: 145 | J36: 19 | K36: 10 | L36: 78 | M36: 284 | N36: 77 | O36: 68 | P36: 40
A37: 犯家暴罪或違反保護令罪付保護管束者命完成加害人處遇計畫（家暴法第38條） | B37: 計 | C37: 13 | D37: 13 | E37: 0 | F37: 34 | G37: 22 | H37: 45 | I37: 2 | J37: 4 | K37: 1 | L37: 1 | M37: 29 | N37: 1 | O37: 7 | P37: 0
B38: 男 | C38: 13 | D38: 13 | E38: 0 | F38: 29 | G38: 19 | H38: 35 | I38: 2 | J38: 2 | K38: 1 | L38: 1 | M38: 25 | N38: 1 | O38: 3 | P38: 0
B39: 女 | C39: 0 | D39: 0 | E39: 0 | F39: 5 | G39: 3 | H39: 10 | I39: 0 | J39: 2 | K39: 0 | L39: 0 | M39: 4 | N39: 0 | O39: 4 | P39: 0
A40: 假釋出獄付保護管束者命完成加害人處遇計畫（家暴法第39條） | B40: 計 | C40: 28 | D40: 27 | E40: 0 | F40: 86 | G40: 60 | H40: 136 | I40: 3 | J40: 0 | K40: 1 | L40: 12 | M40: 113 | N40: 5 | O40: 2 | P40: 0
B41: 男 | C41: 26 | D41: 25 | E41: 0 | F41: 77 | G41: 53 | H41: 114 | I41: 2 | J41: 0 | K41: 1 | L41: 9 | M41: 97 | N41: 4 | O41: 1 | P41: 0
B42: 女 | C42: 2 | D42: 2 | E42: 0 | F42: 9 | G42: 7 | H42: 22 | I42: 1 | J42: 0 | K42: 0 | L42: 3 | M42: 16 | N42: 1 | O42: 1 | P42: 0
A43: 檢察官緩起訴處分命完成加害人處遇計畫 | B43: 計 | C43: 0 | D43: 0 | E43: 1 | F43: 0 | G43: 0 | H43: 22 | I43: 3 | J43: 1 | K43: 0 | L43: 3 | M43: 11 | N43: 2 | O43: 2 | P43: 0
B44: 男 | C44: 0 | D44: 0 | E44: 1 | F44: 0 | G44: 0 | H44: 16 | I44: 2 | J44: 1 | K44: 0 | L44: 1 | M44: 8 | N44: 2 | O44: 2 | P44: 0
B45: 女 | C45: 0 | D45: 0 | E45: 0 | F45: 0 | G45: 0 | H45: 6 | I45: 1 | J45: 0 | K45: 0 | L45: 2 | M45: 3 | N45: 0 | O45: 0 | P45: 0
A46: 法院命緩刑及假釋付保護管束者完成加害人處遇計畫（兒童及少年福利與權益保障法第112條之1） | B46: 計 | C46: 2 | D46: 2 | E46: 0 | F46: 5 | G46: 4 | H46: 6 | I46: 0 | J46: 0 | K46: 0 | L46: 1 | M46: 5 | N46: 0 | O46: 0 | P46: 0
B47: 男 | C47: 2 | D47: 2 | E47: 0 | F47: 5 | G47: 4 | H47: 6 | I47: 0 | J47: 0 | K47: 0 | L47: 1 | M47: 5 | N47: 0 | O47: 0 | P47: 0
B48: 女 | C48: 0 | D48: 0 | E48: 0 | F48: 0 | G48: 0 | H48: 0 | I48: 0 | J48: 0 | K48: 0 | L48: 0 | M48: 0 | N48: 0 | O48: 0 | P48: 0
A50: 資料來源、 加害人性別 | C50: 3.家庭暴力加害人處遇
C51: 本年截至本期累計應執行處遇人數（A） | D51: 本年截至本期累計應執行處遇者各處遇項目執行人次 | L51: 本年截至本期累計完成處遇人數 （B） | M51: 本年截至本期累計各處遇項目完成人次 | U51: 本年截至本期累計尚在執行處遇人數 （C） | V51: 本年截至本期累計尚在執行處遇者各處遇項目人次 | AD51: 本年截至本期累計顯已無法完成處遇者按原因別分(人數) | AM51: 本期顯已無法完成處遇者，已移送家防中心/警察局，尚未移送至地檢署人數 | AN51: 本年截至本期累計顯已無法完成處遇者，已移送地檢署人數
D52: 精神治療 | E52: 戒癮治療 | G52: 心理輔導 | H52: 認知教育輔導 | J52: 其他輔導、治療 | M52: 精神治療 | N52: 戒癮治療 | P52: 心理輔導 | Q52: 認知教育輔導 | S52: 其他輔導、治療 | V52: 精神治療 | W52: 戒癮治療 | Y52: 心理輔導 | Z52: 認知教育輔導 | AB52: 其他輔導、治療 | AD52: 合計 （D） | AE52: 個案拒報到 | AF52: 個案死亡 | AG52: 個案傷殘或住院 | AH52: 個案因案入監無法執行 | AI52: 送達證書個案拒領或無法送達 | AJ52: 戶籍移轉外縣市 | AK52: 被害人 撤銷或變更保護令 | AL52: 其他
E53: 戒酒癮 | F53: 戒藥毒癮 | H53: 認知教育 | I53: 戒酒教育 | J53: 親職教育 | K53: 其他 | N53: 戒酒癮 | O53: 戒藥毒癮 | Q53: 認知教育 | R53: 戒酒教育 | S53: 親職教育 | T53: 其他 | W53: 戒酒癮 | X53: 戒藥毒癮 | Z53: 認知教育 | AA53: 戒酒教育 | AB53: 親職教育 | AC53: 其他
A54: 法院裁定加害人處遇計畫者（家暴法第14條第1項第10款） | B54: 計 | C54: 5639 | D54: 868 | E54: 417 | F54: 113 | G54: 482 | H54: 3735 | I54: 928 | J54: 389 | K54: 276 | L54: 2130 | M54: 206 | N54: 114 | O54: 16 | P54: 180 | Q54: 1402 | R54: 274 | S54: 152 | T54: 196 | U54: 2567 | V54: 522 | W54: 224 | X54: 68 | Y54: 247 | Z54: 1757 | AA54: 426 | AB54: 191 | AC54: 38 | AD54: 942 | AE54: 346 | AF54: 42 | AG54: 15 | AH54: 80 | AI54: 36 | AJ54: 155 | AK54: 201 | AL54: 67 | AM54: 274 | AN54: 270
B55: 男 | C55: 5017 | D55: 692 | E55: 394 | F55: 101 | G55: 367 | H55: 3424 | I55: 893 | J55: 298 | K55: 241 | L55: 1902 | M55: 171 | N55: 109 | O55: 15 | P55: 129 | Q55: 1295 | R55: 265 | S55: 116 | T55: 176 | U55: 2244 | V55: 397 | W55: 211 | X55: 60 | Y55: 192 | Z55: 1591 | AA55: 407 | AB55: 140 | AC55: 27 | AD55: 871 | AE55: 323 | AF55: 40 | AG55: 10 | AH55: 78 | AI55: 36 | AJ55: 133 | AK55: 186 | AL55: 65 | AM55: 252 | AN55: 260
B56: 女 | C56: 622 | D56: 176 | E56: 23 | F56: 12 | G56: 115 | H56: 311 | I56: 35 | J56: 91 | K56: 35 | L56: 228 | M56: 35 | N56: 5 | O56: 1 | P56: 51 | Q56: 107 | R56: 9 | S56: 36 | T56: 20 | U56: 323 | V56: 125 | W56: 13 | X56: 8 | Y56: 55 | Z56: 166 | AA56: 19 | AB56: 51 | AC56: 11 | AD56: 71 | AE56: 23 | AF56: 2 | AG56: 5 | AH56: 2 | AI56: 0 | AJ56: 22 | AK56: 15 | AL56: 2 | AM56: 22 | AN56: 10
A57: 犯家暴罪或違反保護令罪付保護管束者命完成加害人處遇計畫（家暴法第38條） | B57: 計 | C57: 36 | D57: 7 | E57: 4 | F57: 1 | G57: 2 | H57: 37 | I57: 0 | J57: 8 | K57: 0 | L57: 13 | M57: 1 | N57: 0 | O57: 0 | P57: 0 | Q57: 10 | R57: 0 | S57: 3 | T57: 0 | U57: 17 | V57: 2 | W57: 2 | X57: 1 | Y57: 2 | Z57: 15 | AA57: 0 | AB57: 3 | AC57: 0 | AD57: 6 | AE57: 3 | AF57: 0 | AG57: 0 | AH57: 1 | AI57: 0 | AJ57: 2 | AK57: 0 | AL57: 0 | AM57: 3 | AN57: 1
B58: 男 | C58: 30 | D58: 6 | E58: 3 | F58: 1 | G58: 2 | H58: 33 | I58: 0 | J58: 4 | K58: 0 | L58: 10 | M58: 1 | N58: 0 | O58: 0 | P58: 0 | Q58: 9 | R58: 0 | S58: 1 | T58: 0 | U58: 14 | V58: 2 | W58: 2 | X58: 1 | Y58: 1 | Z58: 12 | AA58: 0 | AB58: 2 | AC58: 0 | AD58: 6 | AE58: 3 | AF58: 0 | AG58: 0 | AH58: 1 | AI58: 0 | AJ58: 2 | AK58: 0 | AL58: 0 | AM58: 3 | AN58: 1
B59: 女 | C59: 6 | D59: 1 | E59: 1 | F59: 0 | G59: 0 | H59: 4 | I59: 0 | J59: 4 | K59: 0 | L59: 3 | M59: 0 | N59: 0 | O59: 0 | P59: 0 | Q59: 1 | R59: 0 | S59: 2 | T59: 0 | U59: 3 | V59: 0 | W59: 0 | X59: 0 | Y59: 1 | Z59: 3 | AA59: 0 | AB59: 1 | AC59: 0 | AD59: 0 | AE59: 0 | AF59: 0 | AG59: 0 | AH59: 0 | AI59: 0 | AJ59: 0 | AK59: 0 | AL59: 0 | AM59: 0 | AN59: 0
A60: 假釋出獄付保護管束者命完成加害人處遇計畫（家暴法第39條） | B60: 計 | C60: 118 | D60: 8 | E60: 1 | F60: 1 | G60: 13 | H60: 121 | I60: 6 | J60: 3 | K60: 0 | L60: 66 | M60: 2 | N60: 0 | O60: 1 | P60: 9 | Q60: 55 | R60: 3 | S60: 1 | T60: 0 | U60: 44 | V60: 2 | W60: 0 | X60: 0 | Y60: 2 | Z60: 59 | AA60: 1 | AB60: 2 | AC60: 0 | AD60: 8 | AE60: 2 | AF60: 0 | AG60: 0 | AH60: 2 | AI60: 0 | AJ60: 2 | AK60: 0 | AL60: 2 | AM60: 2 | AN60: 4
B61: 男 | C61: 104 | D61: 4 | E61: 1 | F61: 1 | G61: 10 | H61: 107 | I61: 4 | J61: 2 | K61: 0 | L61: 59 | M61: 2 | N61: 0 | O61: 1 | P61: 6 | Q61: 51 | R61: 3 | S61: 1 | T61: 0 | U61: 39 | V61: 1 | W61: 0 | X61: 0 | Y61: 2 | Z61: 50 | AA61: 0 | AB61: 1 | AC61: 0 | AD61: 6 | AE61: 2 | AF61: 0 | AG61: 0 | AH61: 1 | AI61: 0 | AJ61: 1 | AK61: 0 | AL61: 2 | AM61: 2 | AN61: 3
B62: 女 | C62: 14 | D62: 4 | E62: 0 | F62: 0 | G62: 3 | H62: 14 | I62: 2 | J62: 1 | K62: 0 | L62: 7 | M62: 0 | N62: 0 | O62: 0 | P62: 3 | Q62: 4 | R62: 0 | S62: 0 | T62: 0 | U62: 5 | V62: 1 | W62: 0 | X62: 0 | Y62: 0 | Z62: 9 | AA62: 1 | AB62: 1 | AC62: 0 | AD62: 2 | AE62: 0 | AF62: 0 | AG62: 0 | AH62: 1 | AI62: 0 | AJ62: 1 | AK62: 0 | AL62: 0 | AM62: 0 | AN62: 1
A63: 檢察官緩起訴處分命完成加害人處遇計畫 | B63: 計 | C63: 32 | D63: 5 | E63: 1 | F63: 0 | G63: 5 | H63: 19 | I63: 5 | J63: 6 | K63: 0 | L63: 14 | M63: 0 | N63: 0 | O63: 0 | P63: 0 | Q63: 13 | R63: 1 | S63: 1 | T63: 0 | U63: 16 | V63: 5 | W63: 1 | X63: 0 | Y63: 5 | Z63: 5 | AA63: 3 | AB63: 3 | AC63: 0 | AD63: 2 | AE63: 2 | AF63: 0 | AG63: 0 | AH63: 0 | AI63: 0 | AJ63: 0 | AK63: 0 | AL63: 0 | AM63: 0 | AN63: 2
B64: 男 | C64: 24 | D64: 3 | E64: 1 | F64: 0 | G64: 3 | H64: 14 | I64: 4 | J64: 5 | K64: 0 | L64: 10 | M64: 0 | N64: 0 | O64: 0 | P64: 0 | Q64: 9 | R64: 0 | S64: 1 | T64: 0 | U64: 13 | V64: 3 | W64: 1 | X64: 0 | Y64: 3 | Z64: 4 | AA64: 3 | AB64: 3 | AC64: 0 | AD64: 1 | AE64: 1 | AF64: 0 | AG64: 0 | AH64: 0 | AI64: 0 | AJ64: 0 | AK64: 0 | AL64: 0 | AM64: 0 | AN64: 1
B65: 女 | C65: 8 | D65: 2 | E65: 0 | F65: 0 | G65: 2 | H65: 5 | I65: 1 | J65: 1 | K65: 0 | L65: 4 | M65: 0 | N65: 0 | O65: 0 | P65: 0 | Q65: 4 | R65: 1 | S65: 0 | T65: 0 | U65: 3 | V65: 2 | W65: 0 | X65: 0 | Y65: 2 | Z65: 1 | AA65: 0 | AB65: 0 | AC65: 0 | AD65: 1 | AE65: 1 | AF65: 0 | AG65: 0 | AH65: 0 | AI65: 0 | AJ65: 0 | AK65: 0 | AL65: 0 | AM65: 0 | AN65: 1
A66: 法院命緩刑及假釋付保護管束者完成加害人處遇計畫（兒童及少年福利與權益保障法第112條之1） | B66: 計 | C66: 8 | D66: 0 | E66: 0 | F66: 1 | G66: 1 | H66: 7 | I66: 0 | J66: 0 | K66: 0 | L66: 6 | M66: 0 | N66: 0 | O66: 0 | P66: 1 | Q66: 5 | R66: 0 | S66: 0 | T66: 0 | U66: 2 | V66: 0 | W66: 0 | X66: 1 | Y66: 0 | Z66: 2 | AA66: 0 | AB66: 0 | AC66: 0 | AD66: 0 | AE66: 0 | AF66: 0 | AG66: 0 | AH66: 0 | AI66: 0 | AJ66: 0 | AK66: 0 | AL66: 0 | AM66: 0 | AN66: 0
B67: 男 | C67: 7 | D67: 0 | E67: 0 | F67: 0 | G67: 1 | H67: 7 | I67: 0 | J67: 0 | K67: 0 | L67: 6 | M67: 0 | N67: 0 | O67: 0 | P67: 1 | Q67: 5 | R67: 0 | S67: 0 | T67: 0 | U67: 1 | V67: 0 | W67: 0 | X67: 0 | Y67: 0 | Z67: 2 | AA67: 0 | AB67: 0 | AC67: 0 | AD67: 0 | AE67: 0 | AF67: 0 | AG67: 0 | AH67: 0 | AI67: 0 | AJ67: 0 | AK67: 0 | AL67: 0 | AM67: 0 | AN67: 0
B68: 女 | C68: 1 | D68: 0 | E68: 0 | F68: 1 | G68: 0 | H68: 0 | I68: 0 | J68: 0 | K68: 0 | L68: 0 | M68: 0 | N68: 0 | O68: 0 | P68: 0 | Q68: 0 | R68: 0 | S68: 0 | T68: 0 | U68: 1 | V68: 0 | W68: 0 | X68: 1 | Y68: 0 | Z68: 0 | AA68: 0 | AB68: 0 | AC68: 0 | AD68: 0 | AE68: 0 | AF68: 0 | AG68: 0 | AH68: 0 | AI68: 0 | AJ68: 0 | AK68: 0 | AL68: 0 | AM68: 0 | AN68: 0
A70: 件數與罰鍰金額 | C70: 4.家庭暴力事件裁罰按裁罰事由統計
C71: 合計 | D71: 執行家庭暴力防治人員，在執行職務時知有疑似家庭暴力情事，未立即通報當地主管機關者（家庭暴力防治法第62條第1項） | J71: 醫療機構對於家庭暴力之被害人，無故拒絕診療及開立驗傷診斷書者（家庭暴力防治法第62條第2項） | N71: 無正當理由撥打24小時專線電話，致妨害公務執行，經勸阻不聽者（家庭暴力防治法第63條）
A72: 件數 | C72: 2 | D72: 2 | J72: 0 | N72: 0
A73: 罰鍰金額(新台幣元) | C73: 12000 | D73: 12000 | J73: 0 | N73: 0

Sheet 108
A1: 5.1-03 推展家庭暴力防治業務
A2: 民國108年
A4: 被害人國籍身分 與性別 | C4: 1.家庭暴力被害人保護扶助人次（人次）
C5: 合計 | D5: 諮詢協談 | E5: 庇護安置 | G5: 陪同報案偵詢（訊） | H5: 陪同出庭 | I5: 驗傷診療 | J5: 聲請 保護令 | K5: 法律扶助 | L5: 經濟扶助 | M5: 心理諮商與輔導 | N5: 就業服務 | O5: 就學或轉學 服務 | P5: 轉介/提供目睹暴力服務 | Q5: 子女問題 協助 | R5: 通譯服務 | S5: 其他扶助
E6: 被害人 | F6: 隨行子女
A7: 合計 | B7: 計 | C7: 1499713 | D7: 1280281 | E7: 14442 | F7: 767 | G7: 933 | H7: 7798 | I7: 4511 | J7: 3660 | K7: 39118 | L7: 19022 | M7: 12148 | N7: 1896 | O7: 3065 | P7: 17274 | Q7: 11191 | R7: 116 | S7: 83491
B8: 男 | C8: 430776 | D8: 371414 | E8: 6943 | F8: 127 | G8: 138 | H8: 1532 | I8: 1846 | J8: 709 | K8: 6898 | L8: 7022 | M8: 4083 | N8: 375 | O8: 1470 | P8: 2915 | Q8: 1637 | R8: 28 | S8: 23639
B9: 女 | C9: 1068937 | D9: 908867 | E9: 7499 | F9: 640 | G9: 795 | H9: 6266 | I9: 2665 | J9: 2951 | K9: 32220 | L9: 12000 | M9: 8065 | N9: 1521 | O9: 1595 | P9: 14359 | Q9: 9554 | R9: 88 | S9: 59852
A10: 本國籍 非原住民 | B10: 男 | C10: 388686 | D10: 335842 | E10: 6488 | F10: 123 | G10: 126 | H10: 1382 | I10: 1688 | J10: 652 | K10: 6163 | L10: 6465 | M10: 3691 | N10: 348 | O10: 1290 | P10: 2596 | Q10: 1552 | R10: 12 | S10: 20268
B11: 女 | C11: 932775 | D11: 795572 | E11: 6753 | F11: 520 | G11: 676 | H11: 5399 | I11: 2283 | J11: 2450 | K11: 27720 | L11: 10327 | M11: 7500 | N11: 1225 | O11: 1439 | P11: 12742 | Q11: 8108 | R11: 22 | S11: 50039
A12: 本國籍 原住民 | B12: 男 | C12: 26931 | D12: 22093 | E12: 437 | F12: 0 | G12: 8 | H12: 81 | I12: 133 | J12: 49 | K12: 524 | L12: 492 | M12: 296 | N12: 23 | O12: 143 | P12: 98 | Q12: 46 | R12: 6 | S12: 2502
B13: 女 | C13: 72047 | D13: 57518 | E13: 481 | F13: 28 | G13: 52 | H13: 470 | I13: 222 | J13: 346 | K13: 2962 | L13: 1121 | M13: 269 | N13: 112 | O13: 127 | P13: 693 | Q13: 655 | R13: 3 | S13: 6988
A14: 大陸籍 （含港澳） | B14: 男 | C14: 498 | D14: 458 | E14: 1 | F14: 4 | G14: 0 | H14: 8 | I14: 1 | J14: 2 | K14: 9 | L14: 0 | M14: 0 | N14: 0 | O14: 0 | P14: 2 | Q14: 1 | R14: 0 | S14: 12
B15: 女 | C15: 17880 | D15: 15311 | E15: 85 | F15: 20 | G15: 18 | H15: 149 | I15: 34 | J15: 58 | K15: 599 | L15: 184 | M15: 37 | N15: 82 | O15: 2 | P15: 251 | Q15: 297 | R15: 0 | S15: 753
A16: 外國籍 | B16: 男 | C16: 1753 | D16: 1588 | E16: 1 | F16: 0 | G16: 2 | H16: 12 | I16: 8 | J16: 2 | K16: 13 | L16: 5 | M16: 2 | N16: 1 | O16: 2 | P16: 0 | Q16: 9 | R16: 8 | S16: 100
B17: 女 | C17: 23636 | D17: 20343 | E17: 120 | F17: 55 | G17: 15 | H17: 163 | I17: 49 | J17: 64 | K17: 698 | L17: 284 | M17: 53 | N17: 86 | O17: 5 | P17: 279 | Q17: 353 | R17: 60 | S17: 1009
A18: 其他 | B18: 男 | C18: 12908 | D18: 11433 | E18: 16 | F18: 0 | G18: 2 | H18: 49 | I18: 16 | J18: 4 | K18: 189 | L18: 60 | M18: 94 | N18: 3 | O18: 35 | P18: 219 | Q18: 29 | R18: 2 | S18: 757
B19: 女 | C19: 22599 | D19: 20123 | E19: 60 | F19: 17 | G19: 34 | H19: 85 | I19: 77 | J19: 33 | K19: 241 | L19: 84 | M19: 206 | N19: 16 | O19: 22 | P19: 394 | Q19: 141 | R19: 3 | S19: 1063
A21: 被害人國籍身分 | C21: 2.家庭暴力被害人保護扶助金額 (元)
C22: 合計 | D22: 緊急 生活扶助 | E22: 生活扶助 | F22: 急難救助 | G22: 租金補助 | H22: 醫療補助 | I22: 庇護安置補助 | J22: 心理治療、諮商與輔導費用 | K22: 律師費用 補助 | L22: 訴訟費用 補助 | M22: 子女生活 津貼/補助 | N22: 子女 教育補助 | O22: 兒童托育 費用/津貼 | P22: 民間慈善團體資助 | Q22: 其他補助
A23: 合計 | C23: 869224868 | D23: 56035446 | E23: 153500212 | F23: 8405305 | G23: 18112618 | H23: 15232852 | I23: 483550256 | J23: 22951589 | K23: 5019950 | L23: 1271180 | M23: 77063963 | N23: 2284004 | O23: 4621830 | P23: 6680042 | Q23: 14495621
A24: 本國籍非原住民 | C24: 806494386 | D24: 49862908 | E24: 143468801 | F24: 7502436 | G24: 15582293 | H24: 14356731 | I24: 452277213 | J24: 21127544 | K24: 4494330 | L24: 993680 | M24: 72391699 | N24: 2258044 | O24: 4027118 | P24: 5134264 | Q24: 13017325
A25: 本國籍原住民 | C25: 43567559 | D25: 3768992 | E25: 5751929 | F25: 591889 | G25: 697550 | H25: 246168 | I25: 25790896 | J25: 1138363 | K25: 305840 | L25: 76000 | M25: 2847515 | N25: 10000 | O25: 336175 | P25: 1232226 | Q25: 774016
A26: 大陸籍（含港澳） | C26: 5215364 | D26: 806596 | E26: 1178145 | F26: 107100 | G26: 340620 | H26: 93481 | I26: 1509327 | J26: 86600 | K26: 150000 | L26: 33000 | M26: 552803 | N26: 6000 | O26: 79331 | P26: 96576 | Q26: 175785
A27: 外國籍 | C27: 6578880 | D27: 1059990 | E27: 1062823 | F27: 98000 | G27: 375150 | H27: 87141 | I27: 2699603 | J27: 84500 | K27: 41000 | L27: 66000 | M27: 228334 | N27: 0 | O27: 98206 | P27: 175148 | Q27: 502985
A28: 其他 | C28: 7368679 | D28: 536960 | E28: 2038514 | F28: 105880 | G28: 1117005 | H28: 449331 | I28: 1273217 | J28: 514582 | K28: 28780 | L28: 102500 | M28: 1043612 | N28: 9960 | O28: 81000 | P28: 41828 | Q28: 25510
A30: 資料來源、 加害人性別 | C30: 3.家庭暴力加害人處遇
C31: 本期囑託鑑定、評估人數 (人) | D31: 本期完成囑託鑑定、評估人數 (人) | E31: 本期完成 主動評估人數（人） | F31: 本期法院裁定加害人處遇人數 (人) | G31: 本期法院逕裁加害人處遇人數 (人) | H31: 本期法院裁定加害人處遇計畫項目人次(複選)
H32: 合計 | I32: 精神治療 | J32: 戒癮治療 | L32: 心理輔導 | M32: 認知教育輔導 | O32: 其他輔導、治療
J33: 戒酒癮 | K33: 戒藥毒癮 | M33: 認知教育 | N33: 戒酒教育 | O33: 親職教育 | P33: 其他
A34: 法院裁定加害人處遇計畫者（家暴法第14條第1項第10款） | B34: 計 | C34: 3752 | D34: 3071 | E34: 997 | F34: 3692 | G34: 1353 | H34: 4926 | I34: 343 | J34: 228 | K34: 36 | L34: 240 | M34: 3211 | N34: 607 | O34: 235 | P34: 26
B35: 男 | C35: 3353 | D35: 2764 | E35: 838 | F35: 3300 | G35: 1192 | H35: 4424 | I35: 276 | J35: 220 | K35: 33 | L35: 193 | M35: 2910 | N35: 587 | O35: 185 | P35: 20
B36: 女 | C36: 399 | D36: 307 | E36: 159 | F36: 392 | G36: 161 | H36: 502 | I36: 67 | J36: 8 | K36: 3 | L36: 47 | M36: 301 | N36: 20 | O36: 50 | P36: 6
A37: 犯家暴罪或違反保護令罪付保護管束者命完成加害人處遇計畫（家暴法第38條） | B37: 計 | C37: 0 | D37: 0 | E37: 0 | F37: 5 | G37: 1 | H37: 6 | I37: 1 | J37: 0 | K37: 0 | L37: 0 | M37: 4 | N37: 0 | O37: 1 | P37: 0
B38: 男 | C38: 0 | D38: 0 | E38: 0 | F38: 3 | G38: 1 | H38: 4 | I38: 0 | J38: 0 | K38: 0 | L38: 0 | M38: 4 | N38: 0 | O38: 0 | P38: 0
B39: 女 | C39: 0 | D39: 0 | E39: 0 | F39: 2 | G39: 0 | H39: 2 | I39: 1 | J39: 0 | K39: 0 | L39: 0 | M39: 0 | N39: 0 | O39: 1 | P39: 0
A40: 假釋出獄付保護管束者命完成加害人處遇計畫（家暴法第39條） | B40: 計 | C40: 18 | D40: 13 | E40: 0 | F40: 31 | G40: 8 | H40: 51 | I40: 4 | J40: 1 | K40: 0 | L40: 4 | M40: 42 | N40: 0 | O40: 0 | P40: 0
B41: 男 | C41: 17 | D41: 13 | E41: 0 | F41: 28 | G41: 8 | H41: 46 | I41: 4 | J41: 1 | K41: 0 | L41: 4 | M41: 37 | N41: 0 | O41: 0 | P41: 0
B42: 女 | C42: 1 | D42: 0 | E42: 0 | F42: 3 | G42: 0 | H42: 5 | I42: 0 | J42: 0 | K42: 0 | L42: 0 | M42: 5 | N42: 0 | O42: 0 | P42: 0
A43: 檢察官緩起訴處分命完成加害人處遇計畫 | B43: 計 | C43: 1 | D43: 1 | E43: 0 | F43: 0 | G43: 0 | H43: 12 | I43: 0 | J43: 0 | K43: 0 | L43: 1 | M43: 6 | N43: 2 | O43: 3 | P43: 0
B44: 男 | C44: 1 | D44: 1 | E44: 0 | F44: 0 | G44: 0 | H44: 10 | I44: 0 | J44: 0 | K44: 0 | L44: 1 | M44: 6 | N44: 1 | O44: 2 | P44: 0
B45: 女 | C45: 0 | D45: 0 | E45: 0 | F45: 0 | G45: 0 | H45: 2 | I45: 0 | J45: 0 | K45: 0 | L45: 0 | M45: 0 | N45: 1 | O45: 1 | P45: 0
A47: 資料來源、 加害人性別 | C47: 3.家庭暴力加害人處遇
C48: 本年截至本期累計應執行處遇人數（A） | D48: 本年截至本期累計應執行處遇者各處遇項目執行人次 | L48: 本年截至本期累計完成處遇人數 （B） | M48: 本年截至本期累計各處遇項目完成人次 | U48: 本年截至本期累計尚在執行處遇人數 （C） | V48: 本年截至本期累計尚在執行處遇者各處遇項目人次 | AD48: 本年截至本期累計顯已無法完成處遇者按原因別分(人數) | AM48: 本年截至本期累計顯已無法完成處遇者，移送地檢署人數
D49: 精神治療 | E49: 戒癮治療 | G49: 心理輔導 | H49: 認知教育輔導 | J49: 其他輔導、治療 | M49: 精神治療 | N49: 戒癮治療 | P49: 心理輔導 | Q49: 認知教育輔導 | S49: 其他輔導、治療 | V49: 精神治療 | W49: 戒癮治療 | Y49: 心理輔導 | Z49: 認知教育輔導 | AB49: 其他輔導、治療 | AD49: 合計 （D） | AE49: 個案拒報到 | AF49: 個案死亡 | AG49: 個案傷殘或住院 | AH49: 個案因案入監無法執行 | AI49: 送達證書個案拒領或無法送達 | AJ49: 個案轉介其他縣市執行 | AK49: 被害人 撤銷或變更保護令 | AL49: 其他
E50: 戒酒癮 | F50: 戒藥毒癮 | H50: 認知教育 | I50: 戒酒教育 | J50: 親職教育 | K50: 其他 | N50: 戒酒癮 | O50: 戒藥毒癮 | Q50: 認知教育 | R50: 戒酒教育 | S50: 親職教育 | T50: 其他 | W50: 戒酒癮 | X50: 戒藥毒癮 | Z50: 認知教育 | AA50: 戒酒教育 | AB50: 親職教育 | AC50: 其他
A51: 法院裁定加害人處遇計畫者（家暴法第14條第1項第10款） | B51: 計 | C51: 5591 | D51: 730 | E51: 413 | F51: 96 | G51: 441 | H51: 4136 | I51: 948 | J51: 349 | K51: 30 | L51: 1938 | M51: 152 | N51: 90 | O51: 12 | P51: 160 | Q51: 1510 | R51: 280 | S51: 106 | T51: 14 | U51: 2629 | V51: 469 | W51: 251 | X51: 52 | Y51: 210 | Z51: 1845 | AA51: 507 | AB51: 191 | AC51: 14 | AD51: 1024 | AE51: 436 | AF51: 41 | AG51: 10 | AH51: 53 | AI51: 33 | AJ51: 234 | AK51: 151 | AL51: 66 | AM51: 488
B52: 男 | C52: 5065 | D52: 594 | E52: 390 | F52: 88 | G52: 353 | H52: 3842 | I52: 914 | J52: 277 | K52: 24 | L52: 1767 | M52: 127 | N52: 86 | O52: 12 | P52: 139 | Q52: 1386 | R52: 273 | S52: 89 | T52: 11 | U52: 2362 | V52: 385 | W52: 232 | X52: 47 | Y52: 159 | Z52: 1736 | AA52: 489 | AB52: 149 | AC52: 10 | AD52: 936 | AE52: 395 | AF52: 39 | AG52: 10 | AH52: 52 | AI52: 31 | AJ52: 214 | AK52: 132 | AL52: 63 | AM52: 443
B53: 女 | C53: 526 | D53: 136 | E53: 23 | F53: 8 | G53: 88 | H53: 294 | I53: 34 | J53: 72 | K53: 6 | L53: 171 | M53: 25 | N53: 4 | O53: 0 | P53: 21 | Q53: 124 | R53: 7 | S53: 17 | T53: 3 | U53: 267 | V53: 84 | W53: 19 | X53: 5 | Y53: 51 | Z53: 109 | AA53: 18 | AB53: 42 | AC53: 4 | AD53: 88 | AE53: 41 | AF53: 2 | AG53: 0 | AH53: 1 | AI53: 2 | AJ53: 20 | AK53: 19 | AL53: 3 | AM53: 45
A54: 犯家暴罪或違反保護令罪付保護管束者命完成加害人處遇計畫（家暴法第38條） | B54: 計 | C54: 10 | D54: 3 | E54: 1 | F54: 0 | G54: 1 | H54: 6 | I54: 0 | J54: 1 | K54: 0 | L54: 6 | M54: 1 | N54: 0 | O54: 0 | P54: 1 | Q54: 5 | R54: 0 | S54: 1 | T54: 0 | U54: 3 | V54: 2 | W54: 0 | X54: 0 | Y54: 0 | Z54: 1 | AA54: 0 | AB54: 0 | AC54: 0 | AD54: 1 | AE54: 0 | AF54: 0 | AG54: 0 | AH54: 0 | AI54: 0 | AJ54: 0 | AK54: 1 | AL54: 0 | AM54: 0
B55: 男 | C55: 7 | D55: 1 | E55: 1 | F55: 0 | G55: 0 | H55: 5 | I55: 0 | J55: 0 | K55: 0 | L55: 4 | M55: 0 | N55: 0 | O55: 0 | P55: 0 | Q55: 4 | R55: 0 | S55: 0 | T55: 0 | U55: 2 | V55: 1 | W55: 0 | X55: 0 | Y55: 0 | Z55: 1 | AA55: 0 | AB55: 0 | AC55: 0 | AD55: 1 | AE55: 0 | AF55: 0 | AG55: 0 | AH55: 0 | AI55: 0 | AJ55: 0 | AK55: 1 | AL55: 0 | AM55: 0
B56: 女 | C56: 3 | D56: 2 | E56: 0 | F56: 0 | G56: 1 | H56: 1 | I56: 0 | J56: 1 | K56: 0 | L56: 2 | M56: 1 | N56: 0 | O56: 0 | P56: 1 | Q56: 1 | R56: 0 | S56: 1 | T56: 0 | U56: 1 | V56: 1 | W56: 0 | X56: 0 | Y56: 0 | Z56: 0 | AA56: 0 | AB56: 0 | AC56: 0 | AD56: 0 | AE56: 0 | AF56: 0 | AG56: 0 | AH56: 0 | AI56: 0 | AJ56: 0 | AK56: 0 | AL56: 0 | AM56: 0
A57: 假釋出獄付保護管束者命完成加害人處遇計畫（家暴法第39條） | B57: 計 | C57: 52 | D57: 4 | E57: 1 | F57: 0 | G57: 4 | H57: 47 | I57: 0 | J57: 2 | K57: 0 | L57: 13 | M57: 0 | N57: 0 | O57: 0 | P57: 0 | Q57: 12 | R57: 0 | S57: 2 | T57: 0 | U57: 36 | V57: 4 | W57: 1 | X57: 0 | Y57: 4 | Z57: 32 | AA57: 0 | AB57: 0 | AC57: 0 | AD57: 3 | AE57: 0 | AF57: 1 | AG57: 0 | AH57: 0 | AI57: 0 | AJ57: 1 | AK57: 0 | AL57: 1 | AM57: 1
B58: 男 | C58: 47 | D58: 4 | E58: 1 | F58: 0 | G58: 4 | H58: 42 | I58: 0 | J58: 1 | K58: 0 | L58: 10 | M58: 0 | N58: 0 | O58: 0 | P58: 0 | Q58: 9 | R58: 0 | S58: 1 | T58: 0 | U58: 34 | V58: 4 | W58: 1 | X58: 0 | Y58: 4 | Z58: 30 | AA58: 0 | AB58: 0 | AC58: 0 | AD58: 3 | AE58: 0 | AF58: 1 | AG58: 0 | AH58: 0 | AI58: 0 | AJ58: 1 | AK58: 0 | AL58: 1 | AM58: 1
B59: 女 | C59: 5 | D59: 0 | E59: 0 | F59: 0 | G59: 0 | H59: 5 | I59: 0 | J59: 1 | K59: 0 | L59: 3 | M59: 0 | N59: 0 | O59: 0 | P59: 0 | Q59: 3 | R59: 0 | S59: 1 | T59: 0 | U59: 2 | V59: 0 | W59: 0 | X59: 0 | Y59: 0 | Z59: 2 | AA59: 0 | AB59: 0 | AC59: 0 | AD59: 0 | AE59: 0 | AF59: 0 | AG59: 0 | AH59: 0 | AI59: 0 | AJ59: 0 | AK59: 0 | AL59: 0 | AM59: 0
A60: 檢察官緩起訴處分命完成加害人處遇計畫 | B60: 計 | C60: 17 | D60: 0 | E60: 1 | F60: 0 | G60: 1 | H60: 13 | I60: 4 | J60: 3 | K60: 0 | L60: 7 | M60: 0 | N60: 1 | O60: 0 | P60: 0 | Q60: 6 | R60: 1 | S60: 1 | T60: 0 | U60: 9 | V60: 0 | W60: 0 | X60: 0 | Y60: 1 | Z60: 4 | AA60: 2 | AB60: 3 | AC60: 0 | AD60: 1 | AE60: 1 | AF60: 0 | AG60: 0 | AH60: 0 | AI60: 0 | AJ60: 0 | AK60: 0 | AL60: 0 | AM60: 1
B61: 男 | C61: 15 | D61: 0 | E61: 1 | F61: 0 | G61: 1 | H61: 12 | I61: 3 | J61: 2 | K61: 0 | L61: 7 | M61: 0 | N61: 1 | O61: 0 | P61: 0 | Q61: 6 | R61: 1 | S61: 1 | T61: 0 | U61: 7 | V61: 0 | W61: 0 | X61: 0 | Y61: 1 | Z61: 4 | AA61: 1 | AB61: 2 | AC61: 0 | AD61: 1 | AE61: 1 | AF61: 0 | AG61: 0 | AH61: 0 | AI61: 0 | AJ61: 0 | AK61: 0 | AL61: 0 | AM61: 1
B62: 女 | C62: 2 | D62: 0 | E62: 0 | F62: 0 | G62: 0 | H62: 1 | I62: 1 | J62: 1 | K62: 0 | L62: 0 | M62: 0 | N62: 0 | O62: 0 | P62: 0 | Q62: 0 | R62: 0 | S62: 0 | T62: 0 | U62: 2 | V62: 0 | W62: 0 | X62: 0 | Y62: 0 | Z62: 0 | AA62: 1 | AB62: 1 | AC62: 0 | AD62: 0 | AE62: 0 | AF62: 0 | AG62: 0 | AH62: 0 | AI62: 0 | AJ62: 0 | AK62: 0 | AL62: 0 | AM62: 0
A64: 件數與罰鍰金額 | C64: 4.家庭暴力事件裁罰按裁罰事由統計
C65: 合計 | D65: 執行家庭暴力防治人員，在執行職務時知有疑似家庭暴力情事，未立即通報當地主管機關者（家庭暴力防治法第62條第1項） | J65: 醫療機構對於家庭暴力之被害人，無故拒絕診療及開立驗傷診斷書者（家庭暴力防治法第62條第2項） | N65: 無正當理由撥打24小時專線電話，致妨害公務執行，經勸阻不聽者（家庭暴力防治法第63條）
A66: 件數 | C66: 2 | D66: 2 | J66: 0 | N66: 0
A67: 罰鍰金額(新台幣元) | C67: 12000 | D67: 12000 | J67: 0 | N67: 0

Sheet 107
A1: 5.1-03 推展家庭暴力防治業務
A2: 民國107年
A4: 被害人國籍身分 與性別 | C4: 1.家庭暴力被害人保護扶助人次（人次）
C5: 合計 | D5: 諮詢協談 | E5: 庇護安置 | G5: 陪同報案偵詢（訊） | H5: 陪同出庭 | I5: 驗傷診療 | J5: 聲請 保護令 | K5: 法律扶助 | L5: 經濟扶助 | M5: 心理諮商與輔導 | N5: 就業服務 | O5: 就學或轉學 服務 | P5: 轉介/提供目睹暴力服務 | Q5: 子女問題 協助 | R5: 通譯服務 | S5: 其他扶助
E6: 被害人 | F6: 隨行子女
A7: 合計 | B7: 計 | C7: 1309184 | D7: 1076741 | E7: 15143 | F7: 839 | G7: 769 | H7: 7875 | I7: 4185 | J7: 6198 | K7: 44170 | L7: 23149 | M7: 13736 | N7: 2938 | O7: 2621 | P7: 15513 | Q7: 14434 | R7: 92 | S7: 80781
B8: 男 | C8: 350764 | D8: 291994 | E8: 7142 | F8: 122 | G8: 158 | H8: 1629 | I8: 1601 | J8: 1147 | K8: 7102 | L8: 8301 | M8: 4127 | N8: 553 | O8: 1377 | P8: 2539 | Q8: 2242 | R8: 13 | S8: 20717
B9: 女 | C9: 958420 | D9: 784747 | E9: 8001 | F9: 717 | G9: 611 | H9: 6246 | I9: 2584 | J9: 5051 | K9: 37068 | L9: 14848 | M9: 9609 | N9: 2385 | O9: 1244 | P9: 12974 | Q9: 12192 | R9: 79 | S9: 60064
A10: 本國籍 非原住民 | B10: 男 | C10: 315414 | D10: 263290 | E10: 6434 | F10: 110 | G10: 136 | H10: 1467 | I10: 1457 | J10: 1018 | K10: 6259 | L10: 7545 | M10: 3838 | N10: 510 | O10: 1295 | P10: 2247 | Q10: 2006 | R10: 11 | S10: 17791
B11: 女 | C11: 816943 | D11: 670411 | E11: 6972 | F11: 527 | G11: 481 | H11: 5235 | I11: 2210 | J11: 4013 | K11: 31093 | L11: 12727 | M11: 8291 | N11: 1881 | O11: 1083 | P11: 11514 | Q11: 10569 | R11: 20 | S11: 49916
A12: 本國籍 原住民 | B12: 男 | C12: 22172 | D12: 17165 | E12: 695 | F12: 8 | G12: 12 | H12: 97 | I12: 106 | J12: 104 | K12: 563 | L12: 666 | M12: 218 | N12: 20 | O12: 69 | P12: 117 | Q12: 65 | R12: 0 | S12: 2267
B13: 女 | C13: 64281 | D13: 48104 | E13: 744 | F13: 94 | G13: 46 | H13: 493 | I13: 225 | J13: 634 | K13: 3580 | L13: 1346 | M13: 808 | N13: 216 | O13: 131 | P13: 581 | Q13: 617 | R13: 0 | S13: 6662
A14: 大陸籍 （含港澳） | B14: 男 | C14: 401 | D14: 326 | E14: 3 | F14: 0 | G14: 1 | H14: 1 | I14: 0 | J14: 1 | K14: 20 | L14: 4 | M14: 0 | N14: 6 | O14: 0 | P14: 2 | Q14: 11 | R14: 0 | S14: 26
B15: 女 | C15: 18188 | D15: 15143 | E15: 108 | F15: 34 | G15: 45 | H15: 134 | I15: 56 | J15: 126 | K15: 725 | L15: 189 | M15: 165 | N15: 98 | O15: 2 | P15: 186 | Q15: 190 | R15: 0 | S15: 987
A16: 外國籍 | B16: 男 | C16: 1333 | D16: 1150 | E16: 3 | F16: 1 | G16: 1 | H16: 8 | I16: 12 | J16: 2 | K16: 23 | L16: 13 | M16: 14 | N16: 1 | O16: 0 | P16: 5 | Q16: 1 | R16: 2 | S16: 97
B17: 女 | C17: 27251 | D17: 22560 | E17: 105 | F17: 33 | G17: 25 | H17: 265 | I17: 55 | J17: 210 | K17: 1048 | L17: 406 | M17: 179 | N17: 127 | O17: 17 | P17: 300 | Q17: 496 | R17: 59 | S17: 1366
A18: 其他 | B18: 男 | C18: 11444 | D18: 10063 | E18: 7 | F18: 3 | G18: 8 | H18: 56 | I18: 26 | J18: 22 | K18: 237 | L18: 73 | M18: 57 | N18: 16 | O18: 13 | P18: 168 | Q18: 159 | R18: 0 | S18: 536
B19: 女 | C19: 31757 | D19: 28529 | E19: 72 | F19: 29 | G19: 14 | H19: 119 | I19: 38 | J19: 68 | K19: 622 | L19: 180 | M19: 166 | N19: 63 | O19: 11 | P19: 393 | Q19: 320 | R19: 0 | S19: 1133
A21: 被害人國籍身分 | C21: 2.家庭暴力被害人保護扶助金額 (元)
C22: 合計 | D22: 緊急 生活扶助 | E22: 生活扶助 | F22: 急難救助 | G22: 租金補助 | H22: 醫療補助 | I22: 庇護安置補助 | J22: 心理治療、諮商與輔導費用 | K22: 律師費用 補助 | L22: 訴訟費用 補助 | M22: 子女生活 津貼/補助 | N22: 子女 教育補助 | O22: 兒童托育 費用/津貼 | P22: 民間慈善團體資助 | Q22: 其他補助
A23: 合計 | C23: 961394330 | D23: 58916303 | E23: 186591160 | F23: 4895842 | G23: 20761594 | H23: 13388786 | I23: 512170801 | J23: 25089366 | K23: 6779332 | L23: 1068700 | M23: 94352837 | N23: 2319791 | O23: 5443453 | P23: 10204543 | Q23: 19411822
A24: 本國籍非原住民 | C24: 883542648 | D24: 51682738 | E24: 173058002 | F24: 4580610 | G24: 18416547 | H24: 12643872 | I24: 471371690 | J24: 22608786 | K24: 5882012 | L24: 978700 | M24: 89068229 | N24: 2251561 | O24: 4911059 | P24: 7943314 | Q24: 18145528
A25: 本國籍原住民 | C25: 56227401 | D25: 3596502 | E25: 8650016 | F25: 194132 | G25: 895828 | H25: 271685 | I25: 34238109 | J25: 1359406 | K25: 562500 | L25: 30000 | M25: 3327310 | N25: 68230 | O25: 202394 | P25: 1826170 | Q25: 1005119
A26: 大陸籍（含港澳） | C26: 6299488 | D26: 1581244 | E26: 889964 | F26: 37000 | G26: 236000 | H26: 92777 | I26: 2714048 | J26: 307377 | K26: 4820 | L26: 30000 | M26: 282470 | N26: 0 | O26: 0 | P26: 91700 | Q26: 32088
A27: 外國籍 | C27: 7745538 | D27: 1769929 | E27: 1043952 | F27: 35100 | G27: 398500 | H27: 164198 | I27: 3017976 | J27: 200625 | K27: 227500 | L27: 5000 | M27: 320794 | N27: 0 | O27: 213000 | P27: 188870 | Q27: 160094
A28: 其他 | C28: 7579255 | D28: 285890 | E28: 2949226 | F28: 49000 | G28: 814719 | H28: 216254 | I28: 828978 | J28: 613172 | K28: 102500 | L28: 25000 | M28: 1354034 | N28: 0 | O28: 117000 | P28: 154489 | Q28: 68993
A30: 資料來源、 加害人性別 | C30: 3.家庭暴力加害人處遇
C31: 本期囑託鑑定、評估人數 (人) | D31: 本期完成囑託鑑定、評估人數 (人) | E31: 本期完成 主動評估人數（人） | F31: 本期法院裁定加害人處遇人數 (人) | G31: 本期法院逕裁加害人處遇人數 (人) | H31: 本期法院裁定加害人處遇計畫項目人次(複選)
H32: 合計 | I32: 精神治療 | J32: 戒癮治療 | L32: 心理輔導 | M32: 認知教育輔導 | O32: 其他輔導、治療
J33: 戒酒癮 | K33: 戒藥毒癮 | M33: 認知教育 | N33: 戒酒教育 | O33: 親職教育 | P33: 其他
A34: 法院裁定加害人處遇計畫者（家暴法第14條第1項第10款） | B34: 計 | C34: 3849 | D34: 3104 | E34: 1278 | F34: 4053 | G34: 1676 | H34: 4908 | I34: 383 | J34: 200 | K34: 53 | L34: 220 | M34: 3262 | N34: 555 | O34: 204 | P34: 31
B35: 男 | C35: 3505 | D35: 2824 | E35: 1175 | F35: 3618 | G35: 1475 | H35: 4368 | I35: 304 | J35: 196 | K35: 46 | L35: 170 | M35: 2937 | N35: 532 | O35: 157 | P35: 26
B36: 女 | C36: 344 | D36: 280 | E36: 103 | F36: 435 | G36: 201 | H36: 540 | I36: 79 | J36: 4 | K36: 7 | L36: 50 | M36: 325 | N36: 23 | O36: 47 | P36: 5
A37: 犯家暴罪或違反保護令罪付保護管束者命完成加害人處遇計畫（家暴法第38條） | B37: 計 | C37: 0 | D37: 0 | E37: 0 | F37: 1 | G37: 0 | H37: 3 | I37: 1 | J37: 0 | K37: 0 | L37: 0 | M37: 2 | N37: 0 | O37: 0 | P37: 0
B38: 男 | C38: 0 | D38: 0 | E38: 0 | F38: 0 | G38: 0 | H38: 2 | I38: 0 | J38: 0 | K38: 0 | L38: 0 | M38: 2 | N38: 0 | O38: 0 | P38: 0
B39: 女 | C39: 0 | D39: 0 | E39: 0 | F39: 1 | G39: 0 | H39: 1 | I39: 1 | J39: 0 | K39: 0 | L39: 0 | M39: 0 | N39: 0 | O39: 0 | P39: 0
A40: 假釋出獄付保護管束者命完成加害人處遇計畫（家暴法第39條） | B40: 計 | C40: 15 | D40: 14 | E40: 0 | F40: 21 | G40: 1 | H40: 30 | I40: 0 | J40: 0 | K40: 0 | L40: 7 | M40: 18 | N40: 0 | O40: 5 | P40: 0
B41: 男 | C41: 13 | D41: 13 | E41: 0 | F41: 19 | G41: 1 | H41: 28 | I41: 0 | J41: 0 | K41: 0 | L41: 6 | M41: 18 | N41: 0 | O41: 4 | P41: 0
B42: 女 | C42: 2 | D42: 1 | E42: 0 | F42: 2 | G42: 0 | H42: 2 | I42: 0 | J42: 0 | K42: 0 | L42: 1 | M42: 0 | N42: 0 | O42: 1 | P42: 0
A43: 檢察官緩起訴處分命完成加害人處遇計畫 | B43: 計 | C43: 0 | D43: 0 | E43: 0 | H43: 22 | I43: 1 | J43: 3 | K43: 0 | L43: 2 | M43: 10 | N43: 4 | O43: 2 | P43: 0
B44: 男 | C44: 0 | D44: 0 | E44: 0 | H44: 22 | I44: 1 | J44: 3 | K44: 0 | L44: 2 | M44: 10 | N44: 4 | O44: 2 | P44: 0
B45: 女 | C45: 0 | D45: 0 | E45: 0 | H45: 0 | I45: 0 | J45: 0 | K45: 0 | L45: 0 | M45: 0 | N45: 0 | O45: 0 | P45: 0
A47: 資料來源、 加害人性別 | C47: 3.家庭暴力加害人處遇
C48: 本年截至本期累計應執行處遇人數（A） | D48: 本年截至本期累計應執行處遇者各處遇項目執行人次 | L48: 本年截至本期累計完成處遇人數 （B） | M48: 本年截至本期累計各處遇項目完成人次 | U48: 本年截至本期累計尚在執行處遇人數 （C） | V48: 本年截至本期累計尚在執行處遇者各處遇項目人次 | AD48: 本年截至本期累計顯已無法完成處遇者按原因別分(人數) | AM48: 本年截至本期累計顯已無法完成處遇者，移送地檢署人數
D49: 精神治療 | E49: 戒癮治療 | G49: 心理輔導 | H49: 認知教育輔導 | J49: 其他輔導、治療 | M49: 精神治療 | N49: 戒癮治療 | P49: 心理輔導 | Q49: 認知教育輔導 | S49: 其他輔導、治療 | V49: 精神治療 | W49: 戒癮治療 | Y49: 心理輔導 | Z49: 認知教育輔導 | AB49: 其他輔導、治療 | AD49: 合計 （D） | AE49: 個案拒報到 | AF49: 個案死亡 | AG49: 個案傷殘或住院 | AH49: 個案因案入監無法執行 | AI49: 送達證書個案拒領或無法送達 | AJ49: 個案轉介其他縣市執行 | AK49: 被害人 撤銷或變更保護令 | AL49: 其他
E50: 戒酒癮 | F50: 戒藥毒癮 | H50: 認知教育 | I50: 戒酒教育 | J50: 親職教育 | K50: 其他 | N50: 戒酒癮 | O50: 戒藥毒癮 | Q50: 認知教育 | R50: 戒酒教育 | S50: 親職教育 | T50: 其他 | W50: 戒酒癮 | X50: 戒藥毒癮 | Z50: 認知教育 | AA50: 戒酒教育 | AB50: 親職教育 | AC50: 其他
A51: 法院裁定加害人處遇計畫者（家暴法第14條第1項第10款） | B51: 計 | C51: 5059 | D51: 718 | E51: 398 | F51: 115 | G51: 380 | H51: 3744 | I51: 1014 | J51: 293 | K51: 21 | L51: 1323 | M51: 128 | N51: 84 | O51: 14 | P51: 88 | Q51: 1050 | R51: 305 | S51: 74 | T51: 9 | U51: 2827 | V51: 462 | W51: 211 | X51: 69 | Y51: 220 | Z51: 1936 | AA51: 518 | AB51: 159 | AC51: 4 | AD51: 909 | AE51: 319 | AF51: 29 | AG51: 10 | AH51: 66 | AI51: 4 | AJ51: 264 | AK51: 130 | AL51: 87 | AM51: 335
B52: 男 | C52: 4616 | D52: 593 | E52: 381 | F52: 109 | G52: 302 | H52: 3470 | I52: 989 | J52: 230 | K52: 17 | L52: 1200 | M52: 103 | N52: 82 | O52: 13 | P52: 68 | Q52: 971 | R52: 299 | S52: 56 | T52: 7 | U52: 2575 | V52: 381 | W52: 209 | X52: 65 | Y52: 175 | Z52: 1807 | AA52: 504 | AB52: 124 | AC52: 4 | AD52: 841 | AE52: 297 | AF52: 26 | AG52: 10 | AH52: 65 | AI52: 4 | AJ52: 237 | AK52: 119 | AL52: 83 | AM52: 318
B53: 女 | C53: 443 | D53: 125 | E53: 17 | F53: 6 | G53: 78 | H53: 274 | I53: 25 | J53: 63 | K53: 4 | L53: 123 | M53: 25 | N53: 2 | O53: 1 | P53: 20 | Q53: 79 | R53: 6 | S53: 18 | T53: 2 | U53: 252 | V53: 81 | W53: 2 | X53: 4 | Y53: 45 | Z53: 129 | AA53: 14 | AB53: 35 | AC53: 0 | AD53: 68 | AE53: 22 | AF53: 3 | AG53: 0 | AH53: 1 | AI53: 0 | AJ53: 27 | AK53: 11 | AL53: 4 | AM53: 17
A54: 犯家暴罪或違反保護令罪付保護管束者命完成加害人處遇計畫（家暴法第38條） | B54: 計 | C54: 7 | D54: 1 | E54: 1 | F54: 0 | G54: 1 | H54: 5 | I54: 0 | J54: 0 | K54: 0 | L54: 5 | M54: 1 | N54: 1 | O54: 0 | P54: 1 | Q54: 3 | R54: 0 | S54: 0 | T54: 0 | U54: 2 | V54: 0 | W54: 0 | X54: 0 | Y54: 0 | Z54: 2 | AA54: 0 | AB54: 0 | AC54: 0 | AD54: 0 | AE54: 0 | AF54: 0 | AG54: 0 | AH54: 0 | AI54: 0 | AJ54: 0 | AK54: 0 | AL54: 0 | AM54: 0
B55: 男 | C55: 5 | D55: 0 | E55: 1 | F55: 0 | G55: 0 | H55: 4 | I55: 0 | J55: 0 | K55: 0 | L55: 3 | M55: 0 | N55: 1 | O55: 0 | P55: 0 | Q55: 2 | R55: 0 | S55: 0 | T55: 0 | U55: 2 | V55: 0 | W55: 0 | X55: 0 | Y55: 0 | Z55: 2 | AA55: 0 | AB55: 0 | AC55: 0 | AD55: 0 | AE55: 0 | AF55: 0 | AG55: 0 | AH55: 0 | AI55: 0 | AJ55: 0 | AK55: 0 | AL55: 0 | AM55: 0
B56: 女 | C56: 2 | D56: 1 | E56: 0 | F56: 0 | G56: 1 | H56: 1 | I56: 0 | J56: 0 | K56: 0 | L56: 2 | M56: 1 | N56: 0 | O56: 0 | P56: 1 | Q56: 1 | R56: 0 | S56: 0 | T56: 0 | U56: 0 | V56: 0 | W56: 0 | X56: 0 | Y56: 0 | Z56: 0 | AA56: 0 | AB56: 0 | AC56: 0 | AD56: 0 | AE56: 0 | AF56: 0 | AG56: 0 | AH56: 0 | AI56: 0 | AJ56: 0 | AK56: 0 | AL56: 0 | AM56: 0
A57: 假釋出獄付保護管束者命完成加害人處遇計畫（家暴法第39條） | B57: 計 | C57: 43 | D57: 3 | E57: 0 | F57: 0 | G57: 12 | H57: 29 | I57: 0 | J57: 5 | K57: 0 | L57: 20 | M57: 2 | N57: 0 | O57: 0 | P57: 3 | Q57: 17 | R57: 0 | S57: 1 | T57: 0 | U57: 21 | V57: 1 | W57: 0 | X57: 0 | Y57: 8 | Z57: 10 | AA57: 0 | AB57: 4 | AC57: 0 | AD57: 2 | AE57: 0 | AF57: 0 | AG57: 0 | AH57: 0 | AI57: 0 | AJ57: 1 | AK57: 0 | AL57: 1 | AM57: 1
B58: 男 | C58: 39 | D58: 2 | E58: 0 | F58: 0 | G58: 9 | H58: 28 | I58: 0 | J58: 4 | K58: 0 | L58: 20 | M58: 1 | N58: 0 | O58: 0 | P58: 3 | Q58: 17 | R58: 0 | S58: 1 | T58: 0 | U58: 17 | V58: 1 | W58: 0 | X58: 0 | Y58: 5 | Z58: 9 | AA58: 0 | AB58: 3 | AC58: 0 | AD58: 2 | AE58: 0 | AF58: 0 | AG58: 0 | AH58: 0 | AI58: 0 | AJ58: 1 | AK58: 0 | AL58: 1 | AM58: 1
B59: 女 | C59: 4 | D59: 1 | E59: 0 | F59: 0 | G59: 3 | H59: 1 | I59: 0 | J59: 1 | K59: 0 | L59: 0 | M59: 1 | N59: 0 | O59: 0 | P59: 0 | Q59: 0 | R59: 0 | S59: 0 | T59: 0 | U59: 4 | V59: 0 | W59: 0 | X59: 0 | Y59: 3 | Z59: 1 | AA59: 0 | AB59: 1 | AC59: 0 | AD59: 0 | AE59: 0 | AF59: 0 | AG59: 0 | AH59: 0 | AI59: 0 | AJ59: 0 | AK59: 0 | AL59: 0 | AM59: 0
A60: 檢察官緩起訴處分命完成加害人處遇計畫 | B60: 計 | C60: 21 | D60: 1 | E60: 4 | F60: 0 | G60: 2 | H60: 10 | I60: 8 | J60: 3 | K60: 0 | L60: 10 | M60: 1 | N60: 1 | O60: 0 | P60: 1 | Q60: 6 | R60: 3 | S60: 2 | T60: 0 | U60: 9 | V60: 0 | W60: 2 | X60: 0 | Y60: 1 | Z60: 4 | AA60: 3 | AB60: 1 | AC60: 0 | AD60: 2 | AE60: 2 | AF60: 0 | AG60: 0 | AH60: 0 | AI60: 0 | AJ60: 0 | AK60: 0 | AL60: 0 | AM60: 2
B61: 男 | C61: 21 | D61: 1 | E61: 4 | F61: 0 | G61: 2 | H61: 10 | I61: 8 | J61: 3 | K61: 0 | L61: 10 | M61: 1 | N61: 1 | O61: 0 | P61: 1 | Q61: 6 | R61: 3 | S61: 2 | T61: 0 | U61: 9 | V61: 0 | W61: 2 | X61: 0 | Y61: 1 | Z61: 4 | AA61: 3 | AB61: 1 | AC61: 0 | AD61: 2 | AE61: 2 | AF61: 0 | AG61: 0 | AH61: 0 | AI61: 0 | AJ61: 0 | AK61: 0 | AL61: 0 | AM61: 2
B62: 女 | C62: 0 | D62: 0 | E62: 0 | F62: 0 | G62: 0 | H62: 0 | I62: 0 | J62: 0 | K62: 0 | L62: 0 | M62: 0 | N62: 0 | O62: 0 | P62: 0 | Q62: 0 | R62: 0 | S62: 0 | T62: 0 | U62: 0 | V62: 0 | W62: 0 | X62: 0 | Y62: 0 | Z62: 0 | AA62: 0 | AB62: 0 | AC62: 0 | AD62: 0 | AE62: 0 | AF62: 0 | AG62: 0 | AH62: 0 | AI62: 0 | AJ62: 0 | AK62: 0 | AL62: 0 | AM62: 0
A64: 件數與罰鍰金額 | C64: 4.家庭暴力事件裁罰按裁罰事由統計
C65: 合計 | D65: 執行家庭暴力防治人員，在執行職務時知有疑似家庭暴力情事，未立即通報當地主管機關者（家庭暴力防治法第62條第1項） | J65: 醫療機構對於家庭暴力之被害人，無故拒絕診療及開立驗傷診斷書者（家庭暴力防治法第62條第2項） | N65: 無正當理由撥打24小時專線電話，致妨害公務執行，經勸阻不聽者（家庭暴力防治法第63條）
A66: 件數 | C66: 4 | D66: 4 | J66: 0 | N66: 0
A67: 罰鍰金額(新台幣元) | C67: 28000 | D67: 28000 | J67: 0 | N67: 0

Sheet 106
A1: 5.1-03 推展家庭暴力防治業務
A2: 民國106年
A4: 被害人國籍身分 與性別 | C4: 1.家庭暴力被害人保護扶助人次（人次）
C5: 合計 | D5: 諮詢協談 | E5: 庇護安置 | G5: 陪同報案偵詢（訊） | H5: 陪同出庭 | I5: 驗傷診療 | J5: 聲請 保護令 | K5: 法律扶助 | L5: 經濟扶助 | M5: 心理諮商與輔導 | N5: 就業服務 | O5: 就學或轉學 服務 | P5: 轉介/提供目睹暴力服務 | Q5: 子女問題 協助 | R5: 通譯服務 | S5: 其他扶助
E6: 被害人 | F6: 隨行子女
A7: 合計 | B7: 計 | C7: 1323396 | D7: 1080416 | E7: 20916 | F7: 1167 | G7: 1095 | H7: 8670 | I7: 7844 | J7: 5129 | K7: 45596 | L7: 27013 | M7: 15997 | N7: 2868 | O7: 3364 | P7: 11365 | Q7: 10742 | R7: 200 | S7: 81014
B8: 男 | C8: 332211 | D8: 271086 | E8: 9258 | F8: 409 | G8: 326 | H8: 1556 | I8: 2494 | J8: 959 | K8: 6340 | L8: 7920 | M8: 4471 | N8: 578 | O8: 1612 | P8: 2268 | Q8: 1660 | R8: 12 | S8: 21262
B9: 女 | C9: 991185 | D9: 809330 | E9: 11658 | F9: 758 | G9: 769 | H9: 7114 | I9: 5350 | J9: 4170 | K9: 39256 | L9: 19093 | M9: 11526 | N9: 2290 | O9: 1752 | P9: 9097 | Q9: 9082 | R9: 188 | S9: 59752
A10: 本國籍 非原住民 | B10: 男 | C10: 304523 | D10: 248383 | E10: 8639 | F10: 391 | G10: 313 | H10: 1423 | I10: 2249 | J10: 895 | K10: 5842 | L10: 7301 | M10: 4288 | N10: 555 | O10: 1386 | P10: 2148 | Q10: 1613 | R10: 5 | S10: 19092
B11: 女 | C11: 868408 | D11: 709880 | E11: 10796 | F11: 609 | G11: 624 | H11: 6096 | I11: 4832 | J11: 3562 | K11: 32989 | L11: 17139 | M11: 10879 | N11: 1942 | O11: 1539 | P11: 7899 | Q11: 7864 | R11: 92 | S11: 51666
A12: 本國籍 原住民 | B12: 男 | C12: 21499 | D12: 17220 | E12: 613 | F12: 10 | G12: 12 | H12: 114 | I12: 227 | J12: 60 | K12: 436 | L12: 566 | M12: 159 | N12: 15 | O12: 213 | P12: 81 | Q12: 27 | R12: 0 | S12: 1746
B13: 女 | C13: 65945 | D13: 51602 | E13: 587 | F13: 57 | G13: 78 | H13: 568 | I13: 364 | J13: 361 | K13: 4064 | L13: 1122 | M13: 476 | N13: 163 | O13: 177 | P13: 490 | Q13: 500 | R13: 12 | S13: 5324
A14: 大陸籍 （含港澳） | B14: 男 | C14: 1533 | D14: 1393 | E14: 1 | F14: 8 | G14: 0 | H14: 2 | I14: 14 | J14: 0 | K14: 5 | L14: 17 | M14: 18 | N14: 0 | O14: 8 | P14: 3 | Q14: 9 | R14: 0 | S14: 55
B15: 女 | C15: 22506 | D15: 18906 | E15: 169 | F15: 46 | G15: 28 | H15: 177 | I15: 78 | J15: 89 | K15: 863 | L15: 391 | M15: 118 | N15: 72 | O15: 15 | P15: 234 | Q15: 288 | R15: 1 | S15: 1031
A16: 外國籍 | B16: 男 | C16: 1860 | D16: 1689 | E16: 1 | F16: 0 | G16: 0 | H16: 5 | I16: 0 | J16: 1 | K16: 25 | L16: 9 | M16: 0 | N16: 1 | O16: 3 | P16: 7 | Q16: 2 | R16: 7 | S16: 110
B17: 女 | C17: 27302 | D17: 22690 | E17: 101 | F17: 46 | G17: 32 | H17: 248 | I17: 56 | J17: 129 | K17: 1233 | L17: 396 | M17: 51 | N17: 100 | O17: 7 | P17: 296 | Q17: 375 | R17: 82 | S17: 1460
A18: 其他 | B18: 男 | C18: 2796 | D18: 2401 | E18: 4 | F18: 0 | G18: 1 | H18: 12 | I18: 4 | J18: 3 | K18: 32 | L18: 27 | M18: 6 | N18: 7 | O18: 2 | P18: 29 | Q18: 9 | R18: 0 | S18: 259
B19: 女 | C19: 7024 | D19: 6252 | E19: 5 | F19: 0 | G19: 7 | H19: 25 | I19: 20 | J19: 29 | K19: 107 | L19: 45 | M19: 2 | N19: 13 | O19: 14 | P19: 178 | Q19: 55 | R19: 1 | S19: 271
A21: 被害人國籍身分 | C21: 2.家庭暴力被害人保護扶助金額 (元)
C22: 合計 | D22: 緊急 生活扶助 | E22: 生活扶助 | F22: 急難救助 | G22: 租金補助 | H22: 醫療補助 | I22: 庇護安置補助 | J22: 心理治療、諮商與輔導費用 | K22: 律師費用 補助 | L22: 訴訟費用 補助 | M22: 子女生活 津貼/補助 | N22: 子女 教育補助 | O22: 兒童托育 費用/津貼 | P22: 民間慈善團體資助 | Q22: 其他補助
A23: 合計 | C23: 743362409 | D23: 43599698 | E23: 89604515 | F23: 3823222 | G23: 16300227 | H23: 16230737 | I23: 480791748 | J23: 17743873 | K23: 6050200 | L23: 1526000 | M23: 43538682 | N23: 694645 | O23: 996893 | P23: 10051866 | Q23: 12410103
A24: 本國籍非原住民 | C24: 682326847 | D24: 38775782 | E24: 83659054 | F24: 3574395 | G24: 15217794 | H24: 15364172 | I24: 442752103 | J24: 17119505 | K24: 5490500 | L24: 1518000 | M24: 41188226 | N24: 654145 | O24: 806293 | P24: 7496811 | Q24: 8710067
A25: 本國籍原住民 | C25: 39390369 | D25: 2752327 | E25: 3737743 | F25: 112460 | G25: 423400 | H25: 217855 | I25: 24831308 | J25: 467977 | K25: 262500 | L25: 8000 | M25: 1522017 | N25: 40500 | O25: 156100 | P25: 1827689 | Q25: 3030493
A26: 大陸籍（含港澳） | C26: 6381156 | D26: 1044949 | E26: 1299084 | F26: 109097 | G26: 357900 | H26: 172142 | I26: 2191014 | J26: 76600 | K26: 209200 | L26: 0 | M26: 563708 | N26: 0 | O26: 30000 | P26: 186830 | Q26: 140632
A27: 外國籍 | C27: 4357516 | D27: 1019140 | E27: 812983 | F27: 27270 | G27: 282633 | H27: 156184 | I27: 1006490 | J27: 53591 | K27: 80000 | L27: 0 | M27: 264731 | N27: 0 | O27: 4500 | P27: 498788 | Q27: 151206
A28: 其他 | C28: 10906521 | D28: 7500 | E28: 95651 | F28: 0 | G28: 18500 | H28: 320384 | I28: 10010833 | J28: 26200 | K28: 8000 | L28: 0 | M28: 0 | N28: 0 | O28: 0 | P28: 41748 | Q28: 377705
A30: 資料來源、 加害人性別 | C30: 3.家庭暴力加害人處遇
C31: 本期囑託鑑定、評估人數 (人) | D31: 本期完成囑託鑑定、評估人數 (人) | E31: 本期完成 主動評估人數（人） | F31: 本期法院裁定加害人處遇人數 (人) | G31: 本期法院逕裁加害人處遇人數 (人) | H31: 本期法院裁定加害人處遇計畫項目人次(複選)
H32: 合計 | I32: 精神治療 | J32: 戒癮治療 | L32: 心理輔導 | M32: 認知教育輔導 | O32: 其他輔導、治療
J33: 戒酒癮 | K33: 戒藥毒癮 | M33: 認知教育 | N33: 戒酒教育 | O33: 親職教育 | P33: 其他
A34: 法院裁定加害人處遇計畫者（家暴法第14條第1項第10款） | B34: 計 | C34: 3847 | D34: 3088 | E34: 1164 | F34: 3758 | G34: 1699 | H34: 5087 | I34: 713 | J34: 205 | K34: 68 | L34: 302 | M34: 2722 | N34: 885 | O34: 175 | P34: 17
B35: 男 | C35: 3495 | D35: 2830 | E35: 1049 | F35: 3437 | G35: 1516 | H35: 4665 | I35: 626 | J35: 199 | K35: 67 | L35: 252 | M35: 2519 | N35: 836 | O35: 154 | P35: 12
B36: 女 | C36: 352 | D36: 258 | E36: 115 | F36: 321 | G36: 183 | H36: 422 | I36: 87 | J36: 6 | K36: 1 | L36: 50 | M36: 203 | N36: 49 | O36: 21 | P36: 5
A37: 犯家暴罪或違反保護令罪付保護管束者命完成加害人處遇計畫（家暴法第38條） | B37: 計 | C37: 0 | D37: 0 | E37: 0 | F37: 9 | G37: 2 | H37: 14 | I37: 0 | J37: 1 | K37: 0 | L37: 2 | M37: 8 | N37: 0 | O37: 2 | P37: 1
B38: 男 | C38: 0 | D38: 0 | E38: 0 | F38: 6 | G38: 2 | H38: 9 | I38: 0 | J38: 1 | K38: 0 | L38: 0 | M38: 6 | N38: 0 | O38: 1 | P38: 1
B39: 女 | C39: 0 | D39: 0 | E39: 0 | F39: 3 | G39: 0 | H39: 5 | I39: 0 | J39: 0 | K39: 0 | L39: 2 | M39: 2 | N39: 0 | O39: 1 | P39: 0
A40: 假釋出獄付保護管束者命完成加害人處遇計畫（家暴法第39條） | B40: 計 | C40: 17 | D40: 17 | E40: 0 | F40: 26 | G40: 9 | H40: 34 | I40: 1 | J40: 0 | K40: 0 | L40: 8 | M40: 20 | N40: 2 | O40: 3 | P40: 0
B41: 男 | C41: 16 | D41: 16 | E41: 0 | F41: 24 | G41: 9 | H41: 32 | I41: 1 | J41: 0 | K41: 0 | L41: 7 | M41: 20 | N41: 2 | O41: 2 | P41: 0
B42: 女 | C42: 1 | D42: 1 | E42: 0 | F42: 2 | G42: 0 | H42: 2 | I42: 0 | J42: 0 | K42: 0 | L42: 1 | M42: 0 | N42: 0 | O42: 1 | P42: 0
A43: 檢察官緩起訴處分命完成加害人處遇計畫 | B43: 計 | C43: 0 | D43: 0 | E43: 0 | H43: 20 | I43: 0 | J43: 3 | K43: 0 | L43: 0 | M43: 10 | N43: 4 | O43: 3 | P43: 0
B44: 男 | C44: 0 | D44: 0 | E44: 0 | H44: 19 | I44: 0 | J44: 3 | K44: 0 | L44: 0 | M44: 9 | N44: 4 | O44: 3 | P44: 0
B45: 女 | C45: 0 | D45: 0 | E45: 0 | H45: 1 | I45: 0 | J45: 0 | K45: 0 | L45: 0 | M45: 1 | N45: 0 | O45: 0 | P45: 0
A47: 資料來源、 加害人性別 | C47: 3.家庭暴力加害人處遇
C48: 本年截至本期累計應執行處遇人數（A） | D48: 本年截至本期累計應執行處遇者各處遇項目執行人次 | L48: 本年截至本期累計完成處遇人數 （B） | M48: 本年截至本期累計各處遇項目完成人次 | U48: 本年截至本期累計尚在執行處遇人數 （C） | V48: 本年截至本期累計尚在執行處遇者各處遇項目人次 | AD48: 本年截至本期累計顯已無法完成處遇者按原因別分(人數) | AM48: 本年截至本期累計顯已無法完成處遇者，移送地檢署人數
D49: 精神治療 | E49: 戒癮治療 | G49: 心理輔導 | H49: 認知教育輔導 | J49: 其他輔導、治療 | M49: 精神治療 | N49: 戒癮治療 | P49: 心理輔導 | Q49: 認知教育輔導 | S49: 其他輔導、治療 | V49: 精神治療 | W49: 戒癮治療 | Y49: 心理輔導 | Z49: 認知教育輔導 | AB49: 其他輔導、治療 | AD49: 合計 （D） | AE49: 個案拒報到 | AF49: 個案死亡 | AG49: 個案傷殘或住院 | AH49: 個案因案入監無法執行 | AI49: 送達證書個案拒領或無法送達 | AJ49: 個案轉介其他縣市執行 | AK49: 被害人 撤銷或變更保護令 | AL49: 其他
E50: 戒酒癮 | F50: 戒藥毒癮 | H50: 認知教育 | I50: 戒酒教育 | J50: 親職教育 | K50: 其他 | N50: 戒酒癮 | O50: 戒藥毒癮 | Q50: 認知教育 | R50: 戒酒教育 | S50: 親職教育 | T50: 其他 | W50: 戒酒癮 | X50: 戒藥毒癮 | Z50: 認知教育 | AA50: 戒酒教育 | AB50: 親職教育 | AC50: 其他
A51: 法院裁定加害人處遇計畫者（家暴法第14條第1項第10款） | B51: 計 | C51: 4474 | D51: 621 | E51: 336 | F51: 111 | G51: 295 | H51: 3281 | I51: 1136 | J51: 219 | K51: 15 | L51: 1361 | M51: 115 | N51: 66 | O51: 6 | P51: 72 | Q51: 1048 | R51: 336 | S51: 63 | T51: 3 | U51: 2349 | V51: 398 | W51: 221 | X51: 73 | Y51: 185 | Z51: 1621 | AA51: 582 | AB51: 124 | AC51: 9 | AD51: 764 | AE51: 264 | AF51: 30 | AG51: 4 | AH51: 61 | AI51: 1 | AJ51: 208 | AK51: 129 | AL51: 67 | AM51: 265
B52: 男 | C52: 4158 | D52: 531 | E52: 319 | F52: 110 | G52: 244 | H52: 3094 | I52: 1112 | J52: 177 | K52: 12 | L52: 1261 | M52: 97 | N52: 60 | O52: 6 | P52: 61 | Q52: 978 | R52: 327 | S52: 47 | T52: 3 | U52: 2187 | V52: 349 | W52: 216 | X52: 73 | Y52: 150 | Z52: 1542 | AA52: 575 | AB52: 106 | AC52: 7 | AD52: 710 | AE52: 241 | AF52: 29 | AG52: 4 | AH52: 59 | AI52: 1 | AJ52: 195 | AK52: 121 | AL52: 60 | AM52: 241
B53: 女 | C53: 316 | D53: 90 | E53: 17 | F53: 1 | G53: 51 | H53: 187 | I53: 24 | J53: 42 | K53: 3 | L53: 100 | M53: 18 | N53: 6 | O53: 0 | P53: 11 | Q53: 70 | R53: 9 | S53: 16 | T53: 0 | U53: 162 | V53: 49 | W53: 5 | X53: 0 | Y53: 35 | Z53: 79 | AA53: 7 | AB53: 18 | AC53: 2 | AD53: 54 | AE53: 23 | AF53: 1 | AG53: 0 | AH53: 2 | AI53: 0 | AJ53: 13 | AK53: 8 | AL53: 7 | AM53: 24
A54: 犯家暴罪或違反保護令罪付保護管束者命完成加害人處遇計畫（家暴法第38條） | B54: 計 | C54: 9 | D54: 0 | E54: 1 | F54: 0 | G54: 1 | H54: 5 | I54: 0 | J54: 2 | K54: 1 | L54: 0 | M54: 0 | N54: 0 | O54: 0 | P54: 0 | Q54: 0 | R54: 0 | S54: 0 | T54: 0 | U54: 8 | V54: 0 | W54: 1 | X54: 0 | Y54: 1 | Z54: 5 | AA54: 0 | AB54: 1 | AC54: 1 | AD54: 1 | AE54: 0 | AF54: 0 | AG54: 0 | AH54: 0 | AI54: 0 | AJ54: 1 | AK54: 0 | AL54: 0 | AM54: 0
B55: 男 | C55: 7 | D55: 0 | E55: 1 | F55: 0 | G55: 0 | H55: 4 | I55: 0 | J55: 1 | K55: 1 | L55: 0 | M55: 0 | N55: 0 | O55: 0 | P55: 0 | Q55: 0 | R55: 0 | S55: 0 | T55: 0 | U55: 7 | V55: 0 | W55: 1 | X55: 0 | Y55: 0 | Z55: 4 | AA55: 0 | AB55: 1 | AC55: 1 | AD55: 0 | AE55: 0 | AF55: 0 | AG55: 0 | AH55: 0 | AI55: 0 | AJ55: 0 | AK55: 0 | AL55: 0 | AM55: 0
B56: 女 | C56: 2 | D56: 0 | E56: 0 | F56: 0 | G56: 1 | H56: 1 | I56: 0 | J56: 1 | K56: 0 | L56: 0 | M56: 0 | N56: 0 | O56: 0 | P56: 0 | Q56: 0 | R56: 0 | S56: 0 | T56: 0 | U56: 1 | V56: 0 | W56: 0 | X56: 0 | Y56: 1 | Z56: 1 | AA56: 0 | AB56: 0 | AC56: 0 | AD56: 1 | AE56: 0 | AF56: 0 | AG56: 0 | AH56: 0 | AI56: 0 | AJ56: 1 | AK56: 0 | AL56: 0 | AM56: 0
A57: 假釋出獄付保護管束者命完成加害人處遇計畫（家暴法第39條） | B57: 計 | C57: 42 | D57: 4 | E57: 0 | F57: 0 | G57: 14 | H57: 29 | I57: 3 | J57: 4 | K57: 0 | L57: 12 | M57: 1 | N57: 0 | O57: 0 | P57: 5 | Q57: 8 | R57: 4 | S57: 2 | T57: 0 | U57: 26 | V57: 1 | W57: 0 | X57: 0 | Y57: 8 | Z57: 17 | AA57: 1 | AB57: 3 | AC57: 0 | AD57: 4 | AE57: 1 | AF57: 0 | AG57: 0 | AH57: 1 | AI57: 0 | AJ57: 2 | AK57: 0 | AL57: 0 | AM57: 1
B58: 男 | C58: 36 | D58: 2 | E58: 0 | F58: 0 | G58: 10 | H58: 27 | I58: 3 | J58: 2 | K58: 0 | L58: 9 | M58: 0 | N58: 0 | O58: 0 | P58: 3 | Q58: 7 | R58: 4 | S58: 0 | T58: 0 | U58: 23 | V58: 1 | W58: 0 | X58: 0 | Y58: 6 | Z58: 16 | AA58: 1 | AB58: 2 | AC58: 0 | AD58: 4 | AE58: 1 | AF58: 0 | AG58: 0 | AH58: 1 | AI58: 0 | AJ58: 2 | AK58: 0 | AL58: 0 | AM58: 1
B59: 女 | C59: 6 | D59: 2 | E59: 0 | F59: 0 | G59: 4 | H59: 2 | I59: 0 | J59: 2 | K59: 0 | L59: 3 | M59: 1 | N59: 0 | O59: 0 | P59: 2 | Q59: 1 | R59: 0 | S59: 2 | T59: 0 | U59: 3 | V59: 0 | W59: 0 | X59: 0 | Y59: 2 | Z59: 1 | AA59: 0 | AB59: 1 | AC59: 0 | AD59: 0 | AE59: 0 | AF59: 0 | AG59: 0 | AH59: 0 | AI59: 0 | AJ59: 0 | AK59: 0 | AL59: 0 | AM59: 0
A60: 檢察官緩起訴處分命完成加害人處遇計畫 | B60: 計 | C60: 19 | D60: 0 | E60: 6 | F60: 0 | G60: 1 | H60: 13 | I60: 7 | J60: 2 | K60: 0 | L60: 10 | M60: 0 | N60: 4 | O60: 0 | P60: 1 | Q60: 6 | R60: 4 | S60: 1 | T60: 0 | U60: 6 | V60: 0 | W60: 3 | X60: 0 | Y60: 0 | Z60: 3 | AA60: 3 | AB60: 1 | AC60: 0 | AD60: 3 | AE60: 2 | AF60: 0 | AG60: 0 | AH60: 0 | AI60: 0 | AJ60: 1 | AK60: 0 | AL60: 0 | AM60: 2
B61: 男 | C61: 18 | D61: 0 | E61: 6 | F61: 0 | G61: 1 | H61: 12 | I61: 7 | J61: 2 | K61: 0 | L61: 9 | M61: 0 | N61: 4 | O61: 0 | P61: 1 | Q61: 5 | R61: 4 | S61: 1 | T61: 0 | U61: 6 | V61: 0 | W61: 3 | X61: 0 | Y61: 0 | Z61: 3 | AA61: 3 | AB61: 1 | AC61: 0 | AD61: 3 | AE61: 2 | AF61: 0 | AG61: 0 | AH61: 0 | AI61: 0 | AJ61: 1 | AK61: 0 | AL61: 0 | AM61: 2
B62: 女 | C62: 1 | D62: 0 | E62: 0 | F62: 0 | G62: 0 | H62: 1 | I62: 0 | J62: 0 | K62: 0 | L62: 1 | M62: 0 | N62: 0 | O62: 0 | P62: 0 | Q62: 1 | R62: 0 | S62: 0 | T62: 0 | U62: 0 | V62: 0 | W62: 0 | X62: 0 | Y62: 0 | Z62: 0 | AA62: 0 | AB62: 0 | AC62: 0 | AD62: 0 | AE62: 0 | AF62: 0 | AG62: 0 | AH62: 0 | AI62: 0 | AJ62: 0 | AK62: 0 | AL62: 0 | AM62: 0
A64: 件數與罰鍰金額 | C64: 4.家庭暴力事件裁罰按裁罰事由統計
C65: 合計 | D65: 執行家庭暴力防治人員，在執行職務時知有疑似家庭暴力情事，未立即通報當地主管機關者（家庭暴力防治法第62條第1項） | J65: 醫療機構對於家庭暴力之被害人，無故拒絕診療及開立驗傷診斷書者（家庭暴力防治法第62條第2項） | N65: 無正當理由撥打24小時專線電話，致妨害公務執行，經勸阻不聽者（家庭暴力防治法第63條）
A66: 件數 | C66: 3 | D66: 3 | J66: 0 | N66: 0
A67: 罰鍰金額(新台幣元) | C67: 66000 | D67: 66000 | J67: 0 | N67: 0

Sheet 105
A1: 5.1-03 推展家庭暴力防治業務
A2: 民國105年
A4: 被害人國籍身分 與性別 | C4: 1.家庭暴力被害人保護扶助人次（人次）
C5: 合計 | D5: 諮詢協談 | E5: 庇護安置 | G5: 陪同報案偵詢（訊） | H5: 陪同出庭 | I5: 驗傷診療 | J5: 聲請 保護令 | K5: 法律扶助 | L5: 經濟扶助 | M5: 心理諮商與輔導 | N5: 就業服務 | O5: 就學或轉學 服務 | P5: 轉介/提供目睹暴力服務 | Q5: 子女問題 協助 | R5: 通譯服務 | S5: 其他扶助
E6: 被害人 | F6: 隨行子女
A7: 合計 | B7: 計 | C7: 1297726 | D7: 1040109 | E7: 21638 | F7: 1472 | G7: 1074 | H7: 8536 | I7: 8703 | J7: 6185 | K7: 46307 | L7: 26709 | M7: 20166 | N7: 3322 | O7: 6583 | P7: 13543 | Q7: 15086 | R7: 154 | S7: 78139
B8: 男 | C8: 335860 | D8: 265804 | E8: 9739 | F8: 398 | G8: 187 | H8: 1451 | I8: 2848 | J8: 946 | K8: 8172 | L8: 8095 | M8: 5972 | N8: 803 | O8: 3388 | P8: 3139 | Q8: 4620 | R8: 32 | S8: 20266
B9: 女 | C9: 961866 | D9: 774305 | E9: 11899 | F9: 1074 | G9: 887 | H9: 7085 | I9: 5855 | J9: 5239 | K9: 38135 | L9: 18614 | M9: 14194 | N9: 2519 | O9: 3195 | P9: 10404 | Q9: 10466 | R9: 122 | S9: 57873
A10: 本國籍 非原住民 | B10: 男 | C10: 306163 | D10: 243811 | E10: 9152 | F10: 370 | G10: 142 | H10: 1258 | I10: 2192 | J10: 672 | K10: 6935 | L10: 7236 | M10: 5670 | N10: 746 | O10: 3183 | P10: 2863 | Q10: 4272 | R10: 23 | S10: 17638
B11: 女 | C11: 823332 | D11: 667448 | E11: 10806 | F11: 861 | G11: 627 | H11: 5897 | I11: 5128 | J11: 2899 | K11: 30225 | L11: 16371 | M11: 13101 | N11: 2086 | O11: 2758 | P11: 8475 | Q11: 9004 | R11: 31 | S11: 47615
A12: 本國籍 原住民 | B12: 男 | C12: 22440 | D12: 16502 | E12: 543 | F12: 20 | G12: 23 | H12: 173 | I12: 538 | J12: 63 | K12: 1060 | L12: 772 | M12: 222 | N12: 34 | O12: 149 | P12: 155 | Q12: 270 | R12: 4 | S12: 1912
B13: 女 | C13: 65614 | D13: 47661 | E13: 636 | F13: 102 | G13: 116 | H13: 584 | I13: 475 | J13: 471 | K13: 4970 | L13: 1280 | M13: 522 | N13: 230 | O13: 397 | P13: 1023 | Q13: 896 | R13: 33 | S13: 6218
A14: 大陸籍 （含港澳） | B14: 男 | C14: 1115 | D14: 892 | E14: 17 | F14: 5 | G14: 3 | H14: 4 | I14: 2 | J14: 0 | K14: 30 | L14: 7 | M14: 24 | N14: 13 | O14: 2 | P14: 7 | Q14: 30 | R14: 0 | S14: 79
B15: 女 | C15: 28949 | D15: 24198 | E15: 234 | F15: 61 | G15: 29 | H15: 237 | I15: 74 | J15: 131 | K15: 1276 | L15: 429 | M15: 301 | N15: 61 | O15: 9 | P15: 280 | Q15: 225 | R15: 3 | S15: 1401
A16: 外國籍 | B16: 男 | C16: 1817 | D16: 1303 | E16: 3 | F16: 3 | G16: 7 | H16: 3 | I16: 40 | J16: 130 | K16: 77 | L16: 18 | M16: 18 | N16: 6 | O16: 2 | P16: 7 | Q16: 37 | R16: 3 | S16: 160
B17: 女 | C17: 33380 | D17: 26665 | E17: 204 | F17: 48 | G17: 65 | H17: 321 | I17: 108 | J17: 999 | K17: 1494 | L17: 462 | M17: 223 | N17: 128 | O17: 9 | P17: 294 | Q17: 294 | R17: 55 | S17: 2011
A18: 其他 | B18: 男 | C18: 4325 | D18: 3296 | E18: 24 | F18: 0 | G18: 12 | H18: 13 | I18: 76 | J18: 81 | K18: 70 | L18: 62 | M18: 38 | N18: 4 | O18: 52 | P18: 107 | Q18: 11 | R18: 2 | S18: 477
B19: 女 | C19: 10591 | D19: 8333 | E19: 19 | F19: 2 | G19: 50 | H19: 46 | I19: 70 | J19: 739 | K19: 170 | L19: 72 | M19: 47 | N19: 14 | O19: 22 | P19: 332 | Q19: 47 | R19: 0 | S19: 628
A21: 被害人國籍身分 | C21: 2.家庭暴力被害人保護扶助金額 (元)
C22: 合計 | D22: 緊急 生活扶助 | E22: 生活扶助 | F22: 急難救助 | G22: 租金補助 | H22: 醫療補助 | I22: 庇護安置補助 | J22: 心理治療、諮商與輔導費用 | K22: 律師費用 補助 | L22: 訴訟費用 補助 | M22: 子女生活 津貼/補助 | N22: 子女 教育補助 | O22: 兒童托育 費用/津貼 | P22: 民間慈善團體資助 | Q22: 其他補助
A23: 合計 | C23: 612229528 | D23: 38664592 | E23: 20155709 | F23: 4190494 | G23: 7829427 | H23: 14870067 | I23: 459922876 | J23: 18007835 | K23: 6730780 | L23: 1173080 | M23: 2793079 | N23: 602051 | O23: 2494818 | P23: 14337965 | Q23: 20456755
A24: 本國籍非原住民 | C24: 567807592 | D24: 34269596 | E24: 18086953 | F24: 3610144 | G24: 6596783 | H24: 14133217 | I24: 432294752 | J24: 16860811 | K24: 6369196 | L24: 1173080 | M24: 2415473 | N24: 569051 | O24: 2266243 | P24: 10219607 | Q24: 18942686
A25: 本國籍原住民 | C25: 30881269 | D25: 1706174 | E25: 898043 | F25: 286896 | G25: 314500 | H25: 341540 | I25: 22090108 | J25: 541760 | K25: 180050 | L25: 0 | M25: 292186 | N25: 24000 | O25: 134575 | P25: 3060757 | Q25: 1010680
A26: 大陸籍（含港澳） | C26: 6115547 | D26: 1416765 | E26: 203080 | F26: 87649 | G26: 489300 | H26: 204252 | I26: 2582514 | J26: 251362 | K26: 116934 | L26: 0 | M26: 52400 | N26: 0 | O26: 25000 | P26: 541056 | Q26: 145235
A27: 外國籍 | C27: 5025728 | D27: 1189500 | E27: 574981 | F27: 135805 | G27: 349500 | H27: 181951 | I27: 1581663 | J27: 272200 | K27: 57800 | L27: 0 | M27: 33020 | N27: 9000 | O27: 69000 | P27: 429045 | Q27: 142263
A28: 其他 | C28: 2399392 | D28: 82557 | E28: 392652 | F28: 70000 | G28: 79344 | H28: 9107 | I28: 1373839 | J28: 81702 | K28: 6800 | L28: 0 | M28: 0 | N28: 0 | O28: 0 | P28: 87500 | Q28: 215891
A30: 資料來源、 加害人性別 | C30: 3.家庭暴力加害人處遇
C31: 本期囑託鑑定、評估人數 (人) | D31: 本期完成囑託鑑定、評估人數 (人) | E31: 本期完成 主動評估人數（人） | F31: 本期法院裁定加害人處遇人數 (人) | G31: 本期法院逕裁加害人處遇人數 (人) | H31: 本期法院裁定加害人處遇計畫項目人次(複選)
H32: 合計 | I32: 精神治療 | J32: 戒癮治療 | L32: 心理輔導 | M32: 認知教育輔導 | O32: 其他輔導、治療
J33: 戒酒癮 | K33: 戒藥毒癮 | M33: 認知教育 | N33: 戒酒教育 | O33: 親職教育 | P33: 其他
A34: 法院裁定加害人處遇計畫者（家暴法第14條第1項第10款） | B34: 計 | C34: 3667 | D34: 2950 | E34: 1154 | F34: 3542 | G34: 1571 | H34: 4442 | I34: 317 | J34: 206 | K34: 48 | L34: 162 | M34: 2958 | N34: 663 | O34: 65 | P34: 23
B35: 男 | C35: 3389 | D35: 2715 | E35: 1046 | F35: 3249 | G35: 1411 | H35: 4099 | I35: 272 | J35: 198 | K35: 45 | L35: 134 | M35: 2728 | N35: 649 | O35: 53 | P35: 20
B36: 女 | C36: 278 | D36: 235 | E36: 108 | F36: 293 | G36: 160 | H36: 343 | I36: 45 | J36: 8 | K36: 3 | L36: 28 | M36: 230 | N36: 14 | O36: 12 | P36: 3
A37: 犯家暴罪或違反保護令罪付保護管束者命完成加害人處遇計畫（家暴法第38條） | B37: 計 | C37: 0 | D37: 0 | E37: 0 | F37: 7 | G37: 5 | H37: 7 | I37: 0 | J37: 0 | K37: 0 | L37: 4 | M37: 1 | N37: 0 | O37: 2 | P37: 0
B38: 男 | C38: 0 | D38: 0 | E38: 0 | F38: 6 | G38: 4 | H38: 6 | I38: 0 | J38: 0 | K38: 0 | L38: 3 | M38: 1 | N38: 0 | O38: 2 | P38: 0
B39: 女 | C39: 0 | D39: 0 | E39: 0 | F39: 1 | G39: 1 | H39: 1 | I39: 0 | J39: 0 | K39: 0 | L39: 1 | M39: 0 | N39: 0 | O39: 0 | P39: 0
A40: 假釋出獄付保護管束者命完成加害人處遇計畫（家暴法第39條） | B40: 計 | C40: 1 | D40: 1 | E40: 0 | F40: 15 | G40: 4 | H40: 16 | I40: 1 | J40: 0 | K40: 0 | L40: 2 | M40: 11 | N40: 2 | O40: 0 | P40: 0
B41: 男 | C41: 0 | D41: 0 | E41: 0 | F41: 14 | G41: 3 | H41: 15 | I41: 0 | J41: 0 | K41: 0 | L41: 2 | M41: 11 | N41: 2 | O41: 0 | P41: 0
B42: 女 | C42: 1 | D42: 1 | E42: 0 | F42: 1 | G42: 1 | H42: 1 | I42: 1 | J42: 0 | K42: 0 | L42: 0 | M42: 0 | N42: 0 | O42: 0 | P42: 0
A43: 檢察官緩起訴處分命完成加害人處遇計畫 | B43: 計 | C43: 0 | D43: 0 | E43: 0 | H43: 16 | I43: 0 | J43: 3 | K43: 0 | L43: 1 | M43: 10 | N43: 2 | O43: 0 | P43: 0
B44: 男 | C44: 0 | D44: 0 | E44: 0 | H44: 16 | I44: 0 | J44: 3 | K44: 0 | L44: 1 | M44: 10 | N44: 2 | O44: 0 | P44: 0
B45: 女 | C45: 0 | D45: 0 | E45: 0 | H45: 0 | I45: 0 | J45: 0 | K45: 0 | L45: 0 | M45: 0 | N45: 0 | O45: 0 | P45: 0
A47: 資料來源、 加害人性別 | C47: 3.家庭暴力加害人處遇
C48: 本年截至本期累計應執行處遇人數（A） | D48: 本年截至本期累計應執行處遇者各處遇項目執行人次 | L48: 本年截至本期累計完成處遇人數 （B） | M48: 本年截至本期累計各處遇項目完成人次 | U48: 本年截至本期累計尚在執行處遇人數 （C） | V48: 本年截至本期累計尚在執行處遇者各處遇項目人次 | AD48: 本年截至本期累計顯已無法完成處遇者按原因別分(人數) | AM48: 本年截至本期累計顯已無法完成處遇者，移送地檢署人數
D49: 精神治療 | E49: 戒癮治療 | G49: 心理輔導 | H49: 認知教育輔導 | J49: 其他輔導、治療 | M49: 精神治療 | N49: 戒癮治療 | P49: 心理輔導 | Q49: 認知教育輔導 | S49: 其他輔導、治療 | V49: 精神治療 | W49: 戒癮治療 | Y49: 心理輔導 | Z49: 認知教育輔導 | AB49: 其他輔導、治療 | AD49: 合計 （D） | AE49: 個案拒報到 | AF49: 個案死亡 | AG49: 個案傷殘或住院 | AH49: 個案因案入監無法執行 | AI49: 送達證書個案拒領或無法送達 | AJ49: 個案轉介其他縣市執行 | AK49: 被害人 撤銷或變更保護令 | AL49: 其他
E50: 戒酒癮 | F50: 戒藥毒癮 | H50: 認知教育 | I50: 戒酒教育 | J50: 親職教育 | K50: 其他 | N50: 戒酒癮 | O50: 戒藥毒癮 | Q50: 認知教育 | R50: 戒酒教育 | S50: 親職教育 | T50: 其他 | W50: 戒酒癮 | X50: 戒藥毒癮 | Z50: 認知教育 | AA50: 戒酒教育 | AB50: 親職教育 | AC50: 其他
A51: 法院裁定加害人處遇計畫者（家暴法第14條第1項第10款） | B51: 計 | C51: 4076 | D51: 553 | E51: 358 | F51: 60 | G51: 249 | H51: 2964 | I51: 984 | J51: 140 | K51: 27 | L51: 1386 | M51: 80 | N51: 125 | O51: 6 | P51: 113 | Q51: 994 | R51: 281 | S51: 37 | T51: 9 | U51: 1939 | V51: 341 | W51: 174 | X51: 44 | Y51: 103 | Z51: 1374 | AA51: 554 | AB51: 86 | AC51: 13 | AD51: 751 | AE51: 351 | AF51: 25 | AG51: 2 | AH51: 43 | AI51: 1 | AJ51: 148 | AK51: 122 | AL51: 59 | AM51: 302
B52: 男 | C52: 3759 | D52: 479 | E52: 344 | F52: 56 | G52: 202 | H52: 2772 | I52: 962 | J52: 108 | K52: 23 | L52: 1268 | M52: 70 | N52: 122 | O52: 6 | P52: 85 | Q52: 914 | R52: 274 | S52: 29 | T52: 8 | U52: 1786 | V52: 293 | W52: 163 | X52: 42 | Y52: 83 | Z52: 1296 | AA52: 541 | AB52: 68 | AC52: 11 | AD52: 705 | AE52: 327 | AF52: 24 | AG52: 2 | AH52: 43 | AI52: 1 | AJ52: 137 | AK52: 115 | AL52: 56 | AM52: 286
B53: 女 | C53: 317 | D53: 74 | E53: 14 | F53: 4 | G53: 47 | H53: 192 | I53: 22 | J53: 32 | K53: 4 | L53: 118 | M53: 10 | N53: 3 | O53: 0 | P53: 28 | Q53: 80 | R53: 7 | S53: 8 | T53: 1 | U53: 153 | V53: 48 | W53: 11 | X53: 2 | Y53: 20 | Z53: 78 | AA53: 13 | AB53: 18 | AC53: 2 | AD53: 46 | AE53: 24 | AF53: 1 | AG53: 0 | AH53: 0 | AI53: 0 | AJ53: 11 | AK53: 7 | AL53: 3 | AM53: 16
A54: 犯家暴罪或違反保護令罪付保護管束者命完成加害人處遇計畫（家暴法第38條） | B54: 計 | C54: 7 | D54: 0 | E54: 0 | F54: 0 | G54: 4 | H54: 1 | I54: 0 | J54: 2 | K54: 0 | L54: 4 | M54: 0 | N54: 0 | O54: 0 | P54: 2 | Q54: 1 | R54: 0 | S54: 1 | T54: 0 | U54: 3 | V54: 0 | W54: 0 | X54: 0 | Y54: 2 | Z54: 0 | AA54: 0 | AB54: 1 | AC54: 0 | AD54: 0 | AE54: 0 | AF54: 0 | AG54: 0 | AH54: 0 | AI54: 0 | AJ54: 0 | AK54: 0 | AL54: 0 | AM54: 0
B55: 男 | C55: 6 | D55: 0 | E55: 0 | F55: 0 | G55: 3 | H55: 1 | I55: 0 | J55: 2 | K55: 0 | L55: 3 | M55: 0 | N55: 0 | O55: 0 | P55: 1 | Q55: 1 | R55: 0 | S55: 1 | T55: 0 | U55: 3 | V55: 0 | W55: 0 | X55: 0 | Y55: 2 | Z55: 0 | AA55: 0 | AB55: 1 | AC55: 0 | AD55: 0 | AE55: 0 | AF55: 0 | AG55: 0 | AH55: 0 | AI55: 0 | AJ55: 0 | AK55: 0 | AL55: 0 | AM55: 0
B56: 女 | C56: 1 | D56: 0 | E56: 0 | F56: 0 | G56: 1 | H56: 0 | I56: 0 | J56: 0 | K56: 0 | L56: 1 | M56: 0 | N56: 0 | O56: 0 | P56: 1 | Q56: 0 | R56: 0 | S56: 0 | T56: 0 | U56: 0 | V56: 0 | W56: 0 | X56: 0 | Y56: 0 | Z56: 0 | AA56: 0 | AB56: 0 | AC56: 0 | AD56: 0 | AE56: 0 | AF56: 0 | AG56: 0 | AH56: 0 | AI56: 0 | AJ56: 0 | AK56: 0 | AL56: 0 | AM56: 0
A57: 假釋出獄付保護管束者命完成加害人處遇計畫（家暴法第39條） | B57: 計 | C57: 25 | D57: 2 | E57: 0 | F57: 0 | G57: 7 | H57: 21 | I57: 1 | J57: 0 | K57: 0 | L57: 7 | M57: 0 | N57: 0 | O57: 0 | P57: 1 | Q57: 7 | R57: 0 | S57: 0 | T57: 0 | U57: 18 | V57: 2 | W57: 0 | X57: 0 | Y57: 6 | Z57: 14 | AA57: 1 | AB57: 0 | AC57: 0 | AD57: 0 | AE57: 0 | AF57: 0 | AG57: 0 | AH57: 0 | AI57: 0 | AJ57: 0 | AK57: 0 | AL57: 0 | AM57: 0
B58: 男 | C58: 20 | D58: 0 | E58: 0 | F58: 0 | G58: 4 | H58: 18 | I58: 1 | J58: 0 | K58: 0 | L58: 7 | M58: 0 | N58: 0 | O58: 0 | P58: 1 | Q58: 7 | R58: 0 | S58: 0 | T58: 0 | U58: 13 | V58: 0 | W58: 0 | X58: 0 | Y58: 3 | Z58: 11 | AA58: 1 | AB58: 0 | AC58: 0 | AD58: 0 | AE58: 0 | AF58: 0 | AG58: 0 | AH58: 0 | AI58: 0 | AJ58: 0 | AK58: 0 | AL58: 0 | AM58: 0
B59: 女 | C59: 5 | D59: 2 | E59: 0 | F59: 0 | G59: 3 | H59: 3 | I59: 0 | J59: 0 | K59: 0 | L59: 0 | M59: 0 | N59: 0 | O59: 0 | P59: 0 | Q59: 0 | R59: 0 | S59: 0 | T59: 0 | U59: 5 | V59: 2 | W59: 0 | X59: 0 | Y59: 3 | Z59: 3 | AA59: 0 | AB59: 0 | AC59: 0 | AD59: 0 | AE59: 0 | AF59: 0 | AG59: 0 | AH59: 0 | AI59: 0 | AJ59: 0 | AK59: 0 | AL59: 0 | AM59: 0
A60: 檢察官緩起訴處分命完成加害人處遇計畫 | B60: 計 | C60: 10 | D60: 0 | E60: 2 | F60: 0 | G60: 1 | H60: 8 | I60: 2 | J60: 0 | K60: 0 | L60: 6 | M60: 0 | N60: 0 | O60: 0 | P60: 0 | Q60: 6 | R60: 0 | S60: 0 | T60: 0 | U60: 4 | V60: 0 | W60: 2 | X60: 0 | Y60: 1 | Z60: 2 | AA60: 2 | AB60: 0 | AC60: 0 | AD60: 0 | AE60: 0 | AF60: 0 | AG60: 0 | AH60: 0 | AI60: 0 | AJ60: 0 | AK60: 0 | AL60: 0 | AM60: 0
B61: 男 | C61: 10 | D61: 0 | E61: 2 | F61: 0 | G61: 1 | H61: 8 | I61: 2 | J61: 0 | K61: 0 | L61: 6 | M61: 0 | N61: 0 | O61: 0 | P61: 0 | Q61: 6 | R61: 0 | S61: 0 | T61: 0 | U61: 4 | V61: 0 | W61: 2 | X61: 0 | Y61: 1 | Z61: 2 | AA61: 2 | AB61: 0 | AC61: 0 | AD61: 0 | AE61: 0 | AF61: 0 | AG61: 0 | AH61: 0 | AI61: 0 | AJ61: 0 | AK61: 0 | AL61: 0 | AM61: 0
B62: 女 | C62: 0 | D62: 0 | E62: 0 | F62: 0 | G62: 0 | H62: 0 | I62: 0 | J62: 0 | K62: 0 | L62: 0 | M62: 0 | N62: 0 | O62: 0 | P62: 0 | Q62: 0 | R62: 0 | S62: 0 | T62: 0 | U62: 0 | V62: 0 | W62: 0 | X62: 0 | Y62: 0 | Z62: 0 | AA62: 0 | AB62: 0 | AC62: 0 | AD62: 0 | AE62: 0 | AF62: 0 | AG62: 0 | AH62: 0 | AI62: 0 | AJ62: 0 | AK62: 0 | AL62: 0 | AM62: 0
A64: 件數與罰鍰金額 | C64: 4.家庭暴力事件裁罰按裁罰事由統計
C65: 合計 | D65: 執行家庭暴力防治人員，在執行職務時知有疑似家庭暴力情事，未立即通報當地主管機關者（家庭暴力防治法第62條第1項） | J65: 醫療機構對於家庭暴力之被害人，無故拒絕診療及開立驗傷診斷書者（家庭暴力防治法第62條第2項） | N65: 無正當理由撥打24小時專線電話，致妨害公務執行，經勸阻不聽者（家庭暴力防治法第63條）
A66: 件數 | C66: 5 | D66: 5 | J66: 0 | N66: 0
A67: 罰鍰金額(新台幣元) | C67: 39000 | D67: 39000 | J67: 0 | N67: 0
A72: 更新日期：2018/5/30

Sheet 104
A1: 5.1-03 推展家庭暴力防治業務
A2: 民國104年
A4: 被害人國籍身分 與性別 | C4: 1.家庭暴力被害人保護扶助人次（人次）
C5: 合計 | D5: 諮詢協談 | E5: 庇護安置 | G5: 陪同報案偵詢（訊） | H5: 陪同出庭 | I5: 驗傷診療 | J5: 聲請 保護令 | K5: 法律扶助 | L5: 經濟扶助 | M5: 心理諮商與輔導 | N5: 就業服務 | O5: 就學或轉學 服務 | P5: 轉介/提供目睹暴力服務 | Q5: 子女問題 協助 | R5: 通譯服務 | S5: 其他扶助
E6: 被害人 | F6: 隨行子女
A7: 合計 | B7: 計 | C7: 1191465 | D7: 889134 | E7: 19030 | F7: 1744 | G7: 1324 | H7: 8422 | I7: 10966 | J7: 5289 | K7: 50020 | L7: 30747 | M7: 31550 | N7: 2592 | O7: 9457 | P7: 8606 | Q7: 20586 | R7: 128 | S7: 101870
B8: 男 | C8: 291580 | D8: 217337 | E8: 7738 | F8: 652 | G8: 223 | H8: 1266 | I8: 3596 | J8: 806 | K8: 8116 | L8: 8709 | M8: 9713 | N8: 480 | O8: 5580 | P8: 1843 | Q8: 6389 | R8: 19 | S8: 19113
B9: 女 | C9: 899885 | D9: 671797 | E9: 11292 | F9: 1092 | G9: 1101 | H9: 7156 | I9: 7370 | J9: 4483 | K9: 41904 | L9: 22038 | M9: 21837 | N9: 2112 | O9: 3877 | P9: 6763 | Q9: 14197 | R9: 109 | S9: 82757
A10: 本國籍 非原住民 | B10: 男 | C10: 262057 | D10: 195741 | E10: 7360 | F10: 608 | G10: 181 | H10: 1116 | I10: 2937 | J10: 757 | K10: 7395 | L10: 7852 | M10: 9115 | N10: 428 | O10: 4668 | P10: 1721 | Q10: 5781 | R10: 12 | S10: 16385
B11: 女 | C11: 749629 | D11: 559392 | E11: 10119 | F11: 924 | G11: 897 | H11: 5983 | I11: 6392 | J11: 3693 | K11: 32293 | L11: 19441 | M11: 19774 | N11: 1694 | O11: 3157 | P11: 5607 | Q11: 12420 | R11: 23 | S11: 67820
A12: 本國籍 原住民 | B12: 男 | C12: 20609 | D12: 14922 | E12: 335 | F12: 37 | G12: 33 | H12: 103 | I12: 306 | J12: 33 | K12: 456 | L12: 623 | M12: 353 | N12: 32 | O12: 608 | P12: 88 | Q12: 472 | R12: 2 | S12: 2206
B13: 女 | C13: 61528 | D13: 42216 | E13: 650 | F13: 71 | G13: 113 | H13: 556 | I13: 456 | J13: 385 | K13: 5263 | L13: 1184 | M13: 814 | N13: 229 | O13: 548 | P13: 429 | Q13: 969 | R13: 35 | S13: 7610
A14: 大陸籍 （含港澳） | B14: 男 | C14: 1614 | D14: 1086 | E14: 18 | F14: 0 | G14: 0 | H14: 8 | I14: 54 | J14: 0 | K14: 120 | L14: 53 | M14: 132 | N14: 0 | O14: 7 | P14: 0 | Q14: 74 | R14: 0 | S14: 62
B15: 女 | C15: 28336 | D15: 21380 | E15: 281 | F15: 29 | G15: 29 | H15: 205 | I15: 202 | J15: 164 | K15: 1826 | L15: 610 | M15: 560 | N15: 55 | O15: 59 | P15: 170 | Q15: 347 | R15: 0 | S15: 2419
A16: 外國籍 | B16: 男 | C16: 1638 | D16: 1006 | E16: 7 | F16: 5 | G16: 3 | H16: 5 | I16: 157 | J16: 4 | K16: 67 | L16: 110 | M16: 59 | N16: 3 | O16: 9 | P16: 1 | Q16: 51 | R16: 4 | S16: 147
B17: 女 | C17: 35063 | D17: 25312 | E17: 217 | F17: 65 | G17: 44 | H17: 326 | I17: 237 | J17: 187 | K17: 2245 | L17: 701 | M17: 571 | N17: 119 | O17: 69 | P17: 180 | Q17: 423 | R17: 51 | S17: 4316
A18: 其他 | B18: 男 | C18: 5662 | D18: 4582 | E18: 18 | F18: 2 | G18: 6 | H18: 34 | I18: 142 | J18: 12 | K18: 78 | L18: 71 | M18: 54 | N18: 17 | O18: 288 | P18: 33 | Q18: 11 | R18: 1 | S18: 313
B19: 女 | C19: 25329 | D19: 23497 | E19: 25 | F19: 3 | G19: 18 | H19: 86 | I19: 83 | J19: 54 | K19: 277 | L19: 102 | M19: 118 | N19: 15 | O19: 44 | P19: 377 | Q19: 38 | R19: 0 | S19: 592
A21: 被害人國籍身分 | C21: 2.家庭暴力被害人保護扶助金額 (元)
C22: 合計 | D22: 緊急 生活扶助 | E22: 生活扶助 | F22: 急難救助 | G22: 租金補助 | H22: 醫療補助 | I22: 庇護安置補助 | J22: 心理治療、諮商與輔導費用 | K22: 律師費用 補助 | L22: 訴訟費用 補助 | M22: 子女生活 津貼/補助 | N22: 子女 教育補助 | O22: 兒童托育 費用/津貼 | P22: 民間慈善團體資助 | Q22: 其他補助
A23: 合計 | C23: 576500596 | D23: 45302242 | E23: 24395502 | F23: 2964932 | G23: 9139526 | H23: 13883753 | I23: 392439025 | J23: 17493570 | K23: 6060736 | L23: 1037905 | M23: 4723333 | N23: 534468 | O23: 841779 | P23: 13481192 | Q23: 44202633
A24: 本國籍非原住民 | C24: 508616833 | D24: 40890543 | E24: 21895713 | F24: 2351467 | G24: 7817766 | H24: 12352330 | I24: 351693292 | J24: 15479133 | K24: 5724152 | L24: 940905 | M24: 4318498 | N24: 532468 | O24: 810979 | P24: 8084052 | Q24: 35725535
A25: 本國籍原住民 | C25: 49054472 | D25: 1314584 | E25: 1080352 | F25: 267265 | G25: 398941 | H25: 677317 | I25: 33280063 | J25: 995021 | K25: 75000 | L25: 13000 | M25: 239711 | N25: 0 | O25: 24000 | P25: 4500709 | Q25: 6188509
A26: 大陸籍（含港澳） | C26: 7535569 | D26: 1281274 | E26: 468093 | F26: 214000 | G26: 404603 | H26: 290227 | I26: 3356522 | J26: 526416 | K26: 5000 | L26: 27000 | M26: 17003 | N26: 0 | O26: 0 | P26: 186830 | Q26: 758601
A27: 外國籍 | C27: 9188743 | D27: 1639755 | E27: 494944 | F27: 104200 | G27: 491216 | H27: 396804 | I27: 3795182 | J27: 414400 | K27: 256584 | L27: 7000 | M27: 126094 | N27: 0 | O27: 6800 | P27: 538890 | Q27: 916874
A28: 其他 | C28: 2104979 | D28: 176086 | E28: 456400 | F28: 28000 | G28: 27000 | H28: 167075 | I28: 313966 | J28: 78600 | K28: 0 | L28: 50000 | M28: 22027 | N28: 2000 | O28: 0 | P28: 170711 | Q28: 613114
A30: 資料來源、 加害人性別 | C30: 3.家庭暴力加害人處遇
C31: 本期囑託鑑定、評估人數 (人) | D31: 本期完成囑託鑑定、評估人數 (人) | E31: 本期完成 主動評估人數（人） | F31: 本期法院裁定加害人處遇人數 (人) | G31: 本期法院逕裁加害人處遇人數 (人) | H31: 本期法院裁定加害人處遇計畫項目人次(複選)
H32: 合計 | I32: 精神治療 | J32: 戒癮治療 | L32: 心理輔導 | M32: 認知教育輔導 | O32: 其他輔導、治療
J33: 戒酒癮 | K33: 戒藥毒癮 | M33: 認知教育 | N33: 戒酒教育 | O33: 親職教育 | P33: 其他
A34: 法院裁定加害人處遇計畫者（家暴法第14條第1項第10款） | B34: 計 | C34: 3500 | D34: 2861 | E34: 1325 | F34: 3257 | G34: 1590 | H34: 4544 | I34: 454 | J34: 253 | K34: 21 | L34: 184 | M34: 2753 | N34: 782 | O34: 71 | P34: 26
B35: 男 | C35: 3217 | D35: 2674 | E35: 1213 | F35: 3039 | G35: 1463 | H35: 4241 | I35: 402 | J35: 248 | K35: 21 | L35: 151 | M35: 2587 | N35: 750 | O35: 59 | P35: 23
B36: 女 | C36: 283 | D36: 187 | E36: 112 | F36: 218 | G36: 127 | H36: 303 | I36: 52 | J36: 5 | K36: 0 | L36: 33 | M36: 166 | N36: 32 | O36: 12 | P36: 3
A37: 犯家暴罪或違反保護令罪付保護管束者命完成加害人處遇計畫（家暴法第38條） | B37: 計 | C37: 1 | D37: 0 | E37: 1 | F37: 2 | G37: 0 | H37: 3 | I37: 0 | J37: 0 | K37: 0 | L37: 0 | M37: 2 | N37: 0 | O37: 1 | P37: 0
B38: 男 | C38: 0 | D38: 0 | E38: 1 | F38: 1 | G38: 0 | H38: 2 | I38: 0 | J38: 0 | K38: 0 | L38: 0 | M38: 1 | N38: 0 | O38: 1 | P38: 0
B39: 女 | C39: 1 | D39: 0 | E39: 0 | F39: 1 | G39: 0 | H39: 1 | I39: 0 | J39: 0 | K39: 0 | L39: 0 | M39: 1 | N39: 0 | O39: 0 | P39: 0
A40: 假釋出獄付保護管束者命完成加害人處遇計畫（家暴法第39條） | B40: 計 | C40: 4 | D40: 3 | E40: 1 | F40: 22 | G40: 11 | H40: 25 | I40: 1 | J40: 0 | K40: 0 | L40: 4 | M40: 17 | N40: 3 | O40: 0 | P40: 0
B41: 男 | C41: 4 | D41: 3 | E41: 1 | F41: 20 | G41: 11 | H41: 23 | I41: 1 | J41: 0 | K41: 0 | L41: 3 | M41: 16 | N41: 3 | O41: 0 | P41: 0
B42: 女 | C42: 0 | D42: 0 | E42: 0 | F42: 2 | G42: 0 | H42: 2 | I42: 0 | J42: 0 | K42: 0 | L42: 1 | M42: 1 | N42: 0 | O42: 0 | P42: 0
A43: 檢察官緩起訴處分命完成加害人處遇計畫 | B43: 計 | C43: 0 | D43: 0 | E43: 0 | H43: 8 | I43: 0 | J43: 0 | K43: 0 | L43: 1 | M43: 7 | N43: 0 | O43: 0 | P43: 0
B44: 男 | C44: 0 | D44: 0 | E44: 0 | H44: 7 | I44: 0 | J44: 0 | K44: 0 | L44: 0 | M44: 7 | N44: 0 | O44: 0 | P44: 0
B45: 女 | C45: 0 | D45: 0 | E45: 0 | H45: 1 | I45: 0 | J45: 0 | K45: 0 | L45: 1 | M45: 0 | N45: 0 | O45: 0 | P45: 0
A47: 資料來源、 加害人性別 | C47: 3.家庭暴力加害人處遇
C48: 本年截至本期累計應執行處遇人數（A） | D48: 本年截至本期累計應執行處遇者各處遇項目執行人次 | L48: 本年截至本期累計完成處遇人數 （B） | M48: 本年截至本期累計各處遇項目完成人次 | U48: 本年截至本期累計尚在執行處遇人數 （C） | V48: 本年截至本期累計尚在執行處遇者各處遇項目人次 | AD48: 本年截至本期累計顯已無法完成處遇者按原因別分(人數) | AM48: 本年截至本期累計顯已無法完成處遇者，移送地檢署人數
D49: 精神治療 | E49: 戒癮治療 | G49: 心理輔導 | H49: 認知教育輔導 | J49: 其他輔導、治療 | M49: 精神治療 | N49: 戒癮治療 | P49: 心理輔導 | Q49: 認知教育輔導 | S49: 其他輔導、治療 | V49: 精神治療 | W49: 戒癮治療 | Y49: 心理輔導 | Z49: 認知教育輔導 | AB49: 其他輔導、治療 | AD49: 合計 （D） | AE49: 個案拒報到 | AF49: 個案死亡 | AG49: 個案傷殘或住院 | AH49: 個案因案入監無法執行 | AI49: 送達證書個案拒領或無法送達 | AJ49: 個案轉介其他縣市執行 | AK49: 被害人 撤銷或變更保護令 | AL49: 其他
E50: 戒酒癮 | F50: 戒藥毒癮 | H50: 認知教育 | I50: 戒酒教育 | J50: 親職教育 | K50: 其他 | N50: 戒酒癮 | O50: 戒藥毒癮 | Q50: 認知教育 | R50: 戒酒教育 | S50: 親職教育 | T50: 其他 | W50: 戒酒癮 | X50: 戒藥毒癮 | Z50: 認知教育 | AA50: 戒酒教育 | AB50: 親職教育 | AC50: 其他
A51: 法院裁定加害人處遇計畫者（家暴法第14條第1項第10款） | B51: 計 | C51: 4822 | D51: 652 | E51: 594 | F51: 52 | G51: 255 | H51: 3457 | I51: 1194 | J51: 94 | K51: 93 | L51: 1523 | M51: 127 | N51: 168 | O51: 7 | P51: 100 | Q51: 1127 | R51: 315 | S51: 25 | T51: 13 | U51: 2497 | V51: 425 | W51: 332 | X51: 32 | Y51: 126 | Z51: 1586 | AA51: 654 | AB51: 57 | AC51: 4 | AD51: 802 | AE51: 432 | AF51: 25 | AG51: 11 | AH51: 72 | AI51: 3 | AJ51: 112 | AK51: 144 | AL51: 3 | AM51: 383
B52: 男 | C52: 4518 | D52: 571 | E52: 577 | F52: 52 | G52: 216 | H52: 3259 | I52: 1150 | J52: 77 | K52: 82 | L52: 1422 | M52: 111 | N52: 163 | O52: 7 | P52: 87 | Q52: 1051 | R52: 305 | S52: 22 | T52: 12 | U52: 2339 | V52: 376 | W52: 322 | X52: 32 | Y52: 104 | Z52: 1504 | AA52: 640 | AB52: 49 | AC52: 4 | AD52: 757 | AE52: 410 | AF52: 22 | AG52: 10 | AH52: 70 | AI52: 3 | AJ52: 100 | AK52: 139 | AL52: 3 | AM52: 367
B53: 女 | C53: 304 | D53: 81 | E53: 17 | F53: 0 | G53: 39 | H53: 198 | I53: 44 | J53: 17 | K53: 11 | L53: 101 | M53: 16 | N53: 5 | O53: 0 | P53: 13 | Q53: 76 | R53: 10 | S53: 3 | T53: 1 | U53: 158 | V53: 49 | W53: 10 | Y53: 22 | Z53: 82 | AA53: 14 | AB53: 8 | AC53: 0 | AD53: 45 | AE53: 22 | AF53: 3 | AG53: 1 | AH53: 2 | AI53: 0 | AJ53: 12 | AK53: 5 | AL53: 0 | AM53: 16
A54: 犯家暴罪或違反保護令罪付保護管束者命完成加害人處遇計畫（家暴法第38條） | B54: 計 | C54: 213 | D54: 1 | E54: 11 | F54: 0 | G54: 306 | H54: 286 | I54: 45 | J54: 1 | K54: 0 | L54: 81 | M54: 1 | N54: 11 | O54: 0 | P54: 37 | Q54: 29 | R54: 3 | S54: 1 | T54: 0 | U54: 131 | V54: 0 | W54: 0 | X54: 0 | Y54: 71 | Z54: 35 | AA54: 25 | AB54: 0 | AC54: 0 | AD54: 1 | AE54: 0 | AF54: 0 | AG54: 0 | AH54: 0 | AI54: 0 | AJ54: 0 | AK54: 0 | AL54: 1 | AM54: 0
B55: 男 | C55: 179 | D55: 0 | E55: 11 | F55: 0 | G55: 234 | H55: 271 | I55: 45 | J55: 1 | K55: 0 | L55: 72 | M55: 0 | N55: 11 | O55: 0 | P55: 30 | Q55: 28 | R55: 3 | S55: 1 | T55: 0 | U55: 106 | V55: 0 | W55: 0 | X55: 0 | Y55: 51 | Z55: 30 | AA55: 25 | AB55: 0 | AC55: 0 | AD55: 1 | AE55: 0 | AF55: 0 | AG55: 0 | AH55: 0 | AI55: 0 | AJ55: 0 | AK55: 0 | AL55: 1 | AM55: 0
B56: 女 | C56: 34 | D56: 1 | E56: 0 | F56: 0 | G56: 72 | H56: 15 | I56: 0 | J56: 0 | K56: 0 | L56: 9 | M56: 1 | N56: 0 | O56: 0 | P56: 7 | Q56: 1 | R56: 0 | S56: 0 | T56: 0 | U56: 25 | V56: 0 | W56: 0 | X56: 0 | Y56: 20 | Z56: 5 | AA56: 0 | AB56: 0 | AC56: 0 | AE56: 0 | AF56: 0 | AG56: 0 | AH56: 0 | AI56: 0 | AJ56: 0 | AK56: 0 | AL56: 0 | AM56: 0
A57: 假釋出獄付保護管束者命完成加害人處遇計畫（家暴法第39條） | B57: 計 | C57: 36 | D57: 1 | E57: 0 | F57: 0 | G57: 5 | H57: 29 | I57: 5 | J57: 0 | K57: 0 | L57: 13 | M57: 0 | N57: 0 | O57: 0 | P57: 2 | Q57: 10 | R57: 1 | S57: 0 | T57: 0 | U57: 22 | V57: 1 | W57: 0 | X57: 0 | Y57: 2 | Z57: 19 | AA57: 3 | AB57: 0 | AC57: 0 | AD57: 1 | AE57: 0 | AF57: 0 | AG57: 0 | AH57: 0 | AI57: 0 | AJ57: 1 | AK57: 0 | AL57: 0 | AM57: 0
B58: 男 | C58: 32 | D58: 1 | E58: 0 | F58: 0 | G58: 4 | H58: 25 | I58: 5 | J58: 0 | K58: 0 | L58: 11 | M58: 0 | N58: 0 | O58: 0 | P58: 2 | Q58: 8 | R58: 1 | S58: 0 | T58: 0 | U58: 20 | V58: 1 | W58: 0 | X58: 0 | Y58: 1 | Z58: 17 | AA58: 3 | AB58: 0 | AC58: 0 | AD58: 1 | AE58: 0 | AF58: 0 | AG58: 0 | AH58: 0 | AI58: 0 | AJ58: 1 | AK58: 0 | AL58: 0 | AM58: 0
B59: 女 | C59: 4 | D59: 0 | E59: 0 | F59: 0 | G59: 1 | H59: 4 | I59: 0 | J59: 0 | K59: 0 | L59: 2 | M59: 0 | N59: 0 | O59: 0 | P59: 0 | Q59: 2 | R59: 0 | S59: 0 | T59: 0 | U59: 2 | W59: 0 | X59: 0 | Y59: 1 | Z59: 2 | AA59: 0 | AB59: 0 | AC59: 0 | AD59: 0 | AE59: 0 | AF59: 0 | AG59: 0 | AH59: 0 | AI59: 0 | AJ59: 0 | AK59: 0 | AL59: 0 | AM59: 0
A60: 檢察官緩起訴處分命完成加害人處遇計畫 | B60: 計 | C60: 13 | D60: 0 | E60: 0 | F60: 0 | G60: 1 | H60: 12 | I60: 1 | J60: 0 | K60: 0 | L60: 7 | M60: 0 | N60: 0 | O60: 0 | P60: 1 | Q60: 6 | R60: 1 | S60: 0 | T60: 0 | U60: 6 | V60: 0 | W60: 0 | X60: 0 | Y60: 0 | Z60: 6 | AA60: 0 | AB60: 0 | AC60: 0 | AD60: 0 | AE60: 0 | AF60: 0 | AG60: 0 | AH60: 0 | AI60: 0 | AJ60: 0 | AK60: 0 | AL60: 0 | AM60: 0
B61: 男 | C61: 12 | D61: 0 | E61: 0 | F61: 0 | G61: 0 | H61: 12 | I61: 0 | J61: 0 | K61: 0 | L61: 6 | M61: 0 | N61: 0 | O61: 0 | P61: 0 | Q61: 6 | R61: 0 | S61: 0 | T61: 0 | U61: 6 | V61: 0 | W61: 0 | X61: 0 | Y61: 0 | Z61: 6 | AA61: 0 | AB61: 0 | AC61: 0 | AD61: 0 | AE61: 0 | AF61: 0 | AG61: 0 | AH61: 0 | AI61: 0 | AJ61: 0 | AK61: 0 | AL61: 0 | AM61: 0
B62: 女 | C62: 1 | D62: 0 | E62: 0 | F62: 0 | G62: 1 | H62: 0 | I62: 1 | J62: 0 | K62: 0 | L62: 1 | M62: 0 | N62: 0 | O62: 0 | P62: 1 | Q62: 0 | R62: 1 | S62: 0 | T62: 0 | U62: 0 | V62: 0 | W62: 0 | X62: 0 | Y62: 0 | Z62: 0 | AA62: 0 | AB62: 0 | AC62: 0 | AD62: 0 | AE62: 0 | AF62: 0 | AG62: 0 | AH62: 0 | AI62: 0 | AJ62: 0 | AK62: 0 | AL62: 0 | AM62: 0
A64: 件數與罰鍰金額 | C64: 4.家庭暴力事件裁罰按裁罰事由統計
C65: 合計 | D65: 執行家庭暴力防治人員，在執行職務時知有疑似家庭暴力情事，未立即通報當地主管機關者（家庭暴力防治法第62條第1項） | J65: 醫療機構對於家庭暴力之被害人，無故拒絕診療及開立驗傷診斷書者（家庭暴力防治法第62條第2項） | N65: 無正當理由撥打24小時專線電話，致妨害公務執行，經勸阻不聽者（家庭暴力防治法第63條）
A66: 件數 | C66: 1 | D66: 1 | J66: 0 | N66: 0
A67: 罰鍰金額(新台幣元) | C67: 15000 | D67: 15000 | J67: 0 | N67: 0
A72: 更新日期：2014/5/29

Sheet 103
A1: 5.1-03 推展家庭暴力防治業務
A2: 民國103年
A4: 被害人國籍身分 與性別 | C4: 1.家庭暴力被害人保護扶助人次（人次）
C5: 合計 | D5: 諮詢協談 | E5: 庇護安置 | F5: 陪同報案偵詢（訊） | G5: 陪同出庭 | H5: 驗傷診療 | I5: 法律扶助 | J5: 經濟扶助 | K5: 心理諮商與輔導 | L5: 就業服務 | M5: 就學或轉學服務 | N5: 子女問題 協助 | O5: 通譯服務 | P5: 轉介 戒毒中心 | Q5: 其他扶助
A6: 合計 | B6: 計 | C6: 1127819 | D6: 725085 | E6: 18549 | F6: 1256 | G6: 7854 | H6: 12970 | I6: 59219 | J6: 35074 | K6: 94439 | L6: 3966 | M6: 8766 | N6: 16066 | O6: 288 | P6: 230 | Q6: 144057
B7: 男 | C7: 281455 | D7: 188925 | E7: 7050 | F7: 219 | G7: 1268 | H7: 3423 | I7: 8333 | J7: 14232 | K7: 18066 | L7: 1097 | M7: 5240 | N7: 5403 | O7: 100 | P7: 98 | Q7: 28001
B8: 女 | C8: 846364 | D8: 536160 | E8: 11499 | F8: 1037 | G8: 6586 | H8: 9547 | I8: 50886 | J8: 20842 | K8: 76373 | L8: 2869 | M8: 3526 | N8: 10663 | O8: 188 | P8: 132 | Q8: 116056
A9: 本國籍 非原住民 | B9: 男 | C9: 255017 | D9: 169473 | E9: 6619 | F9: 197 | G9: 1153 | H9: 3155 | I9: 7688 | J9: 13466 | K9: 17244 | L9: 1050 | M9: 5080 | N9: 4802 | O9: 66 | P9: 91 | Q9: 24933
B10: 女 | C10: 718910 | D10: 455694 | E10: 10141 | F10: 794 | G10: 5332 | H10: 8654 | I10: 41752 | J10: 18205 | K10: 68554 | L10: 2351 | M10: 3021 | N10: 9164 | O10: 87 | P10: 119 | Q10: 95042
A11: 本國籍 原住民 | B11: 男 | C11: 21047 | D11: 15573 | E11: 407 | F11: 18 | G11: 101 | H11: 217 | I11: 463 | J11: 637 | K11: 601 | L11: 36 | M11: 148 | N11: 393 | O11: 12 | P11: 6 | Q11: 2435
B12: 女 | C12: 56586 | D12: 35761 | E12: 658 | F12: 139 | G12: 554 | H12: 302 | I12: 4166 | J12: 1216 | K12: 2096 | L12: 269 | M12: 273 | N12: 735 | O12: 22 | P12: 3 | Q12: 10392
A13: 大陸籍 （含港澳） | B13: 男 | C13: 1739 | D13: 1234 | E13: 6 | F13: 1 | G13: 4 | H13: 1 | I13: 108 | J13: 12 | K13: 62 | L13: 0 | M13: 3 | N13: 129 | O13: 0 | P13: 0 | Q13: 179
B14: 女 | C14: 29193 | D14: 17622 | E14: 365 | F14: 34 | G14: 284 | H14: 284 | I14: 2267 | J14: 606 | K14: 2926 | L14: 115 | M14: 82 | N14: 213 | O14: 16 | P14: 1 | Q14: 4378
A15: 外國籍 | B15: 男 | C15: 1072 | D15: 584 | E15: 2 | F15: 1 | G15: 0 | H15: 15 | I15: 23 | J15: 71 | K15: 103 | L15: 1 | M15: 6 | N15: 75 | O15: 5 | P15: 1 | Q15: 185
B16: 女 | C16: 33640 | D16: 20774 | E16: 301 | F16: 62 | G16: 375 | H16: 251 | I16: 2482 | J16: 707 | K16: 2641 | L16: 123 | M16: 71 | N16: 522 | O16: 52 | P16: 9 | Q16: 5270
A17: 其他 | B17: 男 | C17: 2580 | D17: 2061 | E17: 16 | F17: 2 | G17: 10 | H17: 35 | I17: 51 | J17: 46 | K17: 56 | L17: 10 | M17: 3 | N17: 4 | O17: 17 | P17: 0 | Q17: 269
B18: 女 | C18: 8035 | D18: 6309 | E18: 34 | F18: 8 | G18: 41 | H18: 56 | I18: 219 | J18: 108 | K18: 156 | L18: 11 | M18: 79 | N18: 29 | O18: 11 | P18: 0 | Q18: 974
A20: 被害人國籍身分 | C20: 2.家庭暴力被害人保護扶助金額 (元)
C21: 合計 | D21: 緊急 生活扶助 | E21: 生活扶助 | F21: 急難救助 | G21: 租金補助 | H21: 醫療補助 | I21: 庇護安置補助 | J21: 心理復建 補助 | K21: 律師費用 補助 | L21: 訴訟費用 補助 | M21: 子女 生活津貼 | N21: 子女 教育補助 | O21: 兒童 托育津貼 | P21: 民間慈善團體資助 | Q21: 其他補助
A22: 合計 | C22: 533600044 | D22: 42814856 | E22: 16911445 | F22: 2327263 | G22: 9477601 | H22: 12079630 | I22: 354424120 | J22: 19653162 | K22: 7492464 | L22: 2525530 | M22: 14648630 | N22: 1081270 | O22: 276316 | P22: 19049700 | Q22: 30838057
A23: 本國籍非原住民 | C23: 492044675 | D23: 37909170 | E23: 15320583 | F23: 2053283 | G23: 7083149 | H23: 11336277 | I23: 332098094 | J23: 17762698 | K23: 6649677 | L23: 2442530 | M23: 14003963 | N23: 1043310 | O23: 234316 | P23: 15221196 | Q23: 28886429
A24: 本國籍原住民 | C24: 22146690 | D24: 1350491 | E24: 669877 | F24: 123757 | G24: 460564 | H24: 272185 | I24: 14659549 | J24: 1110480 | K24: 161464 | L24: 10000 | M24: 344166 | N24: 15000 | O24: 3000 | P24: 2523899 | Q24: 442258
A25: 大陸籍（含港澳） | C25: 10155923 | D25: 1967820 | E25: 491480 | F25: 73923 | G25: 1254900 | H25: 232054 | I25: 4537127 | J25: 288864 | K25: 229302 | L25: 11000 | M25: 65557 | N25: 16460 | O25: 39000 | P25: 246545 | Q25: 701891
A26: 外國籍 | C26: 8098577 | D26: 1476703 | E26: 411673 | F26: 31300 | G26: 608338 | H26: 191064 | I26: 2966117 | J26: 351800 | K26: 422021 | L26: 62000 | M26: 156344 | N26: 1500 | O26: 0 | P26: 689772 | Q26: 729945
A27: 其他 | C27: 1154179 | D27: 110672 | E27: 17832 | F27: 45000 | G27: 70650 | H27: 48050 | I27: 163233 | J27: 139320 | K27: 30000 | L27: 0 | M27: 78600 | N27: 5000 | O27: 0 | P27: 368288 | Q27: 77534
A29: 資料來源、 加害人性別 | C29: 3.家庭暴力加害人處遇
C30: 本期囑託鑑定、評估人數 (人) | D30: 本期完成囑託鑑定、評估人數 (人) | E30: 本期完成 主動評估人數（人） | F30: 本期法院裁定加害人處遇人數 (人) | G30: 本期法院逕裁加害人處遇人數 (人) | H30: 本期法院裁定加害人處遇計畫項目人次(複選)
H31: 合計 | I31: 精神治療 | J31: 戒癮治療 | L31: 心理輔導 | M31: 認知教育輔導 | O31: 其他輔導、治療
J32: 戒酒癮 | K32: 戒藥毒癮 | M32: 認知教育 | N32: 戒酒教育 | O32: 親職教育 | P32: 其他
A33: 法院裁定加害人處遇計畫者（家暴法第14條第1項第10款） | B33: 計 | C33: 2950 | D33: 2504 | E33: 1156 | F33: 2798 | G33: 1104 | H33: 3948 | I33: 242 | J33: 258 | K33: 31 | L33: 169 | M33: 2574 | N33: 603 | O33: 50 | P33: 21
B34: 男 | C34: 2733 | D34: 2317 | E34: 1054 | F34: 2602 | G34: 1004 | H34: 3688 | I34: 203 | J34: 251 | K34: 30 | L34: 145 | M34: 2407 | N34: 589 | O34: 42 | P34: 21
B35: 女 | C35: 217 | D35: 187 | E35: 102 | F35: 196 | G35: 100 | H35: 260 | I35: 39 | J35: 7 | K35: 1 | L35: 24 | M35: 167 | N35: 14 | O35: 8 | P35: 0
A36: 犯家暴罪或違反保護令罪付保護管束者命完成加害人處遇計畫（家暴法第38條） | B36: 計 | C36: 0 | D36: 0 | E36: 0 | F36: 3 | G36: 3 | H36: 5 | I36: 0 | J36: 0 | K36: 0 | L36: 0 | M36: 5 | N36: 0 | O36: 0 | P36: 0
B37: 男 | C37: 0 | D37: 0 | E37: 0 | F37: 3 | G37: 3 | H37: 5 | I37: 0 | J37: 0 | K37: 0 | L37: 0 | M37: 5 | N37: 0 | O37: 0 | P37: 0
B38: 女 | C38: 0 | D38: 0 | E38: 0 | F38: 0 | G38: 0 | H38: 0 | I38: 0 | J38: 0 | K38: 0 | L38: 0 | M38: 0 | N38: 0 | O38: 0 | P38: 0
A39: 假釋出獄付保護管束者命完成加害人處遇計畫（家暴法第39條） | B39: 計 | C39: 14 | D39: 14 | E39: 1 | F39: 14 | G39: 13 | H39: 18 | I39: 1 | J39: 0 | K39: 0 | L39: 2 | M39: 12 | N39: 1 | O39: 1 | P39: 1
B40: 男 | C40: 14 | D40: 14 | E40: 1 | F40: 14 | G40: 13 | H40: 16 | I40: 1 | J40: 0 | K40: 0 | L40: 2 | M40: 11 | N40: 1 | O40: 0 | P40: 1
B41: 女 | C41: 0 | D41: 0 | E41: 0 | F41: 0 | G41: 0 | H41: 2 | I41: 0 | J41: 0 | K41: 0 | L41: 0 | M41: 1 | N41: 0 | O41: 1 | P41: 0
A42: 檢察官緩起訴處分命完成加害人處遇計畫 | B42: 計 | C42: 0 | D42: 0 | E42: 0 | H42: 10 | I42: 0 | J42: 0 | K42: 0 | L42: 0 | M42: 8 | N42: 1 | O42: 1 | P42: 0
B43: 男 | C43: 0 | D43: 0 | E43: 0 | H43: 10 | I43: 0 | J43: 0 | K43: 0 | L43: 0 | M43: 8 | N43: 1 | O43: 1 | P43: 0
B44: 女 | C44: 0 | D44: 0 | E44: 0 | H44: 0 | I44: 0 | J44: 0 | K44: 0 | L44: 0 | M44: 0 | N44: 0 | O44: 0 | P44: 0
A46: 資料來源、 加害人性別 | C46: 3.家庭暴力加害人處遇
C47: 本年截至本期累計應執行處遇人數（A） | D47: 本年截至本期累計應執行處遇者各處遇項目執行人次 | L47: 本年截至本期累計完成處遇人數 （B） | M47: 本年截至本期累計各處遇項目完成人次 | U47: 本年截至本期累計尚在執行處遇人數 （C） | V47: 本年截至本期累計尚在執行處遇者各處遇項目人次 | AD47: 本年截至本期累計顯已無法完成處遇者按原因別分(人數) | AM47: 本年截至本期累計顯已無法完成處遇者，移送地檢署人數
D48: 精神治療 | E48: 戒癮治療 | G48: 心理輔導 | H48: 認知教育輔導 | J48: 其他輔導、治療 | M48: 精神治療 | N48: 戒癮治療 | P48: 心理輔導 | Q48: 認知教育輔導 | S48: 其他輔導、治療 | V48: 精神治療 | W48: 戒癮治療 | Y48: 心理輔導 | Z48: 認知教育輔導 | AB48: 其他輔導、治療 | AD48: 合計 （D） | AE48: 個案拒報到 | AF48: 個案死亡 | AG48: 個案傷殘或住院 | AH48: 個案因案入監無法執行 | AI48: 送達證書個案拒領或無法送達 | AJ48: 個案轉介其他縣市執行 | AK48: 被害人 撤銷或變更保護令 | AL48: 其他
E49: 戒酒癮 | F49: 戒藥毒癮 | H49: 認知教育 | I49: 戒酒教育 | J49: 親職教育 | K49: 其他 | N49: 戒酒癮 | O49: 戒藥毒癮 | Q49: 認知教育 | R49: 戒酒教育 | S49: 親職教育 | T49: 其他 | W49: 戒酒癮 | X49: 戒藥毒癮 | Z49: 認知教育 | AA49: 戒酒教育 | AB49: 親職教育 | AC49: 其他
A50: 法院裁定加害人處遇計畫者（家暴法第14條第1項第10款） | B50: 計 | C50: 4610 | D50: 613 | E50: 480 | F50: 79 | G50: 375 | H50: 3745 | I50: 1527 | J50: 86 | K50: 34 | L50: 2080 | M50: 173 | N50: 157 | O50: 7 | P50: 163 | Q50: 1682 | R50: 566 | S50: 34 | T50: 11 | U50: 1602 | V50: 280 | W50: 225 | X50: 33 | Y50: 122 | Z50: 1253 | AA50: 601 | AB50: 30 | AC50: 9 | AD50: 928 | AE50: 464 | AF50: 37 | AG50: 14 | AH50: 99 | AI50: 7 | AJ50: 114 | AK50: 149 | AL50: 44 | AM50: 371
B51: 男 | C51: 4338 | D51: 532 | E51: 458 | F51: 76 | G51: 331 | H51: 3552 | I51: 1501 | J51: 71 | K51: 27 | L51: 1953 | M51: 149 | N51: 155 | O51: 6 | P51: 141 | Q51: 1599 | R51: 559 | S51: 27 | T51: 10 | U51: 1501 | V51: 236 | W51: 216 | X51: 32 | Y51: 104 | Z51: 1196 | AA51: 590 | AB51: 24 | AC51: 8 | AD51: 884 | AE51: 440 | AF51: 36 | AG51: 13 | AH51: 99 | AI51: 7 | AJ51: 106 | AK51: 142 | AL51: 41 | AM51: 360
B52: 女 | C52: 272 | D52: 81 | E52: 22 | F52: 3 | G52: 44 | H52: 193 | I52: 26 | J52: 15 | K52: 7 | L52: 127 | M52: 24 | N52: 2 | O52: 1 | P52: 22 | Q52: 83 | R52: 7 | S52: 7 | T52: 1 | U52: 101 | V52: 44 | W52: 9 | X52: 1 | Y52: 18 | Z52: 57 | AA52: 11 | AB52: 6 | AC52: 1 | AD52: 44 | AE52: 24 | AF52: 1 | AG52: 1 | AH52: 0 | AI52: 0 | AJ52: 8 | AK52: 7 | AL52: 3 | AM52: 11
A53: 犯家暴罪或違反保護令罪付保護管束者命完成加害人處遇計畫（家暴法第38條） | B53: 計 | C53: 415 | D53: 2 | E53: 98 | F53: 0 | G53: 227 | H53: 167 | I53: 1 | J53: 0 | K53: 5 | L53: 35 | M53: 1 | N53: 5 | O53: 0 | P53: 16 | Q53: 14 | R53: 0 | S53: 0 | T53: 0 | U53: 375 | V53: 1 | W53: 98 | X53: 0 | Y53: 143 | Z53: 135 | AA53: 0 | AB53: 0 | AC53: 0 | AD53: 5 | AE53: 0 | AF53: 0 | AG53: 0 | AH53: 0 | AI53: 0 | AJ53: 0 | AK53: 0 | AL53: 5 | AM53: 0
B54: 男 | C54: 365 | D54: 1 | E54: 92 | F54: 0 | G54: 192 | H54: 158 | I54: 1 | J54: 0 | K54: 5 | L54: 31 | M54: 1 | N54: 4 | O54: 0 | P54: 14 | Q54: 13 | R54: 0 | S54: 0 | T54: 0 | U54: 329 | V54: 0 | W54: 96 | X54: 0 | Y54: 122 | Z54: 112 | AA54: 0 | AB54: 0 | AC54: 0 | AD54: 5 | AE54: 0 | AF54: 0 | AG54: 0 | AH54: 0 | AI54: 0 | AJ54: 0 | AK54: 0 | AL54: 5 | AM54: 0
B55: 女 | C55: 50 | D55: 1 | E55: 6 | F55: 0 | G55: 35 | H55: 9 | I55: 0 | J55: 0 | K55: 0 | L55: 4 | M55: 0 | N55: 1 | O55: 0 | P55: 2 | Q55: 1 | R55: 0 | S55: 0 | T55: 0 | U55: 46 | V55: 1 | W55: 2 | X55: 0 | Y55: 21 | Z55: 23 | AA55: 0 | AB55: 0 | AC55: 0 | AD55: 0 | AE55: 0 | AF55: 0 | AG55: 0 | AH55: 0 | AI55: 0 | AJ55: 0 | AK55: 0 | AL55: 0 | AM55: 0
A56: 假釋出獄付保護管束者命完成加害人處遇計畫（家暴法第39條） | B56: 計 | C56: 23 | D56: 1 | E56: 0 | F56: 0 | G56: 3 | H56: 17 | I56: 3 | J56: 1 | K56: 1 | L56: 10 | M56: 0 | N56: 0 | O56: 0 | P56: 2 | Q56: 7 | R56: 1 | S56: 0 | T56: 1 | U56: 12 | V56: 1 | W56: 0 | X56: 0 | Y56: 1 | Z56: 9 | AA56: 2 | AB56: 1 | AC56: 0 | AD56: 1 | AE56: 0 | AF56: 0 | AG56: 1 | AH56: 0 | AI56: 0 | AJ56: 0 | AK56: 0 | AL56: 0 | AM56: 0
B57: 男 | C57: 20 | D57: 1 | E57: 0 | F57: 0 | G57: 2 | H57: 15 | I57: 2 | J57: 0 | K57: 1 | L57: 8 | M57: 0 | N57: 0 | O57: 0 | P57: 1 | Q57: 6 | R57: 0 | S57: 0 | T57: 1 | U57: 11 | V57: 1 | W57: 0 | X57: 0 | Y57: 1 | Z57: 8 | AA57: 2 | AB57: 0 | AC57: 0 | AD57: 1 | AE57: 0 | AF57: 0 | AG57: 1 | AH57: 0 | AI57: 0 | AJ57: 0 | AK57: 0 | AL57: 0 | AM57: 0
B58: 女 | C58: 3 | D58: 0 | E58: 0 | F58: 0 | G58: 1 | H58: 2 | I58: 1 | J58: 1 | K58: 0 | L58: 2 | M58: 0 | N58: 0 | O58: 0 | P58: 1 | Q58: 1 | R58: 1 | S58: 0 | T58: 0 | U58: 1 | V58: 0 | W58: 0 | X58: 0 | Y58: 0 | Z58: 1 | AA58: 0 | AB58: 1 | AC58: 0 | AD58: 0 | AE58: 0 | AF58: 0 | AG58: 0 | AH58: 0 | AI58: 0 | AJ58: 0 | AK58: 0 | AL58: 0 | AM58: 0
A59: 檢察官緩起訴處分命完成加害人處遇計畫 | B59: 計 | C59: 20 | D59: 0 | E59: 0 | F59: 0 | G59: 0 | H59: 17 | I59: 2 | J59: 1 | K59: 0 | L59: 17 | M59: 0 | N59: 0 | O59: 0 | P59: 0 | Q59: 15 | R59: 1 | S59: 1 | T59: 0 | U59: 2 | V59: 0 | W59: 0 | X59: 0 | Y59: 0 | Z59: 2 | AA59: 0 | AB59: 0 | AC59: 0 | AD59: 1 | AE59: 1 | AF59: 0 | AG59: 0 | AH59: 0 | AI59: 0 | AJ59: 0 | AK59: 0 | AL59: 0 | AM59: 1
B60: 男 | C60: 20 | D60: 0 | E60: 0 | F60: 0 | G60: 0 | H60: 17 | I60: 2 | J60: 1 | K60: 0 | L60: 17 | M60: 0 | N60: 0 | O60: 0 | P60: 0 | Q60: 15 | R60: 1 | S60: 1 | T60: 0 | U60: 2 | V60: 0 | W60: 0 | X60: 0 | Y60: 0 | Z60: 2 | AA60: 0 | AB60: 0 | AC60: 0 | AD60: 1 | AE60: 1 | AF60: 0 | AG60: 0 | AH60: 0 | AI60: 0 | AJ60: 0 | AK60: 0 | AL60: 0 | AM60: 1
B61: 女 | C61: 0 | D61: 0 | E61: 0 | F61: 0 | G61: 0 | H61: 0 | I61: 0 | J61: 0 | K61: 0 | L61: 0 | M61: 0 | N61: 0 | O61: 0 | P61: 0 | Q61: 0 | R61: 0 | S61: 0 | T61: 0 | U61: 0 | V61: 0 | W61: 0 | X61: 0 | Y61: 0 | Z61: 0 | AA61: 0 | AB61: 0 | AC61: 0 | AD61: 0 | AE61: 0 | AF61: 0 | AG61: 0 | AH61: 0 | AI61: 0 | AJ61: 0 | AK61: 0 | AL61: 0 | AM61: 0
A63: 件數與罰鍰金額 | C63: 4.家庭暴力事件裁罰按裁罰事由統計
C64: 合計 | D64: 執行家庭暴力防治人員，在執行職務時知有疑似家庭暴力情事，未立即通報當地主管機關者（家庭暴力防治法第62條第1項） | J64: 醫療機構對於家庭暴力之被害人，無故拒絕診療及開立驗傷診斷書者（家庭暴力防治法第62條第2項） | N64: 無正當理由撥打24小時專線電話，致妨害公務執行，經勸阻不聽者（家庭暴力防治法第63條）
A65: 件數 | C65: 0 | D65: 0 | J65: 0 | N65: 0
A66: 罰鍰金額(新台幣元) | C66: 0 | D66: 0 | J66: 0 | N66: 0
A71: 更新日期：2014/5/29

Sheet 102
A1: 5.1-03 推展家庭暴力防治業務
A2: 民國102年
A4: 被害人國籍身分 與性別 | C4: 1.家庭暴力被害人保護扶助人次（人次）
C5: 合計 | D5: 諮詢協談 | E5: 庇護安置 | F5: 陪同報案偵詢（訊） | G5: 陪同出庭 | H5: 驗傷診療 | I5: 法律扶助 | J5: 經濟扶助 | K5: 心理諮商與輔導 | L5: 就業服務 | M5: 就學或轉學服務 | N5: 子女問題 協助 | O5: 通譯服務 | P5: 轉介 戒毒中心 | Q5: 其他扶助
A6: 合計 | B6: 計 | C6: 988585 | D6: 634792 | E6: 20467 | F6: 1559 | G6: 8698 | H6: 10624 | I6: 65944 | J6: 28770 | K6: 83893 | L6: 4704 | M6: 7763 | N6: 14236 | O6: 386 | P6: 70 | Q6: 106679
B7: 男 | C7: 229435 | D7: 153229 | E7: 6909 | F7: 299 | G7: 1254 | H7: 2789 | I7: 9857 | J7: 9216 | K7: 15029 | L7: 862 | M7: 4791 | N7: 4293 | O7: 15 | P7: 50 | Q7: 20842
B8: 女 | C8: 759150 | D8: 481563 | E8: 13558 | F8: 1260 | G8: 7444 | H8: 7835 | I8: 56087 | J8: 19554 | K8: 68864 | L8: 3842 | M8: 2972 | N8: 9943 | O8: 371 | P8: 20 | Q8: 85837
A9: 本國籍 非原住民 | B9: 男 | C9: 210430 | D9: 140146 | E9: 6217 | F9: 263 | G9: 1126 | H9: 2600 | I9: 9232 | J9: 8380 | K9: 14736 | L9: 824 | M9: 3981 | N9: 3969 | O9: 9 | P9: 49 | Q9: 18898
B10: 女 | C10: 641674 | D10: 405487 | E10: 11401 | F10: 1010 | G10: 5984 | H10: 7177 | I10: 47295 | J10: 17108 | K10: 62434 | L10: 3249 | M10: 2380 | N10: 8804 | O10: 271 | P10: 11 | Q10: 69063
A11: 本國籍 原住民 | B11: 男 | C11: 15081 | D11: 10049 | E11: 682 | F11: 33 | G11: 99 | H11: 169 | I11: 462 | J11: 732 | K11: 201 | L11: 24 | M11: 778 | N11: 277 | O11: 0 | P11: 1 | Q11: 1574
B12: 女 | C12: 44733 | D12: 28971 | E12: 1095 | F12: 111 | G12: 471 | H12: 249 | I12: 3612 | J12: 1278 | K12: 1581 | L12: 262 | M12: 493 | N12: 418 | O12: 3 | P12: 0 | Q12: 6189
A13: 大陸籍 （含港澳） | B13: 男 | C13: 792 | D13: 593 | E13: 2 | F13: 0 | G13: 11 | H13: 1 | I13: 16 | J13: 29 | K13: 11 | L13: 2 | M13: 28 | N13: 6 | O13: 0 | P13: 0 | Q13: 93
B14: 女 | C14: 30847 | D14: 19170 | E14: 642 | F14: 68 | G14: 409 | H14: 209 | I14: 2244 | J14: 495 | K14: 2704 | L14: 178 | M14: 66 | N14: 264 | O14: 0 | P14: 1 | Q14: 4397
A15: 外國籍 | B15: 男 | C15: 1489 | D15: 1071 | E15: 4 | F15: 2 | G15: 10 | H15: 10 | I15: 60 | J15: 65 | K15: 76 | L15: 10 | M15: 1 | N15: 28 | O15: 6 | P15: 0 | Q15: 146
B16: 女 | C16: 35042 | D16: 22377 | E16: 407 | F16: 68 | G16: 541 | H16: 166 | I16: 2437 | J16: 651 | K16: 2125 | L16: 153 | M16: 31 | N16: 448 | O16: 97 | P16: 8 | Q16: 5533
A17: 其他 | B17: 男 | C17: 1643 | D17: 1370 | E17: 4 | F17: 1 | G17: 8 | H17: 9 | I17: 87 | J17: 10 | K17: 5 | L17: 2 | M17: 3 | N17: 13 | O17: 0 | P17: 0 | Q17: 131
B18: 女 | C18: 6854 | D18: 5558 | E18: 13 | F18: 3 | G18: 39 | H18: 34 | I18: 499 | J18: 22 | K18: 20 | L18: 0 | M18: 2 | N18: 9 | O18: 0 | P18: 0 | Q18: 655
A20: 被害人國籍身分 | C20: 2.家庭暴力被害人保護扶助金額 (元)
C21: 合計 | D21: 緊急 生活扶助 | E21: 生活扶助 | F21: 急難救助 | G21: 租金補助 | H21: 醫療補助 | I21: 庇護安置補助 | J21: 心理復建 補助 | K21: 律師費用 補助 | L21: 訴訟費用 補助 | M21: 子女 生活津貼 | N21: 子女 教育補助 | O21: 兒童 托育津貼 | P21: 民間慈善團體資助 | Q21: 其他補助
A22: 合計 | C22: 468542425 | D22: 29780043 | E22: 11986158 | F22: 2412041 | G22: 7115140 | H22: 18681939 | I22: 325871100 | J22: 9776310 | K22: 8305847 | L22: 2182810 | M22: 11830899 | N22: 1383616 | O22: 750610 | P22: 15121193 | Q22: 23344719
A23: 本國籍非原住民 | C23: 427981688 | D23: 25579267 | E23: 11338047 | F23: 2158452 | G23: 5540088 | H23: 17925144 | I23: 298491670 | J23: 9490198 | K23: 7254924 | L23: 2159810 | M23: 11381130 | N23: 1383616 | O23: 718110 | P23: 11975205 | Q23: 22586027
A24: 本國籍原住民 | C24: 27250835 | D24: 1293400 | E24: 228009 | F24: 116001 | G24: 250500 | H24: 170936 | I24: 22217789 | J24: 163000 | K24: 244000 | L24: 3000 | M24: 131049 | N24: 0 | O24: 2500 | P24: 1880081 | Q24: 550570
A25: 大陸籍（含港澳） | C25: 7421505 | D25: 1511110 | E25: 186974 | F25: 59888 | G25: 723088 | H25: 338904 | I25: 3434582 | J25: 15512 | K25: 327630 | L25: 20000 | M25: 203760 | N25: 0 | O25: 21000 | P25: 541717 | Q25: 37340
A26: 外國籍 | C26: 5336676 | D26: 1396266 | E26: 228128 | F26: 67700 | G26: 565000 | H26: 206071 | I26: 1696356 | J26: 106400 | K26: 341900 | L26: 0 | M26: 79524 | N26: 0 | O26: 9000 | P26: 582521 | Q26: 57810
A27: 其他 | C27: 551721 | D27: 0 | E27: 5000 | F27: 10000 | G27: 36464 | H27: 40884 | I27: 30703 | J27: 1200 | K27: 137393 | L27: 0 | M27: 35436 | N27: 0 | O27: 0 | P27: 141669 | Q27: 112972
A29: 資料來源、 加害人性別 | C29: 3.家庭暴力加害人處遇
C30: 本期囑託鑑定、評估人數 (人) | D30: 本期完成囑託鑑定、評估人數 (人) | E30: 本期完成 主動評估人數（人） | F30: 本期法院裁定加害人處遇人數 (人) | G30: 本期法院逕裁加害人處遇人數 (人) | H30: 本期法院裁定加害人處遇計畫項目人次(複選)
H31: 合計 | I31: 精神治療 | J31: 戒癮治療 | L31: 心理輔導 | M31: 認知教育輔導 | O31: 其他輔導、治療
J32: 戒酒癮 | K32: 戒藥毒癮 | M32: 認知教育 | N32: 戒酒教育 | O32: 親職教育 | P32: 其他
A33: 法院裁定加害人處遇計畫者（家暴法第14條第1項第10款） | B33: 計 | C33: 2786 | D33: 2217 | E33: 1125 | F33: 2922 | G33: 1399 | H33: 4189 | I33: 400 | J33: 281 | K33: 36 | L33: 156 | M33: 2654 | N33: 583 | O33: 64 | P33: 15
B34: 男 | C34: 2582 | D34: 2071 | E34: 1009 | F34: 2736 | G34: 1318 | H34: 3899 | I34: 311 | J34: 271 | K34: 34 | L34: 131 | M34: 2521 | N34: 573 | O34: 43 | P34: 15
B35: 女 | C35: 204 | D35: 146 | E35: 116 | F35: 186 | G35: 81 | H35: 290 | I35: 89 | J35: 10 | K35: 2 | L35: 25 | M35: 133 | N35: 10 | O35: 21 | P35: 0
A36: 犯家暴罪或違反保護令罪付保護管束者命完成加害人處遇計畫（家暴法第38條） | B36: 計 | C36: 3 | D36: 3 | E36: 0 | F36: 1 | G36: 1 | H36: 3 | I36: 1 | J36: 0 | K36: 0 | L36: 1 | M36: 0 | N36: 1 | O36: 0 | P36: 0
B37: 男 | C37: 1 | D37: 1 | E37: 0 | F37: 0 | G37: 0 | H37: 1 | I37: 0 | J37: 0 | K37: 0 | L37: 0 | M37: 0 | N37: 1 | O37: 0 | P37: 0
B38: 女 | C38: 2 | D38: 2 | E38: 0 | F38: 1 | G38: 1 | H38: 2 | I38: 1 | J38: 0 | K38: 0 | L38: 1 | M38: 0 | N38: 0 | O38: 0 | P38: 0
A39: 假釋出獄付保護管束者命完成加害人處遇計畫（家暴法第39條） | B39: 計 | C39: 9 | D39: 9 | E39: 0 | F39: 9 | G39: 6 | H39: 12 | I39: 0 | J39: 0 | K39: 0 | L39: 1 | M39: 9 | N39: 2 | O39: 0 | P39: 0
B40: 男 | C40: 7 | D40: 7 | E40: 0 | F40: 7 | G40: 4 | H40: 9 | I40: 0 | J40: 0 | K40: 0 | L40: 0 | M40: 8 | N40: 1 | O40: 0 | P40: 0
B41: 女 | C41: 2 | D41: 2 | E41: 0 | F41: 2 | G41: 2 | H41: 3 | I41: 0 | J41: 0 | K41: 0 | L41: 1 | M41: 1 | N41: 1 | O41: 0 | P41: 0
A42: 檢察官緩起訴處分命完成加害人處遇計畫 | B42: 計 | C42: 0 | D42: 0 | E42: 0 | H42: 12 | I42: 0 | J42: 3 | K42: 0 | L42: 0 | M42: 8 | N42: 1 | O42: 0 | P42: 0
B43: 男 | C43: 0 | D43: 0 | E43: 0 | H43: 11 | I43: 0 | J43: 3 | K43: 0 | L43: 0 | M43: 7 | N43: 1 | O43: 0 | P43: 0
B44: 女 | C44: 0 | D44: 0 | E44: 0 | H44: 1 | I44: 0 | J44: 0 | K44: 0 | L44: 0 | M44: 1 | N44: 0 | O44: 0 | P44: 0
A46: 資料來源、 加害人性別 | C46: 3.家庭暴力加害人處遇
C47: 本年截至本期累計應執行處遇人數（A） | D47: 本年截至本期累計應執行處遇者各處遇項目執行人次 | L47: 本年截至本期累計完成處遇人數 （B） | M47: 本年截至本期累計各處遇項目完成人次 | U47: 本年截至本期累計尚在執行處遇人數 （C） | V47: 本年截至本期累計尚在執行處遇者各處遇項目人次 | AD47: 本年截至本期累計顯已無法完成處遇者按原因別分(人數) | AM47: 本年截至本期累計顯已無法完成處遇者，移送地檢署人數
D48: 精神治療 | E48: 戒癮治療 | G48: 心理輔導 | H48: 認知教育輔導 | J48: 其他輔導、治療 | M48: 精神治療 | N48: 戒癮治療 | P48: 心理輔導 | Q48: 認知教育輔導 | S48: 其他輔導、治療 | V48: 精神治療 | W48: 戒癮治療 | Y48: 心理輔導 | Z48: 認知教育輔導 | AB48: 其他輔導、治療 | AD48: 合計 （D） | AE48: 個案拒報到 | AF48: 個案死亡 | AG48: 個案傷殘或住院 | AH48: 個案因案入監無法執行 | AI48: 送達證書個案拒領或無法送達 | AJ48: 個案轉介其他縣市執行 | AK48: 被害人 撤銷或變更保護令 | AL48: 其他
E49: 戒酒癮 | F49: 戒藥毒癮 | H49: 認知教育 | I49: 戒酒教育 | J49: 親職教育 | K49: 其他 | N49: 戒酒癮 | O49: 戒藥毒癮 | Q49: 認知教育 | R49: 戒酒教育 | S49: 親職教育 | T49: 其他 | W49: 戒酒癮 | X49: 戒藥毒癮 | Z49: 認知教育 | AA49: 戒酒教育 | AB49: 親職教育 | AC49: 其他
A50: 法院裁定加害人處遇計畫者（家暴法第14條第1項第10款） | B50: 計 | C50: 4239 | D50: 575 | E50: 679 | F50: 62 | G50: 251 | H50: 4437 | I50: 1749 | J50: 72 | K50: 17 | L50: 1912 | M50: 108 | N50: 237 | O50: 4 | P50: 96 | Q50: 2057 | R50: 687 | S50: 25 | T50: 6 | U50: 1564 | V50: 392 | W50: 358 | X50: 23 | Y50: 114 | Z50: 1554 | AA50: 590 | AB50: 33 | AC50: 12 | AD50: 763 | AE50: 397 | AF50: 30 | AG50: 17 | AH50: 91 | AI50: 2 | AJ50: 81 | AK50: 113 | AL50: 32 | AM50: 291
B51: 男 | C51: 3948 | D51: 471 | E51: 665 | F51: 53 | G51: 212 | H51: 4245 | I51: 1722 | J51: 55 | K51: 17 | L51: 1779 | M51: 96 | N51: 236 | O51: 2 | P51: 87 | Q51: 1963 | R51: 680 | S51: 22 | T51: 5 | U51: 1447 | V51: 348 | W51: 347 | X51: 17 | Y51: 90 | Z51: 1505 | AA51: 580 | AB51: 22 | AC51: 7 | AD51: 722 | AE51: 378 | AF51: 29 | AG51: 15 | AH51: 91 | AI51: 2 | AJ51: 71 | AK51: 104 | AL51: 32 | AM51: 280
B52: 女 | C52: 291 | D52: 104 | E52: 14 | F52: 9 | G52: 39 | H52: 192 | I52: 27 | J52: 17 | K52: 0 | L52: 133 | M52: 12 | N52: 1 | O52: 2 | P52: 9 | Q52: 94 | R52: 7 | S52: 3 | T52: 1 | U52: 117 | V52: 44 | W52: 11 | X52: 6 | Y52: 24 | Z52: 49 | AA52: 10 | AB52: 11 | AC52: 5 | AD52: 41 | AE52: 19 | AF52: 1 | AG52: 2 | AH52: 0 | AI52: 0 | AJ52: 10 | AK52: 9 | AL52: 0 | AM52: 11
