Workbook
Name pp: '100'!$B$1:$S$14
Name pp: '101'!$B$1:$S$14
Name pp: '102'!$B$1:$T$14
Name pp: '103'!$B$1:$T$14
Name pp: '104'!$B$1:$T$14
Name pp: '105'!$B$1:$T$14
Name pp: '106'!$B$1:$T$14
Name pp: '107'!$B$1:$T$14
Name pp: '94'!$B$1:$S$10
Name pp: '94~107'!$B$1:$AG$9
Name pp: '95'!$B$1:$S$10
Name pp: '97'!$B$1:$S$10
Name pp: '98'!$B$1:$S$10
Name pp: '99'!$B$1:$S$10
Name pp: '96'!$B$1:$S$10

Sheet 歷年(108~)
A1: 5.1-01 家庭暴力事件通報案件統計
A3: 年別 | C3: 通報件次 | O3: 通報件數
C4: 合計 | D4: 通報人員別 | O4: 案件類型別 | W4: 被害及相對人兩造關係別
D5: 醫事 人員 | E5: 警察 人員 | F5: 社政/社工人員 | G5: 教育 人員 | H5: 保育 人員 | I5: 教保服務人員 | J5: 司(軍)法人員 | K5: 移民業務相關人員 | L5: 村(里)長/村(里)幹事 | M5: 戶政 人員 | N5: 其他 | O5: 合計 | P5: 婚姻、離婚或同居關係暴力 | R5: 兒少 保護 | S5: 直系血(姻)親卑親屬虐待尊親屬 | U5: 其他家庭成員間暴力 | V5: 其他 | W5: 合計 | X5: 配偶 Spouse | AB5: 前配偶 | AF5: 其他家庭成員 | AL5: 其他
P6: 同性 伴侶 | Q6: 異性 伴侶 | S6: 被害人年齡65歲以上 | T6: 被害人年齡未滿65歲 | X6: 小計 | Y6: 共同 生活 | Z6: 分居 | AA6: 其他 | AB6: 小計 | AC6: 同住 | AD6: 未同住 | AE6: 其他 | AF6: 小計 | AG6: 同居 關係 | AH6: 直系血(姻)親 | AI6: 四等親內旁系血(姻)親 | AJ6: 家長家屬或家屬間 | AK6: 其他
A7: 108年 2019 | C7: 160944 | D7: 17536 | E7: 77572 | F7: 55007 | G7: 8127 | H7: 90 | I7: 208 | J7: 441 | K7: 12 | L7: 72 | M7: 13 | N7: 1866 | O7: 128198 | P7: 63902 | R7: 20989 | S7: 6935 | T7: 7649 | U7: 28723 | V7: 0 | W7: 128198 | X7: 42366 | Y7: 26184 | Z7: 6313 | AA7: 9869 | AB7: 6242 | AC7: 1814 | AD7: 3044 | AE7: 1384 | AF7: 73976 | AG7: 15773 | AH7: 41084 | AI7: 16364 | AJ7: 755 | AK7: 0 | AL7: 5614
A8: 109年 2020 | C8: 178710 | D8: 17321 | E8: 91095 | F8: 55410 | G8: 11428 | H8: 121 | I8: 332 | J8: 577 | K8: 18 | L8: 83 | M8: 23 | N8: 2302 | O8: 141872 | P8: 67957 | R8: 25181 | S8: 8520 | T8: 9645 | U8: 30569 | V8: 0 | W8: 141872 | X8: 43427 | Y8: 34345 | Z8: 8264 | AA8: 818 | AB8: 6848 | AC8: 2616 | AD8: 4084 | AE8: 148 | AF8: 89774 | AG8: 18243 | AH8: 51110 | AI8: 19321 | AJ8: 1100 | AK8: 0 | AL8: 1823
A9: 110年 2021 | C9: 185588 | D9: 16045 | E9: 103331 | F9: 51700 | G9: 11001 | H9: 113 | I9: 267 | J9: 584 | K9: 11 | L9: 77 | M9: 20 | N9: 2439 | O9: 149198 | P9: 1351 | Q9: 68977 | R9: 24481 | S9: 9821 | T9: 11147 | U9: 33421 | V9: 0 | W9: 149198 | X9: 42472 | Y9: 33719 | Z9: 8066 | AA9: 687 | AB9: 7014 | AC9: 2656 | AD9: 4214 | AE9: 144 | AF9: 98868 | AG9: 20898 | AH9: 55699 | AI9: 21172 | AJ9: 1099 | AK9: 0 | AL9: 844
A10: 111年 2022 | C10: 192873 | D10: 15859 | E10: 114007 | F10: 47454 | G10: 11712 | H10: 149 | I10: 378 | J10: 643 | K10: 4 | L10: 72 | M10: 12 | N10: 2583 | O10: 156864 | P10: 1515 | Q10: 73537 | R10: 25193 | S10: 10443 | T10: 11459 | U10: 34717 | V10: 0 | W10: 156864 | X10: 43242 | Y10: 34420 | Z10: 8160 | AA10: 662 | AB10: 7513 | AC10: 2827 | AD10: 4556 | AE10: 130 | AF10: 105174 | AG10: 24349 | AH10: 57950 | AI10: 21724 | AJ10: 1151 | AK10: 0 | AL10: 935
A11: 112年 2023 | C11: 207919 | D11: 17804 | E11: 123395 | F11: 47808 | G11: 14040 | H11: 227 | I11: 608 | J11: 568 | K11: 7 | L11: 95 | M11: 14 | N11: 3353 | O11: 168331 | P11: 1869 | Q11: 79530 | R11: 27133 | S11: 11365 | T11: 11617 | U11: 36817 | V11: 0 | W11: 168331 | X11: 47114 | Y11: 37125 | Z11: 9225 | AA11: 764 | AB11: 8373 | AC11: 3151 | AD11: 5091 | AE11: 131 | AF11: 111811 | AG11: 25961 | AH11: 61266 | AI11: 23301 | AJ11: 1283 | AK11: 0 | AL11: 1033
A12: 113年 2024 | C12: 222293 | D12: 18730 | E12: 132237 | F12: 49703 | G12: 15596 | H12: 194 | I12: 747 | J12: 501 | K12: 9 | L12: 111 | M12: 8 | N12: 4457 | O12: 179107 | P12: 2289 | Q12: 82912 | R12: 28603 | S12: 12293 | T12: 12954 | U12: 40056 | V12: 0 | W12: 179107 | X12: 48516 | Y12: 38698 | Z12: 9049 | AA12: 769 | AB12: 8785 | AC12: 3190 | AD12: 5437 | AE12: 158 | AF12: 120665 | AG12: 27947 | AH12: 66309 | AI12: 25125 | AJ12: 1284 | AK12: 0 | AL12: 1141
A13: 資料來源：本部保護服務司。

Sheet 113
A1: 5.1-01 家庭暴力事件通報案件統計
A3: 區域別 | C3: 通報件次 | O3: 通報件數
C4: 合計 | D4: 通報人員別 | O4: 案件類型別 | W4: 被害及相對人兩造關係別
D5: 醫事 人員 | E5: 警察 人員 | F5: 社政/社工人員 | G5: 教育 人員 | H5: 保育 人員 | I5: 教保服務人員 | J5: 司(軍)法人員 | K5: 移民業務相關人員 | L5: 村(里)長/村(里)幹事 | M5: 戶政 人員 | N5: 其他 | O5: 合計 | P5: 婚姻、離婚或同居關係暴力 | R5: 兒少 保護 | S5: 直系血(姻)親卑親屬虐待尊親屬 | U5: 其他家庭成員間暴力 | V5: 其他 | W5: 合計 | X5: 配偶 Spouse | AB5: 前配偶 | AF5: 其他家庭成員 | AL5: 其他
P6: 同性 伴侶 | Q6: 異性 伴侶 | S6: 被害人年齡65歲以上 | T6: 被害人年齡未滿65歲 | X6: 小計 | Y6: 共同 生活 | Z6: 分居 | AA6: 其他 | AB6: 小計 | AC6: 同住 | AD6: 未同住 | AE6: 其他 | AF6: 小計 | AG6: 同居 關係 | AH6: 直系血(姻)親 | AI6: 四等親內旁系血(姻)親 | AJ6: 家長家屬或家屬間 | AK6: 其他
A7: 113年 2024 | C7: 222293 | D7: 18730 | E7: 132237 | F7: 49703 | G7: 15596 | H7: 194 | I7: 747 | J7: 501 | K7: 9 | L7: 111 | M7: 8 | N7: 4457 | O7: 179107 | P7: 2289 | Q7: 82912 | R7: 28603 | S7: 12293 | T7: 12954 | U7: 40056 | V7: 0 | W7: 179107 | X7: 48516 | Y7: 38698 | Z7: 9049 | AA7: 769 | AB7: 8785 | AC7: 3190 | AD7: 5437 | AE7: 158 | AF7: 120665 | AG7: 27947 | AH7: 66309 | AI7: 25125 | AJ7: 1284 | AK7: 0 | AL7: 1141
A8: 新北市 | C8: 37419 | D8: 3116 | E8: 20947 | F8: 9379 | G8: 2841 | H8: 37 | I8: 120 | J8: 64 | K8: 0 | L8: 15 | M8: 1 | N8: 899 | O8: 29360 | P8: 326 | Q8: 13660 | R8: 5246 | S8: 1759 | T8: 2137 | U8: 6232 | V8: 0 | W8: 29360 | X8: 8058 | Y8: 6289 | Z8: 1433 | AA8: 336 | AB8: 1298 | AC8: 476 | AD8: 767 | AE8: 55 | AF8: 19718 | AG8: 4650 | AH8: 11395 | AI8: 3487 | AJ8: 186 | AK8: 0 | AL8: 286
A9: 臺北市 | C9: 21285 | D9: 1646 | E9: 11921 | F9: 5488 | G9: 1547 | H9: 15 | I9: 67 | J9: 49 | K9: 0 | L9: 15 | M9: 0 | N9: 537 | O9: 17488 | P9: 289 | Q9: 7398 | R9: 3399 | S9: 1081 | T9: 1363 | U9: 3958 | V9: 0 | W9: 17488 | X9: 4570 | Y9: 3869 | Z9: 625 | AA9: 76 | AB9: 578 | AC9: 244 | AD9: 323 | AE9: 11 | AF9: 12184 | AG9: 2543 | AH9: 7071 | AI9: 2460 | AJ9: 110 | AK9: 0 | AL9: 156
A10: 桃園市 | C10: 22861 | D10: 1942 | E10: 13125 | F10: 5054 | G10: 2216 | H10: 29 | I10: 94 | J10: 50 | K10: 3 | L10: 4 | M10: 2 | N10: 342 | O10: 18305 | P10: 227 | Q10: 8986 | R10: 3214 | S10: 1172 | T10: 1351 | U10: 3355 | V10: 0 | W10: 18305 | X10: 5192 | Y10: 4145 | Z10: 1019 | AA10: 28 | AB10: 981 | AC10: 360 | AD10: 608 | AE10: 13 | AF10: 12102 | AG10: 3040 | AH10: 6711 | AI10: 2197 | AJ10: 154 | AK10: 0 | AL10: 30
A11: 臺中市 | C11: 29396 | D11: 1865 | E11: 18306 | F11: 6761 | G11: 1649 | H11: 22 | I11: 78 | J11: 173 | K11: 0 | L11: 5 | M11: 1 | N11: 536 | O11: 23998 | P11: 355 | Q11: 11786 | R11: 3237 | S11: 1608 | T11: 1577 | U11: 5435 | V11: 0 | W11: 23998 | X11: 6531 | Y11: 5129 | Z11: 1301 | AA11: 101 | AB11: 1293 | AC11: 429 | AD11: 842 | AE11: 22 | AF11: 16018 | AG11: 4320 | AH11: 8147 | AI11: 3405 | AJ11: 146 | AK11: 0 | AL11: 156
A12: 臺南市 | C12: 14727 | D12: 894 | E12: 8288 | F12: 3874 | G12: 1137 | H12: 19 | I12: 73 | J12: 15 | K12: 1 | L12: 13 | M12: 0 | N12: 413 | O12: 11907 | P12: 181 | Q12: 5101 | R12: 2114 | S12: 984 | T12: 856 | U12: 2671 | V12: 0 | W12: 11907 | X12: 2945 | Y12: 2280 | Z12: 636 | AA12: 29 | AB12: 578 | AC12: 181 | AD12: 387 | AE12: 10 | AF12: 8350 | AG12: 1760 | AH12: 4738 | AI12: 1737 | AJ12: 115 | AK12: 0 | AL12: 34
A13: 高雄市 | C13: 29627 | D13: 3705 | E13: 18580 | F13: 4700 | G13: 1853 | H13: 27 | I13: 65 | J13: 41 | K13: 0 | L13: 34 | M13: 2 | N13: 620 | O13: 23978 | P13: 405 | Q13: 11310 | R13: 3253 | S13: 1847 | T13: 1914 | U13: 5249 | V13: 0 | W13: 23978 | X13: 6214 | Y13: 5057 | Z13: 1097 | AA13: 60 | AB13: 1249 | AC13: 488 | AD13: 750 | AE13: 11 | AF13: 16487 | AG13: 4255 | AH13: 8831 | AI13: 3231 | AJ13: 170 | AK13: 0 | AL13: 28
A14: 宜蘭縣 | C14: 3713 | D14: 238 | E14: 2040 | F14: 1134 | G14: 249 | H14: 2 | I14: 14 | J14: 0 | K14: 0 | L14: 0 | M14: 0 | N14: 36 | O14: 2866 | P14: 25 | Q14: 1408 | R14: 329 | S14: 212 | T14: 212 | U14: 680 | V14: 0 | W14: 2866 | X14: 868 | Y14: 720 | Z14: 145 | AA14: 3 | AB14: 173 | AC14: 73 | AD14: 96 | AE14: 4 | AF14: 1809 | AG14: 393 | AH14: 965 | AI14: 432 | AJ14: 19 | AK14: 0 | AL14: 16
A15: 新竹縣 | C15: 5803 | D15: 586 | E15: 3240 | F15: 1389 | G15: 488 | H15: 3 | I15: 16 | J15: 4 | K15: 0 | L15: 0 | M15: 0 | N15: 77 | O15: 4403 | P15: 35 | Q15: 2152 | R15: 745 | S15: 218 | T15: 354 | U15: 899 | V15: 0 | W15: 4403 | X15: 1373 | Y15: 1104 | Z15: 252 | AA15: 17 | AB15: 226 | AC15: 82 | AD15: 138 | AE15: 6 | AF15: 2757 | AG15: 591 | AH15: 1531 | AI15: 610 | AJ15: 25 | AK15: 0 | AL15: 47
A16: 苗栗縣 | C16: 4047 | D16: 307 | E16: 2298 | F16: 1132 | G16: 259 | H16: 1 | I16: 12 | J16: 3 | K16: 0 | L16: 0 | M16: 0 | N16: 35 | O16: 3354 | P16: 46 | Q16: 1522 | R16: 575 | S16: 210 | T16: 226 | U16: 775 | V16: 0 | W16: 3354 | X16: 936 | Y16: 728 | Z16: 202 | AA16: 6 | AB16: 188 | AC16: 39 | AD16: 145 | AE16: 4 | AF16: 2180 | AG16: 448 | AH16: 1194 | AI16: 504 | AJ16: 34 | AK16: 0 | AL16: 50
A17: 彰化縣 | C17: 12777 | D17: 701 | E17: 8665 | F17: 2402 | G17: 676 | H17: 14 | I17: 44 | J17: 11 | K17: 3 | L17: 2 | M17: 0 | N17: 259 | O17: 10491 | P17: 43 | Q17: 4380 | R17: 1397 | S17: 885 | T17: 767 | U17: 3019 | V17: 0 | W17: 10491 | X17: 2826 | Y17: 2140 | Z17: 665 | AA17: 21 | AB17: 516 | AC17: 199 | AD17: 315 | AE17: 2 | AF17: 7067 | AG17: 1085 | AH17: 3980 | AI17: 1936 | AJ17: 66 | AK17: 0 | AL17: 82
A18: 南投縣 | C18: 4869 | D18: 447 | E18: 3039 | F18: 896 | G18: 368 | H18: 2 | I18: 13 | J18: 24 | K18: 0 | L18: 4 | M18: 0 | N18: 76 | O18: 4064 | P18: 29 | Q18: 1701 | R18: 778 | S18: 380 | T18: 284 | U18: 892 | V18: 0 | W18: 4064 | X18: 1060 | Y18: 898 | Z18: 158 | AA18: 4 | AB18: 162 | AC18: 77 | AD18: 84 | AE18: 1 | AF18: 2832 | AG18: 510 | AH18: 1689 | AI18: 605 | AJ18: 28 | AK18: 0 | AL18: 10
... A29: 連江縣 | C29: 70 | D29: 9 | E29: 36 | F29: 8 | G29: 15 | H29: 0 | I29: 0 | J29: 0 | K29: 0 | L29: 0 | M29: 0 | N29: 2 | O29: 50 | P29: 2 | Q29: 15 | R29: 20 | S29: 2 | T29: 2 | U29: 9 | V29: 0 | W29: 50 | X29: 13 | Y29: 9 | Z29: 2 | AA29: 2 | AB29: 2 | AC29: 1 | AD29: 1 | AE29: 0 | AF29: 31 | AG29: 2 | AH29: 22 | AI29: 7 | AJ29: 0 | AK29: 0 | AL29: 4
A30: 資料來源：本部保護服務司。
A31: Source :Department of Protective Services , MOHW.

Sheet 112
A1: 5.1-01 家庭暴力事件通報案件統計
A3: 區域別 | C3: 通報件次 | O3: 通報件數
C4: 合計 | D4: 通報人員別 | O4: 案件類型別 | W4: 被害及相對人兩造關係別
D5: 醫事 人員 | E5: 警察 人員 | F5: 社政/社工人員 | G5: 教育 人員 | H5: 保育 人員 | I5: 教保服務人員 | J5: 司(軍)法人員 | K5: 移民業務相關人員 | L5: 村(里)長/村(里)幹事 | M5: 戶政 人員 | N5: 其他 | O5: 合計 | P5: 婚姻、離婚或同居關係暴力 | R5: 兒少 保護 | S5: 直系血(姻)親卑親屬虐待尊親屬 | U5: 其他家庭成員間暴力 | V5: 其他 | W5: 合計 | X5: 配偶 Spouse | AB5: 前配偶 | AF5: 其他家庭成員 | AL5: 其他
P6: 同性 伴侶 | Q6: 異性 伴侶 | S6: 被害人年齡65歲以上 | T6: 被害人年齡未滿65歲 | X6: 小計 | Y6: 共同 生活 | Z6: 分居 | AA6: 其他 | AB6: 小計 | AC6: 同住 | AD6: 未同住 | AE6: 其他 | AF6: 小計 | AG6: 同居 關係 | AH6: 直系血(姻)親 | AI6: 四等親內旁系血(姻)親 | AJ6: 家長家屬或家屬間 | AK6: 其他
A7: 112年 2023 | C7: 207919 | D7: 17804 | E7: 123395 | F7: 47808 | G7: 14040 | H7: 227 | I7: 608 | J7: 568 | K7: 7 | L7: 95 | M7: 14 | N7: 3353 | O7: 168331 | P7: 1869 | Q7: 79530 | R7: 27133 | S7: 11365 | T7: 11617 | U7: 36817 | V7: 0 | W7: 168331 | X7: 47114 | Y7: 37125 | Z7: 9225 | AA7: 764 | AB7: 8373 | AC7: 3151 | AD7: 5091 | AE7: 131 | AF7: 111811 | AG7: 25961 | AH7: 61266 | AI7: 23301 | AJ7: 1283 | AK7: 0 | AL7: 1033
A8: 新北市 | C8: 33958 | D8: 2909 | E8: 19050 | F8: 8856 | G8: 2334 | H8: 28 | I8: 85 | J8: 74 | K8: 3 | L8: 15 | M8: 0 | N8: 604 | O8: 26755 | P8: 279 | Q8: 13125 | R8: 4347 | S8: 1543 | T8: 1876 | U8: 5585 | V8: 0 | W8: 26755 | X8: 7893 | Y8: 6069 | Z8: 1495 | AA8: 329 | AB8: 1226 | AC8: 452 | AD8: 726 | AE8: 48 | AF8: 17415 | AG8: 4301 | AH8: 9794 | AI8: 3135 | AJ8: 185 | AK8: 0 | AL8: 221
A9: 臺北市 | C9: 19875 | D9: 1602 | E9: 11231 | F9: 5263 | G9: 1181 | H9: 11 | I9: 72 | J9: 43 | K9: 1 | L9: 13 | M9: 2 | N9: 456 | O9: 16370 | P9: 218 | Q9: 7020 | R9: 2906 | S9: 1213 | T9: 1180 | U9: 3833 | V9: 0 | W9: 16370 | X9: 4296 | Y9: 3594 | Z9: 622 | AA9: 80 | AB9: 576 | AC9: 258 | AD9: 304 | AE9: 14 | AF9: 11388 | AG9: 2367 | AH9: 6570 | AI9: 2352 | AJ9: 99 | AK9: 0 | AL9: 110
A10: 桃園市 | C10: 20796 | D10: 1800 | E10: 11414 | F10: 4948 | G10: 2183 | H10: 45 | I10: 95 | J10: 42 | K10: 0 | L10: 0 | M10: 6 | N10: 263 | O10: 16710 | P10: 189 | Q10: 7963 | R10: 3345 | S10: 989 | T10: 1171 | U10: 3053 | V10: 0 | W10: 16710 | X10: 4684 | Y10: 3675 | Z10: 965 | AA10: 44 | AB10: 909 | AC10: 349 | AD10: 549 | AE10: 11 | AF10: 11060 | AG10: 2565 | AH10: 6335 | AI10: 1980 | AJ10: 180 | AK10: 0 | AL10: 57
A11: 臺中市 | C11: 29026 | D11: 1895 | E11: 17345 | F11: 7320 | G11: 1705 | H11: 36 | I11: 74 | J11: 218 | K11: 0 | L11: 5 | M11: 0 | N11: 428 | O11: 23765 | P11: 266 | Q11: 11562 | R11: 3938 | S11: 1494 | T11: 1550 | U11: 4955 | V11: 0 | W11: 23765 | X11: 6522 | Y11: 5031 | Z11: 1417 | AA11: 74 | AB11: 1226 | AC11: 409 | AD11: 802 | AE11: 15 | AF11: 15881 | AG11: 4085 | AH11: 8455 | AI11: 3152 | AJ11: 189 | AK11: 0 | AL11: 136
A12: 臺南市 | C12: 13906 | D12: 828 | E12: 8120 | F12: 3604 | G12: 981 | H12: 20 | I12: 35 | J12: 16 | K12: 0 | L12: 6 | M12: 1 | N12: 295 | O12: 11144 | P12: 137 | Q12: 5158 | R12: 1817 | S12: 867 | T12: 754 | U12: 2411 | V12: 0 | W12: 11144 | X12: 3033 | Y12: 2290 | Z12: 714 | AA12: 29 | AB12: 598 | AC12: 217 | AD12: 376 | AE12: 5 | AF12: 7482 | AG12: 1665 | AH12: 4103 | AI12: 1627 | AJ12: 87 | AK12: 0 | AL12: 31
A13: 高雄市 | C13: 28079 | D13: 3454 | E13: 17513 | F13: 4560 | G13: 1918 | H13: 37 | I13: 68 | J13: 62 | K13: 0 | L13: 30 | M13: 1 | N13: 436 | O13: 22844 | P13: 300 | Q13: 10842 | R13: 3513 | S13: 1726 | T13: 1629 | U13: 4834 | V13: 0 | W13: 22844 | X13: 6054 | Y13: 4829 | Z13: 1177 | AA13: 48 | AB13: 1150 | AC13: 476 | AD13: 666 | AE13: 8 | AF13: 15600 | AG13: 3939 | AH13: 8460 | AI13: 3020 | AJ13: 181 | AK13: 0 | AL13: 40
A14: 宜蘭縣 | C14: 3166 | D14: 227 | E14: 1601 | F14: 1090 | G14: 184 | H14: 0 | I14: 15 | J14: 3 | K14: 0 | L14: 3 | M14: 1 | N14: 42 | O14: 2486 | P14: 16 | Q14: 1199 | R14: 325 | S14: 145 | T14: 182 | U14: 619 | V14: 0 | W14: 2486 | X14: 770 | Y14: 623 | Z14: 136 | AA14: 11 | AB14: 154 | AC14: 67 | AD14: 86 | AE14: 1 | AF14: 1543 | AG14: 291 | AH14: 839 | AI14: 401 | AJ14: 12 | AK14: 0 | AL14: 19
A15: 新竹縣 | C15: 5196 | D15: 544 | E15: 3072 | F15: 1181 | G15: 330 | H15: 5 | I15: 11 | J15: 5 | K15: 0 | L15: 2 | M15: 1 | N15: 45 | O15: 4050 | P15: 43 | Q15: 2036 | R15: 555 | S15: 219 | T15: 309 | U15: 888 | V15: 0 | W15: 4050 | X15: 1343 | Y15: 1044 | Z15: 282 | AA15: 17 | AB15: 192 | AC15: 71 | AD15: 119 | AE15: 2 | AF15: 2467 | AG15: 546 | AH15: 1327 | AI15: 571 | AJ15: 23 | AK15: 0 | AL15: 48
A16: 苗栗縣 | C16: 3764 | D16: 299 | E16: 2130 | F16: 1065 | G16: 219 | H16: 3 | I16: 9 | J16: 5 | K16: 2 | L16: 1 | M16: 0 | N16: 31 | O16: 3113 | P16: 24 | Q16: 1484 | R16: 455 | S16: 216 | T16: 199 | U16: 735 | V16: 0 | W16: 3113 | X16: 889 | Y16: 701 | Z16: 183 | AA16: 5 | AB16: 171 | AC16: 42 | AD16: 127 | AE16: 2 | AF16: 2020 | AG16: 449 | AH16: 1100 | AI16: 448 | AJ16: 23 | AK16: 0 | AL16: 33
A17: 彰化縣 | C17: 11959 | D17: 642 | E17: 8374 | F17: 2107 | G17: 577 | H17: 13 | I17: 26 | J17: 14 | K17: 0 | L17: 3 | M17: 1 | N17: 202 | O17: 9970 | P17: 74 | Q17: 4326 | R17: 1193 | S17: 843 | T17: 747 | U17: 2787 | V17: 0 | W17: 9970 | X17: 2749 | Y17: 2024 | Z17: 699 | AA17: 26 | AB17: 540 | AC17: 174 | AD17: 359 | AE17: 7 | AF17: 6613 | AG17: 1114 | AH17: 3619 | AI17: 1811 | AJ17: 69 | AK17: 0 | AL17: 68
A18: 南投縣 | C18: 4660 | D18: 415 | E18: 2923 | F18: 911 | G18: 318 | H18: 4 | I18: 15 | J18: 25 | K18: 0 | L18: 1 | M18: 0 | N18: 48 | O18: 3910 | P18: 15 | Q18: 1697 | R18: 711 | S18: 292 | T18: 278 | U18: 917 | V18: 0 | W18: 3910 | X18: 1056 | Y18: 872 | Z18: 182 | AA18: 2 | AB18: 207 | AC18: 80 | AD18: 126 | AE18: 1 | AF18: 2623 | AG18: 450 | AH18: 1488 | AI18: 663 | AJ18: 22 | AK18: 0 | AL18: 24
... A29: 連江縣 | C29: 34 | D29: 4 | E29: 17 | F29: 3 | G29: 2 | H29: 1 | I29: 0 | J29: 0 | K29: 0 | L29: 0 | M29: 0 | N29: 7 | O29: 26 | P29: 0 | Q29: 15 | R29: 9 | S29: 0 | T29: 1 | U29: 1 | V29: 0 | W29: 26 | X29: 11 | Y29: 7 | Z29: 2 | AA29: 2 | AB29: 2 | AC29: 2 | AD29: 0 | AE29: 0 | AF29: 10 | AG29: 2 | AH29: 6 | AI29: 2 | AJ29: 0 | AK29: 0 | AL29: 3
A30: 資料來源：本部保護服務司。
A31: Source :Department of Protective Services , MOHW.

Sheet 111
A1: 5.1-01 家庭暴力事件通報案件統計
A3: 區域別 | C3: 通報件次 | O3: 通報件數
C4: 合計 | D4: 通報人員別 | O4: 案件類型別 | W4: 被害及相對人兩造關係別
D5: 醫事 人員 | E5: 警察 人員 | F5: 社政/社工人員 | G5: 教育 人員 | H5: 保育 人員 | I5: 教保服務人員 | J5: 司(軍)法人員 | K5: 移民業務相關人員 | L5: 村(里)長/村(里)幹事 | M5: 戶政 人員 | N5: 其他 | O5: 合計 | P5: 婚姻、離婚或同居關係暴力 | R5: 兒少 保護 | S5: 直系血(姻)親卑親屬虐待尊親屬 | U5: 其他家庭成員間暴力 | V5: 其他 | W5: 合計 | X5: 配偶 Spouse | AB5: 前配偶 | AF5: 其他家庭成員 | AL5: 其他
P6: 同性 伴侶 | Q6: 異性 伴侶 | S6: 被害人年齡65歲以上 | T6: 被害人年齡未滿65歲 | X6: 小計 | Y6: 共同 生活 | Z6: 分居 | AA6: 其他 | AB6: 小計 | AC6: 同住 | AD6: 未同住 | AE6: 其他 | AF6: 小計 | AG6: 同居 關係 | AH6: 直系血(姻)親 | AI6: 四等親內旁系血(姻)親 | AJ6: 家長家屬或家屬間 | AK6: 其他
A7: 111年 2022 | C7: 192873 | D7: 15859 | E7: 114007 | F7: 47454 | G7: 11712 | H7: 149 | I7: 378 | J7: 643 | K7: 4 | L7: 72 | M7: 12 | N7: 2583 | O7: 156864 | P7: 1515 | Q7: 73537 | R7: 25193 | S7: 10443 | T7: 11459 | U7: 34717 | V7: 0 | W7: 156864 | X7: 43242 | Y7: 34420 | Z7: 8160 | AA7: 662 | AB7: 7513 | AC7: 2827 | AD7: 4556 | AE7: 130 | AF7: 105174 | AG7: 24349 | AH7: 57950 | AI7: 21724 | AJ7: 1151 | AK7: 0 | AL7: 935
A8: 新北市 | C8: 31153 | D8: 2529 | E8: 16923 | F8: 9084 | G8: 2006 | H8: 20 | I8: 51 | J8: 104 | K8: 0 | L8: 9 | M8: 1 | N8: 426 | O8: 24813 | P8: 191 | Q8: 11845 | R8: 4180 | S8: 1461 | T8: 1770 | U8: 5366 | V8: 0 | W8: 24813 | X8: 7208 | Y8: 5541 | Z8: 1364 | AA8: 303 | AB8: 1072 | AC8: 366 | AD8: 666 | AE8: 40 | AF8: 16330 | AG8: 3767 | AH8: 9418 | AI8: 2967 | AJ8: 178 | AK8: 0 | AL8: 203
A9: 臺北市 | C9: 19110 | D9: 1567 | E9: 10914 | F9: 5146 | G9: 980 | H9: 10 | I9: 39 | J9: 48 | K9: 0 | L9: 12 | M9: 1 | N9: 393 | O9: 15674 | P9: 181 | Q9: 7031 | R9: 2622 | S9: 1097 | T9: 1208 | U9: 3535 | V9: 0 | W9: 15674 | X9: 4195 | Y9: 3593 | Z9: 528 | AA9: 74 | AB9: 562 | AC9: 247 | AD9: 295 | AE9: 20 | AF9: 10840 | AG9: 2459 | AH9: 6191 | AI9: 2125 | AJ9: 65 | AK9: 0 | AL9: 77
A10: 桃園市 | C10: 19344 | D10: 1478 | E10: 10681 | F10: 4988 | G10: 1897 | H10: 21 | I10: 39 | J10: 31 | K10: 0 | L10: 0 | M10: 3 | N10: 206 | O10: 15515 | P10: 158 | Q10: 7242 | R10: 3111 | S10: 918 | T10: 1199 | U10: 2887 | V10: 0 | W10: 15515 | X10: 4223 | Y10: 3183 | Z10: 967 | AA10: 73 | AB10: 723 | AC10: 270 | AD10: 443 | AE10: 10 | AF10: 10513 | AG10: 2457 | AH10: 6027 | AI10: 1882 | AJ10: 147 | AK10: 0 | AL10: 56
A11: 臺中市 | C11: 26717 | D11: 1549 | E11: 15677 | F11: 7374 | G11: 1366 | H11: 17 | I11: 62 | J11: 253 | K11: 1 | L11: 3 | M11: 2 | N11: 413 | O11: 22278 | P11: 247 | Q11: 10496 | R11: 3982 | S11: 1317 | T11: 1444 | U11: 4792 | V11: 0 | W11: 22278 | X11: 5931 | Y11: 4743 | Z11: 1124 | AA11: 64 | AB11: 1061 | AC11: 375 | AD11: 675 | AE11: 11 | AF11: 15154 | AG11: 3761 | AH11: 8183 | AI11: 3043 | AJ11: 167 | AK11: 0 | AL11: 132
A12: 臺南市 | C12: 12448 | D12: 758 | E12: 7078 | F12: 3571 | G12: 807 | H12: 12 | I12: 24 | J12: 11 | K12: 0 | L12: 5 | M12: 0 | N12: 182 | O12: 10111 | P12: 86 | Q12: 4717 | R12: 1594 | S12: 770 | T12: 745 | U12: 2199 | V12: 0 | W12: 10111 | X12: 2697 | Y12: 2066 | Z12: 618 | AA12: 13 | AB12: 562 | AC12: 182 | AD12: 370 | AE12: 10 | AF12: 6821 | AG12: 1548 | AH12: 3774 | AI12: 1419 | AJ12: 80 | AK12: 0 | AL12: 31
A13: 高雄市 | C13: 26605 | D13: 3297 | E13: 16639 | F13: 4566 | G13: 1648 | H13: 28 | I13: 48 | J13: 39 | K13: 1 | L13: 16 | M13: 3 | N13: 320 | O13: 21592 | P13: 261 | Q13: 9821 | R13: 3315 | S13: 1577 | T13: 1749 | U13: 4869 | V13: 0 | W13: 21592 | X13: 5423 | Y13: 4404 | Z13: 993 | AA13: 26 | AB13: 1068 | AC13: 463 | AD13: 589 | AE13: 16 | AF13: 15076 | AG13: 3591 | AH13: 8232 | AI13: 3070 | AJ13: 183 | AK13: 0 | AL13: 25
A14: 宜蘭縣 | C14: 3190 | D14: 211 | E14: 1754 | F14: 1006 | G14: 167 | H14: 1 | I14: 5 | J14: 5 | K14: 0 | L14: 1 | M14: 0 | N14: 40 | O14: 2507 | P14: 14 | Q14: 1332 | R14: 266 | S14: 176 | T14: 138 | U14: 581 | V14: 0 | W14: 2507 | X14: 827 | Y14: 703 | Z14: 122 | AA14: 2 | AB14: 158 | AC14: 67 | AD14: 90 | AE14: 1 | AF14: 1507 | AG14: 361 | AH14: 702 | AI14: 428 | AJ14: 16 | AK14: 0 | AL14: 15
A15: 新竹縣 | C15: 4793 | D15: 448 | E15: 2917 | F15: 1088 | G15: 293 | H15: 2 | I15: 7 | J15: 6 | K15: 0 | L15: 0 | M15: 0 | N15: 32 | O15: 3743 | P15: 30 | Q15: 1916 | R15: 478 | S15: 250 | T15: 296 | U15: 773 | V15: 0 | W15: 3743 | X15: 1143 | Y15: 877 | Z15: 255 | AA15: 11 | AB15: 215 | AC15: 63 | AD15: 149 | AE15: 3 | AF15: 2355 | AG15: 590 | AH15: 1243 | AI15: 497 | AJ15: 25 | AK15: 0 | AL15: 30
A16: 苗栗縣 | C16: 3509 | D16: 304 | E16: 1971 | F16: 1014 | G16: 189 | H16: 1 | I16: 3 | J16: 5 | K16: 0 | L16: 0 | M16: 0 | N16: 22 | O16: 2850 | P16: 44 | Q16: 1310 | R16: 427 | S16: 191 | T16: 213 | U16: 665 | V16: 0 | W16: 2850 | X16: 853 | Y16: 633 | Z16: 214 | AA16: 6 | AB16: 129 | AC16: 52 | AD16: 76 | AE16: 1 | AF16: 1844 | AG16: 375 | AH16: 1007 | AI16: 441 | AJ16: 21 | AK16: 0 | AL16: 24
A17: 彰化縣 | C17: 10615 | D17: 543 | E17: 7474 | F17: 1972 | G17: 454 | H17: 12 | I17: 15 | J17: 14 | K17: 1 | L17: 6 | M17: 0 | N17: 124 | O17: 8865 | P17: 49 | Q17: 3805 | R17: 1006 | S17: 746 | T17: 711 | U17: 2548 | V17: 0 | W17: 8865 | X17: 2467 | Y17: 1797 | Z17: 649 | AA17: 21 | AB17: 496 | AC17: 151 | AD17: 343 | AE17: 2 | AF17: 5821 | AG17: 891 | AH17: 3255 | AI17: 1628 | AJ17: 47 | AK17: 0 | AL17: 81
A18: 南投縣 | C18: 4229 | D18: 341 | E18: 2678 | F18: 832 | G18: 292 | H18: 1 | I18: 10 | J18: 39 | K18: 1 | L18: 1 | M18: 0 | N18: 34 | O18: 3558 | P18: 27 | Q18: 1560 | R18: 593 | S18: 297 | T18: 316 | U18: 765 | V18: 0 | W18: 3558 | X18: 1017 | Y18: 878 | Z18: 138 | AA18: 1 | AB18: 166 | AC18: 61 | AD18: 105 | AE18: 0 | AF18: 2341 | AG18: 410 | AH18: 1372 | AI18: 540 | AJ18: 19 | AK18: 0 | AL18: 34
... A29: 連江縣 | C29: 48 | D29: 9 | E29: 30 | F29: 5 | G29: 2 | H29: 0 | I29: 0 | J29: 0 | K29: 0 | L29: 0 | M29: 0 | N29: 2 | O29: 34 | P29: 0 | Q29: 17 | R29: 5 | S29: 0 | T29: 1 | U29: 11 | V29: 0 | W29: 34 | X29: 8 | Y29: 7 | Z29: 0 | AA29: 1 | AB29: 4 | AC29: 1 | AD29: 3 | AE29: 0 | AF29: 21 | AG29: 5 | AH29: 11 | AI29: 5 | AJ29: 0 | AK29: 0 | AL29: 1
A30: 資料來源：本部保護服務司。
A31: Source :Department of Protective Services , MOHW.

Sheet 110
A1: 5.1-01 家庭暴力事件通報案件統計
A3: 區域別 | C3: 通報件次 | O3: 通報件數
C4: 合計 | D4: 通報人員別 | O4: 案件類型別 | W4: 被害及相對人兩造關係別
D5: 醫事 人員 | E5: 警察 人員 | F5: 社政/社工人員 | G5: 教育 人員 | H5: 保育 人員 | I5: 教保服務人員 | J5: 司(軍)法人員 | K5: 移民業務相關人員 | L5: 村(里)長/村(里)幹事 | M5: 戶政 人員 | N5: 其他 | O5: 合計 | P5: 婚姻、離婚或同居關係暴力 | R5: 兒少 保護 | S5: 直系血(姻)親卑親屬虐待尊親屬 | U5: 其他家庭成員間暴力 | V5: 其他 | W5: 合計 | X5: 配偶 Spouse | AB5: 前配偶 | AF5: 其他家庭成員 | AL5: 其他
P6: 同性 伴侶 | Q6: 異性 伴侶 | S6: 被害人年齡65歲以上 | T6: 被害人年齡未滿65歲 | X6: 小計 | Y6: 共同 生活 | Z6: 分居 | AA6: 其他 | AB6: 小計 | AC6: 同住 | AD6: 未同住 | AE6: 其他 | AF6: 小計 | AG6: 同居 關係 | AH6: 直系血(姻)親 | AI6: 四等親內旁系血(姻)親 | AJ6: 家長家屬或家屬間 | AK6: 其他
A7: 110年 2021 | C7: 185588 | D7: 16045 | E7: 103331 | F7: 51700 | G7: 11001 | H7: 113 | I7: 267 | J7: 584 | K7: 11 | L7: 77 | M7: 20 | N7: 2439 | O7: 149198 | P7: 1351 | Q7: 68977 | R7: 24481 | S7: 9821 | T7: 11147 | U7: 33421 | V7: 0 | W7: 149198 | X7: 42472 | Y7: 33719 | Z7: 8066 | AA7: 687 | AB7: 7014 | AC7: 2656 | AD7: 4214 | AE7: 144 | AF7: 98868 | AG7: 20898 | AH7: 55699 | AI7: 21172 | AJ7: 1099 | AK7: 0 | AL7: 844
A8: 新北市 | C8: 29974 | D8: 2414 | E8: 14943 | F8: 10071 | G8: 1920 | H8: 16 | I8: 42 | J8: 142 | K8: 2 | L8: 6 | M8: 0 | N8: 418 | O8: 23553 | P8: 195 | Q8: 11065 | R8: 4208 | S8: 1398 | T8: 1726 | U8: 4961 | V8: 0 | W8: 23553 | X8: 7131 | Y8: 5422 | Z8: 1392 | AA8: 317 | AB8: 1038 | AC8: 392 | AD8: 602 | AE8: 44 | AF8: 15192 | AG8: 3107 | AH8: 9079 | AI8: 2851 | AJ8: 155 | AK8: 0 | AL8: 192
A9: 臺北市 | C9: 19334 | D9: 1667 | E9: 11001 | F9: 5198 | G9: 926 | H9: 6 | I9: 20 | J9: 71 | K9: 0 | L9: 15 | M9: 3 | N9: 427 | O9: 15728 | P9: 178 | Q9: 7031 | R9: 2445 | S9: 1093 | T9: 1249 | U9: 3732 | V9: 0 | W9: 15728 | X9: 4383 | Y9: 3826 | Z9: 492 | AA9: 65 | AB9: 606 | AC9: 281 | AD9: 312 | AE9: 13 | AF9: 10668 | AG9: 2224 | AH9: 6163 | AI9: 2194 | AJ9: 87 | AK9: 0 | AL9: 71
A10: 桃園市 | C10: 17862 | D10: 1375 | E10: 9176 | F10: 5426 | G10: 1605 | H10: 15 | I10: 34 | J10: 30 | K10: 0 | L10: 1 | M10: 4 | N10: 196 | O10: 14230 | P10: 107 | Q10: 6768 | R10: 2763 | S10: 807 | T10: 1095 | U10: 2690 | V10: 0 | W10: 14230 | X10: 4068 | Y10: 3039 | Z10: 980 | AA10: 49 | AB10: 699 | AC10: 249 | AD10: 432 | AE10: 18 | AF10: 9431 | AG10: 2111 | AH10: 5414 | AI10: 1764 | AJ10: 142 | AK10: 0 | AL10: 32
A11: 臺中市 | C11: 25254 | D11: 1567 | E11: 14472 | F11: 7414 | G11: 1187 | H11: 16 | I11: 21 | J11: 177 | K11: 2 | L11: 6 | M11: 3 | N11: 389 | O11: 20570 | P11: 228 | Q11: 9839 | R11: 3340 | S11: 1275 | T11: 1390 | U11: 4498 | V11: 0 | W11: 20570 | X11: 5956 | Y11: 4751 | Z11: 1111 | AA11: 94 | AB11: 932 | AC11: 353 | AD11: 557 | AE11: 22 | AF11: 13557 | AG11: 3187 | AH11: 7317 | AI11: 2905 | AJ11: 148 | AK11: 0 | AL11: 125
A12: 臺南市 | C12: 11790 | D12: 845 | E12: 6209 | F12: 3742 | G12: 798 | H12: 7 | I12: 18 | J12: 7 | K12: 0 | L12: 6 | M12: 3 | N12: 155 | O12: 9481 | P12: 61 | Q12: 4310 | R12: 1713 | S12: 678 | T12: 729 | U12: 1990 | V12: 0 | W12: 9481 | X12: 2539 | Y12: 1871 | Z12: 649 | AA12: 19 | AB12: 517 | AC12: 148 | AD12: 362 | AE12: 7 | AF12: 6396 | AG12: 1315 | AH12: 3687 | AI12: 1306 | AJ12: 88 | AK12: 0 | AL12: 29
A13: 高雄市 | C13: 26622 | D13: 3322 | E13: 16004 | F13: 5210 | G13: 1719 | H13: 20 | I13: 38 | J13: 38 | K13: 1 | L13: 27 | M13: 1 | N13: 242 | O13: 21458 | P13: 308 | Q13: 9374 | R13: 3633 | S13: 1641 | T13: 1742 | U13: 4760 | V13: 0 | W13: 21458 | X13: 5325 | Y13: 4297 | Z13: 1005 | AA13: 23 | AB13: 1080 | AC13: 443 | AD13: 622 | AE13: 15 | AF13: 15025 | AG13: 3278 | AH13: 8575 | AI13: 3004 | AJ13: 168 | AK13: 0 | AL13: 28
A14: 宜蘭縣 | C14: 2931 | D14: 213 | E14: 1501 | F14: 1022 | G14: 148 | H14: 0 | I14: 5 | J14: 7 | K14: 0 | L14: 2 | M14: 0 | N14: 33 | O14: 2193 | P14: 13 | Q14: 1124 | R14: 205 | S14: 134 | T14: 144 | U14: 573 | V14: 0 | W14: 2193 | X14: 753 | Y14: 636 | Z14: 111 | AA14: 6 | AB14: 107 | AC14: 43 | AD14: 62 | AE14: 2 | AF14: 1327 | AG14: 278 | AH14: 631 | AI14: 410 | AJ14: 8 | AK14: 0 | AL14: 6
A15: 新竹縣 | C15: 4359 | D15: 447 | E15: 2378 | F15: 1183 | G15: 296 | H15: 1 | I15: 1 | J15: 2 | K15: 0 | L15: 2 | M15: 0 | N15: 49 | O15: 3311 | P15: 24 | Q15: 1631 | R15: 470 | S15: 191 | T15: 252 | U15: 743 | V15: 0 | W15: 3311 | X15: 1046 | Y15: 783 | Z15: 245 | AA15: 18 | AB15: 188 | AC15: 58 | AD15: 126 | AE15: 4 | AF15: 2048 | AG15: 421 | AH15: 1143 | AI15: 462 | AJ15: 22 | AK15: 0 | AL15: 29
A16: 苗栗縣 | C16: 3585 | D16: 283 | E16: 1866 | F16: 1214 | G16: 173 | H16: 2 | I16: 4 | J16: 1 | K16: 0 | L16: 0 | M16: 0 | N16: 42 | O16: 2953 | P16: 16 | Q16: 1333 | R16: 495 | S16: 198 | T16: 230 | U16: 681 | V16: 0 | W16: 2953 | X16: 916 | Y16: 706 | Z16: 201 | AA16: 9 | AB16: 114 | AC16: 35 | AD16: 79 | AE16: 0 | AF16: 1895 | AG16: 322 | AH16: 1085 | AI16: 463 | AJ16: 25 | AK16: 0 | AL16: 28
A17: 彰化縣 | C17: 8873 | D17: 571 | E17: 5434 | F17: 2289 | G17: 427 | H17: 5 | I17: 25 | J17: 10 | K17: 3 | L17: 3 | M17: 1 | N17: 105 | O17: 7347 | P17: 23 | Q17: 3182 | R17: 1020 | S17: 555 | T17: 580 | U17: 1987 | V17: 0 | W17: 7347 | X17: 2211 | Y17: 1657 | Z17: 537 | AA17: 17 | AB17: 345 | AC17: 106 | AD17: 233 | AE17: 6 | AF17: 4746 | AG17: 654 | AH17: 2778 | AI17: 1259 | AJ17: 55 | AK17: 0 | AL17: 45
A18: 南投縣 | C18: 4125 | D18: 343 | E18: 2356 | F18: 1086 | G18: 262 | H18: 1 | I18: 8 | J18: 37 | K18: 1 | L18: 0 | M18: 0 | N18: 31 | O18: 3418 | P18: 18 | Q18: 1520 | R18: 599 | S18: 292 | T18: 277 | U18: 712 | V18: 0 | W18: 3418 | X18: 970 | Y18: 858 | Z18: 110 | AA18: 2 | AB18: 178 | AC18: 68 | AD18: 110 | AE18: 0 | AF18: 2249 | AG18: 392 | AH18: 1278 | AI18: 559 | AJ18: 20 | AK18: 0 | AL18: 21
... A29: 連江縣 | C29: 29 | D29: 3 | E29: 16 | F29: 4 | G29: 4 | H29: 0 | I29: 0 | J29: 0 | K29: 0 | L29: 0 | M29: 0 | N29: 2 | O29: 22 | P29: 0 | Q29: 11 | R29: 5 | S29: 0 | T29: 0 | U29: 6 | V29: 0 | W29: 22 | X29: 3 | Y29: 3 | Z29: 0 | AA29: 0 | AB29: 6 | AC29: 2 | AD29: 4 | AE29: 0 | AF29: 12 | AG29: 2 | AH29: 6 | AI29: 4 | AJ29: 0 | AK29: 0 | AL29: 1
A30: 資料來源：本部保護服務司。
A31: Source :Department of Protective Services , MOHW.

Sheet 109
A1: 5.1-01 家庭暴力事件通報案件統計
A3: 區域別 | C3: 通報件次 | O3: 通報件數
C4: 合計 | D4: 通報人員別 | O4: 案件類型別 | V4: 被害及相對人兩造關係別
D5: 醫事 人員 | E5: 警察 人員 | F5: 社政/社工人員 | G5: 教育 人員 | H5: 保育 人員 | I5: 教保服務人員 | J5: 司(軍)法人員 | K5: 移民業務相關人員 | L5: 村(里)長/村(里)幹事 | M5: 戶政 人員 | N5: 其他 | O5: 合計 | P5: 婚姻、離婚或同居關係暴力 | Q5: 兒少 保護 | R5: 直系血(姻)親卑親屬虐待尊親屬 | T5: 其他家庭成員間暴力 | U5: 其他 | V5: 合計 | W5: 配偶 Spouse | AA5: 前配偶 | AE5: 其他家庭成員 | AK5: 其他
R6: 被害人年齡65歲以上 | S6: 被害人年齡未滿65歲 | W6: 小計 | X6: 共同 生活 | Y6: 分居 | Z6: 其他 | AA6: 小計 | AB6: 同住 | AC6: 未同住 | AD6: 其他 | AE6: 小計 | AF6: 同居 關係 | AG6: 直系血(姻)親 | AH6: 四等親內旁系血(姻)親 | AI6: 家長家屬或家屬間 | AJ6: 其他
A7: 109年 2020 | C7: 178710 | D7: 17321 | E7: 91095 | F7: 55410 | G7: 11428 | H7: 121 | I7: 332 | J7: 577 | K7: 18 | L7: 83 | M7: 23 | N7: 2302 | O7: 141872 | P7: 67957 | Q7: 25181 | R7: 8520 | S7: 9645 | T7: 30569 | U7: 0 | V7: 141872 | W7: 43427 | X7: 34345 | Y7: 8264 | Z7: 818 | AA7: 6848 | AB7: 2616 | AC7: 4084 | AD7: 148 | AE7: 89774 | AF7: 18243 | AG7: 51110 | AH7: 19321 | AI7: 1100 | AJ7: 0 | AK7: 1823
A8: 新北市 | C8: 30164 | D8: 2961 | E8: 14185 | F8: 10449 | G8: 2001 | H8: 17 | I8: 59 | J8: 126 | K8: 0 | L8: 6 | M8: 1 | N8: 359 | O8: 23146 | P8: 11326 | Q8: 4238 | R8: 1219 | S8: 1570 | T8: 4793 | U8: 0 | V8: 23146 | W8: 7493 | X8: 5605 | Y8: 1492 | Z8: 396 | AA8: 1042 | AB8: 367 | AC8: 633 | AD8: 42 | AE8: 14260 | AF8: 2912 | AG8: 8410 | AH8: 2792 | AI8: 146 | AJ8: 0 | AK8: 351
A9: 臺北市 | C9: 19599 | D9: 1532 | E9: 10815 | F9: 5610 | G9: 930 | H9: 10 | I9: 47 | J9: 84 | K9: 0 | L9: 23 | M9: 2 | N9: 546 | O9: 15845 | P9: 7248 | Q9: 2561 | R9: 1022 | S9: 1207 | T9: 3807 | U9: 0 | V9: 15845 | W9: 4648 | X9: 4084 | Y9: 475 | Z9: 89 | AA9: 619 | AB9: 272 | AC9: 328 | AD9: 19 | AE9: 10408 | AF9: 2034 | AG9: 5929 | AH9: 2369 | AI9: 76 | AJ9: 0 | AK9: 170
A10: 桃園市 | C10: 17813 | D10: 1587 | E10: 7905 | F10: 6401 | G10: 1608 | H10: 21 | I10: 50 | J10: 19 | K10: 5 | L10: 1 | M10: 3 | N10: 213 | O10: 13848 | P10: 6782 | Q10: 2918 | R10: 721 | S10: 939 | T10: 2488 | U10: 0 | V10: 13848 | W10: 4313 | X10: 3246 | Y10: 1028 | Z10: 39 | AA10: 708 | AB10: 275 | AC10: 415 | AD10: 18 | AE10: 8697 | AF10: 1833 | AG10: 5110 | AH10: 1613 | AI10: 141 | AJ10: 0 | AK10: 130
A11: 臺中市 | C11: 23881 | D11: 1723 | E11: 12608 | F11: 7661 | G11: 1307 | H11: 18 | I11: 36 | J11: 146 | K11: 3 | L11: 5 | M11: 2 | N11: 372 | O11: 19285 | P11: 9407 | Q11: 3542 | R11: 1080 | S11: 1182 | T11: 4074 | U11: 0 | V11: 19285 | W11: 5896 | X11: 4656 | Y11: 1126 | Z11: 114 | AA11: 939 | AB11: 360 | AC11: 557 | AD11: 22 | AE11: 12070 | AF11: 2702 | AG11: 6698 | AH11: 2547 | AI11: 123 | AJ11: 0 | AK11: 380
A12: 臺南市 | C12: 11194 | D12: 939 | E12: 5266 | F12: 3953 | G12: 857 | H12: 8 | I12: 22 | J12: 13 | K12: 1 | L12: 8 | M12: 0 | N12: 127 | O12: 8880 | P12: 4061 | Q12: 1763 | R12: 613 | S12: 611 | T12: 1832 | U12: 0 | V12: 8880 | W12: 2474 | X12: 1831 | Y12: 627 | Z12: 16 | AA12: 518 | AB12: 168 | AC12: 343 | AD12: 7 | AE12: 5771 | AF12: 1092 | AG12: 3350 | AH12: 1223 | AI12: 106 | AJ12: 0 | AK12: 117
A13: 高雄市 | C13: 23433 | D13: 3366 | E13: 12742 | F13: 5457 | G13: 1537 | H13: 17 | I13: 31 | J13: 61 | K13: 1 | L13: 22 | M13: 7 | N13: 192 | O13: 18912 | P13: 8881 | Q13: 3310 | R13: 1260 | S13: 1370 | T13: 4091 | U13: 0 | V13: 18912 | W13: 5360 | X13: 4371 | Y13: 961 | Z13: 28 | AA13: 896 | AB13: 373 | AC13: 508 | AD13: 15 | AE13: 12616 | AF13: 2648 | AG13: 7244 | AH13: 2533 | AI13: 191 | AJ13: 0 | AK13: 40
A14: 宜蘭縣 | C14: 3062 | D14: 219 | E14: 1435 | F14: 1193 | G14: 176 | H14: 2 | I14: 10 | J14: 7 | K14: 0 | L14: 0 | M14: 0 | N14: 20 | O14: 2267 | P14: 1207 | Q14: 220 | R14: 140 | S14: 156 | T14: 544 | U14: 0 | V14: 2267 | W14: 817 | X14: 682 | Y14: 128 | Z14: 7 | AA14: 137 | AB14: 45 | AC14: 88 | AD14: 4 | AE14: 1295 | AF14: 261 | AG14: 677 | AH14: 351 | AI14: 6 | AJ14: 0 | AK14: 18
A15: 新竹縣 | C15: 3765 | D15: 471 | E15: 1657 | F15: 1270 | G15: 312 | H15: 0 | I15: 3 | J15: 6 | K15: 2 | L15: 0 | M15: 2 | N15: 42 | O15: 2863 | P15: 1467 | Q15: 546 | R15: 139 | S15: 184 | T15: 527 | U15: 0 | V15: 2863 | W15: 998 | X15: 736 | Y15: 247 | Z15: 15 | AA15: 142 | AB15: 52 | AC15: 88 | AD15: 2 | AE15: 1674 | AF15: 331 | AG15: 945 | AH15: 380 | AI15: 18 | AJ15: 0 | AK15: 49
A16: 苗栗縣 | C16: 3382 | D16: 320 | E16: 1676 | F16: 1184 | G16: 167 | H16: 3 | I16: 4 | J16: 5 | K16: 1 | L16: 0 | M16: 1 | N16: 21 | O16: 2762 | P16: 1330 | Q16: 460 | R16: 166 | S16: 195 | T16: 611 | U16: 0 | V16: 2762 | W16: 910 | X16: 707 | Y16: 200 | Z16: 3 | AA16: 142 | AB16: 54 | AC16: 88 | AD16: 0 | AE16: 1670 | AF16: 291 | AG16: 956 | AH16: 405 | AI16: 18 | AJ16: 0 | AK16: 40
A17: 彰化縣 | C17: 8753 | D17: 642 | E17: 4857 | F17: 2660 | G17: 454 | H17: 11 | I17: 16 | J17: 24 | K17: 0 | L17: 2 | M17: 0 | N17: 87 | O17: 7049 | P17: 3171 | Q17: 1111 | R17: 519 | S17: 494 | T17: 1754 | U17: 0 | V17: 7049 | W17: 2180 | X17: 1696 | Y17: 473 | Z17: 11 | AA17: 366 | AB17: 124 | AC17: 238 | AD17: 4 | AE17: 4414 | AF17: 646 | AG17: 2628 | AH17: 1109 | AI17: 31 | AJ17: 0 | AK17: 89
A18: 南投縣 | C18: 3867 | D18: 378 | E18: 1987 | F18: 1142 | G18: 272 | H18: 1 | I18: 8 | J18: 45 | K18: 0 | L18: 2 | M18: 3 | N18: 29 | O18: 3111 | P18: 1410 | Q18: 646 | R18: 212 | S18: 207 | T18: 636 | U18: 0 | V18: 3111 | W18: 936 | X18: 828 | Y18: 107 | Z18: 1 | AA18: 147 | AB18: 75 | AC18: 71 | AD18: 1 | AE18: 1988 | AF18: 332 | AG18: 1143 | AH18: 489 | AI18: 24 | AJ18: 0 | AK18: 40
... A29: 連江縣 | C29: 36 | D29: 6 | E29: 11 | F29: 12 | G29: 6 | H29: 0 | I29: 0 | J29: 0 | K29: 0 | L29: 0 | M29: 0 | N29: 1 | O29: 24 | P29: 11 | Q29: 8 | R29: 3 | S29: 0 | T29: 2 | U29: 0 | V29: 24 | W29: 9 | X29: 8 | Y29: 1 | Z29: 0 | AA29: 3 | AB29: 0 | AC29: 3 | AD29: 0 | AE29: 11 | AF29: 1 | AG29: 8 | AH29: 2 | AI29: 0 | AJ29: 0 | AK29: 1
A30: 資料來源：本部保護服務司。
A31: Source :Department of Protective Services , MOHW.

Sheet 108
A1: 5.1-01 家庭暴力事件通報案件統計
A3: 區域別 | C3: 通報件次 | O3: 通報件數
C4: 合計 | D4: 通報人員別 | O4: 案件類型別 | V4: 被害及相對人兩造關係別
D5: 醫事 人員 | E5: 警察 人員 | F5: 社政/社工人員 | G5: 教育 人員 | H5: 保育 人員 | I5: 教保服務人員 | J5: 司(軍)法人員 | K5: 移民業務相關人員 | L5: 村(里)長/村(里)幹事 | M5: 戶政 人員 | N5: 其他 | O5: 合計 | P5: 婚姻、離婚或同居關係暴力 | Q5: 兒少 保護 | R5: 直系血(姻)親卑親屬虐待尊親屬 | T5: 其他家庭成員間暴力 | U5: 其他 | V5: 合計 | W5: 配偶 Spouse | AA5: 前配偶 | AE5: 其他家庭成員 | AK5: 其他
R6: 被害人年齡65歲以上 | S6: 被害人年齡未滿65歲 | W6: 小計 | X6: 共同 生活 | Y6: 分居 | Z6: 其他 | AA6: 小計 | AB6: 同住 | AC6: 未同住 | AD6: 其他 | AE6: 小計 | AF6: 同居 關係 | AG6: 直系血(姻)親 | AH6: 四等親內旁系血(姻)親 | AI6: 家長家屬或家屬間 | AJ6: 其他
A7: 108年 2019 | C7: 160944 | D7: 17536 | E7: 77572 | F7: 55007 | G7: 8127 | H7: 90 | I7: 208 | J7: 441 | K7: 12 | L7: 72 | M7: 13 | N7: 1866 | O7: 128198 | P7: 63902 | Q7: 20989 | R7: 6935 | S7: 7649 | T7: 28723 | U7: 0 | V7: 128198 | W7: 42366 | X7: 26184 | Y7: 6313 | Z7: 9869 | AA7: 6242 | AB7: 1814 | AC7: 3044 | AD7: 1384 | AE7: 73976 | AF7: 15773 | AG7: 41084 | AH7: 16364 | AI7: 755 | AJ7: 0 | AK7: 5614
A8: 新北市 | C8: 25720 | D8: 2954 | E8: 11228 | F8: 9857 | G8: 1219 | H8: 9 | I8: 24 | J8: 87 | K8: 1 | L8: 5 | M8: 1 | N8: 335 | O8: 20420 | P8: 10684 | Q8: 2964 | R8: 863 | S8: 1091 | T8: 4818 | U8: 0 | V8: 20420 | W8: 7276 | X8: 3128 | Y8: 754 | Z8: 3394 | AA8: 958 | AB8: 195 | AC8: 346 | AD8: 417 | AE8: 10903 | AF8: 2530 | AG8: 5953 | AH8: 2329 | AI8: 91 | AJ8: 0 | AK8: 1283
A9: 臺北市 | C9: 18074 | D9: 1656 | E9: 9614 | F9: 5554 | G9: 755 | H9: 9 | I9: 19 | J9: 66 | K9: 0 | L9: 15 | M9: 3 | N9: 383 | O9: 14663 | P9: 7017 | Q9: 2032 | R9: 882 | S9: 1034 | T9: 3698 | U9: 0 | V9: 14663 | W9: 4676 | X9: 2798 | Y9: 353 | Z9: 1525 | AA9: 578 | AB9: 188 | AC9: 197 | AD9: 193 | AE9: 8811 | AF9: 1813 | AG9: 4850 | AH9: 2100 | AI9: 48 | AJ9: 0 | AK9: 598
A10: 桃園市 | C10: 15228 | D10: 1607 | E10: 6371 | F10: 5880 | G10: 1160 | H10: 14 | I10: 37 | J10: 18 | K10: 2 | L10: 5 | M10: 1 | N10: 133 | O10: 11892 | P10: 6101 | Q10: 2281 | R10: 595 | S10: 793 | T10: 2122 | U10: 0 | V10: 11892 | W10: 4029 | X10: 2655 | Y10: 701 | Z10: 673 | AA10: 714 | AB10: 224 | AC10: 388 | AD10: 102 | AE10: 6850 | AF10: 1416 | AG10: 4049 | AH10: 1298 | AI10: 87 | AJ10: 0 | AK10: 299
A11: 臺中市 | C11: 21818 | D11: 1447 | E11: 10765 | F11: 8216 | G11: 1034 | H11: 14 | I11: 29 | J11: 79 | K11: 0 | L11: 5 | M11: 0 | N11: 229 | O11: 17578 | P11: 8725 | Q11: 3387 | R11: 858 | S11: 855 | T11: 3753 | U11: 0 | V11: 17578 | W11: 5686 | X11: 3443 | Y11: 972 | Z11: 1271 | AA11: 831 | AB11: 245 | AC11: 402 | AD11: 184 | AE11: 10119 | AF11: 2297 | AG11: 5556 | AH11: 2142 | AI11: 124 | AJ11: 0 | AK11: 942
A12: 臺南市 | C12: 10218 | D12: 1106 | E12: 4665 | F12: 3792 | G12: 507 | H12: 8 | I12: 4 | J12: 11 | K12: 0 | L12: 5 | M12: 2 | N12: 118 | O12: 8036 | P12: 3997 | Q12: 1277 | R12: 584 | S12: 562 | T12: 1616 | U12: 0 | V12: 8036 | W12: 2539 | X12: 1738 | Y12: 621 | Z12: 180 | AA12: 456 | AB12: 116 | AC12: 300 | AD12: 40 | AE12: 4864 | AF12: 1027 | AG12: 2734 | AH12: 1044 | AI12: 59 | AJ12: 0 | AK12: 177
A13: 高雄市 | C13: 22004 | D13: 3374 | E13: 11091 | F13: 5895 | G13: 1297 | H13: 17 | I13: 28 | J13: 98 | K13: 1 | L13: 22 | M13: 2 | N13: 179 | O13: 17329 | P13: 8131 | Q13: 3228 | R13: 1056 | S13: 1210 | T13: 3704 | U13: 0 | V13: 17329 | W13: 5234 | X13: 3302 | Y13: 816 | Z13: 1116 | AA13: 765 | AB13: 223 | AC13: 387 | AD13: 155 | AE13: 10933 | AF13: 2169 | AG13: 6471 | AH13: 2175 | AI13: 118 | AJ13: 0 | AK13: 397
A14: 宜蘭縣 | C14: 2489 | D14: 222 | E14: 1027 | F14: 1109 | G14: 102 | H14: 0 | I14: 4 | J14: 3 | K14: 1 | L14: 0 | M14: 1 | N14: 20 | O14: 1915 | P14: 1060 | Q14: 126 | R14: 112 | S14: 144 | T14: 473 | U14: 0 | V14: 1915 | W14: 730 | X14: 591 | Y14: 102 | Z14: 37 | AA14: 104 | AB14: 37 | AC14: 63 | AD14: 4 | AE14: 1040 | AF14: 231 | AG14: 479 | AH14: 317 | AI14: 13 | AJ14: 0 | AK14: 41
A15: 新竹縣 | C15: 3439 | D15: 516 | E15: 1405 | F15: 1231 | G15: 220 | H15: 0 | I15: 4 | J15: 6 | K15: 2 | L15: 2 | M15: 0 | N15: 53 | O15: 2676 | P15: 1442 | Q15: 512 | R15: 88 | S15: 122 | T15: 512 | U15: 0 | V15: 2676 | W15: 1024 | X15: 575 | Y15: 175 | Z15: 274 | AA15: 148 | AB15: 39 | AC15: 77 | AD15: 32 | AE15: 1380 | AF15: 289 | AG15: 763 | AH15: 311 | AI15: 17 | AJ15: 0 | AK15: 124
A16: 苗栗縣 | C16: 3296 | D16: 303 | E16: 1512 | F16: 1253 | G16: 187 | H16: 2 | I16: 4 | J16: 10 | K16: 0 | L16: 1 | M16: 0 | N16: 24 | O16: 2608 | P16: 1207 | Q16: 474 | R16: 150 | S16: 199 | T16: 578 | U16: 0 | V16: 2608 | W16: 834 | X16: 516 | Y16: 166 | Z16: 152 | AA16: 125 | AB16: 37 | AC16: 65 | AD16: 23 | AE16: 1496 | AF16: 257 | AG16: 859 | AH16: 362 | AI16: 18 | AJ16: 0 | AK16: 153
A17: 彰化縣 | C17: 8247 | D17: 774 | E17: 4355 | F17: 2658 | G17: 324 | H17: 5 | I17: 20 | J17: 16 | K17: 0 | L17: 4 | M17: 0 | N17: 91 | O17: 6616 | P17: 3153 | Q17: 997 | R17: 355 | S17: 338 | T17: 1773 | U17: 0 | V17: 6616 | W17: 2316 | X17: 1598 | Y17: 360 | Z17: 358 | AA17: 288 | AB17: 78 | AC17: 157 | AD17: 53 | AE17: 3579 | AF17: 570 | AG17: 1969 | AH17: 1011 | AI17: 29 | AJ17: 0 | AK17: 433
A18: 南投縣 | C18: 3619 | D18: 384 | E18: 1795 | F18: 1245 | G18: 165 | H18: 2 | I18: 7 | J18: 8 | K18: 0 | L18: 0 | M18: 0 | N18: 13 | O18: 2881 | P18: 1469 | Q18: 491 | R18: 155 | S18: 113 | T18: 653 | U18: 0 | V18: 2881 | W18: 1027 | X18: 812 | Y18: 148 | Z18: 67 | AA18: 138 | AB18: 58 | AC18: 66 | AD18: 14 | AE18: 1576 | AF18: 312 | AG18: 860 | AH18: 390 | AI18: 14 | AJ18: 0 | AK18: 140
... A29: 連江縣 | C29: 30 | D29: 7 | E29: 14 | F29: 8 | G29: 1 | H29: 0 | I29: 0 | J29: 0 | K29: 0 | L29: 0 | M29: 0 | N29: 0 | O29: 23 | P29: 17 | Q29: 3 | R29: 0 | S29: 1 | T29: 2 | U29: 0 | V29: 23 | W29: 11 | X29: 10 | Y29: 0 | Z29: 1 | AA29: 2 | AB29: 2 | AC29: 0 | AD29: 0 | AE29: 10 | AF29: 4 | AG29: 6 | AH29: 0 | AI29: 0 | AJ29: 0 | AK29: 0
A30: 資料來源：本部保護服務司。
A31: Source :Department of Protective Services , MOHW.

Sheet 94~107
A1: 5.1-01 家庭暴力事件通報案件統計
A3: 年別 | C3: 通報件次(複選) | AC3: 通報件數
C4: 合計 | E4: 通報單位別 | AC4: 案件類型別 | AH4: 被害及加害者兩造關係別
E5: 113 | G5: 防治中心 | I5: 教育 | K5: 社政 | M5: 勞政 | O5: 警政 | Q5: 司法 | S5: 衛生 | U5: 診所 | W5: 醫院 | Y5: 移民業務機關 | AA5: 其他 | AC5: 合計 | AD5: 婚姻、離婚或同居關係暴力 | AE5: 兒少 保護 | AF5: 老人 虐待 | AG5: 其他 | AH5: 合計 | AI5: 配偶 | AL5: 前配偶 (離婚) | AM5: 曾同住之其他家庭成員 | AV5: 現同住之其他家庭成員
C6: 次數 | D6: 百分比 | E6: 次數 | F6: 百分比 | G6: 次數 | H6: 百分比 | I6: 次數 | J6: 百分比 | K6: 次數 | L6: 百分比 | M6: 次數 | N6: 百分比 | O6: 次數 | P6: 百分比 | Q6: 次數 | R6: 百分比 | S6: 次數 | T6: 百分比 | U6: 次數 | V6: 百分比 | W6: 次數 | X6: 百分比 | Y6: 次數 | Z6: 百分比 | AA6: 次數 | AB6: 百分比 | AI6: 小計 | AJ6: 共同 生活 | AK6: 分居 | AM6: 小計 | AN6: 直系 血親 | AO6: 直系 姻親 | AP6: 同居 關係 | AQ6: 四等親 內旁系 血親 | AR6: 四等親 內旁系 姻親 | AS6: 家屬間 | AT6: 家長 家屬 | AU6: 其他 | AV6: 小計 | AW6: 直系 血親 | AX6: 直系 姻親 | AY6: 同居 關係 | AZ6: 四等親 內旁系 血親 | BA6: 四等親 內旁系 姻親 | BB6: 家屬間 | BC6: 家長 家屬 | BD6: 其他
A7: 94年 2005 | C7: ='94'!C7 -> 66080 | D7: =C7/$C$7*100 -> 100 | E7: ='94'!D7 -> 7950 | F7: =E7/$C$7*100 -> 12.030872 | G7: ='94'!E7 -> 230 | H7: =G7/$C$7*100 -> 0.34806295 | I7: ='94'!F7 -> 1146 | J7: =I7/$C$7*100 -> 1.7342615 | K7: ='94'!G7 -> 2822 | L7: =K7/$C$7*100 -> 4.2705811 | M7: ='94'!H7 -> 2 | N7: =M7/$C$7*100 -> 0.0030266344 | O7: ='94'!I7 -> 28181 | P7: =O7/$C$7*100 -> 42.646792 | Q7: ='94'!J7 -> 69 | R7: =Q7/$C$7*100 -> 0.10441889 | S7: ='94'!K7 -> 61 | T7: =S7/$C$7*100 -> 0.092312349 | U7: ='94'!L7 -> 51 | V7: =U7/$C$7*100 -> 0.077179177 | W7: ='94'!M7 -> 24813 | X7: =W7/$C$7*100 -> 37.549939 | Y7: ='95'!T6 -> 0 | Z7: =Y7/$C$8*100 -> 0 | AA7: ='94'!N7 -> 755 | AB7: =AA7/$C$7*100 -> 1.1425545 | AC7: ='94'!O7 -> 62310 | AD7: ='94'!P7 -> 40659 | AE7: ='94'!Q7 -> 8865 | AF7: ='94'!R7 -> 1616 | AG7: ='94'!S7 -> 11170 | AH7: ='94'!T7 -> 62310 | AI7: ='94'!U7 -> 32653 | AJ7: ='94'!V7 -> 29613 | ... BD7: ='94'!AP7 -> 1111
A8: 95年 2006 | C8: ='95'!C7 -> 70842 | D8: =C8/$C$8*100 -> 100 | E8: ='95'!D7 -> 7743 | F8: =E8/$C$8*100 -> 10.929957 | G8: ='95'!E7 -> 219 | H8: =G8/$C$8*100 -> 0.30913865 | I8: ='95'!F7 -> 1457 | J8: =I8/$C$8*100 -> 2.0566895 | K8: ='95'!G7 -> 2939 | L8: =K8/$C$8*100 -> 4.1486689 | M8: ='95'!H7 -> 0 | N8: =M8/$C$8*100 -> 0 | O8: ='95'!I7 -> 30522 | P8: =O8/$C$8*100 -> 43.084611 | Q8: ='95'!J7 -> 92 | R8: =Q8/$C$8*100 -> 0.12986646 | S8: ='95'!K7 -> 54 | T8: =S8/$C$8*100 -> 0.076225968 | U8: ='95'!L7 -> 35 | V8: =U8/$C$8*100 -> 0.04940572 | W8: ='95'!M7 -> 26650 | X8: =W8/$C$8*100 -> 37.618927 | Y8: 0 | Z8: 0 | AA8: ='95'!N7 -> 1131 | AB8: =AA8/$C$8*100 -> 1.5965105 | AC8: ='95'!O7 -> 66635 | AD8: ='95'!P7 -> 41517 | AE8: ='95'!Q7 -> 10952 | AF8: ='95'!R7 -> 1573 | AG8: ='95'!S7 -> 12593 | AH8: ='95'!T7 -> 66635 | AI8: ='95'!U7 -> 33637 | AJ8: ='95'!V7 -> 30861 | ... BD8: ='95'!AP7 -> 1511
A9: 96年 2007 | C9: ='96'!C7 -> 76755 | D9: =C9/$C$9*100 -> 100 | E9: ='96'!D7 -> 9465 | F9: =E9/$C$9*100 -> 12.331444 | G9: ='96'!E7 -> 240 | H9: =G9/$C$9*100 -> 0.31268321 | I9: ='96'!F7 -> 1882 | J9: =I9/$C$9*100 -> 2.4519575 | K9: ='96'!G7 -> 3361 | L9: =K9/$C$9*100 -> 4.3788678 | M9: ='96'!H7 -> 0 | N9: =M9/$C$9*100 -> 0 | O9: ='96'!I7 -> 31788 | P9: =O9/$C$9*100 -> 41.414892 | Q9: ='96'!J7 -> 106 | R9: =Q9/$C$9*100 -> 0.13810175 | S9: ='96'!K7 -> 123 | T9: =S9/$C$9*100 -> 0.16025015 | U9: ='96'!L7 -> 25 | V9: =U9/$C$9*100 -> 0.032571168 | W9: ='96'!M7 -> 28428 | X9: =W9/$C$9*100 -> 37.037327 | Y9: 0 | Z9: =Y9/$C$8*100 -> 0 | AA9: ='96'!N7 -> 1337 | AB9: =AA9/$C$9*100 -> 1.7419061 | AC9: ='96'!O7 -> 72606 | AD9: ='96'!P7 -> 43788 | AE9: ='96'!Q7 -> 14243 | AF9: ='96'!R7 -> 1952 | AG9: ='96'!S7 -> 12623 | AH9: ='96'!T7 -> 72606 | AI9: ='96'!U7 -> 35182 | AJ9: ='96'!V7 -> 32258 | ... BD9: ='96'!AP7 -> 1307
A10: 97年 2008 | C10: ='97'!C7 -> 84195 | D10: =C10/$C$10*100 -> 100 | E10: ='97'!D7 -> 14129 | F10: =E10/$C$10*100 -> 16.781282 | G10: ='97'!E7 -> 269 | H10: =G10/$C$10*100 -> 0.31949641 | I10: ='97'!F7 -> 2593 | J10: =I10/$C$10*100 -> 3.0797553 | K10: ='97'!G7 -> 3704 | L10: =K10/$C$10*100 -> 4.3993111 | M10: ='97'!H7 -> 0 | N10: =M10/$C$10*100 -> 0 | O10: ='97'!I7 -> 30940 | P10: =O10/$C$10*100 -> 36.748025 | Q10: ='97'!J7 -> 127 | R10: =Q10/$C$10*100 -> 0.15084031 | S10: ='97'!K7 -> 113 | T10: =S10/$C$10*100 -> 0.13421225 | U10: ='97'!L7 -> 36 | V10: =U10/$C$10*100 -> 0.042757883 | W10: ='97'!M7 -> 31078 | X10: =W10/$C$10*100 -> 36.911931 | Y10: 0 | Z10: =Y10/$C$8*100 -> 0 | AA10: ='97'!N7 -> 1206 | AB10: =AA10/$C$10*100 -> 1.4323891 | AC10: ='97'!O7 -> 79874 | AD10: ='97'!P7 -> 46530 | AE10: ='97'!Q7 -> 17086 | AF10: ='97'!R7 -> 2271 | AG10: ='97'!S7 -> 13987 | AH10: ='97'!T7 -> 79874 | AI10: ='97'!U7 -> 35862 | AJ10: ='97'!V7 -> 32724 | ... BD10: ='97'!AP7 -> 708
A11: 98年 2009 | C11: ='98'!C7 -> 94927 | D11: =C11/$C$11*100 -> 100 | E11: ='98'!D7 -> 14949 | F11: =E11/$C$11*100 -> 15.74789 | G11: ='98'!E7 -> 500 | H11: =G11/$C$11*100 -> 0.52672053 | I11: ='98'!F7 -> 3208 | J11: =I11/$C$11*100 -> 3.3794389 | K11: ='98'!G7 -> 3900 | L11: =K11/$C$11*100 -> 4.1084202 | M11: ='98'!H7 -> 0 | N11: =M11/$C$11*100 -> 0 | O11: ='98'!I7 -> 35354 | P11: =O11/$C$11*100 -> 37.243355 | Q11: ='98'!J7 -> 192 | R11: =Q11/$C$11*100 -> 0.20226068 | S11: ='98'!K7 -> 166 | T11: =S11/$C$11*100 -> 0.17487122 | U11: ='98'!L7 -> 50 | V11: =U11/$C$11*100 -> 0.052672053 | W11: ='98'!M7 -> 34754 | X11: =W11/$C$11*100 -> 36.611291 | Y11: 0 | Z11: =Y11/$C$8*100 -> 0 | AA11: ='98'!N7 -> 1854 | AB11: =AA11/$C$11*100 -> 1.9530797 | AC11: ='98'!O7 -> 89253 | AD11: ='98'!P7 -> 52121 | AE11: ='98'!Q7 -> 17476 | AF11: ='98'!R7 -> 2711 | AG11: ='98'!S7 -> 16945 | AH11: ='98'!T7 -> 89253 | AI11: ='98'!U7 -> 38906 | AJ11: ='98'!V7 -> 35309 | ... BD11: ='98'!AP7 -> 1084
A12: 99年 2010 | C12: ='99'!C7 -> 112798 | D12: =C12/$C$12*100 -> 100 | E12: ='99'!D7 -> 21543 | F12: =E12/$C$12*100 -> 19.098743 | G12: ='99'!E7 -> 593 | H12: =G12/$C$12*100 -> 0.52571854 | I12: ='99'!F7 -> 5022 | J12: =I12/$C$12*100 -> 4.4522066 | K12: ='99'!G7 -> 4747 | L12: =K12/$C$12*100 -> 4.208408 | M12: ='99'!H7 -> 0 | N12: =M12/$C$12*100 -> 0 | O12: ='99'!I7 -> 41164 | P12: =O12/$C$12*100 -> 36.493555 | Q12: ='99'!J7 -> 244 | R12: =Q12/$C$12*100 -> 0.21631589 | S12: ='99'!K7 -> 181 | T12: =S12/$C$12*100 -> 0.16046384 | U12: ='99'!L7 -> 83 | V12: =U12/$C$12*100 -> 0.073582865 | W12: ='99'!M7 -> 37536 | X12: =W12/$C$12*100 -> 33.277186 | Y12: 0 | Z12: =Y12/$C$8*100 -> 0 | AA12: ='99'!N7 -> 1685 | AB12: =AA12/$C$12*100 -> 1.4938208 | AC12: ='99'!O7 -> 105130 | AD12: ='99'!P7 -> 59704 | AE12: ='99'!Q7 -> 22089 | AF12: ='99'!R7 -> 3316 | AG12: ='99'!S7 -> 20021 | AH12: ='99'!T7 -> 105130 | AI12: ='99'!U7 -> 42967 | AJ12: ='99'!V7 -> 39187 | ... BD12: ='99'!AP7 -> 1001
A13: 100年 2011 | C13: ='100'!C7 -> 117162 | D13: =C13/$C$13*100 -> 100 | E13: ='100'!D7 -> 22560 | F13: =E13/$C$13*100 -> 19.25539 | G13: ='100'!E7 -> 495 | H13: =G13/$C$13*100 -> 0.42249193 | I13: ='100'!F7 -> 7247 | J13: =I13/$C$13*100 -> 6.1854526 | K13: ='100'!G7 -> 4472 | L13: =K13/$C$13*100 -> 3.8169372 | M13: ='100'!H7 -> 7 | N13: =M13/$C$13*100 -> 0.0059746334 | O13: ='100'!I7 -> 42722 | P13: =O13/$C$13*100 -> 36.464041 | Q13: ='100'!J7 -> 480 | R13: =Q13/$C$13*100 -> 0.40968915 | S13: ='100'!K7 -> 297 | T13: =S13/$C$13*100 -> 0.25349516 | U13: ='100'!L7 -> 211 | V13: =U13/$C$13*100 -> 0.18009252 | W13: ='100'!M7 -> 36961 | X13: =W13/$C$13*100 -> 31.546918 | Y13: 0 | Z13: =Y13/$C$13*100 -> 0 | AA13: ='100'!N7 -> 1710 | AB13: =AA13/$C$13*100 -> 1.4595176 | AC13: ='100'!O7 -> 104315 | AD13: ='100'!P7 -> 56734 | AE13: ='100'!Q7 -> 25740 | AF13: ='100'!R7 -> 3193 | AG13: ='100'!S7 -> 18648 | AH13: ='100'!T7 -> 104315 | AI13: ='100'!U7 -> 39530 | AJ13: ='100'!V7 -> 35725 | ... BD13: ='100'!AP7 -> 767
A14: 101年 2012 | C14: ='101'!C7 -> 134250 | D14: =C14/$C$14*100 -> 100 | E14: ='101'!D7 -> 24243 | F14: =E14/$C$14*100 -> 18.058101 | G14: ='101'!E7 -> 561 | H14: =G14/$C$14*100 -> 0.41787709 | I14: ='101'!F7 -> 9459 | J14: =I14/$C$14*100 -> 7.0458101 | K14: ='101'!G7 -> 5257 | L14: =K14/$C$14*100 -> 3.9158287 | M14: ='101'!H7 -> 6 | N14: =M14/$C$14*100 -> 0.0044692737 | O14: ='101'!I7 -> 52711 | P14: =O14/$C$14*100 -> 39.263315 | Q14: ='101'!J7 -> 879 | R14: =Q14/$C$14*100 -> 0.6547486 | S14: ='101'!K7 -> 606 | T14: =S14/$C$14*100 -> 0.45139665 | U14: ='101'!L7 -> 218 | V14: =U14/$C$14*100 -> 0.16238361 | W14: ='101'!M7 -> 38603 | X14: =W14/$C$14*100 -> 28.754562 | Y14: 0 | Z14: =Y14/$C$14*100 -> 0 | AA14: ='101'!N7 -> 1707 | AB14: =AA14/$C$14*100 -> 1.2715084 | AC14: ='101'!O7 -> 115203 | AD14: ='101'!P7 -> 61309 | AE14: ='101'!Q7 -> 31353 | AF14: ='101'!R7 -> 3625 | AG14: ='101'!S7 -> 18916 | AH14: ='101'!T7 -> 115203 | AI14: ='101'!U7 -> 41725 | AJ14: ='101'!V7 -> 37690 | ... BD14: ='101'!AP7 -> 931
A15: 102年 2013 | C15: ='102'!C7 -> 152680 | D15: =C15/$C$15*100 -> 100 | E15: ='102'!D7 -> 30196 | F15: =E15/$C$15*100 -> 19.777312 | G15: ='102'!E7 -> 719 | H15: =G15/$C$15*100 -> 0.47091957 | I15: ='102'!F7 -> 12989 | J15: =I15/$C$15*100 -> 8.5073356 | K15: ='102'!G7 -> 5704 | L15: =K15/$C$15*100 -> 3.7359183 | M15: ='102'!H7 -> 6 | N15: =M15/$C$15*100 -> 0.0039297878 | O15: ='102'!I7 -> 58658 | P15: =O15/$C$15*100 -> 38.418915 | Q15: ='102'!J7 -> 1899 | R15: =Q15/$C$15*100 -> 1.2437778 | S15: ='102'!K7 -> 204 | T15: =S15/$C$15*100 -> 0.13361278 | U15: ='102'!L7 -> 278 | V15: =U15/$C$15*100 -> 0.18208017 | W15: ='102'!M7 -> 40132 | X15: =W15/$C$15*100 -> 26.285041 | Y15: ='102'!N7 -> 65 | Z15: =Y15/$C$15*100 -> 0.042572701 | AA15: ='102'!O7 -> 1830 | AB15: =AA15/$C$15*100 -> 1.1985853 | AC15: ='102'!P7 -> 130829 | AD15: ='102'!Q7 -> 60916 | AE15: ='102'!R7 -> 40597 | AF15: ='102'!S7 -> 3624 | AG15: ='102'!T7 -> 25692 | AH15: ='102'!U7 -> 130829 | AI15: ='102'!V7 -> 43782 | AJ15: ='102'!W7 -> 39315 | ... BD15: ='102'!AQ7 -> 862
A16: 103年 2014 | C16: ='103'!C7 -> 133716 | D16: =C16/$C$16*100 -> 100 | E16: ='103'!D7 -> 25821 | F16: =E16/$C$16*100 -> 19.310329 | G16: ='103'!E7 -> 704 | H16: =G16/$C$16*100 -> 0.52648898 | I16: ='103'!F7 -> 5563 | J16: =I16/$C$16*100 -> 4.1603099 | K16: ='103'!G7 -> 5143 | L16: =K16/$C$16*100 -> 3.8462114 | M16: ='103'!H7 -> 3 | N16: =M16/$C$16*100 -> 0.002243561 | O16: ='103'!I7 -> 57267 | P16: =O16/$C$16*100 -> 42.827336 | Q16: ='103'!J7 -> 588 | R16: =Q16/$C$16*100 -> 0.43973795 | S16: ='103'!K7 -> 238 | T16: =S16/$C$16*100 -> 0.17798917 | U16: ='103'!L7 -> 280 | V16: =U16/$C$16*100 -> 0.20939902 | W16: ='103'!M7 -> 36898 | X16: =W16/$C$16*100 -> 27.594304 | Y16: ='103'!N7 -> 49 | Z16: =Y16/$C$16*100 -> 0.036644829 | AA16: ='103'!O7 -> 1162 | AB16: =AA16/$C$16*100 -> 0.86900595 | AC16: ='103'!P7 -> 114609 | AD16: ='103'!Q7 -> 60816 | AE16: ='103'!R7 -> 22140 | AF16: ='103'!S7 -> 3375 | AG16: ='103'!T7 -> 28278 | AH16: ='103'!U7 -> 114609 | AI16: ='103'!V7 -> 42509 | AJ16: ='103'!W7 -> 38445 | ... BD16: ='103'!AQ7 -> 984
A17: 104年 2015 | C17: ='104'!C7 -> 135983 | D17: =C17/$C$17*100 -> 100 | E17: ='104'!D7 -> 19104 | F17: =E17/$C$17*100 -> 14.048815 | G17: ='104'!E7 -> 732 | H17: =G17/$C$17*100 -> 0.53830258 | I17: ='104'!F7 -> 6050 | J17: =I17/$C$17*100 -> 4.4490855 | K17: ='104'!G7 -> 5772 | L17: =K17/$C$17*100 -> 4.2446482 | M17: ='104'!H7 -> 1 | N17: =M17/$C$17*100 -> 0.00073538604 | O17: ='104'!I7 -> 62303 | P17: =O17/$C$17*100 -> 45.816757 | Q17: ='104'!J7 -> 463 | R17: =Q17/$C$17*100 -> 0.34048374 | S17: ='104'!K7 -> 202 | T17: =S17/$C$17*100 -> 0.14854798 | U17: ='104'!L7 -> 240 | V17: =U17/$C$17*100 -> 0.17649265 | W17: ='104'!M7 -> 37167 | X17: =W17/$C$17*100 -> 27.332093 | Y17: ='104'!N7 -> 57 | Z17: =Y17/$C$17*100 -> 0.041917004 | AA17: ='104'!O7 -> 3892 | AB17: =AA17/$C$17*100 -> 2.8621225 | AC17: ='104'!P7 -> 116742 | AD17: ='104'!Q7 -> 61947 | AE17: ='104'!R7 -> 21360 | AF17: ='104'!S7 -> 5971 | AG17: ='104'!T7 -> 27464 | AH17: ='104'!U7 -> 116742 | AI17: ='104'!V7 -> 42084 | AJ17: ='104'!W7 -> 37613 | ... BD17: ='104'!AQ7 -> 1105
A18: 105年 2016 | C18: ='105'!C7 -> 135785 | D18: =C18/$C$18*100 -> 100 | E18: ='105'!D7 -> 19124 | F18: =E18/$C$18*100 -> 14.08403 | G18: ='105'!E7 -> 859 | H18: =G18/$C$18*100 -> 0.63261774 | I18: ='105'!F7 -> 4435 | J18: =I18/$C$18*100 -> 3.2661929 | K18: ='105'!G7 -> 5613 | L18: =K18/$C$18*100 -> 4.1337408 | M18: ='105'!H7 -> 3 | N18: =M18/$C$18*100 -> 0.0022093751 | O18: ='105'!I7 -> 66352 | P18: =O18/$C$18*100 -> 48.865486 | Q18: ='105'!J7 -> 423 | R18: =Q18/$C$18*100 -> 0.31152189 | S18: ='105'!K7 -> 246 | T18: =S18/$C$18*100 -> 0.18116876 | U18: ='105'!L7 -> 208 | V18: =U18/$C$18*100 -> 0.15318334 | W18: ='105'!M7 -> 37451 | X18: =W18/$C$18*100 -> 27.581102 | Y18: ='105'!N7 -> 28 | Z18: =Y18/$C$18*100 -> 0.020620834 | AA18: ='105'!O7 -> 1043 | AB18: =AA18/$C$18*100 -> 0.76812608 | AC18: ='105'!P7 -> 117550 | AD18: ='105'!Q7 -> 64978 | AE18: ='105'!R7 -> 16198 | AF18: ='105'!S7 -> 7046 | AG18: ='105'!T7 -> 29328 | AH18: ='105'!U7 -> 117550 | AI18: ='105'!V7 -> 42833 | AJ18: ='105'!W7 -> 38052 | ... BD18: ='105'!AQ7 -> 1063
A19: 106年 2017 | C19: ='106'!C7 -> 137148 | D19: =C19/$C$19*100 -> 100 | E19: ='106'!D7 -> 17314 | F19: =E19/$C$19*100 -> 12.624318 | G19: ='106'!E7 -> 1167 | H19: =G19/$C$19*100 -> 0.85090559 | I19: ='106'!F7 -> 4588 | J19: =I19/$C$19*100 -> 3.3452912 | K19: ='106'!G7 -> 6227 | L19: =K19/$C$19*100 -> 4.5403506 | M19: ='106'!H7 -> 2 | N19: =M19/$C$19*100 -> 0.0014582786 | O19: ='106'!I7 -> 68958 | P19: =O19/$C$19*100 -> 50.27999 | Q19: ='106'!J7 -> 428 | R19: =Q19/$C$19*100 -> 0.31207163 | S19: ='106'!K7 -> 159 | T19: =S19/$C$19*100 -> 0.11593315 | U19: ='106'!L7 -> 234 | V19: =U19/$C$19*100 -> 0.1706186 | W19: ='106'!M7 -> 37118 | X19: =W19/$C$19*100 -> 27.064193 | Y19: ='106'!N7 -> 35 | Z19: =Y19/$C$19*100 -> 0.025519876 | AA19: ='106'!O7 -> 918 | AB19: =AA19/$C$19*100 -> 0.6693499 | AC19: ='106'!P7 -> 118586 | AD19: ='106'!Q7 -> 64898 | AE19: ='106'!R7 -> 15779 | AF19: ='106'!S7 -> 7473 | AG19: ='106'!T7 -> 30436 | AH19: ='106'!U7 -> 118586 | AI19: ='106'!V7 -> 42586 | AJ19: ='106'!W7 -> 37627 | ... BD19: ='106'!AQ7 -> 934
A20: 107年 2018 | C20: ='107'!C7 -> 138637 | D20: =C20/$C$20*100 -> 100 | E20: ='107'!D7 -> 16091 | F20: =E20/$C$20*100 -> 11.60657 | G20: ='107'!E7 -> 1400 | H20: =G20/$C$20*100 -> 1.0098314 | I20: ='107'!F7 -> 4813 | J20: =I20/$C$20*100 -> 3.4716562 | K20: ='107'!G7 -> 6599 | L20: =K20/$C$20*100 -> 4.7599126 | M20: ='107'!H7 -> 1 | N20: =M20/$C$20*100 -> 0.00072130816 | O20: ='107'!I7 -> 71311 | P20: =O20/$C$20*100 -> 51.437207 | Q20: ='107'!J7 -> 507 | R20: =Q20/$C$20*100 -> 0.36570324 | S20: ='107'!K7 -> 180 | T20: =S20/$C$20*100 -> 0.12983547 | U20: ='107'!L7 -> 237 | V20: =U20/$C$20*100 -> 0.17095003 | W20: ='107'!M7 -> 36569 | X20: =W20/$C$20*100 -> 26.377518 | Y20: ='107'!N7 -> 25 | Z20: =Y20/$C$20*100 -> 0.018032704 | AA20: ='107'!O7 -> 904 | AB20: =AA20/$C$20*100 -> 0.65206258 | AC20: ='107'!P7 -> 120002 | AD20: ='107'!Q7 -> 65021 | AE20: ='107'!R7 -> 15188 | AF20: ='107'!S7 -> 7745 | AG20: ='107'!T7 -> 32048 | AH20: ='107'!U7 -> 120002 | AI20: ='107'!V7 -> 41700 | AJ20: ='107'!W7 -> 36863 | ... BD20: ='107'!AQ7 -> 919
A21: 資料來源：本部保護服務司。
A23: 更新日期：108/05/31

Sheet 107
A1: 5.1-01 家庭暴力事件通報案件統計
A3: 區域別 | C3: 通報件次(複選) | P3: 通報件數
C4: 合計 | D4: 通報單位別 | P4: 案件類型別 | U4: 被害及加害者兩造關係別
D5: 113 | E5: 防治中心 | F5: 教育 | G5: 社政 | H5: 勞政 | I5: 警政 | J5: 司法 | K5: 衛生 | L5: 診所 | M5: 醫院 | N5: 移民業務機關 | O5: 其他 | P5: 合計 | Q5: 婚姻、離婚或同居關係暴力 | R5: 兒少 保護 | S5: 老人 虐待 | T5: 其他 | U5: 合計 | V5: 配偶 | Y5: 前配偶 (離婚) | Z5: 曾同住之其他家庭成員 | AI5: 現同住之其他家庭成員
V6: 小計 | W6: 共同 生活 | X6: 分居 | Z6: 小計 | AA6: 直系 血親 | AB6: 直系 姻親 | AC6: 同居 關係 | AD6: 四等親 內旁系 血親 | AE6: 四等親 內旁系 姻親 | AF6: 家屬間 | AG6: 家長 家屬 | AH6: 其他 | AI6: 小計 | AJ6: 直系 血親 | AK6: 直系 姻親 | AL6: 同居 關係 | AM6: 四等親 內旁系 血親 | AN6: 四等親 內旁系 姻親 | AO6: 家屬間 | AP6: 家長 家屬 | AQ6: 其他
A7: 107年 2018 | C7: 138637 | D7: 16091 | E7: 1400 | F7: 4813 | G7: 6599 | H7: 1 | I7: 71311 | J7: 507 | K7: 180 | L7: 237 | M7: 36569 | N7: 25 | O7: 904 | P7: 120002 | Q7: 65021 | R7: 15188 | S7: 7745 | T7: 32048 | U7: 120002 | V7: 41700 | W7: 36863 | X7: 4837 | Y7: 5878 | Z7: 23742 | AA7: 193 | AB7: 191 | AC7: 4953 | AD7: 153 | AE7: 165 | AF7: 128 | AG7: 78 | AH7: 17881 | AI7: 48682 | AJ7: 21393 | AK7: 1589 | AL7: 10183 | AM7: 6909 | AN7: 1487 | AO7: 3990 | AP7: 2212 | AQ7: 919
A8: 新北市 | C8: 22028 | D8: 3247 | E8: 484 | F8: 927 | G8: 938 | H8: 1 | I8: 9829 | J8: 118 | K8: 26 | L8: 18 | M8: 6305 | N8: 2 | O8: 133 | P8: 19160 | Q8: 10659 | R8: 2541 | S8: 1046 | T8: 4914 | U8: 19160 | V8: 6776 | W8: 6071 | X8: 705 | Y8: 921 | Z8: 4315 | AA8: 40 | AB8: 27 | AC8: 782 | AD8: 19 | AE8: 17 | AF8: 33 | AG8: 13 | AH8: 3384 | AI8: 7148 | AJ8: 3031 | AK8: 203 | AL8: 1566 | AM8: 698 | AN8: 187 | AO8: 824 | AP8: 448 | AQ8: 191
A9: 臺北市 | C9: 16002 | D9: 1579 | E9: 260 | F9: 391 | G9: 541 | H9: 0 | I9: 9096 | J9: 50 | K9: 9 | L9: 18 | M9: 3896 | N9: 0 | O9: 162 | P9: 13750 | Q9: 7377 | R9: 1229 | S9: 914 | T9: 4230 | U9: 13750 | V9: 4708 | W9: 4233 | X9: 475 | Y9: 552 | Z9: 2283 | AA9: 33 | AB9: 15 | AC9: 536 | AD9: 23 | AE9: 17 | AF9: 21 | AG9: 6 | AH9: 1632 | AI9: 6207 | AJ9: 2737 | AK9: 153 | AL9: 1219 | AM9: 624 | AN9: 141 | AO9: 749 | AP9: 412 | AQ9: 172
A10: 桃園市 | C10: 12367 | D10: 1708 | E10: 180 | F10: 688 | G10: 700 | H10: 0 | I10: 5598 | J10: 11 | K10: 16 | L10: 18 | M10: 3377 | N10: 3 | O10: 68 | P10: 10832 | Q10: 6196 | R10: 1617 | S10: 561 | T10: 2458 | U10: 10832 | V10: 4065 | W10: 3633 | X10: 432 | Y10: 502 | Z10: 2328 | AA10: 12 | AB10: 23 | AC10: 448 | AD10: 14 | AE10: 16 | AF10: 4 | AG10: 6 | AH10: 1805 | AI10: 3937 | AJ10: 1647 | AK10: 137 | AL10: 983 | AM10: 718 | AN10: 125 | AO10: 146 | AP10: 110 | AQ10: 71
A11: 臺中市 | C11: 19217 | D11: 2241 | E11: 49 | F11: 533 | G11: 857 | H11: 0 | I11: 10810 | J11: 54 | K11: 11 | L11: 35 | M11: 4533 | N11: 2 | O11: 92 | P11: 16597 | Q11: 9309 | R11: 1850 | S11: 976 | T11: 4462 | U11: 16597 | V11: 5715 | W11: 4994 | X11: 721 | Y11: 894 | Z11: 3166 | AA11: 38 | AB11: 15 | AC11: 772 | AD11: 19 | AE11: 25 | AF11: 23 | AG11: 11 | AH11: 2263 | AI11: 6822 | AJ11: 2747 | AK11: 204 | AL11: 1587 | AM11: 788 | AN11: 201 | AO11: 749 | AP11: 426 | AQ11: 120
A12: 臺南市 | C12: 8914 | D12: 1118 | E12: 91 | F12: 365 | G12: 476 | H12: 0 | I12: 4361 | J12: 17 | K12: 20 | L12: 20 | M12: 2384 | N12: 5 | O12: 57 | P12: 7699 | Q12: 4032 | R12: 1242 | S12: 522 | T12: 1903 | U12: 7699 | V12: 2593 | W12: 2222 | X12: 371 | Y12: 402 | Z12: 1714 | AA12: 4 | AB12: 13 | AC12: 427 | AD12: 3 | AE12: 12 | AF12: 1 | AG12: 0 | AH12: 1254 | AI12: 2990 | AJ12: 1457 | AK12: 104 | AL12: 585 | AM12: 673 | AN12: 124 | AO12: 20 | AP12: 22 | AQ12: 5
A13: 高雄市 | C13: 19084 | D13: 1910 | E13: 148 | F13: 822 | G13: 945 | H13: 0 | I13: 9465 | J13: 204 | K13: 32 | L13: 33 | M13: 5439 | N13: 0 | O13: 86 | P13: 16232 | Q13: 7810 | R13: 2970 | S13: 1123 | T13: 4329 | U13: 16232 | V13: 4808 | W13: 4264 | X13: 544 | Y13: 793 | Z13: 3827 | AA13: 13 | AB13: 37 | AC13: 667 | AD13: 14 | AE13: 22 | AF13: 2 | AG13: 8 | AH13: 3064 | AI13: 6804 | AJ13: 3249 | AK13: 277 | AL13: 1407 | AM13: 1471 | AN13: 219 | AO13: 45 | AP13: 78 | AQ13: 58
A14: 宜蘭縣 | C14: 2121 | D14: 241 | E14: 6 | F14: 66 | G14: 90 | H14: 0 | I14: 951 | J14: 4 | K14: 5 | L14: 5 | M14: 728 | N14: 3 | O14: 22 | P14: 1799 | Q14: 1021 | R14: 111 | S14: 144 | T14: 523 | U14: 1799 | V14: 718 | W14: 635 | X14: 83 | Y14: 95 | Z14: 221 | AA14: 2 | AB14: 4 | AC14: 59 | AD14: 6 | AE14: 4 | AF14: 3 | AG14: 3 | AH14: 140 | AI14: 765 | AJ14: 345 | AK14: 25 | AL14: 121 | AM14: 108 | AN14: 28 | AO14: 84 | AP14: 34 | AQ14: 20
A15: 新竹縣 | C15: 2817 | D15: 380 | E15: 22 | F15: 75 | G15: 167 | H15: 0 | I15: 1333 | J15: 5 | K15: 1 | L15: 10 | M15: 806 | N15: 0 | O15: 18 | P15: 2439 | Q15: 1419 | R15: 257 | S15: 128 | T15: 635 | U15: 2439 | V15: 960 | W15: 841 | X15: 119 | Y15: 131 | Z15: 420 | AA15: 2 | AB15: 3 | AC15: 88 | AD15: 5 | AE15: 3 | AF15: 3 | AG15: 2 | AH15: 314 | AI15: 928 | AJ15: 394 | AK15: 24 | AL15: 187 | AM15: 110 | AN15: 30 | AO15: 111 | AP15: 57 | AQ15: 15
A16: 苗栗縣 | C16: 2831 | D16: 316 | E16: 8 | F16: 48 | G16: 144 | H16: 0 | I16: 1408 | J16: 2 | K16: 3 | L16: 8 | M16: 884 | N16: 2 | O16: 8 | P16: 2433 | Q16: 1388 | R16: 207 | S16: 184 | T16: 654 | U16: 2433 | V16: 926 | W16: 816 | X16: 110 | Y16: 104 | Z16: 388 | AA16: 2 | AB16: 0 | AC16: 103 | AD16: 5 | AE16: 5 | AF16: 5 | AG16: 1 | AH16: 267 | AI16: 1015 | AJ16: 452 | AK16: 32 | AL16: 185 | AM16: 115 | AN16: 29 | AO16: 109 | AP16: 61 | AQ16: 32
A17: 彰化縣 | C17: 6759 | D17: 708 | E17: 19 | F17: 193 | G17: 300 | H17: 0 | I17: 3928 | J17: 10 | K17: 15 | L17: 17 | M17: 1522 | N17: 2 | O17: 45 | P17: 5925 | Q17: 3093 | R17: 633 | S17: 468 | T17: 1731 | U17: 5925 | V17: 2228 | W17: 1931 | X17: 297 | Y17: 289 | Z17: 1010 | AA17: 7 | AB17: 22 | AC17: 174 | AD17: 12 | AE17: 13 | AF17: 5 | AG17: 4 | AH17: 773 | AI17: 2398 | AJ17: 1167 | AK17: 115 | AL17: 330 | AM17: 353 | AN17: 88 | AO17: 224 | AP17: 97 | AQ17: 24
A18: 南投縣 | C18: 2811 | D18: 274 | E18: 9 | F18: 42 | G18: 103 | H18: 0 | I18: 1598 | J18: 3 | K18: 7 | L18: 6 | M18: 751 | N18: 0 | O18: 18 | P18: 2446 | Q18: 1466 | R18: 167 | S18: 188 | T18: 625 | U18: 2446 | V18: 993 | W18: 867 | X18: 126 | Y18: 129 | Z18: 332 | AA18: 5 | AB18: 2 | AC18: 94 | AD18: 3 | AE18: 3 | AF18: 6 | AG18: 4 | AH18: 215 | AI18: 992 | AJ18: 391 | AK18: 35 | AL18: 210 | AM18: 129 | AN18: 42 | AO18: 105 | AP18: 59 | AQ18: 21
... A29: 連江縣 | C29: 32 | D29: 5 | E29: 0 | F29: 4 | G29: 2 | H29: 0 | I29: 12 | J29: 0 | K29: 1 | L29: 1 | M29: 7 | N29: 0 | O29: 0 | P29: 28 | Q29: 21 | R29: 6 | S29: 0 | T29: 1 | U29: 28 | V29: 13 | W29: 10 | X29: 3 | Y29: 1 | Z29: 7 | AA29: 0 | AB29: 0 | AC29: 0 | AD29: 0 | AE29: 0 | AF29: 0 | AG29: 0 | AH29: 7 | AI29: 7 | AJ29: 0 | AK29: 0 | AL29: 6 | AM29: 0 | AN29: 0 | AO29: 1 | AP29: 0 | AQ29: 0

Sheet 106
A1: 5.1-01 家庭暴力事件通報案件統計
A3: 區域別 | C3: 通報件次(複選) | P3: 通報件數
C4: 合計 | D4: 通報單位別 | P4: 案件類型別 | U4: 被害及加害者兩造關係別
D5: 113 | E5: 防治中心 | F5: 教育 | G5: 社政 | H5: 勞政 | I5: 警政 | J5: 司法 | K5: 衛生 | L5: 診所 | M5: 醫院 | N5: 移民業務機關 | O5: 其他 | P5: 合計 | Q5: 婚姻、離婚或同居關係暴力 | R5: 兒少 保護 | S5: 老人 虐待 | T5: 其他 | U5: 合計 | V5: 配偶 | Y5: 前配偶 (離婚) | Z5: 曾同住之其他家庭成員 | AI5: 現同住之其他家庭成員
V6: 小計 | W6: 共同 生活 | X6: 分居 | Z6: 小計 | AA6: 直系 血親 | AB6: 直系 姻親 | AC6: 同居 關係 | AD6: 四等親 內旁系 血親 | AE6: 四等親 內旁系 姻親 | AF6: 家屬間 | AG6: 家長 家屬 | AH6: 其他 | AI6: 小計 | AJ6: 直系 血親 | AK6: 直系 姻親 | AL6: 同居 關係 | AM6: 四等親 內旁系 血親 | AN6: 四等親 內旁系 姻親 | AO6: 家屬間 | AP6: 家長 家屬 | AQ6: 其他
A7: 106年 2017 | C7: 137148 | D7: 17314 | E7: 1167 | F7: 4588 | G7: 6227 | H7: 2 | I7: 68958 | J7: 428 | K7: 159 | L7: 234 | M7: 37118 | N7: 35 | O7: 918 | P7: 118586 | Q7: 64898 | R7: 15779 | S7: 7473 | T7: 30436 | U7: 118586 | V7: 42586 | W7: 37627 | X7: 4959 | Y7: 5668 | Z7: 24125 | AA7: 239 | AB7: 174 | AC7: 4655 | AD7: 155 | AE7: 175 | AF7: 121 | AG7: 113 | AH7: 18493 | AI7: 46207 | AJ7: 20289 | AK7: 1466 | AL7: 9626 | AM7: 6348 | AN7: 1448 | AO7: 3823 | AP7: 2273 | AQ7: 934
A8: 新北市 | C8: 22047 | D8: 3526 | E8: 432 | F8: 956 | G8: 812 | H8: 1 | I8: 9711 | J8: 37 | K8: 16 | L8: 32 | M8: 6416 | N8: 3 | O8: 105 | P8: 19233 | Q8: 11018 | R8: 2689 | S8: 1026 | T8: 4500 | U8: 19233 | V8: 7100 | W8: 6331 | X8: 769 | Y8: 967 | Z8: 4366 | AA8: 43 | AB8: 21 | AC8: 779 | AD8: 21 | AE8: 19 | AF8: 28 | AG8: 22 | AH8: 3433 | AI8: 6800 | AJ8: 2953 | AK8: 165 | AL8: 1506 | AM8: 655 | AN8: 179 | AO8: 707 | AP8: 438 | AQ8: 197
A9: 臺北市 | C9: 15343 | D9: 1695 | E9: 217 | F9: 424 | G9: 516 | H9: 0 | I9: 8513 | J9: 45 | K9: 6 | L9: 20 | M9: 3736 | N9: 1 | O9: 170 | P9: 13216 | Q9: 7021 | R9: 1300 | S9: 871 | T9: 4024 | U9: 13216 | V9: 4564 | W9: 4079 | X9: 485 | Y9: 557 | Z9: 2348 | AA9: 42 | AB9: 23 | AC9: 515 | AD9: 17 | AE9: 20 | AF9: 20 | AG9: 20 | AH9: 1691 | AI9: 5747 | AJ9: 2590 | AK9: 126 | AL9: 1046 | AM9: 578 | AN9: 147 | AO9: 727 | AP9: 367 | AQ9: 166
A10: 桃園市 | C10: 11847 | D10: 1844 | E10: 79 | F10: 609 | G10: 591 | H10: 0 | I10: 5343 | J10: 8 | K10: 14 | L10: 7 | M10: 3259 | N10: 4 | O10: 89 | P10: 10332 | Q10: 6003 | R10: 1587 | S10: 518 | T10: 2224 | U10: 10332 | V10: 3993 | W10: 3570 | X10: 423 | Y10: 539 | Z10: 2269 | AA10: 12 | AB10: 7 | AC10: 447 | AD10: 13 | AE10: 16 | AF10: 6 | AG10: 5 | AH10: 1763 | AI10: 3531 | AJ10: 1435 | AK10: 153 | AL10: 834 | AM10: 572 | AN10: 104 | AO10: 199 | AP10: 150 | AQ10: 84
A11: 臺中市 | C11: 19370 | D11: 2356 | E11: 50 | F11: 555 | G11: 797 | H11: 0 | I11: 10622 | J11: 90 | K11: 11 | L11: 28 | M11: 4736 | N11: 7 | O11: 118 | P11: 16790 | Q11: 9285 | R11: 2104 | S11: 1007 | T11: 4394 | U11: 16790 | V11: 5900 | W11: 5151 | X11: 749 | Y11: 790 | Z11: 3438 | AA11: 29 | AB11: 23 | AC11: 691 | AD11: 27 | AE11: 26 | AF11: 20 | AG11: 21 | AH11: 2601 | AI11: 6662 | AJ11: 2725 | AK11: 197 | AL11: 1540 | AM11: 769 | AN11: 179 | AO11: 711 | AP11: 415 | AQ11: 126
A12: 臺南市 | C12: 9252 | D12: 1212 | E12: 78 | F12: 285 | G12: 505 | H12: 1 | I12: 4552 | J12: 21 | K12: 17 | L12: 19 | M12: 2500 | N12: 2 | O12: 60 | P12: 7986 | Q12: 4185 | R12: 1231 | S12: 520 | T12: 2050 | U12: 7986 | V12: 2828 | W12: 2419 | X12: 409 | Y12: 402 | Z12: 1650 | AA12: 7 | AB12: 15 | AC12: 349 | AD12: 11 | AE12: 10 | AF12: 1 | AG12: 3 | AH12: 1254 | AI12: 3106 | AJ12: 1560 | AK12: 122 | AL12: 578 | AM12: 652 | AN12: 133 | AO12: 15 | AP12: 36 | AQ12: 10
A13: 高雄市 | C13: 19397 | D13: 2040 | E13: 131 | F13: 764 | G13: 1077 | H13: 0 | I13: 9361 | J13: 187 | K13: 24 | L13: 39 | M13: 5707 | N13: 0 | O13: 67 | P13: 16358 | Q13: 7965 | R13: 3143 | S13: 986 | T13: 4264 | U13: 16358 | V13: 5103 | W13: 4562 | X13: 541 | Y13: 732 | Z13: 3998 | AA13: 11 | AB13: 37 | AC13: 634 | AD13: 15 | AE13: 36 | AF13: 1 | AG13: 10 | AH13: 3254 | AI13: 6525 | AJ13: 3116 | AK13: 247 | AL13: 1325 | AM13: 1410 | AN13: 234 | AO13: 40 | AP13: 70 | AQ13: 83
A14: 宜蘭縣 | C14: 2061 | D14: 243 | E14: 10 | F14: 60 | G14: 77 | H14: 0 | I14: 876 | J14: 3 | K14: 1 | L14: 8 | M14: 751 | N14: 2 | O14: 30 | P14: 1771 | Q14: 1070 | R14: 123 | S14: 127 | T14: 451 | U14: 1771 | V14: 762 | W14: 684 | X14: 78 | Y14: 90 | Z14: 236 | AA14: 6 | AB14: 0 | AC14: 60 | AD14: 4 | AE14: 5 | AF14: 1 | AG14: 2 | AH14: 158 | AI14: 683 | AJ14: 289 | AK14: 26 | AL14: 122 | AM14: 92 | AN14: 28 | AO14: 82 | AP14: 29 | AQ14: 15
A15: 新竹縣 | C15: 2619 | D15: 356 | E15: 24 | F15: 53 | G15: 133 | H15: 0 | I15: 1212 | J15: 3 | K15: 1 | L15: 4 | M15: 803 | N15: 3 | O15: 27 | P15: 2243 | Q15: 1392 | R15: 169 | S15: 123 | T15: 559 | U15: 2243 | V15: 1000 | W15: 861 | X15: 139 | Y15: 131 | Z15: 296 | AA15: 4 | AB15: 2 | AC15: 71 | AD15: 2 | AE15: 2 | AF15: 1 | AG15: 1 | AH15: 213 | AI15: 816 | AJ15: 332 | AK15: 23 | AL15: 172 | AM15: 102 | AN15: 32 | AO15: 96 | AP15: 39 | AQ15: 20
A16: 苗栗縣 | C16: 2869 | D16: 325 | E16: 10 | F16: 51 | G16: 141 | H16: 0 | I16: 1436 | J16: 2 | K16: 3 | L16: 5 | M16: 880 | N16: 2 | O16: 14 | P16: 2486 | Q16: 1364 | R16: 250 | S16: 160 | T16: 712 | U16: 2486 | V16: 962 | W16: 826 | X16: 136 | Y16: 91 | Z16: 424 | AA16: 9 | AB16: 4 | AC16: 78 | AD16: 3 | AE16: 3 | AF16: 4 | AG16: 3 | AH16: 320 | AI16: 1009 | AJ16: 451 | AK16: 26 | AL16: 164 | AM16: 126 | AN16: 32 | AO16: 113 | AP16: 61 | AQ16: 36
A17: 彰化縣 | C17: 6358 | D17: 760 | E17: 20 | F17: 172 | G17: 287 | H17: 0 | I17: 3495 | J17: 12 | K17: 21 | L17: 22 | M17: 1505 | N17: 4 | O17: 60 | P17: 5591 | Q17: 2949 | R17: 690 | S17: 431 | T17: 1521 | U17: 5591 | V17: 2146 | W17: 1867 | X17: 279 | Y17: 250 | Z17: 1018 | AA17: 15 | AB17: 12 | AC17: 148 | AD17: 10 | AE17: 12 | AF17: 8 | AG17: 4 | AH17: 809 | AI17: 2177 | AJ17: 1018 | AK17: 92 | AL17: 324 | AM17: 300 | AN17: 86 | AO17: 208 | AP17: 117 | AQ17: 32
A18: 南投縣 | C18: 2662 | D18: 316 | E18: 17 | F18: 42 | G18: 104 | H18: 0 | I18: 1448 | J18: 2 | K18: 1 | L18: 8 | M18: 715 | N18: 1 | O18: 8 | P18: 2275 | Q18: 1346 | R18: 154 | S18: 178 | T18: 597 | U18: 2275 | V18: 916 | W18: 815 | X18: 101 | Y18: 104 | Z18: 309 | AA18: 3 | AB18: 4 | AC18: 88 | AD18: 2 | AE18: 9 | AF18: 6 | AG18: 4 | AH18: 193 | AI18: 946 | AJ18: 387 | AK18: 31 | AL18: 208 | AM18: 124 | AN18: 40 | AO18: 83 | AP18: 58 | AQ18: 15
... A29: 連江縣 | C29: 36 | D29: 4 | E29: 0 | F29: 4 | G29: 1 | H29: 0 | I29: 14 | J29: 0 | K29: 1 | L29: 4 | M29: 6 | N29: 0 | O29: 2 | P29: 29 | Q29: 18 | R29: 6 | S29: 0 | T29: 5 | U29: 29 | V29: 16 | W29: 14 | X29: 2 | Y29: 0 | Z29: 7 | AA29: 0 | AB29: 0 | AC29: 0 | AD29: 0 | AE29: 0 | AF29: 0 | AG29: 0 | AH29: 7 | AI29: 6 | AJ29: 3 | AK29: 0 | AL29: 1 | AM29: 0 | AN29: 0 | AO29: 1 | AP29: 1 | AQ29: 0

Sheet 105
A1: 5.1-01 家庭暴力事件通報案件統計
A3: 區域別 | C3: 通報件次(複選) | P3: 通報件數
C4: 合計 | D4: 通報單位別 | P4: 案件類型別 | U4: 被害及加害者兩造關係別
D5: 113 | E5: 防治中心 | F5: 教育 | G5: 社政 | H5: 勞政 | I5: 警政 | J5: 司法 | K5: 衛生 | L5: 診所 | M5: 醫院 | N5: 移民業務機關 | O5: 其他 | P5: 合計 | Q5: 婚姻、離婚或同居關係暴力 | R5: 兒少 保護 | S5: 老人 虐待 | T5: 其他 | U5: 合計 | V5: 配偶 | Y5: 前配偶 (離婚) | Z5: 曾同住之其他家庭成員 | AI5: 現同住之其他家庭成員
V6: 小計 | W6: 共同 生活 | X6: 分居 | Z6: 小計 | AA6: 直系 血親 | AB6: 直系 姻親 | AC6: 同居 關係 | AD6: 四等親 內旁系 血親 | AE6: 四等親 內旁系 姻親 | AF6: 家屬間 | AG6: 家長 家屬 | AH6: 其他 | AI6: 小計 | AJ6: 直系 血親 | AK6: 直系 姻親 | AL6: 同居 關係 | AM6: 四等親 內旁系 血親 | AN6: 四等親 內旁系 姻親 | AO6: 家屬間 | AP6: 家長 家屬 | AQ6: 其他
A7: 105年 2016 | C7: 135785 | D7: 19124 | E7: 859 | F7: 4435 | G7: 5613 | H7: 3 | I7: 66352 | J7: 423 | K7: 246 | L7: 208 | M7: 37451 | N7: 28 | O7: 1043 | P7: 117550 | Q7: 64978 | R7: 16198 | S7: 7046 | T7: 29328 | U7: 117550 | V7: 42833 | W7: 38052 | X7: 4781 | Y7: 5780 | Z7: 24614 | AA7: 251 | AB7: 160 | AC7: 4275 | AD7: 141 | AE7: 171 | AF7: 130 | AG7: 106 | AH7: 19380 | AI7: 44323 | AJ7: 18996 | AK7: 1515 | AL7: 9354 | AM7: 5555 | AN7: 1428 | AO7: 3747 | AP7: 2665 | AQ7: 1063
A8: 新北市 | C8: 22393 | D8: 3787 | E8: 277 | F8: 852 | G8: 602 | H8: 1 | I8: 10023 | J8: 11 | K8: 36 | L8: 21 | M8: 6680 | N8: 5 | O8: 98 | P8: 19468 | Q8: 11429 | R8: 2632 | S8: 931 | T8: 4476 | U8: 19468 | V8: 7475 | W8: 6725 | X8: 750 | Y8: 969 | Z8: 4284 | AA8: 39 | AB8: 19 | AC8: 721 | AD8: 17 | AE8: 26 | AF8: 22 | AG8: 26 | AH8: 3414 | AI8: 6740 | AJ8: 2793 | AK8: 178 | AL8: 1593 | AM8: 612 | AN8: 156 | AO8: 737 | AP8: 465 | AQ8: 206
A9: 臺北市 | C9: 14432 | D9: 1648 | E9: 88 | F9: 360 | G9: 405 | H9: 0 | I9: 7873 | J9: 17 | K9: 8 | L9: 11 | M9: 3722 | N9: 2 | O9: 298 | P9: 12453 | Q9: 6751 | R9: 1266 | S9: 756 | T9: 3680 | U9: 12453 | V9: 4419 | W9: 3988 | X9: 431 | Y9: 555 | Z9: 2173 | AA9: 33 | AB9: 19 | AC9: 420 | AD9: 12 | AE9: 20 | AF9: 15 | AG9: 8 | AH9: 1646 | AI9: 5306 | AJ9: 2245 | AK9: 145 | AL9: 1025 | AM9: 588 | AN9: 141 | AO9: 629 | AP9: 402 | AQ9: 131
A10: 桃園市 | C10: 11801 | D10: 2066 | E10: 108 | F10: 574 | G10: 682 | H10: 1 | I10: 5044 | J10: 13 | K10: 31 | L10: 27 | M10: 3194 | N10: 3 | O10: 58 | P10: 10437 | Q10: 5939 | R10: 1875 | S10: 508 | T10: 2115 | U10: 10437 | V10: 3899 | W10: 3459 | X10: 440 | Y10: 557 | Z10: 2592 | AA10: 16 | AB10: 11 | AC10: 370 | AD10: 8 | AE10: 7 | AF10: 9 | AG10: 9 | AH10: 2162 | AI10: 3389 | AJ10: 1369 | AK10: 126 | AL10: 832 | AM10: 437 | AN10: 114 | AO10: 216 | AP10: 192 | AQ10: 103
A11: 臺中市 | C11: 19968 | D11: 2643 | E11: 86 | F11: 619 | G11: 765 | H11: 0 | I11: 10714 | J11: 119 | K11: 13 | L11: 30 | M11: 4849 | N11: 4 | O11: 126 | P11: 17121 | Q11: 9427 | R11: 2294 | S11: 954 | T11: 4446 | U11: 17121 | V11: 6040 | W11: 5336 | X11: 704 | Y11: 845 | Z11: 3586 | AA11: 28 | AB11: 22 | AC11: 641 | AD11: 33 | AE11: 28 | AF11: 21 | AG11: 11 | AH11: 2802 | AI11: 6650 | AJ11: 2712 | AK11: 214 | AL11: 1473 | AM11: 794 | AN11: 189 | AO11: 601 | AP11: 518 | AQ11: 149
A12: 臺南市 | C12: 8749 | D12: 1237 | E12: 76 | F12: 256 | G12: 384 | H12: 0 | I12: 4118 | J12: 25 | K12: 14 | L12: 10 | M12: 2585 | N12: 1 | O12: 43 | P12: 7555 | Q12: 4080 | R12: 1156 | S12: 447 | T12: 1872 | U12: 7555 | V12: 2646 | W12: 2305 | X12: 341 | Y12: 355 | Z12: 1679 | AA12: 12 | AB12: 13 | AC12: 317 | AD12: 4 | AE12: 19 | AF12: 6 | AG12: 9 | AH12: 1299 | AI12: 2875 | AJ12: 1218 | AK12: 105 | AL12: 608 | AM12: 502 | AN12: 126 | AO12: 138 | AP12: 106 | AQ12: 72
A13: 高雄市 | C13: 18171 | D13: 2373 | E13: 95 | F13: 692 | G13: 978 | H13: 0 | I13: 8338 | J13: 183 | K13: 78 | L13: 27 | M13: 5301 | N13: 4 | O13: 102 | P13: 15389 | Q13: 7729 | R13: 2872 | S13: 965 | T13: 3823 | U13: 15389 | V13: 4996 | W13: 4412 | X13: 584 | Y13: 721 | Z13: 3778 | AA13: 28 | AB13: 30 | AC13: 623 | AD13: 15 | AE13: 21 | AF13: 5 | AG13: 9 | AH13: 3047 | AI13: 5894 | AJ13: 2895 | AK13: 246 | AL13: 1191 | AM13: 1091 | AN13: 209 | AO13: 77 | AP13: 91 | AQ13: 94
A14: 宜蘭縣 | C14: 2136 | D14: 260 | E14: 5 | F14: 45 | G14: 118 | H14: 0 | I14: 818 | J14: 3 | K14: 8 | L14: 13 | M14: 834 | N14: 1 | O14: 31 | P14: 1824 | Q14: 1077 | R14: 147 | S14: 132 | T14: 468 | U14: 1824 | V14: 800 | W14: 716 | X14: 84 | Y14: 97 | Z14: 247 | AA14: 7 | AB14: 2 | AC14: 41 | AD14: 2 | AE14: 4 | AF14: 0 | AG14: 1 | AH14: 190 | AI14: 680 | AJ14: 303 | AK14: 26 | AL14: 107 | AM14: 93 | AN14: 25 | AO14: 64 | AP14: 52 | AQ14: 10
A15: 新竹縣 | C15: 2735 | D15: 434 | E15: 10 | F15: 87 | G15: 138 | H15: 0 | I15: 1223 | J15: 4 | K15: 1 | L15: 12 | M15: 794 | N15: 1 | O15: 31 | P15: 2342 | Q15: 1434 | R15: 267 | S15: 141 | T15: 500 | U15: 2342 | V15: 1029 | W15: 912 | X15: 117 | Y15: 117 | Z15: 409 | AA15: 4 | AB15: 0 | AC15: 86 | AD15: 3 | AE15: 2 | AF15: 2 | AG15: 1 | AH15: 311 | AI15: 787 | AJ15: 324 | AK15: 24 | AL15: 171 | AM15: 90 | AN15: 32 | AO15: 72 | AP15: 52 | AQ15: 22
A16: 苗栗縣 | C16: 2917 | D16: 412 | E16: 7 | F16: 65 | G16: 113 | H16: 0 | I16: 1400 | J16: 1 | K16: 2 | L16: 5 | M16: 897 | N16: 0 | O16: 15 | P16: 2515 | Q16: 1363 | R16: 278 | S16: 172 | T16: 702 | U16: 2515 | V16: 969 | W16: 857 | X16: 112 | Y16: 100 | Z16: 468 | AA16: 7 | AB16: 5 | AC16: 70 | AD16: 3 | AE16: 5 | AF16: 7 | AG16: 2 | AH16: 369 | AI16: 978 | AJ16: 427 | AK16: 32 | AL16: 156 | AM16: 125 | AN16: 35 | AO16: 101 | AP16: 75 | AQ16: 27
A17: 彰化縣 | C17: 6471 | D17: 844 | E17: 20 | F17: 174 | G17: 298 | H17: 0 | I17: 3406 | J17: 16 | K17: 23 | L17: 12 | M17: 1620 | N17: 3 | O17: 55 | P17: 5717 | Q17: 3081 | R17: 721 | S17: 440 | T17: 1475 | U17: 5717 | V17: 2249 | W17: 1982 | X17: 267 | Y17: 283 | Z17: 1110 | AA17: 19 | AB17: 8 | AC17: 170 | AD17: 8 | AE17: 14 | AF17: 3 | AG17: 4 | AH17: 884 | AI17: 2075 | AJ17: 956 | AK17: 108 | AL17: 297 | AM17: 248 | AN17: 90 | AO17: 204 | AP17: 126 | AQ17: 46
A18: 南投縣 | C18: 2667 | D18: 354 | E18: 10 | F18: 45 | G18: 91 | H18: 0 | I18: 1420 | J18: 2 | K18: 0 | L18: 5 | M18: 723 | N18: 1 | O18: 16 | P18: 2302 | Q18: 1390 | R18: 183 | S18: 172 | T18: 557 | U18: 2302 | V18: 968 | W18: 866 | X18: 102 | Y18: 123 | Z18: 324 | AA18: 6 | AB18: 1 | AC18: 76 | AD18: 2 | AE18: 2 | AF18: 4 | AG18: 3 | AH18: 230 | AI18: 887 | AJ18: 381 | AK18: 33 | AL18: 193 | AM18: 104 | AN18: 38 | AO18: 66 | AP18: 63 | AQ18: 9
... A29: 連江縣 | C29: 26 | D29: 3 | E29: 0 | F29: 3 | G29: 0 | H29: 0 | I29: 13 | J29: 1 | K29: 0 | L29: 0 | M29: 6 | N29: 0 | O29: 0 | P29: 22 | Q29: 13 | R29: 4 | S29: 0 | T29: 5 | U29: 22 | V29: 12 | W29: 9 | X29: 3 | Y29: 0 | Z29: 5 | AA29: 0 | AB29: 0 | AC29: 0 | AD29: 0 | AE29: 0 | AF29: 0 | AG29: 0 | AH29: 5 | AI29: 5 | AJ29: 3 | AK29: 0 | AL29: 0 | AM29: 1 | AN29: 1 | AO29: 0 | AP29: 0 | AQ29: 0

Sheet 104
A1: 5.1-01 家庭暴力事件通報案件統計
A3: 區域別 | C3: 通報件次(複選) | P3: 通報件數
C4: 合計 | D4: 通報單位別 | P4: 案件類型別 | U4: 被害及加害者兩造關係別
D5: 113 | E5: 防治中心 | F5: 教育 | G5: 社政 | H5: 勞政 | I5: 警政 | J5: 司法 | K5: 衛生 | L5: 診所 | M5: 醫院 | N5: 移民業務機關 | O5: 其他 | P5: 合計 | Q5: 婚姻、離婚或同居關係暴力 | R5: 兒少 保護 | S5: 老人 虐待 | T5: 其他 | U5: 合計 | V5: 配偶 | Y5: 前配偶 (離婚) | Z5: 曾同住之其他家庭成員 | AI5: 現同住之其他家庭成員
V6: 小計 | W6: 共同 生活 | X6: 分居 | Z6: 小計 | AA6: 直系 血親 | AB6: 直系 姻親 | AC6: 同居 關係 | AD6: 四等親 內旁系 血親 | AE6: 四等親 內旁系 姻親 | AF6: 家屬間 | AG6: 家長 家屬 | AH6: 其他 | AI6: 小計 | AJ6: 直系 血親 | AK6: 直系 姻親 | AL6: 同居 關係 | AM6: 四等親 內旁系 血親 | AN6: 四等親 內旁系 姻親 | AO6: 家屬間 | AP6: 家長 家屬 | AQ6: 其他
A7: 104年 2015 | C7: 135983 | D7: 19104 | E7: 732 | F7: 6050 | G7: 5772 | H7: 1 | I7: 62303 | J7: 463 | K7: 202 | L7: 240 | M7: 37167 | N7: 57 | O7: 3892 | P7: 116742 | Q7: 61947 | R7: 21360 | S7: 5971 | T7: 27464 | U7: 116742 | V7: 42084 | W7: 37613 | X7: 4471 | Y7: 5169 | Z7: 29435 | AA7: 350 | AB7: 128 | AC7: 3757 | AD7: 138 | AE7: 172 | AF7: 144 | AG7: 102 | AH7: 24644 | AI7: 40054 | AJ7: 17499 | AK7: 1211 | AL7: 8092 | AM7: 4674 | AN7: 1124 | AO7: 3579 | AP7: 2770 | AQ7: 1105
A8: 新北市 | C8: 23786 | D8: 3933 | E8: 210 | F8: 1123 | G8: 660 | H8: 0 | I8: 10522 | J8: 24 | K8: 15 | L8: 29 | M8: 6551 | N8: 4 | O8: 715 | P8: 20543 | Q8: 11111 | R8: 3806 | S8: 825 | T8: 4801 | U8: 20543 | V8: 7478 | W8: 6760 | X8: 718 | Y8: 898 | Z8: 5358 | AA8: 67 | AB8: 22 | AC8: 631 | AD8: 15 | AE8: 22 | AF8: 25 | AG8: 22 | AH8: 4554 | AI8: 6809 | AJ8: 2870 | AK8: 184 | AL8: 1404 | AM8: 729 | AN8: 149 | AO8: 683 | AP8: 525 | AQ8: 265
A9: 臺北市 | C9: 14012 | D9: 1819 | E9: 38 | F9: 512 | G9: 400 | H9: 1 | I9: 6731 | J9: 12 | K9: 9 | L9: 10 | M9: 3821 | N9: 2 | O9: 657 | P9: 11860 | Q9: 6198 | R9: 1907 | S9: 612 | T9: 3143 | U9: 11860 | V9: 4274 | W9: 3862 | X9: 412 | Y9: 422 | Z9: 2783 | AA9: 36 | AB9: 14 | AC9: 374 | AD9: 21 | AE9: 14 | AF9: 19 | AG9: 11 | AH9: 2294 | AI9: 4381 | AJ9: 1921 | AK9: 88 | AL9: 790 | AM9: 461 | AN9: 98 | AO9: 522 | AP9: 388 | AQ9: 113
A10: 桃園市 | C10: 12181 | D10: 2033 | E10: 120 | F10: 817 | G10: 660 | H10: 0 | I10: 4815 | J10: 34 | K10: 21 | L10: 15 | M10: 3246 | N10: 8 | O10: 412 | P10: 10614 | Q10: 5695 | R10: 2466 | S10: 452 | T10: 2001 | U10: 10614 | V10: 3828 | W10: 3389 | X10: 439 | Y10: 522 | Z10: 3176 | AA10: 28 | AB10: 6 | AC10: 340 | AD10: 6 | AE10: 18 | AF10: 16 | AG10: 5 | AH10: 2757 | AI10: 3088 | AJ10: 1335 | AK10: 98 | AL10: 770 | AM10: 278 | AN10: 72 | AO10: 254 | AP10: 213 | AQ10: 68
A11: 臺中市 | C11: 19529 | D11: 2400 | E11: 88 | F11: 823 | G11: 840 | H11: 0 | I11: 10234 | J11: 118 | K11: 10 | L11: 40 | M11: 4508 | N11: 2 | O11: 466 | P11: 16682 | Q11: 8880 | R11: 3134 | S11: 743 | T11: 3925 | U11: 16682 | V11: 5952 | W11: 5275 | X11: 677 | Y11: 754 | Z11: 4268 | AA11: 43 | AB11: 22 | AC11: 601 | AD11: 14 | AE11: 22 | AF11: 15 | AG11: 9 | AH11: 3542 | AI11: 5708 | AJ11: 2537 | AK11: 177 | AL11: 1199 | AM11: 746 | AN11: 183 | AO11: 460 | AP11: 262 | AQ11: 144
A12: 臺南市 | C12: 8651 | D12: 1156 | E12: 69 | F12: 406 | G12: 365 | H12: 0 | I12: 3917 | J12: 20 | K12: 15 | L12: 9 | M12: 2434 | N12: 1 | O12: 259 | P12: 7381 | Q12: 3763 | R12: 1431 | S12: 408 | T12: 1779 | U12: 7381 | V12: 2468 | W12: 2181 | X12: 287 | Y12: 307 | Z12: 1989 | AA12: 18 | AB12: 8 | AC12: 263 | AD12: 14 | AE12: 20 | AF12: 3 | AG12: 15 | AH12: 1648 | AI12: 2617 | AJ12: 1106 | AK12: 69 | AL12: 512 | AM12: 362 | AN12: 90 | AO12: 203 | AP12: 176 | AQ12: 99
A13: 高雄市 | C13: 16919 | D13: 2290 | E13: 92 | F13: 760 | G13: 979 | H13: 0 | I13: 6926 | J13: 178 | K13: 59 | L13: 48 | M13: 5303 | N13: 11 | O13: 273 | P13: 14066 | Q13: 7081 | R13: 2993 | S13: 811 | T13: 3181 | U13: 14066 | V13: 4631 | W13: 4164 | X13: 467 | Y13: 667 | Z13: 3815 | AA13: 33 | AB13: 13 | AC13: 507 | AD13: 12 | AE13: 14 | AF13: 8 | AG13: 5 | AH13: 3223 | AI13: 4953 | AJ13: 2379 | AK13: 171 | AL13: 1033 | AM13: 854 | AN13: 135 | AO13: 159 | AP13: 118 | AQ13: 104
A14: 宜蘭縣 | C14: 2434 | D14: 325 | E14: 9 | F14: 127 | G14: 138 | H14: 0 | I14: 782 | J14: 5 | K14: 8 | L14: 12 | M14: 926 | N14: 0 | O14: 102 | P14: 2122 | Q14: 1103 | R14: 346 | S14: 152 | T14: 521 | U14: 2122 | V14: 816 | W14: 738 | X14: 78 | Y14: 93 | Z14: 463 | AA14: 10 | AB14: 6 | AC14: 37 | AD14: 4 | AE14: 2 | AF14: 2 | AG14: 1 | AH14: 401 | AI14: 750 | AJ14: 324 | AK14: 29 | AL14: 112 | AM14: 124 | AN14: 32 | AO14: 54 | AP14: 51 | AQ14: 24
A15: 新竹縣 | C15: 2730 | D15: 484 | E15: 10 | F15: 126 | G15: 120 | H15: 0 | I15: 1120 | J15: 4 | K15: 0 | L15: 8 | M15: 756 | N15: 3 | O15: 99 | P15: 2391 | Q15: 1325 | R15: 454 | S15: 103 | T15: 509 | U15: 2391 | V15: 968 | W15: 872 | X15: 96 | Y15: 95 | Z15: 582 | AA15: 9 | AB15: 2 | AC15: 50 | AD15: 4 | AE15: 1 | AF15: 3 | AG15: 0 | AH15: 513 | AI15: 746 | AJ15: 293 | AK15: 28 | AL15: 166 | AM15: 83 | AN15: 24 | AO15: 81 | AP15: 52 | AQ15: 19
A16: 苗栗縣 | C16: 2844 | D16: 454 | E16: 4 | F16: 90 | G16: 114 | H16: 0 | I16: 1221 | J16: 4 | K16: 6 | L16: 3 | M16: 860 | N16: 5 | O16: 83 | P16: 2476 | Q16: 1315 | R16: 392 | S16: 151 | T16: 618 | U16: 2476 | V16: 941 | W16: 847 | X16: 94 | Y16: 112 | Z16: 560 | AA16: 6 | AB16: 1 | AC16: 82 | AD16: 5 | AE16: 6 | AF16: 5 | AG16: 1 | AH16: 454 | AI16: 863 | AJ16: 396 | AK16: 18 | AL16: 149 | AM16: 97 | AN16: 35 | AO16: 86 | AP16: 64 | AQ16: 18
A17: 彰化縣 | C17: 6801 | D17: 819 | E17: 19 | F17: 210 | G17: 297 | H17: 0 | I17: 3523 | J17: 25 | K17: 11 | L17: 14 | M17: 1692 | N17: 7 | O17: 184 | P17: 5944 | Q17: 3217 | R17: 847 | S17: 376 | T17: 1504 | U17: 5944 | V17: 2361 | W17: 2100 | X17: 261 | Y17: 299 | Z17: 1216 | AA17: 18 | AB17: 12 | AC17: 141 | AD17: 4 | AE17: 10 | AF17: 7 | AG17: 11 | AH17: 1013 | AI17: 2068 | AJ17: 954 | AK17: 97 | AL17: 297 | AM17: 200 | AN17: 69 | AO17: 231 | AP17: 184 | AQ17: 36
A18: 南投縣 | C18: 2854 | D18: 410 | E18: 10 | F18: 82 | G18: 127 | H18: 0 | I18: 1338 | J18: 3 | K18: 9 | L18: 7 | M18: 798 | N18: 1 | O18: 69 | P18: 2457 | Q18: 1389 | R18: 388 | S18: 140 | T18: 540 | U18: 2457 | V18: 1041 | W18: 934 | X18: 107 | Y18: 106 | Z18: 515 | AA18: 10 | AB18: 1 | AC18: 51 | AD18: 2 | AE18: 2 | AF18: 3 | AG18: 3 | AH18: 443 | AI18: 795 | AJ18: 325 | AK18: 27 | AL18: 165 | AM18: 81 | AN18: 25 | AO18: 77 | AP18: 81 | AQ18: 14
... A29: 連江縣 | C29: 24 | D29: 5 | E29: 0 | F29: 3 | G29: 0 | H29: 0 | I29: 11 | J29: 1 | K29: 0 | L29: 0 | M29: 4 | N29: 0 | O29: 0 | P29: 19 | Q29: 14 | R29: 3 | S29: 0 | T29: 2 | U29: 19 | V29: 11 | W29: 11 | X29: 0 | Y29: 0 | Z29: 4 | AA29: 0 | AB29: 0 | AC29: 1 | AD29: 0 | AE29: 0 | AF29: 0 | AG29: 0 | AH29: 3 | AI29: 4 | AJ29: 0 | AK29: 1 | AL29: 3 | AM29: 0 | AN29: 0 | AO29: 0 | AP29: 0 | AQ29: 0

Sheet 103
A1: 5.1-01 家庭暴力事件通報案件統計
A3: 區域別 | C3: 通報件次(複選) | P3: 通報件數
C4: 合計 | D4: 通報單位別 | P4: 案件類型別 | U4: 被害及加害者兩造關係別
D5: 113 | E5: 防治中心 | F5: 教育 | G5: 社政 | H5: 勞政 | I5: 警政 | J5: 司法 | K5: 衛生 | L5: 診所 | M5: 醫院 | N5: 移民業務機關 | O5: 其他 | P5: 合計 | Q5: 婚姻、離婚或同居關係暴力 | R5: 兒少 保護 | S5: 老人 虐待 | T5: 其他 | U5: 合計 | V5: 配偶 | Y5: 前配偶 (離婚) | Z5: 曾同住之其他家庭成員 | AI5: 現同住之其他家庭成員
V6: 小計 | W6: 共同 生活 | X6: 分居 | Z6: 小計 | AA6: 直系 血親 | AB6: 直系 姻親 | AC6: 同居 關係 | AD6: 四等親 內旁系 血親 | AE6: 四等親 內旁系 姻親 | AF6: 家屬間 | AG6: 家長 家屬 | AH6: 其他 | AI6: 小計 | AJ6: 直系 血親 | AK6: 直系 姻親 | AL6: 同居 關係 | AM6: 四等親 內旁系 血親 | AN6: 四等親 內旁系 姻親 | AO6: 家屬間 | AP6: 家長 家屬 | AQ6: 其他
A7: 103年 2014 | C7: 133716 | D7: 25821 | E7: 704 | F7: 5563 | G7: 5143 | H7: 3 | I7: 57267 | J7: 588 | K7: 238 | L7: 280 | M7: 36898 | N7: 49 | O7: 1162 | P7: 114609 | Q7: 60816 | R7: 22140 | S7: 3375 | T7: 28278 | U7: 114609 | V7: 42509 | W7: 38445 | X7: 4064 | Y7: 4948 | Z7: 28926 | AA7: 319 | AB7: 115 | AC7: 3047 | AD7: 87 | AE7: 105 | AF7: 104 | AG7: 107 | AH7: 25042 | AI7: 38226 | AJ7: 15747 | AK7: 1138 | AL7: 7793 | AM7: 4113 | AN7: 1095 | AO7: 3902 | AP7: 3454 | AQ7: 984
A8: 新北市 | C8: 22109 | D8: 5176 | E8: 133 | F8: 1020 | G8: 471 | I8: 8956 | J8: 50 | K8: 32 | L8: 31 | M8: 6088 | N8: 2 | O8: 150 | P8: 19173 | Q8: 10359 | R8: 3827 | S8: 368 | T8: 4619 | U8: 19173 | V8: 7356 | W8: 6723 | X8: 633 | Y8: 811 | Z8: 4956 | AA8: 58 | AB8: 13 | AC8: 458 | AD8: 9 | AE8: 10 | AF8: 19 | AG8: 21 | AH8: 4368 | AI8: 6050 | AJ8: 2584 | AK8: 156 | AL8: 1214 | AM8: 650 | AN8: 155 | AO8: 588 | AP8: 531 | AQ8: 172
A9: 臺北市 | C9: 14163 | D9: 2559 | E9: 61 | F9: 394 | G9: 573 | I9: 6340 | J9: 28 | K9: 10 | L9: 13 | M9: 3985 | N9: 6 | O9: 194 | P9: 11952 | Q9: 6142 | R9: 2017 | S9: 597 | T9: 3196 | U9: 11952 | V9: 4296 | W9: 3944 | X9: 352 | Y9: 464 | Z9: 2733 | AA9: 41 | AB9: 12 | AC9: 316 | AD9: 11 | AE9: 9 | AF9: 7 | AG9: 14 | AH9: 2323 | AI9: 4459 | AJ9: 1866 | AK9: 103 | AL9: 848 | AM9: 458 | AN9: 111 | AO9: 580 | AP9: 397 | AQ9: 96
A10: 臺中市 | C10: 19749 | D10: 3288 | E10: 85 | F10: 840 | G10: 768 | H10: 1 | I10: 9514 | J10: 163 | K10: 29 | L10: 60 | M10: 4846 | N10: 5 | O10: 150 | P10: 16648 | Q10: 8788 | R10: 3404 | S10: 457 | T10: 3999 | U10: 16648 | V10: 5999 | W10: 5418 | X10: 581 | Y10: 709 | Z10: 4510 | AA10: 38 | AB10: 13 | AC10: 517 | AD10: 11 | AE10: 24 | AF10: 13 | AG10: 12 | AH10: 3882 | AI10: 5430 | AJ10: 2116 | AK10: 162 | AL10: 1205 | AM10: 525 | AN10: 158 | AO10: 553 | AP10: 586 | AQ10: 125
A11: 臺南市 | C11: 8939 | D11: 1646 | E11: 59 | F11: 335 | G11: 321 | I11: 3900 | J11: 31 | K11: 21 | L11: 18 | M11: 2545 | N11: 6 | O11: 57 | P11: 7679 | Q11: 4004 | R11: 1483 | S11: 181 | T11: 2011 | U11: 7679 | V11: 2683 | W11: 2391 | X11: 292 | Y11: 330 | Z11: 1971 | AA11: 24 | AB11: 13 | AC11: 228 | AD11: 4 | AE11: 13 | AF11: 4 | AG11: 6 | AH11: 1679 | AI11: 2695 | AJ11: 1078 | AK11: 72 | AL11: 556 | AM11: 331 | AN11: 84 | AO11: 252 | AP11: 237 | AQ11: 85
A12: 高雄市 | C12: 16446 | D12: 2945 | E12: 118 | F12: 738 | G12: 823 | H12: 1 | I12: 6365 | J12: 108 | K12: 47 | L12: 43 | M12: 5134 | N12: 6 | O12: 118 | P12: 13625 | Q12: 6966 | R12: 3022 | S12: 629 | T12: 3008 | U12: 13625 | V12: 4664 | W12: 4223 | X12: 441 | Y12: 627 | Z12: 3786 | AA12: 34 | AB12: 11 | AC12: 386 | AD12: 11 | AE12: 15 | AF12: 7 | AG12: 9 | AH12: 3313 | AI12: 4548 | AJ12: 2039 | AK12: 173 | AL12: 1001 | AM12: 759 | AN12: 171 | AO12: 158 | AP12: 131 | AQ12: 116
A13: 宜蘭縣 | C13: 2277 | D13: 423 | E13: 15 | F13: 105 | G13: 129 | I13: 675 | J13: 3 | K13: 11 | L13: 7 | M13: 873 | N13: 3 | O13: 33 | P13: 2007 | Q13: 1023 | R13: 375 | S13: 54 | T13: 555 | U13: 2007 | V13: 767 | W13: 698 | X13: 69 | Y13: 67 | Z13: 482 | AA13: 11 | AB13: 2 | AC13: 34 | AD13: 4 | AE13: 6 | AF13: 2 | AG13: 3 | AH13: 420 | AI13: 691 | AJ13: 282 | AK13: 19 | AL13: 117 | AM13: 96 | AN13: 30 | AO13: 67 | AP13: 67 | AQ13: 13
A14: 桃園縣 | C14: 11600 | D14: 2651 | E14: 79 | F14: 635 | G14: 505 | H14: 1 | I14: 4302 | J14: 69 | K14: 14 | L14: 24 | M14: 3230 | N14: 5 | O14: 85 | P14: 10183 | Q14: 5596 | R14: 2289 | S14: 237 | T14: 2061 | U14: 10183 | V14: 3900 | W14: 3452 | X14: 448 | Y14: 470 | Z14: 2797 | AA14: 20 | AB14: 9 | AC14: 247 | AD14: 3 | AE14: 6 | AF14: 7 | AG14: 9 | AH14: 2496 | AI14: 3016 | AJ14: 1270 | AK14: 88 | AL14: 693 | AM14: 250 | AN14: 67 | AO14: 304 | AP14: 275 | AQ14: 69
A15: 新竹縣 | C15: 2957 | D15: 688 | E15: 9 | F15: 73 | G15: 107 | I15: 1256 | K15: 2 | L15: 10 | M15: 791 | N15: 1 | O15: 20 | P15: 2603 | Q15: 1460 | R15: 486 | S15: 46 | T15: 611 | U15: 2603 | V15: 1049 | W15: 961 | X15: 88 | Y15: 129 | Z15: 620 | AA15: 12 | AB15: 1 | AC15: 64 | AD15: 1 | AE15: 2 | AF15: 2 | AG15: 1 | AH15: 537 | AI15: 805 | AJ15: 273 | AK15: 37 | AL15: 170 | AM15: 102 | AN15: 27 | AO15: 94 | AP15: 77 | AQ15: 25
A16: 苗栗縣 | C16: 3012 | D16: 647 | E16: 9 | F16: 100 | G16: 129 | I16: 1227 | J16: 5 | K16: 3 | L16: 7 | M16: 870 | N16: 1 | O16: 14 | P16: 2639 | Q16: 1412 | R16: 428 | S16: 68 | T16: 731 | U16: 2639 | V16: 1050 | W16: 958 | X16: 92 | Y16: 103 | Z16: 598 | AA16: 9 | AB16: 1 | AC16: 71 | AD16: 4 | AE16: 3 | AF16: 4 | AG16: 1 | AH16: 505 | AI16: 888 | AJ16: 374 | AK16: 24 | AL16: 138 | AM16: 95 | AN16: 30 | AO16: 117 | AP16: 94 | AQ16: 16
A17: 彰化縣 | C17: 6540 | D17: 1134 | E17: 28 | F17: 236 | G17: 263 | I17: 3082 | J17: 47 | K17: 29 | L17: 12 | M17: 1599 | N17: 3 | O17: 107 | P17: 5708 | Q17: 3090 | R17: 889 | S17: 144 | T17: 1585 | U17: 5708 | V17: 2359 | W17: 2131 | X17: 228 | Y17: 235 | Z17: 1216 | AA17: 14 | AB17: 13 | AC17: 114 | AD17: 6 | AE17: 4 | AF17: 6 | AG17: 11 | AH17: 1048 | AI17: 1898 | AJ17: 782 | AK17: 74 | AL17: 281 | AM17: 178 | AN17: 77 | AO17: 240 | AP17: 240 | AQ17: 26
A18: 南投縣 | C18: 2671 | D18: 543 | E18: 15 | F18: 107 | G18: 93 | I18: 1183 | J18: 8 | K18: 4 | L18: 6 | M18: 690 | N18: 2 | O18: 20 | P18: 2327 | Q18: 1248 | R18: 494 | S18: 53 | T18: 532 | U18: 2327 | V18: 897 | W18: 806 | X18: 91 | Y18: 119 | Z18: 612 | AA18: 6 | AB18: 3 | AC18: 45 | AD18: 2 | AE18: 1 | AF18: 2 | AG18: 4 | AH18: 549 | AI18: 699 | AJ18: 274 | AK18: 22 | AL18: 161 | AM18: 56 | AN18: 16 | AO18: 83 | AP18: 80 | AQ18: 7
A19: 雲林縣 | C19: 5000 | D19: 753 | E19: 15 | F19: 150 | G19: 184 | I19: 2926 | J19: 14 | K19: 3 | L19: 4 | M19: 914 | N19: 1 | O19: 36 | P19: 4342 | Q19: 2315 | R19: 604 | S19: 99 | T19: 1324 | U19: 4342 | V19: 1684 | W19: 1527 | X19: 157 | Y19: 198 | Z19: 844 | AA19: 15 | AB19: 5 | AC19: 96 | AD19: 3 | AE19: 6 | AF19: 10 | AG19: 4 | AH19: 705 | AI19: 1616 | AJ19: 682 | AK19: 52 | AL19: 235 | AM19: 110 | AN19: 48 | AO19: 210 | AP19: 248 | AQ19: 31
A20: 嘉義縣 | C20: 2720 | D20: 420 | E20: 6 | F20: 71 | G20: 77 | I20: 1408 | J20: 3 | K20: 3 | L20: 1 | M20: 710 | N20: 1 | O20: 20 | P20: 2323 | Q20: 1201 | R20: 334 | S20: 59 | T20: 729 | U20: 2323 | V20: 870 | W20: 780 | X20: 90 | Y20: 89 | Z20: 456 | AA20: 6 | AB20: 3 | AC20: 58 | AE20: 1 | AF20: 2 | AG20: 1 | AH20: 385 | AI20: 908 | AJ20: 376 | AK20: 30 | AL20: 128 | AM20: 91 | AN20: 31 | AO20: 126 | AP20: 103 | AQ20: 23
A21: 屏東縣 | C21: 4515 | D21: 831 | E21: 21 | F21: 184 | G21: 190 | I21: 1850 | J21: 15 | K21: 4 | L21: 3 | M21: 1377 | N21: 1 | O21: 39 | P21: 3862 | Q21: 1948 | R21: 661 | S21: 146 | T21: 1107 | U21: 3862 | V21: 1414 | W21: 1257 | X21: 157 | Y21: 144 | Z21: 909 | AA21: 10 | AB21: 1 | AC21: 121 | AD21: 4 | AE21: 2 | AF21: 3 | AG21: 5 | AH21: 763 | AI21: 1395 | AJ21: 512 | AK21: 40 | AL21: 261 | AM21: 136 | AN21: 31 | AO21: 177 | AP21: 134 | AQ21: 104
A22: 臺東縣 | C22: 2006 | D22: 295 | E22: 8 | F22: 142 | G22: 95 | I22: 857 | J22: 6 | K22: 3 | L22: 22 | M22: 536 | O22: 42 | P22: 1758 | Q22: 931 | R22: 305 | S22: 66 | T22: 456 | U22: 1758 | V22: 591 | W22: 539 | X22: 52 | Y22: 83 | Z22: 399 | AA22: 2 | AB22: 1 | AC22: 39 | AD22: 1 | AE22: 1 | AF22: 5 | AG22: 1 | AH22: 349 | AI22: 685 | AJ22: 228 | AK22: 10 | AL22: 188 | AM22: 67 | AN22: 12 | AO22: 98 | AP22: 69 | AQ22: 13
A23: 花蓮縣 | C23: 2654 | D23: 572 | E23: 7 | F23: 134 | G23: 158 | I23: 900 | J23: 13 | K23: 13 | L23: 12 | M23: 809 | N23: 4 | O23: 32 | P23: 2317 | Q23: 1286 | R23: 446 | S23: 40 | T23: 545 | U23: 2317 | V23: 862 | W23: 775 | X23: 87 | Y23: 99 | Z23: 601 | AA23: 5 | AB23: 5 | AC23: 81 | AD23: 5 | AE23: 2 | AF23: 2 | AG23: 2 | AH23: 499 | AI23: 755 | AJ23: 271 | AK23: 17 | AL23: 216 | AM23: 66 | AN23: 12 | AO23: 93 | AP23: 67 | AQ23: 13
A24: 澎湖縣 | C24: 291 | D24: 40 | E24: 1 | F24: 8 | G24: 3 | I24: 147 | J24: 1 | K24: 2 | M24: 88 | O24: 1 | P24: 237 | Q24: 149 | R24: 28 | S24: 4 | T24: 56 | U24: 237 | V24: 115 | W24: 105 | X24: 10 | Y24: 15 | Z24: 37 | AC24: 6 | AF24: 1 | AH24: 30 | AI24: 70 | AJ24: 30 | AK24: 4 | AL24: 11 | AM24: 8 | AO24: 12 | AP24: 4 | AQ24: 1
A25: 基隆市 | C25: 2259 | D25: 449 | E25: 19 | F25: 120 | G25: 82 | I25: 878 | J25: 9 | L25: 6 | M25: 671 | N25: 2 | O25: 23 | P25: 1936 | Q25: 1025 | R25: 431 | S25: 51 | T25: 429 | U25: 1936 | V25: 698 | W25: 636 | X25: 62 | Y25: 100 | Z25: 534 | AA25: 3 | AB25: 2 | AC25: 48 | AD25: 3 | AF25: 3 | AG25: 1 | AH25: 474 | AI25: 604 | AJ25: 268 | AK25: 23 | AL25: 126 | AM25: 57 | AN25: 9 | AO25: 52 | AP25: 41 | AQ25: 28
A26: 新竹市 | C26: 1945 | D26: 405 | E26: 9 | F26: 106 | G26: 69 | I26: 728 | J26: 7 | K26: 2 | L26: 1 | M26: 609 | O26: 9 | P26: 1679 | Q26: 974 | R26: 310 | S26: 34 | T26: 361 | U26: 1679 | V26: 674 | W26: 606 | X26: 68 | Y26: 73 | Z26: 445 | AA26: 5 | AB26: 2 | AC26: 62 | AD26: 3 | AF26: 4 | AG26: 1 | AH26: 368 | AI26: 487 | AJ26: 226 | AK26: 19 | AL26: 115 | AM26: 30 | AN26: 10 | AO26: 44 | AP26: 35 | AQ26: 8
A27: 嘉義市 | C27: 1622 | D27: 311 | E27: 4 | F27: 54 | G27: 96 | I27: 691 | J27: 7 | K27: 6 | M27: 442 | O27: 11 | P27: 1403 | Q27: 788 | R27: 262 | S27: 35 | T27: 318 | U27: 1403 | V27: 497 | W27: 434 | X27: 63 | Y27: 76 | Z27: 367 | AA27: 6 | AB27: 5 | AC27: 54 | AD27: 2 | AF27: 1 | AG27: 1 | AH27: 298 | AI27: 463 | AJ27: 192 | AK27: 9 | AL27: 115 | AM27: 42 | AN27: 11 | AO27: 47 | AP27: 34 | AQ27: 13
A28: 金門縣 | C28: 229 | D28: 43 | E28: 2 | F28: 10 | G28: 7 | I28: 79 | J28: 1 | M28: 87 | P28: 197 | Q28: 103 | R28: 42 | S28: 7 | T28: 45 | U28: 197 | V28: 78 | W28: 76 | X28: 2 | Y28: 7 | Z28: 49 | AC28: 2 | AH28: 47 | AI28: 63 | AJ28: 24 | AK28: 4 | AL28: 13 | AM28: 6 | AN28: 5 | AO28: 7 | AP28: 4
A29: 連江縣 | C29: 12 | D29: 2 | E29: 1 | F29: 1 | I29: 3 | M29: 4 | O29: 1 | P29: 11 | Q29: 8 | R29: 3 | U29: 11 | V29: 6 | W29: 5 | X29: 1 | Z29: 4 | AH29: 4 | AI29: 1 | AL29: 1

Sheet 102
A1: 5.1-01 家庭暴力事件通報案件統計
A3: 區域別 | C3: 通報件次(複選) | P3: 通報件數
C4: 合計 | D4: 通報單位別 | P4: 案件類型別 | U4: 被害及加害者兩造關係別
D5: 113 | E5: 防治中心 | F5: 教育 | G5: 社政 | H5: 勞政 | I5: 警政 | J5: 司法 | K5: 衛生 | L5: 診所 | M5: 醫院 | N5: 移民業務機關 | O5: 其他 | P5: 合計 | Q5: 婚姻、離婚或同居關係暴力 | R5: 兒少 保護 | S5: 老人 虐待 | T5: 其他 | U5: 合計 | V5: 配偶 | Y5: 前配偶 (離婚) | Z5: 曾同住之其他家庭成員 | AI5: 現同住之其他家庭成員
V6: 小計 | W6: 共同 生活 | X6: 分居 | Z6: 小計 | AA6: 直系 血親 | AB6: 直系 姻親 | AC6: 同居 關係 | AD6: 四等親 內旁系 血親 | AE6: 四等親 內旁系 姻親 | AF6: 家屬間 | AG6: 家長 家屬 | AH6: 其他 | AI6: 小計 | AJ6: 直系 血親 | AK6: 直系 姻親 | AL6: 同居 關係 | AM6: 四等親 內旁系 血親 | AN6: 四等親 內旁系 姻親 | AO6: 家屬間 | AP6: 家長 家屬 | AQ6: 其他
A7: 102年 2013 | C7: 152680 | D7: 30196 | E7: 719 | F7: 12989 | G7: 5704 | H7: 6 | I7: 58658 | J7: 1899 | K7: 204 | L7: 278 | M7: 40132 | N7: 65 | O7: 1830 | P7: 130829 | Q7: 60916 | R7: 40597 | S7: 3624 | T7: 25692 | U7: 130829 | V7: 43782 | W7: 39315 | X7: 4467 | Y7: 4037 | Z7: 48246 | AA7: 243 | AB7: 100 | AC7: 2572 | AD7: 105 | AE7: 129 | AF7: 81 | AG7: 88 | AH7: 44928 | AI7: 34764 | AJ7: 13750 | AK7: 1074 | AL7: 7588 | AM7: 4113 | AN7: 1171 | AO7: 2972 | AP7: 3234 | AQ7: 862
A8: 新北市 | C8: 24344 | D8: 6314 | E8: 76 | F8: 2333 | G8: 526 | H8: 0 | I8: 7770 | J8: 265 | K8: 23 | L8: 46 | M8: 6718 | N8: 1 | O8: 272 | P8: 20926 | Q8: 10002 | R8: 6697 | S8: 565 | T8: 3662 | U8: 20926 | V8: 7315 | W8: 6573 | X8: 742 | Y8: 654 | Z8: 7622 | AA8: 12 | AB8: 16 | AC8: 370 | AD8: 9 | AE8: 8 | AF8: 7 | AG8: 11 | AH8: 7189 | AI8: 5335 | AJ8: 2273 | AK8: 170 | AL8: 1181 | AM8: 810 | AN8: 145 | AO8: 269 | AP8: 322 | AQ8: 165
A9: 臺北市 | C9: 15489 | D9: 2871 | E9: 51 | F9: 765 | G9: 490 | H9: 0 | I9: 6607 | J9: 122 | K9: 12 | L9: 9 | M9: 4371 | N9: 5 | O9: 186 | P9: 12796 | Q9: 5871 | R9: 3178 | S9: 523 | T9: 3224 | U9: 12796 | V9: 4370 | W9: 4018 | X9: 352 | Y9: 342 | Z9: 4000 | AA9: 42 | AB9: 12 | AC9: 273 | AD9: 12 | AE9: 8 | AF9: 4 | AG9: 6 | AH9: 3643 | AI9: 4084 | AJ9: 1663 | AK9: 97 | AL9: 740 | AM9: 524 | AN9: 132 | AO9: 406 | AP9: 453 | AQ9: 69
A10: 臺中市 | C10: 21734 | D10: 3700 | E10: 68 | F10: 1991 | G10: 906 | H10: 1 | I10: 9184 | J10: 346 | K10: 16 | L10: 40 | M10: 5203 | N10: 5 | O10: 274 | P10: 18732 | Q10: 8741 | R10: 5829 | S10: 477 | T10: 3685 | U10: 18732 | V10: 6129 | W10: 5517 | X10: 612 | Y10: 507 | Z10: 7240 | AA10: 28 | AB10: 13 | AC10: 398 | AD10: 9 | AE10: 15 | AF10: 15 | AG10: 13 | AH10: 6749 | AI10: 4856 | AJ10: 1860 | AK10: 129 | AL10: 1091 | AM10: 447 | AN10: 174 | AO10: 475 | AP10: 609 | AQ10: 71
A11: 臺南市 | C11: 9793 | D11: 1953 | E11: 111 | F11: 743 | G11: 366 | H11: 0 | I11: 3756 | J11: 142 | K11: 18 | L11: 13 | M11: 2556 | N11: 13 | O11: 122 | P11: 8396 | Q11: 3936 | R11: 2473 | S11: 166 | T11: 1821 | U11: 8396 | V11: 2779 | W11: 2474 | X11: 305 | Y11: 273 | Z11: 3067 | AA11: 16 | AB11: 11 | AC11: 176 | AD11: 10 | AE11: 7 | AF11: 5 | AG11: 8 | AH11: 2834 | AI11: 2277 | AJ11: 861 | AK11: 71 | AL11: 489 | AM11: 272 | AN11: 87 | AO11: 217 | AP11: 218 | AQ11: 62
A12: 高雄市 | C12: 18961 | D12: 3546 | E12: 173 | F12: 1448 | G12: 860 | H12: 0 | I12: 7044 | J12: 152 | K12: 66 | L12: 51 | M12: 5440 | N12: 7 | O12: 174 | P12: 15782 | Q12: 7009 | R12: 5057 | S12: 634 | T12: 3082 | U12: 15782 | V12: 4900 | W12: 4417 | X12: 483 | Y12: 538 | Z12: 5765 | AA12: 18 | AB12: 19 | AC12: 353 | AD12: 11 | AE12: 26 | AF12: 6 | AG12: 5 | AH12: 5327 | AI12: 4579 | AJ12: 1995 | AK12: 158 | AL12: 1042 | AM12: 737 | AN12: 182 | AO12: 189 | AP12: 193 | AQ12: 83
A13: 宜蘭縣 | C13: 2936 | D13: 492 | E13: 10 | F13: 330 | G13: 171 | H13: 0 | I13: 876 | J13: 45 | K13: 6 | L13: 10 | M13: 937 | N13: 3 | O13: 56 | P13: 2475 | Q13: 1042 | R13: 872 | S13: 59 | T13: 502 | U13: 2475 | V13: 762 | W13: 677 | X13: 85 | Y13: 92 | Z13: 991 | AA13: 10 | AB13: 5 | AC13: 30 | AD13: 5 | AE13: 1 | AF13: 3 | AG13: 1 | AH13: 936 | AI13: 630 | AJ13: 237 | AK13: 23 | AL13: 113 | AM13: 108 | AN13: 24 | AO13: 54 | AP13: 53 | AQ13: 18
A14: 桃園縣 | C14: 14578 | D14: 3152 | E14: 81 | F14: 1463 | G14: 588 | H14: 1 | I14: 4947 | J14: 225 | K14: 13 | L14: 11 | M14: 3908 | N14: 4 | O14: 185 | P14: 12601 | Q14: 5477 | R14: 4975 | S14: 289 | T14: 1860 | U14: 12601 | V14: 4064 | W14: 3595 | X14: 469 | Y14: 410 | Z14: 5558 | AA14: 22 | AB14: 5 | AC14: 220 | AD14: 9 | AE14: 20 | AF14: 8 | AG14: 15 | AH14: 5259 | AI14: 2569 | AJ14: 996 | AK14: 89 | AL14: 655 | AM14: 243 | AN14: 71 | AO14: 211 | AP14: 264 | AQ14: 40
A15: 新竹縣 | C15: 3322 | D15: 702 | E15: 2 | F15: 265 | G15: 112 | H15: 0 | I15: 1329 | J15: 22 | K15: 0 | L15: 6 | M15: 842 | N15: 5 | O15: 37 | P15: 2910 | Q15: 1395 | R15: 912 | S15: 73 | T15: 530 | U15: 2910 | V15: 1051 | W15: 932 | X15: 119 | Y15: 97 | Z15: 1069 | AA15: 12 | AB15: 0 | AC15: 49 | AD15: 1 | AE15: 3 | AF15: 1 | AG15: 1 | AH15: 1002 | AI15: 693 | AJ15: 264 | AK15: 20 | AL15: 144 | AM15: 70 | AN15: 21 | AO15: 79 | AP15: 76 | AQ15: 19
A16: 苗栗縣 | C16: 3597 | D16: 736 | E16: 11 | F16: 262 | G16: 122 | H16: 1 | I16: 1419 | J16: 36 | K16: 4 | L16: 2 | M16: 978 | N16: 1 | O16: 25 | P16: 3206 | Q16: 1487 | R16: 889 | S16: 83 | T16: 747 | U16: 3206 | V16: 1051 | W16: 935 | X16: 116 | Y16: 97 | Z16: 1174 | AA16: 7 | AB16: 2 | AC16: 49 | AD16: 3 | AE16: 9 | AF16: 2 | AG16: 1 | AH16: 1101 | AI16: 884 | AJ16: 365 | AK16: 25 | AL16: 124 | AM16: 131 | AN16: 38 | AO16: 105 | AP16: 87 | AQ16: 9
A17: 彰化縣 | C17: 7875 | D17: 1293 | E17: 47 | F17: 666 | G17: 371 | H17: 0 | I17: 3442 | J17: 185 | K17: 11 | L17: 19 | M17: 1728 | N17: 4 | O17: 109 | P17: 6803 | Q17: 3193 | R17: 1925 | S17: 152 | T17: 1533 | U17: 6803 | V17: 2454 | W17: 2206 | X17: 248 | Y17: 183 | Z17: 2363 | AA17: 15 | AB17: 6 | AC17: 91 | AD17: 10 | AE17: 3 | AF17: 4 | AG17: 1 | AH17: 2233 | AI17: 1803 | AJ17: 759 | AK17: 61 | AL17: 312 | AM17: 167 | AN17: 76 | AO17: 205 | AP17: 195 | AQ17: 28
A18: 南投縣 | C18: 3043 | D18: 668 | E18: 6 | F18: 245 | G18: 84 | H18: 0 | I18: 1230 | J18: 28 | K18: 4 | L18: 12 | M18: 711 | N18: 0 | O18: 55 | P18: 2645 | Q18: 1250 | R18: 860 | S18: 50 | T18: 485 | U18: 2645 | V18: 933 | W18: 830 | X18: 103 | Y18: 82 | Z18: 997 | AA18: 1 | AB18: 2 | AC18: 50 | AD18: 1 | AE18: 3 | AF18: 2 | AG18: 1 | AH18: 937 | AI18: 633 | AJ18: 222 | AK18: 20 | AL18: 134 | AM18: 68 | AN18: 14 | AO18: 83 | AP18: 87 | AQ18: 5
... A29: 連江縣 | C29: 27 | D29: 6 | E29: 0 | F29: 6 | G29: 2 | H29: 0 | I29: 5 | J29: 3 | K29: 0 | L29: 0 | M29: 3 | N29: 1 | O29: 1 | P29: 27 | Q29: 11 | R29: 12 | S29: 1 | T29: 3 | U29: 27 | V29: 10 | W29: 10 | X29: 0 | Y29: 0 | Z29: 14 | AA29: 0 | AB29: 0 | AC29: 0 | AD29: 0 | AE29: 0 | AF29: 0 | AG29: 0 | AH29: 14 | AI29: 3 | AJ29: 0 | AK29: 0 | AL29: 0 | AM29: 0 | AN29: 1 | AO29: 1 | AP29: 1 | AQ29: 0

Sheet 101
A1: 5.1-01 家庭暴力事件通報案件統計
A3: 區域別 | C3: 通報件次(複選) | O3: 通報件數
C4: 合計 | D4: 通報單位別 | O4: 案件類型別 | T4: 被害及加害者兩造關係別
D5: 113 | E5: 防治中心 | F5: 教育 | G5: 社政 | H5: 勞政 | I5: 警政 | J5: 司法 | K5: 衛生 | L5: 診所 | M5: 醫院 | N5: 其他 | O5: 合計 | P5: 婚姻、離婚或同居關係暴力 | Q5: 兒少 保護 | R5: 老人 虐待 | S5: 其他 | T5: 合計 | U5: 配偶 | X5: 前配偶 (離婚) | Y5: 曾同住之其他家庭成員 | AH5: 現同住之其他家庭成員
U6: 小計 | V6: 共同 生活 | W6: 分居 | Y6: 小計 | Z6: 直系 血親 | AA6: 直系 姻親 | AB6: 同居 關係 | AC6: 四等親 內旁系 血親 | AD6: 四等親 內旁系 姻親 | AE6: 家屬間 | AF6: 家長 家屬 | AG6: 其他 | AH6: 小計 | AI6: 直系 血親 | AJ6: 直系 姻親 | AK6: 同居 關係 | AL6: 四等親 內旁系 血親 | AM6: 四等親 內旁系 姻親 | AN6: 家屬間 | AO6: 家長 家屬 | AP6: 其他
A7: 101年 2012 | C7: 134250 | D7: 24243 | E7: 561 | F7: 9459 | G7: 5257 | H7: 6 | I7: 52711 | J7: 879 | K7: 606 | L7: 218 | M7: 38603 | N7: 1707 | O7: 115203 | P7: 61309 | Q7: 31353 | R7: 3625 | S7: 18916 | T7: 115203 | U7: 41725 | V7: 37690 | W7: 4035 | X7: 3761 | Y7: 38649 | Z7: 169 | AA7: 83 | AB7: 2250 | AC7: 89 | AD7: 111 | AE7: 94 | AF7: 109 | AG7: 35744 | AH7: 31068 | AI7: 12165 | AJ7: 934 | AK7: 7142 | AL7: 3427 | AM7: 916 | AN7: 2438 | AO7: 3115 | AP7: 931
A8: 新北市 | C8: 21633 | D8: 5227 | E8: 12 | F8: 1532 | G8: 400 | H8: 0 | I8: 6907 | J8: 96 | K8: 66 | L8: 29 | M8: 7137 | N8: 227 | O8: 18123 | P8: 9507 | Q8: 4799 | R8: 584 | S8: 3233 | T8: 18123 | U8: 7084 | V8: 6443 | W8: 641 | X8: 627 | Y8: 5486 | Z8: 14 | AA8: 8 | AB8: 347 | AC8: 7 | AD8: 10 | AE8: 11 | AF8: 16 | AG8: 5073 | AH8: 4926 | AI8: 2250 | AJ8: 179 | AK8: 1082 | AL8: 782 | AM8: 151 | AN8: 163 | AO8: 164 | AP8: 155
A9: 臺北市 | C9: 14801 | D9: 2276 | E9: 49 | F9: 883 | G9: 540 | H9: 0 | I9: 6371 | J9: 45 | K9: 52 | L9: 11 | M9: 4393 | N9: 181 | O9: 12317 | P9: 6339 | Q9: 2918 | R9: 441 | S9: 2619 | T9: 12317 | U9: 4213 | V9: 3856 | W9: 357 | X9: 342 | Y9: 3834 | Z9: 22 | AA9: 5 | AB9: 193 | AC9: 15 | AD9: 8 | AE9: 9 | AF9: 8 | AG9: 3574 | AH9: 3928 | AI9: 1507 | AJ9: 101 | AK9: 750 | AL9: 457 | AM9: 122 | AN9: 394 | AO9: 488 | AP9: 109
A10: 臺中市 | C10: 17542 | D10: 3059 | E10: 46 | F10: 1504 | G10: 784 | H10: 0 | I10: 6883 | J10: 223 | K10: 88 | L10: 17 | M10: 4676 | N10: 262 | O10: 15155 | P10: 8111 | Q10: 4291 | R10: 399 | S10: 2354 | T10: 15155 | U10: 5435 | V10: 4874 | W10: 561 | X10: 464 | Y10: 5470 | Z10: 15 | AA10: 9 | AB10: 285 | AC10: 16 | AD10: 12 | AE10: 16 | AF10: 11 | AG10: 5106 | AH10: 3786 | AI10: 1395 | AJ10: 90 | AK10: 973 | AL10: 325 | AM10: 95 | AN10: 325 | AO10: 511 | AP10: 72
A11: 臺南市 | C11: 8160 | D11: 1492 | E11: 92 | F11: 528 | G11: 391 | H11: 0 | I11: 3146 | J11: 45 | K11: 37 | L11: 9 | M11: 2326 | N11: 94 | O11: 7090 | P11: 4025 | Q11: 1804 | R11: 202 | S11: 1059 | T11: 7090 | U11: 2543 | V11: 2288 | W11: 255 | X11: 231 | Y11: 2424 | Z11: 10 | AA11: 6 | AB11: 174 | AC11: 4 | AD11: 7 | AE11: 6 | AF11: 6 | AG11: 2211 | AH11: 1892 | AI11: 738 | AJ11: 47 | AK11: 442 | AL11: 201 | AM11: 53 | AN11: 159 | AO11: 205 | AP11: 47
A12: 高雄市 | C12: 18037 | D12: 2817 | E12: 161 | F12: 1155 | G12: 788 | H12: 0 | I12: 6799 | J12: 197 | K12: 99 | L12: 65 | M12: 5845 | N12: 111 | O12: 15205 | P12: 7351 | Q12: 4402 | R12: 617 | S12: 2835 | T12: 15205 | U12: 4988 | V12: 4523 | W12: 465 | X12: 606 | Y12: 5224 | Z12: 26 | AA12: 10 | AB12: 357 | AC12: 18 | AD12: 26 | AE12: 7 | AF12: 13 | AG12: 4767 | AH12: 4387 | AI12: 1760 | AJ12: 155 | AK12: 1037 | AL12: 598 | AM12: 142 | AN12: 301 | AO12: 305 | AP12: 89
A13: 宜蘭縣 | C13: 2377 | D13: 384 | E13: 5 | F13: 151 | G13: 167 | H13: 0 | I13: 826 | J13: 23 | K13: 15 | L13: 7 | M13: 755 | N13: 44 | O13: 2008 | P13: 1055 | Q13: 520 | R13: 64 | S13: 369 | T13: 2008 | U13: 792 | V13: 711 | W13: 81 | X13: 62 | Y13: 604 | Z13: 6 | AA13: 1 | AB13: 26 | AC13: 2 | AD13: 3 | AE13: 3 | AF13: 0 | AG13: 563 | AH13: 550 | AI13: 215 | AJ13: 24 | AK13: 105 | AL13: 77 | AM13: 35 | AN13: 38 | AO13: 49 | AP13: 7
A14: 桃園縣 | C14: 12759 | D14: 2449 | E14: 98 | F14: 1109 | G14: 466 | H14: 2 | I14: 4995 | J14: 85 | K14: 47 | L14: 12 | M14: 3306 | N14: 190 | O14: 11111 | P14: 5332 | Q14: 4106 | R14: 280 | S14: 1393 | T14: 11111 | U14: 3730 | V14: 3363 | W14: 367 | X14: 363 | Y14: 4618 | Z14: 11 | AA14: 13 | AB14: 174 | AC14: 4 | AD14: 16 | AE14: 3 | AF14: 9 | AG14: 4388 | AH14: 2400 | AI14: 928 | AJ14: 65 | AK14: 675 | AL14: 212 | AM14: 69 | AN14: 151 | AO14: 242 | AP14: 58
A15: 新竹縣 | C15: 2689 | D15: 529 | E15: 1 | F15: 195 | G15: 155 | H15: 0 | I15: 961 | J15: 2 | K15: 9 | L15: 5 | M15: 794 | N15: 38 | O15: 2360 | P15: 1280 | Q15: 675 | R15: 73 | S15: 332 | T15: 2360 | U15: 949 | V15: 837 | W15: 112 | X15: 59 | Y15: 836 | Z15: 7 | AA15: 3 | AB15: 64 | AC15: 3 | AD15: 5 | AE15: 6 | AF15: 5 | AG15: 743 | AH15: 516 | AI15: 207 | AJ15: 17 | AK15: 99 | AL15: 51 | AM15: 18 | AN15: 50 | AO15: 61 | AP15: 13
A16: 苗栗縣 | C16: 2771 | D16: 551 | E16: 0 | F16: 112 | G16: 84 | H16: 0 | I16: 1140 | J16: 6 | K16: 12 | L16: 3 | M16: 844 | N16: 19 | O16: 2451 | P16: 1496 | Q16: 488 | R16: 61 | S16: 406 | T16: 2451 | U16: 934 | V16: 817 | W16: 117 | X16: 85 | Y16: 793 | Z16: 6 | AA16: 3 | AB16: 31 | AC16: 1 | AD16: 1 | AE16: 2 | AF16: 3 | AG16: 746 | AH16: 639 | AI16: 270 | AJ16: 13 | AK16: 117 | AL16: 72 | AM16: 23 | AN16: 68 | AO16: 61 | AP16: 15
A17: 彰化縣 | C17: 6397 | D17: 987 | E17: 40 | F17: 373 | G17: 298 | H17: 1 | I17: 2993 | J17: 54 | K17: 45 | L17: 13 | M17: 1523 | N17: 70 | O17: 5606 | P17: 3253 | Q17: 1337 | R17: 138 | S17: 878 | T17: 5606 | U17: 2226 | V17: 2018 | W17: 208 | X17: 143 | Y17: 1699 | Z17: 12 | AA17: 6 | AB17: 77 | AC17: 2 | AD17: 2 | AE17: 6 | AF17: 10 | AG17: 1584 | AH17: 1538 | AI17: 610 | AJ17: 70 | AK17: 303 | AL17: 128 | AM17: 45 | AN17: 139 | AO17: 220 | AP17: 23
A18: 南投縣 | C18: 2891 | D18: 586 | E18: 0 | F18: 159 | G18: 124 | H18: 0 | I18: 1173 | J18: 16 | K18: 12 | L18: 3 | M18: 749 | N18: 69 | O18: 2485 | P18: 1386 | Q18: 723 | R18: 65 | S18: 311 | T18: 2485 | U18: 984 | V18: 879 | W18: 105 | X18: 55 | Y18: 837 | Z18: 3 | AA18: 2 | AB18: 23 | AC18: 2 | AD18: 1 | AE18: 1 | AF18: 2 | AG18: 803 | AH18: 609 | AI18: 223 | AJ18: 10 | AK18: 137 | AL18: 48 | AM18: 14 | AN18: 66 | AO18: 93 | AP18: 18
... A29: 連江縣 | C29: 26 | D29: 6 | E29: 0 | F29: 4 | G29: 0 | H29: 0 | I29: 3 | J29: 0 | K29: 0 | L29: 0 | M29: 9 | N29: 4 | O29: 25 | P29: 18 | Q29: 6 | R29: 0 | S29: 1 | T29: 25 | U29: 16 | V29: 16 | W29: 0 | X29: 1 | Y29: 8 | Z29: 0 | AA29: 0 | AB29: 1 | AC29: 0 | AD29: 0 | AE29: 0 | AF29: 0 | AG29: 7 | AH29: 0 | AI29: 0 | AJ29: 0 | AK29: 0 | AL29: 0 | AM29: 0 | AN29: 0 | AO29: 0 | AP29: 0

Sheet 100
A1: 5.1-01 家庭暴力事件通報案件統計
A3: 區域別 | C3: 通報件次(複選) | O3: 通報件數
C4: 合計 | D4: 通報單位別 | O4: 案件類型別 | T4: 被害及加害者兩造關係別
D5: 113 | E5: 防治中心 | F5: 教育 | G5: 社政 | H5: 勞政 | I5: 警政 | J5: 司法 | K5: 衛生 | L5: 診所 | M5: 醫院 | N5: 其他 | O5: 合計 | P5: 婚姻、離婚或同居關係暴力 | Q5: 兒少 保護 | R5: 老人 虐待 | S5: 其他 | T5: 合計 | U5: 配偶 | X5: 前配偶 (離婚) | Y5: 曾同住之其他家庭成員 | AH5: 現同住之其他家庭成員
U6: 小計 | V6: 共同 生活 | W6: 分居 | Y6: 小計 | Z6: 直系 血親 | AA6: 直系 姻親 | AB6: 同居 關係 | AC6: 四等親 內旁系 血親 | AD6: 四等親 內旁系 姻親 | AE6: 家屬間 | AF6: 家長 家屬 | AG6: 其他 | AH6: 小計 | AI6: 直系 血親 | AJ6: 直系 姻親 | AK6: 同居 關係 | AL6: 四等親 內旁系 血親 | AM6: 四等親 內旁系 姻親 | AN6: 家屬間 | AO6: 家長 家屬 | AP6: 其他
A7: 100年 2011 | C7: 117162 | D7: 22560 | E7: 495 | F7: 7247 | G7: 4472 | H7: 7 | I7: 42722 | J7: 480 | K7: 297 | L7: 211 | M7: 36961 | N7: 1710 | O7: 104315 | P7: 56734 | Q7: 25740 | R7: 3193 | S7: 18648 | T7: 104315 | U7: 39530 | V7: 35725 | W7: 3805 | X7: 3399 | Y7: 34489 | Z7: 140 | AA7: 54 | AB7: 1576 | AC7: 92 | AD7: 73 | AE7: 65 | AF7: 69 | AG7: 32420 | AH7: 26897 | AI7: 10604 | AJ7: 905 | AK7: 6168 | AL7: 2788 | AM7: 874 | AN7: 2148 | AO7: 2643 | AP7: 767
A8: 新北市 | C8: 18782 | D8: 4834 | E8: 18 | F8: 1270 | G8: 423 | H8: 1 | I8: 4931 | J8: 42 | K8: 29 | L8: 45 | M8: 6846 | N8: 343 | O8: 16461 | P8: 8815 | Q8: 4463 | R8: 360 | S8: 2823 | T8: 16461 | U8: 6525 | V8: 5896 | W8: 629 | X8: 567 | Y8: 5577 | Z8: 11 | AA8: 7 | AB8: 185 | AC8: 11 | AD8: 5 | AE8: 7 | AF8: 6 | AG8: 5345 | AH8: 3792 | AI8: 1490 | AJ8: 130 | AK8: 963 | AL8: 453 | AM8: 129 | AN8: 251 | AO8: 293 | AP8: 83
A9: 臺北市 | C9: 14622 | D9: 2174 | E9: 108 | F9: 718 | G9: 569 | H9: 0 | I9: 6182 | J9: 27 | K9: 17 | L9: 10 | M9: 4657 | N9: 160 | O9: 12800 | P9: 6726 | Q9: 2514 | R9: 472 | S9: 3088 | T9: 12800 | U9: 4292 | V9: 3891 | W9: 401 | X9: 400 | Y9: 4121 | Z9: 27 | AA9: 6 | AB9: 181 | AC9: 6 | AD9: 5 | AE9: 5 | AF9: 8 | AG9: 3883 | AH9: 3987 | AI9: 1615 | AJ9: 110 | AK9: 734 | AL9: 485 | AM9: 133 | AN9: 344 | AO9: 432 | AP9: 134
A10: 臺中市 | C10: 12424 | D10: 2919 | E10: 41 | F10: 928 | G10: 460 | H10: 1 | I10: 4411 | J10: 13 | K10: 30 | L10: 13 | M10: 3505 | N10: 103 | O10: 10966 | P10: 6082 | Q10: 3004 | R10: 303 | S10: 1577 | T10: 10966 | U10: 4294 | V10: 3870 | W10: 424 | X10: 347 | Y10: 3645 | Z10: 21 | AA10: 3 | AB10: 180 | AC10: 8 | AD10: 9 | AE10: 11 | AF10: 9 | AG10: 3404 | AH10: 2680 | AI10: 1035 | AJ10: 117 | AK10: 666 | AL10: 195 | AM10: 71 | AN10: 242 | AO10: 314 | AP10: 40
A11: 臺南市 | C11: 6693 | D11: 1361 | E11: 39 | F11: 385 | G11: 216 | H11: 1 | I11: 2245 | J11: 20 | K11: 12 | L11: 7 | M11: 2303 | N11: 104 | O11: 6100 | P11: 3443 | Q11: 1458 | R11: 176 | S11: 1023 | T11: 6100 | U11: 2325 | V11: 2091 | W11: 234 | X11: 180 | Y11: 2030 | Z11: 15 | AA11: 2 | AB11: 109 | AC11: 8 | AD11: 4 | AE11: 2 | AF11: 4 | AG11: 1886 | AH11: 1565 | AI11: 689 | AJ11: 50 | AK11: 341 | AL11: 199 | AM11: 48 | AN11: 79 | AO11: 117 | AP11: 42
A12: 高雄市 | C12: 17185 | D12: 2589 | E12: 110 | F12: 936 | G12: 668 | H12: 1 | I12: 6876 | J12: 180 | K12: 59 | L12: 62 | M12: 5452 | N12: 252 | O12: 15436 | P12: 7647 | Q12: 3689 | R12: 454 | S12: 3646 | T12: 15436 | U12: 5645 | V12: 5139 | W12: 506 | X12: 586 | Y12: 4738 | Z12: 18 | AA12: 14 | AB12: 257 | AC12: 21 | AD12: 14 | AE12: 10 | AF12: 9 | AG12: 4395 | AH12: 4467 | AI12: 1777 | AJ12: 119 | AK12: 1039 | AL12: 448 | AM12: 133 | AN12: 366 | AO12: 463 | AP12: 122
A13: 宜蘭縣 | C13: 2182 | D13: 318 | E13: 2 | F13: 148 | G13: 154 | H13: 0 | I13: 679 | J13: 7 | K13: 14 | L13: 3 | M13: 824 | N13: 33 | O13: 1978 | P13: 1075 | Q13: 462 | R13: 60 | S13: 381 | T13: 1978 | U13: 806 | V13: 748 | W13: 58 | X13: 67 | Y13: 597 | Z13: 2 | AA13: 0 | AB13: 18 | AC13: 2 | AD13: 2 | AE13: 1 | AF13: 1 | AG13: 571 | AH13: 508 | AI13: 173 | AJ13: 26 | AK13: 114 | AL13: 89 | AM13: 31 | AN13: 42 | AO13: 27 | AP13: 6
A14: 桃園縣 | C14: 11194 | D14: 2172 | E14: 79 | F14: 782 | G14: 377 | H14: 1 | I14: 4147 | J14: 65 | K14: 40 | L14: 8 | M14: 3391 | N14: 132 | O14: 9706 | P14: 5325 | Q14: 3017 | R14: 267 | S14: 1097 | T14: 9706 | U14: 3475 | V14: 3070 | W14: 405 | X14: 312 | Y14: 3968 | Z14: 11 | AA14: 2 | AB14: 130 | AC14: 4 | AD14: 7 | AE14: 4 | AF14: 6 | AG14: 3804 | AH14: 1951 | AI14: 735 | AJ14: 55 | AK14: 542 | AL14: 164 | AM14: 45 | AN14: 158 | AO14: 211 | AP14: 41
A15: 新竹縣 | C15: 2559 | D15: 498 | E15: 1 | F15: 150 | G15: 151 | H15: 0 | I15: 849 | J15: 2 | K15: 4 | L15: 10 | M15: 875 | N15: 19 | O15: 2307 | P15: 1389 | Q15: 531 | R15: 70 | S15: 317 | T15: 2307 | U15: 1018 | V15: 899 | W15: 119 | X15: 77 | Y15: 688 | Z15: 3 | AA15: 0 | AB15: 27 | AC15: 1 | AD15: 0 | AE15: 3 | AF15: 0 | AG15: 654 | AH15: 524 | AI15: 230 | AJ15: 26 | AK15: 103 | AL15: 62 | AM15: 24 | AN15: 34 | AO15: 31 | AP15: 14
A16: 苗栗縣 | C16: 2502 | D16: 495 | E16: 0 | F16: 85 | G16: 72 | H16: 0 | I16: 1041 | J16: 3 | K16: 7 | L16: 3 | M16: 771 | N16: 25 | O16: 2317 | P16: 1384 | Q16: 447 | R16: 96 | S16: 390 | T16: 2317 | U16: 760 | V16: 693 | W16: 67 | X16: 77 | Y16: 913 | Z16: 2 | AA16: 0 | AB16: 26 | AC16: 3 | AD16: 3 | AE16: 1 | AF16: 1 | AG16: 877 | AH16: 567 | AI16: 264 | AJ16: 24 | AK16: 94 | AL16: 66 | AM16: 23 | AN16: 43 | AO16: 43 | AP16: 10
A17: 彰化縣 | C17: 6018 | D17: 955 | E17: 42 | F17: 339 | G17: 285 | H17: 0 | I17: 2764 | J17: 29 | K17: 10 | L17: 10 | M17: 1519 | N17: 65 | O17: 5513 | P17: 3235 | Q17: 1205 | R17: 158 | S17: 915 | T17: 5513 | U17: 2362 | V17: 2147 | W17: 215 | X17: 161 | Y17: 1570 | Z17: 5 | AA17: 4 | AB17: 54 | AC17: 6 | AD17: 9 | AE17: 2 | AF17: 4 | AG17: 1486 | AH17: 1420 | AI17: 597 | AJ17: 60 | AK17: 283 | AL17: 125 | AM17: 49 | AN17: 117 | AO17: 176 | AP17: 13
A18: 南投縣 | C18: 2784 | D18: 671 | E18: 2 | F18: 154 | G18: 128 | H18: 0 | I18: 965 | J18: 23 | K18: 12 | L18: 5 | M18: 705 | N18: 119 | O18: 2371 | P18: 1206 | Q18: 670 | R18: 59 | S18: 436 | T18: 2371 | U18: 831 | V18: 753 | W18: 78 | X18: 74 | Y18: 1012 | Z18: 2 | AA18: 3 | AB18: 26 | AC18: 1 | AD18: 2 | AE18: 3 | AF18: 2 | AG18: 973 | AH18: 454 | AI18: 164 | AJ18: 21 | AK18: 105 | AL18: 36 | AM18: 15 | AN18: 45 | AO18: 54 | AP18: 14
... A29: 連江縣 | C29: 28 | D29: 11 | E29: 0 | F29: 0 | G29: 0 | H29: 0 | I29: 3 | J29: 0 | K29: 1 | L29: 1 | M29: 11 | N29: 1 | O29: 27 | P29: 22 | Q29: 4 | R29: 1 | S29: 0 | T29: 27 | U29: 21 | V29: 19 | W29: 2 | X29: 0 | Y29: 4 | Z29: 0 | AA29: 0 | AB29: 0 | AC29: 0 | AD29: 0 | AE29: 0 | AF29: 0 | AG29: 4 | AH29: 2 | AI29: 0 | AJ29: 1 | AK29: 1 | AL29: 0 | AM29: 0 | AN29: 0 | AO29: 0 | AP29: 0

Sheet 99
A1: 5.1-01 家庭暴力事件通報案件統計
A3: 區域別 | C3: 通報件次(複選) | O3: 通報件數
C4: 合計 | D4: 通報單位別 | O4: 案件類型別 | T4: 被害及加害者兩造關係別
D5: 113 | E5: 防治中心 | F5: 教育 | G5: 社政 | H5: 勞政 | I5: 警政 | J5: 司法 | K5: 衛生 | L5: 診所 | M5: 醫院 | N5: 其他 | O5: 合計 | P5: 婚姻、離婚或同居關係暴力 | Q5: 兒少 保護 | R5: 老人 虐待 | S5: 其他 | T5: 合計 | U5: 配偶 | X5: 前配偶 (離婚) | Y5: 曾同住之其他家庭成員 | AH5: 現同住之其他家庭成員
U6: 小計 | V6: 共同 生活 | W6: 分居 | Y6: 小計 | Z6: 直系 血親 | AA6: 直系 姻親 | AB6: 同居 關係 | AC6: 四等親 內旁系 血親 | AD6: 四等親 內旁系 姻親 | AE6: 家屬間 | AF6: 家長 家屬 | AG6: 其他 | AH6: 小計 | AI6: 直系 血親 | AJ6: 直系 姻親 | AK6: 同居 關係 | AL6: 四等親 內旁系 血親 | AM6: 四等親 內旁系 姻親 | AN6: 家屬間 | AO6: 家長 家屬 | AP6: 其他
A7: 99年 2010 | C7: 112798 | D7: 21543 | E7: 593 | F7: 5022 | G7: 4747 | H7: 0 | I7: 41164 | J7: 244 | K7: 181 | L7: 83 | M7: 37536 | N7: 1685 | O7: 105130 | P7: 59704 | Q7: 22089 | R7: 3316 | S7: 20021 | T7: 105130 | U7: 42967 | V7: 39187 | W7: 3780 | X7: 3708 | Y7: 29610 | Z7: 199 | AA7: 64 | AB7: 1127 | AC7: 77 | AD7: 86 | AE7: 65 | AF7: 94 | AG7: 27898 | AH7: 28845 | AI7: 13290 | AJ7: 877 | AK7: 5595 | AL7: 3066 | AM7: 969 | AN7: 1849 | AO7: 2198 | AP7: 1001
A8: 臺北縣 | C8: 15496 | D8: 4447 | E8: 3 | F8: 707 | G8: 392 | H8: 0 | I8: 4013 | J8: 12 | K8: 22 | L8: 4 | M8: 5843 | N8: 53 | O8: 14296 | P8: 8404 | Q8: 3273 | R8: 361 | S8: 2258 | T8: 14296 | U8: 6716 | V8: 6171 | W8: 545 | X8: 524 | Y8: 2621 | Z8: 12 | AA8: 10 | AB8: 144 | AC8: 2 | AD8: 9 | AE8: 2 | AF8: 4 | AG8: 2438 | AH8: 4435 | AI8: 2345 | AJ8: 147 | AK8: 928 | AL8: 522 | AM8: 125 | AN8: 158 | AO8: 97 | AP8: 113
A9: 宜蘭縣 | C9: 2366 | D9: 369 | E9: 4 | F9: 158 | G9: 157 | H9: 0 | I9: 749 | J9: 9 | K9: 4 | L9: 2 | M9: 868 | N9: 46 | O9: 2255 | P9: 1322 | Q9: 483 | R9: 83 | S9: 367 | T9: 2255 | U9: 956 | V9: 879 | W9: 77 | X9: 72 | Y9: 694 | Z9: 6 | AA9: 1 | AB9: 10 | AC9: 5 | AD9: 3 | AE9: 2 | AF9: 0 | AG9: 667 | AH9: 533 | AI9: 258 | AJ9: 15 | AK9: 114 | AL9: 54 | AM9: 18 | AN9: 27 | AO9: 39 | AP9: 8
A10: 桃園縣 | C10: 10726 | D10: 1998 | E10: 203 | F10: 600 | G10: 443 | H10: 0 | I10: 3787 | J10: 27 | K10: 10 | L10: 4 | M10: 3557 | N10: 97 | O10: 10096 | P10: 5738 | Q10: 2803 | R10: 265 | S10: 1290 | T10: 10096 | U10: 3861 | V10: 3482 | W10: 379 | X10: 347 | Y10: 3476 | Z10: 7 | AA10: 2 | AB10: 90 | AC10: 4 | AD10: 5 | AE10: 3 | AF10: 6 | AG10: 3359 | AH10: 2412 | AI10: 1134 | AJ10: 55 | AK10: 485 | AL10: 203 | AM10: 72 | AN10: 145 | AO10: 238 | AP10: 80
A11: 新竹縣 | C11: 2461 | D11: 475 | E11: 0 | F11: 89 | G11: 186 | H11: 0 | I11: 900 | J11: 2 | K11: 5 | L11: 3 | M11: 773 | N11: 28 | O11: 2287 | P11: 1452 | Q11: 406 | R11: 75 | S11: 354 | T11: 2287 | U11: 898 | V11: 800 | W11: 98 | X11: 59 | Y11: 839 | Z11: 2 | AA11: 2 | AB11: 26 | AC11: 1 | AD11: 1 | AE11: 0 | AF11: 1 | AG11: 806 | AH11: 491 | AI11: 211 | AJ11: 16 | AK11: 106 | AL11: 43 | AM11: 18 | AN11: 41 | AO11: 44 | AP11: 12
A12: 苗栗縣 | C12: 2279 | D12: 485 | E12: 0 | F12: 41 | G12: 89 | H12: 0 | I12: 962 | J12: 1 | K12: 7 | L12: 1 | M12: 678 | N12: 15 | O12: 2150 | P12: 1343 | Q12: 347 | R12: 128 | S12: 332 | T12: 2150 | U12: 769 | V12: 687 | W12: 82 | X12: 54 | Y12: 886 | Z12: 1 | AA12: 0 | AB12: 9 | AC12: 1 | AD12: 4 | AE12: 0 | AF12: 0 | AG12: 871 | AH12: 441 | AI12: 188 | AJ12: 15 | AK12: 50 | AL12: 50 | AM12: 19 | AN12: 41 | AO12: 73 | AP12: 5
A13: 臺中縣 | C13: 7827 | D13: 1556 | E13: 20 | F13: 291 | G13: 348 | H13: 0 | I13: 2874 | J13: 22 | K13: 15 | L13: 6 | M13: 2537 | N13: 158 | O13: 7338 | P13: 4224 | Q13: 1416 | R13: 237 | S13: 1461 | T13: 7338 | U13: 3318 | V13: 3017 | W13: 301 | X13: 250 | Y13: 1913 | Z13: 34 | AA13: 8 | AB13: 68 | AC13: 8 | AD13: 3 | AE13: 8 | AF13: 16 | AG13: 1768 | AH13: 1857 | AI13: 843 | AJ13: 72 | AK13: 332 | AL13: 171 | AM13: 59 | AN13: 140 | AO13: 202 | AP13: 38
A14: 彰化縣 | C14: 5182 | D14: 785 | E14: 24 | F14: 167 | G14: 236 | H14: 0 | I14: 2454 | J14: 3 | K14: 7 | L14: 1 | M14: 1436 | N14: 69 | O14: 4970 | P14: 2902 | Q14: 829 | R14: 131 | S14: 1108 | T14: 4970 | U14: 2359 | V14: 2154 | W14: 205 | X14: 170 | Y14: 1129 | Z14: 18 | AA14: 4 | AB14: 27 | AC14: 3 | AD14: 5 | AE14: 10 | AF14: 11 | AG14: 1051 | AH14: 1312 | AI14: 616 | AJ14: 56 | AK14: 219 | AL14: 118 | AM14: 45 | AN14: 112 | AO14: 131 | AP14: 15
A15: 南投縣 | C15: 3209 | D15: 658 | E15: 6 | F15: 216 | G15: 139 | H15: 0 | I15: 1060 | J15: 50 | K15: 6 | L15: 3 | M15: 752 | N15: 319 | O15: 2957 | P15: 1343 | Q15: 1008 | R15: 73 | S15: 533 | T15: 2957 | U15: 949 | V15: 880 | W15: 69 | X15: 60 | Y15: 1515 | Z15: 2 | AA15: 1 | AB15: 17 | AC15: 0 | AD15: 1 | AE15: 2 | AF15: 3 | AG15: 1489 | AH15: 433 | AI15: 202 | AJ15: 9 | AK15: 78 | AL15: 40 | AM15: 7 | AN15: 40 | AO15: 40 | AP15: 17
A16: 雲林縣 | C16: 3147 | D16: 555 | E16: 9 | F16: 103 | G16: 86 | H16: 0 | I16: 1634 | J16: 5 | K16: 4 | L16: 2 | M16: 664 | N16: 85 | O16: 2984 | P16: 1713 | Q16: 432 | R16: 126 | S16: 713 | T16: 2984 | U16: 1262 | V16: 1155 | W16: 107 | X16: 108 | Y16: 1006 | Z16: 11 | AA16: 6 | AB16: 23 | AC16: 4 | AD16: 2 | AE16: 4 | AF16: 7 | AG16: 949 | AH16: 608 | AI16: 289 | AJ16: 28 | AK16: 92 | AL16: 38 | AM16: 19 | AN16: 73 | AO16: 59 | AP16: 10
A17: 嘉義縣 | C17: 1915 | D17: 408 | E17: 3 | F17: 40 | G17: 55 | H17: 0 | I17: 700 | J17: 0 | K17: 0 | L17: 1 | M17: 695 | N17: 13 | O17: 1817 | P17: 1134 | Q17: 284 | R17: 84 | S17: 315 | T17: 1817 | U17: 806 | V17: 724 | W17: 82 | X17: 48 | Y17: 555 | Z17: 2 | AA17: 2 | AB17: 19 | AC17: 0 | AD17: 1 | AE17: 0 | AF17: 2 | AG17: 529 | AH17: 408 | AI17: 182 | AJ17: 26 | AK17: 49 | AL17: 44 | AM17: 24 | AN17: 20 | AO17: 53 | AP17: 10
A18: 臺南縣 | C18: 3478 | D18: 721 | E18: 5 | F18: 150 | G18: 71 | H18: 0 | I18: 1137 | J18: 9 | K18: 7 | L18: 2 | M18: 1316 | N18: 60 | O18: 3221 | P18: 1909 | Q18: 638 | R18: 79 | S18: 595 | T18: 3221 | U18: 1297 | V18: 1172 | W18: 125 | X18: 98 | Y18: 1127 | Z18: 6 | AA18: 1 | AB18: 34 | AC18: 4 | AD18: 3 | AE18: 1 | AF18: 4 | AG18: 1074 | AH18: 699 | AI18: 310 | AJ18: 29 | AK18: 138 | AL18: 61 | AM18: 17 | AN18: 44 | AO18: 66 | AP18: 34
... A32: 連江縣 | C32: 16 | D32: 0 | E32: 0 | F32: 1 | G32: 1 | H32: 0 | I32: 5 | J32: 0 | K32: 0 | L32: 0 | M32: 8 | N32: 1 | O32: 16 | P32: 14 | Q32: 2 | R32: 0 | S32: 0 | T32: 16 | U32: 14 | V32: 14 | W32: 0 | X32: 0 | Y32: 1 | Z32: 0 | AA32: 0 | AB32: 0 | AC32: 0 | AD32: 0 | AE32: 0 | AF32: 0 | AG32: 1 | AH32: 1 | AI32: 1 | AJ32: 0 | AK32: 0 | AL32: 0 | AM32: 0 | AN32: 0 | AO32: 0 | AP32: 0

Sheet 98
A1: 5.1-01 家庭暴力事件通報案件統計
A3: 區域別 | C3: 通報件次(複選) | O3: 通報件數
C4: 合計 | D4: 通報單位別 | O4: 案件類型別 | T4: 被害及加害者兩造關係別
D5: 113 | E5: 防治中心 | F5: 教育 | G5: 社政 | H5: 勞政 | I5: 警政 | J5: 司法 | K5: 衛生 | L5: 診所 | M5: 醫院 | N5: 其他 | O5: 合計 | P5: 婚姻、離婚或同居關係暴力 | Q5: 兒少 保護 | R5: 老人 虐待 | S5: 其他 | T5: 合計 | U5: 配偶 | X5: 前配偶 (離婚) | Y5: 曾同住之其他家庭成員 | AH5: 現同住之其他家庭成員
U6: 小計 | V6: 共同 生活 | W6: 分居 | Y6: 小計 | Z6: 直系 血親 | AA6: 直系 姻親 | AB6: 同居 關係 | AC6: 四等親 內旁系 血親 | AD6: 四等親 內旁系 姻親 | AE6: 家屬間 | AF6: 家長 家屬 | AG6: 其他 | AH6: 小計 | AI6: 直系 血親 | AJ6: 直系 姻親 | AK6: 同居 關係 | AL6: 四等親 內旁系 血親 | AM6: 四等親 內旁系 姻親 | AN6: 家屬間 | AO6: 家長 家屬 | AP6: 其他
A7: 98年 2009 | C7: 94927 | D7: 14949 | E7: 500 | F7: 3208 | G7: 3900 | H7: 0 | I7: 35354 | J7: 192 | K7: 166 | L7: 50 | M7: 34754 | N7: 1854 | O7: 89253 | P7: 52121 | Q7: 17476 | R7: 2711 | S7: 16945 | T7: 89253 | U7: 38906 | V7: 35309 | W7: 3597 | X7: 3193 | Y7: 23557 | Z7: 177 | AA7: 44 | AB7: 733 | AC7: 89 | AD7: 70 | AE7: 70 | AF7: 75 | AG7: 22299 | AH7: 23597 | AI7: 10601 | AJ7: 795 | AK7: 4415 | AL7: 2592 | AM7: 874 | AN7: 1409 | AO7: 1827 | AP7: 1084
A8: 臺北縣 | C8: 13839 | D8: 3075 | E8: 1 | F8: 488 | G8: 449 | H8: 0 | I8: 3656 | J8: 3 | K8: 11 | L8: 1 | M8: 6117 | N8: 38 | O8: 13057 | P8: 7952 | Q8: 2826 | R8: 297 | S8: 1982 | T8: 13057 | U8: 6559 | V8: 6031 | W8: 528 | X8: 475 | Y8: 2024 | Z8: 20 | AA8: 8 | AB8: 103 | AC8: 2 | AD8: 5 | AE8: 1 | AF8: 2 | AG8: 1883 | AH8: 3999 | AI8: 2049 | AJ8: 168 | AK8: 736 | AL8: 568 | AM8: 130 | AN8: 134 | AO8: 80 | AP8: 134
A9: 宜蘭縣 | C9: 2054 | D9: 275 | E9: 4 | F9: 116 | G9: 139 | H9: 0 | I9: 657 | J9: 9 | K9: 3 | L9: 1 | M9: 819 | N9: 31 | O9: 1981 | P9: 1109 | Q9: 433 | R9: 83 | S9: 356 | T9: 1981 | U9: 805 | V9: 735 | W9: 70 | X9: 79 | Y9: 486 | Z9: 5 | AA9: 3 | AB9: 14 | AC9: 1 | AD9: 0 | AE9: 2 | AF9: 1 | AG9: 460 | AH9: 611 | AI9: 273 | AJ9: 30 | AK9: 95 | AL9: 69 | AM9: 38 | AN9: 43 | AO9: 55 | AP9: 8
A10: 桃園縣 | C10: 8488 | D10: 1411 | E10: 133 | F10: 363 | G10: 255 | H10: 0 | I10: 2925 | J10: 72 | K10: 3 | L10: 0 | M10: 3241 | N10: 85 | O10: 8088 | P10: 4619 | Q10: 2126 | R10: 196 | S10: 1147 | T10: 8088 | U10: 3067 | V10: 2702 | W10: 365 | X10: 282 | Y10: 2958 | Z10: 8 | AA10: 3 | AB10: 67 | AC10: 3 | AD10: 3 | AE10: 1 | AF10: 5 | AG10: 2868 | AH10: 1781 | AI10: 931 | AJ10: 55 | AK10: 331 | AL10: 177 | AM10: 43 | AN10: 79 | AO10: 118 | AP10: 47
A11: 新竹縣 | C11: 2167 | D11: 280 | E11: 6 | F11: 47 | G11: 172 | H11: 0 | I11: 821 | J11: 2 | K11: 9 | L11: 0 | M11: 813 | N11: 17 | O11: 2041 | P11: 1250 | Q11: 327 | R11: 93 | S11: 371 | T11: 2041 | U11: 968 | V11: 848 | W11: 120 | X11: 56 | Y11: 469 | Z11: 5 | AA11: 1 | AB11: 19 | AC11: 0 | AD11: 2 | AE11: 1 | AF11: 1 | AG11: 440 | AH11: 548 | AI11: 258 | AJ11: 26 | AK11: 86 | AL11: 66 | AM11: 26 | AN11: 39 | AO11: 27 | AP11: 20
A12: 苗栗縣 | C12: 2072 | D12: 362 | E12: 0 | F12: 19 | G12: 47 | H12: 0 | I12: 790 | J12: 3 | K12: 4 | L12: 2 | M12: 832 | N12: 13 | O12: 2008 | P12: 1526 | Q12: 292 | R12: 61 | S12: 129 | T12: 2008 | U12: 878 | V12: 818 | W12: 60 | X12: 57 | Y12: 699 | Z12: 6 | AA12: 0 | AB12: 5 | AC12: 7 | AD12: 4 | AE12: 3 | AF12: 0 | AG12: 674 | AH12: 374 | AI12: 170 | AJ12: 11 | AK12: 46 | AL12: 41 | AM12: 12 | AN12: 40 | AO12: 51 | AP12: 3
A13: 臺中縣 | C13: 6560 | D13: 1054 | E13: 17 | F13: 189 | G13: 227 | H13: 0 | I13: 2562 | J13: 3 | K13: 20 | L13: 4 | M13: 2317 | N13: 167 | O13: 6247 | P13: 3627 | Q13: 1124 | R13: 194 | S13: 1302 | T13: 6247 | U13: 3112 | V13: 2851 | W13: 261 | X13: 233 | Y13: 1539 | Z13: 9 | AA13: 4 | AB13: 19 | AC13: 12 | AD13: 11 | AE13: 6 | AF13: 10 | AG13: 1468 | AH13: 1363 | AI13: 555 | AJ13: 67 | AK13: 302 | AL13: 131 | AM13: 47 | AN13: 78 | AO13: 151 | AP13: 32
A14: 彰化縣 | C14: 4375 | D14: 565 | E14: 5 | F14: 63 | G14: 123 | H14: 0 | I14: 2309 | J14: 2 | K14: 4 | L14: 1 | M14: 1267 | N14: 36 | O14: 4210 | P14: 2702 | Q14: 541 | R14: 105 | S14: 862 | T14: 4210 | U14: 2192 | V14: 2014 | W14: 178 | X14: 152 | Y14: 752 | Z14: 8 | AA14: 3 | AB14: 15 | AC14: 6 | AD14: 3 | AE14: 4 | AF14: 1 | AG14: 712 | AH14: 1114 | AI14: 499 | AJ14: 22 | AK14: 208 | AL14: 76 | AM14: 49 | AN14: 107 | AO14: 144 | AP14: 9
A15: 南投縣 | C15: 2617 | D15: 478 | E15: 6 | F15: 148 | G15: 91 | H15: 0 | I15: 899 | J15: 9 | K15: 11 | L15: 3 | M15: 633 | N15: 339 | O15: 2341 | P15: 1030 | Q15: 730 | R15: 38 | S15: 543 | T15: 2341 | U15: 806 | V15: 719 | W15: 87 | X15: 51 | Y15: 1124 | Z15: 5 | AA15: 0 | AB15: 11 | AC15: 2 | AD15: 4 | AE15: 3 | AF15: 0 | AG15: 1099 | AH15: 360 | AI15: 155 | AJ15: 12 | AK15: 51 | AL15: 17 | AM15: 13 | AN15: 38 | AO15: 57 | AP15: 17
A16: 雲林縣 | C16: 2296 | D16: 366 | E16: 13 | F16: 57 | G16: 80 | H16: 0 | I16: 1189 | J16: 17 | K16: 1 | L16: 2 | M16: 510 | N16: 61 | O16: 2190 | P16: 1263 | Q16: 355 | R16: 91 | S16: 481 | T16: 2190 | U16: 923 | V16: 839 | W16: 84 | X16: 52 | Y16: 785 | Z16: 14 | AA16: 2 | AB16: 16 | AC16: 0 | AD16: 2 | AE16: 6 | AF16: 5 | AG16: 740 | AH16: 430 | AI16: 177 | AJ16: 21 | AK16: 76 | AL16: 25 | AM16: 7 | AN16: 52 | AO16: 60 | AP16: 12
A17: 嘉義縣 | C17: 1886 | D17: 244 | E17: 3 | F17: 58 | G17: 50 | H17: 0 | I17: 654 | J17: 2 | K17: 1 | L17: 0 | M17: 858 | N17: 16 | O17: 1798 | P17: 1104 | Q17: 292 | R17: 77 | S17: 325 | T17: 1798 | U17: 773 | V17: 699 | W17: 74 | X17: 61 | Y17: 565 | Z17: 3 | AA17: 0 | AB17: 10 | AC17: 1 | AD17: 0 | AE17: 1 | AF17: 1 | AG17: 549 | AH17: 399 | AI17: 139 | AJ17: 16 | AK17: 72 | AL17: 37 | AM17: 29 | AN17: 25 | AO17: 66 | AP17: 15
A18: 臺南縣 | C18: 2955 | D18: 510 | E18: 6 | F18: 65 | G18: 30 | H18: 0 | I18: 1099 | J18: 2 | K18: 4 | L18: 0 | M18: 1179 | N18: 60 | O18: 2805 | P18: 1703 | Q18: 446 | R18: 81 | S18: 575 | T18: 2805 | U18: 1258 | V18: 1104 | W18: 154 | X18: 104 | Y18: 948 | Z18: 1 | AA18: 2 | AB18: 11 | AC18: 3 | AD18: 2 | AE18: 5 | AF18: 7 | AG18: 917 | AH18: 495 | AI18: 184 | AJ18: 17 | AK18: 94 | AL18: 44 | AM18: 23 | AN18: 49 | AO18: 60 | AP18: 24
... A32: 連江縣 | C32: 15 | D32: 2 | E32: 0 | F32: 0 | G32: 0 | H32: 0 | I32: 1 | J32: 0 | K32: 0 | L32: 0 | M32: 12 | N32: 0 | O32: 15 | P32: 10 | Q32: 4 | R32: 0 | S32: 1 | T32: 15 | U32: 8 | V32: 6 | W32: 2 | X32: 0 | Y32: 2 | Z32: 0 | AA32: 0 | AB32: 0 | AC32: 0 | AD32: 0 | AE32: 0 | AF32: 0 | AG32: 2 | AH32: 5 | AI32: 3 | AJ32: 1 | AK32: 0 | AL32: 0 | AM32: 0 | AN32: 1 | AO32: 0 | AP32: 0

Sheet 97
A1: 5.1-01 家庭暴力事件通報案件統計
A3: 區域別 | C3: 通報件次(複選) | O3: 通報件數
C4: 合計 | D4: 通報單位別 | O4: 案件類型別 | T4: 被害及加害者兩造關係別
D5: 113 | E5: 防治中心 | F5: 教育 | G5: 社政 | H5: 勞政 | I5: 警政 | J5: 司法 | K5: 衛生 | L5: 診所 | M5: 醫院 | N5: 其他 | O5: 合計 | P5: 婚姻、離婚或同居關係暴力 | Q5: 兒少 保護 | R5: 老人 虐待 | S5: 其他 | T5: 合計 | U5: 配偶 | X5: 前配偶 (離婚) | Y5: 曾同住之其他家庭成員 | AH5: 現同住之其他家庭成員
U6: 小計 | V6: 共同 生活 | W6: 分居 | Y6: 小計 | Z6: 直系 血親 | AA6: 直系 姻親 | AB6: 同居 關係 | AC6: 四等親 內旁系 血親 | AD6: 四等親 內旁系 姻親 | AE6: 家屬間 | AF6: 家長 家屬 | AG6: 其他 | AH6: 小計 | AI6: 直系 血親 | AJ6: 直系 姻親 | AK6: 同居 關係 | AL6: 四等親 內旁系 血親 | AM6: 四等親 內旁系 姻親 | AN6: 家屬間 | AO6: 家長 家屬 | AP6: 其他
A7: 97年 2008 | C7: 84195 | D7: 14129 | E7: 269 | F7: 2593 | G7: 3704 | H7: 0 | I7: 30940 | J7: 127 | K7: 113 | L7: 36 | M7: 31078 | N7: 1206 | O7: 79874 | P7: 46530 | Q7: 17086 | R7: 2271 | S7: 13987 | T7: 79874 | U7: 35862 | V7: 32724 | W7: 3138 | X7: 2850 | Y7: 22022 | Z7: 116 | AA7: 52 | AB7: 554 | AC7: 90 | AD7: 48 | AE7: 33 | AF7: 69 | AG7: 21060 | AH7: 19140 | AI7: 8380 | AJ7: 720 | AK7: 3717 | AL7: 2067 | AM7: 775 | AN7: 1179 | AO7: 1594 | AP7: 708
A8: 臺北縣 | C8: 13071 | D8: 2869 | E8: 0 | F8: 418 | G8: 443 | H8: 0 | I8: 3652 | J8: 3 | K8: 12 | L8: 0 | M8: 5648 | N8: 26 | O8: 12509 | P8: 7554 | Q8: 2893 | R8: 301 | S8: 1761 | T8: 12509 | U8: 6362 | V8: 5898 | W8: 464 | X8: 440 | Y8: 2268 | Z8: 5 | AA8: 9 | AB8: 61 | AC8: 3 | AD8: 2 | AE8: 1 | AF8: 3 | AG8: 2184 | AH8: 3439 | AI8: 1799 | AJ8: 123 | AK8: 680 | AL8: 473 | AM8: 121 | AN8: 141 | AO8: 38 | AP8: 64
A9: 宜蘭縣 | C9: 1968 | D9: 246 | E9: 3 | F9: 114 | G9: 142 | H9: 0 | I9: 653 | J9: 10 | K9: 2 | L9: 2 | M9: 740 | N9: 56 | O9: 1918 | P9: 1108 | Q9: 463 | R9: 57 | S9: 290 | T9: 1918 | U9: 893 | V9: 816 | W9: 77 | X9: 73 | Y9: 502 | Z9: 1 | AA9: 5 | AB9: 7 | AC9: 0 | AD9: 2 | AE9: 1 | AF9: 4 | AG9: 482 | AH9: 450 | AI9: 197 | AJ9: 19 | AK9: 66 | AL9: 65 | AM9: 29 | AN9: 30 | AO9: 38 | AP9: 6
A10: 桃園縣 | C10: 7121 | D10: 1289 | E10: 105 | F10: 219 | G10: 202 | H10: 0 | I10: 2234 | J10: 36 | K10: 5 | L10: 7 | M10: 2951 | N10: 73 | O10: 6742 | P10: 3991 | Q10: 1807 | R10: 171 | S10: 773 | T10: 6742 | U10: 2946 | V10: 2600 | W10: 346 | X10: 190 | Y10: 2313 | Z10: 8 | AA10: 3 | AB10: 41 | AC10: 3 | AD10: 2 | AE10: 1 | AF10: 3 | AG10: 2252 | AH10: 1293 | AI10: 544 | AJ10: 56 | AK10: 302 | AL10: 105 | AM10: 46 | AN10: 62 | AO10: 132 | AP10: 46
A11: 新竹縣 | C11: 2055 | D11: 284 | E11: 1 | F11: 48 | G11: 202 | H11: 0 | I11: 745 | J11: 0 | K11: 0 | L11: 0 | M11: 759 | N11: 16 | O11: 1959 | P11: 1215 | Q11: 341 | R11: 63 | S11: 340 | T11: 1959 | U11: 999 | V11: 900 | W11: 99 | X11: 84 | Y11: 374 | Z11: 0 | AA11: 4 | AB11: 25 | AC11: 0 | AD11: 4 | AE11: 2 | AF11: 0 | AG11: 339 | AH11: 502 | AI11: 217 | AJ11: 18 | AK11: 85 | AL11: 72 | AM11: 31 | AN11: 20 | AO11: 30 | AP11: 29
A12: 苗栗縣 | C12: 1881 | D12: 343 | E12: 0 | F12: 24 | G12: 53 | H12: 0 | I12: 693 | J12: 0 | K12: 1 | L12: 0 | M12: 762 | N12: 5 | O12: 1849 | P12: 1412 | Q12: 304 | R12: 34 | S12: 99 | T12: 1849 | U12: 888 | V12: 825 | W12: 63 | X12: 43 | Y12: 592 | Z12: 6 | AA12: 2 | AB12: 6 | AC12: 11 | AD12: 3 | AE12: 3 | AF12: 2 | AG12: 559 | AH12: 326 | AI12: 146 | AJ12: 8 | AK12: 63 | AL12: 19 | AM12: 8 | AN12: 42 | AO12: 37 | AP12: 3
A13: 臺中縣 | C13: 4422 | D13: 1073 | E13: 17 | F13: 177 | G13: 164 | H13: 0 | I13: 1481 | J13: 5 | K13: 7 | L13: 3 | M13: 1385 | N13: 110 | O13: 4268 | P13: 2247 | Q13: 1099 | R13: 106 | S13: 816 | T13: 4268 | U13: 1940 | V13: 1803 | W13: 137 | X13: 116 | Y13: 1405 | Z13: 4 | AA13: 3 | AB13: 19 | AC13: 4 | AD13: 3 | AE13: 1 | AF13: 4 | AG13: 1367 | AH13: 807 | AI13: 266 | AJ13: 32 | AK13: 170 | AL13: 61 | AM13: 33 | AN13: 79 | AO13: 132 | AP13: 34
A14: 彰化縣 | C14: 3802 | D14: 500 | E14: 8 | F14: 33 | G14: 106 | H14: 0 | I14: 1964 | J14: 1 | K14: 7 | L14: 3 | M14: 1144 | N14: 36 | O14: 3672 | P14: 2407 | Q14: 508 | R14: 108 | S14: 649 | T14: 3672 | U14: 1946 | V14: 1806 | W14: 140 | X14: 159 | Y14: 653 | Z14: 2 | AA14: 0 | AB14: 6 | AC14: 2 | AD14: 0 | AE14: 2 | AF14: 3 | AG14: 638 | AH14: 914 | AI14: 389 | AJ14: 32 | AK14: 152 | AL14: 77 | AM14: 55 | AN14: 88 | AO14: 108 | AP14: 13
A15: 南投縣 | C15: 2334 | D15: 595 | E15: 4 | F15: 187 | G15: 82 | H15: 0 | I15: 696 | J15: 24 | K15: 13 | L15: 0 | M15: 556 | N15: 177 | O15: 2056 | P15: 846 | Q15: 741 | R15: 47 | S15: 422 | T15: 2056 | U15: 552 | V15: 503 | W15: 49 | X15: 46 | Y15: 1248 | Z15: 3 | AA15: 0 | AB15: 2 | AC15: 3 | AD15: 1 | AE15: 1 | AF15: 4 | AG15: 1234 | AH15: 210 | AI15: 110 | AJ15: 5 | AK15: 23 | AL15: 15 | AM15: 6 | AN15: 11 | AO15: 33 | AP15: 7
A16: 雲林縣 | C16: 1833 | D16: 328 | E16: 5 | F16: 31 | G16: 31 | H16: 0 | I16: 919 | J16: 3 | K16: 1 | L16: 1 | M16: 493 | N16: 21 | O16: 1753 | P16: 1047 | Q16: 335 | R16: 45 | S16: 326 | T16: 1753 | U16: 770 | V16: 705 | W16: 65 | X16: 56 | Y16: 600 | Z16: 3 | AA16: 2 | AB16: 13 | AC16: 2 | AD16: 1 | AE16: 4 | AF16: 4 | AG16: 571 | AH16: 327 | AI16: 153 | AJ16: 17 | AK16: 35 | AL16: 13 | AM16: 13 | AN16: 32 | AO16: 56 | AP16: 8
A17: 嘉義縣 | C17: 1758 | D17: 235 | E17: 1 | F17: 51 | G17: 30 | H17: 0 | I17: 641 | J17: 0 | K17: 2 | L17: 0 | M17: 755 | N17: 43 | O17: 1664 | P17: 1051 | Q17: 278 | R17: 71 | S17: 264 | T17: 1664 | U17: 748 | V17: 658 | W17: 90 | X17: 44 | Y17: 557 | Z17: 2 | AA17: 1 | AB17: 16 | AC17: 6 | AD17: 5 | AE17: 3 | AF17: 2 | AG17: 522 | AH17: 315 | AI17: 157 | AJ17: 22 | AK17: 44 | AL17: 25 | AM17: 20 | AN17: 14 | AO17: 28 | AP17: 5
A18: 臺南縣 | C18: 2771 | D18: 450 | E18: 2 | F18: 63 | G18: 42 | H18: 0 | I18: 1128 | J18: 0 | K18: 5 | L18: 2 | M18: 1050 | N18: 29 | O18: 2651 | P18: 1607 | Q18: 497 | R18: 81 | S18: 466 | T18: 2651 | U18: 1229 | V18: 1100 | W18: 129 | X18: 100 | Y18: 795 | Z18: 4 | AA18: 1 | AB18: 15 | AC18: 2 | AD18: 1 | AE18: 4 | AF18: 1 | AG18: 767 | AH18: 527 | AI18: 217 | AJ18: 31 | AK18: 142 | AL18: 18 | AM18: 17 | AN18: 48 | AO18: 48 | AP18: 6
... A32: 連江縣 | C32: 12 | D32: 1 | E32: 0 | F32: 0 | G32: 0 | H32: 0 | I32: 4 | J32: 0 | K32: 1 | L32: 0 | M32: 5 | N32: 1 | O32: 11 | P32: 10 | Q32: 1 | R32: 0 | S32: 0 | T32: 11 | U32: 8 | V32: 8 | W32: 0 | X32: 1 | Y32: 1 | Z32: 0 | AA32: 0 | AB32: 0 | AC32: 0 | AD32: 0 | AE32: 0 | AF32: 0 | AG32: 1 | AH32: 1 | AI32: 0 | AJ32: 0 | AK32: 1 | AL32: 0 | AM32: 0 | AN32: 0 | AO32: 0 | AP32: 0

Sheet 96
A1: 5.1-01 家庭暴力事件通報案件統計
A3: 區域別 | C3: 通報件次(複選) | O3: 通報件數
C4: 合計 | D4: 通報單位別 | O4: 案件類型別 | T4: 被害及加害者兩造關係別
D5: 113 | E5: 防治中心 | F5: 教育 | G5: 社政 | H5: 勞政 | I5: 警政 | J5: 司法 | K5: 衛生 | L5: 診所 | M5: 醫院 | N5: 其他 | O5: 合計 | P5: 婚姻、離婚或同居關係暴力 | Q5: 兒少 保護 | R5: 老人 虐待 | S5: 其他 | T5: 合計 | U5: 配偶 | X5: 前配偶 (離婚) | Y5: 曾同住之其他家庭成員 | AH5: 現同住之其他家庭成員
U6: 小計 | V6: 共同 生活 | W6: 分居 | Y6: 小計 | Z6: 直系 血親 | AA6: 直系 姻親 | AB6: 同居 關係 | AC6: 四等親 內旁系 血親 | AD6: 四等親 內旁系 姻親 | AE6: 家屬間 | AF6: 家長 家屬 | AG6: 其他 | AH6: 小計 | AI6: 直系 血親 | AJ6: 直系 姻親 | AK6: 同居 關係 | AL6: 四等親 內旁系 血親 | AM6: 四等親 內旁系 姻親 | AN6: 家屬間 | AO6: 家長 家屬 | AP6: 其他
A7: 96年 2007 | C7: 76755 | D7: 9465 | E7: 240 | F7: 1882 | G7: 3361 | H7: 0 | I7: 31788 | J7: 106 | K7: 123 | L7: 25 | M7: 28428 | N7: 1337 | O7: 72606 | P7: 43788 | Q7: 14243 | R7: 1952 | S7: 12623 | T7: 72606 | U7: 35182 | V7: 32258 | W7: 2924 | X7: 2745 | Y7: 16147 | Z7: 188 | AA7: 45 | AB7: 324 | AC7: 106 | AD7: 50 | AE7: 46 | AF7: 51 | AG7: 15337 | AH7: 18532 | AI7: 8245 | AJ7: 589 | AK7: 3391 | AL7: 1767 | AM7: 646 | AN7: 1111 | AO7: 1476 | AP7: 1307
A8: 臺北縣 | C8: 12741 | D8: 1699 | E8: 0 | F8: 386 | G8: 540 | H8: 0 | I8: 4100 | J8: 3 | K8: 4 | L8: 2 | M8: 5995 | N8: 12 | O8: 12236 | P8: 7670 | Q8: 2528 | R8: 288 | S8: 1750 | T8: 12236 | U8: 6560 | V8: 6079 | W8: 481 | X8: 453 | Y8: 1674 | Z8: 28 | AA8: 5 | AB8: 35 | AC8: 6 | AD8: 6 | AE8: 0 | AF8: 2 | AG8: 1592 | AH8: 3549 | AI8: 1861 | AJ8: 102 | AK8: 690 | AL8: 414 | AM8: 116 | AN8: 123 | AO8: 63 | AP8: 180
A9: 宜蘭縣 | C9: 2166 | D9: 183 | E9: 0 | F9: 83 | G9: 126 | H9: 0 | I9: 815 | J9: 8 | K9: 6 | L9: 2 | M9: 844 | N9: 99 | O9: 2099 | P9: 1206 | Q9: 445 | R9: 68 | S9: 380 | T9: 2099 | U9: 979 | V9: 915 | W9: 64 | X9: 70 | Y9: 497 | Z9: 3 | AA9: 3 | AB9: 5 | AC9: 1 | AD9: 0 | AE9: 2 | AF9: 2 | AG9: 481 | AH9: 553 | AI9: 232 | AJ9: 24 | AK9: 96 | AL9: 88 | AM9: 23 | AN9: 26 | AO9: 38 | AP9: 26
A10: 桃園縣 | C10: 6901 | D10: 977 | E10: 64 | F10: 216 | G10: 263 | H10: 0 | I10: 2503 | J10: 27 | K10: 12 | L10: 4 | M10: 2757 | N10: 78 | O10: 6671 | P10: 3942 | Q10: 1506 | R10: 153 | S10: 1070 | T10: 6671 | U10: 3280 | V10: 2964 | W10: 316 | X10: 212 | Y10: 1768 | Z10: 4 | AA10: 2 | AB10: 15 | AC10: 3 | AD10: 3 | AE10: 1 | AF10: 4 | AG10: 1736 | AH10: 1411 | AI10: 600 | AJ10: 56 | AK10: 248 | AL10: 77 | AM10: 35 | AN10: 83 | AO10: 147 | AP10: 165
A11: 新竹縣 | C11: 2028 | D11: 180 | E11: 3 | F11: 33 | G11: 253 | H11: 0 | I11: 818 | J11: 1 | K11: 0 | L11: 0 | M11: 704 | N11: 36 | O11: 1901 | P11: 1246 | Q11: 282 | R11: 61 | S11: 312 | T11: 1901 | U11: 1029 | V11: 949 | W11: 80 | X11: 115 | Y11: 348 | Z11: 2 | AA11: 1 | AB11: 14 | AC11: 0 | AD11: 0 | AE11: 0 | AF11: 1 | AG11: 330 | AH11: 409 | AI11: 185 | AJ11: 10 | AK11: 48 | AL11: 36 | AM11: 22 | AN11: 28 | AO11: 31 | AP11: 49
A12: 苗栗縣 | C12: 1350 | D12: 197 | E12: 0 | F12: 11 | G12: 31 | H12: 0 | I12: 442 | J12: 2 | K12: 4 | L12: 0 | M12: 655 | N12: 8 | O12: 1333 | P12: 1025 | Q12: 204 | R12: 23 | S12: 81 | T12: 1333 | U12: 715 | V12: 683 | W12: 32 | X12: 31 | Y12: 373 | Z12: 31 | AA12: 3 | AB12: 11 | AC12: 27 | AD12: 7 | AE12: 9 | AF12: 4 | AG12: 281 | AH12: 214 | AI12: 109 | AJ12: 9 | AK12: 34 | AL12: 21 | AM12: 6 | AN12: 22 | AO12: 10 | AP12: 3
A13: 臺中縣 | C13: 3849 | D13: 684 | E13: 19 | F13: 105 | G13: 105 | H13: 0 | I13: 1656 | J13: 1 | K13: 1 | L13: 0 | M13: 1243 | N13: 35 | O13: 3706 | P13: 2199 | Q13: 775 | R13: 102 | S13: 630 | T13: 3706 | U13: 1746 | V13: 1624 | W13: 122 | X13: 118 | Y13: 997 | Z13: 7 | AA13: 2 | AB13: 10 | AC13: 3 | AD13: 4 | AE13: 3 | AF13: 4 | AG13: 964 | AH13: 845 | AI13: 326 | AJ13: 19 | AK13: 218 | AL13: 44 | AM13: 31 | AN13: 52 | AO13: 93 | AP13: 62
A14: 彰化縣 | C14: 3801 | D14: 461 | E14: 1 | F14: 48 | G14: 139 | H14: 0 | I14: 2190 | J14: 3 | K14: 4 | L14: 2 | M14: 892 | N14: 61 | O14: 3677 | P14: 2364 | Q14: 566 | R14: 110 | S14: 637 | T14: 3677 | U14: 1827 | V14: 1660 | W14: 167 | X14: 121 | Y14: 695 | Z14: 3 | AA14: 1 | AB14: 15 | AC14: 4 | AD14: 3 | AE14: 1 | AF14: 2 | AG14: 666 | AH14: 1034 | AI14: 374 | AJ14: 41 | AK14: 256 | AL14: 67 | AM14: 43 | AN14: 94 | AO14: 124 | AP14: 35
A15: 南投縣 | C15: 2112 | D15: 212 | E15: 2 | F15: 115 | G15: 66 | H15: 0 | I15: 798 | J15: 10 | K15: 52 | L15: 1 | M15: 581 | N15: 275 | O15: 1972 | P15: 1025 | Q15: 623 | R15: 37 | S15: 287 | T15: 1972 | U15: 801 | V15: 719 | W15: 82 | X15: 41 | Y15: 825 | Z15: 30 | AA15: 5 | AB15: 10 | AC15: 11 | AD15: 3 | AE15: 4 | AF15: 7 | AG15: 755 | AH15: 305 | AI15: 110 | AJ15: 16 | AK15: 102 | AL15: 15 | AM15: 6 | AN15: 26 | AO15: 25 | AP15: 5
A16: 雲林縣 | C16: 803 | D16: 219 | E16: 0 | F16: 9 | G16: 11 | H16: 0 | I16: 342 | J16: 2 | K16: 0 | L16: 0 | M16: 213 | N16: 7 | O16: 779 | P16: 486 | Q16: 175 | R16: 23 | S16: 95 | T16: 779 | U16: 397 | V16: 367 | W16: 30 | X16: 25 | Y16: 222 | Z16: 4 | AA16: 1 | AB16: 2 | AC16: 0 | AD16: 0 | AE16: 2 | AF16: 2 | AG16: 211 | AH16: 135 | AI16: 74 | AJ16: 8 | AK16: 18 | AL16: 6 | AM16: 2 | AN16: 8 | AO16: 15 | AP16: 4
A17: 嘉義縣 | C17: 1886 | D17: 162 | E17: 0 | F17: 22 | G17: 33 | H17: 0 | I17: 745 | J17: 0 | K17: 0 | L17: 1 | M17: 856 | N17: 67 | O17: 1799 | P17: 1223 | Q17: 192 | R17: 101 | S17: 283 | T17: 1799 | U17: 974 | V17: 874 | W17: 100 | X17: 40 | Y17: 418 | Z17: 4 | AA17: 1 | AB17: 9 | AC17: 4 | AD17: 3 | AE17: 1 | AF17: 3 | AG17: 393 | AH17: 367 | AI17: 132 | AJ17: 18 | AK17: 39 | AL17: 54 | AM17: 34 | AN17: 26 | AO17: 61 | AP17: 3
A18: 臺南縣 | C18: 2603 | D18: 306 | E18: 0 | F18: 38 | G18: 49 | H18: 0 | I18: 1157 | J18: 5 | K18: 2 | L18: 0 | M18: 1004 | N18: 42 | O18: 2459 | P18: 1577 | Q18: 439 | R18: 86 | S18: 357 | T18: 2459 | U18: 1235 | V18: 1114 | W18: 121 | X18: 94 | Y18: 596 | Z18: 4 | AA18: 1 | AB18: 15 | AC18: 2 | AD18: 3 | AE18: 3 | AF18: 0 | AG18: 568 | AH18: 534 | AI18: 218 | AJ18: 31 | AK18: 78 | AL18: 28 | AM18: 21 | AN18: 33 | AO18: 88 | AP18: 37
... A32: 連江縣 | C32: 17 | D32: 1 | E32: 1 | F32: 0 | G32: 0 | H32: 0 | I32: 8 | J32: 1 | K32: 0 | L32: 0 | M32: 6 | N32: 0 | O32: 17 | P32: 12 | Q32: 3 | R32: 1 | S32: 1 | T32: 17 | U32: 9 | V32: 9 | W32: 0 | X32: 1 | Y32: 1 | Z32: 0 | AA32: 0 | AB32: 0 | AC32: 0 | AD32: 0 | AE32: 0 | AF32: 0 | AG32: 1 | AH32: 6 | AI32: 5 | AJ32: 0 | AK32: 0 | AL32: 0 | AM32: 0 | AN32: 1 | AO32: 0 | AP32: 0

Sheet 95
A1: 5.1-01 家庭暴力事件通報案件統計
A3: 區域別 | C3: 通報件次(複選) | O3: 通報件數
C4: 合計 | D4: 通報單位別 | O4: 案件類型別 | T4: 被害及加害者兩造關係別
D5: 113 | E5: 防治中心 | F5: 教育 | G5: 社政 | H5: 勞政 | I5: 警政 | J5: 司法 | K5: 衛生 | L5: 診所 | M5: 醫院 | N5: 其他 | O5: 合計 | P5: 婚姻、離婚或同居關係暴力 | Q5: 兒少 保護 | R5: 老人 虐待 | S5: 其他 | T5: 合計 | U5: 配偶 | X5: 前配偶 (離婚) | Y5: 曾同住之其他家庭成員 | AH5: 現同住之其他家庭成員
U6: 小計 | V6: 共同 生活 | W6: 分居 | Y6: 小計 | Z6: 直系 血親 | AA6: 直系 姻親 | AB6: 同居 關係 | AC6: 四等親 內旁系 血親 | AD6: 四等親 內旁系 姻親 | AE6: 家屬間 | AF6: 家長 家屬 | AG6: 其他 | AH6: 小計 | AI6: 直系 血親 | AJ6: 直系 姻親 | AK6: 同居 關係 | AL6: 四等親 內旁系 血親 | AM6: 四等親 內旁系 姻親 | AN6: 家屬間 | AO6: 家長 家屬 | AP6: 其他
A7: 95年 2006 | C7: 70842 | D7: 7743 | E7: 219 | F7: 1457 | G7: 2939 | H7: 0 | I7: 30522 | J7: 92 | K7: 54 | L7: 35 | M7: 26650 | N7: 1131 | O7: 66635 | P7: 41517 | Q7: 10952 | R7: 1573 | S7: 12593 | T7: 66635 | U7: 33637 | V7: 30861 | W7: 2776 | X7: 2473 | Y7: 13721 | Z7: 95 | AA7: 32 | AB7: 321 | AC7: 41 | AD7: 72 | AE7: 43 | AF7: 45 | AG7: 13072 | AH7: 16804 | AI7: 7260 | AJ7: 509 | AK7: 3222 | AL7: 1369 | AM7: 554 | AN7: 945 | AO7: 1434 | AP7: 1511
A8: 臺北縣 | C8: 11086 | D8: 1251 | E8: 0 | F8: 309 | G8: 495 | H8: 0 | I8: 3801 | J8: 1 | K8: 5 | L8: 1 | M8: 5201 | N8: 22 | O8: 10578 | P8: 6936 | Q8: 1989 | R8: 205 | S8: 1448 | T8: 10578 | U8: 5795 | V8: 5368 | W8: 427 | X8: 423 | Y8: 1413 | Z8: 10 | AA8: 6 | AB8: 46 | AC8: 1 | AD8: 8 | AE8: 6 | AF8: 4 | AG8: 1332 | AH8: 2947 | AI8: 1622 | AJ8: 87 | AK8: 360 | AL8: 303 | AM8: 88 | AN8: 88 | AO8: 67 | AP8: 332
A9: 宜蘭縣 | C9: 1958 | D9: 132 | E9: 7 | F9: 75 | G9: 100 | H9: 0 | I9: 764 | J9: 15 | K9: 3 | L9: 3 | M9: 828 | N9: 31 | O9: 1907 | P9: 1226 | Q9: 344 | R9: 59 | S9: 278 | T9: 1907 | U9: 926 | V9: 861 | W9: 65 | X9: 77 | Y9: 360 | Z9: 0 | AA9: 1 | AB9: 1 | AC9: 2 | AD9: 2 | AE9: 1 | AF9: 0 | AG9: 353 | AH9: 544 | AI9: 191 | AJ9: 27 | AK9: 134 | AL9: 79 | AM9: 22 | AN9: 13 | AO9: 20 | AP9: 58
A10: 桃園縣 | C10: 5509 | D10: 739 | E10: 6 | F10: 89 | G10: 158 | H10: 0 | I10: 2075 | J10: 25 | K10: 2 | L10: 5 | M10: 2356 | N10: 54 | O10: 5279 | P10: 3473 | Q10: 987 | R10: 99 | S10: 720 | T10: 5279 | U10: 2906 | V10: 2646 | W10: 260 | X10: 177 | Y10: 1177 | Z10: 5 | AA10: 2 | AB10: 16 | AC10: 0 | AD10: 2 | AE10: 6 | AF10: 5 | AG10: 1141 | AH10: 1019 | AI10: 435 | AJ10: 32 | AK10: 185 | AL10: 50 | AM10: 20 | AN10: 67 | AO10: 103 | AP10: 127
A11: 新竹縣 | C11: 1763 | D11: 113 | E11: 0 | F11: 18 | G11: 238 | H11: 0 | I11: 728 | J11: 1 | K11: 1 | L11: 1 | M11: 650 | N11: 13 | O11: 1665 | P11: 1182 | Q11: 203 | R11: 40 | S11: 240 | T11: 1665 | U11: 993 | V11: 915 | W11: 78 | X11: 92 | Y11: 224 | Z11: 1 | AA11: 1 | AB11: 8 | AC11: 0 | AD11: 2 | AE11: 0 | AF11: 1 | AG11: 211 | AH11: 356 | AI11: 152 | AJ11: 13 | AK11: 50 | AL11: 45 | AM11: 17 | AN11: 18 | AO11: 33 | AP11: 28
A12: 苗栗縣 | C12: 1449 | D12: 159 | E12: 0 | F12: 7 | G12: 28 | H12: 0 | I12: 533 | J12: 0 | K12: 4 | L12: 0 | M12: 712 | N12: 6 | O12: 1425 | P12: 1114 | Q12: 172 | R12: 53 | S12: 86 | T12: 1425 | U12: 777 | V12: 723 | W12: 54 | X12: 42 | Y12: 342 | Z12: 19 | AA12: 1 | AB12: 6 | AC12: 3 | AD12: 2 | AE12: 5 | AF12: 2 | AG12: 304 | AH12: 264 | AI12: 118 | AJ12: 15 | AK12: 47 | AL12: 44 | AM12: 6 | AN12: 16 | AO12: 14 | AP12: 4
A13: 臺中縣 | C13: 4105 | D13: 606 | E13: 9 | F13: 63 | G13: 127 | H13: 0 | I13: 1774 | J13: 0 | K13: 9 | L13: 3 | M13: 1492 | N13: 22 | O13: 3945 | P13: 2656 | Q13: 636 | R13: 103 | S13: 550 | T13: 3945 | U13: 2237 | V13: 2064 | W13: 173 | X13: 127 | Y13: 790 | Z13: 3 | AA13: 1 | AB13: 12 | AC13: 4 | AD13: 4 | AE13: 1 | AF13: 2 | AG13: 763 | AH13: 791 | AI13: 330 | AJ13: 30 | AK13: 155 | AL13: 61 | AM13: 27 | AN13: 68 | AO13: 79 | AP13: 41
A14: 彰化縣 | C14: 3399 | D14: 323 | E14: 3 | F14: 26 | G14: 52 | H14: 0 | I14: 2077 | J14: 2 | K14: 0 | L14: 0 | M14: 833 | N14: 83 | O14: 3285 | P14: 2118 | Q14: 423 | R14: 87 | S14: 657 | T14: 3285 | U14: 1621 | V14: 1490 | W14: 131 | X14: 134 | Y14: 482 | Z14: 1 | AA14: 2 | AB14: 13 | AC14: 0 | AD14: 3 | AE14: 0 | AF14: 0 | AG14: 463 | AH14: 1048 | AI14: 371 | AJ14: 32 | AK14: 333 | AL14: 62 | AM14: 30 | AN14: 60 | AO14: 113 | AP14: 47
A15: 南投縣 | C15: 1828 | D15: 189 | E15: 2 | F15: 56 | G15: 55 | H15: 0 | I15: 791 | J15: 7 | K15: 5 | L15: 3 | M15: 506 | N15: 214 | O15: 1695 | P15: 1030 | Q15: 424 | R15: 50 | S15: 191 | T15: 1695 | U15: 823 | V15: 762 | W15: 61 | X15: 55 | Y15: 510 | Z15: 1 | AA15: 1 | AB15: 7 | AC15: 3 | AD15: 2 | AE15: 0 | AF15: 2 | AG15: 494 | AH15: 307 | AI15: 127 | AJ15: 13 | AK15: 35 | AL15: 22 | AM15: 0 | AN15: 41 | AO15: 31 | AP15: 38
A16: 雲林縣 | C16: 1242 | D16: 162 | E16: 0 | F16: 12 | G16: 13 | H16: 0 | I16: 681 | J16: 6 | K16: 0 | L16: 0 | M16: 304 | N16: 64 | O16: 1198 | P16: 362 | Q16: 156 | R16: 6 | S16: 674 | T16: 1198 | U16: 248 | V16: 240 | W16: 8 | X16: 6 | Y16: 887 | Z16: 0 | AA16: 0 | AB16: 0 | AC16: 0 | AD16: 0 | AE16: 0 | AF16: 0 | AG16: 887 | AH16: 57 | AI16: 19 | AJ16: 3 | AK16: 19 | AL16: 4 | AM16: 2 | AN16: 3 | AO16: 3 | AP16: 4
A17: 嘉義縣 | C17: 1880 | D17: 157 | E17: 1 | F17: 25 | G17: 13 | H17: 0 | I17: 795 | J17: 1 | K17: 2 | L17: 0 | M17: 808 | N17: 78 | O17: 1696 | P17: 1147 | Q17: 223 | R17: 66 | S17: 260 | T17: 1696 | U17: 854 | V17: 770 | W17: 84 | X17: 73 | Y17: 400 | Z17: 0 | AA17: 2 | AB17: 15 | AC17: 1 | AD17: 2 | AE17: 1 | AF17: 2 | AG17: 377 | AH17: 369 | AI17: 151 | AJ17: 16 | AK17: 78 | AL17: 24 | AM17: 11 | AN17: 26 | AO17: 53 | AP17: 10
A18: 臺南縣 | C18: 2215 | D18: 231 | E18: 4 | F18: 29 | G18: 22 | H18: 0 | I18: 1018 | J18: 2 | K18: 3 | L18: 0 | M18: 855 | N18: 51 | O18: 2081 | P18: 1189 | Q18: 327 | R18: 37 | S18: 528 | T18: 2081 | U18: 1045 | V18: 935 | W18: 110 | X18: 65 | Y18: 536 | Z18: 4 | AA18: 4 | AB18: 7 | AC18: 0 | AD18: 4 | AE18: 1 | AF18: 2 | AG18: 514 | AH18: 435 | AI18: 161 | AJ18: 14 | AK18: 86 | AL18: 14 | AM18: 10 | AN18: 39 | AO18: 72 | AP18: 39
... A32: 連江縣 | C32: 20 | D32: 1 | E32: 0 | F32: 0 | G32: 0 | H32: 0 | I32: 12 | J32: 0 | K32: 0 | L32: 0 | M32: 7 | N32: 0 | O32: 20 | P32: 17 | Q32: 0 | R32: 0 | S32: 3 | T32: 20 | U32: 13 | V32: 13 | W32: 0 | X32: 0 | Y32: 2 | Z32: 0 | AA32: 0 | AB32: 1 | AC32: 0 | AD32: 0 | AE32: 0 | AF32: 0 | AG32: 1 | AH32: 5 | AI32: 2 | AJ32: 0 | AK32: 1 | AL32: 0 | AM32: 0 | AN32: 1 | AO32: 1 | AP32: 0

Sheet 94
A1: 5.1-01 家庭暴力事件通報案件統計
A3: 區域別 | C3: 通報件次(複選) | O3: 通報件數
C4: 合計 | D4: 通報單位別 | O4: 案件類型別 | T4: 被害及加害者兩造關係別
D5: 113 | E5: 防治中心 | F5: 教育 | G5: 社政 | H5: 勞政 | I5: 警政 | J5: 司法 | K5: 衛生 | L5: 診所 | M5: 醫院 | N5: 其他 | O5: 合計 | P5: 婚姻、離婚或同居關係暴力 | Q5: 兒少 保護 | R5: 老人 虐待 | S5: 其他 | T5: 合計 | U5: 配偶 | X5: 前配偶 (離婚) | Y5: 曾同住之其他家庭成員 | AH5: 現同住之其他家庭成員
U6: 小計 | V6: 共同 生活 | W6: 分居 | Y6: 小計 | Z6: 直系 血親 | AA6: 直系 姻親 | AB6: 同居 關係 | AC6: 四等親 內旁系 血親 | AD6: 四等親 內旁系 姻親 | AE6: 家屬間 | AF6: 家長 家屬 | AG6: 其他 | AH6: 小計 | AI6: 直系 血親 | AJ6: 直系 姻親 | AK6: 同居 關係 | AL6: 四等親 內旁系 血親 | AM6: 四等親 內旁系 姻親 | AN6: 家屬間 | AO6: 家長 家屬 | AP6: 其他
A7: 94年 2005 | C7: 66080 | D7: 7950 | E7: 230 | F7: 1146 | G7: 2822 | H7: 2 | I7: 28181 | J7: 69 | K7: 61 | L7: 51 | M7: 24813 | N7: 755 | O7: 62310 | P7: 40659 | Q7: 8865 | R7: 1616 | S7: 11170 | T7: 62310 | U7: 32653 | V7: 29613 | W7: 3040 | X7: 2329 | Y7: 11532 | Z7: 142 | AA7: 29 | AB7: 334 | AC7: 45 | AD7: 62 | AE7: 63 | AF7: 41 | AG7: 10816 | AH7: 15796 | AI7: 6688 | AJ7: 487 | AK7: 3256 | AL7: 1317 | AM7: 628 | AN7: 999 | AO7: 1310 | AP7: 1111
A8: 臺北縣 | C8: 10890 | D8: 1454 | E8: 0 | F8: 234 | G8: 342 | H8: 0 | I8: 4090 | J8: 2 | K8: 3 | L8: 16 | M8: 4694 | N8: 55 | O8: 10230 | P8: 6761 | Q8: 1665 | R8: 215 | S8: 1589 | T8: 10230 | U8: 5400 | V8: 4957 | W8: 443 | X8: 341 | Y8: 2170 | Z8: 16 | AA8: 4 | AB8: 36 | AC8: 7 | AD8: 6 | AE8: 4 | AF8: 3 | AG8: 2094 | AH8: 2319 | AI8: 1131 | AJ8: 65 | AK8: 404 | AL8: 192 | AM8: 69 | AN8: 129 | AO8: 144 | AP8: 185
A9: 宜蘭縣 | C9: 1817 | D9: 161 | E9: 1 | F9: 51 | G9: 21 | H9: 0 | I9: 756 | J9: 0 | K9: 6 | L9: 1 | M9: 784 | N9: 36 | O9: 1759 | P9: 1188 | Q9: 266 | R9: 50 | S9: 255 | T9: 1759 | U9: 980 | V9: 900 | W9: 80 | X9: 63 | Y9: 278 | Z9: 4 | AA9: 0 | AB9: 8 | AC9: 2 | AD9: 4 | AE9: 3 | AF9: 0 | AG9: 257 | AH9: 438 | AI9: 163 | AJ9: 13 | AK9: 70 | AL9: 41 | AM9: 21 | AN9: 36 | AO9: 39 | AP9: 55
A10: 桃園縣 | C10: 3144 | D10: 756 | E10: 1 | F10: 9 | G10: 126 | H10: 0 | I10: 1145 | J10: 6 | K10: 2 | L10: 0 | M10: 1075 | N10: 24 | O10: 3042 | P10: 1919 | Q10: 519 | R10: 48 | S10: 556 | T10: 3042 | U10: 1736 | V10: 1568 | W10: 168 | X10: 104 | Y10: 672 | Z10: 7 | AA10: 0 | AB10: 8 | AC10: 2 | AD10: 3 | AE10: 1 | AF10: 3 | AG10: 648 | AH10: 530 | AI10: 219 | AJ10: 20 | AK10: 119 | AL10: 29 | AM10: 20 | AN10: 29 | AO10: 55 | AP10: 39
A11: 新竹縣 | C11: 1776 | D11: 175 | E11: 0 | F11: 4 | G11: 239 | H11: 0 | I11: 748 | J11: 0 | K11: 3 | L11: 0 | M11: 606 | N11: 1 | O11: 1674 | P11: 1136 | Q11: 181 | R11: 67 | S11: 290 | T11: 1674 | U11: 973 | V11: 870 | W11: 103 | X11: 65 | Y11: 176 | Z11: 3 | AA11: 2 | AB11: 10 | AC11: 0 | AD11: 5 | AE11: 4 | AF11: 1 | AG11: 151 | AH11: 460 | AI11: 242 | AJ11: 24 | AK11: 60 | AL11: 57 | AM11: 16 | AN11: 23 | AO11: 9 | AP11: 29
A12: 苗栗縣 | C12: 1640 | D12: 237 | E12: 1 | F12: 21 | G12: 39 | H12: 0 | I12: 563 | J12: 1 | K12: 2 | L12: 2 | M12: 765 | N12: 9 | O12: 1592 | P12: 1193 | Q12: 181 | R12: 73 | S12: 145 | T12: 1592 | U12: 850 | V12: 788 | W12: 62 | X12: 47 | Y12: 303 | Z12: 8 | AA12: 0 | AB12: 12 | AC12: 1 | AD12: 0 | AE12: 1 | AF12: 2 | AG12: 279 | AH12: 392 | AI12: 205 | AJ12: 14 | AK12: 65 | AL12: 42 | AM12: 14 | AN12: 22 | AO12: 26 | AP12: 4
A13: 臺中縣 | C13: 3817 | D13: 731 | E13: 74 | F13: 89 | G13: 55 | H13: 0 | I13: 1680 | J13: 0 | K13: 12 | L13: 4 | M13: 1160 | N13: 12 | O13: 3706 | P13: 2410 | Q13: 784 | R13: 130 | S13: 382 | T13: 3706 | U13: 2117 | V13: 1921 | W13: 196 | X13: 107 | Y13: 723 | Z13: 2 | AA13: 0 | AB13: 13 | AC13: 1 | AD13: 1 | AE13: 2 | AF13: 1 | AG13: 703 | AH13: 759 | AI13: 438 | AJ13: 39 | AK13: 109 | AL13: 57 | AM13: 37 | AN13: 27 | AO13: 42 | AP13: 10
A14: 彰化縣 | C14: 3238 | D14: 408 | E14: 5 | F14: 16 | G14: 6 | H14: 0 | I14: 2094 | J14: 0 | K14: 1 | L14: 1 | M14: 686 | N14: 21 | O14: 3158 | P14: 2043 | Q14: 333 | R14: 59 | S14: 723 | T14: 3158 | U14: 1621 | V14: 1471 | W14: 150 | X14: 118 | Y14: 401 | Z14: 4 | AA14: 1 | AB14: 11 | AC14: 2 | AD14: 1 | AE14: 0 | AF14: 3 | AG14: 379 | AH14: 1018 | AI14: 394 | AJ14: 44 | AK14: 322 | AL14: 79 | AM14: 58 | AN14: 50 | AO14: 49 | AP14: 22
A15: 南投縣 | C15: 1531 | D15: 224 | E15: 1 | F15: 9 | G15: 11 | H15: 0 | I15: 789 | J15: 0 | K15: 1 | L15: 3 | M15: 410 | N15: 83 | O15: 1462 | P15: 876 | Q15: 173 | R15: 45 | S15: 368 | T15: 1462 | U15: 791 | V15: 733 | W15: 58 | X15: 38 | Y15: 379 | Z15: 10 | AA15: 0 | AB15: 5 | AC15: 3 | AD15: 1 | AE15: 7 | AF15: 4 | AG15: 349 | AH15: 254 | AI15: 116 | AJ15: 7 | AK15: 38 | AL15: 19 | AM15: 7 | AN15: 18 | AO15: 38 | AP15: 11
A16: 雲林縣 | C16: 227 | D16: 196 | E16: 0 | F16: 0 | G16: 0 | H16: 0 | I16: 31 | J16: 0 | K16: 0 | L16: 0 | M16: 0 | N16: 0 | O16: 222 | P16: 110 | Q16: 93 | R16: 4 | S16: 15 | T16: 222 | U16: 98 | V16: 95 | W16: 3 | X16: 4 | Y16: 98 | Z16: 0 | AA16: 0 | AB16: 0 | AC16: 0 | AD16: 0 | AE16: 0 | AF16: 0 | AG16: 98 | AH16: 22 | AI16: 10 | AJ16: 3 | AK16: 5 | AL16: 2 | AM16: 2 | AN16: 0 | AO16: 0 | AP16: 0
A17: 嘉義縣 | C17: 1899 | D17: 186 | E17: 2 | F17: 26 | G17: 34 | H17: 0 | I17: 826 | J17: 1 | K17: 2 | L17: 1 | M17: 781 | N17: 40 | O17: 1718 | P17: 1260 | Q17: 143 | R17: 59 | S17: 256 | T17: 1718 | U17: 924 | V17: 840 | W17: 84 | X17: 55 | Y17: 384 | Z17: 1 | AA17: 1 | AB17: 9 | AC17: 1 | AD17: 5 | AE17: 3 | AF17: 2 | AG17: 362 | AH17: 355 | AI17: 141 | AJ17: 14 | AK17: 65 | AL17: 34 | AM17: 18 | AN17: 22 | AO17: 41 | AP17: 20
A18: 臺南縣 | C18: 1971 | D18: 256 | E18: 3 | F18: 37 | G18: 17 | H18: 0 | I18: 900 | J18: 9 | K18: 1 | L18: 2 | M18: 679 | N18: 67 | O18: 1840 | P18: 1086 | Q18: 279 | R18: 32 | S18: 443 | T18: 1840 | U18: 1010 | V18: 868 | W18: 142 | X18: 64 | Y18: 431 | Z18: 3 | AA18: 0 | AB18: 6 | AC18: 0 | AD18: 3 | AE18: 1 | AF18: 3 | AG18: 415 | AH18: 335 | AI18: 171 | AJ18: 5 | AK18: 59 | AL18: 17 | AM18: 6 | AN18: 24 | AO18: 42 | AP18: 11
... A32: 連江縣 | C32: 11 | D32: 2 | E32: 0 | F32: 0 | G32: 1 | H32: 0 | I32: 7 | J32: 0 | K32: 0 | L32: 0 | M32: 1 | N32: 0 | O32: 9 | P32: 9 | Q32: 0 | R32: 0 | S32: 0 | T32: 9 | U32: 6 | V32: 5 | W32: 1 | X32: 0 | Y32: 1 | Z32: 0 | AA32: 0 | AB32: 0 | AC32: 0 | AD32: 0 | AE32: 0 | AF32: 0 | AG32: 1 | AH32: 2 | AI32: 0 | AJ32: 0 | AK32: 2 | AL32: 0 | AM32: 0 | AN32: 0 | AO32: 0 | AP32: 0
