Workbook
Name pp: '100'!$B$1:$S$14
Name pp: '101'!$B$1:$S$14
Name pp: '102'!$B$1:$T$14
Name pp: '103'!$B$1:$T$14
Name pp: '104'!$B$1:$T$14
Name pp: '105'!$B$1:$T$14
Name pp: '106'!$B$1:$T$14
Name pp: '107'!$B$1:$T$14
Name pp: '94'!$B$1:$S$10
Name pp: '94~107'!$B$1:$AG$9
Name pp: '95'!$B$1:$S$10
Name pp: '97'!$B$1:$S$10
Name pp: '98'!$B$1:$S$10
Name pp: '99'!$B$1:$S$10
Name pp: '96'!$B$1:$S$10

Sheet 歷年(108~)
A1: 5.1-01 家庭暴力事件通報案件統計
A3: 年別 | C3: 通報件次 | O3: 通報件數
C4: 合計 | D4: 通報人員別 | O4: 案件類型別 | W4: 被害及相對人兩造關係別
D5: 醫事 人員 | E5: 警察 人員 | F5: 社政/社工人員 | G5: 教育 人員 | H5: 保育 人員 | I5: 教保服務人員 | J5: 司(軍)法人員 | K5: 移民業務相關人員 | L5: 村(里)長/村(里)幹事 | M5: 戶政 人員 | N5: 其他 | O5: 合計 | P5: 婚姻、離婚或同居關係暴力 | R5: 兒少 保護 | S5: 直系血(姻)親卑親屬虐待尊親屬 | U5: 其他家庭成員間暴力 | V5: 其他 | W5: 合計 | X5: 配偶 Spouse | AB5: 前配偶 | AF5: 其他家庭成員 | AL5: 其他
P6: 同性 伴侶 | Q6: 異性 伴侶 | S6: 被害人年齡65歲以上 | T6: 被害人年齡未滿65歲 | X6: 小計 | Y6: 共同 生活 | Z6: 分居 | AA6: 其他 | AB6: 小計 | AC6: 同住 | AD6: 未同住 | AE6: 其他 | AF6: 小計 | AG6: 同居 關係 | AH6: 直系血(姻)親 | AI6: 四等親內旁系血(姻)親 | AJ6: 家長家屬或家屬間 | AK6: 其他
A7: 108年 2019 | C7: 160944 | D7: 17536 | E7: 77572 | F7: 55007 | G7: 8127 | H7: 90 | I7: 208 | J7: 441 | K7: 12 | L7: 72 | M7: 13 | N7: 1866 | O7: 128198 | P7: 63902 | R7: 20989 | S7: 6935 | T7: 7649 | U7: 28723 | V7: 0 | W7: 128198 | X7: 42366 | Y7: 26184 | Z7: 6313 | AA7: 9869 | AB7: 6242 | AC7: 1814 | AD7: 3044 | AE7: 1384 | AF7: 73976 | AG7: 15773 | AH7: 41084 | AI7: 16364 | AJ7: 755 | AK7: 0 | AL7: 5614
A8: 109年 2020 | C8: 178710 | D8: 17321 | E8: 91095 | F8: 55410 | G8: 11428 | H8: 121 | I8: 332 | J8: 577 | K8: 18 | L8: 83 | M8: 23 | N8: 2302 | O8: 141872 | P8: 67957 | R8: 25181 | S8: 8520 | T8: 9645 | U8: 30569 | V8: 0 | W8: 141872 | X8: 43427 | Y8: 34345 | Z8: 8264 | AA8: 818 | AB8: 6848 | AC8: 2616 | AD8: 4084 | AE8: 148 | AF8: 89774 | AG8: 18243 | AH8: 51110 | AI8: 19321 | AJ8: 1100 | AK8: 0 | AL8: 1823
A9: 110年 2021 | C9: 185588 | D9: 16045 | E9: 103331 | F9: 51700 | G9: 11001 | H9: 113 | I9: 267 | J9: 584 | K9: 11 | L9: 77 | M9: 20 | N9: 2439 | O9: 149198 | P9: 1351 | Q9: 68977 | R9: 24481 | S9: 9821 | T9: 11147 | U9: 33421 | V9: 0 | W9: 149198 | X9: 42472 | Y9: 33719 | Z9: 8066 | AA9: 687 | AB9: 7014 | AC9: 2656 | AD9: 4214 | AE9: 144 | AF9: 98868 | AG9: 20898 | AH9: 55699 | AI9: 21172 | AJ9: 1099 | AK9: 0 | AL9: 844
A10: 111年 2022 | C10: 192873 | D10: 15859 | E10: 114007 | F10: 47454 | G10: 11712 | H10: 149 | I10: 378 | J10: 643 | K10: 4 | L10: 72 | M10: 12 | N10: 2583 | O10: 156864 | P10: 1515 | Q10: 73537 | R10: 25193 | S10: 10443 | T10: 11459 | U10: 34717 | V10: 0 | W10: 156864 | X10: 43242 | Y10: 34420 | Z10: 8160 | AA10: 662 | AB10: 7513 | AC10: 2827 | AD10: 4556 | AE10: 130 | AF10: 105174 | AG10: 24349 | AH10: 57950 | AI10: 21724 | AJ10: 1151 | AK10: 0 | AL10: 935
A11: 112年 2023 | C11: 207919 | D11: 17804 | E11: 123395 | F11: 47808 | G11: 14040 | H11: 227 | I11: 608 | J11: 568 | K11: 7 | L11: 95 | M11: 14 | N11: 3353 | O11: 168331 | P11: 1869 | Q11: 79530 | R11: 27133 | S11: 11365 | T11: 11617 | U11: 36817 | V11: 0 | W11: 168331 | X11: 47114 | Y11: 37125 | Z11: 9225 | AA11: 764 | AB11: 8373 | AC11: 3151 | AD11: 5091 | AE11: 131 | AF11: 111811 | AG11: 25961 | AH11: 61266 | AI11: 23301 | AJ11: 1283 | AK11: 0 | AL11: 1033
A12: 113年 2024 | C12: 222293 | D12: 18730 | E12: 132237 | F12: 49703 | G12: 15596 | H12: 194 | I12: 747 | J12: 501 | K12: 9 | L12: 111 | M12: 8 | N12: 4457 | O12: 179107 | P12: 2289 | Q12: 82912 | R12: 28603 | S12: 12293 | T12: 12954 | U12: 40056 | V12: 0 | W12: 179107 | X12: 48516 | Y12: 38698 | Z12: 9049 | AA12: 769 | AB12: 8785 | AC12: 3190 | AD12: 5437 | AE12: 158 | AF12: 120665 | AG12: 27947 | AH12: 66309 | AI12: 25125 | AJ12: 1284 | AK12: 0 | AL12: 1141
A13: 資料來源：本部保護服務司。

Sheet 113
A1: 5.1-01 家庭暴力事件通報案件統計
A3: 區域別 | C3: 通報件次 | O3: 通報件數
C4: 合計 | D4: 通報人員別 | O4: 案件類型別 | W4: 被害及相對人兩造關係別
D5: 醫事 人員 | E5: 警察 人員 | F5: 社政/社工人員 | G5: 教育 人員 | H5: 保育 人員 | I5: 教保服務人員 | J5: 司(軍)法人員 | K5: 移民業務相關人員 | L5: 村(里)長/村(里)幹事 | M5: 戶政 人員 | N5: 其他 | O5: 合計 | P5: 婚姻、離婚或同居關係暴力 | R5: 兒少 保護 | S5: 直系血(姻)親卑親屬虐待尊親屬 | U5: 其他家庭成員間暴力 | V5: 其他 | W5: 合計 | X5: 配偶 Spouse | AB5: 前配偶 | AF5: 其他家庭成員 | AL5: 其他
P6: 同性 伴侶 | Q6: 異性 伴侶 | S6: 被害人年齡65歲以上 | T6: 被害人年齡未滿65歲 | X6: 小計 | Y6: 共同 生活 | Z6: 分居 | AA6: 其他 | AB6: 小計 | AC6: 同住 | AD6: 未同住 | AE6: 其他 | AF6: 小計 | AG6: 同居 關係 | AH6: 直系血(姻)親 | AI6: 四等親內旁系血(姻)親 | AJ6: 家長家屬或家屬間 | AK6: 其他
A7: 113年 2024 | C7: 222293 | D7: 18730 | E7: 132237 | F7: 49703 | G7: 15596 | H7: 194 | I7: 747 | J7: 501 | K7: 9 | L7: 111 | M7: 8 | N7: 4457 | O7: 179107 | P7: 2289 | Q7: 82912 | R7: 28603 | S7: 12293 | T7: 12954 | U7: 40056 | V7: 0 | W7: 179107 | X7: 48516 | Y7: 38698 | Z7: 9049 | AA7: 769 | AB7: 8785 | AC7: 3190 | AD7: 5437 | AE7: 158 | AF7: 120665 | AG7: 27947 | AH7: 66309 | AI7: 25125 | AJ7: 1284 | AK7: 0 | AL7: 1141
A8: 新北市 | C8: 37419 | D8: 3116 | E8: 20947 | F8: 9379 | G8: 2841 | H8: 37 | I8: 120 | J8: 64 | K8: 0 | L8: 15 | M8: 1 | N8: 899 | O8: 29360 | P8: 326 | Q8: 13660 | R8: 5246 | S8: 1759 | T8: 2137 | U8: 6232 | V8: 0 | W8: 29360 | X8: 8058 | Y8: 6289 | Z8: 1433 | AA8: 336 | AB8: 1298 | AC8: 476 | AD8: 767 | AE8: 55 | AF8: 19718 | AG8: 4650 | AH8: 11395 | AI8: 3487 | AJ8: 186 | AK8: 0 | AL8: 286
A9: 臺北市 | C9: 21285 | D9: 1646 | E9: 11921 | F9: 5488 | G9: 1547 | H9: 15 | I9: 67 | J9: 49 | K9: 0 | L9: 15 | M9: 0 | N9: 537 | O9: 17488 | P9: 289 | Q9: 7398 | R9: 3399 | S9: 1081 | T9: 1363 | U9: 3958 | V9: 0 | W9: 17488 | X9: 4570 | Y9: 3869 | Z9: 625 | AA9: 76 | AB9: 578 | AC9: 244 | AD9: 323 | AE9: 11 | AF9: 12184 | AG9: 2543 | AH9: 7071 | AI9: 2460 | AJ9: 110 | AK9: 0 | AL9: 156
A10: 桃園市 | C10: 22861 | D10: 1942 | E10: 13125 | F10: 5054 | G10: 2216 | H10: 29 | I10: 94 | J10: 50 | K10: 3 | L10: 4 | M10: 2 | N10: 342 | O10: 18305 | P10: 227 | Q10: 8986 | R10: 3214 | S10: 1172 | T10: 1351 | U10: 3355 | V10: 0 | W10: 18305 | X10: 5192 | Y10: 4145 | Z10: 1019 | AA10: 28 | AB10: 981 | AC10: 360 | AD10: 608 | AE10: 13 | AF10: 12102 | AG10: 3040 | AH10: 6711 | AI10: 2197 | AJ10: 154 | AK10: 0 | AL10: 30
A11: 臺中市 | C11: 29396 | D11: 1865 | E11: 18306 | F11: 6761 | G11: 1649 | H11: 22 | I11: 78 | J11: 173 | K11: 0 | L11: 5 | M11: 1 | N11: 536 | O11: 23998 | P11: 355 | Q11: 11786 | R11: 3237 | S11: 1608 | T11: 1577 | U11: 5435 | V11: 0 | W11: 23998 | X11: 6531 | Y11: 5129 | Z11: 1301 | AA11: 101 | AB11: 1293 | AC11: 429 | AD11: 842 | AE11: 22 | AF11: 16018 | AG11: 4320 | AH11: 8147 | AI11: 3405 | AJ11: 146 | AK11: 0 | AL11: 156
A12: 臺南市 | C12: 14727 | D12: 894 | E12: 8288 | F12: 3874 | G12: 1137 | H12: 19 | I12: 73 | J12: 15 | K12: 1 | L12: 13 | M12: 0 | N12: 413 | O12: 11907 | P12: 181 | Q12: 5101 | R12: 2114 | S12: 984 | T12: 856 | U12: 2671 | V12: 0 | W12: 11907 | X12: 2945 | Y12: 2280 | Z12: 636 | AA12: 29 | AB12: 578 | AC12: 181 | AD12: 387 | AE12: 10 | AF12: 8350 | AG12: 1760 | AH12: 4738 | AI12: 1737 | AJ12: 115 | AK12: 0 | AL12: 34
A13: 高雄市 | C13: 29627 | D13: 3705 | E13: 18580 | F13: 4700 | G13: 1853 | H13: 27 | I13: 65 | J13: 41 | K13: 0 | L13: 34 | M13: 2 | N13: 620 | O13: 23978 | P13: 405 | Q13: 11310 | R13: 3253 | S13: 1847 | T13: 1914 | U13: 5249 | V13: 0 | W13: 23978 | X13: 6214 | Y13: 5057 | Z13: 1097 | AA13: 60 | AB13: 1249 | AC13: 488 | AD13: 750 | AE13: 11 | AF13: 16487 | AG13: 4255 | AH13: 8831 | AI13: 3231 | AJ13: 170 | AK13: 0 | AL13: 28
A14: 宜蘭縣 | C14: 3713 | D14: 238 | E14: 2040 | F14: 1134 | G14: 249 | H14: 2 | I14: 14 | J14: 0 | K14: 0 | L14: 0 | M14: 0 | N14: 36 | O14: 2866 | P14: 25 | Q14: 1408 | R14: 329 | S14: 212 | T14: 212 | U14: 680 | V14: 0 | W14: 2866 | X14: 868 | Y14: 720 | Z14: 145 | AA14: 3 | AB14: 173 | AC14: 73 | AD14: 96 | AE14: 4 | AF14: 1809 | AG14: 393 | AH14: 965 | AI14: 432 | AJ14: 19 | AK14: 0 | AL14: 16
A15: 新竹縣 | C15: 5803 | D15: 586 | E15: 3240 | F15: 1389 | G15: 488 | H15: 3 | I15: 16 | J15: 4 | K15: 0 | L15: 0 | M15: 0 | N15: 77 | O15: 4403 | P15: 35 | Q15: 2152 | R15: 745 | S15: 218 | T15: 354 | U15: 899 | V15: 0 | W15: 4403 | X15: 1373 | Y15: 1104 | Z15: 252 | AA15: 17 | AB15: 226 | AC15: 82 | AD15: 138 | AE15: 6 | AF15: 2757 | AG15: 591 | AH15: 1531 | AI15: 610 | AJ15: 25 | AK15: 0 | AL15: 47
A16: 苗栗縣 | C16: 4047 | D16: 307 | E16: 2298 | F16: 1132 | G16: 259 | H16: 1 | I16: 12 | J16: 3 | K16: 0 | L16: 0 | M16: 0 | N16: 35 | O16: 3354 | P16: 46 | Q16: 1522 | R16: 575 | S16: 210 | T16: 226 | U16: 775 | V16: 0 | W16: 3354 | X16: 936 | Y16: 728 | Z16: 202 | AA16: 6 | AB16: 188 | AC16: 39 | AD16: 145 | AE16: 4 | AF16: 2180 | AG16: 448 | AH16: 1194 | AI16: 504 | AJ16: 34 | AK16: 0 | AL16: 50
A17: 彰化縣 | C17: 12777 | D17: 701 | E17: 8665 | F17: 2402 | G17: 676 | H17: 14 | I17: 44 | J17: 11 | K17: 3 | L17: 2 | M17: 0 | N17: 259 | O17: 10491 | P17: 43 | Q17: 4380 | R17: 1397 | S17: 885 | T17: 767 | U17: 3019 | V17: 0 | W17: 10491 | X17: 2826 | Y17: 2140 | Z17: 665 | AA17: 21 | AB17: 516 | AC17: 199 | AD17: 315 | AE17: 2 | AF17: 7067 | AG17: 1085 | AH17: 3980 | AI17: 1936 | AJ17: 66 | AK17: 0 | AL17: 82
A18: 南投縣 | C18: 4869 | D18: 447 | E18: 3039 | F18: 896 | G18: 368 | H18: 2 | I18: 13 | J18: 24 | K18: 0 | L18: 4 | M18: 0 | N18: 76 | O18: 4064 | P18: 29 | Q18: 1701 | R18: 778 | S18: 380 | T18: 284 | U18: 892 | V18: 0 | W18: 4064 | X18: 1060 | Y18: 898 | Z18: 158 | AA18: 4 | AB18: 162 | AC18: 77 | AD18: 84 | AE18: 1 | AF18: 2832 | AG18: 510 | AH18: 1689 | AI18: 605 | AJ18: 28 | AK18: 0 | AL18: 10
... A29: 連江縣 | C29: 70 | D29: 9 | E29: 36 | F29: 8 | G29: 15 | H29: 0 | I29: 0 | J29: 0 | K29: 0 | L29: 0 | M29: 0 | N29: 2 | O29: 50 | P29: 2 | Q29: 15 | R29: 20 | S29: 2 | T29: 2 | U29: 9 | V29: 0 | W29: 50 | X29: 13 | Y29: 9 | Z29: 2 | AA29: 2 | AB29: 2 | AC29: 1 | AD29: 1 | AE29: 0 | AF29: 31 | AG29: 2 | AH29: 22 | AI29: 7 | AJ29: 0 | AK29: 0 | AL29: 4
A30: 資料來源：本部保護服務司。
A31: Source :Department of Protective Services , MOHW.

Sheet 112
A1: 5.1-01 家庭暴力事件通報案件統計
A3: 區域別 | C3: 通報件次 | O3: 通報件數
C4: 合計 | D4: 通報人員別 | O4: 案件類型別 | W4: 被害及相對人兩造關係別
D5: 醫事 人員 | E5: 警察 人員 | F5: 社政/社工人員 | G5: 教育 人員 | H5: 保育 人員 | I5: 教保服務人員 | J5: 司(軍)法人員 | K5: 移民業務相關人員 | L5: 村(里)長/村(里)幹事 | M5: 戶政 人員 | N5: 其他 | O5: 合計 | P5: 婚姻、離婚或同居關係暴力 | R5: 兒少 保護 | S5: 直系血(姻)親卑親屬虐待尊親屬 | U5: 其他家庭成員間暴力 | V5: 其他 | W5: 合計 | X5: 配偶 Spouse | AB5: 前配偶 | AF5: 其他家庭成員 | AL5: 其他
P6: 同性 伴侶 | Q6: 異性 伴侶 | S6: 被害人年齡65歲以上 | T6: 被害人年齡未滿65歲 | X6: 小計 | Y6: 共同 生活 | Z6: 分居 | AA6: 其他 | AB6: 小計 | AC6: 同住 | AD6: 未同住 | AE6: 其他 | AF6: 小計 | AG6: 同居 關係 | AH6: 直系血(姻)親 | AI6: 四等親內旁系血(姻)親 | AJ6: 家長家屬或家屬間 | AK6: 其他
A7: 112年 2023 | C7: 207919 | D7: 17804 | E7: 123395 | F7: 47808 | G7: 14040 | H7: 227 | I7: 608 | J7: 568 | K7: 7 | L7: 95 | M7: 14 | N7: 3353 | O7: 168331 | P7: 1869 | Q7: 79530 | R7: 27133 | S7: 11365 | T7: 11617 | U7: 36817 | V7: 0 | W7: 168331 | X7: 47114 | Y7: 37125 | Z7: 9225 | AA7: 764 | AB7: 8373 | AC7: 3151 | AD7: 5091 | AE7: 131 | AF7: 111811 | AG7: 25961 | AH7: 61266 | AI7: 23301 | AJ7: 1283 | AK7: 0 | AL7: 1033
A8: 新北市 | C8: 33958 | D8: 2909 | E8: 19050 | F8: 8856 | G8: 2334 | H8: 28 | I8: 85 | J8: 74 | K8: 3 | L8: 15 | M8: 0 | N8: 604 | O8: 26755 | P8: 279 | Q8: 13125 | R8: 4347 | S8: 1543 | T8: 1876 | U8: 5585 | V8: 0 | W8: 26755 | X8: 7893 | Y8: 6069 | Z8: 1495 | AA8: 329 | AB8: 1226 | AC8: 452 | AD8: 726 | AE8: 48 | AF8: 17415 | AG8: 4301 | AH8: 9794 | AI8: 3135 | AJ8: 185 | AK8: 0 | AL8: 221
A9: 臺北市 | C9: 19875 | D9: 1602 | E9: 11231 | F9: 5263 | G9: 1181 | H9: 11 | I9: 72 | J9: 43 | K9: 1 | L9: 13 | M9: 2 | N9: 456 | O9: 16370 | P9: 218 | Q9: 7020 | R9: 2906 | S9: 1213 | T9: 1180 | U9: 3833 | V9: 0 | W9: 16370 | X9: 4296 | Y9: 3594 | Z9: 622 | AA9: 80 | AB9: 576 | AC9: 258 | AD9: 304 | AE9: 14 | AF9: 11388 | AG9: 2367 | AH9: 6570 | AI9: 2352 | AJ9: 99 | AK9: 0 | AL9: 110
A10: 桃園市 | C10: 20796 | D10: 1800 | E10: 11414 | F10: 4948 | G10: 2183 | H10: 45 | I10: 95 | J10: 42 | K10: 0 | L10: 0 | M10: 6 | N10: 263 | O10: 16710 | P10: 189 | Q10: 7963 | R10: 3345 | S10: 989 | T10: 1171 | U10: 3053 | V10: 0 | W10: 16710 | X10: 4684 | Y10: 3675 | Z10: 965 | AA10: 44 | AB10: 909 | AC10: 349 | AD10: 549 | AE10: 11 | AF10: 11060 | AG10: 2565 | AH10: 6335 | AI10: 1980 | AJ10: 180 | AK10: 0 | AL10: 57
A11: 臺中市 | C11: 29026 | D11: 1895 | E11: 17345 | F11: 7320 | G11: 1705 | H11: 36 | I11: 74 | J11: 218 | K11: 0 | L11: 5 | M11: 0 | N11: 428 | O11: 23765 | P11: 266 | Q11: 11562 | R11: 3938 | S11: 1494 | T11: 1550 | U11: 4955 | V11: 0 | W11: 23765 | X11: 6522 | Y11: 5031 | Z11: 1417 | AA11: 74 | AB11: 1226 | AC11: 409 | AD11: 802 | AE11: 15 | AF11: 15881 | AG11: 4085 | AH11: 8455 | AI11: 3152 | AJ11: 189 | AK11: 0 | AL11: 136
A12: 臺南市 | C12: 13906 | D12: 828 | E12: 8120 | F12: 3604 | G12: 981 | H12: 20 | I12: 35 | J12: 16 | K12: 0 | L12: 6 | M12: 1 | N12: 295 | O12: 11144 | P12: 137 | Q12: 5158 | R12: 1817 | S12: 867 | T12: 754 | U12: 2411 | V12: 0 | W12: 11144 | X12: 3033 | Y12: 2290 | Z12: 714 | AA12: 29 | AB12: 598 | AC12: 217 | AD12: 376 | AE12: 5 | AF12: 7482 | AG12: 1665 | AH12: 4103 | AI12: 1627 | AJ12: 87 | AK12: 0 | AL12: 31
A13: 高雄市 | C13: 28079 | D13: 3454 | E13: 17513 | F13: 4560 | G13: 1918 | H13: 37 | I13: 68 | J13: 62 | K13: 0 | L13: 30 | M13: 1 | N13: 436 | O13: 22844 | P13: 300 | Q13: 10842 | R13: 3513 | S13: 1726 | T13: 1629 | U13: 4834 | V13: 0 | W13: 22844 | X13: 6054 | Y13: 4829 | Z13: 1177 | AA13: 48 | AB13: 1150 | AC13: 476 | AD13: 666 | AE13: 8 | AF13: 15600 | AG13: 3939 | AH13: 8460 | AI13: 3020 | AJ13: 181 | AK13: 0 | AL13: 40
A14: 宜蘭縣 | C14: 3166 | D14: 227 | E14: 1601 | F14: 1090 | G14: 184 | H14: 0 | I14: 15 | J14: 3 | K14: 0 | L14: 3 | M14: 1 | N14: 42 | O14: 2486 | P14: 16 | Q14: 1199 | R14: 325 | S14: 145 | T14: 182 | U14: 619 | V14: 0 | W14: 2486 | X14: 770 | Y14: 623 | Z14: 136 | AA14: 11 | AB14: 154 | AC14: 67 | AD14: 86 | AE14: 1 | AF14: 1543 | AG14: 291 | AH14: 839 | AI14: 401 | AJ14: 12 | AK14: 0 | AL14: 19
A15: 新竹縣 | C15: 5196 | D15: 544 | E15: 3072 | F15: 1181 | G15: 330 | H15: 5 | I15: 11 | J15: 5 | K15: 0 | L15: 2 | M15: 1 | N15: 45 | O15: 4050 | P15: 43 | Q15: 2036 | R15: 555 | S15: 219 | T15: 309 | U15: 888 | V15: 0 | W15: 4050 | X15: 1343 | Y15: 1044 | Z15: 282 | AA15: 17 | AB15: 192 | AC15: 71 | AD15: 119 | AE15: 2 | AF15: 2467 | AG15: 546 | AH15: 1327 | AI15: 571 | AJ15: 23 | AK15: 0 | AL15: 48
A16: 苗栗縣 | C16: 3764 | D16: 299 | E16: 2130 | F16: 1065 | G16: 219 | H16: 3 | I16: 9 | J16: 5 | K16: 2 | L16: 1 | M16: 0 | N16: 31 | O16: 3113 | P16: 24 | Q16: 1484 | R16: 455 | S16: 216 | T16: 199 | U16: 735 | V16: 0 | W16: 3113 | X16: 889 | Y16: 701 | Z16: 183 | AA16: 5 | AB16: 171 | AC16: 42 | AD16: 127 | AE16: 2 | AF16: 2020 | AG16: 449 | AH16: 1100 | AI16: 448 | AJ16: 23 | AK16: 0 | AL16: 33
A17: 彰化縣 | C17: 11959 | D17: 642 | E17: 8374 | F17: 2107 | G17: 577 | H17: 13 | I17: 26 | J17: 14 | K17: 0 | L17: 3 | M17: 1 | N17: 202 | O17: 9970 | P17: 74 | Q17: 4326 | R17: 1193 | S17: 843 | T17: 747 | U17: 2787 | V17: 0 | W17: 9970 | X17: 2749 | Y17: 2024 | Z17: 699 | AA17: 26 | AB17: 540 | AC17: 174 | AD17: 359 | AE17: 7 | AF17: 6613 | AG17: 1114 | AH17: 3619 | AI17: 1811 | AJ17: 69 | AK17: 0 | AL17: 68
A18: 南投縣 | C18: 4660 | D18: 415 | E18: 2923 | F18: 911 | G18: 318 | H18: 4 | I18: 15 | J18: 25 | K18: 0 | L18: 1 | M18: 0 | N18: 48 | O18: 3910 | P18: 15 | Q18: 1697 | R18: 711 | S18: 292 | T18: 278 | U18: 917 | V18: 0 | W18: 3910 | X18: 1056 | Y18: 872 | Z18: 182 | AA18: 2 | AB18: 207 | AC18: 80 | AD18: 126 | AE18: 1 | AF18: 2623 | AG18: 450 | AH18: 1488 | AI18: 663 | AJ18: 22 | AK18: 0 | AL18: 24
... A29: 連江縣 | C29: 34 | D29: 4 | E29: 17 | F29: 3 | G29: 2 | H29: 1 | I29: 0 | J29: 0 | K29: 0 | L29: 0 | M29: 0 | N29: 7 | O29: 26 | P29: 0 | Q29: 15 | R29: 9 | S29: 0 | T29: 1 | U29: 1 | V29: 0 | W29: 26 | X29: 11 | Y29: 7 | Z29: 2 | AA29: 2 | AB29: 2 | AC29: 2 | AD29: 0 | AE29: 0 | AF29: 10 | AG29: 2 | AH29: 6 | AI29: 2 | AJ29: 0 | AK29: 0 | AL29: 3
A30: 資料來源：本部保護服務司。
A31: Source :Department of Protective Services , MOHW.

Sheet 111
A1: 5.1-01 家庭暴力事件通報案件統計
A3: 區域別 | C3: 通報件次 | O3: 通報件數
C4: 合計 | D4: 通報人員別 | O4: 案件類型別 | W4: 被害及相對人兩造關係別
D5: 醫事 人員 | E5: 警察 人員 | F5: 社政/社工人員 | G5: 教育 人員 | H5: 保育 人員 | I5: 教保服務人員 | J5: 司(軍)法人員 | K5: 移民業務相關人員 | L5: 村(里)長/村(里)幹事 | M5: 戶政 人員 | N5: 其他 | O5: 合計 | P5: 婚姻、離婚或同居關係暴力 | R5: 兒少 保護 | S5: 直系血(姻)親卑親屬虐待尊親屬 | U5: 其他家庭成員間暴力 | V5: 其他 | W5: 合計 | X5: 配偶 Spouse | AB5: 前配偶 | AF5: 其他家庭成員 | AL5: 其他
P6: 同性 伴侶 | Q6: 異性 伴侶 | S6: 被害人年齡65歲以上 | T6: 被害人年齡未滿65歲 | X6: 小計 | Y6: 共同 生活 | Z6: 分居 | AA6: 其他 | AB6: 小計 | AC6: 同住 | AD6: 未同住 | AE6: 其他 | AF6: 小計 | AG6: 同居 關係 | AH6: 直系血(姻)親 | AI6: 四等親內旁系血(姻)親 | AJ6: 家長家屬或家屬間 | AK6: 其他
A7: 111年 2022 | C7: 192873 | D7: 15859 | E7: 114007 | F7: 47454 | G7: 11712 | H7: 149 | I7: 378 | J7: 643 | K7: 4 | L7: 72 | M7: 12 | N7: 2583 | O7: 156864 | P7: 1515 | Q7: 73537 | R7: 25193 | S7: 10443 | T7: 11459 | U7: 34717 | V7: 0 | W7: 156864 | X7: 43242 | Y7: 34420 | Z7: 8160 | AA7: 662 | AB7: 7513 | AC7: 2827 | AD7: 4556 | AE7: 130 | AF7: 105174 | AG7: 24349 | AH7: 57950 | AI7: 21724 | AJ7: 1151 | AK7: 0 | AL7: 935
A8: 新北市 | C8: 31153 | D8: 2529 | E8: 16923 | F8: 9084 | G8: 2006 | H8: 20 | I8: 51 | J8: 104 | K8: 0 | L8: 9 | M8: 1 | N8: 426 | O8: 24813 | P8: 191 | Q8: 11845 | R8: 4180 | S8: 1461 | T8: 1770 | U8: 5366 | V8: 0 | W8: 24813 | X8: 7208 | Y8: 5541 | Z8: 1364 | AA8: 303 | AB8: 1072 | AC8: 366 | AD8: 666 | AE8: 40 | AF8: 16330 | AG8: 3767 | AH8: 9418 | AI8: 2967 | AJ8: 178 | AK8: 0 | AL8: 203
A9: 臺北市 | C9: 19110 | D9: 1567 | E9: 10914 | F9: 5146 | G9: 980 | H9: 10 | I9: 39 | J9: 48 | K9: 0 | L9: 12 | M9: 1 | N9: 393 | O9: 15674 | P9: 181 | Q9: 7031 | R9: 2622 | S9: 1097 | T9: 1208 | U9: 3535 | V9: 0 | W9: 15674 | X9: 4195 | Y9: 3593 | Z9: 528 | AA9: 74 | AB9: 562 | AC9: 247 | AD9: 295 | AE9: 20 | AF9: 10840 | AG9: 2459 | AH9: 6191 | AI9: 2125 | AJ9: 65 | AK9: 0 | AL9: 77
A10: 桃園市 | C10: 19344 | D10: 1478 | E10: 10681 | F10: 4988 | G10: 1897 | H10: 21 | I10: 39 | J10: 31 | K10: 0 | L10: 0 | M10: 3 | N10: 206 | O10: 15515 | P10: 158 | Q10: 7242 | R10: 3111 | S10: 918 | T10: 1199 | U10: 2887 | V10: 0 | W10: 15515 | X10: 4223 | Y10: 3183 | Z10: 967 | AA10: 73 | AB10: 723 | AC10: 270 | AD10: 443 | AE10: 10 | AF10: 10513 | AG10: 2457 | AH10: 6027 | AI10: 1882 | AJ10: 147 | AK10: 0 | AL10: 56
A11: 臺中市 | C11: 26717 | D11: 1549 | E11: 15677 | F11: 7374 | G11: 1366 | H11: 17 | I11: 62 | J11: 253 | K11: 1 | L11: 3 | M11: 2 | N11: 413 | O11: 22278 | P11: 247 | Q11: 10496 | R11: 3982 | S11: 1317 | T11: 1444 | U11: 4792 | V11: 0 | W11: 22278 | X11: 5931 | Y11: 4743 | Z11: 1124 | AA11: 64 | AB11: 1061 | AC11: 375 | AD11: 675 | AE11: 11 | AF11: 15154 | AG11: 3761 | AH11: 8183 | AI11: 3043 | AJ11: 167 | AK11: 0 | AL11: 132
A12: 臺南市 | C12: 12448 | D12: 758 | E12: 7078 | F12: 3571 | G12: 807 | H12: 12 | I12: 24 | J12: 11 | K12: 0 | L12: 5 | M12: 0 | N12: 182 | O12: 10111 | P12: 86 | Q12: 4717 | R12: 1594 | S12: 770 | T12: 745 | U12: 2199 | V12: 0 | W12: 10111 | X12: 2697 | Y12: 2066 | Z12: 618 | AA12: 13 | AB12: 562 | AC12: 182 | AD12: 370 | AE12: 10 | AF12: 6821 | AG12: 1548 | AH12: 3774 | AI12: 1419 | AJ12: 80 | AK12: 0 | AL12: 31
A13: 高雄市 | C13: 26605 | D13: 3297 | E13: 16639 | F13: 4566 | G13: 1648 | H13: 28 | I13: 48 | J13: 39 | K13: 1 | L13: 16 | M13: 3 | N13: 320 | O13: 21592 | P13: 261 | Q13: 9821 | R13: 3315 | S13: 1577 | T13: 1749 | U13: 4869 | V13: 0 | W13: 21592 | X13: 5423 | Y13: 4404 | Z13: 993 | AA13: 26 | AB13: 1068 | AC13: 463 | AD13: 589 | AE13: 16 | AF13: 15076 | AG13: 3591 | AH13: 8232 | AI13: 3070 | AJ13: 183 | AK13: 0 | AL13: 25
A14: 宜蘭縣 | C14: 3190 | D14: 211 | E14: 1754 | F14: 1006 | G14: 167 | H14: 1 | I14: 5 | J14: 5 | K14: 0 | L14: 1 | M14: 0 | N14: 40 | O14: 2507 | P14: 14 | Q14: 1332 | R14: 266 | S14: 176 | T14: 138 | U14: 581 | V14: 0 | W14: 2507 | X14: 827 | Y14: 703 | Z14: 122 | AA14: 2 | AB14: 158 | AC14: 67 | AD14: 90 | AE14: 1 | AF14: 1507 | AG14: 361 | AH14: 702 | AI14: 428 | AJ14: 16 | AK14: 0 | AL14: 15
A15: 新竹縣 | C15: 4793 | D15: 448 | E15: 2917 | F15: 1088 | G15: 293 | H15: 2 | I15: 7 | J15: 6 | K15: 0 | L15: 0 | M15: 0 | N15: 32 | O15: 3743 | P15: 30 | Q15: 1916 | R15: 478 | S15: 250 | T15: 296 | U15: 773 | V15: 0 | W15: 3743 | X15: 1143 | Y15: 877 | Z15: 255 | AA15: 11 | AB15: 215 | AC15: 63 | AD15: 149 | AE15: 3 | AF15: 2355 | AG15: 590 | AH15: 1243 | AI15: 497 | AJ15: 25 | AK15: 0 | AL15: 30
A16: 苗栗縣 | C16: 3509 | D16: 304 | E16: 1971 | F16: 1014 | G16: 189 | H16: 1 | I16: 3 | J16: 5 | K16: 0 | L16: 0 | M16: 0 | N16: 22 | O16: 2850 | P16: 44 | Q16: 1310 | R16: 427 | S16: 191 | T16: 213 | U16: 665 | V16: 0 | W16: 2850 | X16: 853 | Y16: 633 | Z16: 214 | AA16: 6 | AB16: 129 | AC16: 52 | AD16: 76 | AE16: 1 | AF16: 1844 | AG16: 375 | AH16: 1007 | AI16: 441 | AJ16: 21 | AK16: 0 | AL16: 24
A17: 彰化縣 | C17: 10615 | D17: 543 | E17: 7474 | F17: 1972 | G17: 454 | H17: 12 | I17: 15 | J17: 14 | K17: 1 | L17: 6 | M17: 0 | N17: 124 | O17: 8865 | P17: 49 | Q17: 3805 | R17: 1006 | S17: 746 | T17: 711 | U17: 2548 | V17: 0 | W17: 8865 | X17: 2467 | Y17: 1797 | Z17: 649 | AA17: 21 | AB17: 496 | AC17: 151 | AD17: 343 | AE17: 2 | AF17: 5821 | AG17: 891 | AH17: 3255 | AI17: 1628 | AJ17: 47 | AK17: 0 | AL17: 81
A18: 南投縣 | C18: 4229 | D18: 341 | E18: 2678 | F18: 832 | G18: 292 | H18: 1 | I18: 10 | J18: 39 | K18: 1 | L18: 1 | M18: 0 | N18: 34 | O18: 3558 | P18: 27 | Q18: 1560 | R18: 593 | S18: 297 | T18: 316 | U18: 765 | V18: 0 | W18: 3558 | X18: 1017 | Y18: 878 | Z18: 138 | AA18: 1 | AB18: 166 | AC18: 61 | AD18: 105 | AE18: 0 | AF18: 2341 | AG18: 410 | AH18: 1372 | AI18: 540 | AJ18: 19 | AK18: 0 | AL18: 34
... A29: 連江縣 | C29: 48 | D29: 9 | E29: 30 | F29: 5 | G29: 2 | H29: 0 | I29: 0 | J29: 0 | K29: 0 | L29: 0 | M29: 0 | N29: 2 | O29: 34 | P29: 0 | Q29: 17 | R29: 5 | S29: 0 | T29: 1 | U29: 11 | V29: 0 | W29: 34 | X29: 8 | Y29: 7 | Z29: 0 | AA29: 1 | AB29: 4 | AC29: 1 | AD29: 3 | AE29: 0 | AF29: 21 | AG29: 5 | AH29: 11 | AI29: 5 | AJ29: 0 | AK29: 0 | AL29: 1
A30: 資料來源：本部保護服務司。
A31: Source :Department of Protective Services , MOHW.

Sheet 110
A1: 5.1-01 家庭暴力事件通報案件統計
A3: 區域別 | C3: 通報件次 | O3: 通報件數
C4: 合計 | D4: 通報人員別 | O4: 案件類型別 | W4: 被害及相對人兩造關係別
D5: 醫事 人員 | E5: 警察 人員 | F5: 社政/社工人員 | G5: 教育 人員 | H5: 保育 人員 | I5: 教保服務人員 | J5: 司(軍)法人員 | K5: 移民業務相關人員 | L5: 村(里)長/村(里)幹事 | M5: 戶政 人員 | N5: 其他 | O5: 合計 | P5: 婚姻、離婚或同居關係暴力 | R5: 兒少 保護 | S5: 直系血(姻)親卑親屬虐待尊親屬 | U5: 其他家庭成員間暴力 | V5: 其他 | W5: 合計 | X5: 配偶 Spouse | AB5: 前配偶 | AF5: 其他家庭成員 | AL5: 其他
P6: 同性 伴侶 | Q6: 異性 伴侶 | S6: 被害人年齡65歲以上 | T6: 被害人年齡未滿65歲 | X6: 小計 | Y6: 共同 生活 | Z6: 分居 | AA6: 其他 | AB6: 小計 | AC6: 同住 | AD6: 未同住 | AE6: 其他 | AF6: 小計 | AG6: 同居 關係 | AH6: 直系血(姻)親 | AI6: 四等親內旁系血(姻)親 | AJ6: 家長家屬或家屬間 | AK6: 其他
A7: 110年 2021 | C7: 185588 | D7: 16045 | E7: 103331 | F7: 51700 | G7: 11001 | H7: 113 | I7: 267 | J7: 584 | K7: 11 | L7: 77 | M7: 20 | N7: 2439 | O7: 149198 | P7: 1351 | Q7: 68977 | R7: 24481 | S7: 9821 | T7: 11147 | U7: 33421 | V7: 0 | W7: 149198 | X7: 42472 | Y7: 33719 | Z7: 8066 | AA7: 687 | AB7: 7014 | AC7: 2656 | AD7: 4214 | AE7: 144 | AF7: 98868 | AG7: 20898 | AH7: 55699 | AI7: 21172 | AJ7: 1099 | AK7: 0 | AL7: 844
A8: 新北市 | C8: 29974 | D8: 2414 | E8: 14943 | F8: 10071 | G8: 1920 | H8: 16 | I8: 42 | J8: 142 | K8: 2 | L8: 6 | M8: 0 | N8: 418 | O8: 23553 | P8: 195 | Q8: 11065 | R8: 4208 | S8: 1398 | T8: 1726 | U8: 4961 | V8: 0 | W8: 23553 | X8: 7131 | Y8: 5422 | Z8: 1392 | AA8: 317 | AB8: 1038 | AC8: 392 | AD8: 602 | AE8: 44 | AF8: 15192 | AG8: 3107 | AH8: 9079 | AI8: 2851 | AJ8: 155 | AK8: 0 | AL8: 192
A9: 臺北市 | C9: 19334 | D9: 1667 | E9: 11001 | F9: 5198 | G9: 926 | H9: 6 | I9: 20 | J9: 71 | K9: 0 | L9: 15 | M9: 3 | N9: 427 | O9: 15728 | P9: 178 | Q9: 7031 | R9: 2445 | S9: 1093 | T9: 1249 | U9: 3732 | V9: 0 | W9: 15728 | X9: 4383 | Y9: 3826 | Z9: 492 | AA9: 65 | AB9: 606 | AC9: 281 | AD9: 312 | AE9: 13 | AF9: 10668 | AG9: 2224 | AH9: 6163 | AI9: 2194 | AJ9: 87 | AK9: 0 | AL9: 71
A10: 桃園市 | C10: 17862 | D10: 1375 | E10: 9176 | F10: 5426 | G10: 1605 | H10: 15 | I10: 34 | J10: 30 | K10: 0 | L10: 1 | M10: 4 | N10: 196 | O10: 14230 | P10: 107 | Q10: 6768 | R10: 2763 | S10: 807 | T10: 1095 | U10: 2690 | V10: 0 | W10: 14230 | X10: 4068 | Y10: 3039 | Z10: 980 | AA10: 49 | AB10: 699 | AC10: 249 | AD10: 432 | AE10: 18 | AF10: 9431 | AG10: 2111 | AH10: 5414 | AI10: 1764 | AJ10: 142 | AK10: 0 | AL10: 32
A11: 臺中市 | C11: 25254 | D11: 1567 | E11: 14472 | F11: 7414 | G11: 1187 | H11: 16 | I11: 21 | J11: 177 | K11: 2 | L11: 6 | M11: 3 | N11: 389 | O11: 20570 | P11: 228 | Q11: 9839 | R11: 3340 | S11: 1275 | T11: 1390 | U11: 4498 | V11: 0 | W11: 20570 | X11: 5956 | Y11: 4751 | Z11: 1111 | AA11: 94 | AB11: 932 | AC11: 353 | AD11: 557 | AE11: 22 | AF11: 13557 | AG11: 3187 | AH11: 7317 | AI11: 2905 | AJ11: 148 | AK11: 0 | AL11: 125
A12: 臺南市 | C12: 11790 | D12: 845 | E12: 6209 | F12: 3742 | G12: 798 | H12: 7 | I12: 18 | J12: 7 | K12: 0 | L12: 6 | M12: 3 | N12: 155 | O12: 9481 | P12: 61 | Q12: 4310 | R12: 1713 | S12: 678 | T12: 729 | U12: 1990 | V12: 0 | W12: 9481 | X12: 2539 | Y12: 1871 | Z12: 649 | AA12: 19 | AB12: 517 | AC12: 148 | AD12: 362 | AE12: 7 | AF12: 6396 | AG12: 1315 | AH12: 3687 | AI12: 1306 | AJ12: 88 | AK12: 0 | AL12: 29
A13: 高雄市 | C13: 26622 | D13: 3322 | E13: 16004 | F13: 5210 | G13: 1719 | H13: 20 | I13: 38 | J13: 38 | K13: 1 | L13: 27 | M13: 1 | N13: 242 | O13: 21458 | P13: 308 | Q13: 9374 | R13: 3633 | S13: 1641 | T13: 1742 | U13: 4760 | V13: 0 | W13: 21458 | X13: 5325 | Y13: 4297 | Z13: 1005 | AA13: 23 | AB13: 1080 | AC13: 443 | AD13: 622 | AE13: 15 | AF13: 15025 | AG13: 3278 | AH13: 8575 | AI13: 3004 | AJ13: 168 | AK13: 0 | AL13: 28
A14: 宜蘭縣 | C14: 2931 | D14: 213 | E14: 1501 | F14: 1022 | G14: 148 | H14: 0 | I14: 5 | J14: 7 | K14: 0 | L14: 2 | M14: 0 | N14: 33 | O14: 2193 | P14: 13 | Q14: 1124 | R14: 205 | S14: 134 | T14: 144 | U14: 573 | V14: 0 | W14: 2193 | X14: 753 | Y14: 636 | Z14: 111 | AA14: 6 | AB14: 107 | AC14: 43 | AD14: 62 | AE14: 2 | AF14: 1327 | AG14: 278 | AH14: 631 | AI14: 410 | AJ14: 8 | AK14: 0 | AL14: 6
A15: 新竹縣 | C15: 4359 | D15: 447 | E15: 2378 | F15: 1183 | G15: 296 | H15: 1 | I15: 1 | J15: 2 | K15: 0 | L15: 2 | M15: 0 | N15: 49 | O15: 3311 | P15: 24 | Q15: 1631 | R15: 470 | S15: 191 | T15: 252 | U15: 743 | V15: 0 | W15: 3311 | X15: 1046 | Y15: 783 | Z15: 245 | AA15: 18 | AB15: 188 | AC15: 58 | AD15: 126 | AE15: 4 | AF15: 2048 | AG15: 421 | AH15: 1143 | AI15: 462 | AJ15: 22 | AK15: 0 | AL15: 29
A16: 苗栗縣 | C16: 3585 | D16: 283 | E16: 1866 | F16: 1214 | G16: 173 | H16: 2 | I16: 4 | J16: 1 | K16: 0 | L16: 0 | M16: 0 | N16: 42 | O16: 2953 | P16: 16 | Q16: 1333 | R16: 495 | S16: 198 | T16: 230 | U16: 681 | V16: 0 | W16: 2953 | X16: 916 | Y16: 706 | Z16: 201 | AA16: 9 | AB16: 114 | AC16: 35 | AD16: 79 | AE16: 0 | AF16: 1895 | AG16: 322 | AH16: 1085 | AI16: 463 | AJ16: 25 | AK16: 0 | AL16: 28
A17: 彰化縣 | C17: 8873 | D17: 571 | E17: 5434 | F17: 2289 | G17: 427 | H17: 5 | I17: 25 | J17: 10 | K17: 3 | L17: 3 | M17: 1 | N17: 105 | O17: 7347 | P17: 23 | Q17: 3182 | R17: 1020 | S17: 555 | T17: 580 | U17: 1987 | V17: 0 | W17: 7347 | X17: 2211 | Y17: 1657 | Z17: 537 | AA17: 17 | AB17: 345 | AC17: 106 | AD17: 233 | AE17: 6 | AF17: 4746 | AG17: 654 | AH17: 2778 | AI17: 1259 | AJ17: 55 | AK17: 0 | AL17: 45
A18: 南投縣 | C18: 4125 | D18: 343 | E18: 2356 | F18: 1086 | G18: 262 | H18: 1 | I18: 8 | J18: 37 | K18: 1 | L18: 0 | M18: 0 | N18: 31 | O18: 3418 | P18: 18 | Q18: 1520 | R18: 599 | S18: 292 | T18: 277 | U18: 712 | V18: 0 | W18: 3418 | X18: 970 | Y18: 858 | Z18: 110 | AA18: 2 | AB18: 178 | AC18: 68 | AD18: 110 | AE18: 0 | AF18: 2249 | AG18: 392 | AH18: 1278 | AI18: 559 | AJ18: 20 | AK18: 0 | AL18: 21
... A29: 連江縣 | C29: 29 | D29: 3 | E29: 16 | F29: 4 | G29: 4 | H29: 0 | I29: 0 | J29: 0 | K29: 0 | L29: 0 | M29: 0 | N29: 2 | O29: 22 | P29: 0 | Q29: 11 | R29: 5 | S29: 0 | T29: 0 | U29: 6 | V29: 0 | W29: 22 | X29: 3 | Y29: 3 | Z29: 0 | AA29: 0 | AB29: 6 | AC29: 2 | AD29: 4 | AE29: 0 | AF29: 12 | AG29: 2 | AH29: 6 | AI29: 4 | AJ29: 0 | AK29: 0 | AL29: 1
A30: 資料來源：本部保護服務司。
A31: Source :Department of Protective Services , MOHW.

Sheet 109
A1: 5.1-01 家庭暴力事件通報案件統計
A3: 區域別 | C3: 通報件次 | O3: 通報件數
C4: 合計 | D4: 通報人員別 | O4: 案件類型別 | V4: 被害及相對人兩造關係別
D5: 醫事 人員 | E5: 警察 人員 | F5: 社政/社工人員 | G5: 教育 人員 | H5: 保育 人員 | I5: 教保服務人員 | J5: 司(軍)法人員 | K5: 移民業務相關人員 | L5: 村(里)長/村(里)幹事 | M5: 戶政 人員 | N5: 其他 | O5: 合計 | P5: 婚姻、離婚或同居關係暴力 | Q5: 兒少 保護 | R5: 直系血(姻)親卑親屬虐待尊親屬 | T5: 其他家庭成員間暴力 | U5: 其他 | V5: 合計 | W5: 配偶 Spouse | AA5: 前配偶 | AE5: 其他家庭成員 | AK5: 其他
R6: 被害人年齡65歲以上 | S6: 被害人年齡未滿65歲 | W6: 小計 | X6: 共同 生活 | Y6: 分居 | Z6: 其他 | AA6: 小計 | AB6: 同住 | AC6: 未同住 | AD6: 其他 | AE6: 小計 | AF6: 同居 關係 | AG6: 直系血(姻)親 | AH6: 四等親內旁系血(姻)親 | AI6: 家長家屬或家屬間 | AJ6: 其他
A7: 109年 2020 | C7: 178710 | D7: 17321 | E7: 91095 | F7: 55410 | G7: 11428 | H7: 121 | I7: 332 | J7: 577 | K7: 18 | L7: 83 | M7: 23 | N7: 2302 | O7: 141872 | P7: 67957 | Q7: 25181 | R7: 8520 | S7: 9645 | T7: 30569 | U7: 0 | V7: 141872 | W7: 43427 | X7: 34345 | Y7: 8264 | Z7: 818 | AA7: 6848 | AB7: 2616 | AC7: 4084 | AD7: 148 | AE7: 89774 | AF7: 18243 | AG7: 51110 | AH7: 19321 | AI7: 1100 | AJ7: 0 | AK7: 1823
A8: 新北市 | C8: 30164 | D8: 2961 | E8: 14185 | F8: 10449 | G8: 2001 | H8: 17 | I8: 59 | J8: 126 | K8: 0 | L8: 6 | M8: 1 | N8: 359 | O8: 23146 | P8: 11326 | Q8: 4238 | R8: 1219 | S8: 1570 | T8: 4793 | U8: 0 | V8: 23146 | W8: 7493 | X8: 5605 | Y8: 1492 | Z8: 396 | AA8: 1042 | AB8: 367 | AC8: 633 | AD8: 42 | AE8: 14260 | AF8: 2912 | AG8: 8410 | AH8: 2792 | AI8: 146 | AJ8: 0 | AK8: 351
A9: 臺北市 | C9: 19599 | D9: 1532 | E9: 10815 | F9: 5610 | G9: 930 | H9: 10 | I9: 47 | J9: 84 | K9: 0 | L9: 23 | M9: 2 | N9: 546 | O9: 15845 | P9: 7248 | Q9: 2561 | R9: 1022 | S9: 1207 | T9: 3807 | U9: 0 | V9: 15845 | W9: 4648 | X9: 4084 | Y9: 475 | Z9: 89 | AA9: 619 | AB9: 272 | AC9: 328 | AD9: 19 | AE9: 10408 | AF9: 2034 | AG9: 5929 | AH9: 2369 | AI9: 76 | AJ9: 0 | AK9: 170
A10: 桃園市 | C10: 17813 | D10: 1587 | E10: 7905 | F10: 6401 | G10: 1608 | H10: 21 | I10: 50 | J10: 19 | K10: 5 | L10: 1 | M10: 3 | N10: 213 | O10: 13848 | P10: 6782 | Q10: 2918 | R10: 721 | S10: 939 | T10: 2488 | U10: 0 | V10: 13848 | W10: 4313 | X10: 3246 | Y10: 1028 | Z10: 39 | AA10: 708 | AB10: 275 | AC10: 415 | AD10: 18 | AE10: 8697 | AF10: 1833 | AG10: 5110 | AH10: 1613 | AI10: 141 | AJ10: 0 | AK10: 130
A11: 臺中市 | C11: 23881 | D11: 1723 | E11: 12608 | F11: 7661 | G11: 1307 | H11: 18 | I11: 36 | J11: 146 | K11: 3 | L11: 5 | M11: 2 | N11: 372 | O11: 19285 | P11: 9407 | Q11: 3542 | R11: 1080 | S11: 1182 | T11: 4074 | U11: 0 | V11: 19285 | W11: 5896 | X11: 4656 | Y11: 1126 | Z11: 114 | AA11: 939 | AB11: 360 | AC11: 557 | AD11: 22 | AE11: 12070 | AF11: 2702 | AG11: 6698 | AH11: 2547 | AI11: 123 | AJ11: 0 | AK11: 380
A12: 臺南市 | C12: 11194 | D12: 939 | E12: 5266 | F12: 3953 | G12: 857 | H12: 8 | I12: 22 | J12: 13 | K12: 1 | L12: 8 | M12: 0 | N12: 127 | O12: 8880 | P12: 4061 | Q12: 1763 | R12: 613 | S12: 611 | T12: 1832 | U12: 0 | V12: 8880 | W12: 2474 | X12: 1831 | Y12: 627 | Z12: 16 | AA12: 518 | AB12: 168 | AC12: 343 | AD12: 7 | AE12: 5771 | AF12: 1092 | AG12: 3350 | AH12: 1223 | AI12: 106 | AJ12: 0 | AK12: 117
A13: 高雄市 | C13: 23433 | D13: 3366 | E13: 12742 | F13: 5457 | G13: 1537 | H13: 17 | I13: 31 | J13: 61 | K13: 1 | L13: 22 | M13: 7 | N13: 192 | O13: 18912 | P13: 8881 | Q13: 3310 | R13: 1260 | S13: 1370 | T13: 4091 | U13: 0 | V13: 18912 | W13: 5360 | X13: 4371 | Y13: 961 | Z13: 28 | AA13: 896 | AB13: 373 | AC13: 508 | AD13: 15 | AE13: 12616 | AF13: 2648 | AG13: 7244 | AH13: 2533 | AI13: 191 | AJ13: 0 | AK13: 40
A14: 宜蘭縣 | C14: 3062 | D14: 219 | E14: 1435 | F14: 1193 | G14: 176 | H14: 2 | I14: 10 | J14: 7 | K14: 0 | L14: 0 | M14: 0 | N14: 20 | O14: 2267 | P14: 1207 | Q14: 220 | R14: 140 | S14: 156 | T14: 544 | U14: 0 | V14: 2267 | W14: 817 | X14: 682 | Y14: 128 | Z14: 7 | AA14: 137 | AB14: 45 | AC14: 88 | AD14: 4 | AE14: 1295 | AF14: 261 | AG14: 677 | AH14: 351 | AI14: 6 | AJ14: 0 | AK14: 18
A15: 新竹縣 | C15: 3765 | D15: 471 | E15: 1657 | F15: 1270 | G15: 312 | H15: 0 | I15: 3 | J15: 6 | K15: 2 | L15: 0 | M15: 2 | N15: 42 | O15: 2863 | P15: 1467 | Q15: 546 | R15: 139 | S15: 184 | T15: 527 | U15: 0 | V15: 2863 | W15: 998 | X15: 736 | Y15: 247 | Z15: 15 | AA15: 142 | AB15: 52 | AC15: 88 | AD15: 2 | AE15: 1674 | AF15: 331 | AG15: 945 | AH15: 380 | AI15: 18 | AJ15: 0 | AK15: 49
A16: 苗栗縣 | C16: 3382 | D16: 320 | E16: 1676 | F16: 1184 | G16: 167 | H16: 3 | I16: 4 | J16: 5 | K16: 1 | L16: 0 | M16: 1 | N16: 21 | O16: 2762 | P16: 1330 | Q16: 460 | R16: 166 | S16: 195 | T16: 611 | U16: 0 | V16: 2762 | W16: 910 | X16: 707 | Y16: 200 | Z16: 3 | AA16: 142 | AB16: 54 | AC16: 88 | AD16: 0 | AE16: 1670 | AF16: 291 | AG16: 956 | AH16: 405 | AI16: 18 | AJ16: 0 | AK16: 40
A17: 彰化縣 | C17: 8753 | D17: 642 | E17: 4857 | F17: 2660 | G17: 454 | H17: 11 | I17: 16 | J17: 24 | K17: 0 | L17: 2 | M17: 0 | N17: 87 | O17: 7049 | P17: 3171 | Q17: 1111 | R17: 519 | S17: 494 | T17: 1754 | U17: 0 | V17: 7049 | W17: 2180 | X17: 1696 | Y17: 473 | Z17: 11 | AA17: 366 | AB17: 124 | AC17: 238 | AD17: 4 | AE17: 4414 | AF17: 646 | AG17: 2628 | AH17: 1109 | AI17: 31 | AJ17: 0 | AK17: 89
A18: 南投縣 | C18: 3867 | D18: 378 | E18: 1987 | F18: 1142 | G18: 272 | H18: 1 | I18: 8 | J18: 45 | K18: 0 | L18: 2 | M18: 3 | N18: 29 | O18: 3111 | P18: 1410 | Q18: 646 | R18: 212 | S18: 207 | T18: 636 | U18: 0 | V18: 3111 | W18: 936 | X18: 828 | Y18: 107 | Z18: 1 | AA18: 147 | AB18: 75 | AC18: 71 | AD18: 1 | AE18: 1988 | AF18: 332 | AG18: 1143 | AH18: 489 | AI18: 24 | AJ18: 0 | AK18: 40
... A29: 連江縣 | C29: 36 | D29: 6 | E29: 11 | F29: 12 | G29: 6 | H29: 0 | I29: 0 | J29: 0 | K29: 0 | L29: 0 | M29: 0 | N29: 1 | O29: 24 | P29: 11 | Q29: 8 | R29: 3 | S29: 0 | T29: 2 | U29: 0 | V29: 24 | W29: 9 | X29: 8 | Y29: 1 | Z29: 0 | AA29: 3 | AB29: 0 | AC29: 3 | AD29: 0 | AE29: 11 | AF29: 1 | AG29: 8 | AH29: 2 | AI29: 0 | AJ29: 0 | AK29: 1
A30: 資料來源：本部保護服務司。
A31: Source :Department of Protective Services , MOHW.

Sheet 108
A1: 5.1-01 家庭暴力事件通報案件統計
A3: 區域別 | C3: 通報件次 | O3: 通報件數
C4: 合計 | D4: 通報人員別 | O4: 案件類型別 | V4: 被害及相對人兩造關係別
D5: 醫事 人員 | E5: 警察 人員 | F5: 社政/社工人員 | G5: 教育 人員 | H5: 保育 人員 | I5: 教保服務人員 | J5: 司(軍)法人員 | K5: 移民業務相關人員 | L5: 村(里)長/村(里)幹事 | M5: 戶政 人員 | N5: 其他 | O5: 合計 | P5: 婚姻、離婚或同居關係暴力 | Q5: 兒少 保護 | R5: 直系血(姻)親卑親屬虐待尊親屬 | T5: 其他家庭成員間暴力 | U5: 其他 | V5: 合計 | W5: 配偶 Spouse | AA5: 前配偶 | AE5: 其他家庭成員 | AK5: 其他
R6: 被害人年齡65歲以上 | S6: 被害人年齡未滿65歲 | W6: 小計 | X6: 共同 生活 | Y6: 分居 | Z6: 其他 | AA6: 小計 | AB6: 同住 | AC6: 未同住 | AD6: 其他 | AE6: 小計 | AF6: 同居 關係 | AG6: 直系血(姻)親 | AH6: 四等親內旁系血(姻)親 | AI6: 家長家屬或家屬間 | AJ6: 其他
A7: 108年 2019 | C7: 160944 | D7: 17536 | E7: 77572 | F7: 55007 | G7: 8127 | H7: 90 | I7: 208 | J7: 441 | K7: 12 | L7: 72 | M7: 13 | N7: 1866 | O7: 128198 | P7: 63902 | Q7: 20989 | R7: 6935 | S7: 7649 | T7: 28723 | U7: 0 | V7: 128198 | W7: 42366 | X7: 26184 | Y7: 6313 | Z7: 9869 | AA7: 6242 | AB7: 1814 | AC7: 3044 | AD7: 1384 | AE7: 73976 | AF7: 15773 | AG7: 41084 | AH7: 16364 | AI7: 755 | AJ7: 0 | AK7: 5614
A8: 新北市 | C8: 25720 | D8: 2954 | E8: 11228 | F8: 9857 | G8: 1219 | H8: 9 | I8: 24 | J8: 87 | K8: 1 | L8: 5 | M8: 1 | N8: 335 | O8: 20420 | P8: 10684 | Q8: 2964 | R8: 863 | S8: 1091 | T8: 4818 | U8: 0 | V8: 20420 | W8: 7276 | X8: 3128 | Y8: 754 | Z8: 3394 | AA8: 958 | AB8: 195 | AC8: 346 | AD8: 417 | AE8: 10903 | AF8: 2530 | AG8: 5953 | AH8: 2329 | AI8: 91 | AJ8: 0 | AK8: 1283
A9: 臺北市 | C9: 18074 | D9: 1656 | E9: 9614 | F9: 5554 | G9: 755 | H9: 9 | I9: 19 | J9: 66 | K9: 0 | L9: 15 | M9: 3 | N9: 383 | O9: 14663 | P9: 7017 | Q9: 2032 | R9: 882 | S9: 1034 | T9: 3698 | U9: 0 | V9: 14663 | W9: 4676 | X9: 2798 | Y9: 353 | Z9: 1525 | AA9: 578 | AB9: 188 | AC9: 197 | AD9: 193 | AE9: 8811 | AF9: 1813 | AG9: 4850 | AH9: 2100 | AI9: 48 | AJ9: 0 | AK9: 598
A10: 桃園市 | C10: 15228 | D10: 1607 | E10: 6371 | F10: 5880 | G10: 1160 | H10: 14 | I10: 37 | J10: 18 | K10: 2 | L10: 5 | M10: 1 | N10: 133 | O10: 11892 | P10: 6101 | Q10: 2281 | R10: 595 | S10: 793 | T10: 2122 | U10: 0 | V10: 11892 | W10: 4029 | X10: 2655 | Y10: 701 | Z10: 673 | AA10: 714 | AB10: 224 | AC10: 388 | AD10: 102 | AE10: 6850 | AF10: 1416 | AG10: 4049 | AH10: 1298 | AI10: 87 | AJ10: 0 | AK10: 299
A11: 臺中市 | C11: 21818 | D11: 1447 | E11: 10765 | F11: 8216 | G11: 1034 | H11: 14 | I11: 29 | J11: 79 | K11: 0 | L11: 5 | M11: 0 | N11: 229 | O11: 17578 | P11: 8725 | Q11: 3387 | R11: 858 | S11: 855 | T11: 3753 | U11: 0 | V11: 17578 | W11: 5686 | X11: 3443 | Y11: 972 | Z11: 1271 | AA11: 831 | AB11: 245 | AC11: 402 | AD11: 184 | AE11: 10119 | AF11: 2297 | AG11: 5556 | AH11: 2142 | AI11: 124 | AJ11: 0 | AK11: 942
A12: 臺南市 | C12: 10218 | D12: 1106 | E12: 4665 | F12: 3792 | G12: 507 | H12: 8 | I12: 4 | J12: 11 | K12: 0 | L12: 5 | M12: 2 | N12: 118 | O12: 8036 | P12: 3997 | Q12: 1277 | R12: 584 | S12: 562 | T12: 1616 | U12: 0 | V12: 8036 | W12: 2539 | X12: 1738 | Y12: 621 | Z12: 180 | AA12: 456 | AB12: 116 | AC12: 300 | AD12: 40 | AE12: 4864 | AF12: 1027 | AG12: 2734 | AH12: 1044 | AI12: 59 | AJ12: 0 | AK12: 177
A13: 高雄市 | C13: 22004 | D13: 3374 | E13: 11091 | F13: 5895 | G13: 1297 | H13: 17 | I13: 28 | J13: 98 | K13: 1 | L13: 22 | M13: 2 | N13: 179 | O13: 17329 | P13: 8131 | Q13: 3228 | R13: 1056 | S13: 1210 | T13: 3704 | U13: 0 | V13: 17329 | W13: 5234 | X13: 3302 | Y13: 816 | Z13: 1116 | AA13: 765 | AB13: 223 | AC13: 387 | AD13: 155 | AE13: 10933 | AF13: 2169 | AG13: 6471 | AH13: 2175 | AI13: 118 | AJ13: 0 | AK13: 397
A14: 宜蘭縣 | C14: 2489 | D14: 222 | E14: 1027 | F14: 1109 | G14: 102 | H14: 0 | I14: 4 | J14: 3 | K14: 1 | L14: 0 | M14: 1 | N14: 20 | O14: 1915 | P14: 1060 | Q14: 126 | R14: 112 | S14: 144 | T14: 473 | U14: 0 | V14: 1915 | W14: 730 | X14: 591 | Y14: 102 | Z14: 37 | AA14: 104 | AB14: 37 | AC14: 63 | AD14: 4 | AE14: 1040 | AF14: 231 | AG14: 479 | AH14: 317 | AI14: 13 | AJ14: 0 | AK14: 41
A15: 新竹縣 | C15: 3439 | D15: 516 | E15: 1405 | F15: 1231 | G15: 220 | H15: 0 | I15: 4 | J15: 6 | K15: 2 | L15: 2 | M15: 0 | N15: 53 | O15: 2676 | P15: 1442 | Q15: 512 | R15: 88 | S15: 122 | T15: 512 | U15: 0 | V15: 2676 | W15: 1024 | X15: 575 | Y15: 175 | Z15: 274 | AA15: 148 | AB15: 39 | AC15: 77 | AD15: 32 | AE15: 1380 | AF15: 289 | AG15: 763 | AH15: 311 | AI15: 17 | AJ15: 0 | AK15: 124
A16: 苗栗縣 | C16: 3296 | D16: 303 | E16: 1512 | F16: 1253 | G16: 187 | H16: 2 | I16: 4 | J16: 10 | K16: 0 | L16: 1 | M16: 0 | N16: 24 | O16: 2608 | P16: 1207 | Q16: 474 | R16: 150 | S16: 199 | T16: 578 | U16: 0 | V16: 2608 | W16: 834 | X16: 516 | Y16: 166 | Z16: 152 | AA16: 125 | AB16: 37 | AC16: 65 | AD16: 23 | AE16: 1496 | AF16: 257 | AG16: 859 | AH16: 362 | AI16: 18 | AJ16: 0 | AK16: 153
A17: 彰化縣 | C17: 8247 | D17: 774 | E17: 4355 | F17: 2658 | G17: 324 | H17: 5 | I17: 20 | J17: 16 | K17: 0 | L17: 4 | M17: 0 | N17: 91 | O17: 6616 | P17: 3153 | Q17: 997 | R17: 355 | S17: 338 | T17: 1773 | U17: 0 | V17: 6616 | W17: 2316 | X17: 1598 | Y17: 360 | Z17: 358 | AA17: 288 | AB17: 78 | AC17: 157 | AD17: 53 | AE17: 3579 | AF17: 570 | AG17: 1969 | AH17: 1011 | AI17: 29 | AJ17: 0 | AK17: 433
A18: 南投縣 | C18: 3619 | D18: 384 | E18: 1795 | F18: 1245 | G18: 165 | H18: 2 | I18: 7 | J18: 8 | K18: 0 | L18: 0 | M18: 0 | N18: 13 | O18: 2881 | P18: 1469 | Q18: 491 | R18: 155 | S18: 113 | T18: 653 | U18: 0 | V18: 2881 | W18: 1027 | X18: 812 | Y18: 148 | Z18: 67 | AA18: 138 | AB18: 58 | AC18: 66 | AD18: 14 | AE18: 1576 | AF18: 312 | AG18: 860 | AH18: 390 | AI18: 14 | AJ18: 0 | AK18: 140
... A29: 連江縣 | C29: 30 | D29: 7 | E29: 14 | F29: 8 | G29: 1 | H29: 0 | I29: 0 | J29: 0 | K29: 0 | L29: 0 | M29: 0 | N29: 0 | O29: 23 | P29: 17 | Q29: 3 | R29: 0 | S29: 1 | T29: 2 | U29: 0 | V29: 23 | W29: 11 | X29: 10 | Y29: 0 | Z29: 1 | AA29: 2 | AB29: 2 | AC29: 0 | AD29: 0 | AE29: 10 | AF29: 4 | AG29: 6 | AH29: 0 | AI29: 0 | AJ29: 0 | AK29: 0
A30: 資料來源：本部保護服務司。
A31: Source :Department of Protective Services , MOHW.

Sheet 94~107
A1: 5.1-01 家庭暴力事件通報案件統計
A3: 年別 | C3: 通報件次(複選) | AC3: 通報件數
C4: 合計 | E4: 通報單位別 | AC4: 案件類型別 | AH4: 被害及加害者兩造關係別
E5: 113 | G5: 防治中心 | I5: 教育 | K5: 社政 | M5: 勞政 | O5: 警政 | Q5: 司法 | S5: 衛生 | U5: 診所 | W5: 醫院 | Y5: 移民業務機關 | AA5: 其他 | AC5: 合計 | AD5: 婚姻、離婚或同居關係暴力 | AE5: 兒少 保護 | AF5: 老人 虐待 | AG5: 其他 | AH5: 合計 | AI5: 配偶 | AL5: 前配偶 (離婚) | AM5: 曾同住之其他家庭成員 | AV5: 現同住之其他家庭成員
C6: 次數 | D6: 百分比 | E6: 次數 | F6: 百分比 | G6: 次數 | H6: 百分比 | I6: 次數 | J6: 百分比 | K6: 次數 | L6: 百分比 | M6: 次數 | N6: 百分比 | O6: 次數 | P6: 百分比 | Q6: 次數 | R6: 百分比 | S6: 次數 | T6: 百分比 | U6: 次數 | V6: 百分比 | W6: 次數 | X6: 百分比 | Y6: 次數 | Z6: 百分比 | AA6: 次數 | AB6: 百分比 | AI6: 小計 | AJ6: 共同 生活 | AK6: 分居 | AM6: 小計 | AN6: 直系 血親 | AO6: 直系 姻親 | AP6: 同居 關係 | AQ6: 四等親 內旁系 血親 | AR6: 四等親 內旁系 姻親 | AS6: 家屬間 | AT6: 家長 家屬 | AU6: 其他 | AV6: 小計 | AW6: 直系 血親 | AX6: 直系 姻親 | AY6: 同居 關係 | AZ6: 四等親 內旁系 血親 | BA6: 四等親 內旁系 姻親 | BB6: 家屬間 | BC6: 家長 家屬 | BD6: 其他
A7: 94年 2005 | C7: ='94'!C7 -> 66080 | D7: =C7/$C$7*100 -> 100 | E7: ='94'!D7 -> 7950 | F7: =E7/$C$7*100 -> 12.030872 | G7: ='94'!E7 -> 230 | H7: =G7/$C$7*100 -> 0.34806295 | I7: ='94'!F7 -> 1146 | J7: =I7/$C$7*100 -> 1.7342615 | K7: ='94'!G7 -> 2822 | L7: =K7/$C$7*100 -> 4.2705811 | M7: ='94'!H7 -> 2 | N7: =M7/$C$7*100 -> 0.0030266344 | O7: ='94'!I7 -> 28181 | P7: =O7/$C$7*100 -> 42.646792 | Q7: ='94'!J7 -> 69 | R7: =Q7/$C$7*100 -> 0.10441889 | S7: ='94'!K7 -> 61 | T7: =S7/$C$7*100 -> 0.092312349 | U7: ='94'!L7 -> 51 | V7: =U7/$C$7*100 -> 0.077179177 | W7: ='94'!M7 -> 24813 | X7: =W7/$C$7*100 -> 37.549939 | Y7: ='95'!T6 -> 0 | Z7: =Y7/$C$8*100 -> 0 | AA7: ='94'!N7 -> 755 | AB7: =AA7/$C$7*100 -> 1.1425545 | AC7: ='94'!O7 -> 62310 | AD7: ='94'!P7 -> 40659 | AE7: ='94'!Q7 -> 8865 | AF7: ='94'!R7 -> 1616 | AG7: ='94'!S7 -> 11170 | AH7: ='94'!T7 -> 62310 | AI7: ='94'!U7 -> 32653 | AJ7: ='94'!V7 -> 29613 | ... BD7: ='94'!AP7 -> 1111
A8: 95年 2006 | C8: ='95'!C7 -> 70842 | D8: =C8/$C$8*100 -> 100 | E8: ='95'!D7 -> 7743 | F8: =E8/$C$8*100 -> 10.929957 | G8: ='95'!E7 -> 219 | H8: =G8/$C$8*100 -> 0.30913865 | I8: ='95'!F7 -> 1457 | J8: =I8/$C$8*100 -> 2.0566895 | K8: ='95'!G7 -> 2939 | L8: =K8/$C$8*100 -> 4.1486689 | M8: ='95'!H7 -> 0 | N8: =M8/$C$8*100 -> 0 | O8: ='95'!I7 -> 30522 | P8: =O8/$C$8*100 -> 43.084611 | Q8: ='95'!J7 -> 92 | R8: =Q8/$C$8*100 -> 0.12986646 | S8: ='95'!K7 -> 54 | T8: =S8/$C$8*100 -> 0.076225968 | U8: ='95'!L7 -> 35 | V8: =U8/$C$8*100 -> 0.04940572 | W8: ='95'!M7 -> 26650 | X8: =W8/$C$8*100 -> 37.618927 | Y8: 0 | Z8: 0 | AA8: ='95'!N7 -> 1131 | AB8: =AA8/$C$8*100 -> 1.5965105 | AC8: ='95'!O7 -> 66635 | AD8: ='95'!P7 -> 41517 | AE8: ='95'!Q7 -> 10952 | AF8: ='95'!R7 -> 1573 | AG8: ='95'!S7 -> 12593 | AH8: ='95'!T7 -> 66635 | AI8: ='95'!U7 -> 33637 | AJ8: ='95'!V7 -> 30861 | ... BD8: ='95'!AP7 -> 1511
A9: 96年 2007 | C9: ='96'!C7 -> 76755 | D9: =C9/$C$9*100 -> 100 | E9: ='96'!D7 -> 9465 | F9: =E9/$C$9*100 -> 12.331444 | G9: ='96'!E7 -> 240 | H9: =G9/$C$9*100 -> 0.31268321 | I9: ='96'!F7 -> 1882 | J9: =I9/$C$9*100 -> 2.4519575 | K9: ='96'!G7 -> 3361 | L9: =K9/$C$9*100 -> 4.3788678 | M9: ='96'!H7 -> 0 | N9: =M9/$C$9*100 -> 0 | O9: ='96'!I7 -> 31788 | P9: =O9/$C$9*100 -> 41.414892 | Q9: ='96'!J7 -> 106 | R9: =Q9/$C$9*100 -> 0.13810175 | S9: ='96'!K7 -> 123 | T9: =S9/$C$9*100 -> 0.16025015 | U9: ='96'!L7 -> 25 | V9: =U9/$C$9*100 -> 0.032571168 | W9: ='96'!M7 -> 28428 | X9: =W9/$C$9*100 -> 37.037327 | Y9: 0 | Z9: =Y9/$C$8*100 -> 0 | AA9: ='96'!N7 -> 1337 | AB9: =AA9/$C$9*100 -> 1.7419061 | AC9: ='96'!O7 -> 72606 | AD9: ='96'!P7 -> 43788 | AE9: ='96'!Q7 -> 14243 | AF9: ='96'!R7 -> 1952 | AG9: ='96'!S7 -> 12623 | AH9: ='96'!T7 -> 72606 | AI9: ='96'!U7 -> 35182 | AJ9: ='96'!V7 -> 32258 | ... BD9: ='96'!AP7 -> 1307
A10: 97年 2008 | C10: ='97'!C7 -> 84195 | D10: =C10/$C$10*100 -> 100 | E10: ='97'!D7 -> 14129 | F10: =E10/$C$10*100 -> 16.781282 | G10: ='97'!E7 -> 269 | H10: =G10/$C$10*100 -> 0.31949641 | I10: ='97'!F7 -> 2593 | J10: =I10/$C$10*100 -> 3.0797553 | K10: ='97'!G7 -> 3704 | L10: =K10/$C$10*100 -> 4.3993111 | M10: ='97'!H7 -> 0 | N10: =M10/$C$10*100 -> 0 | O10: ='97'!I7 -> 30940 | P10: =O10/$C$10*100 -> 36.748025 | Q10: ='97'!J7 -> 127 | R10: =Q10/$C$10*100 -> 0.15084031 | S10: ='97'!K7 -> 113 | T10: =S10/$C$10*100 -> 0.13421225 | U10: ='97'!L7 -> 36 | V10: =U10/$C$10*100 -> 0.042757883 | W10: ='97'!M7 -> 31078 | X10: =W10/$C$10*100 -> 36.911931 | Y10: 0 | Z10: =Y10/$C$8*100 -> 0 | AA10: ='97'!N7 -> 1206 | AB10: =AA10/$C$10*100 -> 1.4323891 | AC10: ='97'!O7 -> 79874 | AD10: ='97'!P7 -> 46530 | AE10: ='97'!Q7 -> 17086 | AF10: ='97'!R7 -> 2271 | AG10: ='97'!S7 -> 13987 | AH10: ='97'!T7 -> 79874 | AI10: ='97'!U7 -> 35862 | AJ10: ='97'!V7 -> 32724 | ... BD10: ='97'!AP7 -> 708
A11: 98年 2009 | C11: ='98'!C7 -> 94927 | D11: =C11/$C$11*100 -> 100 | E11: ='98'!D7 -> 14949 | F11: =E11/$C$11*100 -> 15.74789 | G11: ='98'!E7 -> 500 | H11: =G11/$C$11*100 -> 0.52672053 | I11: ='98'!F7 -> 3208 | J11: =I11/$C$11*100 -> 3.3794389 | K11: ='98'!G7 -> 3900 | L11: =K11/$C$11*100 -> 4.1084202 | M11: ='98'!H7 -> 0 | N11: =M11/$C$11*100 -> 0 | O11: ='98'!I7 -> 35354 | P11: =O11/$C$11*100 -> 37.243355 | Q11: ='98'!J7 -> 192 | R11: =Q11/$C$11*100 -> 0.20226068 | S11: ='98'!K7 -> 166 | T11: =S11/$C$11*100 -> 0.17487122 | U11: ='98'!L7 -> 50 | V11: =U11/$C$11*100 -> 0.052672053 | W11: ='98'!M7 -> 34754 | X11: =W11/$C$11*100 -> 36.611291 | Y11: 0 | Z11: =Y11/$C$8*100 -> 0 | AA11: ='98'!N7 -> 1854 | AB11: =AA11/$C$11*100 -> 1.9530797 | AC11: ='98'!O7 -> 89253 | AD11: ='98'!P7 -> 52121 | AE11: ='98'!Q7 -> 17476 | AF11: ='98'!R7 -> 2711 | AG11: ='98'!S7 -> 16945 | AH11: ='98'!T7 -> 89253 | AI11: ='98'!U7 -> 38906 | AJ11: ='98'!V7 -> 35309 | ... BD11: ='98'!AP7 -> 1084
A12: 99年 2010 | C12: ='99'!C7 -> 112798 | D12: =C12/$C$12*100 -> 100 | E12: ='99'!D7 -> 21543 | F12: =E12/$C$12*100 -> 19.098743 | G12: ='99'!E7 -> 593 | H12: =G12/$C$12*100 -> 0.52571854 | I12: ='99'!F7 -> 5022 | J12: =I12/$C$12*100 -> 4.4522066 | K12: ='99'!G7 -> 4747 | L12: =K12/$C$12*100 -> 4.208408 | M12: ='99'!H7 -> 0 | N12: =M12/$C$12*100 -> 0 | O12: ='99'!I7 -> 41164 | P12: =O12/$C$12*100 -> 36.493555 | Q12: ='99'!J7 -> 244 | R12: =Q12/$C$12*100 -> 0.21631589 | S12: ='99'!K7 -> 181 | T12: =S12/$C$12*100 -> 0.16046384 | U12: ='99'!L7 -> 83 | V12: =U12/$C$12*100 -> 0.073582865 | W12: ='99'!M7 -> 37536 | X12: =W12/$C$12*100 -> 33.277186 | Y12: 0 | Z12: =Y12/$C$8*100 -> 0 | AA12: ='99'!N7 -> 1685 | AB12: =AA12/$C$12*100 -> 1.4938208 | AC12: ='99'!O7 -> 105130 | AD12: ='99'!P7 -> 59704 | AE12: ='99'!Q7 -> 22089 | AF12: ='99'!R7 -> 3316 | AG12: ='99'!S7 -> 20021 | AH12: ='99'!T7 -> 105130 | AI12: ='99'!U7 -> 42967 | AJ12: ='99'!V7 -> 39187 | ... BD12: ='99'!AP7 -> 1001
A13: 100年 2011 | C13: ='100'!C7 -> 117162 | D13: =C13/$C$13*100 -> 100 | E13: ='100'!D7 -> 22560 | F13: =E13/$C$13*100 -> 19.25539 | G13: ='100'!E7 -> 495 | H13: =G13/$C$13*100 -> 0.42249193 | I13: ='100'!F7 -> 7247 | J13: =I13/$C$13*100 -> 6.1854526 | K13: ='100'!G7 -> 4472 | L13: =K13/$C$13*100 -> 3.8169372 | M13: ='100'!H7 -> 7 | N13: =M13/$C$13*100 -> 0.0059746334 | O13: ='100'!I7 -> 42722 | P13: =O13/$C$13*100 -> 36.464041 | Q13: ='100'!J7 -> 480 | R13: =Q13/$C$13*100 -> 0.40968915 | S13: ='100'!K7 -> 297 | T13: =S13/$C$13*100 -> 0.25349516 | U13: ='100'!L7 -> 211 | V13: =U13/$C$13*100 -> 0.18009252 | W13: ='100'!M7 -> 36961 | X13: =W13/$C$13*100 -> 31.546918 | Y13: 0 | Z13: =Y13/$C$13*100 -> 0 | AA13: ='100'!N7 -> 1710 | AB13: =AA13/$C$13*100 -> 1.4595176 | AC13: ='100'!O7 -> 104315 | AD13: ='100'!P7 -> 56734 | AE13: ='100'!Q7 -> 25740 | AF13: ='100'!R7 -> 3193 | AG13: ='100'!S7 -> 18648 | AH13: ='100'!T7 -> 104315 | AI13: ='100'!U7 -> 39530 | AJ13: ='100'!V7 -> 35725 | ... BD13: ='100'!AP7 -> 767
A14: 101年 2012 | C14: ='101'!C7 -> 134250 | D14: =C14/$C$14*100 -> 100 | E14: ='101'!D7 -> 24243 | F14: =E14/$C$14*100 -> 18.058101 | G14: ='101'!E7 -> 561 | H14: =G14/$C$14*100 -> 0.41787709 | I14: ='101'!F7 -> 9459 | J14: =I14/$C$14*100 -> 7.0458101 | K14: ='101'!G7 -> 5257 | L14: =K14/$C$14*100 -> 3.9158287 | M14: ='101'!H7 -> 6 | N14: =M14/$C$14*100 -> 0.0044692737 | O14: ='101'!I7 -> 52711 | P14: =O14/$C$14*100 -> 39.263315 | Q14: ='101'!J7 -> 879 | R14: =Q14/$C$14*100 -> 0.6547486 | S14: ='101'!K7 -> 606 | T14: =S14/$C$14*100 -> 0.45139665 | U14: ='101'!L7 -> 218 | V14: =U14/$C$14*100 -> 0.16238361 | W14: ='101'!M7 -> 38603 | X14: =W14/$C$14*100 -> 28.754562 | Y14: 0 | Z14: =Y14/$C$14*100 -> 0 | AA14: ='101'!N7 -> 1707 | AB14: =AA14/$C$14*100 -> 1.2715084 | AC14: ='101'!O7 -> 115203 | AD14: ='101'!P7 -> 61309 | AE14: ='101'!Q7 -> 31353 | AF14: ='101'!R7 -> 3625 | AG14: ='101'!S7 -> 18916 | AH14: ='101'!T7 -> 115203 | AI14: ='101'!U7 -> 41725 | AJ14: ='101'!V7 -> 37690 | ... BD14: ='101'!AP7 -> 931
A15: 102年 2013 | C15: ='102'!C7 -> 152680 | D15: =C15/$C$15*100 -> 100 | E15: ='102'!D7 -> 30196 | F15: =E15/$C$15*100 -> 19.777312 | G15: ='102'!E7 -> 719 | H15: =G15/$C$15*100 -> 0.47091957 | I15: ='102'!F7 -> 12989 | J15: =I15/$C$15*100 -> 8.5073356 | K15: ='102'!G7 -> 5704 | L15: =K15/$C$15*100 -> 3.7359183 | M15: ='102'!H7 -> 6 | N15: =M15/$C$15*100 -> 0.0039297878 | O15: ='102'!I7 -> 58658 | P15: =O15/$C$15*100 -> 38.418915 | Q15: ='102'!J7 -> 1899 | R15: =Q15/$C$15*100 -> 1.2437778 | S15: ='102'!K7 -> 204 | T15: =S15/$C$15*100 -> 0.13361278 | U15: ='102'!L7 -> 278 | V15: =U15/$C$15*100 -> 0.18208017 | W15: ='102'!M7 -> 40132 | X15: =W15/$C$15*100 -> 26.285041 | Y15: ='102'!N7 -> 65 | Z15: =Y15/$C$15*100 -> 0.042572701 | AA15: ='102'!O7 -> 1830 | AB15: =AA15/$C$15*100 -> 1.1985853 | AC15: ='102'!P7 -> 130829 | AD15: ='102'!Q7 -> 60916 | AE15: ='102'!R7 -> 40597 | AF15: ='102'!S7 -> 3624 | AG15: ='102'!T7 -> 25692 | AH15: ='102'!U7 -> 130829 | AI15: ='102'!V7 -> 43782 | AJ15: ='102'!W7 -> 39315 | ... BD15: ='102'!AQ7 -> 862
A16: 103年 2014 | C16: ='103'!C7 -> 133716 | D16: =C16/$C$16*100 -> 100 | E16: ='103'!D7 -> 25821 | F16: =E16/$C$16*100 -> 19.310329 | G16: ='103'!E7 -> 704 | H16: =G16/$C$16*100 -> 0.52648898 | I16: ='103'!F7 -> 5563 | J16: =I16/$C$16*100 -> 4.1603099 | K16: ='103'!G7 -> 5143 | L16: =K16/$C$16*100 -> 3.8462114 | M16: ='103'!H7 -> 3 | N16: =M16/$C$16*100 -> 0.002243561 | O16: ='103'!I7 -> 57267 | P16: =O16/$C$16*100 -> 42.827336 | Q16: ='103'!J7 -> 588 | R16: =Q16/$C$16*100 -> 0.43973795 | S16: ='103'!K7 -> 238 | T16: =S16/$C$16*100 -> 0.17798917 | U16: ='103'!L7 -> 280 | V16: =U16/$C$16*100 -> 0.20939902 | W16: ='103'!M7 -> 36898 | X16: =W16/$C$16*100 -> 27.594304 | Y16: ='103'!N7 -> 49 | Z16: =Y16/$C$16*100 -> 0.036644829 | AA16: ='103'!O7 -> 1162 | AB16: =AA16/$C$16*100 -> 0.86900595 | AC16: ='103'!P7 -> 114609 | AD16: ='103'!Q7 -> 60816 | AE16: ='103'!R7 -> 22140 | AF16: ='103'!S7 -> 3375 | AG16: ='103'!T7 -> 28278 | AH16: ='103'!U7 -> 114609 | AI16: ='103'!V7 -> 42509 | AJ16: ='103'!W7 -> 38445 | ... BD16: ='103'!AQ7 -> 984
A17: 104年 2015 | C17: ='104'!C7 -> 135983 | D17: =C17/$C$17*100 -> 100 | E17: ='104'!D7 -> 19104 | F17: =E17/$C$17*100 -> 14.048815 | G17: ='104'!E7 -> 732 | H17: =G17/$C$17*100 -> 0.53830258 | I17: ='104'!F7 -> 6050 | J17: =I17/$C$17*100 -> 4.4490855 | K17: ='104'!G7 -> 5772 | L17: =K17/$C$17*100 -> 4.2446482 | M17: ='104'!H7 -> 1 | N17: =M17/$C$17*100 -> 0.00073538604 | O17: ='104'!I7 -> 62303 | P17: =O17/$C$17*100 -> 45.816757 | Q17: ='104'!J7 -> 463 | R17: =Q17/$C$17*100 -> 0.34048374 | S17: ='104'!K7 -> 202 | T17: =S17/$C$17*100 -> 0.14854798 | U17: ='104'!L7 -> 240 | V17: =U17/$C$17*100 -> 0.17649265 | W17: ='104'!M7 -> 37167 | X17: =W17/$C$17*100 -> 27.332093 | Y17: ='104'!N7 -> 57 | Z17: =Y17/$C$17*100 -> 0.041917004 | AA17: ='104'!O7 -> 3892 | AB17: =AA17/$C$17*100 -> 2.8621225 | AC17: ='104'!P7 -> 116742 | AD17: ='104'!Q7 -> 61947 | AE17: ='104'!R7 -> 21360 | AF17: ='104'!S7 -> 5971 | AG17: ='104'!T7 -> 27464 | AH17: ='104'!U7 -> 116742 | AI17: ='104'!V7 -> 42084 | AJ17: ='104'!W7 -> 37613 | ... BD17: ='104'!AQ7 -> 1105
A18: 105年 2016 | C18: ='105'!C7 -> 135785 | D18: =C18/$C$18*100 -> 100 | E18: ='105'!D7 -> 19124 | F18: =E18/$C$18*100 -> 14.08403 | G18: ='105'!E7 -> 859 | H18: =G18/$C$18*100 -> 0.63261774 | I18: ='105'!F7 -> 4435 | J18: =I18/$C$18*100 -> 3.2661929 | K18: ='105'!G7 -> 5613 | L18: =K18/$C$18*100 -> 4.1337408 | M18: ='105'!H7 -> 3 | N18: =M18/$C$18*100 -> 0.0022093751 | O18: ='105'!I7 -> 66352 | P18: =O18/$C$18*100 -> 48.865486 | Q18: ='105'!J7 -> 423 | R18: =Q18/$C$18*100 -> 0.31152189 | S18: ='105'!K7 -> 246 | T18: =S18/$C$18*100 -> 0.18116876 | U18: ='105'!L7 -> 208 | V18: =U18/$C$18*100 -> 0.15318334 | W18: ='105'!M7 -> 37451 | X18: =W18/$C$18*100 -> 27.581102 | Y18: ='105'!N7 -> 28 | Z18: =Y18/$C$18*100 -> 0.020620834 | AA18: ='105'!O7 -> 1043 | AB18: =AA18/$C$18*100 -> 0.76812608 | AC18: ='105'!P7 -> 117550 | AD18: ='105'!Q7 -> 64978 | AE18: ='105'!R7 -> 16198 | AF18: ='105'!S7 -> 7046 | AG18: ='105'!T7 -> 29328 | AH18: ='105'!U7 -> 117550 | AI18: ='105'!V7 -> 42833 | AJ18: ='105'!W7 -> 38052 | ... BD18: ='105'!AQ7 -> 1063
A19: 106年 2017 | C19: ='106'!C7 -> 137148 | D19: =C19/$C$19*100 -> 100 | E19: ='106'!D7 -> 17314 | F19: =E19/$C$19*100 -> 12.624318 | G19: ='106'!E7 -> 1167 | H19: =G19/$C$19*100 -> 0.85090559 | I19: ='106'!F7 -> 4588 | J19: =I19/$C$19*100 -> 3.3452912 | K19: ='106'!G7 -> 6227 | L19: =K19/$C$19*100 -> 4.5403506 | M19: ='106'!H7 -> 2 | N19: =M19/$C$19*100 -> 0.0014582786 | O19: ='106'!I7 -> 68958 | P19: =O19/$C$19*100 -> 50.27999 | Q19: ='106'!J7 -> 428 | R19: =Q19/$C$19*100 -> 0.31207163 | S19: ='106'!K7 -> 159 | T19: =S19/$C$19*100 -> 0.11593315 | U19: ='106'!L7 -> 234 | V19: =U19/$C$19*100 -> 0.1706186 | W19: ='106'!M7 -> 37118 | X19: =W19/$C$19*100 -> 27.064193 | Y19: ='106'!N7 -> 35 | Z19: =Y19/$C$19*100 -> 0.025519876 | AA19: ='106'!O7 -> 918 | AB19: =AA19/$C$19*100 -> 0.6693499 | AC19: ='106'!P7 -> 118586 | AD19: ='106'!Q7 -> 64898 | AE19: ='106'!R7 -> 15779 | AF19: ='106'!S7 -> 7473 | AG19: ='106'!T7 -> 30436 | AH19: ='106'!U7 -> 118586 | AI19: ='106'!V7 -> 42586 | AJ19: ='106'!W7 -> 37627 | ... BD19: ='106'!AQ7 -> 934
A20: 107年 2018 | C20: ='107'!C7 -> 138637 | D20: =C20/$C$20*100 -> 100 | E20: ='107'!D7 -> 16091 | F20: =E20/$C$20*100 -> 11.60657 | G20: ='107'!E7 -> 1400 | H20: =G20/$C$20*100 -> 1.0098314 | I20: ='107'!F7 -> 4813 | J20: =I20/$C$20*100 -> 3.4716562 | K20: ='107'!G7 -> 6599 | L20: =K20/$C$20*100 -> 4.7599126 | M20: ='107'!H7 -> 1 | N20: =M20/$C$20*100 -> 0.00072130816 | O20: ='107'!I7 -> 71311 | P20: =O20/$C$20*100 -> 51.437207 | Q20: ='107'!J7 -> 507 | R20: =Q20/$C$20*100 -> 0.36570324 | S20: ='107'!K7 -> 180 | T20: =S20/$C$20*100 -> 0.12983547 | U20: ='107'!L7 -> 237 | V20: =U20/$C$20*100 -> 0.17095003 | W20: ='107'!M7 -> 36569 | X20: =W20/$C$20*100 -> 26.377518 | Y20: ='107'!N7 -> 25 | Z20: =Y20/$C$20*100 -> 0.018032704 | AA20: ='107'!O7 -> 904 | AB20: =AA20/$C$20*100 -> 0.65206258 | AC20: ='107'!P7 -> 120002 | AD20: ='107'!Q7 -> 65021 | AE20: ='107'!R7 -> 15188 | AF20: ='107'!S7 -> 7745 | AG20: ='107'!T7 -> 32048 | AH20: ='107'!U7 -> 120002 | AI20: ='107'!V7 -> 41700 | AJ20: ='107'!W7 -> 36863 | ... BD20: ='107'!AQ7 -> 919
A21: 資料來源：本部保護服務司。
A23: 更新日期：108/05/31

Sheet 107
A1: 5.1-01 家庭暴力事件通報案件統計
A3: 區域別 | C3: 通報件次(複選) | P3: 通報件數
C4: 合計 | D4: 通報單位別 | P4: 案件類型別 | U4: 被害及加害者兩造關係別
D5: 113 | E5: 防治中心 | F5: 教育 | G5: 社政 | H5: 勞政 | I5: 警政 | J5: 司法 | K5: 衛生 | L5: 診所 | M5: 醫院 | N5: 移民業務機關 | O5: 其他 | P5: 合計 | Q5: 婚姻、離婚或同居關係暴力 | R5: 兒少 保護 | S5: 老人 虐待 | T5: 其他 | U5: 合計 | V5: 配偶 | Y5: 前配偶 (離婚) | Z5: 曾同住之其他家庭成員 | AI5: 現同住之其他家庭成員
V6: 小計 | W6: 共同 生活 | X6: 分居 | Z6: 小計 | AA6: 直系 血親 | AB6: 直系 姻親 | AC6: 同居 關係 | AD6: 四等親 內旁系 血親 | AE6: 四等親 內旁系 姻親 | AF6: 家屬間 | AG6: 家長 家屬 | AH6: 其他 | AI6: 小計 | AJ6: 直系 血親 | AK6: 直系 姻親 | AL6: 同居 關係 | AM6: 四等親 內旁系 血親 | AN6: 四等親 內旁系 姻親 | AO6: 家屬間 | AP6: 家長 家屬 | AQ6: 其他
A7: 107年 2018 | C7: 138637 | D7: 16091 | E7: 1400 | F7: 4813 | G7: 6599 | H7: 1 | I7: 71311 | J7: 507 | K7: 180 | L7: 237 | M7: 36569 | N7: 25 | O7: 904 | P7: 120002 | Q7: 65021 | R7: 15188 | S7: 7745 | T7: 32048 | U7: 120002 | V7: 41700 | W7: 36863 | X7: 4837 | Y7: 5878 | Z7: 23742 | AA7: 193 | AB7: 191 | AC7: 4953 | AD7: 153 | AE7: 165 | AF7: 128 | AG7: 78 | AH7: 17881 | AI7: 48682 | AJ7: 21393 | AK7: 1589 | AL7: 10183 | AM7: 6909 | AN7: 1487 | AO7: 3990 | AP7: 2212 | AQ7: 919
A8: 新北市 | C8: 22028 | D8: 3247 | E8: 484 | F8: 927 | G8: 938 | H8: 1 | I8: 9829 | J8: 118 | K8: 26 | L8: 18 | M8: 6305 | N8: 2 | O8: 133 | P8: 19160 | Q8: 10659 | R8: 2541 | S8: 1046 | T8: 4914 | U8: 19160 | V8: 6776 | W8: 6071 | X8: 705 | Y8: 921 | Z8: 4315 | AA8: 40 | AB8: 27 | AC8: 782 | AD8: 19 | AE8: 17 | AF8: 33 | AG8: 13 | AH8: 3384 | AI8: 7148 | AJ8: 3031 | AK8: 203 | AL8: 1566 | AM8: 698 | AN8: 187 | AO8: 824 | AP8: 448 | AQ8: 191
A9: 臺北市 | C9: 16002 | D9: 1579 | E9: 260 | F9: 391 | G9: 541 | H9: 0 | I9: 9096 | J9: 50 | K9: 9 | L9: 18 | M9: 3896 | N9: 0 | O9: 162 | P9: 13750 | Q9: 7377 | R9: 1229 | S9: 914 | T9: 4230 | U9: 13750 | V9: 4708 | W9: 4233 | X9: 475 | Y9: 552 | Z9: 2283 | AA9: 33 | AB9: 15 | AC9: 536 | AD9: 23 | AE9: 17 | AF9: 21 | AG9: 6 | AH9: 1632 | AI9: 6207 | AJ9: 2737 | AK9: 153 | AL9: 1219 | AM9: 624 | AN9: 141 | AO9: 749 | AP9: 412 | AQ9: 172
A10: 桃園市 | C10: 12367 | D10: 1708 | E10: 180 | F10: 688 | G10: 700 | H10: 0 | I10: 5598 | J10: 11 | K10: 16 | L10: 18 | M10: 3377 | N10: 3 | O10: 68 | P10: 10832 | Q10: 6196 | R10: 1617 | S10: 561 | T10: 2458 | U10: 10832 | V10: 4065 | W10: 3633 | X10: 432 | Y10: 502 | Z10: 2328 | AA10: 12 | AB10: 23 | AC10: 448 | AD10: 14 | AE10: 16 | AF10: 4 | AG10: 6 | AH10: 1805 | AI10: 3937 | AJ10: 1647 | AK10: 137 | AL10: 983 | AM10: 718 | AN10: 125 | AO10: 146 | AP10: 110 | AQ10: 71
A11: 臺中市 | C11: 19217 | D11: 2241 | E11: 49 | F11: 533 | G11: 857 | H11: 0 | I11: 10810 | J11: 54 | K11: 11 | L11: 35 | M11: 4533 | N11: 2 | O11: 92 | P11: 16597 | Q11: 9309 | R11: 1850 | S11: 976 | T11: 4462 | U11: 16597 | V11: 5715 | W11: 4994 | X11: 721 | Y11: 894 | Z11: 3166 | AA11: 38 | AB11: 15 | AC11: 772 | AD11: 19 | AE11: 25 | AF11: 23 | AG11: 11 | AH11: 2263 | AI11: 6822 | AJ11: 2747 | AK11: 204 | AL11: 1587 | AM11: 788 | AN11: 201 | AO11: 749 | AP11: 426 | AQ11: 120
A12: 臺南市 | C12: 8914 | D12: 1118 | E12: 91 | F12: 365 | G12: 476 | H12: 0 | I12: 4361 | J12: 17 | K12: 20 | L12: 20 | M12: 2384 | N12: 5 | O12: 57 | P12: 7699 | Q12: 4032 | R12: 1242 | S12: 522 | T12: 1903 | U12: 7699 | V12: 2593 | W12: 2222 | X12: 371 | Y12: 402 | Z12: 1714 | AA12: 4 | AB12: 13 | AC12: 427 | AD12: 3 | AE12: 12 | AF12: 1 | AG12: 0 | AH12: 1254 | AI12: 2990 | AJ12: 1457 | AK12: 104 | AL12: 585 | AM12: 673 | AN12: 124 | AO12: 20 | AP12: 22 | AQ12: 5
A13: 高雄市 | C13: 19084 | D13: 1910 | E13: 148 | F13: 822 | G13: 945 | H13: 0 | I13: 9465 | J13: 204 | K13: 32 | L13: 33 | M13: 5439 | N13: 0 | O13: 86 | P13: 16232 | Q13: 7810 | R13: 2970 | S13: 1123 | T13: 4329 | U13: 16232 | V13: 4808 | W13: 4264 | X13: 544 | Y13: 793 | Z13: 3827 | AA13: 13 | AB13: 37 | AC13: 667 | AD13: 14 | AE13: 22 | AF13: 2 | AG13: 8 | AH13: 3064 | AI13: 6804 | AJ13: 3249 | AK13: 277 | AL13: 1407 | AM13: 1471 | AN13: 219 | AO13: 45 | AP13: 78 | AQ13: 58
A14: 宜蘭縣 | C14: 2121 | D14: 241 | E14: 6 | F14: 66 | G14: 90 | H14: 0 | I14: 951 | J14: 4 | K14: 5 | L14: 5 | M14: 728 | N14: 3 | O14: 22 | P14: 1799 | Q14: 1021 | R14: 111 | S14: 144 | T14: 523 | U14: 1799 | V14: 718 | W14: 635 | X14: 83 | Y14: 95 | Z14: 221 | AA14: 2 | AB14: 4 | AC14: 59 | AD14: 6 | AE14: 4 | AF14: 3 | AG14: 3 | AH14: 140 | AI14: 765 | AJ14: 345 | AK14: 25 | AL14: 121 | AM14: 108 | AN14: 28 | AO14: 84 | AP14: 34 | AQ14: 20
A15: 新竹縣 | C15: 2817 | D15: 380 | E15: 22 | F15: 75 | G15: 167 | H15: 0 | I15: 1333 | J15: 5 | K15: 1 | L15: 10 | M15: 806 | N15: 0 | O15: 18 | P15: 2439 | Q15: 1419 | R15: 257 | S15: 128 | T15: 635 | U15: 2439 | V15: 960 | W15: 841 | X15: 119 | Y15: 131 | Z15: 420 | AA15: 2 | AB15: 3 | AC15: 88 | AD15: 5 | AE15: 3 | AF15: 3 | AG15: 2 | AH15: 314 | AI15: 928 | AJ15: 394 | AK15: 24 | AL15: 187 | AM15: 110 | AN15: 30 | AO15: 111 | AP15: 57 | AQ15: 15
A16: 苗栗縣 | C16: 2831 | D16: 316 | E16: 8 | F16: 48 | G16: 144 | H16: 0 | I16: 1408 | J16: 2 | K16: 3 | L16: 8 | M16: 884 | N16: 2 | O16: 8 | P16: 2433 | Q16: 1388 | R16: 207 | S16: 184 | T16: 654 | U16: 2433 | V16: 926 | W16: 816 | X16: 110 | Y16: 104 | Z16: 388 | AA16: 2 | AB16: 0 | AC16: 103 | AD16: 5 | AE16: 5 | AF16: 5 | AG16: 1 | AH16: 267 | AI16: 1015 | AJ16: 452 | AK16: 32 | AL16: 185 | AM16: 115 | AN16: 29 | AO16: 109 | AP16: 61 | AQ16: 32
A17: 彰化縣 | C17: 6759 | D17: 708 | E17: 19 | F17: 193 | G17: 300 | H17: 0 | I17: 3928 | J17: 10 | K17: 15 | L17: 17 | M17: 1522 | N17: 2 | O17: 45 | P17: 5925 | Q17: 3093 | R17: 633 | S17: 468 | T17: 1731 | U17: 5925 | V17: 2228 | W17: 1931 | X17: 297 | Y17: 289 | Z17: 1010 | AA17: 7 | AB17: 22 | AC17: 174 | AD17: 12 | AE17: 13 | AF17: 5 | AG17: 4 | AH17: 773 | AI17: 2398 | AJ17: 1167 | AK17: 115 | AL17: 330 | AM17: 353 | AN17: 88 | AO17: 224 | AP17: 97 | AQ17: 24
