Workbook

Sheet 歷年
A1: 4.2-01國民年金被保險人數按身分,年齡及性別分
L3: 單位：人
A4: 年別 | C4: 合 計 | D4: 一般身分 | E4: 低收入戶 | F4: 所得未達一定標準者 | I4: 身 心 障 礙 者
F5: 小 計 | G5: 第一目 | H5: 第二目 | I5: 小 計 | J5: 重度以上 | K5: 中 度 | L5: 輕 度
A7: 97年底,2008 | C7: ='97'!C7 -> 4220905 | D7: ='97'!D7 -> 3931145 | E7: ='97'!E7 -> 39150 | F7: ='97'!F7 -> 8803 | G7: ='97'!G7 -> 5657 | H7: ='97'!H7 -> 3146 | I7: ='97'!I7 -> 241807 | J7: ='97'!J7 -> 88447 | ... L7: ='97'!L7 -> 71993
A8: 98年底,2009 | C8: ='98'!C7 -> 4014678 | D8: ='98'!D7 -> 3562609 | E8: ='98'!E7 -> 50392 | F8: ='98'!F7 -> 150595 | G8: ='98'!G7 -> 99632 | H8: ='98'!H7 -> 50963 | I8: ='98'!I7 -> 251082 | J8: ='98'!J7 -> 95379 | ... L8: ='98'!L7 -> 71835
A9: 99年底,2010 | C9: ='99'!C7 -> 3872241 | D9: ='99'!D7 -> 3389685 | E9: ='99'!E7 -> 51390 | F9: ='99'!F7 -> 181379 | G9: ='99'!G7 -> 119858 | H9: ='99'!H7 -> 61521 | I9: ='99'!I7 -> 249787 | J9: ='99'!J7 -> 96166 | ... L9: ='99'!L7 -> 70167
A10: 100年底,2011 | C10: ='100'!C7 -> 3783731 | D10: ='100'!D7 -> 3295839 | E10: ='100'!E7 -> 62071 | F10: ='100'!F7 -> 175133 | G10: ='100'!G7 -> 120010 | H10: ='100'!H7 -> 55123 | I10: ='100'!I7 -> 250688 | J10: ='100'!J7 -> 97956 | ... L10: ='100'!L7 -> 70149
A11: 101年底,2012 | C11: ='101'!C7 -> 3725626 | D11: ='101'!D7 -> 3220523 | E11: ='101'!E7 -> 72616 | F11: ='101'!F7 -> 184193 | G11: ='101'!G7 -> 127310 | H11: ='101'!H7 -> 56883 | I11: ='101'!I7 -> 248294 | J11: ='101'!J7 -> 99120 | ... L11: ='101'!L7 -> 68566
A12: 102年底,2013 | C12: ='102'!C7 -> 3677601 | D12: ='102'!D7 -> 3180002 | E12: ='102'!E7 -> 76420 | F12: ='102'!F7 -> 174787 | G12: ='102'!G7 -> 123093 | H12: ='102'!H7 -> 51694 | I12: ='102'!I7 -> 246392 | J12: ='102'!J7 -> 100335 | ... L12: ='102'!L7 -> 67400
A13: 103年底,2014 | C13: 3584020 | D13: 3085741 | E13: 77315 | F13: 178624 | G13: 126404 | H13: 52220 | I13: 242340 | J13: 98456 | K13: 77866 | L13: 66018
A14: 104年底,2015 | C14: 3509970 | D14: 3024520 | E14: 75620 | F14: 169416 | G14: 121514 | H14: 47902 | I14: 240414 | J14: 97409 | K14: 77447 | L14: 65558
A15: 105年底,2016 | C15: 3425214 | D15: 2943026 | E15: 74178 | F15: 173353 | G15: 124584 | H15: 48769 | I15: 234657 | J15: 95282 | K15: 75801 | L15: 63574
A16: 106年底,2017 | C16: 3349164 | D16: 2882608 | E16: 71218 | F16: 164309 | G16: 118475 | H16: 45834 | I16: 231029 | J16: 94018 | K16: 74782 | L16: 62229
A17: 107年底,2018 | C17: 3286664 | D17: 2820384 | E17: 69978 | F17: 169707 | G17: 121694 | H17: 48013 | I17: 226595 | J17: 92740 | K17: 73670 | L17: 60185
A18: 108年底,2019 | C18: 3230918 | D18: 2775350 | E18: 68462 | F18: 164426 | G18: 117098 | H18: 47328 | I18: 222680 | J18: 91727 | K18: 72659 | L18: 58294
A19: 109年底,2020 | C19: 3105983 | D19: 2617480 | E19: 67354 | F19: 146974 | G19: 100258 | H19: 46716 | I19: 215952 | J19: 90530 | K19: 71780 | L19: 53642
A21: 年別 | C21: 合 計 | D21: 一般身分 | E21: 低收入戶 | F21: 中低收入戶 | G21: 所得未達一定標準者 | J21: 身 心 障 礙 者
G22: 小 計 | H22: 第一目 | I22: 第二目 | J22: 小 計 | K22: 重度以上 | L22: 中 度 | M22: 輕 度
A24: 110年底,2021 | C24: 2911028 | D24: 2447615 | E24: 65135 | F24: 54245 | G24: 133947 | H24: 89100 | I24: 44847 | J24: 210086 | K24: 88467 | L24: 70156 | M24: 51463
A25: 111年底,2022 | C25: 2810844 | D25: 2360749 | E25: 63675 | F25: 52000 | G25: 130682 | H25: 87203 | I25: 43479 | J25: 203738 | K25: 86020 | L25: 68469 | M25: 49249
A26: 112年底,2023 | C26: 2899073 | D26: 2460041 | E26: 61360 | F26: 50546 | G26: 125526 | H26: 84427 | I26: 41099 | J26: 201600 | K26: 84321 | L26: 67990 | M26: 49289
A27: 113年底,2024 | C27: 2881238 | D27: 2452461 | E27: 56909 | F27: 46645 | G27: 125559 | H27: 83689 | I27: 41870 | J27: 199664 | K27: 83028 | L27: 67769 | M27: 48867
A28: 資料來源：勞工保險局國民年金業務處。

Sheet 113
A1: 4.2-01國民年金被保險人數按身分,年齡及性別分
A2: 民國113年底
A3: 單位：人
A4: 年齡別及性別 | C4: 合 計 | D4: 一般身分 | E4: 低收入戶 | F4: 中低收入戶 | G4: 所得未達一定標準者 | J4: 身 心 障 礙 者
G5: 小 計 | H5: 第一目 | I5: 第二目 | J5: 小 計 | K5: 重度以上 | L5: 中 度 | M5: 輕 度
A7: 總計 | B7: 合計 | C7: 2881238 | D7: 2452461 | E7: 56909 | F7: 46645 | G7: 125559 | H7: 83689 | I7: 41870 | J7: 199664 | K7: 83028 | L7: 67769 | M7: 48867
B8: 男 | C8: 1422788 | D8: 1204678 | E8: 29353 | F8: 21488 | G8: 51031 | H8: 35721 | I8: 15310 | J8: 116238 | K8: 50247 | L8: 37939 | M8: 28052
B9: 女 | C9: 1458450 | D9: 1247783 | E9: 27556 | F9: 25157 | G9: 74528 | H9: 47968 | I9: 26560 | J9: 83426 | K9: 32781 | L9: 29830 | M9: 20815
A10: 25－29歲 | B10: 計 | C10: 380247 | D10: 354339 | E10: 2438 | F10: 3967 | G10: 3635 | H10: 1609 | I10: 2026 | J10: 15868 | K10: 5186 | L10: 5608 | M10: 5074
B11: 男 | C11: 199571 | D11: 185878 | E11: 964 | F11: 1652 | G11: 1607 | H11: 661 | I11: 946 | J11: 9470 | K11: 3166 | L11: 3244 | M11: 3060
B12: 女 | C12: 180676 | D12: 168461 | E12: 1474 | F12: 2315 | G12: 2028 | H12: 948 | I12: 1080 | J12: 6398 | K12: 2020 | L12: 2364 | M12: 2014
A13: 30－34歲 | B13: 計 | C13: 346177 | D13: 315023 | E13: 3730 | F13: 3973 | G13: 6812 | H13: 4153 | I13: 2659 | J13: 16639 | K13: 5881 | L13: 5843 | M13: 4915
B14: 男 | C14: 176502 | D14: 161009 | E14: 1419 | F14: 1594 | G14: 2612 | H14: 1546 | I14: 1066 | J14: 9868 | K14: 3601 | L14: 3348 | M14: 2919
B15: 女 | C15: 169675 | D15: 154014 | E15: 2311 | F15: 2379 | G15: 4200 | H15: 2607 | I15: 1593 | J15: 6771 | K15: 2280 | L15: 2495 | M15: 1996
A16: 35－39歲 | B16: 計 | C16: 318544 | D16: 280029 | E16: 5875 | F16: 5380 | G16: 9727 | H16: 7129 | I16: 2598 | J16: 17533 | K16: 6540 | L16: 6160 | M16: 4833
B17: 男 | C17: 155748 | D17: 138016 | E17: 2079 | F17: 1961 | G17: 3448 | H17: 2490 | I17: 958 | J17: 10244 | K17: 3876 | L17: 3529 | M17: 2839
B18: 女 | C18: 162796 | D18: 142013 | E18: 3796 | F18: 3419 | G18: 6279 | H18: 4639 | I18: 1640 | J18: 7289 | K18: 2664 | L18: 2631 | M18: 1994
A19: 40－44歲 | B19: 計 | C19: 379424 | D19: 318530 | E19: 10047 | F19: 9201 | G19: 17200 | H19: 13853 | I19: 3347 | J19: 24446 | K19: 9913 | L19: 8554 | M19: 5979
B20: 男 | C20: 182738 | D20: 154793 | E20: 3960 | F20: 3414 | G20: 6187 | H20: 5118 | I20: 1069 | J20: 14384 | K20: 5930 | L20: 4889 | M20: 3565
B21: 女 | C21: 196686 | D21: 163737 | E21: 6087 | F21: 5787 | G21: 11013 | H21: 8735 | I21: 2278 | J21: 10062 | K21: 3983 | L21: 3665 | M21: 2414
A22: 45－49歲 | B22: 計 | C22: 383596 | D22: 313919 | E22: 10694 | F22: 9156 | G22: 22576 | H22: 17782 | I22: 4794 | J22: 27251 | K22: 11675 | L22: 9552 | M22: 6024
B23: 男 | C23: 189481 | D23: 155239 | E23: 5312 | F23: 4049 | G23: 8972 | H23: 7508 | I23: 1464 | J23: 15909 | K23: 7049 | L23: 5337 | M23: 3523
B24: 女 | C24: 194115 | D24: 158680 | E24: 5382 | F24: 5107 | G24: 13604 | H24: 10274 | I24: 3330 | J24: 11342 | K24: 4626 | L24: 4215 | M24: 2501
A25: 50－54歲 | B25: 計 | C25: 360664 | D25: 292790 | E25: 8939 | F25: 6614 | G25: 23522 | H25: 15952 | I25: 7570 | J25: 28799 | K25: 12634 | L25: 9982 | M25: 6183
B26: 男 | C26: 177269 | D26: 141848 | E26: 5313 | F26: 3574 | G26: 9733 | H26: 7297 | I26: 2436 | J26: 16801 | K26: 7792 | L26: 5543 | M26: 3466
B27: 女 | C27: 183395 | D27: 150942 | E27: 3626 | F27: 3040 | G27: 13789 | H27: 8655 | I27: 5134 | J27: 11998 | K27: 4842 | L27: 4439 | M27: 2717
A28: 55－59歲 | B28: 計 | C28: 378495 | D28: 309363 | E28: 8090 | F28: 4612 | G28: 23205 | H28: 12691 | I28: 10514 | J28: 33225 | K28: 14829 | L28: 10875 | M28: 7521
B29: 男 | C29: 186612 | D29: 148547 | E29: 5412 | F29: 2845 | G29: 10338 | H29: 6309 | I29: 4029 | J29: 19470 | K29: 9144 | L29: 6109 | M29: 4217
B30: 女 | C30: 191883 | D30: 160816 | E30: 2678 | F30: 1767 | G30: 12867 | H30: 6382 | I30: 6485 | J30: 13755 | K30: 5685 | L30: 4766 | M30: 3304
A31: 60－65歲 | B31: 計 | C31: 334091 | D31: 268468 | E31: 7096 | F31: 3742 | G31: 18882 | H31: 10520 | I31: 8362 | J31: 35903 | K31: 16370 | L31: 11195 | M31: 8338
B32: 男 | C32: 154867 | D32: 119348 | E32: 4894 | F32: 2399 | G32: 8134 | H32: 4792 | I32: 3342 | J32: 20092 | K32: 9689 | L32: 5940 | M32: 4463
B33: 女 | C33: 179224 | D33: 149120 | E33: 2202 | F33: 1343 | G33: 10748 | H33: 5728 | I33: 5020 | J33: 15811 | K33: 6681 | L33: 5255 | M33: 3875
A34: 平 均 年 齡 (歲) | B34: 計 | C34: 44.47 | D34: 43.88 | E34: 47.35 | F34: 44.78 | G34: 49.25 | H34: 48.6 | I34: 50.53 | J34: 47.81 | K34: 48.87 | L34: 47.37 | M34: 46.6
B35: 男 | C35: 44.15 | D35: 43.4 | E35: 49.52 | F35: 46.47 | G35: 49.76 | H35: 49.44 | I35: 50.5 | J35: 47.64 | K35: 48.85 | L35: 47.12 | M35: 46.16
B36: 女 | C36: 44.78 | D36: 44.34 | E36: 45.03 | F36: 43.34 | G36: 48.9 | H36: 47.98 | I36: 50.55 | J36: 48.04 | K36: 48.89 | L36: 47.7 | M36: 47.2
A37: 資料來源：勞工保險局國民年金業務處。
A60: Note： See Table 114.

Sheet 112
A1: 4.2-01國民年金被保險人數按身分,年齡及性別分
A2: 民國112年底
A3: 單位：人
A4: 年齡別及性別 | C4: 合 計 | D4: 一般身分 | E4: 低收入戶 | F4: 中低收入戶 | G4: 所得未達一定標準者 | J4: 身 心 障 礙 者
G5: 小 計 | H5: 第一目 | I5: 第二目 | J5: 小 計 | K5: 重度以上 | L5: 中 度 | M5: 輕 度
A7: 總計 | B7: 合計 | C7: 2899073 | D7: 2460041 | E7: 61360 | F7: 50546 | G7: 125526 | H7: 84427 | I7: 41099 | J7: 201600 | K7: 84321 | L7: 67990 | M7: 49289
B8: 男 | C8: 1425946 | D8: 1203148 | E8: 31544 | F8: 23149 | G8: 50694 | H8: 35677 | I8: 15017 | J8: 117411 | K8: 50824 | L8: 38137 | M8: 28450
B9: 女 | C9: 1473127 | D9: 1256893 | E9: 29816 | F9: 27397 | G9: 74832 | H9: 48750 | I9: 26082 | J9: 84189 | K9: 33497 | L9: 29853 | M9: 20839
A10: 25－29歲 | B10: 計 | C10: 381808 | D10: 355055 | E10: 2677 | F10: 4405 | G10: 3734 | H10: 1769 | I10: 1965 | J10: 15937 | K10: 5341 | L10: 5625 | M10: 4971
B11: 男 | C11: 200807 | D11: 186841 | E11: 1043 | F11: 1853 | G11: 1603 | H11: 695 | I11: 908 | J11: 9467 | K11: 3251 | L11: 3244 | M11: 2972
B12: 女 | C12: 181001 | D12: 168214 | E12: 1634 | F12: 2552 | G12: 2131 | H12: 1074 | I12: 1057 | J12: 6470 | K12: 2090 | L12: 2381 | M12: 1999
A13: 30－34歲 | B13: 計 | C13: 338879 | D13: 307309 | E13: 3914 | F13: 4350 | G13: 6900 | H13: 4502 | I13: 2398 | J13: 16406 | K13: 5861 | L13: 5673 | M13: 4872
B14: 男 | C14: 171288 | D14: 155825 | E14: 1471 | F14: 1661 | G14: 2556 | H14: 1603 | I14: 953 | J14: 9775 | K14: 3584 | L14: 3279 | M14: 2912
B15: 女 | C15: 167591 | D15: 151484 | E15: 2443 | F15: 2689 | G15: 4344 | H15: 2899 | I15: 1445 | J15: 6631 | K15: 2277 | L15: 2394 | M15: 1960
A16: 35－39歲 | B16: 計 | C16: 325857 | D16: 284219 | E16: 6674 | F16: 6329 | G16: 10514 | H16: 7986 | I16: 2528 | J16: 18121 | K16: 6926 | L16: 6272 | M16: 4923
B17: 男 | C17: 157112 | D17: 138404 | E17: 2311 | F17: 2260 | G17: 3549 | H17: 2692 | I17: 857 | J17: 10588 | K17: 4102 | L17: 3601 | M17: 2885
B18: 女 | C18: 168745 | D18: 145815 | E18: 4363 | F18: 4069 | G18: 6965 | H18: 5294 | I18: 1671 | J18: 7533 | K18: 2824 | L18: 2671 | M18: 2038
A19: 40－44歲 | B19: 計 | C19: 388883 | D19: 324234 | E19: 11322 | F19: 10141 | G19: 18228 | H19: 14904 | I19: 3324 | J19: 24958 | K19: 10203 | L19: 8733 | M19: 6022
B20: 男 | C20: 186856 | D20: 157542 | E20: 4454 | F20: 3761 | G20: 6495 | H20: 5462 | I20: 1033 | J20: 14604 | K20: 6052 | L20: 4903 | M20: 3649
B21: 女 | C21: 202027 | D21: 166692 | E21: 6868 | F21: 6380 | G21: 11733 | H21: 9442 | I21: 2291 | J21: 10354 | K21: 4151 | L21: 3830 | M21: 2373
A22: 45－49歲 | B22: 計 | C22: 375697 | D22: 305857 | E22: 11341 | F22: 9539 | G22: 22316 | H22: 17355 | I22: 4961 | J22: 26644 | K22: 11458 | L22: 9337 | M22: 5849
B23: 男 | C23: 185310 | D23: 150794 | E23: 5633 | F23: 4311 | G23: 8876 | H23: 7381 | I23: 1495 | J23: 15696 | K23: 6957 | L23: 5288 | M23: 3451
B24: 女 | C24: 190387 | D24: 155063 | E24: 5708 | F24: 5228 | G24: 13440 | H24: 9974 | I24: 3466 | J24: 10948 | K24: 4501 | L24: 4049 | M24: 2398
A25: 50－54歲 | B25: 計 | C25: 368259 | D25: 298932 | E25: 9697 | F25: 7170 | G25: 23346 | H25: 15459 | I25: 7887 | J25: 29114 | K25: 12852 | L25: 10002 | M25: 6260
B26: 男 | C26: 181065 | D26: 144615 | E26: 5881 | F26: 3882 | G26: 9745 | H26: 7193 | I26: 2552 | J26: 16942 | K26: 7889 | L26: 5602 | M26: 3451
B27: 女 | C27: 187194 | D27: 154317 | E27: 3816 | F27: 3288 | G27: 13601 | H27: 8266 | I27: 5335 | J27: 12172 | K27: 4963 | L27: 4400 | M27: 2809
A28: 55－59歲 | B28: 計 | C28: 381391 | D28: 311873 | E28: 8485 | F28: 4817 | G28: 22322 | H28: 11914 | I28: 10408 | J28: 33894 | K28: 15158 | L28: 10979 | M28: 7757
B29: 男 | C29: 187975 | D29: 149165 | E29: 5714 | F29: 2989 | G29: 10089 | H29: 5944 | I29: 4145 | J29: 20018 | K29: 9350 | L29: 6214 | M29: 4454
B30: 女 | C30: 193416 | D30: 162708 | E30: 2771 | F30: 1828 | G30: 12233 | H30: 5970 | I30: 6263 | J30: 13876 | K30: 5808 | L30: 4765 | M30: 3303
A31: 60－65歲 | B31: 計 | C31: 338299 | D31: 272562 | E31: 7250 | F31: 3795 | G31: 18166 | H31: 10538 | I31: 7628 | J31: 36526 | K31: 16522 | L31: 11369 | M31: 8635
B32: 男 | C32: 155533 | D32: 119962 | E32: 5037 | F32: 2432 | G32: 7781 | H32: 4707 | I32: 3074 | J32: 20321 | K32: 9639 | L32: 6006 | M32: 4676
B33: 女 | C33: 182766 | D33: 152600 | E33: 2213 | F33: 1363 | G33: 10385 | H33: 5831 | I33: 4554 | J33: 16205 | K33: 6883 | L33: 5363 | M33: 3959
A34: 平 均 年 齡 (歲) | B34: 計 | C34: 44.52 | D34: 43.95 | E34: 47.13 | F34: 44.49 | G34: 48.95 | H34: 48.2 | I34: 50.49 | J34: 47.86 | K34: 48.83 | L34: 47.44 | M34: 46.77
B35: 男 | C35: 44.2 | D35: 43.46 | E35: 49.39 | F35: 46.24 | G35: 49.58 | H35: 49.12 | I35: 50.69 | J35: 47.68 | K35: 48.78 | L35: 47.19 | M35: 46.39
B36: 女 | C36: 44.82 | D36: 44.42 | E36: 44.74 | F36: 43.01 | G36: 48.52 | H36: 47.53 | I36: 50.37 | J36: 48.1 | K36: 48.9 | L36: 47.75 | M36: 47.29
A37: 資料來源：勞工保險局國民年金業務處。
A60: Note： See Table 114.

Sheet 111
A1: 4.2-01國民年金被保險人數按身分,年齡及性別分
A2: 民國111年底
A3: 單位：人
A4: 年齡別及性別 | C4: 合 計 | D4: 一般身分 | E4: 低收入戶 | F4: 中低收入戶 | G4: 所得未達一定標準者 | J4: 身 心 障 礙 者
G5: 小 計 | H5: 第一目 | I5: 第二目 | J5: 小 計 | K5: 重度以上 | L5: 中 度 | M5: 輕 度
A7: 總計 | B7: 合計 | C7: 2810844 | D7: 2360749 | E7: 63675 | F7: 52000 | G7: 130682 | H7: 87203 | I7: 43479 | J7: 203738 | K7: 86020 | L7: 68469 | M7: 49249
B8: 男 | C8: 1384892 | D8: 1157392 | E8: 32822 | F8: 23746 | G8: 52263 | H8: 36520 | I8: 15743 | J8: 118669 | K8: 51730 | L8: 38321 | M8: 28618
B9: 女 | C9: 1425952 | D9: 1203357 | E9: 30853 | F9: 28254 | G9: 78419 | H9: 50683 | I9: 27736 | J9: 85069 | K9: 34290 | L9: 30148 | M9: 20631
A10: 25－29歲 | B10: 計 | C10: 369077 | D10: 341865 | E10: 2832 | F10: 4576 | G10: 3884 | H10: 1830 | I10: 2054 | J10: 15920 | K10: 5509 | L10: 5634 | M10: 4777
B11: 男 | C11: 197104 | D11: 182907 | E11: 1148 | F11: 1894 | G11: 1641 | H11: 719 | I11: 922 | J11: 9514 | K11: 3351 | L11: 3259 | M11: 2904
B12: 女 | C12: 171973 | D12: 158958 | E12: 1684 | F12: 2682 | G12: 2243 | H12: 1111 | I12: 1132 | J12: 6406 | K12: 2158 | L12: 2375 | M12: 1873
A13: 30－34歲 | B13: 計 | C13: 315756 | D13: 283571 | E13: 4010 | F13: 4763 | G13: 7129 | H13: 4353 | I13: 2776 | J13: 16283 | K13: 5853 | L13: 5667 | M13: 4763
B14: 男 | C14: 159717 | D14: 144243 | E14: 1468 | F14: 1808 | G14: 2514 | H14: 1473 | I14: 1041 | J14: 9684 | K14: 3555 | L14: 3245 | M14: 2884
B15: 女 | C15: 156039 | D15: 139328 | E15: 2542 | F15: 2955 | G15: 4615 | H15: 2880 | I15: 1735 | J15: 6599 | K15: 2298 | L15: 2422 | M15: 1879
A16: 35－39歲 | B16: 計 | C16: 312840 | D16: 268471 | E16: 7277 | F16: 6932 | G16: 11525 | H16: 8438 | I16: 3087 | J16: 18635 | K16: 7310 | L16: 6426 | M16: 4899
B17: 男 | C17: 149261 | D17: 129780 | E17: 2477 | F17: 2382 | G17: 3665 | H17: 2677 | I17: 988 | J17: 10957 | K17: 4329 | L17: 3705 | M17: 2923
B18: 女 | C18: 163579 | D18: 138691 | E18: 4800 | F18: 4550 | G18: 7860 | H18: 5761 | I18: 2099 | J18: 7678 | K18: 2981 | L18: 2721 | M18: 1976
A19: 40－44歲 | B19: 計 | C19: 377627 | D19: 310575 | E19: 11911 | F19: 10587 | G19: 19313 | H19: 15533 | I19: 3780 | J19: 25241 | K19: 10496 | L19: 8835 | M19: 5910
B20: 男 | C20: 182694 | D20: 152222 | E20: 4688 | F20: 4058 | G20: 6928 | H20: 5746 | I20: 1182 | J20: 14798 | K20: 6218 | L20: 5034 | M20: 3546
B21: 女 | C21: 194933 | D21: 158353 | E21: 7223 | F21: 6529 | G21: 12385 | H21: 9787 | I21: 2598 | J21: 10443 | K21: 4278 | L21: 3801 | M21: 2364
A22: 45－49歲 | B22: 計 | C22: 354813 | D22: 285241 | E22: 11724 | F22: 9352 | G22: 22699 | H22: 17803 | I22: 4896 | J22: 25797 | K22: 11262 | L22: 9060 | M22: 5475
B23: 男 | C23: 174934 | D23: 140479 | E23: 5939 | F23: 4307 | G23: 8923 | H23: 7443 | I23: 1480 | J23: 15286 | K23: 6894 | L23: 5149 | M23: 3243
B24: 女 | C24: 179879 | D24: 144762 | E24: 5785 | F24: 5045 | G24: 13776 | H24: 10360 | I24: 3416 | J24: 10511 | K24: 4368 | L24: 3911 | M24: 2232
A25: 50－54歲 | B25: 計 | C25: 363411 | D25: 292370 | E25: 10191 | F25: 7265 | G25: 24166 | H25: 16416 | I25: 7750 | J25: 29419 | K25: 13002 | L25: 10058 | M25: 6359
B26: 男 | C26: 180095 | D26: 142546 | E26: 6219 | F26: 3972 | G26: 10133 | H26: 7686 | I26: 2447 | J26: 17225 | K26: 7993 | L26: 5606 | M26: 3626
B27: 女 | C27: 183316 | D27: 149824 | E27: 3972 | F27: 3293 | G27: 14033 | H27: 8730 | I27: 5303 | J27: 12194 | K27: 5009 | L27: 4452 | M27: 2733
A28: 55－59歲 | B28: 計 | C28: 373316 | D28: 302511 | E28: 8603 | F28: 4781 | G28: 22879 | H28: 12474 | I28: 10405 | J28: 34542 | K28: 15570 | L28: 11124 | M28: 7848
B29: 男 | C29: 184382 | D29: 144932 | E29: 5876 | F29: 2941 | G29: 10405 | H29: 6245 | I29: 4160 | J29: 20228 | K29: 9599 | L29: 6166 | M29: 4463
B30: 女 | C30: 188934 | D30: 157579 | E30: 2727 | F30: 1840 | G30: 12474 | H30: 6229 | I30: 6245 | J30: 14314 | K30: 5971 | L30: 4958 | M30: 3385
A31: 60－65歲 | B31: 計 | C31: 344004 | D31: 276145 | E31: 7127 | F31: 3744 | G31: 19087 | H31: 10356 | I31: 8731 | J31: 37901 | K31: 17018 | L31: 11665 | M31: 9218
B32: 男 | C32: 156705 | D32: 120283 | E32: 5007 | F32: 2384 | G32: 8054 | H32: 4531 | I32: 3523 | J32: 20977 | K32: 9791 | L32: 6157 | M32: 5029
B33: 女 | C33: 187299 | D33: 155862 | E33: 2120 | F33: 1360 | G33: 11033 | H33: 5825 | I33: 5208 | J33: 16924 | K33: 7227 | L33: 5508 | M33: 4189
A34: 平 均 年 齡 (歲) | B34: 計 | C34: 44.73 | D34: 44.16 | E34: 46.95 | F34: 44.21 | G34: 48.91 | H34: 48.19 | I34: 50.34 | J34: 47.98 | K34: 48.84 | L34: 47.51 | M34: 47.12
B35: 男 | C35: 44.36 | D35: 43.6 | E35: 49.25 | F35: 46.01 | G35: 49.63 | H35: 49.16 | I35: 50.72 | J35: 47.76 | K35: 48.76 | L35: 47.21 | M35: 46.69
B36: 女 | C36: 45.08 | D36: 44.71 | E36: 44.52 | F36: 42.7 | G36: 48.43 | H36: 47.5 | I36: 50.13 | J36: 48.28 | K36: 48.97 | L36: 47.88 | M36: 47.7
A37: 資料來源：勞工保險局國民年金業務處。
A60: Note： See Table 114.

Sheet 110
A1: 4.2-01國民年金被保險人數按身分,年齡及性別分
A2: 民國110年底
A3: 單位：人
A4: 年齡別及性別 | C4: 合 計 | D4: 一般身分 | E4: 低收入戶 | F4: 中低收入戶 | G4: 所得未達一定標準者 | J4: 身 心 障 礙 者
G5: 小 計 | H5: 第一目 | I5: 第二目 | J5: 小 計 | K5: 重度以上 | L5: 中 度 | M5: 輕 度
A7: 總計 | B7: 合計 | C7: 2911028 | D7: 2447615 | E7: 65135 | F7: 54245 | G7: 133947 | H7: 89100 | I7: 44847 | J7: 210086 | K7: 88467 | L7: 70156 | M7: 51463
B8: 男 | C8: 1431957 | D8: 1198019 | E8: 33431 | F8: 24768 | G8: 53326 | H8: 37111 | I8: 16215 | J8: 122413 | K8: 53180 | L8: 39222 | M8: 30011
B9: 女 | C9: 1479071 | D9: 1249596 | E9: 31704 | F9: 29477 | G9: 80621 | H9: 51989 | I9: 28632 | J9: 87673 | K9: 35287 | L9: 30934 | M9: 21452
A10: 25－29歲 | B10: 計 | C10: 376975 | D10: 348703 | E10: 2898 | F10: 4686 | G10: 4347 | H10: 2066 | I10: 2281 | J10: 16341 | K10: 5716 | L10: 5688 | M10: 4937
B11: 男 | C11: 200800 | D11: 186214 | E11: 1198 | F11: 1891 | G11: 1748 | H11: 776 | I11: 972 | J11: 9749 | K11: 3469 | L11: 3276 | M11: 3004
B12: 女 | C12: 176175 | D12: 162489 | E12: 1700 | F12: 2795 | G12: 2599 | H12: 1290 | I12: 1309 | J12: 6592 | K12: 2247 | L12: 2412 | M12: 1933
A13: 30－34歲 | B13: 計 | C13: 322309 | D13: 289291 | E13: 4009 | F13: 5014 | G13: 7607 | H13: 4767 | I13: 2840 | J13: 16388 | K13: 5829 | L13: 5824 | M13: 4735
B14: 男 | C14: 161625 | D14: 146274 | E14: 1374 | F14: 1813 | G14: 2446 | H14: 1482 | I14: 964 | J14: 9718 | K14: 3523 | L14: 3333 | M14: 2862
B15: 女 | C15: 160684 | D15: 143017 | E15: 2635 | F15: 3201 | G15: 5161 | H15: 3285 | I15: 1876 | J15: 6670 | K15: 2306 | L15: 2491 | M15: 1873
A16: 35－39歲 | B16: 計 | C16: 341349 | D16: 291940 | E16: 8168 | F16: 8045 | G16: 13122 | H16: 9829 | I16: 3293 | J16: 20074 | K16: 7929 | L16: 6871 | M16: 5274
B17: 男 | C17: 161163 | D17: 139867 | E17: 2648 | F17: 2778 | G17: 4085 | H17: 3096 | I17: 989 | J17: 11785 | K17: 4686 | L17: 3939 | M17: 3160
B18: 女 | C18: 180186 | D18: 152073 | E18: 5520 | F18: 5267 | G18: 9037 | H18: 6733 | I18: 2304 | J18: 8289 | K18: 3243 | L18: 2932 | M18: 2114
A19: 40－44歲 | B19: 計 | C19: 388064 | D19: 318316 | E19: 12305 | F19: 11145 | G19: 20658 | H19: 16609 | I19: 4049 | J19: 25640 | K19: 10685 | L19: 9004 | M19: 5951
B20: 男 | C20: 189028 | D20: 157079 | E20: 4965 | F20: 4354 | G20: 7488 | H20: 6250 | I20: 1238 | J20: 15142 | K20: 6350 | L20: 5156 | M20: 3636
B21: 女 | C21: 199036 | D21: 161237 | E21: 7340 | F21: 6791 | G21: 13170 | H21: 10359 | I21: 2811 | J21: 10498 | K21: 4335 | L21: 3848 | M21: 2315
A22: 45－49歲 | B22: 計 | C22: 362774 | D22: 292277 | E22: 11846 | F22: 9568 | G22: 23213 | H22: 17882 | I22: 5331 | J22: 25870 | K22: 11313 | L22: 9055 | M22: 5502
B23: 男 | C23: 179035 | D23: 144103 | E23: 6073 | F23: 4482 | G23: 9176 | H23: 7545 | I23: 1631 | J23: 15201 | K23: 6899 | L23: 5101 | M23: 3201
B24: 女 | C24: 183739 | D24: 148174 | E24: 5773 | F24: 5086 | G24: 14037 | H24: 10337 | I24: 3700 | J24: 10669 | K24: 4414 | L24: 3954 | M24: 2301
A25: 50－54歲 | B25: 計 | C25: 373871 | D25: 302021 | E25: 10312 | F25: 7355 | G25: 23996 | H25: 15842 | I25: 8154 | J25: 30187 | K25: 13348 | L25: 10228 | M25: 6611
B26: 男 | C26: 187500 | D26: 148914 | E26: 6333 | F26: 4123 | G26: 10350 | H26: 7691 | I26: 2659 | J26: 17780 | K26: 8249 | L26: 5727 | M26: 3804
B27: 女 | C27: 186371 | D27: 153107 | E27: 3979 | F27: 3232 | G27: 13646 | H27: 8151 | I27: 5495 | J27: 12407 | K27: 5099 | L27: 4501 | M27: 2807
A28: 55－59歲 | B28: 計 | C28: 383876 | D28: 311980 | E28: 8752 | F28: 4788 | G28: 21988 | H28: 11591 | I28: 10397 | J28: 36368 | K28: 16298 | L28: 11522 | M28: 8548
B29: 男 | C29: 189495 | D29: 149065 | E29: 6019 | F29: 3028 | G29: 10054 | H29: 5751 | I29: 4303 | J29: 21329 | K29: 10034 | L29: 6395 | M29: 4900
B30: 女 | C30: 194381 | D30: 162915 | E30: 2733 | F30: 1760 | G30: 11934 | H30: 5840 | I30: 6094 | J30: 15039 | K30: 6264 | L30: 5127 | M30: 3648
A31: 60－65歲 | B31: 計 | C31: 361810 | D31: 293087 | E31: 6845 | F31: 3644 | G31: 19016 | H31: 10514 | I31: 8502 | J31: 39218 | K31: 17349 | L31: 11964 | M31: 9905
B32: 男 | C32: 163311 | D32: 126503 | E32: 4821 | F32: 2299 | G32: 7979 | H32: 4520 | I32: 3459 | J32: 21709 | K32: 9970 | L32: 6295 | M32: 5444
B33: 女 | C33: 198499 | D33: 166584 | E33: 2024 | F33: 1345 | G33: 11037 | H33: 5994 | I33: 5043 | J33: 17509 | K33: 7379 | L33: 5669 | M33: 4461
A34: 平 均 年 齡 (歲) | B34: 計 | C34: 44.74 | D34: 44.22 | E34: 46.71 | F34: 43.92 | G34: 48.48 | H34: 47.72 | I34: 50.01 | J34: 48.02 | K34: 48.82 | L34: 47.49 | M34: 47.35
B35: 男 | C35: 44.39 | D35: 43.66 | E35: 49.06 | F35: 45.81 | G35: 49.35 | H35: 48.76 | I35: 50.69 | J35: 47.81 | K35: 48.75 | L35: 47.21 | M35: 46.95
B36: 女 | C36: 45.07 | D36: 44.75 | E36: 44.23 | F36: 42.34 | G36: 47.91 | H36: 46.97 | I36: 49.62 | J36: 48.3 | K36: 48.94 | L36: 47.85 | M36: 47.9
A37: 資料來源：勞工保險局國民年金業務處。
A60: Note： See Table 114.

Sheet 109
A1: 4.2-01國民年金被保險人數按身分,年齡及性別分
A2: 民國109年底
A3: 單位：人
A4: 年齡別及性別 | C4: 合 計 | D4: 一般身分 | E4: 低收入戶 | F4: 所得未達一定標準者 | I4: 身 心 障 礙 者
F5: 小 計 | G5: 第一目 | H5: 第二目 | I5: 小 計 | J5: 重度以上 | K5: 中 度 | L5: 輕 度
A7: 總計 | B7: 合計 | C7: 3105983 | D7: 2617480 | E7: 67354 | F7: 146974 | G7: 100258 | H7: 46716 | I7: 215952 | J7: 90530 | K7: 71780 | L7: 53642
B8: 男 | C8: 1511066 | D8: 1266145 | E8: 34430 | F8: 58232 | G8: 41427 | H8: 16805 | I8: 125772 | J8: 54349 | K8: 40136 | L8: 31287
B9: 女 | C9: 1594917 | D9: 1351335 | E9: 32924 | F9: 88742 | G9: 58831 | H9: 29911 | I9: 90180 | J9: 36181 | K9: 31644 | L9: 22355
A10: 25－29歲 | B10: 計 | C10: 401180 | D10: 371760 | E10: 2925 | F10: 4847 | G10: 2267 | H10: 2580 | I10: 16771 | J10: 5825 | K10: 5738 | L10: 5208
B11: 男 | C11: 211689 | D11: 196581 | E11: 1194 | F11: 1939 | G11: 857 | H11: 1082 | I11: 10071 | J11: 3593 | K11: 3297 | L11: 3181
B12: 女 | C12: 189491 | D12: 175179 | E12: 1731 | F12: 2908 | G12: 1410 | H12: 1498 | I12: 6700 | J12: 2232 | K12: 2441 | L12: 2027
A13: 30－34歲 | B13: 計 | C13: 342916 | D13: 308026 | E13: 4145 | F13: 8567 | G13: 5160 | H13: 3407 | I13: 16734 | J13: 5888 | K13: 5901 | L13: 4945
B14: 男 | C14: 167935 | D14: 151990 | E14: 1393 | F14: 2698 | G14: 1568 | H14: 1130 | I14: 9901 | J14: 3485 | K14: 3395 | L14: 3021
B15: 女 | C15: 174981 | D15: 156036 | E15: 2752 | F15: 5869 | G15: 3592 | H15: 2277 | I15: 6833 | J15: 2403 | K15: 2506 | L15: 1924
A16: 35－39歲 | B16: 計 | C16: 388881 | D16: 332326 | E16: 9225 | F16: 15660 | G16: 11681 | H16: 3979 | I16: 22049 | J16: 8563 | K16: 7663 | L16: 5823
B17: 男 | C17: 180819 | D17: 156548 | E17: 2961 | F17: 5000 | G17: 3751 | H17: 1249 | I17: 13024 | J17: 5088 | K17: 4436 | L17: 3500
B18: 女 | C18: 208062 | D18: 175778 | E18: 6264 | F18: 10660 | G18: 7930 | H18: 2730 | I18: 9025 | J18: 3475 | K18: 3227 | L18: 2323
A19: 40－44歲 | B19: 計 | C19: 416202 | D19: 342235 | E19: 13004 | F19: 23007 | G19: 18865 | H19: 4142 | I19: 25977 | J19: 10852 | K19: 9142 | L19: 5983
B20: 男 | C20: 200866 | D20: 167049 | E20: 5269 | F20: 8436 | G20: 7116 | H20: 1320 | I20: 15337 | J20: 6441 | K20: 5237 | L20: 3659
B21: 女 | C21: 215336 | D21: 175186 | E21: 7735 | F21: 14571 | G21: 11749 | H21: 2822 | I21: 10640 | J21: 4411 | K21: 3905 | L21: 2324
A22: 45－49歲 | B22: 計 | C22: 375653 | D22: 302995 | E22: 12080 | F22: 24810 | G22: 19780 | H22: 5030 | I22: 25745 | J22: 11269 | K22: 8916 | L22: 5560
B23: 男 | C23: 183732 | D23: 147818 | E23: 6326 | F23: 9743 | G23: 8234 | H23: 1509 | I23: 15055 | J23: 6852 | K23: 4998 | L23: 3205
B24: 女 | C24: 191921 | D24: 155177 | E24: 5754 | F24: 15067 | G24: 11546 | H24: 3521 | I24: 10690 | J24: 4417 | K24: 3918 | L24: 2355
A25: 50－54歲 | B25: 計 | C25: 395136 | D25: 319613 | E25: 10770 | F25: 26011 | G25: 18171 | H25: 7840 | I25: 30915 | J25: 13672 | K25: 10413 | L25: 6830
B26: 男 | C26: 197953 | D26: 157432 | E26: 6698 | F26: 11176 | G26: 8600 | H26: 2576 | I26: 18216 | J26: 8466 | K26: 5814 | L26: 3936
B27: 女 | C27: 197183 | D27: 162181 | E27: 4072 | F27: 14835 | G27: 9571 | H27: 5264 | I27: 12699 | J27: 5206 | K27: 4599 | L27: 2894
A28: 55－59歲 | B28: 計 | C28: 388677 | D28: 315506 | E28: 8541 | F28: 22767 | G28: 12666 | H28: 10101 | I28: 37042 | J28: 16635 | K28: 11656 | L28: 8751
B29: 男 | C29: 189961 | D29: 149037 | E29: 5906 | F29: 10310 | G29: 6330 | H29: 3980 | I29: 21632 | J29: 10207 | K29: 6441 | L29: 4984
B30: 女 | C30: 198716 | D30: 166469 | E30: 2635 | F30: 12457 | G30: 6336 | H30: 6121 | I30: 15410 | J30: 6428 | K30: 5215 | L30: 3767
A31: 60－65歲 | B31: 計 | C31: 397338 | D31: 325019 | E31: 6664 | F31: 21305 | G31: 11668 | H31: 9637 | I31: 40719 | J31: 17826 | K31: 12351 | L31: 10542
B32: 男 | C32: 178111 | D32: 139690 | E32: 4683 | F32: 8930 | G32: 4971 | H32: 3959 | I32: 22536 | J32: 10217 | K32: 6518 | L32: 5801
B33: 女 | C33: 219227 | D33: 185329 | E33: 1981 | F33: 12375 | G33: 6697 | H33: 5678 | I33: 18183 | J33: 7609 | K33: 5833 | L33: 4741
A34: 平 均 年 齡 (歲) | B34: 計 | C34: 44.65 | D34: 44.15 | E34: 46.44 | F34: 48.3 | G34: 47.66 | H34: 49.69 | I34: 47.99 | J34: 48.81 | K34: 47.45 | L34: 47.32
B35: 男 | C35: 44.34 | D35: 43.63 | E35: 48.84 | F35: 49.17 | G35: 48.69 | H35: 50.34 | I35: 47.77 | J35: 48.73 | K35: 47.15 | L35: 46.88
B36: 女 | C36: 44.94 | D36: 44.63 | E36: 43.93 | F36: 47.74 | G36: 46.93 | H36: 49.33 | I36: 48.3 | J36: 48.94 | K36: 47.83 | L36: 47.93
A37: 資料來源：勞工保險局國民年金業務處。
A60: Note： See Table 114.

Sheet 108
A1: 4.2-01國民年金被保險人數按身分,年齡及性別分
A2: 民國108年底
A3: 單位：人
A4: 年齡別及性別 | C4: 合 計 | D4: 一般身分 | E4: 低收入戶 | F4: 所得未達一定標準者 | I4: 身 心 障 礙 者
F5: 小 計 | G5: 第一目 | H5: 第二目 | I5: 小 計 | J5: 重度以上 | K5: 中 度 | L5: 輕 度
A7: 總計 | B7: 合計 | C7: 3230918 | D7: 2775350 | E7: 68462 | F7: 164426 | G7: 117098 | H7: 47328 | I7: 222680 | J7: 91727 | K7: 72659 | L7: 58294
B8: 男 | C8: 1568091 | D8: 1338346 | E8: 34629 | F8: 65132 | G8: 48153 | H8: 16979 | I8: 129984 | J8: 54910 | K8: 40779 | L8: 34295
B9: 女 | C9: 1662827 | D9: 1437004 | E9: 33833 | F9: 99294 | G9: 68945 | H9: 30349 | I9: 92696 | J9: 36817 | K9: 31880 | L9: 23999
A10: 25－29歲 | B10: 計 | C10: 422165 | D10: 396515 | E10: 2869 | F10: 5782 | G10: 3006 | H10: 2776 | I10: 16999 | J10: 5806 | K10: 5630 | L10: 5563
B11: 男 | C11: 222049 | D11: 208557 | E11: 1140 | F11: 2129 | G11: 1012 | H11: 1117 | I11: 10223 | J11: 3552 | K11: 3274 | L11: 3397
B12: 女 | C12: 200116 | D12: 187958 | E12: 1729 | F12: 3653 | G12: 1994 | H12: 1659 | I12: 6776 | J12: 2254 | K12: 2356 | L12: 2166
A13: 30－34歲 | B13: 計 | C13: 354979 | D13: 323246 | E13: 4334 | F13: 10201 | G13: 6868 | H13: 3333 | I13: 17198 | J13: 6107 | K13: 5882 | L13: 5209
B14: 男 | C14: 170705 | D14: 156090 | E14: 1416 | F14: 3011 | G14: 1977 | H14: 1034 | I14: 10188 | J14: 3661 | K14: 3388 | L14: 3139
B15: 女 | C15: 184274 | D15: 167156 | E15: 2918 | F15: 7190 | G15: 4891 | H15: 2299 | I15: 7010 | J15: 2446 | K15: 2494 | L15: 2070
A16: 35－39歲 | B16: 計 | C16: 418958 | D16: 365497 | E16: 10084 | F16: 19830 | G16: 15789 | H16: 4041 | I16: 23547 | J16: 9084 | K16: 8052 | L16: 6411
B17: 男 | C17: 194505 | D17: 171193 | E17: 3152 | F17: 6219 | G17: 5018 | H17: 1201 | I17: 13941 | J17: 5371 | K17: 4671 | L17: 3899
B18: 女 | C18: 224453 | D18: 194304 | E18: 6932 | F18: 13611 | G18: 10771 | H18: 2840 | I18: 9606 | J18: 3713 | K18: 3381 | L18: 2512
A19: 40－44歲 | B19: 計 | C19: 420956 | D19: 355178 | E19: 13196 | F19: 26733 | G19: 22678 | H19: 4055 | I19: 25849 | J19: 10572 | K19: 9002 | L19: 6275
B20: 男 | C20: 203074 | D20: 172827 | E20: 5357 | F20: 9708 | G20: 8492 | H20: 1216 | I20: 15182 | J20: 6280 | K20: 5160 | L20: 3742
B21: 女 | C21: 217882 | D21: 182351 | E21: 7839 | F21: 17025 | G21: 14186 | H21: 2839 | I21: 10667 | J21: 4292 | K21: 3842 | L21: 2533
A22: 45－49歲 | B22: 計 | C22: 392073 | D22: 324404 | E22: 12497 | F22: 28349 | G22: 22908 | H22: 5441 | I22: 26823 | J22: 11327 | K22: 9204 | L22: 6292
B23: 男 | C23: 192631 | D23: 158975 | E23: 6551 | F23: 11324 | G23: 9734 | H23: 1590 | I23: 15781 | J23: 6903 | K23: 5207 | L23: 3671
B24: 女 | C24: 199442 | D24: 165429 | E24: 5946 | F24: 17025 | G24: 13174 | H24: 3851 | I24: 11042 | J24: 4424 | K24: 3997 | L24: 2621
A25: 50－54歲 | B25: 計 | C25: 401424 | D25: 330823 | E25: 10877 | F25: 27757 | G25: 19438 | H25: 8319 | I25: 31967 | J25: 14056 | K25: 10380 | L25: 7531
B26: 男 | C26: 202384 | D26: 164194 | E26: 6845 | F26: 12383 | G26: 9537 | H26: 2846 | I26: 18962 | J26: 8693 | K26: 5804 | L26: 4465
B27: 女 | C27: 199040 | D27: 166629 | E27: 4032 | F27: 15374 | G27: 9901 | H27: 5473 | I27: 13005 | J27: 5363 | K27: 4576 | L27: 3066
A28: 55－59歲 | B28: 計 | C28: 392102 | D28: 322962 | E28: 8332 | F28: 22765 | G28: 12999 | H28: 9766 | I28: 38043 | J28: 16735 | K28: 11732 | L28: 9576
B29: 男 | C29: 191003 | D29: 152522 | E29: 5762 | F29: 10539 | G29: 6605 | H29: 3934 | I29: 22180 | J29: 10152 | K29: 6471 | L29: 5557
B30: 女 | C30: 201099 | D30: 170440 | E30: 2570 | F30: 12226 | G30: 6394 | H30: 5832 | I30: 15863 | J30: 6583 | K30: 5261 | L30: 4019
A31: 60－65歲 | B31: 計 | C31: 428261 | D31: 356725 | E31: 6273 | F31: 23009 | G31: 13412 | H31: 9597 | I31: 42254 | J31: 18040 | K31: 12777 | L31: 11437
B32: 男 | C32: 191740 | D32: 153988 | E32: 4406 | F32: 9819 | G32: 5778 | H32: 4041 | I32: 23527 | J32: 10298 | K32: 6804 | L32: 6425
B33: 女 | C33: 236521 | D33: 202737 | E33: 1867 | F33: 13190 | G33: 7634 | H33: 5556 | I33: 18727 | J33: 7742 | K33: 5973 | L33: 5012
A34: 平 均 年 齡 (歲) | B34: 計 | C34: 44.62 | D34: 44.12 | E34: 46.18 | F34: 47.73 | G34: 47 | H34: 49.55 | I34: 48.01 | J34: 48.77 | K34: 47.53 | L34: 47.41
B35: 男 | C35: 44.34 | D35: 43.67 | E35: 48.63 | F35: 48.84 | G35: 48.25 | H35: 50.52 | I35: 47.81 | J35: 48.68 | K35: 47.22 | L35: 47.11
B36: 女 | C36: 44.88 | D36: 44.55 | E36: 43.67 | F36: 47 | G36: 46.12 | H36: 49.01 | I36: 48.29 | J36: 48.91 | K36: 47.91 | L36: 47.85
A37: 資料來源：勞工保險局國民年金業務處。
A60: Note： See Table 114.

Sheet 107
A1: 4.2-01國民年金被保險人數按身分,年齡及性別分
A2: 民國107年底
A3: 單位：人
A4: 年齡別及性別 | C4: 合 計 | D4: 一般身分 | E4: 低收入戶 | F4: 所得未達一定標準者 | I4: 身 心 障 礙 者
F5: 小 計 | G5: 第一目 | H5: 第二目 | I5: 小 計 | J5: 重度以上 | K5: 中 度 | L5: 輕 度
A7: 總計 | B7: 合計 | C7: 3286664 | D7: 2820384 | E7: 69978 | F7: 169707 | G7: 121694 | H7: 48013 | I7: 226595 | J7: 92740 | K7: 73670 | L7: 60185
B8: 男 | C8: 1595203 | D8: 1360269 | E8: 35288 | F8: 66999 | G8: 49587 | H8: 17412 | I8: 132647 | J8: 55355 | K8: 41499 | L8: 35793
B9: 女 | C9: 1691461 | D9: 1460115 | E9: 34690 | F9: 102708 | G9: 72107 | H9: 30601 | I9: 93948 | J9: 37385 | K9: 32171 | L9: 24392
A10: 25－29歲 | B10: 計 | C10: 430078 | D10: 404076 | E10: 2847 | F10: 6135 | G10: 3134 | H10: 3001 | I10: 17020 | J10: 5764 | K10: 5638 | L10: 5618
B11: 男 | C11: 228608 | D11: 215032 | E11: 1145 | F11: 2137 | G11: 968 | H11: 1169 | I11: 10294 | J11: 3539 | K11: 3290 | L11: 3465
B12: 女 | C12: 201470 | D12: 189044 | E12: 1702 | F12: 3998 | G12: 2166 | H12: 1832 | I12: 6726 | J12: 2225 | K12: 2348 | L12: 2153
A13: 30－34歲 | B13: 計 | C13: 367174 | D13: 333243 | E13: 4720 | F13: 11224 | G13: 7400 | H13: 3824 | I13: 17987 | J13: 6532 | K13: 6049 | L13: 5406
B14: 男 | C14: 174867 | D14: 159295 | E14: 1462 | F14: 3388 | G14: 2164 | H14: 1224 | I14: 10722 | J14: 3894 | K14: 3523 | L14: 3305
B15: 女 | C15: 192307 | D15: 173948 | E15: 3258 | F15: 7836 | G15: 5236 | H15: 2600 | I15: 7265 | J15: 2638 | K15: 2526 | L15: 2101
A16: 35－39歲 | B16: 計 | C16: 432145 | D16: 375661 | E16: 10645 | F16: 21495 | G16: 16829 | H16: 4666 | I16: 24344 | J16: 9352 | K16: 8336 | L16: 6656
B17: 男 | C17: 200534 | D17: 175988 | E17: 3376 | F17: 6835 | G17: 5343 | H17: 1492 | I17: 14335 | J17: 5490 | K17: 4777 | L17: 4068
B18: 女 | C18: 231611 | D18: 199673 | E18: 7269 | F18: 14660 | G18: 11486 | H18: 3174 | I18: 10009 | J18: 3862 | K18: 3559 | L18: 2588
A19: 40－44歲 | B19: 計 | C19: 414232 | D19: 347824 | E19: 13414 | F19: 27543 | G19: 23313 | H19: 4230 | I19: 25451 | J19: 10366 | K19: 8885 | L19: 6200
B20: 男 | C20: 199760 | D20: 169116 | E20: 5498 | F20: 10009 | G20: 8656 | H20: 1353 | I20: 15137 | J20: 6208 | K20: 5154 | L20: 3775
B21: 女 | C21: 214472 | D21: 178708 | E21: 7916 | F21: 17534 | G21: 14657 | H21: 2877 | I21: 10314 | J21: 4158 | K21: 3731 | L21: 2425
A22: 45－49歲 | B22: 計 | C22: 401160 | D22: 331141 | E22: 13172 | F22: 29245 | G22: 24174 | H22: 5071 | I22: 27602 | J22: 11584 | K22: 9435 | L22: 6583
B23: 男 | C23: 197609 | D23: 162709 | E23: 6882 | F23: 11754 | G23: 10227 | H23: 1527 | I23: 16264 | J23: 7046 | K23: 5349 | L23: 3869
B24: 女 | C24: 203551 | D24: 168432 | E24: 6290 | F24: 17491 | G24: 13947 | H24: 3544 | I24: 11338 | J24: 4538 | K24: 4086 | L24: 2714
A25: 50－54歲 | B25: 計 | C25: 402738 | D25: 330823 | E25: 11109 | F25: 28193 | G25: 20588 | H25: 7605 | I25: 32613 | J25: 14149 | K25: 10603 | L25: 7861
B26: 男 | C26: 203371 | D26: 164200 | E26: 7072 | F26: 12632 | G26: 9999 | H26: 2633 | I26: 19467 | J26: 8745 | K26: 5977 | L26: 4745
B27: 女 | C27: 199367 | D27: 166623 | E27: 4037 | F27: 15561 | G27: 10589 | H27: 4972 | I27: 13146 | J27: 5404 | K27: 4626 | L27: 3116
A28: 55－59歲 | B28: 計 | C28: 385377 | D28: 316814 | E28: 8200 | F28: 22295 | G28: 13082 | H28: 9213 | I28: 38068 | J28: 16643 | K28: 11775 | L28: 9650
B29: 男 | C29: 186482 | D29: 148477 | E29: 5752 | F29: 10280 | G29: 6632 | H29: 3648 | I29: 21973 | J29: 9970 | K29: 6396 | L29: 5607
B30: 女 | C30: 198895 | D30: 168337 | E30: 2448 | F30: 12015 | G30: 6450 | H30: 5565 | I30: 16095 | J30: 6673 | K30: 5379 | L30: 4043
A31: 60－65歲 | B31: 計 | C31: 453760 | D31: 380802 | E31: 5871 | F31: 23577 | G31: 13174 | H31: 10403 | I31: 43510 | J31: 18350 | K31: 12949 | L31: 12211
B32: 男 | C32: 203972 | D32: 165452 | E32: 4101 | F32: 9964 | G32: 5598 | H32: 4366 | I32: 24455 | J32: 10463 | K32: 7033 | L32: 6959
B33: 女 | C33: 249788 | D33: 215350 | E33: 1770 | F33: 13613 | G33: 7576 | H33: 6037 | I33: 19055 | J33: 7887 | K33: 5916 | L33: 5252
A34: 平 均 年 齡 (歲) | B34: 計 | C34: 44.61 | D34: 44.13 | E34: 45.94 | F34: 47.48 | G34: 46.82 | H34: 49.15 | I34: 48 | J34: 48.72 | K34: 47.49 | L34: 47.52
B35: 男 | C35: 44.31 | D35: 43.66 | E35: 48.4 | F35: 48.59 | G35: 48.09 | H35: 50.04 | I35: 47.79 | J35: 48.6 | K35: 47.21 | L35: 47.21
B36: 女 | C36: 44.89 | D36: 44.58 | E36: 43.43 | F36: 46.75 | G36: 45.95 | H36: 48.65 | I36: 48.3 | J36: 48.9 | K36: 47.86 | L36: 47.97
A37: 資料來源：勞工保險局國民年金業務處。
A60: Note： See Table 114.

Sheet 106
A1: 4.2-01國民年金被保險人數按身分,年齡及性別分
A2: 民國106年底
A3: 單位：人
A4: 年齡別及性別 | C4: 合 計 | D4: 一般身分 | E4: 低收入戶 | F4: 所得未達一定標準者 | I4: 身 心 障 礙 者
F5: 小 計 | G5: 第一目 | H5: 第二目 | I5: 小 計 | J5: 重度以上 | K5: 中 度 | L5: 輕 度
A7: 總計 | B7: 合計 | C7: 3349164 | D7: 2882608 | E7: 71218 | F7: 164309 | G7: 118475 | H7: 45834 | I7: 231029 | J7: 94018 | K7: 74782 | L7: 62229
B8: 男 | C8: 1622369 | D8: 1386734 | E8: 35742 | F8: 64420 | G8: 47759 | H8: 16661 | I8: 135473 | J8: 55941 | K8: 42208 | L8: 37324
B9: 女 | C9: 1726795 | D9: 1495874 | E9: 35476 | F9: 99889 | G9: 70716 | H9: 29173 | I9: 95556 | J9: 38077 | K9: 32574 | L9: 24905
A10: 25－29歲 | B10: 計 | C10: 427488 | D10: 401609 | E10: 2801 | F10: 6044 | G10: 3175 | H10: 2869 | I10: 17034 | J10: 5812 | K10: 5651 | L10: 5571
B11: 男 | C11: 225846 | D11: 212358 | E11: 1113 | F11: 2079 | G11: 995 | H11: 1084 | I11: 10296 | J11: 3531 | K11: 3321 | L11: 3444
B12: 女 | C12: 201642 | D12: 189251 | E12: 1688 | F12: 3965 | G12: 2180 | H12: 1785 | I12: 6738 | J12: 2281 | K12: 2330 | L12: 2127
A13: 30－34歲 | B13: 計 | C13: 376131 | D13: 340513 | E13: 5080 | F13: 11851 | G13: 8233 | H13: 3618 | I13: 18687 | J13: 6883 | K13: 6288 | L13: 5516
B14: 男 | C14: 177373 | D14: 161182 | E14: 1531 | F14: 3483 | G14: 2328 | H14: 1155 | I14: 11177 | J14: 4115 | K14: 3680 | L14: 3382
B15: 女 | C15: 198758 | D15: 179331 | E15: 3549 | F15: 8368 | G15: 5905 | H15: 2463 | I15: 7510 | J15: 2768 | K15: 2608 | L15: 2134
A16: 35－39歲 | B16: 計 | C16: 441835 | D16: 383960 | E16: 10888 | F16: 22103 | G16: 17711 | H16: 4392 | I16: 24884 | J16: 9621 | K16: 8576 | L16: 6687
B17: 男 | C17: 206298 | D17: 181119 | E17: 3463 | F17: 7117 | G17: 5756 | H17: 1361 | I17: 14599 | J17: 5614 | K17: 4919 | L17: 4066
B18: 女 | C18: 235537 | D18: 202841 | E18: 7425 | F18: 14986 | G18: 11955 | H18: 3031 | I18: 10285 | J18: 4007 | K18: 3657 | L18: 2621
A19: 40－44歲 | B19: 計 | C19: 409524 | D19: 343531 | E19: 13848 | F19: 27201 | G19: 23184 | H19: 4017 | I19: 24944 | J19: 10150 | K19: 8687 | L19: 6107
B20: 男 | C20: 197393 | D20: 166842 | E20: 5697 | F20: 9896 | G20: 8674 | H20: 1222 | I20: 14958 | J20: 6117 | K20: 5069 | L20: 3772
B21: 女 | C21: 212131 | D21: 176689 | E21: 8151 | F21: 17305 | G21: 14510 | H21: 2795 | I21: 9986 | J21: 4033 | K21: 3618 | L21: 2335
A22: 45－49歲 | B22: 計 | C22: 410344 | D22: 339604 | E22: 13947 | F22: 28686 | G22: 23530 | H22: 5156 | I22: 28107 | J22: 11751 | K22: 9525 | L22: 6831
B23: 男 | C23: 203418 | D23: 167796 | E23: 7322 | F23: 11648 | G23: 10064 | H23: 1584 | I23: 16652 | J23: 7092 | K23: 5425 | L23: 4135
B24: 女 | C24: 206926 | D24: 171808 | E24: 6625 | F24: 17038 | G24: 13466 | H24: 3572 | I24: 11455 | J24: 4659 | K24: 4100 | L24: 2696
A25: 50－54歲 | B25: 計 | C25: 405596 | D25: 334945 | E25: 11269 | F25: 25871 | G25: 18368 | H25: 7503 | I25: 33511 | J25: 14471 | K25: 10742 | L25: 8298
B26: 男 | C26: 205023 | D26: 166046 | E26: 7230 | F26: 11744 | G26: 9038 | H26: 2706 | I26: 20003 | J26: 8925 | K26: 6035 | L26: 5043
B27: 女 | C27: 200573 | D27: 168899 | E27: 4039 | F27: 14127 | G27: 9330 | H27: 4797 | I27: 13508 | J27: 5546 | K27: 4707 | L27: 3255
A28: 55－59歲 | B28: 計 | C28: 396792 | D28: 329496 | E28: 7861 | F28: 20353 | G28: 11469 | H28: 8884 | I28: 39082 | J28: 16903 | K28: 12039 | L28: 10140
B29: 男 | C29: 189352 | D29: 152105 | E29: 5543 | F29: 9244 | G29: 5709 | H29: 3535 | I29: 22460 | J29: 9994 | K29: 6557 | L29: 5909
B30: 女 | C30: 207440 | D30: 177391 | E30: 2318 | F30: 11109 | G30: 5760 | H30: 5349 | I30: 16622 | J30: 6909 | K30: 5482 | L30: 4231
A31: 60－65歲 | B31: 計 | C31: 481454 | D31: 408950 | E31: 5524 | F31: 22200 | G31: 12805 | H31: 9395 | I31: 44780 | J31: 18427 | K31: 13274 | L31: 13079
B32: 男 | C32: 217666 | D32: 179286 | E32: 3843 | F32: 9209 | G32: 5195 | H32: 4014 | I32: 25328 | J32: 10553 | K32: 7202 | L32: 7573
B33: 女 | C33: 263788 | D33: 229664 | E33: 1681 | F33: 12991 | G33: 7610 | H33: 5381 | I33: 19452 | J33: 7874 | K33: 6072 | L33: 5506
A34: 平 均 年 齡 (歲) | B34: 計 | C34: 44.8 | D34: 44.38 | E34: 45.72 | F34: 47.13 | G34: 46.37 | H34: 49.09 | I34: 48.09 | J34: 48.69 | K34: 47.54 | L34: 47.84
B35: 男 | C35: 44.51 | D35: 43.92 | E35: 48.19 | F35: 48.23 | G35: 47.57 | H35: 50.13 | I35: 47.88 | J35: 48.57 | K35: 47.23 | L35: 47.58
B36: 女 | C36: 45.07 | D36: 44.81 | E36: 43.23 | F36: 46.42 | G36: 45.56 | H36: 48.49 | I36: 48.39 | J36: 48.87 | K36: 47.95 | L36: 48.23
A37: 資料來源：勞工保險局國民年金業務處。
A60: Note： See Table 114.

Sheet 105
A1: 4.2-01國民年金被保險人數按身分,年齡及性別分
A2: 民國105年底
A3: 單位：人
A4: 年齡別及性別 | C4: 合 計 | D4: 一般身分 | E4: 低收入戶 | F4: 所得未達一定標準者 | I4: 身 心 障 礙 者
F5: 小 計 | G5: 第一目 | H5: 第二目 | I5: 小 計 | J5: 重度以上 | K5: 中 度 | L5: 輕 度
A7: 總計 | B7: 合計 | C7: 3425214 | D7: 2943026 | E7: 74178 | F7: 173353 | G7: 124584 | H7: 48769 | I7: 234657 | J7: 95282 | K7: 75801 | L7: 63574
B8: 男 | C8: 1654802 | D8: 1412429 | E8: 36723 | F8: 67975 | G8: 50129 | H8: 17846 | I8: 137675 | J8: 56643 | K8: 42800 | L8: 38232
B9: 女 | C9: 1770412 | D9: 1530597 | E9: 37455 | F9: 105378 | G9: 74455 | H9: 30923 | I9: 96982 | J9: 38639 | K9: 33001 | L9: 25342
A10: 25－29歲 | B10: 計 | C10: 425997 | D10: 399885 | E10: 2866 | F10: 6295 | G10: 3263 | H10: 3032 | I10: 16951 | J10: 5795 | K10: 5636 | L10: 5520
B11: 男 | C11: 223906 | D11: 210324 | E11: 1141 | F11: 2202 | G11: 1039 | H11: 1163 | I11: 10239 | J11: 3542 | K11: 3282 | L11: 3415
B12: 女 | C12: 202091 | D12: 189561 | E12: 1725 | F12: 4093 | G12: 2224 | H12: 1869 | I12: 6712 | J12: 2253 | K12: 2354 | L12: 2105
A13: 30－34歲 | B13: 計 | C13: 399809 | D13: 360214 | E13: 5851 | F13: 13828 | G13: 9249 | H13: 4579 | I13: 19916 | J13: 7407 | K13: 6722 | L13: 5787
B14: 男 | C14: 186288 | D14: 168742 | E14: 1604 | F14: 4104 | G14: 2605 | H14: 1499 | I14: 11838 | J14: 4375 | K14: 3898 | L14: 3565
B15: 女 | C15: 213521 | D15: 191472 | E15: 4247 | F15: 9724 | G15: 6644 | H15: 3080 | I15: 8078 | J15: 3032 | K15: 2824 | L15: 2222
A16: 35－39歲 | B16: 計 | C16: 444493 | D16: 384201 | E16: 11444 | F16: 23870 | G16: 18777 | H16: 5093 | I16: 24978 | J16: 9801 | K16: 8625 | L16: 6552
B17: 男 | C17: 208962 | D17: 182719 | E17: 3600 | F17: 7788 | G17: 6134 | H17: 1654 | I17: 14855 | J17: 5735 | K17: 5051 | L17: 4069
B18: 女 | C18: 235531 | D18: 201482 | E18: 7844 | F18: 16082 | G18: 12643 | H18: 3439 | I18: 10123 | J18: 4066 | K18: 3574 | L18: 2483
A19: 40－44歲 | B19: 計 | C19: 410734 | D19: 343377 | E19: 14742 | F19: 28230 | G19: 24123 | H19: 4107 | I19: 24385 | J19: 9948 | K19: 8505 | L19: 5932
B20: 男 | C20: 197677 | D20: 166655 | E20: 6067 | F20: 10390 | G20: 9075 | H20: 1315 | I20: 14565 | J20: 5949 | K20: 4980 | L20: 3636
B21: 女 | C21: 213057 | D21: 176722 | E21: 8675 | F21: 17840 | G21: 15048 | H21: 2792 | I21: 9820 | J21: 3999 | K21: 3525 | L21: 2296
A22: 45－49歲 | B22: 計 | C22: 414854 | D22: 342386 | E22: 14789 | F22: 29499 | G22: 24657 | H22: 4842 | I22: 28180 | J22: 11812 | K22: 9481 | L22: 6887
B23: 男 | C23: 207162 | D23: 170339 | E23: 7905 | F23: 12084 | G23: 10634 | H23: 1450 | I23: 16834 | J23: 7184 | K23: 5434 | L23: 4216
B24: 女 | C24: 207692 | D24: 172047 | E24: 6884 | F24: 17415 | G24: 14023 | H24: 3392 | I24: 11346 | J24: 4628 | K24: 4047 | L24: 2671
A25: 50－54歲 | B25: 計 | C25: 410978 | D25: 338391 | E25: 11567 | F25: 26599 | G25: 19487 | H25: 7112 | I25: 34421 | J25: 14777 | K25: 10990 | L25: 8654
B26: 男 | C26: 206630 | D26: 166769 | E26: 7419 | F26: 12031 | G26: 9561 | H26: 2470 | I26: 20411 | J26: 9031 | K26: 6112 | L26: 5268
B27: 女 | C27: 204348 | D27: 171622 | E27: 4148 | F27: 14568 | G27: 9926 | H27: 4642 | I27: 14010 | J27: 5746 | K27: 4878 | L27: 3386
A28: 55－59歲 | B28: 計 | C28: 405363 | D28: 337764 | E28: 7515 | F28: 21033 | G28: 11794 | H28: 9239 | I28: 39051 | J28: 16666 | K28: 12084 | L28: 10301
B29: 男 | C29: 190640 | D29: 153640 | E29: 5268 | F29: 9322 | G29: 5699 | H29: 3623 | I29: 22410 | J29: 9847 | K29: 6534 | L29: 6029
B30: 女 | C30: 214723 | D30: 184124 | E30: 2247 | F30: 11711 | G30: 6095 | H30: 5616 | I30: 16641 | J30: 6819 | K30: 5550 | L30: 4272
A31: 60－65歲 | B31: 計 | C31: 512986 | D31: 436808 | E31: 5404 | F31: 23999 | G31: 13234 | H31: 10765 | I31: 46775 | J31: 19076 | K31: 13758 | L31: 13941
B32: 男 | C32: 233537 | D32: 193241 | E32: 3719 | F32: 10054 | G32: 5382 | H32: 4672 | I32: 26523 | J32: 10980 | K32: 7509 | L32: 8034
B33: 女 | C33: 279449 | D33: 243567 | E33: 1685 | F33: 13945 | G33: 7852 | H33: 6093 | I33: 20252 | J33: 8096 | K33: 6249 | L33: 5907
A34: 平 均 年 齡 (歲) | B34: 計 | C34: 44.91 | D34: 44.51 | E34: 45.4 | F34: 47.01 | G34: 46.26 | H34: 48.91 | I34: 48.16 | J34: 48.66 | K34: 47.58 | L34: 48.08
B35: 男 | C35: 44.63 | D35: 44.06 | E35: 47.89 | F35: 48.07 | G35: 47.43 | H35: 49.89 | I35: 47.93 | J35: 48.55 | K35: 47.25 | L35: 47.77
B36: 女 | C36: 45.16 | D36: 44.93 | E36: 42.95 | F36: 46.32 | G36: 45.48 | H36: 48.35 | I36: 48.47 | J36: 48.82 | K36: 48.01 | L36: 48.54
A37: 資料來源：勞工保險局國民年金業務處。
A60: Note： See Table 114.

Sheet 104
A1: 4.2-01國民年金被保險人數按身分,年齡及性別分
A2: 民國104年底
A3: 單位：人
A4: 年齡別及性別 | C4: 合 計 | D4: 一般身分 | E4: 低收入戶 | F4: 所得未達一定標準者 | I4: 身 心 障 礙 者
F5: 小 計 | G5: 第一目 | H5: 第二目 | I5: 小 計 | J5: 重度以上 | K5: 中 度 | L5: 輕 度
A7: 總計 | B7: 合計 | C7: 3509970 | D7: 3024520 | E7: 75620 | F7: 169416 | G7: 121514 | H7: 47902 | I7: 240414 | J7: 97409 | K7: 77447 | L7: 65558
B8: 男 | C8: 1691461 | D8: 1447299 | E8: 37129 | F8: 66211 | G8: 48589 | H8: 17622 | I8: 140822 | J8: 57592 | K8: 43706 | L8: 39524
B9: 女 | C9: 1818509 | D9: 1577221 | E9: 38491 | F9: 103205 | G9: 72925 | H9: 30280 | I9: 99592 | J9: 39817 | K9: 33741 | L9: 26034
A10: 25－29歲 | B10: 計 | C10: 420881 | D10: 395231 | E10: 3002 | F10: 5882 | G10: 3099 | H10: 2783 | I10: 16766 | J10: 5793 | K10: 5572 | L10: 5401
B11: 男 | C11: 219890 | D11: 206600 | E11: 1142 | F11: 2075 | G11: 946 | H11: 1129 | I11: 10073 | J11: 3463 | K11: 3240 | L11: 3370
B12: 女 | C12: 200991 | D12: 188631 | E12: 1860 | F12: 3807 | G12: 2153 | H12: 1654 | I12: 6693 | J12: 2330 | K12: 2332 | L12: 2031
A13: 30－34歲 | B13: 計 | C13: 425975 | D13: 383381 | E13: 6344 | F13: 14774 | G13: 10108 | H13: 4666 | I13: 21476 | J13: 7979 | K13: 7280 | L13: 6217
B14: 男 | C14: 198317 | D14: 179398 | E14: 1718 | F14: 4402 | G14: 2877 | H14: 1525 | I14: 12799 | J14: 4750 | K14: 4200 | L14: 3849
B15: 女 | C15: 227658 | D15: 203983 | E15: 4626 | F15: 10372 | G15: 7231 | H15: 3141 | I15: 8677 | J15: 3229 | K15: 3080 | L15: 2368
A16: 35－39歲 | B16: 計 | C16: 450781 | D16: 389481 | E16: 11944 | F16: 24448 | G16: 19609 | H16: 4839 | I16: 24908 | J16: 9850 | K16: 8669 | L16: 6389
B17: 男 | C17: 212186 | D17: 185618 | E17: 3743 | F17: 8015 | G17: 6511 | H17: 1504 | I17: 14810 | J17: 5773 | K17: 5070 | L17: 3967
B18: 女 | C18: 238595 | D18: 203863 | E18: 8201 | F18: 16433 | G18: 13098 | H18: 3335 | I18: 10098 | J18: 4077 | K18: 3599 | L18: 2422
A19: 40－44歲 | B19: 計 | C19: 406255 | D19: 339278 | E19: 15195 | F19: 27724 | G19: 23773 | H19: 3951 | I19: 24058 | J19: 9848 | K19: 8385 | L19: 5825
B20: 男 | C20: 195241 | D20: 164355 | E20: 6404 | F20: 10099 | G20: 8904 | H20: 1195 | I20: 14383 | J20: 5910 | K20: 4873 | L20: 3600
B21: 女 | C21: 211014 | D21: 174923 | E21: 8791 | F21: 17625 | G21: 14869 | H21: 2756 | I21: 9675 | J21: 3938 | K21: 3512 | L21: 2225
A22: 45－49歲 | B22: 計 | C22: 422688 | D22: 349633 | E22: 15406 | F22: 28977 | G22: 23907 | H22: 5070 | I22: 28672 | J22: 12052 | K22: 9625 | L22: 6995
B23: 男 | C23: 211956 | D23: 174592 | E23: 8230 | F23: 11957 | G23: 10410 | H23: 1547 | I23: 17177 | J23: 7340 | K23: 5529 | L23: 4308
B24: 女 | C24: 210732 | D24: 175041 | E24: 7176 | F24: 17020 | G24: 13497 | H24: 3523 | I24: 11495 | J24: 4712 | K24: 4096 | L24: 2687
A25: 50－54歲 | B25: 計 | C25: 410338 | D25: 339519 | E25: 11352 | F25: 24161 | G25: 16998 | H25: 7163 | I25: 35306 | J25: 15143 | K25: 11208 | L25: 8955
B26: 男 | C26: 204942 | D26: 165628 | E26: 7294 | F26: 11109 | G26: 8542 | H26: 2567 | I26: 20911 | J26: 9200 | K26: 6261 | L26: 5450
B27: 女 | C27: 205396 | D27: 173891 | E27: 4058 | F27: 13052 | G27: 8456 | H27: 4596 | I27: 14395 | J27: 5943 | K27: 4947 | L27: 3505
A28: 55－59歲 | B28: 計 | C28: 427590 | D28: 360659 | E28: 7141 | F28: 19882 | G28: 10686 | H28: 9196 | I28: 39908 | J28: 16811 | K28: 12297 | L28: 10800
B29: 男 | C29: 199808 | D29: 163180 | E29: 5030 | F29: 8753 | G29: 5051 | H29: 3702 | I29: 22845 | J29: 9830 | K29: 6692 | L29: 6323
B30: 女 | C30: 227782 | D30: 197479 | E30: 2111 | F30: 11129 | G30: 5635 | H30: 5494 | I30: 17063 | J30: 6981 | K30: 5605 | L30: 4477
A31: 60－65歲 | B31: 計 | C31: 545462 | D31: 467338 | E31: 5236 | F31: 23568 | G31: 13334 | H31: 10234 | I31: 49320 | J31: 19933 | K31: 14411 | L31: 14976
B32: 男 | C32: 249121 | D32: 207928 | E32: 3568 | F32: 9801 | G32: 5348 | H32: 4453 | I32: 27824 | J32: 11326 | K32: 7841 | L32: 8657
B33: 女 | C33: 296341 | D33: 259410 | E33: 1668 | F33: 13767 | G33: 7986 | H33: 5781 | I33: 21496 | J33: 8607 | K33: 6570 | L33: 6319
A34: 平 均 年 齡 (歲) | B34: 計 | C34: 45.07 | D34: 44.72 | E34: 45.11 | F34: 46.78 | G34: 45.94 | H34: 48.93 | I34: 48.29 | J34: 48.72 | K34: 47.68 | L34: 48.38
B35: 男 | C35: 44.81 | D35: 44.28 | E35: 47.62 | F35: 47.86 | G35: 47.1 | H35: 49.96 | I35: 48.05 | J35: 48.57 | K35: 47.37 | L35: 48.05
B36: 女 | C36: 45.32 | D36: 45.13 | E36: 42.69 | F36: 46.09 | G36: 45.16 | H36: 48.33 | I36: 48.63 | J36: 48.94 | K36: 48.07 | L36: 48.87
A37: 資料來源：勞工保險局國民年金業務處。
A60: Note： See Table 114.

Sheet 103
A1: 4.2-01國民年金被保險人數按身分,年齡及性別分
A2: 民國103年底
A3: 單位：人
A4: 年齡別及性別 | C4: 合 計 | D4: 一般身分 | E4: 低收入戶 | F4: 所得未達一定標準者 | I4: 身 心 障 礙 者
F5: 小 計 | G5: 第一目 | H5: 第二目 | I5: 小 計 | J5: 重度以上 | K5: 中 度 | L5: 輕 度
A7: 總計 | B7: 合計 | C7: 3584020 | D7: 3085741 | E7: 77315 | F7: 178624 | G7: 126404 | H7: 52220 | I7: 242340 | J7: 98456 | K7: 77866 | L7: 66018
B8: 男 | C8: 1721354 | D8: 1472187 | E8: 37672 | F8: 69751 | G8: 50068 | H8: 19683 | I8: 141744 | J8: 57975 | K8: 43978 | L8: 39791
B9: 女 | C9: 1862666 | D9: 1613554 | E9: 39643 | F9: 108873 | G9: 76336 | H9: 32537 | I9: 100596 | J9: 40481 | K9: 33888 | L9: 26227
A10: 25－29歲 | B10: 計 | C10: 428012 | D10: 401196 | E10: 3225 | F10: 6535 | G10: 3250 | H10: 3285 | I10: 17056 | J10: 5978 | K10: 5658 | L10: 5420
B11: 男 | C11: 221848 | D11: 208100 | E11: 1170 | F11: 2316 | G11: 1023 | H11: 1293 | I11: 10262 | J11: 3613 | K11: 3255 | L11: 3394
B12: 女 | C12: 206164 | D12: 193096 | E12: 2055 | F12: 4219 | G12: 2227 | H12: 1992 | I12: 6794 | J12: 2365 | K12: 2403 | L12: 2026
A13: 30－34歲 | B13: 計 | C13: 449203 | D13: 402324 | E13: 6973 | F13: 17298 | G13: 11242 | H13: 6056 | I13: 22608 | J13: 8510 | K13: 7750 | L13: 6348
B14: 男 | C14: 208767 | D14: 188186 | E14: 1834 | F14: 5272 | G14: 3214 | H14: 2058 | I14: 13475 | J14: 5015 | K14: 4498 | L14: 3962
B15: 女 | C15: 240436 | D15: 214138 | E15: 5139 | F15: 12026 | G15: 8028 | H15: 3998 | I15: 9133 | J15: 3495 | K15: 3252 | L15: 2386
A16: 35－39歲 | B16: 計 | C16: 447940 | D16: 385507 | E16: 12476 | F16: 25785 | G16: 20294 | H16: 5491 | I16: 24172 | J16: 9668 | K16: 8454 | L16: 6050
B17: 男 | C17: 210537 | D17: 183749 | E17: 4000 | F17: 8447 | G17: 6619 | H17: 1828 | I17: 14341 | J17: 5663 | K17: 4917 | L17: 3761
B18: 女 | C18: 237403 | D18: 201758 | E18: 8476 | F18: 17338 | G18: 13675 | H18: 3663 | I18: 9831 | J18: 4005 | K18: 3537 | L18: 2289
A19: 40－44歲 | B19: 計 | C19: 417320 | D19: 347894 | E19: 16069 | F19: 28983 | G19: 24742 | H19: 4241 | I19: 24374 | J19: 10006 | K19: 8492 | L19: 5876
B20: 男 | C20: 200847 | D20: 168765 | E20: 6868 | F20: 10626 | G20: 9252 | H20: 1374 | I20: 14588 | J20: 5994 | K20: 4972 | L20: 3622
B21: 女 | C21: 216473 | D21: 179129 | E21: 9201 | F21: 18357 | G21: 15490 | H21: 2867 | I21: 9786 | J21: 4012 | K21: 3520 | L21: 2254
A22: 45－49歲 | B22: 計 | C22: 424216 | D22: 350302 | E22: 15893 | F22: 29235 | G22: 24514 | H22: 4721 | I22: 28786 | J22: 12260 | K22: 9496 | L22: 7030
B23: 男 | C23: 212803 | D23: 174759 | E23: 8604 | F23: 12199 | G23: 10648 | H23: 1551 | I23: 17241 | J23: 7418 | K23: 5505 | L23: 4318
B24: 女 | C24: 211413 | D24: 175543 | E24: 7289 | F24: 17036 | G24: 13866 | H24: 3170 | I24: 11545 | J24: 4842 | K24: 3991 | L24: 2712
A25: 50－54歲 | B25: 計 | C25: 409993 | D25: 339359 | E25: 11125 | F25: 24174 | G25: 17280 | H25: 6894 | I25: 35335 | J25: 15222 | K25: 11127 | L25: 8986
B26: 男 | C26: 203301 | D26: 164281 | E26: 7234 | F26: 10933 | G26: 8456 | H26: 2477 | I26: 20853 | J26: 9215 | K26: 6167 | L26: 5471
B27: 女 | C27: 206692 | D27: 175078 | E27: 3891 | F27: 13241 | G27: 8824 | H27: 4417 | I27: 14482 | J27: 6007 | K27: 4960 | L27: 3515
A28: 55－59歲 | B28: 計 | C28: 446462 | D28: 378107 | E28: 6659 | F28: 21666 | G28: 11710 | H28: 9956 | I28: 40030 | J28: 16803 | K28: 12308 | L28: 10919
B29: 男 | C29: 207273 | D29: 170248 | E29: 4625 | F29: 9508 | G29: 5465 | H29: 4043 | I29: 22892 | J29: 9748 | K29: 6722 | L29: 6422
B30: 女 | C30: 239189 | D30: 207859 | E30: 2034 | F30: 12158 | G30: 6245 | H30: 5913 | I30: 17138 | J30: 7055 | K30: 5586 | L30: 4497
A31: 60－65歲 | B31: 計 | C31: 560874 | D31: 481052 | E31: 4895 | F31: 24948 | G31: 13372 | H31: 11576 | I31: 49979 | J31: 20009 | K31: 14581 | L31: 15389
B32: 男 | C32: 255978 | D32: 214099 | E32: 3337 | F32: 10450 | G32: 5391 | H32: 5059 | I32: 28092 | J32: 11309 | K32: 7942 | L32: 8841
B33: 女 | C33: 304896 | D33: 266953 | E33: 1558 | F33: 14498 | G33: 7981 | H33: 6517 | I33: 21887 | J33: 8700 | K33: 6639 | L33: 6548
A34: 平 均 年 齡 (歲) | B34: 計 | C34: 45.08 | D34: 44.75 | E34: 44.69 | F34: 46.6 | G34: 45.81 | H34: 48.5 | I34: 48.24 | J34: 48.59 | K34: 47.59 | L34: 48.47
B35: 男 | C35: 44.82 | D35: 44.32 | E35: 47.19 | F35: 47.68 | G35: 46.98 | H35: 49.46 | I35: 47.99 | J35: 48.43 | K35: 47.31 | L35: 48.1
B36: 女 | C36: 45.31 | D36: 45.14 | E36: 42.32 | F36: 45.91 | G36: 45.05 | H36: 47.92 | I36: 48.59 | J36: 48.83 | K36: 47.97 | L36: 49.02
A37: 資料來源：勞工保險局國民年金業務處。
A60: Note： See Table 114.

Sheet 102
A1: 4.2-01國民年金被保險人數按身分,年齡及性別分
A2: 民國102年底
A3: 單位：人
A4: 年齡別及性別 | C4: 合 計 | D4: 一般身分 | E4: 低收入戶 | F4: 所得未達一定標準者 | I4: 身 心 障 礙 者
F5: 小 計 | G5: 第一目 | H5: 第二目 | I5: 小 計 | J5: 重度以上 | K5: 中 度 | L5: 輕 度
A7: 總計 | B7: 合計 | C7: 3677601 | D7: 3180002 | E7: 76420 | F7: 174787 | G7: 123093 | H7: 51694 | I7: 246392 | J7: 100335 | K7: 78657 | L7: 67400
B8: 男 | C8: 1763110 | D8: 1514393 | E8: 36787 | F8: 67964 | G8: 48417 | H8: 19547 | I8: 143966 | J8: 58691 | K8: 44607 | L8: 40668
B9: 女 | C9: 1914491 | D9: 1665609 | E9: 39633 | F9: 106823 | G9: 74676 | H9: 32147 | I9: 102426 | J9: 41644 | K9: 34050 | L9: 26732
A10: 25－29歲 | B10: 計 | C10: 452243 | D10: 423749 | E10: 3385 | F10: 7167 | G10: 3516 | H10: 3651 | I10: 17942 | J10: 6447 | K10: 5868 | L10: 5627
B11: 男 | C11: 232275 | D11: 217803 | E11: 1178 | F11: 2489 | G11: 1055 | H11: 1434 | I11: 10805 | J11: 3856 | K11: 3463 | L11: 3486
B12: 女 | C12: 219968 | D12: 205946 | E12: 2207 | F12: 4678 | G12: 2461 | H12: 2217 | I12: 7137 | J12: 2591 | K12: 2405 | L12: 2141
A13: 30－34歲 | B13: 計 | C13: 467753 | D13: 418896 | E13: 7215 | F13: 18256 | G13: 12244 | H13: 6012 | I13: 23386 | J13: 8978 | K13: 8008 | L13: 6400
B14: 男 | C14: 217272 | D14: 196040 | E14: 1906 | F14: 5519 | G14: 3485 | H14: 2034 | I14: 13807 | J14: 5275 | K14: 4586 | L14: 3946
B15: 女 | C15: 250481 | D15: 222856 | E15: 5309 | F15: 12737 | G15: 8759 | H15: 3978 | I15: 9579 | J15: 3703 | K15: 3422 | L15: 2454
A16: 35－39歲 | B16: 計 | C16: 443551 | D16: 381790 | E16: 12573 | F16: 25731 | G16: 20617 | H16: 5114 | I16: 23457 | J16: 9465 | K16: 8308 | L16: 5684
B17: 男 | C17: 208175 | D17: 181702 | E17: 4032 | F17: 8346 | G17: 6687 | H17: 1659 | I17: 14095 | J17: 5545 | K17: 4928 | L17: 3622
B18: 女 | C18: 235376 | D18: 200088 | E18: 8541 | F18: 17385 | G18: 13930 | H18: 3455 | I18: 9362 | J18: 3920 | K18: 3380 | L18: 2062
A19: 40－44歲 | B19: 計 | C19: 429735 | D19: 359317 | E19: 16445 | F19: 29010 | G19: 24889 | H19: 4121 | I19: 24963 | J19: 10369 | K19: 8592 | L19: 6002
B20: 男 | C20: 207516 | D20: 174766 | E20: 7079 | F20: 10729 | G20: 9420 | H20: 1309 | I20: 14942 | J20: 6195 | K20: 5048 | L20: 3699
B21: 女 | C21: 222219 | D21: 184551 | E21: 9366 | F21: 18281 | G21: 15469 | H21: 2812 | I21: 10021 | J21: 4174 | K21: 3544 | L21: 2303
A22: 45－49歲 | B22: 計 | C22: 427984 | D22: 355245 | E22: 15583 | F22: 27943 | G22: 23042 | H22: 4901 | I22: 29213 | J22: 12592 | K22: 9460 | L22: 7161
B23: 男 | C23: 214884 | D23: 177051 | E23: 8514 | F23: 11820 | G23: 10208 | H23: 1612 | I23: 17499 | J23: 7612 | K23: 5444 | L23: 4443
B24: 女 | C24: 213100 | D24: 178194 | E24: 7069 | F24: 16123 | G24: 12834 | H24: 3289 | I24: 11714 | J24: 4980 | K24: 4016 | L24: 2718
A25: 50－54歲 | B25: 計 | C25: 410026 | D25: 341749 | E25: 10616 | F25: 22079 | G25: 15069 | H25: 7010 | I25: 35582 | J25: 15293 | K25: 11207 | L25: 9082
B26: 男 | C26: 201912 | D26: 164161 | E26: 6922 | F26: 9995 | G26: 7429 | H26: 2566 | I26: 20834 | J26: 9112 | K26: 6201 | L26: 5521
B27: 女 | C27: 208114 | D27: 177588 | E27: 3694 | F27: 12084 | G27: 7640 | H27: 4444 | I27: 14748 | J27: 6181 | K27: 5006 | L27: 3561
A28: 55－59歲 | B28: 計 | C28: 469366 | D28: 401719 | E28: 6053 | F28: 21032 | G28: 10843 | H28: 10189 | I28: 40562 | J28: 17041 | K28: 12256 | L28: 11265
B29: 男 | C29: 218195 | D29: 181489 | E29: 4165 | F29: 9222 | G29: 4985 | H29: 4237 | I29: 23319 | J29: 9873 | K29: 6764 | L29: 6682
B30: 女 | C30: 251171 | D30: 220230 | E30: 1888 | F30: 11810 | G30: 5858 | H30: 5952 | I30: 17243 | J30: 7168 | K30: 5492 | L30: 4583
A31: 60－65歲 | B31: 計 | C31: 576943 | D31: 497537 | E31: 4550 | F31: 23569 | G31: 12873 | H31: 10696 | I31: 51287 | J31: 20150 | K31: 14958 | L31: 16179
B32: 男 | C32: 262881 | D32: 221381 | E32: 2991 | F32: 9844 | G32: 5148 | H32: 4696 | I32: 28665 | J32: 11223 | K32: 8173 | L32: 9269
B33: 女 | C33: 314062 | D33: 276156 | E33: 1559 | F33: 13725 | G33: 7725 | H33: 6000 | I33: 22622 | J33: 8927 | K33: 6785 | L33: 6910
A34: 平 均 年 齡 (歲) | B34: 計 | C34: 45.02 | D34: 44.73 | E34: 44.36 | F34: 46.19 | G34: 45.34 | H34: 48.23 | I34: 48.21 | J34: 48.44 | K34: 47.55 | L34: 48.62
B35: 男 | C35: 44.78 | D35: 44.31 | E35: 46.83 | F35: 47.32 | G35: 46.55 | H35: 49.25 | I35: 47.94 | J35: 48.24 | K35: 47.24 | L35: 48.27
B36: 女 | C36: 45.25 | D36: 45.1 | E36: 42.06 | F36: 45.47 | G36: 44.55 | H36: 47.61 | I36: 48.58 | J36: 48.73 | K36: 47.94 | L36: 49.15
A37: 資料來源：勞工保險局國民年金業務處。
A60: Note： See Table 114.

Sheet 101
A1: 4.2-01國民年金被保險人數按身分,年齡及性別分
A2: 民國101年底
A3: 單位：人
A4: 年齡別及性別 | C4: 合 計 | D4: 一般身分 | E4: 低收入戶 | F4: 所得未達一定標準者 | I4: 身 心 障 礙 者
F5: 小 計 | G5: 第一目 | H5: 第二目 | I5: 小 計 | J5: 重度以上 | K5: 中 度 | L5: 輕 度
A7: 總計 | B7: 合計 | C7: 3725626 | D7: 3220523 | E7: 72616 | F7: 184193 | G7: 127310 | H7: 56883 | I7: 248294 | J7: 99120 | K7: 80608 | L7: 68566
B8: 男 | C8: 1783610 | D8: 1531593 | E8: 34664 | F8: 72139 | G8: 49994 | H8: 22145 | I8: 145214 | J8: 57826 | K8: 45919 | L8: 41469
B9: 女 | C9: 1942016 | D9: 1688930 | E9: 37952 | F9: 112054 | G9: 77316 | H9: 34738 | I9: 103080 | J9: 41294 | K9: 34689 | L9: 27097
A10: 25－29歲 | B10: 計 | C10: 450704 | D10: 419959 | E10: 3351 | F10: 8878 | G10: 4547 | H10: 4331 | I10: 18516 | J10: 6712 | K10: 6221 | L10: 5583
B11: 男 | C11: 228573 | D11: 213125 | E11: 1129 | F11: 3169 | G11: 1399 | H11: 1770 | I11: 11150 | J11: 4005 | K11: 3658 | L11: 3487
B12: 女 | C12: 222131 | D12: 206834 | E12: 2222 | F12: 5709 | G12: 3148 | H12: 2561 | I12: 7366 | J12: 2707 | K12: 2563 | L12: 2096
A13: 30－34歲 | B13: 計 | C13: 473945 | D13: 423077 | E13: 7078 | F13: 20072 | G13: 13034 | H13: 7038 | I13: 23718 | J13: 8975 | K13: 8307 | L13: 6436
B14: 男 | C14: 221590 | D14: 199457 | E14: 1881 | F14: 6166 | G14: 3600 | H14: 2566 | I14: 14086 | J14: 5269 | K14: 4818 | L14: 3999
B15: 女 | C15: 252355 | D15: 223620 | E15: 5197 | F15: 13906 | G15: 9434 | H15: 4472 | I15: 9632 | J15: 3706 | K15: 3489 | L15: 2437
A16: 35－39歲 | B16: 計 | C16: 438006 | D16: 375887 | E16: 12243 | F16: 26956 | G16: 20760 | H16: 6196 | I16: 22920 | J16: 9062 | K16: 8295 | L16: 5563
B17: 男 | C17: 205512 | D17: 179074 | E17: 3903 | F17: 8718 | G17: 6512 | H17: 2206 | I17: 13817 | J17: 5357 | K17: 4937 | L17: 3523
B18: 女 | C18: 232494 | D18: 196813 | E18: 8340 | F18: 18238 | G18: 14248 | H18: 3990 | I18: 9103 | J18: 3705 | K18: 3358 | L18: 2040
A19: 40－44歲 | B19: 計 | C19: 439530 | D19: 368312 | E19: 15872 | F19: 30134 | G19: 25246 | H19: 4888 | I19: 25212 | J19: 10279 | K19: 8848 | L19: 6085
B20: 男 | C20: 212858 | D20: 179463 | E20: 6900 | F20: 11391 | G20: 9628 | H20: 1763 | I20: 15104 | J20: 6090 | K20: 5232 | L20: 3782
B21: 女 | C21: 226672 | D21: 188849 | E21: 8972 | F21: 18743 | G21: 15618 | H21: 3125 | I21: 10108 | J21: 4189 | K21: 3616 | L21: 2303
A22: 45－49歲 | B22: 計 | C22: 431453 | D22: 358741 | E22: 14773 | F22: 28077 | G22: 23234 | H22: 4843 | I22: 29862 | J22: 12619 | K22: 9807 | L22: 7436
B23: 男 | C23: 215984 | D23: 178029 | E23: 8111 | F23: 11966 | G23: 10292 | H23: 1674 | I23: 17878 | J23: 7608 | K23: 5680 | L23: 4590
B24: 女 | C24: 215469 | D24: 180712 | E24: 6662 | F24: 16111 | G24: 12942 | H24: 3169 | I24: 11984 | J24: 5011 | K24: 4127 | L24: 2846
A25: 50－54歲 | B25: 計 | C25: 423494 | D25: 354302 | E25: 9728 | F25: 23073 | G25: 16168 | H25: 6905 | I25: 36391 | J25: 15400 | K25: 11616 | L25: 9375
B26: 男 | C26: 205878 | D26: 167967 | E26: 6320 | F26: 10338 | G26: 7835 | H26: 2503 | I26: 21253 | J26: 9106 | K26: 6428 | L26: 5719
B27: 女 | C27: 217616 | D27: 186335 | E27: 3408 | F27: 12735 | G27: 8333 | H27: 4402 | I27: 15138 | J27: 6294 | K27: 5188 | L27: 3656
A28: 55－59歲 | B28: 計 | C28: 494839 | D28: 425394 | E28: 5482 | F28: 23309 | G28: 12620 | H28: 10689 | I28: 40654 | J28: 16668 | K28: 12362 | L28: 11624
B29: 男 | C29: 230782 | D29: 193307 | E29: 3753 | F29: 10255 | G29: 5869 | H29: 4386 | I29: 23467 | J29: 9654 | K29: 6876 | L29: 6937
B30: 女 | C30: 264057 | D30: 232087 | E30: 1729 | F30: 13054 | G30: 6751 | H30: 6303 | I30: 17187 | J30: 7014 | K30: 5486 | L30: 4687
A31: 60－65歲 | B31: 計 | C31: 573655 | D31: 494851 | E31: 4089 | F31: 23694 | G31: 11701 | H31: 11993 | I31: 51021 | J31: 19405 | K31: 15152 | L31: 16464
B32: 男 | C32: 262433 | D32: 221171 | E32: 2667 | F32: 10136 | G32: 4859 | H32: 5277 | I32: 28459 | J32: 10737 | K32: 8290 | L32: 9432
B33: 女 | C33: 311222 | D33: 273680 | E33: 1422 | F33: 13558 | G33: 6842 | H33: 6716 | I33: 22562 | J33: 8668 | K33: 6862 | L33: 7032
A34: 平 均 年 齡 (歲) | B34: 計 | C34: 45.12 | D34: 44.86 | E34: 44.12 | F34: 45.98 | G34: 45.16 | H34: 47.81 | I34: 48.15 | J34: 48.31 | K34: 47.45 | L34: 48.76
B35: 男 | C35: 44.9 | D35: 44.47 | E35: 46.58 | F35: 47.13 | G35: 46.53 | H35: 48.47 | I35: 47.87 | J35: 48.08 | K35: 47.14 | L35: 48.4
B36: 女 | C36: 45.32 | D36: 45.21 | E36: 41.86 | F36: 45.24 | G36: 44.28 | H36: 47.39 | I36: 48.55 | J36: 48.62 | K36: 47.87 | L36: 49.32
A37: 資料來源：勞工保險局國民年金業務處。
A60: Note： See Table 114.

Sheet 100
A1: 4.2-01國民年金被保險人數按身分,年齡及性別分
A2: 民國100年底
A3: 單位：人
A4: 年齡別及性別 | C4: 合 計 | D4: 一般身分 | E4: 低收入戶 | F4: 所得未達一定標準者 | I4: 身 心 障 礙 者
F5: 小 計 | G5: 第一目 | H5: 第二目 | I5: 小 計 | J5: 重度以上 | K5: 中 度 | L5: 輕 度
A7: 總計 | B7: 合計 | C7: 3783731 | D7: 3295839 | E7: 62071 | F7: 175133 | G7: 120010 | H7: 55123 | I7: 250688 | J7: 97956 | K7: 82583 | L7: 70149
B8: 男 | C8: 1807547 | D8: 1563811 | E8: 29312 | F8: 67838 | G8: 46195 | H8: 21643 | I8: 146586 | J8: 56959 | K8: 47266 | L8: 42361
B9: 女 | C9: 1976184 | D9: 1732028 | E9: 32759 | F9: 107295 | G9: 73815 | H9: 33480 | I9: 104102 | J9: 40997 | K9: 35317 | L9: 27788
A10: 25－29歲 | B10: 計 | C10: 470955 | D10: 438417 | E10: 3171 | F10: 9847 | G10: 5174 | H10: 4673 | I10: 19520 | J10: 7079 | K10: 6612 | L10: 5829
B11: 男 | C11: 235942 | D11: 219726 | E11: 1030 | F11: 3461 | G11: 1488 | H11: 1973 | I11: 11725 | J11: 4220 | K11: 3846 | L11: 3659
B12: 女 | C12: 235013 | D12: 218691 | E12: 2141 | F12: 6386 | G12: 3686 | H12: 2700 | I12: 7795 | J12: 2859 | K12: 2766 | L12: 2170
A13: 30－34歲 | B13: 計 | C13: 474193 | D13: 424589 | E13: 6137 | F13: 19661 | G13: 13100 | H13: 6561 | I13: 23806 | J13: 8904 | K13: 8531 | L13: 6371
B14: 男 | C14: 222633 | D14: 201004 | E14: 1655 | F14: 5754 | G14: 3373 | H14: 2381 | I14: 14220 | J14: 5226 | K14: 5002 | L14: 3992
B15: 女 | C15: 251560 | D15: 223585 | E15: 4482 | F15: 13907 | G15: 9727 | H15: 4180 | I15: 9586 | J15: 3678 | K15: 3529 | L15: 2379
A16: 35－39歲 | B16: 計 | C16: 439166 | D16: 379677 | E16: 10404 | F16: 26385 | G16: 20450 | H16: 5935 | I16: 22700 | J16: 8746 | K16: 8397 | L16: 5557
B17: 男 | C17: 204527 | D17: 179152 | E17: 3305 | F17: 8455 | G17: 6371 | H17: 2084 | I17: 13615 | J17: 5114 | K17: 5059 | L17: 3442
B18: 女 | C18: 234639 | D18: 200525 | E18: 7099 | F18: 17930 | G18: 14079 | H18: 3851 | I18: 9085 | J18: 3632 | K18: 3338 | L18: 2115
A19: 40－44歲 | B19: 計 | C19: 446861 | D19: 378605 | E19: 13565 | F19: 29177 | G19: 24445 | H19: 4732 | I19: 25514 | J19: 10213 | K19: 9055 | L19: 6246
B20: 男 | C20: 216646 | D20: 184498 | E20: 5819 | F20: 11009 | G20: 9347 | H20: 1662 | I20: 15320 | J20: 6099 | K20: 5344 | L20: 3877
B21: 女 | C21: 230215 | D21: 194107 | E21: 7746 | F21: 18168 | G21: 15098 | H21: 3070 | I21: 10194 | J21: 4114 | K21: 3711 | L21: 2369
A22: 45－49歲 | B22: 計 | C22: 439221 | D22: 369073 | E22: 12615 | F22: 26338 | G22: 21387 | H22: 4951 | I22: 31195 | J22: 12776 | K22: 10396 | L22: 8023
B23: 男 | C23: 218252 | D23: 181661 | E23: 6838 | F23: 11103 | G23: 9432 | H23: 1671 | I23: 18650 | J23: 7660 | K23: 6017 | L23: 4973
B24: 女 | C24: 220969 | D24: 187412 | E24: 5777 | F24: 15235 | G24: 11955 | H24: 3280 | I24: 12545 | J24: 5116 | K24: 4379 | L24: 3050
A25: 50－54歲 | B25: 計 | C25: 435396 | D25: 369073 | E25: 8071 | F25: 21563 | G25: 14446 | H25: 7117 | I25: 36689 | J25: 15065 | K25: 11931 | L25: 9693
B26: 男 | C26: 209268 | D26: 172928 | E26: 5225 | F26: 9664 | G26: 6999 | H26: 2665 | I26: 21451 | J26: 8874 | K26: 6684 | L26: 5893
B27: 女 | C27: 226128 | D27: 196145 | E27: 2846 | F27: 11899 | G27: 7447 | H27: 4452 | I27: 15238 | J27: 6191 | K27: 5247 | L27: 3800
A28: 55－59歲 | B28: 計 | C28: 523201 | D28: 454551 | E28: 4742 | F28: 21941 | G28: 11380 | H28: 10561 | I28: 41967 | J28: 16962 | K28: 12726 | L28: 12279
B29: 男 | C29: 245388 | D29: 208265 | E29: 3227 | F29: 9653 | G29: 5230 | H29: 4423 | I29: 24243 | J29: 9836 | K29: 7082 | L29: 7325
B30: 女 | C30: 277813 | D30: 246286 | E30: 1515 | F30: 12288 | G30: 6150 | H30: 6138 | I30: 17724 | J30: 7126 | K30: 5644 | L30: 4954
A31: 60－65歲 | B31: 計 | C31: 554738 | D31: 481854 | E31: 3366 | F31: 20221 | G31: 9628 | H31: 10593 | I31: 49297 | J31: 18211 | K31: 14935 | L31: 16151
B32: 男 | C32: 254891 | D32: 216577 | E32: 2213 | F32: 8739 | G32: 3955 | H32: 4784 | I32: 27362 | J32: 9930 | K32: 8232 | L32: 9200
B33: 女 | C33: 299847 | D33: 265277 | E33: 1153 | F33: 11482 | G33: 5673 | H33: 5809 | I33: 21935 | J33: 8281 | K33: 6703 | L33: 6951
A34: 平 均 年 齡 (歲) | B34: 計 | C34: 45.04 | D34: 44.81 | E34: 43.94 | F34: 45.48 | G34: 44.55 | H34: 47.52 | I34: 48 | J34: 48.1 | K34: 47.3 | L34: 48.7
B35: 男 | C35: 44.85 | D35: 44.47 | E35: 46.45 | F35: 46.76 | G35: 46.06 | H35: 48.23 | I35: 47.71 | J35: 47.85 | K35: 47 | L35: 48.33
B36: 女 | C36: 45.21 | D36: 45.11 | E36: 41.69 | F36: 44.68 | G36: 43.6 | H36: 47.06 | I36: 48.41 | J36: 48.44 | K36: 47.7 | L36: 49.27
A37: 資料來源：勞工保險局國民年金業務處。
A60: Note： See Table 114.

Sheet 99
A1: 4.2-01國民年金被保險人數按身分,年齡及性別分
A2: 民國99年底
A3: 單位：人
A4: 年齡別及性別 | C4: 合 計 | D4: 一般身分 | E4: 低收入戶 | F4: 所得未達一定標準者 | I4: 身 心 障 礙 者
F5: 小 計 | G5: 第一目 | H5: 第二目 | I5: 小 計 | J5: 重度以上 | K5: 中 度 | L5: 輕 度
A7: 總計 | B7: 合計 | C7: 3872241 | D7: 3389685 | E7: 51390 | F7: 181379 | G7: 119858 | H7: 61521 | I7: 249787 | J7: 96166 | K7: 83454 | L7: 70167
B8: 男 | C8: 1829080 | D8: 1590042 | E8: 24067 | F8: 69644 | G8: 45528 | H8: 24116 | I8: 145327 | J8: 55540 | K8: 47652 | L8: 42135
B9: 女 | C9: 2043161 | D9: 1799643 | E9: 27323 | F9: 111735 | G9: 74330 | H9: 37405 | I9: 104460 | J9: 40626 | K9: 35802 | L9: 28032
A10: 25－29歲 | B10: 計 | C10: 524243 | D10: 486786 | E10: 2831 | F10: 13239 | G10: 6643 | H10: 6596 | I10: 21387 | J10: 7589 | K10: 7408 | L10: 6390
B11: 男 | C11: 261118 | D11: 242640 | E11: 966 | F11: 4630 | G11: 1876 | H11: 2754 | I11: 12882 | J11: 4532 | K11: 4338 | L11: 4012
B12: 女 | C12: 263125 | D12: 244146 | E12: 1865 | F12: 8609 | G12: 4767 | H12: 3842 | I12: 8505 | J12: 3057 | K12: 3070 | L12: 2378
A13: 30－34歲 | B13: 計 | C13: 497831 | D13: 446209 | E13: 5176 | F13: 22835 | G13: 14458 | H13: 8377 | I13: 23611 | J13: 8883 | K13: 8628 | L13: 6100
B14: 男 | C14: 232413 | D14: 210035 | E14: 1381 | F14: 6858 | G14: 3756 | H14: 3102 | I14: 14139 | J14: 5212 | K14: 5078 | L14: 3849
B15: 女 | C15: 265418 | D15: 236174 | E15: 3795 | F15: 15977 | G15: 10702 | H15: 5275 | I15: 9472 | J15: 3671 | K15: 3550 | L15: 2251
A16: 35－39歲 | B16: 計 | C16: 446280 | D16: 387321 | E16: 8582 | F16: 28008 | G16: 20955 | H16: 7053 | I16: 22369 | J16: 8538 | K16: 8391 | L16: 5440
B17: 男 | C17: 205968 | D17: 180691 | E17: 2752 | F17: 9123 | G17: 6642 | H17: 2481 | I17: 13402 | J17: 5007 | K17: 5022 | L17: 3373
B18: 女 | C18: 240312 | D18: 206630 | E18: 5830 | F18: 18885 | G18: 14313 | H18: 4572 | I18: 8967 | J18: 3531 | K18: 3369 | L18: 2067
A19: 40－44歲 | B19: 計 | C19: 460557 | D19: 393306 | E19: 11421 | F19: 29761 | G19: 24479 | H19: 5282 | I19: 26069 | J19: 10307 | K19: 9297 | L19: 6465
B20: 男 | C20: 221271 | D20: 189502 | E20: 4807 | F20: 11321 | G20: 9390 | H20: 1931 | I20: 15641 | J20: 6185 | K20: 5444 | L20: 4012
B21: 女 | C21: 239286 | D21: 203804 | E21: 6614 | F21: 18440 | G21: 15089 | H21: 3351 | I21: 10428 | J21: 4122 | K21: 3853 | L21: 2453
A22: 45－49歲 | B22: 計 | C22: 438867 | D22: 371121 | E22: 10398 | F22: 25436 | G22: 20361 | H22: 5075 | I22: 31912 | J22: 12820 | K22: 10819 | L22: 8273
B23: 男 | C23: 212966 | D23: 177681 | E23: 5625 | F23: 10561 | G23: 8852 | H23: 1709 | I23: 19099 | J23: 7635 | K23: 6310 | L23: 5154
B24: 女 | C24: 225901 | D24: 193440 | E24: 4773 | F24: 14875 | G24: 11509 | H24: 3366 | I24: 12813 | J24: 5185 | K24: 4509 | L24: 3119
A25: 50－54歲 | B25: 計 | C25: 453373 | D25: 388348 | E25: 6473 | F25: 21814 | G25: 14277 | H25: 7537 | I25: 36738 | J25: 14751 | K25: 11961 | L25: 10026
B26: 男 | C26: 214004 | D26: 178867 | E26: 4163 | F26: 9618 | G26: 6843 | H26: 2775 | I26: 21356 | J26: 8559 | K26: 6712 | L26: 6085
B27: 女 | C27: 239369 | D27: 209481 | E27: 2310 | F27: 12196 | G27: 7434 | H27: 4762 | I27: 15382 | J27: 6192 | K27: 5249 | L27: 3941
A28: 55－59歲 | B28: 計 | C28: 542149 | D28: 473210 | E28: 3966 | F28: 22562 | G28: 11099 | H28: 11463 | I28: 42411 | J28: 16864 | K28: 12976 | L28: 12571
B29: 男 | C29: 250169 | D29: 213655 | E29: 2678 | F29: 9814 | G29: 5035 | H29: 4779 | I29: 24022 | J29: 9538 | K29: 7121 | L29: 7363
B30: 女 | C30: 291980 | D30: 259555 | E30: 1288 | F30: 12748 | G30: 6064 | H30: 6684 | I30: 18389 | J30: 7326 | K30: 5855 | L30: 5208
A31: 60－65歲 | B31: 計 | C31: 508941 | D31: 443384 | E31: 2543 | F31: 17724 | G31: 7586 | H31: 10138 | I31: 45290 | J31: 16414 | K31: 13974 | L31: 14902
B32: 男 | C32: 231171 | D32: 196971 | E32: 1695 | F32: 7719 | G32: 3134 | H32: 4585 | I32: 24786 | J32: 8872 | K32: 7627 | L32: 8287
B33: 女 | C33: 277770 | D33: 246413 | E33: 848 | F33: 10005 | G33: 4452 | H33: 5553 | I33: 20504 | J33: 7542 | K33: 6347 | L33: 6615
A34: 平 均 年 齡 (歲) | B34: 計 | C34: 44.58 | D34: 44.36 | E34: 43.82 | F34: 44.64 | G34: 43.83 | H34: 46.21 | I34: 47.7 | J34: 47.81 | K34: 46.95 | L34: 48.43
B35: 男 | C35: 44.36 | D35: 43.99 | E35: 46.27 | F35: 45.89 | G35: 45.41 | H35: 46.8 | I35: 47.34 | J35: 47.52 | K35: 46.57 | L35: 47.97
B36: 女 | C36: 44.78 | D36: 44.68 | E36: 41.66 | F36: 43.86 | G36: 42.87 | H36: 45.82 | I36: 48.19 | J36: 48.2 | K36: 47.46 | L36: 49.12
A37: 資料來源：勞工保險局國民年金業務處。
A60: Note： See Table 114.

Sheet 98
A1: 4.2-01國民年金被保險人數按身分,年齡及性別分
A2: 民國98年底
A3: 單位：人
A4: 年齡別及性別 | C4: 合 計 | D4: 一般身分 | E4: 低收入戶 | F4: 所得未達一定標準者 | I4: 身 心 障 礙 者
F5: 小 計 | G5: 第一目 | H5: 第二目 | I5: 小 計 | J5: 重度以上 | K5: 中 度 | L5: 輕 度
A7: 總計 | B7: 合計 | C7: 4014678 | D7: 3562609 | E7: 50392 | F7: 150595 | G7: 99632 | H7: 50963 | I7: 251082 | J7: 95379 | K7: 83868 | L7: 71835
B8: 男 | C8: 1908598 | D8: 1680907 | E8: 23271 | F8: 57939 | G8: 37869 | H8: 20070 | I8: 146481 | J8: 54819 | K8: 48190 | L8: 43472
B9: 女 | C9: 2106080 | D9: 1881702 | E9: 27121 | F9: 92656 | G9: 61763 | H9: 30893 | I9: 104601 | J9: 40560 | K9: 35678 | L9: 28363
A10: 25－29歲 | B10: 計 | C10: 581903 | D10: 542210 | E10: 3074 | F10: 13830 | G10: 7026 | H10: 6804 | I10: 22789 | J10: 8053 | K10: 7900 | L10: 6836
B11: 男 | C11: 295392 | D11: 275657 | E11: 1056 | F11: 4841 | G11: 2000 | H11: 2841 | I11: 13838 | J11: 4762 | K11: 4658 | L11: 4418
B12: 女 | C12: 286511 | D12: 266553 | E12: 2018 | F12: 8989 | G12: 5026 | H12: 3963 | I12: 8951 | J12: 3291 | K12: 3242 | L12: 2418
A13: 30－34歲 | B13: 計 | C13: 517108 | D13: 468447 | E13: 5147 | F13: 20128 | G13: 12940 | H13: 7188 | I13: 23386 | J13: 8641 | K13: 8633 | L13: 6112
B14: 男 | C14: 243809 | D14: 222425 | E14: 1361 | F14: 5970 | G14: 3384 | H14: 2586 | I14: 14053 | J14: 5048 | K14: 5168 | L14: 3837
B15: 女 | C15: 273299 | D15: 246022 | E15: 3786 | F15: 14158 | G15: 9556 | H15: 4602 | I15: 9333 | J15: 3593 | K15: 3465 | L15: 2275
A16: 35－39歲 | B16: 計 | C16: 473526 | D16: 417679 | E16: 8538 | F16: 24415 | G16: 18596 | H16: 5819 | I16: 22894 | J16: 8575 | K16: 8598 | L16: 5721
B17: 男 | C17: 219406 | D17: 194672 | E17: 2732 | F17: 8204 | G17: 6153 | H17: 2051 | I17: 13798 | J17: 5098 | K17: 5144 | L17: 3556
B18: 女 | C18: 254120 | D18: 223007 | E18: 5806 | F18: 16211 | G18: 12443 | H18: 3768 | I18: 9096 | J18: 3477 | K18: 3454 | L18: 2165
A19: 40－44歲 | B19: 計 | C19: 472777 | D19: 410317 | E19: 11293 | F19: 24391 | G19: 20220 | H19: 4171 | I19: 26776 | J19: 10460 | K19: 9481 | L19: 6835
B20: 男 | C20: 227698 | D20: 197454 | E20: 4776 | F20: 9342 | G20: 7865 | H20: 1477 | I20: 16126 | J20: 6173 | K20: 5660 | L20: 4293
B21: 女 | C21: 245079 | D21: 212863 | E21: 6517 | F21: 15049 | G21: 12355 | H21: 2694 | I21: 10650 | J21: 4287 | K21: 3821 | L21: 2542
A22: 45－49歲 | B22: 計 | C22: 447597 | D22: 385178 | E22: 10006 | F22: 19968 | G22: 15784 | H22: 4184 | I22: 32445 | J22: 12953 | K22: 10955 | L22: 8537
B23: 男 | C23: 217101 | D23: 183892 | E23: 5388 | F23: 8380 | G23: 6975 | H23: 1405 | I23: 19441 | J23: 7695 | K23: 6413 | L23: 5333
B24: 女 | C24: 230496 | D24: 201286 | E24: 4618 | F24: 11588 | G24: 8809 | H24: 2779 | I24: 13004 | J24: 5258 | K24: 4542 | L24: 3204
A25: 50－54歲 | B25: 計 | C25: 480066 | D25: 419333 | E25: 6147 | F25: 17768 | G25: 11300 | H25: 6468 | I25: 36818 | J25: 14688 | K25: 11850 | L25: 10280
B26: 男 | C26: 226928 | D26: 193679 | E26: 3855 | F26: 7904 | G26: 5429 | H26: 2475 | I26: 21490 | J26: 8459 | K26: 6692 | L26: 6339
B27: 女 | C27: 253138 | D27: 225654 | E27: 2292 | F27: 9864 | G27: 5871 | H27: 3993 | I27: 15328 | J27: 6229 | K27: 5158 | L27: 3941
A28: 55－59歲 | B28: 計 | C28: 562471 | D28: 497933 | E28: 3833 | F28: 17819 | G28: 8579 | H28: 9240 | I28: 42886 | J28: 16740 | K28: 13114 | L28: 13032
B29: 男 | C29: 260082 | D29: 225317 | E29: 2546 | F29: 7876 | G29: 3911 | H29: 3965 | I29: 24343 | J29: 9434 | K29: 7226 | L29: 7683
B30: 女 | C30: 302389 | D30: 272616 | E30: 1287 | F30: 9943 | G30: 4668 | H30: 5275 | I30: 18543 | J30: 7306 | K30: 5888 | L30: 5349
A31: 60－65歲 | B31: 計 | C31: 479230 | D31: 421512 | E31: 2354 | F31: 12276 | G31: 5187 | H31: 7089 | I31: 43088 | J31: 15269 | K31: 13337 | L31: 14482
B32: 男 | C32: 218182 | D32: 187811 | E32: 1557 | F32: 5422 | G32: 2152 | H32: 3270 | I32: 23392 | J32: 8150 | K32: 7229 | L32: 8013
B33: 女 | C33: 261048 | D33: 233701 | E33: 797 | F33: 6854 | G33: 3035 | H33: 3819 | I33: 19696 | J33: 7119 | K33: 6108 | L33: 6469
A34: 平 均 年 齡 (歲) | B34: 計 | C34: 44.17 | D34: 43.97 | E34: 43.5 | F34: 43.73 | G34: 42.97 | H34: 45.21 | I34: 47.4 | J34: 47.47 | K34: 46.68 | L34: 48.15
B35: 男 | C35: 43.89 | D35: 43.55 | E35: 45.94 | F35: 45 | G35: 44.53 | H35: 45.89 | I35: 47.01 | J35: 47.15 | K35: 46.29 | L35: 47.63
B36: 女 | C36: 44.43 | D36: 44.36 | E36: 41.41 | F36: 42.93 | G36: 42.01 | H36: 44.77 | I36: 47.95 | J36: 47.9 | K36: 47.22 | L36: 48.96
A37: 資料來源：勞工保險局國民年金業務處。
A60: Note： See Table 114.

Sheet 97
A1: 4.2-01國民年金被保險人數按身分,年齡及性別分
A2: 民國97年底
A3: 單位：人
A4: 年齡別及性別 | C4: 合 計 | D4: 一般身分 | E4: 低收入戶 | F4: 所得未達一定標準者 | I4: 身 心 障 礙 者
F5: 小 計 | G5: 第一目 | H5: 第二目 | I5: 小 計 | J5: 重度以上 | K5: 中 度 | L5: 輕 度
A7: 總計 | B7: 合計 | C7: 4220905 | D7: 3931145 | E7: 39150 | F7: 8803 | G7: 5657 | H7: 3146 | I7: 241807 | J7: 88447 | K7: 81367 | L7: 71993
B8: 男 | C8: 2003053 | D8: 1839539 | E8: 18281 | F8: 3416 | G8: 2147 | H8: 1269 | I8: 141817 | J8: 50860 | K8: 47186 | L8: 43771
B9: 女 | C9: 2217852 | D9: 2091606 | E9: 20869 | F9: 5387 | G9: 3510 | H9: 1877 | I9: 99990 | J9: 37587 | K9: 34181 | L9: 28222
A10: 25－29歲 | B10: 計 | C10: 635071 | D10: 609777 | E10: 2262 | F10: 485 | G10: 216 | H10: 269 | I10: 22547 | J10: 7754 | K10: 7928 | L10: 6865
B11: 男 | C11: 320424 | D11: 305798 | E11: 794 | F11: 150 | G11: 53 | H11: 97 | I11: 13682 | J11: 4569 | K11: 4684 | L11: 4429
B12: 女 | C12: 314647 | D12: 303979 | E12: 1468 | F12: 335 | G12: 163 | H12: 172 | I12: 8865 | J12: 3185 | K12: 3244 | L12: 2436
A13: 30－34歲 | B13: 計 | C13: 538652 | D13: 512382 | E13: 4048 | F13: 836 | G13: 489 | H13: 347 | I13: 21386 | J13: 7664 | K13: 7998 | L13: 5724
B14: 男 | C14: 250941 | D14: 236642 | E14: 1057 | F14: 242 | G14: 117 | H14: 125 | I14: 13000 | J14: 4481 | K14: 4858 | L14: 3661
B15: 女 | C15: 287711 | D15: 275740 | E15: 2991 | F15: 594 | G15: 372 | H15: 222 | I15: 8386 | J15: 3183 | K15: 3140 | L15: 2063
A16: 35－39歲 | B16: 計 | C16: 510283 | D16: 479742 | E16: 6789 | F16: 1289 | G16: 961 | H16: 328 | I16: 22463 | J16: 8106 | K16: 8387 | L16: 5970
B17: 男 | C17: 234755 | D17: 218604 | E17: 2192 | F17: 378 | G17: 279 | H17: 99 | I17: 13581 | J17: 4833 | K17: 5077 | L17: 3671
B18: 女 | C18: 275528 | D18: 261138 | E18: 4597 | F18: 911 | G18: 682 | H18: 229 | I18: 8882 | J18: 3273 | K18: 3310 | L18: 2299
A19: 40－44歲 | B19: 計 | C19: 500948 | D19: 464143 | E19: 8869 | F19: 1477 | G19: 1206 | H19: 271 | I19: 26459 | J19: 9913 | K19: 9233 | L19: 7313
B20: 男 | C20: 239902 | D20: 219573 | E20: 3841 | F20: 520 | G20: 421 | H20: 99 | I20: 15968 | J20: 5846 | K20: 5498 | L20: 4624
B21: 女 | C21: 261046 | D21: 244570 | E21: 5028 | F21: 957 | G21: 785 | H21: 172 | I21: 10491 | J21: 4067 | K21: 3735 | L21: 2689
A22: 45－49歲 | B22: 計 | C22: 471453 | D22: 430612 | E22: 7693 | F22: 1321 | G22: 1031 | H22: 290 | I22: 31827 | J22: 12046 | K22: 10895 | L22: 8886
B23: 男 | C23: 228631 | D23: 204725 | E23: 4225 | F23: 562 | G23: 449 | H23: 113 | I23: 19119 | J23: 7106 | K23: 6436 | L23: 5577
B24: 女 | C24: 242822 | D24: 225887 | E24: 3468 | F24: 759 | G24: 582 | H24: 177 | I24: 12708 | J24: 4940 | K24: 4459 | L24: 3309
A25: 50－54歲 | B25: 計 | C25: 510053 | D25: 468621 | E25: 4611 | F25: 1340 | G25: 846 | H25: 494 | I25: 35481 | J25: 13774 | K25: 11450 | L25: 10257
B26: 男 | C26: 242886 | D26: 218334 | E26: 2905 | F26: 626 | G26: 409 | H26: 217 | I26: 21021 | J26: 7998 | K26: 6621 | L26: 6402
B27: 女 | C27: 267167 | D27: 250287 | E27: 1706 | F27: 714 | G27: 437 | H27: 277 | I27: 14460 | J27: 5776 | K27: 4829 | L27: 3855
A28: 55－59歲 | B28: 計 | C28: 583383 | D28: 537650 | E28: 3008 | F28: 1261 | G28: 591 | H28: 670 | I28: 41464 | J28: 15510 | K28: 12832 | L28: 13122
B29: 男 | C29: 270321 | D29: 244114 | E29: 1999 | F29: 573 | G29: 280 | H29: 293 | I29: 23635 | J29: 8711 | K29: 7119 | L29: 7805
B30: 女 | C30: 313062 | D30: 293536 | E30: 1009 | F30: 688 | G30: 311 | H30: 377 | I30: 17829 | J30: 6799 | K30: 5713 | L30: 5317
A31: 60－65歲 | B31: 計 | C31: 471062 | D31: 428218 | E31: 1870 | F31: 794 | G31: 317 | H31: 477 | I31: 40180 | J31: 13680 | K31: 12644 | L31: 13856
B32: 男 | C32: 215193 | D32: 191749 | E32: 1268 | F32: 365 | G32: 139 | H32: 226 | I32: 21811 | J32: 7316 | K32: 6893 | L32: 7602
B33: 女 | C33: 255869 | D33: 236469 | E33: 602 | F33: 429 | G33: 178 | H33: 251 | I33: 18369 | J33: 6364 | K33: 5751 | L33: 6254
A34: 平 均 年 齡 (歲) | B34: 計 | C34: 43.9 | D34: 43.69 | E34: 43.5 | F34: 45.7 | G34: 44.77 | H34: 47.36 | I34: 47.31 | J34: 47.37 | K34: 46.62 | L34: 48.03
B35: 男 | C35: 43.68 | D35: 43.4 | E35: 45.96 | F35: 47.37 | G35: 46.61 | H35: 48.67 | I35: 46.92 | J35: 47.05 | K35: 46.24 | L35: 47.51
B36: 女 | C36: 44.11 | D36: 43.95 | E36: 41.35 | F36: 44.63 | G36: 43.65 | H36: 46.47 | I36: 47.87 | J36: 47.79 | K36: 47.16 | L36: 48.84
A37: 資料來源：勞工保險局國民年金業務處。
A60: Note： See Table 114.
