Workbook

Sheet 000000

Sheet 113
A1: 保險對象人數－按保險對象類目及縣市別分 | K1: Beneficiaries by Beneficiary Category, | U1: 保險對象人數－按保險對象類目及縣市別分（續一） | AE1: Beneficiaries by Beneficiary Category, | AO1: 保險對象人數－按保險對象類目及縣市別分（續二） | AY1: Beneficiaries by Beneficiary Category, | BI1: 保險對象人數－按保險對象類目及縣市別分（續三） | BS1: Beneficiaries by Beneficiary Category, | CC1: 保險對象人數－按保險對象類目及縣市別分（續四） | CM1: Beneficiaries by Beneficiary Category, | CW1: 保險對象人數－按保險對象類目及縣市別分（續五） | DG1: Beneficiaries by Beneficiary Category, | DQ1: 保險對象人數－按保險對象類目及縣市別分（續完） | EA1: Beneficiaries by Beneficiary Category,
K2: NHI Regional Division and Locale | AE2: NHI Regional Division and Locale（Cont'd 1） | AY2: NHI Regional Division and Locale（Cont'd 2） | BS2: NHI Regional Division and Locale（Cont'd 3） | CM2: NHI Regional Division and Locale（Cont'd 4） | DG2: NHI Regional Division and Locale（Cont'd 5） | EA2: NHI Regional Division and Locale（Cont'd）
A3: 中華民國113年底 | K3: End of 2024 | U3: 中華民國113年底 | AE3: End of 2024 | AO3: 中華民國113年底 | AY3: End of 2024 | BI3: 中華民國113年底 | BS3: End of 2024 | CC3: 中華民國113年底 | CM3: End of 2024 | CW3: 中華民國113年底 | DG3: End of 2024 | DQ3: 中華民國113年底 | EA3: End of 2024
A4: 單位：人 | T4: Unit：Persons | U4: 單位：人 | AN4: Unit：Persons | AO4: 單位：人 | BH4: Unit：Persons | BI4: 單位：人 | CB4: Unit：Persons | CC4: 單位：人 | CV4: Unit：Persons | CW4: 單位：人 | DP4: Unit：Persons | DQ4: 單位：人 | EJ4: Unit：Persons
A5: 業務組 縣市別 | B5: 總計 Grand Total | H5: 第一類 | K5: Category 1 | T5: Division & Locale | U5: 業務組 縣市別 | V5: 第一類 | AE5: Category 1 | AN5: Division & Locale | AO5: 業務組 縣市別 | AP5: 第一類 Category 1 | AV5: 第二類 | AY5: Category 2 | BH5: Division & Locale | BI5: 業務組 縣市別 | BJ5: 第二類 Category 2 | BP5: 第三類 | BS5: Category 3 | CB5: Division & Locale | CC5: 業務組 縣市別 | CD5: 第三類 Category 3 | CJ5: 第四類 | CM5: Category 4 | CV5: Division & Locale | CW5: 業務組 縣市別 | CX5: 第四類 | DG5: Category 4 | DJ5: 第五類 Category 5 | DP5: Division & Locale | DQ5: 業務組 縣市別 | DR5: 第六類 | EA5: Category 6 | EJ5: Division & Locale
B7: 保險對象Beneficiaries | D7: 被保險人Insureds | F7: 眷屬Dependents | H7: 合計 | K7: Total | N7: 第一目 Item 1 | V7: 第二目 Item 2 | AB7: 第三目 | AE7: Item 3 | AH7: 第四目 Item 4 | AP7: 第五目 Item 5 | AV7: 合計 | AY7: Total | BB7: 第一目 Item 1 | BJ7: 第二目 Item 2 | BP7: 合計 | BS7: Total | BV7: 第一目 Item 1 | CD7: 第二目 Item 2 | CJ7: 合計 | CM7: Total | CP7: 第一目 Item 1 | CX7: 第二目 Item 2 | DD7: 第三目 | DG7: Item 3 | DR7: 合計 Total | DX7: 第一目 | EA7: Item 1 | ED7: 第二目 Item 2
H8: 保險對象Beneficiaries | J8: 被保險人Insureds | L8: 眷屬Dependents | N8: 保險對象Beneficiaries | P8: 被保險人Insureds | R8: 眷屬Dependents | V8: 保險對象Beneficiaries | X8: 被保險人Insureds | Z8: 眷屬Dependents | AB8: 保險對象Beneficiaries | AD8: 被保險人Insureds | AF8: 眷屬Dependents | AH8: 保險對象Beneficiaries | AJ8: 被保險人Insureds | AL8: 眷屬Dependents | AP8: 保險對象Beneficiaries | AR8: 被保險人Insureds | AT8: 眷屬Dependents | AV8: 保險對象Beneficiaries | AX8: 被保險人Insureds | AZ8: 眷屬Dependents | BB8: 保險對象Beneficiaries | BD8: 被保險人Insureds | BF8: 眷屬Dependents | BJ8: 保險對象Beneficiaries | BL8: 被保險人Insureds | BN8: 眷屬Dependents | BP8: 保險對象Beneficiaries | BR8: 被保險人Insureds | BT8: 眷屬Dependents | BV8: 保險對象Beneficiaries | BX8: 被保險人Insureds | BZ8: 眷屬Dependents | CD8: 保險對象Beneficiaries | CF8: 被保險人Insureds | CH8: 眷屬Dependents | CJ8: 保險對象Beneficiaries | CL8: 被保險人Insureds | CN8: 眷屬Dependents | CP8: 保險對象Beneficiaries | CR8: 被保險人Insureds | CT8: 眷屬Dependents | CX8: 保險對象Beneficiaries | CZ8: 被保險人Insureds | DB8: 眷屬Dependents | DD8: 保險對象Beneficiaries | DF8: 被保險人Insureds | DH8: 眷屬Dependents | DJ8: 保險對象Beneficiaries | DL8: 被保險人Insureds | DN8: 眷屬Dependents | DR8: 保險對象Beneficiaries | DT8: 被保險人Insureds | DV8: 眷屬Dependents | DX8: 保險對象Beneficiaries | DZ8: 被保險人Insureds | EB8: 眷屬Dependents | ED8: 保險對象Beneficiaries | EF8: 被保險人Insureds | EH8: 眷屬Dependents
C9: 百分比 | E9: 百分比 | G9: 百分比 | I9: 百分比 | K9: 百分比 | M9: 百分比 | O9: 百分比 | Q9: 百分比 | S9: 百分比 | W9: 百分比 | Y9: 百分比 | AA9: 百分比 | AC9: 百分比 | AE9: 百分比 | AG9: 百分比 | AI9: 百分比 | AK9: 百分比 | AM9: 百分比 | AQ9: 百分比 | AS9: 百分比 | AU9: 百分比 | AW9: 百分比 | AY9: 百分比 | BA9: 百分比 | BC9: 百分比 | BE9: 百分比 | BG9: 百分比 | BK9: 百分比 | BM9: 百分比 | BO9: 百分比 | BQ9: 百分比 | BS9: 百分比 | BU9: 百分比 | BW9: 百分比 | BY9: 百分比 | CA9: 百分比 | CE9: 百分比 | CG9: 百分比 | CI9: 百分比 | CK9: 百分比 | CM9: 百分比 | CO9: 百分比 | CQ9: 百分比 | CS9: 百分比 | CU9: 百分比 | CY9: 百分比 | DA9: 百分比 | DC9: 百分比 | DE9: 百分比 | DG9: 百分比 | DI9: 百分比 | DK9: 百分比 | DM9: 百分比 | DO9: 百分比 | DS9: 百分比 | DU9: 百分比 | DW9: 百分比 | DY9: 百分比 | EA9: 百分比 | EC9: 百分比 | EE9: 百分比 | EG9: 百分比 | EI9: 百分比
C10: % | E10: % | G10: % | I10: % | K10: % | M10: % | O10: % | Q10: % | S10: % | W10: % | Y10: % | AA10: % | AC10: % | AE10: % | AG10: % | AI10: % | AK10: % | AM10: % | AQ10: % | AS10: % | AU10: % | AW10: % | AY10: % | BA10: % | BC10: % | BE10: % | BG10: % | BK10: % | BM10: % | BO10: % | BQ10: % | BS10: % | BU10: % | BW10: % | BY10: % | CA10: % | CE10: % | CG10: % | CI10: % | CK10: % | CM10: % | CO10: % | CQ10: % | CS10: % | CU10: % | CY10: % | DA10: % | DC10: % | DE10: % | DG10: % | DI10: % | DK10: % | DM10: % | DO10: % | DS10: % | DU10: % | DW10: % | DY10: % | EA10: % | EC10: % | EE10: % | EG10: % | EI10: %
A11: 總 計 | B11: 23959972 | C11: 100 | D11: 16408438 | E11: 100 | F11: 7551534 | G11: 100 | H11: 14738165 | I11: 100 | J11: 9762009 | K11: 100 | L11: 4976156 | M11: 100 | N11: 1165722 | O11: 100 | P11: 734276 | Q11: 100 | R11: 431446 | S11: 100 | T11: Grand Total | U11: 總 計 | V11: 11981265 | W11: 100 | X11: 7796775 | Y11: 100 | Z11: 4184490 | AA11: 100 | AB11: 880264 | AC11: 100 | AD11: 625742 | AE11: 100 | AF11: 254522 | AG11: 100 | AH11: 643961 | AI11: 100 | AJ11: 547861 | AK11: 100 | AL11: 96100 | AM11: 100 | AN11: Grand Total | AO11: 總 計 | AP11: 66953 | AQ11: 100 | AR11: 57355 | AS11: 100 | AT11: 9598 | AU11: 100 | AV11: 3419965 | AW11: 100 | AX11: 2275152 | AY11: 100 | AZ11: 1144813 | BA11: 100 | BB11: 3419385 | BC11: 100 | BD11: 2274602 | BE11: 100 | BF11: 1144783 | BG11: 100 | BH11: Grand Total | BI11: 總 計 | BJ11: 580 | BK11: 100 | BL11: 550 | BM11: 100 | BN11: 30 | BO11: 100 | BP11: 1782750 | BQ11: 100 | BR11: 1255343 | BS11: 100 | BT11: 527407 | BU11: 100 | BV11: 1301983 | BW11: 100 | BX11: 955699 | BY11: 100 | BZ11: 346284 | CA11: 100 | CB11: Grand Total | CC11: 總 計 | CD11: 480767 | CE11: 100 | CF11: 299644 | CG11: 100 | CH11: 181123 | CI11: 100 | CJ11: 101632 | CK11: 100 | CL11: 101632 | CM11: 100 | CN11: 0 | CO11: 0 | CP11: 39929 | CQ11: 100 | CR11: 39929 | CS11: 100 | CT11: 0 | CU11: 0 | CV11: Grand Total | CW11: 總 計 | CX11: 7006 | CY11: 100 | CZ11: 7006 | DA11: 100 | DB11: 0 | DC11: 0 | DD11: 54697 | DE11: 100 | DF11: 54697 | DG11: 100 | DH11: 0 | DI11: 0 | DJ11: 256914 | DK11: 100 | DL11: 256914 | DM11: 100 | DN11: 0 | DO11: 0 | DP11: Grand Total | DQ11: 總 計 | DR11: 3660546 | DS11: 100 | DT11: 2757388 | DU11: 100 | DV11: 903158 | DW11: 100 | DX11: 421232 | DY11: 100 | DZ11: 312044 | EA11: 100 | EB11: 109188 | EC11: 100 | ED11: 3239314 | EE11: 100 | EF11: 2445344 | EG11: 100 | EH11: 793970 | EI11: 100 | EJ11: Grand Total
A12: 臺北業務組 | B12: 9031043 | C12: 37.69221 | D12: 6153874 | E12: 37.504326 | F12: 2877169 | G12: 38.100457 | H12: 6172700 | I12: 41.882419 | J12: 4107681 | K12: 42.078234 | L12: 2065019 | M12: 41.498277 | N12: 564360 | O12: 48.412915 | P12: 373033 | Q12: 50.802832 | R12: 191327 | S12: 44.345526 | T12: Taipei Division | U12: 臺北業務組 | V12: 5017136 | W12: 41.874844 | X12: 3278807 | Y12: 42.053375 | Z12: 1738329 | AA12: 41.542195 | AB12: 320210 | AC12: 36.376587 | AD12: 230150 | AE12: 36.780334 | AF12: 90060 | AG12: 35.383975 | AH12: 246062 | AI12: 38.210699 | AJ12: 204761 | AK12: 37.374626 | AL12: 41301 | AM12: 42.977107 | AN12: Taipei Division | AO12: 臺北業務組 | AP12: 24932 | AQ12: 37.238063 | AR12: 20930 | AS12: 36.492023 | AT12: 4002 | AU12: 41.696187 | AV12: 1216972 | AW12: 35.584341 | AX12: 803798 | AY12: 35.32942 | AZ12: 413174 | BA12: 36.09096 | BB12: 1216559 | BC12: 35.578298 | BD12: 803411 | BE12: 35.320948 | BF12: 413148 | BG12: 36.089634 | BH12: Taipei Division | BI12: 臺北業務組 | BJ12: 413 | BK12: 71.206897 | BL12: 387 | BM12: 70.363636 | BN12: 26 | BO12: 86.666667 | BP12: 176630 | BQ12: 9.9077268 | BR12: 114948 | BS12: 9.1567006 | BT12: 61682 | BU12: 11.695332 | BV12: 83168 | BW12: 6.3877946 | BX12: 59640 | BY12: 6.2404586 | BZ12: 23528 | CA12: 6.7944231 | CB12: Taipei Division | CC12: 臺北業務組 | CD12: 93462 | CE12: 19.440186 | CF12: 55308 | CG12: 18.457903 | CH12: 38154 | CI12: 21.065243 | CJ12: 40251 | CK12: 39.604652 | CL12: 40251 | CM12: 39.604652 | CN12: 0 | CO12: 0 | CP12: 39917 | CQ12: 99.969947 | CR12: 39917 | CS12: 99.969947 | CT12: 0 | CU12: 0 | CV12: Taipei Division | CW12: 臺北業務組 | CX12: 0 | CY12: 0 | CZ12: 0 | DA12: 0 | DB12: 0 | DC12: 0 | DD12: 334 | DE12: 0.61063678 | DF12: 334 | DG12: 0.61063678 | DH12: 0 | DI12: 0 | DJ12: 74130 | DK12: 28.854013 | DL12: 74130 | DM12: 28.854013 | DN12: 0 | DO12: 0 | DP12: Taipei Division | DQ12: 臺北業務組 | DR12: 1350360 | DS12: 36.889579 | DT12: 1013066 | DU12: 36.74006 | DV12: 337294 | DW12: 37.346068 | DX12: 145690 | DY12: 34.586641 | DZ12: 109420 | EA12: 35.065568 | EB12: 36270 | EC12: 33.217936 | ED12: 1204670 | EE12: 37.189047 | EF12: 903646 | EG12: 36.953737 | EH12: 301024 | EI12: 37.913775 | EJ12: Taipei Division
A13: 新北市 | B13: 3365668 | C13: 14.047045 | D13: 2283842 | E13: 13.918705 | F13: 1081826 | G13: 14.32591 | H13: 2112146 | I13: 14.331133 | J13: 1389006 | K13: 14.22869 | L13: 723140 | M13: 14.532101 | N13: 123547 | O13: 10.598324 | P13: 75773 | Q13: 10.319417 | R13: 47774 | S13: 11.072996 | T13: New Taipei City | U13: 新北市 | V13: 1754122 | W13: 14.640541 | X13: 1125023 | Y13: 14.429338 | Z13: 629099 | AA13: 15.034066 | AB13: 100432 | AC13: 11.409304 | AD13: 75447 | AE13: 12.057206 | AF13: 24985 | AG13: 9.8164402 | AH13: 124274 | AI13: 19.298374 | AJ13: 104595 | AK13: 19.091521 | AL13: 19679 | AM13: 20.477627 | AN13: New Taipei City | AO13: 新北市 | AP13: 9771 | AQ13: 14.59382 | AR13: 8168 | AS13: 14.24113 | AT13: 1603 | AU13: 16.701396 | AV13: 489854 | AW13: 14.323363 | AX13: 322594 | AY13: 14.179009 | AZ13: 167260 | BA13: 14.610246 | BB13: 489854 | BC13: 14.325793 | BD13: 322594 | BE13: 14.182437 | BF13: 167260 | BG13: 14.610629 | BH13: New Taipei City | BI13: 新北市 | BJ13: 0 | BK13: 0 | BL13: 0 | BM13: 0 | BN13: 0 | BO13: 0 | BP13: 78596 | BQ13: 4.4086944 | BR13: 50785 | BS13: 4.0455079 | BT13: 27811 | BU13: 5.2731572 | BV13: 35217 | BW13: 2.704874 | BX13: 25329 | BY13: 2.6503114 | BZ13: 9888 | CA13: 2.8554597 | CB13: New Taipei City | CC13: 新北市 | CD13: 43379 | CE13: 9.0228739 | CF13: 25456 | CG13: 8.4954146 | CH13: 17923 | CI13: 9.8954854 | CJ13: 4 | CK13: 0.0039357683 | CL13: 4 | CM13: 0.0039357683 | CN13: 0 | CO13: 0 | CP13: 4 | CQ13: 0.010017782 | CR13: 4 | CS13: 0.010017782 | CT13: 0 | CU13: 0 | CV13: New Taipei City | CW13: 新北市 | CX13: 0 | CY13: 0 | CZ13: 0 | DA13: 0 | DB13: 0 | DC13: 0 | DD13: 0 | DE13: 0 | DF13: 0 | DG13: 0 | DH13: 0 | DI13: 0 | DJ13: 26378 | DK13: 10.267249 | DL13: 26378 | DM13: 10.267249 | DN13: 0 | DO13: 0 | DP13: New Taipei City | DQ13: 新北市 | DR13: 658690 | DS13: 17.99431 | DT13: 495075 | DU13: 17.954492 | DV13: 163615 | DW13: 18.115878 | DX13: 65726 | DY13: 15.603278 | DZ13: 49146 | EA13: 15.749702 | EB13: 16580 | EC13: 15.184819 | ED13: 592964 | EE13: 18.305234 | EF13: 445929 | EG13: 18.235839 | EH13: 147035 | EI13: 18.518962 | EJ13: New Taipei City
A14: 臺北市 | B14: 4954328 | C14: 20.67752 | D14: 3377638 | E14: 20.584763 | F14: 1576690 | G14: 20.879069 | H14: 3776177 | I14: 25.621758 | J14: 2529816 | K14: 25.914912 | L14: 1246361 | M14: 25.046663 | N14: 400943 | O14: 34.394392 | P14: 272536 | Q14: 37.116289 | R14: 128407 | S14: 29.76201 | T14: Taipei City | U14: 臺北市 | V14: 3079149 | W14: 25.699699 | X14: 2033782 | Y14: 26.084913 | Z14: 1045367 | AA14: 24.981945 | AB14: 175495 | AC14: 19.936633 | AD14: 124724 | AE14: 19.932177 | AF14: 50771 | AG14: 19.947588 | AH14: 107139 | AI14: 16.637498 | AJ14: 87513 | AK14: 15.973577 | AL14: 19626 | AM14: 20.422477 | AN14: Taipei City | AO14: 臺北市 | AP14: 13451 | AQ14: 20.090213 | AR14: 11261 | AS14: 19.633859 | AT14: 2190 | AU14: 22.817254 | AV14: 537930 | AW14: 15.729108 | AX14: 353622 | AY14: 15.542786 | AZ14: 184308 | BA14: 16.099398 | BB14: 537745 | BC14: 15.726366 | BD14: 353444 | BE14: 15.538718 | BF14: 184301 | BG14: 16.099208 | BH14: Taipei City | BI14: 臺北市 | BJ14: 185 | BK14: 31.896552 | BL14: 178 | BM14: 32.363636 | BN14: 7 | BO14: 23.333333 | BP14: 7207 | BQ14: 0.40426308 | BR14: 5108 | BS14: 0.40690074 | BT14: 2099 | BU14: 0.39798486 | BV14: 7207 | BW14: 0.55354025 | BX14: 5108 | BY14: 0.53447791 | BZ14: 2099 | CA14: 0.60614987 | CB14: Taipei City | CC14: 臺北市 | CD14: 0 | CE14: 0 | CF14: 0 | CG14: 0 | CH14: 0 | CI14: 0 | CJ14: 40247 | CK14: 39.600716 | CL14: 40247 | CM14: 39.600716 | CN14: 0 | CO14: 0 | CP14: 39913 | CQ14: 99.959929 | CR14: 39913 | CS14: 99.959929 | CT14: 0 | CU14: 0 | CV14: Taipei City | CW14: 臺北市 | CX14: 0 | CY14: 0 | CZ14: 0 | DA14: 0 | DB14: 0 | DC14: 0 | DD14: 334 | DE14: 0.61063678 | DF14: 334 | DG14: 0.61063678 | DH14: 0 | DI14: 0 | DJ14: 38195 | DK14: 14.866843 | DL14: 38195 | DM14: 14.866843 | DN14: 0 | DO14: 0 | DP14: Taipei City | DQ14: 臺北市 | DR14: 554572 | DS14: 15.14998 | DT14: 410650 | DU14: 14.892717 | DV14: 143922 | DW14: 15.935418 | DX14: 58679 | DY14: 13.930328 | DZ14: 44393 | EA14: 14.226519 | EB14: 14286 | EC14: 13.083855 | ED14: 495893 | EE14: 15.308581 | EF14: 366257 | EG14: 14.977729 | EH14: 129636 | EI14: 16.327569 | EJ14: Taipei City
A15: 基隆市 | B15: 262489 | C15: 1.0955313 | D15: 184869 | E15: 1.1266703 | F15: 77620 | G15: 1.0278706 | H15: 102802 | I15: 0.69752238 | J15: 68383 | K15: 0.7005013 | L15: 34419 | M15: 0.69167848 | N15: 16063 | O15: 1.3779443 | P15: 10039 | Q15: 1.3671971 | R15: 6024 | S15: 1.396235 | T15: Keelung City | U15: 基隆市 | V15: 66326 | W15: 0.55358094 | X15: 43148 | Y15: 0.5534083 | Z15: 23178 | AA15: 0.55390263 | AB15: 13761 | AC15: 1.563281 | AD15: 9467 | AE15: 1.5129239 | AF15: 4294 | AG15: 1.687084 | AH15: 5989 | AI15: 0.93002527 | AJ15: 5146 | AK15: 0.93928935 | AL15: 843 | AM15: 0.87721124 | AN15: Keelung City | AO15: 基隆市 | AP15: 663 | AQ15: 0.99024689 | AR15: 583 | AS15: 1.0164763 | AT15: 80 | AU15: 0.83350698 | AV15: 88960 | AW15: 2.6011962 | AX15: 60827 | AY15: 2.6735357 | AZ15: 28133 | BA15: 2.4574319 | BB15: 88732 | BC15: 2.5949696 | BD15: 60618 | BE15: 2.6649937 | BF15: 28114 | BG15: 2.4558366 | BH15: Keelung City | BI15: 基隆市 | BJ15: 228 | BK15: 39.310345 | BL15: 209 | BM15: 38 | BN15: 19 | BO15: 63.333333 | BP15: 6642 | BQ15: 0.37257047 | BR15: 4048 | BS15: 0.32246167 | BT15: 2594 | BU15: 0.49184027 | BV15: 571 | BW15: 0.043856179 | BX15: 411 | BY15: 0.043005172 | BZ15: 160 | CA15: 0.046204849 | CB15: Keelung City | CC15: 基隆市 | CD15: 6071 | CE15: 1.2627739 | CF15: 3637 | CG15: 1.2137737 | CH15: 2434 | CI15: 1.3438382 | CJ15: 0 | CK15: 0 | CL15: 0 | CM15: 0 | CN15: 0 | CO15: 0 | CP15: 0 | CQ15: 0 | CR15: 0 | CS15: 0 | CT15: 0 | CU15: 0 | CV15: Keelung City | CW15: 基隆市 | CX15: 0 | CY15: 0 | CZ15: 0 | DA15: 0 | DB15: 0 | DC15: 0 | DD15: 0 | DE15: 0 | DF15: 0 | DG15: 0 | DH15: 0 | DI15: 0 | DJ15: 4170 | DK15: 1.6231112 | DL15: 4170 | DM15: 1.6231112 | DN15: 0 | DO15: 0 | DP15: Keelung City | DQ15: 基隆市 | DR15: 59915 | DS15: 1.6367777 | DT15: 47441 | DU15: 1.7205051 | DV15: 12474 | DW15: 1.3811537 | DX15: 6607 | DY15: 1.5684943 | DZ15: 5080 | EA15: 1.6279755 | EB15: 1527 | EC15: 1.3985053 | ED15: 53308 | EE15: 1.6456571 | EF15: 42361 | EG15: 1.7323125 | EH15: 10947 | EI15: 1.3787675 | EJ15: Keelung City
A16: 宜蘭縣 | B16: 374428 | C16: 1.562723 | D16: 256844 | E16: 1.5653166 | F16: 117584 | G16: 1.5570876 | H16: 152327 | I16: 1.0335547 | J16: 101432 | K16: 1.0390484 | L16: 50895 | M16: 1.0227774 | N16: 18500 | O16: 1.5869993 | P16: 11233 | Q16: 1.5298062 | R16: 7267 | S16: 1.6843359 | T16: Yilan County | U16: 宜蘭縣 | V16: 104443 | W16: 0.87171931 | X16: 68530 | Y16: 0.87895316 | Z16: 35913 | AA16: 0.85824079 | AB16: 21156 | AC16: 2.4033699 | AD16: 14523 | AE16: 2.3209246 | AF16: 6633 | AG16: 2.6060616 | AH16: 7281 | AI16: 1.1306585 | AJ16: 6309 | AK16: 1.1515695 | AL16: 972 | AM16: 1.0114464 | AN16: Yilan County | AO16: 宜蘭縣 | AP16: 947 | AQ16: 1.414425 | AR16: 837 | AS16: 1.4593322 | AT16: 110 | AU16: 1.1460721 | AV16: 94758 | AW16: 2.7707301 | AX16: 63251 | AY16: 2.780078 | AZ16: 31507 | BA16: 2.7521525 | BB16: 94758 | BC16: 2.7712001 | BD16: 63251 | BE16: 2.7807502 | BF16: 31507 | BG16: 2.7522247 | BH16: Yilan County | BI16: 宜蘭縣 | BJ16: 0 | BK16: 0 | BL16: 0 | BM16: 0 | BN16: 0 | BO16: 0 | BP16: 68327 | BQ16: 3.8326742 | BR16: 45245 | BS16: 3.6041942 | BT16: 23082 | BU16: 4.3765062 | BV16: 36286 | BW16: 2.7869796 | BX16: 25454 | BY16: 2.6633909 | BZ16: 10832 | CA16: 3.1280683 | CB16: Yilan County | CC16: 宜蘭縣 | CD16: 32041 | CE16: 6.6645589 | CF16: 19791 | CG16: 6.6048377 | CH16: 12250 | CI16: 6.7633597 | CJ16: 0 | CK16: 0 | CL16: 0 | CM16: 0 | CN16: 0 | CO16: 0 | CP16: 0 | CQ16: 0 | CR16: 0 | CS16: 0 | CT16: 0 | CU16: 0 | CV16: Yilan County | CW16: 宜蘭縣 | CX16: 0 | CY16: 0 | CZ16: 0 | DA16: 0 | DB16: 0 | DC16: 0 | DD16: 0 | DE16: 0 | DF16: 0 | DG16: 0 | DH16: 0 | DI16: 0 | DJ16: 4984 | DK16: 1.9399488 | DL16: 4984 | DM16: 1.9399488 | DN16: 0 | DO16: 0 | DP16: Yilan County | DQ16: 宜蘭縣 | DR16: 54032 | DS16: 1.476064 | DT16: 41932 | DU16: 1.5207145 | DV16: 12100 | DW16: 1.3397434 | DX16: 6105 | DY16: 1.4493201 | DZ16: 4533 | EA16: 1.4526798 | EB16: 1572 | EC16: 1.4397187 | ED16: 47927 | EE16: 1.4795417 | EF16: 37399 | EG16: 1.5293963 | EH16: 10528 | EI16: 1.3259947 | EJ16: Yilan County
A17: 金門縣 | B17: 66350 | C17: 0.27692019 | D17: 45420 | E17: 0.2768088 | F17: 20930 | G17: 0.27716223 | H17: 24514 | I17: 0.16633007 | J17: 15942 | K17: 0.16330655 | L17: 8572 | M17: 0.17226148 | N17: 4146 | O17: 0.35565941 | P17: 2680 | Q17: 0.36498537 | R17: 1466 | S17: 0.3397876 | T17: Kinmen County | U17: 金門縣 | V17: 11362 | W17: 0.094831389 | X17: 7190 | Y17: 0.092217616 | Z17: 4172 | AA17: 0.099701517 | AB17: 7740 | AC17: 0.87928167 | AD17: 4989 | AE17: 0.79729345 | AF17: 2751 | AG17: 1.0808496 | AH17: 1168 | AI17: 0.18137744 | AJ17: 1004 | AK17: 0.18325816 | AL17: 164 | AM17: 0.17065557 | AN17: Kinmen County | AO17: 金門縣 | AP17: 98 | AQ17: 0.14637134 | AR17: 79 | AS17: 0.13773865 | AT17: 19 | AU17: 0.19795791 | AV17: 4824 | AW17: 0.14105408 | AX17: 3131 | AY17: 0.13761718 | AZ17: 1693 | BA17: 0.14788441 | BB17: 4824 | BC17: 0.141078 | BD17: 3131 | BE17: 0.13765045 | BF17: 1693 | BG17: 0.14788829 | BH17: Kinmen County | BI17: 金門縣 | BJ17: 0 | BK17: 0 | BL17: 0 | BM17: 0 | BN17: 0 | BO17: 0 | BP17: 15168 | BQ17: 0.85082036 | BR17: 9367 | BS17: 0.74617057 | BT17: 5801 | BU17: 1.0999096 | BV17: 3827 | BW17: 0.29393625 | BX17: 3282 | BY17: 0.34341356 | BZ17: 545 | CA17: 0.15738527 | CB17: Kinmen County | CC17: 金門縣 | CD17: 11341 | CE17: 2.3589389 | CF17: 6085 | CG17: 2.0307431 | CH17: 5256 | CI17: 2.9018954 | CJ17: 0 | CK17: 0 | CL17: 0 | CM17: 0 | CN17: 0 | CO17: 0 | CP17: 0 | CQ17: 0 | CR17: 0 | CS17: 0 | CT17: 0 | CU17: 0 | CV17: Kinmen County | CW17: 金門縣 | CX17: 0 | CY17: 0 | CZ17: 0 | DA17: 0 | DB17: 0 | DC17: 0 | DD17: 0 | DE17: 0 | DF17: 0 | DG17: 0 | DH17: 0 | DI17: 0 | DJ17: 309 | DK17: 0.12027371 | DL17: 309 | DM17: 0.12027371 | DN17: 0 | DO17: 0 | DP17: Kinmen County | DQ17: 金門縣 | DR17: 21535 | DS17: 0.58830022 | DT17: 16671 | DU17: 0.60459391 | DV17: 4864 | DW17: 0.53855472 | DX17: 8286 | DY17: 1.967087 | DZ17: 6073 | EA17: 1.9461999 | EB17: 2213 | EC17: 2.0267795 | ED17: 13249 | EE17: 0.40900635 | EF17: 10598 | EG17: 0.43339506 | EH17: 2651 | EI17: 0.33389171 | EJ17: Kinmen County
A18: 連江縣 | B18: 7780 | C18: 0.032470823 | D18: 5261 | E18: 0.032062772 | F18: 2519 | G18: 0.033357461 | H18: 4734 | I18: 0.032120688 | J18: 3102 | K18: 0.031776246 | L18: 1632 | M18: 0.032796399 | N18: 1161 | O18: 0.099594929 | P18: 772 | Q18: 0.10513758 | R18: 389 | S18: 0.090161921 | T18: Lienchiang County | U18: 連江縣 | V18: 1734 | W18: 0.014472595 | X18: 1134 | Y18: 0.014544475 | Z18: 600 | AA18: 0.014338665 | AB18: 1626 | AC18: 0.18471731 | AD18: 1000 | AE18: 0.15981027 | AF18: 626 | AG18: 0.24595123 | AH18: 211 | AI18: 0.032765959 | AJ18: 194 | AK18: 0.035410442 | AL18: 17 | AM18: 0.017689906 | AN18: Lienchiang County | AO18: 連江縣 | AP18: 2 | AQ18: 0.0029871701 | AR18: 2 | AS18: 0.0034870543 | AT18: 0 | AU18: 0 | AV18: 646 | AW18: 0.018889082 | AX18: 373 | AY18: 0.016394509 | AZ18: 273 | BA18: 0.023846689 | BB18: 646 | BC18: 0.018892286 | BD18: 373 | BE18: 0.016398473 | BF18: 273 | BG18: 0.023847314 | BH18: Lienchiang County | BI18: 連江縣 | BJ18: 0 | BK18: 0 | BL18: 0 | BM18: 0 | BN18: 0 | BO18: 0 | BP18: 690 | BQ18: 0.038704249 | BR18: 395 | BS18: 0.031465504 | BT18: 295 | BU18: 0.055934032 | BV18: 60 | BW18: 0.0046083551 | BX18: 56 | BY18: 0.0058595855 | BZ18: 4 | CA18: 0.0011551212 | CB18: Lienchiang County | CC18: 連江縣 | CD18: 630 | CE18: 0.13104061 | CF18: 339 | CG18: 0.11313425 | CH18: 291 | CI18: 0.1606643 | CJ18: 0 | CK18: 0 | CL18: 0 | CM18: 0 | CN18: 0 | CO18: 0 | CP18: 0 | CQ18: 0 | CR18: 0 | CS18: 0 | CT18: 0 | CU18: 0 | CV18: Lienchiang County | CW18: 連江縣 | CX18: 0 | CY18: 0 | CZ18: 0 | DA18: 0 | DB18: 0 | DC18: 0 | DD18: 0 | DE18: 0 | DF18: 0 | DG18: 0 | DH18: 0 | DI18: 0 | DJ18: 94 | DK18: 0.036588119 | DL18: 94 | DM18: 0.036588119 | DN18: 0 | DO18: 0 | DP18: Lienchiang County | DQ18: 連江縣 | DR18: 1616 | DS18: 0.04414642 | DT18: 1297 | DU18: 0.047037269 | DV18: 319 | DW18: 0.035320509 | DX18: 287 | DY18: 0.068133475 | DZ18: 195 | EA18: 0.062491187 | EB18: 92 | EC18: 0.084258343 | ED18: 1329 | EE18: 0.041027205 | EF18: 1102 | EG18: 0.045065234 | EH18: 227 | EI18: 0.028590501 | EJ18: Lienchiang County
A19: 北區業務組 | B19: 4045971 | C19: 16.886376 | D19: 2732269 | E19: 16.651609 | F19: 1313702 | G19: 17.396492 | H19: 2742186 | I19: 18.60602 | J19: 1796943 | K19: 18.407512 | L19: 945243 | M19: 18.995445 | N19: 148105 | O19: 12.705002 | P19: 84663 | Q19: 11.530133 | R19: 63442 | S19: 14.704505 | T19: Northern Division | U19: 北區業務組 | V19: 2338970 | W19: 19.521895 | X19: 1520952 | Y19: 19.50745 | Z19: 818018 | AA19: 19.54881 | AB19: 150278 | AC19: 17.071924 | AD19: 103996 | AE19: 16.619629 | AF19: 46282 | AG19: 18.18389 | AH19: 95207 | AI19: 14.784591 | AJ19: 79259 | AK19: 14.466991 | AL19: 15948 | AM19: 16.595213 | AN19: Northern Division | AO19: 北區業務組 | AP19: 9626 | AQ19: 14.37725 | AR19: 8073 | AS19: 14.075495 | AT19: 1553 | AU19: 16.180454 | AV19: 462818 | AW19: 13.532829 | AX19: 296360 | AY19: 13.025943 | AZ19: 166458 | BA19: 14.540191 | BB19: 462818 | BC19: 13.535124 | BD19: 296360 | BE19: 13.029093 | BF19: 166458 | BG19: 14.540572 | BH19: Northern Division | BI19: 北區業務組 | BJ19: 0 | BK19: 0 | BL19: 0 | BM19: 0 | BN19: 0 | BO19: 0 | BP19: 191447 | BQ19: 10.738859 | BR19: 132201 | BS19: 10.531066 | BT19: 59246 | BU19: 11.23345 | BV19: 163429 | BW19: 12.552314 | BX19: 117370 | BY19: 12.281063 | BZ19: 46059 | CA19: 13.300932 | CB19: Northern Division | CC19: 北區業務組 | CD19: 28018 | CE19: 5.827771 | CF19: 14831 | CG19: 4.9495401 | CH19: 13187 | CI19: 7.2806877 | CJ19: 54366 | CK19: 53.492994 | CL19: 54366 | CM19: 53.492994 | CN19: 0 | CO19: 0 | CP19: 3 | CQ19: 0.0075133362 | CR19: 3 | CS19: 0.0075133362 | CT19: 0 | CU19: 0 | CV19: Northern Division | CW19: 北區業務組 | CX19: 0 | CY19: 0 | CZ19: 0 | DA19: 0 | DB19: 0 | DC19: 0 | DD19: 54363 | DE19: 99.389363 | DF19: 54363 | DG19: 99.389363 | DH19: 0 | DI19: 0 | DJ19: 39829 | DK19: 15.502853 | DL19: 39829 | DM19: 15.502853 | DN19: 0 | DO19: 0 | DP19: Northern Division | DQ19: 北區業務組 | DR19: 555325 | DS19: 15.170551 | DT19: 412570 | DU19: 14.962348 | DV19: 142755 | DW19: 15.806204 | DX19: 71985 | DY19: 17.089158 | DZ19: 54003 | EA19: 17.306213 | EB19: 17982 | EC19: 16.468843 | ED19: 483340 | EE19: 14.92106 | EF19: 358567 | EG19: 14.663254 | EH19: 124773 | EI19: 15.715077 | EJ19: Northern Division
A20: 桃園市 | B20: 2272337 | C20: 9.4838884 | D20: 1542657 | E20: 9.4016079 | F20: 729680 | G20: 9.6626725 | H20: 1523406 | I20: 10.33647 | J20: 994587 | K20: 10.188343 | L20: 528819 | M20: 10.627058 | N20: 84400 | O20: 7.2401482 | P20: 49701 | Q20: 6.7687082 | R20: 34699 | S20: 8.0424897 | T20: Taoyuan City | U20: 桃園市 | V20: 1284036 | W20: 10.717032 | X20: 828153 | Y20: 10.621738 | Z20: 455883 | AA20: 10.894589 | AB20: 87063 | AC20: 9.8905556 | AD20: 60240 | AE20: 9.6269709 | AF20: 26823 | AG20: 10.538578 | AH20: 61830 | AI20: 9.6015131 | AJ20: 51451 | AK20: 9.3912507 | AL20: 10379 | AM20: 10.800208 | AN20: Taoyuan City | AO20: 桃園市 | AP20: 6077 | AQ20: 9.0765164 | AR20: 5042 | AS20: 8.7908639 | AT20: 1035 | AU20: 10.783497 | AV20: 243582 | AW20: 7.1223536 | AX20: 156176 | AY20: 6.8644205 | AZ20: 87406 | BA20: 7.6349587 | BB20: 243582 | BC20: 7.1235617 | BD20: 156176 | BE20: 6.8660803 | BF20: 87406 | BG20: 7.6351588 | BH20: Taoyuan City | BI20: 桃園市 | BJ20: 0 | BK20: 0 | BL20: 0 | BM20: 0 | BN20: 0 | BO20: 0 | BP20: 63703 | BQ20: 3.5732997 | BR20: 44387 | BS20: 3.5358464 | BT20: 19316 | BU20: 3.6624466 | BV20: 60403 | BW20: 4.6393079 | BX20: 42653 | BY20: 4.4630161 | BZ20: 17750 | CA20: 5.1258505 | CB20: Taoyuan City | CC20: 桃園市 | CD20: 3300 | CE20: 0.68640318 | CF20: 1734 | CG20: 0.57868671 | CH20: 1566 | CI20: 0.86460582 | CJ20: 54366 | CK20: 53.492994 | CL20: 54366 | CM20: 53.492994 | CN20: 0 | CO20: 0 | CP20: 3 | CQ20: 0.0075133362 | CR20: 3 | CS20: 0.0075133362 | CT20: 0 | CU20: 0 | CV20: Taoyuan City | CW20: 桃園市 | CX20: 0 | CY20: 0 | CZ20: 0 | DA20: 0 | DB20: 0 | DC20: 0 | DD20: 54363 | DE20: 99.389363 | DF20: 54363 | DG20: 99.389363 | DH20: 0 | DI20: 0 | DJ20: 27526 | DK20: 10.714091 | DL20: 27526 | DM20: 10.714091 | DN20: 0 | DO20: 0 | DP20: Taoyuan City | DQ20: 桃園市 | DR20: 359754 | DS20: 9.8278781 | DT20: 265615 | DU20: 9.6328482 | DV20: 94139 | DW20: 10.423315 | DX20: 50721 | DY20: 12.041108 | DZ20: 38328 | EA20: 12.282883 | EB20: 12393 | EC20: 11.350148 | ED20: 309033 | EE20: 9.5400755 | EF20: 227287 | EG20: 9.2946841 | EH20: 81746 | EI20: 10.295855 | EJ20: Taoyuan City
A21: 新竹市 | B21: 756060 | C21: 3.1555129 | D21: 503256 | E21: 3.0670561 | F21: 252804 | G21: 3.3477172 | H21: 590608 | I21: 4.0073374 | J21: 391552 | K21: 4.0109777 | L21: 199056 | M21: 4.0001961 | N21: 21706 | O21: 1.862022 | P21: 11309 | Q21: 1.5401566 | R21: 10397 | S21: 2.4098033 | T21: Hsinchu City | U21: 新竹市 | V21: 535617 | W21: 4.4704545 | X21: 355841 | Y21: 4.5639511 | Z21: 179776 | AA21: 4.2962464 | AB21: 20825 | AC21: 2.3657675 | AD21: 14058 | AE21: 2.2466128 | AF21: 6767 | AG21: 2.6587093 | AH21: 11202 | AI21: 1.7395463 | AJ21: 9263 | AK21: 1.6907573 | AL21: 1939 | AM21: 2.0176899 | AN21: Hsinchu City | AO21: 新竹市 | AP21: 1258 | AQ21: 1.87893 | AR21: 1081 | AS21: 1.8847529 | AT21: 177 | AU21: 1.8441342 | AV21: 86739 | AW21: 2.536254 | AX21: 54569 | AY21: 2.3984771 | AZ21: 32170 | BA21: 2.8100659 | BB21: 86739 | BC21: 2.5366842 | BD21: 54569 | BE21: 2.3990571 | BF21: 32170 | BG21: 2.8101396 | BH21: Hsinchu City | BI21: 新竹市 | BJ21: 0 | BK21: 0 | BL21: 0 | BM21: 0 | BN21: 0 | BO21: 0 | BP21: 15169 | BQ21: 0.85087645 | BR21: 8480 | BS21: 0.67551259 | BT21: 6689 | BU21: 1.2682805 | BV21: 3890 | BW21: 0.29877502 | BX21: 2696 | BY21: 0.28209719 | BZ21: 1194 | CA21: 0.34480369 | CB21: Hsinchu City | CC21: 新竹市 | CD21: 11279 | CE21: 2.3460429 | CF21: 5784 | CG21: 1.9302906 | CH21: 5495 | CI21: 3.0338499 | CJ21: 0 | CK21: 0 | CL21: 0 | CM21: 0 | CN21: 0 | CO21: 0 | CP21: 0 | CQ21: 0 | CR21: 0 | CS21: 0 | CT21: 0 | CU21: 0 | CV21: Hsinchu City | CW21: 新竹市 | CX21: 0 | CY21: 0 | CZ21: 0 | DA21: 0 | DB21: 0 | DC21: 0 | DD21: 0 | DE21: 0 | DF21: 0 | DG21: 0 | DH21: 0 | DI21: 0 | DJ21: 3533 | DK21: 1.3751683 | DL21: 3533 | DM21: 1.3751683 | DN21: 0 | DO21: 0 | DP21: Hsinchu City | DQ21: 新竹市 | DR21: 60011 | DS21: 1.6394002 | DT21: 45122 | DU21: 1.6364037 | DV21: 14889 | DW21: 1.6485488 | DX21: 8134 | DY21: 1.9310024 | DZ21: 6090 | EA21: 1.9516478 | EB21: 2044 | EC21: 1.8720006 | ED21: 51877 | EE21: 1.6014811 | EF21: 39032 | EG21: 1.5961762 | EH21: 12845 | EI21: 1.6178193 | EJ21: Hsinchu City
A22: 新竹縣 | B22: 580025 | C22: 2.4208083 | D22: 385269 | E22: 2.3479931 | F22: 194756 | G22: 2.5790257 | H22: 401740 | I22: 2.7258482 | J22: 261304 | K22: 2.6767441 | L22: 140436 | M22: 2.8221784 | N22: 22755 | O22: 1.9520091 | P22: 12172 | Q22: 1.6576873 | R22: 10583 | S22: 2.4529142 | T22: Hsinchu County | U22: 新竹縣 | V22: 341196 | W22: 2.847746 | X22: 221166 | Y22: 2.8366344 | Z22: 120030 | AA22: 2.8684499 | AB22: 23069 | AC22: 2.6206911 | AD22: 15891 | AE22: 2.5395451 | AF22: 7178 | AG22: 2.8201884 | AH22: 13376 | AI22: 2.0771444 | AJ22: 10973 | AK22: 2.0028803 | AL22: 2403 | AM22: 2.5005203 | AN22: Hsinchu County | AO22: 新竹縣 | AP22: 1344 | AQ22: 2.0073783 | AR22: 1102 | AS22: 1.9213669 | AT22: 242 | AU22: 2.5213586 | AV22: 71507 | AW22: 2.0908694 | AX22: 44751 | AY22: 1.9669455 | AZ22: 26756 | BA22: 2.3371503 | BB22: 71507 | BC22: 2.091224 | BD22: 44751 | BE22: 1.9674211 | BF22: 26756 | BG22: 2.3372115 | BH22: Hsinchu County | BI22: 新竹縣 | BJ22: 0 | BK22: 0 | BL22: 0 | BM22: 0 | BN22: 0 | BO22: 0 | BP22: 32551 | BQ22: 1.825887 | BR22: 23413 | BS22: 1.865068 | BT22: 9138 | BU22: 1.7326277 | BV22: 32551 | BW22: 2.5001094 | BX22: 23413 | BY22: 2.4498299 | BZ22: 9138 | CA22: 2.6388744 | CB22: Hsinchu County | CC22: 新竹縣 | CD22: 0 | CE22: 0 | CF22: 0 | CG22: 0 | CH22: 0 | CI22: 0 | CJ22: 0 | CK22: 0 | CL22: 0 | CM22: 0 | CN22: 0 | CO22: 0 | CP22: 0 | CQ22: 0 | CR22: 0 | CS22: 0 | CT22: 0 | CU22: 0 | CV22: Hsinchu County | CW22: 新竹縣 | CX22: 0 | CY22: 0 | CZ22: 0 | DA22: 0 | DB22: 0 | DC22: 0 | DD22: 0 | DE22: 0 | DF22: 0 | DG22: 0 | DH22: 0 | DI22: 0 | DJ22: 3996 | DK22: 1.5553843 | DL22: 3996 | DM22: 1.5553843 | DN22: 0 | DO22: 0 | DP22: Hsinchu County | DQ22: 新竹縣 | DR22: 70231 | DS22: 1.9185936 | DT22: 51805 | DU22: 1.8787708 | DV22: 18426 | DW22: 2.0401746 | DX22: 6575 | DY22: 1.5608976 | DZ22: 4758 | EA22: 1.524785 | EB22: 1817 | EC22: 1.6641023 | ED22: 63656 | EE22: 1.9651074 | EF22: 47047 | EG22: 1.923942 | EH22: 16609 | EI22: 2.0918926 | EJ22: Hsinchu County
... A39: 臺東縣 | B39: 171693 | C39: 0.71658264 | D39: 124023 | E39: 0.75584891 | F39: 47670 | G39: 0.63126247 | H39: 61902 | I39: 0.42001158 | J39: 41929 | K39: 0.429512 | L39: 19973 | M39: 0.40137407 | N39: 13563 | O39: 1.1634849 | P39: 9002 | Q39: 1.2259695 | R39: 4561 | S39: 1.0571427 | T39: Taitung County | U39: 臺東縣 | V39: 33516 | W39: 0.27973674 | X39: 21968 | Y39: 0.28175752 | Z39: 11548 | AA39: 0.2759715 | AB39: 11232 | AC39: 1.2759808 | AD39: 7785 | AE39: 1.244123 | AF39: 3447 | AG39: 1.3543034 | AH39: 3223 | AI39: 0.50049615 | AJ39: 2852 | AK39: 0.52057 | AL39: 371 | AM39: 0.38605619 | AN39: Taitung County | AO39: 臺東縣 | AP39: 368 | AQ39: 0.5496393 | AR39: 322 | AS39: 0.56141574 | AT39: 46 | AU39: 0.47926651 | AV39: 21929 | AW39: 0.64120539 | AX39: 14793 | AY39: 0.65019832 | AZ39: 7136 | BA39: 0.62333324 | BB39: 21929 | BC39: 0.64131415 | BD39: 14793 | BE39: 0.65035553 | BF39: 7136 | BG39: 0.62334958 | BH39: Taitung County | BI39: 臺東縣 | BJ39: 0 | BK39: 0 | BL39: 0 | BM39: 0 | BN39: 0 | BO39: 0 | BP39: 35905 | BQ39: 2.0140233 | BR39: 26555 | BS39: 2.1153581 | BT39: 9350 | BU39: 1.7728244 | BV39: 29578 | BW39: 2.2717655 | BX39: 22276 | BY39: 2.3308594 | BZ39: 7302 | CA39: 2.1086738 | CB39: Taitung County | CC39: 臺東縣 | CD39: 6327 | CE39: 1.3160221 | CF39: 4279 | CG39: 1.4280279 | CH39: 2048 | CI39: 1.1307233 | CJ39: 0 | CK39: 0 | CL39: 0 | CM39: 0 | CN39: 0 | CO39: 0 | CP39: 0 | CQ39: 0 | CR39: 0 | CS39: 0 | CT39: 0 | CU39: 0 | CV39: Taitung County | CW39: 臺東縣 | CX39: 0 | CY39: 0 | CZ39: 0 | DA39: 0 | DB39: 0 | DC39: 0 | DD39: 0 | DE39: 0 | DF39: 0 | DG39: 0 | DH39: 0 | DI39: 0 | DJ39: 6186 | DK39: 2.4078096 | DL39: 6186 | DM39: 2.4078096 | DN39: 0 | DO39: 0 | DP39: Taitung County | DQ39: 臺東縣 | DR39: 45771 | DS39: 1.2503872 | DT39: 34560 | DU39: 1.2533601 | DV39: 11211 | DW39: 1.241311 | DX39: 5561 | DY39: 1.3201751 | DZ39: 4018 | EA39: 1.2876389 | EB39: 1543 | EC39: 1.413159 | ED39: 40210 | EE39: 1.2413122 | EF39: 30542 | EG39: 1.2489858 | EH39: 9668 | EI39: 1.2176782 | EJ39: Taitung County
A40: 備註：本表縣市別係按保險對象所屬投保單位的通訊地址統計。 | K40: Note：The locales were determined by the mailing addresses of the group insurance applicants to which the
K41: beneficiaries belong.

Sheet 112
A1: 保險對象人數－按保險對象類目及縣市別分 | K1: Beneficiaries by Beneficiary Category, | U1: 保險對象人數－按保險對象類目及縣市別分（續一） | AE1: Beneficiaries by Beneficiary Category, | AO1: 保險對象人數－按保險對象類目及縣市別分（續二） | AY1: Beneficiaries by Beneficiary Category, | BI1: 保險對象人數－按保險對象類目及縣市別分（續三） | BS1: Beneficiaries by Beneficiary Category, | CC1: 保險對象人數－按保險對象類目及縣市別分（續四） | CM1: Beneficiaries by Beneficiary Category, | CW1: 保險對象人數－按保險對象類目及縣市別分（續五） | DG1: Beneficiaries by Beneficiary Category, | DQ1: 保險對象人數－按保險對象類目及縣市別分（續完） | EA1: Beneficiaries by Beneficiary Category,
K2: NHI Regional Division and Locale | AE2: NHI Regional Division and Locale（Cont'd 1） | AY2: NHI Regional Division and Locale（Cont'd 2） | BS2: NHI Regional Division and Locale（Cont'd 3） | CM2: NHI Regional Division and Locale（Cont'd 4） | DG2: NHI Regional Division and Locale（Cont'd 5） | EA2: NHI Regional Division and Locale（Cont'd）
A3: 中華民國112年底 | K3: End of 2023 | U3: 中華民國112年底 | AE3: End of 2023 | AO3: 中華民國112年底 | AY3: End of 2023 | BI3: 中華民國112年底 | BS3: End of 2023 | CC3: 中華民國112年底 | CM3: End of 2023 | CW3: 中華民國112年底 | DG3: End of 2023 | DQ3: 中華民國112年底 | EA3: End of 2023
A4: 單位：人 | T4: Unit：Persons | U4: 單位：人 | AN4: Unit：Persons | AO4: 單位：人 | BH4: Unit：Persons | BI4: 單位：人 | CB4: Unit：Persons | CC4: 單位：人 | CV4: Unit：Persons | CW4: 單位：人 | DP4: Unit：Persons | DQ4: 單位：人 | EJ4: Unit：Persons
A5: 業務組 縣市別 | B5: 總計 Grand Total | H5: 第一類 | K5: Category 1 | T5: Division & Locale | U5: 業務組 縣市別 | V5: 第一類 | AE5: Category 1 | AN5: Division & Locale | AO5: 業務組 縣市別 | AP5: 第一類 Category 1 | AV5: 第二類 | AY5: Category 2 | BH5: Division & Locale | BI5: 業務組 縣市別 | BJ5: 第二類 Category 2 | BP5: 第三類 | BS5: Category 3 | CB5: Division & Locale | CC5: 業務組 縣市別 | CD5: 第三類 Category 3 | CJ5: 第四類 | CM5: Category 4 | CV5: Division & Locale | CW5: 業務組 縣市別 | CX5: 第四類 | DG5: Category 4 | DJ5: 第五類 Category 5 | DP5: Division & Locale | DQ5: 業務組 縣市別 | DR5: 第六類 | EA5: Category 6 | EJ5: Division & Locale
B7: 保險對象Beneficiaries | D7: 被保險人Insureds | F7: 眷屬Dependents | H7: 合計 | K7: Total | N7: 第一目 Item 1 | V7: 第二目 Item 2 | AB7: 第三目 | AE7: Item 3 | AH7: 第四目 Item 4 | AP7: 第五目 Item 5 | AV7: 合計 | AY7: Total | BB7: 第一目 Item 1 | BJ7: 第二目 Item 2 | BP7: 合計 | BS7: Total | BV7: 第一目 Item 1 | CD7: 第二目 Item 2 | CJ7: 合計 | CM7: Total | CP7: 第一目 Item 1 | CX7: 第二目 Item 2 | DD7: 第三目 | DG7: Item 3 | DR7: 合計 Total | DX7: 第一目 | EA7: Item 1 | ED7: 第二目 Item 2
H8: 保險對象Beneficiaries | J8: 被保險人Insureds | L8: 眷屬Dependents | N8: 保險對象Beneficiaries | P8: 被保險人Insureds | R8: 眷屬Dependents | V8: 保險對象Beneficiaries | X8: 被保險人Insureds | Z8: 眷屬Dependents | AB8: 保險對象Beneficiaries | AD8: 被保險人Insureds | AF8: 眷屬Dependents | AH8: 保險對象Beneficiaries | AJ8: 被保險人Insureds | AL8: 眷屬Dependents | AP8: 保險對象Beneficiaries | AR8: 被保險人Insureds | AT8: 眷屬Dependents | AV8: 保險對象Beneficiaries | AX8: 被保險人Insureds | AZ8: 眷屬Dependents | BB8: 保險對象Beneficiaries | BD8: 被保險人Insureds | BF8: 眷屬Dependents | BJ8: 保險對象Beneficiaries | BL8: 被保險人Insureds | BN8: 眷屬Dependents | BP8: 保險對象Beneficiaries | BR8: 被保險人Insureds | BT8: 眷屬Dependents | BV8: 保險對象Beneficiaries | BX8: 被保險人Insureds | BZ8: 眷屬Dependents | CD8: 保險對象Beneficiaries | CF8: 被保險人Insureds | CH8: 眷屬Dependents | CJ8: 保險對象Beneficiaries | CL8: 被保險人Insureds | CN8: 眷屬Dependents | CP8: 保險對象Beneficiaries | CR8: 被保險人Insureds | CT8: 眷屬Dependents | CX8: 保險對象Beneficiaries | CZ8: 被保險人Insureds | DB8: 眷屬Dependents | DD8: 保險對象Beneficiaries | DF8: 被保險人Insureds | DH8: 眷屬Dependents | DJ8: 保險對象Beneficiaries | DL8: 被保險人Insureds | DN8: 眷屬Dependents | DR8: 保險對象Beneficiaries | DT8: 被保險人Insureds | DV8: 眷屬Dependents | DX8: 保險對象Beneficiaries | DZ8: 被保險人Insureds | EB8: 眷屬Dependents | ED8: 保險對象Beneficiaries | EF8: 被保險人Insureds | EH8: 眷屬Dependents
C9: 百分比 | E9: 百分比 | G9: 百分比 | I9: 百分比 | K9: 百分比 | M9: 百分比 | O9: 百分比 | Q9: 百分比 | S9: 百分比 | W9: 百分比 | Y9: 百分比 | AA9: 百分比 | AC9: 百分比 | AE9: 百分比 | AG9: 百分比 | AI9: 百分比 | AK9: 百分比 | AM9: 百分比 | AQ9: 百分比 | AS9: 百分比 | AU9: 百分比 | AW9: 百分比 | AY9: 百分比 | BA9: 百分比 | BC9: 百分比 | BE9: 百分比 | BG9: 百分比 | BK9: 百分比 | BM9: 百分比 | BO9: 百分比 | BQ9: 百分比 | BS9: 百分比 | BU9: 百分比 | BW9: 百分比 | BY9: 百分比 | CA9: 百分比 | CE9: 百分比 | CG9: 百分比 | CI9: 百分比 | CK9: 百分比 | CM9: 百分比 | CO9: 百分比 | CQ9: 百分比 | CS9: 百分比 | CU9: 百分比 | CY9: 百分比 | DA9: 百分比 | DC9: 百分比 | DE9: 百分比 | DG9: 百分比 | DI9: 百分比 | DK9: 百分比 | DM9: 百分比 | DO9: 百分比 | DS9: 百分比 | DU9: 百分比 | DW9: 百分比 | DY9: 百分比 | EA9: 百分比 | EC9: 百分比 | EE9: 百分比 | EG9: 百分比 | EI9: 百分比
C10: % | E10: % | G10: % | I10: % | K10: % | M10: % | O10: % | Q10: % | S10: % | W10: % | Y10: % | AA10: % | AC10: % | AE10: % | AG10: % | AI10: % | AK10: % | AM10: % | AQ10: % | AS10: % | AU10: % | AW10: % | AY10: % | BA10: % | BC10: % | BE10: % | BG10: % | BK10: % | BM10: % | BO10: % | BQ10: % | BS10: % | BU10: % | BW10: % | BY10: % | CA10: % | CE10: % | CG10: % | CI10: % | CK10: % | CM10: % | CO10: % | CQ10: % | CS10: % | CU10: % | CY10: % | DA10: % | DC10: % | DE10: % | DG10: % | DI10: % | DK10: % | DM10: % | DO10: % | DS10: % | DU10: % | DW10: % | DY10: % | EA10: % | EC10: % | EE10: % | EG10: % | EI10: %
A11: 總 計 | B11: 23882516 | C11: 100 | D11: 16283451 | E11: 100 | F11: 7599065 | G11: 100 | H11: 14555701 | I11: 100 | J11: 9591555 | K11: 100 | L11: 4964146 | M11: 100 | N11: 1181268 | O11: 100 | P11: 741135 | Q11: 100 | R11: 440133 | S11: 100 | T11: Grand Total | U11: 總 計 | V11: 11833356 | W11: 100 | X11: 7661295 | Y11: 100 | Z11: 4172061 | AA11: 100 | AB11: 847205 | AC11: 100 | AD11: 597326 | AE11: 100 | AF11: 249879 | AG11: 100 | AH11: 628450 | AI11: 100 | AJ11: 535829 | AK11: 100 | AL11: 92621 | AM11: 100 | AN11: Grand Total | AO11: 總 計 | AP11: 65422 | AQ11: 100 | AR11: 55970 | AS11: 100 | AT11: 9452 | AU11: 100 | AV11: 3497533 | AW11: 100 | AX11: 2319194 | AY11: 100 | AZ11: 1178339 | BA11: 100 | BB11: 3496950 | BC11: 100 | BD11: 2318640 | BE11: 100 | BF11: 1178310 | BG11: 100 | BH11: Grand Total | BI11: 總 計 | BJ11: 583 | BK11: 100 | BL11: 554 | BM11: 100 | BN11: 29 | BO11: 100 | BP11: 1857732 | BQ11: 100 | BR11: 1299584 | BS11: 100 | BT11: 558148 | BU11: 100 | BV11: 1366604 | BW11: 100 | BX11: 997222 | BY11: 100 | BZ11: 369382 | CA11: 100 | CB11: Grand Total | CC11: 總 計 | CD11: 491128 | CE11: 100 | CF11: 302362 | CG11: 100 | CH11: 188766 | CI11: 100 | CJ11: 98361 | CK11: 100 | CL11: 98361 | CM11: 100 | CN11: 0 | CO11: 0 | CP11: 40156 | CQ11: 100 | CR11: 40156 | CS11: 100 | CT11: 0 | CU11: 0 | CV11: Grand Total | CW11: 總 計 | CX11: 5656 | CY11: 100 | CZ11: 5656 | DA11: 100 | DB11: 0 | DC11: 0 | DD11: 52549 | DE11: 100 | DF11: 52549 | DG11: 100 | DH11: 0 | DI11: 0 | DJ11: 273097 | DK11: 100 | DL11: 273097 | DM11: 100 | DN11: 0 | DO11: 0 | DP11: Grand Total | DQ11: 總 計 | DR11: 3600092 | DS11: 100 | DT11: 2701660 | DU11: 100 | DV11: 898432 | DW11: 100 | DX11: 427033 | DY11: 100 | DZ11: 314948 | EA11: 100 | EB11: 112085 | EC11: 100 | ED11: 3173059 | EE11: 100 | EF11: 2386712 | EG11: 100 | EH11: 786347 | EI11: 100 | EJ11: Grand Total
A12: 臺北業務組 | B12: 8989169 | C12: 37.639121 | D12: 6102312 | E12: 37.475545 | F12: 2886857 | G12: 37.989634 | H12: 6109991 | I12: 41.976618 | J12: 4049029 | K12: 42.214521 | L12: 2060962 | M12: 41.51695 | N12: 572406 | O12: 48.456912 | P12: 377799 | Q12: 50.975733 | R12: 194607 | S12: 44.215498 | T12: Taipei Division | U12: 臺北業務組 | V12: 4960833 | W12: 41.922452 | X12: 3227873 | Y12: 42.132211 | Z12: 1732960 | AA12: 41.537264 | AB12: 310978 | AC12: 36.706346 | AD12: 221798 | AE12: 37.131817 | AF12: 89180 | AG12: 35.689274 | AH12: 241334 | AI12: 38.401464 | AJ12: 201060 | AK12: 37.523165 | AL12: 40274 | AM12: 43.48258 | AN12: Taipei Division | AO12: 臺北業務組 | AP12: 24440 | AQ12: 37.357464 | AR12: 20499 | AS12: 36.624978 | AT12: 3941 | AU12: 41.694879 | AV12: 1248382 | AW12: 35.693216 | AX12: 822029 | AY12: 35.444598 | AZ12: 426353 | BA12: 36.182542 | BB12: 1247954 | BC12: 35.686927 | BD12: 821623 | BE12: 35.435557 | BF12: 426331 | BG12: 36.181565 | BH12: Taipei Division | BI12: 臺北業務組 | BJ12: 428 | BK12: 73.413379 | BL12: 406 | BM12: 73.285199 | BN12: 22 | BO12: 75.862069 | BP12: 184727 | BQ12: 9.943684 | BR12: 119162 | BS12: 9.1692418 | BT12: 65565 | BU12: 11.746884 | BV12: 88913 | BW12: 6.5061276 | BX12: 63425 | BY12: 6.3601685 | BZ12: 25488 | CA12: 6.9001738 | CB12: Taipei Division | CC12: 臺北業務組 | CD12: 95814 | CE12: 19.508967 | CF12: 55737 | CG12: 18.433864 | CH12: 40077 | CI12: 21.231048 | CJ12: 40454 | CK12: 41.128089 | CL12: 40454 | CM12: 41.128089 | CN12: 0 | CO12: 0 | CP12: 40156 | CQ12: 100 | CR12: 40156 | CS12: 100 | CT12: 0 | CU12: 0 | CV12: Taipei Division | CW12: 臺北業務組 | CX12: 0 | CY12: 0 | CZ12: 0 | DA12: 0 | DB12: 0 | DC12: 0 | DD12: 298 | DE12: 0.56708976 | DF12: 298 | DG12: 0.56708976 | DH12: 0 | DI12: 0 | DJ12: 79820 | DK12: 29.22771 | DL12: 79820 | DM12: 29.22771 | DN12: 0 | DO12: 0 | DP12: Taipei Division | DQ12: 臺北業務組 | DR12: 1325795 | DS12: 36.826698 | DT12: 991818 | DU12: 36.711429 | DV12: 333977 | DW12: 37.17332 | DX12: 149063 | DY12: 34.90667 | DZ12: 111419 | EA12: 35.376951 | EB12: 37644 | EC12: 33.585225 | ED12: 1176732 | EE12: 37.085097 | EF12: 880399 | EG12: 36.887526 | EH12: 296333 | EI12: 37.684763 | EJ12: Taipei Division
A13: 新北市 | B13: 3348759 | C13: 14.021802 | D13: 2259834 | E13: 13.878102 | F13: 1088925 | G13: 14.329723 | H13: 2090307 | I13: 14.360744 | J13: 1365811 | K13: 14.239724 | L13: 724496 | M13: 14.594575 | N13: 124833 | O13: 10.567712 | P13: 76130 | Q13: 10.272083 | R13: 48703 | S13: 11.065519 | T13: New Taipei City | U13: 新北市 | V13: 1738301 | W13: 14.689839 | X13: 1107796 | Y13: 14.459644 | Z13: 630505 | AA13: 15.112555 | AB13: 95894 | AC13: 11.318866 | AD13: 71214 | AE13: 11.922133 | AF13: 24680 | AG13: 9.8767804 | AH13: 121743 | AI13: 19.371947 | AJ13: 102696 | AK13: 19.165816 | AL13: 19047 | AM13: 20.564451 | AN13: New Taipei City | AO13: 新北市 | AP13: 9536 | AQ13: 14.576136 | AR13: 7975 | AS13: 14.248705 | AT13: 1561 | AU13: 16.515023 | AV13: 501263 | AW13: 14.331902 | AX13: 328966 | AY13: 14.184497 | AZ13: 172297 | BA13: 14.622023 | BB13: 501263 | BC13: 14.334291 | BD13: 328966 | BE13: 14.187886 | BF13: 172297 | BG13: 14.622383 | BH13: New Taipei City | BI13: 新北市 | BJ13: 0 | BK13: 0 | BL13: 0 | BM13: 0 | BN13: 0 | BO13: 0 | BP13: 83243 | BQ13: 4.4808939 | BR13: 53107 | BS13: 4.0864615 | BT13: 30136 | BU13: 5.3992848 | BV13: 38256 | BW13: 2.7993479 | BX13: 27279 | BY13: 2.7354992 | BZ13: 10977 | CA13: 2.9717203 | CB13: New Taipei City | CC13: 新北市 | CD13: 44987 | CE13: 9.1599339 | CF13: 25828 | CG13: 8.5420787 | CH13: 19159 | CI13: 10.149603 | CJ13: 17 | CK13: 0.017283273 | CL13: 17 | CM13: 0.017283273 | CN13: 0 | CO13: 0 | CP13: 17 | CQ13: 0.042334894 | CR13: 17 | CS13: 0.042334894 | CT13: 0 | CU13: 0 | CV13: New Taipei City | CW13: 新北市 | CX13: 0 | CY13: 0 | CZ13: 0 | DA13: 0 | DB13: 0 | DC13: 0 | DD13: 0 | DE13: 0 | DF13: 0 | DG13: 0 | DH13: 0 | DI13: 0 | DJ13: 29553 | DK13: 10.82143 | DL13: 29553 | DM13: 10.82143 | DN13: 0 | DO13: 0 | DP13: New Taipei City | DQ13: 新北市 | DR13: 644376 | DS13: 17.898876 | DT13: 482380 | DU13: 17.854948 | DV13: 161996 | DW13: 18.03097 | DX13: 66751 | DY13: 15.631345 | DZ13: 49678 | EA13: 15.773398 | EB13: 17073 | EC13: 15.23219 | ED13: 577625 | EE13: 18.204042 | EF13: 432702 | EG13: 18.129628 | EH13: 144923 | EI13: 18.429904 | EJ13: New Taipei City
A14: 臺北市 | B14: 4925289 | C14: 20.62299 | D14: 3349245 | E14: 20.568398 | F14: 1576044 | G14: 20.739973 | H14: 3737678 | I14: 25.678447 | J14: 2496637 | K14: 26.029533 | L14: 1241041 | M14: 25.000091 | N14: 407192 | O14: 34.470755 | P14: 276807 | Q14: 37.349066 | R14: 130385 | S14: 29.624 | T14: Taipei City | U14: 臺北市 | V14: 3039842 | W14: 25.688756 | X14: 2001142 | Y14: 26.120153 | Z14: 1038700 | AA14: 24.896568 | AB14: 171813 | AC14: 20.279979 | AD14: 121440 | AE14: 20.330607 | AF14: 50373 | AG14: 20.158957 | AH14: 105615 | AI14: 16.805633 | AJ14: 86202 | AK14: 16.087595 | AL14: 19413 | AM14: 20.95961 | AN14: Taipei City | AO14: 臺北市 | AP14: 13216 | AQ14: 20.201156 | AR14: 11046 | AS14: 19.735573 | AT14: 2170 | AU14: 22.958104 | AV14: 552192 | AW14: 15.788043 | AX14: 362129 | AY14: 15.614433 | AZ14: 190063 | BA14: 16.129739 | BB14: 551974 | BC14: 15.784441 | BD14: 361924 | BE14: 15.609323 | BF14: 190050 | BG14: 16.129032 | BH14: Taipei City | BI14: 臺北市 | BJ14: 218 | BK14: 37.392796 | BL14: 205 | BM14: 37.00361 | BN14: 13 | BO14: 44.827586 | BP14: 7815 | BQ14: 0.42067424 | BR14: 5502 | BS14: 0.42336625 | BT14: 2313 | BU14: 0.41440621 | BV14: 7815 | BW14: 0.57185549 | BX14: 5502 | BY14: 0.55173271 | BZ14: 2313 | CA14: 0.62618103 | CB14: Taipei City | CC14: 臺北市 | CD14: 0 | CE14: 0 | CF14: 0 | CG14: 0 | CH14: 0 | CI14: 0 | CJ14: 40437 | CK14: 41.110806 | CL14: 40437 | CM14: 41.110806 | CN14: 0 | CO14: 0 | CP14: 40139 | CQ14: 99.957665 | CR14: 40139 | CS14: 99.957665 | CT14: 0 | CU14: 0 | CV14: Taipei City | CW14: 臺北市 | CX14: 0 | CY14: 0 | CZ14: 0 | DA14: 0 | DB14: 0 | DC14: 0 | DD14: 298 | DE14: 0.56708976 | DF14: 298 | DG14: 0.56708976 | DH14: 0 | DI14: 0 | DJ14: 40110 | DK14: 14.687089 | DL14: 40110 | DM14: 14.687089 | DN14: 0 | DO14: 0 | DP14: Taipei City | DQ14: 臺北市 | DR14: 547057 | DS14: 15.195639 | DT14: 404430 | DU14: 14.969685 | DV14: 142627 | DW14: 15.875102 | DX14: 60758 | DY14: 14.22794 | DZ14: 45746 | EA14: 14.524937 | EB14: 15012 | EC14: 13.393407 | ED14: 486299 | EE14: 15.325873 | EF14: 358684 | EG14: 15.028374 | EH14: 127615 | EI14: 16.22884 | EJ14: Taipei City
A15: 基隆市 | B15: 264636 | C15: 1.1080742 | D15: 185867 | E15: 1.1414472 | F15: 78769 | G15: 1.0365617 | H15: 102438 | I15: 0.70376549 | J15: 67948 | K15: 0.70841485 | L15: 34490 | M15: 0.69478214 | N15: 16344 | O15: 1.383598 | P15: 10196 | Q15: 1.3757278 | R15: 6148 | S15: 1.3968505 | T15: Keelung City | U15: 基隆市 | V15: 66325 | W15: 0.56049188 | X15: 43059 | Y15: 0.56203292 | Z15: 23266 | AA15: 0.55766203 | AB15: 13340 | AC15: 1.5745894 | AD15: 9113 | AE15: 1.5256326 | AF15: 4227 | AG15: 1.6916187 | AH15: 5773 | AI15: 0.91860928 | AJ15: 5001 | AK15: 0.93332015 | AL15: 772 | AM15: 0.83350428 | AN15: Keelung City | AO15: 基隆市 | AP15: 656 | AQ15: 1.0027208 | AR15: 579 | AS15: 1.0344828 | AT15: 77 | AU15: 0.8146424 | AV15: 92006 | AW15: 2.6305971 | AX15: 62625 | AY15: 2.7002916 | AZ15: 29381 | BA15: 2.4934251 | BB15: 91796 | BC15: 2.6250304 | BD15: 62424 | BE15: 2.6922679 | BF15: 29372 | BG15: 2.4927226 | BH15: Keelung City | BI15: 基隆市 | BJ15: 210 | BK15: 36.020583 | BL15: 201 | BM15: 36.281588 | BN15: 9 | BO15: 31.034483 | BP15: 6632 | BQ15: 0.35699444 | BR15: 4009 | BS15: 0.30848333 | BT15: 2623 | BU15: 0.46994704 | BV15: 609 | BW15: 0.044563019 | BX15: 439 | BY15: 0.044022294 | BZ15: 170 | CA15: 0.046022816 | CB15: Keelung City | CC15: 基隆市 | CD15: 6023 | CE15: 1.2263605 | CF15: 3570 | CG15: 1.1807039 | CH15: 2453 | CI15: 1.2994925 | CJ15: 0 | CK15: 0 | CL15: 0 | CM15: 0 | CN15: 0 | CO15: 0 | CP15: 0 | CQ15: 0 | CR15: 0 | CS15: 0 | CT15: 0 | CU15: 0 | CV15: Keelung City | CW15: 基隆市 | CX15: 0 | CY15: 0 | CZ15: 0 | DA15: 0 | DB15: 0 | DC15: 0 | DD15: 0 | DE15: 0 | DF15: 0 | DG15: 0 | DH15: 0 | DI15: 0 | DJ15: 4692 | DK15: 1.7180709 | DL15: 4692 | DM15: 1.7180709 | DN15: 0 | DO15: 0 | DP15: Keelung City | DQ15: 基隆市 | DR15: 58868 | DS15: 1.6351804 | DT15: 46593 | DU15: 1.7246064 | DV15: 12275 | DW15: 1.3662692 | DX15: 6809 | DY15: 1.5944904 | DZ15: 5207 | EA15: 1.6532888 | EB15: 1602 | EC15: 1.4292724 | ED15: 52059 | EE15: 1.6406565 | EF15: 41386 | EG15: 1.7340173 | EH15: 10673 | EI15: 1.3572888 | EJ15: Keelung City
A16: 宜蘭縣 | B16: 377087 | C16: 1.5789249 | D16: 257471 | E16: 1.581182 | F16: 119616 | G16: 1.5740884 | H16: 150666 | I16: 1.0350996 | J16: 99896 | K16: 1.0414995 | L16: 50770 | M16: 1.0227338 | N16: 18720 | O16: 1.5847378 | P16: 11245 | Q16: 1.5172674 | R16: 7475 | S16: 1.6983503 | T16: Yilan County | U16: 宜蘭縣 | V16: 103480 | W16: 0.8744772 | X16: 67729 | Y16: 0.88404114 | Z16: 35751 | AA16: 0.8569146 | AB16: 20635 | AC16: 2.4356561 | AD16: 14091 | AE16: 2.3590133 | AF16: 6544 | AG16: 2.6188675 | AH16: 6891 | AI16: 1.0965073 | AJ16: 6012 | AK16: 1.1219997 | AL16: 879 | AM16: 0.94902884 | AN16: Yilan County | AO16: 宜蘭縣 | AP16: 940 | AQ16: 1.4368255 | AR16: 819 | AS16: 1.4632839 | AT16: 121 | AU16: 1.2801523 | AV16: 97326 | AW16: 2.7827043 | AX16: 64719 | AY16: 2.7905816 | AZ16: 32607 | BA16: 2.7672003 | BB16: 97326 | BC16: 2.7831682 | BD16: 64719 | BE16: 2.7912483 | BF16: 32607 | BG16: 2.7672684 | BH16: Yilan County | BI16: 宜蘭縣 | BJ16: 0 | BK16: 0 | BL16: 0 | BM16: 0 | BN16: 0 | BO16: 0 | BP16: 70854 | BQ16: 3.8140055 | BR16: 46615 | BS16: 3.586917 | BT16: 24239 | BU16: 4.342755 | BV16: 38073 | BW16: 2.785957 | BX16: 26638 | BY16: 2.6712207 | BZ16: 11435 | CA16: 3.0957112 | CB16: Yilan County | CC16: 宜蘭縣 | CD16: 32781 | CE16: 6.6746347 | CF16: 19977 | CG16: 6.606981 | CH16: 12804 | CI16: 6.7830012 | CJ16: 0 | CK16: 0 | CL16: 0 | CM16: 0 | CN16: 0 | CO16: 0 | CP16: 0 | CQ16: 0 | CR16: 0 | CS16: 0 | CT16: 0 | CU16: 0 | CV16: Yilan County | CW16: 宜蘭縣 | CX16: 0 | CY16: 0 | CZ16: 0 | DA16: 0 | DB16: 0 | DC16: 0 | DD16: 0 | DE16: 0 | DF16: 0 | DG16: 0 | DH16: 0 | DI16: 0 | DJ16: 5020 | DK16: 1.8381747 | DL16: 5020 | DM16: 1.8381747 | DN16: 0 | DO16: 0 | DP16: Yilan County | DQ16: 宜蘭縣 | DR16: 53221 | DS16: 1.4783233 | DT16: 41221 | DU16: 1.5257656 | DV16: 12000 | DW16: 1.3356604 | DX16: 6251 | DY16: 1.4638213 | DZ16: 4607 | EA16: 1.4627812 | EB16: 1644 | EC16: 1.466744 | ED16: 46970 | EE16: 1.480275 | EF16: 36614 | EG16: 1.534077 | EH16: 10356 | EI16: 1.3169758 | EJ16: Yilan County
A17: 金門縣 | B17: 65677 | C17: 0.27500034 | D17: 44727 | E17: 0.27467765 | F17: 20950 | G17: 0.27569181 | H17: 24267 | I17: 0.16671818 | J17: 15711 | K17: 0.16380034 | L17: 8556 | M17: 0.17235593 | N17: 4159 | O17: 0.35207929 | P17: 2658 | Q17: 0.35863911 | R17: 1501 | S17: 0.34103328 | T17: Kinmen County | U17: 金門縣 | V17: 11200 | W17: 0.094647706 | X17: 7047 | Y17: 0.091981839 | Z17: 4153 | AA17: 0.099543127 | AB17: 7707 | AC17: 0.90969718 | AD17: 4958 | AE17: 0.83003251 | AF17: 2749 | AG17: 1.1001325 | AH17: 1111 | AI17: 0.17678415 | AJ17: 970 | AK17: 0.1810279 | AL17: 141 | AM17: 0.15223329 | AN17: Kinmen County | AO17: 金門縣 | AP17: 90 | AQ17: 0.1375684 | AR17: 78 | AS17: 0.13936037 | AT17: 12 | AU17: 0.12695726 | AV17: 4912 | AW17: 0.14044185 | AX17: 3191 | AY17: 0.1375909 | AZ17: 1721 | BA17: 0.14605305 | BB17: 4912 | BC17: 0.14046526 | BD17: 3191 | BE17: 0.13762378 | BF17: 1721 | BG17: 0.14605664 | BH17: Kinmen County | BI17: 金門縣 | BJ17: 0 | BK17: 0 | BL17: 0 | BM17: 0 | BN17: 0 | BO17: 0 | BP17: 15457 | BQ17: 0.83203605 | BR17: 9528 | BS17: 0.73315769 | BT17: 5929 | BU17: 1.0622631 | BV17: 4093 | BW17: 0.29950154 | BX17: 3505 | BY17: 0.3514764 | BZ17: 588 | CA17: 0.1591848 | CB17: Kinmen County | CC17: 金門縣 | CD17: 11364 | CE17: 2.3138571 | CF17: 6023 | CG17: 1.9919831 | CH17: 5341 | CI17: 2.829429 | CJ17: 0 | CK17: 0 | CL17: 0 | CM17: 0 | CN17: 0 | CO17: 0 | CP17: 0 | CQ17: 0 | CR17: 0 | CS17: 0 | CT17: 0 | CU17: 0 | CV17: Kinmen County | CW17: 金門縣 | CX17: 0 | CY17: 0 | CZ17: 0 | DA17: 0 | DB17: 0 | DC17: 0 | DD17: 0 | DE17: 0 | DF17: 0 | DG17: 0 | DH17: 0 | DI17: 0 | DJ17: 354 | DK17: 0.12962427 | DL17: 354 | DM17: 0.12962427 | DN17: 0 | DO17: 0 | DP17: Kinmen County | DQ17: 金門縣 | DR17: 20687 | DS17: 0.5746242 | DT17: 15943 | DU17: 0.59011867 | DV17: 4744 | DW17: 0.52803106 | DX17: 8217 | DY17: 1.9242073 | DZ17: 5993 | EA17: 1.9028538 | EB17: 2224 | EC17: 1.9842084 | ED17: 12470 | EE17: 0.39299616 | EF17: 9950 | EG17: 0.41689152 | EH17: 2520 | EI17: 0.32046921 | EJ17: Kinmen County
A18: 連江縣 | B18: 7721 | C18: 0.03232909 | D18: 5168 | E18: 0.031737744 | F18: 2553 | G18: 0.033596238 | H18: 4635 | I18: 0.031843193 | J18: 3026 | K18: 0.031548586 | L18: 1609 | M18: 0.032412423 | N18: 1158 | O18: 0.098030252 | P18: 763 | Q18: 0.1029502 | R18: 395 | S18: 0.0897456 | T18: Lienchiang County | U18: 連江縣 | V18: 1685 | W18: 0.014239409 | X18: 1100 | Y18: 0.014357886 | Z18: 585 | AA18: 0.014021847 | AB18: 1589 | AC18: 0.18755791 | AD18: 982 | AE18: 0.16439934 | AF18: 607 | AG18: 0.24291757 | AH18: 201 | AI18: 0.031983451 | AJ18: 179 | AK18: 0.03340618 | AL18: 22 | AM18: 0.023752713 | AN18: Lienchiang County | AO18: 連江縣 | AP18: 2 | AQ18: 0.0030570756 | AR18: 2 | AS18: 0.0035733429 | AT18: 0 | AU18: 0 | AV18: 683 | AW18: 0.01952805 | AX18: 399 | AY18: 0.017204253 | AZ18: 284 | BA18: 0.024101723 | BB18: 683 | BC18: 0.019531306 | BD18: 399 | BE18: 0.017208364 | BF18: 284 | BG18: 0.024102316 | BH18: Lienchiang County | BI18: 連江縣 | BJ18: 0 | BK18: 0 | BL18: 0 | BM18: 0 | BN18: 0 | BO18: 0 | BP18: 726 | BQ18: 0.03907991 | BR18: 401 | BS18: 0.030856028 | BT18: 325 | BU18: 0.058228284 | BV18: 67 | BW18: 0.0049026638 | BX18: 62 | BY18: 0.0062172716 | BZ18: 5 | CA18: 0.0013536122 | CB18: Lienchiang County | CC18: 連江縣 | CD18: 659 | CE18: 0.13418091 | CF18: 339 | CG18: 0.11211726 | CH18: 320 | CI18: 0.16952205 | CJ18: 0 | CK18: 0 | CL18: 0 | CM18: 0 | CN18: 0 | CO18: 0 | CP18: 0 | CQ18: 0 | CR18: 0 | CS18: 0 | CT18: 0 | CU18: 0 | CV18: Lienchiang County | CW18: 連江縣 | CX18: 0 | CY18: 0 | CZ18: 0 | DA18: 0 | DB18: 0 | DC18: 0 | DD18: 0 | DE18: 0 | DF18: 0 | DG18: 0 | DH18: 0 | DI18: 0 | DJ18: 91 | DK18: 0.033321494 | DL18: 91 | DM18: 0.033321494 | DN18: 0 | DO18: 0 | DP18: Lienchiang County | DQ18: 連江縣 | DR18: 1586 | DS18: 0.04405443 | DT18: 1251 | DU18: 0.046304864 | DV18: 335 | DW18: 0.037287185 | DX18: 277 | DY18: 0.064866181 | DZ18: 188 | EA18: 0.059692394 | EB18: 89 | EC18: 0.079404024 | ED18: 1309 | EE18: 0.041253566 | EF18: 1063 | EG18: 0.04453826 | EH18: 246 | EI18: 0.031283899 | EJ18: Lienchiang County
A19: 北區業務組 | B19: 3997089 | C19: 16.736465 | D19: 2682727 | E19: 16.475175 | F19: 1314362 | G19: 17.296365 | H19: 2691629 | I19: 18.491923 | J19: 1751089 | K19: 18.25657 | L19: 940540 | M19: 18.946663 | N19: 148859 | O19: 12.601628 | P19: 84490 | Q19: 11.400082 | R19: 64369 | S19: 14.624897 | T19: Northern Division | U19: 北區業務組 | V19: 2297816 | W19: 19.418126 | X19: 1483238 | Y19: 19.360147 | Z19: 814578 | AA19: 19.524595 | AB19: 143579 | AC19: 16.947374 | AD19: 98714 | AE19: 16.525984 | AF19: 44865 | AG19: 17.95469 | AH19: 92211 | AI19: 14.672766 | AJ19: 76968 | AK19: 14.364284 | AL19: 15243 | AM19: 16.457391 | AN19: Northern Division | AO19: 北區業務組 | AP19: 9164 | AQ19: 14.00752 | AR19: 7679 | AS19: 13.71985 | AT19: 1485 | AU19: 15.710961 | AV19: 470255 | AW19: 13.445334 | AX19: 300105 | AY19: 12.940056 | AZ19: 170150 | BA19: 14.439817 | BB19: 470255 | BC19: 13.447576 | BD19: 300105 | BE19: 12.943148 | BF19: 170150 | BG19: 14.440173 | BH19: Northern Division | BI19: 北區業務組 | BJ19: 0 | BK19: 0 | BL19: 0 | BM19: 0 | BN19: 0 | BO19: 0 | BP19: 200910 | BQ19: 10.8148 | BR19: 138362 | BS19: 10.646638 | BT19: 62548 | BU19: 11.206347 | BV19: 172625 | BW19: 12.631677 | BX19: 123589 | BY19: 12.393329 | BZ19: 49036 | CA19: 13.275146 | CB19: Northern Division | CC19: 北區業務組 | CD19: 28285 | CE19: 5.7591911 | CF19: 14773 | CG19: 4.8858653 | CH19: 13512 | CI19: 7.1580687 | CJ19: 52251 | CK19: 53.121664 | CL19: 52251 | CM19: 53.121664 | CN19: 0 | CO19: 0 | CP19: 0 | CQ19: 0 | CR19: 0 | CS19: 0 | CT19: 0 | CU19: 0 | CV19: Northern Division | CW19: 北區業務組 | CX19: 0 | CY19: 0 | CZ19: 0 | DA19: 0 | DB19: 0 | DC19: 0 | DD19: 52251 | DE19: 99.43291 | DF19: 52251 | DG19: 99.43291 | DH19: 0 | DI19: 0 | DJ19: 42235 | DK19: 15.465201 | DL19: 42235 | DM19: 15.465201 | DN19: 0 | DO19: 0 | DP19: Northern Division | DQ19: 北區業務組 | DR19: 539809 | DS19: 14.994311 | DT19: 398685 | DU19: 14.757038 | DV19: 141124 | DW19: 15.707811 | DX19: 72914 | DY19: 17.074559 | DZ19: 54455 | EA19: 17.290156 | EB19: 18459 | EC19: 16.468751 | ED19: 466895 | EE19: 14.71435 | EF19: 344230 | EG19: 14.422771 | EH19: 122665 | EI19: 15.599347 | EJ19: Northern Division
A20: 桃園市 | B20: 2242464 | C20: 9.3895635 | D20: 1512463 | E20: 9.2883443 | F20: 730001 | G20: 9.6064582 | H20: 1495713 | I20: 10.275788 | J20: 969124 | K20: 10.10393 | L20: 526589 | M20: 10.607847 | N20: 84877 | O20: 7.185245 | P20: 49624 | Q20: 6.6956762 | R20: 35253 | S20: 8.0096244 | T20: Taoyuan City | U20: 桃園市 | V20: 1261506 | W20: 10.660594 | X20: 807228 | Y20: 10.536443 | Z20: 454278 | AA20: 10.888575 | AB20: 83585 | AC20: 9.865971 | AD20: 57515 | AE20: 9.6287454 | AF20: 26070 | AG20: 10.43305 | AH20: 60000 | AI20: 9.5472989 | AJ20: 50004 | AK20: 9.3320817 | AL20: 9996 | AM20: 10.792369 | AN20: Taoyuan City | AO20: 桃園市 | AP20: 5745 | AQ20: 8.7814497 | AR20: 4753 | AS20: 8.4920493 | AT20: 992 | AU20: 10.495133 | AV20: 247214 | AW20: 7.0682392 | AX20: 157974 | AY20: 6.8115906 | AZ20: 89240 | BA20: 7.5733723 | BB20: 247214 | BC20: 7.0694176 | BD20: 157974 | BE20: 6.8132181 | BF20: 89240 | BG20: 7.5735587 | BH20: Taoyuan City | BI20: 桃園市 | BJ20: 0 | BK20: 0 | BL20: 0 | BM20: 0 | BN20: 0 | BO20: 0 | BP20: 67620 | BQ20: 3.6399222 | BR20: 46842 | BS20: 3.6043842 | BT20: 20778 | BU20: 3.7226685 | BV20: 64258 | BW20: 4.7020205 | BX20: 45088 | BY20: 4.5213603 | BZ20: 19170 | CA20: 5.1897494 | CB20: Taoyuan City | CC20: 桃園市 | CD20: 3362 | CE20: 0.68454659 | CF20: 1754 | CG20: 0.58009935 | CH20: 1608 | CI20: 0.85184832 | CJ20: 52251 | CK20: 53.121664 | CL20: 52251 | CM20: 53.121664 | CN20: 0 | CO20: 0 | CP20: 0 | CQ20: 0 | CR20: 0 | CS20: 0 | CT20: 0 | CU20: 0 | CV20: Taoyuan City | CW20: 桃園市 | CX20: 0 | CY20: 0 | CZ20: 0 | DA20: 0 | DB20: 0 | DC20: 0 | DD20: 52251 | DE20: 99.43291 | DF20: 52251 | DG20: 99.43291 | DH20: 0 | DI20: 0 | DJ20: 29330 | DK20: 10.739774 | DL20: 29330 | DM20: 10.739774 | DN20: 0 | DO20: 0 | DP20: Taoyuan City | DQ20: 桃園市 | DR20: 350336 | DS20: 9.7313069 | DT20: 256942 | DU20: 9.5105232 | DV20: 93394 | DW20: 10.395222 | DX20: 51632 | DY20: 12.090869 | DZ20: 38777 | EA20: 12.312191 | EB20: 12855 | EC20: 11.468974 | ED20: 298704 | EE20: 9.413755 | EF20: 218165 | EG20: 9.140818 | EH20: 80539 | EI20: 10.24217 | EJ20: Taoyuan City
A21: 新竹市 | B21: 744188 | C21: 3.1160369 | D21: 492081 | E21: 3.02197 | F21: 252107 | G21: 3.3176055 | H21: 578243 | I21: 3.9726221 | J21: 380610 | K21: 3.9681783 | L21: 197633 | M21: 3.9812084 | N21: 21790 | O21: 1.844628 | P21: 11271 | Q21: 1.5207756 | R21: 10519 | S21: 2.3899594 | T21: Hsinchu City | U21: 新竹市 | V21: 524238 | W21: 4.4301718 | X21: 345693 | Y21: 4.5122006 | Z21: 178545 | AA21: 4.2795395 | AB21: 20050 | AC21: 2.3666055 | AD21: 13496 | AE21: 2.2594027 | AF21: 6554 | AG21: 2.6228695 | AH21: 10923 | AI21: 1.7380858 | AJ21: 9088 | AK21: 1.6960635 | AL21: 1835 | AM21: 1.9811922 | AN21: Hsinchu City | AO21: 新竹市 | AP21: 1242 | AQ21: 1.8984439 | AR21: 1062 | AS21: 1.8974451 | AT21: 180 | AU21: 1.9043589 | AV21: 88254 | AW21: 2.5233214 | AX21: 55270 | AY21: 2.3831555 | AZ21: 32984 | BA21: 2.7991945 | BB21: 88254 | BC21: 2.5237421 | BD21: 55270 | BE21: 2.3837249 | BF21: 32984 | BG21: 2.7992634 | BH21: Hsinchu City | BI21: 新竹市 | BJ21: 0 | BK21: 0 | BL21: 0 | BM21: 0 | BN21: 0 | BO21: 0 | BP21: 15467 | BQ21: 0.83257434 | BR21: 8591 | BS21: 0.66105769 | BT21: 6876 | BU21: 1.2319313 | BV21: 4268 | BW21: 0.312307 | BX21: 2955 | BY21: 0.29632319 | BZ21: 1313 | CA21: 0.35545858 | CB21: Hsinchu City | CC21: 新竹市 | CD21: 11199 | CE21: 2.280261 | CF21: 5636 | CG21: 1.8639908 | CH21: 5563 | CI21: 2.947035 | CJ21: 0 | CK21: 0 | CL21: 0 | CM21: 0 | CN21: 0 | CO21: 0 | CP21: 0 | CQ21: 0 | CR21: 0 | CS21: 0 | CT21: 0 | CU21: 0 | CV21: Hsinchu City | CW21: 新竹市 | CX21: 0 | CY21: 0 | CZ21: 0 | DA21: 0 | DB21: 0 | DC21: 0 | DD21: 0 | DE21: 0 | DF21: 0 | DG21: 0 | DH21: 0 | DI21: 0 | DJ21: 3802 | DK21: 1.3921793 | DL21: 3802 | DM21: 1.3921793 | DN21: 0 | DO21: 0 | DP21: Hsinchu City | DQ21: 新竹市 | DR21: 58422 | DS21: 1.6227919 | DT21: 43808 | DU21: 1.6215216 | DV21: 14614 | DW21: 1.6266117 | DX21: 8273 | DY21: 1.937321 | DZ21: 6178 | EA21: 1.9615937 | EB21: 2095 | EC21: 1.8691172 | ED21: 50149 | EE21: 1.5804623 | EF21: 37630 | EG21: 1.576646 | EH21: 12519 | EI21: 1.5920452 | EJ21: Hsinchu City
A22: 新竹縣 | B22: 572092 | C22: 2.3954428 | D22: 378124 | E22: 2.3221368 | F22: 193968 | G22: 2.5525246 | H22: 393797 | I22: 2.7054485 | J22: 254726 | K22: 2.655732 | L22: 139071 | M22: 2.8015091 | N22: 22695 | O22: 1.9212406 | P22: 12041 | Q22: 1.6246703 | R22: 10654 | S22: 2.4206319 | T22: Hsinchu County | U22: 新竹縣 | V22: 335483 | W22: 2.8350622 | X22: 216412 | Y22: 2.8247444 | Z22: 119071 | AA22: 2.8540091 | AB22: 21639 | AC22: 2.5541634 | AD22: 14735 | AE22: 2.4668272 | AF22: 6904 | AG22: 2.7629373 | AH22: 12740 | AI22: 2.0272098 | AJ22: 10509 | AK22: 1.96126 | AL22: 2231 | AM22: 2.408741 | AN22: Hsinchu County | AO22: 新竹縣 | AP22: 1240 | AQ22: 1.8953869 | AR22: 1029 | AS22: 1.8384849 | AT22: 211 | AU22: 2.2323318 | AV22: 71869 | AW22: 2.0548484 | AX22: 44785 | AY22: 1.9310588 | AZ22: 27084 | BA22: 2.2984897 | BB22: 71869 | BC22: 2.055191 | BD22: 44785 | BE22: 1.9315202 | BF22: 27084 | BG22: 2.2985462 | BH22: Hsinchu County | BI22: 新竹縣 | BJ22: 0 | BK22: 0 | BL22: 0 | BM22: 0 | BN22: 0 | BO22: 0 | BP22: 34476 | BQ22: 1.8558113 | BR22: 24816 | BS22: 1.9095341 | BT22: 9660 | BU22: 1.7307238 | BV22: 34476 | BW22: 2.5227498 | BX22: 24816 | BY22: 2.4885131 | BZ22: 9660 | CA22: 2.6151789 | CB22: Hsinchu County | CC22: 新竹縣 | CD22: 0 | CE22: 0 | CF22: 0 | CG22: 0 | CH22: 0 | CI22: 0 | CJ22: 0 | CK22: 0 | CL22: 0 | CM22: 0 | CN22: 0 | CO22: 0 | CP22: 0 | CQ22: 0 | CR22: 0 | CS22: 0 | CT22: 0 | CU22: 0 | CV22: Hsinchu County | CW22: 新竹縣 | CX22: 0 | CY22: 0 | CZ22: 0 | DA22: 0 | DB22: 0 | DC22: 0 | DD22: 0 | DE22: 0 | DF22: 0 | DG22: 0 | DH22: 0 | DI22: 0 | DJ22: 3939 | DK22: 1.4423447 | DL22: 3939 | DM22: 1.4423447 | DN22: 0 | DO22: 0 | DP22: Hsinchu County | DQ22: 新竹縣 | DR22: 68011 | DS22: 1.8891462 | DT22: 49858 | DU22: 1.845458 | DV22: 18153 | DW22: 2.0205202 | DX22: 6510 | DY22: 1.5244723 | DZ22: 4709 | EA22: 1.4951675 | EB22: 1801 | EC22: 1.6068163 | ED22: 61501 | EE22: 1.9382243 | EF22: 45149 | EG22: 1.8916819 | EH22: 16352 | EI22: 2.0794891 | EJ22: Hsinchu County
... A39: 臺東縣 | B39: 172667 | C39: 0.72298497 | D39: 124586 | E39: 0.76510808 | F39: 48081 | G39: 0.63272258 | H39: 60518 | I39: 0.41576836 | J39: 40953 | K39: 0.42696935 | L39: 19565 | M39: 0.3941262 | N39: 13756 | O39: 1.1645114 | P39: 9074 | Q39: 1.2243383 | R39: 4682 | S39: 1.0637694 | T39: Taitung County | U39: 臺東縣 | V39: 32478 | W39: 0.27446145 | X39: 21360 | Y39: 0.27880404 | Z39: 11118 | AA39: 0.266487 | AB39: 10837 | AC39: 1.2791473 | AD39: 7458 | AE39: 1.2485644 | AF39: 3379 | AG39: 1.3522545 | AH39: 3089 | AI39: 0.49152677 | AJ39: 2749 | AK39: 0.51303681 | AL39: 340 | AM39: 0.36708738 | AN39: Taitung County | AO39: 臺東縣 | AP39: 358 | AQ39: 0.54721653 | AR39: 312 | AS39: 0.55744149 | AT39: 46 | AU39: 0.48666949 | AV39: 22722 | AW39: 0.64965792 | AX39: 15254 | AY39: 0.6577285 | AZ39: 7468 | BA39: 0.63377347 | BB39: 22722 | BC39: 0.64976622 | BD39: 15254 | BE39: 0.65788566 | BF39: 7468 | BG39: 0.63378907 | BH39: Taitung County | BI39: 臺東縣 | BJ39: 0 | BK39: 0 | BL39: 0 | BM39: 0 | BN39: 0 | BO39: 0 | BP39: 37460 | BQ39: 2.0164372 | BR39: 27496 | BS39: 2.115754 | BT39: 9964 | BU39: 1.7851896 | BV39: 30940 | BW39: 2.2640063 | BX39: 23157 | BY39: 2.3221509 | BZ39: 7783 | CA39: 2.1070328 | CB39: Taitung County | CC39: 臺東縣 | CD39: 6520 | CE39: 1.3275562 | CF39: 4339 | CG39: 1.4350348 | CH39: 2181 | CI39: 1.1553987 | CJ39: 0 | CK39: 0 | CL39: 0 | CM39: 0 | CN39: 0 | CO39: 0 | CP39: 0 | CQ39: 0 | CR39: 0 | CS39: 0 | CT39: 0 | CU39: 0 | CV39: Taitung County | CW39: 臺東縣 | CX39: 0 | CY39: 0 | CZ39: 0 | DA39: 0 | DB39: 0 | DC39: 0 | DD39: 0 | DE39: 0 | DF39: 0 | DG39: 0 | DH39: 0 | DI39: 0 | DJ39: 6751 | DK39: 2.4720154 | DL39: 6751 | DM39: 2.4720154 | DN39: 0 | DO39: 0 | DP39: Taitung County | DQ39: 臺東縣 | DR39: 45216 | DS39: 1.2559679 | DT39: 34132 | DU39: 1.2633714 | DV39: 11084 | DW39: 1.2337049 | DX39: 5425 | DY39: 1.2703936 | DZ39: 3954 | EA39: 1.2554453 | EB39: 1471 | EC39: 1.3123968 | ED39: 39791 | EE39: 1.2540265 | EF39: 30178 | EG39: 1.2644173 | EH39: 9613 | EI39: 1.2224883 | EJ39: Taitung County
A40: 備註：1.本表縣市別係按保險對象所屬投保單位的通訊地址統計。 | K40: Note：1. The locales were determined by the mailing addresses of the group insurance applicants to which the | U40: 2.因農田水利法自109年10月1日起施行，自該日起第三類第一目已無水利會投保單位及會員加保。 | AE40: 2.Since the Irrigation Act came into effect on October 1, 2020, there is no group insurance applicant for
K41: beneficiaries belong. | AE41: the irrigation association and members for Item 1 of Category 3 from that date.

Sheet 111
A1: 保險對象人數－按保險對象類目及縣市別分 | K1: Beneficiaries by Beneficiary Category, | U1: 保險對象人數－按保險對象類目及縣市別分（續一） | AE1: Beneficiaries by Beneficiary Category, | AO1: 保險對象人數－按保險對象類目及縣市別分（續二） | AY1: Beneficiaries by Beneficiary Category, | BI1: 保險對象人數－按保險對象類目及縣市別分（續三） | BS1: Beneficiaries by Beneficiary Category, | CC1: 保險對象人數－按保險對象類目及縣市別分（續四） | CM1: Beneficiaries by Beneficiary Category, | CW1: 保險對象人數－按保險對象類目及縣市別分（續五） | DG1: Beneficiaries by Beneficiary Category, | DQ1: 保險對象人數－按保險對象類目及縣市別分（續完） | EA1: Beneficiaries by Beneficiary Category,
K2: NHI Regional Division and Locale | AE2: NHI Regional Division and Locale（Cont'd 1） | AY2: NHI Regional Division and Locale（Cont'd 2） | BS2: NHI Regional Division and Locale（Cont'd 3） | CM2: NHI Regional Division and Locale（Cont'd 4） | DG2: NHI Regional Division and Locale（Cont'd 5） | EA2: NHI Regional Division and Locale（Cont'd）
A3: 中華民國111年底 | K3: End of 2022 | U3: 中華民國111年底 | AE3: End of 2022 | AO3: 中華民國111年底 | AY3: End of 2022 | BI3: 中華民國111年底 | BS3: End of 2022 | CC3: 中華民國111年底 | CM3: End of 2022 | CW3: 中華民國111年底 | DG3: End of 2022 | DQ3: 中華民國111年底 | EA3: End of 2022
A4: 單位：人 | T4: Unit：Persons | U4: 單位：人 | AN4: Unit：Persons | AO4: 單位：人 | BH4: Unit：Persons | BI4: 單位：人 | CB4: Unit：Persons | CC4: 單位：人 | CV4: Unit：Persons | CW4: 單位：人 | DP4: Unit：Persons | DQ4: 單位：人 | EJ4: Unit：Persons
A5: 業務組 縣市別 | B5: 總計 Grand Total | H5: 第一類 | K5: Category 1 | T5: Division & Locale | U5: 業務組 縣市別 | V5: 第一類 | AE5: Category 1 | AN5: Division & Locale | AO5: 業務組 縣市別 | AP5: 第一類 Category 1 | AV5: 第二類 | AY5: Category 2 | BH5: Division & Locale | BI5: 業務組 縣市別 | BJ5: 第二類 Category 2 | BP5: 第三類 | BS5: Category 3 | CB5: Division & Locale | CC5: 業務組 縣市別 | CD5: 第三類 Category 3 | CJ5: 第四類 | CM5: Category 4 | CV5: Division & Locale | CW5: 業務組 縣市別 | CX5: 第四類 | DG5: Category 4 | DJ5: 第五類 Category 5 | DP5: Division & Locale | DQ5: 業務組 縣市別 | DR5: 第六類 | EA5: Category 6 | EJ5: Division & Locale
B7: 保險對象Beneficiaries | D7: 被保險人Insureds | F7: 眷屬Dependents | H7: 合計 | K7: Total | N7: 第一目 Item 1 | V7: 第二目 Item 2 | AB7: 第三目 | AE7: Item 3 | AH7: 第四目 Item 4 | AP7: 第五目 Item 5 | AV7: 合計 | AY7: Total | BB7: 第一目 Item 1 | BJ7: 第二目 Item 2 | BP7: 合計 | BS7: Total | BV7: 第一目 Item 1 | CD7: 第二目 Item 2 | CJ7: 合計 | CM7: Total | CP7: 第一目 Item 1 | CX7: 第二目 Item 2 | DD7: 第三目 | DG7: Item 3 | DR7: 合計 Total | DX7: 第一目 | EA7: Item 1 | ED7: 第二目 Item 2
H8: 保險對象Beneficiaries | J8: 被保險人Insureds | L8: 眷屬Dependents | N8: 保險對象Beneficiaries | P8: 被保險人Insureds | R8: 眷屬Dependents | V8: 保險對象Beneficiaries | X8: 被保險人Insureds | Z8: 眷屬Dependents | AB8: 保險對象Beneficiaries | AD8: 被保險人Insureds | AF8: 眷屬Dependents | AH8: 保險對象Beneficiaries | AJ8: 被保險人Insureds | AL8: 眷屬Dependents | AP8: 保險對象Beneficiaries | AR8: 被保險人Insureds | AT8: 眷屬Dependents | AV8: 保險對象Beneficiaries | AX8: 被保險人Insureds | AZ8: 眷屬Dependents | BB8: 保險對象Beneficiaries | BD8: 被保險人Insureds | BF8: 眷屬Dependents | BJ8: 保險對象Beneficiaries | BL8: 被保險人Insureds | BN8: 眷屬Dependents | BP8: 保險對象Beneficiaries | BR8: 被保險人Insureds | BT8: 眷屬Dependents | BV8: 保險對象Beneficiaries | BX8: 被保險人Insureds | BZ8: 眷屬Dependents | CD8: 保險對象Beneficiaries | CF8: 被保險人Insureds | CH8: 眷屬Dependents | CJ8: 保險對象Beneficiaries | CL8: 被保險人Insureds | CN8: 眷屬Dependents | CP8: 保險對象Beneficiaries | CR8: 被保險人Insureds | CT8: 眷屬Dependents | CX8: 保險對象Beneficiaries | CZ8: 被保險人Insureds | DB8: 眷屬Dependents | DD8: 保險對象Beneficiaries | DF8: 被保險人Insureds | DH8: 眷屬Dependents | DJ8: 保險對象Beneficiaries | DL8: 被保險人Insureds | DN8: 眷屬Dependents | DR8: 保險對象Beneficiaries | DT8: 被保險人Insureds | DV8: 眷屬Dependents | DX8: 保險對象Beneficiaries | DZ8: 被保險人Insureds | EB8: 眷屬Dependents | ED8: 保險對象Beneficiaries | EF8: 被保險人Insureds | EH8: 眷屬Dependents
C9: 百分比 | E9: 百分比 | G9: 百分比 | I9: 百分比 | K9: 百分比 | M9: 百分比 | O9: 百分比 | Q9: 百分比 | S9: 百分比 | W9: 百分比 | Y9: 百分比 | AA9: 百分比 | AC9: 百分比 | AE9: 百分比 | AG9: 百分比 | AI9: 百分比 | AK9: 百分比 | AM9: 百分比 | AQ9: 百分比 | AS9: 百分比 | AU9: 百分比 | AW9: 百分比 | AY9: 百分比 | BA9: 百分比 | BC9: 百分比 | BE9: 百分比 | BG9: 百分比 | BK9: 百分比 | BM9: 百分比 | BO9: 百分比 | BQ9: 百分比 | BS9: 百分比 | BU9: 百分比 | BW9: 百分比 | BY9: 百分比 | CA9: 百分比 | CE9: 百分比 | CG9: 百分比 | CI9: 百分比 | CK9: 百分比 | CM9: 百分比 | CO9: 百分比 | CQ9: 百分比 | CS9: 百分比 | CU9: 百分比 | CY9: 百分比 | DA9: 百分比 | DC9: 百分比 | DE9: 百分比 | DG9: 百分比 | DI9: 百分比 | DK9: 百分比 | DM9: 百分比 | DO9: 百分比 | DS9: 百分比 | DU9: 百分比 | DW9: 百分比 | DY9: 百分比 | EA9: 百分比 | EC9: 百分比 | EE9: 百分比 | EG9: 百分比 | EI9: 百分比
C10: % | E10: % | G10: % | I10: % | K10: % | M10: % | O10: % | Q10: % | S10: % | W10: % | Y10: % | AA10: % | AC10: % | AE10: % | AG10: % | AI10: % | AK10: % | AM10: % | AQ10: % | AS10: % | AU10: % | AW10: % | AY10: % | BA10: % | BC10: % | BE10: % | BG10: % | BK10: % | BM10: % | BO10: % | BQ10: % | BS10: % | BU10: % | BW10: % | BY10: % | CA10: % | CE10: % | CG10: % | CI10: % | CK10: % | CM10: % | CO10: % | CQ10: % | CS10: % | CU10: % | CY10: % | DA10: % | DC10: % | DE10: % | DG10: % | DI10: % | DK10: % | DM10: % | DO10: % | DS10: % | DU10: % | DW10: % | DY10: % | EA10: % | EC10: % | EE10: % | EG10: % | EI10: %
A11: 總 計 | B11: 23787442 | C11: 100 | D11: 16164862 | E11: 100 | F11: 7622580 | G11: 100 | H11: 14444902 | I11: 100 | J11: 9494239 | K11: 100 | L11: 4950663 | M11: 100 | N11: 1192560 | O11: 100 | P11: 745460 | Q11: 100 | R11: 447100 | S11: 100 | T11: Grand Total | U11: 總 計 | V11: 11740880 | W11: 100 | X11: 7583340 | Y11: 100 | Z11: 4157540 | AA11: 100 | AB11: 834903 | AC11: 100 | AD11: 586200 | AE11: 100 | AF11: 248703 | AG11: 100 | AH11: 612604 | AI11: 100 | AJ11: 524487 | AK11: 100 | AL11: 88117 | AM11: 100 | AN11: Grand Total | AO11: 總 計 | AP11: 63955 | AQ11: 100 | AR11: 54752 | AS11: 100 | AT11: 9203 | AU11: 100 | AV11: 3577629 | AW11: 100 | AX11: 2369890 | AY11: 100 | AZ11: 1207739 | BA11: 100 | BB11: 3577121 | BC11: 100 | BD11: 2369407 | BE11: 100 | BF11: 1207714 | BG11: 100 | BH11: Grand Total | BI11: 總 計 | BJ11: 508 | BK11: 100 | BL11: 483 | BM11: 100 | BN11: 25 | BO11: 100 | BP11: 1929257 | BQ11: 100 | BR11: 1342711 | BS11: 100 | BT11: 586546 | BU11: 100 | BV11: 1428646 | BW11: 100 | BX11: 1038419 | BY11: 100 | BZ11: 390227 | CA11: 100 | CB11: Grand Total | CC11: 總 計 | CD11: 500611 | CE11: 100 | CF11: 304292 | CG11: 100 | CH11: 196319 | CI11: 100 | CJ11: 97330 | CK11: 100 | CL11: 97330 | CM11: 100 | CN11: 0 | CO11: 0 | CP11: 39265 | CQ11: 100 | CR11: 39265 | CS11: 100 | CT11: 0 | CU11: 0 | CV11: Grand Total | CW11: 總 計 | CX11: 6156 | CY11: 100 | CZ11: 6156 | DA11: 100 | DB11: 0 | DC11: 0 | DD11: 51909 | DE11: 100 | DF11: 51909 | DG11: 100 | DH11: 0 | DI11: 0 | DJ11: 282652 | DK11: 100 | DL11: 282652 | DM11: 100 | DN11: 0 | DO11: 0 | DP11: Grand Total | DQ11: 總 計 | DR11: 3455672 | DS11: 100 | DT11: 2578040 | DU11: 100 | DV11: 877632 | DW11: 100 | DX11: 432621 | DY11: 100 | DZ11: 317302 | EA11: 100 | EB11: 115319 | EC11: 100 | ED11: 3023051 | EE11: 100 | EF11: 2260738 | EG11: 100 | EH11: 762313 | EI11: 100 | EJ11: Grand Total
A12: 臺北業務組 | B12: 8912339 | C12: 37.466572 | D12: 6029122 | E12: 37.297702 | F12: 2883217 | G12: 37.824687 | H12: 6051557 | I12: 41.894068 | J12: 4000344 | K12: 42.134435 | L12: 2051213 | M12: 41.433097 | N12: 579422 | O12: 48.586402 | P12: 382301 | Q12: 51.283905 | R12: 197121 | S12: 44.088794 | T12: Taipei Division | U12: 臺北業務組 | V12: 4908635 | W12: 41.808067 | X12: 3185725 | Y12: 42.009524 | Z12: 1722910 | AA12: 41.440612 | AB12: 301988 | AC12: 36.170429 | AD12: 213626 | AE12: 36.442511 | AF12: 88362 | AG12: 35.529125 | AH12: 237500 | AI12: 38.768927 | AJ12: 198545 | AK12: 37.855085 | AL12: 38955 | AM12: 44.208269 | AN12: Taipei Division | AO12: 臺北業務組 | AP12: 24012 | AQ12: 37.545149 | AR12: 20147 | AS12: 36.796829 | AT12: 3865 | AU12: 41.997175 | AV12: 1283798 | AW12: 35.884045 | AX12: 843666 | AY12: 35.599374 | AZ12: 440132 | BA12: 36.442642 | BB12: 1283420 | BC12: 35.878574 | BD12: 843309 | BE12: 35.591564 | BF12: 440111 | BG12: 36.441658 | BH12: Taipei Division | BI12: 臺北業務組 | BJ12: 378 | BK12: 74.409449 | BL12: 357 | BM12: 73.913043 | BN12: 21 | BO12: 84 | BP12: 191632 | BQ12: 9.9329431 | BR12: 122473 | BS12: 9.1213225 | BT12: 69159 | BU12: 11.790891 | BV12: 94034 | BW12: 6.5820364 | BX12: 66782 | BY12: 6.4311227 | BZ12: 27252 | CA12: 6.9836275 | CB12: Taipei Division | CC12: 臺北業務組 | CD12: 97598 | CE12: 19.495776 | CF12: 55691 | CG12: 18.301829 | CH12: 41907 | CI12: 21.34638 | CJ12: 39505 | CK12: 40.588719 | CL12: 39505 | CM12: 40.588719 | CN12: 0 | CO12: 0 | CP12: 39265 | CQ12: 100 | CR12: 39265 | CS12: 100 | CT12: 0 | CU12: 0 | CV12: Taipei Division | CW12: 臺北業務組 | CX12: 0 | CY12: 0 | CZ12: 0 | DA12: 0 | DB12: 0 | DC12: 0 | DD12: 240 | DE12: 0.46234757 | DF12: 240 | DG12: 0.46234757 | DH12: 0 | DI12: 0 | DJ12: 83333 | DK12: 29.482544 | DL12: 83333 | DM12: 29.482544 | DN12: 0 | DO12: 0 | DP12: Taipei Division | DQ12: 臺北業務組 | DR12: 1262514 | DS12: 36.534544 | DT12: 939801 | DU12: 36.454089 | DV12: 322713 | DW12: 36.770879 | DX12: 151566 | DY12: 35.03436 | DZ12: 112622 | EA12: 35.493631 | EB12: 38944 | EC12: 33.770671 | ED12: 1110948 | EE12: 36.749231 | EF12: 827179 | EG12: 36.588893 | EH12: 283769 | EI12: 37.224736 | EJ12: Taipei Division
A13: 新北市 | B13: 3316979 | C13: 13.944244 | D13: 2226728 | E13: 13.775113 | F13: 1090251 | G13: 14.302913 | H13: 2068417 | I13: 14.319356 | J13: 1345909 | K13: 14.17606 | L13: 722508 | M13: 14.594166 | N13: 125779 | O13: 10.546975 | P13: 76105 | Q13: 10.209133 | R13: 49674 | S13: 11.110266 | T13: New Taipei City | U13: 新北市 | V13: 1722808 | W13: 14.673585 | X13: 1094371 | Y13: 14.431253 | Z13: 628437 | AA13: 15.115597 | AB13: 91024 | AC13: 10.902344 | AD13: 66564 | AE13: 11.355169 | AF13: 24460 | AG13: 9.8350241 | AH13: 119449 | AI13: 19.498567 | AJ13: 101024 | AK13: 19.261488 | AL13: 18425 | AM13: 20.9097 | AN13: New Taipei City | AO13: 新北市 | AP13: 9357 | AQ13: 14.6306 | AR13: 7845 | AS13: 14.328244 | AT13: 1512 | AU13: 16.429425 | AV13: 515195 | AW13: 14.400459 | AX13: 337679 | AY13: 14.24872 | AZ13: 177516 | BA13: 14.698209 | BB13: 515195 | BC13: 14.402504 | BD13: 337679 | BE13: 14.251625 | BF13: 177516 | BG13: 14.698513 | BH13: New Taipei City | BI13: 新北市 | BJ13: 0 | BK13: 0 | BL13: 0 | BM13: 0 | BN13: 0 | BO13: 0 | BP13: 87409 | BQ13: 4.5307079 | BR13: 55060 | BS13: 4.100659 | BT13: 32349 | BU13: 5.5151685 | BV13: 41053 | BW13: 2.87356 | BX13: 29088 | BY13: 2.8011814 | BZ13: 11965 | CA13: 3.0661641 | CB13: New Taipei City | CC13: 新北市 | CD13: 46356 | CE13: 9.2598844 | CF13: 25972 | CG13: 8.5352227 | CH13: 20384 | CI13: 10.383101 | CJ13: 0 | CK13: 0 | CL13: 0 | CM13: 0 | CN13: 0 | CO13: 0 | CP13: 0 | CQ13: 0 | CR13: 0 | CS13: 0 | CT13: 0 | CU13: 0 | CV13: New Taipei City | CW13: 新北市 | CX13: 0 | CY13: 0 | CZ13: 0 | DA13: 0 | DB13: 0 | DC13: 0 | DD13: 0 | DE13: 0 | DF13: 0 | DG13: 0 | DH13: 0 | DI13: 0 | DJ13: 31015 | DK13: 10.972857 | DL13: 31015 | DM13: 10.972857 | DN13: 0 | DO13: 0 | DP13: New Taipei City | DQ13: 新北市 | DR13: 614943 | DS13: 17.795178 | DT13: 457065 | DU13: 17.729166 | DV13: 157878 | DW13: 17.989089 | DX13: 67720 | DY13: 15.653424 | DZ13: 50050 | EA13: 15.773616 | EB13: 17670 | EC13: 15.322714 | ED13: 547223 | EE13: 18.101679 | EF13: 407015 | EG13: 18.003634 | EH13: 140208 | EI13: 18.392445 | EJ13: New Taipei City
A14: 臺北市 | B14: 4880359 | C14: 20.516536 | D14: 3312313 | E14: 20.490821 | F14: 1568046 | G14: 20.571066 | H14: 3703440 | I14: 25.638388 | J14: 2470179 | K14: 26.017662 | L14: 1233261 | M14: 24.911027 | N14: 412671 | O14: 34.603794 | P14: 281123 | Q14: 37.711346 | R14: 131548 | S14: 29.422501 | T14: Taipei City | U14: 臺北市 | V14: 3005462 | W14: 25.598269 | X14: 1974524 | Y14: 26.037656 | Z14: 1030938 | AA14: 24.796827 | AB14: 167758 | AC14: 20.093113 | AD14: 117951 | AE14: 20.12129 | AF14: 49807 | AG14: 20.026699 | AH14: 104538 | AI14: 17.064531 | AJ14: 85716 | AK14: 16.342826 | AL14: 18822 | AM14: 21.360237 | AN14: Taipei City | AO14: 臺北市 | AP14: 13011 | AQ14: 20.343992 | AR14: 10865 | AS14: 19.844024 | AT14: 2146 | AU14: 23.318483 | AV14: 567230 | AW14: 15.854914 | AX14: 371368 | AY14: 15.670263 | AZ14: 195862 | BA14: 16.217246 | BB14: 567035 | BC14: 15.851714 | BD14: 371187 | BE14: 15.665818 | BF14: 195848 | BG14: 16.216422 | BH14: Taipei City | BI14: 臺北市 | BJ14: 195 | BK14: 38.385827 | BL14: 181 | BM14: 37.47412 | BN14: 14 | BO14: 56 | BP14: 8225 | BQ14: 0.42632993 | BR14: 5761 | BS14: 0.42905733 | BT14: 2464 | BU14: 0.4200864 | BV14: 8225 | BW14: 0.57571995 | BX14: 5761 | BY14: 0.55478569 | BZ14: 2464 | CA14: 0.63142735 | CB14: Taipei City | CC14: 臺北市 | CD14: 0 | CE14: 0 | CF14: 0 | CG14: 0 | CH14: 0 | CI14: 0 | CJ14: 39505 | CK14: 40.588719 | CL14: 39505 | CM14: 40.588719 | CN14: 0 | CO14: 0 | CP14: 39265 | CQ14: 100 | CR14: 39265 | CS14: 100 | CT14: 0 | CU14: 0 | CV14: Taipei City | CW14: 臺北市 | CX14: 0 | CY14: 0 | CZ14: 0 | DA14: 0 | DB14: 0 | DC14: 0 | DD14: 240 | DE14: 0.46234757 | DF14: 240 | DG14: 0.46234757 | DH14: 0 | DI14: 0 | DJ14: 42029 | DK14: 14.869522 | DL14: 42029 | DM14: 14.869522 | DN14: 0 | DO14: 0 | DP14: Taipei City | DQ14: 臺北市 | DR14: 519930 | DS14: 15.045699 | DT14: 383471 | DU14: 14.874517 | DV14: 136459 | DW14: 15.548544 | DX14: 62277 | DY14: 14.395279 | DZ14: 46620 | EA14: 14.692627 | EB14: 15657 | EC14: 13.577121 | ED14: 457653 | EE14: 15.138779 | EF14: 336851 | EG14: 14.900046 | EH14: 120802 | EI14: 15.846772 | EJ14: Taipei City
A15: 基隆市 | B15: 265795 | C15: 1.1173753 | D15: 185458 | E15: 1.147291 | F15: 80337 | G15: 1.0539345 | H15: 102106 | I15: 0.7068653 | J15: 67326 | K15: 0.70912477 | L15: 34780 | M15: 0.70253217 | N15: 16808 | O15: 1.409405 | P15: 10368 | Q15: 1.3908191 | R15: 6440 | S15: 1.4403936 | T15: Keelung City | U15: 基隆市 | V15: 65832 | W15: 0.56070754 | X15: 42521 | Y15: 0.56071599 | Z15: 23311 | AA15: 0.56069214 | AB15: 13125 | AC15: 1.5720389 | AD15: 8936 | AE15: 1.5243944 | AF15: 4189 | AG15: 1.6843383 | AH15: 5704 | AI15: 0.93110721 | AJ15: 4935 | AK15: 0.94091941 | AL15: 769 | AM15: 0.87270334 | AN15: Keelung City | AO15: 基隆市 | AP15: 637 | AQ15: 0.99601282 | AR15: 566 | AS15: 1.0337522 | AT15: 71 | AU15: 0.77148756 | AV15: 95492 | AW15: 2.669142 | AX15: 64645 | AY15: 2.7277637 | AZ15: 30847 | BA15: 2.5541114 | BB15: 95309 | BC15: 2.6644053 | BD15: 64469 | BE15: 2.7208918 | BF15: 30840 | BG15: 2.5535847 | BH15: Keelung City | BI15: 基隆市 | BJ15: 183 | BK15: 36.023622 | BL15: 176 | BM15: 36.438923 | BN15: 7 | BO15: 28 | BP15: 6616 | BQ15: 0.34292995 | BR15: 3963 | BS15: 0.29514914 | BT15: 2653 | BU15: 0.45230894 | BV15: 652 | BW15: 0.045637618 | BX15: 474 | BY15: 0.045646314 | BZ15: 178 | CA15: 0.045614476 | CB15: Keelung City | CC15: 基隆市 | CD15: 5964 | CE15: 1.1913442 | CF15: 3489 | CG15: 1.146596 | CH15: 2475 | CI15: 1.2607032 | CJ15: 0 | CK15: 0 | CL15: 0 | CM15: 0 | CN15: 0 | CO15: 0 | CP15: 0 | CQ15: 0 | CR15: 0 | CS15: 0 | CT15: 0 | CU15: 0 | CV15: Keelung City | CW15: 基隆市 | CX15: 0 | CY15: 0 | CZ15: 0 | DA15: 0 | DB15: 0 | DC15: 0 | DD15: 0 | DE15: 0 | DF15: 0 | DG15: 0 | DH15: 0 | DI15: 0 | DJ15: 4919 | DK15: 1.7403026 | DL15: 4919 | DM15: 1.7403026 | DN15: 0 | DO15: 0 | DP15: Keelung City | DQ15: 基隆市 | DR15: 56662 | DS15: 1.6396811 | DT15: 44605 | DU15: 1.7301904 | DV15: 12057 | DW15: 1.3738104 | DX15: 6939 | DY15: 1.6039443 | DZ15: 5292 | EA15: 1.6678117 | EB15: 1647 | EC15: 1.4282122 | ED15: 49723 | EE15: 1.6447953 | EF15: 39313 | EG15: 1.7389454 | EH15: 10410 | EI15: 1.3655808 | EJ15: Keelung City
A16: 宜蘭縣 | B16: 377508 | C16: 1.5870054 | D16: 255984 | E16: 1.583583 | F16: 121524 | G16: 1.5942634 | H16: 148869 | I16: 1.0305989 | J16: 98197 | K16: 1.0342798 | L16: 50672 | M16: 1.0235397 | N16: 18915 | O16: 1.5860837 | P16: 11324 | Q16: 1.5190621 | R16: 7591 | S16: 1.6978305 | T16: Yilan County | U16: 宜蘭縣 | V16: 101819 | W16: 0.86721779 | X16: 66288 | Y16: 0.8741267 | Z16: 35531 | AA16: 0.85461595 | AB16: 20622 | AC16: 2.4699875 | AD16: 14004 | AE16: 2.3889458 | AF16: 6618 | AG16: 2.6610053 | AH16: 6596 | AI16: 1.0767151 | AJ16: 5786 | AK16: 1.1031732 | AL16: 810 | AM16: 0.91923238 | AN16: Yilan County | AO16: 宜蘭縣 | AP16: 917 | AQ16: 1.4338207 | AR16: 795 | AS16: 1.4520018 | AT16: 122 | AU16: 1.3256547 | AV16: 100061 | AW16: 2.7968523 | AX16: 66255 | AY16: 2.7956994 | AZ16: 33806 | BA16: 2.7991147 | BB16: 100061 | BC16: 2.7972495 | BD16: 66255 | BE16: 2.7962693 | BF16: 33806 | BG16: 2.7991727 | BH16: Yilan County | BI16: 宜蘭縣 | BJ16: 0 | BK16: 0 | BL16: 0 | BM16: 0 | BN16: 0 | BO16: 0 | BP16: 72977 | BQ16: 3.7826479 | BR16: 47627 | BS16: 3.5470775 | BT16: 25350 | BU16: 4.3219117 | BV16: 39647 | BW16: 2.7751451 | BX16: 27636 | BY16: 2.6613535 | BZ16: 12011 | CA16: 3.0779521 | CB16: Yilan County | CC16: 宜蘭縣 | CD16: 33330 | CE16: 6.6578641 | CF16: 19991 | CG16: 6.5696765 | CH16: 13339 | CI16: 6.7945538 | CJ16: 0 | CK16: 0 | CL16: 0 | CM16: 0 | CN16: 0 | CO16: 0 | CP16: 0 | CQ16: 0 | CR16: 0 | CS16: 0 | CT16: 0 | CU16: 0 | CV16: Yilan County | CW16: 宜蘭縣 | CX16: 0 | CY16: 0 | CZ16: 0 | DA16: 0 | DB16: 0 | DC16: 0 | DD16: 0 | DE16: 0 | DF16: 0 | DG16: 0 | DH16: 0 | DI16: 0 | DJ16: 4902 | DK16: 1.7342881 | DL16: 4902 | DM16: 1.7342881 | DN16: 0 | DO16: 0 | DP16: Yilan County | DQ16: 宜蘭縣 | DR16: 50699 | DS16: 1.4671242 | DT16: 39003 | DU16: 1.5128935 | DV16: 11696 | DW16: 1.332677 | DX16: 6291 | DY16: 1.4541596 | DZ16: 4611 | EA16: 1.4531897 | EB16: 1680 | EC16: 1.4568284 | ED16: 44408 | EE16: 1.4689795 | EF16: 34392 | EG16: 1.5212731 | EH16: 10016 | EI16: 1.313896 | EJ16: Yilan County
A17: 金門縣 | B17: 64086 | C17: 0.26941106 | D17: 43534 | E17: 0.26931254 | F17: 20552 | G17: 0.26962 | H17: 24171 | I17: 0.16733239 | J17: 15741 | K17: 0.16579528 | L17: 8430 | M17: 0.17028022 | N17: 4092 | O17: 0.34312739 | P17: 2621 | Q17: 0.35159499 | R17: 1471 | S17: 0.32900917 | T17: Kinmen County | U17: 金門縣 | V17: 11007 | W17: 0.093749361 | X17: 6914 | Y17: 0.091173546 | Z17: 4093 | AA17: 0.09844764 | AB17: 7959 | AC17: 0.95328439 | AD17: 5224 | AE17: 0.89116343 | AF17: 2735 | AG17: 1.0997053 | AH17: 1024 | AI17: 0.16715529 | AJ17: 907 | AK17: 0.17293088 | AL17: 117 | AM17: 0.13277801 | AN17: Kinmen County | AO17: 金門縣 | AP17: 89 | AQ17: 0.13916035 | AR17: 75 | AS17: 0.1369813 | AT17: 14 | AU17: 0.15212431 | AV17: 5079 | AW17: 0.14196553 | AX17: 3281 | AY17: 0.13844524 | AZ17: 1798 | BA17: 0.14887323 | BB17: 5079 | BC17: 0.14198569 | BD17: 3281 | BE17: 0.13847347 | BF17: 1798 | BG17: 0.14887631 | BH17: Kinmen County | BI17: 金門縣 | BJ17: 0 | BK17: 0 | BL17: 0 | BM17: 0 | BN17: 0 | BO17: 0 | BP17: 15638 | BQ17: 0.81057112 | BR17: 9640 | BS17: 0.71795047 | BT17: 5998 | BU17: 1.0225967 | BV17: 4385 | BW17: 0.30693398 | BX17: 3757 | BY17: 0.36180001 | BZ17: 628 | CA17: 0.16093197 | CB17: Kinmen County | CC17: 金門縣 | CD17: 11253 | CE17: 2.2478531 | CF17: 5883 | CG17: 1.9333403 | CH17: 5370 | CI17: 2.735344 | CJ17: 0 | CK17: 0 | CL17: 0 | CM17: 0 | CN17: 0 | CO17: 0 | CP17: 0 | CQ17: 0 | CR17: 0 | CS17: 0 | CT17: 0 | CU17: 0 | CV17: Kinmen County | CW17: 金門縣 | CX17: 0 | CY17: 0 | CZ17: 0 | DA17: 0 | DB17: 0 | DC17: 0 | DD17: 0 | DE17: 0 | DF17: 0 | DG17: 0 | DH17: 0 | DI17: 0 | DJ17: 385 | DK17: 0.1362099 | DL17: 385 | DM17: 0.1362099 | DN17: 0 | DO17: 0 | DP17: Kinmen County | DQ17: 金門縣 | DR17: 18813 | DS17: 0.54440931 | DT17: 14487 | DU17: 0.56193853 | DV17: 4326 | DW17: 0.4929173 | DX17: 8074 | DY17: 1.8662987 | DZ17: 5865 | EA17: 1.8483968 | EB17: 2209 | EC17: 1.915556 | ED17: 10739 | EE17: 0.35523714 | EF17: 8622 | EG17: 0.38137989 | EH17: 2117 | EI17: 0.27770745 | EJ17: Kinmen County
A18: 連江縣 | B18: 7612 | C18: 0.032000078 | D18: 5105 | E18: 0.031580845 | F18: 2507 | G18: 0.032889127 | H18: 4554 | I18: 0.031526694 | J18: 2992 | K18: 0.031513848 | L18: 1562 | M18: 0.03155133 | N18: 1157 | O18: 0.097018179 | P18: 760 | Q18: 0.10195047 | R18: 397 | S18: 0.088794453 | T18: Lienchiang County | U18: 連江縣 | V18: 1707 | W18: 0.014538944 | X18: 1107 | Y18: 0.014597789 | Z18: 600 | AA18: 0.014431611 | AB18: 1500 | AC18: 0.17966159 | AD18: 947 | AE18: 0.16154896 | AF18: 553 | AG18: 0.22235357 | AH18: 189 | AI18: 0.030851904 | AJ18: 177 | AK18: 0.033747262 | AL18: 12 | AM18: 0.013618258 | AN18: Lienchiang County | AO18: 連江縣 | AP18: 1 | AQ18: 0.0015635994 | AR18: 1 | AS18: 0.0018264173 | AT18: 0 | AU18: 0 | AV18: 741 | AW18: 0.020712041 | AX18: 438 | AY18: 0.01848187 | AZ18: 303 | BA18: 0.025088202 | BB18: 741 | BC18: 0.020714983 | BD18: 438 | BE18: 0.018485638 | BF18: 303 | BG18: 0.025088721 | BH18: Lienchiang County | BI18: 連江縣 | BJ18: 0 | BK18: 0 | BL18: 0 | BM18: 0 | BN18: 0 | BO18: 0 | BP18: 767 | BQ18: 0.039756238 | BR18: 422 | BS18: 0.031428952 | BT18: 345 | BU18: 0.058818916 | BV18: 72 | BW18: 0.0050397369 | BX18: 66 | BY18: 0.0063558159 | BZ18: 6 | CA18: 0.0015375666 | CB18: Lienchiang County | CC18: 連江縣 | CD18: 695 | CE18: 0.13883035 | CF18: 356 | CG18: 0.11699289 | CH18: 339 | CI18: 0.17267814 | CJ18: 0 | CK18: 0 | CL18: 0 | CM18: 0 | CN18: 0 | CO18: 0 | CP18: 0 | CQ18: 0 | CR18: 0 | CS18: 0 | CT18: 0 | CU18: 0 | CV18: Lienchiang County | CW18: 連江縣 | CX18: 0 | CY18: 0 | CZ18: 0 | DA18: 0 | DB18: 0 | DC18: 0 | DD18: 0 | DE18: 0 | DF18: 0 | DG18: 0 | DH18: 0 | DI18: 0 | DJ18: 83 | DK18: 0.029364731 | DL18: 83 | DM18: 0.029364731 | DN18: 0 | DO18: 0 | DP18: Lienchiang County | DQ18: 連江縣 | DR18: 1467 | DS18: 0.042451946 | DT18: 1170 | DU18: 0.045383314 | DV18: 297 | DW18: 0.033841063 | DX18: 265 | DY18: 0.061254539 | DZ18: 184 | EA18: 0.057988919 | EB18: 81 | EC18: 0.070239943 | ED18: 1202 | EE18: 0.039761155 | EF18: 986 | EG18: 0.043614076 | EH18: 216 | EI18: 0.028334818 | EJ18: Lienchiang County
A19: 北區業務組 | B19: 3972585 | C19: 16.700346 | D19: 2657504 | E19: 16.440004 | F19: 1315081 | G19: 17.252439 | H19: 2675699 | I19: 18.523483 | J19: 1735953 | K19: 18.284277 | L19: 939746 | M19: 18.982225 | N19: 148779 | O19: 12.475599 | P19: 83961 | Q19: 11.262979 | R19: 64818 | S19: 14.497428 | T19: Northern Division | U19: 北區業務組 | V19: 2289995 | W19: 19.504458 | X19: 1474473 | Y19: 19.443583 | Z19: 815522 | AA19: 19.615494 | AB19: 139660 | AC19: 16.727692 | AD19: 95672 | AE19: 16.32071 | AF19: 43988 | AG19: 17.68696 | AH19: 88481 | AI19: 14.443425 | AJ19: 74454 | AK19: 14.195585 | AL19: 14027 | AM19: 15.918608 | AN19: Northern Division | AO19: 北區業務組 | AP19: 8784 | AQ19: 13.734657 | AR19: 7393 | AS19: 13.502703 | AT19: 1391 | AU19: 15.114637 | AV19: 477308 | AW19: 13.341462 | AX19: 304725 | AY19: 12.858192 | AZ19: 172583 | BA19: 14.28976 | BB19: 477308 | BC19: 13.343356 | BD19: 304725 | BE19: 12.860813 | BF19: 172583 | BG19: 14.290055 | BH19: Northern Division | BI19: 北區業務組 | BJ19: 0 | BK19: 0 | BL19: 0 | BM19: 0 | BN19: 0 | BO19: 0 | BP19: 210113 | BQ19: 10.890877 | BR19: 144449 | BS19: 10.758011 | BT19: 65664 | BU19: 11.19503 | BV19: 181570 | BW19: 12.709237 | BX19: 129692 | BY19: 12.489371 | BZ19: 51878 | CA19: 13.294313 | CB19: Northern Division | CC19: 北區業務組 | CD19: 28543 | CE19: 5.7016326 | CF19: 14757 | CG19: 4.8496181 | CH19: 13786 | CI19: 7.0222444 | CJ19: 51669 | CK19: 53.086407 | CL19: 51669 | CM19: 53.086407 | CN19: 0 | CO19: 0 | CP19: 0 | CQ19: 0 | CR19: 0 | CS19: 0 | CT19: 0 | CU19: 0 | CV19: Northern Division | CW19: 北區業務組 | CX19: 0 | CY19: 0 | CZ19: 0 | DA19: 0 | DB19: 0 | DC19: 0 | DD19: 51669 | DE19: 99.537652 | DF19: 51669 | DG19: 99.537652 | DH19: 0 | DI19: 0 | DJ19: 42356 | DK19: 14.985211 | DL19: 42356 | DM19: 14.985211 | DN19: 0 | DO19: 0 | DP19: Northern Division | DQ19: 北區業務組 | DR19: 515440 | DS19: 14.915767 | DT19: 378352 | DU19: 14.675955 | DV19: 137088 | DW19: 15.620214 | DX19: 73928 | DY19: 17.088398 | DZ19: 54767 | EA19: 17.260213 | EB19: 19161 | EC19: 16.615649 | ED19: 441512 | EE19: 14.604848 | EF19: 323585 | EG19: 14.313246 | EH19: 117927 | EI19: 15.46963 | EJ19: Northern Division
A20: 桃園市 | B20: 2215602 | C20: 9.3141667 | D20: 1488737 | E20: 9.2097105 | F20: 726865 | G20: 9.5356821 | H20: 1478448 | I20: 10.235085 | J20: 954946 | K20: 10.058163 | L20: 523502 | M20: 10.574382 | N20: 84968 | O20: 7.1248407 | P20: 49366 | Q20: 6.6222198 | R20: 35602 | S20: 7.9628718 | T20: Taoyuan City | U20: 桃園市 | V20: 1248757 | W20: 10.635974 | X20: 796498 | Y20: 10.503261 | Z20: 452259 | AA20: 10.878043 | AB20: 81614 | AC20: 9.7752673 | AD20: 56082 | AE20: 9.567042 | AF20: 25532 | AG20: 10.26606 | AH20: 57661 | AI20: 9.4124426 | AJ20: 48476 | AK20: 9.2425551 | AL20: 9185 | AM20: 10.423641 | AN20: Taoyuan City | AO20: 桃園市 | AP20: 5448 | AQ20: 8.5184896 | AR20: 4524 | AS20: 8.2627119 | AT20: 924 | AU20: 10.040204 | AV20: 250467 | AW20: 7.0009216 | AX20: 160130 | AY20: 6.7568537 | AZ20: 90337 | BA20: 7.4798446 | BB20: 250467 | BC20: 7.0019158 | BD20: 160130 | BE20: 6.7582311 | BF20: 90337 | BG20: 7.4799994 | BH20: Taoyuan City | BI20: 桃園市 | BJ20: 0 | BK20: 0 | BL20: 0 | BM20: 0 | BN20: 0 | BO20: 0 | BP20: 71583 | BQ20: 3.7103921 | BR20: 49390 | BS20: 3.678379 | BT20: 22193 | BU20: 3.783676 | BV20: 68195 | BW20: 4.7734008 | BX20: 47628 | BY20: 4.5865879 | BZ20: 20567 | CA20: 5.270522 | CB20: Taoyuan City | CC20: 桃園市 | CD20: 3388 | CE20: 0.67677298 | CF20: 1762 | CG20: 0.57904907 | CH20: 1626 | CI20: 0.82824383 | CJ20: 51669 | CK20: 53.086407 | CL20: 51669 | CM20: 53.086407 | CN20: 0 | CO20: 0 | CP20: 0 | CQ20: 0 | CR20: 0 | CS20: 0 | CT20: 0 | CU20: 0 | CV20: Taoyuan City | CW20: 桃園市 | CX20: 0 | CY20: 0 | CZ20: 0 | DA20: 0 | DB20: 0 | DC20: 0 | DD20: 51669 | DE20: 99.537652 | DF20: 51669 | DG20: 99.537652 | DH20: 0 | DI20: 0 | DJ20: 28811 | DK20: 10.1931 | DL20: 28811 | DM20: 10.1931 | DN20: 0 | DO20: 0 | DP20: Taoyuan City | DQ20: 桃園市 | DR20: 334624 | DS20: 9.6833264 | DT20: 243791 | DU20: 9.4564475 | DV20: 90833 | DW20: 10.349782 | DX20: 52455 | DY20: 12.124932 | DZ20: 39065 | EA20: 12.311615 | EB20: 13390 | EC20: 11.61127 | ED20: 282169 | EE20: 9.3339146 | EF20: 204726 | EG20: 9.0557154 | EH20: 77443 | EI20: 10.15895 | EJ20: Taoyuan City
A21: 新竹市 | B21: 742011 | C21: 3.1193392 | D21: 489665 | E21: 3.0291938 | F21: 252346 | G21: 3.3105064 | H21: 576408 | I21: 3.9903905 | J21: 379080 | K21: 3.9927371 | L21: 197328 | M21: 3.9858904 | N21: 21949 | O21: 1.8404944 | P21: 11253 | Q21: 1.5095377 | R21: 10696 | S21: 2.392306 | T21: Hsinchu City | U21: 新竹市 | V21: 523476 | W21: 4.4585755 | X21: 345089 | Y21: 4.5506202 | Z21: 178387 | AA21: 4.2906863 | AB21: 19196 | AC21: 2.2991892 | AD21: 12838 | AE21: 2.1900375 | AF21: 6358 | AG21: 2.5564629 | AH21: 10540 | AI21: 1.7205242 | AJ21: 8840 | AK21: 1.6854565 | AL21: 1700 | AM21: 1.9292532 | AN21: Hsinchu City | AO21: 新竹市 | AP21: 1247 | AQ21: 1.9498085 | AR21: 1060 | AS21: 1.9360023 | AT21: 187 | AU21: 2.0319461 | AV21: 89453 | AW21: 2.5003431 | AX21: 55860 | AY21: 2.3570714 | AZ21: 33593 | BA21: 2.7814784 | BB21: 89453 | BC21: 2.5006982 | BD21: 55860 | BE21: 2.3575519 | BF21: 33593 | BG21: 2.781536 | BH21: Hsinchu City | BI21: 新竹市 | BJ21: 0 | BK21: 0 | BL21: 0 | BM21: 0 | BN21: 0 | BO21: 0 | BP21: 15838 | BQ21: 0.8209378 | BR21: 8718 | BS21: 0.64928343 | BT21: 7120 | BU21: 1.213886 | BV21: 4548 | BW21: 0.31834338 | BX21: 3147 | BY21: 0.30305686 | BZ21: 1401 | CA21: 0.3590218 | CB21: Hsinchu City | CC21: 新竹市 | CD21: 11290 | CE21: 2.2552441 | CF21: 5571 | CG21: 1.8308073 | CH21: 5719 | CI21: 2.9131159 | CJ21: 0 | CK21: 0 | CL21: 0 | CM21: 0 | CN21: 0 | CO21: 0 | CP21: 0 | CQ21: 0 | CR21: 0 | CS21: 0 | CT21: 0 | CU21: 0 | CV21: Hsinchu City | CW21: 新竹市 | CX21: 0 | CY21: 0 | CZ21: 0 | DA21: 0 | DB21: 0 | DC21: 0 | DD21: 0 | DE21: 0 | DF21: 0 | DG21: 0 | DH21: 0 | DI21: 0 | DJ21: 3988 | DK21: 1.4109223 | DL21: 3988 | DM21: 1.4109223 | DN21: 0 | DO21: 0 | DP21: Hsinchu City | DQ21: 新竹市 | DR21: 56324 | DS21: 1.6299001 | DT21: 42019 | DU21: 1.6298816 | DV21: 14305 | DW21: 1.6299542 | DX21: 8502 | DY21: 1.9652305 | DZ21: 6291 | EA21: 1.9826537 | EB21: 2211 | EC21: 1.9172903 | ED21: 47822 | EE21: 1.5819118 | EF21: 35728 | EG21: 1.5803689 | EH21: 12094 | EI21: 1.5864874 | EJ21: Hsinchu City
A22: 新竹縣 | B22: 576302 | C22: 2.4227153 | D22: 379774 | E22: 2.3493798 | F22: 196528 | G22: 2.5782347 | H22: 399036 | I22: 2.7624694 | J22: 257300 | K22: 2.7100645 | L22: 141736 | M22: 2.8629701 | N22: 22109 | O22: 1.8539109 | P22: 11676 | Q22: 1.5662812 | R22: 10433 | S22: 2.3334824 | T22: Hsinchu County | U22: 新竹縣 | V22: 342585 | W22: 2.9178818 | X22: 220277 | Y22: 2.9047491 | Z22: 122308 | AA22: 2.9418358 | AB22: 21079 | AC22: 2.5247244 | AD22: 14313 | AE22: 2.4416581 | AF22: 6766 | AG22: 2.720514 | AH22: 12093 | AI22: 1.9740322 | AJ22: 10050 | AK22: 1.9161581 | AL22: 2043 | AM22: 2.3185083 | AN22: Hsinchu County | AO22: 新竹縣 | AP22: 1170 | AQ22: 1.8294113 | AR22: 984 | AS22: 1.7971946 | AT22: 186 | AU22: 2.0210801 | AV22: 72731 | AW22: 2.0329386 | AX22: 45450 | AY22: 1.9178105 | AZ22: 27281 | BA22: 2.258849 | BB22: 72731 | BC22: 2.0332273 | BD22: 45450 | BE22: 1.9182015 | BF22: 27281 | BG22: 2.2588957 | BH22: Hsinchu County | BI22: 新竹縣 | BJ22: 0 | BK22: 0 | BL22: 0 | BM22: 0 | BN22: 0 | BO22: 0 | BP22: 36244 | BQ22: 1.8786507 | BR22: 26125 | BS22: 1.9456905 | BT22: 10119 | BU22: 1.7251844 | BV22: 36244 | BW22: 2.5369476 | BX22: 26125 | BY22: 2.5158438 | BZ22: 10119 | CA22: 2.5931061 | CB22: Hsinchu County | CC22: 新竹縣 | CD22: 0 | CE22: 0 | CF22: 0 | CG22: 0 | CH22: 0 | CI22: 0 | CJ22: 0 | CK22: 0 | CL22: 0 | CM22: 0 | CN22: 0 | CO22: 0 | CP22: 0 | CQ22: 0 | CR22: 0 | CS22: 0 | CT22: 0 | CU22: 0 | CV22: Hsinchu County | CW22: 新竹縣 | CX22: 0 | CY22: 0 | CZ22: 0 | DA22: 0 | DB22: 0 | DC22: 0 | DD22: 0 | DE22: 0 | DF22: 0 | DG22: 0 | DH22: 0 | DI22: 0 | DJ22: 4176 | DK22: 1.4774351 | DL22: 4176 | DM22: 1.4774351 | DN22: 0 | DO22: 0 | DP22: Hsinchu County | DQ22: 新竹縣 | DR22: 64115 | DS22: 1.8553555 | DT22: 46723 | DU22: 1.8123458 | DV22: 17392 | DW22: 1.9816962 | DX22: 6471 | DY22: 1.4957665 | DZ22: 4653 | EA22: 1.4664263 | EB22: 1818 | EC22: 1.5764965 | ED22: 57644 | EE22: 1.9068153 | EF22: 42070 | EG22: 1.8608968 | EH22: 15574 | EI22: 2.0429928 | EJ22: Hsinchu County
... A39: 臺東縣 | B39: 174167 | C39: 0.73218045 | D39: 125343 | E39: 0.77540408 | F39: 48824 | G39: 0.64051804 | H39: 60416 | I39: 0.41825137 | J39: 40886 | K39: 0.4306401 | L39: 19530 | M39: 0.39449262 | N39: 13912 | O39: 1.166566 | P39: 9135 | Q39: 1.2254179 | R39: 4777 | S39: 1.0684411 | T39: Taitung County | U39: 臺東縣 | V39: 31485 | W39: 0.26816559 | X39: 20599 | Y39: 0.27163493 | Z39: 10886 | AA39: 0.26183753 | AB39: 11723 | AC39: 1.4041152 | AD39: 8207 | AE39: 1.4000341 | AF39: 3516 | AG39: 1.4137345 | AH39: 2936 | AI39: 0.47926556 | AJ39: 2631 | AK39: 0.50163302 | AL39: 305 | AM39: 0.34613071 | AN39: Taitung County | AO39: 臺東縣 | AP39: 360 | AQ39: 0.56289579 | AR39: 314 | AS39: 0.57349503 | AT39: 46 | AU39: 0.49983701 | AV39: 23219 | AW39: 0.64900525 | AX39: 15524 | AY39: 0.6550515 | AZ39: 7695 | BA39: 0.63714097 | BB39: 23219 | BC39: 0.64909742 | BD39: 15524 | BE39: 0.65518503 | BF39: 7695 | BG39: 0.63715416 | BH39: Taitung County | BI39: 臺東縣 | BJ39: 0 | BK39: 0 | BL39: 0 | BM39: 0 | BN39: 0 | BO39: 0 | BP39: 38758 | BQ39: 2.0089599 | BR39: 28357 | BS39: 2.1119213 | BT39: 10401 | BU39: 1.7732625 | BV39: 32108 | BW39: 2.2474427 | BX39: 23988 | BY39: 2.3100502 | BZ39: 8120 | CA39: 2.0808401 | CB39: Taitung County | CC39: 臺東縣 | CD39: 6650 | CE39: 1.3283767 | CF39: 4369 | CG39: 1.4357919 | CH39: 2281 | CI39: 1.1618845 | CJ39: 0 | CK39: 0 | CL39: 0 | CM39: 0 | CN39: 0 | CO39: 0 | CP39: 0 | CQ39: 0 | CR39: 0 | CS39: 0 | CT39: 0 | CU39: 0 | CV39: Taitung County | CW39: 臺東縣 | CX39: 0 | CY39: 0 | CZ39: 0 | DA39: 0 | DB39: 0 | DC39: 0 | DD39: 0 | DE39: 0 | DF39: 0 | DG39: 0 | DH39: 0 | DI39: 0 | DJ39: 6905 | DK39: 2.4429334 | DL39: 6905 | DM39: 2.4429334 | DN39: 0 | DO39: 0 | DP39: Taitung County | DQ39: 臺東縣 | DR39: 44869 | DS39: 1.2984161 | DT39: 33671 | DU39: 1.3060697 | DV39: 11198 | DW39: 1.2759334 | DX39: 5498 | DY39: 1.2708583 | DZ39: 3964 | EA39: 1.249283 | EB39: 1534 | EC39: 1.3302231 | ED39: 39371 | EE39: 1.3023598 | EF39: 29707 | EG39: 1.3140399 | EH39: 9664 | EI39: 1.2677207 | EJ39: Taitung County
A40: 備註：1.本表縣市別係按保險對象所屬投保單位的通訊地址統計。 | K40: Note：1. The locales were determined by the mailing addresses of the group insurance applicants to which the | U40: 2.因農田水利法自109年10月1日起施行，自該日起第三類第一目已無水利會投保單位及會員加保。 | AE40: 2.Since the Irrigation Act came into effect on October 1, 2020, there is no group insurance applicant for
K41: beneficiaries belong. | AE41: the irrigation association and members for Item 1 of Category 3 from that date.

Sheet 110
A1: 保險對象人數－按保險對象類目及縣市別分 | K1: Beneficiaries by Beneficiary Category, | U1: 保險對象人數－按保險對象類目及縣市別分（續一） | AE1: Beneficiaries by Beneficiary Category, | AO1: 保險對象人數－按保險對象類目及縣市別分（續二） | AY1: Beneficiaries by Beneficiary Category, | BI1: 保險對象人數－按保險對象類目及縣市別分（續三） | BS1: Beneficiaries by Beneficiary Category, | CC1: 保險對象人數－按保險對象類目及縣市別分（續四） | CM1: Beneficiaries by Beneficiary Category, | CW1: 保險對象人數－按保險對象類目及縣市別分（續五） | DG1: Beneficiaries by Beneficiary Category, | DQ1: 保險對象人數－按保險對象類目及縣市別分（續完） | EA1: Beneficiaries by Beneficiary Category,
K2: NHI Regional Division and Locale | AE2: NHI Regional Division and Locale（Cont'd 1） | AY2: NHI Regional Division and Locale（Cont'd 2） | BS2: NHI Regional Division and Locale（Cont'd 3） | CM2: NHI Regional Division and Locale（Cont'd 4） | DG2: NHI Regional Division and Locale（Cont'd 5） | EA2: NHI Regional Division and Locale（Cont'd）
A3: 中華民國110年底 | K3: End of 2021 | U3: 中華民國110年底 | AE3: End of 2021 | AO3: 中華民國110年底 | AY3: End of 2021 | BI3: 中華民國110年底 | BS3: End of 2021 | CC3: 中華民國110年底 | CM3: End of 2021 | CW3: 中華民國110年底 | DG3: End of 2021 | DQ3: 中華民國110年底 | EA3: End of 2021
A4: 單位：人 | T4: Unit：Persons | U4: 單位：人 | AN4: Unit：Persons | AO4: 單位：人 | BH4: Unit：Persons | BI4: 單位：人 | CB4: Unit：Persons | CC4: 單位：人 | CV4: Unit：Persons | CW4: 單位：人 | DP4: Unit：Persons | DQ4: 單位：人 | EJ4: Unit：Persons
A5: 業務組 縣市別 | B5: 總計 Grand Total | H5: 第一類 | K5: Category 1 | T5: Division & Locale | U5: 業務組 縣市別 | V5: 第一類 | AE5: Category 1 | AN5: Division & Locale | AO5: 業務組 縣市別 | AP5: 第一類 Category 1 | AV5: 第二類 | AY5: Category 2 | BH5: Division & Locale | BI5: 業務組 縣市別 | BJ5: 第二類 Category 2 | BP5: 第三類 | BS5: Category 3 | CB5: Division & Locale | CC5: 業務組 縣市別 | CD5: 第三類 Category 3 | CJ5: 第四類 | CM5: Category 4 | CV5: Division & Locale | CW5: 業務組 縣市別 | CX5: 第四類 | DG5: Category 4 | DJ5: 第五類 Category 5 | DP5: Division & Locale | DQ5: 業務組 縣市別 | DR5: 第六類 | EA5: Category 6 | EJ5: Division & Locale
B7: 保險對象Beneficiaries | D7: 被保險人Insureds | F7: 眷屬Dependents | H7: 合計 | K7: Total | N7: 第一目 Item 1 | V7: 第二目 Item 2 | AB7: 第三目 | AE7: Item 3 | AH7: 第四目 Item 4 | AP7: 第五目 Item 5 | AV7: 合計 | AY7: Total | BB7: 第一目 Item 1 | BJ7: 第二目 Item 2 | BP7: 合計 | BS7: Total | BV7: 第一目 Item 1 | CD7: 第二目 Item 2 | CJ7: 合計 | CM7: Total | CP7: 第一目 Item 1 | CX7: 第二目 Item 2 | DD7: 第三目 | DG7: Item 3 | DR7: 合計 Total | DX7: 第一目 | EA7: Item 1 | ED7: 第二目 Item 2
H8: 保險對象Beneficiaries | J8: 被保險人Insureds | L8: 眷屬Dependents | N8: 保險對象Beneficiaries | P8: 被保險人Insureds | R8: 眷屬Dependents | V8: 保險對象Beneficiaries | X8: 被保險人Insureds | Z8: 眷屬Dependents | AB8: 保險對象Beneficiaries | AD8: 被保險人Insureds | AF8: 眷屬Dependents | AH8: 保險對象Beneficiaries | AJ8: 被保險人Insureds | AL8: 眷屬Dependents | AP8: 保險對象Beneficiaries | AR8: 被保險人Insureds | AT8: 眷屬Dependents | AV8: 保險對象Beneficiaries | AX8: 被保險人Insureds | AZ8: 眷屬Dependents | BB8: 保險對象Beneficiaries | BD8: 被保險人Insureds | BF8: 眷屬Dependents | BJ8: 保險對象Beneficiaries | BL8: 被保險人Insureds | BN8: 眷屬Dependents | BP8: 保險對象Beneficiaries | BR8: 被保險人Insureds | BT8: 眷屬Dependents | BV8: 保險對象Beneficiaries | BX8: 被保險人Insureds | BZ8: 眷屬Dependents | CD8: 保險對象Beneficiaries | CF8: 被保險人Insureds | CH8: 眷屬Dependents | CJ8: 保險對象Beneficiaries | CL8: 被保險人Insureds | CN8: 眷屬Dependents | CP8: 保險對象Beneficiaries | CR8: 被保險人Insureds | CT8: 眷屬Dependents | CX8: 保險對象Beneficiaries | CZ8: 被保險人Insureds | DB8: 眷屬Dependents | DD8: 保險對象Beneficiaries | DF8: 被保險人Insureds | DH8: 眷屬Dependents | DJ8: 保險對象Beneficiaries | DL8: 被保險人Insureds | DN8: 眷屬Dependents | DR8: 保險對象Beneficiaries | DT8: 被保險人Insureds | DV8: 眷屬Dependents | DX8: 保險對象Beneficiaries | DZ8: 被保險人Insureds | EB8: 眷屬Dependents | ED8: 保險對象Beneficiaries | EF8: 被保險人Insureds | EH8: 眷屬Dependents
C9: 百分比 | E9: 百分比 | G9: 百分比 | I9: 百分比 | K9: 百分比 | M9: 百分比 | O9: 百分比 | Q9: 百分比 | S9: 百分比 | W9: 百分比 | Y9: 百分比 | AA9: 百分比 | AC9: 百分比 | AE9: 百分比 | AG9: 百分比 | AI9: 百分比 | AK9: 百分比 | AM9: 百分比 | AQ9: 百分比 | AS9: 百分比 | AU9: 百分比 | AW9: 百分比 | AY9: 百分比 | BA9: 百分比 | BC9: 百分比 | BE9: 百分比 | BG9: 百分比 | BK9: 百分比 | BM9: 百分比 | BO9: 百分比 | BQ9: 百分比 | BS9: 百分比 | BU9: 百分比 | BW9: 百分比 | BY9: 百分比 | CA9: 百分比 | CE9: 百分比 | CG9: 百分比 | CI9: 百分比 | CK9: 百分比 | CM9: 百分比 | CO9: 百分比 | CQ9: 百分比 | CS9: 百分比 | CU9: 百分比 | CY9: 百分比 | DA9: 百分比 | DC9: 百分比 | DE9: 百分比 | DG9: 百分比 | DI9: 百分比 | DK9: 百分比 | DM9: 百分比 | DO9: 百分比 | DS9: 百分比 | DU9: 百分比 | DW9: 百分比 | DY9: 百分比 | EA9: 百分比 | EC9: 百分比 | EE9: 百分比 | EG9: 百分比 | EI9: 百分比
C10: % | E10: % | G10: % | I10: % | K10: % | M10: % | O10: % | Q10: % | S10: % | W10: % | Y10: % | AA10: % | AC10: % | AE10: % | AG10: % | AI10: % | AK10: % | AM10: % | AQ10: % | AS10: % | AU10: % | AW10: % | AY10: % | BA10: % | BC10: % | BE10: % | BG10: % | BK10: % | BM10: % | BO10: % | BQ10: % | BS10: % | BU10: % | BW10: % | BY10: % | CA10: % | CE10: % | CG10: % | CI10: % | CK10: % | CM10: % | CO10: % | CQ10: % | CS10: % | CU10: % | CY10: % | DA10: % | DC10: % | DE10: % | DG10: % | DI10: % | DK10: % | DM10: % | DO10: % | DS10: % | DU10: % | DW10: % | DY10: % | EA10: % | EC10: % | EE10: % | EG10: % | EI10: %
A11: 總 計 | B11: 23861265 | C11: 100 | D11: 16102302 | E11: 100 | F11: 7758963 | G11: 100 | H11: 14325078 | I11: 100 | J11: 9340046 | K11: 100 | L11: 4985032 | M11: 100 | N11: 1208682 | O11: 100 | P11: 749309 | Q11: 100 | R11: 459373 | S11: 100 | T11: Grand Total | U11: 總 計 | V11: 11612318 | W11: 100 | X11: 7428036 | Y11: 100 | Z11: 4184282 | AA11: 100 | AB11: 842471 | AC11: 100 | AD11: 595079 | AE11: 100 | AF11: 247392 | AG11: 100 | AH11: 599263 | AI11: 100 | AJ11: 513977 | AK11: 100 | AL11: 85286 | AM11: 100 | AN11: Grand Total | AO11: 總 計 | AP11: 62344 | AQ11: 100 | AR11: 53645 | AS11: 100 | AT11: 8699 | AU11: 100 | AV11: 3623011 | AW11: 100 | AX11: 2388167 | AY11: 100 | AZ11: 1234844 | BA11: 100 | BB11: 3622484 | BC11: 100 | BD11: 2387683 | BE11: 100 | BF11: 1234801 | BG11: 100 | BH11: Grand Total | BI11: 總 計 | BJ11: 527 | BK11: 100 | BL11: 484 | BM11: 100 | BN11: 43 | BO11: 100 | BP11: 2010995 | BQ11: 100 | BR11: 1388402 | BS11: 100 | BT11: 622593 | BU11: 100 | BV11: 1498341 | BW11: 100 | BX11: 1081879 | BY11: 100 | BZ11: 416462 | CA11: 100 | CB11: Grand Total | CC11: 總 計 | CD11: 512654 | CE11: 100 | CF11: 306523 | CG11: 100 | CH11: 206131 | CI11: 100 | CJ11: 98233 | CK11: 100 | CL11: 98233 | CM11: 100 | CN11: 0 | CO11: 0 | CP11: 39597 | CQ11: 100 | CR11: 39597 | CS11: 100 | CT11: 0 | CU11: 0 | CV11: Grand Total | CW11: 總 計 | CX11: 8952 | CY11: 100 | CZ11: 8952 | DA11: 100 | DB11: 0 | DC11: 0 | DD11: 49684 | DE11: 100 | DF11: 49684 | DG11: 100 | DH11: 0 | DI11: 0 | DJ11: 287491 | DK11: 100 | DL11: 287491 | DM11: 100 | DN11: 0 | DO11: 0 | DP11: Grand Total | DQ11: 總 計 | DR11: 3516457 | DS11: 100 | DT11: 2599963 | DU11: 100 | DV11: 916494 | DW11: 100 | DX11: 446239 | DY11: 100 | DZ11: 324355 | EA11: 100 | EB11: 121884 | EC11: 100 | ED11: 3070218 | EE11: 100 | EF11: 2275608 | EG11: 100 | EH11: 794610 | EI11: 100 | EJ11: Grand Total
A12: 臺北業務組 | B12: 8950230 | C12: 37.509453 | D12: 6014239 | E12: 37.350181 | F12: 2935991 | G12: 37.839992 | H12: 6025398 | I12: 42.061886 | J12: 3954418 | K12: 42.338314 | L12: 2070980 | M12: 41.543966 | N12: 588428 | O12: 48.683442 | P12: 386054 | Q12: 51.521335 | R12: 202374 | S12: 44.054396 | T12: Taipei Division | U12: 臺北業務組 | V12: 4872136 | W12: 41.956619 | X12: 3133906 | Y12: 42.190237 | Z12: 1738230 | AA12: 41.541894 | AB12: 307397 | AC12: 36.487547 | AD12: 218703 | AE12: 36.751927 | AF12: 88694 | AG12: 35.851604 | AH12: 234038 | AI12: 39.054305 | AJ12: 195967 | AK12: 38.127582 | AL12: 38071 | AM12: 44.639214 | AN12: Taipei Division | AO12: 臺北業務組 | AP12: 23399 | AQ12: 37.53208 | AR12: 19788 | AS12: 36.886942 | AT12: 3611 | AU12: 41.510518 | AV12: 1309887 | AW12: 36.154651 | AX12: 856416 | AY12: 35.860809 | AZ12: 453471 | BA12: 36.722938 | BB12: 1309496 | BC12: 36.149118 | BD12: 856060 | BE12: 35.853168 | BF12: 453436 | BG12: 36.721383 | BH12: Taipei Division | BI12: 臺北業務組 | BJ12: 391 | BK12: 74.193548 | BL12: 356 | BM12: 73.553719 | BN12: 35 | BO12: 81.395349 | BP12: 199779 | BQ12: 9.934336 | BR12: 126399 | BS12: 9.1039195 | BT12: 73380 | BU12: 11.786191 | BV12: 99692 | BW12: 6.6534921 | BX12: 70560 | BY12: 6.5219863 | BZ12: 29132 | CA12: 6.995116 | CB12: Taipei Division | CC12: 臺北業務組 | CD12: 100087 | CE12: 19.523304 | CF12: 55839 | CG12: 18.216904 | CH12: 44248 | CI12: 21.465961 | CJ12: 39803 | CK12: 40.51897 | CL12: 39803 | CM12: 40.51897 | CN12: 0 | CO12: 0 | CP12: 39597 | CQ12: 100 | CR12: 39597 | CS12: 100 | CT12: 0 | CU12: 0 | CV12: Taipei Division | CW12: 臺北業務組 | CX12: 0 | CY12: 0 | CZ12: 0 | DA12: 0 | DB12: 0 | DC12: 0 | DD12: 206 | DE12: 0.4146204 | DF12: 206 | DG12: 0.4146204 | DH12: 0 | DI12: 0 | DJ12: 84813 | DK12: 29.501097 | DL12: 84813 | DM12: 29.501097 | DN12: 0 | DO12: 0 | DP12: Taipei Division | DQ12: 臺北業務組 | DR12: 1290550 | DS12: 36.700292 | DT12: 952390 | DU12: 36.630906 | DV12: 338160 | DW12: 36.897132 | DX12: 157789 | DY12: 35.359751 | DZ12: 116132 | EA12: 35.80398 | EB12: 41657 | EC12: 34.177579 | ED12: 1132761 | EE12: 36.895133 | EF12: 836258 | EG12: 36.748772 | EH12: 296503 | EI12: 37.31428 | EJ12: Taipei Division
A13: 新北市 | B13: 3324945 | C13: 13.934488 | D13: 2214645 | E13: 13.753592 | F13: 1110300 | G13: 14.309902 | H13: 2050100 | I13: 14.311266 | J13: 1322266 | K13: 14.156954 | L13: 727834 | M13: 14.600388 | N13: 127351 | O13: 10.536353 | P13: 76082 | Q13: 10.153622 | R13: 51269 | S13: 11.160647 | T13: New Taipei City | U13: 新北市 | V13: 1703407 | W13: 14.668966 | X13: 1070669 | Y13: 14.413891 | Z13: 632738 | AA13: 15.121782 | AB13: 93162 | AC13: 11.058185 | AD13: 68652 | AE13: 11.53662 | AF13: 24510 | AG13: 9.9073535 | AH13: 117078 | AI13: 19.536998 | AJ13: 99185 | AK13: 19.297556 | AL13: 17893 | AM13: 20.979997 | AN13: New Taipei City | AO13: 新北市 | AP13: 9102 | AQ13: 14.599641 | AR13: 7678 | AS13: 14.312611 | AT13: 1424 | AU13: 16.369698 | AV13: 523530 | AW13: 14.450136 | AX13: 341351 | AY13: 14.293431 | AZ13: 182179 | BA13: 14.7532 | BB13: 523530 | BC13: 14.452238 | BD13: 341351 | BE13: 14.296328 | BF13: 182179 | BG13: 14.753713 | BH13: New Taipei City | BI13: 新北市 | BJ13: 0 | BK13: 0 | BL13: 0 | BM13: 0 | BN13: 0 | BO13: 0 | BP13: 91734 | BQ13: 4.5616225 | BR13: 56997 | BS13: 4.1052231 | BT13: 34737 | BU13: 5.5794074 | BV13: 43871 | BW13: 2.9279717 | BX13: 30921 | BY13: 2.858083 | BZ13: 12950 | CA13: 3.1095274 | CB13: New Taipei City | CC13: 新北市 | CD13: 47863 | CE13: 9.3363165 | CF13: 26076 | CG13: 8.5070288 | CH13: 21787 | CI13: 10.569492 | CJ13: 0 | CK13: 0 | CL13: 0 | CM13: 0 | CN13: 0 | CO13: 0 | CP13: 0 | CQ13: 0 | CR13: 0 | CS13: 0 | CT13: 0 | CU13: 0 | CV13: New Taipei City | CW13: 新北市 | CX13: 0 | CY13: 0 | CZ13: 0 | DA13: 0 | DB13: 0 | DC13: 0 | DD13: 0 | DE13: 0 | DF13: 0 | DG13: 0 | DH13: 0 | DI13: 0 | DJ13: 31971 | DK13: 11.120696 | DL13: 31971 | DM13: 11.120696 | DN13: 0 | DO13: 0 | DP13: New Taipei City | DQ13: 新北市 | DR13: 627610 | DS13: 17.847794 | DT13: 462060 | DU13: 17.771791 | DV13: 165550 | DW13: 18.063402 | DX13: 70055 | DY13: 15.698986 | DZ13: 51286 | EA13: 15.811688 | EB13: 18769 | EC13: 15.399068 | ED13: 557555 | EE13: 18.160111 | EF13: 410774 | EG13: 18.051176 | EH13: 146781 | EI13: 18.472081 | EJ13: New Taipei City
A14: 臺北市 | B14: 4901799 | C14: 20.542913 | D14: 3307836 | E14: 20.542628 | F14: 1593963 | G14: 20.543506 | H14: 3697836 | I14: 25.813723 | J14: 2450873 | K14: 26.240481 | L14: 1246963 | M14: 25.014142 | N14: 419913 | O14: 34.741396 | P14: 285057 | Q14: 38.04265 | R14: 134856 | S14: 29.356536 | T14: Taipei City | U14: 臺北市 | V14: 2991265 | W14: 25.759413 | X14: 1949763 | Y14: 26.248702 | Z14: 1041502 | AA14: 24.890818 | AB14: 170011 | AC14: 20.180042 | AD14: 119966 | AE14: 20.159676 | AF14: 50045 | AG14: 20.229029 | AH14: 103931 | AI14: 17.343136 | AJ14: 85370 | AK14: 16.609693 | AL14: 18561 | AM14: 21.763244 | AN14: Taipei City | AO14: 臺北市 | AP14: 12716 | AQ14: 20.39651 | AR14: 10717 | AS14: 19.977631 | AT14: 1999 | AU14: 22.979653 | AV14: 579377 | AW14: 15.991588 | AX14: 377836 | AY14: 15.821172 | AZ14: 201541 | BA14: 16.321171 | BB14: 579187 | BC14: 15.98867 | BD14: 377663 | BE14: 15.817133 | BF14: 201524 | BG14: 16.320363 | BH14: Taipei City | BI14: 臺北市 | BJ14: 190 | BK14: 36.053131 | BL14: 173 | BM14: 35.743802 | BN14: 17 | BO14: 39.534884 | BP14: 8814 | BQ14: 0.4382905 | BR14: 6129 | BS14: 0.44144275 | BT14: 2685 | BU14: 0.43126087 | BV14: 8814 | BW14: 0.58825061 | BX14: 6129 | BY14: 0.56651437 | BZ14: 2685 | CA14: 0.64471668 | CB14: Taipei City | CC14: 臺北市 | CD14: 0 | CE14: 0 | CF14: 0 | CG14: 0 | CH14: 0 | CI14: 0 | CJ14: 39803 | CK14: 40.51897 | CL14: 39803 | CM14: 40.51897 | CN14: 0 | CO14: 0 | CP14: 39597 | CQ14: 100 | CR14: 39597 | CS14: 100 | CT14: 0 | CU14: 0 | CV14: Taipei City | CW14: 臺北市 | CX14: 0 | CY14: 0 | CZ14: 0 | DA14: 0 | DB14: 0 | DC14: 0 | DD14: 206 | DE14: 0.4146204 | DF14: 206 | DG14: 0.4146204 | DH14: 0 | DI14: 0 | DJ14: 42664 | DK14: 14.840117 | DL14: 42664 | DM14: 14.840117 | DN14: 0 | DO14: 0 | DP14: Taipei City | DQ14: 臺北市 | DR14: 533305 | DS14: 15.165975 | DT14: 390531 | DU14: 15.020637 | DV14: 142774 | DW14: 15.57828 | DX14: 65689 | DY14: 14.720587 | DZ14: 48595 | EA14: 14.982041 | EB14: 17094 | EC14: 14.02481 | ED14: 467616 | EE14: 15.23071 | EF14: 341936 | EG14: 15.026138 | EH14: 125680 | EI14: 15.816564 | EJ14: Taipei City
A15: 基隆市 | B15: 270078 | C15: 1.1318679 | D15: 186785 | E15: 1.1599894 | F15: 83293 | G15: 1.0735069 | H15: 101849 | I15: 0.71098391 | J15: 66477 | K15: 0.71174168 | L15: 35372 | M15: 0.70956415 | N15: 16877 | O15: 1.3963143 | P15: 10248 | Q15: 1.3676601 | R15: 6629 | S15: 1.4430539 | T15: Keelung City | U15: 基隆市 | V15: 65476 | W15: 0.56384953 | X15: 41682 | Y15: 0.56114429 | Z15: 23794 | AA15: 0.56865192 | AB15: 13339 | AC15: 1.5833186 | AD15: 9175 | AE15: 1.5418121 | AF15: 4164 | AG15: 1.6831587 | AH15: 5545 | AI15: 0.92530325 | AJ15: 4825 | AK15: 0.93875796 | AL15: 720 | AM15: 0.84421828 | AN15: Keelung City | AO15: 基隆市 | AP15: 612 | AQ15: 0.9816502 | AR15: 547 | AS15: 1.0196663 | AT15: 65 | AU15: 0.74721232 | AV15: 98416 | AW15: 2.7164146 | AX15: 66026 | AY15: 2.7647145 | AZ15: 32390 | BA15: 2.6230034 | BB15: 98215 | BC15: 2.7112611 | BD15: 65843 | BE15: 2.7576106 | BF15: 32372 | BG15: 2.621637 | BH15: Keelung City | BI15: 基隆市 | BJ15: 201 | BK15: 38.140417 | BL15: 183 | BM15: 37.809917 | BN15: 18 | BO15: 41.860465 | BP15: 6525 | BQ15: 0.32446625 | BR15: 3880 | BS15: 0.27945797 | BT15: 2645 | BU15: 0.42483613 | BV15: 698 | BW15: 0.046584856 | BX15: 504 | BY15: 0.046585616 | BZ15: 194 | CA15: 0.046582882 | CB15: Keelung City | CC15: 基隆市 | CD15: 5827 | CE15: 1.1366341 | CF15: 3376 | CG15: 1.1013855 | CH15: 2451 | CI15: 1.1890497 | CJ15: 0 | CK15: 0 | CL15: 0 | CM15: 0 | CN15: 0 | CO15: 0 | CP15: 0 | CQ15: 0 | CR15: 0 | CS15: 0 | CT15: 0 | CU15: 0 | CV15: Keelung City | CW15: 基隆市 | CX15: 0 | CY15: 0 | CZ15: 0 | DA15: 0 | DB15: 0 | DC15: 0 | DD15: 0 | DE15: 0 | DF15: 0 | DG15: 0 | DH15: 0 | DI15: 0 | DJ15: 4991 | DK15: 1.7360543 | DL15: 4991 | DM15: 1.7360543 | DN15: 0 | DO15: 0 | DP15: Keelung City | DQ15: 基隆市 | DR15: 58297 | DS15: 1.6578334 | DT15: 45411 | DU15: 1.7466018 | DV15: 12886 | DW15: 1.4060103 | DX15: 7255 | DY15: 1.6258104 | DZ15: 5481 | EA15: 1.6898152 | EB15: 1774 | EC15: 1.4554823 | ED15: 51042 | EE15: 1.6624878 | EF15: 39930 | EG15: 1.7546959 | EH15: 11112 | EI15: 1.3984219 | EJ15: Keelung City
A16: 宜蘭縣 | B16: 381032 | C16: 1.5968642 | D16: 256001 | E16: 1.589841 | F16: 125031 | G16: 1.6114396 | H16: 146927 | I16: 1.0256628 | J16: 96063 | K16: 1.0285067 | L16: 50864 | M16: 1.0203345 | N16: 19161 | O16: 1.5852805 | P16: 11307 | Q16: 1.5089903 | R16: 7854 | S16: 1.7097217 | T16: Yilan County | U16: 宜蘭縣 | V16: 99383 | W16: 0.85584119 | X16: 63902 | Y16: 0.86028124 | Z16: 35481 | AA16: 0.8479591 | AB16: 21187 | AC16: 2.514864 | AD16: 14538 | AE16: 2.443037 | AF16: 6649 | AG16: 2.6876374 | AH16: 6316 | AI16: 1.0539613 | AJ16: 5545 | AK16: 1.078842 | AL16: 771 | AM16: 0.90401707 | AN16: Yilan County | AO16: 宜蘭縣 | AP16: 880 | AQ16: 1.4115232 | AR16: 771 | AS16: 1.4372262 | AT16: 109 | AU16: 1.2530176 | AV16: 102604 | AW16: 2.8320091 | AX16: 67409 | AY16: 2.8226251 | AZ16: 35195 | BA16: 2.8501576 | BB16: 102604 | BC16: 2.8324211 | BD16: 67409 | BE16: 2.8231972 | BF16: 35195 | BG16: 2.8502568 | BH16: Yilan County | BI16: 宜蘭縣 | BJ16: 0 | BK16: 0 | BL16: 0 | BM16: 0 | BN16: 0 | BO16: 0 | BP16: 75894 | BQ16: 3.7739527 | BR16: 49107 | BS16: 3.5369439 | BT16: 26787 | BU16: 4.3024897 | BV16: 41522 | BW16: 2.7711983 | BX16: 28889 | BY16: 2.6702616 | BZ16: 12633 | CA16: 3.03341 | CB16: Yilan County | CC16: 宜蘭縣 | CD16: 34372 | CE16: 6.704717 | CF16: 20218 | CG16: 6.5959161 | CH16: 14154 | CI16: 6.8665072 | CJ16: 0 | CK16: 0 | CL16: 0 | CM16: 0 | CN16: 0 | CO16: 0 | CP16: 0 | CQ16: 0 | CR16: 0 | CS16: 0 | CT16: 0 | CU16: 0 | CV16: Yilan County | CW16: 宜蘭縣 | CX16: 0 | CY16: 0 | CZ16: 0 | DA16: 0 | DB16: 0 | DC16: 0 | DD16: 0 | DE16: 0 | DF16: 0 | DG16: 0 | DH16: 0 | DI16: 0 | DJ16: 4712 | DK16: 1.6390078 | DL16: 4712 | DM16: 1.6390078 | DN16: 0 | DO16: 0 | DP16: Yilan County | DQ16: 宜蘭縣 | DR16: 50895 | DS16: 1.4473375 | DT16: 38710 | DU16: 1.4888673 | DV16: 12185 | DW16: 1.3295232 | DX16: 6465 | DY16: 1.4487752 | DZ16: 4744 | EA16: 1.462595 | EB16: 1721 | EC16: 1.4119983 | ED16: 44430 | EE16: 1.4471285 | EF16: 33966 | EG16: 1.4926121 | EH16: 10464 | EI16: 1.3168724 | EJ16: Yilan County
A17: 金門縣 | B17: 64772 | C17: 0.2714525 | D17: 43973 | E17: 0.27308518 | F17: 20799 | G17: 0.26806417 | H17: 24173 | I17: 0.16874603 | J17: 15847 | K17: 0.16966726 | L17: 8326 | M17: 0.16701999 | N17: 3952 | O17: 0.32696772 | P17: 2600 | Q17: 0.34698636 | R17: 1352 | S17: 0.29431421 | T17: Kinmen County | U17: 金門縣 | V17: 10990 | W17: 0.09464088 | X17: 6876 | Y17: 0.09256821 | Z17: 4114 | AA17: 0.098320333 | AB17: 8157 | AC17: 0.96822324 | AD17: 5417 | AE17: 0.9102993 | AF17: 2740 | AG17: 1.107554 | AH17: 988 | AI17: 0.16486918 | AJ17: 881 | AK17: 0.17140845 | AL17: 107 | AM17: 0.12546022 | AN17: Kinmen County | AO17: 金門縣 | AP17: 86 | AQ17: 0.13794431 | AR17: 73 | AS17: 0.13607978 | AT17: 13 | AU17: 0.14944246 | AV17: 5207 | AW17: 0.14372024 | AX17: 3344 | AY17: 0.14002371 | AZ17: 1863 | BA17: 0.15086926 | BB17: 5207 | BC17: 0.14374115 | BD17: 3344 | BE17: 0.14005209 | BF17: 1863 | BG17: 0.15087451 | BH17: Kinmen County | BI17: 金門縣 | BJ17: 0 | BK17: 0 | BL17: 0 | BM17: 0 | BN17: 0 | BO17: 0 | BP17: 16007 | BQ17: 0.79597413 | BR17: 9848 | BS17: 0.70930465 | BT17: 6159 | BU17: 0.9892498 | BV17: 4704 | BW17: 0.31394723 | BX17: 4043 | BY17: 0.37370168 | BZ17: 661 | CA17: 0.15871796 | CB17: Kinmen County | CC17: 金門縣 | CD17: 11303 | CE17: 2.2048009 | CF17: 5805 | CG17: 1.893822 | CH17: 5498 | CI17: 2.6672359 | CJ17: 0 | CK17: 0 | CL17: 0 | CM17: 0 | CN17: 0 | CO17: 0 | CP17: 0 | CQ17: 0 | CR17: 0 | CS17: 0 | CT17: 0 | CU17: 0 | CV17: Kinmen County | CW17: 金門縣 | CX17: 0 | CY17: 0 | CZ17: 0 | DA17: 0 | DB17: 0 | DC17: 0 | DD17: 0 | DE17: 0 | DF17: 0 | DG17: 0 | DH17: 0 | DI17: 0 | DJ17: 404 | DK17: 0.14052614 | DL17: 404 | DM17: 0.14052614 | DN17: 0 | DO17: 0 | DP17: Kinmen County | DQ17: 金門縣 | DR17: 18981 | DS17: 0.53977626 | DT17: 14530 | DU17: 0.55885411 | DV17: 4451 | DW17: 0.48565512 | DX17: 8064 | DY17: 1.8071034 | DZ17: 5848 | EA17: 1.8029628 | EB17: 2216 | EC17: 1.8181221 | ED17: 10917 | EE17: 0.35557736 | EF17: 8682 | EG17: 0.38152441 | EH17: 2235 | EI17: 0.28127006 | EJ17: Kinmen County
A18: 連江縣 | B18: 7604 | C18: 0.031867548 | D18: 4999 | E18: 0.031045251 | F18: 2605 | G18: 0.033574074 | H18: 4513 | I18: 0.031504191 | J18: 2892 | K18: 0.030963445 | L18: 1621 | M18: 0.032517344 | N18: 1174 | O18: 0.097130593 | P18: 760 | Q18: 0.10142678 | R18: 414 | S18: 0.090122841 | T18: Lienchiang County | U18: 連江縣 | V18: 1615 | W18: 0.013907645 | X18: 1014 | Y18: 0.013650984 | Z18: 601 | AA18: 0.014363277 | AB18: 1541 | AC18: 0.18291431 | AD18: 955 | AE18: 0.16048289 | AF18: 586 | AG18: 0.23687104 | AH18: 180 | AI18: 0.030036895 | AJ18: 161 | AK18: 0.031324359 | AL18: 19 | AM18: 0.022277982 | AN18: Lienchiang County | AO18: 連江縣 | AP18: 3 | AQ18: 0.0048120108 | AR18: 2 | AS18: 0.0037282133 | AT18: 1 | AU18: 0.011495574 | AV18: 753 | AW18: 0.020783818 | AX18: 450 | AY18: 0.018842903 | AZ18: 303 | BA18: 0.024537512 | BB18: 753 | BC18: 0.020786841 | BD18: 450 | BE18: 0.018846723 | BF18: 303 | BG18: 0.024538367 | BH18: Lienchiang County | BI18: 連江縣 | BJ18: 0 | BK18: 0 | BL18: 0 | BM18: 0 | BN18: 0 | BO18: 0 | BP18: 805 | BQ18: 0.040029935 | BR18: 438 | BS18: 0.031547059 | BT18: 367 | BU18: 0.058947017 | BV18: 83 | BW18: 0.00553946 | BX18: 74 | BY18: 0.0068399516 | BZ18: 9 | CA18: 0.0021610615 | CB18: Lienchiang County | CC18: 連江縣 | CD18: 722 | CE18: 0.14083573 | CF18: 364 | CG18: 0.11875128 | CH18: 358 | CI18: 0.17367596 | CJ18: 0 | CK18: 0 | CL18: 0 | CM18: 0 | CN18: 0 | CO18: 0 | CP18: 0 | CQ18: 0 | CR18: 0 | CS18: 0 | CT18: 0 | CU18: 0 | CV18: Lienchiang County | CW18: 連江縣 | CX18: 0 | CY18: 0 | CZ18: 0 | DA18: 0 | DB18: 0 | DC18: 0 | DD18: 0 | DE18: 0 | DF18: 0 | DG18: 0 | DH18: 0 | DI18: 0 | DJ18: 71 | DK18: 0.024696425 | DL18: 71 | DM18: 0.024696425 | DN18: 0 | DO18: 0 | DP18: Lienchiang County | DQ18: 連江縣 | DR18: 1462 | DS18: 0.041575939 | DT18: 1148 | DU18: 0.044154475 | DV18: 314 | DW18: 0.034260999 | DX18: 261 | DY18: 0.058488837 | DZ18: 178 | EA18: 0.054878143 | EB18: 83 | EC18: 0.068097535 | ED18: 1201 | EE18: 0.039117743 | EF18: 970 | EG18: 0.042625971 | EH18: 231 | EI18: 0.029070865 | EJ18: Lienchiang County
A19: 北區業務組 | B19: 3929593 | C19: 16.468502 | D19: 2605812 | E19: 16.182854 | F19: 1323781 | G19: 17.061313 | H19: 2618182 | I19: 18.276913 | J19: 1681847 | K19: 18.006839 | L19: 936335 | M19: 18.782929 | N19: 149753 | O19: 12.389777 | P19: 83575 | Q19: 11.15361 | R19: 66178 | S19: 14.406158 | T19: Northern Division | U19: 北區業務組 | V19: 2235294 | W19: 19.249335 | X19: 1422729 | Y19: 19.153502 | Z19: 812565 | AA19: 19.419461 | AB19: 139378 | AC19: 16.543952 | AD19: 96404 | AE19: 16.200202 | AF19: 42974 | AG19: 17.370812 | AH19: 85310 | AI19: 14.23582 | AJ19: 72000 | AK19: 14.008409 | AL19: 13310 | AM19: 15.606313 | AN19: Northern Division | AO19: 北區業務組 | AP19: 8447 | AQ19: 13.549018 | AR19: 7139 | AS19: 13.307857 | AT19: 1308 | AU19: 15.036211 | AV19: 477891 | AW19: 13.190437 | AX19: 303200 | AY19: 12.69593 | AZ19: 174691 | BA19: 14.146807 | BB19: 477891 | BC19: 13.192356 | BD19: 303200 | BE19: 12.698503 | BF19: 174691 | BG19: 14.1473 | BH19: Northern Division | BI19: 北區業務組 | BJ19: 0 | BK19: 0 | BL19: 0 | BM19: 0 | BN19: 0 | BO19: 0 | BP19: 221002 | BQ19: 10.989684 | BR19: 150934 | BS19: 10.871059 | BT19: 70068 | BU19: 11.254222 | BV19: 191676 | BW19: 12.792549 | BX19: 135975 | BY19: 12.568411 | BZ19: 55701 | CA19: 13.37481 | CB19: Northern Division | CC19: 北區業務組 | CD19: 29326 | CE19: 5.7204274 | CF19: 14959 | CG19: 4.8802211 | CH19: 14367 | CI19: 6.9698396 | CJ19: 49478 | CK19: 50.368003 | CL19: 49478 | CM19: 50.368003 | CN19: 0 | CO19: 0 | CP19: 0 | CQ19: 0 | CR19: 0 | CS19: 0 | CT19: 0 | CU19: 0 | CV19: Northern Division | CW19: 北區業務組 | CX19: 0 | CY19: 0 | CZ19: 0 | DA19: 0 | DB19: 0 | DC19: 0 | DD19: 49478 | DE19: 99.58538 | DF19: 49478 | DG19: 99.58538 | DH19: 0 | DI19: 0 | DJ19: 42675 | DK19: 14.843943 | DL19: 42675 | DM19: 14.843943 | DN19: 0 | DO19: 0 | DP19: Northern Division | DQ19: 北區業務組 | DR19: 520365 | DS19: 14.797991 | DT19: 377678 | DU19: 14.526284 | DV19: 142687 | DW19: 15.568787 | DX19: 76302 | DY19: 17.098909 | DZ19: 55944 | EA19: 17.247769 | EB19: 20358 | EC19: 16.702767 | ED19: 444063 | EE19: 14.463566 | EF19: 321734 | EG19: 14.138375 | EH19: 122329 | EI19: 15.394848 | EJ19: Northern Division
A20: 桃園市 | B20: 2206655 | C20: 9.2478542 | D20: 1469715 | E20: 9.1273596 | F20: 736940 | G20: 9.4979187 | H20: 1463552 | I20: 10.216712 | J20: 936783 | K20: 10.029747 | L20: 526769 | M20: 10.567013 | N20: 85574 | O20: 7.0799433 | P20: 49186 | Q20: 6.5641811 | R20: 36388 | S20: 7.9212318 | T20: Taoyuan City | U20: 桃園市 | V20: 1235569 | W20: 10.640158 | X20: 779632 | Y20: 10.495803 | Z20: 455937 | AA20: 10.896421 | AB20: 81533 | AC20: 9.6778405 | AD20: 56653 | AE20: 9.5202486 | AF20: 24880 | AG20: 10.056914 | AH20: 55664 | AI20: 9.288743 | AJ20: 46967 | AK20: 9.1379575 | AL20: 8697 | AM20: 10.197453 | AN20: Taoyuan City | AO20: 桃園市 | AP20: 5212 | AQ20: 8.3600667 | AR20: 4345 | AS20: 8.0995433 | AT20: 867 | AU20: 9.9666628 | AV20: 251452 | AW20: 6.940415 | AX20: 159851 | AY20: 6.6934599 | AZ20: 91601 | BA20: 7.418022 | BB20: 251452 | BC20: 6.9414247 | BD20: 159851 | BE20: 6.6948167 | BF20: 91601 | BG20: 7.4182804 | BH20: Taoyuan City | BI20: 桃園市 | BJ20: 0 | BK20: 0 | BL20: 0 | BM20: 0 | BN20: 0 | BO20: 0 | BP20: 75794 | BQ20: 3.76898 | BR20: 51781 | BS20: 3.7295394 | BT20: 24013 | BU20: 3.8569338 | BV20: 72357 | BW20: 4.829141 | BX20: 50009 | BY20: 4.6224208 | BZ20: 22348 | CA20: 5.3661559 | CB20: Taoyuan City | CC20: 桃園市 | CD20: 3437 | CE20: 0.67043269 | CF20: 1772 | CG20: 0.57809691 | CH20: 1665 | CI20: 0.80773877 | CJ20: 49478 | CK20: 50.368003 | CL20: 49478 | CM20: 50.368003 | CN20: 0 | CO20: 0 | CP20: 0 | CQ20: 0 | CR20: 0 | CS20: 0 | CT20: 0 | CU20: 0 | CV20: Taoyuan City | CW20: 桃園市 | CX20: 0 | CY20: 0 | CZ20: 0 | DA20: 0 | DB20: 0 | DC20: 0 | DD20: 49478 | DE20: 99.58538 | DF20: 49478 | DG20: 99.58538 | DH20: 0 | DI20: 0 | DJ20: 28635 | DK20: 9.9603118 | DL20: 28635 | DM20: 9.9603118 | DN20: 0 | DO20: 0 | DP20: Taoyuan City | DQ20: 桃園市 | DR20: 337744 | DS20: 9.6046674 | DT20: 243187 | DU20: 9.3534793 | DV20: 94557 | DW20: 10.317252 | DX20: 54242 | DY20: 12.15537 | DZ20: 39922 | EA20: 12.308119 | EB20: 14320 | EC20: 11.748876 | ED20: 283502 | EE20: 9.2339371 | EF20: 203265 | EG20: 8.9323381 | EH20: 80237 | EI20: 10.097658 | EJ20: Taoyuan City
A21: 新竹市 | B21: 727829 | C21: 3.0502532 | D21: 474192 | E21: 2.9448709 | F21: 253637 | G21: 3.2689549 | H21: 559841 | I21: 3.9081183 | J21: 362744 | K21: 3.8837496 | L21: 197097 | M21: 3.953776 | N21: 22338 | O21: 1.8481288 | P21: 11422 | Q21: 1.5243378 | R21: 10916 | S21: 2.3762825 | T21: Hsinchu City | U21: 新竹市 | V21: 506906 | W21: 4.3652439 | X21: 328816 | Y21: 4.4266883 | Z21: 178090 | AA21: 4.2561663 | AB21: 19092 | AC21: 2.2661908 | AD21: 12892 | AE21: 2.166435 | AF21: 6200 | AG21: 2.5061441 | AH21: 10305 | AI21: 1.7196123 | AJ21: 8585 | AK21: 1.6703082 | AL21: 1720 | AM21: 2.0167437 | AN21: Hsinchu City | AO21: 新竹市 | AP21: 1200 | AQ21: 1.9248043 | AR21: 1029 | AS21: 1.9181657 | AT21: 171 | AU21: 1.9657432 | AV21: 90447 | AW21: 2.4964594 | AX21: 56201 | AY21: 2.3533111 | AZ21: 34246 | BA21: 2.7733058 | BB21: 90447 | BC21: 2.4968226 | BD21: 56201 | BE21: 2.3537882 | BF21: 34246 | BG21: 2.7734024 | BH21: Hsinchu City | BI21: 新竹市 | BJ21: 0 | BK21: 0 | BL21: 0 | BM21: 0 | BN21: 0 | BO21: 0 | BP21: 16547 | BQ21: 0.82282651 | BR21: 9079 | BS21: 0.65391724 | BT21: 7468 | BU21: 1.1994995 | BV21: 4890 | BW21: 0.32636096 | BX21: 3365 | BY21: 0.31103293 | BZ21: 1525 | CA21: 0.36617987 | CB21: Hsinchu City | CC21: 新竹市 | CD21: 11657 | CE21: 2.2738533 | CF21: 5714 | CG21: 1.8641342 | CH21: 5943 | CI21: 2.883118 | CJ21: 0 | CK21: 0 | CL21: 0 | CM21: 0 | CN21: 0 | CO21: 0 | CP21: 0 | CQ21: 0 | CR21: 0 | CS21: 0 | CT21: 0 | CU21: 0 | CV21: Hsinchu City | CW21: 新竹市 | CX21: 0 | CY21: 0 | CZ21: 0 | DA21: 0 | DB21: 0 | DC21: 0 | DD21: 0 | DE21: 0 | DF21: 0 | DG21: 0 | DH21: 0 | DI21: 0 | DJ21: 4172 | DK21: 1.4511759 | DL21: 4172 | DM21: 1.4511759 | DN21: 0 | DO21: 0 | DP21: Hsinchu City | DQ21: 新竹市 | DR21: 56822 | DS21: 1.6158878 | DT21: 41996 | DU21: 1.6152538 | DV21: 14826 | DW21: 1.6176865 | DX21: 8856 | DY21: 1.9845867 | DZ21: 6520 | EA21: 2.0101432 | EB21: 2336 | EC21: 1.9165764 | ED21: 47966 | EE21: 1.5622995 | EF21: 35476 | EG21: 1.558968 | EH21: 12490 | EI21: 1.5718403 | EJ21: Hsinchu City
A22: 新竹縣 | B22: 552156 | C22: 2.3140265 | D22: 361941 | E22: 2.2477594 | F22: 190215 | G22: 2.4515518 | H22: 375143 | I22: 2.618785 | J22: 240423 | K22: 2.5741094 | L22: 134720 | M22: 2.7024902 | N22: 22007 | O22: 1.8207436 | P22: 11407 | Q22: 1.5223359 | R22: 10600 | S22: 2.307493 | T22: Hsinchu County | U22: 新竹縣 | V22: 319945 | W22: 2.7552208 | X22: 204312 | Y22: 2.7505521 | Z22: 115633 | AA22: 2.7635088 | AB22: 20605 | AC22: 2.4457815 | AD22: 14118 | AE22: 2.3724581 | AF22: 6487 | AG22: 2.6221543 | AH22: 11458 | AI22: 1.9120153 | AJ22: 9639 | AK22: 1.8753757 | AL22: 1819 | AM22: 2.1328237 | AN22: Hsinchu County | AO22: 新竹縣 | AP22: 1128 | AQ22: 1.8093161 | AR22: 947 | AS22: 1.765309 | AT22: 181 | AU22: 2.0806989 | AV22: 70000 | AW22: 1.9320946 | AX22: 43349 | AY22: 1.8151578 | AZ22: 26651 | BA22: 2.1582483 | BB22: 70000 | BC22: 1.9323757 | BD22: 43349 | BE22: 1.8155258 | BF22: 26651 | BG22: 2.1583235 | BH22: Hsinchu County | BI22: 新竹縣 | BJ22: 0 | BK22: 0 | BL22: 0 | BM22: 0 | BN22: 0 | BO22: 0 | BP22: 38086 | BQ22: 1.8938883 | BR22: 27379 | BS22: 1.9719793 | BT22: 10707 | BU22: 1.7197431 | BV22: 38086 | BW22: 2.541878 | BX22: 27379 | BY22: 2.5306897 | BZ22: 10707 | CA22: 2.5709428 | CB22: Hsinchu County | CC22: 新竹縣 | CD22: 0 | CE22: 0 | CF22: 0 | CG22: 0 | CH22: 0 | CI22: 0 | CJ22: 0 | CK22: 0 | CL22: 0 | CM22: 0 | CN22: 0 | CO22: 0 | CP22: 0 | CQ22: 0 | CR22: 0 | CS22: 0 | CT22: 0 | CU22: 0 | CV22: Hsinchu County | CW22: 新竹縣 | CX22: 0 | CY22: 0 | CZ22: 0 | DA22: 0 | DB22: 0 | DC22: 0 | DD22: 0 | DE22: 0 | DF22: 0 | DG22: 0 | DH22: 0 | DI22: 0 | DJ22: 4262 | DK22: 1.4824812 | DL22: 4262 | DM22: 1.4824812 | DN22: 0 | DO22: 0 | DP22: Hsinchu County | DQ22: 新竹縣 | DR22: 64665 | DS22: 1.8389248 | DT22: 46528 | DU22: 1.7895639 | DV22: 18137 | DW22: 1.9789546 | DX22: 6619 | DY22: 1.4832859 | DZ22: 4723 | EA22: 1.4561206 | EB22: 1896 | EC22: 1.5555774 | ED22: 58046 | EE22: 1.8906149 | EF22: 41805 | EG22: 1.8370914 | EH22: 16241 | EI22: 2.0438957 | EJ22: Hsinchu County
... A39: 臺東縣 | B39: 176627 | C39: 0.7402248 | D39: 126136 | E39: 0.78334141 | F39: 50491 | G39: 0.65074418 | H39: 59567 | I39: 0.41582322 | J39: 40029 | K39: 0.42857391 | L39: 19538 | M39: 0.39193329 | N39: 14039 | O39: 1.1615131 | P39: 9128 | Q39: 1.218189 | R39: 4911 | S39: 1.0690659 | T39: Taitung County | U39: 臺東縣 | V39: 30971 | W39: 0.26670816 | X39: 20188 | Y39: 0.27178113 | Z39: 10783 | AA39: 0.25770252 | AB39: 11382 | AC39: 1.3510257 | AD39: 7863 | AE39: 1.3213372 | AF39: 3519 | AG39: 1.4224389 | AH39: 2813 | AI39: 0.46940993 | AJ39: 2533 | AK39: 0.49282361 | AL39: 280 | AM39: 0.32830711 | AN39: Taitung County | AO39: 臺東縣 | AP39: 362 | AQ39: 0.5806493 | AR39: 317 | AS39: 0.5909218 | AT39: 45 | AU39: 0.51730084 | AV39: 23333 | AW39: 0.64402233 | AX39: 15455 | AY39: 0.64714905 | AZ39: 7878 | BA39: 0.63797532 | BB39: 23333 | BC39: 0.64411603 | BD39: 15455 | BE39: 0.64728023 | BF39: 7878 | BG39: 0.63799754 | BH39: Taitung County | BI39: 臺東縣 | BJ39: 0 | BK39: 0 | BL39: 0 | BM39: 0 | BN39: 0 | BO39: 0 | BP39: 40365 | BQ39: 2.0072153 | BR39: 29235 | BS39: 2.1056582 | BT39: 11130 | BU39: 1.7876847 | BV39: 33479 | BW39: 2.2344046 | BX39: 24814 | BY39: 2.2936021 | BZ39: 8665 | CA39: 2.080622 | CB39: Taitung County | CC39: 臺東縣 | CD39: 6886 | CE39: 1.3432061 | CF39: 4421 | CG39: 1.4423061 | CH39: 2465 | CI39: 1.1958415 | CJ39: 0 | CK39: 0 | CL39: 0 | CM39: 0 | CN39: 0 | CO39: 0 | CP39: 0 | CQ39: 0 | CR39: 0 | CS39: 0 | CT39: 0 | CU39: 0 | CV39: Taitung County | CW39: 臺東縣 | CX39: 0 | CY39: 0 | CZ39: 0 | DA39: 0 | DB39: 0 | DC39: 0 | DD39: 0 | DE39: 0 | DF39: 0 | DG39: 0 | DH39: 0 | DI39: 0 | DJ39: 7219 | DK39: 2.5110351 | DL39: 7219 | DM39: 2.5110351 | DN39: 0 | DO39: 0 | DP39: Taitung County | DQ39: 臺東縣 | DR39: 46143 | DS39: 1.3122015 | DT39: 34198 | DU39: 1.3153264 | DV39: 11945 | DW39: 1.3033364 | DX39: 5738 | DY39: 1.285858 | DZ39: 4067 | EA39: 1.2538731 | EB39: 1671 | EC39: 1.3709757 | ED39: 40405 | EE39: 1.3160303 | EF39: 30131 | EG39: 1.3240857 | EH39: 10274 | EI39: 1.2929613 | EJ39: Taitung County
A40: 備註：1.本表縣市別係按保險對象所屬投保單位的通訊地址統計。 | K40: Note：1. The locales were determined by the mailing addresses of the group insurance applicants to which the | U40: 2.因農田水利法自109年10月1日起施行，自該日起第三類第一目已無水利會投保單位及會員加保。 | AE40: 2.Since the Irrigation Act came into effect on October 1, 2020, there is no group insurance applicant for
K41: beneficiaries belong. | AE41: the irrigation association and members for Item 1 of Category 3 from that date.

Sheet 109
A1: 保險對象人數－按保險對象類目及縣市別分 | K1: Beneficiaries by Beneficiary Category, | U1: 保險對象人數－按保險對象類目及縣市別分（續一） | AE1: Beneficiaries by Beneficiary Category, | AO1: 保險對象人數－按保險對象類目及縣市別分（續二） | AY1: Beneficiaries by Beneficiary Category, | BI1: 保險對象人數－按保險對象類目及縣市別分（續三） | BS1: Beneficiaries by Beneficiary Category, | CC1: 保險對象人數－按保險對象類目及縣市別分（續四） | CM1: Beneficiaries by Beneficiary Category, | CW1: 保險對象人數－按保險對象類目及縣市別分（續五） | DG1: Beneficiaries by Beneficiary Category, | DQ1: 保險對象人數－按保險對象類目及縣市別分（續完） | EA1: Beneficiaries by Beneficiary Category,
K2: NHI Regional Division and Locale | AE2: NHI Regional Division and Locale（Cont'd 1） | AY2: NHI Regional Division and Locale（Cont'd 2） | BS2: NHI Regional Division and Locale（Cont'd 3） | CM2: NHI Regional Division and Locale（Cont'd 4） | DG2: NHI Regional Division and Locale（Cont'd 5） | EA2: NHI Regional Division and Locale（Cont'd）
A3: 中華民國109年底 | K3: End of 2020 | U3: 中華民國109年底 | AE3: End of 2020 | AO3: 中華民國109年底 | AY3: End of 2020 | BI3: 中華民國109年底 | BS3: End of 2020 | CC3: 中華民國109年底 | CM3: End of 2020 | CW3: 中華民國109年底 | DG3: End of 2020 | DQ3: 中華民國109年底 | EA3: End of 2020
A4: 單位：人 | T4: Unit：Persons | U4: 單位：人 | AN4: Unit：Persons | AO4: 單位：人 | BH4: Unit：Persons | BI4: 單位：人 | CB4: Unit：Persons | CC4: 單位：人 | CV4: Unit：Persons | CW4: 單位：人 | DP4: Unit：Persons | DQ4: 單位：人 | EJ4: Unit：Persons
A5: 業務組 縣市別 | B5: 總計 Grand Total | H5: 第一類 | K5: Category 1 | T5: Division & Locale | U5: 業務組 縣市別 | V5: 第一類 | AE5: Category 1 | AN5: Division & Locale | AO5: 業務組 縣市別 | AP5: 第一類 Category 1 | AV5: 第二類 | AY5: Category 2 | BH5: Division & Locale | BI5: 業務組 縣市別 | BJ5: 第二類 Category 2 | BP5: 第三類 | BS5: Category 3 | CB5: Division & Locale | CC5: 業務組 縣市別 | CD5: 第三類 Category 3 | CJ5: 第四類 | CM5: Category 4 | CV5: Division & Locale | CW5: 業務組 縣市別 | CX5: 第四類 | DG5: Category 4 | DJ5: 第五類 Category 5 | DP5: Division & Locale | DQ5: 業務組 縣市別 | DR5: 第六類 | EA5: Category 6 | EJ5: Division & Locale
B7: 保險對象Beneficiaries | D7: 被保險人Insureds | F7: 眷屬Dependents | H7: 合計 | K7: Total | N7: 第一目 Item 1 | V7: 第二目 Item 2 | AB7: 第三目 | AE7: Item 3 | AH7: 第四目 Item 4 | AP7: 第五目 Item 5 | AV7: 合計 | AY7: Total | BB7: 第一目 Item 1 | BJ7: 第二目 Item 2 | BP7: 合計 | BS7: Total | BV7: 第一目 Item 1 | CD7: 第二目 Item 2 | CJ7: 合計 | CM7: Total | CP7: 第一目 Item 1 | CX7: 第二目 Item 2 | DD7: 第三目 | DG7: Item 3 | DR7: 合計 Total | DX7: 第一目 | EA7: Item 1 | ED7: 第二目 Item 2
H8: 保險對象Beneficiaries | J8: 被保險人Insureds | L8: 眷屬Dependents | N8: 保險對象Beneficiaries | P8: 被保險人Insureds | R8: 眷屬Dependents | V8: 保險對象Beneficiaries | X8: 被保險人Insureds | Z8: 眷屬Dependents | AB8: 保險對象Beneficiaries | AD8: 被保險人Insureds | AF8: 眷屬Dependents | AH8: 保險對象Beneficiaries | AJ8: 被保險人Insureds | AL8: 眷屬Dependents | AP8: 保險對象Beneficiaries | AR8: 被保險人Insureds | AT8: 眷屬Dependents | AV8: 保險對象Beneficiaries | AX8: 被保險人Insureds | AZ8: 眷屬Dependents | BB8: 保險對象Beneficiaries | BD8: 被保險人Insureds | BF8: 眷屬Dependents | BJ8: 保險對象Beneficiaries | BL8: 被保險人Insureds | BN8: 眷屬Dependents | BP8: 保險對象Beneficiaries | BR8: 被保險人Insureds | BT8: 眷屬Dependents | BV8: 保險對象Beneficiaries | BX8: 被保險人Insureds | BZ8: 眷屬Dependents | CD8: 保險對象Beneficiaries | CF8: 被保險人Insureds | CH8: 眷屬Dependents | CJ8: 保險對象Beneficiaries | CL8: 被保險人Insureds | CN8: 眷屬Dependents | CP8: 保險對象Beneficiaries | CR8: 被保險人Insureds | CT8: 眷屬Dependents | CX8: 保險對象Beneficiaries | CZ8: 被保險人Insureds | DB8: 眷屬Dependents | DD8: 保險對象Beneficiaries | DF8: 被保險人Insureds | DH8: 眷屬Dependents | DJ8: 保險對象Beneficiaries | DL8: 被保險人Insureds | DN8: 眷屬Dependents | DR8: 保險對象Beneficiaries | DT8: 被保險人Insureds | DV8: 眷屬Dependents | DX8: 保險對象Beneficiaries | DZ8: 被保險人Insureds | EB8: 眷屬Dependents | ED8: 保險對象Beneficiaries | EF8: 被保險人Insureds | EH8: 眷屬Dependents
C9: 百分比 | E9: 百分比 | G9: 百分比 | I9: 百分比 | K9: 百分比 | M9: 百分比 | O9: 百分比 | Q9: 百分比 | S9: 百分比 | W9: 百分比 | Y9: 百分比 | AA9: 百分比 | AC9: 百分比 | AE9: 百分比 | AG9: 百分比 | AI9: 百分比 | AK9: 百分比 | AM9: 百分比 | AQ9: 百分比 | AS9: 百分比 | AU9: 百分比 | AW9: 百分比 | AY9: 百分比 | BA9: 百分比 | BC9: 百分比 | BE9: 百分比 | BG9: 百分比 | BK9: 百分比 | BM9: 百分比 | BO9: 百分比 | BQ9: 百分比 | BS9: 百分比 | BU9: 百分比 | BW9: 百分比 | BY9: 百分比 | CA9: 百分比 | CE9: 百分比 | CG9: 百分比 | CI9: 百分比 | CK9: 百分比 | CM9: 百分比 | CO9: 百分比 | CQ9: 百分比 | CS9: 百分比 | CU9: 百分比 | CY9: 百分比 | DA9: 百分比 | DC9: 百分比 | DE9: 百分比 | DG9: 百分比 | DI9: 百分比 | DK9: 百分比 | DM9: 百分比 | DO9: 百分比 | DS9: 百分比 | DU9: 百分比 | DW9: 百分比 | DY9: 百分比 | EA9: 百分比 | EC9: 百分比 | EE9: 百分比 | EG9: 百分比 | EI9: 百分比
C10: % | E10: % | G10: % | I10: % | K10: % | M10: % | O10: % | Q10: % | S10: % | W10: % | Y10: % | AA10: % | AC10: % | AE10: % | AG10: % | AI10: % | AK10: % | AM10: % | AQ10: % | AS10: % | AU10: % | AW10: % | AY10: % | BA10: % | BC10: % | BE10: % | BG10: % | BK10: % | BM10: % | BO10: % | BQ10: % | BS10: % | BU10: % | BW10: % | BY10: % | CA10: % | CE10: % | CG10: % | CI10: % | CK10: % | CM10: % | CO10: % | CQ10: % | CS10: % | CU10: % | CY10: % | DA10: % | DC10: % | DE10: % | DG10: % | DI10: % | DK10: % | DM10: % | DO10: % | DS10: % | DU10: % | DW10: % | DY10: % | EA10: % | EC10: % | EE10: % | EG10: % | EI10: %
A11: 總 計 | B11: 23986997 | C11: 100 | D11: 16105070 | E11: 100 | F11: 7881927 | G11: 100 | H11: 14261664 | I11: 100 | J11: 9258549 | K11: 100 | L11: 5003115 | M11: 100 | N11: 1226109 | O11: 100 | P11: 757228 | Q11: 100 | R11: 468881 | S11: 100 | T11: Grand Total | U11: 總 計 | V11: 11560607 | W11: 100 | X11: 7358452 | Y11: 100 | Z11: 4202155 | AA11: 100 | AB11: 829313 | AC11: 100 | AD11: 588778 | AE11: 100 | AF11: 240535 | AG11: 100 | AH11: 584483 | AI11: 100 | AJ11: 501368 | AK11: 100 | AL11: 83115 | AM11: 100 | AN11: Grand Total | AO11: 總 計 | AP11: 61152 | AQ11: 100 | AR11: 52723 | AS11: 100 | AT11: 8429 | AU11: 100 | AV11: 3599975 | AW11: 100 | AX11: 2355498 | AY11: 100 | AZ11: 1244477 | BA11: 100 | BB11: 3599360 | BC11: 100 | BD11: 2354939 | BE11: 100 | BF11: 1244421 | BG11: 100 | BH11: Grand Total | BI11: 總 計 | BJ11: 615 | BK11: 100 | BL11: 559 | BM11: 100 | BN11: 56 | BO11: 100 | BP11: 2075142 | BQ11: 100 | BR11: 1423428 | BS11: 100 | BT11: 651714 | BU11: 100 | BV11: 1554956 | BW11: 100 | BX11: 1116761 | BY11: 100 | BZ11: 438195 | CA11: 100 | CB11: Grand Total | CC11: 總 計 | CD11: 520186 | CE11: 100 | CF11: 306667 | CG11: 100 | CH11: 213519 | CI11: 100 | CJ11: 98922 | CK11: 100 | CL11: 98922 | CM11: 100 | CN11: 0 | CO11: 0 | CP11: 37374 | CQ11: 100 | CR11: 37374 | CS11: 100 | CT11: 0 | CU11: 0 | CV11: Grand Total | CW11: 總 計 | CX11: 6976 | CY11: 100 | CZ11: 6976 | DA11: 100 | DB11: 0 | DC11: 0 | DD11: 54572 | DE11: 100 | DF11: 54572 | DG11: 100 | DH11: 0 | DI11: 0 | DJ11: 292914 | DK11: 100 | DL11: 292914 | DM11: 100 | DN11: 0 | DO11: 0 | DP11: Grand Total | DQ11: 總 計 | DR11: 3658380 | DS11: 100 | DT11: 2675759 | DU11: 100 | DV11: 982621 | DW11: 100 | DX11: 461517 | DY11: 100 | DZ11: 332178 | EA11: 100 | EB11: 129339 | EC11: 100 | ED11: 3196863 | EE11: 100 | EF11: 2343581 | EG11: 100 | EH11: 853282 | EI11: 100 | EJ11: Grand Total
A12: 臺北業務組 | B12: 9008695 | C12: 37.556577 | D12: 6025618 | E12: 37.414417 | F12: 2983077 | G12: 37.847052 | H12: 6023000 | I12: 42.232099 | J12: 3939866 | K12: 42.553817 | L12: 2083134 | M12: 41.63674 | N12: 595119 | O12: 48.537202 | P12: 389388 | Q12: 51.422821 | R12: 205731 | S12: 43.877018 | T12: Taipei Division | U12: 臺北業務組 | V12: 4867128 | W12: 42.100973 | X12: 3118384 | Y12: 42.378261 | Z12: 1748744 | AA12: 41.615409 | AB12: 308349 | AC12: 37.181257 | AD12: 220771 | AE12: 37.496476 | AF12: 87578 | AG12: 36.40967 | AH12: 229314 | AI12: 39.233648 | AJ12: 191799 | AK12: 38.255134 | AL12: 37515 | AM12: 45.136257 | AN12: Taipei Division | AO12: 臺北業務組 | AP12: 23090 | AQ12: 37.758373 | AR12: 19524 | AS12: 37.031277 | AT12: 3566 | AU12: 42.306323 | AV12: 1311717 | AW12: 36.436836 | AX12: 852332 | AY12: 36.18479 | AZ12: 459385 | BA12: 36.9139 | BB12: 1311240 | BC12: 36.42981 | BD12: 851903 | BE12: 36.175162 | BF12: 459337 | BG12: 36.911704 | BH12: Taipei Division | BI12: 臺北業務組 | BJ12: 477 | BK12: 77.560976 | BL12: 429 | BM12: 76.744186 | BN12: 48 | BO12: 85.714286 | BP12: 206551 | BQ12: 9.9535839 | BR12: 129653 | BS12: 9.1085043 | BT12: 76898 | BU12: 11.799348 | BV12: 104799 | BW12: 6.7396762 | BX12: 73766 | BY12: 6.6053524 | BZ12: 31033 | CA12: 7.0820069 | CB12: Taipei Division | CC12: 臺北業務組 | CD12: 101752 | CE12: 19.560696 | CF12: 55887 | CG12: 18.224002 | CH12: 45865 | CI12: 21.480524 | CJ12: 37559 | CK12: 37.968298 | CL12: 37559 | CM12: 37.968298 | CN12: 0 | CO12: 0 | CP12: 37374 | CQ12: 100 | CR12: 37374 | CS12: 100 | CT12: 0 | CU12: 0 | CV12: Taipei Division | CW12: 臺北業務組 | CX12: 0 | CY12: 0 | CZ12: 0 | DA12: 0 | DB12: 0 | DC12: 0 | DD12: 185 | DE12: 0.33900169 | DF12: 185 | DG12: 0.33900169 | DH12: 0 | DI12: 0 | DJ12: 88215 | DK12: 30.116348 | DL12: 88215 | DM12: 30.116348 | DN12: 0 | DO12: 0 | DP12: Taipei Division | DQ12: 臺北業務組 | DR12: 1341653 | DS12: 36.673418 | DT12: 977993 | DU12: 36.550115 | DV12: 363660 | DW12: 37.009183 | DX12: 165124 | DY12: 35.77853 | DZ12: 119971 | EA12: 36.11648 | EB12: 45153 | EC12: 34.910584 | ED12: 1176529 | EE12: 36.802609 | EF12: 858022 | EG12: 36.611579 | EH12: 318507 | EI12: 37.327285 | EJ12: Taipei Division
A13: 新北市 | B13: 3342942 | C13: 13.936476 | D13: 2214707 | E13: 13.751614 | F13: 1128235 | G13: 14.314203 | H13: 2044732 | I13: 14.337261 | J13: 1313277 | K13: 14.18448 | L13: 731455 | M13: 14.619992 | N13: 130559 | O13: 10.648238 | P13: 77824 | Q13: 10.277486 | R13: 52735 | S13: 11.24699 | T13: New Taipei City | U13: 新北市 | V13: 1696003 | W13: 14.670536 | X13: 1060673 | Y13: 14.41435 | Z13: 635330 | AA13: 15.119147 | AB13: 94774 | AC13: 11.428013 | AD13: 70460 | AE13: 11.967159 | AF13: 24314 | AG13: 10.1083 | AH13: 114397 | AI13: 19.57234 | AJ13: 96728 | AK13: 19.292815 | AL13: 17669 | AM13: 21.258497 | AN13: New Taipei City | AO13: 新北市 | AP13: 8999 | AQ13: 14.71579 | AR13: 7592 | AS13: 14.399788 | AT13: 1407 | AU13: 16.692372 | AV13: 520283 | AW13: 14.452406 | AX13: 336939 | AY13: 14.304364 | AZ13: 183344 | BA13: 14.732615 | BB13: 520283 | BC13: 14.454875 | BD13: 336939 | BE13: 14.307759 | BF13: 183344 | BG13: 14.733278 | BH13: New Taipei City | BI13: 新北市 | BJ13: 0 | BK13: 0 | BL13: 0 | BM13: 0 | BN13: 0 | BO13: 0 | BP13: 95587 | BQ13: 4.6062872 | BR13: 58903 | BS13: 4.1381088 | BT13: 36684 | BU13: 5.6288495 | BV13: 46720 | BW13: 3.0045866 | BX13: 32744 | BY13: 2.9320508 | BZ13: 13976 | CA13: 3.1894476 | CB13: New Taipei City | CC13: 新北市 | CD13: 48867 | CE13: 9.3941398 | CF13: 26159 | CG13: 8.5300994 | CH13: 22708 | CI13: 10.635119 | CJ13: 0 | CK13: 0 | CL13: 0 | CM13: 0 | CN13: 0 | CO13: 0 | CP13: 0 | CQ13: 0 | CR13: 0 | CS13: 0 | CT13: 0 | CU13: 0 | CV13: New Taipei City | CW13: 新北市 | CX13: 0 | CY13: 0 | CZ13: 0 | DA13: 0 | DB13: 0 | DC13: 0 | DD13: 0 | DE13: 0 | DF13: 0 | DG13: 0 | DH13: 0 | DI13: 0 | DJ13: 33912 | DK13: 11.57746 | DL13: 33912 | DM13: 11.57746 | DN13: 0 | DO13: 0 | DP13: New Taipei City | DQ13: 新北市 | DR13: 648428 | DS13: 17.724457 | DT13: 471676 | DU13: 17.627746 | DV13: 176752 | DW13: 17.98781 | DX13: 72631 | DY13: 15.737448 | DZ13: 52493 | EA13: 15.802672 | EB13: 20138 | EC13: 15.569936 | ED13: 575797 | EE13: 18.011313 | EF13: 419183 | EG13: 17.886431 | EH13: 156614 | EI13: 18.354307 | EJ13: New Taipei City
A14: 臺北市 | B14: 4932200 | C14: 20.561974 | D14: 3316155 | E14: 20.590752 | F14: 1616045 | G14: 20.503171 | H14: 3700089 | I14: 25.944301 | J14: 2445806 | K14: 26.416731 | L14: 1254283 | M14: 25.070041 | N14: 422287 | O14: 34.441228 | P14: 286080 | Q14: 37.779902 | R14: 136207 | S14: 29.049375 | T14: Taipei City | U14: 臺北市 | V14: 2991518 | W14: 25.876825 | X14: 1943283 | Y14: 26.408856 | Z14: 1048235 | AA14: 24.945177 | AB14: 171415 | AC14: 20.669518 | AD14: 121797 | AE14: 20.686405 | AF14: 49618 | AG14: 20.628183 | AH14: 102350 | AI14: 17.511202 | AJ14: 84102 | AK14: 16.774505 | AL14: 18248 | AM14: 21.955122 | AN14: Taipei City | AO14: 臺北市 | AP14: 12519 | AQ14: 20.471939 | AR14: 10544 | AS14: 19.998862 | AT14: 1975 | AU14: 23.431012 | AV14: 582359 | AW14: 16.176751 | AX14: 378179 | AY14: 16.055161 | AZ14: 204180 | BA14: 16.406892 | BB14: 582124 | BC14: 16.172986 | BD14: 377970 | BE14: 16.050097 | BF14: 204154 | BG14: 16.405541 | BH14: Taipei City | BI14: 臺北市 | BJ14: 235 | BK14: 38.211382 | BL14: 209 | BM14: 37.388193 | BN14: 26 | BO14: 46.428571 | BP14: 9379 | BQ14: 0.45196907 | BR14: 6472 | BS14: 0.45467702 | BT14: 2907 | BU14: 0.44605456 | BV14: 9379 | BW14: 0.60316819 | BX14: 6472 | BY14: 0.57953313 | BZ14: 2907 | CA14: 0.66340328 | CB14: Taipei City | CC14: 臺北市 | CD14: 0 | CE14: 0 | CF14: 0 | CG14: 0 | CH14: 0 | CI14: 0 | CJ14: 37559 | CK14: 37.968298 | CL14: 37559 | CM14: 37.968298 | CN14: 0 | CO14: 0 | CP14: 37374 | CQ14: 100 | CR14: 37374 | CS14: 100 | CT14: 0 | CU14: 0 | CV14: Taipei City | CW14: 臺北市 | CX14: 0 | CY14: 0 | CZ14: 0 | DA14: 0 | DB14: 0 | DC14: 0 | DD14: 185 | DE14: 0.33900169 | DF14: 185 | DG14: 0.33900169 | DH14: 0 | DI14: 0 | DJ14: 44125 | DK14: 15.064149 | DL14: 44125 | DM14: 15.064149 | DN14: 0 | DO14: 0 | DP14: Taipei City | DQ14: 臺北市 | DR14: 558689 | DS14: 15.271486 | DT14: 404014 | DU14: 15.099043 | DV14: 154675 | DW14: 15.741064 | DX14: 69773 | DY14: 15.118186 | DZ14: 50885 | EA14: 15.318594 | EB14: 18888 | EC14: 14.603484 | ED14: 488916 | EE14: 15.293618 | EF14: 353129 | EG14: 15.067924 | EH14: 135787 | EI14: 15.913496 | EJ14: Taipei City
A15: 基隆市 | B15: 274820 | C15: 1.1457041 | D15: 188501 | E15: 1.1704451 | F15: 86319 | G15: 1.095151 | H15: 103374 | I15: 0.72483828 | J15: 67110 | K15: 0.7248436 | L15: 36264 | M15: 0.72482843 | N15: 17505 | O15: 1.4276871 | P15: 10556 | Q15: 1.3940319 | R15: 6949 | S15: 1.4820392 | T15: Keelung City | U15: 基隆市 | V15: 66775 | W15: 0.57760808 | X15: 42352 | Y15: 0.57555584 | Z15: 24423 | AA15: 0.58120179 | AB15: 13041 | AC15: 1.5725064 | AD15: 8952 | AE15: 1.5204372 | AF15: 4089 | AG15: 1.6999605 | AH15: 5444 | AI15: 0.93142144 | AJ15: 4701 | AK15: 0.93763463 | AL15: 743 | AM15: 0.89394213 | AN15: Keelung City | AO15: 基隆市 | AP15: 609 | AQ15: 0.99587912 | AR15: 549 | AS15: 1.0412913 | AT15: 60 | AU15: 0.71182821 | AV15: 99469 | AW15: 2.763047 | AX15: 65991 | AY15: 2.8015732 | AZ15: 33478 | BA15: 2.6901261 | BB15: 99227 | BC15: 2.7567957 | BD15: 65771 | BE15: 2.7928961 | BF15: 33456 | BG15: 2.6884792 | BH15: Keelung City | BI15: 基隆市 | BJ15: 242 | BK15: 39.349593 | BL15: 220 | BM15: 39.355993 | BN15: 22 | BO15: 39.285714 | BP15: 6369 | BQ15: 0.30691876 | BR15: 3764 | BS15: 0.26443206 | BT15: 2605 | BU15: 0.39971521 | BV15: 747 | BW15: 0.048039945 | BX15: 542 | BY15: 0.048533213 | BZ15: 205 | CA15: 0.046782825 | CB15: Keelung City | CC15: 基隆市 | CD15: 5622 | CE15: 1.0807673 | CF15: 3222 | CG15: 1.050651 | CH15: 2400 | CI15: 1.1240217 | CJ15: 0 | CK15: 0 | CL15: 0 | CM15: 0 | CN15: 0 | CO15: 0 | CP15: 0 | CQ15: 0 | CR15: 0 | CS15: 0 | CT15: 0 | CU15: 0 | CV15: Keelung City | CW15: 基隆市 | CX15: 0 | CY15: 0 | CZ15: 0 | DA15: 0 | DB15: 0 | DC15: 0 | DD15: 0 | DE15: 0 | DF15: 0 | DG15: 0 | DH15: 0 | DI15: 0 | DJ15: 5054 | DK15: 1.7254211 | DL15: 5054 | DM15: 1.7254211 | DN15: 0 | DO15: 0 | DP15: Keelung City | DQ15: 基隆市 | DR15: 60554 | DS15: 1.6552135 | DT15: 46582 | DU15: 1.7408892 | DV15: 13972 | DW15: 1.4219114 | DX15: 7630 | DY15: 1.6532435 | DZ15: 5693 | EA15: 1.7138402 | EB15: 1937 | EC15: 1.4976148 | ED15: 52924 | EE15: 1.6554979 | EF15: 40889 | EG15: 1.7447231 | EH15: 12035 | EI15: 1.4104364 | EJ15: Keelung City
A16: 宜蘭縣 | B16: 386157 | C16: 1.6098597 | D16: 257469 | E16: 1.5986829 | F16: 128688 | G16: 1.6326972 | H16: 146871 | I16: 1.0298307 | J16: 95532 | K16: 1.0318247 | L16: 51339 | M16: 1.0261407 | N16: 19675 | O16: 1.6046697 | P16: 11582 | Q16: 1.5295261 | R16: 8093 | S16: 1.7260243 | T16: Yilan County | U16: 宜蘭縣 | V16: 100253 | W16: 0.86719495 | X16: 64247 | Y16: 0.87310483 | Z16: 36006 | AA16: 0.85684607 | AB16: 20045 | AC16: 2.4170609 | AD16: 13651 | AE16: 2.3185309 | AF16: 6394 | AG16: 2.658241 | AH16: 6028 | AI16: 1.0313388 | AJ16: 5290 | AK16: 1.0551132 | AL16: 738 | AM16: 0.88792637 | AN16: Yilan County | AO16: 宜蘭縣 | AP16: 870 | AQ16: 1.4226845 | AR16: 762 | AS16: 1.4452895 | AT16: 108 | AU16: 1.2812908 | AV16: 103550 | AW16: 2.8764089 | AX16: 67339 | AY16: 2.858801 | AZ16: 36211 | BA16: 2.9097364 | BB16: 103550 | BC16: 2.8769003 | BD16: 67339 | BE16: 2.8594796 | BF16: 36211 | BG16: 2.9098673 | BH16: Yilan County | BI16: 宜蘭縣 | BJ16: 0 | BK16: 0 | BL16: 0 | BM16: 0 | BN16: 0 | BO16: 0 | BP16: 78159 | BQ16: 3.766441 | BR16: 50135 | BS16: 3.5221311 | BT16: 28024 | BU16: 4.3000457 | BV16: 42935 | BW16: 2.7611714 | BX16: 29698 | BY16: 2.6592977 | BZ16: 13237 | CA16: 3.0208012 | CB16: Yilan County | CC16: 宜蘭縣 | CD16: 35224 | CE16: 6.7714241 | CF16: 20437 | CG16: 6.6642319 | CH16: 14787 | CI16: 6.925379 | CJ16: 0 | CK16: 0 | CL16: 0 | CM16: 0 | CN16: 0 | CO16: 0 | CP16: 0 | CQ16: 0 | CR16: 0 | CS16: 0 | CT16: 0 | CU16: 0 | CV16: Yilan County | CW16: 宜蘭縣 | CX16: 0 | CY16: 0 | CZ16: 0 | DA16: 0 | DB16: 0 | DC16: 0 | DD16: 0 | DE16: 0 | DF16: 0 | DG16: 0 | DH16: 0 | DI16: 0 | DJ16: 4554 | DK16: 1.5547225 | DL16: 4554 | DM16: 1.5547225 | DN16: 0 | DO16: 0 | DP16: Yilan County | DQ16: 宜蘭縣 | DR16: 53023 | DS16: 1.4493574 | DT16: 39909 | DU16: 1.491502 | DV16: 13114 | DW16: 1.3345939 | DX16: 6655 | DY16: 1.4419837 | DZ16: 4845 | EA16: 1.4585554 | EB16: 1810 | EC16: 1.3994232 | ED16: 46368 | EE16: 1.4504219 | EF16: 35064 | EG16: 1.4961719 | EH16: 11304 | EI16: 1.3247672 | EJ16: Yilan County
A17: 金門縣 | B17: 64933 | C17: 0.27070083 | D17: 43819 | E17: 0.27208202 | F17: 21114 | G17: 0.26787865 | H17: 23533 | I17: 0.1650088 | J17: 15337 | K17: 0.16565231 | L17: 8196 | M17: 0.16381794 | N17: 3921 | O17: 0.31979212 | P17: 2586 | Q17: 0.34150877 | R17: 1335 | S17: 0.28472043 | T17: Kinmen County | U17: 金門縣 | V17: 11020 | W17: 0.095323714 | X17: 6857 | Y17: 0.09318536 | Z17: 4163 | AA17: 0.099068216 | AB17: 7564 | AC17: 0.91208024 | AD17: 4986 | AE17: 0.84683871 | AF17: 2578 | AG17: 1.0717775 | AH17: 939 | AI17: 0.1606548 | AJ17: 833 | AK17: 0.16614543 | AL17: 106 | AM17: 0.12753414 | AN17: Kinmen County | AO17: 金門縣 | AP17: 89 | AQ17: 0.14553898 | AR17: 75 | AS17: 0.14225291 | AT17: 14 | AU17: 0.16609325 | AV17: 5267 | AW17: 0.14630657 | AX17: 3408 | AY17: 0.14468278 | AZ17: 1859 | BA17: 0.14938002 | BB17: 5267 | BC17: 0.14633157 | BD17: 3408 | BE17: 0.14471712 | BF17: 1859 | BG17: 0.14938674 | BH17: Kinmen County | BI17: 金門縣 | BJ17: 0 | BK17: 0 | BL17: 0 | BM17: 0 | BN17: 0 | BO17: 0 | BP17: 16176 | BQ17: 0.77951292 | BR17: 9918 | BS17: 0.69676865 | BT17: 6258 | BU17: 0.96023716 | BV17: 4936 | BW17: 0.31743663 | BX17: 4237 | BY17: 0.37940078 | BZ17: 699 | CA17: 0.15951802 | CB17: Kinmen County | CC17: 金門縣 | CD17: 11240 | CE17: 2.1607656 | CF17: 5681 | CG17: 1.852498 | CH17: 5559 | CI17: 2.6035154 | CJ17: 0 | CK17: 0 | CL17: 0 | CM17: 0 | CN17: 0 | CO17: 0 | CP17: 0 | CQ17: 0 | CR17: 0 | CS17: 0 | CT17: 0 | CU17: 0 | CV17: Kinmen County | CW17: 金門縣 | CX17: 0 | CY17: 0 | CZ17: 0 | DA17: 0 | DB17: 0 | DC17: 0 | DD17: 0 | DE17: 0 | DF17: 0 | DG17: 0 | DH17: 0 | DI17: 0 | DJ17: 476 | DK17: 0.16250504 | DL17: 476 | DM17: 0.16250504 | DN17: 0 | DO17: 0 | DP17: Kinmen County | DQ17: 金門縣 | DR17: 19481 | DS17: 0.53250346 | DT17: 14680 | DU17: 0.54862938 | DV17: 4801 | DW17: 0.48859123 | DX17: 8170 | DY17: 1.770249 | DZ17: 5879 | EA17: 1.7698342 | EB17: 2291 | EC17: 1.7713141 | ED17: 11311 | EE17: 0.3538156 | EF17: 8801 | EG17: 0.37553641 | EH17: 2510 | EI17: 0.29415832 | EJ17: Kinmen County
A18: 連江縣 | B18: 7643 | C18: 0.031863096 | D18: 4967 | E18: 0.03084122 | F18: 2676 | G18: 0.033951088 | H18: 4401 | I18: 0.030858952 | J18: 2804 | K18: 0.030285523 | L18: 1597 | M18: 0.031920114 | N18: 1172 | O18: 0.095586934 | P18: 760 | Q18: 0.10036607 | R18: 412 | S18: 0.087868777 | T18: Lienchiang County | U18: 連江縣 | V18: 1559 | W18: 0.013485451 | X18: 972 | Y18: 0.0132093 | Z18: 587 | AA18: 0.013969023 | AB18: 1510 | AC18: 0.18207842 | AD18: 925 | AE18: 0.15710505 | AF18: 585 | AG18: 0.24320785 | AH18: 156 | AI18: 0.026690254 | AJ18: 145 | AK18: 0.028920872 | AL18: 11 | AM18: 0.013234675 | AN18: Lienchiang County | AO18: 連江縣 | AP18: 4 | AQ18: 0.006541078 | AR18: 2 | AS18: 0.0037934108 | AT18: 2 | AU18: 0.023727607 | AV18: 789 | AW18: 0.021916819 | AX18: 476 | AY18: 0.020208041 | AZ18: 313 | BA18: 0.025151128 | BB18: 789 | BC18: 0.021920564 | BD18: 476 | BE18: 0.020212838 | BF18: 313 | BG18: 0.02515226 | BH18: Lienchiang County | BI18: 連江縣 | BJ18: 0 | BK18: 0 | BL18: 0 | BM18: 0 | BN18: 0 | BO18: 0 | BP18: 881 | BQ18: 0.042454926 | BR18: 461 | BS18: 0.032386605 | BT18: 420 | BU18: 0.064445447 | BV18: 82 | BW18: 0.0052734611 | BX18: 73 | BY18: 0.0065367612 | BZ18: 9 | CA18: 0.0020538801 | CB18: Lienchiang County | CC18: 連江縣 | CD18: 799 | CE18: 0.15359891 | CF18: 388 | CG18: 0.1265216 | CH18: 411 | CI18: 0.19248872 | CJ18: 0 | CK18: 0 | CL18: 0 | CM18: 0 | CN18: 0 | CO18: 0 | CP18: 0 | CQ18: 0 | CR18: 0 | CS18: 0 | CT18: 0 | CU18: 0 | CV18: Lienchiang County | CW18: 連江縣 | CX18: 0 | CY18: 0 | CZ18: 0 | DA18: 0 | DB18: 0 | DC18: 0 | DD18: 0 | DE18: 0 | DF18: 0 | DG18: 0 | DH18: 0 | DI18: 0 | DJ18: 94 | DK18: 0.032091331 | DL18: 94 | DM18: 0.032091331 | DN18: 0 | DO18: 0 | DP18: Lienchiang County | DQ18: 連江縣 | DR18: 1478 | DS18: 0.040400396 | DT18: 1132 | DU18: 0.042305753 | DV18: 346 | DW18: 0.035211948 | DX18: 265 | DY18: 0.057419337 | DZ18: 176 | EA18: 0.052983641 | EB18: 89 | EC18: 0.068811418 | ED18: 1213 | EE18: 0.037943446 | EF18: 956 | EG18: 0.040792275 | EH18: 257 | EI18: 0.030118999 | EJ18: Lienchiang County
A19: 北區業務組 | B19: 3908757 | C19: 16.295316 | D19: 2577435 | E19: 16.003873 | F19: 1331322 | G19: 16.890819 | H19: 2579109 | I19: 18.084208 | J19: 1647314 | K19: 17.792356 | L19: 931795 | M19: 18.624297 | N19: 151699 | O19: 12.372391 | P19: 84273 | Q19: 11.129145 | R19: 67426 | S19: 14.380195 | T19: Northern Division | U19: 北區業務組 | V19: 2199328 | W19: 19.02433 | X19: 1390523 | Y19: 18.89695 | Z19: 808805 | AA19: 19.247386 | AB19: 137259 | AC19: 16.550928 | AD19: 95950 | AE19: 16.296465 | AF19: 41309 | AG19: 17.1738 | AH19: 82666 | AI19: 14.14344 | AJ19: 69648 | AK19: 13.891593 | AL19: 13018 | AM19: 15.662636 | AN19: Northern Division | AO19: 北區業務組 | AP19: 8157 | AQ19: 13.338893 | AR19: 6920 | AS19: 13.125202 | AT19: 1237 | AU19: 14.675525 | AV19: 465744 | AW19: 12.937423 | AX19: 292465 | AY19: 12.41627 | AZ19: 173279 | BA19: 13.923841 | BB19: 465744 | BC19: 12.939634 | BD19: 292465 | BE19: 12.419218 | BF19: 173279 | BG19: 13.924468 | BH19: Northern Division | BI19: 北區業務組 | BJ19: 0 | BK19: 0 | BL19: 0 | BM19: 0 | BN19: 0 | BO19: 0 | BP19: 230337 | BQ19: 11.099819 | BR19: 156496 | BS19: 10.994304 | BT19: 73841 | BU19: 11.330277 | BV19: 200462 | BW19: 12.891812 | BX19: 141487 | BY19: 12.669407 | BZ19: 58975 | CA19: 13.45862 | CB19: Northern Division | CC19: 北區業務組 | CD19: 29875 | CE19: 5.743138 | CF19: 15009 | CG19: 4.8942338 | CH19: 14866 | CI19: 6.9623781 | CJ19: 54387 | CK19: 54.979681 | CL19: 54387 | CM19: 54.979681 | CN19: 0 | CO19: 0 | CP19: 0 | CQ19: 0 | CR19: 0 | CS19: 0 | CT19: 0 | CU19: 0 | CV19: Northern Division | CW19: 北區業務組 | CX19: 0 | CY19: 0 | CZ19: 0 | DA19: 0 | DB19: 0 | DC19: 0 | DD19: 54387 | DE19: 99.660998 | DF19: 54387 | DG19: 99.660998 | DH19: 0 | DI19: 0 | DJ19: 40922 | DK19: 13.970654 | DL19: 40922 | DM19: 13.970654 | DN19: 0 | DO19: 0 | DP19: Northern Division | DQ19: 北區業務組 | DR19: 538258 | DS19: 14.713015 | DT19: 385851 | DU19: 14.420245 | DV19: 152407 | DW19: 15.510253 | DX19: 78920 | DY19: 17.100128 | DZ19: 57236 | EA19: 17.230521 | EB19: 21684 | EC19: 16.765245 | ED19: 459338 | EE19: 14.368398 | EF19: 328615 | EG19: 14.021918 | EH19: 130723 | EI19: 15.320023 | EJ19: Northern Division
A20: 桃園市 | B20: 2206086 | C20: 9.1970079 | D20: 1462732 | E20: 9.0824318 | F20: 743354 | G20: 9.4311201 | H20: 1452015 | I20: 10.181245 | J20: 925957 | K20: 10.001103 | L20: 526058 | M20: 10.514609 | N20: 86756 | O20: 7.0757168 | P20: 49602 | Q20: 6.5504709 | R20: 37154 | S20: 7.9239722 | T20: Taoyuan City | U20: 桃園市 | V20: 1226437 | W20: 10.60876 | X20: 770549 | Y20: 10.471618 | Z20: 455888 | AA20: 10.84891 | AB20: 79884 | AC20: 9.6325513 | AD20: 56194 | AE20: 9.5441745 | AF20: 23690 | AG20: 9.8488785 | AH20: 53948 | AI20: 9.2300375 | AJ20: 45439 | AK20: 9.0630036 | AL20: 8509 | AM20: 10.237623 | AN20: Taoyuan City | AO20: 桃園市 | AP20: 4990 | AQ20: 8.1599948 | AR20: 4173 | AS20: 7.9149517 | AT20: 817 | AU20: 9.6927275 | AV20: 244611 | AW20: 6.7947972 | AX20: 153621 | AY20: 6.5218056 | AZ20: 90990 | BA20: 7.3115052 | BB20: 244611 | BC20: 6.7959582 | BD20: 153621 | BE20: 6.5233537 | BF20: 90990 | BG20: 7.3118342 | BH20: Taoyuan City | BI20: 桃園市 | BJ20: 0 | BK20: 0 | BL20: 0 | BM20: 0 | BN20: 0 | BO20: 0 | BP20: 79440 | BQ20: 3.8281718 | BR20: 53958 | BS20: 3.7907081 | BT20: 25482 | BU20: 3.9099973 | BV20: 75942 | BW20: 4.8838681 | BX20: 52189 | BY20: 4.673247 | BZ20: 23753 | CA20: 5.4206461 | CB20: Taoyuan City | CC20: 桃園市 | CD20: 3498 | CE20: 0.67245178 | CF20: 1769 | CG20: 0.5768472 | CH20: 1729 | CI20: 0.809764 | CJ20: 54387 | CK20: 54.979681 | CL20: 54387 | CM20: 54.979681 | CN20: 0 | CO20: 0 | CP20: 0 | CQ20: 0 | CR20: 0 | CS20: 0 | CT20: 0 | CU20: 0 | CV20: Taoyuan City | CW20: 桃園市 | CX20: 0 | CY20: 0 | CZ20: 0 | DA20: 0 | DB20: 0 | DC20: 0 | DD20: 54387 | DE20: 99.660998 | DF20: 54387 | DG20: 99.660998 | DH20: 0 | DI20: 0 | DJ20: 27293 | DK20: 9.317752 | DL20: 27293 | DM20: 9.317752 | DN20: 0 | DO20: 0 | DP20: Taoyuan City | DQ20: 桃園市 | DR20: 348340 | DS20: 9.5217009 | DT20: 247516 | DU20: 9.2503099 | DV20: 100824 | DW20: 10.260721 | DX20: 56240 | DY20: 12.1859 | DZ20: 40906 | EA20: 12.314482 | EB20: 15334 | EC20: 11.855666 | ED20: 292100 | EE20: 9.1370822 | EF20: 206610 | EG20: 8.8159957 | EH20: 85490 | EI20: 10.018962 | EJ20: Taoyuan City
A21: 新竹市 | B21: 716801 | C21: 2.9882899 | D21: 461934 | E21: 2.868252 | F21: 254867 | G21: 3.233562 | H21: 547908 | I21: 3.8418238 | J21: 350794 | K21: 3.7888658 | L21: 197114 | M21: 3.9398255 | N21: 23502 | O21: 1.9167953 | P21: 11940 | Q21: 1.5768038 | R21: 11562 | S21: 2.4658709 | T21: Hsinchu City | U21: 新竹市 | V21: 491557 | W21: 4.2519999 | X21: 314841 | Y21: 4.2786309 | Z21: 176716 | AA21: 4.2053661 | AB21: 21641 | AC21: 2.6095093 | AD21: 14613 | AE21: 2.4819202 | AF21: 7028 | AG21: 2.9218201 | AH21: 10039 | AI21: 1.7175863 | AJ21: 8392 | AK21: 1.6738204 | AL21: 1647 | AM21: 1.9815918 | AN21: Hsinchu City | AO21: 新竹市 | AP21: 1169 | AQ21: 1.91163 | AR21: 1008 | AS21: 1.9118791 | AT21: 161 | AU21: 1.9100724 | AV21: 88868 | AW21: 2.4685727 | AX21: 54729 | AY21: 2.3234577 | AZ21: 34139 | BA21: 2.7432407 | BB21: 88868 | BC21: 2.4689945 | BD21: 54729 | BE21: 2.3240092 | BF21: 34139 | BG21: 2.7433642 | BH21: Hsinchu City | BI21: 新竹市 | BJ21: 0 | BK21: 0 | BL21: 0 | BM21: 0 | BN21: 0 | BO21: 0 | BP21: 17040 | BQ21: 0.82114863 | BR21: 9290 | BS21: 0.6526498 | BT21: 7750 | BU21: 1.1891719 | BV21: 5121 | BW21: 0.32933408 | BX21: 3516 | BY21: 0.31483907 | BZ21: 1605 | CA21: 0.36627529 | CB21: Hsinchu City | CC21: 新竹市 | CD21: 11919 | CE21: 2.2912958 | CF21: 5774 | CG21: 1.882824 | CH21: 6145 | CI21: 2.877964 | CJ21: 0 | CK21: 0 | CL21: 0 | CM21: 0 | CN21: 0 | CO21: 0 | CP21: 0 | CQ21: 0 | CR21: 0 | CS21: 0 | CT21: 0 | CU21: 0 | CV21: Hsinchu City | CW21: 新竹市 | CX21: 0 | CY21: 0 | CZ21: 0 | DA21: 0 | DB21: 0 | DC21: 0 | DD21: 0 | DE21: 0 | DF21: 0 | DG21: 0 | DH21: 0 | DI21: 0 | DJ21: 4100 | DK21: 1.3997282 | DL21: 4100 | DM21: 1.3997282 | DN21: 0 | DO21: 0 | DP21: Hsinchu City | DQ21: 新竹市 | DR21: 58885 | DS21: 1.6095922 | DT21: 43021 | DU21: 1.6078055 | DV21: 15864 | DW21: 1.6144577 | DX21: 9187 | DY21: 1.9906092 | DZ21: 6732 | EA21: 2.0266243 | EB21: 2455 | EC21: 1.8981127 | ED21: 49698 | EE21: 1.5545865 | EF21: 36289 | EG21: 1.5484423 | EH21: 13409 | EI21: 1.5714617 | EJ21: Hsinchu City
A22: 新竹縣 | B22: 539892 | C22: 2.2507694 | D22: 352532 | E22: 2.1889504 | F22: 187360 | G22: 2.3770837 | H22: 362799 | I22: 2.5438757 | J22: 231627 | K22: 2.5017635 | L22: 131172 | M22: 2.6218066 | N22: 21267 | O22: 1.7345114 | P22: 11077 | Q22: 1.4628355 | R22: 10190 | S22: 2.1732593 | T22: Hsinchu County | U22: 新竹縣 | V22: 311885 | W22: 2.6978255 | X22: 198188 | Y22: 2.6933382 | Z22: 113697 | AA22: 2.7056832 | AB22: 17497 | AC22: 2.1098186 | AD22: 12188 | AE22: 2.0700502 | AF22: 5309 | AG22: 2.2071632 | AH22: 11057 | AI22: 1.8917573 | AJ22: 9253 | AK22: 1.8455506 | AL22: 1804 | AM22: 2.1704867 | AN22: Hsinchu County | AO22: 新竹縣 | AP22: 1093 | AQ22: 1.7873496 | AR22: 921 | AS22: 1.7468657 | AT22: 172 | AU22: 2.0405742 | AV22: 66121 | AW22: 1.8367072 | AX22: 40490 | AY22: 1.7189571 | AZ22: 25631 | BA22: 2.05958 | BB22: 66121 | BC22: 1.837021 | BD22: 40490 | BE22: 1.7193651 | BF22: 25631 | BG22: 2.0596727 | BH22: Hsinchu County | BI22: 新竹縣 | BJ22: 0 | BK22: 0 | BL22: 0 | BM22: 0 | BN22: 0 | BO22: 0 | BP22: 40119 | BQ22: 1.9333135 | BR22: 28723 | BS22: 2.0178752 | BT22: 11396 | BU22: 1.7486198 | BV22: 40119 | BW22: 2.580073 | BX22: 28723 | BY22: 2.5719917 | BZ22: 11396 | CA22: 2.6006687 | CB22: Hsinchu County | CC22: 新竹縣 | CD22: 0 | CE22: 0 | CF22: 0 | CG22: 0 | CH22: 0 | CI22: 0 | CJ22: 0 | CK22: 0 | CL22: 0 | CM22: 0 | CN22: 0 | CO22: 0 | CP22: 0 | CQ22: 0 | CR22: 0 | CS22: 0 | CT22: 0 | CU22: 0 | CV22: Hsinchu County | CW22: 新竹縣 | CX22: 0 | CY22: 0 | CZ22: 0 | DA22: 0 | DB22: 0 | DC22: 0 | DD22: 0 | DE22: 0 | DF22: 0 | DG22: 0 | DH22: 0 | DI22: 0 | DJ22: 3961 | DK22: 1.352274 | DL22: 3961 | DM22: 1.352274 | DN22: 0 | DO22: 0 | DP22: Hsinchu County | DQ22: 新竹縣 | DR22: 66892 | DS22: 1.8284596 | DT22: 47731 | DU22: 1.7838303 | DV22: 19161 | DW22: 1.9499889 | DX22: 6748 | DY22: 1.4621347 | DZ22: 4773 | EA22: 1.4368802 | EB22: 1975 | EC22: 1.526995 | ED22: 60144 | EE22: 1.8813443 | EF22: 42958 | EG22: 1.8330068 | EH22: 17186 | EI22: 2.0141055 | EJ22: Hsinchu County
... A39: 臺東縣 | B39: 179185 | C39: 0.74700889 | D39: 127387 | E39: 0.79097452 | F39: 51798 | G39: 0.65717432 | H39: 58495 | I39: 0.4101555 | J39: 39054 | K39: 0.42181556 | L39: 19441 | M39: 0.38857792 | N39: 14264 | O39: 1.163355 | P39: 9227 | Q39: 1.2185234 | R39: 5037 | S39: 1.0742598 | T39: Taitung County | U39: 臺東縣 | V39: 30534 | W39: 0.26412108 | X39: 19835 | Y39: 0.26955398 | Z39: 10699 | AA39: 0.25460746 | AB39: 10700 | AC39: 1.2902246 | AD39: 7278 | AE39: 1.2361196 | AF39: 3422 | AG39: 1.422662 | AH39: 2642 | AI39: 0.45202341 | AJ39: 2402 | AK39: 0.47908921 | AL39: 240 | AM39: 0.28875654 | AN39: Taitung County | AO39: 臺東縣 | AP39: 355 | AQ39: 0.58052067 | AR39: 312 | AS39: 0.59177209 | AT39: 43 | AU39: 0.51014355 | AV39: 23010 | AW39: 0.63917111 | AX39: 15138 | AY39: 0.64266665 | AZ39: 7872 | BA39: 0.63255488 | BB39: 23010 | BC39: 0.63928032 | BD39: 15138 | BE39: 0.6428192 | BF39: 7872 | BG39: 0.63258335 | BH39: Taitung County | BI39: 臺東縣 | BJ39: 0 | BK39: 0 | BL39: 0 | BM39: 0 | BN39: 0 | BO39: 0 | BP39: 41115 | BQ39: 1.9813102 | BR39: 29894 | BS39: 2.1001413 | BT39: 11221 | BU39: 1.7217675 | BV39: 34118 | BW39: 2.1941457 | BX39: 25420 | BY39: 2.2762256 | BZ39: 8698 | CA39: 1.984961 | CB39: Taitung County | CC39: 臺東縣 | CD39: 6997 | CE39: 1.3450958 | CF39: 4474 | CG39: 1.4589115 | CH39: 2523 | CI39: 1.1816279 | CJ39: 0 | CK39: 0 | CL39: 0 | CM39: 0 | CN39: 0 | CO39: 0 | CP39: 0 | CQ39: 0 | CR39: 0 | CS39: 0 | CT39: 0 | CU39: 0 | CV39: Taitung County | CW39: 臺東縣 | CX39: 0 | CY39: 0 | CZ39: 0 | DA39: 0 | DB39: 0 | DC39: 0 | DD39: 0 | DE39: 0 | DF39: 0 | DG39: 0 | DH39: 0 | DI39: 0 | DJ39: 7010 | DK39: 2.3931939 | DL39: 7010 | DM39: 2.3931939 | DN39: 0 | DO39: 0 | DP39: Taitung County | DQ39: 臺東縣 | DR39: 49555 | DS39: 1.3545613 | DT39: 36291 | DU39: 1.3562881 | DV39: 13264 | DW39: 1.3498592 | DX39: 5878 | DY39: 1.2736259 | DZ39: 4155 | EA39: 1.2508354 | EB39: 1723 | EC39: 1.3321581 | ED39: 43677 | EE39: 1.3662456 | EF39: 32136 | EG39: 1.3712349 | EH39: 11541 | EI39: 1.3525423 | EJ39: Taitung County
A40: 備註：1.本表縣市別係按保險對象所屬投保單位的通訊地址統計。 | K40: Note：1. The locales were determined by the mailing addresses of the group insurance applicants to which the | U40: 2.因農田水利法自109年10月1日起施行，自該日起第三類第一目已無水利會投保單位及會員加保。 | AE40: 2.Since the Irrigation Act came into effect on October 1, 2020, there is no group insurance applicant for
K41: beneficiaries belong. | AE41: the irrigation association and members for Item 1 of Category 3 from that date.

Sheet 108
A1: 保險對象人數－按保險對象類目及縣市別分 | K1: Beneficiaries by Beneficiary Category, | U1: 保險對象人數－按保險對象類目及縣市別分（續一） | AE1: Beneficiaries by Beneficiary Category, | AO1: 保險對象人數－按保險對象類目及縣市別分（續二） | AY1: Beneficiaries by Beneficiary Category, | BI1: 保險對象人數－按保險對象類目及縣市別分（續三） | BS1: Beneficiaries by Beneficiary Category, | CC1: 保險對象人數－按保險對象類目及縣市別分（續四） | CM1: Beneficiaries by Beneficiary Category, | CW1: 保險對象人數－按保險對象類目及縣市別分（續五） | DG1: Beneficiaries by Beneficiary Category, | DQ1: 保險對象人數－按保險對象類目及縣市別分（續完） | EA1: Beneficiaries by Beneficiary Category,
K2: NHI Regional Division and Locale | AE2: NHI Regional Division and Locale（Cont'd 1） | AY2: NHI Regional Division and Locale（Cont'd 2） | BS2: NHI Regional Division and Locale（Cont'd 3） | CM2: NHI Regional Division and Locale（Cont'd 4） | DG2: NHI Regional Division and Locale（Cont'd 5） | EA2: NHI Regional Division and Locale（Cont'd）
A3: 中華民國108年底 | K3: End of 2019 | U3: 中華民國108年底 | AE3: End of 2019 | AO3: 中華民國108年底 | AY3: End of 2019 | BI3: 中華民國108年底 | BS3: End of 2019 | CC3: 中華民國108年底 | CM3: End of 2019 | CW3: 中華民國108年底 | DG3: End of 2019 | DQ3: 中華民國108年底 | EA3: End of 2019
A4: 單位：人 | T4: Unit：Persons | U4: 單位：人 | AN4: Unit：Persons | AO4: 單位：人 | BH4: Unit：Persons | BI4: 單位：人 | CB4: Unit：Persons | CC4: 單位：人 | CV4: Unit：Persons | CW4: 單位：人 | DP4: Unit：Persons | DQ4: 單位：人 | EJ4: Unit：Persons
A5: 業務組 縣市別 | B5: 總計 Grand Total | H5: 第一類 | K5: Category 1 | T5: Division & Locale | U5: 業務組 縣市別 | V5: 第一類 | AE5: Category 1 | AN5: Division & Locale | AO5: 業務組 縣市別 | AP5: 第一類 Category 1 | AV5: 第二類 | AY5: Category 2 | BH5: Division & Locale | BI5: 業務組 縣市別 | BJ5: 第二類 Category 2 | BP5: 第三類 | BS5: Category 3 | CB5: Division & Locale | CC5: 業務組 縣市別 | CD5: 第三類 Category 3 | CJ5: 第四類 | CM5: Category 4 | CV5: Division & Locale | CW5: 業務組 縣市別 | CX5: 第四類 | DG5: Category 4 | DJ5: 第五類 Category 5 | DP5: Division & Locale | DQ5: 業務組 縣市別 | DR5: 第六類 | EA5: Category 6 | EJ5: Division & Locale
B7: 保險對象Beneficiaries | D7: 被保險人Insureds | F7: 眷屬Dependents | H7: 合計 | K7: Total | N7: 第一目 Item 1 | V7: 第二目 Item 2 | AB7: 第三目 | AE7: Item 3 | AH7: 第四目 Item 4 | AP7: 第五目 Item 5 | AV7: 合計 | AY7: Total | BB7: 第一目 Item 1 | BJ7: 第二目 Item 2 | BP7: 合計 | BS7: Total | BV7: 第一目 Item 1 | CD7: 第二目 Item 2 | CJ7: 合計 | CM7: Total | CP7: 第一目 Item 1 | CX7: 第二目 Item 2 | DD7: 第三目 | DG7: Item 3 | DR7: 合計 Total | DX7: 第一目 | EA7: Item 1 | ED7: 第二目 Item 2
H8: 保險對象Beneficiaries | J8: 被保險人Insureds | L8: 眷屬Dependents | N8: 保險對象Beneficiaries | P8: 被保險人Insureds | R8: 眷屬Dependents | V8: 保險對象Beneficiaries | X8: 被保險人Insureds | Z8: 眷屬Dependents | AB8: 保險對象Beneficiaries | AD8: 被保險人Insureds | AF8: 眷屬Dependents | AH8: 保險對象Beneficiaries | AJ8: 被保險人Insureds | AL8: 眷屬Dependents | AP8: 保險對象Beneficiaries | AR8: 被保險人Insureds | AT8: 眷屬Dependents | AV8: 保險對象Beneficiaries | AX8: 被保險人Insureds | AZ8: 眷屬Dependents | BB8: 保險對象Beneficiaries | BD8: 被保險人Insureds | BF8: 眷屬Dependents | BJ8: 保險對象Beneficiaries | BL8: 被保險人Insureds | BN8: 眷屬Dependents | BP8: 保險對象Beneficiaries | BR8: 被保險人Insureds | BT8: 眷屬Dependents | BV8: 保險對象Beneficiaries | BX8: 被保險人Insureds | BZ8: 眷屬Dependents | CD8: 保險對象Beneficiaries | CF8: 被保險人Insureds | CH8: 眷屬Dependents | CJ8: 保險對象Beneficiaries | CL8: 被保險人Insureds | CN8: 眷屬Dependents | CP8: 保險對象Beneficiaries | CR8: 被保險人Insureds | CT8: 眷屬Dependents | CX8: 保險對象Beneficiaries | CZ8: 被保險人Insureds | DB8: 眷屬Dependents | DD8: 保險對象Beneficiaries | DF8: 被保險人Insureds | DH8: 眷屬Dependents | DJ8: 保險對象Beneficiaries | DL8: 被保險人Insureds | DN8: 眷屬Dependents | DR8: 保險對象Beneficiaries | DT8: 被保險人Insureds | DV8: 眷屬Dependents | DX8: 保險對象Beneficiaries | DZ8: 被保險人Insureds | EB8: 眷屬Dependents | ED8: 保險對象Beneficiaries | EF8: 被保險人Insureds | EH8: 眷屬Dependents
C9: 百分比 | E9: 百分比 | G9: 百分比 | I9: 百分比 | K9: 百分比 | M9: 百分比 | O9: 百分比 | Q9: 百分比 | S9: 百分比 | W9: 百分比 | Y9: 百分比 | AA9: 百分比 | AC9: 百分比 | AE9: 百分比 | AG9: 百分比 | AI9: 百分比 | AK9: 百分比 | AM9: 百分比 | AQ9: 百分比 | AS9: 百分比 | AU9: 百分比 | AW9: 百分比 | AY9: 百分比 | BA9: 百分比 | BC9: 百分比 | BE9: 百分比 | BG9: 百分比 | BK9: 百分比 | BM9: 百分比 | BO9: 百分比 | BQ9: 百分比 | BS9: 百分比 | BU9: 百分比 | BW9: 百分比 | BY9: 百分比 | CA9: 百分比 | CE9: 百分比 | CG9: 百分比 | CI9: 百分比 | CK9: 百分比 | CM9: 百分比 | CO9: 百分比 | CQ9: 百分比 | CS9: 百分比 | CU9: 百分比 | CY9: 百分比 | DA9: 百分比 | DC9: 百分比 | DE9: 百分比 | DG9: 百分比 | DI9: 百分比 | DK9: 百分比 | DM9: 百分比 | DO9: 百分比 | DS9: 百分比 | DU9: 百分比 | DW9: 百分比 | DY9: 百分比 | EA9: 百分比 | EC9: 百分比 | EE9: 百分比 | EG9: 百分比 | EI9: 百分比
C10: % | E10: % | G10: % | I10: % | K10: % | M10: % | O10: % | Q10: % | S10: % | W10: % | Y10: % | AA10: % | AC10: % | AE10: % | AG10: % | AI10: % | AK10: % | AM10: % | AQ10: % | AS10: % | AU10: % | AW10: % | AY10: % | BA10: % | BC10: % | BE10: % | BG10: % | BK10: % | BM10: % | BO10: % | BQ10: % | BS10: % | BU10: % | BW10: % | BY10: % | CA10: % | CE10: % | CG10: % | CI10: % | CK10: % | CM10: % | CO10: % | CQ10: % | CS10: % | CU10: % | CY10: % | DA10: % | DC10: % | DE10: % | DG10: % | DI10: % | DK10: % | DM10: % | DO10: % | DS10: % | DU10: % | DW10: % | DY10: % | EA10: % | EC10: % | EE10: % | EG10: % | EI10: %
A11: 總 計 | B11: 24020428 | C11: 100 | D11: 16072302 | E11: 100 | F11: 7948126 | G11: 100 | H11: 14206747 | I11: 100 | J11: 9199237 | K11: 100 | L11: 5007510 | M11: 100 | N11: 1227278 | O11: 100 | P11: 752765 | Q11: 100 | R11: 474513 | S11: 100 | T11: Grand Total | U11: 總 計 | V11: 11526983 | W11: 100 | X11: 7315935 | Y11: 100 | Z11: 4211048 | AA11: 100 | AB11: 820024 | AC11: 100 | AD11: 586702 | AE11: 100 | AF11: 233322 | AG11: 100 | AH11: 572604 | AI11: 100 | AJ11: 492086 | AK11: 100 | AL11: 80518 | AM11: 100 | AN11: Grand Total | AO11: 總 計 | AP11: 59858 | AQ11: 100 | AR11: 51749 | AS11: 100 | AT11: 8109 | AU11: 100 | AV11: 3568688 | AW11: 100 | AX11: 2327078 | AY11: 100 | AZ11: 1241610 | BA11: 100 | BB11: 3568037 | BC11: 100 | BD11: 2326471 | BE11: 100 | BF11: 1241566 | BG11: 100 | BH11: Grand Total | BI11: 總 計 | BJ11: 651 | BK11: 100 | BL11: 607 | BM11: 100 | BN11: 44 | BO11: 100 | BP11: 2134024 | BQ11: 100 | BR11: 1451710 | BS11: 100 | BT11: 682314 | BU11: 100 | BV11: 1606397 | BW11: 100 | BX11: 1144806 | BY11: 100 | BZ11: 461591 | CA11: 100 | CB11: Grand Total | CC11: 總 計 | CD11: 527627 | CE11: 100 | CF11: 306904 | CG11: 100 | CH11: 220723 | CI11: 100 | CJ11: 102036 | CK11: 100 | CL11: 102036 | CM11: 100 | CN11: 0 | CO11: 0 | CP11: 38358 | CQ11: 100 | CR11: 38358 | CS11: 100 | CT11: 0 | CU11: 0 | CV11: Grand Total | CW11: 總 計 | CX11: 6565 | CY11: 100 | CZ11: 6565 | DA11: 100 | DB11: 0 | DC11: 0 | DD11: 57113 | DE11: 100 | DF11: 57113 | DG11: 100 | DH11: 0 | DI11: 0 | DJ11: 296503 | DK11: 100 | DL11: 296503 | DM11: 100 | DN11: 0 | DO11: 0 | DP11: Grand Total | DQ11: 總 計 | DR11: 3712430 | DS11: 100 | DT11: 2695738 | DU11: 100 | DV11: 1016692 | DW11: 100 | DX11: 475618 | DY11: 100 | DZ11: 339125 | EA11: 100 | EB11: 136493 | EC11: 100 | ED11: 3236812 | EE11: 100 | EF11: 2356613 | EG11: 100 | EH11: 880199 | EI11: 100 | EJ11: Grand Total
A12: 臺北業務組 | B12: 9026290 | C12: 37.577557 | D12: 6028259 | E12: 37.507129 | F12: 2998031 | G12: 37.719973 | H12: 6014234 | I12: 42.333646 | J12: 3930750 | K12: 42.729087 | L12: 2083484 | M12: 41.607186 | N12: 591676 | O12: 48.21043 | P12: 385420 | Q12: 51.200574 | R12: 206256 | S12: 43.466881 | T12: Taipei Division | U12: 臺北業務組 | V12: 4866401 | W12: 42.217474 | X12: 3114741 | Y12: 42.57475 | Z12: 1751660 | AA12: 41.596771 | AB12: 307948 | AC12: 37.553535 | AD12: 222200 | AE12: 37.872719 | AF12: 85748 | AG12: 36.750928 | AH12: 225656 | AI12: 39.408736 | AJ12: 189213 | AK12: 38.451206 | AL12: 36443 | AM12: 45.260687 | AN12: Taipei Division | AO12: 臺北業務組 | AP12: 22553 | AQ12: 37.677503 | AR12: 19176 | AS12: 37.055789 | AT12: 3377 | AU12: 41.645086 | AV12: 1308832 | AW12: 36.675439 | AX12: 848915 | AY12: 36.479869 | AZ12: 459917 | BA12: 37.041986 | BB12: 1308358 | BC12: 36.668846 | BD12: 848482 | BE12: 36.470775 | BF12: 459876 | BG12: 37.039996 | BH12: Taipei Division | BI12: 臺北業務組 | BJ12: 474 | BK12: 72.81106 | BL12: 433 | BM12: 71.334432 | BN12: 41 | BO12: 93.181818 | BP12: 213012 | BQ12: 9.9817059 | BR12: 132781 | BS12: 9.1465238 | BT12: 80231 | BU12: 11.758662 | BV12: 110007 | BW12: 6.8480581 | BX12: 77047 | BY12: 6.7301359 | BZ12: 32960 | CA12: 7.1405205 | CB12: Taipei Division | CC12: 臺北業務組 | CD12: 103005 | CE12: 19.522314 | CF12: 55734 | CG12: 18.160076 | CH12: 47271 | CI12: 21.416436 | CJ12: 38559 | CK12: 37.789604 | CL12: 38559 | CM12: 37.789604 | CN12: 0 | CO12: 0 | CP12: 38358 | CQ12: 100 | CR12: 38358 | CS12: 100 | CT12: 0 | CU12: 0 | CV12: Taipei Division | CW12: 臺北業務組 | CX12: 0 | CY12: 0 | CZ12: 0 | DA12: 0 | DB12: 0 | DC12: 0 | DD12: 201 | DE12: 0.35193389 | DF12: 201 | DG12: 0.35193389 | DH12: 0 | DI12: 0 | DJ12: 89459 | DK12: 30.171364 | DL12: 89459 | DM12: 30.171364 | DN12: 0 | DO12: 0 | DP12: Taipei Division | DQ12: 臺北業務組 | DR12: 1362194 | DS12: 36.692786 | DT12: 987795 | DU12: 36.642841 | DV12: 374399 | DW12: 36.825214 | DX12: 170649 | DY12: 35.879424 | DZ12: 123019 | EA12: 36.275415 | EB12: 47630 | EC12: 34.895562 | ED12: 1191545 | EE12: 36.812302 | EF12: 864776 | EG12: 36.695715 | EH12: 326769 | EI12: 37.124446 | EJ12: Taipei Division
A13: 新北市 | B13: 3343012 | C13: 13.917371 | D13: 2206902 | E13: 13.731088 | F13: 1136110 | G13: 14.294061 | H13: 2039251 | I13: 14.354102 | J13: 1305252 | K13: 14.188698 | L13: 733999 | M13: 14.657964 | N13: 130895 | O13: 10.665473 | P13: 77530 | Q13: 10.299363 | R13: 53365 | S13: 11.246267 | T13: New Taipei City | U13: 新北市 | V13: 1691351 | W13: 14.672972 | X13: 1053282 | Y13: 14.397093 | Z13: 638069 | AA13: 15.152261 | AB13: 96049 | AC13: 11.71295 | AD13: 71842 | AE13: 12.245058 | AF13: 24207 | AG13: 10.374932 | AH13: 112200 | AI13: 19.594694 | AJ13: 95147 | AK13: 19.335441 | AL13: 17053 | AM13: 21.179115 | AN13: New Taipei City | AO13: 新北市 | AP13: 8756 | AQ13: 14.627953 | AR13: 7451 | AS13: 14.398346 | AT13: 1305 | AU13: 16.09323 | AV13: 515762 | AW13: 14.452426 | AX13: 333499 | AY13: 14.331234 | AZ13: 182263 | BA13: 14.679569 | BB13: 515762 | BC13: 14.455063 | BD13: 333499 | BE13: 14.334973 | BF13: 182263 | BG13: 14.680089 | BH13: New Taipei City | BI13: 新北市 | BJ13: 0 | BK13: 0 | BL13: 0 | BM13: 0 | BN13: 0 | BO13: 0 | BP13: 99201 | BQ13: 4.6485419 | BR13: 60596 | BS13: 4.1741119 | BT13: 38605 | BU13: 5.6579522 | BV13: 49527 | BW13: 3.0831108 | BX13: 34463 | BY13: 3.0103791 | BZ13: 15064 | CA13: 3.2634952 | CB13: New Taipei City | CC13: 新北市 | CD13: 49674 | CE13: 9.4146054 | CF13: 26133 | CG13: 8.5150405 | CH13: 23541 | CI13: 10.665404 | CJ13: 0 | CK13: 0 | CL13: 0 | CM13: 0 | CN13: 0 | CO13: 0 | CP13: 0 | CQ13: 0 | CR13: 0 | CS13: 0 | CT13: 0 | CU13: 0 | CV13: New Taipei City | CW13: 新北市 | CX13: 0 | CY13: 0 | CZ13: 0 | DA13: 0 | DB13: 0 | DC13: 0 | DD13: 0 | DE13: 0 | DF13: 0 | DG13: 0 | DH13: 0 | DI13: 0 | DJ13: 35053 | DK13: 11.82214 | DL13: 35053 | DM13: 11.82214 | DN13: 0 | DO13: 0 | DP13: New Taipei City | DQ13: 新北市 | DR13: 653745 | DS13: 17.609625 | DT13: 472502 | DU13: 17.527742 | DV13: 181243 | DW13: 17.826736 | DX13: 74633 | DY13: 15.691795 | DZ13: 53475 | EA13: 15.768522 | EB13: 21158 | EC13: 15.501161 | ED13: 579112 | EE13: 17.891431 | EF13: 419027 | EG13: 17.7809 | EH13: 160085 | EI13: 18.187364 | EJ13: New Taipei City
A14: 臺北市 | B14: 4944983 | C14: 20.586573 | D14: 3325235 | E14: 20.689227 | F14: 1619748 | G14: 20.378992 | H14: 3698262 | I14: 26.03173 | J14: 2446114 | K14: 26.590401 | L14: 1252148 | M14: 25.005402 | N14: 418546 | O14: 34.103602 | P14: 282656 | Q14: 37.549036 | R14: 135890 | S14: 28.637782 | T14: Taipei City | U14: 臺北市 | V14: 2995830 | W14: 25.989715 | X14: 1947581 | Y14: 26.621081 | Z14: 1048249 | AA14: 24.89283 | AB14: 170476 | AC14: 20.789148 | AD14: 122178 | AE14: 20.824541 | AF14: 48298 | AG14: 20.700148 | AH14: 101173 | AI14: 17.66893 | AJ14: 83349 | AK14: 16.937893 | AL14: 17824 | AM14: 22.136665 | AN14: Taipei City | AO14: 臺北市 | AP14: 12237 | AQ14: 20.443383 | AR14: 10350 | AS14: 20.000386 | AT14: 1887 | AU14: 23.27044 | AV14: 582334 | AW14: 16.317874 | AX14: 377679 | AY14: 16.229753 | AZ14: 204655 | BA14: 16.483034 | BB14: 582129 | BC14: 16.315105 | BD14: 377490 | BE14: 16.225863 | BF14: 204639 | BG14: 16.48233 | BH14: Taipei City | BI14: 臺北市 | BJ14: 205 | BK14: 31.490015 | BL14: 189 | BM14: 31.136738 | BN14: 16 | BO14: 36.363636 | BP14: 9897 | BQ14: 0.46377173 | BR14: 6834 | BS14: 0.47075518 | BT14: 3063 | BU14: 0.44891355 | BV14: 9897 | BW14: 0.61609926 | BX14: 6834 | BY14: 0.59695704 | BZ14: 3063 | CA14: 0.66357446 | CB14: Taipei City | CC14: 臺北市 | CD14: 0 | CE14: 0 | CF14: 0 | CG14: 0 | CH14: 0 | CI14: 0 | CJ14: 38559 | CK14: 37.789604 | CL14: 38559 | CM14: 37.789604 | CN14: 0 | CO14: 0 | CP14: 38358 | CQ14: 100 | CR14: 38358 | CS14: 100 | CT14: 0 | CU14: 0 | CV14: Taipei City | CW14: 臺北市 | CX14: 0 | CY14: 0 | CZ14: 0 | DA14: 0 | DB14: 0 | DC14: 0 | DD14: 201 | DE14: 0.35193389 | DF14: 201 | DG14: 0.35193389 | DH14: 0 | DI14: 0 | DJ14: 43942 | DK14: 14.820086 | DL14: 43942 | DM14: 14.820086 | DN14: 0 | DO14: 0 | DP14: Taipei City | DQ14: 臺北市 | DR14: 571989 | DS14: 15.407402 | DT14: 412107 | DU14: 15.287354 | DV14: 159882 | DW14: 15.725707 | DX14: 72855 | DY14: 15.317965 | DZ14: 52696 | EA14: 15.538813 | EB14: 20159 | EC14: 14.769256 | ED14: 499134 | EE14: 15.420543 | EF14: 359411 | EG14: 15.251168 | EH14: 139723 | EI14: 15.874024 | EJ14: Taipei City
A15: 基隆市 | B15: 276933 | C15: 1.1529062 | D15: 189323 | E15: 1.1779458 | F15: 87610 | G15: 1.1022724 | H15: 103865 | I15: 0.73109629 | J15: 67083 | K15: 0.72922352 | L15: 36782 | M15: 0.73453673 | N15: 17531 | O15: 1.4284457 | P15: 10481 | Q15: 1.3923336 | R15: 7050 | S15: 1.4857338 | T15: Keelung City | U15: 基隆市 | V15: 67404 | W15: 0.58474971 | X15: 42581 | Y15: 0.58203087 | Z15: 24823 | AA15: 0.58947321 | AB15: 12981 | AC15: 1.5830024 | AD15: 8864 | AE15: 1.5108181 | AF15: 4117 | AG15: 1.7645143 | AH15: 5340 | AI15: 0.93258168 | AJ15: 4611 | AK15: 0.93703133 | AL15: 729 | AM15: 0.90538762 | AN15: Keelung City | AO15: 基隆市 | AP15: 609 | AQ15: 1.0174079 | AR15: 546 | AS15: 1.0550929 | AT15: 63 | AU15: 0.77691454 | AV15: 100007 | AW15: 2.8023464 | AX15: 66124 | AY15: 2.8415034 | AZ15: 33883 | BA15: 2.7289568 | BB15: 99738 | BC15: 2.7953185 | BD15: 65880 | BE15: 2.8317568 | BF15: 33858 | BG15: 2.7270399 | BH15: Keelung City | BI15: 基隆市 | BJ15: 269 | BK15: 41.321045 | BL15: 244 | BM15: 40.197694 | BN15: 25 | BO15: 56.818182 | BP15: 6218 | BQ15: 0.29137442 | BR15: 3636 | BS15: 0.25046325 | BT15: 2582 | BU15: 0.37841815 | BV15: 784 | BW15: 0.048804872 | BX15: 559 | BY15: 0.048829234 | BZ15: 225 | CA15: 0.048744451 | CB15: Keelung City | CC15: 基隆市 | CD15: 5434 | CE15: 1.0298942 | CF15: 3077 | CG15: 1.0025936 | CH15: 2357 | CI15: 1.0678543 | CJ15: 0 | CK15: 0 | CL15: 0 | CM15: 0 | CN15: 0 | CO15: 0 | CP15: 0 | CQ15: 0 | CR15: 0 | CS15: 0 | CT15: 0 | CU15: 0 | CV15: Keelung City | CW15: 基隆市 | CX15: 0 | CY15: 0 | CZ15: 0 | DA15: 0 | DB15: 0 | DC15: 0 | DD15: 0 | DE15: 0 | DF15: 0 | DG15: 0 | DH15: 0 | DI15: 0 | DJ15: 5571 | DK15: 1.8789017 | DL15: 5571 | DM15: 1.8789017 | DN15: 0 | DO15: 0 | DP15: Keelung City | DQ15: 基隆市 | DR15: 61272 | DS15: 1.6504554 | DT15: 46909 | DU15: 1.7401172 | DV15: 14363 | DW15: 1.4127189 | DX15: 7805 | DY15: 1.6410228 | DZ15: 5809 | EA15: 1.7129377 | EB15: 1996 | EC15: 1.4623461 | ED15: 53467 | EE15: 1.6518414 | EF15: 41100 | EG15: 1.7440284 | EH15: 12367 | EI15: 1.4050232 | EJ15: Keelung City
A16: 宜蘭縣 | B16: 388810 | C16: 1.6186639 | D16: 258116 | E16: 1.6059678 | F16: 130694 | G16: 1.6443373 | H16: 145785 | I16: 1.0261674 | J16: 94690 | K16: 1.0293245 | L16: 51095 | M16: 1.0203674 | N16: 19692 | O16: 1.6045264 | P16: 11451 | Q16: 1.5211919 | R16: 8241 | S16: 1.736728 | T16: Yilan County | U16: 宜蘭縣 | V16: 99538 | W16: 0.8635217 | X16: 63685 | Y16: 0.87049707 | Z16: 35853 | AA16: 0.85140326 | AB16: 19807 | AC16: 2.4154171 | AD16: 13649 | AE16: 2.326394 | AF16: 6158 | AG16: 2.6392711 | AH16: 5888 | AI16: 1.0282848 | AJ16: 5154 | AK16: 1.0473779 | AL16: 734 | AM16: 0.91159741 | AN16: Yilan County | AO16: 宜蘭縣 | AP16: 860 | AQ16: 1.4367336 | AR16: 751 | AS16: 1.4512358 | AT16: 109 | AU16: 1.3441855 | AV16: 104474 | AW16: 2.9275185 | AX16: 67627 | AY16: 2.9060908 | AZ16: 36847 | BA16: 2.9676791 | BB16: 104474 | BC16: 2.9280526 | BD16: 67627 | BE16: 2.906849 | BF16: 36847 | BG16: 2.9677842 | BH16: Yilan County | BI16: 宜蘭縣 | BJ16: 0 | BK16: 0 | BL16: 0 | BM16: 0 | BN16: 0 | BO16: 0 | BP16: 80349 | BQ16: 3.7651404 | BR16: 51184 | BS16: 3.5257731 | BT16: 29165 | BU16: 4.274425 | BV16: 44511 | BW16: 2.7708593 | BX16: 30638 | BY16: 2.6762613 | BZ16: 13873 | CA16: 3.0054745 | CB16: Yilan County | CC16: 宜蘭縣 | CD16: 35838 | CE16: 6.7922983 | CF16: 20546 | CG16: 6.6946016 | CH16: 15292 | CI16: 6.9281407 | CJ16: 0 | CK16: 0 | CL16: 0 | CM16: 0 | CN16: 0 | CO16: 0 | CP16: 0 | CQ16: 0 | CR16: 0 | CS16: 0 | CT16: 0 | CU16: 0 | CV16: Yilan County | CW16: 宜蘭縣 | CX16: 0 | CY16: 0 | CZ16: 0 | DA16: 0 | DB16: 0 | DC16: 0 | DD16: 0 | DE16: 0 | DF16: 0 | DG16: 0 | DH16: 0 | DI16: 0 | DJ16: 4330 | DK16: 1.4603562 | DL16: 4330 | DM16: 1.4603562 | DN16: 0 | DO16: 0 | DP16: Yilan County | DQ16: 宜蘭縣 | DR16: 53872 | DS16: 1.451125 | DT16: 40285 | DU16: 1.494396 | DV16: 13587 | DW16: 1.3363929 | DX16: 6857 | DY16: 1.4417032 | DZ16: 4961 | EA16: 1.4628824 | EB16: 1896 | EC16: 1.3890822 | ED16: 47015 | EE16: 1.4525094 | EF16: 35324 | EG16: 1.4989309 | EH16: 11691 | EI16: 1.3282224 | EJ16: Yilan County
A17: 金門縣 | B17: 64940 | C17: 0.27035322 | D17: 43754 | E17: 0.27223232 | F17: 21186 | G17: 0.2665534 | H17: 22811 | I17: 0.16056455 | J17: 14905 | K17: 0.16202431 | L17: 7906 | M17: 0.15788286 | N17: 3866 | O17: 0.31500605 | P17: 2569 | Q17: 0.34127517 | R17: 1297 | S17: 0.27333287 | T17: Kinmen County | U17: 金門縣 | V17: 10801 | W17: 0.093701882 | X17: 6697 | Y17: 0.091539906 | Z17: 4104 | AA17: 0.097457925 | AB17: 7155 | AC17: 0.87253544 | AD17: 4756 | AE17: 0.810633 | AF17: 2399 | AG17: 1.0281928 | AH17: 900 | AI17: 0.15717669 | AJ17: 806 | AK17: 0.16379251 | AL17: 94 | AM17: 0.11674408 | AN17: Kinmen County | AO17: 金門縣 | AP17: 89 | AQ17: 0.14868522 | AR17: 77 | AS17: 0.14879515 | AT17: 12 | AU17: 0.14798372 | AV17: 5440 | AW17: 0.15243697 | AX17: 3508 | AY17: 0.15074699 | AZ17: 1932 | BA17: 0.15560442 | BB17: 5440 | BC17: 0.15246479 | BD17: 3508 | BE17: 0.15078632 | BF17: 1932 | BG17: 0.15560993 | BH17: Kinmen County | BI17: 金門縣 | BJ17: 0 | BK17: 0 | BL17: 0 | BM17: 0 | BN17: 0 | BO17: 0 | BP17: 16409 | BQ17: 0.76892294 | BR17: 10047 | BS17: 0.69208037 | BT17: 6362 | BU17: 0.93241528 | BV17: 5197 | BW17: 0.32351903 | BX17: 4472 | BY17: 0.39063387 | BZ17: 725 | CA17: 0.15706545 | CB17: Kinmen County | CC17: 金門縣 | CD17: 11212 | CE17: 2.124986 | CF17: 5575 | CG17: 1.8165289 | CH17: 5637 | CI17: 2.5538797 | CJ17: 0 | CK17: 0 | CL17: 0 | CM17: 0 | CN17: 0 | CO17: 0 | CP17: 0 | CQ17: 0 | CR17: 0 | CS17: 0 | CT17: 0 | CU17: 0 | CV17: Kinmen County | CW17: 金門縣 | CX17: 0 | CY17: 0 | CZ17: 0 | DA17: 0 | DB17: 0 | DC17: 0 | DD17: 0 | DE17: 0 | DF17: 0 | DG17: 0 | DH17: 0 | DI17: 0 | DJ17: 457 | DK17: 0.15412998 | DL17: 457 | DM17: 0.15412998 | DN17: 0 | DO17: 0 | DP17: Kinmen County | DQ17: 金門縣 | DR17: 19823 | DS17: 0.53396293 | DT17: 14837 | DU17: 0.55038732 | DV17: 4986 | DW17: 0.49041401 | DX17: 8238 | DY17: 1.7320623 | DZ17: 5903 | EA17: 1.7406561 | EB17: 2335 | EC17: 1.7107104 | ED17: 11585 | EE17: 0.3579139 | EF17: 8934 | EG17: 0.3791034 | EH17: 2651 | EI17: 0.30118189 | EJ17: Kinmen County
A18: 連江縣 | B18: 7612 | C18: 0.031689693 | D18: 4929 | E18: 0.030667667 | F18: 2683 | G18: 0.033756385 | H18: 4260 | I18: 0.029985753 | J18: 2706 | K18: 0.029415483 | L18: 1554 | M18: 0.031033388 | N18: 1146 | O18: 0.093377377 | P18: 733 | Q18: 0.097374347 | R18: 413 | S18: 0.087036604 | T18: Lienchiang County | U18: 連江縣 | V18: 1477 | W18: 0.012813414 | X18: 915 | Y18: 0.012506945 | Z18: 562 | AA18: 0.013345846 | AB18: 1480 | AC18: 0.18048252 | AD18: 911 | AE18: 0.15527474 | AF18: 569 | AG18: 0.24386899 | AH18: 155 | AI18: 0.027069318 | AJ18: 146 | AK18: 0.029669611 | AL18: 9 | AM18: 0.011177625 | AN18: Lienchiang County | AO18: 連江縣 | AP18: 2 | AQ18: 0.0033412409 | AR18: 1 | AS18: 0.0019324045 | AT18: 1 | AU18: 0.012331977 | AV18: 815 | AW18: 0.022837525 | AX18: 478 | AY18: 0.020540781 | AZ18: 337 | BA18: 0.027142178 | BB18: 815 | BC18: 0.022841691 | BD18: 478 | BE18: 0.02054614 | BF18: 337 | BG18: 0.02714314 | BH18: Lienchiang County | BI18: 連江縣 | BJ18: 0 | BK18: 0 | BL18: 0 | BM18: 0 | BN18: 0 | BO18: 0 | BP18: 938 | BQ18: 0.04395452 | BR18: 484 | BS18: 0.033339992 | BT18: 454 | BU18: 0.06653828 | BV18: 91 | BW18: 0.0056648512 | BX18: 81 | BY18: 0.0070754346 | BZ18: 10 | CA18: 0.0021664201 | CB18: Lienchiang County | CC18: 連江縣 | CD18: 847 | CE18: 0.16053007 | CF18: 403 | CG18: 0.13131142 | CH18: 444 | CI18: 0.20115711 | CJ18: 0 | CK18: 0 | CL18: 0 | CM18: 0 | CN18: 0 | CO18: 0 | CP18: 0 | CQ18: 0 | CR18: 0 | CS18: 0 | CT18: 0 | CU18: 0 | CV18: Lienchiang County | CW18: 連江縣 | CX18: 0 | CY18: 0 | CZ18: 0 | DA18: 0 | DB18: 0 | DC18: 0 | DD18: 0 | DE18: 0 | DF18: 0 | DG18: 0 | DH18: 0 | DI18: 0 | DJ18: 106 | DK18: 0.03575006 | DL18: 106 | DM18: 0.03575006 | DN18: 0 | DO18: 0 | DP18: Lienchiang County | DQ18: 連江縣 | DR18: 1493 | DS18: 0.040216247 | DT18: 1155 | DU18: 0.04284541 | DV18: 338 | DW18: 0.033245073 | DX18: 261 | DY18: 0.054875972 | DZ18: 175 | EA18: 0.051603391 | EB18: 86 | EC18: 0.063006894 | ED18: 1232 | EE18: 0.038062143 | EF18: 980 | EG18: 0.041585105 | EH18: 252 | EI18: 0.028629889 | EJ18: Lienchiang County
A19: 北區業務組 | B19: 3876554 | C19: 16.138572 | D19: 2545315 | E19: 15.836655 | F19: 1331239 | G19: 16.749093 | H19: 2540828 | I19: 17.884657 | J19: 1616836 | K19: 17.575762 | L19: 923992 | M19: 18.452125 | N19: 150974 | O19: 12.301532 | P19: 83140 | Q19: 11.044616 | R19: 67834 | S19: 14.295499 | T19: Northern Division | U19: 北區業務組 | V19: 2168022 | W19: 18.808235 | X19: 1364972 | Y19: 18.65752 | Z19: 803050 | AA19: 19.070075 | AB19: 133754 | AC19: 16.310986 | AD19: 94476 | AE19: 16.102894 | AF19: 39278 | AG19: 16.834246 | AH19: 80191 | AI19: 14.004618 | AJ19: 67573 | AK19: 13.731949 | AL19: 12618 | AM19: 15.67103 | AN19: Northern Division | AO19: 北區業務組 | AP19: 7887 | AQ19: 13.176184 | AR19: 6675 | AS19: 12.8988 | AT19: 1212 | AU19: 14.946356 | AV19: 456719 | AW19: 12.797953 | AX19: 285204 | AY19: 12.255885 | AZ19: 171515 | BA19: 13.813919 | BB19: 456719 | BC19: 12.800288 | BD19: 285204 | BE19: 12.259083 | BF19: 171515 | BG19: 13.814409 | BH19: Northern Division | BI19: 北區業務組 | BJ19: 0 | BK19: 0 | BL19: 0 | BM19: 0 | BN19: 0 | BO19: 0 | BP19: 238331 | BQ19: 11.16815 | BR19: 161134 | BS19: 11.0996 | BT19: 77197 | BU19: 11.313999 | BV19: 207685 | BW19: 12.928622 | BX19: 145914 | BY19: 12.74574 | BZ19: 61771 | CA19: 13.382193 | CB19: Northern Division | CC19: 北區業務組 | CD19: 30646 | CE19: 5.8082699 | CF19: 15220 | CG19: 4.9592055 | CH19: 15426 | CI19: 6.9888503 | CJ19: 56912 | CK19: 55.776393 | CL19: 56912 | CM19: 55.776393 | CN19: 0 | CO19: 0 | CP19: 0 | CQ19: 0 | CR19: 0 | CS19: 0 | CT19: 0 | CU19: 0 | CV19: Northern Division | CW19: 北區業務組 | CX19: 0 | CY19: 0 | CZ19: 0 | DA19: 0 | DB19: 0 | DC19: 0 | DD19: 56912 | DE19: 99.648066 | DF19: 56912 | DG19: 99.648066 | DH19: 0 | DI19: 0 | DJ19: 37974 | DK19: 12.80729 | DL19: 37974 | DM19: 12.80729 | DN19: 0 | DO19: 0 | DP19: Northern Division | DQ19: 北區業務組 | DR19: 545790 | DS19: 14.701691 | DT19: 387255 | DU19: 14.365454 | DV19: 158535 | DW19: 15.593218 | DX19: 81232 | DY19: 17.079253 | DZ19: 58248 | EA19: 17.175968 | EB19: 22984 | EC19: 16.838959 | ED19: 464558 | EE19: 14.352332 | EF19: 329007 | EG19: 13.961011 | EH19: 135551 | EI19: 15.40004 | EJ19: Northern Division
A20: 桃園市 | B20: 2190791 | C20: 9.1205327 | D20: 1446580 | E20: 9.0004531 | F20: 744211 | G20: 9.3633518 | H20: 1435405 | I20: 10.103685 | J20: 912722 | K20: 9.9217142 | L20: 522683 | M20: 10.437982 | N20: 86237 | O20: 7.0266883 | P20: 48847 | Q20: 6.4890105 | R20: 37390 | S20: 7.8796577 | T20: Taoyuan City | U20: 桃園市 | V20: 1215094 | W20: 10.541301 | X20: 760968 | Y20: 10.401514 | Z20: 454126 | AA20: 10.784156 | AB20: 77013 | AC20: 9.3915544 | AD20: 54841 | AE20: 9.3473348 | AF20: 22172 | AG20: 9.5027473 | AH20: 52234 | AI20: 9.1221857 | AJ20: 44060 | AK20: 8.9537195 | AL20: 8174 | AM20: 10.151767 | AN20: Taoyuan City | AO20: 桃園市 | AP20: 4827 | AQ20: 8.064085 | AR20: 4006 | AS20: 7.7412124 | AT20: 821 | AU20: 10.124553 | AV20: 238609 | AW20: 6.6861827 | AX20: 149075 | AY20: 6.4061024 | AZ20: 89534 | BA20: 7.211121 | BB20: 238609 | BC20: 6.6874026 | BD20: 149075 | BE20: 6.4077738 | BF20: 89534 | BG20: 7.2113766 | BH20: Taoyuan City | BI20: 桃園市 | BJ20: 0 | BK20: 0 | BL20: 0 | BM20: 0 | BN20: 0 | BO20: 0 | BP20: 82835 | BQ20: 3.8816339 | BR20: 55857 | BS20: 3.8476693 | BT20: 26978 | BU20: 3.9538981 | BV20: 79343 | BW20: 4.93919 | BX20: 54097 | BY20: 4.7254295 | BZ20: 25246 | CA20: 5.4693441 | CB20: Taoyuan City | CC20: 桃園市 | CD20: 3492 | CE20: 0.66183118 | CF20: 1760 | CG20: 0.57346923 | CH20: 1732 | CI20: 0.78469394 | CJ20: 56912 | CK20: 55.776393 | CL20: 56912 | CM20: 55.776393 | CN20: 0 | CO20: 0 | CP20: 0 | CQ20: 0 | CR20: 0 | CS20: 0 | CT20: 0 | CU20: 0 | CV20: Taoyuan City | CW20: 桃園市 | CX20: 0 | CY20: 0 | CZ20: 0 | DA20: 0 | DB20: 0 | DC20: 0 | DD20: 56912 | DE20: 99.648066 | DF20: 56912 | DG20: 99.648066 | DH20: 0 | DI20: 0 | DJ20: 23885 | DK20: 8.0555677 | DL20: 23885 | DM20: 8.0555677 | DN20: 0 | DO20: 0 | DP20: Taoyuan City | DQ20: 桃園市 | DR20: 353145 | DS20: 9.5125026 | DT20: 248129 | DU20: 9.2044924 | DV20: 105016 | DW20: 10.329185 | DX20: 58029 | DY20: 12.200758 | DZ20: 41686 | EA20: 12.292223 | EB20: 16343 | EC20: 11.973508 | ED20: 295116 | EE20: 9.1174897 | EF20: 206443 | EG20: 8.7601571 | EH20: 88673 | EI20: 10.074199 | EJ20: Taoyuan City
A21: 新竹市 | B21: 710053 | C21: 2.9560381 | D21: 454520 | E21: 2.8279708 | F21: 255533 | G21: 3.2150094 | H21: 540657 | I21: 3.8056354 | J21: 343904 | K21: 3.738397 | L21: 196753 | M21: 3.9291584 | N21: 23549 | O21: 1.9187992 | P21: 11873 | Q21: 1.5772519 | R21: 11676 | S21: 2.4606281 | T21: Hsinchu City | U21: 新竹市 | V21: 484189 | W21: 4.2004833 | X21: 307976 | Y21: 4.2096601 | Z21: 176213 | AA21: 4.1845403 | AB21: 21887 | AC21: 2.6690682 | AD21: 14859 | AE21: 2.5326316 | AF21: 7028 | AG21: 3.0121463 | AH21: 9884 | AI21: 1.7261493 | AJ21: 8196 | AK21: 1.6655625 | AL21: 1688 | AM21: 2.0964256 | AN21: Hsinchu City | AO21: 新竹市 | AP21: 1148 | AQ21: 1.9178723 | AR21: 1000 | AS21: 1.9324045 | AT21: 148 | AU21: 1.8251326 | AV21: 88067 | AW21: 2.4677697 | AX21: 53833 | AY21: 2.3133303 | AZ21: 34234 | BA21: 2.7572265 | BB21: 88067 | BC21: 2.4682199 | BD21: 53833 | BE21: 2.3139339 | BF21: 34234 | BG21: 2.7573242 | BH21: Hsinchu City | BI21: 新竹市 | BJ21: 0 | BK21: 0 | BL21: 0 | BM21: 0 | BN21: 0 | BO21: 0 | BP21: 17580 | BQ21: 0.8237958 | BR21: 9518 | BS21: 0.65564059 | BT21: 8062 | BU21: 1.1815674 | BV21: 5082 | BW21: 0.31636015 | BX21: 3505 | BY21: 0.30616541 | BZ21: 1577 | CA21: 0.34164444 | CB21: Hsinchu City | CC21: 新竹市 | CD21: 12498 | CE21: 2.3687188 | CF21: 6013 | CG21: 1.9592446 | CH21: 6485 | CI21: 2.9380717 | CJ21: 0 | CK21: 0 | CL21: 0 | CM21: 0 | CN21: 0 | CO21: 0 | CP21: 0 | CQ21: 0 | CR21: 0 | CS21: 0 | CT21: 0 | CU21: 0 | CV21: Hsinchu City | CW21: 新竹市 | CX21: 0 | CY21: 0 | CZ21: 0 | DA21: 0 | DB21: 0 | DC21: 0 | DD21: 0 | DE21: 0 | DF21: 0 | DG21: 0 | DH21: 0 | DI21: 0 | DJ21: 4002 | DK21: 1.3497334 | DL21: 4002 | DM21: 1.3497334 | DN21: 0 | DO21: 0 | DP21: Hsinchu City | DQ21: 新竹市 | DR21: 59747 | DS21: 1.6093771 | DT21: 43263 | DU21: 1.6048666 | DV21: 16484 | DW21: 1.6213366 | DX21: 9528 | DY21: 2.0032884 | DZ21: 6925 | EA21: 2.0420199 | EB21: 2603 | EC21: 1.9070575 | ED21: 50219 | EE21: 1.5514957 | EF21: 36338 | EG21: 1.5419587 | EH21: 13881 | EI21: 1.5770297 | EJ21: Hsinchu City
A22: 新竹縣 | B22: 527555 | C22: 2.1962764 | D22: 343975 | E22: 2.1401726 | F22: 183580 | G22: 2.3097268 | H22: 350544 | I22: 2.4674473 | J22: 223333 | K22: 2.427734 | L22: 127211 | M22: 2.5404043 | N22: 20994 | O22: 1.7106149 | P22: 10797 | Q22: 1.4343122 | R22: 10197 | S22: 2.1489401 | T22: Hsinchu County | U22: 新竹縣 | V22: 301083 | W22: 2.6119844 | X22: 190922 | Y22: 2.6096733 | Z22: 110161 | AA22: 2.6159996 | AB22: 16762 | AC22: 2.0440865 | AD22: 11819 | AE22: 2.0144809 | AF22: 4943 | AG22: 2.1185315 | AH22: 10666 | AI22: 1.8627184 | AJ22: 8922 | AK22: 1.8130977 | AL22: 1744 | AM22: 2.1659753 | AN22: Hsinchu County | AO22: 新竹縣 | AP22: 1039 | AQ22: 1.7357747 | AR22: 873 | AS22: 1.6869891 | AT22: 166 | AU22: 2.0471082 | AV22: 63770 | AW22: 1.7869312 | AX22: 38851 | AY22: 1.6695186 | AZ22: 24919 | BA22: 2.0069909 | BB22: 63770 | BC22: 1.7872573 | BD22: 38851 | BE22: 1.6699542 | BF22: 24919 | BG22: 2.007062 | BH22: Hsinchu County | BI22: 新竹縣 | BJ22: 0 | BK22: 0 | BL22: 0 | BM22: 0 | BN22: 0 | BO22: 0 | BP22: 41623 | BQ22: 1.9504467 | BR22: 29741 | BS22: 2.0486874 | BT22: 11882 | BU22: 1.741427 | BV22: 41623 | BW22: 2.591078 | BX22: 29741 | BY22: 2.5979074 | BZ22: 11882 | CA22: 2.5741403 | CB22: Hsinchu County | CC22: 新竹縣 | CD22: 0 | CE22: 0 | CF22: 0 | CG22: 0 | CH22: 0 | CI22: 0 | CJ22: 0 | CK22: 0 | CL22: 0 | CM22: 0 | CN22: 0 | CO22: 0 | CP22: 0 | CQ22: 0 | CR22: 0 | CS22: 0 | CT22: 0 | CU22: 0 | CV22: Hsinchu County | CW22: 新竹縣 | CX22: 0 | CY22: 0 | CZ22: 0 | DA22: 0 | DB22: 0 | DC22: 0 | DD22: 0 | DE22: 0 | DF22: 0 | DG22: 0 | DH22: 0 | DI22: 0 | DJ22: 4254 | DK22: 1.4347241 | DL22: 4254 | DM22: 1.4347241 | DN22: 0 | DO22: 0 | DP22: Hsinchu County | DQ22: 新竹縣 | DR22: 67364 | DS22: 1.8145527 | DT22: 47796 | DU22: 1.773021 | DV22: 19568 | DW22: 1.9246734 | DX22: 6809 | DY22: 1.4316111 | DZ22: 4768 | EA22: 1.4059712 | EB22: 2041 | EC22: 1.4953148 | ED22: 60555 | EE22: 1.8708223 | EF22: 43028 | EG22: 1.8258407 | EH22: 17527 | EI22: 1.9912543 | EJ22: Hsinchu County
... A39: 臺東縣 | B39: 180999 | C39: 0.75352113 | D39: 127731 | E39: 0.79472748 | F39: 53268 | G39: 0.67019572 | H39: 58365 | I39: 0.41082593 | J39: 38374 | K39: 0.41714329 | L39: 19991 | M39: 0.39922037 | N39: 14437 | O39: 1.1763431 | P39: 9151 | Q39: 1.2156516 | R39: 5286 | S39: 1.1139842 | T39: Taitung County | U39: 臺東縣 | V39: 30554 | W39: 0.26506502 | X39: 19533 | Y39: 0.26699253 | Z39: 11021 | AA39: 0.26171632 | AB39: 10454 | AC39: 1.2748407 | AD39: 7068 | AE39: 1.2047002 | AF39: 3386 | AG39: 1.4512133 | AH39: 2574 | AI39: 0.44952533 | AJ39: 2314 | AK39: 0.47024301 | AL39: 260 | AM39: 0.32290916 | AN39: Taitung County | AO39: 臺東縣 | AP39: 346 | AQ39: 0.57803468 | AR39: 308 | AS39: 0.59518058 | AT39: 38 | AU39: 0.46861512 | AV39: 23017 | AW39: 0.64497092 | AX39: 15031 | AY39: 0.64591733 | AZ39: 7986 | BA39: 0.64319714 | BB39: 23017 | BC39: 0.6450886 | BD39: 15031 | BE39: 0.64608585 | BF39: 7986 | BG39: 0.64321993 | BH39: Taitung County | BI39: 臺東縣 | BJ39: 0 | BK39: 0 | BL39: 0 | BM39: 0 | BN39: 0 | BO39: 0 | BP39: 42624 | BQ39: 1.9973534 | BR39: 30446 | BS39: 2.0972508 | BT39: 12178 | BU39: 1.7848088 | BV39: 35441 | BW39: 2.2062417 | BX39: 25927 | BY39: 2.2647505 | BZ39: 9514 | CA39: 2.061132 | CB39: Taitung County | CC39: 臺東縣 | CD39: 7183 | CE39: 1.3613784 | CF39: 4519 | CG39: 1.4724474 | CH39: 2664 | CI39: 1.2069426 | CJ39: 0 | CK39: 0 | CL39: 0 | CM39: 0 | CN39: 0 | CO39: 0 | CP39: 0 | CQ39: 0 | CR39: 0 | CS39: 0 | CT39: 0 | CU39: 0 | CV39: Taitung County | CW39: 臺東縣 | CX39: 0 | CY39: 0 | CZ39: 0 | DA39: 0 | DB39: 0 | DC39: 0 | DD39: 0 | DE39: 0 | DF39: 0 | DG39: 0 | DH39: 0 | DI39: 0 | DJ39: 7909 | DK39: 2.6674266 | DL39: 7909 | DM39: 2.6674266 | DN39: 0 | DO39: 0 | DP39: Taitung County | DQ39: 臺東縣 | DR39: 49084 | DS39: 1.3221529 | DT39: 35971 | DU39: 1.3343656 | DV39: 13113 | DW39: 1.2897711 | DX39: 5856 | DY39: 1.2312402 | DZ39: 4180 | EA39: 1.2325839 | EB39: 1676 | EC39: 1.2279018 | ED39: 43228 | EE39: 1.3355116 | EF39: 31791 | EG39: 1.3490123 | EH39: 11437 | EI39: 1.2993653 | EJ39: Taitung County
A40: 備註：本表縣市別係按保險對象所屬投保單位的通訊地址統計。 | K40: Note：The locales were determined by the mailing addresses of the group insurance applicants to which the
K41: beneficiaries belong.

Sheet 107
A1: 保險對象人數－按保險對象類目及縣市別分 | K1: Beneficiaries by Beneficiary Category, | U1: 保險對象人數－按保險對象類目及縣市別分（續一） | AE1: Beneficiaries by Beneficiary Category, | AO1: 保險對象人數－按保險對象類目及縣市別分（續二） | AY1: Beneficiaries by Beneficiary Category, | BI1: 保險對象人數－按保險對象類目及縣市別分（續三） | BS1: Beneficiaries by Beneficiary Category, | CC1: 保險對象人數－按保險對象類目及縣市別分（續四） | CM1: Beneficiaries by Beneficiary Category, | CW1: 保險對象人數－按保險對象類目及縣市別分（續五） | DG1: Beneficiaries by Beneficiary Category, | DQ1: 保險對象人數－按保險對象類目及縣市別分（續完） | EA1: Beneficiaries by Beneficiary Category,
K2: NHI Regional Division and Locale | AE2: NHI Regional Division and Locale（Cont'd 1） | AY2: NHI Regional Division and Locale（Cont'd 2） | BS2: NHI Regional Division and Locale（Cont'd 3） | CM2: NHI Regional Division and Locale（Cont'd 4） | DG2: NHI Regional Division and Locale（Cont'd 5） | EA2: NHI Regional Division and Locale（Cont'd）
A3: 中華民國107年底 | K3: End of 2018 | U3: 中華民國107年底 | AE3: End of 2018 | AO3: 中華民國107年底 | AY3: End of 2018 | BI3: 中華民國107年底 | BS3: End of 2018 | CC3: 中華民國107年底 | CM3: End of 2018 | CW3: 中華民國107年底 | DG3: End of 2018 | DQ3: 中華民國107年底 | EA3: End of 2018
A4: 單位：人 | T4: Unit：Persons | U4: 單位：人 | AN4: Unit：Persons | AO4: 單位：人 | BH4: Unit：Persons | BI4: 單位：人 | CB4: Unit：Persons | CC4: 單位：人 | CV4: Unit：Persons | CW4: 單位：人 | DP4: Unit：Persons | DQ4: 單位：人 | EJ4: Unit：Persons
A5: 業務組 縣市別 | B5: 總計 Grand Total | H5: 第一類 | K5: Category 1 | T5: Division & Locale | U5: 業務組 縣市別 | V5: 第一類 | AE5: Category 1 | AN5: Division & Locale | AO5: 業務組 縣市別 | AP5: 第一類 Category 1 | AV5: 第二類 | AY5: Category 2 | BH5: Division & Locale | BI5: 業務組 縣市別 | BJ5: 第二類 Category 2 | BP5: 第三類 | BS5: Category 3 | CB5: Division & Locale | CC5: 業務組 縣市別 | CD5: 第三類 Category 3 | CJ5: 第四類 | CM5: Category 4 | CV5: Division & Locale | CW5: 業務組 縣市別 | CX5: 第四類 | DG5: Category 4 | DJ5: 第五類 Category 5 | DP5: Division & Locale | DQ5: 業務組 縣市別 | DR5: 第六類 | EA5: Category 6 | EJ5: Division & Locale
B7: 保險對象Beneficiaries | D7: 被保險人Insureds | F7: 眷屬Dependents | H7: 合計 | K7: Total | N7: 第一目 Item 1 | V7: 第二目 Item 2 | AB7: 第三目 | AE7: Item 3 | AH7: 第四目 Item 4 | AP7: 第五目 Item 5 | AV7: 合計 | AY7: Total | BB7: 第一目 Item 1 | BJ7: 第二目 Item 2 | BP7: 合計 | BS7: Total | BV7: 第一目 Item 1 | CD7: 第二目 Item 2 | CJ7: 合計 | CM7: Total | CP7: 第一目 Item 1 | CX7: 第二目 Item 2 | DD7: 第三目 | DG7: Item 3 | DR7: 合計 Total | DX7: 第一目 | EA7: Item 1 | ED7: 第二目 Item 2
H8: 保險對象Beneficiaries | J8: 被保險人Insureds | L8: 眷屬Dependents | N8: 保險對象Beneficiaries | P8: 被保險人Insureds | R8: 眷屬Dependents | V8: 保險對象Beneficiaries | X8: 被保險人Insureds | Z8: 眷屬Dependents | AB8: 保險對象Beneficiaries | AD8: 被保險人Insureds | AF8: 眷屬Dependents | AH8: 保險對象Beneficiaries | AJ8: 被保險人Insureds | AL8: 眷屬Dependents | AP8: 保險對象Beneficiaries | AR8: 被保險人Insureds | AT8: 眷屬Dependents | AV8: 保險對象Beneficiaries | AX8: 被保險人Insureds | AZ8: 眷屬Dependents | BB8: 保險對象Beneficiaries | BD8: 被保險人Insureds | BF8: 眷屬Dependents | BJ8: 保險對象Beneficiaries | BL8: 被保險人Insureds | BN8: 眷屬Dependents | BP8: 保險對象Beneficiaries | BR8: 被保險人Insureds | BT8: 眷屬Dependents | BV8: 保險對象Beneficiaries | BX8: 被保險人Insureds | BZ8: 眷屬Dependents | CD8: 保險對象Beneficiaries | CF8: 被保險人Insureds | CH8: 眷屬Dependents | CJ8: 保險對象Beneficiaries | CL8: 被保險人Insureds | CN8: 眷屬Dependents | CP8: 保險對象Beneficiaries | CR8: 被保險人Insureds | CT8: 眷屬Dependents | CX8: 保險對象Beneficiaries | CZ8: 被保險人Insureds | DB8: 眷屬Dependents | DD8: 保險對象Beneficiaries | DF8: 被保險人Insureds | DH8: 眷屬Dependents | DJ8: 保險對象Beneficiaries | DL8: 被保險人Insureds | DN8: 眷屬Dependents | DR8: 保險對象Beneficiaries | DT8: 被保險人Insureds | DV8: 眷屬Dependents | DX8: 保險對象Beneficiaries | DZ8: 被保險人Insureds | EB8: 眷屬Dependents | ED8: 保險對象Beneficiaries | EF8: 被保險人Insureds | EH8: 眷屬Dependents
C9: 百分比 | E9: 百分比 | G9: 百分比 | I9: 百分比 | K9: 百分比 | M9: 百分比 | O9: 百分比 | Q9: 百分比 | S9: 百分比 | W9: 百分比 | Y9: 百分比 | AA9: 百分比 | AC9: 百分比 | AE9: 百分比 | AG9: 百分比 | AI9: 百分比 | AK9: 百分比 | AM9: 百分比 | AQ9: 百分比 | AS9: 百分比 | AU9: 百分比 | AW9: 百分比 | AY9: 百分比 | BA9: 百分比 | BC9: 百分比 | BE9: 百分比 | BG9: 百分比 | BK9: 百分比 | BM9: 百分比 | BO9: 百分比 | BQ9: 百分比 | BS9: 百分比 | BU9: 百分比 | BW9: 百分比 | BY9: 百分比 | CA9: 百分比 | CE9: 百分比 | CG9: 百分比 | CI9: 百分比 | CK9: 百分比 | CM9: 百分比 | CO9: 百分比 | CQ9: 百分比 | CS9: 百分比 | CU9: 百分比 | CY9: 百分比 | DA9: 百分比 | DC9: 百分比 | DE9: 百分比 | DG9: 百分比 | DI9: 百分比 | DK9: 百分比 | DM9: 百分比 | DO9: 百分比 | DS9: 百分比 | DU9: 百分比 | DW9: 百分比 | DY9: 百分比 | EA9: 百分比 | EC9: 百分比 | EE9: 百分比 | EG9: 百分比 | EI9: 百分比
C10: % | E10: % | G10: % | I10: % | K10: % | M10: % | O10: % | Q10: % | S10: % | W10: % | Y10: % | AA10: % | AC10: % | AE10: % | AG10: % | AI10: % | AK10: % | AM10: % | AQ10: % | AS10: % | AU10: % | AW10: % | AY10: % | BA10: % | BC10: % | BE10: % | BG10: % | BK10: % | BM10: % | BO10: % | BQ10: % | BS10: % | BU10: % | BW10: % | BY10: % | CA10: % | CE10: % | CG10: % | CI10: % | CK10: % | CM10: % | CO10: % | CQ10: % | CS10: % | CU10: % | CY10: % | DA10: % | DC10: % | DE10: % | DG10: % | DI10: % | DK10: % | DM10: % | DO10: % | DS10: % | DU10: % | DW10: % | DY10: % | EA10: % | EC10: % | EE10: % | EG10: % | EI10: %
A11: 總 計 | B11: 23948108 | C11: 100 | D11: 15964302 | E11: 100 | F11: 7983806 | G11: 100 | H11: 14026878 | I11: 100 | J11: 9050036 | K11: 100 | L11: 4976842 | M11: 100 | N11: 1220759 | O11: 100 | P11: 742678 | Q11: 100 | R11: 478081 | S11: 100 | T11: Grand Total | U11: 總 計 | V11: 11387792 | W11: 100 | X11: 7202310 | Y11: 100 | Z11: 4185482 | AA11: 100 | AB11: 795718 | AC11: 100 | AD11: 568787 | AE11: 100 | AF11: 226931 | AG11: 100 | AH11: 563480 | AI11: 100 | AJ11: 485290 | AK11: 100 | AL11: 78190 | AM11: 100 | AN11: Grand Total | AO11: 總 計 | AP11: 59129 | AQ11: 100 | AR11: 50971 | AS11: 100 | AT11: 8158 | AU11: 100 | AV11: 3621883 | AW11: 100 | AX11: 2354769 | AY11: 100 | AZ11: 1267114 | BA11: 100 | BB11: 3621211 | BC11: 100 | BD11: 2354131 | BE11: 100 | BF11: 1267080 | BG11: 100 | BH11: Grand Total | BI11: 總 計 | BJ11: 672 | BK11: 100 | BL11: 638 | BM11: 100 | BN11: 34 | BO11: 100 | BP11: 2208084 | BQ11: 100 | BR11: 1492177 | BS11: 100 | BT11: 715907 | BU11: 100 | BV11: 1669997 | BW11: 100 | BX11: 1182444 | BY11: 100 | BZ11: 487553 | CA11: 100 | CB11: Grand Total | CC11: 總 計 | CD11: 538087 | CE11: 100 | CF11: 309733 | CG11: 100 | CH11: 228354 | CI11: 100 | CJ11: 118431 | CK11: 100 | CL11: 118431 | CM11: 100 | CN11: 0 | CO11: 0 | CP11: 45455 | CQ11: 100 | CR11: 45455 | CS11: 100 | CT11: 0 | CU11: 0 | CV11: Grand Total | CW11: 總 計 | CX11: 13809 | CY11: 100 | CZ11: 13809 | DA11: 100 | DB11: 0 | DC11: 0 | DD11: 59167 | DE11: 100 | DF11: 59167 | DG11: 100 | DH11: 0 | DI11: 0 | DJ11: 302932 | DK11: 100 | DL11: 302932 | DM11: 100 | DN11: 0 | DO11: 0 | DP11: Grand Total | DQ11: 總 計 | DR11: 3669900 | DS11: 100 | DT11: 2645957 | DU11: 100 | DV11: 1023943 | DW11: 100 | DX11: 487516 | DY11: 100 | DZ11: 344535 | EA11: 100 | EB11: 142981 | EC11: 100 | ED11: 3182384 | EE11: 100 | EF11: 2301422 | EG11: 100 | EH11: 880962 | EI11: 100 | EJ11: Grand Total
