Workbook

Sheet 000000

Sheet 113
A1: 保險對象人數－按保險對象類目及縣市別分 | K1: Beneficiaries by Beneficiary Category, | U1: 保險對象人數－按保險對象類目及縣市別分（續一） | AE1: Beneficiaries by Beneficiary Category, | AO1: 保險對象人數－按保險對象類目及縣市別分（續二） | AY1: Beneficiaries by Beneficiary Category, | BI1: 保險對象人數－按保險對象類目及縣市別分（續三） | BS1: Beneficiaries by Beneficiary Category, | CC1: 保險對象人數－按保險對象類目及縣市別分（續四） | CM1: Beneficiaries by Beneficiary Category, | CW1: 保險對象人數－按保險對象類目及縣市別分（續五） | DG1: Beneficiaries by Beneficiary Category, | DQ1: 保險對象人數－按保險對象類目及縣市別分（續完） | EA1: Beneficiaries by Beneficiary Category,
K2: NHI Regional Division and Locale | AE2: NHI Regional Division and Locale（Cont'd 1） | AY2: NHI Regional Division and Locale（Cont'd 2） | BS2: NHI Regional Division and Locale（Cont'd 3） | CM2: NHI Regional Division and Locale（Cont'd 4） | DG2: NHI Regional Division and Locale（Cont'd 5） | EA2: NHI Regional Division and Locale（Cont'd）
A3: 中華民國113年底 | K3: End of 2024 | U3: 中華民國113年底 | AE3: End of 2024 | AO3: 中華民國113年底 | AY3: End of 2024 | BI3: 中華民國113年底 | BS3: End of 2024 | CC3: 中華民國113年底 | CM3: End of 2024 | CW3: 中華民國113年底 | DG3: End of 2024 | DQ3: 中華民國113年底 | EA3: End of 2024
A4: 單位：人 | T4: Unit：Persons | U4: 單位：人 | AN4: Unit：Persons | AO4: 單位：人 | BH4: Unit：Persons | BI4: 單位：人 | CB4: Unit：Persons | CC4: 單位：人 | CV4: Unit：Persons | CW4: 單位：人 | DP4: Unit：Persons | DQ4: 單位：人 | EJ4: Unit：Persons
A5: 業務組 縣市別 | B5: 總計 Grand Total | H5: 第一類 | K5: Category 1 | T5: Division & Locale | U5: 業務組 縣市別 | V5: 第一類 | AE5: Category 1 | AN5: Division & Locale | AO5: 業務組 縣市別 | AP5: 第一類 Category 1 | AV5: 第二類 | AY5: Category 2 | BH5: Division & Locale | BI5: 業務組 縣市別 | BJ5: 第二類 Category 2 | BP5: 第三類 | BS5: Category 3 | CB5: Division & Locale | CC5: 業務組 縣市別 | CD5: 第三類 Category 3 | CJ5: 第四類 | CM5: Category 4 | CV5: Division & Locale | CW5: 業務組 縣市別 | CX5: 第四類 | DG5: Category 4 | DJ5: 第五類 Category 5 | DP5: Division & Locale | DQ5: 業務組 縣市別 | DR5: 第六類 | EA5: Category 6 | EJ5: Division & Locale
B7: 保險對象Beneficiaries | D7: 被保險人Insureds | F7: 眷屬Dependents | H7: 合計 | K7: Total | N7: 第一目 Item 1 | V7: 第二目 Item 2 | AB7: 第三目 | AE7: Item 3 | AH7: 第四目 Item 4 | AP7: 第五目 Item 5 | AV7: 合計 | AY7: Total | BB7: 第一目 Item 1 | BJ7: 第二目 Item 2 | BP7: 合計 | BS7: Total | BV7: 第一目 Item 1 | CD7: 第二目 Item 2 | CJ7: 合計 | CM7: Total | CP7: 第一目 Item 1 | CX7: 第二目 Item 2 | DD7: 第三目 | DG7: Item 3 | DR7: 合計 Total | DX7: 第一目 | EA7: Item 1 | ED7: 第二目 Item 2
H8: 保險對象Beneficiaries | J8: 被保險人Insureds | L8: 眷屬Dependents | N8: 保險對象Beneficiaries | P8: 被保險人Insureds | R8: 眷屬Dependents | V8: 保險對象Beneficiaries | X8: 被保險人Insureds | Z8: 眷屬Dependents | AB8: 保險對象Beneficiaries | AD8: 被保險人Insureds | AF8: 眷屬Dependents | AH8: 保險對象Beneficiaries | AJ8: 被保險人Insureds | AL8: 眷屬Dependents | AP8: 保險對象Beneficiaries | AR8: 被保險人Insureds | AT8: 眷屬Dependents | AV8: 保險對象Beneficiaries | AX8: 被保險人Insureds | AZ8: 眷屬Dependents | BB8: 保險對象Beneficiaries | BD8: 被保險人Insureds | BF8: 眷屬Dependents | BJ8: 保險對象Beneficiaries | BL8: 被保險人Insureds | BN8: 眷屬Dependents | BP8: 保險對象Beneficiaries | BR8: 被保險人Insureds | BT8: 眷屬Dependents | BV8: 保險對象Beneficiaries | BX8: 被保險人Insureds | BZ8: 眷屬Dependents | CD8: 保險對象Beneficiaries | CF8: 被保險人Insureds | CH8: 眷屬Dependents | CJ8: 保險對象Beneficiaries | CL8: 被保險人Insureds | CN8: 眷屬Dependents | CP8: 保險對象Beneficiaries | CR8: 被保險人Insureds | CT8: 眷屬Dependents | CX8: 保險對象Beneficiaries | CZ8: 被保險人Insureds | DB8: 眷屬Dependents | DD8: 保險對象Beneficiaries | DF8: 被保險人Insureds | DH8: 眷屬Dependents | DJ8: 保險對象Beneficiaries | DL8: 被保險人Insureds | DN8: 眷屬Dependents | DR8: 保險對象Beneficiaries | DT8: 被保險人Insureds | DV8: 眷屬Dependents | DX8: 保險對象Beneficiaries | DZ8: 被保險人Insureds | EB8: 眷屬Dependents | ED8: 保險對象Beneficiaries | EF8: 被保險人Insureds | EH8: 眷屬Dependents
C9: 百分比 | E9: 百分比 | G9: 百分比 | I9: 百分比 | K9: 百分比 | M9: 百分比 | O9: 百分比 | Q9: 百分比 | S9: 百分比 | W9: 百分比 | Y9: 百分比 | AA9: 百分比 | AC9: 百分比 | AE9: 百分比 | AG9: 百分比 | AI9: 百分比 | AK9: 百分比 | AM9: 百分比 | AQ9: 百分比 | AS9: 百分比 | AU9: 百分比 | AW9: 百分比 | AY9: 百分比 | BA9: 百分比 | BC9: 百分比 | BE9: 百分比 | BG9: 百分比 | BK9: 百分比 | BM9: 百分比 | BO9: 百分比 | BQ9: 百分比 | BS9: 百分比 | BU9: 百分比 | BW9: 百分比 | BY9: 百分比 | CA9: 百分比 | CE9: 百分比 | CG9: 百分比 | CI9: 百分比 | CK9: 百分比 | CM9: 百分比 | CO9: 百分比 | CQ9: 百分比 | CS9: 百分比 | CU9: 百分比 | CY9: 百分比 | DA9: 百分比 | DC9: 百分比 | DE9: 百分比 | DG9: 百分比 | DI9: 百分比 | DK9: 百分比 | DM9: 百分比 | DO9: 百分比 | DS9: 百分比 | DU9: 百分比 | DW9: 百分比 | DY9: 百分比 | EA9: 百分比 | EC9: 百分比 | EE9: 百分比 | EG9: 百分比 | EI9: 百分比
C10: % | E10: % | G10: % | I10: % | K10: % | M10: % | O10: % | Q10: % | S10: % | W10: % | Y10: % | AA10: % | AC10: % | AE10: % | AG10: % | AI10: % | AK10: % | AM10: % | AQ10: % | AS10: % | AU10: % | AW10: % | AY10: % | BA10: % | BC10: % | BE10: % | BG10: % | BK10: % | BM10: % | BO10: % | BQ10: % | BS10: % | BU10: % | BW10: % | BY10: % | CA10: % | CE10: % | CG10: % | CI10: % | CK10: % | CM10: % | CO10: % | CQ10: % | CS10: % | CU10: % | CY10: % | DA10: % | DC10: % | DE10: % | DG10: % | DI10: % | DK10: % | DM10: % | DO10: % | DS10: % | DU10: % | DW10: % | DY10: % | EA10: % | EC10: % | EE10: % | EG10: % | EI10: %
A11: 總 計 | B11: 23959972 | C11: 100 | D11: 16408438 | E11: 100 | F11: 7551534 | G11: 100 | H11: 14738165 | I11: 100 | J11: 9762009 | K11: 100 | L11: 4976156 | M11: 100 | N11: 1165722 | O11: 100 | P11: 734276 | Q11: 100 | R11: 431446 | S11: 100 | T11: Grand Total | U11: 總 計 | V11: 11981265 | W11: 100 | X11: 7796775 | Y11: 100 | Z11: 4184490 | AA11: 100 | AB11: 880264 | AC11: 100 | AD11: 625742 | AE11: 100 | AF11: 254522 | AG11: 100 | AH11: 643961 | AI11: 100 | AJ11: 547861 | AK11: 100 | AL11: 96100 | AM11: 100 | AN11: Grand Total | AO11: 總 計 | AP11: 66953 | AQ11: 100 | AR11: 57355 | AS11: 100 | AT11: 9598 | AU11: 100 | AV11: 3419965 | AW11: 100 | AX11: 2275152 | AY11: 100 | AZ11: 1144813 | BA11: 100 | BB11: 3419385 | BC11: 100 | BD11: 2274602 | BE11: 100 | BF11: 1144783 | BG11: 100 | BH11: Grand Total | BI11: 總 計 | BJ11: 580 | BK11: 100 | BL11: 550 | BM11: 100 | BN11: 30 | BO11: 100 | BP11: 1782750 | BQ11: 100 | BR11: 1255343 | BS11: 100 | BT11: 527407 | BU11: 100 | BV11: 1301983 | BW11: 100 | BX11: 955699 | BY11: 100 | BZ11: 346284 | CA11: 100 | CB11: Grand Total | CC11: 總 計 | CD11: 480767 | CE11: 100 | CF11: 299644 | CG11: 100 | CH11: 181123 | CI11: 100 | CJ11: 101632 | CK11: 100 | CL11: 101632 | CM11: 100 | CN11: 0 | CO11: 0 | CP11: 39929 | CQ11: 100 | CR11: 39929 | CS11: 100 | CT11: 0 | CU11: 0 | CV11: Grand Total | CW11: 總 計 | CX11: 7006 | CY11: 100 | CZ11: 7006 | DA11: 100 | DB11: 0 | DC11: 0 | DD11: 54697 | DE11: 100 | DF11: 54697 | DG11: 100 | DH11: 0 | DI11: 0 | DJ11: 256914 | DK11: 100 | DL11: 256914 | DM11: 100 | DN11: 0 | DO11: 0 | DP11: Grand Total | DQ11: 總 計 | DR11: 3660546 | DS11: 100 | DT11: 2757388 | DU11: 100 | DV11: 903158 | DW11: 100 | DX11: 421232 | DY11: 100 | DZ11: 312044 | EA11: 100 | EB11: 109188 | EC11: 100 | ED11: 3239314 | EE11: 100 | EF11: 2445344 | EG11: 100 | EH11: 793970 | EI11: 100 | EJ11: Grand Total
A12: 臺北業務組 | B12: 9031043 | C12: 37.69221 | D12: 6153874 | E12: 37.504326 | F12: 2877169 | G12: 38.100457 | H12: 6172700 | I12: 41.882419 | J12: 4107681 | K12: 42.078234 | L12: 2065019 | M12: 41.498277 | N12: 564360 | O12: 48.412915 | P12: 373033 | Q12: 50.802832 | R12: 191327 | S12: 44.345526 | T12: Taipei Division | U12: 臺北業務組 | V12: 5017136 | W12: 41.874844 | X12: 3278807 | Y12: 42.053375 | Z12: 1738329 | AA12: 41.542195 | AB12: 320210 | AC12: 36.376587 | AD12: 230150 | AE12: 36.780334 | AF12: 90060 | AG12: 35.383975 | AH12: 246062 | AI12: 38.210699 | AJ12: 204761 | AK12: 37.374626 | AL12: 41301 | AM12: 42.977107 | AN12: Taipei Division | AO12: 臺北業務組 | AP12: 24932 | AQ12: 37.238063 | AR12: 20930 | AS12: 36.492023 | AT12: 4002 | AU12: 41.696187 | AV12: 1216972 | AW12: 35.584341 | AX12: 803798 | AY12: 35.32942 | AZ12: 413174 | BA12: 36.09096 | BB12: 1216559 | BC12: 35.578298 | BD12: 803411 | BE12: 35.320948 | BF12: 413148 | BG12: 36.089634 | BH12: Taipei Division | BI12: 臺北業務組 | BJ12: 413 | BK12: 71.206897 | BL12: 387 | BM12: 70.363636 | BN12: 26 | BO12: 86.666667 | BP12: 176630 | BQ12: 9.9077268 | BR12: 114948 | BS12: 9.1567006 | BT12: 61682 | BU12: 11.695332 | BV12: 83168 | BW12: 6.3877946 | BX12: 59640 | BY12: 6.2404586 | BZ12: 23528 | CA12: 6.7944231 | CB12: Taipei Division | CC12: 臺北業務組 | CD12: 93462 | CE12: 19.440186 | CF12: 55308 | CG12: 18.457903 | CH12: 38154 | CI12: 21.065243 | CJ12: 40251 | CK12: 39.604652 | CL12: 40251 | CM12: 39.604652 | CN12: 0 | CO12: 0 | CP12: 39917 | CQ12: 99.969947 | CR12: 39917 | CS12: 99.969947 | CT12: 0 | CU12: 0 | CV12: Taipei Division | CW12: 臺北業務組 | CX12: 0 | CY12: 0 | CZ12: 0 | DA12: 0 | DB12: 0 | DC12: 0 | DD12: 334 | DE12: 0.61063678 | DF12: 334 | DG12: 0.61063678 | DH12: 0 | DI12: 0 | DJ12: 74130 | DK12: 28.854013 | DL12: 74130 | DM12: 28.854013 | DN12: 0 | DO12: 0 | DP12: Taipei Division | DQ12: 臺北業務組 | DR12: 1350360 | DS12: 36.889579 | DT12: 1013066 | DU12: 36.74006 | DV12: 337294 | DW12: 37.346068 | DX12: 145690 | DY12: 34.586641 | DZ12: 109420 | EA12: 35.065568 | EB12: 36270 | EC12: 33.217936 | ED12: 1204670 | EE12: 37.189047 | EF12: 903646 | EG12: 36.953737 | EH12: 301024 | EI12: 37.913775 | EJ12: Taipei Division
A13: 新北市 | B13: 3365668 | C13: 14.047045 | D13: 2283842 | E13: 13.918705 | F13: 1081826 | G13: 14.32591 | H13: 2112146 | I13: 14.331133 | J13: 1389006 | K13: 14.22869 | L13: 723140 | M13: 14.532101 | N13: 123547 | O13: 10.598324 | P13: 75773 | Q13: 10.319417 | R13: 47774 | S13: 11.072996 | T13: New Taipei City | U13: 新北市 | V13: 1754122 | W13: 14.640541 | X13: 1125023 | Y13: 14.429338 | Z13: 629099 | AA13: 15.034066 | AB13: 100432 | AC13: 11.409304 | AD13: 75447 | AE13: 12.057206 | AF13: 24985 | AG13: 9.8164402 | AH13: 124274 | AI13: 19.298374 | AJ13: 104595 | AK13: 19.091521 | AL13: 19679 | AM13: 20.477627 | AN13: New Taipei City | AO13: 新北市 | AP13: 9771 | AQ13: 14.59382 | AR13: 8168 | AS13: 14.24113 | AT13: 1603 | AU13: 16.701396 | AV13: 489854 | AW13: 14.323363 | AX13: 322594 | AY13: 14.179009 | AZ13: 167260 | BA13: 14.610246 | BB13: 489854 | BC13: 14.325793 | BD13: 322594 | BE13: 14.182437 | BF13: 167260 | BG13: 14.610629 | BH13: New Taipei City | BI13: 新北市 | BJ13: 0 | BK13: 0 | BL13: 0 | BM13: 0 | BN13: 0 | BO13: 0 | BP13: 78596 | BQ13: 4.4086944 | BR13: 50785 | BS13: 4.0455079 | BT13: 27811 | BU13: 5.2731572 | BV13: 35217 | BW13: 2.704874 | BX13: 25329 | BY13: 2.6503114 | BZ13: 9888 | CA13: 2.8554597 | CB13: New Taipei City | CC13: 新北市 | CD13: 43379 | CE13: 9.0228739 | CF13: 25456 | CG13: 8.4954146 | CH13: 17923 | CI13: 9.8954854 | CJ13: 4 | CK13: 0.0039357683 | CL13: 4 | CM13: 0.0039357683 | CN13: 0 | CO13: 0 | CP13: 4 | CQ13: 0.010017782 | CR13: 4 | CS13: 0.010017782 | CT13: 0 | CU13: 0 | CV13: New Taipei City | CW13: 新北市 | CX13: 0 | CY13: 0 | CZ13: 0 | DA13: 0 | DB13: 0 | DC13: 0 | DD13: 0 | DE13: 0 | DF13: 0 | DG13: 0 | DH13: 0 | DI13: 0 | DJ13: 26378 | DK13: 10.267249 | DL13: 26378 | DM13: 10.267249 | DN13: 0 | DO13: 0 | DP13: New Taipei City | DQ13: 新北市 | DR13: 658690 | DS13: 17.99431 | DT13: 495075 | DU13: 17.954492 | DV13: 163615 | DW13: 18.115878 | DX13: 65726 | DY13: 15.603278 | DZ13: 49146 | EA13: 15.749702 | EB13: 16580 | EC13: 15.184819 | ED13: 592964 | EE13: 18.305234 | EF13: 445929 | EG13: 18.235839 | EH13: 147035 | EI13: 18.518962 | EJ13: New Taipei City
A14: 臺北市 | B14: 4954328 | C14: 20.67752 | D14: 3377638 | E14: 20.584763 | F14: 1576690 | G14: 20.879069 | H14: 3776177 | I14: 25.621758 | J14: 2529816 | K14: 25.914912 | L14: 1246361 | M14: 25.046663 | N14: 400943 | O14: 34.394392 | P14: 272536 | Q14: 37.116289 | R14: 128407 | S14: 29.76201 | T14: Taipei City | U14: 臺北市 | V14: 3079149 | W14: 25.699699 | X14: 2033782 | Y14: 26.084913 | Z14: 1045367 | AA14: 24.981945 | AB14: 175495 | AC14: 19.936633 | AD14: 124724 | AE14: 19.932177 | AF14: 50771 | AG14: 19.947588 | AH14: 107139 | AI14: 16.637498 | AJ14: 87513 | AK14: 15.973577 | AL14: 19626 | AM14: 20.422477 | AN14: Taipei City | AO14: 臺北市 | AP14: 13451 | AQ14: 20.090213 | AR14: 11261 | AS14: 19.633859 | AT14: 2190 | AU14: 22.817254 | AV14: 537930 | AW14: 15.729108 | AX14: 353622 | AY14: 15.542786 | AZ14: 184308 | BA14: 16.099398 | BB14: 537745 | BC14: 15.726366 | BD14: 353444 | BE14: 15.538718 | BF14: 184301 | BG14: 16.099208 | BH14: Taipei City | BI14: 臺北市 | BJ14: 185 | BK14: 31.896552 | BL14: 178 | BM14: 32.363636 | BN14: 7 | BO14: 23.333333 | BP14: 7207 | BQ14: 0.40426308 | BR14: 5108 | BS14: 0.40690074 | BT14: 2099 | BU14: 0.39798486 | BV14: 7207 | BW14: 0.55354025 | BX14: 5108 | BY14: 0.53447791 | BZ14: 2099 | CA14: 0.60614987 | CB14: Taipei City | CC14: 臺北市 | CD14: 0 | CE14: 0 | CF14: 0 | CG14: 0 | CH14: 0 | CI14: 0 | CJ14: 40247 | CK14: 39.600716 | CL14: 40247 | CM14: 39.600716 | CN14: 0 | CO14: 0 | CP14: 39913 | CQ14: 99.959929 | CR14: 39913 | CS14: 99.959929 | CT14: 0 | CU14: 0 | CV14: Taipei City | CW14: 臺北市 | CX14: 0 | CY14: 0 | CZ14: 0 | DA14: 0 | DB14: 0 | DC14: 0 | DD14: 334 | DE14: 0.61063678 | DF14: 334 | DG14: 0.61063678 | DH14: 0 | DI14: 0 | DJ14: 38195 | DK14: 14.866843 | DL14: 38195 | DM14: 14.866843 | DN14: 0 | DO14: 0 | DP14: Taipei City | DQ14: 臺北市 | DR14: 554572 | DS14: 15.14998 | DT14: 410650 | DU14: 14.892717 | DV14: 143922 | DW14: 15.935418 | DX14: 58679 | DY14: 13.930328 | DZ14: 44393 | EA14: 14.226519 | EB14: 14286 | EC14: 13.083855 | ED14: 495893 | EE14: 15.308581 | EF14: 366257 | EG14: 14.977729 | EH14: 129636 | EI14: 16.327569 | EJ14: Taipei City
A15: 基隆市 | B15: 262489 | C15: 1.0955313 | D15: 184869 | E15: 1.1266703 | F15: 77620 | G15: 1.0278706 | H15: 102802 | I15: 0.69752238 | J15: 68383 | K15: 0.7005013 | L15: 34419 | M15: 0.69167848 | N15: 16063 | O15: 1.3779443 | P15: 10039 | Q15: 1.3671971 | R15: 6024 | S15: 1.396235 | T15: Keelung City | U15: 基隆市 | V15: 66326 | W15: 0.55358094 | X15: 43148 | Y15: 0.5534083 | Z15: 23178 | AA15: 0.55390263 | AB15: 13761 | AC15: 1.563281 | AD15: 9467 | AE15: 1.5129239 | AF15: 4294 | AG15: 1.687084 | AH15: 5989 | AI15: 0.93002527 | AJ15: 5146 | AK15: 0.93928935 | AL15: 843 | AM15: 0.87721124 | AN15: Keelung City | AO15: 基隆市 | AP15: 663 | AQ15: 0.99024689 | AR15: 583 | AS15: 1.0164763 | AT15: 80 | AU15: 0.83350698 | AV15: 88960 | AW15: 2.6011962 | AX15: 60827 | AY15: 2.6735357 | AZ15: 28133 | BA15: 2.4574319 | BB15: 88732 | BC15: 2.5949696 | BD15: 60618 | BE15: 2.6649937 | BF15: 28114 | BG15: 2.4558366 | BH15: Keelung City | BI15: 基隆市 | BJ15: 228 | BK15: 39.310345 | BL15: 209 | BM15: 38 | BN15: 19 | BO15: 63.333333 | BP15: 6642 | BQ15: 0.37257047 | BR15: 4048 | BS15: 0.32246167 | BT15: 2594 | BU15: 0.49184027 | BV15: 571 | BW15: 0.043856179 | BX15: 411 | BY15: 0.043005172 | BZ15: 160 | CA15: 0.046204849 | CB15: Keelung City | CC15: 基隆市 | CD15: 6071 | CE15: 1.2627739 | CF15: 3637 | CG15: 1.2137737 | CH15: 2434 | CI15: 1.3438382 | CJ15: 0 | CK15: 0 | CL15: 0 | CM15: 0 | CN15: 0 | CO15: 0 | CP15: 0 | CQ15: 0 | CR15: 0 | CS15: 0 | CT15: 0 | CU15: 0 | CV15: Keelung City | CW15: 基隆市 | CX15: 0 | CY15: 0 | CZ15: 0 | DA15: 0 | DB15: 0 | DC15: 0 | DD15: 0 | DE15: 0 | DF15: 0 | DG15: 0 | DH15: 0 | DI15: 0 | DJ15: 4170 | DK15: 1.6231112 | DL15: 4170 | DM15: 1.6231112 | DN15: 0 | DO15: 0 | DP15: Keelung City | DQ15: 基隆市 | DR15: 59915 | DS15: 1.6367777 | DT15: 47441 | DU15: 1.7205051 | DV15: 12474 | DW15: 1.3811537 | DX15: 6607 | DY15: 1.5684943 | DZ15: 5080 | EA15: 1.6279755 | EB15: 1527 | EC15: 1.3985053 | ED15: 53308 | EE15: 1.6456571 | EF15: 42361 | EG15: 1.7323125 | EH15: 10947 | EI15: 1.3787675 | EJ15: Keelung City
A16: 宜蘭縣 | B16: 374428 | C16: 1.562723 | D16: 256844 | E16: 1.5653166 | F16: 117584 | G16: 1.5570876 | H16: 152327 | I16: 1.0335547 | J16: 101432 | K16: 1.0390484 | L16: 50895 | M16: 1.0227774 | N16: 18500 | O16: 1.5869993 | P16: 11233 | Q16: 1.5298062 | R16: 7267 | S16: 1.6843359 | T16: Yilan County | U16: 宜蘭縣 | V16: 104443 | W16: 0.87171931 | X16: 68530 | Y16: 0.87895316 | Z16: 35913 | AA16: 0.85824079 | AB16: 21156 | AC16: 2.4033699 | AD16: 14523 | AE16: 2.3209246 | AF16: 6633 | AG16: 2.6060616 | AH16: 7281 | AI16: 1.1306585 | AJ16: 6309 | AK16: 1.1515695 | AL16: 972 | AM16: 1.0114464 | AN16: Yilan County | AO16: 宜蘭縣 | AP16: 947 | AQ16: 1.414425 | AR16: 837 | AS16: 1.4593322 | AT16: 110 | AU16: 1.1460721 | AV16: 94758 | AW16: 2.7707301 | AX16: 63251 | AY16: 2.780078 | AZ16: 31507 | BA16: 2.7521525 | BB16: 94758 | BC16: 2.7712001 | BD16: 63251 | BE16: 2.7807502 | BF16: 31507 | BG16: 2.7522247 | BH16: Yilan County | BI16: 宜蘭縣 | BJ16: 0 | BK16: 0 | BL16: 0 | BM16: 0 | BN16: 0 | BO16: 0 | BP16: 68327 | BQ16: 3.8326742 | BR16: 45245 | BS16: 3.6041942 | BT16: 23082 | BU16: 4.3765062 | BV16: 36286 | BW16: 2.7869796 | BX16: 25454 | BY16: 2.6633909 | BZ16: 10832 | CA16: 3.1280683 | CB16: Yilan County | CC16: 宜蘭縣 | CD16: 32041 | CE16: 6.6645589 | CF16: 19791 | CG16: 6.6048377 | CH16: 12250 | CI16: 6.7633597 | CJ16: 0 | CK16: 0 | CL16: 0 | CM16: 0 | CN16: 0 | CO16: 0 | CP16: 0 | CQ16: 0 | CR16: 0 | CS16: 0 | CT16: 0 | CU16: 0 | CV16: Yilan County | CW16: 宜蘭縣 | CX16: 0 | CY16: 0 | CZ16: 0 | DA16: 0 | DB16: 0 | DC16: 0 | DD16: 0 | DE16: 0 | DF16: 0 | DG16: 0 | DH16: 0 | DI16: 0 | DJ16: 4984 | DK16: 1.9399488 | DL16: 4984 | DM16: 1.9399488 | DN16: 0 | DO16: 0 | DP16: Yilan County | DQ16: 宜蘭縣 | DR16: 54032 | DS16: 1.476064 | DT16: 41932 | DU16: 1.5207145 | DV16: 12100 | DW16: 1.3397434 | DX16: 6105 | DY16: 1.4493201 | DZ16: 4533 | EA16: 1.4526798 | EB16: 1572 | EC16: 1.4397187 | ED16: 47927 | EE16: 1.4795417 | EF16: 37399 | EG16: 1.5293963 | EH16: 10528 | EI16: 1.3259947 | EJ16: Yilan County
A17: 金門縣 | B17: 66350 | C17: 0.27692019 | D17: 45420 | E17: 0.2768088 | F17: 20930 | G17: 0.27716223 | H17: 24514 | I17: 0.16633007 | J17: 15942 | K17: 0.16330655 | L17: 8572 | M17: 0.17226148 | N17: 4146 | O17: 0.35565941 | P17: 2680 | Q17: 0.36498537 | R17: 1466 | S17: 0.3397876 | T17: Kinmen County | U17: 金門縣 | V17: 11362 | W17: 0.094831389 | X17: 7190 | Y17: 0.092217616 | Z17: 4172 | AA17: 0.099701517 | AB17: 7740 | AC17: 0.87928167 | AD17: 4989 | AE17: 0.79729345 | AF17: 2751 | AG17: 1.0808496 | AH17: 1168 | AI17: 0.18137744 | AJ17: 1004 | AK17: 0.18325816 | AL17: 164 | AM17: 0.17065557 | AN17: Kinmen County | AO17: 金門縣 | AP17: 98 | AQ17: 0.14637134 | AR17: 79 | AS17: 0.13773865 | AT17: 19 | AU17: 0.19795791 | AV17: 4824 | AW17: 0.14105408 | AX17: 3131 | AY17: 0.13761718 | AZ17: 1693 | BA17: 0.14788441 | BB17: 4824 | BC17: 0.141078 | BD17: 3131 | BE17: 0.13765045 | BF17: 1693 | BG17: 0.14788829 | BH17: Kinmen County | BI17: 金門縣 | BJ17: 0 | BK17: 0 | BL17: 0 | BM17: 0 | BN17: 0 | BO17: 0 | BP17: 15168 | BQ17: 0.85082036 | BR17: 9367 | BS17: 0.74617057 | BT17: 5801 | BU17: 1.0999096 | BV17: 3827 | BW17: 0.29393625 | BX17: 3282 | BY17: 0.34341356 | BZ17: 545 | CA17: 0.15738527 | CB17: Kinmen County | CC17: 金門縣 | CD17: 11341 | CE17: 2.3589389 | CF17: 6085 | CG17: 2.0307431 | CH17: 5256 | CI17: 2.9018954 | CJ17: 0 | CK17: 0 | CL17: 0 | CM17: 0 | CN17: 0 | CO17: 0 | CP17: 0 | CQ17: 0 | CR17: 0 | CS17: 0 | CT17: 0 | CU17: 0 | CV17: Kinmen County | CW17: 金門縣 | CX17: 0 | CY17: 0 | CZ17: 0 | DA17: 0 | DB17: 0 | DC17: 0 | DD17: 0 | DE17: 0 | DF17: 0 | DG17: 0 | DH17: 0 | DI17: 0 | DJ17: 309 | DK17: 0.12027371 | DL17: 309 | DM17: 0.12027371 | DN17: 0 | DO17: 0 | DP17: Kinmen County | DQ17: 金門縣 | DR17: 21535 | DS17: 0.58830022 | DT17: 16671 | DU17: 0.60459391 | DV17: 4864 | DW17: 0.53855472 | DX17: 8286 | DY17: 1.967087 | DZ17: 6073 | EA17: 1.9461999 | EB17: 2213 | EC17: 2.0267795 | ED17: 13249 | EE17: 0.40900635 | EF17: 10598 | EG17: 0.43339506 | EH17: 2651 | EI17: 0.33389171 | EJ17: Kinmen County
A18: 連江縣 | B18: 7780 | C18: 0.032470823 | D18: 5261 | E18: 0.032062772 | F18: 2519 | G18: 0.033357461 | H18: 4734 | I18: 0.032120688 | J18: 3102 | K18: 0.031776246 | L18: 1632 | M18: 0.032796399 | N18: 1161 | O18: 0.099594929 | P18: 772 | Q18: 0.10513758 | R18: 389 | S18: 0.090161921 | T18: Lienchiang County | U18: 連江縣 | V18: 1734 | W18: 0.014472595 | X18: 1134 | Y18: 0.014544475 | Z18: 600 | AA18: 0.014338665 | AB18: 1626 | AC18: 0.18471731 | AD18: 1000 | AE18: 0.15981027 | AF18: 626 | AG18: 0.24595123 | AH18: 211 | AI18: 0.032765959 | AJ18: 194 | AK18: 0.035410442 | AL18: 17 | AM18: 0.017689906 | AN18: Lienchiang County | AO18: 連江縣 | AP18: 2 | AQ18: 0.0029871701 | AR18: 2 | AS18: 0.0034870543 | AT18: 0 | AU18: 0 | AV18: 646 | AW18: 0.018889082 | AX18: 373 | AY18: 0.016394509 | AZ18: 273 | BA18: 0.023846689 | BB18: 646 | BC18: 0.018892286 | BD18: 373 | BE18: 0.016398473 | BF18: 273 | BG18: 0.023847314 | BH18: Lienchiang County | BI18: 連江縣 | BJ18: 0 | BK18: 0 | BL18: 0 | BM18: 0 | BN18: 0 | BO18: 0 | BP18: 690 | BQ18: 0.038704249 | BR18: 395 | BS18: 0.031465504 | BT18: 295 | BU18: 0.055934032 | BV18: 60 | BW18: 0.0046083551 | BX18: 56 | BY18: 0.0058595855 | BZ18: 4 | CA18: 0.0011551212 | CB18: Lienchiang County | CC18: 連江縣 | CD18: 630 | CE18: 0.13104061 | CF18: 339 | CG18: 0.11313425 | CH18: 291 | CI18: 0.1606643 | CJ18: 0 | CK18: 0 | CL18: 0 | CM18: 0 | CN18: 0 | CO18: 0 | CP18: 0 | CQ18: 0 | CR18: 0 | CS18: 0 | CT18: 0 | CU18: 0 | CV18: Lienchiang County | CW18: 連江縣 | CX18: 0 | CY18: 0 | CZ18: 0 | DA18: 0 | DB18: 0 | DC18: 0 | DD18: 0 | DE18: 0 | DF18: 0 | DG18: 0 | DH18: 0 | DI18: 0 | DJ18: 94 | DK18: 0.036588119 | DL18: 94 | DM18: 0.036588119 | DN18: 0 | DO18: 0 | DP18: Lienchiang County | DQ18: 連江縣 | DR18: 1616 | DS18: 0.04414642 | DT18: 1297 | DU18: 0.047037269 | DV18: 319 | DW18: 0.035320509 | DX18: 287 | DY18: 0.068133475 | DZ18: 195 | EA18: 0.062491187 | EB18: 92 | EC18: 0.084258343 | ED18: 1329 | EE18: 0.041027205 | EF18: 1102 | EG18: 0.045065234 | EH18: 227 | EI18: 0.028590501 | EJ18: Lienchiang County
A19: 北區業務組 | B19: 4045971 | C19: 16.886376 | D19: 2732269 | E19: 16.651609 | F19: 1313702 | G19: 17.396492 | H19: 2742186 | I19: 18.60602 | J19: 1796943 | K19: 18.407512 | L19: 945243 | M19: 18.995445 | N19: 148105 | O19: 12.705002 | P19: 84663 | Q19: 11.530133 | R19: 63442 | S19: 14.704505 | T19: Northern Division | U19: 北區業務組 | V19: 2338970 | W19: 19.521895 | X19: 1520952 | Y19: 19.50745 | Z19: 818018 | AA19: 19.54881 | AB19: 150278 | AC19: 17.071924 | AD19: 103996 | AE19: 16.619629 | AF19: 46282 | AG19: 18.18389 | AH19: 95207 | AI19: 14.784591 | AJ19: 79259 | AK19: 14.466991 | AL19: 15948 | AM19: 16.595213 | AN19: Northern Division | AO19: 北區業務組 | AP19: 9626 | AQ19: 14.37725 | AR19: 8073 | AS19: 14.075495 | AT19: 1553 | AU19: 16.180454 | AV19: 462818 | AW19: 13.532829 | AX19: 296360 | AY19: 13.025943 | AZ19: 166458 | BA19: 14.540191 | BB19: 462818 | BC19: 13.535124 | BD19: 296360 | BE19: 13.029093 | BF19: 166458 | BG19: 14.540572 | BH19: Northern Division | BI19: 北區業務組 | BJ19: 0 | BK19: 0 | BL19: 0 | BM19: 0 | BN19: 0 | BO19: 0 | BP19: 191447 | BQ19: 10.738859 | BR19: 132201 | BS19: 10.531066 | BT19: 59246 | BU19: 11.23345 | BV19: 163429 | BW19: 12.552314 | BX19: 117370 | BY19: 12.281063 | BZ19: 46059 | CA19: 13.300932 | CB19: Northern Division | CC19: 北區業務組 | CD19: 28018 | CE19: 5.827771 | CF19: 14831 | CG19: 4.9495401 | CH19: 13187 | CI19: 7.2806877 | CJ19: 54366 | CK19: 53.492994 | CL19: 54366 | CM19: 53.492994 | CN19: 0 | CO19: 0 | CP19: 3 | CQ19: 0.0075133362 | CR19: 3 | CS19: 0.0075133362 | CT19: 0 | CU19: 0 | CV19: Northern Division | CW19: 北區業務組 | CX19: 0 | CY19: 0 | CZ19: 0 | DA19: 0 | DB19: 0 | DC19: 0 | DD19: 54363 | DE19: 99.389363 | DF19: 54363 | DG19: 99.389363 | DH19: 0 | DI19: 0 | DJ19: 39829 | DK19: 15.502853 | DL19: 39829 | DM19: 15.502853 | DN19: 0 | DO19: 0 | DP19: Northern Division | DQ19: 北區業務組 | DR19: 555325 | DS19: 15.170551 | DT19: 412570 | DU19: 14.962348 | DV19: 142755 | DW19: 15.806204 | DX19: 71985 | DY19: 17.089158 | DZ19: 54003 | EA19: 17.306213 | EB19: 17982 | EC19: 16.468843 | ED19: 483340 | EE19: 14.92106 | EF19: 358567 | EG19: 14.663254 | EH19: 124773 | EI19: 15.715077 | EJ19: Northern Division
A20: 桃園市 | B20: 2272337 | C20: 9.4838884 | D20: 1542657 | E20: 9.4016079 | F20: 729680 | G20: 9.6626725 | H20: 1523406 | I20: 10.33647 | J20: 994587 | K20: 10.188343 | L20: 528819 | M20: 10.627058 | N20: 84400 | O20: 7.2401482 | P20: 49701 | Q20: 6.7687082 | R20: 34699 | S20: 8.0424897 | T20: Taoyuan City | U20: 桃園市 | V20: 1284036 | W20: 10.717032 | X20: 828153 | Y20: 10.621738 | Z20: 455883 | AA20: 10.894589 | AB20: 87063 | AC20: 9.8905556 | AD20: 60240 | AE20: 9.6269709 | AF20: 26823 | AG20: 10.538578 | AH20: 61830 | AI20: 9.6015131 | AJ20: 51451 | AK20: 9.3912507 | AL20: 10379 | AM20: 10.800208 | AN20: Taoyuan City | AO20: 桃園市 | AP20: 6077 | AQ20: 9.0765164 | AR20: 5042 | AS20: 8.7908639 | AT20: 1035 | AU20: 10.783497 | AV20: 243582 | AW20: 7.1223536 | AX20: 156176 | AY20: 6.8644205 | AZ20: 87406 | BA20: 7.6349587 | BB20: 243582 | BC20: 7.1235617 | BD20: 156176 | BE20: 6.8660803 | BF20: 87406 | BG20: 7.6351588 | BH20: Taoyuan City | BI20: 桃園市 | BJ20: 0 | BK20: 0 | BL20: 0 | BM20: 0 | BN20: 0 | BO20: 0 | BP20: 63703 | BQ20: 3.5732997 | BR20: 44387 | BS20: 3.5358464 | BT20: 19316 | BU20: 3.6624466 | BV20: 60403 | BW20: 4.6393079 | BX20: 42653 | BY20: 4.4630161 | BZ20: 17750 | CA20: 5.1258505 | CB20: Taoyuan City | CC20: 桃園市 | CD20: 3300 | CE20: 0.68640318 | CF20: 1734 | CG20: 0.57868671 | CH20: 1566 | CI20: 0.86460582 | CJ20: 54366 | CK20: 53.492994 | CL20: 54366 | CM20: 53.492994 | CN20: 0 | CO20: 0 | CP20: 3 | CQ20: 0.0075133362 | CR20: 3 | CS20: 0.0075133362 | CT20: 0 | CU20: 0 | CV20: Taoyuan City | CW20: 桃園市 | CX20: 0 | CY20: 0 | CZ20: 0 | DA20: 0 | DB20: 0 | DC20: 0 | DD20: 54363 | DE20: 99.389363 | DF20: 54363 | DG20: 99.389363 | DH20: 0 | DI20: 0 | DJ20: 27526 | DK20: 10.714091 | DL20: 27526 | DM20: 10.714091 | DN20: 0 | DO20: 0 | DP20: Taoyuan City | DQ20: 桃園市 | DR20: 359754 | DS20: 9.8278781 | DT20: 265615 | DU20: 9.6328482 | DV20: 94139 | DW20: 10.423315 | DX20: 50721 | DY20: 12.041108 | DZ20: 38328 | EA20: 12.282883 | EB20: 12393 | EC20: 11.350148 | ED20: 309033 | EE20: 9.5400755 | EF20: 227287 | EG20: 9.2946841 | EH20: 81746 | EI20: 10.295855 | EJ20: Taoyuan City
A21: 新竹市 | B21: 756060 | C21: 3.1555129 | D21: 503256 | E21: 3.0670561 | F21: 252804 | G21: 3.3477172 | H21: 590608 | I21: 4.0073374 | J21: 391552 | K21: 4.0109777 | L21: 199056 | M21: 4.0001961 | N21: 21706 | O21: 1.862022 | P21: 11309 | Q21: 1.5401566 | R21: 10397 | S21: 2.4098033 | T21: Hsinchu City | U21: 新竹市 | V21: 535617 | W21: 4.4704545 | X21: 355841 | Y21: 4.5639511 | Z21: 179776 | AA21: 4.2962464 | AB21: 20825 | AC21: 2.3657675 | AD21: 14058 | AE21: 2.2466128 | AF21: 6767 | AG21: 2.6587093 | AH21: 11202 | AI21: 1.7395463 | AJ21: 9263 | AK21: 1.6907573 | AL21: 1939 | AM21: 2.0176899 | AN21: Hsinchu City | AO21: 新竹市 | AP21: 1258 | AQ21: 1.87893 | AR21: 1081 | AS21: 1.8847529 | AT21: 177 | AU21: 1.8441342 | AV21: 86739 | AW21: 2.536254 | AX21: 54569 | AY21: 2.3984771 | AZ21: 32170 | BA21: 2.8100659 | BB21: 86739 | BC21: 2.5366842 | BD21: 54569 | BE21: 2.3990571 | BF21: 32170 | BG21: 2.8101396 | BH21: Hsinchu City | BI21: 新竹市 | BJ21: 0 | BK21: 0 | BL21: 0 | BM21: 0 | BN21: 0 | BO21: 0 | BP21: 15169 | BQ21: 0.85087645 | BR21: 8480 | BS21: 0.67551259 | BT21: 6689 | BU21: 1.2682805 | BV21: 3890 | BW21: 0.29877502 | BX21: 2696 | BY21: 0.28209719 | BZ21: 1194 | CA21: 0.34480369 | CB21: Hsinchu City | CC21: 新竹市 | CD21: 11279 | CE21: 2.3460429 | CF21: 5784 | CG21: 1.9302906 | CH21: 5495 | CI21: 3.0338499 | CJ21: 0 | CK21: 0 | CL21: 0 | CM21: 0 | CN21: 0 | CO21: 0 | CP21: 0 | CQ21: 0 | CR21: 0 | CS21: 0 | CT21: 0 | CU21: 0 | CV21: Hsinchu City | CW21: 新竹市 | CX21: 0 | CY21: 0 | CZ21: 0 | DA21: 0 | DB21: 0 | DC21: 0 | DD21: 0 | DE21: 0 | DF21: 0 | DG21: 0 | DH21: 0 | DI21: 0 | DJ21: 3533 | DK21: 1.3751683 | DL21: 3533 | DM21: 1.3751683 | DN21: 0 | DO21: 0 | DP21: Hsinchu City | DQ21: 新竹市 | DR21: 60011 | DS21: 1.6394002 | DT21: 45122 | DU21: 1.6364037 | DV21: 14889 | DW21: 1.6485488 | DX21: 8134 | DY21: 1.9310024 | DZ21: 6090 | EA21: 1.9516478 | EB21: 2044 | EC21: 1.8720006 | ED21: 51877 | EE21: 1.6014811 | EF21: 39032 | EG21: 1.5961762 | EH21: 12845 | EI21: 1.6178193 | EJ21: Hsinchu City
A22: 新竹縣 | B22: 580025 | C22: 2.4208083 | D22: 385269 | E22: 2.3479931 | F22: 194756 | G22: 2.5790257 | H22: 401740 | I22: 2.7258482 | J22: 261304 | K22: 2.6767441 | L22: 140436 | M22: 2.8221784 | N22: 22755 | O22: 1.9520091 | P22: 12172 | Q22: 1.6576873 | R22: 10583 | S22: 2.4529142 | T22: Hsinchu County | U22: 新竹縣 | V22: 341196 | W22: 2.847746 | X22: 221166 | Y22: 2.8366344 | Z22: 120030 | AA22: 2.8684499 | AB22: 23069 | AC22: 2.6206911 | AD22: 15891 | AE22: 2.5395451 | AF22: 7178 | AG22: 2.8201884 | AH22: 13376 | AI22: 2.0771444 | AJ22: 10973 | AK22: 2.0028803 | AL22: 2403 | AM22: 2.5005203 | AN22: Hsinchu County | AO22: 新竹縣 | AP22: 1344 | AQ22: 2.0073783 | AR22: 1102 | AS22: 1.9213669 | AT22: 242 | AU22: 2.5213586 | AV22: 71507 | AW22: 2.0908694 | AX22: 44751 | AY22: 1.9669455 | AZ22: 26756 | BA22: 2.3371503 | BB22: 71507 | BC22: 2.091224 | BD22: 44751 | BE22: 1.9674211 | BF22: 26756 | BG22: 2.3372115 | BH22: Hsinchu County | BI22: 新竹縣 | BJ22: 0 | BK22: 0 | BL22: 0 | BM22: 0 | BN22: 0 | BO22: 0 | BP22: 32551 | BQ22: 1.825887 | BR22: 23413 | BS22: 1.865068 | BT22: 9138 | BU22: 1.7326277 | BV22: 32551 | BW22: 2.5001094 | BX22: 23413 | BY22: 2.4498299 | BZ22: 9138 | CA22: 2.6388744 | CB22: Hsinchu County | CC22: 新竹縣 | CD22: 0 | CE22: 0 | CF22: 0 | CG22: 0 | CH22: 0 | CI22: 0 | CJ22: 0 | CK22: 0 | CL22: 0 | CM22: 0 | CN22: 0 | CO22: 0 | CP22: 0 | CQ22: 0 | CR22: 0 | CS22: 0 | CT22: 0 | CU22: 0 | CV22: Hsinchu County | CW22: 新竹縣 | CX22: 0 | CY22: 0 | CZ22: 0 | DA22: 0 | DB22: 0 | DC22: 0 | DD22: 0 | DE22: 0 | DF22: 0 | DG22: 0 | DH22: 0 | DI22: 0 | DJ22: 3996 | DK22: 1.5553843 | DL22: 3996 | DM22: 1.5553843 | DN22: 0 | DO22: 0 | DP22: Hsinchu County | DQ22: 新竹縣 | DR22: 70231 | DS22: 1.9185936 | DT22: 51805 | DU22: 1.8787708 | DV22: 18426 | DW22: 2.0401746 | DX22: 6575 | DY22: 1.5608976 | DZ22: 4758 | EA22: 1.524785 | EB22: 1817 | EC22: 1.6641023 | ED22: 63656 | EE22: 1.9651074 | EF22: 47047 | EG22: 1.923942 | EH22: 16609 | EI22: 2.0918926 | EJ22: Hsinchu County
... A39: 臺東縣 | B39: 171693 | C39: 0.71658264 | D39: 124023 | E39: 0.75584891 | F39: 47670 | G39: 0.63126247 | H39: 61902 | I39: 0.42001158 | J39: 41929 | K39: 0.429512 | L39: 19973 | M39: 0.40137407 | N39: 13563 | O39: 1.1634849 | P39: 9002 | Q39: 1.2259695 | R39: 4561 | S39: 1.0571427 | T39: Taitung County | U39: 臺東縣 | V39: 33516 | W39: 0.27973674 | X39: 21968 | Y39: 0.28175752 | Z39: 11548 | AA39: 0.2759715 | AB39: 11232 | AC39: 1.2759808 | AD39: 7785 | AE39: 1.244123 | AF39: 3447 | AG39: 1.3543034 | AH39: 3223 | AI39: 0.50049615 | AJ39: 2852 | AK39: 0.52057 | AL39: 371 | AM39: 0.38605619 | AN39: Taitung County | AO39: 臺東縣 | AP39: 368 | AQ39: 0.5496393 | AR39: 322 | AS39: 0.56141574 | AT39: 46 | AU39: 0.47926651 | AV39: 21929 | AW39: 0.64120539 | AX39: 14793 | AY39: 0.65019832 | AZ39: 7136 | BA39: 0.62333324 | BB39: 21929 | BC39: 0.64131415 | BD39: 14793 | BE39: 0.65035553 | BF39: 7136 | BG39: 0.62334958 | BH39: Taitung County | BI39: 臺東縣 | BJ39: 0 | BK39: 0 | BL39: 0 | BM39: 0 | BN39: 0 | BO39: 0 | BP39: 35905 | BQ39: 2.0140233 | BR39: 26555 | BS39: 2.1153581 | BT39: 9350 | BU39: 1.7728244 | BV39: 29578 | BW39: 2.2717655 | BX39: 22276 | BY39: 2.3308594 | BZ39: 7302 | CA39: 2.1086738 | CB39: Taitung County | CC39: 臺東縣 | CD39: 6327 | CE39: 1.3160221 | CF39: 4279 | CG39: 1.4280279 | CH39: 2048 | CI39: 1.1307233 | CJ39: 0 | CK39: 0 | CL39: 0 | CM39: 0 | CN39: 0 | CO39: 0 | CP39: 0 | CQ39: 0 | CR39: 0 | CS39: 0 | CT39: 0 | CU39: 0 | CV39: Taitung County | CW39: 臺東縣 | CX39: 0 | CY39: 0 | CZ39: 0 | DA39: 0 | DB39: 0 | DC39: 0 | DD39: 0 | DE39: 0 | DF39: 0 | DG39: 0 | DH39: 0 | DI39: 0 | DJ39: 6186 | DK39: 2.4078096 | DL39: 6186 | DM39: 2.4078096 | DN39: 0 | DO39: 0 | DP39: Taitung County | DQ39: 臺東縣 | DR39: 45771 | DS39: 1.2503872 | DT39: 34560 | DU39: 1.2533601 | DV39: 11211 | DW39: 1.241311 | DX39: 5561 | DY39: 1.3201751 | DZ39: 4018 | EA39: 1.2876389 | EB39: 1543 | EC39: 1.413159 | ED39: 40210 | EE39: 1.2413122 | EF39: 30542 | EG39: 1.2489858 | EH39: 9668 | EI39: 1.2176782 | EJ39: Taitung County
A40: 備註：本表縣市別係按保險對象所屬投保單位的通訊地址統計。 | K40: Note：The locales were determined by the mailing addresses of the group insurance applicants to which the
K41: beneficiaries belong.

Sheet 112
A1: 保險對象人數－按保險對象類目及縣市別分 | K1: Beneficiaries by Beneficiary Category, | U1: 保險對象人數－按保險對象類目及縣市別分（續一） | AE1: Beneficiaries by Beneficiary Category, | AO1: 保險對象人數－按保險對象類目及縣市別分（續二） | AY1: Beneficiaries by Beneficiary Category, | BI1: 保險對象人數－按保險對象類目及縣市別分（續三） | BS1: Beneficiaries by Beneficiary Category, | CC1: 保險對象人數－按保險對象類目及縣市別分（續四） | CM1: Beneficiaries by Beneficiary Category, | CW1: 保險對象人數－按保險對象類目及縣市別分（續五） | DG1: Beneficiaries by Beneficiary Category, | DQ1: 保險對象人數－按保險對象類目及縣市別分（續完） | EA1: Beneficiaries by Beneficiary Category,
K2: NHI Regional Division and Locale | AE2: NHI Regional Division and Locale（Cont'd 1） | AY2: NHI Regional Division and Locale（Cont'd 2） | BS2: NHI Regional Division and Locale（Cont'd 3） | CM2: NHI Regional Division and Locale（Cont'd 4） | DG2: NHI Regional Division and Locale（Cont'd 5） | EA2: NHI Regional Division and Locale（Cont'd）
A3: 中華民國112年底 | K3: End of 2023 | U3: 中華民國112年底 | AE3: End of 2023 | AO3: 中華民國112年底 | AY3: End of 2023 | BI3: 中華民國112年底 | BS3: End of 2023 | CC3: 中華民國112年底 | CM3: End of 2023 | CW3: 中華民國112年底 | DG3: End of 2023 | DQ3: 中華民國112年底 | EA3: End of 2023
A4: 單位：人 | T4: Unit：Persons | U4: 單位：人 | AN4: Unit：Persons | AO4: 單位：人 | BH4: Unit：Persons | BI4: 單位：人 | CB4: Unit：Persons | CC4: 單位：人 | CV4: Unit：Persons | CW4: 單位：人 | DP4: Unit：Persons | DQ4: 單位：人 | EJ4: Unit：Persons
A5: 業務組 縣市別 | B5: 總計 Grand Total | H5: 第一類 | K5: Category 1 | T5: Division & Locale | U5: 業務組 縣市別 | V5: 第一類 | AE5: Category 1 | AN5: Division & Locale | AO5: 業務組 縣市別 | AP5: 第一類 Category 1 | AV5: 第二類 | AY5: Category 2 | BH5: Division & Locale | BI5: 業務組 縣市別 | BJ5: 第二類 Category 2 | BP5: 第三類 | BS5: Category 3 | CB5: Division & Locale | CC5: 業務組 縣市別 | CD5: 第三類 Category 3 | CJ5: 第四類 | CM5: Category 4 | CV5: Division & Locale | CW5: 業務組 縣市別 | CX5: 第四類 | DG5: Category 4 | DJ5: 第五類 Category 5 | DP5: Division & Locale | DQ5: 業務組 縣市別 | DR5: 第六類 | EA5: Category 6 | EJ5: Division & Locale
B7: 保險對象Beneficiaries | D7: 被保險人Insureds | F7: 眷屬Dependents | H7: 合計 | K7: Total | N7: 第一目 Item 1 | V7: 第二目 Item 2 | AB7: 第三目 | AE7: Item 3 | AH7: 第四目 Item 4 | AP7: 第五目 Item 5 | AV7: 合計 | AY7: Total | BB7: 第一目 Item 1 | BJ7: 第二目 Item 2 | BP7: 合計 | BS7: Total | BV7: 第一目 Item 1 | CD7: 第二目 Item 2 | CJ7: 合計 | CM7: Total | CP7: 第一目 Item 1 | CX7: 第二目 Item 2 | DD7: 第三目 | DG7: Item 3 | DR7: 合計 Total | DX7: 第一目 | EA7: Item 1 | ED7: 第二目 Item 2
H8: 保險對象Beneficiaries | J8: 被保險人Insureds | L8: 眷屬Dependents | N8: 保險對象Beneficiaries | P8: 被保險人Insureds | R8: 眷屬Dependents | V8: 保險對象Beneficiaries | X8: 被保險人Insureds | Z8: 眷屬Dependents | AB8: 保險對象Beneficiaries | AD8: 被保險人Insureds | AF8: 眷屬Dependents | AH8: 保險對象Beneficiaries | AJ8: 被保險人Insureds | AL8: 眷屬Dependents | AP8: 保險對象Beneficiaries | AR8: 被保險人Insureds | AT8: 眷屬Dependents | AV8: 保險對象Beneficiaries | AX8: 被保險人Insureds | AZ8: 眷屬Dependents | BB8: 保險對象Beneficiaries | BD8: 被保險人Insureds | BF8: 眷屬Dependents | BJ8: 保險對象Beneficiaries | BL8: 被保險人Insureds | BN8: 眷屬Dependents | BP8: 保險對象Beneficiaries | BR8: 被保險人Insureds | BT8: 眷屬Dependents | BV8: 保險對象Beneficiaries | BX8: 被保險人Insureds | BZ8: 眷屬Dependents | CD8: 保險對象Beneficiaries | CF8: 被保險人Insureds | CH8: 眷屬Dependents | CJ8: 保險對象Beneficiaries | CL8: 被保險人Insureds | CN8: 眷屬Dependents | CP8: 保險對象Beneficiaries | CR8: 被保險人Insureds | CT8: 眷屬Dependents | CX8: 保險對象Beneficiaries | CZ8: 被保險人Insureds | DB8: 眷屬Dependents | DD8: 保險對象Beneficiaries | DF8: 被保險人Insureds | DH8: 眷屬Dependents | DJ8: 保險對象Beneficiaries | DL8: 被保險人Insureds | DN8: 眷屬Dependents | DR8: 保險對象Beneficiaries | DT8: 被保險人Insureds | DV8: 眷屬Dependents | DX8: 保險對象Beneficiaries | DZ8: 被保險人Insureds | EB8: 眷屬Dependents | ED8: 保險對象Beneficiaries | EF8: 被保險人Insureds | EH8: 眷屬Dependents
C9: 百分比 | E9: 百分比 | G9: 百分比 | I9: 百分比 | K9: 百分比 | M9: 百分比 | O9: 百分比 | Q9: 百分比 | S9: 百分比 | W9: 百分比 | Y9: 百分比 | AA9: 百分比 | AC9: 百分比 | AE9: 百分比 | AG9: 百分比 | AI9: 百分比 | AK9: 百分比 | AM9: 百分比 | AQ9: 百分比 | AS9: 百分比 | AU9: 百分比 | AW9: 百分比 | AY9: 百分比 | BA9: 百分比 | BC9: 百分比 | BE9: 百分比 | BG9: 百分比 | BK9: 百分比 | BM9: 百分比 | BO9: 百分比 | BQ9: 百分比 | BS9: 百分比 | BU9: 百分比 | BW9: 百分比 | BY9: 百分比 | CA9: 百分比 | CE9: 百分比 | CG9: 百分比 | CI9: 百分比 | CK9: 百分比 | CM9: 百分比 | CO9: 百分比 | CQ9: 百分比 | CS9: 百分比 | CU9: 百分比 | CY9: 百分比 | DA9: 百分比 | DC9: 百分比 | DE9: 百分比 | DG9: 百分比 | DI9: 百分比 | DK9: 百分比 | DM9: 百分比 | DO9: 百分比 | DS9: 百分比 | DU9: 百分比 | DW9: 百分比 | DY9: 百分比 | EA9: 百分比 | EC9: 百分比 | EE9: 百分比 | EG9: 百分比 | EI9: 百分比
C10: % | E10: % | G10: % | I10: % | K10: % | M10: % | O10: % | Q10: % | S10: % | W10: % | Y10: % | AA10: % | AC10: % | AE10: % | AG10: % | AI10: % | AK10: % | AM10: % | AQ10: % | AS10: % | AU10: % | AW10: % | AY10: % | BA10: % | BC10: % | BE10: % | BG10: % | BK10: % | BM10: % | BO10: % | BQ10: % | BS10: % | BU10: % | BW10: % | BY10: % | CA10: % | CE10: % | CG10: % | CI10: % | CK10: % | CM10: % | CO10: % | CQ10: % | CS10: % | CU10: % | CY10: % | DA10: % | DC10: % | DE10: % | DG10: % | DI10: % | DK10: % | DM10: % | DO10: % | DS10: % | DU10: % | DW10: % | DY10: % | EA10: % | EC10: % | EE10: % | EG10: % | EI10: %
A11: 總 計 | B11: 23882516 | C11: 100 | D11: 16283451 | E11: 100 | F11: 7599065 | G11: 100 | H11: 14555701 | I11: 100 | J11: 9591555 | K11: 100 | L11: 4964146 | M11: 100 | N11: 1181268 | O11: 100 | P11: 741135 | Q11: 100 | R11: 440133 | S11: 100 | T11: Grand Total | U11: 總 計 | V11: 11833356 | W11: 100 | X11: 7661295 | Y11: 100 | Z11: 4172061 | AA11: 100 | AB11: 847205 | AC11: 100 | AD11: 597326 | AE11: 100 | AF11: 249879 | AG11: 100 | AH11: 628450 | AI11: 100 | AJ11: 535829 | AK11: 100 | AL11: 92621 | AM11: 100 | AN11: Grand Total | AO11: 總 計 | AP11: 65422 | AQ11: 100 | AR11: 55970 | AS11: 100 | AT11: 9452 | AU11: 100 | AV11: 3497533 | AW11: 100 | AX11: 2319194 | AY11: 100 | AZ11: 1178339 | BA11: 100 | BB11: 3496950 | BC11: 100 | BD11: 2318640 | BE11: 100 | BF11: 1178310 | BG11: 100 | BH11: Grand Total | BI11: 總 計 | BJ11: 583 | BK11: 100 | BL11: 554 | BM11: 100 | BN11: 29 | BO11: 100 | BP11: 1857732 | BQ11: 100 | BR11: 1299584 | BS11: 100 | BT11: 558148 | BU11: 100 | BV11: 1366604 | BW11: 100 | BX11: 997222 | BY11: 100 | BZ11: 369382 | CA11: 100 | CB11: Grand Total | CC11: 總 計 | CD11: 491128 | CE11: 100 | CF11: 302362 | CG11: 100 | CH11: 188766 | CI11: 100 | CJ11: 98361 | CK11: 100 | CL11: 98361 | CM11: 100 | CN11: 0 | CO11: 0 | CP11: 40156 | CQ11: 100 | CR11: 40156 | CS11: 100 | CT11: 0 | CU11: 0 | CV11: Grand Total | CW11: 總 計 | CX11: 5656 | CY11: 100 | CZ11: 5656 | DA11: 100 | DB11: 0 | DC11: 0 | DD11: 52549 | DE11: 100 | DF11: 52549 | DG11: 100 | DH11: 0 | DI11: 0 | DJ11: 273097 | DK11: 100 | DL11: 273097 | DM11: 100 | DN11: 0 | DO11: 0 | DP11: Grand Total | DQ11: 總 計 | DR11: 3600092 | DS11: 100 | DT11: 2701660 | DU11: 100 | DV11: 898432 | DW11: 100 | DX11: 427033 | DY11: 100 | DZ11: 314948 | EA11: 100 | EB11: 112085 | EC11: 100 | ED11: 3173059 | EE11: 100 | EF11: 2386712 | EG11: 100 | EH11: 786347 | EI11: 100 | EJ11: Grand Total
A12: 臺北業務組 | B12: 8989169 | C12: 37.639121 | D12: 6102312 | E12: 37.475545 | F12: 2886857 | G12: 37.989634 | H12: 6109991 | I12: 41.976618 | J12: 4049029 | K12: 42.214521 | L12: 2060962 | M12: 41.51695 | N12: 572406 | O12: 48.456912 | P12: 377799 | Q12: 50.975733 | R12: 194607 | S12: 44.215498 | T12: Taipei Division | U12: 臺北業務組 | V12: 4960833 | W12: 41.922452 | X12: 3227873 | Y12: 42.132211 | Z12: 1732960 | AA12: 41.537264 | AB12: 310978 | AC12: 36.706346 | AD12: 221798 | AE12: 37.131817 | AF12: 89180 | AG12: 35.689274 | AH12: 241334 | AI12: 38.401464 | AJ12: 201060 | AK12: 37.523165 | AL12: 40274 | AM12: 43.48258 | AN12: Taipei Division | AO12: 臺北業務組 | AP12: 24440 | AQ12: 37.357464 | AR12: 20499 | AS12: 36.624978 | AT12: 3941 | AU12: 41.694879 | AV12: 1248382 | AW12: 35.693216 | AX12: 822029 | AY12: 35.444598 | AZ12: 426353 | BA12: 36.182542 | BB12: 1247954 | BC12: 35.686927 | BD12: 821623 | BE12: 35.435557 | BF12: 426331 | BG12: 36.181565 | BH12: Taipei Division | BI12: 臺北業務組 | BJ12: 428 | BK12: 73.413379 | BL12: 406 | BM12: 73.285199 | BN12: 22 | BO12: 75.862069 | BP12: 184727 | BQ12: 9.943684 | BR12: 119162 | BS12: 9.1692418 | BT12: 65565 | BU12: 11.746884 | BV12: 88913 | BW12: 6.5061276 | BX12: 63425 | BY12: 6.3601685 | BZ12: 25488 | CA12: 6.9001738 | CB12: Taipei Division | CC12: 臺北業務組 | CD12: 95814 | CE12: 19.508967 | CF12: 55737 | CG12: 18.433864 | CH12: 40077 | CI12: 21.231048 | CJ12: 40454 | CK12: 41.128089 | CL12: 40454 | CM12: 41.128089 | CN12: 0 | CO12: 0 | CP12: 40156 | CQ12: 100 | CR12: 40156 | CS12: 100 | CT12: 0 | CU12: 0 | CV12: Taipei Division | CW12: 臺北業務組 | CX12: 0 | CY12: 0 | CZ12: 0 | DA12: 0 | DB12: 0 | DC12: 0 | DD12: 298 | DE12: 0.56708976 | DF12: 298 | DG12: 0.56708976 | DH12: 0 | DI12: 0 | DJ12: 79820 | DK12: 29.22771 | DL12: 79820 | DM12: 29.22771 | DN12: 0 | DO12: 0 | DP12: Taipei Division | DQ12: 臺北業務組 | DR12: 1325795 | DS12: 36.826698 | DT12: 991818 | DU12: 36.711429 | DV12: 333977 | DW12: 37.17332 | DX12: 149063 | DY12: 34.90667 | DZ12: 111419 | EA12: 35.376951 | EB12: 37644 | EC12: 33.585225 | ED12: 1176732 | EE12: 37.085097 | EF12: 880399 | EG12: 36.887526 | EH12: 296333 | EI12: 37.684763 | EJ12: Taipei Division
A13: 新北市 | B13: 3348759 | C13: 14.021802 | D13: 2259834 | E13: 13.878102 | F13: 1088925 | G13: 14.329723 | H13: 2090307 | I13: 14.360744 | J13: 1365811 | K13: 14.239724 | L13: 724496 | M13: 14.594575 | N13: 124833 | O13: 10.567712 | P13: 76130 | Q13: 10.272083 | R13: 48703 | S13: 11.065519 | T13: New Taipei City | U13: 新北市 | V13: 1738301 | W13: 14.689839 | X13: 1107796 | Y13: 14.459644 | Z13: 630505 | AA13: 15.112555 | AB13: 95894 | AC13: 11.318866 | AD13: 71214 | AE13: 11.922133 | AF13: 24680 | AG13: 9.8767804 | AH13: 121743 | AI13: 19.371947 | AJ13: 102696 | AK13: 19.165816 | AL13: 19047 | AM13: 20.564451 | AN13: New Taipei City | AO13: 新北市 | AP13: 9536 | AQ13: 14.576136 | AR13: 7975 | AS13: 14.248705 | AT13: 1561 | AU13: 16.515023 | AV13: 501263 | AW13: 14.331902 | AX13: 328966 | AY13: 14.184497 | AZ13: 172297 | BA13: 14.622023 | BB13: 501263 | BC13: 14.334291 | BD13: 328966 | BE13: 14.187886 | BF13: 172297 | BG13: 14.622383 | BH13: New Taipei City | BI13: 新北市 | BJ13: 0 | BK13: 0 | BL13: 0 | BM13: 0 | BN13: 0 | BO13: 0 | BP13: 83243 | BQ13: 4.4808939 | BR13: 53107 | BS13: 4.0864615 | BT13: 30136 | BU13: 5.3992848 | BV13: 38256 | BW13: 2.7993479 | BX13: 27279 | BY13: 2.7354992 | BZ13: 10977 | CA13: 2.9717203 | CB13: New Taipei City | CC13: 新北市 | CD13: 44987 | CE13: 9.1599339 | CF13: 25828 | CG13: 8.5420787 | CH13: 19159 | CI13: 10.149603 | CJ13: 17 | CK13: 0.017283273 | CL13: 17 | CM13: 0.017283273 | CN13: 0 | CO13: 0 | CP13: 17 | CQ13: 0.042334894 | CR13: 17 | CS13: 0.042334894 | CT13: 0 | CU13: 0 | CV13: New Taipei City | CW13: 新北市 | CX13: 0 | CY13: 0 | CZ13: 0 | DA13: 0 | DB13: 0 | DC13: 0 | DD13: 0 | DE13: 0 | DF13: 0 | DG13: 0 | DH13: 0 | DI13: 0 | DJ13: 29553 | DK13: 10.82143 | DL13: 29553 | DM13: 10.82143 | DN13: 0 | DO13: 0 | DP13: New Taipei City | DQ13: 新北市 | DR13: 644376 | DS13: 17.898876 | DT13: 482380 | DU13: 17.854948 | DV13: 161996 | DW13: 18.03097 | DX13: 66751 | DY13: 15.631345 | DZ13: 49678 | EA13: 15.773398 | EB13: 17073 | EC13: 15.23219 | ED13: 577625 | EE13: 18.204042 | EF13: 432702 | EG13: 18.129628 | EH13: 144923 | EI13: 18.429904 | EJ13: New Taipei City
A14: 臺北市 | B14: 4925289 | C14: 20.62299 | D14: 3349245 | E14: 20.568398 | F14: 1576044 | G14: 20.739973 | H14: 3737678 | I14: 25.678447 | J14: 2496637 | K14: 26.029533 | L14: 1241041 | M14: 25.000091 | N14: 407192 | O14: 34.470755 | P14: 276807 | Q14: 37.349066 | R14: 130385 | S14: 29.624 | T14: Taipei City | U14: 臺北市 | V14: 3039842 | W14: 25.688756 | X14: 2001142 | Y14: 26.120153 | Z14: 1038700 | AA14: 24.896568 | AB14: 171813 | AC14: 20.279979 | AD14: 121440 | AE14: 20.330607 | AF14: 50373 | AG14: 20.158957 | AH14: 105615 | AI14: 16.805633 | AJ14: 86202 | AK14: 16.087595 | AL14: 19413 | AM14: 20.95961 | AN14: Taipei City | AO14: 臺北市 | AP14: 13216 | AQ14: 20.201156 | AR14: 11046 | AS14: 19.735573 | AT14: 2170 | AU14: 22.958104 | AV14: 552192 | AW14: 15.788043 | AX14: 362129 | AY14: 15.614433 | AZ14: 190063 | BA14: 16.129739 | BB14: 551974 | BC14: 15.784441 | BD14: 361924 | BE14: 15.609323 | BF14: 190050 | BG14: 16.129032 | BH14: Taipei City | BI14: 臺北市 | BJ14: 218 | BK14: 37.392796 | BL14: 205 | BM14: 37.00361 | BN14: 13 | BO14: 44.827586 | BP14: 7815 | BQ14: 0.42067424 | BR14: 5502 | BS14: 0.42336625 | BT14: 2313 | BU14: 0.41440621 | BV14: 7815 | BW14: 0.57185549 | BX14: 5502 | BY14: 0.55173271 | BZ14: 2313 | CA14: 0.62618103 | CB14: Taipei City | CC14: 臺北市 | CD14: 0 | CE14: 0 | CF14: 0 | CG14: 0 | CH14: 0 | CI14: 0 | CJ14: 40437 | CK14: 41.110806 | CL14: 40437 | CM14: 41.110806 | CN14: 0 | CO14: 0 | CP14: 40139 | CQ14: 99.957665 | CR14: 40139 | CS14: 99.957665 | CT14: 0 | CU14: 0 | CV14: Taipei City | CW14: 臺北市 | CX14: 0 | CY14: 0 | CZ14: 0 | DA14: 0 | DB14: 0 | DC14: 0 | DD14: 298 | DE14: 0.56708976 | DF14: 298 | DG14: 0.56708976 | DH14: 0 | DI14: 0 | DJ14: 40110 | DK14: 14.687089 | DL14: 40110 | DM14: 14.687089 | DN14: 0 | DO14: 0 | DP14: Taipei City | DQ14: 臺北市 | DR14: 547057 | DS14: 15.195639 | DT14: 404430 | DU14: 14.969685 | DV14: 142627 | DW14: 15.875102 | DX14: 60758 | DY14: 14.22794 | DZ14: 45746 | EA14: 14.524937 | EB14: 15012 | EC14: 13.393407 | ED14: 486299 | EE14: 15.325873 | EF14: 358684 | EG14: 15.028374 | EH14: 127615 | EI14: 16.22884 | EJ14: Taipei City
A15: 基隆市 | B15: 264636 | C15: 1.1080742 | D15: 185867 | E15: 1.1414472 | F15: 78769 | G15: 1.0365617 | H15: 102438 | I15: 0.70376549 | J15: 67948 | K15: 0.70841485 | L15: 34490 | M15: 0.69478214 | N15: 16344 | O15: 1.383598 | P15: 10196 | Q15: 1.3757278 | R15: 6148 | S15: 1.3968505 | T15: Keelung City | U15: 基隆市 | V15: 66325 | W15: 0.56049188 | X15: 43059 | Y15: 0.56203292 | Z15: 23266 | AA15: 0.55766203 | AB15: 13340 | AC15: 1.5745894 | AD15: 9113 | AE15: 1.5256326 | AF15: 4227 | AG15: 1.6916187 | AH15: 5773 | AI15: 0.91860928 | AJ15: 5001 | AK15: 0.93332015 | AL15: 772 | AM15: 0.83350428 | AN15: Keelung City | AO15: 基隆市 | AP15: 656 | AQ15: 1.0027208 | AR15: 579 | AS15: 1.0344828 | AT15: 77 | AU15: 0.8146424 | AV15: 92006 | AW15: 2.6305971 | AX15: 62625 | AY15: 2.7002916 | AZ15: 29381 | BA15: 2.4934251 | BB15: 91796 | BC15: 2.6250304 | BD15: 62424 | BE15: 2.6922679 | BF15: 29372 | BG15: 2.4927226 | BH15: Keelung City | BI15: 基隆市 | BJ15: 210 | BK15: 36.020583 | BL15: 201 | BM15: 36.281588 | BN15: 9 | BO15: 31.034483 | BP15: 6632 | BQ15: 0.35699444 | BR15: 4009 | BS15: 0.30848333 | BT15: 2623 | BU15: 0.46994704 | BV15: 609 | BW15: 0.044563019 | BX15: 439 | BY15: 0.044022294 | BZ15: 170 | CA15: 0.046022816 | CB15: Keelung City | CC15: 基隆市 | CD15: 6023 | CE15: 1.2263605 | CF15: 3570 | CG15: 1.1807039 | CH15: 2453 | CI15: 1.2994925 | CJ15: 0 | CK15: 0 | CL15: 0 | CM15: 0 | CN15: 0 | CO15: 0 | CP15: 0 | CQ15: 0 | CR15: 0 | CS15: 0 | CT15: 0 | CU15: 0 | CV15: Keelung City | CW15: 基隆市 | CX15: 0 | CY15: 0 | CZ15: 0 | DA15: 0 | DB15: 0 | DC15: 0 | DD15: 0 | DE15: 0 | DF15: 0 | DG15: 0 | DH15: 0 | DI15: 0 | DJ15: 4692 | DK15: 1.7180709 | DL15: 4692 | DM15: 1.7180709 | DN15: 0 | DO15: 0 | DP15: Keelung City | DQ15: 基隆市 | DR15: 58868 | DS15: 1.6351804 | DT15: 46593 | DU15: 1.7246064 | DV15: 12275 | DW15: 1.3662692 | DX15: 6809 | DY15: 1.5944904 | DZ15: 5207 | EA15: 1.6532888 | EB15: 1602 | EC15: 1.4292724 | ED15: 52059 | EE15: 1.6406565 | EF15: 41386 | EG15: 1.7340173 | EH15: 10673 | EI15: 1.3572888 | EJ15: Keelung City
A16: 宜蘭縣 | B16: 377087 | C16: 1.5789249 | D16: 257471 | E16: 1.581182 | F16: 119616 | G16: 1.5740884 | H16: 150666 | I16: 1.0350996 | J16: 99896 | K16: 1.0414995 | L16: 50770 | M16: 1.0227338 | N16: 18720 | O16: 1.5847378 | P16: 11245 | Q16: 1.5172674 | R16: 7475 | S16: 1.6983503 | T16: Yilan County | U16: 宜蘭縣 | V16: 103480 | W16: 0.8744772 | X16: 67729 | Y16: 0.88404114 | Z16: 35751 | AA16: 0.8569146 | AB16: 20635 | AC16: 2.4356561 | AD16: 14091 | AE16: 2.3590133 | AF16: 6544 | AG16: 2.6188675 | AH16: 6891 | AI16: 1.0965073 | AJ16: 6012 | AK16: 1.1219997 | AL16: 879 | AM16: 0.94902884 | AN16: Yilan County | AO16: 宜蘭縣 | AP16: 940 | AQ16: 1.4368255 | AR16: 819 | AS16: 1.4632839 | AT16: 121 | AU16: 1.2801523 | AV16: 97326 | AW16: 2.7827043 | AX16: 64719 | AY16: 2.7905816 | AZ16: 32607 | BA16: 2.7672003 | BB16: 97326 | BC16: 2.7831682 | BD16: 64719 | BE16: 2.7912483 | BF16: 32607 | BG16: 2.7672684 | BH16: Yilan County | BI16: 宜蘭縣 | BJ16: 0 | BK16: 0 | BL16: 0 | BM16: 0 | BN16: 0 | BO16: 0 | BP16: 70854 | BQ16: 3.8140055 | BR16: 46615 | BS16: 3.586917 | BT16: 24239 | BU16: 4.342755 | BV16: 38073 | BW16: 2.785957 | BX16: 26638 | BY16: 2.6712207 | BZ16: 11435 | CA16: 3.0957112 | CB16: Yilan County | CC16: 宜蘭縣 | CD16: 32781 | CE16: 6.6746347 | CF16: 19977 | CG16: 6.606981 | CH16: 12804 | CI16: 6.7830012 | CJ16: 0 | CK16: 0 | CL16: 0 | CM16: 0 | CN16: 0 | CO16: 0 | CP16: 0 | CQ16: 0 | CR16: 0 | CS16: 0 | CT16: 0 | CU16: 0 | CV16: Yilan County | CW16: 宜蘭縣 | CX16: 0 | CY16: 0 | CZ16: 0 | DA16: 0 | DB16: 0 | DC16: 0 | DD16: 0 | DE16: 0 | DF16: 0 | DG16: 0 | DH16: 0 | DI16: 0 | DJ16: 5020 | DK16: 1.8381747 | DL16: 5020 | DM16: 1.8381747 | DN16: 0 | DO16: 0 | DP16: Yilan County | DQ16: 宜蘭縣 | DR16: 53221 | DS16: 1.4783233 | DT16: 41221 | DU16: 1.5257656 | DV16: 12000 | DW16: 1.3356604 | DX16: 6251 | DY16: 1.4638213 | DZ16: 4607 | EA16: 1.4627812 | EB16: 1644 | EC16: 1.466744 | ED16: 46970 | EE16: 1.480275 | EF16: 36614 | EG16: 1.534077 | EH16: 10356 | EI16: 1.3169758 | EJ16: Yilan County
A17: 金門縣 | B17: 65677 | C17: 0.27500034 | D17: 44727 | E17: 0.27467765 | F17: 20950 | G17: 0.27569181 | H17: 24267 | I17: 0.16671818 | J17: 15711 | K17: 0.16380034 | L17: 8556 | M17: 0.17235593 | N17: 4159 | O17: 0.35207929 | P17: 2658 | Q17: 0.35863911 | R17: 1501 | S17: 0.34103328 | T17: Kinmen County | U17: 金門縣 | V17: 11200 | W17: 0.094647706 | X17: 7047 | Y17: 0.091981839 | Z17: 4153 | AA17: 0.099543127 | AB17: 7707 | AC17: 0.90969718 | AD17: 4958 | AE17: 0.83003251 | AF17: 2749 | AG17: 1.1001325 | AH17: 1111 | AI17: 0.17678415 | AJ17: 970 | AK17: 0.1810279 | AL17: 141 | AM17: 0.15223329 | AN17: Kinmen County | AO17: 金門縣 | AP17: 90 | AQ17: 0.1375684 | AR17: 78 | AS17: 0.13936037 | AT17: 12 | AU17: 0.12695726 | AV17: 4912 | AW17: 0.14044185 | AX17: 3191 | AY17: 0.1375909 | AZ17: 1721 | BA17: 0.14605305 | BB17: 4912 | BC17: 0.14046526 | BD17: 3191 | BE17: 0.13762378 | BF17: 1721 | BG17: 0.14605664 | BH17: Kinmen County | BI17: 金門縣 | BJ17: 0 | BK17: 0 | BL17: 0 | BM17: 0 | BN17: 0 | BO17: 0 | BP17: 15457 | BQ17: 0.83203605 | BR17: 9528 | BS17: 0.73315769 | BT17: 5929 | BU17: 1.0622631 | BV17: 4093 | BW17: 0.29950154 | BX17: 3505 | BY17: 0.3514764 | BZ17: 588 | CA17: 0.1591848 | CB17: Kinmen County | CC17: 金門縣 | CD17: 11364 | CE17: 2.3138571 | CF17: 6023 | CG17: 1.9919831 | CH17: 5341 | CI17: 2.829429 | CJ17: 0 | CK17: 0 | CL17: 0 | CM17: 0 | CN17: 0 | CO17: 0 | CP17: 0 | CQ17: 0 | CR17: 0 | CS17: 0 | CT17: 0 | CU17: 0 | CV17: Kinmen County | CW17: 金門縣 | CX17: 0 | CY17: 0 | CZ17: 0 | DA17: 0 | DB17: 0 | DC17: 0 | DD17: 0 | DE17: 0 | DF17: 0 | DG17: 0 | DH17: 0 | DI17: 0 | DJ17: 354 | DK17: 0.12962427 | DL17: 354 | DM17: 0.12962427 | DN17: 0 | DO17: 0 | DP17: Kinmen County | DQ17: 金門縣 | DR17: 20687 | DS17: 0.5746242 | DT17: 15943 | DU17: 0.59011867 | DV17: 4744 | DW17: 0.52803106 | DX17: 8217 | DY17: 1.9242073 | DZ17: 5993 | EA17: 1.9028538 | EB17: 2224 | EC17: 1.9842084 | ED17: 12470 | EE17: 0.39299616 | EF17: 9950 | EG17: 0.41689152 | EH17: 2520 | EI17: 0.32046921 | EJ17: Kinmen County
A18: 連江縣 | B18: 7721 | C18: 0.03232909 | D18: 5168 | E18: 0.031737744 | F18: 2553 | G18: 0.033596238 | H18: 4635 | I18: 0.031843193 | J18: 3026 | K18: 0.031548586 | L18: 1609 | M18: 0.032412423 | N18: 1158 | O18: 0.098030252 | P18: 763 | Q18: 0.1029502 | R18: 395 | S18: 0.0897456 | T18: Lienchiang County | U18: 連江縣 | V18: 1685 | W18: 0.014239409 | X18: 1100 | Y18: 0.014357886 | Z18: 585 | AA18: 0.014021847 | AB18: 1589 | AC18: 0.18755791 | AD18: 982 | AE18: 0.16439934 | AF18: 607 | AG18: 0.24291757 | AH18: 201 | AI18: 0.031983451 | AJ18: 179 | AK18: 0.03340618 | AL18: 22 | AM18: 0.023752713 | AN18: Lienchiang County | AO18: 連江縣 | AP18: 2 | AQ18: 0.0030570756 | AR18: 2 | AS18: 0.0035733429 | AT18: 0 | AU18: 0 | AV18: 683 | AW18: 0.01952805 | AX18: 399 | AY18: 0.017204253 | AZ18: 284 | BA18: 0.024101723 | BB18: 683 | BC18: 0.019531306 | BD18: 399 | BE18: 0.017208364 | BF18: 284 | BG18: 0.024102316 | BH18: Lienchiang County | BI18: 連江縣 | BJ18: 0 | BK18: 0 | BL18: 0 | BM18: 0 | BN18: 0 | BO18: 0 | BP18: 726 | BQ18: 0.03907991 | BR18: 401 | BS18: 0.030856028 | BT18: 325 | BU18: 0.058228284 | BV18: 67 | BW18: 0.0049026638 | BX18: 62 | BY18: 0.0062172716 | BZ18: 5 | CA18: 0.0013536122 | CB18: Lienchiang County | CC18: 連江縣 | CD18: 659 | CE18: 0.13418091 | CF18: 339 | CG18: 0.11211726 | CH18: 320 | CI18: 0.16952205 | CJ18: 0 | CK18: 0 | CL18: 0 | CM18: 0 | CN18: 0 | CO18: 0 | CP18: 0 | CQ18: 0 | CR18: 0 | CS18: 0 | CT18: 0 | CU18: 0 | CV18: Lienchiang County | CW18: 連江縣 | CX18: 0 | CY18: 0 | CZ18: 0 | DA18: 0 | DB18: 0 | DC18: 0 | DD18: 0 | DE18: 0 | DF18: 0 | DG18: 0 | DH18: 0 | DI18: 0 | DJ18: 91 | DK18: 0.033321494 | DL18: 91 | DM18: 0.033321494 | DN18: 0 | DO18: 0 | DP18: Lienchiang County | DQ18: 連江縣 | DR18: 1586 | DS18: 0.04405443 | DT18: 1251 | DU18: 0.046304864 | DV18: 335 | DW18: 0.037287185 | DX18: 277 | DY18: 0.064866181 | DZ18: 188 | EA18: 0.059692394 | EB18: 89 | EC18: 0.079404024 | ED18: 1309 | EE18: 0.041253566 | EF18: 1063 | EG18: 0.04453826 | EH18: 246 | EI18: 0.031283899 | EJ18: Lienchiang County
A19: 北區業務組 | B19: 3997089 | C19: 16.736465 | D19: 2682727 | E19: 16.475175 | F19: 1314362 | G19: 17.296365 | H19: 2691629 | I19: 18.491923 | J19: 1751089 | K19: 18.25657 | L19: 940540 | M19: 18.946663 | N19: 148859 | O19: 12.601628 | P19: 84490 | Q19: 11.400082 | R19: 64369 | S19: 14.624897 | T19: Northern Division | U19: 北區業務組 | V19: 2297816 | W19: 19.418126 | X19: 1483238 | Y19: 19.360147 | Z19: 814578 | AA19: 19.524595 | AB19: 143579 | AC19: 16.947374 | AD19: 98714 | AE19: 16.525984 | AF19: 44865 | AG19: 17.95469 | AH19: 92211 | AI19: 14.672766 | AJ19: 76968 | AK19: 14.364284 | AL19: 15243 | AM19: 16.457391 | AN19: Northern Division | AO19: 北區業務組 | AP19: 9164 | AQ19: 14.00752 | AR19: 7679 | AS19: 13.71985 | AT19: 1485 | AU19: 15.710961 | AV19: 470255 | AW19: 13.445334 | AX19: 300105 | AY19: 12.940056 | AZ19: 170150 | BA19: 14.439817 | BB19: 470255 | BC19: 13.447576 | BD19: 300105 | BE19: 12.943148 | BF19: 170150 | BG19: 14.440173 | BH19: Northern Division | BI19: 北區業務組 | BJ19: 0 | BK19: 0 | BL19: 0 | BM19: 0 | BN19: 0 | BO19: 0 | BP19: 200910 | BQ19: 10.8148 | BR19: 138362 | BS19: 10.646638 | BT19: 62548 | BU19: 11.206347 | BV19: 172625 | BW19: 12.631677 | BX19: 123589 | BY19: 12.393329 | BZ19: 49036 | CA19: 13.275146 | CB19: Northern Division | CC19: 北區業務組 | CD19: 28285 | CE19: 5.7591911 | CF19: 14773 | CG19: 4.8858653 | CH19: 13512 | CI19: 7.1580687 | CJ19: 52251 | CK19: 53.121664 | CL19: 52251 | CM19: 53.121664 | CN19: 0 | CO19: 0 | CP19: 0 | CQ19: 0 | CR19: 0 | CS19: 0 | CT19: 0 | CU19: 0 | CV19: Northern Division | CW19: 北區業務組 | CX19: 0 | CY19: 0 | CZ19: 0 | DA19: 0 | DB19: 0 | DC19: 0 | DD19: 52251 | DE19: 99.43291 | DF19: 52251 | DG19: 99.43291 | DH19: 0 | DI19: 0 | DJ19: 42235 | DK19: 15.465201 | DL19: 42235 | DM19: 15.465201 | DN19: 0 | DO19: 0 | DP19: Northern Division | DQ19: 北區業務組 | DR19: 539809 | DS19: 14.994311 | DT19: 398685 | DU19: 14.757038 | DV19: 141124 | DW19: 15.707811 | DX19: 72914 | DY19: 17.074559 | DZ19: 54455 | EA19: 17.290156 | EB19: 18459 | EC19: 16.468751 | ED19: 466895 | EE19: 14.71435 | EF19: 344230 | EG19: 14.422771 | EH19: 122665 | EI19: 15.599347 | EJ19: Northern Division
A20: 桃園市 | B20: 2242464 | C20: 9.3895635 | D20: 1512463 | E20: 9.2883443 | F20: 730001 | G20: 9.6064582 | H20: 1495713 | I20: 10.275788 | J20: 969124 | K20: 10.10393 | L20: 526589 | M20: 10.607847 | N20: 84877 | O20: 7.185245 | P20: 49624 | Q20: 6.6956762 | R20: 35253 | S20: 8.0096244 | T20: Taoyuan City | U20: 桃園市 | V20: 1261506 | W20: 10.660594 | X20: 807228 | Y20: 10.536443 | Z20: 454278 | AA20: 10.888575 | AB20: 83585 | AC20: 9.865971 | AD20: 57515 | AE20: 9.6287454 | AF20: 26070 | AG20: 10.43305 | AH20: 60000 | AI20: 9.5472989 | AJ20: 50004 | AK20: 9.3320817 | AL20: 9996 | AM20: 10.792369 | AN20: Taoyuan City | AO20: 桃園市 | AP20: 5745 | AQ20: 8.7814497 | AR20: 4753 | AS20: 8.4920493 | AT20: 992 | AU20: 10.495133 | AV20: 247214 | AW20: 7.0682392 | AX20: 157974 | AY20: 6.8115906 | AZ20: 89240 | BA20: 7.5733723 | BB20: 247214 | BC20: 7.0694176 | BD20: 157974 | BE20: 6.8132181 | BF20: 89240 | BG20: 7.5735587 | BH20: Taoyuan City | BI20: 桃園市 | BJ20: 0 | BK20: 0 | BL20: 0 | BM20: 0 | BN20: 0 | BO20: 0 | BP20: 67620 | BQ20: 3.6399222 | BR20: 46842 | BS20: 3.6043842 | BT20: 20778 | BU20: 3.7226685 | BV20: 64258 | BW20: 4.7020205 | BX20: 45088 | BY20: 4.5213603 | BZ20: 19170 | CA20: 5.1897494 | CB20: Taoyuan City | CC20: 桃園市 | CD20: 3362 | CE20: 0.68454659 | CF20: 1754 | CG20: 0.58009935 | CH20: 1608 | CI20: 0.85184832 | CJ20: 52251 | CK20: 53.121664 | CL20: 52251 | CM20: 53.121664 | CN20: 0 | CO20: 0 | CP20: 0 | CQ20: 0 | CR20: 0 | CS20: 0 | CT20: 0 | CU20: 0 | CV20: Taoyuan City | CW20: 桃園市 | CX20: 0 | CY20: 0 | CZ20: 0 | DA20: 0 | DB20: 0 | DC20: 0 | DD20: 52251 | DE20: 99.43291 | DF20: 52251 | DG20: 99.43291 | DH20: 0 | DI20: 0 | DJ20: 29330 | DK20: 10.739774 | DL20: 29330 | DM20: 10.739774 | DN20: 0 | DO20: 0 | DP20: Taoyuan City | DQ20: 桃園市 | DR20: 350336 | DS20: 9.7313069 | DT20: 256942 | DU20: 9.5105232 | DV20: 93394 | DW20: 10.395222 | DX20: 51632 | DY20: 12.090869 | DZ20: 38777 | EA20: 12.312191 | EB20: 12855 | EC20: 11.468974 | ED20: 298704 | EE20: 9.413755 | EF20: 218165 | EG20: 9.140818 | EH20: 80539 | EI20: 10.24217 | EJ20: Taoyuan City
A21: 新竹市 | B21: 744188 | C21: 3.1160369 | D21: 492081 | E21: 3.02197 | F21: 252107 | G21: 3.3176055 | H21: 578243 | I21: 3.9726221 | J21: 380610 | K21: 3.9681783 | L21: 197633 | M21: 3.9812084 | N21: 21790 | O21: 1.844628 | P21: 11271 | Q21: 1.5207756 | R21: 10519 | S21: 2.3899594 | T21: Hsinchu City | U21: 新竹市 | V21: 524238 | W21: 4.4301718 | X21: 345693 | Y21: 4.5122006 | Z21: 178545 | AA21: 4.2795395 | AB21: 20050 | AC21: 2.3666055 | AD21: 13496 | AE21: 2.2594027 | AF21: 6554 | AG21: 2.6228695 | AH21: 10923 | AI21: 1.7380858 | AJ21: 9088 | AK21: 1.6960635 | AL21: 1835 | AM21: 1.9811922 | AN21: Hsinchu City | AO21: 新竹市 | AP21: 1242 | AQ21: 1.8984439 | AR21: 1062 | AS21: 1.8974451 | AT21: 180 | AU21: 1.9043589 | AV21: 88254 | AW21: 2.5233214 | AX21: 55270 | AY21: 2.3831555 | AZ21: 32984 | BA21: 2.7991945 | BB21: 88254 | BC21: 2.5237421 | BD21: 55270 | BE21: 2.3837249 | BF21: 32984 | BG21: 2.7992634 | BH21: Hsinchu City | BI21: 新竹市 | BJ21: 0 | BK21: 0 | BL21: 0 | BM21: 0 | BN21: 0 | BO21: 0 | BP21: 15467 | BQ21: 0.83257434 | BR21: 8591 | BS21: 0.66105769 | BT21: 6876 | BU21: 1.2319313 | BV21: 4268 | BW21: 0.312307 | BX21: 2955 | BY21: 0.29632319 | BZ21: 1313 | CA21: 0.35545858 | CB21: Hsinchu City | CC21: 新竹市 | CD21: 11199 | CE21: 2.280261 | CF21: 5636 | CG21: 1.8639908 | CH21: 5563 | CI21: 2.947035 | CJ21: 0 | CK21: 0 | CL21: 0 | CM21: 0 | CN21: 0 | CO21: 0 | CP21: 0 | CQ21: 0 | CR21: 0 | CS21: 0 | CT21: 0 | CU21: 0 | CV21: Hsinchu City | CW21: 新竹市 | CX21: 0 | CY21: 0 | CZ21: 0 | DA21: 0 | DB21: 0 | DC21: 0 | DD21: 0 | DE21: 0 | DF21: 0 | DG21: 0 | DH21: 0 | DI21: 0 | DJ21: 3802 | DK21: 1.3921793 | DL21: 3802 | DM21: 1.3921793 | DN21: 0 | DO21: 0 | DP21: Hsinchu City | DQ21: 新竹市 | DR21: 58422 | DS21: 1.6227919 | DT21: 43808 | DU21: 1.6215216 | DV21: 14614 | DW21: 1.6266117 | DX21: 8273 | DY21: 1.937321 | DZ21: 6178 | EA21: 1.9615937 | EB21: 2095 | EC21: 1.8691172 | ED21: 50149 | EE21: 1.5804623 | EF21: 37630 | EG21: 1.576646 | EH21: 12519 | EI21: 1.5920452 | EJ21: Hsinchu City
